BOTTLE,20191212SIOCCHAMB
EXPOCODE,SECT_ID,STNNBR,CASTNO,SAMPNO,BTLNBR,BTLNBR_FLAG_W,GEOTRC_EVENTNO,GEOTRC_SAMPNO,DATE,TIME,LATITUDE,LONGITUDE,DEPTH,CTDPRS,CTDTMP,CTDSAL,CTDSAL_FLAG_W,REFTMP,REFTMP_FLAG_W,BTL_DATE,BTL_TIME,BTL_LAT,BTL_LON,SILCAT,SILCAT_FLAG_W,PHSPHT,PHSPHT_FLAG_W,NITRAT,NITRAT_FLAG_W,NITRIT,NITRIT_FLAG_W,OXYGEN,OXYGEN_FLAG_W,SALNTY,SALNTY_FLAG_W,CTDRINKO,CTDRINKO_FLAG_W,CTDFLUOR,CTDFLUOR_FLAG_W,CTDXMISS,CTDXMISS_FLAG_W,CTDOXY,CTDOXY_FLAG_W
,,,,,,,,,,,,,METERS,DBAR,ITS-90,PSS-78,,ITS-90,,,,,,UMOL/KG,,UMOL/KG,,UMOL/KG,,UMOL/KG,,UMOL/KG,,PSS-78,,VOLTS,,VOLTS,,VOLTS,,UMOL/KG,
33RR20180918, GP15,16,5,1,GSNIS-2    ,2,6722,13670,20181017,55,26.9997,-152,5472,855.2,4.0742,34.2958,2,4.0697,2,20181017,55,26.9997,-151.9999,110.33,2,3.12,2,43.28,2,0,2,17.41,2,34.2966,2,2.444,1,0.017,1,4.691,1,17.5,2
33RR20180918, GP15,16,5,2,GSNIS-3    ,2,6722,13670,20181017,55,26.9997,-152,5472,857.4,4.0692,34.2973,2,-999,9,20181017,55,26.9997,-151.9999,110.33,2,3.11,2,43.25,2,0,2,-999,9,-999,9,2.441,1,0.018,1,4.691,1,17.5,2
33RR20180918, GP15,16,5,3,GSNIS-4    ,2,6722,13670,20181017,55,26.9997,-152,5472,856.9,4.0702,34.2971,2,-999,9,20181017,55,26.9997,-151.9999,110.33,2,3.11,2,43.25,2,0,2,-999,9,-999,9,2.44,1,0.018,1,4.691,1,17.4,2
33RR20180918, GP15,16,5,4,GSNIS-5    ,2,6722,13669,20181017,55,26.9997,-152,5472,658.4,4.8912,34.0977,2,4.897,2,20181017,100,26.9997,-151.9999,85.25,2,2.85,2,40.07,2,0,2,44.88,2,34.1021,2,2.484,1,0.018,1,4.69,1,48.9,2
33RR20180918, GP15,16,5,5,GSNIS-6    ,2,6722,13669,20181017,55,26.9997,-152,5472,658.1,4.8855,34.0992,2,-999,9,20181017,100,26.9997,-151.9999,85.05,2,2.85,2,40,2,0,2,-999,9,-999,9,2.492,1,0.018,1,4.69,1,48.2,2
33RR20180918, GP15,16,5,6,GSNIS-7    ,2,6722,13669,20181017,55,26.9997,-152,5472,657.7,4.8935,34.0959,2,-999,9,20181017,100,26.9997,-152,85.44,2,2.83,2,39.99,2,0,2,-999,9,-999,9,2.495,1,0.018,1,4.69,1,50.2,2
33RR20180918, GP15,16,5,7,GSNIS-8    ,2,6722,13668,20181017,55,26.9997,-152,5472,530.5,6.332,34.0032,2,6.3354,2,20181017,104,26.9997,-152,55.47,2,2.28,2,32.46,2,0,2,103.98,2,34.0057,2,2.699,1,0.018,1,4.69,1,107.2,2
33RR20180918, GP15,16,5,8,GSNIS-9    ,2,6722,13668,20181017,55,26.9997,-152,5472,530.2,6.3353,34.0037,2,-999,9,20181017,104,26.9997,-152,55.37,2,2.27,2,32.49,2,0,2,-999,9,-999,9,2.69,1,0.017,1,4.69,1,107,2
33RR20180918, GP15,16,5,9,GSNIS-10   ,2,6722,13668,20181017,55,26.9997,-152,5472,529.9,6.3365,34.0036,2,-999,9,20181017,104,26.9997,-152,55.27,2,2.28,2,32.37,2,0,2,-999,9,-999,9,2.685,1,0.018,1,4.69,1,106.4,2
33RR20180918, GP15,16,5,10,GSNIS-11   ,2,6722,13667,20181017,55,26.9997,-152,5472,301.9,11.0797,34.159,2,11.1223,2,20181017,109,26.9997,-152,10.94,2,0.8,2,11.85,2,0,2,220.37,2,34.1693,3,1.895,1,0.015,1,4.69,1,216.4,2
33RR20180918, GP15,16,5,11,GSNIS-12   ,2,6722,13667,20181017,55,26.9997,-152,5472,304.3,11.1369,34.1605,2,-999,9,20181017,109,26.9997,-152,10.84,2,0.79,2,11.82,2,0,2,-999,9,-999,9,1.887,1,0.016,1,4.69,1,216.4,2
33RR20180918, GP15,16,5,12,GSNIS-13   ,2,6722,13667,20181017,55,26.9997,-152,5472,302.6,11.1219,34.1623,2,-999,9,20181017,109,26.9997,-152,10.64,2,0.79,2,11.81,2,0,2,-999,9,-999,9,1.875,1,0.016,1,4.688,1,216.7,2
33RR20180918, GP15,16,5,13,GSNIS-14   ,2,6722,13666,20181017,55,26.9997,-152,5472,202.1,14.7177,34.438,2,14.6796,2,20181017,112,26.9997,-152,3.51,2,0.36,2,4.89,2,0.01,2,215.05,2,34.4445,2,1.704,1,0.019,1,4.683,1,207.9,2
33RR20180918, GP15,16,5,14,GSNIS-15   ,2,6722,13666,20181017,55,26.9997,-152,5472,202,14.6665,34.4331,2,-999,9,20181017,112,26.9997,-152,3.51,2,0.36,2,4.92,2,0.01,2,-999,9,-999,9,1.708,1,0.018,1,4.683,1,213.5,2
33RR20180918, GP15,16,5,15,GSNIS-16   ,2,6722,13666,20181017,55,26.9997,-152,5472,201.7,14.6716,34.4359,2,-999,9,20181017,112,26.9997,-152,3.32,2,0.36,2,4.85,2,0.01,2,-999,9,-999,9,1.713,1,0.019,1,4.683,1,213.7,2
33RR20180918, GP15,16,5,16,GSNIS-17   ,2,6722,13666,20181017,55,26.9997,-152,5472,202.3,14.7048,34.4359,2,14.6767,2,20181017,113,26.9997,-152,3.32,2,0.36,2,4.91,2,0.01,2,-999,9,-999,9,1.72,1,0.019,1,4.682,1,212.4,2
33RR20180918, GP15,16,5,17,GSNIS-18   ,2,6722,13666,20181017,55,26.9997,-152,5472,201.9,14.6809,34.4321,2,-999,9,20181017,113,26.9997,-152,3.03,2,0.35,2,4.8,2,0.01,2,-999,9,-999,9,1.727,1,0.019,1,4.682,1,212.4,2
33RR20180918, GP15,16,5,18,GSNIS-19   ,2,6722,13665,20181017,55,26.9997,-152,5472,151.6,17.607,34.8202,2,17.6377,3,20181017,115,26.9997,-152,0.98,2,0.17,2,1.74,2,0.02,2,211.2,2,34.8324,3,1.869,1,0.024,1,4.673,1,212.3,2
33RR20180918, GP15,16,5,19,GSNIS-20   ,2,6722,13665,20181017,55,26.9997,-152,5472,152.6,17.6587,34.8246,2,-999,9,20181017,115,26.9997,-152,0.88,2,0.17,2,1.73,2,0.02,2,-999,9,-999,9,1.871,1,0.025,1,4.673,1,213.2,2
33RR20180918, GP15,16,5,20,GSNIS-21   ,2,6722,13665,20181017,55,26.9997,-152,5472,151,17.6216,34.8243,2,-999,9,20181017,115,26.9997,-152,0.88,2,0.16,2,1.72,2,0.02,2,-999,9,-999,9,1.872,1,0.023,1,4.673,1,212.3,2
33RR20180918, GP15,16,5,21,GSNIS-22   ,2,6722,13664,20181017,55,26.9997,-152,5472,127,18.3555,34.9232,2,18.3597,2,20181017,117,26.9997,-152,0.59,2,0.13,2,1.01,2,0.04,2,212.9,2,34.9075,2,1.94,1,0.031,1,4.659,1,215.8,2
33RR20180918, GP15,16,5,22,GSNIS-23   ,2,6722,13664,20181017,55,26.9997,-152,5472,125.9,18.3429,34.9202,2,-999,9,20181017,117,26.9997,-151.9999,0.49,2,0.12,2,1.04,2,0.04,2,-999,9,-999,9,1.938,1,0.032,1,4.657,1,216.8,2
33RR20180918, GP15,16,5,23,GSNIS-24   ,2,6722,13664,20181017,55,26.9997,-152,5472,126.6,18.3824,34.9257,2,-999,9,20181017,117,26.9997,-152,0.49,2,0.12,2,0.99,2,0.04,2,-999,9,-999,9,1.935,1,0.034,1,4.657,1,216.4,2
33RR20180918, GP15,16,5,24,GSNIS-25   ,2,6722,13663,20181017,55,26.9997,-152,5472,112.3,18.9061,34.9809,2,18.874,2,20181017,119,26.9997,-152,0.29,2,0.07,2,0.12,2,0.2,2,218.71,2,34.9791,3,1.781,1,0.041,1,4.646,1,222.2,2
33RR20180918, GP15,16,5,25,GSNIS-26   ,2,6722,13663,20181017,55,26.9997,-152,5472,111.2,18.8598,34.9786,2,-999,9,20181017,119,26.9997,-152,0.2,2,0.07,2,0.04,2,0.19,2,-999,9,-999,9,1.777,1,0.042,1,4.647,1,224.4,2
33RR20180918, GP15,16,5,26,GSNIS-27   ,2,6722,13663,20181017,55,26.9997,-152,5472,111,18.8514,34.9771,2,-999,9,20181017,119,26.9997,-152,0.1,2,0.05,2,0.09,2,0.2,2,-999,9,-999,9,1.773,1,0.039,1,4.645,1,223.8,2
33RR20180918, GP15,16,5,27,GSNIS-28   ,2,6722,13663,20181017,55,26.9997,-152,5472,112,18.8959,34.982,2,-999,9,20181017,119,26.9997,-152,0.1,2,0.04,2,0.02,2,0.2,2,-999,9,-999,9,1.769,1,0.044,1,4.646,1,222.6,2
33RR20180918, GP15,16,5,28,GSNIS-29   ,2,6722,13662,20181017,55,26.9997,-152,5472,86.7,20.1508,35.0926,2,20.1267,2,20181017,121,26.9997,-152,0,2,0,2,0,2,0,2,229.08,2,35.0937,2,1.681,1,0.03,1,4.639,1,231.3,2
33RR20180918, GP15,16,5,29,GSNIS-30   ,2,6722,13661,20181017,55,26.9997,-152,5472,66.1,22.2206,35.1894,2,22.217,3,20181017,123,26.9997,-152,0,2,0,2,0,2,0,2,228.18,2,35.2193,3,1.602,1,0.023,1,4.622,1,224.2,2
33RR20180918, GP15,16,5,30,GSNIS-31   ,2,6722,13661,20181017,55,26.9997,-152,5472,65.9,22.221,35.1952,2,-999,9,20181017,123,26.9997,-152,0,2,0,2,0,2,0,2,-999,9,-999,9,1.599,1,0.022,1,4.621,1,227.9,2
33RR20180918, GP15,16,5,31,GSNIS-32   ,2,6722,13661,20181017,55,26.9997,-152,5472,66.8,22.2877,35.2048,2,-999,9,20181017,124,26.9997,-152,0,2,0,2,0,2,0,2,-999,9,-999,9,1.597,1,0.023,1,4.62,1,227.7,2
33RR20180918, GP15,16,5,32,GSNIS-33   ,2,6722,13660,20181017,55,26.9997,-152,5472,49.9,24.4151,35.4334,2,24.4161,2,20181017,126,26.9997,-152,0,2,0,2,0,2,0,2,210.9,2,35.4336,2,1.517,1,0.019,1,4.55,1,211,2
33RR20180918, GP15,16,5,33,GSNIS-34   ,2,6722,13659,20181017,55,26.9997,-152,5472,31,24.4368,35.4349,2,24.4355,2,20181017,128,26.9997,-152,0,2,0,2,0,2,0,2,210.87,2,35.4342,2,1.477,1,0.018,1,4.548,1,211,2
33RR20180918, GP15,16,5,34,GSNIS-35   ,2,6722,13659,20181017,55,26.9997,-152,5472,31.4,24.4376,35.4349,2,-999,9,20181017,128,26.9997,-152,0,2,0,2,0,2,0,2,-999,9,-999,9,1.475,1,0.018,1,4.548,1,210,2
33RR20180918, GP15,16,5,35,GSNIS-36   ,2,6722,13659,20181017,55,26.9997,-152,5472,31.4,24.4363,35.4351,2,-999,9,20181017,128,26.9997,-152,0,2,0,2,0,2,0,2,-999,9,-999,9,1.474,1,0.018,1,4.548,1,211.2,2
33RR20180918, GP15,16,5,36,GSNIS-1    ,2,6722,13658,20181017,55,26.9997,-152,5472,3.2,24.8464,35.4277,2,24.8894,2,20181017,131,26.9997,-152,0,2,0,2,0,2,0,2,210.47,2,35.4261,2,1.395,1,0.018,1,4.585,1,210.5,2
33RR20180918, GP15,16,9,1,GSNIS-2    ,2,6727,13715,20181017,2309,26.9998,-151.9999,5472,5429.1,1.5436,34.6926,2,1.5433,2,20181017,2309,26.9998,-151.9999,142.31,2,2.42,2,35.27,2,0,2,162.4,2,34.6922,2,0.437,1,0.017,1,4.659,1,162.5,2
33RR20180918, GP15,16,9,2,GSNIS-3    ,2,6727,13715,20181017,2309,26.9998,-151.9999,5472,5428.3,1.5433,34.6928,2,-999,9,20181017,2309,26.9998,-151.9999,141.53,2,2.41,2,35.14,2,0,2,-999,9,-999,9,0.437,1,0.017,1,4.658,1,162.6,2
33RR20180918, GP15,16,9,3,GSNIS-4    ,2,6727,13715,20181017,2309,26.9998,-151.9999,5472,5428.5,1.5433,34.6928,2,-999,9,20181017,2309,26.9998,-151.9999,141.82,2,2.4,2,35.17,2,0,2,-999,9,-999,9,0.437,1,0.017,1,4.658,1,162.5,2
33RR20180918, GP15,16,9,4,GSNIS-5    ,2,6727,13715,20181017,2309,26.9998,-151.9999,5472,5429.9,1.5435,34.6927,2,-999,9,20181017,2309,26.9998,-151.9999,142.02,2,2.39,2,35.13,2,0,2,-999,9,-999,9,0.437,1,0.017,1,4.658,1,163.2,2
33RR20180918, GP15,16,9,5,GSNIS-6    ,2,6727,13714,20181017,2309,26.9998,-151.9999,5472,5387.7,1.5394,34.6925,2,1.5392,2,20181017,2312,26.9998,-151.9999,142.21,2,2.39,2,35.19,2,0,2,162.6,2,34.6916,2,0.436,1,0.017,1,4.658,1,162.3,2
33RR20180918, GP15,16,9,6,GSNIS-7    ,2,6727,13714,20181017,2309,26.9998,-151.9999,5472,5387.8,1.5393,34.6928,2,-999,9,20181017,2312,26.9998,-151.9999,141.82,2,2.42,2,35.18,2,0,2,-999,9,-999,9,0.436,1,0.017,1,4.658,1,162.4,2
33RR20180918, GP15,16,9,7,GSNIS-8    ,2,6727,13713,20181017,2309,26.9998,-151.9999,5472,5306.4,1.5306,34.6926,2,1.5306,2,20181017,2315,26.9998,-151.9999,142.21,2,2.4,2,35.18,2,0,2,162.11,2,34.6908,2,0.436,1,0.017,1,4.659,1,162.9,2
33RR20180918, GP15,16,9,8,GSNIS-9    ,2,6727,13713,20181017,2309,26.9998,-151.9999,5472,5305.2,1.5306,34.6926,2,-999,9,20181017,2315,26.9998,-151.9999,142.11,2,2.42,2,35.15,2,0,2,-999,9,-999,9,0.436,1,0.017,1,4.659,1,160.9,2
33RR20180918, GP15,16,9,9,GSNIS-10   ,2,6727,13713,20181017,2309,26.9998,-151.9999,5472,5305.5,1.5307,34.6926,2,-999,9,20181017,2315,26.9998,-151.9999,142.02,2,2.4,2,35.14,2,0,2,-999,9,-999,9,0.436,1,0.017,1,4.659,1,161,2
33RR20180918, GP15,16,9,10,GSNIS-11   ,2,6727,13713,20181017,2309,26.9998,-151.9999,5472,5306.1,1.5308,34.6924,2,-999,9,20181017,2315,26.9998,-151.9999,141.92,2,2.41,2,35.15,2,0,2,-999,9,-999,9,0.436,1,0.017,1,4.659,1,160.8,2
33RR20180918, GP15,16,9,11,GSNIS-12   ,2,6727,13712,20181017,2309,26.9998,-151.9999,5472,5092.7,1.5101,34.692,2,1.51,2,20181017,2320,26.9998,-151.9999,143.09,2,2.41,2,35.25,2,0,2,161.11,2,34.6905,2,0.435,1,0.017,1,4.66,1,160.1,2
33RR20180918, GP15,16,9,12,GSNIS-13   ,2,6727,13712,20181017,2309,26.9998,-151.9999,5472,5093.7,1.5101,34.6921,2,-999,9,20181017,2320,26.9998,-151.9999,143.09,2,2.41,2,35.27,2,0,2,-999,9,-999,9,0.435,1,0.017,1,4.66,1,161.2,2
33RR20180918, GP15,16,9,13,GSNIS-14   ,2,6727,13711,20181017,2309,26.9998,-151.9999,5472,4066.2,1.4743,34.6852,2,1.4741,2,20181017,2338,26.9998,-151.9999,153.05,2,2.49,2,36.25,2,0,2,146.77,2,34.6836,2,0.432,1,0.017,1,4.661,1,147.2,2
33RR20180918, GP15,16,9,14,GSNIS-15   ,2,6727,13711,20181017,2309,26.9998,-151.9999,5472,4066.8,1.4743,34.6852,2,-999,9,20181017,2338,26.9998,-151.9998,153.24,2,2.48,2,36.2,2,0,2,-999,9,-999,9,0.432,1,0.017,1,4.661,1,146.8,2
33RR20180918, GP15,16,9,15,GSNIS-16   ,2,6727,13711,20181017,2309,26.9998,-151.9999,5472,4066.8,1.4744,34.6851,2,-999,9,20181017,2339,26.9998,-151.9998,153.54,2,2.49,2,36.18,2,0,2,-999,9,-999,9,0.432,1,0.017,1,4.661,1,147,2
33RR20180918, GP15,16,9,16,GSNIS-17   ,2,6727,13711,20181017,2309,26.9998,-151.9999,5472,4064.3,1.4743,34.6852,2,-999,9,20181017,2339,26.9998,-151.9998,153.34,2,2.48,2,36.16,2,0,2,-999,9,-999,9,0.432,1,0.017,1,4.661,1,146.8,2
33RR20180918, GP15,16,9,17,GSNIS-18   ,2,6727,13710,20181017,2309,26.9998,-151.9999,5472,3044.3,1.5442,34.6682,2,1.5442,2,20181017,2357,26.9998,-151.9999,160.08,2,2.61,2,37.66,2,0,2,124.7,2,34.6667,2,0.436,1,0.017,1,4.66,1,124.8,2
33RR20180918, GP15,16,9,18,GSNIS-19   ,2,6727,13710,20181017,2309,26.9998,-151.9999,5472,3042.4,1.5442,34.6681,2,-999,9,20181017,2357,26.9998,-151.9999,160.27,2,2.62,2,37.67,2,0,2,-999,9,-999,9,0.436,1,0.016,1,4.66,1,124.4,2
33RR20180918, GP15,16,9,19,GSNIS-20   ,2,6727,13710,20181017,2309,26.9998,-151.9999,5472,3044.5,1.5446,34.6681,2,-999,9,20181017,2357,26.9998,-151.9999,160.17,2,2.62,2,37.68,2,0,2,-999,9,-999,9,0.436,1,0.016,1,4.66,1,124.4,2
33RR20180918, GP15,16,9,20,GSNIS-21   ,2,6727,13710,20181017,2309,26.9998,-151.9999,5472,3044,1.5446,34.6681,2,-999,9,20181017,2357,26.9998,-151.9999,160.17,2,2.62,2,37.69,2,0,2,-999,9,-999,9,0.436,1,0.017,1,4.66,1,124.5,2
33RR20180918, GP15,16,9,21,GSNIS-22   ,2,6727,13709,20181017,2309,26.9998,-151.9999,5472,2530,1.7048,34.6493,2,1.7052,2,20181018,8,26.9998,-151.9998,161.93,2,2.7,2,38.87,2,0,2,105.81,2,34.6486,2,0.446,1,0.017,1,4.659,1,105,2
33RR20180918, GP15,16,9,22,GSNIS-23   ,2,6727,13709,20181017,2309,26.9998,-151.9999,5472,2527.9,1.7058,34.649,2,-999,9,20181018,8,26.9998,-151.9999,162.03,2,2.72,2,38.85,2,0,2,-999,9,-999,9,0.446,1,0.016,1,4.659,1,105,2
33RR20180918, GP15,16,9,23,GSNIS-24   ,2,6727,13708,20181017,2309,26.9998,-151.9999,5472,2274.1,1.8368,34.6361,2,1.8363,2,20181018,14,26.9998,-151.9999,161.15,2,2.79,2,39.53,2,0,2,95.06,2,34.6358,2,0.455,1,0.017,1,4.659,1,94.5,2
33RR20180918, GP15,16,9,24,GSNIS-25   ,2,6727,13708,20181017,2309,26.9998,-151.9999,5472,2274.3,1.8369,34.6359,2,-999,9,20181018,14,26.9998,-151.9999,160.86,2,2.76,2,39.47,2,0,2,-999,9,-999,9,0.455,1,0.018,1,4.659,1,94.2,2
33RR20180918, GP15,16,9,25,GSNIS-26   ,2,6727,13708,20181017,2309,26.9998,-151.9999,5472,2275.2,1.8365,34.636,2,-999,9,20181018,14,26.9998,-151.9999,161.06,2,2.75,2,39.51,2,0,2,-999,9,-999,9,0.455,1,0.017,1,4.659,1,94.1,2
33RR20180918, GP15,16,9,26,GSNIS-27   ,2,6727,13708,20181017,2309,26.9998,-151.9999,5472,2274.3,1.8369,34.6361,2,1.8365,2,20181018,14,26.9998,-151.9999,161.15,2,2.77,2,39.49,2,0,2,-999,9,-999,9,0.456,1,0.017,1,4.659,1,94.2,2
33RR20180918, GP15,16,9,27,GSNIS-28   ,2,6727,13707,20181017,2309,26.9998,-151.9999,5472,1767.6,2.3134,34.5957,2,2.3148,2,20181018,25,26.9998,-151.9999,147.98,2,2.94,2,40.52,2,0,2,77.49,2,34.5957,2,0.486,1,0.017,1,4.657,1,76.1,2
33RR20180918, GP15,16,9,28,GSNIS-29   ,2,6727,13707,20181017,2309,26.9998,-151.9999,5472,1767.8,2.3149,34.5954,2,-999,9,20181018,25,26.9998,-151.9999,148.18,2,2.87,2,40.51,2,0,2,-999,9,-999,9,0.486,1,0.017,1,4.657,1,75.7,2
33RR20180918, GP15,16,9,29,GSNIS-30   ,2,6727,13706,20181017,2309,26.9998,-151.9999,5472,1262.4,3.1575,34.5227,2,3.1607,2,20181018,35,26.9998,-151.9999,128.86,2,2.98,2,41.67,2,0,2,53.55,2,34.526,2,0.541,1,0.018,1,4.656,1,52.7,2
33RR20180918, GP15,16,9,30,GSNIS-31   ,2,6727,13706,20181017,2309,26.9998,-151.9999,5472,1263.8,3.1625,34.5223,2,-999,9,20181018,35,26.9998,-151.9998,129.25,2,2.97,2,41.68,2,0,2,-999,9,-999,9,0.542,1,0.017,1,4.656,1,52.8,2
33RR20180918, GP15,16,9,31,GSNIS-32   ,2,6727,13706,20181017,2309,26.9998,-151.9999,5472,1261.4,3.1621,34.5224,2,-999,9,20181018,35,26.9998,-151.9998,129.05,2,2.98,2,41.69,2,0,2,-999,9,-999,9,0.542,1,0.018,1,4.656,1,52.9,2
33RR20180918, GP15,16,9,32,GSNIS-33   ,2,6727,13706,20181017,2309,26.9998,-151.9999,5472,1263.1,3.162,34.5223,2,3.1625,2,20181018,35,26.9998,-151.9998,128.86,2,2.98,2,41.7,2,0,2,-999,9,-999,9,0.542,1,0.018,1,4.656,1,52.3,2
33RR20180918, GP15,16,9,33,GSNIS-34   ,2,6727,13705,20181017,2309,26.9998,-151.9999,5472,1009.2,3.666,34.4226,2,3.6652,2,20181018,42,26.9998,-151.9999,120.08,2,3.11,2,42.97,2,0,2,27.08,2,34.4228,2,0.576,1,0.017,1,4.654,1,26.1,2
33RR20180918, GP15,16,9,34,GSNIS-35   ,2,6727,13705,20181017,2309,26.9998,-151.9999,5472,1008.2,3.6653,34.4225,2,-999,9,20181018,42,26.9998,-151.9999,119.79,2,3.09,2,42.9,2,0,2,-999,9,-999,9,0.576,1,0.018,1,4.654,1,25.5,2
33RR20180918, GP15,16,9,35,GSNIS-36   ,2,6727,13704,20181017,2309,26.9998,-151.9999,5472,855.7,4.0343,34.3084,2,4.036,2,20181018,47,26.9998,-151.9999,110.91,2,3.12,2,43.07,2,0,2,17.39,2,34.3089,2,0.601,1,0.018,1,4.654,1,17.3,2
33RR20180918, GP15,16,9,36,GSNIS-1    ,2,6727,13704,20181017,2309,26.9998,-151.9999,5472,858.8,4.0355,34.3082,2,-999,9,20181018,47,26.9998,-151.9999,110.81,2,3.1,2,43,2,0,2,-999,9,-999,9,0.602,1,0.018,1,4.654,1,17.5,2