BOTTLE,20191212SIOCCHAMB
EXPOCODE,SECT_ID,STNNBR,CASTNO,SAMPNO,BTLNBR,BTLNBR_FLAG_W,GEOTRC_EVENTNO,GEOTRC_SAMPNO,DATE,TIME,LATITUDE,LONGITUDE,DEPTH,CTDPRS,CTDTMP,CTDSAL,CTDSAL_FLAG_W,REFTMP,REFTMP_FLAG_W,BTL_DATE,BTL_TIME,BTL_LAT,BTL_LON,SILCAT,SILCAT_FLAG_W,PHSPHT,PHSPHT_FLAG_W,NITRAT,NITRAT_FLAG_W,NITRIT,NITRIT_FLAG_W,OXYGEN,OXYGEN_FLAG_W,SALNTY,SALNTY_FLAG_W,CTDRINKO,CTDRINKO_FLAG_W,CTDFLUOR,CTDFLUOR_FLAG_W,CTDXMISS,CTDXMISS_FLAG_W,CTDOXY,CTDOXY_FLAG_W
,,,,,,,,,,,,,METERS,DBAR,ITS-90,PSS-78,,ITS-90,,,,,,UMOL/KG,,UMOL/KG,,UMOL/KG,,UMOL/KG,,UMOL/KG,,PSS-78,,VOLTS,,VOLTS,,VOLTS,,UMOL/KG,
33RR20180918, GP15,11,2,1,GSNIS-2    ,2,6645,13225,20181009,2054,39.5002,-152.0002,5233,1012.5,3.3809,34.2954,2,3.3803,2,20181009,2054,39.5003,-152.0002,129.07,2,3.17,2,44.24,2,0,2,13.97,2,34.2951,2,2.376,1,0.018,1,4.697,1,13.5,2
33RR20180918, GP15,11,2,2,GSNIS-3    ,2,6645,13225,20181009,2054,39.5002,-152.0002,5233,1012.3,3.3815,34.2952,2,-999,9,20181009,2054,39.5002,-152.0002,129.27,2,3.15,2,44.21,2,0,2,-999,9,-999,9,2.366,1,0.018,1,4.697,1,13.5,2
33RR20180918, GP15,11,2,3,GSNIS-4    ,2,6645,13225,20181009,2054,39.5002,-152.0002,5233,1012.7,3.3806,34.2953,2,-999,9,20181009,2054,39.5002,-152.0002,129.56,2,3.13,2,44.14,2,0,2,-999,9,-999,9,2.358,1,0.018,1,4.697,1,12.9,2
33RR20180918, GP15,11,2,4,GSNIS-5    ,2,6645,13224,20181009,2054,39.5002,-152.0002,5233,758.2,4.2036,34.1379,2,4.2072,2,20181009,2100,39.5002,-152.0002,100.97,2,2.94,2,41.41,2,0,2,41.7,2,34.1394,2,2.453,1,0.018,1,4.696,1,42.7,2
33RR20180918, GP15,11,2,5,GSNIS-6    ,2,6645,13224,20181009,2054,39.5002,-152.0002,5233,757.7,4.208,34.1373,2,-999,9,20181009,2100,39.5002,-152.0002,100.97,2,2.94,2,41.32,2,0,2,-999,9,-999,9,2.456,1,0.018,1,4.696,1,42.3,2
33RR20180918, GP15,11,2,6,GSNIS-7    ,2,6645,13223,20181009,2054,39.5002,-152.0002,5233,505.2,6.0672,33.9674,2,6.0766,2,20181009,2106,39.5003,-152.0002,56.74,2,2.2,2,30.95,2,0,2,130.09,2,33.9692,2,2.541,1,0.018,1,4.689,1,129.3,2
33RR20180918, GP15,11,2,7,GSNIS-8    ,2,6645,13223,20181009,2054,39.5002,-152.0002,5233,505.9,6.0701,33.9674,2,-999,9,20181009,2106,39.5002,-152.0002,56.74,2,2.18,2,30.9,2,0,2,-999,9,-999,9,2.531,1,0.017,1,4.689,1,129.3,2
33RR20180918, GP15,11,2,8,GSNIS-9    ,2,6645,13223,20181009,2054,39.5002,-152.0002,5233,505,6.0816,33.9671,2,-999,9,20181009,2106,39.5002,-152.0002,57.33,2,2.18,2,30.93,2,0,2,-999,9,-999,9,2.519,1,0.018,1,4.689,1,129.2,2
33RR20180918, GP15,11,2,9,GSNIS-10   ,2,6645,13222,20181009,2054,39.5002,-152.0002,5233,329,8.6556,33.9945,2,8.6526,2,20181009,2111,39.5002,-152.0002,23.14,2,1.26,2,17.71,2,0,2,213.65,2,33.9917,2,2.015,1,0.017,1,4.687,1,213.7,2
33RR20180918, GP15,11,2,10,GSNIS-11   ,2,6645,13222,20181009,2054,39.5002,-152.0002,5233,328.3,8.6507,33.9944,2,-999,9,20181009,2111,39.5002,-152.0002,22.95,2,1.24,2,17.66,2,0,2,-999,9,-999,9,2.007,1,0.017,1,4.686,1,213,2
33RR20180918, GP15,11,2,11,GSNIS-12   ,2,6645,13222,20181009,2054,39.5002,-152.0002,5233,328.8,8.6582,33.9923,2,-999,9,20181009,2111,39.5002,-152.0002,22.75,2,1.22,2,17.61,2,0,2,-999,9,-999,9,2,1,0.017,1,4.687,1,214.6,2
33RR20180918, GP15,11,2,12,GSNIS-13   ,2,6645,13221,20181009,2054,39.5002,-152.0002,5233,202.6,10.5845,34.0597,2,10.5888,2,20181009,2114,39.5002,-152.0002,12.3,2,0.9,2,12.76,2,0.01,2,222.35,2,34.0639,2,1.702,1,0.017,1,4.687,1,222.4,2
33RR20180918, GP15,11,2,13,GSNIS-14   ,2,6645,13221,20181009,2054,39.5002,-152.0002,5233,201.9,10.5875,34.0598,2,-999,9,20181009,2115,39.5002,-152.0002,12.21,2,0.89,2,12.74,2,0.01,2,-999,9,-999,9,1.7,1,0.017,1,4.686,1,222.5,2
33RR20180918, GP15,11,2,14,GSNIS-15   ,2,6645,13221,20181009,2054,39.5002,-152.0002,5233,201.9,10.5904,34.0604,2,-999,9,20181009,2115,39.5002,-152.0002,11.91,2,0.89,2,12.73,2,0.01,2,-999,9,-999,9,1.697,1,0.017,1,4.686,1,221.9,2
33RR20180918, GP15,11,2,15,GSNIS-16   ,2,6645,13220,20181009,2054,39.5002,-152.0002,5233,127,11.4307,33.6158,2,11.4287,2,20181009,2117,39.5002,-152.0002,2.34,2,0.53,2,5.34,2,0.03,2,241.36,2,33.603,2,1.62,1,0.028,1,4.676,1,242.3,2
33RR20180918, GP15,11,2,16,GSNIS-17   ,2,6645,13220,20181009,2054,39.5002,-152.0002,5233,126.5,11.4199,33.6246,2,-999,9,20181009,2118,39.5002,-152.0002,2.34,2,0.53,2,5.45,2,0.03,2,-999,9,-999,9,1.618,1,0.027,1,4.676,1,242.5,2
33RR20180918, GP15,11,2,17,GSNIS-18   ,2,6645,13220,20181009,2054,39.5002,-152.0002,5233,126.4,11.4294,33.622,2,-999,9,20181009,2118,39.5002,-152.0002,1.66,2,0.52,2,5.3,2,0.03,2,-999,9,-999,9,1.616,1,0.027,1,4.676,1,242.4,2
33RR20180918, GP15,11,2,18,GSNIS-19   ,2,6645,13219,20181009,2054,39.5002,-152.0002,5233,96.5,12.0604,33.3869,2,12.0691,2,20181009,2120,39.5002,-152.0002,0.49,2,0.3,2,0.34,2,0.18,2,255.24,2,33.386,2,1.56,1,0.042,1,4.638,1,254.8,2
33RR20180918, GP15,11,2,19,GSNIS-20   ,2,6645,13219,20181009,2054,39.5002,-152.0002,5233,96.5,12.0644,33.3868,2,-999,9,20181009,2120,39.5002,-152.0002,0.49,2,0.3,2,0.36,2,0.18,2,-999,9,-999,9,1.558,1,0.045,1,4.639,1,254.7,2
33RR20180918, GP15,11,2,20,GSNIS-21   ,2,6645,13219,20181009,2054,39.5002,-152.0002,5233,96.6,12.0679,33.3868,2,-999,9,20181009,2120,39.5002,-152.0002,0.39,2,0.3,2,0.37,2,0.18,2,-999,9,-999,9,1.557,1,0.046,1,4.638,1,254.8,2
33RR20180918, GP15,11,2,21,GSNIS-22   ,2,6645,13218,20181009,2054,39.5002,-152.0002,5233,86.3,12.3399,33.3663,2,12.3434,2,20181009,2122,39.5002,-152.0002,0.29,2,0.25,2,0,2,0.04,2,262.64,2,33.3673,2,1.539,1,0.056,1,4.618,1,262.8,2
33RR20180918, GP15,11,2,22,GSNIS-23   ,2,6645,13218,20181009,2054,39.5002,-152.0002,5233,86.4,12.3395,33.3666,2,-999,9,20181009,2122,39.5002,-152.0002,0.2,2,0.24,2,0,2,0.04,2,-999,9,-999,9,1.538,1,0.054,1,4.618,1,262.8,2
33RR20180918, GP15,11,2,23,GSNIS-24   ,2,6645,13218,20181009,2054,39.5002,-152.0002,5233,86.2,12.3424,33.3666,2,-999,9,20181009,2122,39.5003,-152.0002,0.2,2,0.24,2,0,2,0.04,2,-999,9,-999,9,1.535,1,0.059,1,4.618,1,262.4,2
33RR20180918, GP15,11,2,24,GSNIS-25   ,2,6645,13217,20181009,2054,39.5002,-152.0002,5233,71.8,13.7052,33.3495,2,13.6965,2,20181009,2124,39.5002,-152.0002,0.1,2,0.19,2,0,2,0,2,277.35,2,33.3491,2,1.48,1,0.034,1,4.612,1,277.2,2
33RR20180918, GP15,11,2,25,GSNIS-26   ,4,6645,13217,20181009,2054,39.5002,-152.0002,5233,71.1,13.6987,33.3493,3,-999,9,20181009,2124,39.5002,-152.0002,0.29,3,0.19,3,0,3,0,3,-999,9,-999,9,1.477,1,0.034,1,4.611,1,277.2,3
33RR20180918, GP15,11,2,26,GSNIS-27   ,2,6645,13217,20181009,2054,39.5002,-152.0002,5233,71.3,13.6931,33.3495,2,-999,9,20181009,2124,39.5002,-152.0002,0.98,2,0.2,2,0,2,0,2,-999,9,-999,9,1.474,1,0.034,1,4.611,1,277.2,2
33RR20180918, GP15,11,2,27,GSNIS-28   ,4,6645,13216,20181009,2054,39.5002,-152.0002,5233,56.3,15.3124,33.2357,3,15.3161,3,20181009,2125,39.5002,-152.0002,8.21,3,0.76,3,10.61,3,0.01,3,227.84,3,34.0105,4,1.419,1,0.025,1,4.609,1,257.2,3
33RR20180918, GP15,11,2,28,GSNIS-29   ,2,6645,13216,20181009,2054,39.5002,-152.0002,5233,56.2,15.3255,33.2347,2,-999,9,20181009,2126,39.5002,-152.0002,0,2,0.18,2,0,2,0,2,-999,9,-999,9,1.417,1,0.026,1,4.608,1,275,3
33RR20180918, GP15,11,2,29,GSNIS-30   ,2,6645,13216,20181009,2054,39.5002,-152.0002,5233,56.1,15.3088,33.2368,2,-999,9,20181009,2126,39.5002,-152.0002,0,2,0.17,2,0,2,0,2,276.89,2,33.2366,2,1.415,1,0.025,1,4.609,1,275.3,2
33RR20180918, GP15,11,2,30,GSNIS-31   ,2,6645,13215,20181009,2054,39.5002,-152.0002,5233,41.5,20.162,33.2529,2,20.1594,2,20181009,2128,39.5003,-152.0002,0,2,0.13,2,0,2,0,2,232.28,2,33.2581,2,1.345,1,0.019,1,4.644,1,232.3,2
33RR20180918, GP15,11,2,31,GSNIS-32   ,2,6645,13215,20181009,2054,39.5002,-152.0002,5233,41.3,20.1457,33.252,2,-999,9,20181009,2128,39.5003,-152.0002,0,2,0.14,2,0,2,0,2,-999,9,-999,9,1.344,1,0.018,1,4.641,1,231.9,2
33RR20180918, GP15,11,2,32,GSNIS-33   ,2,6645,13215,20181009,2054,39.5002,-152.0002,5233,40.6,20.1776,33.254,2,-999,9,20181009,2128,39.5003,-152.0002,0,2,0.14,2,0,2,0,2,-999,9,-999,9,1.346,1,0.019,1,4.643,1,233.3,2
33RR20180918, GP15,11,2,33,GSNIS-34   ,2,6645,13214,20181009,2054,39.5002,-152.0002,5233,26.2,20.3149,33.2447,2,20.3127,2,20181009,2129,39.5003,-152.0002,0,2,0.15,2,0,2,0,2,231.82,2,33.2483,2,1.354,1,0.018,1,4.64,1,232.4,2
33RR20180918, GP15,11,2,34,GSNIS-35   ,2,6645,13214,20181009,2054,39.5002,-152.0002,5233,26.2,20.3151,33.2443,2,-999,9,20181009,2130,39.5003,-152.0002,0,2,0.15,2,0,2,0,2,-999,9,-999,9,1.354,1,0.018,1,4.64,1,232.4,2
33RR20180918, GP15,11,2,35,GSNIS-36   ,2,6645,13214,20181009,2054,39.5002,-152.0002,5233,26.4,20.3151,33.2438,2,-999,9,20181009,2130,39.5002,-152.0002,0,2,0.14,2,0,2,0,2,-999,9,-999,9,1.354,1,0.018,1,4.64,1,232,2
33RR20180918, GP15,11,2,36,GSNIS-1    ,2,6645,13213,20181009,2054,39.5002,-152.0002,5233,3.6,20.3765,33.2256,2,20.3788,2,20181009,2132,39.5002,-152.0002,0,2,0.14,2,0,2,0,2,231.57,2,33.2273,2,1.355,1,0.018,1,4.642,1,232.9,2
33RR20180918, GP15,12,2,1,GSNIS-2    ,2,6650,13249,20181010,1448,37.0002,-152.0001,5701,429.1,7.4677,34.0008,2,7.467,2,20181010,1448,37.0002,-152.0002,39.75,2,1.8,2,25.64,2,0,2,160.55,2,34.0033,3,2.656,1,0.017,1,4.686,1,159.9,2
33RR20180918, GP15,12,2,2,GSNIS-3    ,2,6650,13249,20181010,1448,37.0002,-152.0001,5701,428.6,7.4659,34.0012,2,-999,9,20181010,1448,37.0002,-152.0002,39.65,2,1.79,2,25.61,2,0.01,2,-999,9,-999,9,2.637,1,0.017,1,4.686,1,159.8,2
33RR20180918, GP15,12,2,3,GSNIS-4    ,2,6650,13249,20181010,1448,37.0002,-152.0001,5701,428.5,7.4717,34.0009,2,-999,9,20181010,1448,37.0002,-152.0002,39.75,2,1.79,2,25.58,2,0.01,2,-999,9,-999,9,2.617,1,0.017,1,4.685,1,160,2
33RR20180918, GP15,12,2,4,GSNIS-5    ,2,6650,13248,20181010,1448,37.0002,-152.0001,5701,327.9,9.0004,34.0596,2,8.998,2,20181010,1451,37.0002,-152.0002,24.8,2,1.32,2,19.01,2,0.01,2,196.56,2,34.0621,3,2.122,1,0.017,1,4.687,1,195.8,2
33RR20180918, GP15,12,2,5,GSNIS-6    ,2,6650,13248,20181010,1448,37.0002,-152.0001,5701,328.1,9.0014,34.0595,2,-999,9,20181010,1451,37.0002,-152.0002,24.71,2,1.31,2,18.98,2,0.01,2,-999,9,-999,9,2.111,1,0.017,1,4.686,1,195.8,2
33RR20180918, GP15,12,2,6,GSNIS-7    ,2,6650,13248,20181010,1448,37.0002,-152.0001,5701,327.1,8.9948,34.0597,2,-999,9,20181010,1451,37.0002,-152.0002,24.8,2,1.3,2,18.93,2,0.01,2,-999,9,-999,9,2.099,1,0.017,1,4.686,1,195.4,2
33RR20180918, GP15,12,2,7,GSNIS-8    ,2,6650,13247,20181010,1448,37.0002,-152.0001,5701,251.3,9.8877,34.0726,2,9.9026,2,20181010,1454,37.0002,-152.0002,15.82,2,0.99,2,14.02,2,0.01,2,224.85,2,34.0753,3,1.895,1,0.016,1,4.686,1,221.1,2
33RR20180918, GP15,12,2,8,GSNIS-9    ,2,6650,13247,20181010,1448,37.0002,-152.0001,5701,252,9.8937,34.0726,2,-999,9,20181010,1454,37.0002,-152.0002,15.82,2,0.99,2,13.98,2,0.01,2,-999,9,-999,9,1.886,1,0.017,1,4.686,1,221.6,2
33RR20180918, GP15,12,2,9,GSNIS-10   ,2,6650,13247,20181010,1448,37.0002,-152.0001,5701,252,9.9056,34.0739,2,-999,9,20181010,1454,37.0002,-152.0002,15.72,2,0.98,2,13.95,2,0.01,2,-999,9,-999,9,1.877,1,0.016,1,4.686,1,221.6,2
33RR20180918, GP15,12,2,10,GSNIS-11   ,2,6650,13246,20181010,1448,37.0002,-152.0001,5701,181.2,11.4112,34.1839,2,11.405,2,20181010,1457,37.0002,-152.0002,11.42,2,0.83,2,11.94,2,0.01,2,218.47,2,34.1841,3,1.708,1,0.017,1,4.685,1,216.9,2
33RR20180918, GP15,12,2,11,GSNIS-12   ,2,6650,13246,20181010,1448,37.0002,-152.0001,5701,181.5,11.41,34.1846,2,-999,9,20181010,1457,37.0002,-152.0002,11.42,2,0.84,2,11.96,2,0.01,2,-999,9,-999,9,1.704,1,0.017,1,4.685,1,217.3,2
33RR20180918, GP15,12,2,12,GSNIS-13   ,2,6650,13246,20181010,1448,37.0002,-152.0001,5701,180.7,11.3897,34.1839,2,-999,9,20181010,1457,37.0002,-152.0002,11.23,2,0.83,2,11.92,2,0.01,2,-999,9,-999,9,1.7,1,0.016,1,4.685,1,216.9,2
33RR20180918, GP15,12,2,13,GSNIS-14   ,2,6650,13245,20181010,1448,37.0002,-152.0001,5701,140.8,12.0074,34.0894,2,12.0074,2,20181010,1459,37.0002,-152.0002,7.23,2,0.63,2,8.61,2,0.02,2,227.06,2,34.0829,2,1.644,1,0.024,1,4.682,1,225.8,2
33RR20180918, GP15,12,2,14,GSNIS-15   ,2,6650,13245,20181010,1448,37.0002,-152.0001,5701,140.6,12.0076,34.0854,2,-999,9,20181010,1459,37.0002,-152.0002,7.23,2,0.64,2,8.59,2,0.02,2,-999,9,-999,9,1.643,1,0.023,1,4.681,1,226.3,2
33RR20180918, GP15,12,2,15,GSNIS-16   ,2,6650,13245,20181010,1448,37.0002,-152.0001,5701,141.3,12.0079,34.0814,2,-999,9,20181010,1459,37.0002,-152.0002,6.93,2,0.64,2,8.57,2,0.02,2,-999,9,-999,9,1.642,1,0.023,1,4.681,1,226.4,2
33RR20180918, GP15,12,2,16,GSNIS-17   ,2,6650,13244,20181010,1448,37.0002,-152.0001,5701,106.1,12.6228,33.705,3,12.6513,2,20181010,1502,37.0002,-152.0002,2.34,2,0.33,2,1.67,2,0.08,2,242.61,2,33.7188,3,1.602,1,0.041,1,4.653,1,243.3,2
33RR20180918, GP15,12,2,17,GSNIS-18   ,2,6650,13244,20181010,1448,37.0002,-152.0001,5701,105.9,12.6355,33.7038,2,-999,9,20181010,1502,37.0002,-152.0002,2.25,2,0.32,2,1.58,2,0.08,2,-999,9,-999,9,1.599,1,0.037,1,4.654,1,243.3,2
33RR20180918, GP15,12,2,18,GSNIS-19   ,2,6650,13244,20181010,1448,37.0002,-152.0001,5701,105.1,12.6486,33.7219,2,-999,9,20181010,1502,37.0002,-152.0002,2.15,2,0.33,2,1.52,2,0.08,2,-999,9,-999,9,1.596,1,0.038,1,4.654,1,242.2,2
33RR20180918, GP15,12,2,19,GSNIS-20   ,2,6650,13243,20181010,1448,37.0002,-152.0001,5701,95.7,12.9454,33.5939,2,12.922,2,20181010,1504,37.0002,-152.0002,1.17,2,0.22,2,0.01,2,0,2,255.02,2,33.5968,3,1.569,1,0.053,1,4.621,1,257.7,2
33RR20180918, GP15,12,2,20,GSNIS-21   ,2,6650,13243,20181010,1448,37.0002,-152.0001,5701,95.1,12.9346,33.5944,2,-999,9,20181010,1504,37.0002,-152.0002,1.27,2,0.21,2,0,2,0,2,-999,9,-999,9,1.569,1,0.056,1,4.623,1,257.6,2
33RR20180918, GP15,12,2,21,GSNIS-22   ,2,6650,13243,20181010,1448,37.0002,-152.0001,5701,95.7,12.9382,33.5927,2,-999,9,20181010,1504,37.0002,-152.0002,1.07,2,0.21,2,0,2,0,2,-999,9,-999,9,1.569,1,0.053,1,4.622,1,257.5,2
33RR20180918, GP15,12,2,22,GSNIS-23   ,2,6650,13242,20181010,1448,37.0002,-152.0001,5701,86,13.629,33.627,2,13.6399,3,20181010,1506,37.0002,-152.0002,1.07,2,0.16,2,0,2,0,2,265.04,2,33.6335,3,1.567,1,0.032,1,4.638,1,265.5,2
33RR20180918, GP15,12,2,23,GSNIS-24   ,2,6650,13242,20181010,1448,37.0002,-152.0001,5701,84.7,13.6575,33.6291,2,-999,9,20181010,1506,37.0002,-152.0002,1.17,2,0.16,2,0,2,0,2,-999,9,-999,9,1.566,1,0.03,1,4.636,1,267.9,2
33RR20180918, GP15,12,2,24,GSNIS-25   ,2,6650,13242,20181010,1448,37.0002,-152.0001,5701,85.8,13.666,33.6283,2,-999,9,20181010,1506,37.0002,-152.0002,1.17,2,0.16,2,0,2,0,2,-999,9,-999,9,1.566,1,0.032,1,4.636,1,267.5,2
33RR20180918, GP15,12,2,25,GSNIS-26   ,2,6650,13241,20181010,1448,37.0002,-152.0001,5701,74.7,14.4983,33.7074,2,14.5827,2,20181010,1508,37.0002,-152.0002,1.17,2,0.13,2,0,2,0,2,269.28,2,33.7122,2,1.511,1,0.028,1,4.633,1,270.1,2
33RR20180918, GP15,12,2,26,GSNIS-27   ,2,6650,13241,20181010,1448,37.0002,-152.0001,5701,76.4,14.627,33.7144,2,-999,9,20181010,1508,37.0002,-152.0002,1.27,2,0.13,2,0,2,0,2,-999,9,-999,9,1.508,1,0.027,1,4.634,1,272.9,2
33RR20180918, GP15,12,2,27,GSNIS-28   ,2,6650,13241,20181010,1448,37.0002,-152.0001,5701,74.8,14.578,33.71,2,-999,9,20181010,1508,37.0002,-152.0002,1.27,2,0.13,2,0,2,0,2,-999,9,-999,9,1.505,1,0.026,1,4.633,1,271.5,2
33RR20180918, GP15,12,2,28,GSNIS-29   ,2,6650,13240,20181010,1448,37.0002,-152.0001,5701,60.5,15.5815,33.7682,2,15.5781,2,20181010,1510,37.0002,-152.0002,1.37,2,0.11,2,0,2,0,2,272.96,2,33.7745,3,1.437,1,0.023,1,4.636,1,276.5,2
33RR20180918, GP15,12,2,29,GSNIS-30   ,2,6650,13240,20181010,1448,37.0002,-152.0001,5701,60.2,15.5744,33.7684,2,-999,9,20181010,1510,37.0002,-152.0002,1.47,2,0.11,2,0,2,0,2,-999,9,-999,9,1.435,1,0.023,1,4.636,1,276.5,2
33RR20180918, GP15,12,2,30,GSNIS-31   ,2,6650,13240,20181010,1448,37.0002,-152.0001,5701,59.9,15.5912,33.7724,2,-999,9,20181010,1510,37.0002,-152.0002,1.37,2,0.11,2,0,2,0,2,-999,9,-999,9,1.432,1,0.023,1,4.637,1,275.9,2
33RR20180918, GP15,12,2,31,GSNIS-32   ,2,6650,13239,20181010,1448,37.0002,-152.0001,5701,40.7,18.9875,33.718,3,19.0332,3,20181010,1512,37.0002,-152.0002,1.27,2,0.06,2,0,2,0,2,252.01,2,33.7179,3,1.357,1,0.021,1,4.636,1,254,2
33RR20180918, GP15,12,2,32,GSNIS-33   ,2,6650,13239,20181010,1448,37.0002,-152.0001,5701,39.9,19.0511,33.7159,2,-999,9,20181010,1512,37.0002,-152.0002,1.17,2,0.08,2,0,2,0,2,-999,9,-999,9,1.354,1,0.021,1,4.637,1,240.4,2
33RR20180918, GP15,12,2,33,GSNIS-34   ,2,6650,13239,20181010,1448,37.0002,-152.0001,5701,40.4,19.1117,33.7136,2,-999,9,20181010,1512,37.0002,-152.0002,1.27,2,0.08,2,0,2,0,2,-999,9,-999,9,1.353,1,0.021,1,4.636,1,239.4,2
33RR20180918, GP15,12,2,34,GSNIS-35   ,2,6650,13238,20181010,1448,37.0002,-152.0001,5701,25.3,21.7441,33.8664,2,21.7429,2,20181010,1514,37.0002,-152.0001,1.37,2,0.07,2,0,2,0,2,223.98,2,33.8683,3,1.306,1,0.018,1,4.652,1,222,2
33RR20180918, GP15,12,2,35,GSNIS-36   ,2,6650,13238,20181010,1448,37.0002,-152.0001,5701,25.3,21.7452,33.8661,2,-999,9,20181010,1514,37.0002,-152.0001,1.37,2,0.07,2,0,2,0,2,-999,9,-999,9,1.307,1,0.018,1,4.652,1,220.7,2
33RR20180918, GP15,12,2,36,GSNIS-1    ,2,6650,13238,20181010,1448,37.0002,-152.0001,5701,25.6,21.7454,33.8663,2,-999,9,20181010,1514,37.0002,-152.0001,1.27,2,0.07,2,0,2,0,2,-999,9,-999,9,1.308,1,0.018,1,4.653,1,221.3,2