BOTTLE,20191212SIOCCHAMB
EXPOCODE,SECT_ID,STNNBR,CASTNO,SAMPNO,BTLNBR,BTLNBR_FLAG_W,GEOTRC_EVENTNO,GEOTRC_SAMPNO,DATE,TIME,LATITUDE,LONGITUDE,DEPTH,CTDPRS,CTDTMP,CTDSAL,CTDSAL_FLAG_W,REFTMP,REFTMP_FLAG_W,BTL_DATE,BTL_TIME,BTL_LAT,BTL_LON,SILCAT,SILCAT_FLAG_W,PHSPHT,PHSPHT_FLAG_W,NITRAT,NITRAT_FLAG_W,NITRIT,NITRIT_FLAG_W,OXYGEN,OXYGEN_FLAG_W,SALNTY,SALNTY_FLAG_W,CTDRINKO,CTDRINKO_FLAG_W,CTDFLUOR,CTDFLUOR_FLAG_W,CTDXMISS,CTDXMISS_FLAG_W,CTDOXY,CTDOXY_FLAG_W
,,,,,,,,,,,,,METERS,DBAR,ITS-90,PSS-78,,ITS-90,,,,,,UMOL/KG,,UMOL/KG,,UMOL/KG,,UMOL/KG,,UMOL/KG,,PSS-78,,VOLTS,,VOLTS,,VOLTS,,UMOL/KG,
33RR20180918, GP15,29,3,1,GSNIS-2    ,2,6891,14808,20181108,1818,0.0061,-151.9942,4438,351.4,11.3675,34.8084,2,11.3896,2,20181108,1818,0.0039,-151.9952,25.32,2,2.21,2,31.45,2,0,2,39.05,2,34.8121,2,2.541,1,0.017,1,4.652,1,42.5,2
33RR20180918, GP15,29,3,2,GSNIS-3    ,2,6891,14808,20181108,1818,0.0061,-151.9942,4438,350.7,11.3923,34.8072,2,-999,9,20181108,1818,0.0039,-151.9952,25.22,2,2.21,2,31.4,2,0,2,-999,9,-999,9,2.553,1,0.018,1,4.652,1,38.2,2
33RR20180918, GP15,29,3,3,GSNIS-4    ,2,6891,14808,20181108,1818,0.0061,-151.9942,4438,350.5,11.3773,34.8078,2,-999,9,20181108,1818,0.0039,-151.9952,25.22,2,2.21,2,31.37,2,0,2,-999,9,-999,9,2.561,1,0.017,1,4.652,1,42.7,2
33RR20180918, GP15,29,3,4,GSNIS-5    ,2,6891,14808,20181108,1818,0.0061,-151.9942,4438,351.2,11.3298,34.8088,2,-999,9,20181108,1819,0.0039,-151.9952,25.32,2,2.22,2,31.51,2,0,2,-999,9,-999,9,2.569,1,0.018,1,4.652,1,38.9,2
33RR20180918, GP15,29,3,5,GSNIS-6    ,2,6891,14807,20181108,1818,0.0061,-151.9942,4438,302.2,12.1091,34.8514,2,12.1086,2,20181108,1820,0.0041,-151.9949,21.89,2,2.01,2,28.36,2,0,2,58.94,2,34.8517,2,2.64,1,0.017,1,4.656,1,61.7,2
33RR20180918, GP15,29,3,6,GSNIS-7    ,2,6891,14807,20181108,1818,0.0061,-151.9942,4438,302,12.109,34.8515,2,-999,9,20181108,1821,0.0041,-151.9949,21.89,2,2,2,28.32,2,0,2,-999,9,-999,9,2.643,1,0.017,1,4.656,1,62,2
33RR20180918, GP15,29,3,7,GSNIS-8    ,2,6891,14807,20181108,1818,0.0061,-151.9942,4438,302.1,12.1086,34.8515,2,-999,9,20181108,1821,0.0041,-151.9949,21.89,2,2,2,28.27,2,0,2,-999,9,-999,9,2.646,1,0.017,1,4.656,1,62.2,2
33RR20180918, GP15,29,3,8,GSNIS-9    ,2,6891,14806,20181108,1818,0.0061,-151.9942,4438,252.4,12.7647,34.89,2,12.7667,2,20181108,1823,0.0042,-151.9947,15.93,2,1.55,2,21.53,2,0,2,115.49,2,34.8951,2,2.582,1,0.017,1,4.66,1,115.4,2
33RR20180918, GP15,29,3,9,GSNIS-10   ,2,6891,14806,20181108,1818,0.0061,-151.9942,4438,252.6,12.776,34.8919,2,-999,9,20181108,1823,0.0042,-151.9947,15.93,2,1.56,2,21.53,2,0,2,-999,9,-999,9,2.576,1,0.017,1,4.661,1,116.2,2
33RR20180918, GP15,29,3,10,GSNIS-11   ,2,6891,14806,20181108,1818,0.0061,-151.9942,4438,253,12.7646,34.8905,2,-999,9,20181108,1823,0.0042,-151.9947,15.93,2,1.55,2,21.56,2,0,2,-999,9,-999,9,2.57,1,0.016,1,4.661,1,116.2,2
33RR20180918, GP15,29,3,11,GSNIS-12   ,2,6891,14806,20181108,1818,0.0061,-151.9942,4438,252.5,12.7766,34.8914,2,12.7691,2,20181108,1823,0.0042,-151.9947,15.83,2,1.55,2,21.53,2,0,2,-999,9,-999,9,2.564,1,0.017,1,4.66,1,116.1,2
33RR20180918, GP15,29,3,12,GSNIS-13   ,2,6891,14805,20181108,1818,0.0061,-151.9942,4438,200.6,14.4162,34.9729,2,14.4179,2,20181108,1825,0.0042,-151.9947,12.51,2,1.29,2,17.57,2,0,2,129.83,2,34.974,2,2.212,1,0.017,1,4.661,1,128.8,2
33RR20180918, GP15,29,3,13,GSNIS-14   ,2,6891,14805,20181108,1818,0.0061,-151.9942,4438,201.1,14.4192,34.9734,2,-999,9,20181108,1825,0.0042,-151.9947,12.51,2,1.29,2,17.56,2,0,2,-999,9,-999,9,2.192,1,0.017,1,4.661,1,130.2,2
33RR20180918, GP15,29,3,14,GSNIS-15   ,2,6891,14805,20181108,1818,0.0061,-151.9942,4438,201.1,14.4204,34.9742,2,-999,9,20181108,1825,0.0042,-151.9947,12.51,2,1.28,2,17.56,2,0,2,-999,9,-999,9,2.174,1,0.017,1,4.662,1,129.6,2
33RR20180918, GP15,29,3,15,GSNIS-16   ,2,6891,14804,20181108,1818,0.0061,-151.9942,4438,173.4,18.5752,35.3246,2,18.574,2,20181108,1827,0.0042,-151.9947,5.57,2,1.01,2,13.07,2,0,2,127.79,2,35.3265,2,2.048,1,0.017,1,4.661,1,127.1,2
33RR20180918, GP15,29,3,16,GSNIS-17   ,2,6891,14804,20181108,1818,0.0061,-151.9942,4438,173.2,18.5757,35.325,2,-999,9,20181108,1827,0.0042,-151.9947,5.57,2,1.01,2,13.06,2,0,2,-999,9,-999,9,2.024,1,0.018,1,4.66,1,126.5,2
33RR20180918, GP15,29,3,17,GSNIS-18   ,2,6891,14803,20181108,1818,0.0061,-151.9942,4438,158.4,20.5548,35.43,2,20.542,2,20181108,1828,0.0043,-151.9947,4.01,2,0.93,2,11.79,2,0.02,2,125.68,2,35.4253,2,1.857,1,0.018,1,4.658,1,123.6,2
33RR20180918, GP15,29,3,18,GSNIS-19   ,2,6891,14803,20181108,1818,0.0061,-151.9942,4438,159.3,20.5235,35.4463,2,-999,9,20181108,1828,0.0043,-151.9947,4.1,2,0.93,2,11.78,2,0.02,2,-999,9,-999,9,1.852,1,0.018,1,4.659,1,125.6,2
33RR20180918, GP15,29,3,19,GSNIS-20   ,2,6891,14803,20181108,1818,0.0061,-151.9942,4438,158.9,20.5331,35.4384,2,-999,9,20181108,1828,0.0043,-151.9947,4.01,2,0.93,2,11.78,2,0.02,2,-999,9,-999,9,1.848,1,0.018,1,4.659,1,126.1,2
33RR20180918, GP15,29,3,20,GSNIS-21   ,2,6891,14802,20181108,1818,0.0061,-151.9942,4438,132,23.2466,35.2481,2,23.3114,2,20181108,1830,0.0045,-151.9946,3.32,2,0.74,2,9.25,2,0.03,2,134.36,2,35.2522,2,1.791,1,0.019,1,4.652,1,135.7,2
33RR20180918, GP15,29,3,21,GSNIS-22   ,2,6891,14802,20181108,1818,0.0061,-151.9942,4438,130.9,23.3212,35.2606,2,-999,9,20181108,1830,0.0046,-151.9946,3.32,2,0.74,2,9.23,2,0.03,2,-999,9,-999,9,1.77,1,0.018,1,4.653,1,138.7,2
33RR20180918, GP15,29,3,22,GSNIS-23   ,2,6891,14802,20181108,1818,0.0061,-151.9942,4438,131.7,23.3148,35.2604,2,-999,9,20181108,1830,0.0046,-151.9946,3.32,2,0.74,2,9.25,2,0.03,2,-999,9,-999,9,1.752,1,0.019,1,4.653,1,138.6,2
33RR20180918, GP15,29,3,23,GSNIS-24   ,2,6891,14801,20181108,1818,0.0061,-151.9942,4438,124,25.846,35.4639,3,25.847,2,20181108,1833,0.0048,-151.9945,1.66,2,0.67,2,7.86,2,0.04,2,145.75,2,35.4275,3,1.589,1,0.022,1,4.647,1,148.2,2
33RR20180918, GP15,29,3,24,GSNIS-25   ,2,6891,14801,20181108,1818,0.0061,-151.9942,4438,123.6,25.8353,35.3752,2,-999,9,20181108,1833,0.0048,-151.9945,1.66,2,0.66,2,7.85,2,0.04,2,-999,9,-999,9,1.596,1,0.023,1,4.647,1,152.6,2
33RR20180918, GP15,29,3,25,GSNIS-26   ,2,6891,14801,20181108,1818,0.0061,-151.9942,4438,124.6,25.8477,35.3746,2,-999,9,20181108,1833,0.0048,-151.9945,1.76,2,0.66,2,7.81,2,0.04,2,-999,9,-999,9,1.606,1,0.021,1,4.648,1,152.7,2
33RR20180918, GP15,29,3,26,GSNIS-27   ,2,6891,14800,20181108,1818,0.0061,-151.9942,4438,97.4,27.093,35.3769,2,27.0891,2,20181108,1836,0.0053,-151.9944,0.88,2,0.57,2,5.16,2,0.81,2,176.92,2,35.3735,2,1.45,1,0.028,1,4.635,1,177.6,2
33RR20180918, GP15,29,3,27,GSNIS-28   ,2,6891,14800,20181108,1818,0.0061,-151.9942,4438,96.8,27.0932,35.376,2,-999,9,20181108,1836,0.0053,-151.9944,0.98,2,0.57,2,5.13,2,0.81,2,-999,9,-999,9,1.447,1,0.028,1,4.634,1,177.7,2
33RR20180918, GP15,29,3,28,GSNIS-29   ,2,6891,14800,20181108,1818,0.0061,-151.9942,4438,97.1,27.0943,35.376,2,-999,9,20181108,1836,0.0053,-151.9944,0.98,2,0.58,2,5.16,2,0.8,2,-999,9,-999,9,1.443,1,0.028,1,4.634,1,177.5,2
33RR20180918, GP15,29,3,29,GSNIS-30   ,2,6891,14799,20181108,1818,0.0061,-151.9942,4438,76.8,27.3905,35.2469,2,27.3931,2,20181108,1837,0.0055,-151.9944,0.78,2,0.48,2,4.08,2,0.41,2,192.65,2,35.2454,2,1.404,1,0.042,1,4.604,1,192,2
33RR20180918, GP15,29,3,30,GSNIS-31   ,2,6891,14799,20181108,1818,0.0061,-151.9942,4438,76.8,27.3925,35.2464,2,-999,9,20181108,1838,0.0055,-151.9944,0.78,2,0.48,2,4.07,2,0.41,2,-999,9,-999,9,1.402,1,0.042,1,4.605,1,191.4,2
33RR20180918, GP15,29,3,31,GSNIS-32   ,2,6891,14799,20181108,1818,0.0061,-151.9942,4438,77,27.3898,35.2466,2,-999,9,20181108,1838,0.0055,-151.9944,0.88,2,0.48,2,4.07,2,0.41,2,-999,9,-999,9,1.401,1,0.041,1,4.602,1,191.5,2
33RR20180918, GP15,29,3,32,GSNIS-33   ,2,6891,14798,20181108,1818,0.0061,-151.9942,4438,50.5,27.4122,35.2409,2,27.4161,2,20181108,1840,0.0058,-151.9943,0.88,2,0.47,2,4.06,2,0.35,2,194.91,2,35.2398,2,1.331,1,0.043,1,4.594,1,193.4,2
33RR20180918, GP15,29,3,33,GSNIS-34   ,2,6891,14798,20181108,1818,0.0061,-151.9942,4438,51.6,27.4167,35.241,2,-999,9,20181108,1840,0.0058,-151.9943,0.88,2,0.47,2,4.06,2,0.35,2,-999,9,-999,9,1.329,1,0.043,1,4.591,1,191.9,2
33RR20180918, GP15,29,3,34,GSNIS-35   ,2,6891,14797,20181108,1818,0.0061,-151.9942,4438,26.3,27.433,35.2396,2,27.4329,2,20181108,1842,0.0061,-151.9942,0.88,2,0.46,2,4.06,2,0.33,2,195.84,2,35.2389,2,1.318,1,0.037,1,4.585,1,194.3,2
33RR20180918, GP15,29,3,35,GSNIS-36   ,2,6891,14797,20181108,1818,0.0061,-151.9942,4438,26,27.4323,35.2398,2,-999,9,20181108,1842,0.0061,-151.9942,0.88,2,0.47,2,4.06,2,0.33,2,-999,9,-999,9,1.317,1,0.039,1,4.584,1,194.7,2
33RR20180918, GP15,29,3,36,GSNIS-1    ,2,6891,14797,20181108,1818,0.0061,-151.9942,4438,26.4,27.4331,35.2398,2,-999,9,20181108,1842,0.0061,-151.9942,0.88,2,0.47,2,4.06,2,0.33,2,-999,9,-999,9,1.318,1,0.038,1,4.586,1,192.6,2
33RR20180918, GP15,29,5,1,GSNIS-2    ,2,6895,14869,20181109,112,0.0023,-151.9987,4438,351.7,10.4696,34.752,2,10.451,2,20181109,112,-0.0001,-151.9997,28.54,2,2.36,2,33.68,2,0,2,33.43,2,34.7537,2,2.542,1,0.017,1,4.65,1,33.4,2
33RR20180918, GP15,29,5,2,GSNIS-3    ,2,6895,14869,20181109,112,0.0023,-151.9987,4438,352.5,10.4458,34.7518,2,-999,9,20181109,112,-0.0001,-151.9997,28.54,2,2.36,2,33.64,2,0,2,-999,9,-999,9,2.547,1,0.017,1,4.65,1,32.6,2
33RR20180918, GP15,29,5,3,GSNIS-4    ,2,6895,14869,20181109,112,0.0023,-151.9987,4438,352.1,10.4512,34.7518,2,-999,9,20181109,112,-0.0001,-151.9997,28.54,2,2.36,2,33.6,2,0,2,-999,9,-999,9,2.552,1,0.018,1,4.65,1,31.8,2
33RR20180918, GP15,29,5,4,GSNIS-5    ,2,6895,14868,20181109,112,0.0023,-151.9987,4438,251.7,12.4419,34.8717,2,12.443,2,20181109,115,0.0001,-151.9996,17.5,2,1.67,2,23.59,2,0,2,100.67,2,34.8751,2,2.723,1,0.017,1,4.657,1,104.8,2
33RR20180918, GP15,29,5,5,GSNIS-6    ,2,6895,14868,20181109,112,0.0023,-151.9987,4438,251.8,12.4438,34.8716,2,-999,9,20181109,115,0.0001,-151.9996,17.5,2,1.68,2,23.59,2,0,2,-999,9,-999,9,2.724,1,0.017,1,4.658,1,106.1,2
33RR20180918, GP15,29,5,6,GSNIS-7    ,2,6895,14868,20181109,112,0.0023,-151.9987,4438,251,12.4432,34.8718,2,-999,9,20181109,115,0.0002,-151.9996,17.2,2,1.67,2,23.36,2,0,2,-999,9,-999,9,2.725,1,0.017,1,4.658,1,105.5,2
33RR20180918, GP15,29,5,7,GSNIS-8    ,2,6895,14867,20181109,112,0.0023,-151.9987,4438,201,13.6236,34.9743,2,13.6306,2,20181109,117,0.0003,-151.9995,12.71,2,1.42,2,19.42,2,0,2,123.98,2,34.9819,2,2.696,1,0.017,1,4.66,1,125.9,2
33RR20180918, GP15,29,5,8,GSNIS-9    ,2,6895,14867,20181109,112,0.0023,-151.9987,4438,201.4,13.6144,34.9732,2,-999,9,20181109,118,0.0003,-151.9995,12.61,2,1.42,2,19.36,2,0,2,-999,9,-999,9,2.696,1,0.017,1,4.66,1,129.5,2
33RR20180918, GP15,29,5,9,GSNIS-10   ,2,6895,14867,20181109,112,0.0023,-151.9987,4438,200.3,13.636,34.9762,2,-999,9,20181109,118,0.0004,-151.9995,12.61,2,1.41,2,19.33,2,0,2,-999,9,-999,9,2.695,1,0.017,1,4.66,1,129.8,2
33RR20180918, GP15,29,5,10,GSNIS-11   ,2,6895,14866,20181109,112,0.0023,-151.9987,4438,175.1,15.6072,35.0026,2,15.7267,2,20181109,119,0.0005,-151.9994,10.56,2,1.16,2,15.63,2,0,2,130.81,2,35.0246,3,2.665,1,0.017,1,4.66,1,129.1,2
33RR20180918, GP15,29,5,11,GSNIS-12   ,2,6895,14866,20181109,112,0.0023,-151.9987,4438,173.8,15.7296,35.0148,2,-999,9,20181109,119,0.0005,-151.9994,10.16,2,1.15,2,15.48,2,0,2,-999,9,-999,9,2.658,1,0.017,1,4.66,1,128.9,2
33RR20180918, GP15,29,5,12,GSNIS-13   ,2,6895,14865,20181109,112,0.0023,-151.9987,4438,154.8,18.3469,35.3144,2,18.3486,2,20181109,121,0.0006,-151.9994,5.28,2,1.03,2,13.16,2,0,2,128.13,2,35.3183,2,1.977,1,0.018,1,4.659,1,126.3,2
33RR20180918, GP15,29,5,13,GSNIS-14   ,2,6895,14865,20181109,112,0.0023,-151.9987,4438,154.9,18.3437,35.3134,2,-999,9,20181109,121,0.0006,-151.9994,5.37,2,1.02,2,13.15,2,0,2,-999,9,-999,9,1.969,1,0.017,1,4.66,1,123.8,2
33RR20180918, GP15,29,5,14,GSNIS-15   ,2,6895,14865,20181109,112,0.0023,-151.9987,4438,154,18.3584,35.3148,2,-999,9,20181109,121,0.0006,-151.9993,5.28,2,1.03,2,13.14,2,0,2,-999,9,-999,9,1.962,1,0.018,1,4.659,1,124.6,2
33RR20180918, GP15,29,5,15,GSNIS-16   ,2,6895,14865,20181109,112,0.0023,-151.9987,4438,155,18.3221,35.3136,2,-999,9,20181109,121,0.0007,-151.9993,5.28,2,1.02,2,13.16,2,0,2,-999,9,-999,9,1.957,1,0.017,1,4.659,1,123.6,2
33RR20180918, GP15,29,5,16,GSNIS-17   ,2,6895,14864,20181109,112,0.0023,-151.9987,4438,129.9,21.2448,35.2627,2,21.2404,2,20181109,123,0.0008,-151.9993,4.2,2,0.83,2,10.67,2,0.02,2,130.07,2,35.2475,3,1.845,1,0.018,1,4.655,1,126.1,2
33RR20180918, GP15,29,5,17,GSNIS-18   ,2,6895,14864,20181109,112,0.0023,-151.9987,4438,130.5,21.2373,35.2781,2,-999,9,20181109,123,0.0008,-151.9993,4.2,2,0.82,2,10.68,2,0.02,2,-999,9,-999,9,1.834,1,0.018,1,4.654,1,131,2
33RR20180918, GP15,29,5,18,GSNIS-19   ,2,6895,14864,20181109,112,0.0023,-151.9987,4438,130.3,21.2494,35.2537,2,-999,9,20181109,123,0.0008,-151.9993,4.01,2,0.82,2,10.72,2,0.02,2,-999,9,-999,9,1.825,1,0.018,1,4.655,1,131.3,2
33RR20180918, GP15,29,5,19,GSNIS-20   ,2,6895,14863,20181109,112,0.0023,-151.9987,4438,116.1,25.4906,35.5812,2,25.5147,3,20181109,124,0.0009,-151.9992,1.07,2,0.7,2,8.24,2,0.05,2,145.78,2,35.5385,3,1.668,1,0.02,1,4.645,1,145.9,2
33RR20180918, GP15,29,5,20,GSNIS-21   ,2,6895,14863,20181109,112,0.0023,-151.9987,4438,115.9,25.5351,35.5746,2,-999,9,20181109,124,0.0009,-151.9992,1.17,2,0.71,2,8.3,2,0.05,2,-999,9,-999,9,1.67,1,0.02,1,4.646,1,147.9,2
33RR20180918, GP15,29,5,21,GSNIS-22   ,2,6895,14863,20181109,112,0.0023,-151.9987,4438,116.2,25.4361,35.5755,2,-999,9,20181109,124,0.0009,-151.9992,1.17,2,0.71,2,8.37,2,0.05,2,-999,9,-999,9,1.669,1,0.02,1,4.646,1,147.8,2
33RR20180918, GP15,29,5,22,GSNIS-23   ,2,6895,14862,20181109,112,0.0023,-151.9987,4438,98.3,26.9708,35.4229,2,26.9761,2,20181109,127,0.0012,-151.9992,0.78,2,0.62,2,5.98,2,0.63,2,170.67,2,35.416,2,1.634,1,0.026,1,4.636,1,173,2
33RR20180918, GP15,29,5,23,GSNIS-24   ,2,6895,14862,20181109,112,0.0023,-151.9987,4438,98,26.9857,35.4174,2,-999,9,20181109,127,0.0012,-151.9992,0.78,2,0.62,2,5.98,2,0.62,2,-999,9,-999,9,1.626,1,0.026,1,4.636,1,169.6,2
33RR20180918, GP15,29,5,24,GSNIS-25   ,2,6895,14861,20181109,112,0.0023,-151.9987,4438,85.8,27.2154,35.3386,2,27.218,2,20181109,129,0.0014,-151.9991,0.68,2,0.56,2,4.74,2,0.77,2,182.72,2,35.3346,2,1.471,1,0.037,1,4.622,1,184.2,2
33RR20180918, GP15,29,5,25,GSNIS-26   ,2,6895,14861,20181109,112,0.0023,-151.9987,4438,86.5,27.2104,35.3415,2,-999,9,20181109,129,0.0014,-151.9991,0.68,2,0.55,2,4.72,2,0.77,2,-999,9,-999,9,1.467,1,0.034,1,4.622,1,185.4,2
33RR20180918, GP15,29,5,26,GSNIS-27   ,2,6895,14860,20181109,112,0.0023,-151.9987,4438,75.9,27.3889,35.2509,2,27.3924,2,20181109,130,0.0015,-151.999,0.68,2,0.51,2,4.23,2,0.48,2,191.67,2,35.2607,2,1.411,1,0.049,1,4.595,1,192.1,2
33RR20180918, GP15,29,5,27,GSNIS-28   ,2,6895,14860,20181109,112,0.0023,-151.9987,4438,76.1,27.3891,35.2506,2,-999,9,20181109,130,0.0015,-151.999,0.68,2,0.5,2,4.23,2,0.47,2,-999,9,-999,9,1.407,1,0.05,1,4.598,1,192.1,2
33RR20180918, GP15,29,5,28,GSNIS-29   ,2,6895,14860,20181109,112,0.0023,-151.9987,4438,75.8,27.3889,35.2506,2,-999,9,20181109,130,0.0015,-151.999,0.59,2,0.51,2,4.21,2,0.47,2,-999,9,-999,9,1.404,1,0.05,1,4.597,1,191.5,2
33RR20180918, GP15,29,5,29,GSNIS-30   ,2,6895,14859,20181109,112,0.0023,-151.9987,4438,55.7,27.4179,35.2414,2,27.4178,2,20181109,132,0.0017,-151.9989,-999,9,-999,9,-999,9,-999,9,194.77,2,35.2426,2,1.334,1,0.053,1,4.577,1,192.7,2
33RR20180918, GP15,29,5,30,GSNIS-31   ,2,6895,14859,20181109,112,0.0023,-151.9987,4438,56.1,27.4179,35.2415,2,-999,9,20181109,132,0.0017,-151.9989,0.68,2,0.49,2,4.11,2,0.36,2,-999,9,-999,9,1.332,1,0.053,1,4.577,1,191.9,2
33RR20180918, GP15,29,5,31,GSNIS-32   ,2,6895,14859,20181109,112,0.0023,-151.9987,4438,55.9,27.4179,35.2416,2,-999,9,20181109,132,0.0017,-151.9989,0.59,2,0.48,2,4.09,2,0.36,2,-999,9,-999,9,1.331,1,0.053,1,4.577,1,193.1,2
33RR20180918, GP15,29,5,32,GSNIS-33   ,2,6895,14858,20181109,112,0.0023,-151.9987,4438,25.2,27.4794,35.2416,2,27.481,2,20181109,134,0.002,-151.9988,0.68,2,0.47,2,4.06,2,0.33,2,196.71,2,35.2436,2,1.304,1,0.039,1,4.557,1,193.9,2
33RR20180918, GP15,29,5,33,GSNIS-34   ,2,6895,14858,20181109,112,0.0023,-151.9987,4438,26.2,27.4787,35.2415,2,-999,9,20181109,135,0.002,-151.9988,0.68,2,0.47,2,4.06,2,0.33,2,-999,9,-999,9,1.304,1,0.039,1,4.558,1,193.2,2
33RR20180918, GP15,29,5,34,GSNIS-35   ,2,6895,14858,20181109,112,0.0023,-151.9987,4438,25.5,27.4818,35.2415,2,-999,9,20181109,135,0.002,-151.9988,0.68,2,0.47,2,4.07,2,0.33,2,-999,9,-999,9,1.303,1,0.039,1,4.559,1,195.4,2
33RR20180918, GP15,29,5,35,GSNIS-36   ,2,6895,14858,20181109,112,0.0023,-151.9987,4438,26.1,27.4793,35.2418,2,-999,9,20181109,135,0.002,-151.9988,0.59,2,0.46,2,4.07,2,0.33,2,-999,9,-999,9,1.304,1,0.041,1,4.559,1,192.7,2
33RR20180918, GP15,29,5,36,GSNIS-1    ,2,6895,14857,20181109,112,0.0023,-151.9987,4438,2.7,27.5629,35.2437,2,27.5621,2,20181109,137,0.0023,-151.9987,0.68,2,0.46,2,4.07,2,0.33,2,196.99,2,35.244,2,1.304,1,0.032,1,4.562,1,195.7,2