BOTTLE,20191212SIOCCHAMB
EXPOCODE,SECT_ID,STNNBR,CASTNO,SAMPNO,BTLNBR,BTLNBR_FLAG_W,GEOTRC_EVENTNO,GEOTRC_SAMPNO,DATE,TIME,LATITUDE,LONGITUDE,DEPTH,CTDPRS,CTDTMP,CTDSAL,CTDSAL_FLAG_W,REFTMP,REFTMP_FLAG_W,BTL_DATE,BTL_TIME,BTL_LAT,BTL_LON,SILCAT,SILCAT_FLAG_W,PHSPHT,PHSPHT_FLAG_W,NITRAT,NITRAT_FLAG_W,NITRIT,NITRIT_FLAG_W,OXYGEN,OXYGEN_FLAG_W,SALNTY,SALNTY_FLAG_W,CTDRINKO,CTDRINKO_FLAG_W,CTDFLUOR,CTDFLUOR_FLAG_W,CTDXMISS,CTDXMISS_FLAG_W,CTDOXY,CTDOXY_FLAG_W
,,,,,,,,,,,,,METERS,DBAR,ITS-90,PSS-78,,ITS-90,,,,,,UMOL/KG,,UMOL/KG,,UMOL/KG,,UMOL/KG,,UMOL/KG,,PSS-78,,VOLTS,,VOLTS,,VOLTS,,UMOL/KG,
33RR20180918, GP15,35,13,1,GSNIS-2    ,2,6972,15471,20181117,1613,-10.5003,-152.0002,5224,5182.3,1.3289,34.7039,2,1.3291,2,20181117,1613,-10.5,-152.0003,120.62,2,2.23,2,32.7,2,0,2,193.29,2,34.704,2,2.086,1,0.017,1,4.676,1,193.5,2
33RR20180918, GP15,35,13,2,GSNIS-3    ,2,6972,15471,20181117,1613,-10.5003,-152.0002,5224,5183.1,1.329,34.704,2,-999,9,20181117,1613,-10.5,-152.0003,120.62,2,2.22,2,32.69,2,0,2,-999,9,-999,9,2.087,1,0.017,1,4.675,1,193.4,2
33RR20180918, GP15,35,13,3,GSNIS-4    ,2,6972,15471,20181117,1613,-10.5003,-152.0002,5224,5182.1,1.329,34.7039,2,-999,9,20181117,1614,-10.5,-152.0003,120.71,2,2.22,2,32.76,2,0,2,-999,9,-999,9,2.086,1,0.017,1,4.676,1,193,2
33RR20180918, GP15,35,13,4,GSNIS-5    ,2,6972,15470,20181117,1613,-10.5003,-152.0002,5224,5141.5,1.3263,34.7038,2,1.3264,2,20181117,1616,-10.5,-152.0003,121.01,2,2.23,2,32.74,2,0,2,193.73,2,34.7042,2,2.084,1,0.016,1,4.676,1,193.5,2
33RR20180918, GP15,35,13,5,GSNIS-6    ,2,6972,15470,20181117,1613,-10.5003,-152.0002,5224,5141.1,1.3264,34.7038,2,-999,9,20181117,1616,-10.5,-152.0003,120.62,2,2.23,2,32.71,2,0,2,-999,9,-999,9,2.083,1,0.017,1,4.676,1,192.9,2
33RR20180918, GP15,35,13,6,GSNIS-7    ,2,6972,15470,20181117,1613,-10.5003,-152.0002,5224,5141.4,1.3262,34.7038,2,-999,9,20181117,1616,-10.5,-152.0003,120.91,2,2.23,2,32.74,2,0,2,-999,9,-999,9,2.083,1,0.017,1,4.676,1,192.8,2
33RR20180918, GP15,35,13,7,GSNIS-8    ,2,6972,15470,20181117,1613,-10.5003,-152.0002,5224,5140.3,1.3263,34.7037,2,1.3264,2,20181117,1616,-10.5,-152.0003,120.52,2,2.23,2,32.76,2,0,2,-999,9,-999,9,2.083,1,0.017,1,4.676,1,193,2
33RR20180918, GP15,35,13,8,GSNIS-9    ,2,6972,15469,20181117,1613,-10.5003,-152.0002,5224,5058.8,1.3225,34.7034,2,1.3226,2,20181117,1618,-10.5,-152.0003,120.71,2,2.23,2,32.79,2,0,2,192.73,2,34.7042,2,2.078,1,0.017,1,4.676,1,192.5,2
33RR20180918, GP15,35,13,9,GSNIS-10   ,2,6972,15469,20181117,1613,-10.5003,-152.0002,5224,5057.9,1.3225,34.7035,2,-999,9,20181117,1619,-10.5,-152.0003,122.28,2,2.23,2,32.87,2,0,2,-999,9,-999,9,2.078,1,0.017,1,4.675,1,192.4,2
33RR20180918, GP15,35,13,10,GSNIS-11   ,2,6972,15469,20181117,1613,-10.5003,-152.0002,5224,5059,1.3226,34.7035,2,-999,9,20181117,1619,-10.5,-152.0003,122.08,2,2.25,2,32.77,2,0,2,-999,9,-999,9,2.08,1,0.017,1,4.676,1,192.7,2
33RR20180918, GP15,35,13,11,GSNIS-12   ,2,6972,15468,20181117,1613,-10.5003,-152.0002,5224,4832.2,1.3088,34.703,2,1.3089,2,20181117,1624,-10.5,-152.0004,122.28,2,2.25,2,32.89,2,0,2,191.59,2,34.7038,2,2.08,1,0.017,1,4.676,1,191.3,2
33RR20180918, GP15,35,13,12,GSNIS-13   ,2,6972,15468,20181117,1613,-10.5003,-152.0002,5224,4830.9,1.3087,34.7029,2,-999,9,20181117,1624,-10.5,-152.0004,122.37,2,2.25,2,32.85,2,0,2,-999,9,-999,9,2.076,1,0.017,1,4.675,1,191.4,2
33RR20180918, GP15,35,13,13,GSNIS-14   ,2,6972,15468,20181117,1613,-10.5003,-152.0002,5224,4831.6,1.309,34.7029,2,-999,9,20181117,1624,-10.5,-152.0003,122.47,2,2.24,2,32.88,2,0,2,-999,9,-999,9,2.077,1,0.017,1,4.676,1,191.6,2
33RR20180918, GP15,35,13,14,GSNIS-15   ,2,6972,15468,20181117,1613,-10.5003,-152.0002,5224,4831.7,1.309,34.703,2,-999,9,20181117,1624,-10.5,-152.0004,122.47,2,2.24,2,32.85,2,0,2,-999,9,-999,9,2.078,1,0.017,1,4.675,1,191.5,2
33RR20180918, GP15,35,13,15,GSNIS-16   ,2,6972,15467,20181117,1613,-10.5003,-152.0002,5224,4575.6,1.3358,34.7005,2,1.3361,2,20181117,1629,-10.5,-152.0003,124.72,2,2.29,2,33.28,2,0,2,186.63,2,34.7015,2,2.076,1,0.017,1,4.676,1,186.8,2
33RR20180918, GP15,35,13,16,GSNIS-17   ,2,6972,15467,20181117,1613,-10.5003,-152.0002,5224,4575.4,1.3358,34.7004,2,-999,9,20181117,1629,-10.5,-152.0003,124.72,2,2.28,2,33.26,2,0,2,-999,9,-999,9,2.076,1,0.017,1,4.676,1,186.3,2
33RR20180918, GP15,35,13,17,GSNIS-18   ,2,6972,15467,20181117,1613,-10.5003,-152.0002,5224,4576.1,1.3362,34.7004,2,-999,9,20181117,1630,-10.5,-152.0003,124.53,2,2.29,2,33.19,2,0,2,-999,9,-999,9,2.076,1,0.017,1,4.676,1,186.6,2
33RR20180918, GP15,35,13,18,GSNIS-19   ,2,6972,15466,20181117,1613,-10.5003,-152.0002,5224,4318.2,1.3683,34.6976,2,1.3683,2,20181117,1635,-10.5,-152.0004,127.65,2,2.33,2,33.7,2,0,2,181.13,2,34.6989,2,2.09,1,0.017,1,4.676,1,181,2
33RR20180918, GP15,35,13,19,GSNIS-20   ,2,6972,15466,20181117,1613,-10.5003,-152.0002,5224,4317.5,1.3684,34.6977,2,-999,9,20181117,1635,-10.5,-152.0004,127.07,2,2.33,2,33.62,2,0,2,-999,9,-999,9,2.09,1,0.017,1,4.676,1,181,2
33RR20180918, GP15,35,13,20,GSNIS-21   ,2,6972,15465,20181117,1613,-10.5003,-152.0002,5224,4062.3,1.4128,34.6944,2,1.4128,2,20181117,1641,-10.5,-152.0003,129.02,2,2.35,2,34.01,2,0,2,175.54,2,34.6948,2,2.109,1,0.017,1,4.676,1,175.1,2
33RR20180918, GP15,35,13,21,GSNIS-22   ,2,6972,15465,20181117,1613,-10.5003,-152.0002,5224,4061.9,1.4129,34.6944,2,-999,9,20181117,1641,-10.5,-152.0003,129.22,2,2.35,2,34.03,2,0,2,-999,9,-999,9,2.108,1,0.017,1,4.676,1,174.8,2
33RR20180918, GP15,35,13,22,GSNIS-23   ,2,6972,15465,20181117,1613,-10.5003,-152.0002,5224,4062.5,1.4128,34.6945,2,-999,9,20181117,1641,-10.5,-152.0003,129.22,2,2.34,2,34.02,2,0,2,-999,9,-999,9,2.109,1,0.017,1,4.676,1,174.8,2
33RR20180918, GP15,35,13,23,GSNIS-24   ,2,6972,15465,20181117,1613,-10.5003,-152.0002,5224,4061.9,1.4128,34.6944,2,-999,9,20181117,1641,-10.5,-152.0003,129.32,2,2.34,2,33.99,2,0,2,-999,9,-999,9,2.109,1,0.017,1,4.676,1,174.8,2
33RR20180918, GP15,35,13,24,GSNIS-25   ,2,6972,15464,20181117,1613,-10.5003,-152.0002,5224,3858.6,1.4673,34.6909,2,1.4671,2,20181117,1645,-10.5003,-152.0002,130.68,2,2.36,2,34.36,2,0,2,170.07,2,34.691,2,2.121,1,0.017,1,4.676,1,170.3,2
33RR20180918, GP15,35,13,25,GSNIS-26   ,2,6972,15464,20181117,1613,-10.5003,-152.0002,5224,3857,1.467,34.6909,2,-999,9,20181117,1646,-10.5003,-152.0002,130.98,2,2.37,2,34.42,2,0,2,-999,9,-999,9,2.12,1,0.017,1,4.676,1,170.2,2
33RR20180918, GP15,35,13,26,GSNIS-27   ,2,6972,15463,20181117,1613,-10.5003,-152.0002,5224,3652.3,1.5096,34.6882,2,1.5096,2,20181117,1650,-10.5003,-152.0002,130.29,2,2.38,2,34.56,2,0,2,167.33,2,34.6877,2,2.137,1,0.017,1,4.676,1,167.3,2
33RR20180918, GP15,35,13,27,GSNIS-28   ,2,6972,15463,20181117,1613,-10.5003,-152.0002,5224,3653,1.5098,34.688,2,-999,9,20181117,1650,-10.5003,-152.0002,130.59,2,2.38,2,34.57,2,0,2,-999,9,-999,9,2.138,1,0.017,1,4.676,1,167.1,2
33RR20180918, GP15,35,13,28,GSNIS-29   ,2,6972,15463,20181117,1613,-10.5003,-152.0002,5224,3653,1.5097,34.6882,2,-999,9,20181117,1650,-10.5003,-152.0002,130.59,2,2.38,2,34.56,2,0,2,-999,9,-999,9,2.138,1,0.017,1,4.676,1,167.3,2
33RR20180918, GP15,35,13,29,GSNIS-30   ,2,6972,15462,20181117,1613,-10.5003,-152.0002,5224,3447.4,1.5734,34.6846,2,1.5736,2,20181117,1655,-10.5003,-152.0002,132.25,2,2.41,2,35.03,2,0,2,161.43,2,34.684,2,2.149,1,0.017,1,4.676,1,161.4,2
33RR20180918, GP15,35,13,30,GSNIS-31   ,2,6972,15462,20181117,1613,-10.5003,-152.0002,5224,3448.7,1.5738,34.6846,2,-999,9,20181117,1655,-10.5003,-152.0002,132.84,2,2.41,2,35.01,2,0,2,-999,9,-999,9,2.15,1,0.016,1,4.676,1,161.5,2
33RR20180918, GP15,35,13,31,GSNIS-32   ,2,6972,15461,20181117,1613,-10.5003,-152.0002,5224,3244.1,1.6183,34.6819,2,1.6183,2,20181117,1700,-10.5003,-152.0002,134.5,2,2.44,2,35.36,2,0,2,156.66,2,34.6834,2,2.168,1,0.017,1,4.676,1,156.6,2
33RR20180918, GP15,35,13,32,GSNIS-33   ,2,6972,15461,20181117,1613,-10.5003,-152.0002,5224,3244.7,1.6185,34.6819,2,-999,9,20181117,1700,-10.5003,-152.0002,134.4,2,2.42,2,35.39,2,0,2,-999,9,-999,9,2.169,1,0.015,1,4.676,1,156.5,2
33RR20180918, GP15,35,13,33,GSNIS-34   ,2,6972,15461,20181117,1613,-10.5003,-152.0002,5224,3243.9,1.6182,34.6818,2,-999,9,20181117,1700,-10.5003,-152.0002,134.11,2,2.43,2,35.4,2,0,2,-999,9,-999,9,2.169,1,0.017,1,4.676,1,156.6,2
33RR20180918, GP15,35,13,34,GSNIS-35   ,2,6972,15461,20181117,1613,-10.5003,-152.0002,5224,3244.7,1.6186,34.6819,2,-999,9,20181117,1700,-10.5003,-152.0002,134.3,2,2.41,2,35.4,2,0,2,-999,9,-999,9,2.17,1,0.017,1,4.676,1,156.5,2
33RR20180918, GP15,35,13,35,GSNIS-36   ,2,6972,15460,20181117,1613,-10.5003,-152.0002,5224,3041.2,1.6684,34.6785,2,1.6682,2,20181117,1705,-10.5003,-152.0002,134.6,2,2.41,2,35.54,2,0,2,153.21,2,34.6789,2,2.188,1,0.017,1,4.676,1,152.7,2
33RR20180918, GP15,35,13,36,GSNIS-1    ,2,6972,15460,20181117,1613,-10.5003,-152.0002,5224,3040.3,1.6684,34.6786,2,-999,9,20181117,1705,-10.5003,-152.0002,134.01,2,2.39,2,35.58,2,0,2,-999,9,-999,9,2.188,1,0.017,1,4.676,1,152.7,2
33RR20180918, GP15,36,3,1,GSNIS-2    ,2,6978,15486,20181118,812,-12.7503,-152.0001,5055,1007.6,4.3465,34.5192,2,4.348,2,20181118,812,-12.7503,-152.0001,70.87,2,2.58,2,37.4,2,0,2,114.51,2,34.5207,2,2.221,1,0.017,1,4.672,1,114.3,2
33RR20180918, GP15,36,3,2,GSNIS-3    ,2,6978,15486,20181118,812,-12.7503,-152.0001,5055,1007.1,4.3482,34.5191,2,-999,9,20181118,812,-12.7503,-152.0001,70.67,2,2.59,2,37.38,2,0,2,-999,9,-999,9,2.221,1,0.017,1,4.672,1,115.6,2
33RR20180918, GP15,36,3,3,GSNIS-4    ,2,6978,15486,20181118,812,-12.7503,-152.0001,5055,1007,4.3505,34.5189,2,-999,9,20181118,812,-12.7503,-152.0001,70.67,2,2.59,2,37.38,2,0,2,-999,9,-999,9,2.223,1,0.017,1,4.672,1,115.3,2
33RR20180918, GP15,36,3,4,GSNIS-5    ,2,6978,15485,20181118,812,-12.7503,-152.0001,5055,807.7,5.2875,34.496,2,5.2869,2,20181118,817,-12.7503,-152.0001,52.49,2,2.44,2,35.46,2,0,2,121.88,2,34.4974,2,2.223,1,0.017,1,4.671,1,122.2,2
33RR20180918, GP15,36,3,5,GSNIS-6    ,2,6978,15485,20181118,812,-12.7503,-152.0001,5055,806.8,5.2787,34.4964,2,-999,9,20181118,817,-12.7503,-152.0001,52.2,2,2.43,2,35.4,2,0,2,-999,9,-999,9,2.223,1,0.017,1,4.671,1,122.6,2
33RR20180918, GP15,36,3,6,GSNIS-7    ,2,6978,15484,20181118,812,-12.7503,-152.0001,5055,656,6.0732,34.4913,2,6.0643,2,20181118,821,-12.7503,-152.0001,39.78,2,2.24,2,33.06,2,0,2,132.7,2,34.4934,2,2.176,1,0.017,1,4.67,1,132.8,2
33RR20180918, GP15,36,3,7,GSNIS-8    ,2,6978,15484,20181118,812,-12.7503,-152.0001,5055,655.7,6.0663,34.4923,2,-999,9,20181118,821,-12.7503,-152.0001,39.59,2,2.23,2,32.95,2,0,2,-999,9,-999,9,2.172,1,0.017,1,4.669,1,133.1,2
33RR20180918, GP15,36,3,8,GSNIS-9    ,2,6978,15483,20181118,812,-12.7503,-152.0001,5055,504.5,7.7558,34.5458,2,7.7596,2,20181118,825,-12.7503,-152.0001,25.8,2,2.03,2,29.7,2,0,2,128.28,2,34.5478,2,2.076,1,0.016,1,4.668,1,127.5,2
33RR20180918, GP15,36,3,9,GSNIS-10   ,2,6978,15483,20181118,812,-12.7503,-152.0001,5055,504.7,7.7572,34.546,2,-999,9,20181118,825,-12.7503,-152.0001,25.71,2,2.03,2,29.7,2,0,2,-999,9,-999,9,2.075,1,0.016,1,4.667,1,126.9,2
33RR20180918, GP15,36,3,10,GSNIS-11   ,2,6978,15483,20181118,812,-12.7503,-152.0001,5055,503.9,7.7579,34.5461,2,-999,9,20181118,825,-12.7503,-152.0001,25.61,2,2.02,2,29.62,2,0,2,-999,9,-999,9,2.073,1,0.017,1,4.667,1,126.9,2
33RR20180918, GP15,36,3,11,GSNIS-12   ,2,6978,15482,20181118,812,-12.7503,-152.0001,5055,404,9.6451,34.6328,2,9.6604,2,20181118,828,-12.7503,-152.0001,19.35,2,1.97,2,27.55,2,0,2,98.63,2,34.6343,2,2.036,1,0.015,1,4.665,1,99,2
33RR20180918, GP15,36,3,12,GSNIS-13   ,2,6978,15482,20181118,812,-12.7503,-152.0001,5055,403.1,9.6743,34.6327,2,-999,9,20181118,828,-12.7503,-152.0001,19.35,2,1.97,2,27.55,2,0,2,-999,9,-999,9,2.034,1,0.017,1,4.665,1,99.2,2
33RR20180918, GP15,36,3,13,GSNIS-14   ,2,6978,15482,20181118,812,-12.7503,-152.0001,5055,403.5,9.6572,34.632,2,-999,9,20181118,828,-12.7503,-152.0001,19.35,2,1.96,2,27.6,2,0,2,-999,9,-999,9,2.033,1,0.017,1,4.665,1,99.7,2
33RR20180918, GP15,36,3,14,GSNIS-15   ,2,6978,15481,20181118,812,-12.7503,-152.0001,5055,353.3,11.6461,34.711,2,11.671,2,20181118,830,-12.7503,-152.0001,11.53,2,1.66,2,21.54,2,0,2,107.74,2,34.7117,2,2.015,1,0.017,1,4.664,1,107.4,2
33RR20180918, GP15,36,3,15,GSNIS-16   ,2,6978,15481,20181118,812,-12.7503,-152.0001,5055,352.7,11.6621,34.7102,2,-999,9,20181118,830,-12.7503,-152.0001,11.34,2,1.64,2,21.41,2,0,2,-999,9,-999,9,2.013,1,0.016,1,4.664,1,107.4,2
33RR20180918, GP15,36,3,16,GSNIS-17   ,2,6978,15481,20181118,812,-12.7503,-152.0001,5055,352.7,11.6695,34.7116,2,-999,9,20181118,830,-12.7503,-152.0001,11.24,2,1.62,2,21.45,2,0,2,-999,9,-999,9,2.011,1,0.016,1,4.664,1,106.9,2
33RR20180918, GP15,36,3,17,GSNIS-18   ,2,6978,15480,20181118,812,-12.7503,-152.0001,5055,251.5,18.6564,35.5541,3,18.7071,3,20181118,833,-12.7503,-152.0001,0.68,2,0.56,2,6.21,2,0,2,172.14,2,35.5618,3,1.891,1,0.016,1,4.662,1,172.5,2
33RR20180918, GP15,36,3,18,GSNIS-19   ,2,6978,15480,20181118,812,-12.7503,-152.0001,5055,251.8,18.6955,35.5613,2,-999,9,20181118,833,-12.7503,-152.0001,0.68,2,0.55,2,6.2,2,0,2,-999,9,-999,9,1.887,1,0.017,1,4.662,1,171.2,2
33RR20180918, GP15,36,3,19,GSNIS-20   ,2,6978,15480,20181118,812,-12.7503,-152.0001,5055,252.1,18.7202,35.5624,2,-999,9,20181118,833,-12.7503,-152.0001,0.59,2,0.54,2,6.19,2,0,2,-999,9,-999,9,1.884,1,0.016,1,4.662,1,171.6,2
33RR20180918, GP15,36,3,20,GSNIS-21   ,2,6978,15479,20181118,812,-12.7503,-152.0001,5055,201.2,21.389,35.993,2,21.438,3,20181118,835,-12.7503,-152.0001,0.1,2,0.39,2,3.78,2,0.01,2,174.33,2,36.0048,3,1.806,1,0.018,1,4.656,1,174.1,2
33RR20180918, GP15,36,3,21,GSNIS-22   ,2,6978,15479,20181118,812,-12.7503,-152.0001,5055,202.2,21.4473,36.0011,2,-999,9,20181118,835,-12.7503,-152.0001,0.1,2,0.38,2,3.76,2,0.02,2,-999,9,-999,9,1.803,1,0.019,1,4.656,1,173.2,2
33RR20180918, GP15,36,3,22,GSNIS-23   ,2,6978,15479,20181118,812,-12.7503,-152.0001,5055,200.9,21.3925,35.9963,2,-999,9,20181118,835,-12.7503,-152.0001,0,2,0.39,2,3.74,2,0.01,2,-999,9,-999,9,1.801,1,0.019,1,4.656,1,174.2,2
33RR20180918, GP15,36,3,23,GSNIS-24   ,2,6978,15478,20181118,812,-12.7503,-152.0001,5055,151.5,24.4645,36.4261,2,24.4667,2,20181118,837,-12.7503,-152.0001,0,2,0.33,2,2.56,2,0.36,2,169.89,2,36.4152,2,1.655,1,0.028,1,4.64,1,169.6,2
33RR20180918, GP15,36,3,24,GSNIS-25   ,2,6978,15478,20181118,812,-12.7503,-152.0001,5055,151.3,24.4654,36.4262,2,-999,9,20181118,837,-12.7503,-152.0001,0,2,0.33,2,2.55,2,0.37,2,-999,9,-999,9,1.649,1,0.029,1,4.641,1,169.9,2
33RR20180918, GP15,36,3,25,GSNIS-26   ,2,6978,15478,20181118,812,-12.7503,-152.0001,5055,151,24.466,36.4265,2,-999,9,20181118,838,-12.7503,-152.0001,0,2,0.33,2,2.55,2,0.37,2,-999,9,-999,9,1.643,1,0.028,1,4.64,1,169.7,2
33RR20180918, GP15,36,3,26,GSNIS-27   ,2,6978,15477,20181118,812,-12.7503,-152.0001,5055,111.3,25.947,36.448,3,25.9753,3,20181118,839,-12.7503,-152.0001,0,2,0.24,2,0.39,2,0.74,2,182,2,36.4463,3,1.536,1,0.042,1,4.629,1,181.4,2
33RR20180918, GP15,36,3,27,GSNIS-28   ,2,6978,15477,20181118,812,-12.7503,-152.0001,5055,111.4,26.1069,36.4387,2,-999,9,20181118,840,-12.7503,-152.0001,0,2,0.21,2,0.41,2,0.75,2,-999,9,-999,9,1.533,1,0.045,1,4.627,1,182.7,2
33RR20180918, GP15,36,3,28,GSNIS-29   ,2,6978,15477,20181118,812,-12.7503,-152.0001,5055,111.2,25.9125,36.457,2,-999,9,20181118,840,-12.7503,-152.0001,0,2,0.21,2,0.4,2,0.74,2,-999,9,-999,9,1.528,1,0.047,1,4.628,1,181.3,2
33RR20180918, GP15,36,3,29,GSNIS-30   ,2,6978,15476,20181118,812,-12.7503,-152.0001,5055,61.2,27.2411,36.2463,2,27.2426,2,20181118,842,-12.7503,-152.0001,0.29,2,0.16,2,0.3,2,0.03,2,198.11,2,36.2521,2,1.457,1,0.051,1,4.599,1,198.8,2
33RR20180918, GP15,36,3,30,GSNIS-31   ,5,6978,15476,20181118,812,-12.7503,-152.0001,5055,60.8,27.2448,36.2464,3,-999,9,20181118,842,-12.7503,-152.0001,-999,9,-999,9,-999,9,-999,9,-999,9,-999,9,1.456,1,0.05,1,4.598,1,198,3
33RR20180918, GP15,36,3,31,GSNIS-32   ,2,6978,15476,20181118,812,-12.7503,-152.0001,5055,61.3,27.242,36.2464,2,-999,9,20181118,843,-12.7503,-152.0001,0.2,2,0.16,2,0.3,2,0.03,2,-999,9,-999,9,1.456,1,0.054,1,4.597,1,198.8,2
33RR20180918, GP15,36,3,32,GSNIS-33   ,2,6978,15475,20181118,812,-12.7503,-152.0001,5055,26.1,28.5142,36.2365,2,28.5024,2,20181118,845,-12.7503,-152.0001,0,2,0.11,2,0,2,0,2,197.54,2,36.2501,2,1.386,1,0.034,1,4.601,1,197.8,2
33RR20180918, GP15,36,3,33,GSNIS-34   ,2,6978,15475,20181118,812,-12.7503,-152.0001,5055,25.6,28.4951,36.2414,2,-999,9,20181118,845,-12.7503,-152.0001,0.1,2,0.11,2,0,2,0,2,-999,9,-999,9,1.383,1,0.032,1,4.602,1,198.7,2
33RR20180918, GP15,36,3,34,GSNIS-35   ,2,6978,15475,20181118,812,-12.7503,-152.0001,5055,25.9,28.4997,36.2398,2,-999,9,20181118,845,-12.7503,-152.0001,0.1,2,0.12,2,0.01,2,0,2,-999,9,-999,9,1.381,1,0.031,1,4.603,1,197.6,2
33RR20180918, GP15,36,3,35,GSNIS-36   ,2,6978,15474,20181118,812,-12.7503,-152.0001,5055,3.9,28.7955,36.2412,2,28.7981,2,20181118,847,-12.7503,-152.0001,0.1,2,0.12,2,0.02,2,0,2,196.13,2,36.2386,2,1.389,1,0.029,1,4.604,1,197.3,2
33RR20180918, GP15,36,3,36,GSNIS-1    ,2,6978,15474,20181118,812,-12.7503,-152.0001,5055,4,28.7966,36.2412,2,-999,9,20181118,847,-12.7503,-152.0001,0.1,2,0.13,2,0.02,2,0,2,-999,9,-999,9,1.391,1,0.028,1,4.605,1,197.9,2