BOTTLE,20191212SIOCCHAMB
EXPOCODE,SECT_ID,STNNBR,CASTNO,SAMPNO,BTLNBR,BTLNBR_FLAG_W,GEOTRC_EVENTNO,GEOTRC_SAMPNO,DATE,TIME,LATITUDE,LONGITUDE,DEPTH,CTDPRS,CTDTMP,CTDSAL,CTDSAL_FLAG_W,REFTMP,REFTMP_FLAG_W,BTL_DATE,BTL_TIME,BTL_LAT,BTL_LON,SILCAT,SILCAT_FLAG_W,PHSPHT,PHSPHT_FLAG_W,NITRAT,NITRAT_FLAG_W,NITRIT,NITRIT_FLAG_W,OXYGEN,OXYGEN_FLAG_W,SALNTY,SALNTY_FLAG_W,CTDRINKO,CTDRINKO_FLAG_W,CTDFLUOR,CTDFLUOR_FLAG_W,CTDXMISS,CTDXMISS_FLAG_W,CTDOXY,CTDOXY_FLAG_W
,,,,,,,,,,,,,METERS,DBAR,ITS-90,PSS-78,,ITS-90,,,,,,UMOL/KG,,UMOL/KG,,UMOL/KG,,UMOL/KG,,UMOL/KG,,PSS-78,,VOLTS,,VOLTS,,VOLTS,,UMOL/KG,
33RR20180918, GP15,38,3,1,GSNIS-2    ,2,7001,15670,20181121,101,-17.4999,-152.0005,4117,1008.6,4.0316,34.4945,2,4.0227,2,20181121,101,-17.5,-152.0005,67.06,2,2.42,2,35.24,2,0,2,142.58,2,34.4991,2,2.093,1,0.017,1,4.667,1,142.5,2
33RR20180918, GP15,38,3,2,GSNIS-3    ,2,7001,15670,20181121,101,-17.4999,-152.0005,4117,1008.7,4.0263,34.4954,2,-999,9,20181121,102,-17.5,-152.0005,66.96,2,2.42,2,35.22,2,0,2,-999,9,-999,9,2.094,1,0.017,1,4.667,1,142,2
33RR20180918, GP15,38,3,3,GSNIS-4    ,2,7001,15670,20181121,101,-17.4999,-152.0005,4117,1007.6,4.0268,34.4955,2,-999,9,20181121,102,-17.5,-152.0005,67.06,2,2.42,2,35.22,2,0,2,-999,9,-999,9,2.094,1,0.017,1,4.667,1,142.5,2
33RR20180918, GP15,38,3,4,GSNIS-5    ,2,7001,15669,20181121,101,-17.4999,-152.0005,4117,806.8,4.9227,34.4438,2,4.9335,2,20181121,106,-17.5,-152.0005,46.83,2,2.3,2,33.67,2,0,2,149.37,2,34.4465,2,2.081,1,0.016,1,4.667,1,149.4,2
33RR20180918, GP15,38,3,5,GSNIS-6    ,2,7001,15669,20181121,101,-17.4999,-152.0005,4117,807.7,4.9277,34.4414,2,-999,9,20181121,106,-17.5,-152.0005,46.24,2,2.29,2,33.61,2,0,2,-999,9,-999,9,2.081,1,0.016,1,4.667,1,149.2,2
33RR20180918, GP15,38,3,6,GSNIS-7    ,2,7001,15668,20181121,101,-17.4999,-152.0005,4117,655.8,5.9491,34.4014,2,5.9477,2,20181121,110,-17.4999,-152.0005,28.45,2,2.12,2,31.3,2,0,2,159.89,2,34.4047,2,2.029,1,0.016,1,4.665,1,159.6,2
33RR20180918, GP15,38,3,7,GSNIS-8    ,2,7001,15668,20181121,101,-17.4999,-152.0005,4117,656.6,5.9424,34.4016,2,-999,9,20181121,110,-17.5,-152.0005,28.25,2,2.12,2,31.21,2,0,2,-999,9,-999,9,2.028,1,0.015,1,4.665,1,159.7,2
33RR20180918, GP15,38,3,8,GSNIS-9    ,2,7001,15667,20181121,101,-17.4999,-152.0005,4117,504.5,8.1364,34.4518,2,8.1348,3,20181121,114,-17.4999,-152.0005,14.86,2,1.81,2,26.2,2,0,2,159.18,2,34.4526,3,1.941,1,0.015,1,4.663,1,159.3,2
33RR20180918, GP15,38,3,9,GSNIS-10   ,2,7001,15667,20181121,101,-17.4999,-152.0005,4117,505.5,8.1255,34.4525,2,-999,9,20181121,114,-17.4999,-152.0005,14.96,2,1.8,2,26.3,2,0,2,-999,9,-999,9,1.94,1,0.016,1,4.664,1,159.3,2
33RR20180918, GP15,38,3,10,GSNIS-11   ,2,7001,15667,20181121,101,-17.4999,-152.0005,4117,504.2,8.1409,34.4526,2,-999,9,20181121,114,-17.4999,-152.0005,14.76,2,1.79,2,26.21,2,0,2,-999,9,-999,9,1.94,1,0.015,1,4.664,1,158.7,2
33RR20180918, GP15,38,3,11,GSNIS-12   ,2,7001,15666,20181121,101,-17.4999,-152.0005,4117,428.6,10.6161,34.616,3,10.6715,3,20181121,116,-17.5,-152.0005,8.99,2,1.43,2,19.9,2,0,2,154.79,2,34.6339,3,1.873,1,0.015,1,4.662,1,154.5,2
33RR20180918, GP15,38,3,12,GSNIS-13   ,2,7001,15666,20181121,101,-17.4999,-152.0005,4117,427.8,10.6571,34.6242,2,-999,9,20181121,116,-17.5,-152.0005,8.89,2,1.43,2,19.87,2,0,2,-999,9,-999,9,1.871,1,0.015,1,4.662,1,154.5,2
33RR20180918, GP15,38,3,13,GSNIS-14   ,2,7001,15666,20181121,101,-17.4999,-152.0005,4117,428,10.6267,34.6188,2,-999,9,20181121,117,-17.4999,-152.0005,8.7,2,1.43,2,19.77,2,0,2,-999,9,-999,9,1.868,1,0.015,1,4.662,1,154.5,2
33RR20180918, GP15,38,3,14,GSNIS-15   ,2,7001,15665,20181121,101,-17.4999,-152.0005,4117,327.2,15.5406,35.1212,3,15.5668,3,20181121,119,-17.5,-152.0005,2.44,2,0.74,2,9.6,2,0,2,171.82,2,35.1201,3,1.775,1,0.016,1,4.659,1,172.2,2
33RR20180918, GP15,38,3,15,GSNIS-16   ,2,7001,15665,20181121,101,-17.4999,-152.0005,4117,327.2,15.5096,35.114,2,-999,9,20181121,119,-17.5,-152.0005,2.25,2,0.73,2,9.37,2,0,2,-999,9,-999,9,1.773,1,0.016,1,4.658,1,172.3,2
33RR20180918, GP15,38,3,16,GSNIS-17   ,2,7001,15665,20181121,101,-17.4999,-152.0005,4117,327,15.7143,35.1349,2,-999,9,20181121,120,-17.5,-152.0005,2.15,2,0.72,2,9.39,2,0,2,-999,9,-999,9,1.771,1,0.016,1,4.659,1,172.7,2
33RR20180918, GP15,38,3,17,GSNIS-18   ,2,7001,15664,20181121,101,-17.4999,-152.0005,4117,251.5,19.6403,35.685,2,19.639,2,20181121,122,-17.4999,-152.0005,0.39,2,0.38,2,4.33,2,0.01,2,178.31,2,35.6893,2,1.708,1,0.016,1,4.654,1,177.4,2
33RR20180918, GP15,38,3,18,GSNIS-19   ,2,7001,15664,20181121,101,-17.4999,-152.0005,4117,250.6,19.6337,35.6863,2,-999,9,20181121,122,-17.4999,-152.0005,0.39,2,0.37,2,4.33,2,0.01,2,-999,9,-999,9,1.703,1,0.016,1,4.654,1,177.4,2
33RR20180918, GP15,38,3,19,GSNIS-20   ,2,7001,15664,20181121,101,-17.4999,-152.0005,4117,252,19.6252,35.6864,2,-999,9,20181121,122,-17.4999,-152.0005,0.39,2,0.37,2,4.32,2,0.01,2,-999,9,-999,9,1.7,1,0.016,1,4.654,1,177.6,2
33RR20180918, GP15,38,3,20,GSNIS-21   ,2,7001,15663,20181121,101,-17.4999,-152.0005,4117,150.7,23.9909,36.1436,2,23.9881,2,20181121,125,-17.5,-152.0005,0.1,2,0.2,2,0.87,2,0.15,2,180.67,2,36.1383,2,1.563,1,0.033,1,4.622,1,181.2,2
33RR20180918, GP15,38,3,21,GSNIS-22   ,2,7001,15663,20181121,101,-17.4999,-152.0005,4117,150.5,23.9913,36.1438,2,-999,9,20181121,125,-17.4999,-152.0005,0.1,2,0.2,2,0.82,2,0.16,2,-999,9,-999,9,1.558,1,0.032,1,4.622,1,180.6,2
33RR20180918, GP15,38,3,22,GSNIS-23   ,2,7001,15663,20181121,101,-17.4999,-152.0005,4117,150.5,23.9908,36.1439,2,-999,9,20181121,125,-17.4999,-152.0005,0.1,2,0.19,2,0.81,2,0.16,2,-999,9,-999,9,1.554,1,0.034,1,4.623,1,180.6,2
33RR20180918, GP15,38,3,23,GSNIS-24   ,2,7001,15662,20181121,101,-17.4999,-152.0005,4117,124.9,25.9535,36.2383,2,25.948,2,20181121,127,-17.5,-152.0005,0.1,2,0.11,2,0,2,0,2,193.69,2,36.239,2,1.489,1,0.027,1,4.614,1,195.1,2
33RR20180918, GP15,38,3,24,GSNIS-25   ,2,7001,15662,20181121,101,-17.4999,-152.0005,4117,126.5,25.9523,36.2409,2,-999,9,20181121,127,-17.5,-152.0005,0.1,2,0.11,2,0,2,0,2,-999,9,-999,9,1.485,1,0.029,1,4.614,1,195.1,2
33RR20180918, GP15,38,3,25,GSNIS-26   ,2,7001,15662,20181121,101,-17.4999,-152.0005,4117,124.8,25.9468,36.2392,2,-999,9,20181121,127,-17.5,-152.0005,0,2,0.1,2,0,2,0,2,-999,9,-999,9,1.482,1,0.027,1,4.615,1,194.6,2
33RR20180918, GP15,38,3,26,GSNIS-27   ,2,7001,15661,20181121,101,-17.4999,-152.0005,4117,89.3,26.5104,36.1026,2,26.4996,2,20181121,129,-17.5,-152.0005,0,2,0.05,2,0,2,0,2,203.77,2,36.1023,2,1.429,1,0.021,1,4.615,1,202.6,2
33RR20180918, GP15,38,3,27,GSNIS-28   ,2,7001,15661,20181121,101,-17.4999,-152.0005,4117,91,26.4986,36.1009,2,-999,9,20181121,129,-17.5,-152.0005,0.1,2,0.06,2,0.01,2,0,2,-999,9,-999,9,1.424,1,0.02,1,4.614,1,203,2
33RR20180918, GP15,38,3,28,GSNIS-29   ,2,7001,15661,20181121,101,-17.4999,-152.0005,4117,89.8,26.5037,36.1012,2,-999,9,20181121,129,-17.5,-152.0005,0.1,2,0.07,2,0.01,2,0,2,-999,9,-999,9,1.417,1,0.021,1,4.615,1,202.7,2
33RR20180918, GP15,38,3,29,GSNIS-30   ,2,7001,15660,20181121,101,-17.4999,-152.0005,4117,55.6,27.9638,36.3255,2,27.9604,2,20181121,131,-17.4999,-152.0005,0.1,2,0.09,2,0,2,0,2,198.06,2,36.3243,2,1.305,1,0.018,1,4.611,1,197.7,2
33RR20180918, GP15,38,3,30,GSNIS-31   ,5,7001,15660,20181121,101,-17.4999,-152.0005,4117,55,27.9602,36.3253,3,-999,9,20181121,132,-17.4999,-152.0005,-999,9,-999,9,-999,9,-999,9,-999,9,-999,9,1.305,1,0.018,1,4.61,1,198,3
33RR20180918, GP15,38,3,31,GSNIS-32   ,2,7001,15660,20181121,101,-17.4999,-152.0005,4117,56.1,27.955,36.3244,2,-999,9,20181121,132,-17.5,-152.0005,0.2,2,0.09,2,0,2,0,2,-999,9,-999,9,1.302,1,0.018,1,4.612,1,197.9,2
33RR20180918, GP15,38,3,32,GSNIS-33   ,2,7001,15659,20181121,101,-17.4999,-152.0005,4117,25.6,28.1873,36.1924,2,28.189,2,20181121,134,-17.4999,-152.0005,0.2,2,0.08,2,0,2,0,2,196.65,2,36.1963,2,1.311,1,0.017,1,4.616,1,196.2,2
33RR20180918, GP15,38,3,33,GSNIS-34   ,2,7001,15659,20181121,101,-17.4999,-152.0005,4117,25.1,28.1898,36.1928,2,-999,9,20181121,134,-17.4999,-152.0005,0.2,2,0.08,2,0,2,0,2,-999,9,-999,9,1.309,1,0.017,1,4.616,1,196,2
33RR20180918, GP15,38,3,34,GSNIS-35   ,2,7001,15659,20181121,101,-17.4999,-152.0005,4117,25.6,28.1866,36.1921,2,-999,9,20181121,134,-17.5,-152.0005,0.29,2,0.08,2,0,2,0,2,-999,9,-999,9,1.306,1,0.017,1,4.616,1,195.6,2
33RR20180918, GP15,38,3,35,GSNIS-36   ,2,7001,15658,20181121,101,-17.4999,-152.0005,4117,3,28.3268,36.2116,2,28.3271,2,20181121,136,-17.4999,-152.0005,0.29,2,0.09,2,0,2,0,2,196.34,2,36.2145,2,1.288,1,0.016,1,4.617,1,195.6,2
33RR20180918, GP15,38,3,36,GSNIS-1    ,2,7001,15658,20181121,101,-17.4999,-152.0005,4117,3,28.3261,36.2116,2,-999,9,20181121,136,-17.4999,-152.0005,0.29,2,0.1,2,0.01,2,0,2,-999,9,-999,9,1.29,1,0.016,1,4.617,1,195.8,2
33RR20180918, GP15,39,3,1,GSNIS-2    ,4,7009,15718,20181121,1739,-19.9997,-152.0001,4336,503.6,8.2815,34.4335,3,8.2714,3,20181121,1739,-19.9998,-152.0001,7.92,3,1.52,3,21.87,3,0,3,191.94,3,34.4479,3,1.729,1,0.016,1,4.662,1,187,3
33RR20180918, GP15,39,3,2,GSNIS-3    ,2,7009,15718,20181121,1739,-19.9997,-152.0001,4336,503,8.2832,34.4332,2,-999,9,20181121,1739,-19.9998,-152.0001,9.09,2,1.56,2,22.93,2,0,2,-999,9,-999,9,1.731,1,0.016,1,4.662,1,185.8,2
33RR20180918, GP15,39,3,3,GSNIS-4    ,2,7009,15718,20181121,1739,-19.9997,-152.0001,4336,504,8.2555,34.4322,2,-999,9,20181121,1739,-19.9998,-152.0001,9.19,2,1.57,2,22.99,2,0,2,-999,9,-999,9,1.734,1,0.017,1,4.662,1,187.2,2
33RR20180918, GP15,39,3,4,GSNIS-5    ,2,7009,15717,20181121,1739,-19.9997,-152.0001,4336,453.2,10.0568,34.5481,3,10.0386,2,20181121,1741,-19.9997,-152.0001,5.77,2,1.28,2,18.5,2,0,2,191.19,2,34.5429,3,1.738,1,0.016,1,4.663,1,189.2,2
33RR20180918, GP15,39,3,5,GSNIS-6    ,2,7009,15717,20181121,1739,-19.9997,-152.0001,4336,452.3,10.0003,34.5447,2,-999,9,20181121,1741,-19.9998,-152.0001,5.67,2,1.25,2,18.26,2,0,2,-999,9,-999,9,1.736,1,0.016,1,4.663,1,189.6,2
33RR20180918, GP15,39,3,6,GSNIS-7    ,2,7009,15717,20181121,1739,-19.9997,-152.0001,4336,453.5,10.0791,34.55,2,-999,9,20181121,1742,-19.9998,-152.0001,5.57,2,1.25,2,18.31,2,0,2,-999,9,-999,9,1.735,1,0.017,1,4.663,1,189.1,2
33RR20180918, GP15,39,3,7,GSNIS-8    ,2,7009,15716,20181121,1739,-19.9997,-152.0001,4336,403.3,12.6954,34.8007,3,12.6434,3,20181121,1744,-19.9997,-152.0001,3.32,2,0.91,2,12.87,2,0,2,188.71,2,34.7878,3,1.685,1,0.017,1,4.663,1,188.3,2
33RR20180918, GP15,39,3,8,GSNIS-9    ,2,7009,15716,20181121,1739,-19.9997,-152.0001,4336,402.2,12.5588,34.7994,2,-999,9,20181121,1744,-19.9997,-152.0001,3.32,2,0.91,2,12.89,2,0,2,-999,9,-999,9,1.682,1,0.016,1,4.662,1,188.7,2
33RR20180918, GP15,39,3,9,GSNIS-10   ,2,7009,15716,20181121,1739,-19.9997,-152.0001,4336,402.4,12.6746,34.8011,2,-999,9,20181121,1744,-19.9997,-152.0001,3.23,2,0.89,2,12.74,2,0,2,-999,9,-999,9,1.68,1,0.016,1,4.662,1,187.9,2
33RR20180918, GP15,39,3,10,GSNIS-11   ,2,7009,15716,20181121,1739,-19.9997,-152.0001,4336,402.9,12.6191,34.798,2,-999,9,20181121,1744,-19.9997,-152.0001,3.13,2,0.88,2,12.78,2,0,2,-999,9,-999,9,1.678,1,0.016,1,4.663,1,188.3,2
33RR20180918, GP15,39,3,11,GSNIS-12   ,2,7009,15715,20181121,1739,-19.9997,-152.0001,4336,351.3,14.8242,35.051,3,14.7451,3,20181121,1746,-19.9997,-152.0001,1.47,2,0.57,2,7.98,2,0,2,192.12,2,35.0567,3,1.629,1,0.016,1,4.662,1,191.9,2
33RR20180918, GP15,39,3,12,GSNIS-13   ,2,7009,15715,20181121,1739,-19.9997,-152.0001,4336,353.1,14.678,35.0329,2,-999,9,20181121,1746,-19.9997,-152.0001,1.56,2,0.57,2,8.16,2,0,2,-999,9,-999,9,1.626,1,0.016,1,4.662,1,191.2,2
33RR20180918, GP15,39,3,13,GSNIS-14   ,2,7009,15715,20181121,1739,-19.9997,-152.0001,4336,351.3,14.7839,35.0448,2,-999,9,20181121,1746,-19.9997,-152.0001,1.37,2,0.56,2,7.99,2,0,2,-999,9,-999,9,1.624,1,0.016,1,4.662,1,192.4,2
33RR20180918, GP15,39,3,14,GSNIS-15   ,2,7009,15714,20181121,1739,-19.9997,-152.0001,4336,301.8,17.4534,35.3746,2,17.4501,2,20181121,1748,-19.9997,-152.0001,0.49,2,0.31,2,4.44,2,0,2,191.83,2,35.3723,2,1.57,1,0.016,1,4.659,1,192,2
33RR20180918, GP15,39,3,15,GSNIS-16   ,2,7009,15714,20181121,1739,-19.9997,-152.0001,4336,301.4,17.4477,35.3743,2,-999,9,20181121,1748,-19.9998,-152.0001,0.49,2,0.32,2,4.41,2,0,2,-999,9,-999,9,1.567,1,0.016,1,4.66,1,192.1,2
33RR20180918, GP15,39,3,16,GSNIS-17   ,2,7009,15714,20181121,1739,-19.9997,-152.0001,4336,302.1,17.4534,35.3747,2,-999,9,20181121,1748,-19.9998,-152.0001,0.49,2,0.31,2,4.4,2,0,2,-999,9,-999,9,1.567,1,0.016,1,4.659,1,191.9,2
33RR20180918, GP15,39,3,17,GSNIS-18   ,2,7009,15714,20181121,1739,-19.9997,-152.0001,4336,301.2,17.448,35.375,2,-999,9,20181121,1748,-19.9998,-152.0001,0.39,2,0.31,2,4.39,2,0,2,-999,9,-999,9,1.563,1,0.017,1,4.659,1,191.9,2
33RR20180918, GP15,39,3,18,GSNIS-19   ,2,7009,15713,20181121,1739,-19.9997,-152.0001,4336,251.8,18.8569,35.5401,2,18.9009,2,20181121,1750,-19.9997,-152.0001,0.2,2,0.23,2,3.09,2,0,2,189.68,2,35.5511,2,1.518,1,0.017,1,4.655,1,189.7,2
33RR20180918, GP15,39,3,19,GSNIS-20   ,2,7009,15713,20181121,1739,-19.9997,-152.0001,4336,250.3,18.8683,35.5409,2,-999,9,20181121,1750,-19.9997,-152.0001,0.2,2,0.23,2,3.02,2,0,2,-999,9,-999,9,1.516,1,0.017,1,4.656,1,190.8,2
33RR20180918, GP15,39,3,20,GSNIS-21   ,2,7009,15712,20181121,1739,-19.9997,-152.0001,4336,201,21.1118,35.7514,2,21.1099,2,20181121,1752,-19.9997,-152.0001,0.1,2,0.17,2,1.64,2,0.02,2,186.48,2,35.7501,3,1.478,1,0.025,1,4.644,1,185.3,2
33RR20180918, GP15,39,3,21,GSNIS-22   ,2,7009,15712,20181121,1739,-19.9997,-152.0001,4336,200.9,21.1065,35.7514,2,-999,9,20181121,1752,-19.9997,-152.0001,0.2,2,0.18,2,1.63,2,0.03,2,-999,9,-999,9,1.476,1,0.024,1,4.644,1,187.1,2
33RR20180918, GP15,39,3,22,GSNIS-23   ,2,7009,15712,20181121,1739,-19.9997,-152.0001,4336,201,21.0978,35.751,2,-999,9,20181121,1753,-19.9997,-152.0001,0.1,2,0.17,2,1.64,2,0.02,2,-999,9,-999,9,1.474,1,0.025,1,4.644,1,186.5,2
33RR20180918, GP15,39,3,23,GSNIS-24   ,2,7009,15711,20181121,1739,-19.9997,-152.0001,4336,150.7,22.6845,35.7286,2,22.6859,2,20181121,1755,-19.9997,-152.0001,0.1,2,0.06,2,0.13,2,0.09,2,198.2,2,35.7314,2,1.443,1,0.029,1,4.633,1,199.9,2
33RR20180918, GP15,39,3,24,GSNIS-25   ,2,7009,15711,20181121,1739,-19.9997,-152.0001,4336,150.1,22.6909,35.7296,2,-999,9,20181121,1755,-19.9997,-152.0001,0.1,2,0.06,2,0.12,2,0.09,2,-999,9,-999,9,1.442,1,0.03,1,4.634,1,200,2
33RR20180918, GP15,39,3,25,GSNIS-26   ,2,7009,15711,20181121,1739,-19.9997,-152.0001,4336,151.1,22.6802,35.7292,2,-999,9,20181121,1755,-19.9997,-152.0001,0.1,2,0.07,2,0.12,2,0.09,2,-999,9,-999,9,1.441,1,0.032,1,4.633,1,200,2
33RR20180918, GP15,39,3,26,GSNIS-27   ,2,7009,15710,20181121,1739,-19.9997,-152.0001,4336,124.2,24.438,36.0656,2,24.4198,2,20181121,1756,-19.9997,-152.0001,0,2,0.1,2,0,2,0,2,193.69,2,36.0677,2,1.424,1,0.028,1,4.623,1,195.3,2
33RR20180918, GP15,39,3,27,GSNIS-28   ,2,7009,15710,20181121,1739,-19.9997,-152.0001,4336,124.9,24.3864,36.0573,2,-999,9,20181121,1757,-19.9997,-152.0001,0.1,2,0.1,2,0,2,0,2,-999,9,-999,9,1.423,1,0.029,1,4.623,1,194.9,2
33RR20180918, GP15,39,3,28,GSNIS-29   ,2,7009,15710,20181121,1739,-19.9997,-152.0001,4336,124.1,24.4298,36.0619,2,-999,9,20181121,1757,-19.9997,-152.0001,0.1,2,0.1,2,0,2,0,2,-999,9,-999,9,1.423,1,0.028,1,4.623,1,194.7,2
33RR20180918, GP15,39,3,29,GSNIS-30   ,2,7009,15709,20181121,1739,-19.9997,-152.0001,4336,90.6,24.7518,35.8229,2,24.7519,2,20181121,1759,-19.9997,-152.0001,0.1,2,0.03,2,0,2,0,2,209.57,2,35.8238,2,1.416,1,0.018,1,4.623,1,210.5,2
33RR20180918, GP15,39,3,30,GSNIS-31   ,2,7009,15709,20181121,1739,-19.9997,-152.0001,4336,91.8,24.7527,35.823,2,-999,9,20181121,1759,-19.9997,-152.0001,0.1,2,0.04,2,0.01,2,0,2,-999,9,-999,9,1.415,1,0.018,1,4.623,1,210,2
33RR20180918, GP15,39,3,31,GSNIS-32   ,2,7009,15708,20181121,1739,-19.9997,-152.0001,4336,46.7,26.5065,36.176,2,26.5267,2,20181121,1802,-19.9997,-152.0001,0.2,2,0.04,2,0,2,0,2,204.13,2,36.1739,2,1.371,1,0.018,1,4.617,1,200.9,2
33RR20180918, GP15,39,3,32,GSNIS-33   ,2,7009,15708,20181121,1739,-19.9997,-152.0001,4336,46.2,26.5351,36.1741,2,-999,9,20181121,1802,-19.9997,-152.0001,0.2,2,0.05,2,0,2,0,2,-999,9,-999,9,1.37,1,0.018,1,4.618,1,203,2
33RR20180918, GP15,39,3,33,GSNIS-34   ,2,7009,15708,20181121,1739,-19.9997,-152.0001,4336,46.5,26.5337,36.175,2,-999,9,20181121,1802,-19.9997,-152.0001,0.1,2,0.05,2,0,2,0,2,-999,9,-999,9,1.369,1,0.017,1,4.618,1,203,2
33RR20180918, GP15,39,3,34,GSNIS-35   ,2,7009,15707,20181121,1739,-19.9997,-152.0001,4336,25.1,26.9399,36.1437,2,26.9398,2,20181121,1804,-19.9997,-152.0001,0.2,2,0.04,2,0.01,2,0,2,200.86,2,36.1432,2,1.356,1,0.017,1,4.62,1,197.5,2
33RR20180918, GP15,39,3,35,GSNIS-36   ,2,7009,15707,20181121,1739,-19.9997,-152.0001,4336,25.1,26.9381,36.1438,2,-999,9,20181121,1804,-19.9997,-152.0001,0.2,2,0.06,2,0.01,2,0,2,-999,9,-999,9,1.355,1,0.017,1,4.615,1,198.8,2
33RR20180918, GP15,39,3,36,GSNIS-1    ,2,7009,15707,20181121,1739,-19.9997,-152.0001,4336,25.5,26.9399,36.1437,2,-999,9,20181121,1804,-19.9997,-152.0001,0.29,2,0.06,2,0.01,2,0,2,-999,9,-999,9,1.355,1,0.017,1,4.62,1,198.2,2