BOTTLE,20191212SIOCCHAMB
EXPOCODE,SECT_ID,STNNBR,CASTNO,SAMPNO,BTLNBR,BTLNBR_FLAG_W,GEOTRC_EVENTNO,GEOTRC_SAMPNO,DATE,TIME,LATITUDE,LONGITUDE,DEPTH,CTDPRS,CTDTMP,CTDSAL,CTDSAL_FLAG_W,REFTMP,REFTMP_FLAG_W,BTL_DATE,BTL_TIME,BTL_LAT,BTL_LON,SILCAT,SILCAT_FLAG_W,PHSPHT,PHSPHT_FLAG_W,NITRAT,NITRAT_FLAG_W,NITRIT,NITRIT_FLAG_W,OXYGEN,OXYGEN_FLAG_W,SALNTY,SALNTY_FLAG_W,CTDRINKO,CTDRINKO_FLAG_W,CTDFLUOR,CTDFLUOR_FLAG_W,CTDXMISS,CTDXMISS_FLAG_W,CTDOXY,CTDOXY_FLAG_W
,,,,,,,,,,,,,METERS,DBAR,ITS-90,PSS-78,,ITS-90,,,,,,UMOL/KG,,UMOL/KG,,UMOL/KG,,UMOL/KG,,UMOL/KG,,PSS-78,,VOLTS,,VOLTS,,VOLTS,,UMOL/KG,
33RR20180918, GP15,23,4,1,GSNIS-2    ,2,6833,14372,20181101,2206,7.5002,-152.0147,5322,805.8,5.6375,34.5415,2,5.6387,2,20181101,2206,7.5002,-152.0146,73.49,2,3.04,2,42.05,2,0,2,36.72,2,34.5427,2,2.914,1,0.018,1,4.676,1,36.5,2
33RR20180918, GP15,23,4,2,GSNIS-3    ,2,6833,14372,20181101,2206,7.5002,-152.0147,5322,805.1,5.6376,34.5416,2,-999,9,20181101,2206,7.5002,-152.0146,73.49,2,3.04,2,42.07,2,0,2,-999,9,-999,9,2.917,1,0.018,1,4.675,1,36.5,2
33RR20180918, GP15,23,4,3,GSNIS-4    ,2,6833,14372,20181101,2206,7.5002,-152.0147,5322,805.1,5.6399,34.5414,2,-999,9,20181101,2206,7.5002,-152.0146,73.59,2,3.03,2,42.16,2,0,2,-999,9,-999,9,2.92,1,0.018,1,4.675,1,36.5,2
33RR20180918, GP15,23,4,4,GSNIS-5    ,2,6833,14371,20181101,2206,7.5002,-152.0147,5322,604,7.2118,34.5617,2,7.2095,2,20181101,2211,7.5002,-152.0146,54.04,2,2.92,2,39.97,2,0,2,25.59,2,34.5624,2,2.917,1,0.018,1,4.673,1,25.6,2
33RR20180918, GP15,23,4,5,GSNIS-6    ,2,6833,14371,20181101,2206,7.5002,-152.0147,5322,605.6,7.2061,34.5611,2,-999,9,20181101,2211,7.5002,-152.0146,54.04,2,2.92,2,40.08,2,0,2,-999,9,-999,9,2.915,1,0.018,1,4.673,1,25.6,2
33RR20180918, GP15,23,4,6,GSNIS-7    ,2,6833,14370,20181101,2206,7.5002,-152.0147,5322,503.5,8.1205,34.5973,2,8.1211,2,20181101,2214,7.5002,-152.0146,45.05,2,2.8,2,38.45,2,0,2,22.73,2,34.5979,2,2.825,1,0.018,1,4.671,1,23.9,2
33RR20180918, GP15,23,4,7,GSNIS-8    ,2,6833,14370,20181101,2206,7.5002,-152.0147,5322,504.1,8.1202,34.5972,2,-999,9,20181101,2214,7.5002,-152.0146,44.95,2,2.8,2,38.43,2,0,2,-999,9,-999,9,2.824,1,0.018,1,4.67,1,23.5,2
33RR20180918, GP15,23,4,8,GSNIS-9    ,2,6833,14370,20181101,2206,7.5002,-152.0147,5322,503.8,8.118,34.5969,2,-999,9,20181101,2214,7.5002,-152.0147,45.05,2,2.79,2,38.3,2,0,2,-999,9,-999,9,2.823,1,0.018,1,4.67,1,23.5,2
33RR20180918, GP15,23,4,9,GSNIS-10   ,2,6833,14369,20181101,2206,7.5002,-152.0147,5322,301.6,9.7363,34.6691,2,9.742,2,20181101,2219,7.5002,-152.0146,32.93,2,2.5,2,34.9,2,0,2,29.66,2,34.671,2,2.661,1,0.018,1,4.665,1,27.3,2
33RR20180918, GP15,23,4,10,GSNIS-11   ,2,6833,14369,20181101,2206,7.5002,-152.0147,5322,301.7,9.7432,34.6693,2,-999,9,20181101,2219,7.5002,-152.0146,32.93,2,2.49,2,34.83,2,0,2,-999,9,-999,9,2.657,1,0.018,1,4.666,1,28.7,2
33RR20180918, GP15,23,4,11,GSNIS-12   ,2,6833,14369,20181101,2206,7.5002,-152.0147,5322,302,9.7448,34.6694,2,-999,9,20181101,2219,7.5002,-152.0146,32.83,2,2.49,2,34.65,2,0,2,-999,9,-999,9,2.653,1,0.018,1,4.666,1,28.7,2
33RR20180918, GP15,23,4,12,GSNIS-13   ,2,6833,14369,20181101,2206,7.5002,-152.0147,5322,301.6,9.7435,34.6696,2,9.7451,2,20181101,2219,7.5002,-152.0146,32.93,2,2.49,2,34.69,2,0,2,-999,9,-999,9,2.648,1,0.018,1,4.665,1,28.7,2
33RR20180918, GP15,23,4,13,GSNIS-14   ,2,6833,14368,20181101,2206,7.5002,-152.0147,5322,200.8,10.9736,34.6819,2,10.972,2,20181101,2222,7.5002,-152.0146,29.12,2,2.42,2,33.07,2,0,2,18.23,2,34.683,2,2.561,1,0.018,1,4.668,1,23.4,2
33RR20180918, GP15,23,4,14,GSNIS-15   ,2,6833,14368,20181101,2206,7.5002,-152.0147,5322,201.4,10.9708,34.6822,2,-999,9,20181101,2222,7.5002,-152.0146,29.12,2,2.42,2,33.12,2,0,2,-999,9,-999,9,2.558,1,0.018,1,4.668,1,26,2
33RR20180918, GP15,23,4,15,GSNIS-16   ,2,6833,14368,20181101,2206,7.5002,-152.0147,5322,200.6,10.9744,34.6819,2,-999,9,20181101,2222,7.5002,-152.0146,29.12,2,2.42,2,32.99,2,0,2,-999,9,-999,9,2.556,1,0.017,1,4.668,1,26,2
33RR20180918, GP15,23,4,16,GSNIS-17   ,2,6833,14367,20181101,2206,7.5002,-152.0147,5322,160.9,12.6303,34.5628,2,12.6361,2,20181101,2224,7.5002,-152.0146,22.48,2,2.04,2,26.77,2,0.02,2,46.5,2,34.5686,2,2.516,1,0.022,1,4.667,1,55.4,3
33RR20180918, GP15,23,4,17,GSNIS-18   ,2,6833,14367,20181101,2206,7.5002,-152.0147,5322,160,12.6509,34.5641,2,-999,9,20181101,2224,7.5002,-152.0146,22.28,2,2.04,2,26.74,2,0.02,2,-999,9,-999,9,2.515,1,0.022,1,4.667,1,55.3,3
33RR20180918, GP15,23,4,18,GSNIS-19   ,2,6833,14367,20181101,2206,7.5002,-152.0147,5322,161.2,12.6201,34.5635,2,-999,9,20181101,2224,7.5002,-152.0146,22.28,2,2.03,2,26.79,2,0.02,2,-999,9,-999,9,2.513,1,0.023,1,4.666,1,55.1,3
33RR20180918, GP15,23,4,19,GSNIS-20   ,2,6833,14366,20181101,2206,7.5002,-152.0147,5322,130.2,16.9975,34.6204,2,17.0008,2,20181101,2226,7.5002,-152.0147,10.16,2,1.07,2,13.91,2,0.07,2,118.84,2,34.6238,2,2.518,1,0.029,1,4.658,1,116.1,2
33RR20180918, GP15,23,4,20,GSNIS-21   ,2,6833,14366,20181101,2206,7.5002,-152.0147,5322,130.5,16.9856,34.6218,2,-999,9,20181101,2226,7.5002,-152.0146,10.16,2,1.07,2,13.89,2,0.07,2,-999,9,-999,9,2.517,1,0.028,1,4.658,1,126.5,2
33RR20180918, GP15,23,4,21,GSNIS-22   ,2,6833,14365,20181101,2206,7.5002,-152.0147,5322,100.3,21.7468,34.7244,2,21.7127,2,20181101,2228,7.5002,-152.0146,4.79,2,0.6,2,7.14,2,0.15,2,141.53,2,34.7254,2,2.263,1,0.036,1,4.645,1,140.7,2
33RR20180918, GP15,23,4,22,GSNIS-23   ,2,6833,14365,20181101,2206,7.5002,-152.0147,5322,101,21.5997,34.7268,2,-999,9,20181101,2228,7.5002,-152.0146,4.69,2,0.6,2,7.18,2,0.15,2,-999,9,-999,9,2.254,1,0.041,1,4.645,1,140.7,2
33RR20180918, GP15,23,4,23,GSNIS-24   ,2,6833,14365,20181101,2206,7.5002,-152.0147,5322,99.7,21.7898,34.723,2,-999,9,20181101,2228,7.5002,-152.0146,4.59,2,0.6,2,7.13,2,0.15,2,-999,9,-999,9,2.236,1,0.037,1,4.644,1,141.1,2
33RR20180918, GP15,23,4,24,GSNIS-25   ,2,6833,14364,20181101,2206,7.5002,-152.0147,5322,80.3,25.7968,34.6543,2,25.8999,2,20181101,2230,7.5002,-152.0146,1.27,2,0.21,2,0.85,2,0.07,2,173.21,2,34.6492,2,1.89,1,0.046,1,4.628,1,175.3,2
33RR20180918, GP15,23,4,25,GSNIS-26   ,2,6833,14364,20181101,2206,7.5002,-152.0147,5322,79.3,25.9082,34.6461,2,-999,9,20181101,2230,7.5002,-152.0146,1.27,2,0.21,2,0.88,2,0.07,2,-999,9,-999,9,1.906,1,0.047,1,4.627,1,176.9,2
33RR20180918, GP15,23,4,26,GSNIS-27   ,2,6833,14364,20181101,2206,7.5002,-152.0147,5322,79.8,25.9039,34.6479,2,-999,9,20181101,2230,7.5002,-152.0146,1.17,2,0.21,2,0.86,2,0.07,2,-999,9,-999,9,1.922,1,0.044,1,4.627,1,176.9,2
33RR20180918, GP15,23,4,27,GSNIS-28   ,2,6833,14364,20181101,2206,7.5002,-152.0147,5322,80.1,25.8361,34.6534,2,-999,9,20181101,2230,7.5002,-152.0146,1.17,2,0.21,2,0.85,2,0.07,2,-999,9,-999,9,1.925,1,0.046,1,4.628,1,175.9,2
33RR20180918, GP15,23,4,28,GSNIS-29   ,2,6833,14363,20181101,2206,7.5002,-152.0147,5322,69.3,27.6812,34.5247,3,27.7523,2,20181101,2232,7.5002,-152.0146,0,2,0.09,2,0,2,0,2,194.57,2,34.4968,3,1.513,1,0.032,1,4.631,1,193.1,2
33RR20180918, GP15,23,4,29,GSNIS-30   ,2,6833,14363,20181101,2206,7.5002,-152.0147,5322,68.9,27.7623,34.5074,2,-999,9,20181101,2232,7.5002,-152.0146,0,2,0.08,2,0,2,0,2,-999,9,-999,9,1.499,1,0.034,1,4.63,1,197.2,2
33RR20180918, GP15,23,4,30,GSNIS-31   ,2,6833,14362,20181101,2206,7.5002,-152.0147,5322,60.6,28.8006,34.3417,2,28.8263,2,20181101,2234,7.5002,-152.0146,0,2,0.06,2,0,2,0,2,200.35,2,34.3364,2,1.372,1,0.027,1,4.634,1,199,2
33RR20180918, GP15,23,4,31,GSNIS-32   ,2,6833,14362,20181101,2206,7.5002,-152.0147,5322,60.6,28.8161,34.3394,2,-999,9,20181101,2234,7.5002,-152.0146,0,2,0.06,2,0,2,0,2,-999,9,-999,9,1.365,1,0.028,1,4.634,1,204.1,2
33RR20180918, GP15,23,4,32,GSNIS-33   ,2,6833,14362,20181101,2206,7.5002,-152.0147,5322,60.4,28.8429,34.3341,2,-999,9,20181101,2234,7.5002,-152.0146,0,2,0.06,2,0,2,0,2,-999,9,-999,9,1.361,1,0.028,1,4.635,1,204.5,2
33RR20180918, GP15,23,4,33,GSNIS-34   ,2,6833,14361,20181101,2206,7.5002,-152.0147,5322,26.6,29.469,33.352,2,29.468,2,20181101,2236,7.5001,-152.0146,0,2,0.02,2,0,2,0,2,194.46,2,33.3543,2,1.297,1,0.019,1,4.642,1,198,2
33RR20180918, GP15,23,4,34,GSNIS-35   ,2,6833,14361,20181101,2206,7.5002,-152.0147,5322,26.1,29.468,33.3515,2,-999,9,20181101,2236,7.5001,-152.0146,0,2,0.01,2,0,2,0,2,-999,9,-999,9,1.297,1,0.019,1,4.642,1,197.2,2
33RR20180918, GP15,23,4,35,GSNIS-36   ,2,6833,14361,20181101,2206,7.5002,-152.0147,5322,26.2,29.469,33.3512,2,-999,9,20181101,2236,7.5002,-152.0146,0,2,0.02,2,0,2,0,2,-999,9,-999,9,1.296,1,0.019,1,4.642,1,197.2,2
33RR20180918, GP15,23,4,36,GSNIS-1    ,2,6833,14360,20181101,2206,7.5002,-152.0147,5322,2.3,29.3264,33.2025,2,29.3296,2,20181101,2239,7.5002,-152.0147,0,2,0.01,2,0,2,0,2,195.1,2,33.2043,2,1.289,1,0.019,1,4.641,1,198.1,2
33RR20180918, GP15,23,6,1,GSNIS-2    ,2,6830,14335,20181102,304,7.5048,-152.0064,5322,806.3,5.7657,34.5419,2,5.7669,2,20181102,304,7.5047,-152.0064,71.16,2,3.01,2,41.91,2,0,2,35.94,2,34.5421,2,2.707,1,0.018,1,4.676,1,35.2,2
33RR20180918, GP15,23,6,2,GSNIS-3    ,2,6830,14335,20181102,304,7.5048,-152.0064,5322,805.5,5.7928,34.5413,2,-999,9,20181102,304,7.5047,-152.0064,71.06,2,3.01,2,41.88,2,0,2,-999,9,-999,9,2.708,1,0.018,1,4.675,1,35.2,2
33RR20180918, GP15,23,6,3,GSNIS-4    ,2,6830,14335,20181102,304,7.5048,-152.0064,5322,805.7,5.7631,34.5423,2,-999,9,20181102,304,7.5047,-152.0064,71.25,2,3.01,2,41.88,2,0,2,-999,9,-999,9,2.709,1,0.017,1,4.675,1,35.3,2
33RR20180918, GP15,23,6,4,GSNIS-5    ,3,6830,14335,20181102,304,7.5048,-152.0064,5322,806.2,5.7566,34.5421,3,-999,9,20181102,305,7.5047,-152.0064,57.08,3,2.81,3,38.86,3,0,3,-999,9,-999,9,2.709,1,0.018,1,4.675,1,35.3,3
33RR20180918, GP15,23,6,5,GSNIS-6    ,2,6830,14334,20181102,304,7.5048,-152.0064,5322,605.5,7.2683,34.5624,2,7.2616,2,20181102,309,7.5047,-152.0064,53.46,2,2.88,2,39.62,2,0,2,25.33,2,34.5622,2,2.785,1,0.018,1,4.673,1,25.6,2
33RR20180918, GP15,23,6,6,GSNIS-7    ,2,6830,14334,20181102,304,7.5048,-152.0064,5322,605,7.26,34.5625,2,-999,9,20181102,309,7.5047,-152.0064,53.37,2,2.89,2,39.64,2,0,2,-999,9,-999,9,2.783,1,0.018,1,4.673,1,25.6,2
33RR20180918, GP15,23,6,7,GSNIS-8    ,2,6830,14334,20181102,304,7.5048,-152.0064,5322,605.3,7.2691,34.5625,2,-999,9,20181102,309,7.5047,-152.0064,53.46,2,2.89,2,39.6,2,0,2,-999,9,-999,9,2.782,1,0.018,1,4.673,1,25.5,2
33RR20180918, GP15,23,6,8,GSNIS-9    ,2,6830,14333,20181102,304,7.5048,-152.0064,5322,504.1,8.3462,34.6099,3,8.357,3,20181102,312,7.5047,-152.0064,42.71,2,2.74,2,37.6,2,0,2,24.25,2,34.6111,3,2.713,1,0.017,1,4.67,1,25.8,2
33RR20180918, GP15,23,6,9,GSNIS-10   ,2,6830,14333,20181102,304,7.5048,-152.0064,5322,504.2,8.3511,34.6102,2,-999,9,20181102,312,7.5047,-152.0064,42.71,2,2.74,2,37.57,2,0,2,-999,9,-999,9,2.712,1,0.018,1,4.67,1,25.9,2
33RR20180918, GP15,23,6,10,GSNIS-11   ,2,6830,14333,20181102,304,7.5048,-152.0064,5322,504.1,8.3533,34.6098,2,-999,9,20181102,312,7.5047,-152.0064,42.71,2,2.73,2,37.53,2,0,2,-999,9,-999,9,2.71,1,0.018,1,4.67,1,25.9,2
33RR20180918, GP15,23,6,11,GSNIS-12   ,2,6830,14333,20181102,304,7.5048,-152.0064,5322,504.4,8.3613,34.611,2,-999,9,20181102,312,7.5047,-152.0064,42.61,2,2.73,2,37.47,2,0,2,-999,9,-999,9,2.707,1,0.018,1,4.67,1,25.3,2
33RR20180918, GP15,23,6,12,GSNIS-13   ,2,6830,14332,20181102,304,7.5048,-152.0064,5322,403.3,9.1943,34.6453,2,9.1893,2,20181102,315,7.5047,-152.0064,36.45,2,2.57,2,36.07,2,0,2,23.87,2,34.6447,2,2.638,1,0.018,1,4.667,1,31.9,3
33RR20180918, GP15,23,6,13,GSNIS-14   ,2,6830,14332,20181102,304,7.5048,-152.0064,5322,403.1,9.1886,34.6451,2,-999,9,20181102,315,7.5047,-152.0064,36.36,2,2.56,2,36.05,2,0,2,-999,9,-999,9,2.636,1,0.018,1,4.667,1,26.3,3
33RR20180918, GP15,23,6,14,GSNIS-15   ,2,6830,14332,20181102,304,7.5048,-152.0064,5322,402.8,9.1881,34.6452,2,-999,9,20181102,315,7.5047,-152.0064,36.36,2,2.58,2,36.04,2,0,2,-999,9,-999,9,2.633,1,0.017,1,4.667,1,26.3,3
33RR20180918, GP15,23,6,15,GSNIS-16   ,2,6830,14331,20181102,304,7.5048,-152.0064,5322,302.3,9.9551,34.6765,2,9.9551,2,20181102,318,7.5047,-152.0064,32.06,2,2.43,2,34.41,2,0,2,27.45,2,34.6777,2,2.59,1,0.017,1,4.665,1,23.6,2
33RR20180918, GP15,23,6,16,GSNIS-17   ,2,6830,14331,20181102,304,7.5048,-152.0064,5322,302.4,9.9557,34.6767,2,-999,9,20181102,318,7.5047,-152.0064,31.96,2,2.42,2,34.39,2,0,2,-999,9,-999,9,2.588,1,0.017,1,4.665,1,23.9,2
33RR20180918, GP15,23,6,17,GSNIS-18   ,2,6830,14331,20181102,304,7.5048,-152.0064,5322,301.6,9.9582,34.6767,2,-999,9,20181102,318,7.5047,-152.0064,31.96,2,2.42,2,34.4,2,0,2,-999,9,-999,9,2.587,1,0.017,1,4.665,1,23.9,2
33RR20180918, GP15,23,6,18,GSNIS-19   ,2,6830,14330,20181102,304,7.5048,-152.0064,5322,201.9,11.3856,34.6682,2,11.3721,2,20181102,321,7.5047,-152.0064,27.56,2,2.32,2,31.95,2,0,2,26.23,2,34.6706,2,2.55,1,0.019,1,4.669,1,26.5,2
33RR20180918, GP15,23,6,19,GSNIS-20   ,2,6830,14330,20181102,304,7.5048,-152.0064,5322,201.1,11.3624,34.6695,2,-999,9,20181102,321,7.5047,-152.0064,27.46,2,2.31,2,31.87,2,0,2,-999,9,-999,9,2.548,1,0.019,1,4.67,1,27.5,2
33RR20180918, GP15,23,6,20,GSNIS-21   ,2,6830,14330,20181102,304,7.5048,-152.0064,5322,201.4,11.386,34.6686,2,-999,9,20181102,321,7.5047,-152.0064,27.46,2,2.3,2,31.83,2,0,2,-999,9,-999,9,2.546,1,0.018,1,4.67,1,26.6,2
33RR20180918, GP15,23,6,21,GSNIS-22   ,2,6830,14329,20181102,304,7.5048,-152.0064,5322,160.6,14.0018,34.5198,2,13.9999,2,20181102,323,7.5047,-152.0064,16.62,2,1.57,2,20.9,2,0.03,2,87.44,2,34.5225,2,2.504,1,0.025,1,4.663,1,89.3,2
33RR20180918, GP15,23,6,22,GSNIS-23   ,2,6830,14329,20181102,304,7.5048,-152.0064,5322,161.2,13.9937,34.5208,2,-999,9,20181102,323,7.5047,-152.0064,16.71,2,1.56,2,20.84,2,0.03,2,-999,9,-999,9,2.502,1,0.024,1,4.664,1,88.8,2
33RR20180918, GP15,23,6,23,GSNIS-24   ,2,6830,14329,20181102,304,7.5048,-152.0064,5322,160.7,14.0056,34.5206,2,-999,9,20181102,323,7.5047,-152.0064,16.62,2,1.56,2,20.82,2,0.03,2,-999,9,-999,9,2.499,1,0.024,1,4.657,1,88.7,2
33RR20180918, GP15,23,6,24,GSNIS-25   ,2,6830,14328,20181102,304,7.5048,-152.0064,5322,131.1,17.2427,34.628,2,17.2661,2,20181102,325,7.5047,-152.0064,-999,9,-999,9,-999,9,-999,9,128.14,2,34.6272,2,2.391,1,0.029,1,4.657,1,131.4,2
33RR20180918, GP15,23,6,25,GSNIS-26   ,2,6830,14328,20181102,304,7.5048,-152.0064,5322,130.3,17.3052,34.6257,2,-999,9,20181102,325,7.5047,-152.0064,8.99,2,0.97,2,12.14,2,0.28,2,-999,9,-999,9,2.375,1,0.027,1,4.658,1,133.7,2
33RR20180918, GP15,23,6,26,GSNIS-27   ,2,6830,14327,20181102,304,7.5048,-152.0064,5322,100.4,22.1135,34.7236,3,22.0537,3,20181102,327,7.5047,-152.0064,4.5,2,0.58,2,7.15,2,0.12,2,141.97,2,34.7252,3,2.08,1,0.035,1,4.645,1,149.9,3
33RR20180918, GP15,23,6,27,GSNIS-28   ,2,6830,14327,20181102,304,7.5048,-152.0064,5322,100.6,22.0584,34.725,2,-999,9,20181102,327,7.5047,-152.0064,4.5,2,0.58,2,7.15,2,0.12,2,-999,9,-999,9,2.076,1,0.035,1,4.646,1,141.8,3
33RR20180918, GP15,23,6,28,GSNIS-29   ,2,6830,14327,20181102,304,7.5048,-152.0064,5322,101.2,21.9695,34.7339,2,-999,9,20181102,327,7.5047,-152.0064,4.3,2,0.58,2,7.14,2,0.12,2,-999,9,-999,9,2.068,1,0.034,1,4.646,1,141.7,3
33RR20180918, GP15,23,6,29,GSNIS-30   ,2,6830,14326,20181102,304,7.5048,-152.0064,5322,80.5,26.9434,34.5941,2,26.9535,2,20181102,329,7.5047,-152.0064,0.29,2,0.1,2,0,2,0,2,194,2,34.593,2,1.854,1,0.034,1,4.632,1,189.3,2
33RR20180918, GP15,23,6,30,GSNIS-31   ,2,6830,14326,20181102,304,7.5048,-152.0064,5322,80.4,26.9475,34.5945,2,-999,9,20181102,329,7.5047,-152.0064,0.29,2,0.11,2,0,2,0,2,-999,9,-999,9,1.856,1,0.034,1,4.632,1,199.1,2
33RR20180918, GP15,23,6,31,GSNIS-32   ,2,6830,14326,20181102,304,7.5048,-152.0064,5322,80.5,26.961,34.5925,2,-999,9,20181102,329,7.5047,-152.0064,0.2,2,0.1,2,0,2,0,2,-999,9,-999,9,1.859,1,0.034,1,4.631,1,199.1,2
33RR20180918, GP15,23,6,32,GSNIS-33   ,2,6830,14325,20181102,304,7.5048,-152.0064,5322,60.6,29.3483,34.3263,2,29.3713,2,20181102,331,7.5047,-152.0064,0,2,0.05,2,0,2,0,2,197.53,2,34.3299,2,1.549,1,0.029,1,4.632,1,201.7,2
33RR20180918, GP15,23,6,33,GSNIS-34   ,2,6830,14325,20181102,304,7.5048,-152.0064,5322,60.6,29.3701,34.3272,2,-999,9,20181102,331,7.5047,-152.0064,0,2,0.05,2,0,2,0,2,-999,9,-999,9,1.559,1,0.028,1,4.632,1,201.5,2
33RR20180918, GP15,23,6,34,GSNIS-35   ,2,6830,14324,20181102,304,7.5048,-152.0064,5322,25.9,29.4615,33.3503,2,29.4599,2,20181102,333,7.5048,-152.0064,0,2,0,2,0,2,0,2,194.38,2,33.3506,2,1.31,1,0.019,1,4.64,1,196.8,2
33RR20180918, GP15,23,6,35,GSNIS-36   ,2,6830,14324,20181102,304,7.5048,-152.0064,5322,25.7,29.4586,33.35,2,-999,9,20181102,333,7.5048,-152.0064,0,2,0.01,2,0,2,0,2,-999,9,-999,9,1.31,1,0.019,1,4.641,1,197.4,2
33RR20180918, GP15,23,6,36,GSNIS-1    ,2,6830,14324,20181102,304,7.5048,-152.0064,5322,25.5,29.4605,33.3501,2,-999,9,20181102,333,7.5048,-152.0064,0,2,0,2,0,2,0,2,-999,9,-999,9,1.31,1,0.02,1,4.641,1,197.4,2