BOTTLE,20191212SIOCCHAMB
EXPOCODE,SECT_ID,STNNBR,CASTNO,SAMPNO,BTLNBR,BTLNBR_FLAG_W,GEOTRC_EVENTNO,GEOTRC_SAMPNO,DATE,TIME,LATITUDE,LONGITUDE,DEPTH,CTDPRS,CTDTMP,CTDSAL,CTDSAL_FLAG_W,REFTMP,REFTMP_FLAG_W,BTL_DATE,BTL_TIME,BTL_LAT,BTL_LON,SILCAT,SILCAT_FLAG_W,PHSPHT,PHSPHT_FLAG_W,NITRAT,NITRAT_FLAG_W,NITRIT,NITRIT_FLAG_W,OXYGEN,OXYGEN_FLAG_W,SALNTY,SALNTY_FLAG_W,CTDRINKO,CTDRINKO_FLAG_W,CTDFLUOR,CTDFLUOR_FLAG_W,CTDXMISS,CTDXMISS_FLAG_W,CTDOXY,CTDOXY_FLAG_W
,,,,,,,,,,,,,METERS,DBAR,ITS-90,PSS-78,,ITS-90,,,,,,UMOL/KG,,UMOL/KG,,UMOL/KG,,UMOL/KG,,UMOL/KG,,PSS-78,,VOLTS,,VOLTS,,VOLTS,,UMOL/KG,
33RR20180918, GP15,18.3,2,1,GSNIS-2    ,2,6768,13883,20181021,1503,19.6808,-154.5132,2183,2154.9,1.9619,34.6339,2,1.9596,2,20181021,1503,19.6808,-154.5132,153.74,2,2.79,2,39.35,2,0,2,99.16,2,34.6346,2,2.708,1,0.017,1,4.692,1,99.1,2
33RR20180918, GP15,18.3,2,2,GSNIS-3    ,2,6768,13883,20181021,1503,19.6808,-154.5132,2183,2155.5,1.9616,34.6339,2,-999,9,20181021,1503,19.6808,-154.5132,153.54,2,2.79,2,39.36,2,0,2,-999,9,-999,9,2.708,1,0.017,1,4.692,1,99.2,2
33RR20180918, GP15,18.3,2,3,GSNIS-4    ,2,6768,13883,20181021,1503,19.6808,-154.5132,2183,2154.9,1.9585,34.6342,2,-999,9,20181021,1503,19.6808,-154.5132,153.83,2,2.78,2,39.37,2,0,2,-999,9,-999,9,2.707,1,0.017,1,4.692,1,99.5,2
33RR20180918, GP15,18.3,2,4,GSNIS-5    ,2,6768,13882,20181021,1503,19.6808,-154.5132,2183,2124.9,1.9955,34.6315,2,1.9937,2,20181021,1505,19.6808,-154.5132,153.15,2,2.8,2,39.47,2,0,2,97.81,2,34.6311,2,2.686,1,0.017,1,4.692,1,97.4,2
33RR20180918, GP15,18.3,2,5,GSNIS-6    ,2,6768,13882,20181021,1503,19.6808,-154.5132,2183,2123.8,1.9956,34.6317,2,-999,9,20181021,1505,19.6808,-154.5132,153.54,2,2.78,2,39.48,2,0,2,-999,9,-999,9,2.687,1,0.017,1,4.692,1,97.5,2
33RR20180918, GP15,18.3,2,6,GSNIS-7    ,2,6768,13882,20181021,1503,19.6808,-154.5132,2183,2124.9,1.9929,34.6317,2,-999,9,20181021,1505,19.6808,-154.5132,153.74,2,2.8,2,39.4,2,0,2,-999,9,-999,9,2.687,1,0.017,1,4.692,1,97.1,2
33RR20180918, GP15,18.3,2,7,GSNIS-8    ,2,6768,13881,20181021,1503,19.6808,-154.5132,2183,2062,2.1406,34.622,2,2.1402,2,20181021,1508,19.6808,-154.5132,150.22,2,2.83,2,39.76,2,0,2,91.42,2,34.6215,2,2.659,1,0.017,1,4.691,1,91.5,2
33RR20180918, GP15,18.3,2,8,GSNIS-9    ,2,6768,13881,20181021,1503,19.6808,-154.5132,2183,2063.4,2.142,34.6218,2,-999,9,20181021,1508,19.6808,-154.5132,150.22,2,2.84,2,39.71,2,0,2,-999,9,-999,9,2.658,1,0.017,1,4.692,1,91.5,2
33RR20180918, GP15,18.3,2,9,GSNIS-10   ,2,6768,13881,20181021,1503,19.6808,-154.5132,2183,2063.2,2.1408,34.6219,2,-999,9,20181021,1508,19.6808,-154.5132,150.22,2,2.84,2,39.74,2,0,2,-999,9,-999,9,2.656,1,0.017,1,4.692,1,91.5,2
33RR20180918, GP15,18.3,2,10,GSNIS-11   ,2,6768,13880,20181021,1503,19.6808,-154.5132,2183,1941.7,2.2087,34.6173,2,2.2103,2,20181021,1512,19.6808,-154.5132,148.47,2,2.85,2,39.87,2,0,2,88.26,2,34.6168,2,2.611,1,0.018,1,4.691,1,88.6,2
33RR20180918, GP15,18.3,2,11,GSNIS-12   ,2,6768,13880,20181021,1503,19.6808,-154.5132,2183,1941,2.2101,34.6171,2,-999,9,20181021,1512,19.6808,-154.5132,148.86,2,2.86,2,39.89,2,0,2,-999,9,-999,9,2.609,1,0.017,1,4.691,1,87.9,2
33RR20180918, GP15,18.3,2,12,GSNIS-13   ,2,6768,13880,20181021,1503,19.6808,-154.5132,2183,1941.2,2.2112,34.6171,2,-999,9,20181021,1512,19.6808,-154.5132,148.86,2,2.84,2,39.87,2,0,2,-999,9,-999,9,2.608,1,0.017,1,4.691,1,88,2
33RR20180918, GP15,18.3,2,13,GSNIS-14   ,2,6768,13879,20181021,1503,19.6808,-154.5132,2183,1617.4,2.6773,34.589,2,2.6774,2,20181021,1519,19.6808,-154.5132,138.32,2,2.94,2,40.78,2,0,2,72.99,2,34.5891,2,2.599,1,0.018,1,4.69,1,72.9,2
33RR20180918, GP15,18.3,2,14,GSNIS-15   ,2,6768,13879,20181021,1503,19.6808,-154.5132,2183,1618.4,2.678,34.5891,2,2.6777,2,20181021,1519,19.6808,-154.5132,138.03,2,2.93,2,40.75,2,0,2,-999,9,-999,9,2.606,1,0.017,1,4.69,1,72.7,2
33RR20180918, GP15,18.3,2,15,GSNIS-16   ,2,6768,13879,20181021,1503,19.6808,-154.5132,2183,1617.1,2.6782,34.589,2,2.6781,2,20181021,1519,19.6808,-154.5132,138.61,2,2.94,2,40.81,2,0,2,-999,9,-999,9,2.616,1,0.018,1,4.69,1,72.7,2
33RR20180918, GP15,18.3,2,16,GSNIS-17   ,2,6768,13878,20181021,1503,19.6808,-154.5132,2183,1148.5,3.7856,34.5274,2,3.7852,2,20181021,1532,19.6808,-154.5132,113.53,2,3.03,2,41.53,2,0,2,51.46,2,34.527,2,2.807,1,0.018,1,4.688,1,51.2,2
33RR20180918, GP15,18.3,2,17,GSNIS-18   ,2,6768,13878,20181021,1503,19.6808,-154.5132,2183,1149.4,3.7859,34.5273,2,-999,9,20181021,1532,19.6808,-154.5132,113.53,2,3.03,2,41.49,2,0,2,-999,9,-999,9,2.808,1,0.018,1,4.688,1,51.2,2
33RR20180918, GP15,18.3,2,18,GSNIS-19   ,2,6768,13878,20181021,1503,19.6808,-154.5132,2183,1149.2,3.7853,34.5273,2,-999,9,20181021,1532,19.6808,-154.5132,113.53,2,3.01,2,41.53,2,0,2,-999,9,-999,9,2.808,1,0.017,1,4.688,1,51.3,2
33RR20180918, GP15,18.3,2,19,GSNIS-20   ,2,6768,13877,20181021,1503,19.6808,-154.5132,2183,1111.7,3.9418,34.5226,2,3.9414,2,20181021,1534,19.6808,-154.5132,110.41,2,3.03,2,41.81,2,0,2,47.39,2,34.5229,2,2.817,1,0.018,1,4.688,1,47,2
33RR20180918, GP15,18.3,2,20,GSNIS-21   ,2,6768,13877,20181021,1503,19.6808,-154.5132,2183,1111.3,3.9418,34.5228,2,-999,9,20181021,1534,19.6808,-154.5132,110.21,2,3.05,2,41.81,2,0,2,-999,9,-999,9,2.817,1,0.017,1,4.689,1,47,2
33RR20180918, GP15,18.3,2,21,GSNIS-22   ,2,6768,13877,20181021,1503,19.6808,-154.5132,2183,1111.4,3.9418,34.5229,2,-999,9,20181021,1534,19.6808,-154.5132,110.41,2,3.04,2,41.81,2,0,2,-999,9,-999,9,2.817,1,0.017,1,4.688,1,47.7,2
33RR20180918, GP15,18.3,2,22,GSNIS-23   ,2,6768,13876,20181021,1503,19.6808,-154.5132,2183,808.7,5.0288,34.4666,2,5.0281,2,20181021,1541,19.6808,-154.5132,88.15,2,3,2,40.93,2,0,2,38.73,2,34.4667,2,2.898,1,0.018,1,4.686,1,39.4,2
33RR20180918, GP15,18.3,2,23,GSNIS-24   ,2,6768,13876,20181021,1503,19.6808,-154.5132,2183,808.6,5.0285,34.4664,2,-999,9,20181021,1541,19.6808,-154.5132,88.35,2,2.99,2,40.95,2,0,2,-999,9,-999,9,2.899,1,0.018,1,4.686,1,39.4,2
33RR20180918, GP15,18.3,2,24,GSNIS-25   ,2,6768,13875,20181021,1503,19.6808,-154.5132,2183,506.7,6.5457,34.267,2,6.5448,2,20181021,1547,19.6808,-154.5132,63.17,2,2.75,2,36.81,2,0,2,41.54,2,34.2668,2,2.962,1,0.018,1,4.682,1,44.2,3
33RR20180918, GP15,18.3,2,25,GSNIS-26   ,2,6768,13875,20181021,1503,19.6808,-154.5132,2183,507.1,6.5453,34.2669,2,-999,9,20181021,1547,19.6808,-154.5132,63.07,2,2.73,2,36.74,2,0.01,2,-999,9,-999,9,2.961,1,0.017,1,4.682,1,45.2,3
33RR20180918, GP15,18.3,2,26,GSNIS-27   ,2,6768,13875,20181021,1503,19.6808,-154.5132,2183,505.7,6.546,34.266,2,-999,9,20181021,1547,19.6808,-154.5132,63.17,2,2.73,2,36.57,2,0.01,2,-999,9,-999,9,2.96,1,0.018,1,4.682,1,45.1,3
33RR20180918, GP15,18.3,2,27,GSNIS-28   ,2,6768,13874,20181021,1503,19.6808,-154.5132,2183,303.9,10.4185,34.093,3,10.389,3,20181021,1552,19.6808,-154.5132,15.62,2,1.11,2,15.53,2,0.01,2,192.83,2,34.0964,2,2.141,1,0.017,1,4.684,1,192.7,2
33RR20180918, GP15,18.3,2,28,GSNIS-29   ,2,6768,13874,20181021,1503,19.6808,-154.5132,2183,304.4,10.3732,34.0932,2,-999,9,20181021,1552,19.6808,-154.5132,15.62,2,1.12,2,15.64,2,0.01,2,-999,9,-999,9,2.119,1,0.016,1,4.684,1,192.9,2
33RR20180918, GP15,18.3,2,29,GSNIS-30   ,2,6768,13874,20181021,1503,19.6808,-154.5132,2183,305.3,10.359,34.0919,2,-999,9,20181021,1552,19.6808,-154.5132,15.23,2,1.1,2,15.59,2,0.01,2,-999,9,-999,9,2.097,1,0.017,1,4.684,1,192.9,2
33RR20180918, GP15,18.3,2,30,GSNIS-31   ,2,6768,13873,20181021,1503,19.6808,-154.5132,2183,103.5,21.6911,35.1489,2,21.6954,2,20181021,1557,19.6808,-154.5132,0,2,0.04,2,0,2,0.12,2,210.95,2,35.1478,2,1.797,1,0.032,1,4.656,1,210.9,2
33RR20180918, GP15,18.3,2,31,GSNIS-32   ,2,6768,13873,20181021,1503,19.6808,-154.5132,2183,102.7,21.7081,35.1478,2,-999,9,20181021,1557,19.6808,-154.5132,0,2,0.05,2,0,2,0.13,2,-999,9,-999,9,1.799,1,0.032,1,4.653,1,210.9,2
33RR20180918, GP15,18.3,2,32,GSNIS-33   ,2,6768,13873,20181021,1503,19.6808,-154.5132,2183,103.7,21.6909,35.1492,2,-999,9,20181021,1557,19.6808,-154.5132,0,2,0.05,2,0,2,0.11,2,-999,9,-999,9,1.796,1,0.032,1,4.656,1,211.1,2
33RR20180918, GP15,18.3,2,33,GSNIS-34   ,2,6768,13872,20181021,1503,19.6808,-154.5132,2183,28.3,27.0316,34.7935,2,27.0304,2,20181021,1601,19.6808,-154.5132,0,2,0.03,2,0,2,0,2,203.55,2,34.794,2,1.452,1,0.02,1,4.641,1,203.4,2
33RR20180918, GP15,18.3,2,34,GSNIS-35   ,2,6768,13872,20181021,1503,19.6808,-154.5132,2183,28.5,27.0297,34.7946,2,-999,9,20181021,1601,19.6808,-154.5132,0,2,0.03,2,0,2,0,2,-999,9,-999,9,1.436,1,0.019,1,4.64,1,203.4,2
33RR20180918, GP15,18.3,2,35,GSNIS-36   ,2,6768,13871,20181021,1503,19.6808,-154.5132,2183,4.2,27.077,34.5365,2,27.0754,2,20181021,1604,19.6808,-154.5132,0,2,0.05,2,0,2,0,2,200.8,2,34.5356,2,1.321,1,0.019,1,4.638,1,201.6,2
33RR20180918, GP15,18.3,2,36,GSNIS-1    ,2,6768,13871,20181021,1503,19.6808,-154.5132,2183,4.3,27.0762,34.5363,2,-999,9,20181021,1604,19.6808,-154.5132,0,2,0.05,2,0,2,0,2,-999,9,-999,9,1.32,1,0.019,1,4.637,1,201.8,2
33RR20180918, GP15,18.6,3,1,GSNIS-2    ,2,6775,13941,20181025,1559,18.9064,-155.258,1333,1302.6,3.7521,34.5346,2,3.7514,2,20181025,1559,18.9064,-155.2581,115.4,2,3.03,2,42.25,2,0,2,50.4,2,34.5349,2,2.842,1,0.018,1,4.683,1,50.3,2
33RR20180918, GP15,18.6,3,2,GSNIS-3    ,2,6775,13941,20181025,1559,18.9064,-155.258,1333,1302.1,3.7524,34.5343,2,-999,9,20181025,1559,18.9064,-155.2581,115.5,2,3.03,2,42.2,2,0,2,-999,9,-999,9,2.842,1,0.018,1,4.683,1,49.6,2
33RR20180918, GP15,18.6,3,3,GSNIS-4    ,2,6775,13941,20181025,1559,18.9064,-155.258,1333,1303.5,3.7516,34.5344,2,-999,9,20181025,1559,18.9064,-155.2581,115.5,2,3.03,2,42.21,2,0,2,-999,9,-999,9,2.842,1,0.017,1,4.683,1,50.5,2
33RR20180918, GP15,18.6,3,4,GSNIS-5    ,2,6775,13941,20181025,1559,18.9064,-155.258,1333,1301.1,3.7517,34.5344,2,-999,9,20181025,1559,18.9064,-155.2581,115.4,2,3.03,2,42.17,2,0,2,-999,9,-999,9,2.841,1,0.018,1,4.683,1,50.5,2
33RR20180918, GP15,18.6,3,5,GSNIS-6    ,2,6775,13941,20181025,1559,18.9064,-155.258,1333,1302,3.7516,34.5342,2,3.7505,2,20181025,1559,18.9064,-155.2581,115.3,2,3.03,2,42.14,2,0,2,-999,9,-999,9,2.841,1,0.018,1,4.683,1,50.2,2
33RR20180918, GP15,18.6,3,6,GSNIS-7    ,2,6775,13940,20181025,1559,18.9064,-155.258,1333,1262,3.7485,34.5344,2,3.7482,2,20181025,1601,18.9064,-155.258,116.48,2,3.02,2,42.2,2,0,2,50.51,2,34.5347,2,2.833,1,0.017,1,4.683,1,50.6,2
33RR20180918, GP15,18.6,3,7,GSNIS-8    ,4,6775,13940,20181025,1559,18.9064,-155.258,1333,1262.6,3.7487,34.5346,3,-999,9,20181025,1601,18.9064,-155.258,19.46,3,1.41,3,19.08,3,0,3,-999,9,-999,9,2.833,1,0.018,1,4.683,1,50.2,3
33RR20180918, GP15,18.6,3,8,GSNIS-9    ,2,6775,13940,20181025,1559,18.9064,-155.258,1333,1260.8,3.7486,34.5345,2,-999,9,20181025,1601,18.9064,-155.258,115.69,2,3.04,2,42.14,2,0,2,-999,9,-999,9,2.833,1,0.018,1,4.682,1,50.3,2
33RR20180918, GP15,18.6,3,9,GSNIS-10   ,2,6775,13940,20181025,1559,18.9064,-155.258,1333,1262.2,3.7489,34.5345,2,-999,9,20181025,1601,18.9064,-155.258,115.79,2,3.03,2,42.16,2,0,2,-999,9,-999,9,2.833,1,0.018,1,4.683,1,50.1,2
33RR20180918, GP15,18.6,3,10,GSNIS-11   ,2,6775,13940,20181025,1559,18.9064,-155.258,1333,1262.6,3.7491,34.5343,2,3.7488,2,20181025,1602,18.9064,-155.258,115.4,2,3.02,2,42.1,2,0,2,-999,9,-999,9,2.833,1,0.018,1,4.683,1,50.7,2
33RR20180918, GP15,18.6,3,11,GSNIS-12   ,2,6775,13939,20181025,1559,18.9064,-155.258,1333,1211.2,3.7693,34.5335,2,3.7693,2,20181025,1604,18.9064,-155.258,115.5,2,3.03,2,42.21,2,0,2,49.88,2,34.5321,2,2.829,1,0.018,1,4.683,1,49.9,2
33RR20180918, GP15,18.6,3,12,GSNIS-13   ,2,6775,13939,20181025,1559,18.9064,-155.258,1333,1209.5,3.7692,34.5334,2,-999,9,20181025,1604,18.9064,-155.258,115.11,2,3.01,2,42.14,2,0,2,-999,9,-999,9,2.829,1,0.017,1,4.683,1,50,2
33RR20180918, GP15,18.6,3,13,GSNIS-14   ,2,6775,13939,20181025,1559,18.9064,-155.258,1333,1212.2,3.7701,34.5332,2,-999,9,20181025,1604,18.9064,-155.258,114.91,2,3.03,2,42.13,2,0,2,-999,9,-999,9,2.829,1,0.017,1,4.683,1,50.1,2
33RR20180918, GP15,18.6,3,14,GSNIS-15   ,2,6775,13939,20181025,1559,18.9064,-155.258,1333,1210.9,3.7697,34.5333,2,-999,9,20181025,1604,18.9064,-155.258,115.21,2,3.03,2,42.17,2,0,2,-999,9,-999,9,2.829,1,0.018,1,4.683,1,50.6,2
33RR20180918, GP15,18.6,3,15,GSNIS-16   ,2,6775,13939,20181025,1559,18.9064,-155.258,1333,1211,3.7701,34.5332,2,3.7696,2,20181025,1604,18.9064,-155.2581,115.11,2,3.03,2,42.21,2,0,2,-999,9,-999,9,2.829,1,0.018,1,4.683,1,49.9,2
33RR20180918, GP15,18.6,3,16,GSNIS-17   ,2,6775,13938,20181025,1559,18.9064,-155.258,1333,1110.8,3.8903,34.5265,2,3.8901,2,20181025,1607,18.9064,-155.2581,112.17,2,3.04,2,42.11,2,0,2,48.75,2,34.526,2,2.819,1,0.018,1,4.684,1,48.8,2
33RR20180918, GP15,18.6,3,17,GSNIS-18   ,2,6775,13938,20181025,1559,18.9064,-155.258,1333,1109,3.8901,34.5265,2,-999,9,20181025,1607,18.9064,-155.2581,111.68,2,3.04,2,42.09,2,0,2,-999,9,-999,9,2.82,1,0.018,1,4.684,1,49,2
33RR20180918, GP15,18.6,3,18,GSNIS-19   ,2,6775,13938,20181025,1559,18.9064,-155.258,1333,1109.5,3.8904,34.5264,2,-999,9,20181025,1607,18.9064,-155.2581,112.17,2,3.03,2,42.06,2,0,2,-999,9,-999,9,2.82,1,0.018,1,4.684,1,49.1,2
33RR20180918, GP15,18.6,3,19,GSNIS-20   ,2,6775,13937,20181025,1559,18.9064,-155.258,1333,1009.5,4.2765,34.5057,2,4.2757,2,20181025,1610,18.9064,-155.258,103.08,2,3.03,2,41.99,2,0,2,45.27,2,34.5056,2,2.831,1,0.018,1,4.684,1,45.2,2
33RR20180918, GP15,18.6,3,20,GSNIS-21   ,2,6775,13937,20181025,1559,18.9064,-155.258,1333,1008.6,4.2733,34.5062,2,-999,9,20181025,1610,18.9065,-155.258,103.37,2,3.03,2,42.06,2,0,2,-999,9,-999,9,2.832,1,0.017,1,4.684,1,45.6,2
33RR20180918, GP15,18.6,3,21,GSNIS-22   ,2,6775,13937,20181025,1559,18.9064,-155.258,1333,1007.3,4.2754,34.506,2,-999,9,20181025,1610,18.9064,-155.258,103.57,2,3.02,2,42.04,2,0,2,-999,9,-999,9,2.832,1,0.018,1,4.684,1,45.2,2
33RR20180918, GP15,18.6,3,22,GSNIS-23   ,2,6775,13936,20181025,1559,18.9064,-155.258,1333,858.3,4.8434,34.4773,2,4.8381,2,20181025,1614,18.9064,-155.2581,92.23,2,3.03,2,42.04,2,0,2,36.7,2,34.4773,2,2.876,1,0.018,1,4.685,1,36.6,2
33RR20180918, GP15,18.6,3,23,GSNIS-24   ,2,6775,13936,20181025,1559,18.9064,-155.258,1333,857.3,4.8365,34.4779,2,-999,9,20181025,1614,18.9064,-155.258,92.42,2,3.03,2,41.91,2,0,2,-999,9,-999,9,2.877,1,0.018,1,4.685,1,36.6,2
33RR20180918, GP15,18.6,3,24,GSNIS-25   ,2,6775,13936,20181025,1559,18.9064,-155.258,1333,857,4.8401,34.4776,2,-999,9,20181025,1614,18.9064,-155.258,92.32,2,3.03,2,41.87,2,0,2,-999,9,-999,9,2.879,1,0.018,1,4.685,1,36.6,2
33RR20180918, GP15,18.6,3,25,GSNIS-26   ,2,6775,13936,20181025,1559,18.9064,-155.258,1333,858.1,4.8422,34.4772,2,-999,9,20181025,1614,18.9064,-155.258,92.03,2,3.03,2,41.81,2,0,2,-999,9,-999,9,2.881,1,0.018,1,4.685,1,36.6,2
33RR20180918, GP15,18.6,3,26,GSNIS-27   ,2,6775,13936,20181025,1559,18.9064,-155.258,1333,857.2,4.8412,34.4776,2,4.8427,2,20181025,1614,18.9064,-155.258,92.23,2,3.02,2,41.75,2,0,2,-999,9,-999,9,2.882,1,0.018,1,4.685,1,36.8,2
33RR20180918, GP15,18.6,3,27,GSNIS-28   ,2,6775,13935,20181025,1559,18.9064,-155.258,1333,634.8,5.6952,34.4014,2,5.6983,2,20181025,1619,18.9065,-155.258,76.09,2,2.92,2,39.86,2,0,2,32.46,2,34.3939,2,2.95,1,0.018,1,4.683,1,32.6,2
33RR20180918, GP15,18.6,3,28,GSNIS-29   ,2,6775,13935,20181025,1559,18.9064,-155.258,1333,635.3,5.6977,34.4012,2,-999,9,20181025,1619,18.9065,-155.258,76.97,2,2.91,2,39.76,2,0,2,-999,9,-999,9,2.951,1,0.018,1,4.682,1,32.5,2
33RR20180918, GP15,18.6,3,29,GSNIS-30   ,2,6775,13935,20181025,1559,18.9064,-155.258,1333,636.3,5.6988,34.4012,2,-999,9,20181025,1619,18.9065,-155.258,76.78,2,2.9,2,39.49,2,0,2,-999,9,-999,9,2.951,1,0.017,1,4.683,1,32.7,2
33RR20180918, GP15,18.6,3,30,GSNIS-31   ,2,6775,13934,20181025,1559,18.9064,-155.258,1333,101.6,23.6505,34.9685,2,23.6828,2,20181025,1630,18.9065,-155.258,0.2,2,0.03,2,0,2,0.09,2,209.57,2,34.9691,2,1.588,1,0.037,1,4.639,1,209.6,2
33RR20180918, GP15,18.6,3,31,GSNIS-32   ,2,6775,13934,20181025,1559,18.9064,-155.258,1333,100.8,23.6766,34.9656,2,-999,9,20181025,1630,18.9065,-155.258,0.2,2,0.04,2,0,2,0.08,2,-999,9,-999,9,1.591,1,0.038,1,4.64,1,209.3,2
33RR20180918, GP15,18.6,3,32,GSNIS-33   ,2,6775,13934,20181025,1559,18.9064,-155.258,1333,101.8,23.6921,34.9632,2,-999,9,20181025,1630,18.9064,-155.258,0,2,0.04,2,0,2,0.08,2,-999,9,-999,9,1.596,1,0.034,1,4.639,1,208.7,2
33RR20180918, GP15,18.6,3,33,GSNIS-34   ,2,6775,13933,20181025,1559,18.9064,-155.258,1333,3.6,27.1495,34.7089,2,27.1456,2,20181025,1635,18.9064,-155.258,0,2,0.04,2,0,2,0,2,202.02,2,34.7072,2,1.312,1,0.018,1,4.635,1,202.1,2
33RR20180918, GP15,18.6,3,34,GSNIS-35   ,2,6775,13933,20181025,1559,18.9064,-155.258,1333,3.1,27.1444,34.709,2,-999,9,20181025,1635,18.9064,-155.258,0.1,2,0.04,2,0.01,2,0,2,-999,9,-999,9,1.31,1,0.018,1,4.636,1,202.1,2
33RR20180918, GP15,18.6,3,35,GSNIS-36   ,2,6775,13933,20181025,1559,18.9064,-155.258,1333,3.2,27.1465,34.7088,2,-999,9,20181025,1635,18.9064,-155.258,0.1,2,0.04,2,0.03,2,0,2,-999,9,-999,9,1.306,1,0.018,1,4.634,1,202.1,2
33RR20180918, GP15,18.6,3,36,GSNIS-1    ,2,6775,13933,20181025,1559,18.9064,-155.258,1333,3.4,27.1457,34.7087,2,-999,9,20181025,1635,18.9064,-155.258,0.2,2,0.04,2,0.06,2,0,2,-999,9,-999,9,1.304,1,0.019,1,4.635,1,200.8,2