BOTTLE,20191212SIOCCHAMB
EXPOCODE,SECT_ID,STNNBR,CASTNO,SAMPNO,BTLNBR,BTLNBR_FLAG_W,GEOTRC_EVENTNO,GEOTRC_SAMPNO,DATE,TIME,LATITUDE,LONGITUDE,DEPTH,CTDPRS,CTDTMP,CTDSAL,CTDSAL_FLAG_W,REFTMP,REFTMP_FLAG_W,BTL_DATE,BTL_TIME,BTL_LAT,BTL_LON,SILCAT,SILCAT_FLAG_W,PHSPHT,PHSPHT_FLAG_W,NITRAT,NITRAT_FLAG_W,NITRIT,NITRIT_FLAG_W,OXYGEN,OXYGEN_FLAG_W,SALNTY,SALNTY_FLAG_W,CTDRINKO,CTDRINKO_FLAG_W,CTDFLUOR,CTDFLUOR_FLAG_W,CTDXMISS,CTDXMISS_FLAG_W,CTDOXY,CTDOXY_FLAG_W
,,,,,,,,,,,,,METERS,DBAR,ITS-90,PSS-78,,ITS-90,,,,,,UMOL/KG,,UMOL/KG,,UMOL/KG,,UMOL/KG,,UMOL/KG,,PSS-78,,VOLTS,,VOLTS,,VOLTS,,UMOL/KG,
33RR20180918, GP15,10,5,1,GSNIS-2    ,2,6631,13134,20181008,813,42.0003,-151.9998,5192,1008.2,3.2634,34.3183,2,3.2613,2,20181008,813,42.0003,-151.9998,131.61,2,3.13,2,44.05,2,0,2,15.91,2,34.32,2,3.116,1,0.018,1,4.698,1,16.6,2
33RR20180918, GP15,10,5,2,GSNIS-3    ,2,6631,13134,20181008,813,42.0003,-151.9998,5192,1010,3.2633,34.3181,2,-999,9,20181008,814,42.0003,-151.9998,131.9,2,3.14,2,44.02,2,0,2,-999,9,-999,9,3.123,1,0.018,1,4.698,1,16.5,2
33RR20180918, GP15,10,5,3,GSNIS-4    ,2,6631,13134,20181008,813,42.0003,-151.9998,5192,1009.3,3.2628,34.3184,2,-999,9,20181008,814,42.0003,-151.9998,132.39,2,3.13,2,44.11,2,0,2,-999,9,-999,9,3.125,1,0.018,1,4.697,1,16.7,2
33RR20180918, GP15,10,5,4,GSNIS-5    ,2,6631,13133,20181008,813,42.0003,-151.9998,5192,606.1,4.5145,34.0369,2,4.5125,2,20181008,822,42.0003,-151.9998,86.33,2,2.74,2,38.77,2,0,2,70.58,2,34.0385,2,2.887,1,0.018,1,4.694,1,72.7,2
33RR20180918, GP15,10,5,5,GSNIS-6    ,2,6631,13133,20181008,813,42.0003,-151.9998,5192,607.7,4.5112,34.038,2,-999,9,20181008,822,42.0003,-151.9998,86.42,2,2.74,2,38.69,2,0,2,-999,9,-999,9,2.884,1,0.018,1,4.697,1,72.6,2
33RR20180918, GP15,10,5,6,GSNIS-7    ,2,6631,13133,20181008,813,42.0003,-151.9998,5192,605.5,4.514,34.0368,2,-999,9,20181008,822,42.0003,-151.9998,86.91,2,2.74,2,38.69,2,0,2,-999,9,-999,9,2.876,1,0.018,1,4.696,1,73,2
33RR20180918, GP15,10,5,7,GSNIS-8    ,2,6631,13132,20181008,813,42.0003,-151.9998,5192,404.5,6.1664,33.9292,2,6.1704,2,20181008,826,42.0002,-151.9998,50.88,2,2.06,2,29.22,2,0,2,145.86,2,33.9319,2,2.387,1,0.017,1,4.687,1,147.3,2
33RR20180918, GP15,10,5,8,GSNIS-9    ,2,6631,13132,20181008,813,42.0003,-151.9998,5192,404.6,6.1671,33.9291,2,-999,9,20181008,826,42.0002,-151.9998,50.98,2,2.05,2,29.23,2,0,2,-999,9,-999,9,2.382,1,0.017,1,4.687,1,145.5,2
33RR20180918, GP15,10,5,9,GSNIS-10   ,2,6631,13132,20181008,813,42.0003,-151.9998,5192,404.3,6.1721,33.929,2,-999,9,20181008,826,42.0002,-151.9998,50.98,2,2.05,2,29.17,2,0,2,-999,9,-999,9,2.371,1,0.017,1,4.687,1,145.4,2
33RR20180918, GP15,10,5,10,GSNIS-11   ,2,6631,13131,20181008,813,42.0003,-151.9998,5192,304.9,7.7088,33.9332,2,7.7095,2,20181008,829,42.0003,-151.9998,31.64,2,1.51,2,21.42,2,0,2,194.9,2,33.9334,2,2.029,1,0.017,1,4.689,1,193.8,2
33RR20180918, GP15,10,5,11,GSNIS-12   ,2,6631,13131,20181008,813,42.0003,-151.9998,5192,302.4,7.7093,33.9334,2,-999,9,20181008,829,42.0003,-151.9998,31.25,2,1.49,2,21.39,2,0.01,2,-999,9,-999,9,2.02,1,0.017,1,4.689,1,199,2
33RR20180918, GP15,10,5,12,GSNIS-13   ,2,6631,13131,20181008,813,42.0003,-151.9998,5192,303.2,7.7125,33.9332,2,-999,9,20181008,829,42.0003,-151.9998,31.35,2,1.49,2,21.44,2,0,2,-999,9,-999,9,2.015,1,0.017,1,4.689,1,199.1,2
33RR20180918, GP15,10,5,13,GSNIS-14   ,2,6631,13130,20181008,813,42.0003,-151.9998,5192,225.4,8.3157,33.8982,2,8.3156,2,20181008,832,42.0003,-151.9998,20.7,2,1.16,2,16.43,2,0.01,2,234.49,2,33.9025,2,1.799,1,0.017,1,4.686,1,231.3,2
33RR20180918, GP15,10,5,14,GSNIS-15   ,2,6631,13130,20181008,813,42.0003,-151.9998,5192,228.9,8.3089,33.8972,2,-999,9,20181008,832,42.0003,-151.9998,20.7,2,1.17,2,16.43,2,0.01,2,-999,9,-999,9,1.796,1,0.017,1,4.687,1,231.3,2
33RR20180918, GP15,10,5,15,GSNIS-16   ,2,6631,13130,20181008,813,42.0003,-151.9998,5192,227.4,8.3184,33.8988,2,-999,9,20181008,832,42.0003,-151.9998,20.61,2,1.16,2,16.42,2,0.01,2,-999,9,-999,9,1.796,1,0.017,1,4.686,1,231.4,2
33RR20180918, GP15,10,5,16,GSNIS-17   ,2,6631,13129,20181008,813,42.0003,-151.9998,5192,153.1,9.5013,33.809,2,9.5104,2,20181008,835,42.0003,-151.9998,14.36,2,1,2,13.42,2,0.01,2,235.05,2,33.8075,2,1.663,1,0.017,1,4.685,1,235.9,2
33RR20180918, GP15,10,5,17,GSNIS-18   ,2,6631,13129,20181008,813,42.0003,-151.9998,5192,150.7,9.5195,33.8055,2,-999,9,20181008,835,42.0003,-151.9998,13.97,2,0.99,2,13.36,2,0.01,2,-999,9,-999,9,1.659,1,0.017,1,4.684,1,235.9,2
33RR20180918, GP15,10,5,18,GSNIS-19   ,2,6631,13129,20181008,813,42.0003,-151.9998,5192,151.6,9.5154,33.8067,2,-999,9,20181008,835,42.0003,-151.9998,13.77,2,0.99,2,13.39,2,0.01,2,-999,9,-999,9,1.656,1,0.017,1,4.683,1,235.9,2
33RR20180918, GP15,10,5,19,GSNIS-20   ,2,6631,13128,20181008,813,42.0003,-151.9998,5192,103.2,9.8227,33.2458,3,9.7322,2,20181008,837,42.0003,-151.9998,4.3,2,0.74,2,7.75,2,0.03,2,258.59,2,33.2185,3,1.605,1,0.024,1,4.676,1,256.4,2
33RR20180918, GP15,10,5,20,GSNIS-21   ,2,6631,13128,20181008,813,42.0003,-151.9998,5192,99.4,9.7171,33.2193,2,-999,9,20181008,837,42.0003,-151.9998,4.3,2,0.73,2,7.66,2,0.03,2,-999,9,-999,9,1.602,1,0.021,1,4.676,1,259.4,2
33RR20180918, GP15,10,5,21,GSNIS-22   ,2,6631,13127,20181008,813,42.0003,-151.9998,5192,81.6,9.907,33.0612,2,9.9061,2,20181008,839,42.0003,-151.9998,0.78,2,0.68,2,6.33,2,0.04,2,262.51,2,33.0632,2,1.558,1,0.042,1,4.649,1,264.6,2
33RR20180918, GP15,10,5,22,GSNIS-23   ,2,6631,13127,20181008,813,42.0003,-151.9998,5192,81.5,9.9038,33.0621,2,-999,9,20181008,839,42.0003,-151.9998,0.88,2,0.69,2,6.32,2,0.04,2,-999,9,-999,9,1.557,1,0.041,1,4.651,1,262.9,2
33RR20180918, GP15,10,5,23,GSNIS-24   ,2,6631,13127,20181008,813,42.0003,-151.9998,5192,80.4,9.9099,33.0603,2,-999,9,20181008,839,42.0003,-151.9998,0.88,2,0.69,2,6.29,2,0.04,2,-999,9,-999,9,1.556,1,0.042,1,4.649,1,264.2,2
33RR20180918, GP15,10,5,24,GSNIS-25   ,2,6631,13126,20181008,813,42.0003,-151.9998,5192,60.7,11.3653,33.1282,2,11.3817,2,20181008,841,42.0003,-151.9998,0,2,0.33,2,0,2,0,2,282.66,2,33.1334,2,1.516,1,0.137,1,4.45,1,287.5,3
33RR20180918, GP15,10,5,25,GSNIS-26   ,2,6631,13126,20181008,813,42.0003,-151.9998,5192,61.4,11.3749,33.1294,2,-999,9,20181008,841,42.0003,-151.9998,0,2,0.32,2,0,2,0,2,-999,9,-999,9,1.514,1,0.141,1,4.448,1,294.5,3
33RR20180918, GP15,10,5,26,GSNIS-27   ,2,6631,13126,20181008,813,42.0003,-151.9998,5192,60.5,11.4115,33.1299,2,-999,9,20181008,841,42.0003,-151.9998,0,2,0.32,2,0,2,0,2,-999,9,-999,9,1.511,1,0.138,1,4.447,1,294.8,3
33RR20180918, GP15,10,5,27,GSNIS-28   ,2,6631,13126,20181008,813,42.0003,-151.9998,5192,61.7,11.3367,33.128,2,11.3582,2,20181008,841,42.0003,-151.9998,0,2,0.36,2,0,2,0,2,-999,9,-999,9,1.509,1,0.141,1,4.449,1,292.2,3
33RR20180918, GP15,10,5,28,GSNIS-29   ,2,6631,13125,20181008,813,42.0003,-151.9998,5192,52,12.2733,33.0839,3,12.5031,3,20181008,843,42.0003,-151.9998,0,2,0.27,2,0,2,0,2,297.72,2,33.0792,3,1.449,1,0.061,1,4.523,1,301.2,2
33RR20180918, GP15,10,5,29,GSNIS-30   ,2,6631,13125,20181008,813,42.0003,-151.9998,5192,50.2,12.6609,33.0567,2,-999,9,20181008,843,42.0003,-151.9998,0,2,0.28,2,0,2,0,2,-999,9,-999,9,1.444,1,0.059,1,4.526,1,300,2
33RR20180918, GP15,10,5,30,GSNIS-31   ,2,6631,13124,20181008,813,42.0003,-151.9998,5192,40.5,17.2331,32.9926,3,17.2164,3,20181008,844,42.0003,-151.9998,0,2,0.23,2,0,2,0,2,252.6,2,32.9976,3,1.346,1,0.033,1,4.599,1,250.9,2
33RR20180918, GP15,10,5,31,GSNIS-32   ,2,6631,13124,20181008,813,42.0003,-151.9998,5192,40.8,17.2824,32.9966,2,-999,9,20181008,844,42.0003,-151.9998,0,2,0.23,2,0,2,0,2,-999,9,-999,9,1.344,1,0.032,1,4.597,1,248.8,2
33RR20180918, GP15,10,5,32,GSNIS-33   ,2,6631,13124,20181008,813,42.0003,-151.9998,5192,41.6,17.1633,32.9975,2,-999,9,20181008,844,42.0003,-151.9998,0,2,0.22,2,0,2,0,2,-999,9,-999,9,1.341,1,0.034,1,4.599,1,249,2
33RR20180918, GP15,10,5,33,GSNIS-34   ,2,6631,13123,20181008,813,42.0003,-151.9998,5192,25.6,18.2774,32.975,2,18.2782,2,20181008,846,42.0002,-151.9998,0,2,0.23,2,0,2,0,2,241.54,2,32.9768,2,1.34,1,0.026,1,4.618,1,240.6,2
33RR20180918, GP15,10,5,34,GSNIS-35   ,2,6631,13123,20181008,813,42.0003,-151.9998,5192,26.1,18.2785,32.9749,2,-999,9,20181008,846,42.0002,-151.9998,0,2,0.23,2,0,2,0,2,-999,9,-999,9,1.341,1,0.024,1,4.618,1,241.4,2
33RR20180918, GP15,10,5,35,GSNIS-36   ,2,6631,13123,20181008,813,42.0003,-151.9998,5192,26.6,18.2784,32.9751,2,-999,9,20181008,846,42.0003,-151.9998,0,2,0.23,2,0,2,0,2,-999,9,-999,9,1.342,1,0.026,1,4.617,1,241.4,2
33RR20180918, GP15,10,5,36,GSNIS-1    ,2,6631,13160,20181008,813,42.0003,-151.9998,5192,3.5,18.3569,32.9656,2,18.3573,2,20181008,848,42.0003,-151.9998,0,2,0.23,2,0,2,0,2,241.11,2,32.9676,2,1.364,1,0.024,1,4.617,1,240.4,2
33RR20180918, GP15,10,9,1,GSNIS-2    ,2,6635,13181,20181009,416,42.0003,-151.9998,5192,5157.4,1.5986,34.6867,2,1.5984,2,20181009,416,42.0003,-151.9998,171.1,2,2.56,2,36.91,2,0,2,141.17,2,34.6841,2,2.349,1,0.017,1,4.692,1,141.7,2
33RR20180918, GP15,10,9,2,GSNIS-3    ,2,6635,13181,20181009,416,42.0003,-151.9998,5192,5157.3,1.5985,34.6869,2,-999,9,20181009,416,42.0003,-151.9998,171.01,2,2.56,2,36.93,2,0,2,-999,9,-999,9,2.349,1,0.017,1,4.692,1,141.7,2
33RR20180918, GP15,10,9,3,GSNIS-4    ,2,6635,13181,20181009,416,42.0003,-151.9998,5192,5157.3,1.5986,34.6869,2,-999,9,20181009,416,42.0003,-151.9998,171.2,2,2.55,2,36.93,2,0,2,-999,9,-999,9,2.349,1,0.017,1,4.692,1,141.1,2
33RR20180918, GP15,10,9,4,GSNIS-5    ,2,6635,13181,20181009,416,42.0003,-151.9998,5192,5156.8,1.5985,34.6868,2,-999,9,20181009,416,42.0003,-151.9998,171.79,2,2.56,2,36.92,2,0,2,-999,9,-999,9,2.35,1,0.018,1,4.692,1,140.4,2
33RR20180918, GP15,10,9,5,GSNIS-6    ,2,6635,13180,20181009,416,42.0003,-151.9998,5192,5116.4,1.5931,34.6868,2,1.593,2,20181009,420,42.0003,-151.9998,171.59,2,2.57,2,36.94,2,0,2,141.87,2,34.6843,2,2.359,1,0.017,1,4.694,1,141.1,2
33RR20180918, GP15,10,9,6,GSNIS-7    ,2,6635,13180,20181009,416,42.0003,-151.9998,5192,5115.5,1.5932,34.6868,2,-999,9,20181009,420,42.0003,-151.9998,171.4,2,2.56,2,36.92,2,0,2,-999,9,-999,9,2.359,1,0.017,1,4.694,1,140.6,2
33RR20180918, GP15,10,9,7,GSNIS-8    ,2,6635,13180,20181009,416,42.0003,-151.9998,5192,5115.8,1.5932,34.6869,2,-999,9,20181009,420,42.0003,-151.9998,171.88,2,2.55,2,36.92,2,0,2,-999,9,-999,9,2.359,1,0.017,1,4.694,1,141.1,2
33RR20180918, GP15,10,9,8,GSNIS-9    ,2,6635,13180,20181009,416,42.0003,-151.9998,5192,5116.1,1.5934,34.6867,2,-999,9,20181009,420,42.0003,-151.9998,171.3,2,2.55,2,36.87,2,0,2,-999,9,-999,9,2.359,1,0.017,1,4.693,1,141.1,2
33RR20180918, GP15,10,9,9,GSNIS-10   ,2,6635,13179,20181009,416,42.0003,-151.9998,5192,4994.2,1.579,34.6866,2,1.5787,2,20181009,424,42.0003,-151.9998,172.37,2,2.55,2,36.98,2,0,2,140.68,2,34.6839,2,2.354,1,0.017,1,4.699,1,140.6,2
33RR20180918, GP15,10,9,10,GSNIS-11   ,2,6635,13179,20181009,416,42.0003,-151.9998,5192,4991.7,1.5787,34.6868,2,-999,9,20181009,424,42.0003,-151.9998,171.69,2,2.56,2,36.97,2,0,2,-999,9,-999,9,2.354,1,0.017,1,4.698,1,141.2,2
33RR20180918, GP15,10,9,11,GSNIS-12   ,2,6635,13179,20181009,416,42.0003,-151.9998,5192,4994.6,1.5789,34.6868,2,-999,9,20181009,425,42.0003,-151.9998,170.91,2,2.57,2,36.95,2,0,2,-999,9,-999,9,2.354,1,0.017,1,4.699,1,140.8,2
33RR20180918, GP15,10,9,12,GSNIS-13   ,2,6635,13179,20181009,416,42.0003,-151.9998,5192,4993.2,1.579,34.6867,2,-999,9,20181009,425,42.0003,-151.9998,171.98,2,2.58,2,36.92,2,0,2,-999,9,-999,9,2.354,1,0.017,1,4.698,1,141,2
33RR20180918, GP15,10,9,13,GSNIS-14   ,2,6635,13178,20181009,416,42.0003,-151.9998,5192,4328.2,1.5066,34.685,2,1.5063,2,20181009,437,42.0003,-151.9998,169.93,2,2.58,2,36.95,2,0,2,140.05,2,34.6817,2,2.326,1,0.017,1,4.703,1,140.2,2
33RR20180918, GP15,10,9,14,GSNIS-15   ,2,6635,13178,20181009,416,42.0003,-151.9998,5192,4329.2,1.5067,34.6849,2,-999,9,20181009,437,42.0003,-151.9998,168.18,2,2.57,2,36.95,2,0,2,-999,9,-999,9,2.327,1,0.017,1,4.703,1,139.8,2
33RR20180918, GP15,10,9,15,GSNIS-16   ,2,6635,13177,20181009,416,42.0003,-151.9998,5192,3558.3,1.4917,34.6756,2,1.4915,2,20181009,451,42.0003,-151.9998,167.88,2,2.63,2,37.71,2,0,2,128.78,2,34.6733,2,2.334,1,0.017,1,4.702,1,129,2
33RR20180918, GP15,10,9,16,GSNIS-17   ,2,6635,13177,20181009,416,42.0003,-151.9998,5192,3560,1.4918,34.6756,2,-999,9,20181009,451,42.0003,-151.9998,167.4,2,2.63,2,37.66,2,0,2,-999,9,-999,9,2.334,1,0.017,1,4.702,1,128.6,2
33RR20180918, GP15,10,9,17,GSNIS-18   ,2,6635,13177,20181009,416,42.0003,-151.9998,5192,3558.4,1.4917,34.6757,2,-999,9,20181009,452,42.0003,-151.9998,167.98,2,2.63,2,37.71,2,0,2,-999,9,-999,9,2.335,1,0.017,1,4.702,1,129.5,2
33RR20180918, GP15,10,9,18,GSNIS-19   ,2,6635,13177,20181009,416,42.0003,-151.9998,5192,3559.6,1.492,34.6755,2,-999,9,20181009,452,42.0003,-151.9998,168.18,2,2.64,2,37.69,2,0,2,-999,9,-999,9,2.335,1,0.017,1,4.702,1,128.1,2
33RR20180918, GP15,10,9,19,GSNIS-20   ,2,6635,13176,20181009,416,42.0003,-151.9998,5192,2792.1,1.6226,34.6493,2,1.6225,2,20181009,506,42.0003,-151.9998,171.6,2,2.8,2,39.77,2,0,2,97.26,2,34.6466,2,2.461,1,0.017,1,4.7,1,97.5,2
33RR20180918, GP15,10,9,20,GSNIS-21   ,2,6635,13176,20181009,416,42.0003,-151.9998,5192,2793.4,1.6227,34.6493,2,-999,9,20181009,506,42.0003,-151.9998,171.21,2,2.79,2,39.75,2,0,2,-999,9,-999,9,2.463,1,0.017,1,4.701,1,96.5,2
33RR20180918, GP15,10,9,21,GSNIS-22   ,2,6635,13176,20181009,416,42.0003,-151.9998,5192,2792.1,1.6231,34.6491,2,-999,9,20181009,506,42.0003,-151.9998,170.72,2,2.78,2,39.73,2,0,2,-999,9,-999,9,2.463,1,0.017,1,4.701,1,96.4,2
33RR20180918, GP15,10,9,22,GSNIS-23   ,2,6635,13176,20181009,416,42.0003,-151.9998,5192,2793.2,1.6231,34.6492,2,-999,9,20181009,506,42.0003,-151.9998,171.79,2,2.79,2,39.74,2,0,2,-999,9,-999,9,2.465,1,0.017,1,4.701,1,96.9,2
33RR20180918, GP15,10,9,23,GSNIS-24   ,2,6635,13175,20181009,416,42.0003,-151.9998,5192,2283.4,1.8297,34.6159,2,1.8291,2,20181009,515,42.0003,-151.9998,175.12,2,2.95,2,41.71,2,0,2,66.51,2,34.6132,2,2.641,1,0.018,1,4.699,1,65.8,2
33RR20180918, GP15,10,9,24,GSNIS-25   ,2,6635,13175,20181009,416,42.0003,-151.9998,5192,2284.3,1.8295,34.6159,2,-999,9,20181009,515,42.0003,-151.9998,175.02,2,2.94,2,41.66,2,0,2,-999,9,-999,9,2.643,1,0.018,1,4.699,1,65.6,2
33RR20180918, GP15,10,9,25,GSNIS-26   ,2,6635,13174,20181009,416,42.0003,-151.9998,5192,2028.9,1.966,34.5888,2,1.9654,2,20181009,521,42.0003,-151.9998,172.87,2,3,2,42.65,2,0,2,50.69,2,34.5854,2,2.775,1,0.017,1,4.698,1,48.9,2
33RR20180918, GP15,10,9,26,GSNIS-27   ,2,6635,13174,20181009,416,42.0003,-151.9998,5192,2028.5,1.966,34.5888,2,-999,9,20181009,521,42.0003,-151.9998,172.68,2,3.01,2,42.62,2,0,2,-999,9,-999,9,2.778,1,0.016,1,4.698,1,49.1,2
33RR20180918, GP15,10,9,27,GSNIS-28   ,2,6635,13173,20181009,416,42.0003,-151.9998,5192,1774.4,2.1489,34.5517,2,2.1503,2,20181009,526,42.0003,-151.9998,169.46,2,3.07,2,43.74,2,0,2,32.1,2,34.5497,2,2.932,1,0.018,1,4.698,1,30.8,2
33RR20180918, GP15,10,9,28,GSNIS-29   ,2,6635,13173,20181009,416,42.0003,-151.9998,5192,1775.1,2.1512,34.5514,2,-999,9,20181009,527,42.0003,-151.9998,169.66,2,3.07,2,43.76,2,0,2,-999,9,-999,9,2.934,1,0.018,1,4.698,1,30.9,2
33RR20180918, GP15,10,9,29,GSNIS-30   ,2,6635,13172,20181009,416,42.0003,-151.9998,5192,1522.3,2.4396,34.4893,2,2.4387,2,20181009,532,42.0003,-151.9998,161.76,2,3.15,2,44.68,2,0,2,14.8,2,34.4877,2,3.153,1,0.018,1,4.698,1,14.7,2
33RR20180918, GP15,10,9,30,GSNIS-31   ,2,6635,13172,20181009,416,42.0003,-151.9998,5192,1520.9,2.4386,34.4895,2,-999,9,20181009,532,42.0003,-151.9998,162.05,2,3.16,2,44.69,2,0,2,-999,9,-999,9,3.157,1,0.018,1,4.698,1,14.8,2
33RR20180918, GP15,10,9,31,GSNIS-32   ,2,6635,13172,20181009,416,42.0003,-151.9998,5192,1522.3,2.4405,34.4891,2,-999,9,20181009,532,42.0003,-151.9998,161.46,2,3.18,2,44.66,2,0,2,-999,9,-999,9,3.161,1,0.018,1,4.698,1,14.7,2
33RR20180918, GP15,10,9,32,GSNIS-33   ,2,6635,13171,20181009,416,42.0003,-151.9998,5192,1258,2.8177,34.4067,2,2.8182,2,20181009,538,42.0003,-151.9998,149.86,2,3.18,2,44.72,2,0,2,9.47,2,34.4062,2,3.314,1,0.018,1,4.697,1,10.3,2
33RR20180918, GP15,10,9,33,GSNIS-34   ,2,6635,13171,20181009,416,42.0003,-151.9998,5192,1258,2.8194,34.4064,2,-999,9,20181009,538,42.0003,-151.9998,150.15,2,3.17,2,44.69,2,0,2,-999,9,-999,9,3.316,1,0.018,1,4.697,1,10.1,2
33RR20180918, GP15,10,9,34,GSNIS-35   ,2,6635,13170,20181009,416,42.0003,-151.9998,5192,1014.4,3.2665,34.318,2,3.2666,2,20181009,544,42.0003,-151.9998,134.05,2,3.12,2,43.86,2,0,2,15.68,2,34.3167,2,3.313,1,0.018,1,4.697,1,17,2
33RR20180918, GP15,10,9,35,GSNIS-36   ,2,6635,13170,20181009,416,42.0003,-151.9998,5192,1014,3.2674,34.3178,2,-999,9,20181009,544,42.0003,-151.9998,132.88,2,3.1,2,43.77,2,0,2,-999,9,-999,9,3.313,1,0.018,1,4.697,1,16.7,2
33RR20180918, GP15,10,9,36,GSNIS-1    ,2,6635,13170,20181009,416,42.0003,-151.9998,5192,1014.2,3.2671,34.3178,2,-999,9,20181009,544,42.0003,-151.9998,132.98,2,3.09,2,43.69,2,0,2,-999,9,-999,9,3.312,1,0.018,1,4.697,1,17,2