BOTTLE,20191212SIOCCHAMB
EXPOCODE,SECT_ID,STNNBR,CASTNO,SAMPNO,BTLNBR,BTLNBR_FLAG_W,GEOTRC_EVENTNO,GEOTRC_SAMPNO,DATE,TIME,LATITUDE,LONGITUDE,DEPTH,CTDPRS,CTDTMP,CTDSAL,CTDSAL_FLAG_W,REFTMP,REFTMP_FLAG_W,BTL_DATE,BTL_TIME,BTL_LAT,BTL_LON,SILCAT,SILCAT_FLAG_W,PHSPHT,PHSPHT_FLAG_W,NITRAT,NITRAT_FLAG_W,NITRIT,NITRIT_FLAG_W,OXYGEN,OXYGEN_FLAG_W,SALNTY,SALNTY_FLAG_W,CTDRINKO,CTDRINKO_FLAG_W,CTDFLUOR,CTDFLUOR_FLAG_W,CTDXMISS,CTDXMISS_FLAG_W,CTDOXY,CTDOXY_FLAG_W
,,,,,,,,,,,,,METERS,DBAR,ITS-90,PSS-78,,ITS-90,,,,,,UMOL/KG,,UMOL/KG,,UMOL/KG,,UMOL/KG,,UMOL/KG,,PSS-78,,VOLTS,,VOLTS,,VOLTS,,UMOL/KG,
33RR20180918, GP15,21,5,1,GSNIS-2    ,2,6813,14188,20181030,1203,11.0002,-152.0004,5477,905.7,5.0992,34.5426,2,5.0975,2,20181030,1203,11.0001,-152.0004,83.56,2,2.97,2,41.59,2,0,2,46.05,2,34.5433,2,3.041,1,0.017,1,4.675,1,44.4,2
33RR20180918, GP15,21,5,2,GSNIS-3    ,2,6813,14188,20181030,1203,11.0002,-152.0004,5477,906,5.0986,34.5425,2,-999,9,20181030,1203,11.0001,-152.0004,83.46,2,2.97,2,41.54,2,0,2,-999,9,-999,9,3.039,1,0.018,1,4.676,1,47.3,2
33RR20180918, GP15,21,5,3,GSNIS-4    ,2,6813,14188,20181030,1203,11.0002,-152.0004,5477,905.5,5.0985,34.5426,2,-999,9,20181030,1203,11.0001,-152.0004,83.56,2,2.97,2,41.56,2,0,2,-999,9,-999,9,3.035,1,0.018,1,4.675,1,47.5,2
33RR20180918, GP15,21,5,4,GSNIS-5    ,2,6813,14187,20181030,1203,11.0002,-152.0004,5477,756.3,5.9104,34.5366,2,5.9102,2,20181030,1207,11.0001,-152.0005,70.95,2,2.93,2,40.88,2,0,2,38.17,2,34.5366,2,2.913,1,0.018,1,4.675,1,37.2,2
33RR20180918, GP15,21,5,5,GSNIS-6    ,2,6813,14186,20181030,1203,11.0002,-152.0004,5477,605.1,6.9642,34.5387,2,6.964,2,20181030,1211,11.0001,-152.0004,59.42,2,2.89,2,39.25,2,0,2,25.44,2,34.539,2,2.877,1,0.018,1,4.672,1,25.5,2
33RR20180918, GP15,21,5,6,GSNIS-7    ,2,6813,14186,20181030,1203,11.0002,-152.0004,5477,605.7,6.9651,34.539,2,-999,9,20181030,1211,11.0001,-152.0004,59.42,2,2.9,2,39.23,2,0,2,-999,9,-999,9,2.878,1,0.018,1,4.672,1,25.9,2
33RR20180918, GP15,21,5,7,GSNIS-8    ,2,6813,14186,20181030,1203,11.0002,-152.0004,5477,604.2,6.9638,34.5388,2,-999,9,20181030,1211,11.0001,-152.0004,59.03,2,2.89,2,39.26,2,0,2,-999,9,-999,9,2.878,1,0.018,1,4.672,1,25.3,2
33RR20180918, GP15,21,5,8,GSNIS-9    ,2,6813,14185,20181030,1203,11.0002,-152.0004,5477,403.4,9.0281,34.6174,2,9.0277,2,20181030,1216,11.0001,-152.0004,41.14,2,2.71,2,35.76,2,0,2,10.88,2,34.6172,2,2.928,1,0.018,1,4.667,1,10.8,2
33RR20180918, GP15,21,5,9,GSNIS-10   ,2,6813,14185,20181030,1203,11.0002,-152.0004,5477,403.8,9.0281,34.6176,2,-999,9,20181030,1216,11.0001,-152.0004,41.14,2,2.7,2,35.71,2,0,2,-999,9,-999,9,2.93,1,0.018,1,4.667,1,10.7,2
33RR20180918, GP15,21,5,10,GSNIS-11   ,2,6813,14185,20181030,1203,11.0002,-152.0004,5477,403.6,9.0279,34.6174,2,-999,9,20181030,1216,11.0001,-152.0004,41.34,2,2.7,2,35.68,2,0,2,-999,9,-999,9,2.932,1,0.018,1,4.666,1,10.8,2
33RR20180918, GP15,21,5,11,GSNIS-12   ,2,6813,14184,20181030,1203,11.0002,-152.0004,5477,302.2,10.0086,34.6767,2,10.015,2,20181030,1219,11.0001,-152.0004,34.4,2,2.56,2,35.11,2,0,2,7.72,2,34.6789,2,2.948,1,0.018,1,4.665,1,7.6,2
33RR20180918, GP15,21,5,12,GSNIS-13   ,2,6813,14184,20181030,1203,11.0002,-152.0004,5477,302.5,10.0144,34.6777,2,-999,9,20181030,1219,11.0001,-152.0004,34.49,2,2.56,2,34.96,2,0,2,-999,9,-999,9,2.945,1,0.018,1,4.665,1,7.2,2
33RR20180918, GP15,21,5,13,GSNIS-14   ,2,6813,14184,20181030,1203,11.0002,-152.0004,5477,302.9,10.011,34.6781,2,-999,9,20181030,1219,11.0001,-152.0004,34.4,2,2.56,2,34.93,2,0,2,-999,9,-999,9,2.942,1,0.018,1,4.665,1,7.2,2
33RR20180918, GP15,21,5,14,GSNIS-15   ,2,6813,14183,20181030,1203,11.0002,-152.0004,5477,252.7,10.5325,34.7028,2,10.5354,2,20181030,1221,11.0001,-152.0004,31.95,2,2.49,2,34.47,2,0,2,4.93,2,34.7032,2,2.854,1,0.017,1,4.665,1,5.5,2
33RR20180918, GP15,21,5,15,GSNIS-16   ,2,6813,14183,20181030,1203,11.0002,-152.0004,5477,250.9,10.5424,34.7035,2,-999,9,20181030,1221,11.0001,-152.0004,31.95,2,2.49,2,34.42,2,0,2,-999,9,-999,9,2.851,1,0.018,1,4.665,1,5.3,2
33RR20180918, GP15,21,5,16,GSNIS-17   ,2,6813,14183,20181030,1203,11.0002,-152.0004,5477,252.5,10.5321,34.703,2,-999,9,20181030,1221,11.0001,-152.0004,32.05,2,2.5,2,34.42,2,0,2,-999,9,-999,9,2.847,1,0.018,1,4.665,1,5.3,2
33RR20180918, GP15,21,5,17,GSNIS-18   ,2,6813,14182,20181030,1203,11.0002,-152.0004,5477,152.1,11.644,34.7222,2,11.6226,2,20181030,1224,11.0001,-152.0004,28.43,2,2.46,2,32.86,2,0,2,1.76,2,34.7207,2,2.741,1,0.024,1,4.665,1,4.3,3
33RR20180918, GP15,21,5,18,GSNIS-19   ,2,6813,14182,20181030,1203,11.0002,-152.0004,5477,150.3,11.6179,34.7231,2,-999,9,20181030,1224,11.0001,-152.0004,28.43,2,2.44,2,32.87,2,0,2,-999,9,-999,9,2.739,1,0.022,1,4.665,1,4.1,3
33RR20180918, GP15,21,5,19,GSNIS-20   ,2,6813,14182,20181030,1203,11.0002,-152.0004,5477,151.5,11.6117,34.7234,2,-999,9,20181030,1224,11.0001,-152.0004,28.43,2,2.45,2,32.93,2,0,2,-999,9,-999,9,2.737,1,0.024,1,4.666,1,4,3
33RR20180918, GP15,21,5,20,GSNIS-21   ,2,6813,14181,20181030,1203,11.0002,-152.0004,5477,126.5,12.006,34.6757,2,12.0321,3,20181030,1226,11.0001,-152.0004,27.17,2,2.43,2,31.62,2,0.02,2,4.75,2,34.6741,2,2.706,1,0.024,1,4.664,1,9.4,3
33RR20180918, GP15,21,5,21,GSNIS-22   ,2,6813,14181,20181030,1203,11.0002,-152.0004,5477,126.1,12.0207,34.6731,2,-999,9,20181030,1226,11.0001,-152.0004,27.07,2,2.41,2,31.48,2,0.02,2,-999,9,-999,9,2.705,1,0.025,1,4.664,1,10.1,3
33RR20180918, GP15,21,5,22,GSNIS-23   ,2,6813,14180,20181030,1203,11.0002,-152.0004,5477,101.3,12.8009,34.3575,2,12.7732,2,20181030,1228,11.0001,-152.0004,20.33,2,1.95,2,23.14,2,0.09,2,60.88,2,34.3664,2,2.694,1,0.035,1,4.652,1,70.4,3
33RR20180918, GP15,21,5,23,GSNIS-24   ,2,6813,14180,20181030,1203,11.0002,-152.0004,5477,101,12.7739,34.3672,2,-999,9,20181030,1228,11.0001,-152.0004,20.13,2,1.93,2,23.03,2,0.09,2,-999,9,-999,9,2.693,1,0.036,1,4.651,1,72.1,3
33RR20180918, GP15,21,5,24,GSNIS-25   ,2,6813,14180,20181030,1203,11.0002,-152.0004,5477,101,12.7724,34.3673,2,-999,9,20181030,1228,11.0001,-152.0004,20.13,2,1.92,2,22.97,2,0.09,2,-999,9,-999,9,2.693,1,0.036,1,4.651,1,71.5,3
33RR20180918, GP15,21,5,25,GSNIS-26   ,2,6813,14179,20181030,1203,11.0002,-152.0004,5477,80.9,16.8615,34.4451,2,16.8126,3,20181030,1230,11.0001,-152.0004,7.13,2,0.78,2,7.98,2,0.22,2,151.68,2,34.4508,3,2.683,1,0.049,1,4.628,1,159.1,3
33RR20180918, GP15,21,5,26,GSNIS-27   ,2,6813,14179,20181030,1203,11.0002,-152.0004,5477,80.2,16.8121,34.4455,2,-999,9,20181030,1230,11.0001,-152.0004,6.94,2,0.79,2,8,2,0.22,2,-999,9,-999,9,2.679,1,0.05,1,4.628,1,157.9,3
33RR20180918, GP15,21,5,27,GSNIS-28   ,2,6813,14178,20181030,1203,11.0002,-152.0004,5477,60.9,20.9386,34.547,2,21.0155,2,20181030,1232,11.0002,-152.0004,2.35,2,0.28,2,0.05,2,0.01,2,200.66,2,34.5627,2,2.414,1,0.046,1,4.607,1,201.5,2
33RR20180918, GP15,21,5,28,GSNIS-29   ,2,6813,14178,20181030,1203,11.0002,-152.0004,5477,60.5,21.024,34.5507,2,-999,9,20181030,1232,11.0002,-152.0004,2.25,2,0.28,2,0.04,2,0.01,2,-999,9,-999,9,2.424,1,0.046,1,4.6,1,202.4,2
33RR20180918, GP15,21,5,29,GSNIS-30   ,2,6813,14177,20181030,1203,11.0002,-152.0004,5477,46,23.0306,34.5875,3,23.0931,3,20181030,1233,11.0002,-152.0004,1.17,2,0.21,2,0,2,0,2,208.66,2,34.5773,3,1.966,1,0.027,1,4.614,1,208.1,2
33RR20180918, GP15,21,5,30,GSNIS-31   ,2,6813,14177,20181030,1203,11.0002,-152.0004,5477,44.7,23.1683,34.5777,2,-999,9,20181030,1234,11.0002,-152.0004,1.17,2,0.21,2,0,2,0,2,-999,9,-999,9,1.917,1,0.026,1,4.614,1,204.6,2
33RR20180918, GP15,21,5,31,GSNIS-32   ,2,6813,14177,20181030,1203,11.0002,-152.0004,5477,46,23.0216,34.5862,2,-999,9,20181030,1234,11.0002,-152.0004,0.98,2,0.21,2,0,2,0,2,-999,9,-999,9,1.868,1,0.026,1,4.613,1,208.6,2
33RR20180918, GP15,21,5,32,GSNIS-33   ,2,6813,14176,20181030,1203,11.0002,-152.0004,5477,20.7,28.8632,33.4753,2,28.8625,2,20181030,1236,11.0002,-152.0004,0.1,2,0.06,2,0,2,0,2,196.02,2,33.4764,2,1.395,1,0.018,1,4.637,1,196.5,2
33RR20180918, GP15,21,5,33,GSNIS-34   ,2,6813,14176,20181030,1203,11.0002,-152.0004,5477,20.2,28.8656,33.4752,2,-999,9,20181030,1236,11.0002,-152.0004,0,2,0.07,2,0,2,0,2,-999,9,-999,9,1.387,1,0.018,1,4.637,1,196.8,2
33RR20180918, GP15,21,5,34,GSNIS-35   ,2,6813,14176,20181030,1203,11.0002,-152.0004,5477,20.9,28.8637,33.4754,2,-999,9,20181030,1236,11.0002,-152.0004,0.1,2,0.07,2,0,2,0,2,-999,9,-999,9,1.382,1,0.018,1,4.636,1,196.7,2
33RR20180918, GP15,21,5,35,GSNIS-36   ,2,6813,14175,20181030,1203,11.0002,-152.0004,5477,3.2,28.8618,33.4776,2,28.8565,2,20181030,1238,11.0002,-152.0004,0.2,2,0.07,2,0,2,0,2,196.69,2,33.4803,2,1.326,1,0.018,1,4.634,1,197.2,2
33RR20180918, GP15,21,5,36,GSNIS-1    ,2,6813,14175,20181030,1203,11.0002,-152.0004,5477,3.1,28.8586,33.4774,2,-999,9,20181030,1239,11.0002,-152.0004,0.2,2,0.08,2,0,2,0,2,-999,9,-999,9,1.325,1,0.019,1,4.635,1,197,2
33RR20180918, GP15,21,8,1,GSNIS-2    ,2,6815,14224,20181030,1959,11.0003,-152.0004,5477,2021.5,2.2788,34.6343,2,2.2784,2,20181030,1959,11.0003,-152.0004,145.05,2,2.82,2,40.02,2,0,2,92.47,2,34.6341,2,2.68,1,0.017,1,4.683,1,91.5,2
33RR20180918, GP15,21,8,2,GSNIS-3    ,2,6815,14224,20181030,1959,11.0003,-152.0004,5477,2022,2.279,34.6342,2,-999,9,20181030,1959,11.0003,-152.0004,145.25,2,2.82,2,40.03,2,0,2,-999,9,-999,9,2.681,1,0.018,1,4.683,1,91.5,2
33RR20180918, GP15,21,8,3,GSNIS-4    ,2,6815,14224,20181030,1959,11.0003,-152.0004,5477,2021.5,2.2782,34.6345,2,-999,9,20181030,1959,11.0003,-152.0004,145.44,2,2.83,2,40.03,2,0,2,-999,9,-999,9,2.68,1,0.018,1,4.683,1,91.7,2
33RR20180918, GP15,21,8,4,GSNIS-5    ,2,6815,14223,20181030,1959,11.0003,-152.0004,5477,1818.5,2.5654,34.6208,2,2.5662,2,20181030,2004,11.0002,-152.0004,137.43,2,2.86,2,40.39,2,0,2,85.07,2,34.6193,2,2.676,1,0.018,1,4.682,1,85.7,2
33RR20180918, GP15,21,8,5,GSNIS-6    ,2,6815,14223,20181030,1959,11.0003,-152.0004,5477,1818.5,2.5653,34.6208,2,-999,9,20181030,2005,11.0002,-152.0004,137.72,2,2.85,2,40.4,2,0,2,-999,9,-999,9,2.675,1,0.017,1,4.682,1,85.4,2
33RR20180918, GP15,21,8,6,GSNIS-7    ,2,6815,14223,20181030,1959,11.0003,-152.0004,5477,1819.1,2.5667,34.6207,2,-999,9,20181030,2005,11.0002,-152.0004,137.92,2,2.87,2,40.33,2,0,2,-999,9,-999,9,2.675,1,0.017,1,4.681,1,85.6,2
33RR20180918, GP15,21,8,7,GSNIS-8    ,4,6815,14222,20181030,1959,11.0003,-152.0004,5477,1617,2.8939,34.6057,3,2.8941,3,20181030,2009,11.0002,-152.0004,0.49,3,0.13,3,0.02,3,0,3,-999,9,-999,9,2.65,1,0.018,1,4.682,1,78.6,3
33RR20180918, GP15,21,8,8,GSNIS-9    ,2,6815,14222,20181030,1959,11.0003,-152.0004,5477,1617.3,2.8941,34.6056,2,-999,9,20181030,2010,11.0002,-152.0004,130,2,2.92,2,40.74,2,0,2,78.39,2,34.606,2,2.649,1,0.018,1,4.682,1,78.5,2
33RR20180918, GP15,21,8,9,GSNIS-10   ,2,6815,14222,20181030,1959,11.0003,-152.0004,5477,1617.3,2.8945,34.6056,2,-999,9,20181030,2010,11.0002,-152.0004,129.8,2,2.93,2,40.71,2,0,2,-999,9,-999,9,2.649,1,0.017,1,4.681,1,78.5,2
33RR20180918, GP15,21,8,10,GSNIS-11   ,2,6815,14221,20181030,1959,11.0003,-152.0004,5477,1415.4,3.3907,34.5859,2,3.3893,2,20181030,2014,11.0002,-152.0004,118.18,2,2.97,2,41.01,2,0,2,70.37,2,34.5859,2,2.614,1,0.018,1,4.681,1,71.2,2
33RR20180918, GP15,21,8,11,GSNIS-12   ,2,6815,14221,20181030,1959,11.0003,-152.0004,5477,1414.5,3.3892,34.5862,2,-999,9,20181030,2014,11.0002,-152.0004,118.08,2,2.96,2,40.99,2,0,2,-999,9,-999,9,2.613,1,0.017,1,4.681,1,71.2,2
33RR20180918, GP15,21,8,12,GSNIS-13   ,2,6815,14221,20181030,1959,11.0003,-152.0004,5477,1414.8,3.3894,34.5863,2,-999,9,20181030,2014,11.0002,-152.0004,118.18,2,2.97,2,41.03,2,0,2,-999,9,-999,9,2.613,1,0.017,1,4.681,1,71.2,2
33RR20180918, GP15,21,8,13,GSNIS-14   ,2,6815,14220,20181030,1959,11.0003,-152.0004,5477,1212,3.9889,34.5663,2,3.9886,2,20181030,2019,11.0002,-152.0004,105.37,2,3,2,41.55,2,0,2,59.43,2,34.5667,2,2.606,1,0.017,1,4.681,1,60.5,2
33RR20180918, GP15,21,8,14,GSNIS-15   ,2,6815,14220,20181030,1959,11.0003,-152.0004,5477,1212.2,3.9899,34.5662,2,-999,9,20181030,2019,11.0002,-152.0004,105.37,2,3.01,2,41.51,2,0,2,-999,9,-999,9,2.607,1,0.018,1,4.68,1,60.4,2
33RR20180918, GP15,21,8,15,GSNIS-16   ,2,6815,14220,20181030,1959,11.0003,-152.0004,5477,1211.3,3.9893,34.5663,2,-999,9,20181030,2019,11.0002,-152.0004,105.47,2,3.02,2,41.5,2,0,2,-999,9,-999,9,2.608,1,0.018,1,4.68,1,60.5,2
33RR20180918, GP15,21,8,16,GSNIS-17   ,2,6815,14219,20181030,1959,11.0003,-152.0004,5477,1008.9,4.6702,34.5493,2,4.6683,2,20181030,2024,11.0002,-152.0004,90.91,2,3.03,2,41.52,2,0,2,53.6,2,34.5506,2,2.685,1,0.018,1,4.68,1,53.3,2
33RR20180918, GP15,21,8,17,GSNIS-18   ,2,6815,14219,20181030,1959,11.0003,-152.0004,5477,1009.7,4.6673,34.5495,2,-999,9,20181030,2024,11.0002,-152.0004,90.91,2,3.02,2,41.53,2,0,2,-999,9,-999,9,2.686,1,0.018,1,4.679,1,53.2,2
33RR20180918, GP15,21,8,18,GSNIS-19   ,2,6815,14219,20181030,1959,11.0003,-152.0004,5477,1009.1,4.6683,34.5496,2,-999,9,20181030,2024,11.0002,-152.0003,90.91,2,3.01,2,41.52,2,0,2,-999,9,-999,9,2.688,1,0.018,1,4.68,1,53.3,2
33RR20180918, GP15,21,8,19,GSNIS-20   ,2,6815,14218,20181030,1959,11.0003,-152.0004,5477,909.1,4.996,34.5426,2,4.9954,2,20181030,2027,11.0002,-152.0003,85.04,2,3.02,2,41.69,2,0,2,47.14,2,34.5433,2,2.741,1,0.018,1,4.679,1,46.4,2
33RR20180918, GP15,21,8,20,GSNIS-21   ,2,6815,14218,20181030,1959,11.0003,-152.0004,5477,908.2,4.9958,34.5426,2,-999,9,20181030,2027,11.0002,-152.0004,85.04,2,3.02,2,41.69,2,0,2,-999,9,-999,9,2.742,1,0.018,1,4.679,1,48.6,2
33RR20180918, GP15,21,8,21,GSNIS-22   ,2,6815,14218,20181030,1959,11.0003,-152.0004,5477,908.1,4.9965,34.5427,2,-999,9,20181030,2027,11.0002,-152.0004,85.14,2,3.03,2,41.69,2,0,2,-999,9,-999,9,2.743,1,0.018,1,4.68,1,48.1,2
33RR20180918, GP15,21,8,22,GSNIS-23   ,2,6815,14217,20181030,1959,11.0003,-152.0004,5477,808.1,5.4667,34.5379,2,5.4666,2,20181030,2030,11.0002,-152.0004,76.93,2,3.02,2,41.51,2,0,2,41.62,2,34.538,2,2.788,1,0.018,1,4.679,1,41.9,2
33RR20180918, GP15,21,8,23,GSNIS-24   ,2,6815,14217,20181030,1959,11.0003,-152.0004,5477,807.7,5.4679,34.5377,2,-999,9,20181030,2030,11.0002,-152.0004,76.93,2,3.01,2,41.48,2,0,2,-999,9,-999,9,2.79,1,0.018,1,4.679,1,42.1,2
33RR20180918, GP15,21,8,24,GSNIS-25   ,2,6815,14217,20181030,1959,11.0003,-152.0004,5477,808,5.4668,34.5378,2,-999,9,20181030,2030,11.0002,-152.0004,76.93,2,3.02,2,41.46,2,0,2,-999,9,-999,9,2.791,1,0.018,1,4.679,1,42.1,2
33RR20180918, GP15,21,8,25,GSNIS-26   ,2,6815,14216,20181030,1959,11.0003,-152.0004,5477,707.1,6.1602,34.5356,2,6.1592,2,20181030,2033,11.0002,-152.0004,66.96,2,2.96,2,40.64,2,0,2,37.26,2,34.5362,2,2.831,1,0.018,1,4.678,1,37.5,2
33RR20180918, GP15,21,8,26,GSNIS-27   ,2,6815,14216,20181030,1959,11.0003,-152.0004,5477,707.9,6.1596,34.5357,2,-999,9,20181030,2033,11.0002,-152.0004,67.06,2,2.96,2,40.64,2,0,2,-999,9,-999,9,2.832,1,0.018,1,4.677,1,37.6,2
33RR20180918, GP15,21,8,27,GSNIS-28   ,2,6815,14216,20181030,1959,11.0003,-152.0004,5477,707.4,6.1595,34.5356,2,-999,9,20181030,2034,11.0002,-152.0004,66.96,2,2.96,2,40.64,2,0,2,-999,9,-999,9,2.833,1,0.018,1,4.678,1,37.5,2
33RR20180918, GP15,21,8,28,GSNIS-29   ,2,6815,14215,20181030,1959,11.0003,-152.0004,5477,605.8,6.9575,34.5389,2,6.9546,3,20181030,2036,11.0002,-152.0004,58.94,2,2.93,2,39.43,2,0,2,26.29,2,34.5398,3,2.868,1,0.018,1,4.675,1,25.5,2
33RR20180918, GP15,21,8,29,GSNIS-30   ,2,6815,14215,20181030,1959,11.0003,-152.0004,5477,606.1,6.9589,34.5386,2,-999,9,20181030,2037,11.0002,-152.0004,58.75,2,2.92,2,39.45,2,0,2,-999,9,-999,9,2.869,1,0.018,1,4.675,1,25.2,2
33RR20180918, GP15,21,8,30,GSNIS-31   ,2,6815,14215,20181030,1959,11.0003,-152.0004,5477,606.7,6.9571,34.5388,2,-999,9,20181030,2037,11.0002,-152.0004,58.85,2,2.94,2,39.43,2,0,2,-999,9,-999,9,2.87,1,0.017,1,4.675,1,24.9,2
33RR20180918, GP15,21,8,31,GSNIS-32   ,2,6815,14214,20181030,1959,11.0003,-152.0004,5477,504,7.9167,34.5617,2,7.9214,2,20181030,2040,11.0002,-152.0004,50.83,2,2.89,2,37.5,2,0,2,12.68,2,34.562,2,2.911,1,0.018,1,4.671,1,12.1,2
33RR20180918, GP15,21,8,32,GSNIS-33   ,2,6815,14214,20181030,1959,11.0003,-152.0004,5477,504,7.9249,34.561,2,-999,9,20181030,2040,11.0002,-152.0004,50.93,2,2.89,2,37.54,2,0,2,-999,9,-999,9,2.913,1,0.018,1,4.671,1,12.5,2
33RR20180918, GP15,21,8,33,GSNIS-34   ,2,6815,14214,20181030,1959,11.0003,-152.0004,5477,504.4,7.9314,34.5623,2,-999,9,20181030,2040,11.0002,-152.0004,50.63,2,2.89,2,37.5,2,0,2,-999,9,-999,9,2.915,1,0.018,1,4.671,1,12.5,2
33RR20180918, GP15,21,8,34,GSNIS-35   ,2,6815,14213,20181030,1959,11.0003,-152.0004,5477,403.4,9.0132,34.6184,2,9.013,2,20181030,2043,11.0003,-152.0004,41.25,2,2.74,2,35.92,2,0,2,9.54,2,34.6181,2,3.015,1,0.018,1,4.669,1,10.9,2
33RR20180918, GP15,21,8,35,GSNIS-36   ,4,6815,14213,20181030,1959,11.0003,-152.0004,5477,403.1,9.0146,34.6185,3,-999,9,20181030,2043,11.0003,-152.0004,1.17,3,0.22,3,0.01,3,0,3,-999,9,-999,9,3.016,1,0.018,1,4.668,1,11,3
33RR20180918, GP15,21,8,36,GSNIS-1    ,2,6815,14213,20181030,1959,11.0003,-152.0004,5477,403.3,9.0143,34.6185,2,-999,9,20181030,2043,11.0003,-152.0004,41.44,2,2.72,2,35.85,2,0,2,-999,9,-999,9,3.018,1,0.018,1,4.668,1,10.9,2