BOTTLE,20191212SIOCCHAMB
EXPOCODE,SECT_ID,STNNBR,CASTNO,SAMPNO,BTLNBR,BTLNBR_FLAG_W,GEOTRC_EVENTNO,GEOTRC_SAMPNO,DATE,TIME,LATITUDE,LONGITUDE,DEPTH,CTDPRS,CTDTMP,CTDSAL,CTDSAL_FLAG_W,REFTMP,REFTMP_FLAG_W,BTL_DATE,BTL_TIME,BTL_LAT,BTL_LON,SILCAT,SILCAT_FLAG_W,PHSPHT,PHSPHT_FLAG_W,NITRAT,NITRAT_FLAG_W,NITRIT,NITRIT_FLAG_W,OXYGEN,OXYGEN_FLAG_W,SALNTY,SALNTY_FLAG_W,CTDRINKO,CTDRINKO_FLAG_W,CTDFLUOR,CTDFLUOR_FLAG_W,CTDXMISS,CTDXMISS_FLAG_W,CTDOXY,CTDOXY_FLAG_W
,,,,,,,,,,,,,METERS,DBAR,ITS-90,PSS-78,,ITS-90,,,,,,UMOL/KG,,UMOL/KG,,UMOL/KG,,UMOL/KG,,UMOL/KG,,PSS-78,,VOLTS,,VOLTS,,VOLTS,,UMOL/KG,
33RR20180918, GP15,12,6,1,GSNIS-2    ,2,6656,13262,20181010,2324,37.0002,-152,5701,1110,3.1275,34.3731,2,3.1226,2,20181010,2324,37.0003,-152,139.61,2,3.22,2,44.97,2,0,2,6.78,2,34.3743,2,2.073,1,0.018,1,4.694,1,8.2,2
33RR20180918, GP15,12,6,2,GSNIS-3    ,2,6656,13262,20181010,2324,37.0002,-152,5701,1111.3,3.1217,34.3745,2,-999,9,20181010,2324,37.0003,-152,139.02,2,3.24,2,44.92,2,0,2,-999,9,-999,9,2.07,1,0.018,1,4.694,1,8.2,2
33RR20180918, GP15,12,6,3,GSNIS-4    ,2,6656,13262,20181010,2324,37.0002,-152,5701,1110.3,3.1266,34.3733,2,-999,9,20181010,2324,37.0003,-152,139.41,2,3.21,2,44.89,2,0,2,-999,9,-999,9,2.069,1,0.018,1,4.695,1,8.3,2
33RR20180918, GP15,12,6,4,GSNIS-5    ,2,6656,13261,20181010,2324,37.0002,-152,5701,707.6,4.3913,34.1058,2,4.3918,2,20181010,2332,37.0003,-152,95.3,2,2.89,2,40.58,2,0,2,49.37,2,34.1081,2,2.055,1,0.018,1,4.693,1,51.7,2
33RR20180918, GP15,12,6,5,GSNIS-6    ,2,6656,13261,20181010,2324,37.0002,-152,5701,707.3,4.3927,34.1055,2,-999,9,20181010,2332,37.0003,-152,95.01,2,2.86,2,40.48,2,0,2,-999,9,-999,9,2.057,1,0.018,1,4.692,1,52,2
33RR20180918, GP15,12,6,6,GSNIS-7    ,2,6656,13261,20181010,2324,37.0002,-152,5701,707,4.3936,34.1052,2,-999,9,20181010,2332,37.0003,-152,95.99,2,2.87,2,40.52,2,0,2,-999,9,-999,9,2.059,1,0.018,1,4.692,1,51.9,2
33RR20180918, GP15,12,6,7,GSNIS-8    ,2,6656,13260,20181010,2324,37.0002,-152,5701,429.6,7.1561,33.9919,2,7.1649,2,20181010,2338,37.0003,-152,43.46,2,1.88,2,26.81,2,0,2,152.69,2,33.9941,2,2.404,1,0.017,1,4.686,1,151.3,2
33RR20180918, GP15,12,6,8,GSNIS-9    ,2,6656,13260,20181010,2324,37.0002,-152,5701,429.9,7.165,33.9919,2,-999,9,20181010,2338,37.0003,-152,43.46,2,1.88,2,26.84,2,0,2,-999,9,-999,9,2.401,1,0.017,1,4.686,1,153.1,2
33RR20180918, GP15,12,6,9,GSNIS-10   ,2,6656,13260,20181010,2324,37.0002,-152,5701,430,7.1632,33.9916,2,-999,9,20181010,2338,37.0003,-152,43.46,2,1.88,2,26.82,2,0,2,-999,9,-999,9,2.399,1,0.018,1,4.687,1,152.9,2
33RR20180918, GP15,12,6,10,GSNIS-11   ,2,6656,13259,20181010,2324,37.0002,-152,5701,328.7,9.0933,34.059,2,9.0956,2,20181010,2341,37.0003,-152,23.83,2,1.27,2,18.37,2,0,2,200.45,2,34.0612,2,2.188,1,0.017,1,4.689,1,204.5,2
33RR20180918, GP15,12,6,11,GSNIS-12   ,2,6656,13259,20181010,2324,37.0002,-152,5701,328.1,9.1042,34.0594,2,-999,9,20181010,2342,37.0003,-152,23.53,2,1.26,2,18.24,2,0.01,2,-999,9,-999,9,2.183,1,0.017,1,4.689,1,200.3,2
33RR20180918, GP15,12,6,12,GSNIS-13   ,2,6656,13259,20181010,2324,37.0002,-152,5701,329.3,9.089,34.059,2,-999,9,20181010,2342,37.0003,-152,23.63,2,1.27,2,18.26,2,0.01,2,-999,9,-999,9,2.18,1,0.017,1,4.689,1,199.9,2
33RR20180918, GP15,12,6,13,GSNIS-14   ,2,6656,13258,20181010,2324,37.0002,-152,5701,182.6,11.2581,34.1593,2,11.2574,2,20181010,2345,37.0003,-152,11.91,2,0.85,2,12.16,2,0.01,2,218.47,2,34.1651,2,1.786,1,0.017,1,4.689,1,216.5,2
33RR20180918, GP15,12,6,14,GSNIS-15   ,2,6656,13258,20181010,2324,37.0002,-152,5701,182,11.2559,34.1592,2,-999,9,20181010,2345,37.0003,-152,12.11,2,0.84,2,12.16,2,0.01,2,-999,9,-999,9,1.78,1,0.017,1,4.689,1,216.5,2
33RR20180918, GP15,12,6,15,GSNIS-16   ,2,6656,13258,20181010,2324,37.0002,-152,5701,182,11.2554,34.1595,2,-999,9,20181010,2346,37.0003,-152,11.72,2,0.85,2,12.12,2,0.01,2,-999,9,-999,9,1.778,1,0.017,1,4.689,1,216.5,2
33RR20180918, GP15,12,6,16,GSNIS-17   ,2,6656,13257,20181010,2324,37.0002,-152,5701,142.2,11.9955,34.1022,2,11.9947,2,20181010,2348,37.0003,-152,8.01,2,0.68,2,9.07,2,0.01,2,225.72,2,34.106,2,1.738,1,0.022,1,4.684,1,224.9,2
33RR20180918, GP15,12,6,17,GSNIS-18   ,2,6656,13257,20181010,2324,37.0002,-152,5701,141.6,11.9958,34.1015,2,-999,9,20181010,2348,37.0003,-152,7.81,2,0.66,2,8.98,2,0.01,2,-999,9,-999,9,1.738,1,0.022,1,4.683,1,225.1,2
33RR20180918, GP15,12,6,18,GSNIS-19   ,2,6656,13257,20181010,2324,37.0002,-152,5701,141.9,11.9954,34.1022,2,-999,9,20181010,2348,37.0003,-152,7.81,2,0.66,2,8.96,2,0.01,2,-999,9,-999,9,1.738,1,0.022,1,4.684,1,225,2
33RR20180918, GP15,12,6,19,GSNIS-20   ,2,6656,13256,20181010,2324,37.0002,-152,5701,106.8,12.5323,33.8044,2,12.534,2,20181010,2350,37.0003,-152,3.52,2,0.41,2,3.4,2,0.08,2,236.82,2,33.7978,2,1.687,1,0.031,1,4.667,1,238.1,2
33RR20180918, GP15,12,6,20,GSNIS-21   ,2,6656,13256,20181010,2324,37.0002,-152,5701,106.3,12.532,33.807,2,-999,9,20181010,2350,37.0003,-152,3.52,2,0.41,2,3.38,2,0.09,2,-999,9,-999,9,1.676,1,0.032,1,4.667,1,238.2,2
33RR20180918, GP15,12,6,21,GSNIS-22   ,2,6656,13256,20181010,2324,37.0002,-152,5701,106.8,12.5334,33.8044,2,-999,9,20181010,2350,37.0003,-152,3.52,2,0.4,2,3.32,2,0.09,2,-999,9,-999,9,1.669,1,0.031,1,4.667,1,238.1,2
33RR20180918, GP15,12,6,22,GSNIS-23   ,2,6656,13255,20181010,2324,37.0002,-152,5701,97.1,12.565,33.6773,3,12.5482,2,20181010,2351,37.0003,-152,2.44,2,0.34,2,1.88,2,0.06,2,241.07,2,33.6565,3,1.585,1,0.04,1,4.653,1,240.7,2
33RR20180918, GP15,12,6,23,GSNIS-24   ,2,6656,13255,20181010,2324,37.0002,-152,5701,95.4,12.537,33.7115,2,-999,9,20181010,2352,37.0003,-152,2.54,2,0.36,2,1.82,2,0.06,2,-999,9,-999,9,1.583,1,0.038,1,4.653,1,240.9,2
33RR20180918, GP15,12,6,24,GSNIS-25   ,2,6656,13255,20181010,2324,37.0002,-152,5701,96.8,12.5635,33.6786,2,-999,9,20181010,2352,37.0003,-152,2.34,2,0.34,2,1.85,2,0.06,2,-999,9,-999,9,1.583,1,0.039,1,4.654,1,241.9,2
33RR20180918, GP15,12,6,25,GSNIS-26   ,2,6656,13254,20181010,2324,37.0002,-152,5701,86.2,12.7167,33.5843,2,12.7205,2,20181010,2353,37.0003,-152,1.56,2,0.24,2,0.08,2,0.13,2,250.56,2,33.5823,2,1.556,1,0.052,1,4.631,1,249.7,2
33RR20180918, GP15,12,6,26,GSNIS-27   ,2,6656,13254,20181010,2324,37.0002,-152,5701,86,12.7175,33.5852,2,-999,9,20181010,2354,37.0003,-152,1.66,2,0.24,2,0.11,2,0.13,2,-999,9,-999,9,1.555,1,0.054,1,4.631,1,252.1,2
33RR20180918, GP15,12,6,27,GSNIS-28   ,2,6656,13254,20181010,2324,37.0002,-152,5701,86.5,12.7359,33.581,2,-999,9,20181010,2354,37.0003,-152,1.66,2,0.25,2,0.08,2,0.13,2,-999,9,-999,9,1.553,1,0.056,1,4.632,1,251.9,2
33RR20180918, GP15,12,6,28,GSNIS-29   ,2,6656,13253,20181010,2324,37.0002,-152,5701,61.2,14.6368,33.7149,3,14.6599,3,20181010,2356,37.0003,-152,1.56,2,0.14,2,0,2,0,2,269.66,2,33.7077,3,1.506,1,0.028,1,4.633,1,270.9,2
33RR20180918, GP15,12,6,29,GSNIS-30   ,2,6656,13253,20181010,2324,37.0002,-152,5701,61.7,14.6894,33.7219,2,-999,9,20181010,2356,37.0003,-152,1.66,2,0.14,2,0,2,0,2,-999,9,-999,9,1.504,1,0.027,1,4.632,1,272.2,2
33RR20180918, GP15,12,6,30,GSNIS-31   ,2,6656,13253,20181010,2324,37.0002,-152,5701,60.4,14.5943,33.705,2,-999,9,20181010,2356,37.0003,-152,1.66,2,0.13,2,0,2,0,2,-999,9,-999,9,1.502,1,0.027,1,4.633,1,271.3,2
33RR20180918, GP15,12,6,31,GSNIS-32   ,2,6656,13252,20181010,2324,37.0002,-152,5701,41.8,19.2015,33.7013,3,19.5671,3,20181010,2358,37.0003,-152,1.47,2,0.08,2,0,2,0,2,255.79,2,33.7089,3,1.416,1,0.021,1,4.631,1,242.8,3
33RR20180918, GP15,12,6,32,GSNIS-33   ,2,6656,13252,20181010,2324,37.0002,-152,5701,40.6,19.7554,33.693,2,-999,9,20181010,2358,37.0003,-152,1.56,2,0.07,2,0,2,0,2,-999,9,-999,9,1.407,1,0.021,1,4.632,1,236,3
33RR20180918, GP15,12,6,33,GSNIS-34   ,2,6656,13251,20181010,2324,37.0002,-152,5701,25.6,21.8294,33.8864,2,21.8345,2,20181011,0,37.0003,-152,1.66,2,0.06,2,0,2,0,2,223.58,2,33.8879,2,1.321,1,0.018,1,4.65,1,221.1,2
33RR20180918, GP15,12,6,34,GSNIS-35   ,2,6656,13251,20181010,2324,37.0002,-152,5701,26.5,21.8362,33.8863,2,-999,9,20181011,0,37.0003,-152,1.66,2,0.05,2,0,2,0,2,-999,9,-999,9,1.319,1,0.018,1,4.65,1,220.4,2
33RR20180918, GP15,12,6,35,GSNIS-36   ,2,6656,13251,20181010,2324,37.0002,-152,5701,26.1,21.8365,33.8865,2,-999,9,20181011,1,37.0003,-152,1.66,2,0.06,2,0,2,0,2,-999,9,-999,9,1.317,1,0.018,1,4.651,1,220.5,2
33RR20180918, GP15,12,6,36,GSNIS-1    ,2,6656,13250,20181010,2324,37.0002,-152,5701,2.7,21.9166,33.8907,2,21.931,2,20181011,3,37.0002,-152,1.56,2,0.05,2,0,2,0,2,223.57,2,33.8932,2,1.304,1,0.017,1,4.651,1,220,2
33RR20180918, GP15,12,9,1,GSNIS-2    ,2,6660,13303,20181011,742,37.0002,-152.0001,5701,2126.7,1.8783,34.614,2,-999,9,20181011,742,37.0002,-152.0001,171.6,2,2.93,2,41.59,2,0,2,67.19,2,34.6136,2,2.843,1,0.017,1,4.697,1,67,2
33RR20180918, GP15,12,9,2,GSNIS-3    ,2,6660,13303,20181011,742,37.0002,-152.0001,5701,2126.2,1.8791,34.6137,2,-999,9,20181011,742,37.0002,-152.0001,171.8,2,2.93,2,41.56,2,0,2,-999,9,-999,9,2.843,1,0.018,1,4.697,1,67.1,2
33RR20180918, GP15,12,9,3,GSNIS-4    ,2,6660,13303,20181011,742,37.0002,-152.0001,5701,2125.4,1.8789,34.6137,2,-999,9,20181011,742,37.0002,-152.0001,171.89,2,2.93,2,41.54,2,0,2,-999,9,-999,9,2.844,1,0.018,1,4.697,1,67,2
33RR20180918, GP15,12,9,4,GSNIS-5    ,2,6660,13302,20181011,742,37.0002,-152.0001,5701,1922,2.0392,34.5937,2,-999,9,20181011,747,37.0003,-152.0002,169.36,2,3,2,42.33,2,0,2,56.15,2,34.594,2,2.943,1,0.017,1,4.696,1,50,3
33RR20180918, GP15,12,9,5,GSNIS-6    ,2,6660,13302,20181011,742,37.0002,-152.0001,5701,1922,2.0393,34.5939,2,-999,9,20181011,748,37.0003,-152.0002,169.55,2,3,2,42.32,2,0,2,-999,9,-999,9,2.944,1,0.018,1,4.696,1,54.1,3
33RR20180918, GP15,12,9,6,GSNIS-7    ,2,6660,13302,20181011,742,37.0002,-152.0001,5701,1923.5,2.0392,34.5939,2,-999,9,20181011,748,37.0003,-152.0002,169.46,2,3,2,42.32,2,0,2,-999,9,-999,9,2.944,1,0.017,1,4.696,1,53.5,3
33RR20180918, GP15,12,9,7,GSNIS-8    ,2,6660,13301,20181011,742,37.0002,-152.0001,5701,1718.4,2.2517,34.5595,2,-999,9,20181011,754,37.0002,-152.0001,165.36,2,3.07,2,43.43,2,0,2,37.52,2,34.5599,2,2.939,1,0.018,1,4.696,1,34.7,3
33RR20180918, GP15,12,9,8,GSNIS-9    ,2,6660,13301,20181011,742,37.0002,-152.0001,5701,1717.8,2.2516,34.5593,2,-999,9,20181011,755,37.0002,-152.0001,165.26,2,3.07,2,43.39,2,0,2,-999,9,-999,9,2.939,1,0.018,1,4.696,1,36.8,2
33RR20180918, GP15,12,9,9,GSNIS-10   ,2,6660,13301,20181011,742,37.0002,-152.0001,5701,1719.2,2.2514,34.5594,2,-999,9,20181011,755,37.0002,-152.0001,164.97,2,3.07,2,43.39,2,0,2,-999,9,-999,9,2.938,1,0.018,1,4.696,1,36.9,2
33RR20180918, GP15,12,9,10,GSNIS-11   ,2,6660,13300,20181011,742,37.0002,-152.0001,5701,1516.2,2.5307,34.5122,2,-999,9,20181011,802,37.0002,-152.0001,157.95,2,3.14,2,44.34,2,0,2,21.63,2,34.5128,2,2.961,1,0.018,1,4.694,1,19.6,3
33RR20180918, GP15,12,9,11,GSNIS-12   ,2,6660,13300,20181011,742,37.0002,-152.0001,5701,1516.8,2.5309,34.5124,2,-999,9,20181011,802,37.0002,-152.0001,157.36,2,3.15,2,44.38,2,0,2,-999,9,-999,9,2.963,1,0.018,1,4.694,1,21.1,2
33RR20180918, GP15,12,9,12,GSNIS-13   ,2,6660,13300,20181011,742,37.0002,-152.0001,5701,1515.4,2.5296,34.5124,2,-999,9,20181011,802,37.0002,-152.0001,158.14,2,3.15,2,44.36,2,0,2,-999,9,-999,9,2.964,1,0.018,1,4.694,1,20.5,2
33RR20180918, GP15,12,9,13,GSNIS-14   ,2,6660,13299,20181011,742,37.0002,-152.0001,5701,1313.4,2.8065,34.45,2,-999,9,20181011,807,37.0002,-152.0001,150.34,2,3.2,2,44.93,2,0,2,9.97,2,34.4507,2,3.171,1,0.018,1,4.694,1,10.8,2
33RR20180918, GP15,12,9,14,GSNIS-15   ,2,6660,13299,20181011,742,37.0002,-152.0001,5701,1312.8,2.8027,34.4504,2,-999,9,20181011,808,37.0002,-152.0001,150.34,2,3.19,2,44.97,2,0,2,-999,9,-999,9,3.175,1,0.018,1,4.694,1,10.7,2
33RR20180918, GP15,12,9,15,GSNIS-16   ,2,6660,13299,20181011,742,37.0002,-152.0001,5701,1312.4,2.8057,34.4503,2,-999,9,20181011,808,37.0002,-152.0001,150.15,2,3.19,2,44.91,2,0,2,-999,9,-999,9,3.179,1,0.018,1,4.693,1,10.7,2
33RR20180918, GP15,12,9,16,GSNIS-17   ,2,6660,13298,20181011,742,37.0002,-152.0001,5701,1108.9,3.1665,34.3601,2,-999,9,20181011,813,37.0003,-152.0001,137.85,2,3.2,2,44.81,2,0,2,6.92,2,34.3598,2,3.339,1,0.018,1,4.693,1,8.4,2
33RR20180918, GP15,12,9,17,GSNIS-18   ,2,6660,13298,20181011,742,37.0002,-152.0001,5701,1109.7,3.1677,34.3596,2,-999,9,20181011,813,37.0002,-152.0001,137.85,2,3.21,2,44.78,2,0,2,-999,9,-999,9,3.34,1,0.018,1,4.694,1,8.6,2
33RR20180918, GP15,12,9,18,GSNIS-19   ,2,6660,13298,20181011,742,37.0002,-152.0001,5701,1109.5,3.1671,34.3598,2,-999,9,20181011,813,37.0002,-152.0001,137.95,2,3.21,2,44.79,2,0,2,-999,9,-999,9,3.341,1,0.018,1,4.693,1,8.1,2
33RR20180918, GP15,12,9,19,GSNIS-20   ,2,6660,13297,20181011,742,37.0002,-152.0001,5701,909.1,3.6525,34.2434,2,-999,9,20181011,818,37.0002,-152.0001,119.8,2,3.11,2,43.61,2,0,2,17.39,2,34.2446,2,3.357,1,0.018,1,4.693,1,19.5,2
33RR20180918, GP15,12,9,20,GSNIS-21   ,2,6660,13297,20181011,742,37.0002,-152.0001,5701,909.4,3.6528,34.2433,2,-999,9,20181011,818,37.0002,-152.0001,119.8,2,3.11,2,43.61,2,0,2,-999,9,-999,9,3.354,1,0.018,1,4.693,1,19.6,2
33RR20180918, GP15,12,9,21,GSNIS-22   ,2,6660,13297,20181011,742,37.0002,-152.0001,5701,909,3.6525,34.2432,2,-999,9,20181011,818,37.0002,-152.0001,119.9,2,3.11,2,43.62,2,0,2,-999,9,-999,9,3.353,1,0.018,1,4.693,1,19.6,2
33RR20180918, GP15,12,9,22,GSNIS-23   ,2,6660,13296,20181011,742,37.0002,-152.0001,5701,809.5,4.0237,34.1723,2,-999,9,20181011,821,37.0003,-152.0001,107.21,2,3.02,2,42.2,2,0,2,31.03,2,34.1747,2,3.28,1,0.018,1,4.692,1,33.8,2
33RR20180918, GP15,12,9,23,GSNIS-24   ,2,6660,13296,20181011,742,37.0002,-152.0001,5701,808.5,4.0133,34.1746,2,-999,9,20181011,821,37.0003,-152.0001,107.12,2,3.02,2,42.16,2,0,2,-999,9,-999,9,3.277,1,0.018,1,4.692,1,32.9,2
33RR20180918, GP15,12,9,24,GSNIS-25   ,2,6660,13296,20181011,742,37.0002,-152.0001,5701,809.2,4.0167,34.1741,2,-999,9,20181011,822,37.0003,-152.0001,107.51,2,3.02,2,42.15,2,0,2,-999,9,-999,9,3.275,1,0.018,1,4.692,1,32.6,2
33RR20180918, GP15,12,9,25,GSNIS-26   ,2,6660,13295,20181011,742,37.0002,-152.0001,5701,707.3,4.4505,34.095,2,-999,9,20181011,825,37.0002,-152.0001,92.57,2,2.86,2,39.88,2,0,2,52.91,2,34.0944,2,3.11,1,0.018,1,4.691,1,55.4,2
33RR20180918, GP15,12,9,26,GSNIS-27   ,2,6660,13295,20181011,742,37.0002,-152.0001,5701,707.4,4.4502,34.0949,2,-999,9,20181011,825,37.0002,-152.0001,92.67,2,2.85,2,39.92,2,0,2,-999,9,-999,9,3.103,1,0.018,1,4.691,1,54.8,2
33RR20180918, GP15,12,9,27,GSNIS-28   ,2,6660,13295,20181011,742,37.0002,-152.0001,5701,707.4,4.4568,34.0938,2,-999,9,20181011,825,37.0002,-152.0001,92.67,2,2.86,2,39.85,2,0,2,-999,9,-999,9,3.098,1,0.018,1,4.691,1,55.9,2
33RR20180918, GP15,12,9,28,GSNIS-29   ,2,6660,13294,20181011,742,37.0002,-152.0001,5701,606.3,5.09,34.0087,2,-999,9,20181011,827,37.0002,-152.0001,75,2,2.58,2,35.82,2,0,2,89.9,2,34.0097,2,2.846,1,0.018,1,4.686,1,92.9,2
33RR20180918, GP15,12,9,29,GSNIS-30   ,2,6660,13294,20181011,742,37.0002,-152.0001,5701,606.5,5.1012,34.0074,2,-999,9,20181011,828,37.0002,-152.0001,74.9,2,2.56,2,35.71,2,0.01,2,-999,9,-999,9,2.841,1,0.017,1,4.689,1,93.6,2
33RR20180918, GP15,12,9,30,GSNIS-31   ,2,6660,13294,20181011,742,37.0002,-152.0001,5701,605.8,5.0882,34.0087,2,-999,9,20181011,828,37.0002,-152.0001,75.1,2,2.57,2,35.66,2,0,2,-999,9,-999,9,2.836,1,0.017,1,4.689,1,92.9,2
33RR20180918, GP15,12,9,31,GSNIS-32   ,2,6660,13293,20181011,742,37.0002,-152.0001,5701,505.2,6.2224,33.9773,2,-999,9,20181011,831,37.0003,-152.0001,54.69,2,2.17,2,30.09,2,0.01,2,130.04,2,33.979,2,2.496,1,0.018,1,4.686,1,129.9,2
33RR20180918, GP15,12,9,32,GSNIS-33   ,2,6660,13293,20181011,742,37.0002,-152.0001,5701,504.9,6.2293,33.9776,2,-999,9,20181011,831,37.0003,-152.0001,55.18,2,2.17,2,30.17,2,0,2,-999,9,-999,9,2.491,1,0.018,1,4.685,1,130.2,2
33RR20180918, GP15,12,9,33,GSNIS-34   ,5,6660,13293,20181011,742,37.0002,-152.0001,5701,504.2,6.2224,33.9782,3,-999,9,20181011,831,37.0003,-152.0001,-999,9,-999,9,-999,9,-999,9,-999,9,-999,9,2.486,1,0.017,1,4.685,1,129.7,3
33RR20180918, GP15,12,9,34,GSNIS-35   ,2,6660,13292,20181011,742,37.0002,-152.0001,5701,429.6,7.5218,34.0038,2,-999,9,20181011,833,37.0002,-152.0001,38.38,2,1.74,2,24.59,2,0,2,162.68,2,34.0064,2,2.28,1,0.017,1,4.685,1,161.4,2
33RR20180918, GP15,12,9,35,GSNIS-36   ,2,6660,13292,20181011,742,37.0002,-152.0001,5701,428.8,7.5384,34.0022,2,-999,9,20181011,834,37.0002,-152.0001,38.28,2,1.74,2,24.49,2,0.01,2,-999,9,-999,9,2.275,1,0.017,1,4.685,1,161.9,2
33RR20180918, GP15,12,9,36,GSNIS-1    ,2,6660,13292,20181011,742,37.0002,-152.0001,5701,428.9,7.5372,34.0027,2,-999,9,20181011,834,37.0002,-152.0001,38.18,2,1.72,2,24.53,2,0.01,2,-999,9,-999,9,2.271,1,0.017,1,4.685,1,161.9,2