BOTTLE,20191212SIOCCHAMB
EXPOCODE,SECT_ID,STNNBR,CASTNO,SAMPNO,BTLNBR,BTLNBR_FLAG_W,GEOTRC_EVENTNO,GEOTRC_SAMPNO,DATE,TIME,LATITUDE,LONGITUDE,DEPTH,CTDPRS,CTDTMP,CTDSAL,CTDSAL_FLAG_W,REFTMP,REFTMP_FLAG_W,BTL_DATE,BTL_TIME,BTL_LAT,BTL_LON,SILCAT,SILCAT_FLAG_W,PHSPHT,PHSPHT_FLAG_W,NITRAT,NITRAT_FLAG_W,NITRIT,NITRIT_FLAG_W,OXYGEN,OXYGEN_FLAG_W,SALNTY,SALNTY_FLAG_W,CTDRINKO,CTDRINKO_FLAG_W,CTDFLUOR,CTDFLUOR_FLAG_W,CTDXMISS,CTDXMISS_FLAG_W,CTDOXY,CTDOXY_FLAG_W
,,,,,,,,,,,,,METERS,DBAR,ITS-90,PSS-78,,ITS-90,,,,,,UMOL/KG,,UMOL/KG,,UMOL/KG,,UMOL/KG,,UMOL/KG,,PSS-78,,VOLTS,,VOLTS,,VOLTS,,UMOL/KG,
33RR20180918, GP15,8,9,1,GSNIS-2    ,2,6608,12962,20181005,1011,47.0002,-151.9996,5237,1923.4,2.0206,34.5717,2,2.0198,2,20181005,1011,47.0002,-151.9997,171.61,2,3.06,2,43.26,2,0,2,42.86,2,34.572,2,3.073,1,0.018,1,4.702,1,41.9,2
33RR20180918, GP15,8,9,2,GSNIS-3    ,2,6608,12962,20181005,1011,47.0002,-151.9996,5237,1924.9,2.0203,34.5717,2,-999,9,20181005,1011,47.0002,-151.9997,172.09,2,3.06,2,43.19,2,0,2,-999,9,-999,9,3.066,1,0.018,1,4.702,1,41.9,2
33RR20180918, GP15,8,9,3,GSNIS-4    ,2,6608,12962,20181005,1011,47.0002,-151.9996,5237,1921.8,2.0203,34.5717,2,-999,9,20181005,1011,47.0002,-151.9997,172.19,2,3.05,2,43.08,2,0,2,-999,9,-999,9,3.061,1,0.018,1,4.702,1,41.1,2
33RR20180918, GP15,8,9,4,GSNIS-5    ,2,6608,12962,20181005,1011,47.0002,-151.9996,5237,1924.1,2.0203,34.5716,2,-999,9,20181005,1011,47.0002,-151.9997,172.58,2,3.06,2,43.17,2,0,2,-999,9,-999,9,3.057,1,0.018,1,4.703,1,40.9,2
33RR20180918, GP15,8,9,5,GSNIS-6    ,2,6608,12961,20181005,1011,47.0002,-151.9996,5237,1819.9,2.094,34.5567,2,2.0942,2,20181005,1014,47.0002,-151.9997,171.8,2,3.08,2,43.59,2,0,2,35.47,2,34.5562,2,3.012,1,0.017,1,4.702,1,33.7,2
33RR20180918, GP15,8,9,6,GSNIS-7    ,2,6608,12961,20181005,1011,47.0002,-151.9996,5237,1823.5,2.0947,34.5567,2,-999,9,20181005,1014,47.0002,-151.9997,171.12,2,3.08,2,43.58,2,0.01,2,-999,9,-999,9,3.013,1,0.018,1,4.703,1,34.1,2
33RR20180918, GP15,8,9,7,GSNIS-8    ,2,6608,12961,20181005,1011,47.0002,-151.9996,5237,1822.3,2.0949,34.5565,2,-999,9,20181005,1014,47.0002,-151.9997,170.93,2,3.09,2,43.55,2,0,2,-999,9,-999,9,3.014,1,0.018,1,4.702,1,33.9,2
33RR20180918, GP15,8,9,8,GSNIS-9    ,2,6608,12961,20181005,1011,47.0002,-151.9996,5237,1820.7,2.0951,34.5566,2,-999,9,20181005,1014,47.0002,-151.9997,171.12,2,3.08,2,43.41,2,0,2,-999,9,-999,9,3.015,1,0.018,1,4.703,1,33.8,2
33RR20180918, GP15,8,9,9,GSNIS-10   ,2,6608,12960,20181005,1011,47.0002,-151.9996,5237,1519.2,2.3489,34.5016,2,2.3485,2,20181005,1021,47.0002,-151.9997,163.71,2,3.14,2,44.17,2,0,2,21.33,2,34.5015,2,3.19,1,0.018,1,4.701,1,20.9,2
33RR20180918, GP15,8,9,10,GSNIS-11   ,2,6608,12960,20181005,1011,47.0002,-151.9996,5237,1518,2.3494,34.5015,2,-999,9,20181005,1021,47.0002,-151.9997,163.51,2,3.14,2,44.08,2,0.01,2,-999,9,-999,9,3.192,1,0.018,1,4.701,1,20.5,2
33RR20180918, GP15,8,9,11,GSNIS-12   ,2,6608,12959,20181005,1011,47.0002,-151.9996,5237,1316.4,2.5732,34.4538,2,2.5721,2,20181005,1026,47.0002,-151.9997,156.78,2,3.17,2,44.03,2,0,2,15.95,2,34.4536,2,3.267,1,0.018,1,4.701,1,17.3,2
33RR20180918, GP15,8,9,12,GSNIS-13   ,2,6608,12959,20181005,1011,47.0002,-151.9996,5237,1313.8,2.573,34.454,2,-999,9,20181005,1026,47.0002,-151.9997,156.49,2,3.16,2,44,2,0.01,2,-999,9,-999,9,3.269,1,0.018,1,4.701,1,17.2,2
33RR20180918, GP15,8,9,13,GSNIS-14   ,2,6608,12959,20181005,1011,47.0002,-151.9996,5237,1317.8,2.5716,34.4542,2,-999,9,20181005,1026,47.0002,-151.9997,157.08,2,3.16,2,44.01,2,0,2,-999,9,-999,9,3.27,1,0.018,1,4.701,1,17.1,2
33RR20180918, GP15,8,9,14,GSNIS-15   ,2,6608,12958,20181005,1011,47.0002,-151.9996,5237,1110.9,2.8617,34.3952,2,2.8609,2,20181005,1032,47.0002,-151.9997,145.27,2,3.12,2,43.47,2,0,2,20.58,2,34.3958,2,3.231,1,0.018,1,4.701,1,20.9,2
33RR20180918, GP15,8,9,15,GSNIS-16   ,2,6608,12958,20181005,1011,47.0002,-151.9996,5237,1113.4,2.8614,34.3953,2,-999,9,20181005,1032,47.0002,-151.9997,146.34,2,3.13,2,43.43,2,0,2,-999,9,-999,9,3.231,1,0.018,1,4.701,1,20.9,2
33RR20180918, GP15,8,9,16,GSNIS-17   ,2,6608,12957,20181005,1011,47.0002,-151.9996,5237,1009,3.0339,34.3611,2,3.0334,2,20181005,1035,47.0002,-151.9997,140,2,3.12,2,43.17,2,0,2,21.56,2,34.3617,2,3.228,1,0.018,1,4.701,1,19.9,2
33RR20180918, GP15,8,9,17,GSNIS-18   ,2,6608,12957,20181005,1011,47.0002,-151.9996,5237,1012.9,3.0327,34.3612,2,-999,9,20181005,1035,47.0002,-151.9997,140.49,2,3.1,2,43.17,2,0,2,-999,9,-999,9,3.228,1,0.018,1,4.701,1,22.2,2
33RR20180918, GP15,8,9,18,GSNIS-19   ,2,6608,12957,20181005,1011,47.0002,-151.9996,5237,1010.3,3.0347,34.3607,2,-999,9,20181005,1035,47.0002,-151.9997,140.98,2,3.1,2,43.21,2,0,2,-999,9,-999,9,3.228,1,0.018,1,4.701,1,21.2,2
33RR20180918, GP15,8,9,19,GSNIS-20   ,2,6608,12957,20181005,1011,47.0002,-151.9996,5237,1010.3,3.035,34.3607,2,-999,9,20181005,1035,47.0002,-151.9997,140.68,2,3.15,2,43.25,2,0,2,-999,9,-999,9,3.228,1,0.018,1,4.7,1,20.6,2
33RR20180918, GP15,8,9,20,GSNIS-21   ,2,6608,12956,20181005,1011,47.0002,-151.9996,5237,908.6,3.2214,34.3219,2,3.2201,2,20181005,1038,47.0002,-151.9997,134.44,2,3.15,2,43.18,2,0,2,22.32,2,34.3229,2,3.219,1,0.018,1,4.701,1,23.2,2
33RR20180918, GP15,8,9,21,GSNIS-22   ,2,6608,12956,20181005,1011,47.0002,-151.9996,5237,911.4,3.22,34.3223,2,-999,9,20181005,1038,47.0002,-151.9997,134.54,2,3.14,2,43.14,2,0,2,-999,9,-999,9,3.219,1,0.018,1,4.7,1,23.1,2
33RR20180918, GP15,8,9,22,GSNIS-23   ,2,6608,12955,20181005,1011,47.0002,-151.9996,5237,805.6,3.4454,34.2694,2,3.4406,2,20181005,1041,47.0002,-151.9997,126.05,2,3.11,2,42.81,2,0,2,24.65,2,34.27,2,3.191,1,0.018,1,4.7,1,26.5,2
33RR20180918, GP15,8,9,23,GSNIS-24   ,2,6608,12955,20181005,1011,47.0002,-151.9996,5237,814,3.4337,34.2722,2,-999,9,20181005,1041,47.0002,-151.9997,126.15,2,3.11,2,42.72,2,0,2,-999,9,-999,9,3.189,1,0.018,1,4.7,1,26,2
33RR20180918, GP15,8,9,24,GSNIS-25   ,2,6608,12955,20181005,1011,47.0002,-151.9996,5237,806,3.4433,34.2609,2,-999,9,20181005,1041,47.0002,-151.9997,126.05,2,3.1,2,42.72,2,0,2,-999,9,-999,9,3.189,1,0.018,1,4.7,1,26.7,2
33RR20180918, GP15,8,9,25,GSNIS-26   ,2,6608,12954,20181005,1011,47.0002,-151.9996,5237,709.5,3.6432,34.2152,2,3.6455,2,20181005,1044,47.0002,-151.9997,118.15,2,3.08,2,42.25,2,0,2,29.59,2,34.2142,2,3.142,1,0.018,1,4.701,1,30.4,2
33RR20180918, GP15,8,9,26,GSNIS-27   ,2,6608,12954,20181005,1011,47.0002,-151.9996,5237,708.3,3.6489,34.2141,2,-999,9,20181005,1044,47.0002,-151.9997,118.44,2,3.08,2,42.36,2,0,2,-999,9,-999,9,3.14,1,0.018,1,4.7,1,31.2,2
33RR20180918, GP15,8,9,27,GSNIS-28   ,2,6608,12953,20181005,1011,47.0002,-151.9996,5237,609,3.8814,34.1451,2,3.8817,2,20181005,1047,47.0002,-151.9997,108.29,2,3.01,2,41.71,2,0,2,38.99,2,34.1451,2,3.047,1,0.018,1,4.7,1,38.8,2
33RR20180918, GP15,8,9,28,GSNIS-29   ,2,6608,12953,20181005,1011,47.0002,-151.9996,5237,607,3.8829,34.1444,2,-999,9,20181005,1047,47.0002,-151.9997,108,2,3.03,2,41.66,2,0,2,-999,9,-999,9,3.043,1,0.018,1,4.7,1,39.7,2
33RR20180918, GP15,8,9,29,GSNIS-30   ,2,6608,12953,20181005,1011,47.0002,-151.9996,5237,607.7,3.8823,34.1449,2,-999,9,20181005,1047,47.0002,-151.9997,107.9,2,3.02,2,41.74,2,0,2,-999,9,-999,9,3.039,1,0.018,1,4.701,1,39.6,2
33RR20180918, GP15,8,9,30,GSNIS-31   ,2,6608,12953,20181005,1011,47.0002,-151.9996,5237,608.6,3.8822,34.145,2,-999,9,20181005,1047,47.0002,-151.9997,107.8,2,3.01,2,41.68,2,0,2,-999,9,-999,9,3.036,1,0.018,1,4.701,1,39,2
33RR20180918, GP15,8,9,31,GSNIS-32   ,2,6608,12952,20181005,1011,47.0002,-151.9996,5237,506.5,4.0753,34.0562,2,4.0748,2,20181005,1050,47.0002,-151.9997,97.46,2,2.95,2,40.87,2,0,2,50.63,2,34.0567,2,2.965,1,0.018,1,4.698,1,52.3,2
33RR20180918, GP15,8,9,32,GSNIS-33   ,2,6608,12952,20181005,1011,47.0002,-151.9996,5237,506.7,4.0757,34.056,2,-999,9,20181005,1051,47.0002,-151.9997,97.26,2,2.93,2,40.86,2,0,2,-999,9,-999,9,2.958,1,0.018,1,4.698,1,51.8,2
33RR20180918, GP15,8,9,33,GSNIS-34   ,2,6608,12952,20181005,1011,47.0002,-151.9996,5237,506.6,4.0759,34.056,2,-999,9,20181005,1051,47.0002,-151.9997,97.26,2,2.93,2,40.91,2,0,2,-999,9,-999,9,2.953,1,0.018,1,4.698,1,51.7,2
33RR20180918, GP15,8,9,34,GSNIS-35   ,2,6608,12951,20181005,1011,47.0002,-151.9996,5237,401.9,4.1751,33.9453,2,4.1732,2,20181005,1054,47.0002,-151.9996,85.75,2,2.83,2,39.79,2,0,2,68.82,2,33.9479,2,2.795,1,0.018,1,4.694,1,70.1,2
33RR20180918, GP15,8,9,35,GSNIS-36   ,2,6608,12951,20181005,1011,47.0002,-151.9996,5237,408.7,4.1715,33.9488,2,-999,9,20181005,1054,47.0002,-151.9996,85.55,2,2.81,2,39.86,2,0,2,-999,9,-999,9,2.785,1,0.018,1,4.694,1,69.9,2
33RR20180918, GP15,8,9,36,GSNIS-1    ,2,6608,12951,20181005,1011,47.0002,-151.9996,5237,403,4.1748,33.945,2,-999,9,20181005,1054,47.0002,-151.9996,85.26,2,2.77,2,39.84,2,0,2,-999,9,-999,9,2.772,1,0.018,1,4.694,1,70.7,2
33RR20180918, GP15,8,13,1,GSNIS-2    ,2,6612,13031,20181006,659,47.0004,-152,5237,5196.6,1.5905,34.6881,2,1.5903,2,20181006,659,47.0004,-152,171.79,2,2.55,2,36.66,2,0,2,143.54,2,34.6868,2,2.319,1,0.016,1,4.696,1,144.2,2
33RR20180918, GP15,8,13,2,GSNIS-3    ,2,6612,13031,20181006,659,47.0004,-152,5237,5197.2,1.5905,34.688,2,-999,9,20181006,659,47.0004,-152,171.59,2,2.55,2,36.65,2,0,2,-999,9,-999,9,2.32,1,0.017,1,4.697,1,143.4,2
33RR20180918, GP15,8,13,3,GSNIS-4    ,2,6612,13031,20181006,659,47.0004,-152,5237,5198.3,1.5906,34.6879,2,-999,9,20181006,659,47.0004,-152,172.47,2,2.56,2,36.67,2,0,2,-999,9,-999,9,2.32,1,0.017,1,4.697,1,143.9,2
33RR20180918, GP15,8,13,4,GSNIS-5    ,2,6612,13030,20181006,659,47.0004,-152,5237,5155.5,1.5851,34.6879,2,1.5849,2,20181006,701,47.0004,-152,171.98,2,2.55,2,36.59,2,0,2,144.2,2,34.6868,2,2.319,1,0.016,1,4.697,1,143.7,2
33RR20180918, GP15,8,13,5,GSNIS-6    ,2,6612,13030,20181006,659,47.0004,-152,5237,5155.9,1.585,34.6881,2,-999,9,20181006,701,47.0004,-151.9999,171.3,2,2.55,2,36.61,2,0,2,-999,9,-999,9,2.319,1,0.017,1,4.697,1,143.3,2
33RR20180918, GP15,8,13,6,GSNIS-7    ,2,6612,13030,20181006,659,47.0004,-152,5237,5156.4,1.5853,34.688,2,-999,9,20181006,701,47.0004,-151.9999,171.88,2,2.55,2,36.58,2,0,2,-999,9,-999,9,2.32,1,0.017,1,4.697,1,144,2
33RR20180918, GP15,8,13,7,GSNIS-8    ,2,6612,13029,20181006,659,47.0004,-152,5237,5103.9,1.5789,34.6879,2,1.5786,2,20181006,704,47.0004,-151.9999,171.1,2,2.56,2,36.61,2,0,2,143.87,2,34.6866,2,2.314,1,0.017,1,4.698,1,143.7,2
33RR20180918, GP15,8,13,8,GSNIS-9    ,2,6612,13029,20181006,659,47.0004,-152,5237,5102.5,1.5787,34.688,2,-999,9,20181006,704,47.0004,-151.9999,170.52,2,2.56,2,36.55,2,0,2,-999,9,-999,9,2.315,1,0.017,1,4.698,1,143.9,2
33RR20180918, GP15,8,13,9,GSNIS-10   ,2,6612,13029,20181006,659,47.0004,-152,5237,5104.6,1.579,34.6879,2,-999,9,20181006,704,47.0004,-152,170.52,2,2.55,2,36.53,2,0,2,-999,9,-999,9,2.314,1,0.017,1,4.698,1,144.4,2
33RR20180918, GP15,8,13,10,GSNIS-11   ,2,6612,13028,20181006,659,47.0004,-152,5237,4591.3,1.5247,34.6865,2,1.5245,2,20181006,714,47.0004,-152,167.79,2,2.57,2,36.67,2,0,2,142.77,2,34.6846,2,2.311,1,0.017,1,4.702,1,142.4,2
33RR20180918, GP15,8,13,11,GSNIS-12   ,2,6612,13028,20181006,659,47.0004,-152,5237,4589.3,1.5248,34.6864,2,-999,9,20181006,714,47.0004,-152,167.2,2,2.56,2,36.67,2,0,2,-999,9,-999,9,2.309,1,0.016,1,4.702,1,142.3,2
33RR20180918, GP15,8,13,12,GSNIS-13   ,2,6612,13028,20181006,659,47.0004,-152,5237,4590.8,1.5249,34.6865,2,-999,9,20181006,714,47.0004,-152,167.79,2,2.56,2,36.6,2,0,2,-999,9,-999,9,2.308,1,0.017,1,4.703,1,141.5,2
33RR20180918, GP15,8,13,13,GSNIS-14   ,2,6612,13028,20181006,659,47.0004,-152,5237,4589.5,1.5249,34.6865,2,-999,9,20181006,714,47.0004,-152,167.4,2,2.56,2,36.66,2,0,2,-999,9,-999,9,2.308,1,0.017,1,4.702,1,141.3,2
33RR20180918, GP15,8,13,14,GSNIS-15   ,2,6612,13027,20181006,659,47.0004,-152,5237,4076.6,1.4863,34.6831,2,1.486,2,20181006,723,47.0004,-152,164.66,2,2.57,2,36.83,2,0,2,139.74,2,34.6813,2,2.315,1,0.017,1,4.703,1,139.8,2
33RR20180918, GP15,8,13,15,GSNIS-16   ,2,6612,13027,20181006,659,47.0004,-152,5237,4075.2,1.4864,34.6832,2,-999,9,20181006,724,47.0004,-152,164.27,2,2.58,2,36.79,2,0,2,-999,9,-999,9,2.314,1,0.017,1,4.703,1,140.3,2
33RR20180918, GP15,8,13,16,GSNIS-17   ,2,6612,13027,20181006,659,47.0004,-152,5237,4075.7,1.4862,34.6831,2,-999,9,20181006,724,47.0004,-152,164.47,2,2.59,2,36.82,2,0,2,-999,9,-999,9,2.314,1,0.017,1,4.703,1,140.3,2
33RR20180918, GP15,8,13,17,GSNIS-18   ,2,6612,13027,20181006,659,47.0004,-152,5237,4075.4,1.4863,34.6831,2,-999,9,20181006,724,47.0004,-152,164.86,2,2.58,2,36.81,2,0,2,-999,9,-999,9,2.314,1,0.017,1,4.703,1,140.4,2
33RR20180918, GP15,8,13,18,GSNIS-19   ,2,6612,13026,20181006,659,47.0004,-152,5237,3563.5,1.5,34.6739,2,1.4998,2,20181006,734,47.0004,-152,164.18,2,2.64,2,37.49,2,0,2,129.17,2,34.6725,2,2.335,1,0.016,1,4.692,1,129.6,2
33RR20180918, GP15,8,13,19,GSNIS-20   ,2,6612,13026,20181006,659,47.0004,-152,5237,3564.2,1.5001,34.6739,2,-999,9,20181006,734,47.0004,-152,163,2,2.64,2,37.46,2,0,2,-999,9,-999,9,2.335,1,0.017,1,4.703,1,129.6,2
33RR20180918, GP15,8,13,20,GSNIS-21   ,2,6612,13025,20181006,659,47.0004,-152,5237,3049.2,1.576,34.6575,2,1.5756,2,20181006,743,47.0004,-151.9999,169.25,2,2.74,2,38.95,2,0,2,107.5,2,34.6564,2,2.422,1,0.017,1,4.702,1,107.6,2
33RR20180918, GP15,8,13,21,GSNIS-22   ,2,6612,13025,20181006,659,47.0004,-152,5237,3051.9,1.5761,34.6575,2,-999,9,20181006,744,47.0004,-151.9999,168.77,2,2.73,2,38.96,2,0,2,-999,9,-999,9,2.424,1,0.016,1,4.703,1,106.2,2
33RR20180918, GP15,8,13,22,GSNIS-23   ,2,6612,13025,20181006,659,47.0004,-152,5237,3050.6,1.576,34.6574,2,-999,9,20181006,744,47.0004,-151.9999,168.96,2,2.74,2,38.96,2,0,2,-999,9,-999,9,2.427,1,0.017,1,4.702,1,106.6,2
33RR20180918, GP15,8,13,23,GSNIS-24   ,2,6612,13025,20181006,659,47.0004,-152,5237,3051.6,1.5761,34.6574,2,-999,9,20181006,744,47.0004,-152,168.86,2,2.73,2,38.96,2,0,2,-999,9,-999,9,2.426,1,0.017,1,4.702,1,107.5,2
33RR20180918, GP15,8,13,24,GSNIS-25   ,2,6612,13024,20181006,659,47.0004,-152,5237,2795.1,1.6338,34.6459,2,1.6335,2,20181006,749,47.0004,-152,171.11,2,2.8,2,39.76,2,0,2,95.02,2,34.6448,2,2.486,1,0.017,1,4.703,1,94.5,2
33RR20180918, GP15,8,13,25,GSNIS-26   ,2,6612,13024,20181006,659,47.0004,-152,5237,2792.9,1.6341,34.6459,2,-999,9,20181006,749,47.0004,-152,172.09,2,2.82,2,39.99,2,0,2,-999,9,-999,9,2.486,1,0.016,1,4.702,1,94.2,2
33RR20180918, GP15,8,13,26,GSNIS-27   ,2,6612,13023,20181006,659,47.0004,-152,5237,2539.1,1.7259,34.629,2,1.7257,2,20181006,755,47.0004,-152,173.55,2,2.88,2,40.8,2,0,2,79.05,2,34.6279,2,2.575,1,0.018,1,4.702,1,78.7,2
33RR20180918, GP15,8,13,27,GSNIS-28   ,2,6612,13023,20181006,659,47.0004,-152,5237,2538.4,1.726,34.629,2,-999,9,20181006,755,47.0004,-152,172.58,2,2.87,2,40.85,2,0,2,-999,9,-999,9,2.576,1,0.017,1,4.702,1,78.7,2
33RR20180918, GP15,8,13,28,GSNIS-29   ,2,6612,13022,20181006,659,47.0004,-152,5237,2334.1,1.8178,34.6127,2,1.816,2,20181006,800,47.0004,-152,173.36,2,2.94,2,41.63,2,0,2,65.48,2,34.6117,2,2.674,1,0.017,1,4.701,1,65.9,2
33RR20180918, GP15,8,13,29,GSNIS-30   ,2,6612,13022,20181006,659,47.0004,-152,5237,2336.2,1.8171,34.6129,2,-999,9,20181006,800,47.0004,-152,172.87,2,2.93,2,41.67,2,0,2,-999,9,-999,9,2.675,1,0.018,1,4.701,1,65.8,2
33RR20180918, GP15,8,13,30,GSNIS-31   ,2,6612,13022,20181006,659,47.0004,-152,5237,2336.3,1.8165,34.613,2,-999,9,20181006,800,47.0004,-152,172.87,2,2.93,2,41.68,2,0,2,-999,9,-999,9,2.678,1,0.017,1,4.701,1,65,2
33RR20180918, GP15,8,13,31,GSNIS-32   ,2,6612,13022,20181006,659,47.0004,-152,5237,2334.2,1.8165,34.6128,2,-999,9,20181006,800,47.0004,-152,173.07,2,2.93,2,41.64,2,0,2,-999,9,-999,9,2.682,1,0.018,1,4.701,1,64.8,2
33RR20180918, GP15,8,13,32,GSNIS-33   ,2,6612,13021,20181006,659,47.0004,-152,5237,2131.9,1.9038,34.5957,2,1.9032,2,20181006,805,47.0004,-152,172.97,2,3,2,42.4,2,0,2,54.1,2,34.5944,2,2.772,1,0.018,1,4.701,1,54.1,2
33RR20180918, GP15,8,13,33,GSNIS-34   ,5,6612,13021,20181006,659,47.0004,-152,5237,2130.6,1.904,34.5959,3,-999,9,20181006,805,47.0004,-152,-999,9,-999,9,-999,9,-999,9,-999,9,-999,9,2.774,1,0.018,1,4.701,1,53.8,3
33RR20180918, GP15,8,13,34,GSNIS-35   ,2,6612,13020,20181006,659,47.0004,-152,5237,1725.4,2.1787,34.5398,2,2.1784,2,20181006,813,47.0004,-152,167.9,2,3.07,2,44.08,2,0,2,27.19,2,34.5391,2,3.042,1,0.018,1,4.7,1,27.8,2
33RR20180918, GP15,8,13,35,GSNIS-36   ,2,6612,13020,20181006,659,47.0004,-152,5237,1724.4,2.179,34.5396,2,-999,9,20181006,813,47.0004,-152,167.61,2,3.08,2,44.07,2,0,2,-999,9,-999,9,3.043,1,0.018,1,4.7,1,27.5,2
33RR20180918, GP15,8,13,36,GSNIS-1    ,2,6612,13020,20181006,659,47.0004,-152,5237,1725.5,2.1789,34.5397,2,-999,9,20181006,813,47.0004,-152,166.34,2,3.05,2,44.04,2,0,2,-999,9,-999,9,3.046,1,0.018,1,4.701,1,27.8,2