BOTTLE,20191212SIOCCHAMB
EXPOCODE,SECT_ID,STNNBR,CASTNO,SAMPNO,BTLNBR,BTLNBR_FLAG_W,GEOTRC_EVENTNO,GEOTRC_SAMPNO,DATE,TIME,LATITUDE,LONGITUDE,DEPTH,CTDPRS,CTDTMP,CTDSAL,CTDSAL_FLAG_W,REFTMP,REFTMP_FLAG_W,BTL_DATE,BTL_TIME,BTL_LAT,BTL_LON,SILCAT,SILCAT_FLAG_W,PHSPHT,PHSPHT_FLAG_W,NITRAT,NITRAT_FLAG_W,NITRIT,NITRIT_FLAG_W,OXYGEN,OXYGEN_FLAG_W,SALNTY,SALNTY_FLAG_W,CTDRINKO,CTDRINKO_FLAG_W,CTDFLUOR,CTDFLUOR_FLAG_W,CTDXMISS,CTDXMISS_FLAG_W,CTDOXY,CTDOXY_FLAG_W
,,,,,,,,,,,,,METERS,DBAR,ITS-90,PSS-78,,ITS-90,,,,,,UMOL/KG,,UMOL/KG,,UMOL/KG,,UMOL/KG,,UMOL/KG,,PSS-78,,VOLTS,,VOLTS,,VOLTS,,UMOL/KG,
33RR20180918, GP15,15,3,1,GSNIS-2    ,2,6700,13584,20181016,220,29.4998,-151.9998,5449,1009.1,3.8139,34.3774,2,3.8155,2,20181016,220,29.4998,-151.9997,119.01,2,3.18,2,43.84,2,0,2,14.24,2,34.3782,2,2.798,1,0.018,1,4.692,1,13.9,2
33RR20180918, GP15,15,3,2,GSNIS-3    ,2,6700,13584,20181016,220,29.4998,-151.9998,5449,1008.8,3.8182,34.3765,2,-999,9,20181016,220,29.4998,-151.9997,118.72,2,3.16,2,43.8,2,0,2,-999,9,-999,9,2.795,1,0.018,1,4.692,1,14.1,2
33RR20180918, GP15,15,3,3,GSNIS-4    ,2,6700,13584,20181016,220,29.4998,-151.9998,5449,1009,3.8166,34.3768,2,-999,9,20181016,220,29.4998,-151.9997,119.11,2,3.17,2,43.78,2,0,2,-999,9,-999,9,2.793,1,0.018,1,4.692,1,13.9,2
33RR20180918, GP15,15,3,4,GSNIS-5    ,2,6700,13583,20181016,220,29.4998,-151.9998,5449,909.8,4.1285,34.3001,2,4.1286,2,20181016,223,29.4998,-151.9997,110.23,2,3.16,2,43.52,2,0,2,12,2,34.3016,2,2.799,1,0.018,1,4.692,1,12.2,2
33RR20180918, GP15,15,3,5,GSNIS-6    ,2,6700,13583,20181016,220,29.4998,-151.9998,5449,907.6,4.1286,34.3004,2,-999,9,20181016,223,29.4998,-151.9997,110.42,2,3.16,2,43.57,2,0,2,-999,9,-999,9,2.804,1,0.018,1,4.692,1,12.5,2
33RR20180918, GP15,15,3,6,GSNIS-7    ,2,6700,13582,20181016,220,29.4998,-151.9998,5449,706.6,5.1196,34.0827,2,5.1234,2,20181016,228,29.4998,-151.9997,80.27,2,2.83,2,39.56,2,0,2,47.08,2,34.0846,2,2.971,1,0.018,1,4.691,1,47.4,2
33RR20180918, GP15,15,3,7,GSNIS-8    ,2,6700,13582,20181016,220,29.4998,-151.9998,5449,707.6,5.1234,34.0824,2,-999,9,20181016,228,29.4998,-151.9998,79.88,2,2.81,2,39.5,2,0,2,-999,9,-999,9,2.976,1,0.018,1,4.691,1,47.4,2
33RR20180918, GP15,15,3,8,GSNIS-9    ,2,6700,13582,20181016,220,29.4998,-151.9998,5449,707,5.1256,34.0821,2,-999,9,20181016,228,29.4999,-151.9998,79.98,2,2.82,2,39.49,2,0,2,-999,9,-999,9,2.981,1,0.017,1,4.691,1,47.7,2
33RR20180918, GP15,15,3,9,GSNIS-10   ,2,6700,13581,20181016,220,29.4998,-151.9998,5449,556.6,6.7124,34.0039,2,6.7157,2,20181016,232,29.4998,-151.9998,49.9,2,2.17,2,30.65,2,0,2,114.74,2,34.005,2,2.849,1,0.017,1,4.689,1,114.5,2
33RR20180918, GP15,15,3,10,GSNIS-11   ,2,6700,13581,20181016,220,29.4998,-151.9998,5449,555.9,6.7132,34.0045,2,-999,9,20181016,232,29.4998,-151.9998,49.8,2,2.17,2,30.72,2,0,2,-999,9,-999,9,2.84,1,0.017,1,4.69,1,114.6,2
33RR20180918, GP15,15,3,11,GSNIS-12   ,2,6700,13581,20181016,220,29.4998,-151.9998,5449,555.9,6.7128,34.0044,2,-999,9,20181016,233,29.4998,-151.9998,49.71,2,2.14,2,30.63,2,0,2,-999,9,-999,9,2.826,1,0.017,1,4.69,1,114,2
33RR20180918, GP15,15,3,12,GSNIS-13   ,2,6700,13580,20181016,220,29.4998,-151.9998,5449,354.2,10.8284,34.1354,2,10.8246,2,20181016,237,29.4998,-151.9997,11.72,2,0.87,2,11.82,2,0,2,218.6,2,34.1385,2,2.08,1,0.015,1,4.691,1,218.5,2
33RR20180918, GP15,15,3,13,GSNIS-14   ,2,6700,13580,20181016,220,29.4998,-151.9998,5449,353.7,10.8039,34.1358,2,-999,9,20181016,237,29.4998,-151.9998,11.62,2,0.87,2,11.79,2,0,2,-999,9,-999,9,2.07,1,0.016,1,4.691,1,218.1,2
33RR20180918, GP15,15,3,14,GSNIS-15   ,2,6700,13580,20181016,220,29.4998,-151.9998,5449,354.3,10.8121,34.1355,2,-999,9,20181016,237,29.4998,-151.9998,11.42,2,0.86,2,11.87,2,0,2,-999,9,-999,9,2.063,1,0.016,1,4.691,1,217.8,2
33RR20180918, GP15,15,3,15,GSNIS-16   ,2,6700,13579,20181016,220,29.4998,-151.9998,5449,252.7,13.1547,34.2452,3,13.1475,2,20181016,241,29.4998,-151.9997,5.27,2,0.56,2,6.99,2,0.01,2,210.75,2,34.2657,3,1.707,1,0.017,1,4.687,1,210.7,2
33RR20180918, GP15,15,3,16,GSNIS-17   ,2,6700,13579,20181016,220,29.4998,-151.9998,5449,253.2,13.1213,34.2395,2,-999,9,20181016,241,29.4998,-151.9997,5.08,2,0.56,2,6.92,2,0.01,2,-999,9,-999,9,1.702,1,0.017,1,4.687,1,210.7,2
33RR20180918, GP15,15,3,17,GSNIS-18   ,2,6700,13579,20181016,220,29.4998,-151.9998,5449,252.8,13.1264,34.2367,2,-999,9,20181016,241,29.4998,-151.9997,4.39,2,0.55,2,6.87,2,0.01,2,-999,9,-999,9,1.697,1,0.017,1,4.686,1,210.6,2
33RR20180918, GP15,15,3,18,GSNIS-19   ,2,6700,13578,20181016,220,29.4998,-151.9998,5449,151.9,18.0131,34.8889,3,18.0172,2,20181016,244,29.4999,-151.9998,0.29,2,0.14,2,0.62,2,0.02,2,212.97,2,34.8988,3,1.655,1,0.022,1,4.674,1,212.2,2
33RR20180918, GP15,15,3,19,GSNIS-20   ,2,6700,13578,20181016,220,29.4998,-151.9998,5449,151.9,18.0115,34.8869,2,-999,9,20181016,244,29.4999,-151.9998,0.39,2,0.13,2,0.62,2,0.02,2,-999,9,-999,9,1.662,1,0.022,1,4.674,1,212.3,2
33RR20180918, GP15,15,3,20,GSNIS-21   ,2,6700,13578,20181016,220,29.4998,-151.9998,5449,152.4,18.012,34.8862,2,-999,9,20181016,244,29.4998,-151.9998,0.2,2,0.14,2,0.64,2,0.02,2,-999,9,-999,9,1.671,1,0.023,1,4.674,1,211.7,2
33RR20180918, GP15,15,3,21,GSNIS-22   ,2,6700,13577,20181016,220,29.4998,-151.9998,5449,126.7,18.8826,34.9865,3,18.8117,3,20181016,246,29.4998,-151.9997,0,2,0.08,2,0,2,0.26,2,217.61,2,34.9872,3,1.85,1,0.033,1,4.659,1,218.7,2
33RR20180918, GP15,15,3,22,GSNIS-23   ,2,6700,13577,20181016,220,29.4998,-151.9998,5449,126.9,18.7737,34.971,2,-999,9,20181016,246,29.4998,-151.9997,0,2,0.08,2,0,2,0.25,2,-999,9,-999,9,1.854,1,0.033,1,4.659,1,217.5,2
33RR20180918, GP15,15,3,23,GSNIS-24   ,2,6700,13577,20181016,220,29.4998,-151.9998,5449,127,18.7649,34.9718,2,-999,9,20181016,246,29.4998,-151.9998,0,2,0.08,2,0,2,0.26,2,-999,9,-999,9,1.857,1,0.032,1,4.66,1,217.5,2
33RR20180918, GP15,15,3,24,GSNIS-25   ,2,6700,13576,20181016,220,29.4998,-151.9998,5449,101.7,20.1095,35.0889,2,20.0952,2,20181016,249,29.4998,-151.9997,0,2,0.01,2,0,2,0,2,226.05,2,35.09,2,1.737,1,0.029,1,4.654,1,225.9,2
33RR20180918, GP15,15,3,25,GSNIS-26   ,2,6700,13576,20181016,220,29.4998,-151.9998,5449,102.1,20.0784,35.0869,2,-999,9,20181016,249,29.4998,-151.9997,0,2,0.01,2,0,2,0,2,-999,9,-999,9,1.733,1,0.028,1,4.654,1,226,2
33RR20180918, GP15,15,3,26,GSNIS-27   ,2,6700,13576,20181016,220,29.4998,-151.9998,5449,101.1,20.1116,35.0892,2,-999,9,20181016,249,29.4998,-151.9998,0,2,0.01,2,0,2,0,2,-999,9,-999,9,1.729,1,0.029,1,4.654,1,225.3,2
33RR20180918, GP15,15,3,27,GSNIS-28   ,2,6700,13575,20181016,220,29.4998,-151.9998,5449,76.6,21.3403,35.1435,2,21.3413,2,20181016,251,29.4998,-151.9997,0,2,0,2,0,2,0,2,231.74,2,35.1453,2,1.632,1,0.024,1,4.644,1,231.1,2
33RR20180918, GP15,15,3,28,GSNIS-29   ,2,6700,13575,20181016,220,29.4998,-151.9998,5449,77.2,21.3633,35.1452,2,-999,9,20181016,251,29.4998,-151.9997,0,2,0,2,0,2,0,2,-999,9,-999,9,1.629,1,0.025,1,4.649,1,230.9,2
33RR20180918, GP15,15,3,29,GSNIS-30   ,2,6700,13575,20181016,220,29.4998,-151.9998,5449,76.2,21.3372,35.1455,2,-999,9,20181016,251,29.4998,-151.9997,0,2,0,2,0,2,0,2,-999,9,-999,9,1.626,1,0.024,1,4.649,1,231.3,2
33RR20180918, GP15,15,3,30,GSNIS-31   ,2,6700,13574,20181016,220,29.4998,-151.9998,5449,51.9,24.1539,35.4183,2,24.1514,2,20181016,254,29.4998,-151.9997,0,2,0,2,0,2,0,2,211.19,2,35.4168,2,1.528,1,0.018,1,4.653,1,212.2,2
33RR20180918, GP15,15,3,31,GSNIS-32   ,2,6700,13574,20181016,220,29.4998,-151.9998,5449,51.3,24.1549,35.4188,2,-999,9,20181016,254,29.4998,-151.9997,0,2,0,2,0,2,0,2,-999,9,-999,9,1.525,1,0.018,1,4.653,1,211.5,2
33RR20180918, GP15,15,3,32,GSNIS-33   ,2,6700,13574,20181016,220,29.4998,-151.9998,5449,51.3,24.1539,35.4181,2,-999,9,20181016,254,29.4998,-151.9997,0,2,0,2,0,2,0,2,-999,9,-999,9,1.524,1,0.018,1,4.646,1,211.7,2
33RR20180918, GP15,15,3,33,GSNIS-34   ,2,6700,13573,20181016,220,29.4998,-151.9998,5449,26.2,24.1741,35.4193,2,24.174,2,20181016,256,29.4998,-151.9997,0,2,0,2,0,2,0,2,211.1,2,35.4176,2,1.484,1,0.018,1,4.654,1,210.6,2
33RR20180918, GP15,15,3,34,GSNIS-35   ,2,6700,13573,20181016,220,29.4998,-151.9998,5449,26.9,24.1749,35.4194,2,-999,9,20181016,256,29.4998,-151.9997,0,2,0,2,0,2,0,2,-999,9,-999,9,1.484,1,0.018,1,4.654,1,212.2,2
33RR20180918, GP15,15,3,35,GSNIS-36   ,2,6700,13573,20181016,220,29.4998,-151.9998,5449,26.2,24.1743,35.4193,2,-999,9,20181016,256,29.4998,-151.9997,0,2,0,2,0,2,0,2,-999,9,-999,9,1.481,1,0.018,1,4.653,1,211.5,2
33RR20180918, GP15,15,3,36,GSNIS-1    ,2,6700,13572,20181016,220,29.4998,-151.9998,5449,2.8,24.2622,35.4232,2,24.2611,2,20181016,259,29.4998,-151.9998,0,2,0,2,0,2,0,2,210.85,2,35.4215,2,1.405,1,0.018,1,4.652,1,209.5,2
33RR20180918, GP15,16,3,1,GSNIS-2    ,2,6711,13633,20181016,1738,26.9997,-152,5472,855.6,4.0422,34.3062,2,4.0383,2,20181016,1738,26.9997,-152,111.5,2,3.12,2,43.37,2,0,2,18.14,2,34.3061,2,2.341,1,0.018,1,4.691,1,17.5,2
33RR20180918, GP15,16,3,2,GSNIS-3    ,2,6711,13633,20181016,1738,26.9997,-152,5472,856.5,4.0404,34.3067,2,-999,9,20181016,1738,26.9997,-152,111.11,2,3.11,2,43.41,2,0,2,-999,9,-999,9,2.346,1,0.018,1,4.691,1,17.5,2
33RR20180918, GP15,16,3,3,GSNIS-4    ,2,6711,13633,20181016,1738,26.9997,-152,5472,857.2,4.0405,34.3068,2,-999,9,20181016,1738,26.9997,-152,111.3,2,3.11,2,43.43,2,0,2,-999,9,-999,9,2.35,1,0.018,1,4.691,1,17.5,2
33RR20180918, GP15,16,3,4,GSNIS-5    ,2,6711,13633,20181016,1738,26.9997,-152,5472,856.2,4.0414,34.3064,2,-999,9,20181016,1738,26.9997,-152,111.11,2,3.11,2,43.47,2,0,2,-999,9,-999,9,2.353,1,0.018,1,4.692,1,17.5,2
33RR20180918, GP15,16,3,5,GSNIS-6    ,2,6711,13632,20181016,1738,26.9997,-152,5472,705.2,4.6565,34.1391,2,4.661,2,20181016,1742,26.9997,-152,91.2,2,2.94,2,41.44,2,0,2,35.17,2,34.1377,2,2.508,1,0.018,1,4.691,1,36.8,2
33RR20180918, GP15,16,3,6,GSNIS-7    ,2,6711,13632,20181016,1738,26.9997,-152,5472,705.1,4.6589,34.1387,2,-999,9,20181016,1743,26.9997,-152,91.49,2,2.96,2,41.56,2,0,2,-999,9,-999,9,2.512,1,0.018,1,4.691,1,37.7,2
33RR20180918, GP15,16,3,7,GSNIS-8    ,2,6711,13631,20181016,1738,26.9997,-152,5472,604.5,5.4408,34.0449,2,5.4635,3,20181016,1746,26.9997,-152,71.19,2,2.65,2,37.45,2,0,2,68.94,2,34.044,3,2.691,1,0.017,1,4.69,1,71.2,2
33RR20180918, GP15,16,3,8,GSNIS-9    ,2,6711,13631,20181016,1738,26.9997,-152,5472,605.8,5.4666,34.0419,2,-999,9,20181016,1746,26.9997,-151.9999,71.09,2,2.65,2,37.41,2,0.01,2,-999,9,-999,9,2.697,1,0.018,1,4.691,1,71.3,2
33RR20180918, GP15,16,3,9,GSNIS-10   ,2,6711,13630,20181016,1738,26.9997,-152,5472,529.5,6.5473,34.0012,2,6.5465,2,20181016,1748,26.9997,-152,52.25,2,2.23,2,31.95,2,0.01,2,111.62,2,34.0019,2,2.732,1,0.017,1,4.69,1,115.1,2
33RR20180918, GP15,16,3,10,GSNIS-11   ,2,6711,13630,20181016,1738,26.9997,-152,5472,530.2,6.5497,34.0013,2,-999,9,20181016,1748,26.9997,-152,52.15,2,2.23,2,31.88,2,0.01,2,-999,9,-999,9,2.729,1,0.017,1,4.69,1,112.9,2
33RR20180918, GP15,16,3,11,GSNIS-12   ,2,6711,13630,20181016,1738,26.9997,-152,5472,529.1,6.5463,34.0011,2,-999,9,20181016,1749,26.9997,-152,51.95,2,2.21,2,31.86,2,0.01,2,-999,9,-999,9,2.725,1,0.017,1,4.69,1,112.8,2
33RR20180918, GP15,16,3,12,GSNIS-13   ,2,6711,13630,20181016,1738,26.9997,-152,5472,529.1,6.5461,34.0014,2,-999,9,20181016,1749,26.9997,-152,52.05,2,2.22,2,31.82,2,0.01,2,-999,9,-999,9,2.721,1,0.017,1,4.69,1,113,2
33RR20180918, GP15,16,3,13,GSNIS-14   ,2,6711,13629,20181016,1738,26.9997,-152,5472,403.7,9.1267,34.0569,2,9.088,2,20181016,1752,26.9997,-152,23.14,2,1.34,2,19.7,2,0.01,2,187.81,2,34.0596,2,2.33,1,0.017,1,4.691,1,186.5,2
33RR20180918, GP15,16,3,14,GSNIS-15   ,2,6711,13629,20181016,1738,26.9997,-152,5472,402.6,9.0718,34.0568,2,-999,9,20181016,1752,26.9997,-152,23.14,2,1.34,2,19.67,2,0.01,2,-999,9,-999,9,2.319,1,0.017,1,4.69,1,185.1,2
33RR20180918, GP15,16,3,15,GSNIS-16   ,2,6711,13628,20181016,1738,26.9997,-152,5472,302.6,11.0146,34.1535,2,11.0122,2,20181016,1755,26.9997,-152,11.23,2,0.84,2,12.32,2,0.01,2,219.86,2,34.1549,2,1.992,1,0.017,1,4.69,1,218.6,2
33RR20180918, GP15,16,3,16,GSNIS-17   ,2,6711,13628,20181016,1738,26.9997,-152,5472,301.3,11.0089,34.1536,2,-999,9,20181016,1755,26.9997,-152,11.33,2,0.83,2,12.3,2,0.01,2,-999,9,-999,9,1.984,1,0.016,1,4.69,1,216,2
33RR20180918, GP15,16,3,17,GSNIS-18   ,2,6711,13628,20181016,1738,26.9997,-152,5472,302.8,11.0172,34.1537,2,-999,9,20181016,1755,26.9997,-152,11.13,2,0.83,2,12.27,2,0.01,2,-999,9,-999,9,1.976,1,0.016,1,4.69,1,216.3,2
33RR20180918, GP15,16,3,18,GSNIS-19   ,2,6711,13628,20181016,1738,26.9997,-152,5472,302,11.0139,34.154,2,-999,9,20181016,1756,26.9997,-152,10.94,2,0.83,2,12.26,2,0.01,2,-999,9,-999,9,1.968,1,0.016,1,4.69,1,216.2,2
33RR20180918, GP15,16,3,19,GSNIS-20   ,2,6711,13627,20181016,1738,26.9997,-152,5472,201.1,13.7116,34.337,2,13.7107,2,20181016,1759,26.9997,-152,4.78,2,0.51,2,7.27,2,0.01,2,211.16,2,34.3374,2,1.735,1,0.017,1,4.686,1,210.2,2
33RR20180918, GP15,16,3,20,GSNIS-21   ,2,6711,13627,20181016,1738,26.9997,-152,5472,201.3,13.7117,34.3369,2,-999,9,20181016,1759,26.9997,-152,4.3,2,0.5,2,7.24,2,0.01,2,-999,9,-999,9,1.733,1,0.017,1,4.686,1,209.2,2
33RR20180918, GP15,16,3,21,GSNIS-22   ,2,6711,13626,20181016,1738,26.9997,-152,5472,151.1,16.7683,34.7081,2,16.778,2,20181016,1801,26.9997,-152,1.37,2,0.22,2,2.66,2,0.02,2,210.14,2,34.7147,2,1.718,1,0.02,1,4.679,1,211.4,2
33RR20180918, GP15,16,3,22,GSNIS-23   ,2,6711,13626,20181016,1738,26.9997,-152,5472,151.8,16.7518,34.709,2,-999,9,20181016,1801,26.9997,-151.9999,1.27,2,0.21,2,2.66,2,0.02,2,-999,9,-999,9,1.72,1,0.02,1,4.679,1,210.8,2
33RR20180918, GP15,16,3,23,GSNIS-24   ,2,6711,13626,20181016,1738,26.9997,-152,5472,150.3,16.7991,34.7109,2,-999,9,20181016,1801,26.9997,-152,1.17,2,0.21,2,2.65,2,0.02,2,-999,9,-999,9,1.723,1,0.019,1,4.679,1,211,2
33RR20180918, GP15,16,3,24,GSNIS-25   ,2,6711,13626,20181016,1738,26.9997,-152,5472,150.2,16.7613,34.7088,2,-999,9,20181016,1801,26.9996,-151.9999,1.17,2,0.22,2,2.65,2,0.02,2,-999,9,-999,9,1.727,1,0.02,1,4.68,1,210.9,2
33RR20180918, GP15,16,3,25,GSNIS-26   ,2,6711,13625,20181016,1738,26.9997,-152,5472,125.9,17.8473,34.855,2,17.8537,2,20181016,1803,26.9997,-152,0.68,2,0.15,2,1.44,2,0.02,2,211.36,2,34.8617,2,1.874,1,0.028,1,4.668,1,214.1,2
33RR20180918, GP15,16,3,26,GSNIS-27   ,2,6711,13625,20181016,1738,26.9997,-152,5472,125.3,17.8665,34.8545,2,-999,9,20181016,1803,26.9997,-152,0.39,2,0.15,2,1.47,2,0.02,2,-999,9,-999,9,1.873,1,0.027,1,4.668,1,213.4,2
33RR20180918, GP15,16,3,27,GSNIS-28   ,2,6711,13624,20181016,1738,26.9997,-152,5472,108.6,18.7728,34.967,2,18.7659,2,20181016,1805,26.9997,-152,0.2,2,0.08,2,0.18,2,0.26,2,217.62,2,34.9666,2,1.748,1,0.039,1,4.649,1,223.8,2
33RR20180918, GP15,16,3,28,GSNIS-29   ,2,6711,13624,20181016,1738,26.9997,-152,5472,109.4,18.7539,34.9667,2,-999,9,20181016,1805,26.9997,-152,0.1,2,0.08,2,0.17,2,0.26,2,-999,9,-999,9,1.743,1,0.038,1,4.652,1,219.7,2
33RR20180918, GP15,16,3,29,GSNIS-30   ,2,6711,13624,20181016,1738,26.9997,-152,5472,109,18.7557,34.9654,2,-999,9,20181016,1805,26.9997,-152,0.1,2,0.07,2,0.17,2,0.26,2,-999,9,-999,9,1.737,1,0.038,1,4.651,1,219.5,2
33RR20180918, GP15,16,3,30,GSNIS-31   ,2,6711,13624,20181016,1738,26.9997,-152,5472,107.9,18.7709,34.9671,2,18.7681,2,20181016,1806,26.9997,-152,0,2,0.07,2,0.19,2,0.25,2,-999,9,-999,9,1.731,1,0.04,1,4.651,1,219.6,2
33RR20180918, GP15,16,3,31,GSNIS-32   ,2,6711,13623,20181016,1738,26.9997,-152,5472,60.3,24.4015,35.4291,2,24.3903,2,20181016,1808,26.9997,-152,0,2,0,2,0,2,0,2,218.18,2,35.3351,3,1.562,1,0.018,1,4.644,1,211,2
33RR20180918, GP15,16,3,32,GSNIS-33   ,2,6711,13623,20181016,1738,26.9997,-152,5472,60.7,24.4023,35.4306,2,-999,9,20181016,1809,26.9997,-152,0,2,0,2,0,2,0,2,-999,9,-999,9,1.555,1,0.018,1,4.644,1,211.2,2
33RR20180918, GP15,16,3,33,GSNIS-34   ,2,6711,13623,20181016,1738,26.9997,-152,5472,60,24.3542,35.4255,2,-999,9,20181016,1809,26.9997,-152,0,2,0,2,0,2,0,2,-999,9,-999,9,1.552,1,0.018,1,4.561,1,211,2
33RR20180918, GP15,16,3,34,GSNIS-35   ,2,6711,13623,20181016,1738,26.9997,-152,5472,61,24.3348,35.432,2,-999,9,20181016,1809,26.9997,-152,0,2,0,2,0,2,0,2,-999,9,-999,9,1.548,1,0.018,1,4.56,1,213,2
33RR20180918, GP15,16,3,35,GSNIS-36   ,2,6711,13622,20181016,1738,26.9997,-152,5472,30.6,24.4095,35.4316,2,24.4085,2,20181016,1811,26.9997,-152,0,2,0,2,0,2,0,2,210.67,2,35.43,2,1.473,1,0.018,1,4.642,1,210.4,2
33RR20180918, GP15,16,3,36,GSNIS-1    ,2,6711,13622,20181016,1738,26.9997,-152,5472,30.5,24.4093,35.4315,2,-999,9,20181016,1811,26.9997,-152,0,2,0,2,0,2,0,2,-999,9,-999,9,1.471,1,0.018,1,4.642,1,210.6,2