BOTTLE,20191212SIOCCHAMB
EXPOCODE,SECT_ID,STNNBR,CASTNO,SAMPNO,BTLNBR,BTLNBR_FLAG_W,GEOTRC_EVENTNO,GEOTRC_SAMPNO,DATE,TIME,LATITUDE,LONGITUDE,DEPTH,CTDPRS,CTDTMP,CTDSAL,CTDSAL_FLAG_W,REFTMP,REFTMP_FLAG_W,BTL_DATE,BTL_TIME,BTL_LAT,BTL_LON,SILCAT,SILCAT_FLAG_W,PHSPHT,PHSPHT_FLAG_W,NITRAT,NITRAT_FLAG_W,NITRIT,NITRIT_FLAG_W,OXYGEN,OXYGEN_FLAG_W,SALNTY,SALNTY_FLAG_W,CTDRINKO,CTDRINKO_FLAG_W,CTDFLUOR,CTDFLUOR_FLAG_W,CTDXMISS,CTDXMISS_FLAG_W,CTDOXY,CTDOXY_FLAG_W
,,,,,,,,,,,,,METERS,DBAR,ITS-90,PSS-78,,ITS-90,,,,,,UMOL/KG,,UMOL/KG,,UMOL/KG,,UMOL/KG,,UMOL/KG,,PSS-78,,VOLTS,,VOLTS,,VOLTS,,UMOL/KG,
33RR20180918, GP15,6,3,1,GSNIS-1    ,2,6575,12727,20181001,1627,52.0002,-152.0003,5214,1009.7,2.8475,34.3831,2,2.8459,2,20181001,1627,52.0003,-152.0003,146.74,2,3.13,2,43.96,2,0,2,21.81,2,34.3842,2,3.212,1,0.018,1,4.701,1,19.9,2
33RR20180918, GP15,6,3,2,GSNIS-2    ,2,6575,12727,20181001,1627,52.0002,-152.0003,5214,1010.5,2.8468,34.3833,2,-999,9,20181001,1627,52.0003,-152.0003,146.64,2,3.14,2,43.95,2,0,2,-999,9,-999,9,3.212,1,0.018,1,4.701,1,18.9,2
33RR20180918, GP15,6,3,3,GSNIS-3    ,2,6575,12726,20181001,1627,52.0002,-152.0003,5214,758.6,3.1866,34.2915,2,3.1862,2,20181001,1633,52.0002,-152.0003,134.35,2,3.11,2,43.81,2,0,2,21.54,2,34.3874,3,3.216,1,0.018,1,4.701,1,20.5,2
33RR20180918, GP15,6,3,4,GSNIS-4    ,2,6575,12726,20181001,1627,52.0002,-152.0003,5214,758.3,3.1866,34.2915,2,-999,9,20181001,1633,52.0002,-152.0003,134.15,2,3.12,2,43.8,2,0,2,-999,9,-999,9,3.216,1,0.018,1,4.7,1,19.2,2
33RR20180918, GP15,6,3,5,GSNIS-5    ,2,6575,12725,20181001,1627,52.0002,-152.0003,5214,555.3,3.5407,34.1805,2,3.5389,2,20181001,1638,52.0002,-152.0003,120.59,2,3.1,2,43.97,2,0,2,18.54,2,34.1827,2,3.223,1,0.017,1,4.701,1,18.6,2
33RR20180918, GP15,6,3,6,GSNIS-6    ,2,6575,12725,20181001,1627,52.0002,-152.0003,5214,557.2,3.5398,34.181,2,-999,9,20181001,1638,52.0002,-152.0003,120.69,2,3.11,2,43.93,2,0,2,-999,9,-999,9,3.224,1,0.018,1,4.702,1,18.7,2
33RR20180918, GP15,6,3,7,GSNIS-7    ,2,6575,12725,20181001,1627,52.0002,-152.0003,5214,556.4,3.54,34.1809,2,-999,9,20181001,1638,52.0002,-152.0003,120.2,2,3.11,2,43.93,2,0,2,-999,9,-999,9,3.223,1,0.018,1,4.701,1,18.1,2
33RR20180918, GP15,6,3,8,GSNIS-8    ,2,6575,12725,20181001,1627,52.0002,-152.0003,5214,557.7,3.5373,34.182,2,-999,9,20181001,1638,52.0002,-152.0003,120.3,2,3.11,2,43.86,2,0,2,-999,9,-999,9,3.224,1,0.017,1,4.702,1,18.5,2
33RR20180918, GP15,6,3,9,GSNIS-9    ,2,6575,12724,20181001,1627,52.0002,-152.0003,5214,444.1,3.6991,34.0943,2,3.6982,2,20181001,1641,52.0002,-152.0003,111.42,2,3.12,2,44.12,2,0,2,21.51,2,34.095,2,3.225,1,0.018,1,4.701,1,23,2
33RR20180918, GP15,6,3,10,GSNIS-10   ,2,6575,12724,20181001,1627,52.0002,-152.0003,5214,446.1,3.6991,34.0943,2,-999,9,20181001,1641,52.0003,-152.0003,111.13,2,3.13,2,44.09,2,0,2,-999,9,-999,9,3.225,1,0.018,1,4.701,1,22.4,2
33RR20180918, GP15,6,3,11,GSNIS-11   ,2,6575,12723,20181001,1627,52.0002,-152.0003,5214,355.7,3.7455,34.0114,2,3.7445,2,20181001,1645,52.0002,-152.0003,103.42,2,3.14,2,44.52,2,0,2,21.52,2,34.0097,2,3.199,1,0.018,1,4.699,1,24.8,2
33RR20180918, GP15,6,3,12,GSNIS-12   ,2,6575,12723,20181001,1627,52.0002,-152.0003,5214,353,3.7453,34.0096,2,-999,9,20181001,1645,52.0002,-152.0003,103.42,2,3.14,2,44.52,2,0,2,-999,9,-999,9,3.198,1,0.018,1,4.698,1,23,2
33RR20180918, GP15,6,3,13,GSNIS-13   ,2,6575,12723,20181001,1627,52.0002,-152.0003,5214,354.7,3.7455,34.0106,2,-999,9,20181001,1645,52.0002,-152.0003,103.12,2,3.12,2,44.51,2,0,2,-999,9,-999,9,3.197,1,0.018,1,4.699,1,23.4,2
33RR20180918, GP15,6,3,14,GSNIS-14   ,2,6575,12723,20181001,1627,52.0002,-152.0003,5214,354,3.7454,34.0104,2,-999,9,20181001,1645,52.0002,-152.0003,103.81,2,3.14,2,44.58,2,0,2,-999,9,-999,9,3.197,1,0.018,1,4.699,1,23,2
33RR20180918, GP15,6,3,15,GSNIS-15   ,2,6575,12722,20181001,1627,52.0002,-152.0003,5214,251.4,3.5802,33.834,2,3.5816,2,20181001,1648,52.0002,-152.0002,89.46,2,3.07,2,43.29,2,0.01,2,48.47,2,33.8341,2,3.1,1,0.018,1,4.695,1,53.4,2
33RR20180918, GP15,6,3,16,GSNIS-16   ,2,6575,12722,20181001,1627,52.0002,-152.0003,5214,254,3.5826,33.8351,2,-999,9,20181001,1648,52.0002,-152.0002,89.56,2,3.09,2,43.36,2,0.01,2,-999,9,-999,9,3.088,1,0.018,1,4.695,1,53.2,2
33RR20180918, GP15,6,3,17,GSNIS-17   ,2,6575,12722,20181001,1627,52.0002,-152.0003,5214,252.6,3.5819,33.8351,2,-999,9,20181001,1648,52.0002,-152.0002,89.17,2,3.05,2,43.31,2,0.01,2,-999,9,-999,9,3.079,1,0.017,1,4.695,1,52.6,2
33RR20180918, GP15,6,3,18,GSNIS-18   ,2,6575,12722,20181001,1627,52.0002,-152.0003,5214,253.9,3.5823,33.8352,2,-999,9,20181001,1648,52.0002,-152.0002,89.27,2,3.04,2,43.33,2,0.01,2,-999,9,-999,9,3.071,1,0.018,1,4.696,1,52.6,2
33RR20180918, GP15,6,3,19,GSNIS-19   ,2,6575,12721,20181001,1627,52.0002,-152.0003,5214,152.5,3.5429,33.5439,2,3.5426,2,20181001,1651,52.0003,-152.0003,68.28,2,2.66,2,37.17,2,0.01,2,127.2,2,33.5456,2,2.776,1,0.018,1,4.691,1,124.9,2
33RR20180918, GP15,6,3,20,GSNIS-20   ,2,6575,12721,20181001,1627,52.0002,-152.0003,5214,151.6,3.547,33.5392,2,-999,9,20181001,1651,52.0003,-152.0003,67.99,2,2.66,2,37.09,2,0.01,2,-999,9,-999,9,2.768,1,0.018,1,4.691,1,135.3,2
33RR20180918, GP15,6,3,21,GSNIS-21   ,2,6575,12720,20181001,1627,52.0002,-152.0003,5214,119,4.1578,33.0047,2,4.1452,2,20181001,1654,52.0002,-152.0003,41.44,2,1.97,2,25.85,2,0.01,2,245.73,2,33.0021,2,2.293,1,0.019,1,4.69,1,249.8,2
33RR20180918, GP15,6,3,22,GSNIS-22   ,2,6575,12720,20181001,1627,52.0002,-152.0003,5214,120.7,4.1404,33.0235,2,-999,9,20181001,1654,52.0002,-152.0003,42.02,2,2,2,26.18,2,0.02,2,-999,9,-999,9,2.269,1,0.02,1,4.69,1,256.5,2
33RR20180918, GP15,6,3,23,GSNIS-23   ,2,6575,12720,20181001,1627,52.0002,-152.0003,5214,119.4,4.1438,33.0193,2,-999,9,20181001,1654,52.0002,-152.0003,42.32,2,2,2,26.29,2,0.01,2,-999,9,-999,9,2.245,1,0.019,1,4.691,1,256.7,2
33RR20180918, GP15,6,3,24,GSNIS-24   ,2,6575,12720,20181001,1627,52.0002,-152.0003,5214,119.8,4.1405,33.0213,2,4.1438,2,20181001,1654,52.0002,-152.0003,42.02,2,1.99,2,26.17,2,0.01,2,-999,9,-999,9,2.225,1,0.019,1,4.69,1,256.1,2
33RR20180918, GP15,6,3,25,GSNIS-25   ,2,6575,12719,20181001,1627,52.0002,-152.0003,5214,90.3,4.9169,32.7023,2,4.9411,3,20181001,1656,52.0002,-152.0002,28.64,2,1.56,2,19.15,2,0.03,2,299.22,2,32.7069,3,1.808,1,0.026,1,4.68,1,293.9,2
33RR20180918, GP15,6,3,26,GSNIS-26   ,2,6575,12719,20181001,1627,52.0002,-152.0003,5214,92.5,4.9424,32.6979,2,-999,9,20181001,1656,52.0002,-152.0002,28.54,2,1.56,2,19.07,2,0.03,2,-999,9,-999,9,1.796,1,0.029,1,4.681,1,302.8,2
33RR20180918, GP15,6,3,27,GSNIS-27   ,2,6575,12718,20181001,1627,52.0002,-152.0003,5214,60.9,6.086,32.6267,2,6.0997,2,20181001,1658,52.0002,-152.0003,25.32,2,1.44,2,15.71,2,0.3,2,307.54,2,32.6301,2,1.614,1,0.047,1,4.635,1,314,2
33RR20180918, GP15,6,3,28,GSNIS-28   ,2,6575,12718,20181001,1627,52.0002,-152.0003,5214,62.7,6.0753,32.6287,2,-999,9,20181001,1658,52.0002,-152.0002,25.51,2,1.47,2,15.75,2,0.31,2,-999,9,-999,9,1.611,1,0.045,1,4.636,1,315.1,2
33RR20180918, GP15,6,3,29,GSNIS-29   ,2,6575,12718,20181001,1627,52.0002,-152.0003,5214,60.1,6.1386,32.625,2,-999,9,20181001,1658,52.0002,-152.0003,25.42,2,1.47,2,15.73,2,0.3,2,-999,9,-999,9,1.607,1,0.045,1,4.633,1,314.8,2
33RR20180918, GP15,6,3,30,GSNIS-30   ,2,6575,12718,20181001,1627,52.0002,-152.0003,5214,62.7,6.096,32.6283,2,-999,9,20181001,1659,52.0002,-152.0003,25.42,2,1.44,2,15.67,2,0.3,2,-999,9,-999,9,1.603,1,0.044,1,4.636,1,314.2,2
33RR20180918, GP15,6,3,31,GSNIS-31   ,2,6575,12717,20181001,1627,52.0002,-152.0003,5214,41.5,12.9408,32.3829,2,12.9296,2,20181001,1701,52.0002,-152.0003,17.6,2,0.98,2,9.84,2,0.11,2,268.26,2,32.3929,2,1.466,1,0.073,1,4.532,1,267.9,2
33RR20180918, GP15,6,3,32,GSNIS-32   ,2,6575,12717,20181001,1627,52.0002,-152.0003,5214,41.3,12.9308,32.3836,2,-999,9,20181001,1701,52.0002,-152.0003,17.5,2,0.97,2,9.81,2,0.11,2,-999,9,-999,9,1.466,1,0.072,1,4.532,1,266.1,2
33RR20180918, GP15,6,3,33,GSNIS-33   ,5,6575,12717,20181001,1627,52.0002,-152.0003,5214,41.7,12.9297,32.3842,3,-999,9,20181001,1701,52.0002,-152.0003,-999,9,-999,9,-999,9,-999,9,-999,9,-999,9,1.466,1,0.074,1,4.532,1,265.7,3
33RR20180918, GP15,6,3,34,GSNIS-34   ,2,6575,12717,20181001,1627,52.0002,-152.0003,5214,41.1,12.9382,32.3838,2,-999,9,20181001,1701,52.0002,-152.0003,17.5,2,0.99,2,9.77,2,0.11,2,-999,9,-999,9,1.464,1,0.072,1,4.531,1,265.9,2
33RR20180918, GP15,6,3,35,GSNIS-35   ,2,6575,12716,20181001,1627,52.0002,-152.0003,5214,26.4,12.9855,32.3828,2,12.9827,2,20181001,1703,52.0002,-152.0003,17.5,2,0.97,2,9.67,2,0.11,2,266.36,2,32.3863,2,1.439,1,0.077,1,4.529,1,267.4,2
33RR20180918, GP15,6,3,36,GSNIS-36   ,2,6575,12716,20181001,1627,52.0002,-152.0003,5214,27.2,12.9856,32.3831,2,-999,9,20181001,1703,52.0002,-152.0003,17.4,2,0.96,2,9.68,2,0.11,2,-999,9,-999,9,1.439,1,0.076,1,4.529,1,266.1,2
33RR20180918, GP15,6,5,1,GSNIS-1    ,2,6580,12765,20181002,13,52.0003,-151.9997,5214,1012.9,2.8667,34.3783,2,2.865,2,20181002,13,52.0003,-151.9998,144.98,2,3.1,2,43.95,2,0,2,19.91,2,34.3801,2,3.208,1,0.018,1,4.701,1,20.1,2
33RR20180918, GP15,6,5,2,GSNIS-2    ,2,6580,12765,20181002,13,52.0003,-151.9997,5214,1013.5,2.8658,34.3786,2,-999,9,20181002,14,52.0003,-151.9998,144.78,2,3.11,2,44,2,0,2,-999,9,-999,9,3.208,1,0.018,1,4.701,1,18.1,2
33RR20180918, GP15,6,5,3,GSNIS-3    ,2,6580,12765,20181002,13,52.0003,-151.9997,5214,1012.6,2.8667,34.3783,2,-999,9,20181002,14,52.0003,-151.9998,144.88,2,3.12,2,44,2,0,2,-999,9,-999,9,3.208,1,0.018,1,4.701,1,18.3,2
33RR20180918, GP15,6,5,4,GSNIS-4    ,2,6580,12765,20181002,13,52.0003,-151.9997,5214,1013.1,2.8661,34.3784,2,2.8646,2,20181002,14,52.0003,-151.9998,145.17,2,3.14,2,43.98,2,0,2,-999,9,-999,9,3.208,1,0.018,1,4.7,1,18.1,2
33RR20180918, GP15,6,5,5,GSNIS-5    ,2,6580,12764,20181002,13,52.0003,-151.9997,5214,757.7,3.2011,34.2881,2,3.2008,2,20181002,19,52.0003,-151.9997,133.08,2,3.13,2,43.85,2,0,2,19.85,2,34.2898,2,3.212,1,0.018,1,4.701,1,20.5,2
33RR20180918, GP15,6,5,6,GSNIS-6    ,2,6580,12764,20181002,13,52.0003,-151.9997,5214,760,3.2003,34.2884,2,-999,9,20181002,19,52.0003,-151.9997,132.78,2,3.11,2,43.74,2,0,2,-999,9,-999,9,3.213,1,0.018,1,4.701,1,19.3,2
33RR20180918, GP15,6,5,7,GSNIS-7    ,2,6580,12764,20181002,13,52.0003,-151.9997,5214,759.2,3.2015,34.288,2,-999,9,20181002,19,52.0003,-151.9998,132.78,2,3.12,2,43.75,2,0,2,-999,9,-999,9,3.213,1,0.018,1,4.701,1,19.1,2
33RR20180918, GP15,6,5,8,GSNIS-8    ,2,6580,12763,20181002,13,52.0003,-151.9997,5214,557.4,3.5404,34.1814,2,3.5421,2,20181002,24,52.0003,-151.9997,119.61,2,3.11,2,44.03,2,0,2,16.42,2,34.1821,2,3.211,1,0.017,1,4.702,1,18.7,2
33RR20180918, GP15,6,5,9,GSNIS-9    ,2,6580,12763,20181002,13,52.0003,-151.9997,5214,557.8,3.543,34.1802,2,-999,9,20181002,24,52.0003,-151.9997,119.81,2,3.11,2,44,2,0,2,-999,9,-999,9,3.212,1,0.018,1,4.702,1,17.8,2
33RR20180918, GP15,6,5,10,GSNIS-10   ,2,6580,12763,20181002,13,52.0003,-151.9997,5214,558.3,3.5455,34.1793,2,-999,9,20181002,25,52.0003,-151.9997,119.42,2,3.11,2,44.04,2,0,2,-999,9,-999,9,3.212,1,0.018,1,4.702,1,18.1,2
33RR20180918, GP15,6,5,11,GSNIS-11   ,2,6580,12762,20181002,13,52.0003,-151.9997,5214,353.5,3.7343,34.0032,2,3.7338,2,20181002,29,52.0003,-151.9997,102.73,2,3.14,2,44.41,2,0,2,22.32,2,34.0064,2,3.196,1,0.018,1,4.698,1,24,2
33RR20180918, GP15,6,5,12,GSNIS-12   ,2,6580,12762,20181002,13,52.0003,-151.9997,5214,354,3.7345,34.0033,2,-999,9,20181002,29,52.0003,-151.9997,102.54,2,3.13,2,44.38,2,0,2,-999,9,-999,9,3.195,1,0.018,1,4.699,1,25.3,2
33RR20180918, GP15,6,5,13,GSNIS-13   ,2,6580,12762,20181002,13,52.0003,-151.9997,5214,353.3,3.7343,34.0033,2,-999,9,20181002,30,52.0003,-151.9997,102.54,2,3.13,2,44.43,2,0,2,-999,9,-999,9,3.194,1,0.018,1,4.696,1,25.3,2
33RR20180918, GP15,6,5,14,GSNIS-14   ,2,6580,12761,20181002,13,52.0003,-151.9997,5214,252.6,3.6437,33.8778,2,3.6421,2,20181002,33,52.0004,-151.9998,92.2,2,3.11,2,44.1,2,0,2,36.12,2,33.8785,2,3.162,1,0.018,1,4.696,1,42.2,2
33RR20180918, GP15,6,5,15,GSNIS-15   ,2,6580,12761,20181002,13,52.0003,-151.9997,5214,252.2,3.6433,33.8774,2,-999,9,20181002,33,52.0004,-151.9998,92.29,2,3.1,2,44.13,2,0.01,2,-999,9,-999,9,3.161,1,0.018,1,4.696,1,41.8,2
33RR20180918, GP15,6,5,16,GSNIS-16   ,3,6580,12761,20181002,13,52.0003,-151.9997,5214,253.3,3.6432,33.8775,3,-999,9,20181002,33,52.0004,-151.9998,125.21,3,3.09,3,43.88,3,0,3,-999,9,-999,9,3.159,1,0.018,1,4.694,1,41.6,3
33RR20180918, GP15,6,5,17,GSNIS-17   ,2,6580,12760,20181002,13,52.0003,-151.9997,5214,151.3,3.4824,33.5958,2,3.4774,2,20181002,36,52.0003,-151.9998,71.6,2,2.74,2,38.41,2,0.01,2,111.79,2,33.6095,2,2.933,1,0.018,1,4.691,1,127.1,3
33RR20180918, GP15,6,5,18,GSNIS-18   ,2,6580,12760,20181002,13,52.0003,-151.9997,5214,152.6,3.472,33.6048,2,-999,9,20181002,36,52.0003,-151.9998,71.21,2,2.74,2,38.22,2,0.01,2,-999,9,-999,9,2.915,1,0.018,1,4.692,1,122.4,3
33RR20180918, GP15,6,5,19,GSNIS-19   ,2,6580,12759,20181002,13,52.0003,-151.9997,5214,120.6,4.081,33.0874,2,4.0803,2,20181002,38,52.0003,-151.9998,44.37,2,2.07,2,27.33,2,0.01,2,228.28,2,33.0702,2,2.445,1,0.019,1,4.691,1,230.4,2
33RR20180918, GP15,6,5,20,GSNIS-20   ,2,6580,12759,20181002,13,52.0003,-151.9997,5214,121.4,4.0797,33.0837,2,-999,9,20181002,38,52.0003,-151.9998,44.17,2,2.05,2,27.21,2,0.01,2,-999,9,-999,9,2.416,1,0.019,1,4.691,1,243.9,2
33RR20180918, GP15,6,5,21,GSNIS-21   ,2,6580,12759,20181002,13,52.0003,-151.9997,5214,120.9,4.0913,33.0758,2,-999,9,20181002,38,52.0003,-151.9998,44.27,2,2.05,2,27.18,2,0.01,2,-999,9,-999,9,2.394,1,0.019,1,4.691,1,244.2,2
33RR20180918, GP15,6,5,22,GSNIS-22   ,3,6580,12758,20181002,13,52.0003,-151.9997,5214,91.1,5.076,32.6785,3,5.0754,3,20181002,41,52.0004,-151.9997,27.86,3,1.55,3,18.72,3,0.07,3,-999,9,-999,9,1.85,1,0.028,1,4.679,1,307.9,3
33RR20180918, GP15,6,5,23,GSNIS-23   ,2,6580,12758,20181002,13,52.0003,-151.9997,5214,91.3,5.0748,32.6787,2,-999,9,20181002,41,52.0004,-151.9997,27.76,2,1.56,2,18.76,2,0.06,2,299.25,2,32.6787,2,1.841,1,0.029,1,4.679,1,294.8,2
33RR20180918, GP15,6,5,24,GSNIS-24   ,2,6580,12758,20181002,13,52.0003,-151.9997,5214,90.8,5.0777,32.6785,2,-999,9,20181002,41,52.0004,-151.9997,27.86,2,1.56,2,18.75,2,0.07,2,-999,9,-999,9,1.832,1,0.03,1,4.679,1,307.9,2
33RR20180918, GP15,6,5,25,GSNIS-25   ,2,6580,12757,20181002,13,52.0003,-151.9997,5214,71.4,5.4353,32.647,2,5.4334,2,20181002,43,52.0003,-151.9997,26.49,2,1.52,2,16.86,2,0.83,2,304.66,2,32.6505,2,1.667,1,0.038,1,4.666,1,300.6,2
33RR20180918, GP15,6,5,26,GSNIS-26   ,2,6580,12756,20181002,13,52.0003,-151.9997,5214,60.7,5.7906,32.633,2,5.7875,2,20181002,45,52.0003,-151.9997,25.51,2,1.47,2,15.95,2,0.35,2,307.78,2,32.6361,2,1.585,1,0.044,1,4.647,1,307.3,2
33RR20180918, GP15,6,5,27,GSNIS-27   ,2,6580,12756,20181002,13,52.0003,-151.9997,5214,61.3,5.7792,32.6342,2,-999,9,20181002,45,52.0003,-151.9997,25.61,2,1.48,2,15.99,2,0.37,2,-999,9,-999,9,1.583,1,0.042,1,4.648,1,316.7,2
33RR20180918, GP15,6,5,28,GSNIS-28   ,2,6580,12756,20181002,13,52.0003,-151.9997,5214,61,5.7944,32.6324,2,-999,9,20181002,45,52.0003,-151.9997,25.61,2,1.48,2,15.94,2,0.37,2,-999,9,-999,9,1.581,1,0.041,1,4.649,1,316.7,2
33RR20180918, GP15,6,5,29,GSNIS-29   ,2,6580,12755,20181002,13,52.0003,-151.9997,5214,41.3,9.8711,32.479,2,9.733,3,20181002,47,52.0003,-151.9997,19.85,2,1.18,2,11.97,2,0.13,2,291.3,2,32.4908,3,1.502,1,0.061,1,4.58,1,304.9,3
33RR20180918, GP15,6,5,30,GSNIS-30   ,2,6580,12755,20181002,13,52.0003,-151.9997,5214,41.5,9.3424,32.51,2,-999,9,20181002,47,52.0003,-151.9997,19.75,2,1.19,2,11.84,2,0.13,2,-999,9,-999,9,1.498,1,0.061,1,4.581,1,291.8,3
33RR20180918, GP15,6,5,31,GSNIS-31   ,2,6580,12755,20181002,13,52.0003,-151.9997,5214,39.9,10.2254,32.4489,2,-999,9,20181002,47,52.0003,-151.9997,19.26,2,1.15,2,11.45,2,0.13,2,-999,9,-999,9,1.496,1,0.061,1,4.567,1,283.9,3
33RR20180918, GP15,6,5,32,GSNIS-32   ,2,6580,12755,20181002,13,52.0003,-151.9997,5214,41.5,9.6472,32.4883,2,-999,9,20181002,47,52.0003,-151.9997,19.06,2,1.13,2,11.28,2,0.13,2,-999,9,-999,9,1.492,1,0.062,1,4.579,1,295.5,3
33RR20180918, GP15,6,5,33,GSNIS-33   ,2,6580,12754,20181002,13,52.0003,-151.9997,5214,30.8,12.9831,32.3795,2,12.9794,2,20181002,49,52.0003,-151.9997,17.31,2,0.98,2,9.63,2,0.11,2,266.99,2,32.3859,2,1.45,1,0.081,1,4.513,1,266.5,2
33RR20180918, GP15,6,5,34,GSNIS-34   ,2,6580,12754,20181002,13,52.0003,-151.9997,5214,31.1,12.9832,32.3803,2,-999,9,20181002,49,52.0003,-151.9997,17.31,2,0.99,2,9.64,2,0.11,2,-999,9,-999,9,1.446,1,0.081,1,4.511,1,268.2,2
33RR20180918, GP15,6,5,35,GSNIS-35   ,2,6580,12753,20181002,13,52.0003,-151.9997,5214,20.5,13.0045,32.3788,2,13.0123,2,20181002,51,52.0003,-151.9997,17.6,2,0.97,2,9.73,2,0.11,2,266.97,2,32.3847,2,1.43,1,0.075,1,4.506,1,266.7,2
33RR20180918, GP15,6,5,36,GSNIS-36   ,2,6580,12752,20181002,13,52.0003,-151.9997,5214,3.8,13.0494,32.3774,2,13.0509,2,20181002,53,52.0003,-151.9997,17.7,2,0.99,2,9.86,2,0.11,2,267.33,2,32.3812,2,1.436,1,0.044,1,4.508,1,264.1,2