BOTTLE,20191212SIOCCHAMB
EXPOCODE,SECT_ID,STNNBR,CASTNO,SAMPNO,BTLNBR,BTLNBR_FLAG_W,GEOTRC_EVENTNO,GEOTRC_SAMPNO,DATE,TIME,LATITUDE,LONGITUDE,DEPTH,CTDPRS,CTDTMP,CTDSAL,CTDSAL_FLAG_W,REFTMP,REFTMP_FLAG_W,BTL_DATE,BTL_TIME,BTL_LAT,BTL_LON,SILCAT,SILCAT_FLAG_W,PHSPHT,PHSPHT_FLAG_W,NITRAT,NITRAT_FLAG_W,NITRIT,NITRIT_FLAG_W,OXYGEN,OXYGEN_FLAG_W,SALNTY,SALNTY_FLAG_W,CTDRINKO,CTDRINKO_FLAG_W,CTDFLUOR,CTDFLUOR_FLAG_W,CTDXMISS,CTDXMISS_FLAG_W,CTDOXY,CTDOXY_FLAG_W
,,,,,,,,,,,,,METERS,DBAR,ITS-90,PSS-78,,ITS-90,,,,,,UMOL/KG,,UMOL/KG,,UMOL/KG,,UMOL/KG,,UMOL/KG,,PSS-78,,VOLTS,,VOLTS,,VOLTS,,UMOL/KG,
33RR20180918, GP15,35,5,1,GSNIS-2    ,4,6964,15390,20181116,450,-10.5002,-152.0003,5224,806.5,5.2721,34.5135,3,5.2834,3,20181116,450,-10.5002,-152.0003,45.54,3,2.5,3,36.41,3,0,3,101.49,3,34.5252,3,2.308,1,0.017,1,4.671,1,105.7,3
33RR20180918, GP15,35,5,2,GSNIS-3    ,2,6964,15390,20181116,450,-10.5002,-152.0003,5224,804.9,5.2853,34.513,2,-999,9,20181116,450,-10.5002,-152.0003,56.39,2,2.57,2,37.31,2,0,2,-999,9,-999,9,2.309,1,0.017,1,4.67,1,106.1,3
33RR20180918, GP15,35,5,3,GSNIS-4    ,2,6964,15390,20181116,450,-10.5002,-152.0003,5224,806.4,5.2833,34.5131,2,-999,9,20181116,450,-10.5002,-152.0003,56.19,2,2.57,2,37.32,2,0,2,-999,9,-999,9,2.308,1,0.017,1,4.671,1,106,3
33RR20180918, GP15,35,5,4,GSNIS-5    ,2,6964,15390,20181116,450,-10.5002,-152.0003,5224,805.6,5.2771,34.5134,2,-999,9,20181116,450,-10.5002,-152.0003,56.29,2,2.56,2,37.31,2,0,2,-999,9,-999,9,2.308,1,0.017,1,4.671,1,106.1,3
33RR20180918, GP15,35,5,5,GSNIS-6    ,2,6964,15389,20181116,450,-10.5002,-152.0003,5224,555,6.9017,34.5478,2,6.9017,2,20181116,456,-10.5002,-152.0003,37.04,2,2.35,2,34.66,2,0,2,103.15,2,34.5496,2,2.272,1,0.017,1,4.668,1,101.2,2
33RR20180918, GP15,35,5,6,GSNIS-7    ,2,6964,15389,20181116,450,-10.5002,-152.0003,5224,554.6,6.9015,34.548,2,-999,9,20181116,456,-10.5002,-152.0003,37.04,2,2.34,2,34.7,2,0,2,-999,9,-999,9,2.271,1,0.017,1,4.668,1,102.9,2
33RR20180918, GP15,35,5,7,GSNIS-8    ,2,6964,15389,20181116,450,-10.5002,-152.0003,5224,553,6.9029,34.5479,2,-999,9,20181116,456,-10.5002,-152.0003,36.94,2,2.34,2,34.79,2,0,2,-999,9,-999,9,2.27,1,0.017,1,4.668,1,102.2,2
33RR20180918, GP15,35,5,8,GSNIS-9    ,2,6964,15388,20181116,450,-10.5002,-152.0003,5224,454.4,8.18,34.6008,2,8.1942,2,20181116,459,-10.5002,-152.0003,27.75,2,2.18,2,32,2,0,2,99.87,2,34.6022,2,2.252,1,0.017,1,4.666,1,99.4,2
33RR20180918, GP15,35,5,9,GSNIS-10   ,2,6964,15388,20181116,450,-10.5002,-152.0003,5224,453.1,8.1926,34.6012,2,-999,9,20181116,459,-10.5002,-152.0003,27.56,2,2.17,2,31.93,2,0,2,-999,9,-999,9,2.251,1,0.017,1,4.667,1,99.1,2
33RR20180918, GP15,35,5,10,GSNIS-11   ,2,6964,15387,20181116,450,-10.5002,-152.0003,5224,353,10.6105,34.6807,2,10.6061,2,20181116,502,-10.5002,-152.0003,17.88,2,2.06,2,27.37,2,0,2,76.06,2,34.6816,2,2.242,1,0.017,1,4.664,1,76.6,2
33RR20180918, GP15,35,5,11,GSNIS-12   ,2,6964,15387,20181116,450,-10.5002,-152.0003,5224,352.5,10.6077,34.6816,2,-999,9,20181116,502,-10.5002,-152.0003,17.78,2,2.04,2,27.33,2,0,2,-999,9,-999,9,2.244,1,0.017,1,4.663,1,76.7,2
33RR20180918, GP15,35,5,12,GSNIS-13   ,2,6964,15387,20181116,450,-10.5002,-152.0003,5224,352,10.587,34.6817,2,-999,9,20181116,502,-10.5002,-152.0003,17.69,2,2.02,2,27.36,2,0,2,-999,9,-999,9,2.245,1,0.017,1,4.663,1,76.7,2
33RR20180918, GP15,35,5,13,GSNIS-14   ,2,6964,15386,20181116,450,-10.5002,-152.0003,5224,226.9,18.3974,35.5278,2,18.4578,3,20181116,505,-10.5002,-152.0003,2.05,2,0.84,2,9.89,2,0,2,144.32,2,35.5314,3,2.04,1,0.017,1,4.662,1,145.5,2
33RR20180918, GP15,35,5,14,GSNIS-15   ,2,6964,15386,20181116,450,-10.5002,-152.0003,5224,226.5,18.4332,35.532,2,-999,9,20181116,505,-10.5002,-152.0003,2.05,2,0.84,2,9.95,2,0,2,-999,9,-999,9,2.039,1,0.017,1,4.662,1,146.6,2
33RR20180918, GP15,35,5,15,GSNIS-16   ,2,6964,15386,20181116,450,-10.5002,-152.0003,5224,226.6,18.4653,35.5392,2,-999,9,20181116,505,-10.5002,-152.0003,1.95,2,0.83,2,9.86,2,0,2,-999,9,-999,9,2.036,1,0.017,1,4.661,1,146.6,2
33RR20180918, GP15,35,5,16,GSNIS-17   ,2,6964,15385,20181116,450,-10.5002,-152.0003,5224,176.5,22.5475,36.1412,2,22.524,3,20181116,507,-10.5002,-152.0003,0.39,2,0.52,2,5.46,2,0,2,158.37,2,36.1339,2,1.841,1,0.019,1,4.655,1,158,2
33RR20180918, GP15,35,5,17,GSNIS-18   ,2,6964,15385,20181116,450,-10.5002,-152.0003,5224,176.8,22.5558,36.1438,2,-999,9,20181116,507,-10.5002,-152.0003,0.39,2,0.52,2,5.47,2,0,2,-999,9,-999,9,1.847,1,0.019,1,4.654,1,157,2
33RR20180918, GP15,35,5,18,GSNIS-19   ,2,6964,15384,20181116,450,-10.5002,-152.0003,5224,151.2,24.4111,36.3518,2,24.4774,3,20181116,509,-10.5002,-152.0003,0.2,2,0.44,2,4.26,2,0.1,2,159.68,2,36.353,3,1.73,1,0.026,1,4.646,1,158,2
33RR20180918, GP15,35,5,19,GSNIS-20   ,2,6964,15384,20181116,450,-10.5002,-152.0003,5224,150.5,24.3654,36.3576,2,-999,9,20181116,509,-10.5002,-152.0003,0.2,2,0.43,2,4.18,2,0.12,2,-999,9,-999,9,1.72,1,0.025,1,4.645,1,159.1,2
33RR20180918, GP15,35,5,20,GSNIS-21   ,2,6964,15384,20181116,450,-10.5002,-152.0003,5224,151,24.4623,36.3585,2,-999,9,20181116,509,-10.5002,-152.0003,0.2,2,0.43,2,4.21,2,0.11,2,-999,9,-999,9,1.71,1,0.025,1,4.645,1,158.9,2
33RR20180918, GP15,35,5,21,GSNIS-22   ,2,6964,15383,20181116,450,-10.5002,-152.0003,5224,126,26.4754,36.3582,2,26.4706,2,20181116,511,-10.5002,-152.0003,0.2,2,0.34,2,2.35,2,0.85,2,166.88,2,36.3608,2,1.603,1,0.036,1,4.634,1,168.4,2
33RR20180918, GP15,35,5,22,GSNIS-23   ,2,6964,15383,20181116,450,-10.5002,-152.0003,5224,126.6,26.4374,36.3571,2,-999,9,20181116,511,-10.5002,-152.0003,0.2,2,0.33,2,2.33,2,0.85,2,-999,9,-999,9,1.6,1,0.036,1,4.635,1,173.4,2
33RR20180918, GP15,35,5,23,GSNIS-24   ,2,6964,15382,20181116,450,-10.5002,-152.0003,5224,100.1,27.5812,36.2334,2,27.6313,2,20181116,513,-10.5002,-152.0003,0.1,2,0.16,2,0.31,2,0.1,2,191.05,2,36.2293,2,1.524,1,0.047,1,4.613,1,190.8,2
33RR20180918, GP15,35,5,24,GSNIS-25   ,2,6964,15382,20181116,450,-10.5002,-152.0003,5224,101.2,27.6385,36.2294,2,-999,9,20181116,513,-10.5002,-152.0003,0,2,0.16,2,0.3,2,0.1,2,-999,9,-999,9,1.522,1,0.047,1,4.612,1,191.4,2
33RR20180918, GP15,35,5,25,GSNIS-26   ,2,6964,15382,20181116,450,-10.5002,-152.0003,5224,100.2,27.6344,36.2304,2,-999,9,20181116,513,-10.5002,-152.0003,0.1,2,0.16,2,0.3,2,0.1,2,-999,9,-999,9,1.52,1,0.049,1,4.613,1,191,2
33RR20180918, GP15,35,5,26,GSNIS-27   ,2,6964,15382,20181116,450,-10.5002,-152.0003,5224,100.4,27.6425,36.2306,2,-999,9,20181116,514,-10.5002,-152.0003,0.2,2,0.16,2,0.31,2,0.1,2,-999,9,-999,9,1.517,1,0.045,1,4.613,1,191.4,2
33RR20180918, GP15,35,5,27,GSNIS-28   ,2,6964,15381,20181116,450,-10.5002,-152.0003,5224,75.9,27.8338,36.1293,2,27.8353,2,20181116,515,-10.5002,-152.0003,0.2,2,0.18,2,0.57,2,0.17,2,191.42,2,36.1235,2,1.348,1,0.05,1,4.603,1,193,2
33RR20180918, GP15,35,5,28,GSNIS-29   ,2,6964,15381,20181116,450,-10.5002,-152.0003,5224,76.1,27.8335,36.1303,2,-999,9,20181116,516,-10.5002,-152.0003,0.2,2,0.19,2,0.57,2,0.17,2,-999,9,-999,9,1.344,1,0.052,1,4.603,1,192.8,2
33RR20180918, GP15,35,5,29,GSNIS-30   ,2,6964,15381,20181116,450,-10.5002,-152.0003,5224,74.9,27.8382,36.1272,2,-999,9,20181116,516,-10.5002,-152.0003,0.2,2,0.19,2,0.58,2,0.17,2,-999,9,-999,9,1.342,1,0.051,1,4.603,1,192.6,2
33RR20180918, GP15,35,5,30,GSNIS-31   ,2,6964,15380,20181116,450,-10.5002,-152.0003,5224,50.8,28.6714,36.0756,2,28.6706,2,20181116,518,-10.5002,-152.0003,0.2,2,0.15,2,0.32,2,0,2,197.45,2,36.0728,2,1.288,1,0.05,1,4.591,1,198.7,2
33RR20180918, GP15,35,5,31,GSNIS-32   ,2,6964,15380,20181116,450,-10.5002,-152.0003,5224,50.4,28.6732,36.0695,2,-999,9,20181116,518,-10.5002,-152.0003,0.2,2,0.15,2,0.34,2,0,2,-999,9,-999,9,1.286,1,0.049,1,4.591,1,199.6,2
33RR20180918, GP15,35,5,32,GSNIS-33   ,4,6964,15379,20181116,450,-10.5002,-152.0003,5224,25.4,28.7308,35.9069,3,28.7324,3,20181116,520,-10.5002,-152.0003,0.29,3,0.17,3,0.65,3,0,3,-999,9,-999,9,1.266,1,0.042,1,4.586,1,198,3
33RR20180918, GP15,35,5,33,GSNIS-34   ,2,6964,15379,20181116,450,-10.5002,-152.0003,5224,26,28.7342,35.9059,2,-999,9,20181116,520,-10.5002,-152.0003,0.29,2,0.18,2,0.63,2,0,2,196.19,2,35.9044,2,1.266,1,0.042,1,4.585,1,196.8,2
33RR20180918, GP15,35,5,34,GSNIS-35   ,2,6964,15379,20181116,450,-10.5002,-152.0003,5224,26,28.7368,35.9081,2,-999,9,20181116,520,-10.5002,-152.0003,0.39,2,0.18,2,0.64,2,0,2,-999,9,-999,9,1.266,1,0.043,1,4.586,1,197.3,2
33RR20180918, GP15,35,5,35,GSNIS-36   ,2,6964,15379,20181116,450,-10.5002,-152.0003,5224,25.3,28.7356,35.9083,2,-999,9,20181116,520,-10.5002,-152.0003,0.39,2,0.18,2,0.64,2,0,2,-999,9,-999,9,1.266,1,0.043,1,4.587,1,198,2
33RR20180918, GP15,35,5,36,GSNIS-1    ,2,6964,15378,20181116,450,-10.5002,-152.0003,5224,2.8,28.7249,35.9031,2,28.7285,2,20181116,522,-10.5002,-152.0003,0.39,2,0.19,2,0.64,2,0,2,196.47,2,35.9012,2,1.267,1,0.042,1,4.584,1,197.7,2
33RR20180918, GP15,35,9,1,GSNIS-2    ,2,6967,15402,20181116,2055,-10.5003,-152,5224,3041.8,1.6698,34.678,2,1.6704,2,20181116,2055,-10.5003,-152,133.89,2,2.43,2,35.63,2,0,2,152.87,2,34.6781,2,2.207,1,0.017,1,4.677,1,152.4,2
33RR20180918, GP15,35,9,2,GSNIS-3    ,2,6967,15402,20181116,2055,-10.5003,-152,5224,3040.6,1.6714,34.6781,2,-999,9,20181116,2055,-10.5003,-152,134.28,2,2.43,2,35.65,2,0,2,-999,9,-999,9,2.208,1,0.017,1,4.677,1,152.8,2
33RR20180918, GP15,35,9,3,GSNIS-4    ,2,6967,15402,20181116,2055,-10.5003,-152,5224,3042.2,1.6705,34.6779,2,-999,9,20181116,2055,-10.5003,-152,134.28,2,2.44,2,35.65,2,0,2,-999,9,-999,9,2.207,1,0.017,1,4.677,1,152.4,2
33RR20180918, GP15,35,9,4,GSNIS-5    ,2,6967,15402,20181116,2055,-10.5003,-152,5224,3041.3,1.6713,34.6778,2,-999,9,20181116,2055,-10.5003,-152,133.99,2,2.44,2,35.63,2,0,2,-999,9,-999,9,2.207,1,0.017,1,4.677,1,152.9,2
33RR20180918, GP15,35,9,5,GSNIS-6    ,2,6967,15401,20181116,2055,-10.5003,-152,5224,2834.8,1.7499,34.6729,2,1.7498,2,20181116,2100,-10.5003,-152,132.72,2,2.46,2,35.86,2,0,2,149.59,2,34.6732,2,2.197,1,0.017,1,4.678,1,149.2,2
33RR20180918, GP15,35,9,6,GSNIS-7    ,2,6967,15401,20181116,2055,-10.5003,-152,5224,2836,1.7505,34.6728,2,-999,9,20181116,2100,-10.5003,-152,132.81,2,2.46,2,35.86,2,0,2,-999,9,-999,9,2.197,1,0.017,1,4.678,1,149.1,2
33RR20180918, GP15,35,9,7,GSNIS-8    ,2,6967,15401,20181116,2055,-10.5003,-152,5224,2833.9,1.7505,34.6728,2,-999,9,20181116,2100,-10.5003,-152,132.32,2,2.46,2,35.78,2,0,2,-999,9,-999,9,2.197,1,0.017,1,4.678,1,149,2
33RR20180918, GP15,35,9,8,GSNIS-9    ,2,6967,15400,20181116,2055,-10.5003,-152,5224,2631.2,1.8238,34.6672,2,1.8236,2,20181116,2105,-10.5003,-152,132.23,2,2.48,2,36.16,2,0,2,145.02,2,34.6677,2,2.201,1,0.017,1,4.676,1,144.9,2
33RR20180918, GP15,35,9,9,GSNIS-10   ,2,6967,15400,20181116,2055,-10.5003,-152,5224,2630.5,1.8237,34.6671,2,-999,9,20181116,2105,-10.5003,-152,132.13,2,2.47,2,36.14,2,0,2,-999,9,-999,9,2.202,1,0.015,1,4.676,1,144.9,2
33RR20180918, GP15,35,9,10,GSNIS-11   ,2,6967,15400,20181116,2055,-10.5003,-152,5224,2631.1,1.8238,34.6671,2,-999,9,20181116,2105,-10.5003,-152,132.42,2,2.47,2,36.18,2,0,2,-999,9,-999,9,2.202,1,0.017,1,4.677,1,145,2
33RR20180918, GP15,35,9,11,GSNIS-12   ,2,6967,15399,20181116,2055,-10.5003,-152,5224,2428.3,1.9072,34.6596,2,1.9073,2,20181116,2110,-10.5003,-152,129.1,2,2.49,2,36.27,2,0,2,142.81,2,34.6598,2,2.217,1,0.017,1,4.676,1,143.6,2
33RR20180918, GP15,35,9,12,GSNIS-13   ,2,6967,15399,20181116,2055,-10.5003,-152,5224,2428.5,1.9078,34.6596,2,-999,9,20181116,2110,-10.5003,-152,129.1,2,2.5,2,36.18,2,0,2,-999,9,-999,9,2.217,1,0.017,1,4.676,1,143.3,2
33RR20180918, GP15,35,9,13,GSNIS-14   ,2,6967,15399,20181116,2055,-10.5003,-152,5224,2427.2,1.9071,34.6597,2,-999,9,20181116,2110,-10.5003,-152,129.2,2,2.49,2,36.23,2,0,2,-999,9,-999,9,2.217,1,0.017,1,4.676,1,143.3,2
33RR20180918, GP15,35,9,14,GSNIS-15   ,2,6967,15399,20181116,2055,-10.5003,-152,5224,2428.7,1.9079,34.6598,2,-999,9,20181116,2110,-10.5003,-152,129.3,2,2.5,2,36.27,2,0,2,-999,9,-999,9,2.217,1,0.017,1,4.676,1,142.7,2
33RR20180918, GP15,35,9,15,GSNIS-16   ,2,6967,15398,20181116,2055,-10.5003,-152,5224,2225.8,2.0128,34.6495,2,2.013,2,20181116,2115,-10.5003,-152,124.41,2,2.48,2,36.24,2,0,2,143.01,2,34.6502,2,2.218,1,0.017,1,4.676,1,142.9,2
33RR20180918, GP15,35,9,16,GSNIS-17   ,2,6967,15398,20181116,2055,-10.5003,-152,5224,2224.5,2.0133,34.6495,2,-999,9,20181116,2115,-10.5003,-152,123.92,2,2.49,2,36.17,2,0,2,-999,9,-999,9,2.218,1,0.016,1,4.677,1,143.4,2
33RR20180918, GP15,35,9,17,GSNIS-18   ,2,6967,15398,20181116,2055,-10.5003,-152,5224,2225.4,2.0135,34.6495,2,-999,9,20181116,2115,-10.5003,-152,124.02,2,2.48,2,36.14,2,0,2,-999,9,-999,9,2.218,1,0.017,1,4.677,1,143.3,2
33RR20180918, GP15,35,9,18,GSNIS-19   ,2,6967,15397,20181116,2055,-10.5003,-152,5224,2021.5,2.2092,34.6339,2,2.21,2,20181116,2119,-10.5003,-152,119.53,2,2.51,2,36.44,2,0,2,139.02,2,34.6337,2,2.214,1,0.017,1,4.676,1,139.3,2
33RR20180918, GP15,35,9,19,GSNIS-20   ,2,6967,15397,20181116,2055,-10.5003,-152,5224,2020.5,2.2098,34.6338,2,-999,9,20181116,2119,-10.5003,-152,119.53,2,2.52,2,36.42,2,0,2,-999,9,-999,9,2.214,1,0.017,1,4.676,1,139.2,2
33RR20180918, GP15,35,9,20,GSNIS-21   ,2,6967,15397,20181116,2055,-10.5003,-152,5224,2022.2,2.2086,34.6341,2,-999,9,20181116,2120,-10.5003,-152,119.23,2,2.52,2,36.43,2,0,2,-999,9,-999,9,2.214,1,0.017,1,4.676,1,139.3,2
33RR20180918, GP15,35,9,21,GSNIS-22   ,2,6967,15397,20181116,2055,-10.5003,-152,5224,2020.6,2.2109,34.6338,2,-999,9,20181116,2120,-10.5003,-152,119.43,2,2.53,2,36.43,2,0,2,-999,9,-999,9,2.214,1,0.017,1,4.676,1,139.2,2
33RR20180918, GP15,35,9,22,GSNIS-23   ,2,6967,15396,20181116,2055,-10.5003,-152,5224,1817.4,2.4373,34.6163,2,2.4388,2,20181116,2124,-10.5003,-152,112.98,2,2.54,2,36.52,2,0,2,136.77,2,34.6172,2,2.221,1,0.017,1,4.676,1,136.2,2
33RR20180918, GP15,35,9,23,GSNIS-24   ,2,6967,15396,20181116,2055,-10.5003,-152,5224,1817.3,2.437,34.6164,2,-999,9,20181116,2125,-10.5003,-152,112.88,2,2.54,2,36.5,2,0,2,-999,9,-999,9,2.221,1,0.017,1,4.676,1,136.4,2
33RR20180918, GP15,35,9,24,GSNIS-25   ,2,6967,15395,20181116,2055,-10.5003,-152,5224,1616,2.8257,34.5949,2,2.8258,2,20181116,2129,-10.5003,-152,106.53,2,2.58,2,37.06,2,0,2,126.88,2,34.5957,2,2.232,1,0.017,1,4.675,1,126.6,2
33RR20180918, GP15,35,9,25,GSNIS-26   ,2,6967,15395,20181116,2055,-10.5003,-152,5224,1615.5,2.8257,34.5948,2,-999,9,20181116,2129,-10.5003,-152,106.63,2,2.58,2,37.1,2,0,2,-999,9,-999,9,2.232,1,0.017,1,4.675,1,126.7,2
33RR20180918, GP15,35,9,26,GSNIS-27   ,2,6967,15394,20181116,2055,-10.5003,-152,5224,1413.2,3.2548,34.5722,2,3.2535,2,20181116,2134,-10.5003,-152,97.25,2,2.62,2,37.47,2,0,2,119.98,2,34.573,2,2.257,1,0.017,1,4.675,1,119.9,2
33RR20180918, GP15,35,9,27,GSNIS-28   ,2,6967,15394,20181116,2055,-10.5003,-152,5224,1413.9,3.2534,34.5724,2,-999,9,20181116,2134,-10.5003,-152,97.05,2,2.62,2,37.43,2,0,2,-999,9,-999,9,2.258,1,0.017,1,4.675,1,119.7,2
33RR20180918, GP15,35,9,28,GSNIS-29   ,2,6967,15394,20181116,2055,-10.5003,-152,5224,1413.8,3.254,34.5723,2,-999,9,20181116,2134,-10.5003,-152,96.95,2,2.62,2,37.43,2,0,2,-999,9,-999,9,2.258,1,0.016,1,4.675,1,119,2
33RR20180918, GP15,35,9,29,GSNIS-30   ,2,6967,15394,20181116,2055,-10.5003,-152,5224,1413,3.2535,34.5724,2,-999,9,20181116,2134,-10.5003,-152,97.05,2,2.64,2,37.45,2,0,2,-999,9,-999,9,2.258,1,0.017,1,4.675,1,119.1,2
33RR20180918, GP15,35,9,30,GSNIS-31   ,2,6967,15393,20181116,2055,-10.5003,-152,5224,1210.9,3.732,34.551,2,3.732,2,20181116,2139,-10.5003,-152,86.79,2,2.65,2,37.67,2,0,2,114.31,2,34.5516,2,2.282,1,0.017,1,4.674,1,115.3,2
33RR20180918, GP15,35,9,31,GSNIS-32   ,2,6967,15393,20181116,2055,-10.5003,-152,5224,1210.4,3.7329,34.5511,2,-999,9,20181116,2139,-10.5003,-152,86.79,2,2.64,2,37.63,2,0,2,-999,9,-999,9,2.282,1,0.017,1,4.674,1,114.7,2
33RR20180918, GP15,35,9,32,GSNIS-33   ,2,6967,15392,20181116,2055,-10.5003,-152,5224,1007.2,4.4515,34.5272,2,4.4488,2,20181116,2143,-10.5003,-152,71.64,2,2.61,2,37.71,2,0,2,108.21,2,34.5284,2,2.287,1,0.017,1,4.674,1,108.8,2
33RR20180918, GP15,35,9,33,GSNIS-34   ,2,6967,15392,20181116,2055,-10.5003,-152,5224,1008.1,4.4465,34.5276,2,-999,9,20181116,2144,-10.5003,-152,71.54,2,2.61,2,37.68,2,0,2,-999,9,-999,9,2.287,1,0.017,1,4.673,1,108.7,2
33RR20180918, GP15,35,9,34,GSNIS-35   ,2,6967,15391,20181116,2055,-10.5003,-152,5224,806.8,5.3153,34.5129,2,5.3134,2,20181116,2148,-10.5003,-152,55.61,2,2.51,2,36.96,2,0,2,106.38,2,34.5131,2,2.298,1,0.017,1,4.673,1,105.2,2
33RR20180918, GP15,35,9,35,GSNIS-36   ,2,6967,15391,20181116,2055,-10.5003,-152,5224,806.5,5.314,34.5131,2,-999,9,20181116,2148,-10.5003,-152,55.52,2,2.5,2,36.93,2,0,2,-999,9,-999,9,2.298,1,0.017,1,4.673,1,105.2,2
33RR20180918, GP15,35,9,36,GSNIS-1    ,2,6967,15391,20181116,2055,-10.5003,-152,5224,806.4,5.3128,34.5132,2,-999,9,20181116,2148,-10.5003,-152,55.71,2,2.48,2,36.97,2,0,2,-999,9,-999,9,2.298,1,0.017,1,4.672,1,105.3,2