BOTTLE,20191212SIOCCHAMB
EXPOCODE,SECT_ID,STNNBR,CASTNO,SAMPNO,BTLNBR,BTLNBR_FLAG_W,GEOTRC_EVENTNO,GEOTRC_SAMPNO,DATE,TIME,LATITUDE,LONGITUDE,DEPTH,CTDPRS,CTDTMP,CTDSAL,CTDSAL_FLAG_W,REFTMP,REFTMP_FLAG_W,BTL_DATE,BTL_TIME,BTL_LAT,BTL_LON,SILCAT,SILCAT_FLAG_W,PHSPHT,PHSPHT_FLAG_W,NITRAT,NITRAT_FLAG_W,NITRIT,NITRIT_FLAG_W,OXYGEN,OXYGEN_FLAG_W,SALNTY,SALNTY_FLAG_W,CTDRINKO,CTDRINKO_FLAG_W,CTDFLUOR,CTDFLUOR_FLAG_W,CTDXMISS,CTDXMISS_FLAG_W,CTDOXY,CTDOXY_FLAG_W
,,,,,,,,,,,,,METERS,DBAR,ITS-90,PSS-78,,ITS-90,,,,,,UMOL/KG,,UMOL/KG,,UMOL/KG,,UMOL/KG,,UMOL/KG,,PSS-78,,VOLTS,,VOLTS,,VOLTS,,UMOL/KG,
33RR20180918, GP15,9,3,1,GSNIS-2    ,2,6618,13047,20181007,336,44.5003,-151.9999,5066,1015.3,3.0713,34.3509,2,3.0721,2,20181007,336,44.5003,-151.9999,138.73,2,3.13,2,44.33,2,0,2,14.32,2,34.3507,2,3.242,1,0.018,1,4.697,1,14.1,2
33RR20180918, GP15,9,3,2,GSNIS-3    ,2,6618,13047,20181007,336,44.5003,-151.9999,5066,1013.5,3.0739,34.3505,2,-999,9,20181007,336,44.5003,-151.9999,138.83,2,3.13,2,44.35,2,0,2,-999,9,-999,9,3.246,1,0.018,1,4.696,1,14.5,2
33RR20180918, GP15,9,3,3,GSNIS-4    ,2,6618,13047,20181007,336,44.5003,-151.9999,5066,1015.1,3.0714,34.3509,2,-999,9,20181007,336,44.5003,-151.9999,138.83,2,3.12,2,44.36,2,0,2,-999,9,-999,9,3.247,1,0.018,1,4.696,1,13.6,2
33RR20180918, GP15,9,3,4,GSNIS-5    ,2,6618,13046,20181007,336,44.5003,-151.9999,5066,757.5,3.7513,34.2174,2,3.7514,2,20181007,342,44.5004,-151.9999,116.29,2,3.04,2,42.92,2,0,2,26.6,2,34.2185,2,3.201,1,0.018,1,4.696,1,27,2
33RR20180918, GP15,9,3,5,GSNIS-6    ,2,6618,13046,20181007,336,44.5003,-151.9999,5066,759.7,3.7508,34.218,2,-999,9,20181007,342,44.5004,-151.9998,116,2,3.06,2,42.98,2,0,2,-999,9,-999,9,3.2,1,0.017,1,4.696,1,26.9,2
33RR20180918, GP15,9,3,6,GSNIS-7    ,2,6618,13045,20181007,336,44.5003,-151.9999,5066,508.1,4.6469,33.9926,2,4.6489,2,20181007,348,44.5003,-151.9999,81.25,2,2.68,2,37.92,2,0,2,80.02,2,33.9931,2,2.79,1,0.018,1,4.694,1,79.5,2
33RR20180918, GP15,9,3,7,GSNIS-8    ,2,6618,13045,20181007,336,44.5003,-151.9999,5066,505.8,4.6501,33.9918,2,-999,9,20181007,349,44.5003,-151.9999,81.06,2,2.67,2,37.88,2,0,2,-999,9,-999,9,2.773,1,0.018,1,4.694,1,79.5,2
33RR20180918, GP15,9,3,8,GSNIS-9    ,2,6618,13045,20181007,336,44.5003,-151.9999,5066,505.1,4.6508,33.9917,2,-999,9,20181007,349,44.5003,-151.9999,80.66,2,2.66,2,37.78,2,0,2,-999,9,-999,9,2.765,1,0.018,1,4.693,1,79.4,2
33RR20180918, GP15,9,3,9,GSNIS-10   ,2,6618,13044,20181007,336,44.5003,-151.9999,5066,353.3,5.7878,33.887,2,5.7843,2,20181007,353,44.5003,-151.9999,53.03,2,2.11,2,30.12,2,0.01,2,145.39,2,33.8883,2,2.388,1,0.018,1,4.683,1,145.9,2
33RR20180918, GP15,9,3,10,GSNIS-11   ,2,6618,13044,20181007,336,44.5003,-151.9999,5066,355.9,5.7783,33.8877,2,-999,9,20181007,353,44.5003,-151.9999,52.93,2,2.11,2,30.09,2,0.01,2,-999,9,-999,9,2.38,1,0.017,1,4.683,1,145.4,2
33RR20180918, GP15,9,3,11,GSNIS-12   ,2,6618,13044,20181007,336,44.5003,-151.9999,5066,353,5.7888,33.887,2,-999,9,20181007,353,44.5003,-151.9999,52.74,2,2.11,2,29.96,2,0.01,2,-999,9,-999,9,2.369,1,0.018,1,4.683,1,145.4,2
33RR20180918, GP15,9,3,12,GSNIS-13   ,2,6618,13043,20181007,336,44.5003,-151.9999,5066,254.2,7.1953,33.8996,2,7.1998,2,20181007,356,44.5003,-151.9998,35.35,2,1.65,2,23.49,2,0.01,2,185.45,2,33.9014,2,2.047,1,0.017,1,4.68,1,185.3,2
33RR20180918, GP15,9,3,13,GSNIS-14   ,2,6618,13043,20181007,336,44.5003,-151.9999,5066,251.9,7.2093,33.8993,2,-999,9,20181007,357,44.5003,-151.9998,35.35,2,1.65,2,23.44,2,0.01,2,-999,9,-999,9,2.031,1,0.017,1,4.679,1,186.3,2
33RR20180918, GP15,9,3,14,GSNIS-15   ,2,6618,13043,20181007,336,44.5003,-151.9999,5066,254.2,7.1992,33.8997,2,-999,9,20181007,357,44.5003,-151.9998,35.26,2,1.64,2,23.47,2,0.01,2,-999,9,-999,9,2.023,1,0.017,1,4.68,1,185.5,2
33RR20180918, GP15,9,3,15,GSNIS-16   ,2,6618,13042,20181007,336,44.5003,-151.9999,5066,151,7.4569,33.4603,2,7.4441,2,20181007,400,44.5004,-151.9999,18.95,2,1.27,2,16.65,2,0.01,2,244.28,2,33.4826,3,1.767,1,0.017,1,4.673,1,242.9,2
33RR20180918, GP15,9,3,16,GSNIS-17   ,2,6618,13042,20181007,336,44.5003,-151.9999,5066,153.2,7.429,33.4786,2,-999,9,20181007,400,44.5004,-151.9999,18.95,2,1.26,2,16.63,2,0.01,2,-999,9,-999,9,1.764,1,0.018,1,4.674,1,242.4,2
33RR20180918, GP15,9,3,17,GSNIS-18   ,2,6618,13042,20181007,336,44.5003,-151.9999,5066,152,7.4482,33.4658,2,-999,9,20181007,400,44.5004,-151.9999,18.76,2,1.26,2,16.59,2,0.01,2,-999,9,-999,9,1.757,1,0.017,1,4.673,1,242.8,2
33RR20180918, GP15,9,3,18,GSNIS-19   ,2,6618,13041,20181007,336,44.5003,-151.9999,5066,111.1,7.5829,32.8032,2,7.594,2,20181007,402,44.5004,-151.9999,11.63,2,1.2,2,13.37,2,0.03,2,269.17,2,32.7897,2,1.647,1,0.018,1,4.674,1,271.1,2
33RR20180918, GP15,9,3,19,GSNIS-20   ,2,6618,13041,20181007,336,44.5003,-151.9999,5066,112.7,7.5961,32.8081,2,-999,9,20181007,402,44.5004,-151.9999,11.53,2,1.19,2,13.34,2,0.03,2,-999,9,-999,9,1.644,1,0.018,1,4.675,1,271,2
33RR20180918, GP15,9,3,20,GSNIS-21   ,2,6618,13041,20181007,336,44.5003,-151.9999,5066,111.6,7.5906,32.8043,2,-999,9,20181007,402,44.5004,-151.9999,11.44,2,1.19,2,13.34,2,0.03,2,-999,9,-999,9,1.641,1,0.018,1,4.674,1,270.6,2
33RR20180918, GP15,9,3,21,GSNIS-22   ,2,6618,13040,20181007,336,44.5003,-151.9999,5066,91,8.1663,32.6942,2,8.1813,2,20181007,405,44.5003,-151.9999,6.65,2,1.07,2,10.97,2,0.03,2,268.68,2,32.6855,2,1.58,1,0.024,1,4.664,1,267.5,2
33RR20180918, GP15,9,3,22,GSNIS-23   ,2,6618,13040,20181007,336,44.5003,-151.9999,5066,91.3,8.18,32.6913,2,-999,9,20181007,405,44.5003,-151.9999,6.65,2,1.06,2,10.99,2,0.03,2,-999,9,-999,9,1.579,1,0.023,1,4.665,1,267.3,2
33RR20180918, GP15,9,3,23,GSNIS-24   ,2,6618,13040,20181007,336,44.5003,-151.9999,5066,92.9,8.1838,32.6934,2,-999,9,20181007,405,44.5003,-151.9999,6.55,2,1.07,2,10.96,2,0.03,2,-999,9,-999,9,1.578,1,0.022,1,4.665,1,267.3,2
33RR20180918, GP15,9,3,24,GSNIS-25   ,2,6618,13039,20181007,336,44.5003,-151.9999,5066,70.4,9.2887,32.6141,2,9.2733,2,20181007,407,44.5004,-151.9999,5.38,2,1.01,2,8.26,2,1.15,2,271.07,2,32.6163,2,1.54,1,0.061,1,4.605,1,269.4,2
33RR20180918, GP15,9,3,25,GSNIS-26   ,2,6618,13039,20181007,336,44.5003,-151.9999,5066,71.5,9.262,32.6119,2,-999,9,20181007,407,44.5004,-151.9999,5.38,2,1,2,8.22,2,1.17,2,-999,9,-999,9,1.54,1,0.066,1,4.605,1,269.2,2
33RR20180918, GP15,9,3,26,GSNIS-27   ,2,6618,13039,20181007,336,44.5003,-151.9999,5066,70.8,9.2792,32.6124,2,-999,9,20181007,407,44.5004,-151.9999,5.28,2,1,2,8.23,2,1.17,2,-999,9,-999,9,1.539,1,0.06,1,4.604,1,268.8,2
33RR20180918, GP15,9,3,27,GSNIS-28   ,2,6618,13038,20181007,336,44.5003,-151.9999,5066,55.7,10.6303,32.5838,2,10.6166,2,20181007,409,44.5004,-151.9999,2.44,2,0.79,2,4.31,2,0.15,2,279.72,2,32.5862,2,1.506,1,0.084,1,4.58,1,283.8,2
33RR20180918, GP15,9,3,28,GSNIS-29   ,2,6618,13038,20181007,336,44.5003,-151.9999,5066,55.9,10.6309,32.5843,2,-999,9,20181007,409,44.5004,-151.9998,2.54,2,0.8,2,4.36,2,0.17,2,-999,9,-999,9,1.504,1,0.08,1,4.578,1,283.2,2
33RR20180918, GP15,9,3,29,GSNIS-30   ,2,6618,13038,20181007,336,44.5003,-151.9999,5066,56.1,10.6103,32.5861,2,-999,9,20181007,409,44.5003,-151.9998,2.35,2,0.79,2,4.34,2,0.16,2,-999,9,-999,9,1.503,1,0.084,1,4.58,1,278,2
33RR20180918, GP15,9,3,30,GSNIS-31   ,2,6618,13037,20181007,336,44.5003,-151.9999,5066,42.9,11.7348,32.5368,2,11.7279,3,20181007,411,44.5004,-151.9999,0.68,2,0.66,2,2.62,2,0.07,2,290.17,2,32.5388,3,1.468,1,0.076,1,4.574,1,287.7,2
33RR20180918, GP15,9,3,31,GSNIS-32   ,2,6618,13037,20181007,336,44.5003,-151.9999,5066,44.5,11.7271,32.5394,2,-999,9,20181007,411,44.5004,-151.9999,0.68,2,0.64,2,2.61,2,0.07,2,-999,9,-999,9,1.466,1,0.076,1,4.573,1,287.7,2
33RR20180918, GP15,9,3,32,GSNIS-33   ,2,6618,13037,20181007,336,44.5003,-151.9999,5066,43.4,11.7832,32.5351,2,-999,9,20181007,411,44.5004,-151.9999,0.29,2,0.65,2,2.59,2,0.07,2,-999,9,-999,9,1.464,1,0.079,1,4.572,1,288.8,2
33RR20180918, GP15,9,3,33,GSNIS-34   ,2,6618,13036,20181007,336,44.5003,-151.9999,5066,25.5,17.0236,32.3976,2,17.0667,2,20181007,413,44.5004,-151.9999,0,2,0.42,2,0.84,2,0.03,2,249.38,2,32.4047,3,1.359,1,0.082,1,4.533,1,248.6,2
33RR20180918, GP15,9,3,34,GSNIS-35   ,2,6618,13036,20181007,336,44.5003,-151.9999,5066,26,17.1019,32.3915,2,-999,9,20181007,413,44.5003,-151.9999,0,2,0.43,2,0.85,2,0.03,2,-999,9,-999,9,1.36,1,0.075,1,4.536,1,248.8,2
33RR20180918, GP15,9,3,35,GSNIS-36   ,2,6618,13036,20181007,336,44.5003,-151.9999,5066,25.8,17.0667,32.3952,2,-999,9,20181007,413,44.5003,-151.9999,0,2,0.41,2,0.84,2,0.03,2,-999,9,-999,9,1.361,1,0.084,1,4.534,1,248.5,2
33RR20180918, GP15,9,3,36,GSNIS-1    ,2,6618,13035,20181007,336,44.5003,-151.9999,5066,6.4,17.1202,32.3911,2,17.1184,2,20181007,416,44.5003,-151.9999,0,2,0.42,2,0.93,2,0.04,2,247.77,2,32.3956,2,1.373,1,0.087,1,4.529,1,248.7,2
33RR20180918, GP15,10,3,1,GSNIS-2    ,2,6626,13113,20181008,41,42.0003,-151.9999,5192,1008.8,3.2274,34.325,2,3.2244,2,20181008,41,42.0003,-152,133.85,2,3.14,2,44.12,2,0,2,15.07,2,34.3266,2,3.183,1,0.018,1,4.698,1,15.9,2
33RR20180918, GP15,10,3,2,GSNIS-3    ,2,6626,13113,20181008,41,42.0003,-151.9999,5192,1010.9,3.2231,34.3257,2,-999,9,20181008,41,42.0003,-152,133.85,2,3.14,2,44.2,2,0.01,2,-999,9,-999,9,3.184,1,0.018,1,4.698,1,16.3,2
33RR20180918, GP15,10,3,3,GSNIS-4    ,2,6626,13113,20181008,41,42.0003,-151.9999,5192,1009.2,3.2266,34.3251,2,-999,9,20181008,41,42.0003,-151.9999,134.34,2,3.13,2,44.16,2,0,2,-999,9,-999,9,3.185,1,0.018,1,4.698,1,16,2
33RR20180918, GP15,10,3,4,GSNIS-5    ,2,6626,13112,20181008,41,42.0003,-151.9999,5192,808.7,3.815,34.2101,2,3.8165,2,20181008,46,42.0003,-151.9999,114.44,2,3,2,42.43,2,0,2,31,2,34.2105,2,3.174,1,0.017,1,4.698,1,32.1,2
33RR20180918, GP15,10,3,5,GSNIS-6    ,3,6626,13112,20181008,41,42.0003,-151.9999,5192,806.7,3.8181,34.2096,3,-999,9,20181008,46,42.0003,-151.9999,1.76,3,0.44,3,2.21,3,0.03,3,-999,9,-999,9,3.171,1,0.018,1,4.698,1,33.2,3
33RR20180918, GP15,10,3,6,GSNIS-7    ,3,6626,13112,20181008,41,42.0003,-151.9999,5192,810.8,3.8161,34.2098,3,-999,9,20181008,46,42.0003,-151.9999,2.15,3,0.44,3,2.22,3,0.03,3,-999,9,-999,9,3.167,1,0.018,1,4.698,1,33.1,3
33RR20180918, GP15,10,3,7,GSNIS-8    ,2,6626,13111,20181008,41,42.0003,-151.9999,5192,609,4.4519,34.0506,2,4.461,2,20181008,51,42.0003,-151.9999,88.96,2,2.78,2,39.1,2,0,2,66.94,2,34.0498,2,2.842,1,0.018,1,4.697,1,68.5,2
33RR20180918, GP15,10,3,8,GSNIS-9    ,2,6626,13111,20181008,41,42.0003,-151.9999,5192,605.8,4.4624,34.0484,2,-999,9,20181008,51,42.0003,-151.9999,88.86,2,2.78,2,39.08,2,0,2,-999,9,-999,9,2.833,1,0.017,1,4.697,1,69.5,2
33RR20180918, GP15,10,3,9,GSNIS-10   ,2,6626,13111,20181008,41,42.0003,-151.9999,5192,607.1,4.4631,34.0485,2,-999,9,20181008,51,42.0003,-151.9999,88.96,2,2.76,2,39.02,2,0,2,-999,9,-999,9,2.826,1,0.017,1,4.697,1,69,2
33RR20180918, GP15,10,3,10,GSNIS-11   ,2,6626,13110,20181008,41,42.0003,-151.9999,5192,404.3,6.077,33.9294,2,6.0814,2,20181008,56,42.0003,-151.9999,52.54,2,2.11,2,29.75,2,0.01,2,142.66,2,33.9309,2,2.356,1,0.018,1,4.688,1,142.1,2
33RR20180918, GP15,10,3,11,GSNIS-12   ,2,6626,13110,20181008,41,42.0003,-151.9999,5192,405.2,6.0744,33.9297,2,-999,9,20181008,56,42.0003,-151.9999,52.35,2,2.08,2,29.67,2,0.01,2,-999,9,-999,9,2.346,1,0.017,1,4.689,1,144.4,2
33RR20180918, GP15,10,3,12,GSNIS-13   ,2,6626,13110,20181008,41,42.0003,-151.9999,5192,404.4,6.085,33.9295,2,-999,9,20181008,56,42.0003,-151.9999,52.54,2,2.09,2,29.7,2,0.01,2,-999,9,-999,9,2.334,1,0.017,1,4.687,1,145.6,2
33RR20180918, GP15,10,3,13,GSNIS-14   ,2,6626,13109,20181008,41,42.0003,-151.9999,5192,303.9,7.6681,33.9424,2,7.6733,2,20181008,59,42.0003,-151.9999,32.42,2,1.55,2,21.93,2,0.01,2,190.64,2,33.9411,2,2.024,1,0.017,1,4.689,1,192.4,2
33RR20180918, GP15,10,3,14,GSNIS-15   ,2,6626,13109,20181008,41,42.0003,-151.9999,5192,303.8,7.6711,33.9417,2,-999,9,20181008,59,42.0003,-151.9999,32.23,2,1.54,2,21.92,2,0.01,2,-999,9,-999,9,2.015,1,0.017,1,4.688,1,189.1,2
33RR20180918, GP15,10,3,15,GSNIS-16   ,2,6626,13109,20181008,41,42.0003,-151.9999,5192,303.3,7.6734,33.9404,2,-999,9,20181008,59,42.0003,-151.9999,32.03,2,1.54,2,21.84,2,0.01,2,-999,9,-999,9,2.007,1,0.017,1,4.689,1,189,2
33RR20180918, GP15,10,3,16,GSNIS-17   ,2,6626,13108,20181008,41,42.0003,-151.9999,5192,228.7,8.2895,33.8915,2,8.2945,2,20181008,102,42.0003,-151.9999,20.61,2,1.18,2,16.4,2,0.01,2,234.93,2,33.8941,2,1.799,1,0.017,1,4.686,1,231.8,2
33RR20180918, GP15,10,3,17,GSNIS-18   ,2,6626,13108,20181008,41,42.0003,-151.9999,5192,226.7,8.2964,33.8917,2,-999,9,20181008,102,42.0003,-151.9999,20.51,2,1.2,2,16.4,2,0.01,2,-999,9,-999,9,1.792,1,0.017,1,4.686,1,231.8,2
33RR20180918, GP15,10,3,18,GSNIS-19   ,2,6626,13108,20181008,41,42.0003,-151.9999,5192,227.8,8.2949,33.8918,2,-999,9,20181008,102,42.0002,-151.9999,20.51,2,1.19,2,16.39,2,0.01,2,-999,9,-999,9,1.785,1,0.017,1,4.686,1,231.9,2
33RR20180918, GP15,10,3,19,GSNIS-20   ,2,6626,13107,20181008,41,42.0003,-151.9999,5192,150.8,9.4375,33.7594,2,9.4472,2,20181008,105,42.0003,-151.9999,14.07,2,1.01,2,13.34,2,0.01,2,236.9,2,33.7595,2,1.655,1,0.017,1,4.679,1,237.4,2
33RR20180918, GP15,10,3,20,GSNIS-21   ,2,6626,13107,20181008,41,42.0003,-151.9999,5192,152.9,9.4437,33.7601,2,-999,9,20181008,105,42.0003,-151.9999,13.97,2,1.01,2,13.41,2,0.01,2,-999,9,-999,9,1.651,1,0.017,1,4.679,1,237.3,2
33RR20180918, GP15,10,3,21,GSNIS-22   ,2,6626,13107,20181008,41,42.0003,-151.9999,5192,150.2,9.4541,33.7594,2,-999,9,20181008,105,42.0003,-151.9999,13.67,2,1.03,2,13.3,2,0.01,2,-999,9,-999,9,1.648,1,0.017,1,4.679,1,237.3,2
33RR20180918, GP15,10,3,22,GSNIS-23   ,2,6626,13106,20181008,41,42.0003,-151.9999,5192,98.8,9.5254,33.1715,2,9.5257,2,20181008,107,42.0002,-151.9999,5.08,2,0.77,2,8.01,2,0.02,2,259.45,2,33.1784,2,1.596,1,0.02,1,4.675,1,258.9,2
33RR20180918, GP15,10,3,23,GSNIS-24   ,2,6626,13106,20181008,41,42.0003,-151.9999,5192,101,9.5257,33.172,2,-999,9,20181008,107,42.0002,-151.9998,4.89,2,0.78,2,8,2,0.02,2,-999,9,-999,9,1.592,1,0.02,1,4.676,1,258.9,2
33RR20180918, GP15,10,3,24,GSNIS-25   ,2,6626,13106,20181008,41,42.0003,-151.9999,5192,101.6,9.5265,33.1736,2,-999,9,20181008,107,42.0002,-151.9998,4.69,2,0.77,2,7.97,2,0.02,2,-999,9,-999,9,1.59,1,0.021,1,4.676,1,259.3,2
33RR20180918, GP15,10,3,25,GSNIS-26   ,2,6626,13105,20181008,41,42.0003,-151.9999,5192,80.8,10.1763,33.1413,2,10.1875,2,20181008,109,42.0002,-152,1.56,2,0.65,2,5.76,2,0.05,2,261.26,2,33.1524,2,1.551,1,0.037,1,4.657,1,262.6,2
33RR20180918, GP15,10,3,26,GSNIS-27   ,2,6626,13105,20181008,41,42.0003,-151.9999,5192,81.4,10.1824,33.144,2,-999,9,20181008,109,42.0002,-152,1.47,2,0.67,2,5.78,2,0.05,2,-999,9,-999,9,1.548,1,0.04,1,4.658,1,266.4,2
33RR20180918, GP15,10,3,27,GSNIS-28   ,2,6626,13105,20181008,41,42.0003,-151.9999,5192,82.2,10.1982,33.1524,2,-999,9,20181008,109,42.0002,-152,1.17,2,0.65,2,5.69,2,0.05,2,-999,9,-999,9,1.547,1,0.038,1,4.66,1,265.4,2
33RR20180918, GP15,10,3,28,GSNIS-29   ,2,6626,13104,20181008,41,42.0003,-151.9999,5192,61.9,11.0328,33.0809,2,11.0338,2,20181008,111,42.0003,-152,0,2,0.44,2,1.06,2,0.22,2,282,2,33.0876,2,1.511,1,0.107,1,4.553,1,286.8,3
33RR20180918, GP15,10,3,29,GSNIS-30   ,2,6626,13104,20181008,41,42.0003,-151.9999,5192,61.3,11.0507,33.0828,2,-999,9,20181008,111,42.0003,-152.0001,0,2,0.42,2,0.91,2,0.21,2,-999,9,-999,9,1.509,1,0.106,1,4.549,1,287.2,3
33RR20180918, GP15,10,3,30,GSNIS-31   ,2,6626,13104,20181008,41,42.0003,-151.9999,5192,61.7,11.0424,33.081,2,-999,9,20181008,111,42.0003,-152.0001,0,2,0.42,2,0.94,2,0.21,2,-999,9,-999,9,1.508,1,0.114,1,4.549,1,286.7,3
33RR20180918, GP15,10,3,31,GSNIS-32   ,2,6626,13103,20181008,41,42.0003,-151.9999,5192,41.9,14.7172,33.0441,2,14.7637,2,20181008,113,42.0003,-152.0001,0,2,0.24,2,0,2,0,2,279.54,2,33.0424,2,1.413,1,0.038,1,4.573,1,283.4,2
33RR20180918, GP15,10,3,32,GSNIS-33   ,2,6626,13103,20181008,41,42.0003,-151.9999,5192,41.4,14.7695,33.0442,2,-999,9,20181008,113,42.0003,-152.0001,0,2,0.25,2,0,2,0,2,-999,9,-999,9,1.406,1,0.039,1,4.572,1,283.2,2
33RR20180918, GP15,10,3,33,GSNIS-34   ,2,6626,13103,20181008,41,42.0003,-151.9999,5192,41.4,14.7575,33.044,2,-999,9,20181008,113,42.0003,-152.0001,0,2,0.25,2,0,2,0,2,-999,9,-999,9,1.402,1,0.037,1,4.574,1,283.2,2
33RR20180918, GP15,10,3,34,GSNIS-35   ,2,6626,13102,20181008,41,42.0003,-151.9999,5192,24.7,18.2556,32.98,2,18.2606,2,20181008,115,42.0002,-151.9999,0,2,0.24,2,0,2,0,2,241.79,2,32.9822,2,1.325,1,0.023,1,4.617,1,241.3,2
33RR20180918, GP15,10,3,35,GSNIS-36   ,2,6626,13102,20181008,41,42.0003,-151.9999,5192,25.7,18.2638,32.9798,2,-999,9,20181008,115,42.0003,-151.9999,0,2,0.24,2,0,2,0,2,-999,9,-999,9,1.328,1,0.023,1,4.616,1,241,2
33RR20180918, GP15,10,3,36,GSNIS-1    ,2,6626,13102,20181008,41,42.0003,-151.9999,5192,26,18.2571,32.98,2,-999,9,20181008,115,42.0003,-151.9999,0,2,0.24,2,0,2,0,2,-999,9,-999,9,1.331,1,0.023,1,4.617,1,241.2,2