BOTTLE,20191212SIOCCHAMB
EXPOCODE,SECT_ID,STNNBR,CASTNO,SAMPNO,BTLNBR,BTLNBR_FLAG_W,GEOTRC_EVENTNO,GEOTRC_SAMPNO,DATE,TIME,LATITUDE,LONGITUDE,DEPTH,CTDPRS,CTDTMP,CTDSAL,CTDSAL_FLAG_W,REFTMP,REFTMP_FLAG_W,BTL_DATE,BTL_TIME,BTL_LAT,BTL_LON,SILCAT,SILCAT_FLAG_W,PHSPHT,PHSPHT_FLAG_W,NITRAT,NITRAT_FLAG_W,NITRIT,NITRIT_FLAG_W,OXYGEN,OXYGEN_FLAG_W,SALNTY,SALNTY_FLAG_W,CTDRINKO,CTDRINKO_FLAG_W,CTDFLUOR,CTDFLUOR_FLAG_W,CTDXMISS,CTDXMISS_FLAG_W,CTDOXY,CTDOXY_FLAG_W
,,,,,,,,,,,,,METERS,DBAR,ITS-90,PSS-78,,ITS-90,,,,,,UMOL/KG,,UMOL/KG,,UMOL/KG,,UMOL/KG,,UMOL/KG,,PSS-78,,VOLTS,,VOLTS,,VOLTS,,UMOL/KG,
33RR20180918, GP15,31,8,1,GSNIS-2    ,2,6918,15061,20181111,2058,-2.4998,-151.9992,4706,1815.9,2.562,34.6245,2,2.5609,2,20181111,2058,-2.4998,-151.9992,129.92,2,2.78,2,39.13,2,0,2,101.05,2,34.6272,2,2.443,1,0.017,1,4.674,1,101.1,2
33RR20180918, GP15,31,8,2,GSNIS-3    ,2,6918,15061,20181111,2058,-2.4998,-151.9992,4706,1817.4,2.5602,34.6247,2,-999,9,20181111,2059,-2.4998,-151.9992,129.92,2,2.78,2,39.23,2,0,2,-999,9,-999,9,2.444,1,0.017,1,4.674,1,101.2,2
33RR20180918, GP15,31,8,3,GSNIS-4    ,2,6918,15061,20181111,2058,-2.4998,-151.9992,4706,1815.7,2.5623,34.6245,2,-999,9,20181111,2059,-2.4998,-151.9992,130.21,2,2.78,2,39.23,2,0,2,-999,9,-999,9,2.444,1,0.017,1,4.674,1,101.1,2
33RR20180918, GP15,31,8,4,GSNIS-5    ,2,6918,15060,20181111,2058,-2.4998,-151.9992,4706,1614.9,2.7815,34.6109,2,2.7812,2,20181111,2103,-2.4998,-151.9992,121.61,2,2.77,2,39,2,0,2,101.99,2,34.6134,2,2.487,1,0.017,1,4.674,1,102,2
33RR20180918, GP15,31,8,5,GSNIS-6    ,2,6918,15060,20181111,2058,-2.4998,-151.9992,4706,1615.4,2.7816,34.6109,2,-999,9,20181111,2104,-2.4998,-151.9992,121.61,2,2.77,2,38.92,2,0,2,-999,9,-999,9,2.488,1,0.017,1,4.675,1,102.1,2
33RR20180918, GP15,31,8,6,GSNIS-7    ,2,6918,15060,20181111,2058,-2.4998,-151.9992,4706,1615.2,2.7816,34.6109,2,-999,9,20181111,2104,-2.4998,-151.9992,121.61,2,2.78,2,38.9,2,0,2,-999,9,-999,9,2.488,1,0.017,1,4.675,1,102,2
33RR20180918, GP15,31,8,7,GSNIS-8    ,2,6918,15059,20181111,2058,-2.4998,-151.9992,4706,1413.5,3.2588,34.5892,2,3.2585,2,20181111,2109,-2.4998,-151.9992,109.49,2,2.81,2,39.16,2,0,2,96.16,2,34.5918,2,2.456,1,0.017,1,4.674,1,96.4,2
33RR20180918, GP15,31,8,8,GSNIS-9    ,2,6918,15059,20181111,2058,-2.4998,-151.9992,4706,1413.6,3.2583,34.5893,2,-999,9,20181111,2109,-2.4998,-151.9992,109.2,2,2.8,2,39.17,2,0,2,-999,9,-999,9,2.455,1,0.018,1,4.674,1,96.3,2
33RR20180918, GP15,31,8,9,GSNIS-10   ,2,6918,15059,20181111,2058,-2.4998,-151.9992,4706,1413,3.2588,34.5894,2,-999,9,20181111,2109,-2.4998,-151.9992,109.39,2,2.8,2,39.16,2,0,2,-999,9,-999,9,2.454,1,0.017,1,4.673,1,96.2,2
33RR20180918, GP15,31,8,10,GSNIS-11   ,2,6918,15058,20181111,2058,-2.4998,-151.9992,4706,1211.3,3.8029,34.5706,2,3.8018,2,20181111,2114,-2.4998,-151.9992,97.86,2,2.83,2,39.58,2,0,2,87.59,2,34.5732,2,2.437,1,0.017,1,4.673,1,87.5,2
33RR20180918, GP15,31,8,11,GSNIS-12   ,2,6918,15058,20181111,2058,-2.4998,-151.9992,4706,1210,3.8016,34.5709,2,-999,9,20181111,2114,-2.4998,-151.9992,97.76,2,2.83,2,39.53,2,0,2,-999,9,-999,9,2.437,1,0.017,1,4.673,1,88,2
33RR20180918, GP15,31,8,12,GSNIS-13   ,2,6918,15058,20181111,2058,-2.4998,-151.9992,4706,1210.6,3.8019,34.5709,2,-999,9,20181111,2114,-2.4998,-151.9992,97.66,2,2.84,2,39.56,2,0,2,-999,9,-999,9,2.438,1,0.016,1,4.673,1,88,2
33RR20180918, GP15,31,8,13,GSNIS-14   ,2,6918,15057,20181111,2058,-2.4998,-151.9992,4706,1007.8,4.5907,34.5494,2,4.5901,2,20181111,2118,-2.4998,-151.9992,79.97,2,2.83,2,39.41,2,0,2,83.28,2,34.5512,2,2.466,1,0.017,1,4.673,1,83.9,2
33RR20180918, GP15,31,8,14,GSNIS-15   ,2,6918,15057,20181111,2058,-2.4998,-151.9992,4706,1007.6,4.5905,34.5496,2,-999,9,20181111,2118,-2.4998,-151.9992,79.97,2,2.83,2,39.37,2,0,2,-999,9,-999,9,2.466,1,0.017,1,4.673,1,83.4,2
33RR20180918, GP15,31,8,15,GSNIS-16   ,2,6918,15057,20181111,2058,-2.4998,-151.9992,4706,1007.7,4.5909,34.5496,2,-999,9,20181111,2119,-2.4998,-151.9992,80.07,2,2.83,2,39.38,2,0,2,-999,9,-999,9,2.467,1,0.016,1,4.673,1,83.8,2
33RR20180918, GP15,31,8,16,GSNIS-17   ,2,6918,15056,20181111,2058,-2.4998,-151.9992,4706,906.6,5.0482,34.5434,2,5.0478,2,20181111,2122,-2.4998,-151.9992,71.07,2,2.81,2,39.26,2,0,2,79.9,2,34.5457,2,2.486,1,0.017,1,4.672,1,80,2
33RR20180918, GP15,31,8,17,GSNIS-18   ,2,6918,15056,20181111,2058,-2.4998,-151.9992,4706,907.3,5.0482,34.5434,2,-999,9,20181111,2122,-2.4998,-151.9992,70.88,2,2.8,2,39.23,2,0,2,-999,9,-999,9,2.488,1,0.017,1,4.672,1,79.5,2
33RR20180918, GP15,31,8,18,GSNIS-19   ,2,6918,15056,20181111,2058,-2.4998,-151.9992,4706,906.6,5.049,34.5434,2,-999,9,20181111,2122,-2.4998,-151.9992,70.98,2,2.79,2,39.29,2,0,2,-999,9,-999,9,2.487,1,0.017,1,4.672,1,79.9,2
33RR20180918, GP15,31,8,19,GSNIS-20   ,2,6918,15055,20181111,2058,-2.4998,-151.9992,4706,806.3,5.5108,34.543,2,5.5109,2,20181111,2125,-2.4998,-151.9992,63.25,2,2.79,2,39.38,2,0,2,74.25,2,34.5459,2,2.501,1,0.017,1,4.671,1,74.5,2
33RR20180918, GP15,31,8,20,GSNIS-21   ,2,6918,15055,20181111,2058,-2.4998,-151.9992,4706,806.6,5.5118,34.543,2,-999,9,20181111,2125,-2.4998,-151.9992,63.35,2,2.8,2,39.4,2,0,2,-999,9,-999,9,2.501,1,0.017,1,4.672,1,74.4,2
33RR20180918, GP15,31,8,21,GSNIS-22   ,2,6918,15055,20181111,2058,-2.4998,-151.9992,4706,806.3,5.5121,34.5431,2,-999,9,20181111,2125,-2.4998,-151.9992,63.35,2,2.8,2,39.42,2,0,2,-999,9,-999,9,2.502,1,0.017,1,4.672,1,73.8,2
33RR20180918, GP15,31,8,22,GSNIS-23   ,2,6918,15054,20181111,2058,-2.4998,-151.9992,4706,705.6,6.1318,34.5513,2,6.1303,2,20181111,2128,-2.4998,-151.9993,54.65,2,2.8,2,39.63,2,0,2,64.28,2,34.5541,2,2.501,1,0.017,1,4.671,1,63.7,2
33RR20180918, GP15,31,8,23,GSNIS-24   ,2,6918,15054,20181111,2058,-2.4998,-151.9992,4706,706.6,6.1289,34.5513,2,-999,9,20181111,2128,-2.4998,-151.9992,54.85,2,2.8,2,39.6,2,0,2,-999,9,-999,9,2.501,1,0.017,1,4.67,1,63.9,2
33RR20180918, GP15,31,8,24,GSNIS-25   ,2,6918,15054,20181111,2058,-2.4998,-151.9992,4706,706,6.1306,34.5513,2,-999,9,20181111,2128,-2.4998,-151.9992,54.75,2,2.8,2,39.62,2,0,2,-999,9,-999,9,2.501,1,0.018,1,4.671,1,63.9,2
33RR20180918, GP15,31,8,25,GSNIS-26   ,2,6918,15053,20181111,2058,-2.4998,-151.9992,4706,605.9,6.8977,34.5725,2,6.8969,2,20181111,2131,-2.4998,-151.9992,46.63,2,2.77,2,39.49,2,0,2,52.66,2,34.5755,2,2.543,1,0.017,1,4.669,1,52.2,2
33RR20180918, GP15,31,8,26,GSNIS-27   ,2,6918,15053,20181111,2058,-2.4998,-151.9992,4706,605.8,6.8982,34.5727,2,-999,9,20181111,2131,-2.4998,-151.9992,46.63,2,2.77,2,39.47,2,0,2,-999,9,-999,9,2.544,1,0.017,1,4.669,1,52.2,2
33RR20180918, GP15,31,8,27,GSNIS-28   ,2,6918,15053,20181111,2058,-2.4998,-151.9992,4706,605.1,6.8994,34.5728,2,-999,9,20181111,2131,-2.4998,-151.9992,46.53,2,2.77,2,39.43,2,0,2,-999,9,-999,9,2.546,1,0.017,1,4.669,1,51.6,2
33RR20180918, GP15,31,8,28,GSNIS-29   ,2,6918,15052,20181111,2058,-2.4998,-151.9992,4706,505,8.2114,34.6317,2,8.2085,2,20181111,2134,-2.4998,-151.9992,36.27,2,2.66,2,37.94,2,0,2,38.2,2,34.6345,2,2.619,1,0.017,1,4.667,1,35.5,2
33RR20180918, GP15,31,8,29,GSNIS-30   ,2,6918,15052,20181111,2058,-2.4998,-151.9992,4706,504.1,8.2141,34.6319,2,-999,9,20181111,2134,-2.4998,-151.9992,36.37,2,2.66,2,37.87,2,0,2,-999,9,-999,9,2.62,1,0.017,1,4.667,1,36.2,2
33RR20180918, GP15,31,8,30,GSNIS-31   ,2,6918,15052,20181111,2058,-2.4998,-151.9992,4706,505.2,8.2047,34.6319,2,-999,9,20181111,2135,-2.4998,-151.9992,36.37,2,2.66,2,37.85,2,0,2,-999,9,-999,9,2.622,1,0.017,1,4.667,1,36.4,2
33RR20180918, GP15,31,8,31,GSNIS-32   ,2,6918,15051,20181111,2058,-2.4998,-151.9992,4706,454.4,9.195,34.6907,2,9.1921,2,20181111,2137,-2.4998,-151.9992,33.82,2,2.64,2,37.04,2,0,2,19.6,2,34.6914,2,2.621,1,0.017,1,4.664,1,17.8,2
33RR20180918, GP15,31,8,32,GSNIS-33   ,2,6918,15051,20181111,2058,-2.4998,-151.9992,4706,453.9,9.1973,34.6909,2,-999,9,20181111,2137,-2.4998,-151.9992,33.63,2,2.62,2,37,2,0,2,-999,9,-999,9,2.619,1,0.018,1,4.664,1,15.2,2
33RR20180918, GP15,31,8,33,GSNIS-34   ,2,6918,15051,20181111,2058,-2.4998,-151.9992,4706,454.7,9.1894,34.6906,2,-999,9,20181111,2137,-2.4998,-151.9992,33.63,2,2.61,2,36.94,2,0,2,-999,9,-999,9,2.616,1,0.018,1,4.664,1,15.3,2
33RR20180918, GP15,31,8,34,GSNIS-35   ,2,6918,15050,20181111,2058,-2.4998,-151.9992,4706,403.9,10.4583,34.7687,2,10.4583,2,20181111,2139,-2.4998,-151.9992,30.01,2,2.52,2,34.2,2,0,2,11.08,2,34.7703,2,2.53,1,0.017,1,4.662,1,10.6,2
33RR20180918, GP15,31,8,35,GSNIS-36   ,2,6918,15050,20181111,2058,-2.4998,-151.9992,4706,403.2,10.4642,34.7692,2,-999,9,20181111,2139,-2.4998,-151.9992,30.01,2,2.52,2,34.15,2,0,2,-999,9,-999,9,2.525,1,0.018,1,4.662,1,10.3,2
33RR20180918, GP15,31,8,36,GSNIS-1    ,2,6918,15050,20181111,2058,-2.4998,-151.9992,4706,404.7,10.4554,34.7689,2,-999,9,20181111,2139,-2.4998,-151.9992,30.2,2,2.47,2,34.09,2,0,2,-999,9,-999,9,2.519,1,0.017,1,4.662,1,10.6,2
33RR20180918, GP15,31,11,1,GSNIS-2    ,2,6923,15106,20181112,1156,-2.5047,-152.0002,4706,4667.2,1.3573,34.6994,2,1.3574,2,20181112,1156,-2.5047,-152.0002,131.87,2,2.33,2,34.04,2,0,2,178.61,2,34.6989,2,2.155,1,0.017,1,4.676,1,179.2,2
33RR20180918, GP15,31,11,2,GSNIS-3    ,2,6923,15106,20181112,1156,-2.5047,-152.0002,4706,4668.1,1.3572,34.6994,2,-999,9,20181112,1156,-2.5047,-152.0002,131.29,2,2.31,2,33.94,2,0,2,-999,9,-999,9,2.155,1,0.017,1,4.676,1,179.1,2
33RR20180918, GP15,31,11,3,GSNIS-4    ,2,6923,15106,20181112,1156,-2.5047,-152.0002,4706,4666.9,1.3573,34.6995,2,-999,9,20181112,1156,-2.5047,-152.0002,131.58,2,2.31,2,33.98,2,0,2,-999,9,-999,9,2.155,1,0.017,1,4.676,1,179,2
33RR20180918, GP15,31,11,4,GSNIS-5    ,2,6923,15105,20181112,1156,-2.5047,-152.0002,4706,4625.8,1.3589,34.6991,2,1.3603,2,20181112,1158,-2.5047,-152.0002,132.26,2,2.32,2,34.06,2,0,2,179.25,2,34.6993,2,2.149,1,0.017,1,4.676,1,177.9,2
33RR20180918, GP15,31,11,5,GSNIS-6    ,2,6923,15105,20181112,1156,-2.5047,-152.0002,4706,4624.8,1.3603,34.6991,2,-999,9,20181112,1158,-2.5047,-152.0002,131.77,2,2.32,2,34.11,2,0,2,-999,9,-999,9,2.149,1,0.017,1,4.676,1,177.1,2
33RR20180918, GP15,31,11,6,GSNIS-7    ,2,6923,15105,20181112,1156,-2.5047,-152.0002,4706,4626.9,1.3608,34.6989,2,-999,9,20181112,1158,-2.5047,-152.0002,131.77,2,2.32,2,34.14,2,0,2,-999,9,-999,9,2.15,1,0.017,1,4.676,1,177.2,2
33RR20180918, GP15,31,11,7,GSNIS-8    ,2,6923,15104,20181112,1156,-2.5047,-152.0002,4706,4543.2,1.3741,34.6978,2,1.3741,2,20181112,1201,-2.5047,-152.0002,134.71,2,2.36,2,34.39,2,0,2,174.99,2,34.6997,2,2.138,1,0.017,1,4.676,1,173.8,2
33RR20180918, GP15,31,11,8,GSNIS-9    ,2,6923,15104,20181112,1156,-2.5047,-152.0002,4706,4544.5,1.374,34.6978,2,-999,9,20181112,1201,-2.5047,-152.0002,134.61,2,2.36,2,34.34,2,0,2,-999,9,-999,9,2.139,1,0.017,1,4.676,1,174.2,2
33RR20180918, GP15,31,11,9,GSNIS-10   ,2,6923,15104,20181112,1156,-2.5047,-152.0002,4706,4542.7,1.374,34.6979,2,-999,9,20181112,1201,-2.5047,-152.0002,134.8,2,2.36,2,34.3,2,0,2,-999,9,-999,9,2.138,1,0.017,1,4.675,1,174.6,2
33RR20180918, GP15,31,11,10,GSNIS-11   ,3,6923,15103,20181112,1156,-2.5047,-152.0002,4706,4265.9,1.3992,34.695,3,1.3994,3,20181112,1207,-2.5047,-152.0002,142.63,3,2.4,3,35.24,3,0,3,162.95,3,34.6938,3,2.129,1,0.017,1,4.675,1,165.3,3
33RR20180918, GP15,31,11,11,GSNIS-12   ,2,6923,15103,20181112,1156,-2.5047,-152.0002,4706,4265.1,1.3992,34.6949,2,-999,9,20181112,1207,-2.5047,-152.0002,140.67,2,2.4,2,35,2,0,2,-999,9,-999,9,2.129,1,0.017,1,4.675,1,165.4,2
33RR20180918, GP15,31,11,12,GSNIS-13   ,2,6923,15103,20181112,1156,-2.5047,-152.0002,4706,4266.2,1.3995,34.695,2,-999,9,20181112,1207,-2.5047,-152.0002,139.99,2,2.4,2,34.9,2,0,2,-999,9,-999,9,2.129,1,0.017,1,4.676,1,164.7,2
33RR20180918, GP15,31,11,13,GSNIS-14   ,2,6923,15102,20181112,1156,-2.5047,-152.0002,4706,3857.1,1.4458,34.6905,2,1.4456,2,20181112,1215,-2.5047,-152.0002,143.41,2,2.44,2,35.53,2,0,2,158.05,2,34.6899,2,2.16,1,0.017,1,4.676,1,157.9,2
33RR20180918, GP15,31,11,14,GSNIS-15   ,2,6923,15102,20181112,1156,-2.5047,-152.0002,4706,3857.8,1.4455,34.6905,2,-999,9,20181112,1215,-2.5047,-152.0002,143.41,2,2.44,2,35.69,2,0,2,-999,9,-999,9,2.16,1,0.016,1,4.676,1,157.4,2
33RR20180918, GP15,31,11,15,GSNIS-16   ,2,6923,15102,20181112,1156,-2.5047,-152.0002,4706,3856.1,1.446,34.6905,2,-999,9,20181112,1216,-2.5047,-152.0002,143.21,2,2.43,2,35.53,2,0,2,-999,9,-999,9,2.161,1,0.017,1,4.676,1,157.8,2
33RR20180918, GP15,31,11,16,GSNIS-17   ,2,6923,15101,20181112,1156,-2.5047,-152.0002,4706,3448,1.5279,34.6834,2,1.5277,2,20181112,1224,-2.5047,-152.0003,144.97,2,2.49,2,36.19,2,0,2,148.73,2,34.6818,2,2.192,1,0.017,1,4.675,1,148.8,2
33RR20180918, GP15,31,11,17,GSNIS-18   ,2,6923,15101,20181112,1156,-2.5047,-152.0002,4706,3445.7,1.5277,34.6836,2,-999,9,20181112,1224,-2.5047,-152.0003,144.97,2,2.5,2,36.1,2,0,2,-999,9,-999,9,2.193,1,0.017,1,4.675,1,149.1,2
33RR20180918, GP15,31,11,18,GSNIS-19   ,2,6923,15101,20181112,1156,-2.5047,-152.0002,4706,3447.6,1.528,34.6837,2,-999,9,20181112,1224,-2.5047,-152.0002,144.97,2,2.5,2,36.11,2,0,2,-999,9,-999,9,2.193,1,0.017,1,4.676,1,149.1,2
33RR20180918, GP15,31,11,19,GSNIS-20   ,2,6923,15100,20181112,1156,-2.5047,-152.0002,4706,3041.3,1.6815,34.6734,2,1.6819,2,20181112,1232,-2.5047,-152.0002,143.8,2,2.57,2,36.7,2,0,2,138.68,2,34.6726,2,2.217,1,0.017,1,4.675,1,138.2,2
33RR20180918, GP15,31,11,20,GSNIS-21   ,2,6923,15100,20181112,1156,-2.5047,-152.0002,4706,3038.8,1.682,34.6731,2,-999,9,20181112,1232,-2.5047,-152.0002,143.51,2,2.56,2,36.66,2,0,2,-999,9,-999,9,2.217,1,0.017,1,4.675,1,138.2,2
33RR20180918, GP15,31,11,21,GSNIS-22   ,2,6923,15100,20181112,1156,-2.5047,-152.0002,4706,3040.1,1.6822,34.6732,2,-999,9,20181112,1232,-2.5047,-152.0002,143.8,2,2.57,2,36.7,2,0,2,-999,9,-999,9,2.217,1,0.017,1,4.675,1,138.1,2
33RR20180918, GP15,31,11,22,GSNIS-23   ,2,6923,15099,20181112,1156,-2.5047,-152.0002,4706,2783.3,1.7737,34.6674,2,1.7749,2,20181112,1238,-2.5047,-152.0003,143.41,2,2.58,2,37.09,2,0,2,132.12,2,34.6665,2,2.256,1,0.017,1,4.675,1,131.5,2
33RR20180918, GP15,31,11,23,GSNIS-24   ,2,6923,15099,20181112,1156,-2.5047,-152.0002,4706,2783.7,1.7755,34.6674,2,-999,9,20181112,1238,-2.5047,-152.0003,143.41,2,2.58,2,37.08,2,0,2,-999,9,-999,9,2.256,1,0.016,1,4.675,1,131.4,2
33RR20180918, GP15,31,11,24,GSNIS-25   ,2,6923,15099,20181112,1156,-2.5047,-152.0002,4706,2782.6,1.7752,34.6674,2,-999,9,20181112,1238,-2.5047,-152.0003,143.61,2,2.58,2,37.11,2,0,2,-999,9,-999,9,2.257,1,0.017,1,4.675,1,131.5,2
33RR20180918, GP15,31,11,25,GSNIS-26   ,2,6923,15098,20181112,1156,-2.5047,-152.0002,4706,2529.4,1.9011,34.6601,2,1.9009,2,20181112,1244,-2.5047,-152.0002,140.58,2,2.62,2,37.31,2,0,2,127.18,2,34.6594,2,2.289,1,0.017,1,4.675,1,127,2
33RR20180918, GP15,31,11,26,GSNIS-27   ,2,6923,15098,20181112,1156,-2.5047,-152.0002,4706,2527.9,1.9008,34.6599,2,-999,9,20181112,1244,-2.5047,-152.0002,140.19,2,2.61,2,37.27,2,0,2,-999,9,-999,9,2.29,1,0.016,1,4.675,1,126.9,2
33RR20180918, GP15,31,11,27,GSNIS-28   ,3,6923,15098,20181112,1156,-2.5047,-152.0002,4706,2529.7,1.9012,34.6602,3,-999,9,20181112,1244,-2.5047,-152.0003,126.5,3,2.63,3,37.28,3,0.01,3,-999,9,-999,9,2.29,1,0.017,1,4.675,1,127,3
33RR20180918, GP15,31,11,28,GSNIS-29   ,2,6923,15097,20181112,1156,-2.5047,-152.0002,4706,2274.6,2.071,34.6509,2,2.0719,2,20181112,1250,-2.5047,-152.0002,139.8,2,2.69,2,37.97,2,0,2,117.02,2,34.6506,2,2.307,1,0.017,1,4.674,1,116.6,2
33RR20180918, GP15,31,11,29,GSNIS-30   ,3,6923,15097,20181112,1156,-2.5047,-152.0002,4706,2276.3,2.0725,34.6508,3,-999,9,20181112,1250,-2.5046,-152.0002,30.21,3,2.17,3,29.98,3,0.14,3,-999,9,-999,9,2.307,1,0.017,1,4.675,1,116.6,3
33RR20180918, GP15,31,11,30,GSNIS-31   ,2,6923,15097,20181112,1156,-2.5047,-152.0002,4706,2275.3,2.0717,34.6509,2,-999,9,20181112,1250,-2.5046,-152.0002,140.19,2,2.68,2,37.89,2,0,2,-999,9,-999,9,2.312,1,0.017,1,4.674,1,116.6,2
33RR20180918, GP15,31,11,31,GSNIS-32   ,2,6923,15096,20181112,1156,-2.5047,-152.0002,4706,2020.5,2.2534,34.6424,2,2.2539,2,20181112,1256,-2.5047,-152.0003,138.72,2,2.67,2,38.38,2,0,2,108.03,2,34.6421,2,2.366,1,0.017,1,4.674,1,107.9,2
33RR20180918, GP15,31,11,32,GSNIS-33   ,2,6923,15096,20181112,1156,-2.5047,-152.0002,4706,2021.6,2.2538,34.6423,2,-999,9,20181112,1256,-2.5047,-152.0003,138.53,2,2.68,2,38.31,2,0,2,-999,9,-999,9,2.366,1,0.017,1,4.673,1,107.9,2
33RR20180918, GP15,31,11,33,GSNIS-34   ,2,6923,15096,20181112,1156,-2.5047,-152.0002,4706,2019.3,2.255,34.6422,2,-999,9,20181112,1256,-2.5047,-152.0003,138.23,2,2.68,2,38.23,2,0,2,-999,9,-999,9,2.368,1,0.017,1,4.673,1,107.8,2
33RR20180918, GP15,31,11,34,GSNIS-35   ,2,6923,15095,20181112,1156,-2.5047,-152.0002,4706,1816.6,2.4294,34.633,2,2.4287,2,20181112,1301,-2.5047,-152.0002,135.5,2,2.67,2,38.72,2,0,2,101.02,2,34.6337,2,2.413,1,0.017,1,4.673,1,101.1,2
33RR20180918, GP15,31,11,35,GSNIS-36   ,2,6923,15095,20181112,1156,-2.5047,-152.0002,4706,1818.3,2.4289,34.6331,2,-999,9,20181112,1301,-2.5047,-152.0002,135.2,2,2.66,2,38.59,2,0,2,-999,9,-999,9,2.413,1,0.017,1,4.673,1,101.1,2
33RR20180918, GP15,31,11,36,GSNIS-1    ,2,6923,15095,20181112,1156,-2.5047,-152.0002,4706,1817.6,2.429,34.6332,2,-999,9,20181112,1301,-2.5047,-152.0002,135.1,2,2.66,2,38.57,2,0,2,-999,9,-999,9,2.414,1,0.016,1,4.673,1,101.1,2