BOTTLE,20191212SIOCCHAMB
#
###########
# WARNING #
###########
# ## DATA ARE PRELIMINARY ##
# This file is made on request by the shipboard website, its contents are a snapshot of the database at the time it was downloaded
# This file may be incomplete in ways that cause it to be invalid according to the exchange format specification
#
#
EXPOCODE,SECT_ID,STNNBR,CASTNO,SAMPNO,BTLNBR,BTLNBR_FLAG_W,GEOTRC_EVENTNO,GEOTRC_SAMPNO,DATE,TIME,LATITUDE,LONGITUDE,DEPTH,CTDPRS,CTDTMP,CTDSAL,CTDSAL_FLAG_W,REFTMP,REFTMP_FLAG_W,BTL_DATE,BTL_TIME,BTL_LAT,BTL_LON,SILCAT,SILCAT_FLAG_W,PHSPHT,PHSPHT_FLAG_W,NITRAT,NITRAT_FLAG_W,NITRIT,NITRIT_FLAG_W,OXYGEN,OXYGEN_FLAG_W,SALNTY,SALNTY_FLAG_W,CTDRINKO,CTDRINKO_FLAG_W,CTDFLUOR,CTDFLUOR_FLAG_W,CTDXMISS,CTDXMISS_FLAG_W,CTDOXY,CTDOXY_FLAG_W
,,,,,,,,,,,,,METERS,DBAR,ITS-90,PSS-78,,ITS-90,,,,,,UMOL/KG,,UMOL/KG,,UMOL/KG,,UMOL/KG,,UMOL/KG,,PSS-78,,VOLTS,,VOLTS,,VOLTS,,UMOL/KG,
33RR20180918, GP15,5,3,1,GSNIS-1    ,2,6520,12359,20180924,1120,53.6771,-153.7966,4691,1015.3,2.732,34.4055,2,2.7305,2,20180924,1120,53.6771,-153.7966,149.27,2,2.96,2,43.71,2,0.01,2,19.67,2,34.407,2,3.218,1,0.018,1,4.708,1,20.3,2
33RR20180918, GP15,5,3,2,GSNIS-2    ,2,6520,12359,20180924,1120,53.6771,-153.7966,4691,1015.4,2.7301,34.4066,2,-999,9,20180924,1121,53.6771,-153.7966,148.98,2,2.97,2,43.67,2,0.01,2,-999,9,-999,9,3.218,1,0.018,1,4.709,1,20.6,2
33RR20180918, GP15,5,3,3,GSNIS-3    ,2,6520,12359,20180924,1120,53.6771,-153.7966,4691,1013.4,2.7317,34.4057,2,-999,9,20180924,1121,53.6771,-153.7966,149.37,2,2.98,2,43.68,2,0.01,2,-999,9,-999,9,3.217,1,0.018,1,4.708,1,20.6,2
33RR20180918, GP15,5,3,4,GSNIS-4    ,2,6520,12358,20180924,1120,53.6771,-153.7966,4691,813.9,3.0541,34.3348,2,3.0533,2,20180924,1125,53.6771,-153.7966,138.93,2,2.98,2,43.77,2,0.01,2,16.99,2,34.3366,2,3.163,1,0.018,1,4.706,1,17.7,2
33RR20180918, GP15,5,3,5,GSNIS-5    ,2,6520,12358,20180924,1120,53.6771,-153.7966,4691,812,3.0537,34.3336,2,-999,9,20180924,1125,53.6771,-153.7966,138.25,2,2.99,2,43.71,2,0.01,2,-999,9,-999,9,3.163,1,0.018,1,4.707,1,17.4,2
33RR20180918, GP15,5,3,6,GSNIS-6    ,2,6520,12358,20180924,1120,53.6771,-153.7966,4691,813.5,3.054,34.3352,2,-999,9,20180924,1125,53.6771,-153.7966,138.64,2,2.99,2,43.67,2,0.01,2,-999,9,-999,9,3.163,1,0.018,1,4.707,1,17.2,2
33RR20180918, GP15,5,3,7,GSNIS-7    ,2,6520,12357,20180924,1120,53.6771,-153.7966,4691,611,3.3742,34.2541,2,3.3728,2,20180924,1130,53.6771,-153.7966,127.61,2,2.99,2,43.79,2,0,2,15.94,2,34.2559,2,3.21,1,0.018,1,4.707,1,16,2
33RR20180918, GP15,5,3,8,GSNIS-8    ,2,6520,12357,20180924,1120,53.6771,-153.7966,4691,611.5,3.3731,34.2547,2,-999,9,20180924,1130,53.6771,-153.7966,127.71,2,3,2,43.78,2,0,2,-999,9,-999,9,3.21,1,0.018,1,4.708,1,16.1,2
33RR20180918, GP15,5,3,9,GSNIS-9    ,2,6520,12357,20180924,1120,53.6771,-153.7966,4691,610.7,3.3742,34.2548,2,-999,9,20180924,1130,53.6771,-153.7966,127.42,2,3,2,43.76,2,0.01,2,-999,9,-999,9,3.211,1,0.018,1,4.707,1,15.5,2
33RR20180918, GP15,5,3,10,GSNIS-10   ,2,6520,12356,20180924,1120,53.6771,-153.7966,4691,456.2,3.6594,34.167,2,3.6584,2,20180924,1134,53.6771,-153.7965,115.71,2,2.99,2,43.78,2,0.01,2,16.45,2,34.1684,2,3.207,1,0.018,1,4.708,1,18.3,2
33RR20180918, GP15,5,3,11,GSNIS-11   ,2,6520,12356,20180924,1120,53.6771,-153.7966,4691,456.4,3.6594,34.1671,2,-999,9,20180924,1134,53.6771,-153.7965,115.51,2,2.99,2,43.76,2,0.01,2,-999,9,-999,9,3.207,1,0.018,1,4.708,1,17.6,2
33RR20180918, GP15,5,3,12,GSNIS-12   ,2,6520,12356,20180924,1120,53.6771,-153.7966,4691,455.8,3.6596,34.1666,2,-999,9,20180924,1134,53.6771,-153.7965,115.71,2,3.01,2,43.83,2,0,2,-999,9,-999,9,3.206,1,0.018,1,4.708,1,17.6,2
33RR20180918, GP15,5,3,13,GSNIS-13   ,2,6520,12355,20180924,1120,53.6771,-153.7966,4691,306.3,3.9002,34.0219,2,3.8995,2,20180924,1138,53.6772,-153.7966,100.1,2,3.01,2,44.15,2,0.01,2,20.64,2,34.5122,4,3.224,1,0.018,1,4.702,1,23.1,2
33RR20180918, GP15,5,3,14,GSNIS-14   ,2,6520,12355,20180924,1120,53.6771,-153.7966,4691,305.1,3.9004,34.0208,2,-999,9,20180924,1138,53.6771,-153.7966,100.1,2,3.02,2,44.25,2,0.01,2,-999,9,-999,9,3.225,1,0.019,1,4.702,1,22.2,2
33RR20180918, GP15,5,3,15,GSNIS-15   ,2,6520,12355,20180924,1120,53.6771,-153.7966,4691,306.6,3.8997,34.0226,2,-999,9,20180924,1138,53.6771,-153.7966,99.51,2,3.03,2,44.32,2,0.01,2,-999,9,-999,9,3.225,1,0.018,1,4.702,1,22,2
33RR20180918, GP15,5,3,16,GSNIS-16   ,2,6520,12354,20180924,1120,53.6771,-153.7966,4691,145,4.0675,33.7843,2,4.0677,2,20180924,1142,53.6771,-153.7966,77.84,2,2.84,2,41.55,2,0.01,2,64.19,2,34.2659,3,3.188,1,0.018,1,4.699,1,68,2
33RR20180918, GP15,5,3,17,GSNIS-17   ,2,6520,12354,20180924,1120,53.6771,-153.7966,4691,143.6,4.0681,33.7824,2,-999,9,20180924,1142,53.6771,-153.7966,77.94,2,2.86,2,41.57,2,0.01,2,-999,9,-999,9,3.185,1,0.018,1,4.699,1,68.7,2
33RR20180918, GP15,5,3,18,GSNIS-18   ,2,6520,12354,20180924,1120,53.6771,-153.7966,4691,144.9,4.0696,33.7802,2,-999,9,20180924,1142,53.6771,-153.7966,77.75,2,2.86,2,41.55,2,0.01,2,-999,9,-999,9,3.182,1,0.018,1,4.699,1,69.1,2
33RR20180918, GP15,5,3,19,GSNIS-19   ,2,6520,12353,20180924,1120,53.6771,-153.7966,4691,124.4,4.1169,33.6416,2,4.1183,2,20180924,1144,53.6771,-153.7966,69.75,2,2.71,2,38.89,2,0.01,2,97.13,2,33.6403,2,3.124,1,0.018,1,4.699,1,111.4,3
33RR20180918, GP15,5,3,20,GSNIS-20   ,2,6520,12353,20180924,1120,53.6771,-153.7966,4691,123.7,4.1188,33.6401,2,-999,9,20180924,1144,53.6771,-153.7966,69.35,2,2.7,2,38.86,2,0.01,2,-999,9,-999,9,3.122,1,0.018,1,4.699,1,106.7,3
33RR20180918, GP15,5,3,21,GSNIS-21   ,2,6520,12353,20180924,1120,53.6771,-153.7966,4691,124,4.1205,33.6383,2,-999,9,20180924,1144,53.6771,-153.7966,69.75,2,2.72,2,38.96,2,0.01,2,-999,9,-999,9,3.12,1,0.018,1,4.7,1,106.8,3
33RR20180918, GP15,5,3,22,GSNIS-22   ,2,6520,12352,20180924,1120,53.6771,-153.7966,4691,93.8,4.2465,33.1087,2,4.2498,2,20180924,1146,53.6771,-153.7966,41.83,2,2.03,2,27.29,2,0.03,2,235.63,2,33.0858,2,3.077,1,0.02,1,4.692,1,242.6,2
33RR20180918, GP15,5,3,23,GSNIS-23   ,2,6520,12352,20180924,1120,53.6771,-153.7966,4691,95.2,4.2396,33.1181,2,-999,9,20180924,1146,53.6771,-153.7966,42.02,2,2.02,2,27.41,2,0.03,2,-999,9,-999,9,3.073,1,0.021,1,4.691,1,226.6,2
33RR20180918, GP15,5,3,24,GSNIS-24   ,2,6520,12352,20180924,1120,53.6771,-153.7966,4691,92.6,4.2585,33.0903,2,-999,9,20180924,1146,53.6771,-153.7966,41.43,2,2.05,2,27.23,2,0.02,2,-999,9,-999,9,3.063,1,0.021,1,4.692,1,251.7,2
33RR20180918, GP15,5,3,25,GSNIS-25   ,2,6520,12351,20180924,1120,53.6771,-153.7966,4691,73,4.6848,32.843,2,4.7076,2,20180924,1148,53.6771,-153.7965,30.1,2,1.74,2,21.18,2,0.06,2,286.89,2,32.8403,2,2.302,1,0.031,1,4.676,1,281.5,2
33RR20180918, GP15,5,3,26,GSNIS-26   ,2,6520,12351,20180924,1120,53.6771,-153.7966,4691,73,4.7007,32.8405,2,-999,9,20180924,1148,53.6771,-153.7965,30.01,2,1.72,2,21.1,2,0.06,2,-999,9,-999,9,2.293,1,0.032,1,4.677,1,281.7,2
33RR20180918, GP15,5,3,27,GSNIS-27   ,2,6520,12351,20180924,1120,53.6771,-153.7966,4691,71.4,4.7346,32.837,2,-999,9,20180924,1148,53.6771,-153.7965,30.01,2,1.72,2,21.09,2,0.06,2,-999,9,-999,9,2.287,1,0.028,1,4.676,1,281.7,2
33RR20180918, GP15,5,3,28,GSNIS-28   ,2,6520,12350,20180924,1120,53.6771,-153.7966,4691,57.4,5.3838,32.7229,2,5.422,2,20180924,1150,53.6771,-153.7966,25.61,2,1.54,2,16.45,2,0.76,2,301.42,2,32.7298,2,2.02,1,0.047,1,4.656,1,292.8,2
33RR20180918, GP15,5,3,29,GSNIS-29   ,2,6520,12350,20180924,1120,53.6771,-153.7966,4691,56.4,5.4284,32.7202,2,-999,9,20180924,1150,53.6771,-153.7966,25.32,2,1.53,2,16.32,2,0.75,2,-999,9,-999,9,2.017,1,0.045,1,4.651,1,295.5,2
33RR20180918, GP15,5,3,30,GSNIS-30   ,2,6520,12350,20180924,1120,53.6771,-153.7966,4691,56.3,5.4334,32.7213,2,-999,9,20180924,1150,53.6771,-153.7966,25.22,2,1.58,2,16.2,2,0.75,2,-999,9,-999,9,2.012,1,0.046,1,4.65,1,294.9,2
33RR20180918, GP15,5,3,31,GSNIS-31   ,2,6520,12349,20180924,1120,53.6771,-153.7966,4691,40.7,10.2283,32.5515,2,10.048,3,20180924,1152,53.6771,-153.7966,12.12,2,1.03,2,7.78,2,0.11,2,274.27,2,32.4985,3,1.881,1,0.077,1,4.543,1,279.9,2
33RR20180918, GP15,5,3,32,GSNIS-32   ,2,6520,12349,20180924,1120,53.6771,-153.7966,4691,40,10.27,32.542,2,-999,9,20180924,1152,53.6771,-153.7966,12.42,2,1.04,2,7.91,2,0.12,2,-999,9,-999,9,1.864,1,0.074,1,4.533,1,285.2,2
33RR20180918, GP15,5,3,33,GSNIS-33   ,2,6520,12349,20180924,1120,53.6771,-153.7966,4691,41.4,9.5611,32.5941,2,-999,9,20180924,1152,53.6771,-153.7966,13.59,2,1.09,2,8.58,2,0.13,2,-999,9,-999,9,1.857,1,0.077,1,4.561,1,285.5,2
33RR20180918, GP15,5,3,34,GSNIS-34   ,2,6520,12348,20180924,1120,53.6771,-153.7966,4691,25.5,12.5615,32.4679,2,12.5705,2,20180924,1154,53.6771,-153.7966,10.56,2,0.96,2,6.83,2,0.09,2,270.58,2,32.4723,2,1.716,1,0.115,1,4.463,1,268.1,2
33RR20180918, GP15,5,3,35,GSNIS-35   ,2,6520,12348,20180924,1120,53.6771,-153.7966,4691,25.4,12.5742,32.4673,2,-999,9,20180924,1154,53.6771,-153.7966,10.66,2,0.89,2,6.8,2,0.1,2,-999,9,-999,9,1.704,1,0.116,1,4.464,1,269.4,2
33RR20180918, GP15,5,3,36,GSNIS-36   ,2,6520,12348,20180924,1120,53.6771,-153.7966,4691,25.9,12.5628,32.4684,2,-999,9,20180924,1154,53.6771,-153.7966,10.75,2,0.75,2,6.79,2,0.1,2,-999,9,-999,9,1.695,1,0.117,1,4.466,1,268.9,2
33RR20180918, GP15,5,5,1,GSNIS-1    ,5,6523,12381,20180924,1908,53.6801,-153.7996,4691,810.9,3.0562,34.3344,3,3.0537,3,20180924,1908,53.6801,-153.7996,-999,9,-999,9,-999,9,-999,9,-999,9,-999,9,2.228,1,0.018,1,4.704,1,17.5,3
33RR20180918, GP15,5,5,2,GSNIS-2    ,2,6523,12381,20180924,1908,53.6801,-153.7996,4691,811.7,3.0528,34.335,2,-999,9,20180924,1908,53.6801,-153.7996,138.83,2,3.22,4,44.39,2,0,2,17.27,2,34.3368,2,2.228,1,0.018,1,4.704,1,17.4,2
33RR20180918, GP15,5,5,3,GSNIS-3    ,2,6523,12381,20180924,1908,53.6801,-153.7996,4691,810.6,3.0566,34.3345,2,-999,9,20180924,1908,53.6801,-153.7995,138.74,2,3.21,4,44.36,2,0,2,-999,9,-999,9,2.229,1,0.018,1,4.704,1,17.5,2
33RR20180918, GP15,5,5,4,GSNIS-4    ,2,6523,12380,20180924,1908,53.6801,-153.7996,4691,609.7,3.4048,34.2491,2,3.4041,2,20180924,1913,53.6801,-153.7996,126.64,2,3.34,4,44.45,2,0,2,13.61,2,34.251,2,2.315,1,0.018,1,4.705,1,16.1,2
33RR20180918, GP15,5,5,5,GSNIS-5    ,2,6523,12380,20180924,1908,53.6801,-153.7996,4691,609.5,3.405,34.2502,2,-999,9,20180924,1913,53.6801,-153.7996,126.64,2,3.36,4,44.5,2,0,2,-999,9,-999,9,2.318,1,0.018,1,4.704,1,16,2
33RR20180918, GP15,5,5,6,GSNIS-6    ,2,6523,12380,20180924,1908,53.6801,-153.7996,4691,610.4,3.4047,34.2498,2,-999,9,20180924,1913,53.68,-153.7996,126.25,2,3.41,4,44.6,2,0,2,-999,9,-999,9,2.321,1,0.018,1,4.706,1,15.9,2
33RR20180918, GP15,5,5,7,GSNIS-7    ,2,6523,12379,20180924,1908,53.6801,-153.7996,4691,454.9,3.6664,34.1627,2,3.666,2,20180924,1917,53.6801,-153.7996,115.42,2,3.5,4,44.56,2,0,2,14.99,2,34.1639,2,2.492,1,0.018,1,4.706,1,18.2,2
33RR20180918, GP15,5,5,8,GSNIS-8    ,2,6523,12379,20180924,1908,53.6801,-153.7996,4691,455.3,3.6671,34.1616,2,-999,9,20180924,1917,53.6801,-153.7996,115.51,2,3.52,4,44.57,2,0,2,-999,9,-999,9,2.497,1,0.018,1,4.705,1,17.8,2
33RR20180918, GP15,5,5,9,GSNIS-9    ,2,6523,12379,20180924,1908,53.6801,-153.7996,4691,455.3,3.6671,34.1618,2,-999,9,20180924,1917,53.6801,-153.7996,115.42,2,3.6,4,44.56,2,0,2,-999,9,-999,9,2.502,1,0.018,1,4.705,1,17.8,2
33RR20180918, GP15,5,5,10,GSNIS-10   ,2,6523,12378,20180924,1908,53.6801,-153.7996,4691,304.2,3.8816,34.0387,2,3.8808,2,20180924,1922,53.6801,-153.7996,101.95,2,3.58,4,44.83,2,0,2,19.28,2,34.0385,2,2.786,1,0.018,1,4.701,1,21.9,2
33RR20180918, GP15,5,5,11,GSNIS-11   ,2,6523,12378,20180924,1908,53.6801,-153.7996,4691,303.5,3.8816,34.0386,2,-999,9,20180924,1922,53.6801,-153.7996,102.15,2,3.73,4,44.75,2,0,2,-999,9,-999,9,2.796,1,0.018,1,4.7,1,22.6,2
33RR20180918, GP15,5,5,12,GSNIS-12   ,2,6523,12378,20180924,1908,53.6801,-153.7996,4691,303.5,3.8819,34.0385,2,3.8809,2,20180924,1922,53.6801,-153.7996,102.15,2,3.75,4,44.79,2,0,2,-999,9,-999,9,2.808,1,0.018,1,4.701,1,22,2
33RR20180918, GP15,5,5,13,GSNIS-13   ,2,6523,12377,20180924,1908,53.6801,-153.7996,4691,201.7,3.9642,33.9086,2,3.9626,2,20180924,1925,53.6801,-153.7995,89.85,2,3.79,4,44.64,2,0.01,2,30.13,2,33.909,2,3.109,1,0.018,1,4.69,1,34.8,2
33RR20180918, GP15,5,5,14,GSNIS-14   ,2,6523,12377,20180924,1908,53.6801,-153.7996,4691,202.4,3.9635,33.9092,2,-999,9,20180924,1925,53.6801,-153.7995,90.05,2,3.89,4,44.64,2,0.01,2,-999,9,-999,9,3.114,1,0.018,1,4.695,1,37.1,2
33RR20180918, GP15,5,5,15,GSNIS-15   ,2,6523,12376,20180924,1908,53.6801,-153.7996,4691,142,4.0664,33.7134,2,4.0662,2,20180924,1927,53.6801,-153.7995,74.92,2,3.73,4,40.86,2,0.01,2,78.74,2,33.7116,2,3.178,1,0.018,1,4.694,1,93.1,3
33RR20180918, GP15,5,5,16,GSNIS-16   ,2,6523,12376,20180924,1908,53.6801,-153.7996,4691,141.4,4.0666,33.7128,2,-999,9,20180924,1928,53.6801,-153.7995,74.82,2,3.79,4,40.81,2,0.01,2,-999,9,-999,9,3.179,1,0.018,1,4.696,1,98.3,3
33RR20180918, GP15,5,5,17,GSNIS-17   ,2,6523,12376,20180924,1908,53.6801,-153.7996,4691,141.4,4.0672,33.712,2,-999,9,20180924,1928,53.6801,-153.7995,75.02,2,3.82,4,40.8,2,0.01,2,-999,9,-999,9,3.18,1,0.018,1,4.696,1,98.5,3
33RR20180918, GP15,5,5,18,GSNIS-18   ,2,6523,12375,20180924,1908,53.6801,-153.7996,4691,121.6,4.2112,33.5249,2,4.213,2,20180924,1929,53.6801,-153.7995,62.42,2,3.6,4,36.1,2,0.01,2,131.5,2,33.5142,2,3.186,1,0.018,1,4.693,1,140.7,2
33RR20180918, GP15,5,5,19,GSNIS-19   ,2,6523,12375,20180924,1908,53.6801,-153.7996,4691,120.3,4.2165,33.5176,2,-999,9,20180924,1929,53.6801,-153.7995,62.33,2,3.7,4,36.19,2,0.01,2,-999,9,-999,9,3.186,1,0.019,1,4.693,1,154.9,2
33RR20180918, GP15,5,5,20,GSNIS-20   ,2,6523,12375,20180924,1908,53.6801,-153.7996,4691,122.1,4.2124,33.523,2,-999,9,20180924,1930,53.6801,-153.7995,62.52,2,3.74,4,36.09,2,0.01,2,-999,9,-999,9,3.186,1,0.018,1,4.693,1,141,2
33RR20180918, GP15,5,5,21,GSNIS-21   ,2,6523,12374,20180924,1908,53.6801,-153.7996,4691,91.5,4.276,33.0716,2,4.2738,2,20180924,1932,53.6801,-153.7995,41.04,2,3.29,4,26.86,2,0.03,2,240.11,2,33.0617,2,3.086,1,0.022,1,4.69,1,242.8,2
33RR20180918, GP15,5,5,22,GSNIS-22   ,2,6523,12374,20180924,1908,53.6801,-153.7996,4691,90.6,4.2806,33.0659,2,-999,9,20180924,1932,53.6801,-153.7995,40.85,2,3.35,4,26.72,2,0.03,2,-999,9,-999,9,3.081,1,0.022,1,4.689,1,239,2
33RR20180918, GP15,5,5,23,GSNIS-23   ,2,6523,12374,20180924,1908,53.6801,-153.7996,4691,91.8,4.2728,33.0738,2,-999,9,20180924,1932,53.6801,-153.7996,41.24,2,3.44,4,26.88,2,0.03,2,-999,9,-999,9,3.078,1,0.022,1,4.689,1,241.6,2
33RR20180918, GP15,5,5,24,GSNIS-24   ,2,6523,12373,20180924,1908,53.6801,-153.7996,4691,70.1,4.9333,32.7963,2,4.9378,2,20180924,1934,53.6801,-153.7996,29.03,2,3.16,4,19.88,2,0.12,2,291.71,2,32.8008,2,2.991,1,0.033,1,4.67,1,289.9,2
33RR20180918, GP15,5,5,25,GSNIS-25   ,2,6523,12373,20180924,1908,53.6801,-153.7996,4691,70.9,4.9325,32.7994,2,-999,9,20180924,1934,53.6801,-153.7996,29.23,2,3.2,4,19.85,2,0.12,2,-999,9,-999,9,2.985,1,0.033,1,4.67,1,288.5,2
33RR20180918, GP15,5,5,26,GSNIS-26   ,2,6523,12373,20180924,1908,53.6801,-153.7996,4691,70.4,4.9388,32.7944,2,-999,9,20180924,1935,53.6801,-153.7996,29.52,2,3.27,4,20.2,2,0.12,2,-999,9,-999,9,2.981,1,0.034,1,4.67,1,289.2,2
33RR20180918, GP15,5,5,27,GSNIS-27   ,2,6523,12372,20180924,1908,53.6801,-153.7996,4691,55.2,5.7861,32.7188,2,5.978,3,20180924,1936,53.6801,-153.7996,22.97,2,3.05,4,14.15,2,0.55,2,303.1,2,32.7156,3,2.912,1,0.044,1,4.638,1,296.1,2
33RR20180918, GP15,5,5,28,GSNIS-28   ,2,6523,12372,20180924,1908,53.6801,-153.7996,4691,55.4,5.9455,32.7158,2,-999,9,20180924,1936,53.6801,-153.7996,23.17,2,3.12,4,14.27,2,0.56,2,-999,9,-999,9,2.908,1,0.048,1,4.634,1,296.9,2
33RR20180918, GP15,5,5,29,GSNIS-29   ,2,6523,12372,20180924,1908,53.6801,-153.7996,4691,56.2,6.006,32.715,2,-999,9,20180924,1937,53.6801,-153.7996,23.36,2,3.15,4,14.52,2,0.59,2,-999,9,-999,9,2.905,1,0.049,1,4.635,1,295.9,2
33RR20180918, GP15,5,5,30,GSNIS-30   ,2,6523,12371,20180924,1908,53.6801,-153.7996,4691,40.2,12.4472,32.4789,2,12.4652,3,20180924,1938,53.6801,-153.7996,11.63,2,2.66,4,7.37,2,0.1,2,271.34,2,32.4931,3,2.695,1,0.091,1,4.495,1,271.2,2
33RR20180918, GP15,5,5,31,GSNIS-31   ,2,6523,12371,20180924,1908,53.6801,-153.7996,4691,40.9,12.4594,32.4778,2,-999,9,20180924,1939,53.6801,-153.7996,11.73,2,2.6,4,7.44,2,0.1,2,-999,9,-999,9,2.671,1,0.091,1,4.496,1,268.7,2
33RR20180918, GP15,5,5,32,GSNIS-32   ,2,6523,12371,20180924,1908,53.6801,-153.7996,4691,40.7,12.4079,32.4831,2,-999,9,20180924,1939,53.6801,-153.7996,11.24,2,2.41,4,7.19,2,0.09,2,-999,9,-999,9,2.649,1,0.093,1,4.496,1,268.6,2
33RR20180918, GP15,5,5,33,GSNIS-33   ,2,6523,12370,20180924,1908,53.6801,-153.7996,4691,25.4,12.6133,32.479,2,12.6122,2,20180924,1941,53.6801,-153.7995,10.95,2,2.22,4,7.04,2,0.09,2,268.94,2,32.4818,2,2.275,1,0.098,1,4.472,1,268.1,2
33RR20180918, GP15,5,5,34,GSNIS-34   ,2,6523,12370,20180924,1908,53.6801,-153.7996,4691,25.6,12.6159,32.479,2,-999,9,20180924,1941,53.6801,-153.7995,10.95,2,2.19,4,7.02,2,0.09,2,-999,9,-999,9,2.27,1,0.1,1,4.469,1,268.3,2
33RR20180918, GP15,5,5,35,GSNIS-35   ,2,6523,12370,20180924,1908,53.6801,-153.7996,4691,25.6,12.616,32.4793,2,-999,9,20180924,1941,53.6801,-153.7995,11.05,2,1.86,4,7.06,2,0.09,2,-999,9,-999,9,2.267,1,0.102,1,4.473,1,268.4,2
33RR20180918, GP15,5,5,36,GSNIS-36   ,2,6523,12369,20180924,1908,53.6801,-153.7996,4691,3.3,12.6204,32.4789,2,12.6196,2,20180924,1943,53.6801,-153.7996,11.15,2,1.45,4,7.04,2,0.09,2,269.6,2,32.4826,2,2.237,1,0.076,1,4.468,1,266.6,2