BOTTLE,20191212SIOCCHAMB
EXPOCODE,SECT_ID,STNNBR,CASTNO,SAMPNO,BTLNBR,BTLNBR_FLAG_W,GEOTRC_EVENTNO,GEOTRC_SAMPNO,DATE,TIME,LATITUDE,LONGITUDE,DEPTH,CTDPRS,CTDTMP,CTDSAL,CTDSAL_FLAG_W,REFTMP,REFTMP_FLAG_W,BTL_DATE,BTL_TIME,BTL_LAT,BTL_LON,SILCAT,SILCAT_FLAG_W,PHSPHT,PHSPHT_FLAG_W,NITRAT,NITRAT_FLAG_W,NITRIT,NITRIT_FLAG_W,OXYGEN,OXYGEN_FLAG_W,SALNTY,SALNTY_FLAG_W,CTDRINKO,CTDRINKO_FLAG_W,CTDFLUOR,CTDFLUOR_FLAG_W,CTDXMISS,CTDXMISS_FLAG_W,CTDOXY,CTDOXY_FLAG_W
,,,,,,,,,,,,,METERS,DBAR,ITS-90,PSS-78,,ITS-90,,,,,,UMOL/KG,,UMOL/KG,,UMOL/KG,,UMOL/KG,,UMOL/KG,,PSS-78,,VOLTS,,VOLTS,,VOLTS,,UMOL/KG,
33RR20180918, GP15,29,9,1,GSNIS-2    ,2,6896,14881,20181109,1518,-0.0011,-152.0038,4438,1613.6,2.8905,34.6071,2,2.8898,2,20181109,1518,-0.0011,-152.0038,121.14,2,2.8,2,39.3,2,0,2,98.26,2,34.6075,2,2.521,1,0.018,1,4.674,1,98.6,2
33RR20180918, GP15,29,9,2,GSNIS-3    ,2,6896,14881,20181109,1518,-0.0011,-152.0038,4438,1614.1,2.8902,34.6072,2,-999,9,20181109,1518,-0.0011,-152.0038,120.94,2,2.79,2,39.19,2,0,2,-999,9,-999,9,2.521,1,0.017,1,4.674,1,98,2
33RR20180918, GP15,29,9,3,GSNIS-4    ,2,6896,14880,20181109,1518,-0.0011,-152.0038,4438,1412.3,3.3426,34.589,2,3.3269,2,20181109,1524,-0.0011,-152.0038,111.08,2,2.84,2,39.62,2,0,2,89.67,2,34.5895,2,2.487,1,0.017,1,4.673,1,89.7,2
33RR20180918, GP15,29,9,4,GSNIS-5    ,2,6896,14880,20181109,1518,-0.0011,-152.0038,4438,1413.9,3.3169,34.5913,2,-999,9,20181109,1524,-0.0011,-152.0038,111.08,2,2.83,2,39.61,2,0,2,-999,9,-999,9,2.486,1,0.017,1,4.673,1,89.5,2
33RR20180918, GP15,29,9,5,GSNIS-6    ,2,6896,14880,20181109,1518,-0.0011,-152.0038,4438,1412.9,3.3303,34.5896,2,-999,9,20181109,1524,-0.0011,-152.0038,111.27,2,2.85,2,39.59,2,0,2,-999,9,-999,9,2.486,1,0.017,1,4.674,1,89.5,2
33RR20180918, GP15,29,9,6,GSNIS-7    ,2,6896,14880,20181109,1518,-0.0011,-152.0038,4438,1413.4,3.3208,34.5897,2,-999,9,20181109,1524,-0.0011,-152.0038,111.27,2,2.84,2,39.59,2,0,2,-999,9,-999,9,2.486,1,0.017,1,4.673,1,89.5,2
33RR20180918, GP15,29,9,7,GSNIS-8    ,2,6896,14879,20181109,1518,-0.0011,-152.0038,4438,1211.2,3.9151,34.5703,2,3.9151,2,20181109,1529,-0.0011,-152.0038,98.57,2,2.86,2,39.87,2,0,2,82.49,2,34.5712,2,2.485,1,0.017,1,4.672,1,83,2
33RR20180918, GP15,29,9,8,GSNIS-9    ,2,6896,14879,20181109,1518,-0.0011,-152.0038,4438,1210.4,3.9166,34.57,2,-999,9,20181109,1529,-0.0011,-152.0038,98.38,2,2.86,2,39.81,2,0,2,-999,9,-999,9,2.486,1,0.017,1,4.672,1,82.9,2
33RR20180918, GP15,29,9,9,GSNIS-10   ,2,6896,14879,20181109,1518,-0.0011,-152.0038,4438,1211.2,3.9155,34.5702,2,-999,9,20181109,1529,-0.0011,-152.0038,98.38,2,2.87,2,39.86,2,0,2,-999,9,-999,9,2.486,1,0.017,1,4.672,1,83.1,2
33RR20180918, GP15,29,9,10,GSNIS-11   ,2,6896,14878,20181109,1518,-0.0011,-152.0038,4438,1008.3,4.6543,34.5496,2,4.6535,2,20181109,1534,-0.0011,-152.0038,80.6,2,2.8,2,39.09,2,0,2,83.41,2,34.5498,2,2.501,1,0.017,1,4.673,1,82.3,2
33RR20180918, GP15,29,9,11,GSNIS-12   ,2,6896,14878,20181109,1518,-0.0011,-152.0038,4438,1008.5,4.6553,34.5497,2,-999,9,20181109,1534,-0.0011,-152.0038,80.5,2,2.8,2,39.07,2,0,2,-999,9,-999,9,2.501,1,0.018,1,4.673,1,82.4,2
33RR20180918, GP15,29,9,12,GSNIS-13   ,2,6896,14878,20181109,1518,-0.0011,-152.0038,4438,1007.7,4.6536,34.5497,2,-999,9,20181109,1534,-0.0011,-152.0038,80.7,2,2.8,2,39.12,2,0,2,-999,9,-999,9,2.502,1,0.017,1,4.673,1,82.3,2
33RR20180918, GP15,29,9,13,GSNIS-14   ,2,6896,14878,20181109,1518,-0.0011,-152.0038,4438,1008.1,4.654,34.5495,2,-999,9,20181109,1534,-0.0011,-152.0038,80.7,2,2.81,2,39.09,2,0,2,-999,9,-999,9,2.502,1,0.017,1,4.673,1,82.7,2
33RR20180918, GP15,29,9,14,GSNIS-15   ,2,6896,14877,20181109,1518,-0.0011,-152.0038,4438,908.6,5.1236,34.5422,2,5.1233,2,20181109,1537,-0.0011,-152.0038,70.83,2,2.77,2,38.68,2,0,2,83.19,2,34.5429,2,2.494,1,0.017,1,4.672,1,82.9,2
33RR20180918, GP15,29,9,15,GSNIS-16   ,2,6896,14877,20181109,1518,-0.0011,-152.0038,4438,908.5,5.1239,34.5422,2,-999,9,20181109,1537,-0.0011,-152.0038,70.83,2,2.77,2,38.7,2,0,2,-999,9,-999,9,2.494,1,0.017,1,4.673,1,82.7,2
33RR20180918, GP15,29,9,16,GSNIS-17   ,2,6896,14876,20181109,1518,-0.0011,-152.0038,4438,805.4,5.6225,34.5414,2,5.6221,2,20181109,1540,-0.0011,-152.0038,62.62,2,2.76,2,38.47,2,0,2,79.12,2,34.5425,2,2.482,1,0.017,1,4.672,1,77.5,2
33RR20180918, GP15,29,9,17,GSNIS-18   ,2,6896,14876,20181109,1518,-0.0011,-152.0038,4438,806.5,5.623,34.5415,2,-999,9,20181109,1540,-0.0011,-152.0038,62.53,2,2.76,2,38.44,2,0,2,-999,9,-999,9,2.482,1,0.017,1,4.672,1,78.9,2
33RR20180918, GP15,29,9,18,GSNIS-19   ,2,6896,14876,20181109,1518,-0.0011,-152.0038,4438,805.5,5.6225,34.5414,2,-999,9,20181109,1540,-0.0011,-152.0038,62.53,2,2.76,2,38.4,2,0,2,-999,9,-999,9,2.481,1,0.017,1,4.672,1,79,2
33RR20180918, GP15,29,9,19,GSNIS-20   ,2,6896,14875,20181109,1518,-0.0011,-152.0038,4438,705.1,6.3392,34.5557,2,6.3377,2,20181109,1543,-0.0011,-152.0038,54.51,2,2.8,2,39.16,2,0,2,62.08,2,34.5565,2,2.484,1,0.017,1,4.67,1,60,2
33RR20180918, GP15,29,9,20,GSNIS-21   ,2,6896,14875,20181109,1518,-0.0011,-152.0038,4438,705.2,6.3391,34.5557,2,-999,9,20181109,1543,-0.0011,-152.0038,54.51,2,2.8,2,39.13,2,0,2,-999,9,-999,9,2.483,1,0.017,1,4.67,1,60,2
33RR20180918, GP15,29,9,21,GSNIS-22   ,2,6896,14875,20181109,1518,-0.0011,-152.0038,4438,705.5,6.338,34.5557,2,-999,9,20181109,1543,-0.0011,-152.0038,54.51,2,2.79,2,39.15,2,0,2,-999,9,-999,9,2.484,1,0.017,1,4.669,1,60.5,2
33RR20180918, GP15,29,9,22,GSNIS-23   ,2,6896,14875,20181109,1518,-0.0011,-152.0038,4438,705,6.3419,34.5559,2,-999,9,20181109,1543,-0.0011,-152.0038,54.51,2,2.8,2,39.16,2,0,2,-999,9,-999,9,2.483,1,0.017,1,4.669,1,60.4,2
33RR20180918, GP15,29,9,23,GSNIS-24   ,2,6896,14874,20181109,1518,-0.0011,-152.0038,4438,605.7,7.1085,34.578,2,7.1105,2,20181109,1546,-0.0011,-152.0038,47.09,2,2.77,2,38.88,2,0,2,51.39,2,34.5789,2,2.547,1,0.017,1,4.667,1,50,2
33RR20180918, GP15,29,9,24,GSNIS-25   ,2,6896,14874,20181109,1518,-0.0011,-152.0038,4438,604.4,7.1119,34.5781,2,-999,9,20181109,1546,-0.0011,-152.0038,46.99,2,2.76,2,38.81,2,0,2,-999,9,-999,9,2.55,1,0.018,1,4.667,1,49.3,2
33RR20180918, GP15,29,9,25,GSNIS-26   ,2,6896,14874,20181109,1518,-0.0011,-152.0038,4438,604.9,7.1105,34.578,2,-999,9,20181109,1546,-0.0011,-152.0038,46.89,2,2.76,2,38.8,2,0,2,-999,9,-999,9,2.551,1,0.017,1,4.667,1,49.3,2
33RR20180918, GP15,29,9,26,GSNIS-27   ,2,6896,14873,20181109,1518,-0.0011,-152.0038,4438,504.1,8.2968,34.6277,2,8.2827,2,20181109,1549,-0.0011,-152.0038,38.78,2,2.65,2,37.46,2,0,2,42.61,2,34.6256,3,2.582,1,0.018,1,4.664,1,41,2
33RR20180918, GP15,29,9,27,GSNIS-28   ,2,6896,14873,20181109,1518,-0.0011,-152.0038,4438,504.4,8.2854,34.6279,2,-999,9,20181109,1549,-0.0011,-152.0038,38.69,2,2.64,2,37.41,2,0,2,-999,9,-999,9,2.582,1,0.018,1,4.664,1,42.8,2
33RR20180918, GP15,29,9,28,GSNIS-29   ,2,6896,14873,20181109,1518,-0.0011,-152.0038,4438,503.7,8.2919,34.6278,2,-999,9,20181109,1549,-0.0011,-152.0038,38.88,2,2.65,2,37.44,2,0,2,-999,9,-999,9,2.582,1,0.018,1,4.664,1,42.6,2
33RR20180918, GP15,29,9,29,GSNIS-30   ,2,6896,14873,20181109,1518,-0.0011,-152.0038,4438,504.2,8.2794,34.6271,2,-999,9,20181109,1549,-0.0011,-152.0038,38.59,2,2.64,2,37.43,2,0,2,-999,9,-999,9,2.583,1,0.017,1,4.663,1,42.9,2
33RR20180918, GP15,29,9,30,GSNIS-31   ,2,6896,14872,20181109,1518,-0.0011,-152.0038,4438,453.4,8.8034,34.6559,2,8.8031,2,20181109,1551,-0.0011,-152.0038,36.73,2,2.62,2,37.39,2,0,2,30.71,2,34.6557,2,2.603,1,0.018,1,4.661,1,38.2,3
33RR20180918, GP15,29,9,31,GSNIS-32   ,2,6896,14872,20181109,1518,-0.0011,-152.0038,4438,453.9,8.8034,34.656,2,-999,9,20181109,1551,-0.0011,-152.0038,36.63,2,2.62,2,37.32,2,0,2,-999,9,-999,9,2.603,1,0.018,1,4.661,1,39.5,3
33RR20180918, GP15,29,9,32,GSNIS-33   ,2,6896,14871,20181109,1518,-0.0011,-152.0038,4438,403.5,9.8015,34.7114,2,9.8025,2,20181109,1553,-0.0011,-152.0038,30.77,2,2.43,2,34.65,2,0,2,36.04,2,34.7115,2,2.56,1,0.017,1,4.658,1,36,2
33RR20180918, GP15,29,9,33,GSNIS-34   ,2,6896,14871,20181109,1518,-0.0011,-152.0038,4438,403,9.8031,34.7115,2,-999,9,20181109,1553,-0.0011,-152.0038,30.67,2,2.43,2,34.63,2,0,2,-999,9,-999,9,2.552,1,0.017,1,4.658,1,36.1,2
33RR20180918, GP15,29,9,34,GSNIS-35   ,2,6896,14871,20181109,1518,-0.0011,-152.0038,4438,403.1,9.8023,34.7115,2,-999,9,20181109,1553,-0.0011,-152.0038,30.77,2,2.44,2,34.6,2,0,2,-999,9,-999,9,2.546,1,0.018,1,4.657,1,36,2
33RR20180918, GP15,29,9,35,GSNIS-36   ,2,6896,14870,20181109,1518,-0.0011,-152.0038,4438,353.1,10.6132,34.76,2,10.5974,2,20181109,1555,-0.0011,-152.0038,27.84,2,2.34,2,33.25,2,0,2,32.02,2,34.7618,2,2.442,1,0.017,1,4.656,1,35.7,2
33RR20180918, GP15,29,9,36,GSNIS-1    ,2,6896,14870,20181109,1518,-0.0011,-152.0038,4438,352.9,10.574,34.7587,2,-999,9,20181109,1555,-0.0011,-152.0038,27.74,2,2.32,2,33.35,2,0,2,-999,9,-999,9,2.442,1,0.018,1,4.656,1,38.4,2
33RR20180918, GP15,29,13,1,GSNIS-2    ,3,6901,14935,20181110,917,-0.0001,-151.9862,4438,4400.8,1.3795,34.6964,3,1.3793,3,20181110,917,-0.0001,-151.9876,141.75,3,2.43,3,35.21,3,0,3,163.35,3,34.6956,3,2.166,1,0.017,1,4.674,1,165.7,3
33RR20180918, GP15,29,13,2,GSNIS-3    ,2,6901,14935,20181110,917,-0.0001,-151.9862,4438,4400.7,1.3793,34.6964,2,-999,9,20181110,917,-0.0001,-151.9876,137.74,2,2.4,2,34.72,2,0,2,-999,9,-999,9,2.166,1,0.017,1,4.676,1,164.5,2
33RR20180918, GP15,29,13,3,GSNIS-4    ,2,6901,14935,20181110,917,-0.0001,-151.9862,4438,4399.9,1.3793,34.6963,2,-999,9,20181110,917,-0.0001,-151.9876,137.74,2,2.4,2,34.71,2,0,2,-999,9,-999,9,2.166,1,0.017,1,4.676,1,167.7,2
33RR20180918, GP15,29,13,4,GSNIS-5    ,2,6901,14934,20181110,917,-0.0001,-151.9862,4438,4363.2,1.3833,34.6959,2,1.3833,2,20181110,919,-0.0001,-151.9874,138.42,2,2.4,2,34.79,2,0,2,168.9,2,34.6965,2,2.163,1,0.017,1,4.676,1,167.4,2
33RR20180918, GP15,29,13,5,GSNIS-6    ,2,6901,14934,20181110,917,-0.0001,-151.9862,4438,4363.8,1.3831,34.696,2,-999,9,20181110,919,-0.0001,-151.9874,138.13,2,2.4,2,34.74,2,0,2,-999,9,-999,9,2.163,1,0.017,1,4.677,1,170.5,2
33RR20180918, GP15,29,13,6,GSNIS-7    ,2,6901,14934,20181110,917,-0.0001,-151.9862,4438,4363.6,1.3833,34.6961,2,-999,9,20181110,920,-0.0001,-151.9874,138.32,2,2.4,2,34.79,2,0,2,-999,9,-999,9,2.163,1,0.017,1,4.676,1,165.4,2
33RR20180918, GP15,29,13,7,GSNIS-8    ,2,6901,14934,20181110,917,-0.0001,-151.9862,4438,4363.7,1.3831,34.6959,2,-999,9,20181110,920,-0.0001,-151.9874,138.91,2,2.4,2,34.91,2,0,2,-999,9,-999,9,2.163,1,0.017,1,4.677,1,164.7,2
33RR20180918, GP15,29,13,8,GSNIS-9    ,2,6901,14933,20181110,917,-0.0001,-151.9862,4438,4281.6,1.4033,34.6948,2,1.4033,2,20181110,923,-0.0001,-151.9871,140.57,2,2.42,2,34.98,2,0,2,165.28,2,34.6962,2,2.158,1,0.016,1,4.676,1,163.1,3
33RR20180918, GP15,29,13,9,GSNIS-10   ,2,6901,14933,20181110,917,-0.0001,-151.9862,4438,4281.8,1.4033,34.6948,2,-999,9,20181110,923,-0.0001,-151.9871,140.38,2,2.42,2,34.98,2,0,2,-999,9,-999,9,2.159,1,0.017,1,4.675,1,163.4,2
33RR20180918, GP15,29,13,10,GSNIS-11   ,2,6901,14933,20181110,917,-0.0001,-151.9862,4438,4281.3,1.4033,34.6948,2,-999,9,20181110,923,-0.0001,-151.9871,140.38,2,2.42,2,34.97,2,0,2,-999,9,-999,9,2.158,1,0.016,1,4.676,1,163.4,2
33RR20180918, GP15,29,13,11,GSNIS-12   ,2,6901,14932,20181110,917,-0.0001,-151.9862,4438,4062.5,1.4225,34.6926,2,1.4222,2,20181110,928,-0.0001,-151.9867,142.82,2,2.44,2,35.35,2,0,2,159.98,2,34.6934,2,2.173,1,0.017,1,4.676,1,161.3,2
33RR20180918, GP15,29,13,12,GSNIS-13   ,2,6901,14932,20181110,917,-0.0001,-151.9862,4438,4060.8,1.4223,34.6925,2,-999,9,20181110,928,-0.0001,-151.9867,143.21,2,2.43,2,35.3,2,0,2,-999,9,-999,9,2.172,1,0.016,1,4.676,1,159.8,2
33RR20180918, GP15,29,13,13,GSNIS-14   ,2,6901,14932,20181110,917,-0.0001,-151.9862,4438,4063.2,1.422,34.6927,2,-999,9,20181110,928,-0.0001,-151.9867,143.11,2,2.44,2,35.28,2,0,2,-999,9,-999,9,2.173,1,0.016,1,4.676,1,156.8,2
33RR20180918, GP15,29,13,14,GSNIS-15   ,2,6901,14932,20181110,917,-0.0001,-151.9862,4438,4061.7,1.4221,34.6926,2,-999,9,20181110,928,-0.0001,-151.9867,143.21,2,2.44,2,35.26,2,0,2,-999,9,-999,9,2.173,1,0.016,1,4.676,1,158.5,2
33RR20180918, GP15,29,13,15,GSNIS-16   ,2,6901,14931,20181110,917,-0.0001,-151.9862,4438,3650.1,1.4734,34.6876,2,1.4733,2,20181110,936,-0.0001,-151.9862,145.46,2,2.48,2,35.86,2,0,2,151.95,2,34.6885,3,2.2,1,0.016,1,4.678,1,150.9,2
33RR20180918, GP15,29,13,16,GSNIS-17   ,2,6901,14931,20181110,917,-0.0001,-151.9862,4438,3650.2,1.4734,34.6876,2,-999,9,20181110,936,-0.0001,-151.9862,145.27,2,2.48,2,35.83,2,0,2,-999,9,-999,9,2.2,1,0.016,1,4.677,1,152.9,2
33RR20180918, GP15,29,13,17,GSNIS-18   ,2,6901,14931,20181110,917,-0.0001,-151.9862,4438,3650.3,1.4735,34.6875,2,-999,9,20181110,936,-0.0001,-151.9862,145.07,2,2.49,2,35.84,2,0,2,-999,9,-999,9,2.201,1,0.017,1,4.678,1,151.1,2
33RR20180918, GP15,29,13,18,GSNIS-19   ,2,6901,14930,20181110,917,-0.0001,-151.9862,4438,3246.1,1.6116,34.6777,2,1.6114,2,20181110,944,-0.0001,-151.9862,144.88,2,2.57,2,36.56,2,0,2,140.63,2,34.6781,3,2.244,1,0.016,1,4.676,1,140.8,2
33RR20180918, GP15,29,13,19,GSNIS-20   ,2,6901,14930,20181110,917,-0.0001,-151.9862,4438,3247,1.6115,34.6777,2,-999,9,20181110,944,-0.0001,-151.9862,144.97,2,2.56,2,36.51,2,0,2,-999,9,-999,9,2.245,1,0.017,1,4.676,1,140.2,2
33RR20180918, GP15,29,13,20,GSNIS-21   ,2,6901,14929,20181110,917,-0.0001,-151.9862,4438,2836.4,1.6947,34.6712,2,1.6946,2,20181110,953,-0.0001,-151.9862,144.97,2,2.59,2,36.93,2,0,2,133.58,2,34.6722,3,2.277,1,0.017,1,4.676,1,133.8,2
33RR20180918, GP15,29,13,21,GSNIS-22   ,2,6901,14929,20181110,917,-0.0001,-151.9862,4438,2837.3,1.6949,34.6712,2,-999,9,20181110,953,-0.0001,-151.9862,144.97,2,2.6,2,36.99,2,0,2,-999,9,-999,9,2.277,1,0.017,1,4.676,1,133.1,2
33RR20180918, GP15,29,13,22,GSNIS-23   ,2,6901,14929,20181110,917,-0.0001,-151.9862,4438,2836,1.6945,34.6713,2,-999,9,20181110,953,-0.0001,-151.9862,144.97,2,2.6,2,36.99,2,0,2,-999,9,-999,9,2.277,1,0.017,1,4.676,1,133.5,2
33RR20180918, GP15,29,13,23,GSNIS-24   ,2,6901,14929,20181110,917,-0.0001,-151.9862,4438,2836.9,1.6948,34.6713,2,-999,9,20181110,953,-0.0001,-151.9862,144.88,2,2.6,2,36.98,2,0,2,-999,9,-999,9,2.278,1,0.017,1,4.676,1,132.8,2
33RR20180918, GP15,29,13,24,GSNIS-25   ,2,6901,14928,20181110,917,-0.0001,-151.9862,4438,2531.7,1.8608,34.663,2,1.8609,2,20181110,1000,-0.0001,-151.9862,145.56,2,2.67,2,37.81,2,0,2,122.02,2,34.6655,3,2.307,1,0.017,1,4.675,1,121.7,2
33RR20180918, GP15,29,13,25,GSNIS-26   ,2,6901,14928,20181110,917,-0.0001,-151.9862,4438,2531.7,1.8612,34.6629,2,-999,9,20181110,1000,-0.0001,-151.9862,145.56,2,2.67,2,37.85,2,0,2,-999,9,-999,9,2.308,1,0.017,1,4.675,1,122.6,2
33RR20180918, GP15,29,13,26,GSNIS-27   ,2,6901,14927,20181110,917,-0.0001,-151.9862,4438,2225.7,2.0387,34.6525,2,2.0384,2,20181110,1008,-0.0001,-151.9861,142.43,2,2.73,2,38.35,2,0,2,114.67,2,34.6535,3,2.355,1,0.017,1,4.675,1,114.6,2
33RR20180918, GP15,29,13,27,GSNIS-28   ,2,6901,14927,20181110,917,-0.0001,-151.9862,4438,2225.1,2.0386,34.6525,2,-999,9,20181110,1008,-0.0001,-151.9861,142.53,2,2.73,2,38.38,2,0,2,-999,9,-999,9,2.355,1,0.017,1,4.671,1,114.9,2
33RR20180918, GP15,29,13,28,GSNIS-29   ,2,6901,14927,20181110,917,-0.0001,-151.9862,4438,2226.1,2.0388,34.6525,2,-999,9,20181110,1008,-0.0001,-151.9861,142.24,2,2.73,2,38.31,2,0,2,-999,9,-999,9,2.355,1,0.017,1,4.674,1,114.9,2
33RR20180918, GP15,29,13,29,GSNIS-30   ,2,6901,14926,20181110,917,-0.0001,-151.9862,4438,2022,2.2873,34.64,2,2.2879,2,20181110,1013,-0.0001,-151.9861,138.13,2,2.79,2,38.93,2,0,2,104.73,2,34.6417,3,2.372,1,0.017,1,4.673,1,105.6,2
33RR20180918, GP15,29,13,30,GSNIS-31   ,2,6901,14926,20181110,917,-0.0001,-151.9862,4438,2021.5,2.2878,34.64,2,-999,9,20181110,1013,-0.0001,-151.9861,137.94,2,2.78,2,38.93,2,0,2,-999,9,-999,9,2.372,1,0.016,1,4.673,1,105.6,2
33RR20180918, GP15,29,13,31,GSNIS-32   ,2,6901,14925,20181110,917,-0.0001,-151.9862,4438,1818.7,2.5761,34.6248,2,2.5753,2,20181110,1018,-0.0001,-151.9861,130.8,2,2.82,2,39.22,2,0,2,99.18,2,34.6262,2,2.422,1,0.017,1,4.673,1,98.5,2
33RR20180918, GP15,29,13,32,GSNIS-33   ,3,6901,14925,20181110,917,-0.0001,-151.9862,4438,1817.9,2.5753,34.6247,3,-999,9,20181110,1018,-0.0001,-151.9861,39.98,3,1.68,3,22.21,3,0.12,3,-999,9,-999,9,2.419,1,0.017,1,4.673,1,99.1,3
33RR20180918, GP15,29,13,33,GSNIS-34   ,2,6901,14925,20181110,917,-0.0001,-151.9862,4438,1818.3,2.5757,34.6248,2,-999,9,20181110,1018,-0.0001,-151.9861,130.61,2,2.81,2,39.3,2,0,2,-999,9,-999,9,2.421,1,0.017,1,4.673,1,99.2,2
33RR20180918, GP15,29,13,34,GSNIS-35   ,2,6901,14925,20181110,917,-0.0001,-151.9862,4438,1818.2,2.5758,34.6249,2,2.5751,2,20181110,1018,-0.0001,-151.9861,130.61,2,2.81,2,39.28,2,0,2,-999,9,-999,9,2.421,1,0.017,1,4.673,1,99,2
33RR20180918, GP15,29,13,35,GSNIS-36   ,2,6901,14924,20181110,917,-0.0001,-151.9862,4438,1616,2.8508,34.6103,2,2.8506,2,20181110,1023,-0.0001,-151.9862,122.1,2,2.81,2,39.33,2,0,2,96.67,2,34.6117,2,2.446,1,0.018,1,4.673,1,96.9,2
33RR20180918, GP15,29,13,36,GSNIS-1    ,2,6901,14924,20181110,917,-0.0001,-151.9862,4438,1616.2,2.8508,34.6102,2,-999,9,20181110,1023,-0.0001,-151.9862,122.1,2,2.81,2,39.34,2,0,2,-999,9,-999,9,2.446,1,0.017,1,4.673,1,96.7,2