BOTTLE,20191212SIOCCHAMB
EXPOCODE,SECT_ID,STNNBR,CASTNO,SAMPNO,BTLNBR,BTLNBR_FLAG_W,GEOTRC_EVENTNO,GEOTRC_SAMPNO,DATE,TIME,LATITUDE,LONGITUDE,DEPTH,CTDPRS,CTDTMP,CTDSAL,CTDSAL_FLAG_W,REFTMP,REFTMP_FLAG_W,BTL_DATE,BTL_TIME,BTL_LAT,BTL_LON,SILCAT,SILCAT_FLAG_W,PHSPHT,PHSPHT_FLAG_W,NITRAT,NITRAT_FLAG_W,NITRIT,NITRIT_FLAG_W,OXYGEN,OXYGEN_FLAG_W,SALNTY,SALNTY_FLAG_W,CTDRINKO,CTDRINKO_FLAG_W,CTDFLUOR,CTDFLUOR_FLAG_W,CTDXMISS,CTDXMISS_FLAG_W,CTDOXY,CTDOXY_FLAG_W
,,,,,,,,,,,,,METERS,DBAR,ITS-90,PSS-78,,ITS-90,,,,,,UMOL/KG,,UMOL/KG,,UMOL/KG,,UMOL/KG,,UMOL/KG,,PSS-78,,VOLTS,,VOLTS,,VOLTS,,UMOL/KG,
33RR20180918, GP15,17,3,1,GSNIS-2    ,2,6739,13759,20181018,1617,24.4999,-152.0003,5346,1008.1,3.8524,34.4654,2,3.8516,2,20181018,1617,24.4999,-152.0004,113.14,2,3.08,2,42.11,2,0,2,42.7,2,34.4661,2,2.79,1,0.018,1,4.689,1,40.3,2
33RR20180918, GP15,17,3,2,GSNIS-3    ,2,6739,13759,20181018,1617,24.4999,-152.0003,5346,1007.4,3.8601,34.4653,2,-999,9,20181018,1618,24.4999,-152.0004,113.24,2,3.07,2,42.09,2,0,2,-999,9,-999,9,2.783,1,0.018,1,4.689,1,40.3,2
33RR20180918, GP15,17,3,3,GSNIS-4    ,2,6739,13759,20181018,1617,24.4999,-152.0003,5346,1008,3.8515,34.4657,2,-999,9,20181018,1618,24.4999,-152.0004,113.44,2,3.06,2,42.03,2,0,2,-999,9,-999,9,2.775,1,0.018,1,4.689,1,40.3,2
33RR20180918, GP15,17,3,4,GSNIS-5    ,2,6739,13758,20181018,1617,24.4999,-152.0003,5346,756,4.5303,34.3,3,4.5325,2,20181018,1623,24.4999,-152.0003,100.27,2,3.02,2,41.29,2,0,2,33.74,2,34.3474,3,2.618,1,0.018,1,4.689,1,24.9,3
33RR20180918, GP15,17,3,5,GSNIS-6    ,2,6739,13758,20181018,1617,24.4999,-152.0003,5346,756.8,4.5415,34.3014,2,-999,9,20181018,1624,24.4999,-152.0003,99.59,2,3.08,2,41.92,2,0,2,-999,9,-999,9,2.619,1,0.018,1,4.689,1,24.3,2
33RR20180918, GP15,17,3,6,GSNIS-7    ,2,6739,13757,20181018,1617,24.4999,-152.0003,5346,605.5,5.3389,34.1379,2,5.3432,2,20181018,1627,24.4999,-152.0003,79.48,2,2.9,2,39.25,2,0,2,39.84,2,34.1397,2,2.807,1,0.018,1,4.688,1,41,2
33RR20180918, GP15,17,3,7,GSNIS-8    ,2,6739,13756,20181018,1617,24.4999,-152.0003,5346,504.7,6.677,34.0706,3,6.6914,3,20181018,1630,24.4999,-152.0003,54.98,2,2.49,2,33.35,2,0,2,77.52,2,34.0707,3,2.95,1,0.017,1,4.687,1,78.6,2
33RR20180918, GP15,17,3,8,GSNIS-9    ,2,6739,13756,20181018,1617,24.4999,-152.0003,5346,504.6,6.6794,34.07,2,-999,9,20181018,1631,24.4999,-152.0003,55.08,2,2.49,2,33.36,2,0,2,-999,9,-999,9,2.944,1,0.017,1,4.686,1,78.7,2
33RR20180918, GP15,17,3,9,GSNIS-10   ,2,6739,13756,20181018,1617,24.4999,-152.0003,5346,504.6,6.68,34.0708,2,-999,9,20181018,1631,24.4999,-152.0003,54.88,2,2.46,2,33.22,2,0,2,-999,9,-999,9,2.937,1,0.017,1,4.686,1,78,2
33RR20180918, GP15,17,3,10,GSNIS-11   ,2,6739,13755,20181018,1617,24.4999,-152.0003,5346,404,8.6163,34.0394,2,8.6216,2,20181018,1634,24.4999,-152.0003,29.59,2,1.71,2,23.1,2,0,2,152.73,2,34.0407,2,2.504,1,0.017,1,4.687,1,151.9,2
33RR20180918, GP15,17,3,11,GSNIS-12   ,2,6739,13755,20181018,1617,24.4999,-152.0003,5346,403.6,8.6197,34.0388,2,-999,9,20181018,1634,24.4999,-152.0003,29.1,2,1.68,2,22.9,2,0,2,-999,9,-999,9,2.488,1,0.017,1,4.686,1,152.2,2
33RR20180918, GP15,17,3,12,GSNIS-13   ,3,6739,13755,20181018,1617,24.4999,-152.0003,5346,403.8,8.6149,34.0396,3,-999,9,20181018,1634,24.4999,-152.0003,26.85,3,1.58,3,21.34,3,0,3,-999,9,-999,9,2.478,1,0.017,1,4.686,1,151.9,3
33RR20180918, GP15,17,3,13,GSNIS-14   ,2,6739,13754,20181018,1617,24.4999,-152.0003,5346,303.1,11.7793,34.0432,2,11.81,2,20181018,1637,24.4999,-152.0004,10.35,2,0.97,2,11.92,2,0,2,192.45,2,34.0466,2,2.006,1,0.017,1,4.685,1,183.9,2
33RR20180918, GP15,17,3,14,GSNIS-15   ,2,6739,13754,20181018,1617,24.4999,-152.0003,5346,301.8,11.8074,34.0446,2,-999,9,20181018,1637,24.4999,-152.0004,10.16,2,0.95,2,11.83,2,0,2,-999,9,-999,9,1.996,1,0.016,1,4.685,1,183.9,2
33RR20180918, GP15,17,3,15,GSNIS-16   ,2,6739,13754,20181018,1617,24.4999,-152.0003,5346,302.5,11.8186,34.0454,2,-999,9,20181018,1637,24.4999,-152.0004,9.86,2,0.94,2,11.73,2,0,2,-999,9,-999,9,1.987,1,0.015,1,4.684,1,183.9,2
33RR20180918, GP15,17,3,16,GSNIS-17   ,2,6739,13753,20181018,1617,24.4999,-152.0003,5346,202.3,17.5696,34.6734,2,17.587,2,20181018,1640,24.4999,-152.0003,1.85,2,0.38,2,3.33,2,0.01,2,195.97,2,34.6785,2,1.666,1,0.017,1,4.678,1,186.7,2
33RR20180918, GP15,17,3,17,GSNIS-18   ,2,6739,13753,20181018,1617,24.4999,-152.0003,5346,201.7,17.5935,34.6772,2,-999,9,20181018,1640,24.4999,-152.0003,1.76,2,0.37,2,3.32,2,0.01,2,-999,9,-999,9,1.665,1,0.018,1,4.678,1,186.8,2
33RR20180918, GP15,17,3,18,GSNIS-19   ,2,6739,13753,20181018,1617,24.4999,-152.0003,5346,201.6,17.5856,34.6757,2,-999,9,20181018,1640,24.4999,-152.0003,1.56,2,0.37,2,3.33,2,0.01,2,-999,9,-999,9,1.662,1,0.018,1,4.678,1,186.8,2
33RR20180918, GP15,17,3,19,GSNIS-20   ,2,6739,13752,20181018,1617,24.4999,-152.0003,5346,136.8,20.598,35.0147,2,20.6078,2,20181018,1643,24.4999,-152.0003,0.29,2,0.24,2,0.88,2,0.05,2,192.44,2,35.0205,2,1.745,1,0.025,1,4.665,1,185.2,2
33RR20180918, GP15,17,3,20,GSNIS-21   ,2,6739,13752,20181018,1617,24.4999,-152.0003,5346,136.3,20.6011,35.0129,2,-999,9,20181018,1643,24.4999,-152.0003,0.29,2,0.24,2,0.89,2,0.05,2,-999,9,-999,9,1.751,1,0.026,1,4.664,1,185.2,2
33RR20180918, GP15,17,3,21,GSNIS-22   ,2,6739,13752,20181018,1617,24.4999,-152.0003,5346,136.7,20.599,35.0126,2,-999,9,20181018,1643,24.4999,-152.0003,0.2,2,0.23,2,0.9,2,0.05,2,-999,9,-999,9,1.758,1,0.027,1,4.665,1,184.6,2
33RR20180918, GP15,17,3,22,GSNIS-23   ,2,6739,13751,20181018,1617,24.4999,-152.0003,5346,111.1,21.7058,35.0998,2,21.6995,2,20181018,1645,24.4999,-152.0003,0,2,0.13,2,0,2,0.17,2,212.77,2,35.097,2,1.858,1,0.03,1,4.653,1,204.5,2
33RR20180918, GP15,17,3,23,GSNIS-24   ,2,6739,13751,20181018,1617,24.4999,-152.0003,5346,110.7,21.7041,35.1002,2,-999,9,20181018,1645,24.4999,-152.0003,0,2,0.13,2,0,2,0.16,2,-999,9,-999,9,1.856,1,0.032,1,4.653,1,204.5,2
33RR20180918, GP15,17,3,24,GSNIS-25   ,2,6739,13751,20181018,1617,24.4999,-152.0003,5346,111.7,21.6975,35.0998,2,-999,9,20181018,1645,24.4999,-152.0003,0,2,0.13,2,0,2,0.16,2,-999,9,-999,9,1.855,1,0.033,1,4.652,1,204.4,2
33RR20180918, GP15,17,3,25,GSNIS-26   ,2,6739,13750,20181018,1617,24.4999,-152.0003,5346,96.9,22.7069,35.0848,2,22.7342,2,20181018,1647,24.4999,-152.0003,0,2,0.1,2,0,2,0,2,219.27,2,35.086,2,1.758,1,0.042,1,4.635,1,207.8,2
33RR20180918, GP15,17,3,26,GSNIS-27   ,2,6739,13750,20181018,1617,24.4999,-152.0003,5346,96.4,22.7279,35.0845,2,-999,9,20181018,1648,24.4999,-152.0003,0,2,0.1,2,0,2,0,2,-999,9,-999,9,1.749,1,0.041,1,4.636,1,207.7,2
33RR20180918, GP15,17,3,27,GSNIS-28   ,2,6739,13750,20181018,1617,24.4999,-152.0003,5346,96.4,22.7334,35.0841,2,22.7389,2,20181018,1648,24.4999,-152.0004,0,2,0.1,2,0,2,0,2,-999,9,-999,9,1.743,1,0.043,1,4.635,1,207.7,2
33RR20180918, GP15,17,3,28,GSNIS-29   ,2,6739,13749,20181018,1617,24.4999,-152.0003,5346,81.2,23.8384,35.0351,2,23.8367,2,20181018,1649,24.4999,-152.0004,0,2,0.06,2,0,2,0,2,221.17,2,35.0398,2,1.635,1,0.028,1,4.635,1,209.1,2
33RR20180918, GP15,17,3,29,GSNIS-30   ,2,6739,13749,20181018,1617,24.4999,-152.0003,5346,80.7,23.8358,35.0353,2,-999,9,20181018,1650,24.4999,-152.0004,0,2,0.06,2,0,2,0,2,-999,9,-999,9,1.63,1,0.028,1,4.631,1,209.1,2
33RR20180918, GP15,17,3,30,GSNIS-31   ,2,6739,13749,20181018,1617,24.4999,-152.0003,5346,81,23.8341,35.0351,2,-999,9,20181018,1650,24.4999,-152.0004,0,2,0.06,2,0,2,0,2,-999,9,-999,9,1.626,1,0.027,1,4.636,1,209.1,2
33RR20180918, GP15,17,3,31,GSNIS-32   ,2,6739,13748,20181018,1617,24.4999,-152.0003,5346,41.1,25.8801,34.7423,2,25.8772,2,20181018,1652,24.4999,-152.0003,0,2,0.06,2,0,2,0,2,206.77,2,34.7414,2,1.507,1,0.019,1,4.64,1,195.7,2
33RR20180918, GP15,17,3,32,GSNIS-33   ,2,6739,13748,20181018,1617,24.4999,-152.0003,5346,40.9,25.8778,34.7423,2,-999,9,20181018,1652,24.4999,-152.0004,0,2,0.06,2,0,2,0,2,-999,9,-999,9,1.5,1,0.019,1,4.641,1,195.5,2
33RR20180918, GP15,17,3,33,GSNIS-34   ,2,6739,13748,20181018,1617,24.4999,-152.0003,5346,40.8,25.8772,34.7423,2,-999,9,20181018,1652,24.4999,-152.0003,0,2,0.06,2,0,2,0,2,-999,9,-999,9,1.492,1,0.019,1,4.641,1,195.4,2
33RR20180918, GP15,17,3,34,GSNIS-35   ,2,6739,13747,20181018,1617,24.4999,-152.0003,5346,2.6,25.8845,34.7441,2,25.8844,2,20181018,1656,24.4999,-152.0003,0,2,0.06,2,0,2,0,2,206.55,2,34.7419,2,1.328,1,0.018,1,4.64,1,195.6,2
33RR20180918, GP15,17,3,35,GSNIS-36   ,2,6739,13747,20181018,1617,24.4999,-152.0003,5346,3.2,25.8866,34.7443,2,-999,9,20181018,1656,24.4999,-152.0004,0,2,0.05,2,0,2,0,2,-999,9,-999,9,1.326,1,0.018,1,4.64,1,194.7,2
33RR20180918, GP15,17,3,36,GSNIS-1    ,2,6739,13747,20181018,1617,24.4999,-152.0003,5346,2.9,25.8857,34.7443,2,-999,9,20181018,1656,24.4999,-152.0003,0,2,0.05,2,0,2,0,2,-999,9,-999,9,1.325,1,0.018,1,4.638,1,195.4,2
33RR20180918, GP15,18,3,1,GSNIS-2    ,2,6749,13781,20181019,926,22.0004,-152.0004,5271,1007.2,4.0433,34.5037,2,4.0372,2,20181019,926,22.0004,-152.0004,108.46,2,3.04,2,42.1,2,0,2,44.8,2,34.5036,2,2.303,1,0.018,1,4.69,1,43.6,2
33RR20180918, GP15,18,3,2,GSNIS-3    ,2,6749,13781,20181019,926,22.0004,-152.0004,5271,1008.4,4.0339,34.5044,2,-999,9,20181019,926,22.0004,-152.0004,108.46,2,3.03,2,42.06,2,0,2,-999,9,-999,9,2.299,1,0.017,1,4.69,1,43.6,2
33RR20180918, GP15,18,3,3,GSNIS-4    ,2,6749,13781,20181019,926,22.0004,-152.0004,5271,1007.5,4.0408,34.5038,2,-999,9,20181019,926,22.0004,-152.0004,108.55,2,3.03,2,42.11,2,0,2,-999,9,-999,9,2.295,1,0.018,1,4.69,1,43.1,2
33RR20180918, GP15,18,3,4,GSNIS-5    ,2,6749,13780,20181019,926,22.0004,-152.0004,5271,856.4,4.4583,34.4561,2,4.4584,2,20181019,930,22.0004,-152.0004,100.45,2,3.04,2,41.99,2,0,2,36.03,2,34.4557,2,2.321,1,0.018,1,4.689,1,35.5,2
33RR20180918, GP15,18,3,5,GSNIS-6    ,2,6749,13780,20181019,926,22.0004,-152.0004,5271,857.6,4.4577,34.4562,2,-999,9,20181019,930,22.0004,-152.0004,100.26,2,3.04,2,41.79,2,0,2,-999,9,-999,9,2.321,1,0.018,1,4.689,1,35.3,2
33RR20180918, GP15,18,3,6,GSNIS-7    ,2,6749,13780,20181019,926,22.0004,-152.0004,5271,857.5,4.4586,34.4559,2,-999,9,20181019,930,22.0004,-152.0004,100.36,2,3.04,2,41.64,2,0,2,-999,9,-999,9,2.322,1,0.018,1,4.689,1,35.3,2
33RR20180918, GP15,18,3,7,GSNIS-8    ,2,6749,13779,20181019,926,22.0004,-152.0004,5271,706.6,4.8754,34.3607,2,4.875,2,20181019,934,22.0004,-152.0004,92.36,2,3.03,2,41.17,2,0,2,26.1,2,34.3564,2,2.413,1,0.018,1,4.688,1,26.9,2
33RR20180918, GP15,18,3,8,GSNIS-9    ,2,6749,13779,20181019,926,22.0004,-152.0004,5271,705.9,4.8709,34.3611,2,-999,9,20181019,934,22.0004,-152.0004,92.65,2,3.03,2,41.17,2,0,2,-999,9,-999,9,2.415,1,0.018,1,4.688,1,27.4,2
33RR20180918, GP15,18,3,9,GSNIS-10   ,2,6749,13779,20181019,926,22.0004,-152.0004,5271,706.6,4.8774,34.3596,2,-999,9,20181019,934,22.0004,-152.0004,92.46,2,3.01,2,41.18,2,0,2,-999,9,-999,9,2.418,1,0.018,1,4.688,1,26.9,2
33RR20180918, GP15,18,3,10,GSNIS-11   ,2,6749,13778,20181019,926,22.0004,-152.0004,5271,605.2,5.2442,34.2231,2,5.2457,2,20181019,937,22.0004,-152.0004,83.38,2,2.93,2,39.94,2,0,2,30.47,2,34.2234,2,2.595,1,0.018,1,4.687,1,32.9,2
33RR20180918, GP15,18,3,11,GSNIS-12   ,2,6749,13778,20181019,926,22.0004,-152.0004,5271,605.5,5.2451,34.2229,2,-999,9,20181019,937,22.0004,-152.0004,82.9,2,2.92,2,39.91,2,0,2,-999,9,-999,9,2.606,1,0.018,1,4.687,1,32.3,2
33RR20180918, GP15,18,3,12,GSNIS-13   ,2,6749,13778,20181019,926,22.0004,-152.0004,5271,605.8,5.2448,34.2227,2,-999,9,20181019,937,22.0004,-152.0004,83.19,2,2.92,2,39.94,2,0,2,-999,9,-999,9,2.617,1,0.018,1,4.688,1,31.7,2
33RR20180918, GP15,18,3,13,GSNIS-14   ,2,6749,13777,20181019,926,22.0004,-152.0004,5271,454.2,6.6745,34.0443,2,6.6701,2,20181019,941,22.0004,-152.0004,52.63,2,2.3,2,32.14,2,0,2,93.86,2,34.0464,2,2.833,1,0.017,1,4.687,1,95.8,2
33RR20180918, GP15,18,3,14,GSNIS-15   ,2,6749,13777,20181019,926,22.0004,-152.0004,5271,453.6,6.6657,34.0461,2,-999,9,20181019,941,22.0004,-152.0004,52.54,2,2.29,2,32.1,2,0,2,-999,9,-999,9,2.822,1,0.017,1,4.686,1,97.2,2
33RR20180918, GP15,18,3,15,GSNIS-16   ,2,6749,13777,20181019,926,22.0004,-152.0004,5271,454.6,6.6676,34.0455,2,-999,9,20181019,941,22.0004,-152.0004,52.63,2,2.29,2,32.14,2,0,2,-999,9,-999,9,2.811,1,0.017,1,4.686,1,97.2,2
33RR20180918, GP15,18,3,16,GSNIS-17   ,2,6749,13776,20181019,926,22.0004,-152.0004,5271,302.6,10.6634,34.0855,3,10.6852,2,20181019,945,22.0004,-152.0004,14.26,2,1.02,2,14.75,2,0,2,195.27,2,34.0891,3,2.176,1,0.016,1,4.686,1,193.5,2
33RR20180918, GP15,18,3,17,GSNIS-18   ,2,6749,13776,20181019,926,22.0004,-152.0004,5271,302.6,10.659,34.0872,2,-999,9,20181019,945,22.0004,-152.0004,14.06,2,1.02,2,14.62,2,0,2,-999,9,-999,9,2.155,1,0.016,1,4.687,1,193.2,2
33RR20180918, GP15,18,3,18,GSNIS-19   ,2,6749,13776,20181019,926,22.0004,-152.0004,5271,302.3,10.7053,34.0874,2,-999,9,20181019,945,22.0004,-152.0004,13.96,2,1.01,2,14.62,2,0,2,-999,9,-999,9,2.135,1,0.016,1,4.686,1,194.2,2
33RR20180918, GP15,18,3,19,GSNIS-20   ,2,6749,13775,20181019,926,22.0004,-152.0004,5271,201.9,16.8825,34.6196,2,16.8727,2,20181019,948,22.0004,-152.0004,1.85,2,0.31,2,3.92,2,0.01,2,197.14,2,34.6225,2,1.636,1,0.017,1,4.679,1,196.3,2
33RR20180918, GP15,18,3,20,GSNIS-21   ,2,6749,13775,20181019,926,22.0004,-152.0004,5271,201.5,16.876,34.6204,2,-999,9,20181019,948,22.0004,-152.0004,1.95,2,0.31,2,3.91,2,0.01,2,-999,9,-999,9,1.635,1,0.018,1,4.68,1,196.2,2
33RR20180918, GP15,18,3,21,GSNIS-22   ,2,6749,13775,20181019,926,22.0004,-152.0004,5271,201.5,16.8829,34.6214,2,-999,9,20181019,948,22.0004,-152.0004,1.56,2,0.32,2,3.91,2,0.01,2,-999,9,-999,9,1.634,1,0.017,1,4.678,1,196.3,2
33RR20180918, GP15,18,3,22,GSNIS-23   ,2,6749,13774,20181019,926,22.0004,-152.0004,5271,151.2,19.7866,34.982,2,19.7892,2,20181019,951,22.0004,-152.0004,0.49,2,0.2,2,2.05,2,0.03,2,192.47,2,34.9831,2,1.774,1,0.021,1,4.671,1,191.1,2
33RR20180918, GP15,18,3,23,GSNIS-24   ,2,6749,13774,20181019,926,22.0004,-152.0004,5271,151.1,19.7892,34.9811,2,-999,9,20181019,951,22.0004,-152.0004,0.59,2,0.2,2,2.06,2,0.03,2,-999,9,-999,9,1.78,1,0.022,1,4.67,1,191.2,2
33RR20180918, GP15,18,3,24,GSNIS-25   ,2,6749,13774,20181019,926,22.0004,-152.0004,5271,151.5,19.7953,34.9794,2,-999,9,20181019,951,22.0004,-152.0004,0.39,2,0.2,2,2.02,2,0.03,2,-999,9,-999,9,1.786,1,0.022,1,4.671,1,191,2
33RR20180918, GP15,18,3,25,GSNIS-26   ,2,6749,13773,20181019,926,22.0004,-152.0004,5271,131.6,20.9831,35.0632,2,20.9772,2,20181019,953,22.0004,-152.0004,0.1,2,0.15,2,0.87,2,0.06,2,196.19,2,35.0561,2,1.923,1,0.03,1,4.66,1,202.3,3
33RR20180918, GP15,18,3,26,GSNIS-27   ,2,6749,13773,20181019,926,22.0004,-152.0004,5271,130.8,20.9829,35.0677,2,-999,9,20181019,953,22.0004,-152.0004,0.2,2,0.16,2,0.87,2,0.06,2,-999,9,-999,9,1.92,1,0.03,1,4.66,1,203.2,3
33RR20180918, GP15,18,3,27,GSNIS-28   ,2,6749,13773,20181019,926,22.0004,-152.0004,5271,131.6,20.9688,35.0587,2,-999,9,20181019,953,22.0004,-152.0004,0,2,0.15,2,0.78,2,0.06,2,-999,9,-999,9,1.917,1,0.03,1,4.66,1,203.2,3
33RR20180918, GP15,18,3,28,GSNIS-29   ,2,6749,13772,20181019,926,22.0004,-152.0004,5271,111.3,21.746,35.1252,2,21.7446,2,20181019,954,22.0004,-152.0004,0,2,0.07,2,0,2,0.05,2,208.7,2,35.1254,2,1.861,1,0.032,1,4.656,1,211.6,2
33RR20180918, GP15,18,3,29,GSNIS-30   ,2,6749,13772,20181019,926,22.0004,-152.0004,5271,111.4,21.7462,35.1255,2,-999,9,20181019,954,22.0004,-152.0004,0,2,0.06,2,0,2,0.05,2,-999,9,-999,9,1.86,1,0.033,1,4.655,1,211.5,2
33RR20180918, GP15,18,3,30,GSNIS-31   ,2,6749,13772,20181019,926,22.0004,-152.0004,5271,111.4,21.7449,35.1256,2,-999,9,20181019,955,22.0004,-152.0004,0,2,0.06,2,0,2,0.05,2,-999,9,-999,9,1.857,1,0.034,1,4.655,1,211.4,2
33RR20180918, GP15,18,3,31,GSNIS-32   ,2,6749,13771,20181019,926,22.0004,-152.0004,5271,81.3,23.5303,35.0945,2,23.5443,2,20181019,957,22.0004,-152.0004,0,2,0,2,0,2,0,2,226.44,2,35.0927,2,1.738,1,0.026,1,4.639,1,225.9,2
33RR20180918, GP15,18,3,32,GSNIS-33   ,2,6749,13771,20181019,926,22.0004,-152.0004,5271,81.1,23.5519,35.0931,2,-999,9,20181019,957,22.0004,-152.0004,0,2,0,2,0,2,0,2,-999,9,-999,9,1.733,1,0.027,1,4.64,1,227.5,2
33RR20180918, GP15,18,3,33,GSNIS-34   ,2,6749,13771,20181019,926,22.0004,-152.0004,5271,80.6,23.5511,35.0937,2,-999,9,20181019,957,22.0004,-152.0004,0,2,0,2,0,2,0,2,-999,9,-999,9,1.727,1,0.025,1,4.64,1,227.1,2
33RR20180918, GP15,18,3,34,GSNIS-35   ,2,6749,13770,20181019,926,22.0004,-152.0004,5271,40.9,26.9073,34.7191,2,26.9046,2,20181019,959,22.0004,-152.0004,0,2,0.07,2,0,2,0,2,203.72,2,34.7166,2,1.533,1,0.019,1,4.632,1,202.5,2
33RR20180918, GP15,18,3,35,GSNIS-36   ,2,6749,13770,20181019,926,22.0004,-152.0004,5271,41,26.9035,34.719,2,-999,9,20181019,1000,22.0004,-152.0004,0,2,0.06,2,0,2,0,2,-999,9,-999,9,1.52,1,0.019,1,4.631,1,203.3,2
33RR20180918, GP15,18,3,36,GSNIS-1    ,2,6756,13770,20181019,926,22.0004,-152.0004,5271,41.4,26.906,34.7187,2,-999,9,20181019,1000,22.0004,-152.0004,0,2,0.06,2,0,2,0,2,-999,9,-999,9,1.514,1,0.019,1,4.631,1,203.1,2