BOTTLE,20191212SIOCCHAMB
EXPOCODE,SECT_ID,STNNBR,CASTNO,SAMPNO,BTLNBR,BTLNBR_FLAG_W,GEOTRC_EVENTNO,GEOTRC_SAMPNO,DATE,TIME,LATITUDE,LONGITUDE,DEPTH,CTDPRS,CTDTMP,CTDSAL,CTDSAL_FLAG_W,REFTMP,REFTMP_FLAG_W,BTL_DATE,BTL_TIME,BTL_LAT,BTL_LON,SILCAT,SILCAT_FLAG_W,PHSPHT,PHSPHT_FLAG_W,NITRAT,NITRAT_FLAG_W,NITRIT,NITRIT_FLAG_W,OXYGEN,OXYGEN_FLAG_W,SALNTY,SALNTY_FLAG_W,CTDRINKO,CTDRINKO_FLAG_W,CTDFLUOR,CTDFLUOR_FLAG_W,CTDXMISS,CTDXMISS_FLAG_W,CTDOXY,CTDOXY_FLAG_W
,,,,,,,,,,,,,METERS,DBAR,ITS-90,PSS-78,,ITS-90,,,,,,UMOL/KG,,UMOL/KG,,UMOL/KG,,UMOL/KG,,UMOL/KG,,PSS-78,,VOLTS,,VOLTS,,VOLTS,,UMOL/KG,
33RR20180918, GP15,8,3,1,GSNIS-1    ,2,6597,12865,20181004,1218,47.0001,-151.9996,5237,403.8,4.1759,33.9377,2,4.1745,2,20181004,1218,47.0001,-151.9996,84.38,2,2.8,2,39.8,2,0,2,72.32,2,33.936,2,1.952,1,0.018,1,4.691,1,72.5,2
33RR20180918, GP15,8,3,2,GSNIS-2    ,2,6597,12865,20181004,1218,47.0001,-151.9996,5237,403.2,4.1742,33.938,2,-999,9,20181004,1218,47.0001,-151.9996,84.57,2,2.8,2,39.87,2,0,2,-999,9,-999,9,1.952,1,0.018,1,4.691,1,72.1,2
33RR20180918, GP15,8,3,3,GSNIS-3    ,2,6597,12865,20181004,1218,47.0001,-151.9996,5237,403.9,4.1759,33.9377,2,-999,9,20181004,1218,47.0001,-151.9996,84.57,2,2.79,2,39.82,2,0,2,-999,9,-999,9,1.961,1,0.018,1,4.691,1,72.6,2
33RR20180918, GP15,8,3,4,GSNIS-4    ,2,6597,12865,20181004,1218,47.0001,-151.9996,5237,403.1,4.1762,33.9373,2,-999,9,20181004,1218,47.0001,-151.9996,84.96,2,2.79,2,39.82,2,0,2,-999,9,-999,9,1.961,1,0.018,1,4.692,1,72.5,2
33RR20180918, GP15,8,3,5,GSNIS-5    ,2,6597,12864,20181004,1218,47.0001,-151.9996,5237,302.1,4.4234,33.8201,2,4.4255,2,20181004,1221,47.0001,-151.9996,68.37,2,2.53,2,35.74,2,0.01,2,113.54,2,33.8195,2,1.97,1,0.018,1,4.691,1,116.2,2
33RR20180918, GP15,8,3,6,GSNIS-6    ,2,6597,12864,20181004,1218,47.0001,-151.9996,5237,303.7,4.4285,33.8169,2,-999,9,20181004,1221,47.0001,-151.9996,68.17,2,2.52,2,35.7,2,0.01,2,-999,9,-999,9,1.973,1,0.018,1,4.692,1,117.1,2
33RR20180918, GP15,8,3,7,GSNIS-7    ,2,6597,12864,20181004,1218,47.0001,-151.9996,5237,301.9,4.4252,33.818,2,-999,9,20181004,1221,47.0001,-151.9996,67.88,2,2.51,2,35.64,2,0.01,2,-999,9,-999,9,1.976,1,0.018,1,4.692,1,115.7,2
33RR20180918, GP15,8,3,8,GSNIS-8    ,2,6597,12864,20181004,1218,47.0001,-151.9996,5237,303.5,4.428,33.8169,2,4.4282,2,20181004,1221,47.0001,-151.9996,67.88,2,2.5,2,35.59,2,0.01,2,-999,9,-999,9,1.98,1,0.018,1,4.692,1,116.5,2
33RR20180918, GP15,8,3,9,GSNIS-9    ,2,6597,12863,20181004,1218,47.0001,-151.9996,5237,200.7,5.257,33.6961,2,5.2613,2,20181004,1224,47.0001,-151.9996,47.28,2,2.01,2,28.19,2,0.01,2,176.36,2,33.696,2,2.146,1,0.018,1,4.682,1,175.9,2
33RR20180918, GP15,8,3,10,GSNIS-10   ,2,6597,12863,20181004,1218,47.0001,-151.9996,5237,203.1,5.2676,33.6924,2,-999,9,20181004,1224,47.0001,-151.9996,47.37,2,2.02,2,28.21,2,0.01,2,-999,9,-999,9,2.143,1,0.017,1,4.683,1,182.9,2
33RR20180918, GP15,8,3,11,GSNIS-11   ,2,6597,12863,20181004,1218,47.0001,-151.9996,5237,200.9,5.2653,33.6939,2,-999,9,20181004,1225,47.0001,-151.9996,47.28,2,2.02,2,28.15,2,0.01,2,-999,9,-999,9,2.139,1,0.018,1,4.682,1,182.7,2
33RR20180918, GP15,8,3,12,GSNIS-12   ,2,6597,12863,20181004,1218,47.0001,-151.9996,5237,202.1,5.2565,33.6991,2,-999,9,20181004,1225,47.0001,-151.9996,47.37,2,2.04,2,28.16,2,0.01,2,-999,9,-999,9,2.136,1,0.018,1,4.682,1,180,2
33RR20180918, GP15,8,3,13,GSNIS-13   ,2,6597,12862,20181004,1218,47.0001,-151.9996,5237,151.2,5.2053,33.2665,2,5.1971,2,20181004,1227,47.0001,-151.9996,31.85,2,1.76,2,22.36,2,0.02,2,246.57,2,33.2867,2,2.006,1,0.017,1,4.68,1,249.4,2
33RR20180918, GP15,8,3,14,GSNIS-14   ,2,6597,12862,20181004,1218,47.0001,-151.9996,5237,150.6,5.2204,33.2649,2,-999,9,20181004,1227,47.0001,-151.9996,31.46,2,1.73,2,22.19,2,0.02,2,-999,9,-999,9,1.983,1,0.017,1,4.681,1,247.7,2
33RR20180918, GP15,8,3,15,GSNIS-15   ,2,6597,12862,20181004,1218,47.0001,-151.9996,5237,151.9,5.1751,33.2657,2,-999,9,20181004,1227,47.0001,-151.9996,31.17,2,1.71,2,22.05,2,0.02,2,-999,9,-999,9,1.959,1,0.018,1,4.674,1,248.1,2
33RR20180918, GP15,8,3,16,GSNIS-16   ,2,6597,12861,20181004,1218,47.0001,-151.9996,5237,116.6,6.1191,32.8479,2,6.1171,2,20181004,1229,47.0001,-151.9996,20.23,2,1.48,2,17.23,2,0.03,2,280.71,2,32.8436,2,1.704,1,0.018,1,4.679,1,279.5,2
33RR20180918, GP15,8,3,17,GSNIS-17   ,2,6597,12861,20181004,1218,47.0001,-151.9996,5237,115,6.122,32.8513,2,-999,9,20181004,1229,47.0001,-151.9996,20.33,2,1.49,2,17.2,2,0.03,2,-999,9,-999,9,1.698,1,0.018,1,4.678,1,278.5,2
33RR20180918, GP15,8,3,18,GSNIS-18   ,2,6597,12860,20181004,1218,47.0001,-151.9996,5237,91.9,6.356,32.6701,2,6.37,2,20181004,1231,47.0001,-151.9996,18.67,2,1.48,2,16.42,2,0.03,2,289.75,2,32.6758,2,1.61,1,0.02,1,4.676,1,285.7,2
33RR20180918, GP15,8,3,19,GSNIS-19   ,2,6597,12860,20181004,1218,47.0001,-151.9996,5237,90.9,6.3633,32.6719,2,-999,9,20181004,1231,47.0001,-151.9996,18.77,2,1.44,2,16.37,2,0.03,2,-999,9,-999,9,1.606,1,0.02,1,4.676,1,286.2,2
33RR20180918, GP15,8,3,20,GSNIS-20   ,2,6597,12860,20181004,1218,47.0001,-151.9996,5237,90.3,6.3782,32.6722,2,-999,9,20181004,1231,47.0001,-151.9996,18.77,2,1.44,2,16.34,2,0.03,2,-999,9,-999,9,1.603,1,0.02,1,4.676,1,286.4,2
33RR20180918, GP15,8,3,21,GSNIS-21   ,2,6597,12859,20181004,1218,47.0001,-151.9996,5237,76.6,6.9324,32.6732,2,6.9371,2,20181004,1233,47.0001,-151.9996,16.81,2,1.39,2,15.48,2,0.03,2,285.49,2,32.6777,2,1.572,1,0.027,1,4.671,1,282.3,2
33RR20180918, GP15,8,3,22,GSNIS-22   ,2,6597,12859,20181004,1218,47.0001,-151.9996,5237,75.9,6.9361,32.6759,2,-999,9,20181004,1233,47.0001,-151.9996,16.72,2,1.39,2,15.51,2,0.03,2,-999,9,-999,9,1.571,1,0.027,1,4.67,1,282.6,2
33RR20180918, GP15,8,3,23,GSNIS-23   ,2,6597,12859,20181004,1218,47.0001,-151.9996,5237,75.1,6.9416,32.6765,2,-999,9,20181004,1233,47.0001,-151.9996,16.72,2,1.39,2,15.48,2,0.03,2,-999,9,-999,9,1.569,1,0.025,1,4.67,1,283,2
33RR20180918, GP15,8,3,24,GSNIS-24   ,2,6597,12858,20181004,1218,47.0001,-151.9996,5237,66.1,7.3878,32.6546,2,7.3896,2,20181004,1235,47.0001,-151.9996,16.81,2,1.38,2,14.49,2,0.87,2,284.13,2,32.656,2,1.558,1,0.033,1,4.659,1,283.2,2
33RR20180918, GP15,8,3,25,GSNIS-25   ,2,6597,12858,20181004,1218,47.0001,-151.9996,5237,66.4,7.3916,32.6548,2,-999,9,20181004,1235,47.0001,-151.9996,16.81,2,1.39,2,14.52,2,0.83,2,-999,9,-999,9,1.557,1,0.032,1,4.659,1,282.1,2
33RR20180918, GP15,8,3,26,GSNIS-26   ,2,6597,12858,20181004,1218,47.0001,-151.9996,5237,65.1,7.3927,32.6549,2,-999,9,20181004,1235,47.0001,-151.9996,16.81,2,1.38,2,14.44,2,0.88,2,-999,9,-999,9,1.557,1,0.032,1,4.657,1,281.5,2
33RR20180918, GP15,8,3,27,GSNIS-27   ,2,6597,12857,20181004,1218,47.0001,-151.9996,5237,56.1,8.2901,32.6788,2,8.3106,2,20181004,1236,47.0001,-151.9996,14.86,2,1.26,2,11.41,2,0.55,2,284.44,2,32.6579,2,1.544,1,0.05,1,4.636,1,286,2
33RR20180918, GP15,8,3,28,GSNIS-28   ,2,6597,12857,20181004,1218,47.0001,-151.9996,5237,55.6,8.2759,32.6762,2,-999,9,20181004,1236,47.0001,-151.9996,14.96,2,1.27,2,11.46,2,0.5,2,-999,9,-999,9,1.544,1,0.047,1,4.635,1,286,2
33RR20180918, GP15,8,3,29,GSNIS-29   ,2,6597,12856,20181004,1218,47.0001,-151.9996,5237,44.9,8.7498,32.617,2,8.7833,2,20181004,1238,47.0001,-151.9996,13.59,2,1.23,2,10.97,2,0.14,2,287.07,2,32.6221,2,1.522,1,0.081,1,4.599,1,292,3
33RR20180918, GP15,8,3,30,GSNIS-30   ,2,6597,12856,20181004,1218,47.0001,-151.9996,5237,46.6,8.7365,32.6184,2,-999,9,20181004,1238,47.0001,-151.9996,13.29,2,1.22,2,10.87,2,0.13,2,-999,9,-999,9,1.521,1,0.079,1,4.604,1,292.7,3
33RR20180918, GP15,8,3,31,GSNIS-31   ,2,6597,12856,20181004,1218,47.0001,-151.9996,5237,45.4,8.8238,32.6159,2,-999,9,20181004,1238,47.0001,-151.9996,13.29,2,1.23,2,10.88,2,0.14,2,-999,9,-999,9,1.52,1,0.071,1,4.598,1,293.5,3
33RR20180918, GP15,8,3,32,GSNIS-32   ,2,6597,12855,20181004,1218,47.0001,-151.9996,5237,36.7,9.1479,32.593,3,9.3832,3,20181004,1240,47.0001,-151.9996,11.54,2,1.18,2,10.45,2,0.12,2,291.42,2,32.6105,3,1.507,1,0.108,1,4.549,1,293.4,2
33RR20180918, GP15,8,3,33,GSNIS-33   ,2,6597,12855,20181004,1218,47.0001,-151.9996,5237,34.4,9.3337,32.5775,2,-999,9,20181004,1240,47.0001,-151.9996,10.66,2,1.18,2,10.46,2,0.12,2,-999,9,-999,9,1.506,1,0.125,1,4.514,1,305.4,2
33RR20180918, GP15,8,3,34,GSNIS-34   ,2,6597,12854,20181004,1218,47.0001,-151.9996,5237,28,15.0808,32.2669,2,15.084,2,20181004,1241,47.0001,-151.9996,0,2,0.72,2,4.72,2,0.11,2,257.66,2,32.2741,2,1.419,1,0.13,1,4.35,1,257.4,2
33RR20180918, GP15,8,3,35,GSNIS-35   ,2,6597,12854,20181004,1218,47.0001,-151.9996,5237,29.3,15.087,32.266,2,-999,9,20181004,1241,47.0001,-151.9996,0,2,0.71,2,4.71,2,0.11,2,-999,9,-999,9,1.418,1,0.131,1,4.406,1,257.5,2
33RR20180918, GP15,8,3,36,GSNIS-36   ,2,6597,12854,20181004,1218,47.0001,-151.9996,5237,28.2,15.0835,32.2675,2,-999,9,20181004,1241,47.0001,-151.9996,0,2,0.7,2,4.7,2,0.11,2,-999,9,-999,9,1.415,1,0.131,1,4.405,1,257.3,2
33RR20180918, GP15,8,5,1,GSNIS-1    ,2,6600,12913,20181004,1913,47.0001,-151.9996,5237,404.4,4.1844,33.9375,2,4.1844,2,20181004,1913,47.0001,-151.9996,84.77,2,2.82,2,39.82,2,0,2,71.86,2,33.9375,2,2.263,1,0.018,1,4.693,1,72,2
33RR20180918, GP15,8,5,2,GSNIS-2    ,2,6600,12913,20181004,1913,47.0001,-151.9996,5237,404.2,4.1849,33.9369,2,-999,9,20181004,1913,47.0001,-151.9996,84.67,2,2.83,2,39.83,2,0,2,-999,9,-999,9,2.272,1,0.018,1,4.692,1,70.6,2
33RR20180918, GP15,8,5,3,GSNIS-3    ,2,6600,12913,20181004,1913,47.0001,-151.9996,5237,405.4,4.1877,33.939,2,-999,9,20181004,1913,47.0001,-151.9996,85.06,2,2.82,2,39.76,2,0,2,-999,9,-999,9,2.282,1,0.018,1,4.693,1,70.5,2
33RR20180918, GP15,8,5,4,GSNIS-4    ,2,6600,12912,20181004,1913,47.0001,-151.9996,5237,303.7,4.4655,33.8236,2,4.464,2,20181004,1916,47.0001,-151.9996,68.08,2,2.54,2,35.47,2,0,2,114.38,2,33.8238,2,2.522,1,0.018,1,4.694,1,114.9,2
33RR20180918, GP15,8,5,5,GSNIS-5    ,2,6600,12912,20181004,1913,47.0001,-151.9996,5237,302.4,4.4659,33.8232,2,-999,9,20181004,1916,47.0001,-151.9996,68.27,2,2.54,2,35.55,2,0,2,-999,9,-999,9,2.52,1,0.018,1,4.694,1,114.8,2
33RR20180918, GP15,8,5,6,GSNIS-6    ,2,6600,12912,20181004,1913,47.0001,-151.9996,5237,304.7,4.4613,33.8248,2,-999,9,20181004,1916,47.0001,-151.9996,68.37,2,2.54,2,35.56,2,0,2,-999,9,-999,9,2.519,1,0.018,1,4.692,1,114.5,2
33RR20180918, GP15,8,5,7,GSNIS-7    ,2,6600,12911,20181004,1913,47.0001,-151.9996,5237,254,4.8255,33.7834,2,4.8288,2,20181004,1918,47.0001,-151.9996,59.29,2,2.33,2,32.51,2,0,2,139.15,2,33.7853,2,2.368,1,0.018,1,4.691,1,138.9,2
33RR20180918, GP15,8,5,8,GSNIS-8    ,2,6600,12911,20181004,1913,47.0001,-151.9996,5237,252.2,4.836,33.7813,2,-999,9,20181004,1918,47.0001,-151.9996,58.9,2,2.31,2,32.44,2,0,2,-999,9,-999,9,2.36,1,0.018,1,4.69,1,138.7,2
33RR20180918, GP15,8,5,9,GSNIS-9    ,2,6600,12911,20181004,1913,47.0001,-151.9996,5237,252.3,4.8296,33.7829,2,-999,9,20181004,1918,47.0001,-151.9996,58.99,2,2.31,2,32.4,2,0,2,-999,9,-999,9,2.352,1,0.018,1,4.69,1,142.5,2
33RR20180918, GP15,8,5,10,GSNIS-10   ,2,6600,12910,20181004,1913,47.0001,-151.9996,5237,201.7,5.222,33.7101,2,5.2232,2,20181004,1921,47.0001,-151.9996,48.74,2,2.07,2,28.56,2,0.01,2,171.44,2,33.7138,2,2.173,1,0.017,1,4.684,1,172.9,2
33RR20180918, GP15,8,5,11,GSNIS-11   ,2,6600,12910,20181004,1913,47.0001,-151.9996,5237,202,5.2225,33.7103,2,-999,9,20181004,1921,47.0001,-151.9996,48.94,2,2.07,2,28.68,2,0.01,2,-999,9,-999,9,2.166,1,0.017,1,4.685,1,172.7,2
33RR20180918, GP15,8,5,12,GSNIS-12   ,2,6600,12910,20181004,1913,47.0001,-151.9996,5237,202.4,5.2252,33.71,2,-999,9,20181004,1921,47.0001,-151.9996,48.74,2,2.07,2,28.59,2,0.01,2,-999,9,-999,9,2.159,1,0.018,1,4.684,1,173.3,2
33RR20180918, GP15,8,5,13,GSNIS-13   ,2,6600,12909,20181004,1913,47.0001,-151.9996,5237,152.5,5.2617,33.2702,3,5.281,2,20181004,1923,47.0001,-151.9995,31.46,2,1.69,2,22.04,2,0.01,2,246.84,2,33.2938,3,1.974,1,0.017,1,4.682,1,246.1,2
33RR20180918, GP15,8,5,14,GSNIS-14   ,2,6600,12909,20181004,1913,47.0001,-151.9996,5237,151.3,5.2647,33.2702,2,-999,9,20181004,1923,47.0001,-151.9996,30.39,2,1.67,2,21.58,2,0.01,2,-999,9,-999,9,1.96,1,0.017,1,4.682,1,249.8,2
33RR20180918, GP15,8,5,15,GSNIS-15   ,2,6600,12909,20181004,1913,47.0001,-151.9996,5237,152.6,5.2822,33.2637,2,-999,9,20181004,1923,47.0001,-151.9996,30.58,2,1.68,2,21.7,2,0.01,2,-999,9,-999,9,1.948,1,0.017,1,4.681,1,250.8,2
33RR20180918, GP15,8,5,16,GSNIS-16   ,2,6600,12908,20181004,1913,47.0001,-151.9996,5237,119.7,6.0135,32.7512,2,6.0197,2,20181004,1926,47.0001,-151.9996,20.62,2,1.48,2,17.22,2,0.03,2,286.43,2,32.7538,2,1.698,1,0.018,1,4.679,1,283.8,2
33RR20180918, GP15,8,5,17,GSNIS-17   ,2,6600,12908,20181004,1913,47.0001,-151.9996,5237,118.7,6.0143,32.7507,2,-999,9,20181004,1926,47.0001,-151.9996,20.62,2,1.48,2,17.25,2,0.03,2,-999,9,-999,9,1.689,1,0.018,1,4.678,1,285,2
33RR20180918, GP15,8,5,18,GSNIS-18   ,2,6600,12907,20181004,1913,47.0001,-151.9996,5237,95.8,6.3884,32.6735,2,6.3949,2,20181004,1928,47.0001,-151.9996,18.67,2,1.44,2,16.3,2,0.03,2,290.58,2,32.6769,2,1.6,1,0.021,1,4.67,1,286.8,2
33RR20180918, GP15,8,5,19,GSNIS-19   ,2,6600,12907,20181004,1913,47.0001,-151.9996,5237,93.5,6.3935,32.6742,2,-999,9,20181004,1928,47.0001,-151.9996,18.77,2,1.43,2,16.25,2,0.03,2,-999,9,-999,9,1.597,1,0.02,1,4.676,1,286.1,2
33RR20180918, GP15,8,5,20,GSNIS-20   ,2,6600,12907,20181004,1913,47.0001,-151.9996,5237,94.7,6.398,32.6743,2,-999,9,20181004,1928,47.0001,-151.9996,18.67,2,1.44,2,16.3,2,0.03,2,-999,9,-999,9,1.595,1,0.02,1,4.677,1,286.8,2
33RR20180918, GP15,8,5,21,GSNIS-21   ,2,6600,12871,20181004,1913,47.0001,-151.9996,5237,69.4,6.9422,32.671,2,6.9486,2,20181004,1930,47.0001,-151.9996,16.81,2,1.38,2,15.5,2,0.03,2,285.1,2,32.6721,2,1.558,1,0.027,1,4.668,1,283.9,2
33RR20180918, GP15,8,5,22,GSNIS-22   ,2,6600,12871,20181004,1913,47.0001,-151.9996,5237,69.4,6.9539,32.6714,2,-999,9,20181004,1930,47.0001,-151.9996,16.72,2,1.39,2,15.42,2,0.03,2,-999,9,-999,9,1.558,1,0.026,1,4.668,1,283.4,2
33RR20180918, GP15,8,5,23,GSNIS-23   ,2,6600,12871,20181004,1913,47.0001,-151.9996,5237,69.5,6.9495,32.6726,2,-999,9,20181004,1930,47.0001,-151.9996,16.81,2,1.37,2,15.47,2,0.03,2,-999,9,-999,9,1.557,1,0.025,1,4.668,1,283.4,2
33RR20180918, GP15,8,5,24,GSNIS-24   ,2,6600,12870,20181004,1913,47.0001,-151.9996,5237,59.6,7.8966,32.712,2,7.9028,2,20181004,1932,47.0001,-151.9996,14.76,2,1.25,2,12.51,2,0.97,2,280.67,2,32.7164,2,1.539,1,0.034,1,4.647,1,284.5,2
33RR20180918, GP15,8,5,25,GSNIS-25   ,2,6600,12870,20181004,1913,47.0001,-151.9996,5237,59.6,7.8988,32.7155,2,-999,9,20181004,1932,47.0001,-151.9996,14.66,2,1.24,2,12.48,2,0.99,2,-999,9,-999,9,1.538,1,0.036,1,4.648,1,283.6,2
33RR20180918, GP15,8,5,26,GSNIS-26   ,2,6600,12870,20181004,1913,47.0001,-151.9996,5237,59.7,7.9111,32.715,2,-999,9,20181004,1932,47.0001,-151.9996,14.86,2,1.25,2,12.55,2,0.96,2,-999,9,-999,9,1.537,1,0.035,1,4.642,1,283.7,2
33RR20180918, GP15,8,5,27,GSNIS-27   ,2,6600,12869,20181004,1913,47.0001,-151.9996,5237,49.4,8.3306,32.6775,2,8.3289,2,20181004,1934,47.0001,-151.9996,14.37,2,1.21,2,10.81,2,0.58,2,283.54,2,32.6841,2,1.524,1,0.048,1,4.637,1,285.9,2
33RR20180918, GP15,8,5,28,GSNIS-28   ,5,6600,12869,20181004,1913,47.0001,-151.9996,5237,50.2,8.3204,32.6689,3,-999,9,20181004,1934,47.0001,-151.9996,-999,9,-999,9,-999,9,-999,9,-999,9,-999,9,1.524,1,0.052,1,4.636,1,288.1,3
33RR20180918, GP15,8,5,29,GSNIS-29   ,2,6600,12869,20181004,1913,47.0001,-151.9996,5237,48.8,8.3358,32.6744,2,-999,9,20181004,1934,47.0001,-151.9996,14.37,2,1.22,2,10.81,2,0.56,2,-999,9,-999,9,1.524,1,0.05,1,4.636,1,286.9,2
33RR20180918, GP15,8,5,30,GSNIS-30   ,2,6600,12868,20181004,1913,47.0001,-151.9996,5237,41.3,8.6277,32.599,2,8.7638,2,20181004,1936,47.0001,-151.9996,12.22,2,1.25,2,10.84,2,0.13,2,290.62,2,32.5868,2,1.514,1,0.068,1,4.608,1,292.8,2
33RR20180918, GP15,8,5,31,GSNIS-31   ,2,6600,12868,20181004,1913,47.0001,-151.9996,5237,39.2,8.7812,32.6017,2,-999,9,20181004,1936,47.0001,-151.9996,13.1,2,1.24,2,10.97,2,0.14,2,-999,9,-999,9,1.513,1,0.077,1,4.603,1,290.3,2
33RR20180918, GP15,8,5,32,GSNIS-32   ,2,6600,12868,20181004,1913,47.0001,-151.9996,5237,40.4,8.6912,32.6059,2,-999,9,20181004,1936,47.0001,-151.9996,12.51,2,1.22,2,10.91,2,0.14,2,-999,9,-999,9,1.512,1,0.073,1,4.607,1,291.8,2
33RR20180918, GP15,8,5,33,GSNIS-33   ,2,6600,12867,20181004,1913,47.0001,-151.9996,5237,29.9,15.0351,32.2618,2,15.0362,2,20181004,1938,47.0001,-151.9996,0,2,0.72,2,4.63,2,0.12,2,257.76,2,32.2694,2,1.412,1,0.127,1,4.408,1,257,2
33RR20180918, GP15,8,5,34,GSNIS-34   ,2,6600,12867,20181004,1913,47.0001,-151.9996,5237,29.4,15.0348,32.2626,2,-999,9,20181004,1938,47.0001,-151.9996,0,2,0.71,2,4.64,2,0.12,2,-999,9,-999,9,1.408,1,0.123,1,4.406,1,257.7,2
33RR20180918, GP15,8,5,35,GSNIS-35   ,2,6600,12867,20181004,1913,47.0001,-151.9996,5237,28.8,15.0451,32.2615,2,-999,9,20181004,1938,47.0001,-151.9996,0,2,0.72,2,4.61,2,0.12,2,-999,9,-999,9,1.409,1,0.12,1,4.405,1,257.9,2
33RR20180918, GP15,8,5,36,GSNIS-36   ,2,6600,12866,20181004,1913,47.0001,-151.9996,5237,4.2,15.0649,32.2607,2,15.0657,2,20181004,1940,47.0001,-151.9996,0,2,0.7,2,4.54,2,0.12,2,257.85,2,32.2636,2,1.405,1,0.077,1,4.389,1,258.1,2