BOTTLE,20191212SIOCCHAMB
EXPOCODE,SECT_ID,STNNBR,CASTNO,SAMPNO,BTLNBR,BTLNBR_FLAG_W,GEOTRC_EVENTNO,GEOTRC_SAMPNO,DATE,TIME,LATITUDE,LONGITUDE,DEPTH,CTDPRS,CTDTMP,CTDSAL,CTDSAL_FLAG_W,REFTMP,REFTMP_FLAG_W,BTL_DATE,BTL_TIME,BTL_LAT,BTL_LON,SILCAT,SILCAT_FLAG_W,PHSPHT,PHSPHT_FLAG_W,NITRAT,NITRAT_FLAG_W,NITRIT,NITRIT_FLAG_W,OXYGEN,OXYGEN_FLAG_W,SALNTY,SALNTY_FLAG_W,CTDRINKO,CTDRINKO_FLAG_W,CTDFLUOR,CTDFLUOR_FLAG_W,CTDXMISS,CTDXMISS_FLAG_W,CTDOXY,CTDOXY_FLAG_W
,,,,,,,,,,,,,METERS,DBAR,ITS-90,PSS-78,,ITS-90,,,,,,UMOL/KG,,UMOL/KG,,UMOL/KG,,UMOL/KG,,UMOL/KG,,PSS-78,,VOLTS,,VOLTS,,VOLTS,,UMOL/KG,
33RR20180918, GP15,2,3,1,GSNIS-1    ,2,6539,12485,20180926,2130,55.5958,-156.3469,260,252,5.3036,33.7445,2,5.3029,2,20180926,2130,55.5958,-156.3469,64.47,2,2.51,2,35.24,2,0.03,2,101.05,2,33.7475,2,2.303,1,0.018,1,4.301,1,98.4,2
33RR20180918, GP15,2,3,2,GSNIS-2    ,2,6539,12485,20180926,2130,55.5958,-156.3469,260,251.8,5.3039,33.7445,2,-999,9,20180926,2130,55.5958,-156.3469,64.66,2,2.52,2,35.26,2,0.03,2,-999,9,-999,9,2.305,1,0.018,1,4.294,1,98.6,2
33RR20180918, GP15,2,3,3,GSNIS-3    ,3,6539,12484,20180926,2130,55.5958,-156.3469,260,226.7,5.3003,33.7422,3,5.2998,3,20180926,2132,55.5958,-156.3469,64.56,3,2.5,3,35.25,3,0.03,3,100.9,3,33.7458,3,2.34,1,0.018,1,4.362,1,99.9,3
33RR20180918, GP15,2,3,4,GSNIS-4    ,2,6539,12484,20180926,2130,55.5958,-156.3469,260,226.5,5.3006,33.7419,2,-999,9,20180926,2132,55.5958,-156.3468,64.47,2,2.49,2,35.31,2,0.03,2,-999,9,-999,9,2.341,1,0.018,1,4.372,1,100.4,2
33RR20180918, GP15,2,3,5,GSNIS-5    ,2,6539,12483,20180926,2130,55.5958,-156.3469,260,190.6,5.3261,33.7329,2,5.3254,2,20180926,2134,55.5958,-156.3468,63.49,2,2.48,2,35.23,2,0.03,2,102.79,2,33.736,2,2.349,1,0.018,1,4.43,1,105.4,2
33RR20180918, GP15,2,3,6,GSNIS-6    ,2,6539,12483,20180926,2130,55.5958,-156.3469,260,191.4,5.3262,33.7327,2,-999,9,20180926,2135,55.5958,-156.3468,63.39,2,2.46,2,35.22,2,0.03,2,-999,9,-999,9,2.348,1,0.018,1,4.445,1,105.5,2
33RR20180918, GP15,2,3,7,GSNIS-7    ,2,6539,12483,20180926,2130,55.5958,-156.3469,260,190.7,5.3281,33.7321,2,-999,9,20180926,2135,55.5958,-156.3468,63.29,2,2.47,2,35.23,2,0.03,2,-999,9,-999,9,2.348,1,0.018,1,4.441,1,104.2,2
33RR20180918, GP15,2,3,8,GSNIS-8    ,2,6539,12482,20180926,2130,55.5958,-156.3469,260,151.1,5.8253,33.5613,2,5.8222,2,20180926,2137,55.5958,-156.3468,50.21,2,2.21,2,31.36,2,0.02,2,133.76,2,33.5614,2,2.315,1,0.018,1,4.641,1,136.4,2
33RR20180918, GP15,2,3,9,GSNIS-9    ,2,6539,12482,20180926,2130,55.5958,-156.3469,260,151.5,5.8258,33.5616,2,-999,9,20180926,2137,55.5958,-156.3468,50.11,2,2.19,2,31.41,2,0.02,2,-999,9,-999,9,2.313,1,0.018,1,4.642,1,136.5,2
33RR20180918, GP15,2,3,10,GSNIS-10   ,2,6539,12482,20180926,2130,55.5958,-156.3469,260,150.6,5.8194,33.5582,2,-999,9,20180926,2137,55.5958,-156.3468,50.21,2,2.21,2,31.39,2,0.03,2,-999,9,-999,9,2.313,1,0.018,1,4.638,1,132.1,2
33RR20180918, GP15,2,3,11,GSNIS-11   ,2,6539,12481,20180926,2130,55.5958,-156.3469,260,100.6,5.9858,32.9591,2,5.9838,2,20180926,2140,55.5958,-156.3469,29.81,2,1.68,2,22.21,2,0.06,2,218.21,2,32.9587,2,2.27,1,0.019,1,4.667,1,219,2
33RR20180918, GP15,2,3,12,GSNIS-12   ,2,6539,12481,20180926,2130,55.5958,-156.3469,260,99.7,5.983,32.9555,2,-999,9,20180926,2141,55.5958,-156.3468,29.81,2,1.68,2,22.14,2,0.06,2,-999,9,-999,9,2.27,1,0.019,1,4.667,1,220.3,2
33RR20180918, GP15,2,3,13,GSNIS-13   ,2,6539,12481,20180926,2130,55.5958,-156.3469,260,99.9,5.9868,32.9609,2,-999,9,20180926,2141,55.5958,-156.3468,29.61,2,1.67,2,22.08,2,0.06,2,-999,9,-999,9,2.269,1,0.019,1,4.666,1,210.2,2
33RR20180918, GP15,2,3,14,GSNIS-14   ,2,6539,12480,20180926,2130,55.5958,-156.3469,260,79.7,6.0874,32.7562,2,6.0803,2,20180926,2142,55.5958,-156.3468,24.34,2,1.52,2,19.04,2,0.06,2,242.89,2,32.7575,2,2.176,1,0.023,1,4.659,1,243.6,2
33RR20180918, GP15,2,3,15,GSNIS-15   ,2,6539,12480,20180926,2130,55.5958,-156.3469,260,80.3,6.0853,32.7593,2,-999,9,20180926,2143,55.5958,-156.3468,24.44,2,1.52,2,19.1,2,0.07,2,-999,9,-999,9,2.17,1,0.021,1,4.661,1,242.9,2
33RR20180918, GP15,2,3,16,GSNIS-16   ,2,6539,12480,20180926,2130,55.5958,-156.3469,260,80.8,6.0806,32.7659,2,-999,9,20180926,2143,55.5958,-156.3468,24.34,2,1.51,2,19.01,2,0.07,2,-999,9,-999,9,2.165,1,0.022,1,4.659,1,243.5,2
33RR20180918, GP15,2,3,17,GSNIS-17   ,2,6539,12479,20180926,2130,55.5958,-156.3469,260,64.5,6.5191,32.6419,3,6.4759,3,20180926,2144,55.5958,-156.3469,21.21,2,1.38,2,16.66,2,0.1,2,250.51,2,32.6328,3,2.081,1,0.026,1,4.647,1,244.6,2
33RR20180918, GP15,2,3,18,GSNIS-18   ,2,6539,12479,20180926,2130,55.5958,-156.3469,260,65.9,6.4613,32.6564,2,-999,9,20180926,2144,55.5958,-156.3468,21.21,2,1.38,2,16.6,2,0.11,2,-999,9,-999,9,2.078,1,0.026,1,4.646,1,244.5,2
33RR20180918, GP15,2,3,19,GSNIS-19   ,2,6539,12479,20180926,2130,55.5958,-156.3469,260,64.6,6.4809,32.6509,2,-999,9,20180926,2145,55.5958,-156.3468,21.21,2,1.38,2,16.67,2,0.11,2,-999,9,-999,9,2.074,1,0.028,1,4.645,1,244.7,2
33RR20180918, GP15,2,3,20,GSNIS-20   ,2,6539,12478,20180926,2130,55.5958,-156.3469,260,56.3,7.1486,32.5635,2,7.161,2,20180926,2146,55.5958,-156.3469,19.65,2,1.29,2,15.01,2,0.17,2,251.65,2,32.5665,2,2.056,1,0.034,1,4.625,1,252.4,2
33RR20180918, GP15,2,3,21,GSNIS-21   ,2,6539,12478,20180926,2130,55.5958,-156.3469,260,54.6,7.1582,32.5629,2,-999,9,20180926,2146,55.5958,-156.3469,19.75,2,1.27,2,14.97,2,0.18,2,-999,9,-999,9,2.052,1,0.034,1,4.625,1,251.8,2
33RR20180918, GP15,2,3,22,GSNIS-22   ,2,6539,12478,20180926,2130,55.5958,-156.3469,260,55.2,7.1629,32.5626,2,-999,9,20180926,2146,55.5958,-156.3469,19.65,2,1.27,2,14.92,2,0.17,2,-999,9,-999,9,2.045,1,0.033,1,4.627,1,252.5,2
33RR20180918, GP15,2,3,23,GSNIS-23   ,2,6539,12477,20180926,2130,55.5958,-156.3469,260,45.7,8.0783,32.467,3,8.0158,3,20180926,2148,55.5958,-156.3469,15.94,2,1.06,2,11.41,2,0.2,2,259.2,2,32.4525,3,1.974,1,0.04,1,4.611,1,262.4,2
33RR20180918, GP15,2,3,24,GSNIS-24   ,2,6539,12477,20180926,2130,55.5958,-156.3469,260,46,7.9407,32.4797,2,-999,9,20180926,2148,55.5957,-156.3469,15.94,2,1.05,2,11.35,2,0.2,2,-999,9,-999,9,1.972,1,0.042,1,4.604,1,260.4,2
33RR20180918, GP15,2,3,25,GSNIS-25   ,2,6539,12477,20180926,2130,55.5958,-156.3469,260,45.6,7.9366,32.4758,2,-999,9,20180926,2148,55.5957,-156.3469,15.94,2,1.04,2,11.38,2,0.2,2,-999,9,-999,9,1.97,1,0.042,1,4.612,1,260.2,2
33RR20180918, GP15,2,3,26,GSNIS-26   ,2,6539,12476,20180926,2130,55.5958,-156.3469,260,35.5,8.8164,32.392,2,8.7948,2,20180926,2150,55.5957,-156.3468,13.98,2,0.91,2,9.44,2,0.2,2,263.09,2,32.3927,2,1.936,1,0.058,1,4.569,1,261.1,2
33RR20180918, GP15,2,3,27,GSNIS-27   ,2,6539,12476,20180926,2130,55.5958,-156.3469,260,35.8,8.7933,32.3952,2,-999,9,20180926,2150,55.5957,-156.3468,13.98,2,0.91,2,9.47,2,0.2,2,-999,9,-999,9,1.934,1,0.055,1,4.569,1,261.2,2
33RR20180918, GP15,2,3,28,GSNIS-28   ,2,6539,12476,20180926,2130,55.5958,-156.3469,260,35.4,8.7868,32.3958,2,-999,9,20180926,2150,55.5957,-156.3468,13.98,2,0.9,2,9.5,2,0.2,2,-999,9,-999,9,1.932,1,0.059,1,4.569,1,261,2
33RR20180918, GP15,2,3,29,GSNIS-29   ,2,6539,12475,20180926,2130,55.5958,-156.3469,260,24.8,10.8059,32.2143,2,10.7256,3,20180926,2152,55.5957,-156.3469,8.9,2,0.56,2,3.6,2,0.12,2,274.22,2,32.2192,2,1.861,1,0.103,1,4.423,1,273.5,2
33RR20180918, GP15,2,3,30,GSNIS-30   ,2,6539,12475,20180926,2130,55.5958,-156.3469,260,26,10.6894,32.2254,2,-999,9,20180926,2152,55.5957,-156.3469,8.9,2,0.55,2,3.61,2,0.12,2,-999,9,-999,9,1.857,1,0.093,1,4.445,1,268.5,2
33RR20180918, GP15,2,3,31,GSNIS-31   ,2,6539,12475,20180926,2130,55.5958,-156.3469,260,24.9,10.6993,32.2242,2,-999,9,20180926,2152,55.5957,-156.3469,8.9,2,0.56,2,3.61,2,0.12,2,-999,9,-999,9,1.852,1,0.107,1,4.429,1,271.2,2
33RR20180918, GP15,2,3,32,GSNIS-32   ,2,6539,12474,20180926,2130,55.5958,-156.3469,260,15.3,10.9935,32.2037,2,10.9881,2,20180926,2153,55.5957,-156.3469,8.51,2,0.53,2,3.2,2,0.11,2,276.09,2,32.2083,2,1.795,1,0.121,1,4.347,1,276.8,2
33RR20180918, GP15,2,3,33,GSNIS-33   ,2,6539,12474,20180926,2130,55.5958,-156.3469,260,15.4,10.9923,32.2042,2,-999,9,20180926,2153,55.5957,-156.3469,8.41,2,0.51,2,3.19,2,0.11,2,-999,9,-999,9,1.794,1,0.117,1,4.349,1,276.2,2
33RR20180918, GP15,2,3,34,GSNIS-34   ,2,6539,12474,20180926,2130,55.5958,-156.3469,260,15.4,10.9879,32.2043,2,-999,9,20180926,2154,55.5957,-156.3469,8.61,2,0.52,2,3.22,2,0.11,2,-999,9,-999,9,1.792,1,0.122,1,4.349,1,276.2,2
33RR20180918, GP15,2,3,35,GSNIS-35   ,2,6539,12474,20180926,2130,55.5958,-156.3469,260,15.6,10.9886,32.2039,2,-999,9,20180926,2154,55.5957,-156.3469,8.61,2,0.56,2,3.2,2,0.11,2,-999,9,-999,9,1.791,1,0.117,1,4.349,1,276.2,2
33RR20180918, GP15,2,3,36,GSNIS-36   ,2,6539,12473,20180926,2130,55.5958,-156.3469,260,3.6,10.989,32.2037,2,10.9908,2,20180926,2156,55.5958,-156.3469,8.61,2,0.52,2,3.19,2,0.11,2,276.04,2,32.2091,2,1.742,1,0.115,1,4.345,1,276.2,2
33RR20180918, GP15,3,2,1,GSNIS-1    ,2,6545,12521,20180927,2018,55.0803,-155.7202,1628,504.8,3.6796,34.1614,2,3.678,2,20180927,2018,55.0803,-155.7201,115.42,2,3.03,2,44.19,2,0.01,2,17.23,2,34.1588,2,3.276,1,0.018,1,4.699,1,15.6,2
33RR20180918, GP15,3,2,2,GSNIS-2    ,2,6545,12521,20180927,2018,55.0803,-155.7202,1628,505.7,3.6791,34.1614,2,-999,9,20180927,2018,55.0803,-155.7201,115.61,2,3.03,2,44.25,2,0.01,2,-999,9,-999,9,3.276,1,0.018,1,4.699,1,16.4,2
33RR20180918, GP15,3,2,3,GSNIS-3    ,2,6545,12521,20180927,2018,55.0803,-155.7202,1628,505.8,3.6787,34.1617,2,-999,9,20180927,2018,55.0803,-155.7201,115.51,2,3.02,2,44.16,2,0.01,2,-999,9,-999,9,3.276,1,0.018,1,4.7,1,16.8,2
33RR20180918, GP15,3,2,4,GSNIS-4    ,2,6545,12520,20180927,2018,55.0803,-155.7202,1628,405.3,3.8187,34.0912,2,3.8179,2,20180927,2021,55.0803,-155.7201,108.2,2,3.04,2,44.36,2,0.01,2,18.5,2,34.0899,2,3.264,1,0.018,1,4.695,1,18.1,2
33RR20180918, GP15,3,2,5,GSNIS-5    ,2,6545,12520,20180927,2018,55.0803,-155.7202,1628,406,3.818,34.0919,2,-999,9,20180927,2021,55.0803,-155.7201,108.2,2,3.03,2,44.28,2,0.01,2,-999,9,-999,9,3.264,1,0.018,1,4.697,1,18.1,2
33RR20180918, GP15,3,2,6,GSNIS-6    ,2,6545,12520,20180927,2018,55.0803,-155.7202,1628,403.2,3.8196,34.0907,2,-999,9,20180927,2021,55.0803,-155.7201,-999,9,-999,9,-999,9,-999,9,-999,9,-999,9,3.263,1,0.018,1,4.696,1,18.2,2
33RR20180918, GP15,3,2,7,GSNIS-7    ,2,6545,12519,20180927,2018,55.0803,-155.7202,1628,304.8,3.8676,33.9795,2,3.8658,2,20180927,2025,55.0803,-155.7201,98.15,2,3.05,2,44.7,2,0.01,2,22.62,2,33.9747,2,3.241,1,0.018,1,4.689,1,19.8,2
33RR20180918, GP15,3,2,8,GSNIS-8    ,2,6545,12519,20180927,2018,55.0803,-155.7202,1628,303.4,3.8664,33.9788,2,-999,9,20180927,2025,55.0803,-155.7201,98.24,2,3.05,2,44.81,2,0.01,2,-999,9,-999,9,3.241,1,0.018,1,4.689,1,23.1,2
33RR20180918, GP15,3,2,9,GSNIS-9    ,2,6545,12519,20180927,2018,55.0803,-155.7202,1628,305,3.8673,33.9802,2,-999,9,20180927,2025,55.0803,-155.7201,98.05,2,3.04,2,44.69,2,0.01,2,-999,9,-999,9,3.24,1,0.018,1,4.691,1,22.4,2
33RR20180918, GP15,3,2,10,GSNIS-10   ,2,6545,12518,20180927,2018,55.0803,-155.7202,1628,203.2,3.9205,33.8288,2,3.9211,2,20180927,2028,55.0803,-155.7201,83.41,2,2.9,2,42.61,2,0.01,2,55.42,2,33.8273,2,3.199,1,0.018,1,4.688,1,55.3,2
33RR20180918, GP15,3,2,11,GSNIS-11   ,2,6545,12518,20180927,2018,55.0803,-155.7202,1628,203.5,3.9201,33.8288,2,-999,9,20180927,2028,55.0803,-155.7201,83.41,2,2.89,2,42.6,2,0.01,2,-999,9,-999,9,3.199,1,0.018,1,4.689,1,55.4,2
33RR20180918, GP15,3,2,12,GSNIS-12   ,2,6545,12518,20180927,2018,55.0803,-155.7202,1628,203.3,3.9223,33.8282,2,3.9234,2,20180927,2028,55.0803,-155.7201,83.31,2,2.89,2,42.48,2,0.01,2,-999,9,-999,9,3.196,1,0.018,1,4.689,1,54.6,2
33RR20180918, GP15,3,2,13,GSNIS-13   ,2,6545,12517,20180927,2018,55.0803,-155.7202,1628,178.6,3.9984,33.781,2,3.9943,2,20180927,2030,55.0802,-155.7201,78.14,2,2.82,2,41.28,2,0.01,2,71.01,2,33.7706,2,3.12,1,0.018,1,4.689,1,71.8,2
33RR20180918, GP15,3,2,14,GSNIS-14   ,2,6545,12517,20180927,2018,55.0803,-155.7202,1628,176.9,3.9928,33.7731,2,-999,9,20180927,2030,55.0802,-155.7201,77.75,2,2.81,2,41.14,2,0.01,2,-999,9,-999,9,3.115,1,0.018,1,4.687,1,73.2,2
33RR20180918, GP15,3,2,15,GSNIS-15   ,2,6545,12517,20180927,2018,55.0803,-155.7202,1628,178,3.9962,33.7772,2,-999,9,20180927,2030,55.0802,-155.7201,78.24,2,2.8,2,41.32,2,0.01,2,-999,9,-999,9,3.111,1,0.018,1,4.689,1,72,2
33RR20180918, GP15,3,2,16,GSNIS-16   ,2,6545,12516,20180927,2018,55.0803,-155.7202,1628,151.7,4.1614,33.6583,2,4.1615,2,20180927,2032,55.0803,-155.7201,69.94,2,2.65,2,38.58,2,0.02,2,98.77,2,33.6524,2,3.018,1,0.018,1,4.686,1,97.1,2
33RR20180918, GP15,3,2,17,GSNIS-17   ,2,6545,12516,20180927,2018,55.0803,-155.7202,1628,153.2,4.1629,33.6593,2,-999,9,20180927,2032,55.0803,-155.7201,69.84,2,2.65,2,38.59,2,0.02,2,-999,9,-999,9,3.014,1,0.018,1,4.687,1,102.9,2
33RR20180918, GP15,3,2,18,GSNIS-18   ,2,6545,12516,20180927,2018,55.0803,-155.7202,1628,153.6,4.1618,33.6615,2,-999,9,20180927,2032,55.0803,-155.7201,69.84,2,2.64,2,38.62,2,0.02,2,-999,9,-999,9,3.008,1,0.018,1,4.687,1,102.2,2
33RR20180918, GP15,3,2,19,GSNIS-19   ,2,6545,12515,20180927,2018,55.0803,-155.7202,1628,125.2,4.2462,33.3706,2,4.2391,2,20180927,2034,55.0803,-155.7201,55.69,2,2.31,2,33.03,2,0.02,2,166.25,2,33.3745,2,2.844,1,0.018,1,4.688,1,169.9,2
33RR20180918, GP15,3,2,20,GSNIS-20   ,2,6545,12515,20180927,2018,55.0803,-155.7202,1628,128.7,4.2385,33.393,2,-999,9,20180927,2035,55.0803,-155.7201,55.59,2,2.3,2,33.22,2,0.02,2,-999,9,-999,9,2.848,1,0.019,1,4.689,1,164.2,2
33RR20180918, GP15,3,2,21,GSNIS-21   ,2,6545,12515,20180927,2018,55.0803,-155.7202,1628,126.7,4.2408,33.3814,2,-999,9,20180927,2035,55.0803,-155.7201,55.79,2,2.3,2,33.14,2,0.02,2,-999,9,-999,9,2.842,1,0.019,1,4.688,1,171.1,2
33RR20180918, GP15,3,2,22,GSNIS-22   ,2,6545,12514,20180927,2018,55.0803,-155.7202,1628,100.7,4.3809,33.0021,2,4.3741,2,20180927,2037,55.0803,-155.7201,38.51,2,1.84,2,24.96,2,0.03,2,262.68,2,33.448,4,2.399,1,0.022,1,4.679,1,263.7,2
33RR20180918, GP15,3,2,23,GSNIS-23   ,2,6545,12514,20180927,2018,55.0803,-155.7202,1628,104.2,4.36,33.014,2,-999,9,20180927,2037,55.0802,-155.7201,38.7,2,1.84,2,25.04,2,0.03,2,-999,9,-999,9,2.393,1,0.022,1,4.679,1,259.9,2
33RR20180918, GP15,3,2,24,GSNIS-24   ,2,6545,12514,20180927,2018,55.0803,-155.7202,1628,99.8,4.3804,33.0024,2,-999,9,20180927,2037,55.0802,-155.7201,38.51,2,1.83,2,24.9,2,0.03,2,-999,9,-999,9,2.375,1,0.02,1,4.679,1,265,2
33RR20180918, GP15,3,2,25,GSNIS-25   ,2,6545,12513,20180927,2018,55.0803,-155.7202,1628,77,4.8667,32.7881,2,4.8632,2,20180927,2039,55.0803,-155.7201,30.3,2,1.57,2,20.28,2,0.15,2,296.03,2,33.2733,4,1.894,1,0.028,1,4.672,1,293.8,2
33RR20180918, GP15,3,2,26,GSNIS-26   ,2,6545,12513,20180927,2018,55.0803,-155.7202,1628,76.6,4.8635,32.7857,2,-999,9,20180927,2039,55.0803,-155.7201,30.2,2,1.57,2,20.28,2,0.15,2,-999,9,-999,9,1.889,1,0.027,1,4.674,1,299.1,2
33RR20180918, GP15,3,2,27,GSNIS-27   ,2,6545,12513,20180927,2018,55.0803,-155.7202,1628,77.3,4.8646,32.7885,2,-999,9,20180927,2039,55.0803,-155.7201,30.3,2,1.56,2,20.31,2,0.15,2,-999,9,-999,9,1.884,1,0.027,1,4.674,1,298.2,2
33RR20180918, GP15,3,2,28,GSNIS-28   ,2,6545,12512,20180927,2018,55.0803,-155.7202,1628,61.4,5.508,32.7333,2,5.51,2,20180927,2041,55.0803,-155.7201,27.66,2,1.47,2,17.83,2,0.44,2,304.67,2,33.221,4,1.84,1,0.03,1,4.664,1,304.4,2
33RR20180918, GP15,3,2,29,GSNIS-29   ,2,6545,12512,20180927,2018,55.0803,-155.7202,1628,62.1,5.5033,32.7343,2,-999,9,20180927,2041,55.0803,-155.7201,27.76,2,1.46,2,17.84,2,0.44,2,-999,9,-999,9,1.839,1,0.03,1,4.664,1,305.2,2
33RR20180918, GP15,3,2,30,GSNIS-30   ,2,6545,12512,20180927,2018,55.0803,-155.7202,1628,61.3,5.513,32.7331,2,-999,9,20180927,2041,55.0803,-155.7201,27.47,2,1.46,2,17.81,2,0.44,2,-999,9,-999,9,1.838,1,0.03,1,4.664,1,303.2,2
33RR20180918, GP15,3,2,31,GSNIS-31   ,2,6545,12511,20180927,2018,55.0803,-155.7202,1628,36.4,8.831,32.6077,2,8.9039,3,20180927,2043,55.0803,-155.7202,18.57,2,1.14,2,11.98,2,0.19,2,297.86,2,33.0864,4,1.644,1,0.047,1,4.613,1,292.7,2
33RR20180918, GP15,3,2,32,GSNIS-32   ,2,6545,12511,20180927,2018,55.0803,-155.7202,1628,36.3,8.9106,32.6011,2,-999,9,20180927,2043,55.0803,-155.7202,18.57,2,1.13,2,11.99,2,0.19,2,-999,9,-999,9,1.64,1,0.049,1,4.614,1,293,2
33RR20180918, GP15,3,2,33,GSNIS-33   ,2,6545,12511,20180927,2018,55.0803,-155.7202,1628,37.1,8.9475,32.5981,2,-999,9,20180927,2044,55.0803,-155.7202,18.57,2,1.13,2,12.04,2,0.19,2,-999,9,-999,9,1.636,1,0.05,1,4.612,1,319.5,2
33RR20180918, GP15,3,2,34,GSNIS-34   ,2,6545,12510,20180927,2018,55.0803,-155.7202,1628,25.4,13.0529,32.3134,2,13.0567,2,20180927,2045,55.0802,-155.7202,7.43,2,0.53,2,3.75,2,0.07,2,265.48,2,32.3061,2,1.548,1,0.091,1,4.475,1,266.3,2
33RR20180918, GP15,3,2,35,GSNIS-35   ,2,6545,12510,20180927,2018,55.0803,-155.7202,1628,27,13.0612,32.3132,2,-999,9,20180927,2045,55.0802,-155.7202,7.63,2,0.54,2,3.89,2,0.08,2,-999,9,-999,9,1.54,1,0.089,1,4.473,1,266,2
33RR20180918, GP15,3,2,36,GSNIS-36   ,2,6545,12510,20180927,2018,55.0803,-155.7202,1628,26.4,13.0401,32.3151,2,-999,9,20180927,2045,55.0803,-155.7202,7.63,2,0.53,2,3.84,2,0.08,2,-999,9,-999,9,1.532,1,0.092,1,4.474,1,266.2,2