BOTTLE,20191212SIOCCHAMB
EXPOCODE,SECT_ID,STNNBR,CASTNO,SAMPNO,BTLNBR,BTLNBR_FLAG_W,GEOTRC_EVENTNO,GEOTRC_SAMPNO,DATE,TIME,LATITUDE,LONGITUDE,DEPTH,CTDPRS,CTDTMP,CTDSAL,CTDSAL_FLAG_W,REFTMP,REFTMP_FLAG_W,BTL_DATE,BTL_TIME,BTL_LAT,BTL_LON,SILCAT,SILCAT_FLAG_W,PHSPHT,PHSPHT_FLAG_W,NITRAT,NITRAT_FLAG_W,NITRIT,NITRIT_FLAG_W,OXYGEN,OXYGEN_FLAG_W,SALNTY,SALNTY_FLAG_W,CTDRINKO,CTDRINKO_FLAG_W,CTDFLUOR,CTDFLUOR_FLAG_W,CTDXMISS,CTDXMISS_FLAG_W,CTDOXY,CTDOXY_FLAG_W
,,,,,,,,,,,,,METERS,DBAR,ITS-90,PSS-78,,ITS-90,,,,,,UMOL/KG,,UMOL/KG,,UMOL/KG,,UMOL/KG,,UMOL/KG,,PSS-78,,VOLTS,,VOLTS,,VOLTS,,UMOL/KG,
33RR20180918, GP15,18,5,1,GSNIS-2    ,2,6756,13820,20181019,1703,22.0003,-152.0001,5271,1008,4.0795,34.5003,2,4.0811,2,20181019,1703,22.0004,-152.0001,107.58,2,3.04,2,42.2,2,0,2,43.25,2,34.4983,2,2.458,1,0.018,1,4.689,1,43.1,2
33RR20180918, GP15,18,5,2,GSNIS-3    ,2,6756,13820,20181019,1703,22.0003,-152.0001,5271,1007,4.0831,34.5004,2,-999,9,20181019,1703,22.0004,-152.0001,107.48,2,3.05,2,42.15,2,0,2,-999,9,-999,9,2.445,1,0.018,1,4.689,1,43,2
33RR20180918, GP15,18,5,3,GSNIS-4    ,2,6756,13820,20181019,1703,22.0003,-152.0001,5271,1007.8,4.0807,34.5003,2,-999,9,20181019,1703,22.0004,-152.0001,107.67,2,3.05,2,42.19,2,0,2,-999,9,-999,9,2.433,1,0.018,1,4.689,1,42.8,2
33RR20180918, GP15,18,5,4,GSNIS-5    ,2,6756,13820,20181019,1703,22.0003,-152.0001,5271,1007.5,4.0816,34.5004,2,-999,9,20181019,1703,22.0004,-152.0001,107.48,2,3.04,2,42.12,2,0,2,-999,9,-999,9,2.421,1,0.018,1,4.689,1,42.8,2
33RR20180918, GP15,18,5,5,GSNIS-6    ,2,6756,13819,20181019,1703,22.0003,-152.0001,5271,855.6,4.5038,34.4499,2,4.5043,2,20181019,1707,22.0003,-152.0001,99.19,2,3.05,2,42.14,2,0,2,34.57,2,34.4485,2,2.342,1,0.018,1,4.689,1,34.5,2
33RR20180918, GP15,18,5,6,GSNIS-7    ,2,6756,13819,20181019,1703,22.0003,-152.0001,5271,857.3,4.5053,34.4499,2,-999,9,20181019,1707,22.0003,-152.0001,99.38,2,3.04,2,42.08,2,0,2,-999,9,-999,9,2.344,1,0.018,1,4.689,1,34.2,2
33RR20180918, GP15,18,5,7,GSNIS-8    ,2,6756,13818,20181019,1703,22.0003,-152.0001,5271,705.7,4.9185,34.3069,2,4.9197,2,20181019,1711,22.0004,-152.0001,90.9,2,3.05,2,41.63,2,0,2,24.5,2,34.3056,2,2.409,1,0.018,1,4.687,1,26.1,2
33RR20180918, GP15,18,5,8,GSNIS-9    ,2,6756,13818,20181019,1703,22.0003,-152.0001,5271,706,4.9213,34.3055,2,-999,9,20181019,1711,22.0004,-152.0001,91,2,3.04,2,41.61,2,0,2,-999,9,-999,9,2.411,1,0.018,1,4.687,1,25.9,2
33RR20180918, GP15,18,5,9,GSNIS-10   ,2,6756,13818,20181019,1703,22.0003,-152.0001,5271,706.1,4.9217,34.3056,2,-999,9,20181019,1711,22.0004,-152.0001,90.9,2,3.03,2,41.51,2,0,2,-999,9,-999,9,2.414,1,0.018,1,4.686,1,26,2
33RR20180918, GP15,18,5,10,GSNIS-11   ,2,6756,13817,20181019,1703,22.0003,-152.0001,5271,605.7,5.4002,34.1821,2,5.4002,2,20181019,1714,22.0004,-152.0001,79.38,2,2.9,2,39.73,2,0,2,36.15,2,34.1848,2,2.529,1,0.018,1,4.686,1,36.7,2
33RR20180918, GP15,18,5,11,GSNIS-12   ,2,6756,13817,20181019,1703,22.0003,-152.0001,5271,605,5.4008,34.1826,2,-999,9,20181019,1714,22.0004,-152.0001,79.68,2,2.89,2,39.73,2,0,2,-999,9,-999,9,2.535,1,0.018,1,4.686,1,38.6,2
33RR20180918, GP15,18,5,12,GSNIS-13   ,2,6756,13816,20181019,1703,22.0003,-152.0001,5271,453.5,7.2388,34.0441,2,7.2359,2,20181019,1718,22.0004,-152.0001,45.31,2,2.15,2,30.09,2,0,2,109.05,2,34.0441,2,2.707,1,0.017,1,4.686,1,112.5,2
33RR20180918, GP15,18,5,13,GSNIS-14   ,2,6756,13816,20181019,1703,22.0003,-152.0001,5271,454.4,7.2391,34.044,2,-999,9,20181019,1718,22.0004,-152.0001,45.21,2,2.14,2,30.08,2,0,2,-999,9,-999,9,2.693,1,0.018,1,4.686,1,112.5,2
33RR20180918, GP15,18,5,14,GSNIS-15   ,2,6756,13816,20181019,1703,22.0003,-152.0001,5271,452.9,7.2284,34.0447,2,-999,9,20181019,1718,22.0004,-152.0001,44.43,2,2.13,2,29.97,2,0,2,-999,9,-999,9,2.679,1,0.017,1,4.686,1,112.1,2
33RR20180918, GP15,18,5,15,GSNIS-16   ,2,6756,13815,20181019,1703,22.0003,-152.0001,5271,302.5,11.5307,34.0976,2,11.5252,2,20181019,1722,22.0004,-152.0001,10.74,2,0.91,2,12.59,2,0,2,197.69,2,34.1019,2,2.034,1,0.016,1,4.685,1,195.8,2
33RR20180918, GP15,18,5,16,GSNIS-17   ,2,6756,13815,20181019,1703,22.0003,-152.0001,5271,302.6,11.5171,34.0989,2,-999,9,20181019,1722,22.0004,-152.0001,10.55,2,0.9,2,12.51,2,0,2,-999,9,-999,9,2.021,1,0.016,1,4.684,1,196.3,2
33RR20180918, GP15,18,5,17,GSNIS-18   ,2,6756,13815,20181019,1703,22.0003,-152.0001,5271,302.5,11.5468,34.1002,2,-999,9,20181019,1722,22.0004,-152.0001,9.86,2,0.89,2,12.43,2,0.01,2,-999,9,-999,9,2.008,1,0.017,1,4.684,1,196.3,2
33RR20180918, GP15,18,5,18,GSNIS-19   ,5,6756,13814,20181019,1703,22.0003,-152.0001,5271,152,20.665,35.0268,3,20.6482,3,20181019,1726,22.0003,-152.0001,-999,9,-999,9,-999,9,-999,9,-999,9,-999,9,1.663,1,0.03,1,4.664,1,196.1,3
33RR20180918, GP15,18,5,19,GSNIS-20   ,2,6756,13814,20181019,1703,22.0003,-152.0001,5271,150.9,20.6232,35.0294,2,-999,9,20181019,1726,22.0003,-152.0001,0.1,2,0.17,2,1.1,2,0.06,2,193.17,2,35.0307,2,1.661,1,0.028,1,4.664,1,192.3,2
33RR20180918, GP15,18,5,20,GSNIS-21   ,2,6756,13814,20181019,1703,22.0003,-152.0001,5271,151.5,20.6762,35.0298,2,-999,9,20181019,1726,22.0004,-152.0001,0,2,0.17,2,1.1,2,0.05,2,-999,9,-999,9,1.659,1,0.029,1,4.664,1,196.1,2
33RR20180918, GP15,18,5,21,GSNIS-22   ,2,6756,13813,20181019,1703,22.0003,-152.0001,5271,130.8,21.7715,35.1098,2,21.7769,2,20181019,1728,22.0003,-152.0001,0,2,0.07,2,0,2,0.06,2,208.07,2,35.0982,2,1.801,1,0.037,1,4.652,1,211.3,2
33RR20180918, GP15,18,5,22,GSNIS-23   ,2,6756,13813,20181019,1703,22.0003,-152.0001,5271,131.1,21.7829,35.1037,2,-999,9,20181019,1728,22.0004,-152.0001,0,2,0.07,2,0,2,0.06,2,-999,9,-999,9,1.811,1,0.033,1,4.653,1,208.6,2
33RR20180918, GP15,18,5,23,GSNIS-24   ,2,6756,13813,20181019,1703,22.0003,-152.0001,5271,130.4,21.7758,35.1039,2,-999,9,20181019,1728,22.0004,-152.0001,0,2,0.07,2,0,2,0.06,2,-999,9,-999,9,1.821,1,0.035,1,4.653,1,208.3,2
33RR20180918, GP15,18,5,24,GSNIS-25   ,2,6756,13812,20181019,1703,22.0003,-152.0001,5271,111.6,22.5781,35.1099,2,22.5808,2,20181019,1730,22.0004,-152.0001,0,2,0.02,2,0,2,0,2,216.76,2,35.1079,2,1.798,1,0.03,1,4.647,1,219.1,2
33RR20180918, GP15,18,5,25,GSNIS-26   ,2,6756,13812,20181019,1703,22.0003,-152.0001,5271,110.2,22.5661,35.1098,2,-999,9,20181019,1730,22.0004,-152.0001,0,2,0.02,2,0,2,0,2,-999,9,-999,9,1.795,1,0.029,1,4.647,1,218.6,2
33RR20180918, GP15,18,5,26,GSNIS-27   ,2,6756,13812,20181019,1703,22.0003,-152.0001,5271,110.9,22.5972,35.1101,2,-999,9,20181019,1730,22.0004,-152.0001,0,2,0.03,2,0,2,0,2,-999,9,-999,9,1.792,1,0.029,1,4.646,1,218.7,2
33RR20180918, GP15,18,5,27,GSNIS-28   ,2,6756,13812,20181019,1703,22.0003,-152.0001,5271,110.9,22.597,35.1104,2,-999,9,20181019,1730,22.0004,-152.0001,0,2,0.03,2,0,2,0,2,-999,9,-999,9,1.79,1,0.029,1,4.647,1,218.1,2
33RR20180918, GP15,18,5,28,GSNIS-29   ,2,6756,13811,20181019,1703,22.0003,-152.0001,5271,80.7,24.4186,35.0659,2,24.4084,2,20181019,1733,22.0003,-152,0,2,0,2,0,2,0,2,228.54,2,35.0622,2,1.591,1,0.022,1,4.639,1,226.4,2
33RR20180918, GP15,18,5,29,GSNIS-30   ,2,6756,13811,20181019,1703,22.0003,-152.0001,5271,80.4,24.4135,35.0662,2,-999,9,20181019,1733,22.0003,-152.0001,0,2,0,2,0,2,0,2,-999,9,-999,9,1.584,1,0.023,1,4.639,1,228.1,2
33RR20180918, GP15,18,5,30,GSNIS-31   ,2,6756,13811,20181019,1703,22.0003,-152.0001,5271,81.1,24.4039,35.0671,2,-999,9,20181019,1733,22.0003,-152.0001,0,2,0,2,0,2,0,2,-999,9,-999,9,1.581,1,0.022,1,4.638,1,228,2
33RR20180918, GP15,18,5,31,GSNIS-32   ,2,6756,13810,20181019,1703,22.0003,-152.0001,5271,61.4,25.8588,34.9081,2,25.9067,3,20181019,1735,22.0004,-152,0,2,0.02,2,0,2,0,2,212.83,2,34.905,2,1.532,1,0.022,1,4.636,1,210.3,2
33RR20180918, GP15,18,5,32,GSNIS-33   ,2,6756,13810,20181019,1703,22.0003,-152.0001,5271,60.5,25.9282,34.8936,2,-999,9,20181019,1735,22.0004,-152,0,2,0.01,2,0,2,0,2,-999,9,-999,9,1.526,1,0.021,1,4.635,1,210.1,2
33RR20180918, GP15,18,5,33,GSNIS-34   ,2,6756,13809,20181019,1703,22.0003,-152.0001,5271,40.7,26.8985,34.7221,2,26.8969,2,20181019,1737,22.0004,-152.0001,0,2,0.05,2,0,2,0,2,203.35,2,34.7188,2,1.404,1,0.019,1,4.635,1,203.3,2
33RR20180918, GP15,18,5,34,GSNIS-35   ,2,6756,13809,20181019,1703,22.0003,-152.0001,5271,40.7,26.8995,34.7221,2,-999,9,20181019,1737,22.0004,-152.0001,0,2,0.05,2,0,2,0,2,-999,9,-999,9,1.4,1,0.019,1,4.632,1,202.9,2
33RR20180918, GP15,18,5,35,GSNIS-36   ,2,6756,13809,20181019,1703,22.0003,-152.0001,5271,40.7,26.8983,34.722,2,-999,9,20181019,1738,22.0004,-152.0001,0,2,0.06,2,0,2,0,2,-999,9,-999,9,1.395,1,0.019,1,4.634,1,203.2,2
33RR20180918, GP15,18,5,36,GSNIS-1    ,2,6756,13808,20181019,1703,22.0003,-152.0001,5271,3.7,26.9538,34.7206,2,26.9544,2,20181019,1740,22.0003,-152.0001,0,2,0.05,2,0,2,0,2,202.58,2,34.7174,2,1.31,1,0.018,1,4.635,1,203.7,2
33RR20180918, GP15,18,9,1,GSNIS-2    ,2,6760,13856,20181020,1810,22.0001,-152.0003,5271,5233.9,1.5144,34.6919,2,1.5143,2,20181020,1810,21.9999,-152.0003,143.09,2,2.44,2,35.23,2,0,2,163.28,2,34.6924,2,2.293,1,0.017,1,4.692,1,163.7,2
33RR20180918, GP15,18,9,2,GSNIS-3    ,2,6760,13856,20181020,1810,22.0001,-152.0003,5271,5233.4,1.5143,34.692,2,-999,9,20181020,1810,22,-152.0003,143.29,2,2.43,2,35.23,2,0,2,-999,9,-999,9,2.293,1,0.017,1,4.692,1,162.3,2
33RR20180918, GP15,18,9,3,GSNIS-4    ,2,6760,13856,20181020,1810,22.0001,-152.0003,5271,5235,1.5144,34.692,2,-999,9,20181020,1810,21.9999,-152.0003,143.19,2,2.43,2,35.26,2,0,2,-999,9,-999,9,2.293,1,0.017,1,4.692,1,164.6,2
33RR20180918, GP15,18,9,4,GSNIS-5    ,2,6760,13855,20181020,1810,22.0001,-152.0003,5271,5192.5,1.5094,34.692,2,1.5094,2,20181020,1813,21.9999,-152.0003,143.38,2,2.43,2,35.23,2,0,2,163.33,2,34.6914,2,2.288,1,0.017,1,4.692,1,162.6,2
33RR20180918, GP15,18,9,5,GSNIS-6    ,2,6760,13855,20181020,1810,22.0001,-152.0003,5271,5192.6,1.5094,34.692,2,-999,9,20181020,1813,21.9999,-152.0003,143.09,2,2.42,2,35.19,2,0,2,-999,9,-999,9,2.287,1,0.017,1,4.692,1,162.3,2
33RR20180918, GP15,18,9,6,GSNIS-7    ,2,6760,13855,20181020,1810,22.0001,-152.0003,5271,5192.6,1.5095,34.6919,2,-999,9,20181020,1813,21.9999,-152.0003,143.09,2,2.43,2,35.17,2,0,2,-999,9,-999,9,2.287,1,0.017,1,4.692,1,162.3,2
33RR20180918, GP15,18,9,7,GSNIS-8    ,2,6760,13854,20181020,1810,22.0001,-152.0003,5271,4834,1.4826,34.6908,2,1.4826,2,20181020,1824,22,-152.0003,146.02,2,2.46,2,35.39,2,0,2,159.8,2,34.6908,2,2.247,1,0.017,1,4.693,1,159.8,2
33RR20180918, GP15,18,9,8,GSNIS-9    ,2,6760,13854,20181020,1810,22.0001,-152.0003,5271,4834.2,1.4827,34.6908,2,-999,9,20181020,1824,22,-152.0003,145.63,2,2.46,2,35.37,2,0,2,-999,9,-999,9,2.248,1,0.017,1,4.693,1,160,2
33RR20180918, GP15,18,9,9,GSNIS-10   ,2,6760,13854,20181020,1810,22.0001,-152.0003,5271,4833.9,1.4827,34.6908,2,-999,9,20181020,1824,22,-152.0003,145.43,2,2.45,2,35.32,2,0,2,-999,9,-999,9,2.248,1,0.017,1,4.693,1,157.1,2
33RR20180918, GP15,18,9,10,GSNIS-11   ,2,6760,13853,20181020,1810,22.0001,-152.0003,5271,4321.2,1.4707,34.6869,2,1.4705,2,20181020,1834,22,-152.0003,151.49,2,2.49,2,35.89,2,0,2,151.68,2,34.6863,2,2.225,1,0.017,1,4.695,1,151.8,2
33RR20180918, GP15,18,9,11,GSNIS-12   ,2,6760,13853,20181020,1810,22.0001,-152.0003,5271,4320.1,1.4706,34.6871,2,-999,9,20181020,1834,22,-152.0003,152.07,2,2.48,2,35.92,2,0,2,-999,9,-999,9,2.225,1,0.017,1,4.695,1,152,2
33RR20180918, GP15,18,9,12,GSNIS-13   ,2,6760,13853,20181020,1810,22.0001,-152.0003,5271,4321.1,1.4707,34.6869,2,-999,9,20181020,1835,22,-152.0003,151.78,2,2.49,2,35.91,2,0,2,-999,9,-999,9,2.225,1,0.017,1,4.695,1,151.7,2
33RR20180918, GP15,18,9,13,GSNIS-14   ,2,6760,13852,20181020,1810,22.0001,-152.0003,5271,3810.2,1.4799,34.6816,2,1.4794,2,20181020,1845,22,-152.0003,156.07,2,2.53,2,36.56,2,0,2,142.82,2,34.681,2,2.244,1,0.017,1,4.695,1,142.4,2
33RR20180918, GP15,18,9,14,GSNIS-15   ,2,6760,13852,20181020,1810,22.0001,-152.0003,5271,3808.8,1.4795,34.6818,2,-999,9,20181020,1845,22,-152.0003,156.17,2,2.55,2,36.63,2,0,2,-999,9,-999,9,2.244,1,0.017,1,4.695,1,143.5,2
33RR20180918, GP15,18,9,15,GSNIS-16   ,2,6760,13852,20181020,1810,22.0001,-152.0003,5271,3808.6,1.4798,34.6818,2,-999,9,20181020,1845,22,-152.0003,156.27,2,2.52,2,36.63,2,0,2,-999,9,-999,9,2.245,1,0.017,1,4.695,1,142.5,2
33RR20180918, GP15,18,9,16,GSNIS-17   ,2,6760,13851,20181020,1810,22.0001,-152.0003,5271,3296.7,1.5547,34.6727,2,1.5545,2,20181020,1855,21.9999,-152.0003,160.17,2,2.62,2,37.52,2,0,2,128.97,2,34.6726,2,2.287,1,0.016,1,4.695,1,129.8,2
33RR20180918, GP15,18,9,17,GSNIS-18   ,2,6760,13851,20181020,1810,22.0001,-152.0003,5271,3298,1.5549,34.6726,2,-999,9,20181020,1855,21.9999,-152.0003,160.66,2,2.62,2,37.51,2,0,2,-999,9,-999,9,2.287,1,0.016,1,4.695,1,128.7,2
33RR20180918, GP15,18,9,18,GSNIS-19   ,2,6760,13851,20181020,1810,22.0001,-152.0003,5271,3297.1,1.5547,34.6729,2,-999,9,20181020,1855,21.9999,-152.0003,159.98,2,2.64,2,37.5,2,0,2,-999,9,-999,9,2.288,1,0.016,1,4.695,1,128.8,2
33RR20180918, GP15,18,9,19,GSNIS-20   ,2,6760,13850,20181020,1810,22.0001,-152.0003,5271,2786.5,1.7056,34.6584,2,1.7054,2,20181020,1905,22,-152.0004,158.42,2,2.68,2,38.43,2,0,2,114.83,2,34.657,2,2.361,1,0.017,1,4.694,1,114.6,2
33RR20180918, GP15,18,9,20,GSNIS-21   ,2,6760,13850,20181020,1810,22.0001,-152.0003,5271,2786.9,1.7058,34.6582,2,-999,9,20181020,1905,22,-152.0004,158.61,2,2.68,2,38.4,2,0,2,-999,9,-999,9,2.361,1,0.017,1,4.694,1,115,2
33RR20180918, GP15,18,9,21,GSNIS-22   ,2,6760,13850,20181020,1810,22.0001,-152.0003,5271,2785.8,1.7057,34.6583,2,-999,9,20181020,1905,22,-152.0003,158.81,2,2.69,2,38.44,2,0,2,-999,9,-999,9,2.362,1,0.017,1,4.694,1,114.9,2
33RR20180918, GP15,18,9,22,GSNIS-23   ,2,6760,13849,20181020,1810,22.0001,-152.0003,5271,2277.8,1.9517,34.6378,2,1.9512,2,20181020,1915,22,-152.0003,154.52,2,2.78,2,39.35,2,0,2,100.12,2,34.6374,2,2.431,1,0.017,1,4.693,1,99.5,2
33RR20180918, GP15,18,9,23,GSNIS-24   ,2,6760,13849,20181020,1810,22.0001,-152.0003,5271,2280,1.9515,34.6379,2,-999,9,20181020,1915,22,-152.0003,154.22,2,2.78,2,39.39,2,0,2,-999,9,-999,9,2.432,1,0.017,1,4.693,1,99.4,2
33RR20180918, GP15,18,9,24,GSNIS-25   ,2,6760,13849,20181020,1810,22.0001,-152.0003,5271,2278.4,1.9516,34.6378,2,-999,9,20181020,1915,22,-152.0003,153.93,2,2.77,2,39.37,2,0,2,-999,9,-999,9,2.432,1,0.017,1,4.693,1,98.6,2
33RR20180918, GP15,18,9,25,GSNIS-26   ,2,6760,13848,20181020,1810,22.0001,-152.0003,5271,1769.8,2.4863,34.6002,2,2.4866,2,20181020,1925,22,-152.0003,143.3,2,2.9,2,40.75,2,0,2,77.61,2,34.5995,2,2.536,1,0.017,1,4.692,1,76.9,2
33RR20180918, GP15,18,9,26,GSNIS-27   ,2,6760,13848,20181020,1810,22.0001,-152.0003,5271,1770.3,2.4868,34.6001,2,-999,9,20181020,1925,22,-152.0003,143,2,2.91,2,40.69,2,0,2,-999,9,-999,9,2.536,1,0.018,1,4.692,1,76.4,2
33RR20180918, GP15,18,9,27,GSNIS-28   ,2,6760,13848,20181020,1810,22.0001,-152.0003,5271,1770.2,2.4872,34.6001,2,-999,9,20181020,1925,22,-152.0003,143.3,2,2.91,2,40.76,2,0,2,-999,9,-999,9,2.542,1,0.018,1,4.692,1,76.4,2
33RR20180918, GP15,18,9,28,GSNIS-29   ,2,6760,13847,20181020,1810,22.0001,-152.0003,5271,1264.3,3.3874,34.5481,2,3.3869,2,20181020,1935,22.0001,-152.0003,122.8,2,3.03,2,41.8,2,0,2,55.34,2,34.548,2,2.719,1,0.018,1,4.69,1,55.3,2
33RR20180918, GP15,18,9,29,GSNIS-30   ,2,6760,13847,20181020,1810,22.0001,-152.0003,5271,1264.3,3.3869,34.548,2,-999,9,20181020,1935,22.0001,-152.0003,122.9,2,3.03,2,41.77,2,0.01,2,-999,9,-999,9,2.72,1,0.017,1,4.69,1,54.7,2
33RR20180918, GP15,18,9,30,GSNIS-31   ,2,6760,13847,20181020,1810,22.0001,-152.0003,5271,1263.8,3.3874,34.5481,2,-999,9,20181020,1935,22.0001,-152.0003,122.7,2,3.04,2,41.73,2,0.01,2,-999,9,-999,9,2.722,1,0.017,1,4.69,1,55.1,2
33RR20180918, GP15,18,9,31,GSNIS-32   ,2,6760,13846,20181020,1810,22.0001,-152.0003,5271,1112,3.8114,34.5223,2,3.8126,2,20181020,1939,22.0001,-152.0003,113.43,2,3.05,2,41.94,2,0,2,47.68,2,34.5213,2,2.78,1,0.018,1,4.689,1,46.3,2
33RR20180918, GP15,18,9,32,GSNIS-33   ,2,6760,13846,20181020,1810,22.0001,-152.0003,5271,1111.9,3.813,34.5223,2,-999,9,20181020,1939,22.0001,-152.0003,113.33,2,3.05,2,41.87,2,0,2,-999,9,-999,9,2.782,1,0.018,1,4.689,1,47.1,2
33RR20180918, GP15,18,9,33,GSNIS-34   ,2,6760,13846,20181020,1810,22.0001,-152.0003,5271,1112.3,3.8134,34.5222,2,-999,9,20181020,1939,22.0001,-152.0003,113.24,2,3.05,2,41.87,2,0,2,-999,9,-999,9,2.784,1,0.018,1,4.689,1,46.4,2
33RR20180918, GP15,18,9,34,GSNIS-35   ,2,6760,13845,20181020,1810,22.0001,-152.0003,5271,1011.1,4.0502,34.5025,2,4.0485,2,20181020,1943,22.0001,-152.0003,108.55,2,3.06,2,41.87,2,0,2,43.52,2,34.5032,2,2.841,1,0.018,1,4.689,1,43.1,2
33RR20180918, GP15,18,9,35,GSNIS-36   ,2,6760,13845,20181020,1810,22.0001,-152.0003,5271,1010,4.0441,34.5029,2,-999,9,20181020,1943,22.0001,-152.0003,108.36,2,3.03,2,41.81,2,0,2,-999,9,-999,9,2.842,1,0.017,1,4.689,1,42.8,2
33RR20180918, GP15,18,9,36,GSNIS-1    ,2,6760,13845,20181020,1810,22.0001,-152.0003,5271,1010.9,4.0502,34.5024,2,-999,9,20181020,1943,22.0001,-152.0003,108.07,2,3.02,2,41.68,2,0,2,-999,9,-999,9,2.844,1,0.018,1,4.689,1,43,2