BOTTLE,20191212SIOCCHAMB
EXPOCODE,SECT_ID,STNNBR,CASTNO,SAMPNO,BTLNBR,BTLNBR_FLAG_W,GEOTRC_EVENTNO,GEOTRC_SAMPNO,DATE,TIME,LATITUDE,LONGITUDE,DEPTH,CTDPRS,CTDTMP,CTDSAL,CTDSAL_FLAG_W,REFTMP,REFTMP_FLAG_W,BTL_DATE,BTL_TIME,BTL_LAT,BTL_LON,SILCAT,SILCAT_FLAG_W,PHSPHT,PHSPHT_FLAG_W,NITRAT,NITRAT_FLAG_W,NITRIT,NITRIT_FLAG_W,OXYGEN,OXYGEN_FLAG_W,SALNTY,SALNTY_FLAG_W,CTDRINKO,CTDRINKO_FLAG_W,CTDFLUOR,CTDFLUOR_FLAG_W,CTDXMISS,CTDXMISS_FLAG_W,CTDOXY,CTDOXY_FLAG_W
,,,,,,,,,,,,,METERS,DBAR,ITS-90,PSS-78,,ITS-90,,,,,,UMOL/KG,,UMOL/KG,,UMOL/KG,,UMOL/KG,,UMOL/KG,,PSS-78,,VOLTS,,VOLTS,,VOLTS,,UMOL/KG,
33RR20180918, GP15,31,3,1,GSNIS-2    ,2,6913,15012,20181111,351,-2.5001,-152.0003,4706,402.4,10.3808,34.7645,2,10.3837,2,20181111,351,-2.5001,-152.0003,30.68,2,2.59,2,34.64,2,0,2,10.25,2,34.7669,2,3.043,1,0.018,1,4.658,1,11,2
33RR20180918, GP15,31,3,2,GSNIS-3    ,2,6913,15012,20181111,351,-2.5001,-152.0003,4706,402.8,10.3848,34.7645,2,-999,9,20181111,351,-2.5001,-152.0003,30.59,2,2.61,2,34.56,2,0,2,-999,9,-999,9,3.049,1,0.018,1,4.658,1,10.1,2
33RR20180918, GP15,31,3,3,GSNIS-4    ,2,6913,15012,20181111,351,-2.5001,-152.0003,4706,402.2,10.384,34.765,2,-999,9,20181111,351,-2.5001,-152.0003,30.78,2,2.61,2,34.53,2,0,2,-999,9,-999,9,3.055,1,0.018,1,4.659,1,9.6,2
33RR20180918, GP15,31,3,4,GSNIS-5    ,2,6913,15011,20181111,351,-2.5001,-152.0003,4706,341.5,11.5945,34.8399,2,11.5897,2,20181111,354,-2.5001,-152.0002,25.8,2,2.39,2,32.41,2,0,2,14.77,2,34.8405,2,3.199,1,0.017,1,4.66,1,14.5,2
33RR20180918, GP15,31,3,5,GSNIS-6    ,2,6913,15011,20181111,351,-2.5001,-152.0003,4706,342.7,11.595,34.8399,2,-999,9,20181111,354,-2.5001,-152.0002,25.8,2,2.4,2,32.45,2,0,2,-999,9,-999,9,3.201,1,0.018,1,4.661,1,15.4,2
33RR20180918, GP15,31,3,6,GSNIS-7    ,2,6913,15011,20181111,351,-2.5001,-152.0003,4706,342.1,11.5846,34.8395,2,-999,9,20181111,354,-2.5001,-152.0002,25.8,2,2.4,2,32.52,2,0,2,-999,9,-999,9,3.203,1,0.017,1,4.66,1,15,2
33RR20180918, GP15,31,3,7,GSNIS-8    ,2,6913,15010,20181111,351,-2.5001,-152.0003,4706,302.1,12.1626,34.8742,2,12.1632,2,20181111,356,-2.5001,-152.0002,24.23,2,2.36,2,32.42,2,0,2,10.76,2,34.8757,2,3.208,1,0.017,1,4.661,1,11,2
33RR20180918, GP15,31,3,8,GSNIS-9    ,2,6913,15010,20181111,351,-2.5001,-152.0003,4706,302.1,12.1649,34.8745,2,-999,9,20181111,356,-2.5001,-152.0002,24.04,2,2.35,2,32.34,2,0,2,-999,9,-999,9,3.207,1,0.017,1,4.661,1,11.1,2
33RR20180918, GP15,31,3,9,GSNIS-10   ,2,6913,15010,20181111,351,-2.5001,-152.0003,4706,301.4,12.1663,34.8746,2,-999,9,20181111,356,-2.5001,-152.0002,24.14,2,2.36,2,32.43,2,0,2,-999,9,-999,9,3.206,1,0.017,1,4.661,1,11.1,2
33RR20180918, GP15,31,3,10,GSNIS-11   ,2,6913,15009,20181111,351,-2.5001,-152.0003,4706,261.7,12.6133,34.9004,2,12.6144,2,20181111,358,-2.5001,-152.0002,22.38,2,2.31,2,32.05,2,0,2,11.8,2,34.9012,2,3.194,1,0.017,1,4.663,1,11.6,2
33RR20180918, GP15,31,3,11,GSNIS-12   ,2,6913,15009,20181111,351,-2.5001,-152.0003,4706,261.1,12.6168,34.9006,2,-999,9,20181111,358,-2.5001,-152.0002,22.38,2,2.3,2,32.02,2,0,2,-999,9,-999,9,3.194,1,0.017,1,4.662,1,12.8,2
33RR20180918, GP15,31,3,12,GSNIS-13   ,2,6913,15009,20181111,351,-2.5001,-152.0003,4706,261.5,12.6138,34.9005,2,-999,9,20181111,358,-2.5001,-152.0002,22.18,2,2.3,2,31.94,2,0,2,-999,9,-999,9,3.194,1,0.017,1,4.662,1,12.9,2
33RR20180918, GP15,31,3,13,GSNIS-14   ,2,6913,15008,20181111,351,-2.5001,-152.0003,4706,209.7,13.199,34.9399,2,13.2098,2,20181111,400,-2.5001,-152.0002,18.86,2,2.17,2,30.5,2,0,2,21.93,2,34.9471,2,3.194,1,0.017,1,4.663,1,23.9,2
33RR20180918, GP15,31,3,14,GSNIS-15   ,2,6913,15008,20181111,351,-2.5001,-152.0003,4706,211.5,13.1945,34.9398,2,-999,9,20181111,400,-2.5001,-152.0002,19.05,2,2.17,2,30.53,2,0,2,-999,9,-999,9,3.192,1,0.017,1,4.663,1,25.7,2
33RR20180918, GP15,31,3,15,GSNIS-16   ,2,6913,15008,20181111,351,-2.5001,-152.0003,4706,211.1,13.2055,34.9407,2,-999,9,20181111,400,-2.5001,-152.0002,18.76,2,2.16,2,30.39,2,0,2,-999,9,-999,9,3.191,1,0.017,1,4.663,1,26.4,2
33RR20180918, GP15,31,3,16,GSNIS-17   ,2,6913,15007,20181111,351,-2.5001,-152.0003,4706,181,14.3028,35.039,2,14.3082,2,20181111,402,-2.5001,-152.0003,15.05,2,1.97,2,27.58,2,0,2,38.13,2,35.0398,2,3.124,1,0.018,1,4.662,1,45.2,3
33RR20180918, GP15,31,3,17,GSNIS-18   ,2,6913,15007,20181111,351,-2.5001,-152.0003,4706,180.5,14.3079,35.0394,2,-999,9,20181111,402,-2.5001,-152.0003,14.95,2,1.96,2,27.57,2,0,2,-999,9,-999,9,3.121,1,0.018,1,4.662,1,51.4,3
33RR20180918, GP15,31,3,18,GSNIS-19   ,2,6913,15007,20181111,351,-2.5001,-152.0003,4706,180.5,14.3124,35.0396,2,-999,9,20181111,402,-2.5001,-152.0002,14.85,2,1.96,2,27.55,2,0,2,-999,9,-999,9,3.116,1,0.019,1,4.661,1,50.9,3
33RR20180918, GP15,31,3,19,GSNIS-20   ,2,6913,15006,20181111,351,-2.5001,-152.0003,4706,150,18.5381,35.5521,3,18.263,3,20181111,404,-2.5001,-152.0003,2.93,2,1.08,2,12.4,2,0.04,2,123.19,2,35.5723,3,2.786,1,0.024,1,4.653,1,125.4,2
33RR20180918, GP15,31,3,20,GSNIS-21   ,2,6913,15006,20181111,351,-2.5001,-152.0003,4706,150.7,18.2406,35.5137,2,-999,9,20181111,404,-2.5001,-152.0003,3.13,2,1.1,2,12.63,2,0.04,2,-999,9,-999,9,2.769,1,0.024,1,4.653,1,143.5,2
33RR20180918, GP15,31,3,21,GSNIS-22   ,2,6913,15006,20181111,351,-2.5001,-152.0003,4706,149.9,18.285,35.5104,2,-999,9,20181111,404,-2.5001,-152.0003,3.03,2,1.1,2,12.53,2,0.04,2,-999,9,-999,9,2.753,1,0.023,1,4.654,1,143.7,2
33RR20180918, GP15,31,3,22,GSNIS-23   ,2,6913,15005,20181111,351,-2.5001,-152.0003,4706,132,24.1804,36.0728,3,24.2174,2,20181111,406,-2.5001,-152.0003,0.2,2,0.62,2,4.4,2,1.87,2,163.02,2,36.0445,3,1.886,1,0.034,1,4.642,1,161.5,2
33RR20180918, GP15,31,3,23,GSNIS-24   ,2,6913,15005,20181111,351,-2.5001,-152.0003,4706,131.3,24.2277,36.0584,2,-999,9,20181111,406,-2.5001,-152.0003,0.2,2,0.63,2,4.36,2,1.94,2,-999,9,-999,9,1.869,1,0.037,1,4.642,1,162.3,2
33RR20180918, GP15,31,3,24,GSNIS-25   ,2,6913,15005,20181111,351,-2.5001,-152.0003,4706,132,24.1854,36.073,2,-999,9,20181111,406,-2.5001,-152.0003,0.2,2,0.63,2,4.35,2,1.94,2,-999,9,-999,9,1.875,1,0.035,1,4.643,1,162.2,2
33RR20180918, GP15,31,3,25,GSNIS-26   ,2,6913,15004,20181111,351,-2.5001,-152.0003,4706,105.7,27.4053,35.4587,2,27.4054,2,20181111,408,-2.5001,-152.0003,0.59,2,0.55,2,4.92,2,0.17,2,192.99,2,35.4604,2,1.496,1,0.047,1,4.625,1,193.1,2
33RR20180918, GP15,31,3,26,GSNIS-27   ,2,6913,15004,20181111,351,-2.5001,-152.0003,4706,105.6,27.4059,35.459,2,-999,9,20181111,408,-2.5001,-152.0003,0.39,2,0.56,2,4.91,2,0.17,2,-999,9,-999,9,1.485,1,0.048,1,4.624,1,192.8,2
33RR20180918, GP15,31,3,27,GSNIS-28   ,2,6913,15004,20181111,351,-2.5001,-152.0003,4706,105.5,27.4079,35.459,2,-999,9,20181111,408,-2.5001,-152.0002,0.39,2,0.56,2,4.91,2,0.17,2,-999,9,-999,9,1.477,1,0.047,1,4.625,1,193,2
33RR20180918, GP15,31,3,28,GSNIS-29   ,2,6913,15003,20181111,351,-2.5001,-152.0003,4706,85.7,27.9018,35.5184,3,27.9002,2,20181111,410,-2.5001,-152.0002,0.1,2,0.47,2,4.2,2,0.1,2,197.58,2,35.5024,3,1.358,1,0.055,1,4.598,1,198.5,2
33RR20180918, GP15,31,3,29,GSNIS-30   ,2,6913,15003,20181111,351,-2.5001,-152.0003,4706,85.5,27.9008,35.5166,2,-999,9,20181111,410,-2.5001,-152.0002,0.2,2,0.47,2,4.25,2,0.1,2,-999,9,-999,9,1.355,1,0.053,1,4.598,1,197.8,2
33RR20180918, GP15,31,3,30,GSNIS-31   ,2,6913,15003,20181111,351,-2.5001,-152.0003,4706,85.9,27.8952,35.5179,2,-999,9,20181111,410,-2.5001,-152.0003,0.29,2,0.48,2,4.26,2,0.1,2,-999,9,-999,9,1.352,1,0.051,1,4.598,1,198.5,2
33RR20180918, GP15,31,3,31,GSNIS-32   ,2,6913,15002,20181111,351,-2.5001,-152.0003,4706,65,28.0582,35.474,2,28.0603,2,20181111,412,-2.5001,-152.0002,0,2,0.41,2,3.5,2,0.08,2,198.6,2,35.4738,2,1.302,1,0.046,1,4.596,1,200,2
33RR20180918, GP15,31,3,32,GSNIS-33   ,2,6913,15002,20181111,351,-2.5001,-152.0003,4706,65.9,28.0612,35.4738,2,-999,9,20181111,412,-2.5001,-152.0002,0,2,0.41,2,3.49,2,0.08,2,-999,9,-999,9,1.302,1,0.047,1,4.595,1,199.8,2
33RR20180918, GP15,31,3,33,GSNIS-34   ,2,6913,15002,20181111,351,-2.5001,-152.0003,4706,65.7,28.0602,35.4737,2,-999,9,20181111,412,-2.5001,-152.0002,0.1,2,0.41,2,3.48,2,0.08,2,-999,9,-999,9,1.302,1,0.048,1,4.596,1,199.9,2
33RR20180918, GP15,31,3,34,GSNIS-35   ,2,6913,15001,20181111,351,-2.5001,-152.0003,4706,30.9,28.0773,35.4739,2,28.0772,2,20181111,414,-2.5001,-152.0002,0.1,2,0.41,2,3.46,2,0.08,2,199.2,2,35.474,2,1.282,1,0.041,1,4.586,1,199.3,2
33RR20180918, GP15,31,3,35,GSNIS-36   ,2,6913,15001,20181111,351,-2.5001,-152.0003,4706,30.7,28.0774,35.4741,2,-999,9,20181111,414,-2.5001,-152.0003,0,2,0.41,2,3.45,2,0.09,2,-999,9,-999,9,1.282,1,0.041,1,4.587,1,199.2,2
33RR20180918, GP15,31,3,36,GSNIS-1    ,2,6913,15001,20181111,351,-2.5001,-152.0003,4706,30.9,28.0776,35.4741,2,-999,9,20181111,414,-2.5001,-152.0003,0.1,2,0.41,2,3.44,2,0.09,2,-999,9,-999,9,1.282,1,0.041,1,4.585,1,198.6,2
33RR20180918, GP15,31,5,1,GSNIS-2    ,2,6916,15049,20181111,1134,-2.5015,-152.0067,4706,1410.5,3.2487,34.5899,2,3.2471,2,20181111,1134,-2.5015,-152.0067,110.35,2,2.76,2,39.34,2,0,2,96.29,2,34.5901,2,2.506,1,0.018,1,4.672,1,96.3,2
33RR20180918, GP15,31,5,2,GSNIS-3    ,2,6916,15049,20181111,1134,-2.5015,-152.0067,4706,1411.2,3.2488,34.5898,2,-999,9,20181111,1135,-2.5015,-152.0067,110.45,2,2.76,2,39.22,2,0,2,-999,9,-999,9,2.505,1,0.017,1,4.67,1,96.4,2
33RR20180918, GP15,31,5,3,GSNIS-4    ,2,6916,15049,20181111,1134,-2.5015,-152.0067,4706,1411.1,3.2475,34.5899,2,-999,9,20181111,1135,-2.5015,-152.0067,110.06,2,2.76,2,39.18,2,0,2,-999,9,-999,9,2.505,1,0.017,1,4.672,1,96.4,2
33RR20180918, GP15,31,5,4,GSNIS-5    ,2,6916,15048,20181111,1134,-2.5015,-152.0067,4706,1159.6,3.8588,34.5692,2,3.8588,2,20181111,1140,-2.5015,-152.0067,97.35,2,2.79,2,39.69,2,0,2,86.95,2,34.569,2,2.483,1,0.018,1,4.67,1,87.1,2
33RR20180918, GP15,31,5,5,GSNIS-6    ,2,6916,15048,20181111,1134,-2.5015,-152.0067,4706,1160.7,3.8591,34.5691,2,-999,9,20181111,1140,-2.5015,-152.0067,97.45,2,2.79,2,39.71,2,0,2,-999,9,-999,9,2.484,1,0.017,1,4.67,1,87.1,2
33RR20180918, GP15,31,5,6,GSNIS-7    ,2,6916,15048,20181111,1134,-2.5015,-152.0067,4706,1160.3,3.8593,34.5692,2,-999,9,20181111,1140,-2.5015,-152.0067,97.45,2,2.79,2,39.65,2,0,2,-999,9,-999,9,2.485,1,0.017,1,4.67,1,87.2,2
33RR20180918, GP15,31,5,7,GSNIS-8    ,2,6916,15047,20181111,1134,-2.5015,-152.0067,4706,908.7,4.9991,34.5437,2,5.0017,2,20181111,1146,-2.5015,-152.0067,72.72,2,2.72,2,39.3,2,0,2,80.27,2,34.5445,2,2.484,1,0.018,1,4.67,1,80.3,2
33RR20180918, GP15,31,5,8,GSNIS-9    ,2,6916,15047,20181111,1134,-2.5015,-152.0067,4706,907.8,5.0023,34.5437,2,-999,9,20181111,1146,-2.5015,-152.0067,72.72,2,2.73,2,39.26,2,0,2,-999,9,-999,9,2.484,1,0.017,1,4.67,1,80.3,2
33RR20180918, GP15,31,5,9,GSNIS-10   ,2,6916,15047,20181111,1134,-2.5015,-152.0067,4706,907.7,5.0023,34.5437,2,-999,9,20181111,1146,-2.5015,-152.0067,72.63,2,2.72,2,39.17,2,0,2,-999,9,-999,9,2.485,1,0.017,1,4.67,1,80.3,2
33RR20180918, GP15,31,5,10,GSNIS-11   ,2,6916,15046,20181111,1134,-2.5015,-152.0067,4706,756.8,5.8141,34.5455,2,5.8148,2,20181111,1150,-2.5015,-152.0067,59.43,2,2.72,2,39.34,2,0,2,70.06,2,34.5459,2,2.51,1,0.017,1,4.669,1,69.6,2
33RR20180918, GP15,31,5,11,GSNIS-12   ,2,6916,15046,20181111,1134,-2.5015,-152.0067,4706,758.2,5.8149,34.5455,2,-999,9,20181111,1150,-2.5015,-152.0067,59.43,2,2.72,2,39.25,2,0,2,-999,9,-999,9,2.512,1,0.017,1,4.669,1,69.8,2
33RR20180918, GP15,31,5,12,GSNIS-13   ,2,6916,15045,20181111,1134,-2.5015,-152.0067,4706,606.3,6.8941,34.5727,2,6.8935,2,20181111,1154,-2.5015,-152.0067,47.41,2,2.69,2,39.37,2,0,2,52.44,2,34.5726,2,2.575,1,0.017,1,4.667,1,52.2,2
33RR20180918, GP15,31,5,13,GSNIS-14   ,2,6916,15045,20181111,1134,-2.5015,-152.0067,4706,607.3,6.8937,34.5726,2,-999,9,20181111,1154,-2.5015,-152.0067,47.31,2,2.68,2,39.35,2,0,2,-999,9,-999,9,2.576,1,0.017,1,4.667,1,51.7,2
33RR20180918, GP15,31,5,14,GSNIS-15   ,2,6916,15045,20181111,1134,-2.5015,-152.0067,4706,607,6.8936,34.5726,2,-999,9,20181111,1154,-2.5015,-152.0067,47.31,2,2.68,2,39.32,2,0,2,-999,9,-999,9,2.578,1,0.018,1,4.668,1,51.8,2
33RR20180918, GP15,31,5,15,GSNIS-16   ,2,6916,15044,20181111,1134,-2.5015,-152.0067,4706,403.8,10.0072,34.7413,2,10.015,2,20181111,1158,-2.5015,-152.0067,32.25,2,2.55,2,35.36,2,0,2,9.5,2,34.7425,2,2.797,1,0.018,1,4.662,1,11.6,2
33RR20180918, GP15,31,5,16,GSNIS-17   ,2,6916,15044,20181111,1134,-2.5015,-152.0067,4706,402.9,10.0206,34.7425,2,-999,9,20181111,1158,-2.5015,-152.0067,32.15,2,2.54,2,35.27,2,0,2,-999,9,-999,9,2.802,1,0.017,1,4.662,1,9.7,2
33RR20180918, GP15,31,5,17,GSNIS-18   ,2,6916,15044,20181111,1134,-2.5015,-152.0067,4706,403.1,10.011,34.7415,2,-999,9,20181111,1159,-2.5015,-152.0067,32.15,2,2.54,2,35.29,2,0,2,-999,9,-999,9,2.804,1,0.018,1,4.662,1,9.7,2
33RR20180918, GP15,31,5,18,GSNIS-19   ,2,6916,15043,20181111,1134,-2.5015,-152.0067,4706,261.4,12.3835,34.8873,2,12.391,2,20181111,1202,-2.5015,-152.0067,23.36,2,2.18,2,32.02,2,0,2,11.87,2,34.8861,2,2.428,1,0.017,1,4.662,1,13,2
33RR20180918, GP15,31,5,19,GSNIS-20   ,2,6916,15043,20181111,1134,-2.5015,-152.0067,4706,262.3,12.3972,34.8877,2,-999,9,20181111,1202,-2.5015,-152.0067,23.06,2,2.17,2,32,2,0,2,-999,9,-999,9,2.42,1,0.017,1,4.662,1,12.4,2
33RR20180918, GP15,31,5,20,GSNIS-21   ,2,6916,15043,20181111,1134,-2.5015,-152.0067,4706,261.7,12.392,34.8883,2,-999,9,20181111,1202,-2.5015,-152.0067,22.96,2,2.17,2,32.03,2,0,2,-999,9,-999,9,2.415,1,0.017,1,4.661,1,13,2
33RR20180918, GP15,31,5,21,GSNIS-22   ,2,6916,15042,20181111,1134,-2.5015,-152.0067,4706,150.6,19.8136,35.696,2,19.904,3,20181111,1205,-2.5015,-152.0067,1.95,2,0.78,2,9.84,2,0.04,2,137.83,2,35.731,3,2.367,1,0.025,1,4.649,1,138.1,2
33RR20180918, GP15,31,5,22,GSNIS-23   ,2,6916,15042,20181111,1134,-2.5015,-152.0067,4706,150.4,19.9056,35.7065,2,-999,9,20181111,1205,-2.5015,-152.0067,2.05,2,0.77,2,9.83,2,0.04,2,-999,9,-999,9,2.358,1,0.027,1,4.649,1,143.3,2
33RR20180918, GP15,31,5,23,GSNIS-24   ,2,6916,15042,20181111,1134,-2.5015,-152.0067,4706,151.2,19.7361,35.6993,2,-999,9,20181111,1206,-2.5015,-152.0067,1.95,2,0.76,2,9.76,2,0.04,2,-999,9,-999,9,2.35,1,0.026,1,4.648,1,142.7,2
33RR20180918, GP15,31,5,24,GSNIS-25   ,2,6916,15041,20181111,1134,-2.5015,-152.0067,4706,130.6,24.722,35.9891,3,24.7766,3,20181111,1207,-2.5015,-152.0067,0.78,2,0.49,2,4.05,2,2.47,2,165.54,2,35.9684,3,2.515,1,0.036,1,4.636,1,164,2
33RR20180918, GP15,31,5,25,GSNIS-26   ,2,6916,15041,20181111,1134,-2.5015,-152.0067,4706,130.4,24.7678,35.9842,2,-999,9,20181111,1207,-2.5015,-152.0067,0.78,2,0.49,2,4.05,2,2.45,2,-999,9,-999,9,2.511,1,0.036,1,4.638,1,165.2,2
33RR20180918, GP15,31,5,26,GSNIS-27   ,2,6916,15041,20181111,1134,-2.5015,-152.0067,4706,130.7,24.7573,35.9875,2,-999,9,20181111,1208,-2.5015,-152.0067,0.78,2,0.49,2,4.04,2,2.47,2,-999,9,-999,9,2.512,1,0.037,1,4.638,1,164.6,2
33RR20180918, GP15,31,5,27,GSNIS-28   ,2,6916,15040,20181111,1134,-2.5015,-152.0067,4706,105.2,27.4289,35.4574,2,27.4315,2,20181111,1210,-2.5015,-152.0067,0.98,2,0.41,2,4.89,2,0.15,2,193.62,2,35.4569,2,1.932,1,0.047,1,4.623,1,193.9,2
33RR20180918, GP15,31,5,28,GSNIS-29   ,2,6916,15040,20181111,1134,-2.5015,-152.0067,4706,106.2,27.429,35.4574,2,-999,9,20181111,1210,-2.5015,-152.0067,0.88,2,0.4,2,4.89,2,0.15,2,-999,9,-999,9,1.876,1,0.044,1,4.623,1,193.7,2
33RR20180918, GP15,31,5,29,GSNIS-30   ,2,6916,15039,20181111,1134,-2.5015,-152.0067,4706,85.6,27.9602,35.4714,2,27.9612,2,20181111,1211,-2.5015,-152.0067,0.59,2,0.29,2,3.76,2,0.09,2,197.3,2,35.4715,2,1.402,1,0.046,1,4.607,1,198.3,2
33RR20180918, GP15,31,5,30,GSNIS-31   ,2,6916,15039,20181111,1134,-2.5015,-152.0067,4706,85.8,27.9614,35.4715,2,-999,9,20181111,1212,-2.5015,-152.0067,0.59,2,0.29,2,3.71,2,0.09,2,-999,9,-999,9,1.393,1,0.046,1,4.608,1,198.8,2
33RR20180918, GP15,31,5,31,GSNIS-32   ,2,6916,15039,20181111,1134,-2.5015,-152.0067,4706,85.8,27.9619,35.4715,2,-999,9,20181111,1212,-2.5015,-152.0067,0.59,2,0.29,2,3.73,2,0.09,2,-999,9,-999,9,1.386,1,0.047,1,4.607,1,198.8,2
33RR20180918, GP15,31,5,32,GSNIS-33   ,2,6916,15039,20181111,1134,-2.5015,-152.0067,4706,85.3,27.9658,35.4715,2,-999,9,20181111,1212,-2.5015,-152.0067,0.68,2,0.29,2,3.69,2,0.09,2,-999,9,-999,9,1.38,1,0.046,1,4.608,1,198.8,2
33RR20180918, GP15,31,5,33,GSNIS-34   ,2,6916,15038,20181111,1134,-2.5015,-152.0067,4706,30.7,28.1027,35.4757,2,28.1019,2,20181111,1215,-2.5015,-152.0067,0.59,2,0.26,2,3.53,2,0.08,2,198.72,2,35.4732,2,1.302,1,0.043,1,4.597,1,199.6,2
33RR20180918, GP15,31,5,34,GSNIS-35   ,2,6916,15038,20181111,1134,-2.5015,-152.0067,4706,30.6,28.1024,35.4758,2,-999,9,20181111,1215,-2.5015,-152.0067,0.59,2,0.27,2,3.54,2,0.08,2,-999,9,-999,9,1.301,1,0.041,1,4.595,1,199.9,2
33RR20180918, GP15,31,5,35,GSNIS-36   ,2,6916,15038,20181111,1134,-2.5015,-152.0067,4706,30.7,28.1033,35.4756,2,-999,9,20181111,1215,-2.5015,-152.0067,0.68,2,0.28,2,3.52,2,0.08,2,-999,9,-999,9,1.301,1,0.042,1,4.595,1,199.2,2
33RR20180918, GP15,31,5,36,GSNIS-1    ,2,6916,15037,20181111,1134,-2.5015,-152.0067,4706,2,28.0912,35.476,2,28.0958,2,20181111,1218,-2.5015,-152.0067,0.68,2,0.36,3,3.41,2,0.08,2,199.27,2,35.4772,2,1.29,1,0.041,1,4.594,1,199.9,2