BOTTLE,20191212SIOCCHAMB
EXPOCODE,SECT_ID,STNNBR,CASTNO,SAMPNO,BTLNBR,BTLNBR_FLAG_W,GEOTRC_EVENTNO,GEOTRC_SAMPNO,DATE,TIME,LATITUDE,LONGITUDE,DEPTH,CTDPRS,CTDTMP,CTDSAL,CTDSAL_FLAG_W,REFTMP,REFTMP_FLAG_W,BTL_DATE,BTL_TIME,BTL_LAT,BTL_LON,SILCAT,SILCAT_FLAG_W,PHSPHT,PHSPHT_FLAG_W,NITRAT,NITRAT_FLAG_W,NITRIT,NITRIT_FLAG_W,OXYGEN,OXYGEN_FLAG_W,SALNTY,SALNTY_FLAG_W,CTDRINKO,CTDRINKO_FLAG_W,CTDFLUOR,CTDFLUOR_FLAG_W,CTDXMISS,CTDXMISS_FLAG_W,CTDOXY,CTDOXY_FLAG_W
,,,,,,,,,,,,,METERS,DBAR,ITS-90,PSS-78,,ITS-90,,,,,,UMOL/KG,,UMOL/KG,,UMOL/KG,,UMOL/KG,,UMOL/KG,,PSS-78,,VOLTS,,VOLTS,,VOLTS,,UMOL/KG,
33RR20180918, GP15,34,3,1,GSNIS-2    ,2,6946,15266,20181115,428,-7.5001,-152.0002,5052,1006.8,4.8296,34.5369,2,4.8249,2,20181115,428,-7.5001,-152.0003,71.64,2,2.77,2,39.39,2,0,2,86.95,2,34.5394,2,2.559,1,0.018,1,4.67,1,86.9,2
33RR20180918, GP15,34,3,2,GSNIS-3    ,2,6946,15266,20181115,428,-7.5001,-152.0002,5052,1006.8,4.8235,34.537,2,-999,9,20181115,428,-7.5001,-152.0003,71.64,2,2.78,2,39.41,2,0,2,-999,9,-999,9,2.558,1,0.017,1,4.669,1,86.9,2
33RR20180918, GP15,34,3,3,GSNIS-4    ,2,6946,15266,20181115,428,-7.5001,-152.0002,5052,1007.6,4.8243,34.5371,2,-999,9,20181115,428,-7.5001,-152.0003,71.73,2,2.77,2,39.42,2,0,2,-999,9,-999,9,2.556,1,0.017,1,4.67,1,86.9,2
33RR20180918, GP15,34,3,4,GSNIS-5    ,2,6946,15265,20181115,428,-7.5001,-152.0002,5052,807,5.608,34.539,2,5.607,2,20181115,433,-7.5001,-152.0003,60.1,2,2.83,2,40.7,2,0,2,66.69,2,34.5413,2,2.486,1,0.017,1,4.668,1,66.1,2
33RR20180918, GP15,34,3,5,GSNIS-6    ,2,6946,15265,20181115,428,-7.5001,-152.0002,5052,807.2,5.6093,34.5391,2,-999,9,20181115,433,-7.5001,-152.0003,60.2,2,2.83,2,40.76,2,0,2,-999,9,-999,9,2.486,1,0.018,1,4.668,1,66.9,2
33RR20180918, GP15,34,3,6,GSNIS-7    ,2,6946,15264,20181115,428,-7.5001,-152.0002,5052,605.8,7.3088,34.585,2,7.3081,2,20181115,438,-7.5001,-152.0003,40.56,2,2.67,2,38.76,2,0,2,53.93,2,34.5869,2,2.579,1,0.017,1,4.666,1,56.2,2
33RR20180918, GP15,34,3,7,GSNIS-8    ,2,6946,15264,20181115,428,-7.5001,-152.0002,5052,605,7.3089,34.585,2,-999,9,20181115,438,-7.5001,-152.0002,40.65,2,2.68,2,38.74,2,0,2,-999,9,-999,9,2.583,1,0.017,1,4.666,1,55.6,2
33RR20180918, GP15,34,3,8,GSNIS-9    ,2,6946,15263,20181115,428,-7.5001,-152.0002,5052,484.2,8.6315,34.6495,2,8.6341,2,20181115,441,-7.5001,-152.0002,31.08,2,2.4,2,34.66,2,0,2,62.87,2,34.6519,2,2.64,1,0.017,1,4.664,1,61.1,2
33RR20180918, GP15,34,3,9,GSNIS-10   ,2,6946,15263,20181115,428,-7.5001,-152.0002,5052,484.9,8.6286,34.6498,2,-999,9,20181115,442,-7.5001,-152.0002,30.98,2,2.4,2,34.74,2,0,2,-999,9,-999,9,2.638,1,0.017,1,4.665,1,61.2,2
33RR20180918, GP15,34,3,10,GSNIS-11   ,2,6946,15263,20181115,428,-7.5001,-152.0002,5052,483.3,8.6414,34.6506,2,-999,9,20181115,442,-7.5001,-152.0002,30.98,2,2.4,2,34.75,2,0,2,-999,9,-999,9,2.636,1,0.017,1,4.664,1,60.3,2
33RR20180918, GP15,34,3,11,GSNIS-12   ,2,6946,15262,20181115,428,-7.5001,-152.0002,5052,322.2,11.0158,34.8056,2,11.0015,2,20181115,446,-7.5001,-152.0002,25.7,2,2.39,2,32.8,2,0,2,22.19,2,34.807,2,2.464,1,0.017,1,4.662,1,21.3,2
33RR20180918, GP15,34,3,12,GSNIS-13   ,2,6946,15262,20181115,428,-7.5001,-152.0002,5052,322.5,11.0027,34.8056,2,-999,9,20181115,446,-7.5001,-152.0002,25.89,2,2.38,2,32.86,2,0,2,-999,9,-999,9,2.456,1,0.017,1,4.662,1,21.1,2
33RR20180918, GP15,34,3,13,GSNIS-14   ,2,6946,15262,20181115,428,-7.5001,-152.0002,5052,323.4,10.9838,34.8046,2,-999,9,20181115,446,-7.5001,-152.0002,25.89,2,2.38,2,32.83,2,0,2,-999,9,-999,9,2.45,1,0.017,1,4.662,1,21.4,2
33RR20180918, GP15,34,3,14,GSNIS-15   ,2,6946,15261,20181115,428,-7.5001,-152.0002,5052,261.8,13.4953,34.9594,2,13.4958,3,20181115,448,-7.5001,-152.0002,12.31,2,1.82,2,22.29,2,0,2,70.52,2,34.9654,3,2.319,1,0.017,1,4.662,1,71.2,2
33RR20180918, GP15,34,3,15,GSNIS-16   ,2,6946,15261,20181115,428,-7.5001,-152.0002,5052,262.4,13.5037,34.9608,2,-999,9,20181115,448,-7.5001,-152.0002,12.21,2,1.79,2,22.25,2,0,2,-999,9,-999,9,2.317,1,0.017,1,4.662,1,75.2,2
33RR20180918, GP15,34,3,16,GSNIS-17   ,2,6946,15261,20181115,428,-7.5001,-152.0002,5052,262.2,13.5053,34.9615,2,-999,9,20181115,448,-7.5001,-152.0003,12.41,2,1.78,2,22.28,2,0,2,-999,9,-999,9,2.312,1,0.017,1,4.662,1,75.8,2
33RR20180918, GP15,34,3,17,GSNIS-18   ,2,6946,15260,20181115,428,-7.5001,-152.0002,5052,201,19.8458,35.7273,2,19.9867,3,20181115,450,-7.5001,-152.0003,1.27,2,0.71,2,7.57,2,0.01,2,153.35,2,35.8175,3,2.284,1,0.018,1,4.657,1,152.8,2
33RR20180918, GP15,34,3,18,GSNIS-19   ,2,6946,15260,20181115,428,-7.5001,-152.0002,5052,202.3,19.9343,35.7323,2,-999,9,20181115,450,-7.5001,-152.0003,1.27,2,0.71,2,7.66,2,0.01,2,-999,9,-999,9,2.283,1,0.018,1,4.657,1,149.9,2
33RR20180918, GP15,34,3,19,GSNIS-20   ,2,6946,15260,20181115,428,-7.5001,-152.0002,5052,201,20.0396,35.7476,2,-999,9,20181115,450,-7.5001,-152.0003,1.27,2,0.69,2,7.48,2,0.01,2,-999,9,-999,9,2.281,1,0.018,1,4.657,1,153,2
33RR20180918, GP15,34,3,20,GSNIS-21   ,2,6946,15259,20181115,428,-7.5001,-152.0002,5052,146.3,26.3565,36.2989,2,26.3386,2,20181115,453,-7.5001,-152.0003,0.49,2,0.39,2,2.53,2,1.05,2,166.44,2,36.3049,2,2.27,1,0.035,1,4.639,1,167.4,2
33RR20180918, GP15,34,3,21,GSNIS-22   ,2,6946,15259,20181115,428,-7.5001,-152.0002,5052,146,26.3258,36.3018,2,-999,9,20181115,453,-7.5001,-152.0003,0.59,2,0.41,2,2.55,2,1.07,2,-999,9,-999,9,2.258,1,0.033,1,4.64,1,167.4,2
33RR20180918, GP15,34,3,22,GSNIS-23   ,2,6946,15259,20181115,428,-7.5001,-152.0002,5052,146.2,26.3325,36.2988,2,-999,9,20181115,453,-7.5001,-152.0003,0.59,2,0.4,2,2.55,2,1.06,2,-999,9,-999,9,2.252,1,0.035,1,4.639,1,167.4,2
33RR20180918, GP15,34,3,23,GSNIS-24   ,2,6946,15258,20181115,428,-7.5001,-152.0002,5052,110.9,27.5908,35.9253,2,27.5894,2,20181115,455,-7.5001,-152.0002,0.88,2,0.38,2,2.24,2,0.57,2,180.61,2,35.9214,2,1.944,1,0.043,1,4.629,1,180.5,2
33RR20180918, GP15,34,3,24,GSNIS-25   ,2,6946,15258,20181115,428,-7.5001,-152.0002,5052,111.2,27.5964,35.9263,2,-999,9,20181115,455,-7.5001,-152.0002,0.88,2,0.39,2,2.25,2,0.57,2,-999,9,-999,9,1.929,1,0.044,1,4.629,1,180.3,2
33RR20180918, GP15,34,3,25,GSNIS-26   ,2,6946,15258,20181115,428,-7.5001,-152.0002,5052,111.4,27.5929,35.9261,2,-999,9,20181115,455,-7.5001,-152.0002,0.88,2,0.39,2,2.23,2,0.56,2,-999,9,-999,9,1.909,1,0.043,1,4.629,1,180,2
33RR20180918, GP15,34,3,26,GSNIS-27   ,2,6946,15257,20181115,428,-7.5001,-152.0002,5052,81.2,28.2731,35.7167,2,28.2729,2,20181115,458,-7.5001,-152.0002,0.78,2,0.35,2,2.57,2,0.09,2,194.29,2,35.7483,3,1.585,1,0.054,1,4.608,1,193.8,2
33RR20180918, GP15,34,3,27,GSNIS-28   ,2,6946,15257,20181115,428,-7.5001,-152.0002,5052,80.9,28.2734,35.7162,2,-999,9,20181115,458,-7.5001,-152.0002,0.78,2,0.35,2,2.62,2,0.09,2,-999,9,-999,9,1.574,1,0.052,1,4.609,1,193.9,2
33RR20180918, GP15,34,3,28,GSNIS-29   ,2,6946,15257,20181115,428,-7.5001,-152.0002,5052,81.4,28.2724,35.7164,2,-999,9,20181115,458,-7.5001,-152.0003,0.78,2,0.36,2,2.66,2,0.09,2,-999,9,-999,9,1.565,1,0.054,1,4.608,1,193.4,2
33RR20180918, GP15,34,3,29,GSNIS-30   ,2,6946,15256,20181115,428,-7.5001,-152.0002,5052,66.4,28.3735,35.6417,2,28.3855,2,20181115,459,-7.5001,-152.0002,0.88,2,0.39,2,3.47,2,0.09,2,197.37,2,35.64,2,1.429,1,0.054,1,4.591,1,197,2
33RR20180918, GP15,34,3,30,GSNIS-31   ,5,6946,15256,20181115,428,-7.5001,-152.0002,5052,66.1,28.3826,35.6385,3,-999,9,20181115,459,-7.5001,-152.0002,-999,9,-999,9,-999,9,-999,9,-999,9,-999,9,1.42,1,0.055,1,4.584,1,197.2,3
33RR20180918, GP15,34,3,31,GSNIS-32   ,2,6946,15256,20181115,428,-7.5001,-152.0002,5052,65.9,28.3987,35.6354,2,-999,9,20181115,459,-7.5001,-152.0002,0.98,2,0.38,2,3.47,2,0.09,2,-999,9,-999,9,1.411,1,0.052,1,4.59,1,195.5,2
33RR20180918, GP15,34,3,32,GSNIS-33   ,2,6946,15255,20181115,428,-7.5001,-152.0002,5052,25.6,28.5013,35.6456,2,28.5016,2,20181115,502,-7.5001,-152.0002,0.88,2,0.37,2,3.43,2,0.09,2,198.61,2,35.6443,2,1.283,1,0.048,1,4.574,1,199.1,2
33RR20180918, GP15,34,3,33,GSNIS-34   ,2,6946,15255,20181115,428,-7.5001,-152.0002,5052,26.4,28.5041,35.6456,2,-999,9,20181115,502,-7.5001,-152.0002,0.98,2,0.37,2,3.43,2,0.09,2,-999,9,-999,9,1.282,1,0.049,1,4.573,1,199.2,2
33RR20180918, GP15,34,3,34,GSNIS-35   ,2,6946,15255,20181115,428,-7.5001,-152.0002,5052,25.8,28.4969,35.645,2,-999,9,20181115,502,-7.5001,-152.0002,0.98,2,0.37,2,3.43,2,0.09,2,-999,9,-999,9,1.28,1,0.045,1,4.571,1,199.1,2
33RR20180918, GP15,34,3,35,GSNIS-36   ,2,6946,15254,20181115,428,-7.5001,-152.0002,5052,4.3,28.4997,35.6452,2,28.4956,2,20181115,504,-7.5001,-152.0002,1.07,2,0.37,2,3.41,2,0.09,2,198.78,2,35.6447,2,1.316,1,0.045,1,4.572,1,198.9,2
33RR20180918, GP15,34,3,36,GSNIS-1    ,2,6946,15254,20181115,428,-7.5001,-152.0002,5052,4.3,28.5042,35.6454,2,-999,9,20181115,504,-7.5001,-152.0002,1.07,2,0.37,2,3.39,2,0.09,2,-999,9,-999,9,1.318,1,0.046,1,4.573,1,198.3,2
33RR20180918, GP15,35,3,1,GSNIS-2    ,2,6952,15312,20181115,2146,-10.5002,-152.0002,5224,805.3,5.4466,34.5132,2,5.4415,2,20181115,2146,-10.5002,-152.0002,53.66,2,2.55,2,36.63,2,0,2,106.66,2,34.5154,2,2.31,1,0.017,1,4.671,1,106.5,2
33RR20180918, GP15,35,3,2,GSNIS-3    ,2,6952,15312,20181115,2146,-10.5002,-152.0002,5224,806.4,5.4402,34.5131,2,-999,9,20181115,2147,-10.5002,-152.0002,53.56,2,2.55,2,36.66,2,0,2,-999,9,-999,9,2.311,1,0.017,1,4.671,1,106.4,2
33RR20180918, GP15,35,3,3,GSNIS-4    ,2,6952,15312,20181115,2146,-10.5002,-152.0002,5224,804.9,5.4445,34.5131,2,-999,9,20181115,2147,-10.5002,-152.0002,53.85,2,2.55,2,36.65,2,0,2,-999,9,-999,9,2.311,1,0.017,1,4.671,1,106.5,2
33RR20180918, GP15,35,3,4,GSNIS-5    ,2,6952,15311,20181115,2146,-10.5002,-152.0002,5224,554.4,7.0039,34.5513,2,7.0047,2,20181115,2152,-10.5002,-152.0002,36.36,2,2.38,2,34.54,2,0,2,99.54,2,34.5533,2,2.273,1,0.017,1,4.667,1,100.5,2
33RR20180918, GP15,35,3,5,GSNIS-6    ,2,6952,15311,20181115,2146,-10.5002,-152.0002,5224,554.5,7.0042,34.5513,2,-999,9,20181115,2152,-10.5002,-152.0002,36.26,2,2.38,2,34.56,2,0,2,-999,9,-999,9,2.273,1,0.017,1,4.668,1,98,2
33RR20180918, GP15,35,3,6,GSNIS-7    ,2,6952,15311,20181115,2146,-10.5002,-152.0002,5224,554.5,7.0046,34.5516,2,-999,9,20181115,2152,-10.5002,-152.0002,36.16,2,2.37,2,34.53,2,0,2,-999,9,-999,9,2.272,1,0.017,1,4.668,1,98,2
33RR20180918, GP15,35,3,7,GSNIS-8    ,2,6952,15311,20181115,2146,-10.5002,-152.0002,5224,554,7.006,34.5517,2,-999,9,20181115,2152,-10.5002,-152.0002,36.06,2,2.38,2,34.51,2,0,2,-999,9,-999,9,2.272,1,0.017,1,4.667,1,97.5,2
33RR20180918, GP15,35,3,8,GSNIS-9    ,2,6952,15310,20181115,2146,-10.5002,-152.0002,5224,453.3,8.3023,34.6032,2,8.3178,2,20181115,2155,-10.5002,-152.0002,27.17,2,2.18,2,31.45,2,0,2,100.04,2,34.6054,2,2.253,1,0.017,1,4.667,1,98.5,2
33RR20180918, GP15,35,3,9,GSNIS-10   ,2,6952,15310,20181115,2146,-10.5002,-152.0002,5224,453.8,8.3256,34.6035,2,-999,9,20181115,2155,-10.5002,-152.0002,26.97,2,2.18,2,31.34,2,0,2,-999,9,-999,9,2.252,1,0.017,1,4.667,1,96.9,2
33RR20180918, GP15,35,3,10,GSNIS-11   ,2,6952,15310,20181115,2146,-10.5002,-152.0002,5224,453.3,8.2944,34.605,2,-999,9,20181115,2155,-10.5002,-152.0002,27.07,2,2.17,2,31.43,2,0,2,-999,9,-999,9,2.252,1,0.017,1,4.667,1,98.8,2
33RR20180918, GP15,35,3,11,GSNIS-12   ,2,6952,15309,20181115,2146,-10.5002,-152.0002,5224,352.2,10.7467,34.6865,2,10.762,2,20181115,2158,-10.5002,-152.0002,17.1,2,2.06,2,26.5,2,0,2,75.73,2,34.6901,2,2.219,1,0.017,1,4.664,1,77.1,2
33RR20180918, GP15,35,3,12,GSNIS-13   ,2,6952,15309,20181115,2146,-10.5002,-152.0002,5224,352.6,10.7499,34.6863,2,-999,9,20181115,2158,-10.5002,-152.0002,17.2,2,2.06,2,26.54,2,0,2,-999,9,-999,9,2.219,1,0.017,1,4.663,1,77.5,2
33RR20180918, GP15,35,3,13,GSNIS-14   ,2,6952,15309,20181115,2146,-10.5002,-152.0002,5224,352.7,10.7928,34.6865,2,-999,9,20181115,2158,-10.5002,-152.0002,17,2,2.06,2,26.5,2,0,2,-999,9,-999,9,2.218,1,0.017,1,4.664,1,76.2,2
33RR20180918, GP15,35,3,14,GSNIS-15   ,2,6952,15309,20181115,2146,-10.5002,-152.0002,5224,352.2,10.7731,34.6874,2,10.7972,2,20181115,2158,-10.5002,-152.0002,17,2,2.05,2,26.5,2,0,2,-999,9,-999,9,2.216,1,0.017,1,4.664,1,76,2
33RR20180918, GP15,35,3,15,GSNIS-16   ,2,6952,15308,20181115,2146,-10.5002,-152.0002,5224,301.4,13.414,34.9176,2,13.4583,2,20181115,2201,-10.5002,-152.0002,9.58,2,1.57,2,19.35,2,0,2,97.97,2,34.9313,2,2.132,1,0.017,1,4.664,1,103.5,3
33RR20180918, GP15,35,3,16,GSNIS-17   ,2,6952,15308,20181115,2146,-10.5002,-152.0002,5224,302.3,13.4831,34.923,2,-999,9,20181115,2201,-10.5002,-152.0002,9.58,2,1.55,2,19.41,2,0,2,-999,9,-999,9,2.127,1,0.016,1,4.663,1,99.7,3
33RR20180918, GP15,35,3,17,GSNIS-18   ,2,6952,15308,20181115,2146,-10.5002,-152.0002,5224,301,13.4499,34.9205,2,-999,9,20181115,2201,-10.5002,-152.0002,9.38,2,1.55,2,19.33,2,0,2,-999,9,-999,9,2.123,1,0.017,1,4.663,1,99.4,3
33RR20180918, GP15,35,3,18,GSNIS-19   ,2,6952,15307,20181115,2146,-10.5002,-152.0002,5224,225.9,19.4194,35.676,2,19.4218,2,20181115,2203,-10.5002,-152.0002,1.56,2,0.78,2,8.77,2,0.01,2,148.6,2,35.6415,3,1.983,1,0.016,1,4.661,1,150,2
33RR20180918, GP15,35,3,19,GSNIS-20   ,2,6952,15307,20181115,2146,-10.5002,-152.0002,5224,226.5,19.4204,35.6765,2,-999,9,20181115,2204,-10.5002,-152.0002,1.56,2,0.77,2,8.8,2,0.01,2,-999,9,-999,9,1.979,1,0.017,1,4.661,1,149.5,2
33RR20180918, GP15,35,3,20,GSNIS-21   ,2,6952,15307,20181115,2146,-10.5002,-152.0002,5224,226.6,19.4154,35.6759,2,-999,9,20181115,2204,-10.5002,-152.0002,1.37,2,0.76,2,8.71,2,0.01,2,-999,9,-999,9,1.975,1,0.017,1,4.661,1,150,2
33RR20180918, GP15,35,3,21,GSNIS-22   ,2,6952,15306,20181115,2146,-10.5002,-152.0002,5224,150.5,24.6524,36.3748,2,24.7034,3,20181115,2206,-10.5002,-152.0002,0.2,2,0.45,2,4.07,2,0.15,2,160.01,2,36.3768,3,1.902,1,0.028,1,4.644,1,157.8,2
33RR20180918, GP15,35,3,22,GSNIS-23   ,2,6952,15306,20181115,2146,-10.5002,-152.0002,5224,150.8,24.7079,36.3773,2,-999,9,20181115,2206,-10.5002,-152.0002,0.1,2,0.45,2,4.1,2,0.14,2,-999,9,-999,9,1.895,1,0.027,1,4.644,1,159.6,2
33RR20180918, GP15,35,3,23,GSNIS-24   ,2,6952,15306,20181115,2146,-10.5002,-152.0002,5224,150.7,24.6797,36.3776,2,-999,9,20181115,2206,-10.5002,-152.0002,0.1,2,0.45,2,4.11,2,0.14,2,-999,9,-999,9,1.89,1,0.028,1,4.644,1,159.6,2
33RR20180918, GP15,35,3,24,GSNIS-25   ,2,6952,15305,20181115,2146,-10.5002,-152.0002,5224,126,26.3883,36.366,2,26.3838,2,20181115,2208,-10.5002,-152.0002,0.1,2,0.34,2,1.99,2,0.97,2,168.44,2,36.3667,2,1.696,1,0.036,1,4.637,1,167.4,2
33RR20180918, GP15,35,3,25,GSNIS-26   ,2,6952,15305,20181115,2146,-10.5002,-152.0002,5224,125.8,26.3861,36.367,2,-999,9,20181115,2208,-10.5002,-152.0002,0.1,2,0.34,2,1.98,2,0.97,2,-999,9,-999,9,1.685,1,0.039,1,4.636,1,169.2,2
33RR20180918, GP15,35,3,26,GSNIS-27   ,2,6952,15304,20181115,2146,-10.5002,-152.0002,5224,100.2,27.527,36.256,2,27.5424,2,20181115,2210,-10.5002,-152.0002,0,2,0.19,2,0.37,2,0.17,2,188.45,2,36.2545,2,1.576,1,0.047,1,4.616,1,185.6,2
33RR20180918, GP15,35,3,27,GSNIS-28   ,2,6952,15304,20181115,2146,-10.5002,-152.0002,5224,100.3,27.5388,36.2556,2,-999,9,20181115,2210,-10.5002,-152.0002,0.1,2,0.19,2,0.38,2,0.15,2,-999,9,-999,9,1.57,1,0.044,1,4.616,1,190.7,2
33RR20180918, GP15,35,3,28,GSNIS-29   ,2,6952,15304,20181115,2146,-10.5002,-152.0002,5224,100,27.5378,36.2558,2,-999,9,20181115,2210,-10.5002,-152.0002,0.1,2,0.19,2,0.37,2,0.17,2,-999,9,-999,9,1.567,1,0.045,1,4.617,1,190.1,2
33RR20180918, GP15,35,3,29,GSNIS-30   ,2,6952,15303,20181115,2146,-10.5002,-152.0002,5224,75.7,27.9351,36.1837,2,27.9564,2,20181115,2212,-10.5002,-152.0002,0.1,2,0.17,2,0.18,2,0.07,2,195.72,2,36.1791,2,1.478,1,0.044,1,4.607,1,197.7,2
33RR20180918, GP15,35,3,30,GSNIS-31   ,2,6952,15303,20181115,2146,-10.5002,-152.0002,5224,75.6,27.9716,36.1816,2,-999,9,20181115,2212,-10.5003,-152.0002,0.2,2,0.17,2,0.2,2,0.08,2,-999,9,-999,9,1.469,1,0.044,1,4.606,1,197.7,2
33RR20180918, GP15,35,3,31,GSNIS-32   ,2,6952,15303,20181115,2146,-10.5002,-152.0002,5224,74.7,27.936,36.1823,2,-999,9,20181115,2212,-10.5003,-152.0002,0.1,2,0.17,2,0.18,2,0.07,2,-999,9,-999,9,1.459,1,0.041,1,4.606,1,196.5,2
33RR20180918, GP15,35,3,32,GSNIS-33   ,2,6952,15302,20181115,2146,-10.5002,-152.0002,5224,50.1,28.7081,35.9639,2,28.7064,2,20181115,2214,-10.5002,-152.0002,0.2,2,0.19,2,0.64,2,0,2,196.26,2,-999,1,1.322,1,0.033,1,4.597,1,197.8,2
33RR20180918, GP15,35,3,33,GSNIS-34   ,2,6952,15302,20181115,2146,-10.5002,-152.0002,5224,50.1,28.7048,35.9643,2,-999,9,20181115,2214,-10.5002,-152.0002,0.2,2,0.19,2,0.62,2,0,2,-999,9,-999,9,1.314,1,0.034,1,4.597,1,197.4,2
33RR20180918, GP15,35,3,34,GSNIS-35   ,2,6952,15301,20181115,2146,-10.5002,-152.0002,5224,25.4,28.7334,35.8954,2,28.7333,2,20181115,2216,-10.5002,-152.0002,0.29,2,0.19,2,0.65,2,0,2,196.05,2,35.8981,2,1.278,1,0.028,1,4.592,1,197,2
33RR20180918, GP15,35,3,35,GSNIS-36   ,2,6952,15301,20181115,2146,-10.5002,-152.0002,5224,25.4,28.7331,35.8946,2,-999,9,20181115,2216,-10.5002,-152.0002,0.29,2,0.2,2,0.68,2,0,2,-999,9,-999,9,1.278,1,0.029,1,4.592,1,196.9,2
33RR20180918, GP15,35,3,36,GSNIS-1    ,2,6952,15301,20181115,2146,-10.5002,-152.0002,5224,25.8,28.7336,35.8962,2,-999,9,20181115,2216,-10.5002,-152.0002,0.39,2,0.19,2,0.63,2,0,2,-999,9,-999,9,1.278,1,0.029,1,4.593,1,197,2