BOTTLE,20191212SIOCCHAMB
EXPOCODE,SECT_ID,STNNBR,CASTNO,SAMPNO,BTLNBR,BTLNBR_FLAG_W,GEOTRC_EVENTNO,GEOTRC_SAMPNO,DATE,TIME,LATITUDE,LONGITUDE,DEPTH,CTDPRS,CTDTMP,CTDSAL,CTDSAL_FLAG_W,REFTMP,REFTMP_FLAG_W,BTL_DATE,BTL_TIME,BTL_LAT,BTL_LON,SILCAT,SILCAT_FLAG_W,PHSPHT,PHSPHT_FLAG_W,NITRAT,NITRAT_FLAG_W,NITRIT,NITRIT_FLAG_W,OXYGEN,OXYGEN_FLAG_W,SALNTY,SALNTY_FLAG_W,CTDRINKO,CTDRINKO_FLAG_W,CTDFLUOR,CTDFLUOR_FLAG_W,CTDXMISS,CTDXMISS_FLAG_W,CTDOXY,CTDOXY_FLAG_W
,,,,,,,,,,,,,METERS,DBAR,ITS-90,PSS-78,,ITS-90,,,,,,UMOL/KG,,UMOL/KG,,UMOL/KG,,UMOL/KG,,UMOL/KG,,PSS-78,,VOLTS,,VOLTS,,VOLTS,,UMOL/KG,
33RR20180918, GP15,25,3,1,GSNIS-2    ,2,6847,14499,20181104,702,5.0003,-151.9954,5114,451.8,8.5186,34.6238,2,8.5136,2,20181104,702,5.0003,-151.9954,39.09,2,2.58,2,36.47,2,0,2,39.32,2,34.6256,2,2.384,1,0.018,1,4.665,1,40,2
33RR20180918, GP15,25,3,2,GSNIS-3    ,2,6847,14499,20181104,702,5.0003,-151.9954,5114,452.2,8.5217,34.6238,2,-999,9,20181104,702,5.0003,-151.9954,39.19,2,2.57,2,36.51,2,0,2,-999,9,-999,9,2.388,1,0.018,1,4.665,1,39.8,2
33RR20180918, GP15,25,3,3,GSNIS-4    ,2,6847,14499,20181104,702,5.0003,-151.9954,5114,452,8.5229,34.6239,2,-999,9,20181104,702,5.0003,-151.9954,39.19,2,2.57,2,36.54,2,0,2,-999,9,-999,9,2.391,1,0.018,1,4.665,1,40.4,2
33RR20180918, GP15,25,3,4,GSNIS-5    ,2,6847,14498,20181104,702,5.0003,-151.9954,5114,401.6,8.9321,34.6415,2,8.9323,2,20181104,705,5.0003,-151.9954,35.96,2,2.47,2,35.38,2,0,2,42.76,2,34.6429,2,2.477,1,0.017,1,4.666,1,44.5,2
33RR20180918, GP15,25,3,5,GSNIS-6    ,2,6847,14498,20181104,702,5.0003,-151.9954,5114,402.3,8.9331,34.6416,2,-999,9,20181104,705,5.0003,-151.9954,35.86,2,2.46,2,35.42,2,0,2,-999,9,-999,9,2.481,1,0.018,1,4.665,1,44.1,2
33RR20180918, GP15,25,3,6,GSNIS-7    ,2,6847,14498,20181104,702,5.0003,-151.9954,5114,401.9,8.9321,34.6416,2,-999,9,20181104,705,5.0003,-151.9954,35.96,2,2.46,2,35.44,2,0,2,-999,9,-999,9,2.484,1,0.018,1,4.666,1,44,2
33RR20180918, GP15,25,3,7,GSNIS-8    ,2,6847,14497,20181104,702,5.0003,-151.9954,5114,351.7,9.2526,34.6556,2,9.2522,2,20181104,707,5.0003,-151.9954,32.34,2,2.31,2,33.64,2,0,2,59.05,2,34.6574,2,2.562,1,0.017,1,4.667,1,60,2
33RR20180918, GP15,25,3,8,GSNIS-9    ,2,6847,14497,20181104,702,5.0003,-151.9954,5114,351.7,9.2524,34.6557,2,-999,9,20181104,707,5.0003,-151.9954,32.44,2,2.31,2,33.37,2,0,2,-999,9,-999,9,2.565,1,0.018,1,4.667,1,60.2,2
33RR20180918, GP15,25,3,9,GSNIS-10   ,2,6847,14497,20181104,702,5.0003,-151.9954,5114,351.6,9.2537,34.6556,2,-999,9,20181104,707,5.0003,-151.9954,32.44,2,2.31,2,33.39,2,0,2,-999,9,-999,9,2.568,1,0.017,1,4.667,1,60,2
33RR20180918, GP15,25,3,10,GSNIS-11   ,2,6847,14496,20181104,702,5.0003,-151.9954,5114,301.3,9.6736,34.6652,2,9.6686,2,20181104,710,5.0003,-151.9954,30.98,2,2.23,2,32.33,2,0,2,58.72,2,34.6667,2,2.63,1,0.018,1,4.666,1,56.1,2
33RR20180918, GP15,25,3,11,GSNIS-12   ,2,6847,14496,20181104,702,5.0003,-151.9954,5114,300.8,9.6691,34.6647,2,-999,9,20181104,710,5.0003,-151.9954,31.07,2,2.24,2,32.4,2,0,2,-999,9,-999,9,2.632,1,0.018,1,4.667,1,56.7,2
33RR20180918, GP15,25,3,12,GSNIS-13   ,2,6847,14496,20181104,702,5.0003,-151.9954,5114,301.5,9.6639,34.6648,2,-999,9,20181104,710,5.0003,-151.9954,31.07,2,2.23,2,32.41,2,0,2,-999,9,-999,9,2.633,1,0.018,1,4.667,1,57.3,2
33RR20180918, GP15,25,3,13,GSNIS-14   ,2,6847,14495,20181104,702,5.0003,-151.9954,5114,251,10.7057,34.6576,2,10.7128,2,20181104,712,5.0003,-151.9954,29.02,2,2.16,2,31.09,2,0,2,50.78,2,34.6639,2,2.659,1,0.018,1,4.666,1,53.4,2
33RR20180918, GP15,25,3,14,GSNIS-15   ,2,6847,14495,20181104,702,5.0003,-151.9954,5114,251.1,10.7024,34.6583,2,-999,9,20181104,712,5.0003,-151.9954,29.02,2,2.16,2,31.08,2,0,2,-999,9,-999,9,2.659,1,0.018,1,4.666,1,53.4,2
33RR20180918, GP15,25,3,15,GSNIS-16   ,2,6847,14495,20181104,702,5.0003,-151.9954,5114,250.8,10.7153,34.6576,2,-999,9,20181104,712,5.0003,-151.9954,28.83,2,2.15,2,30.97,2,0,2,-999,9,-999,9,2.66,1,0.018,1,4.667,1,53.4,2
33RR20180918, GP15,25,3,16,GSNIS-17   ,2,6847,14494,20181104,702,5.0003,-151.9954,5114,200.2,12.9681,34.6235,2,12.9696,2,20181104,714,5.0003,-151.9954,23.16,2,1.85,2,26.18,2,0,2,65.07,2,34.6256,2,2.632,1,0.018,1,4.668,1,73.7,3
33RR20180918, GP15,25,3,17,GSNIS-18   ,2,6847,14494,20181104,702,5.0003,-151.9954,5114,200.7,12.9573,34.6246,2,-999,9,20181104,714,5.0003,-151.9954,23.16,2,1.84,2,26.11,2,0,2,-999,9,-999,9,2.63,1,0.017,1,4.668,1,75.4,3
33RR20180918, GP15,25,3,18,GSNIS-19   ,2,6847,14494,20181104,702,5.0003,-151.9954,5114,200.3,12.9678,34.6242,2,-999,9,20181104,714,5.0003,-151.9955,22.87,2,1.84,2,25.95,2,0,2,-999,9,-999,9,2.628,1,0.018,1,4.668,1,76.7,3
33RR20180918, GP15,25,3,19,GSNIS-20   ,3,6847,14493,20181104,702,5.0003,-151.9954,5114,151,19.7784,34.7508,3,19.8845,3,20181104,717,5.0003,-151.9954,8.31,3,1.07,3,12.11,3,0.03,3,124.01,3,34.7423,3,2.267,1,0.022,1,4.66,1,123,3
33RR20180918, GP15,25,3,20,GSNIS-21   ,2,6847,14493,20181104,702,5.0003,-151.9954,5114,150.5,19.9919,34.7542,2,-999,9,20181104,717,5.0003,-151.9954,7.62,2,0.85,2,11.62,2,0.03,2,-999,9,-999,9,2.26,1,0.022,1,4.66,1,126.5,2
33RR20180918, GP15,25,3,21,GSNIS-22   ,2,6847,14493,20181104,702,5.0003,-151.9954,5114,151.3,19.8218,34.7513,2,-999,9,20181104,717,5.0003,-151.9954,7.72,2,0.85,2,11.75,2,0.03,2,-999,9,-999,9,2.257,1,0.022,1,4.66,1,125.9,2
33RR20180918, GP15,25,3,22,GSNIS-23   ,2,6847,14492,20181104,702,5.0003,-151.9954,5114,125.1,26.6141,34.7602,2,26.6096,2,20181104,719,5.0003,-151.9954,1.56,2,0.31,2,2.37,2,0.44,2,167.9,2,34.763,2,1.921,1,0.035,1,4.642,1,164.5,2
33RR20180918, GP15,25,3,23,GSNIS-24   ,2,6847,14492,20181104,702,5.0003,-151.9954,5114,124.8,26.6113,34.7605,2,-999,9,20181104,719,5.0003,-151.9954,1.56,2,0.31,2,2.38,2,0.44,2,-999,9,-999,9,1.924,1,0.034,1,4.64,1,164.4,2
33RR20180918, GP15,25,3,24,GSNIS-25   ,2,6847,14492,20181104,702,5.0003,-151.9954,5114,125.2,26.6044,34.7611,2,-999,9,20181104,719,5.0003,-151.9954,1.27,2,0.32,2,2.37,2,0.45,2,-999,9,-999,9,1.926,1,0.035,1,4.641,1,164.3,2
33RR20180918, GP15,25,3,25,GSNIS-26   ,2,6847,14491,20181104,702,5.0003,-151.9954,5114,99.5,28.5486,34.8486,2,28.5469,2,20181104,721,5.0003,-151.9954,0,2,0.18,2,0.6,2,0.04,2,197.35,2,34.8408,2,1.518,1,0.052,1,4.613,1,196.7,2
33RR20180918, GP15,25,3,26,GSNIS-27   ,2,6847,14491,20181104,702,5.0003,-151.9954,5114,100,28.55,34.8582,2,-999,9,20181104,721,5.0003,-151.9954,0,2,0.19,2,0.59,2,0.04,2,-999,9,-999,9,1.519,1,0.051,1,4.613,1,197,2
33RR20180918, GP15,25,3,27,GSNIS-28   ,2,6847,14491,20181104,702,5.0003,-151.9954,5114,99,28.5463,34.8491,2,-999,9,20181104,721,5.0003,-151.9954,0,2,0.18,2,0.59,2,0.04,2,-999,9,-999,9,1.521,1,0.049,1,4.612,1,197.7,2
33RR20180918, GP15,25,3,28,GSNIS-29   ,2,6847,14490,20181104,702,5.0003,-151.9954,5114,81.2,28.7359,34.7088,2,28.7348,2,20181104,723,5.0003,-151.9954,0,2,0.13,2,0.13,2,0.02,2,197.11,2,34.7077,2,1.72,1,0.055,1,4.6,1,198.1,2
33RR20180918, GP15,25,3,29,GSNIS-30   ,2,6847,14490,20181104,702,5.0003,-151.9954,5114,81.2,28.7357,34.7089,2,-999,9,20181104,723,5.0003,-151.9954,0,2,0.14,2,0.13,2,0.02,2,-999,9,-999,9,1.715,1,0.054,1,4.601,1,198.3,2
33RR20180918, GP15,25,3,30,GSNIS-31   ,2,6847,14490,20181104,702,5.0003,-151.9954,5114,81.4,28.7362,34.7088,2,-999,9,20181104,723,5.0002,-151.9954,0,2,0.14,2,0.11,2,0.02,2,-999,9,-999,9,1.707,1,0.053,1,4.6,1,198.1,2
33RR20180918, GP15,25,3,31,GSNIS-32   ,2,6847,14489,20181104,702,5.0003,-151.9954,5114,52.8,28.9239,34.5906,2,28.9243,2,20181104,725,5.0003,-151.9954,0,2,0.11,2,0,2,0.01,2,196.98,2,34.5869,2,1.455,1,0.036,1,4.608,1,199.7,2
33RR20180918, GP15,25,3,32,GSNIS-33   ,2,6847,14489,20181104,702,5.0003,-151.9954,5114,52.3,28.9263,34.5897,2,-999,9,20181104,725,5.0003,-151.9954,0,2,0.1,2,0,2,0.01,2,-999,9,-999,9,1.444,1,0.035,1,4.609,1,197.8,2
33RR20180918, GP15,25,3,33,GSNIS-34   ,2,6847,14489,20181104,702,5.0003,-151.9954,5114,52.8,28.9198,34.5921,2,-999,9,20181104,726,5.0003,-151.9954,0,2,0.1,2,0,2,0.01,2,-999,9,-999,9,1.435,1,0.037,1,4.608,1,197.5,2
33RR20180918, GP15,25,3,34,GSNIS-35   ,2,6847,14488,20181104,702,5.0003,-151.9954,5114,26.1,29.4645,33.8389,2,29.4605,2,20181104,728,5.0003,-151.9954,0,2,0.03,2,0,2,0,2,194.79,2,33.8318,2,1.303,1,0.021,1,4.631,1,198.7,2
33RR20180918, GP15,25,3,35,GSNIS-36   ,2,6847,14488,20181104,702,5.0003,-151.9954,5114,26.7,29.4618,33.8364,2,-999,9,20181104,728,5.0003,-151.9954,0.1,2,0.03,2,0,2,0,2,-999,9,-999,9,1.301,1,0.021,1,4.631,1,197.5,2
33RR20180918, GP15,25,3,36,GSNIS-1    ,2,6847,14488,20181104,702,5.0003,-151.9954,5114,26.2,29.4596,33.8351,2,-999,9,20181104,728,5.0003,-151.9954,0.2,2,0.04,2,0,2,0,2,-999,9,-999,9,1.3,1,0.021,1,4.631,1,198.1,2
33RR20180918, GP15,25,5,1,GSNIS-2    ,2,6856,14551,20181104,1546,5.0002,-152.0002,5114,2019.7,2.3073,34.6384,2,2.3052,2,20181104,1546,5.0002,-152.0002,141.63,2,2.78,2,39.66,2,0,2,97.35,2,34.64,3,2.539,1,0.017,1,4.679,1,97.6,2
33RR20180918, GP15,25,5,2,GSNIS-3    ,2,6856,14551,20181104,1546,5.0002,-152.0002,5114,2020.8,2.3053,34.6387,2,-999,9,20181104,1546,5.0002,-152.0002,141.73,2,2.79,2,39.66,2,0,2,-999,9,-999,9,2.539,1,0.017,1,4.68,1,97.5,2
33RR20180918, GP15,25,5,3,GSNIS-4    ,2,6856,14551,20181104,1546,5.0002,-152.0002,5114,2020.2,2.3059,34.6384,2,-999,9,20181104,1546,5.0002,-152.0002,141.93,2,2.78,2,39.71,2,0,2,-999,9,-999,9,2.538,1,0.018,1,4.679,1,97.3,2
33RR20180918, GP15,25,5,4,GSNIS-5    ,2,6856,14450,20181104,1546,5.0002,-152.0002,5114,1615.3,2.9511,34.6107,2,2.9519,2,20181104,1554,5.0002,-152.0002,127.27,2,2.91,2,40.89,2,0,2,79.04,2,34.6119,2,2.503,1,0.018,1,4.679,1,78.7,2
33RR20180918, GP15,25,5,5,GSNIS-6    ,2,6856,14450,20181104,1546,5.0002,-152.0002,5114,1615.7,2.9515,34.6107,2,-999,9,20181104,1554,5.0002,-152.0002,127.46,2,2.92,2,40.88,2,0,2,-999,9,-999,9,2.503,1,0.018,1,4.679,1,78.6,2
33RR20180918, GP15,25,5,6,GSNIS-7    ,2,6856,14450,20181104,1546,5.0002,-152.0002,5114,1614.7,2.9516,34.6106,2,-999,9,20181104,1554,5.0002,-152.0002,127.56,2,2.92,2,40.94,2,0,2,-999,9,-999,9,2.503,1,0.017,1,4.679,1,79.6,2
33RR20180918, GP15,25,5,7,GSNIS-8    ,2,6856,14549,20181104,1546,5.0002,-152.0002,5114,1211,3.9318,34.574,2,3.9309,2,20181104,1602,5.0002,-152.0002,102.44,2,2.95,2,41.26,2,0,2,68.13,2,34.5749,2,2.55,1,0.017,1,4.677,1,67.8,2
33RR20180918, GP15,25,5,8,GSNIS-9    ,2,6856,14549,20181104,1546,5.0002,-152.0002,5114,1210.4,3.9313,34.574,2,-999,9,20181104,1602,5.0002,-152.0002,102.54,2,2.94,2,41.35,2,0,2,-999,9,-999,9,2.552,1,0.017,1,4.677,1,67.1,2
33RR20180918, GP15,25,5,9,GSNIS-10   ,2,6856,14549,20181104,1546,5.0002,-152.0002,5114,1210.9,3.9313,34.5742,2,-999,9,20181104,1602,5.0002,-152.0002,102.44,2,2.95,2,41.47,2,0,2,-999,9,-999,9,2.552,1,0.018,1,4.678,1,67.2,2
33RR20180918, GP15,25,5,10,GSNIS-11   ,2,6856,14548,20181104,1546,5.0002,-152.0002,5114,806.8,5.5437,34.5468,2,5.5433,2,20181104,1610,5.0002,-152.0002,71.07,2,2.91,2,41.11,2,0,2,50.83,2,34.5474,2,2.61,1,0.018,1,4.676,1,49.8,2
33RR20180918, GP15,25,5,11,GSNIS-12   ,2,6856,14548,20181104,1546,5.0002,-152.0002,5114,806.6,5.5446,34.5467,2,-999,9,20181104,1610,5.0002,-152.0002,71.07,2,2.91,2,41.16,2,0,2,-999,9,-999,9,2.611,1,0.018,1,4.676,1,49.7,2
33RR20180918, GP15,25,5,12,GSNIS-13   ,2,6856,14548,20181104,1546,5.0002,-152.0002,5114,807.4,5.5426,34.5468,2,-999,9,20181104,1610,5.0002,-152.0002,70.97,2,2.9,2,41.15,2,0,2,-999,9,-999,9,2.611,1,0.017,1,4.676,1,49.5,2
33RR20180918, GP15,25,5,13,GSNIS-14   ,2,6856,14547,20181104,1546,5.0002,-152.0002,5114,504.7,8.091,34.6057,2,8.0915,2,20181104,1616,5.0002,-152.0002,43.11,2,2.69,2,37.95,2,0,2,30.03,2,34.6062,2,2.736,1,0.017,1,4.67,1,31.8,2
33RR20180918, GP15,25,5,14,GSNIS-15   ,2,6856,14547,20181104,1546,5.0002,-152.0002,5114,504.8,8.0913,34.6056,2,-999,9,20181104,1616,5.0002,-152.0002,43.11,2,2.69,2,37.97,2,0,2,-999,9,-999,9,2.74,1,0.018,1,4.67,1,31.9,2
33RR20180918, GP15,25,5,15,GSNIS-16   ,2,6856,14547,20181104,1546,5.0002,-152.0002,5114,504.5,8.0911,34.6057,2,-999,9,20181104,1617,5.0002,-152.0002,43.01,2,2.69,2,37.89,2,0,2,-999,9,-999,9,2.744,1,0.018,1,4.67,1,31.3,2
33RR20180918, GP15,25,5,16,GSNIS-17   ,2,6856,14546,20181104,1546,5.0002,-152.0002,5114,201.7,12.1073,34.6282,2,12.1889,3,20181104,1623,5.0002,-152.0002,23.95,2,1.94,2,27.23,2,0.01,2,59.35,2,34.6278,3,2.717,1,0.017,1,4.668,1,58.1,2
33RR20180918, GP15,25,5,17,GSNIS-18   ,2,6856,14546,20181104,1546,5.0002,-152.0002,5114,201.7,12.1618,34.6241,2,-999,9,20181104,1623,5.0002,-152.0002,23.65,2,1.93,2,27.03,2,0.01,2,-999,9,-999,9,2.712,1,0.017,1,4.669,1,72.7,2
33RR20180918, GP15,25,5,18,GSNIS-19   ,2,6856,14546,20181104,1546,5.0002,-152.0002,5114,201.7,12.1989,34.6314,2,-999,9,20181104,1623,5.0002,-152.0002,23.95,2,1.94,2,27.33,2,0.01,2,-999,9,-999,9,2.708,1,0.017,1,4.668,1,72.2,2
33RR20180918, GP15,25,5,19,GSNIS-20   ,2,6856,14545,20181104,1546,5.0002,-152.0002,5114,150.6,19.8796,34.741,2,19.6009,3,20181104,1625,5.0002,-152.0002,7.23,2,0.83,2,11.29,2,0.03,2,126.56,2,34.7594,3,2.48,1,0.022,1,4.661,1,129.6,2
33RR20180918, GP15,25,5,20,GSNIS-21   ,2,6856,14545,20181104,1546,5.0002,-152.0002,5114,151.5,19.5617,34.7467,2,-999,9,20181104,1625,5.0002,-152.0002,7.33,2,0.84,2,11.35,2,0.03,2,-999,9,-999,9,2.453,1,0.022,1,4.66,1,123.4,2
33RR20180918, GP15,25,5,21,GSNIS-22   ,2,6856,14545,20181104,1546,5.0002,-152.0002,5114,151.1,19.5116,34.7458,2,-999,9,20181104,1625,5.0002,-152.0002,7.13,2,0.83,2,11.34,2,0.03,2,-999,9,-999,9,2.423,1,0.023,1,4.662,1,123.5,2
33RR20180918, GP15,25,5,22,GSNIS-23   ,2,6856,14544,20181104,1546,5.0002,-152.0002,5114,124.7,26.1186,34.6742,2,26.114,2,20181104,1627,5.0002,-152.0002,1.76,2,0.3,2,2.43,2,0.32,2,162.65,2,34.6781,2,1.963,1,0.036,1,4.641,1,161,2
33RR20180918, GP15,25,5,23,GSNIS-24   ,2,6856,14544,20181104,1546,5.0002,-152.0002,5114,125.3,26.1137,34.6742,2,-999,9,20181104,1627,5.0002,-152.0002,1.86,2,0.31,2,2.43,2,0.33,2,-999,9,-999,9,1.934,1,0.036,1,4.642,1,159.5,2
33RR20180918, GP15,25,5,24,GSNIS-25   ,2,6856,14544,20181104,1546,5.0002,-152.0002,5114,125,26.1156,34.6748,2,-999,9,20181104,1627,5.0002,-152.0002,1.66,2,0.3,2,2.41,2,0.32,2,-999,9,-999,9,1.919,1,0.037,1,4.641,1,158.9,2
33RR20180918, GP15,25,5,25,GSNIS-26   ,2,6856,14543,20181104,1546,5.0002,-152.0002,5114,98.3,28.5476,34.8255,2,28.5467,2,20181104,1628,5.0002,-152.0002,0,2,0.17,2,0.62,2,0.04,2,197.52,2,34.831,2,1.613,1,0.043,1,4.61,1,197.4,2
33RR20180918, GP15,25,5,26,GSNIS-27   ,2,6856,14543,20181104,1546,5.0002,-152.0002,5114,98.6,28.5459,34.8285,2,-999,9,20181104,1629,5.0002,-152.0002,0,2,0.17,2,0.57,2,0.04,2,-999,9,-999,9,1.604,1,0.042,1,4.61,1,197.3,2
33RR20180918, GP15,25,5,27,GSNIS-28   ,2,6856,14542,20181104,1546,5.0002,-152.0002,5114,81.4,28.6475,34.7526,2,28.6461,2,20181104,1630,5.0002,-152.0001,0,2,0.13,2,0.24,2,0.02,2,197.62,2,34.7508,2,1.627,1,0.046,1,4.599,1,196.4,2
33RR20180918, GP15,25,5,28,GSNIS-29   ,2,6856,14542,20181104,1546,5.0002,-152.0002,5114,80.8,28.6456,34.7516,2,-999,9,20181104,1630,5.0002,-152.0001,0,2,0.13,2,0.25,2,0.02,2,-999,9,-999,9,1.621,1,0.045,1,4.598,1,198.2,2
33RR20180918, GP15,25,5,29,GSNIS-30   ,2,6856,14542,20181104,1546,5.0002,-152.0002,5114,81,28.6471,34.7517,2,-999,9,20181104,1630,5.0002,-152.0001,0,2,0.14,2,0.25,2,0.02,2,-999,9,-999,9,1.617,1,0.047,1,4.598,1,198.4,2
33RR20180918, GP15,25,5,30,GSNIS-31   ,2,6856,14542,20181104,1546,5.0002,-152.0002,5114,80.5,28.6466,34.7511,2,-999,9,20181104,1630,5.0002,-152.0001,0,2,0.14,2,0.24,2,0.02,2,-999,9,-999,9,1.615,1,0.046,1,4.598,1,198.6,2
33RR20180918, GP15,25,5,31,GSNIS-32   ,2,6856,14541,20181104,1546,5.0002,-152.0002,5114,53,28.8779,34.583,2,28.8796,2,20181104,1632,5.0002,-152.0002,0,2,0.1,2,0,2,0.01,2,197.02,2,34.5785,2,1.791,1,0.033,1,4.61,1,197.8,2
33RR20180918, GP15,25,5,32,GSNIS-33   ,2,6856,14541,20181104,1546,5.0002,-152.0002,5114,53,28.8813,34.5819,2,-999,9,20181104,1632,5.0002,-152.0002,0,2,0.1,2,0,2,0.01,2,-999,9,-999,9,1.79,1,0.034,1,4.609,1,197.5,2
33RR20180918, GP15,25,5,33,GSNIS-34   ,2,6856,14540,20181104,1546,5.0002,-152.0002,5114,26.9,29.479,33.9282,2,29.4817,2,20181104,1634,5.0002,-152.0002,0,2,0.04,2,0,2,0,2,195.07,2,33.9346,2,1.336,1,0.02,1,4.634,1,199.2,2
33RR20180918, GP15,25,5,34,GSNIS-35   ,2,6856,14540,20181104,1546,5.0002,-152.0002,5114,26.3,29.4817,33.9317,2,-999,9,20181104,1635,5.0002,-152.0002,0,2,0.03,2,0,2,0,2,-999,9,-999,9,1.33,1,0.021,1,4.634,1,197.5,2
33RR20180918, GP15,25,5,35,GSNIS-36   ,2,6856,14540,20181104,1546,5.0002,-152.0002,5114,27.1,29.4848,33.933,2,-999,9,20181104,1635,5.0002,-152.0002,0.1,2,0.03,2,0,2,0,2,-999,9,-999,9,1.325,1,0.02,1,4.634,1,196.9,2
33RR20180918, GP15,25,5,36,GSNIS-1    ,2,6856,14539,20181104,1546,5.0002,-152.0002,5114,2.9,29.3931,33.8844,2,29.3882,2,20181104,1637,5.0002,-152.0002,0.1,2,0.03,2,0,2,0,2,194.9,2,33.886,2,1.3,1,0.019,1,4.635,1,197.9,2