BOTTLE,20191212SIOCCHAMB
EXPOCODE,SECT_ID,STNNBR,CASTNO,SAMPNO,BTLNBR,BTLNBR_FLAG_W,GEOTRC_EVENTNO,GEOTRC_SAMPNO,DATE,TIME,LATITUDE,LONGITUDE,DEPTH,CTDPRS,CTDTMP,CTDSAL,CTDSAL_FLAG_W,REFTMP,REFTMP_FLAG_W,BTL_DATE,BTL_TIME,BTL_LAT,BTL_LON,SILCAT,SILCAT_FLAG_W,PHSPHT,PHSPHT_FLAG_W,NITRAT,NITRAT_FLAG_W,NITRIT,NITRIT_FLAG_W,OXYGEN,OXYGEN_FLAG_W,SALNTY,SALNTY_FLAG_W,CTDRINKO,CTDRINKO_FLAG_W,CTDFLUOR,CTDFLUOR_FLAG_W,CTDXMISS,CTDXMISS_FLAG_W,CTDOXY,CTDOXY_FLAG_W
,,,,,,,,,,,,,METERS,DBAR,ITS-90,PSS-78,,ITS-90,,,,,,UMOL/KG,,UMOL/KG,,UMOL/KG,,UMOL/KG,,UMOL/KG,,PSS-78,,VOLTS,,VOLTS,,VOLTS,,UMOL/KG,
33RR20180918, GP15,3,4,1,GSNIS-1    ,2,6550,12543,20180928,10,55.0802,-155.7203,1628,1579.2,2.1862,34.5273,2,2.1839,2,20180928,10,55.0803,-155.7202,165.56,2,3.01,2,43.53,2,0,2,35.72,2,34.5295,2,3.068,1,0.018,1,4.697,1,35.6,2
33RR20180918, GP15,3,4,2,GSNIS-2    ,2,6550,12543,20180928,10,55.0802,-155.7203,1628,1582,2.1817,34.5282,2,-999,9,20180928,10,55.0803,-155.7202,165.46,2,3.02,2,43.5,2,0,2,-999,9,-999,9,3.068,1,0.018,1,4.697,1,36.6,2
33RR20180918, GP15,3,4,3,GSNIS-3    ,2,6550,12543,20180928,10,55.0802,-155.7203,1628,1580.9,2.1848,34.5277,2,-999,9,20180928,10,55.0803,-155.7202,164.49,2,3.02,2,43.42,2,0,2,-999,9,-999,9,3.068,1,0.018,1,4.697,1,34.7,2
33RR20180918, GP15,3,4,4,GSNIS-4    ,2,6550,12542,20180928,10,55.0802,-155.7203,1628,1416,2.3682,34.4893,2,2.3679,2,20180928,15,55.0803,-155.7203,161.07,2,3.06,2,44.2,2,0,2,26.17,2,34.4895,2,3.06,1,0.018,1,4.705,1,26.5,2
33RR20180918, GP15,3,4,5,GSNIS-5    ,3,6550,12542,20180928,10,55.0802,-155.7203,1628,1420.1,2.3683,34.4892,3,-999,9,20180928,15,55.0803,-155.7203,155.02,3,3.02,3,43.61,3,0,3,-999,9,-999,9,3.059,1,0.018,1,4.705,1,26,3
33RR20180918, GP15,3,4,6,GSNIS-6    ,2,6550,12542,20180928,10,55.0802,-155.7203,1628,1417,2.3687,34.4893,2,-999,9,20180928,15,55.0803,-155.7203,161.17,2,3.08,2,44.1,2,0,2,-999,9,-999,9,3.059,1,0.018,1,4.705,1,25.4,2
33RR20180918, GP15,3,4,7,GSNIS-7    ,3,6550,12541,20180928,10,55.0802,-155.7203,1628,1114.5,2.7174,34.4161,3,2.7182,3,20180928,22,55.0803,-155.7204,120.67,3,2.78,3,38.73,3,0.03,3,71.79,3,-999,9,3.055,1,0.018,1,4.704,1,23.1,3
33RR20180918, GP15,3,4,8,GSNIS-8    ,2,6550,12541,20180928,10,55.0802,-155.7203,1628,1112.9,2.7191,34.4158,2,-999,9,20180928,22,55.0803,-155.7204,150.54,2,3.12,2,44.44,2,0,2,-999,9,34.4183,2,3.056,1,0.018,1,4.704,1,16.1,3
33RR20180918, GP15,3,4,9,GSNIS-9    ,2,6550,12541,20180928,10,55.0802,-155.7203,1628,1113.3,2.7198,34.4156,2,-999,9,20180928,22,55.0803,-155.7204,150.93,2,3.1,2,44.46,2,0,2,-999,9,-999,9,3.055,1,0.018,1,4.704,1,16.1,3
33RR20180918, GP15,3,4,10,GSNIS-10   ,2,6550,12540,20180928,10,55.0802,-155.7203,1628,808,3.2015,34.3028,2,3.2001,2,20180928,28,55.0803,-155.7203,134.93,2,3.12,2,44.42,2,0,2,13.27,2,34.3047,2,3.149,1,0.018,1,4.704,1,12.3,2
33RR20180918, GP15,3,4,11,GSNIS-11   ,2,6550,12540,20180928,10,55.0802,-155.7203,1628,808.5,3.2012,34.3029,2,-999,9,20180928,28,55.0803,-155.7203,134.25,2,3.11,2,44.61,2,0,2,-999,9,-999,9,3.153,1,0.018,1,4.704,1,13,2
33RR20180918, GP15,3,4,12,GSNIS-12   ,2,6550,12540,20180928,10,55.0802,-155.7203,1628,810,3.2002,34.3033,2,-999,9,20180928,29,55.0803,-155.7203,134.93,2,3.13,2,44.41,2,0,2,-999,9,-999,9,3.155,1,0.018,1,4.704,1,13,2
33RR20180918, GP15,3,4,13,GSNIS-13   ,2,6550,12539,20180928,10,55.0802,-155.7203,1628,505.4,3.7313,34.1411,2,3.731,2,20180928,35,55.0803,-155.7203,112.78,2,3.1,2,44.22,2,0.01,2,15.18,2,34.1424,2,3.278,1,0.018,1,4.704,1,16.1,2
33RR20180918, GP15,3,4,14,GSNIS-14   ,2,6550,12539,20180928,10,55.0802,-155.7203,1628,507.1,3.7306,34.1417,2,-999,9,20180928,35,55.0802,-155.7203,112.2,2,3.09,2,44.27,2,0,2,-999,9,-999,9,3.278,1,0.018,1,4.703,1,16.5,2
33RR20180918, GP15,3,4,15,GSNIS-15   ,2,6550,12539,20180928,10,55.0802,-155.7203,1628,505.4,3.7326,34.1406,2,-999,9,20180928,35,55.0802,-155.7203,112.59,2,3.09,2,44.22,2,0,2,-999,9,-999,9,3.277,1,0.018,1,4.701,1,16.7,2
33RR20180918, GP15,3,4,16,GSNIS-16   ,2,6550,12539,20180928,10,55.0802,-155.7203,1628,506.5,3.7321,34.1407,2,3.731,2,20180928,35,55.0802,-155.7203,112.68,2,3.08,2,44.22,2,0.01,2,-999,9,-999,9,3.277,1,0.018,1,4.703,1,16.1,2
33RR20180918, GP15,3,4,17,GSNIS-17   ,2,6550,12538,20180928,10,55.0802,-155.7203,1628,303,3.8775,33.9549,2,3.875,2,20180928,40,55.0802,-155.7203,95.22,2,3.09,2,44.69,2,0.01,2,22.94,2,33.9571,2,3.249,1,0.018,1,4.692,1,24.7,2
33RR20180918, GP15,3,4,18,GSNIS-18   ,2,6550,12538,20180928,10,55.0802,-155.7203,1628,304.7,3.875,33.9549,2,-999,9,20180928,40,55.0802,-155.7203,95.32,2,3.11,2,44.61,2,0.01,2,-999,9,-999,9,3.248,1,0.018,1,4.693,1,24.7,2
33RR20180918, GP15,3,4,19,GSNIS-19   ,2,6550,12538,20180928,10,55.0802,-155.7203,1628,302.5,3.8767,33.9545,2,-999,9,20180928,40,55.0802,-155.7203,95.22,2,3.08,2,44.65,2,0.01,2,-999,9,-999,9,3.248,1,0.018,1,4.692,1,24,2
33RR20180918, GP15,3,4,20,GSNIS-20   ,2,6550,12537,20180928,10,55.0802,-155.7203,1628,203.8,3.9943,33.8584,2,3.9932,2,20180928,43,55.0803,-155.7203,84.77,2,3.01,2,43.57,2,0.01,2,40.56,2,33.8603,2,3.163,1,0.018,1,4.694,1,44.7,2
33RR20180918, GP15,3,4,21,GSNIS-21   ,2,6550,12537,20180928,10,55.0802,-155.7203,1628,201.7,3.994,33.8585,2,-999,9,20180928,44,55.0803,-155.7203,85.36,2,3.01,2,43.6,2,0.01,2,-999,9,-999,9,3.16,1,0.018,1,4.693,1,45.1,2
33RR20180918, GP15,3,4,22,GSNIS-22   ,2,6550,12536,20180928,10,55.0802,-155.7203,1628,102,4.2655,33.1696,2,4.2655,2,20180928,47,55.0802,-155.7204,45.93,2,2.09,2,28.53,2,0.02,2,222.24,2,33.1694,2,2.559,1,0.02,1,4.686,1,217.6,2
33RR20180918, GP15,3,4,23,GSNIS-23   ,2,6550,12536,20180928,10,55.0802,-155.7203,1628,104.5,4.2677,33.1722,2,-999,9,20180928,47,55.0802,-155.7204,45.83,2,2.09,2,28.5,2,0.02,2,-999,9,-999,9,2.547,1,0.02,1,4.687,1,226,2
33RR20180918, GP15,3,4,24,GSNIS-24   ,2,6550,12536,20180928,10,55.0802,-155.7203,1628,102.1,4.265,33.1695,2,-999,9,20180928,47,55.0803,-155.7204,46.02,2,2.1,2,28.47,2,0.02,2,-999,9,-999,9,2.497,1,0.02,1,4.687,1,226.4,2
33RR20180918, GP15,3,4,25,GSNIS-25   ,2,6550,12535,20180928,10,55.0802,-155.7203,1628,75,4.5234,32.9007,2,4.5263,2,20180928,50,55.0803,-155.7203,34.6,2,1.78,2,22.75,2,0.03,2,284.34,2,32.894,2,2.269,1,0.023,1,4.681,1,283.5,2
33RR20180918, GP15,3,4,26,GSNIS-26   ,2,6550,12535,20180928,10,55.0802,-155.7203,1628,77.8,4.5277,32.8974,2,-999,9,20180928,50,55.0803,-155.7203,34.5,2,1.76,2,22.73,2,0.03,2,-999,9,-999,9,2.27,1,0.023,1,4.682,1,285.6,2
33RR20180918, GP15,3,4,27,GSNIS-27   ,2,6550,12535,20180928,10,55.0802,-155.7203,1628,75,4.5262,32.8983,2,-999,9,20180928,50,55.0803,-155.7203,34.6,2,1.75,2,22.69,2,0.04,2,-999,9,-999,9,2.265,1,0.022,1,4.681,1,285,2
33RR20180918, GP15,3,4,28,GSNIS-28   ,2,6550,12534,20180928,10,55.0802,-155.7203,1628,60.8,5.2136,32.7948,2,5.1726,2,20180928,52,55.0802,-155.7203,29.81,2,1.61,2,19.57,2,0.43,2,299.25,2,32.7997,2,1.954,1,0.032,1,4.661,1,301.4,2
33RR20180918, GP15,3,4,29,GSNIS-29   ,2,6550,12534,20180928,10,55.0802,-155.7203,1628,60.2,5.1669,32.7973,2,-999,9,20180928,52,55.0802,-155.7204,29.91,2,1.6,2,19.66,2,0.42,2,-999,9,-999,9,1.914,1,0.03,1,4.662,1,300.5,2
33RR20180918, GP15,3,4,30,GSNIS-30   ,2,6550,12534,20180928,10,55.0802,-155.7203,1628,61.8,5.2051,32.7947,2,-999,9,20180928,52,55.0802,-155.7203,29.81,2,1.61,2,19.59,2,0.42,2,-999,9,-999,9,1.901,1,0.031,1,4.66,1,298.9,2
33RR20180918, GP15,3,4,31,GSNIS-31   ,2,6550,12533,20180928,10,55.0802,-155.7203,1628,36.1,9.3166,32.5735,2,8.9871,2,20180928,55,55.0802,-155.7203,17.21,2,1.17,2,11.23,2,0.19,2,292.47,2,32.5829,2,1.671,1,0.049,1,4.615,1,296.9,2
33RR20180918, GP15,3,4,32,GSNIS-32   ,2,6550,12533,20180928,10,55.0802,-155.7203,1628,36.3,9.0787,32.5866,2,-999,9,20180928,55,55.0803,-155.7204,17.5,2,1.15,2,11.38,2,0.19,2,-999,9,-999,9,1.647,1,0.049,1,4.616,1,313.2,2
33RR20180918, GP15,3,4,33,GSNIS-33   ,2,6550,12533,20180928,10,55.0802,-155.7203,1628,37.1,8.966,32.6067,2,9.0524,3,20180928,55,55.0803,-155.7204,17.6,2,1.14,2,11.38,2,0.2,2,-999,9,-999,9,1.636,1,0.05,1,4.618,1,318.6,2
33RR20180918, GP15,3,4,34,GSNIS-34   ,2,6550,12532,20180928,10,55.0802,-155.7203,1628,27.2,13.1612,32.2425,2,13.1505,2,20180928,56,55.0802,-155.7203,6.65,2,0.51,2,2.69,2,0.06,2,264.93,2,32.2473,2,1.57,1,0.099,1,4.46,1,264.4,2
33RR20180918, GP15,3,4,35,GSNIS-35   ,2,6550,12532,20180928,10,55.0802,-155.7203,1628,26.6,13.1608,32.2432,2,-999,9,20180928,57,55.0803,-155.7203,6.75,2,0.51,2,2.69,2,0.06,2,-999,9,-999,9,1.559,1,0.1,1,4.458,1,264.2,2
33RR20180918, GP15,3,4,36,GSNIS-36   ,2,6550,12531,20180928,10,55.0802,-155.7203,1628,6.2,13.196,32.2367,2,13.1941,2,20180928,59,55.0802,-155.7203,6.55,2,0.48,2,2.63,2,0.06,2,265.82,2,32.2417,2,1.496,1,0.097,1,4.447,1,264,2
33RR20180918, GP15,3,6,1,GSNIS-1    ,2,6551,12555,20180928,822,55.0802,-155.7202,1628,1620.6,2.1743,34.5302,2,2.1753,2,20180928,822,55.0803,-155.7201,166.54,2,3.02,2,43.35,2,0,2,36.22,2,34.5279,2,3.065,1,0.018,1,4.7,1,37,2
33RR20180918, GP15,3,6,2,GSNIS-2    ,2,6551,12555,20180928,822,55.0802,-155.7202,1628,1616.4,2.1764,34.53,2,-999,9,20180928,822,55.0803,-155.7201,166.05,2,3.02,2,43.31,2,0,2,-999,9,-999,9,3.065,1,0.018,1,4.7,1,36.8,2
33RR20180918, GP15,3,6,3,GSNIS-3    ,2,6551,12555,20180928,822,55.0802,-155.7202,1628,1620.6,2.1749,34.5301,2,-999,9,20180928,822,55.0803,-155.7201,165.66,2,3.01,2,43.35,2,0,2,-999,9,-999,9,3.065,1,0.018,1,4.7,1,35.5,2
33RR20180918, GP15,3,6,4,GSNIS-4    ,2,6551,12554,20180928,822,55.0802,-155.7202,1628,1581.8,2.1927,34.5261,2,2.1917,2,20180928,828,55.0802,-155.7201,166.05,2,3.04,2,43.42,2,0,2,35.09,2,34.5236,2,3.052,1,0.018,1,4.7,1,35.2,2
33RR20180918, GP15,3,6,5,GSNIS-5    ,2,6551,12554,20180928,822,55.0802,-155.7202,1628,1583.2,2.1923,34.5266,2,-999,9,20180928,828,55.0802,-155.7201,166.05,2,3.04,2,43.39,2,0,2,-999,9,-999,9,3.053,1,0.018,1,4.701,1,36.8,2
33RR20180918, GP15,3,6,6,GSNIS-6    ,2,6551,12554,20180928,822,55.0802,-155.7202,1628,1583.8,2.1924,34.5263,2,-999,9,20180928,828,55.0802,-155.7201,166.24,2,3.02,2,43.41,2,0,2,-999,9,-999,9,3.053,1,0.018,1,4.701,1,32.1,2
33RR20180918, GP15,3,6,7,GSNIS-7    ,2,6551,12553,20180928,822,55.0802,-155.7202,1628,1518,2.2465,34.515,2,2.2445,2,20180928,830,55.0802,-155.7201,163.71,2,3.04,2,43.59,2,0,2,31.64,2,34.5136,2,3.054,1,0.018,1,4.702,1,30.5,2
33RR20180918, GP15,3,6,8,GSNIS-8    ,2,6551,12553,20180928,822,55.0802,-155.7202,1628,1521.9,2.2437,34.5157,2,-999,9,20180928,830,55.0803,-155.7201,164.88,2,3.05,2,43.64,2,0,2,-999,9,-999,9,3.055,1,0.017,1,4.702,1,31.9,2
33RR20180918, GP15,3,6,9,GSNIS-9    ,2,6551,12553,20180928,822,55.0802,-155.7202,1628,1520.5,2.2456,34.5152,2,-999,9,20180928,830,55.0803,-155.7201,164.49,2,3.05,2,43.47,2,0,2,-999,9,-999,9,3.055,1,0.018,1,4.701,1,29.8,2
33RR20180918, GP15,3,6,10,GSNIS-10   ,2,6551,12552,20180928,822,55.0802,-155.7202,1628,1418.1,2.3782,34.4875,2,2.3771,2,20180928,833,55.0803,-155.7201,160.1,2,3.08,2,43.81,2,0,2,26.14,2,34.4856,2,3.094,1,0.018,1,4.704,1,25.1,2
33RR20180918, GP15,3,6,11,GSNIS-11   ,2,6551,12552,20180928,822,55.0802,-155.7202,1628,1421.5,2.3773,34.4874,2,-999,9,20180928,833,55.0803,-155.7201,160.88,2,3.08,2,43.85,2,0,2,-999,9,-999,9,3.098,1,0.017,1,4.704,1,25.4,2
33RR20180918, GP15,3,6,12,GSNIS-12   ,2,6551,12552,20180928,822,55.0802,-155.7202,1628,1417.3,2.3783,34.4872,2,-999,9,20180928,833,55.0803,-155.7201,160.78,2,3.08,2,43.82,2,-0.01,2,-999,9,-999,9,3.1,1,0.018,1,4.703,1,25.3,2
33RR20180918, GP15,3,6,13,GSNIS-13   ,2,6551,12551,20180928,822,55.0802,-155.7202,1628,1317.7,2.4546,34.4698,2,2.4538,2,20180928,836,55.0803,-155.7201,158.15,2,3.09,2,44.13,2,0,2,23.03,2,34.4693,2,3.145,1,0.018,1,4.704,1,23.5,2
33RR20180918, GP15,3,6,14,GSNIS-14   ,2,6551,12551,20180928,822,55.0802,-155.7202,1628,1317.5,2.4563,34.4693,2,-999,9,20180928,836,55.0803,-155.7201,158.44,2,3.09,2,44.02,2,0,2,-999,9,-999,9,3.146,1,0.018,1,4.704,1,22.5,2
33RR20180918, GP15,3,6,15,GSNIS-15   ,2,6551,12551,20180928,822,55.0802,-155.7202,1628,1319.5,2.4502,34.4709,2,-999,9,20180928,836,55.0803,-155.7201,158.44,2,3.09,2,44.05,2,0,2,-999,9,-999,9,3.147,1,0.018,1,4.704,1,23.4,2
33RR20180918, GP15,3,6,16,GSNIS-16   ,2,6551,12550,20180928,822,55.0802,-155.7202,1628,1115.7,2.7339,34.4091,2,2.7341,2,20180928,841,55.0803,-155.7201,150.74,2,3.12,2,44.26,2,0,2,16.41,2,34.4076,2,3.216,1,0.018,1,4.704,1,16.6,2
33RR20180918, GP15,3,6,17,GSNIS-17   ,2,6551,12550,20180928,822,55.0802,-155.7202,1628,1113.6,2.7348,34.4093,2,-999,9,20180928,841,55.0803,-155.7201,150.44,2,3.13,2,44.22,2,0,2,-999,9,-999,9,3.218,1,0.018,1,4.704,1,16.5,2
33RR20180918, GP15,3,6,18,GSNIS-18   ,2,6551,12550,20180928,822,55.0802,-155.7202,1628,1115.4,2.7334,34.4087,2,2.7345,2,20180928,841,55.0803,-155.7201,150.05,2,3.14,2,44.25,2,0,2,-999,9,-999,9,3.221,1,0.018,1,4.704,1,16.2,2
33RR20180918, GP15,3,6,19,GSNIS-19   ,2,6551,12549,20180928,822,55.0802,-155.7202,1628,1013.2,2.9178,34.374,2,2.9173,2,20180928,844,55.0803,-155.7201,144.69,2,3.14,2,44.3,2,0,2,14.5,2,34.3729,2,3.263,1,0.018,1,4.703,1,14.6,2
33RR20180918, GP15,3,6,20,GSNIS-20   ,2,6551,12549,20180928,822,55.0802,-155.7202,1628,1012,2.9181,34.3735,2,-999,9,20180928,844,55.0803,-155.7201,144.69,2,3.14,2,44.34,2,0,2,-999,9,-999,9,3.265,1,0.018,1,4.703,1,13.8,2
33RR20180918, GP15,3,6,21,GSNIS-21   ,2,6551,12549,20180928,822,55.0802,-155.7202,1628,1010.5,2.9179,34.3734,2,-999,9,20180928,844,55.0803,-155.7201,144.69,2,3.15,2,44.33,2,0,2,-999,9,-999,9,3.266,1,0.018,1,4.703,1,14.1,2
33RR20180918, GP15,3,6,22,GSNIS-22   ,2,6551,12548,20180928,822,55.0802,-155.7202,1628,911.4,3.0179,34.3479,2,3.0185,2,20180928,847,55.0803,-155.7201,140.39,2,3.16,2,44.28,2,0,2,13.65,2,34.347,2,3.289,1,0.018,1,4.703,1,14,2
33RR20180918, GP15,3,6,23,GSNIS-23   ,2,6551,12548,20180928,822,55.0802,-155.7202,1628,910.9,3.0193,34.3476,2,-999,9,20180928,847,55.0803,-155.7201,140.88,2,3.16,2,44.23,2,0,2,-999,9,-999,9,3.289,1,0.018,1,4.703,1,13.6,2
33RR20180918, GP15,3,6,24,GSNIS-24   ,2,6551,12548,20180928,822,55.0802,-155.7202,1628,910.8,3.0194,34.3478,2,-999,9,20180928,847,55.0803,-155.7201,141.08,2,3.15,2,44.27,2,0,2,-999,9,-999,9,3.29,1,0.018,1,4.703,1,13.6,2
33RR20180918, GP15,3,6,25,GSNIS-25   ,2,6551,12547,20180928,822,55.0802,-155.7202,1628,809.1,3.1722,34.3096,2,3.171,2,20180928,850,55.0803,-155.7201,135.42,2,3.14,2,44.21,2,0,2,13.21,2,34.3084,2,3.3,1,0.018,1,4.703,1,13.1,2
33RR20180918, GP15,3,6,26,GSNIS-26   ,2,6551,12547,20180928,822,55.0802,-155.7202,1628,810.9,3.1673,34.3107,2,-999,9,20180928,850,55.0803,-155.7201,135.42,2,3.15,2,44.27,2,0,2,-999,9,-999,9,3.3,1,0.018,1,4.703,1,12.8,2
33RR20180918, GP15,3,6,27,GSNIS-27   ,2,6551,12547,20180928,822,55.0802,-155.7202,1628,806.8,3.1775,34.3086,2,-999,9,20180928,850,55.0802,-155.7201,135.61,2,3.13,2,44.24,2,0,2,-999,9,-999,9,3.301,1,0.018,1,4.703,1,12.3,2
33RR20180918, GP15,3,6,28,GSNIS-28   ,2,6551,12546,20180928,822,55.0802,-155.7202,1628,704.9,3.3773,34.264,2,3.373,2,20180928,854,55.0803,-155.7201,128.3,2,3.13,2,44.17,2,0,2,13.21,2,34.2628,2,3.309,1,0.018,1,4.701,1,13.5,2
33RR20180918, GP15,3,6,29,GSNIS-29   ,2,6551,12546,20180928,822,55.0802,-155.7202,1628,706.5,3.378,34.2636,2,-999,9,20180928,854,55.0803,-155.7201,127.9,2,3.15,2,44.2,2,0,2,-999,9,-999,9,3.309,1,0.018,1,4.701,1,13.9,2
33RR20180918, GP15,3,6,30,GSNIS-30   ,2,6551,12546,20180928,822,55.0802,-155.7202,1628,710.1,3.3695,34.2655,2,-999,9,20180928,854,55.0803,-155.7201,128.39,2,3.14,2,44.13,2,0,2,-999,9,-999,9,3.309,1,0.018,1,4.702,1,13.2,2
33RR20180918, GP15,3,6,31,GSNIS-31   ,2,6551,12545,20180928,822,55.0802,-155.7202,1628,607.9,3.507,34.2244,2,3.5066,2,20180928,857,55.0802,-155.7201,123.32,2,3.13,2,44.18,2,0,2,13.27,2,34.224,2,3.303,1,0.018,1,4.703,1,13.9,2
33RR20180918, GP15,3,6,32,GSNIS-32   ,2,6551,12545,20180928,822,55.0802,-155.7202,1628,606.8,3.5077,34.224,2,-999,9,20180928,857,55.0802,-155.7201,123.12,2,3.11,2,44.08,2,-0.01,2,-999,9,-999,9,3.303,1,0.018,1,4.702,1,14.1,2
33RR20180918, GP15,3,6,33,GSNIS-33   ,2,6551,12545,20180928,822,55.0802,-155.7202,1628,609.4,3.5069,34.2242,2,-999,9,20180928,857,55.0802,-155.7201,122.83,2,3.1,2,44.06,2,0,2,-999,9,-999,9,3.303,1,0.018,1,4.703,1,14.1,2
33RR20180918, GP15,3,6,34,GSNIS-34   ,2,6551,12544,20180928,822,55.0802,-155.7202,1628,508,3.6714,34.1641,2,3.6702,2,20180928,900,55.0802,-155.7202,115.61,2,3.1,2,43.92,2,0,2,14.57,2,34.1641,2,3.301,1,0.018,1,4.703,1,15.7,2
33RR20180918, GP15,3,6,35,GSNIS-35   ,2,6551,12544,20180928,822,55.0802,-155.7202,1628,506.4,3.6705,34.1644,2,-999,9,20180928,900,55.0802,-155.7202,115.32,2,3.07,2,43.85,2,0,2,-999,9,-999,9,3.299,1,0.018,1,4.702,1,15,2
33RR20180918, GP15,3,6,36,GSNIS-36   ,2,6551,12544,20180928,822,55.0802,-155.7202,1628,507,3.6718,34.1639,2,3.6713,2,20180928,900,55.0802,-155.7202,115.9,2,3.03,2,43.72,2,0.01,2,-999,9,-999,9,3.3,1,0.018,1,4.701,1,16,2