BOTTLE,20191212SIOCCHAMB
EXPOCODE,SECT_ID,STNNBR,CASTNO,SAMPNO,BTLNBR,BTLNBR_FLAG_W,GEOTRC_EVENTNO,GEOTRC_SAMPNO,DATE,TIME,LATITUDE,LONGITUDE,DEPTH,CTDPRS,CTDTMP,CTDSAL,CTDSAL_FLAG_W,REFTMP,REFTMP_FLAG_W,BTL_DATE,BTL_TIME,BTL_LAT,BTL_LON,SILCAT,SILCAT_FLAG_W,PHSPHT,PHSPHT_FLAG_W,NITRAT,NITRAT_FLAG_W,NITRIT,NITRIT_FLAG_W,OXYGEN,OXYGEN_FLAG_W,SALNTY,SALNTY_FLAG_W,CTDRINKO,CTDRINKO_FLAG_W,CTDFLUOR,CTDFLUOR_FLAG_W,CTDXMISS,CTDXMISS_FLAG_W,CTDOXY,CTDOXY_FLAG_W
,,,,,,,,,,,,,METERS,DBAR,ITS-90,PSS-78,,ITS-90,,,,,,UMOL/KG,,UMOL/KG,,UMOL/KG,,UMOL/KG,,UMOL/KG,,PSS-78,,VOLTS,,VOLTS,,VOLTS,,UMOL/KG,
33RR20180918, GP15,37,8,1,GSNIS-2    ,2,6992,15606,20181119,1616,-15.0002,-152.0001,4865,1817.2,2.357,34.6166,2,2.3562,2,20181119,1616,-15.0002,-152.0001,109.75,2,2.48,2,35.95,2,0,2,145.04,2,34.6176,2,2.213,1,0.017,1,4.675,1,144.8,2
33RR20180918, GP15,37,8,2,GSNIS-3    ,2,6992,15606,20181119,1616,-15.0002,-152.0001,4865,1818,2.3563,34.6166,2,-999,9,20181119,1616,-15.0002,-152.0001,110.04,2,2.48,2,35.94,2,0,2,-999,9,-999,9,2.212,1,0.017,1,4.675,1,144.8,2
33RR20180918, GP15,37,8,3,GSNIS-4    ,2,6992,15606,20181119,1616,-15.0002,-152.0001,4865,1818.5,2.3565,34.6166,2,-999,9,20181119,1616,-15.0003,-152.0001,109.94,2,2.49,2,35.92,2,0,2,-999,9,-999,9,2.212,1,0.017,1,4.675,1,144.2,2
33RR20180918, GP15,37,8,4,GSNIS-5    ,2,6992,15606,20181119,1616,-15.0002,-152.0001,4865,1816.3,2.3566,34.6165,2,-999,9,20181119,1616,-15.0003,-152.0002,110.24,2,2.48,2,36,2,0,2,-999,9,-999,9,2.213,1,0.017,1,4.675,1,144.6,2
33RR20180918, GP15,37,8,5,GSNIS-6    ,2,6992,15605,20181119,1616,-15.0002,-152.0001,4865,1616.2,2.7395,34.5906,2,2.7394,2,20181119,1621,-15.0002,-152.0002,101.64,2,2.54,2,36.36,2,0,2,139.04,2,34.5926,2,2.185,1,0.017,1,4.674,1,138.2,2
33RR20180918, GP15,37,8,6,GSNIS-7    ,2,6992,15605,20181119,1616,-15.0002,-152.0001,4865,1615.1,2.7379,34.5907,2,-999,9,20181119,1621,-15.0002,-152.0002,101.54,2,2.52,2,36.35,2,0,2,-999,9,-999,9,2.186,1,0.017,1,4.675,1,138.2,2
33RR20180918, GP15,37,8,7,GSNIS-8    ,2,6992,15604,20181119,1616,-15.0002,-152.0001,4865,1412.8,3.0745,34.5696,2,3.0744,2,20181119,1626,-15.0002,-152.0002,93.72,2,2.53,2,36.55,2,0,2,133.9,2,34.5714,2,2.193,1,0.017,1,4.674,1,133.8,2
33RR20180918, GP15,37,8,8,GSNIS-9    ,2,6992,15604,20181119,1616,-15.0002,-152.0001,4865,1415,3.075,34.5696,2,-999,9,20181119,1626,-15.0002,-152.0002,94.11,2,2.53,2,36.48,2,0,2,-999,9,-999,9,2.194,1,0.017,1,4.674,1,133.8,2
33RR20180918, GP15,37,8,9,GSNIS-10   ,2,6992,15604,20181119,1616,-15.0002,-152.0001,4865,1413.6,3.0746,34.5697,2,-999,9,20181119,1626,-15.0002,-152.0002,93.82,2,2.55,2,36.47,2,0,2,-999,9,-999,9,2.194,1,0.017,1,4.674,1,133.7,2
33RR20180918, GP15,37,8,10,GSNIS-11   ,2,6992,15604,20181119,1616,-15.0002,-152.0001,4865,1413.6,3.0747,34.5697,2,-999,9,20181119,1626,-15.0002,-152.0002,94.02,2,2.54,2,36.47,2,0,2,-999,9,-999,9,2.194,1,0.017,1,4.674,1,133.8,2
33RR20180918, GP15,37,8,11,GSNIS-12   ,2,6992,15604,20181119,1616,-15.0002,-152.0001,4865,1414.6,3.0754,34.5696,2,3.0748,2,20181119,1626,-15.0002,-152.0002,93.92,2,2.55,2,36.44,2,0,2,-999,9,-999,9,2.194,1,0.016,1,4.674,1,133.8,2
33RR20180918, GP15,37,8,12,GSNIS-13   ,2,6992,15603,20181119,1616,-15.0002,-152.0001,4865,1210.3,3.5548,34.5413,2,3.5527,2,20181119,1631,-15.0002,-152.0002,83.07,2,2.53,2,36.41,2,0,2,130.95,2,34.5443,2,2.2,1,0.017,1,4.673,1,131.2,2
33RR20180918, GP15,37,8,13,GSNIS-14   ,2,6992,15603,20181119,1616,-15.0002,-152.0001,4865,1211.7,3.5483,34.542,2,-999,9,20181119,1631,-15.0002,-152.0002,82.78,2,2.53,2,36.41,2,0,2,-999,9,-999,9,2.2,1,0.017,1,4.673,1,131.5,2
33RR20180918, GP15,37,8,14,GSNIS-15   ,2,6992,15603,20181119,1616,-15.0002,-152.0001,4865,1211.4,3.5515,34.5416,2,-999,9,20181119,1631,-15.0002,-152.0002,82.68,2,2.54,2,36.38,2,0,2,-999,9,-999,9,2.2,1,0.017,1,4.673,1,131.5,2
33RR20180918, GP15,37,8,15,GSNIS-16   ,2,6992,15603,20181119,1616,-15.0002,-152.0001,4865,1210.5,3.5564,34.5414,2,-999,9,20181119,1631,-15.0002,-152.0002,82.78,2,2.55,2,36.38,2,0,2,-999,9,-999,9,2.2,1,0.017,1,4.673,1,131.5,2
33RR20180918, GP15,37,8,16,GSNIS-17   ,2,6992,15602,20181119,1616,-15.0002,-152.0001,4865,1007.8,4.1275,34.5049,2,4.1271,2,20181119,1636,-15.0002,-152.0001,68.02,2,2.45,2,35.36,2,0,2,136.66,2,34.507,2,2.187,1,0.015,1,4.673,1,136.7,2
33RR20180918, GP15,37,8,17,GSNIS-18   ,2,6992,15602,20181119,1616,-15.0002,-152.0001,4865,1009.4,4.1284,34.5048,2,-999,9,20181119,1636,-15.0002,-152.0001,67.73,2,2.44,2,35.41,2,0,2,-999,9,-999,9,2.186,1,0.016,1,4.673,1,136.7,2
33RR20180918, GP15,37,8,18,GSNIS-19   ,2,6992,15602,20181119,1616,-15.0002,-152.0001,4865,1007.7,4.127,34.5049,2,-999,9,20181119,1636,-15.0002,-152.0001,67.44,2,2.45,2,35.38,2,0,2,-999,9,-999,9,2.185,1,0.016,1,4.672,1,136.7,2
33RR20180918, GP15,37,8,19,GSNIS-20   ,2,6992,15601,20181119,1616,-15.0002,-152.0001,4865,907.8,4.5618,34.4866,2,4.5595,2,20181119,1639,-15.0002,-152.0002,58.25,2,2.39,2,34.79,2,0,2,138.59,2,34.4893,2,2.158,1,0.016,1,4.672,1,138.9,2
33RR20180918, GP15,37,8,20,GSNIS-21   ,2,6992,15601,20181119,1616,-15.0002,-152.0001,4865,908,4.5608,34.4869,2,-999,9,20181119,1639,-15.0002,-152.0002,58.06,2,2.39,2,34.82,2,0,2,-999,9,-999,9,2.157,1,0.017,1,4.672,1,138.6,2
33RR20180918, GP15,37,8,21,GSNIS-22   ,2,6992,15600,20181119,1616,-15.0002,-152.0001,4865,807.1,5.0073,34.4684,2,5.0046,2,20181119,1641,-15.0002,-152.0001,48.58,2,2.33,2,33.88,2,0,2,142.96,2,34.4707,2,2.134,1,0.017,1,4.671,1,143.3,2
33RR20180918, GP15,37,8,22,GSNIS-23   ,2,6992,15600,20181119,1616,-15.0002,-152.0001,4865,806.4,5.0058,34.4684,2,-999,9,20181119,1642,-15.0002,-152.0001,48.67,2,2.32,2,33.91,2,0,2,-999,9,-999,9,2.132,1,0.016,1,4.671,1,143.2,2
33RR20180918, GP15,37,8,23,GSNIS-24   ,2,6992,15600,20181119,1616,-15.0002,-152.0001,4865,808.1,5.0015,34.4684,2,-999,9,20181119,1642,-15.0002,-152.0001,48.58,2,2.33,2,33.89,2,0,2,-999,9,-999,9,2.132,1,0.017,1,4.671,1,143.2,2
33RR20180918, GP15,37,8,24,GSNIS-25   ,2,6992,15600,20181119,1616,-15.0002,-152.0001,4865,806.6,5.0055,34.4684,2,-999,9,20181119,1642,-15.0002,-152.0001,49.36,2,2.33,2,33.87,2,0,2,-999,9,-999,9,2.131,1,0.017,1,4.671,1,143.3,2
33RR20180918, GP15,37,8,25,GSNIS-26   ,2,6992,15599,20181119,1616,-15.0002,-152.0001,4865,732.1,5.5415,34.4601,2,5.5499,2,20181119,1644,-15.0002,-152.0002,41.05,2,2.27,2,33.03,2,0,2,143.1,2,34.464,2,2.1,1,0.016,1,4.67,1,142.9,2
33RR20180918, GP15,37,8,26,GSNIS-27   ,2,6992,15599,20181119,1616,-15.0002,-152.0001,4865,730.5,5.5516,34.4608,2,-999,9,20181119,1644,-15.0002,-152.0002,40.95,2,2.28,2,33,2,0,2,-999,9,-999,9,2.099,1,0.017,1,4.67,1,143.5,2
33RR20180918, GP15,37,8,27,GSNIS-28   ,2,6992,15598,20181119,1616,-15.0002,-152.0001,4865,655.1,6.1656,34.4612,2,6.1689,2,20181119,1647,-15.0002,-152.0001,33.62,2,2.21,2,31.9,2,0,2,142.94,2,34.4646,2,2.07,1,0.016,1,4.67,1,142.6,2
33RR20180918, GP15,37,8,28,GSNIS-29   ,2,6992,15598,20181119,1616,-15.0002,-152.0001,4865,656.8,6.1714,34.4614,2,-999,9,20181119,1647,-15.0002,-152.0002,33.72,2,2.19,2,31.97,2,0,2,-999,9,-999,9,2.07,1,0.017,1,4.67,1,142.5,2
33RR20180918, GP15,37,8,29,GSNIS-30   ,2,6992,15598,20181119,1616,-15.0002,-152.0001,4865,655.5,6.1674,34.4614,2,-999,9,20181119,1647,-15.0002,-152.0002,33.72,2,2.19,2,32.03,2,0,2,-999,9,-999,9,2.068,1,0.016,1,4.669,1,142.5,2
33RR20180918, GP15,37,8,30,GSNIS-31   ,2,6992,15598,20181119,1616,-15.0002,-152.0001,4865,656,6.1747,34.4612,2,-999,9,20181119,1647,-15.0002,-152.0002,33.72,2,2.18,2,32.15,2,0,2,-999,9,-999,9,2.069,1,0.017,1,4.67,1,142.4,2
33RR20180918, GP15,37,8,31,GSNIS-32   ,2,6992,15597,20181119,1616,-15.0002,-152.0001,4865,581,7.0302,34.4835,2,7.0265,2,20181119,1650,-15.0002,-152.0002,27.66,2,2.12,2,31.1,2,0,2,134.23,2,34.4864,2,2.044,1,0.017,1,4.669,1,134.5,2
33RR20180918, GP15,37,8,32,GSNIS-33   ,2,6992,15597,20181119,1616,-15.0002,-152.0001,4865,580.1,7.0287,34.4836,2,-999,9,20181119,1650,-15.0002,-152.0002,27.56,2,2.13,2,31.14,2,0,2,-999,9,-999,9,2.044,1,0.017,1,4.669,1,135,2
33RR20180918, GP15,37,8,33,GSNIS-34   ,2,6992,15596,20181119,1616,-15.0002,-152.0001,4865,504.5,7.9836,34.5111,2,7.9853,2,20181119,1652,-15.0002,-152.0001,22.28,2,2.07,2,29.53,2,0,2,125.47,2,34.5127,2,2.037,1,0.016,1,4.667,1,123,3
33RR20180918, GP15,37,8,34,GSNIS-35   ,2,6992,15596,20181119,1616,-15.0002,-152.0001,4865,505.3,7.9822,34.511,2,-999,9,20181119,1652,-15.0002,-152.0001,22.38,2,2.06,2,29.47,2,0,2,-999,9,-999,9,2.037,1,0.016,1,4.667,1,124.1,3
33RR20180918, GP15,37,8,35,GSNIS-36   ,2,6992,15595,20181119,1616,-15.0002,-152.0001,4865,454.4,8.8935,34.5497,2,8.9011,2,20181119,1654,-15.0002,-152.0001,19.06,2,2,2,27.94,2,0,2,116.31,2,34.5514,2,2.045,1,0.017,1,4.667,1,115.6,2
33RR20180918, GP15,37,8,36,GSNIS-1    ,2,6992,15595,20181119,1616,-15.0002,-152.0001,4865,454.7,8.9047,34.5489,2,-999,9,20181119,1655,-15.0002,-152.0001,19.25,2,1.99,2,27.91,2,0,2,-999,9,-999,9,2.045,1,0.015,1,4.667,1,115.6,2
33RR20180918, GP15,37,11,1,GSNIS-2    ,2,6995,15651,20181120,640,-14.9984,-151.9983,4865,4824.3,1.3373,34.7017,2,1.3373,2,20181120,640,-14.9987,-151.9983,121,2,2.24,2,33.05,2,0,2,190.79,2,34.702,2,2.083,1,0.016,1,4.672,1,191,2
33RR20180918, GP15,37,11,2,GSNIS-3    ,2,6995,15651,20181120,640,-14.9984,-151.9983,4865,4822.2,1.3371,34.7017,2,-999,9,20181120,640,-14.9987,-151.9983,121,2,2.24,2,32.99,2,0,2,-999,9,-999,9,2.083,1,0.016,1,4.671,1,190.9,2
33RR20180918, GP15,37,11,3,GSNIS-4    ,2,6995,15651,20181120,640,-14.9984,-151.9983,4865,4823.3,1.3372,34.7017,2,-999,9,20181120,640,-14.9987,-151.9983,121,2,2.25,2,33.02,2,0,2,-999,9,-999,9,2.083,1,0.017,1,4.671,1,191.1,2
33RR20180918, GP15,37,11,4,GSNIS-5    ,2,6995,15651,20181120,640,-14.9984,-151.9983,4865,4823.2,1.3372,34.7019,2,-999,9,20181120,640,-14.9987,-151.9983,121.39,2,2.25,2,33.01,2,0,2,-999,9,-999,9,2.083,1,0.016,1,4.672,1,190.9,2
33RR20180918, GP15,37,11,5,GSNIS-6    ,2,6995,15650,20181120,640,-14.9984,-151.9983,4865,4781,1.3363,34.7016,2,1.3365,2,20181120,642,-14.9987,-151.9983,121,2,2.26,2,32.98,2,0,2,190.81,2,34.7019,2,2.079,1,0.017,1,4.672,1,190.9,2
33RR20180918, GP15,37,11,6,GSNIS-7    ,2,6995,15650,20181120,640,-14.9984,-151.9983,4865,4783.3,1.3365,34.7015,2,-999,9,20181120,642,-14.9987,-151.9982,121,2,2.27,2,32.94,2,0,2,-999,9,-999,9,2.08,1,0.017,1,4.672,1,190.9,2
33RR20180918, GP15,37,11,7,GSNIS-8    ,2,6995,15649,20181120,640,-14.9984,-151.9983,4865,4699.5,1.3331,34.7014,2,1.3332,2,20181120,645,-14.9987,-151.9982,121.1,2,2.26,3,32.93,2,0,2,191.06,2,34.702,2,2.076,1,0.017,1,4.672,1,190.6,2
33RR20180918, GP15,37,11,8,GSNIS-9    ,2,6995,15649,20181120,640,-14.9984,-151.9983,4865,4701.3,1.3331,34.7013,2,-999,9,20181120,645,-14.9987,-151.9983,121.39,2,2.21,2,32.97,2,0,2,-999,9,-999,9,2.076,1,0.017,1,4.672,1,190.2,2
33RR20180918, GP15,37,11,9,GSNIS-10   ,2,6995,15649,20181120,640,-14.9984,-151.9983,4865,4699.7,1.3331,34.7015,2,-999,9,20181120,645,-14.9987,-151.9983,121,2,2.2,2,32.96,2,0,2,-999,9,-999,9,2.076,1,0.017,1,4.671,1,190.3,2
33RR20180918, GP15,37,11,10,GSNIS-11   ,2,6995,15649,20181120,640,-14.9984,-151.9983,4865,4700.8,1.3332,34.7013,2,1.333,2,20181120,645,-14.9987,-151.9983,121.1,2,2.2,2,32.98,2,0,2,-999,9,-999,9,2.076,1,0.017,1,4.671,1,190.3,2
33RR20180918, GP15,37,11,11,GSNIS-12   ,2,6995,15648,20181120,640,-14.9984,-151.9983,4865,4267.8,1.3833,34.6969,2,1.3835,2,20181120,654,-14.9987,-151.9983,121.98,2,2.23,2,33.32,2,0,2,184.76,2,34.6971,2,2.077,1,0.016,1,4.672,1,184.4,2
33RR20180918, GP15,37,11,12,GSNIS-13   ,2,6995,15648,20181120,640,-14.9984,-151.9983,4865,4267.1,1.3831,34.6971,2,-999,9,20181120,654,-14.9987,-151.9983,122.17,2,2.24,2,33.34,2,0,2,-999,9,-999,9,2.077,1,0.016,1,4.672,1,184.3,2
33RR20180918, GP15,37,11,13,GSNIS-14   ,2,6995,15647,20181120,640,-14.9984,-151.9983,4865,3756.4,1.4809,34.6897,2,1.4809,2,20181120,704,-14.9985,-151.9983,123.35,2,2.29,2,33.92,2,0,2,176.18,2,34.6895,2,2.097,1,0.016,1,4.673,1,176.1,2
33RR20180918, GP15,37,11,14,GSNIS-15   ,2,6995,15647,20181120,640,-14.9984,-151.9983,4865,3755.9,1.4808,34.6897,2,-999,9,20181120,704,-14.9985,-151.9983,123.15,2,2.28,2,33.9,2,0,2,-999,9,-999,9,2.097,1,0.016,1,4.673,1,176.3,2
33RR20180918, GP15,37,11,15,GSNIS-16   ,2,6995,15647,20181120,640,-14.9984,-151.9983,4865,3755.7,1.4811,34.6897,2,-999,9,20181120,704,-14.9985,-151.9983,123.35,2,2.29,2,33.94,2,0,2,-999,9,-999,9,2.097,1,0.016,1,4.673,1,176.3,2
33RR20180918, GP15,37,11,16,GSNIS-17   ,2,6995,15647,20181120,640,-14.9984,-151.9983,4865,3756.5,1.481,34.6896,2,-999,9,20181120,704,-14.9985,-151.9983,123.64,2,2.29,2,33.93,2,0,2,-999,9,-999,9,2.097,1,0.017,1,4.673,1,176.3,2
33RR20180918, GP15,37,11,17,GSNIS-18   ,2,6995,15646,20181120,640,-14.9984,-151.9983,4865,3243.3,1.6368,34.6784,2,1.6368,2,20181120,714,-14.9984,-151.9983,126.08,2,2.36,2,34.79,2,0,2,163.98,2,34.6789,2,2.118,1,0.017,1,4.673,1,164.3,2
33RR20180918, GP15,37,11,18,GSNIS-19   ,2,6995,15646,20181120,640,-14.9984,-151.9983,4865,3245.6,1.6371,34.6784,2,-999,9,20181120,714,-14.9984,-151.9983,126.08,2,2.35,2,34.8,2,0,2,-999,9,-999,9,2.119,1,0.017,1,4.673,1,164.2,2
33RR20180918, GP15,37,11,19,GSNIS-20   ,2,6995,15645,20181120,640,-14.9984,-151.9983,4865,3040.8,1.7018,34.673,2,1.7016,2,20181120,719,-14.9984,-151.9983,125.89,2,2.37,2,35.06,2,0,2,160.52,2,34.6732,2,2.138,1,0.016,1,4.673,1,160.4,2
33RR20180918, GP15,37,11,20,GSNIS-21   ,2,6995,15645,20181120,640,-14.9984,-151.9983,4865,3041,1.7017,34.6731,2,-999,9,20181120,719,-14.9984,-151.9983,125.69,2,2.38,2,35.05,2,0,2,-999,9,-999,9,2.138,1,0.017,1,4.673,1,160.3,2
33RR20180918, GP15,37,11,21,GSNIS-22   ,2,6995,15644,20181120,640,-14.9984,-151.9983,4865,2837,1.7928,34.6672,2,1.7928,2,20181120,723,-14.9984,-151.9983,126.08,2,2.42,2,35.41,2,0,2,154.89,2,34.6673,2,2.151,1,0.017,1,4.673,1,154.9,2
33RR20180918, GP15,37,11,22,GSNIS-23   ,2,6995,15644,20181120,640,-14.9984,-151.9983,4865,2835.9,1.7927,34.6671,2,-999,9,20181120,724,-14.9984,-151.9983,125.99,2,2.42,2,35.42,2,0,2,-999,9,-999,9,2.152,1,0.017,1,4.673,1,154.8,2
33RR20180918, GP15,37,11,23,GSNIS-24   ,2,6995,15644,20181120,640,-14.9984,-151.9983,4865,2837.1,1.7925,34.6672,2,-999,9,20181120,724,-14.9984,-151.9983,126.28,2,2.43,2,35.4,2,0,2,-999,9,-999,9,2.152,1,0.017,1,4.673,1,154.8,2
33RR20180918, GP15,37,11,24,GSNIS-25   ,2,6995,15644,20181120,640,-14.9984,-151.9983,4865,2835.8,1.7926,34.6672,2,-999,9,20181120,724,-14.9984,-151.9983,126.18,2,2.42,2,35.4,2,0,2,-999,9,-999,9,2.152,1,0.017,1,4.673,1,155.1,2
33RR20180918, GP15,37,11,25,GSNIS-26   ,2,6995,15643,20181120,640,-14.9984,-151.9983,4865,2632.5,1.8893,34.6598,2,1.8894,2,20181120,728,-14.9984,-151.9983,124.91,2,2.44,2,35.69,2,0,2,150.57,2,34.6602,2,2.173,1,0.016,1,4.673,1,150.6,2
33RR20180918, GP15,37,11,26,GSNIS-27   ,2,6995,15643,20181120,640,-14.9984,-151.9983,4865,2631.3,1.8897,34.6601,2,-999,9,20181120,728,-14.9984,-151.9983,125.01,2,2.45,2,35.69,2,0,2,-999,9,-999,9,2.173,1,0.017,1,4.672,1,150.6,2
33RR20180918, GP15,37,11,27,GSNIS-28   ,2,6995,15643,20181120,640,-14.9984,-151.9983,4865,2633.5,1.8893,34.6601,2,-999,9,20181120,729,-14.9984,-151.9983,125.01,2,2.43,2,35.69,2,0,2,-999,9,-999,9,2.174,1,0.016,1,4.673,1,150.6,2
33RR20180918, GP15,37,11,28,GSNIS-29   ,2,6995,15643,20181120,640,-14.9984,-151.9983,4865,2631.6,1.8897,34.6599,2,-999,9,20181120,729,-14.9984,-151.9983,125.01,2,2.44,2,35.68,2,0,2,-999,9,-999,9,2.174,1,0.017,1,4.672,1,150.6,2
33RR20180918, GP15,37,11,29,GSNIS-30   ,2,6995,15642,20181120,640,-14.9984,-151.9983,4865,2429.2,1.9612,34.6533,2,1.9614,2,20181120,733,-14.9984,-151.9983,123.35,2,2.44,2,35.85,2,0,2,148.71,2,34.6535,2,2.186,1,0.017,1,4.672,1,148.8,2
33RR20180918, GP15,37,11,30,GSNIS-31   ,2,6995,15642,20181120,640,-14.9984,-151.9983,4865,2429.4,1.9617,34.6532,2,-999,9,20181120,734,-14.9984,-151.9983,123.06,2,2.45,2,35.8,2,0,2,-999,9,-999,9,2.186,1,0.017,1,4.673,1,148.8,2
33RR20180918, GP15,37,11,31,GSNIS-32   ,2,6995,15642,20181120,640,-14.9984,-151.9983,4865,2430.6,1.9615,34.6533,2,-999,9,20181120,734,-14.9984,-151.9983,122.86,2,2.45,2,35.76,2,0,2,-999,9,-999,9,2.186,1,0.016,1,4.673,1,148.2,2
33RR20180918, GP15,37,11,32,GSNIS-33   ,2,6995,15642,20181120,640,-14.9984,-151.9983,4865,2427.4,1.9612,34.6532,2,1.9613,2,20181120,734,-14.9984,-151.9983,123.15,2,2.44,2,35.76,2,0,2,-999,9,-999,9,2.186,1,0.017,1,4.673,1,148.8,2
33RR20180918, GP15,37,11,33,GSNIS-34   ,2,6995,15641,20181120,640,-14.9984,-151.9983,4865,2124.9,2.0945,34.6396,2,2.0948,2,20181120,740,-14.9984,-151.9983,117.78,2,2.43,2,35.77,2,0,2,148.54,2,34.6401,2,2.18,1,0.017,1,4.672,1,148.2,2
33RR20180918, GP15,37,11,34,GSNIS-35   ,2,6995,15641,20181120,640,-14.9984,-151.9983,4865,2124.7,2.0947,34.6395,2,-999,9,20181120,740,-14.9984,-151.9983,117.58,2,2.43,2,35.73,2,0,2,-999,9,-999,9,2.18,1,0.017,1,4.672,1,148,2
33RR20180918, GP15,37,11,35,GSNIS-36   ,2,6995,15640,20181120,640,-14.9984,-151.9983,4865,1818.2,2.395,34.6141,2,2.396,2,20181120,747,-14.9984,-151.9983,108.79,2,2.42,2,35.91,2,0,2,144.7,2,34.6146,2,2.179,1,0.017,1,4.672,1,144.3,2
33RR20180918, GP15,37,11,36,GSNIS-1    ,2,6995,15640,20181120,640,-14.9984,-151.9983,4865,1820.7,2.3966,34.6141,2,-999,9,20181120,747,-14.9984,-151.9983,108.79,2,2.42,2,35.92,2,0,2,-999,9,-999,9,2.179,1,0.017,1,4.672,1,144.5,2