BOTTLE,20191212SIOCCHAMB
EXPOCODE,SECT_ID,STNNBR,CASTNO,SAMPNO,BTLNBR,BTLNBR_FLAG_W,GEOTRC_EVENTNO,GEOTRC_SAMPNO,DATE,TIME,LATITUDE,LONGITUDE,DEPTH,CTDPRS,CTDTMP,CTDSAL,CTDSAL_FLAG_W,REFTMP,REFTMP_FLAG_W,BTL_DATE,BTL_TIME,BTL_LAT,BTL_LON,SILCAT,SILCAT_FLAG_W,PHSPHT,PHSPHT_FLAG_W,NITRAT,NITRAT_FLAG_W,NITRIT,NITRIT_FLAG_W,OXYGEN,OXYGEN_FLAG_W,SALNTY,SALNTY_FLAG_W,CTDRINKO,CTDRINKO_FLAG_W,CTDFLUOR,CTDFLUOR_FLAG_W,CTDXMISS,CTDXMISS_FLAG_W,CTDOXY,CTDOXY_FLAG_W
,,,,,,,,,,,,,METERS,DBAR,ITS-90,PSS-78,,ITS-90,,,,,,UMOL/KG,,UMOL/KG,,UMOL/KG,,UMOL/KG,,UMOL/KG,,PSS-78,,VOLTS,,VOLTS,,VOLTS,,UMOL/KG,
33RR20180918, GP15,39,5,1,GSNIS-2    ,2,7016,15788,20181122,17,-19.9999,-152.0003,4336,503.5,8.5321,34.4399,2,-999,9,20181122,17,-19.9999,-152.0003,7.72,2,1.49,2,21.76,2,0,2,192.01,2,34.4487,2,1.73,1,0.016,1,4.661,1,196.4,2
33RR20180918, GP15,39,5,2,GSNIS-3    ,2,7016,15788,20181122,17,-19.9999,-152.0003,4336,503.6,8.5467,34.4391,2,-999,9,20181122,17,-19.9999,-152.0003,7.72,2,1.49,2,21.73,2,0,2,-999,9,-999,9,1.731,1,0.016,1,4.661,1,191.9,2
33RR20180918, GP15,39,5,3,GSNIS-4    ,2,7016,15788,20181122,17,-19.9999,-152.0003,4336,503.5,8.5448,34.4399,2,-999,9,20181122,17,-19.9999,-152.0003,7.53,2,1.47,2,21.75,2,0,2,-999,9,-999,9,1.733,1,0.016,1,4.661,1,192.1,2
33RR20180918, GP15,39,5,4,GSNIS-5    ,2,7016,15787,20181122,17,-19.9999,-152.0003,4336,403,12.7339,34.8077,2,-999,9,20181122,20,-19.9999,-152.0003,2.93,2,0.86,2,12.26,2,0,2,189.46,2,34.8092,2,1.683,1,0.016,1,4.661,1,188.7,2
33RR20180918, GP15,39,5,5,GSNIS-6    ,2,7016,15787,20181122,17,-19.9999,-152.0003,4336,402.7,12.7433,34.8092,2,-999,9,20181122,20,-19.9999,-152.0003,2.83,2,0.85,2,12.18,2,0,2,-999,9,-999,9,1.682,1,0.016,1,4.661,1,188.6,2
33RR20180918, GP15,39,5,6,GSNIS-7    ,2,7016,15787,20181122,17,-19.9999,-152.0003,4336,402.7,12.7279,34.8077,2,-999,9,20181122,20,-19.9999,-152.0003,2.64,2,0.85,2,12.25,2,0,2,-999,9,-999,9,1.678,1,0.017,1,4.661,1,188.1,2
33RR20180918, GP15,39,5,7,GSNIS-8    ,2,7016,15786,20181122,17,-19.9999,-152.0003,4336,301.6,17.2103,35.3455,3,-999,9,20181122,23,-19.9999,-152.0003,0.49,2,0.32,2,4.5,2,0,2,191.98,2,35.3567,3,1.576,1,0.016,1,4.659,1,192.9,2
33RR20180918, GP15,39,5,8,GSNIS-9    ,2,7016,15786,20181122,17,-19.9999,-152.0003,4336,301.8,17.2569,35.3496,2,-999,9,20181122,23,-19.9999,-152.0003,0.49,2,0.32,2,4.56,2,0,2,-999,9,-999,9,1.574,1,0.016,1,4.659,1,192.2,2
33RR20180918, GP15,39,5,9,GSNIS-10   ,2,7016,15786,20181122,17,-19.9999,-152.0003,4336,301.7,17.2613,35.3467,2,-999,9,20181122,23,-19.9999,-152.0003,0.49,2,0.31,2,4.48,2,0,2,-999,9,-999,9,1.571,1,0.016,1,4.659,1,192.4,2
33RR20180918, GP15,39,5,10,GSNIS-11   ,2,7016,15785,20181122,17,-19.9999,-152.0003,4336,250.7,19.185,35.576,3,-999,9,20181122,25,-19.9999,-152.0003,0.2,2,0.22,2,2.95,2,0,2,189.06,2,35.5772,3,1.522,1,0.017,1,4.655,1,189.5,2
33RR20180918, GP15,39,5,11,GSNIS-12   ,2,7016,15785,20181122,17,-19.9999,-152.0003,4336,252.1,19.3364,35.5899,2,-999,9,20181122,25,-19.9999,-152.0003,0.2,2,0.22,2,2.93,2,0,2,-999,9,-999,9,1.521,1,0.018,1,4.654,1,189,2
33RR20180918, GP15,39,5,12,GSNIS-13   ,2,7016,15785,20181122,17,-19.9999,-152.0003,4336,250.2,19.2793,35.5894,2,-999,9,20181122,25,-19.9999,-152.0003,0.1,2,0.23,2,2.91,2,0,2,-999,9,-999,9,1.518,1,0.017,1,4.654,1,189.4,2
33RR20180918, GP15,39,5,13,GSNIS-14   ,2,7016,15784,20181122,17,-19.9999,-152.0003,4336,200.8,21.2424,35.7651,2,-999,9,20181122,27,-19.9999,-152.0003,0.1,2,0.16,2,1.69,2,0.02,2,184.69,2,35.7655,2,1.482,1,0.025,1,4.643,1,188.4,2
33RR20180918, GP15,39,5,14,GSNIS-15   ,2,7016,15784,20181122,17,-19.9999,-152.0003,4336,201.2,21.2442,35.7649,2,-999,9,20181122,27,-19.9999,-152.0003,0.1,2,0.16,2,1.69,2,0.02,2,-999,9,-999,9,1.48,1,0.027,1,4.643,1,185.6,2
33RR20180918, GP15,39,5,15,GSNIS-16   ,2,7016,15784,20181122,17,-19.9999,-152.0003,4336,200.8,21.2487,35.7646,2,-999,9,20181122,27,-19.9999,-152.0003,0.1,2,0.17,2,1.68,2,0.02,2,-999,9,-999,9,1.478,1,0.024,1,4.643,1,185.4,2
33RR20180918, GP15,39,5,16,GSNIS-17   ,2,7016,15783,20181122,17,-19.9999,-152.0003,4336,150.3,22.597,35.7236,2,-999,9,20181122,29,-19.9999,-152.0003,0,2,0.05,2,0.1,2,0.07,2,199.3,2,35.7205,2,1.446,1,0.031,1,4.632,1,197.6,2
33RR20180918, GP15,39,5,17,GSNIS-18   ,2,7016,15783,20181122,17,-19.9999,-152.0003,4336,150.4,22.6017,35.7253,2,-999,9,20181122,30,-19.9999,-152.0003,0,2,0.05,2,0.1,2,0.07,2,-999,9,-999,9,1.445,1,0.03,1,4.633,1,200.9,2
33RR20180918, GP15,39,5,18,GSNIS-19   ,2,7016,15783,20181122,17,-19.9999,-152.0003,4336,151.2,22.6014,35.7261,2,-999,9,20181122,30,-19.9999,-152.0003,0,2,0.05,2,0.11,2,0.07,2,-999,9,-999,9,1.444,1,0.031,1,4.632,1,200.9,2
33RR20180918, GP15,39,5,19,GSNIS-20   ,2,7016,15782,20181122,17,-19.9999,-152.0003,4336,134.9,23.6468,35.902,3,-999,9,20181122,31,-19.9999,-152.0003,0,2,0.08,2,0.06,2,0.03,2,195.27,2,35.9267,3,1.427,1,0.038,1,4.616,1,192.9,2
33RR20180918, GP15,39,5,20,GSNIS-21   ,2,7016,15782,20181122,17,-19.9999,-152.0003,4336,136,23.7521,35.926,2,-999,9,20181122,31,-19.9999,-152.0003,0,2,0.08,2,0.05,2,0.04,2,-999,9,-999,9,1.426,1,0.039,1,4.615,1,194.5,2
33RR20180918, GP15,39,5,21,GSNIS-22   ,2,7016,15782,20181122,17,-19.9999,-152.0003,4336,135,23.7133,35.9177,2,-999,9,20181122,31,-19.9999,-152.0003,0.1,2,0.08,2,0.05,2,0.04,2,-999,9,-999,9,1.425,1,0.037,1,4.615,1,194.7,2
33RR20180918, GP15,39,5,22,GSNIS-23   ,2,7016,15781,20181122,17,-19.9999,-152.0003,4336,120.3,24.767,36.0872,2,-999,9,20181122,33,-19.9999,-152.0003,0,2,0.08,2,0,2,0,2,195.01,2,36.0821,2,1.412,1,0.024,1,4.62,1,209.8,3
33RR20180918, GP15,39,5,23,GSNIS-24   ,2,7016,15781,20181122,17,-19.9999,-152.0003,4336,120.6,24.7861,36.0883,2,-999,9,20181122,33,-19.9999,-152.0003,0.1,2,0.08,2,0,2,0,2,-999,9,-999,9,1.411,1,0.023,1,4.62,1,198.1,3
33RR20180918, GP15,39,5,24,GSNIS-25   ,2,7016,15781,20181122,17,-19.9999,-152.0003,4336,120.7,24.7788,36.0881,2,-999,9,20181122,33,-19.9999,-152.0003,0.1,2,0.08,2,0,2,0,2,-999,9,-999,9,1.41,1,0.023,1,4.621,1,197.5,3
33RR20180918, GP15,39,5,25,GSNIS-26   ,2,7016,15781,20181122,17,-19.9999,-152.0003,4336,120.3,24.7869,36.0891,2,-999,9,20181122,33,-19.9999,-152.0003,0,2,0.07,2,0,2,0,2,-999,9,-999,9,1.409,1,0.023,1,4.621,1,197.5,3
33RR20180918, GP15,39,5,26,GSNIS-27   ,2,7016,15780,20181122,17,-19.9999,-152.0003,4336,106.9,24.5056,35.8128,3,-999,9,20181122,35,-19.9999,-152.0003,0,2,0.02,2,0,2,0,2,208.84,2,35.8333,3,1.414,1,0.019,1,4.623,1,212.1,2
33RR20180918, GP15,39,5,27,GSNIS-28   ,2,7016,15780,20181122,17,-19.9999,-152.0003,4336,106.3,24.5084,35.8146,2,-999,9,20181122,35,-19.9999,-152.0003,0.1,2,0.02,2,0,2,0,2,-999,9,-999,9,1.414,1,0.019,1,4.623,1,211.4,2
33RR20180918, GP15,39,5,28,GSNIS-29   ,2,7016,15779,20181122,17,-19.9999,-152.0003,4336,89.7,24.6804,35.8112,2,-999,9,20181122,36,-19.9999,-152.0003,0.1,2,0.02,2,0,2,0,2,210.44,2,35.8127,2,1.401,1,0.019,1,4.615,1,210.8,2
33RR20180918, GP15,39,5,29,GSNIS-30   ,2,7016,15779,20181122,17,-19.9999,-152.0003,4336,90.9,24.6909,35.8122,2,-999,9,20181122,36,-19.9999,-152.0003,0.1,2,0.02,2,0,2,0,2,-999,9,-999,9,1.399,1,0.019,1,4.615,1,211.1,2
33RR20180918, GP15,39,5,30,GSNIS-31   ,2,7016,15778,20181122,17,-19.9999,-152.0003,4336,45.4,26.5394,36.1922,2,-999,9,20181122,39,-19.9999,-152.0003,0.1,2,0.04,2,0,2,0,2,204.74,2,36.1911,2,1.333,1,0.018,1,4.611,1,202.9,2
33RR20180918, GP15,39,5,31,GSNIS-32   ,2,7016,15778,20181122,17,-19.9999,-152.0003,4336,45.2,26.54,36.1923,2,-999,9,20181122,39,-19.9999,-152.0003,0.1,2,0.04,2,0,2,0,2,-999,9,-999,9,1.333,1,0.018,1,4.611,1,202.3,2
33RR20180918, GP15,39,5,32,GSNIS-33   ,2,7016,15778,20181122,17,-19.9999,-152.0003,4336,45.7,26.5397,36.1921,2,-999,9,20181122,39,-19.9999,-152.0003,0.2,2,0.04,2,0,2,0,2,-999,9,-999,9,1.333,1,0.018,1,4.61,1,202.3,2
33RR20180918, GP15,39,5,33,GSNIS-34   ,2,7016,15777,20181122,17,-19.9999,-152.0003,4336,25.4,27.0015,36.156,2,-999,9,20181122,41,-19.9999,-152.0003,0.2,2,0.04,2,0,2,0,2,201.1,2,36.1549,2,1.341,1,0.017,1,4.612,1,198.2,2
33RR20180918, GP15,39,5,34,GSNIS-35   ,2,7016,15777,20181122,17,-19.9999,-152.0003,4336,25.1,27.0004,36.1563,2,-999,9,20181122,41,-19.9999,-152.0003,0.1,2,0.04,2,0,2,0,2,-999,9,-999,9,1.342,1,0.017,1,4.612,1,198.5,2
33RR20180918, GP15,39,5,35,GSNIS-36   ,2,7016,15777,20181122,17,-19.9999,-152.0003,4336,25.5,27.0019,36.1561,2,-999,9,20181122,41,-19.9999,-152.0003,0.2,2,0.05,2,0,2,0,2,-999,9,-999,9,1.341,1,0.017,1,4.612,1,197.6,2
33RR20180918, GP15,39,5,36,GSNIS-1    ,2,7016,15776,20181122,17,-19.9999,-152.0003,4336,3,27.1875,36.1595,2,-999,9,20181122,43,-19.9999,-152.0003,0.29,2,0.05,2,0,2,0,2,200.79,2,36.1648,2,1.341,1,0.016,1,4.617,1,196.8,2
33RR20180918, GP15,39,9,1,GSNIS-2    ,2,7019,15800,20181122,1629,-19.9999,-152.0003,4336,1615,2.5269,34.5915,3,-999,9,20181122,1629,-19.9999,-152.0003,97.97,2,2.44,2,35.62,2,0,2,148.78,2,34.5824,3,2.149,1,0.017,1,4.673,1,149,2
33RR20180918, GP15,39,9,2,GSNIS-3    ,2,7019,15800,20181122,1629,-19.9999,-152.0003,4336,1615.5,2.5249,34.5918,2,-999,9,20181122,1629,-19.9999,-152.0003,101.78,2,2.44,2,35.67,2,0,2,-999,9,-999,9,2.15,1,0.017,1,4.673,1,148.9,2
33RR20180918, GP15,39,9,3,GSNIS-4    ,2,7019,15800,20181122,1629,-19.9999,-152.0003,4336,1615.8,2.5257,34.5917,2,-999,9,20181122,1629,-19.9999,-152.0003,101.88,2,2.45,2,35.69,2,0,2,-999,9,-999,9,2.149,1,0.017,1,4.673,1,148.8,2
33RR20180918, GP15,39,9,4,GSNIS-5    ,2,7019,15799,20181122,1629,-19.9999,-152.0003,4336,1414.2,2.8482,34.5591,2,-999,9,20181122,1634,-19.9999,-152.0003,91.42,2,2.43,2,35.55,2,0,2,148.65,2,34.5616,2,2.142,1,0.017,1,4.672,1,149.4,2
33RR20180918, GP15,39,9,5,GSNIS-6    ,2,7019,15799,20181122,1629,-19.9999,-152.0003,4336,1413,2.8486,34.5592,2,-999,9,20181122,1634,-19.9999,-152.0003,91.32,2,2.43,2,35.57,2,0,2,-999,9,-999,9,2.142,1,0.017,1,4.672,1,148.9,2
33RR20180918, GP15,39,9,6,GSNIS-7    ,2,7019,15799,20181122,1629,-19.9999,-152.0003,4336,1414.3,2.8511,34.5589,2,-999,9,20181122,1634,-19.9999,-152.0003,91.42,2,2.42,2,35.6,2,0,2,-999,9,-999,9,2.142,1,0.017,1,4.672,1,149.4,2
33RR20180918, GP15,39,9,7,GSNIS-8    ,2,7019,15798,20181122,1629,-19.9999,-152.0003,4336,1210.6,3.3485,34.5131,2,-999,9,20181122,1638,-19.9999,-152.0003,76.85,2,2.42,2,35.39,2,0,2,149.18,2,34.515,2,2.125,1,0.016,1,4.671,1,149.8,2
33RR20180918, GP15,39,9,8,GSNIS-9    ,2,7019,15798,20181122,1629,-19.9999,-152.0003,4336,1211.3,3.3532,34.5122,2,-999,9,20181122,1638,-19.9999,-152.0003,76.66,2,2.42,2,35.42,2,0,2,-999,9,-999,9,2.125,1,0.017,1,4.671,1,149.5,2
33RR20180918, GP15,39,9,9,GSNIS-10   ,2,7019,15798,20181122,1629,-19.9999,-152.0003,4336,1210.4,3.3485,34.5131,2,-999,9,20181122,1638,-19.9999,-152.0003,76.46,2,2.42,2,35.42,2,0,2,-999,9,-999,9,2.125,1,0.016,1,4.671,1,149.6,2
33RR20180918, GP15,39,9,10,GSNIS-11   ,2,7019,15797,20181122,1629,-19.9999,-152.0003,4336,1109.5,3.7203,34.4844,2,-999,9,20181122,1641,-19.9999,-152.0003,67.08,2,2.41,2,35.21,2,0,2,149.65,2,34.4858,2,2.111,1,0.016,1,4.671,1,149.9,2
33RR20180918, GP15,39,9,11,GSNIS-12   ,2,7019,15797,20181122,1629,-19.9999,-152.0003,4336,1109,3.7242,34.4842,2,-999,9,20181122,1641,-19.9999,-152.0003,66.88,2,2.41,2,35.19,2,0,2,-999,9,-999,9,2.11,1,0.016,1,4.671,1,149.8,2
33RR20180918, GP15,39,9,12,GSNIS-13   ,2,7019,15797,20181122,1629,-19.9999,-152.0003,4336,1110.2,3.724,34.4841,2,-999,9,20181122,1642,-19.9999,-152.0003,67.17,2,2.41,2,35.18,2,0,2,-999,9,-999,9,2.11,1,0.016,1,4.671,1,149.2,2
33RR20180918, GP15,39,9,13,GSNIS-14   ,2,7019,15796,20181122,1629,-19.9999,-152.0003,4336,1009,4.2406,34.4569,2,-999,9,20181122,1644,-19.9999,-152.0003,56.62,2,2.38,2,34.7,2,0,2,149.94,2,34.4589,2,2.092,1,0.017,1,4.67,1,150.2,2
33RR20180918, GP15,39,9,14,GSNIS-15   ,2,7019,15796,20181122,1629,-19.9999,-152.0003,4336,1006.8,4.237,34.4572,2,-999,9,20181122,1644,-19.9999,-152.0003,56.71,2,2.39,2,34.72,2,0,2,-999,9,-999,9,2.091,1,0.016,1,4.67,1,150,2
33RR20180918, GP15,39,9,15,GSNIS-16   ,2,7019,15796,20181122,1629,-19.9999,-152.0003,4336,1009,4.2407,34.457,2,-999,9,20181122,1645,-19.9999,-152.0003,56.62,2,2.4,2,34.67,2,0,2,-999,9,-999,9,2.091,1,0.017,1,4.67,1,149.9,2
33RR20180918, GP15,39,9,16,GSNIS-17   ,2,7019,15795,20181122,1629,-19.9999,-152.0003,4336,907.3,4.7347,34.4308,2,-999,9,20181122,1647,-19.9999,-152.0003,46.64,2,2.35,2,34.01,2,0,2,151.81,2,34.432,2,2.075,1,0.017,1,4.669,1,152.8,2
33RR20180918, GP15,39,9,17,GSNIS-18   ,2,7019,15795,20181122,1629,-19.9999,-152.0003,4336,908,4.7347,34.4308,2,-999,9,20181122,1647,-19.9999,-152.0003,46.55,2,2.31,2,33.92,2,0,2,-999,9,-999,9,2.076,1,0.015,1,4.669,1,152.9,2
33RR20180918, GP15,39,9,18,GSNIS-19   ,2,7019,15795,20181122,1629,-19.9999,-152.0003,4336,906.5,4.7309,34.4312,2,-999,9,20181122,1648,-19.9999,-152.0003,46.35,2,2.34,2,33.93,2,0,2,-999,9,-999,9,2.074,1,0.017,1,4.669,1,152.6,2
33RR20180918, GP15,39,9,19,GSNIS-20   ,2,7019,15794,20181122,1629,-19.9999,-152.0003,4336,806.5,5.0229,34.3796,2,-999,9,20181122,1650,-19.9999,-152.0003,34.52,2,2.2,2,32.72,2,0,2,166.27,2,34.3813,2,2.047,1,0.016,1,4.67,1,167.9,2
33RR20180918, GP15,39,9,20,GSNIS-21   ,2,7019,15794,20181122,1629,-19.9999,-152.0003,4336,807.6,5.0237,34.3799,2,-999,9,20181122,1650,-19.9999,-152.0003,34.32,2,2.21,2,32.76,2,0,2,-999,9,-999,9,2.046,1,0.016,1,4.669,1,167.7,2
33RR20180918, GP15,39,9,21,GSNIS-22   ,2,7019,15794,20181122,1629,-19.9999,-152.0003,4336,806.4,5.0212,34.3801,2,-999,9,20181122,1651,-19.9999,-152.0003,34.42,2,2.21,2,32.76,2,0,2,-999,9,-999,9,2.044,1,0.015,1,4.669,1,167.5,2
33RR20180918, GP15,39,9,22,GSNIS-23   ,2,7019,15793,20181122,1629,-19.9999,-152.0003,4336,707,5.6096,34.3441,2,-999,9,20181122,1653,-19.9999,-152.0003,22,2,2.04,2,30.2,2,0,2,184.79,2,34.345,2,1.985,1,0.015,1,4.669,1,191.4,3
33RR20180918, GP15,39,9,23,GSNIS-24   ,2,7019,15793,20181122,1629,-19.9999,-152.0003,4336,705.3,5.5968,34.3435,2,-999,9,20181122,1653,-19.9999,-152.0003,21.81,2,2.03,2,30.16,2,0,2,-999,9,-999,9,1.982,1,0.017,1,4.669,1,191,3
33RR20180918, GP15,39,9,24,GSNIS-25   ,2,7019,15793,20181122,1629,-19.9999,-152.0003,4336,707.3,5.6095,34.3446,2,-999,9,20181122,1654,-19.9999,-152.0003,21.9,2,2.03,2,30.15,2,0,2,-999,9,-999,9,1.979,1,0.015,1,4.669,1,191.4,3
33RR20180918, GP15,39,9,25,GSNIS-26   ,2,7019,15792,20181122,1629,-19.9999,-152.0003,4336,656.1,5.8808,34.3171,2,-999,9,20181122,1656,-19.9999,-152.0003,14.47,2,1.87,2,27.85,2,0,2,205.28,2,34.3182,2,1.914,1,0.015,1,4.669,1,206.7,2
33RR20180918, GP15,39,9,26,GSNIS-27   ,2,7019,15792,20181122,1629,-19.9999,-152.0003,4336,655.9,5.8809,34.3175,2,-999,9,20181122,1656,-19.9999,-152.0003,14.47,2,1.86,2,27.9,2,0,2,-999,9,-999,9,1.912,1,0.015,1,4.669,1,210.1,2
33RR20180918, GP15,39,9,27,GSNIS-28   ,2,7019,15792,20181122,1629,-19.9999,-152.0003,4336,656.2,5.8866,34.3173,2,-999,9,20181122,1656,-19.9999,-152.0003,14.38,2,1.85,2,27.85,2,0,2,-999,9,-999,9,1.91,1,0.016,1,4.669,1,210.1,2
33RR20180918, GP15,39,9,28,GSNIS-29   ,2,7019,15791,20181122,1629,-19.9999,-152.0003,4336,605.7,6.4704,34.3473,2,-999,9,20181122,1658,-19.9999,-152.0003,13.79,2,1.82,2,27.2,2,0,2,195.6,2,34.3527,2,1.838,1,0.017,1,4.668,1,198.8,2
33RR20180918, GP15,39,9,29,GSNIS-30   ,2,7019,15791,20181122,1629,-19.9999,-152.0003,4336,605.8,6.4728,34.3487,2,-999,9,20181122,1658,-19.9999,-152.0003,13.79,2,1.82,2,27.18,2,0,2,-999,9,-999,9,1.836,1,0.015,1,4.668,1,190.2,2
33RR20180918, GP15,39,9,30,GSNIS-31   ,2,7019,15791,20181122,1629,-19.9999,-152.0003,4336,605.9,6.4718,34.3484,2,-999,9,20181122,1658,-19.9999,-152.0003,13.49,2,1.81,2,27.14,2,0,2,-999,9,-999,9,1.833,1,0.016,1,4.668,1,190.4,2
33RR20180918, GP15,39,9,31,GSNIS-32   ,2,7019,15790,20181122,1629,-19.9999,-152.0003,4336,555.1,7.3818,34.3776,3,-999,9,20181122,1700,-19.9999,-152.0003,8.21,2,1.57,2,23.64,2,0,2,208.15,2,34.3786,2,1.794,1,0.016,1,4.668,1,204.8,2
33RR20180918, GP15,39,9,32,GSNIS-33   ,2,7019,15790,20181122,1629,-19.9999,-152.0003,4336,555.4,7.3917,34.3743,2,-999,9,20181122,1700,-19.9999,-152.0003,8.7,2,1.59,2,23.91,2,0,2,-999,9,-999,9,1.792,1,0.015,1,4.668,1,214,2
33RR20180918, GP15,39,9,33,GSNIS-34   ,2,7019,15790,20181122,1629,-19.9999,-152.0003,4336,554.9,7.3973,34.3758,2,-999,9,20181122,1700,-19.9999,-152.0003,8.21,2,1.56,2,23.6,2,0,2,-999,9,-999,9,1.792,1,0.016,1,4.668,1,214.2,2
33RR20180918, GP15,39,9,34,GSNIS-35   ,2,7019,15789,20181122,1629,-19.9999,-152.0003,4336,504,8.3417,34.4317,3,-999,9,20181122,1702,-19.9999,-152.0003,7.92,2,1.54,2,22.43,2,0,2,192.45,2,34.4332,3,1.765,1,0.015,1,4.667,1,188,2
33RR20180918, GP15,39,9,35,GSNIS-36   ,2,7019,15789,20181122,1629,-19.9999,-152.0003,4336,505.1,8.3508,34.432,2,-999,9,20181122,1702,-19.9999,-152.0003,8.02,2,1.53,2,22.44,2,0,2,-999,9,-999,9,1.763,1,0.016,1,4.667,1,188.8,2
33RR20180918, GP15,39,9,36,GSNIS-1    ,2,7019,15789,20181122,1629,-19.9999,-152.0003,4336,504.5,8.3416,34.4312,2,-999,9,20181122,1702,-19.9999,-152.0003,7.82,2,1.53,2,22.42,2,0,2,-999,9,-999,9,1.762,1,0.015,1,4.667,1,188.9,2