BOTTLE,20191212SIOCCHAMB
EXPOCODE,SECT_ID,STNNBR,CASTNO,SAMPNO,BTLNBR,BTLNBR_FLAG_W,GEOTRC_EVENTNO,GEOTRC_SAMPNO,DATE,TIME,LATITUDE,LONGITUDE,DEPTH,CTDPRS,CTDTMP,CTDSAL,CTDSAL_FLAG_W,REFTMP,REFTMP_FLAG_W,BTL_DATE,BTL_TIME,BTL_LAT,BTL_LON,SILCAT,SILCAT_FLAG_W,PHSPHT,PHSPHT_FLAG_W,NITRAT,NITRAT_FLAG_W,NITRIT,NITRIT_FLAG_W,OXYGEN,OXYGEN_FLAG_W,SALNTY,SALNTY_FLAG_W,CTDRINKO,CTDRINKO_FLAG_W,CTDFLUOR,CTDFLUOR_FLAG_W,CTDXMISS,CTDXMISS_FLAG_W,CTDOXY,CTDOXY_FLAG_W
,,,,,,,,,,,,,METERS,DBAR,ITS-90,PSS-78,,ITS-90,,,,,,UMOL/KG,,UMOL/KG,,UMOL/KG,,UMOL/KG,,UMOL/KG,,PSS-78,,VOLTS,,VOLTS,,VOLTS,,UMOL/KG,
33RR20180918, GP15,21,11,1,GSNIS-2    ,3,6821,14274,20181031,1336,11.0001,-152.0003,5477,5440.4,1.4502,34.6982,3,1.4502,3,20181031,1336,11.0001,-152.0003,156.73,3,2.58,3,37.39,3,0,3,132.46,3,34.6808,3,2.239,1,0.017,1,4.684,1,164.5,3
33RR20180918, GP15,21,11,2,GSNIS-3    ,2,6821,14274,20181031,1336,11.0001,-152.0003,5477,5440.3,1.4503,34.6981,2,-999,9,20181031,1336,11.0001,-152.0003,134.26,2,2.34,2,34.38,2,0,2,-999,9,-999,9,2.239,1,0.017,1,4.684,1,175.4,3
33RR20180918, GP15,21,11,3,GSNIS-4    ,2,6821,14274,20181031,1336,11.0001,-152.0003,5477,5440.5,1.4503,34.6982,2,-999,9,20181031,1336,11.0001,-152.0003,134.16,2,2.35,2,34.41,2,0,2,-999,9,-999,9,2.239,1,0.017,1,4.684,1,175.4,3
33RR20180918, GP15,21,11,4,GSNIS-5    ,2,6821,14273,20181031,1336,11.0001,-152.0003,5477,5400.1,1.4454,34.6981,2,1.4452,2,20181031,1339,11.0001,-152.0002,133.96,2,2.35,2,34.37,2,0,2,175.58,2,34.6997,2,2.242,1,0.017,1,4.684,1,175.4,2
33RR20180918, GP15,21,11,5,GSNIS-6    ,2,6821,14273,20181031,1336,11.0001,-152.0003,5477,5398.9,1.4451,34.6983,2,-999,9,20181031,1339,11.0001,-152.0002,134.06,2,2.36,2,34.33,2,0,2,-999,9,-999,9,2.242,1,0.017,1,4.684,1,175.2,2
33RR20180918, GP15,21,11,6,GSNIS-7    ,2,6821,14273,20181031,1336,11.0001,-152.0003,5477,5399.8,1.4453,34.6982,2,-999,9,20181031,1339,11.0001,-152.0002,134.06,2,2.37,2,34.35,2,0,2,-999,9,-999,9,2.242,1,0.017,1,4.684,1,176.1,2
33RR20180918, GP15,21,11,7,GSNIS-8    ,2,6821,14272,20181031,1336,11.0001,-152.0003,5477,5316.6,1.4352,34.6981,2,1.4351,2,20181031,1342,11.0001,-152.0003,134.35,2,2.35,2,34.38,2,0,2,174.82,2,34.6989,2,2.235,1,0.017,1,4.685,1,174.9,2
33RR20180918, GP15,21,11,8,GSNIS-9    ,2,6821,14272,20181031,1336,11.0001,-152.0003,5477,5317.3,1.4352,34.6981,2,-999,9,20181031,1342,11.0001,-152.0003,134.35,2,2.36,2,34.37,2,0,2,-999,9,-999,9,2.235,1,0.017,1,4.685,1,175.3,2
33RR20180918, GP15,21,11,9,GSNIS-10   ,2,6821,14272,20181031,1336,11.0001,-152.0003,5477,5317.9,1.4352,34.6983,2,-999,9,20181031,1342,11.0001,-152.0003,134.45,2,2.36,2,34.37,2,0,2,-999,9,-999,9,2.235,1,0.017,1,4.685,1,176.4,2
33RR20180918, GP15,21,11,10,GSNIS-11   ,2,6821,14271,20181031,1336,11.0001,-152.0003,5477,4830.7,1.3857,34.6979,2,1.3856,2,20181031,1352,11.0001,-152.0003,135.23,2,2.36,2,34.48,2,0,2,173.42,2,34.6987,2,2.212,1,0.017,1,4.685,1,173.7,2
33RR20180918, GP15,21,11,11,GSNIS-12   ,2,6821,14271,20181031,1336,11.0001,-152.0003,5477,4830.6,1.3857,34.6977,2,-999,9,20181031,1352,11.0001,-152.0003,135.23,2,2.36,2,34.48,2,0,2,-999,9,-999,9,2.211,1,0.016,1,4.685,1,173.9,2
33RR20180918, GP15,21,11,12,GSNIS-13   ,2,6821,14271,20181031,1336,11.0001,-152.0003,5477,4830.9,1.3857,34.6977,2,-999,9,20181031,1352,11.0001,-152.0003,135.23,2,2.35,2,34.49,2,0,2,-999,9,-999,9,2.211,1,0.016,1,4.685,1,174.7,3
33RR20180918, GP15,21,11,13,GSNIS-14   ,2,6821,14270,20181031,1336,11.0001,-152.0003,5477,4318.4,1.4118,34.693,2,1.4115,2,20181031,1402,11.0001,-152.0003,142.27,2,2.43,2,35.35,2,0,2,162.33,2,34.6932,2,2.185,1,0.017,1,4.686,1,161.8,2
33RR20180918, GP15,21,11,14,GSNIS-15   ,2,6821,14270,20181031,1336,11.0001,-152.0003,5477,4318.2,1.4117,34.6931,2,-999,9,20181031,1402,11.0001,-152.0003,142.27,2,2.42,2,35.36,2,0,2,-999,9,-999,9,2.183,1,0.017,1,4.686,1,161.8,2
33RR20180918, GP15,21,11,15,GSNIS-16   ,2,6821,14270,20181031,1336,11.0001,-152.0003,5477,4318.9,1.4117,34.6931,2,-999,9,20181031,1402,11.0001,-152.0003,142.17,2,2.43,2,35.35,2,0,2,-999,9,-999,9,2.184,1,0.017,1,4.686,1,161.1,2
33RR20180918, GP15,21,11,16,GSNIS-17   ,2,6821,14269,20181031,1336,11.0001,-152.0003,5477,3807.2,1.5045,34.6845,2,1.5045,2,20181031,1412,11.0001,-152.0002,153.51,2,2.53,2,36.75,2,0,2,142.84,2,34.6848,2,2.168,1,0.016,1,4.685,1,142.5,2
33RR20180918, GP15,21,11,17,GSNIS-18   ,2,6821,14269,20181031,1336,11.0001,-152.0003,5477,3807.4,1.5046,34.6844,2,-999,9,20181031,1412,11.0001,-152.0003,153.51,2,2.53,2,36.77,2,0,2,-999,9,-999,9,2.168,1,0.017,1,4.685,1,142.3,2
33RR20180918, GP15,21,11,18,GSNIS-19   ,2,6821,14269,20181031,1336,11.0001,-152.0003,5477,3806.4,1.5049,34.6844,2,-999,9,20181031,1412,11.0001,-152.0002,153.31,2,2.53,2,36.79,2,0,2,-999,9,-999,9,2.17,1,0.016,1,4.685,1,142.9,2
33RR20180918, GP15,21,11,19,GSNIS-20   ,2,6821,14268,20181031,1336,11.0001,-152.0003,5477,3294.1,1.6649,34.676,2,1.6646,2,20181031,1422,11.0001,-152.0003,155.66,2,2.62,2,37.93,2,0,2,125.7,2,34.6761,2,2.23,1,0.017,1,4.684,1,125.7,2
33RR20180918, GP15,21,11,20,GSNIS-21   ,2,6821,14268,20181031,1336,11.0001,-152.0003,5477,3294.4,1.665,34.6759,2,-999,9,20181031,1422,11.0001,-152.0003,155.85,2,2.63,2,37.94,2,0,2,-999,9,-999,9,2.231,1,0.017,1,4.684,1,125.6,2
33RR20180918, GP15,21,11,21,GSNIS-22   ,2,6821,14268,20181031,1336,11.0001,-152.0003,5477,3293.6,1.6648,34.676,2,-999,9,20181031,1422,11.0001,-152.0003,155.95,2,2.63,2,37.97,2,0,2,-999,9,-999,9,2.232,1,0.017,1,4.684,1,125.6,2
33RR20180918, GP15,21,11,22,GSNIS-23   ,2,6821,14267,20181031,1336,11.0001,-152.0003,5477,3039.5,1.7514,34.672,2,1.7513,2,20181031,1428,11.0001,-152.0003,155.17,2,2.67,2,38.41,2,0,2,118.9,2,34.6726,2,2.299,1,0.017,1,4.683,1,118.9,2
33RR20180918, GP15,21,11,23,GSNIS-24   ,2,6821,14267,20181031,1336,11.0001,-152.0003,5477,3039.3,1.7515,34.672,2,-999,9,20181031,1428,11.0001,-152.0003,155.07,2,2.67,2,38.47,2,0,2,-999,9,-999,9,2.299,1,0.018,1,4.683,1,118.7,2
33RR20180918, GP15,21,11,24,GSNIS-25   ,2,6821,14267,20181031,1336,11.0001,-152.0003,5477,3039.6,1.7516,34.672,2,-999,9,20181031,1428,11.0001,-152.0003,155.17,2,2.67,2,38.58,2,0,2,-999,9,-999,9,2.3,1,0.017,1,4.683,1,118.1,2
33RR20180918, GP15,21,11,25,GSNIS-26   ,2,6821,14266,20181031,1336,11.0001,-152.0003,5477,2783,1.8231,34.6678,2,1.823,2,20181031,1434,11.0001,-152.0003,154,2,2.7,2,38.9,2,0,2,113.17,2,34.6686,2,2.35,1,0.017,1,4.683,1,113.3,2
33RR20180918, GP15,21,11,26,GSNIS-27   ,2,6821,14266,20181031,1336,11.0001,-152.0003,5477,2784,1.8231,34.6677,2,-999,9,20181031,1434,11.0001,-152.0003,154.1,2,2.7,2,39.03,2,0,2,-999,9,-999,9,2.351,1,0.017,1,4.683,1,113.1,2
33RR20180918, GP15,21,11,27,GSNIS-28   ,2,6821,14266,20181031,1336,11.0001,-152.0003,5477,2783.8,1.8235,34.6676,2,-999,9,20181031,1434,11.0001,-152.0003,154,2,2.71,2,39,2,0,2,-999,9,-999,9,2.351,1,0.017,1,4.683,1,113.3,2
33RR20180918, GP15,21,11,28,GSNIS-29   ,2,6821,14265,20181031,1336,11.0001,-152.0003,5477,2528.5,1.887,34.6629,2,1.8866,2,20181031,1440,11.0001,-152.0003,152.83,2,2.73,2,39.3,2,0,2,108.98,2,34.6637,2,2.391,1,0.017,1,4.682,1,109.1,2
33RR20180918, GP15,21,11,29,GSNIS-30   ,2,6821,14265,20181031,1336,11.0001,-152.0003,5477,2529.4,1.8868,34.6628,2,-999,9,20181031,1440,11.0001,-152.0003,152.63,2,2.73,2,39.27,2,0,2,-999,9,-999,9,2.391,1,0.017,1,4.682,1,109,2
33RR20180918, GP15,21,11,30,GSNIS-31   ,2,6821,14265,20181031,1336,11.0001,-152.0003,5477,2528.8,1.8873,34.6627,2,-999,9,20181031,1440,11.0001,-152.0002,153.12,2,2.74,2,39.2,2,0,2,-999,9,-999,9,2.392,1,0.017,1,4.683,1,108.9,2
33RR20180918, GP15,21,11,31,GSNIS-32   ,2,6821,14264,20181031,1336,11.0001,-152.0003,5477,2275.1,2.0035,34.6526,2,2.0033,2,20181031,1445,11.0001,-152.0003,150.58,2,2.78,2,39.62,2,0,2,102.25,2,34.6535,2,2.42,1,0.016,1,4.682,1,102.3,2
33RR20180918, GP15,21,11,32,GSNIS-33   ,2,6821,14264,20181031,1336,11.0001,-152.0003,5477,2275.7,2.0038,34.6527,2,-999,9,20181031,1445,11.0001,-152.0003,150.58,2,2.78,2,39.54,2,0,2,-999,9,-999,9,2.42,1,0.017,1,4.682,1,102.2,2
33RR20180918, GP15,21,11,33,GSNIS-34   ,2,6821,14264,20181031,1336,11.0001,-152.0003,5477,2275.6,2.0035,34.6527,2,-999,9,20181031,1445,11.0001,-152.0003,150.58,2,2.78,2,39.42,2,0,2,-999,9,-999,9,2.42,1,0.017,1,4.682,1,102.2,2
33RR20180918, GP15,21,11,34,GSNIS-35   ,2,6821,14263,20181031,1336,11.0001,-152.0003,5477,2021.3,2.2792,34.6357,2,2.2787,2,20181031,1451,11.0001,-152.0002,144.33,2,2.81,2,40.06,2,0,2,91.74,2,34.637,2,2.453,1,0.017,1,4.681,1,91.5,2
33RR20180918, GP15,21,11,35,GSNIS-36   ,5,6821,14263,20181031,1336,11.0001,-152.0003,5477,2020.5,2.2784,34.6359,3,-999,9,20181031,1451,11.0001,-152.0002,-999,9,-999,9,-999,9,-999,9,-999,9,-999,9,2.453,1,0.017,1,4.681,1,91.5,3
33RR20180918, GP15,21,11,36,GSNIS-1    ,2,6821,14263,20181031,1336,11.0001,-152.0003,5477,2020.9,2.2785,34.6358,2,-999,9,20181031,1451,11.0001,-152.0003,144.03,2,2.8,2,40.03,2,0,2,-999,9,-999,9,2.454,1,0.018,1,4.681,1,91.4,2
33RR20180918, GP15,22,3,1,GSNIS-2    ,2,6825,14288,20181101,300,9.2472,-151.9965,5185,1008.8,4.7121,34.5522,2,4.7124,2,20181101,300,9.2472,-151.9965,90.03,2,3.04,2,42.65,2,0,2,45.32,2,34.5553,2,2.874,1,0.018,1,4.676,1,44.9,2
33RR20180918, GP15,22,3,2,GSNIS-3    ,2,6825,14288,20181101,300,9.2472,-151.9965,5185,1008,4.7171,34.5523,2,-999,9,20181101,300,9.2472,-151.9964,89.93,2,3.06,2,42.67,2,0,2,-999,9,-999,9,2.874,1,0.018,1,4.676,1,44.5,2
33RR20180918, GP15,22,3,3,GSNIS-4    ,2,6825,14288,20181101,300,9.2472,-151.9965,5185,1008.6,4.7161,34.5522,2,-999,9,20181101,300,9.2472,-151.9965,89.93,2,3.05,2,42.63,2,0,2,-999,9,-999,9,2.874,1,0.018,1,4.676,1,44.2,2
33RR20180918, GP15,22,3,4,GSNIS-5    ,2,6825,14287,20181101,300,9.2472,-151.9965,5185,757.7,5.9775,34.5364,2,5.9787,2,20181101,306,9.2472,-151.9964,70.48,2,3.05,2,42.19,2,0,2,25.43,2,34.5372,2,2.84,1,0.018,1,4.675,1,26.6,2
33RR20180918, GP15,22,3,5,GSNIS-6    ,2,6825,14287,20181101,300,9.2472,-151.9965,5185,756.4,5.984,34.5363,2,-999,9,20181101,306,9.2472,-151.9964,70.58,2,3.05,2,42.27,2,0,2,-999,9,-999,9,2.839,1,0.018,1,4.675,1,26.4,2
33RR20180918, GP15,22,3,6,GSNIS-7    ,2,6825,14286,20181101,300,9.2472,-151.9965,5185,505.3,7.9421,34.5818,2,7.9465,2,20181101,311,9.2472,-151.9964,47.99,2,2.82,2,38.51,2,0,2,18.72,2,34.583,2,2.916,1,0.017,1,4.67,1,17.7,2
33RR20180918, GP15,22,3,7,GSNIS-8    ,2,6825,14286,20181101,300,9.2472,-151.9965,5185,506.3,7.9536,34.5822,2,-999,9,20181101,311,9.2472,-151.9964,47.9,2,2.82,2,38.49,2,0,2,-999,9,-999,9,2.916,1,0.018,1,4.67,1,19.6,2
33RR20180918, GP15,22,3,8,GSNIS-9    ,2,6825,14285,20181101,300,9.2472,-151.9965,5185,354,9.4228,34.6509,2,9.4235,2,20181101,315,9.2472,-151.9964,36.95,2,2.64,2,36.01,2,0,2,11.69,2,34.6529,2,2.821,1,0.018,1,4.665,1,14.8,2
33RR20180918, GP15,22,3,9,GSNIS-10   ,2,6825,14285,20181101,300,9.2472,-151.9965,5185,353.7,9.4273,34.6512,2,-999,9,20181101,315,9.2472,-151.9964,37.04,2,2.63,2,36.05,2,0,2,-999,9,-999,9,2.817,1,0.018,1,4.665,1,11.9,2
33RR20180918, GP15,22,3,10,GSNIS-11   ,2,6825,14285,20181101,300,9.2472,-151.9965,5185,354.3,9.4231,34.651,2,-999,9,20181101,315,9.2472,-151.9964,36.85,2,2.63,2,36.02,2,0,2,-999,9,-999,9,2.813,1,0.018,1,4.664,1,11.3,2
33RR20180918, GP15,22,3,11,GSNIS-12   ,2,6825,14284,20181101,300,9.2472,-151.9965,5185,262.7,10.2601,34.693,2,10.2588,2,20181101,318,9.2472,-151.9964,32.64,2,2.55,2,35.19,2,0,2,5.64,2,34.6946,2,2.683,1,0.018,1,4.666,1,8.5,2
33RR20180918, GP15,22,3,12,GSNIS-13   ,2,6825,14284,20181101,300,9.2472,-151.9965,5185,263.2,10.2601,34.6931,2,-999,9,20181101,318,9.2472,-151.9965,32.74,2,2.54,2,35.16,2,0,2,-999,9,-999,9,2.68,1,0.018,1,4.667,1,4.6,2
33RR20180918, GP15,22,3,13,GSNIS-14   ,2,6825,14284,20181101,300,9.2472,-151.9965,5185,263.7,10.2603,34.693,2,-999,9,20181101,318,9.2472,-151.9965,32.74,2,2.55,2,35.17,2,0,2,-999,9,-999,9,2.678,1,0.018,1,4.667,1,4.4,2
33RR20180918, GP15,22,3,14,GSNIS-15   ,2,6825,14283,20181101,300,9.2472,-151.9965,5185,203.3,10.9096,34.716,2,10.9081,2,20181101,321,9.2472,-151.9964,30.1,2,2.49,2,34.55,2,0,2,3.6,2,34.7176,2,2.627,1,0.018,1,4.669,1,7.3,2
33RR20180918, GP15,22,3,15,GSNIS-16   ,2,6825,14283,20181101,300,9.2472,-151.9965,5185,202.9,10.9082,34.716,2,-999,9,20181101,321,9.2472,-151.9964,30.1,2,2.49,2,34.52,2,0,2,-999,9,-999,9,2.626,1,0.018,1,4.669,1,4.1,2
33RR20180918, GP15,22,3,16,GSNIS-17   ,2,6825,14283,20181101,300,9.2472,-151.9965,5185,203.1,10.9096,34.7162,2,-999,9,20181101,321,9.2472,-151.9964,30.01,2,2.49,2,34.48,2,0,2,-999,9,-999,9,2.625,1,0.017,1,4.669,1,3.5,2
33RR20180918, GP15,22,3,17,GSNIS-18   ,2,6825,14282,20181101,300,9.2472,-151.9965,5185,151.6,11.6353,34.7218,2,11.6357,2,20181101,323,9.2472,-151.9964,27.85,2,2.48,2,33.31,2,0,2,2.55,2,34.7221,2,2.616,1,0.022,1,4.669,1,2.3,2
33RR20180918, GP15,22,3,18,GSNIS-19   ,2,6825,14282,20181101,300,9.2472,-151.9965,5185,153.1,11.6351,34.7221,2,-999,9,20181101,323,9.2472,-151.9964,27.95,2,2.47,2,33.36,2,0,2,-999,9,-999,9,2.616,1,0.022,1,4.669,1,2.2,2
33RR20180918, GP15,22,3,19,GSNIS-20   ,2,6825,14282,20181101,300,9.2472,-151.9965,5185,151.3,11.6355,34.7216,2,-999,9,20181101,323,9.2472,-151.9964,27.95,2,2.47,2,33.33,2,0,2,-999,9,-999,9,2.616,1,0.021,1,4.668,1,2.2,2
33RR20180918, GP15,22,3,20,GSNIS-21   ,2,6825,14281,20181101,300,9.2472,-151.9965,5185,122.2,12.193,34.6693,2,12.1934,2,20181101,325,9.2472,-151.9964,26.59,2,2.44,2,31.97,2,0.03,2,3.75,2,34.6802,2,2.598,1,0.024,1,4.665,1,10,2
33RR20180918, GP15,22,3,21,GSNIS-22   ,2,6825,14281,20181101,300,9.2472,-151.9965,5185,121.7,12.1823,34.6722,2,-999,9,20181101,325,9.2472,-151.9964,26.39,2,2.44,2,31.78,2,0.04,2,-999,9,-999,9,2.597,1,0.025,1,4.664,1,0.1,2
33RR20180918, GP15,22,3,22,GSNIS-23   ,2,6825,14281,20181101,300,9.2472,-151.9965,5185,122.4,12.1892,34.6705,2,-999,9,20181101,325,9.2472,-151.9964,26.49,2,2.45,2,31.86,2,0.03,2,-999,9,-999,9,2.596,1,0.024,1,4.666,1,1,2
33RR20180918, GP15,22,3,23,GSNIS-24   ,2,6825,14280,20181101,300,9.2472,-151.9965,5185,101.9,12.8589,34.5709,2,12.846,2,20181101,327,9.2472,-151.9965,22.58,2,2.08,2,27.59,2,0.09,2,40.41,2,34.5743,2,2.592,1,0.03,1,4.661,1,41.8,2
33RR20180918, GP15,22,3,24,GSNIS-25   ,2,6825,14280,20181101,300,9.2472,-151.9965,5185,102.1,12.8463,34.5711,2,-999,9,20181101,327,9.2472,-151.9964,22.58,2,2.07,2,27.46,2,0.09,2,-999,9,-999,9,2.593,1,0.028,1,4.661,1,38.4,2
33RR20180918, GP15,22,3,25,GSNIS-26   ,2,6825,14280,20181101,300,9.2472,-151.9965,5185,102.3,12.7794,34.5786,2,-999,9,20181101,328,9.2472,-151.9964,22.58,2,2.08,2,27.64,2,0.08,2,-999,9,-999,9,2.594,1,0.029,1,4.663,1,32.3,2
33RR20180918, GP15,22,3,26,GSNIS-27   ,2,6825,14279,20181101,300,9.2472,-151.9965,5185,81.8,14.4655,34.541,2,14.4857,2,20181101,329,9.2472,-151.9965,16.91,2,1.58,2,20.81,2,0.26,2,81.83,2,34.5464,2,2.624,1,0.04,1,4.644,1,79.3,2
33RR20180918, GP15,22,3,27,GSNIS-28   ,2,6825,14279,20181101,300,9.2472,-151.9965,5185,82.6,14.5033,34.5395,2,-999,9,20181101,329,9.2472,-151.9965,16.62,2,1.56,2,20.48,2,0.27,2,-999,9,-999,9,2.627,1,0.041,1,4.643,1,73.3,2
33RR20180918, GP15,22,3,28,GSNIS-29   ,2,6825,14279,20181101,300,9.2472,-151.9965,5185,81.7,14.4754,34.5419,2,-999,9,20181101,330,9.2472,-151.9965,16.72,2,1.57,2,20.63,2,0.27,2,-999,9,-999,9,2.631,1,0.041,1,4.643,1,72.9,2
33RR20180918, GP15,22,3,29,GSNIS-30   ,2,6825,14278,20181101,300,9.2472,-151.9965,5185,62,17.6273,34.4583,2,17.6718,2,20181101,331,9.2472,-151.9965,5.47,2,0.69,2,6.43,2,0.16,2,165.16,2,34.4663,2,2.587,1,0.067,1,4.592,1,165.6,2
33RR20180918, GP15,22,3,30,GSNIS-31   ,2,6825,14278,20181101,300,9.2472,-151.9965,5185,61.4,17.7772,34.4593,2,-999,9,20181101,332,9.2472,-151.9965,5.38,2,0.68,2,6.34,2,0.15,2,-999,9,-999,9,2.553,1,0.064,1,4.595,1,167.8,2
33RR20180918, GP15,22,3,31,GSNIS-32   ,2,6825,14278,20181101,300,9.2472,-151.9965,5185,61.9,17.6652,34.4583,2,-999,9,20181101,332,9.2472,-151.9965,5.28,2,0.68,2,6.46,2,0.16,2,-999,9,-999,9,2.515,1,0.066,1,4.595,1,170.6,2
33RR20180918, GP15,22,3,32,GSNIS-33   ,2,6825,14277,20181101,300,9.2472,-151.9965,5185,21.1,29.2802,33.4602,2,29.2784,2,20181101,334,9.2472,-151.9965,0,2,0.06,2,0,2,0,2,195.3,2,33.4639,2,1.674,1,0.018,1,4.639,1,196.7,2
33RR20180918, GP15,22,3,33,GSNIS-34   ,2,6825,14277,20181101,300,9.2472,-151.9965,5185,21.6,29.2832,33.4632,2,-999,9,20181101,334,9.2472,-151.9965,0,2,0.07,2,0,2,0,2,-999,9,-999,9,1.629,1,0.018,1,4.638,1,189.1,2
33RR20180918, GP15,22,3,34,GSNIS-35   ,2,6825,14277,20181101,300,9.2472,-151.9965,5185,21.5,29.2828,33.4635,2,-999,9,20181101,334,9.2472,-151.9965,0,2,0.06,2,0,2,0,2,-999,9,-999,9,1.595,1,0.018,1,4.639,1,191.7,2
33RR20180918, GP15,22,3,35,GSNIS-36   ,2,6825,14276,20181101,300,9.2472,-151.9965,5185,2.4,29.2106,33.4059,2,29.2178,2,20181101,337,9.2472,-151.9965,0,2,0.06,2,0,2,0,2,195.37,2,33.4105,2,1.361,1,0.018,1,4.636,1,193.3,2
33RR20180918, GP15,22,3,36,GSNIS-1    ,2,6825,14276,20181101,300,9.2472,-151.9965,5185,2.7,29.2197,33.4077,2,-999,9,20181101,337,9.2472,-151.9965,0.1,2,0.06,2,0,2,0,2,-999,9,-999,9,1.353,1,0.018,1,4.636,1,190.8,2