BOTTLE,20191212SIOCCHAMB
EXPOCODE,SECT_ID,STNNBR,CASTNO,SAMPNO,BTLNBR,BTLNBR_FLAG_W,GEOTRC_EVENTNO,GEOTRC_SAMPNO,DATE,TIME,LATITUDE,LONGITUDE,DEPTH,CTDPRS,CTDTMP,CTDSAL,CTDSAL_FLAG_W,REFTMP,REFTMP_FLAG_W,BTL_DATE,BTL_TIME,BTL_LAT,BTL_LON,SILCAT,SILCAT_FLAG_W,PHSPHT,PHSPHT_FLAG_W,NITRAT,NITRAT_FLAG_W,NITRIT,NITRIT_FLAG_W,OXYGEN,OXYGEN_FLAG_W,SALNTY,SALNTY_FLAG_W,CTDRINKO,CTDRINKO_FLAG_W,CTDFLUOR,CTDFLUOR_FLAG_W,CTDXMISS,CTDXMISS_FLAG_W,CTDOXY,CTDOXY_FLAG_W
,,,,,,,,,,,,,METERS,DBAR,ITS-90,PSS-78,,ITS-90,,,,,,UMOL/KG,,UMOL/KG,,UMOL/KG,,UMOL/KG,,UMOL/KG,,PSS-78,,VOLTS,,VOLTS,,VOLTS,,UMOL/KG,
33RR20180918, GP15,19,7,1,GSNIS-2    ,2,6788,14013,20181027,1248,17.4999,-152.0002,5222,1917.7,2.1152,34.6267,2,2.1142,2,20181027,1248,17.4999,-152.0003,149.93,2,2.82,2,40.01,2,0,2,92.74,2,34.6158,3,2.627,1,0.017,1,4.689,1,92.5,2
33RR20180918, GP15,19,7,2,GSNIS-3    ,2,6788,14013,20181027,1248,17.4999,-152.0002,5222,1919.9,2.1148,34.6267,2,-999,9,20181027,1248,17.4999,-152.0002,150.13,2,2.82,2,40.02,2,0,2,-999,9,-999,9,2.626,1,0.017,1,4.689,1,92,2
33RR20180918, GP15,19,7,3,GSNIS-4    ,2,6788,14013,20181027,1248,17.4999,-152.0002,5222,1919.1,2.1147,34.6268,2,-999,9,20181027,1249,17.4999,-152.0003,150.23,2,2.83,2,39.98,2,0,2,-999,9,-999,9,2.625,1,0.017,1,4.689,1,92.2,2
33RR20180918, GP15,19,7,4,GSNIS-5    ,2,6788,14013,20181027,1248,17.4999,-152.0002,5222,1918.4,2.1152,34.6266,2,-999,9,20181027,1249,17.4999,-152.0002,150.32,2,2.83,2,40.04,2,0,2,-999,9,-999,9,2.624,1,0.017,1,4.689,1,92.4,2
33RR20180918, GP15,19,7,5,GSNIS-6    ,2,6788,14012,20181027,1248,17.4999,-152.0002,5222,1718,2.3669,34.6101,2,2.3684,2,20181027,1253,17.4999,-152.0003,145.15,2,2.89,2,40.65,2,0,2,82.08,2,34.5993,3,2.645,1,0.017,1,4.689,1,81.4,2
33RR20180918, GP15,19,7,6,GSNIS-7    ,2,6788,14012,20181027,1248,17.4999,-152.0002,5222,1718.1,2.3688,34.61,2,-999,9,20181027,1253,17.4999,-152.0003,145.15,2,2.89,2,40.59,2,0,2,-999,9,-999,9,2.644,1,0.018,1,4.688,1,81.2,2
33RR20180918, GP15,19,7,7,GSNIS-8    ,2,6788,14012,20181027,1248,17.4999,-152.0002,5222,1716.8,2.3698,34.6099,2,-999,9,20181027,1254,17.4999,-152.0003,145.15,2,2.89,2,40.62,2,0,2,-999,9,-999,9,2.644,1,0.017,1,4.688,1,81.2,2
33RR20180918, GP15,19,7,8,GSNIS-9    ,2,6788,14012,20181027,1248,17.4999,-152.0002,5222,1717.8,2.3699,34.6099,2,-999,9,20181027,1254,17.4999,-152.0003,145.44,2,2.89,2,40.53,2,0,2,-999,9,-999,9,2.644,1,0.017,1,4.688,1,81.2,2
33RR20180918, GP15,19,7,9,GSNIS-10   ,2,6788,14011,20181027,1248,17.4999,-152.0002,5222,1516.7,2.7499,34.587,2,2.7504,2,20181027,1258,17.4999,-152.0002,138.4,2,2.99,2,41.56,2,0,2,65.25,2,34.5763,3,2.623,1,0.018,1,4.688,1,64.1,2
33RR20180918, GP15,19,7,10,GSNIS-11   ,2,6788,14011,20181027,1248,17.4999,-152.0002,5222,1516.5,2.7503,34.5871,2,-999,9,20181027,1259,17.4999,-152.0002,138.21,2,2.99,2,41.55,2,0,2,-999,9,-999,9,2.623,1,0.017,1,4.688,1,63.5,2
33RR20180918, GP15,19,7,11,GSNIS-12   ,2,6788,14011,20181027,1248,17.4999,-152.0002,5222,1514.1,2.7529,34.5868,2,-999,9,20181027,1259,17.4999,-152.0002,138.5,2,2.99,2,41.58,2,0,2,-999,9,-999,9,2.623,1,0.018,1,4.688,1,64.3,2
33RR20180918, GP15,19,7,12,GSNIS-13   ,2,6788,14011,20181027,1248,17.4999,-152.0002,5222,1517.1,2.7497,34.5871,2,2.7513,2,20181027,1259,17.4999,-152.0002,137.92,2,3,2,41.57,2,0,2,-999,9,-999,9,2.622,1,0.018,1,4.688,1,64.2,2
33RR20180918, GP15,19,7,13,GSNIS-14   ,2,6788,14010,20181027,1248,17.4999,-152.0002,5222,1312.9,3.2656,34.5607,2,3.2664,2,20181027,1303,17.4999,-152.0003,126.19,2,3.07,2,42.29,2,0,2,53.37,2,34.5498,3,2.632,1,0.017,1,4.687,1,52.9,2
33RR20180918, GP15,19,7,14,GSNIS-15   ,2,6788,14010,20181027,1248,17.4999,-152.0002,5222,1312.5,3.2664,34.5606,2,-999,9,20181027,1303,17.4999,-152.0003,126.19,2,3.07,2,42.25,2,0,2,-999,9,-999,9,2.633,1,0.018,1,4.687,1,52.9,2
33RR20180918, GP15,19,7,15,GSNIS-16   ,2,6788,14009,20181027,1248,17.4999,-152.0002,5222,1211.1,3.5309,34.5478,2,3.5314,2,20181027,1307,17.4999,-152.0002,120.33,2,3.11,2,42.63,2,0,2,46.37,2,34.5364,3,2.746,1,0.017,1,4.686,1,46.8,2
33RR20180918, GP15,19,7,16,GSNIS-17   ,2,6788,14009,20181027,1248,17.4999,-152.0002,5222,1211.6,3.5316,34.5478,2,-999,9,20181027,1307,17.4999,-152.0002,120.72,2,3.11,2,42.67,2,0,2,-999,9,-999,9,2.748,1,0.018,1,4.686,1,46.8,2
33RR20180918, GP15,19,7,17,GSNIS-18   ,2,6788,14009,20181027,1248,17.4999,-152.0002,5222,1209.1,3.5322,34.5477,2,-999,9,20181027,1307,17.4999,-152.0002,120.23,2,3.11,2,42.63,2,0,2,-999,9,-999,9,2.751,1,0.018,1,4.686,1,46.6,2
33RR20180918, GP15,19,7,18,GSNIS-19   ,2,6788,14009,20181027,1248,17.4999,-152.0002,5222,1213,3.5334,34.5478,2,3.5337,2,20181027,1307,17.4999,-152.0002,120.33,2,3.11,2,42.62,2,0,2,-999,9,-999,9,2.752,1,0.018,1,4.686,1,46.6,2
33RR20180918, GP15,19,7,19,GSNIS-20   ,2,6788,14008,20181027,1248,17.4999,-152.0002,5222,1155.1,3.7039,34.5388,2,3.7058,2,20181027,1310,17.4999,-152.0003,116.12,2,3.12,2,42.68,2,0,2,43.98,2,34.5272,3,2.816,1,0.017,1,4.686,1,44.3,2
33RR20180918, GP15,19,7,20,GSNIS-21   ,2,6788,14008,20181027,1248,17.4999,-152.0002,5222,1155.5,3.7006,34.5391,2,-999,9,20181027,1310,17.4999,-152.0003,116.03,2,3.11,2,42.61,2,0,2,-999,9,-999,9,2.817,1,0.018,1,4.686,1,44.3,2
33RR20180918, GP15,19,7,21,GSNIS-22   ,2,6788,14008,20181027,1248,17.4999,-152.0002,5222,1153.2,3.7083,34.5385,2,-999,9,20181027,1310,17.4999,-152.0003,116.12,2,3.12,2,42.63,2,0,2,-999,9,-999,9,2.819,1,0.018,1,4.686,1,44.8,2
33RR20180918, GP15,19,7,22,GSNIS-23   ,2,6788,14007,20181027,1248,17.4999,-152.0002,5222,1084.1,3.9119,34.5273,2,3.9147,2,20181027,1313,17.4999,-152.0002,110.94,2,3.09,2,42.34,2,0,2,45.54,2,34.5168,3,2.86,1,0.018,1,4.685,1,43.3,2
33RR20180918, GP15,19,7,23,GSNIS-24   ,2,6788,14007,20181027,1248,17.4999,-152.0002,5222,1084.7,3.9103,34.5277,2,-999,9,20181027,1313,17.4999,-152.0002,110.75,2,3.09,2,42.26,2,0,2,-999,9,-999,9,2.861,1,0.018,1,4.685,1,45.8,2
33RR20180918, GP15,19,7,24,GSNIS-25   ,2,6788,14006,20181027,1248,17.4999,-152.0002,5222,1007.8,4.1151,34.5161,2,4.117,2,20181027,1315,17.4999,-152.0003,106.25,2,3.1,2,42.14,2,0,2,42.77,2,34.5048,3,2.877,1,0.017,1,4.685,1,43,2
33RR20180918, GP15,19,7,25,GSNIS-26   ,2,6788,14006,20181027,1248,17.4999,-152.0002,5222,1008.2,4.1183,34.516,2,-999,9,20181027,1316,17.4999,-152.0003,106.25,2,3.09,2,42.05,2,0,2,-999,9,-999,9,2.878,1,0.018,1,4.685,1,43.2,2
33RR20180918, GP15,19,7,26,GSNIS-27   ,2,6788,14006,20181027,1248,17.4999,-152.0002,5222,1008,4.1201,34.5158,2,-999,9,20181027,1316,17.4999,-152.0003,106.55,2,3.08,2,42.13,2,0,2,-999,9,-999,9,2.878,1,0.018,1,4.685,1,43.2,2
33RR20180918, GP15,19,7,27,GSNIS-28   ,2,6788,14006,20181027,1248,17.4999,-152.0002,5222,1007.4,4.1245,34.5155,2,-999,9,20181027,1316,17.4999,-152.0003,106.45,2,3.06,2,42.08,2,0,2,-999,9,-999,9,2.879,1,0.018,1,4.685,1,43.2,2
33RR20180918, GP15,19,7,28,GSNIS-29   ,2,6788,14005,20181027,1248,17.4999,-152.0002,5222,906.2,4.446,34.4964,2,4.4527,2,20181027,1319,17.4999,-152.0002,99.8,2,3.05,2,41.85,2,0,2,40.32,2,34.485,3,2.884,1,0.018,1,4.684,1,38.7,2
33RR20180918, GP15,19,7,29,GSNIS-30   ,2,6788,14005,20181027,1248,17.4999,-152.0002,5222,907.5,4.4534,34.4959,2,-999,9,20181027,1319,17.4999,-152.0002,99.61,2,3.04,2,41.92,2,0,2,-999,9,-999,9,2.885,1,0.018,1,4.685,1,40.7,2
33RR20180918, GP15,19,7,30,GSNIS-31   ,2,6788,14004,20181027,1248,17.4999,-152.0002,5222,806.2,4.9012,34.4753,2,4.9129,2,20181027,1322,17.4999,-152.0003,90.71,2,3.02,2,41.49,2,0,2,35.86,2,34.4646,2,2.895,1,0.017,1,4.684,1,38.1,2
33RR20180918, GP15,19,7,31,GSNIS-32   ,2,6788,14004,20181027,1248,17.4999,-152.0002,5222,807.1,4.9187,34.4746,2,-999,9,20181027,1322,17.4999,-152.0003,90.62,2,3.02,2,41.42,2,0,2,-999,9,-999,9,2.897,1,0.018,1,4.684,1,36.2,2
33RR20180918, GP15,19,7,32,GSNIS-33   ,2,6788,14003,20181027,1248,17.4999,-152.0002,5222,655.6,5.6122,34.4106,2,5.6175,2,20181027,1326,17.4999,-152.0003,78.79,2,2.97,2,40.26,2,0,2,30.64,2,34.3996,2,2.946,1,0.018,1,4.682,1,31.8,2
33RR20180918, GP15,19,7,33,GSNIS-34   ,2,6788,14003,20181027,1248,17.4999,-152.0002,5222,655.5,5.6171,34.4101,2,-999,9,20181027,1326,17.4999,-152.0003,78.69,2,2.96,2,40.1,2,0,2,-999,9,-999,9,2.948,1,0.018,1,4.682,1,31.9,2
33RR20180918, GP15,19,7,34,GSNIS-35   ,2,6788,14002,20181027,1248,17.4999,-152.0002,5222,554.5,6.1675,34.3603,2,6.1673,2,20181027,1329,17.4999,-152.0002,70.29,2,2.9,2,38.74,2,0,2,29.04,2,34.3492,2,2.994,1,0.017,1,4.681,1,31.5,2
33RR20180918, GP15,19,7,35,GSNIS-36   ,4,6788,14002,20181027,1248,17.4999,-152.0002,5222,554.6,6.1677,34.3595,3,-999,9,20181027,1329,17.4999,-152.0002,17.21,3,1.25,3,17.11,3,0,3,-999,9,-999,9,2.995,1,0.018,1,4.68,1,31.5,3
33RR20180918, GP15,19,7,36,GSNIS-1    ,2,6788,14002,20181027,1248,17.4999,-152.0002,5222,555.9,6.1696,34.3596,2,-999,9,20181027,1329,17.4999,-152.0002,69.9,2,2.87,2,38.43,2,0,2,-999,9,-999,9,2.996,1,0.017,1,4.681,1,31.5,2
33RR20180918, GP15,19,11,1,GSNIS-2    ,2,6792,14062,20181028,847,17.5,-152.0003,5222,5184.1,1.4255,34.6966,2,1.4256,2,20181028,847,17.5,-152.0003,135.25,2,2.36,2,34.41,2,0,2,174.45,2,34.6969,3,2.171,1,0.017,1,4.685,1,174.3,2
33RR20180918, GP15,19,11,2,GSNIS-3    ,2,6792,14062,20181028,847,17.5,-152.0003,5222,5185.7,1.4256,34.6967,2,-999,9,20181028,847,17.5,-152.0003,135.45,2,2.36,2,34.42,2,0,2,-999,9,-999,9,2.171,1,0.017,1,4.685,1,173.7,2
33RR20180918, GP15,19,11,3,GSNIS-4    ,2,6792,14062,20181028,847,17.5,-152.0003,5222,5184.1,1.4256,34.6965,2,-999,9,20181028,847,17.5,-152.0003,135.05,2,2.36,2,34.44,2,0,2,-999,9,-999,9,2.171,1,0.017,1,4.685,1,174.1,2
33RR20180918, GP15,19,11,4,GSNIS-5    ,2,6792,14062,20181028,847,17.5,-152.0003,5222,5184.6,1.4256,34.6967,2,-999,9,20181028,847,17.5,-152.0003,135.05,2,2.37,2,34.48,2,0,2,-999,9,-999,9,2.171,1,0.017,1,4.684,1,174.4,2
33RR20180918, GP15,19,11,5,GSNIS-6    ,2,6792,14061,20181028,847,17.5,-152.0003,5222,5143.5,1.4204,34.6966,2,1.4204,2,20181028,851,17.5,-152.0003,135.15,2,2.36,2,34.56,2,0,2,173.95,2,34.6967,3,2.169,1,0.017,1,4.685,1,173.8,2
33RR20180918, GP15,19,11,6,GSNIS-7    ,2,6792,14061,20181028,847,17.5,-152.0003,5222,5143.4,1.4204,34.6966,2,-999,9,20181028,851,17.5,-152.0003,135.15,2,2.36,2,34.61,2,0,2,-999,9,-999,9,2.169,1,0.017,1,4.685,1,174.3,2
33RR20180918, GP15,19,11,7,GSNIS-8    ,2,6792,14061,20181028,847,17.5,-152.0003,5222,5144.1,1.4206,34.6965,2,-999,9,20181028,851,17.5,-152.0003,135.05,2,2.37,2,34.67,2,0,2,-999,9,-999,9,2.169,1,0.017,1,4.685,1,174.5,2
33RR20180918, GP15,19,11,8,GSNIS-9    ,2,6792,14061,20181028,847,17.5,-152.0003,5222,5143.3,1.4204,34.6966,2,1.4204,2,20181028,851,17.5,-152.0003,134.76,2,2.37,2,34.64,2,0,2,-999,9,-999,9,2.169,1,0.017,1,4.685,1,174.8,2
33RR20180918, GP15,19,11,9,GSNIS-10   ,2,6792,14060,20181028,847,17.5,-152.0003,5222,5059.5,1.4132,34.6964,2,1.4132,2,20181028,854,17.5,-152.0003,135.05,2,2.4,2,34.66,2,0,2,173.97,2,34.6962,2,2.162,1,0.017,1,4.686,1,174.1,2
33RR20180918, GP15,19,11,10,GSNIS-11   ,2,6792,14060,20181028,847,17.5,-152.0003,5222,5058.8,1.4132,34.6964,2,-999,9,20181028,854,17.5,-152.0003,135.35,2,2.4,2,34.67,2,0,2,-999,9,-999,9,2.162,1,0.016,1,4.686,1,173.8,2
33RR20180918, GP15,19,11,11,GSNIS-12   ,2,6792,14060,20181028,847,17.5,-152.0003,5222,5058.4,1.4132,34.6964,2,-999,9,20181028,854,17.5,-152.0003,135.35,2,2.4,2,34.63,2,0,2,-999,9,-999,9,2.162,1,0.016,1,4.686,1,173.8,2
33RR20180918, GP15,19,11,12,GSNIS-13   ,2,6792,14060,20181028,847,17.5,-152.0003,5222,5059.4,1.4133,34.6963,2,-999,9,20181028,854,17.5,-152.0003,135.45,2,2.4,2,34.64,2,0,2,-999,9,-999,9,2.162,1,0.016,1,4.686,1,173.8,2
33RR20180918, GP15,19,11,13,GSNIS-14   ,2,6792,14059,20181028,847,17.5,-152.0003,5222,4578,1.4155,34.693,2,1.4152,2,20181028,903,17.5,-152.0003,141.11,2,2.45,2,35.26,2,0,2,165.33,2,34.6924,3,2.16,1,0.016,1,4.687,1,164.6,2
33RR20180918, GP15,19,11,14,GSNIS-15   ,2,6792,14059,20181028,847,17.5,-152.0003,5222,4578.6,1.4154,34.6931,2,-999,9,20181028,903,17.5,-152.0003,140.82,2,2.46,2,35.21,2,0,2,-999,9,-999,9,2.16,1,0.017,1,4.687,1,164.2,2
33RR20180918, GP15,19,11,15,GSNIS-16   ,2,6792,14058,20181028,847,17.5,-152.0003,5222,4061.3,1.4266,34.6888,2,1.4264,2,20181028,913,17.5,-152.0003,148.05,2,2.51,2,35.87,2,0,2,155.25,2,34.6877,3,2.185,1,0.017,1,4.688,1,155.2,2
33RR20180918, GP15,19,11,16,GSNIS-17   ,2,6792,14058,20181028,847,17.5,-152.0003,5222,4064,1.4264,34.6889,2,-999,9,20181028,913,17.5,-152.0003,148.25,2,2.5,2,35.81,2,0,2,-999,9,-999,9,2.186,1,0.016,1,4.688,1,155.7,2
33RR20180918, GP15,19,11,17,GSNIS-18   ,2,6792,14058,20181028,847,17.5,-152.0003,5222,4062,1.4266,34.6887,2,-999,9,20181028,913,17.5,-152.0003,148.25,2,2.51,2,35.76,2,0,2,-999,9,-999,9,2.186,1,0.017,1,4.688,1,155.1,2
33RR20180918, GP15,19,11,18,GSNIS-19   ,2,6792,14058,20181028,847,17.5,-152.0003,5222,4062.3,1.4268,34.6888,2,-999,9,20181028,913,17.5,-152.0003,147.95,2,2.51,2,35.71,2,0,2,-999,9,-999,9,2.186,1,0.016,1,4.688,1,155.3,2
33RR20180918, GP15,19,11,19,GSNIS-20   ,2,6792,14057,20181028,847,17.5,-152.0003,5222,3551.2,1.4955,34.681,2,1.4954,2,20181028,923,17.5,-152.0003,157.24,2,2.6,2,36.76,2,0,2,139.1,2,34.6796,3,2.232,1,0.017,1,4.688,1,139.7,2
33RR20180918, GP15,19,11,20,GSNIS-21   ,2,6792,14057,20181028,847,17.5,-152.0003,5222,3550,1.4956,34.681,2,-999,9,20181028,923,17.5,-152.0003,157.73,2,2.6,2,36.73,2,0,2,-999,9,-999,9,2.232,1,0.017,1,4.688,1,139.7,2
33RR20180918, GP15,19,11,21,GSNIS-22   ,2,6792,14056,20181028,847,17.5,-152.0003,5222,3040.3,1.6036,34.6714,2,1.6033,2,20181028,933,17.5001,-152.0003,159.68,2,2.64,2,37.64,2,0,2,124.62,2,34.6708,2,2.305,1,0.016,1,4.687,1,125.4,2
33RR20180918, GP15,19,11,22,GSNIS-23   ,2,6792,14056,20181028,847,17.5,-152.0003,5222,3040.8,1.6035,34.6715,2,-999,9,20181028,933,17.5001,-152.0003,159.49,2,2.65,2,37.65,2,0,2,-999,9,-999,9,2.305,1,0.016,1,4.687,1,125.2,2
33RR20180918, GP15,19,11,23,GSNIS-24   ,2,6792,14056,20181028,847,17.5,-152.0003,5222,3041.8,1.6036,34.6713,2,-999,9,20181028,933,17.5001,-152.0003,159.39,2,2.64,2,37.64,2,0,2,-999,9,-999,9,2.307,1,0.017,1,4.687,1,124.7,2
33RR20180918, GP15,19,11,24,GSNIS-25   ,2,6792,14056,20181028,847,17.5,-152.0003,5222,3040.5,1.6035,34.6714,2,-999,9,20181028,933,17.5001,-152.0003,159,2,2.64,2,37.63,2,0,2,-999,9,-999,9,2.307,1,0.017,1,4.687,1,124.4,2
33RR20180918, GP15,19,11,25,GSNIS-26   ,2,6792,14055,20181028,847,17.5,-152.0003,5222,2734,1.6867,34.6643,2,1.6865,2,20181028,939,17.5,-152.0003,157.83,2,2.68,2,38.08,2,0,2,117.8,2,34.6643,2,2.346,1,0.017,1,4.687,1,118.3,2
33RR20180918, GP15,19,11,26,GSNIS-27   ,2,6792,14055,20181028,847,17.5,-152.0003,5222,2734.6,1.6869,34.6646,2,-999,9,20181028,940,17.5,-152.0003,157.93,2,2.67,2,38.07,2,0,2,-999,9,-999,9,2.347,1,0.017,1,4.687,1,118.1,2
33RR20180918, GP15,19,11,27,GSNIS-28   ,2,6792,14054,20181028,847,17.5,-152.0003,5222,2531.5,1.7624,34.6573,2,1.7621,2,20181028,944,17.5,-152.0003,156.56,2,2.72,2,38.39,2,0,2,112.96,2,34.6578,2,2.369,1,0.017,1,4.686,1,112.8,2
33RR20180918, GP15,19,11,28,GSNIS-29   ,2,6792,14054,20181028,847,17.5,-152.0003,5222,2529.8,1.7624,34.6572,2,-999,9,20181028,944,17.5,-152.0003,156.56,2,2.71,2,38.4,2,0,2,-999,9,-999,9,2.37,1,0.017,1,4.686,1,112.8,2
33RR20180918, GP15,19,11,29,GSNIS-30   ,2,6792,14053,20181028,847,17.5,-152.0003,5222,2329.6,1.8436,34.6498,2,1.8436,2,20181028,949,17.5,-152.0003,154.8,2,2.74,2,38.73,2,0,2,107.01,2,34.6506,2,2.398,1,0.017,1,4.686,1,107.4,2
33RR20180918, GP15,19,11,30,GSNIS-31   ,2,6792,14053,20181028,847,17.5,-152.0003,5222,2326,1.8436,34.6497,2,-999,9,20181028,949,17.5,-152.0003,155.19,2,2.74,2,38.73,2,0,2,-999,9,-999,9,2.399,1,0.017,1,4.686,1,107.2,2
33RR20180918, GP15,19,11,31,GSNIS-32   ,2,6792,14052,20181028,847,17.5,-152.0003,5222,2123.8,1.9835,34.6381,2,1.9838,2,20181028,954,17.5,-152.0003,152.94,2,2.78,2,39.25,2,0,2,99.43,2,34.6374,2,2.426,1,0.016,1,4.686,1,98.6,2
33RR20180918, GP15,19,11,32,GSNIS-33   ,2,6792,14052,20181028,847,17.5,-152.0003,5222,2126,1.9834,34.6381,2,-999,9,20181028,954,17.5,-152.0003,152.55,2,2.78,2,39.23,2,0,2,-999,9,-999,9,2.429,1,0.017,1,4.686,1,99.1,2
33RR20180918, GP15,19,11,33,GSNIS-34   ,2,6792,14051,20181028,847,17.5,-152.0003,5222,1920.4,2.1408,34.6254,2,2.1417,2,20181028,959,17.5,-152.0003,149.82,2,2.8,2,39.75,2,0,2,91.08,2,34.625,2,2.471,1,0.017,1,4.685,1,90.2,2
33RR20180918, GP15,19,11,34,GSNIS-35   ,2,6792,14051,20181028,847,17.5,-152.0003,5222,1921.1,2.1416,34.6252,2,-999,9,20181028,959,17.5,-152.0003,149.43,2,2.8,2,39.73,2,0,2,-999,9,-999,9,2.471,1,0.017,1,4.686,1,90.6,2
33RR20180918, GP15,19,11,35,GSNIS-36   ,2,6792,14051,20181028,847,17.5,-152.0003,5222,1922.2,2.1415,34.6252,2,-999,9,20181028,959,17.5,-152.0003,149.92,2,2.8,2,39.76,2,0,2,-999,9,-999,9,2.474,1,0.017,1,4.685,1,90.7,2
33RR20180918, GP15,19,11,36,GSNIS-1    ,2,6792,14051,20181028,847,17.5,-152.0003,5222,1920,2.1428,34.6251,2,-999,9,20181028,959,17.5,-152.0003,149.23,2,2.8,2,39.69,2,0,2,-999,9,-999,9,2.474,1,0.017,1,4.686,1,90.3,2