BOTTLE,20191212SIOCCHAMB
EXPOCODE,SECT_ID,STNNBR,CASTNO,SAMPNO,BTLNBR,BTLNBR_FLAG_W,GEOTRC_EVENTNO,GEOTRC_SAMPNO,DATE,TIME,LATITUDE,LONGITUDE,DEPTH,CTDPRS,CTDTMP,CTDSAL,CTDSAL_FLAG_W,REFTMP,REFTMP_FLAG_W,BTL_DATE,BTL_TIME,BTL_LAT,BTL_LON,SILCAT,SILCAT_FLAG_W,PHSPHT,PHSPHT_FLAG_W,NITRAT,NITRAT_FLAG_W,NITRIT,NITRIT_FLAG_W,OXYGEN,OXYGEN_FLAG_W,SALNTY,SALNTY_FLAG_W,CTDRINKO,CTDRINKO_FLAG_W,CTDFLUOR,CTDFLUOR_FLAG_W,CTDXMISS,CTDXMISS_FLAG_W,CTDOXY,CTDOXY_FLAG_W
,,,,,,,,,,,,,METERS,DBAR,ITS-90,PSS-78,,ITS-90,,,,,,UMOL/KG,,UMOL/KG,,UMOL/KG,,UMOL/KG,,UMOL/KG,,PSS-78,,VOLTS,,VOLTS,,VOLTS,,UMOL/KG,
33RR20180918, GP15,14,3,1,GSNIS-2    ,2,6682,13413,20181013,1213,32.0003,-151.9999,5350,503.5,7.1904,34.001,2,7.1844,2,20181013,1213,32.0003,-151.9999,42.77,2,1.95,2,27.06,2,0.01,2,146.94,2,34.0042,2,1.784,1,0.017,1,4.686,1,148.9,2
33RR20180918, GP15,14,3,2,GSNIS-3    ,2,6682,13413,20181013,1213,32.0003,-151.9999,5350,504.6,7.1844,34.0012,2,-999,9,20181013,1213,32.0003,-151.9999,42.77,2,1.93,2,27.1,2,0,2,-999,9,-999,9,1.788,1,0.017,1,4.686,1,145.7,2
33RR20180918, GP15,14,3,3,GSNIS-4    ,2,6682,13413,20181013,1213,32.0003,-151.9999,5350,503.9,7.1856,34.0012,2,-999,9,20181013,1213,32.0003,-151.9999,42.87,2,1.92,2,27.11,2,0,2,-999,9,-999,9,1.794,1,0.017,1,4.687,1,145.4,2
33RR20180918, GP15,14,3,4,GSNIS-5    ,2,6682,13413,20181013,1213,32.0003,-151.9999,5350,503.8,7.1876,34.0013,2,-999,9,20181013,1213,32.0003,-151.9999,42.87,2,1.92,2,27.02,2,0,2,-999,9,-999,9,1.799,1,0.017,1,4.687,1,145.4,2
33RR20180918, GP15,14,3,5,GSNIS-6    ,2,6682,13412,20181013,1213,32.0003,-151.9999,5350,403.2,9.094,34.0807,2,9.0895,2,20181013,1216,32.0002,-151.9999,24.12,2,1.38,2,19.06,2,0.01,2,190.6,2,34.0821,2,1.887,1,0.017,1,4.689,1,190.2,2
33RR20180918, GP15,14,3,6,GSNIS-7    ,2,6682,13412,20181013,1213,32.0003,-151.9999,5350,403.1,9.0928,34.0806,2,-999,9,20181013,1216,32.0003,-151.9999,24.61,2,1.36,2,19.1,2,0,2,-999,9,-999,9,1.889,1,0.016,1,4.688,1,189.8,2
33RR20180918, GP15,14,3,7,GSNIS-8    ,2,6682,13412,20181013,1213,32.0003,-151.9999,5350,403.1,9.091,34.0807,2,-999,9,20181013,1216,32.0003,-151.9999,24.41,2,1.35,2,18.99,2,0,2,-999,9,-999,9,1.889,1,0.017,1,4.689,1,189.8,2
33RR20180918, GP15,14,3,8,GSNIS-9    ,2,6682,13411,20181013,1213,32.0003,-151.9999,5350,302.6,10.4405,34.1368,2,10.453,2,20181013,1219,32.0003,-151.9999,13.67,2,0.94,2,12.65,2,0.01,2,222.66,2,34.1412,2,1.844,1,0.016,1,4.69,1,219.9,2
33RR20180918, GP15,14,3,9,GSNIS-10   ,2,6682,13411,20181013,1213,32.0003,-151.9999,5350,301.8,10.4605,34.1374,2,-999,9,20181013,1219,32.0003,-151.9999,13.57,2,0.93,2,12.56,2,0,2,-999,9,-999,9,1.842,1,0.017,1,4.689,1,220.8,2
33RR20180918, GP15,14,3,10,GSNIS-11   ,2,6682,13411,20181013,1213,32.0003,-151.9999,5350,302.7,10.4494,34.1367,2,-999,9,20181013,1219,32.0003,-151.9999,13.48,2,0.93,2,12.55,2,0.01,2,-999,9,-999,9,1.839,1,0.016,1,4.689,1,220.1,2
33RR20180918, GP15,14,3,11,GSNIS-12   ,2,6682,13411,20181013,1213,32.0003,-151.9999,5350,301.8,10.4635,34.1375,2,-999,9,20181013,1220,32.0003,-151.9999,13.57,2,0.92,2,12.48,2,0.01,2,-999,9,-999,9,1.837,1,0.017,1,4.689,1,220.8,2
33RR20180918, GP15,14,3,12,GSNIS-13   ,2,6682,13410,20181013,1213,32.0003,-151.9999,5350,201.3,12.1905,34.257,2,12.1928,2,20181013,1223,32.0003,-151.9999,8.49,2,0.74,2,9.92,2,0.01,2,216.51,2,34.2606,2,1.717,1,0.017,1,4.686,1,215.7,2
33RR20180918, GP15,14,3,13,GSNIS-14   ,2,6682,13410,20181013,1213,32.0003,-151.9999,5350,201.2,12.2022,34.2582,2,-999,9,20181013,1223,32.0003,-151.9999,8.3,2,0.73,2,9.85,2,0.01,2,-999,9,-999,9,1.714,1,0.017,1,4.686,1,215.2,2
33RR20180918, GP15,14,3,14,GSNIS-15   ,2,6682,13410,20181013,1213,32.0003,-151.9999,5350,201.2,12.1908,34.2581,2,-999,9,20181013,1223,32.0003,-151.9999,8.3,2,0.74,2,9.89,2,0.01,2,-999,9,-999,9,1.711,1,0.017,1,4.687,1,215.3,2
33RR20180918, GP15,14,3,15,GSNIS-16   ,2,6682,13409,20181013,1213,32.0003,-151.9999,5350,151,13.8728,34.3474,3,13.898,3,20181013,1225,32.0002,-151.9999,4,2,0.46,2,5.42,2,0.02,2,220.62,2,34.3511,3,1.653,1,0.024,1,4.679,1,221.4,2
33RR20180918, GP15,14,3,16,GSNIS-17   ,2,6682,13409,20181013,1213,32.0003,-151.9999,5350,150.7,13.874,34.3486,2,-999,9,20181013,1225,32.0003,-151.9999,4,2,0.46,2,5.42,2,0.02,2,-999,9,-999,9,1.65,1,0.024,1,4.679,1,220.7,2
33RR20180918, GP15,14,3,17,GSNIS-18   ,2,6682,13409,20181013,1213,32.0003,-151.9999,5350,151.3,13.9235,34.35,2,-999,9,20181013,1225,32.0002,-151.9999,3.91,2,0.45,2,5.36,2,0.03,2,-999,9,-999,9,1.648,1,0.025,1,4.679,1,222.6,2
33RR20180918, GP15,14,3,18,GSNIS-19   ,2,6682,13408,20181013,1213,32.0003,-151.9999,5350,135.7,14.2817,34.3283,2,14.2835,2,20181013,1226,32.0003,-151.9999,3.03,2,0.36,2,3.64,2,0.04,2,227.03,2,34.3325,2,1.636,1,0.028,1,4.674,1,227.5,2
33RR20180918, GP15,14,3,19,GSNIS-20   ,2,6682,13408,20181013,1213,32.0003,-151.9999,5350,136.2,14.2825,34.3281,2,-999,9,20181013,1227,32.0002,-151.9999,2.83,2,0.34,2,3.4,2,0.04,2,-999,9,-999,9,1.636,1,0.027,1,4.675,1,228.5,2
33RR20180918, GP15,14,3,20,GSNIS-21   ,2,6682,13407,20181013,1213,32.0003,-151.9999,5350,125.9,14.6056,34.3539,2,14.6331,2,20181013,1228,32.0003,-151.9999,2.25,2,0.26,2,1.67,2,0.12,2,231.25,2,34.365,2,1.626,1,0.03,1,4.671,1,230.8,2
33RR20180918, GP15,14,3,21,GSNIS-22   ,2,6682,13407,20181013,1213,32.0003,-151.9999,5350,126.1,14.6313,34.3551,2,-999,9,20181013,1228,32.0003,-151.9999,2.25,2,0.24,2,1.53,2,0.13,2,-999,9,-999,9,1.626,1,0.031,1,4.671,1,231.1,2
33RR20180918, GP15,14,3,22,GSNIS-23   ,2,6682,13407,20181013,1213,32.0003,-151.9999,5350,126,14.6682,34.359,2,-999,9,20181013,1228,32.0003,-151.9999,2.05,2,0.24,2,1.54,2,0.13,2,-999,9,-999,9,1.625,1,0.03,1,4.671,1,231.4,2
33RR20180918, GP15,14,3,23,GSNIS-24   ,2,6682,13406,20181013,1213,32.0003,-151.9999,5350,115.5,15.2479,34.4119,2,15.2396,2,20181013,1229,32.0003,-151.9999,1.76,2,0.17,2,0.09,2,0.26,2,235.74,2,34.418,2,1.613,1,0.034,1,4.665,1,238.1,2
33RR20180918, GP15,14,3,24,GSNIS-25   ,2,6682,13406,20181013,1213,32.0003,-151.9999,5350,115.9,15.2321,34.4116,2,-999,9,20181013,1230,32.0003,-151.9999,1.56,2,0.17,2,0.13,2,0.26,2,-999,9,-999,9,1.612,1,0.034,1,4.665,1,236.3,2
33RR20180918, GP15,14,3,25,GSNIS-26   ,2,6682,13405,20181013,1213,32.0003,-151.9999,5350,101.1,15.8986,34.4595,2,15.8759,2,20181013,1231,32.0002,-151.9999,1.17,2,0.1,2,0,2,0,2,244.06,2,34.4581,2,1.591,1,0.038,1,4.66,1,244.1,2
33RR20180918, GP15,14,3,26,GSNIS-27   ,2,6682,13405,20181013,1213,32.0003,-151.9999,5350,100.6,15.8642,34.4572,2,-999,9,20181013,1231,32.0002,-151.9999,1.27,2,0.1,2,0,2,0,2,-999,9,-999,9,1.59,1,0.039,1,4.66,1,243.5,2
33RR20180918, GP15,14,3,27,GSNIS-28   ,2,6682,13405,20181013,1213,32.0003,-151.9999,5350,100.9,15.8868,34.4582,2,-999,9,20181013,1231,32.0002,-151.9999,1.37,2,0.09,2,0,2,0,2,-999,9,-999,9,1.589,1,0.038,1,4.66,1,244.6,2
33RR20180918, GP15,14,3,28,GSNIS-29   ,2,6682,13404,20181013,1213,32.0003,-151.9999,5350,76.6,17.1302,34.5504,2,17.1286,2,20181013,1233,32.0003,-151.9999,1.17,2,0.05,2,0,2,0,2,250.21,2,34.5471,2,1.56,1,0.028,1,4.65,1,252.2,2
33RR20180918, GP15,14,3,29,GSNIS-30   ,2,6682,13404,20181013,1213,32.0003,-151.9999,5350,75.1,17.13,34.5507,2,-999,9,20181013,1233,32.0003,-151.9999,1.07,2,0.04,2,0,2,0,2,-999,9,-999,9,1.559,1,0.028,1,4.65,1,252.7,2
33RR20180918, GP15,14,3,30,GSNIS-31   ,2,6682,13404,20181013,1213,32.0003,-151.9999,5350,75.8,17.1237,34.5476,2,-999,9,20181013,1233,32.0003,-151.9999,0.88,2,0.04,2,0,2,0,2,-999,9,-999,9,1.558,1,0.028,1,4.65,1,252.3,2
33RR20180918, GP15,14,3,31,GSNIS-32   ,2,6682,13403,20181013,1213,32.0003,-151.9999,5350,45.8,19.6413,34.598,3,19.8951,3,20181013,1236,32.0003,-151.9999,0.39,2,0.01,2,0,2,0,2,237.28,2,34.8232,4,1.515,1,0.023,1,4.625,1,235.1,2
33RR20180918, GP15,14,3,32,GSNIS-33   ,2,6682,13403,20181013,1213,32.0003,-151.9999,5350,45.5,19.9276,34.6655,2,-999,9,20181013,1236,32.0003,-151.9999,0.2,2,0.03,2,0,2,0,2,-999,9,-999,9,1.513,1,0.022,1,4.626,1,235.7,2
33RR20180918, GP15,14,3,33,GSNIS-34   ,2,6682,13403,20181013,1213,32.0003,-151.9999,5350,45.8,19.9694,34.6377,2,-999,9,20181013,1236,32.0003,-151.9999,0,2,0.01,2,0,2,0,2,-999,9,-999,9,1.512,1,0.022,1,4.625,1,245.4,2
33RR20180918, GP15,14,3,34,GSNIS-35   ,2,6682,13402,20181013,1213,32.0003,-151.9999,5350,25.2,23.327,35.1659,2,23.3263,2,20181013,1238,32.0003,-151.9999,0,2,0,2,0,2,0,2,215.6,2,35.1661,2,1.355,1,0.018,1,4.637,1,214.1,2
33RR20180918, GP15,14,3,35,GSNIS-36   ,2,6682,13402,20181013,1213,32.0003,-151.9999,5350,25.8,23.3297,35.1653,2,-999,9,20181013,1238,32.0003,-151.9999,0,2,0,2,0,2,0,2,-999,9,-999,9,1.361,1,0.019,1,4.639,1,214.6,2
33RR20180918, GP15,14,3,36,GSNIS-1    ,2,6682,13402,20181013,1213,32.0003,-151.9999,5350,25.3,23.3288,35.1656,2,-999,9,20181013,1238,32.0003,-151.9999,0,2,0,2,0,2,0,2,-999,9,-999,9,1.365,1,0.019,1,4.639,1,216.1,2
33RR20180918, GP15,14,5,1,GSNIS-2    ,2,6687,13452,20181013,1917,32.0003,-151.9999,5350,504.3,7.0123,33.997,2,6.9936,2,20181013,1917,32.0002,-151.9999,45.02,2,1.97,2,27.71,2,0,2,143.21,2,33.998,2,1.776,1,0.018,1,4.686,1,140.8,2
33RR20180918, GP15,14,5,2,GSNIS-3    ,2,6687,13452,20181013,1917,32.0003,-151.9999,5350,503.9,7.0039,33.9968,2,-999,9,20181013,1917,32.0002,-151.9999,45.02,2,1.96,2,27.7,2,0.01,2,-999,9,-999,9,1.78,1,0.017,1,4.686,1,140.7,2
33RR20180918, GP15,14,5,3,GSNIS-4    ,2,6687,13452,20181013,1917,32.0003,-151.9999,5350,504.8,6.9523,33.9977,2,-999,9,20181013,1917,32.0002,-151.9998,45.51,2,1.96,2,27.78,2,0.01,2,-999,9,-999,9,1.784,1,0.017,1,4.685,1,141.8,2
33RR20180918, GP15,14,5,4,GSNIS-5    ,2,6687,13451,20181013,1917,32.0003,-151.9999,5350,404.2,8.9183,34.0711,2,8.9093,2,20181013,1921,32.0002,-151.9999,26.66,2,1.4,2,19.92,2,0.01,2,185.53,2,34.0696,2,1.886,1,0.016,1,4.688,1,186.5,2
33RR20180918, GP15,14,5,5,GSNIS-6    ,2,6687,13451,20181013,1917,32.0003,-151.9999,5350,402.3,8.902,34.0714,2,-999,9,20181013,1921,32.0002,-151.9999,26.46,2,1.39,2,19.85,2,0.01,2,-999,9,-999,9,1.889,1,0.017,1,4.687,1,186.6,2
33RR20180918, GP15,14,5,6,GSNIS-7    ,2,6687,13450,20181013,1917,32.0003,-151.9999,5350,301.9,10.5602,34.1425,2,10.5725,2,20181013,1924,32.0003,-151.9999,13.57,2,0.9,2,12.41,2,0.01,2,223.17,2,34.1422,2,1.866,1,0.016,1,4.689,1,221,2
33RR20180918, GP15,14,5,7,GSNIS-8    ,2,6687,13450,20181013,1917,32.0003,-151.9999,5350,302.8,10.5623,34.1426,2,-999,9,20181013,1924,32.0003,-151.9999,13.38,2,0.89,2,12.35,2,0.01,2,-999,9,-999,9,1.863,1,0.017,1,4.689,1,222,2
33RR20180918, GP15,14,5,8,GSNIS-9    ,2,6687,13450,20181013,1917,32.0003,-151.9999,5350,302.3,10.571,34.1426,2,-999,9,20181013,1924,32.0003,-151.9999,13.38,2,0.9,2,12.38,2,0.01,2,-999,9,-999,9,1.861,1,0.017,1,4.688,1,221.9,2
33RR20180918, GP15,14,5,9,GSNIS-10   ,2,6687,13449,20181013,1917,32.0003,-151.9999,5350,150.7,13.6314,34.3436,2,13.6282,2,20181013,1928,32.0003,-151.9999,5.27,2,0.51,2,6.62,2,0.02,2,215.86,2,34.3458,2,1.717,1,0.022,1,4.681,1,216.7,2
33RR20180918, GP15,14,5,10,GSNIS-11   ,2,6687,13449,20181013,1917,32.0003,-151.9999,5350,151.8,13.6227,34.3434,2,-999,9,20181013,1928,32.0003,-151.9999,5.27,2,0.52,2,6.63,2,0.02,2,-999,9,-999,9,1.713,1,0.023,1,4.68,1,216.7,2
33RR20180918, GP15,14,5,11,GSNIS-12   ,2,6687,13449,20181013,1917,32.0003,-151.9999,5350,150.3,13.6276,34.3439,2,-999,9,20181013,1928,32.0003,-151.9999,5.08,2,0.51,2,6.59,2,0.02,2,-999,9,-999,9,1.711,1,0.022,1,4.68,1,216.7,2
33RR20180918, GP15,14,5,12,GSNIS-13   ,2,6687,13448,20181013,1917,32.0003,-151.9999,5350,125.5,14.7174,34.3652,2,14.7531,2,20181013,1930,32.0003,-151.9999,2.83,2,0.25,2,1.63,2,0.16,2,231.41,2,34.3697,2,1.689,1,0.032,1,4.669,1,231.5,2
33RR20180918, GP15,14,5,13,GSNIS-14   ,2,6687,13448,20181013,1917,32.0003,-151.9999,5350,126,14.721,34.3662,2,-999,9,20181013,1930,32.0003,-151.9999,2.73,2,0.23,2,1.48,2,0.17,2,-999,9,-999,9,1.688,1,0.032,1,4.67,1,233.3,2
33RR20180918, GP15,14,5,14,GSNIS-15   ,2,6687,13448,20181013,1917,32.0003,-151.9999,5350,125.4,14.7793,34.3726,2,-999,9,20181013,1930,32.0003,-151.9999,2.73,2,0.23,2,1.62,2,0.16,2,-999,9,-999,9,1.687,1,0.027,1,4.669,1,234.1,2
33RR20180918, GP15,14,5,15,GSNIS-16   ,2,6687,13447,20181013,1917,32.0003,-151.9999,5350,100.8,16.3594,34.478,3,16.4768,3,20181013,1932,32.0003,-151.9999,1.66,2,0.06,2,0,2,0,2,247.21,2,34.4779,3,1.657,1,0.032,1,4.657,1,248.3,2
33RR20180918, GP15,14,5,16,GSNIS-17   ,2,6687,13447,20181013,1917,32.0003,-151.9999,5350,101.1,16.4893,34.4871,2,-999,9,20181013,1932,32.0003,-151.9999,1.66,2,0.06,2,0,2,0,2,-999,9,-999,9,1.655,1,0.03,1,4.656,1,250.3,2
33RR20180918, GP15,14,5,17,GSNIS-18   ,2,6687,13447,20181013,1917,32.0003,-151.9999,5350,100.6,16.4519,34.485,2,-999,9,20181013,1932,32.0003,-151.9999,1.66,2,0.07,2,0,2,0,2,-999,9,-999,9,1.653,1,0.029,1,4.655,1,249.3,2
33RR20180918, GP15,14,5,18,GSNIS-19   ,2,6687,13447,20181013,1917,32.0003,-151.9999,5350,100.8,16.5499,34.4927,2,-999,9,20181013,1932,32.0003,-151.9999,1.66,2,0.07,2,0,2,0,2,-999,9,-999,9,1.651,1,0.031,1,4.655,1,250.5,2
33RR20180918, GP15,14,5,19,GSNIS-20   ,2,6687,13446,20181013,1917,32.0003,-151.9999,5350,85.4,17.0319,34.4847,2,17.0382,2,20181013,1934,32.0003,-151.9999,1.76,2,0.05,2,0,2,0,2,252.73,2,34.4709,2,1.626,1,0.027,1,4.581,1,249.1,2
33RR20180918, GP15,14,5,20,GSNIS-21   ,2,6687,13446,20181013,1917,32.0003,-151.9999,5350,86.4,17.0408,34.4762,2,-999,9,20181013,1934,32.0003,-151.9999,1.76,2,0.04,2,0,2,0,2,-999,9,-999,9,1.625,1,0.027,1,4.58,1,253.6,2
33RR20180918, GP15,14,5,21,GSNIS-22   ,2,6687,13445,20181013,1917,32.0003,-151.9999,5350,75.1,17.5335,34.4709,3,17.5329,3,20181013,1936,32.0003,-151.9999,1.76,2,0.03,2,0,2,0,2,256.32,2,34.4691,3,1.596,1,0.023,1,4.646,1,258.6,2
33RR20180918, GP15,14,5,22,GSNIS-23   ,2,6687,13445,20181013,1917,32.0003,-151.9999,5350,75.8,17.5285,34.4687,2,-999,9,20181013,1936,32.0003,-151.9999,1.66,2,0.04,2,0,2,0,2,-999,9,-999,9,1.595,1,0.024,1,4.647,1,258,2
33RR20180918, GP15,14,5,23,GSNIS-24   ,2,6687,13445,20181013,1917,32.0003,-151.9999,5350,75.8,17.53,34.4703,2,-999,9,20181013,1936,32.0003,-151.9999,1.76,2,0.05,2,0,2,0,2,-999,9,-999,9,1.593,1,0.025,1,4.645,1,258.7,2
33RR20180918, GP15,14,5,24,GSNIS-25   ,2,6687,13444,20181013,1917,32.0003,-151.9999,5350,60.3,18.3048,34.4572,2,18.3067,2,20181013,1938,32.0003,-151.9999,1.66,2,0.04,2,0,2,0,2,259.65,2,34.4556,2,1.551,1,0.024,1,4.558,1,260.4,2
33RR20180918, GP15,14,5,25,GSNIS-26   ,2,6687,13444,20181013,1917,32.0003,-151.9999,5350,60.7,18.3153,34.4612,2,-999,9,20181013,1938,32.0003,-151.9999,1.66,2,0.03,2,0,2,0,2,-999,9,-999,9,1.55,1,0.023,1,4.557,1,259.4,2
33RR20180918, GP15,14,5,26,GSNIS-27   ,2,6687,13444,20181013,1917,32.0003,-151.9999,5350,60.1,18.3209,34.4588,2,-999,9,20181013,1938,32.0003,-151.9999,1.07,2,0.04,2,0,2,0,2,-999,9,-999,9,1.548,1,0.023,1,4.555,1,259.3,2
33RR20180918, GP15,14,5,27,GSNIS-28   ,2,6687,13443,20181013,1917,32.0003,-151.9999,5350,45.5,23.1914,35.1234,3,23.2101,3,20181013,1940,32.0003,-151.9999,0,2,0,2,0,2,0,2,218.12,2,35.1124,3,1.377,1,0.019,1,4.537,1,216.7,2
33RR20180918, GP15,14,5,28,GSNIS-29   ,2,6687,13443,20181013,1917,32.0003,-151.9999,5350,45.4,23.1746,35.1204,2,-999,9,20181013,1940,32.0003,-151.9999,0,2,0,2,0,2,0,2,-999,9,-999,9,1.369,1,0.019,1,4.556,1,216.7,2
33RR20180918, GP15,14,5,29,GSNIS-30   ,2,6687,13443,20181013,1917,32.0003,-151.9999,5350,46.3,23.2493,35.131,2,-999,9,20181013,1940,32.0003,-151.9999,0,2,0,2,0,2,0,2,-999,9,-999,9,1.363,1,0.019,1,4.64,1,216.5,2
33RR20180918, GP15,14,5,30,GSNIS-31   ,2,6687,13442,20181013,1917,32.0003,-151.9999,5350,38.5,23.2601,35.1354,2,23.2642,2,20181013,1941,32.0003,-151.9999,0,2,0,2,0,2,0,2,215.69,2,35.1341,2,1.401,1,0.019,1,4.564,1,216.3,2
33RR20180918, GP15,14,5,31,GSNIS-32   ,2,6687,13442,20181013,1917,32.0003,-151.9999,5350,38.7,23.2656,35.1357,2,-999,9,20181013,1941,32.0003,-151.9999,0,2,0,2,0,2,0,2,-999,9,-999,9,1.401,1,0.019,1,4.566,1,217.1,2
33RR20180918, GP15,14,5,32,GSNIS-33   ,2,6687,13442,20181013,1917,32.0003,-151.9999,5350,39,23.2664,35.1359,2,-999,9,20181013,1942,32.0003,-151.9999,0,2,0,2,0,2,0,2,-999,9,-999,9,1.401,1,0.019,1,4.564,1,217.3,2
33RR20180918, GP15,14,5,33,GSNIS-34   ,2,6687,13441,20181013,1917,32.0003,-151.9999,5350,25.4,23.2605,35.1365,2,23.2634,2,20181013,1943,32.0003,-151.9999,0,2,0,2,0,2,0,2,215.7,2,35.1358,2,1.394,1,0.019,1,4.637,1,216,2
33RR20180918, GP15,14,5,34,GSNIS-35   ,2,6687,13441,20181013,1917,32.0003,-151.9999,5350,25.4,23.2627,35.1366,2,-999,9,20181013,1943,32.0003,-151.9999,0,2,0,2,0,2,0,2,-999,9,-999,9,1.392,1,0.019,1,4.636,1,215.3,2
33RR20180918, GP15,14,5,35,GSNIS-36   ,2,6687,13441,20181013,1917,32.0003,-151.9999,5350,25.6,23.2615,35.1364,2,-999,9,20181013,1944,32.0003,-151.9999,0,2,0,2,0,2,0,2,-999,9,-999,9,1.391,1,0.019,1,4.637,1,216.4,2
33RR20180918, GP15,14,5,36,GSNIS-1    ,2,6687,13440,20181013,1917,32.0003,-151.9999,5350,3.2,23.2365,35.0635,2,23.2388,2,20181013,1946,32.0003,-151.9999,0,2,0,2,0,2,0,2,215.92,2,35.0629,2,1.357,1,0.018,1,4.635,1,216.5,2