BOTTLE,20191212SIOCCHAMB
EXPOCODE,SECT_ID,STNNBR,CASTNO,SAMPNO,BTLNBR,BTLNBR_FLAG_W,GEOTRC_EVENTNO,GEOTRC_SAMPNO,DATE,TIME,LATITUDE,LONGITUDE,DEPTH,CTDPRS,CTDTMP,CTDSAL,CTDSAL_FLAG_W,REFTMP,REFTMP_FLAG_W,BTL_DATE,BTL_TIME,BTL_LAT,BTL_LON,SILCAT,SILCAT_FLAG_W,PHSPHT,PHSPHT_FLAG_W,NITRAT,NITRAT_FLAG_W,NITRIT,NITRIT_FLAG_W,OXYGEN,OXYGEN_FLAG_W,SALNTY,SALNTY_FLAG_W,CTDRINKO,CTDRINKO_FLAG_W,CTDFLUOR,CTDFLUOR_FLAG_W,CTDXMISS,CTDXMISS_FLAG_W,CTDOXY,CTDOXY_FLAG_W
,,,,,,,,,,,,,METERS,DBAR,ITS-90,PSS-78,,ITS-90,,,,,,UMOL/KG,,UMOL/KG,,UMOL/KG,,UMOL/KG,,UMOL/KG,,PSS-78,,VOLTS,,VOLTS,,VOLTS,,UMOL/KG,
33RR20180918, GP15,4,8,1,GSNIS-1    ,2,6564,12653,20180929,1405,54.6601,-155.1706,5716,2540.4,1.6516,34.6357,2,1.6505,2,20180929,1405,54.6601,-155.1706,169.94,2,2.74,2,39.85,2,0,2,95.31,2,34.6368,2,2.599,1,0.017,1,4.703,1,94.2,2
33RR20180918, GP15,4,8,2,GSNIS-2    ,2,6564,12653,20180929,1405,54.6601,-155.1706,5716,2541.7,1.6505,34.636,2,-999,9,20180929,1405,54.6601,-155.1706,170.52,2,2.74,2,39.9,2,0,2,-999,9,-999,9,2.598,1,0.017,1,4.704,1,95.3,2
33RR20180918, GP15,4,8,3,GSNIS-3    ,2,6564,12653,20180929,1405,54.6601,-155.1706,5716,2540.3,1.6512,34.6359,2,-999,9,20180929,1405,54.6601,-155.1706,170.23,2,2.75,2,39.87,2,0,2,-999,9,-999,9,2.597,1,0.017,1,4.703,1,94.4,2
33RR20180918, GP15,4,8,4,GSNIS-4    ,2,6564,12653,20180929,1405,54.6601,-155.1706,5716,2539.7,1.6509,34.6359,2,1.65,2,20180929,1406,54.6601,-155.1706,169.84,2,2.73,2,39.94,2,0,2,-999,9,-999,9,2.596,1,0.017,1,4.704,1,94,2
33RR20180918, GP15,4,8,5,GSNIS-5    ,2,6564,12652,20180929,1405,54.6601,-155.1706,5716,2284.8,1.731,34.62,2,1.7305,2,20180929,1412,54.6601,-155.1706,170.72,2,2.8,2,40.7,2,0,2,83.23,2,34.6209,2,2.614,1,0.018,1,4.703,1,80.4,3
33RR20180918, GP15,4,8,6,GSNIS-6    ,2,6564,12652,20180929,1405,54.6601,-155.1706,5716,2284.7,1.7308,34.6202,2,-999,9,20180929,1412,54.6601,-155.1706,171.6,2,2.81,2,40.83,2,0,2,-999,9,-999,9,2.615,1,0.018,1,4.703,1,81,2
33RR20180918, GP15,4,8,7,GSNIS-7    ,2,6564,12651,20180929,1405,54.6601,-155.1706,5716,2028.8,1.8368,34.5985,2,1.8363,2,20180929,1419,54.66,-155.1706,171.31,2,2.88,2,41.63,2,0,2,67.56,2,34.5989,2,2.748,1,0.017,1,4.701,1,67.1,2
33RR20180918, GP15,4,8,8,GSNIS-8    ,2,6564,12651,20180929,1405,54.6601,-155.1706,5716,2030.3,1.8369,34.5984,2,-999,9,20180929,1419,54.66,-155.1706,171.02,2,2.89,2,41.65,2,0,2,-999,9,-999,9,2.749,1,0.017,1,4.701,1,66.1,2
33RR20180918, GP15,4,8,9,GSNIS-9    ,2,6564,12651,20180929,1405,54.6601,-155.1706,5716,2029.2,1.8374,34.5985,2,-999,9,20180929,1419,54.66,-155.1706,171.21,2,2.89,2,41.65,2,0,2,-999,9,-999,9,2.751,1,0.017,1,4.701,1,66.7,2
33RR20180918, GP15,4,8,10,GSNIS-10   ,2,6564,12651,20180929,1405,54.6601,-155.1706,5716,2028.6,1.8377,34.5981,2,1.8367,2,20180929,1419,54.66,-155.1706,171.12,2,2.88,2,41.63,2,0,2,-999,9,-999,9,2.752,1,0.017,1,4.7,1,66.7,2
33RR20180918, GP15,4,8,11,GSNIS-11   ,2,6564,12650,20180929,1405,54.6601,-155.1706,5716,1825.7,1.9396,34.5769,2,1.9386,2,20180929,1425,54.66,-155.1706,168.97,2,2.93,2,42.32,2,0,2,56.82,2,34.5766,2,2.827,1,0.018,1,4.7,1,54.4,3
33RR20180918, GP15,4,8,12,GSNIS-12   ,2,6564,12650,20180929,1405,54.6601,-155.1706,5716,1824.8,1.9395,34.5769,2,-999,9,20180929,1425,54.66,-155.1706,169.75,2,2.93,2,42.27,2,0.01,2,-999,9,-999,9,2.828,1,0.017,1,4.699,1,56.5,2
33RR20180918, GP15,4,8,13,GSNIS-13   ,2,6564,12649,20180929,1405,54.6601,-155.1706,5716,1624.2,2.058,34.5526,2,2.0579,2,20180929,1430,54.66,-155.1705,167.8,2,2.98,2,43.02,2,0,2,45.23,2,34.5536,2,2.929,1,0.017,1,4.702,1,44,2
33RR20180918, GP15,4,8,14,GSNIS-14   ,2,6564,12649,20180929,1405,54.6601,-155.1706,5716,1621.5,2.0591,34.5523,2,-999,9,20180929,1430,54.66,-155.1705,167.7,2,2.99,2,42.98,2,0,2,-999,9,-999,9,2.93,1,0.017,1,4.701,1,43.8,2
33RR20180918, GP15,4,8,15,GSNIS-15   ,2,6564,12649,20180929,1405,54.6601,-155.1706,5716,1622.2,2.0592,34.5526,2,-999,9,20180929,1430,54.66,-155.1705,167.61,2,3,2,43.07,2,0,2,-999,9,-999,9,2.931,1,0.017,1,4.701,1,44.1,2
33RR20180918, GP15,4,8,16,GSNIS-16   ,2,6564,12649,20180929,1405,54.6601,-155.1706,5716,1624.8,2.0586,34.5527,2,-999,9,20180929,1431,54.66,-155.1705,167.61,2,3,2,43.01,2,0.01,2,-999,9,-999,9,2.932,1,0.017,1,4.701,1,44.9,2
33RR20180918, GP15,4,8,17,GSNIS-17   ,2,6564,12648,20180929,1405,54.6601,-155.1706,5716,1421.6,2.2849,34.5066,2,2.2846,2,20180929,1437,54.6601,-155.1705,162.93,2,3.07,2,43.9,2,0.01,2,31.78,2,34.5077,2,3.096,1,0.017,1,4.696,1,29,3
33RR20180918, GP15,4,8,18,GSNIS-18   ,2,6564,12648,20180929,1405,54.6601,-155.1706,5716,1419.5,2.2858,34.5064,2,-999,9,20180929,1437,54.6601,-155.1705,162.73,2,3.05,2,43.89,2,0.01,2,-999,9,-999,9,3.098,1,0.017,1,4.702,1,30.2,2
33RR20180918, GP15,4,8,19,GSNIS-19   ,2,6564,12647,20180929,1405,54.6601,-155.1706,5716,1216.5,2.5033,34.4613,2,2.5024,2,20180929,1443,54.6601,-155.1706,156.88,2,3.09,2,44.38,2,0,2,20.89,2,34.4626,2,3.219,1,0.017,1,4.701,1,21.1,2
33RR20180918, GP15,4,8,20,GSNIS-20   ,2,6564,12647,20180929,1405,54.6601,-155.1706,5716,1217.9,2.5029,34.4614,2,-999,9,20180929,1443,54.6601,-155.1706,155.9,2,3.1,2,44.31,2,0,2,-999,9,-999,9,3.22,1,0.017,1,4.701,1,21.8,2
33RR20180918, GP15,4,8,21,GSNIS-21   ,2,6564,12647,20180929,1405,54.6601,-155.1706,5716,1215.8,2.5035,34.4612,2,-999,9,20180929,1443,54.6601,-155.1706,156.59,2,3.11,2,44.36,2,0,2,-999,9,-999,9,3.22,1,0.018,1,4.701,1,21.5,2
33RR20180918, GP15,4,8,22,GSNIS-22   ,2,6564,12647,20180929,1405,54.6601,-155.1706,5716,1217.9,2.5031,34.4613,2,-999,9,20180929,1443,54.66,-155.1706,156.59,2,3.1,2,44.35,2,0,2,-999,9,-999,9,3.221,1,0.018,1,4.701,1,22.1,2
33RR20180918, GP15,4,8,23,GSNIS-23   ,2,6564,12646,20180929,1405,54.6601,-155.1706,5716,1014.2,2.7814,34.4051,2,2.7805,2,20180929,1448,54.66,-155.1705,148.2,2,3.13,2,44.5,2,0,2,17.51,2,34.4066,2,3.282,1,0.018,1,4.701,1,16.4,2
33RR20180918, GP15,4,8,24,GSNIS-24   ,2,6564,12646,20180929,1405,54.6601,-155.1706,5716,1015.2,2.7792,34.4056,2,2.7791,2,20180929,1449,54.66,-155.1706,147.81,2,3.14,2,44.44,2,0,2,-999,9,-999,9,3.285,1,0.018,1,4.701,1,16.9,2
33RR20180918, GP15,4,8,25,GSNIS-25   ,2,6564,12645,20180929,1405,54.6601,-155.1706,5716,812.1,3.1301,34.3303,2,3.1297,2,20180929,1455,54.6601,-155.1706,136.1,2,3.15,2,44.43,2,0,2,14.26,2,34.3315,2,3.308,1,0.018,1,4.7,1,15,2
33RR20180918, GP15,4,8,26,GSNIS-26   ,2,6564,12645,20180929,1405,54.6601,-155.1706,5716,810.3,3.1319,34.33,2,-999,9,20180929,1455,54.6601,-155.1706,136.49,2,3.14,2,44.34,2,0,2,-999,9,-999,9,3.308,1,0.018,1,4.699,1,15,2
33RR20180918, GP15,4,8,27,GSNIS-27   ,2,6564,12645,20180929,1405,54.6601,-155.1706,5716,814.1,3.1293,34.3306,2,-999,9,20180929,1455,54.6601,-155.1706,136.69,2,3.13,2,44.38,2,0,2,-999,9,-999,9,3.308,1,0.018,1,4.699,1,16.1,2
33RR20180918, GP15,4,8,28,GSNIS-28   ,2,6564,12645,20180929,1405,54.6601,-155.1706,5716,810.4,3.132,34.3297,2,-999,9,20180929,1455,54.6601,-155.1706,136.88,2,3.13,2,44.4,2,0,2,-999,9,-999,9,3.308,1,0.018,1,4.698,1,15.5,2
33RR20180918, GP15,4,8,29,GSNIS-29   ,2,6564,12644,20180929,1405,54.6601,-155.1706,5716,610.9,3.4751,34.2369,2,3.4742,2,20180929,1501,54.66,-155.1706,123.61,2,3.12,2,44.2,2,0,2,14.97,2,34.2381,2,3.301,1,0.018,1,4.7,1,16.8,2
33RR20180918, GP15,4,8,30,GSNIS-30   ,2,6564,12644,20180929,1405,54.6601,-155.1706,5716,609.7,3.475,34.2367,2,-999,9,20180929,1501,54.66,-155.1706,123.22,2,3.11,2,44.2,2,0,2,-999,9,-999,9,3.3,1,0.018,1,4.7,1,16.8,2
33RR20180918, GP15,4,8,31,GSNIS-31   ,2,6564,12643,20180929,1405,54.6601,-155.1706,5716,510.3,3.6507,34.1772,2,3.6497,2,20180929,1505,54.66,-155.1706,116.49,2,3.1,2,44.35,2,0,2,18.03,2,34.1778,2,3.288,1,0.018,1,4.7,1,17.9,2
33RR20180918, GP15,4,8,32,GSNIS-32   ,2,6564,12643,20180929,1405,54.6601,-155.1706,5716,508.1,3.6506,34.1772,2,-999,9,20180929,1505,54.66,-155.1706,116.2,2,3.09,2,44.21,2,0,2,-999,9,-999,9,3.288,1,0.018,1,4.7,1,18.2,2
33RR20180918, GP15,4,8,33,GSNIS-33   ,2,6564,12643,20180929,1405,54.6601,-155.1706,5716,510.4,3.6504,34.1775,2,-999,9,20180929,1505,54.66,-155.1706,116.2,2,3.08,2,44.2,2,0.01,2,-999,9,-999,9,3.287,1,0.018,1,4.701,1,17.7,2
33RR20180918, GP15,4,8,34,GSNIS-34   ,2,6564,12643,20180929,1405,54.6601,-155.1706,5716,509.4,3.6503,34.1772,2,-999,9,20180929,1505,54.66,-155.1706,115.9,2,3.08,2,44.2,2,0.01,2,-999,9,-999,9,3.287,1,0.018,1,4.701,1,17.3,2
33RR20180918, GP15,4,8,35,GSNIS-35   ,2,6564,12642,20180929,1405,54.6601,-155.1706,5716,407.8,3.8143,34.0961,2,3.8132,2,20180929,1508,54.6601,-155.1706,107.41,2,3.05,2,44.18,2,0.01,2,21.86,2,34.0966,2,3.256,1,0.018,1,4.7,1,21.3,2
33RR20180918, GP15,4,8,36,GSNIS-36   ,2,6564,12642,20180929,1405,54.6601,-155.1706,5716,408.5,3.8144,34.0959,2,-999,9,20180929,1508,54.6601,-155.1706,107.02,2,3,2,44.15,2,0.01,2,-999,9,-999,9,3.255,1,0.018,1,4.7,1,21.5,2
33RR20180918, GP15,4,11,1,GSNIS-1    ,2,6566,12689,20180930,1315,54.6601,-155.1704,5716,5693.3,1.5959,34.6882,2,1.5956,2,20180930,1315,54.6602,-155.1703,150.12,2,2.47,2,35.7,2,0,2,160.06,2,34.6864,3,2.265,1,0.017,1,4.69,1,159.5,2
33RR20180918, GP15,4,11,2,GSNIS-2    ,2,6566,12689,20180930,1315,54.6601,-155.1704,5716,5695.1,1.5959,34.6881,2,-999,9,20180930,1315,54.6602,-155.1703,150.8,2,2.44,2,35.71,2,0,2,-999,9,-999,9,2.265,1,0.017,1,4.691,1,156.8,2
33RR20180918, GP15,4,11,3,GSNIS-3    ,2,6566,12688,20180930,1315,54.6601,-155.1704,5716,5662.7,1.5919,34.688,2,1.5915,2,20180930,1318,54.6602,-155.1701,150.7,2,2.43,2,35.72,2,0,2,159.61,2,34.688,3,2.264,1,0.017,1,4.69,1,159.6,2
33RR20180918, GP15,4,11,4,GSNIS-4    ,2,6566,12688,20180930,1315,54.6601,-155.1704,5716,5663.5,1.5919,34.6881,2,-999,9,20180930,1318,54.6602,-155.1701,150.7,2,2.44,2,35.77,2,0,2,-999,9,-999,9,2.264,1,0.017,1,4.691,1,156.9,2
33RR20180918, GP15,4,11,5,GSNIS-5    ,2,6566,12688,20180930,1315,54.6601,-155.1704,5716,5663.4,1.5918,34.6882,2,-999,9,20180930,1318,54.6602,-155.1702,150.51,2,2.43,2,35.72,2,0,2,-999,9,-999,9,2.264,1,0.017,1,4.69,1,159.7,2
33RR20180918, GP15,4,11,6,GSNIS-6    ,3,6566,12688,20180930,1315,54.6601,-155.1704,5716,5663.7,1.5918,34.6881,3,-999,9,20180930,1318,54.6602,-155.1702,173.35,3,2.83,3,41.58,3,0,3,-999,9,-999,9,2.264,1,0.017,1,4.691,1,155.8,3
33RR20180918, GP15,4,11,7,GSNIS-7    ,2,6566,12687,20180930,1315,54.6601,-155.1704,5716,5611.9,1.5848,34.6882,2,1.5846,2,20180930,1322,54.6601,-155.1704,150.9,2,2.43,2,35.73,2,0,2,158.89,2,34.6878,3,2.259,1,0.017,1,4.69,1,158,2
33RR20180918, GP15,4,11,8,GSNIS-8    ,2,6566,12687,20180930,1315,54.6601,-155.1704,5716,5612,1.5849,34.6882,2,-999,9,20180930,1322,54.6601,-155.1704,150.8,2,2.45,2,35.68,2,0,2,-999,9,-999,9,2.259,1,0.017,1,4.69,1,159.3,2
33RR20180918, GP15,4,11,9,GSNIS-9    ,2,6566,12687,20180930,1315,54.6601,-155.1704,5716,5611.6,1.5849,34.6882,2,-999,9,20180930,1322,54.6601,-155.1704,150.51,2,2.44,2,35.71,2,0,2,-999,9,-999,9,2.259,1,0.017,1,4.69,1,157.6,2
33RR20180918, GP15,4,11,10,GSNIS-10   ,2,6566,12687,20180930,1315,54.6601,-155.1704,5716,5612.1,1.5849,34.6883,2,-999,9,20180930,1322,54.6601,-155.1704,150.8,2,2.44,2,35.7,2,0,2,-999,9,-999,9,2.259,1,0.017,1,4.69,1,156.7,2
33RR20180918, GP15,4,11,11,GSNIS-11   ,2,6566,12686,20180930,1315,54.6601,-155.1704,5716,5406,1.5598,34.6879,2,1.5595,2,20180930,1327,54.6601,-155.1704,150.41,2,2.45,2,35.74,2,0,2,159.29,2,34.6872,3,2.256,1,0.017,1,4.693,1,159.3,2
33RR20180918, GP15,4,11,12,GSNIS-12   ,2,6566,12686,20180930,1315,54.6601,-155.1704,5716,5406.2,1.5599,34.6878,2,-999,9,20180930,1328,54.6601,-155.1704,150.41,2,2.44,2,35.74,2,0,2,-999,9,-999,9,2.257,1,0.017,1,4.693,1,160.2,2
33RR20180918, GP15,4,11,13,GSNIS-13   ,2,6566,12686,20180930,1315,54.6601,-155.1704,5716,5406.6,1.5598,34.6879,2,-999,9,20180930,1328,54.6601,-155.1704,150.61,2,2.44,2,35.73,2,0,2,-999,9,-999,9,2.256,1,0.017,1,4.693,1,157.7,2
33RR20180918, GP15,4,11,14,GSNIS-14   ,2,6566,12686,20180930,1315,54.6601,-155.1704,5716,5405.8,1.5598,34.688,2,-999,9,20180930,1328,54.6601,-155.1704,150.51,2,2.46,2,35.73,2,0,2,-999,9,-999,9,2.256,1,0.017,1,4.692,1,159,2
33RR20180918, GP15,4,11,15,GSNIS-15   ,2,6566,12685,20180930,1315,54.6601,-155.1704,5716,5106.9,1.5306,34.6873,2,1.5303,2,20180930,1335,54.6601,-155.1704,152.66,2,2.45,2,35.92,2,0,2,157.08,2,34.7092,3,2.255,1,0.017,1,4.698,1,156.5,2
33RR20180918, GP15,4,11,16,GSNIS-16   ,3,6566,12685,20180930,1315,54.6601,-155.1704,5716,5105.8,1.5307,34.6872,3,-999,9,20180930,1335,54.6601,-155.1704,89.6,3,3.07,3,44.45,3,0.01,3,-999,9,-999,9,2.254,1,0.017,1,4.697,1,157.8,3
33RR20180918, GP15,4,11,17,GSNIS-17   ,2,6566,12684,20180930,1315,54.6601,-155.1704,5716,4591.5,1.4913,34.6851,2,1.4909,2,20180930,1345,54.6601,-155.1705,156.27,2,2.47,2,36.22,2,0,2,152.29,2,34.6846,3,2.263,1,0.017,1,4.703,1,153.1,2
33RR20180918, GP15,4,11,18,GSNIS-18   ,3,6566,12684,20180930,1315,54.6601,-155.1704,5716,4592.7,1.4914,34.6852,3,-999,9,20180930,1345,54.6601,-155.1705,166.81,3,2.64,3,38.47,3,0,3,-999,9,-999,9,2.263,1,0.017,1,4.703,1,150.9,3
33RR20180918, GP15,4,11,19,GSNIS-19   ,2,6566,12684,20180930,1315,54.6601,-155.1704,5716,4591.4,1.4913,34.6851,2,-999,9,20180930,1345,54.6601,-155.1705,156.17,2,2.47,2,36.21,2,0,2,-999,9,-999,9,2.263,1,0.017,1,4.703,1,154.3,2
33RR20180918, GP15,4,11,20,GSNIS-20   ,2,6566,12684,20180930,1315,54.6601,-155.1704,5716,4592.6,1.4913,34.6852,2,1.491,2,20180930,1345,54.6601,-155.1705,156.27,2,2.46,2,36.26,2,0,2,-999,9,-999,9,2.264,1,0.017,1,4.703,1,153.7,2
33RR20180918, GP15,4,11,21,GSNIS-21   ,3,6566,12683,20180930,1315,54.6601,-155.1704,5716,4072.1,1.4701,34.6811,3,1.4698,3,20180930,1356,54.6601,-155.1704,150.41,3,2.61,3,37.68,3,0.01,3,-999,9,-999,9,2.285,1,0.017,1,4.702,1,146.9,3
33RR20180918, GP15,4,11,22,GSNIS-22   ,2,6566,12683,20180930,1315,54.6601,-155.1704,5716,4074.9,1.4703,34.681,2,-999,9,20180930,1356,54.6601,-155.1704,159.98,2,2.5,2,36.78,2,0,2,145.87,2,34.6805,3,2.285,1,0.017,1,4.702,1,147.1,2
33RR20180918, GP15,4,11,23,GSNIS-23   ,2,6566,12682,20180930,1315,54.6601,-155.1704,5716,3658.4,1.4753,34.6751,2,1.4747,2,20180930,1404,54.6601,-155.1704,161.93,2,2.55,2,37.33,2,0,2,137.89,2,34.6743,3,2.307,1,0.017,1,4.705,1,138.7,2
33RR20180918, GP15,4,11,24,GSNIS-24   ,2,6566,12682,20180930,1315,54.6601,-155.1704,5716,3660.5,1.4752,34.675,2,-999,9,20180930,1404,54.6601,-155.1704,162.22,2,2.55,2,37.37,2,0,2,-999,9,-999,9,2.308,1,0.017,1,4.705,1,138.8,2
33RR20180918, GP15,4,11,25,GSNIS-25   ,2,6566,12682,20180930,1315,54.6601,-155.1704,5716,3658.2,1.4751,34.675,2,-999,9,20180930,1405,54.6601,-155.1704,161.83,2,2.55,2,37.3,2,0,2,-999,9,-999,9,2.308,1,0.017,1,4.705,1,139.4,2
33RR20180918, GP15,4,11,26,GSNIS-26   ,2,6566,12682,20180930,1315,54.6601,-155.1704,5716,3660.5,1.4753,34.675,2,-999,9,20180930,1405,54.6601,-155.1704,161.83,2,2.55,2,37.34,2,0,2,-999,9,-999,9,2.309,1,0.017,1,4.705,1,137.8,2
33RR20180918, GP15,4,11,27,GSNIS-27   ,2,6566,12681,20180930,1315,54.6601,-155.1704,5716,3303.4,1.505,34.6667,2,1.5044,2,20180930,1412,54.6601,-155.1704,163.98,2,2.6,2,38.01,2,0.01,2,126.93,2,34.6652,3,2.34,1,0.017,1,4.703,1,127.9,2
33RR20180918, GP15,4,11,28,GSNIS-28   ,3,6566,12681,20180930,1315,54.6601,-155.1704,5716,3304.7,1.5049,34.6667,3,-999,9,20180930,1412,54.6601,-155.1704,168.57,3,2.65,3,39.66,3,0,3,-999,9,-999,9,2.342,1,0.017,1,4.703,1,128.2,3
33RR20180918, GP15,4,11,29,GSNIS-29   ,2,6566,12680,20180930,1315,54.6601,-155.1704,5716,3050.2,1.5406,34.6584,2,1.54,2,20180930,1418,54.6601,-155.1705,166.91,2,2.64,2,38.73,2,0,2,116.73,2,34.6582,3,2.389,1,0.017,1,4.703,1,116.3,2
33RR20180918, GP15,4,11,30,GSNIS-30   ,2,6566,12680,20180930,1315,54.6601,-155.1704,5716,3049,1.5402,34.6584,2,-999,9,20180930,1418,54.6601,-155.1704,166.13,2,2.65,2,38.78,2,0,2,-999,9,-999,9,2.389,1,0.017,1,4.703,1,117.6,2
33RR20180918, GP15,4,11,31,GSNIS-31   ,2,6566,12679,20180930,1315,54.6601,-155.1704,5716,2792.6,1.5889,34.6486,2,1.5882,2,20180930,1424,54.6601,-155.1704,167.59,2,2.68,2,39.36,2,0,2,106.59,2,34.6485,3,2.447,1,0.017,1,4.705,1,107.2,2
33RR20180918, GP15,4,11,32,GSNIS-32   ,2,6566,12679,20180930,1315,54.6601,-155.1704,5716,2792.4,1.5888,34.6487,2,-999,9,20180930,1424,54.6601,-155.1704,167.59,2,2.68,2,39.35,2,0,2,-999,9,-999,9,2.447,1,0.017,1,4.705,1,107.3,2
33RR20180918, GP15,4,11,33,GSNIS-33   ,5,6566,12679,20180930,1315,54.6601,-155.1704,5716,2793.7,1.5888,34.6488,3,-999,9,20180930,1424,54.6601,-155.1705,-999,9,-999,9,-999,9,-999,9,-999,9,-999,9,2.449,1,0.016,1,4.705,1,108.5,3
33RR20180918, GP15,4,11,34,GSNIS-34   ,2,6566,12679,20180930,1315,54.6601,-155.1704,5716,2791.5,1.5888,34.6486,2,1.5883,2,20180930,1424,54.6601,-155.1705,167.4,2,2.67,2,39.32,2,0,2,-999,9,-999,9,2.449,1,0.017,1,4.705,1,107.4,2
33RR20180918, GP15,4,11,35,GSNIS-35   ,2,6566,12678,20180930,1315,54.6601,-155.1704,5716,2537.1,1.6505,34.6359,2,1.6498,2,20180930,1430,54.6601,-155.1704,170.82,2,2.72,2,40.18,2,0,2,94,2,34.6352,3,2.517,1,0.017,1,4.701,1,93.4,2
33RR20180918, GP15,4,11,36,GSNIS-36   ,2,6566,12678,20180930,1315,54.6601,-155.1704,5716,2537.1,1.6505,34.6359,2,-999,9,20180930,1430,54.6601,-155.1704,170.92,2,2.7,2,40.21,2,0,2,-999,9,-999,9,2.519,1,0.017,1,4.702,1,94.6,2