BOTTLE,20191212SIOCCHAMB
EXPOCODE,SECT_ID,STNNBR,CASTNO,SAMPNO,BTLNBR,BTLNBR_FLAG_W,GEOTRC_EVENTNO,GEOTRC_SAMPNO,DATE,TIME,LATITUDE,LONGITUDE,DEPTH,CTDPRS,CTDTMP,CTDSAL,CTDSAL_FLAG_W,REFTMP,REFTMP_FLAG_W,BTL_DATE,BTL_TIME,BTL_LAT,BTL_LON,SILCAT,SILCAT_FLAG_W,PHSPHT,PHSPHT_FLAG_W,NITRAT,NITRAT_FLAG_W,NITRIT,NITRIT_FLAG_W,OXYGEN,OXYGEN_FLAG_W,SALNTY,SALNTY_FLAG_W,CTDRINKO,CTDRINKO_FLAG_W,CTDFLUOR,CTDFLUOR_FLAG_W,CTDXMISS,CTDXMISS_FLAG_W,CTDOXY,CTDOXY_FLAG_W
,,,,,,,,,,,,,METERS,DBAR,ITS-90,PSS-78,,ITS-90,,,,,,UMOL/KG,,UMOL/KG,,UMOL/KG,,UMOL/KG,,UMOL/KG,,PSS-78,,VOLTS,,VOLTS,,VOLTS,,UMOL/KG,
33RR20180918, GP15,33,8,1,GSNIS-2    ,2,6937,15207,20181113,2129,-4.9997,-152.0026,5423,1818.5,2.5088,34.6266,2,2.5082,2,20181113,2129,-4.9997,-152.0026,130.09,2,2.74,2,38.66,2,0,2,105.73,2,34.6276,2,2.422,1,0.017,1,4.674,1,105.6,2
33RR20180918, GP15,33,8,2,GSNIS-3    ,2,6937,15207,20181113,2129,-4.9997,-152.0026,5423,1818.2,2.509,34.6266,2,-999,9,20181113,2129,-4.9998,-152.0026,130.48,2,2.75,2,38.55,2,0,2,-999,9,-999,9,2.423,1,0.017,1,4.674,1,104.4,2
33RR20180918, GP15,33,8,3,GSNIS-4    ,2,6937,15207,20181113,2129,-4.9997,-152.0026,5423,1817.4,2.5087,34.6267,2,-999,9,20181113,2129,-4.9998,-152.0027,130.67,2,2.76,2,38.5,2,0,2,-999,9,-999,9,2.422,1,0.017,1,4.674,1,106.6,2
33RR20180918, GP15,33,8,4,GSNIS-5    ,2,6937,15207,20181113,2129,-4.9997,-152.0026,5423,1819.5,2.5073,34.6269,2,-999,9,20181113,2129,-4.9998,-152.0027,130.77,2,2.74,2,38.42,2,0,2,-999,9,-999,9,2.422,1,0.017,1,4.674,1,106.4,2
33RR20180918, GP15,33,8,5,GSNIS-6    ,2,6937,15206,20181113,2129,-4.9997,-152.0026,5423,1615.7,2.7662,34.6105,2,2.7663,2,20181113,2134,-4.9997,-152.0026,120.9,2,2.72,2,38.16,2,0,2,106.85,2,34.6105,2,2.41,1,0.017,1,4.675,1,107,2
33RR20180918, GP15,33,8,6,GSNIS-7    ,2,6937,15206,20181113,2129,-4.9997,-152.0026,5423,1615.5,2.7664,34.6104,2,-999,9,20181113,2134,-4.9997,-152.0026,120.8,2,2.7,2,38.2,2,0,2,-999,9,-999,9,2.409,1,0.017,1,4.675,1,107,2
33RR20180918, GP15,33,8,7,GSNIS-8    ,2,6937,15206,20181113,2129,-4.9997,-152.0026,5423,1617.3,2.7654,34.6104,2,-999,9,20181113,2134,-4.9997,-152.0026,121,2,2.7,2,38.16,2,0,2,-999,9,-999,9,2.409,1,0.017,1,4.675,1,106.7,2
33RR20180918, GP15,33,8,8,GSNIS-9    ,2,6937,15206,20181113,2129,-4.9997,-152.0026,5423,1616.6,2.7669,34.6103,2,2.7663,2,20181113,2135,-4.9997,-152.0026,121.1,2,2.71,2,38.13,2,0,2,-999,9,-999,9,2.409,1,0.018,1,4.675,1,107.1,2
33RR20180918, GP15,33,8,9,GSNIS-10   ,2,6937,15205,20181113,2129,-4.9997,-152.0026,5423,1415,3.2038,34.5865,2,3.2022,2,20181113,2139,-4.9997,-152.0026,107.42,2,2.68,2,37.83,2,0,2,108.19,2,34.5873,2,2.379,1,0.017,1,4.675,1,108.3,2
33RR20180918, GP15,33,8,10,GSNIS-11   ,2,6937,15205,20181113,2129,-4.9997,-152.0026,5423,1414.1,3.2011,34.5866,2,-999,9,20181113,2139,-4.9997,-152.0026,107.12,2,2.67,2,37.85,2,0,2,-999,9,-999,9,2.378,1,0.017,1,4.675,1,108.3,2
33RR20180918, GP15,33,8,11,GSNIS-12   ,2,6937,15205,20181113,2129,-4.9997,-152.0026,5423,1414.5,3.2017,34.5866,2,-999,9,20181113,2139,-4.9998,-152.0026,106.93,2,2.68,2,37.82,2,0,2,-999,9,-999,9,2.378,1,0.017,1,4.675,1,108.3,2
33RR20180918, GP15,33,8,12,GSNIS-13   ,2,6937,15205,20181113,2129,-4.9997,-152.0026,5423,1414.7,3.2015,34.5866,2,-999,9,20181113,2139,-4.9998,-152.0027,107.12,2,2.67,2,37.88,2,0,2,-999,9,-999,9,2.377,1,0.017,1,4.675,1,107.7,2
33RR20180918, GP15,33,8,13,GSNIS-14   ,2,6937,15204,20181113,2129,-4.9997,-152.0026,5423,1209.6,3.8956,34.5584,2,3.8958,2,20181113,2144,-4.9997,-152.0026,90.61,2,2.73,2,38.41,2,0,2,99.46,2,34.559,2,2.362,1,0.017,1,4.674,1,99.4,2
33RR20180918, GP15,33,8,14,GSNIS-15   ,2,6937,15204,20181113,2129,-4.9997,-152.0026,5423,1210.8,3.8968,34.5582,2,-999,9,20181113,2144,-4.9997,-152.0026,90.61,2,2.73,2,38.42,2,0,2,-999,9,-999,9,2.362,1,0.017,1,4.674,1,99.4,2
33RR20180918, GP15,33,8,15,GSNIS-16   ,2,6937,15203,20181113,2129,-4.9997,-152.0026,5423,1008,4.6645,34.5402,2,4.6648,2,20181113,2149,-4.9997,-152.0027,75.26,2,2.72,2,38.49,2,0,2,92.44,2,34.5417,2,2.397,1,0.017,1,4.673,1,92.1,2
33RR20180918, GP15,33,8,16,GSNIS-17   ,2,6937,15203,20181113,2129,-4.9997,-152.0026,5423,1007.6,4.6647,34.5403,2,-999,9,20181113,2149,-4.9997,-152.0027,75.26,2,2.71,2,38.53,2,0,2,-999,9,-999,9,2.395,1,0.018,1,4.674,1,91.9,2
33RR20180918, GP15,33,8,17,GSNIS-18   ,2,6937,15203,20181113,2129,-4.9997,-152.0026,5423,1007,4.6654,34.5402,2,-999,9,20181113,2149,-4.9997,-152.0027,75.26,2,2.71,2,38.54,2,0,2,-999,9,-999,9,2.395,1,0.017,1,4.674,1,92,2
33RR20180918, GP15,33,8,18,GSNIS-19   ,2,6937,15203,20181113,2129,-4.9997,-152.0026,5423,1007.8,4.6654,34.5401,2,-999,9,20181113,2149,-4.9997,-152.0027,75.26,2,2.72,2,38.61,2,0,2,-999,9,-999,9,2.394,1,0.017,1,4.674,1,91.4,2
33RR20180918, GP15,33,8,19,GSNIS-20   ,2,6937,15202,20181113,2129,-4.9997,-152.0026,5423,906.5,5.0865,34.5362,2,5.0863,2,20181113,2152,-4.9997,-152.0026,67.74,2,2.71,2,38.71,2,0,2,88.02,2,34.5374,2,2.408,1,0.017,1,4.673,1,87.7,2
33RR20180918, GP15,33,8,20,GSNIS-21   ,2,6937,15202,20181113,2129,-4.9997,-152.0026,5423,906.9,5.087,34.5362,2,-999,9,20181113,2152,-4.9997,-152.0026,67.44,2,2.71,2,38.8,2,0,2,-999,9,-999,9,2.408,1,0.017,1,4.673,1,87.5,2
33RR20180918, GP15,33,8,21,GSNIS-22   ,2,6937,15202,20181113,2129,-4.9997,-152.0026,5423,906.9,5.0876,34.5363,2,-999,9,20181113,2153,-4.9997,-152.0026,67.64,2,2.73,2,38.91,2,0,2,-999,9,-999,9,2.408,1,0.017,1,4.672,1,87.5,2
33RR20180918, GP15,33,8,22,GSNIS-23   ,2,6937,15201,20181113,2129,-4.9997,-152.0026,5423,806.1,5.672,34.5355,2,5.6745,2,20181113,2155,-4.9997,-152.0026,57.18,2,2.69,2,38.72,2,0,2,83.98,2,34.5364,2,2.423,1,0.017,1,4.672,1,83.1,2
33RR20180918, GP15,33,8,23,GSNIS-24   ,2,6937,15201,20181113,2129,-4.9997,-152.0026,5423,807.1,5.6772,34.5355,2,-999,9,20181113,2155,-4.9997,-152.0026,57.18,2,2.68,2,38.8,2,0,2,-999,9,-999,9,2.423,1,0.018,1,4.673,1,83,2
33RR20180918, GP15,33,8,24,GSNIS-25   ,2,6937,15200,20181113,2129,-4.9997,-152.0026,5423,706.4,6.2897,34.5517,2,6.2904,2,20181113,2159,-4.9998,-152.0026,52.49,2,2.71,2,39.28,2,0,2,69.28,2,34.5588,2,2.429,1,0.017,1,4.67,1,68.7,2
33RR20180918, GP15,33,8,25,GSNIS-26   ,2,6937,15200,20181113,2129,-4.9997,-152.0026,5423,705,6.2921,34.5518,2,-999,9,20181113,2159,-4.9998,-152.0026,52.49,2,2.72,2,39.3,2,0,2,-999,9,-999,9,2.429,1,0.017,1,4.67,1,68.5,2
33RR20180918, GP15,33,8,26,GSNIS-27   ,2,6937,15200,20181113,2129,-4.9997,-152.0026,5423,706.5,6.2891,34.552,2,-999,9,20181113,2159,-4.9998,-152.0026,52.59,2,2.73,2,39.2,2,0,2,-999,9,-999,9,2.429,1,0.017,1,4.67,1,68.7,2
33RR20180918, GP15,33,8,27,GSNIS-28   ,2,6937,15200,20181113,2129,-4.9997,-152.0026,5423,705.5,6.2914,34.5519,2,-999,9,20181113,2159,-4.9998,-152.0026,52.49,2,2.73,2,39.09,2,0,2,-999,9,-999,9,2.43,1,0.017,1,4.671,1,68.9,2
33RR20180918, GP15,33,8,28,GSNIS-29   ,2,6937,15199,20181113,2129,-4.9997,-152.0026,5423,604.2,7.2164,34.58,2,7.2222,2,20181113,2202,-4.9998,-152.0026,42.42,2,2.64,2,37.8,2,0,2,64.17,2,34.5806,2,2.456,1,0.017,1,4.67,1,61.4,2
33RR20180918, GP15,33,8,29,GSNIS-30   ,2,6937,15199,20181113,2129,-4.9997,-152.0026,5423,606.1,7.2259,34.5799,2,-999,9,20181113,2202,-4.9997,-152.0026,42.52,2,2.64,2,37.76,2,0,2,-999,9,-999,9,2.458,1,0.017,1,4.669,1,60.6,2
33RR20180918, GP15,33,8,30,GSNIS-31   ,2,6937,15198,20181113,2129,-4.9997,-152.0026,5423,503.9,8.1184,34.6227,2,8.1204,2,20181113,2205,-4.9998,-152.0026,35.19,2,2.5,2,35.99,2,0,2,61.55,2,34.6233,2,2.505,1,0.017,1,4.668,1,60.6,2
33RR20180918, GP15,33,8,31,GSNIS-32   ,2,6937,15198,20181113,2129,-4.9997,-152.0026,5423,504.7,8.1207,34.6227,2,-999,9,20181113,2205,-4.9998,-152.0026,35.09,2,2.5,2,35.85,2,0,2,-999,9,-999,9,2.503,1,0.017,1,4.668,1,63,2
33RR20180918, GP15,33,8,32,GSNIS-33   ,2,6937,15197,20181113,2129,-4.9997,-152.0026,5423,453,9.0905,34.6833,2,9.1036,2,20181113,2207,-4.9997,-152.0026,34.21,2,2.58,2,36.19,2,0,2,31.18,2,34.6836,2,2.453,1,0.017,1,4.664,1,33.9,2
33RR20180918, GP15,33,8,33,GSNIS-34   ,2,6937,15197,20181113,2129,-4.9997,-152.0026,5423,453.8,9.1011,34.6829,2,-999,9,20181113,2207,-4.9997,-152.0026,34.11,2,2.58,2,35.98,2,0,2,-999,9,-999,9,2.452,1,0.017,1,4.665,1,24.5,2
33RR20180918, GP15,33,8,34,GSNIS-35   ,2,6937,15196,20181113,2129,-4.9997,-152.0026,5423,403.6,10.0274,34.7421,2,10.027,2,20181113,2209,-4.9997,-152.0026,32.06,2,2.53,2,34.66,2,0,2,17.87,2,34.7429,2,2.425,1,0.018,1,4.662,1,16.2,2
33RR20180918, GP15,33,8,35,GSNIS-36   ,2,6937,15196,20181113,2129,-4.9997,-152.0026,5423,402.5,10.028,34.7422,2,-999,9,20181113,2209,-4.9997,-152.0026,32.06,2,2.51,2,34.64,2,0,2,-999,9,-999,9,2.415,1,0.017,1,4.662,1,19.6,2
33RR20180918, GP15,33,8,36,GSNIS-1    ,2,6937,15196,20181113,2129,-4.9997,-152.0026,5423,403.4,10.0275,34.7422,2,-999,9,20181113,2209,-4.9997,-152.0026,31.96,2,2.51,2,34.6,2,0,2,-999,9,-999,9,2.409,1,0.017,1,4.662,1,19.4,2
33RR20180918, GP15,33,11,1,GSNIS-2    ,2,6941,15252,20181114,1205,-4.9997,-152.0027,5423,5382.6,1.3871,34.7022,2,1.387,2,20181114,1205,-4.9997,-152.0026,125.53,2,2.27,2,33.4,2,0,2,187.87,2,34.7017,2,2.11,1,0.017,1,4.675,1,190.4,3
33RR20180918, GP15,33,11,2,GSNIS-3    ,2,6941,15252,20181114,1205,-4.9997,-152.0027,5423,5380.9,1.3868,34.7023,2,-999,9,20181114,1205,-4.9997,-152.0026,125.34,2,2.26,2,33.41,2,0,2,-999,9,-999,9,2.11,1,0.016,1,4.675,1,185.8,2
33RR20180918, GP15,33,11,3,GSNIS-4    ,2,6941,15252,20181114,1205,-4.9997,-152.0027,5423,5381.6,1.3869,34.7023,2,-999,9,20181114,1205,-4.9997,-152.0027,125.24,2,2.27,2,33.43,2,0,2,-999,9,-999,9,2.11,1,0.017,1,4.675,1,187.9,2
33RR20180918, GP15,33,11,4,GSNIS-5    ,2,6941,15252,20181114,1205,-4.9997,-152.0027,5423,5382.4,1.3871,34.7022,2,-999,9,20181114,1205,-4.9997,-152.0027,125.24,2,2.27,2,33.48,2,0,2,-999,9,-999,9,2.11,1,0.017,1,4.675,1,188.6,2
33RR20180918, GP15,33,11,5,GSNIS-6    ,2,6941,15251,20181114,1205,-4.9997,-152.0027,5423,5340.9,1.3819,34.7022,2,1.382,2,20181114,1208,-4.9997,-152.0027,125.34,2,2.29,2,33.46,2,0,2,188.83,2,34.7019,2,2.108,1,0.017,1,4.675,1,186.5,3
33RR20180918, GP15,33,11,6,GSNIS-7    ,2,6941,15251,20181114,1205,-4.9997,-152.0027,5423,5340.3,1.3819,34.7023,2,-999,9,20181114,1208,-4.9997,-152.0027,125.34,2,2.31,2,33.48,2,0,2,-999,9,-999,9,2.108,1,0.017,1,4.675,1,191.6,2
33RR20180918, GP15,33,11,7,GSNIS-8    ,2,6941,15250,20181114,1205,-4.9997,-152.0027,5423,5257.5,1.3742,34.7022,2,1.3744,2,20181114,1210,-4.9997,-152.0026,125.83,2,2.31,2,33.47,2,0,2,188.02,2,34.702,2,2.103,1,0.017,1,4.675,1,187.3,2
33RR20180918, GP15,33,11,8,GSNIS-9    ,2,6941,15250,20181114,1205,-4.9997,-152.0027,5423,5258.5,1.3744,34.702,2,-999,9,20181114,1210,-4.9997,-152.0026,125.63,2,2.3,2,33.42,2,0,2,-999,9,-999,9,2.104,1,0.016,1,4.675,1,188.9,2
33RR20180918, GP15,33,11,9,GSNIS-10   ,2,6941,15250,20181114,1205,-4.9997,-152.0027,5423,5258,1.3743,34.7022,2,-999,9,20181114,1211,-4.9997,-152.0026,125.73,2,2.3,2,33.3,2,0,2,-999,9,-999,9,2.103,1,0.016,1,4.675,1,188.4,2
33RR20180918, GP15,33,11,10,GSNIS-11   ,2,6941,15250,20181114,1205,-4.9997,-152.0027,5423,5258,1.3743,34.7022,2,-999,9,20181114,1211,-4.9997,-152.0026,125.53,2,2.3,2,33.19,2,0,2,-999,9,-999,9,2.103,1,0.017,1,4.675,1,189.9,2
33RR20180918, GP15,33,11,11,GSNIS-12   ,2,6941,15249,20181114,1205,-4.9997,-152.0027,5423,4575,1.3429,34.7002,2,1.3432,2,20181114,1223,-4.9997,-152.0026,128.76,2,2.33,2,33.59,2,0,2,182.15,2,34.6991,2,2.104,1,0.017,1,4.676,1,182.8,2
33RR20180918, GP15,33,11,12,GSNIS-13   ,2,6941,15249,20181114,1205,-4.9997,-152.0027,5423,4574.5,1.3431,34.7002,2,-999,9,20181114,1223,-4.9997,-152.0026,128.95,2,2.33,2,33.59,2,0,2,-999,9,-999,9,2.106,1,0.016,1,4.676,1,184.2,2
33RR20180918, GP15,33,11,13,GSNIS-14   ,2,6941,15248,20181114,1205,-4.9997,-152.0027,5423,4060.8,1.405,34.6945,2,1.4048,2,20181114,1233,-4.9997,-152.0026,134.91,2,2.36,2,34.45,2,0,2,170.34,2,34.6956,2,2.127,1,0.017,1,4.676,1,168.9,2
33RR20180918, GP15,33,11,14,GSNIS-15   ,2,6941,15248,20181114,1205,-4.9997,-152.0027,5423,4060.4,1.4046,34.6947,2,-999,9,20181114,1233,-4.9997,-152.0026,134.91,2,2.35,2,34.49,2,0,2,-999,9,-999,9,2.126,1,0.016,1,4.676,1,170.7,2
33RR20180918, GP15,33,11,15,GSNIS-16   ,2,6941,15248,20181114,1205,-4.9997,-152.0027,5423,4059.8,1.405,34.6946,2,-999,9,20181114,1233,-4.9997,-152.0026,135.21,2,2.36,2,34.51,2,0,2,-999,9,-999,9,2.127,1,0.016,1,4.676,1,168.6,2
33RR20180918, GP15,33,11,16,GSNIS-17   ,2,6941,15248,20181114,1205,-4.9997,-152.0027,5423,4061.4,1.405,34.6945,2,-999,9,20181114,1234,-4.9997,-152.0026,134.91,2,2.36,2,34.5,2,0,2,-999,9,-999,9,2.127,1,0.017,1,4.676,1,169.8,2
33RR20180918, GP15,33,11,17,GSNIS-18   ,2,6941,15247,20181114,1205,-4.9997,-152.0027,5423,3549.4,1.5353,34.6857,2,1.5352,2,20181114,1244,-4.9997,-152.0026,139.8,2,2.46,2,35.52,2,0,2,157.52,2,34.6844,2,2.186,1,0.017,1,4.676,1,158.4,2
33RR20180918, GP15,33,11,18,GSNIS-19   ,2,6941,15247,20181114,1205,-4.9997,-152.0027,5423,3549,1.5354,34.6857,2,-999,9,20181114,1244,-4.9997,-152.0026,139.7,2,2.45,2,35.5,2,0,2,-999,9,-999,9,2.187,1,0.017,1,4.676,1,155.9,2
33RR20180918, GP15,33,11,19,GSNIS-20   ,2,6941,15246,20181114,1205,-4.9997,-152.0027,5423,3039,1.7002,34.6744,2,1.7006,2,20181114,1254,-4.9997,-152.0027,140.88,2,2.52,2,36.38,2,0,2,142.39,2,34.6732,2,2.221,1,0.016,1,4.676,1,141.3,2
33RR20180918, GP15,33,11,20,GSNIS-21   ,2,6941,15246,20181114,1205,-4.9997,-152.0027,5423,3039.1,1.7008,34.6744,2,-999,9,20181114,1254,-4.9997,-152.0026,141.07,2,2.53,2,36.42,2,0,2,-999,9,-999,9,2.22,1,0.017,1,4.676,1,142.6,2
33RR20180918, GP15,33,11,21,GSNIS-22   ,2,6941,15246,20181114,1205,-4.9997,-152.0027,5423,3039.5,1.701,34.6744,2,-999,9,20181114,1254,-4.9997,-152.0026,140.88,2,2.53,2,36.38,2,0,2,-999,9,-999,9,2.22,1,0.017,1,4.676,1,141.1,2
33RR20180918, GP15,33,11,22,GSNIS-23   ,2,6941,15246,20181114,1205,-4.9997,-152.0027,5423,3039.2,1.7011,34.6744,2,-999,9,20181114,1254,-4.9997,-152.0026,141.17,2,2.53,2,36.44,2,0,2,-999,9,-999,9,2.22,1,0.017,1,4.676,1,139.6,2
33RR20180918, GP15,33,11,23,GSNIS-24   ,2,6941,15245,20181114,1205,-4.9997,-152.0027,5423,2783.6,1.8205,34.6677,2,1.8205,2,20181114,1300,-4.9997,-152.0026,140.09,2,2.57,2,36.84,2,0,2,135.26,2,34.6665,2,2.25,1,0.016,1,4.675,1,135,2
33RR20180918, GP15,33,11,24,GSNIS-25   ,2,6941,15245,20181114,1205,-4.9997,-152.0027,5423,2784.1,1.8207,34.6676,2,-999,9,20181114,1300,-4.9997,-152.0026,140.19,2,2.57,2,36.85,2,0,2,-999,9,-999,9,2.251,1,0.017,1,4.675,1,135.4,2
33RR20180918, GP15,33,11,25,GSNIS-26   ,2,6941,15244,20181114,1205,-4.9997,-152.0027,5423,2529.8,1.916,34.6608,2,1.9161,2,20181114,1305,-4.9997,-152.0026,139.02,2,2.6,2,37.23,2,0,2,129.64,2,34.6606,2,2.284,1,0.017,1,4.675,1,129.9,2
33RR20180918, GP15,33,11,26,GSNIS-27   ,2,6941,15244,20181114,1205,-4.9997,-152.0027,5423,2529.1,1.9163,34.6607,2,-999,9,20181114,1305,-4.9997,-152.0026,138.92,2,2.6,2,37.24,2,0,2,-999,9,-999,9,2.286,1,0.017,1,4.676,1,129.6,2
33RR20180918, GP15,33,11,27,GSNIS-28   ,2,6941,15244,20181114,1205,-4.9997,-152.0027,5423,2529,1.9163,34.6606,2,-999,9,20181114,1306,-4.9997,-152.0026,139.02,2,2.61,2,37.16,2,0,2,-999,9,-999,9,2.286,1,0.017,1,4.675,1,130.1,2
33RR20180918, GP15,33,11,28,GSNIS-29   ,2,6941,15244,20181114,1205,-4.9997,-152.0027,5423,2529.2,1.9166,34.6606,2,1.9161,2,20181114,1306,-4.9997,-152.0026,139.22,2,2.6,2,37.21,2,0,2,-999,9,-999,9,2.286,1,0.017,1,4.675,1,129.6,2
33RR20180918, GP15,33,11,29,GSNIS-30   ,2,6941,15243,20181114,1205,-4.9997,-152.0027,5423,2275,2.0724,34.6514,2,2.0723,2,20181114,1312,-4.9997,-152.0026,138.92,2,2.67,2,37.85,2,0,2,119.84,2,34.6506,2,2.307,1,0.017,1,4.674,1,120.5,2
33RR20180918, GP15,33,11,30,GSNIS-31   ,2,6941,15243,20181114,1205,-4.9997,-152.0027,5423,2276.8,2.0725,34.6515,2,-999,9,20181114,1312,-4.9997,-152.0026,138.83,2,2.66,2,37.76,2,0,2,-999,9,-999,9,2.308,1,0.017,1,4.674,1,120.7,2
33RR20180918, GP15,33,11,31,GSNIS-32   ,2,6941,15242,20181114,1205,-4.9997,-152.0027,5423,2022.1,2.2768,34.6401,2,2.2752,2,20181114,1318,-4.9997,-152.0026,135.51,2,2.71,2,38.18,2,0,2,112.49,2,34.6401,2,2.351,1,0.017,1,4.673,1,112.5,2
33RR20180918, GP15,33,11,32,GSNIS-33   ,2,6941,15242,20181114,1205,-4.9997,-152.0027,5423,2020.4,2.2748,34.6401,2,-999,9,20181114,1318,-4.9997,-152.0026,135.6,2,2.7,2,38.21,2,0,2,-999,9,-999,9,2.352,1,0.017,1,4.673,1,112.3,2
33RR20180918, GP15,33,11,33,GSNIS-34   ,2,6941,15241,20181114,1205,-4.9997,-152.0027,5423,1817.3,2.4904,34.6281,2,2.4919,2,20181114,1322,-4.9997,-152.0027,130.62,2,2.68,2,38.51,2,0,2,106.18,2,34.6278,2,2.381,1,0.017,1,4.673,1,106.7,2
33RR20180918, GP15,33,11,34,GSNIS-35   ,2,6941,15241,20181114,1205,-4.9997,-152.0027,5423,1819,2.4922,34.628,2,-999,9,20181114,1322,-4.9997,-152.0027,130.43,2,2.69,2,38.49,2,0,2,-999,9,-999,9,2.381,1,0.017,1,4.673,1,105.9,2
33RR20180918, GP15,33,11,35,GSNIS-36   ,2,6941,15241,20181114,1205,-4.9997,-152.0027,5423,1817.5,2.4921,34.628,2,-999,9,20181114,1323,-4.9997,-152.0027,130.43,2,2.69,2,38.44,2,0,2,-999,9,-999,9,2.381,1,0.017,1,4.673,1,106.6,2
33RR20180918, GP15,33,11,36,GSNIS-1    ,2,6941,15241,20181114,1205,-4.9997,-152.0027,5423,1817.7,2.4922,34.628,2,-999,9,20181114,1323,-4.9997,-152.0027,130.23,2,2.67,2,38.35,2,0,2,-999,9,-999,9,2.381,1,0.017,1,4.673,1,106,2