BOTTLE,20191212SIOCCHAMB
EXPOCODE,SECT_ID,STNNBR,CASTNO,SAMPNO,BTLNBR,BTLNBR_FLAG_W,GEOTRC_EVENTNO,GEOTRC_SAMPNO,DATE,TIME,LATITUDE,LONGITUDE,DEPTH,CTDPRS,CTDTMP,CTDSAL,CTDSAL_FLAG_W,REFTMP,REFTMP_FLAG_W,BTL_DATE,BTL_TIME,BTL_LAT,BTL_LON,SILCAT,SILCAT_FLAG_W,PHSPHT,PHSPHT_FLAG_W,NITRAT,NITRAT_FLAG_W,NITRIT,NITRIT_FLAG_W,OXYGEN,OXYGEN_FLAG_W,SALNTY,SALNTY_FLAG_W,CTDRINKO,CTDRINKO_FLAG_W,CTDFLUOR,CTDFLUOR_FLAG_W,CTDXMISS,CTDXMISS_FLAG_W,CTDOXY,CTDOXY_FLAG_W
,,,,,,,,,,,,,METERS,DBAR,ITS-90,PSS-78,,ITS-90,,,,,,UMOL/KG,,UMOL/KG,,UMOL/KG,,UMOL/KG,,UMOL/KG,,PSS-78,,VOLTS,,VOLTS,,VOLTS,,UMOL/KG,
33RR20180918, GP15,23,9,1,GSNIS-2    ,2,6841,14441,20181102,1544,7.4995,-152.0082,5322,2939.9,1.7826,34.6712,2,1.7836,2,20181102,1544,7.4995,-152.0081,155.43,2,2.66,2,38.26,2,0,2,116.19,2,34.6704,2,2.575,1,0.017,1,4.683,1,116.9,2
33RR20180918, GP15,23,9,2,GSNIS-3    ,2,6841,14441,20181102,1544,7.4995,-152.0082,5322,2938.7,1.7845,34.6711,2,-999,9,20181102,1544,7.4995,-152.0081,155.63,2,2.66,2,38.28,2,0,2,-999,9,-999,9,2.576,1,0.017,1,4.683,1,116.9,2
33RR20180918, GP15,23,9,3,GSNIS-4    ,2,6841,14440,20181102,1544,7.4995,-152.0082,5322,2784.3,1.8293,34.6685,2,1.8297,2,20181102,1548,7.4995,-152.0081,155.24,2,2.69,2,38.51,2,0,2,112.7,2,34.6679,2,2.59,1,0.018,1,4.683,1,113.3,2
33RR20180918, GP15,23,9,4,GSNIS-5    ,2,6841,14440,20181102,1544,7.4995,-152.0082,5322,2784.1,1.8295,34.6685,2,-999,9,20181102,1548,7.4995,-152.0081,155.34,2,2.69,2,38.5,2,0,2,-999,9,-999,9,2.59,1,0.017,1,4.682,1,113.3,2
33RR20180918, GP15,23,9,5,GSNIS-6    ,2,6841,14440,20181102,1544,7.4995,-152.0082,5322,2784.3,1.8298,34.6686,2,-999,9,20181102,1548,7.4995,-152.0081,155.14,2,2.68,2,38.49,2,0,2,-999,9,-999,9,2.589,1,0.017,1,4.683,1,113.2,2
33RR20180918, GP15,23,9,6,GSNIS-7    ,2,6841,14439,20181102,1544,7.4995,-152.0082,5322,2630.6,1.8653,34.6655,2,1.8658,2,20181102,1552,7.4995,-152.0081,153.48,2,2.7,2,38.52,2,0,2,112,2,34.6657,2,2.571,1,0.017,1,4.683,1,111.9,2
33RR20180918, GP15,23,9,7,GSNIS-8    ,2,6841,14439,20181102,1544,7.4995,-152.0082,5322,2630.8,1.8656,34.6655,2,-999,9,20181102,1552,7.4995,-152.0081,153.77,2,2.69,2,38.54,2,0,2,-999,9,-999,9,2.571,1,0.017,1,4.682,1,111.9,2
33RR20180918, GP15,23,9,8,GSNIS-9    ,2,6841,14439,20181102,1544,7.4995,-152.0082,5322,2631.3,1.8657,34.6655,2,-999,9,20181102,1552,7.4995,-152.0081,153.68,2,2.7,2,38.48,2,0,2,-999,9,-999,9,2.571,1,0.017,1,4.682,1,111.6,2
33RR20180918, GP15,23,9,9,GSNIS-10   ,2,6841,14439,20181102,1544,7.4995,-152.0082,5322,2631.3,1.8661,34.6656,2,-999,9,20181102,1552,7.4995,-152.0081,153.48,2,2.69,2,38.52,2,0,2,-999,9,-999,9,2.57,1,0.017,1,4.682,1,111.9,2
33RR20180918, GP15,23,9,10,GSNIS-11   ,2,6841,14438,20181102,1544,7.4995,-152.0082,5322,2479,1.9095,34.662,2,1.9088,2,20181102,1556,7.4995,-152.0081,152.7,2,2.71,2,38.78,2,0,2,108.44,2,34.6618,2,2.549,1,0.017,1,4.682,1,109.2,2
33RR20180918, GP15,23,9,11,GSNIS-12   ,2,6841,14438,20181102,1544,7.4995,-152.0082,5322,2479.4,1.909,34.6621,2,-999,9,20181102,1556,7.4995,-152.0081,152.8,2,2.71,2,38.79,2,0,2,-999,9,-999,9,2.548,1,0.017,1,4.682,1,109,2
33RR20180918, GP15,23,9,12,GSNIS-13   ,2,6841,14438,20181102,1544,7.4995,-152.0082,5322,2478.6,1.909,34.662,2,-999,9,20181102,1556,7.4995,-152.0081,152.8,2,2.71,2,38.8,2,0,2,-999,9,-999,9,2.549,1,0.017,1,4.681,1,109,2
33RR20180918, GP15,23,9,13,GSNIS-14   ,2,6841,14437,20181102,1544,7.4995,-152.0082,5322,2327.2,1.9788,34.6571,2,1.9795,2,20181102,1600,7.4995,-152.0081,150.65,2,2.75,2,39.03,2,0,2,105.86,2,34.6572,2,2.53,1,0.017,1,4.681,1,106.4,2
33RR20180918, GP15,23,9,14,GSNIS-15   ,2,6841,14437,20181102,1544,7.4995,-152.0082,5322,2327.6,1.9801,34.6568,2,-999,9,20181102,1600,7.4995,-152.0082,150.65,2,2.75,2,39.03,2,0,2,-999,9,-999,9,2.53,1,0.017,1,4.681,1,106.5,2
33RR20180918, GP15,23,9,15,GSNIS-16   ,2,6841,14437,20181102,1544,7.4995,-152.0082,5322,2326,1.9793,34.6571,2,-999,9,20181102,1600,7.4995,-152.0081,150.65,2,2.75,2,39.02,2,0,2,-999,9,-999,9,2.53,1,0.017,1,4.681,1,106.2,2
33RR20180918, GP15,23,9,16,GSNIS-17   ,2,6841,14437,20181102,1544,7.4995,-152.0082,5322,2327.5,1.9805,34.657,2,-999,9,20181102,1600,7.4995,-152.0082,150.65,2,2.75,2,39.05,2,0,2,-999,9,-999,9,2.53,1,0.017,1,4.681,1,106.4,2
33RR20180918, GP15,23,9,17,GSNIS-18   ,2,6841,14436,20181102,1544,7.4995,-152.0082,5322,2175.1,2.0768,34.6503,2,2.077,2,20181102,1604,7.4995,-152.0081,147.13,2,2.75,2,39.18,2,0,2,103.48,2,34.6502,2,2.51,1,0.017,1,4.681,1,103.4,2
33RR20180918, GP15,23,9,18,GSNIS-19   ,2,6841,14436,20181102,1544,7.4995,-152.0082,5322,2174.8,2.0772,34.6504,2,-999,9,20181102,1604,7.4995,-152.0081,147.13,2,2.76,2,39.17,2,0,2,-999,9,-999,9,2.51,1,0.018,1,4.681,1,103.2,2
33RR20180918, GP15,23,9,19,GSNIS-20   ,2,6841,14436,20181102,1544,7.4995,-152.0082,5322,2173.8,2.0775,34.6503,2,-999,9,20181102,1604,7.4995,-152.0081,146.93,2,2.76,2,39.17,2,0,2,-999,9,-999,9,2.51,1,0.017,1,4.681,1,103.3,2
33RR20180918, GP15,23,9,20,GSNIS-21   ,2,6841,14436,20181102,1544,7.4995,-152.0082,5322,2174.6,2.0779,34.6502,2,-999,9,20181102,1604,7.4995,-152.0081,147.13,2,2.76,2,39.18,2,0,2,-999,9,-999,9,2.51,1,0.017,1,4.681,1,103.4,2
33RR20180918, GP15,23,9,21,GSNIS-22   ,2,6841,14435,20181102,1544,7.4995,-152.0082,5322,2022.4,2.2307,34.6414,2,2.2314,2,20181102,1608,7.4995,-152.0081,143.8,2,2.79,2,39.59,2,0,2,98.11,2,34.6409,2,2.492,1,0.017,1,4.681,1,97.8,2
33RR20180918, GP15,23,9,22,GSNIS-23   ,2,6841,14435,20181102,1544,7.4995,-152.0082,5322,2021.8,2.2316,34.6413,2,-999,9,20181102,1608,7.4995,-152.0081,143.71,2,2.79,2,39.55,2,0,2,-999,9,-999,9,2.492,1,0.017,1,4.68,1,98,2
33RR20180918, GP15,23,9,23,GSNIS-24   ,2,6841,14434,20181102,1544,7.4995,-152.0082,5322,1768,2.556,34.6247,2,2.5566,2,20181102,1613,7.4995,-152.0081,136.47,2,2.87,2,40.19,2,0,2,87.46,2,34.6256,2,2.465,1,0.017,1,4.68,1,86.2,2
33RR20180918, GP15,23,9,24,GSNIS-25   ,2,6841,14434,20181102,1544,7.4995,-152.0082,5322,1767.1,2.556,34.6248,2,-999,9,20181102,1613,7.4995,-152.0081,136.67,2,2.87,2,40.21,2,0,2,-999,9,-999,9,2.466,1,0.018,1,4.68,1,86.9,2
33RR20180918, GP15,23,9,25,GSNIS-26   ,2,6841,14434,20181102,1544,7.4995,-152.0082,5322,1768.1,2.5569,34.6247,2,-999,9,20181102,1614,7.4995,-152.0081,136.57,2,2.86,2,40.2,2,0,2,-999,9,-999,9,2.465,1,0.018,1,4.68,1,86.8,2
33RR20180918, GP15,23,9,26,GSNIS-27   ,2,6841,14433,20181102,1544,7.4995,-152.0082,5322,1515,3.0116,34.6067,2,3.0115,2,20181102,1619,7.4995,-152.0082,126.9,2,2.96,2,41.2,2,0,2,72.93,2,34.6073,2,2.476,1,0.018,1,4.679,1,72.3,2
33RR20180918, GP15,23,9,27,GSNIS-28   ,2,6841,14433,20181102,1544,7.4995,-152.0082,5322,1514.8,3.0113,34.6065,2,-999,9,20181102,1619,7.4995,-152.0082,126.9,2,2.95,2,41.17,2,0,2,-999,9,-999,9,2.477,1,0.018,1,4.679,1,72.4,2
33RR20180918, GP15,23,9,28,GSNIS-29   ,2,6841,14432,20181102,1544,7.4995,-152.0082,5322,1261.9,3.6599,34.5824,2,3.6606,2,20181102,1625,7.4995,-152.0081,112.43,2,3.04,2,42.07,2,0,2,59.02,2,34.583,2,2.555,1,0.017,1,4.678,1,58.7,2
33RR20180918, GP15,23,9,29,GSNIS-30   ,2,6841,14432,20181102,1544,7.4995,-152.0082,5322,1261.8,3.6594,34.5823,2,-999,9,20181102,1625,7.4995,-152.0081,112.23,2,3.04,2,42.02,2,0,2,-999,9,-999,9,2.557,1,0.018,1,4.678,1,58.3,2
33RR20180918, GP15,23,9,30,GSNIS-31   ,2,6841,14432,20181102,1544,7.4995,-152.0082,5322,1262.6,3.6611,34.5828,2,-999,9,20181102,1625,7.4995,-152.0081,112.43,2,3.04,2,42.09,2,0,2,-999,9,-999,9,2.558,1,0.018,1,4.678,1,58.4,2
33RR20180918, GP15,23,9,31,GSNIS-32   ,2,6841,14432,20181102,1544,7.4995,-152.0082,5322,1262.2,3.6614,34.5828,2,-999,9,20181102,1625,7.4995,-152.0081,112.33,2,3.03,2,42.08,2,0,2,-999,9,-999,9,2.559,1,0.018,1,4.678,1,57.8,2
33RR20180918, GP15,23,9,32,GSNIS-33   ,2,6841,14431,20181102,1544,7.4995,-152.0082,5322,1008.4,4.6107,34.5572,2,4.6091,2,20181102,1630,7.4995,-152.0081,90.53,2,3.02,2,42,2,0,2,52.43,2,34.5574,2,2.671,1,0.018,1,4.678,1,52.3,2
33RR20180918, GP15,23,9,33,GSNIS-34   ,2,6841,14431,20181102,1544,7.4995,-152.0082,5322,1008.4,4.6082,34.5573,2,-999,9,20181102,1630,7.4995,-152.0082,90.43,2,3.01,2,41.93,2,0,2,-999,9,-999,9,2.673,1,0.018,1,4.678,1,51.5,2
33RR20180918, GP15,23,9,34,GSNIS-35   ,2,6841,14430,20181102,1544,7.4995,-152.0082,5322,806.9,5.6616,34.5411,2,5.6586,2,20181102,1635,7.4995,-152.0082,73.23,2,2.98,2,41.81,2,0,2,37.65,2,34.5419,2,2.75,1,0.018,1,4.677,1,36.5,2
33RR20180918, GP15,23,9,35,GSNIS-36   ,2,6841,14430,20181102,1544,7.4995,-152.0082,5322,807.1,5.6616,34.5412,2,-999,9,20181102,1635,7.4995,-152.0082,73.23,2,2.99,2,41.83,2,0,2,-999,9,-999,9,2.752,1,0.018,1,4.676,1,36.2,2
33RR20180918, GP15,23,9,36,GSNIS-1    ,2,6841,14430,20181102,1544,7.4995,-152.0082,5322,806.6,5.6613,34.5414,2,-999,9,20181102,1635,7.4995,-152.0082,72.93,2,2.98,2,41.79,2,0,2,-999,9,-999,9,2.753,1,0.018,1,4.676,1,36.2,2
33RR20180918, GP15,23,13,1,GSNIS-2    ,2,6844,14486,20181103,1145,7.4992,-151.9866,5322,5263,1.4513,34.6969,2,1.4512,2,20181103,1145,7.5002,-151.9891,136.14,2,2.35,2,34.54,2,0,2,169.79,2,34.6973,2,2.178,1,0.017,1,4.683,1,171.8,3
33RR20180918, GP15,23,13,2,GSNIS-3    ,2,6844,14486,20181103,1145,7.4992,-151.9866,5322,5264.3,1.4513,34.6969,2,-999,9,20181103,1145,7.5002,-151.9891,136.14,2,2.36,2,34.56,2,0,2,-999,9,-999,9,2.177,1,0.017,1,4.682,1,171.4,2
33RR20180918, GP15,23,13,3,GSNIS-4    ,2,6844,14485,20181103,1145,7.4992,-151.9866,5322,5222.4,1.4462,34.697,2,1.4462,2,20181103,1148,7.5001,-151.989,136.23,2,2.36,2,34.57,2,0,2,172.43,2,34.6967,2,2.172,1,0.017,1,4.683,1,171.7,2
33RR20180918, GP15,23,13,4,GSNIS-5    ,2,6844,14485,20181103,1145,7.4992,-151.9866,5322,5222.7,1.4462,34.6969,2,-999,9,20181103,1148,7.5001,-151.989,136.14,2,2.36,2,34.53,2,0,2,-999,9,-999,9,2.172,1,0.017,1,4.683,1,171.6,2
33RR20180918, GP15,23,13,5,GSNIS-6    ,2,6844,14484,20181103,1145,7.4992,-151.9866,5322,5140.1,1.4362,34.697,2,1.4362,2,20181103,1151,7.5001,-151.9888,136.14,2,2.34,2,34.54,2,0,2,172.18,2,34.6979,2,2.171,1,0.017,1,4.683,1,171.7,2
33RR20180918, GP15,23,13,6,GSNIS-7    ,2,6844,14484,20181103,1145,7.4992,-151.9866,5322,5140.2,1.4364,34.6969,2,-999,9,20181103,1151,7.5001,-151.9888,136.33,2,2.34,2,34.57,2,0,2,-999,9,-999,9,2.171,1,0.017,1,4.683,1,172.3,2
33RR20180918, GP15,23,13,7,GSNIS-8    ,3,6844,14484,20181103,1145,7.4992,-151.9866,5322,5139.5,1.4362,34.6969,3,-999,9,20181103,1151,7.5001,-151.9888,134.48,3,2.33,3,34.28,3,0,3,-999,9,-999,9,2.171,1,0.017,1,4.683,1,172.3,3
33RR20180918, GP15,23,13,8,GSNIS-9    ,2,6844,14484,20181103,1145,7.4992,-151.9866,5322,5140.4,1.4364,34.6968,2,1.4361,2,20181103,1151,7.5001,-151.9888,135.94,2,2.34,2,34.51,2,0,2,-999,9,-999,9,2.171,1,0.017,1,4.683,1,172.2,2
33RR20180918, GP15,23,13,9,GSNIS-10   ,2,6844,14483,20181103,1145,7.4992,-151.9866,5322,4832.1,1.409,34.6966,2,1.4087,2,20181103,1158,7.4999,-151.9885,136.72,2,2.36,2,34.64,2,0,2,171.34,2,34.6965,2,2.167,1,0.017,1,4.683,1,170.1,2
33RR20180918, GP15,23,13,10,GSNIS-11   ,2,6844,14483,20181103,1145,7.4992,-151.9866,5322,4830.4,1.4088,34.6966,2,-999,9,20181103,1158,7.4999,-151.9885,136.82,2,2.37,2,34.6,2,0,2,-999,9,-999,9,2.167,1,0.017,1,4.683,1,170.3,2
33RR20180918, GP15,23,13,11,GSNIS-12   ,2,6844,14483,20181103,1145,7.4992,-151.9866,5322,4832,1.409,34.6967,2,-999,9,20181103,1158,7.4999,-151.9885,137.02,2,2.36,2,34.61,2,0,2,-999,9,-999,9,2.167,1,0.017,1,4.684,1,170.8,2
33RR20180918, GP15,23,13,12,GSNIS-13   ,2,6844,14483,20181103,1145,7.4992,-151.9866,5322,4830,1.4086,34.6966,2,1.4087,2,20181103,1158,7.4999,-151.9884,137.02,2,2.36,2,34.62,2,0,2,-999,9,-999,9,2.167,1,0.017,1,4.683,1,170.5,2
33RR20180918, GP15,23,13,13,GSNIS-14   ,2,6844,14482,20181103,1145,7.4992,-151.9866,5322,4575.8,1.3937,34.6962,2,1.3935,2,20181103,1204,7.4998,-151.9882,137.99,2,2.37,2,34.72,2,0,2,169.15,2,34.6958,2,2.166,1,0.017,1,4.683,1,169.1,2
33RR20180918, GP15,23,13,14,GSNIS-15   ,2,6844,14482,20181103,1145,7.4992,-151.9866,5322,4575.7,1.3936,34.6963,2,-999,9,20181103,1204,7.4998,-151.9882,137.8,2,2.37,2,34.71,2,0,2,-999,9,-999,9,2.166,1,0.017,1,4.684,1,168.6,2
33RR20180918, GP15,23,13,15,GSNIS-16   ,2,6844,14482,20181103,1145,7.4992,-151.9866,5322,4575.3,1.3937,34.6962,2,-999,9,20181103,1204,7.4998,-151.9882,137.6,2,2.37,2,34.67,2,0,2,-999,9,-999,9,2.166,1,0.017,1,4.684,1,169.4,2
33RR20180918, GP15,23,13,16,GSNIS-17   ,2,6844,14481,20181103,1145,7.4992,-151.9866,5322,4316.7,1.39,34.6954,2,1.3899,2,20181103,1209,7.4997,-151.9879,139.26,2,2.38,2,34.9,2,0,2,166.25,2,34.695,2,2.167,1,0.016,1,4.684,1,166.5,2
33RR20180918, GP15,23,13,17,GSNIS-18   ,2,6844,14481,20181103,1145,7.4992,-151.9866,5322,4317,1.39,34.6953,2,-999,9,20181103,1209,7.4997,-151.9879,139.66,2,2.38,2,34.94,2,0,2,-999,9,-999,9,2.167,1,0.016,1,4.684,1,165.8,2
33RR20180918, GP15,23,13,18,GSNIS-19   ,2,6844,14480,20181103,1145,7.4992,-151.9866,5322,4060.8,1.4128,34.6929,2,1.4124,2,20181103,1215,7.4995,-151.9876,142,2,2.41,2,35.33,2,0,2,160.89,2,34.6928,2,2.175,1,0.016,1,4.684,1,160.2,2
33RR20180918, GP15,23,13,19,GSNIS-20   ,2,6844,14480,20181103,1145,7.4992,-151.9866,5322,4061.1,1.4126,34.6931,2,-999,9,20181103,1215,7.4995,-151.9876,142.39,2,2.42,2,35.33,2,0,2,-999,9,-999,9,2.175,1,0.016,1,4.684,1,160.4,2
33RR20180918, GP15,23,13,20,GSNIS-21   ,2,6844,14480,20181103,1145,7.4992,-151.9866,5322,4061.4,1.4125,34.6932,2,-999,9,20181103,1215,7.4995,-151.9876,142.39,2,2.42,2,35.34,2,0,2,-999,9,-999,9,2.175,1,0.017,1,4.683,1,160.8,2
33RR20180918, GP15,23,13,21,GSNIS-22   ,2,6844,14480,20181103,1145,7.4992,-151.9866,5322,4060.5,1.4127,34.693,2,-999,9,20181103,1216,7.4995,-151.9876,142.59,2,2.42,2,35.36,2,0,2,-999,9,-999,9,2.175,1,0.017,1,4.684,1,160.8,2
33RR20180918, GP15,23,13,22,GSNIS-23   ,2,6844,14479,20181103,1145,7.4992,-151.9866,5322,3805.3,1.4685,34.6886,2,1.4683,2,20181103,1221,7.4994,-151.9873,146.89,2,2.47,2,36.01,2,0,2,151.81,2,34.6881,2,2.19,1,0.017,1,4.683,1,151.2,2
33RR20180918, GP15,23,13,23,GSNIS-24   ,2,6844,14479,20181103,1145,7.4992,-151.9866,5322,3806.7,1.4685,34.6886,2,-999,9,20181103,1221,7.4993,-151.9873,146.69,2,2.47,2,35.96,2,0,2,-999,9,-999,9,2.19,1,0.017,1,4.683,1,151,2
33RR20180918, GP15,23,13,24,GSNIS-25   ,2,6844,14478,20181103,1145,7.4992,-151.9866,5322,3548.5,1.55,34.6834,2,1.5497,2,20181103,1227,7.4992,-151.987,151.68,2,2.53,2,36.78,2,0,2,140.1,2,34.6834,2,2.22,1,0.016,1,4.683,1,140,2
33RR20180918, GP15,23,13,25,GSNIS-26   ,2,6844,14478,20181103,1145,7.4992,-151.9866,5322,3548.6,1.5499,34.6834,2,-999,9,20181103,1227,7.4992,-151.987,151.87,2,2.53,2,36.79,2,0,2,-999,9,-999,9,2.22,1,0.017,1,4.683,1,140.2,2
33RR20180918, GP15,23,13,26,GSNIS-27   ,2,6844,14478,20181103,1145,7.4992,-151.9866,5322,3548.5,1.5499,34.6834,2,-999,9,20181103,1227,7.4993,-151.987,151.78,2,2.52,2,36.79,2,0,2,-999,9,-999,9,2.221,1,0.016,1,4.683,1,140.1,2
33RR20180918, GP15,23,13,27,GSNIS-28   ,2,6844,14477,20181103,1145,7.4992,-151.9866,5322,3345.2,1.609,34.68,2,1.6087,2,20181103,1232,7.4992,-151.9868,154.02,2,2.57,2,37.26,2,0,2,132.71,2,34.68,2,2.261,1,0.016,1,4.682,1,132.1,2
33RR20180918, GP15,23,13,28,GSNIS-29   ,2,6844,14477,20181103,1145,7.4992,-151.9866,5322,3345.3,1.609,34.6801,2,-999,9,20181103,1232,7.4992,-151.9868,154.02,2,2.57,2,37.24,2,0,2,-999,9,-999,9,2.262,1,0.017,1,4.682,1,132.1,2
33RR20180918, GP15,23,13,29,GSNIS-30   ,2,6844,14477,20181103,1145,7.4992,-151.9866,5322,3345.7,1.609,34.6801,2,-999,9,20181103,1232,7.4992,-151.9868,154.02,2,2.57,2,37.24,2,0,2,-999,9,-999,9,2.263,1,0.016,1,4.682,1,132.2,2
33RR20180918, GP15,23,13,30,GSNIS-31   ,3,6844,14477,20181103,1145,7.4992,-151.9866,5322,3345.5,1.6088,34.6802,3,-999,9,20181103,1232,7.4992,-151.9868,150.6,3,2.53,3,36.66,3,0,3,-999,9,-999,9,2.264,1,0.017,1,4.681,1,132.1,3
33RR20180918, GP15,23,13,31,GSNIS-32   ,2,6844,14476,20181103,1145,7.4992,-151.9866,5322,3143.3,1.6921,34.676,2,1.692,2,20181103,1237,7.4991,-151.9867,154.61,2,2.62,2,37.71,2,0,2,124.3,2,34.6757,2,2.295,1,0.017,1,4.682,1,124.6,2
33RR20180918, GP15,23,13,32,GSNIS-33   ,2,6844,14476,20181103,1145,7.4992,-151.9866,5322,3142.7,1.6921,34.676,2,-999,9,20181103,1237,7.4991,-151.9867,154.71,2,2.62,2,37.69,2,0,2,-999,9,-999,9,2.296,1,0.017,1,4.681,1,124.4,2
33RR20180918, GP15,23,13,33,GSNIS-34   ,2,6844,14476,20181103,1145,7.4992,-151.9866,5322,3142.7,1.6922,34.6759,2,-999,9,20181103,1237,7.4991,-151.9867,154.61,2,2.61,2,37.68,2,0,2,-999,9,-999,9,2.296,1,0.017,1,4.682,1,124.3,2
33RR20180918, GP15,23,13,34,GSNIS-35   ,2,6844,14475,20181103,1145,7.4992,-151.9866,5322,2940.8,1.7863,34.6713,2,1.7859,2,20181103,1242,7.4991,-151.9866,154.61,2,2.64,2,38.05,2,0,2,116.49,2,34.6724,2,2.328,1,0.017,1,4.681,1,116.5,2
33RR20180918, GP15,23,13,35,GSNIS-36   ,2,6844,14475,20181103,1145,7.4992,-151.9866,5322,2939.4,1.7862,34.6713,2,-999,9,20181103,1242,7.4991,-151.9867,154.81,2,2.63,2,38.08,2,0,2,-999,9,-999,9,2.329,1,0.017,1,4.682,1,116.8,2
33RR20180918, GP15,23,13,36,GSNIS-1    ,2,6844,14475,20181103,1145,7.4992,-151.9866,5322,2940.5,1.7864,34.6712,2,-999,9,20181103,1242,7.4992,-151.9866,154.42,2,2.63,2,38.06,2,0,2,-999,9,-999,9,2.33,1,0.017,1,4.681,1,116.6,2