BOTTLE,20191212SIOCCHAMB
EXPOCODE,SECT_ID,STNNBR,CASTNO,SAMPNO,BTLNBR,BTLNBR_FLAG_W,GEOTRC_EVENTNO,GEOTRC_SAMPNO,DATE,TIME,LATITUDE,LONGITUDE,DEPTH,CTDPRS,CTDTMP,CTDSAL,CTDSAL_FLAG_W,REFTMP,REFTMP_FLAG_W,BTL_DATE,BTL_TIME,BTL_LAT,BTL_LON,SILCAT,SILCAT_FLAG_W,PHSPHT,PHSPHT_FLAG_W,NITRAT,NITRAT_FLAG_W,NITRIT,NITRIT_FLAG_W,OXYGEN,OXYGEN_FLAG_W,SALNTY,SALNTY_FLAG_W,CTDRINKO,CTDRINKO_FLAG_W,CTDFLUOR,CTDFLUOR_FLAG_W,CTDXMISS,CTDXMISS_FLAG_W,CTDOXY,CTDOXY_FLAG_W
,,,,,,,,,,,,,METERS,DBAR,ITS-90,PSS-78,,ITS-90,,,,,,UMOL/KG,,UMOL/KG,,UMOL/KG,,UMOL/KG,,UMOL/KG,,PSS-78,,VOLTS,,VOLTS,,VOLTS,,UMOL/KG,
33RR20180918, GP15,5,9,1,GSNIS-1    ,2,6528,12426,20180925,1727,53.6799,-153.8006,4691,4667,1.4921,34.6866,2,1.4917,2,20180925,1727,53.6799,-153.8005,155.88,2,2.42,2,35.85,2,0,2,153.7,2,34.685,2,2.313,1,0.017,1,4.681,1,152.7,2
33RR20180918, GP15,5,9,2,GSNIS-2    ,2,6528,12426,20180925,1727,53.6799,-153.8006,4691,4666.5,1.492,34.6865,2,-999,9,20180925,1727,53.6799,-153.8005,156.07,2,2.41,2,35.86,2,0,2,-999,9,-999,9,2.313,1,0.017,1,4.682,1,153.4,2
33RR20180918, GP15,5,9,3,GSNIS-3    ,2,6528,12426,20180925,1727,53.6799,-153.8006,4691,4666.7,1.4921,34.6864,2,-999,9,20180925,1727,53.6799,-153.8005,155.88,2,2.4,2,35.83,2,0,2,-999,9,-999,9,2.313,1,0.017,1,4.681,1,153.2,2
33RR20180918, GP15,5,9,4,GSNIS-4    ,2,6528,12425,20180925,1727,53.6799,-153.8006,4691,4589.8,1.5052,34.6841,2,1.5048,2,20180925,1732,53.6799,-153.8005,158.71,2,2.45,2,36.16,2,0,2,149.05,2,34.6843,2,2.305,1,0.017,1,4.698,1,148.4,2
33RR20180918, GP15,5,9,5,GSNIS-5    ,2,6528,12425,20180925,1727,53.6799,-153.8006,4691,4589.2,1.5051,34.6841,2,-999,9,20180925,1732,53.6799,-153.8005,158.22,2,2.44,2,36.12,2,0,2,-999,9,-999,9,2.305,1,0.017,1,4.698,1,149,2
33RR20180918, GP15,5,9,6,GSNIS-6    ,2,6528,12425,20180925,1727,53.6799,-153.8006,4691,4590.3,1.5051,34.6843,2,-999,9,20180925,1732,53.6799,-153.8005,158.61,2,2.43,2,36.12,2,0,2,-999,9,-999,9,2.305,1,0.017,1,4.699,1,148.1,2
33RR20180918, GP15,5,9,7,GSNIS-7    ,2,6528,12424,20180925,1727,53.6799,-153.8006,4691,4435.5,1.5135,34.6818,2,1.5131,2,20180925,1736,53.6799,-153.8006,163.1,2,2.46,2,36.54,2,0,2,144.06,2,34.6813,2,2.302,1,0.017,1,4.703,1,145.3,2
33RR20180918, GP15,5,9,8,GSNIS-8    ,2,6528,12424,20180925,1727,53.6799,-153.8006,4691,4434.6,1.5135,34.6818,2,-999,9,20180925,1736,53.6799,-153.8006,162.61,2,2.46,2,36.54,2,0,2,-999,9,-999,9,2.302,1,0.017,1,4.703,1,145.3,2
33RR20180918, GP15,5,9,9,GSNIS-9    ,2,6528,12424,20180925,1727,53.6799,-153.8006,4691,4435.1,1.5135,34.6818,2,-999,9,20180925,1736,53.6799,-153.8006,162.81,2,2.46,2,36.52,2,0,2,-999,9,-999,9,2.302,1,0.017,1,4.702,1,144.5,2
33RR20180918, GP15,5,9,10,GSNIS-10   ,2,6528,12423,20180925,1727,53.6799,-153.8006,4691,4228.3,1.504,34.6799,2,1.5036,2,20180925,1741,53.6799,-153.8006,163.39,2,2.48,2,36.64,2,0,2,142.63,2,34.6797,2,2.298,1,0.017,1,4.707,1,143.7,2
33RR20180918, GP15,5,9,11,GSNIS-11   ,2,6528,12423,20180925,1727,53.6799,-153.8006,4691,4229.4,1.5043,34.6798,2,-999,9,20180925,1741,53.6799,-153.8006,163.3,2,2.48,2,36.61,2,0,2,-999,9,-999,9,2.298,1,0.017,1,4.707,1,143.5,2
33RR20180918, GP15,5,9,12,GSNIS-12   ,2,6528,12423,20180925,1727,53.6799,-153.8006,4691,4228.1,1.5041,34.6799,2,-999,9,20180925,1741,53.6799,-153.8006,163.39,2,2.5,2,36.76,2,0,2,-999,9,-999,9,2.298,1,0.017,1,4.706,1,143.2,2
33RR20180918, GP15,5,9,13,GSNIS-13   ,2,6528,12422,20180925,1727,53.6799,-153.8006,4691,3562.9,1.4993,34.6711,2,1.4986,2,20180925,1754,53.6799,-153.8006,164.96,2,2.52,2,37.4,2,0,2,131.04,2,34.6711,2,2.288,1,0.017,1,4.712,1,132.3,2
33RR20180918, GP15,5,9,14,GSNIS-14   ,2,6528,12422,20180925,1727,53.6799,-153.8006,4691,3562,1.4991,34.6711,2,-999,9,20180925,1754,53.6799,-153.8006,164.66,2,2.52,2,37.44,2,0,2,-999,9,-999,9,2.286,1,0.017,1,4.712,1,131.9,2
33RR20180918, GP15,5,9,15,GSNIS-15   ,2,6528,12422,20180925,1727,53.6799,-153.8006,4691,3563.2,1.4991,34.6712,2,-999,9,20180925,1754,53.6799,-153.8006,164.66,2,2.52,2,37.38,2,0,2,-999,9,-999,9,2.286,1,0.017,1,4.712,1,132.4,2
33RR20180918, GP15,5,9,16,GSNIS-16   ,2,6528,12421,20180925,1727,53.6799,-153.8006,4691,3052.2,1.5695,34.6549,2,1.569,2,20180925,1804,53.6799,-153.8006,167.2,2,2.62,2,38.61,2,0,2,113.39,2,34.655,2,2.276,1,0.017,1,4.711,1,111.4,3
33RR20180918, GP15,5,9,17,GSNIS-17   ,2,6528,12421,20180925,1727,53.6799,-153.8006,4691,3051,1.5695,34.6548,2,-999,9,20180925,1804,53.6799,-153.8006,167.11,2,2.62,2,38.64,2,0,2,-999,9,-999,9,2.276,1,0.017,1,4.711,1,111.6,2
33RR20180918, GP15,5,9,18,GSNIS-18   ,2,6528,12421,20180925,1727,53.6799,-153.8006,4691,3052.5,1.5697,34.6549,2,-999,9,20180925,1804,53.6799,-153.8006,166.81,2,2.59,2,38.65,2,0,2,-999,9,-999,9,2.276,1,0.017,1,4.708,1,111.2,2
33RR20180918, GP15,5,9,19,GSNIS-19   ,2,6528,12420,20180925,1727,53.6799,-153.8006,4691,2540.9,1.6942,34.6306,2,1.6935,2,20180925,1814,53.6799,-153.8006,170.23,2,2.73,2,40.28,2,0,2,88.09,2,34.6303,2,2.283,1,0.017,1,4.71,1,86.6,2
33RR20180918, GP15,5,9,20,GSNIS-20   ,2,6528,12420,20180925,1727,53.6799,-153.8006,4691,2540.2,1.6944,34.6304,2,-999,9,20180925,1814,53.6799,-153.8006,170.23,2,2.73,2,40.24,2,0,2,-999,9,-999,9,2.283,1,0.017,1,4.711,1,86.4,2
33RR20180918, GP15,5,9,21,GSNIS-21   ,2,6528,12420,20180925,1727,53.6799,-153.8006,4691,2540.4,1.6942,34.6304,2,-999,9,20180925,1814,53.6799,-153.8006,170.43,2,2.76,2,40.26,2,0,2,-999,9,-999,9,2.283,1,0.018,1,4.711,1,87,2
33RR20180918, GP15,5,9,22,GSNIS-22   ,2,6528,12419,20180925,1727,53.6799,-153.8006,4691,2031.9,1.8959,34.5909,2,1.8956,2,20180925,1824,53.6799,-153.8006,170.04,2,2.9,2,41.92,2,0,2,60.3,2,34.5921,2,2.293,1,0.018,1,4.71,1,60.3,2
33RR20180918, GP15,5,9,23,GSNIS-23   ,2,6528,12419,20180925,1727,53.6799,-153.8006,4691,2031.4,1.8961,34.5911,2,-999,9,20180925,1824,53.6799,-153.8006,169.65,2,2.88,2,42.06,2,0,2,-999,9,-999,9,2.294,1,0.018,1,4.71,1,60,2
33RR20180918, GP15,5,9,24,GSNIS-24   ,2,6528,12419,20180925,1727,53.6799,-153.8006,4691,2030.9,1.8962,34.591,2,-999,9,20180925,1824,53.6799,-153.8006,169.46,2,2.88,2,41.98,2,0.01,2,-999,9,-999,9,2.295,1,0.018,1,4.71,1,60.3,2
33RR20180918, GP15,5,9,25,GSNIS-25   ,2,6528,12418,20180925,1727,53.6799,-153.8006,4691,1776.3,2.0283,34.5617,2,2.0276,2,20180925,1830,53.6799,-153.8006,167.8,2,2.93,2,42.65,2,0,2,50.1,2,34.5626,2,2.337,1,0.018,1,4.709,1,48.4,2
33RR20180918, GP15,5,9,26,GSNIS-26   ,2,6528,12418,20180925,1727,53.6799,-153.8006,4691,1776.4,2.0283,34.5618,2,-999,9,20180925,1830,53.6799,-153.8006,167.51,2,2.93,2,42.62,2,0,2,-999,9,-999,9,2.337,1,0.017,1,4.709,1,48.4,2
33RR20180918, GP15,5,9,27,GSNIS-27   ,2,6528,12418,20180925,1727,53.6799,-153.8006,4691,1776.3,2.0282,34.562,2,-999,9,20180925,1830,53.6799,-153.8006,167.02,2,2.93,2,42.56,2,0,2,-999,9,-999,9,2.338,1,0.017,1,4.709,1,49,2
33RR20180918, GP15,5,9,28,GSNIS-28   ,2,6528,12417,20180925,1727,53.6799,-153.8006,4691,1520.6,2.2065,34.5234,2,2.2059,2,20180925,1836,53.6799,-153.8006,163.51,2,3,2,43.15,2,0,2,39.5,2,34.5238,2,2.38,1,0.018,1,4.706,1,38,2
33RR20180918, GP15,5,9,29,GSNIS-29   ,2,6528,12417,20180925,1727,53.6799,-153.8006,4691,1520.7,2.2066,34.5234,2,-999,9,20180925,1836,53.6799,-153.8006,163.41,2,2.97,2,43.13,2,0,2,-999,9,-999,9,2.383,1,0.017,1,4.708,1,37.8,2
33RR20180918, GP15,5,9,30,GSNIS-30   ,3,6528,12417,20180925,1727,53.6799,-153.8006,4691,1521,2.2067,34.5232,3,-999,9,20180925,1836,53.6799,-153.8006,118.02,3,3.03,3,43.96,3,0,3,-999,9,-999,9,2.388,1,0.018,1,4.708,1,38.1,3
33RR20180918, GP15,5,9,31,GSNIS-31   ,2,6528,12416,20180925,1727,53.6799,-153.8006,4691,1266.9,2.4388,34.4707,2,2.4383,2,20180925,1842,53.6799,-153.8006,157.37,2,3,2,43.78,2,0,2,29.11,2,34.4717,2,2.574,1,0.018,1,4.706,1,28,2
33RR20180918, GP15,5,9,32,GSNIS-32   ,2,6528,12416,20180925,1727,53.6799,-153.8006,4691,1266.6,2.4388,34.4706,2,-999,9,20180925,1842,53.6799,-153.8006,157.07,2,3.02,2,43.65,2,0,2,-999,9,-999,9,2.574,1,0.018,1,4.707,1,27.9,2
33RR20180918, GP15,5,9,33,GSNIS-33   ,2,6528,12416,20180925,1727,53.6799,-153.8006,4691,1267.1,2.4388,34.4706,2,-999,9,20180925,1842,53.6799,-153.8006,156.98,2,3,2,43.64,2,0,2,-999,9,-999,9,2.573,1,0.018,1,4.707,1,27.9,2
33RR20180918, GP15,5,9,34,GSNIS-34   ,2,6528,12415,20180925,1727,53.6799,-153.8006,4691,1013,2.7594,34.4,2,2.7595,2,20180925,1848,53.6799,-153.8005,148.1,2,3.03,2,43.97,2,0,2,19,2,34.4009,2,2.705,1,0.018,1,4.706,1,19.9,2
33RR20180918, GP15,5,9,35,GSNIS-35   ,2,6528,12415,20180925,1727,53.6799,-153.8006,4691,1013.5,2.7597,34.4002,2,-999,9,20180925,1848,53.6799,-153.8006,148.3,2,3,2,43.9,2,0,2,-999,9,-999,9,2.706,1,0.018,1,4.706,1,20.2,2
33RR20180918, GP15,5,9,36,GSNIS-36   ,2,6528,12415,20180925,1727,53.6799,-153.8006,4691,1011.6,2.7605,34.3999,2,-999,9,20180925,1848,53.6799,-153.8006,147.91,2,2.94,2,43.82,2,0,2,-999,9,-999,9,2.712,1,0.018,1,4.706,1,20.1,2
33RR20180918, GP15,1,3,1,GSNIS-1    ,2,6532,12449,20180926,1231,56.0585,-156.9628,94,85.8,7.3101,32.3126,2,7.3108,2,20180926,1231,56.0585,-156.9627,19.26,2,1.33,2,14.96,2,0.11,2,234.36,2,32.29,2,1.581,1,0.022,1,4.582,1,228.5,3
33RR20180918, GP15,1,3,2,GSNIS-2    ,2,6532,12449,20180926,1231,56.0585,-156.9628,94,85.7,7.3381,32.2978,2,-999,9,20180926,1231,56.0585,-156.9627,19.26,2,1.32,2,14.95,2,0.1,2,-999,9,-999,9,1.582,1,0.021,1,4.58,1,228.9,3
33RR20180918, GP15,1,3,3,GSNIS-3    ,2,6532,12449,20180926,1231,56.0585,-156.9628,94,85.9,7.3157,32.3102,2,-999,9,20180926,1231,56.0585,-156.9627,19.36,2,1.31,2,15.03,2,0.1,2,-999,9,-999,9,1.582,1,0.022,1,4.585,1,228.5,3
33RR20180918, GP15,1,3,4,GSNIS-4    ,2,6532,12449,20180926,1231,56.0585,-156.9628,94,85.6,7.3191,32.3084,2,-999,9,20180926,1231,56.0585,-156.9627,19.36,2,1.31,2,15.03,2,0.1,2,-999,9,-999,9,1.583,1,0.022,1,4.581,1,228.5,3
33RR20180918, GP15,1,3,5,GSNIS-5    ,2,6532,12449,20180926,1231,56.0585,-156.9628,94,86.2,7.2661,32.3372,2,7.2619,2,20180926,1231,56.0585,-156.9627,19.75,2,1.33,2,15.21,2,0.1,2,-999,9,-999,9,1.584,1,0.022,1,4.58,1,227.1,3
33RR20180918, GP15,1,3,6,GSNIS-6    ,2,6532,12449,20180926,1231,56.0585,-156.9628,94,85.6,7.2681,32.335,2,-999,9,20180926,1231,56.0585,-156.9627,19.95,2,1.33,2,15.29,2,0.11,2,-999,9,-999,9,1.584,1,0.022,1,4.581,1,229.8,3
33RR20180918, GP15,1,3,7,GSNIS-7    ,2,6532,12448,20180926,1231,56.0585,-156.9628,94,71.3,7.3362,32.1507,2,7.3361,2,20180926,1233,56.0585,-156.9628,16.04,2,1.22,2,13.74,2,0.07,2,243.16,2,32.1618,2,1.59,1,0.02,1,4.609,1,240.1,2
33RR20180918, GP15,1,3,8,GSNIS-8    ,2,6532,12448,20180926,1231,56.0585,-156.9628,94,70.6,7.3409,32.1539,2,-999,9,20180926,1233,56.0585,-156.9627,15.94,2,1.23,2,13.69,2,0.07,2,-999,9,-999,9,1.59,1,0.02,1,4.608,1,239.6,2
33RR20180918, GP15,1,3,9,GSNIS-9    ,2,6532,12448,20180926,1231,56.0585,-156.9628,94,71,7.335,32.1501,2,-999,9,20180926,1233,56.0585,-156.9627,15.84,2,1.23,2,13.67,2,0.08,2,-999,9,-999,9,1.59,1,0.021,1,4.609,1,239.7,2
33RR20180918, GP15,1,3,10,GSNIS-10   ,2,6532,12448,20180926,1231,56.0585,-156.9628,94,71,7.3349,32.1491,2,-999,9,20180926,1233,56.0585,-156.9627,16.04,2,1.23,2,13.66,2,0.09,2,-999,9,-999,9,1.591,1,0.02,1,4.608,1,240.3,2
33RR20180918, GP15,1,3,11,GSNIS-11   ,2,6532,12448,20180926,1231,56.0585,-156.9628,94,70.8,7.3352,32.1478,2,7.3346,2,20180926,1233,56.0585,-156.9627,15.84,2,1.22,2,13.61,2,0.07,2,-999,9,-999,9,1.59,1,0.021,1,4.609,1,240,2
33RR20180918, GP15,1,3,12,GSNIS-12   ,2,6532,12448,20180926,1231,56.0585,-156.9628,94,71.1,7.3365,32.1493,2,-999,9,20180926,1233,56.0585,-156.9627,15.94,2,1.23,2,13.67,2,0.07,2,-999,9,-999,9,1.59,1,0.02,1,4.609,1,240.5,2
33RR20180918, GP15,1,3,13,GSNIS-13   ,2,6532,12447,20180926,1231,56.0585,-156.9628,94,50.6,8.6651,32.0857,2,8.6655,2,20180926,1235,56.0585,-156.9628,14.08,2,1.07,2,11.06,2,0.23,2,245.43,2,32.0871,2,1.579,1,0.024,1,4.598,1,241.7,2
33RR20180918, GP15,1,3,14,GSNIS-14   ,2,6532,12447,20180926,1231,56.0585,-156.9628,94,51.3,8.6689,32.0903,2,-999,9,20180926,1235,56.0585,-156.9628,14.08,2,1.07,2,10.97,2,0.24,2,-999,9,-999,9,1.577,1,0.024,1,4.597,1,241.3,2
33RR20180918, GP15,1,3,15,GSNIS-15   ,2,6532,12447,20180926,1231,56.0585,-156.9628,94,50.7,8.6652,32.0873,2,-999,9,20180926,1235,56.0585,-156.9627,14.08,2,1.07,2,10.92,2,0.24,2,-999,9,-999,9,1.576,1,0.024,1,4.599,1,241.6,2
33RR20180918, GP15,1,3,16,GSNIS-16   ,2,6532,12447,20180926,1231,56.0585,-156.9628,94,50.7,8.6668,32.0887,2,-999,9,20180926,1235,56.0585,-156.9627,14.08,2,1.06,2,10.9,2,0.25,2,-999,9,-999,9,1.575,1,0.024,1,4.598,1,241.5,2
33RR20180918, GP15,1,3,17,GSNIS-17   ,2,6532,12447,20180926,1231,56.0585,-156.9628,94,51.1,8.6674,32.0893,2,8.6677,2,20180926,1235,56.0585,-156.9627,14.08,2,1.07,2,10.91,2,0.24,2,-999,9,-999,9,1.574,1,0.025,1,4.598,1,241.4,2
33RR20180918, GP15,1,3,18,GSNIS-18   ,2,6532,12446,20180926,1231,56.0585,-156.9628,94,41.1,8.72,31.889,2,8.7209,2,20180926,1237,56.0585,-156.9627,11.64,2,0.97,2,9.61,2,0.23,2,251.6,2,31.897,2,1.562,1,0.028,1,4.604,1,246.3,2
33RR20180918, GP15,1,3,19,GSNIS-19   ,2,6532,12446,20180926,1231,56.0585,-156.9628,94,40.6,8.7263,31.8893,2,-999,9,20180926,1237,56.0585,-156.9627,11.74,2,0.98,2,9.62,2,0.24,2,-999,9,-999,9,1.562,1,0.028,1,4.604,1,245.7,2
33RR20180918, GP15,1,3,20,GSNIS-20   ,2,6532,12446,20180926,1231,56.0585,-156.9628,94,41.3,8.7185,31.8889,2,-999,9,20180926,1237,56.0585,-156.9627,11.64,2,0.97,2,9.6,2,0.25,2,-999,9,-999,9,1.562,1,0.028,1,4.603,1,246.4,2
33RR20180918, GP15,1,3,21,GSNIS-21   ,2,6532,12446,20180926,1231,56.0585,-156.9628,94,40.9,8.7198,31.8887,2,-999,9,20180926,1237,56.0585,-156.9627,11.74,2,0.96,2,9.63,2,0.23,2,-999,9,-999,9,1.562,1,0.028,1,4.603,1,245.7,2
33RR20180918, GP15,1,3,22,GSNIS-22   ,2,6532,12446,20180926,1231,56.0585,-156.9628,94,40.8,8.7224,31.8889,2,8.7235,2,20180926,1237,56.0585,-156.9627,11.74,2,0.96,2,9.63,2,0.23,2,-999,9,-999,9,1.561,1,0.027,1,4.604,1,245.7,2
33RR20180918, GP15,1,3,23,GSNIS-23   ,2,6532,12446,20180926,1231,56.0585,-156.9628,94,40.9,8.7265,31.8909,2,-999,9,20180926,1237,56.0585,-156.9627,11.64,2,0.95,2,9.62,2,0.23,2,-999,9,-999,9,1.561,1,0.029,1,4.604,1,245.8,2
33RR20180918, GP15,1,3,24,GSNIS-24   ,2,6532,12445,20180926,1231,56.0585,-156.9628,94,31,9.8355,31.8648,2,9.841,2,20180926,1239,56.0585,-156.9626,10.76,2,0.81,2,7.16,2,0.46,2,258.06,2,31.8602,2,1.549,1,0.05,1,4.55,1,257.8,2
33RR20180918, GP15,1,3,25,GSNIS-25   ,2,6532,12445,20180926,1231,56.0585,-156.9628,94,30.8,9.8416,31.874,2,-999,9,20180926,1239,56.0585,-156.9626,10.76,2,0.8,2,7.15,2,0.47,2,-999,9,-999,9,1.547,1,0.052,1,4.553,1,257.5,2
33RR20180918, GP15,1,3,26,GSNIS-26   ,2,6532,12445,20180926,1231,56.0585,-156.9628,94,31,9.813,31.9015,2,-999,9,20180926,1239,56.0585,-156.9627,10.56,2,0.79,2,6.97,2,0.46,2,-999,9,-999,9,1.547,1,0.05,1,4.548,1,256.2,2
33RR20180918, GP15,1,3,27,GSNIS-27   ,2,6532,12445,20180926,1231,56.0585,-156.9628,94,30.7,9.8489,31.851,2,-999,9,20180926,1239,56.0585,-156.9627,10.66,2,0.8,2,6.99,2,0.46,2,-999,9,-999,9,1.546,1,0.048,1,4.554,1,259,2
33RR20180918, GP15,1,3,28,GSNIS-28   ,2,6532,12445,20180926,1231,56.0585,-156.9628,94,30.9,9.822,31.8978,2,9.8212,2,20180926,1239,56.0585,-156.9627,10.47,2,0.78,2,6.84,2,0.46,2,-999,9,-999,9,1.544,1,0.051,1,4.553,1,256.3,2
33RR20180918, GP15,1,3,29,GSNIS-29   ,2,6532,12445,20180926,1231,56.0585,-156.9628,94,30.7,9.8255,31.8936,2,-999,9,20180926,1239,56.0585,-156.9627,10.37,2,0.76,2,6.69,2,0.46,2,-999,9,-999,9,1.544,1,0.049,1,4.559,1,256.6,2
33RR20180918, GP15,1,3,30,GSNIS-30   ,2,6532,124444,20180926,1231,56.0585,-156.9628,94,20.7,10.5003,31.4596,3,10.4995,2,20180926,1241,56.0585,-156.9627,7.73,2,0.5,2,2.87,2,0.23,2,279.73,2,31.4857,3,1.524,1,0.159,1,4.233,1,275.3,2
33RR20180918, GP15,1,3,31,GSNIS-31   ,2,6532,124444,20180926,1231,56.0585,-156.9628,94,20.9,10.5005,31.4598,2,-999,9,20180926,1241,56.0585,-156.9627,7.53,2,0.49,2,2.72,2,0.22,2,-999,9,-999,9,1.523,1,0.151,1,4.239,1,275.3,2
33RR20180918, GP15,1,3,32,GSNIS-32   ,2,6532,124444,20180926,1231,56.0585,-156.9628,94,21,10.5,31.4601,2,-999,9,20180926,1241,56.0585,-156.9627,7.53,2,0.47,2,2.74,2,0.22,2,-999,9,-999,9,1.522,1,0.151,1,4.226,1,275.2,2
33RR20180918, GP15,1,3,33,GSNIS-33   ,2,6532,124444,20180926,1231,56.0585,-156.9628,94,20.5,10.5016,31.4595,2,-999,9,20180926,1241,56.0585,-156.9627,7.53,2,0.49,2,2.69,2,0.22,2,-999,9,-999,9,1.521,1,0.153,1,4.223,1,275.4,2
33RR20180918, GP15,1,3,34,GSNIS-34   ,2,6532,124444,20180926,1231,56.0585,-156.9628,94,21,10.5016,31.4596,2,10.4993,2,20180926,1241,56.0585,-156.9627,7.44,2,0.48,2,2.67,2,0.22,2,-999,9,-999,9,1.52,1,0.165,1,4.228,1,275.3,2
33RR20180918, GP15,1,3,35,GSNIS-35   ,3,6532,124444,20180926,1231,56.0585,-156.9628,94,20.4,10.5002,31.4605,3,-999,9,20180926,1241,56.0585,-156.9627,7.53,3,0.47,3,2.63,3,0.22,3,-999,9,-999,9,1.519,1,0.15,1,4.236,1,275.3,3
33RR20180918, GP15,1,3,36,GSNIS-36   ,2,6532,12443,20180926,1231,56.0585,-156.9628,94,2.5,10.6292,31.4078,2,10.6288,2,20180926,1244,56.0585,-156.9628,7.24,2,0.43,2,2.04,2,0.16,2,285.9,2,31.4134,2,1.505,1,0.152,1,4.122,1,279.1,3