BOTTLE,20191212SIOCCHAMB
EXPOCODE,SECT_ID,STNNBR,CASTNO,SAMPNO,BTLNBR,BTLNBR_FLAG_W,GEOTRC_EVENTNO,GEOTRC_SAMPNO,DATE,TIME,LATITUDE,LONGITUDE,DEPTH,CTDPRS,CTDTMP,CTDSAL,CTDSAL_FLAG_W,REFTMP,REFTMP_FLAG_W,BTL_DATE,BTL_TIME,BTL_LAT,BTL_LON,SILCAT,SILCAT_FLAG_W,PHSPHT,PHSPHT_FLAG_W,NITRAT,NITRAT_FLAG_W,NITRIT,NITRIT_FLAG_W,OXYGEN,OXYGEN_FLAG_W,SALNTY,SALNTY_FLAG_W,CTDRINKO,CTDRINKO_FLAG_W,CTDFLUOR,CTDFLUOR_FLAG_W,CTDXMISS,CTDXMISS_FLAG_W,CTDOXY,CTDOXY_FLAG_W
,,,,,,,,,,,,,METERS,DBAR,ITS-90,PSS-78,,ITS-90,,,,,,UMOL/KG,,UMOL/KG,,UMOL/KG,,UMOL/KG,,UMOL/KG,,PSS-78,,VOLTS,,VOLTS,,VOLTS,,UMOL/KG,
33RR20180918, GP15,4,3,1,GSNIS-1    ,2,6558,12595,20180928,2124,54.6603,-155.1707,5716,405,3.7974,34.1116,2,3.7963,2,20180928,2124,54.6602,-155.1702,109.27,2,3.11,2,44.42,2,0,2,18.17,2,34.1154,2,3.144,1,0.018,1,4.7,1,21.6,2
33RR20180918, GP15,4,3,2,GSNIS-2    ,2,6558,12595,20180928,2124,54.6603,-155.1707,5716,405.4,3.7969,34.1117,2,-999,9,20180928,2124,54.6602,-155.1702,108.98,2,3.11,2,44.43,2,0,2,-999,9,-999,9,3.146,1,0.018,1,4.7,1,21.8,2
33RR20180918, GP15,4,3,3,GSNIS-3    ,2,6558,12595,20180928,2124,54.6603,-155.1707,5716,403.9,3.7982,34.1114,2,-999,9,20180928,2124,54.6602,-155.1702,109.07,2,3.11,2,44.45,2,0,2,-999,9,-999,9,3.149,1,0.018,1,4.7,1,21,2
33RR20180918, GP15,4,3,4,GSNIS-4    ,2,6558,12595,20180928,2124,54.6603,-155.1707,5716,405.4,3.797,34.1118,2,-999,9,20180928,2124,54.6602,-155.1702,109.66,2,3.12,2,44.4,2,0,2,-999,9,-999,9,3.152,1,0.018,1,4.7,1,20.8,2
33RR20180918, GP15,4,3,5,GSNIS-5    ,2,6558,12594,20180928,2124,54.6603,-155.1707,5716,303.6,3.9044,34.0281,2,3.9036,2,20180928,2127,54.6602,-155.1701,101.17,2,3.13,2,44.64,2,0,2,21.5,2,34.0342,2,3.187,1,0.018,1,4.699,1,23.4,2
33RR20180918, GP15,4,3,6,GSNIS-6    ,2,6558,12594,20180928,2124,54.6603,-155.1707,5716,303.2,3.9043,34.0285,2,-999,9,20180928,2127,54.6602,-155.1701,101.07,2,3.14,2,44.57,2,0,2,-999,9,-999,9,3.187,1,0.018,1,4.698,1,25.3,2
33RR20180918, GP15,4,3,7,GSNIS-7    ,2,6558,12594,20180928,2124,54.6603,-155.1707,5716,302.9,3.9041,34.0283,2,-999,9,20180928,2127,54.6602,-155.1701,100.58,2,3.14,2,44.65,2,0,2,-999,9,-999,9,3.187,1,0.018,1,4.699,1,24.7,2
33RR20180918, GP15,4,3,8,GSNIS-8    ,2,6558,12593,20180928,2124,54.6603,-155.1707,5716,254.4,3.9725,33.9629,2,3.9662,2,20180928,2130,54.6602,-155.1702,94.44,2,3.13,2,44.78,2,0,2,24.75,2,33.9637,2,3.17,1,0.018,1,4.69,1,28.7,2
33RR20180918, GP15,4,3,9,GSNIS-9    ,2,6558,12593,20180928,2124,54.6603,-155.1707,5716,252.6,3.9673,33.9621,2,-999,9,20180928,2130,54.6602,-155.1702,94.34,2,3.13,2,44.82,2,0,2,-999,9,-999,9,3.168,1,0.018,1,4.691,1,28.4,2
33RR20180918, GP15,4,3,10,GSNIS-10   ,2,6558,12593,20180928,2124,54.6603,-155.1707,5716,253.1,3.9646,33.9618,2,-999,9,20180928,2130,54.6602,-155.1702,94.34,2,3.13,2,44.82,2,0,2,-999,9,-999,9,3.166,1,0.018,1,4.691,1,29.8,2
33RR20180918, GP15,4,3,11,GSNIS-11   ,2,6558,12592,20180928,2124,54.6603,-155.1707,5716,205.6,4.0237,33.8639,2,4.0275,2,20180928,2132,54.6602,-155.1701,84.38,2,3.03,2,43.32,2,0,2,45.85,2,33.8627,2,3.078,1,0.018,1,4.689,1,50.5,2
33RR20180918, GP15,4,3,12,GSNIS-12   ,2,6558,12592,20180928,2124,54.6603,-155.1707,5716,200.8,4.0336,33.859,2,-999,9,20180928,2133,54.6602,-155.1701,83.8,2,3.02,2,43.28,2,0,2,-999,9,-999,9,3.063,1,0.018,1,4.689,1,52.7,2
33RR20180918, GP15,4,3,13,GSNIS-13   ,2,6558,12592,20180928,2124,54.6603,-155.1707,5716,202,4.0295,33.8609,2,-999,9,20180928,2133,54.6602,-155.1701,83.99,2,3.02,2,43.22,2,0,2,-999,9,-999,9,3.049,1,0.018,1,4.69,1,52.4,2
33RR20180918, GP15,4,3,14,GSNIS-14   ,2,6558,12592,20180928,2124,54.6603,-155.1707,5716,203.5,4.0245,33.8622,2,-999,9,20180928,2133,54.6602,-155.1701,84.48,2,3.04,2,43.32,2,0,2,-999,9,-999,9,3.043,1,0.018,1,4.69,1,52.1,2
33RR20180918, GP15,4,3,15,GSNIS-15   ,2,6558,12591,20180928,2124,54.6603,-155.1707,5716,149.2,4.1005,33.7051,2,4.0983,2,20180928,2135,54.6602,-155.1702,73.36,2,2.83,2,40.36,2,0,2,85.17,2,33.7038,2,2.856,1,0.018,1,4.69,1,85.2,2
33RR20180918, GP15,4,3,16,GSNIS-16   ,2,6558,12591,20180928,2124,54.6603,-155.1707,5716,146.7,4.0987,33.6994,2,-999,9,20180928,2135,54.6602,-155.1702,73.55,2,2.83,2,40.32,2,0,2,-999,9,-999,9,2.832,1,0.018,1,4.69,1,87.1,2
33RR20180918, GP15,4,3,17,GSNIS-17   ,2,6558,12590,20180928,2124,54.6603,-155.1707,5716,104,4.1735,33.2875,2,4.1734,2,20180928,2138,54.6602,-155.1702,50.91,2,2.31,2,31.43,2,0,2,195.12,2,33.2916,2,2.514,1,0.019,1,4.686,1,214.6,3
33RR20180918, GP15,4,3,18,GSNIS-18   ,2,6558,12590,20180928,2124,54.6603,-155.1707,5716,99.4,4.1809,33.2365,2,-999,9,20180928,2138,54.6602,-155.1702,49.83,2,2.26,2,30.75,2,0.01,2,-999,9,-999,9,2.485,1,0.019,1,4.689,1,219.5,3
33RR20180918, GP15,4,3,19,GSNIS-19   ,2,6558,12590,20180928,2124,54.6603,-155.1707,5716,103,4.1718,33.2757,2,-999,9,20180928,2138,54.6602,-155.1702,50.03,2,2.27,2,30.82,2,0.01,2,-999,9,-999,9,2.46,1,0.019,1,4.676,1,199.7,3
33RR20180918, GP15,4,3,20,GSNIS-20   ,2,6558,12590,20180928,2124,54.6603,-155.1707,5716,99.7,4.1817,33.2329,2,4.1756,2,20180928,2138,54.6602,-155.1702,48.95,2,2.23,2,30.31,2,0.01,2,-999,9,-999,9,2.422,1,0.02,1,4.688,1,219.5,3
33RR20180918, GP15,4,3,21,GSNIS-21   ,2,6558,12589,20180928,2124,54.6603,-155.1707,5716,71.3,4.7506,32.8905,3,4.776,3,20180928,2140,54.6602,-155.1702,31.57,2,1.78,2,22.21,2,0.04,2,285.99,2,32.8944,3,1.891,1,0.029,1,4.671,1,288.9,2
33RR20180918, GP15,4,3,22,GSNIS-22   ,2,6558,12589,20180928,2124,54.6603,-155.1707,5716,71.8,4.7673,32.8826,2,-999,9,20180928,2140,54.6602,-155.1702,31.18,2,1.77,2,21.97,2,0.05,2,-999,9,-999,9,1.884,1,0.03,1,4.671,1,289.2,2
33RR20180918, GP15,4,3,23,GSNIS-23   ,2,6558,12589,20180928,2124,54.6603,-155.1707,5716,71.9,4.7547,32.8861,2,-999,9,20180928,2140,54.6602,-155.1702,31.67,2,1.79,2,22.36,2,0.04,2,-999,9,-999,9,1.871,1,0.031,1,4.669,1,281.6,2
33RR20180918, GP15,4,3,24,GSNIS-24   ,2,6558,12589,20180928,2124,54.6603,-155.1707,5716,70.7,4.7855,32.8819,2,-999,9,20180928,2140,54.6602,-155.1702,31.47,2,1.77,2,22.1,2,0.04,2,-999,9,-999,9,1.859,1,0.028,1,4.671,1,283.7,2
33RR20180918, GP15,4,3,25,GSNIS-25   ,2,6558,12588,20180928,2124,54.6603,-155.1707,5716,62.9,5.132,32.8327,2,5.1761,2,20180928,2142,54.6602,-155.1703,28.25,2,1.65,2,19.8,2,0.37,2,293.46,2,32.8261,2,1.716,1,0.04,1,4.614,1,293.8,2
33RR20180918, GP15,4,3,26,GSNIS-26   ,2,6558,12588,20180928,2124,54.6603,-155.1707,5716,60.3,5.21,32.8208,2,-999,9,20180928,2142,54.6602,-155.1703,28.05,2,1.65,2,19.72,2,0.38,2,-999,9,-999,9,1.709,1,0.035,1,4.659,1,293.6,2
33RR20180918, GP15,4,3,27,GSNIS-27   ,2,6558,12587,20180928,2124,54.6603,-155.1707,5716,50.9,6.8796,32.7125,2,6.8945,2,20180928,2144,54.6602,-155.1702,21.02,2,1.43,2,14.65,2,0.5,2,294.37,2,32.7191,2,1.622,1,0.049,1,4.622,1,290.6,2
33RR20180918, GP15,4,3,28,GSNIS-28   ,2,6558,12587,20180928,2124,54.6603,-155.1707,5716,50.7,6.9023,32.7112,2,-999,9,20180928,2144,54.6602,-155.1702,21.11,2,1.43,2,14.66,2,0.5,2,-999,9,-999,9,1.614,1,0.051,1,4.623,1,280.7,2
33RR20180918, GP15,4,3,29,GSNIS-29   ,2,6558,12586,20180928,2124,54.6603,-155.1707,5716,41.2,8.2172,32.6541,2,8.1961,2,20180928,2145,54.6602,-155.1701,16.81,2,1.25,2,12.07,2,0.34,2,287.09,2,32.647,2,1.551,1,0.054,1,4.605,1,280.6,3
33RR20180918, GP15,4,3,30,GSNIS-30   ,2,6558,12586,20180928,2124,54.6603,-155.1707,5716,39.6,8.4221,32.6381,2,-999,9,20180928,2145,54.6602,-155.1702,17.01,2,1.26,2,12.22,2,0.35,2,-999,9,-999,9,1.543,1,0.052,1,4.602,1,239.2,3
33RR20180918, GP15,4,3,31,GSNIS-31   ,2,6558,12585,20180928,2124,54.6603,-155.1707,5716,30.7,12.3571,32.4237,2,12.3593,2,20180928,2147,54.6602,-155.1701,6.75,2,0.72,2,5.47,2,0.1,2,268.78,2,32.4306,2,1.462,1,0.086,1,4.486,1,268.7,2
33RR20180918, GP15,4,3,32,GSNIS-32   ,2,6558,12585,20180928,2124,54.6603,-155.1707,5716,31.8,12.3655,32.4234,2,-999,9,20180928,2147,54.6602,-155.1701,6.65,2,0.72,2,5.47,2,0.1,2,-999,9,-999,9,1.461,1,0.088,1,4.484,1,267.9,2
33RR20180918, GP15,4,3,33,GSNIS-33   ,2,6558,12585,20180928,2124,54.6603,-155.1707,5716,30.8,12.3601,32.4239,2,-999,9,20180928,2147,54.6602,-155.1701,6.75,2,0.73,2,5.48,2,0.1,2,-999,9,-999,9,1.459,1,0.088,1,4.483,1,267.6,2
33RR20180918, GP15,4,3,34,GSNIS-34   ,2,6558,12585,20180928,2124,54.6603,-155.1707,5716,31.1,12.3633,32.4236,2,-999,9,20180928,2147,54.6603,-155.1701,6.65,2,0.73,2,5.47,2,0.1,2,-999,9,-999,9,1.458,1,0.09,1,4.483,1,267.9,2
33RR20180918, GP15,4,3,35,GSNIS-35   ,2,6558,12584,20180928,2124,54.6603,-155.1707,5716,21.6,12.3784,32.4232,2,12.3773,2,20180928,2149,54.6603,-155.1707,6.65,2,0.71,2,5.43,2,0.1,2,268.79,2,32.4294,2,1.446,1,0.083,1,4.478,1,268.7,2
33RR20180918, GP15,4,3,36,GSNIS-36   ,2,6558,12584,20180928,2124,54.6603,-155.1707,5716,20.3,12.3794,32.4231,2,-999,9,20180928,2149,54.6603,-155.1707,6.75,2,0.71,2,5.45,2,0.1,2,-999,9,-999,9,1.446,1,0.084,1,4.476,1,267.8,2
33RR20180918, GP15,4,5,1,GSNIS-1    ,2,6561,12617,20180929,609,54.6602,-155.1702,5716,1623.7,2.0534,34.5535,2,2.052,2,20180929,609,54.6602,-155.1702,167.7,2,3.01,2,43.02,2,0,2,43.3,2,34.5513,2,3.013,1,0.018,1,4.704,1,44.7,2
33RR20180918, GP15,4,5,2,GSNIS-2    ,2,6561,12617,20180929,609,54.6602,-155.1702,5716,1624.4,2.0528,34.5536,2,-999,9,20180929,609,54.6602,-155.1702,167.8,2,2.99,2,43.09,2,0,2,-999,9,-999,9,3.012,1,0.018,1,4.703,1,45.3,2
33RR20180918, GP15,4,5,3,GSNIS-3    ,2,6561,12617,20180929,609,54.6602,-155.1702,5716,1625.5,2.051,34.5539,2,-999,9,20180929,609,54.6602,-155.1702,167.7,2,3,2,43.1,2,0,2,-999,9,-999,9,3.012,1,0.017,1,4.704,1,44.2,2
33RR20180918, GP15,4,5,4,GSNIS-4    ,2,6561,12616,20180929,609,54.6602,-155.1702,5716,1214.3,2.4686,34.4677,2,2.4679,2,20180929,617,54.6602,-155.1702,157.07,2,3.09,2,44.29,2,0,2,21.03,2,34.4695,2,3.187,1,0.018,1,4.702,1,23.7,3
33RR20180918, GP15,4,5,5,GSNIS-5    ,2,6561,12616,20180929,609,54.6602,-155.1702,5716,1214.9,2.4687,34.4678,2,-999,9,20180929,617,54.6602,-155.1702,157.66,2,3.09,2,44.24,2,0,2,-999,9,-999,9,3.188,1,0.018,1,4.702,1,22.5,2
33RR20180918, GP15,4,5,6,GSNIS-6    ,2,6561,12616,20180929,609,54.6602,-155.1702,5716,1215.5,2.4686,34.4676,2,-999,9,20180929,618,54.6602,-155.1702,157.46,2,3.11,2,44.25,2,0,2,-999,9,-999,9,3.189,1,0.018,1,4.702,1,22.9,2
33RR20180918, GP15,4,5,7,GSNIS-7    ,2,6561,12615,20180929,609,54.6602,-155.1702,5716,811.1,3.0994,34.3367,2,3.1016,2,20180929,627,54.6602,-155.1702,137.86,2,3.12,2,44.39,2,0,2,13.74,2,34.3372,2,3.304,1,0.018,1,4.7,1,15.8,2
33RR20180918, GP15,4,5,8,GSNIS-8    ,2,6561,12615,20180929,609,54.6602,-155.1702,5716,809.8,3.1016,34.3363,2,-999,9,20180929,627,54.6602,-155.1703,136.98,2,3.11,2,44.32,2,0,2,-999,9,-999,9,3.304,1,0.018,1,4.699,1,15.9,2
33RR20180918, GP15,4,5,9,GSNIS-9    ,2,6561,12615,20180929,609,54.6602,-155.1702,5716,808.4,3.1036,34.3355,2,-999,9,20180929,627,54.6602,-155.1703,137.95,2,3.12,2,44.33,2,0,2,-999,9,-999,9,3.304,1,0.018,1,4.699,1,16.4,2
33RR20180918, GP15,4,5,10,GSNIS-10   ,2,6561,12614,20180929,609,54.6602,-155.1702,5716,405.4,3.8042,34.1089,2,3.8029,2,20180929,638,54.6602,-155.1703,108.29,2,3.11,2,44.14,2,0.01,2,18.34,2,34.1103,2,3.26,1,0.018,1,4.701,1,20.7,2
33RR20180918, GP15,4,5,11,GSNIS-11   ,2,6561,12614,20180929,609,54.6602,-155.1702,5716,407.4,3.8031,34.1095,2,-999,9,20180929,638,54.6602,-155.1703,108.29,2,3.09,2,44.12,2,0.01,2,-999,9,-999,9,3.259,1,0.018,1,4.701,1,21.7,2
33RR20180918, GP15,4,5,12,GSNIS-12   ,5,6561,12614,20180929,609,54.6602,-155.1702,5716,405.2,3.8042,34.1089,3,-999,9,20180929,638,54.6602,-155.1703,-999,9,-999,9,-999,9,-999,9,-999,9,-999,9,3.258,1,0.018,1,4.7,1,21.3,3
33RR20180918, GP15,4,5,13,GSNIS-13   ,2,6561,12613,20180929,609,54.6602,-155.1702,5716,303.6,3.9059,34.0315,2,3.9051,2,20180929,642,54.6602,-155.1703,100,2,3.11,2,44.36,2,0.01,2,20.62,2,34.0312,2,3.212,1,0.018,1,4.699,1,23.3,2
33RR20180918, GP15,4,5,14,GSNIS-14   ,2,6561,12613,20180929,609,54.6602,-155.1702,5716,303.8,3.9058,34.0316,2,-999,9,20180929,642,54.6602,-155.1703,100.68,2,3.12,2,44.46,2,0.01,2,-999,9,-999,9,3.213,1,0.018,1,4.699,1,23.9,2
33RR20180918, GP15,4,5,15,GSNIS-15   ,2,6561,12613,20180929,609,54.6602,-155.1702,5716,303.7,3.9058,34.0314,2,-999,9,20180929,642,54.6602,-155.1703,100.49,2,3.12,2,44.34,2,0.01,2,-999,9,-999,9,3.212,1,0.018,1,4.697,1,23.9,2
33RR20180918, GP15,4,5,16,GSNIS-16   ,2,6561,12612,20180929,609,54.6602,-155.1702,5716,201.5,3.9993,33.8928,2,3.9946,2,20180929,648,54.6602,-155.1702,86.82,2,3.05,2,43.74,2,0.01,2,37.38,2,33.8914,2,3.128,1,0.018,1,4.69,1,41.4,2
33RR20180918, GP15,4,5,17,GSNIS-17   ,2,6561,12612,20180929,609,54.6602,-155.1702,5716,199.7,4.0036,33.8892,2,-999,9,20180929,648,54.6602,-155.1703,86.63,2,3.04,2,43.71,2,0.01,2,-999,9,-999,9,3.114,1,0.018,1,4.69,1,44.9,2
33RR20180918, GP15,4,5,18,GSNIS-18   ,2,6561,12612,20180929,609,54.6602,-155.1702,5716,205.7,3.9921,33.8935,2,-999,9,20180929,648,54.6602,-155.1703,87.31,2,3.05,2,43.74,2,0.01,2,-999,9,-999,9,3.103,1,0.018,1,4.691,1,42.7,2
33RR20180918, GP15,4,5,19,GSNIS-19   ,2,6561,12611,20180929,609,54.6602,-155.1702,5716,148.1,4.0748,33.702,2,4.0751,2,20180929,651,54.6601,-155.1703,72.77,2,2.82,2,40.12,2,0.01,2,84.43,2,33.697,2,2.89,1,0.018,1,4.689,1,87.4,2
33RR20180918, GP15,4,5,20,GSNIS-20   ,2,6561,12611,20180929,609,54.6602,-155.1702,5716,146.1,4.0776,33.6993,2,-999,9,20180929,651,54.6601,-155.1703,72.87,2,2.8,2,40.13,2,0.01,2,-999,9,-999,9,2.879,1,0.018,1,4.689,1,89.4,2
33RR20180918, GP15,4,5,21,GSNIS-21   ,2,6561,12611,20180929,609,54.6602,-155.1702,5716,146.7,4.0775,33.7021,2,-999,9,20180929,651,54.6601,-155.1703,72.38,2,2.79,2,39.93,2,0.01,2,-999,9,-999,9,2.871,1,0.018,1,4.689,1,87,2
33RR20180918, GP15,4,5,22,GSNIS-22   ,2,6561,12610,20180929,609,54.6602,-155.1702,5716,102,4.2034,33.1957,2,4.2055,2,20180929,654,54.6602,-155.1703,45.73,2,2.17,2,29.19,2,0.02,2,221.66,2,33.1871,2,2.247,1,0.02,1,4.688,1,227.5,3
33RR20180918, GP15,4,5,23,GSNIS-23   ,2,6561,12610,20180929,609,54.6602,-155.1702,5716,101.1,4.2055,33.1898,2,-999,9,20180929,654,54.6602,-155.1703,45.93,2,2.16,2,29.19,2,0.02,2,-999,9,-999,9,2.23,1,0.02,1,4.688,1,232,3
33RR20180918, GP15,4,5,24,GSNIS-24   ,2,6561,12610,20180929,609,54.6602,-155.1702,5716,101,4.2081,33.1833,2,-999,9,20180929,654,54.6602,-155.1703,45.73,2,2.15,2,29.09,2,0.02,2,-999,9,-999,9,2.214,1,0.02,1,4.688,1,232.4,3
33RR20180918, GP15,4,5,25,GSNIS-25   ,2,6561,12609,20180929,609,54.6602,-155.1702,5716,72,4.5151,32.9442,2,4.5151,2,20180929,657,54.6602,-155.1703,34.21,2,1.83,2,23.71,2,0.03,2,279.27,2,33.4365,4,1.818,1,0.027,1,4.679,1,277.6,2
33RR20180918, GP15,4,5,26,GSNIS-26   ,2,6561,12609,20180929,609,54.6602,-155.1702,5716,69.6,4.5268,32.9407,2,-999,9,20180929,657,54.6602,-155.1703,34.01,2,1.82,2,23.54,2,0.03,2,-999,9,-999,9,1.803,1,0.025,1,4.679,1,279.4,2
33RR20180918, GP15,4,5,27,GSNIS-27   ,2,6561,12609,20180929,609,54.6602,-155.1702,5716,73.8,4.4998,32.9489,2,-999,9,20180929,657,54.6602,-155.1703,34.21,2,1.82,2,23.62,2,0.03,2,-999,9,-999,9,1.798,1,0.026,1,4.678,1,287.5,2
33RR20180918, GP15,4,5,28,GSNIS-28   ,2,6561,12608,20180929,609,54.6602,-155.1702,5716,50.2,5.4727,32.8021,2,5.4468,3,20180929,659,54.6602,-155.1703,26.2,2,1.57,2,18.32,2,0.58,2,295.98,2,33.2823,4,1.666,1,0.039,1,4.649,1,292.8,2
33RR20180918, GP15,4,5,29,GSNIS-29   ,2,6561,12608,20180929,609,54.6602,-155.1702,5716,52.1,5.3645,32.8155,2,-999,9,20180929,659,54.6602,-155.1703,26.29,2,1.58,2,18.55,2,0.56,2,-999,9,-999,9,1.662,1,0.04,1,4.652,1,293.4,2
33RR20180918, GP15,4,5,30,GSNIS-30   ,2,6561,12608,20180929,609,54.6602,-155.1702,5716,52.1,5.4955,32.7957,2,-999,9,20180929,659,54.6602,-155.1703,26.2,2,1.55,2,18.43,2,0.57,2,-999,9,-999,9,1.653,1,0.039,1,4.652,1,284.1,2
33RR20180918, GP15,4,5,31,GSNIS-31   ,2,6561,12607,20180929,609,54.6602,-155.1702,5716,32.2,12.4196,32.4287,2,12.4067,2,20180929,701,54.6601,-155.1702,6.26,2,0.73,2,5.79,2,0.11,2,269.23,2,32.4352,2,1.475,1,0.112,1,4.471,1,269.6,2
33RR20180918, GP15,4,5,32,GSNIS-32   ,2,6561,12607,20180929,609,54.6602,-155.1702,5716,30.6,12.4049,32.4297,2,-999,9,20180929,701,54.6601,-155.1703,6.26,2,0.73,2,5.77,2,0.11,2,-999,9,-999,9,1.471,1,0.106,1,4.471,1,269.8,2
33RR20180918, GP15,4,5,33,GSNIS-33   ,2,6561,12607,20180929,609,54.6602,-155.1702,5716,32.5,12.4099,32.4298,2,-999,9,20180929,701,54.6601,-155.1703,6.26,2,0.73,2,5.77,2,0.11,2,-999,9,-999,9,1.467,1,0.118,1,4.468,1,269.8,2
33RR20180918, GP15,4,5,34,GSNIS-34   ,2,6561,12606,20180929,609,54.6602,-155.1702,5716,21.5,12.4252,32.4297,2,12.4251,2,20180929,702,54.6603,-155.1704,6.26,2,0.75,2,5.75,2,0.11,2,269.35,2,32.4343,2,1.455,1,0.112,1,4.469,1,269.4,2
33RR20180918, GP15,4,5,35,GSNIS-35   ,2,6561,12606,20180929,609,54.6602,-155.1702,5716,21.4,12.4259,32.4298,2,-999,9,20180929,702,54.6603,-155.1704,6.16,2,0.74,2,5.76,2,0.11,2,-999,9,-999,9,1.455,1,0.108,1,4.467,1,269.3,2
33RR20180918, GP15,4,5,36,GSNIS-36   ,2,6561,12605,20180929,609,54.6602,-155.1702,5716,10.8,12.4224,32.4295,2,12.4217,2,20180929,704,54.6602,-155.1702,6.16,2,0.72,2,5.77,2,0.11,2,269.41,2,32.4337,2,1.453,1,0.107,1,4.467,1,269.6,2