BOTTLE,20191212SIOCCHAMB
EXPOCODE,SECT_ID,STNNBR,CASTNO,SAMPNO,BTLNBR,BTLNBR_FLAG_W,GEOTRC_EVENTNO,GEOTRC_SAMPNO,DATE,TIME,LATITUDE,LONGITUDE,DEPTH,CTDPRS,CTDTMP,CTDSAL,CTDSAL_FLAG_W,REFTMP,REFTMP_FLAG_W,BTL_DATE,BTL_TIME,BTL_LAT,BTL_LON,SILCAT,SILCAT_FLAG_W,PHSPHT,PHSPHT_FLAG_W,NITRAT,NITRAT_FLAG_W,NITRIT,NITRIT_FLAG_W,OXYGEN,OXYGEN_FLAG_W,SALNTY,SALNTY_FLAG_W,CTDRINKO,CTDRINKO_FLAG_W,CTDFLUOR,CTDFLUOR_FLAG_W,CTDXMISS,CTDXMISS_FLAG_W,CTDOXY,CTDOXY_FLAG_W
,,,,,,,,,,,,,METERS,DBAR,ITS-90,PSS-78,,ITS-90,,,,,,UMOL/KG,,UMOL/KG,,UMOL/KG,,UMOL/KG,,UMOL/KG,,PSS-78,,VOLTS,,VOLTS,,VOLTS,,UMOL/KG,
33RR20180918, GP15,33,3,1,GSNIS-2    ,2,6928,15121,20181113,417,-5.0004,-152.0006,5423,403.3,10.0112,34.7415,2,10.0095,2,20181113,417,-5.0005,-152.0006,31.95,2,2.56,2,35.38,2,0,2,16.28,2,34.7427,2,3.007,1,0.018,1,4.657,1,17.4,2
33RR20180918, GP15,33,3,2,GSNIS-3    ,2,6928,15121,20181113,417,-5.0004,-152.0006,5423,402.2,10.0209,34.7418,2,-999,9,20181113,417,-5.0005,-152.0006,32.05,2,2.57,2,35.51,2,0,2,-999,9,-999,9,3.01,1,0.018,1,4.657,1,16.9,2
33RR20180918, GP15,33,3,3,GSNIS-4    ,2,6928,15121,20181113,417,-5.0004,-152.0006,5423,403.5,10.0028,34.7416,2,-999,9,20181113,417,-5.0005,-152.0006,32.05,2,2.56,2,35.56,2,0,2,-999,9,-999,9,3.013,1,0.018,1,4.655,1,16.1,2
33RR20180918, GP15,33,3,4,GSNIS-5    ,2,6928,15121,20181113,417,-5.0004,-152.0006,5423,402.9,10.0141,34.7424,2,-999,9,20181113,417,-5.0004,-152.0006,32.15,2,2.57,2,35.54,2,0,2,-999,9,-999,9,3.016,1,0.018,1,4.657,1,16.4,2
33RR20180918, GP15,33,3,5,GSNIS-6    ,2,6928,15120,20181113,417,-5.0004,-152.0006,5423,352.6,10.8161,34.7913,2,10.8083,2,20181113,419,-5.0005,-152.0006,28.92,2,2.48,2,33.4,2,0,2,19.04,2,34.7917,2,3.072,1,0.018,1,4.659,1,23.1,2
33RR20180918, GP15,33,3,6,GSNIS-7    ,2,6928,15120,20181113,417,-5.0004,-152.0006,5423,352.9,10.8092,34.791,2,-999,9,20181113,419,-5.0005,-152.0006,28.92,2,2.48,2,33.39,2,0,2,-999,9,-999,9,3.073,1,0.018,1,4.659,1,19.5,2
33RR20180918, GP15,33,3,7,GSNIS-8    ,2,6928,15120,20181113,417,-5.0004,-152.0006,5423,353.1,10.8064,34.7911,2,-999,9,20181113,419,-5.0005,-152.0006,28.92,2,2.48,2,33.34,2,0,2,-999,9,-999,9,3.073,1,0.018,1,4.659,1,18.6,2
33RR20180918, GP15,33,3,8,GSNIS-9    ,2,6928,15119,20181113,417,-5.0004,-152.0006,5423,301.8,11.7276,34.8491,2,11.72,2,20181113,422,-5.0005,-152.0006,19.83,2,1.88,2,26.47,2,0,2,84.17,2,34.8505,2,3.071,1,0.017,1,4.662,1,80.7,2
33RR20180918, GP15,33,3,9,GSNIS-10   ,2,6928,15119,20181113,417,-5.0004,-152.0006,5423,303.3,11.7089,34.8479,2,-999,9,20181113,422,-5.0005,-152.0006,19.74,2,1.88,2,26.46,2,0,2,-999,9,-999,9,3.071,1,0.017,1,4.662,1,80.7,2
33RR20180918, GP15,33,3,10,GSNIS-11   ,2,6928,15119,20181113,417,-5.0004,-152.0006,5423,301.6,11.7311,34.8487,2,-999,9,20181113,422,-5.0005,-152.0006,19.83,2,1.89,2,26.4,2,0,2,-999,9,-999,9,3.07,1,0.017,1,4.662,1,80.6,2
33RR20180918, GP15,33,3,11,GSNIS-12   ,2,6928,15119,20181113,417,-5.0004,-152.0006,5423,302.1,11.7122,34.8482,2,-999,9,20181113,422,-5.0005,-152.0006,19.83,2,1.89,2,26.3,2,0,2,-999,9,-999,9,3.068,1,0.017,1,4.663,1,80.7,2
33RR20180918, GP15,33,3,12,GSNIS-13   ,2,6928,15118,20181113,417,-5.0004,-152.0006,5423,251.9,12.779,34.9159,2,12.7768,2,20181113,424,-5.0005,-152.0006,21.3,2,2.14,2,30.36,2,0,2,28.1,2,34.9191,2,2.805,1,0.017,1,4.661,1,23.7,2
33RR20180918, GP15,33,3,13,GSNIS-14   ,2,6928,15118,20181113,417,-5.0004,-152.0006,5423,252.1,12.7765,34.9149,2,-999,9,20181113,424,-5.0005,-152.0006,21.3,2,2.12,2,30.26,2,0,2,-999,9,-999,9,2.793,1,0.017,1,4.66,1,18.3,2
33RR20180918, GP15,33,3,14,GSNIS-15   ,2,6928,15118,20181113,417,-5.0004,-152.0006,5423,251.6,12.7711,34.9154,2,-999,9,20181113,424,-5.0005,-152.0006,21.2,2,2.12,2,30.23,2,0,2,-999,9,-999,9,2.782,1,0.017,1,4.661,1,32.6,2
33RR20180918, GP15,33,3,15,GSNIS-16   ,2,6928,15117,20181113,417,-5.0004,-152.0006,5423,201.9,14.7673,35.101,3,14.7816,2,20181113,426,-5.0005,-152.0006,13.97,2,1.78,2,25.11,2,0,2,52.17,2,35.1146,3,2.654,1,0.019,1,4.658,1,57.1,2
33RR20180918, GP15,33,3,16,GSNIS-17   ,2,6928,15117,20181113,417,-5.0004,-152.0006,5423,201,14.8002,35.1048,2,-999,9,20181113,426,-5.0005,-152.0006,13.97,2,1.78,2,25.06,2,0,2,-999,9,-999,9,2.658,1,0.019,1,4.659,1,56.9,2
33RR20180918, GP15,33,3,17,GSNIS-18   ,2,6928,15116,20181113,417,-5.0004,-152.0006,5423,177,17.6506,35.4357,3,17.5077,3,20181113,428,-5.0005,-152.0006,7.23,2,1.26,2,16.63,2,0.01,2,99.6,2,35.4194,3,2.666,1,0.022,1,4.656,1,104.9,2
33RR20180918, GP15,33,3,18,GSNIS-19   ,2,6928,15116,20181113,417,-5.0004,-152.0006,5423,176,17.4302,35.4125,2,-999,9,20181113,428,-5.0005,-152.0006,7.23,2,1.26,2,16.65,2,0.01,2,-999,9,-999,9,2.662,1,0.022,1,4.655,1,96.7,2
33RR20180918, GP15,33,3,19,GSNIS-20   ,2,6928,15116,20181113,417,-5.0004,-152.0006,5423,176.7,17.5766,35.4235,2,-999,9,20181113,428,-5.0005,-152.0006,7.23,2,1.25,2,16.57,2,0.01,2,-999,9,-999,9,2.659,1,0.022,1,4.656,1,98.2,2
33RR20180918, GP15,33,3,20,GSNIS-21   ,2,6928,15116,20181113,417,-5.0004,-152.0006,5423,176.1,17.5496,35.4236,2,-999,9,20181113,428,-5.0005,-152.0006,7.23,2,1.24,2,16.65,2,0.01,2,-999,9,-999,9,2.655,1,0.022,1,4.655,1,107,2
33RR20180918, GP15,33,3,21,GSNIS-22   ,2,6928,15115,20181113,417,-5.0004,-152.0006,5423,151.7,24.0525,36.1611,3,24.1533,2,20181113,430,-5.0005,-152.0006,1.17,2,0.54,2,5.05,2,0.76,2,161.52,2,36.1324,3,2.476,1,0.024,1,4.648,1,160.8,2
33RR20180918, GP15,33,3,22,GSNIS-23   ,2,6928,15115,20181113,417,-5.0004,-152.0006,5423,151.3,24.2088,36.1489,2,-999,9,20181113,430,-5.0005,-152.0006,1.17,2,0.54,2,5.02,2,0.76,2,-999,9,-999,9,2.46,1,0.025,1,4.648,1,162.1,2
33RR20180918, GP15,33,3,23,GSNIS-24   ,2,6928,15114,20181113,417,-5.0004,-152.0006,5423,125.8,26.5213,35.3854,2,26.5271,2,20181113,431,-5.0005,-152.0006,1.56,2,0.51,2,4.84,2,0.24,2,191.65,2,35.3857,2,1.592,1,0.043,1,4.632,1,191.7,2
33RR20180918, GP15,33,3,24,GSNIS-25   ,2,6928,15114,20181113,417,-5.0004,-152.0006,5423,126.7,26.5196,35.3837,2,-999,9,20181113,432,-5.0005,-152.0006,1.66,2,0.51,2,4.87,2,0.23,2,-999,9,-999,9,1.562,1,0.039,1,4.631,1,192.2,2
33RR20180918, GP15,33,3,25,GSNIS-26   ,2,6928,15113,20181113,417,-5.0004,-152.0006,5423,100.8,26.6114,35.3532,2,26.6122,2,20181113,434,-5.0005,-152.0006,1.56,2,0.49,2,4.92,2,0.19,2,195.1,2,35.352,2,1.448,1,0.052,1,4.612,1,196,2
33RR20180918, GP15,33,3,26,GSNIS-27   ,2,6928,15113,20181113,417,-5.0004,-152.0006,5423,101.8,26.616,35.3554,2,-999,9,20181113,434,-5.0005,-152.0006,1.66,2,0.5,2,4.92,2,0.19,2,-999,9,-999,9,1.456,1,0.054,1,4.612,1,195.6,2
33RR20180918, GP15,33,3,27,GSNIS-28   ,2,6928,15113,20181113,417,-5.0004,-152.0006,5423,101,26.6121,35.3536,2,-999,9,20181113,434,-5.0005,-152.0006,1.56,2,0.49,2,4.91,2,0.19,2,-999,9,-999,9,1.461,1,0.051,1,4.609,1,195.4,2
33RR20180918, GP15,33,3,28,GSNIS-29   ,2,6928,15112,20181113,417,-5.0004,-152.0006,5423,81.5,26.7555,35.3598,2,26.7637,2,20181113,436,-5.0005,-152.0006,1.46,2,0.48,2,4.94,2,0.15,2,198.15,2,35.3628,2,1.401,1,0.062,1,4.591,1,198.6,2
33RR20180918, GP15,33,3,29,GSNIS-30   ,2,6928,15112,20181113,417,-5.0004,-152.0006,5423,81,26.766,35.3624,2,-999,9,20181113,436,-5.0005,-152.0006,1.56,2,0.48,2,4.93,2,0.15,2,-999,9,-999,9,1.402,1,0.063,1,4.592,1,198.9,2
33RR20180918, GP15,33,3,30,GSNIS-31   ,2,6928,15112,20181113,417,-5.0004,-152.0006,5423,80.9,26.7705,35.3631,2,-999,9,20181113,436,-5.0005,-152.0006,1.56,2,0.47,2,4.93,2,0.15,2,-999,9,-999,9,1.402,1,0.059,1,4.591,1,199.4,2
33RR20180918, GP15,33,3,31,GSNIS-32   ,2,6928,15111,20181113,417,-5.0004,-152.0006,5423,66.9,27.5252,35.4715,2,27.5442,2,20181113,438,-5.0005,-152.0006,1.56,2,0.43,2,4.8,2,0.1,2,202.41,2,35.4713,2,1.335,1,0.054,1,4.585,1,201.7,2
33RR20180918, GP15,33,3,32,GSNIS-33   ,2,6928,15111,20181113,417,-5.0004,-152.0006,5423,65.1,27.5648,35.4728,2,-999,9,20181113,438,-5.0005,-152.0006,1.56,2,0.43,2,4.81,2,0.1,2,-999,9,-999,9,1.334,1,0.056,1,4.58,1,203.1,2
33RR20180918, GP15,33,3,33,GSNIS-34   ,2,6928,15110,20181113,417,-5.0004,-152.0006,5423,26.1,27.953,35.5243,2,27.9508,2,20181113,441,-5.0005,-152.0006,1.37,2,0.41,2,4.45,2,0.1,2,200.34,2,35.5227,2,1.292,1,0.035,1,4.594,1,200.8,2
33RR20180918, GP15,33,3,34,GSNIS-35   ,2,6928,15110,20181113,417,-5.0004,-152.0006,5423,26.5,27.9552,35.5242,2,-999,9,20181113,441,-5.0005,-152.0006,1.46,2,0.41,2,4.44,2,0.1,2,-999,9,-999,9,1.291,1,0.035,1,4.592,1,200.1,2
33RR20180918, GP15,33,3,35,GSNIS-36   ,2,6928,15110,20181113,417,-5.0004,-152.0006,5423,26.1,27.9419,35.5233,2,-999,9,20181113,441,-5.0005,-152.0006,1.46,2,0.41,2,4.44,2,0.1,2,-999,9,-999,9,1.29,1,0.036,1,4.595,1,200.6,2
33RR20180918, GP15,33,3,36,GSNIS-1    ,2,6928,15110,20181113,417,-5.0004,-152.0006,5423,26.6,27.9408,35.5234,2,-999,9,20181113,441,-5.0004,-152.0006,1.46,2,0.39,2,4.45,2,0.1,2,-999,9,-999,9,1.288,1,0.036,1,4.594,1,200.1,2
33RR20180918, GP15,33,5,1,GSNIS-2    ,2,6935,15195,20181113,1115,-5.0004,-152.0006,5423,906.8,4.9969,34.5373,2,5.0002,2,20181113,1115,-5.0004,-152.0006,68.99,2,2.68,2,38.98,2,0,2,87.19,2,34.5388,2,2.468,1,0.017,1,4.672,1,88.2,2
33RR20180918, GP15,33,5,2,GSNIS-3    ,2,6935,15195,20181113,1115,-5.0004,-152.0006,5423,906.8,5.0001,34.5372,2,-999,9,20181113,1115,-5.0004,-152.0006,68.89,2,2.68,2,38.99,2,0,2,-999,9,-999,9,2.468,1,0.017,1,4.672,1,87.4,2
33RR20180918, GP15,33,5,3,GSNIS-4    ,2,6935,15195,20181113,1115,-5.0004,-152.0006,5423,906.4,5.0024,34.5371,2,-999,9,20181113,1115,-5.0004,-152.0006,68.99,2,2.68,2,38.99,2,0,2,-999,9,-999,9,2.468,1,0.017,1,4.672,1,87.5,2
33RR20180918, GP15,33,5,4,GSNIS-5    ,2,6935,15194,20181113,1115,-5.0004,-152.0006,5423,756.5,5.7934,34.5362,2,5.7926,2,20181113,1119,-5.0004,-152.0006,55.4,2,2.61,2,38.39,2,0,2,84.16,2,34.5372,2,2.446,1,0.017,1,4.671,1,82.8,2
33RR20180918, GP15,33,5,5,GSNIS-6    ,2,6935,15194,20181113,1115,-5.0004,-152.0006,5423,755.6,5.7942,34.5362,2,-999,9,20181113,1119,-5.0004,-152.0006,55.31,2,2.61,2,38.3,2,0,2,-999,9,-999,9,2.446,1,0.017,1,4.671,1,83.8,2
33RR20180918, GP15,33,5,6,GSNIS-7    ,2,6935,15194,20181113,1115,-5.0004,-152.0006,5423,756.1,5.7946,34.5362,2,-999,9,20181113,1119,-5.0004,-152.0006,55.31,2,2.61,2,38.32,2,0,2,-999,9,-999,9,2.446,1,0.017,1,4.671,1,83.2,2
33RR20180918, GP15,33,5,7,GSNIS-8    ,2,6935,15193,20181113,1115,-5.0004,-152.0006,5423,605.8,7.0924,34.5751,2,7.0929,2,20181113,1123,-5.0004,-152.0006,43.48,2,2.55,2,37.97,2,0,2,64.83,2,34.5755,2,2.469,1,0.017,1,4.669,1,67.6,2
33RR20180918, GP15,33,5,8,GSNIS-9    ,2,6935,15193,20181113,1115,-5.0004,-152.0006,5423,606.1,7.0936,34.5751,2,-999,9,20181113,1123,-5.0004,-152.0006,43.38,2,2.54,2,37.96,2,0,2,-999,9,-999,9,2.47,1,0.017,1,4.669,1,67.8,2
33RR20180918, GP15,33,5,9,GSNIS-10   ,2,6935,15193,20181113,1115,-5.0004,-152.0006,5423,605.2,7.0944,34.5751,2,-999,9,20181113,1123,-5.0004,-152.0006,43.29,2,2.54,2,37.94,2,0,2,-999,9,-999,9,2.472,1,0.017,1,4.669,1,67.9,2
33RR20180918, GP15,33,5,10,GSNIS-11   ,2,6935,15192,20181113,1115,-5.0004,-152.0006,5423,404.1,10.1056,34.7471,2,10.109,2,20181113,1128,-5.0004,-152.0006,31.36,2,2.45,2,34.9,2,0,2,17.2,2,34.748,2,2.552,1,0.018,1,4.662,1,17.4,2
33RR20180918, GP15,33,5,11,GSNIS-12   ,2,6935,15192,20181113,1115,-5.0004,-152.0006,5423,403.8,10.1114,34.747,2,-999,9,20181113,1128,-5.0004,-152.0006,31.46,2,2.44,2,34.91,2,0,2,-999,9,-999,9,2.56,1,0.017,1,4.662,1,18.4,2
33RR20180918, GP15,33,5,12,GSNIS-13   ,2,6935,15192,20181113,1115,-5.0004,-152.0006,5423,404,10.1108,34.7473,2,-999,9,20181113,1128,-5.0004,-152.0006,31.46,2,2.44,2,34.91,2,0,2,-999,9,-999,9,2.568,1,0.018,1,4.662,1,18.4,2
33RR20180918, GP15,33,5,13,GSNIS-14   ,2,6935,15191,20181113,1115,-5.0004,-152.0006,5423,251.9,12.8465,34.9179,2,12.8417,2,20181113,1132,-5.0004,-152.0006,21.69,2,2.06,2,31.17,2,0,2,20.4,2,34.915,2,2.355,1,0.017,1,4.662,1,18.3,2
33RR20180918, GP15,33,5,14,GSNIS-15   ,2,6935,15191,20181113,1115,-5.0004,-152.0006,5423,252.3,12.8459,34.9177,2,-999,9,20181113,1132,-5.0004,-152.0006,21.49,2,2.06,2,31.08,2,0,2,-999,9,-999,9,2.349,1,0.017,1,4.662,1,30.5,2
33RR20180918, GP15,33,5,15,GSNIS-16   ,2,6935,15191,20181113,1115,-5.0004,-152.0006,5423,252.5,12.8373,34.9171,2,-999,9,20181113,1132,-5.0004,-152.0006,21.39,2,2.06,2,31.02,2,0,2,-999,9,-999,9,2.347,1,0.017,1,4.662,1,30.5,2
33RR20180918, GP15,33,5,16,GSNIS-17   ,2,6935,15190,20181113,1115,-5.0004,-152.0006,5423,176.9,17.8217,35.4534,2,17.8237,3,20181113,1136,-5.0004,-152.0006,6.54,2,1.14,2,15.97,2,0.02,2,103.29,2,35.4565,3,2.51,1,0.022,1,4.656,1,104.4,2
33RR20180918, GP15,33,5,17,GSNIS-18   ,2,6935,15190,20181113,1115,-5.0004,-152.0006,5423,177.1,17.8462,35.4543,2,-999,9,20181113,1136,-5.0004,-152.0006,6.54,2,1.14,2,15.92,2,0.02,2,-999,9,-999,9,2.526,1,0.023,1,4.656,1,112,2
33RR20180918, GP15,33,5,18,GSNIS-19   ,2,6935,15190,20181113,1115,-5.0004,-152.0006,5423,177,17.8496,35.4554,2,-999,9,20181113,1136,-5.0004,-152.0006,6.44,2,1.14,2,15.86,2,0.02,2,-999,9,-999,9,2.522,1,0.021,1,4.656,1,111.4,2
33RR20180918, GP15,33,5,19,GSNIS-20   ,2,6935,15189,20181113,1115,-5.0004,-152.0006,5423,151,22.7116,36.0553,2,22.6802,2,20181113,1137,-5.0004,-152.0006,0.98,2,0.51,2,5.41,2,0.68,2,160.04,2,36.0572,3,2.389,1,0.023,1,4.652,1,155.6,2
33RR20180918, GP15,33,5,20,GSNIS-21   ,2,6935,15189,20181113,1115,-5.0004,-152.0006,5423,151.4,22.6356,36.0458,2,-999,9,20181113,1137,-5.0004,-152.0006,1.07,2,0.5,2,5.33,2,0.71,2,-999,9,-999,9,2.376,1,0.023,1,4.652,1,156.5,2
33RR20180918, GP15,33,5,21,GSNIS-22   ,2,6935,15188,20181113,1115,-5.0004,-152.0006,5423,126.3,26.4676,35.3827,2,26.4603,2,20181113,1139,-5.0004,-152.0006,1.46,2,0.44,2,4.87,2,0.26,2,191.47,2,35.3746,2,1.968,1,0.038,1,4.633,1,191.4,2
33RR20180918, GP15,33,5,22,GSNIS-23   ,2,6935,15188,20181113,1115,-5.0004,-152.0006,5423,126.6,26.4542,35.3883,2,-999,9,20181113,1139,-5.0004,-152.0006,1.46,2,0.45,2,4.88,2,0.25,2,-999,9,-999,9,1.854,1,0.037,1,4.634,1,192.4,2
33RR20180918, GP15,33,5,23,GSNIS-24   ,2,6935,15188,20181113,1115,-5.0004,-152.0006,5423,125.9,26.4688,35.3827,2,-999,9,20181113,1139,-5.0004,-152.0006,1.46,2,0.44,2,4.88,2,0.26,2,-999,9,-999,9,1.766,1,0.035,1,4.633,1,192.4,2
33RR20180918, GP15,33,5,24,GSNIS-25   ,2,6935,15187,20181113,1115,-5.0004,-152.0006,5423,101.3,26.6477,35.3773,2,26.6454,2,20181113,1141,-5.0004,-152.0006,1.37,2,0.41,2,4.82,2,0.19,2,194.98,2,35.3738,2,1.41,1,0.052,1,4.617,1,195.3,2
33RR20180918, GP15,33,5,25,GSNIS-26   ,2,6935,15187,20181113,1115,-5.0004,-152.0006,5423,101.2,26.6457,35.3783,2,-999,9,20181113,1141,-5.0004,-152.0006,1.37,2,0.42,2,4.82,2,0.19,2,-999,9,-999,9,1.405,1,0.049,1,4.617,1,194.5,2
33RR20180918, GP15,33,5,26,GSNIS-27   ,2,6935,15186,20181113,1115,-5.0004,-152.0006,5423,81,26.7316,35.3532,2,26.7189,2,20181113,1143,-5.0004,-152.0006,1.37,2,0.41,2,4.92,2,0.16,2,198.1,2,35.3545,2,1.35,1,0.058,1,4.598,1,198.8,2
33RR20180918, GP15,33,5,27,GSNIS-28   ,2,6935,15186,20181113,1115,-5.0004,-152.0006,5423,82,26.7112,35.3503,2,-999,9,20181113,1143,-5.0004,-152.0006,1.37,2,0.41,2,4.92,2,0.16,2,-999,9,-999,9,1.348,1,0.056,1,4.597,1,198.6,2
33RR20180918, GP15,33,5,28,GSNIS-29   ,2,6935,15186,20181113,1115,-5.0004,-152.0006,5423,80.9,26.7288,35.3528,2,-999,9,20181113,1143,-5.0004,-152.0006,1.37,2,0.41,2,4.92,2,0.16,2,-999,9,-999,9,1.347,1,0.058,1,4.597,1,197.5,2
33RR20180918, GP15,33,5,29,GSNIS-30   ,2,6935,15186,20181113,1115,-5.0004,-152.0006,5423,81.3,26.7148,35.3509,2,-999,9,20181113,1143,-5.0004,-152.0006,1.37,2,0.41,2,4.91,2,0.16,2,-999,9,-999,9,1.345,1,0.054,1,4.599,1,198.3,2
33RR20180918, GP15,33,5,30,GSNIS-31   ,2,6935,15185,20181113,1115,-5.0004,-152.0006,5423,66.3,27.5442,35.4683,2,27.521,2,20181113,1145,-5.0004,-152.0006,1.37,2,0.37,2,4.81,2,0.11,2,201.38,2,35.4673,2,1.321,1,0.056,1,4.59,1,200.5,2
33RR20180918, GP15,33,5,31,GSNIS-32   ,2,6935,15185,20181113,1115,-5.0004,-152.0006,5423,65.7,27.526,35.4669,2,-999,9,20181113,1145,-5.0004,-152.0006,1.37,2,0.37,2,4.83,2,0.11,2,-999,9,-999,9,1.32,1,0.052,1,4.59,1,200.6,2
33RR20180918, GP15,33,5,32,GSNIS-33   ,2,6935,15185,20181113,1115,-5.0004,-152.0006,5423,67.3,27.4946,35.4644,2,-999,9,20181113,1145,-5.0004,-152.0006,1.46,2,0.37,2,4.86,2,0.11,2,-999,9,-999,9,1.32,1,0.056,1,4.588,1,201,2
33RR20180918, GP15,33,5,33,GSNIS-34   ,2,6935,15184,20181113,1115,-5.0004,-152.0006,5423,26.1,27.8371,35.5203,2,27.8382,2,20181113,1148,-5.0004,-152.0006,1.27,2,0.35,2,4.5,2,0.1,2,200.18,2,35.5216,2,1.308,1,0.039,1,4.597,1,201.5,2
33RR20180918, GP15,33,5,34,GSNIS-35   ,2,6935,15184,20181113,1115,-5.0004,-152.0006,5423,26.7,27.8389,35.5206,2,-999,9,20181113,1148,-5.0004,-152.0006,1.27,2,0.36,2,4.52,2,0.1,2,-999,9,-999,9,1.308,1,0.038,1,4.599,1,200.6,2
33RR20180918, GP15,33,5,35,GSNIS-36   ,2,6935,15184,20181113,1115,-5.0004,-152.0006,5423,26.5,27.8387,35.5207,2,-999,9,20181113,1148,-5.0004,-152.0006,1.37,2,0.38,2,4.51,2,0.1,2,-999,9,-999,9,1.308,1,0.039,1,4.596,1,200.6,2
33RR20180918, GP15,33,5,36,GSNIS-1    ,2,6935,15183,20181113,1115,-5.0004,-152.0006,5423,3.2,27.8273,35.5192,2,27.8252,2,20181113,1151,-5.0004,-152.0006,1.37,2,0.4,2,4.5,2,0.1,2,200.36,2,35.5186,2,1.315,1,0.039,1,4.596,1,201.5,2