BOTTLE,20191212SIOCCHAMB
EXPOCODE,SECT_ID,STNNBR,CASTNO,SAMPNO,BTLNBR,BTLNBR_FLAG_W,GEOTRC_EVENTNO,GEOTRC_SAMPNO,DATE,TIME,LATITUDE,LONGITUDE,DEPTH,CTDPRS,CTDTMP,CTDSAL,CTDSAL_FLAG_W,REFTMP,REFTMP_FLAG_W,BTL_DATE,BTL_TIME,BTL_LAT,BTL_LON,SILCAT,SILCAT_FLAG_W,PHSPHT,PHSPHT_FLAG_W,NITRAT,NITRAT_FLAG_W,NITRIT,NITRIT_FLAG_W,OXYGEN,OXYGEN_FLAG_W,SALNTY,SALNTY_FLAG_W,CTDRINKO,CTDRINKO_FLAG_W,CTDFLUOR,CTDFLUOR_FLAG_W,CTDXMISS,CTDXMISS_FLAG_W,CTDOXY,CTDOXY_FLAG_W
,,,,,,,,,,,,,METERS,DBAR,ITS-90,PSS-78,,ITS-90,,,,,,UMOL/KG,,UMOL/KG,,UMOL/KG,,UMOL/KG,,UMOL/KG,,PSS-78,,VOLTS,,VOLTS,,VOLTS,,UMOL/KG,
33RR20180918, GP15,27,3,1,GSNIS-2    ,2,6871,14676,20181106,1137,2.5086,-152.0189,4639,401.4,10.015,34.6989,2,10.0134,2,20181106,1137,2.5067,-152.0153,27.77,2,2.14,2,30.77,2,0,2,72.7,2,34.6997,2,2.266,1,0.017,1,4.663,1,66.5,3
33RR20180918, GP15,27,3,2,GSNIS-3    ,2,6871,14676,20181106,1137,2.5086,-152.0189,4639,401.3,10.0121,34.6985,2,-999,9,20181106,1138,2.5067,-152.0153,27.77,2,2.14,2,30.8,2,0,2,-999,9,-999,9,2.268,1,0.017,1,4.663,1,71.3,3
33RR20180918, GP15,27,3,3,GSNIS-4    ,2,6871,14676,20181106,1137,2.5086,-152.0189,4639,400.9,10.0165,34.6987,2,-999,9,20181106,1138,2.5067,-152.0153,27.77,2,2.13,2,30.89,2,0,2,-999,9,-999,9,2.27,1,0.017,1,4.663,1,71.3,3
33RR20180918, GP15,27,3,4,GSNIS-5    ,2,6871,14676,20181106,1137,2.5086,-152.0189,4639,402.1,10.0109,34.6986,2,-999,9,20181106,1138,2.5067,-152.0153,27.86,2,2.14,2,30.74,2,0,2,-999,9,-999,9,2.272,1,0.017,1,4.663,1,71.3,3
33RR20180918, GP15,27,3,5,GSNIS-6    ,2,6871,14675,20181106,1137,2.5086,-152.0189,4639,352.2,10.4998,34.7292,2,10.495,2,20181106,1140,2.5069,-152.0157,26.01,2,2.07,2,29.8,2,0,2,72.25,2,34.7304,2,2.337,1,0.018,1,4.664,1,71.6,2
33RR20180918, GP15,27,3,6,GSNIS-7    ,2,6871,14675,20181106,1137,2.5086,-152.0189,4639,351.8,10.4963,34.7291,2,-999,9,20181106,1140,2.5069,-152.0157,26.01,2,2.08,2,29.77,2,0,2,-999,9,-999,9,2.339,1,0.017,1,4.663,1,71.6,2
33RR20180918, GP15,27,3,7,GSNIS-8    ,2,6871,14674,20181106,1137,2.5086,-152.0189,4639,301.8,10.9458,34.7575,2,10.9442,2,20181106,1142,2.507,-152.016,23.56,2,1.96,2,27.96,2,0,2,81.79,2,34.7587,2,2.367,1,0.018,1,4.664,1,79.6,2
33RR20180918, GP15,27,3,8,GSNIS-9    ,2,6871,14674,20181106,1137,2.5086,-152.0189,4639,302,10.9432,34.7576,2,-999,9,20181106,1142,2.507,-152.0161,23.66,2,1.96,2,27.96,2,0,2,-999,9,-999,9,2.367,1,0.017,1,4.664,1,79.8,2
33RR20180918, GP15,27,3,9,GSNIS-10   ,2,6871,14673,20181106,1137,2.5086,-152.0189,4639,251.8,11.5215,34.8022,2,11.5219,2,20181106,1145,2.5072,-152.0164,22.78,2,1.99,2,28.45,2,0,2,66.98,2,34.8025,2,2.329,1,0.017,1,4.666,1,68,2
33RR20180918, GP15,27,3,10,GSNIS-11   ,2,6871,14673,20181106,1137,2.5086,-152.0189,4639,251.9,11.5207,34.8023,2,-999,9,20181106,1145,2.5072,-152.0164,22.78,2,1.98,2,28.46,2,0,2,-999,9,-999,9,2.328,1,0.017,1,4.666,1,67.8,2
33RR20180918, GP15,27,3,11,GSNIS-12   ,2,6871,14673,20181106,1137,2.5086,-152.0189,4639,251.5,11.5225,34.8024,2,-999,9,20181106,1145,2.5072,-152.0164,22.68,2,1.98,2,28.47,2,0,2,-999,9,-999,9,2.327,1,0.018,1,4.666,1,67.4,2
33RR20180918, GP15,27,3,12,GSNIS-13   ,2,6871,14673,20181106,1137,2.5086,-152.0189,4639,251.6,11.5226,34.8025,2,-999,9,20181106,1145,2.5072,-152.0164,22.68,2,1.99,2,28.5,2,0,2,-999,9,-999,9,2.327,1,0.017,1,4.666,1,68,2
33RR20180918, GP15,27,3,13,GSNIS-14   ,2,6871,14672,20181106,1137,2.5086,-152.0189,4639,200.9,12.266,34.8361,2,12.2646,2,20181106,1147,2.5073,-152.0168,21.41,2,1.95,2,27.9,2,0,2,61.09,2,34.8365,2,2.336,1,0.017,1,4.666,1,58.9,2
33RR20180918, GP15,27,3,14,GSNIS-15   ,2,6871,14672,20181106,1137,2.5086,-152.0189,4639,201.7,12.264,34.836,2,-999,9,20181106,1147,2.5073,-152.0168,21.31,2,1.95,2,27.88,2,0,2,-999,9,-999,9,2.335,1,0.017,1,4.667,1,59.3,2
33RR20180918, GP15,27,3,15,GSNIS-16   ,2,6871,14671,20181106,1137,2.5086,-152.0189,4639,161.9,16.8829,34.7215,3,16.8636,3,20181106,1149,2.5074,-152.0171,13.1,2,1.31,2,17.91,2,0.02,2,104.91,2,34.7211,3,2.325,1,0.02,1,4.66,1,105.6,2
33RR20180918, GP15,27,3,16,GSNIS-17   ,2,6871,14671,20181106,1137,2.5086,-152.0189,4639,161.5,16.8616,34.7205,2,-999,9,20181106,1149,2.5074,-152.0171,13,2,1.3,2,17.82,2,0.03,2,-999,9,-999,9,2.315,1,0.022,1,4.66,1,103.9,2
33RR20180918, GP15,27,3,17,GSNIS-18   ,2,6871,14671,20181106,1137,2.5086,-152.0189,4639,161.7,16.8585,34.7267,2,-999,9,20181106,1149,2.5074,-152.0171,13.1,2,1.31,2,17.82,2,0.03,2,-999,9,-999,9,2.304,1,0.02,1,4.66,1,103.2,2
33RR20180918, GP15,27,3,18,GSNIS-19   ,2,6871,14671,20181106,1137,2.5086,-152.0189,4639,161.7,16.821,34.7224,2,-999,9,20181106,1149,2.5075,-152.0171,12.81,2,1.3,2,17.82,2,0.02,2,-999,9,-999,9,2.289,1,0.021,1,4.66,1,103.1,2
33RR20180918, GP15,27,3,19,GSNIS-20   ,2,6871,14670,20181106,1137,2.5086,-152.0189,4639,122.1,27.355,35.1753,2,27.3518,2,20181106,1151,2.5076,-152.0174,0.39,2,0.44,2,3.57,2,0.31,2,193.23,2,35.1705,2,1.899,1,0.038,1,4.635,1,191.9,2
33RR20180918, GP15,27,3,20,GSNIS-21   ,2,6871,14670,20181106,1137,2.5086,-152.0189,4639,122,27.3506,35.1758,2,-999,9,20181106,1151,2.5076,-152.0174,0.49,2,0.44,2,3.57,2,0.32,2,-999,9,-999,9,1.899,1,0.038,1,4.635,1,192.6,2
33RR20180918, GP15,27,3,21,GSNIS-22   ,2,6871,14669,20181106,1137,2.5086,-152.0189,4639,101.9,27.4646,35.1417,2,27.4689,2,20181106,1153,2.5078,-152.0177,0.39,2,0.41,2,3.17,2,0.22,2,195.63,2,35.138,2,1.76,1,0.044,1,4.625,1,194.2,2
33RR20180918, GP15,27,3,22,GSNIS-23   ,2,6871,14669,20181106,1137,2.5086,-152.0189,4639,101.5,27.4718,35.1405,2,-999,9,20181106,1153,2.5078,-152.0177,0.39,2,0.42,2,3.2,2,0.23,2,-999,9,-999,9,1.76,1,0.044,1,4.628,1,194.9,2
33RR20180918, GP15,27,3,23,GSNIS-24   ,2,6871,14669,20181106,1137,2.5086,-152.0189,4639,102.5,27.4644,35.1421,2,-999,9,20181106,1153,2.5078,-152.0177,0.49,2,0.41,2,3.18,2,0.22,2,-999,9,-999,9,1.76,1,0.043,1,4.628,1,194.8,2
33RR20180918, GP15,27,3,24,GSNIS-25   ,2,6871,14669,20181106,1137,2.5086,-152.0189,4639,101.5,27.4745,35.1407,2,-999,9,20181106,1153,2.5078,-152.0177,0.39,2,0.41,2,3.19,2,0.23,2,-999,9,-999,9,1.761,1,0.044,1,4.626,1,194.1,2
33RR20180918, GP15,27,3,25,GSNIS-26   ,2,6871,14668,20181106,1137,2.5086,-152.0189,4639,81.4,27.5288,35.0659,2,27.5292,2,20181106,1155,2.508,-152.018,0.29,2,0.38,2,2.69,2,0.18,2,195.19,2,35.0734,2,1.794,1,0.05,1,4.614,1,192.6,2
33RR20180918, GP15,27,3,26,GSNIS-27   ,2,6871,14668,20181106,1137,2.5086,-152.0189,4639,81.9,27.5305,35.0663,2,-999,9,20181106,1156,2.508,-152.018,0.2,2,0.38,2,2.67,2,0.19,2,-999,9,-999,9,1.794,1,0.05,1,4.614,1,193.2,2
33RR20180918, GP15,27,3,27,GSNIS-28   ,2,6871,14667,20181106,1137,2.5086,-152.0189,4639,60.5,28.3581,34.801,2,28.3682,2,20181106,1158,2.5082,-152.0183,0,2,0.22,2,0.79,2,0.08,2,196.29,2,34.7937,2,1.768,1,0.06,1,4.595,1,197.2,2
33RR20180918, GP15,27,3,28,GSNIS-29   ,2,6871,14667,20181106,1137,2.5086,-152.0189,4639,60.5,28.369,34.7986,2,-999,9,20181106,1158,2.5082,-152.0183,0,2,0.22,2,0.77,2,0.08,2,-999,9,-999,9,1.76,1,0.056,1,4.594,1,197.8,2
33RR20180918, GP15,27,3,29,GSNIS-30   ,2,6871,14667,20181106,1137,2.5086,-152.0189,4639,60.8,28.3614,34.8008,2,-999,9,20181106,1158,2.5082,-152.0183,0,2,0.21,2,0.75,2,0.07,2,-999,9,-999,9,1.749,1,0.057,1,4.594,1,197.9,2
33RR20180918, GP15,27,3,30,GSNIS-31   ,2,6871,14667,20181106,1137,2.5086,-152.0189,4639,60.6,28.3572,34.8016,2,-999,9,20181106,1158,2.5082,-152.0183,0,2,0.22,2,0.75,2,0.08,2,-999,9,-999,9,1.734,1,0.059,1,4.593,1,197.9,2
33RR20180918, GP15,27,3,31,GSNIS-32   ,2,6871,14666,20181106,1137,2.5086,-152.0189,4639,45.2,28.7135,34.5734,2,28.7123,2,20181106,1159,2.5084,-152.0185,0,2,0.13,2,0.05,2,0.02,2,196.89,2,34.5708,2,1.382,1,0.041,1,4.602,1,199.5,2
33RR20180918, GP15,27,3,32,GSNIS-33   ,2,6871,14666,20181106,1137,2.5086,-152.0189,4639,45.4,28.7129,34.574,2,-999,9,20181106,1200,2.5084,-152.0185,0,2,0.13,2,0.05,2,0.02,2,-999,9,-999,9,1.371,1,0.039,1,4.603,1,200.3,2
33RR20180918, GP15,27,3,33,GSNIS-34   ,2,6871,14665,20181106,1137,2.5086,-152.0189,4639,25.2,28.7212,34.5619,2,28.7185,2,20181106,1202,2.5085,-152.0188,0,2,0.12,2,0.02,2,0.01,2,196.87,2,34.5606,2,1.309,1,0.039,1,4.602,1,199.7,2
33RR20180918, GP15,27,3,34,GSNIS-35   ,2,6871,14665,20181106,1137,2.5086,-152.0189,4639,25.6,28.7188,34.562,2,-999,9,20181106,1202,2.5085,-152.0189,0,2,0.13,2,0.03,2,0.01,2,-999,9,-999,9,1.308,1,0.039,1,4.602,1,200.3,2
33RR20180918, GP15,27,3,35,GSNIS-36   ,2,6871,14665,20181106,1137,2.5086,-152.0189,4639,24.9,28.7179,34.5628,2,-999,9,20181106,1202,2.5086,-152.0189,0,2,0.13,2,0.03,2,0.01,2,-999,9,-999,9,1.308,1,0.041,1,4.602,1,200.2,2
33RR20180918, GP15,27,3,36,GSNIS-1    ,2,6871,14665,20181106,1137,2.5086,-152.0189,4639,25.5,28.7157,34.5614,2,-999,9,20181106,1202,2.5086,-152.0189,0,2,0.14,2,0.03,2,0.02,2,-999,9,-999,9,1.307,1,0.037,1,4.601,1,200.3,2
33RR20180918, GP15,27,5,1,GSNIS-2    ,2,6876,14698,20181106,1943,2.4996,-151.9999,4639,1413.6,3.4532,34.5884,2,3.4543,2,20181106,1943,2.4998,-152.0008,112.03,2,2.89,2,40.54,2,0,2,80.23,2,34.5883,2,2.564,1,0.018,1,4.676,1,80.5,2
33RR20180918, GP15,27,5,2,GSNIS-3    ,2,6876,14698,20181106,1943,2.4996,-151.9999,4639,1413,3.4562,34.5882,2,-999,9,20181106,1943,2.4998,-152.0008,111.84,2,2.89,2,40.56,2,0,2,-999,9,-999,9,2.565,1,0.018,1,4.676,1,80.5,2
33RR20180918, GP15,27,5,3,GSNIS-4    ,2,6876,14698,20181106,1943,2.4996,-151.9999,4639,1412.9,3.4549,34.5884,2,-999,9,20181106,1943,2.4998,-152.0008,112.03,2,2.9,2,40.63,2,0,2,-999,9,-999,9,2.565,1,0.018,1,4.676,1,80.6,2
33RR20180918, GP15,27,5,4,GSNIS-5    ,2,6876,14697,20181106,1943,2.4996,-151.9999,4639,1109.2,4.3091,34.5587,2,4.3084,2,20181106,1950,2.4998,-152.0007,90.14,2,2.83,2,39.68,2,0,2,83.36,2,34.5594,2,2.546,1,0.018,1,4.676,1,83.7,2
33RR20180918, GP15,27,5,5,GSNIS-6    ,2,6876,14697,20181106,1943,2.4996,-151.9999,4639,1109.6,4.3106,34.5587,2,4.3094,2,20181106,1950,2.4998,-152.0006,90.14,2,2.83,2,39.55,2,0,2,-999,9,-999,9,2.546,1,0.018,1,4.676,1,84,2
33RR20180918, GP15,27,5,6,GSNIS-7    ,2,6876,14696,20181106,1943,2.4996,-151.9999,4639,807.1,5.4669,34.5434,2,5.4677,2,20181106,1956,2.4997,-152.0005,67.95,2,2.81,2,39.47,2,0,2,71.73,2,34.5437,2,2.507,1,0.017,1,4.675,1,69,2
33RR20180918, GP15,27,5,7,GSNIS-8    ,2,6876,14696,20181106,1943,2.4996,-151.9999,4639,806.7,5.4678,34.5433,2,-999,9,20181106,1956,2.4997,-152.0005,67.85,2,2.81,2,39.46,2,0,2,-999,9,-999,9,2.507,1,0.017,1,4.675,1,69.8,2
33RR20180918, GP15,27,5,8,GSNIS-9    ,2,6876,14696,20181106,1943,2.4996,-151.9999,4639,806.6,5.4684,34.5433,2,-999,9,20181106,1956,2.4997,-152.0005,67.85,2,2.81,2,39.47,2,0,2,-999,9,-999,9,2.506,1,0.017,1,4.675,1,69.8,2
33RR20180918, GP15,27,5,9,GSNIS-10   ,2,6876,14695,20181106,1943,2.4996,-151.9999,4639,504.6,8.2524,34.6188,2,8.2518,2,20181106,2003,2.4997,-152.0003,43.5,2,2.82,2,38.71,2,0,2,18.42,2,34.6195,2,2.501,1,0.018,1,4.668,1,18.4,2
33RR20180918, GP15,27,5,10,GSNIS-11   ,2,6876,14695,20181106,1943,2.4996,-151.9999,4639,504.4,8.2529,34.6193,2,-999,9,20181106,2003,2.4997,-152.0003,43.31,2,2.82,2,38.7,2,0,2,-999,9,-999,9,2.502,1,0.018,1,4.668,1,19.8,2
33RR20180918, GP15,27,5,11,GSNIS-12   ,2,6876,14695,20181106,1943,2.4996,-151.9999,4639,505,8.2496,34.6196,2,-999,9,20181106,2003,2.4997,-152.0003,43.4,2,2.82,2,38.7,2,0,2,-999,9,-999,9,2.504,1,0.017,1,4.668,1,19.7,2
33RR20180918, GP15,27,5,12,GSNIS-13   ,2,6876,14695,20181106,1943,2.4996,-151.9999,4639,504.4,8.2533,34.6192,2,-999,9,20181106,2003,2.4997,-152.0003,43.4,2,2.81,2,38.69,2,0,2,-999,9,-999,9,2.504,1,0.018,1,4.667,1,19.8,2
33RR20180918, GP15,27,5,13,GSNIS-14   ,2,6876,14694,20181106,1943,2.4996,-151.9999,4639,251.2,11.6332,34.8025,2,11.6303,2,20181106,2008,2.4997,-152.0001,21.89,2,1.95,2,27.68,2,0,2,73.21,2,34.8039,2,2.589,1,0.017,1,4.668,1,72.9,2
33RR20180918, GP15,27,5,14,GSNIS-15   ,2,6876,14694,20181106,1943,2.4996,-151.9999,4639,251.5,11.6312,34.8021,2,-999,9,20181106,2008,2.4997,-152.0001,21.89,2,1.95,2,27.7,2,0,2,-999,9,-999,9,2.584,1,0.017,1,4.668,1,74.1,2
33RR20180918, GP15,27,5,15,GSNIS-16   ,2,6876,14694,20181106,1943,2.4996,-151.9999,4639,251.8,11.6297,34.8017,2,-999,9,20181106,2008,2.4997,-152.0001,21.89,2,1.95,2,27.66,2,0,2,-999,9,-999,9,2.58,1,0.017,1,4.668,1,73.5,2
33RR20180918, GP15,27,5,16,GSNIS-17   ,2,6876,14693,20181106,1943,2.4996,-151.9999,4639,160.5,15.9539,34.714,2,15.8546,2,20181106,2011,2.4996,-152,14.86,2,1.43,2,19.71,2,0.02,2,100.14,2,34.7213,2,2.438,1,0.02,1,4.662,1,101.7,2
33RR20180918, GP15,27,5,17,GSNIS-18   ,2,6876,14693,20181106,1943,2.4996,-151.9999,4639,160.7,15.8421,34.7135,2,-999,9,20181106,2011,2.4996,-152,14.86,2,1.43,2,19.72,2,0.03,2,-999,9,-999,9,2.435,1,0.021,1,4.662,1,106,2
33RR20180918, GP15,27,5,18,GSNIS-19   ,2,6876,14693,20181106,1943,2.4996,-151.9999,4639,160.9,15.8203,34.7156,2,-999,9,20181106,2011,2.4996,-152,14.66,2,1.42,2,19.67,2,0.02,2,-999,9,-999,9,2.429,1,0.021,1,4.662,1,105.9,2
33RR20180918, GP15,27,5,19,GSNIS-20   ,2,6876,14692,20181106,1943,2.4996,-151.9999,4639,121.8,26.7268,35.0607,2,26.7111,2,20181106,2013,2.4996,-152,1.17,2,0.5,2,4.1,2,0.73,2,181.57,2,35.0596,2,1.964,1,0.038,1,4.637,1,180.4,2
33RR20180918, GP15,27,5,20,GSNIS-21   ,2,6876,14692,20181106,1943,2.4996,-151.9999,4639,121.3,26.7135,35.0616,2,-999,9,20181106,2013,2.4996,-152,1.07,2,0.49,2,4.13,2,0.73,2,-999,9,-999,9,1.961,1,0.036,1,4.637,1,180,2
33RR20180918, GP15,27,5,21,GSNIS-22   ,2,6876,14691,20181106,1943,2.4996,-151.9999,4639,100.4,27.4429,35.1622,2,27.4426,2,20181106,2015,2.4996,-151.9999,0.59,2,0.43,2,3.33,2,0.25,2,194.42,2,35.1593,2,1.843,1,0.04,1,4.629,1,193.2,2
33RR20180918, GP15,27,5,22,GSNIS-23   ,2,6876,14691,20181106,1943,2.4996,-151.9999,4639,100.7,27.446,35.1628,2,-999,9,20181106,2015,2.4996,-151.9999,0.59,2,0.42,2,3.33,2,0.25,2,-999,9,-999,9,1.852,1,0.04,1,4.629,1,193,2
33RR20180918, GP15,27,5,23,GSNIS-24   ,2,6876,14691,20181106,1943,2.4996,-151.9999,4639,100.5,27.4452,35.1629,2,-999,9,20181106,2015,2.4996,-151.9999,0.59,2,0.43,2,3.33,2,0.25,2,-999,9,-999,9,1.86,1,0.041,1,4.629,1,193.2,2
33RR20180918, GP15,27,5,24,GSNIS-25   ,2,6876,14690,20181106,1943,2.4996,-151.9999,4639,80.2,27.5647,35.0984,2,27.5633,2,20181106,2017,2.4996,-151.9999,0.49,2,0.39,2,2.78,2,0.18,2,195.51,2,35.0937,2,1.877,1,0.045,1,4.619,1,194,2
33RR20180918, GP15,27,5,25,GSNIS-26   ,2,6876,14690,20181106,1943,2.4996,-151.9999,4639,80.2,27.5665,35.0988,2,-999,9,20181106,2017,2.4996,-151.9999,0.39,2,0.4,2,2.79,2,0.18,2,-999,9,-999,9,1.876,1,0.046,1,4.619,1,194,2
33RR20180918, GP15,27,5,26,GSNIS-27   ,2,6876,14689,20181106,1943,2.4996,-151.9999,4639,59.4,28.4504,34.7483,3,28.4515,2,20181106,2019,2.4996,-151.9999,0,2,0.21,2,0.62,2,0.06,2,195.63,2,34.7366,3,1.843,1,0.044,1,4.595,1,198.3,2
33RR20180918, GP15,27,5,27,GSNIS-28   ,2,6876,14689,20181106,1943,2.4996,-151.9999,4639,59.7,28.441,34.7538,2,-999,9,20181106,2019,2.4996,-151.9999,0,2,0.21,2,0.63,2,0.06,2,-999,9,-999,9,1.84,1,0.044,1,4.596,1,198.4,2
33RR20180918, GP15,27,5,28,GSNIS-29   ,2,6876,14689,20181106,1943,2.4996,-151.9999,4639,59.1,28.4647,34.7391,2,-999,9,20181106,2019,2.4996,-151.9999,0,2,0.22,2,0.64,2,0.06,2,-999,9,-999,9,1.838,1,0.043,1,4.596,1,198.4,2
33RR20180918, GP15,27,5,29,GSNIS-30   ,2,6876,14689,20181106,1943,2.4996,-151.9999,4639,60.1,28.4244,34.7623,2,-999,9,20181106,2019,2.4996,-151.9999,0,2,0.22,2,0.63,2,0.06,2,-999,9,-999,9,1.834,1,0.045,1,4.596,1,198.2,2
33RR20180918, GP15,27,5,30,GSNIS-31   ,2,6876,14688,20181106,1943,2.4996,-151.9999,4639,43.7,28.6779,34.5898,2,28.6772,2,20181106,2021,2.4996,-151.9999,0,2,0.15,2,0.05,2,0.02,2,196.56,2,34.5834,2,1.508,1,0.032,1,4.602,1,201,2
33RR20180918, GP15,27,5,31,GSNIS-32   ,2,6876,14688,20181106,1943,2.4996,-151.9999,4639,43.7,28.677,34.5916,2,-999,9,20181106,2021,2.4996,-151.9999,0,2,0.14,2,0.06,2,0.02,2,-999,9,-999,9,1.49,1,0.032,1,4.6,1,199.9,2
33RR20180918, GP15,27,5,32,GSNIS-33   ,2,6876,14687,20181106,1943,2.4996,-151.9999,4639,24.1,28.6877,34.5711,2,28.6878,2,20181106,2023,2.4996,-151.9999,0,2,0.13,2,0.02,2,0.01,2,196.59,2,34.5696,2,1.334,1,0.027,1,4.597,1,199.4,2
33RR20180918, GP15,27,5,33,GSNIS-34   ,2,6876,14687,20181106,1943,2.4996,-151.9999,4639,24.5,28.6875,34.571,2,-999,9,20181106,2023,2.4996,-151.9999,0,2,0.14,2,0.02,2,0.01,2,-999,9,-999,9,1.331,1,0.027,1,4.602,1,199.2,2
33RR20180918, GP15,27,5,34,GSNIS-35   ,2,6876,14687,20181106,1943,2.4996,-151.9999,4639,24.7,28.6878,34.5708,2,-999,9,20181106,2023,2.4996,-151.9999,0,2,0.14,2,0.02,2,0.01,2,-999,9,-999,9,1.327,1,0.028,1,4.601,1,200.5,2
33RR20180918, GP15,27,5,35,GSNIS-36   ,2,6876,14686,20181106,1943,2.4996,-151.9999,4639,2.3,28.7342,34.5744,2,28.7259,2,20181106,2025,2.4996,-151.9999,0,2,0.14,2,0.03,2,0.01,2,196.78,2,34.5775,2,1.295,1,0.021,1,4.603,1,200.9,2
33RR20180918, GP15,27,5,36,GSNIS-1    ,2,6876,14686,20181106,1943,2.4996,-151.9999,4639,2.6,28.7225,34.5744,2,-999,9,20181106,2025,2.4996,-151.9999,0,2,0.13,2,0.04,2,0.01,2,-999,9,-999,9,1.295,1,0.021,1,4.603,1,199.1,2