BOTTLE,20191212SIOCCHAMB
EXPOCODE,SECT_ID,STNNBR,CASTNO,SAMPNO,BTLNBR,BTLNBR_FLAG_W,GEOTRC_EVENTNO,GEOTRC_SAMPNO,DATE,TIME,LATITUDE,LONGITUDE,DEPTH,CTDPRS,CTDTMP,CTDSAL,CTDSAL_FLAG_W,REFTMP,REFTMP_FLAG_W,BTL_DATE,BTL_TIME,BTL_LAT,BTL_LON,SILCAT,SILCAT_FLAG_W,PHSPHT,PHSPHT_FLAG_W,NITRAT,NITRAT_FLAG_W,NITRIT,NITRIT_FLAG_W,OXYGEN,OXYGEN_FLAG_W,SALNTY,SALNTY_FLAG_W,CTDRINKO,CTDRINKO_FLAG_W,CTDFLUOR,CTDFLUOR_FLAG_W,CTDXMISS,CTDXMISS_FLAG_W,CTDOXY,CTDOXY_FLAG_W
,,,,,,,,,,,,,METERS,DBAR,ITS-90,PSS-78,,ITS-90,,,,,,UMOL/KG,,UMOL/KG,,UMOL/KG,,UMOL/KG,,UMOL/KG,,PSS-78,,VOLTS,,VOLTS,,VOLTS,,UMOL/KG,
33RR20180918, GP15,12,12,1,GSNIS-2    ,2,6664,13348,20181012,200,37.0002,-152.0003,5701,5659.7,1.6201,34.6897,2,1.6201,2,20181012,200,37.0001,-152.0003,149.24,2,2.48,2,35.91,2,0,2,154.25,2,34.6901,2,2.276,1,0.017,1,4.697,1,154.4,2
33RR20180918, GP15,12,12,2,GSNIS-3    ,2,6664,13348,20181012,200,37.0002,-152.0003,5701,5660.8,1.6201,34.6898,2,-999,9,20181012,200,37.0001,-152.0003,149.34,2,2.48,2,35.98,2,0,2,-999,9,-999,9,2.276,1,0.017,1,4.697,1,153.6,2
33RR20180918, GP15,12,12,3,GSNIS-4    ,2,6664,13348,20181012,200,37.0002,-152.0003,5701,5659.7,1.6201,34.6898,2,-999,9,20181012,200,37.0001,-152.0003,149.14,2,2.48,2,35.97,2,0,2,-999,9,-999,9,2.276,1,0.017,1,4.697,1,154.1,2
33RR20180918, GP15,12,12,4,GSNIS-5    ,2,6664,13348,20181012,200,37.0002,-152.0003,5701,5660.2,1.6201,34.6899,2,-999,9,20181012,200,37.0001,-152.0003,149.24,2,2.48,2,35.89,2,0,2,-999,9,-999,9,2.277,1,0.017,1,4.697,1,153.3,2
33RR20180918, GP15,12,12,5,GSNIS-6    ,2,6664,13347,20181012,200,37.0002,-152.0003,5701,5619.5,1.6144,34.6898,2,1.6143,2,20181012,203,37.0001,-152.0003,149.44,2,2.49,2,35.94,2,0,2,154.35,2,34.6899,2,2.277,1,0.017,1,4.697,1,153.5,2
33RR20180918, GP15,12,12,6,GSNIS-7    ,2,6664,13347,20181012,200,37.0002,-152.0003,5701,5618.6,1.6143,34.6898,2,-999,9,20181012,203,37.0001,-152.0003,149.24,2,2.48,2,35.82,2,0,2,-999,9,-999,9,2.277,1,0.017,1,4.697,1,153.1,2
33RR20180918, GP15,12,12,7,GSNIS-8    ,2,6664,13347,20181012,200,37.0002,-152.0003,5701,5619.1,1.6144,34.6898,2,-999,9,20181012,203,37.0001,-152.0003,149.34,2,2.48,2,35.87,2,0,2,-999,9,-999,9,2.277,1,0.017,1,4.697,1,153.8,2
33RR20180918, GP15,12,12,8,GSNIS-9    ,2,6664,13347,20181012,200,37.0002,-152.0003,5701,5619.7,1.6145,34.6897,2,-999,9,20181012,203,37.0001,-152.0003,149.34,2,2.49,2,35.81,2,0,2,-999,9,-999,9,2.277,1,0.017,1,4.697,1,154.4,2
33RR20180918, GP15,12,12,9,GSNIS-10   ,2,6664,13346,20181012,200,37.0002,-152.0003,5701,5537.3,1.6034,34.6898,2,1.6033,2,20181012,207,37.0001,-152.0003,150.12,2,2.49,2,35.82,2,0,2,154.36,2,34.6901,2,2.273,1,0.017,1,4.697,1,153.4,2
33RR20180918, GP15,12,12,10,GSNIS-11   ,3,6664,13346,20181012,200,37.0002,-152.0003,5701,5536.6,1.6034,34.6898,3,-999,9,20181012,207,37.0001,-152.0003,101.32,3,2.97,3,41.46,3,0,3,-999,9,-999,9,2.272,1,0.017,1,4.697,1,155.4,3
33RR20180918, GP15,12,12,11,GSNIS-12   ,2,6664,13346,20181012,200,37.0002,-152.0003,5701,5536.9,1.6035,34.6898,2,-999,9,20181012,207,37.0001,-152.0003,149.34,2,2.48,2,35.76,2,0,2,-999,9,-999,9,2.272,1,0.017,1,4.698,1,153.3,2
33RR20180918, GP15,12,12,12,GSNIS-13   ,2,6664,13346,20181012,200,37.0002,-152.0003,5701,5535.8,1.6034,34.6897,2,-999,9,20181012,208,37.0001,-152.0003,149.63,2,2.47,2,35.8,2,0,2,-999,9,-999,9,2.272,1,0.017,1,4.697,1,151.5,2
33RR20180918, GP15,12,12,13,GSNIS-14   ,2,6664,13345,20181012,200,37.0002,-152.0003,5701,5098.1,1.5533,34.6888,2,1.5532,2,20181012,217,37.0001,-152.0003,151.97,2,2.49,2,35.94,2,0,2,152.36,2,34.6894,2,2.267,1,0.017,1,4.7,1,152.9,2
33RR20180918, GP15,12,12,14,GSNIS-15   ,2,6664,13345,20181012,200,37.0002,-152.0003,5701,5098.6,1.5534,34.6888,2,-999,9,20181012,217,37.0001,-152.0003,151.97,2,2.48,2,36.01,2,0,2,-999,9,-999,9,2.267,1,0.017,1,4.7,1,150.5,2
33RR20180918, GP15,12,12,15,GSNIS-16   ,2,6664,13344,20181012,200,37.0002,-152.0003,5701,4584.6,1.5094,34.6869,2,1.5092,2,20181012,227,37.0002,-152.0003,157.44,2,2.52,2,36.36,2,0,2,147.69,2,34.6872,2,2.266,1,0.017,1,4.699,1,148.5,2
33RR20180918, GP15,12,12,16,GSNIS-17   ,2,6664,13344,20181012,200,37.0002,-152.0003,5701,4584.7,1.5094,34.687,2,-999,9,20181012,227,37.0002,-152.0003,157.34,2,2.52,2,36.34,2,0,2,-999,9,-999,9,2.266,1,0.017,1,4.699,1,150,2
33RR20180918, GP15,12,12,17,GSNIS-18   ,2,6664,13344,20181012,200,37.0002,-152.0003,5701,4585.1,1.5095,34.6869,2,-999,9,20181012,227,37.0001,-152.0003,157.15,2,2.53,2,36.33,2,0,2,-999,9,-999,9,2.266,1,0.017,1,4.699,1,148.7,2
33RR20180918, GP15,12,12,18,GSNIS-19   ,2,6664,13344,20181012,200,37.0002,-152.0003,5701,4583.7,1.5094,34.6869,2,-999,9,20181012,227,37.0001,-152.0003,157.34,2,2.52,2,36.33,2,0,2,-999,9,-999,9,2.267,1,0.017,1,4.699,1,148.8,2
33RR20180918, GP15,12,12,19,GSNIS-20   ,2,6664,13343,20181012,200,37.0002,-152.0003,5701,4071,1.4796,34.6835,2,1.4797,2,20181012,238,37.0002,-152.0004,159,2,2.55,2,36.67,2,0,2,143.03,2,34.6835,2,2.279,1,0.017,1,4.699,1,143.8,2
33RR20180918, GP15,12,12,20,GSNIS-21   ,2,6664,13343,20181012,200,37.0002,-152.0003,5701,4069.9,1.48,34.6834,2,-999,9,20181012,238,37.0002,-152.0004,158.9,2,2.55,2,36.66,2,0,2,-999,9,-999,9,2.279,1,0.017,1,4.699,1,143.5,2
33RR20180918, GP15,12,12,21,GSNIS-22   ,2,6664,13343,20181012,200,37.0002,-152.0003,5701,4067.6,1.4797,34.6836,2,-999,9,20181012,238,37.0002,-152.0004,158.9,2,2.55,2,36.67,2,0,2,-999,9,-999,9,2.279,1,0.017,1,4.699,1,144.2,2
33RR20180918, GP15,12,12,22,GSNIS-23   ,2,6664,13342,20181012,200,37.0002,-152.0003,5701,3556.6,1.4827,34.6765,2,1.4824,2,20181012,248,37.0002,-152.0003,159.59,2,2.6,2,37.24,2,0,2,134.78,2,34.6768,2,2.292,1,0.017,1,4.699,1,135.4,2
33RR20180918, GP15,12,12,23,GSNIS-24   ,2,6664,13342,20181012,200,37.0002,-152.0003,5701,3556.8,1.4827,34.6765,2,-999,9,20181012,248,37.0002,-152.0003,160.17,2,2.59,2,37.24,2,0,2,-999,9,-999,9,2.293,1,0.017,1,4.699,1,134.7,2
33RR20180918, GP15,12,12,24,GSNIS-25   ,2,6664,13342,20181012,200,37.0002,-152.0003,5701,3556.2,1.4827,34.6766,2,-999,9,20181012,248,37.0002,-152.0003,159.98,2,2.6,2,37.21,2,0,2,-999,9,-999,9,2.293,1,0.017,1,4.699,1,134.9,2
33RR20180918, GP15,12,12,25,GSNIS-26   ,2,6664,13341,20181012,200,37.0002,-152.0003,5701,3045.1,1.5435,34.6633,2,1.5433,2,20181012,258,37.0002,-152.0003,163.98,2,2.68,2,38.35,2,0,2,118.13,2,34.6644,2,2.333,1,0.017,1,4.698,1,117.8,2
33RR20180918, GP15,12,12,26,GSNIS-27   ,2,6664,13341,20181012,200,37.0002,-152.0003,5701,3045.9,1.5438,34.6634,2,-999,9,20181012,258,37.0002,-152.0003,164.08,2,2.68,2,38.34,2,0,2,-999,9,-999,9,2.333,1,0.017,1,4.698,1,117.3,2
33RR20180918, GP15,12,12,27,GSNIS-28   ,2,6664,13341,20181012,200,37.0002,-152.0003,5701,3047.4,1.5434,34.6634,2,-999,9,20181012,258,37.0002,-152.0003,163.79,2,2.67,2,38.35,2,0,2,-999,9,-999,9,2.333,1,0.017,1,4.698,1,116.9,2
33RR20180918, GP15,12,12,28,GSNIS-29   ,2,6664,13340,20181012,200,37.0002,-152.0003,5701,2789.3,1.595,34.6543,2,1.5954,2,20181012,304,37.0001,-152.0003,166.42,2,2.73,2,39.16,2,0,2,107.14,2,34.6548,2,2.382,1,0.017,1,4.697,1,106,2
33RR20180918, GP15,12,12,29,GSNIS-30   ,2,6664,13340,20181012,200,37.0002,-152.0003,5701,2788.7,1.5952,34.6543,2,-999,9,20181012,304,37.0001,-152.0003,166.62,2,2.74,2,39.16,2,0,2,-999,9,-999,9,2.382,1,0.017,1,4.697,1,106.5,2
33RR20180918, GP15,12,12,30,GSNIS-31   ,2,6664,13340,20181012,200,37.0002,-152.0003,5701,2789.8,1.5962,34.6541,2,-999,9,20181012,304,37.0001,-152.0003,166.03,2,2.74,2,39.08,2,0,2,-999,9,-999,9,2.383,1,0.017,1,4.697,1,105.9,2
33RR20180918, GP15,12,12,31,GSNIS-32   ,2,6664,13339,20181012,200,37.0002,-152.0003,5701,2534.1,1.6746,34.6418,2,1.6749,2,20181012,310,37.0002,-152.0004,169.26,2,2.81,2,40.07,2,0,2,92.82,2,34.6425,2,2.439,1,0.017,1,4.697,1,91.7,2
33RR20180918, GP15,12,12,32,GSNIS-33   ,2,6664,13339,20181012,200,37.0002,-152.0003,5701,2534.5,1.6748,34.6416,2,-999,9,20181012,310,37.0001,-152.0004,169.16,2,2.81,2,40.06,2,0,2,-999,9,-999,9,2.44,1,0.017,1,4.696,1,91.5,2
33RR20180918, GP15,12,12,33,GSNIS-34   ,2,6664,13338,20181012,200,37.0002,-152.0003,5701,2331.6,1.7694,34.6292,2,1.7689,2,20181012,315,37.0002,-152.0003,171.21,2,2.88,2,40.91,2,0,2,79.71,2,34.6301,2,2.526,1,0.017,1,4.696,1,79.4,2
33RR20180918, GP15,12,12,34,GSNIS-35   ,2,6664,13338,20181012,200,37.0002,-152.0003,5701,2331.3,1.7689,34.6293,2,-999,9,20181012,315,37.0001,-152.0003,171.31,2,2.87,2,40.8,2,0,2,-999,9,-999,9,2.527,1,0.017,1,4.696,1,78.9,2
33RR20180918, GP15,12,12,35,GSNIS-36   ,2,6664,13337,20181012,200,37.0002,-152.0003,5701,2128.1,1.8836,34.6143,2,1.8832,2,20181012,320,37.0002,-152.0003,171.5,2,2.92,2,41.59,2,0,2,67.97,2,34.6154,2,2.617,1,0.017,1,4.695,1,67.7,2
33RR20180918, GP15,12,12,36,GSNIS-1    ,2,6664,13337,20181012,200,37.0002,-152.0003,5701,2126.3,1.8834,34.6145,2,-999,9,20181012,320,37.0002,-152.0003,171.21,2,2.93,2,41.5,2,0,2,-999,9,-999,9,2.619,1,0.017,1,4.695,1,66.6,2
33RR20180918, GP15,13,3,1,GSNIS-2    ,2,6671,13387,20181012,2009,34.4991,-152.0017,5604,1008.1,3.5082,34.3285,2,3.5045,2,20181012,2009,34.4991,-152.0017,126.92,2,3.19,2,44.57,2,0,2,9.89,2,34.331,2,2.741,1,0.018,1,4.691,1,9.8,2
33RR20180918, GP15,13,3,2,GSNIS-3    ,2,6671,13387,20181012,2009,34.4991,-152.0017,5604,1009.1,3.5035,34.3291,2,-999,9,20181012,2009,34.4991,-152.0017,126.92,2,3.19,2,44.54,2,0,2,-999,9,-999,9,2.74,1,0.018,1,4.691,1,11.1,2
33RR20180918, GP15,13,3,3,GSNIS-4    ,2,6671,13387,20181012,2009,34.4991,-152.0017,5604,1008.7,3.506,34.3286,2,-999,9,20181012,2009,34.4991,-152.0017,126.92,2,3.19,2,44.49,2,0,2,-999,9,-999,9,2.737,1,0.018,1,4.691,1,11.1,2
33RR20180918, GP15,13,3,4,GSNIS-5    ,2,6671,13386,20181012,2009,34.4991,-152.0017,5604,808,4.0561,34.1795,2,4.0548,2,20181012,2014,34.4991,-152.0017,106.33,2,3.06,2,42.95,2,0,2,26.61,2,34.1821,2,2.786,1,0.018,1,4.691,1,26.5,2
33RR20180918, GP15,13,3,5,GSNIS-6    ,2,6671,13386,20181012,2009,34.4991,-152.0017,5604,807.7,4.0556,34.1796,2,-999,9,20181012,2014,34.4991,-152.0017,106.53,2,3.05,2,42.89,2,0,2,-999,9,-999,9,2.791,1,0.018,1,4.691,1,26.5,2
33RR20180918, GP15,13,3,6,GSNIS-7    ,2,6671,13385,20181012,2009,34.4991,-152.0017,5604,656.6,4.9847,34.0387,2,4.9827,2,20181012,2018,34.4991,-152.0017,79.39,2,2.72,2,38.41,2,0,2,66.31,2,34.0436,2,2.973,1,0.017,1,4.69,1,66.9,2
33RR20180918, GP15,13,3,7,GSNIS-8    ,2,6671,13385,20181012,2009,34.4991,-152.0017,5604,656.1,4.9835,34.0391,2,-999,9,20181012,2018,34.4991,-152.0017,79.29,2,2.72,2,38.39,2,0,2,-999,9,-999,9,2.975,1,0.017,1,4.689,1,66.8,2
33RR20180918, GP15,13,3,8,GSNIS-9    ,2,6671,13385,20181012,2009,34.4991,-152.0017,5604,656,4.9816,34.0393,2,-999,9,20181012,2018,34.4991,-152.0017,79.49,2,2.71,2,38.38,2,0,2,-999,9,-999,9,2.977,1,0.018,1,4.69,1,66.8,2
33RR20180918, GP15,13,3,9,GSNIS-10   ,2,6671,13384,20181012,2009,34.4991,-152.0017,5604,505.1,6.838,33.9887,2,6.8367,2,20181012,2022,34.4991,-152.0017,46.97,2,1.99,2,28.58,2,0,2,139.51,2,33.9905,2,2.805,1,0.017,1,4.688,1,138.7,2
33RR20180918, GP15,13,3,10,GSNIS-11   ,2,6671,13384,20181012,2009,34.4991,-152.0017,5604,504.7,6.8381,33.9885,2,-999,9,20181012,2022,34.4991,-152.0017,46.88,2,1.99,2,28.54,2,0,2,-999,9,-999,9,2.795,1,0.017,1,4.688,1,138.7,2
33RR20180918, GP15,13,3,11,GSNIS-12   ,2,6671,13384,20181012,2009,34.4991,-152.0017,5604,505.6,6.8312,33.9887,2,-999,9,20181012,2022,34.4991,-152.0017,46.88,2,1.98,2,28.51,2,0,2,-999,9,-999,9,2.785,1,0.017,1,4.688,1,138.6,2
33RR20180918, GP15,13,3,12,GSNIS-13   ,2,6671,13383,20181012,2009,34.4991,-152.0017,5604,353.2,9.6168,34.1015,2,9.6097,2,20181012,2026,34.4991,-152.0016,20.21,2,1.17,2,17.13,2,0,2,200.49,2,34.1048,2,2.09,1,0.017,1,4.691,1,200.5,2
33RR20180918, GP15,13,3,13,GSNIS-14   ,2,6671,13383,20181012,2009,34.4991,-152.0017,5604,353.7,9.6088,34.1019,2,-999,9,20181012,2026,34.4991,-152.0016,20.21,2,1.17,2,17.12,2,0,2,-999,9,-999,9,2.082,1,0.017,1,4.691,1,200.6,2
33RR20180918, GP15,13,3,14,GSNIS-15   ,2,6671,13383,20181012,2009,34.4991,-152.0017,5604,352.4,9.6121,34.1019,2,-999,9,20181012,2026,34.4991,-152.0017,20.02,2,1.17,2,17.06,2,0.01,2,-999,9,-999,9,2.075,1,0.017,1,4.69,1,200.1,2
33RR20180918, GP15,13,3,15,GSNIS-16   ,2,6671,13382,20181012,2009,34.4991,-152.0017,5604,252.6,10.9499,34.1621,2,10.9549,2,20181012,2029,34.4991,-152.0017,11.23,2,0.8,2,11.41,2,0.01,2,227.39,2,34.1657,2,1.865,1,0.016,1,4.689,1,227.8,2
33RR20180918, GP15,13,3,16,GSNIS-17   ,2,6671,13382,20181012,2009,34.4991,-152.0017,5604,252.4,10.9564,34.1622,2,-999,9,20181012,2029,34.4991,-152.0017,11.13,2,0.8,2,11.41,2,0.01,2,-999,9,-999,9,1.861,1,0.017,1,4.689,1,228,2
33RR20180918, GP15,13,3,17,GSNIS-18   ,2,6671,13382,20181012,2009,34.4991,-152.0017,5604,252.4,10.9603,34.163,2,-999,9,20181012,2030,34.4991,-152.0017,10.84,2,0.8,2,11.43,2,0.01,2,-999,9,-999,9,1.856,1,0.015,1,4.689,1,225.5,2
33RR20180918, GP15,13,3,18,GSNIS-19   ,2,6671,13381,20181012,2009,34.4991,-152.0017,5604,151,12.796,34.2368,2,12.7974,2,20181012,2033,34.4991,-152.0017,6.15,2,0.58,2,8.09,2,0.02,2,219.3,2,34.2381,2,1.713,1,0.023,1,4.679,1,218.7,2
33RR20180918, GP15,13,3,19,GSNIS-20   ,2,6671,13381,20181012,2009,34.4991,-152.0017,5604,151.2,12.8,34.2387,2,-999,9,20181012,2033,34.4991,-152.0017,6.15,2,0.59,2,8.07,2,0.02,2,-999,9,-999,9,1.711,1,0.024,1,4.679,1,218.6,2
33RR20180918, GP15,13,3,20,GSNIS-21   ,2,6671,13381,20181012,2009,34.4991,-152.0017,5604,151.4,12.8009,34.2376,2,-999,9,20181012,2033,34.4991,-152.0017,5.96,2,0.58,2,8.06,2,0.01,2,-999,9,-999,9,1.707,1,0.023,1,4.68,1,218.7,2
33RR20180918, GP15,13,3,21,GSNIS-22   ,2,6671,13380,20181012,2009,34.4991,-152.0017,5604,125.6,13.9496,34.2235,2,13.9429,2,20181012,2035,34.4991,-152.0017,3.32,2,0.32,2,3.43,2,0.11,2,229.1,2,34.2266,2,1.674,1,0.028,1,4.67,1,229.5,2
33RR20180918, GP15,13,3,22,GSNIS-23   ,2,6671,13380,20181012,2009,34.4991,-152.0017,5604,126.9,13.9383,34.2239,2,-999,9,20181012,2035,34.4991,-152.0017,3.32,2,0.33,2,3.46,2,0.11,2,-999,9,-999,9,1.672,1,0.032,1,4.671,1,229.5,2
33RR20180918, GP15,13,3,23,GSNIS-24   ,2,6671,13380,20181012,2009,34.4991,-152.0017,5604,126,13.9412,34.2237,2,-999,9,20181012,2035,34.4991,-152.0017,3.12,2,0.33,2,3.41,2,0.11,2,-999,9,-999,9,1.669,1,0.03,1,4.671,1,229.5,2
33RR20180918, GP15,13,3,24,GSNIS-25   ,2,6671,13379,20181012,2009,34.4991,-152.0017,5604,101.1,14.9557,34.1933,2,14.9556,2,20181012,2037,34.4991,-152.0017,1.86,2,0.11,2,0,2,0,2,249.7,2,34.1945,2,1.621,1,0.036,1,4.658,1,250.7,2
33RR20180918, GP15,13,3,25,GSNIS-26   ,2,6671,13379,20181012,2009,34.4991,-152.0017,5604,101.1,14.9568,34.1927,2,-999,9,20181012,2037,34.4991,-152.0017,1.86,2,0.11,2,0,2,0,2,-999,9,-999,9,1.62,1,0.034,1,4.659,1,250.3,2
33RR20180918, GP15,13,3,26,GSNIS-27   ,2,6671,13379,20181012,2009,34.4991,-152.0017,5604,100.9,14.9548,34.1924,2,-999,9,20181012,2037,34.4991,-152.0017,1.76,2,0.11,2,0,2,0,2,-999,9,-999,9,1.619,1,0.036,1,4.658,1,250.2,2
33RR20180918, GP15,13,3,27,GSNIS-28   ,2,6671,13378,20181012,2009,34.4991,-152.0017,5604,75.5,16.1071,34.1644,3,16.1165,3,20181012,2039,34.4991,-152.0017,1.37,2,0.07,2,0,2,0,2,258.62,2,34.1674,3,1.595,1,0.023,1,4.653,1,256.9,2
33RR20180918, GP15,13,3,28,GSNIS-29   ,2,6671,13378,20181012,2009,34.4991,-152.0017,5604,76.5,16.1239,34.1638,2,-999,9,20181012,2039,34.4991,-152.0017,1.46,2,0.07,2,0,2,0,2,-999,9,-999,9,1.593,1,0.024,1,4.654,1,257.9,2
33RR20180918, GP15,13,3,29,GSNIS-30   ,2,6671,13378,20181012,2009,34.4991,-152.0017,5604,75.8,16.1211,34.1644,2,-999,9,20181012,2039,34.4991,-152.0017,1.46,2,0.07,2,0,2,0,2,-999,9,-999,9,1.591,1,0.023,1,4.653,1,257.9,2
33RR20180918, GP15,13,3,30,GSNIS-31   ,2,6671,13377,20181012,2009,34.4991,-152.0017,5604,50.6,17.5099,34.0545,2,17.4437,2,20181012,2041,34.4991,-152.0017,1.46,2,0.07,2,0,2,0,2,264.7,2,34.0596,2,1.527,1,0.019,1,4.645,1,264,2
33RR20180918, GP15,13,3,31,GSNIS-32   ,2,6671,13377,20181012,2009,34.4991,-152.0017,5604,51.8,17.3303,34.0427,2,-999,9,20181012,2042,34.4991,-152.0017,1.37,2,0.07,2,0,2,0,2,-999,9,-999,9,1.523,1,0.019,1,4.644,1,263.1,2
33RR20180918, GP15,13,3,32,GSNIS-33   ,2,6671,13377,20181012,2009,34.4991,-152.0017,5604,50.6,17.4778,34.0548,2,-999,9,20181012,2042,34.4991,-152.0017,1.17,2,0.07,2,0,2,0,2,-999,9,-999,9,1.521,1,0.019,1,4.645,1,264.7,2
33RR20180918, GP15,13,3,33,GSNIS-34   ,2,6671,13376,20181012,2009,34.4991,-152.0017,5604,26.1,22.4395,34.5059,2,22.4338,2,20181012,2044,34.4991,-152.0017,0.39,2,0.01,2,0,2,0,2,220.64,2,34.5069,2,1.348,1,0.018,1,4.647,1,221.1,2
33RR20180918, GP15,13,3,34,GSNIS-35   ,2,6671,13376,20181012,2009,34.4991,-152.0017,5604,26.4,22.4415,34.5061,2,-999,9,20181012,2044,34.4991,-152.0017,0.49,2,0.01,2,0,2,0,2,-999,9,-999,9,1.344,1,0.018,1,4.651,1,218.8,2
33RR20180918, GP15,13,3,35,GSNIS-36   ,2,6671,13376,20181012,2009,34.4991,-152.0017,5604,25.6,22.4286,34.5062,2,-999,9,20181012,2044,34.4991,-152.0017,0.39,2,0.01,2,0,2,0,2,-999,9,-999,9,1.341,1,0.018,1,4.65,1,220.2,2
33RR20180918, GP15,13,3,36,GSNIS-1    ,3,6671,13375,20181012,2009,34.4991,-152.0017,5604,4.1,22.4435,34.5065,3,22.4423,3,20181012,2046,34.4991,-152.0017,0.39,3,0.02,3,0,3,0,3,-999,9,34.5075,3,1.288,1,0.017,1,4.649,1,221.1,3