BOTTLE,20191212SIOCCHAMB
EXPOCODE,SECT_ID,STNNBR,CASTNO,SAMPNO,BTLNBR,BTLNBR_FLAG_W,GEOTRC_EVENTNO,GEOTRC_SAMPNO,DATE,TIME,LATITUDE,LONGITUDE,DEPTH,CTDPRS,CTDTMP,CTDSAL,CTDSAL_FLAG_W,REFTMP,REFTMP_FLAG_W,BTL_DATE,BTL_TIME,BTL_LAT,BTL_LON,SILCAT,SILCAT_FLAG_W,PHSPHT,PHSPHT_FLAG_W,NITRAT,NITRAT_FLAG_W,NITRIT,NITRIT_FLAG_W,OXYGEN,OXYGEN_FLAG_W,SALNTY,SALNTY_FLAG_W,CTDRINKO,CTDRINKO_FLAG_W,CTDFLUOR,CTDFLUOR_FLAG_W,CTDXMISS,CTDXMISS_FLAG_W,CTDOXY,CTDOXY_FLAG_W
,,,,,,,,,,,,,METERS,DBAR,ITS-90,PSS-78,,ITS-90,,,,,,UMOL/KG,,UMOL/KG,,UMOL/KG,,UMOL/KG,,UMOL/KG,,PSS-78,,VOLTS,,VOLTS,,VOLTS,,UMOL/KG,
33RR20180918, GP15,39,12,1,GSNIS-2    ,3,7024,15849,20181123,1259,-20,-151.9991,4336,4296.8,1.432,34.6952,3,-999,9,20181123,1259,-20,-151.9991,122.79,3,2.33,3,33.8,3,0,3,173.69,3,34.6873,3,2.104,1,0.016,1,4.673,1,179,3
33RR20180918, GP15,39,12,2,GSNIS-3    ,2,7024,15849,20181123,1259,-20,-151.9991,4336,4295.3,1.4319,34.6953,2,-999,9,20181123,1259,-20,-151.9991,120.84,2,2.29,2,33.2,2,0,2,-999,9,-999,9,2.104,1,0.017,1,4.673,1,179.1,2
33RR20180918, GP15,39,12,3,GSNIS-4    ,2,7024,15849,20181123,1259,-20,-151.9991,4336,4296.3,1.432,34.6953,2,-999,9,20181123,1259,-20,-151.9991,120.74,2,2.32,2,33.22,2,0,2,-999,9,-999,9,2.104,1,0.017,1,4.673,1,179.8,2
33RR20180918, GP15,39,12,4,GSNIS-5    ,2,7024,15848,20181123,1259,-20,-151.9991,4336,4254.7,1.4373,34.6948,2,-999,9,20181123,1301,-20,-151.9991,120.74,2,2.29,2,33.2,2,0,2,181.81,2,34.6948,2,2.1,1,0.017,1,4.673,1,179.4,3
33RR20180918, GP15,39,12,5,GSNIS-6    ,2,7024,15848,20181123,1259,-20,-151.9991,4336,4255.2,1.4375,34.6947,2,-999,9,20181123,1302,-20,-151.9991,121.03,2,2.29,2,33.26,2,0,2,-999,9,-999,9,2.1,1,0.017,1,4.673,1,179.2,2
33RR20180918, GP15,39,12,6,GSNIS-7    ,2,7024,15848,20181123,1259,-20,-151.9991,4336,4254.1,1.4374,34.6947,2,-999,9,20181123,1302,-20,-151.9991,121.13,2,2.3,2,33.35,2,0,2,-999,9,-999,9,2.1,1,0.017,1,4.673,1,179.2,2
33RR20180918, GP15,39,12,7,GSNIS-8    ,2,7024,15847,20181123,1259,-20,-151.9991,4336,4173.4,1.4391,34.694,2,-999,9,20181123,1304,-19.9999,-151.9991,121.13,2,2.31,2,33.35,2,0,2,181.23,2,34.6942,2,2.097,1,0.015,1,4.672,1,179.1,3
33RR20180918, GP15,39,12,8,GSNIS-9    ,2,7024,15847,20181123,1259,-20,-151.9991,4336,4172.8,1.4389,34.6941,2,-999,9,20181123,1305,-19.9999,-151.9991,121.23,2,2.31,2,33.35,2,0,2,-999,9,-999,9,2.098,1,0.017,1,4.673,1,178.9,2
33RR20180918, GP15,39,12,9,GSNIS-10   ,2,7024,15847,20181123,1259,-20,-151.9991,4336,4172.6,1.439,34.6942,2,-999,9,20181123,1305,-19.9999,-151.9991,121.13,2,2.3,2,33.3,2,0,2,-999,9,-999,9,2.098,1,0.017,1,4.673,1,178.6,2
33RR20180918, GP15,39,12,10,GSNIS-11   ,2,7024,15846,20181123,1259,-20,-151.9991,4336,3860.1,1.4595,34.6909,2,-999,9,20181123,1311,-20,-151.9991,122.2,2,2.32,2,33.63,2,0,2,177.05,2,34.6905,2,2.1,1,0.017,1,4.673,1,176.6,2
33RR20180918, GP15,39,12,11,GSNIS-12   ,2,7024,15846,20181123,1259,-20,-151.9991,4336,3859.7,1.4597,34.691,2,-999,9,20181123,1311,-20,-151.9991,122.11,2,2.3,2,33.6,2,0,2,-999,9,-999,9,2.099,1,0.017,1,4.673,1,176.2,2
33RR20180918, GP15,39,12,12,GSNIS-13   ,2,7024,15846,20181123,1259,-20,-151.9991,4336,3859.1,1.46,34.6909,2,-999,9,20181123,1311,-20,-151.9991,122.2,2,2.3,2,33.61,2,0,2,-999,9,-999,9,2.099,1,0.016,1,4.673,1,175.3,2
33RR20180918, GP15,39,12,13,GSNIS-14   ,2,7024,15845,20181123,1259,-20,-151.9991,4336,3450,1.5608,34.6829,2,-999,9,20181123,1320,-20,-151.9991,124.25,2,2.34,2,34.25,2,0,2,168.82,2,34.6834,2,2.113,1,0.017,1,4.673,1,167.8,2
33RR20180918, GP15,39,12,14,GSNIS-15   ,2,7024,15845,20181123,1259,-20,-151.9991,4336,3448.8,1.5606,34.6829,2,-999,9,20181123,1320,-20,-151.9991,124.25,2,2.34,2,34.33,2,0,2,-999,9,-999,9,2.113,1,0.017,1,4.673,1,167.8,2
33RR20180918, GP15,39,12,15,GSNIS-16   ,2,7024,15845,20181123,1259,-20,-151.9991,4336,3449.4,1.5607,34.683,2,-999,9,20181123,1320,-20,-151.9991,124.45,2,2.34,2,34.39,2,0,2,-999,9,-999,9,2.114,1,0.016,1,4.673,1,167.5,2
33RR20180918, GP15,39,12,16,GSNIS-17   ,2,7024,15844,20181123,1259,-20,-151.9991,4336,3041,1.6731,34.6727,2,-999,9,20181123,1328,-20,-151.9991,122.79,2,2.35,2,34.8,2,0,2,163.72,2,34.673,2,2.136,1,0.017,1,4.673,1,162.2,2
33RR20180918, GP15,39,12,17,GSNIS-18   ,2,7024,15844,20181123,1259,-20,-151.9991,4336,3042.7,1.673,34.6728,2,-999,9,20181123,1328,-20,-151.9991,122.59,2,2.36,2,34.89,2,0,2,-999,9,-999,9,2.137,1,0.017,1,4.673,1,162.3,2
33RR20180918, GP15,39,12,18,GSNIS-19   ,2,7024,15844,20181123,1259,-20,-151.9991,4336,3041.9,1.6731,34.6728,2,-999,9,20181123,1328,-20,-151.9991,122.5,2,2.37,2,34.97,2,0,2,-999,9,-999,9,2.137,1,0.016,1,4.673,1,162,2
33RR20180918, GP15,39,12,19,GSNIS-20   ,2,7024,15843,20181123,1259,-20,-151.9991,4336,2631.8,1.8099,34.661,2,-999,9,20181123,1337,-20,-151.9991,121.42,2,2.41,2,35.42,2,0,2,156.67,2,34.6614,2,2.15,1,0.016,1,4.673,1,156.7,2
33RR20180918, GP15,39,12,20,GSNIS-21   ,2,7024,15843,20181123,1259,-20,-151.9991,4336,2633.3,1.81,34.661,2,-999,9,20181123,1337,-20,-151.9991,121.52,2,2.41,2,35.37,2,0,2,-999,9,-999,9,2.15,1,0.016,1,4.673,1,156.9,2
33RR20180918, GP15,39,12,21,GSNIS-22   ,2,7024,15843,20181123,1259,-20,-151.9991,4336,2631.6,1.8099,34.661,2,-999,9,20181123,1337,-20,-151.9991,121.72,2,2.42,2,35.35,2,0,2,-999,9,-999,9,2.151,1,0.017,1,4.673,1,156.8,2
33RR20180918, GP15,39,12,22,GSNIS-23   ,2,7024,15842,20181123,1259,-20,-151.9991,4336,2428.9,1.8944,34.6534,2,-999,9,20181123,1342,-20,-151.9991,119.47,2,2.45,2,35.46,2,0,2,154.8,2,34.6543,2,2.16,1,0.016,1,4.673,1,155.1,2
33RR20180918, GP15,39,12,23,GSNIS-24   ,2,7024,15842,20181123,1259,-20,-151.9991,4336,2429.9,1.8952,34.6533,2,-999,9,20181123,1342,-20,-151.9991,119.67,2,2.45,2,35.39,2,0,2,-999,9,-999,9,2.159,1,0.017,1,4.673,1,154.4,2
33RR20180918, GP15,39,12,24,GSNIS-25   ,2,7024,15842,20181123,1259,-20,-151.9991,4336,2429.8,1.8952,34.6534,2,-999,9,20181123,1342,-20,-151.9991,119.86,2,2.44,2,35.31,2,0,2,-999,9,-999,9,2.16,1,0.017,1,4.673,1,154.3,2
33RR20180918, GP15,39,12,25,GSNIS-26   ,2,7024,15841,20181123,1259,-20,-151.9991,4336,2225.8,2.0082,34.6438,2,-999,9,20181123,1347,-20,-151.9991,117.81,2,2.46,2,35.44,2,0,2,151.44,2,34.6443,2,2.163,1,0.016,1,4.673,1,151,2
33RR20180918, GP15,39,12,26,GSNIS-27   ,2,7024,15841,20181123,1259,-20,-151.9991,4336,2227,2.0079,34.644,2,-999,9,20181123,1347,-20,-151.9991,118.01,2,2.47,2,35.32,2,0,2,-999,9,-999,9,2.162,1,0.016,1,4.673,1,151.1,2
33RR20180918, GP15,39,12,27,GSNIS-28   ,3,7024,15841,20181123,1259,-20,-151.9991,4336,2227.2,2.0079,34.6438,3,-999,9,20181123,1347,-20,-151.9991,67.25,3,2.44,3,34.74,3,0,3,-999,9,-999,9,2.163,1,0.016,1,4.673,1,151.1,3
33RR20180918, GP15,39,12,28,GSNIS-29   ,2,7024,15840,20181123,1259,-20,-151.9991,4336,2023.8,2.1465,34.6311,2,-999,9,20181123,1352,-20,-151.9991,114.4,2,2.46,2,35.32,2,0,2,149.16,2,34.6315,2,2.172,1,0.017,1,4.673,1,148.7,2
33RR20180918, GP15,39,12,29,GSNIS-30   ,2,7024,15840,20181123,1259,-20,-151.9991,4336,2022.7,2.1462,34.6311,2,-999,9,20181123,1352,-20,-151.9991,115.05,2,2.43,2,35.45,2,0,2,-999,9,-999,9,2.172,1,0.017,1,4.673,1,148.8,2
33RR20180918, GP15,39,12,30,GSNIS-31   ,2,7024,15840,20181123,1259,-20,-151.9991,4336,2023.3,2.1468,34.6312,2,-999,9,20181123,1352,-20,-151.9991,114.5,2,2.44,2,35.33,2,0,2,-999,9,-999,9,2.172,1,0.017,1,4.673,1,148.8,2
33RR20180918, GP15,39,12,31,GSNIS-32   ,2,7024,15839,20181123,1259,-20,-151.9991,4336,1819.6,2.2807,34.6174,2,-999,9,20181123,1356,-20,-151.9991,109.52,2,2.44,2,35.3,2,0,2,148.76,2,34.6179,2,2.174,1,0.017,1,4.672,1,148.5,2
33RR20180918, GP15,39,12,32,GSNIS-33   ,2,7024,15839,20181123,1259,-20,-151.9991,4336,1819.5,2.2809,34.6175,2,-999,9,20181123,1356,-20,-151.9991,109.72,2,2.44,2,35.32,2,0,2,-999,9,-999,9,2.174,1,0.017,1,4.673,1,148.7,2
33RR20180918, GP15,39,12,33,GSNIS-34   ,2,7024,15839,20181123,1259,-20,-151.9991,4336,1819.7,2.2808,34.6175,2,-999,9,20181123,1356,-20,-151.9991,109.72,2,2.44,2,35.3,2,0,2,-999,9,-999,9,2.174,1,0.015,1,4.673,1,148.5,2
33RR20180918, GP15,39,12,34,GSNIS-35   ,2,7024,15838,20181123,1259,-20,-151.9991,4336,1616.9,2.5032,34.5944,2,-999,9,20181123,1401,-20,-151.9991,101.81,2,2.39,2,35.25,2,0,2,148.7,2,34.5956,2,2.166,1,0.016,1,4.672,1,149.3,2
33RR20180918, GP15,39,12,35,GSNIS-36   ,2,7024,15838,20181123,1259,-20,-151.9991,4336,1618,2.5063,34.5941,2,-999,9,20181123,1401,-20,-151.9991,101.62,2,2.38,2,35.3,2,0,2,-999,9,-999,9,2.166,1,0.017,1,4.673,1,148.8,2
33RR20180918, GP15,39,12,36,GSNIS-1    ,2,7024,15838,20181123,1259,-20,-151.9991,4336,1617,2.505,34.5942,2,-999,9,20181123,1401,-20,-151.9991,101.13,2,2.38,2,35.23,2,0,2,-999,9,-999,9,2.166,1,0.017,1,4.673,1,149.4,2