BOTTLE,20191212SIOCCHAMB
EXPOCODE,SECT_ID,STNNBR,CASTNO,SAMPNO,BTLNBR,BTLNBR_FLAG_W,GEOTRC_EVENTNO,GEOTRC_SAMPNO,DATE,TIME,LATITUDE,LONGITUDE,DEPTH,CTDPRS,CTDTMP,CTDSAL,CTDSAL_FLAG_W,REFTMP,REFTMP_FLAG_W,BTL_DATE,BTL_TIME,BTL_LAT,BTL_LON,SILCAT,SILCAT_FLAG_W,PHSPHT,PHSPHT_FLAG_W,NITRAT,NITRAT_FLAG_W,NITRIT,NITRIT_FLAG_W,OXYGEN,OXYGEN_FLAG_W,SALNTY,SALNTY_FLAG_W,CTDRINKO,CTDRINKO_FLAG_W,CTDFLUOR,CTDFLUOR_FLAG_W,CTDXMISS,CTDXMISS_FLAG_W,CTDOXY,CTDOXY_FLAG_W
,,,,,,,,,,,,,METERS,DBAR,ITS-90,PSS-78,,ITS-90,,,,,,UMOL/KG,,UMOL/KG,,UMOL/KG,,UMOL/KG,,UMOL/KG,,PSS-78,,VOLTS,,VOLTS,,VOLTS,,UMOL/KG,
33RR20180918, GP15,14,9,1,GSNIS-2    ,2,6692,13497,20181014,1025,31.9999,-151.9995,5350,1921,2.0546,34.6061,2,2.0527,2,20181014,1025,31.9999,-151.9995,164.77,2,2.92,2,41.21,2,0,2,69.45,2,34.6062,2,2.633,1,0.017,1,4.698,1,67.7,2
33RR20180918, GP15,14,9,2,GSNIS-3    ,2,6692,13497,20181014,1025,31.9999,-151.9995,5350,1921.3,2.0536,34.6062,2,-999,9,20181014,1026,31.9999,-151.9995,164.67,2,2.91,2,41.2,2,0,2,-999,9,-999,9,2.632,1,0.017,1,4.698,1,68.5,2
33RR20180918, GP15,14,9,3,GSNIS-4    ,2,6692,13497,20181014,1025,31.9999,-151.9995,5350,1921.3,2.0533,34.6061,2,-999,9,20181014,1026,31.9999,-151.9995,165.26,2,2.91,2,41.17,2,0,2,-999,9,-999,9,2.631,1,0.017,1,4.698,1,67.4,2
33RR20180918, GP15,14,9,4,GSNIS-5    ,2,6692,13496,20181014,1025,31.9999,-151.9995,5350,1719.6,2.2906,34.5802,2,2.2895,2,20181014,1030,31.9999,-151.9995,159.4,2,2.98,2,42.08,2,0,2,55.97,2,34.5805,2,2.685,1,0.018,1,4.698,1,55,2
33RR20180918, GP15,14,9,5,GSNIS-6    ,2,6692,13496,20181014,1025,31.9999,-151.9995,5350,1718.4,2.2899,34.5803,2,-999,9,20181014,1030,31.9999,-151.9995,159.79,2,3,2,42.11,2,0,2,-999,9,-999,9,2.686,1,0.017,1,4.697,1,54.8,2
33RR20180918, GP15,14,9,6,GSNIS-7    ,2,6692,13496,20181014,1025,31.9999,-151.9995,5350,1718.5,2.2898,34.5804,2,-999,9,20181014,1030,31.9999,-151.9995,159.6,2,2.99,2,42.14,2,0,2,-999,9,-999,9,2.687,1,0.018,1,4.697,1,55.2,2
33RR20180918, GP15,14,9,7,GSNIS-8    ,2,6692,13496,20181014,1025,31.9999,-151.9995,5350,1718.7,2.2899,34.5803,2,-999,9,20181014,1031,31.9999,-151.9995,159.5,2,2.98,2,42.09,2,0,2,-999,9,-999,9,2.687,1,0.018,1,4.697,1,54.8,2
33RR20180918, GP15,14,9,8,GSNIS-9    ,2,6692,13495,20181014,1025,31.9999,-151.9995,5350,1516.6,2.6175,34.5473,2,2.6191,2,20181014,1035,31.9999,-151.9995,150.62,2,3.05,2,42.9,2,0,2,42.83,2,34.5471,2,2.71,1,0.018,1,4.696,1,42.1,2
33RR20180918, GP15,14,9,9,GSNIS-10   ,2,6692,13495,20181014,1025,31.9999,-151.9995,5350,1516.6,2.6187,34.5472,2,-999,9,20181014,1035,31.9999,-151.9995,150.92,2,3.06,2,42.88,2,0,2,-999,9,-999,9,2.711,1,0.018,1,4.696,1,42.2,2
33RR20180918, GP15,14,9,10,GSNIS-11   ,2,6692,13495,20181014,1025,31.9999,-151.9995,5350,1516.1,2.6197,34.547,2,-999,9,20181014,1035,31.9999,-151.9995,150.52,2,3.06,2,42.89,2,0,2,-999,9,-999,9,2.711,1,0.018,1,4.696,1,41.4,2
33RR20180918, GP15,14,9,11,GSNIS-12   ,2,6692,13494,20181014,1025,31.9999,-151.9995,5350,1314.3,3.0034,34.5012,2,3.0038,2,20181014,1040,31.9999,-151.9995,141.06,2,3.12,2,43.72,2,0,2,28.15,2,34.5009,2,2.808,1,0.018,1,4.695,1,28.1,2
33RR20180918, GP15,14,9,12,GSNIS-13   ,2,6692,13494,20181014,1025,31.9999,-151.9995,5350,1313.4,3.0044,34.5008,2,-999,9,20181014,1040,31.9999,-151.9995,141.35,2,3.12,2,43.76,2,0,2,-999,9,-999,9,2.812,1,0.018,1,4.695,1,27.7,2
33RR20180918, GP15,14,9,13,GSNIS-14   ,2,6692,13493,20181014,1025,31.9999,-151.9995,5350,1213.4,3.1918,34.4711,2,3.1909,2,20181014,1043,31.9999,-151.9995,136.67,2,3.16,2,43.99,2,0,2,22.7,2,34.4713,2,2.97,1,0.017,1,4.695,1,21.6,2
33RR20180918, GP15,14,9,14,GSNIS-15   ,2,6692,13493,20181014,1025,31.9999,-151.9995,5350,1212.7,3.1905,34.4713,2,-999,9,20181014,1043,31.9999,-151.9995,136.77,2,3.17,2,44.02,2,0,2,-999,9,-999,9,2.973,1,0.017,1,4.695,1,22.1,2
33RR20180918, GP15,14,9,15,GSNIS-16   ,2,6692,13493,20181014,1025,31.9999,-151.9995,5350,1213.1,3.1923,34.471,2,-999,9,20181014,1043,31.9999,-151.9995,136.57,2,3.16,2,43.91,2,0,2,-999,9,-999,9,2.976,1,0.018,1,4.694,1,22.3,2
33RR20180918, GP15,14,9,16,GSNIS-17   ,2,6692,13493,20181014,1025,31.9999,-151.9995,5350,1213,3.1907,34.4711,2,-999,9,20181014,1043,31.9999,-151.9995,136.77,2,3.16,2,43.96,2,0,2,-999,9,-999,9,2.979,1,0.018,1,4.695,1,21.6,2
33RR20180918, GP15,14,9,17,GSNIS-18   ,2,6692,13492,20181014,1025,31.9999,-151.9995,5350,1111.3,3.4095,34.427,2,3.4151,2,20181014,1046,31.9999,-151.9995,130.92,2,3.19,2,44.16,2,0,2,15.64,2,34.4262,2,3.1,1,0.018,1,4.694,1,15.9,2
33RR20180918, GP15,14,9,18,GSNIS-19   ,2,6692,13492,20181014,1025,31.9999,-151.9995,5350,1111.1,3.4114,34.4267,2,-999,9,20181014,1046,31.9999,-151.9995,130.92,2,3.18,2,44.12,2,0,2,-999,9,-999,9,3.106,1,0.018,1,4.694,1,15.5,2
33RR20180918, GP15,14,9,19,GSNIS-20   ,2,6692,13491,20181014,1025,31.9999,-151.9995,5350,1008.9,3.6261,34.3664,2,3.6263,2,20181014,1049,31.9999,-151.9995,125.06,2,3.2,2,44.22,2,0,2,10.67,2,34.3652,2,3.206,1,0.018,1,4.693,1,11.1,2
33RR20180918, GP15,14,9,20,GSNIS-21   ,2,6692,13491,20181014,1025,31.9999,-151.9995,5350,1009.6,3.6259,34.3668,2,-999,9,20181014,1049,31.9999,-151.9995,124.97,2,3.19,2,44.15,2,0,2,-999,9,-999,9,3.208,1,0.018,1,4.693,1,11.5,2
33RR20180918, GP15,14,9,21,GSNIS-22   ,2,6692,13491,20181014,1025,31.9999,-151.9995,5350,1009.3,3.6263,34.3667,2,-999,9,20181014,1049,31.9999,-151.9995,124.97,2,3.21,2,44.23,2,0,2,-999,9,-999,9,3.21,1,0.018,1,4.693,1,11,2
33RR20180918, GP15,14,9,22,GSNIS-23   ,2,6692,13491,20181014,1025,31.9999,-151.9995,5350,1009.4,3.6281,34.3662,2,-999,9,20181014,1049,31.9999,-151.9995,124.87,2,3.19,2,44.23,2,0,2,-999,9,-999,9,3.212,1,0.018,1,4.693,1,11.5,2
33RR20180918, GP15,14,9,23,GSNIS-24   ,2,6692,13490,20181014,1025,31.9999,-151.9995,5350,908.2,3.8122,34.2855,2,3.8186,2,20181014,1052,31.9999,-151.9995,117.85,2,3.17,2,43.88,2,0,2,11.2,2,34.2867,2,3.286,1,0.018,1,4.692,1,13.4,2
33RR20180918, GP15,14,9,24,GSNIS-25   ,2,6692,13490,20181014,1025,31.9999,-151.9995,5350,908.2,3.8127,34.2852,2,-999,9,20181014,1052,31.9999,-151.9995,117.85,2,3.17,2,43.87,2,0,2,-999,9,-999,9,3.289,1,0.018,1,4.692,1,13,2
33RR20180918, GP15,14,9,25,GSNIS-26   ,2,6692,13489,20181014,1025,31.9999,-151.9995,5350,808.7,4.119,34.1905,2,4.1196,2,20181014,1055,31.9999,-151.9996,106.53,2,3.07,2,42.83,2,0,2,22.24,2,34.1943,2,3.312,1,0.018,1,4.692,1,25.3,2
33RR20180918, GP15,14,9,26,GSNIS-27   ,2,6692,13489,20181014,1025,31.9999,-151.9995,5350,807.7,4.1218,34.1899,2,-999,9,20181014,1055,31.9999,-151.9996,106.33,2,3.06,2,42.82,2,0,2,-999,9,-999,9,3.311,1,0.018,1,4.691,1,25.8,2
33RR20180918, GP15,14,9,27,GSNIS-28   ,2,6692,13489,20181014,1025,31.9999,-151.9995,5350,808.2,4.1213,34.19,2,-999,9,20181014,1055,31.9999,-151.9996,106.14,2,3.07,2,42.76,2,0,2,-999,9,-999,9,3.309,1,0.018,1,4.692,1,25.8,2
33RR20180918, GP15,14,9,28,GSNIS-29   ,2,6692,13489,20181014,1025,31.9999,-151.9995,5350,808.3,4.1215,34.1901,2,-999,9,20181014,1055,31.9999,-151.9996,106.63,2,3.07,2,42.71,2,0,2,-999,9,-999,9,3.308,1,0.018,1,4.691,1,25.5,2
33RR20180918, GP15,14,9,29,GSNIS-30   ,2,6692,13488,20181014,1025,31.9999,-151.9995,5350,706.7,4.5744,34.0913,2,4.5768,2,20181014,1059,31.9999,-151.9995,90.23,2,2.86,2,40.09,2,0,2,48.66,2,34.0917,2,3.214,1,0.017,1,4.69,1,51,2
33RR20180918, GP15,14,9,30,GSNIS-31   ,2,6692,13488,20181014,1025,31.9999,-151.9995,5350,707.6,4.5759,34.0906,2,-999,9,20181014,1059,31.9999,-151.9995,90.33,2,2.86,2,40.03,2,0,2,-999,9,-999,9,3.204,1,0.018,1,4.69,1,52.5,2
33RR20180918, GP15,14,9,31,GSNIS-32   ,2,6692,13487,20181014,1025,31.9999,-151.9995,5350,605.8,5.4441,34.0026,2,5.4447,2,20181014,1102,31.9999,-151.9995,68.75,2,2.5,2,34.93,2,0,2,91.38,2,34.0035,2,2.911,1,0.018,1,4.69,1,94.3,2
33RR20180918, GP15,14,9,32,GSNIS-33   ,2,6692,13487,20181014,1025,31.9999,-151.9995,5350,606.8,5.4453,34.002,2,-999,9,20181014,1102,31.9999,-151.9995,68.95,2,2.5,2,34.95,2,0,2,-999,9,-999,9,2.899,1,0.017,1,4.69,1,93.6,2
33RR20180918, GP15,14,9,33,GSNIS-34   ,2,6692,13487,20181014,1025,31.9999,-151.9995,5350,606.7,5.4438,34.0023,2,-999,9,20181014,1102,31.9999,-151.9995,69.04,2,2.5,2,34.88,2,0,2,-999,9,-999,9,2.887,1,0.017,1,4.69,1,93.2,2
33RR20180918, GP15,14,9,34,GSNIS-35   ,2,6692,13486,20181014,1025,31.9999,-151.9995,5350,506.1,7.0187,33.9956,2,6.9912,2,20181014,1105,31.9999,-151.9995,45.7,2,1.95,2,27.51,2,0.01,2,141.58,2,33.9956,2,2.447,1,0.017,1,4.69,1,142,2
33RR20180918, GP15,14,9,35,GSNIS-36   ,2,6692,13486,20181014,1025,31.9999,-151.9995,5350,505.2,6.974,33.9963,2,-999,9,20181014,1105,31.9999,-151.9995,45.7,2,1.95,2,27.39,2,0.01,2,-999,9,-999,9,2.434,1,0.017,1,4.69,1,142.4,2
33RR20180918, GP15,14,9,36,GSNIS-1    ,2,6692,13486,20181014,1025,31.9999,-151.9995,5350,505.4,6.9858,33.9957,2,-999,9,20181014,1105,31.9999,-151.9995,45.51,2,1.94,2,27.2,2,0.01,2,-999,9,-999,9,2.424,1,0.017,1,4.69,1,142.8,2
33RR20180918, GP15,14,13,1,GSNIS-2    ,2,6697,13547,20181015,805,31.9997,-151.9999,5350,5308,1.5726,34.6902,2,1.5724,2,20181015,805,31.9998,-152,148.65,2,2.45,2,35.49,2,0,2,155.17,2,34.6886,2,2.277,1,0.017,1,4.698,1,155,2
33RR20180918, GP15,14,13,2,GSNIS-3    ,2,6697,13547,20181015,805,31.9997,-151.9999,5350,5309.1,1.5724,34.6903,2,-999,9,20181015,805,31.9998,-152,148.26,2,2.45,2,35.43,2,0,2,-999,9,-999,9,2.278,1,0.017,1,4.698,1,155.4,2
33RR20180918, GP15,14,13,3,GSNIS-4    ,2,6697,13547,20181015,805,31.9997,-151.9999,5350,5308.4,1.5726,34.6902,2,-999,9,20181015,805,31.9998,-152,148.07,2,2.45,2,35.35,2,0,2,-999,9,-999,9,2.277,1,0.017,1,4.698,1,156.7,2
33RR20180918, GP15,14,13,4,GSNIS-5    ,2,6697,13547,20181015,805,31.9997,-151.9999,5350,5308.6,1.5726,34.6902,2,-999,9,20181015,805,31.9998,-152,147.87,2,2.45,2,35.34,2,0,2,-999,9,-999,9,2.278,1,0.017,1,4.698,1,156.4,2
33RR20180918, GP15,14,13,5,GSNIS-6    ,2,6697,13546,20181015,805,31.9997,-151.9999,5350,5266.3,1.5683,34.6902,2,1.5682,2,20181015,808,31.9998,-151.9999,148.17,2,2.46,2,35.3,2,0,2,156.07,2,34.6888,2,2.28,1,0.017,1,4.698,1,156.3,2
33RR20180918, GP15,14,13,6,GSNIS-7    ,2,6697,13546,20181015,805,31.9997,-151.9999,5350,5267.5,1.5683,34.6902,2,-999,9,20181015,808,31.9998,-151.9999,148.36,2,2.45,2,35.27,2,0,2,-999,9,-999,9,2.28,1,0.017,1,4.698,1,156,2
33RR20180918, GP15,14,13,7,GSNIS-8    ,2,6697,13546,20181015,805,31.9997,-151.9999,5350,5267.5,1.5684,34.6902,2,-999,9,20181015,808,31.9998,-151.9999,148.85,2,2.45,2,35.22,2,0,2,-999,9,-999,9,2.281,1,0.016,1,4.698,1,154.3,2
33RR20180918, GP15,14,13,8,GSNIS-9    ,2,6697,13545,20181015,805,31.9997,-151.9999,5350,5184.6,1.5592,34.6901,2,1.559,2,20181015,811,31.9997,-152,148.56,2,2.47,2,35.21,2,0,2,155.61,2,34.6886,2,2.282,1,0.017,1,4.698,1,154.5,2
33RR20180918, GP15,14,13,9,GSNIS-10   ,2,6697,13545,20181015,805,31.9997,-151.9999,5350,5184.3,1.5592,34.6901,2,-999,9,20181015,811,31.9998,-152,148.56,2,2.47,2,35.2,2,0,2,-999,9,-999,9,2.284,1,0.017,1,4.698,1,155.3,2
33RR20180918, GP15,14,13,10,GSNIS-11   ,2,6697,13545,20181015,805,31.9997,-151.9999,5350,5184.4,1.5592,34.69,2,-999,9,20181015,811,31.9998,-152,148.36,2,2.46,2,35.17,2,0,2,-999,9,-999,9,2.282,1,0.017,1,4.698,1,156.1,2
33RR20180918, GP15,14,13,11,GSNIS-12   ,2,6697,13544,20181015,805,31.9997,-151.9999,5350,4582.9,1.4943,34.6889,2,1.4943,2,20181015,823,31.9997,-152,151.09,2,2.48,2,35.29,2,0,2,152.57,2,34.6868,2,2.282,1,0.017,1,4.701,1,153.6,2
33RR20180918, GP15,14,13,12,GSNIS-13   ,2,6697,13544,20181015,805,31.9997,-151.9999,5350,4583.3,1.4945,34.6889,2,-999,9,20181015,823,31.9997,-152,151.09,2,2.48,2,35.23,2,0,2,-999,9,-999,9,2.282,1,0.017,1,4.701,1,152.8,2
33RR20180918, GP15,14,13,13,GSNIS-14   ,2,6697,13544,20181015,805,31.9997,-151.9999,5350,4582.9,1.4944,34.6888,2,-999,9,20181015,823,31.9997,-152,151.19,2,2.48,2,35.22,2,0,2,-999,9,-999,9,2.283,1,0.017,1,4.701,1,152.9,2
33RR20180918, GP15,14,13,14,GSNIS-15   ,2,6697,13544,20181015,805,31.9997,-151.9999,5350,4582.4,1.4944,34.6889,2,-999,9,20181015,823,31.9997,-152,151.09,2,2.5,2,35.25,2,0,2,-999,9,-999,9,2.283,1,0.017,1,4.7,1,153.2,2
33RR20180918, GP15,14,13,15,GSNIS-16   ,2,6697,13543,20181015,805,31.9997,-151.9999,5350,4066.7,1.4639,34.6856,2,1.4637,2,20181015,833,31.9997,-152,155.19,2,2.52,2,35.6,2,0,2,146.95,2,34.6835,2,2.27,1,0.017,1,4.7,1,146.8,2
33RR20180918, GP15,14,13,16,GSNIS-17   ,2,6697,13543,20181015,805,31.9997,-151.9999,5350,4067,1.464,34.6857,2,-999,9,20181015,833,31.9997,-152,155.29,2,2.52,2,35.62,2,0,2,-999,9,-999,9,2.274,1,0.017,1,4.7,1,146.4,2
33RR20180918, GP15,14,13,17,GSNIS-18   ,2,6697,13542,20181015,805,31.9997,-151.9999,5350,3553.8,1.4632,34.6796,2,1.4629,2,20181015,843,31.9997,-151.9999,160.76,2,2.57,2,36.32,2,0,2,137.46,2,34.6772,2,2.272,1,0.017,1,4.7,1,135.9,2
33RR20180918, GP15,14,13,18,GSNIS-19   ,2,6697,13542,20181015,805,31.9997,-151.9999,5350,3554.9,1.4633,34.6796,2,-999,9,20181015,843,31.9997,-151.9999,160.86,2,2.56,2,36.3,2,0,2,-999,9,-999,9,2.273,1,0.017,1,4.7,1,137,2
33RR20180918, GP15,14,13,19,GSNIS-20   ,2,6697,13542,20181015,805,31.9997,-151.9999,5350,3554.7,1.4632,34.6797,2,-999,9,20181015,843,31.9997,-151.9999,160.66,2,2.57,2,36.25,2,0,2,-999,9,-999,9,2.273,1,0.017,1,4.699,1,137.1,2
33RR20180918, GP15,14,13,20,GSNIS-21   ,2,6697,13542,20181015,805,31.9997,-151.9999,5350,3553.9,1.4631,34.6798,2,-999,9,20181015,843,31.9997,-151.9999,160.47,2,2.58,2,36.22,2,0,2,-999,9,-999,9,2.274,1,0.017,1,4.7,1,136.1,2
33RR20180918, GP15,14,13,21,GSNIS-22   ,2,6697,13541,20181015,805,31.9997,-151.9999,5350,3043.9,1.5222,34.6676,2,1.5219,2,20181015,853,31.9997,-152,167.01,2,2.68,2,37.48,2,0,2,115.57,2,34.6619,3,2.337,1,0.017,1,4.699,1,119.6,3
33RR20180918, GP15,14,13,22,GSNIS-23   ,2,6697,13541,20181015,805,31.9997,-151.9999,5350,3045.3,1.5223,34.6676,2,-999,9,20181015,853,31.9998,-152,165.54,2,2.66,2,37.15,2,0,2,-999,9,-999,9,2.341,1,0.016,1,4.699,1,120.2,2
33RR20180918, GP15,14,13,23,GSNIS-24   ,2,6697,13540,20181015,805,31.9997,-151.9999,5350,2787.8,1.5859,34.6591,2,1.5853,2,20181015,859,31.9998,-152,168.18,2,2.71,2,37.72,2,0,2,109.9,2,34.6584,2,2.375,1,0.016,1,4.699,1,109.2,2
33RR20180918, GP15,14,13,24,GSNIS-25   ,2,6697,13540,20181015,805,31.9997,-151.9999,5350,2789.4,1.5856,34.6592,2,-999,9,20181015,859,31.9998,-152,168.08,2,2.7,2,37.65,2,0,2,-999,9,-999,9,2.378,1,0.017,1,4.699,1,110.1,2
33RR20180918, GP15,14,13,25,GSNIS-26   ,2,6697,13540,20181015,805,31.9997,-151.9999,5350,2787.8,1.5858,34.6592,2,-999,9,20181015,859,31.9998,-152,168.18,2,2.71,2,37.62,2,0,2,-999,9,-999,9,2.377,1,0.017,1,4.699,1,109.4,2
33RR20180918, GP15,14,13,26,GSNIS-27   ,2,6697,13539,20181015,805,31.9997,-151.9999,5350,2533,1.6722,34.6483,2,1.6721,2,20181015,904,31.9997,-152,169.45,2,2.76,2,38.34,2,0,2,98.06,2,34.6468,2,2.424,1,0.017,1,4.698,1,97.4,2
33RR20180918, GP15,14,13,27,GSNIS-28   ,2,6697,13539,20181015,805,31.9997,-151.9999,5350,2534.6,1.6724,34.6482,2,-999,9,20181015,904,31.9997,-152,167.79,2,2.87,2,39.43,2,0,2,-999,9,-999,9,2.425,1,0.017,1,4.698,1,97.5,2
33RR20180918, GP15,14,13,28,GSNIS-29   ,2,6697,13538,20181015,805,31.9997,-151.9999,5350,2330.7,1.768,34.6375,2,1.7692,2,20181015,909,31.9998,-151.9999,169.94,2,2.82,2,38.81,2,0,2,88.25,2,34.6364,2,2.488,1,0.017,1,4.697,1,87.8,2
33RR20180918, GP15,14,13,29,GSNIS-30   ,2,6697,13538,20181015,805,31.9997,-151.9999,5350,2331.4,1.7689,34.6373,2,-999,9,20181015,909,31.9997,-151.9999,169.65,2,2.82,2,38.74,2,0,2,-999,9,-999,9,2.49,1,0.017,1,4.698,1,87.1,2
33RR20180918, GP15,14,13,30,GSNIS-31   ,2,6697,13538,20181015,805,31.9997,-151.9999,5350,2330.5,1.7687,34.6374,2,-999,9,20181015,910,31.9997,-151.9999,169.45,2,2.82,2,38.69,2,0,2,-999,9,-999,9,2.49,1,0.017,1,4.697,1,87.2,2
33RR20180918, GP15,14,13,31,GSNIS-32   ,2,6697,13538,20181015,805,31.9997,-151.9999,5350,2331.7,1.7699,34.6371,2,-999,9,20181015,910,31.9997,-151.9999,169.84,2,2.82,2,38.65,2,0,2,-999,9,-999,9,2.491,1,0.018,1,4.697,1,87.6,2
33RR20180918, GP15,14,13,32,GSNIS-33   ,2,6697,13537,20181015,805,31.9997,-151.9999,5350,2127.1,1.8892,34.6245,2,1.8889,2,20181015,914,31.9997,-152,167.11,2,2.88,2,39.11,2,0,2,79.56,2,34.6234,2,2.574,1,0.017,1,4.697,1,78.7,2
33RR20180918, GP15,14,13,33,GSNIS-34   ,2,6697,13537,20181015,805,31.9997,-151.9999,5350,2128.6,1.8892,34.6244,2,-999,9,20181015,914,31.9997,-152,167.21,2,2.86,2,39.02,2,0,2,-999,9,-999,9,2.576,1,0.017,1,4.697,1,79.5,2
33RR20180918, GP15,14,13,34,GSNIS-35   ,2,6697,13536,20181015,805,31.9997,-151.9999,5350,1922.8,2.0607,34.6054,2,2.0604,2,20181015,919,31.9997,-151.9999,163.21,2,2.91,2,39.6,2,0,2,68.76,2,34.6052,2,2.642,1,0.017,1,4.697,1,67.9,2
33RR20180918, GP15,14,13,35,GSNIS-36   ,2,6697,13536,20181015,805,31.9997,-151.9999,5350,1922.8,2.0605,34.6055,2,-999,9,20181015,919,31.9997,-151.9999,163.5,2,2.92,2,39.39,2,0,2,-999,9,-999,9,2.645,1,0.017,1,4.696,1,67.6,2
33RR20180918, GP15,14,13,36,GSNIS-1    ,2,6697,13536,20181015,805,31.9997,-151.9999,5350,1921.6,2.0599,34.6058,2,-999,9,20181015,919,31.9997,-151.9999,163.01,2,2.9,2,39.21,2,0,2,-999,9,-999,9,2.643,1,0.018,1,4.696,1,67.6,2