BOTTLE,20191212SIOCCHAMB
EXPOCODE,SECT_ID,STNNBR,CASTNO,SAMPNO,BTLNBR,BTLNBR_FLAG_W,GEOTRC_EVENTNO,GEOTRC_SAMPNO,DATE,TIME,LATITUDE,LONGITUDE,DEPTH,CTDPRS,CTDTMP,CTDSAL,CTDSAL_FLAG_W,REFTMP,REFTMP_FLAG_W,BTL_DATE,BTL_TIME,BTL_LAT,BTL_LON,SILCAT,SILCAT_FLAG_W,PHSPHT,PHSPHT_FLAG_W,NITRAT,NITRAT_FLAG_W,NITRIT,NITRIT_FLAG_W,OXYGEN,OXYGEN_FLAG_W,SALNTY,SALNTY_FLAG_W,CTDRINKO,CTDRINKO_FLAG_W,CTDFLUOR,CTDFLUOR_FLAG_W,CTDXMISS,CTDXMISS_FLAG_W,CTDOXY,CTDOXY_FLAG_W
,,,,,,,,,,,,,METERS,DBAR,ITS-90,PSS-78,,ITS-90,,,,,,UMOL/KG,,UMOL/KG,,UMOL/KG,,UMOL/KG,,UMOL/KG,,PSS-78,,VOLTS,,VOLTS,,VOLTS,,UMOL/KG,
33RR20180918, GP15,25,8,1,GSNIS-2    ,2,6860,14596,20181104,2332,5.0001,-151.9978,5114,2021.6,2.2821,34.6399,2,2.2807,2,20181104,2332,5.0002,-151.9978,142.81,2,2.79,2,39.69,2,0,2,98.29,2,34.6419,3,2.686,1,0.017,1,4.68,1,97.8,2
33RR20180918, GP15,25,8,2,GSNIS-3    ,2,6860,14596,20181104,2332,5.0001,-151.9978,5114,2021.7,2.2818,34.6399,2,-999,9,20181104,2332,5.0002,-151.9978,142.71,2,2.79,2,39.61,2,0,2,-999,9,-999,9,2.686,1,0.017,1,4.679,1,98,2
33RR20180918, GP15,25,8,3,GSNIS-4    ,2,6860,14596,20181104,2332,5.0001,-151.9978,5114,2022.2,2.2801,34.6402,2,-999,9,20181104,2333,5.0002,-151.9978,142.61,2,2.8,2,39.66,2,0,2,-999,9,-999,9,2.687,1,0.017,1,4.68,1,98,2
33RR20180918, GP15,25,8,4,GSNIS-5    ,2,6860,14595,20181104,2332,5.0001,-151.9978,5114,1818.8,2.6217,34.6229,2,2.6209,2,20181104,2337,5.0002,-151.9978,134.79,2,2.85,2,40.21,2,0,2,89.98,2,34.6244,2,2.696,1,0.017,1,4.679,1,89.3,2
33RR20180918, GP15,25,8,5,GSNIS-6    ,2,6860,14595,20181104,2332,5.0001,-151.9978,5114,1818.6,2.6201,34.6229,2,-999,9,20181104,2337,5.0002,-151.9978,134.6,2,2.85,2,40.18,2,0,2,-999,9,-999,9,2.695,1,0.017,1,4.679,1,89.4,2
33RR20180918, GP15,25,8,6,GSNIS-7    ,2,6860,14595,20181104,2332,5.0001,-151.9978,5114,1818.8,2.6223,34.6226,2,-999,9,20181104,2337,5.0002,-151.9978,134.6,2,2.86,2,40.15,2,0,2,-999,9,-999,9,2.695,1,0.017,1,4.679,1,89.3,2
33RR20180918, GP15,25,8,7,GSNIS-8    ,2,6860,14594,20181104,2332,5.0001,-151.9978,5114,1616.5,2.9292,34.611,2,2.9293,2,20181104,2342,5.0002,-151.9978,127.85,2,2.91,2,40.73,2,0,2,80.51,2,34.6122,2,2.675,1,0.018,1,4.678,1,79.4,2
33RR20180918, GP15,25,8,8,GSNIS-9    ,2,6860,14594,20181104,2332,5.0001,-151.9978,5114,1616.4,2.9293,34.6109,2,-999,9,20181104,2342,5.0002,-151.9978,127.85,2,2.91,2,40.73,2,0,2,-999,9,-999,9,2.675,1,0.017,1,4.678,1,80.4,2
33RR20180918, GP15,25,8,9,GSNIS-10   ,2,6860,14594,20181104,2332,5.0001,-151.9978,5114,1616.9,2.9305,34.6109,2,-999,9,20181104,2342,5.0002,-151.9978,127.66,2,2.91,2,40.73,2,0,2,-999,9,-999,9,2.675,1,0.017,1,4.679,1,80.1,2
33RR20180918, GP15,25,8,10,GSNIS-11   ,2,6860,14593,20181104,2332,5.0001,-151.9978,5114,1413.8,3.3399,34.5954,2,3.34,2,20181104,2347,5.0002,-151.9978,118.18,2,2.95,2,41.31,2,0,2,71.81,2,34.5975,2,2.641,1,0.018,1,4.677,1,71.3,2
33RR20180918, GP15,25,8,11,GSNIS-12   ,2,6860,14593,20181104,2332,5.0001,-151.9978,5114,1413.2,3.3403,34.5954,2,-999,9,20181104,2347,5.0002,-151.9978,117.79,2,2.96,2,41.24,2,0,2,-999,9,-999,9,2.642,1,0.017,1,4.677,1,71.3,2
33RR20180918, GP15,25,8,12,GSNIS-13   ,2,6860,14593,20181104,2332,5.0001,-151.9978,5114,1413.8,3.3407,34.5952,2,-999,9,20181104,2347,5.0002,-151.9978,118.08,2,2.96,2,41.28,2,0,2,-999,9,-999,9,2.642,1,0.017,1,4.677,1,71.3,2
33RR20180918, GP15,25,8,13,GSNIS-14   ,2,6860,14592,20181104,2332,5.0001,-151.9978,5114,1210.6,3.8585,34.5761,2,3.8617,2,20181104,2352,5.0002,-151.9978,104.59,2,2.96,2,41.18,2,0,2,69,2,34.5783,2,2.61,1,0.017,1,4.677,1,69.3,2
33RR20180918, GP15,25,8,14,GSNIS-15   ,2,6860,14592,20181104,2332,5.0001,-151.9978,5114,1211.2,3.8625,34.5759,2,-999,9,20181104,2352,5.0002,-151.9978,104.49,2,2.97,2,41.21,2,0,2,-999,9,-999,9,2.61,1,0.017,1,4.677,1,69.2,2
33RR20180918, GP15,25,8,15,GSNIS-16   ,2,6860,14592,20181104,2332,5.0001,-151.9978,5114,1209.7,3.863,34.5759,2,-999,9,20181104,2352,5.0002,-151.9978,104.2,2,2.97,2,41.2,2,0,2,-999,9,-999,9,2.61,1,0.017,1,4.677,1,68.7,2
33RR20180918, GP15,25,8,16,GSNIS-17   ,2,6860,14591,20181104,2332,5.0001,-151.9978,5114,1007.2,4.5585,34.5578,2,4.5656,2,20181104,2356,5.0002,-151.9978,88.86,2,2.97,2,41.32,2,0,2,61.9,2,34.5598,2,2.604,1,0.017,1,4.676,1,59.1,2
33RR20180918, GP15,25,8,17,GSNIS-18   ,2,6860,14591,20181104,2332,5.0001,-151.9978,5114,1008.5,4.5738,34.5569,2,-999,9,20181104,2356,5.0002,-151.9978,88.86,2,2.97,2,41.35,2,0,2,-999,9,-999,9,2.604,1,0.017,1,4.676,1,58.9,2
33RR20180918, GP15,25,8,18,GSNIS-19   ,2,6860,14591,20181104,2332,5.0001,-151.9978,5114,1007.9,4.5647,34.5579,2,-999,9,20181104,2357,5.0002,-151.9978,88.86,2,2.97,2,41.33,2,0,2,-999,9,-999,9,2.604,1,0.018,1,4.676,1,59.1,2
33RR20180918, GP15,25,8,19,GSNIS-20   ,2,6860,14590,20181104,2332,5.0001,-151.9978,5114,907.1,5.0743,34.5484,2,5.0745,2,20181104,2359,5.0002,-151.9978,78.79,2,2.93,2,40.97,2,0,2,60.35,2,34.5514,2,2.618,1,0.017,1,4.676,1,62.5,2
33RR20180918, GP15,25,8,20,GSNIS-21   ,2,6860,14590,20181104,2332,5.0001,-151.9978,5114,907.6,5.0733,34.5487,2,-999,9,20181105,0,5.0002,-151.9978,78.69,2,2.92,2,40.97,2,0,2,-999,9,-999,9,2.619,1,0.017,1,4.676,1,63.5,2
33RR20180918, GP15,25,8,21,GSNIS-22   ,2,6860,14590,20181104,2332,5.0001,-151.9978,5114,906.9,5.0756,34.5484,2,-999,9,20181105,0,5.0002,-151.9978,78.79,2,2.94,2,40.96,2,0,2,-999,9,-999,9,2.619,1,0.017,1,4.676,1,63.8,2
33RR20180918, GP15,25,8,22,GSNIS-23   ,2,6860,14589,20181104,2332,5.0001,-151.9978,5114,806.6,5.5307,34.5466,2,5.5303,2,20181105,3,5.0002,-151.9978,71.65,2,2.96,2,41.23,2,0,2,51.26,2,34.5486,2,2.646,1,0.018,1,4.675,1,50.9,2
33RR20180918, GP15,25,8,23,GSNIS-24   ,2,6860,14589,20181104,2332,5.0001,-151.9978,5114,806.1,5.5295,34.5466,2,-999,9,20181105,3,5.0002,-151.9978,71.46,2,2.94,2,40.98,2,0,2,-999,9,-999,9,2.648,1,0.017,1,4.676,1,50.8,2
33RR20180918, GP15,25,8,24,GSNIS-25   ,2,6860,14589,20181104,2332,5.0001,-151.9978,5114,806.5,5.5296,34.5467,2,-999,9,20181105,3,5.0002,-151.9978,71.46,2,2.94,2,41.14,2,0,2,-999,9,-999,9,2.648,1,0.018,1,4.675,1,50.9,2
33RR20180918, GP15,25,8,25,GSNIS-26   ,2,6860,14588,20181104,2332,5.0001,-151.9978,5114,706.4,6.1041,34.5511,2,6.1043,2,20181105,6,5.0002,-151.9978,63.73,2,2.96,2,41.1,2,0,2,42,2,34.5523,2,2.665,1,0.018,1,4.675,1,32.8,3
33RR20180918, GP15,25,8,26,GSNIS-27   ,2,6860,14588,20181104,2332,5.0001,-151.9978,5114,705.6,6.1014,34.5512,2,-999,9,20181105,6,5.0002,-151.9978,63.93,2,2.95,2,41.08,2,0,2,-999,9,-999,9,2.665,1,0.018,1,4.675,1,40.9,3
33RR20180918, GP15,25,8,27,GSNIS-28   ,2,6860,14588,20181104,2332,5.0001,-151.9978,5114,705.6,6.1045,34.5512,2,-999,9,20181105,6,5.0002,-151.9978,63.64,2,2.95,2,41.08,2,0,2,-999,9,-999,9,2.666,1,0.018,1,4.674,1,40.2,3
33RR20180918, GP15,25,8,28,GSNIS-29   ,2,6860,14587,20181104,2332,5.0001,-151.9978,5114,605.7,6.9239,34.5671,2,6.9177,2,20181105,9,5.0002,-151.9978,55.13,2,2.95,2,40.48,2,0,2,30.34,2,34.5684,2,2.714,1,0.017,1,4.671,1,32.4,2
33RR20180918, GP15,25,8,29,GSNIS-30   ,2,6860,14587,20181104,2332,5.0001,-151.9978,5114,605,6.9174,34.5675,2,-999,9,20181105,9,5.0002,-151.9978,55.03,2,2.92,2,40.46,2,0,2,-999,9,-999,9,2.716,1,0.018,1,4.672,1,31.1,2
33RR20180918, GP15,25,8,30,GSNIS-31   ,2,6860,14587,20181104,2332,5.0001,-151.9978,5114,604.8,6.915,34.567,2,-999,9,20181105,9,5.0002,-151.9978,55.03,2,2.93,2,40.41,2,0,2,-999,9,-999,9,2.719,1,0.018,1,4.673,1,30.9,2
33RR20180918, GP15,25,8,31,GSNIS-32   ,2,6860,14586,20181104,2332,5.0001,-151.9978,5114,504.4,7.8607,34.5977,2,-999,9,20181105,12,5.0001,-151.9978,44.87,2,2.73,2,38.28,2,0,2,33.63,2,34.5995,2,2.809,1,0.017,1,4.671,1,33.1,2
33RR20180918, GP15,25,8,32,GSNIS-33   ,2,6860,14586,20181104,2332,5.0001,-151.9978,5114,504.3,7.8616,34.5979,2,-999,9,20181105,12,5.0001,-151.9978,44.77,2,2.74,2,38.28,2,0,2,-999,9,-999,9,2.812,1,0.018,1,4.671,1,34.6,2
33RR20180918, GP15,25,8,33,GSNIS-34   ,2,6860,14586,20181104,2332,5.0001,-151.9978,5114,504.1,7.8614,34.5977,2,-999,9,20181105,12,5.0001,-151.9978,44.87,2,2.73,2,38.28,2,0,2,-999,9,-999,9,2.813,1,0.018,1,4.671,1,34.7,2
33RR20180918, GP15,25,8,34,GSNIS-35   ,2,6860,14585,20181104,2332,5.0001,-151.9978,5114,453,8.4187,34.6192,2,-999,9,20181105,14,5.0001,-151.9978,40.37,2,2.61,2,36.83,2,0,2,36.01,2,34.6195,2,2.852,1,0.018,1,4.669,1,36.8,2
33RR20180918, GP15,25,8,35,GSNIS-36   ,2,6860,14585,20181104,2332,5.0001,-151.9978,5114,453.9,8.4292,34.6191,2,-999,9,20181105,14,5.0001,-151.9978,40.27,2,2.6,2,36.82,2,0,2,-999,9,-999,9,2.853,1,0.018,1,4.669,1,36.7,2
33RR20180918, GP15,25,8,36,GSNIS-1    ,2,6860,14585,20181104,2332,5.0001,-151.9978,5114,453.8,8.429,34.6195,2,-999,9,20181105,14,5.0001,-151.9978,40.47,2,2.6,2,37.03,2,0,2,-999,9,-999,9,2.853,1,0.018,1,4.669,1,36.9,2
33RR20180918, GP15,25,11,1,GSNIS-2    ,2,6863,14632,20181105,1733,5.0002,-152.0002,5114,5078.4,1.4399,34.6964,2,1.4398,2,20181105,1733,5.0003,-152.0002,136.74,2,2.37,2,34.68,2,0,2,170.88,2,34.6985,2,2.244,1,0.017,1,4.68,1,170.7,2
33RR20180918, GP15,25,11,2,GSNIS-3    ,2,6863,14632,20181105,1733,5.0002,-152.0002,5114,5077.4,1.4398,34.6963,2,-999,9,20181105,1733,5.0003,-152.0002,136.93,2,2.38,2,34.71,2,0,2,-999,9,-999,9,2.244,1,0.017,1,4.68,1,171.4,2
33RR20180918, GP15,25,11,3,GSNIS-4    ,2,6863,14632,20181105,1733,5.0002,-152.0002,5114,5078.8,1.44,34.6964,2,-999,9,20181105,1733,5.0003,-152.0002,136.83,2,2.38,2,34.72,2,0,2,-999,9,-999,9,2.244,1,0.017,1,4.68,1,168.3,2
33RR20180918, GP15,25,11,4,GSNIS-5    ,2,6863,14631,20181105,1733,5.0002,-152.0002,5114,5036.3,1.4351,34.6963,2,1.4352,2,20181105,1735,5.0003,-152.0002,136.83,2,2.38,2,34.77,2,0,2,170.7,2,34.6987,2,2.245,1,0.017,1,4.68,1,171,2
33RR20180918, GP15,25,11,5,GSNIS-6    ,2,6863,14631,20181105,1733,5.0002,-152.0002,5114,5036.7,1.4351,34.6963,2,-999,9,20181105,1735,5.0003,-152.0002,136.74,2,2.38,2,34.67,2,0,2,-999,9,-999,9,2.241,1,0.017,1,4.68,1,170.5,2
33RR20180918, GP15,25,11,6,GSNIS-7    ,2,6863,14631,20181105,1733,5.0002,-152.0002,5114,5037.1,1.4352,34.6964,2,-999,9,20181105,1736,5.0003,-152.0002,136.54,2,2.38,2,34.6,2,0,2,-999,9,-999,9,2.244,1,0.017,1,4.68,1,167.5,2
33RR20180918, GP15,25,11,7,GSNIS-8    ,2,6863,14630,20181105,1733,5.0002,-152.0002,5114,4954.5,1.4265,34.6963,2,1.4264,2,20181105,1738,5.0003,-152.0002,137.13,2,2.38,2,34.65,2,0,2,170.53,2,34.6991,2,2.243,1,0.017,1,4.68,1,170.4,2
33RR20180918, GP15,25,11,8,GSNIS-9    ,2,6863,14630,20181105,1733,5.0002,-152.0002,5114,4954.4,1.4264,34.6966,2,-999,9,20181105,1738,5.0003,-152.0002,136.93,2,2.38,2,34.65,2,0,2,-999,9,-999,9,2.24,1,0.016,1,4.68,1,171.9,2
33RR20180918, GP15,25,11,9,GSNIS-10   ,2,6863,14630,20181105,1733,5.0002,-152.0002,5114,4954.4,1.4264,34.6964,2,-999,9,20181105,1738,5.0003,-152.0002,136.83,2,2.38,2,34.66,2,0,2,-999,9,-999,9,2.239,1,0.017,1,4.68,1,168.7,2
33RR20180918, GP15,25,11,10,GSNIS-11   ,2,6863,14629,20181105,1733,5.0002,-152.0002,5114,4574.9,1.3915,34.6962,2,1.3917,2,20181105,1746,5.0002,-152.0002,137.62,2,2.38,2,34.75,2,0,2,169.21,2,34.6979,2,2.247,1,0.017,1,4.681,1,168.4,2
33RR20180918, GP15,25,11,11,GSNIS-12   ,2,6863,14629,20181105,1733,5.0002,-152.0002,5114,4576.3,1.3918,34.6962,2,-999,9,20181105,1746,5.0002,-152.0002,137.52,2,2.38,2,34.72,2,0,2,-999,9,-999,9,2.244,1,0.017,1,4.681,1,169.5,2
33RR20180918, GP15,25,11,12,GSNIS-13   ,2,6863,14629,20181105,1733,5.0002,-152.0002,5114,4575.2,1.3917,34.6964,2,-999,9,20181105,1746,5.0002,-152.0002,137.42,2,2.38,2,34.73,2,0,2,-999,9,-999,9,2.247,1,0.017,1,4.681,1,169.4,2
33RR20180918, GP15,25,11,13,GSNIS-14   ,2,6863,14628,20181105,1733,5.0002,-152.0002,5114,4059.9,1.4126,34.6932,2,1.4127,2,20181105,1756,5.0002,-152.0002,141.92,2,2.42,2,35.29,2,0,2,161.13,2,34.6958,2,2.211,1,0.017,1,4.681,1,161.4,2
33RR20180918, GP15,25,11,14,GSNIS-15   ,2,6863,14628,20181105,1733,5.0002,-152.0002,5114,4060.8,1.4129,34.693,2,-999,9,20181105,1756,5.0002,-152.0002,142.11,2,2.42,2,35.26,2,0,2,-999,9,-999,9,2.211,1,0.017,1,4.681,1,161.3,2
33RR20180918, GP15,25,11,15,GSNIS-16   ,2,6863,14628,20181105,1733,5.0002,-152.0002,5114,4059.5,1.4125,34.6931,2,-999,9,20181105,1756,5.0002,-152.0002,142.11,2,2.42,2,35.27,2,0,2,-999,9,-999,9,2.209,1,0.017,1,4.682,1,161.2,2
33RR20180918, GP15,25,11,16,GSNIS-17   ,2,6863,14627,20181105,1733,5.0002,-152.0002,5114,3544.1,1.5154,34.6854,2,1.5153,2,20181105,1806,5.0002,-152.0002,147.68,2,2.5,2,36.27,2,0,2,146.03,2,34.6869,2,2.185,1,0.017,1,4.681,1,145.8,2
33RR20180918, GP15,25,11,17,GSNIS-18   ,2,6863,14627,20181105,1733,5.0002,-152.0002,5114,3543.7,1.5155,34.6854,2,-999,9,20181105,1807,5.0002,-152.0002,147.78,2,2.5,2,36.24,2,0,2,-999,9,-999,9,2.186,1,0.017,1,4.681,1,145.5,2
33RR20180918, GP15,25,11,18,GSNIS-19   ,2,6863,14627,20181105,1733,5.0002,-152.0002,5114,3543.7,1.5154,34.6853,2,-999,9,20181105,1807,5.0002,-152.0002,147.49,2,2.49,2,36.21,2,0,2,-999,9,-999,9,2.183,1,0.017,1,4.681,1,144.6,2
33RR20180918, GP15,25,11,19,GSNIS-20   ,2,6863,14626,20181105,1733,5.0002,-152.0002,5114,3039.3,1.7132,34.6743,2,1.7137,2,20181105,1817,5.0002,-152.0002,152.57,2,2.64,2,37.62,2,0,2,124.03,2,34.6777,2,2.208,1,0.017,1,4.68,1,124.5,2
33RR20180918, GP15,25,11,20,GSNIS-21   ,2,6863,14626,20181105,1733,5.0002,-152.0002,5114,3038.3,1.7132,34.6745,2,-999,9,20181105,1817,5.0002,-152.0003,152.86,2,2.63,2,37.73,2,0,2,-999,9,-999,9,2.208,1,0.017,1,4.68,1,123.9,2
33RR20180918, GP15,25,11,21,GSNIS-22   ,2,6863,14626,20181105,1733,5.0002,-152.0002,5114,3038.6,1.7149,34.6741,2,-999,9,20181105,1817,5.0002,-152.0003,152.96,2,2.64,2,37.64,2,0,2,-999,9,-999,9,2.21,1,0.017,1,4.68,1,123.7,2
33RR20180918, GP15,25,11,22,GSNIS-23   ,2,6863,14625,20181105,1733,5.0002,-152.0002,5114,2834.3,1.7964,34.6696,2,1.7963,2,20181105,1821,5.0002,-152.0002,151.99,2,2.66,2,37.84,2,0,2,119.6,2,34.6718,2,2.264,1,0.017,1,4.68,1,119.8,2
33RR20180918, GP15,25,11,23,GSNIS-24   ,2,6863,14625,20181105,1733,5.0002,-152.0002,5114,2833.9,1.7962,34.6696,2,-999,9,20181105,1822,5.0002,-152.0002,151.69,2,2.67,2,37.81,2,0,2,-999,9,-999,9,2.262,1,0.017,1,4.68,1,119.3,2
33RR20180918, GP15,25,11,24,GSNIS-25   ,2,6863,14625,20181105,1733,5.0002,-152.0002,5114,2833.6,1.7961,34.6695,2,-999,9,20181105,1822,5.0002,-152.0002,151.59,2,2.67,2,37.79,2,0,2,-999,9,-999,9,2.261,1,0.017,1,4.68,1,120,2
33RR20180918, GP15,25,11,25,GSNIS-26   ,2,6863,14624,20181105,1733,5.0002,-152.0002,5114,2630.1,1.8507,34.6662,2,1.8505,2,20181105,1826,5.0002,-152.0003,151.11,2,2.7,2,38.02,2,0,2,115.38,2,34.6688,2,2.309,1,0.017,1,4.68,1,116.2,2
33RR20180918, GP15,25,11,26,GSNIS-27   ,2,6863,14624,20181105,1733,5.0002,-152.0002,5114,2629.5,1.8506,34.6663,2,-999,9,20181105,1826,5.0002,-152.0002,151.01,2,2.7,2,37.97,2,0,2,-999,9,-999,9,2.309,1,0.017,1,4.68,1,116.1,2
33RR20180918, GP15,25,11,27,GSNIS-28   ,2,6863,14624,20181105,1733,5.0002,-152.0002,5114,2630.5,1.8507,34.6663,2,-999,9,20181105,1826,5.0002,-152.0003,151.11,2,2.71,2,37.98,2,0,2,-999,9,-999,9,2.314,1,0.018,1,4.68,1,115.3,2
33RR20180918, GP15,25,11,28,GSNIS-29   ,2,6863,14623,20181105,1733,5.0002,-152.0002,5114,2427.7,1.9266,34.6615,2,1.9272,2,20181105,1831,5.0002,-152.0002,149.64,2,2.74,2,38.29,2,0,2,112.33,2,-999,1,2.35,1,0.018,1,4.679,1,112.5,2
33RR20180918, GP15,25,11,29,GSNIS-30   ,2,6863,14623,20181105,1733,5.0002,-152.0002,5114,2428.2,1.927,34.6616,2,-999,9,20181105,1831,5.0002,-152.0002,149.45,2,2.74,2,38.16,2,0,2,-999,9,-999,9,2.349,1,0.018,1,4.679,1,113,2
33RR20180918, GP15,25,11,30,GSNIS-31   ,2,6863,14623,20181105,1733,5.0002,-152.0002,5114,2427.8,1.9276,34.6616,2,-999,9,20181105,1831,5.0002,-152.0002,149.45,2,2.73,2,38.63,3,0,2,-999,9,-999,9,2.351,1,0.017,1,4.679,1,112,2
33RR20180918, GP15,25,11,31,GSNIS-32   ,2,6863,14622,20181105,1733,5.0002,-152.0002,5114,2225.4,2.0602,34.6533,2,2.0597,2,20181105,1836,5.0003,-152.0003,147.3,2,2.78,2,39.16,2,0,2,105.09,2,34.6559,2,2.376,1,0.017,1,4.679,1,105.2,2
33RR20180918, GP15,25,11,32,GSNIS-33   ,2,6863,14622,20181105,1733,5.0002,-152.0002,5114,2223.2,2.0596,34.6534,2,-999,9,20181105,1836,5.0003,-152.0003,147.49,2,2.79,2,39.15,2,0,2,-999,9,-999,9,2.376,1,0.017,1,4.679,1,104.7,2
33RR20180918, GP15,25,11,33,GSNIS-34   ,2,6863,14622,20181105,1733,5.0002,-152.0002,5114,2224.6,2.06,34.6533,2,-999,9,20181105,1836,5.0003,-152.0003,147.39,2,2.78,2,39.1,2,0,2,-999,9,-999,9,2.374,1,0.017,1,4.679,1,105.1,2
33RR20180918, GP15,25,11,34,GSNIS-35   ,2,6863,14621,20181105,1733,5.0002,-152.0002,5114,2021.3,2.2695,34.6411,2,2.2716,2,20181105,1841,5.0002,-152.0002,142.21,2,2.82,2,39.54,2,0,2,98.31,2,34.6443,2,2.414,1,0.017,1,4.679,1,97.8,2
33RR20180918, GP15,25,11,35,GSNIS-36   ,2,6863,14621,20181105,1733,5.0002,-152.0002,5114,2019.4,2.2704,34.6412,2,-999,9,20181105,1841,5.0002,-152.0002,142.31,2,2.81,2,39.59,2,0,2,-999,9,-999,9,2.41,1,0.017,1,4.678,1,98.3,2
33RR20180918, GP15,25,11,36,GSNIS-1    ,2,6863,14621,20181105,1733,5.0002,-152.0002,5114,2021.6,2.2721,34.6409,2,-999,9,20181105,1841,5.0002,-152.0002,141.92,2,2.77,2,39.43,2,0,2,-999,9,-999,9,2.414,1,0.018,1,4.679,1,98,2