BOTTLE,20191212SIOCCHAMB
EXPOCODE,SECT_ID,STNNBR,CASTNO,SAMPNO,BTLNBR,BTLNBR_FLAG_W,GEOTRC_EVENTNO,GEOTRC_SAMPNO,DATE,TIME,LATITUDE,LONGITUDE,DEPTH,CTDPRS,CTDTMP,CTDSAL,CTDSAL_FLAG_W,REFTMP,REFTMP_FLAG_W,BTL_DATE,BTL_TIME,BTL_LAT,BTL_LON,SILCAT,SILCAT_FLAG_W,PHSPHT,PHSPHT_FLAG_W,NITRAT,NITRAT_FLAG_W,NITRIT,NITRIT_FLAG_W,OXYGEN,OXYGEN_FLAG_W,SALNTY,SALNTY_FLAG_W,CTDRINKO,CTDRINKO_FLAG_W,CTDFLUOR,CTDFLUOR_FLAG_W,CTDXMISS,CTDXMISS_FLAG_W,CTDOXY,CTDOXY_FLAG_W
,,,,,,,,,,,,,METERS,DBAR,ITS-90,PSS-78,,ITS-90,,,,,,UMOL/KG,,UMOL/KG,,UMOL/KG,,UMOL/KG,,UMOL/KG,,PSS-78,,VOLTS,,VOLTS,,VOLTS,,UMOL/KG,
33RR20180918, GP15,27,8,1,GSNIS-2    ,2,6880,14743,20181107,510,2.4998,-151.9998,4639,1817.4,2.5047,34.6301,2,2.5037,2,20181107,510,2.4998,-151.9998,136.4,2,2.8,2,39.56,2,0,2,95.45,2,34.6305,2,2.556,1,0.017,1,4.674,1,95.1,2
33RR20180918, GP15,27,8,2,GSNIS-3    ,2,6880,14743,20181107,510,2.4998,-151.9998,4639,1818.1,2.505,34.63,2,-999,9,20181107,510,2.4998,-151.9998,136.1,2,2.8,2,39.55,2,0,2,-999,9,-999,9,2.556,1,0.018,1,4.673,1,95.6,2
33RR20180918, GP15,27,8,3,GSNIS-4    ,2,6880,14742,20181107,510,2.4998,-151.9998,4639,1616.3,2.8266,34.6139,2,2.8264,2,20181107,514,2.4998,-151.9998,128.19,2,2.85,2,39.98,2,0,2,88.25,2,34.6156,2,2.522,1,0.017,1,4.673,1,88.2,2
33RR20180918, GP15,27,8,4,GSNIS-5    ,2,6880,14742,20181107,510,2.4998,-151.9998,4639,1616.3,2.8267,34.6139,2,-999,9,20181107,515,2.4998,-151.9998,127.9,2,2.85,2,39.93,2,0,2,-999,9,-999,9,2.521,1,0.018,1,4.674,1,88,2
33RR20180918, GP15,27,8,5,GSNIS-6    ,2,6880,14742,20181107,510,2.4998,-151.9998,4639,1615.9,2.8266,34.6141,2,-999,9,20181107,515,2.4998,-151.9998,128,2,2.86,2,39.92,2,0,2,-999,9,-999,9,2.521,1,0.017,1,4.673,1,88.1,2
33RR20180918, GP15,27,8,6,GSNIS-7    ,2,6880,14742,20181107,510,2.4998,-151.9998,4639,1616.7,2.8267,34.6139,2,2.8265,2,20181107,515,2.4998,-151.9998,127.9,2,2.85,2,39.93,2,0,2,-999,9,-999,9,2.52,1,0.017,1,4.673,1,88.1,2
33RR20180918, GP15,27,8,7,GSNIS-8    ,2,6880,14741,20181107,510,2.4998,-151.9998,4639,1413.8,3.4012,34.59,2,3.3994,2,20181107,519,2.4998,-151.9998,113.54,2,2.89,2,40.28,2,0,2,81.58,2,34.591,2,2.497,1,0.017,1,4.672,1,80.7,2
33RR20180918, GP15,27,8,8,GSNIS-9    ,2,6880,14741,20181107,510,2.4998,-151.9998,4639,1413.1,3.3985,34.5902,2,-999,9,20181107,519,2.4998,-151.9998,113.15,2,2.89,2,40.28,2,0,2,-999,9,-999,9,2.497,1,0.017,1,4.671,1,80.7,2
33RR20180918, GP15,27,8,9,GSNIS-10   ,2,6880,14741,20181107,510,2.4998,-151.9998,4639,1414.4,3.3999,34.5901,2,-999,9,20181107,520,2.4998,-151.9998,113.24,2,2.89,2,40.27,2,0,2,-999,9,-999,9,2.497,1,0.018,1,4.673,1,80.7,2
33RR20180918, GP15,27,8,10,GSNIS-11   ,2,6880,14741,20181107,510,2.4998,-151.9998,4639,1413.5,3.4003,34.59,2,3.4001,2,20181107,520,2.4998,-151.9998,113.64,2,2.89,2,40.4,2,0,2,-999,9,-999,9,2.496,1,0.018,1,4.672,1,80.7,2
33RR20180918, GP15,27,8,11,GSNIS-12   ,2,6880,14740,20181107,510,2.4998,-151.9998,4639,1210.9,3.9665,34.5708,2,3.9671,2,20181107,524,2.4998,-151.9998,99.57,2,2.89,2,40.25,2,0,2,76.26,2,34.5716,2,2.501,1,0.018,1,4.672,1,77.3,2
33RR20180918, GP15,27,8,12,GSNIS-13   ,2,6880,14740,20181107,510,2.4998,-151.9998,4639,1210,3.9675,34.5708,2,-999,9,20181107,524,2.4998,-151.9998,99.18,2,2.89,2,40.25,2,0,2,-999,9,-999,9,2.501,1,0.018,1,4.671,1,77.1,2
33RR20180918, GP15,27,8,13,GSNIS-14   ,2,6880,14739,20181107,510,2.4998,-151.9998,4639,1007.9,4.4808,34.5545,2,4.4809,2,20181107,529,2.4998,-151.9998,85.89,2,2.82,2,39.17,2,0,2,82.26,2,34.5547,2,2.52,1,0.017,1,4.672,1,82.3,2
33RR20180918, GP15,27,8,14,GSNIS-15   ,2,6880,14739,20181107,510,2.4998,-151.9998,4639,1008.2,4.4819,34.5544,2,-999,9,20181107,529,2.4998,-151.9998,86.08,2,2.81,2,39.13,2,0,2,-999,9,-999,9,2.52,1,0.017,1,4.672,1,82.4,2
33RR20180918, GP15,27,8,15,GSNIS-16   ,3,6880,14739,20181107,510,2.4998,-151.9998,4639,1007.5,4.4816,34.5543,3,-999,9,20181107,529,2.4998,-151.9998,1.56,3,0.49,3,3.99,3,0.51,3,-999,9,-999,9,2.52,1,0.017,1,4.672,1,82.3,3
33RR20180918, GP15,27,8,16,GSNIS-17   ,2,6880,14739,20181107,510,2.4998,-151.9998,4639,1008.6,4.4824,34.5545,2,-999,9,20181107,530,2.4998,-151.9998,86.28,2,2.82,2,39.16,2,0,2,-999,9,-999,9,2.52,1,0.017,1,4.672,1,82.3,2
33RR20180918, GP15,27,8,17,GSNIS-18   ,2,6880,14738,20181107,510,2.4998,-151.9998,4639,907.6,4.8862,34.5447,2,4.8868,2,20181107,533,2.4998,-151.9998,76.51,2,2.78,2,38.66,2,0,2,83.9,2,34.5461,2,2.521,1,0.017,1,4.672,1,83.1,2
33RR20180918, GP15,27,8,18,GSNIS-19   ,2,6880,14738,20181107,510,2.4998,-151.9998,4639,907.7,4.8854,34.5448,2,-999,9,20181107,533,2.4998,-151.9998,76.61,2,2.78,2,38.68,2,0,2,-999,9,-999,9,2.521,1,0.017,1,4.672,1,83.1,2
33RR20180918, GP15,27,8,19,GSNIS-20   ,2,6880,14738,20181107,510,2.4998,-151.9998,4639,906.8,4.8868,34.5449,2,-999,9,20181107,533,2.4998,-151.9998,76.51,2,2.78,2,38.72,2,0,2,-999,9,-999,9,2.521,1,0.017,1,4.672,1,82.5,2
33RR20180918, GP15,27,8,20,GSNIS-21   ,2,6880,14737,20181107,510,2.4998,-151.9998,4639,807,5.4224,34.5425,2,5.4158,2,20181107,536,2.4998,-151.9998,68.59,2,2.8,2,39.28,2,0,2,73.1,2,34.5447,2,2.506,1,0.017,1,4.671,1,71.8,2
33RR20180918, GP15,27,8,21,GSNIS-22   ,2,6880,14737,20181107,510,2.4998,-151.9998,4639,806.6,5.4139,34.5423,2,-999,9,20181107,536,2.4998,-151.9998,68.4,2,2.8,2,39.1,2,0,2,-999,9,-999,9,2.506,1,0.017,1,4.671,1,72,2
33RR20180918, GP15,27,8,22,GSNIS-23   ,2,6880,14737,20181107,510,2.4998,-151.9998,4639,806.9,5.4242,34.5425,2,-999,9,20181107,536,2.4998,-151.9998,68.4,2,2.8,2,39.11,2,0,2,-999,9,-999,9,2.506,1,0.017,1,4.671,1,72,2
33RR20180918, GP15,27,8,23,GSNIS-24   ,2,6880,14737,20181107,510,2.4998,-151.9998,4639,807,5.4222,34.5429,2,5.4196,2,20181107,536,2.4998,-151.9998,68.2,2,2.8,2,39.08,2,0,2,-999,9,-999,9,2.505,1,0.018,1,4.671,1,72,2
33RR20180918, GP15,27,8,24,GSNIS-25   ,2,6880,14736,20181107,510,2.4998,-151.9998,4639,706.3,6.1409,34.5507,2,6.1399,2,20181107,539,2.4998,-151.9998,58.92,2,2.83,2,39.5,2,0,2,58.48,2,34.5518,2,2.486,1,0.018,1,4.67,1,58,2
33RR20180918, GP15,27,8,25,GSNIS-26   ,2,6880,14736,20181107,510,2.4998,-151.9998,4639,706.6,6.1409,34.5504,2,-999,9,20181107,539,2.4998,-151.9998,58.72,2,2.83,2,39.5,2,0,2,-999,9,-999,9,2.484,1,0.018,1,4.67,1,58.8,2
33RR20180918, GP15,27,8,26,GSNIS-27   ,2,6880,14735,20181107,510,2.4998,-151.9998,4639,605.6,7.3716,34.5843,2,7.369,2,20181107,542,2.4998,-151.9998,48.37,2,2.85,2,39.53,2,0,2,32.98,2,34.5846,2,2.484,1,0.017,1,4.666,1,32,2
33RR20180918, GP15,27,8,27,GSNIS-28   ,2,6880,14735,20181107,510,2.4998,-151.9998,4639,605.4,7.3713,34.5842,2,-999,9,20181107,542,2.4998,-151.9998,48.37,2,2.86,2,39.52,2,0,2,-999,9,-999,9,2.486,1,0.018,1,4.666,1,31.4,2
33RR20180918, GP15,27,8,28,GSNIS-29   ,2,6880,14734,20181107,510,2.4998,-151.9998,4639,504.8,8.9318,34.6425,2,8.9302,2,20181107,545,2.4998,-151.9998,36.35,2,2.54,2,35.65,2,0,2,39.02,2,34.6425,2,2.567,1,0.018,1,4.664,1,42.4,2
33RR20180918, GP15,27,8,29,GSNIS-30   ,2,6880,14734,20181107,510,2.4998,-151.9998,4639,504.6,8.9306,34.6424,2,-999,9,20181107,545,2.4998,-151.9998,36.15,2,2.53,2,35.63,2,0,2,-999,9,-999,9,2.571,1,0.017,1,4.664,1,41.9,2
33RR20180918, GP15,27,8,30,GSNIS-31   ,2,6880,14734,20181107,510,2.4998,-151.9998,4639,505.1,8.9384,34.6428,2,-999,9,20181107,545,2.4998,-151.9998,36.15,2,2.53,2,35.72,2,0,2,-999,9,-999,9,2.572,1,0.017,1,4.664,1,42.2,2
33RR20180918, GP15,27,8,31,GSNIS-32   ,2,6880,14734,20181107,510,2.4998,-151.9998,4639,504.1,8.9242,34.6429,2,-999,9,20181107,545,2.4998,-151.9998,36.05,2,2.53,2,35.46,2,0,2,-999,9,-999,9,2.574,1,0.018,1,4.664,1,41.8,2
33RR20180918, GP15,27,8,32,GSNIS-33   ,2,6880,14733,20181107,510,2.4998,-151.9998,4639,453.8,9.5918,34.6699,2,9.5921,2,20181107,548,2.4998,-151.9998,29.99,2,2.24,2,31.84,2,0,2,66.47,2,34.6706,2,2.61,1,0.017,1,4.664,1,68.3,2
33RR20180918, GP15,27,8,33,GSNIS-34   ,2,6880,14733,20181107,510,2.4998,-151.9998,4639,454.1,9.5914,34.6696,2,-999,9,20181107,548,2.4998,-151.9998,30.09,2,2.24,2,31.85,2,0,2,-999,9,-999,9,2.61,1,0.017,1,4.664,1,69.2,2
33RR20180918, GP15,27,8,34,GSNIS-35   ,2,6880,14732,20181107,510,2.4998,-151.9998,4639,403.9,10.1141,34.7056,2,10.1134,2,20181107,550,2.4998,-151.9998,27.84,2,2.18,2,31.04,2,0,2,64.73,2,34.706,2,2.611,1,0.017,1,4.662,1,67.8,2
33RR20180918, GP15,27,8,35,GSNIS-36   ,2,6880,14732,20181107,510,2.4998,-151.9998,4639,403.4,10.1142,34.7053,2,-999,9,20181107,550,2.4998,-151.9998,27.75,2,2.18,2,31.03,2,0,2,-999,9,-999,9,2.611,1,0.018,1,4.662,1,74.3,2
33RR20180918, GP15,27,8,36,GSNIS-1    ,2,6880,14732,20181107,510,2.4998,-151.9998,4639,403.4,10.1141,34.7055,2,-999,9,20181107,550,2.4998,-151.9998,27.65,2,2.17,2,31.04,2,0,2,-999,9,-999,9,2.611,1,0.017,1,4.662,1,73.8,2
33RR20180918, GP15,27,11,1,GSNIS-2    ,2,6882,14779,20181107,1949,2.5005,-152.002,4639,4600.2,1.4022,34.6961,2,1.4022,2,20181107,1949,2.5007,-152.002,139.09,2,2.4,2,34.84,2,0,2,168.54,2,34.6963,2,2.182,1,0.017,1,4.679,1,168.5,2
33RR20180918, GP15,27,11,2,GSNIS-3    ,2,6882,14779,20181107,1949,2.5005,-152.002,4639,4600.6,1.4022,34.6961,2,-999,9,20181107,1949,2.5007,-152.002,139.09,2,2.39,2,34.83,2,0,2,-999,9,-999,9,2.182,1,0.017,1,4.679,1,168.2,2
33RR20180918, GP15,27,11,3,GSNIS-4    ,2,6882,14779,20181107,1949,2.5005,-152.002,4639,4599.5,1.4022,34.696,2,-999,9,20181107,1950,2.5007,-152.002,139,2,2.4,2,34.84,2,0,2,-999,9,-999,9,2.182,1,0.016,1,4.679,1,169.1,2
33RR20180918, GP15,27,11,4,GSNIS-5    ,2,6882,14779,20181107,1949,2.5005,-152.002,4639,4600.7,1.4024,34.6961,2,-999,9,20181107,1950,2.5007,-152.002,139.19,2,2.39,2,34.85,2,0,2,-999,9,-999,9,2.182,1,0.017,1,4.679,1,168.6,2
33RR20180918, GP15,27,11,5,GSNIS-6    ,2,6882,14778,20181107,1949,2.5005,-152.002,4639,4558.1,1.3986,34.696,2,1.3983,2,20181107,1952,2.5007,-152.002,139.39,2,2.4,2,34.85,2,0,2,168.39,2,34.6958,2,2.18,1,0.015,1,4.679,1,168.8,2
33RR20180918, GP15,27,11,6,GSNIS-7    ,2,6882,14778,20181107,1949,2.5005,-152.002,4639,4558.4,1.3984,34.696,2,-999,9,20181107,1952,2.5007,-152.002,139,2,2.39,2,34.79,2,0,2,-999,9,-999,9,2.18,1,0.017,1,4.679,1,168.8,2
33RR20180918, GP15,27,11,7,GSNIS-8    ,2,6882,14777,20181107,1949,2.5005,-152.002,4639,4476,1.3961,34.6957,2,1.3961,2,20181107,1955,2.5007,-152.0019,139.78,2,2.4,2,34.92,2,0,2,167.43,2,34.6956,2,2.176,1,0.017,1,4.679,1,166.8,2
33RR20180918, GP15,27,11,8,GSNIS-9    ,2,6882,14777,20181107,1949,2.5005,-152.002,4639,4476.9,1.3962,34.6956,2,-999,9,20181107,1955,2.5007,-152.0019,139.78,2,2.39,2,34.9,2,0,2,-999,9,-999,9,2.176,1,0.017,1,4.679,1,167.5,2
33RR20180918, GP15,27,11,9,GSNIS-10   ,2,6882,14777,20181107,1949,2.5005,-152.002,4639,4476.3,1.3961,34.6956,2,-999,9,20181107,1955,2.5007,-152.0019,139.48,2,2.4,2,34.88,2,0,2,-999,9,-999,9,2.176,1,0.017,1,4.678,1,167,2
33RR20180918, GP15,27,11,10,GSNIS-11   ,2,6882,14777,20181107,1949,2.5005,-152.002,4639,4476.1,1.3961,34.6956,2,-999,9,20181107,1955,2.5007,-152.0019,139.48,2,2.39,2,34.85,2,0,2,-999,9,-999,9,2.176,1,0.017,1,4.679,1,167.8,2
33RR20180918, GP15,27,11,11,GSNIS-12   ,2,6882,14776,20181107,1949,2.5005,-152.002,4639,3959,1.4233,34.6922,2,1.4231,2,20181107,2005,2.5006,-152.002,145.06,2,2.44,2,35.54,2,0,2,158.22,2,34.692,2,2.186,1,0.017,1,4.679,1,158,2
33RR20180918, GP15,27,11,12,GSNIS-13   ,2,6882,14776,20181107,1949,2.5005,-152.002,4639,3959.3,1.4232,34.6924,2,-999,9,20181107,2005,2.5006,-152.002,145.15,2,2.45,2,35.52,2,0,2,-999,9,-999,9,2.187,1,0.017,1,4.679,1,158.3,2
33RR20180918, GP15,27,11,13,GSNIS-14   ,2,6882,14775,20181107,1949,2.5005,-152.002,4639,3447,1.5105,34.6848,2,1.5104,2,20181107,2015,2.5007,-152.002,146.91,2,2.51,2,36.22,2,0,2,147.31,2,34.6846,2,2.209,1,0.017,1,4.679,1,146.8,2
33RR20180918, GP15,27,11,14,GSNIS-15   ,2,6882,14775,20181107,1949,2.5005,-152.002,4639,3447.3,1.5106,34.6847,2,-999,9,20181107,2015,2.5007,-152.002,146.72,2,2.51,2,36.22,2,0,2,-999,9,-999,9,2.209,1,0.017,1,4.679,1,147.1,2
33RR20180918, GP15,27,11,15,GSNIS-16   ,2,6882,14775,20181107,1949,2.5005,-152.002,4639,3445.6,1.5102,34.6847,2,-999,9,20181107,2015,2.5007,-152.002,146.82,2,2.52,2,36.2,2,0,2,-999,9,-999,9,2.209,1,0.017,1,4.679,1,146.7,2
33RR20180918, GP15,27,11,16,GSNIS-17   ,2,6882,14775,20181107,1949,2.5005,-152.002,4639,3447.8,1.5107,34.6847,2,-999,9,20181107,2015,2.5007,-152.002,146.72,2,2.52,2,36.13,2,0,2,-999,9,-999,9,2.21,1,0.017,1,4.679,1,147.2,2
33RR20180918, GP15,27,11,17,GSNIS-18   ,2,6882,14774,20181107,1949,2.5005,-152.002,4639,3039.4,1.7156,34.6729,2,1.7155,2,20181107,2023,2.5007,-152.002,149.65,2,2.62,2,37.33,2,0,2,128.65,2,34.673,2,2.238,1,0.017,1,4.678,1,129,2
33RR20180918, GP15,27,11,18,GSNIS-19   ,2,6882,14774,20181107,1949,2.5005,-152.002,4639,3039.8,1.7156,34.673,2,-999,9,20181107,2023,2.5007,-152.002,149.75,2,2.62,2,37.35,2,0,2,-999,9,-999,9,2.239,1,0.017,1,4.679,1,128.7,2
33RR20180918, GP15,27,11,19,GSNIS-20   ,2,6882,14773,20181107,1949,2.5005,-152.002,4639,2834.6,1.7679,34.6693,2,1.7676,2,20181107,2028,2.5006,-152.002,147.89,2,2.63,2,37.48,2,0,2,126.97,2,34.6688,2,2.279,1,0.017,1,4.678,1,126.8,2
33RR20180918, GP15,27,11,20,GSNIS-21   ,2,6882,14773,20181107,1949,2.5005,-152.002,4639,2833.6,1.7678,34.6692,2,-999,9,20181107,2028,2.5006,-152.002,147.89,2,2.63,2,37.44,2,0,2,-999,9,-999,9,2.28,1,0.017,1,4.678,1,126.7,2
33RR20180918, GP15,27,11,21,GSNIS-22   ,2,6882,14773,20181107,1949,2.5005,-152.002,4639,2834.4,1.7677,34.6692,2,-999,9,20181107,2028,2.5006,-152.002,147.8,2,2.63,2,37.45,2,0,2,-999,9,-999,9,2.281,1,0.017,1,4.677,1,126.1,2
33RR20180918, GP15,27,11,22,GSNIS-23   ,2,6882,14773,20181107,1949,2.5005,-152.002,4639,2834.2,1.768,34.6693,2,-999,9,20181107,2028,2.5006,-152.002,147.31,2,2.64,2,37.42,2,0,2,-999,9,-999,9,2.282,1,0.017,1,4.677,1,126.5,2
33RR20180918, GP15,27,11,23,GSNIS-24   ,2,6882,14772,20181107,1949,2.5005,-152.002,4639,2629.7,1.8156,34.6667,2,1.8155,2,20181107,2033,2.5006,-152.002,148.48,2,2.66,2,37.74,2,0,2,121.8,2,34.6665,2,2.323,1,0.017,1,4.677,1,122.8,2
33RR20180918, GP15,27,11,24,GSNIS-25   ,2,6882,14772,20181107,1949,2.5005,-152.002,4639,2629.4,1.8156,34.6667,2,-999,9,20181107,2033,2.5006,-152.002,148.58,2,2.65,2,37.72,2,0,2,-999,9,-999,9,2.325,1,0.016,1,4.678,1,122.9,2
33RR20180918, GP15,27,11,25,GSNIS-26   ,2,6882,14771,20181107,1949,2.5005,-152.002,4639,2426.9,1.8851,34.6634,2,1.8854,2,20181107,2038,2.5006,-152.0019,150.14,2,2.7,2,38.2,2,0,2,114.76,2,34.6631,2,2.345,1,0.017,1,4.678,1,114.5,2
33RR20180918, GP15,27,11,26,GSNIS-27   ,2,6882,14771,20181107,1949,2.5005,-152.002,4639,2427.1,1.8852,34.6635,2,-999,9,20181107,2038,2.5006,-152.0019,150.34,2,2.69,2,38.17,2,0,2,-999,9,-999,9,2.345,1,0.017,1,4.678,1,114.7,2
33RR20180918, GP15,27,11,27,GSNIS-28   ,2,6882,14771,20181107,1949,2.5005,-152.002,4639,2427.5,1.8858,34.6634,2,-999,9,20181107,2038,2.5006,-152.002,150.14,2,2.69,2,38.2,2,0,2,-999,9,-999,9,2.344,1,0.017,1,4.678,1,114.8,2
33RR20180918, GP15,27,11,28,GSNIS-29   ,2,6882,14771,20181107,1949,2.5005,-152.002,4639,2426.7,1.8853,34.6636,2,1.8859,2,20181107,2038,2.5006,-152.002,150.05,2,2.7,2,38.22,2,0,2,-999,9,-999,9,2.345,1,0.017,1,4.678,1,114.9,2
33RR20180918, GP15,27,11,29,GSNIS-30   ,2,6882,14770,20181107,1949,2.5005,-152.002,4639,2223.8,2.0915,34.6511,2,2.0932,2,20181107,2043,2.5006,-152.002,145.16,2,2.75,2,38.71,2,0,2,107.93,2,34.6521,2,2.368,1,0.017,1,4.678,1,107.8,2
33RR20180918, GP15,27,11,30,GSNIS-31   ,2,6882,14770,20181107,1949,2.5005,-152.002,4639,2224.2,2.0933,34.6513,2,-999,9,20181107,2043,2.5006,-152.002,145.06,2,2.75,2,38.73,2,0,2,-999,9,-999,9,2.369,1,0.017,1,4.677,1,107.9,2
33RR20180918, GP15,27,11,31,GSNIS-32   ,2,6882,14769,20181107,1949,2.5005,-152.002,4639,2020,2.3464,34.6386,2,2.3468,2,20181107,2048,2.5006,-152.002,139.1,2,2.81,2,39.21,2,0,2,99.94,2,34.6392,2,2.402,1,0.017,1,4.676,1,99.9,2
33RR20180918, GP15,27,11,32,GSNIS-33   ,2,6882,14769,20181107,1949,2.5005,-152.002,4639,2020.9,2.3473,34.6387,2,-999,9,20181107,2048,2.5006,-152.002,139.1,2,2.81,2,39.21,2,0,2,-999,9,-999,9,2.4,1,0.018,1,4.676,1,99.9,2
33RR20180918, GP15,27,11,33,GSNIS-34   ,2,6882,14769,20181107,1949,2.5005,-152.002,4639,2019.6,2.3464,34.6387,2,-999,9,20181107,2048,2.5006,-152.002,139.2,2,2.8,2,39.19,2,0,2,-999,9,-999,9,2.4,1,0.017,1,4.676,1,100.3,2
33RR20180918, GP15,27,11,34,GSNIS-35   ,2,6882,14769,20181107,1949,2.5005,-152.002,4639,2021.1,2.3479,34.6386,2,-999,9,20181107,2048,2.5005,-152.002,139.3,2,2.8,2,39.16,2,0,2,-999,9,-999,9,2.4,1,0.017,1,4.676,1,100,2
33RR20180918, GP15,27,11,35,GSNIS-36   ,2,6882,14768,20181107,1949,2.5005,-152.002,4639,1816.9,2.532,34.6286,2,2.5323,2,20181107,2053,2.5006,-152.002,134.6,2,2.82,2,39.45,2,0,2,94.95,2,34.6295,2,2.446,1,0.017,1,4.676,1,95,2
33RR20180918, GP15,27,11,36,GSNIS-1    ,2,6882,14768,20181107,1949,2.5005,-152.002,4639,1816.5,2.5324,34.6285,2,-999,9,20181107,2053,2.5005,-152.002,134.51,2,2.82,2,39.42,2,0,2,-999,9,-999,9,2.447,1,0.017,1,4.676,1,94.8,2