BOTTLE,20191212SIOCCHAMB
EXPOCODE,SECT_ID,STNNBR,CASTNO,SAMPNO,BTLNBR,BTLNBR_FLAG_W,GEOTRC_EVENTNO,GEOTRC_SAMPNO,DATE,TIME,LATITUDE,LONGITUDE,DEPTH,CTDPRS,CTDTMP,CTDSAL,CTDSAL_FLAG_W,REFTMP,REFTMP_FLAG_W,BTL_DATE,BTL_TIME,BTL_LAT,BTL_LON,SILCAT,SILCAT_FLAG_W,PHSPHT,PHSPHT_FLAG_W,NITRAT,NITRAT_FLAG_W,NITRIT,NITRIT_FLAG_W,OXYGEN,OXYGEN_FLAG_W,SALNTY,SALNTY_FLAG_W,CTDRINKO,CTDRINKO_FLAG_W,CTDFLUOR,CTDFLUOR_FLAG_W,CTDXMISS,CTDXMISS_FLAG_W,CTDOXY,CTDOXY_FLAG_W
,,,,,,,,,,,,,METERS,DBAR,ITS-90,PSS-78,,ITS-90,,,,,,UMOL/KG,,UMOL/KG,,UMOL/KG,,UMOL/KG,,UMOL/KG,,PSS-78,,VOLTS,,VOLTS,,VOLTS,,UMOL/KG,
33RR20180918, GP15,20,3,1,GSNIS-2    ,2,6800,14100,20181029,814,14.2517,-152.0002,5887,1007,4.7424,34.5367,2,4.7383,2,20181029,814,14.2516,-152.0002,92.95,2,3.1,2,42.88,2,0,2,35.66,2,34.5394,2,3.13,1,0.018,1,4.679,1,35.9,2
33RR20180918, GP15,20,3,2,GSNIS-3    ,2,6800,14100,20181029,814,14.2517,-152.0002,5887,1007.2,4.741,34.5367,2,-999,9,20181029,815,14.2516,-152.0002,92.95,2,3.1,2,42.89,2,0,2,-999,9,-999,9,3.128,1,0.018,1,4.679,1,34.8,2
33RR20180918, GP15,20,3,3,GSNIS-4    ,2,6800,14100,20181029,814,14.2517,-152.0002,5887,1007.8,4.7354,34.537,2,-999,9,20181029,815,14.2516,-152.0002,92.95,2,3.09,2,42.82,2,0,2,-999,9,-999,9,3.126,1,0.018,1,4.679,1,35.1,2
33RR20180918, GP15,20,3,4,GSNIS-5    ,2,6800,14099,20181029,814,14.2517,-152.0002,5887,808.2,5.6929,34.5202,2,5.6942,2,20181029,819,14.2516,-152.0002,77.51,2,3.09,2,42.36,2,0,2,21.4,2,34.5213,2,3.046,1,0.018,1,4.678,1,20.7,2
33RR20180918, GP15,20,3,5,GSNIS-6    ,2,6800,14099,20181029,814,14.2517,-152.0002,5887,807.6,5.6949,34.5198,2,-999,9,20181029,820,14.2516,-152.0002,77.61,2,3.1,2,42.34,2,0,2,-999,9,-999,9,3.044,1,0.018,1,4.678,1,20.8,2
33RR20180918, GP15,20,3,6,GSNIS-7    ,2,6800,14098,20181029,814,14.2517,-152.0002,5887,606,7.1112,34.5341,2,7.1093,2,20181029,824,14.2516,-152.0002,58.55,2,2.96,2,39.23,2,0,2,16.78,2,34.5362,2,3.072,1,0.018,1,4.675,1,16.9,2
33RR20180918, GP15,20,3,7,GSNIS-8    ,2,6800,14098,20181029,814,14.2517,-152.0002,5887,605.8,7.1102,34.5341,2,-999,9,20181029,824,14.2516,-152.0002,59.13,2,2.96,2,39.27,2,0,2,-999,9,-999,9,3.073,1,0.018,1,4.675,1,17,2
33RR20180918, GP15,20,3,8,GSNIS-9    ,2,6800,14097,20181029,814,14.2517,-152.0002,5887,404.1,8.69,34.5814,2,8.6777,2,20181029,829,14.2516,-152.0002,43.1,2,2.7,2,36.28,2,0,2,16.76,2,34.5838,2,3.109,1,0.018,1,4.67,1,16.6,2
33RR20180918, GP15,20,3,9,GSNIS-10   ,2,6800,14097,20181029,814,14.2517,-152.0002,5887,403.6,8.6841,34.5817,2,-999,9,20181029,829,14.2516,-152.0002,42.91,2,2.7,2,36.21,2,0,2,-999,9,-999,9,3.109,1,0.018,1,4.67,1,16.7,2
33RR20180918, GP15,20,3,10,GSNIS-11   ,2,6800,14097,20181029,814,14.2517,-152.0002,5887,403.2,8.6777,34.5813,2,-999,9,20181029,829,14.2516,-152.0002,42.81,2,2.69,2,36.16,2,0,2,-999,9,-999,9,3.109,1,0.018,1,4.67,1,16.7,2
33RR20180918, GP15,20,3,11,GSNIS-12   ,2,6800,14096,20181029,814,14.2517,-152.0002,5887,303.2,9.496,34.5794,2,9.4933,2,20181029,832,14.2517,-152.0002,37.34,2,2.57,2,34.28,2,0,2,17.4,2,34.58,2,3.103,1,0.018,1,4.669,1,17.8,2
33RR20180918, GP15,20,3,12,GSNIS-13   ,2,6800,14096,20181029,814,14.2517,-152.0002,5887,302.5,9.493,34.5782,2,-999,9,20181029,832,14.2517,-152.0002,37.43,2,2.57,2,34.33,2,0,2,-999,9,-999,9,3.103,1,0.018,1,4.669,1,17.9,2
33RR20180918, GP15,20,3,13,GSNIS-14   ,2,6800,14096,20181029,814,14.2517,-152.0002,5887,302.2,9.4947,34.579,2,-999,9,20181029,833,14.2517,-152.0002,37.43,2,2.56,2,34.34,2,0,2,-999,9,-999,9,3.103,1,0.018,1,4.668,1,17.2,2
33RR20180918, GP15,20,3,14,GSNIS-15   ,2,6800,14095,20181029,814,14.2517,-152.0002,5887,241.9,10.2233,34.5779,2,10.2232,2,20181029,835,14.2516,-152.0002,33.72,2,2.49,2,32.11,2,0,2,16.55,2,34.5816,2,3.114,1,0.017,1,4.668,1,18.3,2
33RR20180918, GP15,20,3,15,GSNIS-16   ,2,6800,14095,20181029,814,14.2517,-152.0002,5887,241.4,10.2284,34.5793,2,-999,9,20181029,835,14.2516,-152.0002,33.62,2,2.49,2,32.09,2,0,2,-999,9,-999,9,3.114,1,0.017,1,4.668,1,17.9,2
33RR20180918, GP15,20,3,16,GSNIS-17   ,2,6800,14095,20181029,814,14.2517,-152.0002,5887,242.3,10.2218,34.5776,2,-999,9,20181029,835,14.2516,-152.0002,33.72,2,2.5,2,32.07,2,0,2,-999,9,-999,9,3.114,1,0.017,1,4.668,1,18.2,2
33RR20180918, GP15,20,3,17,GSNIS-18   ,2,6800,14094,20181029,814,14.2517,-152.0002,5887,181.3,10.8747,34.422,2,10.873,2,20181029,838,14.2516,-152.0002,28.35,2,2.22,2,26.91,2,0,2,51.42,2,34.4257,2,3.114,1,0.018,1,4.667,1,50.1,2
33RR20180918, GP15,20,3,18,GSNIS-19   ,2,6800,14094,20181029,814,14.2517,-152.0002,5887,181.6,10.8706,34.422,2,-999,9,20181029,838,14.2516,-152.0002,28.25,2,2.22,2,26.91,2,0,2,-999,9,-999,9,3.114,1,0.018,1,4.667,1,50.4,2
33RR20180918, GP15,20,3,19,GSNIS-20   ,2,6800,14094,20181029,814,14.2517,-152.0002,5887,181.8,10.8749,34.4229,2,-999,9,20181029,838,14.2516,-152.0002,28.25,2,2.21,2,26.89,2,0,2,-999,9,-999,9,3.114,1,0.018,1,4.667,1,50.2,2
33RR20180918, GP15,20,3,20,GSNIS-21   ,2,6800,14093,20181029,814,14.2517,-152.0002,5887,141,12.4637,34.2413,2,12.4718,2,20181029,840,14.2516,-152.0002,17.79,2,1.67,2,20.41,2,0.02,2,97.34,2,34.2377,2,2.971,1,0.026,1,4.659,1,97.8,2
33RR20180918, GP15,20,3,21,GSNIS-22   ,2,6800,14093,20181029,814,14.2517,-152.0002,5887,141.1,12.4826,34.2419,2,-999,9,20181029,840,14.2516,-152.0002,17.5,2,1.65,2,20.27,2,0.02,2,-999,9,-999,9,2.958,1,0.026,1,4.658,1,98,2
33RR20180918, GP15,20,3,22,GSNIS-23   ,2,6800,14093,20181029,814,14.2517,-152.0002,5887,141.5,12.4679,34.2511,2,-999,9,20181029,840,14.2516,-152.0002,17.3,2,1.64,2,20.27,2,0.02,2,-999,9,-999,9,2.945,1,0.026,1,4.658,1,97.7,2
33RR20180918, GP15,20,3,23,GSNIS-24   ,2,6800,14092,20181029,814,14.2517,-152.0002,5887,101,18.6851,34.7401,2,18.631,3,20181029,843,14.2517,-152.0002,2.15,2,0.28,2,2.79,2,0.18,2,188.69,2,34.7457,3,2.27,1,0.031,1,4.648,1,189.1,2
33RR20180918, GP15,20,3,24,GSNIS-25   ,2,6800,14092,20181029,814,14.2517,-152.0002,5887,100.3,18.6368,34.732,2,-999,9,20181029,843,14.2517,-152.0002,2.15,2,0.27,2,2.74,2,0.18,2,-999,9,-999,9,2.24,1,0.035,1,4.648,1,181.7,2
33RR20180918, GP15,20,3,25,GSNIS-26   ,2,6800,14092,20181029,814,14.2517,-152.0002,5887,100.6,18.6636,34.7392,2,-999,9,20181029,843,14.2517,-152.0002,1.86,2,0.28,2,2.76,2,0.18,2,-999,9,-999,9,2.213,1,0.033,1,4.648,1,181.6,2
33RR20180918, GP15,20,3,26,GSNIS-27   ,2,6800,14091,20181029,814,14.2517,-152.0002,5887,76.2,21.6536,34.9857,2,21.6368,2,20181029,845,14.2517,-152.0002,0.68,2,0.08,2,0,2,0,2,208.46,2,34.9909,3,1.918,1,0.041,1,4.63,1,206.7,2
33RR20180918, GP15,20,3,27,GSNIS-28   ,2,6800,14091,20181029,814,14.2517,-152.0002,5887,76.6,21.6234,34.9848,2,-999,9,20181029,845,14.2517,-152.0002,0.68,2,0.09,2,0,2,0,2,-999,9,-999,9,1.906,1,0.039,1,4.631,1,210.3,2
33RR20180918, GP15,20,3,28,GSNIS-29   ,2,6800,14091,20181029,814,14.2517,-152.0002,5887,76,21.6353,34.9843,2,-999,9,20181029,845,14.2517,-152.0002,0.68,2,0.08,2,0,2,0,2,-999,9,-999,9,1.899,1,0.04,1,4.631,1,210.4,2
33RR20180918, GP15,20,3,29,GSNIS-30   ,2,6800,14090,20181029,814,14.2517,-152.0002,5887,51.1,23.8883,34.6823,3,23.8864,2,20181029,847,14.2517,-152.0002,0.78,2,0.13,2,0,2,0,2,217.28,2,34.6223,3,1.999,1,0.025,1,4.629,1,218.9,2
33RR20180918, GP15,20,3,30,GSNIS-31   ,2,6800,14090,20181029,814,14.2517,-152.0002,5887,51.3,23.9054,34.7056,2,-999,9,20181029,847,14.2517,-152.0002,0.78,2,0.13,2,0,2,0,2,-999,9,-999,9,1.978,1,0.025,1,4.63,1,218,2
33RR20180918, GP15,20,3,31,GSNIS-32   ,2,6800,14090,20181029,814,14.2517,-152.0002,5887,50.8,23.8615,34.6456,2,-999,9,20181029,847,14.2517,-152.0002,0.49,2,0.16,2,0,2,0,2,-999,9,-999,9,1.963,1,0.025,1,4.628,1,217.2,2
33RR20180918, GP15,20,3,32,GSNIS-33   ,2,6800,14089,20181029,814,14.2517,-152.0002,5887,26.4,28.1746,33.8512,2,28.1723,2,20181029,850,14.2516,-152.0002,0,2,0.1,2,0,2,0,2,198.71,2,33.8549,2,1.529,1,0.018,1,4.637,1,195.5,2
33RR20180918, GP15,20,3,33,GSNIS-34   ,2,6800,14089,20181029,814,14.2517,-152.0002,5887,26,28.172,33.8513,2,-999,9,20181029,850,14.2516,-152.0002,0.1,2,0.1,2,0,2,0,2,-999,9,-999,9,1.524,1,0.018,1,4.637,1,194.9,2
33RR20180918, GP15,20,3,34,GSNIS-35   ,2,6800,14089,20181029,814,14.2517,-152.0002,5887,26.6,28.1758,33.852,2,-999,9,20181029,850,14.2516,-152.0002,0.1,2,0.11,2,0,2,0,2,-999,9,-999,9,1.514,1,0.018,1,4.637,1,194.9,2
33RR20180918, GP15,20,3,35,GSNIS-36   ,2,6800,14088,20181029,814,14.2517,-152.0002,5887,2.9,28.1681,33.8509,2,28.1681,2,20181029,852,14.2517,-152.0002,0.1,2,0.1,2,0,2,0,2,198.54,2,33.8527,2,1.32,1,0.018,1,4.62,1,194.9,2
33RR20180918, GP15,20,3,36,GSNIS-1    ,2,6800,14088,20181029,814,14.2517,-152.0002,5887,2.9,28.1691,33.8509,2,-999,9,20181029,852,14.2517,-152.0002,0.2,2,0.11,2,0,2,0,2,-999,9,-999,9,1.318,1,0.018,1,4.636,1,194.9,2
33RR20180918, GP15,21,3,1,GSNIS-2    ,2,6811,14174,20181030,451,10.9999,-152.0004,5477,403.1,8.8506,34.608,2,8.856,2,20181030,451,10.9999,-152.0004,42.12,2,2.73,2,36.28,2,0,2,12.23,2,34.6097,2,3.169,1,0.018,1,4.662,1,11.9,2
33RR20180918, GP15,21,3,2,GSNIS-3    ,2,6811,14174,20181030,451,10.9999,-152.0004,5477,402.5,8.8553,34.6079,2,-999,9,20181030,451,10.9999,-152.0004,42.21,2,2.73,2,36.29,2,0,2,-999,9,-999,9,3.17,1,0.018,1,4.661,1,12,2
33RR20180918, GP15,21,3,3,GSNIS-4    ,2,6811,14174,20181030,451,10.9999,-152.0004,5477,402.3,8.8554,34.6079,2,-999,9,20181030,451,10.9999,-152.0004,42.31,2,2.74,2,36.26,2,0,2,-999,9,-999,9,3.171,1,0.018,1,4.662,1,12,2
33RR20180918, GP15,21,3,4,GSNIS-5    ,2,6811,14173,20181030,451,10.9999,-152.0004,5477,251.6,10.2166,34.6877,2,10.2169,2,20181030,457,10.9999,-152.0005,33.12,2,2.56,2,35.17,2,0,2,7.09,2,34.6897,2,3.19,1,0.018,1,4.66,1,7,2
33RR20180918, GP15,21,3,5,GSNIS-6    ,2,6811,14173,20181030,451,10.9999,-152.0004,5477,252,10.2138,34.6877,2,-999,9,20181030,457,10.9999,-152.0005,33.03,2,2.56,2,35.17,2,0,2,-999,9,-999,9,3.19,1,0.018,1,4.661,1,7.7,2
33RR20180918, GP15,21,3,6,GSNIS-7    ,2,6811,14173,20181030,451,10.9999,-152.0004,5477,251.3,10.2265,34.6884,2,-999,9,20181030,457,10.9999,-152.0005,33.03,2,2.55,2,35.14,2,0,2,-999,9,-999,9,3.191,1,0.018,1,4.661,1,7.7,2
33RR20180918, GP15,21,3,7,GSNIS-8    ,2,6811,14172,20181030,451,10.9999,-152.0004,5477,252.8,10.2152,34.6881,2,10.2286,2,20181030,457,10.9999,-152.0004,33.03,2,2.56,2,35.13,2,0,2,6.91,2,34.6897,2,3.194,1,0.018,1,4.66,1,7.5,2
33RR20180918, GP15,21,3,8,GSNIS-9    ,2,6811,14172,20181030,451,10.9999,-152.0004,5477,251.7,10.2343,34.6886,2,-999,9,20181030,458,10.9999,-152.0004,33.03,2,2.56,2,35.14,2,0,2,-999,9,-999,9,3.195,1,0.018,1,4.66,1,7.7,2
33RR20180918, GP15,21,3,9,GSNIS-10   ,2,6811,14172,20181030,451,10.9999,-152.0004,5477,251.7,10.2356,34.6886,2,10.2299,2,20181030,458,10.9999,-152.0004,33.03,2,2.56,2,35.14,2,0,2,-999,9,-999,9,3.197,1,0.018,1,4.66,1,7.1,2
33RR20180918, GP15,21,3,10,GSNIS-11   ,2,6811,14171,20181030,451,10.9999,-152.0004,5477,201.8,10.746,34.7108,2,10.7564,2,20181030,500,10.9999,-152.0004,30.97,2,2.52,2,34.71,2,0,2,4.4,2,34.7117,2,3.215,1,0.018,1,4.662,1,5.2,2
33RR20180918, GP15,21,3,11,GSNIS-12   ,2,6811,14171,20181030,451,10.9999,-152.0004,5477,200.3,10.7593,34.711,2,-999,9,20181030,500,10.9999,-152.0004,30.78,2,2.52,2,34.66,2,0,2,-999,9,-999,9,3.216,1,0.018,1,4.662,1,5.4,2
33RR20180918, GP15,21,3,12,GSNIS-13   ,2,6811,14171,20181030,451,10.9999,-152.0004,5477,201.5,10.7552,34.711,2,-999,9,20181030,500,10.9999,-152.0004,30.78,2,2.52,2,34.71,2,0,2,-999,9,-999,9,3.217,1,0.018,1,4.662,1,5.4,2
33RR20180918, GP15,21,3,13,GSNIS-14   ,2,6811,14170,20181030,451,10.9999,-152.0004,5477,175.9,11.1639,34.7226,2,11.1635,2,20181030,502,10.9999,-152.0004,29.41,2,2.5,2,34.35,2,0,2,3.04,2,34.7239,2,3.258,1,0.018,1,4.665,1,4.5,2
33RR20180918, GP15,21,3,14,GSNIS-15   ,2,6811,14170,20181030,451,10.9999,-152.0004,5477,175.9,11.1647,34.7223,2,-999,9,20181030,502,10.9999,-152.0004,29.41,2,2.51,2,34.35,2,0,2,-999,9,-999,9,3.26,1,0.017,1,4.665,1,4.2,2
33RR20180918, GP15,21,3,15,GSNIS-16   ,2,6811,14170,20181030,451,10.9999,-152.0004,5477,176,11.1616,34.7221,2,-999,9,20181030,502,10.9999,-152.0004,29.51,2,2.5,2,34.34,2,0,2,-999,9,-999,9,3.26,1,0.018,1,4.665,1,4.2,2
33RR20180918, GP15,21,3,16,GSNIS-17   ,2,6811,14169,20181030,451,10.9999,-152.0004,5477,150.7,11.4309,34.7261,2,11.4261,2,20181030,504,10.9999,-152.0004,28.73,2,2.5,2,33.9,2,0,2,2.3,2,34.7268,2,3.295,1,0.018,1,4.664,1,4.1,2
33RR20180918, GP15,21,3,17,GSNIS-18   ,2,6811,14169,20181030,451,10.9999,-152.0004,5477,151,11.4322,34.726,2,-999,9,20181030,504,10.9999,-152.0004,28.63,2,2.49,2,33.84,2,0,2,-999,9,-999,9,3.297,1,0.018,1,4.663,1,4.1,2
33RR20180918, GP15,21,3,18,GSNIS-19   ,2,6811,14169,20181030,451,10.9999,-152.0004,5477,151.2,11.4205,34.7263,2,-999,9,20181030,504,10.9999,-152.0004,28.53,2,2.5,2,33.89,2,0,2,-999,9,-999,9,3.299,1,0.018,1,4.664,1,3.9,2
33RR20180918, GP15,21,3,19,GSNIS-20   ,2,6811,14168,20181030,451,10.9999,-152.0004,5477,125.2,11.8253,34.7053,2,11.826,2,20181030,505,10.9999,-152.0005,27.55,2,2.49,2,32.67,2,0.02,2,3.27,2,34.703,2,3.323,1,0.023,1,4.663,1,6.1,3
33RR20180918, GP15,21,3,20,GSNIS-21   ,2,6811,14168,20181030,451,10.9999,-152.0004,5477,126.8,11.8246,34.7059,2,-999,9,20181030,505,10.9999,-152.0005,27.46,2,2.49,2,32.67,2,0.02,2,-999,9,-999,9,3.324,1,0.024,1,4.661,1,6.9,3
33RR20180918, GP15,21,3,21,GSNIS-22   ,2,6811,14168,20181030,451,10.9999,-152.0004,5477,125.2,11.8267,34.7056,2,-999,9,20181030,506,10.9999,-152.0005,27.46,2,2.49,2,32.65,2,0.02,2,-999,9,-999,9,3.326,1,0.023,1,4.662,1,6.9,3
33RR20180918, GP15,21,3,22,GSNIS-23   ,2,6811,14167,20181030,451,10.9999,-152.0004,5477,100,12.49,34.4927,2,12.486,2,20181030,507,10.9999,-152.0005,23.45,2,2.22,2,27.49,2,0.07,2,34.65,2,34.4997,2,3.339,1,0.03,1,4.655,1,37,3
33RR20180918, GP15,21,3,23,GSNIS-24   ,2,6811,14167,20181030,451,10.9999,-152.0004,5477,101.2,12.4827,34.4962,2,-999,9,20181030,507,10.9999,-152.0005,23.26,2,2.2,2,27.32,2,0.07,2,-999,9,-999,9,3.34,1,0.029,1,4.656,1,37,3
33RR20180918, GP15,21,3,24,GSNIS-25   ,2,6811,14167,20181030,451,10.9999,-152.0004,5477,101.1,12.4883,34.4945,2,-999,9,20181030,508,10.9999,-152.0005,23.26,2,2.2,2,27.38,2,0.07,2,-999,9,-999,9,3.339,1,0.031,1,4.655,1,46.8,3
33RR20180918, GP15,21,3,25,GSNIS-26   ,2,6811,14166,20181030,451,10.9999,-152.0004,5477,80.8,13.7384,34.3082,3,13.6928,3,20181030,509,10.9999,-152.0005,15.83,2,1.68,2,19.9,2,0.22,2,83.73,2,34.317,3,3.101,1,0.04,1,4.64,1,89.9,3
33RR20180918, GP15,21,3,26,GSNIS-27   ,2,6811,14166,20181030,451,10.9999,-152.0004,5477,80.7,13.7385,34.312,2,-999,9,20181030,509,10.9999,-152.0005,15.83,2,1.68,2,19.99,2,0.22,2,-999,9,-999,9,3.076,1,0.038,1,4.639,1,95.1,3
33RR20180918, GP15,21,3,27,GSNIS-28   ,2,6811,14166,20181030,451,10.9999,-152.0004,5477,81,13.6326,34.3156,2,-999,9,20181030,509,10.9999,-152.0005,15.93,2,1.71,2,20.01,2,0.22,2,-999,9,-999,9,3.062,1,0.039,1,4.639,1,94.3,3
33RR20180918, GP15,21,3,28,GSNIS-29   ,2,6811,14165,20181030,451,10.9999,-152.0004,5477,60.8,16.9303,34.453,2,16.9318,2,20181030,511,11,-152.0005,6.74,2,0.83,2,8.79,2,0.22,2,152.2,2,34.4559,2,2.733,1,0.049,1,4.618,1,156.7,3
33RR20180918, GP15,21,3,29,GSNIS-30   ,2,6811,14165,20181030,451,10.9999,-152.0004,5477,60.6,16.9325,34.4538,2,-999,9,20181030,511,11,-152.0005,6.74,2,0.82,2,8.78,2,0.22,2,-999,9,-999,9,2.711,1,0.048,1,4.619,1,168.9,3
33RR20180918, GP15,21,3,30,GSNIS-31   ,2,6811,14165,20181030,451,10.9999,-152.0004,5477,60,16.9352,34.4541,2,-999,9,20181030,511,11,-152.0005,6.65,2,0.82,2,8.75,2,0.21,2,-999,9,-999,9,2.688,1,0.05,1,4.62,1,168.3,3
33RR20180918, GP15,21,3,31,GSNIS-32   ,2,6811,14164,20181030,451,10.9999,-152.0004,5477,45.4,19.9312,34.5656,3,19.8711,3,20181030,513,10.9999,-152.0004,2.93,2,0.41,2,1.59,2,0.06,2,189.17,2,34.5643,3,2.023,1,0.059,1,4.596,1,194.2,3
33RR20180918, GP15,21,3,32,GSNIS-33   ,2,6811,14164,20181030,451,10.9999,-152.0004,5477,45.6,19.9728,34.5632,2,-999,9,20181030,513,10.9999,-152.0004,2.74,2,0.39,2,1.3,2,0.05,2,-999,9,-999,9,1.983,1,0.059,1,4.596,1,196.4,3
33RR20180918, GP15,21,3,33,GSNIS-34   ,2,6811,14164,20181030,451,10.9999,-152.0004,5477,45.4,20.0162,34.5691,2,-999,9,20181030,513,10.9999,-152.0004,2.05,2,0.38,2,0.87,2,0.04,2,-999,9,-999,9,1.947,1,0.056,1,4.595,1,196.4,3
33RR20180918, GP15,21,3,34,GSNIS-35   ,2,6811,14163,20181030,451,10.9999,-152.0004,5477,20.7,28.9394,33.5316,2,28.9388,2,20181030,515,10.9999,-152.0004,0,2,0.08,2,0,2,0,2,197.13,2,33.5342,2,1.405,1,0.019,1,4.63,1,196.2,2
33RR20180918, GP15,21,3,35,GSNIS-36   ,2,6811,14163,20181030,451,10.9999,-152.0004,5477,20.8,28.9406,33.5267,2,-999,9,20181030,515,10.9999,-152.0004,0,2,0.09,2,0,2,0,2,-999,9,-999,9,1.399,1,0.02,1,4.631,1,196.4,2
33RR20180918, GP15,21,3,36,GSNIS-1    ,2,6811,14163,20181030,451,10.9999,-152.0004,5477,20.4,28.9387,33.5334,2,-999,9,20181030,515,10.9999,-152.0004,0,2,0.09,2,0,2,0,2,-999,9,-999,9,1.391,1,0.019,1,4.63,1,196.3,2