BOTTLE,20191212SIOCCHAMB
EXPOCODE,SECT_ID,STNNBR,CASTNO,SAMPNO,BTLNBR,BTLNBR_FLAG_W,GEOTRC_EVENTNO,GEOTRC_SAMPNO,DATE,TIME,LATITUDE,LONGITUDE,DEPTH,CTDPRS,CTDTMP,CTDSAL,CTDSAL_FLAG_W,REFTMP,REFTMP_FLAG_W,BTL_DATE,BTL_TIME,BTL_LAT,BTL_LON,SILCAT,SILCAT_FLAG_W,PHSPHT,PHSPHT_FLAG_W,NITRAT,NITRAT_FLAG_W,NITRIT,NITRIT_FLAG_W,OXYGEN,OXYGEN_FLAG_W,SALNTY,SALNTY_FLAG_W,CTDRINKO,CTDRINKO_FLAG_W,CTDFLUOR,CTDFLUOR_FLAG_W,CTDXMISS,CTDXMISS_FLAG_W,CTDOXY,CTDOXY_FLAG_W
,,,,,,,,,,,,,METERS,DBAR,ITS-90,PSS-78,,ITS-90,,,,,,UMOL/KG,,UMOL/KG,,UMOL/KG,,UMOL/KG,,UMOL/KG,,PSS-78,,VOLTS,,VOLTS,,VOLTS,,UMOL/KG,
33RR20180918, GP15,19,2,1,GSNIS-2    ,2,6781,13962,20181026,2034,17.5,-152.0003,5222,554.8,6.1616,34.3564,2,6.158,2,20181026,2034,17.5,-152.0003,71.07,2,2.88,2,38.82,2,0,2,29.63,2,34.3725,2,2.932,1,0.018,1,4.682,1,32,2
33RR20180918, GP15,19,2,2,GSNIS-3    ,2,6781,13962,20181026,2034,17.5,-152.0003,5222,553.4,6.1578,34.3593,2,-999,9,20181026,2034,17.5,-152.0003,70.88,2,2.9,2,38.98,2,0,2,-999,9,-999,9,2.934,1,0.018,1,4.682,1,32.1,2
33RR20180918, GP15,19,2,3,GSNIS-4    ,2,6781,13962,20181026,2034,17.5,-152.0003,5222,553.5,6.1588,34.3594,2,-999,9,20181026,2034,17.5,-152.0003,71.08,2,2.9,2,39.12,2,0,2,-999,9,-999,9,2.936,1,0.017,1,4.682,1,31.5,2
33RR20180918, GP15,19,2,4,GSNIS-5    ,2,6781,13961,20181026,2034,17.5,-152.0003,5222,402.9,7.3881,34.1573,2,7.3835,2,20181026,2038,17.5,-152.0003,50.65,2,2.45,2,32.85,2,0,2,70.22,2,34.1624,2,2.917,1,0.017,1,4.681,1,78.6,3
33RR20180918, GP15,19,2,5,GSNIS-6    ,2,6781,13961,20181026,2034,17.5,-152.0003,5222,402,7.383,34.1577,2,-999,9,20181026,2038,17.5,-152.0003,50.75,2,2.45,2,32.8,2,0,2,-999,9,-999,9,2.905,1,0.017,1,4.68,1,78.3,3
33RR20180918, GP15,19,2,6,GSNIS-7    ,2,6781,13961,20181026,2034,17.5,-152.0003,5222,401.9,7.3866,34.1572,2,-999,9,20181026,2038,17.5,-152.0003,50.55,2,2.44,2,32.77,2,0,2,-999,9,-999,9,2.892,1,0.018,1,4.681,1,78.3,3
33RR20180918, GP15,19,2,7,GSNIS-8    ,2,6781,13960,20181026,2034,17.5,-152.0003,5222,352,8.1796,34.0686,2,8.1814,2,20181026,2040,17.5,-152.0003,36.57,2,1.95,2,26.68,2,0,2,127.65,2,34.0721,2,2.662,1,0.017,1,4.681,1,125.9,2
33RR20180918, GP15,19,2,8,GSNIS-9    ,2,6781,13960,20181026,2034,17.5,-152.0003,5222,351.3,8.1843,34.0684,2,-999,9,20181026,2040,17.5,-152.0003,36.77,2,1.94,2,26.68,2,0,2,-999,9,-999,9,2.65,1,0.017,1,4.681,1,134.6,2
33RR20180918, GP15,19,2,9,GSNIS-10   ,2,6781,13960,20181026,2034,17.5,-152.0003,5222,351.4,8.1837,34.0687,2,-999,9,20181026,2040,17.5,-152.0003,36.57,2,1.93,2,26.6,2,0,2,-999,9,-999,9,2.638,1,0.017,1,4.681,1,134.6,2
33RR20180918, GP15,19,2,10,GSNIS-11   ,2,6781,13959,20181026,2034,17.5,-152.0003,5222,301.3,9.7743,34.0761,2,9.78,2,20181026,2043,17.5,-152.0003,21.51,2,1.37,2,19.06,2,0,2,177.17,2,34.0813,2,2.217,1,0.017,1,4.681,1,171.9,3
33RR20180918, GP15,19,2,11,GSNIS-12   ,2,6781,13959,20181026,2034,17.5,-152.0003,5222,301.6,9.7695,34.076,2,-999,9,20181026,2043,17.5,-152.0003,21.42,2,1.38,2,18.89,2,0,2,-999,9,-999,9,2.206,1,0.017,1,4.681,1,169.9,3
33RR20180918, GP15,19,2,12,GSNIS-13   ,2,6781,13959,20181026,2034,17.5,-152.0003,5222,300.8,9.7697,34.077,2,-999,9,20181026,2043,17.5,-152.0003,21.32,2,1.37,2,18.87,2,0,2,-999,9,-999,9,2.195,1,0.016,1,4.68,1,169.7,3
33RR20180918, GP15,19,2,13,GSNIS-14   ,2,6781,13958,20181026,2034,17.5,-152.0003,5222,260.1,11.4659,34.1642,2,11.4545,2,20181026,2045,17.5,-152.0003,18.97,2,1.53,2,18.83,2,0,2,135.04,2,34.1683,2,1.925,1,0.016,1,4.679,1,143.4,3
33RR20180918, GP15,19,2,14,GSNIS-15   ,2,6781,13958,20181026,2034,17.5,-152.0003,5222,261.1,11.4571,34.1631,2,-999,9,20181026,2045,17.5,-152.0003,18.87,2,1.54,2,18.76,2,0,2,-999,9,-999,9,1.919,1,0.017,1,4.679,1,152.1,3
33RR20180918, GP15,19,2,15,GSNIS-16   ,2,6781,13958,20181026,2034,17.5,-152.0003,5222,260.6,11.4524,34.1637,2,-999,9,20181026,2045,17.5,-152.0003,18.87,2,1.53,2,18.75,2,0,2,-999,9,-999,9,1.91,1,0.017,1,4.678,1,151.9,3
33RR20180918, GP15,19,2,16,GSNIS-17   ,2,6781,13957,20181026,2034,17.5,-152.0003,5222,210.5,14.2936,34.3564,2,14.3003,2,20181026,2047,17.5,-152.0003,6.84,2,0.61,2,7.93,2,0,2,196.09,2,34.3625,2,1.813,1,0.016,1,4.677,1,189.5,3
33RR20180918, GP15,19,2,17,GSNIS-18   ,2,6781,13957,20181026,2034,17.5,-152.0003,5222,210.9,14.2929,34.3564,2,-999,9,20181026,2047,17.5,-152.0003,6.65,2,0.6,2,7.85,2,0,2,-999,9,-999,9,1.811,1,0.016,1,4.678,1,182.8,3
33RR20180918, GP15,19,2,18,GSNIS-19   ,2,6781,13957,20181026,2034,17.5,-152.0003,5222,210,14.3101,34.3586,2,-999,9,20181026,2047,17.5,-152.0003,6.65,2,0.6,2,7.83,2,0,2,-999,9,-999,9,1.81,1,0.017,1,4.677,1,182.5,3
33RR20180918, GP15,19,2,19,GSNIS-20   ,2,6781,13956,20181026,2034,17.5,-152.0003,5222,159.5,18.6807,34.819,2,18.6783,3,20181026,2049,17.5,-152.0003,2.93,2,0.33,2,3.74,2,0.02,2,-999,1,34.8408,3,1.67,1,0.019,1,4.67,1,182.7,3
33RR20180918, GP15,19,2,20,GSNIS-21   ,2,6781,13956,20181026,2034,17.5,-152.0003,5222,160.6,18.692,34.8203,2,-999,9,20181026,2049,17.5,-152.0003,2.64,2,0.33,2,3.69,2,0.02,2,-999,9,-999,9,1.673,1,0.02,1,4.67,1,182.8,3
33RR20180918, GP15,19,2,21,GSNIS-22   ,2,6781,13956,20181026,2034,17.5,-152.0003,5222,159.7,18.6756,34.8202,2,-999,9,20181026,2049,17.5,-152.0003,2.54,2,0.32,2,3.66,2,0.02,2,-999,9,-999,9,1.672,1,0.019,1,4.669,1,182.6,3
33RR20180918, GP15,19,2,22,GSNIS-23   ,2,6781,13955,20181026,2034,17.5,-152.0003,5222,120.7,21.5331,35.0466,2,21.5326,2,20181026,2051,17.5,-152.0003,1.37,2,0.15,2,0.72,2,0.06,2,194.63,2,35.0531,2,1.708,1,0.036,1,4.646,1,194.7,2
33RR20180918, GP15,19,2,23,GSNIS-24   ,2,6781,13955,20181026,2034,17.5,-152.0003,5222,119.4,21.5323,35.0473,2,-999,9,20181026,2051,17.5,-152.0003,1.17,2,0.15,2,0.68,2,0.07,2,-999,9,-999,9,1.711,1,0.036,1,4.645,1,194.5,2
33RR20180918, GP15,19,2,24,GSNIS-25   ,2,6781,13955,20181026,2034,17.5,-152.0003,5222,120.3,21.5293,35.0472,2,-999,9,20181026,2052,17.5,-152.0003,1.07,2,0.14,2,0.67,2,0.06,2,-999,9,-999,9,1.715,1,0.034,1,4.646,1,194.4,2
33RR20180918, GP15,19,2,25,GSNIS-26   ,2,6781,13954,20181026,2034,17.5,-152.0003,5222,110.6,22.0674,35.0656,2,22.0758,2,20181026,2053,17.5,-152.0003,0.98,2,0.08,2,0.09,2,0.05,2,203.27,2,35.0703,2,1.811,1,0.042,1,4.64,1,203.4,2
33RR20180918, GP15,19,2,26,GSNIS-27   ,2,6781,13954,20181026,2034,17.5,-152.0003,5222,109.1,22.0604,35.0637,2,-999,9,20181026,2053,17.5,-152.0003,0.88,2,0.09,2,0.08,2,0.05,2,-999,9,-999,9,1.818,1,0.037,1,4.64,1,203.4,2
33RR20180918, GP15,19,2,27,GSNIS-28   ,2,6781,13954,20181026,2034,17.5,-152.0003,5222,110.6,22.0871,35.0656,2,-999,9,20181026,2053,17.5,-152.0003,0.88,2,0.09,2,0.06,2,0.05,2,-999,9,-999,9,1.824,1,0.039,1,4.64,1,203.6,2
33RR20180918, GP15,19,2,28,GSNIS-29   ,2,6781,13953,20181026,2034,17.5,-152.0003,5222,79.5,24.0118,34.8767,2,24.0405,3,20181026,2055,17.5,-152.0003,0.88,2,0.06,2,0.03,2,0,2,221.38,2,34.8973,3,1.811,1,0.022,1,4.637,1,222.1,2
33RR20180918, GP15,19,2,29,GSNIS-30   ,2,6781,13953,20181026,2034,17.5,-152.0003,5222,79.5,24.0282,34.8745,2,-999,9,20181026,2055,17.5,-152.0003,0.78,2,0.05,2,0.03,2,0,2,-999,9,-999,9,1.804,1,0.022,1,4.638,1,222.2,2
33RR20180918, GP15,19,2,30,GSNIS-31   ,2,6781,13953,20181026,2034,17.5,-152.0003,5222,80.1,24.033,34.8742,2,-999,9,20181026,2056,17.5,-152.0003,0.68,2,0.06,2,0.02,2,0,2,-999,9,-999,9,1.794,1,0.022,1,4.637,1,222.1,2
33RR20180918, GP15,19,2,31,GSNIS-32   ,2,6781,13952,20181026,2034,17.5,-152.0003,5222,55.8,26.9311,34.6299,2,26.9652,2,20181026,2057,17.5,-152.0003,0.68,2,0.06,2,0.02,2,0,2,212.07,2,34.6366,3,1.638,1,0.02,1,4.625,1,211.3,2
33RR20180918, GP15,19,2,32,GSNIS-33   ,2,6781,13952,20181026,2034,17.5,-152.0003,5222,55.7,26.9421,34.6254,2,-999,9,20181026,2058,17.5,-152.0003,0.59,2,0.06,2,0.01,2,0,2,-999,9,-999,9,1.628,1,0.019,1,4.625,1,210.5,2
33RR20180918, GP15,19,2,33,GSNIS-34   ,2,6781,13952,20181026,2034,17.5,-152.0003,5222,55.6,27.0394,34.6261,2,-999,9,20181026,2058,17.5,-152.0003,0.49,2,0.06,2,0.01,2,0,2,-999,9,-999,9,1.619,1,0.019,1,4.627,1,210.6,2
33RR20180918, GP15,19,2,34,GSNIS-35   ,2,6781,13951,20181026,2034,17.5,-152.0003,5222,25.4,27.9378,34.3282,2,27.9379,2,20181026,2100,17.5,-152.0003,0.59,2,0.11,2,0.01,2,0,2,199.73,2,34.3327,2,1.282,1,0.017,1,4.641,1,198.6,2
33RR20180918, GP15,19,2,35,GSNIS-36   ,2,6781,13951,20181026,2034,17.5,-152.0003,5222,25.6,27.9394,34.3283,2,-999,9,20181026,2100,17.5,-152.0003,0.49,2,0.1,2,0,2,0,2,-999,9,-999,9,1.282,1,0.017,1,4.641,1,199.6,2
33RR20180918, GP15,19,2,36,GSNIS-1    ,2,6781,13951,20181026,2034,17.5,-152.0003,5222,25,27.9382,34.3284,2,-999,9,20181026,2100,17.5,-152.0003,0.39,2,0.1,2,0,2,0,2,-999,9,-999,9,1.283,1,0.017,1,4.641,1,199.4,2
33RR20180918, GP15,19,4,1,GSNIS-2    ,2,6785,14001,20181027,413,17.5,-152.0003,5222,1083.2,3.8547,34.5307,2,3.8526,2,20181027,413,17.5,-152.0003,113.1,2,3.06,2,42.63,2,0,2,45.28,2,34.5341,2,2.804,1,0.018,1,4.685,1,45.4,2
33RR20180918, GP15,19,4,2,GSNIS-3    ,2,6785,14001,20181027,413,17.5,-152.0003,5222,1084.4,3.8508,34.5309,2,-999,9,20181027,413,17.5,-152.0003,113.3,2,3.06,2,42.64,2,0,2,-999,9,-999,9,2.8,1,0.018,1,4.685,1,45.1,2
33RR20180918, GP15,19,4,3,GSNIS-4    ,2,6785,14001,20181027,413,17.5,-152.0003,5222,1083.3,3.8537,34.5308,2,-999,9,20181027,413,17.5,-152.0003,113.49,2,3.06,2,42.7,2,0,2,-999,9,-999,9,2.795,1,0.018,1,4.685,1,45.2,2
33RR20180918, GP15,19,4,4,GSNIS-5    ,2,6785,14000,20181027,413,17.5,-152.0003,5222,806.4,4.9615,34.4722,2,4.9592,2,20181027,419,17.5,-152.0003,91.11,2,3.02,2,41.86,2,0,2,36.2,2,34.4763,2,2.715,1,0.018,1,4.684,1,34.3,2
33RR20180918, GP15,19,4,5,GSNIS-6    ,2,6785,14000,20181027,413,17.5,-152.0003,5222,805.4,4.9503,34.4727,2,-999,9,20181027,419,17.5,-152.0003,90.72,2,3.02,2,41.8,2,0,2,-999,9,-999,9,2.716,1,0.018,1,4.684,1,36.4,2
33RR20180918, GP15,19,4,6,GSNIS-7    ,2,6785,14000,20181027,413,17.5,-152.0003,5222,807.3,4.9661,34.472,2,-999,9,20181027,419,17.5,-152.0003,90.72,2,3.02,2,41.74,2,0,2,-999,9,-999,9,2.716,1,0.018,1,4.684,1,36.7,2
33RR20180918, GP15,19,4,7,GSNIS-8    ,2,6785,13999,20181027,413,17.5,-152.0003,5222,680.7,5.535,34.4259,2,5.5345,2,20181027,423,17.5,-152.0003,80.65,2,2.97,2,40.8,2,0,2,31.81,2,34.4296,2,2.756,1,0.018,1,4.683,1,32.7,2
33RR20180918, GP15,19,4,8,GSNIS-9    ,2,6785,13999,20181027,413,17.5,-152.0003,5222,680,5.5367,34.4255,2,-999,9,20181027,423,17.5,-152.0003,80.55,2,2.96,2,40.65,2,0,2,-999,9,-999,9,2.759,1,0.018,1,4.682,1,32.8,2
33RR20180918, GP15,19,4,9,GSNIS-10   ,2,6785,13999,20181027,413,17.5,-152.0003,5222,680.4,5.5349,34.4258,2,-999,9,20181027,423,17.5,-152.0003,80.55,2,2.95,2,40.68,2,0,2,-999,9,-999,9,2.762,1,0.018,1,4.683,1,32.7,2
33RR20180918, GP15,19,4,10,GSNIS-11   ,2,6785,13998,20181027,413,17.5,-152.0003,5222,555.1,6.1784,34.3543,2,6.1765,2,20181027,426,17.5,-152.0003,70.59,2,2.88,2,39.08,2,0,2,30.06,2,34.3576,2,2.912,1,0.018,1,4.681,1,31.4,2
33RR20180918, GP15,19,4,11,GSNIS-12   ,2,6785,13998,20181027,413,17.5,-152.0003,5222,554.3,6.176,34.3541,2,-999,9,20181027,426,17.5,-152.0003,70.49,2,2.87,2,39,2,0,2,-999,9,-999,9,2.916,1,0.017,1,4.681,1,32,2
33RR20180918, GP15,19,4,12,GSNIS-13   ,2,6785,13998,20181027,413,17.5,-152.0003,5222,554.8,6.1784,34.3542,2,-999,9,20181027,426,17.5,-152.0003,70.49,2,2.87,2,38.94,2,0,2,-999,9,-999,9,2.92,1,0.017,1,4.681,1,31.4,2
33RR20180918, GP15,19,4,13,GSNIS-14   ,2,6785,13997,20181027,413,17.5,-152.0003,5222,403.7,7.468,34.1429,2,7.4725,2,20181027,430,17.5,-152.0003,48.21,2,2.35,2,31.86,2,0,2,77.77,2,34.1468,2,2.976,1,0.017,1,4.678,1,82,3
33RR20180918, GP15,19,4,14,GSNIS-15   ,2,6785,13997,20181027,413,17.5,-152.0003,5222,402.2,7.4765,34.1399,2,-999,9,20181027,430,17.5,-152.0003,48.11,2,2.34,2,31.88,2,0,2,-999,9,-999,9,2.973,1,0.017,1,4.679,1,84,3
33RR20180918, GP15,19,4,15,GSNIS-16   ,2,6785,13997,20181027,413,17.5,-152.0003,5222,404,7.4606,34.1436,2,-999,9,20181027,430,17.5,-152.0003,48.01,2,2.33,2,31.69,2,0,2,-999,9,-999,9,2.97,1,0.017,1,4.68,1,83.7,3
33RR20180918, GP15,19,4,16,GSNIS-17   ,2,6785,13996,20181027,413,17.5,-152.0003,5222,353.1,8.131,34.0601,2,8.1312,2,20181027,432,17.5,-152.0003,36.77,2,1.9,2,26.67,2,0,2,127.49,2,34.068,2,2.708,1,0.017,1,4.681,1,133.4,3
33RR20180918, GP15,19,4,17,GSNIS-18   ,2,6785,13996,20181027,413,17.5,-152.0003,5222,352.9,8.1293,34.0607,2,-999,9,20181027,432,17.5,-152.0003,36.38,2,1.89,2,26.49,2,0,2,-999,9,-999,9,2.7,1,0.017,1,4.68,1,130.3,3
33RR20180918, GP15,19,4,18,GSNIS-19   ,2,6785,13996,20181027,413,17.5,-152.0003,5222,353,8.1316,34.0603,2,-999,9,20181027,432,17.5,-152.0003,36.38,2,1.88,2,26.39,2,0,2,-999,9,-999,9,2.693,1,0.017,1,4.68,1,130.5,3
33RR20180918, GP15,19,4,19,GSNIS-20   ,2,6785,13995,20181027,413,17.5,-152.0003,5222,263,11.2692,34.1694,2,11.2633,2,20181027,435,17.5,-152.0003,17.8,2,1.44,2,18.24,2,0,2,139.45,2,34.1615,2,2.055,1,0.016,1,4.679,1,141.6,2
33RR20180918, GP15,19,4,20,GSNIS-21   ,2,6785,13995,20181027,413,17.5,-152.0003,5222,261.3,11.2533,34.1661,2,-999,9,20181027,435,17.5,-152.0003,17.4,2,1.4,2,17.9,2,0,2,-999,9,-999,9,2.041,1,0.017,1,4.678,1,142,2
33RR20180918, GP15,19,4,21,GSNIS-22   ,2,6785,13995,20181027,413,17.5,-152.0003,5222,260.9,11.2548,34.1652,2,-999,9,20181027,435,17.5,-152.0002,16.62,2,1.36,2,17.51,2,0,2,-999,9,-999,9,2.028,1,0.017,1,4.678,1,145.4,2
33RR20180918, GP15,19,4,22,GSNIS-23   ,2,6785,13994,20181027,413,17.5,-152.0003,5222,151.1,20.4028,34.9858,2,20.3917,2,20181027,438,17.5,-152.0003,1.17,2,0.18,2,1.77,2,0.04,2,187.61,2,34.9939,2,1.864,1,0.027,1,4.662,1,185.5,2
33RR20180918, GP15,19,4,23,GSNIS-24   ,2,6785,13994,20181027,413,17.5,-152.0003,5222,150.9,20.4295,34.9867,2,-999,9,20181027,438,17.5,-152.0003,0.98,2,0.18,2,1.73,2,0.04,2,-999,9,-999,9,1.864,1,0.026,1,4.66,1,186.3,2
33RR20180918, GP15,19,4,24,GSNIS-25   ,2,6785,13994,20181027,413,17.5,-152.0003,5222,151.5,20.3704,34.9815,2,-999,9,20181027,438,17.5,-152.0003,0.78,2,0.18,2,1.72,2,0.04,2,-999,9,-999,9,1.864,1,0.026,1,4.661,1,186.4,2
33RR20180918, GP15,19,4,25,GSNIS-26   ,2,6785,13993,20181027,413,17.5,-152.0003,5222,111,22.4719,35.056,2,22.4665,2,20181027,440,17.5,-152.0003,0.49,2,0.03,2,0,2,0.01,2,207.88,2,35.06,2,1.88,1,0.033,1,4.642,1,208.3,2
33RR20180918, GP15,19,4,26,GSNIS-27   ,2,6785,13993,20181027,413,17.5,-152.0003,5222,111.6,22.4583,35.0565,2,-999,9,20181027,441,17.5,-152.0003,0.39,2,0.04,2,0,2,0.01,2,-999,9,-999,9,1.883,1,0.032,1,4.641,1,207.5,2
33RR20180918, GP15,19,4,27,GSNIS-28   ,2,6785,13993,20181027,413,17.5,-152.0003,5222,109.9,22.4677,35.0558,2,-999,9,20181027,441,17.5,-152.0003,0.39,2,0.03,2,0,2,0,2,-999,9,-999,9,1.885,1,0.029,1,4.642,1,208.1,2
33RR20180918, GP15,19,4,28,GSNIS-29   ,2,6785,13993,20181027,413,17.5,-152.0003,5222,111.9,22.4621,35.0567,2,-999,9,20181027,441,17.5,-152.0003,0.29,2,0.03,2,0.01,2,0,2,-999,9,-999,9,1.89,1,0.031,1,4.641,1,207.5,2
33RR20180918, GP15,19,4,29,GSNIS-30   ,2,6785,13992,20181027,413,17.5,-152.0003,5222,80.9,24.4413,34.8738,2,24.4369,2,20181027,443,17.5,-152.0003,0.1,2,0.01,2,0.01,2,0,2,222.87,2,34.881,2,1.908,1,0.023,1,4.629,1,222,2
33RR20180918, GP15,19,4,30,GSNIS-31   ,2,6785,13991,20181027,413,17.5,-152.0003,5222,55.4,27.255,34.6143,2,27.2577,3,20181027,445,17.5,-152.0003,0,2,0.04,2,0.02,2,0,2,209.73,2,34.6176,3,1.602,1,0.021,1,4.625,1,210.6,2
33RR20180918, GP15,19,4,31,GSNIS-32   ,2,6785,13991,20181027,413,17.5,-152.0003,5222,55.9,27.2921,34.6125,2,-999,9,20181027,445,17.5,-152.0003,0.2,2,0.05,2,0.03,2,0,2,-999,9,-999,9,1.584,1,0.021,1,4.625,1,209.5,2
33RR20180918, GP15,19,4,32,GSNIS-33   ,2,6785,13991,20181027,413,17.5,-152.0003,5222,55.6,27.2412,34.6153,2,-999,9,20181027,445,17.5,-152.0003,0.1,2,0.05,2,0.04,2,0,2,-999,9,-999,9,1.57,1,0.021,1,4.625,1,209.2,2
33RR20180918, GP15,19,4,33,GSNIS-34   ,2,6785,13990,20181027,413,17.5,-152.0003,5222,25.8,27.9619,34.3267,2,27.9621,2,20181027,447,17.5,-152.0003,0.2,2,0.09,2,0.06,2,0,2,199.22,2,34.3303,2,1.342,1,0.018,1,4.633,1,200,2
33RR20180918, GP15,19,4,34,GSNIS-35   ,2,6785,13990,20181027,413,17.5,-152.0003,5222,25.6,27.9613,34.3264,2,-999,9,20181027,447,17.5,-152.0003,0.2,2,0.09,2,0.07,2,0,2,-999,9,-999,9,1.336,1,0.017,1,4.638,1,200.8,2
33RR20180918, GP15,19,4,35,GSNIS-36   ,2,6785,13990,20181027,413,17.5,-152.0003,5222,26.1,27.9648,34.3264,2,-999,9,20181027,447,17.5,-152.0003,0.39,2,0.1,2,0.09,2,0,2,-999,9,-999,9,1.331,1,0.018,1,4.634,1,199.9,2
33RR20180918, GP15,19,4,36,GSNIS-1    ,2,6785,13989,20181027,413,17.5,-152.0003,5222,3.1,27.9661,34.3276,2,27.9642,2,20181027,450,17.5,-152.0003,0.29,2,0.09,2,0.12,2,0,2,199.32,2,34.3311,2,1.282,1,0.018,1,4.637,1,200.8,2