BOTTLE,20191212SIOCCHAMB
EXPOCODE,SECT_ID,STNNBR,CASTNO,SAMPNO,BTLNBR,BTLNBR_FLAG_W,GEOTRC_EVENTNO,GEOTRC_SAMPNO,DATE,TIME,LATITUDE,LONGITUDE,DEPTH,CTDPRS,CTDTMP,CTDSAL,CTDSAL_FLAG_W,REFTMP,REFTMP_FLAG_W,BTL_DATE,BTL_TIME,BTL_LAT,BTL_LON,SILCAT,SILCAT_FLAG_W,PHSPHT,PHSPHT_FLAG_W,NITRAT,NITRAT_FLAG_W,NITRIT,NITRIT_FLAG_W,OXYGEN,OXYGEN_FLAG_W,SALNTY,SALNTY_FLAG_W,CTDRINKO,CTDRINKO_FLAG_W,CTDFLUOR,CTDFLUOR_FLAG_W,CTDXMISS,CTDXMISS_FLAG_W,CTDOXY,CTDOXY_FLAG_W
,,,,,,,,,,,,,METERS,DBAR,ITS-90,PSS-78,,ITS-90,,,,,,UMOL/KG,,UMOL/KG,,UMOL/KG,,UMOL/KG,,UMOL/KG,,PSS-78,,VOLTS,,VOLTS,,VOLTS,,UMOL/KG,
33RR20180918, GP15,37,3,1,GSNIS-2    ,2,6987,15557,20181118,2300,-15.0002,-152.0002,4865,453.2,9.453,34.5757,2,9.4525,2,20181118,2300,-15.0002,-152.0002,17.7,2,1.97,2,26.78,2,0,2,112.25,2,34.5787,2,2.024,1,0.017,1,4.66,1,112,2
33RR20180918, GP15,37,3,2,GSNIS-3    ,2,6987,15557,20181118,2300,-15.0002,-152.0002,4865,453.1,9.4526,34.5757,2,-999,9,20181118,2300,-15.0002,-152.0002,17.7,2,1.97,2,26.81,2,0,2,-999,9,-999,9,2.029,1,0.017,1,4.66,1,112.2,2
33RR20180918, GP15,37,3,3,GSNIS-4    ,2,6987,15557,20181118,2300,-15.0002,-152.0002,4865,453.4,9.4504,34.5756,2,-999,9,20181118,2301,-15.0002,-152.0002,17.7,2,1.97,2,26.79,2,0,2,-999,9,-999,9,2.032,1,0.017,1,4.66,1,112.2,2
33RR20180918, GP15,37,3,4,GSNIS-5    ,2,6987,15557,20181118,2300,-15.0002,-152.0002,4865,453.2,9.4542,34.5756,2,-999,9,20181118,2301,-15.0001,-152.0002,17.6,2,1.97,2,26.8,2,0,2,-999,9,-999,9,2.038,1,0.017,1,4.66,1,112.2,2
33RR20180918, GP15,37,3,5,GSNIS-6    ,2,6987,15556,20181118,2300,-15.0002,-152.0002,4865,403.1,11.2106,34.6742,2,11.2095,2,20181118,2303,-15.0002,-152.0002,12.22,2,1.72,2,22.32,2,0,2,114.4,2,34.6739,2,2.078,1,0.017,1,4.661,1,114.4,2
33RR20180918, GP15,37,3,6,GSNIS-7    ,2,6987,15556,20181118,2300,-15.0002,-152.0002,4865,403.4,11.2083,34.6743,2,-999,9,20181118,2303,-15.0001,-152.0002,12.22,2,1.72,2,22.36,2,0,2,-999,9,-999,9,2.078,1,0.017,1,4.661,1,116.3,2
33RR20180918, GP15,37,3,7,GSNIS-8    ,2,6987,15556,20181118,2300,-15.0002,-152.0002,4865,402.5,11.2098,34.6742,2,-999,9,20181118,2303,-15.0001,-152.0002,12.12,2,1.72,2,22.35,2,0,2,-999,9,-999,9,2.078,1,0.016,1,4.661,1,115.7,2
33RR20180918, GP15,37,3,8,GSNIS-9    ,2,6987,15555,20181118,2300,-15.0002,-152.0002,4865,352.6,13.291,34.8513,2,13.2773,2,20181118,2305,-15.0002,-152.0001,6.84,2,1.28,2,16.33,2,0,2,136.7,2,34.8442,2,2.044,1,0.016,1,4.661,1,139,3
33RR20180918, GP15,37,3,9,GSNIS-10   ,2,6987,15555,20181118,2300,-15.0002,-152.0002,4865,352.7,13.2658,34.8492,2,-999,9,20181118,2305,-15.0002,-152.0001,6.65,2,1.29,2,16.16,2,0,2,-999,9,-999,9,2.042,1,0.016,1,4.661,1,139.3,3
33RR20180918, GP15,37,3,10,GSNIS-11   ,2,6987,15555,20181118,2300,-15.0002,-152.0002,4865,352.1,13.2613,34.8497,2,-999,9,20181118,2305,-15.0002,-152.0001,6.45,2,1.28,2,16.14,2,0,2,-999,9,-999,9,2.04,1,0.017,1,4.661,1,139,3
33RR20180918, GP15,37,3,11,GSNIS-12   ,2,6987,15554,20181118,2300,-15.0002,-152.0002,4865,301.6,16.4927,35.2501,2,16.4918,2,20181118,2307,-15.0002,-152.0001,2.05,2,0.72,2,8.94,2,0,2,167.7,2,35.2422,2,1.976,1,0.016,1,4.66,1,167.8,2
33RR20180918, GP15,37,3,12,GSNIS-13   ,2,6987,15554,20181118,2300,-15.0002,-152.0002,4865,302.4,16.4899,35.2498,2,-999,9,20181118,2307,-15.0002,-152.0001,1.95,2,0.72,2,8.96,2,0,2,-999,9,-999,9,1.974,1,0.016,1,4.66,1,168.9,2
33RR20180918, GP15,37,3,13,GSNIS-14   ,2,6987,15553,20181118,2300,-15.0002,-152.0002,4865,251.5,19.1865,35.6428,2,19.183,2,20181118,2309,-15.0001,-152.0001,0.59,2,0.5,2,5.38,2,0,2,174.41,2,35.6429,2,1.897,1,0.016,1,4.658,1,174.8,2
33RR20180918, GP15,37,3,14,GSNIS-15   ,2,6987,15553,20181118,2300,-15.0002,-152.0002,4865,251.7,19.1852,35.6435,2,-999,9,20181118,2309,-15.0002,-152.0001,0.49,2,0.49,2,5.39,2,0,2,-999,9,-999,9,1.892,1,0.016,1,4.658,1,175.7,2
33RR20180918, GP15,37,3,15,GSNIS-16   ,2,6987,15553,20181118,2300,-15.0002,-152.0002,4865,251.5,19.1868,35.6431,2,-999,9,20181118,2310,-15.0002,-152.0001,0.49,2,0.49,2,5.34,2,0,2,-999,9,-999,9,1.89,1,0.016,1,4.658,1,175.1,2
33RR20180918, GP15,37,3,16,GSNIS-17   ,2,6987,15553,20181118,2300,-15.0002,-152.0002,4865,252.6,19.1818,35.6419,2,-999,9,20181118,2310,-15.0002,-152.0001,0.39,2,0.49,2,5.36,2,0,2,-999,9,-999,9,1.885,1,0.017,1,4.658,1,175.1,2
33RR20180918, GP15,37,3,17,GSNIS-18   ,2,6987,15552,20181118,2300,-15.0002,-152.0002,4865,201.1,22.1765,36.0571,2,22.2038,3,20181118,2312,-15.0002,-152.0002,0.1,2,0.33,2,2.81,2,0.02,2,175.96,2,36.0481,3,1.772,1,0.023,1,4.648,1,176,2
33RR20180918, GP15,37,3,18,GSNIS-19   ,2,6987,15552,20181118,2300,-15.0002,-152.0002,4865,201.5,22.1649,36.0559,2,-999,9,20181118,2312,-15.0002,-152.0002,0.1,2,0.32,2,2.82,2,0.02,2,-999,9,-999,9,1.766,1,0.023,1,4.647,1,175.8,2
33RR20180918, GP15,37,3,19,GSNIS-20   ,2,6987,15551,20181118,2300,-15.0002,-152.0002,4865,181.3,23.1064,36.1891,2,23.1069,2,20181118,2313,-15.0002,-152.0001,0,2,0.3,2,2.31,2,0.05,2,176.76,2,36.1915,2,1.669,1,0.027,1,4.642,1,177,2
33RR20180918, GP15,37,3,20,GSNIS-21   ,2,6987,15551,20181118,2300,-15.0002,-152.0002,4865,180.9,23.116,36.1897,2,-999,9,20181118,2313,-15.0002,-152.0001,0,2,0.3,2,2.32,2,0.05,2,-999,9,-999,9,1.665,1,0.027,1,4.641,1,176.9,2
33RR20180918, GP15,37,3,21,GSNIS-22   ,2,6987,15550,20181118,2300,-15.0002,-152.0002,4865,151,24.5506,36.3633,2,24.5607,2,20181118,2315,-15.0002,-152.0001,0,2,0.25,2,0.9,2,0.4,2,180.53,2,36.3673,2,1.566,1,0.037,1,4.63,1,181.8,2
33RR20180918, GP15,37,3,22,GSNIS-23   ,2,6987,15550,20181118,2300,-15.0002,-152.0002,4865,150.9,24.5653,36.3645,2,-999,9,20181118,2315,-15.0002,-152.0001,0,2,0.25,2,0.92,2,0.39,2,-999,9,-999,9,1.563,1,0.039,1,4.63,1,181.9,2
33RR20180918, GP15,37,3,23,GSNIS-24   ,2,6987,15549,20181118,2300,-15.0002,-152.0002,4865,135.2,25.4515,36.4293,2,25.4609,2,20181118,2317,-15.0001,-152.0002,0,2,0.2,2,0.12,2,0.13,2,186.98,2,36.4293,3,1.513,1,0.049,1,4.614,1,187.3,2
33RR20180918, GP15,37,3,24,GSNIS-25   ,2,6987,15549,20181118,2300,-15.0002,-152.0002,4865,136.5,25.4667,36.4298,2,-999,9,20181118,2317,-15.0001,-152.0002,0,2,0.21,2,0.12,2,0.13,2,-999,9,-999,9,1.511,1,0.048,1,4.614,1,187.2,2
33RR20180918, GP15,37,3,25,GSNIS-26   ,2,6987,15549,20181118,2300,-15.0002,-152.0002,4865,135.8,25.4608,36.4295,2,-999,9,20181118,2317,-15.0001,-152.0002,0,2,0.2,2,0.12,2,0.13,2,-999,9,-999,9,1.51,1,0.049,1,4.614,1,187.3,2
33RR20180918, GP15,37,3,26,GSNIS-27   ,2,6987,15549,20181118,2300,-15.0002,-152.0002,4865,135.6,25.4549,36.4293,2,-999,9,20181118,2317,-15.0001,-152.0002,0.1,2,0.2,2,0.12,2,0.13,2,-999,9,-999,9,1.508,1,0.047,1,4.614,1,187.3,2
33RR20180918, GP15,37,3,27,GSNIS-28   ,2,6987,15548,20181118,2300,-15.0002,-152.0002,4865,101,27.087,36.3903,2,27.0932,2,20181118,2319,-15.0002,-152.0001,0,2,0.11,2,0,2,0,2,198.97,2,36.3891,2,1.463,1,0.022,1,4.618,1,199.3,2
33RR20180918, GP15,37,3,28,GSNIS-29   ,2,6987,15548,20181118,2300,-15.0002,-152.0002,4865,100.9,27.0935,36.3883,2,-999,9,20181118,2319,-15.0002,-152.0001,0,2,0.11,2,0,2,0,2,-999,9,-999,9,1.461,1,0.022,1,4.618,1,199.7,2
33RR20180918, GP15,37,3,29,GSNIS-30   ,2,6987,15547,20181118,2300,-15.0002,-152.0002,4865,60.8,27.7814,36.3455,3,27.7984,3,20181118,2323,-15.0002,-152.0002,0,2,0.1,2,0,2,0,2,200,2,36.3431,3,1.406,1,0.018,1,4.614,1,199.7,2
33RR20180918, GP15,37,3,30,GSNIS-31   ,2,6987,15547,20181118,2300,-15.0002,-152.0002,4865,60.8,27.7906,36.3483,2,-999,9,20181118,2323,-15.0002,-152.0002,0.1,2,0.11,2,0,2,0,2,-999,9,-999,9,1.404,1,0.018,1,4.614,1,198.6,2
33RR20180918, GP15,37,3,31,GSNIS-32   ,2,6987,15547,20181118,2300,-15.0002,-152.0002,4865,60.7,27.8084,36.3507,2,-999,9,20181118,2323,-15.0002,-152.0002,0.1,2,0.11,2,0,2,0,2,-999,9,-999,9,1.404,1,0.018,1,4.614,1,198.6,2
33RR20180918, GP15,37,3,32,GSNIS-33   ,2,6987,15547,20181118,2300,-15.0002,-152.0002,4865,60.9,27.7933,36.3477,2,-999,9,20181118,2323,-15.0002,-152.0002,0.1,2,0.1,2,0,2,0,2,-999,9,-999,9,1.403,1,0.018,1,4.614,1,198.6,2
33RR20180918, GP15,37,3,33,GSNIS-34   ,2,6987,15546,20181118,2300,-15.0002,-152.0002,4865,25.9,28.448,36.3652,2,28.4559,2,20181118,2325,-15.0002,-152.0002,0.1,2,0.1,2,0,2,0,2,195.84,2,36.3633,2,1.365,1,0.017,1,4.619,1,194.5,2
33RR20180918, GP15,37,3,34,GSNIS-35   ,2,6987,15546,20181118,2300,-15.0002,-152.0002,4865,25.9,28.4631,36.3615,2,-999,9,20181118,2326,-15.0002,-152.0002,0.2,2,0.1,2,0,2,0,2,-999,9,-999,9,1.364,1,0.017,1,4.619,1,195.3,2
33RR20180918, GP15,37,3,35,GSNIS-36   ,2,6987,15546,20181118,2300,-15.0002,-152.0002,4865,25.5,28.4535,36.3636,2,-999,9,20181118,2326,-15.0002,-152.0002,0.2,2,0.11,2,0,2,0,2,-999,9,-999,9,1.363,1,0.017,1,4.619,1,195.5,2
33RR20180918, GP15,37,3,36,GSNIS-1    ,2,6987,15546,20181118,2300,-15.0002,-152.0002,4865,25.7,28.4584,36.3623,2,-999,9,20181118,2326,-15.0002,-152.0002,0.2,2,0.1,2,0,2,0,2,-999,9,-999,9,1.364,1,0.017,1,4.618,1,195.4,2
33RR20180918, GP15,37,5,1,GSNIS-2    ,2,6990,15594,20181119,705,-15.0001,-152.0003,4865,1819.4,2.4182,34.6125,2,2.421,2,20181119,705,-15.0001,-152.0003,108.99,2,2.46,2,35.92,2,0,2,143.88,2,34.6138,2,2.2,1,0.017,1,4.675,1,143.9,2
33RR20180918, GP15,37,5,2,GSNIS-3    ,2,6990,15594,20181119,705,-15.0001,-152.0003,4865,1817,2.4257,34.6115,2,-999,9,20181119,705,-15.0001,-152.0003,108.5,2,2.49,2,35.9,2,0,2,-999,9,-999,9,2.2,1,0.017,1,4.675,1,143.8,2
33RR20180918, GP15,37,5,3,GSNIS-4    ,2,6990,15594,20181119,705,-15.0001,-152.0003,4865,1818.1,2.4206,34.6121,2,-999,9,20181119,705,-15.0001,-152.0003,108.11,2,2.48,2,35.91,2,0,2,-999,9,-999,9,2.2,1,0.017,1,4.675,1,143.9,2
33RR20180918, GP15,37,5,4,GSNIS-5    ,2,6990,15594,20181119,705,-15.0001,-152.0003,4865,1818.3,2.4227,34.6119,2,-999,9,20181119,705,-15.0001,-152.0003,108.3,2,2.48,2,35.92,2,0,2,-999,9,-999,9,2.2,1,0.017,1,4.675,1,143.9,2
33RR20180918, GP15,37,5,5,GSNIS-6    ,2,6990,15593,20181119,705,-15.0001,-152.0003,4865,1210.8,3.4541,34.5478,2,3.4558,2,20181119,717,-15.0001,-152.0003,85.63,2,2.53,2,36.52,2,0,2,130.39,2,34.5496,2,2.199,1,0.017,1,4.674,1,130.6,2
33RR20180918, GP15,37,5,6,GSNIS-7    ,2,6990,15593,20181119,705,-15.0001,-152.0003,4865,1211.5,3.4572,34.5476,2,-999,9,20181119,717,-15.0001,-152.0003,86.12,2,2.54,2,36.56,2,0,2,-999,9,-999,9,2.198,1,0.017,1,4.674,1,130.6,2
33RR20180918, GP15,37,5,7,GSNIS-8    ,2,6990,15593,20181119,705,-15.0001,-152.0003,4865,1211.4,3.456,34.5479,2,-999,9,20181119,717,-15.0001,-152.0003,85.63,2,2.53,2,36.59,2,0,2,-999,9,-999,9,2.198,1,0.017,1,4.674,1,130.6,2
33RR20180918, GP15,37,5,8,GSNIS-9    ,2,6990,15593,20181119,705,-15.0001,-152.0003,4865,1211.3,3.457,34.5478,2,-999,9,20181119,717,-15.0001,-152.0003,85.53,2,2.52,2,36.67,2,0,2,-999,9,-999,9,2.198,1,0.017,1,4.674,1,130.6,2
33RR20180918, GP15,37,5,9,GSNIS-10   ,2,6990,15592,20181119,705,-15.0001,-152.0003,4865,806.9,5.0366,34.4675,2,5.0377,2,20181119,725,-15.0001,-152.0003,49.47,2,2.32,2,33.93,2,0,2,142.98,2,34.4703,2,2.143,1,0.017,1,4.671,1,143.2,2
33RR20180918, GP15,37,5,10,GSNIS-11   ,2,6990,15592,20181119,705,-15.0001,-152.0003,4865,807.1,5.0385,34.4673,2,-999,9,20181119,725,-15.0001,-152.0003,49.27,2,2.32,2,33.98,2,0,2,-999,9,-999,9,2.141,1,0.017,1,4.672,1,144.1,2
33RR20180918, GP15,37,5,11,GSNIS-12   ,2,6990,15592,20181119,705,-15.0001,-152.0003,4865,807.6,5.039,34.4674,2,-999,9,20181119,725,-15.0001,-152.0003,49.17,2,2.31,2,34.01,2,0,2,-999,9,-999,9,2.141,1,0.017,1,4.672,1,144,2
33RR20180918, GP15,37,5,12,GSNIS-13   ,2,6990,15591,20181119,705,-15.0001,-152.0003,4865,656.1,6.3361,34.4624,2,6.3425,2,20181119,729,-15.0001,-152.0003,32.26,2,2.14,2,31.85,2,0,2,141.94,2,34.4652,2,2.07,1,0.017,1,4.67,1,141.6,2
33RR20180918, GP15,37,5,13,GSNIS-14   ,2,6990,15591,20181119,705,-15.0001,-152.0003,4865,656.3,6.3441,34.4628,2,-999,9,20181119,729,-15.0001,-152.0003,32.06,2,2.16,2,31.93,2,0,2,-999,9,-999,9,2.071,1,0.017,1,4.67,1,141.5,2
33RR20180918, GP15,37,5,14,GSNIS-15   ,2,6990,15590,20181119,705,-15.0001,-152.0003,4865,454,9.5119,34.5752,2,9.5047,2,20181119,734,-15.0001,-152.0003,17.4,2,1.94,2,26.93,2,0,2,112.13,2,34.5775,2,2.016,1,0.016,1,4.666,1,111.8,2
33RR20180918, GP15,37,5,15,GSNIS-16   ,2,6990,15590,20181119,705,-15.0001,-152.0003,4865,455,9.4952,34.5748,2,-999,9,20181119,734,-15.0001,-152.0003,17.4,2,1.92,2,26.96,2,0,2,-999,9,-999,9,2.018,1,0.017,1,4.667,1,110.5,2
33RR20180918, GP15,37,5,16,GSNIS-17   ,2,6990,15590,20181119,705,-15.0001,-152.0003,4865,453.9,9.5115,34.5757,2,-999,9,20181119,734,-15.0001,-152.0003,17.2,2,1.93,2,26.89,2,0,2,-999,9,-999,9,2.017,1,0.016,1,4.667,1,110.4,2
33RR20180918, GP15,37,5,17,GSNIS-18   ,2,6990,15589,20181119,705,-15.0001,-152.0003,4865,253.1,19.4569,35.6755,2,19.4659,2,20181119,739,-15.0001,-152.0003,0.59,2,0.47,2,4.95,2,0,2,175.43,2,35.6844,2,1.832,1,0.017,1,4.661,1,175.2,2
33RR20180918, GP15,37,5,18,GSNIS-19   ,2,6990,15589,20181119,705,-15.0001,-152.0003,4865,252.1,19.4711,35.6793,2,-999,9,20181119,739,-15.0001,-152.0003,0.59,2,0.46,2,4.93,2,0,2,-999,9,-999,9,1.823,1,0.016,1,4.66,1,175.1,2
33RR20180918, GP15,37,5,19,GSNIS-20   ,2,6990,15589,20181119,705,-15.0001,-152.0003,4865,252.2,19.464,35.6777,2,-999,9,20181119,739,-15.0001,-152.0003,0.49,2,0.46,2,4.9,2,0,2,-999,9,-999,9,1.812,1,0.017,1,4.661,1,175.2,2
33RR20180918, GP15,37,5,20,GSNIS-21   ,2,6990,15588,20181119,705,-15.0001,-152.0003,4865,201.6,21.6683,35.9754,3,21.6773,2,20181119,741,-15.0001,-152.0003,0.2,2,0.33,2,2.92,2,0.02,2,176.42,2,36.0024,3,1.69,1,0.019,1,4.652,1,175.1,2
33RR20180918, GP15,37,5,21,GSNIS-22   ,2,6990,15588,20181119,705,-15.0001,-152.0003,4865,202.6,21.7211,35.9841,2,-999,9,20181119,741,-15.0001,-152.0003,0.2,2,0.33,2,2.93,2,0.02,2,-999,9,-999,9,1.688,1,0.021,1,4.652,1,175.6,2
33RR20180918, GP15,37,5,22,GSNIS-23   ,2,6990,15587,20181119,705,-15.0001,-152.0003,4865,151.6,24.6814,36.3849,2,24.6809,2,20181119,744,-15.0001,-152.0003,0.1,2,0.28,2,0.85,2,0.43,2,180.87,2,36.3859,2,1.578,1,0.039,1,4.633,1,181.1,2
33RR20180918, GP15,37,5,23,GSNIS-24   ,2,6990,15587,20181119,705,-15.0001,-152.0003,4865,151.9,24.6816,36.3852,2,-999,9,20181119,744,-15.0001,-152.0003,0.1,2,0.27,2,0.84,2,0.43,2,-999,9,-999,9,1.574,1,0.038,1,4.633,1,180.5,2
33RR20180918, GP15,37,5,24,GSNIS-25   ,2,6990,15586,20181119,705,-15.0001,-152.0003,4865,136.1,25.6032,36.4341,2,25.6209,2,20181119,745,-15.0001,-152.0003,0.1,2,0.2,2,0.06,2,0.09,2,188.28,2,36.4329,2,1.51,1,0.053,1,4.613,1,188.3,2
33RR20180918, GP15,37,5,25,GSNIS-26   ,2,6990,15586,20181119,705,-15.0001,-152.0003,4865,137.4,25.6161,36.4363,2,-999,9,20181119,745,-15.0001,-152.0003,0.1,2,0.21,2,0.05,2,0.1,2,-999,9,-999,9,1.507,1,0.051,1,4.615,1,188.3,2
33RR20180918, GP15,37,5,26,GSNIS-27   ,2,6990,15586,20181119,705,-15.0001,-152.0003,4865,136.4,25.6313,36.4349,2,-999,9,20181119,745,-15.0001,-152.0003,0,2,0.18,2,0.06,2,0.09,2,-999,9,-999,9,1.504,1,0.049,1,4.613,1,188.8,2
33RR20180918, GP15,37,5,27,GSNIS-28   ,2,6990,15586,20181119,705,-15.0001,-152.0003,4865,136,25.6254,36.4352,2,-999,9,20181119,745,-15.0001,-152.0003,0,2,0.17,2,0.05,2,0.09,2,-999,9,-999,9,1.501,1,0.054,1,4.612,1,188.6,2
33RR20180918, GP15,37,5,28,GSNIS-29   ,2,6990,15585,20181119,705,-15.0001,-152.0003,4865,101.9,27.0326,36.3484,3,27.023,3,20181119,747,-15.0001,-152.0003,0,2,0.09,2,0,2,0,2,200.33,2,36.3429,3,1.442,1,0.023,1,4.622,1,199.4,2
33RR20180918, GP15,37,5,29,GSNIS-30   ,2,6990,15585,20181119,705,-15.0001,-152.0003,4865,101.1,27.0251,36.3495,2,-999,9,20181119,748,-15.0001,-152.0003,0,2,0.09,2,0,2,0,2,-999,9,-999,9,1.44,1,0.022,1,4.622,1,199.5,2
33RR20180918, GP15,37,5,30,GSNIS-31   ,2,6990,15584,20181119,705,-15.0001,-152.0003,4865,61.4,28.0539,36.3931,2,28.0538,2,20181119,750,-15.0001,-152.0003,0.1,2,0.1,2,0,2,0,2,197.72,2,36.3891,2,1.361,1,0.019,1,4.618,1,197.2,2
33RR20180918, GP15,37,5,31,GSNIS-32   ,2,6990,15584,20181119,705,-15.0001,-152.0003,4865,61.4,28.0546,36.3932,2,-999,9,20181119,750,-15.0001,-152.0003,0.1,2,0.09,2,0,2,0,2,-999,9,-999,9,1.358,1,0.019,1,4.618,1,197.3,2
33RR20180918, GP15,37,5,32,GSNIS-33   ,2,6990,15584,20181119,705,-15.0001,-152.0003,4865,61.4,28.0538,36.3931,2,-999,9,20181119,750,-15.0001,-152.0003,0.1,2,0.1,2,0,2,0,2,-999,9,-999,9,1.357,1,0.019,1,4.617,1,197.2,2
33RR20180918, GP15,37,5,33,GSNIS-34   ,2,6990,15583,20181119,705,-15.0001,-152.0003,4865,26.1,28.1329,36.3584,2,28.1323,2,20181119,753,-15.0001,-152.0003,0.2,2,0.1,2,0,2,0,2,197.57,2,36.3608,2,1.355,1,0.018,1,4.617,1,195.6,3
33RR20180918, GP15,37,5,34,GSNIS-35   ,2,6990,15583,20181119,705,-15.0001,-152.0003,4865,27,28.136,36.3567,2,-999,9,20181119,753,-15.0001,-152.0003,0.2,2,0.11,2,0,2,0,2,-999,9,-999,9,1.354,1,0.019,1,4.617,1,196.1,3
33RR20180918, GP15,37,5,35,GSNIS-36   ,2,6990,15583,20181119,705,-15.0001,-152.0003,4865,25.9,28.1281,36.3579,2,-999,9,20181119,753,-15.0001,-152.0003,0.2,2,0.11,2,0,2,0,2,-999,9,-999,9,1.354,1,0.018,1,4.617,1,195.9,3
33RR20180918, GP15,37,5,36,GSNIS-1    ,2,6990,15582,20181119,705,-15.0001,-152.0003,4865,2.6,28.5818,36.0464,2,28.5792,2,20181119,755,-15.0001,-152.0003,0.29,2,0.1,2,0,2,0,2,195.97,2,36.0469,2,1.317,1,0.018,1,4.619,1,194.9,2