BOTTLE,20191212SIOCCHAMB
EXPOCODE,SECT_ID,STNNBR,CASTNO,SAMPNO,BTLNBR,BTLNBR_FLAG_W,GEOTRC_EVENTNO,GEOTRC_SAMPNO,DATE,TIME,LATITUDE,LONGITUDE,DEPTH,CTDPRS,CTDTMP,CTDSAL,CTDSAL_FLAG_W,REFTMP,REFTMP_FLAG_W,BTL_DATE,BTL_TIME,BTL_LAT,BTL_LON,SILCAT,SILCAT_FLAG_W,PHSPHT,PHSPHT_FLAG_W,NITRAT,NITRAT_FLAG_W,NITRIT,NITRIT_FLAG_W,OXYGEN,OXYGEN_FLAG_W,SALNTY,SALNTY_FLAG_W,CTDRINKO,CTDRINKO_FLAG_W,CTDFLUOR,CTDFLUOR_FLAG_W,CTDXMISS,CTDXMISS_FLAG_W,CTDOXY,CTDOXY_FLAG_W
,,,,,,,,,,,,,METERS,DBAR,ITS-90,PSS-78,,ITS-90,,,,,,UMOL/KG,,UMOL/KG,,UMOL/KG,,UMOL/KG,,UMOL/KG,,PSS-78,,VOLTS,,VOLTS,,VOLTS,,UMOL/KG,
33RR20180918, GP15,6,9,1,GSNIS-1    ,2,6584,12810,20181002,2037,51.9999,-151.9995,5214,5171.6,1.5903,34.6826,2,1.5901,2,20181002,2037,51.9999,-151.9996,161.34,2,2.52,2,36.4,2,0.01,2,146.15,2,34.685,3,2.314,1,0.017,1,4.69,1,144.4,2
33RR20180918, GP15,6,9,2,GSNIS-2    ,2,6584,12810,20181002,2037,51.9999,-151.9995,5214,5172.4,1.5905,34.6825,2,-999,9,20181002,2037,51.9999,-151.9995,161.54,2,2.52,2,36.39,2,0.01,2,-999,9,-999,9,2.314,1,0.017,1,4.69,1,97.3,4
33RR20180918, GP15,6,9,3,GSNIS-3    ,2,6584,12810,20181002,2037,51.9999,-151.9995,5214,5171.8,1.5904,34.6827,2,-999,9,20181002,2037,51.9999,-151.9995,161.34,2,2.52,2,36.36,2,0.01,2,-999,9,-999,9,2.314,1,0.018,1,4.69,1,96.8,4
33RR20180918, GP15,6,9,4,GSNIS-4    ,2,6584,12809,20181002,2037,51.9999,-151.9995,5214,4588.2,1.536,34.6812,2,1.5357,2,20181002,2049,51.9999,-151.9996,164.17,2,2.54,2,36.65,2,0,2,142.42,2,34.6825,3,2.305,1,0.017,1,4.697,1,143.5,2
33RR20180918, GP15,6,9,5,GSNIS-5    ,2,6584,12809,20181002,2037,51.9999,-151.9995,5214,4591.1,1.5362,34.681,2,-999,9,20181002,2049,51.9999,-151.9996,164.47,2,2.55,2,36.69,2,0,2,-999,9,-999,9,2.305,1,0.017,1,4.697,1,97.6,4
33RR20180918, GP15,6,9,6,GSNIS-6    ,2,6584,12809,20181002,2037,51.9999,-151.9995,5214,4587.2,1.536,34.6812,2,-999,9,20181002,2049,52,-151.9996,164.76,2,2.54,2,36.68,2,0,2,-999,9,-999,9,2.305,1,0.017,1,4.697,1,96.8,4
33RR20180918, GP15,6,9,7,GSNIS-7    ,2,6584,12808,20181002,2037,51.9999,-151.9995,5214,4073.6,1.5112,34.6768,2,1.5107,2,20181002,2059,51.9999,-151.9995,164.76,2,2.59,2,37.06,2,0,2,136.48,2,34.679,3,2.327,1,0.016,1,4.702,1,137.7,2
33RR20180918, GP15,6,9,8,GSNIS-8    ,2,6584,12808,20181002,2037,51.9999,-151.9995,5214,4075,1.5111,34.6769,2,-999,9,20181002,2059,51.9999,-151.9995,165.25,2,2.59,2,37,2,0,2,-999,9,-999,9,2.328,1,0.017,1,4.702,1,94.6,4
33RR20180918, GP15,6,9,9,GSNIS-9    ,2,6584,12808,20181002,2037,51.9999,-151.9995,5214,4075.6,1.5113,34.6766,2,-999,9,20181002,2059,51.9999,-151.9995,164.96,2,2.57,2,36.96,2,0,2,-999,9,-999,9,2.327,1,0.017,1,4.702,1,95.3,4
33RR20180918, GP15,6,9,10,GSNIS-10   ,2,6584,12807,20181002,2037,51.9999,-151.9995,5214,3563.2,1.5168,34.6686,2,1.5163,2,20181002,2109,51.9999,-151.9995,166.03,2,2.62,2,37.63,2,0,2,126.78,2,34.6682,3,2.356,1,0.017,1,4.702,1,126.9,2
33RR20180918, GP15,6,9,11,GSNIS-11   ,2,6584,12807,20181002,2037,51.9999,-151.9995,5214,3560.4,1.5166,34.6687,2,-999,9,20181002,2109,51.9999,-151.9995,166.42,2,2.63,2,37.63,2,0,2,-999,9,-999,9,2.356,1,0.017,1,4.702,1,90.7,4
33RR20180918, GP15,6,9,12,GSNIS-12   ,2,6584,12807,20181002,2037,51.9999,-151.9995,5214,3562.9,1.5168,34.6686,2,-999,9,20181002,2109,51.9999,-151.9995,166.03,2,2.63,2,37.61,2,0,2,-999,9,-999,9,2.357,1,0.017,1,4.702,1,90.7,4
33RR20180918, GP15,6,9,13,GSNIS-13   ,2,6584,12806,20181002,2037,51.9999,-151.9995,5214,3051,1.5922,34.6514,2,1.5918,2,20181002,2119,51.9999,-151.9995,168.96,2,2.75,2,38.95,2,0,2,107.63,2,34.6503,3,2.443,1,0.017,1,4.702,1,107.5,2
33RR20180918, GP15,6,9,14,GSNIS-14   ,2,6584,12806,20181002,2037,51.9999,-151.9995,5214,3052.2,1.5921,34.6515,2,-999,9,20181002,2119,51.9999,-151.9995,169.16,2,2.73,2,38.93,2,0,2,-999,9,-999,9,2.444,1,0.017,1,4.702,1,77.7,4
33RR20180918, GP15,6,9,15,GSNIS-15   ,2,6584,12806,20181002,2037,51.9999,-151.9995,5214,3050.4,1.5924,34.6514,2,-999,9,20181002,2119,51.9999,-151.9995,169.16,2,2.73,2,38.92,2,0,2,-999,9,-999,9,2.445,1,0.017,1,4.702,1,77.9,4
33RR20180918, GP15,6,9,16,GSNIS-16   ,2,6584,12805,20181002,2037,51.9999,-151.9995,5214,2540,1.717,34.6271,2,1.7172,2,20181002,2129,51.9999,-151.9995,171.4,2,2.86,2,40.52,2,0.01,2,81.61,2,34.6264,3,2.563,1,0.018,1,4.701,1,80.3,2
33RR20180918, GP15,6,9,17,GSNIS-17   ,2,6584,12805,20181002,2037,51.9999,-151.9995,5214,2538.7,1.7178,34.6268,2,-999,9,20181002,2129,51.9999,-151.9995,171.79,2,2.85,2,40.51,2,0,2,-999,9,-999,9,2.565,1,0.017,1,4.701,1,60.8,4
33RR20180918, GP15,6,9,18,GSNIS-18   ,2,6584,12805,20181002,2037,51.9999,-151.9995,5214,2539.3,1.718,34.627,2,-999,9,20181002,2129,51.9999,-151.9995,171.5,2,2.85,2,40.55,2,0,2,-999,9,-999,9,2.567,1,0.017,1,4.701,1,61.5,4
33RR20180918, GP15,6,9,19,GSNIS-19   ,2,6584,12805,20181002,2037,51.9999,-151.9995,5214,2538.9,1.718,34.6268,2,-999,9,20181002,2129,51.9999,-151.9995,171.4,2,2.85,2,40.54,2,0.01,2,-999,9,-999,9,2.568,1,0.017,1,4.701,1,61.7,4
33RR20180918, GP15,6,9,20,GSNIS-20   ,2,6584,12804,20181002,2037,51.9999,-151.9995,5214,2233.6,1.8404,34.6041,2,1.8397,2,20181002,2136,51.9999,-151.9994,173.16,2,2.94,2,41.88,2,0.01,2,62.7,2,34.603,3,2.732,1,0.018,1,4.7,1,61.2,2
33RR20180918, GP15,6,9,21,GSNIS-21   ,2,6584,12804,20181002,2037,51.9999,-151.9995,5214,2233.9,1.8407,34.6039,2,-999,9,20181002,2136,51.9999,-151.9994,173.16,2,2.95,2,41.73,2,0.01,2,-999,9,-999,9,2.736,1,0.017,1,4.7,1,47.8,4
33RR20180918, GP15,6,9,22,GSNIS-22   ,2,6584,12803,20181002,2037,51.9999,-151.9995,5214,2028.5,1.9344,34.5853,2,1.9342,2,20181002,2141,51.9999,-151.9995,172.39,2,3,2,42.53,2,0.01,2,51.9,2,34.5846,3,2.823,1,0.017,1,4.7,1,52.2,2
33RR20180918, GP15,6,9,23,GSNIS-23   ,2,6584,12803,20181002,2037,51.9999,-151.9995,5214,2031.2,1.9341,34.5852,2,-999,9,20181002,2141,51.9999,-151.9995,172,2,3.01,2,42.45,2,0.01,2,-999,9,-999,9,2.826,1,0.018,1,4.7,1,42,4
33RR20180918, GP15,6,9,24,GSNIS-24   ,2,6584,12803,20181002,2037,51.9999,-151.9995,5214,2029.5,1.9348,34.585,2,-999,9,20181002,2142,51.9999,-151.9995,172.09,2,3,2,42.45,2,0.01,2,-999,9,-999,9,2.825,1,0.018,1,4.7,1,42.4,2
33RR20180918, GP15,6,9,25,GSNIS-25   ,2,6584,12803,20181002,2037,51.9999,-151.9995,5214,2029,1.9349,34.5852,2,-999,9,20181002,2142,51.9999,-151.9995,172.09,2,2.99,2,42.44,2,0.01,2,-999,9,-999,9,2.826,1,0.018,1,4.7,1,42,2
33RR20180918, GP15,6,9,26,GSNIS-26   ,2,6584,12802,20181002,2037,51.9999,-151.9995,5214,1776.1,2.0754,34.5528,2,2.0749,2,20181002,2147,51.9999,-151.9995,167.8,2,3.03,2,42.73,2,0.01,2,43.63,2,34.5522,3,2.888,1,0.018,1,4.699,1,43.5,2
33RR20180918, GP15,6,9,27,GSNIS-27   ,2,6584,12802,20181002,2037,51.9999,-151.9995,5214,1774.5,2.0756,34.5529,2,-999,9,20181002,2147,51.9999,-151.9995,167.8,2,3.01,2,42.74,2,0.01,2,-999,9,-999,9,2.889,1,0.018,1,4.699,1,36.4,2
33RR20180918, GP15,6,9,28,GSNIS-28   ,2,6584,12801,20181002,2037,51.9999,-151.9995,5214,1524,2.2563,34.5123,2,2.2584,2,20181002,2153,51.9999,-151.9995,163.22,2,3.08,2,43.17,2,0.01,2,35.98,2,34.5117,3,2.987,1,0.018,1,4.699,1,34.7,2
33RR20180918, GP15,6,9,29,GSNIS-29   ,2,6584,12801,20181002,2037,51.9999,-151.9995,5214,1522,2.2584,34.512,2,-999,9,20181002,2153,51.9999,-151.9995,163.51,2,3.07,2,43.22,2,0.01,2,-999,9,-999,9,2.987,1,0.018,1,4.698,1,29.8,2
33RR20180918, GP15,6,9,30,GSNIS-30   ,2,6584,12801,20181002,2037,51.9999,-151.9995,5214,1521.7,2.2603,34.5116,2,-999,9,20181002,2153,51.9999,-151.9995,162.73,2,3.07,2,43.26,2,0.01,2,-999,9,-999,9,2.989,1,0.018,1,4.699,1,30.1,2
33RR20180918, GP15,6,9,31,GSNIS-31   ,2,6584,12801,20181002,2037,51.9999,-151.9995,5214,1524.3,2.2565,34.5126,2,-999,9,20181002,2154,51.9999,-151.9995,164,2,3.06,2,43.2,2,0.01,2,-999,9,-999,9,2.99,1,0.018,1,4.699,1,29.2,2
33RR20180918, GP15,6,9,32,GSNIS-32   ,2,6584,12800,20181002,2037,51.9999,-151.9995,5214,1269.2,2.5141,34.4572,2,2.5133,2,20181002,2200,51.9999,-151.9995,157.37,2,3.11,2,43.99,2,0.01,2,22.11,2,34.4564,3,3.124,1,0.018,1,4.697,1,23.8,2
33RR20180918, GP15,6,9,33,GSNIS-33   ,2,6584,12800,20181002,2037,51.9999,-151.9995,5214,1267.1,2.5141,34.457,2,-999,9,20181002,2200,51.9999,-151.9995,157.56,2,3.1,2,43.9,2,0.01,2,-999,9,-999,9,3.126,1,0.018,1,4.696,1,21.3,2
33RR20180918, GP15,6,9,34,GSNIS-34   ,2,6584,12799,20181002,2037,51.9999,-151.9995,5214,1016,2.8424,34.3841,2,2.8405,2,20181002,2206,51.9999,-151.9995,146.44,2,3.09,2,43.86,2,0.01,2,19.97,2,34.3848,3,3.213,1,0.018,1,4.696,1,20.3,2
33RR20180918, GP15,6,9,35,GSNIS-35   ,2,6584,12799,20181002,2037,51.9999,-151.9995,5214,1013,2.8398,34.3846,2,-999,9,20181002,2206,51.9999,-151.9995,146.15,2,3.09,2,43.84,2,0.01,2,-999,9,-999,9,3.213,1,0.018,1,4.696,1,18.5,2
33RR20180918, GP15,6,9,36,GSNIS-36   ,2,6584,12799,20181002,2037,51.9999,-151.9995,5214,1014.9,2.8418,34.3841,2,-999,9,20181002,2206,51.9999,-151.9995,146.15,2,3.06,2,43.88,2,0.01,2,-999,9,-999,9,3.214,1,0.018,1,4.696,1,18.4,2
33RR20180918, GP15,7,3,1,GSNIS-1    ,2,6590,12829,20181003,1729,49.5003,-151.9999,4911,1008.9,2.9057,34.3753,2,2.9045,2,20181003,1729,49.5002,-151.9996,143.81,2,3.1,2,43.69,2,0,2,23.65,2,34.3721,3,3.172,1,0.018,1,4.699,1,21.8,2
33RR20180918, GP15,7,3,2,GSNIS-2    ,2,6590,12829,20181003,1729,49.5003,-151.9999,4911,1010.1,2.9055,34.3753,2,-999,9,20181003,1729,49.5002,-151.9996,144.1,2,3.12,2,43.75,2,0.01,2,-999,9,-999,9,3.172,1,0.018,1,4.699,1,21.4,2
33RR20180918, GP15,7,3,3,GSNIS-3    ,2,6590,12829,20181003,1729,49.5003,-151.9999,4911,1011,2.9061,34.3753,2,-999,9,20181003,1729,49.5002,-151.9996,144,2,3.13,2,43.76,2,0.01,2,-999,9,-999,9,3.172,1,0.018,1,4.699,1,21.4,2
33RR20180918, GP15,7,3,4,GSNIS-4    ,2,6590,12828,20181003,1729,49.5003,-151.9999,4911,757.5,3.3611,34.2779,2,3.3596,2,20181003,1735,49.5003,-151.9997,128.39,2,3.1,2,43.32,2,0.01,2,27.25,2,34.2798,3,3.177,1,0.018,1,4.698,1,27.4,2
33RR20180918, GP15,7,3,5,GSNIS-5    ,2,6590,12828,20181003,1729,49.5003,-151.9999,4911,758.9,3.3581,34.2788,2,-999,9,20181003,1735,49.5003,-151.9997,127.61,2,3.1,2,43.3,2,0.01,2,-999,9,-999,9,3.176,1,0.018,1,4.698,1,24.7,2
33RR20180918, GP15,7,3,6,GSNIS-6    ,2,6590,12827,20181003,1729,49.5003,-151.9999,4911,556.4,3.704,34.137,2,3.7033,2,20181003,1739,49.5003,-151.9998,111.9,2,3.07,2,43.07,2,0.01,2,31.29,2,34.1289,3,3.127,1,0.018,1,4.694,1,33,2
33RR20180918, GP15,7,3,7,GSNIS-7    ,2,6590,12827,20181003,1729,49.5003,-151.9999,4911,555.4,3.7042,34.1366,2,-999,9,20181003,1739,49.5003,-151.9998,112.59,2,3.05,2,42.81,2,0.01,2,-999,9,-999,9,3.126,1,0.018,1,4.697,1,30.3,2
33RR20180918, GP15,7,3,8,GSNIS-8    ,2,6590,12827,20181003,1729,49.5003,-151.9999,4911,557.1,3.7038,34.1372,2,-999,9,20181003,1739,49.5003,-151.9998,112.88,2,3.04,2,42.91,2,0.01,2,-999,9,-999,9,3.125,1,0.018,1,4.697,1,30.2,2
33RR20180918, GP15,7,3,9,GSNIS-9    ,2,6590,12826,20181003,1729,49.5003,-151.9999,4911,403.8,3.8602,33.9931,2,3.8591,2,20181003,1743,49.5003,-152.0001,97.46,2,2.98,2,41.99,2,0.01,2,47.98,2,33.9937,3,2.996,1,0.018,1,4.694,1,50,2
33RR20180918, GP15,7,3,10,GSNIS-10   ,2,6590,12826,20181003,1729,49.5003,-151.9999,4911,404.6,3.8592,33.9952,2,-999,9,20181003,1743,49.5003,-152,97.56,2,3,2,41.94,2,0.01,2,-999,9,-999,9,2.99,1,0.018,1,4.694,1,48.5,2
33RR20180918, GP15,7,3,11,GSNIS-11   ,2,6590,12826,20181003,1729,49.5003,-151.9999,4911,403.8,3.8603,33.9928,2,-999,9,20181003,1744,49.5003,-152.0001,97.36,2,2.99,2,41.79,2,0.01,2,-999,9,-999,9,2.984,1,0.018,1,4.694,1,50,2
33RR20180918, GP15,7,3,12,GSNIS-12   ,2,6590,12825,20181003,1729,49.5003,-151.9999,4911,253.6,3.6587,33.7467,2,3.6573,2,20181003,1748,49.5003,-151.9999,76.28,2,2.74,2,38.42,2,0.01,2,99.34,2,33.7479,3,2.725,1,0.018,1,4.692,1,101.8,2
33RR20180918, GP15,7,3,13,GSNIS-13   ,2,6590,12825,20181003,1729,49.5003,-151.9999,4911,252.9,3.6585,33.7462,2,-999,9,20181003,1748,49.5003,-151.9999,76.38,2,2.73,2,38.4,2,0.01,2,-999,9,-999,9,2.713,1,0.018,1,4.691,1,101.8,2
33RR20180918, GP15,7,3,14,GSNIS-14   ,2,6590,12825,20181003,1729,49.5003,-151.9999,4911,252.9,3.6582,33.7462,2,-999,9,20181003,1748,49.5003,-151.9999,76.19,2,2.73,2,38.32,2,0.01,2,-999,9,-999,9,2.707,1,0.018,1,4.692,1,101.2,2
33RR20180918, GP15,7,3,15,GSNIS-15   ,2,6590,12824,20181003,1729,49.5003,-151.9999,4911,151.2,3.9103,33.4923,2,3.9124,2,20181003,1751,49.5003,-151.9999,55,2,2.31,2,31.53,2,0.01,2,173.7,2,33.4894,3,2.369,1,0.018,1,4.682,1,174.3,2
33RR20180918, GP15,7,3,16,GSNIS-16   ,2,6590,12824,20181003,1729,49.5003,-151.9999,4911,152.4,3.9119,33.4919,2,-999,9,20181003,1751,49.5003,-151.9999,54.61,2,2.31,2,31.44,2,0.01,2,-999,9,-999,9,2.357,1,0.018,1,4.682,1,181.3,2
33RR20180918, GP15,7,3,17,GSNIS-17   ,2,6590,12824,20181003,1729,49.5003,-151.9999,4911,151.3,3.9126,33.4904,2,-999,9,20181003,1751,49.5003,-151.9999,54.9,2,2.31,2,31.32,2,0.01,2,-999,9,-999,9,2.345,1,0.018,1,4.682,1,181.9,2
33RR20180918, GP15,7,3,18,GSNIS-18   ,2,6590,12823,20181003,1729,49.5003,-151.9999,4911,91.4,5.5533,32.689,2,5.5688,2,20181003,1754,49.5003,-151.9999,24.44,2,1.54,2,17.95,2,0.03,2,297.85,2,33.1797,4,1.821,1,0.027,1,4.682,1,295.5,2
33RR20180918, GP15,7,3,19,GSNIS-19   ,2,6590,12823,20181003,1729,49.5003,-151.9999,4911,90.5,5.5216,32.6906,2,-999,9,20181003,1754,49.5003,-151.9999,24.14,2,1.54,2,17.99,2,0.03,2,-999,9,-999,9,1.807,1,0.025,1,4.682,1,305.1,2
33RR20180918, GP15,7,3,20,GSNIS-20   ,2,6590,12823,20181003,1729,49.5003,-151.9999,4911,92.3,5.6098,32.6871,2,-999,9,20181003,1754,49.5003,-151.9999,24.05,2,1.53,2,17.89,2,0.03,2,-999,9,-999,9,1.794,1,0.025,1,4.68,1,303.8,2
33RR20180918, GP15,7,3,21,GSNIS-21   ,2,6590,12822,20181003,1729,49.5003,-151.9999,4911,71,5.9231,32.6526,2,5.9188,2,20181003,1756,49.5003,-151.9999,23.66,2,1.52,2,17.59,2,0.06,2,297.04,2,33.1425,4,1.639,1,0.036,1,4.665,1,297.5,2
33RR20180918, GP15,7,3,22,GSNIS-22   ,2,6590,12822,20181003,1729,49.5003,-151.9999,4911,71.7,5.9186,32.6528,2,-999,9,20181003,1756,49.5003,-151.9999,23.66,2,1.52,2,17.61,2,0.06,2,-999,9,-999,9,1.636,1,0.037,1,4.665,1,303.9,2
33RR20180918, GP15,7,3,23,GSNIS-23   ,2,6590,12822,20181003,1729,49.5003,-151.9999,4911,70.6,5.922,32.6535,2,-999,9,20181003,1756,49.5003,-151.9999,23.66,2,1.53,2,17.56,2,0.07,2,-999,9,-999,9,1.634,1,0.035,1,4.664,1,303.3,2
33RR20180918, GP15,7,3,24,GSNIS-24   ,2,6590,12821,20181003,1729,49.5003,-151.9999,4911,61.3,6.6218,32.6452,2,6.6299,2,20181003,1758,49.5003,-151.9999,21.8,2,1.48,2,14.99,2,1.22,2,296.64,2,33.132,4,1.579,1,0.059,1,4.622,1,299.9,2
33RR20180918, GP15,7,3,25,GSNIS-25   ,2,6590,12821,20181003,1729,49.5003,-151.9999,4911,60.8,6.628,32.6448,2,-999,9,20181003,1758,49.5003,-151.9999,21.9,2,1.48,2,15.06,2,1.2,2,-999,9,-999,9,1.577,1,0.059,1,4.622,1,305.6,2
33RR20180918, GP15,7,3,26,GSNIS-26   ,2,6590,12821,20181003,1729,49.5003,-151.9999,4911,60.6,6.6353,32.6446,2,-999,9,20181003,1758,49.5003,-151.9999,21.8,2,1.46,2,14.94,2,1.21,2,-999,9,-999,9,1.575,1,0.056,1,4.621,1,305,2
33RR20180918, GP15,7,3,27,GSNIS-27   ,2,6590,12820,20181003,1729,49.5003,-151.9999,4911,46.1,8.5986,32.5871,2,8.5436,3,20181003,1800,49.5003,-151.9999,19.16,2,1.29,2,12.95,2,0.18,2,300.86,2,33.085,4,1.524,1,0.069,1,4.585,1,299.8,2
33RR20180918, GP15,7,3,28,GSNIS-28   ,2,6590,12820,20181003,1729,49.5003,-151.9999,4911,46.6,8.4752,32.5965,2,-999,9,20181003,1800,49.5003,-151.9999,19.06,2,1.27,2,12.8,2,0.16,2,-999,9,-999,9,1.522,1,0.068,1,4.586,1,296.9,2
33RR20180918, GP15,7,3,29,GSNIS-29   ,2,6590,12820,20181003,1729,49.5003,-151.9999,4911,46,8.5519,32.5898,2,-999,9,20181003,1800,49.5003,-151.9999,19.06,2,1.26,2,12.78,2,0.16,2,-999,9,-999,9,1.519,1,0.072,1,4.584,1,296.2,2
33RR20180918, GP15,7,3,30,GSNIS-30   ,2,6590,12819,20181003,1729,49.5003,-151.9999,4911,35.2,13.6985,32.3851,2,13.7002,2,20181003,1802,49.5003,-151.9999,15.45,2,1.05,2,9.94,2,0.12,2,263.18,2,32.3923,3,1.409,1,0.059,1,4.566,1,260.7,2
33RR20180918, GP15,7,3,31,GSNIS-31   ,2,6590,12819,20181003,1729,49.5003,-151.9999,4911,35.7,13.7003,32.3851,2,-999,9,20181003,1802,49.5003,-151.9999,15.45,2,1.04,2,9.92,2,0.12,2,-999,9,-999,9,1.41,1,0.059,1,4.564,1,265,2
33RR20180918, GP15,7,3,32,GSNIS-32   ,2,6590,12819,20181003,1729,49.5003,-151.9999,4911,36.4,13.7014,32.3853,2,-999,9,20181003,1802,49.5003,-151.9999,15.45,2,1.03,2,9.89,2,0.11,2,-999,9,-999,9,1.411,1,0.059,1,4.565,1,264.4,2
33RR20180918, GP15,7,3,33,GSNIS-33   ,2,6590,12818,20181003,1729,49.5003,-151.9999,4911,21.7,13.7159,32.3849,2,13.7148,2,20181003,1804,49.5003,-151.9999,15.45,2,1.04,2,9.88,2,0.11,2,262.35,2,32.3878,3,1.426,1,0.058,1,4.566,1,265.5,2
33RR20180918, GP15,7,3,34,GSNIS-34   ,2,6590,12818,20181003,1729,49.5003,-151.9999,4911,21.7,13.7158,32.3849,2,-999,9,20181003,1804,49.5003,-151.9999,15.45,2,1.04,2,9.84,2,0.11,2,-999,9,-999,9,1.426,1,0.058,1,4.565,1,264.9,2
33RR20180918, GP15,7,3,35,GSNIS-35   ,2,6590,12818,20181003,1729,49.5003,-151.9999,4911,22.7,13.7159,32.3849,2,-999,9,20181003,1804,49.5003,-151.9999,15.55,2,1.04,2,9.87,2,0.11,2,-999,9,-999,9,1.427,1,0.057,1,4.565,1,264.9,2
33RR20180918, GP15,7,3,36,GSNIS-36   ,2,6590,12817,20181003,1729,49.5003,-151.9999,4911,4.7,13.7155,32.385,2,13.7154,2,20181003,1807,49.5003,-151.9999,15.55,2,1.03,2,9.89,2,0.11,2,262.18,2,32.3871,3,1.438,1,0.051,1,4.56,1,260,2