BOTTLE,20191021PRINUNIVRMK
EXPOCODE,SECT_ID,STNNBR,CASTNO,SAMPNO,BTLNBR,BTLNBR_FLAG_W,DATE,TIME,LATITUDE,LONGITUDE,DEPTH,CTDPRS,CTDTMP,CTDSAL,CTDSAL_FLAG_W,SALNTY,SALNTY_FLAG_W,OXYGEN,OXYGEN_FLAG_W,SILCAT,SILCAT_FLAG_W,NITRAT,NITRAT_FLAG_W,NITRIT,NITRIT_FLAG_W,PHSPHT,PHSPHT_FLAG_W,CFC-11,CFC-11_FLAG_W,CFC-12,CFC-12_FLAG_W,TCARBN,TCARBN_FLAG_W,ALKALI,ALKALI_FLAG_W,PH_TOT,PH_TOT_FLAG_W,PH_TMP,BTL_TIME
,,,,,,,,,,,METERS,DBAR,ITS-90,PSS-78,,PSS-78,,UMOL/KG,,UMOL/KG,,UMOL/KG,,UMOL/KG,,UMOL/KG,,PMOL/KG,,PMOL/KG,,UMOL/KG,,UMOL/KG,,,,DEG C,
  49UF20131029,KS1308,  4036,  1,     99,     99,2,20131106,0256, 39.5003, 136.6760, 2671,      0.0,  17.7261,  33.1078,2,  33.1128,4,    239.6,2,     2.14,2,     0.00,2,     0.00,2,     0.01,2, -999.000,9, -999.000,9,   1978.3,3,   2242.2,2,   8.0413,2,    25.00,      327
  49UF20131029,KS1308,  4036,  1,     36,  21995,2,20131106,0256, 39.5003, 136.6760, 2671,     10.5,  17.7201,  33.1085,2,  33.1067,2,    240.2,2,     2.16,2,     0.00,2,     0.00,2,     0.01,2, -999.000,9, -999.000,9,   2004.3,3,   2242.8,2,   8.0393,2,    25.00,      404
  49UF20131029,KS1308,  4036,  1,     35,  22087,2,20131106,0256, 39.5003, 136.6760, 2671,     25.7,  17.4297,  33.2227,2,  33.2856,4,    234.5,2,     2.75,2,     0.30,2,     0.06,2,     0.05,2, -999.000,9, -999.000,9,   1996.0,3,   2254.6,2,   7.9891,2,    25.00,      403
  49UF20131029,KS1308,  4036,  1,     33,  21992,2,20131106,0256, 39.5003, 136.6760, 2671,     51.5,  10.3925,  34.1360,2,  34.1201,4,    260.0,2,     8.03,2,     6.31,2,     0.05,2,     0.52,2, -999.000,9, -999.000,9,   2077.7,2,   2265.2,2,   7.8519,2,    25.00,      401
  49UF20131029,KS1308,  4036,  1,     32,  21991,2,20131106,0256, 39.5003, 136.6760, 2671,     77.3,   6.3468,  34.0485,2,  34.0486,2,    266.7,2,    11.00,2,     9.58,2,     0.02,2,     0.72,2, -999.000,9, -999.000,9,   2109.5,2,   2263.6,2,   7.7664,2,    25.00,      400
  49UF20131029,KS1308,  4036,  1,     31,  21990,2,20131106,0256, 39.5003, 136.6760, 2671,    105.7,   4.2295,  34.0340,2,  34.0298,2,    269.9,2,    14.68,2,    12.02,2,     0.01,2,     0.90,2, -999.000,9, -999.000,9,   2135.8,2,   2263.1,2,   7.7030,6,    25.00,      356
  49UF20131029,KS1308,  4036,  1,     30,  21989,2,20131106,0256, 39.5003, 136.6760, 2671,    129.6,   2.9283,  34.0427,2,  34.0424,2,    266.1,2,    20.14,2,    14.81,2,     0.00,2,     1.12,2, -999.000,9, -999.000,9,   2159.3,2,   2263.5,2,   7.6388,2,    25.00,      354
  49UF20131029,KS1308,  4036,  1,     29,  21988,2,20131106,0256, 39.5003, 136.6760, 2671,    152.1,   2.3404,  34.0438,2,  34.0418,2,    263.6,2,    22.84,2,    16.19,2,     0.00,2,     1.22,2, -999.000,9, -999.000,9,   2172.9,2,   2261.6,2,   7.6077,2,    25.00,      353
  49UF20131029,KS1308,  4036,  1,     28,  21987,2,20131106,0256, 39.5003, 136.6760, 2671,    203.6,   1.4775,  34.0490,2,  34.0476,2,    259.8,2,    28.15,2,    18.43,2,     0.00,2,     1.40,2, -999.000,9, -999.000,9,   2191.6,2,   2262.2,2,   7.5555,2,    25.00,      351
  49UF20131029,KS1308,  4036,  1,     27,  21986,3,20131106,0256, 39.5003, 136.6760, 2671,    203.6,   1.4775,  34.0490,2,  34.0466,2,    259.8,2,    28.05,2,    18.41,2,     0.00,2,     1.40,2, -999.000,9, -999.000,9,   2189.7,2,   2262.7,2,   7.5620,2,    25.00,      351
  49UF20131029,KS1308,  4036,  1,     26,  21985,2,20131106,0256, 39.5003, 136.6760, 2671,    253.5,   1.1119,  34.0518,2,  34.0503,2,    267.6,2,    29.13,2,    18.61,2,     0.00,2,     1.42,2, -999.000,9, -999.000,9,   2192.3,2,   2261.5,2,   7.5498,2,    25.00,      349
  49UF20131029,KS1308,  4036,  1,     25,  21984,2,20131106,0256, 39.5003, 136.6760, 2671,    305.0,   0.9550,  34.0566,2,  34.0557,2,    261.1,2,    31.45,2,    19.52,2,     0.00,2,     1.49,2, -999.000,9, -999.000,9,   2197.3,6,   2262.3,6,   7.5289,2,    25.00,      346
  49UF20131029,KS1308,  4036,  1,     21,  21980,2,20131106,0256, 39.5003, 136.6760, 2671,    409.5,   0.7942,  34.0691,2,  34.0674,2,    212.1,2,    44.51,2,    24.27,2,     0.00,2,     1.88,2, -999.000,9, -999.000,9,   2233.2,2,   2264.4,2,   7.4402,2,    25.00,      342
  49UF20131029,KS1308,  4036,  1,     20,  21979,2,20131106,0256, 39.5003, 136.6760, 2671,    507.9,   0.6219,  34.0707,2,  34.0696,6,    207.8,2,    49.82,2,    24.84,2,     0.00,2,     1.93,2, -999.000,9, -999.000,9,   2238.0,2,   2264.7,2,   7.4270,2,    25.00,      338
  49UF20131029,KS1308,  4036,  1,     19,  21978,3,20131106,0256, 39.5003, 136.6760, 2671,    607.4,   0.5108,  34.0712,2,  34.0693,2,    206.6,2,    53.98,2,    24.96,2,     0.00,2,     1.94,2, -999.000,9, -999.000,9,   2241.7,2,   2267.3,2,   7.4238,2,    25.00,      334
  49UF20131029,KS1308,  4036,  1,     18,  21977,2,20131106,0256, 39.5003, 136.6760, 2671,    711.4,   0.4270,  34.0707,2,  34.0703,2,    204.8,2,    59.04,2,    25.06,2,     0.00,2,     1.95,2, -999.000,9, -999.000,9,   2241.3,2,   2269.3,2,   7.4303,2,    25.00,      331
  49UF20131029,KS1308,  4036,  1,     17,  23679,2,20131106,0256, 39.5003, 136.6760, 2671,    809.9,   0.3741,  34.0705,2,  34.0692,2,    204.2,3,    61.62,2,    25.14,2,     0.00,2,     1.96,2, -999.000,9, -999.000,9,   2245.4,2,   2272.2,2,   7.4231,2,    25.00,      328
  49UF20131029,KS1308,  4036,  1,     16,  21975,2,20131106,0256, 39.5003, 136.6760, 2671,    809.9,   0.3741,  34.0705,2,  34.0692,2,    203.8,2,    61.78,2,    25.05,2,     0.00,2,     1.96,2, -999.000,9, -999.000,9,   2243.1,2,   2272.3,2,   7.4251,2,    25.00,      328
  49UF20131029,KS1308,  4036,  1,     15,  21974,2,20131106,0256, 39.5003, 136.6760, 2671,    908.5,   0.3310,  34.0699,2,  34.0693,2,    203.1,2,    65.23,2,    25.22,2,     0.00,2,     1.96,2, -999.000,9, -999.000,9,   2246.0,2,   2274.1,2,   7.4256,2,    25.00,      326
  49UF20131029,KS1308,  4036,  1,     14,  21973,2,20131106,0256, 39.5003, 136.6760, 2671,   1010.8,   0.2985,  34.0693,2,  34.0682,2,    202.6,6,    68.07,6,    25.22,6,     0.00,6,     1.97,6, -999.000,9, -999.000,9,   2244.6,2,   2275.6,2,   7.4256,2,    25.00,      324
  49UF20131029,KS1308,  4036,  1,     13,  21972,2,20131106,0256, 39.5003, 136.6760, 2671,   1211.8,   0.2510,  34.0686,2,  34.0691,2,    202.2,2,    73.18,2,    25.25,2,     0.00,2,     1.98,2, -999.000,9, -999.000,9,   2247.1,2,   2278.9,2,   7.4313,6,    25.00,      320
  49UF20131029,KS1308,  4036,  1,      9,  21968,2,20131106,0256, 39.5003, 136.6760, 2671,   1414.3,   0.2278,  34.0683,2,  34.0676,2,    202.1,2,    76.51,2,    25.37,2,     0.00,2,     1.99,2, -999.000,9, -999.000,9,   2246.3,2,   2281.0,2,   7.4327,2,    25.00,      317
  49UF20131029,KS1308,  4036,  1,      8,  21982,2,20131106,0256, 39.5003, 136.6760, 2671,   1617.2,   0.2194,  34.0682,2,  34.0677,2,    201.3,6,    79.65,6,    25.46,6,     0.00,6,     1.99,6, -999.000,9, -999.000,9,   2251.1,2,   2281.0,2,   7.4343,2,    25.00,      314
  49UF20131029,KS1308,  4036,  1,      7,  21966,2,20131106,0256, 39.5003, 136.6760, 2671,   1818.4,   0.2179,  34.0681,2,  34.0667,2,    201.4,2,    81.39,2,    25.47,2,     0.00,2,     2.00,2, -999.000,9, -999.000,9,   2249.9,2,   2282.1,2,   7.4360,2,    25.00,      310
  49UF20131029,KS1308,  4036,  1,      6,  21965,2,20131106,0256, 39.5003, 136.6760, 2671,   2020.6,   0.2225,  34.0679,2,  34.0673,2,    200.8,6,    83.75,6,    25.55,6,     0.00,6,     2.00,6, -999.000,9, -999.000,9,   2250.6,2,   2284.3,2,   7.4353,2,    25.00,      307
  49UF20131029,KS1308,  4036,  1,      5,  21964,2,20131106,0256, 39.5003, 136.6760, 2671,   2022.5,   0.2224,  34.0679,2,  34.0679,2,    200.7,6,    83.76,6,    25.53,6,     0.00,6,     2.01,6, -999.000,9, -999.000,9,   2249.4,2,   2282.7,2,   7.4370,2,    25.00,      307
  49UF20131029,KS1308,  4036,  1,      4,  21963,2,20131106,0256, 39.5003, 136.6760, 2671,   2024.1,   0.2225,  34.0679,2,-999.0000,9,    201.1,6,    83.43,6,    25.45,6,     0.00,6,     2.00,6, -999.000,9, -999.000,9,   -999.0,9,   -999.0,9,-999.0000,9,  -999.00,      307
  49UF20131029,KS1308,  4036,  1,      3,  22079,3,20131106,0256, 39.5003, 136.6760, 2671,   2278.3,   0.2348,  34.0679,2,  34.0665,2,    200.5,2,    85.00,2,    25.57,2,     0.00,2,     2.00,2, -999.000,9, -999.000,9,   2251.5,6,   2284.6,6,   7.4389,2,    25.00,      303
  49UF20131029,KS1308,  4036,  1,      2,  21961,3,20131106,0256, 39.5003, 136.6760, 2671,   2531.8,   0.2482,  34.0678,2,  34.0667,6,    201.4,2,    85.48,2,    25.61,2,     0.00,2,     2.00,2, -999.000,9, -999.000,9,   2252.4,2,   2284.6,2,   7.4398,2,    25.00,      258
  49UF20131029,KS1308,  4036,  1,      1,  21960,2,20131106,0256, 39.5003, 136.6760, 2671,   2641.4,   0.2507,  34.0678,2,  34.0673,6,    202.0,2,    86.58,2,    25.57,2,     0.00,2,     2.01,2, -999.000,9, -999.000,9,   2252.7,2,   2285.3,2,   7.4422,2,    25.00,      256
  49UF20131029,KS1308,  4038,  1,     99,     99,2,20131106,2208, 39.0508, 136.9952, 2202,      0.0,  17.8096,  33.0748,2,-999.0000,9,    238.7,2,     2.27,2,     0.08,2,     0.02,2,     0.03,2, -999.000,9, -999.000,9,   -999.0,9,   -999.0,9,-999.0000,9,  -999.00,     2235
  49UF20131029,KS1308,  4038,  1,     36,  21995,2,20131106,2208, 39.0508, 136.9952, 2202,     10.8,  17.8364,  33.1364,2,-999.0000,9,    238.9,2,     2.26,2,     0.04,2,     0.02,2,     0.02,2, -999.000,9, -999.000,9,   -999.0,9,   -999.0,9,-999.0000,9,  -999.00,     2314
  49UF20131029,KS1308,  4038,  1,     35,  22087,2,20131106,2208, 39.0508, 136.9952, 2202,     26.5,  17.8008,  33.1552,2,-999.0000,9,    238.5,2,     2.26,2,     0.07,2,     0.03,2,     0.03,2, -999.000,9, -999.000,9,   -999.0,9,   -999.0,9,-999.0000,9,  -999.00,     2313
  49UF20131029,KS1308,  4038,  1,     33,  21992,2,20131106,2208, 39.0508, 136.9952, 2202,     49.7,  16.2057,  33.7654,2,-999.0000,9,    195.9,2,     9.48,2,     6.02,2,     0.21,2,     0.44,2, -999.000,9, -999.000,9,   -999.0,9,   -999.0,9,-999.0000,9,  -999.00,     2311
  49UF20131029,KS1308,  4038,  1,     32,  21991,2,20131106,2208, 39.0508, 136.9952, 2202,     77.3,   9.8359,  34.1258,2,-999.0000,9,    253.8,2,     8.76,2,     6.77,2,     0.04,2,     0.55,2, -999.000,9, -999.000,9,   -999.0,9,   -999.0,9,-999.0000,9,  -999.00,     2309
  49UF20131029,KS1308,  4038,  1,     31,  21990,2,20131106,2208, 39.0508, 136.9952, 2202,    102.2,   7.6290,  34.0867,2,-999.0000,9,    256.3,2,    10.66,2,     9.18,2,     0.02,2,     0.68,2, -999.000,9, -999.000,9,   -999.0,9,   -999.0,9,-999.0000,9,  -999.00,     2308
  49UF20131029,KS1308,  4038,  1,     30,  21989,2,20131106,2208, 39.0508, 136.9952, 2202,    126.7,   4.8014,  34.0464,2,-999.0000,9,    265.1,2,    14.99,2,    11.92,2,     0.01,2,     0.90,2, -999.000,9, -999.000,9,   -999.0,9,   -999.0,9,-999.0000,9,  -999.00,     2306
  49UF20131029,KS1308,  4038,  1,     29,  21988,2,20131106,2208, 39.0508, 136.9952, 2202,    126.7,   4.8014,  34.0464,2,-999.0000,9,    265.2,2,    15.00,2,    11.95,2,     0.01,2,     0.90,2, -999.000,9, -999.000,9,   -999.0,9,   -999.0,9,-999.0000,9,  -999.00,     2306
  49UF20131029,KS1308,  4038,  1,     28,  21987,2,20131106,2208, 39.0508, 136.9952, 2202,    152.4,   3.1978,  34.0330,2,-999.0000,9,    273.7,2,    17.48,2,    13.58,2,     0.01,2,     1.02,2, -999.000,9, -999.000,9,   -999.0,9,   -999.0,9,-999.0000,9,  -999.00,     2302
  49UF20131029,KS1308,  4038,  1,     27,  21986,2,20131106,2208, 39.0508, 136.9952, 2202,    202.8,   2.1581,  34.0504,2,-999.0000,9,    253.4,2,    25.79,2,    17.46,2,     0.01,2,     1.32,2, -999.000,9, -999.000,9,   -999.0,9,   -999.0,9,-999.0000,9,  -999.00,     2300
  49UF20131029,KS1308,  4038,  1,     26,  21985,2,20131106,2208, 39.0508, 136.9952, 2202,    252.3,   1.3682,  34.0585,2,-999.0000,9,    227.6,2,    36.53,2,    21.55,2,     0.01,2,     1.65,2, -999.000,9, -999.000,9,   -999.0,9,   -999.0,9,-999.0000,9,  -999.00,     2257
  49UF20131029,KS1308,  4038,  1,     25,  21984,2,20131106,2208, 39.0508, 136.9952, 2202,    304.1,   0.9836,  34.0645,2,-999.0000,9,    221.5,2,    39.85,2,    23.01,2,     0.00,2,     1.76,2, -999.000,9, -999.000,9,   -999.0,9,   -999.0,9,-999.0000,9,  -999.00,     2256
  49UF20131029,KS1308,  4038,  1,     21,  21980,2,20131106,2208, 39.0508, 136.9952, 2202,    405.3,   0.7218,  34.0695,2,-999.0000,9,    210.2,2,    46.78,2,    24.60,2,     0.01,2,     1.90,2, -999.000,9, -999.000,9,   -999.0,9,   -999.0,9,-999.0000,9,  -999.00,     2253
  49UF20131029,KS1308,  4038,  1,     20,  21979,2,20131106,2208, 39.0508, 136.9952, 2202,    504.9,   0.5800,  34.0704,2,-999.0000,9,    207.3,2,    51.79,2,    24.94,2,     0.00,2,     1.93,2, -999.000,9, -999.000,9,   -999.0,9,   -999.0,9,-999.0000,9,  -999.00,     2250
  49UF20131029,KS1308,  4038,  1,     19,  21978,2,20131106,2208, 39.0508, 136.9952, 2202,    606.2,   0.4823,  34.0711,2,-999.0000,9,    206.9,2,    55.27,2,    25.02,2,     0.00,2,     1.94,2, -999.000,9, -999.000,9,   -999.0,9,   -999.0,9,-999.0000,9,  -999.00,     2247
  49UF20131029,KS1308,  4038,  1,     18,  21977,2,20131106,2208, 39.0508, 136.9952, 2202,    708.5,   0.4034,  34.0704,2,-999.0000,9,    204.4,2,    60.17,2,    25.17,2,     0.00,2,     1.96,2, -999.000,9, -999.000,9,   -999.0,9,   -999.0,9,-999.0000,9,  -999.00,     2243
  49UF20131029,KS1308,  4038,  1,     17,  23679,2,20131106,2208, 39.0508, 136.9952, 2202,    708.5,   0.4034,  34.0704,2,-999.0000,9,    204.5,2,    60.16,2,    25.22,2,     0.01,2,     1.96,2, -999.000,9, -999.000,9,   -999.0,9,   -999.0,9,-999.0000,9,  -999.00,     2243
  49UF20131029,KS1308,  4038,  1,     16,  21975,2,20131106,2208, 39.0508, 136.9952, 2202,    808.1,   0.3600,  34.0701,2,-999.0000,9,    203.6,2,    63.13,2,    25.28,2,     0.01,2,     1.96,2, -999.000,9, -999.000,9,   -999.0,9,   -999.0,9,-999.0000,9,  -999.00,     2240
  49UF20131029,KS1308,  4038,  1,     15,  21974,2,20131106,2208, 39.0508, 136.9952, 2202,    909.7,   0.3130,  34.0695,2,-999.0000,9,    203.0,6,    66.49,6,    25.30,6,     0.00,6,     1.97,6, -999.000,9, -999.000,9,   -999.0,9,   -999.0,9,-999.0000,9,  -999.00,     2237
  49UF20131029,KS1308,  4038,  1,     14,  21973,2,20131106,2208, 39.0508, 136.9952, 2202,   1009.3,   0.2828,  34.0692,2,-999.0000,9,    202.7,2,    69.44,2,    25.33,2,     0.00,2,     1.98,2, -999.000,9, -999.000,9,   -999.0,9,   -999.0,9,-999.0000,9,  -999.00,     2234
  49UF20131029,KS1308,  4038,  1,     13,  21972,2,20131106,2208, 39.0508, 136.9952, 2202,   1212.5,   0.2475,  34.0686,2,-999.0000,9,    202.6,2,    72.94,2,    25.31,2,     0.00,2,     1.99,2, -999.000,9, -999.000,9,   -999.0,9,   -999.0,9,-999.0000,9,  -999.00,     2228
  49UF20131029,KS1308,  4038,  1,      9,  21968,2,20131106,2208, 39.0508, 136.9952, 2202,   1415.7,   0.2248,  34.0680,2,-999.0000,9,    201.6,6,    77.47,6,    25.40,6,     0.00,6,     1.99,6, -999.000,9, -999.000,9,   -999.0,9,   -999.0,9,-999.0000,9,  -999.00,     2224
  49UF20131029,KS1308,  4038,  1,      8,  21982,2,20131106,2208, 39.0508, 136.9952, 2202,   1617.9,   0.2132,  34.0680,2,-999.0000,9,    201.3,2,    80.66,2,    25.49,2,     0.00,2,     2.00,2, -999.000,9, -999.000,9,   -999.0,9,   -999.0,9,-999.0000,9,  -999.00,     2219
  49UF20131029,KS1308,  4038,  1,      7,  21966,2,20131106,2208, 39.0508, 136.9952, 2202,   1819.8,   0.2110,  34.0677,2,-999.0000,9,    201.0,2,    83.18,2,    25.63,2,     0.00,2,     2.00,2, -999.000,9, -999.000,9,   -999.0,9,   -999.0,9,-999.0000,9,  -999.00,     2214
  49UF20131029,KS1308,  4038,  1,      6,  21965,2,20131106,2208, 39.0508, 136.9952, 2202,   2020.8,   0.2146,  34.0678,2,  34.0651,4,    200.6,2,    86.08,2,    25.71,2,     0.00,2,     2.01,2, -999.000,9, -999.000,9,   -999.0,9,   -999.0,9,-999.0000,9,  -999.00,     2210
  49UF20131029,KS1308,  4038,  1,      5,  21964,2,20131106,2208, 39.0508, 136.9952, 2202,   2083.4,   0.2170,  34.0678,2,  34.0675,2,    200.1,2,    87.06,2,    25.78,2,     0.01,2,     2.02,2, -999.000,9, -999.000,9,   -999.0,9,   -999.0,9,-999.0000,9,  -999.00,     2208