BOTTLE,20191021PRINUNIVRMK
EXPOCODE,SECT_ID,STNNBR,CASTNO,SAMPNO,BTLNBR,BTLNBR_FLAG_W,DATE,TIME,LATITUDE,LONGITUDE,DEPTH,CTDPRS,CTDTMP,CTDSAL,CTDSAL_FLAG_W,SALNTY,SALNTY_FLAG_W,OXYGEN,OXYGEN_FLAG_W,SILCAT,SILCAT_FLAG_W,NITRAT,NITRAT_FLAG_W,NITRIT,NITRIT_FLAG_W,PHSPHT,PHSPHT_FLAG_W,CFC-11,CFC-11_FLAG_W,CFC-12,CFC-12_FLAG_W,TCARBN,TCARBN_FLAG_W,ALKALI,ALKALI_FLAG_W,PH_TOT,PH_TOT_FLAG_W,PH_TMP,BTL_TIME
,,,,,,,,,,,METERS,DBAR,ITS-90,PSS-78,,PSS-78,,UMOL/KG,,UMOL/KG,,UMOL/KG,,UMOL/KG,,UMOL/KG,,PMOL/KG,,PMOL/KG,,UMOL/KG,,UMOL/KG,,,,DEG C,
  49UF20131029,KS1308,  4061,  1,     99,     99,2,20131123,2156, 39.8310, 134.5062, 1762,      0.0,  11.7659,  33.7277,2,-999.0000,9,    262.1,2,     5.09,2,     2.09,2,     0.13,2,     0.19,2, -999.000,9, -999.000,9,   -999.0,9,   -999.0,9,-999.0000,9,  -999.00,     2225
  49UF20131029,KS1308,  4061,  1,     36,  21995,2,20131123,2156, 39.8310, 134.5062, 1762,     10.3,  11.7527,  33.7293,2,  33.7272,2,    262.0,2,     5.10,2,     2.07,2,     0.13,2,     0.19,2, -999.000,9, -999.000,9,   -999.0,9,   -999.0,9,-999.0000,9,  -999.00,     2244
  49UF20131029,KS1308,  4061,  1,     35,  22087,2,20131123,2156, 39.8310, 134.5062, 1762,     25.5,  11.3677,  33.7630,2,  33.7842,4,    263.5,6,     5.18,6,     2.20,6,     0.10,6,     0.21,6, -999.000,9, -999.000,9,   -999.0,9,   -999.0,9,-999.0000,9,  -999.00,     2243
  49UF20131029,KS1308,  4061,  1,     33,  21992,2,20131123,2156, 39.8310, 134.5062, 1762,     49.8,   9.5661,  33.8783,2,  33.8922,4,    274.2,2,     5.34,2,     2.43,2,     0.07,2,     0.24,2, -999.000,9, -999.000,9,   -999.0,9,   -999.0,9,-999.0000,9,  -999.00,     2240
  49UF20131029,KS1308,  4061,  1,     32,  21991,2,20131123,2156, 39.8310, 134.5062, 1762,     75.5,   6.5407,  34.0449,2,  34.0442,2,    263.6,2,    10.95,2,     9.49,2,     0.02,2,     0.71,2, -999.000,9, -999.000,9,   -999.0,9,   -999.0,9,-999.0000,9,  -999.00,     2239
  49UF20131029,KS1308,  4061,  1,     31,  21990,2,20131123,2156, 39.8310, 134.5062, 1762,    101.1,   4.8232,  34.0131,2,  34.0138,2,    276.2,2,    11.83,2,    10.21,2,     0.02,2,     0.76,2, -999.000,9, -999.000,9,   -999.0,9,   -999.0,9,-999.0000,9,  -999.00,     2237
  49UF20131029,KS1308,  4061,  1,     27,  21986,2,20131123,2156, 39.8310, 134.5062, 1762,    126.4,   3.2016,  34.0010,2,  34.0032,2,    282.0,2,    14.67,2,    12.13,2,     0.01,2,     0.91,2, -999.000,9, -999.000,9,   -999.0,9,   -999.0,9,-999.0000,9,  -999.00,     2236
  49UF20131029,KS1308,  4061,  1,     26,  21985,2,20131123,2156, 39.8310, 134.5062, 1762,    152.0,   2.6892,  34.0080,2,  34.0073,2,    281.9,2,    16.35,2,    13.11,2,     0.01,2,     0.98,2, -999.000,9, -999.000,9,   -999.0,9,   -999.0,9,-999.0000,9,  -999.00,     2235
  49UF20131029,KS1308,  4061,  1,     25,  21984,2,20131123,2156, 39.8310, 134.5062, 1762,    203.4,   1.4443,  34.0059,2,  34.0064,2,    287.3,2,    20.22,2,    15.09,2,     0.00,2,     1.13,2, -999.000,9, -999.000,9,   -999.0,9,   -999.0,9,-999.0000,9,  -999.00,     2234
  49UF20131029,KS1308,  4061,  1,     24,  21983,2,20131123,2156, 39.8310, 134.5062, 1762,    252.8,   1.1929,  34.0301,2,  34.0302,2,    275.1,2,    24.96,2,    17.19,2,     0.00,2,     1.30,2, -999.000,9, -999.000,9,   -999.0,9,   -999.0,9,-999.0000,9,  -999.00,     2232
  49UF20131029,KS1308,  4061,  1,     23,  22095,2,20131123,2156, 39.8310, 134.5062, 1762,    252.8,   1.1929,  34.0301,2,  34.0303,2,    275.0,2,    24.99,2,    17.21,2,     0.00,2,     1.30,2, -999.000,9, -999.000,9,   -999.0,9,   -999.0,9,-999.0000,9,  -999.00,     2232
  49UF20131029,KS1308,  4061,  1,     22,  22665,2,20131123,2156, 39.8310, 134.5062, 1762,    304.0,   1.0057,  34.0460,2,  34.0457,2,    262.4,6,    29.22,6,    18.99,6,     0.01,6,     1.44,6, -999.000,9, -999.000,9,   -999.0,9,   -999.0,9,-999.0000,9,  -999.00,     2230
  49UF20131029,KS1308,  4061,  1,     15,  21974,2,20131123,2156, 39.8310, 134.5062, 1762,    404.0,   0.8076,  34.0594,2,  34.0593,2,    246.6,2,    35.14,2,    21.23,2,     0.01,2,     1.62,2, -999.000,9, -999.000,9,   -999.0,9,   -999.0,9,-999.0000,9,  -999.00,     2228
  49UF20131029,KS1308,  4061,  1,     14,  21973,3,20131123,2156, 39.8310, 134.5062, 1762,    505.5,   0.6866,  34.0670,2,  34.0680,6,    223.7,2,    43.11,2,    23.49,2,     0.00,2,     1.81,2, -999.000,9, -999.000,9,   -999.0,9,   -999.0,9,-999.0000,9,  -999.00,     2225
  49UF20131029,KS1308,  4061,  1,     13,  21972,2,20131123,2156, 39.8310, 134.5062, 1762,    606.7,   0.6012,  34.0691,2,  34.0690,2,    215.9,2,    48.06,2,    24.13,2,     0.00,2,     1.87,2, -999.000,9, -999.000,9,   -999.0,9,   -999.0,9,-999.0000,9,  -999.00,     2223
  49UF20131029,KS1308,  4061,  1,     12,  21994,2,20131123,2156, 39.8310, 134.5062, 1762,    708.1,   0.5212,  34.0698,2,  34.0707,2,    210.3,2,    52.89,2,    24.67,2,     0.00,2,     1.91,2, -999.000,9, -999.000,9,   -999.0,9,   -999.0,9,-999.0000,9,  -999.00,     2220
  49UF20131029,KS1308,  4061,  1,     11,  21970,3,20131123,2156, 39.8310, 134.5062, 1762,    809.6,   0.4628,  34.0698,2,  34.0697,2,    207.4,2,    56.75,2,    24.79,2,     0.00,2,     1.93,2, -999.000,9, -999.000,9,   -999.0,9,   -999.0,9,-999.0000,9,  -999.00,     2217
  49UF20131029,KS1308,  4061,  1,      9,  21968,2,20131123,2156, 39.8310, 134.5062, 1762,    910.4,   0.4072,  34.0692,2,  34.0701,2,    205.2,2,    60.27,2,    25.00,2,     0.00,2,     1.95,2, -999.000,9, -999.000,9,   -999.0,9,   -999.0,9,-999.0000,9,  -999.00,     2215
  49UF20131029,KS1308,  4061,  1,      8,  21982,2,20131123,2156, 39.8310, 134.5062, 1762,   1011.2,   0.3646,  34.0691,2,  34.0699,6,    203.8,6,    63.84,6,    25.09,6,     0.00,6,     1.96,6, -999.000,9, -999.000,9,   -999.0,9,   -999.0,9,-999.0000,9,  -999.00,     2212
  49UF20131029,KS1308,  4061,  1,      7,  21966,2,20131123,2156, 39.8310, 134.5062, 1762,   1215.4,   0.2988,  34.0684,2,  34.0691,2,    201.9,2,    69.87,2,    25.24,2,     0.00,2,     1.97,2, -999.000,9, -999.000,9,   -999.0,9,   -999.0,9,-999.0000,9,  -999.00,     2207
  49UF20131029,KS1308,  4061,  1,      6,  21965,2,20131123,2156, 39.8310, 134.5062, 1762,   1215.4,   0.2988,  34.0684,2,  34.0688,2,    202.5,2,    69.90,2,    25.24,2,     0.00,2,     1.98,2, -999.000,9, -999.000,9,   -999.0,9,   -999.0,9,-999.0000,9,  -999.00,     2207
  49UF20131029,KS1308,  4061,  1,      5,  21964,2,20131123,2156, 39.8310, 134.5062, 1762,   1415.0,   0.2608,  34.0674,2,  34.0685,2,    200.7,2,    75.63,2,    25.33,2,     0.00,2,     1.99,2, -999.000,9, -999.000,9,   -999.0,9,   -999.0,9,-999.0000,9,  -999.00,     2203
  49UF20131029,KS1308,  4061,  1,      4,  21963,2,20131123,2156, 39.8310, 134.5062, 1762,   1619.5,   0.2335,  34.0669,2,  34.0688,4,    197.6,2,    82.37,2,    25.55,2,     0.00,2,     2.02,2, -999.000,9, -999.000,9,   -999.0,9,   -999.0,9,-999.0000,9,  -999.00,     2159
  49UF20131029,KS1308,  4061,  1,      1,  21960,2,20131123,2156, 39.8310, 134.5062, 1762,   1710.7,   0.2243,  34.0669,2,  34.0679,2,    193.7,2,    87.52,2,    25.76,2,     0.01,2,     2.04,2, -999.000,9, -999.000,9,   -999.0,9,   -999.0,9,-999.0000,9,  -999.00,     2156