BOTTLE,20191021PRINUNIVRMK
EXPOCODE,SECT_ID,STNNBR,CASTNO,SAMPNO,BTLNBR,BTLNBR_FLAG_W,DATE,TIME,LATITUDE,LONGITUDE,DEPTH,CTDPRS,CTDTMP,CTDSAL,CTDSAL_FLAG_W,SALNTY,SALNTY_FLAG_W,OXYGEN,OXYGEN_FLAG_W,SILCAT,SILCAT_FLAG_W,NITRAT,NITRAT_FLAG_W,NITRIT,NITRIT_FLAG_W,PHSPHT,PHSPHT_FLAG_W,CFC-11,CFC-11_FLAG_W,CFC-12,CFC-12_FLAG_W,TCARBN,TCARBN_FLAG_W,ALKALI,ALKALI_FLAG_W,PH_TOT,PH_TOT_FLAG_W,PH_TMP,BTL_TIME
,,,,,,,,,,,METERS,DBAR,ITS-90,PSS-78,,PSS-78,,UMOL/KG,,UMOL/KG,,UMOL/KG,,UMOL/KG,,UMOL/KG,,PMOL/KG,,PMOL/KG,,UMOL/KG,,UMOL/KG,,,,DEG C,
  49UF20131029,KS1308,  4049,  1,     99,     99,2,20131121,1528, 37.2812, 135.0338, 1024,      0.0,  18.2509,  33.4828,2,-999.0000,9,    223.9,2,     4.15,2,     2.36,2,     0.50,2,     0.18,2, -999.000,9, -999.000,9,   -999.0,9,   -999.0,9,-999.0000,9,  -999.00,     1542
  49UF20131029,KS1308,  4049,  1,     36,  21995,2,20131121,1528, 37.2812, 135.0338, 1024,     10.5,  18.2631,  33.4821,2,-999.0000,9,    222.7,2,     4.21,2,     2.38,2,     0.49,2,     0.18,2, -999.000,9, -999.000,9,   -999.0,9,   -999.0,9,-999.0000,9,  -999.00,     1559
  49UF20131029,KS1308,  4049,  1,     35,  22087,2,20131121,1528, 37.2812, 135.0338, 1024,     25.8,  18.2624,  33.4815,2,-999.0000,9,    223.1,2,     4.20,2,     2.35,2,     0.49,2,     0.18,2, -999.000,9, -999.000,9,   -999.0,9,   -999.0,9,-999.0000,9,  -999.00,     1558
  49UF20131029,KS1308,  4049,  1,     34,  22666,4,20131121,1528, 37.2812, 135.0338, 1024,     51.8,  18.2696,  33.4845,2,-999.0000,9,   -999.0,9,  -999.00,9,  -999.00,9,  -999.00,9,  -999.00,9, -999.000,9, -999.000,9,   -999.0,9,   -999.0,9,-999.0000,9,  -999.00,     1554
  49UF20131029,KS1308,  4049,  1,     27,  21986,2,20131121,1528, 37.2812, 135.0338, 1024,     75.4,  18.3472,  34.2211,2,-999.0000,9,    153.3,2,    12.48,2,     9.29,2,     0.04,2,     0.63,2, -999.000,9, -999.000,9,   -999.0,9,   -999.0,9,-999.0000,9,  -999.00,     1553
  49UF20131029,KS1308,  4049,  1,     26,  21985,2,20131121,1528, 37.2812, 135.0338, 1024,     99.4,  16.5706,  34.3149,2,-999.0000,9,    179.9,2,    11.18,2,     7.68,2,     0.03,2,     0.55,2, -999.000,9, -999.000,9,   -999.0,9,   -999.0,9,-999.0000,9,  -999.00,     1552
  49UF20131029,KS1308,  4049,  1,     25,  21984,2,20131121,1528, 37.2812, 135.0338, 1024,    125.8,  15.6919,  34.4192,2,-999.0000,9,    196.8,2,     9.84,2,     6.33,2,     0.03,2,     0.48,2, -999.000,9, -999.000,9,   -999.0,9,   -999.0,9,-999.0000,9,  -999.00,     1551
  49UF20131029,KS1308,  4049,  1,     24,  21983,2,20131121,1528, 37.2812, 135.0338, 1024,    151.4,  13.1764,  34.3330,2,-999.0000,9,    224.0,6,     6.32,6,     5.61,6,     0.03,6,     0.44,6, -999.000,9, -999.000,9,   -999.0,9,   -999.0,9,-999.0000,9,  -999.00,     1550
  49UF20131029,KS1308,  4049,  1,     23,  22095,2,20131121,1528, 37.2812, 135.0338, 1024,    200.8,   6.7971,  34.0570,2,-999.0000,9,    262.1,2,    10.83,2,     9.46,2,     0.01,2,     0.71,2, -999.000,9, -999.000,9,   -999.0,9,   -999.0,9,-999.0000,9,  -999.00,     1548
  49UF20131029,KS1308,  4049,  1,     22,  22665,2,20131121,1528, 37.2812, 135.0338, 1024,    200.8,   6.7971,  34.0570,2,-999.0000,9,    261.8,2,    10.80,2,     9.45,2,     0.01,2,     0.71,2, -999.000,9, -999.000,9,   -999.0,9,   -999.0,9,-999.0000,9,  -999.00,     1548
  49UF20131029,KS1308,  4049,  1,     18,  21977,2,20131121,1528, 37.2812, 135.0338, 1024,    251.8,   2.7345,  34.0174,2,-999.0000,9,    276.1,2,    17.99,2,    14.04,2,     0.00,2,     1.06,2, -999.000,9, -999.000,9,   -999.0,9,   -999.0,9,-999.0000,9,  -999.00,     1546
  49UF20131029,KS1308,  4049,  1,     17,  23679,2,20131121,1528, 37.2812, 135.0338, 1024,    302.9,   1.5185,  34.0286,2,-999.0000,9,    272.4,2,    24.14,2,    16.94,2,     0.00,2,     1.28,2, -999.000,9, -999.000,9,   -999.0,9,   -999.0,9,-999.0000,9,  -999.00,     1545
  49UF20131029,KS1308,  4049,  1,     16,  21975,2,20131121,1528, 37.2812, 135.0338, 1024,    404.1,   0.9658,  34.0638,2,-999.0000,9,    217.3,2,    41.39,2,    23.56,2,     0.00,2,     1.82,2, -999.000,9, -999.000,9,   -999.0,9,   -999.0,9,-999.0000,9,  -999.00,     1542
  49UF20131029,KS1308,  4049,  1,     15,  21974,2,20131121,1528, 37.2812, 135.0338, 1024,    506.0,   0.7060,  34.0678,2,-999.0000,9,    210.6,2,    47.56,2,    24.59,2,     0.00,2,     1.90,2, -999.000,9, -999.000,9,   -999.0,9,   -999.0,9,-999.0000,9,  -999.00,     1540
  49UF20131029,KS1308,  4049,  1,     14,  21973,3,20131121,1528, 37.2812, 135.0338, 1024,    605.4,   0.5691,  34.0687,2,-999.0000,9,    209.3,2,    51.96,2,    24.74,2,     0.00,2,     1.92,2, -999.000,9, -999.000,9,   -999.0,9,   -999.0,9,-999.0000,9,  -999.00,     1537
  49UF20131029,KS1308,  4049,  1,     13,  21972,2,20131121,1528, 37.2812, 135.0338, 1024,    705.9,   0.4514,  34.0692,2,-999.0000,9,    206.1,2,    57.81,2,    24.96,2,     0.00,2,     1.95,2, -999.000,9, -999.000,9,   -999.0,9,   -999.0,9,-999.0000,9,  -999.00,     1535
  49UF20131029,KS1308,  4049,  1,      8,  21982,2,20131121,1528, 37.2812, 135.0338, 1024,    807.1,   0.3894,  34.0689,2,-999.0000,9,    204.6,6,    62.06,6,    25.11,6,     0.00,6,     1.96,6, -999.000,9, -999.000,9,   -999.0,9,   -999.0,9,-999.0000,9,  -999.00,     1532
  49UF20131029,KS1308,  4049,  1,      7,  21966,2,20131121,1528, 37.2812, 135.0338, 1024,    910.4,   0.3067,  34.0681,2,-999.0000,9,    201.8,2,    69.38,2,    25.20,2,     0.00,2,     1.98,2, -999.000,9, -999.000,9,   -999.0,9,   -999.0,9,-999.0000,9,  -999.00,     1530
  49UF20131029,KS1308,  4049,  1,      6,  21965,2,20131121,1528, 37.2812, 135.0338, 1024,    910.4,   0.3067,  34.0681,2,-999.0000,9,    201.6,2,    69.61,2,    25.27,2,     0.00,2,     1.99,2, -999.000,9, -999.000,9,   -999.0,9,   -999.0,9,-999.0000,9,  -999.00,     1530
  49UF20131029,KS1308,  4049,  1,      5,  21964,2,20131121,1528, 37.2812, 135.0338, 1024,    986.4,   0.2517,  34.0675,2,-999.0000,9,    200.5,2,    74.70,2,    25.41,2,     0.00,2,     2.00,2, -999.000,9, -999.000,9,   -999.0,9,   -999.0,9,-999.0000,9,  -999.00,     1528
  49UF20131029,KS1308,  4051,  1,     99,     99,2,20131121,2339, 37.3160, 134.3323, 2566,      0.0,  18.0878,  33.3515,2,-999.0000,9,    226.3,2,  -999.00,9,  -999.00,9,  -999.00,9,  -999.00,9, -999.000,9, -999.000,9,   -999.0,9,   -999.0,9,-999.0000,9,  -999.00,       30
  49UF20131029,KS1308,  4051,  1,     36,  21995,2,20131121,2339, 37.3160, 134.3323, 2566,      9.3,  18.0915,  33.3504,2,  33.3518,2,    225.8,2,  -999.00,9,  -999.00,9,  -999.00,9,  -999.00,9, -999.000,9, -999.000,9,   -999.0,9,   -999.0,9,-999.0000,9,  -999.00,       47
  49UF20131029,KS1308,  4051,  1,     35,  22087,2,20131121,2339, 37.3160, 134.3323, 2566,     24.5,  18.0976,  33.3490,2,  33.3504,2,    225.8,6,  -999.00,9,  -999.00,9,  -999.00,9,  -999.00,9, -999.000,9, -999.000,9,   -999.0,9,   -999.0,9,-999.0000,9,  -999.00,       45
  49UF20131029,KS1308,  4051,  1,     33,  21992,2,20131121,2339, 37.3160, 134.3323, 2566,     49.0,  18.0900,  33.3495,2,  33.3489,2,    225.9,2,  -999.00,9,  -999.00,9,  -999.00,9,  -999.00,9, -999.000,9, -999.000,9,   -999.0,9,   -999.0,9,-999.0000,9,  -999.00,       44
  49UF20131029,KS1308,  4051,  1,     32,  21991,2,20131121,2339, 37.3160, 134.3323, 2566,     74.5,  18.0455,  34.1628,2,  34.1644,2,    176.6,2,  -999.00,9,  -999.00,9,  -999.00,9,  -999.00,9, -999.000,9, -999.000,9,   -999.0,9,   -999.0,9,-999.0000,9,  -999.00,       42
  49UF20131029,KS1308,  4051,  1,     31,  21990,2,20131121,2339, 37.3160, 134.3323, 2566,     99.0,  16.4628,  34.3401,2,  34.3444,4,    193.4,2,  -999.00,9,  -999.00,9,  -999.00,9,  -999.00,9, -999.000,9, -999.000,9,   -999.0,9,   -999.0,9,-999.0000,9,  -999.00,       38
  49UF20131029,KS1308,  4051,  1,     27,  21986,2,20131121,2339, 37.3160, 134.3323, 2566,    124.6,  15.0444,  34.4503,2,  34.4498,2,    208.9,2,  -999.00,9,  -999.00,9,  -999.00,9,  -999.00,9, -999.000,9, -999.000,9,   -999.0,9,   -999.0,9,-999.0000,9,  -999.00,       37
  49UF20131029,KS1308,  4051,  1,     26,  21985,2,20131121,2339, 37.3160, 134.3323, 2566,    149.7,  12.9322,  34.3244,2,  34.3236,2,    231.2,2,  -999.00,9,  -999.00,9,  -999.00,9,  -999.00,9, -999.000,9, -999.000,9,   -999.0,9,   -999.0,9,-999.0000,9,  -999.00,       36
  49UF20131029,KS1308,  4051,  1,     25,  21984,2,20131121,2339, 37.3160, 134.3323, 2566,    200.2,   9.7227,  34.1429,2,  34.1458,2,    248.0,2,  -999.00,9,  -999.00,9,  -999.00,9,  -999.00,9, -999.000,9, -999.000,9,   -999.0,9,   -999.0,9,-999.0000,9,  -999.00,       34
  49UF20131029,KS1308,  4051,  1,     24,  21983,2,20131121,2339, 37.3160, 134.3323, 2566,    200.2,   9.7227,  34.1429,2,  34.1461,2,    248.2,2,  -999.00,9,  -999.00,9,  -999.00,9,  -999.00,9, -999.000,9, -999.000,9,   -999.0,9,   -999.0,9,-999.0000,9,  -999.00,       34
  49UF20131029,KS1308,  4051,  1,     22,  22665,2,20131121,2339, 37.3160, 134.3323, 2566,    249.5,   4.6836,  34.0182,2,  34.0197,2,    273.6,2,  -999.00,9,  -999.00,9,  -999.00,9,  -999.00,9, -999.000,9, -999.000,9,   -999.0,9,   -999.0,9,-999.0000,9,  -999.00,       33
  49UF20131029,KS1308,  4051,  1,     21,  21980,2,20131121,2339, 37.3160, 134.3323, 2566,    302.1,   2.8135,  34.0163,2,  34.0188,2,    274.3,6,  -999.00,9,  -999.00,9,  -999.00,9,  -999.00,9, -999.000,9, -999.000,9,   -999.0,9,   -999.0,9,-999.0000,9,  -999.00,       31
  49UF20131029,KS1308,  4051,  1,     20,  21979,2,20131121,2339, 37.3160, 134.3323, 2566,    402.8,   1.2328,  34.0593,2,  34.0603,2,    222.9,2,  -999.00,9,  -999.00,9,  -999.00,9,  -999.00,9, -999.000,9, -999.000,9,   -999.0,9,   -999.0,9,-999.0000,9,  -999.00,       28
  49UF20131029,KS1308,  4051,  1,     19,  21978,2,20131121,2339, 37.3160, 134.3323, 2566,    504.4,   0.8089,  34.0669,2,  34.0682,2,    212.1,2,  -999.00,9,  -999.00,9,  -999.00,9,  -999.00,9, -999.000,9, -999.000,9,   -999.0,9,   -999.0,9,-999.0000,9,  -999.00,       26
  49UF20131029,KS1308,  4051,  1,     15,  21974,2,20131121,2339, 37.3160, 134.3323, 2566,    606.2,   0.6278,  34.0690,2,  34.0674,2,    209.4,2,  -999.00,9,  -999.00,9,  -999.00,9,  -999.00,9, -999.000,9, -999.000,9,   -999.0,9,   -999.0,9,-999.0000,9,  -999.00,       23
  49UF20131029,KS1308,  4051,  1,     14,  21973,2,20131121,2339, 37.3160, 134.3323, 2566,    707.1,   0.5049,  34.0696,2,  34.0702,2,    207.0,2,  -999.00,9,  -999.00,9,  -999.00,9,  -999.00,9, -999.000,9, -999.000,9,   -999.0,9,   -999.0,9,-999.0000,9,  -999.00,       20
  49UF20131029,KS1308,  4051,  1,     13,  21972,2,20131121,2339, 37.3160, 134.3323, 2566,    807.7,   0.4189,  34.0692,2,  34.0700,2,    205.6,2,  -999.00,9,  -999.00,9,  -999.00,9,  -999.00,9, -999.000,9, -999.000,9,   -999.0,9,   -999.0,9,-999.0000,9,  -999.00,       18
  49UF20131029,KS1308,  4051,  1,     12,  21994,2,20131121,2339, 37.3160, 134.3323, 2566,    908.0,   0.3719,  34.0690,2,  34.0691,2,    203.8,2,  -999.00,9,  -999.00,9,  -999.00,9,  -999.00,9, -999.000,9, -999.000,9,   -999.0,9,   -999.0,9,-999.0000,9,  -999.00,       15
  49UF20131029,KS1308,  4051,  1,     11,  21970,2,20131121,2339, 37.3160, 134.3323, 2566,   1009.4,   0.3328,  34.0686,2,  34.0693,2,    203.1,2,  -999.00,9,  -999.00,9,  -999.00,9,  -999.00,9, -999.000,9, -999.000,9,   -999.0,9,   -999.0,9,-999.0000,9,  -999.00,       12
  49UF20131029,KS1308,  4051,  1,     10,  21969,2,20131121,2339, 37.3160, 134.3323, 2566,   1212.3,   0.2822,  34.0677,2,  34.0686,2,    201.8,2,  -999.00,9,  -999.00,9,  -999.00,9,  -999.00,9, -999.000,9, -999.000,9,   -999.0,9,   -999.0,9,-999.0000,9,  -999.00,        8
  49UF20131029,KS1308,  4051,  1,      9,  21968,2,20131121,2339, 37.3160, 134.3323, 2566,   1413.8,   0.2540,  34.0674,2,  34.0677,2,    201.6,2,  -999.00,9,  -999.00,9,  -999.00,9,  -999.00,9, -999.000,9, -999.000,9,   -999.0,9,   -999.0,9,-999.0000,9,  -999.00,        3
  49UF20131029,KS1308,  4051,  1,      8,  21982,2,20131121,2339, 37.3160, 134.3323, 2566,   1617.6,   0.2377,  34.0669,2,  34.0674,6,    201.3,2,  -999.00,9,  -999.00,9,  -999.00,9,  -999.00,9, -999.000,9, -999.000,9,   -999.0,9,   -999.0,9,-999.0000,9,  -999.00,     2358
  49UF20131029,KS1308,  4051,  1,      7,  21966,2,20131121,2339, 37.3160, 134.3323, 2566,   1820.1,   0.2307,  34.0667,2,  34.0674,6,    200.5,6,  -999.00,9,  -999.00,9,  -999.00,9,  -999.00,9, -999.000,9, -999.000,9,   -999.0,9,   -999.0,9,-999.0000,9,  -999.00,     2354
  49UF20131029,KS1308,  4051,  1,      6,  21965,2,20131121,2339, 37.3160, 134.3323, 2566,   2024.7,   0.2300,  34.0667,2,  34.0674,6,    200.6,2,  -999.00,9,  -999.00,9,  -999.00,9,  -999.00,9, -999.000,9, -999.000,9,   -999.0,9,   -999.0,9,-999.0000,9,  -999.00,     2350
  49UF20131029,KS1308,  4051,  1,      5,  21964,2,20131121,2339, 37.3160, 134.3323, 2566,   2278.2,   0.2386,  34.0662,2,  34.0675,2,    200.2,2,  -999.00,9,  -999.00,9,  -999.00,9,  -999.00,9, -999.000,9, -999.000,9,   -999.0,9,   -999.0,9,-999.0000,9,  -999.00,     2344
  49UF20131029,KS1308,  4051,  1,      4,  21963,2,20131121,2339, 37.3160, 134.3323, 2566,   2278.2,   0.2386,  34.0662,2,  34.0671,2,    200.4,2,  -999.00,9,  -999.00,9,  -999.00,9,  -999.00,9, -999.000,9, -999.000,9,   -999.0,9,   -999.0,9,-999.0000,9,  -999.00,     2344
  49UF20131029,KS1308,  4051,  1,      3,  22079,2,20131121,2339, 37.3160, 134.3323, 2566,   2544.2,   0.2576,  34.0665,2,  34.0676,6,    199.4,2,  -999.00,9,  -999.00,9,  -999.00,9,  -999.00,9, -999.000,9, -999.000,9,   -999.0,9,   -999.0,9,-999.0000,9,  -999.00,     2339