BOTTLE,20191021PRINUNIVRMK
EXPOCODE,SECT_ID,STNNBR,CASTNO,SAMPNO,BTLNBR,BTLNBR_FLAG_W,DATE,TIME,LATITUDE,LONGITUDE,DEPTH,CTDPRS,CTDTMP,CTDSAL,CTDSAL_FLAG_W,SALNTY,SALNTY_FLAG_W,OXYGEN,OXYGEN_FLAG_W,SILCAT,SILCAT_FLAG_W,NITRAT,NITRAT_FLAG_W,NITRIT,NITRIT_FLAG_W,PHSPHT,PHSPHT_FLAG_W,CFC-11,CFC-11_FLAG_W,CFC-12,CFC-12_FLAG_W,TCARBN,TCARBN_FLAG_W,ALKALI,ALKALI_FLAG_W,PH_TOT,PH_TOT_FLAG_W,PH_TMP,BTL_TIME
,,,,,,,,,,,METERS,DBAR,ITS-90,PSS-78,,PSS-78,,UMOL/KG,,UMOL/KG,,UMOL/KG,,UMOL/KG,,UMOL/KG,,PMOL/KG,,PMOL/KG,,UMOL/KG,,UMOL/KG,,,,DEG C,
  49UF20131029,KS1308,  4040,  1,     99,     99,2,20131108,0637, 38.6348, 136.3127, 2722,      0.0,  16.5903,  33.4336,2,-999.0000,9,    242.2,2,     3.56,2,     1.16,2,     0.10,2,     0.11,2, -999.000,9, -999.000,9,   -999.0,9,   -999.0,9,-999.0000,9,  -999.00,      719
  49UF20131029,KS1308,  4040,  1,     36,  21995,2,20131108,0637, 38.6348, 136.3127, 2722,     10.8,  16.5986,  33.4332,2,  33.4330,2,    241.4,2,     3.50,2,     1.05,2,     0.10,2,     0.11,2, -999.000,9, -999.000,9,   -999.0,9,   -999.0,9,-999.0000,9,  -999.00,      750
  49UF20131029,KS1308,  4040,  1,     35,  22087,2,20131108,0637, 38.6348, 136.3127, 2722,     26.0,  16.0687,  33.4964,2,  33.4942,2,    241.0,2,     3.78,2,     1.23,2,     0.08,2,     0.12,2, -999.000,9, -999.000,9,   -999.0,9,   -999.0,9,-999.0000,9,  -999.00,      749
  49UF20131029,KS1308,  4040,  1,     31,  21990,2,20131108,0637, 38.6348, 136.3127, 2722,     49.9,  14.2419,  34.2603,2,  34.2490,4,    191.6,2,    13.09,2,     9.14,2,     0.07,2,     0.70,2, -999.000,9, -999.000,9,   -999.0,9,   -999.0,9,-999.0000,9,  -999.00,      747
  49UF20131029,KS1308,  4040,  1,     30,  21989,2,20131108,0637, 38.6348, 136.3127, 2722,     74.4,   8.3933,  34.0852,2,  34.0721,4,    265.4,2,     8.78,2,     7.85,2,     0.02,2,     0.61,2, -999.000,9, -999.000,9,   -999.0,9,   -999.0,9,-999.0000,9,  -999.00,      746
  49UF20131029,KS1308,  4040,  1,     29,  21988,2,20131108,0637, 38.6348, 136.3127, 2722,    101.3,   5.5309,  34.0281,2,  34.0305,2,    271.0,2,    11.65,2,    10.07,2,     0.02,2,     0.76,2, -999.000,9, -999.000,9,   -999.0,9,   -999.0,9,-999.0000,9,  -999.00,      744
  49UF20131029,KS1308,  4040,  1,     28,  21987,2,20131108,0637, 38.6348, 136.3127, 2722,    125.8,   4.3254,  34.0347,2,  34.0378,2,    267.7,2,    15.88,2,    12.66,2,     0.01,2,     0.95,2, -999.000,9, -999.000,9,   -999.0,9,   -999.0,9,-999.0000,9,  -999.00,      743
  49UF20131029,KS1308,  4040,  1,     27,  21986,2,20131108,0637, 38.6348, 136.3127, 2722,    151.4,   3.1432,  34.0408,2,  34.0397,2,    268.3,6,    19.45,6,    14.50,6,     0.01,6,     1.09,6, -999.000,9, -999.000,9,   -999.0,9,   -999.0,9,-999.0000,9,  -999.00,      742
  49UF20131029,KS1308,  4040,  1,     26,  21985,2,20131108,0637, 38.6348, 136.3127, 2722,    200.6,   1.8663,  34.0428,2,  34.0441,2,    260.6,2,    25.97,2,    17.60,2,     0.00,2,     1.33,2, -999.000,9, -999.000,9,   -999.0,9,   -999.0,9,-999.0000,9,  -999.00,      739
  49UF20131029,KS1308,  4040,  1,     25,  21984,2,20131108,0637, 38.6348, 136.3127, 2722,    200.6,   1.8663,  34.0428,2,  34.0425,2,    261.0,2,    25.74,2,    17.47,2,     0.00,2,     1.32,2, -999.000,9, -999.000,9,   -999.0,9,   -999.0,9,-999.0000,9,  -999.00,      739
  49UF20131029,KS1308,  4040,  1,     21,  21980,2,20131108,0637, 38.6348, 136.3127, 2722,    251.6,   1.2686,  34.0564,2,  34.0560,2,    242.0,2,    32.91,2,    20.52,2,     0.01,2,     1.57,2, -999.000,9, -999.000,9,   -999.0,9,   -999.0,9,-999.0000,9,  -999.00,      737
  49UF20131029,KS1308,  4040,  1,     20,  21979,2,20131108,0637, 38.6348, 136.3127, 2722,    301.1,   1.0186,  34.0634,2,  34.0628,2,    226.9,2,    38.24,2,    22.50,2,     0.00,2,     1.72,2, -999.000,9, -999.000,9,   -999.0,9,   -999.0,9,-999.0000,9,  -999.00,      734
  49UF20131029,KS1308,  4040,  1,     19,  21978,2,20131108,0637, 38.6348, 136.3127, 2722,    401.7,   0.7394,  34.0695,2,  34.0699,2,    210.1,2,    46.17,2,    24.59,2,     0.00,2,     1.89,2, -999.000,9, -999.000,9,   -999.0,9,   -999.0,9,-999.0000,9,  -999.00,      731
  49UF20131029,KS1308,  4040,  1,     18,  21977,2,20131108,0637, 38.6348, 136.3127, 2722,    502.7,   0.5971,  34.0710,2,  34.0699,6,    209.3,2,    49.78,2,    24.76,2,     0.00,2,     1.92,2, -999.000,9, -999.000,9,   -999.0,9,   -999.0,9,-999.0000,9,  -999.00,      728
  49UF20131029,KS1308,  4040,  1,     17,  23679,3,20131108,0637, 38.6348, 136.3127, 2722,    604.4,   0.4919,  34.0713,2,  34.0701,2,    206.0,2,    54.86,2,    25.02,2,     0.00,2,     1.95,2, -999.000,9, -999.000,9,   -999.0,9,   -999.0,9,-999.0000,9,  -999.00,      724
  49UF20131029,KS1308,  4040,  1,     16,  21975,2,20131108,0637, 38.6348, 136.3127, 2722,    704.6,   0.4193,  34.0709,2,  34.0705,2,    204.1,2,    59.32,2,    25.14,2,     0.00,2,     1.96,2, -999.000,9, -999.000,9,   -999.0,9,   -999.0,9,-999.0000,9,  -999.00,      722
  49UF20131029,KS1308,  4040,  1,     15,  21974,2,20131108,0637, 38.6348, 136.3127, 2722,    804.9,   0.3635,  34.0703,2,  34.0700,2,    203.2,2,    62.90,2,    25.19,2,     0.00,2,     1.97,2, -999.000,9, -999.000,9,   -999.0,9,   -999.0,9,-999.0000,9,  -999.00,      719
  49UF20131029,KS1308,  4040,  1,     14,  21973,2,20131108,0637, 38.6348, 136.3127, 2722,    909.6,   0.3178,  34.0699,2,  34.0688,2,    202.8,2,    66.20,2,    25.20,2,     0.00,2,     1.97,2, -999.000,9, -999.000,9,   -999.0,9,   -999.0,9,-999.0000,9,  -999.00,      716
  49UF20131029,KS1308,  4040,  1,     13,  21972,2,20131108,0637, 38.6348, 136.3127, 2722,   1009.8,   0.2881,  34.0695,2,  34.0689,6,    202.5,2,    68.80,2,    25.30,2,     0.00,2,     1.98,2, -999.000,9, -999.000,9,   -999.0,9,   -999.0,9,-999.0000,9,  -999.00,      713
  49UF20131029,KS1308,  4040,  1,     12,  21994,2,20131108,0637, 38.6348, 136.3127, 2722,   1213.9,   0.2482,  34.0688,2,  34.0685,2,    201.7,2,    73.49,2,    25.27,2,     0.00,2,     1.98,2, -999.000,9, -999.000,9,   -999.0,9,   -999.0,9,-999.0000,9,  -999.00,      709
  49UF20131029,KS1308,  4040,  1,     11,  21970,2,20131108,0637, 38.6348, 136.3127, 2722,   1417.3,   0.2270,  34.0684,2,  34.0675,2,    201.4,2,    77.28,2,    25.41,2,     0.00,2,     1.99,2, -999.000,9, -999.000,9,   -999.0,9,   -999.0,9,-999.0000,9,  -999.00,      704
  49UF20131029,KS1308,  4040,  1,     10,  21969,2,20131108,0637, 38.6348, 136.3127, 2722,   1617.4,   0.2204,  34.0681,2,  34.0680,2,    201.3,2,    79.80,2,    25.47,2,     0.00,2,     2.00,2, -999.000,9, -999.000,9,   -999.0,9,   -999.0,9,-999.0000,9,  -999.00,      700
  49UF20131029,KS1308,  4040,  1,      9,  21968,2,20131108,0637, 38.6348, 136.3127, 2722,   1823.8,   0.2193,  34.0680,2,  34.0678,2,    201.0,2,    81.94,2,    25.53,2,     0.00,2,     2.00,2, -999.000,9, -999.000,9,   -999.0,9,   -999.0,9,-999.0000,9,  -999.00,      655
  49UF20131029,KS1308,  4040,  1,      8,  21982,2,20131108,0637, 38.6348, 136.3127, 2722,   2027.5,   0.2242,  34.0680,2,  34.0678,2,    200.8,2,    83.83,2,    25.53,2,     0.00,2,     2.01,2, -999.000,9, -999.000,9,   -999.0,9,   -999.0,9,-999.0000,9,  -999.00,      650
  49UF20131029,KS1308,  4040,  1,      7,  21966,2,20131108,0637, 38.6348, 136.3127, 2722,   2279.8,   0.2358,  34.0679,2,  34.0687,2,    200.3,2,    85.65,2,    25.62,2,     0.00,2,     2.02,2, -999.000,9, -999.000,9,   -999.0,9,   -999.0,9,-999.0000,9,  -999.00,      645
  49UF20131029,KS1308,  4040,  1,      6,  21965,2,20131108,0637, 38.6348, 136.3127, 2722,   2279.8,   0.2358,  34.0679,2,  34.0697,4,    200.6,2,    85.62,2,    25.64,2,     0.00,2,     2.02,2, -999.000,9, -999.000,9,   -999.0,9,   -999.0,9,-999.0000,9,  -999.00,      645
  49UF20131029,KS1308,  4040,  1,      5,  21964,2,20131108,0637, 38.6348, 136.3127, 2722,   2535.6,   0.2533,  34.0678,2,  34.0669,2,    200.2,6,    86.26,6,    25.63,6,     0.00,6,     2.02,6, -999.000,9, -999.000,9,   -999.0,9,   -999.0,9,-999.0000,9,  -999.00,      640
  49UF20131029,KS1308,  4040,  1,      4,  21963,2,20131108,0637, 38.6348, 136.3127, 2722,   2686.3,   0.2631,  34.0678,2,  34.0678,6,    200.2,2,    87.16,2,    25.66,2,     0.00,2,     2.02,2, -999.000,9, -999.000,9,   -999.0,9,   -999.0,9,-999.0000,9,  -999.00,      637
  49UF20131029,KS1308,  4042,  1,     99,     99,2,20131108,2153, 38.4962, 135.1867, 3011,      0.0,  19.9614,  33.2883,2,-999.0000,9,    223.4,2,     2.44,2,     0.45,2,     0.15,2,     0.06,2, -999.000,9, -999.000,9,   -999.0,9,   -999.0,9,-999.0000,9,  -999.00,     2250
  49UF20131029,KS1308,  4042,  1,     36,  21995,2,20131108,2153, 38.4962, 135.1867, 3011,      9.4,  19.9636,  33.2880,2,-999.0000,9,    222.8,2,     2.41,2,     0.44,2,     0.16,2,     0.06,2, -999.000,9, -999.000,9,   -999.0,9,   -999.0,9,-999.0000,9,  -999.00,     2316
  49UF20131029,KS1308,  4042,  1,     35,  22087,2,20131108,2153, 38.4962, 135.1867, 3011,     25.3,  19.9651,  33.2915,2,-999.0000,9,    222.0,2,     2.45,2,     0.49,2,     0.15,2,     0.06,2, -999.000,9, -999.000,9,   -999.0,9,   -999.0,9,-999.0000,9,  -999.00,     2314
  49UF20131029,KS1308,  4042,  1,     34,  22666,2,20131108,2153, 38.4962, 135.1867, 3011,     49.7,  20.1515,  33.5114,2,-999.0000,9,    205.8,2,     4.00,2,     2.08,2,     0.22,2,     0.16,2, -999.000,9, -999.000,9,   -999.0,9,   -999.0,9,-999.0000,9,  -999.00,     2310
  49UF20131029,KS1308,  4042,  1,     32,  21991,2,20131108,2153, 38.4962, 135.1867, 3011,     75.1,  18.3616,  34.1879,2,-999.0000,9,    141.4,2,    13.84,2,    10.49,2,     0.05,2,     0.71,2, -999.000,9, -999.000,9,   -999.0,9,   -999.0,9,-999.0000,9,  -999.00,     2309
  49UF20131029,KS1308,  4042,  1,     31,  21990,2,20131108,2153, 38.4962, 135.1867, 3011,     99.1,  16.1050,  34.2802,2,-999.0000,9,    142.3,2,    18.12,2,    12.56,2,     0.03,2,     0.90,2, -999.000,9, -999.000,9,   -999.0,9,   -999.0,9,-999.0000,9,  -999.00,     2308
  49UF20131029,KS1308,  4042,  1,     30,  21989,2,20131108,2153, 38.4962, 135.1867, 3011,    125.6,  10.5575,  34.1736,2,-999.0000,9,    188.4,2,    19.22,2,    13.82,2,     0.04,2,     1.04,2, -999.000,9, -999.000,9,   -999.0,9,   -999.0,9,-999.0000,9,  -999.00,     2306
  49UF20131029,KS1308,  4042,  1,     29,  21988,2,20131108,2153, 38.4962, 135.1867, 3011,    150.9,   5.9892,  34.0220,2,-999.0000,9,    270.2,6,    11.44,6,     9.50,6,     0.02,6,     0.76,6, -999.000,9, -999.000,9,   -999.0,9,   -999.0,9,-999.0000,9,  -999.00,     2305
  49UF20131029,KS1308,  4042,  1,     28,  21987,2,20131108,2153, 38.4962, 135.1867, 3011,    201.8,   2.7747,  34.0321,2,-999.0000,9,    267.8,2,    19.78,2,    14.79,2,     0.01,2,     1.12,2, -999.000,9, -999.000,9,   -999.0,9,   -999.0,9,-999.0000,9,  -999.00,     2303
  49UF20131029,KS1308,  4042,  1,     27,  21986,2,20131108,2153, 38.4962, 135.1867, 3011,    251.1,   1.5964,  34.0350,2,-999.0000,9,    265.8,2,    25.08,2,    17.38,2,     0.00,2,     1.32,2, -999.000,9, -999.000,9,   -999.0,9,   -999.0,9,-999.0000,9,  -999.00,     2301
  49UF20131029,KS1308,  4042,  1,     26,  21985,2,20131108,2153, 38.4962, 135.1867, 3011,    302.5,   1.2138,  34.0517,2,-999.0000,9,    249.8,2,    30.49,2,    19.88,2,     0.00,2,     1.51,2, -999.000,9, -999.000,9,   -999.0,9,   -999.0,9,-999.0000,9,  -999.00,     2259
  49UF20131029,KS1308,  4042,  1,     25,  21984,2,20131108,2153, 38.4962, 135.1867, 3011,    402.2,   0.8199,  34.0671,2,-999.0000,9,    222.3,2,    41.21,2,    23.33,2,     0.00,2,     1.80,2, -999.000,9, -999.000,9,   -999.0,9,   -999.0,9,-999.0000,9,  -999.00,     2256
  49UF20131029,KS1308,  4042,  1,     24,  21983,2,20131108,2153, 38.4962, 135.1867, 3011,    402.2,   0.8199,  34.0671,2,-999.0000,9,    222.5,2,    41.11,2,    23.32,2,     0.00,2,     1.80,2, -999.000,9, -999.000,9,   -999.0,9,   -999.0,9,-999.0000,9,  -999.00,     2256
  49UF20131029,KS1308,  4042,  1,     22,  22665,2,20131108,2153, 38.4962, 135.1867, 3011,    504.2,   0.6433,  34.0704,2,-999.0000,9,    210.4,2,    48.46,2,    24.58,2,     0.00,2,     1.91,2, -999.000,9, -999.000,9,   -999.0,9,   -999.0,9,-999.0000,9,  -999.00,     2253
  49UF20131029,KS1308,  4042,  1,     21,  21980,2,20131108,2153, 38.4962, 135.1867, 3011,    605.1,   0.5198,  34.0709,2,-999.0000,9,    206.9,2,    53.96,2,    24.91,2,     0.00,2,     1.94,2, -999.000,9, -999.000,9,   -999.0,9,   -999.0,9,-999.0000,9,  -999.00,     2250
  49UF20131029,KS1308,  4042,  1,     20,  21979,3,20131108,2153, 38.4962, 135.1867, 3011,    706.1,   0.4394,  34.0709,2,-999.0000,9,    205.4,2,    57.69,2,    25.05,2,     0.00,2,     1.95,2, -999.000,9, -999.000,9,   -999.0,9,   -999.0,9,-999.0000,9,  -999.00,     2248
  49UF20131029,KS1308,  4042,  1,     19,  21978,2,20131108,2153, 38.4962, 135.1867, 3011,    806.9,   0.3880,  34.0705,2,-999.0000,9,    204.1,6,    60.96,6,    25.11,6,     0.00,6,     1.96,6, -999.000,9, -999.000,9,   -999.0,9,   -999.0,9,-999.0000,9,  -999.00,     2245
  49UF20131029,KS1308,  4042,  1,     18,  21977,2,20131108,2153, 38.4962, 135.1867, 3011,    908.1,   0.3371,  34.0699,2,-999.0000,9,    203.4,2,    64.75,2,    25.16,2,     0.00,2,     1.97,2, -999.000,9, -999.000,9,   -999.0,9,   -999.0,9,-999.0000,9,  -999.00,     2242
  49UF20131029,KS1308,  4042,  1,     17,  23679,2,20131108,2153, 38.4962, 135.1867, 3011,   1009.3,   0.3035,  34.0695,2,-999.0000,9,    202.8,2,    67.68,2,    25.19,2,     0.00,2,     1.98,2, -999.000,9, -999.000,9,   -999.0,9,   -999.0,9,-999.0000,9,  -999.00,     2239
  49UF20131029,KS1308,  4042,  1,     16,  21975,2,20131108,2153, 38.4962, 135.1867, 3011,   1212.8,   0.2648,  34.0690,2,-999.0000,9,    202.0,2,    72.21,2,    25.32,2,     0.00,2,     1.99,2, -999.000,9, -999.000,9,   -999.0,9,   -999.0,9,-999.0000,9,  -999.00,     2235
  49UF20131029,KS1308,  4042,  1,     15,  21974,2,20131108,2153, 38.4962, 135.1867, 3011,   1414.8,   0.2318,  34.0684,2,-999.0000,9,    201.4,6,    76.76,2,    25.40,2,     0.00,2,     2.00,2, -999.000,9, -999.000,9,   -999.0,9,   -999.0,9,-999.0000,9,  -999.00,     2230
  49UF20131029,KS1308,  4042,  1,     14,  21973,2,20131108,2153, 38.4962, 135.1867, 3011,   1617.6,   0.2210,  34.0679,2,-999.0000,9,    201.3,2,    79.50,2,    25.49,2,     0.00,2,     2.00,2, -999.000,9, -999.000,9,   -999.0,9,   -999.0,9,-999.0000,9,  -999.00,     2225
  49UF20131029,KS1308,  4042,  1,     13,  21972,2,20131108,2153, 38.4962, 135.1867, 3011,   1820.8,   0.2210,  34.0680,2,-999.0000,9,    201.3,2,    81.53,2,    25.53,2,     0.00,2,     2.01,2, -999.000,9, -999.000,9,   -999.0,9,   -999.0,9,-999.0000,9,  -999.00,     2220
  49UF20131029,KS1308,  4042,  1,      9,  21968,2,20131108,2153, 38.4962, 135.1867, 3011,   2024.5,   0.2246,  34.0678,2,-999.0000,9,    200.8,2,    83.56,2,    25.50,2,     0.00,2,     2.01,2, -999.000,9, -999.000,9,   -999.0,9,   -999.0,9,-999.0000,9,  -999.00,     2215
  49UF20131029,KS1308,  4042,  1,      8,  21982,2,20131108,2153, 38.4962, 135.1867, 3011,   2278.0,   0.2366,  34.0678,2,-999.0000,9,    200.4,2,    85.61,2,    25.63,2,     0.00,2,     2.02,2, -999.000,9, -999.000,9,   -999.0,9,   -999.0,9,-999.0000,9,  -999.00,     2209
  49UF20131029,KS1308,  4042,  1,      7,  21966,2,20131108,2153, 38.4962, 135.1867, 3011,   2278.0,   0.2366,  34.0678,2,-999.0000,9,    200.2,2,    85.57,2,    25.67,2,     0.00,2,     2.02,2, -999.000,9, -999.000,9,   -999.0,9,   -999.0,9,-999.0000,9,  -999.00,     2209
  49UF20131029,KS1308,  4042,  1,      6,  21965,2,20131108,2153, 38.4962, 135.1867, 3011,   2532.7,   0.2553,  34.0677,2,-999.0000,9,    200.0,6,    86.15,6,    25.64,6,     0.00,6,     2.02,6, -999.000,9, -999.000,9,   -999.0,9,   -999.0,9,-999.0000,9,  -999.00,     2204
  49UF20131029,KS1308,  4042,  1,      5,  21964,2,20131108,2153, 38.4962, 135.1867, 3011,   2787.0,   0.2759,  34.0678,2,  34.0674,2,    200.2,2,    86.23,2,    25.66,2,     0.00,2,     2.02,2, -999.000,9, -999.000,9,   -999.0,9,   -999.0,9,-999.0000,9,  -999.00,     2158
  49UF20131029,KS1308,  4042,  1,      4,  21963,2,20131108,2153, 38.4962, 135.1867, 3011,   2995.2,   0.2942,  34.0676,2,  34.0670,2,    200.1,2,    86.40,2,    25.76,2,     0.00,2,     2.02,2, -999.000,9, -999.000,9,   -999.0,9,   -999.0,9,-999.0000,9,  -999.00,     2153