BOTTLE,20191021PRINUNIVRMK
EXPOCODE,SECT_ID,STNNBR,CASTNO,SAMPNO,BTLNBR,BTLNBR_FLAG_W,DATE,TIME,LATITUDE,LONGITUDE,DEPTH,CTDPRS,CTDTMP,CTDSAL,CTDSAL_FLAG_W,SALNTY,SALNTY_FLAG_W,OXYGEN,OXYGEN_FLAG_W,SILCAT,SILCAT_FLAG_W,NITRAT,NITRAT_FLAG_W,NITRIT,NITRIT_FLAG_W,PHSPHT,PHSPHT_FLAG_W,CFC-11,CFC-11_FLAG_W,CFC-12,CFC-12_FLAG_W,TCARBN,TCARBN_FLAG_W,ALKALI,ALKALI_FLAG_W,PH_TOT,PH_TOT_FLAG_W,PH_TMP,BTL_TIME
,,,,,,,,,,,METERS,DBAR,ITS-90,PSS-78,,PSS-78,,UMOL/KG,,UMOL/KG,,UMOL/KG,,UMOL/KG,,UMOL/KG,,PMOL/KG,,PMOL/KG,,UMOL/KG,,UMOL/KG,,,,DEG C,
  49UF20131029,KS1308,  4044,  1,     99,     99,2,20131109,0709, 38.2913, 135.9317, 2808,      0.0,  19.6651,  33.3355,2,-999.0000,9,    225.8,2,     2.65,2,     0.82,2,     0.19,2,     0.10,2, -999.000,9, -999.000,9,   -999.0,9,   -999.0,9,-999.0000,9,  -999.00,      758
  49UF20131029,KS1308,  4044,  1,     36,  21995,2,20131109,0709, 38.2913, 135.9317, 2808,      9.5,  19.6694,  33.3356,2,  33.3326,2,    224.9,2,     2.64,2,     0.78,2,     0.19,2,     0.08,2, -999.000,9, -999.000,9,   -999.0,9,   -999.0,9,-999.0000,9,  -999.00,      820
  49UF20131029,KS1308,  4044,  1,     35,  22087,2,20131109,0709, 38.2913, 135.9317, 2808,     23.4,  19.5061,  33.3252,2,  33.3239,2,    223.8,2,     2.75,2,     0.95,2,     0.19,2,     0.08,2, -999.000,9, -999.000,9,   -999.0,9,   -999.0,9,-999.0000,9,  -999.00,      819
  49UF20131029,KS1308,  4044,  1,     34,  22666,2,20131109,0709, 38.2913, 135.9317, 2808,     49.4,  19.5161,  33.4859,2,  33.6824,4,    193.8,2,     5.87,2,     3.98,2,     0.16,2,     0.28,2, -999.000,9, -999.000,9,   -999.0,9,   -999.0,9,-999.0000,9,  -999.00,      815
  49UF20131029,KS1308,  4044,  1,     32,  21991,2,20131109,0709, 38.2913, 135.9317, 2808,     74.1,  17.9748,  34.2942,2,  34.3085,4,    145.2,2,    14.91,2,    10.52,2,     0.03,2,     0.74,2, -999.000,9, -999.000,9,   -999.0,9,   -999.0,9,-999.0000,9,  -999.00,      814
  49UF20131029,KS1308,  4044,  1,     31,  21990,2,20131109,0709, 38.2913, 135.9317, 2808,     99.9,  16.0322,  34.2975,2,  34.2988,2,    160.0,2,    15.54,2,    10.24,2,     0.04,2,     0.75,2, -999.000,9, -999.000,9,   -999.0,9,   -999.0,9,-999.0000,9,  -999.00,      813
  49UF20131029,KS1308,  4044,  1,     30,  21989,2,20131109,0709, 38.2913, 135.9317, 2808,    125.1,  11.3129,  34.2175,2,  34.2043,4,    224.0,6,    10.93,6,     9.08,6,     0.02,6,     0.67,6, -999.000,9, -999.000,9,   -999.0,9,   -999.0,9,-999.0000,9,  -999.00,      812
  49UF20131029,KS1308,  4044,  1,     29,  21988,2,20131109,0709, 38.2913, 135.9317, 2808,    150.1,   6.6205,  34.0597,2,  34.0551,2,    256.1,2,    13.27,2,    10.47,2,     0.01,2,     0.80,2, -999.000,9, -999.000,9,   -999.0,9,   -999.0,9,-999.0000,9,  -999.00,      810
  49UF20131029,KS1308,  4044,  1,     28,  21987,2,20131109,0709, 38.2913, 135.9317, 2808,    200.2,   2.8263,  34.0082,2,  34.0073,2,    283.2,2,    15.83,2,    12.98,2,     0.01,2,     0.98,2, -999.000,9, -999.000,9,   -999.0,9,   -999.0,9,-999.0000,9,  -999.00,      809
  49UF20131029,KS1308,  4044,  1,     27,  21986,2,20131109,0709, 38.2913, 135.9317, 2808,    251.1,   1.7395,  34.0229,2,  34.0223,2,    279.2,2,    21.86,2,    15.79,2,     0.01,2,     1.19,2, -999.000,9, -999.000,9,   -999.0,9,   -999.0,9,-999.0000,9,  -999.00,      807
  49UF20131029,KS1308,  4044,  1,     26,  21985,2,20131109,0709, 38.2913, 135.9317, 2808,    301.7,   1.2953,  34.0445,2,  34.0442,2,    259.3,2,    27.97,2,    18.78,2,     0.01,2,     1.42,2, -999.000,9, -999.000,9,   -999.0,9,   -999.0,9,-999.0000,9,  -999.00,      805
  49UF20131029,KS1308,  4044,  1,     25,  21984,2,20131109,0709, 38.2913, 135.9317, 2808,    301.7,   1.2953,  34.0445,2,  34.0430,2,    259.0,2,    28.07,2,    18.81,2,     0.01,2,     1.42,2, -999.000,9, -999.000,9,   -999.0,9,   -999.0,9,-999.0000,9,  -999.00,      805
  49UF20131029,KS1308,  4044,  1,     24,  21983,2,20131109,0709, 38.2913, 135.9317, 2808,    402.7,   0.9027,  34.0619,2,  34.0606,2,    239.1,6,    35.66,6,    21.65,6,     0.01,6,     1.65,6, -999.000,9, -999.000,9,   -999.0,9,   -999.0,9,-999.0000,9,  -999.00,      802
  49UF20131029,KS1308,  4044,  1,     22,  22665,2,20131109,0709, 38.2913, 135.9317, 2808,    503.3,   0.7375,  34.0690,2,  34.0684,2,    215.3,2,    44.37,2,    24.14,2,     0.00,2,     1.86,2, -999.000,9, -999.000,9,   -999.0,9,   -999.0,9,-999.0000,9,  -999.00,      800
  49UF20131029,KS1308,  4044,  1,     21,  21980,2,20131109,0709, 38.2913, 135.9317, 2808,    604.3,   0.5831,  34.0708,2,  34.0700,2,    209.7,2,    50.49,2,    24.71,2,     0.00,2,     1.92,2, -999.000,9, -999.000,9,   -999.0,9,   -999.0,9,-999.0000,9,  -999.00,      757
  49UF20131029,KS1308,  4044,  1,     20,  21979,2,20131109,0709, 38.2913, 135.9317, 2808,    705.6,   0.4890,  34.0709,2,  34.0703,2,    206.4,2,    55.27,2,    25.05,2,     0.00,2,     1.94,2, -999.000,9, -999.000,9,   -999.0,9,   -999.0,9,-999.0000,9,  -999.00,      755
  49UF20131029,KS1308,  4044,  1,     19,  21978,2,20131109,0709, 38.2913, 135.9317, 2808,    806.9,   0.4172,  34.0706,2,  34.0703,2,    205.0,2,    59.41,2,    25.17,2,     0.00,2,     1.95,2, -999.000,9, -999.000,9,   -999.0,9,   -999.0,9,-999.0000,9,  -999.00,      752
  49UF20131029,KS1308,  4044,  1,     18,  21977,2,20131109,0709, 38.2913, 135.9317, 2808,    907.2,   0.3600,  34.0701,2,  34.0715,2,    203.3,2,    63.32,2,    25.23,2,     0.00,2,     1.96,2, -999.000,9, -999.000,9,   -999.0,9,   -999.0,9,-999.0000,9,  -999.00,      749
  49UF20131029,KS1308,  4044,  1,     17,  23679,2,20131109,0709, 38.2913, 135.9317, 2808,   1009.1,   0.3148,  34.0694,2,  34.0688,6,    202.6,2,    66.78,2,    25.26,2,     0.00,2,     1.97,2, -999.000,9, -999.000,9,   -999.0,9,   -999.0,9,-999.0000,9,  -999.00,      747
  49UF20131029,KS1308,  4044,  1,     16,  21975,2,20131109,0709, 38.2913, 135.9317, 2808,   1211.8,   0.2619,  34.0687,2,  34.0686,2,    202.2,2,    72.09,2,    25.36,2,     0.00,2,     1.98,2, -999.000,9, -999.000,9,   -999.0,9,   -999.0,9,-999.0000,9,  -999.00,      742
  49UF20131029,KS1308,  4044,  1,     15,  21974,2,20131109,0709, 38.2913, 135.9317, 2808,   1414.5,   0.2367,  34.0682,2,  34.0685,6,    201.5,2,    76.04,2,    25.40,2,     0.00,2,     1.98,2, -999.000,9, -999.000,9,   -999.0,9,   -999.0,9,-999.0000,9,  -999.00,      738
  49UF20131029,KS1308,  4044,  1,     14,  21973,2,20131109,0709, 38.2913, 135.9317, 2808,   1617.2,   0.2259,  34.0681,2,  34.0682,2,    201.0,2,    79.30,2,    25.52,2,     0.00,2,     2.00,2, -999.000,9, -999.000,9,   -999.0,9,   -999.0,9,-999.0000,9,  -999.00,      733
  49UF20131029,KS1308,  4044,  1,     13,  21972,2,20131109,0709, 38.2913, 135.9317, 2808,   1818.6,   0.2240,  34.0680,2,  34.0675,6,    200.8,2,    81.51,2,    25.54,2,     0.00,2,     2.00,2, -999.000,9, -999.000,9,   -999.0,9,   -999.0,9,-999.0000,9,  -999.00,      729
  49UF20131029,KS1308,  4044,  1,      9,  21968,2,20131109,0709, 38.2913, 135.9317, 2808,   2022.1,   0.2276,  34.0679,2,  34.0674,2,    200.6,2,    83.34,2,    25.60,2,     0.00,2,     2.01,2, -999.000,9, -999.000,9,   -999.0,9,   -999.0,9,-999.0000,9,  -999.00,      725
  49UF20131029,KS1308,  4044,  1,      8,  21982,2,20131109,0709, 38.2913, 135.9317, 2808,   2022.1,   0.2276,  34.0679,2,  34.0675,2,    200.4,2,    83.32,2,    25.62,2,     0.00,2,     2.01,2, -999.000,9, -999.000,9,   -999.0,9,   -999.0,9,-999.0000,9,  -999.00,      725
  49UF20131029,KS1308,  4044,  1,      7,  21966,2,20131109,0709, 38.2913, 135.9317, 2808,   2277.5,   0.2377,  34.0677,2,  34.0672,2,    200.4,6,    84.91,2,    25.60,2,     0.00,2,     2.01,2, -999.000,9, -999.000,9,   -999.0,9,   -999.0,9,-999.0000,9,  -999.00,      719
  49UF20131029,KS1308,  4044,  1,      6,  21965,2,20131109,0709, 38.2913, 135.9317, 2808,   2535.0,   0.2557,  34.0677,2,  34.0672,2,    199.9,2,    86.12,2,    25.70,2,     0.00,2,     2.02,2, -999.000,9, -999.000,9,   -999.0,9,   -999.0,9,-999.0000,9,  -999.00,      714
  49UF20131029,KS1308,  4044,  1,      5,  21964,2,20131109,0709, 38.2913, 135.9317, 2808,   2782.7,   0.2761,  34.0676,2,  34.0673,2,    199.8,2,    86.19,2,    25.74,2,     0.00,2,     2.02,2, -999.000,9, -999.000,9,   -999.0,9,   -999.0,9,-999.0000,9,  -999.00,      709
  49UF20131029,KS1308,  4045,  1,     99,     99,2,20131121,0115, 36.4183, 135.6562,  652,      0.0,  18.3391,  33.2951,2,-999.0000,9,    226.3,2,     3.76,2,     1.76,2,     0.48,2,     0.15,2, -999.000,9, -999.000,9,   -999.0,9,   -999.0,9,-999.0000,9,  -999.00,      117
  49UF20131029,KS1308,  4045,  1,     36,  21995,2,20131121,0115, 36.4183, 135.6562,  652,      8.9,  18.3356,  33.2937,2,  33.2915,2,    226.1,2,     3.63,2,     1.58,2,     0.49,2,     0.13,2, -999.000,9, -999.000,9,   -999.0,9,   -999.0,9,-999.0000,9,  -999.00,      142
  49UF20131029,KS1308,  4045,  1,     35,  22087,2,20131121,0115, 36.4183, 135.6562,  652,     25.0,  18.3279,  33.2910,2,  33.2904,2,    225.9,2,     3.64,2,     1.61,2,     0.49,2,     0.14,2, -999.000,9, -999.000,9,   -999.0,9,   -999.0,9,-999.0000,9,  -999.00,      140
  49UF20131029,KS1308,  4045,  1,     34,  22666,2,20131121,0115, 36.4183, 135.6562,  652,     51.1,  18.2045,  33.3040,2,  33.3044,2,    225.5,2,     3.81,2,     1.77,2,     0.47,2,     0.15,2, -999.000,9, -999.000,9,   -999.0,9,   -999.0,9,-999.0000,9,  -999.00,      139
  49UF20131029,KS1308,  4045,  1,     27,  21986,2,20131121,0115, 36.4183, 135.6562,  652,     75.1,  18.6632,  34.0257,2,  34.0479,4,    170.8,2,     9.74,2,     6.94,2,     0.06,2,     0.48,2, -999.000,9, -999.000,9,   -999.0,9,   -999.0,9,-999.0000,9,  -999.00,      138
  49UF20131029,KS1308,  4045,  1,     26,  21985,2,20131121,0115, 36.4183, 135.6562,  652,     75.1,  18.6632,  34.0257,2,  34.0512,4,    170.9,2,     9.77,2,     6.96,2,     0.06,2,     0.47,2, -999.000,9, -999.000,9,   -999.0,9,   -999.0,9,-999.0000,9,  -999.00,      138
  49UF20131029,KS1308,  4045,  1,     25,  21984,2,20131121,0115, 36.4183, 135.6562,  652,     99.6,  17.1398,  34.2549,2,  34.2620,4,    174.2,2,    11.52,2,     8.09,2,     0.03,2,     0.57,2, -999.000,9, -999.000,9,   -999.0,9,   -999.0,9,-999.0000,9,  -999.00,      136
  49UF20131029,KS1308,  4045,  1,     17,  23679,2,20131121,0115, 36.4183, 135.6562,  652,    125.2,  15.0032,  34.3684,2,  34.3625,4,    182.0,2,    12.74,2,     8.64,2,     0.03,2,     0.64,2, -999.000,9, -999.000,9,   -999.0,9,   -999.0,9,-999.0000,9,  -999.00,      134
  49UF20131029,KS1308,  4045,  1,     16,  21975,2,20131121,0115, 36.4183, 135.6562,  652,    150.0,  10.7950,  34.2044,2,  34.2058,2,    233.1,6,     9.99,6,     8.12,6,     0.02,6,     0.61,6, -999.000,9, -999.000,9,   -999.0,9,   -999.0,9,-999.0000,9,  -999.00,      133
  49UF20131029,KS1308,  4045,  1,     15,  21974,2,20131121,0115, 36.4183, 135.6562,  652,    201.3,   3.7784,  34.0568,2,  34.0571,2,    246.9,2,    21.45,2,    15.39,2,     0.00,2,     1.17,2, -999.000,9, -999.000,9,   -999.0,9,   -999.0,9,-999.0000,9,  -999.00,      130
  49UF20131029,KS1308,  4045,  1,     14,  21973,2,20131121,0115, 36.4183, 135.6562,  652,    250.9,   1.9377,  34.0532,2,  34.0537,2,    233.3,2,    31.23,2,    19.99,2,     0.00,2,     1.53,2, -999.000,9, -999.000,9,   -999.0,9,   -999.0,9,-999.0000,9,  -999.00,      128
  49UF20131029,KS1308,  4045,  1,     13,  21972,2,20131121,0115, 36.4183, 135.6562,  652,    303.1,   1.1297,  34.0582,2,  34.0593,2,    223.5,2,    38.14,2,    22.28,2,     0.00,2,     1.73,2, -999.000,9, -999.000,9,   -999.0,9,   -999.0,9,-999.0000,9,  -999.00,      126
  49UF20131029,KS1308,  4045,  1,      6,  21965,2,20131121,0115, 36.4183, 135.6562,  652,    403.1,   0.7507,  34.0669,2,  34.0673,2,    213.8,2,    45.46,2,    24.00,2,     0.00,2,     1.87,2, -999.000,9, -999.000,9,   -999.0,9,   -999.0,9,-999.0000,9,  -999.00,      123
  49UF20131029,KS1308,  4045,  1,      5,  21964,2,20131121,0115, 36.4183, 135.6562,  652,    503.4,   0.5655,  34.0689,2,  34.0700,6,    208.3,2,    52.65,2,    24.68,2,     0.00,2,     1.93,2, -999.000,9, -999.000,9,   -999.0,9,   -999.0,9,-999.0000,9,  -999.00,      120
  49UF20131029,KS1308,  4045,  1,      4,  21963,2,20131121,0115, 36.4183, 135.6562,  652,    633.0,   0.2734,  34.0682,2,  34.0691,2,    198.6,2,    74.09,2,    25.21,2,     0.01,2,     2.00,2, -999.000,9, -999.000,9,   -999.0,9,   -999.0,9,-999.0000,9,  -999.00,      115
  49UF20131029,KS1308,  4047,  1,     99,     99,2,20131121,0837, 36.8487, 135.3393, 1704,      0.0,  17.5795,  33.2976,2,-999.0000,9,    230.1,2,     3.89,2,     1.83,2,     0.32,2,     0.14,2, -999.000,9, -999.000,9,   -999.0,9,   -999.0,9,-999.0000,9,  -999.00,      902
  49UF20131029,KS1308,  4047,  1,     36,  21995,2,20131121,0837, 36.8487, 135.3393, 1704,     11.6,  17.6036,  33.2987,2,  33.2977,2,    229.7,2,     3.89,2,     1.79,2,     0.32,2,     0.13,2, -999.000,9, -999.000,9,   -999.0,9,   -999.0,9,-999.0000,9,  -999.00,      926
  49UF20131029,KS1308,  4047,  1,     35,  22087,2,20131121,0837, 36.8487, 135.3393, 1704,     25.5,  17.5950,  33.2975,2,  33.2982,2,    229.8,2,     3.89,2,     1.80,2,     0.32,2,     0.14,2, -999.000,9, -999.000,9,   -999.0,9,   -999.0,9,-999.0000,9,  -999.00,      925
  49UF20131029,KS1308,  4047,  1,     34,  22666,2,20131121,0837, 36.8487, 135.3393, 1704,     51.1,  17.5994,  33.3027,2,  33.3042,2,    229.1,2,     3.97,2,     1.85,2,     0.32,2,     0.14,2, -999.000,9, -999.000,9,   -999.0,9,   -999.0,9,-999.0000,9,  -999.00,      923
  49UF20131029,KS1308,  4047,  1,     30,  21989,2,20131121,0837, 36.8487, 135.3393, 1704,     75.4,  16.4801,  34.3247,2,  34.3239,2,    185.5,6,    10.59,6,     7.22,6,     0.03,6,     0.52,6, -999.000,9, -999.000,9,   -999.0,9,   -999.0,9,-999.0000,9,  -999.00,      922
  49UF20131029,KS1308,  4047,  1,     29,  21988,2,20131121,0837, 36.8487, 135.3393, 1704,    101.8,  14.3600,  34.3341,2,  34.3217,4,    188.6,2,    12.59,2,     9.16,2,     0.03,2,     0.67,2, -999.000,9, -999.000,9,   -999.0,9,   -999.0,9,-999.0000,9,  -999.00,      918
  49UF20131029,KS1308,  4047,  1,     28,  21987,2,20131121,0837, 36.8487, 135.3393, 1704,    101.8,  14.3600,  34.3341,2,  34.3194,4,    188.8,2,    12.61,2,     9.21,2,     0.03,2,     0.68,2, -999.000,9, -999.000,9,   -999.0,9,   -999.0,9,-999.0000,9,  -999.00,      918
  49UF20131029,KS1308,  4047,  1,     27,  21986,2,20131121,0837, 36.8487, 135.3393, 1704,    127.0,   9.7329,  34.1568,2,  34.1511,4,    242.3,2,    10.09,2,     8.69,2,     0.02,2,     0.64,2, -999.000,9, -999.000,9,   -999.0,9,   -999.0,9,-999.0000,9,  -999.00,      917
  49UF20131029,KS1308,  4047,  1,     26,  21985,2,20131121,0837, 36.8487, 135.3393, 1704,    151.0,   6.4974,  34.0663,2,  34.0677,2,    251.5,2,    14.63,2,    11.63,2,     0.01,2,     0.87,2, -999.000,9, -999.000,9,   -999.0,9,   -999.0,9,-999.0000,9,  -999.00,      916
  49UF20131029,KS1308,  4047,  1,     25,  21984,2,20131121,0837, 36.8487, 135.3393, 1704,    202.4,   2.6214,  34.0516,2,  34.0547,2,    240.2,2,    26.68,2,    18.00,2,     0.01,2,     1.38,2, -999.000,9, -999.000,9,   -999.0,9,   -999.0,9,-999.0000,9,  -999.00,      915
  49UF20131029,KS1308,  4047,  1,     24,  21983,2,20131121,0837, 36.8487, 135.3393, 1704,    253.6,   1.4216,  34.0586,2,  34.0587,2,    223.0,2,    36.63,2,    22.06,2,     0.00,2,     1.70,2, -999.000,9, -999.000,9,   -999.0,9,   -999.0,9,-999.0000,9,  -999.00,      913
  49UF20131029,KS1308,  4047,  1,     22,  22665,2,20131121,0837, 36.8487, 135.3393, 1704,    304.0,   0.9777,  34.0640,2,  34.0644,2,    216.4,2,    41.59,2,    23.51,2,     0.00,2,     1.81,2, -999.000,9, -999.000,9,   -999.0,9,   -999.0,9,-999.0000,9,  -999.00,      911
  49UF20131029,KS1308,  4047,  1,     18,  21977,2,20131121,0837, 36.8487, 135.3393, 1704,    404.9,   0.6936,  34.0680,2,  34.0689,2,    209.5,2,    48.36,2,    24.69,2,     0.00,2,     1.91,2, -999.000,9, -999.000,9,   -999.0,9,   -999.0,9,-999.0000,9,  -999.00,      909
  49UF20131029,KS1308,  4047,  1,     17,  23679,2,20131121,0837, 36.8487, 135.3393, 1704,    504.4,   0.5718,  34.0690,2,  34.0699,2,    207.0,2,    52.70,2,    24.97,2,     0.00,2,     1.93,2, -999.000,9, -999.000,9,   -999.0,9,   -999.0,9,-999.0000,9,  -999.00,      906
  49UF20131029,KS1308,  4047,  1,     16,  21975,2,20131121,0837, 36.8487, 135.3393, 1704,    607.6,   0.4751,  34.0692,2,  34.0691,2,    205.5,2,    57.41,2,    25.18,2,     0.00,2,     1.95,2, -999.000,9, -999.000,9,   -999.0,9,   -999.0,9,-999.0000,9,  -999.00,      904
  49UF20131029,KS1308,  4047,  1,     15,  21974,2,20131121,0837, 36.8487, 135.3393, 1704,    707.3,   0.4089,  34.0691,2,  34.0699,2,    204.1,6,    61.29,6,    25.11,6,     0.00,6,     1.96,6, -999.000,9, -999.000,9,   -999.0,9,   -999.0,9,-999.0000,9,  -999.00,      901
  49UF20131029,KS1308,  4047,  1,     14,  21973,2,20131121,0837, 36.8487, 135.3393, 1704,    809.3,   0.3521,  34.0687,2,  34.0695,2,    202.7,2,    65.45,2,    25.26,2,     0.00,2,     1.98,2, -999.000,9, -999.000,9,   -999.0,9,   -999.0,9,-999.0000,9,  -999.00,      858
  49UF20131029,KS1308,  4047,  1,     13,  21972,2,20131121,0837, 36.8487, 135.3393, 1704,    809.3,   0.3521,  34.0687,2,  34.0695,2,    202.7,2,    65.42,2,    25.24,2,     0.00,2,     1.98,2, -999.000,9, -999.000,9,   -999.0,9,   -999.0,9,-999.0000,9,  -999.00,      858
  49UF20131029,KS1308,  4047,  1,      9,  21968,2,20131121,0837, 36.8487, 135.3393, 1704,    909.8,   0.3207,  34.0683,2,  34.0694,2,    202.0,2,    68.13,2,    25.36,2,     0.00,2,     1.98,2, -999.000,9, -999.000,9,   -999.0,9,   -999.0,9,-999.0000,9,  -999.00,      856
  49UF20131029,KS1308,  4047,  1,      8,  21982,2,20131121,0837, 36.8487, 135.3393, 1704,   1011.2,   0.2923,  34.0681,2,  34.0690,6,    201.1,2,    71.06,2,    25.42,2,     0.00,2,     1.99,2, -999.000,9, -999.000,9,   -999.0,9,   -999.0,9,-999.0000,9,  -999.00,      853
  49UF20131029,KS1308,  4047,  1,      7,  21966,2,20131121,0837, 36.8487, 135.3393, 1704,   1213.3,   0.2521,  34.0675,2,  34.0688,2,    199.3,2,    76.89,2,    25.50,2,     0.00,2,     2.01,2, -999.000,9, -999.000,9,   -999.0,9,   -999.0,9,-999.0000,9,  -999.00,      848
  49UF20131029,KS1308,  4047,  1,      6,  21965,2,20131121,0837, 36.8487, 135.3393, 1704,   1417.6,   0.2334,  34.0669,2,  34.0685,6,    199.0,2,    80.03,2,    25.61,2,     0.00,2,     2.02,2, -999.000,9, -999.000,9,   -999.0,9,   -999.0,9,-999.0000,9,  -999.00,      844
  49UF20131029,KS1308,  4047,  1,      5,  21964,2,20131121,0837, 36.8487, 135.3393, 1704,   1619.4,   0.2208,  34.0668,2,  34.0685,2,    197.4,2,    84.25,2,    25.73,2,     0.00,2,     2.03,2, -999.000,9, -999.000,9,   -999.0,9,   -999.0,9,-999.0000,9,  -999.00,      839
  49UF20131029,KS1308,  4047,  1,      4,  21963,2,20131121,0837, 36.8487, 135.3393, 1704,   1679.3,   0.2233,  34.0668,2,  34.0680,6,    196.1,2,    85.43,2,    25.66,2,     0.01,2,     2.03,2, -999.000,9, -999.000,9,   -999.0,9,   -999.0,9,-999.0000,9,  -999.00,      837