BOTTLE,20191021PRINUNIVRMK
EXPOCODE,SECT_ID,STNNBR,CASTNO,SAMPNO,BTLNBR,BTLNBR_FLAG_W,DATE,TIME,LATITUDE,LONGITUDE,DEPTH,CTDPRS,CTDTMP,CTDSAL,CTDSAL_FLAG_W,SALNTY,SALNTY_FLAG_W,OXYGEN,OXYGEN_FLAG_W,SILCAT,SILCAT_FLAG_W,NITRAT,NITRAT_FLAG_W,NITRIT,NITRIT_FLAG_W,PHSPHT,PHSPHT_FLAG_W,CFC-11,CFC-11_FLAG_W,CFC-12,CFC-12_FLAG_W,TCARBN,TCARBN_FLAG_W,ALKALI,ALKALI_FLAG_W,PH_TOT,PH_TOT_FLAG_W,PH_TMP,BTL_TIME
,,,,,,,,,,,METERS,DBAR,ITS-90,PSS-78,,PSS-78,,UMOL/KG,,UMOL/KG,,UMOL/KG,,UMOL/KG,,UMOL/KG,,PMOL/KG,,PMOL/KG,,UMOL/KG,,UMOL/KG,,,,DEG C,
  49UF20131029,KS1308,  4052,  1,     99,     99,2,20131122,0452, 37.7062, 134.7227, 2974,      0.0,  17.9515,  33.3392,2,-999.0000,9,    228.1,2,     3.45,2,     1.56,2,     0.43,2,     0.14,2, -999.000,9, -999.000,9,   1979.9,3,   2243.3,3,   8.0175,3,    25.00,      545
  49UF20131029,KS1308,  4052,  1,     36,  21995,2,20131122,0452, 37.7062, 134.7227, 2974,     10.1,  17.9626,  33.3399,2,  33.3407,2,    228.6,2,     3.43,2,     1.53,2,     0.39,2,     0.12,2,    2.376,2,    1.258,2,   1979.4,2,   2240.8,2,   8.0202,2,    25.00,      609
  49UF20131029,KS1308,  4052,  1,     35,  22087,2,20131122,0452, 37.7062, 134.7227, 2974,     24.1,  17.9662,  33.3410,2,  33.3411,2,    227.6,2,     3.42,2,     1.52,2,     0.39,2,     0.12,2, -999.000,9, -999.000,9,   1979.8,2,   2241.5,2,   8.0227,2,    25.00,      608
  49UF20131029,KS1308,  4052,  1,     33,  21992,2,20131122,0452, 37.7062, 134.7227, 2974,     51.8,  17.9674,  33.3408,2,  33.3413,2,    227.7,2,     3.44,2,     1.52,2,     0.38,2,     0.12,2,    2.375,2,    1.251,2,   1980.0,2,   2243.1,2,   8.0215,2,    25.00,      606
  49UF20131029,KS1308,  4052,  1,     32,  21991,2,20131122,0452, 37.7062, 134.7227, 2974,     74.9,  17.5630,  34.2560,2,  34.2386,4,    192.2,2,     7.76,2,     5.64,2,     0.04,2,     0.41,2, -999.000,9, -999.000,9,   2043.9,2,   2268.1,2,   7.9248,6,    25.00,      605
  49UF20131029,KS1308,  4052,  1,     31,  21990,2,20131122,0452, 37.7062, 134.7227, 2974,     99.6,  16.2685,  34.4570,2,  34.4603,2,    203.1,2,     8.69,2,     5.38,2,     0.02,2,     0.42,2,    2.563,2,    1.418,2,   2047.0,2,   2270.8,2,   7.9289,2,    25.00,      601
  49UF20131029,KS1308,  4052,  1,     30,  21989,2,20131122,0452, 37.7062, 134.7227, 2974,    126.2,  15.0199,  34.4771,2,  34.4772,2,    212.6,2,     7.38,2,     4.45,2,     0.02,2,     0.38,2, -999.000,9, -999.000,9,   2048.6,6,   2273.6,6,   7.9265,2,    25.00,      600
  49UF20131029,KS1308,  4052,  1,     29,  21988,2,20131122,0452, 37.7062, 134.7227, 2974,    149.9,  13.4641,  34.3765,2,  34.3779,2,    225.1,6,     4.88,6,     4.65,6,     0.01,6,     0.38,6, -999.000,9, -999.000,9,   2048.9,2,   2269.6,2,   7.9158,2,    25.00,      559
  49UF20131029,KS1308,  4052,  1,     28,  21987,2,20131122,0452, 37.7062, 134.7227, 2974,    202.3,  11.3339,  34.1972,2,  34.2041,4,    250.6,2,     4.53,2,     5.42,2,     0.01,2,     0.41,2,    3.206,6,    1.783,6,   2049.7,2,   2264.2,2,   7.9061,2,    25.00,      557
  49UF20131029,KS1308,  4052,  1,     27,  21986,2,20131122,0452, 37.7062, 134.7227, 2974,    202.3,  11.3339,  34.1972,2,  34.2036,4,    250.6,2,     4.50,2,     5.40,2,     0.01,2,     0.41,2, -999.000,9, -999.000,9,   2050.7,2,   2265.0,2,   7.9069,2,    25.00,      557
  49UF20131029,KS1308,  4052,  1,     26,  21985,2,20131122,0452, 37.7062, 134.7227, 2974,    252.6,  10.3932,  34.1508,2,  34.1519,2,    253.5,2,     6.38,2,     6.41,2,     0.01,2,     0.46,2, -999.000,9, -999.000,9,   2059.1,2,   2262.6,2,   7.8869,2,    25.00,      555
  49UF20131029,KS1308,  4052,  1,     25,  21984,2,20131122,0452, 37.7062, 134.7227, 2974,    308.0,   4.8044,  34.0332,2,  34.0356,2,    271.2,2,    13.17,2,    10.97,2,     0.01,2,     0.83,2,    4.517,2,    2.400,2,   2126.1,2,   2262.6,2,   7.7271,2,    25.00,      553
  49UF20131029,KS1308,  4052,  1,     24,  21983,2,20131122,0452, 37.7062, 134.7227, 2974,    405.5,   1.3147,  34.0467,2,  34.0477,2,    257.2,2,    29.14,2,    18.98,2,     0.00,2,     1.44,2,    4.729,2,    2.485,2,   2195.1,2,   2262.6,2,   7.5405,2,    25.00,      549
  49UF20131029,KS1308,  4052,  1,     21,  21980,2,20131122,0452, 37.7062, 134.7227, 2974,    505.7,   0.8805,  34.0660,2,  34.0661,2,    216.0,2,    42.20,2,    23.86,2,     0.00,2,     1.83,2,    4.126,2,    2.021,2,   2231.5,2,   2263.5,2,   7.4422,2,    25.00,      546
  49UF20131029,KS1308,  4052,  1,     20,  21979,2,20131122,0452, 37.7062, 134.7227, 2974,    606.2,   0.6780,  34.0688,2,  34.0696,2,    209.5,2,    47.75,2,    24.67,2,     0.00,2,     1.91,2, -999.000,9, -999.000,9,   2241.6,2,   2264.7,2,   7.4268,6,    25.00,      543
  49UF20131029,KS1308,  4052,  1,     19,  21978,2,20131122,0452, 37.7062, 134.7227, 2974,    711.8,   0.5505,  34.0695,2,  34.0702,2,    208.5,2,    52.16,2,    24.80,2,     0.00,2,     1.93,2,    3.282,2,    1.548,2,   2241.6,6,   2267.2,6,   7.4247,2,    25.00,      540
  49UF20131029,KS1308,  4052,  1,     18,  21977,2,20131122,0452, 37.7062, 134.7227, 2974,    808.0,   0.4809,  34.0697,2,  34.0701,2,    207.9,2,    55.13,2,    24.78,2,     0.00,2,     1.93,2,    2.985,2,    1.370,2,   2242.6,2,   2268.2,2,   7.4226,2,    25.00,      537
  49UF20131029,KS1308,  4052,  1,     17,  23679,2,20131122,0452, 37.7062, 134.7227, 2974,    808.0,   0.4809,  34.0697,2,  34.0702,2,    208.0,2,    55.16,2,    24.82,2,     0.00,2,     1.93,2, -999.000,9, -999.000,9,   2242.3,2,   2267.0,2,   7.4205,2,    25.00,      537
  49UF20131029,KS1308,  4052,  1,     16,  21975,2,20131122,0452, 37.7062, 134.7227, 2974,    909.7,   0.4034,  34.0692,2,  34.0688,2,    205.2,6,    60.44,6,    25.08,6,     0.00,6,     1.95,6, -999.000,9, -999.000,9,   2245.5,2,   2271.2,2,-999.0000,5,  -999.00,      534
  49UF20131029,KS1308,  4052,  1,     14,  21973,3,20131122,0452, 37.7062, 134.7227, 2974,   1009.1,   0.3572,  34.0687,2,  34.0696,2,    204.1,2,    64.06,2,    25.03,2,     0.00,2,     1.96,2,    2.141,2,    0.998,2,   2244.5,2,   2273.1,2,   7.4200,2,    25.00,      531
  49UF20131029,KS1308,  4052,  1,     13,  21972,3,20131122,0452, 37.7062, 134.7227, 2974,   1212.3,   0.2897,  34.0678,2,  34.0689,2,    202.8,2,    70.70,2,    25.17,2,     0.00,2,     1.98,2, -999.000,9, -999.000,9,   2249.1,2,   2276.9,2,   7.4204,6,    25.00,      527
  49UF20131029,KS1308,  4052,  1,     12,  21994,2,20131122,0452, 37.7062, 134.7227, 2974,   1416.1,   0.2464,  34.0672,2,  34.0682,2,    203.0,2,    74.84,2,    25.33,2,     0.00,2,     1.99,2,    1.164,2,    0.546,2,   2249.9,2,   2278.9,2,   7.4229,2,    25.00,      523
  49UF20131029,KS1308,  4052,  1,     11,  21970,3,20131122,0452, 37.7062, 134.7227, 2974,   1616.2,   0.2286,  34.0668,2,  34.0679,2,    202.0,2,    78.34,2,    25.37,2,     0.00,2,     2.00,2, -999.000,9, -999.000,9,   2251.5,6,   2281.0,6,   7.4263,2,    25.00,      519
  49UF20131029,KS1308,  4052,  1,      9,  21968,2,20131122,0452, 37.7062, 134.7227, 2974,   1819.8,   0.2269,  34.0667,2,  34.0678,2,    201.7,2,    80.63,2,    25.50,2,     0.00,2,     2.00,2,    0.759,6,    0.355,6,   2250.4,2,   2282.5,2,   7.4266,2,    25.00,      514
  49UF20131029,KS1308,  4052,  1,      8,  21982,2,20131122,0452, 37.7062, 134.7227, 2974,   2023.5,   0.2281,  34.0666,2,-999.0000,9,    201.3,6,    82.57,6,    25.58,6,     0.00,6,     2.01,6, -999.000,9, -999.000,9,   2253.2,2,   2283.4,2,   7.4315,2,    25.00,      510
  49UF20131029,KS1308,  4052,  1,      6,  21965,2,20131122,0452, 37.7062, 134.7227, 2974,   2024.2,   0.2281,  34.0665,2,  34.0674,2,    201.5,6,    82.67,6,    25.62,6,     0.00,6,     2.01,6, -999.000,9, -999.000,9,   -999.0,9,   -999.0,9,-999.0000,9,  -999.00,      510
  49UF20131029,KS1308,  4052,  1,      7,  21966,2,20131122,0452, 37.7062, 134.7227, 2974,   2024.9,   0.2281,  34.0665,2,  34.0671,2,    201.4,6,    82.47,6,    25.52,6,     0.00,6,     2.01,6, -999.000,9, -999.000,9,   2253.7,2,   2282.0,2,   7.4289,2,    25.00,      510
  49UF20131029,KS1308,  4052,  1,      5,  21964,2,20131122,0452, 37.7062, 134.7227, 2974,   2277.7,   0.2372,  34.0665,2,  34.0664,2,    200.4,2,    85.41,2,    25.67,2,     0.00,2,     2.02,2,    0.520,2,    0.240,2,   2255.8,2,   2285.5,2,   7.4294,2,    25.00,      505
  49UF20131029,KS1308,  4052,  1,      4,  21963,3,20131122,0452, 37.7062, 134.7227, 2974,   2532.0,   0.2562,  34.0665,2,  34.0666,6,    200.3,2,    85.70,2,    25.76,2,     0.00,2,     2.02,2,    0.517,2,    0.232,2,   2255.4,2,   2285.6,2,   7.4296,2,    25.00,      500
  49UF20131029,KS1308,  4052,  1,      2,  21961,2,20131122,0452, 37.7062, 134.7227, 2974,   2786.4,   0.2770,  34.0663,2,  34.0664,6,    201.3,2,    85.87,2,    25.67,2,     0.00,2,     2.02,2, -999.000,9, -999.000,9,   2255.3,2,   2285.7,2,   7.4311,2,    25.00,      455
  49UF20131029,KS1308,  4052,  1,      1,  21960,2,20131122,0452, 37.7062, 134.7227, 2974,   2953.9,   0.2913,  34.0663,2,  34.0671,6,    200.2,2,    86.18,2,    25.81,2,     0.00,2,     2.02,2,    0.532,2,    0.231,2,   2253.5,2,   2285.2,2,   7.4315,2,    25.00,      452
  49UF20131029,KS1308,  4055,  1,     99,     99,2,20131122,1959, 38.1037, 134.4505, 1565,      0.0,  17.9885,  33.3727,2,-999.0000,9,    227.2,2,     3.68,2,     1.86,2,     0.39,2,     0.14,2, -999.000,9, -999.000,9,   -999.0,9,   -999.0,9,-999.0000,9,  -999.00,     2015
  49UF20131029,KS1308,  4055,  1,     36,  21995,2,20131122,1959, 38.1037, 134.4505, 1565,     10.8,  17.9986,  33.3729,2,  33.3723,2,    225.6,2,     3.77,2,     1.93,2,     0.38,2,     0.14,2, -999.000,9, -999.000,9,   -999.0,9,   -999.0,9,-999.0000,9,  -999.00,     2045
  49UF20131029,KS1308,  4055,  1,     35,  22087,2,20131122,1959, 38.1037, 134.4505, 1565,     25.8,  17.9981,  33.3717,2,  33.3704,2,    225.9,2,     3.70,2,     1.92,2,     0.38,2,     0.14,2, -999.000,9, -999.000,9,   -999.0,9,   -999.0,9,-999.0000,9,  -999.00,     2044
  49UF20131029,KS1308,  4055,  1,     34,  22666,2,20131122,1959, 38.1037, 134.4505, 1565,     51.6,  17.9800,  33.3685,2,  33.3681,2,    226.9,2,     3.60,2,     1.79,2,     0.40,2,     0.13,2, -999.000,9, -999.000,9,   -999.0,9,   -999.0,9,-999.0000,9,  -999.00,     2043
  49UF20131029,KS1308,  4055,  1,     30,  21989,2,20131122,1959, 38.1037, 134.4505, 1565,     76.0,  18.2874,  33.6116,2,  33.8093,4,    195.7,2,     6.83,2,     4.80,2,     0.23,2,     0.33,2, -999.000,9, -999.000,9,   -999.0,9,   -999.0,9,-999.0000,9,  -999.00,     2041
  49UF20131029,KS1308,  4055,  1,     29,  21988,3,20131122,1959, 38.1037, 134.4505, 1565,    102.1,  17.1693,  34.2877,2,  34.3027,4,    177.4,6,    11.35,6,     7.77,6,     0.02,6,     0.55,6, -999.000,9, -999.000,9,   -999.0,9,   -999.0,9,-999.0000,9,  -999.00,     2040
  49UF20131029,KS1308,  4055,  1,     28,  21987,2,20131122,1959, 38.1037, 134.4505, 1565,    126.8,  15.6838,  34.4279,2,  34.4318,2,    199.5,2,     9.50,2,     6.10,2,     0.02,2,     0.47,2, -999.000,9, -999.000,9,   -999.0,9,   -999.0,9,-999.0000,9,  -999.00,     2039
  49UF20131029,KS1308,  4055,  1,     27,  21986,2,20131122,1959, 38.1037, 134.4505, 1565,    126.8,  15.6838,  34.4279,2,  34.4334,4,    199.8,2,     9.45,2,     6.07,2,     0.02,2,     0.47,2, -999.000,9, -999.000,9,   -999.0,9,   -999.0,9,-999.0000,9,  -999.00,     2038
  49UF20131029,KS1308,  4055,  1,     26,  21985,2,20131122,1959, 38.1037, 134.4505, 1565,    152.8,  13.6212,  34.3538,2,  34.3450,4,    220.9,2,     7.08,2,     5.85,2,     0.02,2,     0.45,2, -999.000,9, -999.000,9,   -999.0,9,   -999.0,9,-999.0000,9,  -999.00,     2037
  49UF20131029,KS1308,  4055,  1,     25,  21984,2,20131122,1959, 38.1037, 134.4505, 1565,    201.6,   8.2400,  34.0976,2,  34.0998,2,    252.9,2,    10.01,2,     8.88,2,     0.01,2,     0.65,2, -999.000,9, -999.000,9,   -999.0,9,   -999.0,9,-999.0000,9,  -999.00,     2033
  49UF20131029,KS1308,  4055,  1,     20,  21979,2,20131122,1959, 38.1037, 134.4505, 1565,    254.4,   3.6490,  33.9984,2,  34.0011,2,    282.5,2,    12.95,2,    11.02,2,     0.01,2,     0.83,2, -999.000,9, -999.000,9,   -999.0,9,   -999.0,9,-999.0000,9,  -999.00,     2031
  49UF20131029,KS1308,  4055,  1,     19,  21978,2,20131122,1959, 38.1037, 134.4505, 1565,    303.5,   1.9752,  34.0472,2,  34.0468,2,    247.7,6,    27.53,6,    18.26,6,     0.00,6,     1.40,6, -999.000,9, -999.000,9,   -999.0,9,   -999.0,9,-999.0000,9,  -999.00,     2030
  49UF20131029,KS1308,  4055,  1,     18,  21977,2,20131122,1959, 38.1037, 134.4505, 1565,    403.5,   0.9503,  34.0625,2,  34.0621,2,    222.8,2,    39.12,2,    22.98,2,     0.00,2,     1.76,2, -999.000,9, -999.000,9,   -999.0,9,   -999.0,9,-999.0000,9,  -999.00,     2027
  49UF20131029,KS1308,  4055,  1,     17,  23679,2,20131122,1959, 38.1037, 134.4505, 1565,    505.2,   0.6683,  34.0682,2,  34.0683,6,    211.3,2,    47.62,2,    24.42,2,     0.00,2,     1.89,2, -999.000,9, -999.000,9,   -999.0,9,   -999.0,9,-999.0000,9,  -999.00,     2024
  49UF20131029,KS1308,  4055,  1,     16,  21975,2,20131122,1959, 38.1037, 134.4505, 1565,    606.0,   0.5404,  34.0693,2,  34.0699,2,    208.2,2,    52.78,2,    24.80,2,     0.00,2,     1.93,2, -999.000,9, -999.000,9,   -999.0,9,   -999.0,9,-999.0000,9,  -999.00,     2021
  49UF20131029,KS1308,  4055,  1,      9,  21968,2,20131122,1959, 38.1037, 134.4505, 1565,    707.4,   0.4588,  34.0695,2,  34.0697,2,    206.0,2,    57.31,2,    24.96,2,     0.00,2,     1.94,2, -999.000,9, -999.000,9,   -999.0,9,   -999.0,9,-999.0000,9,  -999.00,     2018
  49UF20131029,KS1308,  4055,  1,      8,  21982,2,20131122,1959, 38.1037, 134.4505, 1565,    707.4,   0.4588,  34.0695,2,  34.0697,2,    206.0,2,    57.24,2,    24.87,2,     0.00,2,     1.94,2, -999.000,9, -999.000,9,   -999.0,9,   -999.0,9,-999.0000,9,  -999.00,     2018
  49UF20131029,KS1308,  4055,  1,      7,  21966,2,20131122,1959, 38.1037, 134.4505, 1565,    809.5,   0.3944,  34.0692,2,  34.0691,2,    205.0,2,    60.59,2,    25.01,2,     0.00,2,     1.95,2, -999.000,9, -999.000,9,   -999.0,9,   -999.0,9,-999.0000,9,  -999.00,     2015
  49UF20131029,KS1308,  4055,  1,      6,  21965,3,20131122,1959, 38.1037, 134.4505, 1565,    909.0,   0.3513,  34.0687,2,  34.0691,2,    203.7,2,    64.32,2,    25.09,2,     0.00,2,     1.96,2, -999.000,9, -999.000,9,   -999.0,9,   -999.0,9,-999.0000,9,  -999.00,     2013
  49UF20131029,KS1308,  4055,  1,      5,  21964,3,20131122,1959, 38.1037, 134.4505, 1565,   1010.3,   0.3134,  34.0681,2,  34.0682,2,    202.7,2,    67.85,2,    25.18,2,     0.00,2,     1.97,2, -999.000,9, -999.000,9,   -999.0,9,   -999.0,9,-999.0000,9,  -999.00,     2010
  49UF20131029,KS1308,  4055,  1,      4,  21963,2,20131122,1959, 38.1037, 134.4505, 1565,   1212.5,   0.2667,  34.0676,2,  34.0679,2,    201.6,2,    72.68,2,    25.22,2,     0.00,2,     1.98,2, -999.000,9, -999.000,9,   -999.0,9,   -999.0,9,-999.0000,9,  -999.00,     2005
  49UF20131029,KS1308,  4055,  1,      2,  21961,2,20131122,1959, 38.1037, 134.4505, 1565,   1417.9,   0.2484,  34.0671,2,  34.0679,6,    200.9,2,    76.38,2,    25.25,2,     0.00,2,     1.99,2, -999.000,9, -999.000,9,   -999.0,9,   -999.0,9,-999.0000,9,  -999.00,     2001
  49UF20131029,KS1308,  4055,  1,      1,  21960,2,20131122,1959, 38.1037, 134.4505, 1565,   1506.6,   0.2440,  34.0670,2,  34.0673,6,    200.5,2,    77.83,2,    25.35,2,     0.00,2,     2.00,2, -999.000,9, -999.000,9,   -999.0,9,   -999.0,9,-999.0000,9,  -999.00,     1959