BOTTLE,20191021PRINUNIVRMK
EXPOCODE,SECT_ID,STNNBR,CASTNO,SAMPNO,BTLNBR,BTLNBR_FLAG_W,DATE,TIME,LATITUDE,LONGITUDE,DEPTH,CTDPRS,CTDTMP,CTDSAL,CTDSAL_FLAG_W,SALNTY,SALNTY_FLAG_W,OXYGEN,OXYGEN_FLAG_W,SILCAT,SILCAT_FLAG_W,NITRAT,NITRAT_FLAG_W,NITRIT,NITRIT_FLAG_W,PHSPHT,PHSPHT_FLAG_W,CFC-11,CFC-11_FLAG_W,CFC-12,CFC-12_FLAG_W,TCARBN,TCARBN_FLAG_W,ALKALI,ALKALI_FLAG_W,PH_TOT,PH_TOT_FLAG_W,PH_TMP,BTL_TIME
,,,,,,,,,,,METERS,DBAR,ITS-90,PSS-78,,PSS-78,,UMOL/KG,,UMOL/KG,,UMOL/KG,,UMOL/KG,,UMOL/KG,,PMOL/KG,,PMOL/KG,,UMOL/KG,,UMOL/KG,,,,DEG C,
  49UF20131029,KS1308,  4021,  1,     99,     99,2,20131102,2015, 41.5100, 138.0292, 3695,      0.0,  14.1781,  33.6644,2,-999.0000,9,    258.1,2,     2.20,2,     0.00,2,     0.00,2,     0.02,2, -999.000,9, -999.000,9,   -999.0,9,   -999.0,9,-999.0000,9,  -999.00,     2128
  49UF20131029,KS1308,  4021,  1,     36,  21995,2,20131102,2015, 41.5100, 138.0292, 3695,      9.5,  14.1802,  33.6642,2,  33.6630,2,    257.9,2,     2.19,2,     0.00,2,     0.00,2,     0.02,2, -999.000,9, -999.000,9,   -999.0,9,   -999.0,9,-999.0000,9,  -999.00,     2149
  49UF20131029,KS1308,  4021,  1,     35,  22087,2,20131102,2015, 41.5100, 138.0292, 3695,     24.5,  14.1549,  33.6591,2,  33.7552,4,    287.0,2,     2.85,2,     0.38,2,     0.02,2,     0.11,2, -999.000,9, -999.000,9,   -999.0,9,   -999.0,9,-999.0000,9,  -999.00,     2148
  49UF20131029,KS1308,  4021,  1,     32,  21991,2,20131102,2015, 41.5100, 138.0292, 3695,     48.9,   2.9302,  34.0186,2,  34.0212,2,    293.2,2,    16.13,2,    12.88,2,     0.03,2,     0.96,2, -999.000,9, -999.000,9,   -999.0,9,   -999.0,9,-999.0000,9,  -999.00,     2144
  49UF20131029,KS1308,  4021,  1,     31,  21990,2,20131102,2015, 41.5100, 138.0292, 3695,     73.9,   2.1150,  34.0359,2,  34.0342,2,    293.1,2,    19.10,2,    14.46,2,     0.01,2,     1.07,2, -999.000,9, -999.000,9,   -999.0,9,   -999.0,9,-999.0000,9,  -999.00,     2143
  49UF20131029,KS1308,  4021,  1,     30,  21989,2,20131102,2015, 41.5100, 138.0292, 3695,     99.6,   1.7167,  34.0479,2,  34.0483,2,    295.4,2,    20.36,2,    14.67,2,     0.01,2,     1.09,2, -999.000,9, -999.000,9,   -999.0,9,   -999.0,9,-999.0000,9,  -999.00,     2142
  49UF20131029,KS1308,  4021,  1,     29,  21988,2,20131102,2015, 41.5100, 138.0292, 3695,    125.1,   1.3620,  34.0477,2,  34.0484,2,    299.9,2,    21.51,2,    15.19,2,     0.01,2,     1.13,2, -999.000,9, -999.000,9,   -999.0,9,   -999.0,9,-999.0000,9,  -999.00,     2141
  49UF20131029,KS1308,  4021,  1,     28,  21987,2,20131102,2015, 41.5100, 138.0292, 3695,    150.6,   1.1827,  34.0497,2,  34.0503,2,    296.7,2,    22.58,2,    15.75,2,     0.00,2,     1.17,2, -999.000,9, -999.000,9,   -999.0,9,   -999.0,9,-999.0000,9,  -999.00,     2140
  49UF20131029,KS1308,  4021,  1,     27,  21986,2,20131102,2015, 41.5100, 138.0292, 3695,    201.4,   0.9526,  34.0505,2,  34.0513,2,    292.8,6,    24.42,6,    16.70,6,     0.00,6,     1.25,6, -999.000,9, -999.000,9,   -999.0,9,   -999.0,9,-999.0000,9,  -999.00,     2138
  49UF20131029,KS1308,  4021,  1,     26,  21985,2,20131102,2015, 41.5100, 138.0292, 3695,    251.7,   0.9158,  34.0564,2,  34.0569,2,    291.8,2,    25.03,2,    16.89,2,     0.00,2,     1.27,2, -999.000,9, -999.000,9,   -999.0,9,   -999.0,9,-999.0000,9,  -999.00,     2137
  49UF20131029,KS1308,  4021,  1,     25,  21984,2,20131102,2015, 41.5100, 138.0292, 3695,    302.9,   0.8686,  34.0599,2,  34.0592,2,    282.2,2,    27.28,2,    17.98,2,     0.00,2,     1.35,2, -999.000,9, -999.000,9,   -999.0,9,   -999.0,9,-999.0000,9,  -999.00,     2135
  49UF20131029,KS1308,  4021,  1,     24,  21983,2,20131102,2015, 41.5100, 138.0292, 3695,    404.6,   0.7756,  34.0665,2,  34.0661,2,    246.1,2,    35.08,2,    21.39,2,     0.01,2,     1.63,2, -999.000,9, -999.000,9,   -999.0,9,   -999.0,9,-999.0000,9,  -999.00,     2132
  49UF20131029,KS1308,  4021,  1,     23,  22095,2,20131102,2015, 41.5100, 138.0292, 3695,    505.3,   0.6857,  34.0711,2,  34.0705,2,    222.4,2,    42.59,2,    23.64,2,     0.01,2,     1.83,2, -999.000,9, -999.000,9,   -999.0,9,   -999.0,9,-999.0000,9,  -999.00,     2129
  49UF20131029,KS1308,  4021,  1,     22,  22665,2,20131102,2015, 41.5100, 138.0292, 3695,    605.6,   0.5712,  34.0724,2,  34.0720,2,    215.4,2,    48.07,2,    24.40,2,     0.00,2,     1.89,2, -999.000,9, -999.000,9,   -999.0,9,   -999.0,9,-999.0000,9,  -999.00,     2126
  49UF20131029,KS1308,  4021,  1,     21,  21980,2,20131102,2015, 41.5100, 138.0292, 3695,    707.8,   0.4868,  34.0723,2,  34.0721,2,    210.7,2,    52.86,2,    24.78,2,     0.00,2,     1.91,2, -999.000,9, -999.000,9,   -999.0,9,   -999.0,9,-999.0000,9,  -999.00,     2123
  49UF20131029,KS1308,  4021,  1,     20,  21979,2,20131102,2015, 41.5100, 138.0292, 3695,    808.2,   0.4116,  34.0715,2,  34.0740,4,    207.7,2,    57.26,2,    24.97,2,     0.00,2,     1.93,2, -999.000,9, -999.000,9,   -999.0,9,   -999.0,9,-999.0000,9,  -999.00,     2120
  49UF20131029,KS1308,  4021,  1,     19,  21978,2,20131102,2015, 41.5100, 138.0292, 3695,    911.3,   0.3559,  34.0708,2,  34.0702,6,    205.6,2,    60.95,2,    25.13,2,     0.00,2,     1.94,2, -999.000,9, -999.000,9,   -999.0,9,   -999.0,9,-999.0000,9,  -999.00,     2117
  49UF20131029,KS1308,  4021,  1,     18,  21977,2,20131102,2015, 41.5100, 138.0292, 3695,   1011.0,   0.3196,  34.0701,2,  34.0688,2,    204.2,2,    63.92,2,    25.25,2,     0.00,2,     1.95,2, -999.000,9, -999.000,9,   -999.0,9,   -999.0,9,-999.0000,9,  -999.00,     2114
  49UF20131029,KS1308,  4021,  1,     17,  23679,2,20131102,2015, 41.5100, 138.0292, 3695,   1011.0,   0.3196,  34.0701,2,  34.0707,2,    204.4,2,    63.87,2,    25.14,2,     0.00,2,     1.95,2, -999.000,9, -999.000,9,   -999.0,9,   -999.0,9,-999.0000,9,  -999.00,     2114
  49UF20131029,KS1308,  4021,  1,     16,  21975,2,20131102,2015, 41.5100, 138.0292, 3695,   1213.0,   0.2667,  34.0690,2,  34.0710,2,    204.2,2,    68.44,2,    25.28,2,     0.00,2,     1.96,2, -999.000,9, -999.000,9,   -999.0,9,   -999.0,9,-999.0000,9,  -999.00,     2109
  49UF20131029,KS1308,  4021,  1,     15,  21974,2,20131102,2015, 41.5100, 138.0292, 3695,   1415.9,   0.2380,  34.0682,2,  34.0692,2,    204.3,2,    72.18,2,    25.25,2,     0.00,2,     1.96,2, -999.000,9, -999.000,9,   -999.0,9,   -999.0,9,-999.0000,9,  -999.00,     2104
  49UF20131029,KS1308,  4021,  1,     14,  21973,2,20131102,2015, 41.5100, 138.0292, 3695,   1618.7,   0.2222,  34.0680,2,  34.0672,2,    203.7,2,    75.44,2,    25.39,2,     0.00,2,     1.97,2, -999.000,9, -999.000,9,   -999.0,9,   -999.0,9,-999.0000,9,  -999.00,     2100
  49UF20131029,KS1308,  4021,  1,     13,  21972,2,20131102,2015, 41.5100, 138.0292, 3695,   1821.8,   0.2161,  34.0677,2,  34.0672,2,    203.6,2,    78.42,2,    25.40,2,     0.00,2,     1.98,2, -999.000,9, -999.000,9,   -999.0,9,   -999.0,9,-999.0000,9,  -999.00,     2055
  49UF20131029,KS1308,  4021,  1,     12,  21994,2,20131102,2015, 41.5100, 138.0292, 3695,   2024.8,   0.2160,  34.0678,2,  34.0660,4,    203.6,2,    80.70,2,    25.48,2,     0.00,2,     1.98,2, -999.000,9, -999.000,9,   -999.0,9,   -999.0,9,-999.0000,9,  -999.00,     2050
  49UF20131029,KS1308,  4021,  1,     11,  21970,2,20131102,2015, 41.5100, 138.0292, 3695,   2278.7,   0.2209,  34.0677,2,  34.0667,2,    203.9,2,    84.09,2,    25.50,2,     0.00,2,     1.99,2, -999.000,9, -999.000,9,   -999.0,9,   -999.0,9,-999.0000,9,  -999.00,     2045
  49UF20131029,KS1308,  4021,  1,     10,  21969,3,20131102,2015, 41.5100, 138.0292, 3695,   2534.3,   0.2337,  34.0678,2,  34.0679,2,    204.4,2,    85.71,2,    25.62,2,     0.00,2,     1.99,2, -999.000,9, -999.000,9,   -999.0,9,   -999.0,9,-999.0000,9,  -999.00,     2039
  49UF20131029,KS1308,  4021,  1,      9,  21968,2,20131102,2015, 41.5100, 138.0292, 3695,   2788.2,   0.2545,  34.0678,2,  34.0674,2,    204.8,2,    85.86,2,    25.68,2,     0.00,2,     1.99,2, -999.000,9, -999.000,9,   -999.0,9,   -999.0,9,-999.0000,9,  -999.00,     2034
  49UF20131029,KS1308,  4021,  1,      8,  21982,2,20131102,2015, 41.5100, 138.0292, 3695,   2788.2,   0.2545,  34.0678,2,  34.0678,2,    204.6,2,    85.86,2,    25.67,2,     0.00,2,     1.99,2, -999.000,9, -999.000,9,   -999.0,9,   -999.0,9,-999.0000,9,  -999.00,     2034
  49UF20131029,KS1308,  4021,  1,      7,  21966,2,20131102,2015, 41.5100, 138.0292, 3695,   3043.2,   0.2768,  34.0675,2,  34.0676,2,    204.8,6,    85.86,6,    25.65,6,     0.00,6,     2.00,6, -999.000,9, -999.000,9,   -999.0,9,   -999.0,9,-999.0000,9,  -999.00,     2029
  49UF20131029,KS1308,  4021,  1,      6,  21965,2,20131102,2015, 41.5100, 138.0292, 3695,   3298.9,   0.3001,  34.0675,2,  34.0679,2,    204.9,2,    85.90,2,    25.62,2,     0.00,2,     2.00,2, -999.000,9, -999.000,9,   -999.0,9,   -999.0,9,-999.0000,9,  -999.00,     2024
  49UF20131029,KS1308,  4021,  1,      5,  21964,2,20131102,2015, 41.5100, 138.0292, 3695,   3554.7,   0.3245,  34.0673,2,  34.0677,6,    204.8,2,    85.94,2,    25.57,2,     0.00,2,     1.99,2, -999.000,9, -999.000,9,   -999.0,9,   -999.0,9,-999.0000,9,  -999.00,     2019
  49UF20131029,KS1308,  4021,  1,      4,  21963,2,20131102,2015, 41.5100, 138.0292, 3695,   3684.2,   0.3373,  34.0673,2,  34.0678,6,    204.8,2,    85.91,2,    25.63,2,     0.00,2,     2.00,2, -999.000,9, -999.000,9,   -999.0,9,   -999.0,9,-999.0000,9,  -999.00,     2015
  49UF20131029,KS1308,  4023,  1,     99,     99,2,20131103,0608, 42.1695, 138.0155, 3691,      0.0,  14.7160,  33.6470,2,-999.0000,9,    254.9,2,     2.48,2,     0.02,2,     0.00,2,     0.02,2, -999.000,9, -999.000,9,   -999.0,9,   -999.0,9,-999.0000,9,  -999.00,      708
  49UF20131029,KS1308,  4023,  1,     36,  21995,2,20131103,0608, 42.1695, 138.0155, 3691,      9.8,  14.7039,  33.6496,2,-999.0000,9,    255.6,2,     2.45,2,     0.00,2,     0.00,2,     0.02,2, -999.000,9, -999.000,9,   -999.0,9,   -999.0,9,-999.0000,9,  -999.00,      738
  49UF20131029,KS1308,  4023,  1,     35,  22087,3,20131103,0608, 42.1695, 138.0155, 3691,     24.9,  13.9397,  33.6606,2,-999.0000,9,    294.6,2,     2.86,2,     0.19,2,     0.01,2,     0.10,2, -999.000,9, -999.000,9,   -999.0,9,   -999.0,9,-999.0000,9,  -999.00,      737
  49UF20131029,KS1308,  4023,  1,     32,  21991,2,20131103,0608, 42.1695, 138.0155, 3691,     49.2,   3.7930,  34.0330,2,-999.0000,9,    286.8,2,    14.68,2,    11.81,2,     0.04,2,     0.89,2, -999.000,9, -999.000,9,   -999.0,9,   -999.0,9,-999.0000,9,  -999.00,      733
  49UF20131029,KS1308,  4023,  1,     31,  21990,2,20131103,0608, 42.1695, 138.0155, 3691,     74.1,   2.5722,  34.0285,2,-999.0000,9,    290.0,2,    17.56,2,    13.66,2,     0.01,2,     1.01,2, -999.000,9, -999.000,9,   -999.0,9,   -999.0,9,-999.0000,9,  -999.00,      732
  49UF20131029,KS1308,  4023,  1,     30,  21989,2,20131103,0608, 42.1695, 138.0155, 3691,     99.4,   2.0560,  34.0490,2,-999.0000,9,    287.1,2,    20.44,2,    14.71,2,     0.01,2,     1.10,2, -999.000,9, -999.000,9,   -999.0,9,   -999.0,9,-999.0000,9,  -999.00,      731
  49UF20131029,KS1308,  4023,  1,     29,  21988,2,20131103,0608, 42.1695, 138.0155, 3691,    125.3,   1.6296,  34.0530,2,-999.0000,9,    287.6,2,    22.13,2,    15.43,2,     0.01,2,     1.15,2, -999.000,9, -999.000,9,   -999.0,9,   -999.0,9,-999.0000,9,  -999.00,      730
  49UF20131029,KS1308,  4023,  1,     28,  21987,2,20131103,0608, 42.1695, 138.0155, 3691,    149.9,   1.4549,  34.0555,2,-999.0000,9,    290.3,2,    22.22,2,    15.43,2,     0.01,2,     1.15,2, -999.000,9, -999.000,9,   -999.0,9,   -999.0,9,-999.0000,9,  -999.00,      729
  49UF20131029,KS1308,  4023,  1,     27,  21986,2,20131103,0608, 42.1695, 138.0155, 3691,    200.7,   1.1069,  34.0537,2,-999.0000,9,    284.5,2,    25.38,2,    16.95,2,     0.00,2,     1.27,2, -999.000,9, -999.000,9,   -999.0,9,   -999.0,9,-999.0000,9,  -999.00,      727
  49UF20131029,KS1308,  4023,  1,     26,  21985,2,20131103,0608, 42.1695, 138.0155, 3691,    250.4,   0.9387,  34.0555,2,-999.0000,9,    286.7,6,    25.80,6,    17.13,6,     0.00,6,     1.29,6, -999.000,9, -999.000,9,   -999.0,9,   -999.0,9,-999.0000,9,  -999.00,      726
  49UF20131029,KS1308,  4023,  1,     25,  21984,2,20131103,0608, 42.1695, 138.0155, 3691,    300.8,   0.8924,  34.0608,2,-999.0000,9,    272.4,2,    28.69,2,    18.59,2,     0.00,2,     1.41,2, -999.000,9, -999.000,9,   -999.0,9,   -999.0,9,-999.0000,9,  -999.00,      724
  49UF20131029,KS1308,  4023,  1,     24,  21983,2,20131103,0608, 42.1695, 138.0155, 3691,    402.4,   0.7918,  34.0677,2,-999.0000,9,    237.3,2,    36.74,2,    22.15,2,     0.01,2,     1.69,2, -999.000,9, -999.000,9,   -999.0,9,   -999.0,9,-999.0000,9,  -999.00,      721
  49UF20131029,KS1308,  4023,  1,     23,  22095,3,20131103,0608, 42.1695, 138.0155, 3691,    503.6,   0.6968,  34.0718,2,-999.0000,9,    221.8,2,    41.97,2,    23.65,2,     0.00,2,     1.83,2, -999.000,9, -999.000,9,   -999.0,9,   -999.0,9,-999.0000,9,  -999.00,      719
  49UF20131029,KS1308,  4023,  1,     22,  22665,2,20131103,0608, 42.1695, 138.0155, 3691,    604.5,   0.5991,  34.0722,2,-999.0000,9,    215.8,2,    46.99,2,    24.21,2,     0.00,2,     1.88,2, -999.000,9, -999.000,9,   -999.0,9,   -999.0,9,-999.0000,9,  -999.00,      716
  49UF20131029,KS1308,  4023,  1,     21,  21980,2,20131103,0608, 42.1695, 138.0155, 3691,    707.7,   0.5181,  34.0721,2,-999.0000,9,    211.3,2,    51.93,2,    24.65,2,     0.00,2,     1.91,2, -999.000,9, -999.000,9,   -999.0,9,   -999.0,9,-999.0000,9,  -999.00,      713
  49UF20131029,KS1308,  4023,  1,     20,  21979,2,20131103,0608, 42.1695, 138.0155, 3691,    809.4,   0.4410,  34.0718,2,-999.0000,9,    208.0,2,    55.83,2,    24.96,2,     0.00,2,     1.93,2, -999.000,9, -999.000,9,   -999.0,9,   -999.0,9,-999.0000,9,  -999.00,      711
  49UF20131029,KS1308,  4023,  1,     19,  21978,3,20131103,0608, 42.1695, 138.0155, 3691,    909.1,   0.3868,  34.0711,2,-999.0000,9,    206.6,2,    58.98,2,    25.02,2,     0.00,2,     1.93,2, -999.000,9, -999.000,9,   -999.0,9,   -999.0,9,-999.0000,9,  -999.00,      708
  49UF20131029,KS1308,  4023,  1,     18,  21977,2,20131103,0608, 42.1695, 138.0155, 3691,    909.1,   0.3868,  34.0711,2,-999.0000,9,    206.3,2,    59.04,2,    25.08,2,     0.00,2,     1.94,2, -999.000,9, -999.000,9,   -999.0,9,   -999.0,9,-999.0000,9,  -999.00,      708
  49UF20131029,KS1308,  4023,  1,     17,  23679,3,20131103,0608, 42.1695, 138.0155, 3691,   1011.1,   0.3372,  34.0704,2,-999.0000,9,    204.6,2,    62.72,2,    25.22,2,     0.00,2,     1.95,2, -999.000,9, -999.000,9,   -999.0,9,   -999.0,9,-999.0000,9,  -999.00,      705
  49UF20131029,KS1308,  4023,  1,     16,  21975,2,20131103,0608, 42.1695, 138.0155, 3691,   1214.0,   0.2813,  34.0692,2,-999.0000,9,    204.1,2,    67.39,2,    25.16,2,     0.00,2,     1.95,2, -999.000,9, -999.000,9,   -999.0,9,   -999.0,9,-999.0000,9,  -999.00,      701
  49UF20131029,KS1308,  4023,  1,     15,  21974,2,20131103,0608, 42.1695, 138.0155, 3691,   1417.1,   0.2507,  34.0685,2,-999.0000,9,    204.3,2,    71.06,2,    25.32,2,     0.00,2,     1.96,2, -999.000,9, -999.000,9,   -999.0,9,   -999.0,9,-999.0000,9,  -999.00,      656
  49UF20131029,KS1308,  4023,  1,     14,  21973,2,20131103,0608, 42.1695, 138.0155, 3691,   1619.5,   0.2307,  34.0681,2,-999.0000,9,    204.4,2,    74.27,2,    25.29,2,     0.00,2,     1.97,2, -999.000,9, -999.000,9,   -999.0,9,   -999.0,9,-999.0000,9,  -999.00,      652
  49UF20131029,KS1308,  4023,  1,     13,  21972,3,20131103,0608, 42.1695, 138.0155, 3691,   1823.7,   0.2212,  34.0678,2,-999.0000,9,    203.7,2,    77.58,2,    25.32,2,     0.00,2,     1.97,2, -999.000,9, -999.000,9,   -999.0,9,   -999.0,9,-999.0000,9,  -999.00,      647
  49UF20131029,KS1308,  4023,  1,     12,  21994,2,20131103,0608, 42.1695, 138.0155, 3691,   2027.0,   0.2209,  34.0678,2,-999.0000,9,    203.5,2,    80.17,2,    25.38,2,     0.00,2,     1.98,2, -999.000,9, -999.000,9,   -999.0,9,   -999.0,9,-999.0000,9,  -999.00,      643
  49UF20131029,KS1308,  4023,  1,     11,  21970,2,20131103,0608, 42.1695, 138.0155, 3691,   2280.8,   0.2252,  34.0678,2,-999.0000,9,    203.9,2,    82.74,2,    25.45,2,     0.00,2,     1.98,2, -999.000,9, -999.000,9,   -999.0,9,   -999.0,9,-999.0000,9,  -999.00,      637
  49UF20131029,KS1308,  4023,  1,     10,  21969,3,20131103,0608, 42.1695, 138.0155, 3691,   2535.5,   0.2342,  34.0678,2,-999.0000,9,    204.4,2,    85.90,2,    25.46,2,     0.00,2,     1.99,2, -999.000,9, -999.000,9,   -999.0,9,   -999.0,9,-999.0000,9,  -999.00,      632
  49UF20131029,KS1308,  4023,  1,      9,  21968,3,20131103,0608, 42.1695, 138.0155, 3691,   2535.5,   0.2342,  34.0678,2,-999.0000,9,    204.4,2,    85.69,2,    25.51,2,     0.00,2,     1.99,2, -999.000,9, -999.000,9,   -999.0,9,   -999.0,9,-999.0000,9,  -999.00,      632
  49UF20131029,KS1308,  4023,  1,      8,  21982,2,20131103,0608, 42.1695, 138.0155, 3691,   2788.8,   0.2546,  34.0678,2,-999.0000,9,    204.5,6,    85.82,6,    25.55,6,     0.00,6,     1.99,6, -999.000,9, -999.000,9,   -999.0,9,   -999.0,9,-999.0000,9,  -999.00,      627
  49UF20131029,KS1308,  4023,  1,      7,  21966,3,20131103,0608, 42.1695, 138.0155, 3691,   3046.4,   0.2770,  34.0676,2,-999.0000,9,    204.7,2,    85.66,2,    25.54,2,     0.00,2,     1.99,2, -999.000,9, -999.000,9,   -999.0,9,   -999.0,9,-999.0000,9,  -999.00,      622
  49UF20131029,KS1308,  4023,  1,      6,  21965,2,20131103,0608, 42.1695, 138.0155, 3691,   3301.6,   0.3003,  34.0675,2,-999.0000,9,    205.1,2,    85.89,2,    25.52,2,     0.00,2,     1.99,2, -999.000,9, -999.000,9,   -999.0,9,   -999.0,9,-999.0000,9,  -999.00,      616
  49UF20131029,KS1308,  4023,  1,      5,  21964,2,20131103,0608, 42.1695, 138.0155, 3691,   3558.1,   0.3249,  34.0674,2,  34.0680,2,    204.7,2,    85.72,2,    25.56,2,     0.00,2,     1.99,2, -999.000,9, -999.000,9,   -999.0,9,   -999.0,9,-999.0000,9,  -999.00,      611
  49UF20131029,KS1308,  4023,  1,      4,  21963,3,20131103,0608, 42.1695, 138.0155, 3691,   3685.4,   0.3377,  34.0673,2,  34.0676,2,    204.8,2,    85.84,2,    25.52,2,     0.00,2,     1.99,2, -999.000,9, -999.000,9,   -999.0,9,   -999.0,9,-999.0000,9,  -999.00,      608