BOTTLE,20191021PRINUNIVRMK
EXPOCODE,SECT_ID,STNNBR,CASTNO,SAMPNO,BTLNBR,BTLNBR_FLAG_W,DATE,TIME,LATITUDE,LONGITUDE,DEPTH,CTDPRS,CTDTMP,CTDSAL,CTDSAL_FLAG_W,SALNTY,SALNTY_FLAG_W,OXYGEN,OXYGEN_FLAG_W,SILCAT,SILCAT_FLAG_W,NITRAT,NITRAT_FLAG_W,NITRIT,NITRIT_FLAG_W,PHSPHT,PHSPHT_FLAG_W,CFC-11,CFC-11_FLAG_W,CFC-12,CFC-12_FLAG_W,TCARBN,TCARBN_FLAG_W,ALKALI,ALKALI_FLAG_W,PH_TOT,PH_TOT_FLAG_W,PH_TMP,BTL_TIME
,,,,,,,,,,,METERS,DBAR,ITS-90,PSS-78,,PSS-78,,UMOL/KG,,UMOL/KG,,UMOL/KG,,UMOL/KG,,UMOL/KG,,PMOL/KG,,PMOL/KG,,UMOL/KG,,UMOL/KG,,,,DEG C,
  49UF20131029,KS1308,  4027,  1,     99,     99,2,20131104,0906, 42.1415, 137.4380, 3686,      0.0,  13.8856,  33.6229,2,-999.0000,9,    258.8,2,     2.20,2,     0.00,2,     0.00,2,     0.03,2, -999.000,9, -999.000,9,   -999.0,9,   -999.0,9,-999.0000,9,  -999.00,     1010
  49UF20131029,KS1308,  4027,  1,     36,  21995,2,20131104,0906, 42.1415, 137.4380, 3686,     10.1,  13.8892,  33.6225,2,-999.0000,9,    258.8,2,     2.21,2,     0.00,2,     0.00,2,     0.02,2, -999.000,9, -999.000,9,   -999.0,9,   -999.0,9,-999.0000,9,  -999.00,     1043
  49UF20131029,KS1308,  4027,  1,     35,  22087,2,20131104,0906, 42.1415, 137.4380, 3686,     25.2,  13.8927,  33.6186,2,-999.0000,9,    260.5,2,     2.25,2,     0.00,2,     0.00,2,     0.02,2, -999.000,9, -999.000,9,   -999.0,9,   -999.0,9,-999.0000,9,  -999.00,     1042
  49UF20131029,KS1308,  4027,  1,     33,  21992,2,20131104,0906, 42.1415, 137.4380, 3686,     50.2,   4.5884,  34.0036,2,-999.0000,9,    307.1,2,     9.78,2,     7.59,2,     0.23,2,     0.65,2, -999.000,9, -999.000,9,   -999.0,9,   -999.0,9,-999.0000,9,  -999.00,     1040
  49UF20131029,KS1308,  4027,  1,     32,  21991,2,20131104,0906, 42.1415, 137.4380, 3686,     75.6,   2.7941,  34.0203,2,-999.0000,9,    289.4,2,    16.80,2,    13.22,2,     0.03,2,     1.00,2, -999.000,9, -999.000,9,   -999.0,9,   -999.0,9,-999.0000,9,  -999.00,     1039
  49UF20131029,KS1308,  4027,  1,     31,  21990,2,20131104,0906, 42.1415, 137.4380, 3686,    100.9,   2.0867,  34.0421,2,-999.0000,9,    290.4,2,    20.11,2,    14.72,2,     0.01,2,     1.09,2, -999.000,9, -999.000,9,   -999.0,9,   -999.0,9,-999.0000,9,  -999.00,     1037
  49UF20131029,KS1308,  4027,  1,     30,  21989,2,20131104,0906, 42.1415, 137.4380, 3686,    126.3,   1.4665,  34.0373,2,-999.0000,9,    289.9,2,    22.51,2,    15.70,2,     0.01,2,     1.18,2, -999.000,9, -999.000,9,   -999.0,9,   -999.0,9,-999.0000,9,  -999.00,     1036
  49UF20131029,KS1308,  4027,  1,     29,  21988,2,20131104,0906, 42.1415, 137.4380, 3686,    151.4,   1.2811,  34.0464,2,-999.0000,9,    298.0,2,    22.40,2,    15.59,2,     0.01,2,     1.17,2, -999.000,9, -999.000,9,   -999.0,9,   -999.0,9,-999.0000,9,  -999.00,     1034
  49UF20131029,KS1308,  4027,  1,     28,  21987,2,20131104,0906, 42.1415, 137.4380, 3686,    201.9,   1.0830,  34.0529,2,-999.0000,9,    291.0,2,    24.06,2,    16.42,2,     0.01,2,     1.23,2, -999.000,9, -999.000,9,   -999.0,9,   -999.0,9,-999.0000,9,  -999.00,     1030
  49UF20131029,KS1308,  4027,  1,     27,  21986,2,20131104,0906, 42.1415, 137.4380, 3686,    251.7,   0.9196,  34.0542,2,-999.0000,9,    295.1,2,    24.58,2,    16.56,2,     0.00,2,     1.25,2, -999.000,9, -999.000,9,   -999.0,9,   -999.0,9,-999.0000,9,  -999.00,     1028
  49UF20131029,KS1308,  4027,  1,     26,  21985,2,20131104,0906, 42.1415, 137.4380, 3686,    302.2,   0.8559,  34.0570,2,-999.0000,9,    288.9,2,    26.31,2,    17.42,2,     0.00,2,     1.31,2, -999.000,9, -999.000,9,   -999.0,9,   -999.0,9,-999.0000,9,  -999.00,     1026
  49UF20131029,KS1308,  4027,  1,     25,  21984,2,20131104,0906, 42.1415, 137.4380, 3686,    402.5,   0.7750,  34.0589,2,-999.0000,9,    282.4,2,    28.32,2,    18.22,2,     0.00,2,     1.38,2, -999.000,9, -999.000,9,   -999.0,9,   -999.0,9,-999.0000,9,  -999.00,     1023
  49UF20131029,KS1308,  4027,  1,     24,  21983,2,20131104,0906, 42.1415, 137.4380, 3686,    504.7,   0.7265,  34.0681,2,-999.0000,9,    237.8,6,    38.06,6,    22.17,6,     0.00,6,     1.71,6, -999.000,9, -999.000,9,   -999.0,9,   -999.0,9,-999.0000,9,  -999.00,     1021
  49UF20131029,KS1308,  4027,  1,     22,  22665,2,20131104,0906, 42.1415, 137.4380, 3686,    605.9,   0.6154,  34.0722,2,-999.0000,9,    217.7,2,    45.91,2,    24.09,2,     0.00,2,     1.87,2, -999.000,9, -999.000,9,   -999.0,9,   -999.0,9,-999.0000,9,  -999.00,     1018
  49UF20131029,KS1308,  4027,  1,     21,  21980,2,20131104,0906, 42.1415, 137.4380, 3686,    605.9,   0.6154,  34.0722,2,-999.0000,9,    217.5,2,    45.99,2,    24.10,2,     0.00,2,     1.87,2, -999.000,9, -999.000,9,   -999.0,9,   -999.0,9,-999.0000,9,  -999.00,     1018
  49UF20131029,KS1308,  4027,  1,     20,  21979,2,20131104,0906, 42.1415, 137.4380, 3686,    706.2,   0.5147,  34.0724,2,-999.0000,9,    212.0,2,    51.45,2,    24.60,2,     0.00,2,     1.91,2, -999.000,9, -999.000,9,   -999.0,9,   -999.0,9,-999.0000,9,  -999.00,     1015
  49UF20131029,KS1308,  4027,  1,     19,  21978,2,20131104,0906, 42.1415, 137.4380, 3686,    808.4,   0.4368,  34.0719,2,-999.0000,9,    208.3,2,    55.88,2,    24.91,2,     0.00,2,     1.93,2, -999.000,9, -999.000,9,   -999.0,9,   -999.0,9,-999.0000,9,  -999.00,     1011
  49UF20131029,KS1308,  4027,  1,     18,  21977,2,20131104,0906, 42.1415, 137.4380, 3686,    908.7,   0.3811,  34.0709,2,-999.0000,9,    206.5,2,    59.33,2,    25.07,2,     0.00,2,     1.94,2, -999.000,9, -999.000,9,   -999.0,9,   -999.0,9,-999.0000,9,  -999.00,     1008
  49UF20131029,KS1308,  4027,  1,     17,  23679,2,20131104,0906, 42.1415, 137.4380, 3686,   1011.0,   0.3369,  34.0701,2,-999.0000,9,    204.5,6,    62.79,2,    25.20,2,     0.00,2,     1.95,2, -999.000,9, -999.000,9,   -999.0,9,   -999.0,9,-999.0000,9,  -999.00,     1005
  49UF20131029,KS1308,  4027,  1,     16,  21975,2,20131104,0906, 42.1415, 137.4380, 3686,   1211.3,   0.2795,  34.0691,2,-999.0000,9,    204.3,2,    67.42,2,    25.14,2,     0.00,2,     1.96,2, -999.000,9, -999.000,9,   -999.0,9,   -999.0,9,-999.0000,9,  -999.00,     1001
  49UF20131029,KS1308,  4027,  1,     15,  21974,2,20131104,0906, 42.1415, 137.4380, 3686,   1416.5,   0.2426,  34.0683,2,-999.0000,9,    204.3,2,    71.80,2,    25.16,2,     0.00,2,     1.96,2, -999.000,9, -999.000,9,   -999.0,9,   -999.0,9,-999.0000,9,  -999.00,      956
  49UF20131029,KS1308,  4027,  1,     14,  21973,2,20131104,0906, 42.1415, 137.4380, 3686,   1618.3,   0.2249,  34.0680,2,-999.0000,9,    203.6,2,    75.26,2,    25.36,2,     0.00,2,     1.97,2, -999.000,9, -999.000,9,   -999.0,9,   -999.0,9,-999.0000,9,  -999.00,      951
  49UF20131029,KS1308,  4027,  1,     13,  21972,2,20131104,0906, 42.1415, 137.4380, 3686,   1821.8,   0.2205,  34.0678,2,-999.0000,9,    203.6,2,    77.71,2,    25.34,2,     0.00,2,     1.98,2, -999.000,9, -999.000,9,   -999.0,9,   -999.0,9,-999.0000,9,  -999.00,      946
  49UF20131029,KS1308,  4027,  1,     12,  21994,2,20131104,0906, 42.1415, 137.4380, 3686,   1821.8,   0.2205,  34.0678,2,-999.0000,9,    203.4,2,    77.68,2,    25.39,2,     0.00,2,     1.98,2, -999.000,9, -999.000,9,   -999.0,9,   -999.0,9,-999.0000,9,  -999.00,      946
  49UF20131029,KS1308,  4027,  1,     11,  21970,3,20131104,0906, 42.1415, 137.4380, 3686,   2025.1,   0.2199,  34.0676,2,-999.0000,9,    203.6,6,    80.05,6,    25.43,6,     0.00,6,     1.99,6, -999.000,9, -999.000,9,   -999.0,9,   -999.0,9,-999.0000,9,  -999.00,      942
  49UF20131029,KS1308,  4027,  1,     10,  21969,2,20131104,0906, 42.1415, 137.4380, 3686,   2278.5,   0.2250,  34.0676,2,-999.0000,9,    203.8,2,    82.92,2,    25.43,2,     0.00,2,     1.99,2, -999.000,9, -999.000,9,   -999.0,9,   -999.0,9,-999.0000,9,  -999.00,      936
  49UF20131029,KS1308,  4027,  1,      9,  21968,2,20131104,0906, 42.1415, 137.4380, 3686,   2533.9,   0.2353,  34.0677,2,-999.0000,9,    203.9,2,    85.77,2,    25.61,2,     0.00,2,     2.00,2, -999.000,9, -999.000,9,   -999.0,9,   -999.0,9,-999.0000,9,  -999.00,      931
  49UF20131029,KS1308,  4027,  1,      8,  21982,2,20131104,0906, 42.1415, 137.4380, 3686,   2788.8,   0.2551,  34.0677,2,-999.0000,9,    204.2,2,    86.01,2,    25.62,2,     0.00,2,     2.00,2, -999.000,9, -999.000,9,   -999.0,9,   -999.0,9,-999.0000,9,  -999.00,      925
  49UF20131029,KS1308,  4027,  1,      7,  21966,3,20131104,0906, 42.1415, 137.4380, 3686,   3044.3,   0.2773,  34.0674,2,-999.0000,9,    204.1,2,    85.91,2,    25.60,2,     0.00,2,     2.00,2, -999.000,9, -999.000,9,   -999.0,9,   -999.0,9,-999.0000,9,  -999.00,      920
  49UF20131029,KS1308,  4027,  1,      6,  21965,3,20131104,0906, 42.1415, 137.4380, 3686,   3299.9,   0.3006,  34.0674,2,-999.0000,9,    204.2,3,    85.90,2,    25.60,2,     0.00,2,     1.99,2, -999.000,9, -999.000,9,   -999.0,9,   -999.0,9,-999.0000,9,  -999.00,      915
  49UF20131029,KS1308,  4027,  1,      5,  21964,2,20131104,0906, 42.1415, 137.4380, 3686,   3554.7,   0.3250,  34.0674,2,  34.0671,2,    204.6,2,    85.87,2,    25.53,2,     0.00,2,     1.99,2, -999.000,9, -999.000,9,   -999.0,9,   -999.0,9,-999.0000,9,  -999.00,      909
  49UF20131029,KS1308,  4027,  1,      4,  21963,2,20131104,0906, 42.1415, 137.4380, 3686,   3681.3,   0.3375,  34.0674,2,  34.0670,2,    204.4,2,    85.96,2,    25.58,2,     0.00,2,     1.99,2, -999.000,9, -999.000,9,   -999.0,9,   -999.0,9,-999.0000,9,  -999.00,      906
  49UF20131029,KS1308,  4029,  1,     99,     99,2,20131104,1837, 41.4815, 137.0112, 3592,      0.0,  13.2727,  33.8305,2,  33.8358,4,    263.8,2,     2.03,2,     0.00,2,     0.00,2,     0.03,2, -999.000,9, -999.000,9,   2019.4,2,   2258.4,2,   7.9577,2,    25.00,     1945
  49UF20131029,KS1308,  4029,  1,     36,  21995,3,20131104,1837, 41.4815, 137.0112, 3592,      9.9,  13.2913,  33.8297,2,  33.8284,2,    263.3,2,     2.04,2,     0.00,2,     0.00,2,     0.02,2,    3.333,2,    1.608,2,   2018.2,2,   2257.2,2,   7.9514,2,    25.00,     2008
  49UF20131029,KS1308,  4029,  1,     35,  22087,3,20131104,1837, 41.4815, 137.0112, 3592,     24.5,  13.2697,  33.8235,2,  33.8519,4,    280.2,2,     2.23,2,     0.00,2,     0.00,2,     0.06,2,    3.575,2,    1.802,2,   2025.5,2,   2259.0,2,   7.9483,2,    25.00,     2007
  49UF20131029,KS1308,  4029,  1,     33,  21992,3,20131104,1837, 41.4815, 137.0112, 3592,     49.3,   3.6152,  33.9933,2,  33.9975,2,    334.4,2,     9.82,2,     8.09,2,     0.33,2,     0.72,2,    5.582,2,    2.763,2,   2121.8,2,   2263.0,2,   7.7458,2,    25.00,     2003
  49UF20131029,KS1308,  4029,  1,     32,  21991,2,20131104,1837, 41.4815, 137.0112, 3592,     73.9,   2.1445,  34.0279,2,  34.0338,2,    287.7,2,    20.38,2,    15.17,2,     0.01,2,     1.13,2,    5.368,2,    2.705,2,   2165.4,2,   2261.1,2,   7.6246,2,    25.00,     2002
  49UF20131029,KS1308,  4029,  1,     31,  21990,2,20131104,1837, 41.4815, 137.0112, 3592,     99.5,   1.7480,  34.0448,2,  34.0458,2,    279.9,2,    23.56,2,    16.23,2,     0.01,2,     1.22,2,    5.103,2,    2.627,2,   2174.9,2,   2262.1,2,   7.6031,2,    25.00,     2001
  49UF20131029,KS1308,  4029,  1,     30,  21989,2,20131104,1837, 41.4815, 137.0112, 3592,    125.1,   1.4319,  34.0526,2,  34.0513,2,    267.4,2,    27.99,2,    18.12,2,     0.01,2,     1.37,2,    5.037,2,    2.529,2,   2187.8,2,   2259.9,2,   7.5635,2,    25.00,     2000
  49UF20131029,KS1308,  4029,  1,     29,  21988,2,20131104,1837, 41.4815, 137.0112, 3592,    150.5,   1.2001,  34.0513,2,  34.0481,2,    280.3,2,    26.28,2,    17.34,2,     0.00,2,     1.31,2,    5.295,2,    2.679,2,   2182.7,2,   2261.6,2,   7.5767,2,    25.00,     1958
  49UF20131029,KS1308,  4029,  1,     28,  21987,3,20131104,1837, 41.4815, 137.0112, 3592,    200.8,   0.9478,  34.0538,2,  34.0519,2,    286.1,2,    25.90,2,    17.28,2,     0.00,2,     1.30,2,    5.313,6,    2.710,6,   2181.9,2,   2259.2,2,   7.5767,2,    25.00,     1957
  49UF20131029,KS1308,  4029,  1,     27,  21986,2,20131104,1837, 41.4815, 137.0112, 3592,    250.9,   0.8686,  34.0580,2,  34.0567,2,    282.6,2,    27.30,2,    17.89,2,     0.00,2,     1.35,2,    5.317,2,    2.657,2,   2186.2,2,   2260.6,2,   7.5726,2,    25.00,     1955
  49UF20131029,KS1308,  4029,  1,     26,  21985,2,20131104,1837, 41.4815, 137.0112, 3592,    301.6,   0.8080,  34.0608,2,  34.0600,2,    274.2,2,    29.39,2,    18.78,2,     0.00,2,     1.42,2,    5.121,2,    2.559,2,   2192.2,2,   2261.0,2,   7.5512,2,    25.00,     1953
  49UF20131029,KS1308,  4029,  1,     25,  21984,2,20131104,1837, 41.4815, 137.0112, 3592,    403.2,   0.7387,  34.0678,2,  34.0671,2,    239.8,2,    37.23,2,    22.00,2,     0.00,2,     1.68,2,    4.608,2,    2.280,2,   2216.0,2,   2261.0,2,   7.4798,2,    25.00,     1951
  49UF20131029,KS1308,  4029,  1,     24,  21983,2,20131104,1837, 41.4815, 137.0112, 3592,    503.6,   0.6429,  34.0717,2,  34.0722,2,    218.7,6,    44.64,6,    23.95,6,     0.00,6,     1.85,6,    4.014,2,    1.927,2,   2232.2,2,   2258.4,3,   7.4436,2,    25.00,     1948
  49UF20131029,KS1308,  4029,  1,     22,  22665,2,20131104,1837, 41.4815, 137.0112, 3592,    604.3,   0.5537,  34.0724,2,  34.0719,2,    213.9,2,    49.07,2,    24.41,2,     0.00,2,     1.89,2,    3.584,2,    1.693,2,   -999.0,9,   -999.0,9,-999.0000,9,  -999.00,     1945
  49UF20131029,KS1308,  4029,  1,     21,  21980,2,20131104,1837, 41.4815, 137.0112, 3592,    604.3,   0.5537,  34.0724,2,  34.0715,2,    214.0,2,    49.18,2,    24.44,2,     0.00,2,     1.89,2,    3.632,2,    1.681,2,   2235.9,2,   2264.2,2,   7.4313,2,    25.00,     1945
  49UF20131029,KS1308,  4029,  1,     20,  21979,2,20131104,1837, 41.4815, 137.0112, 3592,    705.4,   0.4656,  34.0720,2,  34.0729,2,    209.3,2,    54.12,2,    24.75,2,     0.00,2,     1.92,2,    3.118,2,    1.401,2,   2236.7,2,   2265.7,2,   7.4318,2,    25.00,     1943
  49UF20131029,KS1308,  4029,  1,     19,  21978,3,20131104,1837, 41.4815, 137.0112, 3592,    807.2,   0.4039,  34.0714,2,  34.0700,2,    207.7,2,    57.88,2,    24.95,2,     0.00,2,     1.93,2,    2.696,2,    1.209,2,   2237.1,2,   2268.0,2,   7.4283,2,    25.00,     1940
  49UF20131029,KS1308,  4029,  1,     18,  21977,2,20131104,1837, 41.4815, 137.0112, 3592,    908.0,   0.3495,  34.0706,2,  34.0698,2,    204.4,2,    61.79,2,    25.14,2,     0.00,2,     1.94,2,    2.272,2,    1.013,2,   2243.5,2,   2268.7,2,   7.4257,2,    25.00,     1937
  49UF20131029,KS1308,  4029,  1,     17,  23679,2,20131104,1837, 41.4815, 137.0112, 3592,   1010.7,   0.3100,  34.0701,2,  34.0684,2,    204.3,2,    64.30,2,    25.19,2,     0.00,2,     1.95,2,    1.971,6,    0.877,6,   2243.2,2,   2270.0,2,   7.4247,2,    25.00,     1935
  49UF20131029,KS1308,  4029,  1,     16,  21975,2,20131104,1837, 41.4815, 137.0112, 3592,   1212.5,   0.2632,  34.0690,2,  34.0678,2,    204.3,2,    68.85,2,    25.25,2,     0.00,2,     1.96,2,    1.507,2,    0.669,2,   2243.4,2,   2273.5,2,   7.4317,6,    25.00,     1930
  49UF20131029,KS1308,  4029,  1,     15,  21974,2,20131104,1837, 41.4815, 137.0112, 3592,   1414.7,   0.2366,  34.0683,2,  34.0675,2,    203.9,2,    72.57,2,    25.25,2,     0.00,2,     1.97,2,    1.175,2,    0.524,2,   2246.8,2,   2271.8,3,   7.4342,2,    25.00,     1925
  49UF20131029,KS1308,  4029,  1,     14,  21973,2,20131104,1837, 41.4815, 137.0112, 3592,   1617.6,   0.2208,  34.0680,2,  34.0668,2,    203.8,2,    75.99,2,    25.30,2,     0.00,2,     1.97,2,    0.887,2,    0.410,2,   2246.7,2,   2277.5,2,   7.4359,2,    25.00,     1920
  49UF20131029,KS1308,  4029,  1,     13,  21972,2,20131104,1837, 41.4815, 137.0112, 3592,   1617.6,   0.2208,  34.0680,2,  34.0680,2,    203.5,2,    75.99,2,    25.34,2,     0.00,2,     1.97,2,    0.905,2,    0.428,2,   2247.4,2,   2277.9,2,   7.4352,2,    25.00,     1920
  49UF20131029,KS1308,  4029,  1,     12,  21994,3,20131104,1837, 41.4815, 137.0112, 3592,   1820.8,   0.2150,  34.0678,2,  34.0672,2,    203.7,2,    78.41,2,    25.32,2,     0.00,2,     1.97,2,    0.718,2,    0.349,2,   2249.0,6,   2280.2,6,   7.4421,2,    25.00,     1916
  49UF20131029,KS1308,  4029,  1,     11,  21970,3,20131104,1837, 41.4815, 137.0112, 3592,   2024.5,   0.2158,  34.0676,2,  34.0669,2,    204.4,2,    80.62,2,    25.40,2,     0.00,2,     1.98,2,    0.593,6,    0.282,6,   2247.9,2,   2277.8,3,   7.4471,2,    25.00,     1911
  49UF20131029,KS1308,  4029,  1,     10,  21969,3,20131104,1837, 41.4815, 137.0112, 3592,   2278.8,   0.2202,  34.0678,2,  34.0678,2,    204.5,6,    83.55,6,    25.43,6,     0.00,6,     1.98,6,    0.457,2,    0.223,2,   2248.9,2,   2282.4,2,   7.4477,2,    25.00,     1905
  49UF20131029,KS1308,  4029,  1,      9,  21968,2,20131104,1837, 41.4815, 137.0112, 3592,   2533.3,   0.2338,  34.0679,2,  34.0669,2,    205.3,2,    85.62,2,    25.54,2,     0.00,2,     1.99,2,    0.336,2,    0.165,2,   2248.4,2,   2284.3,2,   7.4513,2,    25.00,     1859
  49UF20131029,KS1308,  4029,  1,      8,  21982,2,20131104,1837, 41.4815, 137.0112, 3592,   2789.0,   0.2548,  34.0677,2,  34.0662,2,    204.4,2,    83.62,2,    25.60,2,     0.00,2,     1.99,2,    0.339,2,    0.159,2,   2249.1,2,   2285.4,2,   7.4483,6,    25.00,     1854
  49UF20131029,KS1308,  4029,  1,      7,  21966,3,20131104,1837, 41.4815, 137.0112, 3592,   3045.6,   0.2772,  34.0675,2,  34.0662,2,    204.8,2,    85.65,2,    25.55,2,     0.00,2,     1.99,2,    0.376,2,    0.183,2,   2248.5,2,   2284.7,2,   7.4508,2,    25.00,     1849
  49UF20131029,KS1308,  4029,  1,      6,  21965,2,20131104,1837, 41.4815, 137.0112, 3592,   3300.8,   0.3004,  34.0676,2,  34.0667,6,    204.8,2,    85.92,2,    25.57,2,     0.00,2,     1.99,2,    0.370,2,    0.176,2,   2250.2,6,   2284.6,6,   7.4492,2,    25.00,     1843
  49UF20131029,KS1308,  4029,  1,      5,  21964,2,20131104,1837, 41.4815, 137.0112, 3592,   3557.7,   0.3251,  34.0674,2,  34.0666,6,    204.7,2,    85.68,2,    25.52,2,     0.00,2,     1.99,2,    0.396,2,    0.224,2,   2249.4,2,   2283.6,2,   7.4496,2,    25.00,     1838
  49UF20131029,KS1308,  4029,  1,      4,  21963,3,20131104,1837, 41.4815, 137.0112, 3592,   3581.3,   0.3274,  34.0675,2,  34.0668,6,    204.7,2,    85.65,2,    25.56,2,     0.00,2,     1.99,2,    0.412,2,    0.182,2,   2248.6,2,   2285.0,2,   7.4504,2,    25.00,     1837