BOTTLE,20191021PRINUNIVRMK
EXPOCODE,SECT_ID,STNNBR,CASTNO,SAMPNO,BTLNBR,BTLNBR_FLAG_W,DATE,TIME,LATITUDE,LONGITUDE,DEPTH,CTDPRS,CTDTMP,CTDSAL,CTDSAL_FLAG_W,SALNTY,SALNTY_FLAG_W,OXYGEN,OXYGEN_FLAG_W,SILCAT,SILCAT_FLAG_W,NITRAT,NITRAT_FLAG_W,NITRIT,NITRIT_FLAG_W,PHSPHT,PHSPHT_FLAG_W,CFC-11,CFC-11_FLAG_W,CFC-12,CFC-12_FLAG_W,TCARBN,TCARBN_FLAG_W,ALKALI,ALKALI_FLAG_W,PH_TOT,PH_TOT_FLAG_W,PH_TMP,BTL_TIME
,,,,,,,,,,,METERS,DBAR,ITS-90,PSS-78,,PSS-78,,UMOL/KG,,UMOL/KG,,UMOL/KG,,UMOL/KG,,UMOL/KG,,PMOL/KG,,PMOL/KG,,UMOL/KG,,UMOL/KG,,,,DEG C,
  49UF20131029,KS1308,  4024,  1,     99,     99,2,20131103,1406, 42.5067, 138.0017, 3692,      0.0,  14.7673,  33.7167,2,  33.7233,4,    255.4,2,     2.82,2,     0.00,2,     0.00,2,     0.03,2, -999.000,9, -999.000,9,   2001.1,2,   2255.4,2,   7.9721,2,    25.00,     1508
  49UF20131029,KS1308,  4024,  1,     36,  21995,2,20131103,1406, 42.5067, 138.0017, 3692,     10.8,  14.7808,  33.7154,2,  33.7148,2,    255.5,2,     2.74,2,     0.00,2,     0.00,2,     0.03,2, -999.000,9, -999.000,9,   2002.5,2,   2254.9,2,   7.9797,2,    25.00,     1536
  49UF20131029,KS1308,  4024,  1,     35,  22087,2,20131103,1406, 42.5067, 138.0017, 3692,     25.8,  14.7084,  33.7233,2,  33.7468,4,    260.4,2,     2.73,2,     0.00,2,     0.00,2,     0.04,2, -999.000,9, -999.000,9,   2005.6,2,   2255.2,2,   7.9670,2,    25.00,     1535
  49UF20131029,KS1308,  4024,  1,     32,  21991,2,20131103,1406, 42.5067, 138.0017, 3692,     51.7,   3.4584,  34.0086,2,  34.0127,2,    329.9,2,    10.13,2,     9.01,2,     0.41,2,     0.79,2, -999.000,9, -999.000,9,   2125.0,2,   2258.3,2,   7.7233,2,    25.00,     1532
  49UF20131029,KS1308,  4024,  1,     31,  21990,2,20131103,1406, 42.5067, 138.0017, 3692,     76.1,   2.1447,  34.0314,2,  34.0321,2,    290.3,2,    19.84,2,    14.85,2,     0.01,2,     1.11,2, -999.000,9, -999.000,9,   2163.6,2,   2258.7,2,   7.6320,2,    25.00,     1531
  49UF20131029,KS1308,  4024,  1,     30,  21989,2,20131103,1406, 42.5067, 138.0017, 3692,    101.8,   1.4646,  34.0368,2,  34.0372,2,    290.6,2,    23.04,2,    16.16,2,     0.01,2,     1.21,2, -999.000,9, -999.000,9,   2172.8,2,   2256.4,2,   7.5980,2,    25.00,     1529
  49UF20131029,KS1308,  4024,  1,     29,  21988,2,20131103,1406, 42.5067, 138.0017, 3692,    126.9,   1.2441,  34.0455,2,  34.0451,2,    296.2,2,    22.75,2,    15.79,2,     0.01,2,     1.19,2, -999.000,9, -999.000,9,   2170.8,2,   2257.0,2,   7.6072,2,    25.00,     1528
  49UF20131029,KS1308,  4024,  1,     28,  21987,2,20131103,1406, 42.5067, 138.0017, 3692,    152.3,   1.1131,  34.0480,2,  34.0465,2,    292.6,2,    23.87,2,    16.41,2,     0.00,2,     1.23,2, -999.000,9, -999.000,9,   2175.5,2,   2260.9,2,   7.5907,2,    25.00,     1527
  49UF20131029,KS1308,  4024,  1,     27,  21986,2,20131103,1406, 42.5067, 138.0017, 3692,    202.2,   0.9366,  34.0525,2,  34.0519,2,    290.9,2,    25.31,2,    17.03,2,     0.01,2,     1.28,2, -999.000,9, -999.000,9,   2181.0,2,   2257.8,2,   7.5822,2,    25.00,     1525
  49UF20131029,KS1308,  4024,  1,     26,  21985,2,20131103,1406, 42.5067, 138.0017, 3692,    253.2,   0.8810,  34.0583,2,  34.0582,2,    285.9,2,    26.48,2,    17.58,2,     0.01,2,     1.33,2, -999.000,9, -999.000,9,   2181.0,2,   2257.7,2,   7.5690,2,    25.00,     1524
  49UF20131029,KS1308,  4024,  1,     25,  21984,2,20131103,1406, 42.5067, 138.0017, 3692,    304.4,   0.8106,  34.0587,2,  34.0580,2,    288.3,6,    27.00,6,    17.71,6,     0.01,6,     1.34,6, -999.000,9, -999.000,9,   2183.1,2,   2260.8,2,   7.5698,2,    25.00,     1522
  49UF20131029,KS1308,  4024,  1,     24,  21983,2,20131103,1406, 42.5067, 138.0017, 3692,    404.1,   0.7548,  34.0659,2,  34.0648,2,    250.1,2,    34.75,2,    21.12,2,     0.01,2,     1.61,2, -999.000,9, -999.000,9,   2207.1,2,   2261.8,2,   7.5023,2,    25.00,     1520
  49UF20131029,KS1308,  4024,  1,     23,  22095,3,20131103,1406, 42.5067, 138.0017, 3692,    505.4,   0.6710,  34.0715,2,  34.0705,6,    221.5,2,    43.24,2,    23.80,2,     0.01,2,     1.84,2, -999.000,9, -999.000,9,   2228.0,2,   2258.3,3,   7.4502,2,    25.00,     1517
  49UF20131029,KS1308,  4024,  1,     22,  22665,2,20131103,1406, 42.5067, 138.0017, 3692,    606.7,   0.5558,  34.0724,2,  34.0720,2,    213.8,2,    49.27,2,    24.51,2,     0.00,2,     1.90,2, -999.000,9, -999.000,9,   2233.9,2,   2264.6,2,   7.4410,2,    25.00,     1515
  49UF20131029,KS1308,  4024,  1,     21,  21980,2,20131103,1406, 42.5067, 138.0017, 3692,    707.3,   0.4803,  34.0720,2,  34.0719,2,    209.7,2,    53.80,2,    24.91,2,     0.00,2,     1.93,2, -999.000,9, -999.000,9,   2239.7,2,   2267.2,2,   7.4292,2,    25.00,     1512
  49UF20131029,KS1308,  4024,  1,     20,  21979,2,20131103,1406, 42.5067, 138.0017, 3692,    809.3,   0.4106,  34.0713,2,  34.0704,2,    206.4,2,    58.12,2,    25.07,2,     0.00,2,     1.94,2, -999.000,9, -999.000,9,   -999.0,9,   -999.0,9,-999.0000,9,  -999.00,     1510
  49UF20131029,KS1308,  4024,  1,     19,  21978,2,20131103,1406, 42.5067, 138.0017, 3692,    809.3,   0.4106,  34.0713,2,  34.0709,2,    206.4,2,    58.13,2,    25.13,2,     0.00,2,     1.94,2, -999.000,9, -999.000,9,   2240.0,2,   2267.7,2,   7.4251,2,    25.00,     1510
  49UF20131029,KS1308,  4024,  1,     18,  21977,2,20131103,1406, 42.5067, 138.0017, 3692,    910.7,   0.3546,  34.0707,2,  34.0703,2,    204.6,2,    61.85,2,    25.24,2,     0.00,2,     1.95,2, -999.000,9, -999.000,9,   2244.0,2,   2269.6,2,   7.4308,2,    25.00,     1507
  49UF20131029,KS1308,  4024,  1,     17,  23679,3,20131103,1406, 42.5067, 138.0017, 3692,   1011.9,   0.3201,  34.0701,2,  34.0700,2,    203.6,2,    64.54,2,    25.17,2,     0.00,2,     1.96,2, -999.000,9, -999.000,9,   2244.8,2,   2270.9,2,   7.4286,2,    25.00,     1505
  49UF20131029,KS1308,  4024,  1,     16,  21975,2,20131103,1406, 42.5067, 138.0017, 3692,   1214.4,   0.2686,  34.0691,2,  34.0691,2,    203.3,2,    68.78,2,    25.38,2,     0.00,2,     1.96,2, -999.000,9, -999.000,9,   2242.9,2,   2272.4,2,   7.4325,2,    25.00,     1500
  49UF20131029,KS1308,  4024,  1,     15,  21974,2,20131103,1406, 42.5067, 138.0017, 3692,   1417.3,   0.2404,  34.0685,2,  34.0691,2,    203.6,2,    72.65,2,    25.36,2,     0.00,2,     1.97,2, -999.000,9, -999.000,9,   2246.4,6,   2275.6,6,   7.4353,2,    25.00,     1456
  49UF20131029,KS1308,  4024,  1,     14,  21973,2,20131103,1406, 42.5067, 138.0017, 3692,   1618.8,   0.2232,  34.0681,2,  34.0683,2,    202.9,2,    76.27,2,    25.40,2,     0.00,2,     1.98,2, -999.000,9, -999.000,9,   2247.3,2,   2279.3,2,   7.4421,2,    25.00,     1451
  49UF20131029,KS1308,  4024,  1,     13,  21972,2,20131103,1406, 42.5067, 138.0017, 3692,   1821.3,   0.2185,  34.0679,2,  34.0677,2,    203.1,2,    78.24,2,    25.47,2,     0.00,2,     1.98,2, -999.000,9, -999.000,9,   2248.8,2,   2276.3,3,   7.4451,2,    25.00,     1447
  49UF20131029,KS1308,  4024,  1,     10,  21969,2,20131103,1406, 42.5067, 138.0017, 3692,   2024.9,   0.2201,  34.0678,2,-999.0000,9,    203.2,6,    80.60,6,    25.52,6,     0.00,6,     1.99,6, -999.000,9, -999.000,9,   -999.0,9,   -999.0,9,-999.0000,9,  -999.00,     1443
  49UF20131029,KS1308,  4024,  1,     11,  21970,2,20131103,1406, 42.5067, 138.0017, 3692,   2025.0,   0.2202,  34.0678,2,  34.0681,2,    203.2,6,    80.57,6,    25.51,6,     0.00,6,     1.99,6, -999.000,9, -999.000,9,   2247.6,2,   2280.4,2,   7.4459,2,    25.00,     1443
  49UF20131029,KS1308,  4024,  1,     12,  21994,2,20131103,1406, 42.5067, 138.0017, 3692,   2025.2,   0.2202,  34.0679,2,  34.0675,2,    203.3,6,    80.46,6,    25.45,6,     0.00,6,     1.99,6, -999.000,9, -999.000,9,   2249.3,2,   2278.6,2,   7.4381,3,    25.00,     1443
  49UF20131029,KS1308,  4024,  1,      8,  21982,2,20131103,1406, 42.5067, 138.0017, 3692,   2279.7,   0.2257,  34.0678,2,  34.0673,2,    203.3,2,    83.46,2,    25.64,2,     0.00,2,     1.99,2, -999.000,9, -999.000,9,   -999.0,9,   -999.0,9,-999.0000,9,  -999.00,     1437
  49UF20131029,KS1308,  4024,  1,      7,  21966,2,20131103,1406, 42.5067, 138.0017, 3692,   2279.7,   0.2257,  34.0678,2,  34.0675,2,    203.3,2,    83.44,2,    25.59,2,     0.00,2,     2.00,2, -999.000,9, -999.000,9,   2248.5,2,   2282.9,2,   7.4432,2,    25.00,     1437
  49UF20131029,KS1308,  4024,  1,      6,  21965,2,20131103,1406, 42.5067, 138.0017, 3692,   2534.9,   0.2358,  34.0680,2,  34.0679,2,    203.9,6,    86.06,6,    25.70,6,     0.00,6,     2.00,6, -999.000,9, -999.000,9,   2122.0,4,   2287.2,2,   7.4508,2,    25.00,     1431
  49UF20131029,KS1308,  4024,  1,      5,  21964,2,20131103,1406, 42.5067, 138.0017, 3692,   2789.8,   0.2552,  34.0678,2,  34.0675,2,    204.1,2,    86.04,2,    25.75,2,     0.00,2,     2.00,2, -999.000,9, -999.000,9,   2249.2,2,   2285.9,2,   7.4481,2,    25.00,     1426
  49UF20131029,KS1308,  4024,  1,      4,  21963,2,20131103,1406, 42.5067, 138.0017, 3692,   3045.6,   0.2775,  34.0675,2,  34.0678,6,    204.4,2,    86.02,2,    25.64,2,     0.00,2,     2.00,2, -999.000,9, -999.000,9,   2249.7,2,   2285.7,2,   7.4522,2,    25.00,     1420
  49UF20131029,KS1308,  4024,  1,      3,  22079,2,20131103,1406, 42.5067, 138.0017, 3692,   3301.8,   0.3007,  34.0675,2,  34.0670,2,    204.4,2,    85.89,2,    25.70,2,     0.00,2,     2.00,2, -999.000,9, -999.000,9,   2249.7,6,   2286.2,6,   7.4546,2,    25.00,     1415
  49UF20131029,KS1308,  4024,  1,      2,  21961,2,20131103,1406, 42.5067, 138.0017, 3692,   3557.2,   0.3250,  34.0673,2,  34.0679,2,    204.5,2,    85.82,2,    25.65,2,     0.00,2,     1.99,2, -999.000,9, -999.000,9,   2250.7,2,   2287.2,2,   7.4518,6,    25.00,     1409
  49UF20131029,KS1308,  4024,  1,      1,  21960,2,20131103,1406, 42.5067, 138.0017, 3692,   3682.0,   0.3374,  34.0672,2,  34.0676,6,    204.4,2,    85.90,2,    25.67,2,     0.00,2,     2.00,2, -999.000,9, -999.000,9,   2247.8,2,   2285.5,2,   7.4527,2,    25.00,     1406
  49UF20131029,KS1308,  4025,  1,     99,     99,2,20131103,2321, 42.8198, 138.0085, 3672,      0.0,  15.4648,  33.5064,2,-999.0000,9,    249.2,2,     2.39,2,     0.00,2,     0.00,2,     0.02,2, -999.000,9, -999.000,9,   -999.0,9,   -999.0,9,-999.0000,9,  -999.00,       25
  49UF20131029,KS1308,  4025,  1,     36,  21995,2,20131103,2321, 42.8198, 138.0085, 3672,      9.9,  15.4698,  33.5060,2,-999.0000,9,    249.4,2,     2.38,2,     0.00,2,     0.00,2,     0.02,2, -999.000,9, -999.000,9,   -999.0,9,   -999.0,9,-999.0000,9,  -999.00,       53
  49UF20131029,KS1308,  4025,  1,     35,  22087,2,20131103,2321, 42.8198, 138.0085, 3672,     25.0,  14.3440,  33.8274,2,-999.0000,9,    257.8,2,     4.43,2,     2.08,2,     0.09,2,     0.21,2, -999.000,9, -999.000,9,   -999.0,9,   -999.0,9,-999.0000,9,  -999.00,       51
  49UF20131029,KS1308,  4025,  1,     33,  21992,2,20131103,2321, 42.8198, 138.0085, 3672,     49.4,   7.2807,  34.0561,2,-999.0000,9,    274.8,2,     9.15,2,     7.80,2,     0.08,2,     0.60,2, -999.000,9, -999.000,9,   -999.0,9,   -999.0,9,-999.0000,9,  -999.00,       47
  49UF20131029,KS1308,  4025,  1,     32,  21991,2,20131103,2321, 42.8198, 138.0085, 3672,     75.2,   4.8566,  34.0406,2,-999.0000,9,    270.8,2,    14.13,2,    11.59,2,     0.01,2,     0.86,2, -999.000,9, -999.000,9,   -999.0,9,   -999.0,9,-999.0000,9,  -999.00,       46
  49UF20131029,KS1308,  4025,  1,     31,  21990,2,20131103,2321, 42.8198, 138.0085, 3672,    100.3,   3.6080,  34.0391,2,-999.0000,9,    272.4,2,    17.33,2,    13.38,2,     0.01,2,     1.00,2, -999.000,9, -999.000,9,   -999.0,9,   -999.0,9,-999.0000,9,  -999.00,       45
  49UF20131029,KS1308,  4025,  1,     30,  21989,2,20131103,2321, 42.8198, 138.0085, 3672,    126.0,   2.7480,  34.0280,2,-999.0000,9,    278.6,2,    18.97,2,    14.32,2,     0.01,2,     1.07,2, -999.000,9, -999.000,9,   -999.0,9,   -999.0,9,-999.0000,9,  -999.00,       44
  49UF20131029,KS1308,  4025,  1,     29,  21988,2,20131103,2321, 42.8198, 138.0085, 3672,    150.5,   1.9731,  34.0267,2,-999.0000,9,    285.3,2,    20.96,2,    15.18,2,     0.01,2,     1.14,2, -999.000,9, -999.000,9,   -999.0,9,   -999.0,9,-999.0000,9,  -999.00,       43
  49UF20131029,KS1308,  4025,  1,     28,  21987,2,20131103,2321, 42.8198, 138.0085, 3672,    201.0,   1.3012,  34.0166,2,-999.0000,9,    302.6,2,    20.08,2,    14.45,2,     0.01,2,     1.09,2, -999.000,9, -999.000,9,   -999.0,9,   -999.0,9,-999.0000,9,  -999.00,       42
  49UF20131029,KS1308,  4025,  1,     27,  21986,2,20131103,2321, 42.8198, 138.0085, 3672,    251.7,   1.0718,  34.0348,2,-999.0000,9,    300.7,2,    21.84,2,    15.47,2,     0.01,2,     1.16,2, -999.000,9, -999.000,9,   -999.0,9,   -999.0,9,-999.0000,9,  -999.00,       40
  49UF20131029,KS1308,  4025,  1,     26,  21985,2,20131103,2321, 42.8198, 138.0085, 3672,    302.7,   0.9800,  34.0483,2,-999.0000,9,    302.3,2,    22.91,2,    15.90,2,     0.01,2,     1.19,2, -999.000,9, -999.000,9,   -999.0,9,   -999.0,9,-999.0000,9,  -999.00,       38
  49UF20131029,KS1308,  4025,  1,     25,  21984,2,20131103,2321, 42.8198, 138.0085, 3672,    403.1,   0.8307,  34.0535,2,-999.0000,9,    297.1,6,    25.19,6,    16.86,6,     0.01,6,     1.27,6, -999.000,9, -999.000,9,   -999.0,9,   -999.0,9,-999.0000,9,  -999.00,       36
  49UF20131029,KS1308,  4025,  1,     24,  21983,2,20131103,2321, 42.8198, 138.0085, 3672,    504.0,   0.7852,  34.0594,2,-999.0000,9,    287.9,2,    27.44,2,    17.82,2,     0.01,2,     1.35,2, -999.000,9, -999.000,9,   -999.0,9,   -999.0,9,-999.0000,9,  -999.00,       33
  49UF20131029,KS1308,  4025,  1,     22,  22665,2,20131103,2321, 42.8198, 138.0085, 3672,    605.5,   0.7395,  34.0672,2,-999.0000,9,    241.8,2,    37.34,2,    21.94,2,     0.01,2,     1.69,2, -999.000,9, -999.000,9,   -999.0,9,   -999.0,9,-999.0000,9,  -999.00,       31
  49UF20131029,KS1308,  4025,  1,     21,  21980,2,20131103,2321, 42.8198, 138.0085, 3672,    707.4,   0.6118,  34.0716,2,-999.0000,9,    216.8,2,    46.91,2,    24.23,2,     0.00,2,     1.87,2, -999.000,9, -999.000,9,   -999.0,9,   -999.0,9,-999.0000,9,  -999.00,       28
  49UF20131029,KS1308,  4025,  1,     20,  21979,2,20131103,2321, 42.8198, 138.0085, 3672,    707.4,   0.6118,  34.0716,2,-999.0000,9,    217.0,2,    46.94,2,    24.23,2,     0.01,2,     1.88,2, -999.000,9, -999.000,9,   -999.0,9,   -999.0,9,-999.0000,9,  -999.00,       28
  49UF20131029,KS1308,  4025,  1,     19,  21978,2,20131103,2321, 42.8198, 138.0085, 3672,    807.9,   0.5136,  34.0722,2,-999.0000,9,    211.2,2,    51.99,2,    24.77,2,     0.00,2,     1.92,2, -999.000,9, -999.000,9,   -999.0,9,   -999.0,9,-999.0000,9,  -999.00,       25
  49UF20131029,KS1308,  4025,  1,     18,  21977,2,20131103,2321, 42.8198, 138.0085, 3672,    910.8,   0.4390,  34.0716,2,-999.0000,9,    207.5,2,    56.53,2,    25.04,2,     0.00,2,     1.94,2, -999.000,9, -999.000,9,   -999.0,9,   -999.0,9,-999.0000,9,  -999.00,       22
  49UF20131029,KS1308,  4025,  1,     17,  23679,2,20131103,2321, 42.8198, 138.0085, 3672,   1010.6,   0.3772,  34.0708,2,-999.0000,9,    205.6,2,    60.12,2,    25.16,2,     0.00,2,     1.95,2, -999.000,9, -999.000,9,   -999.0,9,   -999.0,9,-999.0000,9,  -999.00,       19
  49UF20131029,KS1308,  4025,  1,     16,  21975,2,20131103,2321, 42.8198, 138.0085, 3672,   1213.7,   0.2969,  34.0695,2,-999.0000,9,    204.5,2,    65.90,2,    25.32,2,     0.00,2,     1.96,2, -999.000,9, -999.000,9,   -999.0,9,   -999.0,9,-999.0000,9,  -999.00,       14
  49UF20131029,KS1308,  4025,  1,     15,  21974,2,20131103,2321, 42.8198, 138.0085, 3672,   1416.6,   0.2528,  34.0687,2,-999.0000,9,    203.7,2,    71.48,2,    25.34,2,     0.00,2,     1.97,2, -999.000,9, -999.000,9,   -999.0,9,   -999.0,9,-999.0000,9,  -999.00,       10
  49UF20131029,KS1308,  4025,  1,     14,  21973,2,20131103,2321, 42.8198, 138.0085, 3672,   1619.6,   0.2317,  34.0681,2,-999.0000,9,    203.4,2,    75.10,2,    25.39,2,     0.00,2,     1.98,2, -999.000,9, -999.000,9,   -999.0,9,   -999.0,9,-999.0000,9,  -999.00,        5
  49UF20131029,KS1308,  4025,  1,     13,  21972,2,20131103,2321, 42.8198, 138.0085, 3672,   1821.6,   0.2242,  34.0680,2,-999.0000,9,    203.2,2,    77.76,2,    25.44,2,     0.00,2,     1.98,2, -999.000,9, -999.000,9,   -999.0,9,   -999.0,9,-999.0000,9,  -999.00,        0
  49UF20131029,KS1308,  4025,  1,     12,  21994,2,20131103,2321, 42.8198, 138.0085, 3672,   2025.4,   0.2227,  34.0678,2,-999.0000,9,    203.4,2,    80.10,2,    25.48,2,     0.00,2,     1.98,2, -999.000,9, -999.000,9,   -999.0,9,   -999.0,9,-999.0000,9,  -999.00,     2356
  49UF20131029,KS1308,  4025,  1,     11,  21970,2,20131103,2321, 42.8198, 138.0085, 3672,   2025.4,   0.2227,  34.0678,2,-999.0000,9,    203.6,2,    80.14,2,    25.50,2,     0.00,2,     1.99,2, -999.000,9, -999.000,9,   -999.0,9,   -999.0,9,-999.0000,9,  -999.00,     2356
  49UF20131029,KS1308,  4025,  1,     10,  21969,2,20131103,2321, 42.8198, 138.0085, 3672,   2281.5,   0.2271,  34.0675,2,-999.0000,9,    203.6,6,    82.91,6,    25.55,6,     0.00,6,     1.99,6, -999.000,9, -999.000,9,   -999.0,9,   -999.0,9,-999.0000,9,  -999.00,     2350
  49UF20131029,KS1308,  4025,  1,      9,  21968,2,20131103,2321, 42.8198, 138.0085, 3672,   2536.3,   0.2350,  34.0678,2,-999.0000,9,    204.2,2,    85.68,2,    25.64,2,     0.00,2,     2.00,2, -999.000,9, -999.000,9,   -999.0,9,   -999.0,9,-999.0000,9,  -999.00,     2344
  49UF20131029,KS1308,  4025,  1,      8,  21982,2,20131103,2321, 42.8198, 138.0085, 3672,   2790.5,   0.2547,  34.0679,2,-999.0000,9,    204.4,2,    85.86,2,    25.62,2,     0.00,2,     1.99,2, -999.000,9, -999.000,9,   -999.0,9,   -999.0,9,-999.0000,9,  -999.00,     2339
  49UF20131029,KS1308,  4025,  1,      7,  21966,2,20131103,2321, 42.8198, 138.0085, 3672,   3045.4,   0.2770,  34.0676,2,-999.0000,9,    204.5,2,    85.84,2,    25.63,2,     0.00,2,     1.99,2, -999.000,9, -999.000,9,   -999.0,9,   -999.0,9,-999.0000,9,  -999.00,     2334
  49UF20131029,KS1308,  4025,  1,      6,  21965,2,20131103,2321, 42.8198, 138.0085, 3672,   3301.9,   0.3004,  34.0676,2,-999.0000,9,    204.8,2,    85.84,2,    25.65,2,     0.00,2,     2.00,2, -999.000,9, -999.000,9,   -999.0,9,   -999.0,9,-999.0000,9,  -999.00,     2328
  49UF20131029,KS1308,  4025,  1,      5,  21964,2,20131103,2321, 42.8198, 138.0085, 3672,   3557.8,   0.3249,  34.0675,2,  34.0675,2,    204.6,2,    85.93,2,    25.65,2,     0.00,2,     2.00,2, -999.000,9, -999.000,9,   -999.0,9,   -999.0,9,-999.0000,9,  -999.00,     2323
  49UF20131029,KS1308,  4025,  1,      4,  21963,2,20131103,2321, 42.8198, 138.0085, 3672,   3664.0,   0.3355,  34.0674,2,  34.0673,2,    204.8,2,    85.97,2,    25.65,2,     0.00,2,     2.00,2, -999.000,9, -999.000,9,   -999.0,9,   -999.0,9,-999.0000,9,  -999.00,     2321