BOTTLE,20191021PRINUNIVRMK
EXPOCODE,SECT_ID,STNNBR,CASTNO,SAMPNO,BTLNBR,BTLNBR_FLAG_W,DATE,TIME,LATITUDE,LONGITUDE,DEPTH,CTDPRS,CTDTMP,CTDSAL,CTDSAL_FLAG_W,SALNTY,SALNTY_FLAG_W,OXYGEN,OXYGEN_FLAG_W,SILCAT,SILCAT_FLAG_W,NITRAT,NITRAT_FLAG_W,NITRIT,NITRIT_FLAG_W,PHSPHT,PHSPHT_FLAG_W,CFC-11,CFC-11_FLAG_W,CFC-12,CFC-12_FLAG_W,TCARBN,TCARBN_FLAG_W,ALKALI,ALKALI_FLAG_W,PH_TOT,PH_TOT_FLAG_W,PH_TMP,BTL_TIME
,,,,,,,,,,,METERS,DBAR,ITS-90,PSS-78,,PSS-78,,UMOL/KG,,UMOL/KG,,UMOL/KG,,UMOL/KG,,UMOL/KG,,PMOL/KG,,PMOL/KG,,UMOL/KG,,UMOL/KG,,,,DEG C,
  49UF20131029,KS1308,  4057,  1,     99,     99,2,20131123,0348, 38.7192, 134.4455, 2354,      0.0,  17.8077,  33.6266,2,-999.0000,9,    230.8,2,     3.87,2,     2.05,2,     0.66,2,     0.18,2, -999.000,9, -999.000,9,   -999.0,9,   -999.0,9,-999.0000,9,  -999.00,      432
  49UF20131029,KS1308,  4057,  1,     36,  21995,2,20131123,0348, 38.7192, 134.4455, 2354,      9.4,  17.8117,  33.6261,2,-999.0000,9,    229.6,2,     3.81,2,     1.99,2,     0.67,2,     0.17,2, -999.000,9, -999.000,9,   -999.0,9,   -999.0,9,-999.0000,9,  -999.00,      452
  49UF20131029,KS1308,  4057,  1,     35,  22087,2,20131123,0348, 38.7192, 134.4455, 2354,     24.9,  17.8212,  33.6313,2,  33.6294,2,    229.4,2,     3.86,2,     2.02,2,     0.68,2,     0.18,2, -999.000,9, -999.000,9,   -999.0,9,   -999.0,9,-999.0000,9,  -999.00,      451
  49UF20131029,KS1308,  4057,  1,     34,  22666,2,20131123,0348, 38.7192, 134.4455, 2354,     49.7,  17.8194,  33.6965,2,  33.6964,2,    224.3,2,     4.63,2,     2.71,2,     0.80,2,     0.23,2, -999.000,9, -999.000,9,   -999.0,9,   -999.0,9,-999.0000,9,  -999.00,      447
  49UF20131029,KS1308,  4057,  1,     30,  21989,2,20131123,0348, 38.7192, 134.4455, 2354,     75.3,  17.3877,  34.0369,2,-999.0000,9,    182.6,6,    10.31,6,     7.20,6,     0.30,6,     0.52,6, -999.000,9, -999.000,9,   -999.0,9,   -999.0,9,-999.0000,9,  -999.00,      446
  49UF20131029,KS1308,  4057,  1,     29,  21988,2,20131123,0348, 38.7192, 134.4455, 2354,    100.3,  15.8208,  34.3979,2,  34.3896,4,    194.4,2,    10.30,2,     6.68,2,     0.03,2,     0.50,2, -999.000,9, -999.000,9,   -999.0,9,   -999.0,9,-999.0000,9,  -999.00,      444
  49UF20131029,KS1308,  4057,  1,     28,  21987,2,20131123,0348, 38.7192, 134.4455, 2354,    125.4,  11.5481,  34.2248,2,  34.2196,2,    230.6,2,     8.68,2,     7.60,2,     0.02,2,     0.56,2, -999.000,9, -999.000,9,   -999.0,9,   -999.0,9,-999.0000,9,  -999.00,      443
  49UF20131029,KS1308,  4057,  1,     27,  21986,2,20131123,0348, 38.7192, 134.4455, 2354,    151.6,   6.6206,  34.0457,2,  34.0540,4,    258.9,2,    11.57,2,     9.62,2,     0.01,2,     0.73,2, -999.000,9, -999.000,9,   -999.0,9,   -999.0,9,-999.0000,9,  -999.00,      441
  49UF20131029,KS1308,  4057,  1,     26,  21985,2,20131123,0348, 38.7192, 134.4455, 2354,    151.6,   6.6206,  34.0457,2,  34.0537,4,    258.9,2,    11.51,2,     9.59,2,     0.01,2,     0.73,2, -999.000,9, -999.000,9,   -999.0,9,   -999.0,9,-999.0000,9,  -999.00,      441
  49UF20131029,KS1308,  4057,  1,     25,  21984,2,20131123,0348, 38.7192, 134.4455, 2354,    203.6,   2.8783,  33.9971,2,  33.9865,4,    274.6,2,    15.91,2,    12.91,2,     0.01,2,     0.98,2, -999.000,9, -999.000,9,   -999.0,9,   -999.0,9,-999.0000,9,  -999.00,      439
  49UF20131029,KS1308,  4057,  1,     24,  21983,2,20131123,0348, 38.7192, 134.4455, 2354,    252.5,   1.8166,  34.0185,2,  34.0186,2,    276.4,2,    21.34,2,    15.61,2,     0.00,2,     1.18,2, -999.000,9, -999.000,9,   -999.0,9,   -999.0,9,-999.0000,9,  -999.00,      438
  49UF20131029,KS1308,  4057,  1,     23,  22095,2,20131123,0348, 38.7192, 134.4455, 2354,    304.8,   1.2123,  34.0349,2,  34.0309,4,    277.1,2,    25.09,2,    17.09,2,     0.00,2,     1.29,2, -999.000,9, -999.000,9,   -999.0,9,   -999.0,9,-999.0000,9,  -999.00,      435
  49UF20131029,KS1308,  4057,  1,     22,  22665,2,20131123,0348, 38.7192, 134.4455, 2354,    404.5,   0.9517,  34.0604,2,  34.0580,4,    237.4,2,    36.20,2,    21.72,2,     0.00,2,     1.66,2, -999.000,9, -999.000,9,   -999.0,9,   -999.0,9,-999.0000,9,  -999.00,      432
  49UF20131029,KS1308,  4057,  1,     18,  21977,2,20131123,0348, 38.7192, 134.4455, 2354,    504.1,   0.7590,  34.0675,2,  34.0672,2,    214.5,2,    44.29,2,    24.20,2,     0.00,2,     1.87,2, -999.000,9, -999.000,9,   -999.0,9,   -999.0,9,-999.0000,9,  -999.00,      429
  49UF20131029,KS1308,  4057,  1,     17,  23679,2,20131123,0348, 38.7192, 134.4455, 2354,    607.0,   0.5875,  34.0695,2,  34.0693,2,    208.2,2,    50.87,2,    24.88,2,     0.00,2,     1.93,2, -999.000,9, -999.000,9,   -999.0,9,   -999.0,9,-999.0000,9,  -999.00,      426
  49UF20131029,KS1308,  4057,  1,     16,  21975,2,20131123,0348, 38.7192, 134.4455, 2354,    707.6,   0.4958,  34.0696,2,  34.0699,2,    207.1,2,    54.91,2,    24.87,2,     0.00,2,     1.94,2, -999.000,9, -999.000,9,   -999.0,9,   -999.0,9,-999.0000,9,  -999.00,      423
  49UF20131029,KS1308,  4057,  1,     15,  21974,2,20131123,0348, 38.7192, 134.4455, 2354,    807.3,   0.4262,  34.0693,2,  34.0702,2,    205.8,2,    58.45,2,    25.09,2,     0.00,2,     1.95,2, -999.000,9, -999.000,9,   -999.0,9,   -999.0,9,-999.0000,9,  -999.00,      421
  49UF20131029,KS1308,  4057,  1,     14,  21973,2,20131123,0348, 38.7192, 134.4455, 2354,    906.8,   0.3740,  34.0688,2,  34.0691,2,    204.3,2,    62.25,2,    25.16,2,     0.00,2,     1.96,2, -999.000,9, -999.000,9,   -999.0,9,   -999.0,9,-999.0000,9,  -999.00,      418
  49UF20131029,KS1308,  4057,  1,     13,  21972,2,20131123,0348, 38.7192, 134.4455, 2354,   1008.7,   0.3343,  34.0682,2,  34.0686,6,    203.2,2,    65.57,2,    25.29,2,     0.00,2,     1.97,2, -999.000,9, -999.000,9,   -999.0,9,   -999.0,9,-999.0000,9,  -999.00,      416
  49UF20131029,KS1308,  4057,  1,     12,  21994,2,20131123,0348, 38.7192, 134.4455, 2354,   1212.3,   0.2744,  34.0674,2,  34.0689,2,    202.1,2,    71.22,2,    25.31,2,     0.00,2,     1.98,2, -999.000,9, -999.000,9,   -999.0,9,   -999.0,9,-999.0000,9,  -999.00,      411
  49UF20131029,KS1308,  4057,  1,     11,  21970,2,20131123,0348, 38.7192, 134.4455, 2354,   1414.1,   0.2422,  34.0669,2,  34.0675,6,    202.0,2,    75.80,2,    25.43,2,     0.00,2,     1.99,2, -999.000,9, -999.000,9,   -999.0,9,   -999.0,9,-999.0000,9,  -999.00,      407
  49UF20131029,KS1308,  4057,  1,      9,  21968,2,20131123,0348, 38.7192, 134.4455, 2354,   1617.3,   0.2207,  34.0667,2,  34.0663,2,    201.5,2,    79.96,6,    25.51,6,     0.00,6,     2.00,6, -999.000,9, -999.000,9,   -999.0,9,   -999.0,9,-999.0000,9,  -999.00,      403
  49UF20131029,KS1308,  4057,  1,      8,  21982,2,20131123,0348, 38.7192, 134.4455, 2354,   1818.9,   0.2176,  34.0665,2,  34.0666,2,    201.1,6,    82.44,2,    25.50,2,     0.00,2,     2.00,2, -999.000,9, -999.000,9,   -999.0,9,   -999.0,9,-999.0000,9,  -999.00,      359
  49UF20131029,KS1308,  4057,  1,      7,  21966,2,20131123,0348, 38.7192, 134.4455, 2354,   1818.9,   0.2176,  34.0665,2,  34.0665,2,    201.1,2,    82.41,2,    25.56,2,     0.00,2,     2.00,2, -999.000,9, -999.000,9,   -999.0,9,   -999.0,9,-999.0000,9,  -999.00,      359
  49UF20131029,KS1308,  4057,  1,      6,  21965,2,20131123,0348, 38.7192, 134.4455, 2354,   2021.9,   0.2236,  34.0665,2,  34.0662,2,    200.6,2,    84.52,2,    25.64,2,     0.00,2,     2.01,2, -999.000,9, -999.000,9,   -999.0,9,   -999.0,9,-999.0000,9,  -999.00,      355
  49UF20131029,KS1308,  4057,  1,      5,  21964,2,20131123,0348, 38.7192, 134.4455, 2354,   2279.0,   0.2382,  34.0663,2,  34.0663,2,    200.5,2,    85.56,2,    25.64,2,     0.00,2,     2.01,2, -999.000,9, -999.000,9,   -999.0,9,   -999.0,9,-999.0000,9,  -999.00,      350
  49UF20131029,KS1308,  4057,  1,      4,  21963,2,20131123,0348, 38.7192, 134.4455, 2354,   2328.8,   0.2417,  34.0663,2,  34.0625,4,    200.5,2,    85.56,2,    25.67,2,     0.00,2,     2.01,2, -999.000,9, -999.000,9,   -999.0,9,   -999.0,9,-999.0000,9,  -999.00,      348
  49UF20131029,KS1308,  4059,  1,     99,     99,2,20131123,1010, 39.2818, 134.4760,  665,      0.0,  14.4800,  33.6379,2,-999.0000,9,    244.1,2,  -999.00,9,  -999.00,9,  -999.00,9,  -999.00,9, -999.000,9, -999.000,9,   -999.0,9,   -999.0,9,-999.0000,9,  -999.00,     1010
  49UF20131029,KS1308,  4059,  1,     36,  21995,2,20131123,1010, 39.2818, 134.4760,  665,     11.4,  14.4743,  33.6363,2,-999.0000,9,    243.7,2,  -999.00,9,  -999.00,9,  -999.00,9,  -999.00,9, -999.000,9, -999.000,9,   -999.0,9,   -999.0,9,-999.0000,9,  -999.00,     1036
  49UF20131029,KS1308,  4059,  1,     35,  22087,2,20131123,1010, 39.2818, 134.4760,  665,     26.6,  14.4745,  33.6367,2,-999.0000,9,    243.8,2,  -999.00,9,  -999.00,9,  -999.00,9,  -999.00,9, -999.000,9, -999.000,9,   -999.0,9,   -999.0,9,-999.0000,9,  -999.00,     1035
  49UF20131029,KS1308,  4059,  1,     34,  22666,2,20131123,1010, 39.2818, 134.4760,  665,     52.4,  14.3401,  33.6363,2,-999.0000,9,    242.3,2,  -999.00,9,  -999.00,9,  -999.00,9,  -999.00,9, -999.000,9, -999.000,9,   -999.0,9,   -999.0,9,-999.0000,9,  -999.00,     1033
  49UF20131029,KS1308,  4059,  1,     30,  21989,2,20131123,1010, 39.2818, 134.4760,  665,     75.3,  10.1220,  34.1433,2,-999.0000,9,    233.5,2,  -999.00,9,  -999.00,9,  -999.00,9,  -999.00,9, -999.000,9, -999.000,9,   -999.0,9,   -999.0,9,-999.0000,9,  -999.00,     1032
  49UF20131029,KS1308,  4059,  1,     29,  21988,2,20131123,1010, 39.2818, 134.4760,  665,    102.6,   5.7287,  34.0186,2,-999.0000,9,    270.4,2,  -999.00,9,  -999.00,9,  -999.00,9,  -999.00,9, -999.000,9, -999.000,9,   -999.0,9,   -999.0,9,-999.0000,9,  -999.00,     1030
  49UF20131029,KS1308,  4059,  1,     27,  21986,2,20131123,1010, 39.2818, 134.4760,  665,    127.3,   3.7707,  33.9948,2,-999.0000,9,    282.7,6,  -999.00,9,  -999.00,9,  -999.00,9,  -999.00,9, -999.000,9, -999.000,9,   -999.0,9,   -999.0,9,-999.0000,9,  -999.00,     1029
  49UF20131029,KS1308,  4059,  1,     26,  21985,2,20131123,1010, 39.2818, 134.4760,  665,    153.7,   2.4523,  33.9927,2,-999.0000,9,    270.0,2,  -999.00,9,  -999.00,9,  -999.00,9,  -999.00,9, -999.000,9, -999.000,9,   -999.0,9,   -999.0,9,-999.0000,9,  -999.00,     1026
  49UF20131029,KS1308,  4059,  1,     25,  21984,2,20131123,1010, 39.2818, 134.4760,  665,    153.7,   2.4523,  33.9927,2,-999.0000,9,    270.1,2,  -999.00,9,  -999.00,9,  -999.00,9,  -999.00,9, -999.000,9, -999.000,9,   -999.0,9,   -999.0,9,-999.0000,9,  -999.00,     1026
  49UF20131029,KS1308,  4059,  1,     21,  21980,2,20131123,1010, 39.2818, 134.4760,  665,    203.1,   1.8025,  34.0436,2,-999.0000,9,    248.2,2,  -999.00,9,  -999.00,9,  -999.00,9,  -999.00,9, -999.000,9, -999.000,9,   -999.0,9,   -999.0,9,-999.0000,9,  -999.00,     1024
  49UF20131029,KS1308,  4059,  1,     20,  21979,2,20131123,1010, 39.2818, 134.4760,  665,    253.2,   1.2341,  34.0488,2,-999.0000,9,    246.6,2,  -999.00,9,  -999.00,9,  -999.00,9,  -999.00,9, -999.000,9, -999.000,9,   -999.0,9,   -999.0,9,-999.0000,9,  -999.00,     1022
  49UF20131029,KS1308,  4059,  1,     19,  21978,3,20131123,1010, 39.2818, 134.4760,  665,    305.4,   0.9400,  34.0544,2,-999.0000,9,    249.0,2,  -999.00,9,  -999.00,9,  -999.00,9,  -999.00,9, -999.000,9, -999.000,9,   -999.0,9,   -999.0,9,-999.0000,9,  -999.00,     1020
  49UF20131029,KS1308,  4059,  1,     15,  21974,2,20131123,1010, 39.2818, 134.4760,  665,    403.8,   0.7315,  34.0664,2,-999.0000,9,    221.4,2,  -999.00,9,  -999.00,9,  -999.00,9,  -999.00,9, -999.000,9, -999.000,9,   -999.0,9,   -999.0,9,-999.0000,9,  -999.00,     1017
  49UF20131029,KS1308,  4059,  1,     14,  21973,2,20131123,1010, 39.2818, 134.4760,  665,    503.6,   0.6132,  34.0691,2,-999.0000,9,    212.0,2,  -999.00,9,  -999.00,9,  -999.00,9,  -999.00,9, -999.000,9, -999.000,9,   -999.0,9,   -999.0,9,-999.0000,9,  -999.00,     1015
  49UF20131029,KS1308,  4059,  1,     13,  21972,2,20131123,1010, 39.2818, 134.4760,  665,    604.4,   0.5118,  34.0695,2,-999.0000,9,    208.0,2,  -999.00,9,  -999.00,9,  -999.00,9,  -999.00,9, -999.000,9, -999.000,9,   -999.0,9,   -999.0,9,-999.0000,9,  -999.00,     1012
  49UF20131029,KS1308,  4059,  1,      9,  21968,2,20131123,1010, 39.2818, 134.4760,  665,    683.1,   0.4569,  34.0694,2,-999.0000,9,    204.6,2,  -999.00,9,  -999.00,9,  -999.00,9,  -999.00,9, -999.000,9, -999.000,9,   -999.0,9,   -999.0,9,-999.0000,9,  -999.00,     1010
  49UF20131029,KS1308,  4060,  1,     99,     99,2,20131123,1404, 39.5620, 134.5062, 2064,      0.0,  13.5673,  33.6796,2,  33.6854,4,    251.0,2,     5.44,2,     2.57,2,     0.26,2,     0.23,2, -999.000,9, -999.000,9,   2021.9,2,   2258.1,2,   7.9585,2,    25.00,     1430
  49UF20131029,KS1308,  4060,  1,     36,  21995,3,20131123,1404, 39.5620, 134.5062, 2064,      9.7,  13.5751,  33.6797,2,  33.6798,2,    249.8,2,     5.49,2,     2.64,2,     0.27,2,     0.23,2,    2.911,2,    1.551,2,   2020.9,2,   2257.5,2,   7.9617,2,    25.00,     1504
  49UF20131029,KS1308,  4060,  1,     35,  22087,2,20131123,1404, 39.5620, 134.5062, 2064,     26.0,  13.1199,  33.7036,2,  33.7057,2,    248.6,2,     5.59,2,     2.87,2,     0.22,2,     0.24,2,    2.978,2,    1.576,2,   2028.1,2,   2258.4,2,   7.9457,2,    25.00,     1502
  49UF20131029,KS1308,  4060,  1,     34,  22666,2,20131123,1404, 39.5620, 134.5062, 2064,     50.7,  11.7407,  34.0092,2,  34.0172,4,    233.5,2,     9.20,2,     6.75,2,     0.09,2,     0.52,2,    3.278,2,    1.790,2,   2073.0,2,   2265.4,2,   7.8663,2,    25.00,     1500
  49UF20131029,KS1308,  4060,  1,     30,  21989,2,20131123,1404, 39.5620, 134.5062, 2064,     75.1,   7.6733,  34.0600,2,  34.0610,2,    254.4,2,    11.13,2,     9.04,2,     0.03,2,     0.70,2,    4.109,6,    2.156,6,   2107.9,2,   2265.2,2,   7.7819,2,    25.00,     1458
  49UF20131029,KS1308,  4060,  1,     29,  21988,2,20131123,1404, 39.5620, 134.5062, 2064,    100.6,   4.9911,  34.0276,2,  34.0260,2,    266.2,2,    13.67,2,    11.28,2,     0.02,2,     0.85,2,    4.614,2,    2.384,2,   2130.5,2,   2263.7,2,   7.7226,6,    25.00,     1457
  49UF20131029,KS1308,  4060,  1,     28,  21987,2,20131123,1404, 39.5620, 134.5062, 2064,    126.7,   3.3690,  34.0365,2,  34.0345,2,    262.6,2,    18.84,2,    14.18,2,     0.01,2,     1.08,2,    4.866,2,    2.523,2,   2157.3,6,   2261.9,6,   7.6507,2,    25.00,     1455
  49UF20131029,KS1308,  4060,  1,     27,  21986,2,20131123,1404, 39.5620, 134.5062, 2064,    151.3,   2.2194,  34.0119,2,  34.0119,2,    279.8,2,    18.74,2,    14.39,2,     0.01,2,     1.09,2,    5.139,2,    2.672,2,   2163.5,2,   2260.2,2,   7.6349,2,    25.00,     1451
  49UF20131029,KS1308,  4060,  1,     26,  21985,2,20131123,1404, 39.5620, 134.5062, 2064,    151.3,   2.2194,  34.0119,2,  34.0117,2,    279.6,2,    18.74,2,    14.34,2,     0.01,2,     1.08,2,    5.490,2,    2.709,2,   2160.7,2,   2261.3,2,   7.6327,2,    25.00,     1451
  49UF20131029,KS1308,  4060,  1,     25,  21984,2,20131123,1404, 39.5620, 134.5062, 2064,    201.4,   1.4222,  34.0201,2,  34.0209,2,    279.2,6,    22.66,6,    16.16,6,     0.01,6,     1.23,6,    5.538,2,    2.722,2,   2176.4,2,   2260.2,2,   7.5938,2,    25.00,     1449
  49UF20131029,KS1308,  4060,  1,     24,  21983,2,20131123,1404, 39.5620, 134.5062, 2064,    252.1,   1.0283,  34.0331,2,  34.0325,2,    276.3,2,    25.67,2,    17.47,2,     0.01,2,     1.32,2,    5.342,2,    2.665,2,   2186.8,2,   2261.7,2,   7.5686,2,    25.00,     1447
  49UF20131029,KS1308,  4060,  1,     22,  22665,2,20131123,1404, 39.5620, 134.5062, 2064,    303.3,   0.9402,  34.0464,2,  34.0463,2,    268.1,2,    28.68,2,    18.78,2,     0.01,2,     1.43,2,    5.188,6,    2.609,6,   2195.1,2,   2261.9,2,   7.5410,2,    25.00,     1446
  49UF20131029,KS1308,  4060,  1,     21,  21980,2,20131123,1404, 39.5620, 134.5062, 2064,    404.1,   0.8009,  34.0601,2,  34.0604,2,    249.9,2,    34.32,2,    21.03,2,     0.01,2,     1.61,2,    4.853,2,    2.392,2,   2207.8,2,   2261.6,2,   7.5012,2,    25.00,     1443
  49UF20131029,KS1308,  4060,  1,     20,  21979,2,20131123,1404, 39.5620, 134.5062, 2064,    504.0,   0.6710,  34.0674,2,  34.0673,6,    223.8,2,    43.18,2,    23.49,2,     0.00,2,     1.82,2,    4.177,2,    2.040,2,   2228.0,2,   2264.3,2,   7.4510,2,    25.00,     1440
  49UF20131029,KS1308,  4060,  1,     18,  21977,2,20131123,1404, 39.5620, 134.5062, 2064,    605.0,   0.5720,  34.0697,2,  34.0711,2,    213.7,2,    49.22,2,    24.40,2,     0.00,2,     1.90,2,    3.555,2,    1.701,2,   2236.3,2,   2264.7,2,   7.4284,2,    25.00,     1437
  49UF20131029,KS1308,  4060,  1,     17,  23679,2,20131123,1404, 39.5620, 134.5062, 2064,    706.4,   0.4895,  34.0698,2,  34.0717,2,    209.6,2,    53.87,2,    24.70,2,     0.00,2,     1.92,2,    3.104,2,    1.472,2,   2240.2,2,   2268.9,2,   7.4246,2,    25.00,     1435
  49UF20131029,KS1308,  4060,  1,     16,  21975,2,20131123,1404, 39.5620, 134.5062, 2064,    807.7,   0.4302,  34.0693,2,  34.0707,2,   -999.0,5,    58.14,2,    24.95,2,     0.00,2,     1.94,2,    2.744,2,    1.258,2,   2240.5,2,   2269.7,2,   7.4225,2,    25.00,     1432
  49UF20131029,KS1308,  4060,  1,     15,  21974,2,20131123,1404, 39.5620, 134.5062, 2064,    908.0,   0.3810,  34.0689,2,  34.0700,2,    205.2,2,    61.92,2,    25.03,2,     0.00,2,     1.96,2,    2.409,6,    1.128,6,   2244.4,2,   2271.8,2,   7.4238,2,    25.00,     1429
  49UF20131029,KS1308,  4060,  1,     14,  21973,2,20131123,1404, 39.5620, 134.5062, 2064,   1009.3,   0.3425,  34.0684,2,  34.0701,2,    203.3,2,    65.36,2,    25.14,2,     0.00,2,     1.97,2,    2.108,2,    0.986,2,   2244.2,2,   2273.6,2,   7.4189,2,    25.00,     1426
  49UF20131029,KS1308,  4060,  1,     13,  21972,2,20131123,1404, 39.5620, 134.5062, 2064,   1211.5,   0.2885,  34.0677,2,  34.0683,2,    202.3,2,    71.28,2,    25.23,2,     0.00,2,     1.98,2,    1.614,2,    0.768,2,   2247.2,2,   2275.8,2,   7.4194,2,    25.00,     1422
  49UF20131029,KS1308,  4060,  1,      9,  21968,2,20131123,1404, 39.5620, 134.5062, 2064,   1414.4,   0.2588,  34.0673,2,  34.0682,6,    200.7,6,    75.23,6,    25.31,6,     0.00,6,     2.00,6,    1.323,2,    0.608,2,   2247.6,2,   2278.2,2,   7.4203,2,    25.00,     1417
  49UF20131029,KS1308,  4060,  1,      8,  21982,2,20131123,1404, 39.5620, 134.5062, 2064,   1616.6,   0.2358,  34.0670,2,  34.0681,6,    199.0,2,    79.95,2,    25.39,2,     0.00,2,     2.01,2,    1.061,2,    0.472,2,   2249.5,2,   2280.8,2,   7.4231,6,    25.00,     1413
  49UF20131029,KS1308,  4060,  1,      7,  21966,3,20131123,1404, 39.5620, 134.5062, 2064,   1820.7,   0.2288,  34.0668,2,  34.0674,6,    194.1,2,    86.92,2,    25.73,2,     0.00,2,     2.04,2,    1.112,2,    0.353,2,   2259.2,6,   2285.2,6,   7.4178,2,    25.00,     1408
  49UF20131029,KS1308,  4060,  1,      6,  21965,2,20131123,1404, 39.5620, 134.5062, 2064,   2033.7,   0.2432,  34.0667,2,  34.0666,2,    192.7,2,    88.17,2,    25.85,2,     0.00,2,     2.05,2,    1.055,2,    0.347,2,   2261.7,2,   2285.7,2,   7.4145,2,    25.00,     1404
  49UF20131029,KS1308,  4060,  1,      5,  21964,2,20131123,1404, 39.5620, 134.5062, 2064,   2033.7,   0.2432,  34.0667,2,  34.0671,2,    192.8,6,    88.14,2,    25.83,2,     0.00,2,     2.05,2,    1.069,2,    0.352,2,   2262.2,2,   2286.6,2,   7.4113,2,    25.00,     1404