BOTTLE,20191021PRINUNIVRMK
EXPOCODE,SECT_ID,STNNBR,CASTNO,SAMPNO,BTLNBR,BTLNBR_FLAG_W,DATE,TIME,LATITUDE,LONGITUDE,DEPTH,CTDPRS,CTDTMP,CTDSAL,CTDSAL_FLAG_W,SALNTY,SALNTY_FLAG_W,OXYGEN,OXYGEN_FLAG_W,SILCAT,SILCAT_FLAG_W,NITRAT,NITRAT_FLAG_W,NITRIT,NITRIT_FLAG_W,PHSPHT,PHSPHT_FLAG_W,CFC-11,CFC-11_FLAG_W,CFC-12,CFC-12_FLAG_W,TCARBN,TCARBN_FLAG_W,ALKALI,ALKALI_FLAG_W,PH_TOT,PH_TOT_FLAG_W,PH_TMP,BTL_TIME
,,,,,,,,,,,METERS,DBAR,ITS-90,PSS-78,,PSS-78,,UMOL/KG,,UMOL/KG,,UMOL/KG,,UMOL/KG,,UMOL/KG,,PMOL/KG,,PMOL/KG,,UMOL/KG,,UMOL/KG,,,,DEG C,
  49UF20131029,KS1308,  4031,  1,     99,     99,2,20131105,0628, 40.8258, 136.5798, 3288,      0.0,  16.0603,  33.3790,2,-999.0000,9,    248.0,2,     2.09,2,     0.00,2,     0.00,2,     0.01,2, -999.000,9, -999.000,9,   -999.0,9,   -999.0,9,-999.0000,9,  -999.00,      736
  49UF20131029,KS1308,  4031,  1,     36,  21995,4,20131105,0628, 40.8258, 136.5798, 3288,      9.6,  16.0729,  33.3780,2,-999.0000,9,   -999.0,9,  -999.00,9,  -999.00,9,  -999.00,9,  -999.00,9, -999.000,9, -999.000,9,   -999.0,9,   -999.0,9,-999.0000,9,  -999.00,      757
  49UF20131029,KS1308,  4031,  1,     35,  22087,2,20131105,0628, 40.8258, 136.5798, 3288,     24.8,  16.0444,  33.4206,2,-999.0000,9,    252.9,2,     2.85,2,     0.33,2,     0.03,2,     0.05,2, -999.000,9, -999.000,9,   -999.0,9,   -999.0,9,-999.0000,9,  -999.00,      756
  49UF20131029,KS1308,  4031,  1,     32,  21991,2,20131105,0628, 40.8258, 136.5798, 3288,     49.7,   6.3852,  34.0338,2,-999.0000,9,    278.4,2,     9.66,2,     8.17,2,     0.13,2,     0.63,2, -999.000,9, -999.000,9,   -999.0,9,   -999.0,9,-999.0000,9,  -999.00,      753
  49UF20131029,KS1308,  4031,  1,     31,  21990,2,20131105,0628, 40.8258, 136.5798, 3288,     75.0,   4.4146,  34.0044,2,-999.0000,9,    289.4,2,    11.30,2,     9.66,2,     0.04,2,     0.74,2, -999.000,9, -999.000,9,   -999.0,9,   -999.0,9,-999.0000,9,  -999.00,      752
  49UF20131029,KS1308,  4031,  1,     30,  21989,2,20131105,0628, 40.8258, 136.5798, 3288,     99.9,   2.8237,  33.9784,2,-999.0000,9,    297.6,2,    12.80,2,    11.45,2,     0.02,2,     0.86,2, -999.000,9, -999.000,9,   -999.0,9,   -999.0,9,-999.0000,9,  -999.00,      751
  49UF20131029,KS1308,  4031,  1,     29,  21988,2,20131105,0628, 40.8258, 136.5798, 3288,    125.4,   1.9855,  34.0014,2,-999.0000,9,    296.3,2,    16.61,2,    13.49,2,     0.01,2,     1.01,2, -999.000,9, -999.000,9,   -999.0,9,   -999.0,9,-999.0000,9,  -999.00,      749
  49UF20131029,KS1308,  4031,  1,     28,  21987,2,20131105,0628, 40.8258, 136.5798, 3288,    150.7,   1.6142,  34.0185,2,-999.0000,9,    295.8,2,    19.03,2,    14.33,2,     0.01,2,     1.07,2, -999.000,9, -999.000,9,   -999.0,9,   -999.0,9,-999.0000,9,  -999.00,      748
  49UF20131029,KS1308,  4031,  1,     27,  21986,2,20131105,0628, 40.8258, 136.5798, 3288,    200.9,   1.2524,  34.0472,2,-999.0000,9,    297.1,2,    22.43,2,    15.57,2,     0.00,2,     1.17,2, -999.000,9, -999.000,9,   -999.0,9,   -999.0,9,-999.0000,9,  -999.00,      747
  49UF20131029,KS1308,  4031,  1,     26,  21985,2,20131105,0628, 40.8258, 136.5798, 3288,    252.1,   1.0102,  34.0497,2,-999.0000,9,    281.0,2,    25.89,2,    17.41,2,     0.00,2,     1.31,2, -999.000,9, -999.000,9,   -999.0,9,   -999.0,9,-999.0000,9,  -999.00,      745
  49UF20131029,KS1308,  4031,  1,     25,  21984,2,20131105,0628, 40.8258, 136.5798, 3288,    302.6,   0.8653,  34.0519,2,-999.0000,9,    279.2,2,    27.50,2,    18.03,2,     0.00,2,     1.37,2, -999.000,9, -999.000,9,   -999.0,9,   -999.0,9,-999.0000,9,  -999.00,      743
  49UF20131029,KS1308,  4031,  1,     24,  21983,2,20131105,0628, 40.8258, 136.5798, 3288,    302.6,   0.8653,  34.0519,2,-999.0000,9,    278.8,2,    27.53,2,    18.11,2,     0.00,2,     1.37,2, -999.000,9, -999.000,9,   -999.0,9,   -999.0,9,-999.0000,9,  -999.00,      743
  49UF20131029,KS1308,  4031,  1,     21,  21980,2,20131105,0628, 40.8258, 136.5798, 3288,    403.2,   0.7634,  34.0577,2,-999.0000,9,    278.3,2,    29.08,2,    18.62,2,     0.00,2,     1.41,2, -999.000,9, -999.000,9,   -999.0,9,   -999.0,9,-999.0000,9,  -999.00,      740
  49UF20131029,KS1308,  4031,  1,     20,  21979,2,20131105,0628, 40.8258, 136.5798, 3288,    504.5,   0.7232,  34.0667,2,-999.0000,9,    241.6,2,    37.33,2,    21.94,2,     0.00,2,     1.68,2, -999.000,9, -999.000,9,   -999.0,9,   -999.0,9,-999.0000,9,  -999.00,      737
  49UF20131029,KS1308,  4031,  1,     19,  21978,2,20131105,0628, 40.8258, 136.5798, 3288,    606.3,   0.6380,  34.0719,2,-999.0000,9,    218.0,2,    45.23,2,    24.04,2,     0.00,2,     1.86,2, -999.000,9, -999.000,9,   -999.0,9,   -999.0,9,-999.0000,9,  -999.00,      734
  49UF20131029,KS1308,  4031,  1,     18,  21977,2,20131105,0628, 40.8258, 136.5798, 3288,    707.3,   0.5395,  34.0722,2,-999.0000,9,    212.8,6,    50.40,6,    24.57,6,     0.00,6,     1.91,6, -999.000,9, -999.000,9,   -999.0,9,   -999.0,9,-999.0000,9,  -999.00,      731
  49UF20131029,KS1308,  4031,  1,     17,  23679,2,20131105,0628, 40.8258, 136.5798, 3288,    809.3,   0.4572,  34.0718,2,-999.0000,9,    207.7,2,    55.38,2,    24.89,2,     0.00,2,     1.93,2, -999.000,9, -999.000,9,   -999.0,9,   -999.0,9,-999.0000,9,  -999.00,      728
  49UF20131029,KS1308,  4031,  1,     16,  21975,2,20131105,0628, 40.8258, 136.5798, 3288,    910.2,   0.3937,  34.0710,2,-999.0000,9,    205.5,2,    59.37,2,    25.07,2,     0.00,2,     1.94,2, -999.000,9, -999.000,9,   -999.0,9,   -999.0,9,-999.0000,9,  -999.00,      725
  49UF20131029,KS1308,  4031,  1,     15,  21974,2,20131105,0628, 40.8258, 136.5798, 3288,   1011.9,   0.3434,  34.0702,2,-999.0000,9,    203.9,2,    62.76,2,    25.16,2,     0.00,2,     1.95,2, -999.000,9, -999.000,9,   -999.0,9,   -999.0,9,-999.0000,9,  -999.00,      721
  49UF20131029,KS1308,  4031,  1,     14,  21973,2,20131105,0628, 40.8258, 136.5798, 3288,   1011.9,   0.3434,  34.0702,2,-999.0000,9,    204.0,2,    62.86,2,    25.19,2,     0.00,2,     1.95,2, -999.000,9, -999.000,9,   -999.0,9,   -999.0,9,-999.0000,9,  -999.00,      721
  49UF20131029,KS1308,  4031,  1,     13,  21972,2,20131105,0628, 40.8258, 136.5798, 3288,   1214.4,   0.2842,  34.0694,2,-999.0000,9,    203.3,2,    68.02,2,    25.22,2,     0.00,2,     1.96,2, -999.000,9, -999.000,9,   -999.0,9,   -999.0,9,-999.0000,9,  -999.00,      716
  49UF20131029,KS1308,  4031,  1,     12,  21994,2,20131105,0628, 40.8258, 136.5798, 3288,   1416.4,   0.2494,  34.0687,2,-999.0000,9,    203.0,2,    72.30,2,    25.28,2,     0.00,2,     1.97,2, -999.000,9, -999.000,9,   -999.0,9,   -999.0,9,-999.0000,9,  -999.00,      711
  49UF20131029,KS1308,  4031,  1,     11,  21970,3,20131105,0628, 40.8258, 136.5798, 3288,   1621.1,   0.2328,  34.0680,2,-999.0000,9,    202.7,2,    75.67,2,    25.31,2,     0.00,2,     1.98,2, -999.000,9, -999.000,9,   -999.0,9,   -999.0,9,-999.0000,9,  -999.00,      705
  49UF20131029,KS1308,  4031,  1,     10,  21969,3,20131105,0628, 40.8258, 136.5798, 3288,   1825.4,   0.2228,  34.0682,2,-999.0000,9,    202.5,2,    78.88,2,    25.42,2,     0.00,2,     1.99,2, -999.000,9, -999.000,9,   -999.0,9,   -999.0,9,-999.0000,9,  -999.00,      700
  49UF20131029,KS1308,  4031,  1,      9,  21968,2,20131105,0628, 40.8258, 136.5798, 3288,   2029.1,   0.2248,  34.0682,2,-999.0000,9,    200.2,2,    83.79,2,    25.42,2,     0.00,2,     2.01,2, -999.000,9, -999.000,9,   -999.0,9,   -999.0,9,-999.0000,9,  -999.00,      655
  49UF20131029,KS1308,  4031,  1,      8,  21982,2,20131105,0628, 40.8258, 136.5798, 3288,   2282.2,   0.2294,  34.0680,2,-999.0000,9,    202.9,2,    83.10,2,    25.49,2,     0.00,2,     1.99,2, -999.000,9, -999.000,9,   -999.0,9,   -999.0,9,-999.0000,9,  -999.00,      649
  49UF20131029,KS1308,  4031,  1,      7,  21966,2,20131105,0628, 40.8258, 136.5798, 3288,   2537.3,   0.2386,  34.0681,2,-999.0000,9,    203.3,6,    85.69,6,    25.56,6,     0.00,6,     2.00,6, -999.000,9, -999.000,9,   -999.0,9,   -999.0,9,-999.0000,9,  -999.00,      643
  49UF20131029,KS1308,  4031,  1,      6,  21965,2,20131105,0628, 40.8258, 136.5798, 3288,   2791.8,   0.2575,  34.0678,2,-999.0000,9,    203.5,2,    86.30,2,    25.52,2,     0.00,2,     2.00,2, -999.000,9, -999.000,9,   -999.0,9,   -999.0,9,-999.0000,9,  -999.00,      638
  49UF20131029,KS1308,  4031,  1,      5,  21964,4,20131105,0628, 40.8258, 136.5798, 3288,   3044.7,   0.2789,  34.0676,2,  34.0671,4,    203.0,4,    73.49,4,    25.28,4,     0.00,4,     1.97,4, -999.000,9, -999.000,9,   -999.0,9,   -999.0,9,-999.0000,9,  -999.00,      633
  49UF20131029,KS1308,  4031,  1,      4,  21963,2,20131105,0628, 40.8258, 136.5798, 3288,   3263.2,   0.2988,  34.0676,2,  34.0683,2,    203.7,2,    86.36,2,    25.57,2,     0.00,2,     1.99,2, -999.000,9, -999.000,9,   -999.0,9,   -999.0,9,-999.0000,9,  -999.00,      628
  49UF20131029,KS1308,  4033,  1,     99,     99,2,20131105,1528, 40.3470, 136.0065, 2622,      0.0,  15.1945,  33.5295,2,-999.0000,9,    252.4,2,     1.37,2,     0.00,2,     0.00,2,     0.03,2, -999.000,9, -999.000,9,   -999.0,9,   -999.0,9,-999.0000,9,  -999.00,     1610
  49UF20131029,KS1308,  4033,  1,     36,  21995,2,20131105,1528, 40.3470, 136.0065, 2622,     10.2,  15.2025,  33.5286,2,  33.5617,4,    253.0,2,     1.48,2,     0.00,2,     0.00,2,     0.01,2, -999.000,9, -999.000,9,   -999.0,9,   -999.0,9,-999.0000,9,  -999.00,     1634
  49UF20131029,KS1308,  4033,  1,     35,  22087,2,20131105,1528, 40.3470, 136.0065, 2622,     25.7,  13.9698,  33.7792,2,  33.8555,4,    295.6,2,     3.65,2,     0.58,2,     0.03,2,     0.12,2, -999.000,9, -999.000,9,   -999.0,9,   -999.0,9,-999.0000,9,  -999.00,     1633
  49UF20131029,KS1308,  4033,  1,     33,  21992,2,20131105,1528, 40.3470, 136.0065, 2622,     51.4,   3.4011,  33.9817,2,  33.9878,4,    340.1,2,     7.69,2,     7.25,2,     0.30,2,     0.67,2, -999.000,9, -999.000,9,   -999.0,9,   -999.0,9,-999.0000,9,  -999.00,     1630
  49UF20131029,KS1308,  4033,  1,     32,  21991,2,20131105,1528, 40.3470, 136.0065, 2622,     77.3,   1.8026,  33.9992,2,  33.9990,2,    299.2,2,    16.77,2,    13.80,2,     0.01,2,     1.02,2, -999.000,9, -999.000,9,   -999.0,9,   -999.0,9,-999.0000,9,  -999.00,     1629
  49UF20131029,KS1308,  4033,  1,     31,  21990,2,20131105,1528, 40.3470, 136.0065, 2622,    100.3,   1.2899,  34.0045,2,  34.0027,2,    293.3,2,    19.72,2,    14.88,2,     0.01,2,     1.11,2, -999.000,9, -999.000,9,   -999.0,9,   -999.0,9,-999.0000,9,  -999.00,     1628
  49UF20131029,KS1308,  4033,  1,     30,  21989,2,20131105,1528, 40.3470, 136.0065, 2622,    125.7,   1.2164,  34.0209,2,  34.0202,2,    283.5,2,    22.69,2,    16.26,2,     0.00,2,     1.21,2, -999.000,9, -999.000,9,   -999.0,9,   -999.0,9,-999.0000,9,  -999.00,     1626
  49UF20131029,KS1308,  4033,  1,     29,  21988,2,20131105,1528, 40.3470, 136.0065, 2622,    152.5,   1.1150,  34.0331,2,  34.0320,2,    277.6,2,    24.79,2,    17.25,2,     0.00,2,     1.29,2, -999.000,9, -999.000,9,   -999.0,9,   -999.0,9,-999.0000,9,  -999.00,     1625
  49UF20131029,KS1308,  4033,  1,     28,  21987,3,20131105,1528, 40.3470, 136.0065, 2622,    202.9,   0.9522,  34.0473,2,  34.0472,2,    267.4,2,    28.57,2,    18.87,2,     0.00,2,     1.42,2, -999.000,9, -999.000,9,   -999.0,9,   -999.0,9,-999.0000,9,  -999.00,     1623
  49UF20131029,KS1308,  4033,  1,     27,  21986,2,20131105,1528, 40.3470, 136.0065, 2622,    202.9,   0.9522,  34.0473,2,  34.0460,2,    267.4,2,    28.57,2,    18.88,2,     0.00,2,     1.41,2, -999.000,9, -999.000,9,   -999.0,9,   -999.0,9,-999.0000,9,  -999.00,     1623
  49UF20131029,KS1308,  4033,  1,     26,  21985,2,20131105,1528, 40.3470, 136.0065, 2622,    253.0,   0.8543,  34.0556,2,  34.0551,2,    271.3,2,    29.29,2,    18.95,2,     0.00,2,     1.43,2, -999.000,9, -999.000,9,   -999.0,9,   -999.0,9,-999.0000,9,  -999.00,     1621
  49UF20131029,KS1308,  4033,  1,     25,  21984,2,20131105,1528, 40.3470, 136.0065, 2622,    303.3,   0.8017,  34.0606,2,  34.0595,2,    261.0,2,    31.97,2,    20.05,2,     0.00,2,     1.51,2, -999.000,9, -999.000,9,   -999.0,9,   -999.0,9,-999.0000,9,  -999.00,     1620
  49UF20131029,KS1308,  4033,  1,     21,  21980,2,20131105,1528, 40.3470, 136.0065, 2622,    404.6,   0.6990,  34.0683,2,  34.0673,2,    228.7,2,    40.51,2,    23.11,2,     0.00,2,     1.77,2, -999.000,9, -999.000,9,   -999.0,9,   -999.0,9,-999.0000,9,  -999.00,     1617
  49UF20131029,KS1308,  4033,  1,     20,  21979,2,20131105,1528, 40.3470, 136.0065, 2622,    505.1,   0.6108,  34.0714,2,  34.0708,2,    217.5,2,    46.03,2,    24.02,2,     0.00,2,     1.86,2, -999.000,9, -999.000,9,   -999.0,9,   -999.0,9,-999.0000,9,  -999.00,     1614
  49UF20131029,KS1308,  4033,  1,     19,  21978,2,20131105,1528, 40.3470, 136.0065, 2622,    605.8,   0.5059,  34.0718,2,  34.0711,2,    210.7,2,    52.00,2,    24.69,2,     0.00,2,     1.91,2, -999.000,9, -999.000,9,   -999.0,9,   -999.0,9,-999.0000,9,  -999.00,     1612
  49UF20131029,KS1308,  4033,  1,     18,  21977,2,20131105,1528, 40.3470, 136.0065, 2622,    706.8,   0.4311,  34.0714,2,  34.0707,2,    206.8,2,    56.97,2,    24.95,2,     0.00,2,     1.93,2, -999.000,9, -999.000,9,   -999.0,9,   -999.0,9,-999.0000,9,  -999.00,     1609
  49UF20131029,KS1308,  4033,  1,     17,  23679,2,20131105,1528, 40.3470, 136.0065, 2622,    807.9,   0.3752,  34.0710,2,  34.0703,2,    205.2,6,    60.22,6,    25.12,6,     0.00,6,     1.94,6, -999.000,9, -999.000,9,   -999.0,9,   -999.0,9,-999.0000,9,  -999.00,     1607
  49UF20131029,KS1308,  4033,  1,     16,  21975,2,20131105,1528, 40.3470, 136.0065, 2622,    909.7,   0.3306,  34.0704,2,  34.0695,2,    204.3,2,    63.76,2,    25.12,2,     0.00,2,     1.94,2, -999.000,9, -999.000,9,   -999.0,9,   -999.0,9,-999.0000,9,  -999.00,     1604
  49UF20131029,KS1308,  4033,  1,     15,  21974,2,20131105,1528, 40.3470, 136.0065, 2622,    909.7,   0.3306,  34.0704,2,  34.0698,2,    204.2,2,    63.75,2,    25.14,2,     0.00,2,     1.95,2, -999.000,9, -999.000,9,   -999.0,9,   -999.0,9,-999.0000,9,  -999.00,     1604
  49UF20131029,KS1308,  4033,  1,     14,  21973,2,20131105,1528, 40.3470, 136.0065, 2622,   1010.9,   0.2988,  34.0698,2,  34.0692,2,    203.6,2,    66.50,2,    25.19,2,     0.00,2,     1.96,2, -999.000,9, -999.000,9,   -999.0,9,   -999.0,9,-999.0000,9,  -999.00,     1601
  49UF20131029,KS1308,  4033,  1,     13,  21972,2,20131105,1528, 40.3470, 136.0065, 2622,   1213.6,   0.2582,  34.0690,2,  34.0688,2,    202.8,2,    71.03,2,    25.29,2,     0.00,2,     1.96,2, -999.000,9, -999.000,9,   -999.0,9,   -999.0,9,-999.0000,9,  -999.00,     1557
  49UF20131029,KS1308,  4033,  1,     10,  21969,2,20131105,1528, 40.3470, 136.0065, 2622,   1416.6,   0.2366,  34.0685,2,  34.0679,6,    202.8,2,    74.58,2,    25.25,2,     0.00,2,     1.97,2, -999.000,9, -999.000,9,   -999.0,9,   -999.0,9,-999.0000,9,  -999.00,     1552
  49UF20131029,KS1308,  4033,  1,      9,  21968,2,20131105,1528, 40.3470, 136.0065, 2622,   1618.9,   0.2227,  34.0684,2,  34.0681,2,    202.1,2,    77.69,2,    25.36,2,     0.00,2,     1.98,2, -999.000,9, -999.000,9,   -999.0,9,   -999.0,9,-999.0000,9,  -999.00,     1548
  49UF20131029,KS1308,  4033,  1,      8,  21982,2,20131105,1528, 40.3470, 136.0065, 2622,   1822.5,   0.2185,  34.0680,2,  34.0678,2,    201.5,6,    80.94,6,    25.42,6,     0.00,6,     1.99,6, -999.000,9, -999.000,9,   -999.0,9,   -999.0,9,-999.0000,9,  -999.00,     1544
  49UF20131029,KS1308,  4033,  1,      7,  21966,2,20131105,1528, 40.3470, 136.0065, 2622,   2026.9,   0.2210,  34.0680,2,  34.0677,6,    201.1,2,    83.23,2,    25.48,2,     0.00,2,     2.00,2, -999.000,9, -999.000,9,   -999.0,9,   -999.0,9,-999.0000,9,  -999.00,     1539
  49UF20131029,KS1308,  4033,  1,      6,  21965,2,20131105,1528, 40.3470, 136.0065, 2622,   2280.7,   0.2256,  34.0679,2,  34.0678,2,    202.0,2,    85.99,2,    25.56,2,     0.00,2,     2.00,2, -999.000,9, -999.000,9,   -999.0,9,   -999.0,9,-999.0000,9,  -999.00,     1534
  49UF20131029,KS1308,  4033,  1,      4,  21963,2,20131105,1528, 40.3470, 136.0065, 2622,   2540.3,   0.2398,  34.0678,2,  34.0674,6,    202.6,2,    86.50,2,    25.63,2,     0.00,2,     2.00,2, -999.000,9, -999.000,9,   -999.0,9,   -999.0,9,-999.0000,9,  -999.00,     1528