BOTTLE,20191021PRINUNIVRMK
# 08/29/2019 Initialized README file  
# Data source:  Masao Ishii 2018/11/30 
# SHIP: R/V Keifu Maru II 
# Cruise: KS13-08 
# Region: Sea of Japan 
# EXPOCODE: 49UF20131029 
# DATES: 20131029-20131210 
# Chief Scientist: Kazuhiro Nemoto 
# 27 stations with 24 place Rosette 
# CTD: Who - Kazuhiro Nemoto; Status - final 
# 	Includes: CTDSAL 
# SALNTY: Who - Kazuhiro Nemoto; Status - final 
# 	Notes: 	 
# Nutrients: Who - Kazuhiro Nemoto; Status - final 
# 	Includes: nitrate, nitrite, silicate, phosphate 
# 	Nitrite and NO3+NO2 reported. Separated by subtraction 
# OXYGEN: Who - Kazuhiro Nemoto; Status - final 
# 	Notes: 
# TCARBN: Who - Kazuhiro Nemoto; Status - final 
# 	Notes:  
# ALKALI: Who - Kazuhiro Nemoto; Status - final 
# 	Notes:  
# CFC: Who - Kazuhiro Nemoto; Status - final 
# 	Notes: includes 11 and 12 
# These data should be cited as: Dissolved inorganic carbon (DIC), total alkalinity, pH on total scale, temperature, salinity, oxygen, nutrients and chlorofluorocarbons collected from discrete samples and profile observations during the R/V Keifu Maru II cruise ks201308 (EXPOCODE 49UF20131029) in the Sea of Japan from 2013-10-29 to 2013-12-10 (NCEI Accession 0191770). [indicate subset used]. NOAA National Centers for Environmental Information. Dataset. https://doi.org/10.25921/brsy-pq55.   
# References that have used data from this cruise: 
EXPOCODE,SECT_ID,STNNBR,CASTNO,SAMPNO,BTLNBR,BTLNBR_FLAG_W,DATE,TIME,LATITUDE,LONGITUDE,DEPTH,CTDPRS,CTDTMP,CTDSAL,CTDSAL_FLAG_W,SALNTY,SALNTY_FLAG_W,OXYGEN,OXYGEN_FLAG_W,SILCAT,SILCAT_FLAG_W,NITRAT,NITRAT_FLAG_W,NITRIT,NITRIT_FLAG_W,PHSPHT,PHSPHT_FLAG_W,CFC-11,CFC-11_FLAG_W,CFC-12,CFC-12_FLAG_W,TCARBN,TCARBN_FLAG_W,ALKALI,ALKALI_FLAG_W,PH_TOT,PH_TOT_FLAG_W,PH_TMP,BTL_TIME
,,,,,,,,,,,METERS,DBAR,ITS-90,PSS-78,,PSS-78,,UMOL/KG,,UMOL/KG,,UMOL/KG,,UMOL/KG,,UMOL/KG,,PMOL/KG,,PMOL/KG,,UMOL/KG,,UMOL/KG,,,,DEG C,
  49UF20131029,KS1308,  4016,  1,     99,     99,2,20131101,1059, 39.7637, 137.2440, 2620,      0.0,  19.3456,  32.8937,2,-999.0000,9,    232.4,2,     2.20,2,     0.00,2,     0.00,2,     0.01,2, -999.000,9, -999.000,9,   -999.0,9,   -999.0,9,-999.0000,9,  -999.00,     1145
  49UF20131029,KS1308,  4016,  1,     36,  21995,2,20131101,1059, 39.7637, 137.2440, 2620,     10.0,  19.3461,  32.8938,2,  32.8953,2,    232.6,2,     2.18,2,     0.00,2,     0.00,2,     0.00,2, -999.000,9, -999.000,9,   -999.0,9,   -999.0,9,-999.0000,9,  -999.00,     1211
  49UF20131029,KS1308,  4016,  1,     35,  22087,2,20131101,1059, 39.7637, 137.2440, 2620,     24.8,  18.8899,  32.9874,2,  33.0265,4,    234.0,2,     2.36,2,    -0.01,2,     0.01,2,     0.02,2, -999.000,9, -999.000,9,   -999.0,9,   -999.0,9,-999.0000,9,  -999.00,     1209
  49UF20131029,KS1308,  4016,  1,     34,  22666,2,20131101,1059, 39.7637, 137.2440, 2620,     50.3,  11.5825,  34.1676,2,  34.1727,4,    246.4,2,     8.57,2,     6.00,2,     0.22,2,     0.50,2, -999.000,9, -999.000,9,   -999.0,9,   -999.0,9,-999.0000,9,  -999.00,     1205
  49UF20131029,KS1308,  4016,  1,     30,  21989,2,20131101,1059, 39.7637, 137.2440, 2620,     75.0,   6.9987,  34.0526,2,  34.0497,2,    270.6,2,     9.92,2,     8.54,2,     0.03,2,     0.65,2, -999.000,9, -999.000,9,   -999.0,9,   -999.0,9,-999.0000,9,  -999.00,     1204
  49UF20131029,KS1308,  4016,  1,     29,  21988,2,20131101,1059, 39.7637, 137.2440, 2620,    100.1,   4.5898,  34.0198,2,  34.0232,2,    270.0,2,    14.50,2,    11.66,2,     0.01,2,     0.87,2, -999.000,9, -999.000,9,   -999.0,9,   -999.0,9,-999.0000,9,  -999.00,     1203
  49UF20131029,KS1308,  4016,  1,     28,  21987,2,20131101,1059, 39.7637, 137.2440, 2620,    125.8,   3.1152,  34.0301,2,  34.0305,2,    269.5,2,    18.37,2,    14.03,2,     0.01,2,     1.05,2, -999.000,9, -999.000,9,   -999.0,9,   -999.0,9,-999.0000,9,  -999.00,     1202
  49UF20131029,KS1308,  4016,  1,     27,  21986,2,20131101,1059, 39.7637, 137.2440, 2620,    150.1,   2.3681,  34.0360,2,  34.0355,2,    269.8,2,    21.86,2,    15.63,2,     0.01,2,     1.18,2, -999.000,9, -999.000,9,   -999.0,9,   -999.0,9,-999.0000,9,  -999.00,     1201
  49UF20131029,KS1308,  4016,  1,     26,  21985,2,20131101,1059, 39.7637, 137.2440, 2620,    200.7,   1.5282,  34.0511,2,  34.0508,2,    251.9,2,    29.79,2,    19.26,2,     0.01,2,     1.45,2, -999.000,9, -999.000,9,   -999.0,9,   -999.0,9,-999.0000,9,  -999.00,     1159
  49UF20131029,KS1308,  4016,  1,     25,  21984,2,20131101,1059, 39.7637, 137.2440, 2620,    250.7,   1.0899,  34.0539,2,  34.0532,2,    259.3,2,    31.21,2,    19.42,2,     0.01,2,     1.48,2, -999.000,9, -999.000,9,   -999.0,9,   -999.0,9,-999.0000,9,  -999.00,     1157
  49UF20131029,KS1308,  4016,  1,     24,  21983,2,20131101,1059, 39.7637, 137.2440, 2620,    301.6,   0.9490,  34.0597,2,  34.0584,2,    247.9,2,    34.58,2,    20.87,2,     0.01,2,     1.58,2, -999.000,9, -999.000,9,   -999.0,9,   -999.0,9,-999.0000,9,  -999.00,     1156
  49UF20131029,KS1308,  4016,  1,     23,  22095,3,20131101,1059, 39.7637, 137.2440, 2620,    403.0,   0.7611,  34.0679,2,  34.0672,2,    226.8,2,    41.44,2,    23.23,2,     0.01,2,     1.78,2, -999.000,9, -999.000,9,   -999.0,9,   -999.0,9,-999.0000,9,  -999.00,     1153
  49UF20131029,KS1308,  4016,  1,     22,  22665,2,20131101,1059, 39.7637, 137.2440, 2620,    504.8,   0.6362,  34.0710,2,  34.0702,2,    213.6,6,    47.54,6,    24.57,6,     0.01,6,     1.89,6, -999.000,9, -999.000,9,   -999.0,9,   -999.0,9,-999.0000,9,  -999.00,     1151
  49UF20131029,KS1308,  4016,  1,     18,  21977,2,20131101,1059, 39.7637, 137.2440, 2620,    605.1,   0.5264,  34.0715,2,  34.0715,2,    207.6,2,    53.43,2,    25.02,2,     0.01,2,     1.93,2, -999.000,9, -999.000,9,   -999.0,9,   -999.0,9,-999.0000,9,  -999.00,     1148
  49UF20131029,KS1308,  4016,  1,     17,  23679,2,20131101,1059, 39.7637, 137.2440, 2620,    706.2,   0.4584,  34.0711,2,  34.0739,4,    205.2,2,    57.28,2,    25.23,2,     0.01,2,     1.95,2, -999.000,9, -999.000,9,   -999.0,9,   -999.0,9,-999.0000,9,  -999.00,     1145
  49UF20131029,KS1308,  4016,  1,     16,  21975,2,20131101,1059, 39.7637, 137.2440, 2620,    806.5,   0.4052,  34.0709,2,  34.0701,2,    203.8,2,    60.62,2,    25.35,2,     0.00,2,     1.96,2, -999.000,9, -999.000,9,   -999.0,9,   -999.0,9,-999.0000,9,  -999.00,     1143
  49UF20131029,KS1308,  4016,  1,     15,  21974,2,20131101,1059, 39.7637, 137.2440, 2620,    908.4,   0.3412,  34.0702,2,  34.0699,2,    202.6,2,    65.14,2,    25.45,2,     0.01,2,     1.97,2, -999.000,9, -999.000,9,   -999.0,9,   -999.0,9,-999.0000,9,  -999.00,     1140
  49UF20131029,KS1308,  4016,  1,     14,  21973,3,20131101,1059, 39.7637, 137.2440, 2620,   1010.0,   0.3114,  34.0699,2,  34.0690,2,    202.5,2,    67.30,2,    25.36,2,     0.00,2,     1.97,2, -999.000,9, -999.000,9,   -999.0,9,   -999.0,9,-999.0000,9,  -999.00,     1137
  49UF20131029,KS1308,  4016,  1,     13,  21972,2,20131101,1059, 39.7637, 137.2440, 2620,   1010.0,   0.3114,  34.0699,2,  34.0690,2,    202.4,2,    67.36,2,    25.34,2,     0.00,2,     1.97,2, -999.000,9, -999.000,9,   -999.0,9,   -999.0,9,-999.0000,9,  -999.00,     1137
  49UF20131029,KS1308,  4016,  1,     12,  21994,2,20131101,1059, 39.7637, 137.2440, 2620,   1212.6,   0.2674,  34.0692,2,  34.0684,2,    202.3,2,    71.69,2,    25.40,2,     0.00,2,     1.98,2, -999.000,9, -999.000,9,   -999.0,9,   -999.0,9,-999.0000,9,  -999.00,     1133
  49UF20131029,KS1308,  4016,  1,     11,  21970,2,20131101,1059, 39.7637, 137.2440, 2620,   1416.5,   0.2456,  34.0688,2,  34.0688,6,    202.2,2,    74.87,2,    25.48,2,     0.00,2,     1.99,2, -999.000,9, -999.000,9,   -999.0,9,   -999.0,9,-999.0000,9,  -999.00,     1128
  49UF20131029,KS1308,  4016,  1,     10,  21969,2,20131101,1059, 39.7637, 137.2440, 2620,   1618.1,   0.2272,  34.0684,2,  34.0686,2,    202.0,2,    78.42,2,    25.45,2,     0.00,2,     1.99,2, -999.000,9, -999.000,9,   -999.0,9,   -999.0,9,-999.0000,9,  -999.00,     1123
  49UF20131029,KS1308,  4016,  1,      9,  21968,2,20131101,1059, 39.7637, 137.2440, 2620,   1821.0,   0.2208,  34.0681,2,  34.0672,6,    201.6,2,    81.15,2,    25.55,2,     0.00,2,     2.00,2, -999.000,9, -999.000,9,   -999.0,9,   -999.0,9,-999.0000,9,  -999.00,     1118
  49UF20131029,KS1308,  4016,  1,      8,  21982,2,20131101,1059, 39.7637, 137.2440, 2620,   2025.1,   0.2240,  34.0680,2,  34.0678,6,    201.1,2,    83.31,2,    25.73,2,     0.00,2,     2.01,2, -999.000,9, -999.000,9,   -999.0,9,   -999.0,9,-999.0000,9,  -999.00,     1113
  49UF20131029,KS1308,  4016,  1,      7,  21966,3,20131101,1059, 39.7637, 137.2440, 2620,   2279.7,   0.2313,  34.0679,2,  34.0668,2,    201.6,2,    85.23,2,    25.72,2,     0.00,2,     2.01,2, -999.000,9, -999.000,9,   -999.0,9,   -999.0,9,-999.0000,9,  -999.00,     1107
  49UF20131029,KS1308,  4016,  1,      6,  21965,2,20131101,1059, 39.7637, 137.2440, 2620,   2533.0,   0.2411,  34.0678,2,  34.0675,2,    202.4,6,    86.69,6,    25.74,6,     0.00,6,     2.01,6, -999.000,9, -999.000,9,   -999.0,9,   -999.0,9,-999.0000,9,  -999.00,     1102
  49UF20131029,KS1308,  4016,  1,      4,  21963,2,20131101,1059, 39.7637, 137.2440, 2620,   2590.9,   0.2458,  34.0680,2,  34.0670,2,    202.3,2,    86.82,2,    25.64,2,     0.00,2,     2.01,2, -999.000,9, -999.000,9,   -999.0,9,   -999.0,9,-999.0000,9,  -999.00,     1059
  49UF20131029,KS1308,  4016,  1,      5,  21964,2,20131101,1059, 39.7637, 137.2440, 2620,   2590.9,   0.2458,  34.0680,2,  34.0672,2,    202.0,2,    86.76,2,    25.73,2,     0.00,2,     2.01,2, -999.000,9, -999.000,9,   -999.0,9,   -999.0,9,-999.0000,9,  -999.00,     1059
  49UF20131029,KS1308,  4017,  1,     99,     99,2,20131101,1901, 40.0070, 137.7597, 2737,      0.0,  20.4102,  32.8518,2,-999.0000,9,    227.0,2,     2.45,2,     0.00,2,     0.00,2,     0.01,2, -999.000,9, -999.000,9,   -999.0,9,   -999.0,9,-999.0000,9,  -999.00,     1953
  49UF20131029,KS1308,  4017,  1,     36,  21995,2,20131101,1901, 40.0070, 137.7597, 2737,      9.0,  20.4227,  32.8516,2,-999.0000,9,    226.7,2,     2.43,2,     0.00,2,     0.00,2,     0.01,2, -999.000,9, -999.000,9,   -999.0,9,   -999.0,9,-999.0000,9,  -999.00,     2010
  49UF20131029,KS1308,  4017,  1,     35,  22087,2,20131101,1901, 40.0070, 137.7597, 2737,     24.4,  20.4257,  32.8501,2,-999.0000,9,    225.3,2,     2.59,2,     0.16,2,     0.01,2,     0.02,2, -999.000,9, -999.000,9,   -999.0,9,   -999.0,9,-999.0000,9,  -999.00,     2009
  49UF20131029,KS1308,  4017,  1,     32,  21991,2,20131101,1901, 40.0070, 137.7597, 2737,     48.6,  17.4190,  34.2522,2,-999.0000,9,    201.3,2,     8.52,2,     5.42,2,     0.05,2,     0.40,2, -999.000,9, -999.000,9,   -999.0,9,   -999.0,9,-999.0000,9,  -999.00,     2005
  49UF20131029,KS1308,  4017,  1,     31,  21990,2,20131101,1901, 40.0070, 137.7597, 2737,     73.7,  12.5144,  34.2815,2,-999.0000,9,    236.1,2,     5.87,2,     5.57,2,     0.02,2,     0.43,2, -999.000,9, -999.000,9,   -999.0,9,   -999.0,9,-999.0000,9,  -999.00,     2004
  49UF20131029,KS1308,  4017,  1,     30,  21989,2,20131101,1901, 40.0070, 137.7597, 2737,     99.4,  10.8295,  34.1465,2,-999.0000,9,    250.3,2,     5.88,2,     6.28,2,     0.02,2,     0.45,2, -999.000,9, -999.000,9,   -999.0,9,   -999.0,9,-999.0000,9,  -999.00,     2003
  49UF20131029,KS1308,  4017,  1,     29,  21988,3,20131101,1901, 40.0070, 137.7597, 2737,    124.1,   8.2288,  34.0987,2,-999.0000,9,    256.9,2,    10.35,2,     8.91,2,     0.01,2,     0.66,2, -999.000,9, -999.000,9,   -999.0,9,   -999.0,9,-999.0000,9,  -999.00,     2002
  49UF20131029,KS1308,  4017,  1,     28,  21987,3,20131101,1901, 40.0070, 137.7597, 2737,    150.0,   4.8965,  34.0099,2,-999.0000,9,    277.4,2,    12.02,2,    10.19,2,     0.01,2,     0.77,2, -999.000,9, -999.000,9,   -999.0,9,   -999.0,9,-999.0000,9,  -999.00,     2001
  49UF20131029,KS1308,  4017,  1,     27,  21986,2,20131101,1901, 40.0070, 137.7597, 2737,    200.5,   2.7822,  34.0454,2,-999.0000,9,    252.9,2,    24.23,2,    16.60,2,     0.00,2,     1.25,2, -999.000,9, -999.000,9,   -999.0,9,   -999.0,9,-999.0000,9,  -999.00,     2000
  49UF20131029,KS1308,  4017,  1,     26,  21985,2,20131101,1901, 40.0070, 137.7597, 2737,    251.0,   1.6958,  34.0488,2,-999.0000,9,    250.8,2,    28.56,2,    18.79,2,     0.00,2,     1.42,2, -999.000,9, -999.000,9,   -999.0,9,   -999.0,9,-999.0000,9,  -999.00,     1958
  49UF20131029,KS1308,  4017,  1,     25,  21984,2,20131101,1901, 40.0070, 137.7597, 2737,    300.2,   1.2615,  34.0595,2,-999.0000,9,    233.3,2,    35.71,2,    21.35,2,     0.01,2,     1.63,2, -999.000,9, -999.000,9,   -999.0,9,   -999.0,9,-999.0000,9,  -999.00,     1956
  49UF20131029,KS1308,  4017,  1,     24,  21983,2,20131101,1901, 40.0070, 137.7597, 2737,    401.8,   0.8926,  34.0664,2,-999.0000,9,    216.6,6,    42.60,6,    23.57,6,     0.00,6,     1.81,6, -999.000,9, -999.000,9,   -999.0,9,   -999.0,9,-999.0000,9,  -999.00,     1954
  49UF20131029,KS1308,  4017,  1,     23,  22095,3,20131101,1901, 40.0070, 137.7597, 2737,    503.0,   0.7095,  34.0697,2,-999.0000,9,    209.2,2,    47.79,2,    24.60,2,     0.00,2,     1.90,2, -999.000,9, -999.000,9,   -999.0,9,   -999.0,9,-999.0000,9,  -999.00,     1951
  49UF20131029,KS1308,  4017,  1,     22,  22665,2,20131101,1901, 40.0070, 137.7597, 2737,    602.8,   0.5835,  34.0713,2,-999.0000,9,    210.9,2,    49.94,2,    24.65,2,     0.00,2,     1.90,2, -999.000,9, -999.000,9,   -999.0,9,   -999.0,9,-999.0000,9,  -999.00,     1949
  49UF20131029,KS1308,  4017,  1,     18,  21977,2,20131101,1901, 40.0070, 137.7597, 2737,    705.1,   0.4941,  34.0711,2,-999.0000,9,    205.6,2,    55.69,2,    25.03,2,     0.00,2,     1.94,2, -999.000,9, -999.000,9,   -999.0,9,   -999.0,9,-999.0000,9,  -999.00,     1946
  49UF20131029,KS1308,  4017,  1,     17,  23679,2,20131101,1901, 40.0070, 137.7597, 2737,    806.0,   0.4227,  34.0708,2,-999.0000,9,    204.3,2,    59.63,2,    25.05,2,     0.00,2,     1.95,2, -999.000,9, -999.000,9,   -999.0,9,   -999.0,9,-999.0000,9,  -999.00,     1944
  49UF20131029,KS1308,  4017,  1,     16,  21975,2,20131101,1901, 40.0070, 137.7597, 2737,    906.4,   0.3715,  34.0705,2,-999.0000,9,    203.7,2,    62.35,2,    25.10,2,     0.00,2,     1.95,2, -999.000,9, -999.000,9,   -999.0,9,   -999.0,9,-999.0000,9,  -999.00,     1941
  49UF20131029,KS1308,  4017,  1,     15,  21974,2,20131101,1901, 40.0070, 137.7597, 2737,   1008.3,   0.3352,  34.0700,2,-999.0000,9,    203.4,2,    64.79,2,    25.13,2,     0.00,2,     1.96,2, -999.000,9, -999.000,9,   -999.0,9,   -999.0,9,-999.0000,9,  -999.00,     1938
  49UF20131029,KS1308,  4017,  1,     14,  21973,3,20131101,1901, 40.0070, 137.7597, 2737,   1008.3,   0.3352,  34.0700,2,-999.0000,9,    203.6,2,    64.79,2,    25.16,2,     0.00,2,     1.96,2, -999.000,9, -999.000,9,   -999.0,9,   -999.0,9,-999.0000,9,  -999.00,     1938
  49UF20131029,KS1308,  4017,  1,     13,  21972,2,20131101,1901, 40.0070, 137.7597, 2737,   1211.2,   0.2785,  34.0692,2,-999.0000,9,    203.1,2,    70.11,2,    25.30,2,     0.00,2,     1.97,2, -999.000,9, -999.000,9,   -999.0,9,   -999.0,9,-999.0000,9,  -999.00,     1934
  49UF20131029,KS1308,  4017,  1,     12,  21994,2,20131101,1901, 40.0070, 137.7597, 2737,   1415.5,   0.2466,  34.0686,2,-999.0000,9,    202.5,2,    74.31,2,    25.33,2,     0.00,2,     1.98,2, -999.000,9, -999.000,9,   -999.0,9,   -999.0,9,-999.0000,9,  -999.00,     1930
  49UF20131029,KS1308,  4017,  1,     11,  21970,2,20131101,1901, 40.0070, 137.7597, 2737,   1619.4,   0.2333,  34.0683,2,-999.0000,9,    201.6,2,    77.99,2,    25.36,2,     0.00,2,     1.99,2, -999.000,9, -999.000,9,   -999.0,9,   -999.0,9,-999.0000,9,  -999.00,     1925
  49UF20131029,KS1308,  4017,  1,     10,  21969,2,20131101,1901, 40.0070, 137.7597, 2737,   1818.9,   0.2271,  34.0681,2,-999.0000,9,    201.4,2,    80.45,2,    25.54,2,     0.00,2,     1.99,2, -999.000,9, -999.000,9,   -999.0,9,   -999.0,9,-999.0000,9,  -999.00,     1920
  49UF20131029,KS1308,  4017,  1,      9,  21968,2,20131101,1901, 40.0070, 137.7597, 2737,   2023.5,   0.2285,  34.0680,2,-999.0000,9,    200.9,2,    82.84,2,    25.48,2,     0.00,2,     2.00,2, -999.000,9, -999.000,9,   -999.0,9,   -999.0,9,-999.0000,9,  -999.00,     1916
  49UF20131029,KS1308,  4017,  1,      8,  21982,2,20131101,1901, 40.0070, 137.7597, 2737,   2277.6,   0.2365,  34.0679,2,-999.0000,9,    200.3,2,    85.24,2,    25.57,2,     0.00,2,     2.01,2, -999.000,9, -999.000,9,   -999.0,9,   -999.0,9,-999.0000,9,  -999.00,     1910
  49UF20131029,KS1308,  4017,  1,      7,  21966,2,20131101,1901, 40.0070, 137.7597, 2737,   2532.0,   0.2542,  34.0679,2,  34.0673,2,    200.1,6,    85.98,6,    25.58,6,     0.00,6,     2.01,6, -999.000,9, -999.000,9,   -999.0,9,   -999.0,9,-999.0000,9,  -999.00,     1905
  49UF20131029,KS1308,  4017,  1,      6,  21965,2,20131101,1901, 40.0070, 137.7597, 2737,   2707.0,   0.2649,  34.0679,2,-999.0000,9,    200.7,2,    86.25,2,    25.72,2,     0.00,2,     2.01,2, -999.000,9, -999.000,9,   -999.0,9,   -999.0,9,-999.0000,9,  -999.00,     1901
  49UF20131029,KS1308,  4017,  1,      5,  21964,2,20131101,1901, 40.0070, 137.7597, 2737,   2707.0,   0.2649,  34.0679,2,  34.0681,2,    200.8,2,    86.24,2,    25.65,2,     0.00,2,     2.01,2, -999.000,9, -999.000,9,   -999.0,9,   -999.0,9,-999.0000,9,  -999.00,     1901