BOTTLE,20191021PRINUNIVRMK
EXPOCODE,SECT_ID,STNNBR,CASTNO,SAMPNO,BTLNBR,BTLNBR_FLAG_W,DATE,TIME,LATITUDE,LONGITUDE,DEPTH,CTDPRS,CTDTMP,CTDSAL,CTDSAL_FLAG_W,SALNTY,SALNTY_FLAG_W,OXYGEN,OXYGEN_FLAG_W,SILCAT,SILCAT_FLAG_W,NITRAT,NITRAT_FLAG_W,NITRIT,NITRIT_FLAG_W,PHSPHT,PHSPHT_FLAG_W,TCARBN,TCARBN_FLAG_W,ALKALI,ALKALI_FLAG_W,PH_TOT,PH_TOT_FLAG_W,PH_TMP,BTL_TIME
,,,,,,,,,,,METERS,DBAR,ITS-90,PSS-78,,PSS-78,,UMOL/KG,,UMOL/KG,,UMOL/KG,,UMOL/KG,,UMOL/KG,,UMOL/KG,,UMOL/KG,,,,DEG C,
  49UF20131006,KS1307,  4012,  1,     99,     99,2,20131012,0406, 40.0235, 154.3292, 5526,      0.0,  22.4958,  34.2232,2,  34.2366,4,    219.7,2,     2.20,2,     0.00,2,     0.00,2,     0.03,2,   1967.2,2,   2261.4,2,   8.0487,2,    25.00,      550
  49UF20131006,KS1307,  4012,  1,     36,  21995,2,20131012,0406, 40.0235, 154.3292, 5526,     10.6,  22.4904,  34.2281,2,  34.2275,2,    219.8,2,     2.20,2,     0.00,2,     0.00,2,     0.03,2,   1965.2,2,   2260.8,2,   8.0440,2,    25.00,      617
  49UF20131006,KS1307,  4012,  1,     35,  22087,2,20131012,0406, 40.0235, 154.3292, 5526,     25.6,  21.9483,  34.2908,2,-999.0000,9,    221.4,6,     2.38,6,     0.01,6,     0.00,6,     0.03,6,   1972.3,2,   2263.2,2,   8.0386,2,    25.00,      616
  49UF20131006,KS1307,  4012,  1,     34,  21971,2,20131012,0406, 40.0235, 154.3292, 5526,     50.9,  20.9228,  34.4252,2,  34.4588,4,    214.1,2,     3.63,2,     1.17,2,     0.16,2,     0.14,2,   2000.7,2,   2271.5,2,   8.0023,2,    25.00,      612
  49UF20131006,KS1307,  4012,  1,     33,  21992,2,20131012,0406, 40.0235, 154.3292, 5526,     75.6,  16.7392,  34.6077,2,-999.0000,9,    180.3,2,    10.27,2,     8.72,2,     0.02,2,     0.59,2,   2063.3,2,   2279.9,2,   7.8940,2,    25.00,      611
  49UF20131006,KS1307,  4012,  1,     32,  21991,2,20131012,0406, 40.0235, 154.3292, 5526,    100.2,  15.7287,  34.5758,2,  34.5769,2,    178.8,2,    12.36,2,    10.12,2,     0.01,2,     0.69,2,   2074.7,2,   2279.1,2,   7.8699,2,    25.00,      610
  49UF20131006,KS1307,  4012,  1,     31,  21990,2,20131012,0406, 40.0235, 154.3292, 5526,    125.5,  14.7635,  34.5196,2,-999.0000,9,    175.0,2,    15.47,2,    11.91,2,     0.01,2,     0.82,2,   2088.9,2,   2279.1,2,   7.8439,2,    25.00,      609
  49UF20131006,KS1307,  4012,  1,     30,  21989,2,20131012,0406, 40.0235, 154.3292, 5526,    150.6,  13.6523,  34.4647,2,-999.0000,9,    176.4,2,    17.55,2,    13.28,2,     0.01,2,     0.92,2,   2099.8,2,   2278.0,2,   7.8150,2,    25.00,      608
  49UF20131006,KS1307,  4012,  1,     29,  21988,2,20131012,0406, 40.0235, 154.3292, 5526,    201.8,  11.5368,  34.3174,2,  34.3184,2,    177.0,2,    24.48,2,    16.40,2,     0.01,2,     1.15,2,   2121.7,2,   2278.8,2,   7.7659,2,    25.00,      605
  49UF20131006,KS1307,  4012,  1,     28,  21987,2,20131012,0406, 40.0235, 154.3292, 5526,    252.4,   9.5129,  34.1527,2,-999.0000,9,    184.8,2,    30.13,2,    18.62,2,     0.01,2,     1.33,2,   2139.3,2,   2277.0,2,   7.7151,2,    25.00,      603
  49UF20131006,KS1307,  4012,  1,     27,  21986,2,20131012,0406, 40.0235, 154.3292, 5526,    302.7,   7.2440,  33.9297,2,  33.9353,2,    237.3,2,    30.47,2,    18.78,2,     0.01,2,     1.37,2,   2136.6,2,   2268.9,2,   7.7095,2,    25.00,      601
  49UF20131006,KS1307,  4012,  1,     26,  21985,2,20131012,0406, 40.0235, 154.3292, 5526,    404.0,   5.5631,  33.8694,2,  33.8729,2,    177.6,2,    52.54,2,    27.08,2,     0.00,2,     1.98,2,   2198.4,6,   2279.5,6,   7.5751,2,    25.00,      558
  49UF20131006,KS1307,  4012,  1,     25,  21984,2,20131012,0406, 40.0235, 154.3292, 5526,    504.8,   4.9840,  33.9979,2,  33.9982,6,    114.7,2,    75.54,2,    33.96,2,     0.00,2,     2.45,2,   2260.5,2,   2301.5,2,   7.4669,6,    25.00,      555
  49UF20131006,KS1307,  4012,  1,     24,  21983,2,20131012,0406, 40.0235, 154.3292, 5526,    606.4,   4.5896,  34.1201,2,  34.1193,2,     78.4,6,    92.42,6,    37.56,6,     0.00,6,     2.69,6,   2296.0,2,   2320.3,2,   7.4129,2,    25.00,      552
  49UF20131006,KS1307,  4012,  1,     23,  22095,2,20131012,0406, 40.0235, 154.3292, 5526,    707.2,   4.0747,  34.1979,2,  34.1957,2,     54.8,2,   107.38,2,    40.02,2,     0.00,2,     2.87,2,   2324.1,2,   2336.6,2,   7.3721,2,    25.00,      549
  49UF20131006,KS1307,  4012,  1,     22,  21981,2,20131012,0406, 40.0235, 154.3292, 5526,    808.5,   3.7206,  34.2745,2,  34.2749,2,     45.6,2,   118.97,2,    41.14,2,     0.00,2,     2.95,2,   2340.2,2,   2352.3,2,   7.3643,2,    25.00,      546
  49UF20131006,KS1307,  4012,  1,     21,  21980,2,20131012,0406, 40.0235, 154.3292, 5526,    911.2,   3.4430,  34.3285,2,  34.3301,2,     42.5,2,   126.81,2,    41.71,2,     0.00,2,     2.98,2,   2349.8,2,   2362.9,2,   7.3647,2,    25.00,      543
  49UF20131006,KS1307,  4012,  1,     20,  21979,2,20131012,0406, 40.0235, 154.3292, 5526,   1011.5,   3.1800,  34.3722,2,  34.3706,2,     40.8,2,   134.36,2,    42.17,2,     0.00,2,     3.02,2,   2347.4,4,   2379.9,3,   7.3617,2,    25.00,      540
  49UF20131006,KS1307,  4012,  1,     19,  21978,2,20131012,0406, 40.0235, 154.3292, 5526,   1214.1,   2.7709,  34.4330,2,  34.4326,2,     37.4,2,   146.45,2,    42.81,2,     0.00,2,     3.05,2,   2377.7,2,   2385.2,2,   7.3601,2,    25.00,      535
  49UF20131006,KS1307,  4012,  1,     18,  21977,2,20131012,0406, 40.0235, 154.3292, 5526,   1416.5,   2.4862,  34.4824,2,  34.4819,2,     40.3,2,   154.96,2,    42.89,2,     0.00,2,     3.04,2,   2382.6,6,   2394.1,6,   7.3652,2,    25.00,      530
  49UF20131006,KS1307,  4012,  1,     17,  23679,2,20131012,0406, 40.0235, 154.3292, 5526,   1619.3,   2.2706,  34.5247,2,  34.5239,2,     48.7,2,   159.89,2,    42.50,2,     0.00,2,     3.01,2,   2383.7,2,   2400.8,2,   7.3836,6,    25.00,      525
  49UF20131006,KS1307,  4012,  1,     16,  21975,2,20131012,0406, 40.0235, 154.3292, 5526,   1821.4,   2.1121,  34.5589,2,  34.5582,6,     58.0,2,   162.75,2,    42.09,2,     0.00,2,     2.97,2,   2383.2,2,   2406.6,2,   7.4034,2,    25.00,      521
  49UF20131006,KS1307,  4012,  1,     15,  21974,2,20131012,0406, 40.0235, 154.3292, 5526,   2025.4,   1.9812,  34.5858,2,  34.5860,2,     69.8,2,   163.81,2,    41.34,2,     0.00,2,     2.91,2,   2372.8,2,   2411.0,2,   7.4261,2,    25.00,      516
  49UF20131006,KS1307,  4012,  1,     14,  21973,2,20131012,0406, 40.0235, 154.3292, 5526,   2279.9,   1.8419,  34.6117,2,  34.6113,2,     92.0,4,   163.40,2,    40.42,2,     0.00,2,     2.84,2,   2371.3,2,   2415.0,2,   7.4552,2,    25.00,      511
  49UF20131006,KS1307,  4012,  1,     13,  21972,2,20131012,0406, 40.0235, 154.3292, 5526,   2533.0,   1.7268,  34.6326,2,  34.6324,2,     99.8,2,   161.59,2,    39.57,2,     0.00,2,     2.77,2,   2362.8,2,   2416.3,2,   7.4848,2,    25.00,      507
  49UF20131006,KS1307,  4012,  1,     12,  21994,2,20131012,0406, 40.0235, 154.3292, 5526,   2789.3,   1.6472,  34.6466,2,  34.6461,6,    110.7,6,   160.35,6,    38.74,6,     0.00,6,     2.72,6,   2355.1,2,   2418.3,2,   7.5057,2,    25.00,      502
  49UF20131006,KS1307,  4012,  1,     11,  21970,2,20131012,0406, 40.0235, 154.3292, 5526,   3043.2,   1.5804,  34.6584,2,  34.6585,6,    122.6,2,   157.93,2,    37.99,2,     0.00,2,     2.65,2,   2348.2,2,   2418.9,2,   7.5269,2,    25.00,      457
  49UF20131006,KS1307,  4012,  1,     10,  21969,2,20131012,0406, 40.0235, 154.3292, 5526,   3300.0,   1.5312,  34.6674,2,  34.6671,2,    132.8,2,   155.30,2,    37.40,2,     0.00,2,     2.61,2,   2341.2,2,   2418.6,2,   7.5436,2,    25.00,      452
  49UF20131006,KS1307,  4012,  1,      9,  21968,2,20131012,0406, 40.0235, 154.3292, 5526,   3556.0,   1.5014,  34.6735,2,  34.6727,2,    138.3,2,   153.98,2,    36.89,2,     0.00,2,     2.57,2,   2337.3,2,   2418.1,2,   7.5574,2,    25.00,      447
  49UF20131006,KS1307,  4012,  1,      8,  21982,2,20131012,0406, 40.0235, 154.3292, 5526,   3812.0,   1.4828,  34.6782,2,  34.6786,2,    144.8,2,   152.64,2,    36.45,2,     0.00,2,     2.54,2,   2333.6,2,   2418.4,2,   7.5673,2,    25.00,      442
  49UF20131006,KS1307,  4012,  1,      7,  21966,2,20131012,0406, 40.0235, 154.3292, 5526,   4069.4,   1.4774,  34.6818,2,  34.6816,2,    149.1,2,   151.49,2,    36.21,2,     0.00,2,     2.51,2,   2329.5,6,   2417.4,6,   7.5716,2,    25.00,      437
  49UF20131006,KS1307,  4012,  1,      6,  21965,2,20131012,0406, 40.0235, 154.3292, 5526,   4325.0,   1.4762,  34.6848,2,  34.6851,2,    152.5,2,   150.27,2,    36.00,2,     0.00,2,     2.50,2,   2327.6,2,   2416.4,2,   7.5786,6,    25.00,      432
  49UF20131006,KS1307,  4012,  1,      5,  21964,2,20131012,0406, 40.0235, 154.3292, 5526,   4584.5,   1.4853,  34.6868,2,  34.6867,6,    155.6,2,   149.77,2,    35.79,2,     0.00,2,     2.48,2,   2324.3,2,   2415.3,2,   7.5823,2,    25.00,      427
  49UF20131006,KS1307,  4012,  1,      4,  21963,2,20131012,0406, 40.0235, 154.3292, 5526,   4840.0,   1.5016,  34.6884,2,  34.6885,2,    157.6,6,   149.15,6,    35.59,6,     0.00,6,     2.48,6,   2320.9,2,   2414.7,2,   7.5845,2,    25.00,      422
  49UF20131006,KS1307,  4012,  1,      3,  22079,2,20131012,0406, 40.0235, 154.3292, 5526,   5098.9,   1.5231,  34.6894,2,  34.6886,2,    158.1,2,   148.91,2,    35.46,2,     0.00,2,     2.47,2,   2322.4,2,   2414.4,2,   7.5878,2,    25.00,      417
  49UF20131006,KS1307,  4012,  1,      2,  21961,2,20131012,0406, 40.0235, 154.3292, 5526,   5614.8,   1.5718,  34.6912,2,  34.6914,2,    162.5,2,   146.49,2,    35.37,2,     0.00,2,     2.45,2,   2320.0,2,   2412.5,2,   7.5942,2,    25.00,      408
  49UF20131006,KS1307,  4012,  1,      1,  21960,2,20131012,0406, 40.0235, 154.3292, 5526,   5648.8,   1.5765,  34.6911,2,  34.6913,2,    162.0,2,   146.51,2,    35.32,2,     0.00,2,     2.45,2,   2317.9,2,   2413.0,2,   7.5940,2,    25.00,      406
  49UF20131006,KS1307,  4013,  1,     99,     99,2,20131013,0126, 40.0037, 159.6630, 5493,      0.0,  18.3524,  33.7256,2,  33.7086,4,    239.5,2,     4.28,2,     0.02,2,     0.00,2,     0.12,2,   1989.8,2,   2247.8,2,   7.9962,2,    25.00,      325
  49UF20131006,KS1307,  4013,  1,     36,  21995,2,20131013,0126, 40.0037, 159.6630, 5493,     10.7,  18.3580,  33.7250,2,  33.7261,2,    240.2,2,     4.20,2,     0.02,2,     0.00,2,     0.11,2,   1988.2,2,   2249.6,2,   7.9988,2,    25.00,      343
  49UF20131006,KS1307,  4013,  1,     35,  22087,2,20131013,0126, 40.0037, 159.6630, 5493,     26.5,  18.0647,  33.7338,2,-999.0000,9,    241.3,2,     4.27,2,     0.06,2,     0.00,2,     0.11,2,   1989.2,2,   2250.7,2,   7.9964,2,    25.00,      342
  49UF20131006,KS1307,  4013,  1,     34,  21971,2,20131013,0126, 40.0037, 159.6630, 5493,     51.9,  12.8040,  34.2703,2,  34.2704,2,    217.4,2,    14.80,2,    10.50,2,     0.31,2,     0.78,2,   2084.8,2,   2273.9,2,   7.8474,2,    25.00,      341
  49UF20131006,KS1307,  4013,  1,     33,  21992,2,20131013,0126, 40.0037, 159.6630, 5493,     75.8,  10.4095,  34.0836,2,-999.0000,9,    217.0,2,    19.13,2,    14.55,2,     0.03,2,     1.06,2,   2106.7,2,   2268.6,2,   7.7827,2,    25.00,      339
  49UF20131006,KS1307,  4013,  1,     32,  21991,2,20131013,0126, 40.0037, 159.6630, 5493,    100.6,   9.3794,  34.0134,2,  34.0091,2,    236.8,2,    20.51,2,    15.05,2,     0.03,2,     1.11,2,   2110.2,2,   2264.6,2,   7.7721,2,    25.00,      336
  49UF20131006,KS1307,  4013,  1,     31,  21990,2,20131013,0126, 40.0037, 159.6630, 5493,    127.1,   9.1242,  34.0669,2,-999.0000,9,    233.0,6,    23.16,6,    15.80,6,     0.02,6,     1.15,6,   2114.9,2,   2268.1,2,   7.7604,2,    25.00,      334
  49UF20131006,KS1307,  4013,  1,     30,  21989,2,20131013,0126, 40.0037, 159.6630, 5493,    151.2,   8.1978,  33.9804,2,  33.9815,2,    241.5,2,    24.69,2,    16.63,2,     0.01,2,     1.21,2,   2119.8,2,   2265.7,2,   7.7455,2,    25.00,      333
  49UF20131006,KS1307,  4013,  1,     29,  21988,4,20131013,0126, 40.0037, 159.6630, 5493,    203.9,   6.6733,  33.8664,2,-999.0000,9,   -999.0,9,  -999.00,9,  -999.00,9,  -999.00,9,  -999.00,9,   -999.0,9,   -999.0,9,-999.0000,9,  -999.00,      331
  49UF20131006,KS1307,  4013,  1,     28,  21987,2,20131013,0126, 40.0037, 159.6630, 5493,    253.3,   6.1414,  33.8335,2,  33.8339,2,    248.0,2,    33.80,2,    20.12,2,     0.01,2,     1.49,2,   2146.3,2,   2264.2,2,   7.6908,2,    25.00,      330
  49UF20131006,KS1307,  4013,  1,     27,  21986,2,20131013,0126, 40.0037, 159.6630, 5493,    302.5,   5.6251,  33.8307,2,  33.8326,2,    204.8,2,    45.64,2,    24.77,2,     0.00,2,     1.82,2,   2180.4,2,   2273.6,2,   7.6135,2,    25.00,      328
  49UF20131006,KS1307,  4013,  1,     26,  21985,2,20131013,0126, 40.0037, 159.6630, 5493,    405.0,   4.5489,  33.8888,2,  33.9014,2,    130.5,2,    71.48,2,    33.51,2,     0.00,2,     2.42,2,   2251.1,2,   2292.4,2,   7.4681,2,    25.00,      326
  49UF20131006,KS1307,  4013,  1,     25,  21984,2,20131013,0126, 40.0037, 159.6630, 5493,    504.0,   4.3938,  34.0302,2,  34.0309,2,     84.7,2,    88.81,2,    37.83,2,     0.00,2,     2.71,2,   2291.0,6,   2311.1,6,   7.3987,2,    25.00,      323
  49UF20131006,KS1307,  4013,  1,     24,  21983,2,20131013,0126, 40.0037, 159.6630, 5493,    608.2,   4.1322,  34.1434,2,-999.0000,9,     60.8,2,   102.32,2,    39.81,2,     0.00,2,     2.84,2,   2315.1,2,   2326.0,2,   7.3716,6,    25.00,      320
  49UF20131006,KS1307,  4013,  1,     23,  22095,2,20131013,0126, 40.0037, 159.6630, 5493,    707.7,   3.9031,  34.2324,2,  34.2308,2,     49.7,2,   112.74,2,    40.70,2,     0.00,2,     2.91,2,   2334.6,2,   2346.0,2,   7.3643,2,    25.00,      318
  49UF20131006,KS1307,  4013,  1,     22,  21981,2,20131013,0126, 40.0037, 159.6630, 5493,    808.5,   3.4728,  34.2739,2,-999.0000,9,     39.7,2,   124.89,2,    42.19,2,     0.00,2,     3.00,2,   2351.2,2,   2355.6,2,   7.3424,2,    25.00,      316
  49UF20131006,KS1307,  4013,  1,     21,  21980,2,20131013,0126, 40.0037, 159.6630, 5493,    909.5,   3.2703,  34.3276,2,  34.3282,6,     37.2,2,   131.85,2,    42.53,2,     0.00,2,     3.03,2,   2359.9,2,   2364.4,2,   7.3449,2,    25.00,      313
  49UF20131006,KS1307,  4013,  1,     20,  21979,2,20131013,0126, 40.0037, 159.6630, 5493,   1012.0,   3.0556,  34.3725,2,  34.3734,2,     37.4,6,   138.32,6,    42.79,6,     0.00,6,     3.04,6,   2366.5,2,   2372.7,2,   7.3469,2,    25.00,      310
  49UF20131006,KS1307,  4013,  1,     19,  21978,2,20131013,0126, 40.0037, 159.6630, 5493,   1214.2,   2.6610,  34.4346,2,  34.4408,4,     36.7,2,   150.43,2,    43.30,2,     0.00,2,     3.06,2,   2379.8,2,   2386.6,2,   7.3516,2,    25.00,      306
  49UF20131006,KS1307,  4013,  1,     18,  21977,2,20131013,0126, 40.0037, 159.6630, 5493,   1416.3,   2.4344,  34.4853,2,  34.4858,2,     40.1,2,   156.95,2,    43.24,2,     0.00,2,     3.06,2,   2385.0,2,   2394.0,2,   7.3620,2,    25.00,      302
  49UF20131006,KS1307,  4013,  1,     17,  23679,2,20131013,0126, 40.0037, 159.6630, 5493,   1618.2,   2.2485,  34.5274,2,  34.5288,2,     47.5,2,   161.22,2,    42.98,2,     0.00,2,     3.01,2,   2387.7,6,   2403.9,6,   7.3804,2,    25.00,      257
  49UF20131006,KS1307,  4013,  1,     16,  21975,2,20131013,0126, 40.0037, 159.6630, 5493,   1821.3,   2.0855,  34.5619,2,  34.5620,2,     58.3,2,   163.81,2,    42.17,2,     0.00,2,     2.97,2,   2384.5,2,   2410.6,2,   7.4029,6,    25.00,      253
  49UF20131006,KS1307,  4013,  1,     15,  21974,2,20131013,0126, 40.0037, 159.6630, 5493,   2026.4,   1.9486,  34.5899,2,  34.5893,2,     70.0,2,   164.71,2,    41.52,2,     0.00,2,     2.91,2,   2376.7,2,   2411.3,2,   7.4286,2,    25.00,      249
  49UF20131006,KS1307,  4013,  1,     14,  21973,2,20131013,0126, 40.0037, 159.6630, 5493,   2284.6,   1.7977,  34.6184,2,  34.6195,6,     87.8,2,   164.19,2,    40.43,2,     0.00,2,     2.83,2,   2368.6,2,   2415.6,2,   7.4624,2,    25.00,      243
  49UF20131006,KS1307,  4013,  1,     13,  21972,2,20131013,0126, 40.0037, 159.6630, 5493,   2537.2,   1.6980,  34.6367,2,  34.6380,2,    101.9,2,   162.59,2,    39.61,2,     0.00,2,     2.77,2,   2358.2,2,   2417.1,2,   7.4889,2,    25.00,      237
  49UF20131006,KS1307,  4013,  1,     12,  21994,2,20131013,0126, 40.0037, 159.6630, 5493,   2792.5,   1.6135,  34.6512,2,  34.6513,2,    114.7,2,   160.50,2,    38.79,2,     0.00,2,     2.71,2,   2355.5,2,   2419.9,2,   7.5134,2,    25.00,      230
  49UF20131006,KS1307,  4013,  1,     11,  21970,2,20131013,0126, 40.0037, 159.6630, 5493,   3041.8,   1.5587,  34.6610,2,  34.6607,2,    125.0,6,   158.20,6,    38.11,6,     0.00,6,     2.65,6,   2348.4,2,   2419.0,2,   7.5292,2,    25.00,      225
  49UF20131006,KS1307,  4013,  1,     10,  21969,2,20131013,0126, 40.0037, 159.6630, 5493,   3301.6,   1.5137,  34.6691,2,  34.6718,4,    133.5,2,   155.99,2,    37.54,2,     0.00,2,     2.61,2,   2340.8,2,   2420.3,2,   7.5477,2,    25.00,      219
  49UF20131006,KS1307,  4013,  1,      9,  21968,2,20131013,0126, 40.0037, 159.6630, 5493,   3562.4,   1.4876,  34.6750,2,  34.6755,6,    140.3,2,   154.68,2,    37.20,2,     0.00,2,     2.57,2,   2335.0,2,   2420.0,2,   7.5592,2,    25.00,      213
  49UF20131006,KS1307,  4013,  1,      8,  21982,2,20131013,0126, 40.0037, 159.6630, 5493,   3811.1,   1.4691,  34.6798,2,  34.6816,4,    146.2,2,   152.71,2,    36.73,2,     0.00,2,     2.54,2,   2328.8,2,   2416.4,2,   7.5705,2,    25.00,      207
  49UF20131006,KS1307,  4013,  1,      7,  21966,2,20131013,0126, 40.0037, 159.6630, 5493,   4072.1,   1.4661,  34.6829,2,  34.6839,2,    150.1,2,   151.77,2,    36.48,2,     0.00,2,     2.52,2,   2327.9,2,   2416.5,2,   7.5771,2,    25.00,      201
  49UF20131006,KS1307,  4013,  1,      6,  21965,2,20131013,0126, 40.0037, 159.6630, 5493,   4327.3,   1.4699,  34.6855,2,  34.6849,2,    153.1,2,   151.45,2,    36.12,2,     0.00,2,     2.52,2,   2326.7,6,   2416.6,6,   7.5796,2,    25.00,      155
  49UF20131006,KS1307,  4013,  1,      5,  21964,2,20131013,0126, 40.0037, 159.6630, 5493,   4584.7,   1.4822,  34.6874,2,  34.6862,2,    155.2,2,   150.78,2,    35.95,2,     0.00,2,     2.49,2,   2324.6,2,   2417.4,2,   7.5847,6,    25.00,      150
  49UF20131006,KS1307,  4013,  1,      4,  21963,2,20131013,0126, 40.0037, 159.6630, 5493,   4842.3,   1.5007,  34.6886,2,  34.6898,2,    157.2,2,   150.59,2,    35.95,2,     0.00,2,     2.48,2,   2322.2,2,   2414.1,2,   7.5882,2,    25.00,      144
  49UF20131006,KS1307,  4013,  1,      3,  22079,4,20131013,0126, 40.0037, 159.6630, 5493,   5099.1,   1.5244,  34.6895,2,  34.6728,4,    137.4,4,   154.64,4,    37.06,4,     0.00,4,     2.58,4,   2340.2,4,   2415.7,4,   7.5553,4,    25.00,      138
  49UF20131006,KS1307,  4013,  1,      2,  21961,2,20131013,0126, 40.0037, 159.6630, 5493,   5357.4,   1.5499,  34.6904,2,  34.6909,2,    159.2,2,   150.65,2,    35.83,2,     0.00,2,     2.47,2,   2323.7,2,   2416.3,2,   7.5910,2,    25.00,      132
  49UF20131006,KS1307,  4013,  1,      1,  21960,2,20131013,0126, 40.0037, 159.6630, 5493,   5600.1,   1.5720,  34.6912,2,  34.6930,4,    161.5,6,   147.47,6,    35.63,6,     0.00,6,     2.46,6,   2322.7,2,   2413.5,2,   7.5920,2,    25.00,      126