BOTTLE,20191021PRINUNIVRMK
# 08/29/2019 Initialized README file  
# Data source:  Masao Ishii 2018/11/30 
# SHIP: R/V Keifu Maru II 
# Cruise: ks201307 
# Region: NW Pacific Ocean
#Sta along 40N 148E to 165E
# EXPOCODE: 49UF20131006 
# DATES: 20131006-20131022 
# Chief Scientist: Takashi Miyao 
# 14 stations with 24 place Rosette 
# CTD: Who - Kazuhiro Nemoto; Status - final 
# 	Includes: CTDSAL 
# SALNTY: Who - Kazuhiro Nemoto; Status - final 
# 	Notes: 	 
# Nutrients: Who - Kazuhiro Nemoto; Status - final 
# 	Includes: nitrate, nitrite, silicate, phosphate 
# 	Nitrite and NO3+NO2 reported. Separated by subtraction 
# OXYGEN: Who - Kazuhiro Nemoto; Status - final 
# 	Notes: 
# TCARBN: Who - Kazuhiro Nemoto; Status - final 
# 	Notes:  
# ALKALI: Who - Kazuhiro Nemoto; Status - final 
# 	Notes:  
# CFC: Who - ; Status - 
# 	Notes:  
# These data should be cited as: Miyao, Takashi; Nemoto, Kazuhiro; Ishii, Masao (2019). Dissolved inorganic carbon (DIC), total alkalinity, pH on total scale, temperature, salinity, oxygen, nutrients and other measurements collected from discrete samples and profile observations during the R/V Keifu Maru II cruise ks201307 (EXPOCODE 49UF20131006) in the North Pacific Ocean from 2013-10-06 to 2013-10-22 (NCEI Accession 0191716). [indicate subset used]. NOAA National Centers for Environmental Information. Dataset. https://doi.org/10.25921/xmtn-q847.   
# References that have used data from this cruise: 
EXPOCODE,SECT_ID,STNNBR,CASTNO,SAMPNO,BTLNBR,BTLNBR_FLAG_W,DATE,TIME,LATITUDE,LONGITUDE,DEPTH,CTDPRS,CTDTMP,CTDSAL,CTDSAL_FLAG_W,SALNTY,SALNTY_FLAG_W,OXYGEN,OXYGEN_FLAG_W,SILCAT,SILCAT_FLAG_W,NITRAT,NITRAT_FLAG_W,NITRIT,NITRIT_FLAG_W,PHSPHT,PHSPHT_FLAG_W,TCARBN,TCARBN_FLAG_W,ALKALI,ALKALI_FLAG_W,PH_TOT,PH_TOT_FLAG_W,PH_TMP,BTL_TIME
,,,,,,,,,,,METERS,DBAR,ITS-90,PSS-78,,PSS-78,,UMOL/KG,,UMOL/KG,,UMOL/KG,,UMOL/KG,,UMOL/KG,,UMOL/KG,,UMOL/KG,,,,DEG C,
  49UF20131006,KS1307,  4001,  1,     99,     99,2,20131008,1157, 39.9937, 142.3368,  557,      0.0,  19.7151,  33.5137,2,-999.0000,9,    234.9,2,     2.96,2,     0.00,2,     0.00,2,     0.05,2,   -999.0,9,   -999.0,9,-999.0000,9,  -999.00,     1200
  49UF20131006,KS1307,  4001,  1,     36,  21995,2,20131008,1157, 39.9937, 142.3368,  557,     10.4,  19.7065,  33.5150,2,-999.0000,9,    234.2,2,     2.87,2,     0.00,2,     0.00,2,     0.04,2,   -999.0,9,   -999.0,9,-999.0000,9,  -999.00,     1227
  49UF20131006,KS1307,  4001,  1,     35,  22087,2,20131008,1157, 39.9937, 142.3368,  557,     10.4,  19.7065,  33.5150,2,-999.0000,9,    234.1,2,     2.94,2,     0.00,2,     0.00,2,     0.04,2,   -999.0,9,   -999.0,9,-999.0000,9,  -999.00,     1227
  49UF20131006,KS1307,  4001,  1,     34,  21971,2,20131008,1157, 39.9937, 142.3368,  557,     26.2,  16.8459,  33.6004,2,  33.6318,4,    224.7,2,     6.29,2,     2.43,2,     0.41,2,     0.32,2,   -999.0,9,   -999.0,9,-999.0000,9,  -999.00,     1226
  49UF20131006,KS1307,  4001,  1,     27,  21986,2,20131008,1157, 39.9937, 142.3368,  557,     51.6,  11.3256,  33.4822,2,-999.0000,9,    245.2,2,    17.85,2,     8.33,2,     0.37,2,     0.86,2,   -999.0,9,   -999.0,9,-999.0000,9,  -999.00,     1222
  49UF20131006,KS1307,  4001,  1,     26,  21985,2,20131008,1157, 39.9937, 142.3368,  557,     77.4,   9.3490,  33.8519,2,-999.0000,9,    242.6,2,    17.28,2,    10.95,2,     0.04,2,     0.92,2,   -999.0,9,   -999.0,9,-999.0000,9,  -999.00,     1220
  49UF20131006,KS1307,  4001,  1,     25,  21984,2,20131008,1157, 39.9937, 142.3368,  557,    102.5,   5.3611,  33.5141,2,  33.4999,2,    260.9,2,    28.83,2,    17.76,2,     0.02,2,     1.42,2,   -999.0,9,   -999.0,9,-999.0000,9,  -999.00,     1218
  49UF20131006,KS1307,  4001,  1,     21,  21980,4,20131008,1157, 39.9937, 142.3368,  557,    126.9,   3.0409,  33.2908,2,-999.0000,9,    247.0,4,    21.51,4,    12.32,4,     0.04,4,     1.05,4,   -999.0,9,   -999.0,9,-999.0000,9,  -999.00,     1216
  49UF20131006,KS1307,  4001,  1,     20,  21979,2,20131008,1157, 39.9937, 142.3368,  557,    153.3,   3.2158,  33.3709,2,-999.0000,9,    262.8,2,    41.64,2,    23.38,2,     0.02,2,     1.83,2,   -999.0,9,   -999.0,9,-999.0000,9,  -999.00,     1214
  49UF20131006,KS1307,  4001,  1,     19,  21978,2,20131008,1157, 39.9937, 142.3368,  557,    204.4,   3.7111,  33.5599,2,  33.5630,2,    229.2,2,    48.26,2,    25.75,2,     0.01,2,     1.97,2,   -999.0,9,   -999.0,9,-999.0000,9,  -999.00,     1212
  49UF20131006,KS1307,  4001,  1,     15,  21974,2,20131008,1157, 39.9937, 142.3368,  557,    255.7,   2.3948,  33.5472,2,-999.0000,9,    178.4,2,    71.85,2,    33.46,2,     0.01,2,     2.52,2,   -999.0,9,   -999.0,9,-999.0000,9,  -999.00,     1209
  49UF20131006,KS1307,  4001,  1,     14,  21973,2,20131008,1157, 39.9937, 142.3368,  557,    305.6,   2.8840,  33.6866,2,  33.6883,2,    144.5,2,    78.40,2,    35.20,2,     0.00,2,     2.61,2,   -999.0,9,   -999.0,9,-999.0000,9,  -999.00,     1206
  49UF20131006,KS1307,  4001,  1,     13,  21972,2,20131008,1157, 39.9937, 142.3368,  557,    408.1,   3.2822,  33.9028,2,  33.8976,2,     81.2,2,    97.85,2,    39.61,2,     0.00,2,     2.90,2,   -999.0,9,   -999.0,9,-999.0000,9,  -999.00,     1203
  49UF20131006,KS1307,  4001,  1,      6,  21965,2,20131008,1157, 39.9937, 142.3368,  557,    507.8,   3.4404,  34.0715,2,  34.0700,2,     46.5,2,   113.23,2,    41.60,2,     0.02,2,     3.03,2,   -999.0,9,   -999.0,9,-999.0000,9,  -999.00,     1159
  49UF20131006,KS1307,  4001,  1,      5,  21964,2,20131008,1157, 39.9937, 142.3368,  557,    507.8,   3.4404,  34.0715,2,  34.0699,2,     46.6,2,   113.05,2,    41.74,2,     0.02,2,     3.03,2,   -999.0,9,   -999.0,9,-999.0000,9,  -999.00,     1159
  49UF20131006,KS1307,  4001,  1,      4,  21963,3,20131008,1157, 39.9937, 142.3368,  557,    536.4,   3.4358,  34.0932,2,  34.0946,2,     44.0,6,   115.56,6,    41.80,6,     0.02,6,     3.04,6,   -999.0,9,   -999.0,9,-999.0000,9,  -999.00,     1157
  49UF20131006,KS1307,  4002,  1,     99,     99,2,20131008,1734, 40.0068, 143.0032, 1300,      0.0,  22.5806,  33.9288,2,-999.0000,9,    219.4,2,     2.65,2,     0.00,2,     0.01,2,     0.05,2,   -999.0,9,   -999.0,9,-999.0000,9,  -999.00,     1751
  49UF20131006,KS1307,  4002,  1,     36,  21995,2,20131008,1734, 40.0068, 143.0032, 1300,     11.2,  22.5885,  33.9273,2,  33.9277,2,    219.0,2,     2.63,2,     0.00,2,     0.00,2,     0.05,2,   -999.0,9,   -999.0,9,-999.0000,9,  -999.00,     1816
  49UF20131006,KS1307,  4002,  1,     35,  22087,2,20131008,1734, 40.0068, 143.0032, 1300,     25.9,  20.0953,  33.9807,2,-999.0000,9,    220.8,2,     5.73,2,     2.36,2,     0.61,2,     0.28,2,   -999.0,9,   -999.0,9,-999.0000,9,  -999.00,     1815
  49UF20131006,KS1307,  4002,  1,     34,  21971,2,20131008,1734, 40.0068, 143.0032, 1300,     25.9,  20.0953,  33.9807,2,-999.0000,9,    219.0,2,     5.36,2,     2.01,2,     0.60,2,     0.25,2,   -999.0,9,   -999.0,9,-999.0000,9,  -999.00,     1815
  49UF20131006,KS1307,  4002,  1,     33,  21992,2,20131008,1734, 40.0068, 143.0032, 1300,     51.6,  14.1604,  34.2433,2,  34.2446,2,    202.7,2,    13.72,2,     9.60,2,     0.03,2,     0.73,2,   -999.0,9,   -999.0,9,-999.0000,9,  -999.00,     1811
  49UF20131006,KS1307,  4002,  1,     32,  21991,2,20131008,1734, 40.0068, 143.0032, 1300,     76.0,  12.2439,  34.2699,2,  34.2777,2,    187.0,2,    21.16,2,    14.01,2,     0.01,2,     1.02,2,   -999.0,9,   -999.0,9,-999.0000,9,  -999.00,     1809
  49UF20131006,KS1307,  4002,  1,     31,  21990,2,20131008,1734, 40.0068, 143.0032, 1300,    100.9,  10.4839,  34.1984,2,-999.0000,9,    182.7,2,    27.29,2,    17.16,2,     0.01,2,     1.25,2,   -999.0,9,   -999.0,9,-999.0000,9,  -999.00,     1808
  49UF20131006,KS1307,  4002,  1,     27,  21986,2,20131008,1734, 40.0068, 143.0032, 1300,    126.7,   9.6007,  34.1907,2,  34.1364,2,    178.4,2,    33.78,2,    19.91,2,     0.01,2,     1.45,2,   -999.0,9,   -999.0,9,-999.0000,9,  -999.00,     1807
  49UF20131006,KS1307,  4002,  1,     26,  21985,2,20131008,1734, 40.0068, 143.0032, 1300,    152.0,   5.8997,  33.6368,2,  33.6413,2,    246.0,6,    28.36,6,    18.22,6,     0.01,6,     1.42,6,   -999.0,9,   -999.0,9,-999.0000,9,  -999.00,     1806
  49UF20131006,KS1307,  4002,  1,     25,  21984,2,20131008,1734, 40.0068, 143.0032, 1300,    202.2,   6.2765,  33.8795,2,-999.0000,9,    195.7,2,    43.98,2,    23.63,2,     0.01,2,     1.76,2,   -999.0,9,   -999.0,9,-999.0000,9,  -999.00,     1804
  49UF20131006,KS1307,  4002,  1,     21,  21980,2,20131008,1734, 40.0068, 143.0032, 1300,    253.1,   3.3924,  33.6326,2,  33.6394,2,    193.6,2,    60.36,2,    29.43,2,     0.00,2,     2.22,2,   -999.0,9,   -999.0,9,-999.0000,9,  -999.00,     1802
  49UF20131006,KS1307,  4002,  1,     20,  21979,2,20131008,1734, 40.0068, 143.0032, 1300,    303.0,   2.5508,  33.5878,2,-999.0000,9,    173.0,2,    72.01,2,    33.29,2,     0.00,2,     2.50,2,   -999.0,9,   -999.0,9,-999.0000,9,  -999.00,     1800
  49UF20131006,KS1307,  4002,  1,     19,  21978,2,20131008,1734, 40.0068, 143.0032, 1300,    404.4,   3.2023,  33.8159,2,  33.8197,2,    100.0,2,    89.92,2,    38.61,2,     0.00,2,     2.80,2,   -999.0,9,   -999.0,9,-999.0000,9,  -999.00,     1757
  49UF20131006,KS1307,  4002,  1,     15,  21974,2,20131008,1734, 40.0068, 143.0032, 1300,    505.7,   4.4336,  34.1320,2,  34.1279,2,     72.8,2,    96.36,2,    38.28,2,     0.00,2,     2.76,2,   -999.0,9,   -999.0,9,-999.0000,9,  -999.00,     1754
  49UF20131006,KS1307,  4002,  1,     14,  21973,2,20131008,1734, 40.0068, 143.0032, 1300,    606.8,   4.0161,  34.2157,2,  34.2179,2,     55.0,2,   109.74,2,    40.03,2,     0.00,2,     2.88,2,   -999.0,9,   -999.0,9,-999.0000,9,  -999.00,     1751
  49UF20131006,KS1307,  4002,  1,     13,  21972,2,20131008,1734, 40.0068, 143.0032, 1300,    606.8,   4.0161,  34.2157,2,  34.2147,2,     55.0,2,   109.90,2,    40.17,2,     0.00,2,     2.88,2,   -999.0,9,   -999.0,9,-999.0000,9,  -999.00,     1751
  49UF20131006,KS1307,  4002,  1,     12,  21994,2,20131008,1734, 40.0068, 143.0032, 1300,    707.2,   3.6912,  34.2593,2,  34.2604,2,     46.3,2,   119.09,2,    41.15,2,     0.00,2,     2.96,2,   -999.0,9,   -999.0,9,-999.0000,9,  -999.00,     1748
  49UF20131006,KS1307,  4002,  1,     11,  21970,2,20131008,1734, 40.0068, 143.0032, 1300,    808.8,   3.3279,  34.3102,2,  34.3094,2,     39.7,2,   129.97,2,    41.97,2,     0.00,2,     3.02,2,   -999.0,9,   -999.0,9,-999.0000,9,  -999.00,     1746
  49UF20131006,KS1307,  4002,  1,     10,  21969,2,20131008,1734, 40.0068, 143.0032, 1300,    910.3,   3.1675,  34.3595,2,  34.3593,2,     41.1,2,   135.18,2,    42.11,2,     0.00,2,     3.02,2,   -999.0,9,   -999.0,9,-999.0000,9,  -999.00,     1743
  49UF20131006,KS1307,  4002,  1,      3,  22079,2,20131008,1734, 40.0068, 143.0032, 1300,   1011.1,   2.9895,  34.4063,2,  34.3591,4,     41.3,2,   134.82,2,    42.08,2,     0.00,2,     3.02,2,   -999.0,9,   -999.0,9,-999.0000,9,  -999.00,     1740
  49UF20131006,KS1307,  4002,  1,      2,  21961,2,20131008,1734, 40.0068, 143.0032, 1300,   1214.9,   2.5725,  34.4454,2,  34.4456,2,     38.5,6,   152.79,6,    42.81,6,     0.00,6,     3.07,6,   -999.0,9,   -999.0,9,-999.0000,9,  -999.00,     1736
  49UF20131006,KS1307,  4002,  1,      1,  21960,2,20131008,1734, 40.0068, 143.0032, 1300,   1281.0,   2.5054,  34.4675,2,  34.4677,2,     38.8,2,   157.47,2,    42.38,2,     0.02,2,     3.08,2,   -999.0,9,   -999.0,9,-999.0000,9,  -999.00,     1734
  49UF20131006,KS1307,  4003,  1,     99,     99,2,20131009,0037, 40.0015, 143.9918, 4227,      0.0,  22.4425,  33.9286,2,-999.0000,9,    221.1,2,     3.01,2,     0.04,2,     0.01,2,     0.06,2,   -999.0,9,   -999.0,9,-999.0000,9,  -999.00,      120
  49UF20131006,KS1307,  4003,  1,     36,  21995,2,20131009,0037, 40.0015, 143.9918, 4227,     11.3,  22.4448,  33.9281,2,-999.0000,9,    220.8,2,     2.97,2,    -0.01,2,     0.01,2,     0.06,2,   -999.0,9,   -999.0,9,-999.0000,9,  -999.00,      141
  49UF20131006,KS1307,  4003,  1,     35,  22087,2,20131009,0037, 40.0015, 143.9918, 4227,     25.8,  22.0549,  33.9389,2,-999.0000,9,    221.9,2,     3.03,2,     0.03,2,     0.02,2,     0.07,2,   -999.0,9,   -999.0,9,-999.0000,9,  -999.00,      139
  49UF20131006,KS1307,  4003,  1,     34,  21971,2,20131009,0037, 40.0015, 143.9918, 4227,     51.5,  17.3549,  34.4901,2,-999.0000,9,    192.3,2,     8.42,2,     6.51,2,     0.12,2,     0.48,2,   -999.0,9,   -999.0,9,-999.0000,9,  -999.00,      135
  49UF20131006,KS1307,  4003,  1,     33,  21992,2,20131009,0037, 40.0015, 143.9918, 4227,     51.5,  17.3549,  34.4901,2,-999.0000,9,    192.0,2,     8.48,2,     6.55,2,     0.11,2,     0.49,2,   -999.0,9,   -999.0,9,-999.0000,9,  -999.00,      135
  49UF20131006,KS1307,  4003,  1,     32,  21991,2,20131009,0037, 40.0015, 143.9918, 4227,     77.3,  15.3089,  34.4851,2,-999.0000,9,    185.3,2,    12.90,2,     9.88,2,     0.02,2,     0.71,2,   -999.0,9,   -999.0,9,-999.0000,9,  -999.00,      133
  49UF20131006,KS1307,  4003,  1,     31,  21990,2,20131009,0037, 40.0015, 143.9918, 4227,    102.9,  14.3188,  34.4620,2,-999.0000,9,    181.5,2,    15.88,2,    11.66,2,     0.01,2,     0.84,2,   -999.0,9,   -999.0,9,-999.0000,9,  -999.00,      132
  49UF20131006,KS1307,  4003,  1,     27,  21986,2,20131009,0037, 40.0015, 143.9918, 4227,    128.4,  13.1732,  34.4274,2,-999.0000,9,    176.0,2,    20.20,2,    13.99,2,     0.01,2,     1.00,2,   -999.0,9,   -999.0,9,-999.0000,9,  -999.00,      130
  49UF20131006,KS1307,  4003,  1,     26,  21985,2,20131009,0037, 40.0015, 143.9918, 4227,    153.6,  11.7183,  34.2814,2,-999.0000,9,    187.3,2,    21.76,2,    14.59,2,     0.01,2,     1.06,2,   -999.0,9,   -999.0,9,-999.0000,9,  -999.00,      128
  49UF20131006,KS1307,  4003,  1,     25,  21984,2,20131009,0037, 40.0015, 143.9918, 4227,    204.3,   9.3756,  34.1030,2,-999.0000,9,    200.3,6,    27.02,6,    17.03,6,     0.01,6,     1.25,6,   -999.0,9,   -999.0,9,-999.0000,9,  -999.00,      126
  49UF20131006,KS1307,  4003,  1,     21,  21980,2,20131009,0037, 40.0015, 143.9918, 4227,    255.3,   7.1214,  33.9212,2,-999.0000,9,    204.7,2,    36.82,2,    20.85,2,     0.01,2,     1.56,2,   -999.0,9,   -999.0,9,-999.0000,9,  -999.00,      124
  49UF20131006,KS1307,  4003,  1,     20,  21979,3,20131009,0037, 40.0015, 143.9918, 4227,    305.7,   5.7183,  33.8325,2,-999.0000,9,    196.3,2,    46.88,2,    24.69,2,     0.01,2,     1.85,2,   -999.0,9,   -999.0,9,-999.0000,9,  -999.00,      122
  49UF20131006,KS1307,  4003,  1,     19,  21978,2,20131009,0037, 40.0015, 143.9918, 4227,    406.3,   3.9504,  33.8096,2,-999.0000,9,    144.6,2,    72.89,2,    33.18,2,     0.01,2,     2.46,2,   -999.0,9,   -999.0,9,-999.0000,9,  -999.00,      119
  49UF20131006,KS1307,  4003,  1,     15,  21974,2,20131009,0037, 40.0015, 143.9918, 4227,    505.4,   4.2554,  33.9897,2,-999.0000,9,     98.2,2,    87.02,2,    36.58,2,     0.01,2,     2.67,2,   -999.0,9,   -999.0,9,-999.0000,9,  -999.00,      116
  49UF20131006,KS1307,  4003,  1,     14,  21973,2,20131009,0037, 40.0015, 143.9918, 4227,    608.0,   4.5786,  34.1826,2,-999.0000,9,     71.7,2,    97.60,2,    37.96,2,     0.01,2,     2.75,2,   -999.0,9,   -999.0,9,-999.0000,9,  -999.00,      113
  49UF20131006,KS1307,  4003,  1,     13,  21972,3,20131009,0037, 40.0015, 143.9918, 4227,    710.7,   3.8680,  34.2063,2,-999.0000,9,     51.3,2,   113.25,2,    40.60,2,     0.01,2,     2.93,2,   -999.0,9,   -999.0,9,-999.0000,9,  -999.00,      110
  49UF20131006,KS1307,  4003,  1,     12,  21994,2,20131009,0037, 40.0015, 143.9918, 4227,    710.7,   3.8680,  34.2063,2,-999.0000,9,     51.0,2,   112.97,2,    40.74,2,     0.01,2,     2.94,2,   -999.0,9,   -999.0,9,-999.0000,9,  -999.00,      110
  49UF20131006,KS1307,  4003,  1,     11,  21970,2,20131009,0037, 40.0015, 143.9918, 4227,    810.8,   3.5850,  34.2949,2,-999.0000,9,     45.3,2,   123.49,2,    41.44,2,     0.01,2,     2.99,2,   -999.0,9,   -999.0,9,-999.0000,9,  -999.00,      107
  49UF20131006,KS1307,  4003,  1,     10,  21969,2,20131009,0037, 40.0015, 143.9918, 4227,    911.5,   3.1159,  34.3054,2,-999.0000,9,     33.7,2,   136.45,2,    42.92,2,     0.01,2,     3.09,2,   -999.0,9,   -999.0,9,-999.0000,9,  -999.00,      104
  49UF20131006,KS1307,  4003,  1,      6,  21965,2,20131009,0037, 40.0015, 143.9918, 4227,   1014.1,   3.1155,  34.3729,2,-999.0000,9,     41.3,2,   137.32,2,    42.07,2,     0.01,2,     3.05,2,   -999.0,9,   -999.0,9,-999.0000,9,  -999.00,      100
  49UF20131006,KS1307,  4003,  1,      5,  21964,3,20131009,0037, 40.0015, 143.9918, 4227,   1216.8,   2.7287,  34.4443,2,-999.0000,9,     41.2,2,   148.22,2,    42.71,2,     0.01,2,     3.07,2,   -999.0,9,   -999.0,9,-999.0000,9,  -999.00,       56
  49UF20131006,KS1307,  4003,  1,      4,  21963,3,20131009,0037, 40.0015, 143.9918, 4227,   1418.5,   2.4445,  34.4979,2,-999.0000,9,     45.5,6,   156.30,6,    42.60,6,     0.01,6,     3.06,6,   -999.0,9,   -999.0,9,-999.0000,9,  -999.00,       51
  49UF20131006,KS1307,  4003,  1,      3,  22079,2,20131009,0037, 40.0015, 143.9918, 4227,   1622.3,   2.2709,  34.5336,2,-999.0000,9,     53.0,2,   158.73,2,    42.28,2,     0.01,2,     3.01,2,   -999.0,9,   -999.0,9,-999.0000,9,  -999.00,       46
  49UF20131006,KS1307,  4003,  1,      2,  21961,3,20131009,0037, 40.0015, 143.9918, 4227,   1825.5,   2.0956,  34.5684,2,-999.0000,9,     65.0,2,   161.70,2,    41.57,2,     0.01,2,     2.96,2,   -999.0,9,   -999.0,9,-999.0000,9,  -999.00,       42
  49UF20131006,KS1307,  4003,  1,      1,  21960,2,20131009,0037, 40.0015, 143.9918, 4227,   2037.2,   1.9366,  34.5971,2,-999.0000,9,     78.7,2,   161.73,2,    40.78,2,     0.01,2,     2.90,2,   -999.0,9,   -999.0,9,-999.0000,9,  -999.00,       37