BOTTLE,20191021PRINUNIVRMK
EXPOCODE,SECT_ID,STNNBR,CASTNO,SAMPNO,BTLNBR,BTLNBR_FLAG_W,DATE,TIME,LATITUDE,LONGITUDE,DEPTH,CTDPRS,CTDTMP,CTDSAL,CTDSAL_FLAG_W,SALNTY,SALNTY_FLAG_W,OXYGEN,OXYGEN_FLAG_W,SILCAT,SILCAT_FLAG_W,NITRAT,NITRAT_FLAG_W,NITRIT,NITRIT_FLAG_W,PHSPHT,PHSPHT_FLAG_W,TCARBN,TCARBN_FLAG_W,ALKALI,ALKALI_FLAG_W,PH_TOT,PH_TOT_FLAG_W,PH_TMP,BTL_TIME
,,,,,,,,,,,METERS,DBAR,ITS-90,PSS-78,,PSS-78,,UMOL/KG,,UMOL/KG,,UMOL/KG,,UMOL/KG,,UMOL/KG,,UMOL/KG,,UMOL/KG,,,,DEG C,
  49UF20131006,KS1307,  4008,  1,     99,     99,2,20131010,1919, 39.9895, 149.0255, 5513,      0.0,  21.8835,  34.0411,2,  34.0420,4,    219.8,2,     2.98,2,     0.06,2,     0.03,2,     0.07,2,   1968.5,2,   2252.7,2,   8.0361,2,    25.00,     2055
  49UF20131006,KS1307,  4008,  1,     36,  21995,2,20131010,1919, 39.9895, 149.0255, 5513,     12.3,  21.8922,  34.0409,2,  34.0404,2,    219.5,2,     2.96,2,     0.05,2,     0.03,2,     0.07,2,   1966.7,2,   2252.3,2,   8.0360,2,    25.00,     2120
  49UF20131006,KS1307,  4008,  1,     35,  22087,2,20131010,1919, 39.9895, 149.0255, 5513,     27.4,  21.8946,  34.0409,2,-999.0000,9,    219.0,2,     2.95,2,     0.06,2,     0.03,2,     0.07,2,   1966.2,2,   2250.5,2,   8.0349,2,    25.00,     2119
  49UF20131006,KS1307,  4008,  1,     34,  21971,2,20131010,1919, 39.9895, 149.0255, 5513,     53.2,  21.5527,  34.0584,2,  34.0662,2,    218.5,2,     3.26,2,     0.26,2,     0.16,2,     0.10,2,   1974.2,2,   2252.4,2,   8.0245,2,    25.00,     2118
  49UF20131006,KS1307,  4008,  1,     33,  21992,2,20131010,1919, 39.9895, 149.0255, 5513,     78.2,  15.6220,  34.3943,2,  34.3746,2,    195.9,2,    10.88,2,     8.33,2,     0.05,2,     0.60,2,   2062.3,2,   2270.9,2,   7.8850,2,    25.00,     2116
  49UF20131006,KS1307,  4008,  1,     32,  21991,2,20131010,1919, 39.9895, 149.0255, 5513,    102.0,  13.5822,  34.3176,2,  34.2727,4,    197.8,2,    16.23,2,    11.29,2,     0.02,2,     0.84,2,   2087.2,2,   2271.5,2,   7.8341,2,    25.00,     2113
  49UF20131006,KS1307,  4008,  1,     31,  21990,2,20131010,1919, 39.9895, 149.0255, 5513,    128.0,  10.9043,  34.0897,2,-999.0000,9,    211.7,2,    20.27,2,    13.61,2,     0.02,2,     1.03,2,   2104.1,2,   2267.9,2,   7.7897,2,    25.00,     2112
  49UF20131006,KS1307,  4008,  1,     30,  21989,2,20131010,1919, 39.9895, 149.0255, 5513,    153.3,   9.4071,  34.0600,2,  34.0566,2,    202.0,2,    26.03,2,    16.72,2,     0.01,2,     1.24,2,   2126.2,2,   2270.6,2,   7.7428,2,    25.00,     2111
  49UF20131006,KS1307,  4008,  1,     29,  21988,4,20131010,1919, 39.9895, 149.0255, 5513,    203.7,   8.7660,  34.1343,2,-999.0000,9,   -999.0,9,  -999.00,9,  -999.00,9,  -999.00,9,  -999.00,9,   -999.0,9,   -999.0,9,-999.0000,9,  -999.00,     2109
  49UF20131006,KS1307,  4008,  1,     28,  21987,2,20131010,1919, 39.9895, 149.0255, 5513,    254.4,   5.2117,  33.7010,2,  33.7114,6,    222.1,6,    41.44,6,    22.92,6,     0.00,6,     1.74,6,   2166.6,2,   2265.1,2,   7.6311,2,    25.00,     2108
  49UF20131006,KS1307,  4008,  1,     27,  21986,2,20131010,1919, 39.9895, 149.0255, 5513,    304.1,   4.7883,  33.7542,2,  33.7531,2,    194.3,2,    52.90,2,    27.00,2,     0.00,2,     2.01,2,   2200.1,6,   2274.9,6,   7.5664,2,    25.00,     2106
  49UF20131006,KS1307,  4008,  1,     26,  21985,2,20131010,1919, 39.9895, 149.0255, 5513,    404.8,   3.8859,  33.8434,2,  33.8469,2,    126.8,2,    78.12,2,    34.79,2,     0.00,2,     2.55,2,   2263.4,2,   2292.2,2,   7.4313,6,    25.00,     2104
  49UF20131006,KS1307,  4008,  1,     25,  21984,2,20131010,1919, 39.9895, 149.0255, 5513,    505.7,   3.7176,  34.0033,2,  33.9969,2,     70.0,2,    99.61,2,    39.83,2,     0.00,2,     2.88,2,   2313.7,2,   2314.3,2,   7.3389,2,    25.00,     2102
  49UF20131006,KS1307,  4008,  1,     24,  21983,2,20131010,1919, 39.9895, 149.0255, 5513,    606.1,   3.8904,  34.1556,2,  34.1747,4,     54.8,2,   108.21,2,    40.33,2,     0.00,2,     2.89,2,   2328.4,2,   2336.0,2,   7.3591,2,    25.00,     2100
  49UF20131006,KS1307,  4008,  1,     23,  22095,2,20131010,1919, 39.9895, 149.0255, 5513,    706.7,   3.8764,  34.2644,2,-999.0000,9,     51.0,2,   115.31,2,    40.56,2,     0.00,2,     2.91,2,   2337.6,2,   2347.5,2,   7.3751,2,    25.00,     2058
  49UF20131006,KS1307,  4008,  1,     22,  21981,2,20131010,1919, 39.9895, 149.0255, 5513,    809.9,   3.5546,  34.3178,2,  34.3185,6,     45.8,2,   124.07,2,    41.17,2,     0.00,2,     2.97,2,   2349.7,2,   2359.9,2,   7.3644,2,    25.00,     2055
  49UF20131006,KS1307,  4008,  1,     21,  21980,2,20131010,1919, 39.9895, 149.0255, 5513,    910.0,   3.2009,  34.3556,2,-999.0000,9,     40.4,2,   133.49,2,    42.30,2,     0.00,2,     3.02,2,   2359.1,2,   2368.2,2,   7.3542,2,    25.00,     2053
  49UF20131006,KS1307,  4008,  1,     20,  21979,2,20131010,1919, 39.9895, 149.0255, 5513,   1012.7,   2.9106,  34.3965,2,  34.3958,2,     39.6,2,   141.97,2,    42.49,2,     0.00,2,     3.04,2,   2369.3,2,   2375.9,2,   7.3575,2,    25.00,     2051
  49UF20131006,KS1307,  4008,  1,     19,  21978,2,20131010,1919, 39.9895, 149.0255, 5513,   1214.8,   2.5514,  34.4556,2,  34.4580,2,     38.9,2,   152.93,2,    42.84,2,     0.00,2,     3.06,2,   2381.2,6,   2389.0,6,   7.3549,2,    25.00,     2046
  49UF20131006,KS1307,  4008,  1,     18,  21977,2,20131010,1919, 39.9895, 149.0255, 5513,   1416.8,   2.3559,  34.5054,2,  34.5054,2,     45.4,2,   157.54,2,    42.59,2,     0.00,2,     3.03,2,   2383.7,2,   2397.4,2,   7.3746,6,    25.00,     2042
  49UF20131006,KS1307,  4008,  1,     17,  23679,2,20131010,1919, 39.9895, 149.0255, 5513,   1620.3,   2.1981,  34.5428,2,  34.5428,2,     54.2,6,   160.56,6,    42.19,6,     0.00,6,     2.99,6,   2383.5,2,   2404.3,2,   7.3953,2,    25.00,     2038
  49UF20131006,KS1307,  4008,  1,     16,  21975,2,20131010,1919, 39.9895, 149.0255, 5513,   1824.8,   2.0629,  34.5718,2,  34.5714,6,     64.0,2,   161.49,2,    41.61,2,     0.00,2,     2.94,2,   2382.7,2,   2408.7,2,   7.4150,2,    25.00,     2034
  49UF20131006,KS1307,  4008,  1,     15,  21974,2,20131010,1919, 39.9895, 149.0255, 5513,   2027.3,   1.9285,  34.5967,2,  34.5961,2,     76.7,2,   162.20,2,    40.99,2,     0.00,2,     2.89,2,   2374.2,2,   2411.7,2,   7.4395,2,    25.00,     2030
  49UF20131006,KS1307,  4008,  1,     14,  21973,2,20131010,1919, 39.9895, 149.0255, 5513,   2283.9,   1.7913,  34.6210,2,  34.6210,2,     91.3,2,   161.79,2,    39.92,2,     0.00,2,     2.82,2,   2364.9,2,   2413.9,2,   7.4670,2,    25.00,     2025
  49UF20131006,KS1307,  4008,  1,     13,  21972,2,20131010,1919, 39.9895, 149.0255, 5513,   2536.6,   1.6976,  34.6376,2,  34.6374,6,    103.9,6,   160.78,6,    39.10,6,     0.00,6,     2.76,6,   2357.8,2,   2416.5,2,   7.4928,2,    25.00,     2020
  49UF20131006,KS1307,  4008,  1,     12,  21994,2,20131010,1919, 39.9895, 149.0255, 5513,   2790.6,   1.6280,  34.6501,2,  34.6502,2,    114.8,2,   158.97,2,    38.39,2,     0.00,2,     2.71,2,   2353.0,2,   2417.0,2,   7.5107,2,    25.00,     2015
  49UF20131006,KS1307,  4008,  1,     11,  21970,2,20131010,1919, 39.9895, 149.0255, 5513,   3046.9,   1.5722,  34.6601,2,  34.6598,2,    124.4,2,   156.79,2,    37.81,2,     0.00,2,     2.66,2,   2347.5,2,   2417.1,2,   7.5303,2,    25.00,     2010
  49UF20131006,KS1307,  4008,  1,     10,  21969,2,20131010,1919, 39.9895, 149.0255, 5513,   3300.0,   1.5290,  34.6680,2,  34.6676,2,    133.2,2,   155.10,2,    37.22,2,     0.00,2,     2.61,2,   2340.7,2,   2416.8,2,   7.5423,2,    25.00,     2005
  49UF20131006,KS1307,  4008,  1,      9,  21968,2,20131010,1919, 39.9895, 149.0255, 5513,   3558.6,   1.5021,  34.6739,2,  34.6740,6,    139.2,2,   153.24,2,    36.81,2,     0.00,2,     2.58,2,   2337.6,6,   2417.1,6,   7.5574,2,    25.00,     2000
  49UF20131006,KS1307,  4008,  1,      8,  21982,2,20131010,1919, 39.9895, 149.0255, 5513,   3814.9,   1.4836,  34.6786,2,  34.6781,2,    145.1,2,   152.46,2,    36.46,2,     0.00,2,     2.55,2,   2333.0,2,   2416.5,2,   7.5641,6,    25.00,     1955
  49UF20131006,KS1307,  4008,  1,      7,  21966,2,20131010,1919, 39.9895, 149.0255, 5513,   4070.9,   1.4773,  34.6819,2,  34.6815,2,    149.0,2,   150.86,2,    36.25,2,     0.00,2,     2.52,2,   2332.1,2,   2416.3,2,   7.5726,2,    25.00,     1950
  49UF20131006,KS1307,  4008,  1,      6,  21965,2,20131010,1919, 39.9895, 149.0255, 5513,   4329.0,   1.4767,  34.6851,2,  34.6856,6,    153.1,6,   150.17,6,    35.86,6,     0.00,6,     2.50,6,   2329.3,2,   2416.2,2,   7.5791,2,    25.00,     1945
  49UF20131006,KS1307,  4008,  1,      5,  21964,2,20131010,1919, 39.9895, 149.0255, 5513,   4585.7,   1.4865,  34.6870,2,  34.6862,2,    155.8,2,   149.19,2,    35.65,2,     0.00,2,     2.49,2,   2327.5,2,   2414.2,2,   7.5831,2,    25.00,     1940
  49UF20131006,KS1307,  4008,  1,      4,  21963,3,20131010,1919, 39.9895, 149.0255, 5513,   4842.9,   1.5029,  34.6884,2,  34.6886,6,    158.0,2,   148.26,2,    35.69,2,     0.00,2,     2.48,2,   2324.5,2,   2412.8,2,   7.5869,2,    25.00,     1935
  49UF20131006,KS1307,  4008,  1,      3,  22079,4,20131010,1919, 39.9895, 149.0255, 5513,   5099.4,   1.5249,  34.6896,2,  34.6755,4,    143.4,4,   152.56,4,    36.55,4,     0.00,4,     2.55,4,   2333.0,4,   2416.7,4,   7.5627,4,    25.00,     1930
  49UF20131006,KS1307,  4008,  1,      2,  21961,2,20131010,1919, 39.9895, 149.0255, 5513,   5615.8,   1.5791,  34.6909,2,  34.6911,6,    160.4,2,   149.00,2,    35.37,2,     0.01,2,     2.47,2,   2320.1,2,   2413.3,2,   7.5903,2,    25.00,     1920
  49UF20131006,KS1307,  4008,  1,      1,  21960,3,20131010,1919, 39.9895, 149.0255, 5513,   5634.9,   1.5817,  34.6908,2,  34.6906,6,    160.3,2,   149.11,2,    35.37,2,     0.01,2,     2.47,2,   2322.6,2,   2413.5,2,   7.5911,2,    25.00,     1919
  49UF20131006,KS1307,  4009,  1,     99,     99,2,20131011,0600, 40.0047, 150.3117, 5379,      0.0,  19.3073,  33.9450,2,-999.0000,9,    237.0,2,     4.33,2,     0.00,2,     0.00,2,     0.09,2,   -999.0,9,   -999.0,9,-999.0000,9,  -999.00,      628
  49UF20131006,KS1307,  4009,  1,     36,  21995,2,20131011,0600, 40.0047, 150.3117, 5379,     10.3,  19.3061,  33.9443,2,-999.0000,9,    237.5,2,     4.27,2,     0.00,2,     0.00,2,     0.08,2,   -999.0,9,   -999.0,9,-999.0000,9,  -999.00,      656
  49UF20131006,KS1307,  4009,  1,     35,  22087,2,20131011,0600, 40.0047, 150.3117, 5379,     25.9,  19.2830,  33.9407,2,-999.0000,9,    237.4,2,     4.27,2,     0.00,2,     0.00,2,     0.07,2,   -999.0,9,   -999.0,9,-999.0000,9,  -999.00,      655
  49UF20131006,KS1307,  4009,  1,     34,  21971,2,20131011,0600, 40.0047, 150.3117, 5379,     51.0,  16.1570,  34.1812,2,-999.0000,9,    222.2,2,    10.14,2,     6.08,2,     0.30,2,     0.50,2,   -999.0,9,   -999.0,9,-999.0000,9,  -999.00,      652
  49UF20131006,KS1307,  4009,  1,     33,  21992,2,20131011,0600, 40.0047, 150.3117, 5379,     76.5,  11.1019,  34.1218,2,-999.0000,9,    215.8,2,    16.55,2,    12.72,2,     0.03,2,     0.93,2,   -999.0,9,   -999.0,9,-999.0000,9,  -999.00,      651
  49UF20131006,KS1307,  4009,  1,     32,  21991,2,20131011,0600, 40.0047, 150.3117, 5379,    101.7,   9.5307,  33.9945,2,-999.0000,9,    219.6,2,    20.00,2,    14.40,2,     0.02,2,     1.07,2,   -999.0,9,   -999.0,9,-999.0000,9,  -999.00,      649
  49UF20131006,KS1307,  4009,  1,     31,  21990,2,20131011,0600, 40.0047, 150.3117, 5379,    126.6,   8.4004,  33.9268,2,-999.0000,9,    234.0,2,    23.94,2,    16.34,2,     0.02,2,     1.22,2,   -999.0,9,   -999.0,9,-999.0000,9,  -999.00,      648
  49UF20131006,KS1307,  4009,  1,     27,  21986,2,20131011,0600, 40.0047, 150.3117, 5379,    152.2,   6.6761,  33.7381,2,-999.0000,9,    239.8,2,    29.55,2,    18.62,2,     0.01,2,     1.41,2,   -999.0,9,   -999.0,9,-999.0000,9,  -999.00,      647
  49UF20131006,KS1307,  4009,  1,     26,  21985,2,20131011,0600, 40.0047, 150.3117, 5379,    204.5,   6.3755,  33.8313,2,-999.0000,9,    252.2,2,    31.33,2,    18.94,2,     0.01,2,     1.42,2,   -999.0,9,   -999.0,9,-999.0000,9,  -999.00,      644
  49UF20131006,KS1307,  4009,  1,     25,  21984,2,20131011,0600, 40.0047, 150.3117, 5379,    204.5,   6.3755,  33.8313,2,-999.0000,9,    252.2,2,    31.40,2,    18.96,2,     0.01,2,     1.43,2,   -999.0,9,   -999.0,9,-999.0000,9,  -999.00,      644
  49UF20131006,KS1307,  4009,  1,     21,  21980,2,20131011,0600, 40.0047, 150.3117, 5379,    254.2,   5.8015,  33.8147,2,-999.0000,9,    224.4,2,    40.21,2,    22.32,2,     0.01,2,     1.67,2,   -999.0,9,   -999.0,9,-999.0000,9,  -999.00,      642
  49UF20131006,KS1307,  4009,  1,     20,  21979,2,20131011,0600, 40.0047, 150.3117, 5379,    305.6,   4.8875,  33.7562,2,-999.0000,9,    196.5,6,    50.20,6,    26.20,6,     0.01,6,     1.95,6,   -999.0,9,   -999.0,9,-999.0000,9,  -999.00,      639
  49UF20131006,KS1307,  4009,  1,     19,  21978,2,20131011,0600, 40.0047, 150.3117, 5379,    406.4,   4.4985,  33.9167,2,-999.0000,9,    120.3,2,    75.76,2,    34.40,2,     0.00,2,     2.50,2,   -999.0,9,   -999.0,9,-999.0000,9,  -999.00,      635
  49UF20131006,KS1307,  4009,  1,     15,  21974,2,20131011,0600, 40.0047, 150.3117, 5379,    504.3,   4.2888,  34.0392,2,-999.0000,9,     81.8,2,    91.21,2,    37.86,2,     0.00,2,     2.73,2,   -999.0,9,   -999.0,9,-999.0000,9,  -999.00,      632
  49UF20131006,KS1307,  4009,  1,     14,  21973,2,20131011,0600, 40.0047, 150.3117, 5379,    606.1,   4.0173,  34.1498,2,-999.0000,9,     56.8,2,   105.87,2,    40.07,2,     0.00,2,     2.88,2,   -999.0,9,   -999.0,9,-999.0000,9,  -999.00,      629
  49UF20131006,KS1307,  4009,  1,     13,  21972,2,20131011,0600, 40.0047, 150.3117, 5379,    706.0,   3.7497,  34.2418,2,-999.0000,9,     46.3,2,   117.34,2,    41.01,2,     0.00,2,     2.95,2,   -999.0,9,   -999.0,9,-999.0000,9,  -999.00,      626
  49UF20131006,KS1307,  4009,  1,     12,  21994,2,20131011,0600, 40.0047, 150.3117, 5379,    808.2,   3.4328,  34.3062,2,-999.0000,9,     40.8,2,   127.01,2,    41.85,2,     0.00,2,     3.00,2,   -999.0,9,   -999.0,9,-999.0000,9,  -999.00,      624
  49UF20131006,KS1307,  4009,  1,     11,  21970,2,20131011,0600, 40.0047, 150.3117, 5379,    908.3,   3.2263,  34.3494,2,-999.0000,9,     39.6,2,   133.24,2,    42.14,2,     0.00,2,     3.02,2,   -999.0,9,   -999.0,9,-999.0000,9,  -999.00,      621
  49UF20131006,KS1307,  4009,  1,     10,  21969,2,20131011,0600, 40.0047, 150.3117, 5379,   1010.7,   3.0097,  34.3937,2,-999.0000,9,     38.8,2,   139.43,2,    42.46,2,     0.00,2,     3.04,2,   -999.0,9,   -999.0,9,-999.0000,9,  -999.00,      619
  49UF20131006,KS1307,  4009,  1,      6,  21965,2,20131011,0600, 40.0047, 150.3117, 5379,   1212.5,   2.6883,  34.4472,2,-999.0000,9,     38.1,2,   149.10,2,    42.76,2,     0.00,2,     3.05,2,   -999.0,9,   -999.0,9,-999.0000,9,  -999.00,      615
  49UF20131006,KS1307,  4009,  1,      5,  21964,2,20131011,0600, 40.0047, 150.3117, 5379,   1415.5,   2.4330,  34.4967,2,-999.0000,9,     43.2,2,   156.02,2,    42.72,2,     0.00,2,     3.04,2,   -999.0,9,   -999.0,9,-999.0000,9,  -999.00,      611
  49UF20131006,KS1307,  4009,  1,      4,  21963,2,20131011,0600, 40.0047, 150.3117, 5379,   1415.5,   2.4330,  34.4967,2,-999.0000,9,     43.4,2,   155.72,2,    42.68,2,     0.00,2,     3.04,2,   -999.0,9,   -999.0,9,-999.0000,9,  -999.00,      611
  49UF20131006,KS1307,  4009,  1,      3,  22079,2,20131011,0600, 40.0047, 150.3117, 5379,   1618.5,   2.2201,  34.5394,2,-999.0000,9,     53.0,2,   160.59,2,    42.31,2,     0.00,2,     3.00,2,   -999.0,9,   -999.0,9,-999.0000,9,  -999.00,      608
  49UF20131006,KS1307,  4009,  1,      2,  21961,2,20131011,0600, 40.0047, 150.3117, 5379,   1822.5,   2.0607,  34.5713,2,-999.0000,9,     64.0,6,   162.70,6,    41.67,6,     0.00,6,     2.95,6,   -999.0,9,   -999.0,9,-999.0000,9,  -999.00,      604
  49UF20131006,KS1307,  4009,  1,      1,  21960,2,20131011,0600, 40.0047, 150.3117, 5379,   2035.5,   1.9179,  34.5980,2,-999.0000,9,     77.2,2,   162.89,2,    40.90,2,     0.00,2,     2.89,2,   -999.0,9,   -999.0,9,-999.0000,9,  -999.00,      600