BOTTLE,20191021PRINUNIVRMK
EXPOCODE,SECT_ID,STNNBR,CASTNO,SAMPNO,BTLNBR,BTLNBR_FLAG_W,DATE,TIME,LATITUDE,LONGITUDE,DEPTH,CTDPRS,CTDTMP,CTDSAL,CTDSAL_FLAG_W,SALNTY,SALNTY_FLAG_W,OXYGEN,OXYGEN_FLAG_W,SILCAT,SILCAT_FLAG_W,NITRAT,NITRAT_FLAG_W,NITRIT,NITRIT_FLAG_W,PHSPHT,PHSPHT_FLAG_W,TCARBN,TCARBN_FLAG_W,ALKALI,ALKALI_FLAG_W,PH_TOT,PH_TOT_FLAG_W,PH_TMP,BTL_TIME
,,,,,,,,,,,METERS,DBAR,ITS-90,PSS-78,,PSS-78,,UMOL/KG,,UMOL/KG,,UMOL/KG,,UMOL/KG,,UMOL/KG,,UMOL/KG,,UMOL/KG,,,,DEG C,
  49UF20131006,KS1307,  4010,  1,     99,     99,2,20131011,1339, 40.0107, 151.6647, 6145,      0.0,  21.0065,  33.8672,2,-999.0000,9,    227.7,2,     2.63,2,     0.00,3,     0.00,2,     0.05,2,   -999.0,9,   -999.0,9,-999.0000,9,  -999.00,     1420
  49UF20131006,KS1307,  4010,  1,     36,  21995,2,20131011,1339, 40.0107, 151.6647, 6145,     11.5,  20.9998,  33.8671,2,-999.0000,9,    227.3,2,     2.60,2,     0.00,3,     0.00,2,     0.05,2,   -999.0,9,   -999.0,9,-999.0000,9,  -999.00,     1444
  49UF20131006,KS1307,  4010,  1,     35,  22087,2,20131011,1339, 40.0107, 151.6647, 6145,     25.1,  20.9964,  33.8645,2,  33.8666,2,    227.4,2,     2.60,2,     0.00,3,     0.00,2,     0.05,2,   -999.0,9,   -999.0,9,-999.0000,9,  -999.00,     1442
  49UF20131006,KS1307,  4010,  1,     34,  21971,2,20131011,1339, 40.0107, 151.6647, 6145,     52.4,  13.3821,  34.2564,2,  34.2459,2,    220.9,2,    12.45,2,     8.74,3,     0.33,2,     0.68,2,   -999.0,9,   -999.0,9,-999.0000,9,  -999.00,     1440
  49UF20131006,KS1307,  4010,  1,     33,  21992,2,20131011,1339, 40.0107, 151.6647, 6145,     77.2,  11.9234,  34.2085,2,  34.2111,2,    206.2,2,    16.05,2,    12.34,3,     0.02,2,     0.90,2,   -999.0,9,   -999.0,9,-999.0000,9,  -999.00,     1439
  49UF20131006,KS1307,  4010,  1,     32,  21991,2,20131011,1339, 40.0107, 151.6647, 6145,    104.1,  10.7373,  34.1245,2,-999.0000,9,    207.6,2,    18.30,2,    13.48,3,     0.02,2,     0.99,2,   -999.0,9,   -999.0,9,-999.0000,9,  -999.00,     1435
  49UF20131006,KS1307,  4010,  1,     31,  21990,2,20131011,1339, 40.0107, 151.6647, 6145,    128.7,  10.0146,  34.1175,2,  34.1114,2,    204.3,2,    21.91,2,    15.05,3,     0.01,2,     1.10,2,   -999.0,9,   -999.0,9,-999.0000,9,  -999.00,     1433
  49UF20131006,KS1307,  4010,  1,     27,  21986,2,20131011,1339, 40.0107, 151.6647, 6145,    152.6,   9.1216,  34.0479,2,  34.0475,2,    205.1,2,    25.49,2,    16.61,3,     0.01,2,     1.22,2,   -999.0,9,   -999.0,9,-999.0000,9,  -999.00,     1431
  49UF20131006,KS1307,  4010,  1,     26,  21985,2,20131011,1339, 40.0107, 151.6647, 6145,    203.0,   7.4758,  33.9126,2,  33.9167,6,    219.2,2,    30.13,2,    18.45,3,     0.01,2,     1.37,2,   -999.0,9,   -999.0,9,-999.0000,9,  -999.00,     1429
  49UF20131006,KS1307,  4010,  1,     25,  21984,2,20131011,1339, 40.0107, 151.6647, 6145,    253.5,   5.8635,  33.7560,2,-999.0000,9,    241.0,2,    34.93,2,    20.44,3,     0.01,2,     1.54,2,   -999.0,9,   -999.0,9,-999.0000,9,  -999.00,     1427
  49UF20131006,KS1307,  4010,  1,     21,  21980,2,20131011,1339, 40.0107, 151.6647, 6145,    305.4,   5.2727,  33.7499,2,  33.7504,2,    224.6,2,    41.60,2,    23.00,3,     0.01,2,     1.73,2,   -999.0,9,   -999.0,9,-999.0000,9,  -999.00,     1425
  49UF20131006,KS1307,  4010,  1,     20,  21979,2,20131011,1339, 40.0107, 151.6647, 6145,    305.4,   5.2727,  33.7499,2,  33.7508,2,    224.2,2,    41.80,2,    23.04,3,     0.01,2,     1.73,2,   -999.0,9,   -999.0,9,-999.0000,9,  -999.00,     1425
  49UF20131006,KS1307,  4010,  1,     19,  21978,2,20131011,1339, 40.0107, 151.6647, 6145,    408.3,   4.6191,  33.8607,2,  33.8582,2,    144.6,6,    67.24,6,    31.97,3,     0.00,6,     2.35,6,   -999.0,9,   -999.0,9,-999.0000,9,  -999.00,     1422
  49UF20131006,KS1307,  4010,  1,     15,  21974,2,20131011,1339, 40.0107, 151.6647, 6145,    507.4,   4.2504,  33.9787,2,  33.9782,2,     96.9,2,    85.58,2,    36.60,3,     0.00,2,     2.66,2,   -999.0,9,   -999.0,9,-999.0000,9,  -999.00,     1419
  49UF20131006,KS1307,  4010,  1,     14,  21973,2,20131011,1339, 40.0107, 151.6647, 6145,    608.3,   4.2989,  34.1250,2,  34.1250,2,     68.6,2,    98.59,2,    38.80,3,     0.00,2,     2.80,2,   -999.0,9,   -999.0,9,-999.0000,9,  -999.00,     1416
  49UF20131006,KS1307,  4010,  1,     13,  21972,2,20131011,1339, 40.0107, 151.6647, 6145,    712.2,   3.9293,  34.2120,2,-999.0000,9,     51.6,2,   110.95,2,    40.45,3,     0.00,2,     2.90,2,   -999.0,9,   -999.0,9,-999.0000,9,  -999.00,     1413
  49UF20131006,KS1307,  4010,  1,     12,  21994,2,20131011,1339, 40.0107, 151.6647, 6145,    810.5,   3.3509,  34.2250,2,  34.2243,6,     34.1,2,   125.95,2,    42.59,3,     0.00,2,     3.05,2,   -999.0,9,   -999.0,9,-999.0000,9,  -999.00,     1409
  49UF20131006,KS1307,  4010,  1,     11,  21970,2,20131011,1339, 40.0107, 151.6647, 6145,    912.8,   3.2330,  34.3043,2,-999.0000,9,     36.3,2,   132.36,2,    42.48,3,     0.00,2,     3.04,2,   -999.0,9,   -999.0,9,-999.0000,9,  -999.00,     1406
  49UF20131006,KS1307,  4010,  1,     10,  21969,2,20131011,1339, 40.0107, 151.6647, 6145,   1016.2,   2.9912,  34.3530,2,  34.3526,2,     35.0,2,   139.05,2,    42.57,3,     0.00,2,     3.06,2,   -999.0,9,   -999.0,9,-999.0000,9,  -999.00,     1403
  49UF20131006,KS1307,  4010,  1,      6,  21965,2,20131011,1339, 40.0107, 151.6647, 6145,   1216.4,   2.6457,  34.4265,2,  34.4260,2,     36.4,2,   150.34,2,    42.89,3,     0.00,2,     3.07,2,   -999.0,9,   -999.0,9,-999.0000,9,  -999.00,     1357
  49UF20131006,KS1307,  4010,  1,      5,  21964,2,20131011,1339, 40.0107, 151.6647, 6145,   1418.1,   2.4091,  34.4746,2,  34.4746,2,     40.7,2,   157.44,2,    42.80,3,     0.00,2,     3.05,2,   -999.0,9,   -999.0,9,-999.0000,9,  -999.00,     1353
  49UF20131006,KS1307,  4010,  1,      4,  21963,2,20131011,1339, 40.0107, 151.6647, 6145,   1623.4,   2.3117,  34.5262,2,  34.5260,2,     49.7,2,   157.94,2,    42.56,3,     0.00,2,     3.02,2,   -999.0,9,   -999.0,9,-999.0000,9,  -999.00,     1348
  49UF20131006,KS1307,  4010,  1,      3,  22079,2,20131011,1339, 40.0107, 151.6647, 6145,   1825.9,   2.1242,  34.5603,2,  34.5602,2,     59.6,2,   161.06,2,    41.74,3,     0.00,2,     2.96,2,   -999.0,9,   -999.0,9,-999.0000,9,  -999.00,     1344
  49UF20131006,KS1307,  4010,  1,      2,  21961,2,20131011,1339, 40.0107, 151.6647, 6145,   1825.9,   2.1242,  34.5603,2,  34.5599,2,     59.8,2,   161.59,2,    41.98,3,     0.00,2,     2.97,2,   -999.0,9,   -999.0,9,-999.0000,9,  -999.00,     1344
  49UF20131006,KS1307,  4010,  1,      1,  21960,2,20131011,1339, 40.0107, 151.6647, 6145,   2028.8,   1.9807,  34.5875,2,  34.5879,2,     71.5,6,   162.29,6,    41.25,3,     0.00,6,     2.91,6,   -999.0,9,   -999.0,9,-999.0000,9,  -999.00,     1339
  49UF20131006,KS1307,  4011,  1,     99,     99,2,20131011,2053, 40.0012, 153.0073, 5662,      0.0,  22.6117,  34.2482,2,-999.0000,9,    218.7,2,     2.45,2,     0.09,2,     0.00,2,     0.09,2,   -999.0,9,   -999.0,9,-999.0000,9,  -999.00,     2130
  49UF20131006,KS1307,  4011,  1,     36,  21995,2,20131011,2053, 40.0012, 153.0073, 5662,     13.3,  22.6038,  34.2476,2,-999.0000,9,    218.7,6,     2.17,6,     0.00,6,     0.00,6,     0.03,6,   -999.0,9,   -999.0,9,-999.0000,9,  -999.00,     2145
  49UF20131006,KS1307,  4011,  1,     35,  22087,2,20131011,2053, 40.0012, 153.0073, 5662,     26.2,  22.5797,  34.2447,2,-999.0000,9,    219.1,2,     2.17,2,     0.00,2,     0.00,2,     0.03,2,   -999.0,9,   -999.0,9,-999.0000,9,  -999.00,     2144
  49UF20131006,KS1307,  4011,  1,     34,  21971,2,20131011,2053, 40.0012, 153.0073, 5662,     52.0,  17.9189,  34.6029,2,-999.0000,9,    206.1,2,     5.67,2,     4.04,2,     0.38,2,     0.34,2,   -999.0,9,   -999.0,9,-999.0000,9,  -999.00,     2141
  49UF20131006,KS1307,  4011,  1,     33,  21992,2,20131011,2053, 40.0012, 153.0073, 5662,     77.2,  16.1029,  34.5814,2,-999.0000,9,    180.2,2,    11.83,2,     9.60,2,     0.02,2,     0.67,2,   -999.0,9,   -999.0,9,-999.0000,9,  -999.00,     2140
  49UF20131006,KS1307,  4011,  1,     32,  21991,2,20131011,2053, 40.0012, 153.0073, 5662,    102.2,  14.6082,  34.4987,2,-999.0000,9,    184.5,2,    14.02,2,    11.15,2,     0.01,2,     0.78,2,   -999.0,9,   -999.0,9,-999.0000,9,  -999.00,     2139
  49UF20131006,KS1307,  4011,  1,     31,  21990,2,20131011,2053, 40.0012, 153.0073, 5662,    127.7,  13.4871,  34.4560,2,-999.0000,9,    175.5,2,    18.69,2,    13.62,2,     0.01,2,     0.96,2,   -999.0,9,   -999.0,9,-999.0000,9,  -999.00,     2137
  49UF20131006,KS1307,  4011,  1,     27,  21986,2,20131011,2053, 40.0012, 153.0073, 5662,    152.8,  12.3445,  34.3596,2,-999.0000,9,    181.3,2,    20.83,2,    14.64,2,     0.01,2,     1.05,2,   -999.0,9,   -999.0,9,-999.0000,9,  -999.00,     2136
  49UF20131006,KS1307,  4011,  1,     26,  21985,2,20131011,2053, 40.0012, 153.0073, 5662,    205.1,  10.6788,  34.2285,2,-999.0000,9,    185.3,2,    25.35,2,    16.74,2,     0.00,2,     1.20,2,   -999.0,9,   -999.0,9,-999.0000,9,  -999.00,     2135
  49UF20131006,KS1307,  4011,  1,     25,  21984,3,20131011,2053, 40.0012, 153.0073, 5662,    254.7,   9.0999,  34.0754,2,-999.0000,9,    197.9,2,    28.12,2,    17.76,2,     0.00,2,     1.30,2,   -999.0,9,   -999.0,9,-999.0000,9,  -999.00,     2133
  49UF20131006,KS1307,  4011,  1,     21,  21980,2,20131011,2053, 40.0012, 153.0073, 5662,    304.7,   7.4533,  33.9463,2,-999.0000,9,    203.2,2,    34.92,2,    20.32,2,     0.00,2,     1.50,2,   -999.0,9,   -999.0,9,-999.0000,9,  -999.00,     2131
  49UF20131006,KS1307,  4011,  1,     20,  21979,2,20131011,2053, 40.0012, 153.0073, 5662,    405.2,   5.6943,  33.9032,2,-999.0000,9,    166.0,2,    55.16,2,    28.21,2,     0.00,2,     2.06,2,   -999.0,9,   -999.0,9,-999.0000,9,  -999.00,     2129
  49UF20131006,KS1307,  4011,  1,     19,  21978,2,20131011,2053, 40.0012, 153.0073, 5662,    405.2,   5.6943,  33.9032,2,-999.0000,9,    166.2,2,    55.33,2,    28.03,2,     0.00,2,     2.06,2,   -999.0,9,   -999.0,9,-999.0000,9,  -999.00,     2129
  49UF20131006,KS1307,  4011,  1,     15,  21974,2,20131011,2053, 40.0012, 153.0073, 5662,    507.7,   4.8704,  33.9972,2,-999.0000,9,    113.4,6,    77.10,6,    34.42,6,     0.00,6,     2.50,6,   -999.0,9,   -999.0,9,-999.0000,9,  -999.00,     2126
  49UF20131006,KS1307,  4011,  1,     14,  21973,2,20131011,2053, 40.0012, 153.0073, 5662,    607.7,   4.5959,  34.1125,2,-999.0000,9,     79.5,2,    92.05,2,    37.50,2,     0.00,2,     2.70,2,   -999.0,9,   -999.0,9,-999.0000,9,  -999.00,     2123
  49UF20131006,KS1307,  4011,  1,     13,  21972,2,20131011,2053, 40.0012, 153.0073, 5662,    709.7,   4.0589,  34.1795,2,-999.0000,9,     55.9,2,   106.90,2,    40.18,2,     0.00,2,     2.88,2,   -999.0,9,   -999.0,9,-999.0000,9,  -999.00,     2121
  49UF20131006,KS1307,  4011,  1,     12,  21994,2,20131011,2053, 40.0012, 153.0073, 5662,    810.8,   3.8364,  34.2643,2,-999.0000,9,     49.1,2,   115.88,2,    40.82,2,     0.00,2,     2.93,2,   -999.0,9,   -999.0,9,-999.0000,9,  -999.00,     2118
  49UF20131006,KS1307,  4011,  1,     11,  21970,2,20131011,2053, 40.0012, 153.0073, 5662,    910.3,   3.4286,  34.3029,2,-999.0000,9,     40.9,2,   126.76,2,    41.91,2,     0.00,2,     3.01,2,   -999.0,9,   -999.0,9,-999.0000,9,  -999.00,     2115
  49UF20131006,KS1307,  4011,  1,     10,  21969,2,20131011,2053, 40.0012, 153.0073, 5662,   1011.9,   3.2242,  34.3614,2,-999.0000,9,     40.3,2,   133.22,2,    42.20,2,     0.00,2,     3.02,2,   -999.0,9,   -999.0,9,-999.0000,9,  -999.00,     2113
  49UF20131006,KS1307,  4011,  1,      6,  21965,2,20131011,2053, 40.0012, 153.0073, 5662,   1215.0,   2.8352,  34.4270,2,-999.0000,9,     39.0,2,   144.81,2,    42.79,2,     0.00,2,     3.06,2,   -999.0,9,   -999.0,9,-999.0000,9,  -999.00,     2109
  49UF20131006,KS1307,  4011,  1,      5,  21964,2,20131011,2053, 40.0012, 153.0073, 5662,   1416.8,   2.5537,  34.4783,2,-999.0000,9,     41.3,2,   152.63,2,    42.81,2,     0.00,2,     3.06,2,   -999.0,9,   -999.0,9,-999.0000,9,  -999.00,     2105
  49UF20131006,KS1307,  4011,  1,      4,  21963,2,20131011,2053, 40.0012, 153.0073, 5662,   1619.1,   2.3443,  34.5187,2,-999.0000,9,     48.0,2,   157.69,2,    42.63,2,     0.00,2,     3.03,2,   -999.0,9,   -999.0,9,-999.0000,9,  -999.00,     2101
  49UF20131006,KS1307,  4011,  1,      3,  22079,2,20131011,2053, 40.0012, 153.0073, 5662,   1823.2,   2.1668,  34.5515,2,-999.0000,9,     56.3,2,   161.39,2,    42.12,2,     0.00,2,     2.99,2,   -999.0,9,   -999.0,9,-999.0000,9,  -999.00,     2057
  49UF20131006,KS1307,  4011,  1,      2,  21961,2,20131011,2053, 40.0012, 153.0073, 5662,   2028.4,   2.0117,  34.5803,2,-999.0000,9,     67.5,2,   163.47,2,    41.46,2,     0.00,2,     2.94,2,   -999.0,9,   -999.0,9,-999.0000,9,  -999.00,     2053
  49UF20131006,KS1307,  4011,  1,      1,  21960,2,20131011,2053, 40.0012, 153.0073, 5662,   2028.4,   2.0117,  34.5803,2,-999.0000,9,     67.2,2,   163.87,2,    41.53,2,     0.00,2,     2.94,2,   -999.0,9,   -999.0,9,-999.0000,9,  -999.00,     2053