BOTTLE,20191021PRINUNIVRMK
EXPOCODE,SECT_ID,STNNBR,CASTNO,SAMPNO,BTLNBR,BTLNBR_FLAG_W,DATE,TIME,LATITUDE,LONGITUDE,DEPTH,CTDPRS,CTDTMP,CTDSAL,CTDSAL_FLAG_W,SALNTY,SALNTY_FLAG_W,OXYGEN,OXYGEN_FLAG_W,SILCAT,SILCAT_FLAG_W,NITRAT,NITRAT_FLAG_W,NITRIT,NITRIT_FLAG_W,PHSPHT,PHSPHT_FLAG_W,TCARBN,TCARBN_FLAG_W,ALKALI,ALKALI_FLAG_W,PH_TOT,PH_TOT_FLAG_W,PH_TMP,BTL_TIME
,,,,,,,,,,,METERS,DBAR,ITS-90,PSS-78,,PSS-78,,UMOL/KG,,UMOL/KG,,UMOL/KG,,UMOL/KG,,UMOL/KG,,UMOL/KG,,UMOL/KG,,,,DEG C,
  49UF20131006,KS1307,  4014,  1,     99,     99,2,20131013,2321, 40.0020, 164.9952, 5453,      0.0,  20.9973,  34.2513,2,  34.2537,4,    225.6,2,     3.16,2,     0.00,2,     0.00,2,     0.04,2,   1975.5,2,   2256.9,2,   8.0336,2,    25.00,      117
  49UF20131006,KS1307,  4014,  1,     36,  21995,2,20131013,2321, 40.0020, 164.9952, 5453,     11.9,  21.0034,  34.2508,2,  34.2504,2,    226.0,2,     3.15,2,     0.00,2,     0.00,2,     0.03,2,   1975.1,2,   2256.9,2,   8.0274,2,    25.00,      137
  49UF20131006,KS1307,  4014,  1,     35,  22087,2,20131013,2321, 40.0020, 164.9952, 5453,     26.4,  20.9648,  34.2482,2,-999.0000,9,    226.1,2,     3.15,2,     0.00,2,     0.00,2,     0.03,2,   1973.3,2,   2257.1,2,   8.0284,2,    25.00,      136
  49UF20131006,KS1307,  4014,  1,     34,  21971,2,20131013,2321, 40.0020, 164.9952, 5453,     54.0,  16.9303,  34.4181,2,  34.4118,2,    283.7,2,     4.38,2,     0.00,2,     0.00,2,     0.08,2,   1994.6,2,   2273.4,2,   8.0163,2,    25.00,      135
  49UF20131006,KS1307,  4014,  1,     33,  21992,2,20131013,2321, 40.0020, 164.9952, 5453,     78.9,  14.2731,  34.4766,2,-999.0000,9,    218.1,2,    10.51,2,     8.57,2,     0.04,2,     0.61,2,   2065.5,2,   2273.7,2,   7.8806,2,    25.00,      133
  49UF20131006,KS1307,  4014,  1,     32,  21991,2,20131013,2321, 40.0020, 164.9952, 5453,    101.3,  13.3027,  34.4168,2,  34.4161,6,    221.4,2,    12.29,2,     9.94,2,     0.02,2,     0.70,2,   2069.1,2,   2271.4,2,   7.8596,2,    25.00,      132
  49UF20131006,KS1307,  4014,  1,     31,  21990,2,20131013,2321, 40.0020, 164.9952, 5453,    127.4,  12.6416,  34.3796,2,-999.0000,9,    219.5,2,    14.42,2,    11.19,2,     0.02,2,     0.79,2,   2083.8,2,   2273.0,2,   7.8439,2,    25.00,      130
  49UF20131006,KS1307,  4014,  1,     30,  21989,2,20131013,2321, 40.0020, 164.9952, 5453,    154.2,  11.8692,  34.3229,2,-999.0000,9,    220.9,2,    16.16,2,    12.09,2,     0.01,2,     0.86,2,   2091.5,2,   2271.9,2,   7.8286,2,    25.00,      126
  49UF20131006,KS1307,  4014,  1,     29,  21988,2,20131013,2321, 40.0020, 164.9952, 5453,    207.2,  10.7417,  34.2438,2,  34.2474,2,    228.7,2,    18.25,2,    13.06,2,     0.01,2,     0.93,2,   2100.2,2,   2271.4,2,   7.8093,2,    25.00,      124
  49UF20131006,KS1307,  4014,  1,     28,  21987,3,20131013,2321, 40.0020, 164.9952, 5453,    257.4,   9.9749,  34.1773,2,-999.0000,9,    232.4,2,    20.26,2,    14.09,2,     0.01,2,     1.02,2,   2106.7,2,   2268.9,2,   7.7844,2,    25.00,      122
  49UF20131006,KS1307,  4014,  1,     27,  21986,2,20131013,2321, 40.0020, 164.9952, 5453,    307.7,   8.8523,  34.0881,2,  34.0969,2,    215.1,6,    27.40,6,    17.43,6,     0.01,6,     1.27,6,   2129.2,2,   2272.5,2,   7.7379,2,    25.00,      120
  49UF20131006,KS1307,  4014,  1,     26,  21985,2,20131013,2321, 40.0020, 164.9952, 5453,    407.9,   6.3415,  33.8845,2,-999.0000,9,    232.9,2,    36.25,2,    20.92,2,     0.01,2,     1.54,2,   2152.8,2,   2269.8,2,   7.6777,2,    25.00,      117
  49UF20131006,KS1307,  4014,  1,     25,  21984,2,20131013,2321, 40.0020, 164.9952, 5453,    509.4,   5.3183,  33.9488,2,  33.9485,2,    132.5,2,    66.69,2,    31.96,2,     0.00,2,     2.32,2,   2239.2,2,   2291.7,2,   7.4986,2,    25.00,      115
  49UF20131006,KS1307,  4014,  1,     24,  21983,2,20131013,2321, 40.0020, 164.9952, 5453,    612.3,   4.6902,  34.0399,2,-999.0000,9,     92.5,2,    84.46,2,    36.45,2,     0.00,2,     2.62,2,   2280.1,6,   2309.7,6,   7.4240,2,    25.00,      112
  49UF20131006,KS1307,  4014,  1,     23,  22095,2,20131013,2321, 40.0020, 164.9952, 5453,    711.8,   4.2167,  34.1250,2,  34.1257,2,     64.5,2,   100.11,2,    39.41,2,     0.00,2,     2.82,2,   2311.6,2,   2326.8,2,   7.3768,6,    25.00,      109
  49UF20131006,KS1307,  4014,  1,     22,  21981,2,20131013,2321, 40.0020, 164.9952, 5453,    810.5,   3.8603,  34.2093,2,  34.2079,2,     48.4,2,   112.51,2,    41.09,2,     0.00,2,     2.94,2,   2333.1,2,   2341.9,2,   7.3531,2,    25.00,      106
  49UF20131006,KS1307,  4014,  1,     21,  21980,4,20131013,2321, 40.0020, 164.9952, 5453,    913.9,   3.5960,  34.2752,2,-999.0000,9,   -999.0,9,  -999.00,9,  -999.00,9,  -999.00,9,  -999.00,9,   -999.0,9,   -999.0,9,-999.0000,9,  -999.00,      103
  49UF20131006,KS1307,  4014,  1,     20,  21979,2,20131013,2321, 40.0020, 164.9952, 5453,   1015.8,   3.3062,  34.3248,2,  34.3245,6,     35.9,2,   130.90,2,    42.51,2,     0.00,2,     3.03,2,   2357.9,2,   2364.1,2,   7.3436,2,    25.00,      100
  49UF20131006,KS1307,  4014,  1,     19,  21978,2,20131013,2321, 40.0020, 164.9952, 5453,   1219.6,   2.9199,  34.4025,2,  34.4023,2,     33.7,2,   142.82,2,    43.09,2,     0.00,2,     3.07,2,   2376.0,6,   2379.3,6,   7.3456,2,    25.00,       56
  49UF20131006,KS1307,  4014,  1,     18,  21977,2,20131013,2321, 40.0020, 164.9952, 5453,   1421.7,   2.5865,  34.4673,2,  34.4669,2,     35.8,2,   153.08,2,    43.27,2,     0.00,2,     3.08,2,   -999.0,9,   -999.0,9,-999.0000,9,  -999.00,       51
  49UF20131006,KS1307,  4014,  1,     17,  23679,2,20131013,2321, 40.0020, 164.9952, 5453,   1421.7,   2.5865,  34.4673,2,  34.4661,2,     35.8,2,   152.94,2,    43.18,2,     0.00,2,     3.07,2,   2384.4,2,   2390.7,2,   7.3577,2,    25.00,       51
  49UF20131006,KS1307,  4014,  1,     16,  21975,2,20131013,2321, 40.0020, 164.9952, 5453,   1622.9,   2.3380,  34.5065,2,  34.5063,2,     42.0,6,   159.99,6,    42.99,6,     0.00,6,     3.05,6,   2384.1,2,   2398.5,2,   7.3689,2,    25.00,       46
  49UF20131006,KS1307,  4014,  1,     15,  21974,2,20131013,2321, 40.0020, 164.9952, 5453,   1824.9,   2.1611,  34.5448,2,  34.5441,2,     51.3,2,   163.95,2,    42.57,2,     0.00,2,     3.01,2,   2385.1,6,   2405.8,6,   7.3898,2,    25.00,       41
  49UF20131006,KS1307,  4014,  1,     14,  21973,2,20131013,2321, 40.0020, 164.9952, 5453,   2027.3,   2.0255,  34.5724,2,  34.5719,2,     61.1,2,   165.54,2,    41.84,2,     0.00,2,     2.96,2,   2383.3,2,   2409.9,2,   7.4106,6,    25.00,       36
  49UF20131006,KS1307,  4014,  1,     13,  21972,2,20131013,2321, 40.0020, 164.9952, 5453,   2283.5,   1.8669,  34.6052,2,  34.6117,4,     78.5,2,   165.93,2,    40.86,2,     0.00,2,     2.88,2,   2375.9,2,   2415.2,2,   7.4423,2,    25.00,       31
  49UF20131006,KS1307,  4014,  1,     12,  21994,2,20131013,2321, 40.0020, 164.9952, 5453,   2536.3,   1.7401,  34.6291,2,  34.6285,2,     95.4,2,   164.67,2,    39.86,2,     0.00,2,     2.80,2,   2366.8,2,   2416.0,2,   7.4767,2,    25.00,       26
  49UF20131006,KS1307,  4014,  1,     11,  21970,2,20131013,2321, 40.0020, 164.9952, 5453,   2788.9,   1.6429,  34.6458,2,  34.6457,2,    109.1,2,   162.51,2,    38.97,2,     0.00,2,     2.73,2,   2357.5,2,   2417.5,2,   7.5023,2,    25.00,       20
  49UF20131006,KS1307,  4014,  1,     10,  21969,2,20131013,2321, 40.0020, 164.9952, 5453,   3048.2,   1.5785,  34.6576,2,  34.6584,2,    120.5,2,   159.57,2,    38.21,2,     0.00,2,     2.67,2,   2350.1,2,   2416.6,2,   7.5266,2,    25.00,       15
  49UF20131006,KS1307,  4014,  1,      9,  21968,2,20131013,2321, 40.0020, 164.9952, 5453,   3302.6,   1.5304,  34.6669,2,  34.6672,6,    130.6,6,   157.21,6,    37.56,6,     0.00,6,     2.63,6,   2343.1,2,   2417.8,2,   7.5394,2,    25.00,       10
  49UF20131006,KS1307,  4014,  1,      8,  21982,2,20131013,2321, 40.0020, 164.9952, 5453,   3558.8,   1.5017,  34.6729,2,  34.6737,2,    137.6,2,   155.52,2,    37.06,2,     0.00,2,     2.59,2,   2337.6,2,   2419.4,2,-999.0000,5,  -999.00,        4
  49UF20131006,KS1307,  4014,  1,      7,  21966,2,20131013,2321, 40.0020, 164.9952, 5453,   3815.1,   1.4862,  34.6777,2,  34.6770,6,    142.5,2,   154.20,2,    36.79,2,     0.00,2,     2.57,2,   2334.4,2,   2417.4,2,   7.5638,2,    25.00,     2359
  49UF20131006,KS1307,  4014,  1,      6,  21965,2,20131013,2321, 40.0020, 164.9952, 5453,   4071.1,   1.4800,  34.6813,2,  34.6819,2,    147.9,2,   152.98,2,    36.42,2,     0.00,2,     2.54,2,   2331.2,2,   2417.3,2,   7.5732,2,    25.00,     2353
  49UF20131006,KS1307,  4014,  1,      5,  21964,2,20131013,2321, 40.0020, 164.9952, 5453,   4327.9,   1.4805,  34.6844,2,  34.6855,2,    151.0,2,   151.94,2,    36.17,2,     0.00,2,     2.51,2,   2329.2,2,   2417.2,2,   7.5787,2,    25.00,     2348
  49UF20131006,KS1307,  4014,  1,      4,  21963,2,20131013,2321, 40.0020, 164.9952, 5453,   4585.3,   1.4908,  34.6862,2,  34.6853,2,    153.3,2,   151.21,2,    35.99,2,     0.00,2,     2.50,2,   2328.4,2,   2417.4,2,   7.5820,6,    25.00,     2342
  49UF20131006,KS1307,  4014,  1,      3,  22079,2,20131013,2321, 40.0020, 164.9952, 5453,   4841.7,   1.5087,  34.6878,2,  34.6866,6,    155.4,2,   151.40,2,    35.88,2,     0.00,2,     2.49,2,   2325.0,2,   2416.2,2,   7.5867,2,    25.00,     2337
  49UF20131006,KS1307,  4014,  1,      2,  21961,2,20131013,2321, 40.0020, 164.9952, 5453,   5104.0,   1.5315,  34.6887,2,  34.6897,2,    156.7,6,   151.67,6,    35.78,6,     0.00,6,     2.49,6,   2324.5,2,   2416.1,2,   7.5878,2,    25.00,     2331
  49UF20131006,KS1307,  4014,  1,      1,  21960,2,20131013,2321, 40.0020, 164.9952, 5453,   5557.8,   1.5866,  34.6893,2,  34.6897,6,    156.9,2,   153.14,2,    35.79,2,     0.00,2,     2.49,2,   2324.7,2,   2417.0,2,   7.5884,2,    25.00,     2321