BOTTLE,20191021PRINUNIVRMK
EXPOCODE,SECT_ID,STNNBR,CASTNO,SAMPNO,BTLNBR,BTLNBR_FLAG_W,DATE,TIME,LATITUDE,LONGITUDE,DEPTH,CTDPRS,CTDTMP,CTDSAL,CTDSAL_FLAG_W,SALNTY,SALNTY_FLAG_W,OXYGEN,OXYGEN_FLAG_W,SILCAT,SILCAT_FLAG_W,NITRAT,NITRAT_FLAG_W,NITRIT,NITRIT_FLAG_W,PHSPHT,PHSPHT_FLAG_W,TCARBN,TCARBN_FLAG_W,ALKALI,ALKALI_FLAG_W,PH_TOT,PH_TOT_FLAG_W,PH_TMP,BTL_TIME
,,,,,,,,,,,METERS,DBAR,ITS-90,PSS-78,,PSS-78,,UMOL/KG,,UMOL/KG,,UMOL/KG,,UMOL/KG,,UMOL/KG,,UMOL/KG,,UMOL/KG,,,,DEG C,
  49UF20131006,KS1307,  4004,  1,     99,     99,2,20131009,0734, 40.0028, 144.9715, 5637,      0.0,  21.9266,  34.1296,2,  34.0144,4,    223.3,2,     2.87,2,     0.00,2,     0.00,2,     0.05,2,   1961.8,2,   2251.3,2,   8.0402,2,    25.00,      920
  49UF20131006,KS1307,  4004,  1,     36,  21995,2,20131009,0734, 40.0028, 144.9715, 5637,     12.6,  21.9261,  34.1313,2,  34.1271,2,    220.8,2,     2.79,2,     0.00,2,     0.00,2,     0.06,2,   1960.5,2,   2255.0,2,   8.0440,2,    25.00,      944
  49UF20131006,KS1307,  4004,  1,     35,  22087,2,20131009,0734, 40.0028, 144.9715, 5637,     26.5,  22.0915,  34.1995,2,-999.0000,9,    220.2,2,     2.76,2,     0.00,2,     0.00,2,     0.05,2,   1961.2,2,   2257.8,2,   8.0495,2,    25.00,      943
  49UF20131006,KS1307,  4004,  1,     34,  21971,2,20131009,0734, 40.0028, 144.9715, 5637,     53.3,  17.6811,  34.5997,2,  34.6017,2,    188.5,2,     7.93,2,     6.35,2,     0.20,2,     0.46,2,   2042.1,2,   2277.5,2,   7.9261,2,    25.00,      942
  49UF20131006,KS1307,  4004,  1,     33,  21992,2,20131009,0734, 40.0028, 144.9715, 5637,     77.8,  15.6257,  34.5453,2,-999.0000,9,    179.4,6,    13.21,6,    10.44,6,     0.04,6,     0.74,6,   2075.9,2,   2277.8,2,   7.8692,2,    25.00,      941
  49UF20131006,KS1307,  4004,  1,     32,  21991,2,20131009,0734, 40.0028, 144.9715, 5637,    103.1,  14.1312,  34.4936,2,  34.4950,2,    172.8,2,    17.83,2,    12.76,2,     0.02,2,     0.91,2,   2092.6,2,   2279.4,2,   7.8311,2,    25.00,      937
  49UF20131006,KS1307,  4004,  1,     31,  21990,2,20131009,0734, 40.0028, 144.9715, 5637,    127.9,  11.8660,  34.2237,2,  34.2241,2,    196.8,2,    19.87,2,    13.62,2,     0.01,2,     1.01,2,   2098.6,2,   2271.3,2,   7.7980,2,    25.00,      936
  49UF20131006,KS1307,  4004,  1,     30,  21989,2,20131009,0734, 40.0028, 144.9715, 5637,    152.8,  10.3071,  34.1720,2,  34.1732,2,    184.4,2,    27.84,2,    17.38,2,     0.01,2,     1.27,2,   2132.3,2,   2276.7,2,   7.7405,2,    25.00,      935
  49UF20131006,KS1307,  4004,  1,     29,  21988,2,20131009,0734, 40.0028, 144.9715, 5637,    207.1,   7.8896,  33.9427,2,  33.9730,4,    196.1,2,    34.48,2,    20.36,2,     0.01,2,     1.51,2,   2147.6,6,   2271.7,6,   7.6866,2,    25.00,      933
  49UF20131006,KS1307,  4004,  1,     28,  21987,2,20131009,0734, 40.0028, 144.9715, 5637,    254.9,   4.2357,  33.5336,2,-999.0000,9,    244.7,2,    41.24,2,    23.22,2,     0.01,2,     1.79,2,   2159.6,2,   2256.2,2,   7.6221,6,    25.00,      931
  49UF20131006,KS1307,  4004,  1,     27,  21986,2,20131009,0734, 40.0028, 144.9715, 5637,    308.3,   2.7743,  33.5602,2,  33.5462,2,    194.6,2,    64.70,2,    31.40,2,     0.00,2,     2.37,2,   2220.6,2,   2269.2,2,   7.4738,2,    25.00,      929
  49UF20131006,KS1307,  4004,  1,     26,  21985,2,20131009,0734, 40.0028, 144.9715, 5637,    409.5,   3.4474,  33.8216,2,  33.8333,2,    116.1,2,    83.57,2,    36.48,2,     0.00,2,     2.67,2,   2273.4,2,   2294.2,2,   7.3970,2,    25.00,      926
  49UF20131006,KS1307,  4004,  1,     25,  21984,2,20131009,0734, 40.0028, 144.9715, 5637,    512.6,   3.9960,  34.0424,2,  34.0145,4,     74.5,2,    97.26,2,    39.19,2,     0.00,2,     2.83,2,   2302.5,2,   2313.4,2,   7.3590,2,    25.00,      923
  49UF20131006,KS1307,  4004,  1,     24,  21983,2,20131009,0734, 40.0028, 144.9715, 5637,    616.3,   3.6200,  34.1193,2,  34.1174,2,     49.1,2,   112.11,2,    41.53,2,     0.00,2,     2.98,2,   2329.4,2,   2329.8,2,   7.3253,2,    25.00,      920
  49UF20131006,KS1307,  4004,  1,     23,  22095,2,20131009,0734, 40.0028, 144.9715, 5637,    716.3,   3.7831,  34.2729,2,-999.0000,9,     50.1,2,   117.19,2,    40.77,2,     0.00,2,     2.93,2,   2336.1,2,   2347.7,2,   7.3666,2,    25.00,      916
  49UF20131006,KS1307,  4004,  1,     22,  21981,2,20131009,0734, 40.0028, 144.9715, 5637,    817.2,   3.3576,  34.3025,2,  34.3019,2,     40.9,6,   128.12,6,    41.97,6,     0.00,6,     3.02,6,   2352.4,2,   2356.9,2,   7.3464,2,    25.00,      913
  49UF20131006,KS1307,  4004,  1,     21,  21980,2,20131009,0734, 40.0028, 144.9715, 5637,    916.3,   3.1636,  34.3596,2,-999.0000,9,     41.4,2,   135.03,2,    42.26,2,     0.00,2,     3.02,2,   2358.4,2,   2368.2,2,   7.3541,2,    25.00,      910
  49UF20131006,KS1307,  4004,  1,     20,  21979,2,20131009,0734, 40.0028, 144.9715, 5637,   1016.7,   3.0516,  34.4003,2,  34.4003,2,     45.3,2,   137.65,2,    41.89,2,     0.00,2,     3.00,2,   2348.5,2,   2373.4,6,   7.3688,2,    25.00,      907
  49UF20131006,KS1307,  4004,  1,     19,  21978,2,20131009,0734, 40.0028, 144.9715, 5637,   1217.7,   2.6532,  34.4542,2,  34.4533,2,     41.2,2,   150.26,2,    42.66,2,     0.00,2,     3.05,2,   2371.6,2,   2387.1,2,   7.3649,6,    25.00,      902
  49UF20131006,KS1307,  4004,  1,     18,  21977,2,20131009,0734, 40.0028, 144.9715, 5637,   1418.9,   2.4006,  34.5060,2,  34.5060,2,     46.8,2,   156.43,2,    42.55,2,     0.00,2,     3.03,2,   2380.0,2,   2397.1,2,   7.3796,2,    25.00,      857
  49UF20131006,KS1307,  4004,  1,     17,  23679,2,20131009,0734, 40.0028, 144.9715, 5637,   1623.9,   2.2168,  34.5425,2,  34.5413,2,     55.5,2,   159.37,2,    42.24,2,     0.00,2,     2.99,2,   2380.1,2,   2403.4,2,   7.3979,2,    25.00,      853
  49UF20131006,KS1307,  4004,  1,     16,  21975,2,20131009,0734, 40.0028, 144.9715, 5637,   1823.7,   2.0795,  34.5702,2,  34.5701,6,     65.4,2,   161.13,2,    41.65,2,     0.00,2,     2.94,2,   2371.8,2,   2405.8,2,   7.4190,2,    25.00,      848
  49UF20131006,KS1307,  4004,  1,     15,  21974,2,20131009,0734, 40.0028, 144.9715, 5637,   2027.0,   1.9546,  34.5924,2,  34.5923,2,     75.4,2,   162.33,2,    41.09,2,     0.00,2,     2.89,2,   2371.1,2,   2409.9,2,   7.4384,2,    25.00,      844
  49UF20131006,KS1307,  4004,  1,     14,  21973,2,20131009,0734, 40.0028, 144.9715, 5637,   2281.7,   1.7996,  34.6206,2,  34.6206,2,     93.0,6,   161.09,6,    39.96,6,     0.00,6,     2.82,6,   2363.0,2,   2412.0,2,   7.4725,2,    25.00,      839
  49UF20131006,KS1307,  4004,  1,     13,  21972,2,20131009,0734, 40.0028, 144.9715, 5637,   2533.2,   1.6887,  34.6393,2,  34.6421,4,    106.9,2,   160.24,2,    39.22,2,     0.00,2,     2.75,2,   2355.5,2,   2412.4,2,   7.4981,2,    25.00,      835
  49UF20131006,KS1307,  4004,  1,     12,  21994,2,20131009,0734, 40.0028, 144.9715, 5637,   2787.9,   1.6191,  34.6515,2,  34.6504,2,    117.4,2,   158.24,2,    38.41,2,     0.00,2,     2.69,2,   2348.6,2,   2414.5,2,   7.5178,2,    25.00,      830
  49UF20131006,KS1307,  4004,  1,     11,  21970,2,20131009,0734, 40.0028, 144.9715, 5637,   3046.1,   1.5653,  34.6610,2,  34.6608,2,    126.0,2,   156.95,2,    37.91,2,     0.00,2,     2.65,2,   2343.2,2,   2415.3,6,   7.5347,2,    25.00,      825
  49UF20131006,KS1307,  4004,  1,     10,  21969,2,20131009,0734, 40.0028, 144.9715, 5637,   3301.3,   1.5278,  34.6682,2,  34.6681,2,    133.7,2,   155.02,2,    37.38,2,     0.00,2,     2.61,2,   2333.6,2,   2414.4,2,   7.5470,6,    25.00,      820
  49UF20131006,KS1307,  4004,  1,      9,  21968,2,20131009,0734, 40.0028, 144.9715, 5637,   3559.0,   1.5045,  34.6736,2,  34.6744,2,    139.6,2,   153.63,2,    37.03,2,     0.00,2,     2.58,2,   2333.4,2,   2415.0,2,   7.5565,2,    25.00,      815
  49UF20131006,KS1307,  4004,  1,      8,  21982,2,20131009,0734, 40.0028, 144.9715, 5637,   3811.0,   1.4862,  34.6783,2,  34.6787,6,    145.0,2,   152.03,2,    36.59,2,     0.00,2,     2.54,2,   2330.8,2,   2414.1,2,   7.5654,2,    25.00,      811
  49UF20131006,KS1307,  4004,  1,      7,  21966,2,20131009,0734, 40.0028, 144.9715, 5637,   4070.9,   1.4772,  34.6819,2,  34.6815,2,    149.6,6,   150.43,6,    36.35,6,     0.00,6,     2.52,6,   2327.2,2,   2413.9,2,   7.5754,2,    25.00,      806
  49UF20131006,KS1307,  4004,  1,      6,  21965,2,20131009,0734, 40.0028, 144.9715, 5637,   4324.8,   1.4752,  34.6851,2,  34.6825,4,    153.6,2,   149.46,2,    35.96,2,     0.00,2,     2.50,2,   2323.0,2,   2413.7,2,   7.5804,2,    25.00,      801
  49UF20131006,KS1307,  4004,  1,      5,  21964,2,20131009,0734, 40.0028, 144.9715, 5637,   4581.6,   1.4843,  34.6870,2,  34.6859,2,    156.2,2,   148.48,2,    35.81,2,     0.00,2,     2.49,2,   2322.2,2,   2414.0,2,   7.5828,2,    25.00,      756
  49UF20131006,KS1307,  4004,  1,      4,  21963,2,20131009,0734, 40.0028, 144.9715, 5637,   4839.4,   1.4996,  34.6887,2,  34.6887,2,    158.2,2,   149.00,2,    35.76,2,     0.00,2,     2.48,2,   2318.9,2,   2412.9,2,   7.5860,2,    25.00,      752
  49UF20131006,KS1307,  4004,  1,      3,  22079,4,20131009,0734, 40.0028, 144.9715, 5637,   5095.7,   1.5210,  34.6897,2,  34.6883,4,    158.3,4,   148.16,4,    35.76,4,     0.00,4,     2.48,4,   2317.6,4,   2411.7,4,   7.5859,4,    25.00,      747
  49UF20131006,KS1307,  4004,  1,      2,  21961,2,20131009,0734, 40.0028, 144.9715, 5637,   5615.9,   1.5704,  34.6913,2,  34.6921,6,    163.7,2,   143.44,2,    35.30,2,     0.00,2,     2.45,2,   2316.4,2,   2407.7,2,   7.5925,2,    25.00,      738
  49UF20131006,KS1307,  4004,  1,      1,  21960,2,20131009,0734, 40.0028, 144.9715, 5637,   5753.8,   1.5858,  34.6917,2,  34.6927,2,    163.9,2,   144.12,2,    35.25,2,     0.01,2,     2.45,2,   2314.5,2,   2408.9,2,   7.5957,2,    25.00,      734
  49UF20131006,KS1307,  4005,  1,     99,     99,2,20131009,1851, 39.9907, 146.0120, 5155,      0.0,  14.5014,  32.4526,2,-999.0000,9,    272.3,2,     9.19,2,     4.56,2,     0.10,2,     0.65,2,   -999.0,9,   -999.0,9,-999.0000,9,  -999.00,     1930
  49UF20131006,KS1307,  4005,  1,     36,  21995,2,20131009,1851, 39.9907, 146.0120, 5155,     11.5,  14.4849,  32.4551,2,-999.0000,9,    273.8,2,     9.14,2,     4.56,2,     0.10,2,     0.65,2,   -999.0,9,   -999.0,9,-999.0000,9,  -999.00,     1948
  49UF20131006,KS1307,  4005,  1,     35,  22087,2,20131009,1851, 39.9907, 146.0120, 5155,     28.4,  11.9665,  32.6015,2,-999.0000,9,    286.8,2,    12.27,2,     7.14,2,     0.17,2,     0.90,2,   -999.0,9,   -999.0,9,-999.0000,9,  -999.00,     1946
  49UF20131006,KS1307,  4005,  1,     34,  21971,2,20131009,1851, 39.9907, 146.0120, 5155,     53.0,   2.3617,  32.9419,2,-999.0000,9,    321.8,2,    37.83,2,    22.67,2,     0.65,2,     1.89,2,   -999.0,9,   -999.0,9,-999.0000,9,  -999.00,     1945
  49UF20131006,KS1307,  4005,  1,     33,  21992,2,20131009,1851, 39.9907, 146.0120, 5155,     77.6,   1.3483,  33.0362,2,-999.0000,9,    310.7,2,    43.46,2,    25.82,2,     0.01,2,     2.02,2,   -999.0,9,   -999.0,9,-999.0000,9,  -999.00,     1943
  49UF20131006,KS1307,  4005,  1,     32,  21991,3,20131009,1851, 39.9907, 146.0120, 5155,     77.6,   1.3483,  33.0362,2,-999.0000,9,    311.0,2,    43.40,2,    25.81,2,     0.01,2,     2.02,2,   -999.0,9,   -999.0,9,-999.0000,9,  -999.00,     1943
  49UF20131006,KS1307,  4005,  1,     31,  21990,2,20131009,1851, 39.9907, 146.0120, 5155,    101.4,   1.1889,  33.1111,2,-999.0000,9,    294.3,6,    49.27,6,    27.29,6,     0.01,6,     2.13,6,   -999.0,9,   -999.0,9,-999.0000,9,  -999.00,     1940
  49UF20131006,KS1307,  4005,  1,     27,  21986,2,20131009,1851, 39.9907, 146.0120, 5155,    127.7,   1.3968,  33.2184,2,-999.0000,9,    259.4,2,    56.65,2,    28.99,2,     0.01,2,     2.24,2,   -999.0,9,   -999.0,9,-999.0000,9,  -999.00,     1939
  49UF20131006,KS1307,  4005,  1,     26,  21985,2,20131009,1851, 39.9907, 146.0120, 5155,    153.2,   1.5614,  33.3003,2,-999.0000,9,    233.2,2,    62.66,2,    30.47,2,     0.01,2,     2.35,2,   -999.0,9,   -999.0,9,-999.0000,9,  -999.00,     1938
  49UF20131006,KS1307,  4005,  1,     25,  21984,4,20131009,1851, 39.9907, 146.0120, 5155,    204.2,   1.7535,  33.4299,2,-999.0000,9,     64.3,4,   163.05,4,    41.57,4,     0.00,4,     2.95,4,   -999.0,9,   -999.0,9,-999.0000,9,  -999.00,     1936
  49UF20131006,KS1307,  4005,  1,     21,  21980,2,20131009,1851, 39.9907, 146.0120, 5155,    253.4,   2.0114,  33.5244,2,-999.0000,9,    168.8,2,    77.75,2,    34.94,2,     0.01,2,     2.61,2,   -999.0,9,   -999.0,9,-999.0000,9,  -999.00,     1934
  49UF20131006,KS1307,  4005,  1,     20,  21979,2,20131009,1851, 39.9907, 146.0120, 5155,    305.4,   2.0428,  33.5927,2,-999.0000,9,    153.9,2,    84.30,2,    35.74,2,     0.01,2,     2.67,2,   -999.0,9,   -999.0,9,-999.0000,9,  -999.00,     1932
  49UF20131006,KS1307,  4005,  1,     19,  21978,2,20131009,1851, 39.9907, 146.0120, 5155,    405.6,   2.5612,  33.7945,2,-999.0000,9,     97.1,2,    97.97,2,    39.30,2,     0.01,2,     2.88,2,   -999.0,9,   -999.0,9,-999.0000,9,  -999.00,     1930
  49UF20131006,KS1307,  4005,  1,     15,  21974,2,20131009,1851, 39.9907, 146.0120, 5155,    507.5,   3.0854,  33.9788,2,-999.0000,9,     53.8,2,   110.87,2,    42.05,2,     0.00,2,     3.04,2,   -999.0,9,   -999.0,9,-999.0000,9,  -999.00,     1927
  49UF20131006,KS1307,  4005,  1,     14,  21973,2,20131009,1851, 39.9907, 146.0120, 5155,    610.7,   3.0777,  34.0900,2,-999.0000,9,     40.5,2,   121.43,2,    42.85,2,     0.00,2,     3.07,2,   -999.0,9,   -999.0,9,-999.0000,9,  -999.00,     1924
  49UF20131006,KS1307,  4005,  1,     13,  21972,2,20131009,1851, 39.9907, 146.0120, 5155,    709.9,   3.2142,  34.2290,2,-999.0000,9,     29.9,2,   129.97,2,    43.00,2,     0.00,2,     3.08,2,   -999.0,9,   -999.0,9,-999.0000,9,  -999.00,     1922
  49UF20131006,KS1307,  4005,  1,     12,  21994,2,20131009,1851, 39.9907, 146.0120, 5155,    810.0,   3.1296,  34.3000,2,-999.0000,9,     31.8,2,   134.94,2,    42.72,2,     0.00,2,     3.06,2,   -999.0,9,   -999.0,9,-999.0000,9,  -999.00,     1919
  49UF20131006,KS1307,  4005,  1,     11,  21970,2,20131009,1851, 39.9907, 146.0120, 5155,    810.0,   3.1296,  34.3000,2,-999.0000,9,     31.7,2,   134.76,2,    42.75,2,     0.00,2,     3.06,2,   -999.0,9,   -999.0,9,-999.0000,9,  -999.00,     1919
  49UF20131006,KS1307,  4005,  1,     10,  21969,2,20131009,1851, 39.9907, 146.0120, 5155,    913.9,   2.9980,  34.3492,2,-999.0000,9,     36.6,6,   138.14,6,    42.42,6,     0.00,6,     3.05,6,   -999.0,9,   -999.0,9,-999.0000,9,  -999.00,     1916
  49UF20131006,KS1307,  4005,  1,      6,  21965,2,20131009,1851, 39.9907, 146.0120, 5155,   1014.1,   2.7326,  34.3789,2,-999.0000,9,     28.6,2,   149.22,2,    43.28,2,     0.00,2,     3.10,2,   -999.0,9,   -999.0,9,-999.0000,9,  -999.00,     1913
  49UF20131006,KS1307,  4005,  1,      5,  21964,2,20131009,1851, 39.9907, 146.0120, 5155,   1216.0,   2.5471,  34.4600,2,-999.0000,9,     40.1,2,   152.99,2,    42.56,2,     0.00,2,     3.05,2,   -999.0,9,   -999.0,9,-999.0000,9,  -999.00,     1909
  49UF20131006,KS1307,  4005,  1,      4,  21963,2,20131009,1851, 39.9907, 146.0120, 5155,   1417.8,   2.2815,  34.4958,2,-999.0000,9,     44.7,2,   161.34,2,    42.46,2,     0.00,2,     3.04,2,   -999.0,9,   -999.0,9,-999.0000,9,  -999.00,     1904
  49UF20131006,KS1307,  4005,  1,      3,  22079,2,20131009,1851, 39.9907, 146.0120, 5155,   1621.1,   2.1750,  34.5418,2,-999.0000,9,     55.1,2,   161.45,2,    41.86,2,     0.00,2,     2.99,2,   -999.0,9,   -999.0,9,-999.0000,9,  -999.00,     1859
  49UF20131006,KS1307,  4005,  1,      2,  21961,2,20131009,1851, 39.9907, 146.0120, 5155,   1822.5,   2.0206,  34.5782,2,-999.0000,9,     68.1,2,   162.16,2,    41.30,2,     0.00,2,     2.93,2,   -999.0,9,   -999.0,9,-999.0000,9,  -999.00,     1855
  49UF20131006,KS1307,  4005,  1,      1,  21960,2,20131009,1851, 39.9907, 146.0120, 5155,   2035.0,   1.8948,  34.6018,2,-999.0000,9,     80.7,2,   161.95,2,    40.64,2,     0.00,2,     2.87,2,   -999.0,9,   -999.0,9,-999.0000,9,  -999.00,     1851