BOTTLE,20191021PRINUNIVRMK
EXPOCODE,SECT_ID,STNNBR,CASTNO,SAMPNO,BTLNBR,BTLNBR_FLAG_W,DATE,TIME,LATITUDE,LONGITUDE,DEPTH,CTDPRS,CTDTMP,CTDSAL,CTDSAL_FLAG_W,SALNTY,SALNTY_FLAG_W,OXYGEN,OXYGEN_FLAG_W,SILCAT,SILCAT_FLAG_W,NITRAT,NITRAT_FLAG_W,NITRIT,NITRIT_FLAG_W,PHSPHT,PHSPHT_FLAG_W,TCARBN,TCARBN_FLAG_W,ALKALI,ALKALI_FLAG_W,PH_TOT,PH_TOT_FLAG_W,PH_TMP,BTL_TIME
,,,,,,,,,,,METERS,DBAR,ITS-90,PSS-78,,PSS-78,,UMOL/KG,,UMOL/KG,,UMOL/KG,,UMOL/KG,,UMOL/KG,,UMOL/KG,,UMOL/KG,,,,DEG C,
  49UF20131006,KS1307,  4006,  1,     99,     99,2,20131010,0532, 40.0072, 146.9987, 5271,      0.0,  18.4600,  32.9448,2,-999.0000,9,    245.0,2,     2.14,2,     0.37,2,     0.02,2,     0.20,2,   -999.0,9,   -999.0,9,-999.0000,9,  -999.00,      605
  49UF20131006,KS1307,  4006,  1,     36,  21995,2,20131010,0532, 40.0072, 146.9987, 5271,     11.1,  18.4621,  32.9444,2,-999.0000,9,    244.8,2,     2.18,2,     0.33,2,     0.01,2,     0.20,2,   -999.0,9,   -999.0,9,-999.0000,9,  -999.00,      628
  49UF20131006,KS1307,  4006,  1,     35,  22087,2,20131010,0532, 40.0072, 146.9987, 5271,     25.8,  18.2547,  32.9358,2,-999.0000,9,    253.1,2,     3.84,2,     1.38,2,     0.04,2,     0.31,2,   -999.0,9,   -999.0,9,-999.0000,9,  -999.00,      627
  49UF20131006,KS1307,  4006,  1,     34,  21971,2,20131010,0532, 40.0072, 146.9987, 5271,     51.5,   2.9972,  32.9686,2,  32.9834,2,    328.2,2,    35.30,2,    21.14,2,     0.77,2,     1.84,2,   -999.0,9,   -999.0,9,-999.0000,9,  -999.00,      625
  49UF20131006,KS1307,  4006,  1,     33,  21992,2,20131010,0532, 40.0072, 146.9987, 5271,     76.9,   1.8022,  33.0960,2,  33.1078,2,    305.0,2,    42.18,2,    25.05,2,     0.00,2,     1.96,2,   -999.0,9,   -999.0,9,-999.0000,9,  -999.00,      624
  49UF20131006,KS1307,  4006,  1,     32,  21991,2,20131010,0532, 40.0072, 146.9987, 5271,    102.1,   3.0033,  33.3388,2,  33.3459,2,    268.7,2,    43.29,2,    24.49,2,     0.00,2,     1.90,2,   -999.0,9,   -999.0,9,-999.0000,9,  -999.00,      620
  49UF20131006,KS1307,  4006,  1,     31,  21990,2,20131010,0532, 40.0072, 146.9987, 5271,    102.1,   3.0033,  33.3388,2,  33.3459,2,    268.2,2,    43.46,2,    24.64,2,     0.00,2,     1.90,2,   -999.0,9,   -999.0,9,-999.0000,9,  -999.00,      620
  49UF20131006,KS1307,  4006,  1,     27,  21986,2,20131010,0532, 40.0072, 146.9987, 5271,    125.9,   2.7486,  33.3840,2,-999.0000,9,    251.7,6,    49.40,6,    26.40,6,     0.00,6,     2.03,6,   -999.0,9,   -999.0,9,-999.0000,9,  -999.00,      619
  49UF20131006,KS1307,  4006,  1,     26,  21985,2,20131010,0532, 40.0072, 146.9987, 5271,    152.9,   2.9712,  33.4677,2,  33.4742,2,    236.1,2,    51.18,2,    26.90,2,     0.00,2,     2.05,2,   -999.0,9,   -999.0,9,-999.0000,9,  -999.00,      618
  49UF20131006,KS1307,  4006,  1,     25,  21984,2,20131010,0532, 40.0072, 146.9987, 5271,    201.8,   3.6362,  33.6720,2,-999.0000,9,    176.6,2,    65.24,2,    31.36,2,     0.00,2,     2.34,2,   -999.0,9,   -999.0,9,-999.0000,9,  -999.00,      616
  49UF20131006,KS1307,  4006,  1,     21,  21980,2,20131010,0532, 40.0072, 146.9987, 5271,    252.9,   4.3284,  33.8645,2,  33.8653,2,    135.8,2,    72.52,2,    33.18,2,     0.01,2,     2.44,2,   -999.0,9,   -999.0,9,-999.0000,9,  -999.00,      614
  49UF20131006,KS1307,  4006,  1,     20,  21979,2,20131010,0532, 40.0072, 146.9987, 5271,    302.7,   3.1703,  33.7894,2,  33.7909,2,    104.5,2,    87.87,2,    38.37,2,     0.00,2,     2.79,2,   -999.0,9,   -999.0,9,-999.0000,9,  -999.00,      612
  49UF20131006,KS1307,  4006,  1,     19,  21978,2,20131010,0532, 40.0072, 146.9987, 5271,    404.6,   4.3834,  34.1269,2,  34.1262,2,     72.9,2,    96.65,2,    38.37,2,     0.00,2,     2.76,2,   -999.0,9,   -999.0,9,-999.0000,9,  -999.00,      609
  49UF20131006,KS1307,  4006,  1,     15,  21974,4,20131010,0532, 40.0072, 146.9987, 5271,    504.0,   3.4009,  34.1075,2,-999.0000,9,   -999.0,9,  -999.00,9,  -999.00,9,  -999.00,9,  -999.00,9,   -999.0,9,   -999.0,9,-999.0000,9,  -999.00,      607
  49UF20131006,KS1307,  4006,  1,     14,  21973,2,20131010,0532, 40.0072, 146.9987, 5271,    605.9,   3.3980,  34.2159,2,  34.2161,2,     36.3,2,   123.86,2,    42.50,2,     0.00,2,     3.03,2,   -999.0,9,   -999.0,9,-999.0000,9,  -999.00,      604
  49UF20131006,KS1307,  4006,  1,     13,  21972,2,20131010,0532, 40.0072, 146.9987, 5271,    708.1,   3.0879,  34.2630,2,  34.2634,2,     27.5,2,   135.25,2,    43.39,2,     0.00,2,     3.10,2,   -999.0,9,   -999.0,9,-999.0000,9,  -999.00,      601
  49UF20131006,KS1307,  4006,  1,     12,  21994,2,20131010,0532, 40.0072, 146.9987, 5271,    809.6,   3.2185,  34.3661,2,-999.0000,9,     42.2,2,   133.04,2,    42.04,2,     0.00,2,     3.00,2,   -999.0,9,   -999.0,9,-999.0000,9,  -999.00,      559
  49UF20131006,KS1307,  4006,  1,     11,  21970,2,20131010,0532, 40.0072, 146.9987, 5271,    908.3,   2.9855,  34.3982,2,  34.3987,2,     39.6,2,   139.90,2,    42.41,2,     0.00,2,     3.03,2,   -999.0,9,   -999.0,9,-999.0000,9,  -999.00,      556
  49UF20131006,KS1307,  4006,  1,     10,  21969,2,20131010,0532, 40.0072, 146.9987, 5271,    908.3,   2.9855,  34.3982,2,  34.3970,2,     39.5,2,   139.71,2,    42.49,2,     0.00,2,     3.04,2,   -999.0,9,   -999.0,9,-999.0000,9,  -999.00,      556
  49UF20131006,KS1307,  4006,  1,      6,  21965,2,20131010,0532, 40.0072, 146.9987, 5271,   1010.8,   2.8146,  34.4281,2,  34.4282,2,     38.5,2,   145.02,6,    42.66,6,     0.00,6,     3.05,6,   -999.0,9,   -999.0,9,-999.0000,9,  -999.00,      553
  49UF20131006,KS1307,  4006,  1,      5,  21964,2,20131010,0532, 40.0072, 146.9987, 5271,   1213.2,   2.4785,  34.4756,2,  34.4766,6,     41.6,2,   154.91,2,    42.82,2,     0.00,2,     3.05,2,   -999.0,9,   -999.0,9,-999.0000,9,  -999.00,      549
  49UF20131006,KS1307,  4006,  1,      4,  21963,2,20131010,0532, 40.0072, 146.9987, 5271,   1415.2,   2.2458,  34.5183,2,  34.5183,2,     49.6,2,   161.19,2,    42.34,2,     0.00,2,     3.01,2,   -999.0,9,   -999.0,9,-999.0000,9,  -999.00,      545
  49UF20131006,KS1307,  4006,  1,      3,  22079,2,20131010,0532, 40.0072, 146.9987, 5271,   1618.8,   2.1079,  34.5580,2,  34.5563,2,     59.6,2,   161.78,2,    41.88,2,     0.00,2,     2.96,2,   -999.0,9,   -999.0,9,-999.0000,9,  -999.00,      540
  49UF20131006,KS1307,  4006,  1,      2,  21961,2,20131010,0532, 40.0072, 146.9987, 5271,   1821.8,   1.9633,  34.5877,2,  34.5893,2,     72.0,2,   162.74,2,    41.10,2,     0.00,2,     2.91,2,   -999.0,9,   -999.0,9,-999.0000,9,  -999.00,      536
  49UF20131006,KS1307,  4006,  1,      1,  21960,2,20131010,0532, 40.0072, 146.9987, 5271,   2037.7,   1.8461,  34.6094,2,  34.6108,2,     83.8,2,   162.85,2,    40.41,2,     0.00,2,     2.86,2,   -999.0,9,   -999.0,9,-999.0000,9,  -999.00,      532
  49UF20131006,KS1307,  4007,  1,     99,     99,2,20131010,1253, 39.9970, 148.0275, 5312,      0.0,  18.6478,  33.4253,2,-999.0000,9,    239.6,2,     4.40,2,     0.08,2,     0.02,2,     0.13,2,   -999.0,9,   -999.0,9,-999.0000,9,  -999.00,     1335
  49UF20131006,KS1307,  4007,  1,     36,  21995,2,20131010,1253, 39.9970, 148.0275, 5312,     10.9,  18.6460,  33.4246,2,-999.0000,9,    240.5,2,     4.41,2,     0.07,2,     0.02,2,     0.14,2,   -999.0,9,   -999.0,9,-999.0000,9,  -999.00,     1359
  49UF20131006,KS1307,  4007,  1,     35,  22087,2,20131010,1253, 39.9970, 148.0275, 5312,     27.8,  18.2802,  33.3558,2,-999.0000,9,    243.0,2,     4.85,2,     0.18,2,     0.02,2,     0.16,2,   -999.0,9,   -999.0,9,-999.0000,9,  -999.00,     1357
  49UF20131006,KS1307,  4007,  1,     34,  21971,2,20131010,1253, 39.9970, 148.0275, 5312,     51.4,  11.2923,  33.0512,2,-999.0000,9,    268.3,2,    14.19,2,     6.72,2,     0.45,2,     0.80,2,   -999.0,9,   -999.0,9,-999.0000,9,  -999.00,     1356
  49UF20131006,KS1307,  4007,  1,     33,  21992,2,20131010,1253, 39.9970, 148.0275, 5312,     77.1,   3.1633,  33.0857,2,-999.0000,9,    297.1,2,    35.03,2,    21.66,2,     0.02,2,     1.77,2,   -999.0,9,   -999.0,9,-999.0000,9,  -999.00,     1354
  49UF20131006,KS1307,  4007,  1,     32,  21991,2,20131010,1253, 39.9970, 148.0275, 5312,    104.5,   2.6969,  33.2121,2,-999.0000,9,    283.1,2,    41.13,2,    23.87,2,     0.01,2,     1.88,2,   -999.0,9,   -999.0,9,-999.0000,9,  -999.00,     1350
  49UF20131006,KS1307,  4007,  1,     31,  21990,2,20131010,1253, 39.9970, 148.0275, 5312,    127.0,   2.6822,  33.2912,2,-999.0000,9,    271.1,2,    44.17,2,    24.78,2,     0.01,2,     1.93,2,   -999.0,9,   -999.0,9,-999.0000,9,  -999.00,     1349
  49UF20131006,KS1307,  4007,  1,     27,  21986,2,20131010,1253, 39.9970, 148.0275, 5312,    153.8,   4.2544,  33.5821,2,-999.0000,9,    233.6,2,    44.18,2,    24.14,2,     0.02,2,     1.83,2,   -999.0,9,   -999.0,9,-999.0000,9,  -999.00,     1347
  49UF20131006,KS1307,  4007,  1,     26,  21985,2,20131010,1253, 39.9970, 148.0275, 5312,    153.8,   4.2544,  33.5821,2,-999.0000,9,    233.4,2,    44.19,2,    24.00,2,     0.01,2,     1.84,2,   -999.0,9,   -999.0,9,-999.0000,9,  -999.00,     1347
  49UF20131006,KS1307,  4007,  1,     25,  21984,2,20131010,1253, 39.9970, 148.0275, 5312,    203.9,   3.9148,  33.6514,2,-999.0000,9,    204.7,6,    54.99,6,    27.76,6,     0.02,6,     2.10,6,   -999.0,9,   -999.0,9,-999.0000,9,  -999.00,     1345
  49UF20131006,KS1307,  4007,  1,     21,  21980,2,20131010,1253, 39.9970, 148.0275, 5312,    253.6,   3.4709,  33.6798,2,-999.0000,9,    172.8,2,    66.72,2,    31.73,2,     0.01,2,     2.36,2,   -999.0,9,   -999.0,9,-999.0000,9,  -999.00,     1342
  49UF20131006,KS1307,  4007,  1,     20,  21979,2,20131010,1253, 39.9970, 148.0275, 5312,    304.5,   5.3584,  34.0399,2,-999.0000,9,    122.3,2,    71.85,2,    32.46,2,     0.01,2,     2.36,2,   -999.0,9,   -999.0,9,-999.0000,9,  -999.00,     1340
  49UF20131006,KS1307,  4007,  1,     19,  21978,2,20131010,1253, 39.9970, 148.0275, 5312,    407.4,   4.3116,  34.0157,2,-999.0000,9,     92.7,2,    87.50,2,    36.84,2,     0.01,2,     2.67,2,   -999.0,9,   -999.0,9,-999.0000,9,  -999.00,     1337
  49UF20131006,KS1307,  4007,  1,     15,  21974,2,20131010,1253, 39.9970, 148.0275, 5312,    507.7,   3.5026,  34.0564,2,-999.0000,9,     49.7,2,   108.62,2,    41.58,2,     0.00,2,     2.99,2,   -999.0,9,   -999.0,9,-999.0000,9,  -999.00,     1334
  49UF20131006,KS1307,  4007,  1,     14,  21973,2,20131010,1253, 39.9970, 148.0275, 5312,    609.1,   3.5609,  34.1873,2,-999.0000,9,     40.7,2,   118.59,2,    41.94,2,     0.00,2,     3.01,2,   -999.0,9,   -999.0,9,-999.0000,9,  -999.00,     1330
  49UF20131006,KS1307,  4007,  1,     13,  21972,2,20131010,1253, 39.9970, 148.0275, 5312,    710.8,   3.3522,  34.2575,2,-999.0000,9,     36.1,2,   126.90,2,    42.39,2,     0.00,2,     3.04,2,   -999.0,9,   -999.0,9,-999.0000,9,  -999.00,     1327
  49UF20131006,KS1307,  4007,  1,     12,  21994,2,20131010,1253, 39.9970, 148.0275, 5312,    812.3,   3.1019,  34.3010,2,-999.0000,9,     32.8,2,   135.30,2,    42.84,2,     0.00,2,     3.06,2,   -999.0,9,   -999.0,9,-999.0000,9,  -999.00,     1324
  49UF20131006,KS1307,  4007,  1,     11,  21970,2,20131010,1253, 39.9970, 148.0275, 5312,    910.4,   2.8784,  34.3388,2,-999.0000,9,     30.1,2,   143.32,2,    43.01,2,     0.00,2,     3.09,2,   -999.0,9,   -999.0,9,-999.0000,9,  -999.00,     1321
  49UF20131006,KS1307,  4007,  1,     10,  21969,2,20131010,1253, 39.9970, 148.0275, 5312,   1014.9,   2.8804,  34.4183,2,-999.0000,9,     40.6,2,   142.53,2,    42.51,2,     0.00,2,     3.04,2,   -999.0,9,   -999.0,9,-999.0000,9,  -999.00,     1318
  49UF20131006,KS1307,  4007,  1,      6,  21965,2,20131010,1253, 39.9970, 148.0275, 5312,   1217.6,   2.5711,  34.4727,2,-999.0000,9,     41.6,2,   151.20,2,    42.69,2,     0.00,2,     3.05,2,   -999.0,9,   -999.0,9,-999.0000,9,  -999.00,     1312
  49UF20131006,KS1307,  4007,  1,      5,  21964,2,20131010,1253, 39.9970, 148.0275, 5312,   1217.6,   2.5711,  34.4727,2,-999.0000,9,     41.1,2,   151.83,2,    42.66,2,     0.00,2,     3.06,2,   -999.0,9,   -999.0,9,-999.0000,9,  -999.00,     1312
  49UF20131006,KS1307,  4007,  1,      4,  21963,2,20131010,1253, 39.9970, 148.0275, 5312,   1418.8,   2.3273,  34.5195,2,-999.0000,9,     47.8,6,   158.16,6,    42.53,6,     0.00,6,     3.03,6,   -999.0,9,   -999.0,9,-999.0000,9,  -999.00,     1307
  49UF20131006,KS1307,  4007,  1,      3,  22079,2,20131010,1253, 39.9970, 148.0275, 5312,   1619.6,   2.1526,  34.5533,2,-999.0000,9,     57.1,2,   161.05,2,    41.99,2,     0.00,2,     2.97,2,   -999.0,9,   -999.0,9,-999.0000,9,  -999.00,     1302
  49UF20131006,KS1307,  4007,  1,      2,  21961,2,20131010,1253, 39.9970, 148.0275, 5312,   1824.7,   1.9870,  34.5840,2,-999.0000,9,     69.7,2,   162.87,2,    41.33,2,     0.00,2,     2.92,2,   -999.0,9,   -999.0,9,-999.0000,9,  -999.00,     1258
  49UF20131006,KS1307,  4007,  1,      1,  21960,2,20131010,1253, 39.9970, 148.0275, 5312,   2027.3,   1.8838,  34.6033,2,-999.0000,9,     80.5,2,   162.67,2,    40.65,2,     0.00,2,     2.88,2,   -999.0,9,   -999.0,9,-999.0000,9,  -999.00,     1253