BOTTLE,20191021PRINUNIVRMK
EXPOCODE,SECT_ID,STNNBR,CASTNO,SAMPNO,BTLNBR,BTLNBR_FLAG_W,DATE,TIME,LATITUDE,LONGITUDE,DEPTH,CTDPRS,CTDTMP,CTDSAL,CTDSAL_FLAG_W,SALNTY,SALNTY_FLAG_W,OXYGEN,OXYGEN_FLAG_W,SILCAT,SILCAT_FLAG_W,NITRAT,NITRAT_FLAG_W,NITRIT,NITRIT_FLAG_W,PHSPHT,PHSPHT_FLAG_W,TCARBN,TCARBN_FLAG_W,ALKALI,ALKALI_FLAG_W,PH_TOT,PH_TOT_FLAG_W,PH_TMP,BTL_TIME
,,,,,,,,,,,METERS,DBAR,ITS-90,PSS-78,,PSS-78,,UMOL/KG,,UMOL/KG,,UMOL/KG,,UMOL/KG,,UMOL/KG,,UMOL/KG,,UMOL/KG,,,,DEG C,
  49UF20130412,KS1303,  3839,  1,     99,     99,2,20130426,1411, 24.6657, 129.9967, 4228,      0.0,  22.4304,  34.7757,2,  34.7652,2,    220.0,2,     1.47,2,     0.03,2,     0.00,2,     0.02,2,   1977.4,2,   2281.3,2,   8.0571,2,    25.00,     1441
  49UF20130412,KS1303,  3839,  1,     33,  21992,2,20130426,1411, 24.6657, 129.9967, 4228,     11.5,  22.4313,  34.7711,2,  34.7696,6,    219.7,2,     1.47,2,     0.00,2,     0.00,2,     0.01,2,   1979.3,2,   2280.8,2,   8.0623,2,    25.00,     1512
  49UF20130412,KS1303,  3839,  1,     32,  21991,2,20130426,1411, 24.6657, 129.9967, 4228,     25.5,  22.4215,  34.7684,2,-999.0000,9,    220.2,2,     1.47,2,     0.00,2,     0.00,2,     0.01,2,   1976.2,2,   2280.5,2,   8.0621,2,    25.00,     1511
  49UF20130412,KS1303,  3839,  1,     31,  21990,2,20130426,1411, 24.6657, 129.9967, 4228,     51.2,  21.5925,  34.8296,2,-999.0000,9,    223.7,2,     1.60,2,     0.00,2,     0.00,2,     0.01,2,   1987.2,2,   2282.4,2,   8.0600,2,    25.00,     1510
  49UF20130412,KS1303,  3839,  1,     30,  21989,2,20130426,1411, 24.6657, 129.9967, 4228,     75.0,  20.8034,  34.8197,2,-999.0000,9,    221.8,2,     1.78,2,     0.00,2,     0.00,2,     0.02,2,   1990.9,2,   2280.1,2,   8.0404,2,    25.00,     1508
  49UF20130412,KS1303,  3839,  1,     29,  21988,2,20130426,1411, 24.6657, 129.9967, 4228,    100.7,  20.2236,  34.8081,2,  34.8041,2,    222.3,2,     1.86,2,     0.03,2,     0.07,2,     0.03,2,   1992.7,2,   2280.5,2,   8.0343,2,    25.00,     1507
  49UF20130412,KS1303,  3839,  1,     28,  21987,2,20130426,1411, 24.6657, 129.9967, 4228,    125.8,  19.8530,  34.8155,2,-999.0000,9,    217.2,2,     2.08,2,     0.75,2,     0.07,2,     0.07,2,   2004.7,2,   2281.2,2,   8.0209,2,    25.00,     1505
  49UF20130412,KS1303,  3839,  1,     24,  21983,2,20130426,1411, 24.6657, 129.9967, 4228,    150.9,  19.1878,  34.7822,2,-999.0000,9,    212.6,6,     2.42,6,     1.75,6,     0.02,6,     0.13,6,   2009.6,2,   2278.8,2,   8.0034,2,    25.00,     1504
  49UF20130412,KS1303,  3839,  1,     23,  22095,2,20130426,1411, 24.6657, 129.9967, 4228,    202.1,  18.4527,  34.7634,2,  34.7612,2,    207.8,2,     3.15,2,     3.08,2,     0.01,2,     0.21,2,   2023.1,2,   2273.4,2,   7.9813,2,    25.00,     1500
  49UF20130412,KS1303,  3839,  1,     22,  21981,2,20130426,1411, 24.6657, 129.9967, 4228,    202.1,  18.4527,  34.7634,2,  34.7622,2,    208.0,2,     3.10,2,     2.99,2,     0.01,2,     0.21,2,   2020.3,2,   2275.0,2,   7.9819,2,    25.00,     1459
  49UF20130412,KS1303,  3839,  1,     21,  21980,2,20130426,1411, 24.6657, 129.9967, 4228,    252.7,  17.5463,  34.7267,2,-999.0000,9,    203.2,2,     4.18,2,     4.64,2,     0.01,2,     0.32,2,   2033.6,6,   2275.2,6,   7.9545,2,    25.00,     1457
  49UF20130412,KS1303,  3839,  1,     20,  21979,2,20130426,1411, 24.6657, 129.9967, 4228,    302.2,  16.6612,  34.6744,2,-999.0000,9,    200.3,2,     5.99,2,     6.24,2,     0.01,2,     0.43,2,   2048.1,2,   2274.7,2,   7.9302,6,    25.00,     1455
  49UF20130412,KS1303,  3839,  1,     19,  21978,2,20130426,1411, 24.6657, 129.9967, 4228,    402.6,  14.7568,  34.5405,2,  34.5394,2,    186.6,2,    10.99,2,    10.34,2,     0.01,2,     0.72,2,   2080.9,2,   2271.1,2,   7.8624,2,    25.00,     1453
  49UF20130412,KS1303,  3839,  1,     18,  21977,2,20130426,1411, 24.6657, 129.9967, 4228,    504.1,  11.2890,  34.3142,2,-999.0000,9,    169.8,2,    23.59,2,    17.55,2,     0.00,2,     1.25,2,   2129.6,2,   2269.9,2,   7.7414,2,    25.00,     1450
  49UF20130412,KS1303,  3839,  1,     17,  23679,2,20130426,1411, 24.6657, 129.9967, 4228,    606.0,   8.5130,  34.1947,2,  34.1936,2,    142.3,2,    44.58,2,    25.01,2,     0.00,2,     1.79,2,   2188.3,2,   2281.4,2,   7.6264,2,    25.00,     1447
  49UF20130412,KS1303,  3839,  1,     16,  21975,2,20130426,1411, 24.6657, 129.9967, 4228,    706.6,   6.5666,  34.1579,2,-999.0000,9,    111.5,2,    65.88,2,    31.24,2,     0.00,2,     2.25,2,   2241.9,2,   2299.3,2,   7.5224,2,    25.00,     1444
  49UF20130412,KS1303,  3839,  1,     12,  21994,2,20130426,1411, 24.6657, 129.9967, 4228,    808.6,   5.3090,  34.1994,2,  34.1985,2,     83.1,2,    85.68,2,    35.78,2,     0.00,2,     2.58,2,   2282.2,2,   2315.6,2,   7.4472,2,    25.00,     1441
  49UF20130412,KS1303,  3839,  1,     11,  21970,2,20130426,1411, 24.6657, 129.9967, 4228,    909.3,   4.4497,  34.2786,2,-999.0000,9,     65.8,2,   102.95,2,    38.63,2,     0.00,2,     2.77,2,   2313.6,2,   2338.2,2,   7.4106,2,    25.00,     1438
  49UF20130412,KS1303,  3839,  1,     10,  21969,2,20130426,1411, 24.6657, 129.9967, 4228,   1011.9,   3.8098,  34.3506,2,  34.3487,2,     58.0,6,   116.47,6,    40.19,6,     0.00,6,     2.88,6,   2333.4,2,   2352.0,2,   7.3942,2,    25.00,     1435
  49UF20130412,KS1303,  3839,  1,      9,  21968,2,20130426,1411, 24.6657, 129.9967, 4228,   1212.6,   3.0655,  34.4611,2,  34.4652,2,     65.8,2,   131.86,2,    40.59,2,     0.00,2,     2.89,2,   2354.2,2,   2382.5,3,   7.4168,2,    25.00,     1430
  49UF20130412,KS1303,  3839,  1,      8,  21982,3,20130426,1411, 24.6657, 129.9967, 4228,   1212.6,   3.0655,  34.4611,2,  34.4601,2,     65.7,2,   131.69,2,    40.61,2,     0.00,2,     2.89,2,   2353.5,2,   2375.4,2,   7.4151,2,    25.00,     1430
  49UF20130412,KS1303,  3839,  1,      7,  21966,2,20130426,1411, 24.6657, 129.9967, 4228,   1413.2,   2.6249,  34.5248,2,  34.5248,2,     80.7,2,   138.18,2,    39.91,2,     0.00,2,     2.83,2,   2350.9,2,   2390.0,2,   7.4448,6,    25.00,     1425
  49UF20130412,KS1303,  3839,  1,      3,  22079,2,20130426,1411, 24.6657, 129.9967, 4228,   1618.2,   2.3043,  34.5667,2,  34.5664,2,     95.7,2,   141.11,2,    39.19,2,     0.00,2,     2.77,2,   2351.3,6,   2399.7,6,   7.4723,2,    25.00,     1421
  49UF20130412,KS1303,  3839,  1,      2,  21961,2,20130426,1411, 24.6657, 129.9967, 4228,   1820.3,   2.0988,  34.5975,2,  34.5971,2,    108.3,2,   141.86,2,    38.56,2,     0.00,2,     2.72,2,   2348.4,2,   2400.5,2,   7.4979,2,    25.00,     1416
  49UF20130412,KS1303,  3839,  1,      1,  21960,2,20130426,1411, 24.6657, 129.9967, 4228,   2023.2,   1.9513,  34.6177,2,  34.6176,6,    117.1,2,   142.29,2,    38.05,2,     0.00,2,     2.68,2,   2342.6,2,   2402.5,2,   7.5121,2,    25.00,     1411
  49UF20130412,KS1303,  3842,  1,     99,     99,2,20130427,0147, 23.9887, 130.9918, 3361,      0.0,  22.7597,  34.8303,2,-999.0000,9,    219.2,2,     1.48,2,     0.04,2,     0.00,2,     0.03,2,   -999.0,9,   -999.0,9,-999.0000,9,  -999.00,      229
  49UF20130412,KS1303,  3842,  1,     33,  21992,2,20130427,0147, 23.9887, 130.9918, 3361,     11.9,  22.7608,  34.8261,2,  34.8279,2,    219.1,2,     1.44,2,     0.00,2,     0.00,2,     0.01,2,   -999.0,9,   -999.0,9,-999.0000,9,  -999.00,      255
  49UF20130412,KS1303,  3842,  1,     32,  21991,2,20130427,0147, 23.9887, 130.9918, 3361,     26.3,  22.7302,  34.8255,2,-999.0000,9,    219.5,2,     1.43,2,     0.00,2,     0.00,2,     0.01,2,   -999.0,9,   -999.0,9,-999.0000,9,  -999.00,      253
  49UF20130412,KS1303,  3842,  1,     31,  21990,2,20130427,0147, 23.9887, 130.9918, 3361,     52.4,  21.3858,  34.8093,2,-999.0000,9,    224.6,2,     1.52,2,     0.00,2,     0.00,2,     0.01,2,   -999.0,9,   -999.0,9,-999.0000,9,  -999.00,      251
  49UF20130412,KS1303,  3842,  1,     30,  21989,3,20130427,0147, 23.9887, 130.9918, 3361,     77.1,  20.3191,  34.7904,2,-999.0000,9,    221.5,2,     1.77,2,    -0.02,2,     0.02,2,     0.03,2,   -999.0,9,   -999.0,9,-999.0000,9,  -999.00,      250
  49UF20130412,KS1303,  3842,  1,     29,  21988,3,20130427,0147, 23.9887, 130.9918, 3361,    102.9,  19.9413,  34.7907,2,  34.7900,2,    215.0,2,     1.96,2,     0.85,2,     0.06,2,     0.08,2,   -999.0,9,   -999.0,9,-999.0000,9,  -999.00,      247
  49UF20130412,KS1303,  3842,  1,     28,  21987,2,20130427,0147, 23.9887, 130.9918, 3361,    126.8,  19.7347,  34.7952,2,-999.0000,9,    216.0,6,     1.98,6,     0.92,6,     0.04,6,     0.08,6,   -999.0,9,   -999.0,9,-999.0000,9,  -999.00,      245
  49UF20130412,KS1303,  3842,  1,     24,  21983,2,20130427,0147, 23.9887, 130.9918, 3361,    155.2,  19.1702,  34.8070,2,-999.0000,9,    213.2,2,     2.36,2,     1.60,2,     0.03,2,     0.12,2,   -999.0,9,   -999.0,9,-999.0000,9,  -999.00,      241
  49UF20130412,KS1303,  3842,  1,     23,  22095,2,20130427,0147, 23.9887, 130.9918, 3361,    155.2,  19.1702,  34.8070,2,-999.0000,9,    213.0,2,     2.37,2,     1.58,2,     0.03,2,     0.12,2,   -999.0,9,   -999.0,9,-999.0000,9,  -999.00,      241
  49UF20130412,KS1303,  3842,  1,     22,  21981,2,20130427,0147, 23.9887, 130.9918, 3361,    202.5,  18.2019,  34.7549,2,  34.7543,2,    202.0,2,     3.56,2,     3.84,2,     0.02,2,     0.26,2,   -999.0,9,   -999.0,9,-999.0000,9,  -999.00,      238
  49UF20130412,KS1303,  3842,  1,     21,  21980,2,20130427,0147, 23.9887, 130.9918, 3361,    253.5,  17.2454,  34.7145,2,-999.0000,9,    206.9,2,     4.34,2,     4.67,2,     0.01,2,     0.32,2,   -999.0,9,   -999.0,9,-999.0000,9,  -999.00,      236
  49UF20130412,KS1303,  3842,  1,     20,  21979,2,20130427,0147, 23.9887, 130.9918, 3361,    303.2,  16.4195,  34.6580,2,-999.0000,9,    198.6,2,     6.63,2,     6.80,2,     0.01,2,     0.46,2,   -999.0,9,   -999.0,9,-999.0000,9,  -999.00,      234
  49UF20130412,KS1303,  3842,  1,     19,  21978,2,20130427,0147, 23.9887, 130.9918, 3361,    405.5,  14.1733,  34.5047,2,  34.5051,2,    183.1,2,    13.14,2,    11.63,2,     0.01,2,     0.81,2,   -999.0,9,   -999.0,9,-999.0000,9,  -999.00,      230
  49UF20130412,KS1303,  3842,  1,     18,  21977,2,20130427,0147, 23.9887, 130.9918, 3361,    505.3,  11.0768,  34.3165,2,-999.0000,9,    167.8,2,    27.34,2,    18.13,2,     0.01,2,     1.30,2,   -999.0,9,   -999.0,9,-999.0000,9,  -999.00,      227
  49UF20130412,KS1303,  3842,  1,     17,  23679,2,20130427,0147, 23.9887, 130.9918, 3361,    607.4,   8.2214,  34.1710,2,  34.1740,2,    141.4,2,    45.20,2,    25.38,2,     0.00,2,     1.83,2,   -999.0,9,   -999.0,9,-999.0000,9,  -999.00,      224
  49UF20130412,KS1303,  3842,  1,     16,  21975,2,20130427,0147, 23.9887, 130.9918, 3361,    706.6,   6.2598,  34.1555,2,-999.0000,9,    102.9,2,    68.96,2,    32.47,2,     0.00,2,     2.35,2,   -999.0,9,   -999.0,9,-999.0000,9,  -999.00,      221
  49UF20130412,KS1303,  3842,  1,     12,  21994,2,20130427,0147, 23.9887, 130.9918, 3361,    808.8,   5.1161,  34.2113,2,  34.2104,2,     78.0,2,    88.64,2,    36.62,2,     0.00,2,     2.64,2,   -999.0,9,   -999.0,9,-999.0000,9,  -999.00,      217
  49UF20130412,KS1303,  3842,  1,     11,  21970,2,20130427,0147, 23.9887, 130.9918, 3361,    909.0,   4.3284,  34.2891,2,-999.0000,9,     63.3,6,   105.26,6,    39.00,6,     0.00,6,     2.81,6,   -999.0,9,   -999.0,9,-999.0000,9,  -999.00,      214
  49UF20130412,KS1303,  3842,  1,     10,  21969,2,20130427,0147, 23.9887, 130.9918, 3361,   1012.2,   3.8699,  34.3743,2,  34.3764,2,     58.0,2,   114.36,2,    40.32,2,     0.00,2,     2.89,2,   -999.0,9,   -999.0,9,-999.0000,9,  -999.00,      211
  49UF20130412,KS1303,  3842,  1,      9,  21968,2,20130427,0147, 23.9887, 130.9918, 3361,   1012.2,   3.8699,  34.3743,2,  34.3715,6,     57.7,2,   114.36,2,    40.33,2,     0.00,2,     2.89,2,   -999.0,9,   -999.0,9,-999.0000,9,  -999.00,      211
  49UF20130412,KS1303,  3842,  1,      8,  21982,2,20130427,0147, 23.9887, 130.9918, 3361,   1209.4,   3.2016,  34.4755,2,  34.4754,2,     68.9,2,   128.13,2,    40.30,2,     0.00,2,     2.88,2,   -999.0,9,   -999.0,9,-999.0000,9,  -999.00,      206
  49UF20130412,KS1303,  3842,  1,      7,  21966,2,20130427,0147, 23.9887, 130.9918, 3361,   1415.7,   2.7678,  34.5337,2,  34.5331,6,     84.7,2,   134.86,2,    39.43,2,     0.00,2,     2.81,2,   -999.0,9,   -999.0,9,-999.0000,9,  -999.00,      201
  49UF20130412,KS1303,  3842,  1,      3,  22079,2,20130427,0147, 23.9887, 130.9918, 3361,   1617.6,   2.4126,  34.5710,2,  34.5708,2,     97.4,2,  -999.00,5,  -999.00,5,  -999.00,5,  -999.00,5,   -999.0,9,   -999.0,9,-999.0000,9,  -999.00,      156
  49UF20130412,KS1303,  3842,  1,      2,  21961,2,20130427,0147, 23.9887, 130.9918, 3361,   1817.9,   2.1498,  34.5990,2,  34.6000,6,    108.2,2,   140.80,2,    38.37,2,     0.00,2,     2.71,2,   -999.0,9,   -999.0,9,-999.0000,9,  -999.00,      151
  49UF20130412,KS1303,  3842,  1,      1,  21960,2,20130427,0147, 23.9887, 130.9918, 3361,   2021.3,   1.9718,  34.6180,2,  34.6195,2,    117.0,2,   141.82,2,    37.96,2,     0.00,2,     2.68,2,   -999.0,9,   -999.0,9,-999.0000,9,  -999.00,      147
  49UF20130412,KS1303,  3844,  1,     99,     99,2,20130427,1050, 23.7280, 131.9848, 3746,      0.0,  22.6402,  34.7916,2,-999.0000,9,    219.4,2,     1.41,2,     0.00,2,     0.00,2,     0.02,2,   -999.0,9,   -999.0,9,-999.0000,9,  -999.00,     1137
  49UF20130412,KS1303,  3844,  1,     33,  21992,2,20130427,1050, 23.7280, 131.9848, 3746,     11.0,  22.6512,  34.7874,2,-999.0000,9,    219.4,2,     1.45,2,     0.01,2,     0.00,2,     0.01,2,   -999.0,9,   -999.0,9,-999.0000,9,  -999.00,     1200
  49UF20130412,KS1303,  3844,  1,     32,  21991,2,20130427,1050, 23.7280, 131.9848, 3746,     26.2,  22.6526,  34.7873,2,-999.0000,9,    219.5,2,     1.42,2,     0.01,2,     0.00,2,     0.01,2,   -999.0,9,   -999.0,9,-999.0000,9,  -999.00,     1158
  49UF20130412,KS1303,  3844,  1,     31,  21990,2,20130427,1050, 23.7280, 131.9848, 3746,     51.2,  21.4534,  34.8608,2,-999.0000,9,    225.9,2,     1.62,2,     0.02,2,     0.00,2,     0.01,2,   -999.0,9,   -999.0,9,-999.0000,9,  -999.00,     1156
  49UF20130412,KS1303,  3844,  1,     30,  21989,2,20130427,1050, 23.7280, 131.9848, 3746,     76.6,  20.4301,  34.8563,2,-999.0000,9,    226.6,6,     1.80,6,     0.02,6,     0.00,6,     0.01,6,   -999.0,9,   -999.0,9,-999.0000,9,  -999.00,     1154
  49UF20130412,KS1303,  3844,  1,     29,  21988,2,20130427,1050, 23.7280, 131.9848, 3746,    101.3,  19.8573,  34.7930,2,-999.0000,9,    217.2,2,     1.93,2,     0.82,2,     0.04,2,     0.07,2,   -999.0,9,   -999.0,9,-999.0000,9,  -999.00,     1149
  49UF20130412,KS1303,  3844,  1,     28,  21987,2,20130427,1050, 23.7280, 131.9848, 3746,    101.3,  19.8573,  34.7930,2,-999.0000,9,    217.1,2,     1.93,2,     0.82,2,     0.04,2,     0.07,2,   -999.0,9,   -999.0,9,-999.0000,9,  -999.00,     1149
  49UF20130412,KS1303,  3844,  1,     24,  21983,2,20130427,1050, 23.7280, 131.9848, 3746,    126.2,  19.3910,  34.8130,2,-999.0000,9,    213.1,2,     2.23,2,     1.01,2,     0.14,2,     0.10,2,   -999.0,9,   -999.0,9,-999.0000,9,  -999.00,     1147
  49UF20130412,KS1303,  3844,  1,     23,  22095,2,20130427,1050, 23.7280, 131.9848, 3746,    150.5,  18.8960,  34.7938,2,-999.0000,9,    213.8,2,     2.50,2,     1.87,2,     0.02,2,     0.14,2,   -999.0,9,   -999.0,9,-999.0000,9,  -999.00,     1146
  49UF20130412,KS1303,  3844,  1,     22,  21981,2,20130427,1050, 23.7280, 131.9848, 3746,    201.3,  17.8719,  34.7440,2,-999.0000,9,    202.5,2,     3.71,2,     4.20,2,     0.01,2,     0.29,2,   -999.0,9,   -999.0,9,-999.0000,9,  -999.00,     1144
  49UF20130412,KS1303,  3844,  1,     21,  21980,2,20130427,1050, 23.7280, 131.9848, 3746,    254.0,  17.0254,  34.6976,2,-999.0000,9,   -999.0,5,     4.99,2,     5.50,2,     0.01,2,     0.37,2,   -999.0,9,   -999.0,9,-999.0000,9,  -999.00,     1142
  49UF20130412,KS1303,  3844,  1,     20,  21979,2,20130427,1050, 23.7280, 131.9848, 3746,    302.9,  16.1827,  34.6413,2,-999.0000,9,    195.1,2,     7.36,2,     7.42,2,     0.00,2,     0.51,2,   -999.0,9,   -999.0,9,-999.0000,9,  -999.00,     1140
  49UF20130412,KS1303,  3844,  1,     19,  21978,2,20130427,1050, 23.7280, 131.9848, 3746,    403.6,  13.8595,  34.4852,2,-999.0000,9,    182.9,2,    14.20,2,    11.99,2,     0.00,2,     0.84,2,   -999.0,9,   -999.0,9,-999.0000,9,  -999.00,     1136
  49UF20130412,KS1303,  3844,  1,     18,  21977,2,20130427,1050, 23.7280, 131.9848, 3746,    507.7,  10.8604,  34.3161,2,-999.0000,9,    162.4,2,    29.92,2,    19.06,2,     0.00,2,     1.36,2,   -999.0,9,   -999.0,9,-999.0000,9,  -999.00,     1133
  49UF20130412,KS1303,  3844,  1,     17,  23679,2,20130427,1050, 23.7280, 131.9848, 3746,    606.2,   7.5694,  34.1536,2,-999.0000,9,    132.6,2,    53.33,2,    27.44,2,     0.00,2,     1.98,2,   -999.0,9,   -999.0,9,-999.0000,9,  -999.00,     1130
  49UF20130412,KS1303,  3844,  1,     16,  21975,2,20130427,1050, 23.7280, 131.9848, 3746,    708.1,   5.9703,  34.1501,2,-999.0000,9,    101.0,2,    73.26,2,    33.05,2,     0.00,2,     2.39,2,   -999.0,9,   -999.0,9,-999.0000,9,  -999.00,     1126
  49UF20130412,KS1303,  3844,  1,     12,  21994,2,20130427,1050, 23.7280, 131.9848, 3746,    809.5,   4.9876,  34.2107,2,-999.0000,9,     72.6,6,    89.95,6,    37.17,6,     0.00,6,     2.69,6,   -999.0,9,   -999.0,9,-999.0000,9,  -999.00,     1123
  49UF20130412,KS1303,  3844,  1,     11,  21970,2,20130427,1050, 23.7280, 131.9848, 3746,    911.9,   4.3381,  34.2951,2,-999.0000,9,     60.5,2,   104.41,2,    39.19,2,     0.00,2,     2.82,2,   -999.0,9,   -999.0,9,-999.0000,9,  -999.00,     1119
  49UF20130412,KS1303,  3844,  1,     10,  21969,2,20130427,1050, 23.7280, 131.9848, 3746,    911.9,   4.3381,  34.2951,2,-999.0000,9,     60.7,2,   104.32,2,    39.13,2,     0.00,2,     2.82,2,   -999.0,9,   -999.0,9,-999.0000,9,  -999.00,     1119
  49UF20130412,KS1303,  3844,  1,      9,  21968,2,20130427,1050, 23.7280, 131.9848, 3746,   1010.8,   3.8558,  34.3516,2,-999.0000,9,     59.7,2,   116.15,2,    39.78,2,     0.00,2,     2.86,2,   -999.0,9,   -999.0,9,-999.0000,9,  -999.00,     1116
  49UF20130412,KS1303,  3844,  1,      8,  21982,2,20130427,1050, 23.7280, 131.9848, 3746,   1213.8,   3.0282,  34.4637,2,-999.0000,9,     66.7,2,   132.90,2,    40.40,2,     0.00,2,     2.88,2,   -999.0,9,   -999.0,9,-999.0000,9,  -999.00,     1110
  49UF20130412,KS1303,  3844,  1,      7,  21966,2,20130427,1050, 23.7280, 131.9848, 3746,   1416.2,   2.5482,  34.5289,2,-999.0000,9,     81.7,2,   139.52,2,    39.55,2,     0.00,2,     2.83,2,   -999.0,9,   -999.0,9,-999.0000,9,  -999.00,     1105
  49UF20130412,KS1303,  3844,  1,      3,  22079,2,20130427,1050, 23.7280, 131.9848, 3746,   1617.3,   2.2761,  34.5678,2,-999.0000,9,     95.3,2,   141.58,2,    39.09,2,     0.00,2,     2.77,2,   -999.0,9,   -999.0,9,-999.0000,9,  -999.00,     1100
  49UF20130412,KS1303,  3844,  1,      2,  21961,2,20130427,1050, 23.7280, 131.9848, 3746,   1819.6,   2.0797,  34.5957,2,-999.0000,9,    107.0,2,   142.84,2,    38.45,2,     0.00,2,     2.72,2,   -999.0,9,   -999.0,9,-999.0000,9,  -999.00,     1055
  49UF20130412,KS1303,  3844,  1,      1,  21960,2,20130427,1050, 23.7280, 131.9848, 3746,   2020.8,   1.9400,  34.6166,2,-999.0000,9,    116.6,2,   142.80,2,    37.90,2,     0.00,2,     2.67,2,   -999.0,9,   -999.0,9,-999.0000,9,  -999.00,     1050