BOTTLE,20191021PRINUNIVRMK
EXPOCODE,SECT_ID,STNNBR,CASTNO,SAMPNO,BTLNBR,BTLNBR_FLAG_W,DATE,TIME,LATITUDE,LONGITUDE,DEPTH,CTDPRS,CTDTMP,CTDSAL,CTDSAL_FLAG_W,SALNTY,SALNTY_FLAG_W,OXYGEN,OXYGEN_FLAG_W,SILCAT,SILCAT_FLAG_W,NITRAT,NITRAT_FLAG_W,NITRIT,NITRIT_FLAG_W,PHSPHT,PHSPHT_FLAG_W,TCARBN,TCARBN_FLAG_W,ALKALI,ALKALI_FLAG_W,PH_TOT,PH_TOT_FLAG_W,PH_TMP,BTL_TIME
,,,,,,,,,,,METERS,DBAR,ITS-90,PSS-78,,PSS-78,,UMOL/KG,,UMOL/KG,,UMOL/KG,,UMOL/KG,,UMOL/KG,,UMOL/KG,,UMOL/KG,,,,DEG C,
  49UF20130412,KS1303,  3846,  1,     99,     99,2,20130427,1951, 23.7358, 132.9938, 3844,      0.0,  22.5084,  34.8035,2,-999.0000,9,    219.8,2,     1.48,2,     0.00,2,     0.00,2,     0.03,2,   -999.0,9,   -999.0,9,-999.0000,9,  -999.00,     2028
  49UF20130412,KS1303,  3846,  1,     33,  21992,2,20130427,1951, 23.7358, 132.9938, 3844,     10.6,  22.5200,  34.7992,2,  34.7986,2,    219.8,2,     1.53,2,     0.06,2,     0.00,2,     0.02,2,   -999.0,9,   -999.0,9,-999.0000,9,  -999.00,     2055
  49UF20130412,KS1303,  3846,  1,     32,  21991,2,20130427,1951, 23.7358, 132.9938, 3844,     25.6,  22.5162,  34.7991,2,-999.0000,9,    218.8,2,     1.49,2,     0.00,2,     0.00,2,     0.01,2,   -999.0,9,   -999.0,9,-999.0000,9,  -999.00,     2054
  49UF20130412,KS1303,  3846,  1,     31,  21990,2,20130427,1951, 23.7358, 132.9938, 3844,     50.5,  21.3813,  34.8094,2,-999.0000,9,    225.6,6,     1.57,6,     0.04,6,     0.00,6,     0.01,6,   -999.0,9,   -999.0,9,-999.0000,9,  -999.00,     2050
  49UF20130412,KS1303,  3846,  1,     30,  21989,2,20130427,1951, 23.7358, 132.9938, 3844,     77.3,  20.1261,  34.8174,2,-999.0000,9,    225.8,2,     1.79,2,     0.03,2,     0.00,2,     0.02,2,   -999.0,9,   -999.0,9,-999.0000,9,  -999.00,     2049
  49UF20130412,KS1303,  3846,  1,     29,  21988,2,20130427,1951, 23.7358, 132.9938, 3844,     77.3,  20.1261,  34.8174,2,-999.0000,9,    225.9,2,     1.82,2,     0.02,2,     0.00,2,     0.02,2,   -999.0,9,   -999.0,9,-999.0000,9,  -999.00,     2049
  49UF20130412,KS1303,  3846,  1,     28,  21987,2,20130427,1951, 23.7358, 132.9938, 3844,    103.5,  19.4903,  34.7962,2,  34.8019,2,    215.4,2,     2.23,2,     0.68,2,     0.13,2,     0.07,2,   -999.0,9,   -999.0,9,-999.0000,9,  -999.00,     2047
  49UF20130412,KS1303,  3846,  1,     24,  21983,2,20130427,1951, 23.7358, 132.9938, 3844,    127.2,  18.7967,  34.7774,2,-999.0000,9,    205.3,2,     2.85,2,     2.74,2,     0.04,2,     0.19,2,   -999.0,9,   -999.0,9,-999.0000,9,  -999.00,     2046
  49UF20130412,KS1303,  3846,  1,     23,  22095,2,20130427,1951, 23.7358, 132.9938, 3844,    152.8,  18.2026,  34.7554,2,-999.0000,9,    203.2,2,     3.49,2,     3.78,2,     0.02,2,     0.26,2,   -999.0,9,   -999.0,9,-999.0000,9,  -999.00,     2044
  49UF20130412,KS1303,  3846,  1,     22,  21981,2,20130427,1951, 23.7358, 132.9938, 3844,    203.3,  17.7769,  34.7379,2,  34.7357,2,    202.8,2,     3.92,2,     4.34,2,     0.01,2,     0.29,2,   -999.0,9,   -999.0,9,-999.0000,9,  -999.00,     2042
  49UF20130412,KS1303,  3846,  1,     21,  21980,2,20130427,1951, 23.7358, 132.9938, 3844,    255.4,  16.9668,  34.6959,2,-999.0000,9,    203.1,2,     5.16,2,     5.57,2,     0.01,2,     0.38,2,   -999.0,9,   -999.0,9,-999.0000,9,  -999.00,     2040
  49UF20130412,KS1303,  3846,  1,     20,  21979,2,20130427,1951, 23.7358, 132.9938, 3844,    305.5,  16.1443,  34.6394,2,-999.0000,9,    195.2,2,     7.52,2,     7.56,2,     0.01,2,     0.51,2,   -999.0,9,   -999.0,9,-999.0000,9,  -999.00,     2038
  49UF20130412,KS1303,  3846,  1,     19,  21978,2,20130427,1951, 23.7358, 132.9938, 3844,    406.6,  12.7838,  34.4180,2,  34.4172,6,    177.6,2,    18.87,2,    14.43,2,     0.00,2,     1.01,2,   -999.0,9,   -999.0,9,-999.0000,9,  -999.00,     2034
  49UF20130412,KS1303,  3846,  1,     18,  21977,2,20130427,1951, 23.7358, 132.9938, 3844,    510.3,   9.9179,  34.2610,2,-999.0000,9,    158.3,2,    34.34,2,    20.97,2,     0.00,2,     1.49,2,   -999.0,9,   -999.0,9,-999.0000,9,  -999.00,     2030
  49UF20130412,KS1303,  3846,  1,     17,  23679,2,20130427,1951, 23.7358, 132.9938, 3844,    607.5,   8.1587,  34.2330,2,  34.2323,2,    129.1,2,    53.44,2,    26.72,2,     0.00,2,     1.93,2,   -999.0,9,   -999.0,9,-999.0000,9,  -999.00,     2027
  49UF20130412,KS1303,  3846,  1,     16,  21975,2,20130427,1951, 23.7358, 132.9938, 3844,    708.0,   6.9519,  34.2252,2,-999.0000,9,    109.7,2,    67.58,6,    30.57,6,     0.00,6,     2.21,6,   -999.0,9,   -999.0,9,-999.0000,9,  -999.00,     2024
  49UF20130412,KS1303,  3846,  1,     12,  21994,2,20130427,1951, 23.7358, 132.9938, 3844,    808.7,   5.2654,  34.1881,2,  34.1890,2,     84.0,2,    86.05,2,    35.67,2,     0.00,2,     2.58,2,   -999.0,9,   -999.0,9,-999.0000,9,  -999.00,     2020
  49UF20130412,KS1303,  3846,  1,     11,  21970,2,20130427,1951, 23.7358, 132.9938, 3844,    808.7,   5.2654,  34.1881,2,  34.1864,6,     84.2,2,    85.92,2,    35.63,2,     0.00,2,     2.58,2,   -999.0,9,   -999.0,9,-999.0000,9,  -999.00,     2020
  49UF20130412,KS1303,  3846,  1,     10,  21969,2,20130427,1951, 23.7358, 132.9938, 3844,    910.4,   4.3256,  34.2822,2,-999.0000,9,     63.2,2,   105.36,2,    38.94,2,     0.00,2,     2.81,2,   -999.0,9,   -999.0,9,-999.0000,9,  -999.00,     2018
  49UF20130412,KS1303,  3846,  1,      9,  21968,2,20130427,1951, 23.7358, 132.9938, 3844,   1009.7,   3.7912,  34.3505,2,  34.3506,2,     56.0,2,   117.29,2,    40.17,2,     0.00,2,     2.90,2,   -999.0,9,   -999.0,9,-999.0000,9,  -999.00,     2015
  49UF20130412,KS1303,  3846,  1,      8,  21982,2,20130427,1951, 23.7358, 132.9938, 3844,   1211.6,   3.0753,  34.4560,2,  34.4562,2,     62.7,2,   132.15,2,    40.65,2,     0.00,2,     2.91,2,   -999.0,9,   -999.0,9,-999.0000,9,  -999.00,     2010
  49UF20130412,KS1303,  3846,  1,      7,  21966,2,20130427,1951, 23.7358, 132.9938, 3844,   1415.5,   2.6159,  34.5297,2,  34.5296,2,     81.9,2,   138.25,2,    39.65,2,     0.00,2,     2.83,2,   -999.0,9,   -999.0,9,-999.0000,9,  -999.00,     2005
  49UF20130412,KS1303,  3846,  1,      3,  22079,2,20130427,1951, 23.7358, 132.9938, 3844,   1617.5,   2.3276,  34.5671,2,  34.5582,4,     95.1,2,   141.08,2,    39.11,2,     0.00,2,     2.78,2,   -999.0,9,   -999.0,9,-999.0000,9,  -999.00,     2000
  49UF20130412,KS1303,  3846,  1,      2,  21961,2,20130427,1951, 23.7358, 132.9938, 3844,   1819.7,   2.1214,  34.5964,2,  34.5966,2,    107.2,2,   142.06,2,    38.53,2,     0.00,2,     2.72,2,   -999.0,9,   -999.0,9,-999.0000,9,  -999.00,     1956
  49UF20130412,KS1303,  3846,  1,      1,  21960,2,20130427,1951, 23.7358, 132.9938, 3844,   2023.2,   1.9471,  34.6177,2,  34.6186,2,    117.0,2,   142.83,2,    38.00,2,     0.00,2,     2.68,2,   -999.0,9,   -999.0,9,-999.0000,9,  -999.00,     1951
  49UF20130412,KS1303,  3849,  1,     99,     99,2,20130428,0758, 24.2515, 133.9820, 4923,      0.0,  22.6343,  34.8395,2,-999.0000,9,    218.3,2,     1.48,2,     0.01,2,     0.00,2,     0.02,2,   -999.0,9,   -999.0,9,-999.0000,9,  -999.00,      835
  49UF20130412,KS1303,  3849,  1,     36,  21995,2,20130428,0758, 24.2515, 133.9820, 4923,     11.4,  22.6420,  34.8354,2,  34.8343,2,    219.4,6,     1.44,6,     0.02,6,     0.00,6,     0.01,6,   -999.0,9,   -999.0,9,-999.0000,9,  -999.00,      907
  49UF20130412,KS1303,  3849,  1,     35,  22087,2,20130428,0758, 24.2515, 133.9820, 4923,     26.7,  22.5937,  34.8383,2,-999.0000,9,    220.0,2,     1.48,2,     0.04,2,     0.00,2,     0.01,2,   -999.0,9,   -999.0,9,-999.0000,9,  -999.00,      905
  49UF20130412,KS1303,  3849,  1,     34,  22668,3,20130428,0758, 24.2515, 133.9820, 4923,     26.7,  22.5937,  34.8383,2,-999.0000,9,    220.1,2,     1.48,2,     0.00,2,     0.00,2,     0.01,2,   -999.0,9,   -999.0,9,-999.0000,9,  -999.00,      905
  49UF20130412,KS1303,  3849,  1,     30,  21989,2,20130428,0758, 24.2515, 133.9820, 4923,     50.4,  20.2541,  34.8183,2,-999.0000,9,    226.4,2,     1.74,2,     0.00,2,     0.00,2,     0.02,2,   -999.0,9,   -999.0,9,-999.0000,9,  -999.00,      903
  49UF20130412,KS1303,  3849,  1,     29,  21988,2,20130428,0758, 24.2515, 133.9820, 4923,     77.0,  19.3525,  34.7964,2,-999.0000,9,    214.7,2,     2.21,2,     1.03,2,     0.10,2,     0.09,2,   -999.0,9,   -999.0,9,-999.0000,9,  -999.00,      902
  49UF20130412,KS1303,  3849,  1,     28,  21987,2,20130428,0758, 24.2515, 133.9820, 4923,    101.8,  19.0649,  34.7888,2,  34.7875,2,    210.7,2,     2.47,2,     1.95,2,     0.05,2,     0.14,2,   -999.0,9,   -999.0,9,-999.0000,9,  -999.00,      858
  49UF20130412,KS1303,  3849,  1,     27,  21986,2,20130428,0758, 24.2515, 133.9820, 4923,    126.5,  18.6713,  34.7718,2,-999.0000,9,    210.9,2,     2.65,2,     2.40,2,     0.03,2,     0.17,2,   -999.0,9,   -999.0,9,-999.0000,9,  -999.00,      856
  49UF20130412,KS1303,  3849,  1,     26,  21985,2,20130428,0758, 24.2515, 133.9820, 4923,    153.2,  18.3084,  34.7601,2,-999.0000,9,    204.1,2,     3.29,2,     3.50,2,     0.02,2,     0.24,2,   -999.0,9,   -999.0,9,-999.0000,9,  -999.00,      854
  49UF20130412,KS1303,  3849,  1,     25,  21984,2,20130428,0758, 24.2515, 133.9820, 4923,    200.6,  17.3852,  34.7189,2,  34.7180,2,    202.4,2,     4.43,2,     4.94,2,     0.01,2,     0.33,2,   -999.0,9,   -999.0,9,-999.0000,9,  -999.00,      851
  49UF20130412,KS1303,  3849,  1,     24,  21983,2,20130428,0758, 24.2515, 133.9820, 4923,    252.5,  16.9012,  34.6892,2,-999.0000,9,    201.0,2,     5.40,2,     5.85,2,     0.01,2,     0.39,2,   -999.0,9,   -999.0,9,-999.0000,9,  -999.00,      848
  49UF20130412,KS1303,  3849,  1,     23,  22095,2,20130428,0758, 24.2515, 133.9820, 4923,    302.9,  15.3824,  34.5869,2,-999.0000,9,    189.1,2,     9.65,2,     9.23,2,     0.01,2,     0.63,2,   -999.0,9,   -999.0,9,-999.0000,9,  -999.00,      846
  49UF20130412,KS1303,  3849,  1,     22,  21981,2,20130428,0758, 24.2515, 133.9820, 4923,    402.7,  13.1343,  34.4424,2,  34.4396,2,    177.2,2,    17.69,2,    13.98,2,     0.01,2,     0.98,2,   -999.0,9,   -999.0,9,-999.0000,9,  -999.00,      842
  49UF20130412,KS1303,  3849,  1,     18,  21977,2,20130428,0758, 24.2515, 133.9820, 4923,    505.6,   9.5658,  34.2447,2,-999.0000,9,    154.1,6,    37.52,6,    22.03,6,     0.01,6,     1.58,6,   -999.0,9,   -999.0,9,-999.0000,9,  -999.00,      838
  49UF20130412,KS1303,  3849,  1,     17,  23679,2,20130428,0758, 24.2515, 133.9820, 4923,    605.8,   7.1263,  34.1456,2,  34.1448,2,    124.4,2,    58.30,2,    29.11,2,     0.00,2,     2.10,2,   -999.0,9,   -999.0,9,-999.0000,9,  -999.00,      835
  49UF20130412,KS1303,  3849,  1,     16,  21975,2,20130428,0758, 24.2515, 133.9820, 4923,    605.8,   7.1263,  34.1456,2,  34.1450,6,    124.5,2,    58.32,2,    29.03,2,     0.00,2,     2.10,2,   -999.0,9,   -999.0,9,-999.0000,9,  -999.00,      835
  49UF20130412,KS1303,  3849,  1,     15,  21974,2,20130428,0758, 24.2515, 133.9820, 4923,    705.5,   5.6779,  34.1573,2,-999.0000,9,     92.4,2,    77.41,2,    34.42,2,     0.00,2,     2.49,2,   -999.0,9,   -999.0,9,-999.0000,9,  -999.00,      832
  49UF20130412,KS1303,  3849,  1,     14,  21973,2,20130428,0758, 24.2515, 133.9820, 4923,    807.3,   4.8732,  34.2148,2,  34.2152,2,     71.9,2,    93.21,2,    37.46,2,     0.00,2,     2.70,2,   -999.0,9,   -999.0,9,-999.0000,9,  -999.00,      829
  49UF20130412,KS1303,  3849,  1,     13,  21972,2,20130428,0758, 24.2515, 133.9820, 4923,    908.7,   4.1692,  34.2912,2,-999.0000,9,     59.1,2,   108.74,2,    39.60,2,     0.00,2,     2.85,2,   -999.0,9,   -999.0,9,-999.0000,9,  -999.00,      826
  49UF20130412,KS1303,  3849,  1,      9,  21968,2,20130428,0758, 24.2515, 133.9820, 4923,   1011.2,   3.5110,  34.3925,2,  34.3924,2,     55.9,2,   123.47,2,    40.68,2,     0.00,2,     2.92,2,   -999.0,9,   -999.0,9,-999.0000,9,  -999.00,      822
  49UF20130412,KS1303,  3849,  1,      8,  21982,2,20130428,0758, 24.2515, 133.9820, 4923,   1212.9,   3.0298,  34.4655,2,  34.4661,2,     64.5,2,   133.16,2,    40.73,2,     0.00,2,     2.90,2,   -999.0,9,   -999.0,9,-999.0000,9,  -999.00,      818
  49UF20130412,KS1303,  3849,  1,      7,  21966,2,20130428,0758, 24.2515, 133.9820, 4923,   1413.6,   2.6062,  34.5291,2,  34.5288,6,     81.0,2,   138.83,2,    39.91,2,     0.00,2,     2.84,2,   -999.0,9,   -999.0,9,-999.0000,9,  -999.00,      813
  49UF20130412,KS1303,  3849,  1,      6,  21965,2,20130428,0758, 24.2515, 133.9820, 4923,   1616.7,   2.3026,  34.5690,2,  34.5693,2,     95.4,2,   141.67,2,    39.22,2,     0.00,2,     2.78,2,   -999.0,9,   -999.0,9,-999.0000,9,  -999.00,      808
  49UF20130412,KS1303,  3849,  1,      5,  21964,2,20130428,0758, 24.2515, 133.9820, 4923,   1821.5,   2.0597,  34.5990,2,  34.5994,2,    107.8,2,   143.16,2,    38.59,2,     0.00,2,     2.73,2,   -999.0,9,   -999.0,9,-999.0000,9,  -999.00,      803
  49UF20130412,KS1303,  3849,  1,      4,  21963,2,20130428,0758, 24.2515, 133.9820, 4923,   2023.7,   1.9042,  34.6204,2,  34.6204,6,    117.9,2,   143.22,2,    38.08,2,     0.00,2,     2.68,2,   -999.0,9,   -999.0,9,-999.0000,9,  -999.00,      758
  49UF20130412,KS1303,  3851,  1,     99,     99,2,20130428,1648, 24.2467, 134.9828, 5132,      0.0,  24.3519,  34.7106,2,  34.7154,2,    212.3,2,     1.25,2,     0.01,2,     0.00,2,     0.02,2,   1967.8,2,   2272.4,2,   8.0730,2,    25.00,     1720
  49UF20130412,KS1303,  3851,  1,     36,  21995,2,20130428,1648, 24.2467, 134.9828, 5132,     10.9,  24.3487,  34.7067,2,  34.7080,2,    212.6,2,     1.21,2,     0.00,2,     0.00,2,     0.01,2,   1968.1,2,   2273.2,2,   8.0692,2,    25.00,     1743
  49UF20130412,KS1303,  3851,  1,     35,  22087,2,20130428,1648, 24.2467, 134.9828, 5132,     10.9,  24.3487,  34.7067,2,  34.7081,6,    212.4,2,     1.17,2,     0.00,2,     0.00,2,     0.01,2,   1966.6,2,   2272.9,2,   8.0765,2,    25.00,     1743
  49UF20130412,KS1303,  3851,  1,     34,  22668,3,20130428,1648, 24.2467, 134.9828, 5132,     26.5,  24.2681,  34.7170,2,-999.0000,9,    213.9,2,     1.30,2,     0.00,2,     0.00,2,     0.01,2,   1972.6,2,   2275.6,2,   8.0735,2,    25.00,     1742
  49UF20130412,KS1303,  3851,  1,     30,  21989,2,20130428,1648, 24.2467, 134.9828, 5132,     50.8,  21.1695,  34.8795,2,-999.0000,9,    219.6,2,     1.68,2,     0.00,2,     0.00,2,     0.02,2,   2000.9,2,   2283.2,2,   8.0382,2,    25.00,     1741
  49UF20130412,KS1303,  3851,  1,     29,  21988,2,20130428,1648, 24.2467, 134.9828, 5132,     75.1,  20.4059,  34.8205,2,-999.0000,9,    226.4,2,     1.90,2,     0.00,2,     0.00,2,     0.01,2,   1993.9,2,   2281.7,2,   8.0412,2,    25.00,     1740
  49UF20130412,KS1303,  3851,  1,     28,  21987,2,20130428,1648, 24.2467, 134.9828, 5132,    100.2,  20.0455,  34.8042,2,  34.8033,2,    225.5,2,     1.81,2,    -0.01,2,     0.01,2,     0.02,2,   1993.8,2,   2281.0,2,   8.0419,2,    25.00,     1736
  49UF20130412,KS1303,  3851,  1,     27,  21986,2,20130428,1648, 24.2467, 134.9828, 5132,    124.9,  19.7031,  34.7998,2,-999.0000,9,    220.9,2,     1.90,2,     0.25,2,     0.16,2,     0.04,2,   1999.3,2,   2282.4,2,   8.0233,2,    25.00,     1735
  49UF20130412,KS1303,  3851,  1,     26,  21985,2,20130428,1648, 24.2467, 134.9828, 5132,    152.5,  18.8406,  34.7837,2,-999.0000,9,    204.5,2,     2.88,2,     2.80,2,     0.02,2,     0.20,2,   2021.1,6,   2277.6,6,   7.9863,2,    25.00,     1734
  49UF20130412,KS1303,  3851,  1,     25,  21984,2,20130428,1648, 24.2467, 134.9828, 5132,    202.9,  17.7077,  34.7348,2,  34.7344,2,    202.6,2,     4.01,2,     4.49,2,     0.01,2,     0.30,2,   2033.6,2,   2274.9,2,   7.9575,6,    25.00,     1732
  49UF20130412,KS1303,  3851,  1,     24,  21983,2,20130428,1648, 24.2467, 134.9828, 5132,    253.3,  16.8943,  34.6863,2,-999.0000,9,    199.5,2,     5.18,2,     5.94,2,     0.01,2,     0.40,2,   2045.1,2,   2272.6,2,   7.9333,2,    25.00,     1730
  49UF20130412,KS1303,  3851,  1,     23,  22095,2,20130428,1648, 24.2467, 134.9828, 5132,    304.0,  15.8484,  34.6133,2,-999.0000,9,    192.3,2,     7.73,2,     8.13,2,     0.01,2,     0.55,2,   2061.6,2,   2272.9,2,   7.8967,2,    25.00,     1729
  49UF20130412,KS1303,  3851,  1,     22,  21981,2,20130428,1648, 24.2467, 134.9828, 5132,    403.1,  13.5023,  34.4560,2,  34.4550,2,    185.4,6,    14.71,6,    12.59,6,     0.00,6,     0.87,6,   2093.4,2,   2271.4,2,   7.8235,2,    25.00,     1726
  49UF20130412,KS1303,  3851,  1,     18,  21977,2,20130428,1648, 24.2467, 134.9828, 5132,    505.2,  10.5257,  34.2640,2,-999.0000,9,    171.7,2,    27.54,2,    18.90,2,     0.00,2,     1.33,2,   2139.8,2,   2271.6,2,   7.7219,2,    25.00,     1723
  49UF20130412,KS1303,  3851,  1,     17,  23679,2,20130428,1648, 24.2467, 134.9828, 5132,    505.2,  10.5257,  34.2640,2,-999.0000,9,    171.8,2,    27.55,2,    18.88,2,     0.00,2,     1.33,2,   2137.8,2,   2269.5,2,   7.7211,2,    25.00,     1723
  49UF20130412,KS1303,  3851,  1,     16,  21975,2,20130428,1648, 24.2467, 134.9828, 5132,    606.6,   7.4175,  34.1295,2,  34.1308,2,    131.4,2,    51.62,2,    27.98,2,     0.00,2,     2.01,2,   2210.0,2,   2285.6,2,   7.5723,2,    25.00,     1721
  49UF20130412,KS1303,  3851,  1,     15,  21974,2,20130428,1648, 24.2467, 134.9828, 5132,    708.6,   5.6495,  34.1506,2,-999.0000,9,     92.6,2,    76.68,2,    34.55,2,     0.00,2,     2.48,2,   2267.2,2,   2310.0,2,   7.4653,2,    25.00,     1718
  49UF20130412,KS1303,  3851,  1,     14,  21973,2,20130428,1648, 24.2467, 134.9828, 5132,    808.5,   4.8278,  34.2223,2,  34.2219,2,     70.9,2,    93.48,2,    37.65,2,     0.00,2,     2.71,2,   2299.6,2,   2328.5,2,   7.4170,2,    25.00,     1715
  49UF20130412,KS1303,  3851,  1,     13,  21972,2,20130428,1648, 24.2467, 134.9828, 5132,    910.0,   4.1723,  34.2971,2,-999.0000,9,     58.6,2,   108.11,2,    39.88,2,     0.00,2,     2.85,2,   2324.1,2,   2342.3,2,   7.3911,2,    25.00,     1712
  49UF20130412,KS1303,  3851,  1,      9,  21968,2,20130428,1648, 24.2467, 134.9828, 5132,   1011.8,   3.7835,  34.3599,2,  34.3587,2,     56.0,2,   116.96,2,    40.57,2,     0.00,2,     2.90,2,   2340.0,2,   2362.4,2,   7.3894,2,    25.00,     1709
  49UF20130412,KS1303,  3851,  1,      8,  21982,2,20130428,1648, 24.2467, 134.9828, 5132,   1212.9,   3.1430,  34.4504,2,  34.4498,6,     61.8,2,   130.58,2,    40.95,2,     0.00,2,     2.91,2,   2354.2,2,   2374.1,2,   7.4031,2,    25.00,     1705
  49UF20130412,KS1303,  3851,  1,      7,  21966,2,20130428,1648, 24.2467, 134.9828, 5132,   1415.0,   2.6918,  34.5142,2,  34.5118,2,     76.0,2,   137.90,2,    40.35,2,     0.00,2,     2.86,2,   2353.9,2,   2386.7,2,   7.4341,2,    25.00,     1700
  49UF20130412,KS1303,  3851,  1,      6,  21965,3,20130428,1648, 24.2467, 134.9828, 5132,   1615.2,   2.3850,  34.5586,2,  34.5580,2,     91.0,2,   141.03,2,    39.56,2,     0.00,2,     2.80,2,   2355.7,6,   2395.3,6,   7.4625,2,    25.00,     1656
  49UF20130412,KS1303,  3851,  1,      5,  21964,2,20130428,1648, 24.2467, 134.9828, 5132,   1817.9,   2.1339,  34.5935,2,  34.5945,2,    105.2,2,   142.14,2,    38.76,2,     0.00,2,     2.73,2,   2347.8,2,   2403.5,2,   7.4935,6,    25.00,     1652
  49UF20130412,KS1303,  3851,  1,      4,  21963,2,20130428,1648, 24.2467, 134.9828, 5132,   2026.9,   1.9753,  34.6148,2,  34.6145,2,    115.1,6,   142.59,6,    38.28,6,     0.00,6,     2.69,6,   2346.0,2,   2403.2,2,   7.5089,2,    25.00,     1648