BOTTLE,20191021PRINUNIVRMK
EXPOCODE,SECT_ID,STNNBR,CASTNO,SAMPNO,BTLNBR,BTLNBR_FLAG_W,DATE,TIME,LATITUDE,LONGITUDE,DEPTH,CTDPRS,CTDTMP,CTDSAL,CTDSAL_FLAG_W,SALNTY,SALNTY_FLAG_W,OXYGEN,OXYGEN_FLAG_W,SILCAT,SILCAT_FLAG_W,NITRAT,NITRAT_FLAG_W,NITRIT,NITRIT_FLAG_W,PHSPHT,PHSPHT_FLAG_W,TCARBN,TCARBN_FLAG_W,ALKALI,ALKALI_FLAG_W,PH_TOT,PH_TOT_FLAG_W,PH_TMP,BTL_TIME
,,,,,,,,,,,METERS,DBAR,ITS-90,PSS-78,,PSS-78,,UMOL/KG,,UMOL/KG,,UMOL/KG,,UMOL/KG,,UMOL/KG,,UMOL/KG,,UMOL/KG,,,,DEG C,
  49UF20130412,KS1303,  3853,  1,     99,     99,2,20130429,0206, 24.2342, 136.1932, 4090,      0.0,  23.4756,  34.8129,2,-999.0000,9,    214.3,2,     1.30,2,     0.05,2,     0.00,2,     0.02,2,   -999.0,9,   -999.0,9,-999.0000,9,  -999.00,      248
  49UF20130412,KS1303,  3853,  1,     36,  21995,2,20130429,0206, 24.2342, 136.1932, 4090,     11.1,  23.4783,  34.8075,2,-999.0000,9,    215.6,2,     1.26,2,     0.03,2,     0.00,2,     0.01,2,   -999.0,9,   -999.0,9,-999.0000,9,  -999.00,      308
  49UF20130412,KS1303,  3853,  1,     35,  22087,2,20130429,0206, 24.2342, 136.1932, 4090,     26.3,  23.4403,  34.8076,2,-999.0000,9,    215.4,2,     1.26,2,     0.00,2,     0.00,2,     0.01,2,   -999.0,9,   -999.0,9,-999.0000,9,  -999.00,      307
  49UF20130412,KS1303,  3853,  1,     34,  22668,3,20130429,0206, 24.2342, 136.1932, 4090,     51.5,  22.9759,  34.8345,2,-999.0000,9,    218.2,2,     1.36,2,     0.04,2,     0.00,2,     0.01,2,   -999.0,9,   -999.0,9,-999.0000,9,  -999.00,      305
  49UF20130412,KS1303,  3853,  1,     30,  21989,2,20130429,0206, 24.2342, 136.1932, 4090,     75.8,  21.4563,  34.8618,2,-999.0000,9,    225.4,2,     1.66,2,     0.02,2,     0.00,2,     0.01,2,   -999.0,9,   -999.0,9,-999.0000,9,  -999.00,      304
  49UF20130412,KS1303,  3853,  1,     29,  21988,2,20130429,0206, 24.2342, 136.1932, 4090,    102.4,  19.8717,  34.8272,2,-999.0000,9,    217.8,2,     2.02,2,     0.12,2,     0.04,2,     0.04,2,   -999.0,9,   -999.0,9,-999.0000,9,  -999.00,      300
  49UF20130412,KS1303,  3853,  1,     28,  21987,2,20130429,0206, 24.2342, 136.1932, 4090,    126.9,  19.0151,  34.7962,2,-999.0000,9,    210.3,2,     2.51,2,     2.04,2,     0.03,2,     0.15,2,   -999.0,9,   -999.0,9,-999.0000,9,  -999.00,      259
  49UF20130412,KS1303,  3853,  1,     27,  21986,2,20130429,0206, 24.2342, 136.1932, 4090,    152.5,  18.4827,  34.7774,2,-999.0000,9,    206.5,2,     2.99,2,     2.90,2,     0.02,2,     0.20,2,   -999.0,9,   -999.0,9,-999.0000,9,  -999.00,      258
  49UF20130412,KS1303,  3853,  1,     26,  21985,2,20130429,0206, 24.2342, 136.1932, 4090,    202.9,  17.6658,  34.7337,2,-999.0000,9,    202.0,2,     3.89,2,     4.47,2,     0.01,2,     0.30,2,   -999.0,9,   -999.0,9,-999.0000,9,  -999.00,      256
  49UF20130412,KS1303,  3853,  1,     25,  21984,2,20130429,0206, 24.2342, 136.1932, 4090,    251.4,  17.0496,  34.7026,2,-999.0000,9,    206.5,2,     4.56,2,     5.09,2,     0.01,2,     0.34,2,   -999.0,9,   -999.0,9,-999.0000,9,  -999.00,      255
  49UF20130412,KS1303,  3853,  1,     24,  21983,2,20130429,0206, 24.2342, 136.1932, 4090,    302.7,  15.7194,  34.6064,2,-999.0000,9,    194.6,6,     8.26,6,     8.21,6,     0.01,6,     0.56,6,   -999.0,9,   -999.0,9,-999.0000,9,  -999.00,      253
  49UF20130412,KS1303,  3853,  1,     23,  22095,2,20130429,0206, 24.2342, 136.1932, 4090,    403.7,  12.8338,  34.4111,2,-999.0000,9,    184.0,2,    17.34,2,    13.71,2,     0.01,2,     0.96,2,   -999.0,9,   -999.0,9,-999.0000,9,  -999.00,      250
  49UF20130412,KS1303,  3853,  1,     22,  21981,2,20130429,0206, 24.2342, 136.1932, 4090,    403.7,  12.8338,  34.4111,2,-999.0000,9,    184.1,2,    17.33,2,    13.76,2,     0.01,2,     0.97,2,   -999.0,9,   -999.0,9,-999.0000,9,  -999.00,      250
  49UF20130412,KS1303,  3853,  1,     18,  21977,2,20130429,0206, 24.2342, 136.1932, 4090,    506.5,   9.8783,  34.2238,2,-999.0000,9,    167.5,2,    31.06,2,    20.20,2,     0.01,2,     1.45,2,   -999.0,9,   -999.0,9,-999.0000,9,  -999.00,      247
  49UF20130412,KS1303,  3853,  1,     17,  23679,2,20130429,0206, 24.2342, 136.1932, 4090,    604.1,   7.3180,  34.1330,2,-999.0000,9,    131.7,2,    54.27,2,    27.95,2,     0.00,2,     2.02,2,   -999.0,9,   -999.0,9,-999.0000,9,  -999.00,      244
  49UF20130412,KS1303,  3853,  1,     16,  21975,2,20130429,0206, 24.2342, 136.1932, 4090,    703.8,   5.8082,  34.1437,2,-999.0000,9,     97.1,2,    75.07,2,    33.78,2,     0.00,2,     2.44,2,   -999.0,9,   -999.0,9,-999.0000,9,  -999.00,      241
  49UF20130412,KS1303,  3853,  1,     15,  21974,2,20130429,0206, 24.2342, 136.1932, 4090,    807.6,   4.5845,  34.2392,2,-999.0000,9,     63.6,2,    98.40,2,    38.66,2,     0.00,2,     2.78,2,   -999.0,9,   -999.0,9,-999.0000,9,  -999.00,      238
  49UF20130412,KS1303,  3853,  1,     14,  21973,3,20130429,0206, 24.2342, 136.1932, 4090,    910.5,   4.0251,  34.3100,2,-999.0000,9,     56.8,2,   111.70,2,    39.88,2,     0.00,2,     2.87,2,   -999.0,9,   -999.0,9,-999.0000,9,  -999.00,      235
  49UF20130412,KS1303,  3853,  1,     13,  21972,2,20130429,0206, 24.2342, 136.1932, 4090,   1010.7,   3.6312,  34.3620,2,-999.0000,9,     53.6,2,   121.01,2,    40.68,2,     0.00,2,     2.92,2,   -999.0,9,   -999.0,9,-999.0000,9,  -999.00,      231
  49UF20130412,KS1303,  3853,  1,      9,  21968,2,20130429,0206, 24.2342, 136.1932, 4090,   1212.9,   2.9928,  34.4582,2,-999.0000,9,     60.5,2,   134.34,2,    40.95,2,     0.00,2,     2.92,2,   -999.0,9,   -999.0,9,-999.0000,9,  -999.00,      226
  49UF20130412,KS1303,  3853,  1,      8,  21982,3,20130429,0206, 24.2342, 136.1932, 4090,   1416.7,   2.5717,  34.5292,2,-999.0000,9,     79.4,2,   139.93,2,    40.03,2,     0.00,2,     2.85,2,   -999.0,9,   -999.0,9,-999.0000,9,  -999.00,      221
  49UF20130412,KS1303,  3853,  1,      7,  21966,2,20130429,0206, 24.2342, 136.1932, 4090,   1624.0,   2.2636,  34.5758,2,-999.0000,9,     96.1,2,   141.92,2,    39.08,2,     0.00,2,     2.77,2,   -999.0,9,   -999.0,9,-999.0000,9,  -999.00,      216
  49UF20130412,KS1303,  3853,  1,      6,  21965,2,20130429,0206, 24.2342, 136.1932, 4090,   1817.2,   2.0909,  34.6021,2,-999.0000,9,    108.6,6,   141.86,6,    38.45,6,     0.00,6,     2.71,6,   -999.0,9,   -999.0,9,-999.0000,9,  -999.00,      210
  49UF20130412,KS1303,  3853,  1,      5,  21964,2,20130429,0206, 24.2342, 136.1932, 4090,   2020.4,   1.9493,  34.6208,2,-999.0000,9,    117.3,2,   142.09,2,    37.99,2,     0.00,2,     2.68,2,   -999.0,9,   -999.0,9,-999.0000,9,  -999.00,      206
  49UF20130412,KS1303,  3853,  1,      4,  21963,3,20130429,0206, 24.2342, 136.1932, 4090,   2020.4,   1.9493,  34.6208,2,-999.0000,9,    117.1,2,   142.14,2,    37.96,2,     0.00,2,     2.67,2,   -999.0,9,   -999.0,9,-999.0000,9,  -999.00,      206
  49UF20130412,KS1303,  3854,  1,     99,     99,2,20130429,0941, 24.0070, 136.9850, 3977,      0.0,  23.8826,  34.7920,2,  34.7913,2,    214.4,2,     1.27,2,     0.01,2,     0.00,2,     0.02,2,   1975.4,2,   2283.9,2,   8.0740,2,    25.00,     1013
  49UF20130412,KS1303,  3854,  1,     33,  21992,2,20130429,0941, 24.0070, 136.9850, 3977,     10.4,  23.8750,  34.7883,2,  34.7875,2,    214.3,2,     1.27,2,     0.01,2,     0.00,2,     0.01,2,   1975.2,2,   2277.8,2,   8.0687,2,    25.00,     1052
  49UF20130412,KS1303,  3854,  1,     32,  21991,2,20130429,0941, 24.0070, 136.9850, 3977,     25.9,  23.4451,  34.8091,2,-999.0000,9,    215.4,2,     1.27,2,     0.02,2,     0.00,2,     0.01,2,   1974.1,2,   2277.4,2,   8.0666,2,    25.00,     1050
  49UF20130412,KS1303,  3854,  1,     31,  21990,2,20130429,0941, 24.0070, 136.9850, 3977,     51.5,  21.4962,  34.8502,2,-999.0000,9,    224.1,2,     1.62,2,     0.00,2,     0.00,2,     0.01,2,   1990.7,2,   2281.2,2,   8.0477,2,    25.00,     1048
  49UF20130412,KS1303,  3854,  1,     30,  21989,2,20130429,0941, 24.0070, 136.9850, 3977,     74.5,  20.3595,  34.8455,2,-999.0000,9,    214.5,2,     1.92,2,     0.03,2,     0.01,2,     0.03,2,   2005.0,6,   2282.1,6,   8.0190,2,    25.00,     1046
  49UF20130412,KS1303,  3854,  1,     29,  21988,2,20130429,0941, 24.0070, 136.9850, 3977,    100.7,  19.6525,  34.8327,2,  34.8313,2,    205.5,2,     2.35,2,     1.51,2,     0.10,2,     0.12,2,   2015.2,2,   2281.0,2,   7.9943,6,    25.00,     1041
  49UF20130412,KS1303,  3854,  1,     28,  21987,2,20130429,0941, 24.0070, 136.9850, 3977,    125.3,  18.8715,  34.8015,2,-999.0000,9,    204.4,2,     2.76,2,     2.58,2,     0.03,2,     0.18,2,   2023.6,2,   2277.0,2,   7.9823,2,    25.00,     1039
  49UF20130412,KS1303,  3854,  1,     27,  21986,2,20130429,0941, 24.0070, 136.9850, 3977,    150.4,  18.3275,  34.7712,2,-999.0000,9,    202.6,2,     3.21,2,     3.46,2,     0.02,2,     0.23,2,   2028.5,2,   2275.7,2,   7.9706,2,    25.00,     1036
  49UF20130412,KS1303,  3854,  1,     26,  21985,2,20130429,0941, 24.0070, 136.9850, 3977,    201.5,  17.5407,  34.7268,2,  34.7247,2,    202.7,2,     4.04,2,     4.64,2,     0.01,2,     0.31,2,   2034.2,2,   2276.0,2,   7.9562,2,    25.00,     1034
  49UF20130412,KS1303,  3854,  1,     25,  21984,2,20130429,0941, 24.0070, 136.9850, 3977,    253.2,  16.8211,  34.6855,2,-999.0000,9,    203.0,6,     5.17,6,     5.74,6,     0.01,6,     0.39,6,   2041.2,2,   2274.0,2,   7.9412,2,    25.00,     1032
  49UF20130412,KS1303,  3854,  1,     24,  21983,2,20130429,0941, 24.0070, 136.9850, 3977,    304.0,  15.7778,  34.6083,2,-999.0000,9,    191.7,2,     7.96,2,     8.34,2,     0.01,2,     0.57,2,   2061.1,2,   2269.3,2,   7.8965,2,    25.00,     1029
  49UF20130412,KS1303,  3854,  1,     23,  22095,2,20130429,0941, 24.0070, 136.9850, 3977,    304.0,  15.7778,  34.6083,2,-999.0000,9,    191.6,2,     7.99,2,     8.33,2,     0.01,2,     0.57,2,   2060.8,2,   2269.8,2,   7.8941,2,    25.00,     1029
  49UF20130412,KS1303,  3854,  1,     22,  21981,2,20130429,0941, 24.0070, 136.9850, 3977,    404.4,  12.7359,  34.4074,2,  34.5973,4,    182.2,2,    17.60,2,    14.12,2,     0.00,2,     0.98,2,   2100.5,2,   2266.4,2,   7.8025,2,    25.00,     1026
  49UF20130412,KS1303,  3854,  1,     18,  21977,2,20130429,0941, 24.0070, 136.9850, 3977,    506.9,  10.0813,  34.2445,2,-999.0000,9,    166.5,2,    31.04,2,    20.08,2,     0.00,2,     1.42,2,   2147.4,2,   2272.2,2,   7.7085,2,    25.00,     1022
  49UF20130412,KS1303,  3854,  1,     17,  23679,2,20130429,0941, 24.0070, 136.9850, 3977,    604.4,   7.4139,  34.1294,2,  34.1288,2,    130.9,2,    52.18,2,    28.05,2,     0.00,2,     2.01,2,   2210.2,2,   2282.7,2,   7.5737,2,    25.00,     1019
  49UF20130412,KS1303,  3854,  1,     16,  21975,2,20130429,0941, 24.0070, 136.9850, 3977,    708.1,   6.0785,  34.1392,2,-999.0000,9,     97.5,2,    69.36,2,    33.46,2,     0.00,2,     2.41,2,   2253.2,2,   2302.0,2,   7.4861,2,    25.00,     1015
  49UF20130412,KS1303,  3854,  1,     15,  21974,2,20130429,0941, 24.0070, 136.9850, 3977,    807.6,   4.8503,  34.2118,2,  34.2117,2,     69.7,2,    92.56,2,    37.99,2,     0.00,2,     2.72,2,   2295.8,2,   2325.7,2,   7.4223,2,    25.00,     1012
  49UF20130412,KS1303,  3854,  1,     14,  21973,2,20130429,0941, 24.0070, 136.9850, 3977,    908.7,   4.1664,  34.2927,2,-999.0000,9,     57.6,2,   108.12,2,    39.93,2,     0.00,2,     2.85,2,   2324.6,6,   2343.5,6,   7.3954,2,    25.00,     1009
  49UF20130412,KS1303,  3854,  1,     13,  21972,3,20130429,0941, 24.0070, 136.9850, 3977,   1013.0,   3.6662,  34.3603,2,  34.3599,6,     54.2,2,   120.26,2,    40.84,2,     0.00,2,     2.91,2,   2337.2,2,   2357.9,2,   7.3914,6,    25.00,     1006
  49UF20130412,KS1303,  3854,  1,      9,  21968,2,20130429,0941, 24.0070, 136.9850, 3977,   1212.0,   3.0236,  34.4684,2,  34.4683,2,     64.4,2,   132.92,2,    40.91,2,     0.00,2,     2.90,2,   2354.7,2,   2383.8,2,   7.4187,2,    25.00,     1001
  49UF20130412,KS1303,  3854,  1,      8,  21982,2,20130429,0941, 24.0070, 136.9850, 3977,   1414.7,   2.6846,  34.5179,2,  34.5186,2,     76.5,2,   137.87,2,    40.32,2,     0.00,2,     2.86,2,   2353.0,2,   2387.9,2,   7.4426,2,    25.00,      956
  49UF20130412,KS1303,  3854,  1,      7,  21966,2,20130429,0941, 24.0070, 136.9850, 3977,   1618.3,   2.3806,  34.5653,2,  34.5641,2,     93.2,6,   140.59,6,    39.42,6,     0.00,6,     2.78,6,   2349.1,2,   2391.5,2,   7.4684,2,    25.00,      950
  49UF20130412,KS1303,  3854,  1,      6,  21965,2,20130429,0941, 24.0070, 136.9850, 3977,   1821.7,   2.1473,  34.5941,2,  34.5952,2,    104.3,2,   142.27,2,    38.85,2,     0.00,2,     2.73,2,   2348.0,2,   2399.9,2,   7.4963,2,    25.00,      946
  49UF20130412,KS1303,  3854,  1,      5,  21964,2,20130429,0941, 24.0070, 136.9850, 3977,   1821.7,   2.1473,  34.5941,2,  34.5938,6,    104.3,2,   142.21,2,    38.84,2,     0.00,2,     2.74,2,   2347.2,2,   2397.7,2,   7.4955,2,    25.00,      946
  49UF20130412,KS1303,  3854,  1,      4,  21963,2,20130429,0941, 24.0070, 136.9850, 3977,   2023.1,   1.9790,  34.6170,2,  34.6170,2,    114.8,2,   142.58,2,    38.23,2,     0.00,2,     2.69,2,   2340.8,2,   2400.6,2,   7.5155,2,    25.00,      941
  49UF20130412,KS1303,  3856,  1,     99,     99,2,20130429,2111, 24.2573, 138.5840, 4966,      0.0,  24.3731,  34.8092,2,-999.0000,9,    211.6,2,     1.24,2,     0.03,2,     0.00,2,     0.02,2,   -999.0,9,   -999.0,9,-999.0000,9,  -999.00,     2147
  49UF20130412,KS1303,  3856,  1,     33,  21992,2,20130429,2111, 24.2573, 138.5840, 4966,     11.2,  24.3546,  34.8035,2,-999.0000,9,    211.5,2,     1.20,2,     0.00,2,     0.00,2,     0.01,2,   -999.0,9,   -999.0,9,-999.0000,9,  -999.00,     2217
  49UF20130412,KS1303,  3856,  1,     32,  21991,2,20130429,2111, 24.2573, 138.5840, 4966,     26.0,  23.5135,  34.8426,2,-999.0000,9,    215.2,2,     1.34,2,     0.01,2,     0.00,2,     0.01,2,   -999.0,9,   -999.0,9,-999.0000,9,  -999.00,     2216
  49UF20130412,KS1303,  3856,  1,     31,  21990,2,20130429,2111, 24.2573, 138.5840, 4966,     52.0,  21.7884,  34.8595,2,-999.0000,9,    219.6,2,     1.66,2,     0.01,2,     0.00,2,     0.01,2,   -999.0,9,   -999.0,9,-999.0000,9,  -999.00,     2212
  49UF20130412,KS1303,  3856,  1,     30,  21989,2,20130429,2111, 24.2573, 138.5840, 4966,     75.9,  20.4821,  34.8534,2,-999.0000,9,    216.6,2,     2.00,2,     0.00,2,     0.00,2,     0.03,2,   -999.0,9,   -999.0,9,-999.0000,9,  -999.00,     2210
  49UF20130412,KS1303,  3856,  1,     29,  21988,2,20130429,2111, 24.2573, 138.5840, 4966,    101.3,  19.6132,  34.8312,2,-999.0000,9,    213.4,2,     2.17,2,     0.65,2,     0.18,2,     0.08,2,   -999.0,9,   -999.0,9,-999.0000,9,  -999.00,     2208
  49UF20130412,KS1303,  3856,  1,     28,  21987,2,20130429,2111, 24.2573, 138.5840, 4966,    125.5,  18.8169,  34.7994,2,-999.0000,9,    203.0,2,     2.90,2,     2.77,2,     0.03,2,     0.19,2,   -999.0,9,   -999.0,9,-999.0000,9,  -999.00,     2207
  49UF20130412,KS1303,  3856,  1,     27,  21986,2,20130429,2111, 24.2573, 138.5840, 4966,    151.8,  18.4696,  34.7782,2,-999.0000,9,    201.5,2,     3.24,2,     3.37,2,     0.02,2,     0.23,2,   -999.0,9,   -999.0,9,-999.0000,9,  -999.00,     2205
  49UF20130412,KS1303,  3856,  1,     26,  21985,2,20130429,2111, 24.2573, 138.5840, 4966,    202.3,  17.5929,  34.7339,2,-999.0000,9,    203.7,6,     3.84,6,     4.34,6,     0.01,6,     0.30,6,   -999.0,9,   -999.0,9,-999.0000,9,  -999.00,     2203
  49UF20130412,KS1303,  3856,  1,     25,  21984,2,20130429,2111, 24.2573, 138.5840, 4966,    252.2,  17.0446,  34.7009,2,-999.0000,9,    204.0,2,     4.94,2,     5.31,2,     0.01,2,     0.36,2,   -999.0,9,   -999.0,9,-999.0000,9,  -999.00,     2200
  49UF20130412,KS1303,  3856,  1,     24,  21983,2,20130429,2111, 24.2573, 138.5840, 4966,    252.2,  17.0446,  34.7009,2,-999.0000,9,    204.2,2,     4.89,2,     5.29,2,     0.01,2,     0.36,2,   -999.0,9,   -999.0,9,-999.0000,9,  -999.00,     2200
  49UF20130412,KS1303,  3856,  1,     23,  22095,2,20130429,2111, 24.2573, 138.5840, 4966,    304.1,  16.2599,  34.6487,2,-999.0000,9,    198.2,2,     7.05,2,     7.10,2,     0.01,2,     0.48,2,   -999.0,9,   -999.0,9,-999.0000,9,  -999.00,     2157
  49UF20130412,KS1303,  3856,  1,     22,  21981,2,20130429,2111, 24.2573, 138.5840, 4966,    403.7,  13.5182,  34.4539,2,-999.0000,9,    185.2,2,    14.46,2,    12.42,2,     0.01,2,     0.87,2,   -999.0,9,   -999.0,9,-999.0000,9,  -999.00,     2154
  49UF20130412,KS1303,  3856,  1,     18,  21977,2,20130429,2111, 24.2573, 138.5840, 4966,    505.1,  10.2240,  34.2443,2,-999.0000,9,    171.4,2,    29.74,2,    19.29,2,     0.00,2,     1.38,2,   -999.0,9,   -999.0,9,-999.0000,9,  -999.00,     2151
  49UF20130412,KS1303,  3856,  1,     17,  23679,2,20130429,2111, 24.2573, 138.5840, 4966,    605.5,   7.6436,  34.1265,2,-999.0000,9,    141.3,2,    50.15,2,    26.52,2,     0.00,2,     1.92,2,   -999.0,9,   -999.0,9,-999.0000,9,  -999.00,     2148
  49UF20130412,KS1303,  3856,  1,     16,  21975,2,20130429,2111, 24.2573, 138.5840, 4966,    707.6,   5.7454,  34.1436,2,-999.0000,9,     91.0,2,    74.79,2,    34.27,2,     0.00,2,     2.48,2,   -999.0,9,   -999.0,9,-999.0000,9,  -999.00,     2145
  49UF20130412,KS1303,  3856,  1,     15,  21974,2,20130429,2111, 24.2573, 138.5840, 4966,    807.8,   4.9171,  34.2105,2,-999.0000,9,     70.1,2,    91.22,2,    37.56,2,     0.00,2,     2.71,2,   -999.0,9,   -999.0,9,-999.0000,9,  -999.00,     2142
  49UF20130412,KS1303,  3856,  1,     14,  21973,2,20130429,2111, 24.2573, 138.5840, 4966,    909.6,   4.2121,  34.3051,2,-999.0000,9,     56.5,2,   106.86,2,    39.79,2,     0.00,2,     2.86,2,   -999.0,9,   -999.0,9,-999.0000,9,  -999.00,     2139
  49UF20130412,KS1303,  3856,  1,     13,  21972,2,20130429,2111, 24.2573, 138.5840, 4966,   1010.6,   3.7106,  34.3717,2,-999.0000,9,     54.1,2,   118.76,2,    40.71,2,     0.00,2,     2.92,2,   -999.0,9,   -999.0,9,-999.0000,9,  -999.00,     2136
  49UF20130412,KS1303,  3856,  1,      9,  21968,2,20130429,2111, 24.2573, 138.5840, 4966,   1212.8,   3.0222,  34.4502,2,-999.0000,9,     57.7,2,   134.49,2,    41.04,2,     0.00,2,     2.94,2,   -999.0,9,   -999.0,9,-999.0000,9,  -999.00,     2131
  49UF20130412,KS1303,  3856,  1,      8,  21982,2,20130429,2111, 24.2573, 138.5840, 4966,   1418.2,   2.5469,  34.5197,2,-999.0000,9,     72.6,6,   142.76,6,    40.45,6,     0.00,6,     2.88,6,   -999.0,9,   -999.0,9,-999.0000,9,  -999.00,     2126
  49UF20130412,KS1303,  3856,  1,      7,  21966,2,20130429,2111, 24.2573, 138.5840, 4966,   1618.3,   2.2716,  34.5633,2,-999.0000,9,     89.0,2,   144.37,2,    39.63,2,     0.00,2,     2.81,2,   -999.0,9,   -999.0,9,-999.0000,9,  -999.00,     2121
  49UF20130412,KS1303,  3856,  1,      6,  21965,2,20130429,2111, 24.2573, 138.5840, 4966,   1618.3,   2.2716,  34.5633,2,-999.0000,9,     89.0,2,   144.31,2,    39.57,2,     0.00,2,     2.81,2,   -999.0,9,   -999.0,9,-999.0000,9,  -999.00,     2121
  49UF20130412,KS1303,  3856,  1,      5,  21964,2,20130429,2111, 24.2573, 138.5840, 4966,   1823.0,   2.0761,  34.6037,2,-999.0000,9,    108.9,2,   142.39,2,    38.48,2,     0.00,2,     2.71,2,   -999.0,9,   -999.0,9,-999.0000,9,  -999.00,     2116
  49UF20130412,KS1303,  3856,  1,      4,  21963,3,20130429,2111, 24.2573, 138.5840, 4966,   2024.2,   1.9525,  34.6207,2,-999.0000,9,    116.6,2,   142.99,2,    38.01,2,     0.00,2,     2.67,2,   -999.0,9,   -999.0,9,-999.0000,9,  -999.00,     2111