BOTTLE,20191021PRINUNIVRMK
EXPOCODE,SECT_ID,STNNBR,CASTNO,SAMPNO,BTLNBR,BTLNBR_FLAG_W,DATE,TIME,LATITUDE,LONGITUDE,DEPTH,CTDPRS,CTDTMP,CTDSAL,CTDSAL_FLAG_W,SALNTY,SALNTY_FLAG_W,OXYGEN,OXYGEN_FLAG_W,SILCAT,SILCAT_FLAG_W,NITRAT,NITRAT_FLAG_W,NITRIT,NITRIT_FLAG_W,PHSPHT,PHSPHT_FLAG_W,TCARBN,TCARBN_FLAG_W,ALKALI,ALKALI_FLAG_W,PH_TOT,PH_TOT_FLAG_W,PH_TMP,BTL_TIME
,,,,,,,,,,,METERS,DBAR,ITS-90,PSS-78,,PSS-78,,UMOL/KG,,UMOL/KG,,UMOL/KG,,UMOL/KG,,UMOL/KG,,UMOL/KG,,UMOL/KG,,,,DEG C,
  49UF20130412,KS1303,  3858,  1,     99,     99,2,20130430,0850, 24.2503, 140.2545, 4077,      0.0,  24.7265,  34.9042,2,  34.8997,2,    211.6,2,     1.08,2,     0.00,2,     0.00,2,     0.02,2,   1959.9,2,   2282.8,2,   8.0857,2,    25.00,      920
  49UF20130412,KS1303,  3858,  1,     33,  21992,2,20130430,0850, 24.2503, 140.2545, 4077,     11.6,  24.7090,  34.8996,2,  34.9002,2,    211.6,2,     1.04,2,     0.00,2,     0.00,2,     0.01,2,   1968.1,2,   2284.0,2,   8.0869,2,    25.00,      952
  49UF20130412,KS1303,  3858,  1,     32,  21991,2,20130430,0850, 24.2503, 140.2545, 4077,     25.9,  24.5651,  34.8976,2,-999.0000,9,    211.8,2,     1.07,2,     0.00,2,     0.00,2,     0.01,2,   1968.3,2,   2280.9,2,   8.0880,2,    25.00,      950
  49UF20130412,KS1303,  3858,  1,     31,  21990,2,20130430,0850, 24.2503, 140.2545, 4077,     49.9,  24.5305,  34.8955,2,-999.0000,9,    211.9,2,     1.08,2,     0.05,2,     0.00,2,     0.01,2,   1967.9,2,   2285.3,2,   8.0877,2,    25.00,      946
  49UF20130412,KS1303,  3858,  1,     30,  21989,2,20130430,0850, 24.2503, 140.2545, 4077,     75.3,  23.5151,  34.9953,2,-999.0000,9,    217.6,2,     1.21,2,     0.03,2,     0.00,2,     0.01,2,   1975.4,2,   2289.0,2,   8.0839,2,    25.00,      944
  49UF20130412,KS1303,  3858,  1,     29,  21988,2,20130430,0850, 24.2503, 140.2545, 4077,    101.3,  22.6886,  34.9920,2,  34.9911,2,    216.0,2,     1.34,2,     0.02,2,     0.00,2,     0.01,2,   1984.2,2,   2290.5,2,   8.0709,2,    25.00,      942
  49UF20130412,KS1303,  3858,  1,     28,  21987,2,20130430,0850, 24.2503, 140.2545, 4077,    127.6,  21.5633,  34.9246,2,-999.0000,9,    211.6,2,     1.56,2,     0.05,2,     0.13,2,     0.03,2,   1996.4,2,   2285.8,2,   8.0422,2,    25.00,      941
  49UF20130412,KS1303,  3858,  1,     27,  21986,2,20130430,0850, 24.2503, 140.2545, 4077,    151.3,  20.7074,  34.8921,2,-999.0000,9,    207.1,6,     1.87,6,     0.63,6,     0.05,6,     0.07,6,   2011.5,2,   2283.4,2,   8.0194,2,    25.00,      939
  49UF20130412,KS1303,  3858,  1,     26,  21985,2,20130430,0850, 24.2503, 140.2545, 4077,    202.0,  18.8506,  34.8156,2,  34.8157,2,    202.4,2,     2.76,2,     2.49,2,     0.02,2,     0.18,2,   2029.5,2,   2278.8,2,   7.9761,2,    25.00,      937
  49UF20130412,KS1303,  3858,  1,     25,  21984,2,20130430,0850, 24.2503, 140.2545, 4077,    202.0,  18.8506,  34.8156,2,  34.8141,6,    202.2,2,     2.76,2,     2.41,2,     0.02,2,     0.18,2,   2029.7,2,   2278.6,2,   7.9790,2,    25.00,      937
  49UF20130412,KS1303,  3858,  1,     24,  21983,2,20130430,0850, 24.2503, 140.2545, 4077,    252.1,  17.8291,  34.7471,2,-999.0000,9,    203.3,2,     3.50,2,     4.01,2,     0.01,2,     0.27,2,   2034.8,2,   2273.6,2,   7.9606,2,    25.00,      935
  49UF20130412,KS1303,  3858,  1,     23,  22095,2,20130430,0850, 24.2503, 140.2545, 4077,    303.4,  16.8980,  34.6907,2,-999.0000,9,    206.5,2,     4.66,2,     5.26,2,     0.01,2,     0.35,2,   2038.7,6,   2271.6,6,   7.9466,2,    25.00,      933
  49UF20130412,KS1303,  3858,  1,     22,  21981,2,20130430,0850, 24.2503, 140.2545, 4077,    404.2,  14.7854,  34.5325,2,  34.5355,6,    192.5,2,     9.59,2,     9.59,2,     0.01,2,     0.66,2,   2070.5,2,   2264.9,2,   7.8729,6,    25.00,      931
  49UF20130412,KS1303,  3858,  1,     18,  21977,2,20130430,0850, 24.2503, 140.2545, 4077,    505.4,  10.8706,  34.2754,2,-999.0000,9,    175.3,2,    23.83,2,    17.74,2,     0.00,2,     1.25,2,   2127.9,2,   2267.5,2,   7.7439,2,    25.00,      928
  49UF20130412,KS1303,  3858,  1,     17,  23679,2,20130430,0850, 24.2503, 140.2545, 4077,    604.8,   8.4569,  34.1563,2,  34.1585,2,    151.6,2,    42.31,2,    24.39,2,     0.00,2,     1.74,2,   2175.3,2,   2278.1,2,   7.6389,2,    25.00,      925
  49UF20130412,KS1303,  3858,  1,     16,  21975,2,20130430,0850, 24.2503, 140.2545, 4077,    707.8,   6.5367,  34.1274,2,-999.0000,9,    116.9,2,    63.27,2,    30.91,2,     0.00,2,     2.22,2,   2229.2,2,   2295.6,2,   7.5313,2,    25.00,      922
  49UF20130412,KS1303,  3858,  1,     15,  21974,2,20130430,0850, 24.2503, 140.2545, 4077,    808.7,   5.1089,  34.1893,2,  34.1865,2,     76.2,2,    86.63,2,    37.01,2,     0.00,2,     2.66,2,   2288.4,2,   2317.6,2,   7.4332,2,    25.00,      919
  49UF20130412,KS1303,  3858,  1,     14,  21973,2,20130430,0850, 24.2503, 140.2545, 4077,    910.1,   4.3587,  34.2762,2,-999.0000,9,   -999.0,5,   103.74,2,    39.63,2,     0.00,2,     2.83,2,   2314.5,2,   2336.0,2,   7.4013,2,    25.00,      916
  49UF20130412,KS1303,  3858,  1,     13,  21972,2,20130430,0850, 24.2503, 140.2545, 4077,   1012.4,   3.8103,  34.3674,2,  34.3658,2,     54.8,2,   116.08,2,    40.87,2,     0.00,2,     2.91,2,   2333.4,2,   2350.4,2,   7.3959,2,    25.00,      913
  49UF20130412,KS1303,  3858,  1,      9,  21968,2,20130430,0850, 24.2503, 140.2545, 4077,   1213.1,   3.1885,  34.4447,2,  34.4434,2,     58.2,6,   130.11,6,    41.27,6,     0.00,6,     2.93,6,   2346.5,2,   2373.5,2,   7.4055,2,    25.00,      909
  49UF20130412,KS1303,  3858,  1,      8,  21982,2,20130430,0850, 24.2503, 140.2545, 4077,   1414.7,   2.7534,  34.5035,2,  34.5034,2,     69.6,2,   138.42,2,    40.89,2,     0.00,2,     2.90,2,   2353.2,2,   2389.9,2,   7.4272,2,    25.00,      904
  49UF20130412,KS1303,  3858,  1,      7,  21966,2,20130430,0850, 24.2503, 140.2545, 4077,   1414.7,   2.7534,  34.5035,2,  34.5031,6,     69.7,2,   137.86,2,    40.77,2,     0.00,2,     2.89,2,   2355.6,2,   2377.4,3,   7.4268,2,    25.00,      904
  49UF20130412,KS1303,  3858,  1,      6,  21965,2,20130430,0850, 24.2503, 140.2545, 4077,   1617.6,   2.4156,  34.5494,2,  34.5500,2,     85.1,2,   142.32,2,    40.06,2,     0.00,2,     2.83,2,   2352.7,6,   2396.7,6,   7.4575,2,    25.00,      859
  49UF20130412,KS1303,  3858,  1,      5,  21964,2,20130430,0850, 24.2503, 140.2545, 4077,   1819.7,   2.1941,  34.5840,2,  34.5858,2,     98.9,2,   143.25,2,    39.21,2,     0.00,2,     2.77,2,   2342.1,2,   2392.8,2,   7.4869,6,    25.00,      855
  49UF20130412,KS1303,  3858,  1,      4,  21963,2,20130430,0850, 24.2503, 140.2545, 4077,   2022.6,   2.0022,  34.6121,2,  34.6126,2,    111.4,2,   143.77,2,    38.56,2,     0.00,2,     2.71,2,   2342.4,2,   2400.5,2,   7.5078,2,    25.00,      850
  49UF20130412,KS1303,  3860,  1,     99,     99,2,20130430,1659, 24.2463, 141.1932, 1866,      0.0,  24.3789,  34.8954,2,-999.0000,9,    212.1,2,     1.12,2,     0.00,2,     0.00,2,     0.01,2,   -999.0,9,   -999.0,9,-999.0000,9,  -999.00,     1735
  49UF20130412,KS1303,  3860,  1,     33,  21992,2,20130430,1659, 24.2463, 141.1932, 1866,     11.1,  24.3811,  34.8911,2,-999.0000,9,    212.0,2,     1.12,2,     0.00,2,     0.00,2,     0.01,2,   -999.0,9,   -999.0,9,-999.0000,9,  -999.00,     1751
  49UF20130412,KS1303,  3860,  1,     32,  21991,2,20130430,1659, 24.2463, 141.1932, 1866,     26.2,  24.3699,  34.9002,2,-999.0000,9,    212.2,2,     1.09,2,     0.00,2,     0.00,2,     0.01,2,   -999.0,9,   -999.0,9,-999.0000,9,  -999.00,     1750
  49UF20130412,KS1303,  3860,  1,     31,  21990,2,20130430,1659, 24.2463, 141.1932, 1866,     50.7,  23.9711,  34.9643,2,-999.0000,9,    215.7,2,     1.20,2,     0.00,2,     0.00,2,     0.01,2,   -999.0,9,   -999.0,9,-999.0000,9,  -999.00,     1746
  49UF20130412,KS1303,  3860,  1,     30,  21989,2,20130430,1659, 24.2463, 141.1932, 1866,     76.6,  22.4604,  34.9998,2,-999.0000,9,    215.2,2,     1.40,2,     0.00,2,     0.00,2,     0.01,2,   -999.0,9,   -999.0,9,-999.0000,9,  -999.00,     1745
  49UF20130412,KS1303,  3860,  1,     29,  21988,2,20130430,1659, 24.2463, 141.1932, 1866,    100.5,  21.8798,  34.9783,2,-999.0000,9,    211.3,2,     1.63,2,     0.32,2,     0.03,2,     0.03,2,   -999.0,9,   -999.0,9,-999.0000,9,  -999.00,     1744
  49UF20130412,KS1303,  3860,  1,     28,  21987,2,20130430,1659, 24.2463, 141.1932, 1866,    126.0,  21.2330,  34.9205,2,-999.0000,9,    207.6,6,     1.86,6,     0.65,6,     0.08,6,     0.06,6,   -999.0,9,   -999.0,9,-999.0000,9,  -999.00,     1743
  49UF20130412,KS1303,  3860,  1,     27,  21986,2,20130430,1659, 24.2463, 141.1932, 1866,    152.9,  19.9765,  34.8679,2,-999.0000,9,    203.1,2,     2.43,2,     1.75,2,     0.03,2,     0.14,2,   -999.0,9,   -999.0,9,-999.0000,9,  -999.00,     1741
  49UF20130412,KS1303,  3860,  1,     26,  21985,2,20130430,1659, 24.2463, 141.1932, 1866,    152.9,  19.9765,  34.8679,2,-999.0000,9,    203.2,2,     2.44,2,     1.84,2,     0.03,2,     0.14,2,   -999.0,9,   -999.0,9,-999.0000,9,  -999.00,     1741
  49UF20130412,KS1303,  3860,  1,     25,  21984,2,20130430,1659, 24.2463, 141.1932, 1866,    202.2,  18.1798,  34.7695,2,-999.0000,9,    201.1,2,     3.60,2,     3.79,2,     0.01,2,     0.26,2,   -999.0,9,   -999.0,9,-999.0000,9,  -999.00,     1740
  49UF20130412,KS1303,  3860,  1,     24,  21983,2,20130430,1659, 24.2463, 141.1932, 1866,    252.5,  17.1521,  34.7006,2,-999.0000,9,    199.3,2,     5.18,2,     5.55,2,     0.01,2,     0.38,2,   -999.0,9,   -999.0,9,-999.0000,9,  -999.00,     1738
  49UF20130412,KS1303,  3860,  1,     23,  22095,2,20130430,1659, 24.2463, 141.1932, 1866,    303.9,  15.9708,  34.6176,2,-999.0000,9,    194.8,2,     7.36,2,     7.62,2,     0.01,2,     0.52,2,   -999.0,9,   -999.0,9,-999.0000,9,  -999.00,     1736
  49UF20130412,KS1303,  3860,  1,     22,  21981,2,20130430,1659, 24.2463, 141.1932, 1866,    403.0,  13.7249,  34.4571,2,-999.0000,9,    190.6,2,    12.65,2,    11.58,2,     0.00,2,     0.80,2,   -999.0,9,   -999.0,9,-999.0000,9,  -999.00,     1734
  49UF20130412,KS1303,  3860,  1,     18,  21977,2,20130430,1659, 24.2463, 141.1932, 1866,    505.6,  11.4430,  34.3273,2,-999.0000,9,    175.2,2,    24.69,2,    17.06,2,     0.00,2,     1.20,2,   -999.0,9,   -999.0,9,-999.0000,9,  -999.00,     1731
  49UF20130412,KS1303,  3860,  1,     17,  23679,2,20130430,1659, 24.2463, 141.1932, 1866,    606.4,   8.1748,  34.1563,2,-999.0000,9,    144.5,2,    45.72,2,    25.51,2,     0.00,2,     1.82,2,   -999.0,9,   -999.0,9,-999.0000,9,  -999.00,     1729
  49UF20130412,KS1303,  3860,  1,     16,  21975,2,20130430,1659, 24.2463, 141.1932, 1866,    708.3,   5.8473,  34.1099,2,-999.0000,9,    102.4,2,    71.60,2,    33.54,2,     0.00,2,     2.40,2,   -999.0,9,   -999.0,9,-999.0000,9,  -999.00,     1726
  49UF20130412,KS1303,  3860,  1,     15,  21974,2,20130430,1659, 24.2463, 141.1932, 1866,    807.4,   5.0039,  34.2084,2,-999.0000,9,     78.4,2,    91.31,2,    36.74,2,     0.00,2,     2.64,2,   -999.0,9,   -999.0,9,-999.0000,9,  -999.00,     1723
  49UF20130412,KS1303,  3860,  1,     14,  21973,2,20130430,1659, 24.2463, 141.1932, 1866,    908.5,   4.2915,  34.2670,2,-999.0000,9,     60.3,2,   105.49,2,    39.50,2,     0.00,2,     2.82,2,   -999.0,9,   -999.0,9,-999.0000,9,  -999.00,     1721
  49UF20130412,KS1303,  3860,  1,     13,  21972,2,20130430,1659, 24.2463, 141.1932, 1866,   1010.9,   3.8219,  34.3334,2,-999.0000,9,     53.7,6,   115.90,6,    40.76,6,     0.00,6,     2.91,6,   -999.0,9,   -999.0,9,-999.0000,9,  -999.00,     1718
  49UF20130412,KS1303,  3860,  1,      9,  21968,2,20130430,1659, 24.2463, 141.1932, 1866,   1211.2,   3.0165,  34.4495,2,-999.0000,9,     60.5,2,   134.30,2,    41.11,2,     0.00,2,     2.92,2,   -999.0,9,   -999.0,9,-999.0000,9,  -999.00,     1713
  49UF20130412,KS1303,  3860,  1,      8,  21982,2,20130430,1659, 24.2463, 141.1932, 1866,   1211.2,   3.0165,  34.4495,2,-999.0000,9,     60.4,2,   134.01,2,    41.14,2,     0.00,2,     2.93,2,   -999.0,9,   -999.0,9,-999.0000,9,  -999.00,     1713
  49UF20130412,KS1303,  3860,  1,      7,  21966,2,20130430,1659, 24.2463, 141.1932, 1866,   1414.6,   2.6791,  34.5064,2,-999.0000,9,     72.4,2,   139.18,2,    40.67,2,     0.00,2,     2.87,2,   -999.0,9,   -999.0,9,-999.0000,9,  -999.00,     1709
  49UF20130412,KS1303,  3860,  1,      6,  21965,2,20130430,1659, 24.2463, 141.1932, 1866,   1617.0,   2.3502,  34.5583,2,-999.0000,9,     88.9,2,   142.58,2,    39.84,2,     0.00,2,     2.81,2,   -999.0,9,   -999.0,9,-999.0000,9,  -999.00,     1705
  49UF20130412,KS1303,  3860,  1,      5,  21964,2,20130430,1659, 24.2463, 141.1932, 1866,   1819.6,   2.1158,  34.5942,2,-999.0000,9,    103.2,2,   143.40,2,    39.03,2,     0.00,2,     2.74,2,   -999.0,9,   -999.0,9,-999.0000,9,  -999.00,     1700
  49UF20130412,KS1303,  3860,  1,      4,  21963,2,20130430,1659, 24.2463, 141.1932, 1866,   1847.3,   2.0757,  34.5997,2,-999.0000,9,    106.1,2,   143.24,2,    38.83,2,     0.00,2,     2.73,2,   -999.0,9,   -999.0,9,-999.0000,9,  -999.00,     1659
  49UF20130412,KS1303,  3862,  1,     99,     99,2,20130501,0229, 24.2608, 142.4337, 2894,      0.0,  25.2672,  35.0423,2,-999.0000,9,    210.3,2,     0.97,2,     0.02,2,     0.00,2,     0.01,2,   -999.0,9,   -999.0,9,-999.0000,9,  -999.00,      310
  49UF20130412,KS1303,  3862,  1,     33,  21992,2,20130501,0229, 24.2608, 142.4337, 2894,     10.9,  24.9208,  35.0436,2,  35.0443,2,    210.7,2,     1.00,2,     0.01,2,     0.00,2,     0.01,2,   -999.0,9,   -999.0,9,-999.0000,9,  -999.00,      327
  49UF20130412,KS1303,  3862,  1,     32,  21991,2,20130501,0229, 24.2608, 142.4337, 2894,     25.9,  24.7775,  35.0451,2,-999.0000,9,    210.9,2,     1.00,2,     0.03,2,     0.00,2,     0.00,2,   -999.0,9,   -999.0,9,-999.0000,9,  -999.00,      325
  49UF20130412,KS1303,  3862,  1,     31,  21990,2,20130501,0229, 24.2608, 142.4337, 2894,     51.3,  24.6539,  35.0641,2,-999.0000,9,    211.8,2,     1.00,2,     0.01,2,     0.00,2,     0.00,2,   -999.0,9,   -999.0,9,-999.0000,9,  -999.00,      321
  49UF20130412,KS1303,  3862,  1,     30,  21989,2,20130501,0229, 24.2608, 142.4337, 2894,     76.3,  23.8888,  35.0651,2,-999.0000,9,    214.4,2,     1.09,2,     0.03,2,     0.00,2,     0.01,2,   -999.0,9,   -999.0,9,-999.0000,9,  -999.00,      320
  49UF20130412,KS1303,  3862,  1,     29,  21988,2,20130501,0229, 24.2608, 142.4337, 2894,    101.8,  22.7913,  35.0410,2,  35.0370,6,    214.1,6,     1.30,6,     0.01,6,     0.00,6,     0.01,6,   -999.0,9,   -999.0,9,-999.0000,9,  -999.00,      319
  49UF20130412,KS1303,  3862,  1,     28,  21987,2,20130501,0229, 24.2608, 142.4337, 2894,    126.8,  21.4901,  34.9895,2,-999.0000,9,    212.6,2,     1.60,2,     0.01,2,     0.03,2,     0.02,2,   -999.0,9,   -999.0,9,-999.0000,9,  -999.00,      318
  49UF20130412,KS1303,  3862,  1,     27,  21986,2,20130501,0229, 24.2608, 142.4337, 2894,    126.8,  21.4901,  34.9895,2,-999.0000,9,    212.7,2,     1.65,2,     0.02,2,     0.03,2,     0.02,2,   -999.0,9,   -999.0,9,-999.0000,9,  -999.00,      318
  49UF20130412,KS1303,  3862,  1,     26,  21985,2,20130501,0229, 24.2608, 142.4337, 2894,    152.7,  20.1744,  34.8994,2,-999.0000,9,    213.4,2,     1.99,2,     0.32,2,     0.13,2,     0.05,2,   -999.0,9,   -999.0,9,-999.0000,9,  -999.00,      316
  49UF20130412,KS1303,  3862,  1,     25,  21984,2,20130501,0229, 24.2608, 142.4337, 2894,    202.1,  18.1990,  34.7756,2,  34.7806,2,    203.1,2,     3.15,2,     3.32,2,     0.01,2,     0.23,2,   -999.0,9,   -999.0,9,-999.0000,9,  -999.00,      314
  49UF20130412,KS1303,  3862,  1,     24,  21983,2,20130501,0229, 24.2608, 142.4337, 2894,    253.0,  17.3950,  34.7276,2,-999.0000,9,    214.5,2,     3.53,2,     3.73,2,     0.01,2,     0.25,2,   -999.0,9,   -999.0,9,-999.0000,9,  -999.00,      312
  49UF20130412,KS1303,  3862,  1,     23,  22095,2,20130501,0229, 24.2608, 142.4337, 2894,    304.7,  16.4538,  34.6602,2,-999.0000,9,    203.9,2,     5.61,2,     6.13,2,     0.01,2,     0.41,2,   -999.0,9,   -999.0,9,-999.0000,9,  -999.00,      310
  49UF20130412,KS1303,  3862,  1,     22,  21981,2,20130501,0229, 24.2608, 142.4337, 2894,    404.8,  14.0750,  34.4803,2,  34.4849,2,    192.0,2,    11.13,2,    10.77,2,     0.00,2,     0.74,2,   -999.0,9,   -999.0,9,-999.0000,9,  -999.00,      308
  49UF20130412,KS1303,  3862,  1,     18,  21977,2,20130501,0229, 24.2608, 142.4337, 2894,    504.9,  11.2861,  34.2879,2,-999.0000,9,    184.5,2,    20.13,2,    16.17,2,     0.00,2,     1.13,2,   -999.0,9,   -999.0,9,-999.0000,9,  -999.00,      305
  49UF20130412,KS1303,  3862,  1,     17,  23679,2,20130501,0229, 24.2608, 142.4337, 2894,    605.4,   8.3979,  34.1265,2,  34.1273,6,    153.5,2,    38.89,2,    24.30,2,     0.00,2,     1.73,2,   -999.0,9,   -999.0,9,-999.0000,9,  -999.00,      302
  49UF20130412,KS1303,  3862,  1,     16,  21975,2,20130501,0229, 24.2608, 142.4337, 2894,    705.7,   6.4571,  34.0865,2,-999.0000,9,    116.5,2,    60.93,2,    31.16,2,     0.00,2,     2.24,2,   -999.0,9,   -999.0,9,-999.0000,9,  -999.00,      300
  49UF20130412,KS1303,  3862,  1,     15,  21974,2,20130501,0229, 24.2608, 142.4337, 2894,    806.5,   5.2713,  34.1230,2,  34.1232,2,     85.4,6,    80.77,6,    36.09,6,     0.00,6,     2.58,6,   -999.0,9,   -999.0,9,-999.0000,9,  -999.00,      257
  49UF20130412,KS1303,  3862,  1,     14,  21973,2,20130501,0229, 24.2608, 142.4337, 2894,    907.5,   4.4274,  34.2165,2,-999.0000,9,     58.3,2,   100.10,2,    39.68,2,     0.00,2,     2.83,2,   -999.0,9,   -999.0,9,-999.0000,9,  -999.00,      255
  49UF20130412,KS1303,  3862,  1,     13,  21972,2,20130501,0229, 24.2608, 142.4337, 2894,    907.5,   4.4274,  34.2165,2,-999.0000,9,     58.5,2,   100.32,2,    39.59,2,     0.00,2,     2.83,2,   -999.0,9,   -999.0,9,-999.0000,9,  -999.00,      255
  49UF20130412,KS1303,  3862,  1,      9,  21968,2,20130501,0229, 24.2608, 142.4337, 2894,   1010.1,   3.8554,  34.3122,2,  34.3105,2,     46.8,2,   115.16,2,    41.40,2,     0.00,2,     2.95,2,   -999.0,9,   -999.0,9,-999.0000,9,  -999.00,      252
  49UF20130412,KS1303,  3862,  1,      8,  21982,2,20130501,0229, 24.2608, 142.4337, 2894,   1213.3,   3.1231,  34.4346,2,  34.4350,2,     48.8,2,   133.62,2,    42.01,2,     0.00,2,     2.98,2,   -999.0,9,   -999.0,9,-999.0000,9,  -999.00,      247
  49UF20130412,KS1303,  3862,  1,      7,  21966,2,20130501,0229, 24.2608, 142.4337, 2894,   1413.0,   2.6280,  34.5067,2,  34.5075,2,     58.9,2,   144.69,2,    41.84,2,     0.00,2,     2.95,2,   -999.0,9,   -999.0,9,-999.0000,9,  -999.00,      243
  49UF20130412,KS1303,  3862,  1,      6,  21965,2,20130501,0229, 24.2608, 142.4337, 2894,   1616.1,   2.2645,  34.5578,2,  34.5588,6,     75.0,2,   149.94,2,    40.97,2,     0.00,2,     2.88,2,   -999.0,9,   -999.0,9,-999.0000,9,  -999.00,      238
  49UF20130412,KS1303,  3862,  1,      5,  21964,2,20130501,0229, 24.2608, 142.4337, 2894,   1819.9,   2.0276,  34.5902,2,  34.5899,2,     88.8,2,   151.72,2,    40.17,2,     0.00,2,     2.82,2,   -999.0,9,   -999.0,9,-999.0000,9,  -999.00,      234
  49UF20130412,KS1303,  3862,  1,      4,  21963,2,20130501,0229, 24.2608, 142.4337, 2894,   2024.3,   1.8713,  34.6135,2,  34.6143,6,    102.2,2,   152.34,2,    39.34,2,     0.00,2,     2.75,2,   -999.0,9,   -999.0,9,-999.0000,9,  -999.00,      229