BOTTLE,20191021PRINUNIVRMK
# 08/29/2019 Initialized README file  
# Data source:  Masao Ishii 2018/11/30 
# SHIP: R/V Keifu Maru II 
# Cruise: KS13-03 
# Region: NW Pacific Ocean, East China Sea 
# EXPOCODE: 49UF20130412 
# DATES: 20130412 - 20130508	 
# Chief Scientist: Keizo Shutta 
# 23 stations with 24 place Rosette 
# CTD: Who - Kazuhiro Nemoto; Status - final 
# 	Includes: CTDSAL 
# SALNTY: Who - Kazuhiro Nemoto; Status - final 
# 	Notes: 	 
# Nutrients: Who - Kazuhiro Nemoto; Status - final 
# 	Includes: nitrate, nitrite, silicate, phosphate 
# 	Nitrite and NO3+NO2 reported. Separated by subtraction 
# OXYGEN: Who - Kazuhiro Nemoto; Status - final 
# 	Notes: 
# TCARBN: Who - Kazuhiro Nemoto; Status - final 
# 	Notes:  
# ALKALI: Who - Kazuhiro Nemoto; Status - final 
# 	Notes:  
# PH_TOT: Who - Kazuhiro Nemoto; Status - final 
# 	Notes:  
# Shutta, Keizo; Nemoto, Kazuhiro (2019). Dissolved inorganic carbon (DIC), total alkalinity, pH on total scale, temperature, salinity, oxygen, nutrients and other measurements collected from profile and discrete sample observations during the R/V Keifu Maru II cruise KS13-03 (EXPOCODE 49UF20130412) in the North Pacific Ocean and East China Sea from 2013-04-11 to 2013-05-08 (NCEI Accession 0186251). [indicate subset used]. NOAA National Centers for Environmental Information. Dataset. https://doi.org/10.25921/4gm6-ta35.   
# References that have used data from this cruise: 
EXPOCODE,SECT_ID,STNNBR,CASTNO,SAMPNO,BTLNBR,BTLNBR_FLAG_W,DATE,TIME,LATITUDE,LONGITUDE,DEPTH,CTDPRS,CTDTMP,CTDSAL,CTDSAL_FLAG_W,SALNTY,SALNTY_FLAG_W,OXYGEN,OXYGEN_FLAG_W,SILCAT,SILCAT_FLAG_W,NITRAT,NITRAT_FLAG_W,NITRIT,NITRIT_FLAG_W,PHSPHT,PHSPHT_FLAG_W,TCARBN,TCARBN_FLAG_W,ALKALI,ALKALI_FLAG_W,PH_TOT,PH_TOT_FLAG_W,PH_TMP,BTL_TIME
,,,,,,,,,,,METERS,DBAR,ITS-90,PSS-78,,PSS-78,,UMOL/KG,,UMOL/KG,,UMOL/KG,,UMOL/KG,,UMOL/KG,,UMOL/KG,,UMOL/KG,,,,DEG C,
  49UF20130412,KS1303,  3815,  1,     99,     99,2,20130416,0110, 28.7028, 126.4470,  129,      0.0,  23.6401,  34.5416,2,  34.5341,2,    213.3,2,     1.40,2,     0.13,2,     0.00,2,     0.08,2,   1959.7,2,   2266.7,2,   8.0741,2,    25.00,      107
  49UF20130412,KS1303,  3815,  1,     30,  21989,2,20130416,0110, 28.7028, 126.4470,  129,     10.6,  23.6336,  34.5373,2,  34.5372,2,    213.2,2,     1.40,2,     0.10,2,     0.00,2,     0.06,2,   -999.0,9,   -999.0,9,-999.0000,9,  -999.00,      119
  49UF20130412,KS1303,  3815,  1,     29,  21988,2,20130416,0110, 28.7028, 126.4470,  129,     20.7,  23.6323,  34.5371,2,-999.0000,9,    212.9,2,     1.40,2,     0.11,2,     0.00,2,     0.06,2,   -999.0,9,   -999.0,9,-999.0000,9,  -999.00,      118
  49UF20130412,KS1303,  3815,  1,     28,  21987,2,20130416,0110, 28.7028, 126.4470,  129,     30.8,  23.6296,  34.5364,2,-999.0000,9,    213.2,2,     1.36,2,     0.09,2,     0.00,2,     0.07,2,   -999.0,9,   -999.0,9,-999.0000,9,  -999.00,      117
  49UF20130412,KS1303,  3815,  1,     15,  21974,2,20130416,0110, 28.7028, 126.4470,  129,     51.5,  23.5963,  34.5322,2,-999.0000,9,    212.3,2,     1.45,2,     0.10,2,     0.02,2,     0.07,2,   -999.0,9,   -999.0,9,-999.0000,9,  -999.00,      115
  49UF20130412,KS1303,  3815,  1,     14,  21973,2,20130416,0110, 28.7028, 126.4470,  129,     76.2,  21.7392,  34.6537,2,-999.0000,9,    186.4,2,     4.43,2,     3.35,2,     0.22,2,     0.30,2,   -999.0,9,   -999.0,9,-999.0000,9,  -999.00,      114
  49UF20130412,KS1303,  3815,  1,     13,  21972,2,20130416,0110, 28.7028, 126.4470,  129,    101.0,  20.3259,  34.7034,2,  34.7033,2,    173.1,6,     8.99,6,     5.74,6,     0.03,6,     0.44,6,   -999.0,9,   -999.0,9,-999.0000,9,  -999.00,      112
  49UF20130412,KS1303,  3815,  1,      3,  22079,2,20130416,0110, 28.7028, 126.4470,  129,    122.5,  19.4528,  34.6097,2,-999.0000,9,    175.6,2,    10.30,2,     6.56,2,     0.05,2,     0.50,2,   -999.0,9,   -999.0,9,-999.0000,9,  -999.00,      110
  49UF20130412,KS1303,  3815,  1,      2,  21961,2,20130416,0110, 28.7028, 126.4470,  129,    122.5,  19.4528,  34.6097,2,-999.0000,9,    175.6,2,    10.30,2,     6.61,2,     0.05,2,     0.50,2,   -999.0,9,   -999.0,9,-999.0000,9,  -999.00,      110
  49UF20130412,KS1303,  3815,  1,      1,  21960,2,20130416,0110, 28.7028, 126.4470,  129,    122.6,  19.2175,  34.5858,2,  34.6125,4,    175.6,2,    10.26,2,     6.60,2,     0.04,2,     0.50,2,   -999.0,9,   -999.0,9,-999.0000,9,  -999.00,      110
  49UF20130412,KS1303,  3817,  1,     99,     99,2,20130416,0355, 28.5565, 126.6790,  154,      0.0,  23.2700,  34.5096,2,-999.0000,9,    216.5,2,     1.14,2,     0.02,2,     0.00,2,     0.08,4,   -999.0,9,   -999.0,9,-999.0000,9,  -999.00,      353
  49UF20130412,KS1303,  3817,  1,     30,  21989,2,20130416,0355, 28.5565, 126.6790,  154,     10.3,  23.2636,  34.5053,2,  34.5051,6,    216.7,6,     1.19,6,     0.03,6,     0.00,6,     0.06,6,   -999.0,9,   -999.0,9,-999.0000,9,  -999.00,      407
  49UF20130412,KS1303,  3817,  1,     29,  21988,3,20130416,0355, 28.5565, 126.6790,  154,     21.3,  23.2548,  34.5052,2,-999.0000,9,    216.7,2,     1.16,2,     0.05,2,     0.00,2,     0.06,2,   -999.0,9,   -999.0,9,-999.0000,9,  -999.00,      406
  49UF20130412,KS1303,  3817,  1,     28,  21987,2,20130416,0355, 28.5565, 126.6790,  154,     21.3,  23.2548,  34.5052,2,-999.0000,9,    216.8,2,     1.16,2,     0.02,2,     0.00,2,     0.06,4,   -999.0,9,   -999.0,9,-999.0000,9,  -999.00,      406
  49UF20130412,KS1303,  3817,  1,     16,  21975,2,20130416,0355, 28.5565, 126.6790,  154,     31.5,  23.2455,  34.5051,2,-999.0000,9,    216.8,2,     1.16,2,     0.05,2,     0.00,2,     0.06,2,   -999.0,9,   -999.0,9,-999.0000,9,  -999.00,      404
  49UF20130412,KS1303,  3817,  1,     15,  21974,2,20130416,0355, 28.5565, 126.6790,  154,     51.7,  23.2192,  34.5019,2,-999.0000,9,    216.2,2,     1.11,2,     0.03,2,     0.01,2,     0.06,2,   -999.0,9,   -999.0,9,-999.0000,9,  -999.00,      403
  49UF20130412,KS1303,  3817,  1,     14,  21973,2,20130416,0355, 28.5565, 126.6790,  154,     76.5,  22.9770,  34.4782,2,-999.0000,9,    216.8,2,     1.18,2,     0.07,2,     0.01,2,     0.07,2,   -999.0,9,   -999.0,9,-999.0000,9,  -999.00,      401
  49UF20130412,KS1303,  3817,  1,     13,  21972,3,20130416,0355, 28.5565, 126.6790,  154,    102.2,  20.4622,  34.3599,2,  34.3770,4,    193.8,2,     6.09,2,     4.97,2,     0.24,2,     0.35,2,   -999.0,9,   -999.0,9,-999.0000,9,  -999.00,      359
  49UF20130412,KS1303,  3817,  1,      3,  22079,2,20130416,0355, 28.5565, 126.6790,  154,    127.2,  18.2241,  34.5361,2,-999.0000,9,    176.2,2,    11.88,2,     8.49,2,     0.06,2,     0.60,2,   -999.0,9,   -999.0,9,-999.0000,9,  -999.00,      357
  49UF20130412,KS1303,  3817,  1,      2,  21961,3,20130416,0355, 28.5565, 126.6790,  154,    147.4,  15.7157,  34.4892,2,-999.0000,9,    168.2,2,    17.11,2,    11.29,2,     0.12,2,     0.82,2,   -999.0,9,   -999.0,9,-999.0000,9,  -999.00,      356
  49UF20130412,KS1303,  3817,  1,      1,  21960,2,20130416,0355, 28.5565, 126.6790,  154,    147.4,  15.7573,  34.4873,2,  34.5046,4,    168.2,2,    16.91,2,    11.16,2,     0.12,2,     0.81,2,   -999.0,9,   -999.0,9,-999.0000,9,  -999.00,      355
  49UF20130412,KS1303,  3819,  1,     99,     99,2,20130416,0657, 28.4125, 126.9062,  278,      0.0,  24.0134,  34.5806,2,-999.0000,9,    210.3,2,     1.46,2,     0.04,2,     0.00,2,     0.07,2,   -999.0,9,   -999.0,9,-999.0000,9,  -999.00,      654
  49UF20130412,KS1303,  3819,  1,     31,  21990,2,20130416,0657, 28.4125, 126.9062,  278,     10.6,  24.0119,  34.5766,2,  34.5768,2,    210.0,2,     1.52,2,     0.02,2,     0.00,2,     0.05,2,   -999.0,9,   -999.0,9,-999.0000,9,  -999.00,      719
  49UF20130412,KS1303,  3819,  1,     30,  21989,2,20130416,0657, 28.4125, 126.9062,  278,     20.8,  24.0125,  34.5764,2,-999.0000,9,    209.8,2,     1.48,2,     0.00,2,     0.00,2,     0.05,2,   -999.0,9,   -999.0,9,-999.0000,9,  -999.00,      717
  49UF20130412,KS1303,  3819,  1,     29,  21988,2,20130416,0657, 28.4125, 126.9062,  278,     30.6,  24.0150,  34.5763,2,-999.0000,9,    210.0,2,     1.48,2,     0.00,2,     0.00,2,     0.05,2,   -999.0,9,   -999.0,9,-999.0000,9,  -999.00,      716
  49UF20130412,KS1303,  3819,  1,     28,  21987,2,20130416,0657, 28.4125, 126.9062,  278,     50.4,  23.5586,  34.6172,2,-999.0000,9,    210.1,2,     1.44,2,     0.02,2,     0.05,2,     0.04,2,   -999.0,9,   -999.0,9,-999.0000,9,  -999.00,      714
  49UF20130412,KS1303,  3819,  1,     27,  21986,2,20130416,0657, 28.4125, 126.9062,  278,     76.0,  22.8577,  34.6459,2,-999.0000,9,    213.3,2,     1.40,2,     0.02,2,     0.02,2,     0.03,2,   -999.0,9,   -999.0,9,-999.0000,9,  -999.00,      711
  49UF20130412,KS1303,  3819,  1,     16,  21975,2,20130416,0657, 28.4125, 126.9062,  278,    101.1,  22.6248,  34.6530,2,  34.6548,6,    213.7,2,     1.44,2,     0.04,2,     0.04,2,     0.03,2,   -999.0,9,   -999.0,9,-999.0000,9,  -999.00,      709
  49UF20130412,KS1303,  3819,  1,     15,  21974,2,20130416,0657, 28.4125, 126.9062,  278,    127.1,  21.2626,  34.6491,2,-999.0000,9,    179.4,2,     5.93,2,     4.68,2,     0.09,2,     0.36,2,   -999.0,9,   -999.0,9,-999.0000,9,  -999.00,      707
  49UF20130412,KS1303,  3819,  1,     14,  21973,2,20130416,0657, 28.4125, 126.9062,  278,    153.6,  19.0183,  34.5475,2,-999.0000,9,    176.2,2,     9.80,2,     7.22,2,     0.06,2,     0.52,2,   -999.0,9,   -999.0,9,-999.0000,9,  -999.00,      705
  49UF20130412,KS1303,  3819,  1,     13,  21972,2,20130416,0657, 28.4125, 126.9062,  278,    203.6,  13.6329,  34.4792,2,  34.4937,4,    159.8,2,    22.10,2,    14.64,2,     0.05,2,     1.05,2,   -999.0,9,   -999.0,9,-999.0000,9,  -999.00,      701
  49UF20130412,KS1303,  3819,  1,      4,  21963,2,20130416,0657, 28.4125, 126.9062,  278,    253.0,  11.4245,  34.3746,2,-999.0000,9,    149.2,6,    32.38,6,    19.16,6,     0.17,6,     1.39,6,   -999.0,9,   -999.0,9,-999.0000,9,  -999.00,      659
  49UF20130412,KS1303,  3819,  1,      3,  22079,2,20130416,0657, 28.4125, 126.9062,  278,    271.3,  10.8215,  34.3514,2,  34.3525,2,    145.6,2,    35.62,2,    20.27,2,     0.14,2,     1.49,2,   -999.0,9,   -999.0,9,-999.0000,9,  -999.00,      657
  49UF20130412,KS1303,  3819,  1,      2,  21961,2,20130416,0657, 28.4125, 126.9062,  278,    271.3,  10.8215,  34.3514,2,  34.3529,6,    145.4,2,    35.71,2,    20.31,2,     0.14,2,     1.49,2,   -999.0,9,   -999.0,9,-999.0000,9,  -999.00,      657
  49UF20130412,KS1303,  3819,  1,      1,  21960,2,20130416,0657, 28.4125, 126.9062,  278,    271.6,  10.8700,  34.3536,2,-999.0000,9,    146.5,2,    34.93,2,    20.08,2,     0.15,2,     1.47,2,   -999.0,9,   -999.0,9,-999.0000,9,  -999.00,      657
  49UF20130412,KS1303,  3821,  1,     99,     99,2,20130416,1106, 28.2703, 127.1407,  978,      0.0,  23.1933,  34.6256,2,-999.0000,9,    214.3,2,     1.64,2,     0.07,2,     0.00,2,     0.06,2,   -999.0,9,   -999.0,9,-999.0000,9,  -999.00,     1120
  49UF20130412,KS1303,  3821,  1,     33,  21992,2,20130416,1106, 28.2703, 127.1407,  978,     10.2,  23.1780,  34.6223,2,  34.6287,2,    214.0,2,     1.60,2,     0.03,2,     0.00,2,     0.04,2,   -999.0,9,   -999.0,9,-999.0000,9,  -999.00,     1144
  49UF20130412,KS1303,  3821,  1,     32,  21991,2,20130416,1106, 28.2703, 127.1407,  978,     20.7,  22.8841,  34.6474,2,-999.0000,9,    215.2,2,     1.55,2,     0.03,2,     0.00,2,     0.03,2,   -999.0,9,   -999.0,9,-999.0000,9,  -999.00,     1142
  49UF20130412,KS1303,  3821,  1,     31,  21990,2,20130416,1106, 28.2703, 127.1407,  978,     31.2,  22.4436,  34.6898,2,-999.0000,9,    216.2,2,     1.55,2,     0.03,2,     0.00,2,     0.02,2,   -999.0,9,   -999.0,9,-999.0000,9,  -999.00,     1141
  49UF20130412,KS1303,  3821,  1,     30,  21989,2,20130416,1106, 28.2703, 127.1407,  978,     50.2,  22.1038,  34.7065,2,-999.0000,9,    211.8,2,     1.77,2,     0.27,2,     0.05,2,     0.05,2,   -999.0,9,   -999.0,9,-999.0000,9,  -999.00,     1140
  49UF20130412,KS1303,  3821,  1,     29,  21988,2,20130416,1106, 28.2703, 127.1407,  978,     75.6,  22.0031,  34.7825,2,-999.0000,9,    193.6,2,     2.42,2,     1.79,2,     0.04,2,     0.15,2,   -999.0,9,   -999.0,9,-999.0000,9,  -999.00,     1138
  49UF20130412,KS1303,  3821,  1,     28,  21987,2,20130416,1106, 28.2703, 127.1407,  978,    100.7,  21.5454,  34.8018,2,  34.8009,2,    192.8,2,     2.59,2,     2.01,2,     0.04,2,     0.16,2,   -999.0,9,   -999.0,9,-999.0000,9,  -999.00,     1137
  49UF20130412,KS1303,  3821,  1,     27,  21986,2,20130416,1106, 28.2703, 127.1407,  978,    126.2,  20.7803,  34.8157,2,-999.0000,9,    187.7,2,     3.29,2,     3.05,2,     0.02,2,     0.23,2,   -999.0,9,   -999.0,9,-999.0000,9,  -999.00,     1135
  49UF20130412,KS1303,  3821,  1,     20,  21979,2,20130416,1106, 28.2703, 127.1407,  978,    150.6,  20.1682,  34.8238,2,-999.0000,9,    187.2,2,     3.50,2,     3.41,2,     0.02,2,     0.26,2,   -999.0,9,   -999.0,9,-999.0000,9,  -999.00,     1132
  49UF20130412,KS1303,  3821,  1,     19,  21978,2,20130416,1106, 28.2703, 127.1407,  978,    201.4,  18.3517,  34.7616,2,  34.7641,6,    189.9,6,     4.75,6,     4.91,6,     0.01,6,     0.35,6,   -999.0,9,   -999.0,9,-999.0000,9,  -999.00,     1130
  49UF20130412,KS1303,  3821,  1,     18,  21977,2,20130416,1106, 28.2703, 127.1407,  978,    252.7,  16.6282,  34.6623,2,-999.0000,9,    181.6,2,     8.75,2,     8.11,2,     0.01,2,     0.57,2,   -999.0,9,   -999.0,9,-999.0000,9,  -999.00,     1128
  49UF20130412,KS1303,  3821,  1,     17,  23679,2,20130416,1106, 28.2703, 127.1407,  978,    252.7,  16.6282,  34.6623,2,-999.0000,9,    181.6,2,     8.74,2,     8.06,2,     0.01,2,     0.58,2,   -999.0,9,   -999.0,9,-999.0000,9,  -999.00,     1128
  49UF20130412,KS1303,  3821,  1,     16,  21975,2,20130416,1106, 28.2703, 127.1407,  978,    301.2,  14.2555,  34.5227,2,-999.0000,9,    161.6,2,    19.78,2,    13.70,2,     0.01,2,     0.98,2,   -999.0,9,   -999.0,9,-999.0000,9,  -999.00,     1126
  49UF20130412,KS1303,  3821,  1,     15,  21974,2,20130416,1106, 28.2703, 127.1407,  978,    401.5,   9.8329,  34.3074,2,  34.3073,2,    141.3,2,    40.76,2,    22.80,2,     0.01,2,     1.63,2,   -999.0,9,   -999.0,9,-999.0000,9,  -999.00,     1123
  49UF20130412,KS1303,  3821,  1,      7,  21966,2,20130416,1106, 28.2703, 127.1407,  978,    503.1,   8.0223,  34.2591,2,-999.0000,9,    120.8,2,    56.54,2,    27.78,2,     0.02,2,     1.99,2,   -999.0,9,   -999.0,9,-999.0000,9,  -999.00,     1120
  49UF20130412,KS1303,  3821,  1,      6,  21965,2,20130416,1106, 28.2703, 127.1407,  978,    607.0,   6.8587,  34.2838,2,  34.2830,2,    102.8,2,    71.70,2,    31.38,2,     0.00,2,     2.25,2,   -999.0,9,   -999.0,9,-999.0000,9,  -999.00,     1117
  49UF20130412,KS1303,  3821,  1,      5,  21964,2,20130416,1106, 28.2703, 127.1407,  978,    706.8,   6.1470,  34.3218,2,-999.0000,9,     91.7,6,    83.13,6,    33.50,6,     0.00,6,     2.41,6,   -999.0,9,   -999.0,9,-999.0000,9,  -999.00,     1114
  49UF20130412,KS1303,  3821,  1,      4,  21963,2,20130416,1106, 28.2703, 127.1407,  978,    807.2,   5.6182,  34.3497,2,  34.3493,2,     85.7,2,    91.50,2,    34.91,2,     0.00,2,     2.51,2,   -999.0,9,   -999.0,9,-999.0000,9,  -999.00,     1111
  49UF20130412,KS1303,  3821,  1,      3,  22079,2,20130416,1106, 28.2703, 127.1407,  978,    807.2,   5.6182,  34.3497,2,  34.3497,6,     84.9,2,    91.63,2,    34.90,2,     0.00,2,     2.51,2,   -999.0,9,   -999.0,9,-999.0000,9,  -999.00,     1111
  49UF20130412,KS1303,  3821,  1,      2,  21961,2,20130416,1106, 28.2703, 127.1407,  978,    908.2,   5.2771,  34.3695,2,-999.0000,9,     80.4,2,    97.40,2,    35.72,2,     0.00,2,     2.58,2,   -999.0,9,   -999.0,9,-999.0000,9,  -999.00,     1108
  49UF20130412,KS1303,  3821,  1,      1,  21960,2,20130416,1106, 28.2703, 127.1407,  978,    971.1,   5.0240,  34.3799,2,  34.3806,6,     78.0,2,   101.19,2,    36.41,2,     0.01,2,     2.62,2,   -999.0,9,   -999.0,9,-999.0000,9,  -999.00,     1106