BOTTLE,20191021PRINUNIVRMK
EXPOCODE,SECT_ID,STNNBR,CASTNO,SAMPNO,BTLNBR,BTLNBR_FLAG_W,DATE,TIME,LATITUDE,LONGITUDE,DEPTH,CTDPRS,CTDTMP,CTDSAL,CTDSAL_FLAG_W,SALNTY,SALNTY_FLAG_W,OXYGEN,OXYGEN_FLAG_W,SILCAT,SILCAT_FLAG_W,NITRAT,NITRAT_FLAG_W,NITRIT,NITRIT_FLAG_W,PHSPHT,PHSPHT_FLAG_W,TCARBN,TCARBN_FLAG_W,ALKALI,ALKALI_FLAG_W,PH_TOT,PH_TOT_FLAG_W,PH_TMP,BTL_TIME
,,,,,,,,,,,METERS,DBAR,ITS-90,PSS-78,,PSS-78,,UMOL/KG,,UMOL/KG,,UMOL/KG,,UMOL/KG,,UMOL/KG,,UMOL/KG,,UMOL/KG,,,,DEG C,
  49UF20130412,KS1303,  3823,  1,     99,     99,2,20130416,1501, 28.1205, 127.3618,  983,      0.0,  23.3396,  34.5812,2,-999.0000,9,    213.2,2,     1.63,2,     0.09,2,     0.00,2,     0.06,2,   -999.0,9,   -999.0,9,-999.0000,9,  -999.00,     1505
  49UF20130412,KS1303,  3823,  1,     33,  21992,2,20130416,1501, 28.1205, 127.3618,  983,     11.1,  23.3435,  34.5771,2,  34.5764,2,    213.0,2,     1.60,2,     0.07,2,     0.00,2,     0.05,2,   -999.0,9,   -999.0,9,-999.0000,9,  -999.00,     1544
  49UF20130412,KS1303,  3823,  1,     32,  21991,2,20130416,1501, 28.1205, 127.3618,  983,     21.1,  23.3419,  34.5778,2,-999.0000,9,    213.0,2,     1.60,2,     0.07,2,     0.00,2,     0.05,2,   -999.0,9,   -999.0,9,-999.0000,9,  -999.00,     1543
  49UF20130412,KS1303,  3823,  1,     31,  21990,2,20130416,1501, 28.1205, 127.3618,  983,     32.3,  23.2319,  34.5879,2,-999.0000,9,    213.2,2,     1.56,2,     0.07,2,     0.00,2,     0.04,2,   -999.0,9,   -999.0,9,-999.0000,9,  -999.00,     1542
  49UF20130412,KS1303,  3823,  1,     30,  21989,2,20130416,1501, 28.1205, 127.3618,  983,     51.0,  22.7659,  34.6342,2,-999.0000,9,    214.3,2,     1.62,2,     0.04,2,     0.01,2,     0.04,2,   -999.0,9,   -999.0,9,-999.0000,9,  -999.00,     1538
  49UF20130412,KS1303,  3823,  1,     29,  21988,2,20130416,1501, 28.1205, 127.3618,  983,     75.6,  21.6112,  34.6737,2,-999.0000,9,    218.1,2,     1.67,2,     0.10,2,     0.04,2,     0.04,2,   -999.0,9,   -999.0,9,-999.0000,9,  -999.00,     1536
  49UF20130412,KS1303,  3823,  1,     28,  21987,2,20130416,1501, 28.1205, 127.3618,  983,    102.3,  21.3410,  34.6961,2,  34.6959,2,    218.3,2,     1.73,2,     0.16,2,     0.13,2,     0.05,2,   -999.0,9,   -999.0,9,-999.0000,9,  -999.00,     1534
  49UF20130412,KS1303,  3823,  1,     27,  21986,2,20130416,1501, 28.1205, 127.3618,  983,    126.5,  20.9440,  34.7441,2,-999.0000,9,    210.8,2,     1.99,2,     1.05,2,     0.06,2,     0.09,2,   -999.0,9,   -999.0,9,-999.0000,9,  -999.00,     1533
  49UF20130412,KS1303,  3823,  1,     22,  21981,2,20130416,1501, 28.1205, 127.3618,  983,    152.9,  20.3886,  34.7523,2,-999.0000,9,    205.3,2,     2.51,2,     1.96,2,     0.02,2,     0.14,2,   -999.0,9,   -999.0,9,-999.0000,9,  -999.00,     1531
  49UF20130412,KS1303,  3823,  1,     21,  21980,2,20130416,1501, 28.1205, 127.3618,  983,    203.3,  19.3382,  34.7852,2,  34.7845,2,    190.1,2,     3.90,2,     4.07,2,     0.01,2,     0.28,2,   -999.0,9,   -999.0,9,-999.0000,9,  -999.00,     1529
  49UF20130412,KS1303,  3823,  1,     20,  21979,3,20130416,1501, 28.1205, 127.3618,  983,    253.8,  17.9991,  34.7347,2,-999.0000,9,    191.0,2,     4.98,2,     5.38,2,     0.01,2,     0.36,2,   -999.0,9,   -999.0,9,-999.0000,9,  -999.00,     1527
  49UF20130412,KS1303,  3823,  1,     19,  21978,3,20130416,1501, 28.1205, 127.3618,  983,    304.7,  16.3915,  34.6444,2,-999.0000,9,    185.4,2,     8.17,2,     8.09,2,     0.01,2,     0.55,2,   -999.0,9,   -999.0,9,-999.0000,9,  -999.00,     1525
  49UF20130412,KS1303,  3823,  1,     18,  21977,2,20130416,1501, 28.1205, 127.3618,  983,    407.5,  13.1513,  34.4610,2,  34.4620,2,    163.4,6,    21.41,6,    15.32,6,     0.01,6,     1.09,6,   -999.0,9,   -999.0,9,-999.0000,9,  -999.00,     1521
  49UF20130412,KS1303,  3823,  1,     17,  23679,2,20130416,1501, 28.1205, 127.3618,  983,    507.6,  10.3166,  34.3275,2,-999.0000,9,    145.5,2,    37.15,2,    21.59,2,     0.01,2,     1.54,2,   -999.0,9,   -999.0,9,-999.0000,9,  -999.00,     1516
  49UF20130412,KS1303,  3823,  1,     16,  21975,2,20130416,1501, 28.1205, 127.3618,  983,    507.6,  10.3166,  34.3275,2,-999.0000,9,    145.6,2,    37.13,2,    21.57,2,     0.01,2,     1.54,2,   -999.0,9,   -999.0,9,-999.0000,9,  -999.00,     1516
  49UF20130412,KS1303,  3823,  1,      7,  21966,2,20130416,1501, 28.1205, 127.3618,  983,    605.6,   7.6266,  34.2580,2,  34.2580,2,    115.9,2,    61.04,2,    28.97,2,     0.01,2,     2.08,2,   -999.0,9,   -999.0,9,-999.0000,9,  -999.00,     1513
  49UF20130412,KS1303,  3823,  1,      6,  21965,3,20130416,1501, 28.1205, 127.3618,  983,    708.9,   6.3151,  34.3069,2,-999.0000,9,     94.3,2,    79.90,2,    33.04,2,     0.01,2,     2.38,2,   -999.0,9,   -999.0,9,-999.0000,9,  -999.00,     1510
  49UF20130412,KS1303,  3823,  1,      5,  21964,2,20130416,1501, 28.1205, 127.3618,  983,    807.8,   5.5846,  34.3404,2,  34.3406,2,     84.5,2,    91.04,2,    35.09,2,     0.00,2,     2.52,2,   -999.0,9,   -999.0,9,-999.0000,9,  -999.00,     1506
  49UF20130412,KS1303,  3823,  1,      4,  21963,3,20130416,1501, 28.1205, 127.3618,  983,    902.9,   4.9418,  34.3803,2,-999.0000,9,     77.8,2,   101.79,2,    36.69,2,     0.00,2,     2.63,2,   -999.0,9,   -999.0,9,-999.0000,9,  -999.00,     1504
  49UF20130412,KS1303,  3823,  1,      3,  22079,2,20130416,1501, 28.1205, 127.3618,  983,    973.4,   4.6959,  34.3932,2,  34.3929,6,     75.6,6,   105.85,6,    37.20,6,     0.01,6,     2.68,6,   -999.0,9,   -999.0,9,-999.0000,9,  -999.00,     1502
  49UF20130412,KS1303,  3823,  1,      2,  21961,2,20130416,1501, 28.1205, 127.3618,  983,    976.3,   4.6922,  34.3933,2,  34.3932,2,     75.2,2,   105.98,2,    37.34,2,     0.00,2,     2.68,2,   -999.0,9,   -999.0,9,-999.0000,9,  -999.00,     1501
  49UF20130412,KS1303,  3823,  1,      1,  21960,2,20130416,1501, 28.1205, 127.3618,  983,    976.3,   4.6922,  34.3933,2,  34.3930,2,     75.3,2,   106.05,2,    37.27,2,     0.00,2,     2.68,2,   -999.0,9,   -999.0,9,-999.0000,9,  -999.00,     1501
  49UF20130412,KS1303,  3826,  1,     99,     99,2,20130416,2202, 27.8072, 127.7918,  991,      0.0,  20.9432,  34.7401,2,  34.7358,2,    223.5,2,     1.60,2,     0.01,2,     0.00,2,     0.03,2,   1981.3,2,   2277.1,2,   8.0459,2,    25.00,     2217
  49UF20130412,KS1303,  3826,  1,     33,  21992,2,20130416,2202, 27.8072, 127.7918,  991,     10.9,  20.9375,  34.7364,2,  34.7349,2,    222.9,2,     1.60,2,     0.04,2,     0.00,2,     0.02,2,   -999.0,9,   -999.0,9,-999.0000,9,  -999.00,     2240
  49UF20130412,KS1303,  3826,  1,     32,  21991,2,20130416,2202, 27.8072, 127.7918,  991,     20.4,  20.9359,  34.7364,2,-999.0000,9,    223.2,6,     1.61,6,     0.04,6,     0.00,6,     0.02,6,   -999.0,9,   -999.0,9,-999.0000,9,  -999.00,     2238
  49UF20130412,KS1303,  3826,  1,     31,  21990,2,20130416,2202, 27.8072, 127.7918,  991,     31.2,  20.9288,  34.7354,2,-999.0000,9,    223.1,2,     1.61,2,     0.02,2,     0.00,2,     0.02,2,   -999.0,9,   -999.0,9,-999.0000,9,  -999.00,     2237
  49UF20130412,KS1303,  3826,  1,     30,  21989,2,20130416,2202, 27.8072, 127.7918,  991,     31.2,  20.9288,  34.7354,2,-999.0000,9,    223.2,2,     1.61,2,     0.05,2,     0.00,2,     0.02,2,   -999.0,9,   -999.0,9,-999.0000,9,  -999.00,     2237
  49UF20130412,KS1303,  3826,  1,     29,  21988,2,20130416,2202, 27.8072, 127.7918,  991,     50.8,  20.9201,  34.7354,2,-999.0000,9,    222.9,2,     1.61,2,     0.02,2,     0.01,2,     0.02,2,   -999.0,9,   -999.0,9,-999.0000,9,  -999.00,     2232
  49UF20130412,KS1303,  3826,  1,     28,  21987,2,20130416,2202, 27.8072, 127.7918,  991,     76.6,  20.8364,  34.7340,2,-999.0000,9,    217.9,2,     1.80,2,     0.37,2,     0.07,2,     0.05,2,   -999.0,9,   -999.0,9,-999.0000,9,  -999.00,     2230
  49UF20130412,KS1303,  3826,  1,     27,  21986,2,20130416,2202, 27.8072, 127.7918,  991,    100.3,  20.5713,  34.7554,2,  34.7581,2,    213.3,2,     2.00,2,     0.93,2,     0.10,2,     0.09,2,   -999.0,9,   -999.0,9,-999.0000,9,  -999.00,     2229
  49UF20130412,KS1303,  3826,  1,     21,  21980,2,20130416,2202, 27.8072, 127.7918,  991,    126.6,  20.3795,  34.7713,2,-999.0000,9,    212.8,2,     2.04,2,     1.02,2,     0.08,2,     0.09,2,   -999.0,9,   -999.0,9,-999.0000,9,  -999.00,     2228
  49UF20130412,KS1303,  3826,  1,     20,  21979,2,20130416,2202, 27.8072, 127.7918,  991,    151.4,  20.1620,  34.7767,2,-999.0000,9,    212.1,2,     2.09,2,     1.15,2,     0.06,2,     0.10,2,   -999.0,9,   -999.0,9,-999.0000,9,  -999.00,     2226
  49UF20130412,KS1303,  3826,  1,     19,  21978,2,20130416,2202, 27.8072, 127.7918,  991,    201.7,  19.7377,  34.7776,2,  34.7776,2,    210.8,2,     2.36,2,     1.57,2,     0.03,2,     0.12,2,   -999.0,9,   -999.0,9,-999.0000,9,  -999.00,     2224
  49UF20130412,KS1303,  3826,  1,     15,  21974,2,20130416,2202, 27.8072, 127.7918,  991,    252.2,  18.7291,  34.7672,2,-999.0000,9,    203.7,2,     3.35,2,     3.16,2,     0.01,2,     0.23,2,   -999.0,9,   -999.0,9,-999.0000,9,  -999.00,     2223
  49UF20130412,KS1303,  3826,  1,     14,  21973,3,20130416,2202, 27.8072, 127.7918,  991,    303.1,  17.6698,  34.7212,2,-999.0000,9,    195.8,2,     5.08,2,     5.28,2,     0.01,2,     0.36,2,   -999.0,9,   -999.0,9,-999.0000,9,  -999.00,     2221
  49UF20130412,KS1303,  3826,  1,     13,  21972,2,20130416,2202, 27.8072, 127.7918,  991,    403.1,  15.4103,  34.5809,2,  34.5809,6,    171.5,2,    14.51,2,    11.15,2,     0.01,2,     0.79,2,   -999.0,9,   -999.0,9,-999.0000,9,  -999.00,     2218
  49UF20130412,KS1303,  3826,  1,      7,  21966,2,20130416,2202, 27.8072, 127.7918,  991,    504.3,  11.6196,  34.3898,2,-999.0000,9,    152.5,6,    30.02,6,    18.75,6,     0.01,6,     1.34,6,   -999.0,9,   -999.0,9,-999.0000,9,  -999.00,     2215
  49UF20130412,KS1303,  3826,  1,      6,  21965,2,20130416,2202, 27.8072, 127.7918,  991,    606.3,   8.7867,  34.2935,2,  34.2938,6,    128.2,2,    51.82,2,    25.90,2,     0.00,2,     1.85,2,   -999.0,9,   -999.0,9,-999.0000,9,  -999.00,     2212
  49UF20130412,KS1303,  3826,  1,      5,  21964,2,20130416,2202, 27.8072, 127.7918,  991,    606.3,   8.7867,  34.2935,2,  34.2929,2,    127.9,2,    51.77,2,    25.93,2,     0.00,2,     1.85,2,   -999.0,9,   -999.0,9,-999.0000,9,  -999.00,     2212
  49UF20130412,KS1303,  3826,  1,      4,  21963,2,20130416,2202, 27.8072, 127.7918,  991,    705.9,   7.0187,  34.2519,2,-999.0000,9,    108.3,2,    67.38,2,    30.70,2,     0.00,2,     2.20,2,   -999.0,9,   -999.0,9,-999.0000,9,  -999.00,     2209
  49UF20130412,KS1303,  3826,  1,      3,  22079,2,20130416,2202, 27.8072, 127.7918,  991,    806.8,   5.8175,  34.3252,2,  34.3253,2,     89.9,2,    86.72,2,    34.29,2,     0.00,2,     2.45,2,   -999.0,9,   -999.0,9,-999.0000,9,  -999.00,     2207
  49UF20130412,KS1303,  3826,  1,      2,  21961,2,20130416,2202, 27.8072, 127.7918,  991,    907.9,   5.0273,  34.3620,2,-999.0000,9,     80.3,2,    98.67,2,    36.40,2,     0.00,2,     2.60,2,   -999.0,9,   -999.0,9,-999.0000,9,  -999.00,     2204
  49UF20130412,KS1303,  3826,  1,      1,  21960,2,20130416,2202, 27.8072, 127.7918,  991,    961.7,   4.6402,  34.3825,2,  34.3816,2,     76.5,2,   104.66,2,    37.30,2,     0.00,2,     2.67,2,   -999.0,9,   -999.0,9,-999.0000,9,  -999.00,     2202
  49UF20130412,KS1303,  3828,  1,     99,     99,2,20130417,0305, 27.5062, 128.2482, 1035,      0.0,  22.0165,  34.6576,2,-999.0000,9,    220.2,2,     1.54,2,     0.00,2,     0.00,2,     0.04,2,   -999.0,9,   -999.0,9,-999.0000,9,  -999.00,      313
  49UF20130412,KS1303,  3828,  1,     33,  21992,2,20130417,0305, 27.5062, 128.2482, 1035,     11.2,  21.7810,  34.6661,2,  34.6862,4,    221.0,2,     1.55,2,     0.00,2,     0.00,2,     0.02,2,   -999.0,9,   -999.0,9,-999.0000,9,  -999.00,      347
  49UF20130412,KS1303,  3828,  1,     32,  21991,2,20130417,0305, 27.5062, 128.2482, 1035,     21.2,  21.1566,  34.7353,2,-999.0000,9,    220.9,2,     1.77,2,     0.09,2,     0.02,2,     0.04,2,   -999.0,9,   -999.0,9,-999.0000,9,  -999.00,      346
  49UF20130412,KS1303,  3828,  1,     31,  21990,2,20130417,0305, 27.5062, 128.2482, 1035,     32.2,  21.0228,  34.7387,2,-999.0000,9,    221.3,2,     1.73,2,     0.08,2,     0.02,2,     0.03,2,   -999.0,9,   -999.0,9,-999.0000,9,  -999.00,      345
  49UF20130412,KS1303,  3828,  1,     30,  21989,2,20130417,0305, 27.5062, 128.2482, 1035,     50.8,  20.8366,  34.7494,2,-999.0000,9,    222.2,2,     1.77,2,     0.09,2,     0.04,2,     0.03,2,   -999.0,9,   -999.0,9,-999.0000,9,  -999.00,      341
  49UF20130412,KS1303,  3828,  1,     29,  21988,2,20130417,0305, 27.5062, 128.2482, 1035,     76.3,  20.5714,  34.7592,2,-999.0000,9,    219.3,2,     1.86,2,     0.34,2,     0.09,2,     0.05,2,   -999.0,9,   -999.0,9,-999.0000,9,  -999.00,      340
  49UF20130412,KS1303,  3828,  1,     28,  21987,2,20130417,0305, 27.5062, 128.2482, 1035,    103.0,  20.3461,  34.7638,2,  34.7673,2,    216.4,2,     2.04,2,     0.76,2,     0.10,2,     0.08,2,   -999.0,9,   -999.0,9,-999.0000,9,  -999.00,      338
  49UF20130412,KS1303,  3828,  1,     27,  21986,2,20130417,0305, 27.5062, 128.2482, 1035,    125.6,  19.9332,  34.7803,2,-999.0000,9,    213.9,2,     2.17,2,     1.12,2,     0.08,2,     0.10,2,   -999.0,9,   -999.0,9,-999.0000,9,  -999.00,      337
  49UF20130412,KS1303,  3828,  1,     22,  21981,2,20130417,0305, 27.5062, 128.2482, 1035,    152.1,  19.5025,  34.7847,2,-999.0000,9,    210.5,6,     2.39,6,     1.67,6,     0.04,6,     0.13,6,   -999.0,9,   -999.0,9,-999.0000,9,  -999.00,      335
  49UF20130412,KS1303,  3828,  1,     21,  21980,2,20130417,0305, 27.5062, 128.2482, 1035,    201.8,  18.7184,  34.7714,2,  34.7702,2,    215.9,2,     2.59,2,     1.92,2,     0.02,2,     0.14,2,   -999.0,9,   -999.0,9,-999.0000,9,  -999.00,      333
  49UF20130412,KS1303,  3828,  1,     20,  21979,2,20130417,0305, 27.5062, 128.2482, 1035,    201.8,  18.7184,  34.7714,2,  34.7701,6,    216.0,2,     2.57,2,     1.92,2,     0.02,2,     0.14,2,   -999.0,9,   -999.0,9,-999.0000,9,  -999.00,      333
  49UF20130412,KS1303,  3828,  1,     19,  21978,2,20130417,0305, 27.5062, 128.2482, 1035,    252.7,  18.0016,  34.7448,2,-999.0000,9,    203.5,2,     3.96,2,     4.09,2,     0.01,2,     0.28,2,   -999.0,9,   -999.0,9,-999.0000,9,  -999.00,      331
  49UF20130412,KS1303,  3828,  1,     15,  21974,2,20130417,0305, 27.5062, 128.2482, 1035,    303.5,  17.5030,  34.7179,2,-999.0000,9,    197.7,2,     4.83,2,     5.26,2,     0.01,2,     0.35,2,   -999.0,9,   -999.0,9,-999.0000,9,  -999.00,      329
  49UF20130412,KS1303,  3828,  1,     14,  21973,2,20130417,0305, 27.5062, 128.2482, 1035,    404.1,  15.9817,  34.6242,2,  34.6226,2,    190.2,2,     8.36,2,     8.27,2,     0.01,2,     0.56,2,   -999.0,9,   -999.0,9,-999.0000,9,  -999.00,      325
  49UF20130412,KS1303,  3828,  1,     13,  21972,2,20130417,0305, 27.5062, 128.2482, 1035,    504.5,  12.8055,  34.4183,2,-999.0000,9,    174.5,2,    18.82,2,    14.77,2,     0.01,2,     1.03,2,   -999.0,9,   -999.0,9,-999.0000,9,  -999.00,      322
  49UF20130412,KS1303,  3828,  1,      7,  21966,2,20130417,0305, 27.5062, 128.2482, 1035,    605.8,   9.5482,  34.2783,2,  34.2805,2,    143.9,2,    40.85,2,    22.99,2,     0.00,2,     1.65,2,   -999.0,9,   -999.0,9,-999.0000,9,  -999.00,      319
  49UF20130412,KS1303,  3828,  1,      6,  21965,2,20130417,0305, 27.5062, 128.2482, 1035,    706.5,   7.4270,  34.2954,2,-999.0000,9,    112.0,6,    66.71,6,    29.64,6,     0.00,6,     2.12,6,   -999.0,9,   -999.0,9,-999.0000,9,  -999.00,      316
  49UF20130412,KS1303,  3828,  1,      5,  21964,2,20130417,0305, 27.5062, 128.2482, 1035,    807.6,   6.6099,  34.3089,2,  34.3086,2,    100.1,2,    77.20,2,    32.09,2,     0.00,2,     2.30,2,   -999.0,9,   -999.0,9,-999.0000,9,  -999.00,      313
  49UF20130412,KS1303,  3828,  1,      4,  21963,3,20130417,0305, 27.5062, 128.2482, 1035,    807.6,   6.6099,  34.3089,2,  34.3094,2,    100.4,2,    77.16,2,    32.10,2,     0.00,2,     2.30,2,   -999.0,9,   -999.0,9,-999.0000,9,  -999.00,      313
  49UF20130412,KS1303,  3828,  1,      3,  22079,4,20130417,0305, 27.5062, 128.2482, 1035,    909.7,   5.7802,  34.3204,2,-999.0000,9,     99.9,4,    77.23,4,    32.08,4,     0.00,4,     2.30,4,   -999.0,9,   -999.0,9,-999.0000,9,  -999.00,      310
  49UF20130412,KS1303,  3828,  1,      2,  21961,2,20130417,0305, 27.5062, 128.2482, 1035,   1010.2,   5.5497,  34.3198,2,  34.3191,2,     86.5,2,    90.97,2,    35.06,2,     0.00,2,     2.51,2,   -999.0,9,   -999.0,9,-999.0000,9,  -999.00,      306
  49UF20130412,KS1303,  3828,  1,      1,  21960,2,20130417,0305, 27.5062, 128.2482, 1035,   1035.5,   5.5564,  34.3201,2,  34.3231,2,     86.4,2,    91.05,2,    34.98,2,     0.00,2,     2.51,2,   -999.0,9,   -999.0,9,-999.0000,9,  -999.00,      305
  49UF20130412,KS1303,  3829,  1,     99,     99,2,20130425,0753, 26.0762, 127.9025,  404,      0.0,  24.3317,  34.5443,2,-999.0000,9,    211.4,2,     1.20,2,     0.06,2,     0.01,2,     0.03,2,   -999.0,9,   -999.0,9,-999.0000,9,  -999.00,      753
  49UF20130412,KS1303,  3829,  1,     33,  21992,2,20130425,0753, 26.0762, 127.9025,  404,     11.5,  24.2355,  34.6436,2,  34.6445,2,    212.0,2,     1.20,2,     0.01,2,     0.00,2,     0.02,2,   -999.0,9,   -999.0,9,-999.0000,9,  -999.00,      814
  49UF20130412,KS1303,  3829,  1,     32,  21991,2,20130425,0753, 26.0762, 127.9025,  404,     26.1,  23.6542,  34.6489,2,-999.0000,9,    214.2,2,     1.20,2,     0.00,2,     0.00,2,     0.02,2,   -999.0,9,   -999.0,9,-999.0000,9,  -999.00,      813
  49UF20130412,KS1303,  3829,  1,     31,  21990,2,20130425,0753, 26.0762, 127.9025,  404,     52.3,  22.1993,  34.6563,2,-999.0000,9,    217.1,2,     1.41,2,     0.00,2,     0.01,2,     0.02,2,   -999.0,9,   -999.0,9,-999.0000,9,  -999.00,      809
  49UF20130412,KS1303,  3829,  1,     24,  21983,2,20130425,0753, 26.0762, 127.9025,  404,     77.2,  21.4053,  34.7150,2,-999.0000,9,    213.3,6,     1.61,6,     0.34,6,     0.14,6,     0.06,6,   -999.0,9,   -999.0,9,-999.0000,9,  -999.00,      807
  49UF20130412,KS1303,  3829,  1,     23,  22095,2,20130425,0753, 26.0762, 127.9025,  404,    101.9,  21.1568,  34.7791,2,  34.7777,2,    203.0,2,     1.93,2,     1.19,2,     0.05,2,     0.10,2,   -999.0,9,   -999.0,9,-999.0000,9,  -999.00,      806
  49UF20130412,KS1303,  3829,  1,     22,  21981,2,20130425,0753, 26.0762, 127.9025,  404,    101.9,  21.1568,  34.7791,2,  34.7775,6,    202.9,2,     1.88,2,     1.15,2,     0.05,2,     0.10,2,   -999.0,9,   -999.0,9,-999.0000,9,  -999.00,      806
  49UF20130412,KS1303,  3829,  1,     18,  21977,2,20130425,0753, 26.0762, 127.9025,  404,    128.5,  20.3873,  34.7939,2,-999.0000,9,    198.8,2,     2.36,2,     2.07,2,     0.03,2,     0.16,2,   -999.0,9,   -999.0,9,-999.0000,9,  -999.00,      804
  49UF20130412,KS1303,  3829,  1,     17,  23679,2,20130425,0753, 26.0762, 127.9025,  404,    152.6,  19.5993,  34.8081,2,-999.0000,9,    194.9,2,     2.79,2,     3.07,2,     0.02,2,     0.22,2,   -999.0,9,   -999.0,9,-999.0000,9,  -999.00,      802
  49UF20130412,KS1303,  3829,  1,     16,  21975,2,20130425,0753, 26.0762, 127.9025,  404,    203.6,  18.4974,  34.7590,2,  34.7595,2,    196.0,2,     3.83,2,     4.24,2,     0.01,2,     0.29,2,   -999.0,9,   -999.0,9,-999.0000,9,  -999.00,      800
  49UF20130412,KS1303,  3829,  1,      3,  22079,2,20130425,0753, 26.0762, 127.9025,  404,    251.6,  17.5736,  34.7247,2,-999.0000,9,    195.4,2,     4.43,2,     5.32,2,     0.01,2,     0.36,2,   -999.0,9,   -999.0,9,-999.0000,9,  -999.00,      758
  49UF20130412,KS1303,  3829,  1,      2,  21961,2,20130425,0753, 26.0762, 127.9025,  404,    303.4,  16.7098,  34.6709,2,-999.0000,9,    192.7,2,     6.34,2,     6.84,2,     0.01,2,     0.47,2,   -999.0,9,   -999.0,9,-999.0000,9,  -999.00,      756
  49UF20130412,KS1303,  3829,  1,      1,  21960,2,20130425,0753, 26.0762, 127.9025,  404,    402.0,  14.6934,  34.5420,2,  34.5422,6,    180.6,2,    12.49,2,    11.08,2,     0.01,2,     0.78,2,   -999.0,9,   -999.0,9,-999.0000,9,  -999.00,      753