BOTTLE,20191021PRINUNIVRMK
EXPOCODE,SECT_ID,STNNBR,CASTNO,SAMPNO,BTLNBR,BTLNBR_FLAG_W,DATE,TIME,LATITUDE,LONGITUDE,DEPTH,CTDPRS,CTDTMP,CTDSAL,CTDSAL_FLAG_W,SALNTY,SALNTY_FLAG_W,OXYGEN,OXYGEN_FLAG_W,SILCAT,SILCAT_FLAG_W,NITRAT,NITRAT_FLAG_W,NITRIT,NITRIT_FLAG_W,PHSPHT,PHSPHT_FLAG_W,TCARBN,TCARBN_FLAG_W,ALKALI,ALKALI_FLAG_W,PH_TOT,PH_TOT_FLAG_W,PH_TMP,BTL_TIME
,,,,,,,,,,,METERS,DBAR,ITS-90,PSS-78,,PSS-78,,UMOL/KG,,UMOL/KG,,UMOL/KG,,UMOL/KG,,UMOL/KG,,UMOL/KG,,UMOL/KG,,,,DEG C,
  49UF20130412,KS1303,  3831,  1,     99,     99,2,20130425,1212, 25.8953, 128.1477, 2107,      0.0,  23.9791,  34.4699,2,-999.0000,9,    212.9,2,  -999.00,9,  -999.00,9,  -999.00,9,  -999.00,9,   -999.0,9,   -999.0,9,-999.0000,9,  -999.00,     1249
  49UF20130412,KS1303,  3831,  1,     33,  21992,2,20130425,1212, 25.8953, 128.1477, 2107,     11.5,  24.2735,  34.6263,2,-999.0000,9,    211.8,2,  -999.00,9,  -999.00,9,  -999.00,9,  -999.00,9,   -999.0,9,   -999.0,9,-999.0000,9,  -999.00,     1309
  49UF20130412,KS1303,  3831,  1,     32,  21991,3,20130425,1212, 25.8953, 128.1477, 2107,     26.1,  24.1255,  34.6312,2,-999.0000,9,    212.0,2,  -999.00,9,  -999.00,9,  -999.00,9,  -999.00,9,   -999.0,9,   -999.0,9,-999.0000,9,  -999.00,     1307
  49UF20130412,KS1303,  3831,  1,     31,  21990,2,20130425,1212, 25.8953, 128.1477, 2107,     50.9,  23.2512,  34.6522,2,-999.0000,9,    213.6,2,  -999.00,9,  -999.00,9,  -999.00,9,  -999.00,9,   -999.0,9,   -999.0,9,-999.0000,9,  -999.00,     1303
  49UF20130412,KS1303,  3831,  1,     30,  21989,2,20130425,1212, 25.8953, 128.1477, 2107,     75.6,  22.2487,  34.7589,2,-999.0000,9,    211.0,2,  -999.00,9,  -999.00,9,  -999.00,9,  -999.00,9,   -999.0,9,   -999.0,9,-999.0000,9,  -999.00,     1301
  49UF20130412,KS1303,  3831,  1,     29,  21988,2,20130425,1212, 25.8953, 128.1477, 2107,    101.0,  21.5307,  34.7341,2,-999.0000,9,    210.0,2,  -999.00,9,  -999.00,9,  -999.00,9,  -999.00,9,   -999.0,9,   -999.0,9,-999.0000,9,  -999.00,     1300
  49UF20130412,KS1303,  3831,  1,     28,  21987,2,20130425,1212, 25.8953, 128.1477, 2107,    126.7,  20.9004,  34.8296,2,-999.0000,9,    190.2,2,  -999.00,9,  -999.00,9,  -999.00,9,  -999.00,9,   -999.0,9,   -999.0,9,-999.0000,9,  -999.00,     1259
  49UF20130412,KS1303,  3831,  1,     24,  21983,2,20130425,1212, 25.8953, 128.1477, 2107,    152.2,  20.0491,  34.8353,2,-999.0000,9,    192.2,2,  -999.00,9,  -999.00,9,  -999.00,9,  -999.00,9,   -999.0,9,   -999.0,9,-999.0000,9,  -999.00,     1258
  49UF20130412,KS1303,  3831,  1,     23,  22095,2,20130425,1212, 25.8953, 128.1477, 2107,    202.4,  18.5854,  34.7805,2,-999.0000,9,    195.7,2,  -999.00,9,  -999.00,9,  -999.00,9,  -999.00,9,   -999.0,9,   -999.0,9,-999.0000,9,  -999.00,     1256
  49UF20130412,KS1303,  3831,  1,     22,  21981,2,20130425,1212, 25.8953, 128.1477, 2107,    252.0,  17.6795,  34.7329,2,-999.0000,9,    199.4,2,  -999.00,9,  -999.00,9,  -999.00,9,  -999.00,9,   -999.0,9,   -999.0,9,-999.0000,9,  -999.00,     1254
  49UF20130412,KS1303,  3831,  1,     21,  21980,2,20130425,1212, 25.8953, 128.1477, 2107,    303.4,  16.6534,  34.6688,2,-999.0000,9,    191.5,6,  -999.00,9,  -999.00,9,  -999.00,9,  -999.00,9,   -999.0,9,   -999.0,9,-999.0000,9,  -999.00,     1253
  49UF20130412,KS1303,  3831,  1,     20,  21979,2,20130425,1212, 25.8953, 128.1477, 2107,    403.8,  14.4606,  34.5243,2,-999.0000,9,    179.5,2,  -999.00,9,  -999.00,9,  -999.00,9,  -999.00,9,   -999.0,9,   -999.0,9,-999.0000,9,  -999.00,     1250
  49UF20130412,KS1303,  3831,  1,     19,  21978,2,20130425,1212, 25.8953, 128.1477, 2107,    403.8,  14.4606,  34.5243,2,-999.0000,9,    179.4,2,  -999.00,9,  -999.00,9,  -999.00,9,  -999.00,9,   -999.0,9,   -999.0,9,-999.0000,9,  -999.00,     1250
  49UF20130412,KS1303,  3831,  1,     18,  21977,2,20130425,1212, 25.8953, 128.1477, 2107,    503.8,  10.9423,  34.3119,2,-999.0000,9,    161.6,2,  -999.00,9,  -999.00,9,  -999.00,9,  -999.00,9,   -999.0,9,   -999.0,9,-999.0000,9,  -999.00,     1247
  49UF20130412,KS1303,  3831,  1,     17,  23679,2,20130425,1212, 25.8953, 128.1477, 2107,    605.3,   8.5498,  34.2335,2,-999.0000,9,    133.6,2,  -999.00,9,  -999.00,9,  -999.00,9,  -999.00,9,   -999.0,9,   -999.0,9,-999.0000,9,  -999.00,     1245
  49UF20130412,KS1303,  3831,  1,     16,  21975,2,20130425,1212, 25.8953, 128.1477, 2107,    706.3,   6.5386,  34.1938,2,-999.0000,9,    102.9,2,  -999.00,9,  -999.00,9,  -999.00,9,  -999.00,9,   -999.0,9,   -999.0,9,-999.0000,9,  -999.00,     1242
  49UF20130412,KS1303,  3831,  1,     12,  21994,2,20130425,1212, 25.8953, 128.1477, 2107,    806.3,   5.2511,  34.2623,2,-999.0000,9,     80.2,2,  -999.00,9,  -999.00,9,  -999.00,9,  -999.00,9,   -999.0,9,   -999.0,9,-999.0000,9,  -999.00,     1239
  49UF20130412,KS1303,  3831,  1,     11,  21970,2,20130425,1212, 25.8953, 128.1477, 2107,    909.2,   4.3319,  34.3300,2,-999.0000,9,     64.8,2,  -999.00,9,  -999.00,9,  -999.00,9,  -999.00,9,   -999.0,9,   -999.0,9,-999.0000,9,  -999.00,     1237
  49UF20130412,KS1303,  3831,  1,     10,  21969,3,20130425,1212, 25.8953, 128.1477, 2107,   1009.4,   3.7846,  34.3915,2,-999.0000,9,     64.3,2,  -999.00,9,  -999.00,9,  -999.00,9,  -999.00,9,   -999.0,9,   -999.0,9,-999.0000,9,  -999.00,     1234
  49UF20130412,KS1303,  3831,  1,      9,  21968,2,20130425,1212, 25.8953, 128.1477, 2107,   1210.9,   3.0875,  34.4651,2,-999.0000,9,     68.3,2,  -999.00,9,  -999.00,9,  -999.00,9,  -999.00,9,   -999.0,9,   -999.0,9,-999.0000,9,  -999.00,     1230
  49UF20130412,KS1303,  3831,  1,      8,  21982,3,20130425,1212, 25.8953, 128.1477, 2107,   1413.9,   2.6869,  34.5128,2,-999.0000,9,     77.7,2,  -999.00,9,  -999.00,9,  -999.00,9,  -999.00,9,   -999.0,9,   -999.0,9,-999.0000,9,  -999.00,     1225
  49UF20130412,KS1303,  3831,  1,      7,  21966,2,20130425,1212, 25.8953, 128.1477, 2107,   1617.2,   2.4054,  34.5488,2,-999.0000,9,     88.3,2,  -999.00,9,  -999.00,9,  -999.00,9,  -999.00,9,   -999.0,9,   -999.0,9,-999.0000,9,  -999.00,     1221
  49UF20130412,KS1303,  3831,  1,      3,  22079,2,20130425,1212, 25.8953, 128.1477, 2107,   1820.2,   2.1874,  34.5803,2,-999.0000,9,    100.2,6,  -999.00,9,  -999.00,9,  -999.00,9,  -999.00,9,   -999.0,9,   -999.0,9,-999.0000,9,  -999.00,     1217
  49UF20130412,KS1303,  3831,  1,      2,  21961,2,20130425,1212, 25.8953, 128.1477, 2107,   2024.1,   2.0131,  34.6064,2,-999.0000,9,    111.4,2,  -999.00,9,  -999.00,9,  -999.00,9,  -999.00,9,   -999.0,9,   -999.0,9,-999.0000,9,  -999.00,     1212
  49UF20130412,KS1303,  3831,  1,      1,  21960,2,20130425,1212, 25.8953, 128.1477, 2107,   2024.1,   2.0131,  34.6064,2,-999.0000,9,    111.4,2,  -999.00,9,  -999.00,9,  -999.00,9,  -999.00,9,   -999.0,9,   -999.0,9,-999.0000,9,  -999.00,     1212
  49UF20130412,KS1303,  3834,  1,     99,     99,2,20130425,2114, 25.4887, 128.7387, 7167,      0.0,  24.0832,  34.6016,2,-999.0000,9,    212.5,2,     1.18,2,     0.06,2,     0.00,2,     0.03,2,   -999.0,9,   -999.0,9,-999.0000,9,  -999.00,     2146
  49UF20130412,KS1303,  3834,  1,     33,  21992,2,20130425,2114, 25.4887, 128.7387, 7167,     11.9,  24.0903,  34.6052,2,  34.6197,4,    212.4,2,     1.15,2,     0.01,2,     0.00,2,     0.01,2,   -999.0,9,   -999.0,9,-999.0000,9,  -999.00,     2219
  49UF20130412,KS1303,  3834,  1,     32,  21991,2,20130425,2114, 25.4887, 128.7387, 7167,     26.9,  24.0086,  34.6983,2,-999.0000,9,    213.2,2,     1.16,2,     0.04,2,     0.00,2,     0.01,2,   -999.0,9,   -999.0,9,-999.0000,9,  -999.00,     2217
  49UF20130412,KS1303,  3834,  1,     31,  21990,2,20130425,2114, 25.4887, 128.7387, 7167,     51.6,  23.0471,  34.7346,2,-999.0000,9,    217.2,2,     1.29,2,     0.05,2,     0.00,2,     0.01,2,   -999.0,9,   -999.0,9,-999.0000,9,  -999.00,     2213
  49UF20130412,KS1303,  3834,  1,     30,  21989,2,20130425,2114, 25.4887, 128.7387, 7167,     77.1,  21.8473,  34.7473,2,-999.0000,9,    214.5,2,     1.43,2,     0.10,2,     0.07,2,     0.03,2,   -999.0,9,   -999.0,9,-999.0000,9,  -999.00,     2212
  49UF20130412,KS1303,  3834,  1,     29,  21988,2,20130425,2114, 25.4887, 128.7387, 7167,    103.0,  21.3348,  34.7536,2,  34.7550,2,    209.2,2,     1.62,2,     0.30,2,     0.21,2,     0.06,2,   -999.0,9,   -999.0,9,-999.0000,9,  -999.00,     2210
  49UF20130412,KS1303,  3834,  1,     28,  21987,2,20130425,2114, 25.4887, 128.7387, 7167,    127.0,  20.6423,  34.8363,2,-999.0000,9,    192.9,2,     2.22,2,     2.25,2,     0.03,2,     0.16,2,   -999.0,9,   -999.0,9,-999.0000,9,  -999.00,     2209
  49UF20130412,KS1303,  3834,  1,     24,  21983,2,20130425,2114, 25.4887, 128.7387, 7167,    152.9,  19.7194,  34.8356,2,-999.0000,9,    190.5,2,     2.66,2,     3.19,2,     0.02,2,     0.22,2,   -999.0,9,   -999.0,9,-999.0000,9,  -999.00,     2207
  49UF20130412,KS1303,  3834,  1,     23,  22095,2,20130425,2114, 25.4887, 128.7387, 7167,    203.1,  18.3529,  34.7684,2,  34.7682,2,    196.7,2,     3.41,2,     4.16,2,     0.01,2,     0.28,2,   -999.0,9,   -999.0,9,-999.0000,9,  -999.00,     2204
  49UF20130412,KS1303,  3834,  1,     22,  21981,2,20130425,2114, 25.4887, 128.7387, 7167,    254.6,  17.3362,  34.7093,2,-999.0000,9,    195.5,6,     4.73,6,     5.70,6,     0.01,6,     0.38,6,   -999.0,9,   -999.0,9,-999.0000,9,  -999.00,     2202
  49UF20130412,KS1303,  3834,  1,     21,  21980,2,20130425,2114, 25.4887, 128.7387, 7167,    304.5,  16.7314,  34.6733,2,-999.0000,9,    193.6,2,     5.84,2,     6.69,2,     0.01,2,     0.45,2,   -999.0,9,   -999.0,9,-999.0000,9,  -999.00,     2200
  49UF20130412,KS1303,  3834,  1,     20,  21979,2,20130425,2114, 25.4887, 128.7387, 7167,    304.5,  16.7314,  34.6733,2,-999.0000,9,    193.5,2,     5.76,2,     6.70,2,     0.01,2,     0.45,2,   -999.0,9,   -999.0,9,-999.0000,9,  -999.00,     2200
  49UF20130412,KS1303,  3834,  1,     19,  21978,2,20130425,2114, 25.4887, 128.7387, 7167,    405.2,  14.1893,  34.5040,2,  34.5041,6,    179.2,2,    12.76,2,    11.89,2,     0.01,2,     0.83,2,   -999.0,9,   -999.0,9,-999.0000,9,  -999.00,     2157
  49UF20130412,KS1303,  3834,  1,     18,  21977,2,20130425,2114, 25.4887, 128.7387, 7167,    506.0,  11.3646,  34.3463,2,-999.0000,9,    163.2,2,    26.40,2,    18.10,2,     0.00,2,     1.28,2,   -999.0,9,   -999.0,9,-999.0000,9,  -999.00,     2154
  49UF20130412,KS1303,  3834,  1,     17,  23679,2,20130425,2114, 25.4887, 128.7387, 7167,    606.0,   8.5498,  34.1900,2,  34.1882,2,    142.8,2,    44.08,2,    24.94,2,     0.00,2,     1.78,2,   -999.0,9,   -999.0,9,-999.0000,9,  -999.00,     2151
  49UF20130412,KS1303,  3834,  1,     16,  21975,2,20130425,2114, 25.4887, 128.7387, 7167,    707.6,   6.6414,  34.1721,2,-999.0000,9,    106.2,2,    64.78,2,    31.63,2,     0.00,2,     2.28,2,   -999.0,9,   -999.0,9,-999.0000,9,  -999.00,     2147
  49UF20130412,KS1303,  3834,  1,     12,  21994,2,20130425,2114, 25.4887, 128.7387, 7167,    808.9,   5.2015,  34.2321,2,  34.2305,2,     78.6,2,    88.58,2,    36.46,2,     0.00,2,     2.62,2,   -999.0,9,   -999.0,9,-999.0000,9,  -999.00,     2144
  49UF20130412,KS1303,  3834,  1,     11,  21970,2,20130425,2114, 25.4887, 128.7387, 7167,    910.2,   4.3056,  34.3312,2,-999.0000,9,     66.7,2,   107.45,2,    38.75,2,     0.00,2,     2.78,2,   -999.0,9,   -999.0,9,-999.0000,9,  -999.00,     2141
  49UF20130412,KS1303,  3834,  1,     10,  21969,3,20130425,2114, 25.4887, 128.7387, 7167,   1011.0,   3.6020,  34.3965,2,  34.3960,2,     60.8,2,   121.70,2,    40.37,2,     0.00,2,     2.88,2,   -999.0,9,   -999.0,9,-999.0000,9,  -999.00,     2139
  49UF20130412,KS1303,  3834,  1,      9,  21968,2,20130425,2114, 25.4887, 128.7387, 7167,   1215.2,   3.0077,  34.4809,2,  34.4821,2,     71.8,2,   132.69,2,    40.06,2,     0.00,2,     2.85,2,   -999.0,9,   -999.0,9,-999.0000,9,  -999.00,     2134
  49UF20130412,KS1303,  3834,  1,      8,  21982,2,20130425,2114, 25.4887, 128.7387, 7167,   1416.4,   2.6385,  34.5213,2,  34.5214,2,     80.0,2,   138.70,2,    39.92,2,     0.00,2,     2.83,2,   -999.0,9,   -999.0,9,-999.0000,9,  -999.00,     2129
  49UF20130412,KS1303,  3834,  1,      7,  21966,2,20130425,2114, 25.4887, 128.7387, 7167,   1619.5,   2.3155,  34.5610,2,  34.5616,2,     92.6,6,   142.14,6,    39.40,6,     0.00,6,     2.78,6,   -999.0,9,   -999.0,9,-999.0000,9,  -999.00,     2124
  49UF20130412,KS1303,  3834,  1,      3,  22079,2,20130425,2114, 25.4887, 128.7387, 7167,   1820.8,   2.1387,  34.5896,2,  34.5925,2,    103.8,2,   142.64,2,    38.79,2,     0.00,2,     2.73,2,   -999.0,9,   -999.0,9,-999.0000,9,  -999.00,     2119
  49UF20130412,KS1303,  3834,  1,      2,  21961,2,20130425,2114, 25.4887, 128.7387, 7167,   1820.8,   2.1387,  34.5896,2,  34.5896,2,    104.0,2,   142.80,2,    38.83,2,     0.00,2,     2.73,2,   -999.0,9,   -999.0,9,-999.0000,9,  -999.00,     2119
  49UF20130412,KS1303,  3834,  1,      1,  21960,2,20130425,2114, 25.4887, 128.7387, 7167,   2022.8,   1.9828,  34.6110,2,  34.6112,2,    113.5,2,   143.10,2,    38.32,2,     0.00,2,     2.69,2,   -999.0,9,   -999.0,9,-999.0000,9,  -999.00,     2114
  49UF20130412,KS1303,  3837,  1,     99,     99,2,20130426,0707, 24.9940, 129.4998, 4122,      0.0,  24.6076,  34.6278,2,-999.0000,9,    211.4,2,  -999.00,9,  -999.00,9,  -999.00,9,  -999.00,9,   -999.0,9,   -999.0,9,-999.0000,9,  -999.00,      740
  49UF20130412,KS1303,  3837,  1,     33,  21992,2,20130426,0707, 24.9940, 129.4998, 4122,     11.2,  24.6112,  34.6231,2,-999.0000,9,    211.5,2,  -999.00,9,  -999.00,9,  -999.00,9,  -999.00,9,   -999.0,9,   -999.0,9,-999.0000,9,  -999.00,      814
  49UF20130412,KS1303,  3837,  1,     32,  21991,3,20130426,0707, 24.9940, 129.4998, 4122,     26.3,  24.6112,  34.6266,2,-999.0000,9,    211.4,2,  -999.00,9,  -999.00,9,  -999.00,9,  -999.00,9,   -999.0,9,   -999.0,9,-999.0000,9,  -999.00,      812
  49UF20130412,KS1303,  3837,  1,     31,  21990,2,20130426,0707, 24.9940, 129.4998, 4122,     51.5,  22.6282,  34.7177,2,-999.0000,9,    214.8,2,  -999.00,9,  -999.00,9,  -999.00,9,  -999.00,9,   -999.0,9,   -999.0,9,-999.0000,9,  -999.00,      811
  49UF20130412,KS1303,  3837,  1,     30,  21989,2,20130426,0707, 24.9940, 129.4998, 4122,     76.6,  21.9919,  34.7629,2,-999.0000,9,    209.1,2,  -999.00,9,  -999.00,9,  -999.00,9,  -999.00,9,   -999.0,9,   -999.0,9,-999.0000,9,  -999.00,      809
  49UF20130412,KS1303,  3837,  1,     29,  21988,2,20130426,0707, 24.9940, 129.4998, 4122,    101.4,  21.3384,  34.7934,2,-999.0000,9,    201.6,2,  -999.00,9,  -999.00,9,  -999.00,9,  -999.00,9,   -999.0,9,   -999.0,9,-999.0000,9,  -999.00,      805
  49UF20130412,KS1303,  3837,  1,     28,  21987,2,20130426,0707, 24.9940, 129.4998, 4122,    126.0,  20.6935,  34.7957,2,-999.0000,9,    214.5,2,  -999.00,9,  -999.00,9,  -999.00,9,  -999.00,9,   -999.0,9,   -999.0,9,-999.0000,9,  -999.00,      803
  49UF20130412,KS1303,  3837,  1,     24,  21983,2,20130426,0707, 24.9940, 129.4998, 4122,    152.3,  19.8435,  34.7937,2,-999.0000,9,    207.0,2,  -999.00,9,  -999.00,9,  -999.00,9,  -999.00,9,   -999.0,9,   -999.0,9,-999.0000,9,  -999.00,      802
  49UF20130412,KS1303,  3837,  1,     23,  22095,2,20130426,0707, 24.9940, 129.4998, 4122,    204.1,  18.6812,  34.7766,2,-999.0000,9,    202.5,6,  -999.00,9,  -999.00,9,  -999.00,9,  -999.00,9,   -999.0,9,   -999.0,9,-999.0000,9,  -999.00,      759
  49UF20130412,KS1303,  3837,  1,     22,  21981,2,20130426,0707, 24.9940, 129.4998, 4122,    253.5,  17.8569,  34.7411,2,-999.0000,9,    200.4,2,  -999.00,9,  -999.00,9,  -999.00,9,  -999.00,9,   -999.0,9,   -999.0,9,-999.0000,9,  -999.00,      757
  49UF20130412,KS1303,  3837,  1,     21,  21980,2,20130426,0707, 24.9940, 129.4998, 4122,    253.5,  17.8569,  34.7411,2,-999.0000,9,    200.2,2,  -999.00,9,  -999.00,9,  -999.00,9,  -999.00,9,   -999.0,9,   -999.0,9,-999.0000,9,  -999.00,      757
  49UF20130412,KS1303,  3837,  1,     20,  21979,2,20130426,0707, 24.9940, 129.4998, 4122,    303.1,  16.9531,  34.6919,2,-999.0000,9,    200.3,2,  -999.00,9,  -999.00,9,  -999.00,9,  -999.00,9,   -999.0,9,   -999.0,9,-999.0000,9,  -999.00,      755
  49UF20130412,KS1303,  3837,  1,     19,  21978,2,20130426,0707, 24.9940, 129.4998, 4122,    406.1,  14.3878,  34.5205,2,-999.0000,9,    183.1,2,  -999.00,9,  -999.00,9,  -999.00,9,  -999.00,9,   -999.0,9,   -999.0,9,-999.0000,9,  -999.00,      752
  49UF20130412,KS1303,  3837,  1,     18,  21977,2,20130426,0707, 24.9940, 129.4998, 4122,    504.7,  11.7342,  34.3497,2,-999.0000,9,    171.8,2,  -999.00,9,  -999.00,9,  -999.00,9,  -999.00,9,   -999.0,9,   -999.0,9,-999.0000,9,  -999.00,      749
  49UF20130412,KS1303,  3837,  1,     17,  23679,2,20130426,0707, 24.9940, 129.4998, 4122,    605.6,   8.8465,  34.1978,2,-999.0000,9,    147.8,2,  -999.00,9,  -999.00,9,  -999.00,9,  -999.00,9,   -999.0,9,   -999.0,9,-999.0000,9,  -999.00,      745
  49UF20130412,KS1303,  3837,  1,     16,  21975,2,20130426,0707, 24.9940, 129.4998, 4122,    708.2,   6.2843,  34.1575,2,-999.0000,9,    104.0,2,  -999.00,9,  -999.00,9,  -999.00,9,  -999.00,9,   -999.0,9,   -999.0,9,-999.0000,9,  -999.00,      742
  49UF20130412,KS1303,  3837,  1,     12,  21994,2,20130426,0707, 24.9940, 129.4998, 4122,    808.1,   5.0910,  34.2195,2,-999.0000,9,     79.0,2,  -999.00,9,  -999.00,9,  -999.00,9,  -999.00,9,   -999.0,9,   -999.0,9,-999.0000,9,  -999.00,      739
  49UF20130412,KS1303,  3837,  1,     11,  21970,2,20130426,0707, 24.9940, 129.4998, 4122,    909.3,   4.4300,  34.3054,2,-999.0000,9,     66.8,2,  -999.00,9,  -999.00,9,  -999.00,9,  -999.00,9,   -999.0,9,   -999.0,9,-999.0000,9,  -999.00,      736
  49UF20130412,KS1303,  3837,  1,     10,  21969,3,20130426,0707, 24.9940, 129.4998, 4122,   1009.4,   3.7746,  34.3909,2,-999.0000,9,     62.4,2,  -999.00,9,  -999.00,9,  -999.00,9,  -999.00,9,   -999.0,9,   -999.0,9,-999.0000,9,  -999.00,      732
  49UF20130412,KS1303,  3837,  1,      9,  21968,2,20130426,0707, 24.9940, 129.4998, 4122,   1212.3,   3.1443,  34.4671,2,-999.0000,9,     69.5,6,  -999.00,9,  -999.00,9,  -999.00,9,  -999.00,9,   -999.0,9,   -999.0,9,-999.0000,9,  -999.00,      727
  49UF20130412,KS1303,  3837,  1,      8,  21982,2,20130426,0707, 24.9940, 129.4998, 4122,   1415.3,   2.6985,  34.5205,2,-999.0000,9,     80.0,2,  -999.00,9,  -999.00,9,  -999.00,9,  -999.00,9,   -999.0,9,   -999.0,9,-999.0000,9,  -999.00,      723
  49UF20130412,KS1303,  3837,  1,      7,  21966,2,20130426,0707, 24.9940, 129.4998, 4122,   1415.3,   2.6985,  34.5205,2,-999.0000,9,     80.2,2,  -999.00,9,  -999.00,9,  -999.00,9,  -999.00,9,   -999.0,9,   -999.0,9,-999.0000,9,  -999.00,      722
  49UF20130412,KS1303,  3837,  1,      3,  22079,3,20130426,0707, 24.9940, 129.4998, 4122,   1617.3,   2.3454,  34.5557,2,-999.0000,9,     89.1,4,  -999.00,9,  -999.00,9,  -999.00,9,  -999.00,9,   -999.0,9,   -999.0,9,-999.0000,9,  -999.00,      717
  49UF20130412,KS1303,  3837,  1,      2,  21961,2,20130426,0707, 24.9940, 129.4998, 4122,   1822.6,   2.0815,  34.5944,2,-999.0000,9,    106.2,2,  -999.00,9,  -999.00,9,  -999.00,9,  -999.00,9,   -999.0,9,   -999.0,9,-999.0000,9,  -999.00,      712
  49UF20130412,KS1303,  3837,  1,      1,  21960,2,20130426,0707, 24.9940, 129.4998, 4122,   2024.4,   1.9418,  34.6154,2,-999.0000,9,    116.0,2,  -999.00,9,  -999.00,9,  -999.00,9,  -999.00,9,   -999.0,9,   -999.0,9,-999.0000,9,  -999.00,      707