BOTTLE,20191018PRINUNIVRMK
# 08/29/2019 Initialized README file  
# Data source:  Masao Ishii 2018/11/30 
# SHIP: R/V Keifu Maru II 
# Cruise: KS12-09 
# Region: North Pacific Ocean 
# 	Section on 137E from 24N to 34N 
# EXPOCODE: 49UF20121210 
# DATES: 20121210 - 20121221	 
# Chief Scientist: Tatsuo Nakamura 
# 11 stations with 24 place Rosette 
# CTD: Who - Kazuhiro Nemoto; Status - final 
# 	Includes: CTDSAL 
# SALNTY: Who - Kazuhiro Nemoto; Status - final 
# 	Notes: 	 
# Nutrients: Who - Kazuhiro Nemoto; Status - final 
# 	Includes: nitrate, nitrite, silicate, phosphate 
# 	Nitrite and NO3+NO2 reported. Separated by subtraction 
# OXYGEN: Who - Kazuhiro Nemoto; Status - final 
# 	Notes: 
# TCARBN: Who - Kazuhiro Nemoto; Status - final 
# 	Notes:  
# ALKALI: Who - Kazuhiro Nemoto; Status - final 
# 	Notes:  
# PH_TOT: Who - Kazuhiro Nemoto; Status - final 
# 	Notes:  
# Nakamura, Tatsuo; Nemoto, Kazuhiro; Ishii, Masao (2019). Dissolved inorganic carbon (DIC), total alkalinity, pH on total scale, temperature, salinity, oxygen, nutrients and other measurements collected from profile and discrete sample observations during the R/V Keifu Maru II cruise KS12-09 (EXPOCODE 49UF20121210) in the North Pacific Ocean from 2012-12-10 to 2012-12-21 (NCEI Accession 0186248). [indicate subset used]. NOAA National Centers for Environmental Information. Dataset. https://doi.org/10.25921/e07m-ax56.  
# References that have used data from this cruise: 
EXPOCODE,SECT_ID,STNNBR,CASTNO,SAMPNO,BTLNBR,BTLNBR_FLAG_W,DATE,TIME,LATITUDE,LONGITUDE,DEPTH,CTDPRS,CTDTMP,CTDSAL,CTDSAL_FLAG_W,SALNTY,SALNTY_FLAG_W,OXYGEN,OXYGEN_FLAG_W,SILCAT,SILCAT_FLAG_W,NITRAT,NITRAT_FLAG_W,NITRIT,NITRIT_FLAG_W,PHSPHT,PHSPHT_FLAG_W,TCARBN,TCARBN_FLAG_W,ALKALI,ALKALI_FLAG_W,PH_TOT,PH_TOT_FLAG_W,PH_TMP,BTL_TIME
,,,,,,,,,,,METERS,DBAR,ITS-90,PSS-78,,PSS-78,,UMOL/KG,,UMOL/KG,,UMOL/KG,,UMOL/KG,,UMOL/KG,,UMOL/KG,,UMOL/KG,,,,DEG C,
  49UF20121210,KS1209,  3702,  1,     99,     99,2,20121211,0948, 33.9885, 137.0097, 1177,      0.0,  17.4717,  34.4873,2,  34.4867,2,    226.1,2,     6.47,2,     3.48,2,     0.46,2,     0.31,2,   2013.8,2,   2269.3,2,   7.9799,2,    25.00,     1000
  49UF20121210,KS1209,  3702,  1,     35,  22087,2,20121211,0948, 33.9885, 137.0097, 1177,     10.5,  17.4869,  34.4872,2,  34.4856,2,    225.8,2,     6.47,2,     3.47,2,     0.45,2,     0.31,2,   2009.2,2,   2260.3,3,   7.9992,3,    25.00,     1027
  49UF20121210,KS1209,  3702,  1,     34,  22668,2,20121211,0948, 33.9885, 137.0097, 1177,     25.8,  17.4831,  34.4873,2,-999.0000,9,    226.0,2,     6.47,2,     3.47,2,     0.45,2,     0.31,2,   2010.4,2,   2266.5,2,   7.9805,2,    25.00,     1025
  49UF20121210,KS1209,  3702,  1,     30,  21989,2,20121211,0948, 33.9885, 137.0097, 1177,     50.9,  17.4793,  34.4870,2,-999.0000,9,    226.1,2,     6.47,2,     3.50,2,     0.44,2,     0.31,2,   2008.3,2,   2263.6,2,   7.9802,2,    25.00,     1022
  49UF20121210,KS1209,  3702,  1,     29,  21988,2,20121211,0948, 33.9885, 137.0097, 1177,     76.0,  17.3844,  34.4853,2,-999.0000,9,    224.8,2,     6.69,2,     3.66,2,     0.42,2,     0.33,2,   2012.4,2,   2265.5,2,   7.9782,2,    25.00,     1021
  49UF20121210,KS1209,  3702,  1,     28,  21987,2,20121211,0948, 33.9885, 137.0097, 1177,    100.8,  16.6103,  34.4936,2,  34.4918,2,    222.9,6,     8.51,6,     5.04,6,     0.39,6,     0.41,6,   2027.5,2,   2268.7,2,   7.9334,3,    25.00,     1019
  49UF20121210,KS1209,  3702,  1,     24,  21983,2,20121211,0948, 33.9885, 137.0097, 1177,    126.6,  15.7901,  34.5114,2,-999.0000,9,    190.0,2,    13.78,2,     9.22,2,     0.20,2,     0.68,2,   2065.3,6,   2272.3,6,   7.8871,2,    25.00,     1018
  49UF20121210,KS1209,  3702,  1,     23,  22095,2,20121211,0948, 33.9885, 137.0097, 1177,    151.6,  14.7634,  34.5151,2,-999.0000,9,    167.2,2,    19.11,2,    12.69,2,     0.03,2,     0.90,2,   2094.0,2,   2283.1,3,   7.8290,6,    25.00,     1017
  49UF20121210,KS1209,  3702,  1,     22,  21981,2,20121211,0948, 33.9885, 137.0097, 1177,    202.7,  12.8679,  34.4556,2,  34.4562,2,    157.8,2,    25.89,2,    16.22,2,     0.01,2,     1.16,2,   2125.5,2,   2282.0,2,   7.7675,2,    25.00,     1015
  49UF20121210,KS1209,  3702,  1,     21,  21980,2,20121211,0948, 33.9885, 137.0097, 1177,    253.9,  11.0695,  34.3828,2,-999.0000,9,    145.7,2,    35.51,2,    20.11,2,     0.01,2,     1.44,2,   2155.1,2,   2285.0,2,   7.7061,2,    25.00,     1013
  49UF20121210,KS1209,  3702,  1,     20,  21979,2,20121211,0948, 33.9885, 137.0097, 1177,    304.5,   9.0353,  34.3135,2,-999.0000,9,    127.9,2,    50.11,2,    25.19,2,     0.00,2,     1.80,2,   2194.2,2,   2293.9,2,   7.6233,2,    25.00,     1011
  49UF20121210,KS1209,  3702,  1,     19,  21978,3,20121211,0948, 33.9885, 137.0097, 1177,    304.5,   9.0353,  34.3135,2,-999.0000,9,    128.1,2,    50.10,2,    25.18,2,     0.01,2,     1.81,2,   2193.8,2,   2293.5,2,   7.6203,2,    25.00,     1011
  49UF20121210,KS1209,  3702,  1,     15,  21974,2,20121211,0948, 33.9885, 137.0097, 1177,    404.6,   7.3160,  34.2689,2,  34.2673,2,    111.1,6,    65.22,6,    29.69,6,     0.00,6,     2.14,6,   2233.9,2,   2306.5,2,   7.5454,2,    25.00,     1007
  49UF20121210,KS1209,  3702,  1,     14,  21973,2,20121211,0948, 33.9885, 137.0097, 1177,    505.1,   6.2132,  34.2651,2,-999.0000,9,     94.5,2,    77.83,2,    32.99,2,     0.00,2,     2.38,2,   2264.0,2,   2315.7,2,   7.4938,2,    25.00,     1004
  49UF20121210,KS1209,  3702,  1,     13,  21972,2,20121211,0948, 33.9885, 137.0097, 1177,    606.1,   5.0265,  34.2985,2,  34.2964,2,     76.3,2,    95.09,2,    36.53,2,     0.00,2,     2.62,2,   2296.7,2,   2335.1,2,   7.4403,2,    25.00,     1001
  49UF20121210,KS1209,  3702,  1,      9,  21968,2,20121211,0948, 33.9885, 137.0097, 1177,    707.3,   4.3164,  34.3402,2,-999.0000,9,     67.6,2,   108.14,2,    38.37,2,     0.00,2,     2.75,2,   2318.3,6,   2348.1,6,   7.4176,2,    25.00,      959
  49UF20121210,KS1209,  3702,  1,      8,  21967,3,20121211,0948, 33.9885, 137.0097, 1177,    808.3,   3.7940,  34.3831,2,  34.3815,2,     63.6,2,   118.59,2,    39.44,2,     0.00,2,     2.82,2,   2333.5,2,   2359.2,2,   7.4084,2,    25.00,      956
  49UF20121210,KS1209,  3702,  1,      7,  21966,2,20121211,0948, 33.9885, 137.0097, 1177,    908.8,   3.5944,  34.4016,2,-999.0000,9,     63.5,2,   122.48,2,    39.80,2,     0.00,2,     2.84,2,   2339.3,2,   2361.4,2,   7.4043,6,    25.00,      953
  49UF20121210,KS1209,  3702,  1,      3,  22079,2,20121211,0948, 33.9885, 137.0097, 1177,   1009.9,   3.3742,  34.4239,2,  34.4235,6,     63.2,6,   126.98,6,    40.11,6,     0.00,6,     2.86,6,   2344.2,2,   2370.7,2,   7.4033,2,    25.00,      951
  49UF20121210,KS1209,  3702,  1,      2,  21961,2,20121211,0948, 33.9885, 137.0097, 1177,   1140.6,   3.1141,  34.4528,2,  34.4520,2,     65.5,2,   132.08,2,    40.23,2,     0.00,2,     2.87,2,   2351.2,2,   2374.9,2,   7.4076,2,    25.00,      948
  49UF20121210,KS1209,  3702,  1,      1,  21960,2,20121211,0948, 33.9885, 137.0097, 1177,   1140.6,   3.1141,  34.4528,2,  34.4522,2,     65.2,2,   132.30,2,    40.34,2,     0.00,2,     2.88,2,   2348.8,2,   2377.7,2,   7.4073,2,    25.00,      948
  49UF20121210,KS1209,  3705,  1,     99,     99,2,20121211,2025, 33.0022, 137.0342, 4260,      0.0,  21.4606,  34.6629,2,  34.6672,2,    217.8,2,     1.76,2,     0.14,2,     0.08,2,     0.03,2,   -999.0,9,   -999.0,9,-999.0000,9,  -999.00,     2104
  49UF20121210,KS1209,  3705,  1,     33,  21992,2,20121211,2025, 33.0022, 137.0342, 4260,     10.9,  21.4814,  34.6630,2,  34.6614,2,    216.8,2,     1.76,2,     0.15,2,     0.08,2,     0.03,2,   -999.0,9,   -999.0,9,-999.0000,9,  -999.00,     2124
  49UF20121210,KS1209,  3705,  1,     32,  21991,2,20121211,2025, 33.0022, 137.0342, 4260,     25.7,  21.4796,  34.6624,2,-999.0000,9,    216.7,2,     1.71,2,     0.13,2,     0.07,2,     0.03,2,   -999.0,9,   -999.0,9,-999.0000,9,  -999.00,     2123
  49UF20121210,KS1209,  3705,  1,     31,  21990,2,20121211,2025, 33.0022, 137.0342, 4260,     50.9,  21.4810,  34.6627,2,-999.0000,9,    216.6,2,     1.72,2,     0.13,2,     0.08,2,     0.03,2,   -999.0,9,   -999.0,9,-999.0000,9,  -999.00,     2119
  49UF20121210,KS1209,  3705,  1,     30,  21989,2,20121211,2025, 33.0022, 137.0342, 4260,     76.8,  21.4924,  34.6624,2,-999.0000,9,    216.6,2,     1.72,2,     0.12,2,     0.08,2,     0.03,2,   -999.0,9,   -999.0,9,-999.0000,9,  -999.00,     2118
  49UF20121210,KS1209,  3705,  1,     29,  21988,2,20121211,2025, 33.0022, 137.0342, 4260,    100.9,  21.4939,  34.6623,2,  34.6618,2,    216.2,2,     1.74,2,     0.15,2,     0.08,2,     0.03,2,   -999.0,9,   -999.0,9,-999.0000,9,  -999.00,     2117
  49UF20121210,KS1209,  3705,  1,     28,  21987,2,20121211,2025, 33.0022, 137.0342, 4260,    126.3,  20.9454,  34.7780,2,-999.0000,9,    199.5,2,     2.50,2,     1.69,2,     0.05,2,     0.13,2,   -999.0,9,   -999.0,9,-999.0000,9,  -999.00,     2115
  49UF20121210,KS1209,  3705,  1,     24,  21983,2,20121211,2025, 33.0022, 137.0342, 4260,    152.1,  19.7334,  34.8245,2,-999.0000,9,    194.0,2,     3.02,2,     2.96,2,     0.02,2,     0.21,2,   -999.0,9,   -999.0,9,-999.0000,9,  -999.00,     2114
  49UF20121210,KS1209,  3705,  1,     23,  22095,2,20121211,2025, 33.0022, 137.0342, 4260,    202.5,  18.4294,  34.7632,2,  34.7614,2,    200.5,6,     3.68,6,     3.85,6,     0.01,6,     0.26,6,   -999.0,9,   -999.0,9,-999.0000,9,  -999.00,     2113
  49UF20121210,KS1209,  3705,  1,     22,  21981,2,20121211,2025, 33.0022, 137.0342, 4260,    253.4,  17.3462,  34.7168,2,-999.0000,9,    205.0,2,     4.54,2,     4.79,2,     0.01,2,     0.32,2,   -999.0,9,   -999.0,9,-999.0000,9,  -999.00,     2111
  49UF20121210,KS1209,  3705,  1,     21,  21980,2,20121211,2025, 33.0022, 137.0342, 4260,    304.6,  16.1446,  34.6391,2,-999.0000,9,    196.7,2,     7.10,2,     7.18,2,     0.01,2,     0.48,2,   -999.0,9,   -999.0,9,-999.0000,9,  -999.00,     2109
  49UF20121210,KS1209,  3705,  1,     20,  21979,2,20121211,2025, 33.0022, 137.0342, 4260,    304.6,  16.1446,  34.6391,2,-999.0000,9,    196.9,2,     7.10,2,     7.17,2,     0.01,2,     0.48,2,   -999.0,9,   -999.0,9,-999.0000,9,  -999.00,     2109
  49UF20121210,KS1209,  3705,  1,     19,  21978,2,20121211,2025, 33.0022, 137.0342, 4260,    409.7,  11.8754,  34.3600,2,  34.4065,2,    165.5,2,    23.68,2,    16.43,2,     0.01,2,     1.16,2,   -999.0,9,   -999.0,9,-999.0000,9,  -999.00,     2105
  49UF20121210,KS1209,  3705,  1,     15,  21974,2,20121211,2025, 33.0022, 137.0342, 4260,    505.1,   9.6601,  34.3392,2,-999.0000,9,    137.3,2,    44.01,2,    23.60,2,     0.00,2,     1.68,2,   -999.0,9,   -999.0,9,-999.0000,9,  -999.00,     2100
  49UF20121210,KS1209,  3705,  1,     14,  21973,2,20121211,2025, 33.0022, 137.0342, 4260,    606.5,   7.1613,  34.2844,2,  34.2891,4,    106.5,2,    68.20,2,    30.31,2,     0.01,2,     2.18,2,   -999.0,9,   -999.0,9,-999.0000,9,  -999.00,     2057
  49UF20121210,KS1209,  3705,  1,     13,  21972,2,20121211,2025, 33.0022, 137.0342, 4260,    709.4,   5.7927,  34.2810,2,-999.0000,9,     87.0,2,    84.82,2,    34.47,2,     0.00,2,     2.47,2,   -999.0,9,   -999.0,9,-999.0000,9,  -999.00,     2053
  49UF20121210,KS1209,  3705,  1,     12,  21962,2,20121211,2025, 33.0022, 137.0342, 4260,    807.2,   4.8605,  34.3218,2,  34.3209,2,     73.4,6,    98.60,6,    37.20,6,     0.01,6,     2.67,6,   -999.0,9,   -999.0,9,-999.0000,9,  -999.00,     2049
  49UF20121210,KS1209,  3705,  1,     11,  21970,2,20121211,2025, 33.0022, 137.0342, 4260,    906.5,   4.0617,  34.3518,2,-999.0000,9,     63.2,2,   113.21,2,    39.21,2,     0.00,2,     2.80,2,   -999.0,9,   -999.0,9,-999.0000,9,  -999.00,     2047
  49UF20121210,KS1209,  3705,  1,     10,  21969,2,20121211,2025, 33.0022, 137.0342, 4260,   1008.8,   3.6804,  34.3928,2,  34.3937,2,     61.8,2,   120.76,2,    39.92,2,     0.00,2,     2.85,2,   -999.0,9,   -999.0,9,-999.0000,9,  -999.00,     2044
  49UF20121210,KS1209,  3705,  1,      6,  21965,2,20121211,2025, 33.0022, 137.0342, 4260,   1208.2,   2.9713,  34.4671,2,  34.4681,6,     65.0,2,   134.78,2,    40.51,2,     0.00,2,     2.88,2,   -999.0,9,   -999.0,9,-999.0000,9,  -999.00,     2041
  49UF20121210,KS1209,  3705,  1,      5,  21964,2,20121211,2025, 33.0022, 137.0342, 4260,   1412.1,   2.6479,  34.5067,2,  34.5066,2,     71.1,2,   141.15,2,    40.44,2,     0.00,2,     2.87,2,   -999.0,9,   -999.0,9,-999.0000,9,  -999.00,     2037
  49UF20121210,KS1209,  3705,  1,      4,  21963,2,20121211,2025, 33.0022, 137.0342, 4260,   1616.0,   2.3946,  34.5424,2,  34.5431,2,     80.7,2,   144.35,2,    40.08,2,     0.00,2,     2.84,2,   -999.0,9,   -999.0,9,-999.0000,9,  -999.00,     2033
  49UF20121210,KS1209,  3705,  1,      3,  22079,2,20121211,2025, 33.0022, 137.0342, 4260,   1820.9,   2.1745,  34.5746,2,  34.5758,2,     92.6,2,   146.07,2,    39.48,2,     0.00,2,     2.78,2,   -999.0,9,   -999.0,9,-999.0000,9,  -999.00,     2029
  49UF20121210,KS1209,  3705,  1,      2,  21961,2,20121211,2025, 33.0022, 137.0342, 4260,   1820.9,   2.1745,  34.5746,2,  34.5752,2,     94.3,3,   145.98,2,    39.42,2,     0.00,2,     2.78,2,   -999.0,9,   -999.0,9,-999.0000,9,  -999.00,     2029
  49UF20121210,KS1209,  3705,  1,      1,  21960,2,20121211,2025, 33.0022, 137.0342, 4260,   2030.4,   2.0071,  34.6010,2,  34.6020,2,    105.7,6,   145.84,6,    38.67,6,     0.00,6,     2.73,6,   -999.0,9,   -999.0,9,-999.0000,9,  -999.00,     2025
  49UF20121210,KS1209,  3708,  1,     99,     99,2,20121212,0649, 31.9780, 137.0182, 4183,      0.0,  20.9607,  34.6657,2,  34.6670,2,    218.9,2,     1.84,2,     0.30,2,     0.11,2,     0.05,2,   1977.7,2,   2276.0,2,   8.0507,2,    25.00,      723
  49UF20121210,KS1209,  3708,  1,     33,  21992,2,20121212,0649, 31.9780, 137.0182, 4183,     10.7,  20.9523,  34.6659,2,  34.6632,2,    217.8,2,     1.84,2,     0.29,2,     0.10,2,     0.04,2,   1983.2,2,   2276.8,2,   8.0505,2,    25.00,      749
  49UF20121210,KS1209,  3708,  1,     32,  21991,2,20121212,0649, 31.9780, 137.0182, 4183,     25.3,  20.9620,  34.6655,2,-999.0000,9,    217.8,2,     1.84,2,     0.28,2,     0.10,2,     0.04,2,   1980.4,2,   2274.1,2,   8.0476,2,    25.00,      748
  49UF20121210,KS1209,  3708,  1,     31,  21990,2,20121212,0649, 31.9780, 137.0182, 4183,     52.2,  20.9808,  34.6648,2,-999.0000,9,    217.7,2,     1.85,2,     0.26,2,     0.10,2,     0.04,2,   1978.3,2,   2274.3,2,   8.0464,2,    25.00,      744
  49UF20121210,KS1209,  3708,  1,     30,  21989,2,20121212,0649, 31.9780, 137.0182, 4183,     74.8,  20.9858,  34.6653,2,-999.0000,9,    217.7,2,     1.80,2,     0.27,2,     0.11,2,     0.04,2,   1977.4,2,   2273.4,2,   8.0470,2,    25.00,      743
  49UF20121210,KS1209,  3708,  1,     29,  21988,2,20121212,0649, 31.9780, 137.0182, 4183,    100.3,  20.9898,  34.6643,2,  34.6634,2,    217.7,2,     1.85,2,     0.26,2,     0.10,2,     0.04,2,   1978.7,6,   2271.5,6,   8.0474,2,    25.00,      742
  49UF20121210,KS1209,  3708,  1,     28,  21987,2,20121212,0649, 31.9780, 137.0182, 4183,    126.2,  20.7558,  34.6921,2,-999.0000,9,    216.6,2,     1.89,2,     0.39,2,     0.07,2,     0.05,2,   1983.1,2,   2275.4,2,   8.0390,6,    25.00,      741
  49UF20121210,KS1209,  3708,  1,     24,  21983,2,20121212,0649, 31.9780, 137.0182, 4183,    152.2,  19.7109,  34.8159,2,-999.0000,9,    204.6,6,     2.37,6,     1.81,6,     0.03,6,     0.13,6,   2012.9,2,   2284.8,2,   7.9983,2,    25.00,      739
  49UF20121210,KS1209,  3708,  1,     23,  22095,2,20121212,0649, 31.9780, 137.0182, 4183,    201.7,  19.0109,  34.8073,2,  34.8053,2,    209.2,2,     2.59,2,     2.38,2,     0.01,2,     0.17,2,   2011.9,2,   2282.5,2,   7.9937,2,    25.00,      738
  49UF20121210,KS1209,  3708,  1,     22,  21981,2,20121212,0649, 31.9780, 137.0182, 4183,    253.6,  18.6264,  34.7851,2,-999.0000,9,    209.0,2,     2.85,2,     2.83,2,     0.01,2,     0.19,2,   2014.5,2,   2278.4,2,   7.9857,2,    25.00,      736
  49UF20121210,KS1209,  3708,  1,     21,  21980,2,20121212,0649, 31.9780, 137.0182, 4183,    253.6,  18.6264,  34.7851,2,-999.0000,9,    208.7,2,     2.85,2,     2.81,2,     0.01,2,     0.19,2,   2017.1,2,   2278.0,2,   7.9869,2,    25.00,      736
  49UF20121210,KS1209,  3708,  1,     20,  21979,2,20121212,0649, 31.9780, 137.0182, 4183,    302.8,  17.9463,  34.7495,2,-999.0000,9,    205.2,2,     3.72,2,     3.93,2,     0.01,2,     0.26,2,   2027.2,2,   2274.4,2,   7.9633,2,    25.00,      734
  49UF20121210,KS1209,  3708,  1,     19,  21978,2,20121212,0649, 31.9780, 137.0182, 4183,    404.1,  17.0345,  34.7020,2,  34.7016,6,    205.4,2,     5.04,2,     5.27,2,     0.01,2,     0.35,2,   2039.8,6,   2277.6,6,   7.9429,2,    25.00,      731
  49UF20121210,KS1209,  3708,  1,     15,  21974,2,20121212,0649, 31.9780, 137.0182, 4183,    504.3,  15.7644,  34.6086,2,-999.0000,9,    186.7,2,     9.32,2,     8.89,2,     0.00,2,     0.60,2,   2068.0,2,   2274.7,2,   7.8831,6,    25.00,      728
  49UF20121210,KS1209,  3708,  1,     14,  21973,2,20121212,0649, 31.9780, 137.0182, 4183,    605.9,  12.7681,  34.4187,2,  34.4283,4,    175.7,2,    18.71,2,    14.53,2,     0.00,2,     1.01,2,   2110.1,2,   2274.4,2,   7.7883,2,    25.00,      725
  49UF20121210,KS1209,  3708,  1,     13,  21972,2,20121212,0649, 31.9780, 137.0182, 4183,    707.7,   9.7110,  34.2469,2,-999.0000,9,    156.3,6,    36.45,6,    21.64,6,     0.00,6,     1.54,6,   2163.1,2,   2274.9,3,   7.6748,2,    25.00,      722
  49UF20121210,KS1209,  3708,  1,     12,  21962,2,20121212,0649, 31.9780, 137.0182, 4183,    809.2,   7.2113,  34.1785,2,  34.1791,2,    120.8,2,    59.53,2,    29.18,2,     0.00,2,     2.09,2,   2226.3,2,   2299.8,2,   7.5477,2,    25.00,      719
  49UF20121210,KS1209,  3708,  1,     11,  21970,2,20121212,0649, 31.9780, 137.0182, 4183,    907.3,   5.9312,  34.2250,2,-999.0000,9,     93.2,2,    79.11,2,    33.74,2,     0.00,2,     2.42,2,   2268.8,2,   2320.4,2,   7.4771,2,    25.00,      716
  49UF20121210,KS1209,  3708,  1,     10,  21969,2,20121212,0649, 31.9780, 137.0182, 4183,   1009.5,   4.7329,  34.2742,2,  34.2779,4,     72.6,2,    98.70,2,    37.45,2,     0.00,2,     2.68,2,   2305.4,2,   2339.4,2,   7.4247,2,    25.00,      713
  49UF20121210,KS1209,  3708,  1,      6,  21965,2,20121212,0649, 31.9780, 137.0182, 4183,   1215.6,   3.5713,  34.4060,2,  34.4048,2,     62.7,2,   122.87,2,    39.93,2,     0.00,2,     2.85,2,   2341.9,2,   2368.8,2,   7.4051,2,    25.00,      708
  49UF20121210,KS1209,  3708,  1,      5,  21964,2,20121212,0649, 31.9780, 137.0182, 4183,   1415.9,   2.9703,  34.4668,2,  34.4651,6,     64.9,2,   135.10,2,    40.61,2,     0.00,2,     2.88,2,   2352.7,6,   2381.5,6,   7.4092,2,    25.00,      703
  49UF20121210,KS1209,  3708,  1,      4,  21963,2,20121212,0649, 31.9780, 137.0182, 4183,   1617.8,   2.6103,  34.5177,2,  34.5179,2,     75.9,2,   140.49,2,    40.12,2,     0.00,2,     2.84,2,   2355.3,2,   2392.1,2,   7.4325,2,    25.00,      658
  49UF20121210,KS1209,  3708,  1,      3,  22079,2,20121212,0649, 31.9780, 137.0182, 4183,   1617.8,   2.6103,  34.5177,2,  34.5179,2,     75.9,2,   140.29,2,    40.20,2,     0.00,2,     2.85,2,   2354.2,2,   2391.6,2,   7.4307,2,    25.00,      658
  49UF20121210,KS1209,  3708,  1,      2,  21961,2,20121212,0649, 31.9780, 137.0182, 4183,   1821.1,   2.3144,  34.5592,2,  34.5593,2,     89.3,6,   143.66,6,    39.53,6,     0.00,6,     2.79,6,   2351.6,2,   2397.6,2,   7.4571,2,    25.00,      654
  49UF20121210,KS1209,  3708,  1,      1,  21960,2,20121212,0649, 31.9780, 137.0182, 4183,   2022.2,   2.1191,  34.5865,2,  34.5871,2,    100.1,2,   144.86,2,    39.00,2,     0.00,2,     2.75,2,   2348.2,2,   2401.2,2,   7.4744,6,    25.00,      649