BOTTLE,20191018PRINUNIVRMK
EXPOCODE,SECT_ID,STNNBR,CASTNO,SAMPNO,BTLNBR,BTLNBR_FLAG_W,DATE,TIME,LATITUDE,LONGITUDE,DEPTH,CTDPRS,CTDTMP,CTDSAL,CTDSAL_FLAG_W,SALNTY,SALNTY_FLAG_W,OXYGEN,OXYGEN_FLAG_W,SILCAT,SILCAT_FLAG_W,NITRAT,NITRAT_FLAG_W,NITRIT,NITRIT_FLAG_W,PHSPHT,PHSPHT_FLAG_W,TCARBN,TCARBN_FLAG_W,ALKALI,ALKALI_FLAG_W,PH_TOT,PH_TOT_FLAG_W,PH_TMP,BTL_TIME
,,,,,,,,,,,METERS,DBAR,ITS-90,PSS-78,,PSS-78,,UMOL/KG,,UMOL/KG,,UMOL/KG,,UMOL/KG,,UMOL/KG,,UMOL/KG,,UMOL/KG,,,,DEG C,
  49UF20121210,KS1209,  3719,  1,     99,     99,2,20121214,2146, 23.9893, 136.9758, 3868,      0.0,  24.0275,  34.7064,2,  34.7082,2,    211.6,2,     1.23,2,     0.12,2,     0.00,2,     0.01,2,   1957.6,2,   2275.6,2,   8.0785,2,    25.00,     2315
  49UF20121210,KS1209,  3719,  1,     33,  21992,2,20121214,2146, 23.9893, 136.9758, 3868,     10.2,  24.0338,  34.7064,2,  34.7036,2,    211.2,2,     1.23,2,     0.17,2,     0.00,2,     0.02,2,   1957.7,2,   2276.0,2,   8.0788,2,    25.00,     2334
  49UF20121210,KS1209,  3719,  1,     32,  21991,2,20121214,2146, 23.9893, 136.9758, 3868,     26.1,  24.0353,  34.7057,2,-999.0000,9,    211.1,2,     1.25,2,     0.17,2,     0.00,2,     0.01,2,   1958.1,6,   2274.0,6,   8.0780,2,    25.00,     2333
  49UF20121210,KS1209,  3719,  1,     31,  21990,2,20121214,2146, 23.9893, 136.9758, 3868,     51.8,  24.0371,  34.7052,2,-999.0000,9,    211.0,2,     1.26,2,     0.15,2,     0.00,2,     0.01,2,   1962.4,2,   2275.4,2,   8.0803,6,    25.00,     2331
  49UF20121210,KS1209,  3719,  1,     30,  21989,2,20121214,2146, 23.9893, 136.9758, 3868,     74.5,  24.0354,  34.7042,2,-999.0000,9,    211.4,2,     1.28,2,     0.15,2,     0.00,2,     0.01,2,   1960.3,2,   2273.3,2,   8.0807,2,    25.00,     2330
  49UF20121210,KS1209,  3719,  1,     29,  21988,2,20121214,2146, 23.9893, 136.9758, 3868,     99.4,  21.5063,  34.8963,2,  34.8995,4,    216.4,2,     1.68,2,     0.17,2,     0.06,2,     0.02,2,   2001.9,2,   2288.8,2,   8.0310,2,    25.00,     2328
  49UF20121210,KS1209,  3719,  1,     28,  21987,2,20121214,2146, 23.9893, 136.9758, 3868,    128.4,  19.7015,  34.8446,2,-999.0000,9,    214.1,6,     2.20,6,     0.81,6,     0.08,6,     0.07,6,   2016.1,2,   2287.5,2,   8.0041,2,    25.00,     2327
  49UF20121210,KS1209,  3719,  1,     27,  21986,2,20121214,2146, 23.9893, 136.9758, 3868,    150.8,  19.0461,  34.8277,2,-999.0000,9,    210.4,2,     2.39,2,     1.78,2,     0.02,2,     0.12,2,   2022.2,2,   2284.6,2,   7.9900,2,    25.00,     2323
  49UF20121210,KS1209,  3719,  1,     26,  21985,2,20121214,2146, 23.9893, 136.9758, 3868,    150.8,  19.0461,  34.8277,2,-999.0000,9,    210.6,2,     2.39,2,     1.76,2,     0.02,2,     0.13,2,   2022.2,2,   2286.0,2,   7.9863,2,    25.00,     2323
  49UF20121210,KS1209,  3719,  1,     24,  21983,2,20121214,2146, 23.9893, 136.9758, 3868,    200.7,  17.9171,  34.7553,2,  34.7558,2,    212.4,2,     3.03,2,     3.20,2,     0.01,2,     0.21,2,   2027.8,2,   2283.9,2,   7.9670,2,    25.00,     2321
  49UF20121210,KS1209,  3719,  1,     23,  22095,2,20121214,2146, 23.9893, 136.9758, 3868,    252.1,  17.3233,  34.7204,2,-999.0000,9,    214.3,2,     3.79,2,     3.87,2,     0.01,2,     0.29,2,   2026.9,2,   2277.8,2,   7.9639,2,    25.00,     2319
  49UF20121210,KS1209,  3719,  1,     22,  21981,2,20121214,2146, 23.9893, 136.9758, 3868,    300.5,  17.0079,  34.7035,2,-999.0000,9,    215.5,6,     4.16,6,     4.48,6,     0.01,6,     0.30,6,   2033.0,6,   2275.9,6,   7.9562,6,    25.00,     2317
  49UF20121210,KS1209,  3719,  1,     21,  21980,2,20121214,2146, 23.9893, 136.9758, 3868,    404.5,  15.5690,  34.5953,2,  34.6004,4,    197.1,2,     8.12,2,     8.14,2,     0.00,2,     0.55,2,   2064.3,2,   2273.6,2,   7.8936,2,    25.00,     2314
  49UF20121210,KS1209,  3719,  1,     20,  21979,2,20121214,2146, 23.9893, 136.9758, 3868,    502.9,  12.5791,  34.3884,2,-999.0000,9,    187.0,2,    17.38,2,    13.92,2,     0.00,2,     0.98,2,   2102.5,2,   2272.9,2,   7.7968,2,    25.00,     2312
  49UF20121210,KS1209,  3719,  1,     19,  21978,2,20121214,2146, 23.9893, 136.9758, 3868,    604.9,   9.3164,  34.1853,2,  34.1855,2,    159.0,6,    32.97,6,    21.85,6,     0.00,6,     1.57,6,   2160.9,2,   2273.7,2,   7.6603,2,    25.00,     2308
  49UF20121210,KS1209,  3719,  1,     18,  21977,2,20121214,2146, 23.9893, 136.9758, 3868,    704.3,   6.5038,  34.1205,2,-999.0000,9,    106.1,2,    61.80,2,    31.87,2,     0.00,2,     2.29,2,   2237.7,6,   2294.8,6,   7.4997,2,    25.00,     2305
  49UF20121210,KS1209,  3719,  1,     17,  21976,2,20121214,2146, 23.9893, 136.9758, 3868,    807.4,   5.2266,  34.1761,2,  34.1743,2,     80.5,2,    84.28,2,    36.41,2,     0.00,2,     2.61,2,   2279.6,2,   2320.2,2,   7.4325,6,    25.00,     2302
  49UF20121210,KS1209,  3719,  1,     16,  21975,2,20121214,2146, 23.9893, 136.9758, 3868,    910.0,   4.1721,  34.3053,2,-999.0000,9,     55.4,2,   107.54,2,    39.95,2,     0.00,2,     2.87,2,   2321.1,2,   2346.9,2,   7.3857,2,    25.00,     2259
  49UF20121210,KS1209,  3719,  1,     15,  21974,2,20121214,2146, 23.9893, 136.9758, 3868,   1008.7,   3.6976,  34.3654,2,  34.3632,2,     51.7,2,   118.88,2,    40.70,2,     0.00,2,     2.92,2,   2337.0,2,   2360.8,2,   7.3835,2,    25.00,     2256
  49UF20121210,KS1209,  3719,  1,     14,  21973,2,20121214,2146, 23.9893, 136.9758, 3868,   1209.3,   3.1249,  34.4567,2,  34.4567,6,     61.6,2,   130.70,2,    40.83,2,     0.00,2,     2.90,2,   2351.6,2,   2379.0,2,   7.4057,2,    25.00,     2251
  49UF20121210,KS1209,  3719,  1,     13,  21972,2,20121214,2146, 23.9893, 136.9758, 3868,   1414.8,   2.6533,  34.5196,2,  34.5183,2,     76.2,2,   138.43,2,    40.13,2,     0.00,2,     2.85,2,   2353.9,2,   2391.5,2,   7.4320,2,    25.00,     2246
  49UF20121210,KS1209,  3719,  1,     12,  21962,2,20121214,2146, 23.9893, 136.9758, 3868,   1615.8,   2.3511,  34.5662,2,  34.5652,2,     92.5,6,   141.08,6,    39.23,6,     0.00,6,     2.78,6,   2348.8,2,   2400.3,2,   7.4664,2,    25.00,     2241
  49UF20121210,KS1209,  3719,  1,     11,  21970,2,20121214,2146, 23.9893, 136.9758, 3868,   1818.7,   2.1504,  34.5954,2,  34.5941,2,    103.7,2,   141.71,2,    38.52,2,     0.00,2,     2.72,2,   2345.7,2,   2404.5,2,   7.4890,2,    25.00,     2236
  49UF20121210,KS1209,  3719,  1,     10,  21969,2,20121214,2146, 23.9893, 136.9758, 3868,   2021.4,   1.9846,  34.6181,2,  34.6180,6,    115.0,2,   142.54,2,    37.96,2,     0.00,2,     2.67,2,   2341.9,2,   2406.6,2,   7.5098,2,    25.00,     2232
  49UF20121210,KS1209,  3719,  1,      9,  21968,2,20121214,2146, 23.9893, 136.9758, 3868,   2276.7,   1.8589,  34.6353,2,  34.6359,2,    123.6,2,   142.38,2,    37.60,2,     0.00,2,     2.63,2,   2338.6,2,   2406.6,3,   7.5218,2,    25.00,     2226
  49UF20121210,KS1209,  3719,  1,      8,  21967,3,20121214,2146, 23.9893, 136.9758, 3868,   2276.7,   1.8589,  34.6353,2,  34.6326,4,    123.6,2,   141.86,4,    37.51,2,     0.00,2,     2.63,2,   2339.6,2,   2410.8,2,   7.5239,2,    25.00,     2226
  49UF20121210,KS1209,  3719,  1,      7,  21966,2,20121214,2146, 23.9893, 136.9758, 3868,   2530.4,   1.7692,  34.6465,2,  34.6445,4,    128.9,2,   142.22,2,    37.10,2,     0.00,2,     2.61,2,   2338.5,6,   2413.3,2,   7.5334,2,    25.00,     2220
  49UF20121210,KS1209,  3719,  1,      6,  21965,2,20121214,2146, 23.9893, 136.9758, 3868,   2787.7,   1.6900,  34.6565,2,  34.6566,2,    135.6,2,   142.52,2,    36.83,2,     0.00,2,     2.57,2,   2337.2,2,   2412.6,2,   7.5431,6,    25.00,     2214
  49UF20121210,KS1209,  3719,  1,      5,  21964,2,20121214,2146, 23.9893, 136.9758, 3868,   3041.7,   1.6367,  34.6632,2,  34.6641,6,    140.5,2,   142.46,2,    36.64,2,     0.00,2,     2.55,2,   2335.0,2,   2410.6,2,   7.5510,2,    25.00,     2208
  49UF20121210,KS1209,  3719,  1,      4,  21963,2,20121214,2146, 23.9893, 136.9758, 3868,   3296.6,   1.5933,  34.6693,2,  34.6696,2,    145.2,2,   141.67,2,    36.34,2,     0.00,2,     2.52,2,   2330.8,2,   2414.3,2,   7.5554,2,    25.00,     2202
  49UF20121210,KS1209,  3719,  1,      3,  22079,2,20121214,2146, 23.9893, 136.9758, 3868,   3551.3,   1.5512,  34.6753,2,  34.6758,2,    150.2,6,   140.97,6,    35.90,6,     0.00,6,     2.50,6,   2328.3,2,   2410.8,2,   7.5674,2,    25.00,     2154
  49UF20121210,KS1209,  3719,  1,      2,  21961,2,20121214,2146, 23.9893, 136.9758, 3868,   3805.4,   1.5188,  34.6808,2,  34.6816,2,    154.4,2,   140.43,2,    35.71,2,     0.00,2,     2.48,2,   2324.8,2,   2409.2,2,   7.5730,2,    25.00,     2149
  49UF20121210,KS1209,  3719,  1,      1,  21960,2,20121214,2146, 23.9893, 136.9758, 3868,   3913.7,   1.5068,  34.6831,2,  34.6833,6,    156.3,2,   139.65,2,    35.53,2,     0.00,2,     2.47,2,   2321.4,2,   2406.9,2,   7.5745,2,    25.00,     2146