BOTTLE,20191018PRINUNIVRMK
EXPOCODE,SECT_ID,STNNBR,CASTNO,SAMPNO,BTLNBR,BTLNBR_FLAG_W,DATE,TIME,LATITUDE,LONGITUDE,DEPTH,CTDPRS,CTDTMP,CTDSAL,CTDSAL_FLAG_W,SALNTY,SALNTY_FLAG_W,OXYGEN,OXYGEN_FLAG_W,SILCAT,SILCAT_FLAG_W,NITRAT,NITRAT_FLAG_W,NITRIT,NITRIT_FLAG_W,PHSPHT,PHSPHT_FLAG_W,TCARBN,TCARBN_FLAG_W,ALKALI,ALKALI_FLAG_W,PH_TOT,PH_TOT_FLAG_W,PH_TMP,BTL_TIME
,,,,,,,,,,,METERS,DBAR,ITS-90,PSS-78,,PSS-78,,UMOL/KG,,UMOL/KG,,UMOL/KG,,UMOL/KG,,UMOL/KG,,UMOL/KG,,UMOL/KG,,,,DEG C,
  49UF20121210,KS1209,  3714,  1,     99,     99,2,20121213,1112, 28.9932, 137.0082, 4485,      0.0,  22.8427,  34.6494,2,-999.0000,9,    215.0,2,     1.51,2,     0.00,2,     0.00,2,     0.01,2,   -999.0,9,   -999.0,9,-999.0000,9,  -999.00,     1158
  49UF20121210,KS1209,  3714,  1,     33,  21992,2,20121213,1112, 28.9932, 137.0082, 4485,     10.7,  22.8512,  34.6481,2,-999.0000,9,    214.0,2,     1.49,2,     0.00,2,     0.00,2,     0.01,2,   -999.0,9,   -999.0,9,-999.0000,9,  -999.00,     1213
  49UF20121210,KS1209,  3714,  1,     32,  21991,2,20121213,1112, 28.9932, 137.0082, 4485,     24.5,  22.8574,  34.6478,2,-999.0000,9,    214.4,2,     1.47,2,     0.00,2,     0.00,2,     0.01,2,   -999.0,9,   -999.0,9,-999.0000,9,  -999.00,     1211
  49UF20121210,KS1209,  3714,  1,     31,  21990,2,20121213,1112, 28.9932, 137.0082, 4485,     52.1,  22.7371,  34.6435,2,-999.0000,9,    215.1,2,     1.51,2,     0.00,2,     0.00,2,     0.01,2,   -999.0,9,   -999.0,9,-999.0000,9,  -999.00,     1208
  49UF20121210,KS1209,  3714,  1,     30,  21989,2,20121213,1112, 28.9932, 137.0082, 4485,     75.3,  22.7198,  34.6421,2,-999.0000,9,    214.9,6,     1.51,6,     0.00,6,     0.00,6,     0.00,6,   -999.0,9,   -999.0,9,-999.0000,9,  -999.00,     1206
  49UF20121210,KS1209,  3714,  1,     29,  21988,2,20121213,1112, 28.9932, 137.0082, 4485,    100.2,  22.6531,  34.6336,2,-999.0000,9,    215.0,2,     1.60,2,    -0.01,2,     0.01,2,     0.01,2,   -999.0,9,   -999.0,9,-999.0000,9,  -999.00,     1205
  49UF20121210,KS1209,  3714,  1,     28,  21987,2,20121213,1112, 28.9932, 137.0082, 4485,    100.2,  22.6531,  34.6336,2,-999.0000,9,    215.1,2,     1.60,2,    -0.02,2,     0.02,2,     0.01,2,   -999.0,9,   -999.0,9,-999.0000,9,  -999.00,     1205
  49UF20121210,KS1209,  3714,  1,     24,  21983,2,20121213,1112, 28.9932, 137.0082, 4485,    125.8,  20.1349,  34.8157,2,-999.0000,9,    208.7,2,     2.14,2,     1.00,2,     0.04,2,     0.09,2,   -999.0,9,   -999.0,9,-999.0000,9,  -999.00,     1203
  49UF20121210,KS1209,  3714,  1,     23,  22095,2,20121213,1112, 28.9932, 137.0082, 4485,    151.9,  19.4725,  34.7996,2,-999.0000,9,    204.8,2,     2.51,2,     2.05,2,     0.03,2,     0.15,2,   -999.0,9,   -999.0,9,-999.0000,9,  -999.00,     1202
  49UF20121210,KS1209,  3714,  1,     22,  21981,2,20121213,1112, 28.9932, 137.0082, 4485,    202.3,  18.2553,  34.7587,2,-999.0000,9,    203.5,2,     3.43,2,     3.68,2,     0.01,2,     0.25,2,   -999.0,9,   -999.0,9,-999.0000,9,  -999.00,     1200
  49UF20121210,KS1209,  3714,  1,     21,  21980,2,20121213,1112, 28.9932, 137.0082, 4485,    252.7,  17.5860,  34.7290,2,-999.0000,9,    205.3,2,     4.13,2,     4.40,2,     0.01,2,     0.30,2,   -999.0,9,   -999.0,9,-999.0000,9,  -999.00,     1158
  49UF20121210,KS1209,  3714,  1,     20,  21979,2,20121213,1112, 28.9932, 137.0082, 4485,    303.4,  17.0602,  34.7041,2,-999.0000,9,    206.1,2,     4.91,2,     5.17,2,     0.01,2,     0.35,2,   -999.0,9,   -999.0,9,-999.0000,9,  -999.00,     1156
  49UF20121210,KS1209,  3714,  1,     19,  21978,2,20121213,1112, 28.9932, 137.0082, 4485,    404.9,  15.1245,  34.5745,2,-999.0000,9,    183.2,6,    11.26,6,    10.28,6,     0.01,6,     0.70,6,   -999.0,9,   -999.0,9,-999.0000,9,  -999.00,     1153
  49UF20121210,KS1209,  3714,  1,     15,  21974,2,20121213,1112, 28.9932, 137.0082, 4485,    504.9,  12.6693,  34.4193,2,-999.0000,9,    173.6,2,    20.40,2,    15.02,2,     0.01,2,     1.05,2,   -999.0,9,   -999.0,9,-999.0000,9,  -999.00,     1150
  49UF20121210,KS1209,  3714,  1,     14,  21973,2,20121213,1112, 28.9932, 137.0082, 4485,    603.7,   9.6082,  34.2486,2,-999.0000,9,    153.4,2,    37.93,2,    22.07,2,     0.00,2,     1.57,2,   -999.0,9,   -999.0,9,-999.0000,9,  -999.00,     1147
  49UF20121210,KS1209,  3714,  1,     13,  21972,2,20121213,1112, 28.9932, 137.0082, 4485,    706.0,   7.0567,  34.1700,2,-999.0000,9,    118.9,2,    60.79,2,    29.63,2,     0.01,2,     2.13,2,   -999.0,9,   -999.0,9,-999.0000,9,  -999.00,     1145
  49UF20121210,KS1209,  3714,  1,     12,  21962,2,20121213,1112, 28.9932, 137.0082, 4485,    808.6,   5.4047,  34.1677,2,-999.0000,9,     91.3,2,    83.23,2,    35.01,2,     0.01,2,     2.51,2,   -999.0,9,   -999.0,9,-999.0000,9,  -999.00,     1142
  49UF20121210,KS1209,  3714,  1,     11,  21970,2,20121213,1112, 28.9932, 137.0082, 4485,    907.3,   4.4427,  34.2278,2,-999.0000,9,     66.8,2,   101.59,2,    38.41,2,     0.00,2,     2.75,2,   -999.0,9,   -999.0,9,-999.0000,9,  -999.00,     1139
  49UF20121210,KS1209,  3714,  1,     10,  21969,2,20121213,1112, 28.9932, 137.0082, 4485,    907.3,   4.4427,  34.2278,2,-999.0000,9,     66.6,2,   101.71,2,    38.42,2,     0.00,2,     2.75,2,   -999.0,9,   -999.0,9,-999.0000,9,  -999.00,     1139
  49UF20121210,KS1209,  3714,  1,      6,  21965,2,20121213,1112, 28.9932, 137.0082, 4485,   1008.7,   3.9703,  34.2889,2,-999.0000,9,     55.2,2,   113.18,2,    39.93,2,     0.00,2,     2.86,2,   -999.0,9,   -999.0,9,-999.0000,9,  -999.00,     1136
  49UF20121210,KS1209,  3714,  1,      5,  21964,2,20121213,1112, 28.9932, 137.0082, 4485,   1211.4,   3.2168,  34.3996,2,-999.0000,9,     47.7,6,   132.37,6,    41.58,6,     0.00,6,     2.97,6,   -999.0,9,   -999.0,9,-999.0000,9,  -999.00,     1131
  49UF20121210,KS1209,  3714,  1,      4,  21963,2,20121213,1112, 28.9932, 137.0082, 4485,   1415.2,   2.7463,  34.4820,2,-999.0000,9,     60.9,2,   141.33,2,    41.16,2,     0.00,2,     2.92,2,   -999.0,9,   -999.0,9,-999.0000,9,  -999.00,     1126
  49UF20121210,KS1209,  3714,  1,      3,  22079,2,20121213,1112, 28.9932, 137.0082, 4485,   1618.3,   2.4225,  34.5331,2,-999.0000,9,     73.4,2,   145.62,2,    40.58,2,     0.00,2,     2.87,2,   -999.0,9,   -999.0,9,-999.0000,9,  -999.00,     1121
  49UF20121210,KS1209,  3714,  1,      2,  21961,2,20121213,1112, 28.9932, 137.0082, 4485,   1819.2,   2.1774,  34.5718,2,-999.0000,9,     88.5,2,   147.55,2,    39.71,2,     0.00,2,     2.80,2,   -999.0,9,   -999.0,9,-999.0000,9,  -999.00,     1117
  49UF20121210,KS1209,  3714,  1,      1,  21960,2,20121213,1112, 28.9932, 137.0082, 4485,   2024.2,   1.9790,  34.6032,2,-999.0000,9,    104.2,2,   147.23,2,    38.74,2,     0.00,2,     2.73,2,   -999.0,9,   -999.0,9,-999.0000,9,  -999.00,     1112
  49UF20121210,KS1209,  3715,  1,     99,     99,2,20121213,1757, 27.9920, 136.9918, 4143,      0.0,  22.1431,  34.5991,2,  34.6040,2,    217.2,2,     1.67,2,     0.15,2,     0.00,2,     0.02,2,   1970.1,2,   2270.7,2,   8.0654,3,    25.00,     1833
  49UF20121210,KS1209,  3715,  1,     33,  21992,2,20121213,1757, 27.9920, 136.9918, 4143,     12.5,  22.1475,  34.5988,2,-999.0000,9,    216.2,2,     1.63,2,     0.14,2,     0.00,2,     0.01,2,   1969.7,6,   2270.9,6,   8.0561,2,    25.00,     1900
  49UF20121210,KS1209,  3715,  1,     32,  21991,2,20121213,1757, 27.9920, 136.9918, 4143,     26.6,  22.1581,  34.5988,2,-999.0000,9,    216.6,2,     1.63,2,     0.15,2,     0.00,2,     0.02,2,   1968.0,2,   2271.0,2,   8.0567,6,    25.00,     1858
  49UF20121210,KS1209,  3715,  1,     31,  21990,2,20121213,1757, 27.9920, 136.9918, 4143,     52.2,  22.1593,  34.5995,2,-999.0000,9,    216.2,6,     1.61,6,     0.14,6,     0.00,6,     0.02,6,   1966.4,2,   2270.9,2,   8.0581,2,    25.00,     1854
  49UF20121210,KS1209,  3715,  1,     30,  21989,2,20121213,1757, 27.9920, 136.9918, 4143,     78.1,  22.1613,  34.5996,2,-999.0000,9,    216.0,2,     1.60,2,     0.14,2,     0.00,2,     0.02,2,   1969.1,2,   2271.4,2,   8.0558,2,    25.00,     1853
  49UF20121210,KS1209,  3715,  1,     29,  21988,2,20121213,1757, 27.9920, 136.9918, 4143,     78.1,  22.1613,  34.5996,2,-999.0000,9,    216.5,2,     1.60,2,     0.19,2,     0.00,2,     0.02,2,   1968.4,2,   2271.2,2,   8.0593,2,    25.00,     1853
  49UF20121210,KS1209,  3715,  1,     28,  21987,2,20121213,1757, 27.9920, 136.9918, 4143,    100.7,  22.1633,  34.5992,2,-999.0000,9,    216.2,2,     1.63,2,     0.20,2,     0.00,2,     0.01,2,   1969.3,2,   2269.6,2,   8.0583,2,    25.00,     1852
  49UF20121210,KS1209,  3715,  1,     24,  21983,2,20121213,1757, 27.9920, 136.9918, 4143,    126.3,  20.3789,  34.8072,2,-999.0000,9,    204.8,2,     2.14,2,     1.37,2,     0.05,2,     0.11,2,   2009.1,2,   2283.4,2,   8.0060,2,    25.00,     1851
  49UF20121210,KS1209,  3715,  1,     23,  22095,2,20121213,1757, 27.9920, 136.9918, 4143,    151.2,  19.4988,  34.8103,2,-999.0000,9,    203.7,2,     2.49,2,     2.37,2,     0.02,2,     0.17,2,   2015.9,2,   2284.4,2,   7.9897,2,    25.00,     1849
  49UF20121210,KS1209,  3715,  1,     22,  21981,2,20121213,1757, 27.9920, 136.9918, 4143,    205.6,  18.6171,  34.7795,2,-999.0000,9,    205.0,2,     2.97,2,     3.33,2,     0.01,2,     0.21,2,   2019.8,2,   2284.7,2,   7.9779,2,    25.00,     1847
  49UF20121210,KS1209,  3715,  1,     21,  21980,2,20121213,1757, 27.9920, 136.9918, 4143,    253.6,  17.8841,  34.7383,2,-999.0000,9,    200.6,2,     3.99,2,     4.59,2,     0.01,2,     0.30,2,   2030.8,2,   2282.0,2,   7.9540,2,    25.00,     1845
  49UF20121210,KS1209,  3715,  1,     20,  21979,2,20121213,1757, 27.9920, 136.9918, 4143,    303.1,  17.2366,  34.7085,2,-999.0000,9,    202.1,6,     4.82,6,     5.41,6,     0.01,6,     0.36,6,   2036.0,2,   2278.3,2,   7.9421,2,    25.00,     1843
  49UF20121210,KS1209,  3715,  1,     19,  21978,2,20121213,1757, 27.9920, 136.9918, 4143,    405.2,  15.3017,  34.5851,2,-999.0000,9,    183.0,2,    10.83,2,    10.20,2,     0.00,2,     0.68,2,   2073.7,2,   2279.2,2,   7.8680,2,    25.00,     1840
  49UF20121210,KS1209,  3715,  1,     15,  21974,2,20121213,1757, 27.9920, 136.9918, 4143,    507.1,  12.3758,  34.4039,2,-999.0000,9,    170.3,2,    22.04,2,    16.04,2,     0.00,2,     1.11,2,   2120.0,6,   2278.4,6,   7.7732,2,    25.00,     1837
  49UF20121210,KS1209,  3715,  1,     14,  21973,2,20121213,1757, 27.9920, 136.9918, 4143,    606.4,   9.0253,  34.2189,2,-999.0000,9,    148.4,2,    42.27,2,    23.64,2,     0.00,2,     1.68,2,   2180.1,2,   2288.8,2,   7.6444,2,    25.00,     1834
  49UF20121210,KS1209,  3715,  1,     13,  21972,2,20121213,1757, 27.9920, 136.9918, 4143,    707.5,   6.5312,  34.1314,2,-999.0000,9,    119.0,2,    65.30,2,    30.60,2,     0.00,2,     2.19,2,   2236.9,2,   2302.4,2,   7.5224,2,    25.00,     1831
  49UF20121210,KS1209,  3715,  1,     12,  21962,2,20121213,1757, 27.9920, 136.9918, 4143,    809.8,   5.2587,  34.1507,2,-999.0000,9,     90.7,2,    83.55,2,    35.23,2,     0.00,2,     2.53,2,   2274.5,2,   2317.5,2,   7.4549,3,    25.00,     1828
  49UF20121210,KS1209,  3715,  1,     11,  21970,2,20121213,1757, 27.9920, 136.9918, 4143,    809.8,   5.2587,  34.1507,2,-999.0000,9,     90.6,2,    84.05,2,    35.26,2,     0.00,2,     2.52,2,   2273.4,2,   2316.9,2,   7.4447,2,    25.00,     1828
  49UF20121210,KS1209,  3715,  1,     10,  21969,2,20121213,1757, 27.9920, 136.9918, 4143,    909.8,   4.5034,  34.2223,2,-999.0000,9,     68.3,2,   100.57,2,    38.39,2,     0.00,2,     2.74,2,   2307.3,2,   2335.9,2,   7.4013,2,    25.00,     1825
  49UF20121210,KS1209,  3715,  1,      6,  21965,2,20121213,1757, 27.9920, 136.9918, 4143,   1012.3,   3.8634,  34.3072,2,-999.0000,9,     53.4,6,   116.11,6,    40.26,6,     0.00,6,     2.88,6,   2335.8,2,   2350.1,2,   7.3765,2,    25.00,     1822
  49UF20121210,KS1209,  3715,  1,      5,  21964,2,20121213,1757, 27.9920, 136.9918, 4143,   1213.7,   3.1192,  34.4178,2,-999.0000,9,     48.7,2,   134.46,2,    41.55,2,     0.00,2,     2.96,2,   2358.9,2,   2375.8,2,   7.3731,2,    25.00,     1817
  49UF20121210,KS1209,  3715,  1,      4,  21963,2,20121213,1757, 27.9920, 136.9918, 4143,   1418.1,   2.6750,  34.4934,2,-999.0000,9,     61.2,2,   142.16,2,    41.23,2,     0.00,2,     2.92,2,   2361.8,6,   2390.2,6,   7.3985,2,    25.00,     1812
  49UF20121210,KS1209,  3715,  1,      3,  22079,2,20121213,1757, 27.9920, 136.9918, 4143,   1619.0,   2.3014,  34.5519,2,-999.0000,9,     79.9,2,   146.43,2,    40.26,2,     0.00,2,     2.84,2,   2357.1,2,   2400.1,2,   7.4365,6,    25.00,     1807
  49UF20121210,KS1209,  3715,  1,      2,  21961,2,20121213,1757, 27.9920, 136.9918, 4143,   1823.9,   2.0972,  34.5839,2,-999.0000,9,     94.0,2,   147.13,2,    39.39,2,     0.00,2,     2.78,2,   2353.8,2,   2405.6,2,   7.4655,2,    25.00,     1802
  49UF20121210,KS1209,  3715,  1,      1,  21960,2,20121213,1757, 27.9920, 136.9918, 4143,   2025.8,   1.9350,  34.6096,2,-999.0000,9,    107.7,2,   146.79,2,    38.62,2,     0.00,2,     2.72,2,   2347.0,2,   2407.6,2,   7.4906,2,    25.00,     1757
  49UF20121210,KS1209,  3716,  1,     99,     99,2,20121214,0032, 26.9888, 136.9888, 4435,      0.0,  22.9998,  34.6947,2,  34.7001,2,    214.4,2,     1.44,2,     0.06,2,     0.00,2,     0.01,2,   -999.0,9,   -999.0,9,-999.0000,9,  -999.00,      115
  49UF20121210,KS1209,  3716,  1,     33,  21992,2,20121214,0032, 26.9888, 136.9888, 4435,      9.9,  23.0068,  34.6935,2,  34.6915,2,    213.7,2,     1.42,2,     0.04,2,     0.00,2,     0.01,2,   -999.0,9,   -999.0,9,-999.0000,9,  -999.00,      135
  49UF20121210,KS1209,  3716,  1,     32,  21991,2,20121214,0032, 26.9888, 136.9888, 4435,     26.5,  23.0064,  34.6952,2,-999.0000,9,    213.8,6,     1.43,6,     0.07,6,     0.00,6,     0.01,6,   -999.0,9,   -999.0,9,-999.0000,9,  -999.00,      133
  49UF20121210,KS1209,  3716,  1,     31,  21990,2,20121214,0032, 26.9888, 136.9888, 4435,     50.4,  23.0163,  34.6956,2,-999.0000,9,    213.5,2,     1.41,2,     0.08,2,     0.00,2,     0.01,2,   -999.0,9,   -999.0,9,-999.0000,9,  -999.00,      128
  49UF20121210,KS1209,  3716,  1,     30,  21989,2,20121214,0032, 26.9888, 136.9888, 4435,     50.4,  23.0163,  34.6956,2,-999.0000,9,    213.7,2,     1.44,2,     0.08,2,     0.00,2,     0.00,2,   -999.0,9,   -999.0,9,-999.0000,9,  -999.00,      128
  49UF20121210,KS1209,  3716,  1,     29,  21988,2,20121214,0032, 26.9888, 136.9888, 4435,     75.5,  23.0251,  34.6959,2,-999.0000,9,    213.4,2,     1.40,2,     0.07,2,     0.00,2,     0.01,2,   -999.0,9,   -999.0,9,-999.0000,9,  -999.00,      127
  49UF20121210,KS1209,  3716,  1,     28,  21987,3,20121214,0032, 26.9888, 136.9888, 4435,    100.7,  22.0125,  34.8218,2,  34.8206,6,    209.5,2,     1.68,2,     0.33,2,     0.09,2,     0.03,2,   -999.0,9,   -999.0,9,-999.0000,9,  -999.00,      125
  49UF20121210,KS1209,  3716,  1,     24,  21983,2,20121214,0032, 26.9888, 136.9888, 4435,    127.1,  20.4838,  34.8495,2,-999.0000,9,    205.5,2,     2.07,2,     1.19,2,     0.03,2,     0.09,2,   -999.0,9,   -999.0,9,-999.0000,9,  -999.00,      124
  49UF20121210,KS1209,  3716,  1,     23,  22095,2,20121214,0032, 26.9888, 136.9888, 4435,    152.1,  19.7424,  34.8270,2,-999.0000,9,    205.0,2,     2.33,2,     1.84,2,     0.02,2,     0.13,2,   -999.0,9,   -999.0,9,-999.0000,9,  -999.00,      123
  49UF20121210,KS1209,  3716,  1,     22,  21981,2,20121214,0032, 26.9888, 136.9888, 4435,    201.8,  18.6611,  34.7855,2,  34.7841,2,    203.6,2,     2.86,2,     3.10,2,     0.01,2,     0.21,2,   -999.0,9,   -999.0,9,-999.0000,9,  -999.00,      121
  49UF20121210,KS1209,  3716,  1,     21,  21980,2,20121214,0032, 26.9888, 136.9888, 4435,    252.1,  17.8901,  34.7433,2,-999.0000,9,    203.0,6,     3.70,6,     4.25,6,     0.01,6,     0.28,6,   -999.0,9,   -999.0,9,-999.0000,9,  -999.00,      119
  49UF20121210,KS1209,  3716,  1,     20,  21979,3,20121214,0032, 26.9888, 136.9888, 4435,    303.9,  17.1490,  34.7014,2,-999.0000,9,    203.3,2,     4.59,2,     5.28,2,     0.01,2,     0.35,2,   -999.0,9,   -999.0,9,-999.0000,9,  -999.00,      117
  49UF20121210,KS1209,  3716,  1,     19,  21978,3,20121214,0032, 26.9888, 136.9888, 4435,    404.8,  15.2600,  34.5771,2,  34.5751,2,    187.2,2,     9.92,2,     9.63,2,     0.00,2,     0.66,2,   -999.0,9,   -999.0,9,-999.0000,9,  -999.00,      114
  49UF20121210,KS1209,  3716,  1,     15,  21974,2,20121214,0032, 26.9888, 136.9888, 4435,    506.6,  12.2375,  34.3924,2,-999.0000,9,    173.0,2,    21.56,2,    15.83,2,     0.00,2,     1.11,2,   -999.0,9,   -999.0,9,-999.0000,9,  -999.00,      110
  49UF20121210,KS1209,  3716,  1,     14,  21973,2,20121214,0032, 26.9888, 136.9888, 4435,    606.1,   9.5590,  34.2611,2,  34.2639,4,    148.5,2,    39.11,2,    22.56,2,     0.00,2,     1.61,2,   -999.0,9,   -999.0,9,-999.0000,9,  -999.00,      107
  49UF20121210,KS1209,  3716,  1,     13,  21972,3,20121214,0032, 26.9888, 136.9888, 4435,    708.1,   7.2390,  34.1853,2,-999.0000,9,    121.7,2,    59.58,2,    28.89,2,     0.00,2,     2.08,2,   -999.0,9,   -999.0,9,-999.0000,9,  -999.00,      104
  49UF20121210,KS1209,  3716,  1,     12,  21962,2,20121214,0032, 26.9888, 136.9888, 4435,    708.1,   7.2390,  34.1853,2,-999.0000,9,    121.4,2,    59.54,2,    28.92,2,     0.00,2,     2.09,2,   -999.0,9,   -999.0,9,-999.0000,9,  -999.00,      104
  49UF20121210,KS1209,  3716,  1,     11,  21970,2,20121214,0032, 26.9888, 136.9888, 4435,    806.9,   5.3152,  34.2330,2,  34.2303,2,     83.0,2,    87.65,2,    35.45,2,     0.00,2,     2.56,2,   -999.0,9,   -999.0,9,-999.0000,9,  -999.00,      101
  49UF20121210,KS1209,  3716,  1,     10,  21969,2,20121214,0032, 26.9888, 136.9888, 4435,    909.4,   4.4776,  34.2953,2,-999.0000,9,     67.6,6,   103.98,6,    38.10,6,     0.00,6,     2.75,6,   -999.0,9,   -999.0,9,-999.0000,9,  -999.00,       58
  49UF20121210,KS1209,  3716,  1,      6,  21965,2,20121214,0032, 26.9888, 136.9888, 4435,   1011.0,   3.9026,  34.3501,2,  34.3491,6,     60.5,2,   116.02,2,    39.55,2,     0.00,2,     2.84,2,   -999.0,9,   -999.0,9,-999.0000,9,  -999.00,       55
  49UF20121210,KS1209,  3716,  1,      5,  21964,2,20121214,0032, 26.9888, 136.9888, 4435,   1211.8,   3.0611,  34.4440,2,  34.4417,2,     58.6,2,   133.71,2,    40.76,2,     0.00,2,     2.92,2,   -999.0,9,   -999.0,9,-999.0000,9,  -999.00,       50
  49UF20121210,KS1209,  3716,  1,      4,  21963,2,20121214,0032, 26.9888, 136.9888, 4435,   1414.8,   2.5767,  34.5124,2,  34.5110,2,     69.7,2,   142.37,2,    40.49,2,     0.00,2,     2.88,2,   -999.0,9,   -999.0,9,-999.0000,9,  -999.00,       46
  49UF20121210,KS1209,  3716,  1,      3,  22079,4,20121214,0032, 26.9888, 136.9888, 4435,   1616.7,   2.2829,  34.5559,2,-999.0000,9,     75.9,4,   144.83,4,    40.24,4,     0.00,4,     2.86,4,   -999.0,9,   -999.0,9,-999.0000,9,  -999.00,       41
  49UF20121210,KS1209,  3716,  1,      2,  21961,2,20121214,0032, 26.9888, 136.9888, 4435,   1819.9,   2.0759,  34.5936,2,  34.5930,2,    102.5,2,   144.06,2,    38.58,2,     0.00,2,     2.73,2,   -999.0,9,   -999.0,9,-999.0000,9,  -999.00,       37
  49UF20121210,KS1209,  3716,  1,      1,  21960,2,20121214,0032, 26.9888, 136.9888, 4435,   2024.8,   1.9322,  34.6165,2,  34.6164,2,    114.8,2,   142.78,2,    37.88,2,  -999.00,5,     2.69,2,   -999.0,9,   -999.0,9,-999.0000,9,  -999.00,       32