BOTTLE,20191018PRINUNIVRMK
EXPOCODE,SECT_ID,STNNBR,CASTNO,SAMPNO,BTLNBR,BTLNBR_FLAG_W,DATE,TIME,LATITUDE,LONGITUDE,DEPTH,CTDPRS,CTDTMP,CTDSAL,CTDSAL_FLAG_W,SALNTY,SALNTY_FLAG_W,OXYGEN,OXYGEN_FLAG_W,SILCAT,SILCAT_FLAG_W,NITRAT,NITRAT_FLAG_W,NITRIT,NITRIT_FLAG_W,PHSPHT,PHSPHT_FLAG_W,TCARBN,TCARBN_FLAG_W,ALKALI,ALKALI_FLAG_W,PH_TOT,PH_TOT_FLAG_W,PH_TMP,BTL_TIME
,,,,,,,,,,,METERS,DBAR,ITS-90,PSS-78,,PSS-78,,UMOL/KG,,UMOL/KG,,UMOL/KG,,UMOL/KG,,UMOL/KG,,UMOL/KG,,UMOL/KG,,,,DEG C,
  49UF20121210,KS1209,  3711,  1,     99,     99,2,20121212,1710, 30.9897, 136.9953, 4258,      0.0,  19.9186,  34.7234,2,-999.0000,9,    223.7,2,     1.74,2,     0.00,2,     0.03,2,     0.03,2,   -999.0,9,   -999.0,9,-999.0000,9,  -999.00,     1755
  49UF20121210,KS1209,  3711,  1,     33,  21992,2,20121212,1710, 30.9897, 136.9953, 4258,     11.3,  19.9238,  34.7222,2,-999.0000,9,    223.0,2,     1.71,2,     0.06,2,     0.03,2,     0.03,2,   -999.0,9,   -999.0,9,-999.0000,9,  -999.00,     1814
  49UF20121210,KS1209,  3711,  1,     32,  21991,2,20121212,1710, 30.9897, 136.9953, 4258,     27.0,  19.9333,  34.7221,2,-999.0000,9,    223.2,2,     1.71,2,     0.01,2,     0.03,2,     0.02,2,   -999.0,9,   -999.0,9,-999.0000,9,  -999.00,     1813
  49UF20121210,KS1209,  3711,  1,     31,  21990,2,20121212,1710, 30.9897, 136.9953, 4258,     51.2,  19.9340,  34.7221,2,-999.0000,9,    222.6,2,     1.71,2,     0.01,2,     0.03,2,     0.02,2,   -999.0,9,   -999.0,9,-999.0000,9,  -999.00,     1808
  49UF20121210,KS1209,  3711,  1,     30,  21989,2,20121212,1710, 30.9897, 136.9953, 4258,     75.3,  19.9228,  34.7221,2,-999.0000,9,    222.9,2,     1.71,2,    -0.02,2,     0.03,2,     0.02,2,   -999.0,9,   -999.0,9,-999.0000,9,  -999.00,     1807
  49UF20121210,KS1209,  3711,  1,     29,  21988,2,20121212,1710, 30.9897, 136.9953, 4258,    101.9,  19.8884,  34.7223,2,-999.0000,9,    222.8,2,     1.74,2,     0.08,2,     0.03,2,     0.03,2,   -999.0,9,   -999.0,9,-999.0000,9,  -999.00,     1806
  49UF20121210,KS1209,  3711,  1,     28,  21987,2,20121212,1710, 30.9897, 136.9953, 4258,    127.1,  18.8542,  34.7955,2,-999.0000,9,    211.8,6,     2.41,6,     2.18,6,     0.03,6,     0.15,6,   -999.0,9,   -999.0,9,-999.0000,9,  -999.00,     1804
  49UF20121210,KS1209,  3711,  1,     24,  21983,2,20121212,1710, 30.9897, 136.9953, 4258,    153.8,  18.6119,  34.7925,2,-999.0000,9,    212.9,2,     2.46,2,     2.33,2,     0.01,2,     0.16,2,   -999.0,9,   -999.0,9,-999.0000,9,  -999.00,     1803
  49UF20121210,KS1209,  3711,  1,     23,  22095,2,20121212,1710, 30.9897, 136.9953, 4258,    204.0,  18.4657,  34.7911,2,-999.0000,9,    215.3,2,     2.52,2,     2.37,2,     0.01,2,     0.16,2,   -999.0,9,   -999.0,9,-999.0000,9,  -999.00,     1801
  49UF20121210,KS1209,  3711,  1,     22,  21981,2,20121212,1710, 30.9897, 136.9953, 4258,    204.0,  18.4657,  34.7911,2,-999.0000,9,    215.2,2,     2.47,2,     2.38,2,     0.01,2,     0.16,2,   -999.0,9,   -999.0,9,-999.0000,9,  -999.00,     1801
  49UF20121210,KS1209,  3711,  1,     21,  21980,2,20121212,1710, 30.9897, 136.9953, 4258,    253.1,  18.4067,  34.7899,2,-999.0000,9,    215.9,2,     2.49,2,     2.40,2,     0.01,2,     0.16,2,   -999.0,9,   -999.0,9,-999.0000,9,  -999.00,     1759
  49UF20121210,KS1209,  3711,  1,     20,  21979,2,20121212,1710, 30.9897, 136.9953, 4258,    303.5,  18.3740,  34.7895,2,-999.0000,9,    217.2,2,     2.45,2,     2.31,2,     0.01,2,     0.16,2,   -999.0,9,   -999.0,9,-999.0000,9,  -999.00,     1757
  49UF20121210,KS1209,  3711,  1,     19,  21978,2,20121212,1710, 30.9897, 136.9953, 4258,    405.5,  18.3031,  34.7817,2,-999.0000,9,    216.2,2,     2.58,2,     2.48,2,     0.01,2,     0.17,2,   -999.0,9,   -999.0,9,-999.0000,9,  -999.00,     1754
  49UF20121210,KS1209,  3711,  1,     15,  21974,2,20121212,1710, 30.9897, 136.9953, 4258,    506.5,  17.3888,  34.7164,2,-999.0000,9,    204.0,2,     4.56,2,     4.78,2,     0.01,2,     0.32,2,   -999.0,9,   -999.0,9,-999.0000,9,  -999.00,     1751
  49UF20121210,KS1209,  3711,  1,     14,  21973,2,20121212,1710, 30.9897, 136.9953, 4258,    607.9,  14.9370,  34.5606,2,-999.0000,9,    182.7,6,    11.61,6,    10.37,6,     0.00,6,     0.71,6,   -999.0,9,   -999.0,9,-999.0000,9,  -999.00,     1748
  49UF20121210,KS1209,  3711,  1,     13,  21972,2,20121212,1710, 30.9897, 136.9953, 4258,    707.7,  11.8840,  34.3779,2,-999.0000,9,    166.4,2,    25.31,2,    16.96,2,     0.00,2,     1.20,2,   -999.0,9,   -999.0,9,-999.0000,9,  -999.00,     1745
  49UF20121210,KS1209,  3711,  1,     12,  21962,2,20121212,1710, 30.9897, 136.9953, 4258,    808.0,   9.4182,  34.2649,2,-999.0000,9,    143.5,2,    40.88,2,    23.26,2,     0.00,2,     1.66,2,   -999.0,9,   -999.0,9,-999.0000,9,  -999.00,     1741
  49UF20121210,KS1209,  3711,  1,     11,  21970,2,20121212,1710, 30.9897, 136.9953, 4258,    911.8,   6.6315,  34.1623,2,-999.0000,9,    114.4,2,    65.69,2,    30.60,2,     0.00,2,     2.20,2,   -999.0,9,   -999.0,9,-999.0000,9,  -999.00,     1738
  49UF20121210,KS1209,  3711,  1,     10,  21969,2,20121212,1710, 30.9897, 136.9953, 4258,   1012.8,   5.5119,  34.2505,2,-999.0000,9,     83.7,2,    86.35,2,    35.17,2,     0.00,2,     2.53,2,   -999.0,9,   -999.0,9,-999.0000,9,  -999.00,     1735
  49UF20121210,KS1209,  3711,  1,      6,  21965,2,20121212,1710, 30.9897, 136.9953, 4258,   1215.3,   3.7823,  34.3837,2,-999.0000,9,     62.3,2,   118.49,2,    39.54,2,     0.00,2,     2.84,2,   -999.0,9,   -999.0,9,-999.0000,9,  -999.00,     1730
  49UF20121210,KS1209,  3711,  1,      5,  21964,2,20121212,1710, 30.9897, 136.9953, 4258,   1414.6,   3.0912,  34.4542,2,-999.0000,9,     63.6,2,   133.04,2,    40.30,2,     0.00,2,     2.89,2,   -999.0,9,   -999.0,9,-999.0000,9,  -999.00,     1725
  49UF20121210,KS1209,  3711,  1,      4,  21963,2,20121212,1710, 30.9897, 136.9953, 4258,   1414.6,   3.0912,  34.4542,2,-999.0000,9,     64.0,2,   132.74,2,    40.34,2,     0.00,2,     2.88,2,   -999.0,9,   -999.0,9,-999.0000,9,  -999.00,     1725
  49UF20121210,KS1209,  3711,  1,      3,  22079,2,20121212,1710, 30.9897, 136.9953, 4258,   1621.5,   2.5684,  34.5072,2,-999.0000,9,     62.4,6,   146.08,6,    40.98,6,     0.00,6,     2.93,6,   -999.0,9,   -999.0,9,-999.0000,9,  -999.00,     1720
  49UF20121210,KS1209,  3711,  1,      2,  21961,2,20121212,1710, 30.9897, 136.9953, 4258,   1824.4,   2.2256,  34.5604,2,-999.0000,9,     79.6,2,   150.12,2,    40.18,2,     0.00,2,     2.85,2,   -999.0,9,   -999.0,9,-999.0000,9,  -999.00,     1715
  49UF20121210,KS1209,  3711,  1,      1,  21960,2,20121212,1710, 30.9897, 136.9953, 4258,   2029.7,   2.0403,  34.5908,2,-999.0000,9,     94.0,2,   149.62,2,    39.51,2,     0.00,2,     2.79,2,   -999.0,9,   -999.0,9,-999.0000,9,  -999.00,     1710
  49UF20121210,KS1209,  3713,  1,     99,     99,2,20121213,0238, 29.9823, 136.9872, 4515,      0.0,  20.8222,  34.7036,2,  34.7106,2,    220.2,2,     1.60,2,     0.04,2,     0.04,2,     0.03,2,   1979.6,2,   2278.5,2,   8.0454,2,    25.00,      420
  49UF20121210,KS1209,  3713,  1,     35,  22087,2,20121213,0238, 29.9823, 136.9872, 4515,     11.6,  20.8239,  34.7030,2,  34.7035,2,    219.7,2,     1.58,2,     0.03,2,     0.04,2,     0.03,2,   1978.9,2,   2278.9,2,   8.0467,2,    25.00,      442
  49UF20121210,KS1209,  3713,  1,     34,  22668,2,20121213,0238, 29.9823, 136.9872, 4515,     26.0,  20.8253,  34.7034,2,-999.0000,9,    219.1,2,     1.61,2,     0.03,2,     0.04,2,     0.02,2,   1978.6,2,   2278.5,2,   8.0462,2,    25.00,      441
  49UF20121210,KS1209,  3713,  1,     33,  21992,2,20121213,0238, 29.9823, 136.9872, 4515,     51.5,  20.8286,  34.7032,2,-999.0000,9,    218.9,2,     1.58,2,     0.02,2,     0.04,2,     0.02,2,   1981.1,6,   2279.2,6,   8.0426,2,    25.00,      436
  49UF20121210,KS1209,  3713,  1,     32,  21991,2,20121213,0238, 29.9823, 136.9872, 4515,     76.8,  20.7819,  34.7072,2,-999.0000,9,    217.9,2,     1.63,2,     0.11,2,     0.05,2,     0.03,2,   1981.8,2,   2275.5,2,   8.0402,6,    25.00,      435
  49UF20121210,KS1209,  3713,  1,     31,  21990,2,20121213,0238, 29.9823, 136.9872, 4515,    102.1,  20.6822,  34.7031,2,  34.7041,2,    218.9,6,     1.59,6,     0.06,6,     0.06,6,     0.03,6,   1982.5,2,   2282.9,2,   8.0436,2,    25.00,      434
  49UF20121210,KS1209,  3713,  1,     30,  21989,2,20121213,0238, 29.9823, 136.9872, 4515,    126.7,  20.5697,  34.7014,2,-999.0000,9,    220.0,2,     1.54,2,     0.01,2,     0.04,2,     0.02,2,   1982.4,2,   2281.5,2,   8.0415,2,    25.00,      432
  49UF20121210,KS1209,  3713,  1,     29,  21988,2,20121213,0238, 29.9823, 136.9872, 4515,    152.3,  19.7334,  34.8186,2,-999.0000,9,    203.4,2,     2.33,2,     1.78,2,     0.03,2,     0.14,2,   2014.8,2,   2286.5,2,   7.9932,2,    25.00,      431
  49UF20121210,KS1209,  3713,  1,     28,  21987,2,20121213,0238, 29.9823, 136.9872, 4515,    199.8,  19.0906,  34.8072,2,  34.8069,2,    207.7,2,     2.40,2,     2.26,2,     0.01,2,     0.16,2,   2015.1,2,   2284.5,2,   7.9906,2,    25.00,      429
  49UF20121210,KS1209,  3713,  1,     27,  21986,2,20121213,0238, 29.9823, 136.9872, 4515,    253.1,  18.5463,  34.7812,2,-999.0000,9,    206.7,2,     2.91,2,     2.97,2,     0.01,2,     0.21,2,   2017.8,6,   2277.7,6,   7.9789,2,    25.00,      427
  49UF20121210,KS1209,  3713,  1,     26,  21985,2,20121213,0238, 29.9823, 136.9872, 4515,    304.4,  17.9780,  34.7502,2,-999.0000,9,    204.6,2,     3.63,2,     3.84,2,     0.01,2,     0.27,2,   2026.4,2,   2272.4,2,   7.9621,6,    25.00,      425
  49UF20121210,KS1209,  3713,  1,     24,  21983,2,20121213,0238, 29.9823, 136.9872, 4515,    404.3,  16.9740,  34.6986,2,  34.6978,2,    205.0,2,     5.07,2,     5.36,2,     0.01,2,     0.37,2,   2038.7,2,   2276.1,3,   7.9412,2,    25.00,      422
  49UF20121210,KS1209,  3713,  1,     23,  22095,2,20121213,0238, 29.9823, 136.9872, 4515,    404.3,  16.9740,  34.6986,2,  34.6988,2,    205.1,2,     5.02,2,     5.34,2,     0.01,2,     0.37,2,   2038.5,2,   2272.4,2,   7.9408,2,    25.00,      422
  49UF20121210,KS1209,  3713,  1,     22,  21981,2,20121213,0238, 29.9823, 136.9872, 4515,    505.2,  14.9249,  34.5558,2,-999.0000,9,    184.7,6,    11.14,6,    10.35,6,     0.00,6,     0.71,6,   2076.3,2,   2273.8,2,   7.8568,2,    25.00,      419
  49UF20121210,KS1209,  3713,  1,     21,  21980,2,20121213,0238, 29.9823, 136.9872, 4515,    608.2,  11.9815,  34.3856,2,  34.3899,4,    166.4,2,    24.17,2,    16.64,2,     0.00,2,     1.17,2,   2124.8,2,   2276.1,2,   7.7597,2,    25.00,      416
  49UF20121210,KS1209,  3713,  1,     20,  21979,2,20121213,0238, 29.9823, 136.9872, 4515,    709.9,   8.9652,  34.2443,2,-999.0000,9,    139.6,2,    43.32,2,    24.27,2,     0.00,2,     1.74,2,   2187.6,2,   2289.3,2,   7.6302,2,    25.00,      413
  49UF20121210,KS1209,  3713,  1,     19,  21978,2,20121213,0238, 29.9823, 136.9872, 4515,    808.6,   6.9457,  34.2373,2,  34.2359,2,    107.1,2,    66.67,2,    30.79,2,     0.00,2,     2.21,2,   2241.3,2,   2312.3,2,   7.5293,2,    25.00,      410
  49UF20121210,KS1209,  3713,  1,     18,  21977,2,20121213,0238, 29.9823, 136.9872, 4515,    908.6,   5.4896,  34.2581,2,-999.0000,9,     83.4,2,    86.50,2,    35.20,2,     0.00,2,     2.53,2,   2281.8,2,   2334.9,2,   7.4618,2,    25.00,      407
  49UF20121210,KS1209,  3713,  1,     17,  21976,2,20121213,0238, 29.9823, 136.9872, 4515,   1013.1,   4.2926,  34.3081,2,  34.3078,2,     64.4,2,   107.37,2,    38.69,2,     0.00,2,     2.78,2,   2320.2,2,   2347.8,2,   7.4084,2,    25.00,      403
  49UF20121210,KS1209,  3713,  1,     16,  21975,2,20121213,0238, 29.9823, 136.9872, 4515,   1215.6,   3.3602,  34.4052,2,  34.4030,2,     56.1,2,   127.92,2,    40.66,2,     0.00,2,     2.90,2,   2347.4,2,   2373.2,2,   7.3908,2,    25.00,      358
  49UF20121210,KS1209,  3713,  1,     15,  21974,2,20121213,0238, 29.9823, 136.9872, 4515,   1417.6,   2.7856,  34.4806,2,  34.4816,2,     61.2,6,   140.10,6,    40.94,6,     0.00,6,     2.92,6,   2359.5,2,   2388.7,2,   7.4016,2,    25.00,      353
  49UF20121210,KS1209,  3713,  1,     14,  21973,2,20121213,0238, 29.9823, 136.9872, 4515,   1620.5,   2.4370,  34.5318,2,  34.5308,6,     73.0,2,   145.93,2,    40.56,2,     0.00,2,     2.89,2,   2361.2,2,   2397.2,2,   7.4241,2,    25.00,      347
  49UF20121210,KS1209,  3713,  1,     13,  21972,2,20121213,0238, 29.9823, 136.9872, 4515,   1823.2,   2.1865,  34.5705,2,  34.5703,2,     86.1,2,   147.75,2,    39.81,2,     0.00,2,     2.82,2,   2360.0,2,   2405.1,2,   7.4503,2,    25.00,      342
  49UF20121210,KS1209,  3713,  1,     12,  21962,2,20121213,0238, 29.9823, 136.9872, 4515,   2025.3,   2.0163,  34.5987,2,  34.5990,2,    101.6,2,   146.61,2,    38.92,2,     0.00,2,     2.74,2,   2352.6,2,   2406.9,2,   7.4800,2,    25.00,      337
  49UF20121210,KS1209,  3713,  1,     11,  21970,2,20121213,0238, 29.9823, 136.9872, 4515,   2279.2,   1.8671,  34.6232,2,  34.6242,2,    115.7,2,   145.49,2,    38.09,2,     0.00,2,     2.69,2,   2344.1,6,   2405.9,6,   7.5059,2,    25.00,      331
  49UF20121210,KS1209,  3713,  1,     10,  21969,2,20121213,0238, 29.9823, 136.9872, 4515,   2532.4,   1.7472,  34.6425,2,  34.6468,4,    127.8,2,   143.64,2,    37.38,2,     0.00,2,     2.62,2,   2337.1,2,   2408.7,2,   7.5259,6,    25.00,      325
  49UF20121210,KS1209,  3713,  1,      9,  21968,2,20121213,0238, 29.9823, 136.9872, 4515,   2785.2,   1.6521,  34.6560,2,  34.6565,2,    135.9,2,   143.10,2,    36.87,2,     0.00,2,     2.58,2,   2332.0,2,   2411.6,2,   7.5435,2,    25.00,      319
  49UF20121210,KS1209,  3713,  1,      8,  21967,3,20121213,0238, 29.9823, 136.9872, 4515,   3042.0,   1.5808,  34.6665,2,  34.6655,6,    143.0,2,   141.75,2,    36.39,2,     0.00,2,     2.54,2,   2328.2,2,   2410.7,2,   7.5538,2,    25.00,      314
  49UF20121210,KS1209,  3713,  1,      7,  21966,2,20121213,0238, 29.9823, 136.9872, 4515,   3298.0,   1.5262,  34.6750,2,  34.6755,2,    148.4,2,   141.78,2,    36.05,2,     0.00,2,     2.51,2,   2325.2,2,   2416.1,3,   7.5633,2,    25.00,      308
  49UF20121210,KS1209,  3713,  1,      6,  21965,2,20121213,0238, 29.9823, 136.9872, 4515,   3554.5,   1.5251,  34.6779,2,  34.6778,2,    151.1,2,   141.50,2,    35.92,2,     0.00,2,     2.50,2,   2328.1,2,   2411.5,2,   7.5695,2,    25.00,      301
  49UF20121210,KS1209,  3713,  1,      5,  21964,2,20121213,0238, 29.9823, 136.9872, 4515,   3554.5,   1.5251,  34.6779,2,  34.6775,2,    150.9,2,   141.46,2,    35.98,2,     0.00,2,     2.50,2,   2328.6,2,   2413.3,2,   7.5687,2,    25.00,      301
  49UF20121210,KS1209,  3713,  1,      4,  21963,2,20121213,0238, 29.9823, 136.9872, 4515,   3808.1,   1.5350,  34.6800,2,  34.6793,2,    152.4,2,   141.35,2,    35.80,2,     0.00,2,     2.49,2,   2327.2,6,   2414.3,6,   7.5700,2,    25.00,      255
  49UF20121210,KS1209,  3713,  1,      3,  22079,2,20121213,0238, 29.9823, 136.9872, 4515,   4066.1,   1.5499,  34.6815,2,  34.6831,4,    153.6,2,   141.07,2,    35.77,2,     0.00,2,     2.49,2,   2325.5,2,   2414.0,2,   7.5733,6,    25.00,      250
  49UF20121210,KS1209,  3713,  1,      2,  21961,3,20121213,0238, 29.9823, 136.9872, 4515,   4322.5,   1.5681,  34.6829,2,  34.6832,2,    154.6,2,   140.76,2,    35.74,2,     0.00,2,     2.49,2,   2324.0,2,   2410.8,2,   7.5729,2,    25.00,      244
  49UF20121210,KS1209,  3713,  1,      1,  21960,2,20121213,0238, 29.9823, 136.9872, 4515,   4592.3,   1.5972,  34.6831,2,  34.6829,6,    155.0,6,   140.70,6,    35.67,2,     0.00,6,     2.48,2,   2325.0,2,   2409.4,2,   7.5746,2,    25.00,      238