BOTTLE,20191017PRINUNIVRMK
EXPOCODE,SECT_ID,STNNBR,CASTNO,SAMPNO,BTLNBR,BTLNBR_FLAG_W,DATE,TIME,LATITUDE,LONGITUDE,DEPTH,CTDPRS,CTDTMP,CTDSAL,CTDSAL_FLAG_W,SALNTY,SALNTY_FLAG_W,OXYGEN,OXYGEN_FLAG_W,SILCAT,SILCAT_FLAG_W,NITRAT,NITRAT_FLAG_W,NITRIT,NITRIT_FLAG_W,PHSPHT,PHSPHT_FLAG_W,TCARBN,TCARBN_FLAG_W,ALKALI,ALKALI_FLAG_W,PH_TOT,PH_TOT_FLAG_W,PH_TMP,BTL_TIME
,,,,,,,,,,,METERS,DBAR,ITS-90,PSS-78,,PSS-78,,UMOL/KG,,UMOL/KG,,UMOL/KG,,UMOL/KG,,UMOL/KG,,UMOL/KG,,UMOL/KG,,,,DEG C,
  49UF20120602,KS1205,  3471,  1,     99,     99,2,20120605,0821, 42.6620, 145.7090, 2341,      0.0,   7.6313,  32.8821,2,-999.0000,9,    321.6,2,     3.67,2,     9.16,2,     0.14,2,     1.01,2,   -999.0,9,   -999.0,9,-999.0000,9,  -999.00,      900
  49UF20120602,KS1205,  3471,  1,     33,  21992,2,20120605,0821, 42.6620, 145.7090, 2341,     12.1,   7.6143,  32.8815,2,  32.8861,2,    323.4,2,     4.00,2,     9.19,2,     0.14,2,     1.02,2,   -999.0,9,   -999.0,9,-999.0000,9,  -999.00,      922
  49UF20120602,KS1205,  3471,  1,     32,  21991,2,20120605,0821, 42.6620, 145.7090, 2341,     26.1,   4.3963,  32.9365,2,-999.0000,9,    352.7,2,     6.13,2,    11.89,2,     0.19,2,     1.20,2,   -999.0,9,   -999.0,9,-999.0000,9,  -999.00,      920
  49UF20120602,KS1205,  3471,  1,     31,  21990,2,20120605,0821, 42.6620, 145.7090, 2341,     52.3,   2.4168,  33.0293,2,-999.0000,9,    334.9,2,    27.46,2,    18.79,2,     0.24,2,     1.74,2,   -999.0,9,   -999.0,9,-999.0000,9,  -999.00,      916
  49UF20120602,KS1205,  3471,  1,     30,  21989,3,20120605,0821, 42.6620, 145.7090, 2341,     76.9,   2.5675,  33.2646,2,-999.0000,9,    315.2,2,    31.89,2,    19.06,2,     0.27,2,     1.61,2,   -999.0,9,   -999.0,9,-999.0000,9,  -999.00,      914
  49UF20120602,KS1205,  3471,  1,     29,  21988,3,20120605,0821, 42.6620, 145.7090, 2341,    101.3,   2.3715,  33.2805,2,  33.2795,2,    227.2,4,    36.15,2,    20.89,2,     0.24,2,     1.70,2,   -999.0,9,   -999.0,9,-999.0000,9,  -999.00,      913
  49UF20120602,KS1205,  3471,  1,     28,  21987,2,20120605,0821, 42.6620, 145.7090, 2341,    101.3,   2.3715,  33.2805,2,  33.2833,2,    308.2,2,    36.18,2,    20.94,2,     0.23,2,     1.70,2,   -999.0,9,   -999.0,9,-999.0000,9,  -999.00,      913
  49UF20120602,KS1205,  3471,  1,     24,  21983,2,20120605,0821, 42.6620, 145.7090, 2341,    127.4,   3.5726,  33.4618,2,-999.0000,9,    287.2,2,    34.44,2,    19.20,2,     0.01,2,     1.52,2,   -999.0,9,   -999.0,9,-999.0000,9,  -999.00,      911
  49UF20120602,KS1205,  3471,  1,     23,  21982,3,20120605,0821, 42.6620, 145.7090, 2341,    152.5,   2.3784,  33.3734,2,-999.0000,9,    273.0,2,    46.33,2,    24.18,2,     0.01,2,     1.89,2,   -999.0,9,   -999.0,9,-999.0000,9,  -999.00,      910
  49UF20120602,KS1205,  3471,  1,     22,  21981,3,20120605,0821, 42.6620, 145.7090, 2341,    203.9,   2.5724,  33.5339,2,  33.5313,2,    186.8,2,    69.17,2,    32.51,2,     0.01,2,     2.44,2,   -999.0,9,   -999.0,9,-999.0000,9,  -999.00,      908
  49UF20120602,KS1205,  3471,  1,     21,  21980,2,20120605,0821, 42.6620, 145.7090, 2341,    254.7,   2.8163,  33.6518,2,-999.0000,9,    149.1,2,    78.37,2,    34.97,2,     0.02,2,     2.61,2,   -999.0,9,   -999.0,9,-999.0000,9,  -999.00,      906
  49UF20120602,KS1205,  3471,  1,     20,  21979,3,20120605,0821, 42.6620, 145.7090, 2341,    303.9,   3.0321,  33.7583,2,-999.0000,9,    105.0,2,    89.54,2,    38.79,2,     0.01,2,     2.84,2,   -999.0,9,   -999.0,9,-999.0000,9,  -999.00,      904
  49UF20120602,KS1205,  3471,  1,     19,  21978,3,20120605,0821, 42.6620, 145.7090, 2341,    405.4,   3.0884,  33.9145,2,  33.9132,2,     61.6,6,   104.89,6,    41.64,6,     0.00,6,     3.03,6,   -999.0,9,   -999.0,9,-999.0000,9,  -999.00,      902
  49UF20120602,KS1205,  3471,  1,     15,  21974,2,20120605,0821, 42.6620, 145.7090, 2341,    507.1,   3.3423,  34.1082,2,-999.0000,9,     36.0,2,   118.46,2,    42.76,2,     0.00,2,     3.08,2,   -999.0,9,   -999.0,9,-999.0000,9,  -999.00,      858
  49UF20120602,KS1205,  3471,  1,     14,  21973,2,20120605,0821, 42.6620, 145.7090, 2341,    607.3,   3.1663,  34.1781,2,  34.1773,6,     30.5,2,   127.29,2,    43.10,2,     0.00,2,     3.10,2,   -999.0,9,   -999.0,9,-999.0000,9,  -999.00,      855
  49UF20120602,KS1205,  3471,  1,     13,  21972,2,20120605,0821, 42.6620, 145.7090, 2341,    707.1,   3.0092,  34.2417,2,-999.0000,9,     32.3,2,   134.04,2,    42.76,2,     0.00,2,     3.09,2,   -999.0,9,   -999.0,9,-999.0000,9,  -999.00,      853
  49UF20120602,KS1205,  3471,  1,     12,  21971,2,20120605,0821, 42.6620, 145.7090, 2341,    809.8,   2.8535,  34.3095,2,-999.0000,9,     31.5,2,   141.70,2,    42.94,2,     0.00,2,     3.10,2,   -999.0,9,   -999.0,9,-999.0000,9,  -999.00,      850
  49UF20120602,KS1205,  3471,  1,     11,  21970,3,20120605,0821, 42.6620, 145.7090, 2341,    911.9,   2.7756,  34.3580,2,  34.3573,2,     32.2,2,   145.75,2,    42.89,2,     0.00,2,     3.10,2,   -999.0,9,   -999.0,9,-999.0000,9,  -999.00,      847
  49UF20120602,KS1205,  3471,  1,     10,  21969,3,20120605,0821, 42.6620, 145.7090, 2341,    911.9,   2.7756,  34.3580,2,  34.3573,2,     32.3,2,   145.86,2,    42.92,2,     0.00,2,     3.10,2,   -999.0,9,   -999.0,9,-999.0000,9,  -999.00,      847
  49UF20120602,KS1205,  3471,  1,      6,  21965,2,20120605,0821, 42.6620, 145.7090, 2341,   1011.0,   2.6446,  34.3973,2,  34.3994,2,     35.0,2,   150.04,2,    42.89,2,     0.00,2,     3.09,2,   -999.0,9,   -999.0,9,-999.0000,9,  -999.00,      844
  49UF20120602,KS1205,  3471,  1,      5,  21964,2,20120605,0821, 42.6620, 145.7090, 2341,   1214.5,   2.4304,  34.4573,2,  34.4568,2,     41.7,4,   156.57,2,    42.54,2,     0.00,2,     3.06,2,   -999.0,9,   -999.0,9,-999.0000,9,  -999.00,      839
  49UF20120602,KS1205,  3471,  1,      4,  21963,2,20120605,0821, 42.6620, 145.7090, 2341,   1418.4,   2.2658,  34.4940,2,  34.4943,2,     46.2,2,   161.44,2,    42.27,2,     0.00,2,     3.04,2,   -999.0,9,   -999.0,9,-999.0000,9,  -999.00,      835
  49UF20120602,KS1205,  3471,  1,      3,  21962,2,20120605,0821, 42.6620, 145.7090, 2341,   1621.3,   2.1330,  34.5363,2,  34.5378,6,     55.2,2,   163.50,2,    41.86,2,     0.00,2,     2.99,2,   -999.0,9,   -999.0,9,-999.0000,9,  -999.00,      830
  49UF20120602,KS1205,  3471,  1,      2,  21961,2,20120605,0821, 42.6620, 145.7090, 2341,   1824.2,   1.9840,  34.5737,2,  34.5750,2,     67.9,2,   164.35,2,    41.09,2,     0.00,2,     2.94,2,   -999.0,9,   -999.0,9,-999.0000,9,  -999.00,      826
  49UF20120602,KS1205,  3471,  1,      1,  21960,3,20120605,0821, 42.6620, 145.7090, 2341,   2027.8,   1.8648,  34.6021,2,  34.6028,2,     81.5,6,   163.85,6,    40.35,6,     0.00,6,     2.87,6,   -999.0,9,   -999.0,9,-999.0000,9,  -999.00,      821
  49UF20120602,KS1205,  3474,  1,     99,     99,2,20120605,1838, 42.0113, 146.2018, 5757,      0.0,   7.8390,  32.9229,2,-999.0000,9,    316.3,2,  -999.00,9,  -999.00,9,  -999.00,9,  -999.00,9,   -999.0,9,   -999.0,9,-999.0000,9,  -999.00,     1920
  49UF20120602,KS1205,  3474,  1,     33,  21992,2,20120605,1838, 42.0113, 146.2018, 5757,     11.7,   7.8143,  32.9214,2,  32.9239,2,    320.9,2,  -999.00,9,  -999.00,9,  -999.00,9,  -999.00,9,   -999.0,9,   -999.0,9,-999.0000,9,  -999.00,     1939
  49UF20120602,KS1205,  3474,  1,     32,  21991,2,20120605,1838, 42.0113, 146.2018, 5757,     26.4,   4.5221,  32.9803,2,-999.0000,9,    341.8,2,  -999.00,9,  -999.00,9,  -999.00,9,  -999.00,9,   -999.0,9,   -999.0,9,-999.0000,9,  -999.00,     1937
  49UF20120602,KS1205,  3474,  1,     31,  21990,2,20120605,1838, 42.0113, 146.2018, 5757,     26.4,   4.5221,  32.9803,2,-999.0000,9,    341.8,2,  -999.00,9,  -999.00,9,  -999.00,9,  -999.00,9,   -999.0,9,   -999.0,9,-999.0000,9,  -999.00,     1937
  49UF20120602,KS1205,  3474,  1,     30,  21989,2,20120605,1838, 42.0113, 146.2018, 5757,     50.5,   1.9292,  33.0583,2,-999.0000,9,    336.0,2,  -999.00,9,  -999.00,9,  -999.00,9,  -999.00,9,   -999.0,9,   -999.0,9,-999.0000,9,  -999.00,     1932
  49UF20120602,KS1205,  3474,  1,     29,  21988,2,20120605,1838, 42.0113, 146.2018, 5757,     76.6,   1.5427,  33.1567,2,-999.0000,9,    328.2,2,  -999.00,9,  -999.00,9,  -999.00,9,  -999.00,9,   -999.0,9,   -999.0,9,-999.0000,9,  -999.00,     1931
  49UF20120602,KS1205,  3474,  1,     28,  21987,2,20120605,1838, 42.0113, 146.2018, 5757,    102.5,   1.5734,  33.2078,2,  33.2095,2,    311.6,2,  -999.00,9,  -999.00,9,  -999.00,9,  -999.00,9,   -999.0,9,   -999.0,9,-999.0000,9,  -999.00,     1930
  49UF20120602,KS1205,  3474,  1,     24,  21983,2,20120605,1838, 42.0113, 146.2018, 5757,    127.7,   1.7825,  33.3204,2,-999.0000,9,    256.6,2,  -999.00,9,  -999.00,9,  -999.00,9,  -999.00,9,   -999.0,9,   -999.0,9,-999.0000,9,  -999.00,     1928
  49UF20120602,KS1205,  3474,  1,     23,  21982,2,20120605,1838, 42.0113, 146.2018, 5757,    152.8,   2.0055,  33.4131,2,-999.0000,9,    213.4,2,  -999.00,9,  -999.00,9,  -999.00,9,  -999.00,9,   -999.0,9,   -999.0,9,-999.0000,9,  -999.00,     1926
  49UF20120602,KS1205,  3474,  1,     22,  21981,2,20120605,1838, 42.0113, 146.2018, 5757,    203.1,   2.3609,  33.5699,2,  33.5685,2,    155.6,6,  -999.00,9,  -999.00,9,  -999.00,9,  -999.00,9,   -999.0,9,   -999.0,9,-999.0000,9,  -999.00,     1925
  49UF20120602,KS1205,  3474,  1,     21,  21980,2,20120605,1838, 42.0113, 146.2018, 5757,    253.9,   2.6859,  33.6915,2,-999.0000,9,    118.2,2,  -999.00,9,  -999.00,9,  -999.00,9,  -999.00,9,   -999.0,9,   -999.0,9,-999.0000,9,  -999.00,     1923
  49UF20120602,KS1205,  3474,  1,     20,  21979,2,20120605,1838, 42.0113, 146.2018, 5757,    305.1,   2.8625,  33.7921,2,-999.0000,9,     93.1,2,  -999.00,9,  -999.00,9,  -999.00,9,  -999.00,9,   -999.0,9,   -999.0,9,-999.0000,9,  -999.00,     1921
  49UF20120602,KS1205,  3474,  1,     19,  21978,2,20120605,1838, 42.0113, 146.2018, 5757,    405.7,   3.1152,  33.9329,2,  33.9320,6,     62.5,2,  -999.00,9,  -999.00,9,  -999.00,9,  -999.00,9,   -999.0,9,   -999.0,9,-999.0000,9,  -999.00,     1918
  49UF20120602,KS1205,  3474,  1,     15,  21974,2,20120605,1838, 42.0113, 146.2018, 5757,    506.5,   3.1456,  34.1465,2,-999.0000,9,     31.1,2,  -999.00,9,  -999.00,9,  -999.00,9,  -999.00,9,   -999.0,9,   -999.0,9,-999.0000,9,  -999.00,     1915
  49UF20120602,KS1205,  3474,  1,     14,  21973,2,20120605,1838, 42.0113, 146.2018, 5757,    607.1,   3.0460,  34.2237,2,  34.2230,2,     32.7,2,  -999.00,9,  -999.00,9,  -999.00,9,  -999.00,9,   -999.0,9,   -999.0,9,-999.0000,9,  -999.00,     1912
  49UF20120602,KS1205,  3474,  1,     13,  21972,2,20120605,1838, 42.0113, 146.2018, 5757,    607.1,   3.0460,  34.2237,2,  34.2230,2,     33.0,2,  -999.00,9,  -999.00,9,  -999.00,9,  -999.00,9,   -999.0,9,   -999.0,9,-999.0000,9,  -999.00,     1912
  49UF20120602,KS1205,  3474,  1,     12,  21971,2,20120605,1838, 42.0113, 146.2018, 5757,    708.5,   2.8475,  34.2745,2,-999.0000,9,     33.4,2,  -999.00,9,  -999.00,9,  -999.00,9,  -999.00,9,   -999.0,9,   -999.0,9,-999.0000,9,  -999.00,     1909
  49UF20120602,KS1205,  3474,  1,     11,  21970,2,20120605,1838, 42.0113, 146.2018, 5757,    810.5,   3.0121,  34.3513,2,  34.3513,2,     36.6,2,  -999.00,9,  -999.00,9,  -999.00,9,  -999.00,9,   -999.0,9,   -999.0,9,-999.0000,9,  -999.00,     1906
  49UF20120602,KS1205,  3474,  1,     10,  21969,3,20120605,1838, 42.0113, 146.2018, 5757,    910.5,   2.8504,  34.3879,2,-999.0000,9,     37.4,2,  -999.00,9,  -999.00,9,  -999.00,9,  -999.00,9,   -999.0,9,   -999.0,9,-999.0000,9,  -999.00,     1903
  49UF20120602,KS1205,  3474,  1,      6,  21965,2,20120605,1838, 42.0113, 146.2018, 5757,   1011.1,   2.6959,  34.4242,2,  34.4270,2,     37.4,2,  -999.00,9,  -999.00,9,  -999.00,9,  -999.00,9,   -999.0,9,   -999.0,9,-999.0000,9,  -999.00,     1901
  49UF20120602,KS1205,  3474,  1,      5,  21964,2,20120605,1838, 42.0113, 146.2018, 5757,   1212.5,   2.4450,  34.4789,2,  34.4809,4,     42.0,2,  -999.00,9,  -999.00,9,  -999.00,9,  -999.00,9,   -999.0,9,   -999.0,9,-999.0000,9,  -999.00,     1856
  49UF20120602,KS1205,  3474,  1,      4,  21963,2,20120605,1838, 42.0113, 146.2018, 5757,   1416.3,   2.2464,  34.5226,2,  34.5231,6,     50.2,6,  -999.00,9,  -999.00,9,  -999.00,9,  -999.00,9,   -999.0,9,   -999.0,9,-999.0000,9,  -999.00,     1852
  49UF20120602,KS1205,  3474,  1,      3,  21962,2,20120605,1838, 42.0113, 146.2018, 5757,   1618.8,   2.1137,  34.5597,2,  34.5612,2,     60.1,2,  -999.00,9,  -999.00,9,  -999.00,9,  -999.00,9,   -999.0,9,   -999.0,9,-999.0000,9,  -999.00,     1847
  49UF20120602,KS1205,  3474,  1,      2,  21961,2,20120605,1838, 42.0113, 146.2018, 5757,   1821.4,   1.9723,  34.5867,2,  34.5900,4,     72.1,2,  -999.00,9,  -999.00,9,  -999.00,9,  -999.00,9,   -999.0,9,   -999.0,9,-999.0000,9,  -999.00,     1843
  49UF20120602,KS1205,  3474,  1,      1,  21960,2,20120605,1838, 42.0113, 146.2018, 5757,   2025.2,   1.8326,  34.6120,2,  34.6145,4,     87.5,2,  -999.00,9,  -999.00,9,  -999.00,9,  -999.00,9,   -999.0,9,   -999.0,9,-999.0000,9,  -999.00,     1838
  49UF20120602,KS1205,  3476,  1,     99,     99,2,20120608,1343, 40.6570, 147.1388, 5551,      0.0,  10.9817,  33.6483,2,-999.0000,9,    284.7,2,     6.89,2,     3.87,2,     0.17,2,     0.46,2,   -999.0,9,   -999.0,9,-999.0000,9,  -999.00,     1430
  49UF20120602,KS1205,  3476,  1,     33,  21992,2,20120608,1343, 40.6570, 147.1388, 5551,     12.0,  10.8254,  33.6384,2,  33.6401,2,    287.8,2,     5.41,2,     3.17,2,     0.16,2,     0.40,2,   -999.0,9,   -999.0,9,-999.0000,9,  -999.00,     1447
  49UF20120602,KS1205,  3476,  1,     32,  21991,2,20120608,1343, 40.6570, 147.1388, 5551,     25.3,  10.5357,  33.6555,2,-999.0000,9,    287.8,2,     6.78,2,     3.73,2,     0.17,2,     0.45,2,   -999.0,9,   -999.0,9,-999.0000,9,  -999.00,     1446
  49UF20120602,KS1205,  3476,  1,     31,  21990,2,20120608,1343, 40.6570, 147.1388, 5551,     50.8,   9.6255,  33.6854,2,-999.0000,9,    282.7,2,    11.71,2,     7.54,2,     0.33,2,     0.70,2,   -999.0,9,   -999.0,9,-999.0000,9,  -999.00,     1442
  49UF20120602,KS1205,  3476,  1,     30,  21989,2,20120608,1343, 40.6570, 147.1388, 5551,     50.8,   9.6255,  33.6854,2,-999.0000,9,    283.6,2,    11.24,2,     7.22,2,     0.32,2,     0.67,2,   -999.0,9,   -999.0,9,-999.0000,9,  -999.00,     1442
  49UF20120602,KS1205,  3476,  1,     29,  21988,2,20120608,1343, 40.6570, 147.1388, 5551,     74.6,   7.9598,  33.9115,2,-999.0000,9,    272.1,2,    15.93,2,    11.17,2,     0.05,2,     0.84,2,   -999.0,9,   -999.0,9,-999.0000,9,  -999.00,     1441
  49UF20120602,KS1205,  3476,  1,     28,  21987,2,20120608,1343, 40.6570, 147.1388, 5551,    100.2,   6.3007,  33.6975,2,  33.6989,2,    279.1,2,    19.88,2,    13.44,2,     0.03,2,     1.06,2,   -999.0,9,   -999.0,9,-999.0000,9,  -999.00,     1439
  49UF20120602,KS1205,  3476,  1,     24,  21983,2,20120608,1343, 40.6570, 147.1388, 5551,    125.5,   5.6169,  33.6315,2,-999.0000,9,    283.2,2,    22.88,2,    14.79,2,     0.03,2,     1.17,2,   -999.0,9,   -999.0,9,-999.0000,9,  -999.00,     1438
  49UF20120602,KS1205,  3476,  1,     23,  21982,2,20120608,1343, 40.6570, 147.1388, 5551,    149.1,   5.1167,  33.5732,2,-999.0000,9,    285.4,2,    24.76,2,    15.58,2,     0.02,2,     1.23,2,   -999.0,9,   -999.0,9,-999.0000,9,  -999.00,     1437
  49UF20120602,KS1205,  3476,  1,     22,  21981,2,20120608,1343, 40.6570, 147.1388, 5551,    201.7,   4.5541,  33.5679,2,  33.5665,6,    271.4,2,    33.93,2,    19.09,2,     0.02,2,     1.49,2,   -999.0,9,   -999.0,9,-999.0000,9,  -999.00,     1435
  49UF20120602,KS1205,  3476,  1,     21,  21980,2,20120608,1343, 40.6570, 147.1388, 5551,    252.9,   4.2362,  33.5812,2,-999.0000,9,    251.3,2,    41.87,6,    22.50,6,     0.02,6,     1.74,6,   -999.0,9,   -999.0,9,-999.0000,9,  -999.00,     1433
  49UF20120602,KS1205,  3476,  1,     20,  21979,2,20120608,1343, 40.6570, 147.1388, 5551,    303.5,   3.4486,  33.5755,2,-999.0000,9,    211.8,2,    56.37,2,    27.86,2,     0.02,2,     2.12,2,   -999.0,9,   -999.0,9,-999.0000,9,  -999.00,     1432
  49UF20120602,KS1205,  3476,  1,     19,  21978,3,20120608,1343, 40.6570, 147.1388, 5551,    403.7,   3.5073,  33.7448,2,  33.7498,2,    142.4,2,    76.39,2,    34.48,2,     0.01,2,     2.55,2,   -999.0,9,   -999.0,9,-999.0000,9,  -999.00,     1428
  49UF20120602,KS1205,  3476,  1,     15,  21974,2,20120608,1343, 40.6570, 147.1388, 5551,    504.7,   3.5599,  33.9138,2,-999.0000,9,     90.7,2,    92.62,2,    38.56,2,     0.01,2,     2.81,2,   -999.0,9,   -999.0,9,-999.0000,9,  -999.00,     1425
  49UF20120602,KS1205,  3476,  1,     14,  21973,2,20120608,1343, 40.6570, 147.1388, 5551,    608.0,   3.4640,  34.0425,2,-999.0000,9,     54.7,2,   109.10,2,    41.38,2,     0.00,2,     3.00,2,   -999.0,9,   -999.0,9,-999.0000,9,  -999.00,     1422
  49UF20120602,KS1205,  3476,  1,     13,  21972,2,20120608,1343, 40.6570, 147.1388, 5551,    708.6,   3.2205,  34.1302,2,  34.1300,2,     42.5,2,   120.96,2,    42.33,2,     0.00,2,     3.05,2,   -999.0,9,   -999.0,9,-999.0000,9,  -999.00,     1419
  49UF20120602,KS1205,  3476,  1,     12,  21971,2,20120608,1343, 40.6570, 147.1388, 5551,    708.6,   3.2205,  34.1302,2,  34.1301,2,     42.5,2,   120.68,2,    42.32,2,     0.00,2,     3.05,2,   -999.0,9,   -999.0,9,-999.0000,9,  -999.00,     1419
  49UF20120602,KS1205,  3476,  1,     11,  21970,2,20120608,1343, 40.6570, 147.1388, 5551,    807.5,   3.2301,  34.2237,2,  34.2239,2,     35.2,2,   128.89,2,    42.73,2,     0.00,2,     3.08,2,   -999.0,9,   -999.0,9,-999.0000,9,  -999.00,     1416
  49UF20120602,KS1205,  3476,  1,     10,  21969,2,20120608,1343, 40.6570, 147.1388, 5551,    910.6,   3.2847,  34.3207,2,-999.0000,9,     39.6,2,   130.90,2,    42.04,2,     0.00,2,     3.04,2,   -999.0,9,   -999.0,9,-999.0000,9,  -999.00,     1413
  49UF20120602,KS1205,  3476,  1,      6,  21965,2,20120608,1343, 40.6570, 147.1388, 5551,   1011.4,   3.0221,  34.3548,2,  34.3551,2,     37.3,2,   138.38,2,    42.55,2,     0.00,2,     3.06,2,   -999.0,9,   -999.0,9,-999.0000,9,  -999.00,     1409
  49UF20120602,KS1205,  3476,  1,      5,  21964,2,20120608,1343, 40.6570, 147.1388, 5551,   1214.5,   2.6861,  34.4318,2,  34.4319,6,     38.5,2,   149.68,2,    42.79,2,     0.00,2,     3.07,2,   -999.0,9,   -999.0,9,-999.0000,9,  -999.00,     1404
  49UF20120602,KS1205,  3476,  1,      4,  21963,2,20120608,1343, 40.6570, 147.1388, 5551,   1416.3,   2.4758,  34.4893,2,  34.4892,2,     43.3,2,   154.80,2,    42.80,2,     0.00,2,     3.06,2,   -999.0,9,   -999.0,9,-999.0000,9,  -999.00,     1359
  49UF20120602,KS1205,  3476,  1,      3,  21962,2,20120608,1343, 40.6570, 147.1388, 5551,   1621.8,   2.2803,  34.5320,2,  34.5324,2,     52.4,6,   158.55,6,    42.35,6,     0.00,6,     3.02,6,   -999.0,9,   -999.0,9,-999.0000,9,  -999.00,     1353
  49UF20120602,KS1205,  3476,  1,      2,  21961,2,20120608,1343, 40.6570, 147.1388, 5551,   1823.3,   2.1204,  34.5626,2,  34.5623,2,     61.7,2,   161.52,2,    41.91,2,     0.00,2,     2.98,2,   -999.0,9,   -999.0,9,-999.0000,9,  -999.00,     1348
  49UF20120602,KS1205,  3476,  1,      1,  21960,2,20120608,1343, 40.6570, 147.1388, 5551,   2025.5,   1.9670,  34.5902,2,  34.5908,2,     74.1,2,   162.79,2,    41.21,2,     0.00,2,     2.91,2,   -999.0,9,   -999.0,9,-999.0000,9,  -999.00,     1343