BOTTLE,20191017PRINUNIVRMK
EXPOCODE,SECT_ID,STNNBR,CASTNO,SAMPNO,BTLNBR,BTLNBR_FLAG_W,DATE,TIME,LATITUDE,LONGITUDE,DEPTH,CTDPRS,CTDTMP,CTDSAL,CTDSAL_FLAG_W,SALNTY,SALNTY_FLAG_W,OXYGEN,OXYGEN_FLAG_W,SILCAT,SILCAT_FLAG_W,NITRAT,NITRAT_FLAG_W,NITRIT,NITRIT_FLAG_W,PHSPHT,PHSPHT_FLAG_W,TCARBN,TCARBN_FLAG_W,ALKALI,ALKALI_FLAG_W,PH_TOT,PH_TOT_FLAG_W,PH_TMP,BTL_TIME
,,,,,,,,,,,METERS,DBAR,ITS-90,PSS-78,,PSS-78,,UMOL/KG,,UMOL/KG,,UMOL/KG,,UMOL/KG,,UMOL/KG,,UMOL/KG,,UMOL/KG,,,,DEG C,
  49UF20120602,KS1205,  3479,  1,     99,     99,2,20120609,0223, 39.6692, 147.8513, 5598,      0.0,  13.0567,  33.7553,2,  33.7554,2,    270.9,2,     6.41,2,     2.13,2,     0.10,2,     0.33,2,   2027.1,2,   2256.6,2,   7.9430,2,    25.00,      425
  49UF20120602,KS1205,  3479,  1,     36,  21995,2,20120609,0223, 39.6692, 147.8513, 5598,     10.2,  13.0086,  33.7528,2,  33.7549,2,    272.6,2,     6.42,2,     2.12,2,     0.11,2,     0.32,2,   2028.5,2,   2255.0,2,   7.9401,2,    25.00,      444
  49UF20120602,KS1205,  3479,  1,     35,  21994,2,20120609,0223, 39.6692, 147.8513, 5598,     25.3,  12.0957,  33.7255,2,-999.0000,9,    278.8,2,     6.87,2,     2.08,2,     0.12,2,     0.30,2,   2027.5,2,   2253.9,2,   7.9411,2,    25.00,      443
  49UF20120602,KS1205,  3479,  1,     34,  21993,2,20120609,0223, 39.6692, 147.8513, 5598,     50.7,   5.8726,  33.5552,2,-999.0000,9,    295.8,2,    18.88,2,    12.87,2,     0.39,2,     1.27,2,   2113.5,2,   2256.2,2,   7.7537,2,    25.00,      439
  49UF20120602,KS1205,  3479,  1,     33,  21992,2,20120609,0223, 39.6692, 147.8513, 5598,     75.4,   5.6089,  33.6400,2,-999.0000,9,    262.6,2,    29.62,2,    18.28,2,     0.39,2,     1.47,2,   2140.5,2,   2257.0,2,   7.6912,2,    25.00,      437
  49UF20120602,KS1205,  3479,  1,     32,  21991,3,20120609,0223, 39.6692, 147.8513, 5598,    100.8,   5.7468,  33.7185,2,  33.7152,2,    242.9,2,    35.35,2,    20.56,2,     0.03,2,     1.57,2,   2155.8,2,   2260.1,2,   7.6642,2,    25.00,      436
  49UF20120602,KS1205,  3479,  1,     31,  21990,2,20120609,0223, 39.6692, 147.8513, 5598,    126.5,   5.4172,  33.7023,2,-999.0000,9,    239.9,6,    37.81,6,    21.23,6,     0.02,6,     1.62,6,   2160.5,2,   2261.3,2,   7.6525,2,    25.00,      435
  49UF20120602,KS1205,  3479,  1,     30,  21989,3,20120609,0223, 39.6692, 147.8513, 5598,    151.6,   4.8001,  33.6489,2,-999.0000,9,    239.8,2,    42.13,2,    22.60,2,     0.02,2,     1.73,2,   2170.3,2,   2258.7,2,   7.6201,2,    25.00,      433
  49UF20120602,KS1205,  3479,  1,     29,  21988,2,20120609,0223, 39.6692, 147.8513, 5598,    202.5,   3.3110,  33.5435,2,  33.5488,2,    216.5,2,    56.74,2,    28.07,2,     0.02,2,     2.14,2,   2208.6,2,   2263.3,2,   7.5292,2,    25.00,      431
  49UF20120602,KS1205,  3479,  1,     28,  21987,2,20120609,0223, 39.6692, 147.8513, 5598,    252.0,   3.5530,  33.6464,2,-999.0000,9,    181.2,2,    65.06,2,    31.04,2,     0.02,2,     2.33,2,   2229.9,6,   2274.7,6,   7.4824,2,    25.00,      430
  49UF20120602,KS1205,  3479,  1,     27,  21986,2,20120609,0223, 39.6692, 147.8513, 5598,    302.9,   2.8666,  33.6787,2,-999.0000,9,    139.1,2,    82.01,2,    36.17,2,     0.01,2,     2.69,2,   2275.5,2,   2280.5,2,   7.3856,6,    25.00,      428
  49UF20120602,KS1205,  3479,  1,     26,  21985,2,20120609,0223, 39.6692, 147.8513, 5598,    403.2,   3.6759,  33.9349,2,  33.9355,2,     88.4,2,    93.42,2,    38.66,2,     0.01,2,     2.84,2,   2303.1,2,   2305.0,2,   7.3620,2,    25.00,      425
  49UF20120602,KS1205,  3479,  1,     25,  21984,2,20120609,0223, 39.6692, 147.8513, 5598,    505.3,   3.7542,  34.0738,2,-999.0000,9,     60.6,2,   105.22,2,    40.77,2,     0.01,2,     2.94,2,   2325.6,2,   2320.2,2,   7.3395,2,    25.00,      422
  49UF20120602,KS1205,  3479,  1,     24,  21983,2,20120609,0223, 39.6692, 147.8513, 5598,    604.6,   3.8808,  34.2156,2,  34.2153,2,     51.9,2,   112.82,2,    40.87,2,     0.00,2,     2.94,2,   2333.5,2,   2335.7,2,   7.3556,3,    25.00,      418
  49UF20120602,KS1205,  3479,  1,     23,  21982,2,20120609,0223, 39.6692, 147.8513, 5598,    706.5,   3.5509,  34.2628,2,-999.0000,9,     43.2,2,   122.66,2,    41.90,2,     0.00,2,     3.01,2,   2349.6,2,   2348.2,2,   7.3397,2,    25.00,      415
  49UF20120602,KS1205,  3479,  1,     22,  21981,2,20120609,0223, 39.6692, 147.8513, 5598,    807.7,   3.3019,  34.3213,2,  34.3206,2,     40.7,6,   130.46,6,    42.29,6,     0.00,6,     3.04,6,   2360.9,2,   2359.4,2,   7.3436,2,    25.00,      412
  49UF20120602,KS1205,  3479,  1,     21,  21980,2,20120609,0223, 39.6692, 147.8513, 5598,    908.6,   3.0572,  34.3539,2,-999.0000,9,     37.6,2,   138.20,2,    42.61,2,     0.00,2,     3.07,2,   2371.2,2,   2366.4,2,   7.3388,2,    25.00,      409
  49UF20120602,KS1205,  3479,  1,     20,  21979,3,20120609,0223, 39.6692, 147.8513, 5598,   1010.0,   2.9420,  34.3969,2,  34.3963,2,     39.1,2,   141.76,2,    42.76,2,     0.00,2,     3.06,2,   2372.1,2,   2373.4,6,   7.3493,2,    25.00,      407
  49UF20120602,KS1205,  3479,  1,     19,  21978,2,20120609,0223, 39.6692, 147.8513, 5598,   1213.3,   2.5155,  34.4367,2,-999.0000,9,     39.8,2,   155.40,2,    43.00,2,     0.00,2,     3.09,2,   2382.5,2,   2381.5,2,   7.3436,6,    25.00,      402
  49UF20120602,KS1205,  3479,  1,     18,  21977,2,20120609,0223, 39.6692, 147.8513, 5598,   1415.6,   2.3504,  34.4974,2,  34.4978,2,     45.3,2,   159.64,2,    42.84,2,     0.00,2,     3.06,2,   2385.4,2,   2393.9,2,   7.3655,2,    25.00,      357
  49UF20120602,KS1205,  3479,  1,     17,  21976,2,20120609,0223, 39.6692, 147.8513, 5598,   1619.1,   2.1922,  34.5395,2,-999.0000,9,     54.4,2,   163.15,2,    42.46,2,     0.00,2,     3.02,2,   2386.3,2,   2397.1,2,   7.3852,2,    25.00,      352
  49UF20120602,KS1205,  3479,  1,     16,  21975,2,20120609,0223, 39.6692, 147.8513, 5598,   1819.5,   2.0575,  34.5711,2,  34.5708,2,     65.0,2,   163.94,2,    41.85,2,     0.00,2,     2.97,2,   2382.8,2,   2401.8,2,   7.4096,2,    25.00,      347
  49UF20120602,KS1205,  3479,  1,     15,  21974,2,20120609,0223, 39.6692, 147.8513, 5598,   2025.9,   1.9263,  34.5957,2,  34.5958,2,     76.4,2,   164.10,2,    41.25,2,     0.00,2,     2.92,2,   2379.7,2,   2409.4,2,   7.4313,2,    25.00,      342
  49UF20120602,KS1205,  3479,  1,     14,  21973,2,20120609,0223, 39.6692, 147.8513, 5598,   2278.3,   1.7809,  34.6215,2,-999.0000,9,     92.0,2,   163.93,2,    40.22,2,     0.00,2,     2.84,2,   2370.3,2,   2409.3,2,   7.4611,2,    25.00,      336
  49UF20120602,KS1205,  3479,  1,     13,  21972,3,20120609,0223, 39.6692, 147.8513, 5598,   2533.7,   1.6758,  34.6408,2,  34.6411,2,    107.7,6,   160.83,6,    39.15,6,     0.00,6,     2.76,6,   2359.6,2,   2411.7,2,   7.4899,2,    25.00,      330
  49UF20120602,KS1205,  3479,  1,     12,  21971,2,20120609,0223, 39.6692, 147.8513, 5598,   2789.8,   1.5976,  34.6535,2,-999.0000,9,    118.6,2,   159.39,2,    38.60,2,     0.00,2,     2.71,2,   2353.5,2,   2414.6,2,   7.5114,2,    25.00,      325
  49UF20120602,KS1205,  3479,  1,     11,  21970,2,20120609,0223, 39.6692, 147.8513, 5598,   3045.5,   1.5460,  34.6631,2,  34.6630,6,    128.3,2,   157.32,2,    37.86,2,     0.00,2,     2.66,2,   2347.9,6,   2416.1,6,   7.5273,2,    25.00,      319
  49UF20120602,KS1205,  3479,  1,     10,  21969,3,20120609,0223, 39.6692, 147.8513, 5598,   3299.1,   1.5073,  34.6699,2,-999.0000,9,    134.9,2,   155.62,2,    37.49,2,     0.00,2,     2.62,2,   2346.1,2,   2408.7,3,   7.5396,6,    25.00,      313
  49UF20120602,KS1205,  3479,  1,      9,  21968,2,20120609,0223, 39.6692, 147.8513, 5598,   3555.8,   1.4871,  34.6749,2,  34.6755,2,    140.5,2,   155.29,2,    37.00,2,     0.00,2,     2.59,2,   2337.4,2,   2412.9,2,   7.5441,2,    25.00,      307
  49UF20120602,KS1205,  3479,  1,      8,  21967,3,20120609,0223, 39.6692, 147.8513, 5598,   3812.3,   1.4705,  34.6796,2,-999.0000,9,    146.3,2,   153.01,2,    36.67,2,     0.00,2,     2.56,2,   2336.9,2,   2413.2,2,   7.5585,2,    25.00,      302
  49UF20120602,KS1205,  3479,  1,      7,  21966,2,20120609,0223, 39.6692, 147.8513, 5598,   4068.5,   1.4635,  34.6832,2,  34.6828,2,    151.2,2,   151.72,2,    36.36,2,     0.00,2,     2.54,2,   2331.5,2,   2413.1,2,   7.5651,2,    25.00,      256
  49UF20120602,KS1205,  3479,  1,      6,  21965,2,20120609,0223, 39.6692, 147.8513, 5598,   4324.4,   1.4633,  34.6861,2,-999.0000,9,    154.5,2,   151.43,2,    36.16,2,     0.00,2,     2.52,2,   2329.8,2,   2410.5,2,   7.5704,2,    25.00,      250
  49UF20120602,KS1205,  3479,  1,      5,  21964,2,20120609,0223, 39.6692, 147.8513, 5598,   4584.9,   1.4740,  34.6884,2,  34.6878,2,    156.9,2,   150.52,2,    35.98,2,     0.00,2,     2.51,2,   2329.6,2,   2410.9,2,   7.5755,2,    25.00,      244
  49UF20120602,KS1205,  3479,  1,      4,  21963,3,20120609,0223, 39.6692, 147.8513, 5598,   4840.9,   1.4938,  34.6897,2,-999.0000,9,    158.2,6,   150.16,6,    35.83,6,     0.00,6,     2.51,6,   2326.2,2,   2412.1,2,   7.5777,2,    25.00,      238
  49UF20120602,KS1205,  3479,  1,      3,  21962,4,20120609,0223, 39.6692, 147.8513, 5598,   5099.6,   1.5176,  34.6906,2,  34.6711,4,    135.1,4,   155.81,4,    37.47,4,     0.00,4,     2.62,4,   2344.3,4,   2413.9,4,   7.5381,4,    25.00,      232
  49UF20120602,KS1205,  3479,  1,      2,  21961,2,20120609,0223, 39.6692, 147.8513, 5598,   5358.0,   1.5479,  34.6911,2,-999.0000,9,    160.4,2,   148.61,2,    35.62,2,     0.00,2,     2.49,2,   2324.5,2,   2408.4,2,   7.5812,6,    25.00,      226
  49UF20120602,KS1205,  3479,  1,      1,  21960,2,20120609,0223, 39.6692, 147.8513, 5598,   5421.0,   1.5561,  34.6912,2,  34.6910,2,    160.6,2,   149.09,2,    35.71,2,     0.00,2,     2.49,2,   2325.8,2,   2410.5,2,   7.5765,2,    25.00,      223