BOTTLE,20191017PRINUNIVRMK
# 08/29/2019 Initialized README file  
# Data source:  Masao Ishii 2018/11/30 
# SHIP: R/V Keifu Maru II 
# Cruise: KS12-05 
# Region: North Pacific Ocean 
# EXPOCODE: 49UF20120602 
# DATES: 20120602-20120614 
# Chief Scientist: Tatsuo Nakamura 
# 5 stations with 24 place Rosette 
# CTD: Who - Kazuhiro Nemoto; Status - final 
# 	Includes: CTDSAL 
# SALNTY: Who - Kazuhiro Nemoto; Status - final 
# 	Notes: 	 
# Nutrients: Who - Kazuhiro Nemoto; Status - final 
# 	Includes: nitrate, nitrite, silicate, phosphate 
# 	Nitrite and NO3+NO2 reported. Separated by subtraction 
# OXYGEN: Who - Kazuhiro Nemoto; Status - final 
# 	Notes: 
# TCARBN: Who - Kazuhiro Nemoto; Status - final 
# 	Notes:  
# ALKALI: Who - Kazuhiro Nemoto; Status - final 
# 	Notes:  
# PH_TOT: Who - Kazuhiro Nemoto; Status - final 
# 	Notes: at 25C 
# These data should be cited as: Nakamura, Tatsuo; Nemoto, Kazuhiro; Ishii, Masao (2019). Dissolved inorganic carbon (DIC), total alkalinity, pH on total scale, temperature, salinity, oxygen, nutrients and other measurements collected from discrete samples and profile observations during the R/V Keifu Maru II cruise ks201205 (EXPOCODE 49UF20120602) in the North Pacific Ocean from 2012-06-02 to 2012-06-14 (NCEI Accession 0191715). [indicate subset used]. NOAA National Centers for Environmental Information. Dataset. https://doi.org/10.25921/1kxh-qx62.   
# References that have used data from this cruise: 
EXPOCODE,SECT_ID,STNNBR,CASTNO,SAMPNO,BTLNBR,BTLNBR_FLAG_W,DATE,TIME,LATITUDE,LONGITUDE,DEPTH,CTDPRS,CTDTMP,CTDSAL,CTDSAL_FLAG_W,SALNTY,SALNTY_FLAG_W,OXYGEN,OXYGEN_FLAG_W,SILCAT,SILCAT_FLAG_W,NITRAT,NITRAT_FLAG_W,NITRIT,NITRIT_FLAG_W,PHSPHT,PHSPHT_FLAG_W,TCARBN,TCARBN_FLAG_W,ALKALI,ALKALI_FLAG_W,PH_TOT,PH_TOT_FLAG_W,PH_TMP,BTL_TIME
,,,,,,,,,,,METERS,DBAR,ITS-90,PSS-78,,PSS-78,,UMOL/KG,,UMOL/KG,,UMOL/KG,,UMOL/KG,,UMOL/KG,,UMOL/KG,,UMOL/KG,,,,DEG C,
  49UF20120602,KS1205,  3463,  1,     99,     99,2,20120604,0151, 40.4378, 143.0362, 1582,      0.0,  13.6927,  33.9936,2,-999.0000,9,    291.0,2,  -999.00,9,  -999.00,9,  -999.00,9,  -999.00,9,   -999.0,9,   -999.0,9,-999.0000,9,  -999.00,      230
  49UF20120602,KS1205,  3463,  1,     33,  21992,2,20120604,0151, 40.4378, 143.0362, 1582,     10.8,  13.1212,  33.9781,2,  33.9804,2,    295.3,2,  -999.00,9,  -999.00,9,  -999.00,9,  -999.00,9,   -999.0,9,   -999.0,9,-999.0000,9,  -999.00,      250
  49UF20120602,KS1205,  3463,  1,     32,  21991,2,20120604,0151, 40.4378, 143.0362, 1582,     25.9,  11.9874,  33.9520,2,-999.0000,9,    296.4,2,  -999.00,9,  -999.00,9,  -999.00,9,  -999.00,9,   -999.0,9,   -999.0,9,-999.0000,9,  -999.00,      249
  49UF20120602,KS1205,  3463,  1,     31,  21990,2,20120604,0151, 40.4378, 143.0362, 1582,     51.4,   9.4917,  33.8935,2,-999.0000,9,    278.2,6,  -999.00,9,  -999.00,9,  -999.00,9,  -999.00,9,   -999.0,9,   -999.0,9,-999.0000,9,  -999.00,      244
  49UF20120602,KS1205,  3463,  1,     30,  21989,2,20120604,0151, 40.4378, 143.0362, 1582,     74.7,   8.7885,  34.0291,2,-999.0000,9,    271.5,2,  -999.00,9,  -999.00,9,  -999.00,9,  -999.00,9,   -999.0,9,   -999.0,9,-999.0000,9,  -999.00,      243
  49UF20120602,KS1205,  3463,  1,     29,  21988,2,20120604,0151, 40.4378, 143.0362, 1582,    101.3,   8.5199,  34.0024,2,  33.9963,2,    273.0,2,  -999.00,9,  -999.00,9,  -999.00,9,  -999.00,9,   -999.0,9,   -999.0,9,-999.0000,9,  -999.00,      241
  49UF20120602,KS1205,  3463,  1,     28,  21987,2,20120604,0151, 40.4378, 143.0362, 1582,    126.6,   8.3522,  33.9808,2,-999.0000,9,    274.9,2,  -999.00,9,  -999.00,9,  -999.00,9,  -999.00,9,   -999.0,9,   -999.0,9,-999.0000,9,  -999.00,      240
  49UF20120602,KS1205,  3463,  1,     24,  21983,2,20120604,0151, 40.4378, 143.0362, 1582,    152.6,   8.2759,  33.9674,2,-999.0000,9,    275.6,2,  -999.00,9,  -999.00,9,  -999.00,9,  -999.00,9,   -999.0,9,   -999.0,9,-999.0000,9,  -999.00,      238
  49UF20120602,KS1205,  3463,  1,     23,  21982,2,20120604,0151, 40.4378, 143.0362, 1582,    202.7,   8.2494,  33.9625,2,  33.9602,2,    276.4,2,  -999.00,9,  -999.00,9,  -999.00,9,  -999.00,9,   -999.0,9,   -999.0,9,-999.0000,9,  -999.00,      236
  49UF20120602,KS1205,  3463,  1,     22,  21981,2,20120604,0151, 40.4378, 143.0362, 1582,    202.7,   8.2494,  33.9625,2,  33.9624,2,    276.7,2,  -999.00,9,  -999.00,9,  -999.00,9,  -999.00,9,   -999.0,9,   -999.0,9,-999.0000,9,  -999.00,      235
  49UF20120602,KS1205,  3463,  1,     21,  21980,2,20120604,0151, 40.4378, 143.0362, 1582,    253.1,   8.2395,  33.9599,2,-999.0000,9,    277.0,2,  -999.00,9,  -999.00,9,  -999.00,9,  -999.00,9,   -999.0,9,   -999.0,9,-999.0000,9,  -999.00,      233
  49UF20120602,KS1205,  3463,  1,     20,  21979,2,20120604,0151, 40.4378, 143.0362, 1582,    304.3,   8.2444,  33.9601,2,-999.0000,9,    277.1,2,  -999.00,9,  -999.00,9,  -999.00,9,  -999.00,9,   -999.0,9,   -999.0,9,-999.0000,9,  -999.00,      231
  49UF20120602,KS1205,  3463,  1,     19,  21978,2,20120604,0151, 40.4378, 143.0362, 1582,    404.3,   8.0843,  33.9329,2,  33.9295,2,    273.8,2,  -999.00,9,  -999.00,9,  -999.00,9,  -999.00,9,   -999.0,9,   -999.0,9,-999.0000,9,  -999.00,      228
  49UF20120602,KS1205,  3463,  1,     15,  21974,2,20120604,0151, 40.4378, 143.0362, 1582,    505.6,   4.5863,  33.5861,2,-999.0000,9,    232.1,2,  -999.00,9,  -999.00,9,  -999.00,9,  -999.00,9,   -999.0,9,   -999.0,9,-999.0000,9,  -999.00,      225
  49UF20120602,KS1205,  3463,  1,     14,  21973,2,20120604,0151, 40.4378, 143.0362, 1582,    607.2,   3.2523,  33.5830,2,  33.5804,2,    192.3,2,  -999.00,9,  -999.00,9,  -999.00,9,  -999.00,9,   -999.0,9,   -999.0,9,-999.0000,9,  -999.00,      221
  49UF20120602,KS1205,  3463,  1,     13,  21972,2,20120604,0151, 40.4378, 143.0362, 1582,    708.4,   3.5689,  33.7996,2,-999.0000,9,    124.4,6,  -999.00,9,  -999.00,9,  -999.00,9,  -999.00,9,   -999.0,9,   -999.0,9,-999.0000,9,  -999.00,      217
  49UF20120602,KS1205,  3463,  1,     12,  21971,2,20120604,0151, 40.4378, 143.0362, 1582,    809.9,   3.7675,  33.9810,2,  33.9780,6,     78.7,2,  -999.00,9,  -999.00,9,  -999.00,9,  -999.00,9,   -999.0,9,   -999.0,9,-999.0000,9,  -999.00,      214
  49UF20120602,KS1205,  3463,  1,     11,  21970,2,20120604,0151, 40.4378, 143.0362, 1582,    910.8,   3.6371,  34.1377,2,-999.0000,9,     47.2,2,  -999.00,9,  -999.00,9,  -999.00,9,  -999.00,9,   -999.0,9,   -999.0,9,-999.0000,9,  -999.00,      210
  49UF20120602,KS1205,  3463,  1,     10,  21969,3,20120604,0151, 40.4378, 143.0362, 1582,   1013.9,   3.3223,  34.2232,2,  34.2191,2,     37.6,2,  -999.00,9,  -999.00,9,  -999.00,9,  -999.00,9,   -999.0,9,   -999.0,9,-999.0000,9,  -999.00,      207
  49UF20120602,KS1205,  3463,  1,      6,  21965,2,20120604,0151, 40.4378, 143.0362, 1582,   1214.8,   3.0219,  34.3679,2,  34.3676,2,     38.4,2,  -999.00,9,  -999.00,9,  -999.00,9,  -999.00,9,   -999.0,9,   -999.0,9,-999.0000,9,  -999.00,      201
  49UF20120602,KS1205,  3463,  1,      5,  21964,2,20120604,0151, 40.4378, 143.0362, 1582,   1417.0,   2.5427,  34.4591,2,  34.4591,2,     40.1,2,  -999.00,9,  -999.00,9,  -999.00,9,  -999.00,9,   -999.0,9,   -999.0,9,-999.0000,9,  -999.00,      155
  49UF20120602,KS1205,  3463,  1,      4,  21963,2,20120604,0151, 40.4378, 143.0362, 1582,   1417.0,   2.5427,  34.4591,2,  34.4600,2,     40.8,2,  -999.00,9,  -999.00,9,  -999.00,9,  -999.00,9,   -999.0,9,   -999.0,9,-999.0000,9,  -999.00,      155
  49UF20120602,KS1205,  3463,  1,      3,  21962,2,20120604,0151, 40.4378, 143.0362, 1582,   1565.8,   2.3053,  34.5173,2,  34.5180,6,     46.7,2,  -999.00,9,  -999.00,9,  -999.00,9,  -999.00,9,   -999.0,9,   -999.0,9,-999.0000,9,  -999.00,      151
  49UF20120602,KS1205,  3467,  1,     99,     99,2,20120604,1929, 42.0693, 144.7192, 1942,      0.0,   7.8157,  32.8402,2,-999.0000,9,    408.4,2,  -999.00,9,  -999.00,9,  -999.00,9,  -999.00,9,   -999.0,9,   -999.0,9,-999.0000,9,  -999.00,     2012
  49UF20120602,KS1205,  3467,  1,     33,  21992,2,20120604,1929, 42.0693, 144.7192, 1942,     11.8,   7.8564,  32.8467,2,  32.8458,2,    376.7,2,  -999.00,9,  -999.00,9,  -999.00,9,  -999.00,9,   -999.0,9,   -999.0,9,-999.0000,9,  -999.00,     2028
  49UF20120602,KS1205,  3467,  1,     32,  21991,2,20120604,1929, 42.0693, 144.7192, 1942,     26.3,   5.6332,  32.9394,2,-999.0000,9,    364.6,6,  -999.00,9,  -999.00,9,  -999.00,9,  -999.00,9,   -999.0,9,   -999.0,9,-999.0000,9,  -999.00,     2026
  49UF20120602,KS1205,  3467,  1,     31,  21990,2,20120604,1929, 42.0693, 144.7192, 1942,     51.0,   2.8828,  33.1974,2,-999.0000,9,    315.6,2,  -999.00,9,  -999.00,9,  -999.00,9,  -999.00,9,   -999.0,9,   -999.0,9,-999.0000,9,  -999.00,     2021
  49UF20120602,KS1205,  3467,  1,     30,  21989,2,20120604,1929, 42.0693, 144.7192, 1942,     77.7,   2.6600,  33.2754,2,-999.0000,9,    307.2,2,  -999.00,9,  -999.00,9,  -999.00,9,  -999.00,9,   -999.0,9,   -999.0,9,-999.0000,9,  -999.00,     2020
  49UF20120602,KS1205,  3467,  1,     29,  21988,2,20120604,1929, 42.0693, 144.7192, 1942,    103.0,   2.5566,  33.2970,2,  33.2949,2,    300.3,2,  -999.00,9,  -999.00,9,  -999.00,9,  -999.00,9,   -999.0,9,   -999.0,9,-999.0000,9,  -999.00,     2018
  49UF20120602,KS1205,  3467,  1,     28,  21987,2,20120604,1929, 42.0693, 144.7192, 1942,    126.8,   2.4810,  33.3165,2,-999.0000,9,    297.2,2,  -999.00,9,  -999.00,9,  -999.00,9,  -999.00,9,   -999.0,9,   -999.0,9,-999.0000,9,  -999.00,     2017
  49UF20120602,KS1205,  3467,  1,     24,  21983,2,20120604,1929, 42.0693, 144.7192, 1942,    152.8,   1.4311,  33.2406,2,-999.0000,9,    298.8,2,  -999.00,9,  -999.00,9,  -999.00,9,  -999.00,9,   -999.0,9,   -999.0,9,-999.0000,9,  -999.00,     2016
  49UF20120602,KS1205,  3467,  1,     23,  21982,2,20120604,1929, 42.0693, 144.7192, 1942,    152.8,   1.4311,  33.2406,2,-999.0000,9,    299.6,2,  -999.00,9,  -999.00,9,  -999.00,9,  -999.00,9,   -999.0,9,   -999.0,9,-999.0000,9,  -999.00,     2016
  49UF20120602,KS1205,  3467,  1,     22,  21981,2,20120604,1929, 42.0693, 144.7192, 1942,    203.3,   2.1378,  33.3866,2,  33.3897,2,    256.0,2,  -999.00,9,  -999.00,9,  -999.00,9,  -999.00,9,   -999.0,9,   -999.0,9,-999.0000,9,  -999.00,     2014
  49UF20120602,KS1205,  3467,  1,     21,  21980,2,20120604,1929, 42.0693, 144.7192, 1942,    253.6,   1.7797,  33.4153,2,-999.0000,9,    226.4,2,  -999.00,9,  -999.00,9,  -999.00,9,  -999.00,9,   -999.0,9,   -999.0,9,-999.0000,9,  -999.00,     2012
  49UF20120602,KS1205,  3467,  1,     20,  21979,2,20120604,1929, 42.0693, 144.7192, 1942,    304.2,   1.8684,  33.4807,2,-999.0000,9,    199.8,2,  -999.00,9,  -999.00,9,  -999.00,9,  -999.00,9,   -999.0,9,   -999.0,9,-999.0000,9,  -999.00,     2010
  49UF20120602,KS1205,  3467,  1,     19,  21978,2,20120604,1929, 42.0693, 144.7192, 1942,    405.1,   2.7713,  33.6689,2,  33.6706,6,    142.4,2,  -999.00,9,  -999.00,9,  -999.00,9,  -999.00,9,   -999.0,9,   -999.0,9,-999.0000,9,  -999.00,     2007
  49UF20120602,KS1205,  3467,  1,     15,  21974,2,20120604,1929, 42.0693, 144.7192, 1942,    505.6,   2.7040,  33.7970,2,-999.0000,9,     99.9,2,  -999.00,9,  -999.00,9,  -999.00,9,  -999.00,9,   -999.0,9,   -999.0,9,-999.0000,9,  -999.00,     2005
  49UF20120602,KS1205,  3467,  1,     14,  21973,2,20120604,1929, 42.0693, 144.7192, 1942,    607.4,   3.2922,  33.9964,2,  33.9946,2,     53.7,6,  -999.00,9,  -999.00,9,  -999.00,9,  -999.00,9,   -999.0,9,   -999.0,9,-999.0000,9,  -999.00,     2002
  49UF20120602,KS1205,  3467,  1,     13,  21972,2,20120604,1929, 42.0693, 144.7192, 1942,    708.0,   3.2701,  34.0924,2,-999.0000,9,     34.1,2,  -999.00,9,  -999.00,9,  -999.00,9,  -999.00,9,   -999.0,9,   -999.0,9,-999.0000,9,  -999.00,     1959
  49UF20120602,KS1205,  3467,  1,     12,  21971,2,20120604,1929, 42.0693, 144.7192, 1942,    809.3,   3.2119,  34.1753,2,  34.1754,2,     30.8,2,  -999.00,9,  -999.00,9,  -999.00,9,  -999.00,9,   -999.0,9,   -999.0,9,-999.0000,9,  -999.00,     1957
  49UF20120602,KS1205,  3467,  1,     11,  21970,2,20120604,1929, 42.0693, 144.7192, 1942,    911.1,   3.0461,  34.2563,2,-999.0000,9,     25.4,2,  -999.00,9,  -999.00,9,  -999.00,9,  -999.00,9,   -999.0,9,   -999.0,9,-999.0000,9,  -999.00,     1954
  49UF20120602,KS1205,  3467,  1,     10,  21969,2,20120604,1929, 42.0693, 144.7192, 1942,   1012.7,   2.9240,  34.3127,2,  34.3115,2,     31.8,2,  -999.00,9,  -999.00,9,  -999.00,9,  -999.00,9,   -999.0,9,   -999.0,9,-999.0000,9,  -999.00,     1952
  49UF20120602,KS1205,  3467,  1,      6,  21965,2,20120604,1929, 42.0693, 144.7192, 1942,   1215.5,   2.6597,  34.4220,2,  34.4221,2,     38.2,2,  -999.00,9,  -999.00,9,  -999.00,9,  -999.00,9,   -999.0,9,   -999.0,9,-999.0000,9,  -999.00,     1947
  49UF20120602,KS1205,  3467,  1,      5,  21964,2,20120604,1929, 42.0693, 144.7192, 1942,   1215.5,   2.6597,  34.4220,2,  34.4220,2,     37.8,2,  -999.00,9,  -999.00,9,  -999.00,9,  -999.00,9,   -999.0,9,   -999.0,9,-999.0000,9,  -999.00,     1947
  49UF20120602,KS1205,  3467,  1,      4,  21963,2,20120604,1929, 42.0693, 144.7192, 1942,   1418.7,   2.3905,  34.4681,2,  34.4684,2,     43.4,2,  -999.00,9,  -999.00,9,  -999.00,9,  -999.00,9,   -999.0,9,   -999.0,9,-999.0000,9,  -999.00,     1942
  49UF20120602,KS1205,  3467,  1,      3,  21962,2,20120604,1929, 42.0693, 144.7192, 1942,   1620.2,   2.2491,  34.5219,2,  34.5224,2,     50.3,2,  -999.00,9,  -999.00,9,  -999.00,9,  -999.00,9,   -999.0,9,   -999.0,9,-999.0000,9,  -999.00,     1937
  49UF20120602,KS1205,  3467,  1,      2,  21961,2,20120604,1929, 42.0693, 144.7192, 1942,   1823.9,   2.0165,  34.5712,2,  34.5707,6,     66.7,2,  -999.00,9,  -999.00,9,  -999.00,9,  -999.00,9,   -999.0,9,   -999.0,9,-999.0000,9,  -999.00,     1933
  49UF20120602,KS1205,  3467,  1,      1,  21960,2,20120604,1929, 42.0693, 144.7192, 1942,   1943.9,   1.9513,  34.5867,2,  34.5866,2,     73.7,2,  -999.00,9,  -999.00,9,  -999.00,9,  -999.00,9,   -999.0,9,   -999.0,9,-999.0000,9,  -999.00,     1929