BOTTLE,20191017PRINUNIVRMK
EXPOCODE,SECT_ID,STNNBR,CASTNO,SAMPNO,BTLNBR,BTLNBR_FLAG_W,DATE,TIME,LATITUDE,LONGITUDE,DEPTH,CTDPRS,CTDTMP,CTDSAL,CTDSAL_FLAG_W,SALNTY,SALNTY_FLAG_W,OXYGEN,OXYGEN_FLAG_W,SILCAT,SILCAT_FLAG_W,NITRAT,NITRAT_FLAG_W,NITRIT,NITRIT_FLAG_W,PHSPHT,PHSPHT_FLAG_W,TCARBN,TCARBN_FLAG_W,ALKALI,ALKALI_FLAG_W,PH_TOT,PH_TOT_FLAG_W,PH_TMP,BTL_TIME
,,,,,,,,,,,METERS,DBAR,ITS-90,PSS-78,,PSS-78,,UMOL/KG,,UMOL/KG,,UMOL/KG,,UMOL/KG,,UMOL/KG,,UMOL/KG,,UMOL/KG,,,,DEG C,
  49UF20120429,KS1204,  3431,  1,     99,     99,2,20120509,0628, 27.5003, 128.2497, 1033,      0.0,  22.6785,  34.5825,2,-999.0000,9,    219.2,2,     1.39,2,     0.00,2,     0.00,2,     0.01,2,   -999.0,9,   -999.0,9,-999.0000,9,  -999.00,      650
  49UF20120429,KS1204,  3431,  1,     36,  21995,2,20120509,0628, 27.5003, 128.2497, 1033,     12.1,  22.1609,  34.6405,2,  34.6215,4,    220.0,2,     1.41,2,     0.00,2,     0.00,2,     0.01,2,   -999.0,9,   -999.0,9,-999.0000,9,  -999.00,      707
  49UF20120429,KS1204,  3431,  1,     35,  21994,2,20120509,0628, 27.5003, 128.2497, 1033,     22.1,  21.8049,  34.6761,2,-999.0000,9,    220.2,2,     1.45,2,     0.00,2,     0.00,2,     0.02,2,   -999.0,9,   -999.0,9,-999.0000,9,  -999.00,      706
  49UF20120429,KS1204,  3431,  1,     34,  21993,2,20120509,0628, 27.5003, 128.2497, 1033,     32.1,  21.7608,  34.6808,2,-999.0000,9,    219.5,2,     1.51,2,     0.05,2,     0.01,2,     0.02,2,   -999.0,9,   -999.0,9,-999.0000,9,  -999.00,      705
  49UF20120429,KS1204,  3431,  1,     30,  21989,4,20120509,0628, 27.5003, 128.2497, 1033,     52.1,  21.6308,  34.6976,2,-999.0000,9,    141.8,4,    41.27,4,    19.69,4,     0.01,4,     1.39,4,   -999.0,9,   -999.0,9,-999.0000,9,  -999.00,      701
  49UF20120429,KS1204,  3431,  1,     29,  21988,2,20120509,0628, 27.5003, 128.2497, 1033,     52.1,  21.6308,  34.6976,2,-999.0000,9,    220.1,2,     1.53,2,     0.09,2,     0.02,2,     0.03,2,   -999.0,9,   -999.0,9,-999.0000,9,  -999.00,      701
  49UF20120429,KS1204,  3431,  1,     28,  21987,2,20120509,0628, 27.5003, 128.2497, 1033,     76.9,  21.4836,  34.7221,2,-999.0000,9,    217.7,2,     1.53,2,     0.16,2,     0.03,2,     0.03,2,   -999.0,9,   -999.0,9,-999.0000,9,  -999.00,      659
  49UF20120429,KS1204,  3431,  1,     27,  21986,2,20120509,0628, 27.5003, 128.2497, 1033,    101.7,  20.7636,  34.7849,2,  34.7858,2,    211.9,2,     1.85,2,     0.84,2,     0.07,2,     0.08,2,   -999.0,9,   -999.0,9,-999.0000,9,  -999.00,      658
  49UF20120429,KS1204,  3431,  1,     26,  21985,2,20120509,0628, 27.5003, 128.2497, 1033,    127.2,  20.3117,  34.8105,2,-999.0000,9,    206.1,2,     2.19,2,     1.53,2,     0.05,2,     0.12,2,   -999.0,9,   -999.0,9,-999.0000,9,  -999.00,      656
  49UF20120429,KS1204,  3431,  1,     21,  21980,2,20120509,0628, 27.5003, 128.2497, 1033,    153.2,  19.8495,  34.7959,2,-999.0000,9,    206.5,6,     2.48,6,     1.96,6,     0.03,6,     0.15,6,   -999.0,9,   -999.0,9,-999.0000,9,  -999.00,      655
  49UF20120429,KS1204,  3431,  1,     20,  21979,2,20120509,0628, 27.5003, 128.2497, 1033,    204.0,  19.4257,  34.7879,2,  34.7881,2,    205.4,2,     2.80,2,     2.40,2,     0.02,2,     0.18,2,   -999.0,9,   -999.0,9,-999.0000,9,  -999.00,      653
  49UF20120429,KS1204,  3431,  1,     19,  21978,2,20120509,0628, 27.5003, 128.2497, 1033,    255.7,  18.6170,  34.7585,2,-999.0000,9,    200.1,2,     3.61,2,     3.67,2,     0.01,2,     0.26,2,   -999.0,9,   -999.0,9,-999.0000,9,  -999.00,      652
  49UF20120429,KS1204,  3431,  1,     18,  21977,2,20120509,0628, 27.5003, 128.2497, 1033,    305.0,  17.4504,  34.7033,2,-999.0000,9,    194.8,2,     5.39,2,     5.60,2,     0.01,2,     0.39,2,   -999.0,9,   -999.0,9,-999.0000,9,  -999.00,      650
  49UF20120429,KS1204,  3431,  1,     17,  21976,2,20120509,0628, 27.5003, 128.2497, 1033,    405.4,  15.7164,  34.6057,2,  34.6062,6,    183.9,2,    10.12,2,     9.25,2,     0.01,2,     0.65,2,   -999.0,9,   -999.0,9,-999.0000,9,  -999.00,      647
  49UF20120429,KS1204,  3431,  1,     12,  21971,2,20120509,0628, 27.5003, 128.2497, 1033,    507.2,  11.9152,  34.4152,2,-999.0000,9,    162.1,2,    28.62,2,    17.35,2,     0.01,2,     1.24,2,   -999.0,9,   -999.0,9,-999.0000,9,  -999.00,      644
  49UF20120429,KS1204,  3431,  1,     11,  21970,2,20120509,0628, 27.5003, 128.2497, 1033,    507.2,  11.9152,  34.4152,2,-999.0000,9,    161.8,2,    28.58,2,    17.37,2,     0.01,2,     1.24,2,   -999.0,9,   -999.0,9,-999.0000,9,  -999.00,      644
  49UF20120429,KS1204,  3431,  1,     10,  21969,3,20120509,0628, 27.5003, 128.2497, 1033,    606.8,   9.3841,  34.3335,2,  34.3363,2,    135.8,2,    47.93,2,    23.95,2,     0.00,2,     1.73,2,   -999.0,9,   -999.0,9,-999.0000,9,  -999.00,      642
  49UF20120429,KS1204,  3431,  1,      9,  21968,2,20120509,0628, 27.5003, 128.2497, 1033,    707.3,   7.6422,  34.3209,2,-999.0000,9,    112.4,2,    66.06,2,    29.02,2,     0.00,2,     2.11,2,   -999.0,9,   -999.0,9,-999.0000,9,  -999.00,      639
  49UF20120429,KS1204,  3431,  1,      8,  21967,2,20120509,0628, 27.5003, 128.2497, 1033,    809.3,   7.1374,  34.3233,2,  34.3240,2,    105.8,2,    72.13,2,    30.50,2,     0.00,2,     2.21,2,   -999.0,9,   -999.0,9,-999.0000,9,  -999.00,      635
  49UF20120429,KS1204,  3431,  1,      4,  21963,2,20120509,0628, 27.5003, 128.2497, 1033,    910.2,   6.6967,  34.3244,2,-999.0000,9,     99.5,6,    77.23,6,    31.83,6,     0.00,6,     2.31,6,   -999.0,9,   -999.0,9,-999.0000,9,  -999.00,      632
  49UF20120429,KS1204,  3431,  1,      3,  21962,2,20120509,0628, 27.5003, 128.2497, 1033,   1011.8,   6.0187,  34.3206,2,-999.0000,9,   -999.0,9,  -999.00,9,  -999.00,9,  -999.00,9,  -999.00,9,   -999.0,9,   -999.0,9,-999.0000,9,  -999.00,      629
  49UF20120429,KS1204,  3431,  1,      2,  21961,2,20120509,0628, 27.5003, 128.2497, 1033,   1011.9,   6.0187,  34.3209,2,  34.3219,6,     91.4,2,    84.79,2,    33.82,2,     0.00,2,     2.45,2,   -999.0,9,   -999.0,9,-999.0000,9,  -999.00,      629
  49UF20120429,KS1204,  3431,  1,      1,  21960,2,20120509,0628, 27.5003, 128.2497, 1033,   1038.2,   5.9194,  34.3182,2,  34.3193,2,     89.9,2,    86.21,2,    34.06,2,     0.00,2,     2.47,2,   -999.0,9,   -999.0,9,-999.0000,9,  -999.00,      628
  49UF20120429,KS1204,  3433,  1,     99,     99,2,20120518,1551, 24.2363, 133.9787,   -9,      0.0,  24.5259,  34.6905,2,-999.0000,9,    212.1,2,     1.35,2,     0.14,2,     0.00,2,     0.01,2,   -999.0,9,   -999.0,9,-999.0000,9,  -999.00,     1740
  49UF20120429,KS1204,  3433,  1,     36,  21995,2,20120518,1551, 24.2363, 133.9787,   -9,     11.1,  24.3035,  34.7256,2,  34.7354,4,    214.2,2,     1.39,2,     0.14,2,     0.00,2,     0.01,2,   -999.0,9,   -999.0,9,-999.0000,9,  -999.00,     1804
  49UF20120429,KS1204,  3433,  1,     35,  21994,2,20120518,1551, 24.2363, 133.9787,   -9,     25.9,  23.3680,  34.8146,2,-999.0000,9,    219.0,2,     1.39,2,     0.14,2,     0.00,2,     0.01,2,   -999.0,9,   -999.0,9,-999.0000,9,  -999.00,     1803
  49UF20120429,KS1204,  3433,  1,     34,  21993,3,20120518,1551, 24.2363, 133.9787,   -9,     51.6,  21.2990,  34.8711,2,-999.0000,9,    225.4,2,     1.62,2,     0.13,2,     0.00,2,     0.01,2,   -999.0,9,   -999.0,9,-999.0000,9,  -999.00,     1759
  49UF20120429,KS1204,  3433,  1,     33,  21992,2,20120518,1551, 24.2363, 133.9787,   -9,     76.4,  20.0506,  34.8359,2,-999.0000,9,    215.2,2,     1.96,2,     0.25,2,     0.03,2,     0.04,2,   -999.0,9,   -999.0,9,-999.0000,9,  -999.00,     1757
  49UF20120429,KS1204,  3433,  1,     32,  21991,2,20120518,1551, 24.2363, 133.9787,   -9,    101.4,  19.2914,  34.8040,2,  34.8030,2,    203.6,2,     2.58,2,     2.49,2,     0.05,2,     0.17,2,   -999.0,9,   -999.0,9,-999.0000,9,  -999.00,     1756
  49UF20120429,KS1204,  3433,  1,     31,  21990,2,20120518,1551, 24.2363, 133.9787,   -9,    126.3,  18.9372,  34.7862,2,-999.0000,9,    201.7,6,     2.84,6,     3.06,6,     0.03,6,     0.21,6,   -999.0,9,   -999.0,9,-999.0000,9,  -999.00,     1755
  49UF20120429,KS1204,  3433,  1,     30,  21989,3,20120518,1551, 24.2363, 133.9787,   -9,    151.6,  18.5645,  34.7673,2,-999.0000,9,    201.5,2,     3.17,2,     3.58,2,     0.01,2,     0.24,2,   -999.0,9,   -999.0,9,-999.0000,9,  -999.00,     1754
  49UF20120429,KS1204,  3433,  1,     29,  21988,3,20120518,1551, 24.2363, 133.9787,   -9,    202.4,  17.6764,  34.7228,2,  34.7222,6,    199.7,2,     4.22,2,     4.86,2,     0.01,2,     0.33,2,   -999.0,9,   -999.0,9,-999.0000,9,  -999.00,     1752
  49UF20120429,KS1204,  3433,  1,     28,  21987,2,20120518,1551, 24.2363, 133.9787,   -9,    252.7,  17.1387,  34.6943,2,-999.0000,9,    198.8,2,     5.28,2,     5.89,2,     0.00,2,     0.39,2,   -999.0,9,   -999.0,9,-999.0000,9,  -999.00,     1750
  49UF20120429,KS1204,  3433,  1,     27,  21986,2,20120518,1551, 24.2363, 133.9787,   -9,    303.4,  16.1759,  34.6375,2,-999.0000,9,    191.6,2,     7.57,2,     7.93,2,     0.00,2,     0.54,2,   -999.0,9,   -999.0,9,-999.0000,9,  -999.00,     1748
  49UF20120429,KS1204,  3433,  1,     26,  21985,2,20120518,1551, 24.2363, 133.9787,   -9,    405.2,  13.6126,  34.4787,2,  34.4826,2,    178.9,2,    15.69,2,    13.13,2,     0.00,2,     0.91,2,   -999.0,9,   -999.0,9,-999.0000,9,  -999.00,     1745
  49UF20120429,KS1204,  3433,  1,     25,  21984,3,20120518,1551, 24.2363, 133.9787,   -9,    505.2,  10.6200,  34.2875,2,-999.0000,9,    166.5,2,    28.79,2,    19.29,2,     0.00,2,     1.37,2,   -999.0,9,   -999.0,9,-999.0000,9,  -999.00,     1742
  49UF20120429,KS1204,  3433,  1,     24,  21983,2,20120518,1551, 24.2363, 133.9787,   -9,    606.4,   8.0646,  34.1751,2,  34.1742,2,    138.6,2,    48.62,2,    26.33,2,     0.00,2,     1.90,2,   -999.0,9,   -999.0,9,-999.0000,9,  -999.00,     1739
  49UF20120429,KS1204,  3433,  1,     23,  21982,2,20120518,1551, 24.2363, 133.9787,   -9,    707.6,   6.2127,  34.1679,2,-999.0000,9,    104.7,2,    71.38,2,    32.53,2,     0.00,2,     2.36,2,   -999.0,9,   -999.0,9,-999.0000,9,  -999.00,     1736
  49UF20120429,KS1204,  3433,  1,     22,  21981,2,20120518,1551, 24.2363, 133.9787,   -9,    707.6,   6.2127,  34.1679,2,-999.0000,9,    105.0,6,    71.35,6,    32.55,6,     0.00,6,     2.36,6,   -999.0,9,   -999.0,9,-999.0000,9,  -999.00,     1736
  49UF20120429,KS1204,  3433,  1,     21,  21980,3,20120518,1551, 24.2363, 133.9787,   -9,    808.0,   4.9663,  34.2280,2,  34.2256,6,     76.8,2,    92.79,2,    37.10,2,     0.00,2,     2.68,2,   -999.0,9,   -999.0,9,-999.0000,9,  -999.00,     1732
  49UF20120429,KS1204,  3433,  1,     20,  21979,3,20120518,1551, 24.2363, 133.9787,   -9,    909.6,   4.0897,  34.3063,2,-999.0000,9,     60.3,2,   111.03,2,    39.83,2,     0.00,2,     2.87,2,   -999.0,9,   -999.0,9,-999.0000,9,  -999.00,     1730
  49UF20120429,KS1204,  3433,  1,     19,  21978,3,20120518,1551, 24.2363, 133.9787,   -9,   1010.1,   3.6527,  34.3622,2,  34.3606,2,     55.9,2,   120.92,2,    40.88,2,     0.00,2,     2.94,2,   -999.0,9,   -999.0,9,-999.0000,9,  -999.00,     1726
  49UF20120429,KS1204,  3433,  1,     18,  21977,3,20120518,1551, 24.2363, 133.9787,   -9,   1212.4,   3.0690,  34.4606,2,  34.4602,2,     64.1,2,   132.49,2,    40.95,2,     0.00,2,     2.94,2,   -999.0,9,   -999.0,9,-999.0000,9,  -999.00,     1721
  49UF20120429,KS1204,  3433,  1,     17,  21976,3,20120518,1551, 24.2363, 133.9787,   -9,   1414.4,   2.6646,  34.5296,2,  34.5288,2,     81.5,2,   137.50,2,    40.12,2,     0.00,2,     2.87,2,   -999.0,9,   -999.0,9,-999.0000,9,  -999.00,     1717
  49UF20120429,KS1204,  3433,  1,     16,  21975,2,20120518,1551, 24.2363, 133.9787,   -9,   1617.5,   2.3678,  34.5683,2,  34.5681,2,     94.8,2,   140.83,2,    39.45,2,     0.00,2,     2.81,2,   -999.0,9,   -999.0,9,-999.0000,9,  -999.00,     1711
  49UF20120429,KS1204,  3433,  1,     15,  21974,2,20120518,1551, 24.2363, 133.9787,   -9,   1819.0,   2.1289,  34.5959,2,  34.5977,2,    105.6,2,   142.47,2,    38.91,2,     0.00,2,     2.76,2,   -999.0,9,   -999.0,9,-999.0000,9,  -999.00,     1706
  49UF20120429,KS1204,  3433,  1,     14,  21973,2,20120518,1551, 24.2363, 133.9787,   -9,   2022.4,   1.9330,  34.6209,2,  34.6209,2,    117.1,2,   143.18,2,    38.27,2,     0.00,2,     2.71,2,   -999.0,9,   -999.0,9,-999.0000,9,  -999.00,     1655
  49UF20120429,KS1204,  3433,  1,     13,  21972,3,20120518,1551, 24.2363, 133.9787,   -9,   2276.9,   1.8200,  34.6351,2,  34.6345,2,    124.7,6,   143.32,6,    37.82,6,     0.00,6,     2.67,6,   -999.0,9,   -999.0,9,-999.0000,9,  -999.00,     1649
  49UF20120429,KS1204,  3433,  1,     12,  21971,2,20120518,1551, 24.2363, 133.9787,   -9,   2532.1,   1.7367,  34.6464,2,  34.6467,6,    130.9,2,   143.16,2,    37.48,2,     0.00,2,     2.64,2,   -999.0,9,   -999.0,9,-999.0000,9,  -999.00,     1644
  49UF20120429,KS1204,  3433,  1,     11,  21970,2,20120518,1551, 24.2363, 133.9787,   -9,   2786.6,   1.6590,  34.6571,2,  34.6569,2,    137.2,2,   143.23,2,    37.12,2,     0.00,2,     2.61,2,   -999.0,9,   -999.0,9,-999.0000,9,  -999.00,     1638
  49UF20120429,KS1204,  3433,  1,     10,  21969,2,20120518,1551, 24.2363, 133.9787,   -9,   3041.6,   1.6005,  34.6655,2,  34.6655,2,    142.7,2,   142.79,2,    36.79,2,     0.00,2,     2.58,2,   -999.0,9,   -999.0,9,-999.0000,9,  -999.00,     1633
  49UF20120429,KS1204,  3433,  1,      9,  21968,2,20120518,1551, 24.2363, 133.9787,   -9,   3297.5,   1.5566,  34.6724,2,  34.6727,2,    147.4,2,   142.43,2,    36.51,2,     0.00,2,     2.56,2,   -999.0,9,   -999.0,9,-999.0000,9,  -999.00,     1627
  49UF20120429,KS1204,  3433,  1,      8,  21967,3,20120518,1551, 24.2363, 133.9787,   -9,   3553.3,   1.5433,  34.6764,2,  34.6770,2,    150.4,2,   142.05,2,    36.27,2,     0.00,2,     2.55,2,   -999.0,9,   -999.0,9,-999.0000,9,  -999.00,     1622
  49UF20120429,KS1204,  3433,  1,      7,  21966,2,20120518,1551, 24.2363, 133.9787,   -9,   3808.7,   1.5403,  34.6793,2,  34.6810,2,    152.3,2,   141.52,2,    36.14,2,     0.00,2,     2.53,2,   -999.0,9,   -999.0,9,-999.0000,9,  -999.00,     1616
  49UF20120429,KS1204,  3433,  1,      6,  21965,2,20120518,1551, 24.2363, 133.9787,   -9,   4065.2,   1.5500,  34.6811,2,  34.6804,2,    156.2,4,   141.53,2,    36.11,2,     0.00,2,     2.52,2,   -999.0,9,   -999.0,9,-999.0000,9,  -999.00,     1611
  49UF20120429,KS1204,  3433,  1,      5,  21964,2,20120518,1551, 24.2363, 133.9787,   -9,   4321.0,   1.5701,  34.6821,2,  34.6820,6,    154.9,2,   141.15,2,    36.03,2,     0.00,2,     2.52,2,   -999.0,9,   -999.0,9,-999.0000,9,  -999.00,     1605
  49UF20120429,KS1204,  3433,  1,      4,  21963,2,20120518,1551, 24.2363, 133.9787,   -9,   4321.0,   1.5701,  34.6821,2,  34.6816,2,    155.0,6,   141.21,6,    36.02,6,     0.00,6,     2.52,6,   -999.0,9,   -999.0,9,-999.0000,9,  -999.00,     1605
  49UF20120429,KS1204,  3433,  1,      3,  21962,2,20120518,1551, 24.2363, 133.9787,   -9,   4578.8,   1.5945,  34.6827,2,  34.6825,2,    154.8,2,   141.58,2,    36.00,2,     0.00,2,     2.52,2,   -999.0,9,   -999.0,9,-999.0000,9,  -999.00,     1600
  49UF20120429,KS1204,  3433,  1,      2,  21961,3,20120518,1551, 24.2363, 133.9787,   -9,   4835.5,   1.6207,  34.6833,2,  34.6846,2,    155.9,2,   140.97,2,    35.94,2,     0.00,2,     2.52,2,   -999.0,9,   -999.0,9,-999.0000,9,  -999.00,     1555
  49UF20120429,KS1204,  3433,  1,      1,  21960,3,20120518,1551, 24.2363, 133.9787,   -9,   5008.0,   1.6417,  34.6835,2,  34.6839,2,    155.9,2,   140.68,2,    35.97,2,     0.00,2,     2.52,2,   -999.0,9,   -999.0,9,-999.0000,9,  -999.00,     1551