BOTTLE,20191017PRINUNIVRMK
EXPOCODE,SECT_ID,STNNBR,CASTNO,SAMPNO,BTLNBR,BTLNBR_FLAG_W,DATE,TIME,LATITUDE,LONGITUDE,DEPTH,CTDPRS,CTDTMP,CTDSAL,CTDSAL_FLAG_W,SALNTY,SALNTY_FLAG_W,OXYGEN,OXYGEN_FLAG_W,SILCAT,SILCAT_FLAG_W,NITRAT,NITRAT_FLAG_W,NITRIT,NITRIT_FLAG_W,PHSPHT,PHSPHT_FLAG_W,TCARBN,TCARBN_FLAG_W,ALKALI,ALKALI_FLAG_W,PH_TOT,PH_TOT_FLAG_W,PH_TMP,BTL_TIME
,,,,,,,,,,,METERS,DBAR,ITS-90,PSS-78,,PSS-78,,UMOL/KG,,UMOL/KG,,UMOL/KG,,UMOL/KG,,UMOL/KG,,UMOL/KG,,UMOL/KG,,,,DEG C,
  49UF20120429,KS1204,  3452,  1,     99,     99,2,20120522,2222, 24.2593, 146.0453,   -9,      0.0,  26.7777,  35.0882,2,-999.0000,9,    205.0,2,     0.96,2,     0.05,2,     0.00,2,     0.02,2,   -999.0,9,   -999.0,9,-999.0000,9,  -999.00,     2300
  49UF20120429,KS1204,  3452,  1,     36,  21995,2,20120522,2222, 24.2593, 146.0453,   -9,     11.9,  26.7221,  35.0868,2,-999.0000,9,    205.3,2,     0.81,2,     0.05,2,     0.00,2,     0.01,2,   -999.0,9,   -999.0,9,-999.0000,9,  -999.00,     2327
  49UF20120429,KS1204,  3452,  1,     35,  21994,2,20120522,2222, 24.2593, 146.0453,   -9,     27.3,  24.9661,  35.0709,2,-999.0000,9,    212.8,2,     1.01,2,     0.04,2,     0.00,2,     0.01,2,   -999.0,9,   -999.0,9,-999.0000,9,  -999.00,     2325
  49UF20120429,KS1204,  3452,  1,     34,  21993,2,20120522,2222, 24.2593, 146.0453,   -9,     51.9,  22.1266,  35.0919,2,-999.0000,9,    216.7,2,     1.38,2,     0.03,2,     0.00,2,     0.02,2,   -999.0,9,   -999.0,9,-999.0000,9,  -999.00,     2321
  49UF20120429,KS1204,  3452,  1,     33,  21992,2,20120522,2222, 24.2593, 146.0453,   -9,     76.1,  21.2898,  35.0416,2,-999.0000,9,    222.1,2,     1.47,2,     0.02,2,     0.00,2,     0.01,2,   -999.0,9,   -999.0,9,-999.0000,9,  -999.00,     2319
  49UF20120429,KS1204,  3452,  1,     32,  21991,2,20120522,2222, 24.2593, 146.0453,   -9,    102.4,  19.8637,  34.9027,2,-999.0000,9,    220.5,2,     1.79,2,     0.02,2,     0.00,2,     0.03,2,   -999.0,9,   -999.0,9,-999.0000,9,  -999.00,     2318
  49UF20120429,KS1204,  3452,  1,     31,  21990,2,20120522,2222, 24.2593, 146.0453,   -9,    127.2,  19.2927,  34.8491,2,-999.0000,9,    215.4,6,     2.05,6,     0.81,6,     0.06,6,     0.08,6,   -999.0,9,   -999.0,9,-999.0000,9,  -999.00,     2316
  49UF20120429,KS1204,  3452,  1,     27,  21986,2,20120522,2222, 24.2593, 146.0453,   -9,    153.1,  18.6069,  34.7959,2,-999.0000,9,    215.5,2,     2.37,2,     1.73,2,     0.06,2,     0.14,2,   -999.0,9,   -999.0,9,-999.0000,9,  -999.00,     2315
  49UF20120429,KS1204,  3452,  1,     26,  21985,2,20120522,2222, 24.2593, 146.0453,   -9,    202.4,  17.6517,  34.7207,2,-999.0000,9,    207.7,2,     3.50,2,     3.99,2,     0.01,2,     0.28,2,   -999.0,9,   -999.0,9,-999.0000,9,  -999.00,     2313
  49UF20120429,KS1204,  3452,  1,     25,  21984,2,20120522,2222, 24.2593, 146.0453,   -9,    254.3,  16.9120,  34.6885,2,-999.0000,9,    207.8,2,     4.63,2,     5.19,2,     0.01,2,     0.36,2,   -999.0,9,   -999.0,9,-999.0000,9,  -999.00,     2310
  49UF20120429,KS1204,  3452,  1,     24,  21983,2,20120522,2222, 24.2593, 146.0453,   -9,    305.1,  15.8061,  34.6116,2,-999.0000,9,    194.3,2,     7.84,2,     8.07,2,     0.01,2,     0.56,2,   -999.0,9,   -999.0,9,-999.0000,9,  -999.00,     2308
  49UF20120429,KS1204,  3452,  1,     23,  21982,2,20120522,2222, 24.2593, 146.0453,   -9,    405.2,  12.9340,  34.4148,2,-999.0000,9,    188.7,2,    15.39,2,    13.04,2,     0.00,2,     0.92,2,   -999.0,9,   -999.0,9,-999.0000,9,  -999.00,     2305
  49UF20120429,KS1204,  3452,  1,     22,  21981,2,20120522,2222, 24.2593, 146.0453,   -9,    405.2,  12.9340,  34.4148,2,-999.0000,9,    188.8,2,    15.52,2,    13.08,2,     0.01,2,     0.92,2,   -999.0,9,   -999.0,9,-999.0000,9,  -999.00,     2305
  49UF20120429,KS1204,  3452,  1,     18,  21977,2,20120522,2222, 24.2593, 146.0453,   -9,    504.9,   9.7724,  34.2027,2,-999.0000,9,    176.8,2,    28.23,2,    19.43,2,     0.00,2,     1.39,2,   -999.0,9,   -999.0,9,-999.0000,9,  -999.00,     2301
  49UF20120429,KS1204,  3452,  1,     17,  21976,2,20120522,2222, 24.2593, 146.0453,   -9,    605.2,   7.0253,  34.0627,2,-999.0000,9,    139.5,2,    51.26,2,    28.19,2,     0.00,2,     2.04,2,   -999.0,9,   -999.0,9,-999.0000,9,  -999.00,     2258
  49UF20120429,KS1204,  3452,  1,     16,  21975,2,20120522,2222, 24.2593, 146.0453,   -9,    707.8,   5.5293,  34.0928,2,-999.0000,9,     92.7,2,    74.09,2,    34.99,2,     0.00,2,     2.54,2,   -999.0,9,   -999.0,9,-999.0000,9,  -999.00,     2255
  49UF20120429,KS1204,  3452,  1,     15,  21974,2,20120522,2222, 24.2593, 146.0453,   -9,    809.1,   4.5660,  34.2082,2,-999.0000,9,     59.2,2,    96.89,2,    39.42,2,     0.00,2,     2.86,2,   -999.0,9,   -999.0,9,-999.0000,9,  -999.00,     2252
  49UF20120429,KS1204,  3452,  1,     14,  21973,2,20120522,2222, 24.2593, 146.0453,   -9,    909.4,   4.0399,  34.2872,2,-999.0000,9,     48.0,2,   110.99,2,    41.02,2,     0.00,2,     2.96,2,   -999.0,9,   -999.0,9,-999.0000,9,  -999.00,     2249
  49UF20120429,KS1204,  3452,  1,     13,  21972,2,20120522,2222, 24.2593, 146.0453,   -9,   1010.7,   3.6206,  34.3885,2,-999.0000,9,     47.4,6,   121.56,6,    41.74,6,     0.00,6,     3.01,6,   -999.0,9,   -999.0,9,-999.0000,9,  -999.00,     2246
  49UF20120429,KS1204,  3452,  1,      9,  21968,2,20120522,2222, 24.2593, 146.0453,   -9,   1213.2,   3.0222,  34.4764,2,-999.0000,9,     57.8,2,   135.05,2,    41.58,2,     0.00,2,     2.98,2,   -999.0,9,   -999.0,9,-999.0000,9,  -999.00,     2242
  49UF20120429,KS1204,  3452,  1,      8,  21967,2,20120522,2222, 24.2593, 146.0453,   -9,   1416.7,   2.5900,  34.5353,2,-999.0000,9,     77.1,2,   140.93,2,    40.63,2,     0.00,2,     2.90,2,   -999.0,9,   -999.0,9,-999.0000,9,  -999.00,     2237
  49UF20120429,KS1204,  3452,  1,      7,  21966,2,20120522,2222, 24.2593, 146.0453,   -9,   1618.9,   2.3017,  34.5714,2,-999.0000,9,     89.2,2,   144.59,2,    39.92,2,     0.00,2,     2.84,2,   -999.0,9,   -999.0,9,-999.0000,9,  -999.00,     2232
  49UF20120429,KS1204,  3452,  1,      6,  21965,2,20120522,2222, 24.2593, 146.0453,   -9,   1821.8,   2.0940,  34.5978,2,-999.0000,9,     99.1,2,   147.14,2,    39.44,2,     0.00,2,     2.80,2,   -999.0,9,   -999.0,9,-999.0000,9,  -999.00,     2227
  49UF20120429,KS1204,  3452,  1,      5,  21964,2,20120522,2222, 24.2593, 146.0453,   -9,   2024.2,   1.9301,  34.6186,2,-999.0000,9,    107.8,2,   148.52,2,    38.94,2,     0.00,2,     2.76,2,   -999.0,9,   -999.0,9,-999.0000,9,  -999.00,     2222
  49UF20120429,KS1204,  3452,  1,      4,  21963,2,20120522,2222, 24.2593, 146.0453,   -9,   2024.2,   1.9301,  34.6186,2,-999.0000,9,    107.6,2,   148.82,2,    38.93,2,     0.00,2,     2.76,2,   -999.0,9,   -999.0,9,-999.0000,9,  -999.00,     2222
  49UF20120429,KS1204,  3454,  1,     99,     99,2,20120523,0803, 24.2687, 147.2332, 5833,      0.0,  27.4502,  35.0916,2,-999.0000,9,    202.6,2,     0.89,2,     0.06,2,     0.00,2,     0.01,2,   -999.0,9,   -999.0,9,-999.0000,9,  -999.00,      850
  49UF20120429,KS1204,  3454,  1,     36,  21995,4,20120523,0803, 24.2687, 147.2332, 5833,     12.0,  27.4189,  35.0930,2,-999.0000,9,   -999.0,9,  -999.00,9,  -999.00,9,  -999.00,9,  -999.00,9,   -999.0,9,   -999.0,9,-999.0000,9,  -999.00,      906
  49UF20120429,KS1204,  3454,  1,     35,  21994,2,20120523,0803, 24.2687, 147.2332, 5833,     27.1,  25.9913,  35.0234,2,  35.0430,4,    207.9,2,     0.98,2,     0.07,2,     0.00,2,     0.01,2,   -999.0,9,   -999.0,9,-999.0000,9,  -999.00,      905
  49UF20120429,KS1204,  3454,  1,     34,  21993,2,20120523,0803, 24.2687, 147.2332, 5833,     52.6,  24.2646,  35.1771,2,-999.0000,9,    215.1,2,     1.11,2,     0.11,2,     0.00,2,     0.01,2,   -999.0,9,   -999.0,9,-999.0000,9,  -999.00,      900
  49UF20120429,KS1204,  3454,  1,     33,  21992,2,20120523,0803, 24.2687, 147.2332, 5833,     77.2,  23.2933,  35.2555,2,-999.0000,9,    218.0,2,     1.13,2,     0.06,2,     0.00,2,     0.01,2,   -999.0,9,   -999.0,9,-999.0000,9,  -999.00,      859
  49UF20120429,KS1204,  3454,  1,     32,  21991,2,20120523,0803, 24.2687, 147.2332, 5833,    102.2,  22.3984,  35.1298,2,  35.1293,2,    217.0,6,     1.41,6,     0.08,6,     0.00,6,     0.01,6,   -999.0,9,   -999.0,9,-999.0000,9,  -999.00,      858
  49UF20120429,KS1204,  3454,  1,     31,  21990,2,20120523,0803, 24.2687, 147.2332, 5833,    127.6,  20.9262,  35.0401,2,-999.0000,9,    205.3,2,     1.82,2,     0.33,2,     0.03,2,     0.07,2,   -999.0,9,   -999.0,9,-999.0000,9,  -999.00,      857
  49UF20120429,KS1204,  3454,  1,     27,  21986,2,20120523,0803, 24.2687, 147.2332, 5833,    154.5,  19.4322,  34.8654,2,-999.0000,9,    206.1,2,     2.29,2,     0.94,2,     0.15,2,     0.11,2,   -999.0,9,   -999.0,9,-999.0000,9,  -999.00,      856
  49UF20120429,KS1204,  3454,  1,     26,  21985,2,20120523,0803, 24.2687, 147.2332, 5833,    202.6,  17.7344,  34.7263,2,  34.7266,6,    201.0,2,     3.57,2,     4.27,2,     0.01,2,     0.29,2,   -999.0,9,   -999.0,9,-999.0000,9,  -999.00,      854
  49UF20120429,KS1204,  3454,  1,     25,  21984,2,20120523,0803, 24.2687, 147.2332, 5833,    255.6,  16.6938,  34.6682,2,-999.0000,9,    205.2,2,     5.03,2,     5.72,2,     0.01,2,     0.39,2,   -999.0,9,   -999.0,9,-999.0000,9,  -999.00,      852
  49UF20120429,KS1204,  3454,  1,     24,  21983,2,20120523,0803, 24.2687, 147.2332, 5833,    305.0,  15.6866,  34.5894,2,-999.0000,9,    197.9,2,     7.05,2,     7.64,2,     0.00,2,     0.53,2,   -999.0,9,   -999.0,9,-999.0000,9,  -999.00,      850
  49UF20120429,KS1204,  3454,  1,     23,  21982,2,20120523,0803, 24.2687, 147.2332, 5833,    305.0,  15.6866,  34.5894,2,-999.0000,9,    198.1,2,     7.09,2,     7.61,2,     0.00,2,     0.53,2,   -999.0,9,   -999.0,9,-999.0000,9,  -999.00,      850
  49UF20120429,KS1204,  3454,  1,     22,  21981,2,20120523,0803, 24.2687, 147.2332, 5833,    408.4,  12.9921,  34.3966,2,  34.4007,2,   -999.0,5,    13.02,2,    12.29,2,     0.00,2,     0.88,2,   -999.0,9,   -999.0,9,-999.0000,9,  -999.00,      847
  49UF20120429,KS1204,  3454,  1,     18,  21977,2,20120523,0803, 24.2687, 147.2332, 5833,    508.5,   9.8140,  34.1949,2,-999.0000,9,    174.6,2,    27.30,2,    19.62,2,     0.00,2,     1.40,2,   -999.0,9,   -999.0,9,-999.0000,9,  -999.00,      845
  49UF20120429,KS1204,  3454,  1,     17,  21976,2,20120523,0803, 24.2687, 147.2332, 5833,    610.4,   7.5206,  34.0921,2,  34.0927,2,    140.6,2,    46.59,2,    27.04,2,     0.00,2,     1.95,2,   -999.0,9,   -999.0,9,-999.0000,9,  -999.00,      841
  49UF20120429,KS1204,  3454,  1,     16,  21975,2,20120523,0803, 24.2687, 147.2332, 5833,    710.6,   5.5329,  34.0868,2,-999.0000,9,     94.4,2,    74.00,2,    34.79,2,     0.00,2,     2.52,2,   -999.0,9,   -999.0,9,-999.0000,9,  -999.00,      838
  49UF20120429,KS1204,  3454,  1,     15,  21974,2,20120523,0803, 24.2687, 147.2332, 5833,    811.2,   4.7388,  34.1617,2,  34.1611,2,     63.8,2,    92.02,2,    38.65,2,     0.00,2,     2.81,2,   -999.0,9,   -999.0,9,-999.0000,9,  -999.00,      835
  49UF20120429,KS1204,  3454,  1,     14,  21973,2,20120523,0803, 24.2687, 147.2332, 5833,    916.3,   4.1497,  34.2661,2,-999.0000,9,     46.3,6,   108.00,6,    41.01,6,     0.00,6,     2.96,6,   -999.0,9,   -999.0,9,-999.0000,9,  -999.00,      832
  49UF20120429,KS1204,  3454,  1,     13,  21972,2,20120523,0803, 24.2687, 147.2332, 5833,   1014.0,   3.8855,  34.3546,2,  34.3519,2,     46.3,2,   114.83,2,    41.45,2,     0.00,2,     2.99,2,   -999.0,9,   -999.0,9,-999.0000,9,  -999.00,      828
  49UF20120429,KS1204,  3454,  1,      9,  21968,2,20120523,0803, 24.2687, 147.2332, 5833,   1215.6,   3.1729,  34.4560,2,  34.4548,2,     54.0,2,   131.66,2,    41.61,2,     0.00,2,     2.99,2,   -999.0,9,   -999.0,9,-999.0000,9,  -999.00,      823
  49UF20120429,KS1204,  3454,  1,      8,  21967,2,20120523,0803, 24.2687, 147.2332, 5833,   1419.4,   2.6613,  34.5158,2,  34.5147,2,     63.8,2,   143.19,2,    41.44,2,     0.00,2,     3.02,4,   -999.0,9,   -999.0,9,-999.0000,9,  -999.00,      817
  49UF20120429,KS1204,  3454,  1,      7,  21966,2,20120523,0803, 24.2687, 147.2332, 5833,   1621.7,   2.2970,  34.5609,2,  34.5586,2,     77.5,2,   149.00,2,    40.71,2,     0.00,2,     2.91,2,   -999.0,9,   -999.0,9,-999.0000,9,  -999.00,      812
  49UF20120429,KS1204,  3454,  1,      6,  21965,2,20120523,0803, 24.2687, 147.2332, 5833,   1822.4,   2.0975,  34.5903,2,  34.5904,2,     94.3,2,   148.80,2,    39.70,2,     0.00,2,     2.82,2,   -999.0,9,   -999.0,9,-999.0000,9,  -999.00,      807
  49UF20120429,KS1204,  3454,  1,      5,  21964,2,20120523,0803, 24.2687, 147.2332, 5833,   1822.4,   2.0975,  34.5903,2,  34.5897,6,     94.2,2,   148.96,2,    39.61,2,     0.00,2,     2.82,2,   -999.0,9,   -999.0,9,-999.0000,9,  -999.00,      807
  49UF20120429,KS1204,  3454,  1,      4,  21963,2,20120523,0803, 24.2687, 147.2332, 5833,   2019.6,   1.9238,  34.6135,2,  34.6135,2,    105.0,2,   149.92,2,    39.02,2,     0.00,2,     2.77,2,   -999.0,9,   -999.0,9,-999.0000,9,  -999.00,      803
  49UF20120429,KS1204,  3456,  1,     99,     99,2,20120523,1735, 24.2658, 148.4293, 5746,      0.0,  27.0440,  35.0727,2,-999.0000,9,    203.5,2,     0.88,2,     0.03,2,     0.00,2,     0.01,2,   -999.0,9,   -999.0,9,-999.0000,9,  -999.00,     1814
  49UF20120429,KS1204,  3456,  1,     36,  21995,2,20120523,1735, 24.2658, 148.4293, 5746,     11.5,  27.0417,  35.0714,2,-999.0000,9,    203.7,2,     0.95,2,     0.03,2,     0.00,2,     0.01,2,   -999.0,9,   -999.0,9,-999.0000,9,  -999.00,     1833
  49UF20120429,KS1204,  3456,  1,     35,  21994,2,20120523,1735, 24.2658, 148.4293, 5746,     26.3,  25.9323,  35.1663,2,-999.0000,9,    209.4,2,     0.86,2,     0.02,2,     0.00,2,     0.01,2,   -999.0,9,   -999.0,9,-999.0000,9,  -999.00,     1832
  49UF20120429,KS1204,  3456,  1,     34,  21993,2,20120523,1735, 24.2658, 148.4293, 5746,     52.1,  25.1877,  35.1688,2,-999.0000,9,    211.9,2,     0.90,2,     0.00,2,     0.00,2,     0.01,2,   -999.0,9,   -999.0,9,-999.0000,9,  -999.00,     1829
  49UF20120429,KS1204,  3456,  1,     33,  21992,2,20120523,1735, 24.2658, 148.4293, 5746,     76.2,  24.0495,  35.1853,2,-999.0000,9,    214.0,2,     1.09,6,     0.02,6,     0.00,6,     0.01,6,   -999.0,9,   -999.0,9,-999.0000,9,  -999.00,     1827
  49UF20120429,KS1204,  3456,  1,     32,  21991,2,20120523,1735, 24.2658, 148.4293, 5746,    102.5,  22.4647,  35.1251,2,-999.0000,9,    210.0,2,     1.43,2,     0.00,2,     0.00,2,     0.02,2,   -999.0,9,   -999.0,9,-999.0000,9,  -999.00,     1826
  49UF20120429,KS1204,  3456,  1,     31,  21990,2,20120523,1735, 24.2658, 148.4293, 5746,    125.4,  21.6729,  35.0764,2,-999.0000,9,    207.6,2,     1.61,2,     0.01,2,     0.01,2,     0.04,2,   -999.0,9,   -999.0,9,-999.0000,9,  -999.00,     1825
  49UF20120429,KS1204,  3456,  1,     27,  21986,2,20120523,1735, 24.2658, 148.4293, 5746,    152.6,  20.1355,  34.9506,2,-999.0000,9,    218.1,2,     1.80,2,     0.09,2,     0.07,2,     0.04,2,   -999.0,9,   -999.0,9,-999.0000,9,  -999.00,     1823
  49UF20120429,KS1204,  3456,  1,     26,  21985,2,20120523,1735, 24.2658, 148.4293, 5746,    202.8,  18.4622,  34.7997,2,-999.0000,9,    204.0,2,     2.85,2,     2.75,2,     0.01,2,     0.21,2,   -999.0,9,   -999.0,9,-999.0000,9,  -999.00,     1822
  49UF20120429,KS1204,  3456,  1,     25,  21984,2,20120523,1735, 24.2658, 148.4293, 5746,    253.1,  17.3305,  34.7069,2,-999.0000,9,    206.6,2,     3.86,2,     4.43,2,     0.01,2,     0.31,2,   -999.0,9,   -999.0,9,-999.0000,9,  -999.00,     1820
  49UF20120429,KS1204,  3456,  1,     24,  21983,2,20120523,1735, 24.2658, 148.4293, 5746,    253.1,  17.3305,  34.7069,2,-999.0000,9,    206.8,2,     3.83,2,     4.45,2,     0.01,2,     0.31,2,   -999.0,9,   -999.0,9,-999.0000,9,  -999.00,     1820
  49UF20120429,KS1204,  3456,  1,     23,  21982,2,20120523,1735, 24.2658, 148.4293, 5746,    303.6,  16.2706,  34.6333,2,-999.0000,9,    199.9,2,     5.93,2,     6.59,2,     0.01,2,     0.46,2,   -999.0,9,   -999.0,9,-999.0000,9,  -999.00,     1818
  49UF20120429,KS1204,  3456,  1,     22,  21981,2,20120523,1735, 24.2658, 148.4293, 5746,    405.2,  14.0412,  34.4800,2,-999.0000,9,    194.4,2,    10.74,2,    10.50,2,     0.00,2,     0.74,2,   -999.0,9,   -999.0,9,-999.0000,9,  -999.00,     1815
  49UF20120429,KS1204,  3456,  1,     18,  21977,2,20120523,1735, 24.2658, 148.4293, 5746,    503.8,  11.1047,  34.2715,2,-999.0000,9,    187.1,2,    19.95,2,    16.01,2,     0.00,2,     1.15,2,   -999.0,9,   -999.0,9,-999.0000,9,  -999.00,     1812
  49UF20120429,KS1204,  3456,  1,     17,  21976,2,20120523,1735, 24.2658, 148.4293, 5746,    604.8,   8.2573,  34.1101,2,-999.0000,9,    152.9,2,    38.56,2,    24.51,2,     0.00,2,     1.77,2,   -999.0,9,   -999.0,9,-999.0000,9,  -999.00,     1809
  49UF20120429,KS1204,  3456,  1,     16,  21975,2,20120523,1735, 24.2658, 148.4293, 5746,    706.0,   6.1941,  34.0877,2,-999.0000,9,    105.0,2,    63.91,2,    32.46,2,     0.00,2,     2.37,2,   -999.0,9,   -999.0,9,-999.0000,9,  -999.00,     1807
  49UF20120429,KS1204,  3456,  1,     15,  21974,2,20120523,1735, 24.2658, 148.4293, 5746,    807.5,   5.0789,  34.1336,2,-999.0000,9,     75.2,6,    84.33,6,    37.09,6,     0.00,6,     2.69,6,   -999.0,9,   -999.0,9,-999.0000,9,  -999.00,     1803
  49UF20120429,KS1204,  3456,  1,     14,  21973,2,20120523,1735, 24.2658, 148.4293, 5746,    908.9,   4.3460,  34.2355,2,-999.0000,9,     51.1,2,   102.63,2,    40.23,2,     0.00,2,     2.92,2,   -999.0,9,   -999.0,9,-999.0000,9,  -999.00,     1801
  49UF20120429,KS1204,  3456,  1,     13,  21972,2,20120523,1735, 24.2658, 148.4293, 5746,   1010.5,   3.8343,  34.3301,2,-999.0000,9,     43.5,2,   115.96,2,    41.48,2,     0.00,2,     3.00,2,   -999.0,9,   -999.0,9,-999.0000,9,  -999.00,     1758
  49UF20120429,KS1204,  3456,  1,      9,  21968,2,20120523,1735, 24.2658, 148.4293, 5746,   1214.4,   3.2064,  34.4414,2,-999.0000,9,     47.4,2,   132.34,2,    41.93,2,     0.00,2,     3.02,2,   -999.0,9,   -999.0,9,-999.0000,9,  -999.00,     1753
  49UF20120429,KS1204,  3456,  1,      8,  21967,2,20120523,1735, 24.2658, 148.4293, 5746,   1414.0,   2.6613,  34.5052,2,-999.0000,9,     53.9,2,   146.01,2,    42.04,2,     0.00,2,     3.01,2,   -999.0,9,   -999.0,9,-999.0000,9,  -999.00,     1748
  49UF20120429,KS1204,  3456,  1,      7,  21966,3,20120523,1735, 24.2658, 148.4293, 5746,   1617.7,   2.2498,  34.5642,2,-999.0000,9,     74.4,2,   151.12,2,    40.78,2,     0.00,2,     2.91,2,   -999.0,9,   -999.0,9,-999.0000,9,  -999.00,     1743
  49UF20120429,KS1204,  3456,  1,      6,  21965,2,20120523,1735, 24.2658, 148.4293, 5746,   1617.7,   2.2498,  34.5642,2,-999.0000,9,     74.6,2,   151.27,2,    40.88,2,     0.00,2,     2.91,2,   -999.0,9,   -999.0,9,-999.0000,9,  -999.00,     1743
  49UF20120429,KS1204,  3456,  1,      5,  21964,3,20120523,1735, 24.2658, 148.4293, 5746,   1818.6,   2.0641,  34.5938,2,-999.0000,9,     91.9,2,   150.85,2,    39.83,2,     0.00,2,     2.82,2,   -999.0,9,   -999.0,9,-999.0000,9,  -999.00,     1739
  49UF20120429,KS1204,  3456,  1,      4,  21963,2,20120523,1735, 24.2658, 148.4293, 5746,   2020.9,   1.9311,  34.6173,2,-999.0000,9,    106.5,2,   148.31,2,    38.80,2,     0.00,2,     2.75,2,   -999.0,9,   -999.0,9,-999.0000,9,  -999.00,     1735