BOTTLE,20191017PRINUNIVRMK
EXPOCODE,SECT_ID,STNNBR,CASTNO,SAMPNO,BTLNBR,BTLNBR_FLAG_W,DATE,TIME,LATITUDE,LONGITUDE,DEPTH,CTDPRS,CTDTMP,CTDSAL,CTDSAL_FLAG_W,SALNTY,SALNTY_FLAG_W,OXYGEN,OXYGEN_FLAG_W,SILCAT,SILCAT_FLAG_W,NITRAT,NITRAT_FLAG_W,NITRIT,NITRIT_FLAG_W,PHSPHT,PHSPHT_FLAG_W,TCARBN,TCARBN_FLAG_W,ALKALI,ALKALI_FLAG_W,PH_TOT,PH_TOT_FLAG_W,PH_TMP,BTL_TIME
,,,,,,,,,,,METERS,DBAR,ITS-90,PSS-78,,PSS-78,,UMOL/KG,,UMOL/KG,,UMOL/KG,,UMOL/KG,,UMOL/KG,,UMOL/KG,,UMOL/KG,,,,DEG C,
  49UF20120429,KS1204,  3409,  1,     99,     99,2,20120503,1529, 24.9872, 129.4923, 4104,      0.0,  23.5002,  34.3791,2,-999.0000,9,    214.8,2,  -999.00,9,  -999.00,9,  -999.00,9,  -999.00,9,   -999.0,9,   -999.0,9,-999.0000,9,  -999.00,     1615
  49UF20120429,KS1204,  3409,  1,     36,  21995,2,20120503,1529, 24.9872, 129.4923, 4104,     11.4,  23.4835,  34.3849,2,-999.0000,9,    214.8,2,  -999.00,9,  -999.00,9,  -999.00,9,  -999.00,9,   -999.0,9,   -999.0,9,-999.0000,9,  -999.00,     1631
  49UF20120429,KS1204,  3409,  1,     35,  21994,2,20120503,1529, 24.9872, 129.4923, 4104,     29.1,  22.2786,  34.7315,2,-999.0000,9,    220.5,2,  -999.00,9,  -999.00,9,  -999.00,9,  -999.00,9,   -999.0,9,   -999.0,9,-999.0000,9,  -999.00,     1629
  49UF20120429,KS1204,  3409,  1,     34,  21993,2,20120503,1529, 24.9872, 129.4923, 4104,     53.9,  21.5511,  34.8315,2,-999.0000,9,    217.5,2,  -999.00,9,  -999.00,9,  -999.00,9,  -999.00,9,   -999.0,9,   -999.0,9,-999.0000,9,  -999.00,     1627
  49UF20120429,KS1204,  3409,  1,     30,  21989,2,20120503,1529, 24.9872, 129.4923, 4104,     77.8,  21.1019,  34.8473,2,-999.0000,9,    218.5,2,  -999.00,9,  -999.00,9,  -999.00,9,  -999.00,9,   -999.0,9,   -999.0,9,-999.0000,9,  -999.00,     1625
  49UF20120429,KS1204,  3409,  1,     29,  21988,2,20120503,1529, 24.9872, 129.4923, 4104,    102.5,  20.7936,  34.8458,2,-999.0000,9,    208.6,2,  -999.00,9,  -999.00,9,  -999.00,9,  -999.00,9,   -999.0,9,   -999.0,9,-999.0000,9,  -999.00,     1620
  49UF20120429,KS1204,  3409,  1,     28,  21987,2,20120503,1529, 24.9872, 129.4923, 4104,    102.5,  20.7936,  34.8458,2,-999.0000,9,    208.4,2,  -999.00,9,  -999.00,9,  -999.00,9,  -999.00,9,   -999.0,9,   -999.0,9,-999.0000,9,  -999.00,     1620
  49UF20120429,KS1204,  3409,  1,     27,  21986,2,20120503,1529, 24.9872, 129.4923, 4104,    127.7,  20.1880,  34.8338,2,-999.0000,9,    203.6,2,  -999.00,9,  -999.00,9,  -999.00,9,  -999.00,9,   -999.0,9,   -999.0,9,-999.0000,9,  -999.00,     1619
  49UF20120429,KS1204,  3409,  1,     26,  21985,2,20120503,1529, 24.9872, 129.4923, 4104,    153.6,  19.6874,  34.8138,2,-999.0000,9,    201.9,2,  -999.00,9,  -999.00,9,  -999.00,9,  -999.00,9,   -999.0,9,   -999.0,9,-999.0000,9,  -999.00,     1618
  49UF20120429,KS1204,  3409,  1,     25,  21984,2,20120503,1529, 24.9872, 129.4923, 4104,    204.1,  18.6604,  34.7694,2,-999.0000,9,    203.2,2,  -999.00,9,  -999.00,9,  -999.00,9,  -999.00,9,   -999.0,9,   -999.0,9,-999.0000,9,  -999.00,     1616
  49UF20120429,KS1204,  3409,  1,     21,  21980,2,20120503,1529, 24.9872, 129.4923, 4104,    254.3,  18.1847,  34.7444,2,-999.0000,9,    200.5,2,  -999.00,9,  -999.00,9,  -999.00,9,  -999.00,9,   -999.0,9,   -999.0,9,-999.0000,9,  -999.00,     1614
  49UF20120429,KS1204,  3409,  1,     20,  21979,2,20120503,1529, 24.9872, 129.4923, 4104,    306.0,  17.4008,  34.7018,2,-999.0000,9,    193.6,2,  -999.00,9,  -999.00,9,  -999.00,9,  -999.00,9,   -999.0,9,   -999.0,9,-999.0000,9,  -999.00,     1612
  49UF20120429,KS1204,  3409,  1,     19,  21978,2,20120503,1529, 24.9872, 129.4923, 4104,    407.3,  15.3005,  34.5831,2,-999.0000,9,    184.6,6,  -999.00,9,  -999.00,9,  -999.00,9,  -999.00,9,   -999.0,9,   -999.0,9,-999.0000,9,  -999.00,     1609
  49UF20120429,KS1204,  3409,  1,     18,  21977,2,20120503,1529, 24.9872, 129.4923, 4104,    507.1,  12.5300,  34.3994,2,-999.0000,9,    174.3,2,  -999.00,9,  -999.00,9,  -999.00,9,  -999.00,9,   -999.0,9,   -999.0,9,-999.0000,9,  -999.00,     1606
  49UF20120429,KS1204,  3409,  1,     17,  21976,2,20120503,1529, 24.9872, 129.4923, 4104,    609.1,   9.6510,  34.2365,2,-999.0000,9,   -999.0,5,  -999.00,9,  -999.00,9,  -999.00,9,  -999.00,9,   -999.0,9,   -999.0,9,-999.0000,9,  -999.00,     1603
  49UF20120429,KS1204,  3409,  1,     16,  21975,2,20120503,1529, 24.9872, 129.4923, 4104,    709.0,   7.1786,  34.1558,2,-999.0000,9,    122.0,2,  -999.00,9,  -999.00,9,  -999.00,9,  -999.00,9,   -999.0,9,   -999.0,9,-999.0000,9,  -999.00,     1601
  49UF20120429,KS1204,  3409,  1,     12,  21971,2,20120503,1529, 24.9872, 129.4923, 4104,    809.4,   5.5909,  34.1592,2,-999.0000,9,     91.2,2,  -999.00,9,  -999.00,9,  -999.00,9,  -999.00,9,   -999.0,9,   -999.0,9,-999.0000,9,  -999.00,     1558
  49UF20120429,KS1204,  3409,  1,     11,  21970,2,20120503,1529, 24.9872, 129.4923, 4104,    910.7,   4.6955,  34.2483,2,-999.0000,9,     68.3,2,  -999.00,9,  -999.00,9,  -999.00,9,  -999.00,9,   -999.0,9,   -999.0,9,-999.0000,9,  -999.00,     1555
  49UF20120429,KS1204,  3409,  1,     10,  21969,2,20120503,1529, 24.9872, 129.4923, 4104,    910.7,   4.6955,  34.2483,2,-999.0000,9,     68.2,2,  -999.00,9,  -999.00,9,  -999.00,9,  -999.00,9,   -999.0,9,   -999.0,9,-999.0000,9,  -999.00,     1555
  49UF20120429,KS1204,  3409,  1,      9,  21968,2,20120503,1529, 24.9872, 129.4923, 4104,   1010.7,   4.0623,  34.3298,2,-999.0000,9,     59.0,2,  -999.00,9,  -999.00,9,  -999.00,9,  -999.00,9,   -999.0,9,   -999.0,9,-999.0000,9,  -999.00,     1552
  49UF20120429,KS1204,  3409,  1,      8,  21967,2,20120503,1529, 24.9872, 129.4923, 4104,   1215.5,   3.3022,  34.4378,2,-999.0000,9,     63.5,2,  -999.00,9,  -999.00,9,  -999.00,9,  -999.00,9,   -999.0,9,   -999.0,9,-999.0000,9,  -999.00,     1547
  49UF20120429,KS1204,  3409,  1,      7,  21966,2,20120503,1529, 24.9872, 129.4923, 4104,   1418.4,   2.7303,  34.5084,2,-999.0000,9,     75.4,2,  -999.00,9,  -999.00,9,  -999.00,9,  -999.00,9,   -999.0,9,   -999.0,9,-999.0000,9,  -999.00,     1543
  49UF20120429,KS1204,  3409,  1,      3,  21962,4,20120503,1529, 24.9872, 129.4923, 4104,   1620.2,   2.4424,  34.5497,2,-999.0000,9,     74.8,4,  -999.00,9,  -999.00,9,  -999.00,9,  -999.00,9,   -999.0,9,   -999.0,9,-999.0000,9,  -999.00,     1538
  49UF20120429,KS1204,  3409,  1,      2,  21961,2,20120503,1529, 24.9872, 129.4923, 4104,   1822.1,   2.2021,  34.5833,2,-999.0000,9,    101.1,2,  -999.00,9,  -999.00,9,  -999.00,9,  -999.00,9,   -999.0,9,   -999.0,9,-999.0000,9,  -999.00,     1533
  49UF20120429,KS1204,  3409,  1,      1,  21960,2,20120503,1529, 24.9872, 129.4923, 4104,   2024.1,   2.0308,  34.6069,2,-999.0000,9,    111.3,6,  -999.00,9,  -999.00,9,  -999.00,9,  -999.00,9,   -999.0,9,   -999.0,9,-999.0000,9,  -999.00,     1529
  49UF20120429,KS1204,  3412,  1,     99,     99,2,20120504,0257, 25.4947, 128.7577, 7026,      0.0,  25.9579,  34.4849,2,-999.0000,9,    205.7,2,     1.14,2,     0.00,2,     0.00,2,     0.01,2,   -999.0,9,   -999.0,9,-999.0000,9,  -999.00,      505
  49UF20120429,KS1204,  3412,  1,     36,  21995,2,20120504,0257, 25.4947, 128.7577, 7026,     12.6,  25.8842,  34.4726,2,  34.4730,2,    205.9,2,     1.10,2,     0.00,2,     0.00,2,     0.00,2,   -999.0,9,   -999.0,9,-999.0000,9,  -999.00,      524
  49UF20120429,KS1204,  3412,  1,     35,  21994,2,20120504,0257, 25.4947, 128.7577, 7026,     27.9,  25.8771,  34.4783,2,-999.0000,9,    205.8,2,     1.12,2,     0.00,2,     0.00,2,     0.00,2,   -999.0,9,   -999.0,9,-999.0000,9,  -999.00,      522
  49UF20120429,KS1204,  3412,  1,     34,  21993,2,20120504,0257, 25.4947, 128.7577, 7026,     52.4,  25.1436,  34.6225,2,-999.0000,9,    208.9,2,     1.23,2,     0.00,2,     0.00,2,     0.00,2,   -999.0,9,   -999.0,9,-999.0000,9,  -999.00,      518
  49UF20120429,KS1204,  3412,  1,     33,  21992,2,20120504,0257, 25.4947, 128.7577, 7026,     76.6,  24.3233,  34.8591,2,-999.0000,9,    202.5,2,     1.37,2,     0.00,2,     0.00,2,     0.02,2,   -999.0,9,   -999.0,9,-999.0000,9,  -999.00,      517
  49UF20120429,KS1204,  3412,  1,     32,  21991,2,20120504,0257, 25.4947, 128.7577, 7026,    103.6,  22.9581,  34.7360,2,  34.7369,2,    214.1,6,     1.43,6,    -0.01,6,     0.01,6,     0.01,6,   -999.0,9,   -999.0,9,-999.0000,9,  -999.00,      515
  49UF20120429,KS1204,  3412,  1,     31,  21990,2,20120504,0257, 25.4947, 128.7577, 7026,    126.9,  22.4757,  34.7643,2,-999.0000,9,    210.0,2,     1.57,2,     0.01,2,     0.21,2,     0.03,2,   -999.0,9,   -999.0,9,-999.0000,9,  -999.00,      514
  49UF20120429,KS1204,  3412,  1,     30,  21989,2,20120504,0257, 25.4947, 128.7577, 7026,    152.5,  22.0853,  34.8070,2,-999.0000,9,    205.3,2,     1.61,2,     0.56,2,     0.05,2,     0.05,2,   -999.0,9,   -999.0,9,-999.0000,9,  -999.00,      513
  49UF20120429,KS1204,  3412,  1,     29,  21988,4,20120504,0257, 25.4947, 128.7577, 7026,    204.4,  21.0846,  34.8584,2,-999.0000,9,   -999.0,9,  -999.00,9,  -999.00,9,  -999.00,9,  -999.00,9,   -999.0,9,   -999.0,9,-999.0000,9,  -999.00,      511
  49UF20120429,KS1204,  3412,  1,     28,  21987,2,20120504,0257, 25.4947, 128.7577, 7026,    251.5,  19.5837,  34.8071,2,  34.8056,2,    201.1,2,     2.69,2,     2.33,2,     0.01,2,     0.16,2,   -999.0,9,   -999.0,9,-999.0000,9,  -999.00,      509
  49UF20120429,KS1204,  3412,  1,     27,  21986,2,20120504,0257, 25.4947, 128.7577, 7026,    305.0,  18.4219,  34.7563,2,-999.0000,9,    201.8,2,     3.38,2,     3.53,2,     0.01,2,     0.24,2,   -999.0,9,   -999.0,9,-999.0000,9,  -999.00,      508
  49UF20120429,KS1204,  3412,  1,     26,  21985,2,20120504,0257, 25.4947, 128.7577, 7026,    405.0,  16.8033,  34.6774,2,  34.6770,2,    199.3,2,     5.81,2,     6.04,2,     0.01,2,     0.41,2,   -999.0,9,   -999.0,9,-999.0000,9,  -999.00,      505
  49UF20120429,KS1204,  3412,  1,     25,  21984,2,20120504,0257, 25.4947, 128.7577, 7026,    505.8,  13.6216,  34.4678,2,-999.0000,9,    180.9,2,    14.23,2,    12.52,2,     0.00,2,     0.88,2,   -999.0,9,   -999.0,9,-999.0000,9,  -999.00,      502
  49UF20120429,KS1204,  3412,  1,     24,  21983,2,20120504,0257, 25.4947, 128.7577, 7026,    607.2,  10.5351,  34.2765,2,  34.2763,2,    160.4,2,    28.13,2,    19.61,2,     0.00,2,     1.41,2,   -999.0,9,   -999.0,9,-999.0000,9,  -999.00,      459
  49UF20120429,KS1204,  3412,  1,     23,  21982,2,20120504,0257, 25.4947, 128.7577, 7026,    707.7,   7.8720,  34.1668,2,-999.0000,9,    128.8,6,    49.79,6,    27.25,6,     0.00,6,     1.98,6,   -999.0,9,   -999.0,9,-999.0000,9,  -999.00,      457
  49UF20120429,KS1204,  3412,  1,     22,  21981,2,20120504,0257, 25.4947, 128.7577, 7026,    809.0,   5.8939,  34.1791,2,  34.1804,2,     90.8,2,    75.53,2,    34.09,2,     0.00,2,     2.48,2,   -999.0,9,   -999.0,9,-999.0000,9,  -999.00,      454
  49UF20120429,KS1204,  3412,  1,     21,  21980,2,20120504,0257, 25.4947, 128.7577, 7026,    910.3,   5.0640,  34.2666,2,-999.0000,9,     70.9,2,    91.12,2,    37.21,2,     0.00,2,     2.70,2,   -999.0,9,   -999.0,9,-999.0000,9,  -999.00,      452
  49UF20120429,KS1204,  3412,  1,     20,  21979,2,20120504,0257, 25.4947, 128.7577, 7026,   1010.8,   4.5282,  34.3524,2,  34.3550,2,     67.0,2,   103.20,2,    38.33,2,     0.00,2,     2.78,2,   -999.0,9,   -999.0,9,-999.0000,9,  -999.00,      449
  49UF20120429,KS1204,  3412,  1,     19,  21978,2,20120504,0257, 25.4947, 128.7577, 7026,   1214.4,   3.4878,  34.4521,2,  34.4527,2,     68.4,2,   123.51,2,    39.64,2,     0.00,2,     2.86,2,   -999.0,9,   -999.0,9,-999.0000,9,  -999.00,      444
  49UF20120429,KS1204,  3412,  1,     18,  21977,2,20120504,0257, 25.4947, 128.7577, 7026,   1416.3,   2.8373,  34.4969,2,  34.4966,2,     73.0,2,   135.57,2,    40.08,2,     0.00,2,     2.87,2,   -999.0,9,   -999.0,9,-999.0000,9,  -999.00,      439
  49UF20120429,KS1204,  3412,  1,     17,  21976,2,20120504,0257, 25.4947, 128.7577, 7026,   1618.6,   2.4425,  34.5483,2,  34.5471,2,     87.3,2,   140.75,2,    39.41,2,     0.00,2,     2.82,2,   -999.0,9,   -999.0,9,-999.0000,9,  -999.00,      434
  49UF20120429,KS1204,  3412,  1,     16,  21975,2,20120504,0257, 25.4947, 128.7577, 7026,   1822.4,   2.2093,  34.5816,2,  34.5812,2,    100.2,2,   142.09,2,    38.80,2,     0.00,2,     2.76,2,   -999.0,9,   -999.0,9,-999.0000,9,  -999.00,      430
  49UF20120429,KS1204,  3412,  1,     15,  21974,2,20120504,0257, 25.4947, 128.7577, 7026,   2025.2,   2.0238,  34.6082,2,  34.6080,2,    111.6,2,   142.98,2,    38.10,2,     0.00,2,     2.71,2,   -999.0,9,   -999.0,9,-999.0000,9,  -999.00,      425
  49UF20120429,KS1204,  3412,  1,     14,  21973,2,20120504,0257, 25.4947, 128.7577, 7026,   2279.3,   1.8866,  34.6319,2,  34.6333,2,    122.3,6,   142.68,6,    37.50,6,     0.00,6,     2.66,6,   -999.0,9,   -999.0,9,-999.0000,9,  -999.00,      420
  49UF20120429,KS1204,  3412,  1,     13,  21972,2,20120504,0257, 25.4947, 128.7577, 7026,   2533.4,   1.7738,  34.6463,2,  34.6462,2,    130.7,3,   142.45,2,    37.09,2,     0.00,2,     2.62,2,   -999.0,9,   -999.0,9,-999.0000,9,  -999.00,      414
  49UF20120429,KS1204,  3412,  1,     12,  21971,2,20120504,0257, 25.4947, 128.7577, 7026,   2786.5,   1.6861,  34.6575,2,  34.6568,6,    136.6,3,   142.72,2,    36.72,2,     0.00,2,     2.59,2,   -999.0,9,   -999.0,9,-999.0000,9,  -999.00,      408
  49UF20120429,KS1204,  3412,  1,     11,  21970,2,20120504,0257, 25.4947, 128.7577, 7026,   3044.1,   1.6307,  34.6643,2,  34.6660,2,    141.5,3,   142.62,2,    36.51,2,     0.00,2,     2.57,2,   -999.0,9,   -999.0,9,-999.0000,9,  -999.00,      403
  49UF20120429,KS1204,  3412,  1,     10,  21969,2,20120504,0257, 25.4947, 128.7577, 7026,   3298.6,   1.6023,  34.6692,2,  34.6698,2,    145.0,3,   142.52,2,    36.25,2,     0.00,2,     2.55,2,   -999.0,9,   -999.0,9,-999.0000,9,  -999.00,      357
  49UF20120429,KS1204,  3412,  1,      9,  21968,2,20120504,0257, 25.4947, 128.7577, 7026,   3554.0,   1.5787,  34.6739,2,  34.6737,2,    147.7,2,   142.26,2,    36.10,2,     0.00,2,     2.54,2,   -999.0,9,   -999.0,9,-999.0000,9,  -999.00,      351
  49UF20120429,KS1204,  3412,  1,      8,  21967,2,20120504,0257, 25.4947, 128.7577, 7026,   3809.8,   1.5841,  34.6758,2,  34.6749,2,    149.2,2,   142.14,2,    35.99,2,     0.00,2,     2.53,2,   -999.0,9,   -999.0,9,-999.0000,9,  -999.00,      346
  49UF20120429,KS1204,  3412,  1,      7,  21966,2,20120504,0257, 25.4947, 128.7577, 7026,   4068.4,   1.5932,  34.6778,2,  34.6779,2,    150.3,2,   142.00,2,    35.88,2,     0.00,2,     2.52,2,   -999.0,9,   -999.0,9,-999.0000,9,  -999.00,      340
  49UF20120429,KS1204,  3412,  1,      6,  21965,2,20120504,0257, 25.4947, 128.7577, 7026,   4323.2,   1.6048,  34.6796,2,  34.6796,2,    151.7,2,   141.80,2,    35.86,2,     0.00,2,     2.51,2,   -999.0,9,   -999.0,9,-999.0000,9,  -999.00,      335
  49UF20120429,KS1204,  3412,  1,      5,  21964,2,20120504,0257, 25.4947, 128.7577, 7026,   4581.0,   1.6231,  34.6808,2,  34.6805,2,    152.9,6,   141.47,6,    35.78,6,     0.00,6,     2.50,6,   -999.0,9,   -999.0,9,-999.0000,9,  -999.00,      329
  49UF20120429,KS1204,  3412,  1,      4,  21963,3,20120504,0257, 25.4947, 128.7577, 7026,   4836.9,   1.6452,  34.6817,2,  34.6824,2,    153.9,2,   141.30,2,    35.70,2,     0.00,2,     2.50,2,   -999.0,9,   -999.0,9,-999.0000,9,  -999.00,      323
  49UF20120429,KS1204,  3412,  1,      3,  21962,2,20120504,0257, 25.4947, 128.7577, 7026,   5097.2,   1.6691,  34.6823,2,  34.6818,2,    154.4,2,   141.16,2,    35.67,2,     0.00,2,     2.50,2,   -999.0,9,   -999.0,9,-999.0000,9,  -999.00,      318
  49UF20120429,KS1204,  3412,  1,      2,  21961,2,20120504,0257, 25.4947, 128.7577, 7026,   5611.9,   1.7319,  34.6827,2,  34.6825,2,    155.0,2,   141.27,2,    35.62,2,     0.00,2,     2.50,2,   -999.0,9,   -999.0,9,-999.0000,9,  -999.00,      307
  49UF20120429,KS1204,  3412,  1,      1,  21960,2,20120504,0257, 25.4947, 128.7577, 7026,   6126.9,   1.8030,  34.6824,2,  34.6828,6,    155.2,2,   141.24,2,    35.64,2,     0.00,2,     2.50,2,   -999.0,9,   -999.0,9,-999.0000,9,  -999.00,      257