BOTTLE,20191017PRINUNIVRMK
EXPOCODE,SECT_ID,STNNBR,CASTNO,SAMPNO,BTLNBR,BTLNBR_FLAG_W,DATE,TIME,LATITUDE,LONGITUDE,DEPTH,CTDPRS,CTDTMP,CTDSAL,CTDSAL_FLAG_W,SALNTY,SALNTY_FLAG_W,OXYGEN,OXYGEN_FLAG_W,SILCAT,SILCAT_FLAG_W,NITRAT,NITRAT_FLAG_W,NITRIT,NITRIT_FLAG_W,PHSPHT,PHSPHT_FLAG_W,TCARBN,TCARBN_FLAG_W,ALKALI,ALKALI_FLAG_W,PH_TOT,PH_TOT_FLAG_W,PH_TMP,BTL_TIME
,,,,,,,,,,,METERS,DBAR,ITS-90,PSS-78,,PSS-78,,UMOL/KG,,UMOL/KG,,UMOL/KG,,UMOL/KG,,UMOL/KG,,UMOL/KG,,UMOL/KG,,,,DEG C,
  49UF20120429,KS1204,  3458,  1,     99,     99,2,20120524,0320, 24.2715, 149.6667,   -9,      0.0,  27.3114,  35.0271,2,  35.0263,4,    202.5,2,     0.94,2,     0.06,2,     0.00,2,     0.01,2,   1965.9,2,   2297.5,2,   8.0885,2,    25.00,      349
  49UF20120429,KS1204,  3458,  1,     36,  21995,2,20120524,0320, 24.2715, 149.6667,   -9,     11.1,  27.1635,  35.0287,2,-999.0000,9,    202.8,2,     0.92,2,     0.09,2,     0.00,2,     0.01,2,   1968.4,2,   2297.0,2,   8.0940,2,    25.00,      413
  49UF20120429,KS1204,  3458,  1,     35,  21994,3,20120524,0320, 24.2715, 149.6667,   -9,     26.4,  25.1039,  35.1386,2,-999.0000,9,    211.6,2,     1.01,2,     0.09,2,     0.00,2,     0.01,2,   1979.4,2,   2304.9,2,   8.0775,2,    25.00,      412
  49UF20120429,KS1204,  3458,  1,     34,  21993,2,20120524,0320, 24.2715, 149.6667,   -9,     52.3,  23.4442,  35.2506,2,-999.0000,9,    217.7,6,     1.16,6,     0.07,6,     0.00,6,     0.01,6,   1989.3,2,   2310.3,2,   8.1071,3,    25.00,      411
  49UF20120429,KS1204,  3458,  1,     33,  21992,2,20120524,0320, 24.2715, 149.6667,   -9,     77.7,  22.9842,  35.2345,2,-999.0000,9,    218.3,2,     1.15,2,     0.02,2,     0.00,2,     0.01,2,   1990.7,2,   2308.9,2,   8.0606,2,    25.00,      409
  49UF20120429,KS1204,  3458,  1,     32,  21991,2,20120524,0320, 24.2715, 149.6667,   -9,    101.0,  21.8785,  35.1176,2,-999.0000,9,    216.8,2,     1.47,2,     0.07,2,     0.00,2,     0.02,2,   1998.5,2,   2300.1,2,   8.0420,2,    25.00,      406
  49UF20120429,KS1204,  3458,  1,     31,  21990,2,20120524,0320, 24.2715, 149.6667,   -9,    126.8,  21.0861,  35.0600,2,-999.0000,9,    216.6,2,     1.56,2,     0.06,2,     0.00,2,     0.02,2,   2000.6,2,   2294.6,2,   8.0311,2,    25.00,      405
  49UF20120429,KS1204,  3458,  1,     27,  21986,2,20120524,0320, 24.2715, 149.6667,   -9,    152.3,  20.4252,  34.9846,2,-999.0000,9,    219.6,2,     1.70,2,     0.06,2,     0.03,2,     0.03,2,   2005.7,2,   2295.0,2,   8.0211,2,    25.00,      404
  49UF20120429,KS1204,  3458,  1,     26,  21985,2,20120524,0320, 24.2715, 149.6667,   -9,    202.4,  19.1031,  34.8532,2,-999.0000,9,    212.4,2,     2.27,2,     1.35,2,     0.03,2,     0.12,2,   2019.1,2,   2284.7,2,   7.9921,2,    25.00,      402
  49UF20120429,KS1204,  3458,  1,     25,  21984,2,20120524,0320, 24.2715, 149.6667,   -9,    202.4,  19.1031,  34.8532,2,-999.0000,9,    212.2,2,     2.34,2,     1.36,2,     0.03,2,     0.12,2,   2018.6,2,   2286.9,2,   7.9939,2,    25.00,      402
  49UF20120429,KS1204,  3458,  1,     24,  21983,3,20120524,0320, 24.2715, 149.6667,   -9,    252.2,  17.6107,  34.7244,2,-999.0000,9,    203.9,2,     3.61,2,     4.18,2,     0.01,2,     0.29,2,   2036.0,2,   2277.2,2,   7.9438,2,    25.00,      401
  49UF20120429,KS1204,  3458,  1,     23,  21982,3,20120524,0320, 24.2715, 149.6667,   -9,    302.2,  16.8270,  34.6775,2,-999.0000,9,    206.0,2,     4.80,2,     5.36,2,     0.01,2,     0.37,2,   2041.6,2,   2273.2,2,   7.9333,2,    25.00,      359
  49UF20120429,KS1204,  3458,  1,     22,  21981,3,20120524,0320, 24.2715, 149.6667,   -9,    402.4,  14.1096,  34.4783,2,-999.0000,9,    196.7,2,    10.47,2,    10.24,2,     0.00,2,     0.72,2,   2075.9,2,   2265.3,2,   7.8429,2,    25.00,      357
  49UF20120429,KS1204,  3458,  1,     18,  21977,2,20120524,0320, 24.2715, 149.6667,   -9,    503.6,  11.3473,  34.2848,2,-999.0000,9,    190.3,2,    18.85,2,    15.61,2,     0.00,2,     1.11,2,   2114.4,2,   2262.6,2,   7.7615,2,    25.00,      354
  49UF20120429,KS1204,  3458,  1,     17,  21976,2,20120524,0320, 24.2715, 149.6667,   -9,    605.9,   8.3238,  34.1129,2,-999.0000,9,    153.3,2,    38.47,2,    24.53,2,     0.00,2,     1.76,2,   2178.3,2,   2276.5,2,   7.6200,2,    25.00,      352
  49UF20120429,KS1204,  3458,  1,     16,  21975,2,20120524,0320, 24.2715, 149.6667,   -9,    705.7,   6.2204,  34.0709,2,-999.0000,9,    112.4,6,    62.69,6,    32.00,6,     0.00,6,     2.31,6,   2238.2,2,   2294.9,2,   7.4967,2,    25.00,      349
  49UF20120429,KS1204,  3458,  1,     15,  21974,2,20120524,0320, 24.2715, 149.6667,   -9,    807.4,   4.9181,  34.1819,2,-999.0000,9,     62.8,2,    88.97,2,    38.65,2,     0.00,2,     2.79,2,   2301.3,6,   2321.2,6,   7.3959,2,    25.00,      347
  49UF20120429,KS1204,  3458,  1,     14,  21973,2,20120524,0320, 24.2715, 149.6667,   -9,    910.1,   4.4583,  34.2744,2,-999.0000,9,     49.8,2,   100.84,2,    40.41,2,     0.00,2,     2.92,2,   2324.6,2,   2333.9,2,   7.3751,6,    25.00,      344
  49UF20120429,KS1204,  3458,  1,     13,  21972,3,20120524,0320, 24.2715, 149.6667,   -9,   1010.3,   4.0135,  34.3611,2,-999.0000,9,     48.2,2,   111.67,2,    41.26,2,     0.00,2,     2.97,2,   2337.6,2,   2349.6,2,   7.3789,2,    25.00,      342
  49UF20120429,KS1204,  3458,  1,      9,  21968,2,20120524,0320, 24.2715, 149.6667,   -9,   1212.2,   3.3148,  34.4553,2,-999.0000,9,     55.0,2,   127.37,2,    41.54,2,     0.00,2,     2.97,2,   2352.2,2,   2371.5,2,   7.3919,2,    25.00,      337
  49UF20120429,KS1204,  3458,  1,      8,  21967,2,20120524,0320, 24.2715, 149.6667,   -9,   1414.5,   2.8403,  34.5037,2,-999.0000,9,     62.3,2,   138.21,2,    41.43,2,     0.00,2,     2.95,2,   2362.9,2,   2384.0,2,   7.4071,2,    25.00,      333
  49UF20120429,KS1204,  3458,  1,      7,  21966,2,20120524,0320, 24.2715, 149.6667,   -9,   1414.5,   2.8403,  34.5037,2,-999.0000,9,     62.7,2,   138.21,2,    41.39,2,     0.00,2,     2.96,2,   2362.0,2,   2383.9,2,   7.4062,2,    25.00,      333
  49UF20120429,KS1204,  3458,  1,      6,  21965,2,20120524,0320, 24.2715, 149.6667,   -9,   1616.4,   2.3941,  34.5559,2,-999.0000,9,     77.0,2,   145.95,2,    40.79,2,     0.00,2,     2.91,2,   2361.7,2,   2398.1,2,   7.4350,2,    25.00,      328
  49UF20120429,KS1204,  3458,  1,      5,  21964,2,20120524,0320, 24.2715, 149.6667,   -9,   1819.9,   2.1316,  34.5860,2,-999.0000,9,     88.2,2,   149.86,2,    40.20,2,     0.00,2,     2.85,2,   2358.7,6,   2400.5,6,   7.4530,2,    25.00,      324
  49UF20120429,KS1204,  3458,  1,      4,  21963,3,20120524,0320, 24.2715, 149.6667,   -9,   2024.2,   1.9376,  34.6125,2,-999.0000,9,    101.3,2,   151.01,2,    39.42,2,     0.00,2,     2.79,2,   2354.7,2,   2404.2,2,   7.4740,6,    25.00,      320
  49UF20120429,KS1204,  3459,  1,     99,     99,2,20120524,0903, 24.3048, 150.5217, 5369,      0.0,  26.3780,  35.0391,2,-999.0000,9,    206.4,2,     1.11,2,     0.08,2,     0.00,2,     0.02,2,   -999.0,9,   -999.0,9,-999.0000,9,  -999.00,      947
  49UF20120429,KS1204,  3459,  1,     36,  21995,2,20120524,0903, 24.3048, 150.5217, 5369,     11.7,  24.8978,  35.0679,2,  35.0727,2,    215.3,2,     1.34,2,     0.06,2,     0.00,2,     0.02,2,   -999.0,9,   -999.0,9,-999.0000,9,  -999.00,     1012
  49UF20120429,KS1204,  3459,  1,     35,  21994,2,20120524,0903, 24.3048, 150.5217, 5369,     27.8,  22.5524,  35.0852,2,-999.0000,9,    222.1,6,     1.38,6,     0.05,6,     0.00,6,     0.02,6,   -999.0,9,   -999.0,9,-999.0000,9,  -999.00,     1011
  49UF20120429,KS1204,  3459,  1,     34,  21993,2,20120524,0903, 24.3048, 150.5217, 5369,     53.4,  21.2038,  35.0544,2,-999.0000,9,    228.5,2,     1.53,2,     0.02,2,     0.00,2,     0.02,2,   -999.0,9,   -999.0,9,-999.0000,9,  -999.00,     1008
  49UF20120429,KS1204,  3459,  1,     33,  21992,2,20120524,0903, 24.3048, 150.5217, 5369,     78.0,  19.9487,  34.9291,2,-999.0000,9,    231.8,2,     1.85,2,     0.05,2,     0.00,2,     0.02,2,   -999.0,9,   -999.0,9,-999.0000,9,  -999.00,     1006
  49UF20120429,KS1204,  3459,  1,     32,  21991,2,20120524,0903, 24.3048, 150.5217, 5369,    103.6,  19.1606,  34.8640,2,  34.8630,2,    226.6,2,     2.08,2,     0.12,2,     0.01,2,     0.05,2,   -999.0,9,   -999.0,9,-999.0000,9,  -999.00,     1002
  49UF20120429,KS1204,  3459,  1,     31,  21990,2,20120524,0903, 24.3048, 150.5217, 5369,    128.4,  18.5294,  34.7990,2,-999.0000,9,    214.2,2,     2.53,2,     1.84,2,     0.02,2,     0.15,2,   -999.0,9,   -999.0,9,-999.0000,9,  -999.00,     1000
  49UF20120429,KS1204,  3459,  1,     27,  21986,2,20120524,0903, 24.3048, 150.5217, 5369,    153.3,  18.0406,  34.7533,2,-999.0000,9,    212.7,2,     2.99,2,     2.81,2,     0.02,2,     0.21,2,   -999.0,9,   -999.0,9,-999.0000,9,  -999.00,      958
  49UF20120429,KS1204,  3459,  1,     26,  21985,2,20120524,0903, 24.3048, 150.5217, 5369,    153.3,  18.0406,  34.7533,2,-999.0000,9,    213.4,2,     3.00,2,     2.80,2,     0.02,2,     0.21,2,   -999.0,9,   -999.0,9,-999.0000,9,  -999.00,      958
  49UF20120429,KS1204,  3459,  1,     25,  21984,2,20120524,0903, 24.3048, 150.5217, 5369,    203.9,  17.1583,  34.7167,2,  34.7144,2,    223.8,2,     3.46,2,     3.35,2,     0.01,3,     0.24,2,   -999.0,9,   -999.0,9,-999.0000,9,  -999.00,      956
  49UF20120429,KS1204,  3459,  1,     24,  21983,2,20120524,0903, 24.3048, 150.5217, 5369,    252.7,  16.8878,  34.7018,2,-999.0000,9,    225.3,2,     4.01,2,     3.66,2,     0.01,2,     0.26,2,   -999.0,9,   -999.0,9,-999.0000,9,  -999.00,      954
  49UF20120429,KS1204,  3459,  1,     23,  21982,2,20120524,0903, 24.3048, 150.5217, 5369,    303.9,  16.4011,  34.6567,2,-999.0000,9,    205.9,2,     6.09,2,     6.15,2,     0.01,2,     0.43,2,   -999.0,9,   -999.0,9,-999.0000,9,  -999.00,      952
  49UF20120429,KS1204,  3459,  1,     22,  21981,2,20120524,0903, 24.3048, 150.5217, 5369,    405.4,  13.6782,  34.4770,2,  34.4768,2,    184.9,2,    14.90,2,    12.35,2,     0.01,2,     0.87,2,   -999.0,9,   -999.0,9,-999.0000,9,  -999.00,      949
  49UF20120429,KS1204,  3459,  1,     18,  21977,2,20120524,0903, 24.3048, 150.5217, 5369,    505.1,  10.9705,  34.2870,2,-999.0000,9,    179.6,2,    24.14,2,    17.24,2,     0.01,2,     1.23,2,   -999.0,9,   -999.0,9,-999.0000,9,  -999.00,      945
  49UF20120429,KS1204,  3459,  1,     17,  21976,2,20120524,0903, 24.3048, 150.5217, 5369,    607.6,   7.3466,  34.0776,2,  34.0777,2,    140.5,6,    47.71,6,    27.25,6,     0.00,6,     1.98,6,   -999.0,9,   -999.0,9,-999.0000,9,  -999.00,      942
  49UF20120429,KS1204,  3459,  1,     16,  21975,2,20120524,0903, 24.3048, 150.5217, 5369,    709.3,   5.5024,  34.0986,2,-999.0000,9,     89.5,2,    75.42,2,    35.18,2,     0.00,2,     2.56,2,   -999.0,9,   -999.0,9,-999.0000,9,  -999.00,      938
  49UF20120429,KS1204,  3459,  1,     15,  21974,2,20120524,0903, 24.3048, 150.5217, 5369,    807.2,   4.5997,  34.1832,2,  34.1826,6,     58.7,2,    95.34,2,    39.22,2,     0.00,2,     2.85,2,   -999.0,9,   -999.0,9,-999.0000,9,  -999.00,      935
  49UF20120429,KS1204,  3459,  1,     14,  21973,2,20120524,0903, 24.3048, 150.5217, 5369,    909.4,   4.0039,  34.2862,2,-999.0000,9,     42.4,2,   111.33,2,    41.39,2,     0.00,2,     3.00,2,   -999.0,9,   -999.0,9,-999.0000,9,  -999.00,      932
  49UF20120429,KS1204,  3459,  1,     13,  21972,2,20120524,0903, 24.3048, 150.5217, 5369,   1011.1,   3.5021,  34.3741,2,  34.3730,2,     38.1,2,   125.08,2,    42.12,3,     0.00,2,     3.05,2,   -999.0,9,   -999.0,9,-999.0000,9,  -999.00,      928
  49UF20120429,KS1204,  3459,  1,      9,  21968,2,20120524,0903, 24.3048, 150.5217, 5369,   1214.5,   3.0774,  34.4679,2,  34.4665,2,     53.2,2,   133.82,2,    41.71,2,     0.00,2,     3.00,2,   -999.0,9,   -999.0,9,-999.0000,9,  -999.00,      923
  49UF20120429,KS1204,  3459,  1,      8,  21967,2,20120524,0903, 24.3048, 150.5217, 5369,   1214.5,   3.0774,  34.4679,2,  34.4661,2,     53.0,2,   133.57,2,    41.63,2,     0.00,2,     3.00,2,   -999.0,9,   -999.0,9,-999.0000,9,  -999.00,      923
  49UF20120429,KS1204,  3459,  1,      7,  21966,2,20120524,0903, 24.3048, 150.5217, 5369,   1416.6,   2.6263,  34.5250,2,  34.5274,2,     65.1,2,   143.72,2,    41.27,2,     0.00,2,     2.95,2,   -999.0,9,   -999.0,9,-999.0000,9,  -999.00,      918
  49UF20120429,KS1204,  3459,  1,      6,  21965,2,20120524,0903, 24.3048, 150.5217, 5369,   1619.2,   2.2795,  34.5607,2,  34.5610,6,     72.3,2,   150.16,2,    40.99,2,     0.00,2,     2.92,2,   -999.0,9,   -999.0,9,-999.0000,9,  -999.00,      912
  49UF20120429,KS1204,  3459,  1,      5,  21964,2,20120524,0903, 24.3048, 150.5217, 5369,   1821.6,   2.0026,  34.5985,2,  34.5971,2,     90.7,2,   152.43,2,    39.91,2,     0.00,2,     2.84,2,   -999.0,9,   -999.0,9,-999.0000,9,  -999.00,      908
  49UF20120429,KS1204,  3459,  1,      4,  21963,2,20120524,0903, 24.3048, 150.5217, 5369,   2024.9,   1.8631,  34.6193,2,  34.6206,2,    103.3,2,   151.86,2,    39.17,2,     0.00,2,     2.78,2,   -999.0,9,   -999.0,9,-999.0000,9,  -999.00,      903