BOTTLE,20191017PRINUNIVRMK
EXPOCODE,SECT_ID,STNNBR,CASTNO,SAMPNO,BTLNBR,BTLNBR_FLAG_W,DATE,TIME,LATITUDE,LONGITUDE,DEPTH,CTDPRS,CTDTMP,CTDSAL,CTDSAL_FLAG_W,SALNTY,SALNTY_FLAG_W,OXYGEN,OXYGEN_FLAG_W,SILCAT,SILCAT_FLAG_W,NITRAT,NITRAT_FLAG_W,NITRIT,NITRIT_FLAG_W,PHSPHT,PHSPHT_FLAG_W,TCARBN,TCARBN_FLAG_W,ALKALI,ALKALI_FLAG_W,PH_TOT,PH_TOT_FLAG_W,PH_TMP,BTL_TIME
,,,,,,,,,,,METERS,DBAR,ITS-90,PSS-78,,PSS-78,,UMOL/KG,,UMOL/KG,,UMOL/KG,,UMOL/KG,,UMOL/KG,,UMOL/KG,,UMOL/KG,,,,DEG C,
  49UF20120429,KS1204,  3448,  1,     99,     99,2,20120521,2323, 24.2475, 143.6088,   -9,      0.0,  26.7569,  35.0086,2,-999.0000,9,    206.0,2,     1.14,2,     0.04,2,     0.00,2,     0.01,2,   -999.0,9,   -999.0,9,-999.0000,9,  -999.00,       14
  49UF20120429,KS1204,  3448,  1,     36,  21995,2,20120521,2323, 24.2475, 143.6088,   -9,     11.7,  25.8566,  34.9546,2,-999.0000,9,    209.3,2,     1.19,2,     0.01,2,     0.00,2,     0.01,2,   -999.0,9,   -999.0,9,-999.0000,9,  -999.00,       42
  49UF20120429,KS1204,  3448,  1,     35,  21994,2,20120521,2323, 24.2475, 143.6088,   -9,     26.3,  24.0045,  34.9539,2,-999.0000,9,    214.9,2,     1.21,2,     0.00,2,     0.00,2,     0.01,2,   -999.0,9,   -999.0,9,-999.0000,9,  -999.00,       41
  49UF20120429,KS1204,  3448,  1,     34,  21993,2,20120521,2323, 24.2475, 143.6088,   -9,     26.3,  24.0045,  34.9539,2,-999.0000,9,    214.8,2,     1.21,2,     0.00,2,     0.00,2,     0.01,2,   -999.0,9,   -999.0,9,-999.0000,9,  -999.00,       41
  49UF20120429,KS1204,  3448,  1,     33,  21992,2,20120521,2323, 24.2475, 143.6088,   -9,     52.3,  22.6659,  35.1846,2,-999.0000,9,    221.8,2,     1.26,2,     0.00,2,     0.00,2,     0.01,2,   -999.0,9,   -999.0,9,-999.0000,9,  -999.00,       36
  49UF20120429,KS1204,  3448,  1,     32,  21991,2,20120521,2323, 24.2475, 143.6088,   -9,     77.9,  21.8002,  35.1141,2,-999.0000,9,    223.8,2,     1.34,2,     0.00,2,     0.00,2,     0.02,2,   -999.0,9,   -999.0,9,-999.0000,9,  -999.00,       35
  49UF20120429,KS1204,  3448,  1,     31,  21990,2,20120521,2323, 24.2475, 143.6088,   -9,    102.3,  20.7005,  34.9834,2,-999.0000,9,    218.9,2,     1.72,2,     0.00,2,     0.00,2,     0.02,2,   -999.0,9,   -999.0,9,-999.0000,9,  -999.00,       33
  49UF20120429,KS1204,  3448,  1,     27,  21986,2,20120521,2323, 24.2475, 143.6088,   -9,    128.9,  19.7178,  34.8860,2,-999.0000,9,    216.9,2,     1.93,2,     0.35,2,     0.10,2,     0.06,2,   -999.0,9,   -999.0,9,-999.0000,9,  -999.00,       31
  49UF20120429,KS1204,  3448,  1,     26,  21985,2,20120521,2323, 24.2475, 143.6088,   -9,    152.5,  18.9537,  34.8208,2,-999.0000,9,    213.6,2,     2.27,2,     1.42,2,     0.03,2,     0.12,2,   -999.0,9,   -999.0,9,-999.0000,9,  -999.00,       30
  49UF20120429,KS1204,  3448,  1,     25,  21984,2,20120521,2323, 24.2475, 143.6088,   -9,    202.7,  17.6194,  34.7190,2,-999.0000,9,    204.8,6,     3.62,6,     4.11,6,     0.01,6,     0.29,6,   -999.0,9,   -999.0,9,-999.0000,9,  -999.00,       28
  49UF20120429,KS1204,  3448,  1,     24,  21983,2,20120521,2323, 24.2475, 143.6088,   -9,    254.6,  17.0389,  34.6924,2,-999.0000,9,    207.8,2,     4.35,2,     4.88,2,     0.01,2,     0.33,2,   -999.0,9,   -999.0,9,-999.0000,9,  -999.00,       25
  49UF20120429,KS1204,  3448,  1,     23,  21982,2,20120521,2323, 24.2475, 143.6088,   -9,    304.4,  16.1791,  34.6312,2,-999.0000,9,    200.1,2,     6.30,2,     6.75,2,     0.01,2,     0.47,2,   -999.0,9,   -999.0,9,-999.0000,9,  -999.00,       23
  49UF20120429,KS1204,  3448,  1,     22,  21981,2,20120521,2323, 24.2475, 143.6088,   -9,    407.9,  12.6650,  34.3907,2,-999.0000,9,    192.1,2,    15.03,2,    12.99,2,     0.00,2,     0.92,2,   -999.0,9,   -999.0,9,-999.0000,9,  -999.00,       19
  49UF20120429,KS1204,  3448,  1,     18,  21977,2,20120521,2323, 24.2475, 143.6088,   -9,    509.2,   9.7466,  34.1974,2,-999.0000,9,    175.0,2,    28.72,2,    19.73,2,     0.00,2,     1.41,2,   -999.0,9,   -999.0,9,-999.0000,9,  -999.00,       15
  49UF20120429,KS1204,  3448,  1,     17,  21976,2,20120521,2323, 24.2475, 143.6088,   -9,    607.3,   7.5914,  34.1091,2,-999.0000,9,    142.5,2,    48.16,2,    26.69,2,     0.00,2,     1.93,2,   -999.0,9,   -999.0,9,-999.0000,9,  -999.00,       11
  49UF20120429,KS1204,  3448,  1,     16,  21975,2,20120521,2323, 24.2475, 143.6088,   -9,    607.3,   7.5914,  34.1091,2,-999.0000,9,    142.6,2,    48.31,2,    26.67,2,     0.00,2,     1.93,2,   -999.0,9,   -999.0,9,-999.0000,9,  -999.00,       11
  49UF20120429,KS1204,  3448,  1,     15,  21974,2,20120521,2323, 24.2475, 143.6088,   -9,    708.5,   5.5876,  34.1146,2,-999.0000,9,     94.0,2,    75.62,2,    34.55,2,     0.00,2,     2.53,2,   -999.0,9,   -999.0,9,-999.0000,9,  -999.00,        8
  49UF20120429,KS1204,  3448,  1,     14,  21973,2,20120521,2323, 24.2475, 143.6088,   -9,    808.7,   4.5084,  34.2171,2,-999.0000,9,     59.5,2,    98.81,2,    39.27,2,     0.00,2,     2.86,2,   -999.0,9,   -999.0,9,-999.0000,9,  -999.00,        4
  49UF20120429,KS1204,  3448,  1,     13,  21972,2,20120521,2323, 24.2475, 143.6088,   -9,    907.9,   4.1106,  34.2826,2,-999.0000,9,     49.2,2,   109.17,2,    40.65,2,     0.00,2,     2.95,2,   -999.0,9,   -999.0,9,-999.0000,9,  -999.00,        1
  49UF20120429,KS1204,  3448,  1,      9,  21968,2,20120521,2323, 24.2475, 143.6088,   -9,   1011.1,   3.7133,  34.3697,2,-999.0000,9,     46.0,2,   118.52,2,    41.52,2,     0.00,2,     3.01,2,   -999.0,9,   -999.0,9,-999.0000,9,  -999.00,     2358
  49UF20120429,KS1204,  3448,  1,      8,  21967,2,20120521,2323, 24.2475, 143.6088,   -9,   1212.7,   2.9870,  34.4672,2,-999.0000,9,     53.1,2,   136.68,2,    41.73,2,     0.00,2,     3.00,2,   -999.0,9,   -999.0,9,-999.0000,9,  -999.00,     2353
  49UF20120429,KS1204,  3448,  1,      7,  21966,2,20120521,2323, 24.2475, 143.6088,   -9,   1416.0,   2.5148,  34.5236,2,-999.0000,9,     65.5,6,   145.90,6,    41.29,6,     0.00,6,     2.96,6,   -999.0,9,   -999.0,9,-999.0000,9,  -999.00,     2347
  49UF20120429,KS1204,  3448,  1,      6,  21965,2,20120521,2323, 24.2475, 143.6088,   -9,   1619.2,   2.2395,  34.5705,2,-999.0000,9,     86.0,2,   146.95,2,    40.04,2,     0.00,2,     2.86,2,   -999.0,9,   -999.0,9,-999.0000,9,  -999.00,     2341
  49UF20120429,KS1204,  3448,  1,      5,  21964,2,20120521,2323, 24.2475, 143.6088,   -9,   1821.2,   2.0174,  34.5995,2,-999.0000,9,     98.0,2,   148.65,2,    39.42,2,     0.00,2,     2.81,2,   -999.0,9,   -999.0,9,-999.0000,9,  -999.00,     2335
  49UF20120429,KS1204,  3448,  1,      4,  21963,2,20120521,2323, 24.2475, 143.6088,   -9,   2022.5,   1.8529,  34.6201,2,-999.0000,9,    107.8,2,   150.20,2,    38.87,2,     0.00,2,     2.76,2,   -999.0,9,   -999.0,9,-999.0000,9,  -999.00,     2323
  49UF20120429,KS1204,  3450,  1,     99,     99,2,20120522,1112, 24.2602, 144.7935,   -9,      0.0,  26.9664,  35.0767,2,  35.0808,4,    205.0,2,     1.14,2,     0.08,2,     0.00,2,     0.02,2,   1978.2,2,   2299.1,2,   8.0794,2,    25.00,     1317
  49UF20120429,KS1204,  3450,  1,     36,  21995,2,20120522,1112, 24.2602, 144.7935,   -9,     12.3,  26.9705,  35.0759,2,  35.0756,2,    205.3,6,     1.06,6,     0.07,6,     0.00,6,     0.01,6,   1977.1,2,   2300.1,2,   8.0794,2,    25.00,     1343
  49UF20120429,KS1204,  3450,  1,     35,  21994,2,20120522,1112, 24.2602, 144.7935,   -9,     27.4,  24.3931,  35.0517,2,-999.0000,9,    214.3,2,     1.28,2,     0.09,2,     0.00,2,     0.01,2,   1987.0,6,   2305.2,2,   8.0626,2,    25.00,     1341
  49UF20120429,KS1204,  3450,  1,     34,  21993,2,20120522,1112, 24.2602, 144.7935,   -9,     51.7,  23.0226,  35.1160,2,-999.0000,9,    213.4,2,     1.43,2,     0.09,2,     0.00,2,     0.02,2,   2000.2,2,   2304.3,2,   8.0465,6,    25.00,     1336
  49UF20120429,KS1204,  3450,  1,     33,  21992,2,20120522,1112, 24.2602, 144.7935,   -9,     76.7,  22.1856,  35.1455,2,-999.0000,9,    221.6,2,     1.39,2,     0.11,2,     0.00,2,     0.01,2,   1996.6,2,   2307.2,2,   8.0505,2,    25.00,     1335
  49UF20120429,KS1204,  3450,  1,     32,  21991,2,20120522,1112, 24.2602, 144.7935,   -9,    101.8,  21.1456,  35.0251,2,  35.0270,2,    204.6,2,     1.80,2,     0.12,2,     0.00,2,     0.04,2,   2018.5,2,   2295.2,2,   8.0350,2,    25.00,     1333
  49UF20120429,KS1204,  3450,  1,     31,  21990,2,20120522,1112, 24.2602, 144.7935,   -9,    126.4,  19.9833,  34.9141,2,-999.0000,9,    216.8,2,     1.91,2,     0.17,2,     0.04,2,     0.04,2,   2007.1,2,   2288.3,2,   8.0077,2,    25.00,     1331
  49UF20120429,KS1204,  3450,  1,     30,  21989,2,20120522,1112, 24.2602, 144.7935,   -9,    151.8,  18.8347,  34.8162,2,-999.0000,9,    208.0,2,     2.55,2,     2.02,2,     0.02,2,     0.15,2,   2021.1,2,   2280.8,2,   7.9748,2,    25.00,     1330
  49UF20120429,KS1204,  3450,  1,     29,  21988,2,20120522,1112, 24.2602, 144.7935,   -9,    202.8,  17.4434,  34.7086,2,  34.7084,2,    203.7,2,     3.89,2,     4.57,2,     0.01,2,     0.31,2,   2035.5,2,   2276.3,2,   7.9402,2,    25.00,     1328
  49UF20120429,KS1204,  3450,  1,     28,  21987,2,20120522,1112, 24.2602, 144.7935,   -9,    252.7,  16.7417,  34.6739,2,-999.0000,9,    206.4,2,     5.01,2,     5.63,2,     0.01,2,     0.38,2,   2044.8,2,   2272.6,2,   7.9311,2,    25.00,     1325
  49UF20120429,KS1204,  3450,  1,     27,  21986,2,20120522,1112, 24.2602, 144.7935,   -9,    304.1,  15.5807,  34.5877,2,-999.0000,9,    195.8,6,     7.69,6,     8.22,6,     0.01,6,     0.57,6,   2063.9,2,   2270.7,2,   7.8856,2,    25.00,     1323
  49UF20120429,KS1204,  3450,  1,     26,  21985,2,20120522,1112, 24.2602, 144.7935,   -9,    405.9,  13.1630,  34.4223,2,  34.4223,2,    191.6,2,    13.69,2,    12.37,2,     0.00,2,     0.87,2,   2093.5,6,   2269.7,6,   7.7850,2,    25.00,     1320
  49UF20120429,KS1204,  3450,  1,     25,  21984,2,20120522,1112, 24.2602, 144.7935,   -9,    506.2,   9.8456,  34.2024,2,-999.0000,9,    177.1,2,    28.24,2,    19.64,2,     0.00,2,     1.39,2,   2143.9,2,   2274.1,2,   7.7015,6,    25.00,     1316
  49UF20120429,KS1204,  3450,  1,     24,  21983,2,20120522,1112, 24.2602, 144.7935,   -9,    606.4,   6.9970,  34.0609,2,  34.0642,2,    138.4,2,    51.17,2,    28.33,2,     0.00,2,     2.05,2,   2209.6,2,   2281.9,2,   7.5582,2,    25.00,     1313
  49UF20120429,KS1204,  3450,  1,     23,  21982,2,20120522,1112, 24.2602, 144.7935,   -9,    709.8,   5.5169,  34.1130,2,-999.0000,9,     89.3,2,    75.04,2,    35.28,2,     0.00,2,     2.55,2,   2269.7,2,   2309.2,2,   7.4443,2,    25.00,     1310
  49UF20120429,KS1204,  3450,  1,     22,  21981,2,20120522,1112, 24.2602, 144.7935,   -9,    809.7,   4.6372,  34.1850,2,  34.1845,2,     61.5,2,    94.70,2,    39.20,2,     0.00,2,     2.83,2,   2308.6,2,   2328.3,2,   7.3867,2,    25.00,     1307
  49UF20120429,KS1204,  3450,  1,     21,  21980,2,20120522,1112, 24.2602, 144.7935,   -9,    912.4,   3.9657,  34.3229,2,-999.0000,9,     46.6,2,   112.77,2,    41.47,2,     0.00,2,     2.98,2,   2340.2,2,   2349.7,2,   7.3705,2,    25.00,     1303
  49UF20120429,KS1204,  3450,  1,     20,  21979,2,20120522,1112, 24.2602, 144.7935,   -9,   1013.8,   3.5974,  34.4039,2,  34.4052,6,     49.2,2,   121.45,2,    41.76,2,     0.00,2,     2.99,2,   2349.4,2,   2363.6,2,   7.3801,2,    25.00,     1300
  49UF20120429,KS1204,  3450,  1,     19,  21978,2,20120522,1112, 24.2602, 144.7935,   -9,   1216.1,   2.9756,  34.4822,2,  34.4821,2,     57.6,2,   135.59,2,    41.76,2,     0.00,2,     2.98,2,   2360.8,2,   2381.2,2,   7.3938,2,    25.00,     1254
  49UF20120429,KS1204,  3450,  1,     18,  21977,2,20120522,1112, 24.2602, 144.7935,   -9,   1418.4,   2.5361,  34.5299,2,  34.5291,2,     68.6,6,   144.34,6,    41.31,6,     0.00,6,     2.94,6,   2362.7,2,   2389.6,2,   7.4139,2,    25.00,     1248
  49UF20120429,KS1204,  3450,  1,     17,  21976,2,20120522,1112, 24.2602, 144.7935,   -9,   1620.6,   2.2190,  34.5690,2,  34.5689,2,     82.3,2,   148.80,2,    40.73,2,     0.00,2,     2.88,2,   2359.9,6,   2401.3,6,   7.4389,2,    25.00,     1242
  49UF20120429,KS1204,  3450,  1,     16,  21975,2,20120522,1112, 24.2602, 144.7935,   -9,   1823.1,   2.0313,  34.5965,2,  34.5973,2,     95.2,2,   149.98,2,    39.88,2,     0.00,2,     2.82,2,   2364.3,2,   2406.0,2,   7.4661,6,    25.00,     1236
  49UF20120429,KS1204,  3450,  1,     15,  21974,2,20120522,1112, 24.2602, 144.7935,   -9,   2025.5,   1.8556,  34.6198,2,  34.6213,2,    106.2,2,   151.27,2,    39.30,2,     0.00,2,     2.77,2,   2356.2,2,   2404.8,2,   7.4859,2,    25.00,     1231
  49UF20120429,KS1204,  3450,  1,     14,  21973,2,20120522,1112, 24.2602, 144.7935,   -9,   2279.3,   1.7526,  34.6372,2,  34.6368,6,    116.9,2,   150.28,2,    38.54,2,     0.00,2,     2.71,2,   2351.7,2,   2409.5,2,   7.5023,2,    25.00,     1225
  49UF20120429,KS1204,  3450,  1,     13,  21972,2,20120522,1112, 24.2602, 144.7935,   -9,   2533.8,   1.6587,  34.6507,2,  34.6496,2,    125.1,2,   150.40,2,    38.15,2,     0.00,2,     2.68,2,   2346.5,2,   2412.6,2,   7.5156,2,    25.00,     1220
  49UF20120429,KS1204,  3450,  1,     12,  21971,2,20120522,1112, 24.2602, 144.7935,   -9,   3044.1,   1.5571,  34.6663,2,  34.6677,2,    136.3,2,   149.99,2,    37.40,2,     0.00,2,     2.62,2,   2338.0,2,   2415.5,2,   7.5357,2,    25.00,     1208
  49UF20120429,KS1204,  3450,  1,     11,  21970,2,20120522,1112, 24.2602, 144.7935,   -9,   3299.0,   1.5149,  34.6728,2,  34.6728,2,    142.1,2,   148.88,2,    37.07,2,     0.00,2,     2.59,2,   2335.7,2,   2416.5,2,   7.5444,2,    25.00,     1203
  49UF20120429,KS1204,  3450,  1,     10,  21969,2,20120522,1112, 24.2602, 144.7935,   -9,   3554.4,   1.4879,  34.6776,2,  34.6775,2,    147.1,2,   147.59,2,    36.75,2,     0.00,2,     2.57,2,   2333.7,2,   2410.8,2,   7.5555,2,    25.00,     1157
  49UF20120429,KS1204,  3450,  1,      9,  21968,2,20120522,1112, 24.2602, 144.7935,   -9,   3810.1,   1.4753,  34.6811,2,  34.6810,2,    151.2,6,   146.53,6,    36.48,6,     0.00,6,     2.54,6,   2330.7,2,   2409.6,2,   7.5612,2,    25.00,     1151
  49UF20120429,KS1204,  3450,  1,      8,  21967,2,20120522,1112, 24.2602, 144.7935,   -9,   4068.3,   1.4808,  34.6832,2,  34.6833,6,    154.1,2,   145.44,2,    36.26,2,     0.00,2,     2.53,2,   2327.8,2,   2411.3,2,   7.5603,2,    25.00,     1145
  49UF20120429,KS1204,  3450,  1,      7,  21966,2,20120522,1112, 24.2602, 144.7935,   -9,   4324.5,   1.4780,  34.6862,2,  34.6861,2,    157.8,2,   143.83,2,    36.08,2,     0.00,2,     2.51,2,   2322.7,6,   2407.3,6,   7.5707,2,    25.00,     1139
  49UF20120429,KS1204,  3450,  1,      6,  21965,2,20120522,1112, 24.2602, 144.7935,   -9,   4580.5,   1.4821,  34.6886,2,  34.6883,2,    160.8,2,   142.19,2,    35.79,2,     0.00,2,     2.48,2,   2321.5,2,   2408.5,2,   7.5714,6,    25.00,     1134
  49UF20120429,KS1204,  3450,  1,      5,  21964,2,20120522,1112, 24.2602, 144.7935,   -9,   4837.8,   1.4924,  34.6905,2,  34.6895,2,    163.8,2,   140.60,2,    35.60,2,     0.00,2,     2.47,2,   2319.7,2,   2404.4,2,   7.5775,2,    25.00,     1128
  49UF20120429,KS1204,  3450,  1,      4,  21963,2,20120522,1112, 24.2602, 144.7935,   -9,   5095.1,   1.5070,  34.6921,2,  34.6912,2,    166.8,2,   138.60,2,    35.42,2,     0.00,2,     2.46,2,   2315.7,2,   2405.4,2,   7.5770,2,    25.00,     1122
  49UF20120429,KS1204,  3450,  1,      3,  21962,2,20120522,1112, 24.2602, 144.7935,   -9,   5352.1,   1.5108,  34.6948,2,  34.6942,2,    170.7,2,   135.96,2,    35.08,2,     0.00,2,     2.44,2,   2309.9,2,   2404.2,3,   7.5834,2,    25.00,     1115
  49UF20120429,KS1204,  3450,  1,      2,  21961,4,20120522,1112, 24.2602, 144.7935,   -9,   5352.1,   1.5108,  34.6948,2,  34.6945,4,    171.2,4,   135.99,4,    34.95,4,     0.00,4,     2.43,4,   2309.3,4,   2397.3,4,   7.5818,4,    25.00,     1115
  49UF20120429,KS1204,  3450,  1,      1,  21960,2,20120522,1112, 24.2602, 144.7935,   -9,   5421.7,   1.5192,  34.6948,2,  34.6944,6,    171.0,2,   136.29,2,    34.88,2,     0.00,2,     2.43,2,   2310.8,2,   2399.4,2,   7.5852,2,    25.00,     1112