BOTTLE,20191017PRINUNIVRMK
EXPOCODE,SECT_ID,STNNBR,CASTNO,SAMPNO,BTLNBR,BTLNBR_FLAG_W,DATE,TIME,LATITUDE,LONGITUDE,DEPTH,CTDPRS,CTDTMP,CTDSAL,CTDSAL_FLAG_W,SALNTY,SALNTY_FLAG_W,OXYGEN,OXYGEN_FLAG_W,SILCAT,SILCAT_FLAG_W,NITRAT,NITRAT_FLAG_W,NITRIT,NITRIT_FLAG_W,PHSPHT,PHSPHT_FLAG_W,TCARBN,TCARBN_FLAG_W,ALKALI,ALKALI_FLAG_W,PH_TOT,PH_TOT_FLAG_W,PH_TMP,BTL_TIME
,,,,,,,,,,,METERS,DBAR,ITS-90,PSS-78,,PSS-78,,UMOL/KG,,UMOL/KG,,UMOL/KG,,UMOL/KG,,UMOL/KG,,UMOL/KG,,UMOL/KG,,,,DEG C,
  49UF20120429,KS1204,  3402,  1,     99,     99,2,20120502,1107, 23.7520, 132.0172, 3664,      0.0,  25.0121,  34.7616,2,-999.0000,9,    212.2,2,     1.34,2,     0.04,2,     0.00,2,     0.00,2,   -999.0,9,   -999.0,9,-999.0000,9,  -999.00,     1148
  49UF20120429,KS1204,  3402,  1,     36,  21995,2,20120502,1107, 23.7520, 132.0172, 3664,     11.9,  24.5462,  34.7357,2,  34.7320,2,    215.8,2,     1.36,2,     0.02,2,     0.00,2,     0.00,2,   -999.0,9,   -999.0,9,-999.0000,9,  -999.00,     1207
  49UF20120429,KS1204,  3402,  1,     35,  21994,2,20120502,1107, 23.7520, 132.0172, 3664,     26.8,  22.6906,  34.8077,2,-999.0000,9,    220.7,2,     1.40,2,     0.03,2,     0.00,2,     0.00,2,   -999.0,9,   -999.0,9,-999.0000,9,  -999.00,     1206
  49UF20120429,KS1204,  3402,  1,     34,  21993,2,20120502,1107, 23.7520, 132.0172, 3664,     50.9,  21.5774,  34.8566,2,-999.0000,9,    222.2,6,     1.54,6,     0.00,6,     0.00,6,     0.00,6,   -999.0,9,   -999.0,9,-999.0000,9,  -999.00,     1202
  49UF20120429,KS1204,  3402,  1,     30,  21989,2,20120502,1107, 23.7520, 132.0172, 3664,     76.6,  21.0349,  34.8559,2,-999.0000,9,    218.1,2,     1.75,2,     0.04,2,     0.00,2,     0.01,2,   -999.0,9,   -999.0,9,-999.0000,9,  -999.00,     1201
  49UF20120429,KS1204,  3402,  1,     29,  21988,2,20120502,1107, 23.7520, 132.0172, 3664,    101.8,  19.8696,  34.8263,2,  34.8491,4,    209.6,2,     2.13,2,     1.28,2,     0.08,2,     0.09,2,   -999.0,9,   -999.0,9,-999.0000,9,  -999.00,     1159
  49UF20120429,KS1204,  3402,  1,     28,  21987,2,20120502,1107, 23.7520, 132.0172, 3664,    126.0,  19.1360,  34.7925,2,-999.0000,9,    208.6,2,     2.56,2,     2.22,2,     0.02,2,     0.14,2,   -999.0,9,   -999.0,9,-999.0000,9,  -999.00,     1158
  49UF20120429,KS1204,  3402,  1,     27,  21986,2,20120502,1107, 23.7520, 132.0172, 3664,    151.8,  18.8729,  34.7796,2,-999.0000,9,    207.0,2,     2.77,2,     2.66,2,     0.02,2,     0.17,3,   -999.0,9,   -999.0,9,-999.0000,9,  -999.00,     1157
  49UF20120429,KS1204,  3402,  1,     26,  21985,2,20120502,1107, 23.7520, 132.0172, 3664,    202.7,  18.1194,  34.7414,2,  34.7407,2,    199.6,2,     3.67,2,     4.14,2,     0.01,2,     0.27,2,   -999.0,9,   -999.0,9,-999.0000,9,  -999.00,     1155
  49UF20120429,KS1204,  3402,  1,     25,  21984,2,20120502,1107, 23.7520, 132.0172, 3664,    202.7,  18.1194,  34.7414,2,  34.7415,6,    199.3,2,     3.65,2,     4.15,2,     0.01,2,     0.27,2,   -999.0,9,   -999.0,9,-999.0000,9,  -999.00,     1155
  49UF20120429,KS1204,  3402,  1,     21,  21980,2,20120502,1107, 23.7520, 132.0172, 3664,    253.1,  17.3914,  34.7065,2,-999.0000,9,    197.2,2,     4.78,2,     5.41,2,     0.01,2,     0.35,2,   -999.0,9,   -999.0,9,-999.0000,9,  -999.00,     1153
  49UF20120429,KS1204,  3402,  1,     20,  21979,2,20120502,1107, 23.7520, 132.0172, 3664,    303.9,  16.3905,  34.6534,2,-999.0000,9,    193.0,2,     6.91,2,     7.28,2,     0.01,2,     0.49,2,   -999.0,9,   -999.0,9,-999.0000,9,  -999.00,     1151
  49UF20120429,KS1204,  3402,  1,     19,  21978,2,20120502,1107, 23.7520, 132.0172, 3664,    405.0,  13.3024,  34.4541,2,  34.4543,2,    181.1,2,    16.06,2,    13.21,2,     0.00,2,     0.91,2,   -999.0,9,   -999.0,9,-999.0000,9,  -999.00,     1148
  49UF20120429,KS1204,  3402,  1,     18,  21977,2,20120502,1107, 23.7520, 132.0172, 3664,    505.1,  10.3236,  34.2627,2,-999.0000,9,    164.6,2,    29.36,2,    19.73,2,     0.00,2,     1.40,2,   -999.0,9,   -999.0,9,-999.0000,9,  -999.00,     1146
  49UF20120429,KS1204,  3402,  1,     17,  21976,2,20120502,1107, 23.7520, 132.0172, 3664,    605.1,   7.8052,  34.1570,2,  34.1571,2,    134.7,2,    49.66,2,    26.85,2,     0.00,2,     1.93,2,   -999.0,9,   -999.0,9,-999.0000,9,  -999.00,     1143
  49UF20120429,KS1204,  3402,  1,     16,  21975,2,20120502,1107, 23.7520, 132.0172, 3664,    707.3,   6.2338,  34.1527,2,-999.0000,9,    103.7,6,    69.70,6,    32.38,6,     0.00,6,     2.34,6,   -999.0,9,   -999.0,9,-999.0000,9,  -999.00,     1140
  49UF20120429,KS1204,  3402,  1,     12,  21971,2,20120502,1107, 23.7520, 132.0172, 3664,    807.7,   5.0299,  34.2120,2,  34.2114,2,     75.5,2,    90.29,2,    36.86,2,     0.00,2,     2.66,2,   -999.0,9,   -999.0,9,-999.0000,9,  -999.00,     1137
  49UF20120429,KS1204,  3402,  1,     11,  21970,2,20120502,1107, 23.7520, 132.0172, 3664,    908.0,   4.3268,  34.2880,2,-999.0000,9,     61.6,2,   105.43,2,    39.15,2,     0.00,2,     2.82,2,   -999.0,9,   -999.0,9,-999.0000,9,  -999.00,     1134
  49UF20120429,KS1204,  3402,  1,     10,  21969,2,20120502,1107, 23.7520, 132.0172, 3664,   1009.3,   3.8241,  34.3570,2,  34.3567,2,     57.3,2,   116.71,2,    40.23,2,     0.00,2,     2.89,2,   -999.0,9,   -999.0,9,-999.0000,9,  -999.00,     1132
  49UF20120429,KS1204,  3402,  1,      9,  21968,2,20120502,1107, 23.7520, 132.0172, 3664,   1211.7,   3.0985,  34.4587,2,  34.4602,2,     64.6,2,   132.26,2,    40.58,2,     0.00,2,     2.90,2,   -999.0,9,   -999.0,9,-999.0000,9,  -999.00,     1127
  49UF20120429,KS1204,  3402,  1,      8,  21967,2,20120502,1107, 23.7520, 132.0172, 3664,   1414.8,   2.6566,  34.5223,2,  34.5214,2,     79.1,2,   138.65,2,    39.97,2,     0.00,2,     2.85,2,   -999.0,9,   -999.0,9,-999.0000,9,  -999.00,     1122
  49UF20120429,KS1204,  3402,  1,      7,  21966,2,20120502,1107, 23.7520, 132.0172, 3664,   1414.8,   2.6566,  34.5223,2,  34.5214,2,     79.4,2,   138.61,2,    39.89,2,     0.00,2,     2.85,2,   -999.0,9,   -999.0,9,-999.0000,9,  -999.00,     1122
  49UF20120429,KS1204,  3402,  1,      3,  21962,2,20120502,1107, 23.7520, 132.0172, 3664,   1618.3,   2.3318,  34.5707,2,  34.5703,2,     95.7,2,   140.87,2,    39.01,2,     0.00,2,     2.77,2,   -999.0,9,   -999.0,9,-999.0000,9,  -999.00,     1117
  49UF20120429,KS1204,  3402,  1,      2,  21961,2,20120502,1107, 23.7520, 132.0172, 3664,   1820.3,   2.1272,  34.5943,2,  34.5940,6,    105.3,2,   142.51,2,    38.61,2,     0.00,2,     2.74,2,   -999.0,9,   -999.0,9,-999.0000,9,  -999.00,     1112
  49UF20120429,KS1204,  3402,  1,      1,  21960,2,20120502,1107, 23.7520, 132.0172, 3664,   2022.8,   1.9639,  34.6171,2,  34.6173,2,    115.6,2,   142.98,2,    37.96,2,     0.00,2,     2.68,2,   -999.0,9,   -999.0,9,-999.0000,9,  -999.00,     1107
  49UF20120429,KS1204,  3404,  1,     99,     99,2,20120502,2035, 24.0008, 131.0210,   -9,      0.0,  24.3906,  34.6874,2,-999.0000,9,    213.1,2,     1.38,2,     0.09,2,     0.00,2,     0.00,2,   -999.0,9,   -999.0,9,-999.0000,9,  -999.00,     2115
  49UF20120429,KS1204,  3404,  1,     36,  21995,2,20120502,2035, 24.0008, 131.0210,   -9,     12.6,  24.3077,  34.6904,2,  34.6905,2,    213.7,2,     1.34,2,     0.04,2,     0.00,2,     0.00,2,   -999.0,9,   -999.0,9,-999.0000,9,  -999.00,     2139
  49UF20120429,KS1204,  3404,  1,     35,  21994,2,20120502,2035, 24.0008, 131.0210,   -9,     27.1,  23.2624,  34.7272,2,-999.0000,9,    218.1,6,     1.41,6,     0.04,6,     0.00,6,     0.00,6,   -999.0,9,   -999.0,9,-999.0000,9,  -999.00,     2137
  49UF20120429,KS1204,  3404,  1,     34,  21993,2,20120502,2035, 24.0008, 131.0210,   -9,     51.3,  21.6530,  34.8732,2,-999.0000,9,    224.1,2,     1.50,2,     0.08,2,     0.00,2,     0.00,2,   -999.0,9,   -999.0,9,-999.0000,9,  -999.00,     2132
  49UF20120429,KS1204,  3404,  1,     30,  21989,2,20120502,2035, 24.0008, 131.0210,   -9,     76.8,  20.8268,  34.8640,2,-999.0000,9,    220.6,2,     1.80,2,     0.04,2,     0.00,2,     0.00,2,   -999.0,9,   -999.0,9,-999.0000,9,  -999.00,     2131
  49UF20120429,KS1204,  3404,  1,     29,  21988,2,20120502,2035, 24.0008, 131.0210,   -9,    102.1,  19.9425,  34.8295,2,  34.8295,2,    214.0,2,     2.06,2,     0.49,2,     0.12,2,     0.05,2,   -999.0,9,   -999.0,9,-999.0000,9,  -999.00,     2129
  49UF20120429,KS1204,  3404,  1,     28,  21987,2,20120502,2035, 24.0008, 131.0210,   -9,    130.0,  19.3291,  34.8037,2,-999.0000,9,    211.7,2,     2.39,2,     1.94,2,     0.03,2,     0.12,2,   -999.0,9,   -999.0,9,-999.0000,9,  -999.00,     2128
  49UF20120429,KS1204,  3404,  1,     27,  21986,2,20120502,2035, 24.0008, 131.0210,   -9,    154.8,  19.0037,  34.7856,2,-999.0000,9,    207.8,2,     2.69,2,     2.43,2,     0.02,2,     0.15,2,   -999.0,9,   -999.0,9,-999.0000,9,  -999.00,     2126
  49UF20120429,KS1204,  3404,  1,     26,  21985,2,20120502,2035, 24.0008, 131.0210,   -9,    154.8,  19.0037,  34.7856,2,-999.0000,9,    207.7,2,     2.70,2,     2.44,2,     0.02,2,     0.15,2,   -999.0,9,   -999.0,9,-999.0000,9,  -999.00,     2126
  49UF20120429,KS1204,  3404,  1,     25,  21984,2,20120502,2035, 24.0008, 131.0210,   -9,    205.9,  18.1741,  34.7455,2,  34.7460,2,    201.6,2,     3.57,2,     3.94,2,     0.01,2,     0.25,2,   -999.0,9,   -999.0,9,-999.0000,9,  -999.00,     2124
  49UF20120429,KS1204,  3404,  1,     21,  21980,2,20120502,2035, 24.0008, 131.0210,   -9,    256.6,  17.3445,  34.7056,2,-999.0000,9,    200.5,2,     4.59,2,     5.14,2,     0.01,2,     0.33,2,   -999.0,9,   -999.0,9,-999.0000,9,  -999.00,     2122
  49UF20120429,KS1204,  3404,  1,     20,  21979,2,20120502,2035, 24.0008, 131.0210,   -9,    307.8,  16.7270,  34.6717,2,-999.0000,9,    195.3,2,     6.07,2,     6.61,2,     0.00,2,     0.43,2,   -999.0,9,   -999.0,9,-999.0000,9,  -999.00,     2119
  49UF20120429,KS1204,  3404,  1,     19,  21978,2,20120502,2035, 24.0008, 131.0210,   -9,    407.5,  13.9858,  34.4979,2,  34.5037,2,    183.2,2,    13.32,2,    11.88,2,     0.00,2,     0.81,2,   -999.0,9,   -999.0,9,-999.0000,9,  -999.00,     2116
  49UF20120429,KS1204,  3404,  1,     18,  21977,2,20120502,2035, 24.0008, 131.0210,   -9,    507.2,  11.0794,  34.3062,2,-999.0000,9,    173.1,2,    24.98,2,    17.71,2,     0.00,2,     1.24,2,   -999.0,9,   -999.0,9,-999.0000,9,  -999.00,     2113
  49UF20120429,KS1204,  3404,  1,     17,  21976,2,20120502,2035, 24.0008, 131.0210,   -9,    609.3,   8.2841,  34.1784,2,  34.1782,2,    138.5,6,    45.77,6,    25.80,6,     0.00,6,     1.85,6,   -999.0,9,   -999.0,9,-999.0000,9,  -999.00,     2110
  49UF20120429,KS1204,  3404,  1,     16,  21975,2,20120502,2035, 24.0008, 131.0210,   -9,    709.1,   6.1622,  34.1559,2,-999.0000,9,    101.0,2,    70.61,2,    32.79,2,     0.00,2,     2.37,2,   -999.0,9,   -999.0,9,-999.0000,9,  -999.00,     2107
  49UF20120429,KS1204,  3404,  1,     12,  21971,2,20120502,2035, 24.0008, 131.0210,   -9,    808.9,   5.1218,  34.2110,2,  34.2107,6,     76.1,2,    88.64,2,    36.82,2,     0.00,2,     2.66,2,   -999.0,9,   -999.0,9,-999.0000,9,  -999.00,     2104
  49UF20120429,KS1204,  3404,  1,     11,  21970,2,20120502,2035, 24.0008, 131.0210,   -9,    909.8,   4.4031,  34.2883,2,-999.0000,9,     61.9,2,   103.55,2,    39.14,2,     0.00,2,     2.82,2,   -999.0,9,   -999.0,9,-999.0000,9,  -999.00,     2102
  49UF20120429,KS1204,  3404,  1,     10,  21969,2,20120502,2035, 24.0008, 131.0210,   -9,   1012.9,   3.9407,  34.3549,2,  34.3527,2,     57.6,2,   113.91,2,    40.16,2,     0.00,2,     2.89,2,   -999.0,9,   -999.0,9,-999.0000,9,  -999.00,     2059
  49UF20120429,KS1204,  3404,  1,      9,  21968,2,20120502,2035, 24.0008, 131.0210,   -9,   1213.5,   3.1590,  34.4573,2,  34.4564,2,     64.2,2,   130.11,2,    40.55,2,     0.00,2,     2.90,2,   -999.0,9,   -999.0,9,-999.0000,9,  -999.00,     2054
  49UF20120429,KS1204,  3404,  1,      8,  21967,2,20120502,2035, 24.0008, 131.0210,   -9,   1213.5,   3.1590,  34.4573,2,  34.4546,2,     64.4,2,   130.46,2,    40.65,2,     0.00,2,     2.90,2,   -999.0,9,   -999.0,9,-999.0000,9,  -999.00,     2054
  49UF20120429,KS1204,  3404,  1,      7,  21966,2,20120502,2035, 24.0008, 131.0210,   -9,   1415.0,   2.7144,  34.5179,2,  34.5176,2,     78.2,2,   137.59,2,    40.11,2,     0.00,2,     2.85,2,   -999.0,9,   -999.0,9,-999.0000,9,  -999.00,     2049
  49UF20120429,KS1204,  3404,  1,      3,  21962,2,20120502,2035, 24.0008, 131.0210,   -9,   1618.8,   2.3857,  34.5577,2,  34.5581,6,     91.3,2,   141.30,2,    39.45,2,     0.00,2,     2.80,2,   -999.0,9,   -999.0,9,-999.0000,9,  -999.00,     2044
  49UF20120429,KS1204,  3404,  1,      2,  21961,2,20120502,2035, 24.0008, 131.0210,   -9,   1821.0,   2.1401,  34.5918,2,  34.5918,2,    104.2,2,   142.81,2,    38.70,2,     0.00,2,     2.74,2,   -999.0,9,   -999.0,9,-999.0000,9,  -999.00,     2040
  49UF20120429,KS1204,  3404,  1,      1,  21960,2,20120502,2035, 24.0008, 131.0210,   -9,   2024.7,   1.9420,  34.6196,2,  34.6199,2,    116.8,2,   143.20,2,    38.07,2,     0.00,2,     2.68,2,   -999.0,9,   -999.0,9,-999.0000,9,  -999.00,     2035
  49UF20120429,KS1204,  3407,  1,     99,     99,2,20120503,0814, 24.6533, 130.0102, 4365,      0.0,  24.4276,  34.5133,2,  34.5173,4,    212.5,2,     1.30,2,     0.05,2,     0.00,2,     0.01,2,   1947.4,2,   2259.9,2,   8.0617,2,    25.00,      850
  49UF20120429,KS1204,  3407,  1,     36,  21995,2,20120503,0814, 24.6533, 130.0102, 4365,     12.1,  24.4271,  34.5134,2,  34.5121,2,    212.2,6,     1.28,6,     0.06,6,     0.00,6,     0.00,6,   1947.9,2,   2258.9,2,   8.0805,2,    25.00,      915
  49UF20120429,KS1204,  3407,  1,     35,  21994,2,20120503,0814, 24.6533, 130.0102, 4365,     28.8,  24.2572,  34.5052,2,-999.0000,9,    212.9,2,     1.25,2,     0.06,2,     0.00,2,     0.00,2,   1945.9,2,   2258.7,2,   8.0862,2,    25.00,      913
  49UF20120429,KS1204,  3407,  1,     34,  21993,2,20120503,0814, 24.6533, 130.0102, 4365,     51.5,  22.8460,  34.7249,2,-999.0000,9,    215.8,2,     1.42,2,     0.05,2,     0.00,2,     0.00,2,   1965.1,2,   2273.4,2,   8.0660,2,    25.00,      909
  49UF20120429,KS1204,  3407,  1,     30,  21989,2,20120503,0814, 24.6533, 130.0102, 4365,     77.7,  22.0595,  34.7756,2,-999.0000,9,    215.1,2,     1.59,2,     0.06,2,     0.00,2,     0.01,2,   1979.4,2,   2277.6,2,   8.0515,2,    25.00,      908
  49UF20120429,KS1204,  3407,  1,     29,  21988,2,20120503,0814, 24.6533, 130.0102, 4365,    102.3,  21.4392,  34.8290,2,  34.8271,2,    210.4,2,     1.73,2,     0.52,2,     0.12,2,     0.04,2,   1988.4,2,   2278.1,2,   8.0375,2,    25.00,      907
  49UF20120429,KS1204,  3407,  1,     28,  21987,2,20120503,0814, 24.6533, 130.0102, 4365,    126.8,  20.8404,  34.8545,2,-999.0000,9,    218.8,2,     1.63,2,     0.12,2,     0.08,2,     0.01,2,   1990.0,2,   2278.6,2,   8.0404,2,    25.00,      905
  49UF20120429,KS1204,  3407,  1,     27,  21986,2,20120503,0814, 24.6533, 130.0102, 4365,    126.8,  20.8404,  34.8545,2,-999.0000,9,    218.7,2,     1.67,2,     0.22,2,     0.08,2,     0.02,2,   1990.1,2,   2278.9,2,   8.0410,2,    25.00,      905
  49UF20120429,KS1204,  3407,  1,     26,  21985,2,20120503,0814, 24.6533, 130.0102, 4365,    153.1,  20.3582,  34.8404,2,-999.0000,9,    217.6,2,     1.80,2,     0.36,2,     0.17,2,     0.04,2,   1994.1,2,   2282.3,2,   8.0248,2,    25.00,      904
  49UF20120429,KS1204,  3407,  1,     25,  21984,2,20120503,0814, 24.6533, 130.0102, 4365,    204.2,  19.3858,  34.8104,2,  34.8107,2,    208.8,2,     2.43,2,     1.89,2,     0.02,2,     0.12,2,   2010.2,2,   2280.0,2,   7.9894,2,    25.00,      902
  49UF20120429,KS1204,  3407,  1,     21,  21980,2,20120503,0814, 24.6533, 130.0102, 4365,    253.4,  18.3178,  34.7523,2,-999.0000,9,    200.6,2,     3.43,2,     3.79,2,     0.01,2,     0.24,2,   2025.1,6,   2271.8,6,   7.9604,2,    25.00,      900
  49UF20120429,KS1204,  3407,  1,     20,  21979,2,20120503,0814, 24.6533, 130.0102, 4365,    304.8,  17.1583,  34.6949,2,-999.0000,9,    197.2,2,     5.20,2,     5.75,2,     0.01,2,     0.38,2,   2041.2,2,   2269.3,2,   7.9325,6,    25.00,      858
  49UF20120429,KS1204,  3407,  1,     19,  21978,2,20120503,0814, 24.6533, 130.0102, 4365,    407.2,  14.7025,  34.5472,2,  34.5488,6,    183.8,2,    11.30,2,    10.63,2,     0.00,2,     0.73,2,   2077.5,2,   2268.3,2,   7.8525,2,    25.00,      855
  49UF20120429,KS1204,  3407,  1,     18,  21977,2,20120503,0814, 24.6533, 130.0102, 4365,    506.7,  12.5538,  34.4042,2,-999.0000,9,    178.2,2,    18.86,2,    14.68,2,     0.00,2,     1.03,2,   2107.7,2,   2269.2,2,   7.7828,2,    25.00,      852
  49UF20120429,KS1204,  3407,  1,     17,  21976,2,20120503,0814, 24.6533, 130.0102, 4365,    608.6,   8.5520,  34.1746,2,  34.1762,2,    148.6,2,    42.51,2,    24.26,2,     0.00,2,     1.74,2,   2178.1,2,   2275.9,2,   7.6201,2,    25.00,      849
  49UF20120429,KS1204,  3407,  1,     16,  21975,2,20120503,0814, 24.6533, 130.0102, 4365,    708.8,   6.6219,  34.1482,2,-999.0000,9,    112.1,6,    64.54,6,    31.00,6,     0.00,6,     2.24,6,   2234.7,2,   2293.6,2,   7.5149,2,    25.00,      846
  49UF20120429,KS1204,  3407,  1,     12,  21971,2,20120503,0814, 24.6533, 130.0102, 4365,    810.6,   5.2431,  34.1822,2,  34.1823,2,     81.2,2,    85.03,2,    35.98,2,     0.00,2,     2.61,2,   2281.1,2,   2314.3,2,   7.4279,2,    25.00,      843
  49UF20120429,KS1204,  3407,  1,     11,  21970,2,20120503,0814, 24.6533, 130.0102, 4365,    909.5,   4.5841,  34.2549,2,-999.0000,9,     65.5,2,    99.84,2,    38.44,2,     0.00,2,     2.78,2,   2308.9,2,   2333.8,2,   7.3966,2,    25.00,      840
  49UF20120429,KS1204,  3407,  1,     10,  21969,2,20120503,0814, 24.6533, 130.0102, 4365,   1012.8,   4.0455,  34.3228,2,  34.3226,2,     58.3,2,   111.94,2,    39.80,2,     0.00,2,     2.87,2,   2326.3,2,   2348.4,2,   7.3849,2,    25.00,      837
  49UF20120429,KS1204,  3407,  1,      9,  21968,2,20120503,0814, 24.6533, 130.0102, 4365,   1012.8,   4.0455,  34.3228,2,  34.3230,2,     58.2,2,   112.17,2,    39.76,2,     0.00,2,     2.87,2,   2326.9,2,   2345.3,2,   7.3832,2,    25.00,      837
  49UF20120429,KS1204,  3407,  1,      8,  21967,3,20120503,0814, 24.6533, 130.0102, 4365,   1215.8,   3.2454,  34.4395,2,  34.4385,2,     61.1,2,   129.37,2,    40.59,2,     0.00,2,     2.92,2,   2346.0,2,   2367.0,2,   7.4006,2,    25.00,      832
  49UF20120429,KS1204,  3407,  1,      7,  21966,2,20120503,0814, 24.6533, 130.0102, 4365,   1415.4,   2.7325,  34.5082,2,  34.5084,2,     74.8,2,   137.87,2,    40.10,2,     0.00,2,     2.87,2,   2349.0,2,   2383.1,2,   7.4221,2,    25.00,      827
  49UF20120429,KS1204,  3407,  1,      3,  21962,2,20120503,0814, 24.6533, 130.0102, 4365,   1619.4,   2.4134,  34.5519,2,  34.5422,4,     85.8,4,   140.77,2,    39.57,2,     0.00,2,     2.82,2,   2347.5,2,   2393.0,2,   7.4428,2,    25.00,      822
  49UF20120429,KS1204,  3407,  1,      2,  21961,2,20120503,0814, 24.6533, 130.0102, 4365,   1821.9,   2.1903,  34.5837,2,  34.5834,2,    101.2,2,   142.72,2,    38.84,2,     0.00,2,     2.75,2,   2344.2,6,   2396.3,6,   7.4679,2,    25.00,      818
  49UF20120429,KS1204,  3407,  1,      1,  21960,2,20120503,0814, 24.6533, 130.0102, 4365,   2023.0,   2.0009,  34.6102,2,  34.6105,2,    112.9,2,   143.34,2,    38.16,2,     0.00,2,     2.70,2,   2341.4,2,   2399.2,2,   7.4935,6,    25.00,      814