BOTTLE,20191017PRINUNIVRMK
# 08/29/2019 Initialized README file  
# Data source:  Masao Ishii 2018/11/30 
# SHIP: R/V Keifu Maru II 
# Cruise: KS12-04, P03W 
# Region: North Pacific Ocean, East China Sea 
# EXPOCODE: 49UF20120429 
# DATES: 20120429 - 20120530	 
# Chief Scientist: Tatsuo Nakamura 
# 31 stations with 24 place Rosette 
# CTD: Who - Kazuhiro Nemoto; Status - final 
# 	Includes: CTDSAL 
# SALNTY: Who - Kazuhiro Nemoto; Status - final 
# 	Notes: 	 
# Nutrients: Who - Kazuhiro Nemoto; Status - final 
# 	Includes: nitrate, nitrite, silicate, phosphate 
# 	Nitrite and NO3+NO2 reported. Separated by subtraction 
# OXYGEN: Who - Kazuhiro Nemoto; Status - final 
# 	Notes: 
# TCARBN: Who - Kazuhiro Nemoto; Status - final 
# 	Notes:  
# ALKALI: Who - Kazuhiro Nemoto; Status - final 
# 	Notes:  
# PH_TOT: Who - Kazuhiro Nemoto; Status - final 
# 	Notes: at 25C 
# Nakamura, Tatsuo; Nemoto, Kazuhiro (2019). Dissolved inorganic carbon (DIC), total alkalinity, pH on total scale, temperature, salinity, oxygen, nutrients and other measurements collected from profile and discrete sample observations during the R/V Keifu Maru II cruise KS12-04 Repeat Section P03W (EXPOCODE 49UF20120429) in the North Pacific Ocean from 2012-04-29 to 2012-05-30 (NCEI Accession 0186236). [indicate subset used]. NOAA National Centers for Environmental Information. Dataset. https://doi.org/10.25921/ss7p-3b74. 
# References that have used data from this cruise: 
EXPOCODE,SECT_ID,STNNBR,CASTNO,SAMPNO,BTLNBR,BTLNBR_FLAG_W,DATE,TIME,LATITUDE,LONGITUDE,DEPTH,CTDPRS,CTDTMP,CTDSAL,CTDSAL_FLAG_W,SALNTY,SALNTY_FLAG_W,OXYGEN,OXYGEN_FLAG_W,SILCAT,SILCAT_FLAG_W,NITRAT,NITRAT_FLAG_W,NITRIT,NITRIT_FLAG_W,PHSPHT,PHSPHT_FLAG_W,TCARBN,TCARBN_FLAG_W,ALKALI,ALKALI_FLAG_W,PH_TOT,PH_TOT_FLAG_W,PH_TMP,BTL_TIME
,,,,,,,,,,,METERS,DBAR,ITS-90,PSS-78,,PSS-78,,UMOL/KG,,UMOL/KG,,UMOL/KG,,UMOL/KG,,UMOL/KG,,UMOL/KG,,UMOL/KG,,,,DEG C,
  49UF20120429,KS1204,  3398,  1,     99,     99,2,20120501,1847, 24.2477, 133.3578, 4415,      0.0,  23.8438,  34.8195,2,-999.0000,9,    218.3,2,     1.54,2,     0.04,2,     0.01,2,     0.01,2,   -999.0,9,   -999.0,9,-999.0000,9,  -999.00,     1924
  49UF20120429,KS1204,  3398,  1,     36,  21995,2,20120501,1847, 24.2477, 133.3578, 4415,     10.7,  23.8052,  34.8197,2,  34.8191,2,    216.1,2,     1.50,2,     0.00,2,     0.00,2,     0.00,2,   -999.0,9,   -999.0,9,-999.0000,9,  -999.00,     1948
  49UF20120429,KS1204,  3398,  1,     35,  21994,2,20120501,1847, 24.2477, 133.3578, 4415,     26.7,  22.0767,  34.8861,2,-999.0000,9,    222.8,2,     1.63,2,     0.00,2,     0.00,2,     0.00,2,   -999.0,9,   -999.0,9,-999.0000,9,  -999.00,     1947
  49UF20120429,KS1204,  3398,  1,     34,  21993,2,20120501,1847, 24.2477, 133.3578, 4415,     51.3,  20.5621,  34.8658,2,-999.0000,9,    228.6,2,     1.67,2,     0.00,2,     0.00,2,     0.00,2,   -999.0,9,   -999.0,9,-999.0000,9,  -999.00,     1942
  49UF20120429,KS1204,  3398,  1,     30,  21989,2,20120501,1847, 24.2477, 133.3578, 4415,     79.9,  20.0204,  34.8499,2,-999.0000,9,    226.7,2,     1.87,2,     0.00,2,     0.00,2,     0.01,2,   -999.0,9,   -999.0,9,-999.0000,9,  -999.00,     1940
  49UF20120429,KS1204,  3398,  1,     29,  21988,2,20120501,1847, 24.2477, 133.3578, 4415,    104.2,  19.6711,  34.8291,2,  34.8280,6,    221.2,2,     2.02,2,     0.34,2,     0.09,2,     0.04,2,   -999.0,9,   -999.0,9,-999.0000,9,  -999.00,     1939
  49UF20120429,KS1204,  3398,  1,     28,  21987,2,20120501,1847, 24.2477, 133.3578, 4415,    129.3,  19.4675,  34.8289,2,-999.0000,9,    216.2,2,     2.28,6,     1.22,6,     0.06,6,     0.10,6,   -999.0,9,   -999.0,9,-999.0000,9,  -999.00,     1937
  49UF20120429,KS1204,  3398,  1,     27,  21986,2,20120501,1847, 24.2477, 133.3578, 4415,    153.8,  19.0187,  34.7861,2,-999.0000,9,    209.4,2,     2.71,2,     2.23,2,     0.02,2,     0.15,2,   -999.0,9,   -999.0,9,-999.0000,9,  -999.00,     1936
  49UF20120429,KS1204,  3398,  1,     26,  21985,2,20120501,1847, 24.2477, 133.3578, 4415,    202.9,  18.2921,  34.7543,2,  34.7532,2,    201.9,2,     3.57,2,     3.68,2,     0.01,2,     0.24,2,   -999.0,9,   -999.0,9,-999.0000,9,  -999.00,     1934
  49UF20120429,KS1204,  3398,  1,     25,  21984,2,20120501,1847, 24.2477, 133.3578, 4415,    253.6,  17.6183,  34.7188,2,-999.0000,9,    198.8,2,     4.59,2,     4.94,2,     0.01,2,     0.33,2,   -999.0,9,   -999.0,9,-999.0000,9,  -999.00,     1932
  49UF20120429,KS1204,  3398,  1,     21,  21980,2,20120501,1847, 24.2477, 133.3578, 4415,    304.2,  16.7817,  34.6774,2,-999.0000,9,    195.7,2,     6.26,2,     6.53,2,     0.00,2,     0.44,2,   -999.0,9,   -999.0,9,-999.0000,9,  -999.00,     1930
  49UF20120429,KS1204,  3398,  1,     20,  21979,2,20120501,1847, 24.2477, 133.3578, 4415,    404.6,  14.4883,  34.5315,2,  34.5313,2,    183.6,2,    12.44,2,    11.09,2,     0.00,2,     0.76,2,   -999.0,9,   -999.0,9,-999.0000,9,  -999.00,     1927
  49UF20120429,KS1204,  3398,  1,     19,  21978,2,20120501,1847, 24.2477, 133.3578, 4415,    404.6,  14.4883,  34.5315,2,  34.5280,2,    183.7,2,    12.65,2,    11.21,2,     0.00,2,     0.77,2,   -999.0,9,   -999.0,9,-999.0000,9,  -999.00,     1927
  49UF20120429,KS1204,  3398,  1,     18,  21977,2,20120501,1847, 24.2477, 133.3578, 4415,    506.6,  11.4137,  34.3353,2,-999.0000,9,    171.1,2,    24.58,2,    17.34,2,     0.00,2,     1.22,2,   -999.0,9,   -999.0,9,-999.0000,9,  -999.00,     1924
  49UF20120429,KS1204,  3398,  1,     17,  21976,2,20120501,1847, 24.2477, 133.3578, 4415,    607.8,   8.3121,  34.1825,2,  34.1808,2,    142.0,2,    46.27,2,    25.32,2,     0.00,2,     1.81,2,   -999.0,9,   -999.0,9,-999.0000,9,  -999.00,     1922
  49UF20120429,KS1204,  3398,  1,     16,  21975,2,20120501,1847, 24.2477, 133.3578, 4415,    707.3,   6.4970,  34.1484,2,-999.0000,9,    112.1,2,    66.23,2,    31.22,2,     0.00,2,     2.25,2,   -999.0,9,   -999.0,9,-999.0000,9,  -999.00,     1919
  49UF20120429,KS1204,  3398,  1,     12,  21971,2,20120501,1847, 24.2477, 133.3578, 4415,    809.0,   5.3470,  34.1783,2,  34.1746,2,     86.2,2,    83.18,2,    35.30,2,     0.00,2,     2.55,2,   -999.0,9,   -999.0,9,-999.0000,9,  -999.00,     1916
  49UF20120429,KS1204,  3398,  1,     11,  21970,2,20120501,1847, 24.2477, 133.3578, 4415,    909.6,   4.4156,  34.2654,2,-999.0000,9,     63.5,2,   103.19,2,    38.80,2,     0.00,2,     2.79,2,   -999.0,9,   -999.0,9,-999.0000,9,  -999.00,     1913
  49UF20120429,KS1204,  3398,  1,     10,  21969,2,20120501,1847, 24.2477, 133.3578, 4415,   1009.6,   3.9314,  34.3320,2,  34.3314,2,     56.4,6,   113.99,6,    40.13,6,     0.00,6,     2.88,6,   -999.0,9,   -999.0,9,-999.0000,9,  -999.00,     1910
  49UF20120429,KS1204,  3398,  1,      9,  21968,2,20120501,1847, 24.2477, 133.3578, 4415,   1213.3,   3.1648,  34.4333,2,  34.4327,2,     58.7,2,   131.44,2,    40.88,2,     0.00,2,     2.93,2,   -999.0,9,   -999.0,9,-999.0000,9,  -999.00,     1905
  49UF20120429,KS1204,  3398,  1,      8,  21967,2,20120501,1847, 24.2477, 133.3578, 4415,   1415.1,   2.6676,  34.5147,2,  34.5138,2,     75.9,2,   138.72,2,    40.20,2,     0.00,2,     2.86,2,   -999.0,9,   -999.0,9,-999.0000,9,  -999.00,     1901
  49UF20120429,KS1204,  3398,  1,      7,  21966,2,20120501,1847, 24.2477, 133.3578, 4415,   1621.3,   2.3100,  34.5619,2,  34.5608,2,     91.2,2,   142.59,2,    39.42,2,     0.00,2,     2.80,2,   -999.0,9,   -999.0,9,-999.0000,9,  -999.00,     1856
  49UF20120429,KS1204,  3398,  1,      3,  21962,2,20120501,1847, 24.2477, 133.3578, 4415,   1823.7,   2.0765,  34.5947,2,  34.5964,2,    105.0,2,   144.17,2,    38.68,2,     0.00,2,     2.73,2,   -999.0,9,   -999.0,9,-999.0000,9,  -999.00,     1852
  49UF20120429,KS1204,  3398,  1,      2,  21961,2,20120501,1847, 24.2477, 133.3578, 4415,   2026.3,   1.9461,  34.6147,2,  34.6142,2,    114.4,2,   143.81,2,    38.14,2,     0.00,2,     2.69,2,   -999.0,9,   -999.0,9,-999.0000,9,  -999.00,     1847
  49UF20120429,KS1204,  3398,  1,      1,  21960,2,20120501,1847, 24.2477, 133.3578, 4415,   2026.3,   1.9461,  34.6147,2,  34.6133,6,    114.3,2,   143.54,2,    38.19,2,     0.00,2,     2.69,2,   -999.0,9,   -999.0,9,-999.0000,9,  -999.00,     1847
  49UF20120429,KS1204,  3400,  1,     99,     99,2,20120502,0209, 23.7598, 133.0147, 2844,      0.0,  26.4123,  34.6772,2,-999.0000,9,    206.8,2,     1.21,2,     0.08,2,     0.00,2,     0.01,2,   -999.0,9,   -999.0,9,-999.0000,9,  -999.00,      256
  49UF20120429,KS1204,  3400,  1,     36,  21995,4,20120502,0209, 23.7598, 133.0147, 2844,     12.1,  26.1557,  34.6740,2,-999.0000,9,   -999.0,9,  -999.00,9,  -999.00,9,  -999.00,9,  -999.00,9,   -999.0,9,   -999.0,9,-999.0000,9,  -999.00,      321
  49UF20120429,KS1204,  3400,  1,     35,  21994,2,20120502,0209, 23.7598, 133.0147, 2844,     27.3,  24.0212,  34.9214,2,-999.0000,9,    215.7,2,     1.23,2,     0.06,2,     0.00,2,     0.00,2,   -999.0,9,   -999.0,9,-999.0000,9,  -999.00,      320
  49UF20120429,KS1204,  3400,  1,     34,  21993,2,20120502,0209, 23.7598, 133.0147, 2844,     53.0,  22.7269,  34.9212,2,-999.0000,9,    215.8,2,     1.42,2,     0.05,2,     0.00,2,     0.00,2,   -999.0,9,   -999.0,9,-999.0000,9,  -999.00,      315
  49UF20120429,KS1204,  3400,  1,     30,  21989,2,20120502,0209, 23.7598, 133.0147, 2844,     78.2,  22.0552,  34.8685,2,-999.0000,9,    218.4,2,     1.46,2,     0.06,2,     0.00,2,     0.00,2,   -999.0,9,   -999.0,9,-999.0000,9,  -999.00,      314
  49UF20120429,KS1204,  3400,  1,     29,  21988,2,20120502,0209, 23.7598, 133.0147, 2844,    103.4,  21.2733,  34.8628,2,-999.0000,9,    213.3,6,     1.68,6,     0.12,6,     0.05,6,     0.02,6,   -999.0,9,   -999.0,9,-999.0000,9,  -999.00,      312
  49UF20120429,KS1204,  3400,  1,     28,  21987,2,20120502,0209, 23.7598, 133.0147, 2844,    128.1,  20.7833,  34.8556,2,-999.0000,9,    210.6,2,     1.84,2,     0.68,2,     0.05,2,     0.05,2,   -999.0,9,   -999.0,9,-999.0000,9,  -999.00,      311
  49UF20120429,KS1204,  3400,  1,     27,  21986,2,20120502,0209, 23.7598, 133.0147, 2844,    153.9,  19.8013,  34.8207,2,-999.0000,9,    206.1,2,     2.31,2,     1.73,2,     0.05,2,     0.12,2,   -999.0,9,   -999.0,9,-999.0000,9,  -999.00,      309
  49UF20120429,KS1204,  3400,  1,     26,  21985,2,20120502,0209, 23.7598, 133.0147, 2844,    204.7,  18.6126,  34.7670,2,-999.0000,9,    201.7,2,     3.11,2,     3.36,2,     0.01,2,     0.21,2,   -999.0,9,   -999.0,9,-999.0000,9,  -999.00,      307
  49UF20120429,KS1204,  3400,  1,     25,  21984,2,20120502,0209, 23.7598, 133.0147, 2844,    256.4,  17.7620,  34.7264,2,-999.0000,9,    202.8,2,     3.97,2,     4.41,2,     0.01,2,     0.28,2,   -999.0,9,   -999.0,9,-999.0000,9,  -999.00,      305
  49UF20120429,KS1204,  3400,  1,     21,  21980,2,20120502,0209, 23.7598, 133.0147, 2844,    308.6,  17.0912,  34.6923,2,-999.0000,9,    199.6,2,     5.24,2,     5.71,2,     0.01,2,     0.37,2,   -999.0,9,   -999.0,9,-999.0000,9,  -999.00,      302
  49UF20120429,KS1204,  3400,  1,     20,  21979,2,20120502,0209, 23.7598, 133.0147, 2844,    308.6,  17.0912,  34.6923,2,-999.0000,9,    199.7,2,     5.16,2,     5.63,2,     0.01,2,     0.37,2,   -999.0,9,   -999.0,9,-999.0000,9,  -999.00,      302
  49UF20120429,KS1204,  3400,  1,     19,  21978,2,20120502,0209, 23.7598, 133.0147, 2844,    409.4,  14.6107,  34.5352,2,-999.0000,9,    186.8,2,    11.13,2,    10.49,2,     0.00,2,     0.71,2,   -999.0,9,   -999.0,9,-999.0000,9,  -999.00,      259
  49UF20120429,KS1204,  3400,  1,     18,  21977,2,20120502,0209, 23.7598, 133.0147, 2844,    506.0,  11.4307,  34.3223,2,-999.0000,9,    177.0,2,    21.88,2,    16.45,2,     0.00,2,     1.15,2,   -999.0,9,   -999.0,9,-999.0000,9,  -999.00,      255
  49UF20120429,KS1204,  3400,  1,     17,  21976,2,20120502,0209, 23.7598, 133.0147, 2844,    605.9,   9.0047,  34.1836,2,-999.0000,9,    157.1,2,    37.75,2,    22.78,2,     0.00,2,     1.62,2,   -999.0,9,   -999.0,9,-999.0000,9,  -999.00,      252
  49UF20120429,KS1204,  3400,  1,     16,  21975,2,20120502,0209, 23.7598, 133.0147, 2844,    707.8,   6.5515,  34.1257,2,-999.0000,9,    113.8,2,    63.27,2,    30.94,2,     0.00,2,     2.24,2,   -999.0,9,   -999.0,9,-999.0000,9,  -999.00,      248
  49UF20120429,KS1204,  3400,  1,     12,  21971,2,20120502,0209, 23.7598, 133.0147, 2844,    808.4,   5.6624,  34.1621,2,-999.0000,9,     90.2,2,    77.83,2,    34.58,2,     0.00,2,     2.51,2,   -999.0,9,   -999.0,9,-999.0000,9,  -999.00,      245
  49UF20120429,KS1204,  3400,  1,     11,  21970,2,20120502,0209, 23.7598, 133.0147, 2844,    909.3,   4.7276,  34.2429,2,-999.0000,9,     67.1,6,    96.22,6,    38.10,6,     0.00,6,     2.76,6,   -999.0,9,   -999.0,9,-999.0000,9,  -999.00,      241
  49UF20120429,KS1204,  3400,  1,     10,  21969,2,20120502,0209, 23.7598, 133.0147, 2844,   1011.6,   3.9691,  34.3355,2,-999.0000,9,     56.6,2,   113.37,2,    40.06,2,     0.00,2,     2.89,2,   -999.0,9,   -999.0,9,-999.0000,9,  -999.00,      238
  49UF20120429,KS1204,  3400,  1,      9,  21968,2,20120502,0209, 23.7598, 133.0147, 2844,   1214.3,   3.2202,  34.4370,2,-999.0000,9,     58.7,2,   129.84,2,    40.83,2,     0.00,2,     2.93,2,   -999.0,9,   -999.0,9,-999.0000,9,  -999.00,      233
  49UF20120429,KS1204,  3400,  1,      8,  21967,3,20120502,0209, 23.7598, 133.0147, 2844,   1414.4,   2.7934,  34.5197,2,-999.0000,9,     79.5,2,   135.96,2,    39.79,2,     0.00,2,     2.85,2,   -999.0,9,   -999.0,9,-999.0000,9,  -999.00,      228
  49UF20120429,KS1204,  3400,  1,      7,  21966,2,20120502,0209, 23.7598, 133.0147, 2844,   1616.4,   2.3805,  34.5614,2,-999.0000,9,     91.7,2,   141.16,2,    39.25,2,     0.00,2,     2.79,2,   -999.0,9,   -999.0,9,-999.0000,9,  -999.00,      223
  49UF20120429,KS1204,  3400,  1,      3,  21962,2,20120502,0209, 23.7598, 133.0147, 2844,   1820.1,   2.1604,  34.5917,2,-999.0000,9,    104.5,2,   142.32,2,    38.54,2,     0.00,2,     2.74,2,   -999.0,9,   -999.0,9,-999.0000,9,  -999.00,      219
  49UF20120429,KS1204,  3400,  1,      2,  21961,2,20120502,0209, 23.7598, 133.0147, 2844,   1820.1,   2.1604,  34.5917,2,-999.0000,9,    104.5,2,   142.55,2,    38.55,2,     0.00,2,     2.74,2,   -999.0,9,   -999.0,9,-999.0000,9,  -999.00,      219
  49UF20120429,KS1204,  3400,  1,      1,  21960,2,20120502,0209, 23.7598, 133.0147, 2844,   2022.6,   1.9632,  34.6165,2,-999.0000,9,    115.6,2,   143.23,2,    37.98,2,     0.00,2,     2.71,2,   -999.0,9,   -999.0,9,-999.0000,9,  -999.00,      209