BOTTLE,20191017PRINUNIVRMK
EXPOCODE,SECT_ID,STNNBR,CASTNO,SAMPNO,BTLNBR,BTLNBR_FLAG_W,DATE,TIME,LATITUDE,LONGITUDE,DEPTH,CTDPRS,CTDTMP,CTDSAL,CTDSAL_FLAG_W,SALNTY,SALNTY_FLAG_W,OXYGEN,OXYGEN_FLAG_W,SILCAT,SILCAT_FLAG_W,NITRAT,NITRAT_FLAG_W,NITRIT,NITRIT_FLAG_W,PHSPHT,PHSPHT_FLAG_W,TCARBN,TCARBN_FLAG_W,ALKALI,ALKALI_FLAG_W,PH_TOT,PH_TOT_FLAG_W,PH_TMP,BTL_TIME
,,,,,,,,,,,METERS,DBAR,ITS-90,PSS-78,,PSS-78,,UMOL/KG,,UMOL/KG,,UMOL/KG,,UMOL/KG,,UMOL/KG,,UMOL/KG,,UMOL/KG,,,,DEG C,
  49UF20120429,KS1204,  3438,  1,     99,     99,2,20120519,1905, 24.0138, 136.9640, 3994,      0.0,  25.3683,  35.0030,2,  34.9989,4,    208.0,2,     1.06,2,     0.05,2,     0.00,2,     0.01,2,   1972.6,2,   2289.7,2,   8.0703,2,    25.00,     2055
  49UF20120429,KS1204,  3438,  1,     36,  21995,2,20120519,1905, 24.0138, 136.9640, 3994,     12.3,  25.3597,  35.0063,2,  35.0069,2,    208.4,2,     1.07,2,     0.12,2,     0.00,2,     0.02,2,   1971.7,2,   2292.5,2,   8.0744,2,    25.00,     2120
  49UF20120429,KS1204,  3438,  1,     35,  21994,2,20120519,1905, 24.0138, 136.9640, 3994,     28.1,  24.8874,  35.0315,2,-999.0000,9,    211.2,2,     1.07,2,     0.09,2,     0.00,2,     0.01,2,   1973.9,2,   2291.5,2,   8.0763,2,    25.00,     2118
  49UF20120429,KS1204,  3438,  1,     34,  21993,2,20120519,1905, 24.0138, 136.9640, 3994,     28.1,  24.8874,  35.0315,2,-999.0000,9,    211.4,6,     1.11,6,     0.13,6,     0.00,6,     0.02,6,   1979.4,3,   2288.0,2,   8.0752,2,    25.00,     2118
  49UF20120429,KS1204,  3438,  1,     33,  21992,2,20120519,1905, 24.0138, 136.9640, 3994,     51.5,  23.5394,  35.0994,2,-999.0000,9,    216.6,2,     1.16,2,     0.13,2,     0.00,2,     0.01,2,   1981.9,6,   2296.1,6,   8.0678,2,    25.00,     2114
  49UF20120429,KS1204,  3438,  1,     32,  21991,2,20120519,1905, 24.0138, 136.9640, 3994,     76.6,  22.7999,  35.1019,2,-999.0000,9,    216.4,2,     1.25,2,     0.13,2,     0.00,2,     0.01,2,   1988.5,2,   2294.7,2,   8.0596,6,    25.00,     2113
  49UF20120429,KS1204,  3438,  1,     31,  21990,2,20120519,1905, 24.0138, 136.9640, 3994,    103.0,  21.9342,  35.0302,2,  35.0280,2,    215.0,2,     1.49,2,     0.12,2,     0.00,2,     0.01,2,   1997.1,2,   2289.5,2,   8.0382,2,    25.00,     2112
  49UF20120429,KS1204,  3438,  1,     30,  21989,3,20120519,1905, 24.0138, 136.9640, 3994,    127.9,  20.8516,  34.9440,2,-999.0000,9,    213.9,2,     1.72,2,     0.29,2,     0.09,2,     0.04,2,   2003.2,2,   2286.7,2,   8.0240,2,    25.00,     2110
  49UF20120429,KS1204,  3438,  1,     29,  21988,2,20120519,1905, 24.0138, 136.9640, 3994,    152.8,  20.3914,  34.9113,2,-999.0000,9,    209.8,2,     1.95,2,     0.82,2,     0.06,2,     0.09,2,   2009.1,2,   2283.2,2,   8.0121,2,    25.00,     2109
  49UF20120429,KS1204,  3438,  1,     28,  21987,2,20120519,1905, 24.0138, 136.9640, 3994,    203.0,  18.5569,  34.7771,2,  34.7764,2,    202.9,2,     3.01,2,     3.21,2,     0.01,2,     0.22,2,   2026.8,6,   2272.3,6,   7.9653,2,    25.00,     2107
  49UF20120429,KS1204,  3438,  1,     27,  21986,2,20120519,1905, 24.0138, 136.9640, 3994,    254.4,  17.6133,  34.7180,2,-999.0000,9,    202.5,2,     3.91,2,     4.57,2,     0.01,2,     0.31,2,   2033.0,2,   2269.3,2,   7.9438,6,    25.00,     2105
  49UF20120429,KS1204,  3438,  1,     26,  21985,2,20120519,1905, 24.0138, 136.9640, 3994,    304.1,  16.8835,  34.6772,2,-999.0000,9,    202.4,2,     5.09,2,     5.70,2,     0.01,2,     0.39,2,   2038.8,2,   2266.8,2,   7.9250,2,    25.00,     2103
  49UF20120429,KS1204,  3438,  1,     25,  21984,2,20120519,1905, 24.0138, 136.9640, 3994,    304.1,  16.8835,  34.6772,2,-999.0000,9,    202.4,6,     5.05,6,     5.70,6,     0.01,6,     0.39,6,   2039.9,2,   2271.5,3,   7.9264,2,    25.00,     2103
  49UF20120429,KS1204,  3438,  1,     24,  21983,2,20120519,1905, 24.0138, 136.9640, 3994,    406.0,  14.2261,  34.4963,2,  34.4949,6,    192.0,2,    11.15,2,    10.66,2,     0.00,2,     0.74,2,   2079.0,2,   2265.2,2,   7.8426,2,    25.00,     2059
  49UF20120429,KS1204,  3438,  1,     23,  21982,2,20120519,1905, 24.0138, 136.9640, 3994,    507.4,  11.1755,  34.2929,2,-999.0000,9,    181.0,2,    22.29,2,    16.72,2,     0.00,2,     1.19,2,   2121.5,2,   2261.6,2,   7.7450,2,    25.00,     2054
  49UF20120429,KS1204,  3438,  1,     22,  21981,2,20120519,1905, 24.0138, 136.9640, 3994,    608.3,   8.6350,  34.1440,2,  34.1432,2,    153.0,2,    37.05,2,    23.88,2,     0.00,2,     1.72,2,   2172.3,2,   2267.6,2,   7.6242,2,    25.00,     2050
  49UF20120429,KS1204,  3438,  1,     20,  21979,2,20120519,1905, 24.0138, 136.9640, 3994,    708.9,   6.4656,  34.1123,2,-999.0000,9,    105.1,2,    61.73,2,    32.13,2,     0.00,2,     2.33,2,   2243.6,2,   2288.4,2,   7.4918,2,    25.00,     2047
  49UF20120429,KS1204,  3438,  1,     19,  21978,2,20120519,1905, 24.0138, 136.9640, 3994,    810.2,   5.3553,  34.1825,2,  34.1824,2,     73.8,2,    81.47,2,    36.81,2,     0.00,2,     2.67,2,   2287.2,2,   2310.3,2,   7.4154,2,    25.00,     2042
  49UF20120429,KS1204,  3438,  1,     18,  21977,2,20120519,1905, 24.0138, 136.9640, 3994,    910.5,   4.4752,  34.2525,2,-999.0000,9,     57.0,2,   100.76,2,    39.54,2,     0.00,2,     2.87,2,   2319.0,2,   2327.2,2,   7.3756,2,    25.00,     2039
  49UF20120429,KS1204,  3438,  1,     17,  21976,2,20120519,1905, 24.0138, 136.9640, 3994,   1012.2,   3.9239,  34.3255,2,  34.3231,6,     52.7,2,   113.78,2,    40.60,2,     0.00,2,     2.93,2,   2336.1,2,   2343.8,2,   7.3688,2,    25.00,     2033
  49UF20120429,KS1204,  3438,  1,     16,  21975,2,20120519,1905, 24.0138, 136.9640, 3994,   1012.2,   3.9239,  34.3255,2,  34.3218,2,     52.9,6,   113.88,6,    40.64,6,     0.00,6,     2.94,6,   2337.2,2,   2344.1,2,   7.3693,2,    25.00,     2033
  49UF20120429,KS1204,  3438,  1,     15,  21974,2,20120519,1905, 24.0138, 136.9640, 3994,   1215.3,   3.2659,  34.4276,2,  34.4278,2,     56.6,2,   129.37,2,    41.21,2,     0.00,2,     2.96,2,   2353.9,6,   2370.8,2,   7.3808,2,    25.00,     2027
  49UF20120429,KS1204,  3438,  1,     14,  21973,2,20120519,1905, 24.0138, 136.9640, 3994,   1417.3,   2.8465,  34.5038,2,  34.5052,2,     72.0,2,   136.08,2,    40.47,2,     0.00,2,     2.90,2,   2351.5,2,   2380.7,2,   7.4151,6,    25.00,     2021
  49UF20120429,KS1204,  3438,  1,     13,  21972,2,20120519,1905, 24.0138, 136.9640, 3994,   1621.8,   2.4591,  34.5511,2,  34.5517,2,     86.8,2,   140.96,2,    39.74,2,     0.00,2,     2.84,2,   2352.2,2,   2387.5,2,   7.4427,2,    25.00,     2013
  49UF20120429,KS1204,  3438,  1,     12,  21971,2,20120519,1905, 24.0138, 136.9640, 3994,   1822.8,   2.2279,  34.5847,2,  34.5849,2,    100.1,2,   142.64,2,    39.02,2,     0.00,2,     2.78,2,   2347.2,2,   2392.3,2,   7.4678,2,    25.00,     2007
  49UF20120429,KS1204,  3438,  1,     11,  21970,2,20120519,1905, 24.0138, 136.9640, 3994,   2024.3,   2.0432,  34.6121,2,  34.6123,2,    112.3,2,   142.63,2,    38.35,2,     0.00,2,     2.72,2,   2343.0,2,   2398.3,2,   7.4892,2,    25.00,     1957
  49UF20120429,KS1204,  3438,  1,     10,  21969,3,20120519,1905, 24.0138, 136.9640, 3994,   2279.8,   1.8728,  34.6336,2,  34.6335,2,    122.5,2,   143.26,2,    37.75,2,     0.00,2,     2.67,2,   2340.5,2,   2403.0,2,   7.5122,2,    25.00,     1949
  49UF20120429,KS1204,  3438,  1,      9,  21968,2,20120519,1905, 24.0138, 136.9640, 3994,   2534.8,   1.7859,  34.6447,2,  34.6457,2,    128.5,2,   143.58,2,    37.47,2,     0.00,2,     2.65,2,   2338.1,2,   2401.4,2,   7.5219,2,    25.00,     1941
  49UF20120429,KS1204,  3438,  1,      8,  21967,3,20120519,1905, 24.0138, 136.9640, 3994,   2788.6,   1.6995,  34.6549,2,  34.6562,6,    135.0,2,   143.45,2,    37.09,2,     0.00,2,     2.62,2,   2334.9,2,   2403.8,2,   7.5306,2,    25.00,     1934
  49UF20120429,KS1204,  3438,  1,      7,  21966,2,20120519,1905, 24.0138, 136.9640, 3994,   2788.6,   1.6995,  34.6549,2,  34.6565,2,    134.8,6,   143.36,6,    37.07,6,     0.00,6,     2.61,6,   2334.1,2,   2407.1,2,   7.5278,2,    25.00,     1934
  49UF20120429,KS1204,  3438,  1,      6,  21965,2,20120519,1905, 24.0138, 136.9640, 3994,   3042.5,   1.6565,  34.6611,2,  34.6614,2,    139.4,2,   143.52,2,    36.86,2,     0.00,2,     2.59,2,   2333.0,6,   2402.2,6,   7.5338,2,    25.00,     1926
  49UF20120429,KS1204,  3438,  1,      5,  21964,2,20120519,1905, 24.0138, 136.9640, 3994,   3297.9,   1.6111,  34.6672,2,  34.6670,2,    143.8,2,   142.66,2,    36.58,2,     0.00,2,     2.57,2,   2331.0,2,   2406.3,2,   7.5448,6,    25.00,     1918
  49UF20120429,KS1204,  3438,  1,      4,  21963,2,20120519,1905, 24.0138, 136.9640, 3994,   3552.6,   1.5668,  34.6741,2,  34.6743,2,    149.0,2,   141.92,2,    36.24,2,     0.00,2,     2.54,2,   2328.7,2,   2405.5,2,   7.5495,2,    25.00,     1912
  49UF20120429,KS1204,  3438,  1,      2,  21961,2,20120519,1905, 24.0138, 136.9640, 3994,   3805.8,   1.5396,  34.6790,2,  34.6795,2,    152.6,2,   141.41,2,    36.02,2,     0.00,2,     2.52,2,   2322.9,2,   2402.6,2,   7.5586,2,    25.00,     1905
  49UF20120429,KS1204,  3438,  1,      1,  21960,2,20120519,1905, 24.0138, 136.9640, 3994,   3806.0,   1.5397,  34.6789,2,  34.6790,2,    152.8,2,   141.82,2,    36.06,2,     0.00,2,     2.52,2,   2323.8,2,   2403.1,2,   7.5562,2,    25.00,     1905
  49UF20120429,KS1204,  3440,  1,     99,     99,2,20120520,0809, 24.2525, 138.5692, 5006,      0.0,  25.9089,  35.0297,2,-999.0000,9,    207.3,2,     1.02,2,     0.02,2,     0.00,2,     0.01,2,   -999.0,9,   -999.0,9,-999.0000,9,  -999.00,      850
  49UF20120429,KS1204,  3440,  1,     36,  21995,2,20120520,0809, 24.2525, 138.5692, 5006,     11.8,  25.7246,  35.0247,2,-999.0000,9,    208.3,2,     1.04,2,     0.00,2,     0.00,2,     0.01,2,   -999.0,9,   -999.0,9,-999.0000,9,  -999.00,      910
  49UF20120429,KS1204,  3440,  1,     35,  21994,2,20120520,0809, 24.2525, 138.5692, 5006,     28.0,  25.2513,  35.0236,2,-999.0000,9,    210.0,6,     1.07,6,     0.03,6,     0.00,6,     0.01,6,   -999.0,9,   -999.0,9,-999.0000,9,  -999.00,      909
  49UF20120429,KS1204,  3440,  1,     34,  21993,2,20120520,0809, 24.2525, 138.5692, 5006,     52.4,  23.4114,  35.0685,2,-999.0000,9,    216.7,2,     1.23,2,     0.00,2,     0.00,2,     0.01,2,   -999.0,9,   -999.0,9,-999.0000,9,  -999.00,      905
  49UF20120429,KS1204,  3440,  1,     33,  21992,2,20120520,0809, 24.2525, 138.5692, 5006,     77.0,  22.4221,  35.0713,2,-999.0000,9,    216.8,2,     1.33,2,     0.00,2,     0.00,2,     0.01,2,   -999.0,9,   -999.0,9,-999.0000,9,  -999.00,      904
  49UF20120429,KS1204,  3440,  1,     32,  21991,2,20120520,0809, 24.2525, 138.5692, 5006,    102.3,  21.4065,  35.0184,2,-999.0000,9,    213.1,2,     1.62,2,     0.08,2,     0.04,2,     0.03,2,   -999.0,9,   -999.0,9,-999.0000,9,  -999.00,      903
  49UF20120429,KS1204,  3440,  1,     31,  21990,2,20120520,0809, 24.2525, 138.5692, 5006,    126.7,  20.6553,  34.9506,2,-999.0000,9,    210.6,2,     1.80,2,     0.47,2,     0.10,2,     0.05,2,   -999.0,9,   -999.0,9,-999.0000,9,  -999.00,      901
  49UF20120429,KS1204,  3440,  1,     27,  21986,2,20120520,0809, 24.2525, 138.5692, 5006,    151.9,  19.9080,  34.8847,2,-999.0000,9,    206.9,2,     2.14,2,     1.30,2,     0.02,2,     0.11,2,   -999.0,9,   -999.0,9,-999.0000,9,  -999.00,      901
  49UF20120429,KS1204,  3440,  1,     26,  21985,2,20120520,0809, 24.2525, 138.5692, 5006,    151.9,  19.9080,  34.8847,2,-999.0000,9,    207.5,2,     2.12,2,     1.29,2,     0.03,2,     0.11,2,   -999.0,9,   -999.0,9,-999.0000,9,  -999.00,      901
  49UF20120429,KS1204,  3440,  1,     25,  21984,2,20120520,0809, 24.2525, 138.5692, 5006,    203.1,  18.7505,  34.7894,2,-999.0000,9,    200.8,2,     2.90,2,     3.02,2,     0.01,2,     0.21,2,   -999.0,9,   -999.0,9,-999.0000,9,  -999.00,      859
  49UF20120429,KS1204,  3440,  1,     24,  21983,2,20120520,0809, 24.2525, 138.5692, 5006,    252.9,  17.8213,  34.7286,2,-999.0000,9,    203.0,2,     3.63,2,     4.07,2,     0.01,2,     0.28,2,   -999.0,9,   -999.0,9,-999.0000,9,  -999.00,      857
  49UF20120429,KS1204,  3440,  1,     23,  21982,2,20120520,0809, 24.2525, 138.5692, 5006,    302.4,  16.9782,  34.6832,2,-999.0000,9,    204.1,2,     4.77,2,     5.26,2,     0.01,2,     0.36,2,   -999.0,9,   -999.0,9,-999.0000,9,  -999.00,      856
  49UF20120429,KS1204,  3440,  1,     22,  21981,2,20120520,0809, 24.2525, 138.5692, 5006,    403.8,  14.0197,  34.4796,2,-999.0000,9,    192.2,2,    11.19,2,    10.74,2,     0.00,2,     0.76,2,   -999.0,9,   -999.0,9,-999.0000,9,  -999.00,      853
  49UF20120429,KS1204,  3440,  1,     18,  21977,2,20120520,0809, 24.2525, 138.5692, 5006,    507.1,  11.5654,  34.3087,2,-999.0000,9,    186.3,2,    18.84,2,    15.40,2,     0.00,2,     1.10,2,   -999.0,9,   -999.0,9,-999.0000,9,  -999.00,      850
  49UF20120429,KS1204,  3440,  1,     17,  21976,2,20120520,0809, 24.2525, 138.5692, 5006,    607.3,   8.6962,  34.1394,2,-999.0000,9,    156.6,6,    36.03,6,    23.28,6,     0.00,6,     1.68,6,   -999.0,9,   -999.0,9,-999.0000,9,  -999.00,      847
  49UF20120429,KS1204,  3440,  1,     16,  21975,2,20120520,0809, 24.2525, 138.5692, 5006,    708.5,   6.5041,  34.1178,2,-999.0000,9,    103.7,2,    61.26,2,    32.04,2,     0.00,2,     2.33,2,   -999.0,9,   -999.0,9,-999.0000,9,  -999.00,      844
  49UF20120429,KS1204,  3440,  1,     15,  21974,2,20120520,0809, 24.2525, 138.5692, 5006,    809.0,   5.3278,  34.1587,2,-999.0000,9,     77.7,2,    81.15,2,    36.41,2,     0.00,2,     2.65,2,   -999.0,9,   -999.0,9,-999.0000,9,  -999.00,      841
  49UF20120429,KS1204,  3440,  1,     14,  21973,2,20120520,0809, 24.2525, 138.5692, 5006,    909.1,   4.4864,  34.2403,2,-999.0000,9,     58.8,2,    99.78,2,    39.29,2,     0.00,2,     2.85,2,   -999.0,9,   -999.0,9,-999.0000,9,  -999.00,      838
  49UF20120429,KS1204,  3440,  1,     13,  21972,2,20120520,0809, 24.2525, 138.5692, 5006,   1010.2,   3.9634,  34.3282,2,-999.0000,9,     50.4,2,   112.58,2,    40.77,2,     0.00,2,     2.95,2,   -999.0,9,   -999.0,9,-999.0000,9,  -999.00,      836
  49UF20120429,KS1204,  3440,  1,      9,  21968,2,20120520,0809, 24.2525, 138.5692, 5006,   1212.9,   3.3022,  34.4205,2,-999.0000,9,     56.4,2,   128.41,2,    41.00,2,     0.00,2,     2.95,2,   -999.0,9,   -999.0,9,-999.0000,9,  -999.00,      829
  49UF20120429,KS1204,  3440,  1,      8,  21967,3,20120520,0809, 24.2525, 138.5692, 5006,   1212.9,   3.3022,  34.4205,2,-999.0000,9,     56.7,2,   128.34,2,    41.00,2,     0.00,2,     2.95,2,   -999.0,9,   -999.0,9,-999.0000,9,  -999.00,      829
  49UF20120429,KS1204,  3440,  1,      7,  21966,2,20120520,0809, 24.2525, 138.5692, 5006,   1415.4,   2.7874,  34.4961,2,-999.0000,9,     68.4,2,   137.52,2,    40.69,2,     0.00,2,     2.91,2,   -999.0,9,   -999.0,9,-999.0000,9,  -999.00,      824
  49UF20120429,KS1204,  3440,  1,      6,  21965,2,20120520,0809, 24.2525, 138.5692, 5006,   1617.1,   2.4239,  34.5481,2,-999.0000,9,     84.4,2,   141.89,2,    39.83,2,     0.00,2,     2.85,2,   -999.0,9,   -999.0,9,-999.0000,9,  -999.00,      818
  49UF20120429,KS1204,  3440,  1,      5,  21964,2,20120520,0809, 24.2525, 138.5692, 5006,   1821.6,   2.1770,  34.5770,2,-999.0000,9,     92.2,2,   145.97,2,    39.56,2,     0.00,2,     2.82,2,   -999.0,9,   -999.0,9,-999.0000,9,  -999.00,      813
  49UF20120429,KS1204,  3440,  1,      4,  21963,2,20120520,0809, 24.2525, 138.5692, 5006,   2024.1,   1.9841,  34.6093,2,-999.0000,9,    108.7,2,   144.88,2,    38.54,2,     0.00,2,     2.74,2,   -999.0,9,   -999.0,9,-999.0000,9,  -999.00,      809