BOTTLE,20191017PRINUNIVRMK
EXPOCODE,SECT_ID,STNNBR,CASTNO,SAMPNO,BTLNBR,BTLNBR_FLAG_W,DATE,TIME,LATITUDE,LONGITUDE,DEPTH,CTDPRS,CTDTMP,CTDSAL,CTDSAL_FLAG_W,SALNTY,SALNTY_FLAG_W,OXYGEN,OXYGEN_FLAG_W,SILCAT,SILCAT_FLAG_W,NITRAT,NITRAT_FLAG_W,NITRIT,NITRIT_FLAG_W,PHSPHT,PHSPHT_FLAG_W,TCARBN,TCARBN_FLAG_W,ALKALI,ALKALI_FLAG_W,PH_TOT,PH_TOT_FLAG_W,PH_TMP,BTL_TIME
,,,,,,,,,,,METERS,DBAR,ITS-90,PSS-78,,PSS-78,,UMOL/KG,,UMOL/KG,,UMOL/KG,,UMOL/KG,,UMOL/KG,,UMOL/KG,,UMOL/KG,,,,DEG C,
  49UF20120429,KS1204,  3424,  1,     99,     99,2,20120508,1107, 28.2795, 127.1428,  976,      0.0,  25.3649,  34.1137,2,-999.0000,9,    209.6,2,     2.02,2,     0.12,2,     0.00,2,     0.05,2,   -999.0,9,   -999.0,9,-999.0000,9,  -999.00,     1119
  49UF20120429,KS1204,  3424,  1,     36,  21995,2,20120508,1107, 28.2795, 127.1428,  976,     11.8,  25.3660,  34.1136,2,-999.0000,9,    209.0,2,     2.02,2,     0.07,2,     0.00,2,     0.04,2,   -999.0,9,   -999.0,9,-999.0000,9,  -999.00,     1143
  49UF20120429,KS1204,  3424,  1,     35,  21994,2,20120508,1107, 28.2795, 127.1428,  976,     22.0,  25.3931,  34.3724,2,-999.0000,9,    208.2,6,     1.74,6,     0.08,6,     0.00,6,     0.03,6,   -999.0,9,   -999.0,9,-999.0000,9,  -999.00,     1142
  49UF20120429,KS1204,  3424,  1,     34,  21993,2,20120508,1107, 28.2795, 127.1428,  976,     31.6,  25.3531,  34.4600,2,-999.0000,9,    208.2,2,     1.48,2,     0.11,2,     0.00,2,     0.03,2,   -999.0,9,   -999.0,9,-999.0000,9,  -999.00,     1141
  49UF20120429,KS1204,  3424,  1,     29,  21988,2,20120508,1107, 28.2795, 127.1428,  976,     51.6,  24.5985,  34.5223,2,-999.0000,9,    203.2,2,     1.98,2,     0.40,2,     0.03,2,     0.07,2,   -999.0,9,   -999.0,9,-999.0000,9,  -999.00,     1140
  49UF20120429,KS1204,  3424,  1,     28,  21987,2,20120508,1107, 28.2795, 127.1428,  976,     76.7,  22.3964,  34.5776,2,-999.0000,9,    186.1,2,     4.55,2,     3.07,2,     0.28,2,     0.27,2,   -999.0,9,   -999.0,9,-999.0000,9,  -999.00,     1138
  49UF20120429,KS1204,  3424,  1,     27,  21986,2,20120508,1107, 28.2795, 127.1428,  976,    101.6,  21.5396,  34.8346,2,-999.0000,9,    180.7,2,     4.06,2,     3.58,2,     0.06,2,     0.29,2,   -999.0,9,   -999.0,9,-999.0000,9,  -999.00,     1135
  49UF20120429,KS1204,  3424,  1,     26,  21985,2,20120508,1107, 28.2795, 127.1428,  976,    101.6,  21.5396,  34.8346,2,-999.0000,9,    180.7,2,     3.99,2,     3.52,2,     0.06,2,     0.29,2,   -999.0,9,   -999.0,9,-999.0000,9,  -999.00,     1135
  49UF20120429,KS1204,  3424,  1,     25,  21984,3,20120508,1107, 28.2795, 127.1428,  976,    126.8,  19.6914,  34.5772,2,-999.0000,9,    181.8,2,     7.56,2,     5.76,2,     0.23,2,     0.44,2,   -999.0,9,   -999.0,9,-999.0000,9,  -999.00,     1133
  49UF20120429,KS1204,  3424,  1,     20,  21979,2,20120508,1107, 28.2795, 127.1428,  976,    151.3,  18.9127,  34.6901,2,-999.0000,9,    180.3,2,     7.55,2,     6.27,2,     0.05,2,     0.46,2,   -999.0,9,   -999.0,9,-999.0000,9,  -999.00,     1132
  49UF20120429,KS1204,  3424,  1,     19,  21978,2,20120508,1107, 28.2795, 127.1428,  976,    201.6,  16.9517,  34.6424,2,-999.0000,9,    177.9,2,    10.49,2,     8.41,2,     0.03,2,     0.61,2,   -999.0,9,   -999.0,9,-999.0000,9,  -999.00,     1131
  49UF20120429,KS1204,  3424,  1,     18,  21977,2,20120508,1107, 28.2795, 127.1428,  976,    254.1,  14.3796,  34.5305,2,-999.0000,9,    166.8,2,    18.59,2,    13.09,2,     0.02,2,     0.94,2,   -999.0,9,   -999.0,9,-999.0000,9,  -999.00,     1129
  49UF20120429,KS1204,  3424,  1,     17,  21976,2,20120508,1107, 28.2795, 127.1428,  976,    305.5,  12.6245,  34.4274,2,-999.0000,9,    166.8,6,    22.41,6,    15.74,6,     0.00,6,     1.13,6,   -999.0,9,   -999.0,9,-999.0000,9,  -999.00,     1127
  49UF20120429,KS1204,  3424,  1,     16,  21975,2,20120508,1107, 28.2795, 127.1428,  976,    408.2,   9.9803,  34.3029,2,-999.0000,9,    145.8,2,    36.99,2,    22.02,2,     0.00,2,     1.59,2,   -999.0,9,   -999.0,9,-999.0000,9,  -999.00,     1123
  49UF20120429,KS1204,  3424,  1,     11,  21970,2,20120508,1107, 28.2795, 127.1428,  976,    506.8,   7.6829,  34.2637,2,-999.0000,9,    114.3,2,    59.51,2,    28.92,2,     0.00,2,     2.10,2,   -999.0,9,   -999.0,9,-999.0000,9,  -999.00,     1119
  49UF20120429,KS1204,  3424,  1,     10,  21969,2,20120508,1107, 28.2795, 127.1428,  976,    609.5,   6.5262,  34.2866,2,-999.0000,9,     98.1,2,    75.12,2,    32.38,2,     0.00,2,     2.36,2,   -999.0,9,   -999.0,9,-999.0000,9,  -999.00,     1116
  49UF20120429,KS1204,  3424,  1,      9,  21968,2,20120508,1107, 28.2795, 127.1428,  976,    706.2,   6.0654,  34.3429,2,-999.0000,9,     89.6,2,    85.39,2,    33.74,2,     0.00,2,     2.46,2,   -999.0,9,   -999.0,9,-999.0000,9,  -999.00,     1113
  49UF20120429,KS1204,  3424,  1,      8,  21967,2,20120508,1107, 28.2795, 127.1428,  976,    706.2,   6.0654,  34.3429,2,-999.0000,9,     89.9,2,    85.08,2,    33.76,2,     0.00,2,     2.46,2,   -999.0,9,   -999.0,9,-999.0000,9,  -999.00,     1113
  49UF20120429,KS1204,  3424,  1,      7,  21966,2,20120508,1107, 28.2795, 127.1428,  976,    804.7,   5.4188,  34.3678,2,-999.0000,9,     82.2,2,    95.55,2,    35.35,2,     0.00,2,     2.58,2,   -999.0,9,   -999.0,9,-999.0000,9,  -999.00,     1111
  49UF20120429,KS1204,  3424,  1,      2,  21961,2,20120508,1107, 28.2795, 127.1428,  976,    904.0,   5.0450,  34.3809,2,-999.0000,9,     78.3,2,   101.91,2,    36.43,2,     0.00,2,     2.65,2,   -999.0,9,   -999.0,9,-999.0000,9,  -999.00,     1109
  49UF20120429,KS1204,  3424,  1,      1,  21960,2,20120508,1107, 28.2795, 127.1428,  976,    967.4,   4.6970,  34.3962,2,-999.0000,9,     74.8,2,   106.81,2,    37.15,2,     0.00,2,     2.71,2,   -999.0,9,   -999.0,9,-999.0000,9,  -999.00,     1107
  49UF20120429,KS1204,  3426,  1,     99,     99,2,20120508,1639, 28.1347, 127.3538, 1012,      0.0,  25.3402,  34.4397,2,-999.0000,9,    207.8,2,     1.43,2,     0.00,2,     0.00,2,     0.03,2,   -999.0,9,   -999.0,9,-999.0000,9,  -999.00,     1705
  49UF20120429,KS1204,  3426,  1,     36,  21995,2,20120508,1639, 28.1347, 127.3538, 1012,     12.9,  25.3360,  34.4396,2,  34.4401,2,    206.9,6,     1.35,6,     0.00,6,     0.00,6,     0.03,6,   -999.0,9,   -999.0,9,-999.0000,9,  -999.00,     1723
  49UF20120429,KS1204,  3426,  1,     35,  21994,2,20120508,1639, 28.1347, 127.3538, 1012,     23.0,  24.9028,  34.4087,2,-999.0000,9,    208.6,2,     1.29,2,     0.00,2,     0.00,2,     0.02,2,   -999.0,9,   -999.0,9,-999.0000,9,  -999.00,     1722
  49UF20120429,KS1204,  3426,  1,     34,  21993,2,20120508,1639, 28.1347, 127.3538, 1012,     32.0,  24.7577,  34.4441,2,-999.0000,9,    209.8,2,     1.27,2,     0.00,2,     0.00,2,     0.02,2,   -999.0,9,   -999.0,9,-999.0000,9,  -999.00,     1721
  49UF20120429,KS1204,  3426,  1,     29,  21988,2,20120508,1639, 28.1347, 127.3538, 1012,     54.6,  24.2759,  34.6398,2,-999.0000,9,    212.5,2,     1.32,2,     0.00,2,     0.00,2,     0.01,2,   -999.0,9,   -999.0,9,-999.0000,9,  -999.00,     1719
  49UF20120429,KS1204,  3426,  1,     28,  21987,2,20120508,1639, 28.1347, 127.3538, 1012,     78.9,  23.3843,  34.6878,2,-999.0000,9,    213.6,2,     1.34,2,     0.00,2,     0.00,2,     0.01,2,   -999.0,9,   -999.0,9,-999.0000,9,  -999.00,     1716
  49UF20120429,KS1204,  3426,  1,     27,  21986,2,20120508,1639, 28.1347, 127.3538, 1012,     78.9,  23.3843,  34.6878,2,-999.0000,9,    213.8,2,     1.32,2,     0.00,2,     0.00,2,     0.02,2,   -999.0,9,   -999.0,9,-999.0000,9,  -999.00,     1716
  49UF20120429,KS1204,  3426,  1,     26,  21985,2,20120508,1639, 28.1347, 127.3538, 1012,    104.3,  22.4681,  34.7820,2,  34.7809,6,    206.6,2,     1.45,2,     0.28,2,     0.11,2,     0.04,2,   -999.0,9,   -999.0,9,-999.0000,9,  -999.00,     1714
  49UF20120429,KS1204,  3426,  1,     25,  21984,2,20120508,1639, 28.1347, 127.3538, 1012,    129.0,  22.0420,  34.8000,2,-999.0000,9,    203.3,2,     1.70,2,     0.71,2,     0.06,2,     0.08,2,   -999.0,9,   -999.0,9,-999.0000,9,  -999.00,     1712
  49UF20120429,KS1204,  3426,  1,     21,  21980,2,20120508,1639, 28.1347, 127.3538, 1012,    155.9,  21.5031,  34.8305,2,-999.0000,9,    199.0,2,     1.86,2,     1.30,2,     0.03,2,     0.10,2,   -999.0,9,   -999.0,9,-999.0000,9,  -999.00,     1707
  49UF20120429,KS1204,  3426,  1,     20,  21979,2,20120508,1639, 28.1347, 127.3538, 1012,    203.7,  19.9403,  34.8196,2,  34.8206,2,    198.2,2,     2.42,2,     2.31,2,     0.01,2,     0.17,2,   -999.0,9,   -999.0,9,-999.0000,9,  -999.00,     1705
  49UF20120429,KS1204,  3426,  1,     19,  21978,2,20120508,1639, 28.1347, 127.3538, 1012,    253.4,  17.6663,  34.7122,2,-999.0000,9,    193.2,2,     5.22,2,     5.45,2,     0.01,2,     0.38,2,   -999.0,9,   -999.0,9,-999.0000,9,  -999.00,     1703
  49UF20120429,KS1204,  3426,  1,     18,  21977,2,20120508,1639, 28.1347, 127.3538, 1012,    306.3,  16.2300,  34.6339,2,-999.0000,9,    188.7,6,     8.34,6,     7.94,6,     0.01,6,     0.56,6,   -999.0,9,   -999.0,9,-999.0000,9,  -999.00,     1701
  49UF20120429,KS1204,  3426,  1,     17,  21976,2,20120508,1639, 28.1347, 127.3538, 1012,    406.0,  13.1236,  34.4471,2,  34.4499,2,    174.9,2,    17.89,2,    13.96,2,     0.00,2,     0.99,2,   -999.0,9,   -999.0,9,-999.0000,9,  -999.00,     1658
  49UF20120429,KS1204,  3426,  1,     16,  21975,2,20120508,1639, 28.1347, 127.3538, 1012,    510.1,   9.8649,  34.3243,2,-999.0000,9,    139.0,2,    41.40,2,    22.86,2,     0.00,2,     1.65,2,   -999.0,9,   -999.0,9,-999.0000,9,  -999.00,     1655
  49UF20120429,KS1204,  3426,  1,     11,  21970,2,20120508,1639, 28.1347, 127.3538, 1012,    615.0,   7.2614,  34.3071,2,  34.3019,2,    105.8,2,    66.84,2,    30.20,2,     0.00,2,     2.19,2,   -999.0,9,   -999.0,9,-999.0000,9,  -999.00,     1652
  49UF20120429,KS1204,  3426,  1,     10,  21969,2,20120508,1639, 28.1347, 127.3538, 1012,    709.2,   5.8024,  34.2835,2,-999.0000,9,     87.4,2,    83.33,2,    34.36,2,     0.00,2,     2.50,2,   -999.0,9,   -999.0,9,-999.0000,9,  -999.00,     1648
  49UF20120429,KS1204,  3426,  1,      9,  21968,2,20120508,1639, 28.1347, 127.3538, 1012,    709.2,   5.8024,  34.2835,2,-999.0000,9,     87.3,2,    83.45,2,    34.52,2,     0.00,2,     2.51,2,   -999.0,9,   -999.0,9,-999.0000,9,  -999.00,     1648
  49UF20120429,KS1204,  3426,  1,      8,  21967,2,20120508,1639, 28.1347, 127.3538, 1012,    814.2,   5.3866,  34.3756,2,  34.3755,2,     83.3,2,    95.19,2,    35.27,2,     0.00,2,     2.56,2,   -999.0,9,   -999.0,9,-999.0000,9,  -999.00,     1645
  49UF20120429,KS1204,  3426,  1,      7,  21966,2,20120508,1639, 28.1347, 127.3538, 1012,    910.2,   4.8246,  34.3913,2,-999.0000,9,     77.6,2,   103.86,2,    36.81,2,     0.00,2,     2.67,2,   -999.0,9,   -999.0,9,-999.0000,9,  -999.00,     1642
  49UF20120429,KS1204,  3426,  1,      2,  21961,2,20120508,1639, 28.1347, 127.3538, 1012,    982.8,   4.4325,  34.4053,2,  34.4097,6,     74.2,2,   110.34,2,    37.78,2,     0.00,2,     2.73,2,   -999.0,9,   -999.0,9,-999.0000,9,  -999.00,     1639
  49UF20120429,KS1204,  3426,  1,      1,  21960,2,20120508,1639, 28.1347, 127.3538, 1012,    986.3,   4.3727,  34.4086,2,  34.4155,4,     74.0,2,   111.03,2,    37.89,2,     0.00,2,     2.74,2,   -999.0,9,   -999.0,9,-999.0000,9,  -999.00,     1639
  49UF20120429,KS1204,  3429,  1,     99,     99,2,20120509,0120, 27.7982, 127.8137,  919,      0.0,  24.8832,  34.3164,2,  34.3159,4,    208.8,2,     1.28,2,     0.10,2,     0.00,2,     0.03,2,   1942.5,2,   2248.0,2,   8.0760,2,    25.00,      110
  49UF20120429,KS1204,  3429,  1,     36,  21995,2,20120509,0120, 27.7982, 127.8137,  919,     10.6,  24.8157,  34.3225,2,-999.0000,9,    209.3,2,     1.28,2,     0.09,2,     0.00,2,     0.02,2,   1942.1,2,   2250.3,2,   8.0820,2,    25.00,      156
  49UF20120429,KS1204,  3429,  1,     35,  21994,3,20120509,0120, 27.7982, 127.8137,  919,     20.9,  24.2151,  34.3797,2,-999.0000,9,    211.2,2,     1.34,2,     0.10,2,     0.00,2,     0.02,2,   1947.2,2,   2251.3,2,   8.0685,2,    25.00,      155
  49UF20120429,KS1204,  3429,  1,     34,  21993,2,20120509,0120, 27.7982, 127.8137,  919,     32.6,  23.3891,  34.4331,2,-999.0000,9,    214.0,2,     1.42,2,     0.11,2,     0.00,2,     0.02,2,   1953.8,2,   2258.0,2,   8.0706,2,    25.00,      154
  49UF20120429,KS1204,  3429,  1,     29,  21988,3,20120509,0120, 27.7982, 127.8137,  919,     52.6,  23.0623,  34.4708,2,-999.0000,9,    215.7,2,     1.42,2,     0.09,2,     0.00,2,     0.02,2,   1954.3,2,   2259.7,2,   8.0630,2,    25.00,      151
  49UF20120429,KS1204,  3429,  1,     28,  21987,3,20120509,0120, 27.7982, 127.8137,  919,     52.6,  23.0623,  34.4708,2,-999.0000,9,    215.7,2,     1.43,2,     0.10,2,     0.00,2,     0.02,2,   1957.3,2,   2259.0,2,   8.0621,2,    25.00,      151
  49UF20120429,KS1204,  3429,  1,     27,  21986,2,20120509,0120, 27.7982, 127.8137,  919,     76.2,  22.6136,  34.6571,2,-999.0000,9,    214.6,2,     1.34,2,     0.11,2,     0.01,2,     0.03,2,   1970.3,2,   2268.6,2,   8.0558,2,    25.00,      149
  49UF20120429,KS1204,  3429,  1,     26,  21985,2,20120509,0120, 27.7982, 127.8137,  919,    102.5,  21.8032,  34.7938,2,-999.0000,9,    206.6,2,     1.65,2,     0.79,2,     0.09,2,     0.07,2,   1990.1,6,   2276.1,6,   8.0361,2,    25.00,      147
  49UF20120429,KS1204,  3429,  1,     25,  21984,3,20120509,0120, 27.7982, 127.8137,  919,    126.3,  21.3055,  34.8154,2,-999.0000,9,    206.3,2,     1.84,2,     1.06,2,     0.07,2,     0.08,2,   1992.1,2,   2275.4,2,   8.0250,6,    25.00,      146
  49UF20120429,KS1204,  3429,  1,     19,  21978,2,20120509,0120, 27.7982, 127.8137,  919,    152.0,  20.5125,  34.8252,2,-999.0000,9,    213.6,6,     1.82,6,     0.82,6,     0.11,6,     0.07,6,   1997.1,2,   2279.4,2,   8.0282,2,    25.00,      144
  49UF20120429,KS1204,  3429,  1,     18,  21977,2,20120509,0120, 27.7982, 127.8137,  919,    204.2,  19.9403,  34.8110,2,-999.0000,9,    207.8,2,     2.28,2,     1.82,2,     0.02,2,     0.13,2,   2006.7,2,   2275.9,2,   8.0084,2,    25.00,      142
  49UF20120429,KS1204,  3429,  1,     17,  21976,2,20120509,0120, 27.7982, 127.8137,  919,    250.9,  18.9294,  34.7726,2,-999.0000,9,    199.8,2,     3.31,2,     3.40,2,     0.01,2,     0.23,2,   2023.4,2,   2273.3,2,   7.9733,2,    25.00,      140
  49UF20120429,KS1204,  3429,  1,     16,  21975,2,20120509,0120, 27.7982, 127.8137,  919,    303.6,  17.8851,  34.7259,2,-999.0000,9,    196.3,2,     4.37,2,     4.82,2,     0.01,2,     0.33,2,   2035.1,2,   2274.5,2,   7.9552,2,    25.00,      138
  49UF20120429,KS1204,  3429,  1,     11,  21970,2,20120509,0120, 27.7982, 127.8137,  919,    407.3,  15.5381,  34.5953,2,-999.0000,9,    184.4,2,    10.03,2,     9.42,2,     0.01,2,     0.65,2,   2070.9,2,   2269.2,2,   7.8710,2,    25.00,      135
  49UF20120429,KS1204,  3429,  1,     10,  21969,2,20120509,0120, 27.7982, 127.8137,  919,    407.3,  15.5381,  34.5953,2,-999.0000,9,    184.4,2,    10.00,2,     9.43,2,     0.01,2,     0.65,2,   2069.4,2,   2272.6,2,   7.8698,2,    25.00,      135
  49UF20120429,KS1204,  3429,  1,      9,  21968,2,20120509,0120, 27.7982, 127.8137,  919,    505.9,  13.3210,  34.4653,2,-999.0000,9,    173.2,2,    18.73,2,    14.05,2,     0.00,2,     0.99,2,   2104.7,6,   2267.7,6,   7.7951,2,    25.00,      131
  49UF20120429,KS1204,  3429,  1,      8,  21967,2,20120509,0120, 27.7982, 127.8137,  919,    606.0,  10.1057,  34.3252,2,-999.0000,9,    144.5,2,    39.52,2,    22.13,2,     0.00,2,     1.59,2,   2167.6,2,   2280.8,2,   7.6661,6,    25.00,      128
  49UF20120429,KS1204,  3429,  1,      7,  21966,2,20120509,0120, 27.7982, 127.8137,  919,    706.0,   7.4446,  34.2922,2,-999.0000,9,    109.6,2,    65.36,2,    29.82,2,     0.00,2,     2.16,2,   2229.9,2,   2303.0,2,   7.5442,2,    25.00,      125
  49UF20120429,KS1204,  3429,  1,      2,  21961,2,20120509,0120, 27.7982, 127.8137,  919,    807.8,   5.7179,  34.3613,2,-999.0000,9,     88.3,2,    89.42,2,    34.32,2,     0.00,2,     2.49,2,   2282.2,2,   2332.7,2,   7.4809,2,    25.00,      123
  49UF20120429,KS1204,  3429,  1,      1,  21960,2,20120509,0120, 27.7982, 127.8137,  919,    898.7,   5.2042,  34.3760,2,-999.0000,9,     81.6,6,    98.82,2,    36.04,2,     0.00,2,     2.60,2,   2299.0,2,   2341.8,2,   7.4562,2,    25.00,      120