BOTTLE,20191017PRINUNIVRMK
EXPOCODE,SECT_ID,STNNBR,CASTNO,SAMPNO,BTLNBR,BTLNBR_FLAG_W,DATE,TIME,LATITUDE,LONGITUDE,DEPTH,CTDPRS,CTDTMP,CTDSAL,CTDSAL_FLAG_W,SALNTY,SALNTY_FLAG_W,OXYGEN,OXYGEN_FLAG_W,SILCAT,SILCAT_FLAG_W,NITRAT,NITRAT_FLAG_W,NITRIT,NITRIT_FLAG_W,PHSPHT,PHSPHT_FLAG_W,TCARBN,TCARBN_FLAG_W,ALKALI,ALKALI_FLAG_W,PH_TOT,PH_TOT_FLAG_W,PH_TMP,BTL_TIME
,,,,,,,,,,,METERS,DBAR,ITS-90,PSS-78,,PSS-78,,UMOL/KG,,UMOL/KG,,UMOL/KG,,UMOL/KG,,UMOL/KG,,UMOL/KG,,UMOL/KG,,,,DEG C,
  49UF20120429,KS1204,  3442,  1,     99,     99,2,20120520,1936, 24.2558, 140.2627, 3957,      0.0,  27.1853,  34.5214,2,  34.5179,4,    202.5,2,     1.01,2,     0.00,2,     0.00,2,     0.01,2,   1936.7,2,   2262.1,2,   8.0945,2,    25.00,     2020
  49UF20120429,KS1204,  3442,  1,     36,  21995,2,20120520,1936, 24.2558, 140.2627, 3957,     11.8,  27.1843,  34.5211,2,  34.5215,2,    202.5,2,     1.04,2,     0.00,2,     0.00,2,     0.01,2,   1937.0,2,   2261.3,2,   8.1006,2,    25.00,     2055
  49UF20120429,KS1204,  3442,  1,     35,  21994,2,20120520,1936, 24.2558, 140.2627, 3957,     27.4,  26.6174,  34.7145,2,-999.0000,9,    205.9,2,     1.04,2,     0.00,2,     0.00,2,     0.01,2,   1949.3,2,   2276.9,2,   8.0995,2,    25.00,     2053
  49UF20120429,KS1204,  3442,  1,     34,  21993,2,20120520,1936, 24.2558, 140.2627, 3957,     53.0,  25.2103,  34.9981,2,-999.0000,9,    213.2,2,     1.07,2,     0.00,2,     0.00,2,     0.01,2,   1963.6,2,   2294.9,2,   8.0900,2,    25.00,     2048
  49UF20120429,KS1204,  3442,  1,     33,  21992,2,20120520,1936, 24.2558, 140.2627, 3957,     78.1,  23.8432,  35.0392,2,-999.0000,9,    215.3,2,     1.27,2,     0.00,2,     0.00,2,     0.01,2,   1979.6,2,   2294.2,2,   8.0727,2,    25.00,     2047
  49UF20120429,KS1204,  3442,  1,     32,  21991,3,20120520,1936, 24.2558, 140.2627, 3957,    102.9,  22.9424,  35.0345,2,  35.0313,2,    212.0,2,     1.41,2,     0.00,2,     0.00,2,     0.02,2,   1990.8,2,   2295.7,2,   8.0594,3,    25.00,     2045
  49UF20120429,KS1204,  3442,  1,     31,  21990,2,20120520,1936, 24.2558, 140.2627, 3957,    102.9,  22.9424,  35.0345,2,  35.0331,2,    210.0,2,     1.41,2,     0.01,2,     0.01,2,     0.02,2,   1993.6,2,   2297.0,2,   8.0544,2,    25.00,     2045
  49UF20120429,KS1204,  3442,  1,     27,  21986,2,20120520,1936, 24.2558, 140.2627, 3957,    127.9,  22.1325,  34.9933,2,-999.0000,9,    205.1,2,     1.64,2,     0.01,2,     0.07,2,     0.04,2,   2001.6,2,   2291.7,2,   8.0335,2,    25.00,     2044
  49UF20120429,KS1204,  3442,  1,     26,  21985,2,20120520,1936, 24.2558, 140.2627, 3957,    152.4,  21.2141,  35.0334,2,-999.0000,9,    214.8,2,     1.73,2,     0.03,2,     0.13,2,     0.03,2,   2002.6,2,   2297.4,2,   8.0401,2,    25.00,     2043
  49UF20120429,KS1204,  3442,  1,     25,  21984,2,20120520,1936, 24.2558, 140.2627, 3957,    204.5,  19.0639,  34.8239,2,  34.8256,2,    193.9,2,     2.92,2,     3.01,2,     0.01,2,     0.22,2,   2031.4,2,   2283.2,2,   7.9643,2,    25.00,     2040
  49UF20120429,KS1204,  3442,  1,     24,  21983,2,20120520,1936, 24.2558, 140.2627, 3957,    254.5,  17.6503,  34.7193,2,-999.0000,9,    195.9,2,     4.30,2,     4.99,2,     0.01,2,     0.35,2,   2040.4,6,   2276.8,6,   7.9395,2,    25.00,     2038
  49UF20120429,KS1204,  3442,  1,     23,  21982,2,20120520,1936, 24.2558, 140.2627, 3957,    304.9,  16.5582,  34.6552,2,-999.0000,9,    193.2,2,     6.11,2,     6.83,2,     0.01,2,     0.48,2,   2054.6,2,   2270.9,2,   7.9068,2,    25.00,     2035
  49UF20120429,KS1204,  3442,  1,     22,  21981,2,20120520,1936, 24.2558, 140.2627, 3957,    405.2,  13.7601,  34.4659,2,  34.4672,2,    186.0,6,    12.52,6,    11.66,6,     0.01,6,     0.83,6,   2090.6,2,   2269.5,2,   7.8222,2,    25.00,     2032
  49UF20120429,KS1204,  3442,  1,     18,  21977,2,20120520,1936, 24.2558, 140.2627, 3957,    506.2,  11.1212,  34.2843,2,-999.0000,9,    173.1,2,    21.99,2,    17.23,2,     0.00,2,     1.25,2,   2127.6,2,   2267.8,2,   7.7295,2,    25.00,     2027
  49UF20120429,KS1204,  3442,  1,     17,  21976,2,20120520,1936, 24.2558, 140.2627, 3957,    607.5,   8.2124,  34.1373,2,  34.1358,2,    141.3,2,    41.31,2,    25.51,2,     0.00,2,     1.85,2,   2191.9,2,   2274.8,2,   7.6215,2,    25.00,     2024
  49UF20120429,KS1204,  3442,  1,     16,  21975,2,20120520,1936, 24.2558, 140.2627, 3957,    708.5,   6.4038,  34.1155,2,-999.0000,9,    107.1,2,    63.76,2,    31.84,2,     0.00,2,     2.32,2,   2243.3,2,   2297.3,2,   7.4929,2,    25.00,     2021
  49UF20120429,KS1204,  3442,  1,     15,  21974,2,20120520,1936, 24.2558, 140.2627, 3957,    809.3,   5.1858,  34.1793,2,  34.1798,6,     72.0,2,    84.65,2,    37.10,2,     0.00,2,     2.70,2,   2289.7,2,   2315.9,2,   7.4099,2,    25.00,     2016
  49UF20120429,KS1204,  3442,  1,     14,  21973,2,20120520,1936, 24.2558, 140.2627, 3957,    910.6,   4.4619,  34.2531,2,-999.0000,9,     56.2,2,   100.11,2,    39.57,2,     0.00,2,     2.87,2,   2317.7,2,   2332.0,2,   7.3794,2,    25.00,     2013
  49UF20120429,KS1204,  3442,  1,     13,  21972,2,20120520,1936, 24.2558, 140.2627, 3957,    910.6,   4.4619,  34.2531,2,-999.0000,9,     55.8,2,   100.51,2,    39.62,2,     0.00,2,     2.88,2,   2317.5,2,   2331.2,2,   7.3765,2,    25.00,     2013
  49UF20120429,KS1204,  3442,  1,      9,  21968,2,20120520,1936, 24.2558, 140.2627, 3957,   1011.5,   3.9206,  34.3245,2,  34.3237,2,     52.8,2,   114.35,2,    40.56,2,     0.00,2,     2.93,2,   2331.5,6,   2347.5,6,   7.3748,2,    25.00,     2010
  49UF20120429,KS1204,  3442,  1,      8,  21967,2,20120520,1936, 24.2558, 140.2627, 3957,   1214.0,   3.2680,  34.4222,2,  34.4230,2,     55.5,2,   129.48,2,    41.13,2,     0.00,2,     2.96,2,   2348.3,2,   2368.7,2,   7.3833,6,    25.00,     2003
  49UF20120429,KS1204,  3442,  1,      7,  21966,2,20120520,1936, 24.2558, 140.2627, 3957,   1416.1,   2.7405,  34.4996,2,  34.4986,2,     68.1,2,   138.92,2,    40.77,2,     0.00,2,     2.92,2,   2353.2,2,   2383.1,2,   7.4106,2,    25.00,     1957
  49UF20120429,KS1204,  3442,  1,      6,  21965,2,20120520,1936, 24.2558, 140.2627, 3957,   1619.3,   2.4060,  34.5508,2,  34.5509,2,     84.3,2,   142.77,2,    39.88,2,     0.00,2,     2.85,2,   2352.8,2,   2391.5,2,   7.4412,2,    25.00,     1951
  49UF20120429,KS1204,  3442,  1,      5,  21964,2,20120520,1936, 24.2558, 140.2627, 3957,   1822.2,   2.1302,  34.5921,2,  34.5928,6,    101.8,2,   143.96,2,    38.92,2,     0.00,2,     2.77,2,   2348.5,2,   2396.3,2,   7.4733,2,    25.00,     1942
  49UF20120429,KS1204,  3442,  1,      4,  21963,2,20120520,1936, 24.2558, 140.2627, 3957,   2024.4,   1.9746,  34.6152,2,  34.6157,2,    112.5,6,   144.02,6,    38.23,6,     0.00,6,     2.73,2,   2343.0,2,   2401.3,2,   7.4986,2,    25.00,     1936
  49UF20120429,KS1204,  3444,  1,     99,     99,2,20120521,0336, 24.2493, 141.1975, 1875,      0.0,  24.9785,  34.8832,2,-999.0000,9,    212.8,2,     1.52,2,     0.11,2,     0.00,2,     0.01,2,   -999.0,9,   -999.0,9,-999.0000,9,  -999.00,      413
  49UF20120429,KS1204,  3444,  1,     36,  21995,2,20120521,0336, 24.2493, 141.1975, 1875,     11.1,  23.7672,  34.8815,2,-999.0000,9,    216.5,2,     1.52,2,     0.08,2,     0.00,2,     0.01,2,   -999.0,9,   -999.0,9,-999.0000,9,  -999.00,      430
  49UF20120429,KS1204,  3444,  1,     35,  21994,2,20120521,0336, 24.2493, 141.1975, 1875,     26.7,  22.3084,  34.9844,2,-999.0000,9,    222.6,2,     1.61,2,     0.09,2,     0.00,2,     0.00,2,   -999.0,9,   -999.0,9,-999.0000,9,  -999.00,      429
  49UF20120429,KS1204,  3444,  1,     34,  21993,2,20120521,0336, 24.2493, 141.1975, 1875,     51.9,  21.1998,  34.9897,2,-999.0000,9,    225.1,2,     1.73,2,     0.08,2,     0.00,2,     0.01,2,   -999.0,9,   -999.0,9,-999.0000,9,  -999.00,      426
  49UF20120429,KS1204,  3444,  1,     33,  21992,2,20120521,0336, 24.2493, 141.1975, 1875,     76.1,  20.1982,  34.9190,2,-999.0000,9,    225.1,2,     1.83,2,     0.12,2,     0.02,2,     0.02,2,   -999.0,9,   -999.0,9,-999.0000,9,  -999.00,      424
  49UF20120429,KS1204,  3444,  1,     32,  21991,2,20120521,0336, 24.2493, 141.1975, 1875,     76.1,  20.1982,  34.9190,2,-999.0000,9,    224.9,2,     1.86,2,     0.17,2,     0.02,2,     0.02,2,   -999.0,9,   -999.0,9,-999.0000,9,  -999.00,      424
  49UF20120429,KS1204,  3444,  1,     31,  21990,2,20120521,0336, 24.2493, 141.1975, 1875,    101.6,  19.6165,  34.8777,2,-999.0000,9,    220.7,2,     2.09,2,     0.70,2,     0.10,2,     0.06,2,   -999.0,9,   -999.0,9,-999.0000,9,  -999.00,      423
  49UF20120429,KS1204,  3444,  1,     27,  21986,2,20120521,0336, 24.2493, 141.1975, 1875,    127.3,  19.0993,  34.8352,2,-999.0000,9,    216.0,2,     2.37,2,     1.49,2,     0.06,2,     0.11,2,   -999.0,9,   -999.0,9,-999.0000,9,  -999.00,      422
  49UF20120429,KS1204,  3444,  1,     26,  21985,2,20120521,0336, 24.2493, 141.1975, 1875,    151.9,  18.8681,  34.8157,2,-999.0000,9,    213.2,2,     2.55,2,     1.94,2,     0.03,2,     0.14,2,   -999.0,9,   -999.0,9,-999.0000,9,  -999.00,      421
  49UF20120429,KS1204,  3444,  1,     25,  21984,2,20120521,0336, 24.2493, 141.1975, 1875,    203.2,  18.2909,  34.7657,2,-999.0000,9,    210.0,2,     3.03,2,     2.85,2,     0.01,2,     0.20,2,   -999.0,9,   -999.0,9,-999.0000,9,  -999.00,      419
  49UF20120429,KS1204,  3444,  1,     24,  21983,2,20120521,0336, 24.2493, 141.1975, 1875,    252.7,  17.6759,  34.7216,2,-999.0000,9,    205.1,6,     3.80,6,     4.22,6,     0.01,6,     0.29,6,   -999.0,9,   -999.0,9,-999.0000,9,  -999.00,      417
  49UF20120429,KS1204,  3444,  1,     23,  21982,3,20120521,0336, 24.2493, 141.1975, 1875,    304.2,  17.1547,  34.6959,2,-999.0000,9,    207.8,2,     4.35,2,     4.82,2,     0.01,2,     0.32,2,   -999.0,9,   -999.0,9,-999.0000,9,  -999.00,      415
  49UF20120429,KS1204,  3444,  1,     22,  21981,2,20120521,0336, 24.2493, 141.1975, 1875,    404.8,  15.3501,  34.5758,2,-999.0000,9,    193.3,6,     8.91,2,     8.86,2,     0.00,2,     0.61,2,   -999.0,9,   -999.0,9,-999.0000,9,  -999.00,      413
  49UF20120429,KS1204,  3444,  1,     18,  21977,2,20120521,0336, 24.2493, 141.1975, 1875,    505.5,  12.3225,  34.3783,2,-999.0000,9,    183.4,2,    19.00,2,    14.66,2,     0.00,2,     1.03,2,   -999.0,9,   -999.0,9,-999.0000,9,  -999.00,      410
  49UF20120429,KS1204,  3444,  1,     17,  21976,2,20120521,0336, 24.2493, 141.1975, 1875,    605.0,   8.9955,  34.1886,2,-999.0000,9,    155.2,2,    38.49,2,    22.96,2,     0.00,2,     1.65,2,   -999.0,9,   -999.0,9,-999.0000,9,  -999.00,      407
  49UF20120429,KS1204,  3444,  1,     16,  21975,2,20120521,0336, 24.2493, 141.1975, 1875,    705.9,   6.7720,  34.1383,2,-999.0000,9,    110.6,2,    60.73,2,    30.94,2,     0.00,2,     2.25,2,   -999.0,9,   -999.0,9,-999.0000,9,  -999.00,      405
  49UF20120429,KS1204,  3444,  1,     15,  21974,2,20120521,0336, 24.2493, 141.1975, 1875,    807.4,   5.3092,  34.2066,2,-999.0000,9,     77.4,2,    85.19,2,    36.44,2,     0.00,2,     2.65,2,   -999.0,9,   -999.0,9,-999.0000,9,  -999.00,      401
  49UF20120429,KS1204,  3444,  1,     14,  21973,2,20120521,0336, 24.2493, 141.1975, 1875,    807.4,   5.3092,  34.2066,2,-999.0000,9,     77.3,2,    84.87,2,    36.48,2,     0.00,2,     2.65,2,   -999.0,9,   -999.0,9,-999.0000,9,  -999.00,      401
  49UF20120429,KS1204,  3444,  1,     13,  21972,3,20120521,0336, 24.2493, 141.1975, 1875,    908.4,   4.5418,  34.2768,2,-999.0000,9,     61.9,2,   100.36,2,    39.06,2,     0.00,2,     2.83,2,   -999.0,9,   -999.0,9,-999.0000,9,  -999.00,      359
  49UF20120429,KS1204,  3444,  1,      9,  21968,2,20120521,0336, 24.2493, 141.1975, 1875,   1010.1,   4.0287,  34.3350,2,-999.0000,9,     59.2,2,   112.66,2,    39.99,2,     0.00,2,     2.88,2,   -999.0,9,   -999.0,9,-999.0000,9,  -999.00,      356
  49UF20120429,KS1204,  3444,  1,      8,  21967,2,20120521,0336, 24.2493, 141.1975, 1875,   1211.1,   3.0992,  34.4411,2,-999.0000,9,     58.1,2,   133.48,2,    41.21,2,     0.00,2,     2.96,2,   -999.0,9,   -999.0,9,-999.0000,9,  -999.00,      351
  49UF20120429,KS1204,  3444,  1,      7,  21966,2,20120521,0336, 24.2493, 141.1975, 1875,   1415.3,   2.6334,  34.5126,2,-999.0000,9,     71.4,2,   141.10,2,    40.76,2,     0.00,2,     2.91,2,   -999.0,9,   -999.0,9,-999.0000,9,  -999.00,      346
  49UF20120429,KS1204,  3444,  1,      6,  21965,2,20120521,0336, 24.2493, 141.1975, 1875,   1618.6,   2.2961,  34.5661,2,-999.0000,9,     90.7,2,   143.70,2,    39.66,2,     0.00,2,     2.83,2,   -999.0,9,   -999.0,9,-999.0000,9,  -999.00,      341
  49UF20120429,KS1204,  3444,  1,      5,  21964,2,20120521,0336, 24.2493, 141.1975, 1875,   1821.3,   2.0673,  34.6012,2,-999.0000,9,    106.2,6,   144.06,6,    38.74,6,     0.00,6,     2.75,6,   -999.0,9,   -999.0,9,-999.0000,9,  -999.00,      337
  49UF20120429,KS1204,  3444,  1,      4,  21963,2,20120521,0336, 24.2493, 141.1975, 1875,   1842.8,   2.0513,  34.6039,2,-999.0000,9,    107.6,2,   144.19,2,    38.71,2,     0.00,2,     2.74,2,   -999.0,9,   -999.0,9,-999.0000,9,  -999.00,      336
  49UF20120429,KS1204,  3446,  1,     99,     99,2,20120521,1319, 24.2465, 142.4307, 2884,      0.0,  26.0304,  35.0954,2,-999.0000,9,    207.2,2,     1.22,2,     0.10,2,     0.00,2,     0.01,2,   -999.0,9,   -999.0,9,-999.0000,9,  -999.00,     1357
  49UF20120429,KS1204,  3446,  1,     36,  21995,2,20120521,1319, 24.2465, 142.4307, 2884,     11.0,  26.0116,  35.0953,2,  35.0949,2,    207.8,2,     1.22,2,     0.11,2,     0.00,2,     0.01,2,   -999.0,9,   -999.0,9,-999.0000,9,  -999.00,     1423
  49UF20120429,KS1204,  3446,  1,     35,  21994,2,20120521,1319, 24.2465, 142.4307, 2884,     27.4,  23.6583,  35.1623,2,-999.0000,9,    219.2,2,     1.22,2,     0.08,2,     0.00,2,     0.01,2,   -999.0,9,   -999.0,9,-999.0000,9,  -999.00,     1421
  49UF20120429,KS1204,  3446,  1,     34,  21993,2,20120521,1319, 24.2465, 142.4307, 2884,     52.3,  22.3614,  35.1489,2,-999.0000,9,    223.6,2,     1.36,2,     0.11,2,     0.00,2,     0.01,2,   -999.0,9,   -999.0,9,-999.0000,9,  -999.00,     1416
  49UF20120429,KS1204,  3446,  1,     33,  21992,2,20120521,1319, 24.2465, 142.4307, 2884,     52.3,  22.3614,  35.1489,2,-999.0000,9,    223.7,2,     1.36,2,     0.09,2,     0.00,2,     0.01,2,   -999.0,9,   -999.0,9,-999.0000,9,  -999.00,     1416
  49UF20120429,KS1204,  3446,  1,     32,  21991,2,20120521,1319, 24.2465, 142.4307, 2884,     76.6,  21.1799,  34.9961,2,-999.0000,9,    224.3,2,     1.59,2,     0.08,2,     0.00,2,     0.01,2,   -999.0,9,   -999.0,9,-999.0000,9,  -999.00,     1415
  49UF20120429,KS1204,  3446,  1,     31,  21990,2,20120521,1319, 24.2465, 142.4307, 2884,    103.3,  19.0919,  34.8273,2,  34.8300,2,    214.2,2,     2.23,2,     1.31,2,     0.08,2,     0.10,2,   -999.0,9,   -999.0,9,-999.0000,9,  -999.00,     1413
  49UF20120429,KS1204,  3446,  1,     27,  21986,2,20120521,1319, 24.2465, 142.4307, 2884,    128.4,  18.5501,  34.7818,2,-999.0000,9,    208.6,2,     2.78,2,     2.62,2,     0.02,2,     0.19,2,   -999.0,9,   -999.0,9,-999.0000,9,  -999.00,     1412
  49UF20120429,KS1204,  3446,  1,     26,  21985,2,20120521,1319, 24.2465, 142.4307, 2884,    154.1,  18.2199,  34.7555,2,-999.0000,9,    205.4,2,     3.15,2,     3.37,2,     0.02,2,     0.23,2,   -999.0,9,   -999.0,9,-999.0000,9,  -999.00,     1410
  49UF20120429,KS1204,  3446,  1,     25,  21984,2,20120521,1319, 24.2465, 142.4307, 2884,    204.7,  17.5358,  34.7129,2,  34.7130,2,    206.2,2,     3.75,2,     4.37,2,     0.01,2,     0.29,2,   -999.0,9,   -999.0,9,-999.0000,9,  -999.00,     1409
  49UF20120429,KS1204,  3446,  1,     24,  21983,2,20120521,1319, 24.2465, 142.4307, 2884,    255.8,  17.0913,  34.6966,2,-999.0000,9,    206.2,6,     4.41,6,     4.98,6,     0.01,6,     0.34,6,   -999.0,9,   -999.0,9,-999.0000,9,  -999.00,     1407
  49UF20120429,KS1204,  3446,  1,     23,  21982,2,20120521,1319, 24.2465, 142.4307, 2884,    305.3,  16.1491,  34.6366,2,-999.0000,9,    195.8,2,     7.19,2,     7.50,2,     0.01,2,     0.51,2,   -999.0,9,   -999.0,9,-999.0000,9,  -999.00,     1405
  49UF20120429,KS1204,  3446,  1,     22,  21981,2,20120521,1319, 24.2465, 142.4307, 2884,    405.3,  13.3855,  34.4548,2,  34.4578,6,    185.5,2,    15.12,2,    12.74,2,     0.00,2,     0.89,2,   -999.0,9,   -999.0,9,-999.0000,9,  -999.00,     1401
  49UF20120429,KS1204,  3446,  1,     18,  21977,2,20120521,1319, 24.2465, 142.4307, 2884,    507.5,   9.5050,  34.1892,2,-999.0000,9,    172.0,2,    31.31,2,    20.28,2,     0.00,2,     1.45,2,   -999.0,9,   -999.0,9,-999.0000,9,  -999.00,     1358
  49UF20120429,KS1204,  3446,  1,     17,  21976,2,20120521,1319, 24.2465, 142.4307, 2884,    607.9,   7.1907,  34.1114,2,  34.1112,2,    132.9,2,    54.07,2,    28.32,2,     0.00,2,     2.05,2,   -999.0,9,   -999.0,9,-999.0000,9,  -999.00,     1355
  49UF20120429,KS1204,  3446,  1,     16,  21975,2,20120521,1319, 24.2465, 142.4307, 2884,    708.6,   5.4871,  34.1379,2,-999.0000,9,     90.6,2,    78.51,2,    34.92,2,     0.00,2,     2.54,2,   -999.0,9,   -999.0,9,-999.0000,9,  -999.00,     1352
  49UF20120429,KS1204,  3446,  1,     15,  21974,2,20120521,1319, 24.2465, 142.4307, 2884,    708.6,   5.4871,  34.1379,2,-999.0000,9,     90.6,2,    78.43,2,    35.01,2,     0.00,2,     2.54,2,   -999.0,9,   -999.0,9,-999.0000,9,  -999.00,     1352
  49UF20120429,KS1204,  3446,  1,     14,  21973,2,20120521,1319, 24.2465, 142.4307, 2884,    810.0,   4.4257,  34.2363,2,  34.2389,2,     58.1,2,   101.11,2,    39.52,2,     0.00,2,     2.87,2,   -999.0,9,   -999.0,9,-999.0000,9,  -999.00,     1349
  49UF20120429,KS1204,  3446,  1,     13,  21972,2,20120521,1319, 24.2465, 142.4307, 2884,    911.1,   3.9472,  34.3115,2,-999.0000,9,     49.6,2,   112.98,2,    40.88,2,     0.00,2,     2.96,2,   -999.0,9,   -999.0,9,-999.0000,9,  -999.00,     1346
  49UF20120429,KS1204,  3446,  1,      9,  21968,2,20120521,1319, 24.2465, 142.4307, 2884,   1011.9,   3.5159,  34.3771,2,  34.3758,2,     47.8,2,   124.18,2,    41.50,2,     0.00,2,     2.99,2,   -999.0,9,   -999.0,9,-999.0000,9,  -999.00,     1343
  49UF20120429,KS1204,  3446,  1,      8,  21967,2,20120521,1319, 24.2465, 142.4307, 2884,   1214.5,   2.9363,  34.4616,2,  34.4609,2,     52.9,2,   138.18,2,    41.71,2,     0.00,2,     3.00,2,   -999.0,9,   -999.0,9,-999.0000,9,  -999.00,     1338
  49UF20120429,KS1204,  3446,  1,      7,  21966,2,20120521,1319, 24.2465, 142.4307, 2884,   1416.9,   2.5168,  34.5211,2,  34.5210,2,     65.4,2,   146.48,2,    41.34,2,     0.00,2,     2.95,2,   -999.0,9,   -999.0,9,-999.0000,9,  -999.00,     1334
  49UF20120429,KS1204,  3446,  1,      6,  21965,2,20120521,1319, 24.2465, 142.4307, 2884,   1619.4,   2.2087,  34.5617,2,  34.5613,2,     76.0,6,   151.41,6,    40.79,6,     0.00,6,     2.91,6,   -999.0,9,   -999.0,9,-999.0000,9,  -999.00,     1328
  49UF20120429,KS1204,  3446,  1,      5,  21964,2,20120521,1319, 24.2465, 142.4307, 2884,   1822.7,   2.0116,  34.5943,2,  34.5943,2,     91.8,2,   151.77,2,    39.87,2,     0.00,2,     2.83,2,   -999.0,9,   -999.0,9,-999.0000,9,  -999.00,     1323
  49UF20120429,KS1204,  3446,  1,      4,  21963,2,20120521,1319, 24.2465, 142.4307, 2884,   2024.0,   1.8627,  34.6161,2,  34.6166,6,    104.2,2,   151.86,2,    39.19,2,     0.00,2,     2.77,2,   -999.0,9,   -999.0,9,-999.0000,9,  -999.00,     1319