BOTTLE,20191017PRINUNIVRMK
EXPOCODE,SECT_ID,STNNBR,CASTNO,SAMPNO,BTLNBR,BTLNBR_FLAG_W,DATE,TIME,LATITUDE,LONGITUDE,DEPTH,CTDPRS,CTDTMP,CTDSAL,CTDSAL_FLAG_W,SALNTY,SALNTY_FLAG_W,OXYGEN,OXYGEN_FLAG_W,SILCAT,SILCAT_FLAG_W,NITRAT,NITRAT_FLAG_W,NITRIT,NITRIT_FLAG_W,PHSPHT,PHSPHT_FLAG_W,TCARBN,TCARBN_FLAG_W,ALKALI,ALKALI_FLAG_W,PH_TOT,PH_TOT_FLAG_W,PH_TMP,BTL_TIME
,,,,,,,,,,,METERS,DBAR,ITS-90,PSS-78,,PSS-78,,UMOL/KG,,UMOL/KG,,UMOL/KG,,UMOL/KG,,UMOL/KG,,UMOL/KG,,UMOL/KG,,,,DEG C,
  49UF20120429,KS1204,  3415,  1,     99,     99,2,20120504,1531, 25.8972, 128.1610, 2144,      0.0,  25.6554,  34.4966,2,-999.0000,9,    206.0,2,  -999.00,9,  -999.00,9,  -999.00,9,  -999.00,9,   -999.0,9,   -999.0,9,-999.0000,9,  -999.00,     1615
  49UF20120429,KS1204,  3415,  1,     36,  21995,2,20120504,1531, 25.8972, 128.1610, 2144,     12.9,  25.6761,  34.4963,2,-999.0000,9,    206.4,2,  -999.00,9,  -999.00,9,  -999.00,9,  -999.00,9,   -999.0,9,   -999.0,9,-999.0000,9,  -999.00,     1632
  49UF20120429,KS1204,  3415,  1,     35,  21994,2,20120504,1531, 25.8972, 128.1610, 2144,     27.7,  24.1928,  34.5726,2,-999.0000,9,    214.2,2,  -999.00,9,  -999.00,9,  -999.00,9,  -999.00,9,   -999.0,9,   -999.0,9,-999.0000,9,  -999.00,     1631
  49UF20120429,KS1204,  3415,  1,     34,  21993,2,20120504,1531, 25.8972, 128.1610, 2144,     27.7,  24.1928,  34.5726,2,-999.0000,9,    214.6,2,  -999.00,9,  -999.00,9,  -999.00,9,  -999.00,9,   -999.0,9,   -999.0,9,-999.0000,9,  -999.00,     1631
  49UF20120429,KS1204,  3415,  1,     30,  21989,2,20120504,1531, 25.8972, 128.1610, 2144,     52.5,  23.3847,  34.7081,2,-999.0000,9,    216.8,2,  -999.00,9,  -999.00,9,  -999.00,9,  -999.00,9,   -999.0,9,   -999.0,9,-999.0000,9,  -999.00,     1626
  49UF20120429,KS1204,  3415,  1,     29,  21988,2,20120504,1531, 25.8972, 128.1610, 2144,     77.2,  23.0517,  34.7110,2,-999.0000,9,    216.5,2,  -999.00,9,  -999.00,9,  -999.00,9,  -999.00,9,   -999.0,9,   -999.0,9,-999.0000,9,  -999.00,     1625
  49UF20120429,KS1204,  3415,  1,     28,  21987,2,20120504,1531, 25.8972, 128.1610, 2144,    103.7,  22.8557,  34.7079,2,-999.0000,9,    214.6,2,  -999.00,9,  -999.00,9,  -999.00,9,  -999.00,9,   -999.0,9,   -999.0,9,-999.0000,9,  -999.00,     1624
  49UF20120429,KS1204,  3415,  1,     27,  21986,2,20120504,1531, 25.8972, 128.1610, 2144,    128.2,  22.7537,  34.8145,2,-999.0000,9,    211.2,2,  -999.00,9,  -999.00,9,  -999.00,9,  -999.00,9,   -999.0,9,   -999.0,9,-999.0000,9,  -999.00,     1622
  49UF20120429,KS1204,  3415,  1,     26,  21985,2,20120504,1531, 25.8972, 128.1610, 2144,    153.5,  22.2709,  34.8218,2,-999.0000,9,    206.5,2,  -999.00,9,  -999.00,9,  -999.00,9,  -999.00,9,   -999.0,9,   -999.0,9,-999.0000,9,  -999.00,     1621
  49UF20120429,KS1204,  3415,  1,     25,  21984,2,20120504,1531, 25.8972, 128.1610, 2144,    204.5,  20.8263,  34.8526,2,-999.0000,9,    201.4,6,  -999.00,9,  -999.00,9,  -999.00,9,  -999.00,9,   -999.0,9,   -999.0,9,-999.0000,9,  -999.00,     1619
  49UF20120429,KS1204,  3415,  1,     21,  21980,2,20120504,1531, 25.8972, 128.1610, 2144,    254.6,  19.1984,  34.7844,2,-999.0000,9,    195.0,2,  -999.00,9,  -999.00,9,  -999.00,9,  -999.00,9,   -999.0,9,   -999.0,9,-999.0000,9,  -999.00,     1617
  49UF20120429,KS1204,  3415,  1,     20,  21979,2,20120504,1531, 25.8972, 128.1610, 2144,    305.1,  18.2880,  34.7484,2,-999.0000,9,    198.6,2,  -999.00,9,  -999.00,9,  -999.00,9,  -999.00,9,   -999.0,9,   -999.0,9,-999.0000,9,  -999.00,     1615
  49UF20120429,KS1204,  3415,  1,     19,  21978,2,20120504,1531, 25.8972, 128.1610, 2144,    405.7,  15.9947,  34.6272,2,-999.0000,9,    189.0,2,  -999.00,9,  -999.00,9,  -999.00,9,  -999.00,9,   -999.0,9,   -999.0,9,-999.0000,9,  -999.00,     1613
  49UF20120429,KS1204,  3415,  1,     18,  21977,2,20120504,1531, 25.8972, 128.1610, 2144,    506.0,  13.0560,  34.4290,2,-999.0000,9,    179.0,2,  -999.00,9,  -999.00,9,  -999.00,9,  -999.00,9,   -999.0,9,   -999.0,9,-999.0000,9,  -999.00,     1610
  49UF20120429,KS1204,  3415,  1,     17,  21976,2,20120504,1531, 25.8972, 128.1610, 2144,    608.8,  10.1348,  34.2486,2,-999.0000,9,    160.2,2,  -999.00,9,  -999.00,9,  -999.00,9,  -999.00,9,   -999.0,9,   -999.0,9,-999.0000,9,  -999.00,     1606
  49UF20120429,KS1204,  3415,  1,     16,  21975,2,20120504,1531, 25.8972, 128.1610, 2144,    608.8,  10.1348,  34.2486,2,-999.0000,9,    159.8,4,  -999.00,9,  -999.00,9,  -999.00,9,  -999.00,9,   -999.0,9,   -999.0,9,-999.0000,9,  -999.00,     1606
  49UF20120429,KS1204,  3415,  1,     12,  21971,2,20120504,1531, 25.8972, 128.1610, 2144,    707.3,   7.5468,  34.1843,2,-999.0000,9,    113.9,2,  -999.00,9,  -999.00,9,  -999.00,9,  -999.00,9,   -999.0,9,   -999.0,9,-999.0000,9,  -999.00,     1604
  49UF20120429,KS1204,  3415,  1,     11,  21970,2,20120504,1531, 25.8972, 128.1610, 2144,    809.6,   6.1178,  34.2439,2,-999.0000,9,     91.0,2,  -999.00,9,  -999.00,9,  -999.00,9,  -999.00,9,   -999.0,9,   -999.0,9,-999.0000,9,  -999.00,     1601
  49UF20120429,KS1204,  3415,  1,     10,  21969,2,20120504,1531, 25.8972, 128.1610, 2144,    911.2,   4.9900,  34.3469,2,-999.0000,9,     76.0,2,  -999.00,9,  -999.00,9,  -999.00,9,  -999.00,9,   -999.0,9,   -999.0,9,-999.0000,9,  -999.00,     1558
  49UF20120429,KS1204,  3415,  1,      9,  21968,2,20120504,1531, 25.8972, 128.1610, 2144,   1010.9,   4.2495,  34.3968,2,-999.0000,9,     71.5,2,  -999.00,9,  -999.00,9,  -999.00,9,  -999.00,9,   -999.0,9,   -999.0,9,-999.0000,9,  -999.00,     1556
  49UF20120429,KS1204,  3415,  1,      8,  21967,2,20120504,1531, 25.8972, 128.1610, 2144,   1214.6,   3.2200,  34.4709,2,-999.0000,9,     70.9,2,  -999.00,9,  -999.00,9,  -999.00,9,  -999.00,9,   -999.0,9,   -999.0,9,-999.0000,9,  -999.00,     1551
  49UF20120429,KS1204,  3415,  1,      7,  21966,2,20120504,1531, 25.8972, 128.1610, 2144,   1416.2,   2.7547,  34.5251,2,-999.0000,9,     81.7,6,  -999.00,9,  -999.00,9,  -999.00,9,  -999.00,9,   -999.0,9,   -999.0,9,-999.0000,9,  -999.00,     1546
  49UF20120429,KS1204,  3415,  1,      3,  21962,2,20120504,1531, 25.8972, 128.1610, 2144,   1619.9,   2.4410,  34.5509,2,-999.0000,9,     86.9,4,  -999.00,9,  -999.00,9,  -999.00,9,  -999.00,9,   -999.0,9,   -999.0,9,-999.0000,9,  -999.00,     1541
  49UF20120429,KS1204,  3415,  1,      2,  21961,2,20120504,1531, 25.8972, 128.1610, 2144,   1822.0,   2.1870,  34.5811,2,-999.0000,9,    100.5,2,  -999.00,9,  -999.00,9,  -999.00,9,  -999.00,9,   -999.0,9,   -999.0,9,-999.0000,9,  -999.00,     1536
  49UF20120429,KS1204,  3415,  1,      1,  21960,2,20120504,1531, 25.8972, 128.1610, 2144,   2025.5,   2.0116,  34.6067,2,-999.0000,9,    111.2,2,  -999.00,9,  -999.00,9,  -999.00,9,  -999.00,9,   -999.0,9,   -999.0,9,-999.0000,9,  -999.00,     1531
  49UF20120429,KS1204,  3417,  1,     99,     99,2,20120504,2103, 26.0658, 127.9095,  498,      0.0,  25.9176,  34.5657,2,-999.0000,9,    205.3,2,     1.25,2,     0.05,2,     0.00,2,     0.01,2,   -999.0,9,   -999.0,9,-999.0000,9,  -999.00,     2106
  49UF20120429,KS1204,  3417,  1,     36,  21995,2,20120504,2103, 26.0658, 127.9095,  498,     11.7,  25.9239,  34.5659,2,  34.5654,2,    205.0,2,     1.22,2,     0.00,2,     0.00,2,     0.00,2,   -999.0,9,   -999.0,9,-999.0000,9,  -999.00,     2130
  49UF20120429,KS1204,  3417,  1,     35,  21994,2,20120504,2103, 26.0658, 127.9095,  498,     11.7,  25.9239,  34.5659,2,  34.5657,2,    205.0,2,     1.18,2,     0.00,2,     0.00,2,     0.00,2,   -999.0,9,   -999.0,9,-999.0000,9,  -999.00,     2130
  49UF20120429,KS1204,  3417,  1,     34,  21993,2,20120504,2103, 26.0658, 127.9095,  498,     27.6,  25.6699,  34.5521,2,-999.0000,9,    206.6,2,     1.27,2,     0.03,2,     0.00,2,     0.01,2,   -999.0,9,   -999.0,9,-999.0000,9,  -999.00,     2129
  49UF20120429,KS1204,  3417,  1,     28,  21987,3,20120504,2103, 26.0658, 127.9095,  498,     52.2,  24.2431,  34.8639,2,-999.0000,9,    202.9,2,     1.39,2,     0.02,2,     0.00,2,     0.02,2,   -999.0,9,   -999.0,9,-999.0000,9,  -999.00,     2124
  49UF20120429,KS1204,  3417,  1,     27,  21986,2,20120504,2103, 26.0658, 127.9095,  498,     77.8,  23.2989,  34.8155,2,-999.0000,9,    208.2,2,     1.47,2,     0.05,2,     0.01,2,     0.02,2,   -999.0,9,   -999.0,9,-999.0000,9,  -999.00,     2123
  49UF20120429,KS1204,  3417,  1,     26,  21985,2,20120504,2103, 26.0658, 127.9095,  498,    102.5,  22.4531,  34.7777,2,  34.7825,2,    210.9,6,     1.63,6,     0.19,6,     0.06,6,     0.03,6,   -999.0,9,   -999.0,9,-999.0000,9,  -999.00,     2121
  49UF20120429,KS1204,  3417,  1,     25,  21984,2,20120504,2103, 26.0658, 127.9095,  498,    126.9,  22.0837,  34.8492,2,-999.0000,9,    200.0,2,     1.79,2,     0.75,2,     0.08,2,     0.07,2,   -999.0,9,   -999.0,9,-999.0000,9,  -999.00,     2119
  49UF20120429,KS1204,  3417,  1,     19,  21978,2,20120504,2103, 26.0658, 127.9095,  498,    152.8,  21.3996,  34.8046,2,-999.0000,9,    205.4,2,     2.01,2,     0.98,2,     0.10,2,     0.08,2,   -999.0,9,   -999.0,9,-999.0000,9,  -999.00,     2117
  49UF20120429,KS1204,  3417,  1,     18,  21977,2,20120504,2103, 26.0658, 127.9095,  498,    202.9,  20.3021,  34.8016,2,  34.8014,2,    199.7,2,     2.72,2,     2.24,2,     0.04,2,     0.15,2,   -999.0,9,   -999.0,9,-999.0000,9,  -999.00,     2115
  49UF20120429,KS1204,  3417,  1,     17,  21976,2,20120504,2103, 26.0658, 127.9095,  498,    202.9,  20.3021,  34.8016,2,  34.8025,6,    199.6,2,     2.72,2,     2.24,2,     0.04,2,     0.15,2,   -999.0,9,   -999.0,9,-999.0000,9,  -999.00,     2115
  49UF20120429,KS1204,  3417,  1,     16,  21975,2,20120504,2103, 26.0658, 127.9095,  498,    253.5,  18.8315,  34.7636,2,-999.0000,9,    195.2,2,     3.82,2,     3.90,2,     0.01,2,     0.26,2,   -999.0,9,   -999.0,9,-999.0000,9,  -999.00,     2112
  49UF20120429,KS1204,  3417,  1,     10,  21969,2,20120504,2103, 26.0658, 127.9095,  498,    305.0,  18.0091,  34.7278,2,-999.0000,9,    194.1,2,     4.75,2,     4.92,2,     0.01,2,     0.33,2,   -999.0,9,   -999.0,9,-999.0000,9,  -999.00,     2110
  49UF20120429,KS1204,  3417,  1,      9,  21968,2,20120504,2103, 26.0658, 127.9095,  498,    404.9,  15.1052,  34.5693,2,  34.5690,2,    183.2,2,    11.22,2,    10.14,2,     0.01,2,     0.69,2,   -999.0,9,   -999.0,9,-999.0000,9,  -999.00,     2106
  49UF20120429,KS1204,  3417,  1,      7,  21966,2,20120504,2103, 26.0658, 127.9095,  498,    488.1,  13.7270,  34.4837,2,  34.4828,6,    177.4,6,    15.94,6,    12.88,6,     0.01,6,     0.90,6,   -999.0,9,   -999.0,9,-999.0000,9,  -999.00,     2103
  49UF20120429,KS1204,  3418,  1,     99,     99,2,20120508,0106, 28.7058, 126.4457,  130,      0.0,  24.3646,  34.3048,2,  34.3069,4,    210.5,2,     1.38,2,     0.00,2,     0.00,2,     0.05,2,   1946.3,2,   2246.7,2,   8.0678,2,    25.00,      100
  49UF20120429,KS1204,  3418,  1,     35,  21994,2,20120508,0106, 28.7058, 126.4457,  130,     11.7,  24.3583,  34.3044,2,  34.3045,2,    210.4,2,     1.36,2,     0.00,2,     0.00,2,     0.04,2,   1947.0,2,   2251.1,2,   8.0722,2,    25.00,      117
  49UF20120429,KS1204,  3418,  1,     34,  21993,2,20120508,0106, 28.7058, 126.4457,  130,     21.6,  24.3594,  34.3041,2,-999.0000,9,    210.3,2,     1.39,2,     0.00,2,     0.00,2,     0.04,2,   -999.0,5,   2247.6,6,   8.0656,2,    25.00,      116
  49UF20120429,KS1204,  3418,  1,     26,  21985,2,20120508,0106, 28.7058, 126.4457,  130,     31.6,  24.3385,  34.3028,2,-999.0000,9,    207.2,2,     1.89,2,     0.19,2,     0.09,2,     0.07,2,   -999.0,5,   2251.7,2,   8.0533,6,    25.00,      115
  49UF20120429,KS1204,  3418,  1,     25,  21984,2,20120508,0106, 28.7058, 126.4457,  130,     51.9,  22.8317,  34.4570,2,-999.0000,9,    194.5,6,     3.45,6,     1.74,6,     0.32,6,     0.19,6,   1990.5,2,   2266.0,2,   8.0186,2,    25.00,      113
  49UF20120429,KS1204,  3418,  1,     17,  21976,2,20120508,0106, 28.7058, 126.4457,  130,     76.6,  20.8828,  34.7701,2,-999.0000,9,    181.2,2,     4.40,2,     3.89,2,     0.04,2,     0.30,2,   2029.2,2,   2276.6,2,   7.9717,2,    25.00,      111
  49UF20120429,KS1204,  3418,  1,     16,  21975,2,20120508,0106, 28.7058, 126.4457,  130,    102.5,  17.9007,  34.4658,2,  34.4448,4,    184.7,2,    11.94,2,     7.82,2,     0.04,2,     0.55,2,   2050.9,2,   2275.2,2,   7.9056,2,    25.00,      109
  49UF20120429,KS1204,  3418,  1,      2,  21961,2,20120508,0106, 28.7058, 126.4457,  130,    123.3,  17.0791,  34.4254,2,  34.4278,2,    185.3,2,    13.99,2,     8.32,2,     0.05,2,     0.60,2,   2052.8,2,   2271.4,2,   7.9005,2,    25.00,      106
  49UF20120429,KS1204,  3418,  1,      1,  21960,2,20120508,0106, 28.7058, 126.4457,  130,    123.3,  17.0748,  34.4250,2,  34.4257,6,    185.4,6,    14.04,2,     8.35,2,     0.05,2,     0.60,2,   2054.6,2,   2270.7,2,   7.8989,2,    25.00,      106
  49UF20120429,KS1204,  3420,  1,     99,     99,2,20120508,0400, 28.5532, 126.6793,  153,      0.0,  22.9932,  33.7771,2,-999.0000,9,    224.6,2,     1.66,2,     0.00,2,     0.00,2,     0.02,4,   -999.0,9,   -999.0,9,-999.0000,9,  -999.00,      355
  49UF20120429,KS1204,  3420,  1,     35,  21994,2,20120508,0400, 28.5532, 126.6793,  153,     12.0,  22.1776,  33.5901,2,-999.0000,9,    231.6,2,     1.53,2,     0.00,2,     0.00,2,     0.01,2,   -999.0,9,   -999.0,9,-999.0000,9,  -999.00,      411
  49UF20120429,KS1204,  3420,  1,     34,  21993,2,20120508,0400, 28.5532, 126.6793,  153,     21.6,  21.6027,  33.5261,2,-999.0000,9,    236.1,6,     1.40,6,     0.00,6,     0.00,6,     0.01,6,   -999.0,9,   -999.0,9,-999.0000,9,  -999.00,      410
  49UF20120429,KS1204,  3420,  1,     27,  21986,2,20120508,0400, 28.5532, 126.6793,  153,     32.6,  20.0144,  33.2887,2,-999.0000,9,    243.8,2,     1.43,2,     0.02,2,     0.04,2,     0.01,2,   -999.0,9,   -999.0,9,-999.0000,9,  -999.00,      409
  49UF20120429,KS1204,  3420,  1,     26,  21985,2,20120508,0400, 28.5532, 126.6793,  153,     52.9,  20.3624,  33.8620,2,-999.0000,9,    212.3,2,     3.07,2,     2.01,2,     0.45,2,     0.14,2,   -999.0,9,   -999.0,9,-999.0000,9,  -999.00,      407
  49UF20120429,KS1204,  3420,  1,     25,  21984,2,20120508,0400, 28.5532, 126.6793,  153,     77.4,  20.5565,  34.4567,2,-999.0000,9,    198.2,2,     4.55,2,     4.05,2,     0.20,2,     0.27,2,   -999.0,9,   -999.0,9,-999.0000,9,  -999.00,      405
  49UF20120429,KS1204,  3420,  1,     17,  21976,2,20120508,0400, 28.5532, 126.6793,  153,    103.5,  19.3529,  34.6069,2,-999.0000,9,    185.5,2,     5.48,2,     5.16,2,     0.03,2,     0.36,2,   -999.0,9,   -999.0,9,-999.0000,9,  -999.00,      403
  49UF20120429,KS1204,  3420,  1,     16,  21975,2,20120508,0400, 28.5532, 126.6793,  153,    103.5,  19.3529,  34.6069,2,-999.0000,9,    185.9,2,     5.47,2,     5.18,2,     0.03,2,     0.36,2,   -999.0,9,   -999.0,9,-999.0000,9,  -999.00,      403
  49UF20120429,KS1204,  3420,  1,      9,  21968,2,20120508,0400, 28.5532, 126.6793,  153,    128.1,  18.1307,  34.6789,2,-999.0000,9,    180.6,2,     8.80,2,     7.27,2,     0.03,2,     0.52,2,   -999.0,9,   -999.0,9,-999.0000,9,  -999.00,      402
  49UF20120429,KS1204,  3420,  1,      8,  21967,2,20120508,0400, 28.5532, 126.6793,  153,    147.2,  13.6674,  34.4663,2,-999.0000,9,    164.2,2,    22.96,2,    14.47,2,     0.04,2,     1.05,2,   -999.0,9,   -999.0,9,-999.0000,9,  -999.00,      400
  49UF20120429,KS1204,  3420,  1,      7,  21966,2,20120508,0400, 28.5532, 126.6793,  153,    147.2,  13.5497,  34.4635,2,-999.0000,9,    164.1,2,    22.92,2,    14.48,2,     0.04,2,     1.06,2,   -999.0,9,   -999.0,9,-999.0000,9,  -999.00,      400
  49UF20120429,KS1204,  3422,  1,     99,     99,2,20120508,0700, 28.4145, 126.9058,  277,      0.0,  23.4227,  34.1091,2,-999.0000,9,    216.8,2,     1.48,2,     0.11,2,     0.00,2,     0.05,2,   -999.0,9,   -999.0,9,-999.0000,9,  -999.00,      700
  49UF20120429,KS1204,  3422,  1,     36,  21995,2,20120508,0700, 28.4145, 126.9058,  277,     11.8,  23.4074,  34.1060,2,  34.0934,4,    217.5,2,     1.66,2,     0.06,2,  -999.00,5,     0.03,2,   -999.0,9,   -999.0,9,-999.0000,9,  -999.00,      722
  49UF20120429,KS1204,  3422,  1,     35,  21994,2,20120508,0700, 28.4145, 126.9058,  277,     21.1,  23.1437,  34.0268,2,-999.0000,9,    220.0,2,     1.61,2,     0.12,2,     0.00,2,     0.03,2,   -999.0,9,   -999.0,9,-999.0000,9,  -999.00,      721
  49UF20120429,KS1204,  3422,  1,     34,  21993,2,20120508,0700, 28.4145, 126.9058,  277,     31.5,  22.9878,  33.9942,2,-999.0000,9,    221.4,2,     1.61,2,     0.12,2,     0.00,2,     0.03,2,   -999.0,9,   -999.0,9,-999.0000,9,  -999.00,      719
  49UF20120429,KS1204,  3422,  1,     27,  21986,2,20120508,0700, 28.4145, 126.9058,  277,     53.5,  21.0616,  34.5050,2,-999.0000,9,    187.0,2,     5.62,2,     3.76,2,     0.52,2,     0.32,2,   -999.0,9,   -999.0,9,-999.0000,9,  -999.00,      717
  49UF20120429,KS1204,  3422,  1,     26,  21985,2,20120508,0700, 28.4145, 126.9058,  277,     79.0,  19.3522,  34.7021,2,-999.0000,9,    175.1,2,     7.62,2,     6.29,2,     0.04,2,     0.47,2,   -999.0,9,   -999.0,9,-999.0000,9,  -999.00,      715
  49UF20120429,KS1204,  3422,  1,     25,  21984,2,20120508,0700, 28.4145, 126.9058,  277,     79.0,  19.3522,  34.7021,2,-999.0000,9,    175.2,2,     7.62,2,     6.26,2,     0.04,2,     0.46,2,   -999.0,9,   -999.0,9,-999.0000,9,  -999.00,      715
  49UF20120429,KS1204,  3422,  1,     18,  21977,2,20120508,0700, 28.4145, 126.9058,  277,    102.6,  18.5128,  34.6541,2,  34.6769,4,    173.6,2,     8.88,2,     7.25,2,     0.03,2,     0.53,2,   -999.0,9,   -999.0,9,-999.0000,9,  -999.00,      713
  49UF20120429,KS1204,  3422,  1,     17,  21976,2,20120508,0700, 28.4145, 126.9058,  277,    129.0,  17.3378,  34.5961,2,-999.0000,9,    175.4,2,    10.83,2,     8.60,2,     0.02,2,     0.61,2,   -999.0,9,   -999.0,9,-999.0000,9,  -999.00,      711
  49UF20120429,KS1204,  3422,  1,     16,  21975,2,20120508,0700, 28.4145, 126.9058,  277,    154.9,  16.6035,  34.6158,2,-999.0000,9,    173.3,2,    11.99,2,     9.34,2,     0.02,2,     0.67,2,   -999.0,9,   -999.0,9,-999.0000,9,  -999.00,      709
  49UF20120429,KS1204,  3422,  1,      9,  21968,2,20120508,0700, 28.4145, 126.9058,  277,    205.1,  12.9878,  34.4595,2,  34.4680,4,    165.8,2,    21.98,2,    14.92,2,     0.01,2,     1.07,2,   -999.0,9,   -999.0,9,-999.0000,9,  -999.00,      706
  49UF20120429,KS1204,  3422,  1,      8,  21967,2,20120508,0700, 28.4145, 126.9058,  277,    249.9,  11.6334,  34.3851,2,-999.0000,9,    158.0,2,    28.85,2,    18.13,2,     0.04,2,     1.30,2,   -999.0,9,   -999.0,9,-999.0000,9,  -999.00,      702
  49UF20120429,KS1204,  3422,  1,      7,  21966,2,20120508,0700, 28.4145, 126.9058,  277,    264.6,  11.1973,  34.3640,2,  34.3616,2,    149.8,6,    32.72,6,    19.48,6,     0.12,6,     1.43,6,   -999.0,9,   -999.0,9,-999.0000,9,  -999.00,      700