BOTTLE,20191017PRINUNIVRMK
EXPOCODE,SECT_ID,STNNBR,CASTNO,SAMPNO,BTLNBR,BTLNBR_FLAG_W,DATE,TIME,LATITUDE,LONGITUDE,DEPTH,CTDPRS,CTDTMP,CTDSAL,CTDSAL_FLAG_W,SALNTY,SALNTY_FLAG_W,OXYGEN,OXYGEN_FLAG_W,SILCAT,SILCAT_FLAG_W,NITRAT,NITRAT_FLAG_W,NITRIT,NITRIT_FLAG_W,PHSPHT,PHSPHT_FLAG_W,TCARBN,TCARBN_FLAG_W,ALKALI,ALKALI_FLAG_W,PH_TOT,PH_TOT_FLAG_W,PH_TMP,BTL_TIME
,,,,,,,,,,,METERS,DBAR,ITS-90,PSS-78,,PSS-78,,UMOL/KG,,UMOL/KG,,UMOL/KG,,UMOL/KG,,UMOL/KG,,UMOL/KG,,UMOL/KG,,,,DEG C,
  49UF20120204,KS1202,  3333,  1,     99,     99,2,20120217,0554, 13.0018, 164.9772, 5201,      0.0,  27.2902,  34.4971,2,-999.0000,9,    200.7,2,     1.03,2,     0.06,2,     0.00,2,     0.12,2,   -999.0,9,   -999.0,9,-999.0000,9,  -999.00,      634
  49UF20120204,KS1202,  3333,  1,     36,  21995,2,20120217,0554, 13.0018, 164.9772, 5201,     12.4,  27.2945,  34.4965,2,  34.4966,2,    200.7,2,     1.07,2,     0.03,2,     0.00,2,     0.12,2,   -999.0,9,   -999.0,9,-999.0000,9,  -999.00,      657
  49UF20120204,KS1202,  3333,  1,     35,  21994,2,20120217,0554, 13.0018, 164.9772, 5201,     26.5,  27.3040,  34.4961,2,-999.0000,9,    200.9,2,     1.05,2,     0.05,2,     0.00,2,     0.11,2,   -999.0,9,   -999.0,9,-999.0000,9,  -999.00,      655
  49UF20120204,KS1202,  3333,  1,     34,  21993,2,20120217,0554, 13.0018, 164.9772, 5201,     50.9,  27.2442,  34.6496,2,-999.0000,9,    201.3,2,     0.99,2,     0.04,2,     0.00,2,     0.12,2,   -999.0,9,   -999.0,9,-999.0000,9,  -999.00,      652
  49UF20120204,KS1202,  3333,  1,     32,  21991,2,20120217,0554, 13.0018, 164.9772, 5201,     74.2,  27.4715,  34.9379,2,-999.0000,9,    200.5,2,     0.95,2,     0.08,2,     0.00,2,     0.10,2,   -999.0,9,   -999.0,9,-999.0000,9,  -999.00,      650
  49UF20120204,KS1202,  3333,  1,     31,  21990,2,20120217,0554, 13.0018, 164.9772, 5201,    101.1,  27.4491,  35.0383,2,-999.0000,9,    199.0,2,     0.89,2,     0.11,2,     0.00,2,     0.10,2,   -999.0,9,   -999.0,9,-999.0000,9,  -999.00,      649
  49UF20120204,KS1202,  3333,  1,     30,  21989,2,20120217,0554, 13.0018, 164.9772, 5201,    101.1,  27.4491,  35.0383,2,  35.0395,2,    199.1,2,     0.96,2,     0.01,2,     0.00,2,     0.11,2,   -999.0,9,   -999.0,9,-999.0000,9,  -999.00,      649
  49UF20120204,KS1202,  3333,  1,     27,  21986,2,20120217,0554, 13.0018, 164.9772, 5201,    127.3,  27.2704,  35.0581,2,-999.0000,9,    198.7,6,     0.91,6,     0.08,6,     0.00,6,     0.10,6,   -999.0,9,   -999.0,9,-999.0000,9,  -999.00,      648
  49UF20120204,KS1202,  3333,  1,     26,  21985,2,20120217,0554, 13.0018, 164.9772, 5201,    151.2,  26.6059,  35.1348,2,-999.0000,9,    197.6,2,     1.00,2,     0.06,2,     0.00,2,     0.09,2,   -999.0,9,   -999.0,9,-999.0000,9,  -999.00,      646
  49UF20120204,KS1202,  3333,  1,     25,  21984,2,20120217,0554, 13.0018, 164.9772, 5201,    203.8,  20.4585,  35.1069,2,  35.1325,4,    179.6,2,     2.42,2,     2.61,2,     0.01,2,     0.27,2,   -999.0,9,   -999.0,9,-999.0000,9,  -999.00,      644
  49UF20120204,KS1202,  3333,  1,     22,  21981,2,20120217,0554, 13.0018, 164.9772, 5201,    252.7,  16.2962,  34.6579,2,-999.0000,9,    164.8,2,     7.25,2,     8.95,2,     0.00,2,     0.71,2,   -999.0,9,   -999.0,9,-999.0000,9,  -999.00,      642
  49UF20120204,KS1202,  3333,  1,     21,  21980,2,20120217,0554, 13.0018, 164.9772, 5201,    304.7,  12.4766,  34.3323,2,-999.0000,9,    163.0,2,    15.11,2,    15.03,2,     0.00,2,     1.13,2,   -999.0,9,   -999.0,9,-999.0000,9,  -999.00,      640
  49UF20120204,KS1202,  3333,  1,     20,  21979,2,20120217,0554, 13.0018, 164.9772, 5201,    403.3,   7.8810,  34.1754,2,  34.1735,2,    103.2,2,    44.85,2,    29.17,2,     0.00,2,     2.15,2,   -999.0,9,   -999.0,9,-999.0000,9,  -999.00,      637
  49UF20120204,KS1202,  3333,  1,     18,  21977,2,20120217,0554, 13.0018, 164.9772, 5201,    508.3,   6.6301,  34.4205,2,-999.0000,9,     63.2,2,    62.41,2,    36.20,2,     0.00,2,     2.62,2,   -999.0,9,   -999.0,9,-999.0000,9,  -999.00,      632
  49UF20120204,KS1202,  3333,  1,     17,  21976,2,20120217,0554, 13.0018, 164.9772, 5201,    606.2,   5.8572,  34.4692,2,-999.0000,9,     68.3,2,    71.93,2,    37.17,2,     0.00,2,     2.69,2,   -999.0,9,   -999.0,9,-999.0000,9,  -999.00,      629
  49UF20120204,KS1202,  3333,  1,     16,  21975,2,20120217,0554, 13.0018, 164.9772, 5201,    606.2,   5.8572,  34.4692,2,  34.4688,2,     68.6,2,    72.34,2,    37.21,2,     0.00,2,     2.69,2,   -999.0,9,   -999.0,9,-999.0000,9,  -999.00,      629
  49UF20120204,KS1202,  3333,  1,     14,  21973,2,20120217,0554, 13.0018, 164.9772, 5201,    707.0,   5.4644,  34.4912,2,-999.0000,9,     71.8,2,    76.86,2,    37.74,2,     0.00,2,     2.72,2,   -999.0,9,   -999.0,9,-999.0000,9,  -999.00,      625
  49UF20120204,KS1202,  3333,  1,     13,  21972,2,20120217,0554, 13.0018, 164.9772, 5201,    809.1,   4.9454,  34.5115,2,  34.5115,2,     70.5,6,    86.71,6,    38.68,6,     0.00,6,     2.79,6,   -999.0,9,   -999.0,9,-999.0000,9,  -999.00,      622
  49UF20120204,KS1202,  3333,  1,     12,  21971,2,20120217,0554, 13.0018, 164.9772, 5201,    908.3,   4.5769,  34.5298,2,-999.0000,9,     67.3,2,    93.50,2,    39.65,2,     0.00,2,     2.85,2,   -999.0,9,   -999.0,9,-999.0000,9,  -999.00,      619
  49UF20120204,KS1202,  3333,  1,      9,  21968,2,20120217,0554, 13.0018, 164.9772, 5201,   1009.4,   4.2462,  34.5463,2,  34.5461,2,     66.5,2,    99.87,2,    40.41,2,     0.00,2,     2.90,2,   -999.0,9,   -999.0,9,-999.0000,9,  -999.00,      616
  49UF20120204,KS1202,  3333,  1,      8,  21967,2,20120217,0554, 13.0018, 164.9772, 5201,   1212.1,   3.5482,  34.5699,2,  34.5694,2,     75.8,2,   113.53,2,    40.19,2,     0.00,2,     2.88,2,   -999.0,9,   -999.0,9,-999.0000,9,  -999.00,      611
  49UF20120204,KS1202,  3333,  1,      7,  21966,2,20120217,0554, 13.0018, 164.9772, 5201,   1415.3,   3.0194,  34.5894,2,  34.5896,2,     83.7,2,   124.97,2,    39.85,2,     0.00,2,     2.85,2,   -999.0,9,   -999.0,9,-999.0000,9,  -999.00,      606
  49UF20120204,KS1202,  3333,  1,      5,  21964,2,20120217,0554, 13.0018, 164.9772, 5201,   1612.9,   2.6726,  34.6061,2,  34.6065,2,     91.4,2,   131.64,2,    39.56,2,     0.00,2,     2.82,2,   -999.0,9,   -999.0,9,-999.0000,9,  -999.00,      602
  49UF20120204,KS1202,  3333,  1,      4,  21963,2,20120217,0554, 13.0018, 164.9772, 5201,   1815.2,   2.3374,  34.6242,2,  34.6239,2,    101.2,2,   139.10,2,    39.49,3,     0.00,2,     2.78,2,   -999.0,9,   -999.0,9,-999.0000,9,  -999.00,      558
  49UF20120204,KS1202,  3333,  1,      2,  21961,2,20120217,0554, 13.0018, 164.9772, 5201,   2021.5,   2.1068,  34.6386,2,  34.6387,2,    107.4,2,   143.25,2,    38.74,2,     0.00,2,     2.74,2,   -999.0,9,   -999.0,9,-999.0000,9,  -999.00,      554
  49UF20120204,KS1202,  3334,  1,     99,     99,2,20120217,1325, 11.9952, 164.4792, 4573,      0.0,  27.3254,  34.3528,2,-999.0000,9,    199.7,2,     1.07,2,     0.03,2,     0.00,2,     0.10,2,   -999.0,9,   -999.0,9,-999.0000,9,  -999.00,     1417
  49UF20120204,KS1202,  3334,  1,     36,  21995,2,20120217,1325, 11.9952, 164.4792, 4573,     11.4,  27.3285,  34.3530,2,-999.0000,9,    200.0,2,     1.05,2,     0.00,2,     0.00,2,     0.09,2,   -999.0,9,   -999.0,9,-999.0000,9,  -999.00,     1436
  49UF20120204,KS1202,  3334,  1,     35,  21994,2,20120217,1325, 11.9952, 164.4792, 4573,     24.0,  27.3486,  34.3849,2,-999.0000,9,    200.1,2,     1.05,2,     0.00,2,     0.00,2,     0.10,2,   -999.0,9,   -999.0,9,-999.0000,9,  -999.00,     1435
  49UF20120204,KS1202,  3334,  1,     34,  21993,2,20120217,1325, 11.9952, 164.4792, 4573,     50.6,  27.3040,  34.4829,2,-999.0000,9,    200.2,2,     1.05,2,     0.03,2,     0.00,2,     0.12,2,   -999.0,9,   -999.0,9,-999.0000,9,  -999.00,     1431
  49UF20120204,KS1202,  3334,  1,     32,  21991,2,20120217,1325, 11.9952, 164.4792, 4573,     73.1,  27.2928,  34.4880,2,-999.0000,9,    200.3,2,     1.05,2,     0.01,2,     0.00,2,     0.12,2,   -999.0,9,   -999.0,9,-999.0000,9,  -999.00,     1429
  49UF20120204,KS1202,  3334,  1,     31,  21990,2,20120217,1325, 11.9952, 164.4792, 4573,     73.1,  27.2928,  34.4880,2,-999.0000,9,    200.4,2,     1.04,2,     0.02,2,     0.00,2,     0.12,2,   -999.0,9,   -999.0,9,-999.0000,9,  -999.00,     1429
  49UF20120204,KS1202,  3334,  1,     30,  21989,2,20120217,1325, 11.9952, 164.4792, 4573,    100.8,  27.3908,  35.1078,2,-999.0000,9,    200.0,6,     0.91,6,     0.03,6,     0.00,6,     0.10,6,   -999.0,9,   -999.0,9,-999.0000,9,  -999.00,     1428
  49UF20120204,KS1202,  3334,  1,     27,  21986,2,20120217,1325, 11.9952, 164.4792, 4573,    125.2,  26.6166,  35.0889,2,-999.0000,9,    200.7,2,     0.98,2,     0.00,2,     0.00,2,     0.10,2,   -999.0,9,   -999.0,9,-999.0000,9,  -999.00,     1426
  49UF20120204,KS1202,  3334,  1,     26,  21985,2,20120217,1325, 11.9952, 164.4792, 4573,    151.3,  24.2130,  35.1289,2,-999.0000,9,    197.2,2,     1.30,2,     0.11,2,     0.12,2,     0.15,2,   -999.0,9,   -999.0,9,-999.0000,9,  -999.00,     1425
  49UF20120204,KS1202,  3334,  1,     25,  21984,2,20120217,1325, 11.9952, 164.4792, 4573,    201.8,  19.7293,  34.9992,2,-999.0000,9,    175.8,2,     3.61,2,     4.15,2,     0.01,2,     0.40,2,   -999.0,9,   -999.0,9,-999.0000,9,  -999.00,     1422
  49UF20120204,KS1202,  3334,  1,     22,  21981,2,20120217,1325, 11.9952, 164.4792, 4573,    253.2,  14.9831,  34.5417,2,-999.0000,9,    153.0,2,    10.32,2,    11.85,2,     0.00,2,     0.94,2,   -999.0,9,   -999.0,9,-999.0000,9,  -999.00,     1420
  49UF20120204,KS1202,  3334,  1,     21,  21980,2,20120217,1325, 11.9952, 164.4792, 4573,    301.2,  12.4894,  34.3858,2,-999.0000,9,    129.3,2,    18.03,2,    18.24,2,     0.00,2,     1.41,2,   -999.0,9,   -999.0,9,-999.0000,9,  -999.00,     1418
  49UF20120204,KS1202,  3334,  1,     20,  21979,2,20120217,1325, 11.9952, 164.4792, 4573,    404.1,   8.4831,  34.4786,2,-999.0000,9,     49.7,2,    43.30,2,    33.83,2,     0.00,2,     2.49,2,   -999.0,9,   -999.0,9,-999.0000,9,  -999.00,     1414
  49UF20120204,KS1202,  3334,  1,     18,  21977,2,20120217,1325, 11.9952, 164.4792, 4573,    503.0,   7.2937,  34.5191,2,-999.0000,9,     57.9,2,    52.77,2,    36.09,2,     0.00,2,     2.61,2,   -999.0,9,   -999.0,9,-999.0000,9,  -999.00,     1411
  49UF20120204,KS1202,  3334,  1,     17,  21976,2,20120217,1325, 11.9952, 164.4792, 4573,    503.0,   7.2937,  34.5191,2,-999.0000,9,     57.8,2,    52.66,2,    36.01,2,     0.00,2,     2.62,2,   -999.0,9,   -999.0,9,-999.0000,9,  -999.00,     1411
  49UF20120204,KS1202,  3334,  1,     16,  21975,2,20120217,1325, 11.9952, 164.4792, 4573,    602.7,   6.6861,  34.5212,2,-999.0000,9,     58.1,2,    59.34,2,    37.27,2,     0.00,2,     2.71,2,   -999.0,9,   -999.0,9,-999.0000,9,  -999.00,     1408
  49UF20120204,KS1202,  3334,  1,     14,  21973,2,20120217,1325, 11.9952, 164.4792, 4573,    704.8,   6.1757,  34.5217,2,-999.0000,9,     54.6,2,    66.40,2,    38.46,2,     0.00,2,     2.80,2,   -999.0,9,   -999.0,9,-999.0000,9,  -999.00,     1403
  49UF20120204,KS1202,  3334,  1,     13,  21972,2,20120217,1325, 11.9952, 164.4792, 4573,    807.2,   5.7219,  34.5276,2,-999.0000,9,     57.7,2,    72.50,2,    39.22,2,     0.00,2,     2.84,2,   -999.0,9,   -999.0,9,-999.0000,9,  -999.00,     1400
  49UF20120204,KS1202,  3334,  1,     12,  21971,2,20120217,1325, 11.9952, 164.4792, 4573,    908.9,   5.1662,  34.5340,2,-999.0000,9,     60.9,2,    81.59,2,    39.73,2,     0.00,2,     2.88,2,   -999.0,9,   -999.0,9,-999.0000,9,  -999.00,     1356
  49UF20120204,KS1202,  3334,  1,      9,  21968,2,20120217,1325, 11.9952, 164.4792, 4573,   1009.9,   4.6642,  34.5426,2,-999.0000,9,     61.3,6,    91.28,6,    40.39,6,     0.00,6,     2.92,6,   -999.0,9,   -999.0,9,-999.0000,9,  -999.00,     1353
  49UF20120204,KS1202,  3334,  1,      8,  21967,2,20120217,1325, 11.9952, 164.4792, 4573,   1207.7,   3.8432,  34.5674,2,-999.0000,9,     69.3,2,   107.50,2,    40.67,2,     0.00,2,     2.94,2,   -999.0,9,   -999.0,9,-999.0000,9,  -999.00,     1347
  49UF20120204,KS1202,  3334,  1,      7,  21966,2,20120217,1325, 11.9952, 164.4792, 4573,   1412.6,   3.2626,  34.5864,2,-999.0000,9,     78.5,2,   119.72,2,    40.28,2,     0.00,2,     2.90,2,   -999.0,9,   -999.0,9,-999.0000,9,  -999.00,     1341
  49UF20120204,KS1202,  3334,  1,      5,  21964,2,20120217,1325, 11.9952, 164.4792, 4573,   1615.0,   2.8107,  34.6022,2,-999.0000,9,     87.2,2,   130.07,2,    39.87,2,     0.00,2,     2.86,2,   -999.0,9,   -999.0,9,-999.0000,9,  -999.00,     1335
  49UF20120204,KS1202,  3334,  1,      4,  21963,2,20120217,1325, 11.9952, 164.4792, 4573,   1818.5,   2.4558,  34.6189,2,-999.0000,9,     96.8,2,   137.00,2,    39.42,2,     0.00,2,     2.81,2,   -999.0,9,   -999.0,9,-999.0000,9,  -999.00,     1330
  49UF20120204,KS1202,  3334,  1,      2,  21961,2,20120217,1325, 11.9952, 164.4792, 4573,   2021.7,   2.1862,  34.6345,2,-999.0000,9,    104.8,2,   142.31,2,    38.90,2,     0.00,2,     2.76,2,   -999.0,9,   -999.0,9,-999.0000,9,  -999.00,     1325
  49UF20120204,KS1202,  3335,  1,     99,     99,2,20120217,2103, 10.9957, 163.9818, 4803,      0.0,  27.4787,  34.3837,2,-999.0000,9,    199.6,2,     0.99,2,     0.00,2,     0.00,2,     0.12,2,   -999.0,9,   -999.0,9,-999.0000,9,  -999.00,     2143
  49UF20120204,KS1202,  3335,  1,     36,  21995,2,20120217,2103, 10.9957, 163.9818, 4803,     11.8,  27.4782,  34.3833,2,-999.0000,9,    200.1,2,     0.97,2,     0.00,2,     0.00,2,     0.10,2,   -999.0,9,   -999.0,9,-999.0000,9,  -999.00,     2209
  49UF20120204,KS1202,  3335,  1,     35,  21994,2,20120217,2103, 10.9957, 163.9818, 4803,     24.9,  27.4795,  34.3839,2,-999.0000,9,    200.0,2,     0.95,2,     0.00,2,     0.00,2,     0.10,2,   -999.0,9,   -999.0,9,-999.0000,9,  -999.00,     2208
  49UF20120204,KS1202,  3335,  1,     34,  21993,2,20120217,2103, 10.9957, 163.9818, 4803,     24.9,  27.4795,  34.3839,2,-999.0000,9,    200.0,2,     0.92,2,     0.00,2,     0.00,2,     0.10,2,   -999.0,9,   -999.0,9,-999.0000,9,  -999.00,     2208
  49UF20120204,KS1202,  3335,  1,     32,  21991,2,20120217,2103, 10.9957, 163.9818, 4803,     49.8,  27.4831,  34.3841,2,-999.0000,9,    199.7,2,     0.94,2,     0.00,2,     0.00,2,     0.10,2,   -999.0,9,   -999.0,9,-999.0000,9,  -999.00,     2204
  49UF20120204,KS1202,  3335,  1,     31,  21990,2,20120217,2103, 10.9957, 163.9818, 4803,     75.4,  27.4868,  34.3836,2,-999.0000,9,    199.7,2,     0.95,2,     0.01,2,     0.00,2,     0.11,2,   -999.0,9,   -999.0,9,-999.0000,9,  -999.00,     2203
  49UF20120204,KS1202,  3335,  1,     30,  21989,2,20120217,2103, 10.9957, 163.9818, 4803,    101.4,  27.3553,  34.4725,2,-999.0000,9,    199.4,2,     0.91,2,     0.00,2,     0.00,2,     0.11,2,   -999.0,9,   -999.0,9,-999.0000,9,  -999.00,     2202
  49UF20120204,KS1202,  3335,  1,     27,  21986,2,20120217,2103, 10.9957, 163.9818, 4803,    125.9,  26.2152,  34.8269,2,-999.0000,9,    200.8,2,     1.00,2,     0.02,2,     0.01,2,     0.13,2,   -999.0,9,   -999.0,9,-999.0000,9,  -999.00,     2200
  49UF20120204,KS1202,  3335,  1,     26,  21985,2,20120217,2103, 10.9957, 163.9818, 4803,    151.8,  22.0749,  35.1671,2,-999.0000,9,    187.3,6,     1.77,6,     1.19,6,     0.08,6,     0.21,6,   -999.0,9,   -999.0,9,-999.0000,9,  -999.00,     2159
  49UF20120204,KS1202,  3335,  1,     25,  21984,2,20120217,2103, 10.9957, 163.9818, 4803,    202.7,  18.0615,  34.8716,2,-999.0000,9,    176.0,2,     4.71,2,     5.85,2,     0.01,2,     0.48,2,   -999.0,9,   -999.0,9,-999.0000,9,  -999.00,     2157
  49UF20120204,KS1202,  3335,  1,     22,  21981,2,20120217,2103, 10.9957, 163.9818, 4803,    254.8,  12.4886,  34.4228,2,-999.0000,9,    112.5,2,    19.17,2,    20.21,2,     0.00,2,     1.54,2,   -999.0,9,   -999.0,9,-999.0000,9,  -999.00,     2154
  49UF20120204,KS1202,  3335,  1,     21,  21980,2,20120217,2103, 10.9957, 163.9818, 4803,    305.7,  10.5521,  34.4610,2,-999.0000,9,     71.2,2,    29.70,2,    28.22,2,     0.00,2,     2.08,2,   -999.0,9,   -999.0,9,-999.0000,9,  -999.00,     2152
  49UF20120204,KS1202,  3335,  1,     20,  21979,2,20120217,2103, 10.9957, 163.9818, 4803,    405.8,   8.5172,  34.5265,2,-999.0000,9,     58.4,2,    42.15,2,    33.87,2,     0.00,2,     2.43,2,   -999.0,9,   -999.0,9,-999.0000,9,  -999.00,     2148
  49UF20120204,KS1202,  3335,  1,     18,  21977,2,20120217,2103, 10.9957, 163.9818, 4803,    505.7,   7.5401,  34.5369,2,-999.0000,9,     66.5,2,    48.69,2,    35.30,2,     0.00,2,     2.52,2,   -999.0,9,   -999.0,9,-999.0000,9,  -999.00,     2145
  49UF20120204,KS1202,  3335,  1,     17,  21976,2,20120217,2103, 10.9957, 163.9818, 4803,    606.8,   6.5763,  34.5182,2,-999.0000,9,     62.0,2,    60.20,2,    37.22,2,     0.00,2,     2.68,2,   -999.0,9,   -999.0,9,-999.0000,9,  -999.00,     2142
  49UF20120204,KS1202,  3335,  1,     16,  21975,2,20120217,2103, 10.9957, 163.9818, 4803,    709.0,   5.9526,  34.5239,2,-999.0000,9,     63.6,2,    68.54,2,    38.39,2,     0.00,2,     2.76,2,   -999.0,9,   -999.0,9,-999.0000,9,  -999.00,     2138
  49UF20120204,KS1202,  3335,  1,     14,  21973,2,20120217,2103, 10.9957, 163.9818, 4803,    806.8,   5.4835,  34.5278,2,-999.0000,9,     57.7,2,    76.71,2,    39.79,2,     0.00,2,     2.86,2,   -999.0,9,   -999.0,9,-999.0000,9,  -999.00,     2134
  49UF20120204,KS1202,  3335,  1,     13,  21972,2,20120217,2103, 10.9957, 163.9818, 4803,    909.8,   4.9676,  34.5358,2,-999.0000,9,     61.4,2,    85.46,2,    40.11,2,     0.00,2,     2.88,2,   -999.0,9,   -999.0,9,-999.0000,9,  -999.00,     2131
  49UF20120204,KS1202,  3335,  1,     12,  21971,2,20120217,2103, 10.9957, 163.9818, 4803,   1009.5,   4.5455,  34.5489,2,-999.0000,9,     70.1,2,    92.06,2,    40.03,2,     0.00,2,     2.86,2,   -999.0,9,   -999.0,9,-999.0000,9,  -999.00,     2128
  49UF20120204,KS1202,  3335,  1,      9,  21968,2,20120217,2103, 10.9957, 163.9818, 4803,   1212.6,   3.8173,  34.5661,2,-999.0000,9,     71.8,2,   108.32,2,    40.49,2,     0.00,2,     2.90,2,   -999.0,9,   -999.0,9,-999.0000,9,  -999.00,     2123
  49UF20120204,KS1202,  3335,  1,      8,  21967,2,20120217,2103, 10.9957, 163.9818, 4803,   1414.3,   3.1817,  34.5884,2,-999.0000,9,     85.2,6,   120.31,6,    39.77,6,     0.00,6,     2.84,6,   -999.0,9,   -999.0,9,-999.0000,9,  -999.00,     2117
  49UF20120204,KS1202,  3335,  1,      7,  21966,2,20120217,2103, 10.9957, 163.9818, 4803,   1616.0,   2.7673,  34.6057,2,-999.0000,9,     92.0,2,   128.96,2,    39.53,2,     0.00,2,     2.82,2,   -999.0,9,   -999.0,9,-999.0000,9,  -999.00,     2113
  49UF20120204,KS1202,  3335,  1,      5,  21964,2,20120217,2103, 10.9957, 163.9818, 4803,   1818.6,   2.4421,  34.6230,2,-999.0000,9,     99.0,2,   136.25,2,    39.47,2,     0.00,2,     2.79,2,   -999.0,9,   -999.0,9,-999.0000,9,  -999.00,     2108
  49UF20120204,KS1202,  3335,  1,      4,  21963,2,20120217,2103, 10.9957, 163.9818, 4803,   1818.6,   2.4421,  34.6230,2,-999.0000,9,     98.6,2,   136.46,2,    39.31,2,     0.00,2,     2.79,2,   -999.0,9,   -999.0,9,-999.0000,9,  -999.00,     2108
  49UF20120204,KS1202,  3335,  1,      2,  21961,2,20120217,2103, 10.9957, 163.9818, 4803,   2022.1,   2.2599,  34.6329,2,-999.0000,9,    103.0,2,   140.73,2,    39.16,2,     0.00,2,     2.77,2,   -999.0,9,   -999.0,9,-999.0000,9,  -999.00,     2103