BOTTLE,20191017PRINUNIVRMK
EXPOCODE,SECT_ID,STNNBR,CASTNO,SAMPNO,BTLNBR,BTLNBR_FLAG_W,DATE,TIME,LATITUDE,LONGITUDE,DEPTH,CTDPRS,CTDTMP,CTDSAL,CTDSAL_FLAG_W,SALNTY,SALNTY_FLAG_W,OXYGEN,OXYGEN_FLAG_W,SILCAT,SILCAT_FLAG_W,NITRAT,NITRAT_FLAG_W,NITRIT,NITRIT_FLAG_W,PHSPHT,PHSPHT_FLAG_W,TCARBN,TCARBN_FLAG_W,ALKALI,ALKALI_FLAG_W,PH_TOT,PH_TOT_FLAG_W,PH_TMP,BTL_TIME
,,,,,,,,,,,METERS,DBAR,ITS-90,PSS-78,,PSS-78,,UMOL/KG,,UMOL/KG,,UMOL/KG,,UMOL/KG,,UMOL/KG,,UMOL/KG,,UMOL/KG,,,,DEG C,
  49UF20120204,KS1202,  3353,  1,     99,     99,2,20120303,1529,  9.4828, 148.9777, 5098,      0.0,  28.2794,  34.2297,2,-999.0000,9,    197.3,2,     1.14,2,     0.07,2,     0.00,2,     0.08,2,   -999.0,9,   -999.0,9,-999.0000,9,  -999.00,     1630
  49UF20120204,KS1202,  3353,  1,     36,  21995,4,20120303,1529,  9.4828, 148.9777, 5098,      9.5,  28.2787,  34.2289,2,-999.0000,9,   -999.0,9,  -999.00,9,  -999.00,9,  -999.00,9,  -999.00,9,   -999.0,9,   -999.0,9,-999.0000,9,  -999.00,     1650
  49UF20120204,KS1202,  3353,  1,     35,  21994,2,20120303,1529,  9.4828, 148.9777, 5098,     26.3,  28.2868,  34.2285,2,-999.0000,9,    197.1,2,     1.10,2,     0.07,2,     0.00,2,     0.07,2,   -999.0,9,   -999.0,9,-999.0000,9,  -999.00,     1648
  49UF20120204,KS1202,  3353,  1,     33,  21992,2,20120303,1529,  9.4828, 148.9777, 5098,     50.4,  28.2902,  34.2280,2,-999.0000,9,    197.3,2,     1.15,2,     0.01,2,     0.00,2,     0.07,2,   -999.0,9,   -999.0,9,-999.0000,9,  -999.00,     1642
  49UF20120204,KS1202,  3353,  1,     32,  21991,2,20120303,1529,  9.4828, 148.9777, 5098,     75.8,  28.3006,  34.2296,2,-999.0000,9,    197.0,2,     1.21,2,     0.07,2,     0.00,2,     0.08,2,   -999.0,9,   -999.0,9,-999.0000,9,  -999.00,     1641
  49UF20120204,KS1202,  3353,  1,     31,  21990,2,20120303,1529,  9.4828, 148.9777, 5098,    100.1,  27.6704,  34.9086,2,-999.0000,9,    202.0,2,     1.06,2,     0.07,2,     0.00,2,     0.10,2,   -999.0,9,   -999.0,9,-999.0000,9,  -999.00,     1640
  49UF20120204,KS1202,  3353,  1,     29,  21988,2,20120303,1529,  9.4828, 148.9777, 5098,    125.7,  24.6752,  35.2135,2,-999.0000,9,    195.6,2,     1.28,2,     0.09,2,     0.00,2,     0.11,2,   -999.0,9,   -999.0,9,-999.0000,9,  -999.00,     1638
  49UF20120204,KS1202,  3353,  1,     28,  21987,2,20120303,1529,  9.4828, 148.9777, 5098,    150.4,  22.2044,  35.1874,2,-999.0000,9,    182.1,2,     2.02,2,     0.95,2,     0.17,2,     0.22,2,   -999.0,9,   -999.0,9,-999.0000,9,  -999.00,     1636
  49UF20120204,KS1202,  3353,  1,     27,  21986,2,20120303,1529,  9.4828, 148.9777, 5098,    201.6,  15.7391,  34.6017,2,-999.0000,9,    148.4,2,     9.80,2,    11.59,2,     0.01,2,     0.92,2,   -999.0,9,   -999.0,9,-999.0000,9,  -999.00,     1634
  49UF20120204,KS1202,  3353,  1,     24,  21983,2,20120303,1529,  9.4828, 148.9777, 5098,    253.2,  11.8390,  34.4344,2,-999.0000,9,    101.8,2,    22.71,2,    22.54,2,     0.00,2,     1.68,2,   -999.0,9,   -999.0,9,-999.0000,9,  -999.00,     1631
  49UF20120204,KS1202,  3353,  1,     23,  21982,2,20120303,1529,  9.4828, 148.9777, 5098,    253.2,  11.8390,  34.4344,2,-999.0000,9,    101.4,2,    22.79,2,    22.61,2,     0.00,2,     1.68,2,   -999.0,9,   -999.0,9,-999.0000,9,  -999.00,     1631
  49UF20120204,KS1202,  3353,  1,     22,  21981,2,20120303,1529,  9.4828, 148.9777, 5098,    303.6,   9.7073,  34.4258,2,-999.0000,9,     80.2,6,    34.48,6,    28.84,6,     0.00,6,     2.10,6,   -999.0,9,   -999.0,9,-999.0000,9,  -999.00,     1628
  49UF20120204,KS1202,  3353,  1,     19,  21978,2,20120303,1529,  9.4828, 148.9777, 5098,    404.9,   8.1316,  34.5391,2,-999.0000,9,     70.5,2,    43.82,2,    33.54,2,     0.00,2,     2.39,2,   -999.0,9,   -999.0,9,-999.0000,9,  -999.00,     1623
  49UF20120204,KS1202,  3353,  1,     18,  21977,2,20120303,1529,  9.4828, 148.9777, 5098,    404.9,   8.1316,  34.5391,2,-999.0000,9,     70.5,2,    43.81,2,    33.73,2,     0.00,2,     2.39,2,   -999.0,9,   -999.0,9,-999.0000,9,  -999.00,     1622
  49UF20120204,KS1202,  3353,  1,     17,  21976,2,20120303,1529,  9.4828, 148.9777, 5098,    502.7,   7.5893,  34.5370,2,-999.0000,9,     73.3,2,    48.01,2,    34.61,2,     0.00,2,     2.46,2,   -999.0,9,   -999.0,9,-999.0000,9,  -999.00,     1618
  49UF20120204,KS1202,  3353,  1,     15,  21974,2,20120303,1529,  9.4828, 148.9777, 5098,    602.5,   6.8966,  34.5176,2,-999.0000,9,     79.2,2,    54.72,2,    35.23,2,     0.00,2,     2.51,2,   -999.0,9,   -999.0,9,-999.0000,9,  -999.00,     1613
  49UF20120204,KS1202,  3353,  1,     14,  21973,2,20120303,1529,  9.4828, 148.9777, 5098,    705.8,   6.2986,  34.5232,2,-999.0000,9,     75.1,2,    62.17,2,    36.75,2,     0.00,2,     2.62,2,   -999.0,9,   -999.0,9,-999.0000,9,  -999.00,     1609
  49UF20120204,KS1202,  3353,  1,     13,  21972,2,20120303,1529,  9.4828, 148.9777, 5098,    806.6,   5.7188,  34.5305,2,-999.0000,9,     72.2,6,    71.27,6,    38.06,6,     0.00,6,     2.72,6,   -999.0,9,   -999.0,9,-999.0000,9,  -999.00,     1605
  49UF20120204,KS1202,  3353,  1,     11,  21970,2,20120303,1529,  9.4828, 148.9777, 5098,    908.2,   5.1974,  34.5361,2,-999.0000,9,     77.0,2,    79.77,2,    38.37,2,     0.00,2,     2.73,2,   -999.0,9,   -999.0,9,-999.0000,9,  -999.00,     1601
  49UF20120204,KS1202,  3353,  1,     10,  21969,2,20120303,1529,  9.4828, 148.9777, 5098,   1007.8,   4.7682,  34.5436,2,-999.0000,9,     78.3,2,    87.64,2,    38.66,2,     0.00,2,     2.76,2,   -999.0,9,   -999.0,9,-999.0000,9,  -999.00,     1557
  49UF20120204,KS1202,  3353,  1,      9,  21968,2,20120303,1529,  9.4828, 148.9777, 5098,   1212.1,   3.7736,  34.5663,2,-999.0000,9,     83.5,2,   107.55,2,    39.48,2,     0.00,2,     2.80,2,   -999.0,9,   -999.0,9,-999.0000,9,  -999.00,     1551
  49UF20120204,KS1202,  3353,  1,      6,  21965,2,20120303,1529,  9.4828, 148.9777, 5098,   1413.1,   3.2668,  34.5847,2,-999.0000,9,     91.9,2,   117.69,2,    39.10,2,     0.00,2,     2.77,2,   -999.0,9,   -999.0,9,-999.0000,9,  -999.00,     1545
  49UF20120204,KS1202,  3353,  1,      5,  21964,2,20120303,1529,  9.4828, 148.9777, 5098,   1616.2,   2.8380,  34.6022,2,-999.0000,9,     96.9,2,   125.89,2,    39.16,2,     0.00,2,     2.77,2,   -999.0,9,   -999.0,9,-999.0000,9,  -999.00,     1540
  49UF20120204,KS1202,  3353,  1,      4,  21963,2,20120303,1529,  9.4828, 148.9777, 5098,   1818.4,   2.4558,  34.6183,2,-999.0000,9,    103.9,2,   133.17,3,    38.95,2,     0.00,2,     2.74,2,   -999.0,9,   -999.0,9,-999.0000,9,  -999.00,     1534
  49UF20120204,KS1202,  3353,  1,      1,  21960,2,20120303,1529,  9.4828, 148.9777, 5098,   2019.6,   2.2048,  34.6287,2,-999.0000,9,    110.1,2,   138.99,2,    38.68,2,     0.00,2,     2.71,2,   -999.0,9,   -999.0,9,-999.0000,9,  -999.00,     1529
  49UF20120204,KS1202,  3354,  1,     99,     99,2,20120303,2304,  9.4860, 147.9612, 2745,      0.0,  28.4406,  34.3426,2,-999.0000,9,    196.4,2,     1.05,2,     0.00,2,     0.00,2,     0.09,2,   -999.0,9,   -999.0,9,-999.0000,9,  -999.00,     2350
  49UF20120204,KS1202,  3354,  1,     35,  21994,2,20120303,2304,  9.4860, 147.9612, 2745,     11.0,  28.4392,  34.3420,2,  34.3410,2,    196.5,2,     1.05,2,     0.00,2,     0.00,2,     0.09,2,   -999.0,9,   -999.0,9,-999.0000,9,  -999.00,       24
  49UF20120204,KS1202,  3354,  1,     34,  21993,2,20120303,2304,  9.4860, 147.9612, 2745,     26.7,  28.4376,  34.3420,2,-999.0000,9,    196.7,2,     1.07,2,     0.00,2,     0.00,2,     0.09,2,   -999.0,9,   -999.0,9,-999.0000,9,  -999.00,       23
  49UF20120204,KS1202,  3354,  1,     33,  21992,2,20120303,2304,  9.4860, 147.9612, 2745,     51.6,  28.4361,  34.3414,2,-999.0000,9,    196.6,2,     1.03,2,     0.02,2,     0.00,2,     0.09,2,   -999.0,9,   -999.0,9,-999.0000,9,  -999.00,       22
  49UF20120204,KS1202,  3354,  1,     32,  21991,2,20120303,2304,  9.4860, 147.9612, 2745,     77.0,  28.4382,  34.3411,2,-999.0000,9,    196.5,2,     1.05,2,     0.02,2,     0.00,2,     0.09,2,   -999.0,9,   -999.0,9,-999.0000,9,  -999.00,       21
  49UF20120204,KS1202,  3354,  1,     31,  21990,2,20120303,2304,  9.4860, 147.9612, 2745,    101.8,  26.8379,  35.0840,2,  35.0857,2,    199.8,2,     1.00,2,     0.03,2,     0.00,2,     0.10,2,   -999.0,9,   -999.0,9,-999.0000,9,  -999.00,       18
  49UF20120204,KS1202,  3354,  1,     29,  21988,2,20120303,2304,  9.4860, 147.9612, 2745,    126.5,  23.2794,  35.0817,2,-999.0000,9,    178.5,2,     2.37,2,     1.72,2,     0.17,2,     0.28,2,   -999.0,9,   -999.0,9,-999.0000,9,  -999.00,       16
  49UF20120204,KS1202,  3354,  1,     28,  21987,2,20120303,2304,  9.4860, 147.9612, 2745,    151.7,  21.2706,  35.0459,2,-999.0000,9,    172.4,2,     3.11,2,     3.30,2,     0.10,2,     0.38,2,   -999.0,9,   -999.0,9,-999.0000,9,  -999.00,       15
  49UF20120204,KS1202,  3354,  1,     27,  21986,2,20120303,2304,  9.4860, 147.9612, 2745,    151.7,  21.2706,  35.0459,2,-999.0000,9,    172.0,2,     3.11,2,     3.22,2,     0.10,2,     0.38,2,   -999.0,9,   -999.0,9,-999.0000,9,  -999.00,       15
  49UF20120204,KS1202,  3354,  1,     24,  21983,2,20120303,2304,  9.4860, 147.9612, 2745,    200.9,  15.1439,  34.5924,2,  34.5932,2,    133.0,2,    13.68,2,    14.79,2,     0.01,2,     1.13,2,   -999.0,9,   -999.0,9,-999.0000,9,  -999.00,       13
  49UF20120204,KS1202,  3354,  1,     23,  21982,2,20120303,2304,  9.4860, 147.9612, 2745,    253.3,  11.8838,  34.4770,2,-999.0000,9,     96.4,6,    24.44,6,    23.78,6,     0.00,6,     1.75,6,   -999.0,9,   -999.0,9,-999.0000,9,  -999.00,       11
  49UF20120204,KS1202,  3354,  1,     22,  21981,2,20120303,2304,  9.4860, 147.9612, 2745,    302.4,   9.6310,  34.5564,2,-999.0000,9,     65.0,2,    35.34,2,    31.55,2,     0.00,2,     2.25,2,   -999.0,9,   -999.0,9,-999.0000,9,  -999.00,        8
  49UF20120204,KS1202,  3354,  1,     19,  21978,2,20120303,2304,  9.4860, 147.9612, 2745,    403.3,   8.2000,  34.5350,2,  34.5356,2,     72.3,2,    43.62,2,    33.50,2,     0.00,2,     2.39,2,   -999.0,9,   -999.0,9,-999.0000,9,  -999.00,        5
  49UF20120204,KS1202,  3354,  1,     18,  21977,2,20120303,2304,  9.4860, 147.9612, 2745,    505.2,   7.3052,  34.5304,2,-999.0000,9,     77.2,2,    50.08,2,    34.86,2,     0.00,2,     2.47,2,   -999.0,9,   -999.0,9,-999.0000,9,  -999.00,     2359
  49UF20120204,KS1202,  3354,  1,     17,  21976,2,20120303,2304,  9.4860, 147.9612, 2745,    608.5,   6.5437,  34.5231,2,  34.5227,2,     78.3,2,    59.02,2,    36.15,2,     0.00,2,     2.58,2,   -999.0,9,   -999.0,9,-999.0000,9,  -999.00,     2349
  49UF20120204,KS1202,  3354,  1,     15,  21974,2,20120303,2304,  9.4860, 147.9612, 2745,    708.4,   6.0294,  34.5277,2,-999.0000,9,     76.3,2,    66.57,2,    37.35,2,     0.00,2,     2.66,2,   -999.0,9,   -999.0,9,-999.0000,9,  -999.00,     2345
  49UF20120204,KS1202,  3354,  1,     14,  21973,2,20120303,2304,  9.4860, 147.9612, 2745,    807.7,   5.5849,  34.5299,2,  34.5289,2,     77.2,2,    73.41,2,    37.87,2,     0.00,2,     2.70,2,   -999.0,9,   -999.0,9,-999.0000,9,  -999.00,     2341
  49UF20120204,KS1202,  3354,  1,     13,  21972,2,20120303,2304,  9.4860, 147.9612, 2745,    911.4,   5.0787,  34.5373,2,-999.0000,9,     77.1,6,    81.32,6,    38.66,6,     0.00,6,     2.76,6,   -999.0,9,   -999.0,9,-999.0000,9,  -999.00,     2337
  49UF20120204,KS1202,  3354,  1,     11,  21970,2,20120303,2304,  9.4860, 147.9612, 2745,   1012.8,   4.6732,  34.5453,2,  34.5438,2,     78.4,2,    89.83,2,    39.12,2,     0.00,2,     2.78,2,   -999.0,9,   -999.0,9,-999.0000,9,  -999.00,     2331
  49UF20120204,KS1202,  3354,  1,     10,  21969,2,20120303,2304,  9.4860, 147.9612, 2745,   1213.6,   3.7829,  34.5667,2,  34.5666,2,     85.4,2,   107.05,2,    39.19,2,     0.00,2,     2.80,2,   -999.0,9,   -999.0,9,-999.0000,9,  -999.00,     2324
  49UF20120204,KS1202,  3354,  1,      9,  21968,2,20120303,2304,  9.4860, 147.9612, 2745,   1415.9,   3.1082,  34.5898,2,  34.5902,2,     93.8,2,   121.28,2,    39.25,2,     0.00,2,     2.79,2,   -999.0,9,   -999.0,9,-999.0000,9,  -999.00,     2318
  49UF20120204,KS1202,  3354,  1,      6,  21965,2,20120303,2304,  9.4860, 147.9612, 2745,   1620.4,   2.7560,  34.6055,2,  34.6057,2,    100.1,2,   128.16,2,    39.04,2,     0.00,2,     2.85,4,   -999.0,9,   -999.0,9,-999.0000,9,  -999.00,     2313
  49UF20120204,KS1202,  3354,  1,      4,  21963,2,20120303,2304,  9.4860, 147.9612, 2745,   1821.8,   2.3927,  34.6228,2,  34.6216,2,    105.8,2,   135.41,2,    38.97,2,     0.00,2,     2.74,2,   -999.0,9,   -999.0,9,-999.0000,9,  -999.00,     2309
  49UF20120204,KS1202,  3354,  1,      5,  21964,2,20120303,2304,  9.4860, 147.9612, 2745,   1821.8,   2.3927,  34.6228,2,-999.0000,9,    105.4,2,   135.66,2,    38.92,2,     0.00,2,     2.74,2,   -999.0,9,   -999.0,9,-999.0000,9,  -999.00,     2309
  49UF20120204,KS1202,  3354,  1,      1,  21960,2,20120303,2304,  9.4860, 147.9612, 2745,   2020.7,   2.2188,  34.6324,2,  34.6321,2,    110.1,2,   139.14,2,    38.91,2,     0.00,2,     2.73,2,   -999.0,9,   -999.0,9,-999.0000,9,  -999.00,     2304
  49UF20120204,KS1202,  3355,  1,     99,     99,2,20120304,2104,  9.4928, 146.9845, 4482,      0.0,  28.2753,  34.3790,2,-999.0000,9,    197.2,2,     1.03,2,     0.11,2,     0.00,2,     0.10,2,   -999.0,9,   -999.0,9,-999.0000,9,  -999.00,     2142
  49UF20120204,KS1202,  3355,  1,     35,  21994,2,20120304,2104,  9.4928, 146.9845, 4482,     11.4,  28.2816,  34.3789,2,-999.0000,9,    197.1,2,     0.99,2,     0.07,2,     0.00,2,     0.09,2,   -999.0,9,   -999.0,9,-999.0000,9,  -999.00,     2159
  49UF20120204,KS1202,  3355,  1,     34,  21993,2,20120304,2104,  9.4928, 146.9845, 4482,     25.4,  28.2858,  34.3776,2,-999.0000,9,    197.1,2,     0.99,2,     0.04,2,     0.00,2,     0.09,2,   -999.0,9,   -999.0,9,-999.0000,9,  -999.00,     2158
  49UF20120204,KS1202,  3355,  1,     33,  21992,2,20120304,2104,  9.4928, 146.9845, 4482,     50.9,  28.2865,  34.3775,2,-999.0000,9,    197.1,2,     0.99,2,     0.03,2,     0.00,2,     0.09,2,   -999.0,9,   -999.0,9,-999.0000,9,  -999.00,     2155
  49UF20120204,KS1202,  3355,  1,     32,  21991,2,20120304,2104,  9.4928, 146.9845, 4482,     73.9,  28.2928,  34.3790,2,-999.0000,9,    197.0,2,     1.01,2,     0.07,2,     0.00,2,     0.09,2,   -999.0,9,   -999.0,9,-999.0000,9,  -999.00,     2154
  49UF20120204,KS1202,  3355,  1,     31,  21990,2,20120304,2104,  9.4928, 146.9845, 4482,    102.0,  27.0074,  35.0899,2,-999.0000,9,    202.2,2,     0.96,2,     0.05,2,     0.00,2,     0.10,2,   -999.0,9,   -999.0,9,-999.0000,9,  -999.00,     2153
  49UF20120204,KS1202,  3355,  1,     29,  21988,2,20120304,2104,  9.4928, 146.9845, 4482,    124.3,  24.8882,  35.2060,2,-999.0000,9,    192.6,2,     1.34,2,     0.30,2,     0.02,2,     0.13,2,   -999.0,9,   -999.0,9,-999.0000,9,  -999.00,     2152
  49UF20120204,KS1202,  3355,  1,     28,  21987,2,20120304,2104,  9.4928, 146.9845, 4482,    124.3,  24.8882,  35.2060,2,-999.0000,9,    193.0,2,     1.32,2,     0.29,2,     0.02,2,     0.13,2,   -999.0,9,   -999.0,9,-999.0000,9,  -999.00,     2152
  49UF20120204,KS1202,  3355,  1,     27,  21986,2,20120304,2104,  9.4928, 146.9845, 4482,    152.7,  21.8796,  35.1366,2,-999.0000,9,    177.8,2,     2.42,2,     2.09,2,     0.10,2,     0.28,2,   -999.0,9,   -999.0,9,-999.0000,9,  -999.00,     2151
  49UF20120204,KS1202,  3355,  1,     24,  21983,2,20120304,2104,  9.4928, 146.9845, 4482,    202.8,  14.9487,  34.5826,2,-999.0000,9,    127.9,6,    14.15,6,    15.38,6,     0.01,6,     1.19,6,   -999.0,9,   -999.0,9,-999.0000,9,  -999.00,     2149
  49UF20120204,KS1202,  3355,  1,     23,  21982,2,20120304,2104,  9.4928, 146.9845, 4482,    253.3,  10.7730,  34.3541,2,-999.0000,9,    111.0,2,    26.24,2,    23.68,2,     0.00,2,     1.75,2,   -999.0,9,   -999.0,9,-999.0000,9,  -999.00,     2147
  49UF20120204,KS1202,  3355,  1,     22,  21981,2,20120304,2104,  9.4928, 146.9845, 4482,    304.8,   9.3603,  34.5319,2,-999.0000,9,     66.6,2,    36.96,2,    31.54,2,     0.00,2,     2.26,2,   -999.0,9,   -999.0,9,-999.0000,9,  -999.00,     2145
  49UF20120204,KS1202,  3355,  1,     19,  21978,2,20120304,2104,  9.4928, 146.9845, 4482,    402.7,   8.4649,  34.5454,2,-999.0000,9,     67.3,2,    41.80,2,    33.52,2,     0.00,2,     2.38,2,   -999.0,9,   -999.0,9,-999.0000,9,  -999.00,     2142
  49UF20120204,KS1202,  3355,  1,     18,  21977,2,20120304,2104,  9.4928, 146.9845, 4482,    503.6,   7.6420,  34.5467,2,-999.0000,9,     70.4,2,    47.32,2,    34.80,2,     0.00,2,     2.47,2,   -999.0,9,   -999.0,9,-999.0000,9,  -999.00,     2139
  49UF20120204,KS1202,  3355,  1,     17,  21976,2,20120304,2104,  9.4928, 146.9845, 4482,    608.7,   6.8518,  34.5309,2,-999.0000,9,     74.0,2,    55.72,2,    35.98,2,     0.00,2,     2.58,2,   -999.0,9,   -999.0,9,-999.0000,9,  -999.00,     2137
  49UF20120204,KS1202,  3355,  1,     15,  21974,2,20120304,2104,  9.4928, 146.9845, 4482,    704.9,   6.2000,  34.5137,2,-999.0000,9,     82.4,2,    63.11,2,    36.14,2,     0.00,2,     2.60,2,   -999.0,9,   -999.0,9,-999.0000,9,  -999.00,     2134
  49UF20120204,KS1202,  3355,  1,     14,  21973,2,20120304,2104,  9.4928, 146.9845, 4482,    808.1,   5.6381,  34.5314,2,-999.0000,9,     77.5,2,    71.97,2,    37.57,2,     0.00,2,     2.69,2,   -999.0,9,   -999.0,9,-999.0000,9,  -999.00,     2131
  49UF20120204,KS1202,  3355,  1,     13,  21972,2,20120304,2104,  9.4928, 146.9845, 4482,    908.6,   5.1277,  34.5370,2,-999.0000,9,     79.5,2,    81.02,2,    37.85,2,     0.00,2,     2.74,2,   -999.0,9,   -999.0,9,-999.0000,9,  -999.00,     2128
  49UF20120204,KS1202,  3355,  1,     11,  21970,2,20120304,2104,  9.4928, 146.9845, 4482,   1010.8,   4.5030,  34.5471,2,-999.0000,9,     81.8,6,    92.66,6,    38.71,6,     0.00,6,     2.78,6,   -999.0,9,   -999.0,9,-999.0000,9,  -999.00,     2126
  49UF20120204,KS1202,  3355,  1,     10,  21969,2,20120304,2104,  9.4928, 146.9845, 4482,   1211.3,   3.6533,  34.5704,2,-999.0000,9,     87.3,2,   109.33,2,    38.95,2,     0.00,2,     2.79,2,   -999.0,9,   -999.0,9,-999.0000,9,  -999.00,     2121
  49UF20120204,KS1202,  3355,  1,      9,  21968,2,20120304,2104,  9.4928, 146.9845, 4482,   1413.8,   3.0634,  34.5921,2,-999.0000,9,     95.7,2,   121.49,2,    38.87,2,     0.00,2,     2.77,2,   -999.0,9,   -999.0,9,-999.0000,9,  -999.00,     2117
  49UF20120204,KS1202,  3355,  1,      6,  21965,2,20120304,2104,  9.4928, 146.9845, 4482,   1615.8,   2.6359,  34.6104,2,-999.0000,9,    103.1,2,   130.18,2,    38.74,2,     0.00,2,     2.74,2,   -999.0,9,   -999.0,9,-999.0000,9,  -999.00,     2113
  49UF20120204,KS1202,  3355,  1,      5,  21964,2,20120304,2104,  9.4928, 146.9845, 4482,   1615.8,   2.6359,  34.6104,2,-999.0000,9,    103.3,2,   130.10,2,    38.72,2,     0.00,2,     2.75,2,   -999.0,9,   -999.0,9,-999.0000,9,  -999.00,     2112
  49UF20120204,KS1202,  3355,  1,      4,  21963,3,20120304,2104,  9.4928, 146.9845, 4482,   1815.8,   2.4073,  34.6222,2,-999.0000,9,    105.2,2,   134.70,2,    38.72,2,     0.00,2,     2.74,2,   -999.0,9,   -999.0,9,-999.0000,9,  -999.00,     2109
  49UF20120204,KS1202,  3355,  1,      1,  21960,2,20120304,2104,  9.4928, 146.9845, 4482,   2020.5,   2.1813,  34.6348,2,-999.0000,9,    111.0,2,   139.54,2,    38.58,2,     0.00,2,     2.72,2,   -999.0,9,   -999.0,9,-999.0000,9,  -999.00,     2104