BOTTLE,20191017PRINUNIVRMK
EXPOCODE,SECT_ID,STNNBR,CASTNO,SAMPNO,BTLNBR,BTLNBR_FLAG_W,DATE,TIME,LATITUDE,LONGITUDE,DEPTH,CTDPRS,CTDTMP,CTDSAL,CTDSAL_FLAG_W,SALNTY,SALNTY_FLAG_W,OXYGEN,OXYGEN_FLAG_W,SILCAT,SILCAT_FLAG_W,NITRAT,NITRAT_FLAG_W,NITRIT,NITRIT_FLAG_W,PHSPHT,PHSPHT_FLAG_W,TCARBN,TCARBN_FLAG_W,ALKALI,ALKALI_FLAG_W,PH_TOT,PH_TOT_FLAG_W,PH_TMP,BTL_TIME
,,,,,,,,,,,METERS,DBAR,ITS-90,PSS-78,,PSS-78,,UMOL/KG,,UMOL/KG,,UMOL/KG,,UMOL/KG,,UMOL/KG,,UMOL/KG,,UMOL/KG,,,,DEG C,
  49UF20120204,KS1202,  3294,  1,     99,     99,2,20120207,1658, 24.2588, 144.8245, 5288,      0.0,  23.3810,  35.1706,2,-999.0000,9,    212.1,2,     1.28,2,     0.17,2,     0.00,2,     0.02,2,   1980.0,2,   2301.7,2,   8.0786,2,    25.00,     1738
  49UF20120204,KS1202,  3294,  1,     35,  21994,2,20120207,1658, 24.2588, 144.8245, 5288,     11.4,  23.3853,  35.1707,2,-999.0000,9,    211.7,2,     1.23,2,     0.16,2,     0.00,2,     0.01,2,   1979.1,2,   2304.8,2,   8.0808,2,    25.00,     1756
  49UF20120204,KS1202,  3294,  1,     34,  21993,2,20120207,1658, 24.2588, 144.8245, 5288,     25.6,  23.3911,  35.1706,2,-999.0000,9,    211.8,2,     1.15,2,     0.22,2,     0.00,2,     0.01,2,   1980.0,2,   2301.4,2,   8.0814,2,    25.00,     1755
  49UF20120204,KS1202,  3294,  1,     33,  21992,2,20120207,1658, 24.2588, 144.8245, 5288,     49.8,  23.3927,  35.1693,2,-999.0000,9,    211.6,2,     1.24,2,     0.14,2,     0.00,2,     0.01,2,   1981.4,2,   2299.3,2,   8.0814,2,    25.00,     1752
  49UF20120204,KS1202,  3294,  1,     31,  21990,2,20120207,1658, 24.2588, 144.8245, 5288,     76.1,  23.3634,  35.1626,2,-999.0000,9,    211.7,2,     1.19,2,     0.18,2,     0.00,2,     0.01,2,   1983.1,2,   2300.4,2,   8.0780,2,    25.00,     1750
  49UF20120204,KS1202,  3294,  1,     30,  21989,2,20120207,1658, 24.2588, 144.8245, 5288,    101.2,  23.3395,  35.1594,2,-999.0000,9,    211.7,6,     1.26,6,     0.15,6,     0.00,6,     0.01,6,   1980.4,2,   2304.3,2,   8.0796,2,    25.00,     1749
  49UF20120204,KS1202,  3294,  1,     29,  21988,2,20120207,1658, 24.2588, 144.8245, 5288,    126.8,  23.3432,  35.1608,2,-999.0000,9,    211.5,2,     1.11,2,     0.16,2,     0.00,2,     0.01,2,   1984.7,2,   2302.1,2,   8.0795,2,    25.00,     1748
  49UF20120204,KS1202,  3294,  1,     26,  21985,2,20120207,1658, 24.2588, 144.8245, 5288,    152.1,  21.9142,  35.1835,2,-999.0000,9,    208.3,2,     1.51,2,     0.16,2,     0.10,2,     0.03,2,   2014.5,2,   2304.5,2,   8.0305,2,    25.00,     1747
  49UF20120204,KS1202,  3294,  1,     25,  21984,2,20120207,1658, 24.2588, 144.8245, 5288,    201.7,  19.3709,  34.8841,2,-999.0000,9,    205.2,2,     2.24,2,     1.43,2,     0.01,2,     0.11,2,   2023.3,2,   2284.1,2,   7.9865,2,    25.00,     1745
  49UF20120204,KS1202,  3294,  1,     24,  21983,2,20120207,1658, 24.2588, 144.8245, 5288,    201.7,  19.3709,  34.8841,2,-999.0000,9,    205.5,2,     2.26,2,     1.44,2,     0.01,2,     0.11,2,   2020.0,2,   2286.8,2,   7.9891,2,    25.00,     1745
  49UF20120204,KS1202,  3294,  1,     21,  21980,2,20120207,1658, 24.2588, 144.8245, 5288,    252.7,  17.7068,  34.7172,2,-999.0000,9,    206.8,2,     3.56,2,     3.95,2,     0.01,2,     0.27,2,   2027.9,2,   2275.6,2,   7.9546,2,    25.00,     1743
  49UF20120204,KS1202,  3294,  1,     20,  21979,2,20120207,1658, 24.2588, 144.8245, 5288,    303.6,  16.7973,  34.6713,2,-999.0000,9,    207.2,2,     4.85,2,     5.37,2,     0.01,2,     0.36,2,   2035.7,2,   2272.0,2,   7.9384,2,    25.00,     1741
  49UF20120204,KS1202,  3294,  1,     19,  21978,2,20120207,1658, 24.2588, 144.8245, 5288,    405.2,  14.9590,  34.5335,2,-999.0000,9,    201.5,2,     8.21,2,     8.37,2,     0.00,2,     0.58,2,   2058.6,6,   2269.1,6,   7.8819,2,    25.00,     1738
  49UF20120204,KS1202,  3294,  1,     17,  21976,2,20120207,1658, 24.2588, 144.8245, 5288,    504.5,  12.1194,  34.3402,2,-999.0000,9,    193.5,2,    15.85,2,    13.80,2,     0.00,2,     0.96,2,   2100.3,2,   2266.5,2,   7.7900,6,    25.00,     1735
  49UF20120204,KS1202,  3294,  1,     16,  21975,2,20120207,1658, 24.2588, 144.8245, 5288,    606.2,   9.8809,  34.1903,2,-999.0000,9,    177.6,2,    26.30,2,    19.21,2,     0.00,2,     1.35,2,   2137.6,2,   2266.7,2,   7.7031,2,    25.00,     1733
  49UF20120204,KS1202,  3294,  1,     15,  21974,2,20120207,1658, 24.2588, 144.8245, 5288,    707.6,   7.5850,  34.1071,2,-999.0000,9,    129.4,6,    45.87,6,    27.84,6,     0.00,6,     1.99,6,   2197.5,2,   2278.2,2,   7.5569,2,    25.00,     1730
  49UF20120204,KS1202,  3294,  1,     13,  21972,2,20120207,1658, 24.2588, 144.8245, 5288,    808.6,   5.8242,  34.1437,2,-999.0000,9,     81.6,2,    71.17,2,    35.35,2,     0.00,2,     2.53,2,   2266.7,2,   2301.4,2,   7.4472,2,    25.00,     1727
  49UF20120204,KS1202,  3294,  1,     12,  21971,2,20120207,1658, 24.2588, 144.8245, 5288,    909.6,   4.8374,  34.2387,2,-999.0000,9,     56.3,2,    91.69,2,    39.32,2,     0.00,2,     2.82,2,   2304.7,2,   2325.6,2,   7.3861,2,    25.00,     1725
  49UF20120204,KS1202,  3294,  1,     11,  21970,2,20120207,1658, 24.2588, 144.8245, 5288,   1011.9,   4.1774,  34.3251,2,-999.0000,9,     51.5,2,   106.80,2,    40.46,2,     0.00,2,     2.90,2,   2326.4,2,   2347.3,2,   7.3856,2,    25.00,     1722
  49UF20120204,KS1202,  3294,  1,      8,  21967,2,20120207,1658, 24.2588, 144.8245, 5288,   1212.5,   3.4142,  34.4292,2,-999.0000,9,     51.8,2,   125.37,2,    41.58,2,     0.00,2,     2.96,2,   2346.0,2,   2367.8,2,   7.3824,2,    25.00,     1717
  49UF20120204,KS1202,  3294,  1,      7,  21966,2,20120207,1658, 24.2588, 144.8245, 5288,   1212.5,   3.4142,  34.4292,2,-999.0000,9,     52.5,2,   125.58,2,    41.63,2,     0.00,2,     2.96,2,   2348.0,2,   2369.5,2,   7.3853,2,    25.00,     1717
  49UF20120204,KS1202,  3294,  1,      6,  21965,2,20120207,1658, 24.2588, 144.8245, 5288,   1414.5,   2.8297,  34.4943,2,-999.0000,9,     61.0,2,   138.42,2,    41.54,2,     0.00,2,     2.94,2,   2360.1,2,   2384.6,2,   7.4004,2,    25.00,     1712
  49UF20120204,KS1202,  3294,  1,      3,  21962,2,20120207,1658, 24.2588, 144.8245, 5288,   1617.9,   2.4474,  34.5383,2,-999.0000,9,     81.4,4,   145.65,2,    41.05,2,     0.00,2,     2.89,2,   -999.0,9,   -999.0,9,-999.0000,9,  -999.00,     1708
  49UF20120204,KS1202,  3294,  1,      4,  21963,2,20120207,1658, 24.2588, 144.8245, 5288,   1618.0,   2.4473,  34.5383,2,-999.0000,9,     71.3,2,   145.02,2,    40.91,2,     0.00,2,     2.89,2,   2358.1,2,   2394.0,2,   7.4233,6,    25.00,     1708
  49UF20120204,KS1202,  3294,  1,      2,  21961,2,20120207,1658, 24.2588, 144.8245, 5288,   1819.6,   2.1540,  34.5810,2,-999.0000,9,     89.0,2,   148.10,2,    40.03,2,     0.00,2,     2.81,2,   2352.8,2,   2401.0,2,   7.4568,2,    25.00,     1703
  49UF20120204,KS1202,  3294,  1,      1,  21960,2,20120207,1658, 24.2588, 144.8245, 5288,   2023.9,   1.9547,  34.6075,2,-999.0000,9,    100.0,2,   149.88,2,    39.49,2,     0.00,2,     2.76,2,   2349.3,2,   2401.8,2,   7.4758,2,    25.00,     1658
  49UF20120204,KS1202,  3296,  1,     99,     99,2,20120208,0247, 24.2545, 146.0587, 5700,      0.0,  23.7330,  35.1016,2,-999.0000,9,    210.9,2,     1.23,2,     0.03,2,     0.00,2,     0.03,2,   -999.0,9,   -999.0,9,-999.0000,9,  -999.00,      330
  49UF20120204,KS1202,  3296,  1,     35,  21994,2,20120208,0247, 24.2545, 146.0587, 5700,     11.0,  23.5746,  35.1056,2,-999.0000,9,    211.2,2,     1.10,2,     0.04,2,     0.00,2,     0.01,2,   -999.0,9,   -999.0,9,-999.0000,9,  -999.00,      349
  49UF20120204,KS1202,  3296,  1,     34,  21993,2,20120208,0247, 24.2545, 146.0587, 5700,     25.5,  23.5531,  35.1034,2,-999.0000,9,    211.4,2,     1.19,2,     0.04,2,     0.00,2,     0.02,2,   -999.0,9,   -999.0,9,-999.0000,9,  -999.00,      348
  49UF20120204,KS1202,  3296,  1,     33,  21992,2,20120208,0247, 24.2545, 146.0587, 5700,     50.4,  23.5421,  35.1047,2,-999.0000,9,    211.1,2,     1.16,2,     0.06,2,     0.00,2,     0.01,2,   -999.0,9,   -999.0,9,-999.0000,9,  -999.00,      347
  49UF20120204,KS1202,  3296,  1,     31,  21990,2,20120208,0247, 24.2545, 146.0587, 5700,     76.1,  22.6428,  35.1003,2,-999.0000,9,    209.4,2,     1.50,2,     0.08,2,     0.01,2,     0.03,2,   -999.0,9,   -999.0,9,-999.0000,9,  -999.00,      345
  49UF20120204,KS1202,  3296,  1,     30,  21989,2,20120208,0247, 24.2545, 146.0587, 5700,    102.3,  21.5474,  35.0819,2,-999.0000,9,    205.3,2,     1.77,2,     0.26,2,     0.10,2,     0.05,2,   -999.0,9,   -999.0,9,-999.0000,9,  -999.00,      344
  49UF20120204,KS1202,  3296,  1,     29,  21988,2,20120208,0247, 24.2545, 146.0587, 5700,    126.7,  20.6918,  34.9882,2,-999.0000,9,    205.4,2,     1.96,2,     0.68,2,     0.05,2,     0.07,2,   -999.0,9,   -999.0,9,-999.0000,9,  -999.00,      343
  49UF20120204,KS1202,  3296,  1,     26,  21985,2,20120208,0247, 24.2545, 146.0587, 5700,    150.8,  19.7731,  34.8833,2,-999.0000,9,    203.7,2,     2.35,2,     1.35,2,     0.02,2,     0.12,2,   -999.0,9,   -999.0,9,-999.0000,9,  -999.00,      341
  49UF20120204,KS1202,  3296,  1,     25,  21984,2,20120208,0247, 24.2545, 146.0587, 5700,    150.8,  19.7731,  34.8833,2,-999.0000,9,    203.2,2,     2.38,2,     1.40,2,     0.02,2,     0.12,2,   -999.0,9,   -999.0,9,-999.0000,9,  -999.00,      341
  49UF20120204,KS1202,  3296,  1,     24,  21983,2,20120208,0247, 24.2545, 146.0587, 5700,    202.2,  18.2759,  34.7607,2,-999.0000,9,    199.8,2,     3.32,6,     3.55,6,     0.01,6,     0.25,6,   -999.0,9,   -999.0,9,-999.0000,9,  -999.00,      335
  49UF20120204,KS1202,  3296,  1,     21,  21980,2,20120208,0247, 24.2545, 146.0587, 5700,    254.1,  17.5156,  34.7091,2,-999.0000,9,    205.2,2,     3.83,2,     4.22,2,     0.01,2,     0.30,2,   -999.0,9,   -999.0,9,-999.0000,9,  -999.00,      333
  49UF20120204,KS1202,  3296,  1,     20,  21979,2,20120208,0247, 24.2545, 146.0587, 5700,    306.3,  16.7793,  34.6670,2,-999.0000,9,    199.0,2,     5.04,2,     5.69,2,     0.00,2,     0.40,2,   -999.0,9,   -999.0,9,-999.0000,9,  -999.00,      331
  49UF20120204,KS1202,  3296,  1,     19,  21978,2,20120208,0247, 24.2545, 146.0587, 5700,    402.5,  14.2830,  34.4973,2,-999.0000,9,    192.2,2,    10.27,2,    10.22,2,     0.00,2,     0.72,2,   -999.0,9,   -999.0,9,-999.0000,9,  -999.00,      328
  49UF20120204,KS1202,  3296,  1,     17,  21976,2,20120208,0247, 24.2545, 146.0587, 5700,    505.2,  11.1965,  34.2783,2,-999.0000,9,    185.5,2,    19.74,2,    15.98,2,     0.00,2,     1.14,2,   -999.0,9,   -999.0,9,-999.0000,9,  -999.00,      325
  49UF20120204,KS1202,  3296,  1,     16,  21975,2,20120208,0247, 24.2545, 146.0587, 5700,    606.0,   8.4380,  34.1316,2,-999.0000,9,    144.4,2,    38.07,2,    24.80,2,     0.00,2,     1.77,2,   -999.0,9,   -999.0,9,-999.0000,9,  -999.00,      322
  49UF20120204,KS1202,  3296,  1,     15,  21974,2,20120208,0247, 24.2545, 146.0587, 5700,    707.3,   6.4695,  34.0955,2,-999.0000,9,    108.3,2,    59.82,2,    31.67,2,     0.00,2,     2.28,2,   -999.0,9,   -999.0,9,-999.0000,9,  -999.00,      319
  49UF20120204,KS1202,  3296,  1,     13,  21972,2,20120208,0247, 24.2545, 146.0587, 5700,    806.2,   5.4685,  34.1697,2,-999.0000,9,     70.0,6,    78.82,6,    36.98,6,     0.00,6,     2.67,6,   -999.0,9,   -999.0,9,-999.0000,9,  -999.00,      313
  49UF20120204,KS1202,  3296,  1,     12,  21971,2,20120208,0247, 24.2545, 146.0587, 5700,    908.4,   4.7059,  34.2656,2,-999.0000,9,     54.6,2,    95.75,2,    39.54,2,     0.00,2,     2.84,2,   -999.0,9,   -999.0,9,-999.0000,9,  -999.00,      310
  49UF20120204,KS1202,  3296,  1,     11,  21970,2,20120208,0247, 24.2545, 146.0587, 5700,    908.4,   4.7059,  34.2656,2,-999.0000,9,     55.0,2,    95.49,2,    39.44,2,     0.00,2,     2.84,2,   -999.0,9,   -999.0,9,-999.0000,9,  -999.00,      310
  49UF20120204,KS1202,  3296,  1,      8,  21967,2,20120208,0247, 24.2545, 146.0587, 5700,   1009.6,   3.9654,  34.3419,2,-999.0000,9,     47.2,2,   112.70,2,    41.08,2,     0.00,2,     2.95,2,   -999.0,9,   -999.0,9,-999.0000,9,  -999.00,      308
  49UF20120204,KS1202,  3296,  1,      7,  21966,2,20120208,0247, 24.2545, 146.0587, 5700,   1212.5,   3.3377,  34.4385,2,-999.0000,9,     52.8,2,   127.44,2,    41.42,2,     0.00,2,     2.95,2,   -999.0,9,   -999.0,9,-999.0000,9,  -999.00,      304
  49UF20120204,KS1202,  3296,  1,      6,  21965,2,20120208,0247, 24.2545, 146.0587, 5700,   1413.9,   2.8860,  34.4953,2,-999.0000,9,     64.8,2,   136.17,2,    40.96,2,     0.00,2,     2.92,2,   -999.0,9,   -999.0,9,-999.0000,9,  -999.00,      300
  49UF20120204,KS1202,  3296,  1,      4,  21963,2,20120208,0247, 24.2545, 146.0587, 5700,   1615.6,   2.4736,  34.5397,2,-999.0000,9,     73.7,2,   144.16,2,    40.72,2,     0.00,2,     2.87,2,   -999.0,9,   -999.0,9,-999.0000,9,  -999.00,      256
  49UF20120204,KS1202,  3296,  1,      3,  21962,2,20120208,0247, 24.2545, 146.0587, 5700,   1616.8,   2.4718,  34.5397,2,-999.0000,9,     74.2,2,   144.38,2,    40.61,2,     0.00,2,     2.87,2,   -999.0,9,   -999.0,9,-999.0000,9,  -999.00,      256
  49UF20120204,KS1202,  3296,  1,      2,  21961,2,20120208,0247, 24.2545, 146.0587, 5700,   1820.6,   2.1742,  34.5781,2,-999.0000,9,     84.2,2,   149.31,2,    40.31,2,     0.00,2,     2.83,2,   -999.0,9,   -999.0,9,-999.0000,9,  -999.00,      251
  49UF20120204,KS1202,  3296,  1,      1,  21960,2,20120208,0247, 24.2545, 146.0587, 5700,   2023.4,   2.0151,  34.6027,2,-999.0000,9,     98.0,2,   148.95,2,    39.35,2,     0.00,2,     2.76,2,   -999.0,9,   -999.0,9,-999.0000,9,  -999.00,      247
  49UF20120204,KS1202,  3298,  1,     99,     99,2,20120208,1323, 24.2427, 147.2402, 5818,      0.0,  22.7645,  35.0927,2,-999.0000,9,    215.7,2,     1.32,2,     0.13,2,     0.00,2,     0.02,2,   -999.0,9,   -999.0,9,-999.0000,9,  -999.00,     1406
  49UF20120204,KS1202,  3298,  1,     35,  21994,2,20120208,1323, 24.2427, 147.2402, 5818,     10.5,  22.7122,  35.1258,2,  35.1432,4,    215.4,2,     1.38,2,     0.10,2,     0.00,2,     0.01,2,   -999.0,9,   -999.0,9,-999.0000,9,  -999.00,     1430
  49UF20120204,KS1202,  3298,  1,     34,  21993,2,20120208,1323, 24.2427, 147.2402, 5818,     24.9,  22.4882,  35.1493,2,-999.0000,9,    215.6,2,     1.43,2,     0.08,2,     0.00,2,     0.01,2,   -999.0,9,   -999.0,9,-999.0000,9,  -999.00,     1429
  49UF20120204,KS1202,  3298,  1,     33,  21992,2,20120208,1323, 24.2427, 147.2402, 5818,     49.7,  22.4438,  35.1530,2,-999.0000,9,    215.8,2,     1.34,2,     0.09,2,     0.00,2,     0.01,2,   -999.0,9,   -999.0,9,-999.0000,9,  -999.00,     1425
  49UF20120204,KS1202,  3298,  1,     31,  21990,2,20120208,1323, 24.2427, 147.2402, 5818,     76.3,  22.4192,  35.1523,2,-999.0000,9,    216.5,2,     1.34,2,     0.06,2,     0.00,2,     0.01,2,   -999.0,9,   -999.0,9,-999.0000,9,  -999.00,     1423
  49UF20120204,KS1202,  3298,  1,     30,  21989,2,20120208,1323, 24.2427, 147.2402, 5818,    100.6,  21.2983,  35.0008,2,  34.9988,2,    216.8,2,     1.78,2,     0.12,2,     0.00,2,     0.03,2,   -999.0,9,   -999.0,9,-999.0000,9,  -999.00,     1422
  49UF20120204,KS1202,  3298,  1,     29,  21988,2,20120208,1323, 24.2427, 147.2402, 5818,    100.6,  21.2983,  35.0008,2,-999.0000,9,    216.5,2,     1.80,2,     0.04,2,     0.00,2,     0.02,2,   -999.0,9,   -999.0,9,-999.0000,9,  -999.00,     1422
  49UF20120204,KS1202,  3298,  1,     26,  21985,2,20120208,1323, 24.2427, 147.2402, 5818,    126.2,  19.6780,  34.8801,2,-999.0000,9,    208.8,2,     2.17,2,     0.65,2,     0.06,2,     0.07,2,   -999.0,9,   -999.0,9,-999.0000,9,  -999.00,     1420
  49UF20120204,KS1202,  3298,  1,     25,  21984,2,20120208,1323, 24.2427, 147.2402, 5818,    150.4,  18.9836,  34.8281,2,-999.0000,9,    204.9,2,     2.48,2,     1.37,2,     0.03,2,     0.12,2,   -999.0,9,   -999.0,9,-999.0000,9,  -999.00,     1419
  49UF20120204,KS1202,  3298,  1,     24,  21983,2,20120208,1323, 24.2427, 147.2402, 5818,    201.3,  17.6467,  34.7164,2,  34.7156,2,    205.7,2,     3.61,2,     4.00,2,     0.01,2,     0.27,2,   -999.0,9,   -999.0,9,-999.0000,9,  -999.00,     1416
  49UF20120204,KS1202,  3298,  1,     21,  21980,2,20120208,1323, 24.2427, 147.2402, 5818,    252.9,  17.1676,  34.7032,2,-999.0000,9,    210.4,2,     4.15,2,     4.53,2,     0.00,2,     0.30,2,   -999.0,9,   -999.0,9,-999.0000,9,  -999.00,     1414
  49UF20120204,KS1202,  3298,  1,     20,  21979,3,20120208,1323, 24.2427, 147.2402, 5818,    302.1,  16.3376,  34.6411,2,-999.0000,9,    198.9,2,     6.13,2,     6.66,2,     0.00,2,     0.46,2,   -999.0,9,   -999.0,9,-999.0000,9,  -999.00,     1411
  49UF20120204,KS1202,  3298,  1,     19,  21978,2,20120208,1323, 24.2427, 147.2402, 5818,    405.0,  13.3758,  34.4370,2,  34.4411,4,    193.4,6,    12.47,6,    11.51,6,     0.00,6,     0.80,6,   -999.0,9,   -999.0,9,-999.0000,9,  -999.00,     1408
  49UF20120204,KS1202,  3298,  1,     17,  21976,2,20120208,1323, 24.2427, 147.2402, 5818,    503.6,  10.5192,  34.2414,2,-999.0000,9,    184.4,2,    24.07,2,    17.52,2,     0.00,2,     1.24,2,   -999.0,9,   -999.0,9,-999.0000,9,  -999.00,     1405
  49UF20120204,KS1202,  3298,  1,     16,  21975,2,20120208,1323, 24.2427, 147.2402, 5818,    604.8,   7.5014,  34.0900,2,  34.0920,2,    143.5,2,    47.54,2,    26.58,2,     0.00,2,     1.91,2,   -999.0,9,   -999.0,9,-999.0000,9,  -999.00,     1402
  49UF20120204,KS1202,  3298,  1,     15,  21974,2,20120208,1323, 24.2427, 147.2402, 5818,    706.2,   5.9991,  34.0801,2,-999.0000,9,    108.0,2,    66.21,2,    32.41,2,     0.00,2,     2.34,2,   -999.0,9,   -999.0,9,-999.0000,9,  -999.00,     1358
  49UF20120204,KS1202,  3298,  1,     13,  21972,2,20120208,1323, 24.2427, 147.2402, 5818,    804.9,   4.9394,  34.1593,2,  34.1597,2,     71.0,2,    87.70,2,    37.42,2,     0.00,2,     2.70,2,   -999.0,9,   -999.0,9,-999.0000,9,  -999.00,     1355
  49UF20120204,KS1202,  3298,  1,     12,  21971,2,20120208,1323, 24.2427, 147.2402, 5818,    804.9,   4.9394,  34.1593,2,-999.0000,9,     71.2,2,    88.01,2,    37.59,2,     0.00,2,     2.70,2,   -999.0,9,   -999.0,9,-999.0000,9,  -999.00,     1355
  49UF20120204,KS1202,  3298,  1,     11,  21970,2,20120208,1323, 24.2427, 147.2402, 5818,    908.0,   4.1565,  34.2618,2,-999.0000,9,     51.2,6,   107.23,6,    40.32,6,     0.00,6,     2.90,6,   -999.0,9,   -999.0,9,-999.0000,9,  -999.00,     1351
  49UF20120204,KS1202,  3298,  1,      8,  21967,2,20120208,1323, 24.2427, 147.2402, 5818,   1010.4,   3.5811,  34.3615,2,  34.3593,2,     43.5,2,   122.43,2,    41.70,2,     0.00,2,     2.98,2,   -999.0,9,   -999.0,9,-999.0000,9,  -999.00,     1349
  49UF20120204,KS1202,  3298,  1,      7,  21966,2,20120208,1323, 24.2427, 147.2402, 5818,   1210.4,   2.9767,  34.4511,2,  34.4511,2,     47.0,2,   137.52,2,    42.13,2,     0.00,2,     3.00,2,   -999.0,9,   -999.0,9,-999.0000,9,  -999.00,     1344
  49UF20120204,KS1202,  3298,  1,      6,  21965,2,20120208,1323, 24.2427, 147.2402, 5818,   1414.4,   2.5953,  34.5224,2,  34.5225,2,     64.9,2,   143.20,2,    41.19,2,     0.00,2,     2.92,2,   -999.0,9,   -999.0,9,-999.0000,9,  -999.00,     1339
  49UF20120204,KS1202,  3298,  1,      3,  21962,2,20120208,1323, 24.2427, 147.2402, 5818,   1615.9,   2.2230,  34.5699,2,-999.0000,9,     83.1,2,   147.31,2,    39.99,2,     0.00,2,     2.84,2,   -999.0,9,   -999.0,9,-999.0000,9,  -999.00,     1333
  49UF20120204,KS1202,  3298,  1,      4,  21963,2,20120208,1323, 24.2427, 147.2402, 5818,   1616.8,   2.2226,  34.5699,2,  34.5703,2,     83.2,2,   147.34,2,    40.06,2,     0.00,2,     2.84,2,   -999.0,9,   -999.0,9,-999.0000,9,  -999.00,     1334
  49UF20120204,KS1202,  3298,  1,      2,  21961,2,20120208,1323, 24.2427, 147.2402, 5818,   1819.5,   2.0381,  34.5971,2,  34.5974,2,     96.4,2,   148.23,2,    39.30,2,     0.00,2,     2.78,2,   -999.0,9,   -999.0,9,-999.0000,9,  -999.00,     1329
  49UF20120204,KS1202,  3298,  1,      1,  21960,2,20120208,1323, 24.2427, 147.2402, 5818,   2023.5,   1.8966,  34.6184,2,  34.6185,2,    107.3,2,   148.42,2,    38.76,2,     0.00,4,     2.73,2,   -999.0,9,   -999.0,9,-999.0000,9,  -999.00,     1323