BOTTLE,20191017PRINUNIVRMK
EXPOCODE,SECT_ID,STNNBR,CASTNO,SAMPNO,BTLNBR,BTLNBR_FLAG_W,DATE,TIME,LATITUDE,LONGITUDE,DEPTH,CTDPRS,CTDTMP,CTDSAL,CTDSAL_FLAG_W,SALNTY,SALNTY_FLAG_W,OXYGEN,OXYGEN_FLAG_W,SILCAT,SILCAT_FLAG_W,NITRAT,NITRAT_FLAG_W,NITRIT,NITRIT_FLAG_W,PHSPHT,PHSPHT_FLAG_W,TCARBN,TCARBN_FLAG_W,ALKALI,ALKALI_FLAG_W,PH_TOT,PH_TOT_FLAG_W,PH_TMP,BTL_TIME
,,,,,,,,,,,METERS,DBAR,ITS-90,PSS-78,,PSS-78,,UMOL/KG,,UMOL/KG,,UMOL/KG,,UMOL/KG,,UMOL/KG,,UMOL/KG,,UMOL/KG,,,,DEG C,
  49UF20120204,KS1202,  3365,  1,     99,     99,2,20120309,0422,  8.9928, 136.9677, 3437,      0.0,  28.7094,  34.0245,2,-999.0000,9,    196.4,2,     1.30,2,     0.03,2,     0.00,2,     0.06,2,   -999.0,9,   -999.0,9,-999.0000,9,  -999.00,      525
  49UF20120204,KS1202,  3365,  1,     35,  21994,2,20120309,0422,  8.9928, 136.9677, 3437,      9.9,  28.6406,  34.0238,2,  34.0240,2,    196.8,2,     1.25,2,     0.00,2,     0.00,2,     0.05,2,   -999.0,9,   -999.0,9,-999.0000,9,  -999.00,      539
  49UF20120204,KS1202,  3365,  1,     34,  21993,2,20120309,0422,  8.9928, 136.9677, 3437,     27.3,  28.4921,  34.0369,2,-999.0000,9,    197.0,2,     1.21,2,     0.00,2,     0.00,2,     0.05,2,   -999.0,9,   -999.0,9,-999.0000,9,  -999.00,      538
  49UF20120204,KS1202,  3365,  1,     33,  21992,2,20120309,0422,  8.9928, 136.9677, 3437,     52.1,  28.4427,  34.0810,2,-999.0000,9,    196.9,2,     1.22,2,     0.00,2,     0.00,2,     0.06,2,   -999.0,9,   -999.0,9,-999.0000,9,  -999.00,      534
  49UF20120204,KS1202,  3365,  1,     32,  21991,2,20120309,0422,  8.9928, 136.9677, 3437,     75.9,  28.3945,  34.1855,2,-999.0000,9,    196.2,2,     1.35,2,     0.00,2,     0.00,2,     0.07,2,   -999.0,9,   -999.0,9,-999.0000,9,  -999.00,      533
  49UF20120204,KS1202,  3365,  1,     31,  21990,2,20120309,0422,  8.9928, 136.9677, 3437,     98.5,  27.7225,  34.7405,2,  34.7159,4,    191.5,2,     1.35,2,     0.04,2,     0.10,2,     0.12,2,   -999.0,9,   -999.0,9,-999.0000,9,  -999.00,      532
  49UF20120204,KS1202,  3365,  1,     29,  21988,2,20120309,0422,  8.9928, 136.9677, 3437,    126.3,  23.3375,  35.0704,2,-999.0000,9,    175.9,2,     2.31,2,     1.61,2,     0.17,2,     0.29,2,   -999.0,9,   -999.0,9,-999.0000,9,  -999.00,      530
  49UF20120204,KS1202,  3365,  1,     28,  21987,2,20120309,0422,  8.9928, 136.9677, 3437,    152.2,  20.3747,  34.9254,2,-999.0000,9,    161.8,2,     4.80,2,     5.48,2,     0.02,2,     0.52,2,   -999.0,9,   -999.0,9,-999.0000,9,  -999.00,      529
  49UF20120204,KS1202,  3365,  1,     27,  21986,2,20120309,0422,  8.9928, 136.9677, 3437,    202.0,  14.3661,  34.5719,2,  34.5760,4,    116.7,2,    17.21,2,    17.97,2,     0.01,2,     1.35,2,   -999.0,9,   -999.0,9,-999.0000,9,  -999.00,      526
  49UF20120204,KS1202,  3365,  1,     24,  21983,2,20120309,0422,  8.9928, 136.9677, 3437,    251.9,  10.6287,  34.4903,2,-999.0000,9,     87.3,6,    30.55,6,    27.11,6,     0.00,6,     1.96,6,   -999.0,9,   -999.0,9,-999.0000,9,  -999.00,      523
  49UF20120204,KS1202,  3365,  1,     23,  21982,2,20120309,0422,  8.9928, 136.9677, 3437,    303.9,   9.6797,  34.5071,2,-999.0000,9,     76.8,2,    35.04,2,    29.86,2,     0.00,2,     2.14,2,   -999.0,9,   -999.0,9,-999.0000,9,  -999.00,      520
  49UF20120204,KS1202,  3365,  1,     22,  21981,2,20120309,0422,  8.9928, 136.9677, 3437,    404.2,   7.8607,  34.4583,2,  34.4573,2,     80.1,2,    47.88,2,    32.88,2,     0.00,2,     2.35,2,   -999.0,9,   -999.0,9,-999.0000,9,  -999.00,      516
  49UF20120204,KS1202,  3365,  1,     19,  21978,2,20120309,0422,  8.9928, 136.9677, 3437,    504.2,   7.2422,  34.5217,2,-999.0000,9,     86.4,2,    49.32,2,    33.92,2,     0.00,2,     2.42,2,   -999.0,9,   -999.0,9,-999.0000,9,  -999.00,      511
  49UF20120204,KS1202,  3365,  1,     18,  21977,2,20120309,0422,  8.9928, 136.9677, 3437,    608.2,   6.5509,  34.5164,2,  34.5173,2,     88.7,2,    56.52,2,    35.09,2,     0.00,2,     2.50,2,   -999.0,9,   -999.0,9,-999.0000,9,  -999.00,      507
  49UF20120204,KS1202,  3365,  1,     17,  21976,2,20120309,0422,  8.9928, 136.9677, 3437,    707.4,   5.9316,  34.5221,2,-999.0000,9,     86.7,2,    65.07,2,    36.30,2,     0.00,2,     2.59,2,   -999.0,9,   -999.0,9,-999.0000,9,  -999.00,      502
  49UF20120204,KS1202,  3365,  1,     15,  21974,2,20120309,0422,  8.9928, 136.9677, 3437,    807.5,   5.4276,  34.5272,2,  34.5271,2,     87.8,2,    73.52,2,    36.77,2,     0.00,2,     2.64,2,   -999.0,9,   -999.0,9,-999.0000,9,  -999.00,      456
  49UF20120204,KS1202,  3365,  1,     14,  21973,2,20120309,0422,  8.9928, 136.9677, 3437,    907.7,   4.9820,  34.5378,2,-999.0000,9,     86.5,2,    82.12,2,    37.83,2,     0.00,2,     2.70,2,   -999.0,9,   -999.0,9,-999.0000,9,  -999.00,      452
  49UF20120204,KS1202,  3365,  1,     13,  21972,2,20120309,0422,  8.9928, 136.9677, 3437,    907.7,   4.9820,  34.5378,2,-999.0000,9,     86.5,2,    82.04,2,    37.72,2,     0.00,2,     2.69,2,   -999.0,9,   -999.0,9,-999.0000,9,  -999.00,      452
  49UF20120204,KS1202,  3365,  1,     11,  21970,2,20120309,0422,  8.9928, 136.9677, 3437,   1008.6,   4.5528,  34.5474,2,-999.0000,9,     87.3,2,    90.51,2,    38.16,2,     0.00,2,     2.72,2,   -999.0,9,   -999.0,9,-999.0000,9,  -999.00,      448
  49UF20120204,KS1202,  3365,  1,     10,  21969,2,20120309,0422,  8.9928, 136.9677, 3437,   1008.6,   4.5528,  34.5474,2,  34.5480,2,     87.5,2,    90.07,2,    38.11,2,     0.00,2,     2.72,2,   -999.0,9,   -999.0,9,-999.0000,9,  -999.00,      448
  49UF20120204,KS1202,  3365,  1,      9,  21968,2,20120309,0422,  8.9928, 136.9677, 3437,   1210.6,   3.8363,  34.5658,2,  34.5656,2,     90.6,6,   105.01,6,    38.49,6,     0.00,6,     2.76,6,   -999.0,9,   -999.0,9,-999.0000,9,  -999.00,      441
  49UF20120204,KS1202,  3365,  1,      6,  21965,2,20120309,0422,  8.9928, 136.9677, 3437,   1415.2,   3.2957,  34.5837,2,  34.5841,2,     95.5,2,   115.59,2,    38.79,2,     0.00,2,     2.76,2,   -999.0,9,   -999.0,9,-999.0000,9,  -999.00,      436
  49UF20120204,KS1202,  3365,  1,      5,  21964,2,20120309,0422,  8.9928, 136.9677, 3437,   1615.2,   2.8129,  34.5997,2,  34.6022,4,    101.2,2,   125.85,2,    38.78,2,     0.00,2,     2.74,2,   -999.0,9,   -999.0,9,-999.0000,9,  -999.00,      431
  49UF20120204,KS1202,  3365,  1,      4,  21963,2,20120309,0422,  8.9928, 136.9677, 3437,   1815.9,   2.4508,  34.6175,2,  34.6177,2,    108.0,2,   132.06,2,    38.46,2,     0.00,2,     2.72,2,   -999.0,9,   -999.0,9,-999.0000,9,  -999.00,      426
  49UF20120204,KS1202,  3365,  1,      1,  21960,2,20120309,0422,  8.9928, 136.9677, 3437,   2017.4,   2.1674,  34.6333,2,  34.6339,2,    115.9,2,   136.89,2,    38.16,2,     0.00,2,     2.68,2,   -999.0,9,   -999.0,9,-999.0000,9,  -999.00,      422