BOTTLE,20191017PRINUNIVRMK
EXPOCODE,SECT_ID,STNNBR,CASTNO,SAMPNO,BTLNBR,BTLNBR_FLAG_W,DATE,TIME,LATITUDE,LONGITUDE,DEPTH,CTDPRS,CTDTMP,CTDSAL,CTDSAL_FLAG_W,SALNTY,SALNTY_FLAG_W,OXYGEN,OXYGEN_FLAG_W,SILCAT,SILCAT_FLAG_W,NITRAT,NITRAT_FLAG_W,NITRIT,NITRIT_FLAG_W,PHSPHT,PHSPHT_FLAG_W,TCARBN,TCARBN_FLAG_W,ALKALI,ALKALI_FLAG_W,PH_TOT,PH_TOT_FLAG_W,PH_TMP,BTL_TIME
,,,,,,,,,,,METERS,DBAR,ITS-90,PSS-78,,PSS-78,,UMOL/KG,,UMOL/KG,,UMOL/KG,,UMOL/KG,,UMOL/KG,,UMOL/KG,,UMOL/KG,,,,DEG C,
  49UF20120204,KS1202,  3322,  1,     99,     99,2,20120213,2037, 23.9775, 165.0055, 6053,      0.0,  23.5586,  35.3529,2,-999.0000,9,    212.7,2,     1.13,2,     0.00,2,     0.00,2,     0.02,2,   -999.0,9,   -999.0,9,-999.0000,9,  -999.00,     2124
  49UF20120204,KS1202,  3322,  1,     36,  21995,2,20120213,2037, 23.9775, 165.0055, 6053,     11.3,  23.5618,  35.3526,2,-999.0000,9,    212.6,2,     1.15,2,     0.00,2,     0.00,2,     0.01,2,   -999.0,9,   -999.0,9,-999.0000,9,  -999.00,     2157
  49UF20120204,KS1202,  3322,  1,     35,  21994,2,20120213,2037, 23.9775, 165.0055, 6053,     25.3,  23.5596,  35.3527,2,-999.0000,9,   -999.0,9,  -999.00,9,  -999.00,9,  -999.00,9,  -999.00,9,   -999.0,9,   -999.0,9,-999.0000,9,  -999.00,     2156
  49UF20120204,KS1202,  3322,  1,     34,  21993,2,20120213,2037, 23.9775, 165.0055, 6053,     26.3,  23.5619,  35.3522,2,-999.0000,9,    212.2,2,     1.11,2,     0.00,2,     0.00,2,     0.01,2,   -999.0,9,   -999.0,9,-999.0000,9,  -999.00,     2156
  49UF20120204,KS1202,  3322,  1,     33,  21992,2,20120213,2037, 23.9775, 165.0055, 6053,     50.4,  23.5689,  35.3519,2,-999.0000,9,   -999.0,9,  -999.00,9,  -999.00,9,  -999.00,9,  -999.00,9,   -999.0,9,   -999.0,9,-999.0000,9,  -999.00,     2152
  49UF20120204,KS1202,  3322,  1,     32,  21991,2,20120213,2037, 23.9775, 165.0055, 6053,     50.9,  23.5686,  35.3519,2,-999.0000,9,    212.5,2,     1.15,2,     0.00,2,     0.00,2,     0.01,2,   -999.0,9,   -999.0,9,-999.0000,9,  -999.00,     2152
  49UF20120204,KS1202,  3322,  1,     30,  21989,2,20120213,2037, 23.9775, 165.0055, 6053,     76.3,  23.5707,  35.3518,2,-999.0000,9,    212.4,2,     1.13,2,     0.00,2,     0.00,2,     0.01,2,   -999.0,9,   -999.0,9,-999.0000,9,  -999.00,     2150
  49UF20120204,KS1202,  3322,  1,     31,  21990,2,20120213,2037, 23.9775, 165.0055, 6053,     76.7,  23.5718,  35.3519,2,-999.0000,9,   -999.0,9,  -999.00,9,  -999.00,9,  -999.00,9,  -999.00,9,   -999.0,9,   -999.0,9,-999.0000,9,  -999.00,     2151
  49UF20120204,KS1202,  3322,  1,     28,  21987,2,20120213,2037, 23.9775, 165.0055, 6053,    101.2,  23.5204,  35.3453,2,-999.0000,9,    212.1,2,     1.18,2,     0.00,2,     0.00,2,     0.02,2,   -999.0,9,   -999.0,9,-999.0000,9,  -999.00,     2149
  49UF20120204,KS1202,  3322,  1,     29,  21988,2,20120213,2037, 23.9775, 165.0055, 6053,    101.3,  23.5229,  35.3455,2,-999.0000,9,   -999.0,9,  -999.00,9,  -999.00,9,  -999.00,9,  -999.00,9,   -999.0,9,   -999.0,9,-999.0000,9,  -999.00,     2149
  49UF20120204,KS1202,  3322,  1,     27,  21986,2,20120213,2037, 23.9775, 165.0055, 6053,    126.4,  21.5623,  35.1084,2,-999.0000,9,    217.9,2,     1.58,2,     0.00,2,     0.00,2,     0.02,2,   -999.0,9,   -999.0,9,-999.0000,9,  -999.00,     2148
  49UF20120204,KS1202,  3322,  1,     25,  21984,2,20120213,2037, 23.9775, 165.0055, 6053,    151.6,  19.7464,  34.9590,2,-999.0000,9,    207.3,6,     2.12,6,     0.53,6,     0.08,6,     0.10,6,   -999.0,9,   -999.0,9,-999.0000,9,  -999.00,     2147
  49UF20120204,KS1202,  3322,  1,     26,  21985,2,20120213,2037, 23.9775, 165.0055, 6053,    155.1,  19.7087,  34.9545,2,-999.0000,9,   -999.0,9,  -999.00,9,  -999.00,9,  -999.00,9,  -999.00,9,   -999.0,9,   -999.0,9,-999.0000,9,  -999.00,     2147
  49UF20120204,KS1202,  3322,  1,     22,  21981,2,20120213,2037, 23.9775, 165.0055, 6053,    202.9,  17.9176,  34.7619,2,-999.0000,9,    207.6,2,     3.08,2,     2.72,2,     0.01,2,     0.22,2,   -999.0,9,   -999.0,9,-999.0000,9,  -999.00,     2144
  49UF20120204,KS1202,  3322,  1,     23,  21982,2,20120213,2037, 23.9775, 165.0055, 6053,    203.9,  17.8481,  34.7552,2,-999.0000,9,   -999.0,9,  -999.00,9,  -999.00,9,  -999.00,9,  -999.00,9,   -999.0,9,   -999.0,9,-999.0000,9,  -999.00,     2145
  49UF20120204,KS1202,  3322,  1,     24,  21983,2,20120213,2037, 23.9775, 165.0055, 6053,    206.4,  17.7527,  34.7438,2,-999.0000,9,   -999.0,9,  -999.00,9,  -999.00,9,  -999.00,9,  -999.00,9,   -999.0,9,   -999.0,9,-999.0000,9,  -999.00,     2145
  49UF20120204,KS1202,  3322,  1,     21,  21980,2,20120213,2037, 23.9775, 165.0055, 6053,    252.1,  16.5760,  34.6492,2,-999.0000,9,    210.6,2,     4.78,2,     4.98,2,     0.00,2,     0.35,2,   -999.0,9,   -999.0,9,-999.0000,9,  -999.00,     2142
  49UF20120204,KS1202,  3322,  1,     19,  21978,2,20120213,2037, 23.9775, 165.0055, 6053,    305.4,  15.3068,  34.5570,2,-999.0000,9,    201.5,2,     7.41,2,     7.53,2,     0.00,2,     0.53,2,   -999.0,9,   -999.0,9,-999.0000,9,  -999.00,     2140
  49UF20120204,KS1202,  3322,  1,     20,  21979,2,20120213,2037, 23.9775, 165.0055, 6053,    305.9,  15.2642,  34.5546,2,-999.0000,9,   -999.0,9,  -999.00,9,  -999.00,9,  -999.00,9,  -999.00,9,   -999.0,9,   -999.0,9,-999.0000,9,  -999.00,     2141
  49UF20120204,KS1202,  3322,  1,     18,  21977,2,20120213,2037, 23.9775, 165.0055, 6053,    405.8,  12.0105,  34.3190,2,-999.0000,9,   -999.0,9,  -999.00,9,  -999.00,9,  -999.00,9,  -999.00,9,   -999.0,9,   -999.0,9,-999.0000,9,  -999.00,     2136
  49UF20120204,KS1202,  3322,  1,     16,  21975,2,20120213,2037, 23.9775, 165.0055, 6053,    406.0,  12.0142,  34.3190,2,-999.0000,9,    199.9,2,    14.37,2,    12.61,2,     0.00,2,     0.90,2,   -999.0,9,   -999.0,9,-999.0000,9,  -999.00,     2136
  49UF20120204,KS1202,  3322,  1,     17,  21976,2,20120213,2037, 23.9775, 165.0055, 6053,    406.1,  12.0182,  34.3192,2,-999.0000,9,   -999.0,9,  -999.00,9,  -999.00,9,  -999.00,9,  -999.00,9,   -999.0,9,   -999.0,9,-999.0000,9,  -999.00,     2136
  49UF20120204,KS1202,  3322,  1,     14,  21973,2,20120213,2037, 23.9775, 165.0055, 6053,    505.1,   9.4537,  34.1515,2,-999.0000,9,    178.8,2,    27.24,2,    19.41,2,     0.00,2,     1.39,2,   -999.0,9,   -999.0,9,-999.0000,9,  -999.00,     2130
  49UF20120204,KS1202,  3322,  1,     15,  21974,2,20120213,2037, 23.9775, 165.0055, 6053,    507.1,   9.4235,  34.1496,2,-999.0000,9,   -999.0,9,  -999.00,9,  -999.00,9,  -999.00,9,  -999.00,9,   -999.0,9,   -999.0,9,-999.0000,9,  -999.00,     2130
  49UF20120204,KS1202,  3322,  1,     12,  21971,2,20120213,2037, 23.9775, 165.0055, 6053,    608.4,   7.1521,  34.0831,2,-999.0000,9,    120.0,2,    50.73,2,    29.29,2,     0.00,2,     2.11,2,   -999.0,9,   -999.0,9,-999.0000,9,  -999.00,     2127
  49UF20120204,KS1202,  3322,  1,     13,  21972,2,20120213,2037, 23.9775, 165.0055, 6053,    610.3,   7.0404,  34.0846,2,-999.0000,9,   -999.0,9,  -999.00,9,  -999.00,9,  -999.00,9,  -999.00,9,   -999.0,9,   -999.0,9,-999.0000,9,  -999.00,     2127
  49UF20120204,KS1202,  3322,  1,     11,  21970,2,20120213,2037, 23.9775, 165.0055, 6053,    709.2,   5.4801,  34.1121,2,-999.0000,9,     77.8,2,    75.57,2,    35.90,2,     0.00,2,     2.59,2,   -999.0,9,   -999.0,9,-999.0000,9,  -999.00,     2124
  49UF20120204,KS1202,  3322,  1,      8,  21967,2,20120213,2037, 23.9775, 165.0055, 6053,    807.8,   4.5638,  34.2088,2,-999.0000,9,     46.4,2,    96.63,2,    40.23,2,     0.00,2,     2.89,2,   -999.0,9,   -999.0,9,-999.0000,9,  -999.00,     2120
  49UF20120204,KS1202,  3322,  1,      9,  21968,2,20120213,2037, 23.9775, 165.0055, 6053,    809.5,   4.5611,  34.2095,2,-999.0000,9,   -999.0,9,  -999.00,9,  -999.00,9,  -999.00,9,  -999.00,9,   -999.0,9,   -999.0,9,-999.0000,9,  -999.00,     2120
  49UF20120204,KS1202,  3322,  1,     10,  21969,2,20120213,2037, 23.9775, 165.0055, 6053,    809.9,   4.5604,  34.2095,2,-999.0000,9,   -999.0,9,  -999.00,9,  -999.00,9,  -999.00,9,  -999.00,9,   -999.0,9,   -999.0,9,-999.0000,9,  -999.00,     2120
  49UF20120204,KS1202,  3322,  1,      7,  21966,2,20120213,2037, 23.9775, 165.0055, 6053,    911.5,   4.0372,  34.3059,2,-999.0000,9,     36.9,6,   110.32,6,    41.67,6,     0.00,6,     3.00,6,   -999.0,9,   -999.0,9,-999.0000,9,  -999.00,     2117
  49UF20120204,KS1202,  3322,  1,      6,  21965,2,20120213,2037, 23.9775, 165.0055, 6053,   1010.0,   3.6962,  34.3985,2,-999.0000,9,     41.0,2,   118.86,2,    41.89,2,     0.00,2,     3.00,2,   -999.0,9,   -999.0,9,-999.0000,9,  -999.00,     2114
  49UF20120204,KS1202,  3322,  1,      5,  21964,2,20120213,2037, 23.9775, 165.0055, 6053,   1216.2,   3.2245,  34.4859,2,-999.0000,9,     56.2,2,   127.95,2,    41.10,2,     0.00,2,     2.94,2,   -999.0,9,   -999.0,9,-999.0000,9,  -999.00,     2108
  49UF20120204,KS1202,  3322,  1,      4,  21963,2,20120213,2037, 23.9775, 165.0055, 6053,   1416.0,   2.7341,  34.5330,2,-999.0000,9,     65.9,2,   139.11,2,    40.93,2,     0.00,2,     2.91,2,   -999.0,9,   -999.0,9,-999.0000,9,  -999.00,     2101
  49UF20120204,KS1202,  3322,  1,      3,  21962,4,20120213,2037, 23.9775, 165.0055, 6053,   1615.1,   2.3831,  34.5724,2,-999.0000,9,     71.0,4,   140.80,4,    40.45,4,     0.00,4,     2.89,4,   -999.0,9,   -999.0,9,-999.0000,9,  -999.00,     2057
  49UF20120204,KS1202,  3322,  1,      2,  21961,2,20120213,2037, 23.9775, 165.0055, 6053,   1820.2,   2.1239,  34.6003,2,-999.0000,9,     91.2,2,   148.42,2,    39.59,2,     0.00,2,     2.80,2,   -999.0,9,   -999.0,9,-999.0000,9,  -999.00,     2052
  49UF20120204,KS1202,  3322,  1,      1,  21960,2,20120213,2037, 23.9775, 165.0055, 6053,   2022.0,   1.9351,  34.6217,2,-999.0000,9,    101.0,2,   150.64,2,    39.22,2,     0.00,2,     2.75,2,   -999.0,9,   -999.0,9,-999.0000,9,  -999.00,     2037
  49UF20120204,KS1202,  3323,  1,     99,     99,2,20120214,0325, 22.9833, 164.9985, 5801,      0.0,  23.3731,  35.2956,2,-999.0000,9,    214.0,2,     1.47,2,     0.00,2,     0.00,2,     0.02,2,   -999.0,9,   -999.0,9,-999.0000,9,  -999.00,      406
  49UF20120204,KS1202,  3323,  1,     36,  21995,2,20120214,0325, 22.9833, 164.9985, 5801,     10.8,  23.3778,  35.2949,2,  35.2952,2,    213.6,2,     1.43,2,     0.00,2,     0.00,2,     0.01,2,   -999.0,9,   -999.0,9,-999.0000,9,  -999.00,      419
  49UF20120204,KS1202,  3323,  1,     35,  21994,2,20120214,0325, 22.9833, 164.9985, 5801,     26.6,  23.3807,  35.2952,2,-999.0000,9,    213.8,2,     1.40,2,     0.00,2,     0.00,2,     0.01,2,   -999.0,9,   -999.0,9,-999.0000,9,  -999.00,      418
  49UF20120204,KS1202,  3323,  1,     34,  21993,2,20120214,0325, 22.9833, 164.9985, 5801,     48.9,  23.3668,  35.2937,2,-999.0000,9,    213.7,2,     1.47,2,     0.01,2,     0.00,2,     0.01,2,   -999.0,9,   -999.0,9,-999.0000,9,  -999.00,      414
  49UF20120204,KS1202,  3323,  1,     32,  21991,2,20120214,0325, 22.9833, 164.9985, 5801,     77.4,  22.9108,  35.2685,2,-999.0000,9,    215.4,2,     1.55,2,     0.00,2,     0.00,2,     0.02,2,   -999.0,9,   -999.0,9,-999.0000,9,  -999.00,      413
  49UF20120204,KS1202,  3323,  1,     31,  21990,2,20120214,0325, 22.9833, 164.9985, 5801,    100.5,  22.8248,  35.2585,2,  35.2587,2,    215.5,2,     1.57,2,     0.00,2,     0.00,2,     0.01,2,   -999.0,9,   -999.0,9,-999.0000,9,  -999.00,      412
  49UF20120204,KS1202,  3323,  1,     30,  21989,2,20120214,0325, 22.9833, 164.9985, 5801,    126.2,  20.4535,  35.0021,2,-999.0000,9,    215.6,2,     2.12,2,     0.06,2,     0.01,2,     0.04,2,   -999.0,9,   -999.0,9,-999.0000,9,  -999.00,      412
  49UF20120204,KS1202,  3323,  1,     27,  21986,2,20120214,0325, 22.9833, 164.9985, 5801,    149.6,  18.7369,  34.8511,2,-999.0000,9,    210.4,6,     2.66,6,     0.67,6,     0.09,6,     0.11,6,   -999.0,9,   -999.0,9,-999.0000,9,  -999.00,      411
  49UF20120204,KS1202,  3323,  1,     26,  21985,2,20120214,0325, 22.9833, 164.9985, 5801,    202.2,  16.8260,  34.6650,2,-999.0000,9,    214.4,2,     4.43,2,     4.46,2,     0.01,2,     0.32,2,   -999.0,9,   -999.0,9,-999.0000,9,  -999.00,      409
  49UF20120204,KS1202,  3323,  1,     25,  21984,2,20120214,0325, 22.9833, 164.9985, 5801,    202.2,  16.8260,  34.6650,2,  34.6643,2,    214.6,2,     4.43,2,     4.46,2,     0.01,2,     0.31,2,   -999.0,9,   -999.0,9,-999.0000,9,  -999.00,      409
  49UF20120204,KS1202,  3323,  1,     22,  21981,2,20120214,0325, 22.9833, 164.9985, 5801,    253.3,  15.4874,  34.5706,2,-999.0000,9,    202.7,2,     7.32,2,     7.20,2,     0.00,2,     0.51,2,   -999.0,9,   -999.0,9,-999.0000,9,  -999.00,      407
  49UF20120204,KS1202,  3323,  1,     21,  21980,2,20120214,0325, 22.9833, 164.9985, 5801,    300.7,  13.9809,  34.4584,2,-999.0000,9,    201.7,2,    10.10,2,     9.55,2,     0.00,2,     0.68,2,   -999.0,9,   -999.0,9,-999.0000,9,  -999.00,      406
  49UF20120204,KS1202,  3323,  1,     20,  21979,2,20120214,0325, 22.9833, 164.9985, 5801,    405.6,  11.0907,  34.2588,2,  34.2608,2,    193.7,2,    18.43,2,    15.09,2,     0.00,2,     1.08,2,   -999.0,9,   -999.0,9,-999.0000,9,  -999.00,      404
  49UF20120204,KS1202,  3323,  1,     18,  21977,2,20120214,0325, 22.9833, 164.9985, 5801,    506.0,   8.6585,  34.1148,2,-999.0000,9,    163.2,2,    33.32,2,    22.45,2,     0.00,2,     1.61,2,   -999.0,9,   -999.0,9,-999.0000,9,  -999.00,      401
  49UF20120204,KS1202,  3323,  1,     17,  21976,2,20120214,0325, 22.9833, 164.9985, 5801,    605.7,   6.2311,  34.0763,2,  34.0765,2,    101.1,2,    62.21,2,    32.45,2,     0.00,2,     2.34,2,   -999.0,9,   -999.0,9,-999.0000,9,  -999.00,      359
  49UF20120204,KS1202,  3323,  1,     16,  21975,2,20120214,0325, 22.9833, 164.9985, 5801,    706.0,   5.0339,  34.1576,2,-999.0000,9,     61.0,2,    84.51,2,    38.08,2,     0.00,2,     2.75,2,   -999.0,9,   -999.0,9,-999.0000,9,  -999.00,      356
  49UF20120204,KS1202,  3323,  1,     14,  21973,2,20120214,0325, 22.9833, 164.9985, 5801,    805.4,   4.4943,  34.2510,2,  34.2523,2,     44.4,2,    98.27,2,    40.21,2,     0.00,2,     2.92,2,   -999.0,9,   -999.0,9,-999.0000,9,  -999.00,      354
  49UF20120204,KS1202,  3323,  1,     13,  21972,2,20120214,0325, 22.9833, 164.9985, 5801,    908.8,   4.0271,  34.3641,2,-999.0000,9,     44.4,2,   109.29,2,    41.04,2,     0.00,2,     2.96,2,   -999.0,9,   -999.0,9,-999.0000,9,  -999.00,      351
  49UF20120204,KS1202,  3323,  1,     12,  21971,2,20120214,0325, 22.9833, 164.9985, 5801,   1011.3,   3.6800,  34.4410,2,  34.4396,2,     53.4,2,   116.94,2,    40.77,2,     0.00,2,     2.95,2,   -999.0,9,   -999.0,9,-999.0000,9,  -999.00,      349
  49UF20120204,KS1202,  3323,  1,      9,  21968,2,20120214,0325, 22.9833, 164.9985, 5801,   1213.2,   3.0877,  34.5022,2,-999.0000,9,     62.6,2,   129.81,2,    40.64,2,     0.00,2,     2.91,2,   -999.0,9,   -999.0,9,-999.0000,9,  -999.00,      344
  49UF20120204,KS1202,  3323,  1,      8,  21967,2,20120214,0325, 22.9833, 164.9985, 5801,   1213.2,   3.0877,  34.5022,2,  34.5024,2,     62.6,2,   129.74,2,    41.25,3,     0.00,2,     2.92,2,   -999.0,9,   -999.0,9,-999.0000,9,  -999.00,      344
  49UF20120204,KS1202,  3323,  1,      7,  21966,2,20120214,0325, 22.9833, 164.9985, 5801,   1415.9,   2.7236,  34.5409,2,  34.5399,2,     73.3,6,   136.32,6,    40.07,6,     0.00,6,     2.87,6,   -999.0,9,   -999.0,9,-999.0000,9,  -999.00,      340
  49UF20120204,KS1202,  3323,  1,      5,  21964,2,20120214,0325, 22.9833, 164.9985, 5801,   1617.0,   2.3741,  34.5772,2,  34.5787,2,     85.5,2,   142.77,2,    39.60,2,     0.00,2,     2.83,2,   -999.0,9,   -999.0,9,-999.0000,9,  -999.00,      336
  49UF20120204,KS1202,  3323,  1,      4,  21963,2,20120214,0325, 22.9833, 164.9985, 5801,   1816.6,   2.1239,  34.6018,2,  34.6020,2,     93.6,2,   146.64,2,    39.26,2,     0.00,2,     2.78,2,   -999.0,9,   -999.0,9,-999.0000,9,  -999.00,      331
  49UF20120204,KS1202,  3323,  1,      2,  21961,2,20120214,0325, 22.9833, 164.9985, 5801,   2023.1,   1.9521,  34.6223,2,-999.0000,5,    103.7,2,   148.84,2,    38.68,2,     0.00,2,     2.75,2,   -999.0,9,   -999.0,9,-999.0000,9,  -999.00,      325