BOTTLE,20191017PRINUNIVRMK
EXPOCODE,SECT_ID,STNNBR,CASTNO,SAMPNO,BTLNBR,BTLNBR_FLAG_W,DATE,TIME,LATITUDE,LONGITUDE,DEPTH,CTDPRS,CTDTMP,CTDSAL,CTDSAL_FLAG_W,SALNTY,SALNTY_FLAG_W,OXYGEN,OXYGEN_FLAG_W,SILCAT,SILCAT_FLAG_W,NITRAT,NITRAT_FLAG_W,NITRIT,NITRIT_FLAG_W,PHSPHT,PHSPHT_FLAG_W,TCARBN,TCARBN_FLAG_W,ALKALI,ALKALI_FLAG_W,PH_TOT,PH_TOT_FLAG_W,PH_TMP,BTL_TIME
,,,,,,,,,,,METERS,DBAR,ITS-90,PSS-78,,PSS-78,,UMOL/KG,,UMOL/KG,,UMOL/KG,,UMOL/KG,,UMOL/KG,,UMOL/KG,,UMOL/KG,,,,DEG C,
  49UF20120204,KS1202,  3336,  1,     99,     99,2,20120218,0437,  9.9928, 163.9735,   -9,      0.0,  27.9156,  34.2303,2,-999.0000,9,    199.0,2,     0.89,2,     0.11,2,     0.00,2,     0.08,2,   1917.0,2,   2249.6,2,   8.1083,2,    25.00,      512
  49UF20120204,KS1202,  3336,  1,     36,  21995,2,20120218,0437,  9.9928, 163.9735,   -9,     10.7,  27.9171,  34.2292,2,-999.0000,9,    198.5,2,     0.89,2,     0.09,2,     0.00,2,     0.08,2,   1918.4,2,   2242.9,2,   8.1056,2,    25.00,      541
  49UF20120204,KS1202,  3336,  1,     35,  21994,2,20120218,0437,  9.9928, 163.9735,   -9,     25.1,  27.9131,  34.2285,2,-999.0000,9,   -999.0,9,  -999.00,9,  -999.00,9,  -999.00,9,  -999.00,9,   -999.0,9,   -999.0,9,-999.0000,9,  -999.00,      540
  49UF20120204,KS1202,  3336,  1,     34,  21993,2,20120218,0437,  9.9928, 163.9735,   -9,     25.7,  27.9111,  34.2283,2,-999.0000,9,    198.4,2,     0.87,2,     0.09,2,     0.00,2,     0.08,2,   1918.3,2,   2244.1,2,   8.1040,2,    25.00,      540
  49UF20120204,KS1202,  3336,  1,     33,  21992,2,20120218,0437,  9.9928, 163.9735,   -9,     48.8,  27.8040,  34.2498,2,-999.0000,9,   -999.0,9,  -999.00,9,  -999.00,9,  -999.00,9,  -999.00,9,   -999.0,9,   -999.0,9,-999.0000,9,  -999.00,      536
  49UF20120204,KS1202,  3336,  1,     32,  21991,2,20120218,0437,  9.9928, 163.9735,   -9,     49.0,  27.8476,  34.2320,2,-999.0000,9,    198.8,2,     0.90,2,     0.11,2,     0.00,2,     0.08,2,   1920.6,2,   2240.4,2,   8.1046,2,    25.00,      536
  49UF20120204,KS1202,  3336,  1,     30,  21989,2,20120218,0437,  9.9928, 163.9735,   -9,     74.1,  27.5497,  34.3924,2,-999.0000,9,    200.0,2,     0.85,2,     0.14,2,     0.00,2,     0.11,2,   1932.8,2,   2254.9,2,   8.0987,2,    25.00,      535
  49UF20120204,KS1202,  3336,  1,     31,  21990,2,20120218,0437,  9.9928, 163.9735,   -9,     75.3,  27.5474,  34.3926,2,-999.0000,9,   -999.0,9,  -999.00,9,  -999.00,9,  -999.00,9,  -999.00,9,   -999.0,9,   -999.0,9,-999.0000,9,  -999.00,      535
  49UF20120204,KS1202,  3336,  1,     29,  21988,2,20120218,0437,  9.9928, 163.9735,   -9,     99.9,  27.4818,  34.4067,2,-999.0000,9,   -999.0,9,  -999.00,9,  -999.00,9,  -999.00,9,  -999.00,9,   -999.0,9,   -999.0,9,-999.0000,9,  -999.00,      533
  49UF20120204,KS1202,  3336,  1,     28,  21987,2,20120218,0437,  9.9928, 163.9735,   -9,    100.3,  27.4744,  34.4080,2,-999.0000,9,    199.6,2,     0.85,2,     0.15,2,     0.00,2,     0.11,2,   1937.9,2,   2256.8,2,   8.0978,2,    25.00,      533
  49UF20120204,KS1202,  3336,  1,     27,  21986,2,20120218,0437,  9.9928, 163.9735,   -9,    125.5,  25.2750,  34.9558,2,-999.0000,9,    202.5,2,     1.11,2,     0.18,2,     0.02,2,     0.15,2,   2007.8,2,   2298.6,2,   8.0370,2,    25.00,      532
  49UF20120204,KS1202,  3336,  1,     25,  21984,2,20120218,0437,  9.9928, 163.9735,   -9,    151.2,  20.9911,  35.0990,2,-999.0000,9,    182.9,6,     2.15,6,     2.14,6,     0.06,6,     0.27,6,   2055.9,2,   2303.3,2,   7.9493,2,    25.00,      530
  49UF20120204,KS1202,  3336,  1,     26,  21985,2,20120218,0437,  9.9928, 163.9735,   -9,    152.2,  20.9085,  35.0935,2,-999.0000,9,   -999.0,9,  -999.00,9,  -999.00,9,  -999.00,9,  -999.00,9,   -999.0,9,   -999.0,9,-999.0000,9,  -999.00,      530
  49UF20120204,KS1202,  3336,  1,     22,  21981,2,20120218,0437,  9.9928, 163.9735,   -9,    201.7,  16.1812,  34.6515,2,-999.0000,9,    162.6,2,     7.62,2,     9.17,2,     0.01,2,     0.74,2,   2097.3,2,   2278.0,2,   7.8286,2,    25.00,      528
  49UF20120204,KS1202,  3336,  1,     23,  21982,2,20120218,0437,  9.9928, 163.9735,   -9,    203.0,  16.1053,  34.6463,2,-999.0000,9,   -999.0,9,  -999.00,9,  -999.00,9,  -999.00,9,  -999.00,9,   -999.0,9,   -999.0,9,-999.0000,9,  -999.00,      528
  49UF20120204,KS1202,  3336,  1,     24,  21983,2,20120218,0437,  9.9928, 163.9735,   -9,    203.2,  16.1181,  34.6490,2,-999.0000,9,   -999.0,9,  -999.00,9,  -999.00,9,  -999.00,9,  -999.00,9,   -999.0,9,   -999.0,9,-999.0000,9,  -999.00,      528
  49UF20120204,KS1202,  3336,  1,     21,  21980,2,20120218,0437,  9.9928, 163.9735,   -9,    252.4,  11.6736,  34.3895,2,-999.0000,9,    103.3,2,    22.71,2,    22.50,2,     0.00,2,     1.70,2,   2178.4,2,   2273.8,2,   7.6074,2,    25.00,      526
  49UF20120204,KS1202,  3336,  1,     19,  21978,2,20120218,0437,  9.9928, 163.9735,   -9,    303.3,   9.6670,  34.5256,2,-999.0000,9,     54.2,2,    34.99,2,    31.62,2,     0.00,2,     2.30,2,   2240.6,2,   2294.1,2,   7.4839,2,    25.00,      523
  49UF20120204,KS1202,  3336,  1,     20,  21979,2,20120218,0437,  9.9928, 163.9735,   -9,    305.4,   9.5985,  34.5299,2,-999.0000,9,   -999.0,9,  -999.00,9,  -999.00,9,  -999.00,9,  -999.00,9,   -999.0,9,   -999.0,9,-999.0000,9,  -999.00,      524
  49UF20120204,KS1202,  3336,  1,     16,  21975,2,20120218,0437,  9.9928, 163.9735,   -9,    403.9,   8.3184,  34.5523,2,-999.0000,9,     58.8,2,    42.91,2,    34.39,2,     0.00,2,     2.45,2,   2255.6,6,   2300.8,2,   7.4808,2,    25.00,      519
  49UF20120204,KS1202,  3336,  1,     17,  21976,2,20120218,0437,  9.9928, 163.9735,   -9,    407.0,   8.2771,  34.5542,2,-999.0000,9,   -999.0,9,  -999.00,9,  -999.00,9,  -999.00,9,  -999.00,9,   -999.0,9,   -999.0,9,-999.0000,9,  -999.00,      519
  49UF20120204,KS1202,  3336,  1,     18,  21977,2,20120218,0437,  9.9928, 163.9735,   -9,    409.1,   8.2611,  34.5540,2,-999.0000,9,   -999.0,9,  -999.00,9,  -999.00,9,  -999.00,9,  -999.00,9,   -999.0,9,   -999.0,9,-999.0000,9,  -999.00,      519
  49UF20120204,KS1202,  3336,  1,     15,  21974,2,20120218,0437,  9.9928, 163.9735,   -9,    506.1,   7.5196,  34.5456,2,-999.0000,9,   -999.0,9,  -999.00,9,  -999.00,9,  -999.00,9,  -999.00,9,   -999.0,9,   -999.0,9,-999.0000,9,  -999.00,      515
  49UF20120204,KS1202,  3336,  1,     14,  21973,2,20120218,0437,  9.9928, 163.9735,   -9,    506.1,   7.5212,  34.5457,2,-999.0000,9,     62.5,2,    48.72,2,    35.87,3,     0.00,2,     2.54,2,   2261.8,2,   2306.7,2,   7.4710,6,    25.00,      515
  49UF20120204,KS1202,  3336,  1,     12,  21971,2,20120218,0437,  9.9928, 163.9735,   -9,    607.4,   6.8506,  34.5375,2,-999.0000,9,     58.5,2,    56.25,2,    37.28,2,     0.00,2,     2.68,2,   2280.1,2,   2315.3,2,   7.4543,2,    25.00,      511
  49UF20120204,KS1202,  3336,  1,     13,  21972,2,20120218,0437,  9.9928, 163.9735,   -9,    607.8,   6.8464,  34.5376,2,-999.0000,9,   -999.0,9,  -999.00,9,  -999.00,9,  -999.00,9,  -999.00,9,   -999.0,9,   -999.0,9,-999.0000,9,  -999.00,      511
  49UF20120204,KS1202,  3336,  1,     11,  21970,2,20120218,0437,  9.9928, 163.9735,   -9,    706.7,   6.3012,  34.5344,2,-999.0000,9,     57.6,2,    62.98,2,    38.37,2,     0.00,2,     2.76,2,   2289.6,2,   2323.4,2,   7.4416,2,    25.00,      508
  49UF20120204,KS1202,  3336,  1,      8,  21967,2,20120218,0437,  9.9928, 163.9735,   -9,    807.8,   5.6665,  34.5332,2,-999.0000,9,     62.1,2,    72.67,2,    39.13,2,     0.00,2,     2.80,2,   2297.5,2,   2332.1,2,   7.4439,2,    25.00,      504
  49UF20120204,KS1202,  3336,  1,      9,  21968,2,20120218,0437,  9.9928, 163.9735,   -9,    808.5,   5.6670,  34.5333,2,-999.0000,9,   -999.0,9,  -999.00,9,  -999.00,9,  -999.00,9,  -999.00,9,   -999.0,9,   -999.0,9,-999.0000,9,  -999.00,      504
  49UF20120204,KS1202,  3336,  1,     10,  21969,2,20120218,0437,  9.9928, 163.9735,   -9,    808.7,   5.6659,  34.5333,2,-999.0000,9,   -999.0,9,  -999.00,9,  -999.00,9,  -999.00,9,  -999.00,9,   -999.0,9,   -999.0,9,-999.0000,9,  -999.00,      504
  49UF20120204,KS1202,  3336,  1,      7,  21966,2,20120218,0437,  9.9928, 163.9735,   -9,    909.1,   5.1822,  34.5372,2,-999.0000,9,     67.8,2,    80.10,2,    39.01,2,     0.00,2,     2.81,2,   2302.7,2,   2344.0,2,   7.4489,2,    25.00,      501
  49UF20120204,KS1202,  3336,  1,      6,  21965,2,20120218,0437,  9.9928, 163.9735,   -9,   1007.9,   4.6428,  34.5461,2,-999.0000,9,     69.6,2,    91.01,2,    39.75,2,     0.00,2,     2.86,2,   2315.4,2,   2350.1,2,   7.4462,2,    25.00,      458
  49UF20120204,KS1202,  3336,  1,      5,  21964,2,20120218,0437,  9.9928, 163.9735,   -9,   1212.7,   3.9179,  34.5646,2,-999.0000,9,     76.9,2,   105.46,2,    39.80,2,     0.00,2,     2.87,2,   2328.2,2,   2368.1,2,   7.4528,2,    25.00,      454
  49UF20120204,KS1202,  3336,  1,      4,  21963,2,20120218,0437,  9.9928, 163.9735,   -9,   1414.8,   3.2112,  34.5898,2,-999.0000,9,     86.8,2,   118.96,6,    39.61,6,     0.00,6,     2.84,6,   2337.7,2,   2381.3,2,   7.4682,2,    25.00,      449
  49UF20120204,KS1202,  3336,  1,      3,  21962,2,20120218,0437,  9.9928, 163.9735,   -9,   1615.1,   2.8063,  34.6052,2,-999.0000,9,     92.6,2,   128.47,2,    39.38,2,     0.00,2,     2.82,2,   2343.2,6,   2393.3,2,   7.4754,2,    25.00,      445
  49UF20120204,KS1202,  3336,  1,      2,  21961,2,20120218,0437,  9.9928, 163.9735,   -9,   1817.5,   2.4764,  34.6212,2,-999.0000,9,     98.6,2,   135.81,2,    39.13,2,     0.00,2,     2.79,2,   2353.5,2,   2399.8,2,   7.4839,6,    25.00,      441
  49UF20120204,KS1202,  3336,  1,      1,  21960,2,20120218,0437,  9.9928, 163.9735,   -9,   2021.5,   2.2393,  34.6343,2,-999.0000,9,    103.8,2,   140.85,2,    38.95,2,     0.00,2,     2.76,2,   2350.8,2,   2404.8,2,   7.4934,2,    25.00,      437
  49UF20120204,KS1202,  3337,  1,     99,     99,2,20120218,1347,  9.5000, 163.9667, 5187,      0.0,  28.0505,  34.1971,2,-999.0000,9,    197.8,2,     1.14,2,     0.08,2,     0.00,2,     0.08,2,   -999.0,9,   -999.0,9,-999.0000,9,  -999.00,     1440
  49UF20120204,KS1202,  3337,  1,     36,  21995,2,20120218,1347,  9.5000, 163.9667, 5187,     12.4,  28.0553,  34.1973,2,  34.1979,2,    198.0,2,     1.10,2,     0.08,2,     0.00,2,     0.08,2,   -999.0,9,   -999.0,9,-999.0000,9,  -999.00,     1500
  49UF20120204,KS1202,  3337,  1,     35,  21994,2,20120218,1347,  9.5000, 163.9667, 5187,     26.3,  28.0597,  34.1968,2,-999.0000,9,    197.9,2,     1.09,2,     0.06,2,     0.00,2,     0.08,2,   -999.0,9,   -999.0,9,-999.0000,9,  -999.00,     1458
  49UF20120204,KS1202,  3337,  1,     34,  21993,2,20120218,1347,  9.5000, 163.9667, 5187,     49.3,  28.0657,  34.1979,2,-999.0000,9,    198.0,2,     1.09,2,     0.09,2,     0.00,2,     0.08,2,   -999.0,9,   -999.0,9,-999.0000,9,  -999.00,     1454
  49UF20120204,KS1202,  3337,  1,     32,  21991,2,20120218,1347,  9.5000, 163.9667, 5187,     76.7,  27.4997,  34.3623,2,-999.0000,9,    199.5,2,     1.05,2,     0.10,2,     0.00,2,     0.10,2,   -999.0,9,   -999.0,9,-999.0000,9,  -999.00,     1453
  49UF20120204,KS1202,  3337,  1,     31,  21990,2,20120218,1347,  9.5000, 163.9667, 5187,     98.4,  27.2585,  34.4379,2,  34.4370,2,    199.5,2,     1.09,2,     0.08,2,     0.00,2,     0.11,2,   -999.0,9,   -999.0,9,-999.0000,9,  -999.00,     1452
  49UF20120204,KS1202,  3337,  1,     30,  21989,2,20120218,1347,  9.5000, 163.9667, 5187,    124.1,  26.0240,  34.8720,2,-999.0000,9,    200.9,2,     1.22,2,     0.11,2,     0.00,2,     0.13,2,   -999.0,9,   -999.0,9,-999.0000,9,  -999.00,     1451
  49UF20120204,KS1202,  3337,  1,     27,  21986,2,20120218,1347,  9.5000, 163.9667, 5187,    150.1,  21.9008,  35.0618,2,-999.0000,9,    180.5,2,     2.54,2,     1.89,2,     0.24,2,     0.30,2,   -999.0,9,   -999.0,9,-999.0000,9,  -999.00,     1450
  49UF20120204,KS1202,  3337,  1,     26,  21985,2,20120218,1347,  9.5000, 163.9667, 5187,    204.7,  13.3210,  34.4733,2,  34.4799,4,    120.3,2,    16.12,2,    17.93,2,     0.01,2,     1.35,2,   -999.0,9,   -999.0,9,-999.0000,9,  -999.00,     1448
  49UF20120204,KS1202,  3337,  1,     25,  21984,2,20120218,1347,  9.5000, 163.9667, 5187,    254.0,  10.5361,  34.4060,2,-999.0000,9,     98.5,2,    27.17,2,    25.17,2,     0.00,2,     1.87,2,   -999.0,9,   -999.0,9,-999.0000,9,  -999.00,     1446
  49UF20120204,KS1202,  3337,  1,     22,  21981,2,20120218,1347,  9.5000, 163.9667, 5187,    299.7,   9.7063,  34.5441,2,-999.0000,9,     49.2,6,    34.95,6,    32.63,6,     0.00,6,     2.33,6,   -999.0,9,   -999.0,9,-999.0000,9,  -999.00,     1444
  49UF20120204,KS1202,  3337,  1,     21,  21980,2,20120218,1347,  9.5000, 163.9667, 5187,    404.6,   8.4943,  34.5922,2,-999.0000,9,     54.8,2,    39.84,2,    34.91,2,     0.00,2,     2.46,2,   -999.0,9,   -999.0,9,-999.0000,9,  -999.00,     1440
  49UF20120204,KS1202,  3337,  1,     20,  21979,2,20120218,1347,  9.5000, 163.9667, 5187,    404.6,   8.4943,  34.5922,2,  34.5901,2,     54.8,2,    40.13,2,    35.00,2,     0.00,2,     2.46,2,   -999.0,9,   -999.0,9,-999.0000,9,  -999.00,     1439
  49UF20120204,KS1202,  3337,  1,     18,  21977,2,20120218,1347,  9.5000, 163.9667, 5187,    503.7,   7.7438,  34.5566,2,-999.0000,9,     59.2,2,    46.75,2,    35.83,2,     0.00,2,     2.54,2,   -999.0,9,   -999.0,9,-999.0000,9,  -999.00,     1436
  49UF20120204,KS1202,  3337,  1,     17,  21976,2,20120218,1347,  9.5000, 163.9667, 5187,    604.5,   6.9496,  34.5418,2,  34.5419,2,     54.9,2,    54.99,2,    37.83,2,     0.00,2,     2.70,2,   -999.0,9,   -999.0,9,-999.0000,9,  -999.00,     1430
  49UF20120204,KS1202,  3337,  1,     16,  21975,2,20120218,1347,  9.5000, 163.9667, 5187,    709.5,   6.2215,  34.5313,2,-999.0000,9,     61.0,2,    63.76,2,    38.58,2,     0.00,2,     2.75,2,   -999.0,9,   -999.0,9,-999.0000,9,  -999.00,     1426
  49UF20120204,KS1202,  3337,  1,     14,  21973,2,20120218,1347,  9.5000, 163.9667, 5187,    805.6,   5.7804,  34.5347,2,  34.5346,2,     58.6,2,    70.24,2,    39.54,2,     0.00,2,     2.82,2,   -999.0,9,   -999.0,9,-999.0000,9,  -999.00,     1421
  49UF20120204,KS1202,  3337,  1,     13,  21972,2,20120218,1347,  9.5000, 163.9667, 5187,    911.2,   5.0643,  34.5398,2,-999.0000,9,     67.0,2,    82.08,2,    39.83,2,     0.00,2,     2.82,2,   -999.0,9,   -999.0,9,-999.0000,9,  -999.00,     1417
  49UF20120204,KS1202,  3337,  1,     12,  21971,2,20120218,1347,  9.5000, 163.9667, 5187,   1008.7,   4.7309,  34.5473,2,  34.5477,2,     74.7,2,    88.28,2,    39.40,2,     0.00,2,     2.81,2,   -999.0,9,   -999.0,9,-999.0000,9,  -999.00,     1413
  49UF20120204,KS1202,  3337,  1,      9,  21968,2,20120218,1347,  9.5000, 163.9667, 5187,   1212.2,   3.8992,  34.5667,2,-999.0000,9,     83.5,2,   104.13,2,    39.57,2,     0.00,2,     2.81,2,   -999.0,9,   -999.0,9,-999.0000,9,  -999.00,     1406
  49UF20120204,KS1202,  3337,  1,      8,  21967,2,20120218,1347,  9.5000, 163.9667, 5187,   1212.2,   3.8992,  34.5667,2,  34.5661,2,     83.7,2,   103.74,2,    39.47,2,     0.00,2,     2.80,2,   -999.0,9,   -999.0,9,-999.0000,9,  -999.00,     1406
  49UF20120204,KS1202,  3337,  1,      7,  21966,2,20120218,1347,  9.5000, 163.9667, 5187,   1411.4,   3.1508,  34.5909,2,  34.5903,2,     90.3,6,   119.60,6,    39.65,6,     0.00,6,     2.80,6,   -999.0,9,   -999.0,9,-999.0000,9,  -999.00,     1401
  49UF20120204,KS1202,  3337,  1,      5,  21964,2,20120218,1347,  9.5000, 163.9667, 5187,   1611.7,   2.7456,  34.6080,2,  34.6074,2,     94.4,2,   129.22,2,    39.63,2,     0.00,2,     2.80,2,   -999.0,9,   -999.0,9,-999.0000,9,  -999.00,     1356
  49UF20120204,KS1202,  3337,  1,      4,  21963,2,20120218,1347,  9.5000, 163.9667, 5187,   1816.2,   2.4716,  34.6203,2,  34.6192,2,     98.0,2,   135.32,2,    39.50,2,     0.00,2,     2.79,2,   -999.0,9,   -999.0,9,-999.0000,9,  -999.00,     1351
  49UF20120204,KS1202,  3337,  1,      2,  21961,2,20120218,1347,  9.5000, 163.9667, 5187,   2016.2,   2.2475,  34.6347,2,  34.6344,2,    103.2,2,   140.22,2,    39.28,2,     0.00,2,     2.77,2,   -999.0,9,   -999.0,9,-999.0000,9,  -999.00,     1347