BOTTLE,20191017PRINUNIVRMK
EXPOCODE,SECT_ID,STNNBR,CASTNO,SAMPNO,BTLNBR,BTLNBR_FLAG_W,DATE,TIME,LATITUDE,LONGITUDE,DEPTH,CTDPRS,CTDTMP,CTDSAL,CTDSAL_FLAG_W,SALNTY,SALNTY_FLAG_W,OXYGEN,OXYGEN_FLAG_W,SILCAT,SILCAT_FLAG_W,NITRAT,NITRAT_FLAG_W,NITRIT,NITRIT_FLAG_W,PHSPHT,PHSPHT_FLAG_W,TCARBN,TCARBN_FLAG_W,ALKALI,ALKALI_FLAG_W,PH_TOT,PH_TOT_FLAG_W,PH_TMP,BTL_TIME
,,,,,,,,,,,METERS,DBAR,ITS-90,PSS-78,,PSS-78,,UMOL/KG,,UMOL/KG,,UMOL/KG,,UMOL/KG,,UMOL/KG,,UMOL/KG,,UMOL/KG,,,,DEG C,
  49UF20120204,KS1202,  3300,  1,     99,     99,2,20120208,2233, 24.2560, 148.4540, 5609,      0.0,  22.7084,  34.9971,2,-999.0000,9,    215.4,2,     1.49,2,     0.11,2,     0.00,2,     0.04,2,   -999.0,9,   -999.0,9,-999.0000,9,  -999.00,     2307
  49UF20120204,KS1202,  3300,  1,     35,  21994,2,20120208,2233, 24.2560, 148.4540, 5609,     10.5,  22.6542,  35.1398,2,-999.0000,9,    215.1,2,     1.49,2,     0.07,2,     0.00,2,     0.02,2,   -999.0,9,   -999.0,9,-999.0000,9,  -999.00,     2335
  49UF20120204,KS1202,  3300,  1,     34,  21993,2,20120208,2233, 24.2560, 148.4540, 5609,     25.7,  22.5306,  35.1488,2,-999.0000,9,    215.4,2,     1.39,2,     0.09,2,     0.00,2,     0.01,2,   -999.0,9,   -999.0,9,-999.0000,9,  -999.00,     2333
  49UF20120204,KS1202,  3300,  1,     33,  21992,2,20120208,2233, 24.2560, 148.4540, 5609,     50.7,  22.4822,  35.1504,2,-999.0000,9,    215.8,2,     1.50,2,     0.13,2,     0.00,2,     0.02,2,   -999.0,9,   -999.0,9,-999.0000,9,  -999.00,     2329
  49UF20120204,KS1202,  3300,  1,     31,  21990,2,20120208,2233, 24.2560, 148.4540, 5609,     75.9,  22.4385,  35.1464,2,-999.0000,9,    215.6,2,     1.50,2,     0.14,2,     0.00,2,     0.01,2,   -999.0,9,   -999.0,9,-999.0000,9,  -999.00,     2328
  49UF20120204,KS1202,  3300,  1,     30,  21989,2,20120208,2233, 24.2560, 148.4540, 5609,     75.9,  22.4385,  35.1464,2,-999.0000,9,    215.7,2,     1.46,2,     0.14,2,     0.00,2,     0.01,2,   -999.0,9,   -999.0,9,-999.0000,9,  -999.00,     2328
  49UF20120204,KS1202,  3300,  1,     29,  21988,2,20120208,2233, 24.2560, 148.4540, 5609,    101.1,  20.9529,  34.9558,2,-999.0000,9,    211.8,2,     1.96,2,     0.41,2,     0.03,2,     0.05,2,   -999.0,9,   -999.0,9,-999.0000,9,  -999.00,     2326
  49UF20120204,KS1202,  3300,  1,     26,  21985,2,20120208,2233, 24.2560, 148.4540, 5609,    126.0,  19.5504,  34.8786,2,-999.0000,9,    209.0,2,     2.32,2,     0.73,2,     0.07,2,     0.09,2,   -999.0,9,   -999.0,9,-999.0000,9,  -999.00,     2325
  49UF20120204,KS1202,  3300,  1,     25,  21984,2,20120208,2233, 24.2560, 148.4540, 5609,    150.6,  18.2805,  34.7571,2,-999.0000,9,    206.1,2,     3.10,2,     3.00,2,     0.01,2,     0.21,2,   -999.0,9,   -999.0,9,-999.0000,9,  -999.00,     2323
  49UF20120204,KS1202,  3300,  1,     24,  21983,2,20120208,2233, 24.2560, 148.4540, 5609,    201.9,  17.3117,  34.6981,2,-999.0000,9,    207.4,2,     4.01,2,     4.53,2,     0.01,2,     0.30,2,   -999.0,9,   -999.0,9,-999.0000,9,  -999.00,     2321
  49UF20120204,KS1202,  3300,  1,     21,  21980,2,20120208,2233, 24.2560, 148.4540, 5609,    252.9,  16.3891,  34.6417,2,-999.0000,9,    202.6,2,     5.97,2,     6.53,2,     0.00,2,     0.43,2,   -999.0,9,   -999.0,9,-999.0000,9,  -999.00,     2319
  49UF20120204,KS1202,  3300,  1,     20,  21979,2,20120208,2233, 24.2560, 148.4540, 5609,    303.6,  15.3957,  34.5738,2,-999.0000,9,    196.7,2,     8.17,2,     8.42,2,     0.00,2,     0.58,2,   -999.0,9,   -999.0,9,-999.0000,9,  -999.00,     2317
  49UF20120204,KS1202,  3300,  1,     19,  21978,2,20120208,2233, 24.2560, 148.4540, 5609,    404.0,  13.0510,  34.4202,2,-999.0000,9,    192.6,6,    14.27,6,    12.50,6,     0.00,6,     0.86,6,   -999.0,9,   -999.0,9,-999.0000,9,  -999.00,     2314
  49UF20120204,KS1202,  3300,  1,     17,  21976,2,20120208,2233, 24.2560, 148.4540, 5609,    504.2,   9.9192,  34.2048,2,-999.0000,9,    178.7,2,    27.51,2,    19.30,2,     0.00,2,     1.35,2,   -999.0,9,   -999.0,9,-999.0000,9,  -999.00,     2311
  49UF20120204,KS1202,  3300,  1,     16,  21975,2,20120208,2233, 24.2560, 148.4540, 5609,    604.8,   7.0397,  34.0698,2,-999.0000,9,    135.4,2,    51.99,2,    28.52,2,     0.00,2,     2.03,2,   -999.0,9,   -999.0,9,-999.0000,9,  -999.00,     2308
  49UF20120204,KS1202,  3300,  1,     15,  21974,2,20120208,2233, 24.2560, 148.4540, 5609,    604.8,   7.0397,  34.0698,2,-999.0000,9,    134.6,2,    51.80,2,    28.51,2,     0.00,2,     2.04,2,   -999.0,9,   -999.0,9,-999.0000,9,  -999.00,     2308
  49UF20120204,KS1202,  3300,  1,     13,  21972,2,20120208,2233, 24.2560, 148.4540, 5609,    705.9,   5.3709,  34.1096,2,-999.0000,9,     87.3,2,    77.59,2,    35.73,2,     0.00,2,     2.57,2,   -999.0,9,   -999.0,9,-999.0000,9,  -999.00,     2305
  49UF20120204,KS1202,  3300,  1,     12,  21971,2,20120208,2233, 24.2560, 148.4540, 5609,    807.9,   4.6736,  34.2053,2,-999.0000,9,     57.7,2,    94.74,2,    39.24,2,     0.00,2,     2.82,2,   -999.0,9,   -999.0,9,-999.0000,9,  -999.00,     2302
  49UF20120204,KS1202,  3300,  1,     11,  21970,2,20120208,2233, 24.2560, 148.4540, 5609,    908.0,   4.0741,  34.3240,2,-999.0000,9,     47.2,2,   109.82,2,    40.85,2,     0.00,2,     2.94,2,   -999.0,9,   -999.0,9,-999.0000,9,  -999.00,     2259
  49UF20120204,KS1202,  3300,  1,      8,  21967,2,20120208,2233, 24.2560, 148.4540, 5609,   1009.8,   3.6314,  34.3920,2,-999.0000,9,     47.5,6,   120.46,6,    41.35,6,     0.00,6,     2.96,6,   -999.0,9,   -999.0,9,-999.0000,9,  -999.00,     2256
  49UF20120204,KS1202,  3300,  1,      7,  21966,2,20120208,2233, 24.2560, 148.4540, 5609,   1211.8,   3.0256,  34.4717,2,-999.0000,9,     56.0,2,   134.23,2,    41.34,2,     0.00,2,     2.95,2,   -999.0,9,   -999.0,9,-999.0000,9,  -999.00,     2251
  49UF20120204,KS1202,  3300,  1,      6,  21965,2,20120208,2233, 24.2560, 148.4540, 5609,   1415.9,   2.6578,  34.5192,2,-999.0000,9,     64.6,2,   141.80,2,    41.15,2,     0.00,2,     2.92,2,   -999.0,9,   -999.0,9,-999.0000,9,  -999.00,     2247
  49UF20120204,KS1202,  3300,  1,      3,  21962,2,20120208,2233, 24.2560, 148.4540, 5609,   1616.9,   2.3189,  34.5600,2,-999.0000,9,     77.5,2,   147.03,2,    40.50,2,     0.00,2,     2.86,2,   -999.0,9,   -999.0,9,-999.0000,9,  -999.00,     2242
  49UF20120204,KS1202,  3300,  1,      4,  21963,2,20120208,2233, 24.2560, 148.4540, 5609,   1617.1,   2.3186,  34.5601,2,-999.0000,9,     77.9,2,   147.25,2,    40.43,2,     0.00,2,     2.86,2,   -999.0,9,   -999.0,9,-999.0000,9,  -999.00,     2242
  49UF20120204,KS1202,  3300,  1,      2,  21961,2,20120208,2233, 24.2560, 148.4540, 5609,   1819.9,   2.0703,  34.5922,2,-999.0000,9,     92.6,2,   149.15,2,    39.61,2,     0.00,2,     2.79,2,   -999.0,9,   -999.0,9,-999.0000,9,  -999.00,     2238
  49UF20120204,KS1202,  3300,  1,      1,  21960,2,20120208,2233, 24.2560, 148.4540, 5609,   2022.1,   1.9273,  34.6130,2,-999.0000,9,    100.3,2,   150.61,2,    39.20,2,     0.00,2,     2.75,2,   -999.0,9,   -999.0,9,-999.0000,9,  -999.00,     2233
  49UF20120204,KS1202,  3302,  1,     99,     99,2,20120209,0729, 24.2570, 149.6688, 6178,      0.0,  23.1929,  35.2010,2,-999.0000,9,    213.9,2,     1.43,2,     0.01,2,     0.00,2,     0.04,2,   1990.6,2,   2307.2,2,   8.0761,2,    25.00,      808
  49UF20120204,KS1202,  3302,  1,     35,  21994,2,20120209,0729, 24.2570, 149.6688, 6178,     10.2,  23.1953,  35.2010,2,-999.0000,9,    213.6,2,     1.37,2,     0.00,2,     0.00,2,     0.01,2,   1986.9,2,   2303.8,2,   8.0762,2,    25.00,      834
  49UF20120204,KS1202,  3302,  1,     34,  21993,2,20120209,0729, 24.2570, 149.6688, 6178,     27.8,  23.1427,  35.2030,2,-999.0000,9,    213.5,6,     1.43,6,     0.00,6,     0.00,6,     0.02,6,   1987.4,2,   2305.4,2,   8.0760,2,    25.00,      832
  49UF20120204,KS1202,  3302,  1,     33,  21992,2,20120209,0729, 24.2570, 149.6688, 6178,     51.5,  23.0442,  35.2022,2,-999.0000,9,    213.7,2,     1.43,2,     0.00,2,     0.00,2,     0.01,2,   1990.5,2,   2306.9,2,   8.0746,2,    25.00,      828
  49UF20120204,KS1202,  3302,  1,     31,  21990,2,20120209,0729, 24.2570, 149.6688, 6178,     75.1,  23.0499,  35.2118,2,-999.0000,9,    213.2,2,     1.37,2,     0.00,2,     0.00,2,     0.01,2,   1989.1,2,   2305.2,2,   8.0729,2,    25.00,      827
  49UF20120204,KS1202,  3302,  1,     30,  21989,2,20120209,0729, 24.2570, 149.6688, 6178,    102.1,  20.9867,  35.0472,2,-999.0000,9,    213.7,2,     1.93,2,     0.00,2,     0.00,2,     0.03,2,   2016.0,2,   2294.9,2,   8.0209,2,    25.00,      825
  49UF20120204,KS1202,  3302,  1,     29,  21988,2,20120209,0729, 24.2570, 149.6688, 6178,    126.8,  19.1724,  34.8535,2,-999.0000,9,    204.2,2,     2.64,2,     1.34,2,     0.02,2,     0.13,2,   2025.5,2,   2283.5,2,   7.9764,2,    25.00,      824
  49UF20120204,KS1202,  3302,  1,     26,  21985,2,20120209,0729, 24.2570, 149.6688, 6178,    152.1,  18.1910,  34.7568,2,-999.0000,9,    204.7,2,     3.12,2,     2.76,2,     0.01,2,     0.20,2,   2027.0,2,   2279.4,2,   7.9609,2,    25.00,      822
  49UF20120204,KS1202,  3302,  1,     25,  21984,2,20120209,0729, 24.2570, 149.6688, 6178,    201.6,  17.1850,  34.7081,2,-999.0000,9,    213.7,2,     4.06,2,     4.08,2,     0.01,2,     0.29,2,   2027.8,2,   2274.7,2,   7.9613,2,    25.00,      820
  49UF20120204,KS1202,  3302,  1,     24,  21983,2,20120209,0729, 24.2570, 149.6688, 6178,    253.2,  16.9002,  34.6990,2,-999.0000,9,    216.3,2,     4.49,2,     4.33,2,     0.01,2,     0.30,2,   2033.0,2,   2274.1,2,   7.9529,2,    25.00,      819
  49UF20120204,KS1202,  3302,  1,     21,  21980,2,20120209,0729, 24.2570, 149.6688, 6178,    303.7,  15.7203,  34.5982,2,-999.0000,9,    197.3,2,     7.64,2,     7.70,2,     0.00,2,     0.52,2,   2056.5,2,   2271.4,2,   7.8972,2,    25.00,      817
  49UF20120204,KS1202,  3302,  1,     20,  21979,2,20120209,0729, 24.2570, 149.6688, 6178,    404.0,  12.7289,  34.3972,2,-999.0000,9,    192.3,2,    15.25,2,    12.69,2,     0.00,2,     0.89,2,   2095.0,2,   2267.3,2,   7.8112,2,    25.00,      814
  49UF20120204,KS1202,  3302,  1,     19,  21978,2,20120209,0729, 24.2570, 149.6688, 6178,    504.7,   9.3973,  34.1645,2,-999.0000,9,    174.7,2,    29.49,2,    20.21,2,     0.00,2,     1.44,2,   2148.1,6,   2269.7,6,   7.6823,2,    25.00,      811
  49UF20120204,KS1202,  3302,  1,     17,  21976,2,20120209,0729, 24.2570, 149.6688, 6178,    605.9,   6.7637,  34.0566,2,-999.0000,9,    130.8,2,    53.68,2,    29.10,2,     0.00,2,     2.09,2,   2217.1,2,   2287.6,2,   7.5413,6,    25.00,      808
  49UF20120204,KS1202,  3302,  1,     16,  21975,2,20120209,0729, 24.2570, 149.6688, 6178,    707.1,   5.3808,  34.0928,2,-999.0000,9,     89.0,2,    76.12,2,    35.32,2,     0.00,2,     2.54,2,   2270.4,2,   2303.5,2,   7.4327,2,    25.00,      805
  49UF20120204,KS1202,  3302,  1,     15,  21974,2,20120209,0729, 24.2570, 149.6688, 6178,    707.1,   5.3808,  34.0928,2,-999.0000,9,     88.9,2,    76.09,2,    35.21,2,     0.00,2,     2.54,2,   2269.4,2,   2305.8,2,   7.4398,2,    25.00,      805
  49UF20120204,KS1202,  3302,  1,     13,  21972,2,20120209,0729, 24.2570, 149.6688, 6178,    807.6,   4.5108,  34.1991,2,-999.0000,9,     55.0,2,    97.00,2,    39.49,2,     0.00,2,     2.84,2,   2316.2,2,   2327.6,2,   7.3750,2,    25.00,      802
  49UF20120204,KS1202,  3302,  1,     12,  21971,2,20120209,0729, 24.2570, 149.6688, 6178,    909.6,   3.8468,  34.3085,2,-999.0000,9,     41.0,2,   115.17,2,    41.28,2,     0.00,2,     2.98,2,   2341.1,2,   2349.5,2,   7.3508,2,    25.00,      759
  49UF20120204,KS1202,  3302,  1,     11,  21970,2,20120209,0729, 24.2570, 149.6688, 6178,   1009.5,   3.3776,  34.3913,2,-999.0000,9,     40.4,2,   127.73,2,    42.12,2,     0.00,2,     3.01,2,   2357.6,2,   2365.7,2,   7.3578,2,    25.00,      755
  49UF20120204,KS1202,  3302,  1,      8,  21967,2,20120209,0729, 24.2570, 149.6688, 6178,   1211.4,   2.9863,  34.4829,2,-999.0000,9,     56.9,6,   134.69,6,    41.41,6,     0.00,6,     2.95,6,   2362.7,2,   2379.2,2,   7.3965,2,    25.00,      750
  49UF20120204,KS1202,  3302,  1,      7,  21966,2,20120209,0729, 24.2570, 149.6688, 6178,   1415.8,   2.5877,  34.5321,2,-999.0000,9,     68.9,2,   142.22,2,    40.91,2,     0.00,2,     2.90,2,   2363.2,2,   2389.2,2,   7.4205,2,    25.00,      745
  49UF20120204,KS1202,  3302,  1,      6,  21965,2,20120209,0729, 24.2570, 149.6688, 6178,   1619.6,   2.2732,  34.5693,2,-999.0000,9,     81.6,2,   147.10,2,    40.19,2,     0.00,2,     2.84,2,   2360.9,6,   2399.9,2,   7.4439,2,    25.00,      740
  49UF20120204,KS1202,  3302,  1,      4,  21963,2,20120209,0729, 24.2570, 149.6688, 6178,   1821.0,   2.0380,  34.5980,2,-999.0000,9,     93.0,2,   150.27,2,    39.57,2,     0.00,2,     2.79,2,   2357.2,2,   2404.1,2,   7.4641,6,    25.00,      735
  49UF20120204,KS1202,  3302,  1,      2,  21961,2,20120209,0729, 24.2570, 149.6688, 6178,   2022.0,   1.9013,  34.6170,2,-999.0000,9,    102.4,2,   151.09,2,    39.22,2,     0.00,2,     2.75,2,   2351.5,2,   2406.4,2,   7.4799,2,    25.00,      729
  49UF20120204,KS1202,  3302,  1,      1,  21960,2,20120209,0729, 24.2570, 149.6688, 6178,   2022.0,   1.9013,  34.6170,2,-999.0000,9,    102.1,2,   151.31,2,    39.15,2,     0.00,2,     2.75,2,   2353.3,2,   2403.7,2,   7.4792,2,    25.00,      729
  49UF20120204,KS1202,  3303,  1,     99,     99,2,20120209,1406, 24.2745, 150.5362, 5099,      0.0,  23.4786,  35.1896,2,-999.0000,9,    212.5,2,     1.28,2,     0.00,2,     0.00,2,     0.01,2,   -999.0,9,   -999.0,9,-999.0000,9,  -999.00,     1455
  49UF20120204,KS1202,  3303,  1,     35,  21994,2,20120209,1406, 24.2745, 150.5362, 5099,     10.8,  23.4775,  35.1897,2,-999.0000,9,    212.2,2,     1.28,2,     0.00,2,     0.00,2,     0.01,2,   -999.0,9,   -999.0,9,-999.0000,9,  -999.00,     1514
  49UF20120204,KS1202,  3303,  1,     34,  21993,2,20120209,1406, 24.2745, 150.5362, 5099,     10.8,  23.4775,  35.1897,2,  35.1894,2,    212.5,2,     1.28,2,     0.00,2,     0.00,2,     0.01,2,   -999.0,9,   -999.0,9,-999.0000,9,  -999.00,     1513
  49UF20120204,KS1202,  3303,  1,     33,  21992,2,20120209,1406, 24.2745, 150.5362, 5099,     25.9,  23.4866,  35.1897,2,-999.0000,9,    212.3,2,     1.28,2,     0.00,2,     0.00,2,     0.01,2,   -999.0,9,   -999.0,9,-999.0000,9,  -999.00,     1513
  49UF20120204,KS1202,  3303,  1,     31,  21990,2,20120209,1406, 24.2745, 150.5362, 5099,     49.9,  23.4331,  35.1959,2,-999.0000,9,    211.9,2,     1.30,2,     0.00,2,     0.00,2,     0.36,4,   -999.0,9,   -999.0,9,-999.0000,9,  -999.00,     1510
  49UF20120204,KS1202,  3303,  1,     30,  21989,2,20120209,1406, 24.2745, 150.5362, 5099,     75.5,  23.3480,  35.1839,2,-999.0000,9,    212.1,2,     1.30,2,     0.00,2,     0.00,2,     0.02,2,   -999.0,9,   -999.0,9,-999.0000,9,  -999.00,     1509
  49UF20120204,KS1202,  3303,  1,     29,  21988,2,20120209,1406, 24.2745, 150.5362, 5099,    100.6,  20.0542,  34.9303,2,  34.9376,4,    212.1,6,     2.00,6,    -0.03,6,     0.03,6,     0.04,6,   -999.0,9,   -999.0,9,-999.0000,9,  -999.00,     1507
  49UF20120204,KS1202,  3303,  1,     26,  21985,2,20120209,1406, 24.2745, 150.5362, 5099,    128.2,  18.5504,  34.7892,2,-999.0000,9,    207.0,2,     2.53,2,     1.02,2,     0.03,2,     0.12,2,   -999.0,9,   -999.0,9,-999.0000,9,  -999.00,     1506
  49UF20120204,KS1202,  3303,  1,     25,  21984,2,20120209,1406, 24.2745, 150.5362, 5099,    153.4,  17.8048,  34.7259,2,-999.0000,9,    205.2,2,     3.25,2,     3.03,2,     0.01,2,     0.23,2,   -999.0,9,   -999.0,9,-999.0000,9,  -999.00,     1505
  49UF20120204,KS1202,  3303,  1,     24,  21983,2,20120209,1406, 24.2745, 150.5362, 5099,    202.7,  17.1990,  34.6964,2,  34.6957,2,    208.8,2,     4.13,2,     4.14,2,     0.01,2,     0.31,2,   -999.0,9,   -999.0,9,-999.0000,9,  -999.00,     1503
  49UF20120204,KS1202,  3303,  1,     21,  21980,2,20120209,1406, 24.2745, 150.5362, 5099,    253.6,  16.8788,  34.6847,2,-999.0000,9,    210.7,2,     4.56,2,     4.58,2,     0.01,2,     0.33,2,   -999.0,9,   -999.0,9,-999.0000,9,  -999.00,     1501
  49UF20120204,KS1202,  3303,  1,     20,  21979,2,20120209,1406, 24.2745, 150.5362, 5099,    304.6,  16.0922,  34.6212,2,-999.0000,9,    200.2,2,     6.48,2,     6.62,2,     0.00,2,     0.47,2,   -999.0,9,   -999.0,9,-999.0000,9,  -999.00,     1459
  49UF20120204,KS1202,  3303,  1,     19,  21978,2,20120209,1406, 24.2745, 150.5362, 5099,    405.2,  12.8440,  34.4066,2,  34.4081,2,    192.1,2,    15.17,2,    12.49,2,     0.00,2,     0.89,2,   -999.0,9,   -999.0,9,-999.0000,9,  -999.00,     1455
  49UF20120204,KS1202,  3303,  1,     17,  21976,2,20120209,1406, 24.2745, 150.5362, 5099,    506.3,   9.7378,  34.1974,2,-999.0000,9,    177.4,2,    27.96,2,    19.09,2,     0.00,2,     1.36,2,   -999.0,9,   -999.0,9,-999.0000,9,  -999.00,     1451
  49UF20120204,KS1202,  3303,  1,     16,  21975,2,20120209,1406, 24.2745, 150.5362, 5099,    506.3,   9.7378,  34.1974,2,-999.0000,9,    178.3,4,    28.08,2,    19.08,2,     0.00,2,     1.37,2,   -999.0,9,   -999.0,9,-999.0000,9,  -999.00,     1451
  49UF20120204,KS1202,  3303,  1,     15,  21974,2,20120209,1406, 24.2745, 150.5362, 5099,    607.3,   6.7043,  34.0568,2,  34.0575,2,    130.4,2,    54.66,2,    29.14,2,     0.00,2,     2.12,2,   -999.0,9,   -999.0,9,-999.0000,9,  -999.00,     1448
  49UF20120204,KS1202,  3303,  1,     13,  21972,2,20120209,1406, 24.2745, 150.5362, 5099,    709.3,   5.4338,  34.0912,2,-999.0000,9,     89.3,2,    75.35,2,    35.06,2,     0.00,2,     2.54,2,   -999.0,9,   -999.0,9,-999.0000,9,  -999.00,     1444
  49UF20120204,KS1202,  3303,  1,     12,  21971,2,20120209,1406, 24.2745, 150.5362, 5099,    809.8,   4.5898,  34.2008,2,  34.2008,2,     55.7,2,    95.77,2,    39.22,2,     0.00,2,     2.85,2,   -999.0,9,   -999.0,9,-999.0000,9,  -999.00,     1439
  49UF20120204,KS1202,  3303,  1,     11,  21970,2,20120209,1406, 24.2745, 150.5362, 5099,    909.0,   4.1009,  34.2757,2,-999.0000,9,     44.9,2,   108.76,2,    40.99,2,     0.00,2,     2.95,2,   -999.0,9,   -999.0,9,-999.0000,9,  -999.00,     1435
  49UF20120204,KS1202,  3303,  1,      8,  21967,2,20120209,1406, 24.2745, 150.5362, 5099,   1009.4,   3.5865,  34.3591,2,  34.3582,2,     40.1,2,   122.32,2,    41.93,2,     0.00,2,     3.01,2,   -999.0,9,   -999.0,9,-999.0000,9,  -999.00,     1431
  49UF20120204,KS1202,  3303,  1,      7,  21966,2,20120209,1406, 24.2745, 150.5362, 5099,   1210.7,   3.0664,  34.4694,2,  34.4697,2,     53.8,2,   133.54,2,    41.55,2,     0.00,2,     2.97,2,   -999.0,9,   -999.0,9,-999.0000,9,  -999.00,     1425
  49UF20120204,KS1202,  3303,  1,      6,  21965,2,20120209,1406, 24.2745, 150.5362, 5099,   1416.0,   2.5581,  34.5226,2,  34.5232,2,     61.6,6,   145.39,6,    41.46,6,     0.00,6,     2.95,6,   -999.0,9,   -999.0,9,-999.0000,9,  -999.00,     1420
  49UF20120204,KS1202,  3303,  1,      4,  21963,2,20120209,1406, 24.2745, 150.5362, 5099,   1616.5,   2.1987,  34.5669,2,  34.5665,2,     71.5,2,   153.11,2,    41.01,2,     0.00,2,     2.90,2,   -999.0,9,   -999.0,9,-999.0000,9,  -999.00,     1415
  49UF20120204,KS1202,  3303,  1,      2,  21961,2,20120209,1406, 24.2745, 150.5362, 5099,   1817.3,   2.0052,  34.5969,2,  34.5968,2,     88.4,2,   152.94,2,    39.94,2,     0.00,2,     2.82,2,   -999.0,9,   -999.0,9,-999.0000,9,  -999.00,     1411
  49UF20120204,KS1202,  3303,  1,      1,  21960,2,20120209,1406, 24.2745, 150.5362, 5099,   2020.6,   1.8329,  34.6229,2,  34.6225,2,    103.7,2,   152.63,2,    39.13,2,     0.00,2,     2.75,2,   -999.0,9,   -999.0,9,-999.0000,9,  -999.00,     1406