BOTTLE,20191017PRINUNIVRMK
EXPOCODE,SECT_ID,STNNBR,CASTNO,SAMPNO,BTLNBR,BTLNBR_FLAG_W,DATE,TIME,LATITUDE,LONGITUDE,DEPTH,CTDPRS,CTDTMP,CTDSAL,CTDSAL_FLAG_W,SALNTY,SALNTY_FLAG_W,OXYGEN,OXYGEN_FLAG_W,SILCAT,SILCAT_FLAG_W,NITRAT,NITRAT_FLAG_W,NITRIT,NITRIT_FLAG_W,PHSPHT,PHSPHT_FLAG_W,TCARBN,TCARBN_FLAG_W,ALKALI,ALKALI_FLAG_W,PH_TOT,PH_TOT_FLAG_W,PH_TMP,BTL_TIME
,,,,,,,,,,,METERS,DBAR,ITS-90,PSS-78,,PSS-78,,UMOL/KG,,UMOL/KG,,UMOL/KG,,UMOL/KG,,UMOL/KG,,UMOL/KG,,UMOL/KG,,,,DEG C,
  49UF20120204,KS1202,  3328,  1,     99,     99,2,20120215,1554, 17.9993, 164.9872, 5428,      0.0,  27.2960,  35.0937,2,-999.0000,9,    199.2,2,     0.78,2,     0.11,2,     0.00,2,     0.07,2,   -999.0,9,   -999.0,9,-999.0000,9,  -999.00,     1628
  49UF20120204,KS1202,  3328,  1,     36,  21995,2,20120215,1554, 17.9993, 164.9872, 5428,      9.9,  27.3078,  35.0935,2,-999.0000,9,    200.0,2,     0.78,2,     0.03,2,     0.00,2,     0.07,2,   -999.0,9,   -999.0,9,-999.0000,9,  -999.00,     1643
  49UF20120204,KS1202,  3328,  1,     35,  21994,3,20120215,1554, 17.9993, 164.9872, 5428,     25.9,  27.2916,  35.0939,2,-999.0000,9,   -999.0,9,  -999.00,9,  -999.00,9,  -999.00,9,  -999.00,9,   -999.0,9,   -999.0,9,-999.0000,9,  -999.00,     1642
  49UF20120204,KS1202,  3328,  1,     34,  21993,2,20120215,1554, 17.9993, 164.9872, 5428,     26.6,  27.2941,  35.0937,2,-999.0000,9,    200.1,2,     0.80,2,     0.10,2,     0.00,2,     0.07,2,   -999.0,9,   -999.0,9,-999.0000,9,  -999.00,     1642
  49UF20120204,KS1202,  3328,  1,     32,  21991,2,20120215,1554, 17.9993, 164.9872, 5428,     50.4,  27.3122,  35.0928,2,-999.0000,9,    199.6,2,     0.78,2,     0.09,2,     0.00,2,     0.07,2,   -999.0,9,   -999.0,9,-999.0000,9,  -999.00,     1638
  49UF20120204,KS1202,  3328,  1,     33,  21992,2,20120215,1554, 17.9993, 164.9872, 5428,     51.1,  27.3148,  35.0927,2,-999.0000,9,   -999.0,9,  -999.00,9,  -999.00,9,  -999.00,9,  -999.00,9,   -999.0,9,   -999.0,9,-999.0000,9,  -999.00,     1638
  49UF20120204,KS1202,  3328,  1,     30,  21989,2,20120215,1554, 17.9993, 164.9872, 5428,     74.1,  27.3179,  35.0953,2,-999.0000,9,    199.6,2,     0.79,2,     0.12,2,     0.00,2,     0.06,2,   -999.0,9,   -999.0,9,-999.0000,9,  -999.00,     1637
  49UF20120204,KS1202,  3328,  1,     31,  21990,2,20120215,1554, 17.9993, 164.9872, 5428,     74.5,  27.3173,  35.0954,2,-999.0000,9,   -999.0,9,  -999.00,9,  -999.00,9,  -999.00,9,  -999.00,9,   -999.0,9,   -999.0,9,-999.0000,9,  -999.00,     1637
  49UF20120204,KS1202,  3328,  1,     28,  21987,2,20120215,1554, 17.9993, 164.9872, 5428,    102.2,  27.2959,  35.1045,2,-999.0000,9,    200.1,2,     0.77,2,     0.13,2,     0.00,2,     0.07,2,   -999.0,9,   -999.0,9,-999.0000,9,  -999.00,     1636
  49UF20120204,KS1202,  3328,  1,     29,  21988,2,20120215,1554, 17.9993, 164.9872, 5428,    102.7,  27.2965,  35.1052,2,-999.0000,9,   -999.0,9,  -999.00,9,  -999.00,9,  -999.00,9,  -999.00,9,   -999.0,9,   -999.0,9,-999.0000,9,  -999.00,     1636
  49UF20120204,KS1202,  3328,  1,     27,  21986,2,20120215,1554, 17.9993, 164.9872, 5428,    126.1,  25.9679,  35.2719,2,-999.0000,9,    199.1,2,     0.92,2,     0.12,2,     0.01,2,     0.06,2,   -999.0,9,   -999.0,9,-999.0000,9,  -999.00,     1635
  49UF20120204,KS1202,  3328,  1,     25,  21984,2,20120215,1554, 17.9993, 164.9872, 5428,    152.1,  24.7788,  35.3274,2,-999.0000,9,    189.9,2,     1.00,2,     0.15,2,     0.12,2,     0.10,2,   -999.0,9,   -999.0,9,-999.0000,9,  -999.00,     1634
  49UF20120204,KS1202,  3328,  1,     26,  21985,2,20120215,1554, 17.9993, 164.9872, 5428,    154.6,  24.4657,  35.3321,2,-999.0000,9,   -999.0,9,  -999.00,9,  -999.00,9,  -999.00,9,  -999.00,9,   -999.0,9,   -999.0,9,-999.0000,9,  -999.00,     1634
  49UF20120204,KS1202,  3328,  1,     24,  21983,2,20120215,1554, 17.9993, 164.9872, 5428,    202.5,  21.7405,  35.1903,2,-999.0000,9,   -999.0,9,  -999.00,9,  -999.00,9,  -999.00,9,  -999.00,9,   -999.0,9,   -999.0,9,-999.0000,9,  -999.00,     1633
  49UF20120204,KS1202,  3328,  1,     23,  21982,2,20120215,1554, 17.9993, 164.9872, 5428,    202.9,  21.7598,  35.1896,2,-999.0000,9,   -999.0,9,  -999.00,9,  -999.00,9,  -999.00,9,  -999.00,9,   -999.0,9,   -999.0,9,-999.0000,9,  -999.00,     1632
  49UF20120204,KS1202,  3328,  1,     22,  21981,2,20120215,1554, 17.9993, 164.9872, 5428,    203.5,  21.7060,  35.1859,2,-999.0000,9,    183.8,2,     1.77,2,     1.67,2,     0.02,2,     0.18,2,   -999.0,9,   -999.0,9,-999.0000,9,  -999.00,     1632
  49UF20120204,KS1202,  3328,  1,     21,  21980,2,20120215,1554, 17.9993, 164.9872, 5428,    254.1,  18.1266,  34.8144,2,-999.0000,9,    195.1,2,     3.34,2,     3.88,2,     0.01,2,     0.29,2,   -999.0,9,   -999.0,9,-999.0000,9,  -999.00,     1631
  49UF20120204,KS1202,  3328,  1,     19,  21978,2,20120215,1554, 17.9993, 164.9872, 5428,    302.1,  16.0390,  34.6160,2,-999.0000,9,    192.1,2,     6.06,2,     7.09,2,     0.00,2,     0.51,2,   -999.0,9,   -999.0,9,-999.0000,9,  -999.00,     1630
  49UF20120204,KS1202,  3328,  1,     20,  21979,2,20120215,1554, 17.9993, 164.9872, 5428,    302.4,  16.0338,  34.6154,2,-999.0000,9,   -999.0,9,  -999.00,9,  -999.00,9,  -999.00,9,  -999.00,9,   -999.0,9,   -999.0,9,-999.0000,9,  -999.00,     1630
  49UF20120204,KS1202,  3328,  1,     17,  21976,2,20120215,1554, 17.9993, 164.9872, 5428,    402.6,  11.5619,  34.2776,2,-999.0000,9,   -999.0,9,  -999.00,9,  -999.00,9,  -999.00,9,  -999.00,9,   -999.0,9,   -999.0,9,-999.0000,9,  -999.00,     1627
  49UF20120204,KS1202,  3328,  1,     18,  21977,2,20120215,1554, 17.9993, 164.9872, 5428,    404.5,  11.5358,  34.2772,2,-999.0000,9,   -999.0,9,  -999.00,9,  -999.00,9,  -999.00,9,  -999.00,9,   -999.0,9,   -999.0,9,-999.0000,9,  -999.00,     1628
  49UF20120204,KS1202,  3328,  1,     16,  21975,2,20120215,1554, 17.9993, 164.9872, 5428,    406.1,  11.5061,  34.2751,2,-999.0000,9,    176.3,2,    17.67,2,    15.69,2,     0.00,2,     1.14,2,   -999.0,9,   -999.0,9,-999.0000,9,  -999.00,     1627
  49UF20120204,KS1202,  3328,  1,     15,  21974,2,20120215,1554, 17.9993, 164.9872, 5428,    504.5,   8.2708,  34.1612,2,-999.0000,9,   -999.0,9,  -999.00,9,  -999.00,9,  -999.00,9,  -999.00,9,   -999.0,9,   -999.0,9,-999.0000,9,  -999.00,     1625
  49UF20120204,KS1202,  3328,  1,     14,  21973,2,20120215,1554, 17.9993, 164.9872, 5428,    506.2,   8.2293,  34.1594,2,-999.0000,9,    117.3,6,    40.95,6,    27.35,6,     0.00,6,     1.99,6,   -999.0,9,   -999.0,9,-999.0000,9,  -999.00,     1625
  49UF20120204,KS1202,  3328,  1,     13,  21972,2,20120215,1554, 17.9993, 164.9872, 5428,    603.4,   6.6024,  34.2400,2,-999.0000,9,   -999.0,9,  -999.00,9,  -999.00,9,  -999.00,9,  -999.00,9,   -999.0,9,   -999.0,9,-999.0000,9,  -999.00,     1623
  49UF20120204,KS1202,  3328,  1,     12,  21971,2,20120215,1554, 17.9993, 164.9872, 5428,    604.3,   6.5887,  34.2402,2,-999.0000,9,     65.9,2,    63.02,2,    35.49,2,     0.00,2,     2.58,2,   -999.0,9,   -999.0,9,-999.0000,9,  -999.00,     1623
  49UF20120204,KS1202,  3328,  1,     11,  21970,2,20120215,1554, 17.9993, 164.9872, 5428,    707.9,   5.6327,  34.4077,2,-999.0000,9,     55.0,2,    78.43,2,    38.68,2,     0.00,2,     2.79,2,   -999.0,9,   -999.0,9,-999.0000,9,  -999.00,     1620
  49UF20120204,KS1202,  3328,  1,      9,  21968,2,20120215,1554, 17.9993, 164.9872, 5428,    808.6,   5.1580,  34.4599,2,-999.0000,9,   -999.0,9,  -999.00,9,  -999.00,9,  -999.00,9,  -999.00,9,   -999.0,9,   -999.0,9,-999.0000,9,  -999.00,     1618
  49UF20120204,KS1202,  3328,  1,      8,  21967,2,20120215,1554, 17.9993, 164.9872, 5428,    809.1,   5.1581,  34.4597,2,-999.0000,9,     61.5,2,    86.26,2,    39.14,2,     0.00,2,     2.81,2,   -999.0,9,   -999.0,9,-999.0000,9,  -999.00,     1618
  49UF20120204,KS1202,  3328,  1,     10,  21969,2,20120215,1554, 17.9993, 164.9872, 5428,    809.9,   5.1553,  34.4602,2,-999.0000,9,   -999.0,9,  -999.00,9,  -999.00,9,  -999.00,9,  -999.00,9,   -999.0,9,   -999.0,9,-999.0000,9,  -999.00,     1618
  49UF20120204,KS1202,  3328,  1,      7,  21966,2,20120215,1554, 17.9993, 164.9872, 5428,    908.6,   4.7507,  34.4946,2,-999.0000,9,     63.9,2,    92.87,2,    39.71,2,     0.00,2,     2.84,2,   -999.0,9,   -999.0,9,-999.0000,9,  -999.00,     1616
  49UF20120204,KS1202,  3328,  1,      6,  21965,2,20120215,1554, 17.9993, 164.9872, 5428,   1009.2,   4.3846,  34.5163,2,-999.0000,9,     66.5,6,    99.57,6,    39.80,6,     0.00,6,     2.87,6,   -999.0,9,   -999.0,9,-999.0000,9,  -999.00,     1613
  49UF20120204,KS1202,  3328,  1,      5,  21964,2,20120215,1554, 17.9993, 164.9872, 5428,   1212.8,   3.6244,  34.5475,2,-999.0000,9,     76.8,2,   114.70,2,    40.03,2,     0.00,2,     2.86,2,   -999.0,9,   -999.0,9,-999.0000,9,  -999.00,     1610
  49UF20120204,KS1202,  3328,  1,      4,  21963,2,20120215,1554, 17.9993, 164.9872, 5428,   1415.1,   3.0788,  34.5660,2,-999.0000,9,     83.7,2,   125.89,2,    39.89,2,     0.00,2,     2.83,2,   -999.0,9,   -999.0,9,-999.0000,9,  -999.00,     1606
  49UF20120204,KS1202,  3328,  1,      3,  21962,2,20120215,1554, 17.9993, 164.9872, 5428,   1616.1,   2.6724,  34.5863,2,-999.0000,9,     88.0,2,   134.61,2,    39.85,2,     0.00,2,     2.83,2,   -999.0,9,   -999.0,9,-999.0000,9,  -999.00,     1602
  49UF20120204,KS1202,  3328,  1,      2,  21961,2,20120215,1554, 17.9993, 164.9872, 5428,   1820.3,   2.3888,  34.6039,2,-999.0000,9,     94.2,2,   140.66,2,    39.71,2,     0.00,2,     2.80,2,   -999.0,9,   -999.0,9,-999.0000,9,  -999.00,     1558
  49UF20120204,KS1202,  3328,  1,      1,  21960,2,20120215,1554, 17.9993, 164.9872, 5428,   2023.6,   2.1251,  34.6222,2,-999.0000,9,    102.2,2,   145.56,2,    39.03,2,     0.00,2,     2.76,2,   -999.0,9,   -999.0,9,-999.0000,9,  -999.00,     1554
  49UF20120204,KS1202,  3329,  1,     99,     99,2,20120215,2259, 16.9917, 164.9795, 5425,      0.0,  27.2944,  35.0769,2,-999.0000,9,    200.3,2,     0.83,2,     0.02,2,     0.00,2,     0.07,2,   -999.0,9,   -999.0,9,-999.0000,9,  -999.00,     2345
  49UF20120204,KS1202,  3329,  1,     36,  21995,4,20120215,2259, 16.9917, 164.9795, 5425,     10.7,  27.2783,  35.0763,2,-999.0000,9,   -999.0,9,  -999.00,9,  -999.00,9,  -999.00,9,  -999.00,9,   -999.0,9,   -999.0,9,-999.0000,9,  -999.00,        9
  49UF20120204,KS1202,  3329,  1,     35,  21994,2,20120215,2259, 16.9917, 164.9795, 5425,     26.1,  27.2771,  35.0762,2,  35.0762,2,    199.9,6,     0.80,6,     0.06,6,     0.00,6,     0.07,6,   -999.0,9,   -999.0,9,-999.0000,9,  -999.00,        7
  49UF20120204,KS1202,  3329,  1,     34,  21993,2,20120215,2259, 16.9917, 164.9795, 5425,     49.7,  27.2666,  35.0752,2,-999.0000,9,    200.1,2,     0.84,2,     0.00,2,     0.00,2,     0.06,2,   -999.0,9,   -999.0,9,-999.0000,9,  -999.00,        2
  49UF20120204,KS1202,  3329,  1,     32,  21991,2,20120215,2259, 16.9917, 164.9795, 5425,     77.2,  27.2741,  35.0750,2,-999.0000,9,    200.1,2,     0.86,2,     0.01,2,     0.00,2,     0.06,2,   -999.0,9,   -999.0,9,-999.0000,9,  -999.00,        1
  49UF20120204,KS1202,  3329,  1,     31,  21990,2,20120215,2259, 16.9917, 164.9795, 5425,     99.6,  27.0373,  35.0528,2,  35.0539,2,    201.0,2,     0.81,2,     0.00,2,     0.00,2,     0.04,2,   -999.0,9,   -999.0,9,-999.0000,9,  -999.00,     2359
  49UF20120204,KS1202,  3329,  1,     30,  21989,2,20120215,2259, 16.9917, 164.9795, 5425,    127.0,  25.7584,  35.2687,2,-999.0000,9,    198.8,2,     0.98,2,     0.00,2,     0.00,2,     0.05,2,   -999.0,9,   -999.0,9,-999.0000,9,  -999.00,     2357
  49UF20120204,KS1202,  3329,  1,     27,  21986,2,20120215,2259, 16.9917, 164.9795, 5425,    152.0,  24.0818,  35.3001,2,-999.0000,9,    190.0,2,     1.19,2,     0.20,2,     0.13,2,     0.09,2,   -999.0,9,   -999.0,9,-999.0000,9,  -999.00,     2356
  49UF20120204,KS1202,  3329,  1,     26,  21985,2,20120215,2259, 16.9917, 164.9795, 5425,    201.9,  20.4332,  35.0547,2,  35.0748,4,    183.5,2,     2.31,2,     2.42,2,     0.01,2,     0.22,2,   -999.0,9,   -999.0,9,-999.0000,9,  -999.00,     2353
  49UF20120204,KS1202,  3329,  1,     25,  21984,2,20120215,2259, 16.9917, 164.9795, 5425,    254.2,  17.3305,  34.7425,2,-999.0000,9,    187.8,2,     4.21,2,     5.20,2,     0.00,2,     0.39,2,   -999.0,9,   -999.0,9,-999.0000,9,  -999.00,     2351
  49UF20120204,KS1202,  3329,  1,     22,  21981,2,20120215,2259, 16.9917, 164.9795, 5425,    301.7,  14.8601,  34.5112,2,-999.0000,9,    186.4,2,     8.23,2,     9.18,2,     0.00,2,     0.67,2,   -999.0,9,   -999.0,9,-999.0000,9,  -999.00,     2349
  49UF20120204,KS1202,  3329,  1,     21,  21980,2,20120215,2259, 16.9917, 164.9795, 5425,    402.1,  10.2025,  34.2409,2,-999.0000,9,    131.1,2,    26.64,2,    22.18,2,     0.00,2,     1.67,2,   -999.0,9,   -999.0,9,-999.0000,9,  -999.00,     2346
  49UF20120204,KS1202,  3329,  1,     20,  21979,2,20120215,2259, 16.9917, 164.9795, 5425,    402.1,  10.2025,  34.2409,2,  34.2423,2,    130.9,2,    26.54,2,    22.14,2,     0.00,2,     1.67,2,   -999.0,9,   -999.0,9,-999.0000,9,  -999.00,     2346
  49UF20120204,KS1202,  3329,  1,     18,  21977,2,20120215,2259, 16.9917, 164.9795, 5425,    504.4,   7.3478,  34.2046,2,-999.0000,9,     80.9,2,    52.27,2,    32.24,2,     0.00,2,     2.37,2,   -999.0,9,   -999.0,9,-999.0000,9,  -999.00,     2342
  49UF20120204,KS1202,  3329,  1,     17,  21976,2,20120215,2259, 16.9917, 164.9795, 5425,    606.7,   6.0500,  34.2425,2,  34.2398,2,     57.5,6,    70.28,6,    36.91,6,     0.00,6,     2.69,6,   -999.0,9,   -999.0,9,-999.0000,9,  -999.00,     2339
  49UF20120204,KS1202,  3329,  1,     16,  21975,2,20120215,2259, 16.9917, 164.9795, 5425,    705.3,   5.5296,  34.3809,2,-999.0000,9,     59.9,2,    80.32,2,    37.93,2,     0.00,2,     2.76,2,   -999.0,9,   -999.0,9,-999.0000,9,  -999.00,     2335
  49UF20120204,KS1202,  3329,  1,     14,  21973,2,20120215,2259, 16.9917, 164.9795, 5425,    806.3,   5.0810,  34.4611,2,  34.4618,2,     63.7,2,    87.45,2,    38.69,2,     0.00,2,     2.79,2,   -999.0,9,   -999.0,9,-999.0000,9,  -999.00,     2331
  49UF20120204,KS1202,  3329,  1,     13,  21972,2,20120215,2259, 16.9917, 164.9795, 5425,    907.9,   4.5751,  34.5040,2,-999.0000,9,     65.3,2,    95.75,2,    39.59,2,     0.00,2,     2.84,2,   -999.0,9,   -999.0,9,-999.0000,9,  -999.00,     2328
  49UF20120204,KS1202,  3329,  1,     12,  21971,2,20120215,2259, 16.9917, 164.9795, 5425,   1009.9,   4.1934,  34.5192,2,  34.5193,2,     72.8,2,   102.90,2,    39.23,2,     0.00,2,     2.82,2,   -999.0,9,   -999.0,9,-999.0000,9,  -999.00,     2325
  49UF20120204,KS1202,  3329,  1,      9,  21968,2,20120215,2259, 16.9917, 164.9795, 5425,   1212.7,   3.5168,  34.5521,2,  34.5519,2,     75.3,2,   116.49,2,    39.94,2,     0.00,2,     2.86,2,   -999.0,9,   -999.0,9,-999.0000,9,  -999.00,     2319
  49UF20120204,KS1202,  3329,  1,      8,  21967,2,20120215,2259, 16.9917, 164.9795, 5425,   1413.9,   3.0526,  34.5730,2,-999.0000,9,     81.2,2,   126.30,2,    40.02,2,     0.00,2,     2.84,2,   -999.0,9,   -999.0,9,-999.0000,9,  -999.00,     2314
  49UF20120204,KS1202,  3329,  1,      7,  21966,2,20120215,2259, 16.9917, 164.9795, 5425,   1413.9,   3.0526,  34.5730,2,  34.5728,2,     80.7,2,   126.10,2,    39.96,2,     0.00,2,     2.84,2,   -999.0,9,   -999.0,9,-999.0000,9,  -999.00,     2314
  49UF20120204,KS1202,  3329,  1,      5,  21964,2,20120215,2259, 16.9917, 164.9795, 5425,   1616.9,   2.6124,  34.5929,2,  34.5927,2,     88.6,2,   135.36,2,    39.63,2,     0.00,2,     2.81,2,   -999.0,9,   -999.0,9,-999.0000,9,  -999.00,     2309
  49UF20120204,KS1202,  3329,  1,      4,  21963,2,20120215,2259, 16.9917, 164.9795, 5425,   1819.3,   2.3224,  34.6135,2,  34.6123,2,     96.2,2,   141.21,2,    39.08,2,     0.00,2,     2.78,2,   -999.0,9,   -999.0,9,-999.0000,9,  -999.00,     2304
  49UF20120204,KS1202,  3329,  1,      2,  21961,2,20120215,2259, 16.9917, 164.9795, 5425,   2022.2,   2.0851,  34.6294,2,  34.6285,2,    104.2,2,   145.32,2,    38.70,2,     0.00,2,     2.73,2,   -999.0,9,   -999.0,9,-999.0000,9,  -999.00,     2259