BOTTLE,20191017PRINUNIVRMK
# 08/29/2019 Initialized README file  
# Data source:  Masao Ishii 2018/11/30 
# SHIP: R/V Keifu Maru II 
# Cruise: KS12-02 
# Region: Pacific Ocean 
# 	Sta 3290:3321 on 24N from 142E-165E 
# 	Sta 3321:3337 on 165E from 24N to 9N 
# 	Sta 3337:3365 on 9N from 165E to 137E 
# EXPOCODE: 49UF20120204 
# DATES: 20120204 - 20120324	 
# Chief Scientist: Naoki Nagai 
# 61 stations with 24 place Rosette 
# CTD: Who - Hitomi Kamiya; Status - final 
# 	Includes: CTDSAL 
# SALNTY: Who - Hitomi Kamiya; Status - final 
# 	Notes: 	 
# Nutrients: Who - Hitomi Kamiya; Status - final 
# 	Includes: nitrate, nitrite, silicate, phosphate 
# 	Nitrite and NO3+NO2 reported. Separated by subtraction 
# OXYGEN: Who - Tatsushi Shiga; Status - final 
# 	Notes: 
# TCARBN: Who - Hitomi Kamiya; Status - final 
# 	Notes:  
# ALKALI: Who - Hitomi Kamiya; Status - final 
# 	Notes:  
# PH_TOT: Who - Hitomi Kamiya; Status - final 
# 	Notes: at 25C 
# Nagai, Naoki; Kamiya, Hitomi; Ishii, Masao (2019). Dissolved inorganic carbon (DIC), total alkalinity, pH on total scale, temperature, salinity, oxygen, nutrients and other measurements collected from profile and discrete sample observations during the R/V Keifu Maru II cruise KS12-02 (EXPOCODE 49UF20120204) in the North Pacific Ocean from 2012-02-02 to 2012-03-24 (NCEI Accession 0186235). [indicate subset used]. NOAA National Centers for Environmental Information. Dataset. https://doi.org/10.25921/eaqw-ym73. 
# References that have used data from this cruise: 
EXPOCODE,SECT_ID,STNNBR,CASTNO,SAMPNO,BTLNBR,BTLNBR_FLAG_W,DATE,TIME,LATITUDE,LONGITUDE,DEPTH,CTDPRS,CTDTMP,CTDSAL,CTDSAL_FLAG_W,SALNTY,SALNTY_FLAG_W,OXYGEN,OXYGEN_FLAG_W,SILCAT,SILCAT_FLAG_W,NITRAT,NITRAT_FLAG_W,NITRIT,NITRIT_FLAG_W,PHSPHT,PHSPHT_FLAG_W,TCARBN,TCARBN_FLAG_W,ALKALI,ALKALI_FLAG_W,PH_TOT,PH_TOT_FLAG_W,PH_TMP,BTL_TIME
,,,,,,,,,,,METERS,DBAR,ITS-90,PSS-78,,PSS-78,,UMOL/KG,,UMOL/KG,,UMOL/KG,,UMOL/KG,,UMOL/KG,,UMOL/KG,,UMOL/KG,,,,DEG C,
  49UF20120204,KS1202,  3290,  1,     99,     99,2,20120206,1853, 24.2703, 142.4185, 2848,      0.0,  23.4832,  35.1096,2,-999.0000,9,    209.6,2,     1.30,2,     0.05,2,     0.00,2,     0.05,2,   -999.0,9,   -999.0,9,-999.0000,9,  -999.00,     1936
  49UF20120204,KS1202,  3290,  1,     35,  21994,2,20120206,1853, 24.2703, 142.4185, 2848,     10.5,  23.4852,  35.1096,2,-999.0000,9,    210.5,6,     1.19,6,     0.02,6,     0.00,6,     0.02,6,   -999.0,9,   -999.0,9,-999.0000,9,  -999.00,     2009
  49UF20120204,KS1202,  3290,  1,     34,  21993,2,20120206,1853, 24.2703, 142.4185, 2848,     25.5,  23.4957,  35.1093,2,-999.0000,9,    210.6,2,     1.28,2,     0.04,2,     0.00,2,     0.01,2,   -999.0,9,   -999.0,9,-999.0000,9,  -999.00,     2007
  49UF20120204,KS1202,  3290,  1,     33,  21992,2,20120206,1853, 24.2703, 142.4185, 2848,     52.5,  23.4968,  35.1092,2,-999.0000,9,    210.7,2,     1.20,2,     0.00,2,     0.00,2,     0.02,2,   -999.0,9,   -999.0,9,-999.0000,9,  -999.00,     2001
  49UF20120204,KS1202,  3290,  1,     31,  21990,2,20120206,1853, 24.2703, 142.4185, 2848,     76.9,  23.5048,  35.1090,2,-999.0000,9,    210.5,2,     1.28,2,     0.01,2,     0.00,2,     0.02,2,   -999.0,9,   -999.0,9,-999.0000,9,  -999.00,     1959
  49UF20120204,KS1202,  3290,  1,     30,  21989,2,20120206,1853, 24.2703, 142.4185, 2848,    101.0,  22.8491,  35.0714,2,-999.0000,9,    209.7,2,     1.58,2,    -0.03,2,     0.03,2,     0.03,2,   -999.0,9,   -999.0,9,-999.0000,9,  -999.00,     1958
  49UF20120204,KS1202,  3290,  1,     29,  21988,2,20120206,1853, 24.2703, 142.4185, 2848,    127.1,  21.8961,  35.0355,2,-999.0000,9,    205.6,2,     1.76,2,     0.10,2,     0.09,2,     0.04,2,   -999.0,9,   -999.0,9,-999.0000,9,  -999.00,     1956
  49UF20120204,KS1202,  3290,  1,     26,  21985,2,20120206,1853, 24.2703, 142.4185, 2848,    149.5,  20.9131,  34.9875,2,-999.0000,9,    197.4,2,     2.08,2,     0.57,2,     0.06,2,     0.08,2,   -999.0,9,   -999.0,9,-999.0000,9,  -999.00,     1955
  49UF20120204,KS1202,  3290,  1,     25,  21984,2,20120206,1853, 24.2703, 142.4185, 2848,    202.4,  19.0660,  34.8387,2,-999.0000,9,    196.8,2,     2.77,2,     2.27,2,     0.01,2,     0.18,2,   -999.0,9,   -999.0,9,-999.0000,9,  -999.00,     1949
  49UF20120204,KS1202,  3290,  1,     24,  21983,2,20120206,1853, 24.2703, 142.4185, 2848,    253.4,  17.4890,  34.7023,2,-999.0000,9,    198.7,2,     4.18,2,     4.75,2,     0.01,2,     0.33,2,   -999.0,9,   -999.0,9,-999.0000,9,  -999.00,     1947
  49UF20120204,KS1202,  3290,  1,     21,  21980,2,20120206,1853, 24.2703, 142.4185, 2848,    304.0,  16.6744,  34.6575,2,-999.0000,9,    195.5,2,     5.59,2,     6.20,2,     0.01,2,     0.44,2,   -999.0,9,   -999.0,9,-999.0000,9,  -999.00,     1944
  49UF20120204,KS1202,  3290,  1,     20,  21979,2,20120206,1853, 24.2703, 142.4185, 2848,    403.7,  14.3158,  34.5092,2,-999.0000,9,    190.9,2,    11.13,2,    10.41,2,     0.01,2,     0.73,2,   -999.0,9,   -999.0,9,-999.0000,9,  -999.00,     1940
  49UF20120204,KS1202,  3290,  1,     19,  21978,2,20120206,1853, 24.2703, 142.4185, 2848,    403.7,  14.3158,  34.5092,2,-999.0000,9,    190.5,2,    11.10,2,    10.41,2,     0.01,2,     0.73,2,   -999.0,9,   -999.0,9,-999.0000,9,  -999.00,     1940
  49UF20120204,KS1202,  3290,  1,     17,  21976,2,20120206,1853, 24.2703, 142.4185, 2848,    506.1,  11.4916,  34.3164,2,-999.0000,9,    184.8,6,    20.51,6,    15.61,6,     0.01,6,     1.11,6,   -999.0,9,   -999.0,9,-999.0000,9,  -999.00,     1936
  49UF20120204,KS1202,  3290,  1,     16,  21975,2,20120206,1853, 24.2703, 142.4185, 2848,    606.7,   8.6737,  34.1299,2,-999.0000,9,    165.0,2,    33.68,2,    22.12,2,     0.01,2,     1.59,2,   -999.0,9,   -999.0,9,-999.0000,9,  -999.00,     1932
  49UF20120204,KS1202,  3290,  1,     15,  21974,2,20120206,1853, 24.2703, 142.4185, 2848,    708.9,   6.3642,  34.0624,2,-999.0000,9,    120.1,2,    59.32,2,    30.63,2,  -999.00,5,     2.21,2,   -999.0,9,   -999.0,9,-999.0000,9,  -999.00,     1928
  49UF20120204,KS1202,  3290,  1,     13,  21972,2,20120206,1853, 24.2703, 142.4185, 2848,    807.7,   5.0922,  34.1270,2,-999.0000,9,     80.4,2,    83.37,2,    36.38,2,     0.00,2,     2.63,2,   -999.0,9,   -999.0,9,-999.0000,9,  -999.00,     1924
  49UF20120204,KS1202,  3290,  1,     12,  21971,2,20120206,1853, 24.2703, 142.4185, 2848,    908.4,   4.2699,  34.2554,2,-999.0000,9,     50.3,2,   103.78,2,    40.24,2,     0.00,2,     2.89,2,   -999.0,9,   -999.0,9,-999.0000,9,  -999.00,     1921
  49UF20120204,KS1202,  3290,  1,     11,  21970,2,20120206,1853, 24.2703, 142.4185, 2848,   1009.9,   3.7650,  34.3472,2,-999.0000,9,     45.0,2,   117.06,2,    41.27,2,     0.00,2,     2.97,2,   -999.0,9,   -999.0,9,-999.0000,9,  -999.00,     1918
  49UF20120204,KS1202,  3290,  1,      8,  21967,2,20120206,1853, 24.2703, 142.4185, 2848,   1215.1,   3.2679,  34.4468,2,-999.0000,9,     52.0,2,   128.72,2,    41.51,2,     0.00,2,     2.95,2,   -999.0,9,   -999.0,9,-999.0000,9,  -999.00,     1913
  49UF20120204,KS1202,  3290,  1,      7,  21966,2,20120206,1853, 24.2703, 142.4185, 2848,   1415.8,   2.8346,  34.4952,2,-999.0000,9,     61.2,2,   137.88,2,    41.26,2,     0.00,2,     2.94,2,   -999.0,9,   -999.0,9,-999.0000,9,  -999.00,     1907
  49UF20120204,KS1202,  3290,  1,      6,  21965,2,20120206,1853, 24.2703, 142.4185, 2848,   1615.2,   2.4174,  34.5567,2,-999.0000,9,     84.2,2,   141.81,2,    39.88,2,     0.00,2,     2.82,2,   -999.0,9,   -999.0,9,-999.0000,9,  -999.00,     1902
  49UF20120204,KS1202,  3290,  1,      4,  21963,2,20120206,1853, 24.2703, 142.4185, 2848,   1819.1,   2.1836,  34.5788,2,-999.0000,9,     89.1,2,   146.68,2,    39.74,2,     0.00,2,     2.80,2,   -999.0,9,   -999.0,9,-999.0000,9,  -999.00,     1857
  49UF20120204,KS1202,  3290,  1,      3,  21962,2,20120206,1853, 24.2703, 142.4185, 2848,   1819.1,   2.1836,  34.5788,2,-999.0000,9,     89.1,2,   146.48,2,    39.81,2,     0.00,2,     2.79,2,   -999.0,9,   -999.0,9,-999.0000,9,  -999.00,     1857
  49UF20120204,KS1202,  3290,  1,      2,  21961,2,20120206,1853, 24.2703, 142.4185, 2848,   2021.7,   1.9561,  34.6087,2,-999.0000,9,    102.5,2,   148.42,2,    39.07,2,     0.00,2,     2.74,2,   -999.0,9,   -999.0,9,-999.0000,9,  -999.00,     1853
  49UF20120204,KS1202,  3290,  1,      1,  21960,2,20120206,1853, 24.2703, 142.4185, 2848,   2023.1,   1.9543,  34.6091,2,-999.0000,9,    102.4,2,   148.73,2,    38.95,2,     0.00,2,     2.74,2,   -999.0,9,   -999.0,9,-999.0000,9,  -999.00,     1853
  49UF20120204,KS1202,  3292,  1,     99,     99,2,20120207,0655, 24.2573, 143.6187, 8297,      0.0,  23.8921,  35.0836,2,-999.0000,9,    209.9,2,     1.20,2,     0.05,2,     0.00,2,     0.03,2,   -999.0,9,   -999.0,9,-999.0000,9,  -999.00,      736
  49UF20120204,KS1202,  3292,  1,     35,  21994,2,20120207,0655, 24.2573, 143.6187, 8297,     10.8,  23.8926,  35.0835,2,  35.0835,2,    209.9,2,     1.20,2,     0.00,2,     0.00,2,     0.01,2,   -999.0,9,   -999.0,9,-999.0000,9,  -999.00,      759
  49UF20120204,KS1202,  3292,  1,     34,  21993,2,20120207,0655, 24.2573, 143.6187, 8297,     25.0,  23.8550,  35.0869,2,-999.0000,9,    209.8,2,     1.18,2,     0.00,2,     0.00,2,     0.01,2,   -999.0,9,   -999.0,9,-999.0000,9,  -999.00,      757
  49UF20120204,KS1202,  3292,  1,     33,  21992,2,20120207,0655, 24.2573, 143.6187, 8297,     51.3,  23.8230,  35.0910,2,-999.0000,9,    209.9,2,     1.20,2,     0.00,2,     0.00,2,     0.01,2,   -999.0,9,   -999.0,9,-999.0000,9,  -999.00,      753
  49UF20120204,KS1202,  3292,  1,     31,  21990,2,20120207,0655, 24.2573, 143.6187, 8297,     75.1,  23.7669,  35.0986,2,-999.0000,9,    209.9,6,     1.20,6,     0.01,6,     0.00,6,     0.01,6,   -999.0,9,   -999.0,9,-999.0000,9,  -999.00,      752
  49UF20120204,KS1202,  3292,  1,     30,  21989,2,20120207,0655, 24.2573, 143.6187, 8297,    100.1,  23.5607,  35.1242,2,  35.1235,2,    210.7,2,     1.23,2,     0.01,2,     0.00,2,     0.01,2,   -999.0,9,   -999.0,9,-999.0000,9,  -999.00,      750
  49UF20120204,KS1202,  3292,  1,     29,  21988,2,20120207,0655, 24.2573, 143.6187, 8297,    124.4,  22.9840,  35.0864,2,-999.0000,9,    208.3,2,     1.53,2,    -0.01,2,     0.04,2,     0.03,2,   -999.0,9,   -999.0,9,-999.0000,9,  -999.00,      749
  49UF20120204,KS1202,  3292,  1,     26,  21985,2,20120207,0655, 24.2573, 143.6187, 8297,    151.4,  20.7000,  34.9762,2,-999.0000,9,    198.6,2,     2.15,2,     0.90,2,     0.04,2,     0.09,2,   -999.0,9,   -999.0,9,-999.0000,9,  -999.00,      747
  49UF20120204,KS1202,  3292,  1,     25,  21984,2,20120207,0655, 24.2573, 143.6187, 8297,    203.2,  18.3584,  34.7667,2,  34.7678,2,    201.4,2,     3.12,2,     3.08,2,     0.01,2,     0.24,2,   -999.0,9,   -999.0,9,-999.0000,9,  -999.00,      746
  49UF20120204,KS1202,  3292,  1,     24,  21983,2,20120207,0655, 24.2573, 143.6187, 8297,    253.6,  17.4270,  34.7077,2,-999.0000,9,    204.6,2,     4.02,2,     4.45,2,     0.01,2,     0.32,2,   -999.0,9,   -999.0,9,-999.0000,9,  -999.00,      744
  49UF20120204,KS1202,  3292,  1,     21,  21980,2,20120207,0655, 24.2573, 143.6187, 8297,    303.3,  16.5149,  34.6506,2,-999.0000,9,    197.8,2,     5.57,2,     6.28,2,     0.00,2,     0.44,2,   -999.0,9,   -999.0,9,-999.0000,9,  -999.00,      742
  49UF20120204,KS1202,  3292,  1,     20,  21979,2,20120207,0655, 24.2573, 143.6187, 8297,    303.3,  16.5149,  34.6506,2,-999.0000,9,    198.5,2,     5.61,2,     6.28,2,     0.00,2,     0.44,2,   -999.0,9,   -999.0,9,-999.0000,9,  -999.00,      742
  49UF20120204,KS1202,  3292,  1,     19,  21978,2,20120207,0655, 24.2573, 143.6187, 8297,    404.1,  13.7541,  34.4591,2,  34.4635,4,    193.0,2,    11.28,2,    10.84,2,     0.00,2,     0.77,2,   -999.0,9,   -999.0,9,-999.0000,9,  -999.00,      738
  49UF20120204,KS1202,  3292,  1,     17,  21976,4,20120207,0655, 24.2573, 143.6187, 8297,    504.7,  10.9123,  34.2614,2,-999.0000,9,     80.8,4,   140.99,4,    39.58,4,     0.00,4,     2.80,4,   -999.0,9,   -999.0,9,-999.0000,9,  -999.00,      735
  49UF20120204,KS1202,  3292,  1,     16,  21975,2,20120207,0655, 24.2573, 143.6187, 8297,    607.4,   8.3313,  34.1173,2,  34.1194,2,    154.3,6,    38.06,6,    23.94,6,     0.00,6,     1.73,6,   -999.0,9,   -999.0,9,-999.0000,9,  -999.00,      732
  49UF20120204,KS1202,  3292,  1,     15,  21974,2,20120207,0655, 24.2573, 143.6187, 8297,    707.2,   6.2477,  34.0812,2,-999.0000,9,    110.0,2,    61.58,2,    31.78,2,     0.00,2,     2.29,2,   -999.0,9,   -999.0,9,-999.0000,9,  -999.00,      729
  49UF20120204,KS1202,  3292,  1,     13,  21972,2,20120207,0655, 24.2573, 143.6187, 8297,    807.2,   5.3002,  34.1263,2,  34.1261,2,     79.7,2,    79.40,2,    36.16,2,     0.00,2,     2.61,2,   -999.0,9,   -999.0,9,-999.0000,9,  -999.00,      725
  49UF20120204,KS1202,  3292,  1,     12,  21971,2,20120207,0655, 24.2573, 143.6187, 8297,    909.1,   4.3947,  34.2400,2,-999.0000,9,     51.4,2,   100.78,2,    39.83,2,     0.00,2,     2.87,2,   -999.0,9,   -999.0,9,-999.0000,9,  -999.00,      722
  49UF20120204,KS1202,  3292,  1,     11,  21970,2,20120207,0655, 24.2573, 143.6187, 8297,   1011.1,   3.8451,  34.3309,2,  34.3312,2,     45.4,2,   114.96,2,    41.17,2,     0.00,2,     2.95,2,   -999.0,9,   -999.0,9,-999.0000,9,  -999.00,      719
  49UF20120204,KS1202,  3292,  1,      8,  21967,2,20120207,0655, 24.2573, 143.6187, 8297,   1209.9,   3.3022,  34.4399,2,  34.4397,2,     51.0,2,   127.86,2,    41.36,2,     0.00,2,     2.96,2,   -999.0,9,   -999.0,9,-999.0000,9,  -999.00,      713
  49UF20120204,KS1202,  3292,  1,      7,  21966,2,20120207,0655, 24.2573, 143.6187, 8297,   1413.2,   2.7992,  34.4954,2,-999.0000,9,     61.6,2,   138.94,2,    41.05,2,     0.00,2,     2.92,2,   -999.0,9,   -999.0,9,-999.0000,9,  -999.00,      709
  49UF20120204,KS1202,  3292,  1,      6,  21965,2,20120207,0655, 24.2573, 143.6187, 8297,   1413.2,   2.7992,  34.4954,2,  34.4960,2,     61.4,2,   138.63,2,    41.10,2,     0.00,2,     2.92,2,   -999.0,9,   -999.0,9,-999.0000,9,  -999.00,      708
  49UF20120204,KS1202,  3292,  1,      3,  21962,2,20120207,0655, 24.2573, 143.6187, 8297,   1616.8,   2.3597,  34.5430,2,-999.0000,9,     69.9,2,   148.50,2,    40.91,2,     0.00,2,     2.89,2,   -999.0,9,   -999.0,9,-999.0000,9,  -999.00,      704
  49UF20120204,KS1202,  3292,  1,      4,  21963,2,20120207,0655, 24.2573, 143.6187, 8297,   1617.8,   2.3595,  34.5432,2,  34.5443,2,     69.8,2,   148.19,2,    40.79,2,     0.00,2,     2.90,2,   -999.0,9,   -999.0,9,-999.0000,9,  -999.00,      704
  49UF20120204,KS1202,  3292,  1,      2,  21961,2,20120207,0655, 24.2573, 143.6187, 8297,   1819.6,   2.0952,  34.5854,2,  34.5859,2,     89.1,2,   149.28,2,    39.77,2,     0.00,2,     2.81,2,   -999.0,9,   -999.0,9,-999.0000,9,  -999.00,      659
  49UF20120204,KS1202,  3292,  1,      1,  21960,2,20120207,0655, 24.2573, 143.6187, 8297,   2023.6,   1.9144,  34.6101,2,  34.6104,2,    100.6,2,   150.67,2,    39.18,2,     0.00,2,     2.75,2,   -999.0,9,   -999.0,9,-999.0000,9,  -999.00,      655