BOTTLE,20191017PRINUNIVRMK
EXPOCODE,SECT_ID,STNNBR,CASTNO,SAMPNO,BTLNBR,BTLNBR_FLAG_W,DATE,TIME,LATITUDE,LONGITUDE,DEPTH,CTDPRS,CTDTMP,CTDSAL,CTDSAL_FLAG_W,SALNTY,SALNTY_FLAG_W,OXYGEN,OXYGEN_FLAG_W,SILCAT,SILCAT_FLAG_W,NITRAT,NITRAT_FLAG_W,NITRIT,NITRIT_FLAG_W,PHSPHT,PHSPHT_FLAG_W,TCARBN,TCARBN_FLAG_W,ALKALI,ALKALI_FLAG_W,PH_TOT,PH_TOT_FLAG_W,PH_TMP,BTL_TIME
,,,,,,,,,,,METERS,DBAR,ITS-90,PSS-78,,PSS-78,,UMOL/KG,,UMOL/KG,,UMOL/KG,,UMOL/KG,,UMOL/KG,,UMOL/KG,,UMOL/KG,,,,DEG C,
  49UF20120204,KS1202,  3359,  1,     99,     99,2,20120306,0458,  9.3078, 142.9623, 3966,      0.0,  28.5842,  34.2737,2,-999.0000,9,    196.2,2,     0.92,2,     0.12,2,     0.00,2,     0.09,2,   -999.0,9,   -999.0,9,-999.0000,9,  -999.00,      605
  49UF20120204,KS1202,  3359,  1,     35,  21994,2,20120306,0458,  9.3078, 142.9623, 3966,     10.5,  28.5865,  34.2729,2,  34.2726,2,    196.0,2,     0.89,2,     0.09,2,     0.00,2,     0.09,2,   -999.0,9,   -999.0,9,-999.0000,9,  -999.00,      619
  49UF20120204,KS1202,  3359,  1,     34,  21993,2,20120306,0458,  9.3078, 142.9623, 3966,     26.0,  28.5492,  34.2676,2,-999.0000,9,    196.2,2,     0.94,2,     0.09,2,     0.00,2,     0.09,2,   -999.0,9,   -999.0,9,-999.0000,9,  -999.00,      617
  49UF20120204,KS1202,  3359,  1,     33,  21992,2,20120306,0458,  9.3078, 142.9623, 3966,     50.6,  28.4846,  34.2589,2,-999.0000,9,    196.0,2,     0.94,2,     0.11,2,     0.00,2,     0.09,2,   -999.0,9,   -999.0,9,-999.0000,9,  -999.00,      613
  49UF20120204,KS1202,  3359,  1,     32,  21991,3,20120306,0458,  9.3078, 142.9623, 3966,     76.6,  28.2705,  34.6184,2,-999.0000,9,    199.4,2,     0.86,2,     0.13,2,     0.00,2,     0.10,2,   -999.0,9,   -999.0,9,-999.0000,9,  -999.00,      612
  49UF20120204,KS1202,  3359,  1,     31,  21990,2,20120306,0458,  9.3078, 142.9623, 3966,     99.7,  27.1427,  35.0424,2,  35.0192,4,    200.6,2,     0.83,2,     0.11,2,     0.00,2,     0.11,2,   -999.0,9,   -999.0,9,-999.0000,9,  -999.00,      611
  49UF20120204,KS1202,  3359,  1,     29,  21988,2,20120306,0458,  9.3078, 142.9623, 3966,    129.4,  23.8923,  35.1590,2,-999.0000,9,    189.1,2,     1.28,2,     0.34,2,     0.07,2,     0.17,2,   -999.0,9,   -999.0,9,-999.0000,9,  -999.00,      609
  49UF20120204,KS1202,  3359,  1,     28,  21987,2,20120306,0458,  9.3078, 142.9623, 3966,    152.6,  20.7565,  34.9720,2,-999.0000,9,    162.7,2,     4.02,2,     5.00,2,     0.02,2,     0.49,2,   -999.0,9,   -999.0,9,-999.0000,9,  -999.00,      607
  49UF20120204,KS1202,  3359,  1,     27,  21986,2,20120306,0458,  9.3078, 142.9623, 3966,    203.4,  14.3272,  34.5554,2,  34.5610,4,    125.6,2,    15.28,2,    16.27,2,     0.00,2,     1.24,2,   -999.0,9,   -999.0,9,-999.0000,9,  -999.00,      604
  49UF20120204,KS1202,  3359,  1,     24,  21983,2,20120306,0458,  9.3078, 142.9623, 3966,    252.8,  10.7283,  34.4675,2,-999.0000,9,     93.8,6,    28.93,6,    26.06,6,     0.00,6,     1.89,6,   -999.0,9,   -999.0,9,-999.0000,9,  -999.00,      601
  49UF20120204,KS1202,  3359,  1,     23,  21982,2,20120306,0458,  9.3078, 142.9623, 3966,    301.7,  10.2556,  34.5253,2,-999.0000,9,     73.7,2,    32.52,2,    29.41,2,     0.00,2,     2.11,2,   -999.0,9,   -999.0,9,-999.0000,9,  -999.00,      558
  49UF20120204,KS1202,  3359,  1,     22,  21981,2,20120306,0458,  9.3078, 142.9623, 3966,    301.7,  10.2556,  34.5253,2,-999.0000,9,     73.2,2,    32.31,2,    29.41,2,     0.00,2,     2.12,2,   -999.0,9,   -999.0,9,-999.0000,9,  -999.00,      558
  49UF20120204,KS1202,  3359,  1,     19,  21978,2,20120306,0458,  9.3078, 142.9623, 3966,    404.3,   8.6279,  34.5586,2,  34.5589,2,     66.0,2,    40.49,2,    33.47,2,     0.00,2,     2.37,2,   -999.0,9,   -999.0,9,-999.0000,9,  -999.00,      553
  49UF20120204,KS1202,  3359,  1,     18,  21977,2,20120306,0458,  9.3078, 142.9623, 3966,    505.0,   7.8027,  34.5408,2,-999.0000,9,     73.3,2,    45.78,2,    34.31,2,     0.00,2,     2.43,2,   -999.0,9,   -999.0,9,-999.0000,9,  -999.00,      548
  49UF20120204,KS1202,  3359,  1,     17,  21976,2,20120306,0458,  9.3078, 142.9623, 3966,    605.9,   7.1535,  34.5270,2,  34.5277,2,     78.4,2,    51.30,2,    35.03,2,     0.00,2,     2.49,2,   -999.0,9,   -999.0,9,-999.0000,9,  -999.00,      542
  49UF20120204,KS1202,  3359,  1,     15,  21974,2,20120306,0458,  9.3078, 142.9623, 3966,    706.0,   6.3711,  34.5193,2,-999.0000,9,     82.0,2,    60.47,2,    36.06,2,     0.00,2,     2.57,2,   -999.0,9,   -999.0,9,-999.0000,9,  -999.00,      537
  49UF20120204,KS1202,  3359,  1,     14,  21973,2,20120306,0458,  9.3078, 142.9623, 3966,    706.0,   6.3711,  34.5193,2,-999.0000,9,     82.2,2,    60.50,2,    35.79,2,     0.00,2,     2.57,2,   -999.0,9,   -999.0,9,-999.0000,9,  -999.00,      537
  49UF20120204,KS1202,  3359,  1,     13,  21972,2,20120306,0458,  9.3078, 142.9623, 3966,    805.8,   5.6270,  34.5335,2,  34.5338,2,     79.0,2,    71.82,2,    37.73,2,     0.00,2,     2.69,2,   -999.0,9,   -999.0,9,-999.0000,9,  -999.00,      532
  49UF20120204,KS1202,  3359,  1,     11,  21970,2,20120306,0458,  9.3078, 142.9623, 3966,    905.9,   5.1413,  34.5355,2,-999.0000,9,     82.0,2,    80.06,2,    37.88,2,     0.00,2,     2.71,2,   -999.0,9,   -999.0,9,-999.0000,9,  -999.00,      527
  49UF20120204,KS1202,  3359,  1,     10,  21969,2,20120306,0458,  9.3078, 142.9623, 3966,   1009.6,   4.5649,  34.5435,2,  34.5423,2,     82.0,2,    91.53,2,    38.82,2,     0.00,2,     2.76,2,   -999.0,9,   -999.0,9,-999.0000,9,  -999.00,      523
  49UF20120204,KS1202,  3359,  1,      9,  21968,2,20120306,0458,  9.3078, 142.9623, 3966,   1213.8,   3.7224,  34.5693,2,  34.5694,2,     89.1,2,   108.00,2,    39.04,2,     0.00,2,     2.78,2,   -999.0,9,   -999.0,9,-999.0000,9,  -999.00,      516
  49UF20120204,KS1202,  3359,  1,      6,  21965,2,20120306,0458,  9.3078, 142.9623, 3966,   1413.3,   3.1897,  34.5866,2,  34.5878,2,     94.5,2,   119.00,2,    39.03,2,     0.00,2,     2.78,2,   -999.0,9,   -999.0,9,-999.0000,9,  -999.00,      510
  49UF20120204,KS1202,  3359,  1,      5,  21964,2,20120306,0458,  9.3078, 142.9623, 3966,   1616.3,   2.7711,  34.6022,2,  34.6014,2,     99.5,2,   127.92,2,    38.97,2,     0.00,2,     2.76,2,   -999.0,9,   -999.0,9,-999.0000,9,  -999.00,      506
  49UF20120204,KS1202,  3359,  1,      4,  21963,2,20120306,0458,  9.3078, 142.9623, 3966,   1816.5,   2.4151,  34.6209,2,  34.6209,2,    107.4,6,   134.06,6,    38.70,6,     0.00,6,     2.73,6,   -999.0,9,   -999.0,9,-999.0000,9,  -999.00,      501
  49UF20120204,KS1202,  3359,  1,      1,  21960,2,20120306,0458,  9.3078, 142.9623, 3966,   2015.0,   2.2080,  34.6317,2,  34.6323,2,    111.7,2,   138.28,2,    38.33,2,     0.00,2,     2.71,2,   -999.0,9,   -999.0,9,-999.0000,9,  -999.00,      458
  49UF20120204,KS1202,  3360,  1,     99,     99,2,20120306,2208,  9.2205, 141.9665, 2729,      0.0,  28.4394,  34.2836,2,-999.0000,9,    196.5,2,     1.15,2,     0.06,2,     0.00,2,     0.08,2,   -999.0,9,   -999.0,9,-999.0000,9,  -999.00,     2253
  49UF20120204,KS1202,  3360,  1,     35,  21994,2,20120306,2208,  9.2205, 141.9665, 2729,     11.8,  28.4414,  34.2849,2,-999.0000,9,    196.1,2,     1.16,2,     0.02,2,     0.00,2,     0.07,2,   -999.0,9,   -999.0,9,-999.0000,9,  -999.00,     2319
  49UF20120204,KS1202,  3360,  1,     34,  21993,2,20120306,2208,  9.2205, 141.9665, 2729,     25.9,  28.4436,  34.2824,2,-999.0000,9,    196.7,2,     1.16,2,     0.03,2,     0.00,2,     0.07,2,   -999.0,9,   -999.0,9,-999.0000,9,  -999.00,     2318
  49UF20120204,KS1202,  3360,  1,     33,  21992,2,20120306,2208,  9.2205, 141.9665, 2729,     50.7,  28.4478,  34.2862,2,-999.0000,9,    196.4,2,     1.13,2,     0.10,2,     0.00,2,     0.07,2,   -999.0,9,   -999.0,9,-999.0000,9,  -999.00,     2317
  49UF20120204,KS1202,  3360,  1,     32,  21991,2,20120306,2208,  9.2205, 141.9665, 2729,     76.3,  28.4548,  34.2877,2,-999.0000,9,    196.5,2,     1.16,2,     0.05,2,     0.00,2,     0.09,2,   -999.0,9,   -999.0,9,-999.0000,9,  -999.00,     2316
  49UF20120204,KS1202,  3360,  1,     31,  21990,2,20120306,2208,  9.2205, 141.9665, 2729,     99.1,  28.4590,  34.2963,2,-999.0000,9,    196.5,2,     1.16,2,     0.04,2,     0.00,2,     0.08,2,   -999.0,9,   -999.0,9,-999.0000,9,  -999.00,     2312
  49UF20120204,KS1202,  3360,  1,     29,  21988,2,20120306,2208,  9.2205, 141.9665, 2729,    126.0,  25.2203,  34.9372,2,-999.0000,9,    174.6,2,     2.50,2,     1.72,2,     0.22,2,     0.28,2,   -999.0,9,   -999.0,9,-999.0000,9,  -999.00,     2311
  49UF20120204,KS1202,  3360,  1,     28,  21987,2,20120306,2208,  9.2205, 141.9665, 2729,    154.2,  21.0150,  34.8982,2,-999.0000,9,    157.7,2,     5.07,2,     5.93,2,     0.02,2,     0.55,2,   -999.0,9,   -999.0,9,-999.0000,9,  -999.00,     2309
  49UF20120204,KS1202,  3360,  1,     27,  21986,2,20120306,2208,  9.2205, 141.9665, 2729,    201.4,  14.7138,  34.5707,2,-999.0000,9,    122.3,2,    16.16,2,    16.78,2,     0.00,2,     1.27,2,   -999.0,9,   -999.0,9,-999.0000,9,  -999.00,     2306
  49UF20120204,KS1202,  3360,  1,     24,  21983,2,20120306,2208,  9.2205, 141.9665, 2729,    253.2,  10.1835,  34.4364,2,-999.0000,9,     89.2,2,    31.97,2,    27.36,2,     0.00,2,     1.99,2,   -999.0,9,   -999.0,9,-999.0000,9,  -999.00,     2303
  49UF20120204,KS1202,  3360,  1,     23,  21982,2,20120306,2208,  9.2205, 141.9665, 2729,    253.2,  10.1835,  34.4364,2,-999.0000,9,     89.2,2,    32.12,2,    27.39,2,     0.00,2,     1.99,2,   -999.0,9,   -999.0,9,-999.0000,9,  -999.00,     2303
  49UF20120204,KS1202,  3360,  1,     22,  21981,2,20120306,2208,  9.2205, 141.9665, 2729,    304.0,   9.0558,  34.4789,2,-999.0000,9,     76.7,6,    39.88,6,    31.04,6,     0.00,6,     2.23,6,   -999.0,9,   -999.0,9,-999.0000,9,  -999.00,     2300
  49UF20120204,KS1202,  3360,  1,     19,  21978,2,20120306,2208,  9.2205, 141.9665, 2729,    404.0,   8.2957,  34.5367,2,-999.0000,9,     71.3,2,    43.24,2,    33.43,2,     0.00,2,     2.37,2,   -999.0,9,   -999.0,9,-999.0000,9,  -999.00,     2255
  49UF20120204,KS1202,  3360,  1,     18,  21977,2,20120306,2208,  9.2205, 141.9665, 2729,    506.2,   7.4547,  34.5371,2,-999.0000,9,     74.4,2,    48.86,2,    34.85,2,     0.00,2,     2.48,2,   -999.0,9,   -999.0,9,-999.0000,9,  -999.00,     2250
  49UF20120204,KS1202,  3360,  1,     17,  21976,2,20120306,2208,  9.2205, 141.9665, 2729,    506.2,   7.4547,  34.5371,2,-999.0000,9,     74.5,2,    49.15,2,    34.72,2,     0.00,2,     2.48,2,   -999.0,9,   -999.0,9,-999.0000,9,  -999.00,     2250
  49UF20120204,KS1202,  3360,  1,     15,  21974,2,20120306,2208,  9.2205, 141.9665, 2729,    608.1,   6.6566,  34.5122,2,-999.0000,9,     86.6,2,    56.38,2,    34.92,2,     0.00,2,     2.50,2,   -999.0,9,   -999.0,9,-999.0000,9,  -999.00,     2245
  49UF20120204,KS1202,  3360,  1,     14,  21973,2,20120306,2208,  9.2205, 141.9665, 2729,    709.4,   6.1186,  34.5195,2,-999.0000,9,     83.2,2,    63.85,2,    36.38,2,     0.00,2,     2.59,2,   -999.0,9,   -999.0,9,-999.0000,9,  -999.00,     2241
  49UF20120204,KS1202,  3360,  1,     13,  21972,2,20120306,2208,  9.2205, 141.9665, 2729,    808.4,   5.6175,  34.5263,2,-999.0000,9,     82.3,2,    71.98,2,    37.14,2,     0.00,2,     2.66,2,   -999.0,9,   -999.0,9,-999.0000,9,  -999.00,     2237
  49UF20120204,KS1202,  3360,  1,     11,  21970,2,20120306,2208,  9.2205, 141.9665, 2729,    908.3,   5.2133,  34.5351,2,-999.0000,9,     82.6,2,    79.31,2,    37.84,2,     0.00,2,     2.70,2,   -999.0,9,   -999.0,9,-999.0000,9,  -999.00,     2233
  49UF20120204,KS1202,  3360,  1,     10,  21969,2,20120306,2208,  9.2205, 141.9665, 2729,   1009.8,   4.7111,  34.5432,2,-999.0000,9,     82.6,2,    88.51,2,    38.53,2,     0.00,2,     2.74,2,   -999.0,9,   -999.0,9,-999.0000,9,  -999.00,     2230
  49UF20120204,KS1202,  3360,  1,      9,  21968,2,20120306,2208,  9.2205, 141.9665, 2729,   1212.0,   3.7331,  34.5679,2,-999.0000,9,     87.9,2,   108.42,2,    39.09,2,     0.00,2,     2.78,2,   -999.0,9,   -999.0,9,-999.0000,9,  -999.00,     2225
  49UF20120204,KS1202,  3360,  1,      6,  21965,2,20120306,2208,  9.2205, 141.9665, 2729,   1413.5,   3.1511,  34.5869,2,-999.0000,9,     94.5,2,   119.88,2,    39.19,2,     0.00,2,     2.78,2,   -999.0,9,   -999.0,9,-999.0000,9,  -999.00,     2220
  49UF20120204,KS1202,  3360,  1,      5,  21964,2,20120306,2208,  9.2205, 141.9665, 2729,   1615.9,   2.7252,  34.6051,2,-999.0000,9,    100.1,2,   128.47,2,    39.09,2,     0.00,2,     2.76,2,   -999.0,9,   -999.0,9,-999.0000,9,  -999.00,     2216
  49UF20120204,KS1202,  3360,  1,      4,  21963,2,20120306,2208,  9.2205, 141.9665, 2729,   1817.8,   2.3614,  34.6226,2,-999.0000,9,    108.9,2,   135.18,2,    38.66,2,     0.00,2,     2.71,2,   -999.0,9,   -999.0,9,-999.0000,9,  -999.00,     2212
  49UF20120204,KS1202,  3360,  1,      1,  21960,2,20120306,2208,  9.2205, 141.9665, 2729,   2017.1,   2.1935,  34.6322,2,-999.0000,9,    113.7,6,   137.75,6,    38.32,6,     0.00,6,     2.70,6,   -999.0,9,   -999.0,9,-999.0000,9,  -999.00,     2208
  49UF20120204,KS1202,  3361,  1,     99,     99,2,20120307,0504,  9.1205, 140.9647, 3464,      0.0,  28.3666,  34.2182,2,-999.0000,9,    197.3,2,     1.08,2,     0.09,2,     0.00,2,     0.08,2,   -999.0,9,   -999.0,9,-999.0000,9,  -999.00,      600
  49UF20120204,KS1202,  3361,  1,     35,  21994,2,20120307,0504,  9.1205, 140.9647, 3464,     12.1,  28.3669,  34.2183,2,-999.0000,9,    196.7,2,     1.08,2,     0.11,2,     0.00,2,     0.08,2,   -999.0,9,   -999.0,9,-999.0000,9,  -999.00,      615
  49UF20120204,KS1202,  3361,  1,     34,  21993,2,20120307,0504,  9.1205, 140.9647, 3464,     26.2,  28.3057,  34.2254,2,-999.0000,9,    196.6,2,     1.06,2,     0.10,2,     0.00,2,     0.08,2,   -999.0,9,   -999.0,9,-999.0000,9,  -999.00,      614
  49UF20120204,KS1202,  3361,  1,     33,  21992,2,20120307,0504,  9.1205, 140.9647, 3464,     49.2,  28.2838,  34.2324,2,-999.0000,9,    196.8,2,     1.08,2,     0.14,2,     0.00,2,     0.08,2,   -999.0,9,   -999.0,9,-999.0000,9,  -999.00,      610
  49UF20120204,KS1202,  3361,  1,     32,  21991,2,20120307,0504,  9.1205, 140.9647, 3464,     74.0,  28.2906,  34.2400,2,-999.0000,9,    196.3,2,     1.08,2,     0.12,2,     0.00,2,     0.08,2,   -999.0,9,   -999.0,9,-999.0000,9,  -999.00,      609
  49UF20120204,KS1202,  3361,  1,     31,  21990,2,20120307,0504,  9.1205, 140.9647, 3464,    101.9,  25.3754,  34.9125,2,-999.0000,9,    182.8,2,     1.88,2,     0.68,2,     0.19,2,     0.22,2,   -999.0,9,   -999.0,9,-999.0000,9,  -999.00,      607
  49UF20120204,KS1202,  3361,  1,     29,  21988,2,20120307,0504,  9.1205, 140.9647, 3464,    126.5,  23.1437,  34.9982,2,-999.0000,9,    174.0,2,     2.67,2,     2.31,2,     0.24,2,     0.33,2,   -999.0,9,   -999.0,9,-999.0000,9,  -999.00,      606
  49UF20120204,KS1202,  3361,  1,     28,  21987,2,20120307,0504,  9.1205, 140.9647, 3464,    151.0,  21.2494,  34.9614,2,-999.0000,9,    167.0,2,     3.73,2,     4.29,2,     0.07,2,     0.45,2,   -999.0,9,   -999.0,9,-999.0000,9,  -999.00,      604
  49UF20120204,KS1202,  3361,  1,     27,  21986,2,20120307,0504,  9.1205, 140.9647, 3464,    151.0,  21.2494,  34.9614,2,-999.0000,9,    166.7,2,     3.78,2,     4.34,2,     0.07,2,     0.45,2,   -999.0,9,   -999.0,9,-999.0000,9,  -999.00,      604
  49UF20120204,KS1202,  3361,  1,     24,  21983,2,20120307,0504,  9.1205, 140.9647, 3464,    204.1,  17.3660,  34.7261,2,-999.0000,9,    153.1,6,     7.75,6,     9.35,6,     0.01,6,     0.77,6,   -999.0,9,   -999.0,9,-999.0000,9,  -999.00,      602
  49UF20120204,KS1202,  3361,  1,     23,  21982,2,20120307,0504,  9.1205, 140.9647, 3464,    252.4,  11.7699,  34.3897,2,-999.0000,9,    119.1,2,    21.82,2,    20.96,2,     0.00,2,     1.56,2,   -999.0,9,   -999.0,9,-999.0000,9,  -999.00,      559
  49UF20120204,KS1202,  3361,  1,     22,  21981,2,20120307,0504,  9.1205, 140.9647, 3464,    303.2,   9.5501,  34.4653,2,-999.0000,9,     79.8,2,    36.00,2,    29.79,2,     0.00,2,     2.14,2,   -999.0,9,   -999.0,9,-999.0000,9,  -999.00,      556
  49UF20120204,KS1202,  3361,  1,     19,  21978,2,20120307,0504,  9.1205, 140.9647, 3464,    403.4,   8.3437,  34.5097,2,-999.0000,9,     73.8,2,    43.51,2,    33.05,2,     0.00,2,     2.35,2,   -999.0,9,   -999.0,9,-999.0000,9,  -999.00,      552
  49UF20120204,KS1202,  3361,  1,     18,  21977,2,20120307,0504,  9.1205, 140.9647, 3464,    403.4,   8.3437,  34.5097,2,-999.0000,9,     73.9,2,    43.36,2,    33.02,2,     0.00,2,     2.35,2,   -999.0,9,   -999.0,9,-999.0000,9,  -999.00,      552
  49UF20120204,KS1202,  3361,  1,     17,  21976,2,20120307,0504,  9.1205, 140.9647, 3464,    502.9,   7.2693,  34.4773,2,-999.0000,9,     83.1,2,    51.66,2,    34.01,2,     0.00,2,     2.42,2,   -999.0,9,   -999.0,9,-999.0000,9,  -999.00,      548
  49UF20120204,KS1202,  3361,  1,     15,  21974,2,20120307,0504,  9.1205, 140.9647, 3464,    603.4,   6.6005,  34.4988,2,-999.0000,9,     88.8,2,    56.98,2,    34.93,2,     0.00,2,     2.49,2,   -999.0,9,   -999.0,9,-999.0000,9,  -999.00,      544
  49UF20120204,KS1202,  3361,  1,     14,  21973,2,20120307,0504,  9.1205, 140.9647, 3464,    705.7,   5.7958,  34.5126,2,-999.0000,9,     86.1,2,    68.50,2,    36.60,2,     0.00,2,     2.61,2,   -999.0,9,   -999.0,9,-999.0000,9,  -999.00,      540
  49UF20120204,KS1202,  3361,  1,     13,  21972,3,20120307,0504,  9.1205, 140.9647, 3464,    807.4,   5.3252,  34.5247,2,-999.0000,9,     87.0,2,    76.15,2,    37.24,2,     0.00,2,     2.65,2,   -999.0,9,   -999.0,9,-999.0000,9,  -999.00,      536
  49UF20120204,KS1202,  3361,  1,     12,  21971,2,20120307,0504,  9.1205, 140.9647, 3464,    908.1,   4.7081,  34.5400,2,-999.0000,9,     85.5,2,    88.02,2,    37.83,2,     0.00,2,     2.73,2,   -999.0,9,   -999.0,9,-999.0000,9,  -999.00,      532
  49UF20120204,KS1202,  3361,  1,     11,  21970,2,20120307,0504,  9.1205, 140.9647, 3464,   1012.4,   4.5047,  34.5480,2,-999.0000,9,     85.0,2,    91.50,2,    38.50,2,     0.00,2,     2.74,2,   -999.0,9,   -999.0,9,-999.0000,9,  -999.00,      528
  49UF20120204,KS1202,  3361,  1,     10,  21969,2,20120307,0504,  9.1205, 140.9647, 3464,   1212.9,   3.4843,  34.5748,2,-999.0000,9,     90.1,2,   113.11,2,    39.12,2,     0.00,2,     2.79,2,   -999.0,9,   -999.0,9,-999.0000,9,  -999.00,      522
  49UF20120204,KS1202,  3361,  1,      9,  21968,2,20120307,0504,  9.1205, 140.9647, 3464,   1413.2,   3.0232,  34.5930,2,-999.0000,9,     96.8,6,   122.27,2,    39.02,6,     0.00,6,     2.77,6,   -999.0,9,   -999.0,9,-999.0000,9,  -999.00,      517
  49UF20120204,KS1202,  3361,  1,      8,  21967,2,20120307,0504,  9.1205, 140.9647, 3464,   1615.7,   2.6794,  34.6084,2,-999.0000,9,    102.4,2,   128.73,2,    38.92,2,     0.00,2,     2.75,2,   -999.0,9,   -999.0,9,-999.0000,9,  -999.00,      512
  49UF20120204,KS1202,  3361,  1,      7,  21966,2,20120307,0504,  9.1205, 140.9647, 3464,   1816.3,   2.4078,  34.6214,2,-999.0000,9,    109.0,2,   133.44,2,    38.57,2,     0.00,2,     2.72,2,   -999.0,9,   -999.0,9,-999.0000,9,  -999.00,      507
  49UF20120204,KS1202,  3361,  1,      6,  21965,2,20120307,0504,  9.1205, 140.9647, 3464,   2011.5,   2.1935,  34.6329,2,-999.0000,9,    114.8,2,   137.08,2,    38.29,2,     0.00,2,     2.70,2,   -999.0,9,   -999.0,9,-999.0000,9,  -999.00,      504