BOTTLE,20191017PRINUNIVRMK
EXPOCODE,SECT_ID,STNNBR,CASTNO,SAMPNO,BTLNBR,BTLNBR_FLAG_W,DATE,TIME,LATITUDE,LONGITUDE,DEPTH,CTDPRS,CTDTMP,CTDSAL,CTDSAL_FLAG_W,SALNTY,SALNTY_FLAG_W,OXYGEN,OXYGEN_FLAG_W,SILCAT,SILCAT_FLAG_W,NITRAT,NITRAT_FLAG_W,NITRIT,NITRIT_FLAG_W,PHSPHT,PHSPHT_FLAG_W,TCARBN,TCARBN_FLAG_W,ALKALI,ALKALI_FLAG_W,PH_TOT,PH_TOT_FLAG_W,PH_TMP,BTL_TIME
,,,,,,,,,,,METERS,DBAR,ITS-90,PSS-78,,PSS-78,,UMOL/KG,,UMOL/KG,,UMOL/KG,,UMOL/KG,,UMOL/KG,,UMOL/KG,,UMOL/KG,,,,DEG C,
  49UF20120204,KS1202,  3317,  1,     99,     99,2,20120212,1652, 24.2390, 161.6010, 3092,      0.0,  23.6141,  35.2762,2,-999.0000,9,    212.5,2,     1.29,2,     0.09,2,     0.00,2,     0.02,2,   -999.0,9,   -999.0,9,-999.0000,9,  -999.00,     1737
  49UF20120204,KS1202,  3317,  1,     35,  21994,2,20120212,1652, 24.2390, 161.6010, 3092,     10.9,  23.6177,  35.2752,2,  35.2751,2,    212.4,2,     1.25,2,     0.00,2,     0.00,2,     0.01,2,   -999.0,9,   -999.0,9,-999.0000,9,  -999.00,     1757
  49UF20120204,KS1202,  3317,  1,     34,  21993,2,20120212,1652, 24.2390, 161.6010, 3092,     26.8,  23.4782,  35.2614,2,-999.0000,9,    213.0,2,     1.33,2,     0.02,2,     0.00,2,     0.01,2,   -999.0,9,   -999.0,9,-999.0000,9,  -999.00,     1756
  49UF20120204,KS1202,  3317,  1,     33,  21992,2,20120212,1652, 24.2390, 161.6010, 3092,     26.8,  23.4782,  35.2614,2,-999.0000,9,    213.0,2,     1.24,2,     0.01,2,     0.00,2,     0.01,2,   -999.0,9,   -999.0,9,-999.0000,9,  -999.00,     1756
  49UF20120204,KS1202,  3317,  1,     31,  21990,2,20120212,1652, 24.2390, 161.6010, 3092,     49.1,  23.4583,  35.2659,2,-999.0000,9,    212.8,2,     1.33,2,     0.01,2,     0.00,2,     0.01,2,   -999.0,9,   -999.0,9,-999.0000,9,  -999.00,     1752
  49UF20120204,KS1202,  3317,  1,     30,  21989,2,20120212,1652, 24.2390, 161.6010, 3092,     76.3,  23.3138,  35.2503,2,-999.0000,9,    212.8,2,     1.18,2,     0.00,2,     0.00,2,     0.01,2,   -999.0,9,   -999.0,9,-999.0000,9,  -999.00,     1750
  49UF20120204,KS1202,  3317,  1,     29,  21988,2,20120212,1652, 24.2390, 161.6010, 3092,    100.3,  22.3564,  35.1715,2,  35.1688,2,    212.2,2,     1.63,2,     0.00,2,     0.00,2,     0.02,2,   -999.0,9,   -999.0,9,-999.0000,9,  -999.00,     1749
  49UF20120204,KS1202,  3317,  1,     26,  21985,2,20120212,1652, 24.2390, 161.6010, 3092,    127.4,  20.9286,  35.0589,2,-999.0000,9,    208.8,2,     1.91,2,     0.12,2,     0.07,2,     0.06,2,   -999.0,9,   -999.0,9,-999.0000,9,  -999.00,     1747
  49UF20120204,KS1202,  3317,  1,     25,  21984,2,20120212,1652, 24.2390, 161.6010, 3092,    150.1,  19.4538,  34.9236,2,-999.0000,9,    205.8,2,     2.38,2,     0.83,2,     0.04,2,     0.11,2,   -999.0,9,   -999.0,9,-999.0000,9,  -999.00,     1746
  49UF20120204,KS1202,  3317,  1,     24,  21983,2,20120212,1652, 24.2390, 161.6010, 3092,    202.2,  17.3164,  34.6984,2,  34.6984,2,    207.8,2,     3.96,2,     4.15,2,     0.01,2,     0.30,2,   -999.0,9,   -999.0,9,-999.0000,9,  -999.00,     1744
  49UF20120204,KS1202,  3317,  1,     21,  21980,2,20120212,1652, 24.2390, 161.6010, 3092,    251.4,  16.7466,  34.6666,2,-999.0000,9,    210.1,2,     4.82,2,     4.94,2,     0.01,2,     0.35,2,   -999.0,9,   -999.0,9,-999.0000,9,  -999.00,     1742
  49UF20120204,KS1202,  3317,  1,     20,  21979,2,20120212,1652, 24.2390, 161.6010, 3092,    301.3,  15.8236,  34.5966,2,-999.0000,9,    201.0,2,     6.59,2,     6.84,2,     0.00,2,     0.48,2,   -999.0,9,   -999.0,9,-999.0000,9,  -999.00,     1740
  49UF20120204,KS1202,  3317,  1,     19,  21978,2,20120212,1652, 24.2390, 161.6010, 3092,    401.9,  12.5068,  34.3619,2,  34.3622,2,    195.7,6,    14.39,6,    12.62,6,     0.00,6,     0.90,6,   -999.0,9,   -999.0,9,-999.0000,9,  -999.00,     1737
  49UF20120204,KS1202,  3317,  1,     17,  21976,2,20120212,1652, 24.2390, 161.6010, 3092,    502.9,   9.8481,  34.1814,2,-999.0000,9,    179.0,2,    25.46,2,    18.78,2,     0.00,2,     1.34,2,   -999.0,9,   -999.0,9,-999.0000,9,  -999.00,     1734
  49UF20120204,KS1202,  3317,  1,     16,  21975,2,20120212,1652, 24.2390, 161.6010, 3092,    502.9,   9.8481,  34.1814,2,-999.0000,9,    179.1,2,    25.49,2,    18.73,2,     0.00,2,     1.33,2,   -999.0,9,   -999.0,9,-999.0000,9,  -999.00,     1734
  49UF20120204,KS1202,  3317,  1,     15,  21974,2,20120212,1652, 24.2390, 161.6010, 3092,    604.4,   7.3002,  34.0768,2,  34.0775,2,    131.8,2,    48.09,2,    27.78,2,     0.00,2,     2.00,2,   -999.0,9,   -999.0,9,-999.0000,9,  -999.00,     1731
  49UF20120204,KS1202,  3317,  1,     13,  21972,2,20120212,1652, 24.2390, 161.6010, 3092,    706.2,   5.9830,  34.1147,2,-999.0000,9,     84.5,6,    67.91,6,    34.26,6,     0.00,6,     2.49,6,   -999.0,9,   -999.0,9,-999.0000,9,  -999.00,     1728
  49UF20120204,KS1202,  3317,  1,     12,  21971,2,20120212,1652, 24.2390, 161.6010, 3092,    806.8,   4.8864,  34.2051,2,  34.2059,2,     54.5,2,    89.67,2,    38.83,2,     0.00,2,     2.81,2,   -999.0,9,   -999.0,9,-999.0000,9,  -999.00,     1725
  49UF20120204,KS1202,  3317,  1,     11,  21970,2,20120212,1652, 24.2390, 161.6010, 3092,    907.6,   4.2119,  34.3017,2,-999.0000,9,     42.9,2,   106.24,2,    40.72,2,     0.00,2,     2.94,2,   -999.0,9,   -999.0,9,-999.0000,9,  -999.00,     1722
  49UF20120204,KS1202,  3317,  1,      8,  21967,2,20120212,1652, 24.2390, 161.6010, 3092,   1008.9,   3.8686,  34.3663,2,  34.3668,2,     42.2,2,   114.62,2,    41.39,2,     0.00,2,     2.97,2,   -999.0,9,   -999.0,9,-999.0000,9,  -999.00,     1719
  49UF20120204,KS1202,  3317,  1,      7,  21966,2,20120212,1652, 24.2390, 161.6010, 3092,   1210.2,   3.2839,  34.4645,2,  34.4659,2,     51.9,2,   127.68,2,    41.38,2,     0.00,2,     2.96,2,   -999.0,9,   -999.0,9,-999.0000,9,  -999.00,     1714
  49UF20120204,KS1202,  3317,  1,      6,  21965,2,20120212,1652, 24.2390, 161.6010, 3092,   1413.2,   2.7566,  34.5312,2,  34.5336,4,     69.2,2,   137.01,2,    40.59,2,     0.00,2,     2.88,2,   -999.0,9,   -999.0,9,-999.0000,9,  -999.00,     1710
  49UF20120204,KS1202,  3317,  1,      4,  21963,2,20120212,1652, 24.2390, 161.6010, 3092,   1617.9,   2.3602,  34.5663,2,  34.5660,2,     77.1,2,   145.20,2,    40.38,2,     0.00,2,     2.85,2,   -999.0,9,   -999.0,9,-999.0000,9,  -999.00,     1705
  49UF20120204,KS1202,  3317,  1,      2,  21961,2,20120212,1652, 24.2390, 161.6010, 3092,   1822.3,   2.0746,  34.5959,2,  34.5963,2,     88.1,2,   150.16,2,    39.42,2,     0.00,2,     2.80,2,   -999.0,9,   -999.0,9,-999.0000,9,  -999.00,     1700
  49UF20120204,KS1202,  3317,  1,      1,  21960,2,20120212,1652, 24.2390, 161.6010, 3092,   2025.5,   1.8924,  34.6208,2,  34.6207,2,    102.2,2,   150.46,2,    38.99,2,     0.00,2,     2.73,2,   -999.0,9,   -999.0,9,-999.0000,9,  -999.00,     1652
  49UF20120204,KS1202,  3319,  1,     99,     99,2,20120213,0348, 24.2423, 163.2695,   -9,      0.0,  23.9385,  35.3679,2,-999.0000,9,    212.0,2,     1.36,2,     0.00,2,     0.00,2,     0.02,2,   -999.0,9,   -999.0,9,-999.0000,9,  -999.00,      423
  49UF20120204,KS1202,  3319,  1,     35,  21994,2,20120213,0348, 24.2423, 163.2695,   -9,     11.9,  23.9294,  35.3660,2,-999.0000,9,    211.8,2,     1.36,2,     0.00,2,     0.00,2,     0.01,2,   -999.0,9,   -999.0,9,-999.0000,9,  -999.00,      439
  49UF20120204,KS1202,  3319,  1,     34,  21993,2,20120213,0348, 24.2423, 163.2695,   -9,     24.8,  23.8358,  35.3601,2,-999.0000,9,    212.0,2,     1.38,2,     0.00,2,     0.00,2,     0.01,2,   -999.0,9,   -999.0,9,-999.0000,9,  -999.00,      437
  49UF20120204,KS1202,  3319,  1,     33,  21992,2,20120213,0348, 24.2423, 163.2695,   -9,     51.6,  23.8216,  35.3596,2,-999.0000,9,    212.1,2,     1.39,2,     0.00,2,     0.00,2,     0.01,2,   -999.0,9,   -999.0,9,-999.0000,9,  -999.00,      433
  49UF20120204,KS1202,  3319,  1,     31,  21990,2,20120213,0348, 24.2423, 163.2695,   -9,     76.0,  23.4352,  35.2973,2,-999.0000,9,    214.2,2,     1.49,2,     0.00,2,     0.00,2,     0.14,2,   -999.0,9,   -999.0,9,-999.0000,9,  -999.00,      432
  49UF20120204,KS1202,  3319,  1,     30,  21989,2,20120213,0348, 24.2423, 163.2695,   -9,     99.7,  21.0790,  35.0408,2,-999.0000,9,    223.5,2,     2.03,2,     0.00,2,     0.00,2,     0.03,2,   -999.0,9,   -999.0,9,-999.0000,9,  -999.00,      431
  49UF20120204,KS1202,  3319,  1,     29,  21988,2,20120213,0348, 24.2423, 163.2695,   -9,    126.3,  19.0465,  34.8704,2,-999.0000,9,    211.6,4,     2.56,2,     0.50,2,     0.08,2,     0.10,2,   -999.0,9,   -999.0,9,-999.0000,9,  -999.00,      430
  49UF20120204,KS1202,  3319,  1,     26,  21985,2,20120213,0348, 24.2423, 163.2695,   -9,    150.3,  17.8918,  34.7525,2,-999.0000,9,    209.6,2,     3.23,2,     2.53,2,     0.02,2,     0.20,2,   -999.0,9,   -999.0,9,-999.0000,9,  -999.00,      429
  49UF20120204,KS1202,  3319,  1,     25,  21984,2,20120213,0348, 24.2423, 163.2695,   -9,    203.7,  16.9627,  34.6755,2,-999.0000,9,    213.2,2,     4.28,2,     4.28,2,     0.01,2,     0.30,2,   -999.0,9,   -999.0,9,-999.0000,9,  -999.00,      428
  49UF20120204,KS1202,  3319,  1,     24,  21983,2,20120213,0348, 24.2423, 163.2695,   -9,    251.9,  16.3332,  34.6371,2,-999.0000,9,    208.1,2,     5.73,2,     5.72,2,     0.01,2,     0.40,2,   -999.0,9,   -999.0,9,-999.0000,9,  -999.00,      427
  49UF20120204,KS1202,  3319,  1,     21,  21980,2,20120213,0348, 24.2423, 163.2695,   -9,    303.6,  14.9824,  34.5288,2,-999.0000,9,    202.3,2,     8.00,2,     7.90,2,     0.00,2,     0.56,2,   -999.0,9,   -999.0,9,-999.0000,9,  -999.00,      425
  49UF20120204,KS1202,  3319,  1,     20,  21979,2,20120213,0348, 24.2423, 163.2695,   -9,    404.9,  11.5064,  34.3033,2,-999.0000,9,    192.4,2,    18.80,2,    14.73,2,     0.00,2,     1.04,2,   -999.0,9,   -999.0,9,-999.0000,9,  -999.00,      423
  49UF20120204,KS1202,  3319,  1,     19,  21978,2,20120213,0348, 24.2423, 163.2695,   -9,    504.9,   8.6622,  34.1196,2,-999.0000,9,    166.6,6,    34.46,6,    22.27,6,     0.00,6,     1.60,6,   -999.0,9,   -999.0,9,-999.0000,9,  -999.00,      420
  49UF20120204,KS1202,  3319,  1,     17,  21976,2,20120213,0348, 24.2423, 163.2695,   -9,    607.3,   6.3664,  34.0511,2,-999.0000,9,    121.4,2,    58.55,2,    30.48,2,     0.00,2,     2.20,2,   -999.0,9,   -999.0,9,-999.0000,9,  -999.00,      418
  49UF20120204,KS1202,  3319,  1,     16,  21975,2,20120213,0348, 24.2423, 163.2695,   -9,    707.8,   5.2396,  34.1135,2,-999.0000,9,     79.1,2,    78.68,2,    36.19,2,     0.00,2,     2.61,2,   -999.0,9,   -999.0,9,-999.0000,9,  -999.00,      416
  49UF20120204,KS1202,  3319,  1,     15,  21974,2,20120213,0348, 24.2423, 163.2695,   -9,    707.8,   5.2396,  34.1135,2,-999.0000,9,     78.9,2,    78.80,2,    35.94,2,     0.00,2,     2.61,2,   -999.0,9,   -999.0,9,-999.0000,9,  -999.00,      415
  49UF20120204,KS1202,  3319,  1,     13,  21972,2,20120213,0348, 24.2423, 163.2695,   -9,    804.6,   4.5441,  34.2058,2,-999.0000,9,     49.8,6,    96.76,6,    39.64,6,     0.00,6,     2.88,6,   -999.0,9,   -999.0,9,-999.0000,9,  -999.00,      413
  49UF20120204,KS1202,  3319,  1,     12,  21971,2,20120213,0348, 24.2423, 163.2695,   -9,    906.4,   3.9096,  34.3033,2,-999.0000,9,     36.4,2,   113.93,2,    41.57,2,     0.00,2,     3.01,2,   -999.0,9,   -999.0,9,-999.0000,9,  -999.00,      411
  49UF20120204,KS1202,  3319,  1,     11,  21970,2,20120213,0348, 24.2423, 163.2695,   -9,   1008.8,   3.6081,  34.3746,2,-999.0000,9,     37.0,2,   121.93,2,    41.69,2,     0.00,2,     3.03,2,   -999.0,9,   -999.0,9,-999.0000,9,  -999.00,      408
  49UF20120204,KS1202,  3319,  1,      8,  21967,2,20120213,0348, 24.2423, 163.2695,   -9,   1209.9,   3.1065,  34.4846,2,-999.0000,9,     53.4,2,   131.65,2,    41.32,2,     0.00,2,     2.97,2,   -999.0,9,   -999.0,9,-999.0000,9,  -999.00,      404
  49UF20120204,KS1202,  3319,  1,      7,  21966,2,20120213,0348, 24.2423, 163.2695,   -9,   1413.8,   2.6857,  34.5359,2,-999.0000,9,     67.5,2,   139.94,2,    40.62,2,     0.00,2,     2.91,2,   -999.0,9,   -999.0,9,-999.0000,9,  -999.00,      400
  49UF20120204,KS1202,  3319,  1,      6,  21965,2,20120213,0348, 24.2423, 163.2695,   -9,   1413.8,   2.6857,  34.5359,2,-999.0000,9,     67.5,2,   139.93,2,    40.80,2,     0.00,2,     2.90,2,   -999.0,9,   -999.0,9,-999.0000,9,  -999.00,      400
  49UF20120204,KS1202,  3319,  1,      4,  21963,2,20120213,0348, 24.2423, 163.2695,   -9,   1616.2,   2.3521,  34.5738,2,-999.0000,9,     80.9,2,   144.76,2,    39.98,2,     0.00,2,     2.84,2,   -999.0,9,   -999.0,9,-999.0000,9,  -999.00,      356
  49UF20120204,KS1202,  3319,  1,      2,  21961,2,20120213,0348, 24.2423, 163.2695,   -9,   1819.4,   2.0980,  34.6039,2,-999.0000,9,     95.2,2,   147.18,2,    39.29,2,     0.00,2,     2.78,2,   -999.0,9,   -999.0,9,-999.0000,9,  -999.00,      352
  49UF20120204,KS1202,  3319,  1,      1,  21960,2,20120213,0348, 24.2423, 163.2695,   -9,   2022.8,   1.9803,  34.6181,2,-999.0000,9,    102.0,2,   149.47,2,    38.87,2,     0.00,2,     2.75,2,   -999.0,9,   -999.0,9,-999.0000,9,  -999.00,      348
  49UF20120204,KS1202,  3321,  1,     99,     99,2,20120213,1531, 24.2193, 165.0013, 5864,      0.0,  23.5374,  35.3366,2,-999.0000,9,    212.4,2,     1.26,2,     0.02,2,     0.00,2,     0.02,2,   1994.8,2,   2318.8,2,   8.0730,2,    25.00,     1610
  49UF20120204,KS1202,  3321,  1,     35,  21994,2,20120213,1531, 24.2193, 165.0013, 5864,     11.6,  23.5511,  35.3364,2,-999.0000,9,    212.1,2,     1.21,2,     0.03,2,     0.00,2,     0.01,2,   1993.8,2,   2312.5,2,   8.0741,2,    25.00,     1630
  49UF20120204,KS1202,  3321,  1,     34,  21993,2,20120213,1531, 24.2193, 165.0013, 5864,     26.4,  23.5544,  35.3361,2,-999.0000,9,    212.3,2,     1.29,2,     0.09,2,     0.00,2,     0.01,2,   1992.8,2,   2310.1,2,   8.0731,2,    25.00,     1629
  49UF20120204,KS1202,  3321,  1,     33,  21992,2,20120213,1531, 24.2193, 165.0013, 5864,     50.5,  23.5539,  35.3362,2,-999.0000,9,    212.2,2,     1.24,2,     0.09,2,     0.00,2,     0.01,2,   1997.4,2,   2311.8,2,   8.0727,2,    25.00,     1626
  49UF20120204,KS1202,  3321,  1,     31,  21990,2,20120213,1531, 24.2193, 165.0013, 5864,     74.1,  23.5684,  35.3392,2,-999.0000,9,    212.1,6,     1.29,6,     0.14,6,     0.00,6,     0.01,6,   1992.1,2,   2310.2,2,   8.0712,2,    25.00,     1625
  49UF20120204,KS1202,  3321,  1,     30,  21989,4,20120213,1531, 24.2193, 165.0013, 5864,    100.3,  23.5713,  35.3365,2,-999.0000,9,    212.3,4,     1.29,4,     0.14,4,     0.00,4,     0.01,4,   1993.6,4,   2314.5,4,   8.0741,4,    25.00,     1625
  49UF20120204,KS1202,  3321,  1,     29,  21988,2,20120213,1531, 24.2193, 165.0013, 5864,    127.1,  20.4528,  35.0186,2,-999.0000,9,    216.6,2,     1.96,2,     0.13,2,     0.03,2,     0.04,2,   2017.3,2,   2291.2,2,   8.0086,2,    25.00,     1623
  49UF20120204,KS1202,  3321,  1,     26,  21985,2,20120213,1531, 24.2193, 165.0013, 5864,    153.5,  18.9785,  34.8656,2,-999.0000,9,    210.9,2,     2.34,2,     0.66,2,     0.06,2,     0.09,2,   2026.3,2,   2281.0,2,   7.9796,2,    25.00,     1622
  49UF20120204,KS1202,  3321,  1,     25,  21984,2,20120213,1531, 24.2193, 165.0013, 5864,    202.3,  17.4608,  34.7077,2,-999.0000,9,    206.9,2,     3.70,2,     4.10,2,     0.01,2,     0.28,2,   2033.4,2,   2268.2,2,   7.9470,2,    25.00,     1621
  49UF20120204,KS1202,  3321,  1,     24,  21983,2,20120213,1531, 24.2193, 165.0013, 5864,    252.3,  16.6756,  34.6609,2,-999.0000,9,    211.8,2,     4.73,2,     5.13,2,     0.01,2,     0.34,2,   2035.1,2,   2268.1,2,   7.9348,2,    25.00,     1619
  49UF20120204,KS1202,  3321,  1,     21,  21980,2,20120213,1531, 24.2193, 165.0013, 5864,    304.8,  15.3250,  34.5583,2,-999.0000,9,    201.1,2,     7.34,2,     7.75,2,     0.00,2,     0.52,2,   2058.2,2,   2271.2,2,   7.8889,2,    25.00,     1618
  49UF20120204,KS1202,  3321,  1,     20,  21979,2,20120213,1531, 24.2193, 165.0013, 5864,    304.8,  15.3250,  34.5583,2,-999.0000,9,    201.3,2,     7.34,2,     7.68,2,     0.00,2,     0.52,2,   2057.9,2,   2268.4,2,   7.8794,3,    25.00,     1618
  49UF20120204,KS1202,  3321,  1,     19,  21978,2,20120213,1531, 24.2193, 165.0013, 5864,    406.2,  12.0899,  34.3289,2,-999.0000,9,    196.5,2,    15.25,2,    13.40,2,     0.00,2,     0.93,2,   2100.6,2,   2260.3,2,   7.7941,2,    25.00,     1615
  49UF20120204,KS1202,  3321,  1,     17,  21976,2,20120213,1531, 24.2193, 165.0013, 5864,    505.2,   9.5453,  34.1644,2,-999.0000,9,    179.2,2,    27.71,2,    19.89,2,     0.00,2,     1.38,2,   2139.9,2,   2266.1,2,   7.6947,2,    25.00,     1612
  49UF20120204,KS1202,  3321,  1,     16,  21975,2,20120213,1531, 24.2193, 165.0013, 5864,    606.7,   7.1403,  34.0698,2,-999.0000,9,    130.1,2,    49.14,2,    28.68,2,     0.00,2,     2.03,2,   2207.4,2,   2275.7,2,   7.5448,2,    25.00,     1609
  49UF20120204,KS1202,  3321,  1,     15,  21974,2,20120213,1531, 24.2193, 165.0013, 5864,    706.3,   5.7175,  34.1034,2,-999.0000,9,     81.4,2,    71.99,2,    35.81,2,     0.00,2,     2.54,2,   2267.5,6,   2297.3,6,   7.4267,2,    25.00,     1606
  49UF20120204,KS1202,  3321,  1,     13,  21972,2,20120213,1531, 24.2193, 165.0013, 5864,    808.4,   4.8308,  34.1959,2,-999.0000,9,     50.1,2,    91.04,2,    39.90,2,     0.00,2,     2.84,2,   2312.9,2,   2321.5,2,   7.3623,6,    25.00,     1603
  49UF20120204,KS1202,  3321,  1,     12,  21971,2,20120213,1531, 24.2193, 165.0013, 5864,    909.9,   4.2262,  34.2740,2,-999.0000,9,     38.8,6,   105.74,6,    41.67,6,     0.00,6,     2.97,6,   2333.6,2,   2336.5,2,   7.3489,2,    25.00,     1600
  49UF20120204,KS1202,  3321,  1,     11,  21970,2,20120213,1531, 24.2193, 165.0013, 5864,   1011.6,   3.8382,  34.3563,2,-999.0000,9,     36.6,2,   115.44,2,    42.15,3,     0.00,2,     3.02,2,   2347.3,2,   2351.0,2,   7.3468,2,    25.00,     1557
  49UF20120204,KS1202,  3321,  1,      8,  21967,2,20120213,1531, 24.2193, 165.0013, 5864,   1211.2,   3.2789,  34.4815,2,-999.0000,9,     55.7,2,   127.14,2,    41.72,2,     0.00,2,     2.94,2,   2350.7,2,   2375.7,2,   7.3924,2,    25.00,     1553
  49UF20120204,KS1202,  3321,  1,      7,  21966,2,20120213,1531, 24.2193, 165.0013, 5864,   1211.2,   3.2789,  34.4815,2,-999.0000,9,     55.4,2,   127.07,2,    41.65,2,     0.00,2,     2.94,2,   2349.2,2,   2373.9,2,   7.3941,2,    25.00,     1553
  49UF20120204,KS1202,  3321,  1,      6,  21965,2,20120213,1531, 24.2193, 165.0013, 5864,   1415.6,   2.7569,  34.5347,2,-999.0000,9,     67.3,2,   137.67,2,    41.24,2,     0.00,2,     2.90,2,   2356.7,2,   2386.8,2,   7.4170,2,    25.00,     1548
  49UF20120204,KS1202,  3321,  1,      4,  21963,2,20120213,1531, 24.2193, 165.0013, 5864,   1618.3,   2.4008,  34.5689,2,-999.0000,9,     76.2,2,   144.91,2,    40.93,2,     0.00,2,     2.86,2,   2362.2,2,   2395.9,2,   7.4317,2,    25.00,     1544
  49UF20120204,KS1202,  3321,  1,      2,  21961,2,20120213,1531, 24.2193, 165.0013, 5864,   1819.4,   2.1591,  34.5943,2,-999.0000,9,     86.3,2,   149.47,2,    40.29,2,     0.00,2,     2.82,2,   2364.8,2,   2400.5,6,   7.4489,2,    25.00,     1535
  49UF20120204,KS1202,  3321,  1,      1,  21960,2,20120213,1531, 24.2193, 165.0013, 5864,   2019.0,   1.9657,  34.6170,2,-999.0000,9,     97.4,2,   151.46,2,    39.64,2,     0.00,2,     2.76,2,   2357.8,2,   2405.5,2,   7.4684,6,    25.00,     1531