BOTTLE,20191017PRINUNIVRMK
EXPOCODE,SECT_ID,STNNBR,CASTNO,SAMPNO,BTLNBR,BTLNBR_FLAG_W,DATE,TIME,LATITUDE,LONGITUDE,DEPTH,CTDPRS,CTDTMP,CTDSAL,CTDSAL_FLAG_W,SALNTY,SALNTY_FLAG_W,OXYGEN,OXYGEN_FLAG_W,SILCAT,SILCAT_FLAG_W,NITRAT,NITRAT_FLAG_W,NITRIT,NITRIT_FLAG_W,PHSPHT,PHSPHT_FLAG_W,TCARBN,TCARBN_FLAG_W,ALKALI,ALKALI_FLAG_W,PH_TOT,PH_TOT_FLAG_W,PH_TMP,BTL_TIME
,,,,,,,,,,,METERS,DBAR,ITS-90,PSS-78,,PSS-78,,UMOL/KG,,UMOL/KG,,UMOL/KG,,UMOL/KG,,UMOL/KG,,UMOL/KG,,UMOL/KG,,,,DEG C,
  49UF20120204,KS1202,  3311,  1,     99,     99,2,20120211,0937, 24.2242, 156.8447, 5686,      0.0,  24.3359,  35.1898,2,-999.0000,9,    210.0,2,     1.00,2,     0.00,2,     0.00,2,     0.02,2,   -999.0,9,   -999.0,9,-999.0000,9,  -999.00,     1015
  49UF20120204,KS1202,  3311,  1,     35,  21994,2,20120211,0937, 24.2242, 156.8447, 5686,     11.7,  24.3489,  35.1898,2,  35.1895,2,    210.4,2,     1.00,2,     0.00,2,     0.00,2,     0.01,2,   -999.0,9,   -999.0,9,-999.0000,9,  -999.00,     1046
  49UF20120204,KS1202,  3311,  1,     34,  21993,2,20120211,0937, 24.2242, 156.8447, 5686,     25.4,  24.3169,  35.1890,2,-999.0000,9,    210.2,2,     1.09,2,     0.00,2,     0.00,2,     0.01,2,   -999.0,9,   -999.0,9,-999.0000,9,  -999.00,     1045
  49UF20120204,KS1202,  3311,  1,     33,  21992,2,20120211,0937, 24.2242, 156.8447, 5686,     50.2,  23.9475,  35.1850,2,-999.0000,9,    211.0,2,     1.12,2,     0.00,2,     0.00,2,     0.01,2,   -999.0,9,   -999.0,9,-999.0000,9,  -999.00,     1041
  49UF20120204,KS1202,  3311,  1,     31,  21990,2,20120211,0937, 24.2242, 156.8447, 5686,     76.4,  23.4739,  35.1980,2,-999.0000,9,    213.1,2,     1.22,2,     0.00,2,     0.00,2,     0.01,2,   -999.0,9,   -999.0,9,-999.0000,9,  -999.00,     1040
  49UF20120204,KS1202,  3311,  1,     30,  21989,2,20120211,0937, 24.2242, 156.8447, 5686,    100.9,  22.9538,  35.1913,2,  35.1914,2,    214.5,2,     1.24,2,     0.00,2,     0.00,2,     0.01,2,   -999.0,9,   -999.0,9,-999.0000,9,  -999.00,     1039
  49UF20120204,KS1202,  3311,  1,     29,  21988,2,20120211,0937, 24.2242, 156.8447, 5686,    128.1,  21.9208,  35.1118,2,-999.0000,9,    211.1,6,     1.65,6,     0.00,6,     0.00,6,     0.03,6,   -999.0,9,   -999.0,9,-999.0000,9,  -999.00,     1037
  49UF20120204,KS1202,  3311,  1,     26,  21985,2,20120211,0937, 24.2242, 156.8447, 5686,    152.7,  19.5910,  34.9261,2,-999.0000,9,    206.5,2,     2.22,2,     0.68,2,     0.08,2,     0.09,2,   -999.0,9,   -999.0,9,-999.0000,9,  -999.00,     1036
  49UF20120204,KS1202,  3311,  1,     25,  21984,2,20120211,0937, 24.2242, 156.8447, 5686,    152.7,  19.5910,  34.9261,2,-999.0000,9,    206.4,2,     2.18,2,     0.67,2,     0.08,2,     0.09,2,   -999.0,9,   -999.0,9,-999.0000,9,  -999.00,     1036
  49UF20120204,KS1202,  3311,  1,     24,  21983,2,20120211,0937, 24.2242, 156.8447, 5686,    203.0,  17.9170,  34.7566,2,  34.7589,2,    198.0,2,     3.56,2,     3.87,2,     0.01,2,     0.29,2,   -999.0,9,   -999.0,9,-999.0000,9,  -999.00,     1034
  49UF20120204,KS1202,  3311,  1,     21,  21980,2,20120211,0937, 24.2242, 156.8447, 5686,    253.4,  16.8118,  34.6739,2,-999.0000,9,    202.2,2,     4.72,2,     5.32,2,     0.01,2,     0.37,2,   -999.0,9,   -999.0,9,-999.0000,9,  -999.00,     1031
  49UF20120204,KS1202,  3311,  1,     20,  21979,2,20120211,0937, 24.2242, 156.8447, 5686,    304.7,  15.5277,  34.5760,2,-999.0000,9,    196.7,2,     7.24,2,     7.69,2,     0.00,2,     0.54,2,   -999.0,9,   -999.0,9,-999.0000,9,  -999.00,     1029
  49UF20120204,KS1202,  3311,  1,     19,  21978,2,20120211,0937, 24.2242, 156.8447, 5686,    404.1,  13.0925,  34.4005,2,  34.4038,4,    198.4,2,    12.18,2,    11.27,2,     0.00,2,     0.80,2,   -999.0,9,   -999.0,9,-999.0000,9,  -999.00,     1024
  49UF20120204,KS1202,  3311,  1,     17,  21976,2,20120211,0937, 24.2242, 156.8447, 5686,    505.9,  10.0943,  34.1970,2,-999.0000,9,    181.9,2,    24.04,2,    18.18,2,     0.00,2,     1.30,2,   -999.0,9,   -999.0,9,-999.0000,9,  -999.00,     1019
  49UF20120204,KS1202,  3311,  1,     16,  21975,2,20120211,0937, 24.2242, 156.8447, 5686,    607.8,   7.4147,  34.0750,2,  34.0766,2,    140.4,2,    45.98,2,    26.63,2,     0.00,2,     1.94,2,   -999.0,9,   -999.0,9,-999.0000,9,  -999.00,     1015
  49UF20120204,KS1202,  3311,  1,     15,  21974,2,20120211,0937, 24.2242, 156.8447, 5686,    708.5,   5.7566,  34.1009,2,-999.0000,9,     87.6,2,    70.93,2,    34.62,2,     0.00,2,     2.51,2,   -999.0,9,   -999.0,9,-999.0000,9,  -999.00,     1012
  49UF20120204,KS1202,  3311,  1,     13,  21972,2,20120211,0937, 24.2242, 156.8447, 5686,    808.7,   4.8510,  34.1873,2,-999.0000,9,     57.6,2,    89.78,2,    38.86,2,     0.00,2,     2.81,2,   -999.0,9,   -999.0,9,-999.0000,9,  -999.00,     1008
  49UF20120204,KS1202,  3311,  1,     12,  21971,2,20120211,0937, 24.2242, 156.8447, 5686,    808.7,   4.8510,  34.1873,2,  34.1861,2,     57.6,2,    89.80,2,    38.58,2,     0.00,2,     2.81,2,   -999.0,9,   -999.0,9,-999.0000,9,  -999.00,     1008
  49UF20120204,KS1202,  3311,  1,     11,  21970,2,20120211,0937, 24.2242, 156.8447, 5686,    912.3,   4.3938,  34.2907,2,-999.0000,9,     47.0,2,   101.80,2,    40.43,2,     0.00,2,     2.93,2,   -999.0,9,   -999.0,9,-999.0000,9,  -999.00,     1005
  49UF20120204,KS1202,  3311,  1,      8,  21967,2,20120211,0937, 24.2242, 156.8447, 5686,   1013.0,   3.7709,  34.3687,2,  34.3678,2,     41.4,2,   117.32,2,    41.72,2,     0.00,2,     3.01,2,   -999.0,9,   -999.0,9,-999.0000,9,  -999.00,     1001
  49UF20120204,KS1202,  3311,  1,      7,  21966,2,20120211,0937, 24.2242, 156.8447, 5686,   1210.9,   3.2450,  34.4675,2,  34.4681,2,     54.5,2,   128.50,2,    41.30,2,     0.00,2,     2.96,2,   -999.0,9,   -999.0,9,-999.0000,9,  -999.00,      956
  49UF20120204,KS1202,  3311,  1,      6,  21965,2,20120211,0937, 24.2242, 156.8447, 5686,   1415.9,   2.7709,  34.5276,2,  34.5274,2,     71.9,2,   137.00,2,    40.35,2,     0.00,2,     2.89,2,   -999.0,9,   -999.0,9,-999.0000,9,  -999.00,      951
  49UF20120204,KS1202,  3311,  1,      4,  21963,2,20120211,0937, 24.2242, 156.8447, 5686,   1619.3,   2.4118,  34.5636,2,  34.5639,2,     82.5,2,   142.87,2,    39.80,2,     0.00,2,     2.84,2,   -999.0,9,   -999.0,9,-999.0000,9,  -999.00,      945
  49UF20120204,KS1202,  3311,  1,      2,  21961,2,20120211,0937, 24.2242, 156.8447, 5686,   1821.8,   2.1922,  34.5880,2,  34.5886,2,     91.5,2,   146.14,2,    39.50,2,     0.00,2,     2.80,2,   -999.0,9,   -999.0,9,-999.0000,9,  -999.00,      941
  49UF20120204,KS1202,  3311,  1,      1,  21960,2,20120211,0937, 24.2242, 156.8447, 5686,   2025.4,   1.9902,  34.6104,2,  34.6104,2,     99.6,6,   148.85,6,    38.89,6,     0.00,6,     2.77,6,   -999.0,9,   -999.0,9,-999.0000,9,  -999.00,      937
  49UF20120204,KS1202,  3313,  1,     99,     99,2,20120211,2027, 24.2523, 158.4608, 5451,      0.0,  24.2909,  35.1669,2,-999.0000,9,    209.7,2,     1.06,2,     0.17,2,     0.00,2,     0.02,2,   -999.0,9,   -999.0,9,-999.0000,9,  -999.00,     2105
  49UF20120204,KS1202,  3313,  1,     35,  21994,2,20120211,2027, 24.2523, 158.4608, 5451,     11.9,  24.2903,  35.1667,2,-999.0000,9,    209.3,2,     1.06,2,     0.14,2,     0.00,2,     0.01,2,   -999.0,9,   -999.0,9,-999.0000,9,  -999.00,     2126
  49UF20120204,KS1202,  3313,  1,     34,  21993,2,20120211,2027, 24.2523, 158.4608, 5451,     25.8,  23.7815,  35.1743,2,-999.0000,9,    212.1,2,     1.14,2,     0.13,2,     0.00,2,     0.01,2,   -999.0,9,   -999.0,9,-999.0000,9,  -999.00,     2125
  49UF20120204,KS1202,  3313,  1,     33,  21992,2,20120211,2027, 24.2523, 158.4608, 5451,     51.0,  22.9851,  35.1838,2,-999.0000,9,    214.3,2,     1.29,2,     0.16,2,     0.00,2,     0.01,2,   -999.0,9,   -999.0,9,-999.0000,9,  -999.00,     2121
  49UF20120204,KS1202,  3313,  1,     31,  21990,2,20120211,2027, 24.2523, 158.4608, 5451,     77.4,  22.3816,  35.1167,2,-999.0000,9,    216.7,2,     1.39,2,     0.11,2,     0.00,2,     0.01,2,   -999.0,9,   -999.0,9,-999.0000,9,  -999.00,     2120
  49UF20120204,KS1202,  3313,  1,     30,  21989,2,20120211,2027, 24.2523, 158.4608, 5451,    100.4,  22.0052,  35.0723,2,-999.0000,9,    216.7,2,     1.52,2,     0.14,2,     0.00,2,     0.01,2,   -999.0,9,   -999.0,9,-999.0000,9,  -999.00,     2119
  49UF20120204,KS1202,  3313,  1,     29,  21988,2,20120211,2027, 24.2523, 158.4608, 5451,    100.4,  22.0052,  35.0723,2,-999.0000,9,    216.8,2,     1.45,2,     0.15,2,     0.00,2,     0.01,2,   -999.0,9,   -999.0,9,-999.0000,9,  -999.00,     2118
  49UF20120204,KS1202,  3313,  1,     26,  21985,2,20120211,2027, 24.2523, 158.4608, 5451,    126.9,  20.2130,  34.9459,2,-999.0000,9,    209.8,2,     2.07,2,     0.56,2,     0.07,2,     0.07,2,   -999.0,9,   -999.0,9,-999.0000,9,  -999.00,     2117
  49UF20120204,KS1202,  3313,  1,     25,  21984,2,20120211,2027, 24.2523, 158.4608, 5451,    151.0,  19.2374,  34.9185,2,-999.0000,9,    199.4,6,     2.55,6,     2.10,6,     0.03,6,     0.17,6,   -999.0,9,   -999.0,9,-999.0000,9,  -999.00,     2116
  49UF20120204,KS1202,  3313,  1,     24,  21983,2,20120211,2027, 24.2523, 158.4608, 5451,    202.8,  17.6254,  34.7336,2,-999.0000,9,    204.0,2,     3.48,2,     4.20,2,     0.01,2,     0.28,2,   -999.0,9,   -999.0,9,-999.0000,9,  -999.00,     2114
  49UF20120204,KS1202,  3313,  1,     21,  21980,2,20120211,2027, 24.2523, 158.4608, 5451,    252.1,  16.8380,  34.6735,2,-999.0000,9,    204.6,2,     4.73,2,     5.45,2,     0.01,2,     0.36,2,   -999.0,9,   -999.0,9,-999.0000,9,  -999.00,     2113
  49UF20120204,KS1202,  3313,  1,     20,  21979,2,20120211,2027, 24.2523, 158.4608, 5451,    302.8,  15.5761,  34.5797,2,-999.0000,9,    197.7,2,     7.31,2,     7.94,2,     0.00,2,     0.53,2,   -999.0,9,   -999.0,9,-999.0000,9,  -999.00,     2111
  49UF20120204,KS1202,  3313,  1,     19,  21978,2,20120211,2027, 24.2523, 158.4608, 5451,    403.6,  12.5188,  34.3596,2,-999.0000,9,    194.2,2,    13.96,2,    13.10,2,     0.00,2,     0.90,2,   -999.0,9,   -999.0,9,-999.0000,9,  -999.00,     2108
  49UF20120204,KS1202,  3313,  1,     17,  21976,2,20120211,2027, 24.2523, 158.4608, 5451,    503.7,   9.8189,  34.1806,2,-999.0000,9,    180.8,6,    25.60,6,    19.23,6,     0.00,6,     1.33,6,   -999.0,9,   -999.0,9,-999.0000,9,  -999.00,     2105
  49UF20120204,KS1202,  3313,  1,     16,  21975,2,20120211,2027, 24.2523, 158.4608, 5451,    606.0,   7.3670,  34.0734,2,-999.0000,9,    135.8,2,    47.25,2,    27.90,2,     0.00,2,     1.97,2,   -999.0,9,   -999.0,9,-999.0000,9,  -999.00,     2102
  49UF20120204,KS1202,  3313,  1,     15,  21974,2,20120211,2027, 24.2523, 158.4608, 5451,    606.0,   7.3670,  34.0734,2,-999.0000,9,    135.8,2,    47.24,2,    28.03,2,     0.00,2,     1.97,2,   -999.0,9,   -999.0,9,-999.0000,9,  -999.00,     2102
  49UF20120204,KS1202,  3313,  1,     13,  21972,2,20120211,2027, 24.2523, 158.4608, 5451,    707.8,   5.8492,  34.0815,2,-999.0000,9,     92.6,2,    68.92,2,    34.62,2,     0.00,2,     2.46,2,   -999.0,9,   -999.0,9,-999.0000,9,  -999.00,     2059
  49UF20120204,KS1202,  3313,  1,     12,  21971,2,20120211,2027, 24.2523, 158.4608, 5451,    806.6,   5.0121,  34.1863,2,-999.0000,9,     56.6,2,    87.37,2,    39.16,2,     0.00,2,     2.80,2,   -999.0,9,   -999.0,9,-999.0000,9,  -999.00,     2056
  49UF20120204,KS1202,  3313,  1,     11,  21970,2,20120211,2027, 24.2523, 158.4608, 5451,    910.1,   4.3887,  34.2719,2,-999.0000,9,     43.9,2,   101.87,2,    41.20,2,     0.00,2,     2.94,2,   -999.0,9,   -999.0,9,-999.0000,9,  -999.00,     2054
  49UF20120204,KS1202,  3313,  1,      8,  21967,2,20120211,2027, 24.2523, 158.4608, 5451,   1008.6,   3.9088,  34.3560,2,-999.0000,9,     41.2,2,   114.22,2,    41.79,2,     0.00,2,     2.99,2,   -999.0,9,   -999.0,9,-999.0000,9,  -999.00,     2051
  49UF20120204,KS1202,  3313,  1,      7,  21966,2,20120211,2027, 24.2523, 158.4608, 5451,   1213.6,   3.3107,  34.4677,2,-999.0000,9,     53.8,2,   127.49,2,    41.81,2,     0.00,2,     2.96,2,   -999.0,9,   -999.0,9,-999.0000,9,  -999.00,     2046
  49UF20120204,KS1202,  3313,  1,      6,  21965,2,20120211,2027, 24.2523, 158.4608, 5451,   1415.8,   2.8196,  34.5256,2,-999.0000,9,     66.3,2,   137.39,2,    41.23,2,     0.00,2,     2.91,2,   -999.0,9,   -999.0,9,-999.0000,9,  -999.00,     2041
  49UF20120204,KS1202,  3313,  1,      4,  21963,2,20120211,2027, 24.2523, 158.4608, 5451,   1618.6,   2.4527,  34.5618,2,-999.0000,9,     77.5,2,   144.17,2,    40.81,2,     0.00,2,     2.86,2,   -999.0,9,   -999.0,9,-999.0000,9,  -999.00,     2036
  49UF20120204,KS1202,  3313,  1,      2,  21961,2,20120211,2027, 24.2523, 158.4608, 5451,   1820.6,   2.1624,  34.5934,2,-999.0000,9,     91.2,2,   147.73,2,    40.05,2,     0.00,2,     2.80,2,   -999.0,9,   -999.0,9,-999.0000,9,  -999.00,     2031
  49UF20120204,KS1202,  3313,  1,      1,  21960,2,20120211,2027, 24.2523, 158.4608, 5451,   2023.1,   1.9914,  34.6150,2,-999.0000,9,    101.7,2,   148.89,2,    39.46,2,     0.00,2,     2.75,2,   -999.0,9,   -999.0,9,-999.0000,9,  -999.00,     2027
  49UF20120204,KS1202,  3315,  1,     99,     99,2,20120212,0643, 24.2507, 160.0407, 5485,      0.0,  24.3342,  35.2007,2,-999.0000,9,    210.6,2,     1.18,2,     0.09,2,     0.00,2,     0.02,2,   1978.8,2,   2303.9,2,   8.0876,2,    25.00,      719
  49UF20120204,KS1202,  3315,  1,     35,  21994,2,20120212,0643, 24.2507, 160.0407, 5485,     11.5,  24.1898,  35.1896,2,-999.0000,9,    210.6,2,     1.20,2,     0.11,2,     0.00,2,     0.01,2,   1981.8,2,   2301.4,2,   8.0909,2,    25.00,      741
  49UF20120204,KS1202,  3315,  1,     34,  21993,2,20120212,0643, 24.2507, 160.0407, 5485,     25.7,  24.1613,  35.1884,2,-999.0000,9,    210.4,2,     1.18,2,     0.13,2,     0.00,2,     0.01,2,   1979.3,2,   2300.9,2,   8.0926,2,    25.00,      740
  49UF20120204,KS1202,  3315,  1,     33,  21992,2,20120212,0643, 24.2507, 160.0407, 5485,     50.4,  23.9582,  35.2179,2,-999.0000,9,    211.1,2,     1.21,2,     0.00,2,     0.00,2,     0.02,2,   1981.7,2,   2306.6,2,   8.0861,2,    25.00,      736
  49UF20120204,KS1202,  3315,  1,     31,  21990,2,20120212,0643, 24.2507, 160.0407, 5485,     75.7,  23.5984,  35.2248,2,-999.0000,9,    212.3,2,     1.32,2,     0.14,2,     0.00,4,     0.01,2,   1991.0,2,   2304.7,2,   8.0729,2,    25.00,      734
  49UF20120204,KS1202,  3315,  1,     30,  21989,2,20120212,0643, 24.2507, 160.0407, 5485,    100.2,  22.2005,  35.1171,2,-999.0000,9,    212.7,2,     1.68,2,     0.05,2,     0.01,2,     0.03,2,   2005.1,2,   2298.2,2,   8.0415,2,    25.00,      733
  49UF20120204,KS1202,  3315,  1,     29,  21988,2,20120212,0643, 24.2507, 160.0407, 5485,    126.6,  20.6461,  35.0571,2,-999.0000,9,    201.8,2,     2.19,2,     0.87,2,     0.07,2,     0.11,2,   2033.0,2,   2293.6,2,   7.9905,2,    25.00,      732
  49UF20120204,KS1202,  3315,  1,     26,  21985,2,20120212,0643, 24.2507, 160.0407, 5485,    150.4,  19.3558,  34.9129,2,-999.0000,9,    201.1,2,     2.62,2,     1.70,2,     0.02,2,     0.15,2,   2032.1,2,   2283.9,2,   7.9695,2,    25.00,      731
  49UF20120204,KS1202,  3315,  1,     25,  21984,2,20120212,0643, 24.2507, 160.0407, 5485,    202.3,  17.7915,  34.7865,2,-999.0000,9,    196.5,2,     3.91,2,     4.37,2,     0.01,2,     0.32,2,   2051.3,2,   2279.0,2,   7.9359,2,    25.00,      729
  49UF20120204,KS1202,  3315,  1,     24,  21983,2,20120212,0643, 24.2507, 160.0407, 5485,    252.3,  16.4963,  34.6605,2,-999.0000,9,    199.4,2,     5.42,2,     5.89,3,     0.01,2,     0.42,2,   2053.6,2,   2274.0,2,   7.9033,2,    25.00,      727
  49UF20120204,KS1202,  3315,  1,     21,  21980,2,20120212,0643, 24.2507, 160.0407, 5485,    302.6,  15.1897,  34.5457,2,-999.0000,9,    196.8,6,     7.52,6,     7.92,6,     0.00,6,     0.57,6,   2066.2,2,   2268.0,2,   7.8712,2,    25.00,      725
  49UF20120204,KS1202,  3315,  1,     20,  21979,2,20120212,0643, 24.2507, 160.0407, 5485,    402.9,  12.4974,  34.3609,2,-999.0000,9,    197.7,2,    14.28,2,    12.60,2,     0.00,2,     0.88,2,   2096.8,2,   2263.5,2,   7.8085,2,    25.00,      722
  49UF20120204,KS1202,  3315,  1,     19,  21978,2,20120212,0643, 24.2507, 160.0407, 5485,    504.6,  10.4283,  34.2178,2,-999.0000,9,    186.4,2,    22.58,2,    17.27,2,     0.00,2,     1.22,2,   2127.8,2,   2261.5,2,   7.7229,2,    25.00,      719
  49UF20120204,KS1202,  3315,  1,     17,  21976,2,20120212,0643, 24.2507, 160.0407, 5485,    605.5,   8.2256,  34.1036,2,-999.0000,9,    149.8,2,    38.92,2,    24.49,2,     0.00,2,     1.76,2,   2180.9,2,   2267.0,2,   7.6114,2,    25.00,      716
  49UF20120204,KS1202,  3315,  1,     16,  21975,2,20120212,0643, 24.2507, 160.0407, 5485,    706.3,   6.1978,  34.0708,2,-999.0000,9,    102.8,2,    63.43,2,    32.50,2,     0.00,2,     2.34,2,   2243.4,6,   2287.0,6,   7.4710,2,    25.00,      713
  49UF20120204,KS1202,  3315,  1,     15,  21974,2,20120212,0643, 24.2507, 160.0407, 5485,    807.5,   4.8703,  34.1598,2,-999.0000,9,     58.7,2,    88.90,2,    38.34,2,     0.00,2,     2.78,2,   2305.8,2,   2314.3,2,   7.3803,6,    25.00,      710
  49UF20120204,KS1202,  3315,  1,     13,  21972,2,20120212,0643, 24.2507, 160.0407, 5485,    908.0,   4.4178,  34.2888,2,-999.0000,9,     45.2,2,   101.65,2,    40.43,2,     0.00,2,     2.93,2,   2326.8,2,   2336.4,2,   7.3680,2,    25.00,      708
  49UF20120204,KS1202,  3315,  1,     12,  21971,2,20120212,0643, 24.2507, 160.0407, 5485,   1009.5,   3.9094,  34.3610,2,-999.0000,9,     41.7,2,   113.99,2,    41.29,2,     0.00,2,     2.97,2,   2342.6,3,   2351.1,2,   7.3632,2,    25.00,      705
  49UF20120204,KS1202,  3315,  1,     11,  21970,2,20120212,0643, 24.2507, 160.0407, 5485,   1009.5,   3.9094,  34.3610,2,-999.0000,9,     42.3,2,   113.79,2,    41.17,2,     0.00,2,     2.97,2,   2347.2,2,   2350.3,2,   7.3674,2,    25.00,      705
  49UF20120204,KS1202,  3315,  1,      8,  21967,2,20120212,0643, 24.2507, 160.0407, 5485,   1211.9,   3.1820,  34.4688,2,-999.0000,9,     51.1,2,   130.77,6,    41.26,6,     0.00,6,     2.97,6,   2357.6,2,   2374.6,2,   7.3855,2,    25.00,      701
  49UF20120204,KS1202,  3315,  1,      7,  21966,2,20120212,0643, 24.2507, 160.0407, 5485,   1415.1,   2.7036,  34.5280,2,-999.0000,9,     66.1,2,   139.80,2,    40.67,2,     0.00,2,     2.91,2,   2363.6,2,   2387.2,2,   7.4154,2,    25.00,      656
  49UF20120204,KS1202,  3315,  1,      6,  21965,2,20120212,0643, 24.2507, 160.0407, 5485,   1616.3,   2.3970,  34.5624,2,-999.0000,9,     77.6,2,   145.34,2,    40.06,2,     0.00,2,     2.85,2,   2358.9,6,   2395.1,2,   7.4369,2,    25.00,      652
  49UF20120204,KS1202,  3315,  1,      4,  21963,2,20120212,0643, 24.2507, 160.0407, 5485,   1821.1,   2.1365,  34.5941,2,-999.0000,9,     89.9,2,   148.09,2,    39.25,2,     0.00,2,     2.80,2,   2357.0,2,   2400.1,2,   7.4613,6,    25.00,      647
  49UF20120204,KS1202,  3315,  1,      2,  21961,2,20120212,0643, 24.2507, 160.0407, 5485,   2025.1,   1.9862,  34.6164,2,-999.0000,9,    101.7,2,   148.73,2,    38.79,2,     0.00,2,     2.74,2,   2352.7,2,   2403.2,2,   7.4831,2,    25.00,      643
  49UF20120204,KS1202,  3315,  1,      1,  21960,2,20120212,0643, 24.2507, 160.0407, 5485,   2025.1,   1.9862,  34.6164,2,-999.0000,9,    101.9,2,   148.75,2,    38.76,2,     0.00,2,     2.74,2,   2356.0,2,   2403.5,2,   7.4809,2,    25.00,      643