BOTTLE,20191017PRINUNIVRMK
EXPOCODE,SECT_ID,STNNBR,CASTNO,SAMPNO,BTLNBR,BTLNBR_FLAG_W,DATE,TIME,LATITUDE,LONGITUDE,DEPTH,CTDPRS,CTDTMP,CTDSAL,CTDSAL_FLAG_W,SALNTY,SALNTY_FLAG_W,OXYGEN,OXYGEN_FLAG_W,SILCAT,SILCAT_FLAG_W,NITRAT,NITRAT_FLAG_W,NITRIT,NITRIT_FLAG_W,PHSPHT,PHSPHT_FLAG_W,TCARBN,TCARBN_FLAG_W,ALKALI,ALKALI_FLAG_W,PH_TOT,PH_TOT_FLAG_W,PH_TMP,BTL_TIME
,,,,,,,,,,,METERS,DBAR,ITS-90,PSS-78,,PSS-78,,UMOL/KG,,UMOL/KG,,UMOL/KG,,UMOL/KG,,UMOL/KG,,UMOL/KG,,UMOL/KG,,,,DEG C,
  49UF20120204,KS1202,  3338,  1,     99,     99,2,20120218,2037,  9.4897, 162.9748, 4603,      0.0,  28.1180,  34.1664,2,-999.0000,9,    197.2,2,     1.01,2,     0.06,2,     0.00,2,     0.08,2,   -999.0,9,   -999.0,9,-999.0000,9,  -999.00,     2119
  49UF20120204,KS1202,  3338,  1,     36,  21995,2,20120218,2037,  9.4897, 162.9748, 4603,     11.6,  28.1130,  34.1664,2,-999.0000,9,    198.0,2,     0.99,2,     0.05,2,     0.00,2,     0.07,2,   -999.0,9,   -999.0,9,-999.0000,9,  -999.00,     2147
  49UF20120204,KS1202,  3338,  1,     35,  21994,2,20120218,2037,  9.4897, 162.9748, 4603,     25.5,  28.1174,  34.1659,2,-999.0000,9,    198.0,6,     0.97,6,     0.03,6,     0.00,6,     0.07,6,   -999.0,9,   -999.0,9,-999.0000,9,  -999.00,     2146
  49UF20120204,KS1202,  3338,  1,     33,  21992,2,20120218,2037,  9.4897, 162.9748, 4603,     51.2,  28.1224,  34.1655,2,-999.0000,9,    197.8,2,     0.97,2,     0.02,2,     0.00,2,     0.06,2,   -999.0,9,   -999.0,9,-999.0000,9,  -999.00,     2145
  49UF20120204,KS1202,  3338,  1,     32,  21991,2,20120218,2037,  9.4897, 162.9748, 4603,     76.8,  28.1257,  34.1653,2,-999.0000,9,    197.8,2,     0.94,2,     0.01,2,     0.00,2,     0.07,2,   -999.0,9,   -999.0,9,-999.0000,9,  -999.00,     2143
  49UF20120204,KS1202,  3338,  1,     31,  21990,2,20120218,2037,  9.4897, 162.9748, 4603,    102.8,  27.2666,  34.6479,2,-999.0000,9,    202.1,2,     1.01,2,     0.04,2,     0.00,2,     0.12,2,   -999.0,9,   -999.0,9,-999.0000,9,  -999.00,     2142
  49UF20120204,KS1202,  3338,  1,     29,  21988,2,20120218,2037,  9.4897, 162.9748, 4603,    125.8,  25.7891,  34.9296,2,-999.0000,9,    201.3,2,     1.13,2,     0.06,2,     0.01,2,     0.13,2,   -999.0,9,   -999.0,9,-999.0000,9,  -999.00,     2140
  49UF20120204,KS1202,  3338,  1,     28,  21987,2,20120218,2037,  9.4897, 162.9748, 4603,    152.6,  20.9587,  35.0305,2,-999.0000,9,    179.3,2,     2.67,2,     2.24,2,     0.22,2,     0.33,2,   -999.0,9,   -999.0,9,-999.0000,9,  -999.00,     2135
  49UF20120204,KS1202,  3338,  1,     27,  21986,2,20120218,2037,  9.4897, 162.9748, 4603,    203.9,  15.0764,  34.5532,2,-999.0000,9,    151.2,2,    10.13,2,    11.87,2,     0.01,2,     0.93,2,   -999.0,9,   -999.0,9,-999.0000,9,  -999.00,     2133
  49UF20120204,KS1202,  3338,  1,     24,  21983,2,20120218,2037,  9.4897, 162.9748, 4603,    256.3,  10.8917,  34.4491,2,-999.0000,9,     79.1,2,    26.97,2,    26.31,2,     0.00,2,     1.96,2,   -999.0,9,   -999.0,9,-999.0000,9,  -999.00,     2130
  49UF20120204,KS1202,  3338,  1,     23,  21982,2,20120218,2037,  9.4897, 162.9748, 4603,    256.3,  10.8917,  34.4491,2,-999.0000,9,     79.3,2,    27.00,2,    26.26,2,     0.00,2,     1.96,2,   -999.0,9,   -999.0,9,-999.0000,9,  -999.00,     2130
  49UF20120204,KS1202,  3338,  1,     22,  21981,2,20120218,2037,  9.4897, 162.9748, 4603,    305.1,   9.4466,  34.5540,2,-999.0000,9,     52.1,2,    35.99,2,    32.46,2,     0.00,2,     2.34,2,   -999.0,9,   -999.0,9,-999.0000,9,  -999.00,     2127
  49UF20120204,KS1202,  3338,  1,     19,  21978,2,20120218,2037,  9.4897, 162.9748, 4603,    407.9,   8.4644,  34.5615,2,-999.0000,9,     57.5,2,    41.58,2,    34.15,2,     0.00,2,     2.44,2,   -999.0,9,   -999.0,9,-999.0000,9,  -999.00,     2124
  49UF20120204,KS1202,  3338,  1,     18,  21977,2,20120218,2037,  9.4897, 162.9748, 4603,    505.5,   7.6182,  34.5477,2,-999.0000,9,     62.6,2,    47.61,2,    35.25,2,     0.00,2,     2.53,2,   -999.0,9,   -999.0,9,-999.0000,9,  -999.00,     2120
  49UF20120204,KS1202,  3338,  1,     17,  21976,2,20120218,2037,  9.4897, 162.9748, 4603,    611.2,   6.8399,  34.5407,2,-999.0000,9,     57.6,6,    55.70,6,    37.24,6,     0.00,6,     2.68,6,   -999.0,9,   -999.0,9,-999.0000,9,  -999.00,     2116
  49UF20120204,KS1202,  3338,  1,     15,  21974,2,20120218,2037,  9.4897, 162.9748, 4603,    708.9,   6.2077,  34.5343,2,-999.0000,9,     58.0,2,    63.75,2,    38.49,2,     0.00,2,     2.77,2,   -999.0,9,   -999.0,9,-999.0000,9,  -999.00,     2112
  49UF20120204,KS1202,  3338,  1,     14,  21973,2,20120218,2037,  9.4897, 162.9748, 4603,    810.2,   5.5653,  34.5322,2,-999.0000,9,     62.8,2,    73.98,2,    39.03,2,     0.00,2,     2.80,2,   -999.0,9,   -999.0,9,-999.0000,9,  -999.00,     2108
  49UF20120204,KS1202,  3338,  1,     13,  21972,2,20120218,2037,  9.4897, 162.9748, 4603,    908.7,   5.1090,  34.5392,2,-999.0000,9,     67.8,2,    81.51,2,    39.26,2,     0.00,2,     2.81,2,   -999.0,9,   -999.0,9,-999.0000,9,  -999.00,     2105
  49UF20120204,KS1202,  3338,  1,     11,  21970,3,20120218,2037,  9.4897, 162.9748, 4603,   1008.5,   4.8036,  34.5457,2,-999.0000,9,     75.2,2,    86.27,2,    38.88,2,     0.00,2,     2.79,2,   -999.0,9,   -999.0,9,-999.0000,9,  -999.00,     2102
  49UF20120204,KS1202,  3338,  1,     10,  21969,2,20120218,2037,  9.4897, 162.9748, 4603,   1213.4,   3.8781,  34.5659,2,-999.0000,9,     76.4,2,   104.98,2,    39.62,2,     0.00,2,     2.85,2,   -999.0,9,   -999.0,9,-999.0000,9,  -999.00,     2056
  49UF20120204,KS1202,  3338,  1,      9,  21968,2,20120218,2037,  9.4897, 162.9748, 4603,   1413.5,   3.0953,  34.5914,2,-999.0000,9,     86.6,2,   121.83,2,    39.63,2,     0.00,2,     2.82,2,   -999.0,9,   -999.0,9,-999.0000,9,  -999.00,     2051
  49UF20120204,KS1202,  3338,  1,      6,  21965,2,20120218,2037,  9.4897, 162.9748, 4603,   1617.6,   2.6851,  34.6094,2,-999.0000,9,     93.9,2,   131.08,2,    39.43,2,     0.00,2,     2.79,2,   -999.0,9,   -999.0,9,-999.0000,9,  -999.00,     2046
  49UF20120204,KS1202,  3338,  1,      5,  21964,2,20120218,2037,  9.4897, 162.9748, 4603,   1617.6,   2.6851,  34.6094,2,-999.0000,9,     94.0,2,   130.81,2,    39.31,2,     0.00,2,     2.80,2,   -999.0,9,   -999.0,9,-999.0000,9,  -999.00,     2046
  49UF20120204,KS1202,  3338,  1,      4,  21963,2,20120218,2037,  9.4897, 162.9748, 4603,   1820.0,   2.4077,  34.6231,2,-999.0000,9,     99.2,2,   136.43,2,    38.89,2,     0.00,2,     2.77,2,   -999.0,9,   -999.0,9,-999.0000,9,  -999.00,     2042
  49UF20120204,KS1202,  3338,  1,      1,  21960,2,20120218,2037,  9.4897, 162.9748, 4603,   2023.1,   2.2141,  34.6345,2,-999.0000,9,    104.2,2,   140.83,2,    38.86,2,     0.00,2,     2.75,2,   -999.0,9,   -999.0,9,-999.0000,9,  -999.00,     2037
  49UF20120204,KS1202,  3339,  1,     99,     99,2,20120219,0340,  9.4947, 161.9695, 4620,      0.0,  28.5596,  34.2802,2,-999.0000,9,    196.4,2,     1.00,2,     0.04,2,     0.00,2,     0.09,2,   -999.0,9,   -999.0,9,-999.0000,9,  -999.00,      425
  49UF20120204,KS1202,  3339,  1,     36,  21995,2,20120219,0340,  9.4947, 161.9695, 4620,     12.2,  28.5587,  34.2799,2,-999.0000,9,    196.5,2,     0.98,2,     0.04,2,     0.00,2,     0.09,2,   -999.0,9,   -999.0,9,-999.0000,9,  -999.00,      436
  49UF20120204,KS1202,  3339,  1,     35,  21994,2,20120219,0340,  9.4947, 161.9695, 4620,     25.9,  28.5470,  34.2795,2,-999.0000,9,    196.6,2,     1.04,2,     0.06,2,     0.00,2,     0.12,2,   -999.0,9,   -999.0,9,-999.0000,9,  -999.00,      435
  49UF20120204,KS1202,  3339,  1,     33,  21992,2,20120219,0340,  9.4947, 161.9695, 4620,     52.2,  28.4876,  34.2789,2,-999.0000,9,    196.4,2,     1.00,2,     0.05,2,     0.00,2,     0.09,2,   -999.0,9,   -999.0,9,-999.0000,9,  -999.00,      431
  49UF20120204,KS1202,  3339,  1,     32,  21991,2,20120219,0340,  9.4947, 161.9695, 4620,     76.5,  28.4880,  34.2791,2,-999.0000,9,    196.4,2,     1.00,2,     0.06,2,     0.00,2,     0.09,2,   -999.0,9,   -999.0,9,-999.0000,9,  -999.00,      430
  49UF20120204,KS1202,  3339,  1,     31,  21990,2,20120219,0340,  9.4947, 161.9695, 4620,    101.4,  28.4881,  34.2790,2,-999.0000,9,    196.1,2,     1.00,2,     0.06,2,     0.00,2,     0.09,2,   -999.0,9,   -999.0,9,-999.0000,9,  -999.00,      429
  49UF20120204,KS1202,  3339,  1,     29,  21988,2,20120219,0340,  9.4947, 161.9695, 4620,    126.1,  26.8664,  34.8535,2,-999.0000,9,    202.2,2,     0.96,2,     0.09,2,     0.00,2,     0.13,2,   -999.0,9,   -999.0,9,-999.0000,9,  -999.00,      428
  49UF20120204,KS1202,  3339,  1,     28,  21987,2,20120219,0340,  9.4947, 161.9695, 4620,    150.9,  24.5177,  35.0681,2,-999.0000,9,    199.0,2,     1.25,2,     0.13,2,     0.02,2,     0.14,2,   -999.0,9,   -999.0,9,-999.0000,9,  -999.00,      427
  49UF20120204,KS1202,  3339,  1,     27,  21986,2,20120219,0340,  9.4947, 161.9695, 4620,    150.9,  24.5177,  35.0681,2,-999.0000,9,    197.5,2,     1.30,2,     0.18,2,     0.03,2,     0.15,2,   -999.0,9,   -999.0,9,-999.0000,9,  -999.00,      427
  49UF20120204,KS1202,  3339,  1,     24,  21983,2,20120219,0340,  9.4947, 161.9695, 4620,    201.9,  18.3249,  34.8271,2,-999.0000,9,    163.5,2,     5.34,2,     6.84,2,     0.02,2,     0.59,2,   -999.0,9,   -999.0,9,-999.0000,9,  -999.00,      425
  49UF20120204,KS1202,  3339,  1,     23,  21982,2,20120219,0340,  9.4947, 161.9695, 4620,    253.1,  13.3016,  34.4128,2,-999.0000,9,    149.8,2,    13.98,2,    14.86,2,     0.00,2,     1.13,2,   -999.0,9,   -999.0,9,-999.0000,9,  -999.00,      424
  49UF20120204,KS1202,  3339,  1,     22,  21981,2,20120219,0340,  9.4947, 161.9695, 4620,    305.0,  10.4005,  34.4597,2,-999.0000,9,     70.6,2,    30.57,2,    28.62,2,     0.00,2,     2.11,2,   -999.0,9,   -999.0,9,-999.0000,9,  -999.00,      422
  49UF20120204,KS1202,  3339,  1,     19,  21978,2,20120219,0340,  9.4947, 161.9695, 4620,    405.1,   8.4945,  34.5150,2,-999.0000,9,     55.7,2,    42.71,2,    34.05,2,     0.00,2,     2.45,2,   -999.0,9,   -999.0,9,-999.0000,9,  -999.00,      419
  49UF20120204,KS1202,  3339,  1,     18,  21977,2,20120219,0340,  9.4947, 161.9695, 4620,    508.1,   7.5942,  34.5354,2,-999.0000,9,     65.2,2,    48.57,2,    35.33,2,     0.00,2,     2.52,2,   -999.0,9,   -999.0,9,-999.0000,9,  -999.00,      416
  49UF20120204,KS1202,  3339,  1,     17,  21976,2,20120219,0340,  9.4947, 161.9695, 4620,    606.8,   6.8697,  34.5301,2,-999.0000,9,     64.7,2,    55.54,2,    36.75,2,     0.00,2,     2.62,2,   -999.0,9,   -999.0,9,-999.0000,9,  -999.00,      412
  49UF20120204,KS1202,  3339,  1,     15,  21974,2,20120219,0340,  9.4947, 161.9695, 4620,    706.9,   6.2039,  34.5345,2,-999.0000,9,     62.7,6,    64.10,6,    38.28,6,     0.00,6,     2.74,6,   -999.0,9,   -999.0,9,-999.0000,9,  -999.00,      409
  49UF20120204,KS1202,  3339,  1,     14,  21973,2,20120219,0340,  9.4947, 161.9695, 4620,    808.1,   5.6444,  34.5316,2,-999.0000,9,     65.8,2,    72.52,2,    38.79,2,     0.00,2,     2.78,2,   -999.0,9,   -999.0,9,-999.0000,9,  -999.00,      406
  49UF20120204,KS1202,  3339,  1,     13,  21972,2,20120219,0340,  9.4947, 161.9695, 4620,    909.4,   5.1551,  34.5379,2,-999.0000,9,     70.1,2,    80.92,2,    39.25,2,     0.00,2,     2.80,2,   -999.0,9,   -999.0,9,-999.0000,9,  -999.00,      403
  49UF20120204,KS1202,  3339,  1,     11,  21970,2,20120219,0340,  9.4947, 161.9695, 4620,   1007.9,   4.7773,  34.5456,2,-999.0000,9,     76.1,2,    87.53,2,    39.28,2,     0.00,2,     2.80,2,   -999.0,9,   -999.0,9,-999.0000,9,  -999.00,      400
  49UF20120204,KS1202,  3339,  1,     10,  21969,2,20120219,0340,  9.4947, 161.9695, 4620,   1210.2,   3.8488,  34.5664,2,-999.0000,9,     81.5,2,   106.11,2,    39.56,2,     0.00,2,     2.82,2,   -999.0,9,   -999.0,9,-999.0000,9,  -999.00,      356
  49UF20120204,KS1202,  3339,  1,      9,  21968,2,20120219,0340,  9.4947, 161.9695, 4620,   1210.2,   3.8488,  34.5664,2,-999.0000,9,     81.5,2,   106.07,2,    39.58,2,     0.00,2,     2.82,2,   -999.0,9,   -999.0,9,-999.0000,9,  -999.00,      356
  49UF20120204,KS1202,  3339,  1,      6,  21965,2,20120219,0340,  9.4947, 161.9695, 4620,   1412.6,   3.1552,  34.5892,2,-999.0000,9,     86.0,2,   121.91,2,    39.79,2,     0.00,2,     2.84,2,   -999.0,9,   -999.0,9,-999.0000,9,  -999.00,      351
  49UF20120204,KS1202,  3339,  1,      5,  21964,2,20120219,0340,  9.4947, 161.9695, 4620,   1615.6,   2.6624,  34.6110,2,-999.0000,9,     96.9,2,   131.21,2,    39.31,2,     0.00,2,     2.79,2,   -999.0,9,   -999.0,9,-999.0000,9,  -999.00,      347
  49UF20120204,KS1202,  3339,  1,      4,  21963,2,20120219,0340,  9.4947, 161.9695, 4620,   1817.0,   2.4147,  34.6242,2,-999.0000,9,    101.1,2,   136.64,2,    39.27,2,     0.00,2,     2.77,2,   -999.0,9,   -999.0,9,-999.0000,9,  -999.00,      343
  49UF20120204,KS1202,  3339,  1,      1,  21960,2,20120219,0340,  9.4947, 161.9695, 4620,   2020.5,   2.2042,  34.6360,2,-999.0000,9,    105.9,6,   141.29,6,    39.04,6,     0.00,6,     2.76,6,   -999.0,9,   -999.0,9,-999.0000,9,  -999.00,      340
  49UF20120204,KS1202,  3340,  1,     99,     99,2,20120219,1132,  9.3958, 160.8073, 4809,      0.0,  28.3589,  34.2714,2,-999.0000,9,    197.5,2,     1.04,2,     0.03,2,     0.00,2,     0.09,2,   -999.0,9,   -999.0,9,-999.0000,9,  -999.00,     1220
  49UF20120204,KS1202,  3340,  1,     36,  21995,2,20120219,1132,  9.3958, 160.8073, 4809,     11.9,  28.3692,  34.2708,2,  34.2710,2,    197.2,2,     1.04,2,     0.04,2,     0.00,2,     0.08,2,   -999.0,9,   -999.0,9,-999.0000,9,  -999.00,     1236
  49UF20120204,KS1202,  3340,  1,     35,  21994,2,20120219,1132,  9.3958, 160.8073, 4809,     24.4,  28.3741,  34.2706,2,-999.0000,9,    197.5,2,     1.02,2,     0.00,2,     0.00,2,     0.08,2,   -999.0,9,   -999.0,9,-999.0000,9,  -999.00,     1235
  49UF20120204,KS1202,  3340,  1,     33,  21992,2,20120219,1132,  9.3958, 160.8073, 4809,     49.5,  28.3752,  34.2690,2,-999.0000,9,    197.1,2,     1.04,2,     0.02,2,     0.00,2,     0.08,2,   -999.0,9,   -999.0,9,-999.0000,9,  -999.00,     1230
  49UF20120204,KS1202,  3340,  1,     32,  21991,2,20120219,1132,  9.3958, 160.8073, 4809,     74.1,  28.3804,  34.2685,2,-999.0000,9,    196.9,6,     1.04,6,     0.03,6,     0.00,6,     0.08,6,   -999.0,9,   -999.0,9,-999.0000,9,  -999.00,     1229
  49UF20120204,KS1202,  3340,  1,     31,  21990,2,20120219,1132,  9.3958, 160.8073, 4809,     99.4,  28.1514,  34.3229,2,  34.3343,4,    197.9,2,     0.98,2,     0.04,2,     0.00,2,     0.09,2,   -999.0,9,   -999.0,9,-999.0000,9,  -999.00,     1228
  49UF20120204,KS1202,  3340,  1,     29,  21988,2,20120219,1132,  9.3958, 160.8073, 4809,    124.7,  25.7522,  35.0260,2,-999.0000,9,    202.2,2,     1.08,2,     0.02,2,     0.00,2,     0.13,2,   -999.0,9,   -999.0,9,-999.0000,9,  -999.00,     1227
  49UF20120204,KS1202,  3340,  1,     28,  21987,2,20120219,1132,  9.3958, 160.8073, 4809,    124.7,  25.7522,  35.0260,2,-999.0000,9,    202.3,2,     1.06,2,     0.07,2,     0.00,2,     0.13,2,   -999.0,9,   -999.0,9,-999.0000,9,  -999.00,     1226
  49UF20120204,KS1202,  3340,  1,     27,  21986,2,20120219,1132,  9.3958, 160.8073, 4809,    150.8,  22.0593,  35.2004,2,-999.0000,9,    182.5,2,     1.79,2,     1.16,2,     0.11,2,     0.21,2,   -999.0,9,   -999.0,9,-999.0000,9,  -999.00,     1225
  49UF20120204,KS1202,  3340,  1,     24,  21983,2,20120219,1132,  9.3958, 160.8073, 4809,    203.4,  14.6183,  34.5153,2,  34.5241,4,    158.5,2,    10.42,2,    11.95,2,     0.01,2,     0.91,2,   -999.0,9,   -999.0,9,-999.0000,9,  -999.00,     1223
  49UF20120204,KS1202,  3340,  1,     23,  21982,2,20120219,1132,  9.3958, 160.8073, 4809,    250.9,  11.7024,  34.4201,2,-999.0000,9,     98.6,2,    23.30,2,    23.28,2,     0.00,2,     1.74,2,   -999.0,9,   -999.0,9,-999.0000,9,  -999.00,     1221
  49UF20120204,KS1202,  3340,  1,     22,  21981,2,20120219,1132,  9.3958, 160.8073, 4809,    301.9,   9.5801,  34.4820,2,-999.0000,9,     59.3,2,    35.79,2,    31.56,2,     0.00,2,     2.28,2,   -999.0,9,   -999.0,9,-999.0000,9,  -999.00,     1219
  49UF20120204,KS1202,  3340,  1,     19,  21978,2,20120219,1132,  9.3958, 160.8073, 4809,    404.8,   8.1030,  34.5355,2,  34.5349,2,     58.1,2,    44.68,2,    34.85,2,     0.00,2,     2.47,2,   -999.0,9,   -999.0,9,-999.0000,9,  -999.00,     1215
  49UF20120204,KS1202,  3340,  1,     18,  21977,2,20120219,1132,  9.3958, 160.8073, 4809,    507.1,   7.3602,  34.5353,2,-999.0000,9,     68.1,2,    50.36,2,    35.61,2,     0.00,2,     2.53,2,   -999.0,9,   -999.0,9,-999.0000,9,  -999.00,     1212
  49UF20120204,KS1202,  3340,  1,     17,  21976,2,20120219,1132,  9.3958, 160.8073, 4809,    605.5,   6.8508,  34.5334,2,  34.5317,2,     64.7,2,    56.18,2,    37.05,2,     0.00,2,     2.63,2,   -999.0,9,   -999.0,9,-999.0000,9,  -999.00,     1208
  49UF20120204,KS1202,  3340,  1,     15,  21974,2,20120219,1132,  9.3958, 160.8073, 4809,    706.1,   6.2350,  34.5337,2,-999.0000,9,     60.8,2,    63.93,2,    38.39,2,     0.00,2,     2.75,2,   -999.0,9,   -999.0,9,-999.0000,9,  -999.00,     1205
  49UF20120204,KS1202,  3340,  1,     14,  21973,2,20120219,1132,  9.3958, 160.8073, 4809,    808.9,   5.6279,  34.5357,2,  34.5359,2,     65.4,6,    72.78,6,    39.13,6,     0.00,6,     2.79,6,   -999.0,9,   -999.0,9,-999.0000,9,  -999.00,     1201
  49UF20120204,KS1202,  3340,  1,     13,  21972,2,20120219,1132,  9.3958, 160.8073, 4809,    908.7,   5.0750,  34.5407,2,-999.0000,9,     73.0,2,    81.95,2,    39.08,2,     0.00,2,     2.78,2,   -999.0,9,   -999.0,9,-999.0000,9,  -999.00,     1158
  49UF20120204,KS1202,  3340,  1,     11,  21970,2,20120219,1132,  9.3958, 160.8073, 4809,   1003.8,   4.6505,  34.5481,2,-999.0000,9,     77.0,2,    90.02,2,    39.20,2,     0.00,2,     2.80,2,   -999.0,9,   -999.0,9,-999.0000,9,  -999.00,     1155
  49UF20120204,KS1202,  3340,  1,     10,  21969,2,20120219,1132,  9.3958, 160.8073, 4809,   1003.8,   4.6505,  34.5481,2,  34.5498,2,     76.9,2,    90.00,2,    39.21,2,     0.00,2,     2.79,2,   -999.0,9,   -999.0,9,-999.0000,9,  -999.00,     1155
  49UF20120204,KS1202,  3340,  1,      9,  21968,2,20120219,1132,  9.3958, 160.8073, 4809,   1211.7,   3.6269,  34.5733,2,  34.5725,2,     80.4,2,   111.13,2,    39.93,2,     0.00,2,     2.84,2,   -999.0,9,   -999.0,9,-999.0000,9,  -999.00,     1150
  49UF20120204,KS1202,  3340,  1,      6,  21965,2,20120219,1132,  9.3958, 160.8073, 4809,   1414.1,   2.9479,  34.5971,2,  34.5974,2,     89.7,2,   125.67,2,    39.79,2,     0.00,2,     2.82,2,   -999.0,9,   -999.0,9,-999.0000,9,  -999.00,     1145
  49UF20120204,KS1202,  3340,  1,      5,  21964,2,20120219,1132,  9.3958, 160.8073, 4809,   1616.0,   2.6550,  34.6093,2,  34.6084,2,     93.5,2,   132.42,2,    39.84,2,     0.00,2,     2.80,2,   -999.0,9,   -999.0,9,-999.0000,9,  -999.00,     1140
  49UF20120204,KS1202,  3340,  1,      4,  21963,2,20120219,1132,  9.3958, 160.8073, 4809,   1814.9,   2.3738,  34.6242,2,  34.6240,2,    100.5,2,   138.10,2,    39.50,2,     0.00,2,     2.77,2,   -999.0,9,   -999.0,9,-999.0000,9,  -999.00,     1136
  49UF20120204,KS1202,  3340,  1,      1,  21960,2,20120219,1132,  9.3958, 160.8073, 4809,   2018.4,   2.1791,  34.6369,2,  34.6368,2,    105.6,2,   142.40,2,    39.22,2,     0.00,2,     2.75,2,   -999.0,9,   -999.0,9,-999.0000,9,  -999.00,     1132