BOTTLE,20191017PRINUNIVRMK
EXPOCODE,SECT_ID,STNNBR,CASTNO,SAMPNO,BTLNBR,BTLNBR_FLAG_W,DATE,TIME,LATITUDE,LONGITUDE,DEPTH,CTDPRS,CTDTMP,CTDSAL,CTDSAL_FLAG_W,SALNTY,SALNTY_FLAG_W,OXYGEN,OXYGEN_FLAG_W,SILCAT,SILCAT_FLAG_W,NITRAT,NITRAT_FLAG_W,NITRIT,NITRIT_FLAG_W,PHSPHT,PHSPHT_FLAG_W,TCARBN,TCARBN_FLAG_W,ALKALI,ALKALI_FLAG_W,PH_TOT,PH_TOT_FLAG_W,PH_TMP,BTL_TIME
,,,,,,,,,,,METERS,DBAR,ITS-90,PSS-78,,PSS-78,,UMOL/KG,,UMOL/KG,,UMOL/KG,,UMOL/KG,,UMOL/KG,,UMOL/KG,,UMOL/KG,,,,DEG C,
  49UF20120204,KS1202,  3347,  1,     99,     99,2,20120301,2033,  9.4890, 154.9712,   -9,      0.0,  28.2334,  34.2537,2,-999.0000,9,    197.2,2,     1.14,2,     0.00,2,     0.00,2,     0.08,2,   1914.6,2,   2240.5,2,   8.1051,2,    25.00,     2108
  49UF20120204,KS1202,  3347,  1,     36,  21995,2,20120301,2033,  9.4890, 154.9712,   -9,     11.0,  28.2239,  34.2531,2,-999.0000,9,    197.3,2,     1.13,2,     0.00,2,     0.00,2,     0.07,2,   1915.7,2,   2245.8,2,   8.1047,2,    25.00,     2136
  49UF20120204,KS1202,  3347,  1,     35,  21994,2,20120301,2033,  9.4890, 154.9712,   -9,     26.5,  28.2285,  34.2523,2,-999.0000,9,    197.4,2,     1.08,2,     0.00,2,     0.00,2,     0.07,2,   1913.8,2,   2241.4,2,   8.1071,2,    25.00,     2135
  49UF20120204,KS1202,  3347,  1,     33,  21992,2,20120301,2033,  9.4890, 154.9712,   -9,     49.4,  28.2344,  34.2521,2,-999.0000,9,    197.3,2,     1.11,2,     0.01,2,     0.00,2,     0.07,2,   1915.0,2,   2241.6,2,   8.1073,2,    25.00,     2131
  49UF20120204,KS1202,  3347,  1,     32,  21991,2,20120301,2033,  9.4890, 154.9712,   -9,     75.2,  28.2407,  34.2516,2,-999.0000,9,    197.5,2,     1.11,2,     0.05,2,     0.00,2,     0.07,2,   1913.2,2,   2243.1,2,   8.1073,2,    25.00,     2130
  49UF20120204,KS1202,  3347,  1,     31,  21990,2,20120301,2033,  9.4890, 154.9712,   -9,    102.5,  27.0536,  34.9616,2,-999.0000,9,    200.2,2,     1.17,2,     0.04,2,     0.00,2,     0.11,2,   1982.8,2,   2292.8,2,   8.0695,2,    25.00,     2129
  49UF20120204,KS1202,  3347,  1,     29,  21988,3,20120301,2033,  9.4890, 154.9712,   -9,    125.3,  23.8744,  35.0061,2,-999.0000,9,    169.2,2,     2.81,2,     2.21,2,     0.27,2,     0.33,2,   2032.8,2,   2293.7,2,   7.9748,2,    25.00,     2128
  49UF20120204,KS1202,  3347,  1,     28,  21987,2,20120301,2033,  9.4890, 154.9712,   -9,    152.2,  20.7297,  35.0436,2,-999.0000,9,    175.9,2,     3.07,2,     2.95,2,     0.11,2,     0.36,2,   2058.5,2,   2300.5,2,   7.9325,2,    25.00,     2126
  49UF20120204,KS1202,  3347,  1,     27,  21986,2,20120301,2033,  9.4890, 154.9712,   -9,    152.2,  20.7297,  35.0436,2,-999.0000,9,    175.8,2,     3.08,2,     3.04,2,     0.11,2,     0.36,2,   2059.1,2,   2298.5,2,   7.9366,2,    25.00,     2126
  49UF20120204,KS1202,  3347,  1,     24,  21983,2,20120301,2033,  9.4890, 154.9712,   -9,    201.6,  15.5983,  34.5813,2,-999.0000,9,    176.4,6,     7.75,6,     8.88,6,     0.01,6,     0.68,6,   2079.8,2,   2272.3,2,   7.8344,2,    25.00,     2124
  49UF20120204,KS1202,  3347,  1,     23,  21982,2,20120301,2033,  9.4890, 154.9712,   -9,    254.2,  11.1500,  34.3197,2,-999.0000,9,    127.5,2,    22.75,2,    20.55,2,     0.00,2,     1.56,2,   2160.0,2,   2266.4,2,   7.6426,2,    25.00,     2122
  49UF20120204,KS1202,  3347,  1,     22,  21981,2,20120301,2033,  9.4890, 154.9712,   -9,    306.2,   9.4783,  34.4810,2,-999.0000,9,     64.5,2,    35.51,2,    30.53,2,     0.00,2,     2.23,2,   2229.4,2,   2285.6,2,   7.4951,2,    25.00,     2120
  49UF20120204,KS1202,  3347,  1,     19,  21978,2,20120301,2033,  9.4890, 154.9712,   -9,    407.3,   7.9508,  34.5137,2,-999.0000,9,     69.5,2,    46.51,2,    33.72,2,     0.00,2,     2.42,2,   2253.6,2,   2303.5,2,   7.4897,2,    25.00,     2116
  49UF20120204,KS1202,  3347,  1,     18,  21977,2,20120301,2033,  9.4890, 154.9712,   -9,    505.6,   7.2227,  34.5193,2,-999.0000,9,     70.5,2,    52.27,2,    35.31,2,     0.00,2,     2.52,2,   2260.7,2,   2309.7,2,   7.4736,2,    25.00,     2112
  49UF20120204,KS1202,  3347,  1,     17,  21976,2,20120301,2033,  9.4890, 154.9712,   -9,    606.4,   6.5697,  34.5239,2,-999.0000,9,     74.5,2,    58.70,2,    36.19,2,     0.00,2,     2.59,2,   2269.8,2,   2321.0,2,   7.4766,2,    25.00,     2109
  49UF20120204,KS1202,  3347,  1,     15,  21974,2,20120301,2033,  9.4890, 154.9712,   -9,    707.5,   6.0868,  34.5305,2,-999.0000,9,     66.4,2,    65.74,2,    37.76,2,     0.00,2,     2.72,2,   2286.1,6,   2328.0,2,   7.4508,2,    25.00,     2105
  49UF20120204,KS1202,  3347,  1,     14,  21973,2,20120301,2033,  9.4890, 154.9712,   -9,    808.8,   5.5137,  34.5345,2,-999.0000,9,     69.0,2,    74.54,2,    38.76,2,     0.00,2,     2.77,2,   2295.8,2,   2333.8,2,   7.4505,6,    25.00,     2102
  49UF20120204,KS1202,  3347,  1,     13,  21972,2,20120301,2033,  9.4890, 154.9712,   -9,    907.6,   5.0317,  34.5400,2,-999.0000,9,     73.4,2,    82.88,2,    38.83,2,     0.00,2,     2.78,2,   2300.9,2,   2341.9,2,   7.4554,2,    25.00,     2059
  49UF20120204,KS1202,  3347,  1,     11,  21970,2,20120301,2033,  9.4890, 154.9712,   -9,   1008.0,   4.5258,  34.5491,2,-999.0000,9,     77.2,2,    92.58,2,    39.04,2,     0.00,2,     2.81,2,   2311.4,2,   2353.1,2,   7.4536,2,    25.00,     2056
  49UF20120204,KS1202,  3347,  1,     10,  21969,2,20120301,2033,  9.4890, 154.9712,   -9,   1214.9,   3.7202,  34.5697,2,-999.0000,9,     82.3,2,   108.82,2,    39.41,2,     0.00,2,     2.82,2,   2326.1,2,   2370.0,2,   7.4609,2,    25.00,     2051
  49UF20120204,KS1202,  3347,  1,      9,  21968,2,20120301,2033,  9.4890, 154.9712,   -9,   1415.7,   3.1020,  34.5915,2,-999.0000,9,     91.4,2,   121.30,2,    38.92,2,     0.00,2,     2.79,2,   2333.5,6,   2382.9,6,   7.4725,2,    25.00,     2045
  49UF20120204,KS1202,  3347,  1,      6,  21965,2,20120301,2033,  9.4890, 154.9712,   -9,   1617.3,   2.7399,  34.6070,2,-999.0000,9,     97.6,2,   128.48,2,    38.92,2,     0.00,2,     2.77,2,   2340.2,2,   2390.6,2,   7.4815,2,    25.00,     2041
  49UF20120204,KS1202,  3347,  1,      5,  21964,2,20120301,2033,  9.4890, 154.9712,   -9,   1617.3,   2.7399,  34.6070,2,-999.0000,9,     97.1,2,   128.76,2,    39.03,2,     0.00,2,     2.77,2,   2339.3,2,   2389.5,2,   7.4800,2,    25.00,     2041
  49UF20120204,KS1202,  3347,  1,      4,  21963,2,20120301,2033,  9.4890, 154.9712,   -9,   1816.3,   2.4703,  34.6205,2,-999.0000,9,    101.8,6,   134.39,6,    38.86,6,     0.00,6,     2.76,6,   2346.8,2,   2397.3,2,   7.4880,2,    25.00,     2037
  49UF20120204,KS1202,  3347,  1,      1,  21960,2,20120301,2033,  9.4890, 154.9712,   -9,   2020.5,   2.2258,  34.6328,2,-999.0000,9,    107.0,2,   140.61,2,    38.90,2,     0.00,2,     2.74,2,   2346.1,2,   2402.9,2,   7.4923,6,    25.00,     2033
  49UF20120204,KS1202,  3348,  1,     99,     99,2,20120302,0316,  9.4872, 153.9732, 5473,      0.0,  28.2835,  34.1958,2,-999.0000,9,    198.6,2,     1.09,2,     0.00,2,     0.00,2,     0.07,2,   -999.0,9,   -999.0,9,-999.0000,9,  -999.00,      420
  49UF20120204,KS1202,  3348,  1,     36,  21995,2,20120302,0316,  9.4872, 153.9732, 5473,     12.2,  28.2763,  34.1949,2,-999.0000,9,    198.3,2,     1.02,2,     0.00,2,     0.00,2,     0.07,2,   -999.0,9,   -999.0,9,-999.0000,9,  -999.00,      432
  49UF20120204,KS1202,  3348,  1,     35,  21994,2,20120302,0316,  9.4872, 153.9732, 5473,     26.7,  28.2336,  34.1950,2,-999.0000,9,    197.9,2,     1.02,2,     0.00,2,     0.00,2,     0.06,2,   -999.0,9,   -999.0,9,-999.0000,9,  -999.00,      431
  49UF20120204,KS1202,  3348,  1,     33,  21992,2,20120302,0316,  9.4872, 153.9732, 5473,     51.4,  28.2159,  34.1950,2,-999.0000,9,    197.9,2,     1.02,2,     0.00,2,     0.00,2,     0.07,2,   -999.0,9,   -999.0,9,-999.0000,9,  -999.00,      427
  49UF20120204,KS1202,  3348,  1,     32,  21991,2,20120302,0316,  9.4872, 153.9732, 5473,     76.2,  28.2159,  34.1955,2,-999.0000,9,    198.3,2,     1.00,2,     0.00,2,     0.00,2,     0.07,2,   -999.0,9,   -999.0,9,-999.0000,9,  -999.00,      426
  49UF20120204,KS1202,  3348,  1,     31,  21990,2,20120302,0316,  9.4872, 153.9732, 5473,     98.9,  28.2169,  34.2017,2,-999.0000,9,    197.7,2,     1.03,2,     0.00,2,     0.00,2,     0.07,2,   -999.0,9,   -999.0,9,-999.0000,9,  -999.00,      425
  49UF20120204,KS1202,  3348,  1,     29,  21988,2,20120302,0316,  9.4872, 153.9732, 5473,    125.3,  25.6089,  35.1076,2,-999.0000,9,    199.3,2,     1.16,2,     0.00,2,     0.00,2,     0.12,2,   -999.0,9,   -999.0,9,-999.0000,9,  -999.00,      423
  49UF20120204,KS1202,  3348,  1,     28,  21987,2,20120302,0316,  9.4872, 153.9732, 5473,    125.3,  25.6089,  35.1076,2,-999.0000,9,    198.7,2,     1.21,2,     0.03,2,     0.00,2,     0.13,2,   -999.0,9,   -999.0,9,-999.0000,9,  -999.00,      423
  49UF20120204,KS1202,  3348,  1,     27,  21986,2,20120302,0316,  9.4872, 153.9732, 5473,    151.5,  21.7076,  35.0969,2,-999.0000,9,    180.6,2,     2.30,2,     1.52,2,     0.25,2,     0.28,2,   -999.0,9,   -999.0,9,-999.0000,9,  -999.00,      421
  49UF20120204,KS1202,  3348,  1,     24,  21983,2,20120302,0316,  9.4872, 153.9732, 5473,    202.7,  15.0897,  34.5398,2,-999.0000,9,    176.3,2,     8.07,2,     9.32,2,     0.00,2,     0.72,2,   -999.0,9,   -999.0,9,-999.0000,9,  -999.00,      419
  49UF20120204,KS1202,  3348,  1,     23,  21982,2,20120302,0316,  9.4872, 153.9732, 5473,    251.3,  11.0014,  34.3337,2,-999.0000,9,    118.0,6,    23.72,6,    21.91,6,     0.00,6,     1.66,6,   -999.0,9,   -999.0,9,-999.0000,9,  -999.00,      416
  49UF20120204,KS1202,  3348,  1,     22,  21981,2,20120302,0316,  9.4872, 153.9732, 5473,    303.8,   9.6228,  34.4453,2,-999.0000,9,     69.2,2,    34.89,2,    29.95,2,     0.00,2,     2.20,2,   -999.0,9,   -999.0,9,-999.0000,9,  -999.00,      414
  49UF20120204,KS1202,  3348,  1,     19,  21978,2,20120302,0316,  9.4872, 153.9732, 5473,    403.6,   8.2677,  34.5259,2,-999.0000,9,     64.9,2,    43.42,2,    33.72,2,     0.00,2,     2.41,2,   -999.0,9,   -999.0,9,-999.0000,9,  -999.00,      409
  49UF20120204,KS1202,  3348,  1,     18,  21977,2,20120302,0316,  9.4872, 153.9732, 5473,    505.2,   7.3043,  34.5115,2,-999.0000,9,     80.4,2,    50.04,2,    34.10,2,     0.00,2,     2.43,2,   -999.0,9,   -999.0,9,-999.0000,9,  -999.00,      404
  49UF20120204,KS1202,  3348,  1,     17,  21976,2,20120302,0316,  9.4872, 153.9732, 5473,    607.0,   6.6515,  34.5288,2,-999.0000,9,     68.3,2,    57.40,2,    36.31,2,     0.00,2,     2.62,2,   -999.0,9,   -999.0,9,-999.0000,9,  -999.00,      359
  49UF20120204,KS1202,  3348,  1,     15,  21974,2,20120302,0316,  9.4872, 153.9732, 5473,    706.3,   6.1034,  34.5328,2,-999.0000,9,     66.9,2,    64.93,2,    37.62,2,     0.00,2,     2.72,2,   -999.0,9,   -999.0,9,-999.0000,9,  -999.00,      355
  49UF20120204,KS1202,  3348,  1,     14,  21973,2,20120302,0316,  9.4872, 153.9732, 5473,    808.4,   5.5658,  34.5337,2,-999.0000,9,     70.0,2,    72.96,2,    38.25,2,     0.00,2,     2.76,2,   -999.0,9,   -999.0,9,-999.0000,9,  -999.00,      350
  49UF20120204,KS1202,  3348,  1,     13,  21972,2,20120302,0316,  9.4872, 153.9732, 5473,    908.3,   5.0158,  34.5400,2,-999.0000,9,     73.4,2,    82.67,2,    38.85,2,     0.00,2,     2.79,2,   -999.0,9,   -999.0,9,-999.0000,9,  -999.00,      346
  49UF20120204,KS1202,  3348,  1,     11,  21970,2,20120302,0316,  9.4872, 153.9732, 5473,   1008.1,   4.5268,  34.5524,2,-999.0000,9,     78.8,2,    91.30,2,    38.87,2,     0.00,2,     2.79,2,   -999.0,9,   -999.0,9,-999.0000,9,  -999.00,      342
  49UF20120204,KS1202,  3348,  1,     10,  21969,2,20120302,0316,  9.4872, 153.9732, 5473,   1213.8,   3.6569,  34.5720,2,-999.0000,9,     82.8,2,   108.83,2,    39.39,2,     0.00,2,     2.82,2,   -999.0,9,   -999.0,9,-999.0000,9,  -999.00,      336
  49UF20120204,KS1202,  3348,  1,      9,  21968,2,20120302,0316,  9.4872, 153.9732, 5473,   1213.8,   3.6569,  34.5720,2,-999.0000,9,     83.2,2,   109.95,2,    39.39,2,     0.00,2,     2.82,2,   -999.0,9,   -999.0,9,-999.0000,9,  -999.00,      335
  49UF20120204,KS1202,  3348,  1,      6,  21965,2,20120302,0316,  9.4872, 153.9732, 5473,   1415.7,   3.0239,  34.5949,2,-999.0000,9,     93.7,6,   121.86,6,    38.95,6,     0.00,6,     2.78,6,   -999.0,9,   -999.0,9,-999.0000,9,  -999.00,      330
  49UF20120204,KS1202,  3348,  1,      5,  21964,2,20120302,0316,  9.4872, 153.9732, 5473,   1615.7,   2.7149,  34.6102,2,-999.0000,9,     99.3,2,   127.74,2,    38.91,2,     0.00,2,     2.77,2,   -999.0,9,   -999.0,9,-999.0000,9,  -999.00,      325
  49UF20120204,KS1202,  3348,  1,      4,  21963,2,20120302,0316,  9.4872, 153.9732, 5473,   1817.2,   2.4160,  34.6231,2,-999.0000,9,    103.5,2,   134.40,2,    38.85,2,     0.00,2,     2.75,2,   -999.0,9,   -999.0,9,-999.0000,9,  -999.00,      320
  49UF20120204,KS1202,  3348,  1,      1,  21960,2,20120302,0316,  9.4872, 153.9732, 5473,   2017.8,   2.1858,  34.6360,2,-999.0000,9,    108.6,2,   140.26,2,    38.62,2,     0.00,2,     2.73,2,   -999.0,9,   -999.0,9,-999.0000,9,  -999.00,      316
  49UF20120204,KS1202,  3349,  1,     99,     99,2,20120302,1037,  9.4880, 152.9770, 5374,      0.0,  28.4459,  34.4124,2,-999.0000,9,    196.7,2,     0.99,2,     0.05,2,     0.00,2,     0.11,2,   -999.0,9,   -999.0,9,-999.0000,9,  -999.00,     1112
  49UF20120204,KS1202,  3349,  1,     36,  21995,2,20120302,1037,  9.4880, 152.9770, 5374,     11.5,  28.4443,  34.4123,2,  34.4128,2,    196.4,2,     0.99,2,     0.03,2,     0.00,2,     0.10,2,   -999.0,9,   -999.0,9,-999.0000,9,  -999.00,     1135
  49UF20120204,KS1202,  3349,  1,     35,  21994,2,20120302,1037,  9.4880, 152.9770, 5374,     26.5,  28.4536,  34.4110,2,-999.0000,9,    196.4,2,     0.98,2,     0.01,2,     0.00,2,     0.09,2,   -999.0,9,   -999.0,9,-999.0000,9,  -999.00,     1134
  49UF20120204,KS1202,  3349,  1,     33,  21992,2,20120302,1037,  9.4880, 152.9770, 5374,     50.3,  28.5273,  34.4415,2,-999.0000,9,    196.4,2,     0.97,2,     0.05,2,     0.00,2,     0.10,2,   -999.0,9,   -999.0,9,-999.0000,9,  -999.00,     1130
  49UF20120204,KS1202,  3349,  1,     32,  21991,2,20120302,1037,  9.4880, 152.9770, 5374,     73.8,  28.4973,  34.4245,2,-999.0000,9,    196.2,2,     1.01,2,     0.04,2,     0.00,2,     0.10,2,   -999.0,9,   -999.0,9,-999.0000,9,  -999.00,     1129
  49UF20120204,KS1202,  3349,  1,     31,  21990,2,20120302,1037,  9.4880, 152.9770, 5374,     73.8,  28.4973,  34.4245,2,-999.0000,9,    196.0,2,     0.96,2,     0.04,2,     0.00,2,     0.10,2,   -999.0,9,   -999.0,9,-999.0000,9,  -999.00,     1129
  49UF20120204,KS1202,  3349,  1,     29,  21988,2,20120302,1037,  9.4880, 152.9770, 5374,    102.6,  28.4750,  34.4182,2,  34.4182,2,    195.9,2,     0.99,2,     0.08,2,     0.00,2,     0.10,2,   -999.0,9,   -999.0,9,-999.0000,9,  -999.00,     1128
  49UF20120204,KS1202,  3349,  1,     28,  21987,2,20120302,1037,  9.4880, 152.9770, 5374,    127.8,  26.3464,  35.0567,2,-999.0000,9,    201.3,2,     1.10,2,     0.01,2,     0.00,2,     0.11,2,   -999.0,9,   -999.0,9,-999.0000,9,  -999.00,     1127
  49UF20120204,KS1202,  3349,  1,     27,  21986,2,20120302,1037,  9.4880, 152.9770, 5374,    152.2,  22.7878,  35.1323,2,-999.0000,9,    185.1,2,     1.82,2,     0.67,2,     0.16,2,     0.23,2,   -999.0,9,   -999.0,9,-999.0000,9,  -999.00,     1126
  49UF20120204,KS1202,  3349,  1,     24,  21983,2,20120302,1037,  9.4880, 152.9770, 5374,    202.9,  15.8454,  34.6038,2,  34.6154,4,    174.5,2,     7.40,2,     8.70,2,     0.00,2,     0.67,2,   -999.0,9,   -999.0,9,-999.0000,9,  -999.00,     1124
  49UF20120204,KS1202,  3349,  1,     23,  21982,2,20120302,1037,  9.4880, 152.9770, 5374,    252.3,  11.3384,  34.3725,2,-999.0000,9,    104.0,2,    24.00,2,    22.97,2,     0.00,2,     1.73,2,   -999.0,9,   -999.0,9,-999.0000,9,  -999.00,     1122
  49UF20120204,KS1202,  3349,  1,     22,  21981,2,20120302,1037,  9.4880, 152.9770, 5374,    303.7,   9.9766,  34.4943,2,-999.0000,9,     67.4,6,    33.51,6,    30.01,6,     0.00,6,     2.17,6,   -999.0,9,   -999.0,9,-999.0000,9,  -999.00,     1120
  49UF20120204,KS1202,  3349,  1,     19,  21978,2,20120302,1037,  9.4880, 152.9770, 5374,    405.6,   8.5973,  34.5541,2,  34.5547,2,     63.8,2,    40.76,2,    33.43,2,     0.00,2,     2.38,2,   -999.0,9,   -999.0,9,-999.0000,9,  -999.00,     1117
  49UF20120204,KS1202,  3349,  1,     18,  21977,2,20120302,1037,  9.4880, 152.9770, 5374,    504.4,   7.8526,  34.5599,2,-999.0000,9,     69.1,2,    45.07,2,    34.38,2,     0.00,2,     2.46,2,   -999.0,9,   -999.0,9,-999.0000,9,  -999.00,     1114
  49UF20120204,KS1202,  3349,  1,     17,  21976,2,20120302,1037,  9.4880, 152.9770, 5374,    606.5,   6.9418,  34.5269,2,  34.5253,2,     72.7,2,    54.58,2,    35.85,2,     0.00,2,     2.55,2,   -999.0,9,   -999.0,9,-999.0000,9,  -999.00,     1111
  49UF20120204,KS1202,  3349,  1,     15,  21974,2,20120302,1037,  9.4880, 152.9770, 5374,    706.0,   6.2592,  34.5297,2,-999.0000,9,     67.6,2,    63.50,2,    37.58,2,     0.00,2,     2.69,2,   -999.0,9,   -999.0,9,-999.0000,9,  -999.00,     1108
  49UF20120204,KS1202,  3349,  1,     14,  21973,2,20120302,1037,  9.4880, 152.9770, 5374,    807.3,   5.6731,  34.5303,2,  34.5296,2,     70.4,2,    72.28,2,    38.19,2,     0.00,2,     2.74,2,   -999.0,9,   -999.0,9,-999.0000,9,  -999.00,     1105
  49UF20120204,KS1202,  3349,  1,     13,  21972,2,20120302,1037,  9.4880, 152.9770, 5374,    908.1,   5.1046,  34.5390,2,-999.0000,9,     72.5,2,    81.87,2,    38.83,2,     0.00,2,     2.78,2,   -999.0,9,   -999.0,9,-999.0000,9,  -999.00,     1102
  49UF20120204,KS1202,  3349,  1,     11,  21970,2,20120302,1037,  9.4880, 152.9770, 5374,   1008.1,   4.6947,  34.5461,2,-999.0000,9,     77.4,2,    88.92,2,    38.99,2,     0.00,2,     2.79,2,   -999.0,9,   -999.0,9,-999.0000,9,  -999.00,     1100
  49UF20120204,KS1202,  3349,  1,     10,  21969,2,20120302,1037,  9.4880, 152.9770, 5374,   1008.1,   4.6947,  34.5461,2,  34.5456,2,     77.6,2,    88.79,2,    38.92,2,     0.00,2,     2.78,2,   -999.0,9,   -999.0,9,-999.0000,9,  -999.00,     1100
  49UF20120204,KS1202,  3349,  1,      9,  21968,2,20120302,1037,  9.4880, 152.9770, 5374,   1209.9,   3.7381,  34.5699,2,  34.5691,2,     83.5,2,   108.32,2,    39.45,2,     0.00,2,     2.81,2,   -999.0,9,   -999.0,9,-999.0000,9,  -999.00,     1055
  49UF20120204,KS1202,  3349,  1,      6,  21965,2,20120302,1037,  9.4880, 152.9770, 5374,   1412.2,   3.1528,  34.5898,2,  34.5900,2,     91.5,2,   120.36,2,    39.22,2,     0.00,2,     2.80,2,   -999.0,9,   -999.0,9,-999.0000,9,  -999.00,     1050
  49UF20120204,KS1202,  3349,  1,      5,  21964,2,20120302,1037,  9.4880, 152.9770, 5374,   1615.9,   2.7068,  34.6102,2,  34.6142,4,     99.4,2,   128.57,2,    39.18,2,     0.00,2,     2.77,2,   -999.0,9,   -999.0,9,-999.0000,9,  -999.00,     1046
  49UF20120204,KS1202,  3349,  1,      4,  21963,2,20120302,1037,  9.4880, 152.9770, 5374,   1817.2,   2.4166,  34.6229,2,  34.6231,2,    103.2,2,   135.33,2,    38.95,2,     0.00,2,     2.76,2,   -999.0,9,   -999.0,9,-999.0000,9,  -999.00,     1041
  49UF20120204,KS1202,  3349,  1,      1,  21960,2,20120302,1037,  9.4880, 152.9770, 5374,   2023.5,   2.1609,  34.6368,2,  34.6373,2,    109.1,6,   141.67,6,    38.79,6,     0.00,6,     2.73,6,   -999.0,9,   -999.0,9,-999.0000,9,  -999.00,     1037