BOTTLE,20191017PRINUNIVRMK
EXPOCODE,SECT_ID,STNNBR,CASTNO,SAMPNO,BTLNBR,BTLNBR_FLAG_W,DATE,TIME,LATITUDE,LONGITUDE,DEPTH,CTDPRS,CTDTMP,CTDSAL,CTDSAL_FLAG_W,SALNTY,SALNTY_FLAG_W,OXYGEN,OXYGEN_FLAG_W,SILCAT,SILCAT_FLAG_W,NITRAT,NITRAT_FLAG_W,NITRIT,NITRIT_FLAG_W,PHSPHT,PHSPHT_FLAG_W,TCARBN,TCARBN_FLAG_W,ALKALI,ALKALI_FLAG_W,PH_TOT,PH_TOT_FLAG_W,PH_TMP,BTL_TIME
,,,,,,,,,,,METERS,DBAR,ITS-90,PSS-78,,PSS-78,,UMOL/KG,,UMOL/KG,,UMOL/KG,,UMOL/KG,,UMOL/KG,,UMOL/KG,,UMOL/KG,,,,DEG C,
  49UF20120204,KS1202,  3341,  1,     99,     99,2,20120219,1752,  9.4960, 159.9738, 5224,      0.0,  28.2640,  34.2409,2,-999.0000,9,    197.0,2,     1.05,2,     0.04,2,     0.00,2,     0.08,2,   1914.1,2,   2243.2,2,   8.1082,2,    25.00,     1830
  49UF20120204,KS1202,  3341,  1,     36,  21995,2,20120219,1752,  9.4960, 159.9738, 5224,     11.6,  28.2749,  34.2404,2,-999.0000,9,    197.2,2,     1.07,2,     0.00,2,     0.00,2,     0.07,2,   1914.8,2,   2243.7,2,   8.1073,2,    25.00,     1857
  49UF20120204,KS1202,  3341,  1,     35,  21994,2,20120219,1752,  9.4960, 159.9738, 5224,     26.3,  28.2750,  34.2399,2,-999.0000,9,    197.5,2,     1.06,2,     0.03,2,     0.00,2,     0.07,2,   1917.8,2,   2241.0,2,   8.1079,2,    25.00,     1856
  49UF20120204,KS1202,  3341,  1,     33,  21992,2,20120219,1752,  9.4960, 159.9738, 5224,     50.4,  28.2863,  34.2392,2,-999.0000,9,    197.2,2,     1.09,2,     0.00,2,     0.00,2,     0.07,2,   1916.2,2,   2243.3,2,   8.1066,2,    25.00,     1852
  49UF20120204,KS1202,  3341,  1,     32,  21991,2,20120219,1752,  9.4960, 159.9738, 5224,     75.5,  28.2903,  34.2387,2,-999.0000,9,    197.1,2,     1.09,2,     0.02,2,     0.00,2,     0.07,2,   1915.0,2,   2243.5,2,   8.1040,2,    25.00,     1851
  49UF20120204,KS1202,  3341,  1,     31,  21990,2,20120219,1752,  9.4960, 159.9738, 5224,    100.8,  28.2851,  34.2457,2,-999.0000,9,    197.2,2,     1.05,2,     0.03,2,     0.00,2,     0.08,2,   1919.5,2,   2244.1,2,   8.1070,2,    25.00,     1850
  49UF20120204,KS1202,  3341,  1,     29,  21988,2,20120219,1752,  9.4960, 159.9738, 5224,    126.0,  25.4172,  35.0550,2,-999.0000,9,    199.9,2,     1.14,6,     0.07,6,     0.00,6,     0.12,6,   1999.5,2,   2302.9,2,   8.0415,2,    25.00,     1849
  49UF20120204,KS1202,  3341,  1,     28,  21987,2,20120219,1752,  9.4960, 159.9738, 5224,    153.0,  21.5712,  35.1724,2,-999.0000,9,    180.1,2,     2.09,2,     1.84,2,     0.07,2,     0.23,2,   2049.4,2,   2305.2,2,   7.9631,2,    25.00,     1848
  49UF20120204,KS1202,  3341,  1,     27,  21986,2,20120219,1752,  9.4960, 159.9738, 5224,    200.7,  16.2601,  34.6525,2,-999.0000,9,    164.6,2,     7.74,2,     9.15,2,     0.01,2,     0.73,2,   2089.6,2,   2272.3,2,   7.8244,2,    25.00,     1846
  49UF20120204,KS1202,  3341,  1,     24,  21983,2,20120219,1752,  9.4960, 159.9738, 5224,    253.0,  11.8473,  34.4541,2,-999.0000,9,     91.5,2,    23.69,2,    23.70,2,     0.00,2,     1.78,2,   2182.4,2,   2273.4,2,   7.5899,2,    25.00,     1845
  49UF20120204,KS1202,  3341,  1,     23,  21982,2,20120219,1752,  9.4960, 159.9738, 5224,    304.3,   9.9896,  34.4894,2,-999.0000,9,     62.7,2,    33.27,2,    30.18,2,     0.00,2,     2.21,2,   2229.7,2,   2282.1,2,   7.4998,2,    25.00,     1842
  49UF20120204,KS1202,  3341,  1,     22,  21981,2,20120219,1752,  9.4960, 159.9738, 5224,    304.3,   9.9896,  34.4894,2,-999.0000,9,     62.5,2,    33.20,2,    30.22,2,     0.00,2,     2.21,2,   2229.6,2,   2283.9,2,   7.5081,3,    25.00,     1842
  49UF20120204,KS1202,  3341,  1,     19,  21978,2,20120219,1752,  9.4960, 159.9738, 5224,    405.0,   8.4553,  34.5745,2,-999.0000,9,     58.6,2,    41.27,2,    34.30,2,     0.00,2,     2.45,2,   2251.5,2,   2300.7,2,   7.4727,2,    25.00,     1838
  49UF20120204,KS1202,  3341,  1,     18,  21977,2,20120219,1752,  9.4960, 159.9738, 5224,    505.4,   7.4976,  34.5452,2,-999.0000,9,     65.2,2,    48.81,2,    35.50,2,     0.00,2,     2.53,2,   2257.8,2,   2307.5,2,   7.4716,2,    25.00,     1834
  49UF20120204,KS1202,  3341,  1,     17,  21976,2,20120219,1752,  9.4960, 159.9738, 5224,    607.0,   6.8544,  34.5323,2,-999.0000,9,     66.8,2,    55.60,2,    36.60,2,     0.00,2,     2.62,2,   2267.3,6,   2314.7,6,   7.4630,2,    25.00,     1830
  49UF20120204,KS1202,  3341,  1,     15,  21974,2,20120219,1752,  9.4960, 159.9738, 5224,    706.8,   6.2691,  34.5237,2,-999.0000,9,     70.1,2,    63.18,2,    37.26,2,     0.00,2,     2.67,2,   2276.2,2,   2319.2,2,   7.4628,6,    25.00,     1827
  49UF20120204,KS1202,  3341,  1,     14,  21973,2,20120219,1752,  9.4960, 159.9738, 5224,    808.2,   5.6589,  34.5296,2,-999.0000,9,     71.7,2,    72.21,2,    38.13,2,     0.00,2,     2.73,2,   2286.7,2,   2332.5,2,   7.4582,2,    25.00,     1823
  49UF20120204,KS1202,  3341,  1,     13,  21972,2,20120219,1752,  9.4960, 159.9738, 5224,    808.2,   5.6589,  34.5296,2,-999.0000,9,     71.6,2,    71.86,2,    38.23,2,     0.00,2,     2.73,2,   2285.0,2,   2331.7,2,   7.4569,2,    25.00,     1823
  49UF20120204,KS1202,  3341,  1,     11,  21970,2,20120219,1752,  9.4960, 159.9738, 5224,    908.8,   5.0749,  34.5398,2,-999.0000,9,     72.0,6,    81.97,6,    38.99,6,     0.00,6,     2.79,6,   2302.7,2,   2345.8,2,   7.4531,2,    25.00,     1820
  49UF20120204,KS1202,  3341,  1,     10,  21969,2,20120219,1752,  9.4960, 159.9738, 5224,   1008.8,   4.5674,  34.5482,2,-999.0000,9,     75.1,2,    91.44,2,    39.35,2,     0.00,2,     2.81,2,   2308.7,2,   2349.4,2,   7.4544,2,    25.00,     1817
  49UF20120204,KS1202,  3341,  1,      9,  21968,2,20120219,1752,  9.4960, 159.9738, 5224,   1211.0,   3.6849,  34.5715,2,-999.0000,9,     82.6,2,   109.58,2,    39.53,2,     0.00,2,     2.83,2,   2323.9,2,   2366.9,2,   7.4602,2,    25.00,     1811
  49UF20120204,KS1202,  3341,  1,      6,  21965,2,20120219,1752,  9.4960, 159.9738, 5224,   1415.0,   3.1165,  34.5920,2,-999.0000,9,     91.8,2,   120.83,2,    39.34,2,     0.00,2,     2.80,2,   2331.7,6,   2380.9,6,   7.4753,2,    25.00,     1806
  49UF20120204,KS1202,  3341,  1,      5,  21964,2,20120219,1752,  9.4960, 159.9738, 5224,   1616.6,   2.7020,  34.6086,2,-999.0000,9,     95.2,2,   130.76,2,    39.55,2,     0.00,2,     2.80,2,   2338.6,2,   2392.3,2,   7.4764,6,    25.00,     1801
  49UF20120204,KS1202,  3341,  1,      4,  21963,2,20120219,1752,  9.4960, 159.9738, 5224,   1818.8,   2.3707,  34.6257,2,-999.0000,9,    101.9,2,   136.74,2,    39.17,2,     0.00,2,     2.77,2,   2343.8,2,   2399.3,2,   7.4870,2,    25.00,     1757
  49UF20120204,KS1202,  3341,  1,      1,  21960,2,20120219,1752,  9.4960, 159.9738, 5224,   2022.2,   2.1217,  34.6402,2,-999.0000,9,    109.2,2,   142.02,2,    38.92,2,     0.00,2,     2.73,2,   2346.0,2,   2404.5,2,   7.4970,2,    25.00,     1752
  49UF20120204,KS1202,  3342,  1,     99,     99,2,20120227,2038,  9.4982, 159.9775, 5294,      0.0,  28.4547,  34.3795,2,-999.0000,9,    196.1,2,     1.17,2,     0.02,2,     0.00,2,     0.11,2,   1931.6,2,   2251.1,2,   8.1014,2,    25.00,     2110
  49UF20120204,KS1202,  3342,  1,     36,  21995,2,20120227,2038,  9.4982, 159.9775, 5294,     10.7,  28.4534,  34.3789,2,-999.0000,9,    196.2,2,     1.12,2,     0.00,2,     0.00,2,     0.11,2,   1927.8,2,   2251.9,2,   8.1061,2,    25.00,     2138
  49UF20120204,KS1202,  3342,  1,     35,  21994,2,20120227,2038,  9.4982, 159.9775, 5294,     26.6,  28.4582,  34.3788,2,-999.0000,9,    196.0,2,     1.12,2,     0.00,2,     0.00,2,     0.11,2,   1929.4,2,   2251.3,2,   8.1041,2,    25.00,     2136
  49UF20120204,KS1202,  3342,  1,     33,  21992,2,20120227,2038,  9.4982, 159.9775, 5294,     51.4,  28.4644,  34.3813,2,-999.0000,9,    196.1,2,     1.12,2,     0.00,2,     0.00,2,     0.11,2,   1927.4,2,   2254.0,2,   8.1037,2,    25.00,     2133
  49UF20120204,KS1202,  3342,  1,     32,  21991,2,20120227,2038,  9.4982, 159.9775, 5294,     75.2,  28.4683,  34.3790,2,-999.0000,9,    196.6,2,     1.12,2,     0.00,2,     0.00,2,     0.12,2,   1927.8,2,   2253.0,2,   8.1034,2,    25.00,     2131
  49UF20120204,KS1202,  3342,  1,     31,  21990,2,20120227,2038,  9.4982, 159.9775, 5294,    102.6,  28.3539,  34.8631,2,-999.0000,9,    190.3,2,     1.42,2,     0.77,2,     0.26,2,     0.27,2,   1973.8,2,   2279.1,2,   8.0681,2,    25.00,     2130
  49UF20120204,KS1202,  3342,  1,     29,  21988,2,20120227,2038,  9.4982, 159.9775, 5294,    125.6,  27.5628,  35.1132,2,-999.0000,9,    167.9,2,     2.24,6,     4.16,6,     0.09,6,     0.46,6,   2019.8,2,   2292.8,2,   8.0163,2,    25.00,     2129
  49UF20120204,KS1202,  3342,  1,     28,  21987,2,20120227,2038,  9.4982, 159.9775, 5294,    151.6,  23.0255,  35.1070,2,-999.0000,9,    178.9,2,     2.29,2,     1.39,2,     0.28,2,     0.28,2,   2044.4,2,   2299.6,2,   7.9774,2,    25.00,     2128
  49UF20120204,KS1202,  3342,  1,     27,  21986,2,20120227,2038,  9.4982, 159.9775, 5294,    204.7,  16.4238,  34.6803,2,-999.0000,9,    167.9,2,     6.84,2,     8.17,2,     0.02,2,     0.66,2,   2087.5,2,   2277.9,2,   7.8515,2,    25.00,     2126
  49UF20120204,KS1202,  3342,  1,     24,  21983,2,20120227,2038,  9.4982, 159.9775, 5294,    254.3,  12.5793,  34.4339,2,-999.0000,9,    117.6,2,    18.54,2,    19.22,2,     0.00,2,     1.47,2,   2155.4,2,   2269.9,2,   7.6640,2,    25.00,     2125
  49UF20120204,KS1202,  3342,  1,     23,  21982,2,20120227,2038,  9.4982, 159.9775, 5294,    302.8,  10.2983,  34.4849,2,-999.0000,9,     64.2,2,    31.22,2,    29.39,2,     0.00,2,     2.18,2,   2226.2,2,   2283.4,2,   7.5129,2,    25.00,     2123
  49UF20120204,KS1202,  3342,  1,     22,  21981,2,20120227,2038,  9.4982, 159.9775, 5294,    302.8,  10.2983,  34.4849,2,-999.0000,9,     64.0,2,    31.49,2,    29.41,2,     0.00,2,     2.17,2,   2223.8,2,   2281.9,2,   7.5138,2,    25.00,     2123
  49UF20120204,KS1202,  3342,  1,     19,  21978,2,20120227,2038,  9.4982, 159.9775, 5294,    405.0,   8.3889,  34.5482,2,-999.0000,9,     56.6,2,    42.40,2,    34.42,2,     0.00,2,     2.46,2,   2252.2,2,   2297.6,2,   7.4720,2,    25.00,     2120
  49UF20120204,KS1202,  3342,  1,     18,  21977,2,20120227,2038,  9.4982, 159.9775, 5294,    505.8,   7.6148,  34.5442,2,-999.0000,9,     64.4,2,    47.32,2,    35.38,2,     0.00,2,     2.53,2,   2258.5,2,   2309.5,2,   7.4748,2,    25.00,     2117
  49UF20120204,KS1202,  3342,  1,     17,  21976,2,20120227,2038,  9.4982, 159.9775, 5294,    607.2,   6.9065,  34.5325,2,-999.0000,9,     66.6,2,    54.76,2,    36.43,2,     0.00,2,     2.62,2,   2266.7,2,   2312.9,6,   7.4666,2,    25.00,     2114
  49UF20120204,KS1202,  3342,  1,     15,  21974,2,20120227,2038,  9.4982, 159.9775, 5294,    708.1,   6.2438,  34.5235,2,-999.0000,9,     70.4,2,    63.07,2,    37.26,2,     0.00,2,     2.68,2,   2277.0,2,   2319.5,2,   7.4649,6,    25.00,     2111
  49UF20120204,KS1202,  3342,  1,     14,  21973,2,20120227,2038,  9.4982, 159.9775, 5294,    807.5,   5.6639,  34.5285,2,-999.0000,9,     72.4,2,    71.76,2,    38.12,2,     0.00,2,     2.73,2,   2288.1,2,   2326.7,3,   7.4643,2,    25.00,     2108
  49UF20120204,KS1202,  3342,  1,     13,  21972,2,20120227,2038,  9.4982, 159.9775, 5294,    807.5,   5.6639,  34.5285,2,-999.0000,9,     72.5,2,    71.63,2,    37.96,2,     0.00,2,     2.73,2,   2288.5,2,   2331.9,2,   7.4606,2,    25.00,     2108
  49UF20120204,KS1202,  3342,  1,     11,  21970,2,20120227,2038,  9.4982, 159.9775, 5294,    907.4,   5.1321,  34.5374,2,-999.0000,9,     71.9,6,    80.62,6,    38.90,6,     0.00,6,     2.80,6,   2300.7,2,   2342.7,2,   7.4568,2,    25.00,     2105
  49UF20120204,KS1202,  3342,  1,     10,  21969,2,20120227,2038,  9.4982, 159.9775, 5294,   1009.1,   4.7761,  34.5441,2,-999.0000,9,     74.1,2,    87.17,2,    39.38,3,     0.00,2,     2.82,2,   2307.3,2,   2347.5,2,   7.4574,2,    25.00,     2103
  49UF20120204,KS1202,  3342,  1,      9,  21968,2,20120227,2038,  9.4982, 159.9775, 5294,   1211.8,   3.8651,  34.5645,2,-999.0000,9,     77.8,2,   105.96,2,    39.67,2,     0.00,2,     2.86,2,   2325.2,2,   2368.7,2,   7.4566,2,    25.00,     2058
  49UF20120204,KS1202,  3342,  1,      6,  21965,2,20120227,2038,  9.4982, 159.9775, 5294,   1414.6,   3.2100,  34.5872,2,-999.0000,9,     89.2,2,   119.01,2,    39.34,2,     0.00,2,     2.82,2,   2335.7,6,   2380.8,6,   7.4728,2,    25.00,     2053
  49UF20120204,KS1202,  3342,  1,      5,  21964,2,20120227,2038,  9.4982, 159.9775, 5294,   1614.9,   2.7875,  34.6035,2,-999.0000,9,     93.0,2,   128.57,2,    39.49,2,     0.00,2,     2.82,2,   2347.7,2,   2391.7,2,   7.4773,6,    25.00,     2049
  49UF20120204,KS1202,  3342,  1,      4,  21963,2,20120227,2038,  9.4982, 159.9775, 5294,   1816.8,   2.4481,  34.6202,2,-999.0000,9,     99.4,2,   135.56,2,    39.20,2,     0.00,2,     2.79,2,   2348.4,2,   2399.1,2,   7.4897,2,    25.00,     2045
  49UF20120204,KS1202,  3342,  1,      1,  21960,2,20120227,2038,  9.4982, 159.9775, 5294,   2020.7,   2.2126,  34.6337,2,-999.0000,9,    105.7,2,   140.55,2,    39.09,2,     0.00,2,     2.76,2,   2350.8,2,   2401.7,2,   7.4972,2,    25.00,     2038
  49UF20120204,KS1202,  3343,  1,     99,     99,2,20120228,0401,  9.4795, 158.9672, 5224,      0.0,  28.3831,  34.2400,2,-999.0000,9,    196.9,2,     1.15,2,     0.01,2,     0.00,2,     0.09,2,   -999.0,9,   -999.0,9,-999.0000,9,  -999.00,      545
  49UF20120204,KS1202,  3343,  1,     36,  21995,2,20120228,0401,  9.4795, 158.9672, 5224,     11.1,  28.3841,  34.2401,2,  34.2392,2,    196.7,2,     1.15,2,     0.03,2,     0.00,2,     0.08,2,   -999.0,9,   -999.0,9,-999.0000,9,  -999.00,      555
  49UF20120204,KS1202,  3343,  1,     35,  21994,2,20120228,0401,  9.4795, 158.9672, 5224,     25.8,  28.3870,  34.2395,2,-999.0000,9,    196.6,2,     1.15,2,     0.00,2,     0.00,2,     0.08,2,   -999.0,9,   -999.0,9,-999.0000,9,  -999.00,      553
  49UF20120204,KS1202,  3343,  1,     33,  21992,2,20120228,0401,  9.4795, 158.9672, 5224,     50.3,  28.3466,  34.2371,2,-999.0000,9,    197.2,2,     1.15,2,     0.02,2,     0.00,2,     0.08,2,   -999.0,9,   -999.0,9,-999.0000,9,  -999.00,      548
  49UF20120204,KS1202,  3343,  1,     32,  21991,2,20120228,0401,  9.4795, 158.9672, 5224,     50.3,  28.3466,  34.2371,2,-999.0000,9,    196.7,2,     1.16,2,     0.00,2,     0.00,2,     0.08,2,   -999.0,9,   -999.0,9,-999.0000,9,  -999.00,      548
  49UF20120204,KS1202,  3343,  1,     31,  21990,2,20120228,0401,  9.4795, 158.9672, 5224,     74.5,  28.3373,  34.2383,2,-999.0000,9,    196.6,2,     1.16,2,     0.00,2,     0.00,2,     0.09,2,   -999.0,9,   -999.0,9,-999.0000,9,  -999.00,      547
  49UF20120204,KS1202,  3343,  1,     29,  21988,2,20120228,0401,  9.4795, 158.9672, 5224,     99.1,  28.3200,  34.2524,2,  34.2523,2,    196.8,2,     1.14,2,     0.00,2,     0.00,2,     0.09,2,   -999.0,9,   -999.0,9,-999.0000,9,  -999.00,      545
  49UF20120204,KS1202,  3343,  1,     28,  21987,2,20120228,0401,  9.4795, 158.9672, 5224,    126.6,  25.2169,  35.1196,2,-999.0000,9,    199.5,6,     1.26,6,     0.02,6,     0.00,6,     0.13,6,   -999.0,9,   -999.0,9,-999.0000,9,  -999.00,      543
  49UF20120204,KS1202,  3343,  1,     27,  21986,2,20120228,0401,  9.4795, 158.9672, 5224,    149.6,  22.8510,  35.2364,2,-999.0000,9,    185.0,2,     1.66,2,     0.65,2,     0.13,2,     0.18,2,   -999.0,9,   -999.0,9,-999.0000,9,  -999.00,      542
  49UF20120204,KS1202,  3343,  1,     24,  21983,2,20120228,0401,  9.4795, 158.9672, 5224,    200.2,  15.1824,  34.5646,2,  34.5686,4,    160.3,2,     9.59,2,    10.83,2,     0.01,2,     0.85,2,   -999.0,9,   -999.0,9,-999.0000,9,  -999.00,      538
  49UF20120204,KS1202,  3343,  1,     23,  21982,2,20120228,0401,  9.4795, 158.9672, 5224,    251.2,  11.0465,  34.4720,2,-999.0000,9,     75.8,2,    27.52,2,    26.90,2,     0.00,2,     1.99,2,   -999.0,9,   -999.0,9,-999.0000,9,  -999.00,      535
  49UF20120204,KS1202,  3343,  1,     22,  21981,2,20120228,0401,  9.4795, 158.9672, 5224,    302.9,  10.0272,  34.5778,2,-999.0000,9,     48.4,2,    33.23,2,    32.00,2,     0.00,2,     2.31,2,   -999.0,9,   -999.0,9,-999.0000,9,  -999.00,      532
  49UF20120204,KS1202,  3343,  1,     19,  21978,2,20120228,0401,  9.4795, 158.9672, 5224,    404.0,   8.8087,  34.5883,2,  34.5884,2,     54.9,2,    38.81,2,    33.97,2,     0.00,2,     2.43,2,   -999.0,9,   -999.0,9,-999.0000,9,  -999.00,      524
  49UF20120204,KS1202,  3343,  1,     18,  21977,2,20120228,0401,  9.4795, 158.9672, 5224,    504.8,   7.8809,  34.5609,2,-999.0000,9,     62.1,2,    45.27,2,    35.23,2,     0.00,2,     2.51,2,   -999.0,9,   -999.0,9,-999.0000,9,  -999.00,      520
  49UF20120204,KS1202,  3343,  1,     17,  21976,2,20120228,0401,  9.4795, 158.9672, 5224,    605.8,   7.2152,  34.5463,2,  34.5465,2,     61.7,2,    51.28,2,    36.28,2,     0.00,2,     2.61,2,   -999.0,9,   -999.0,9,-999.0000,9,  -999.00,      514
  49UF20120204,KS1202,  3343,  1,     15,  21974,2,20120228,0401,  9.4795, 158.9672, 5224,    705.8,   6.5354,  34.5372,2,-999.0000,9,     62.3,2,    59.66,2,    37.65,2,     0.00,2,     2.71,2,   -999.0,9,   -999.0,9,-999.0000,9,  -999.00,      505
  49UF20120204,KS1202,  3343,  1,     14,  21973,2,20120228,0401,  9.4795, 158.9672, 5224,    705.8,   6.5354,  34.5372,2,-999.0000,9,     62.6,2,    59.69,2,    37.68,2,     0.00,2,     2.70,2,   -999.0,9,   -999.0,9,-999.0000,9,  -999.00,      505
  49UF20120204,KS1202,  3343,  1,     13,  21972,2,20120228,0401,  9.4795, 158.9672, 5224,    806.1,   5.7386,  34.5332,2,  34.5339,2,     68.5,6,    70.83,6,    38.54,6,     0.00,6,     2.76,6,   -999.0,9,   -999.0,9,-999.0000,9,  -999.00,      501
  49UF20120204,KS1202,  3343,  1,     11,  21970,2,20120228,0401,  9.4795, 158.9672, 5224,    908.3,   5.0170,  34.5414,2,-999.0000,9,     73.9,2,    81.77,2,    39.05,2,     0.00,2,     2.79,2,   -999.0,9,   -999.0,9,-999.0000,9,  -999.00,      453
  49UF20120204,KS1202,  3343,  1,     10,  21969,2,20120228,0401,  9.4795, 158.9672, 5224,   1010.3,   4.6928,  34.5483,2,  34.5485,2,     76.7,2,    88.04,2,    39.14,2,     0.00,2,     2.81,2,   -999.0,9,   -999.0,9,-999.0000,9,  -999.00,      442
  49UF20120204,KS1202,  3343,  1,      9,  21968,2,20120228,0401,  9.4795, 158.9672, 5224,   1214.1,   3.7867,  34.5690,2,  34.5688,2,     83.4,2,   107.22,2,    39.55,2,     0.00,2,     2.82,2,   -999.0,9,   -999.0,9,-999.0000,9,  -999.00,      432
  49UF20120204,KS1202,  3343,  1,      6,  21965,2,20120228,0401,  9.4795, 158.9672, 5224,   1414.0,   3.1695,  34.5894,2,  34.5903,2,     90.7,2,   119.44,2,    39.56,2,     0.00,2,     2.81,2,   -999.0,9,   -999.0,9,-999.0000,9,  -999.00,      416
  49UF20120204,KS1202,  3343,  1,      5,  21964,2,20120228,0401,  9.4795, 158.9672, 5224,   1617.2,   2.6695,  34.6102,2,  34.6102,2,     96.4,2,   130.38,2,    39.48,2,     0.00,2,     2.81,2,   -999.0,9,   -999.0,9,-999.0000,9,  -999.00,      411
  49UF20120204,KS1202,  3343,  1,      4,  21963,2,20120228,0401,  9.4795, 158.9672, 5224,   1815.0,   2.3508,  34.6250,2,  34.6248,2,    101.0,2,   137.76,2,    39.16,2,     0.00,2,     2.77,2,   -999.0,9,   -999.0,9,-999.0000,9,  -999.00,      407
  49UF20120204,KS1202,  3343,  1,      1,  21960,2,20120228,0401,  9.4795, 158.9672, 5224,   2019.4,   2.2180,  34.6332,2,  34.6332,2,    104.9,2,   141.41,2,    38.96,2,     0.00,2,     2.76,2,   -999.0,9,   -999.0,9,-999.0000,9,  -999.00,      401