BOTTLE,20191015PRINUNIVRMK
# 08/29/2019 Initialized README file  
# Data source:  Masao Ishii 2018/11/30 
# SHIP: R/V Keifu Maru II 
# Cruise: KS11-01 
# Region:North Pacific Ocean, East China Sea 
# EXPOCODE: 49UF20110108 
# DATES: 20110108 - 20110125	 
# Chief Scientist: Takahiro Segawa 
# 20 stations with 24 place Rosette 
# CTD: Who - Hitomi Kamiya; Status - final 
# 	Includes: CTDSAL 
# SALNTY: Who - Hitomi Kamiya; Status - final 
# 	Notes: 	 
# Nutrients: Who - Hitomi Kamiya; Status - final 
# 	Includes: nitrate, nitrite, silicate, phosphate 
# 	Nitrite and NO3+NO2 reported. Separated by subtraction 
# OXYGEN: Who - Tatsushi Shiga; Status - final 
# 	Notes: 
# TCARBN: Who - Hitomi Kamiya; Status - final 
# 	Notes:  
# ALKALI: Who - Hitomi Kamiya; Status - final 
# 	Notes:  
# PH-TOT: Who - Hitomi Kamiya; Status - final 
# 	Notes:  
# Segawa, Takahiro; Kamiya, Hitomi; Ishii, Masao (2019). Dissolved inorganic carbon (DIC), total alkalinity, pH on total scale, temperature, salinity, oxygen, nutrients and other measurements collected from profile and discrete sample observations during the R/V Keifu Maru II cruise KS11-01 (EXPOCODE 49UF20110108) in the North Pacific Ocean from 2011-01-08 to 2011-01-25 (NCEI Accession 0186231). [indicate subset used]. NOAA National Centers for Environmental Information. Dataset. https://doi.org/10.25921/b25n-w516.    
# References that have used data from this cruise: 
EXPOCODE,SECT_ID,STNNBR,CASTNO,SAMPNO,BTLNBR,BTLNBR_FLAG_W,DATE,TIME,LATITUDE,LONGITUDE,DEPTH,CTDPRS,CTDTMP,CTDSAL,CTDSAL_FLAG_W,SALNTY,SALNTY_FLAG_W,OXYGEN,OXYGEN_FLAG_W,SILCAT,SILCAT_FLAG_W,NITRAT,NITRAT_FLAG_W,NITRIT,NITRIT_FLAG_W,PHSPHT,PHSPHT_FLAG_W,TCARBN,TCARBN_FLAG_W,ALKALI,ALKALI_FLAG_W,PH_TOT,PH_TOT_FLAG_W,PH_TMP,BTL_TIME
,,,,,,,,,,,METERS,DBAR,ITS-90,PSS-78,,PSS-78,,UMOL/KG,,UMOL/KG,,UMOL/KG,,UMOL/KG,,UMOL/KG,,UMOL/KG,,UMOL/KG,,,,DEG C,
  49UF20110108,KS1101,  2916,  1,     99,     99,2,20110113,0112, 28.6952, 126.4503,  130,      0.0,  17.6429,  34.5151,2,-999.0000,9,    234.4,2,     6.63,2,     3.90,2,     0.11,2,     0.33,2,   -999.0,9,   -999.0,9,-999.0000,9,  -999.00,      120
  49UF20110108,KS1101,  2916,  1,     29,  21989,2,20110113,0112, 28.6952, 126.4503,  130,     11.4,  17.6416,  34.5144,2,-999.0000,9,    232.1,2,     6.51,2,     3.75,2,     0.10,2,     0.32,2,   2006.4,2,   2269.8,2,-999.0000,9,  -999.00,      122
  49UF20110108,KS1101,  2916,  1,     28,  21988,2,20110113,0112, 28.6952, 126.4503,  130,     11.4,  17.6416,  34.5144,2,  34.5155,2,    232.0,2,     6.54,2,     3.79,2,     0.10,2,     0.32,2,   2007.3,2,   2269.6,2,-999.0000,9,  -999.00,      122
  49UF20110108,KS1101,  2916,  1,     21,  21981,2,20110113,0112, 28.6952, 126.4503,  130,     21.5,  17.6383,  34.5131,2,  34.5130,2,    231.9,2,     6.54,2,     3.78,2,     0.10,2,     0.32,2,   2008.1,2,   2270.2,2,-999.0000,9,  -999.00,      121
  49UF20110108,KS1101,  2916,  1,     20,  21980,2,20110113,0112, 28.6952, 126.4503,  130,     31.0,  17.6392,  34.5107,2,  34.5106,2,    231.7,2,     6.50,2,     3.80,2,     0.11,2,     0.32,2,   2003.4,2,   2265.0,2,-999.0000,9,  -999.00,      120
  49UF20110108,KS1101,  2916,  1,     19,  21978,2,20110113,0112, 28.6952, 126.4503,  130,     53.2,  17.6451,  34.5124,2,  34.5105,6,    231.8,6,     6.55,6,     3.77,6,     0.11,6,     0.32,6,   2004.9,2,   2269.3,2,-999.0000,9,  -999.00,      118
  49UF20110108,KS1101,  2916,  1,     11,  21970,2,20110113,0112, 28.6952, 126.4503,  130,     76.6,  17.6787,  34.5236,2,-999.0000,9,    231.8,2,     6.49,2,     3.79,2,     0.11,2,     0.32,2,   2004.8,2,   2270.5,2,-999.0000,9,  -999.00,      116
  49UF20110108,KS1101,  2916,  1,     10,  21969,2,20110113,0112, 28.6952, 126.4503,  130,     76.6,  17.6787,  34.5236,2,  34.5238,2,    231.7,2,     6.48,2,     3.78,2,     0.11,2,     0.32,2,   2004.5,2,   2271.0,2,-999.0000,9,  -999.00,      116
  49UF20110108,KS1101,  2916,  1,      2,  21961,2,20110113,0112, 28.6952, 126.4503,  130,    101.6,  17.7133,  34.5344,2,  34.5372,6,    231.2,6,     6.43,6,     3.76,6,     0.11,6,     0.33,6,   2005.4,6,   2271.4,6,   7.9938,6,    25.00,      114
  49UF20110108,KS1101,  2916,  1,      1,  21960,2,20110113,0112, 28.6952, 126.4503,  130,    122.6,  17.8084,  34.5686,2,  34.5673,2,    230.7,2,     6.35,2,     3.74,2,     0.11,2,     0.32,2,   2010.8,2,   2270.1,2,-999.0000,9,  -999.00,      112
  49UF20110108,KS1101,  2918,  1,     99,     99,2,20110113,0413, 28.5490, 126.6860,  158,      0.0,  18.7688,  34.6117,2,-999.0000,9,    227.5,2,     5.39,2,     2.59,2,     0.32,2,     0.24,2,   -999.0,9,   -999.0,9,-999.0000,9,  -999.00,      500
  49UF20110108,KS1101,  2918,  1,     30,  21990,2,20110113,0413, 28.5490, 126.6860,  158,     11.3,  18.7670,  34.6113,2,-999.0000,9,    226.3,2,     5.41,2,     2.61,2,     0.31,2,     0.24,2,   -999.0,9,   -999.0,9,-999.0000,9,  -999.00,      430
  49UF20110108,KS1101,  2918,  1,     29,  21989,2,20110113,0413, 28.5490, 126.6860,  158,     21.4,  18.7473,  34.6110,2,-999.0000,9,    226.3,6,     5.43,6,     2.60,6,     0.31,6,     0.24,6,   -999.0,9,   -999.0,9,-999.0000,9,  -999.00,      428
  49UF20110108,KS1101,  2918,  1,     28,  21988,2,20110113,0413, 28.5490, 126.6860,  158,     31.0,  18.7488,  34.6109,2,-999.0000,9,    226.5,2,     5.40,2,     2.60,2,     0.31,2,     0.24,2,   -999.0,9,   -999.0,9,-999.0000,9,  -999.00,      426
  49UF20110108,KS1101,  2918,  1,     21,  21981,2,20110113,0413, 28.5490, 126.6860,  158,     49.8,  18.7345,  34.6102,2,-999.0000,9,    226.2,2,     5.43,2,     2.62,2,     0.32,2,     0.24,2,   -999.0,9,   -999.0,9,-999.0000,9,  -999.00,      424
  49UF20110108,KS1101,  2918,  1,     20,  21980,2,20110113,0413, 28.5490, 126.6860,  158,     75.3,  18.4347,  34.6005,2,-999.0000,9,    227.0,2,     5.85,2,     3.12,2,     0.21,2,     0.27,2,   -999.0,9,   -999.0,9,-999.0000,9,  -999.00,      421
  49UF20110108,KS1101,  2918,  1,     19,  21978,2,20110113,0413, 28.5490, 126.6860,  158,     75.3,  18.4347,  34.6005,2,-999.0000,9,    226.9,2,     5.82,2,     3.09,2,     0.21,2,     0.27,2,   -999.0,9,   -999.0,9,-999.0000,9,  -999.00,      421
  49UF20110108,KS1101,  2918,  1,     11,  21970,2,20110113,0413, 28.5490, 126.6860,  158,    101.2,  18.3181,  34.6035,2,-999.0000,9,    228.4,2,     5.94,2,     3.28,2,     0.15,2,     0.28,2,   -999.0,9,   -999.0,9,-999.0000,9,  -999.00,      419
  49UF20110108,KS1101,  2918,  1,     10,  21969,2,20110113,0413, 28.5490, 126.6860,  158,    125.6,  18.2191,  34.5977,2,-999.0000,9,    228.0,6,     6.14,6,     3.47,6,     0.13,6,     0.30,6,   -999.0,9,   -999.0,9,-999.0000,9,  -999.00,      416
  49UF20110108,KS1101,  2918,  1,      2,  21961,2,20110113,0413, 28.5490, 126.6860,  158,    146.9,  17.4632,  34.5727,2,-999.0000,9,    219.0,2,     9.22,2,     5.15,2,     0.16,2,     0.41,2,   -999.0,9,   -999.0,9,-999.0000,9,  -999.00,      413
  49UF20110108,KS1101,  2918,  1,      1,  21960,2,20110113,0413, 28.5490, 126.6860,  158,    146.9,  17.4632,  34.5727,2,-999.0000,9,    219.1,2,     9.24,2,     5.12,2,     0.16,2,     0.41,2,   -999.0,9,   -999.0,9,-999.0000,9,  -999.00,      413
  49UF20110108,KS1101,  2920,  1,     99,     99,2,20110113,0701, 28.4042, 126.9175,  292,      0.0,  21.6693,  34.6323,2,-999.0000,9,    214.0,2,     2.62,2,     0.91,2,     0.26,2,     0.11,2,   -999.0,9,   -999.0,9,-999.0000,9,  -999.00,      750
  49UF20110108,KS1101,  2920,  1,     30,  21990,2,20110113,0701, 28.4042, 126.9175,  292,     10.0,  21.6771,  34.6326,2,  34.6329,6,    213.1,6,     2.64,6,     0.95,6,     0.26,6,     0.11,6,   -999.0,9,   -999.0,9,-999.0000,9,  -999.00,      723
  49UF20110108,KS1101,  2920,  1,     29,  21989,2,20110113,0701, 28.4042, 126.9175,  292,     20.3,  21.6838,  34.6321,2,-999.0000,9,    213.1,2,     2.59,2,     0.94,2,     0.26,2,     0.10,2,   -999.0,9,   -999.0,9,-999.0000,9,  -999.00,      722
  49UF20110108,KS1101,  2920,  1,     28,  21988,2,20110113,0701, 28.4042, 126.9175,  292,     30.4,  21.6827,  34.6324,2,-999.0000,9,    212.9,2,     2.58,2,     0.94,2,     0.26,2,     0.11,2,   -999.0,9,   -999.0,9,-999.0000,9,  -999.00,      721
  49UF20110108,KS1101,  2920,  1,     22,  21982,2,20110113,0701, 28.4042, 126.9175,  292,     50.3,  21.6852,  34.6325,2,-999.0000,9,    213.0,2,     2.56,2,     0.93,2,     0.26,2,     0.10,2,   -999.0,9,   -999.0,9,-999.0000,9,  -999.00,      720
  49UF20110108,KS1101,  2920,  1,     21,  21981,2,20110113,0701, 28.4042, 126.9175,  292,     75.4,  20.1209,  34.5516,2,-999.0000,9,    208.9,2,     5.61,2,     3.29,2,     0.20,2,     0.26,2,   -999.0,9,   -999.0,9,-999.0000,9,  -999.00,      718
  49UF20110108,KS1101,  2920,  1,     20,  21980,2,20110113,0701, 28.4042, 126.9175,  292,     75.4,  20.1209,  34.5516,2,-999.0000,9,    209.9,2,     5.57,2,     3.32,2,     0.21,2,     0.26,2,   -999.0,9,   -999.0,9,-999.0000,9,  -999.00,      718
  49UF20110108,KS1101,  2920,  1,     19,  21978,2,20110113,0701, 28.4042, 126.9175,  292,    100.8,  19.0142,  34.5479,2,  34.5470,2,    218.0,2,     6.39,2,     3.70,2,     0.31,2,     0.30,2,   -999.0,9,   -999.0,9,-999.0000,9,  -999.00,      717
  49UF20110108,KS1101,  2920,  1,     12,  21971,2,20110113,0701, 28.4042, 126.9175,  292,    126.0,  18.9824,  34.5804,2,-999.0000,9,    221.2,2,     5.92,2,     3.17,2,     0.33,2,     0.27,2,   -999.0,9,   -999.0,9,-999.0000,9,  -999.00,      715
  49UF20110108,KS1101,  2920,  1,     11,  21970,2,20110113,0701, 28.4042, 126.9175,  292,    152.1,  18.3125,  34.5929,2,-999.0000,9,    227.1,2,     6.07,2,     3.17,2,     0.31,2,     0.27,2,   -999.0,9,   -999.0,9,-999.0000,9,  -999.00,      714
  49UF20110108,KS1101,  2920,  1,     10,  21969,2,20110113,0701, 28.4042, 126.9175,  292,    203.8,  18.1852,  34.6022,2,  34.6026,6,    227.7,6,     6.83,6,     3.67,6,     0.27,6,     0.31,6,   -999.0,9,   -999.0,9,-999.0000,9,  -999.00,      711
  49UF20110108,KS1101,  2920,  1,      3,  21962,2,20110113,0701, 28.4042, 126.9175,  292,    249.1,  10.5937,  34.3763,2,-999.0000,2,    136.2,2,    39.36,2,    21.80,2,     0.15,2,     1.59,2,   -999.0,9,   -999.0,9,-999.0000,9,  -999.00,      706
  49UF20110108,KS1101,  2920,  1,      2,  21961,2,20110113,0701, 28.4042, 126.9175,  292,    249.1,  10.5937,  34.3763,2,-999.0000,2,    136.1,2,    39.37,2,    21.85,2,     0.15,2,     1.58,2,   -999.0,9,   -999.0,9,-999.0000,9,  -999.00,      706
  49UF20110108,KS1101,  2920,  1,      1,  21960,2,20110113,0701, 28.4042, 126.9175,  292,    268.9,  10.5501,  34.3754,2,  34.3749,2,    136.6,2,    39.77,2,    21.97,2,     0.13,2,     1.60,2,   -999.0,9,   -999.0,9,-999.0000,9,  -999.00,      701
  49UF20110108,KS1101,  2922,  1,     99,     99,2,20110113,1045, 28.2600, 127.1433,  982,      0.0,  22.3562,  34.6488,2,-999.0000,9,    210.1,2,     2.01,2,     0.62,2,     0.24,2,     0.08,2,   -999.0,9,   -999.0,9,-999.0000,9,  -999.00,     1120
  49UF20110108,KS1101,  2922,  1,     32,  21992,2,20110113,1045, 28.2600, 127.1433,  982,     10.7,  22.3619,  34.6489,2,  34.6493,2,    209.2,2,     1.97,2,     0.63,2,     0.25,2,     0.08,2,   1969.0,2,   2272.8,2,-999.0000,9,  -999.00,     1126
  49UF20110108,KS1101,  2922,  1,     31,  21991,2,20110113,1045, 28.2600, 127.1433,  982,     20.7,  22.3678,  34.6488,2,  34.6490,2,    209.4,2,     1.97,2,     0.61,2,     0.25,2,     0.08,2,   1969.0,2,   2270.6,2,-999.0000,9,  -999.00,     1125
  49UF20110108,KS1101,  2922,  1,     30,  21990,2,20110113,1045, 28.2600, 127.1433,  982,     31.0,  22.3565,  34.6497,2,  34.6491,2,    209.3,2,     1.94,2,     0.59,2,     0.25,2,     0.08,2,   1969.2,2,   2271.1,2,-999.0000,9,  -999.00,     1124
  49UF20110108,KS1101,  2922,  1,     29,  21989,2,20110113,1045, 28.2600, 127.1433,  982,     51.3,  22.3786,  34.6490,2,  34.6490,2,    209.1,2,     2.02,2,     0.61,2,     0.25,2,     0.08,2,   1971.7,2,   2273.4,2,-999.0000,9,  -999.00,     1120
  49UF20110108,KS1101,  2922,  1,     28,  21988,2,20110113,1045, 28.2600, 127.1433,  982,     76.1,  22.3822,  34.6491,2,  34.6486,2,    209.0,2,     1.98,2,     0.64,2,     0.25,2,     0.09,2,   1965.5,2,   2271.2,2,-999.0000,9,  -999.00,     1118
  49UF20110108,KS1101,  2922,  1,     23,  21983,2,20110113,1045, 28.2600, 127.1433,  982,    102.5,  22.3868,  34.6491,2,  34.6495,2,    209.0,2,     1.97,2,     0.65,2,     0.25,2,     0.09,2,   1964.8,2,   2269.6,2,-999.0000,9,  -999.00,     1116
  49UF20110108,KS1101,  2922,  1,     22,  21982,2,20110113,1045, 28.2600, 127.1433,  982,    102.5,  22.3868,  34.6491,2,  34.6491,2,    208.9,2,     1.98,2,     0.65,2,     0.25,2,     0.09,2,   1969.6,3,   2271.5,2,-999.0000,9,  -999.00,     1116
  49UF20110108,KS1101,  2922,  1,     21,  21981,2,20110113,1045, 28.2600, 127.1433,  982,    127.2,  21.9040,  34.6976,2,  34.6909,4,    198.1,6,     2.58,6,     1.62,6,     0.14,6,     0.14,6,   1982.8,2,   2270.0,2,-999.0000,9,  -999.00,     1115
  49UF20110108,KS1101,  2922,  1,     20,  21980,2,20110113,1045, 28.2600, 127.1433,  982,    151.5,  20.4974,  34.7230,2,  34.7245,6,    181.5,2,     4.73,2,     4.33,2,     0.02,2,     0.33,2,   2017.7,2,   2278.3,2,-999.0000,9,  -999.00,     1114
  49UF20110108,KS1101,  2922,  1,     19,  21978,2,20110113,1045, 28.2600, 127.1433,  982,    201.7,  18.6004,  34.7192,2,  34.7200,2,    181.7,2,     6.02,2,     5.77,2,     0.01,2,     0.41,2,   2041.4,2,   2279.3,2,-999.0000,9,  -999.00,     1112
  49UF20110108,KS1101,  2922,  1,     14,  21973,2,20110113,1045, 28.2600, 127.1433,  982,    252.2,  17.3383,  34.7013,2,  34.7021,2,    183.5,2,     6.96,2,     7.02,2,     0.01,2,     0.50,2,   2053.5,2,   2276.4,2,-999.0000,9,  -999.00,     1110
  49UF20110108,KS1101,  2922,  1,     13,  21972,2,20110113,1045, 28.2600, 127.1433,  982,    302.1,  15.6247,  34.5969,2,  34.5975,2,    171.8,2,    13.50,2,    10.85,2,     0.01,2,     0.77,2,   2081.7,2,   2275.9,2,-999.0000,9,  -999.00,     1109
  49UF20110108,KS1101,  2922,  1,     12,  21971,2,20110113,1045, 28.2600, 127.1433,  982,    405.5,  10.6943,  34.3643,2,  34.3646,2,    144.2,2,    36.34,2,    20.98,2,     0.00,2,     1.51,2,   2159.6,2,   2288.4,2,-999.0000,9,  -999.00,     1106
  49UF20110108,KS1101,  2922,  1,     11,  21970,2,20110113,1045, 28.2600, 127.1433,  982,    504.2,   8.4514,  34.3200,2,  34.3208,2,    119.9,2,    55.98,2,    27.17,2,     0.00,2,     1.96,2,   2211.7,2,   2302.3,2,-999.0000,9,  -999.00,     1103
  49UF20110108,KS1101,  2922,  1,     10,  21969,2,20110113,1045, 28.2600, 127.1433,  982,    606.1,   6.5533,  34.2894,2,  34.2899,2,     97.6,2,    74.30,2,    32.33,2,     0.00,2,     2.33,2,   2256.2,2,   2318.5,2,-999.0000,9,  -999.00,     1100
  49UF20110108,KS1101,  2922,  1,      5,  21964,2,20110113,1045, 28.2600, 127.1433,  982,    706.6,   5.8396,  34.3370,2,  34.3373,2,     87.7,2,    86.77,2,    34.42,2,     0.00,2,     2.49,2,   2281.7,2,   2334.1,2,-999.0000,9,  -999.00,     1056
  49UF20110108,KS1101,  2922,  1,      4,  21963,2,20110113,1045, 28.2600, 127.1433,  982,    807.2,   5.2320,  34.3759,2,  34.3756,2,     81.2,2,    97.23,2,    35.80,2,     0.00,2,     2.59,2,   2298.9,3,   2341.2,3,-999.0000,9,  -999.00,     1050
  49UF20110108,KS1101,  2922,  1,      3,  21962,2,20110113,1045, 28.2600, 127.1433,  982,    807.2,   5.2320,  34.3759,2,  34.3809,4,     80.7,2,    97.44,2,    35.89,2,     0.00,2,     2.59,2,   2302.7,2,   2344.7,2,-999.0000,9,  -999.00,     1050
  49UF20110108,KS1101,  2922,  1,      2,  21961,2,20110113,1045, 28.2600, 127.1433,  982,    906.9,   4.8345,  34.3999,2,  34.3999,6,     76.9,6,   104.61,6,    36.75,6,     0.00,6,     2.66,6,   2312.5,2,   2356.2,2,-999.0000,9,  -999.00,     1047
  49UF20110108,KS1101,  2922,  1,      1,  21960,2,20110113,1045, 28.2600, 127.1433,  982,    978.7,   4.3144,  34.4210,2,  34.4197,2,     73.0,2,   112.26,2,    37.91,2,     0.01,2,     2.73,2,   2324.8,6,   2361.4,6,-999.0000,9,  -999.00,     1045