BOTTLE,20191015PRINUNIVRMK
EXPOCODE,SECT_ID,STNNBR,CASTNO,SAMPNO,BTLNBR,BTLNBR_FLAG_W,DATE,TIME,LATITUDE,LONGITUDE,DEPTH,CTDPRS,CTDTMP,CTDSAL,CTDSAL_FLAG_W,SALNTY,SALNTY_FLAG_W,OXYGEN,OXYGEN_FLAG_W,SILCAT,SILCAT_FLAG_W,NITRAT,NITRAT_FLAG_W,NITRIT,NITRIT_FLAG_W,PHSPHT,PHSPHT_FLAG_W,TCARBN,TCARBN_FLAG_W,ALKALI,ALKALI_FLAG_W,PH_TOT,PH_TOT_FLAG_W,PH_TMP,BTL_TIME
,,,,,,,,,,,METERS,DBAR,ITS-90,PSS-78,,PSS-78,,UMOL/KG,,UMOL/KG,,UMOL/KG,,UMOL/KG,,UMOL/KG,,UMOL/KG,,UMOL/KG,,,,DEG C,
  49UF20110108,KS1101,  2932,  1,     99,     99,2,20110117,1037, 25.9088, 128.1662, 2136,      0.0,  22.9006,  34.6841,2,-999.0000,9,    213.9,2,     1.64,2,     0.29,2,     0.15,2,     0.06,2,   -999.0,9,   -999.0,9,-999.0000,9,  -999.00,     1120
  49UF20110108,KS1101,  2932,  1,     33,  21993,2,20110117,1037, 25.9088, 128.1662, 2136,     11.9,  22.9217,  34.6833,2,  34.6826,2,    212.3,2,     1.60,2,     0.27,2,     0.14,2,     0.06,2,   1966.0,2,   2276.5,2,-999.0000,9,  -999.00,     1141
  49UF20110108,KS1101,  2932,  1,     32,  21992,2,20110117,1037, 25.9088, 128.1662, 2136,     26.0,  22.9128,  34.6837,2,  34.6838,6,    212.3,6,     1.63,6,     0.28,6,     0.14,6,     0.06,6,   1964.8,2,   2278.5,2,-999.0000,9,  -999.00,     1139
  49UF20110108,KS1101,  2932,  1,     31,  21991,2,20110117,1037, 25.9088, 128.1662, 2136,     50.2,  22.5820,  34.7079,2,  34.7107,2,    213.2,2,     1.51,2,     0.17,2,     0.08,2,     0.05,2,   1966.6,2,   2277.9,2,-999.0000,9,  -999.00,     1135
  49UF20110108,KS1101,  2932,  1,     30,  21990,2,20110117,1037, 25.9088, 128.1662, 2136,     76.5,  22.2348,  34.7188,2,  34.7183,2,    211.9,2,     1.52,2,     0.22,2,     0.06,2,     0.05,2,   1969.5,2,   2276.3,2,-999.0000,9,  -999.00,     1133
  49UF20110108,KS1101,  2932,  1,     29,  21989,2,20110117,1037, 25.9088, 128.1662, 2136,    101.4,  22.2019,  34.7126,2,  34.7119,2,    211.7,2,     1.51,2,     0.22,2,     0.06,2,     0.04,2,   1969.1,2,   2276.3,2,-999.0000,9,  -999.00,     1132
  49UF20110108,KS1101,  2932,  1,     28,  21988,2,20110117,1037, 25.9088, 128.1662, 2136,    126.7,  22.1994,  34.7125,2,  34.7111,2,    211.6,2,     1.47,2,     0.21,2,     0.06,2,     0.04,2,   1968.2,2,   2278.4,2,-999.0000,9,  -999.00,     1131
  49UF20110108,KS1101,  2932,  1,     24,  21984,2,20110117,1037, 25.9088, 128.1662, 2136,    152.0,  22.1801,  34.7145,2,  34.7158,2,    208.5,2,     1.66,2,     0.52,2,     0.08,2,     0.07,2,   1972.5,2,   2276.6,2,-999.0000,9,  -999.00,     1129
  49UF20110108,KS1101,  2932,  1,     23,  21983,2,20110117,1037, 25.9088, 128.1662, 2136,    202.7,  20.4064,  34.7883,2,  34.7862,2,    189.7,2,     2.64,2,     2.36,2,     0.02,2,     0.18,2,   2013.0,2,   2281.5,2,-999.0000,9,  -999.00,     1127
  49UF20110108,KS1101,  2932,  1,     22,  21982,2,20110117,1037, 25.9088, 128.1662, 2136,    251.3,  18.4774,  34.7267,2,  34.7274,2,    183.9,2,     5.64,2,     5.64,2,     0.01,2,     0.40,2,   2040.2,2,   2278.4,2,-999.0000,9,  -999.00,     1125
  49UF20110108,KS1101,  2932,  1,     21,  21981,2,20110117,1037, 25.9088, 128.1662, 2136,    251.3,  18.4774,  34.7267,2,  34.7270,2,    183.9,2,     5.62,2,     5.60,2,     0.01,2,     0.40,2,   2042.5,2,   2280.8,2,-999.0000,9,  -999.00,     1125
  49UF20110108,KS1101,  2932,  1,     20,  21980,2,20110117,1037, 25.9088, 128.1662, 2136,    302.0,  16.6275,  34.6633,2,  34.6627,2,    181.7,2,     8.77,2,     8.20,2,     0.01,2,     0.58,2,   2062.3,2,   2280.1,2,-999.0000,9,  -999.00,     1123
  49UF20110108,KS1101,  2932,  1,     19,  21978,2,20110117,1037, 25.9088, 128.1662, 2136,    404.5,  13.8019,  34.4940,2,  34.4952,2,    173.3,2,    15.57,2,    12.92,2,     0.00,2,     0.92,2,   2097.4,2,   2278.3,2,-999.0000,9,  -999.00,     1120
  49UF20110108,KS1101,  2932,  1,     15,  21974,2,20110117,1037, 25.9088, 128.1662, 2136,    504.7,  10.8372,  34.2843,2,  34.2888,2,    168.1,2,    24.22,2,    18.13,2,     0.00,2,     1.30,2,   2131.3,2,   2272.0,2,-999.0000,9,  -999.00,     1117
  49UF20110108,KS1101,  2932,  1,     14,  21973,2,20110117,1037, 25.9088, 128.1662, 2136,    606.2,   8.5566,  34.2132,2,  34.2132,6,    129.3,6,    43.39,6,    25.97,6,     0.01,6,     1.89,6,   2191.5,2,   2283.7,2,-999.0000,9,  -999.00,     1114
  49UF20110108,KS1101,  2932,  1,     13,  21972,2,20110117,1037, 25.9088, 128.1662, 2136,    705.7,   6.7206,  34.2041,2,  34.2034,2,     96.1,2,    63.78,2,    32.13,2,     0.00,2,     2.35,2,   2245.2,2,   2301.7,2,-999.0000,9,  -999.00,     1111
  49UF20110108,KS1101,  2932,  1,     12,  21971,2,20110117,1037, 25.9088, 128.1662, 2136,    806.9,   5.6293,  34.2867,2,  34.2867,2,     79.9,2,    83.58,2,    35.58,2,     0.00,2,     2.57,2,   2281.8,2,   2325.2,2,-999.0000,9,  -999.00,     1108
  49UF20110108,KS1101,  2932,  1,     11,  21970,2,20110117,1037, 25.9088, 128.1662, 2136,    906.8,   4.7834,  34.3485,2,  34.3488,2,     70.9,2,    98.43,2,    37.72,2,     0.00,2,     2.72,2,   2305.0,2,   2343.3,2,-999.0000,9,  -999.00,     1105
  49UF20110108,KS1101,  2932,  1,     10,  21969,2,20110117,1037, 25.9088, 128.1662, 2136,   1010.3,   4.1691,  34.4206,2,  34.4195,2,     72.2,2,   110.68,2,    38.52,2,     0.00,2,     2.77,2,   2322.5,2,   2361.8,6,-999.0000,9,  -999.00,     1102
  49UF20110108,KS1101,  2932,  1,      6,  21965,2,20110117,1037, 25.9088, 128.1662, 2136,   1209.8,   3.2032,  34.4649,2,  34.4648,2,     69.7,2,   128.71,2,    39.98,2,     0.00,2,     2.86,2,   2340.1,2,   2377.8,2,-999.0000,9,  -999.00,     1057
  49UF20110108,KS1101,  2932,  1,      5,  21964,2,20110117,1037, 25.9088, 128.1662, 2136,   1414.2,   2.6915,  34.5148,2,  34.5137,2,     78.6,2,   137.56,2,    39.98,2,     0.00,2,     2.86,2,   2347.4,2,   2391.7,2,-999.0000,9,  -999.00,     1052
  49UF20110108,KS1101,  2932,  1,      4,  21963,2,20110117,1037, 25.9088, 128.1662, 2136,   1616.1,   2.4516,  34.5461,2,  34.5455,2,     87.6,2,   140.52,2,    39.73,2,     0.00,2,     2.82,2,   2346.4,2,   2395.4,2,-999.0000,9,  -999.00,     1047
  49UF20110108,KS1101,  2932,  1,      3,  21962,2,20110117,1037, 25.9088, 128.1662, 2136,   1616.1,   2.4516,  34.5461,2,  34.5451,2,     87.2,2,   140.35,2,    39.58,2,     0.00,2,     2.82,2,   2344.8,2,   2393.8,2,-999.0000,9,  -999.00,     1047
  49UF20110108,KS1101,  2932,  1,      2,  21961,2,20110117,1037, 25.9088, 128.1662, 2136,   1819.7,   2.2078,  34.5814,2,  34.5809,2,    100.3,2,   142.24,2,    38.95,2,     0.00,2,     2.76,2,   2348.3,2,   2398.1,2,-999.0000,9,  -999.00,     1042
  49UF20110108,KS1101,  2932,  1,      1,  21960,2,20110117,1037, 25.9088, 128.1662, 2136,   2022.1,   1.9986,  34.6124,2,  34.6119,2,    113.2,2,   142.53,2,    38.16,2,     0.00,2,     2.70,2,   2342.5,6,   2405.1,6,-999.0000,9,  -999.00,     1037
  49UF20110108,KS1101,  2934,  1,     99,     99,2,20110117,1655, 25.6203, 128.5450, 4760,      0.0,  22.3689,  34.7032,2,-999.0000,9,    213.2,2,  -999.00,9,  -999.00,9,  -999.00,9,  -999.00,9,   -999.0,9,   -999.0,9,-999.0000,9,  -999.00,     1755
  49UF20110108,KS1101,  2934,  1,     33,  21993,2,20110117,1655, 25.6203, 128.5450, 4760,     10.4,  22.3718,  34.7030,2,-999.0000,9,    212.4,6,  -999.00,9,  -999.00,9,  -999.00,9,  -999.00,9,   -999.0,9,   -999.0,9,-999.0000,9,  -999.00,     1805
  49UF20110108,KS1101,  2934,  1,     32,  21992,2,20110117,1655, 25.6203, 128.5450, 4760,     26.4,  22.3864,  34.7028,2,-999.0000,9,    212.7,2,  -999.00,9,  -999.00,9,  -999.00,9,  -999.00,9,   -999.0,9,   -999.0,9,-999.0000,9,  -999.00,     1803
  49UF20110108,KS1101,  2934,  1,     31,  21991,2,20110117,1655, 25.6203, 128.5450, 4760,     49.9,  22.3741,  34.7040,2,-999.0000,9,    211.4,2,  -999.00,9,  -999.00,9,  -999.00,9,  -999.00,9,   -999.0,9,   -999.0,9,-999.0000,9,  -999.00,     1757
  49UF20110108,KS1101,  2934,  1,     30,  21990,2,20110117,1655, 25.6203, 128.5450, 4760,     76.6,  22.3727,  34.7038,2,-999.0000,9,    210.9,2,  -999.00,9,  -999.00,9,  -999.00,9,  -999.00,9,   -999.0,9,   -999.0,9,-999.0000,9,  -999.00,     1755
  49UF20110108,KS1101,  2934,  1,     29,  21989,2,20110117,1655, 25.6203, 128.5450, 4760,    100.8,  22.3693,  34.7033,2,-999.0000,9,    211.2,2,  -999.00,9,  -999.00,9,  -999.00,9,  -999.00,9,   -999.0,9,   -999.0,9,-999.0000,9,  -999.00,     1754
  49UF20110108,KS1101,  2934,  1,     28,  21988,2,20110117,1655, 25.6203, 128.5450, 4760,    123.6,  22.3646,  34.7037,2,-999.0000,9,    211.3,2,  -999.00,9,  -999.00,9,  -999.00,9,  -999.00,9,   -999.0,9,   -999.0,9,-999.0000,9,  -999.00,     1753
  49UF20110108,KS1101,  2934,  1,     24,  21984,2,20110117,1655, 25.6203, 128.5450, 4760,    150.3,  22.2734,  34.7115,2,-999.0000,9,    207.8,2,  -999.00,9,  -999.00,9,  -999.00,9,  -999.00,9,   -999.0,9,   -999.0,9,-999.0000,9,  -999.00,     1751
  49UF20110108,KS1101,  2934,  1,     23,  21983,2,20110117,1655, 25.6203, 128.5450, 4760,    204.6,  20.5643,  34.7782,2,-999.0000,9,    188.7,2,  -999.00,9,  -999.00,9,  -999.00,9,  -999.00,9,   -999.0,9,   -999.0,9,-999.0000,9,  -999.00,     1748
  49UF20110108,KS1101,  2934,  1,     22,  21982,2,20110117,1655, 25.6203, 128.5450, 4760,    204.6,  20.5643,  34.7782,2,-999.0000,9,    188.3,2,  -999.00,9,  -999.00,9,  -999.00,9,  -999.00,9,   -999.0,9,   -999.0,9,-999.0000,9,  -999.00,     1748
  49UF20110108,KS1101,  2934,  1,     21,  21981,2,20110117,1655, 25.6203, 128.5450, 4760,    252.0,  19.2914,  34.7578,2,-999.0000,9,    187.2,2,  -999.00,9,  -999.00,9,  -999.00,9,  -999.00,9,   -999.0,9,   -999.0,9,-999.0000,9,  -999.00,     1746
  49UF20110108,KS1101,  2934,  1,     20,  21980,2,20110117,1655, 25.6203, 128.5450, 4760,    302.7,  17.7359,  34.7377,2,-999.0000,9,    188.3,2,  -999.00,9,  -999.00,9,  -999.00,9,  -999.00,9,   -999.0,9,   -999.0,9,-999.0000,9,  -999.00,     1743
  49UF20110108,KS1101,  2934,  1,     19,  21978,2,20110117,1655, 25.6203, 128.5450, 4760,    404.1,  15.3200,  34.6001,2,-999.0000,9,    183.7,2,  -999.00,9,  -999.00,9,  -999.00,9,  -999.00,9,   -999.0,9,   -999.0,9,-999.0000,9,  -999.00,     1740
  49UF20110108,KS1101,  2934,  1,     15,  21974,2,20110117,1655, 25.6203, 128.5450, 4760,    502.5,  12.2444,  34.3851,2,-999.0000,9,    175.2,6,  -999.00,9,  -999.00,9,  -999.00,9,  -999.00,9,   -999.0,9,   -999.0,9,-999.0000,9,  -999.00,     1736
  49UF20110108,KS1101,  2934,  1,     14,  21973,2,20110117,1655, 25.6203, 128.5450, 4760,    604.1,   9.0959,  34.2170,2,-999.0000,9,    142.5,2,  -999.00,9,  -999.00,9,  -999.00,9,  -999.00,9,   -999.0,9,   -999.0,9,-999.0000,9,  -999.00,     1733
  49UF20110108,KS1101,  2934,  1,     13,  21972,2,20110117,1655, 25.6203, 128.5450, 4760,    705.4,   7.2608,  34.1910,2,-999.0000,9,    113.5,2,  -999.00,9,  -999.00,9,  -999.00,9,  -999.00,9,   -999.0,9,   -999.0,9,-999.0000,9,  -999.00,     1730
  49UF20110108,KS1101,  2934,  1,     12,  21971,2,20110117,1655, 25.6203, 128.5450, 4760,    808.0,   5.9263,  34.2505,2,-999.0000,9,     83.7,2,  -999.00,9,  -999.00,9,  -999.00,9,  -999.00,9,   -999.0,9,   -999.0,9,-999.0000,9,  -999.00,     1727
  49UF20110108,KS1101,  2934,  1,     11,  21970,2,20110117,1655, 25.6203, 128.5450, 4760,    910.3,   4.9041,  34.3518,2,-999.0000,9,     74.9,2,  -999.00,9,  -999.00,9,  -999.00,9,  -999.00,9,   -999.0,9,   -999.0,9,-999.0000,9,  -999.00,     1723
  49UF20110108,KS1101,  2934,  1,     10,  21969,2,20110117,1655, 25.6203, 128.5450, 4760,   1008.9,   4.1932,  34.4082,2,-999.0000,9,     72.1,2,  -999.00,9,  -999.00,9,  -999.00,9,  -999.00,9,   -999.0,9,   -999.0,9,-999.0000,9,  -999.00,     1720
  49UF20110108,KS1101,  2934,  1,      6,  21965,2,20110117,1655, 25.6203, 128.5450, 4760,   1210.5,   3.2621,  34.4600,2,-999.0000,9,     68.6,2,  -999.00,9,  -999.00,9,  -999.00,9,  -999.00,9,   -999.0,9,   -999.0,9,-999.0000,9,  -999.00,     1715
  49UF20110108,KS1101,  2934,  1,      5,  21964,2,20110117,1655, 25.6203, 128.5450, 4760,   1415.0,   2.7200,  34.5223,2,-999.0000,9,     80.8,2,  -999.00,9,  -999.00,9,  -999.00,9,  -999.00,9,   -999.0,9,   -999.0,9,-999.0000,9,  -999.00,     1709
  49UF20110108,KS1101,  2934,  1,      4,  21963,2,20110117,1655, 25.6203, 128.5450, 4760,   1415.0,   2.7200,  34.5223,2,-999.0000,9,     81.2,2,  -999.00,9,  -999.00,9,  -999.00,9,  -999.00,9,   -999.0,9,   -999.0,9,-999.0000,9,  -999.00,     1709
  49UF20110108,KS1101,  2934,  1,      3,  21962,2,20110117,1655, 25.6203, 128.5450, 4760,   1617.0,   2.4001,  34.5649,2,-999.0000,9,     93.4,2,  -999.00,9,  -999.00,9,  -999.00,9,  -999.00,9,   -999.0,9,   -999.0,9,-999.0000,9,  -999.00,     1704
  49UF20110108,KS1101,  2934,  1,      2,  21961,2,20110117,1655, 25.6203, 128.5450, 4760,   1817.9,   2.1692,  34.5909,2,-999.0000,9,    104.0,2,  -999.00,9,  -999.00,9,  -999.00,9,  -999.00,9,   -999.0,9,   -999.0,9,-999.0000,9,  -999.00,     1700
  49UF20110108,KS1101,  2934,  1,      1,  21960,2,20110117,1655, 25.6203, 128.5450, 4760,   2018.9,   2.0347,  34.6157,2,-999.0000,9,    114.3,2,  -999.00,9,  -999.00,9,  -999.00,9,  -999.00,9,   -999.0,9,   -999.0,9,-999.0000,9,  -999.00,     1655
  49UF20110108,KS1101,  2936,  1,     99,     99,2,20110117,2349, 25.3263, 128.9982, 5516,      0.0,  22.2618,  34.7277,2,-999.0000,9,    213.8,2,     1.39,2,     0.11,2,     0.02,2,     0.04,2,   -999.0,9,   -999.0,9,-999.0000,9,  -999.00,       45
  49UF20110108,KS1101,  2936,  1,     33,  21993,2,20110117,2349, 25.3263, 128.9982, 5516,     11.0,  22.2658,  34.7277,2,  34.7273,2,    213.4,2,     1.35,2,     0.12,2,     0.02,2,     0.03,2,   -999.0,9,   -999.0,9,-999.0000,9,  -999.00,       50
  49UF20110108,KS1101,  2936,  1,     32,  21992,2,20110117,2349, 25.3263, 128.9982, 5516,     26.8,  22.2691,  34.7277,2,-999.0000,9,    213.2,2,     1.30,2,     0.12,2,     0.02,2,     0.03,2,   -999.0,9,   -999.0,9,-999.0000,9,  -999.00,       48
  49UF20110108,KS1101,  2936,  1,     31,  21991,2,20110117,2349, 25.3263, 128.9982, 5516,     50.5,  22.2722,  34.7282,2,-999.0000,9,    213.0,2,     1.32,2,     0.14,2,     0.02,2,     0.03,2,   -999.0,9,   -999.0,9,-999.0000,9,  -999.00,       44
  49UF20110108,KS1101,  2936,  1,     30,  21990,2,20110117,2349, 25.3263, 128.9982, 5516,     75.7,  22.2733,  34.7278,2,-999.0000,9,    213.0,2,     1.35,2,     0.10,2,     0.02,2,     0.03,2,   -999.0,9,   -999.0,9,-999.0000,9,  -999.00,       43
  49UF20110108,KS1101,  2936,  1,     29,  21989,2,20110117,2349, 25.3263, 128.9982, 5516,    100.7,  22.2391,  34.7320,2,  34.7317,2,    211.5,2,     1.39,2,     0.22,2,     0.04,2,     0.03,2,   -999.0,9,   -999.0,9,-999.0000,9,  -999.00,       41
  49UF20110108,KS1101,  2936,  1,     28,  21988,2,20110117,2349, 25.3263, 128.9982, 5516,    126.6,  22.0833,  34.7294,2,-999.0000,9,    207.9,2,     1.55,2,     0.40,2,     0.08,2,     0.04,2,   -999.0,9,   -999.0,9,-999.0000,9,  -999.00,       40
  49UF20110108,KS1101,  2936,  1,     24,  21984,2,20110117,2349, 25.3263, 128.9982, 5516,    151.8,  21.6926,  34.7996,2,-999.0000,9,    191.6,2,     1.97,2,     1.47,2,     0.03,2,     0.13,2,   -999.0,9,   -999.0,9,-999.0000,9,  -999.00,       38
  49UF20110108,KS1101,  2936,  1,     23,  21983,2,20110117,2349, 25.3263, 128.9982, 5516,    151.8,  21.6926,  34.7996,2,-999.0000,9,    191.4,2,     1.97,2,     1.54,2,     0.03,2,     0.12,2,   -999.0,9,   -999.0,9,-999.0000,9,  -999.00,       38
  49UF20110108,KS1101,  2936,  1,     22,  21982,2,20110117,2349, 25.3263, 128.9982, 5516,    202.6,  20.1528,  34.7897,2,  34.7886,2,    189.0,2,     2.51,2,     2.63,2,     0.01,2,     0.20,2,   -999.0,9,   -999.0,9,-999.0000,9,  -999.00,       36
  49UF20110108,KS1101,  2936,  1,     21,  21981,2,20110117,2349, 25.3263, 128.9982, 5516,    251.1,  18.8918,  34.7595,2,-999.0000,9,    192.5,2,     3.23,2,     3.76,2,     0.01,2,     0.27,2,   -999.0,9,   -999.0,9,-999.0000,9,  -999.00,       34
  49UF20110108,KS1101,  2936,  1,     20,  21980,3,20110117,2349, 25.3263, 128.9982, 5516,    302.3,  17.7560,  34.7412,2,-999.0000,9,    187.7,2,     4.86,2,     5.84,2,     0.00,2,     0.40,2,   -999.0,9,   -999.0,9,-999.0000,9,  -999.00,       32
  49UF20110108,KS1101,  2936,  1,     19,  21978,2,20110117,2349, 25.3263, 128.9982, 5516,    403.8,  15.3390,  34.5994,2,  34.5981,2,    181.6,6,     9.69,6,     9.82,6,     0.00,6,     0.69,6,   -999.0,9,   -999.0,9,-999.0000,9,  -999.00,       29
  49UF20110108,KS1101,  2936,  1,     15,  21974,2,20110117,2349, 25.3263, 128.9982, 5516,    505.3,  12.0218,  34.3767,2,-999.0000,9,    168.2,2,    21.04,2,    16.21,2,     0.00,2,     1.16,2,   -999.0,9,   -999.0,9,-999.0000,9,  -999.00,       26
  49UF20110108,KS1101,  2936,  1,     14,  21973,2,20110117,2349, 25.3263, 128.9982, 5516,    604.6,   9.8155,  34.2639,2,  34.2662,2,    147.3,2,    34.99,2,    22.00,2,     0.00,2,     1.59,2,   -999.0,9,   -999.0,9,-999.0000,9,  -999.00,       23
  49UF20110108,KS1101,  2936,  1,     13,  21972,2,20110117,2349, 25.3263, 128.9982, 5516,    706.8,   7.3729,  34.1946,2,-999.0000,9,    115.7,2,    57.19,2,    29.33,2,     0.00,2,     2.12,2,   -999.0,9,   -999.0,9,-999.0000,9,  -999.00,       20
  49UF20110108,KS1101,  2936,  1,     12,  21971,2,20110117,2349, 25.3263, 128.9982, 5516,    808.5,   5.8766,  34.2119,2,  34.2144,2,     83.3,2,    76.18,2,    34.80,2,     0.00,2,     2.53,2,   -999.0,9,   -999.0,9,-999.0000,9,  -999.00,       17
  49UF20110108,KS1101,  2936,  1,     11,  21970,2,20110117,2349, 25.3263, 128.9982, 5516,    907.2,   4.9922,  34.2901,2,-999.0000,9,     69.2,2,    93.24,2,    37.41,2,     0.00,2,     2.71,2,   -999.0,9,   -999.0,9,-999.0000,9,  -999.00,       15
  49UF20110108,KS1101,  2936,  1,     10,  21969,2,20110117,2349, 25.3263, 128.9982, 5516,   1011.1,   4.2670,  34.3649,2,  34.3660,2,     62.9,2,   107.10,2,    39.21,2,     0.00,2,     2.83,2,   -999.0,9,   -999.0,9,-999.0000,9,  -999.00,       12
  49UF20110108,KS1101,  2936,  1,      6,  21965,2,20110117,2349, 25.3263, 128.9982, 5516,   1211.9,   3.4115,  34.4415,2,  34.4442,4,     64.3,2,   125.18,2,    40.24,2,     0.00,2,     2.88,2,   -999.0,9,   -999.0,9,-999.0000,9,  -999.00,        7
  49UF20110108,KS1101,  2936,  1,      5,  21964,2,20110117,2349, 25.3263, 128.9982, 5516,   1211.9,   3.4115,  34.4415,2,  34.4417,2,     64.2,2,   125.24,2,    40.17,2,     0.00,2,     2.87,2,   -999.0,9,   -999.0,9,-999.0000,9,  -999.00,        7
  49UF20110108,KS1101,  2936,  1,      4,  21963,2,20110117,2349, 25.3263, 128.9982, 5516,   1417.5,   2.7928,  34.5001,2,  34.4996,2,     72.9,2,   136.35,2,    40.01,2,     0.00,2,     2.87,2,   -999.0,9,   -999.0,9,-999.0000,9,  -999.00,        3
  49UF20110108,KS1101,  2936,  1,      3,  21962,2,20110117,2349, 25.3263, 128.9982, 5516,   1617.0,   2.4418,  34.5478,2,  34.5534,4,     87.4,2,   140.61,2,    39.56,2,     0.00,2,     2.81,2,   -999.0,9,   -999.0,9,-999.0000,9,  -999.00,     2358
  49UF20110108,KS1101,  2936,  1,      2,  21961,2,20110117,2349, 25.3263, 128.9982, 5516,   1820.5,   2.1796,  34.5853,2,  34.5854,2,    101.8,2,   142.39,2,    38.53,2,     0.00,2,     2.75,2,   -999.0,9,   -999.0,9,-999.0000,9,  -999.00,     2353
  49UF20110108,KS1101,  2936,  1,      1,  21960,2,20110117,2349, 25.3263, 128.9982, 5516,   2022.5,   1.9957,  34.6128,2,  34.6122,6,    113.5,6,   142.62,6,    38.04,6,     0.00,6,     2.69,6,   -999.0,9,   -999.0,9,-999.0000,9,  -999.00,     2349