BOTTLE,20191015PRINUNIVRMK
EXPOCODE,SECT_ID,STNNBR,CASTNO,SAMPNO,BTLNBR,BTLNBR_FLAG_W,DATE,TIME,LATITUDE,LONGITUDE,DEPTH,CTDPRS,CTDTMP,CTDSAL,CTDSAL_FLAG_W,SALNTY,SALNTY_FLAG_W,OXYGEN,OXYGEN_FLAG_W,SILCAT,SILCAT_FLAG_W,NITRAT,NITRAT_FLAG_W,NITRIT,NITRIT_FLAG_W,PHSPHT,PHSPHT_FLAG_W,TCARBN,TCARBN_FLAG_W,ALKALI,ALKALI_FLAG_W,PH_TOT,PH_TOT_FLAG_W,PH_TMP,BTL_TIME
,,,,,,,,,,,METERS,DBAR,ITS-90,PSS-78,,PSS-78,,UMOL/KG,,UMOL/KG,,UMOL/KG,,UMOL/KG,,UMOL/KG,,UMOL/KG,,UMOL/KG,,,,DEG C,
  49UF20110108,KS1101,  2945,  1,     99,     99,2,20110119,1250, 23.7398, 131.9867, 3555,      0.0,  22.3785,  34.7654,2,-999.0000,9,    214.8,2,     1.34,2,     0.13,2,     0.01,2,     0.02,2,   -999.0,9,   -999.0,9,-999.0000,9,  -999.00,     1345
  49UF20110108,KS1101,  2945,  1,     33,  21993,2,20110119,1250, 23.7398, 131.9867, 3555,      9.8,  22.3839,  34.7640,2,  34.7648,2,    214.6,2,     1.34,2,     0.10,2,     0.01,2,     0.02,2,   1966.5,2,   2279.9,2,-999.0000,9,  -999.00,     1400
  49UF20110108,KS1101,  2945,  1,     32,  21992,2,20110119,1250, 23.7398, 131.9867, 3555,     26.9,  22.2039,  34.7548,2,  34.7531,2,    213.3,2,     1.46,2,     0.03,2,     0.02,2,     0.03,2,   1970.9,2,   2279.1,2,-999.0000,9,  -999.00,     1358
  49UF20110108,KS1101,  2945,  1,     31,  21991,2,20110119,1250, 23.7398, 131.9867, 3555,     26.9,  22.2039,  34.7548,2,  34.7531,2,    212.8,2,     1.42,2,     0.15,2,     0.02,2,     0.01,2,   1969.2,2,   2280.5,2,-999.0000,9,  -999.00,     1358
  49UF20110108,KS1101,  2945,  1,     30,  21990,2,20110119,1250, 23.7398, 131.9867, 3555,     50.5,  22.1572,  34.7679,2,  34.7671,2,    215.5,2,     1.37,2,     0.13,2,     0.00,2,     0.01,2,   1967.4,2,   2280.4,2,-999.0000,9,  -999.00,     1352
  49UF20110108,KS1101,  2945,  1,     29,  21989,2,20110119,1250, 23.7398, 131.9867, 3555,     76.0,  21.9897,  34.7660,2,  34.7654,2,    214.4,2,     1.45,2,     0.13,2,     0.02,2,     0.02,2,   1969.6,2,   2275.4,2,-999.0000,9,  -999.00,     1351
  49UF20110108,KS1101,  2945,  1,     28,  21988,2,20110119,1250, 23.7398, 131.9867, 3555,    101.3,  21.9254,  34.7669,2,  34.7659,2,    214.1,2,     1.49,2,     0.15,2,     0.03,2,     0.02,2,   1973.1,2,   2279.6,2,-999.0000,9,  -999.00,     1349
  49UF20110108,KS1101,  2945,  1,     24,  21984,2,20110119,1250, 23.7398, 131.9867, 3555,    126.8,  21.8969,  34.7711,2,  34.7699,2,    214.6,2,     1.45,2,     0.11,2,     0.02,2,     0.02,2,   1969.7,2,   2279.6,2,-999.0000,9,  -999.00,     1348
  49UF20110108,KS1101,  2945,  1,     23,  21983,2,20110119,1250, 23.7398, 131.9867, 3555,    153.6,  20.6750,  34.7540,2,  34.7568,6,    201.2,6,     2.12,6,     1.38,6,     0.06,6,     0.11,6,   1998.8,2,   2279.8,2,-999.0000,9,  -999.00,     1346
  49UF20110108,KS1101,  2945,  1,     22,  21982,2,20110119,1250, 23.7398, 131.9867, 3555,    203.4,  19.1383,  34.7339,2,  34.7333,2,    199.1,2,     2.77,2,     3.01,2,     0.01,2,     0.20,2,   2012.7,2,   2275.5,2,-999.0000,9,  -999.00,     1344
  49UF20110108,KS1101,  2945,  1,     21,  21981,2,20110119,1250, 23.7398, 131.9867, 3555,    254.0,  18.2410,  34.7283,2,  34.7282,2,    196.4,2,     3.77,2,     4.43,2,     0.01,2,     0.30,2,   2027.9,2,   2279.1,2,-999.0000,9,  -999.00,     1341
  49UF20110108,KS1101,  2945,  1,     20,  21980,2,20110119,1250, 23.7398, 131.9867, 3555,    302.5,  17.1918,  34.7137,2,  34.7134,2,    189.3,2,     5.67,2,     6.52,2,     0.01,2,     0.44,2,   2045.9,2,   2278.3,2,-999.0000,9,  -999.00,     1339
  49UF20110108,KS1101,  2945,  1,     19,  21978,2,20110119,1250, 23.7398, 131.9867, 3555,    402.4,  14.6929,  34.5607,2,  34.5612,2,    182.2,2,    11.85,2,    10.88,2,     0.00,2,     0.75,2,   2078.4,2,   2275.8,2,-999.0000,9,  -999.00,     1336
  49UF20110108,KS1101,  2945,  1,     15,  21974,2,20110119,1250, 23.7398, 131.9867, 3555,    504.3,  11.6423,  34.3559,2,  34.3567,2,    171.4,2,    23.64,2,    16.95,2,     0.00,2,     1.19,2,   2121.3,2,   2276.6,2,-999.0000,9,  -999.00,     1333
  49UF20110108,KS1101,  2945,  1,     14,  21973,2,20110119,1250, 23.7398, 131.9867, 3555,    605.3,   8.4303,  34.1842,2,  34.1841,2,    144.5,2,    44.78,2,    24.94,2,     0.00,2,     1.80,2,   2182.1,2,   2285.9,2,-999.0000,9,  -999.00,     1330
  49UF20110108,KS1101,  2945,  1,     13,  21972,2,20110119,1250, 23.7398, 131.9867, 3555,    605.3,   8.4303,  34.1842,2,  34.1856,2,    144.2,2,    44.83,2,    25.02,2,     0.00,2,     1.79,2,   2182.4,2,   2285.1,2,-999.0000,9,  -999.00,     1330
  49UF20110108,KS1101,  2945,  1,     12,  21971,2,20110119,1250, 23.7398, 131.9867, 3555,    705.7,   6.2991,  34.1528,2,  34.1542,2,    108.1,2,    69.16,2,    31.93,2,     0.00,2,     2.31,2,   2242.5,2,   2303.2,2,-999.0000,9,  -999.00,     1327
  49UF20110108,KS1101,  2945,  1,     11,  21970,2,20110119,1250, 23.7398, 131.9867, 3555,    806.0,   5.0030,  34.2237,2,  34.2224,2,     74.8,2,    91.11,2,    37.01,2,     0.00,2,     2.67,2,   2293.4,2,   2327.3,6,-999.0000,9,  -999.00,     1323
  49UF20110108,KS1101,  2945,  1,     10,  21969,2,20110119,1250, 23.7398, 131.9867, 3555,    907.9,   4.3516,  34.3072,2,  34.3066,2,     62.1,2,   105.02,2,    39.39,2,     0.00,2,     2.82,2,   2318.2,2,   2341.3,2,-999.0000,9,  -999.00,     1320
  49UF20110108,KS1101,  2945,  1,      6,  21965,2,20110119,1250, 23.7398, 131.9867, 3555,   1009.8,   3.7601,  34.3721,2,  34.3714,2,     58.0,2,   117.93,2,    40.33,2,     0.00,2,     2.89,2,   2337.3,2,   2360.2,2,-999.0000,9,  -999.00,     1317
  49UF20110108,KS1101,  2945,  1,      5,  21964,2,20110119,1250, 23.7398, 131.9867, 3555,   1211.2,   3.0472,  34.4739,2,  34.4741,6,     67.4,6,   131.91,6,    40.59,6,     0.00,6,     2.90,6,   2349.4,2,   2380.2,2,-999.0000,9,  -999.00,     1312
  49UF20110108,KS1101,  2945,  1,      4,  21963,2,20110119,1250, 23.7398, 131.9867, 3555,   1414.4,   2.5670,  34.5344,2,  34.5337,2,     82.5,2,   139.33,2,    39.99,2,     0.00,2,     2.83,2,   2350.2,2,   2391.0,2,-999.0000,9,  -999.00,     1306
  49UF20110108,KS1101,  2945,  1,      3,  21962,2,20110119,1250, 23.7398, 131.9867, 3555,   1618.5,   2.2818,  34.5717,2,  34.5707,2,     95.7,2,   141.93,2,    39.21,2,     0.00,2,     2.78,2,   2351.0,6,   2396.6,6,-999.0000,9,  -999.00,     1301
  49UF20110108,KS1101,  2945,  1,      2,  21961,2,20110119,1250, 23.7398, 131.9867, 3555,   1819.8,   2.0624,  34.6030,2,  34.6025,2,    109.3,2,   142.61,2,    38.62,2,     0.00,2,     2.71,2,   2343.7,2,   2403.0,2,-999.0000,9,  -999.00,     1256
  49UF20110108,KS1101,  2945,  1,      1,  21960,2,20110119,1250, 23.7398, 131.9867, 3555,   2022.4,   1.9060,  34.6256,2,  34.6252,2,    119.2,2,   142.58,2,    37.85,2,     0.00,2,     2.66,2,   2341.4,2,   2406.5,2,-999.0000,9,  -999.00,     1250
  49UF20110108,KS1101,  2947,  1,     99,     99,2,20110119,2149, 23.7415, 132.9852, 3655,      0.0,  22.0244,  34.7957,2,-999.0000,9,    217.3,2,     1.40,2,     0.13,2,     0.00,2,     0.02,2,   -999.0,9,   -999.0,9,-999.0000,9,  -999.00,     2240
  49UF20110108,KS1101,  2947,  1,     33,  21993,2,20110119,2149, 23.7415, 132.9852, 3655,     10.3,  22.0393,  34.7949,2,-999.0000,9,    216.4,2,     1.40,2,     0.18,2,     0.00,2,     0.02,2,   -999.0,9,   -999.0,9,-999.0000,9,  -999.00,     2253
  49UF20110108,KS1101,  2947,  1,     32,  21992,2,20110119,2149, 23.7415, 132.9852, 3655,     10.3,  22.0393,  34.7949,2,-999.0000,9,    216.7,2,     1.41,2,     0.11,2,     0.00,2,     0.01,2,   -999.0,9,   -999.0,9,-999.0000,9,  -999.00,     2253
  49UF20110108,KS1101,  2947,  1,     31,  21991,2,20110119,2149, 23.7415, 132.9852, 3655,     24.6,  21.9921,  34.7906,2,-999.0000,9,    216.4,2,     1.39,2,     0.12,2,     0.00,2,     0.02,2,   -999.0,9,   -999.0,9,-999.0000,9,  -999.00,     2252
  49UF20110108,KS1101,  2947,  1,     30,  21990,2,20110119,2149, 23.7415, 132.9852, 3655,     49.8,  21.9471,  34.7831,2,-999.0000,9,    216.8,2,     1.39,2,     0.10,2,     0.00,2,     0.01,2,   -999.0,9,   -999.0,9,-999.0000,9,  -999.00,     2248
  49UF20110108,KS1101,  2947,  1,     29,  21989,2,20110119,2149, 23.7415, 132.9852, 3655,     75.8,  21.6526,  34.7610,2,-999.0000,9,    216.7,2,     1.49,2,     0.09,2,     0.00,2,     0.02,2,   -999.0,9,   -999.0,9,-999.0000,9,  -999.00,     2246
  49UF20110108,KS1101,  2947,  1,     28,  21988,2,20110119,2149, 23.7415, 132.9852, 3655,    100.9,  21.5930,  34.7615,2,-999.0000,9,    215.4,2,     1.55,2,     0.19,2,     0.02,2,     0.02,2,   -999.0,9,   -999.0,9,-999.0000,9,  -999.00,     2245
  49UF20110108,KS1101,  2947,  1,     24,  21984,2,20110119,2149, 23.7415, 132.9852, 3655,    125.5,  20.4086,  34.7458,2,-999.0000,9,    200.3,6,     2.31,6,     1.82,6,     0.05,6,     0.13,6,   -999.0,9,   -999.0,9,-999.0000,9,  -999.00,     2244
  49UF20110108,KS1101,  2947,  1,     23,  21983,3,20110119,2149, 23.7415, 132.9852, 3655,    149.8,  19.7219,  34.7408,2,-999.0000,9,    199.1,2,     2.53,2,     2.42,2,     0.02,2,     0.17,2,   -999.0,9,   -999.0,9,-999.0000,9,  -999.00,     2243
  49UF20110108,KS1101,  2947,  1,     22,  21982,2,20110119,2149, 23.7415, 132.9852, 3655,    200.8,  18.7208,  34.7326,2,-999.0000,9,    196.9,2,     3.26,2,     3.78,2,     0.01,2,     0.25,2,   -999.0,9,   -999.0,9,-999.0000,9,  -999.00,     2241
  49UF20110108,KS1101,  2947,  1,     21,  21981,2,20110119,2149, 23.7415, 132.9852, 3655,    250.9,  17.9522,  34.7304,2,-999.0000,9,    193.5,2,     4.11,2,     4.97,2,     0.01,2,     0.33,2,   -999.0,9,   -999.0,9,-999.0000,9,  -999.00,     2239
  49UF20110108,KS1101,  2947,  1,     20,  21980,2,20110119,2149, 23.7415, 132.9852, 3655,    301.9,  16.9600,  34.6998,2,-999.0000,9,    189.1,2,     6.27,2,     6.98,2,     0.01,2,     0.46,2,   -999.0,9,   -999.0,9,-999.0000,9,  -999.00,     2237
  49UF20110108,KS1101,  2947,  1,     19,  21978,2,20110119,2149, 23.7415, 132.9852, 3655,    403.1,  14.3157,  34.5366,2,-999.0000,9,    179.5,2,    13.48,2,    11.74,2,     0.00,2,     0.81,2,   -999.0,9,   -999.0,9,-999.0000,9,  -999.00,     2234
  49UF20110108,KS1101,  2947,  1,     15,  21974,2,20110119,2149, 23.7415, 132.9852, 3655,    502.9,  11.1084,  34.3281,2,-999.0000,9,    166.3,2,    26.93,2,    18.32,2,     0.00,2,     1.30,2,   -999.0,9,   -999.0,9,-999.0000,9,  -999.00,     2231
  49UF20110108,KS1101,  2947,  1,     14,  21973,2,20110119,2149, 23.7415, 132.9852, 3655,    502.9,  11.1084,  34.3281,2,-999.0000,9,    166.3,2,    26.89,2,    18.33,2,     0.00,2,     1.29,2,   -999.0,9,   -999.0,9,-999.0000,9,  -999.00,     2231
  49UF20110108,KS1101,  2947,  1,     13,  21972,2,20110119,2149, 23.7415, 132.9852, 3655,    605.1,   7.8431,  34.1789,2,-999.0000,9,    134.0,2,    51.57,2,    26.86,2,     0.00,2,     1.93,2,   -999.0,9,   -999.0,9,-999.0000,9,  -999.00,     2228
  49UF20110108,KS1101,  2947,  1,     12,  21971,2,20110119,2149, 23.7415, 132.9852, 3655,    706.2,   6.0951,  34.1684,2,-999.0000,9,    101.6,2,    72.96,2,    32.90,2,     0.00,2,     2.36,2,   -999.0,9,   -999.0,9,-999.0000,9,  -999.00,     2224
  49UF20110108,KS1101,  2947,  1,     11,  21970,2,20110119,2149, 23.7415, 132.9852, 3655,    806.9,   4.5839,  34.2518,2,-999.0000,9,     68.1,2,   100.35,2,    38.07,2,     0.00,2,     2.74,2,   -999.0,9,   -999.0,9,-999.0000,9,  -999.00,     2221
  49UF20110108,KS1101,  2947,  1,     10,  21969,2,20110119,2149, 23.7415, 132.9852, 3655,    908.4,   3.9946,  34.3196,2,-999.0000,9,     59.2,2,   113.66,2,    39.79,2,     0.00,2,     2.85,2,   -999.0,9,   -999.0,9,-999.0000,9,  -999.00,     2218
  49UF20110108,KS1101,  2947,  1,      6,  21965,2,20110119,2149, 23.7415, 132.9852, 3655,   1009.5,   3.5844,  34.3738,2,-999.0000,9,     55.7,6,   122.35,6,    40.78,6,     0.00,6,     2.91,6,   -999.0,9,   -999.0,9,-999.0000,9,  -999.00,     2215
  49UF20110108,KS1101,  2947,  1,      5,  21964,2,20110119,2149, 23.7415, 132.9852, 3655,   1211.3,   2.9586,  34.4668,2,-999.0000,9,     64.9,2,   134.90,2,    40.86,2,     0.00,2,     2.90,2,   -999.0,9,   -999.0,9,-999.0000,9,  -999.00,     2209
  49UF20110108,KS1101,  2947,  1,      4,  21963,2,20110119,2149, 23.7415, 132.9852, 3655,   1413.2,   2.5088,  34.5371,2,-999.0000,9,     83.6,2,   140.61,2,    39.93,2,     0.00,2,     2.83,2,   -999.0,9,   -999.0,9,-999.0000,9,  -999.00,     2204
  49UF20110108,KS1101,  2947,  1,      3,  21962,2,20110119,2149, 23.7415, 132.9852, 3655,   1616.7,   2.2285,  34.5784,2,-999.0000,9,     98.7,2,   142.59,2,    39.28,2,     0.00,2,     2.76,2,   -999.0,9,   -999.0,9,-999.0000,9,  -999.00,     2159
  49UF20110108,KS1101,  2947,  1,      2,  21961,2,20110119,2149, 23.7415, 132.9852, 3655,   1817.0,   2.0356,  34.6052,2,-999.0000,9,    110.2,2,   143.39,2,    38.47,2,     0.00,2,     2.71,2,   -999.0,9,   -999.0,9,-999.0000,9,  -999.00,     2154
  49UF20110108,KS1101,  2947,  1,      1,  21960,2,20110119,2149, 23.7415, 132.9852, 3655,   2021.9,   1.8783,  34.6262,2,-999.0000,9,    120.3,2,   143.19,2,    37.88,2,     0.00,2,     2.66,2,   -999.0,9,   -999.0,9,-999.0000,9,  -999.00,     2149
  49UF20110108,KS1101,  2950,  1,     99,     99,2,20110120,0950, 24.2582, 133.9937, 4912,      0.0,  22.5015,  34.7993,2,-999.0000,9,    214.6,2,     1.38,2,     0.00,2,     0.00,2,     0.02,2,   -999.0,9,   -999.0,9,-999.0000,9,  -999.00,     1032
  49UF20110108,KS1101,  2950,  1,     33,  21993,2,20110120,0950, 24.2582, 133.9937, 4912,     10.0,  22.4921,  34.8001,2,  34.7999,2,    214.4,2,     1.32,2,     0.00,2,     0.00,2,     0.01,2,   -999.0,9,   -999.0,9,-999.0000,9,  -999.00,     1044
  49UF20110108,KS1101,  2950,  1,     32,  21992,2,20110120,0950, 24.2582, 133.9937, 4912,     25.5,  22.5108,  34.8002,2,-999.0000,9,    213.7,2,     1.38,2,     0.00,2,     0.00,2,     0.01,2,   -999.0,9,   -999.0,9,-999.0000,9,  -999.00,     1043
  49UF20110108,KS1101,  2950,  1,     31,  21991,2,20110120,0950, 24.2582, 133.9937, 4912,     50.4,  22.5165,  34.8002,2,-999.0000,9,    214.9,2,     1.39,2,     0.00,2,     0.00,2,     0.02,2,   -999.0,9,   -999.0,9,-999.0000,9,  -999.00,     1039
  49UF20110108,KS1101,  2950,  1,     30,  21990,2,20110120,0950, 24.2582, 133.9937, 4912,     75.4,  22.5243,  34.7999,2,-999.0000,9,    213.9,2,     1.41,2,     0.00,2,     0.00,2,     0.02,2,   -999.0,9,   -999.0,9,-999.0000,9,  -999.00,     1038
  49UF20110108,KS1101,  2950,  1,     29,  21989,2,20110120,0950, 24.2582, 133.9937, 4912,     99.9,  22.5150,  34.7972,2,  34.7972,6,    213.3,6,     1.43,6,     0.06,6,     0.00,6,     0.01,6,   -999.0,9,   -999.0,9,-999.0000,9,  -999.00,     1038
  49UF20110108,KS1101,  2950,  1,     28,  21988,3,20110120,0950, 24.2582, 133.9937, 4912,    124.9,  21.8278,  34.7311,2,-999.0000,9,    211.2,2,     1.66,2,     0.09,2,     0.06,2,     0.03,2,   -999.0,9,   -999.0,9,-999.0000,9,  -999.00,     1037
  49UF20110108,KS1101,  2950,  1,     24,  21984,2,20110120,0950, 24.2582, 133.9937, 4912,    149.0,  20.1702,  34.7446,2,-999.0000,9,    202.5,2,     2.22,2,     1.24,2,     0.04,2,     0.11,2,   -999.0,9,   -999.0,9,-999.0000,9,  -999.00,     1035
  49UF20110108,KS1101,  2950,  1,     23,  21983,3,20110120,0950, 24.2582, 133.9937, 4912,    201.8,  18.7508,  34.7286,2,  34.7289,2,    199.2,2,     3.12,2,     3.23,2,     0.01,2,     0.22,2,   -999.0,9,   -999.0,9,-999.0000,9,  -999.00,     1034
  49UF20110108,KS1101,  2950,  1,     22,  21982,3,20110120,0950, 24.2582, 133.9937, 4912,    251.4,  17.6466,  34.7194,2,-999.0000,9,    194.6,2,     4.54,2,     5.09,2,     0.00,2,     0.34,2,   -999.0,9,   -999.0,9,-999.0000,9,  -999.00,     1032
  49UF20110108,KS1101,  2950,  1,     21,  21981,3,20110120,0950, 24.2582, 133.9937, 4912,    301.0,  17.1957,  34.7030,2,-999.0000,9,    192.9,2,     5.42,2,     6.02,2,     0.00,2,     0.41,2,   -999.0,9,   -999.0,9,-999.0000,9,  -999.00,     1031
  49UF20110108,KS1101,  2950,  1,     20,  21980,3,20110120,0950, 24.2582, 133.9937, 4912,    402.1,  14.3901,  34.5401,2,  34.5413,2,    181.2,2,    12.96,2,    11.42,2,     0.00,2,     0.79,2,   -999.0,9,   -999.0,9,-999.0000,9,  -999.00,     1028
  49UF20110108,KS1101,  2950,  1,     19,  21978,2,20110120,0950, 24.2582, 133.9937, 4912,    402.1,  14.3901,  34.5401,2,  34.5432,2,    181.5,2,    12.95,2,    11.18,2,     0.00,2,     0.78,2,   -999.0,9,   -999.0,9,-999.0000,9,  -999.00,     1028
  49UF20110108,KS1101,  2950,  1,     15,  21974,2,20110120,0950, 24.2582, 133.9937, 4912,    503.8,  11.2938,  34.3298,2,-999.0000,9,    171.2,2,    25.19,2,    17.21,2,     0.00,2,     1.22,2,   -999.0,9,   -999.0,9,-999.0000,9,  -999.00,     1026
  49UF20110108,KS1101,  2950,  1,     14,  21973,2,20110120,0950, 24.2582, 133.9937, 4912,    602.9,   8.4670,  34.1810,2,  34.1824,2,    144.6,2,    44.32,2,    24.61,2,     0.00,2,     1.78,2,   -999.0,9,   -999.0,9,-999.0000,9,  -999.00,     1023
  49UF20110108,KS1101,  2950,  1,     13,  21972,2,20110120,0950, 24.2582, 133.9937, 4912,    705.3,   6.0268,  34.1551,2,-999.0000,9,    102.5,2,    72.78,2,    32.67,2,     0.00,2,     2.36,2,   -999.0,9,   -999.0,9,-999.0000,9,  -999.00,     1021
  49UF20110108,KS1101,  2950,  1,     12,  21971,2,20110120,0950, 24.2582, 133.9937, 4912,    806.7,   5.0003,  34.2161,2,  34.2165,2,     75.8,2,    90.93,2,    36.87,2,     0.00,2,     2.65,2,   -999.0,9,   -999.0,9,-999.0000,9,  -999.00,     1018
  49UF20110108,KS1101,  2950,  1,     11,  21970,2,20110120,0950, 24.2582, 133.9937, 4912,    908.1,   4.3189,  34.2937,2,-999.0000,9,     60.7,6,   105.10,6,    39.07,6,     0.00,6,     2.82,6,   -999.0,9,   -999.0,9,-999.0000,9,  -999.00,     1016
  49UF20110108,KS1101,  2950,  1,     10,  21969,2,20110120,0950, 24.2582, 133.9937, 4912,   1009.6,   3.7991,  34.3695,2,  34.3683,2,     56.4,2,   116.38,2,    40.04,2,     0.00,2,     2.88,2,   -999.0,9,   -999.0,9,-999.0000,9,  -999.00,     1013
  49UF20110108,KS1101,  2950,  1,      6,  21965,2,20110120,0950, 24.2582, 133.9937, 4912,   1213.5,   3.0872,  34.4654,2,  34.4655,2,     65.3,2,   131.28,2,    40.53,2,     0.00,2,     2.88,2,   -999.0,9,   -999.0,9,-999.0000,9,  -999.00,     1009
  49UF20110108,KS1101,  2950,  1,      5,  21964,2,20110120,0950, 24.2582, 133.9937, 4912,   1412.8,   2.6577,  34.5268,2,  34.5265,2,     80.0,2,   137.84,2,    39.88,2,     0.00,2,     2.82,2,   -999.0,9,   -999.0,9,-999.0000,9,  -999.00,     1004
  49UF20110108,KS1101,  2950,  1,      4,  21963,2,20110120,0950, 24.2582, 133.9937, 4912,   1616.6,   2.3677,  34.5665,2,  34.5664,2,     93.7,2,   140.46,2,    39.10,2,     0.00,2,     2.77,2,   -999.0,9,   -999.0,9,-999.0000,9,  -999.00,      959
  49UF20110108,KS1101,  2950,  1,      3,  21962,2,20110120,0950, 24.2582, 133.9937, 4912,   1817.4,   2.1323,  34.5941,2,  34.5954,2,    104.7,2,   142.22,2,    38.69,2,     0.00,2,     2.72,2,   -999.0,9,   -999.0,9,-999.0000,9,  -999.00,      954
  49UF20110108,KS1101,  2950,  1,      2,  21961,3,20110120,0950, 24.2582, 133.9937, 4912,   2021.8,   1.9628,  34.6162,2,  34.6155,2,    115.0,2,   142.89,2,    37.97,2,     0.00,2,     2.68,2,   -999.0,9,   -999.0,9,-999.0000,9,  -999.00,      950
  49UF20110108,KS1101,  2950,  1,      1,  21960,3,20110120,0950, 24.2582, 133.9937, 4912,   2021.8,   1.9628,  34.6162,2,  34.6153,2,    115.1,2,   142.67,2,    37.95,2,     0.00,2,     2.67,2,   -999.0,9,   -999.0,9,-999.0000,9,  -999.00,      950