BOTTLE,20191015PRINUNIVRMK
EXPOCODE,SECT_ID,STNNBR,CASTNO,SAMPNO,BTLNBR,BTLNBR_FLAG_W,DATE,TIME,LATITUDE,LONGITUDE,DEPTH,CTDPRS,CTDTMP,CTDSAL,CTDSAL_FLAG_W,SALNTY,SALNTY_FLAG_W,OXYGEN,OXYGEN_FLAG_W,SILCAT,SILCAT_FLAG_W,NITRAT,NITRAT_FLAG_W,NITRIT,NITRIT_FLAG_W,PHSPHT,PHSPHT_FLAG_W,TCARBN,TCARBN_FLAG_W,ALKALI,ALKALI_FLAG_W,PH_TOT,PH_TOT_FLAG_W,PH_TMP,BTL_TIME
,,,,,,,,,,,METERS,DBAR,ITS-90,PSS-78,,PSS-78,,UMOL/KG,,UMOL/KG,,UMOL/KG,,UMOL/KG,,UMOL/KG,,UMOL/KG,,UMOL/KG,,,,DEG C,
  49UF20110108,KS1101,  2952,  1,     99,     99,2,20110120,1807, 24.2433, 134.9917, 5133,      0.0,  22.1534,  34.7950,2,-999.0000,9,    216.0,2,     1.40,2,     0.00,2,     0.00,2,     0.03,2,   -999.0,9,   -999.0,9,-999.0000,9,  -999.00,     1859
  49UF20110108,KS1101,  2952,  1,     33,  21993,2,20110120,1807, 24.2433, 134.9917, 5133,     10.8,  22.1630,  34.7954,2,  34.7932,2,    215.8,2,     1.41,2,     0.00,2,     0.00,2,     0.01,2,   1970.7,2,   2282.9,2,   8.0642,2,    25.00,     1913
  49UF20110108,KS1101,  2952,  1,     32,  21992,2,20110120,1807, 24.2433, 134.9917, 5133,     24.8,  22.1585,  34.7936,2,  34.7939,2,    215.5,2,     1.41,2,     0.00,2,     0.00,2,     0.01,2,   1971.0,2,   2281.6,2,   8.0599,2,    25.00,     1912
  49UF20110108,KS1101,  2952,  1,     31,  21991,2,20110120,1807, 24.2433, 134.9917, 5133,     49.1,  22.1379,  34.7852,2,  34.7863,2,    214.8,2,     1.41,2,     0.00,2,     0.00,2,     0.01,2,   1971.1,2,   2282.4,2,   8.0551,2,    25.00,     1907
  49UF20110108,KS1101,  2952,  1,     30,  21990,2,20110120,1807, 24.2433, 134.9917, 5133,     75.0,  22.1437,  34.7855,2,  34.7854,6,    215.3,6,     1.43,6,     0.00,6,     0.00,6,     0.02,6,   1970.2,2,   2282.5,2,   8.0571,2,    25.00,     1906
  49UF20110108,KS1101,  2952,  1,     29,  21989,2,20110120,1807, 24.2433, 134.9917, 5133,     99.0,  22.1367,  34.7824,2,  34.7837,2,    214.8,2,     1.41,2,     0.00,2,     0.00,2,     0.01,2,   1968.6,2,   2280.7,2,   8.0648,2,    25.00,     1905
  49UF20110108,KS1101,  2952,  1,     28,  21988,2,20110120,1807, 24.2433, 134.9917, 5133,    125.6,  22.1269,  34.7807,2,  34.7803,2,    213.8,2,     1.46,2,     0.03,2,     0.02,2,     0.02,2,   1974.4,2,   2282.9,2,   8.0528,2,    25.00,     1904
  49UF20110108,KS1101,  2952,  1,     24,  21984,2,20110120,1807, 24.2433, 134.9917, 5133,    151.8,  19.8385,  34.7515,2,  34.7508,2,    200.7,2,     2.21,2,     1.26,2,     0.02,2,     0.10,2,   2010.4,2,   2280.8,2,   7.9893,2,    25.00,     1903
  49UF20110108,KS1101,  2952,  1,     23,  21983,3,20110120,1807, 24.2433, 134.9917, 5133,    202.1,  18.7440,  34.7315,2,  34.7303,2,    200.0,2,     2.87,2,     3.00,2,     0.01,2,     0.21,2,   2020.3,2,   2280.7,2,   7.9655,2,    25.00,     1901
  49UF20110108,KS1101,  2952,  1,     22,  21982,2,20110120,1807, 24.2433, 134.9917, 5133,    252.2,  17.6273,  34.7110,2,  34.7101,2,    198.0,2,     4.29,2,     4.94,2,     0.01,2,     0.33,2,   2033.7,2,   2278.3,2,   7.9393,2,    25.00,     1858
  49UF20110108,KS1101,  2952,  1,     21,  21981,3,20110120,1807, 24.2433, 134.9917, 5133,    252.2,  17.6273,  34.7110,2,  34.7100,2,    198.2,2,     4.20,2,     4.94,2,     0.00,2,     0.34,2,   2034.7,2,   2275.9,2,   7.9368,2,    25.00,     1858
  49UF20110108,KS1101,  2952,  1,     20,  21980,3,20110120,1807, 24.2433, 134.9917, 5133,    302.0,  16.8298,  34.6910,2,  34.6901,2,    192.6,2,     5.79,2,     6.57,2,     0.00,2,     0.45,2,   2048.6,2,   2276.9,2,   7.9141,2,    25.00,     1856
  49UF20110108,KS1101,  2952,  1,     19,  21978,2,20110120,1807, 24.2433, 134.9917, 5133,    401.6,  14.0200,  34.5118,2,  34.5117,2,    184.3,2,    13.26,2,    11.67,2,     0.00,2,     0.80,2,   2085.0,2,   2274.5,2,   7.8341,2,    25.00,     1853
  49UF20110108,KS1101,  2952,  1,     15,  21974,3,20110120,1807, 24.2433, 134.9917, 5133,    503.9,  11.2955,  34.3259,2,  34.3265,2,    175.1,2,    24.23,2,    17.03,2,     0.00,2,     1.20,2,   2125.0,2,   2272.0,2,   7.7373,2,    25.00,     1849
  49UF20110108,KS1101,  2952,  1,     14,  21973,3,20110120,1807, 24.2433, 134.9917, 5133,    604.7,   7.9469,  34.1505,2,  34.1518,2,    145.4,2,    47.12,2,    25.51,2,     0.00,2,     1.83,2,   2189.7,2,   2284.3,2,   7.6078,2,    25.00,     1846
  49UF20110108,KS1101,  2952,  1,     13,  21972,2,20110120,1807, 24.2433, 134.9917, 5133,    705.9,   6.0294,  34.1324,2,  34.1310,2,    108.6,2,    70.28,2,    32.09,2,     0.00,2,     2.32,2,   2248.6,6,   2301.7,6,   7.4893,6,    25.00,     1842
  49UF20110108,KS1101,  2952,  1,     12,  21971,2,20110120,1807, 24.2433, 134.9917, 5133,    808.0,   4.8499,  34.2063,2,  34.2042,6,     74.8,6,    92.95,6,    37.06,6,     0.00,6,     2.68,6,   2296.4,2,   2328.1,2,   7.4269,2,    25.00,     1839
  49UF20110108,KS1101,  2952,  1,     11,  21970,2,20110120,1807, 24.2433, 134.9917, 5133,    907.7,   4.2482,  34.2813,2,  34.2809,2,     61.0,2,   106.74,2,    38.84,2,     0.00,2,     2.81,2,   2321.7,2,   2344.8,2,   7.3966,2,    25.00,     1836
  49UF20110108,KS1101,  2952,  1,     10,  21969,2,20110120,1807, 24.2433, 134.9917, 5133,   1009.1,   3.6354,  34.3651,2,  34.3643,2,     55.0,2,   120.92,2,    40.31,2,     0.00,2,     2.90,2,   2341.4,2,   2362.8,2,   7.3891,2,    25.00,     1833
  49UF20110108,KS1101,  2952,  1,      6,  21965,2,20110120,1807, 24.2433, 134.9917, 5133,   1213.8,   3.0449,  34.4593,2,  34.4590,2,     63.6,2,   132.91,2,    40.63,2,     0.00,2,     2.90,2,   2352.9,2,   2379.2,2,   7.4092,2,    25.00,     1827
  49UF20110108,KS1101,  2952,  1,      5,  21964,3,20110120,1807, 24.2433, 134.9917, 5133,   1412.6,   2.6842,  34.5192,2,  34.5183,2,     77.4,2,   137.92,2,    39.84,2,     0.00,2,     2.84,2,   2351.9,6,   2389.1,6,   7.4360,6,    25.00,     1823
  49UF20110108,KS1101,  2952,  1,      4,  21963,3,20110120,1807, 24.2433, 134.9917, 5133,   1617.4,   2.4096,  34.5690,2,  34.5679,2,     94.6,2,   139.38,2,    38.87,2,     0.00,2,     2.76,2,   2348.8,2,   2399.2,2,   7.4702,2,    25.00,     1817
  49UF20110108,KS1101,  2952,  1,      3,  21962,2,20110120,1807, 24.2433, 134.9917, 5133,   1617.4,   2.4096,  34.5690,2,  34.5681,2,     95.1,2,   139.50,2,    38.92,2,     0.00,2,     2.76,2,   2346.6,2,   2398.0,2,   7.4709,2,    25.00,     1817
  49UF20110108,KS1101,  2952,  1,      2,  21961,3,20110120,1807, 24.2433, 134.9917, 5133,   1820.0,   2.1664,  34.5969,2,  34.5960,2,    106.1,2,   141.24,2,    38.54,2,     0.00,2,     2.71,2,   2344.5,2,   2406.8,2,   7.4921,2,    25.00,     1812
  49UF20110108,KS1101,  2952,  1,      1,  21960,2,20110120,1807, 24.2433, 134.9917, 5133,   2023.6,   1.9702,  34.6187,2,  34.6173,2,    115.8,2,   142.49,2,    37.90,2,     0.00,2,     2.67,2,   2342.4,2,   2408.6,2,   7.5064,2,    25.00,     1807
  49UF20110108,KS1101,  2954,  1,     99,     99,2,20110121,0326, 24.2568, 136.1840, 4308,      0.0,  24.4988,  34.9717,2,-999.0000,9,    208.3,2,     1.12,2,     0.05,2,     0.00,2,     0.02,2,   -999.0,9,   -999.0,9,-999.0000,9,  -999.00,      425
  49UF20110108,KS1101,  2954,  1,     33,  21993,2,20110121,0326, 24.2568, 136.1840, 4308,     10.9,  24.4993,  34.9714,2,-999.0000,9,    207.8,2,     1.12,2,     0.04,2,     0.00,2,     0.01,2,   -999.0,9,   -999.0,9,-999.0000,9,  -999.00,      429
  49UF20110108,KS1101,  2954,  1,     32,  21992,2,20110121,0326, 24.2568, 136.1840, 4308,     26.0,  24.5014,  34.9716,2,-999.0000,9,    207.8,2,     1.13,2,     0.04,2,     0.00,2,     0.01,2,   -999.0,9,   -999.0,9,-999.0000,9,  -999.00,      427
  49UF20110108,KS1101,  2954,  1,     31,  21991,2,20110121,0326, 24.2568, 136.1840, 4308,     50.2,  24.4957,  34.9717,2,-999.0000,9,    207.6,6,     1.15,6,     0.06,6,     0.00,6,     0.02,6,   -999.0,9,   -999.0,9,-999.0000,9,  -999.00,      423
  49UF20110108,KS1101,  2954,  1,     30,  21990,2,20110121,0326, 24.2568, 136.1840, 4308,     76.2,  24.4907,  34.9736,2,-999.0000,9,    207.6,2,     1.11,2,     0.08,2,     0.00,2,     0.01,2,   -999.0,9,   -999.0,9,-999.0000,9,  -999.00,      421
  49UF20110108,KS1101,  2954,  1,     29,  21989,2,20110121,0326, 24.2568, 136.1840, 4308,    102.0,  24.3546,  34.9634,2,-999.0000,9,    208.0,2,     1.13,2,     0.05,2,     0.00,2,     0.01,2,   -999.0,9,   -999.0,9,-999.0000,9,  -999.00,      420
  49UF20110108,KS1101,  2954,  1,     28,  21988,2,20110121,0326, 24.2568, 136.1840, 4308,    125.9,  21.9835,  34.8597,2,-999.0000,9,    207.4,2,     1.67,2,     0.16,2,     0.12,2,     0.03,2,   -999.0,9,   -999.0,9,-999.0000,9,  -999.00,      419
  49UF20110108,KS1101,  2954,  1,     24,  21984,2,20110121,0326, 24.2568, 136.1840, 4308,    150.1,  20.6698,  34.8154,2,-999.0000,9,    200.3,2,     2.06,2,     0.75,2,     0.02,2,     0.08,2,   -999.0,9,   -999.0,9,-999.0000,9,  -999.00,      417
  49UF20110108,KS1101,  2954,  1,     23,  21983,2,20110121,0326, 24.2568, 136.1840, 4308,    150.1,  20.6698,  34.8154,2,-999.0000,9,   -999.0,5,     2.00,2,     0.82,2,     0.02,2,     0.07,2,   -999.0,9,   -999.0,9,-999.0000,9,  -999.00,      417
  49UF20110108,KS1101,  2954,  1,     22,  21982,2,20110121,0326, 24.2568, 136.1840, 4308,    201.7,  18.9820,  34.7579,2,-999.0000,9,    195.1,2,     2.83,2,     3.25,2,     0.01,2,     0.22,2,   -999.0,9,   -999.0,9,-999.0000,9,  -999.00,      415
  49UF20110108,KS1101,  2954,  1,     21,  21981,2,20110121,0326, 24.2568, 136.1840, 4308,    253.0,  17.9389,  34.7479,2,-999.0000,9,    191.3,2,     3.95,2,     5.01,2,     0.00,2,     0.33,2,   -999.0,9,   -999.0,9,-999.0000,9,  -999.00,      413
  49UF20110108,KS1101,  2954,  1,     20,  21980,2,20110121,0326, 24.2568, 136.1840, 4308,    304.4,  16.7570,  34.6937,2,-999.0000,9,    190.6,2,     6.11,2,     7.03,2,     0.00,2,     0.46,2,   -999.0,9,   -999.0,9,-999.0000,9,  -999.00,      411
  49UF20110108,KS1101,  2954,  1,     19,  21978,2,20110121,0326, 24.2568, 136.1840, 4308,    402.2,  14.3650,  34.5315,2,-999.0000,9,    185.2,2,    11.55,2,    11.04,2,     0.00,2,     0.76,2,   -999.0,9,   -999.0,9,-999.0000,9,  -999.00,      408
  49UF20110108,KS1101,  2954,  1,     15,  21974,2,20110121,0326, 24.2568, 136.1840, 4308,    504.2,  11.4277,  34.3260,2,-999.0000,9,    173.8,2,    22.01,2,    16.88,2,     0.00,2,     1.17,2,   -999.0,9,   -999.0,9,-999.0000,9,  -999.00,      405
  49UF20110108,KS1101,  2954,  1,     14,  21973,2,20110121,0326, 24.2568, 136.1840, 4308,    605.4,   7.9720,  34.1490,2,-999.0000,9,    142.2,2,    46.58,2,    25.92,2,     0.00,2,     1.85,2,   -999.0,9,   -999.0,9,-999.0000,9,  -999.00,      402
  49UF20110108,KS1101,  2954,  1,     13,  21972,2,20110121,0326, 24.2568, 136.1840, 4308,    706.4,   6.4771,  34.1238,2,-999.0000,9,    114.2,6,    63.72,6,    31.07,6,     0.00,6,     2.24,6,   -999.0,9,   -999.0,9,-999.0000,9,  -999.00,      359
  49UF20110108,KS1101,  2954,  1,     12,  21971,2,20110121,0326, 24.2568, 136.1840, 4308,    808.3,   5.1018,  34.1796,2,-999.0000,9,     79.7,2,    86.59,2,    36.43,2,     0.00,2,     2.61,2,   -999.0,9,   -999.0,9,-999.0000,9,  -999.00,      356
  49UF20110108,KS1101,  2954,  1,     11,  21970,2,20110121,0326, 24.2568, 136.1840, 4308,    909.2,   4.3893,  34.2699,2,-999.0000,9,     61.2,2,   102.90,2,    39.14,2,     0.00,2,     2.80,2,   -999.0,9,   -999.0,9,-999.0000,9,  -999.00,      353
  49UF20110108,KS1101,  2954,  1,     10,  21969,2,20110121,0326, 24.2568, 136.1840, 4308,   1011.1,   3.8985,  34.3449,2,-999.0000,9,     55.9,2,   114.22,2,    40.36,2,     0.00,2,     2.87,2,   -999.0,9,   -999.0,9,-999.0000,9,  -999.00,      350
  49UF20110108,KS1101,  2954,  1,      6,  21965,2,20110121,0326, 24.2568, 136.1840, 4308,   1212.4,   3.1023,  34.4432,2,-999.0000,9,     59.2,2,   131.98,2,    40.83,2,     0.00,2,     2.93,2,   -999.0,9,   -999.0,9,-999.0000,9,  -999.00,      345
  49UF20110108,KS1101,  2954,  1,      5,  21964,2,20110121,0326, 24.2568, 136.1840, 4308,   1212.4,   3.1023,  34.4432,2,-999.0000,9,     59.3,2,   132.06,2,    40.88,2,     0.00,2,     2.91,2,   -999.0,9,   -999.0,9,-999.0000,9,  -999.00,      345
  49UF20110108,KS1101,  2954,  1,      4,  21963,2,20110121,0326, 24.2568, 136.1840, 4308,   1415.5,   2.7371,  34.5026,2,-999.0000,9,     71.1,2,   138.22,2,    40.62,2,     0.00,2,     2.87,2,   -999.0,9,   -999.0,9,-999.0000,9,  -999.00,      340
  49UF20110108,KS1101,  2954,  1,      3,  21962,2,20110121,0326, 24.2568, 136.1840, 4308,   1618.3,   2.4078,  34.5562,2,-999.0000,9,     88.5,2,   141.04,2,    39.50,2,     0.00,2,     2.79,2,   -999.0,9,   -999.0,9,-999.0000,9,  -999.00,      335
  49UF20110108,KS1101,  2954,  1,      2,  21961,2,20110121,0326, 24.2568, 136.1840, 4308,   1819.4,   2.1955,  34.5913,2,-999.0000,9,    103.0,2,   141.47,2,    38.64,2,     0.00,2,     2.72,2,   -999.0,9,   -999.0,9,-999.0000,9,  -999.00,      331
  49UF20110108,KS1101,  2954,  1,      1,  21960,2,20110121,0326, 24.2568, 136.1840, 4308,   2020.5,   2.0433,  34.6100,2,-999.0000,9,    111.6,2,   141.98,2,    38.37,2,     0.00,2,     2.68,2,   -999.0,9,   -999.0,9,-999.0000,9,  -999.00,      326
  49UF20110108,KS1101,  2955,  1,     99,     99,2,20110121,0913, 24.0057, 136.9913, 3878,      0.0,  24.5351,  34.9628,2,-999.0000,9,    207.7,2,     1.01,2,     0.10,2,     0.00,2,     0.01,2,   -999.0,9,   -999.0,9,-999.0000,9,  -999.00,      954
  49UF20110108,KS1101,  2955,  1,     33,  21993,2,20110121,0913, 24.0057, 136.9913, 3878,     10.1,  24.5328,  34.9628,2,  34.9617,2,    207.0,2,     1.02,2,     0.14,2,     0.00,2,     0.01,2,   1960.8,2,   2293.7,2,   8.0945,2,    25.00,     1007
  49UF20110108,KS1101,  2955,  1,     32,  21992,2,20110121,0913, 24.0057, 136.9913, 3878,     25.4,  24.5407,  34.9622,2,  34.9613,6,    206.9,6,     1.06,6,     0.09,6,     0.00,6,     0.01,6,   1957.4,2,   2288.7,2,   8.0993,2,    25.00,     1005
  49UF20110108,KS1101,  2955,  1,     31,  21991,2,20110121,0913, 24.0057, 136.9913, 3878,     50.0,  24.5482,  34.9623,2,  34.9608,2,    207.0,2,     0.99,2,     0.14,2,     0.00,2,     0.01,2,   1960.4,2,   2292.3,2,   8.0954,2,    25.00,     1001
  49UF20110108,KS1101,  2955,  1,     30,  21990,2,20110121,0913, 24.0057, 136.9913, 3878,     75.8,  24.5552,  34.9624,2,  34.9607,2,    207.0,2,     1.03,2,     0.15,2,     0.00,2,     0.01,2,   1959.6,2,   2291.1,2,   8.0956,2,    25.00,     1000
  49UF20110108,KS1101,  2955,  1,     29,  21989,2,20110121,0913, 24.0057, 136.9913, 3878,    100.3,  24.5594,  34.9613,2,  34.9602,2,    207.2,2,     1.07,2,     0.05,2,     0.00,2,     0.02,2,   1961.0,2,   2292.6,2,   8.0968,2,    25.00,      959
  49UF20110108,KS1101,  2955,  1,     28,  21988,2,20110121,0913, 24.0057, 136.9913, 3878,    100.3,  24.5594,  34.9613,2,  34.9604,2,    207.1,2,     0.99,2,     0.14,2,     0.00,2,     0.01,2,   1960.7,2,   2289.8,2,   8.0925,2,    25.00,      959
  49UF20110108,KS1101,  2955,  1,     24,  21984,2,20110121,0913, 24.0057, 136.9913, 3878,    127.1,  22.3969,  34.8815,2,  34.8948,4,    205.3,2,     1.43,2,     0.31,2,     0.07,2,     0.03,2,   1990.8,2,   2285.1,2,   8.0414,2,    25.00,      958
  49UF20110108,KS1101,  2955,  1,     23,  21983,2,20110121,0913, 24.0057, 136.9913, 3878,    151.5,  20.3494,  34.8016,2,  34.8025,2,    202.1,2,     1.96,2,     1.00,2,     0.02,2,     0.07,2,   2010.3,2,   2281.1,2,   7.9941,2,    25.00,      957
  49UF20110108,KS1101,  2955,  1,     22,  21982,2,20110121,0913, 24.0057, 136.9913, 3878,    202.8,  18.8310,  34.7408,2,  34.7448,2,    199.3,2,     2.69,2,     2.80,2,     0.01,2,     0.19,2,   2022.4,2,   2277.2,2,   7.9715,2,    25.00,      955
  49UF20110108,KS1101,  2955,  1,     21,  21981,2,20110121,0913, 24.0057, 136.9913, 3878,    252.5,  17.8206,  34.7177,2,  34.7168,2,    197.9,2,     3.94,2,     4.88,2,     0.00,2,     0.32,2,   2032.6,2,   2276.9,2,   7.9394,2,    25.00,      954
  49UF20110108,KS1101,  2955,  1,     20,  21980,2,20110121,0913, 24.0057, 136.9913, 3878,    301.7,  17.3297,  34.6932,2,  34.6929,2,    204.2,2,     4.20,2,     5.05,2,     0.01,2,     0.33,2,   2032.9,2,   2276.9,2,   7.9434,2,    25.00,      952
  49UF20110108,KS1101,  2955,  1,     19,  21978,2,20110121,0913, 24.0057, 136.9913, 3878,    402.9,  14.7435,  34.5502,2,  34.5507,2,    190.1,2,     9.75,2,    10.00,2,     0.00,2,     0.68,2,   2074.7,2,   2272.0,2,   7.8559,2,    25.00,      950
  49UF20110108,KS1101,  2955,  1,     15,  21974,2,20110121,0913, 24.0057, 136.9913, 3878,    503.5,  11.9393,  34.3417,2,  34.3428,2,    180.8,2,    17.78,2,    15.36,2,     0.00,2,     1.08,2,   2111.6,2,   2267.4,2,   7.7637,2,    25.00,      947
  49UF20110108,KS1101,  2955,  1,     14,  21973,2,20110121,0913, 24.0057, 136.9913, 3878,    605.8,   9.4311,  34.2074,2,  34.2102,6,    148.7,6,    32.52,6,    22.77,6,     0.00,6,     1.63,6,   2164.6,6,   2275.2,6,   7.6508,2,    25.00,      945
  49UF20110108,KS1101,  2955,  1,     13,  21972,2,20110121,0913, 24.0057, 136.9913, 3878,    706.7,   6.5623,  34.1248,2,  34.1245,2,    115.6,2,    62.49,2,    31.03,2,     0.00,2,     2.22,2,   2234.6,2,   2296.6,2,   7.5167,6,    25.00,      942
  49UF20110108,KS1101,  2955,  1,     12,  21971,2,20110121,0913, 24.0057, 136.9913, 3878,    806.9,   5.2487,  34.1693,2,  34.1685,2,     82.8,2,    84.18,2,    36.18,2,     0.00,2,     2.59,2,   2280.6,2,   2318.0,2,   7.4440,2,    25.00,      940
  49UF20110108,KS1101,  2955,  1,     11,  21970,2,20110121,0913, 24.0057, 136.9913, 3878,    907.9,   4.5390,  34.2485,2,  34.2481,2,     65.0,2,    99.26,2,    38.89,2,     0.00,2,     2.78,2,   2311.5,2,   2336.5,2,   7.4039,2,    25.00,      937
  49UF20110108,KS1101,  2955,  1,     10,  21969,2,20110121,0913, 24.0057, 136.9913, 3878,    907.9,   4.5390,  34.2485,2,  34.2484,2,     64.8,2,    99.59,2,    38.89,2,     0.00,2,     2.78,2,   2312.1,2,   2336.0,2,   7.4047,2,    25.00,      937
  49UF20110108,KS1101,  2955,  1,      6,  21965,2,20110121,0913, 24.0057, 136.9913, 3878,   1009.0,   3.9784,  34.3357,2,  34.3371,2,     56.1,2,   112.14,2,    40.48,2,     0.00,2,     2.88,2,   2331.7,2,   2352.3,2,   7.3931,2,    25.00,      935
  49UF20110108,KS1101,  2955,  1,      5,  21964,2,20110121,0913, 24.0057, 136.9913, 3878,   1211.3,   3.3233,  34.4328,2,  34.4318,2,     59.4,2,   126.46,2,    40.94,2,     0.00,2,     2.92,2,   2348.9,6,   2372.3,6,   7.4028,2,    25.00,      930
  49UF20110108,KS1101,  2955,  1,      4,  21963,2,20110121,0913, 24.0057, 136.9913, 3878,   1412.7,   2.7939,  34.5098,2,  34.5090,2,     74.1,2,   135.42,2,    40.45,2,     0.00,2,     2.86,2,   2352.6,2,   2386.2,2,   7.4329,6,    25.00,      926
  49UF20110108,KS1101,  2955,  1,      3,  21962,2,20110121,0913, 24.0057, 136.9913, 3878,   1615.7,   2.4019,  34.5655,2,  34.5638,2,     92.7,2,   139.65,2,    39.50,2,     0.00,2,     2.78,2,   2349.1,2,   2399.4,2,   7.4675,2,    25.00,      922
  49UF20110108,KS1101,  2955,  1,      2,  21961,2,20110121,0913, 24.0057, 136.9913, 3878,   1818.8,   2.1926,  34.5969,2,  34.5962,2,    106.0,4,   140.33,2,    38.85,2,     0.00,2,     2.72,2,   2345.0,2,   2403.4,2,   7.4910,2,    25.00,      918
  49UF20110108,KS1101,  2955,  1,      1,  21960,2,20110121,0913, 24.0057, 136.9913, 3878,   2020.8,   2.0257,  34.6155,2,  34.6145,2,    114.0,2,   141.49,2,    38.50,2,     0.00,2,     2.69,2,   2341.8,2,   2402.1,2,   7.5054,2,    25.00,      913