BOTTLE,20191015PRINUNIVRMK
EXPOCODE,SECT_ID,STNNBR,CASTNO,SAMPNO,BTLNBR,BTLNBR_FLAG_W,DATE,TIME,LATITUDE,LONGITUDE,DEPTH,CTDPRS,CTDTMP,CTDSAL,CTDSAL_FLAG_W,SALNTY,SALNTY_FLAG_W,OXYGEN,OXYGEN_FLAG_W,SILCAT,SILCAT_FLAG_W,NITRAT,NITRAT_FLAG_W,NITRIT,NITRIT_FLAG_W,PHSPHT,PHSPHT_FLAG_W,TCARBN,TCARBN_FLAG_W,ALKALI,ALKALI_FLAG_W,PH_TOT,PH_TOT_FLAG_W,PH_TMP,BTL_TIME
,,,,,,,,,,,METERS,DBAR,ITS-90,PSS-78,,PSS-78,,UMOL/KG,,UMOL/KG,,UMOL/KG,,UMOL/KG,,UMOL/KG,,UMOL/KG,,UMOL/KG,,,,DEG C,
  49UF20110108,KS1101,  2924,  1,     99,     99,2,20110113,1456, 28.1082, 127.3563,  996,      0.0,  22.2057,  34.6810,2,-999.0000,9,    212.2,2,     1.78,2,     0.53,2,     0.22,2,     0.07,2,   -999.0,9,   -999.0,9,-999.0000,9,  -999.00,     1515
  49UF20110108,KS1101,  2924,  1,     32,  21992,2,20110113,1456, 28.1082, 127.3563,  996,     10.0,  22.2111,  34.6808,2,  34.6804,2,    210.2,2,     1.79,2,     0.53,2,     0.22,2,     0.07,2,   -999.0,9,   -999.0,9,-999.0000,9,  -999.00,     1535
  49UF20110108,KS1101,  2924,  1,     31,  21991,2,20110113,1456, 28.1082, 127.3563,  996,     20.9,  22.2209,  34.6810,2,-999.0000,9,    209.8,2,     1.82,2,     0.53,2,     0.22,2,     0.08,2,   -999.0,9,   -999.0,9,-999.0000,9,  -999.00,     1533
  49UF20110108,KS1101,  2924,  1,     30,  21990,2,20110113,1456, 28.1082, 127.3563,  996,     30.6,  22.2223,  34.6804,2,-999.0000,9,    210.1,2,     1.77,2,     0.50,2,     0.22,2,     0.07,2,   -999.0,9,   -999.0,9,-999.0000,9,  -999.00,     1532
  49UF20110108,KS1101,  2924,  1,     29,  21989,2,20110113,1456, 28.1082, 127.3563,  996,     50.4,  22.2304,  34.6813,2,-999.0000,9,    209.9,2,     1.78,2,     0.52,2,     0.22,2,     0.07,2,   -999.0,9,   -999.0,9,-999.0000,9,  -999.00,     1527
  49UF20110108,KS1101,  2924,  1,     28,  21988,2,20110113,1456, 28.1082, 127.3563,  996,     50.4,  22.2304,  34.6813,2,-999.0000,9,    210.0,2,     1.77,2,     0.49,2,     0.22,2,     0.07,2,   -999.0,9,   -999.0,9,-999.0000,9,  -999.00,     1527
  49UF20110108,KS1101,  2924,  1,     23,  21983,2,20110113,1456, 28.1082, 127.3563,  996,     75.4,  22.2229,  34.6790,2,-999.0000,9,    209.4,2,     1.79,2,     0.48,2,     0.22,2,     0.07,2,   -999.0,9,   -999.0,9,-999.0000,9,  -999.00,     1525
  49UF20110108,KS1101,  2924,  1,     22,  21982,2,20110113,1456, 28.1082, 127.3563,  996,    101.1,  22.1179,  34.6912,2,  34.6914,2,    208.3,6,     1.74,6,     0.58,6,     0.22,6,     0.08,6,   -999.0,9,   -999.0,9,-999.0000,9,  -999.00,     1524
  49UF20110108,KS1101,  2924,  1,     21,  21981,2,20110113,1456, 28.1082, 127.3563,  996,    126.0,  22.0666,  34.7084,2,  34.7099,6,    204.9,2,     1.72,2,     0.75,2,     0.18,2,     0.09,2,   -999.0,9,   -999.0,9,-999.0000,9,  -999.00,     1523
  49UF20110108,KS1101,  2924,  1,     20,  21980,2,20110113,1456, 28.1082, 127.3563,  996,    151.3,  21.4483,  34.7745,2,-999.0000,9,    193.7,2,     2.10,2,     1.75,2,     0.04,2,     0.14,2,   -999.0,9,   -999.0,9,-999.0000,9,  -999.00,     1522
  49UF20110108,KS1101,  2924,  1,     19,  21978,2,20110113,1456, 28.1082, 127.3563,  996,    202.3,  19.4772,  34.7758,2,  34.7743,2,    189.6,2,     3.12,2,     3.42,2,     0.01,2,     0.24,2,   -999.0,9,   -999.0,9,-999.0000,9,  -999.00,     1520
  49UF20110108,KS1101,  2924,  1,     14,  21973,2,20110113,1456, 28.1082, 127.3563,  996,    251.9,  17.9555,  34.7008,2,-999.0000,9,    179.9,2,     7.17,2,     6.70,2,     0.01,2,     0.47,2,   -999.0,9,   -999.0,9,-999.0000,9,  -999.00,     1518
  49UF20110108,KS1101,  2924,  1,     13,  21972,2,20110113,1456, 28.1082, 127.3563,  996,    302.9,  16.4860,  34.6653,2,-999.0000,9,    183.3,2,     8.13,2,     8.10,2,     0.00,2,     0.56,2,   -999.0,9,   -999.0,9,-999.0000,9,  -999.00,     1516
  49UF20110108,KS1101,  2924,  1,     12,  21971,2,20110113,1456, 28.1082, 127.3563,  996,    404.2,  12.9489,  34.4455,2,  34.4469,2,    170.0,2,    19.19,2,    14.82,2,     0.00,2,     1.05,2,   -999.0,9,   -999.0,9,-999.0000,9,  -999.00,     1513
  49UF20110108,KS1101,  2924,  1,     11,  21970,2,20110113,1456, 28.1082, 127.3563,  996,    506.8,  10.2649,  34.3204,2,-999.0000,9,    145.4,2,    35.87,2,    21.66,2,     0.00,2,     1.55,2,   -999.0,9,   -999.0,9,-999.0000,9,  -999.00,     1510
  49UF20110108,KS1101,  2924,  1,     10,  21969,2,20110113,1456, 28.1082, 127.3563,  996,    506.8,  10.2649,  34.3204,2,-999.0000,9,    146.0,2,    35.77,2,    21.67,2,     0.00,2,     1.55,2,   -999.0,9,   -999.0,9,-999.0000,9,  -999.00,     1510
  49UF20110108,KS1101,  2924,  1,      5,  21964,2,20110113,1456, 28.1082, 127.3563,  996,    605.7,   7.9235,  34.3243,2,  34.3241,2,    113.0,2,    62.11,2,    28.62,2,     0.00,2,     2.07,2,   -999.0,9,   -999.0,9,-999.0000,9,  -999.00,     1507
  49UF20110108,KS1101,  2924,  1,      4,  21963,2,20110113,1456, 28.1082, 127.3563,  996,    706.6,   5.9365,  34.2821,2,-999.0000,9,     88.6,2,    81.11,2,    34.16,2,     0.00,2,     2.47,2,   -999.0,9,   -999.0,9,-999.0000,9,  -999.00,     1504
  49UF20110108,KS1101,  2924,  1,      3,  21962,2,20110113,1456, 28.1082, 127.3563,  996,    807.5,   5.1651,  34.3343,2,  34.3355,6,     79.3,6,    94.99,6,    36.34,6,     0.00,6,     2.62,6,   -999.0,9,   -999.0,9,-999.0000,9,  -999.00,     1502
  49UF20110108,KS1101,  2924,  1,      2,  21961,2,20110113,1456, 28.1082, 127.3563,  996,    909.8,   4.7269,  34.4030,2,-999.0000,9,     77.8,2,   105.00,2,    36.99,2,     0.00,2,     2.66,2,   -999.0,9,   -999.0,9,-999.0000,9,  -999.00,     1459
  49UF20110108,KS1101,  2924,  1,      1,  21960,2,20110113,1456, 28.1082, 127.3563,  996,    989.7,   4.3768,  34.4103,2,  34.4093,2,     74.4,2,   109.73,2,    37.94,2,     0.00,2,     2.73,2,   -999.0,9,   -999.0,9,-999.0000,9,  -999.00,     1456
  49UF20110108,KS1101,  2927,  1,     99,     99,2,20110113,2151, 27.7907, 127.7937,  858,      0.0,  22.0265,  34.6592,2,-999.0000,9,    212.0,2,     1.95,2,     0.51,2,     0.25,2,     0.08,2,   -999.0,9,   -999.0,9,-999.0000,9,  -999.00,     2215
  49UF20110108,KS1101,  2927,  1,     32,  21992,2,20110113,2151, 27.7907, 127.7937,  858,     10.0,  22.0342,  34.6589,2,  34.6588,2,    210.8,2,     1.91,2,     0.42,2,     0.26,2,     0.08,2,   1970.0,2,   2271.2,2,   8.0473,2,    25.00,     2222
  49UF20110108,KS1101,  2927,  1,     31,  21991,2,20110113,2151, 27.7907, 127.7937,  858,     20.3,  22.0471,  34.6577,2,  34.6593,2,    211.0,2,     1.91,2,     0.48,2,     0.26,2,     0.08,2,   1969.8,2,   2273.7,2,   8.0442,2,    25.00,     2222
  49UF20110108,KS1101,  2927,  1,     30,  21990,2,20110113,2151, 27.7907, 127.7937,  858,     30.5,  22.0410,  34.6592,2,  34.6592,2,    210.9,2,     1.90,2,     0.48,2,     0.26,2,     0.08,2,   1969.3,2,   2273.1,2,   8.0544,2,    25.00,     2221
  49UF20110108,KS1101,  2927,  1,     29,  21989,2,20110113,2151, 27.7907, 127.7937,  858,     30.5,  22.0410,  34.6592,2,  34.6592,2,    211.0,2,     1.91,2,     0.46,2,     0.26,2,     0.08,2,   1969.7,2,   2272.2,2,   8.0500,2,    25.00,     2221
  49UF20110108,KS1101,  2927,  1,     28,  21988,2,20110113,2151, 27.7907, 127.7937,  858,     50.6,  22.0526,  34.6641,2,  34.6630,2,    210.6,2,     1.89,2,     0.49,2,     0.24,2,     0.08,2,   1972.7,2,   2276.0,2,   8.0512,2,    25.00,     2218
  49UF20110108,KS1101,  2927,  1,     22,  21982,2,20110113,2151, 27.7907, 127.7937,  858,     75.3,  22.0446,  34.6651,2,  34.6636,6,    210.7,6,     1.95,6,     0.52,6,     0.24,6,     0.08,6,   1971.0,2,   2273.2,2,   8.0518,2,    25.00,     2216
  49UF20110108,KS1101,  2927,  1,     21,  21981,2,20110113,2151, 27.7907, 127.7937,  858,    101.1,  22.0070,  34.6711,2,-999.0000,5,    210.9,2,     1.90,2,     0.51,2,     0.21,2,     0.08,2,   1971.4,2,   2272.7,2,   8.0379,2,    25.00,     2215
  49UF20110108,KS1101,  2927,  1,     20,  21980,2,20110113,2151, 27.7907, 127.7937,  858,    126.5,  21.9642,  34.6713,2,  34.6717,2,    210.0,2,     1.98,2,     0.56,2,     0.21,2,     0.08,2,   1973.6,2,   2272.6,2,   8.0474,2,    25.00,     2214
  49UF20110108,KS1101,  2927,  1,     19,  21978,2,20110113,2151, 27.7907, 127.7937,  858,    151.8,  21.3228,  34.7910,2,  34.7912,2,    191.2,2,     2.15,2,     1.73,2,     0.03,2,     0.14,2,   2009.8,2,   2277.4,2,   7.9998,2,    25.00,     2213
  49UF20110108,KS1101,  2927,  1,     14,  21973,2,20110113,2151, 27.7907, 127.7937,  858,    201.5,  19.2551,  34.7182,2,  34.7184,2,    179.7,2,     5.86,2,     5.43,2,     0.01,2,     0.39,2,   2031.6,2,   2281.4,2,   7.9393,2,    25.00,     2211
  49UF20110108,KS1101,  2927,  1,     13,  21972,2,20110113,2151, 27.7907, 127.7937,  858,    252.5,  18.3962,  34.7438,2,-999.0000,5,    187.8,2,     4.56,2,     4.98,2,     0.00,2,     0.36,2,   2031.6,2,   2279.4,2,   7.9478,2,    25.00,     2209
  49UF20110108,KS1101,  2927,  1,     12,  21971,2,20110113,2151, 27.7907, 127.7937,  858,    301.8,  16.9745,  34.6865,2,  34.6861,2,    182.4,2,     7.51,2,     7.54,2,     0.00,2,     0.53,2,   2053.6,2,   2273.0,2,   7.9046,2,    25.00,     2208
  49UF20110108,KS1101,  2927,  1,     11,  21970,2,20110113,2151, 27.7907, 127.7937,  858,    301.8,  16.9745,  34.6865,2,  34.6861,2,    182.6,2,     7.44,2,     7.42,2,     0.00,2,     0.53,2,   2052.6,2,   2274.4,2,   7.9061,2,    25.00,     2208
  49UF20110108,KS1101,  2927,  1,     10,  21969,2,20110113,2151, 27.7907, 127.7937,  858,    404.0,  14.2537,  34.5287,2,  34.5303,2,    173.1,2,    14.97,2,    12.29,2,     0.00,2,     0.87,2,   2093.6,2,   2276.1,2,   7.8375,2,    25.00,     2205
  49UF20110108,KS1101,  2927,  1,      5,  21964,2,20110113,2151, 27.7907, 127.7937,  858,    503.9,  11.7887,  34.3982,2,  34.3967,2,    154.3,2,    27.91,2,    18.21,2,     0.00,2,     1.31,2,   2137.6,2,   2281.2,2,   7.7513,2,    25.00,     2202
  49UF20110108,KS1101,  2927,  1,      4,  21963,2,20110113,2151, 27.7907, 127.7937,  858,    604.7,   9.0992,  34.3151,2,  34.3161,2,    132.1,2,    48.97,2,    24.71,2,     0.00,2,     1.79,2,   2192.0,2,   2295.6,2,   7.6845,2,    25.00,     2159
  49UF20110108,KS1101,  2927,  1,      3,  21962,2,20110113,2151, 27.7907, 127.7937,  858,    706.4,   7.3716,  34.3168,2,  34.3153,6,    108.9,6,    68.47,6,    29.98,6,     0.00,6,     2.16,6,   2238.6,2,   2312.9,2,   7.6192,2,    25.00,     2156
  49UF20110108,KS1101,  2927,  1,      2,  21961,3,20110113,2151, 27.7907, 127.7937,  858,    807.0,   5.6454,  34.3334,2,  34.3335,2,     85.7,2,    88.93,2,    34.85,2,     0.00,2,     2.51,2,   2284.2,2,   2334.1,2,   7.5658,2,    25.00,     2153
  49UF20110108,KS1101,  2927,  1,      1,  21960,2,20110113,2151, 27.7907, 127.7937,  858,    867.3,   5.1396,  34.3686,2,  34.3647,2,     80.9,2,    96.68,2,    36.07,2,     0.00,2,     2.59,2,   2298.7,6,   2347.1,6,   7.5512,6,    25.00,     2151
  49UF20110108,KS1101,  2929,  1,     99,     99,2,20110114,0213, 27.4997, 128.2458, 1028,      0.0,  21.2957,  34.7029,2,-999.0000,9,    215.2,2,     1.98,2,     0.83,2,     0.14,2,     0.08,2,   -999.0,9,   -999.0,9,-999.0000,9,  -999.00,      242
  49UF20110108,KS1101,  2929,  1,     32,  21992,2,20110114,0213, 27.4997, 128.2458, 1028,     10.5,  21.1847,  34.7081,2,  34.7048,2,    215.6,2,     1.97,2,     0.74,2,     0.15,2,     0.08,2,   -999.0,9,   -999.0,9,-999.0000,9,  -999.00,      251
  49UF20110108,KS1101,  2929,  1,     31,  21991,2,20110114,0213, 27.4997, 128.2458, 1028,     10.5,  21.1847,  34.7081,2,  34.7057,2,    214.8,2,     1.94,2,     0.80,2,     0.14,2,     0.07,2,   -999.0,9,   -999.0,9,-999.0000,9,  -999.00,      251
  49UF20110108,KS1101,  2929,  1,     30,  21990,2,20110114,0213, 27.4997, 128.2458, 1028,     21.0,  20.8712,  34.7212,2,-999.0000,9,    215.0,2,     1.96,2,     1.01,2,     0.15,2,     0.09,2,   -999.0,9,   -999.0,9,-999.0000,9,  -999.00,      250
  49UF20110108,KS1101,  2929,  1,     29,  21989,2,20110114,0213, 27.4997, 128.2458, 1028,     30.7,  20.7306,  34.7285,2,-999.0000,9,    214.8,2,     2.03,2,     1.09,2,     0.15,2,     0.10,2,   -999.0,9,   -999.0,9,-999.0000,9,  -999.00,      249
  49UF20110108,KS1101,  2929,  1,     28,  21988,2,20110114,0213, 27.4997, 128.2458, 1028,     50.6,  20.5313,  34.7396,2,-999.0000,9,    211.1,6,     2.13,6,     1.45,6,     0.15,6,     0.12,6,   -999.0,9,   -999.0,9,-999.0000,9,  -999.00,      245
  49UF20110108,KS1101,  2929,  1,     23,  21983,2,20110114,0213, 27.4997, 128.2458, 1028,     75.5,  20.4761,  34.7424,2,  34.7428,2,    211.7,2,     2.18,2,     1.54,2,     0.14,2,     0.11,2,   -999.0,9,   -999.0,9,-999.0000,9,  -999.00,      244
  49UF20110108,KS1101,  2929,  1,     22,  21982,2,20110114,0213, 27.4997, 128.2458, 1028,    101.9,  20.3261,  34.7482,2,  34.7477,2,    206.0,2,     2.41,2,     2.06,2,     0.11,2,     0.15,2,   -999.0,9,   -999.0,9,-999.0000,9,  -999.00,      243
  49UF20110108,KS1101,  2929,  1,     21,  21981,2,20110114,0213, 27.4997, 128.2458, 1028,    126.3,  20.1883,  34.7506,2,-999.0000,9,    197.4,2,     2.83,2,     2.85,2,     0.06,2,     0.19,2,   -999.0,9,   -999.0,9,-999.0000,9,  -999.00,      241
  49UF20110108,KS1101,  2929,  1,     20,  21980,3,20110114,0213, 27.4997, 128.2458, 1028,    152.4,  19.6267,  34.7495,2,-999.0000,9,    190.0,2,     3.48,2,     3.93,2,     0.02,2,     0.26,2,   -999.0,9,   -999.0,9,-999.0000,9,  -999.00,      240
  49UF20110108,KS1101,  2929,  1,     19,  21978,2,20110114,0213, 27.4997, 128.2458, 1028,    202.7,  18.5707,  34.7388,2,  34.7390,2,    187.8,2,     4.52,2,     5.20,2,     0.01,2,     0.35,2,   -999.0,9,   -999.0,9,-999.0000,9,  -999.00,      238
  49UF20110108,KS1101,  2929,  1,     14,  21973,2,20110114,0213, 27.4997, 128.2458, 1028,    252.3,  17.5242,  34.7099,2,-999.0000,9,    185.0,2,     6.14,2,     6.61,2,     0.01,2,     0.45,2,   -999.0,9,   -999.0,9,-999.0000,9,  -999.00,      236
  49UF20110108,KS1101,  2929,  1,     13,  21972,2,20110114,0213, 27.4997, 128.2458, 1028,    252.3,  17.5242,  34.7099,2,-999.0000,9,    186.2,2,     6.13,2,     6.72,2,     0.01,2,     0.45,2,   -999.0,9,   -999.0,9,-999.0000,9,  -999.00,      236
  49UF20110108,KS1101,  2929,  1,     12,  21971,2,20110114,0213, 27.4997, 128.2458, 1028,    303.9,  16.7624,  34.6764,2,-999.0000,9,    183.3,2,     7.61,2,     7.91,2,     0.01,2,     0.53,2,   -999.0,9,   -999.0,9,-999.0000,9,  -999.00,      234
  49UF20110108,KS1101,  2929,  1,     11,  21970,2,20110114,0213, 27.4997, 128.2458, 1028,    403.2,  13.7559,  34.5045,2,  34.5048,2,    173.4,2,    17.18,2,    13.41,2,     0.01,2,     0.93,2,   -999.0,9,   -999.0,9,-999.0000,9,  -999.00,      232
  49UF20110108,KS1101,  2929,  1,     10,  21969,2,20110114,0213, 27.4997, 128.2458, 1028,    504.4,  11.0318,  34.3614,2,-999.0000,9,    154.8,6,    31.61,6,    19.52,6,     0.00,6,     1.39,6,   -999.0,9,   -999.0,9,-999.0000,9,  -999.00,      229
  49UF20110108,KS1101,  2929,  1,      5,  21964,2,20110114,0213, 27.4997, 128.2458, 1028,    604.8,   8.7786,  34.3236,2,  34.3244,2,    127.6,2,    53.27,2,    25.81,2,     0.00,2,     1.85,2,   -999.0,9,   -999.0,9,-999.0000,9,  -999.00,      226
  49UF20110108,KS1101,  2929,  1,      4,  21963,2,20110114,0213, 27.4997, 128.2458, 1028,    705.9,   7.5128,  34.3290,2,-999.0000,9,    110.7,2,    67.76,2,    29.56,2,     0.00,2,     2.12,2,   -999.0,9,   -999.0,9,-999.0000,9,  -999.00,      223
  49UF20110108,KS1101,  2929,  1,      3,  21962,2,20110114,0213, 27.4997, 128.2458, 1028,    807.3,   6.4712,  34.3308,2,  34.3296,2,     97.4,2,    79.37,2,    32.51,2,     0.00,2,     2.33,2,   -999.0,9,   -999.0,9,-999.0000,9,  -999.00,      220
  49UF20110108,KS1101,  2929,  1,      2,  21961,2,20110114,0213, 27.4997, 128.2458, 1028,    909.3,   5.8404,  34.3282,2,-999.0000,9,     88.6,2,    86.87,2,    34.28,2,     0.00,2,     2.47,2,   -999.0,9,   -999.0,9,-999.0000,9,  -999.00,      217
  49UF20110108,KS1101,  2929,  1,      1,  21960,2,20110114,0213, 27.4997, 128.2458, 1028,   1025.7,   5.5085,  34.3241,2,  34.3234,2,     84.3,2,    90.86,2,    35.26,2,     0.01,2,     2.54,2,   -999.0,9,   -999.0,9,-999.0000,9,  -999.00,      213
  49UF20110108,KS1101,  2930,  1,     99,     99,2,20110117,0559, 26.0548, 127.8927,  489,      0.0,  21.9072,  34.7249,2,-999.0000,9,    217.1,2,     1.42,2,     0.11,2,     0.05,2,     0.04,2,   -999.0,9,   -999.0,9,-999.0000,9,  -999.00,      609
  49UF20110108,KS1101,  2930,  1,     31,  21991,2,20110117,0559, 26.0548, 127.8927,  489,     10.4,  21.9198,  34.7245,2,  34.7245,2,    214.8,2,     1.42,2,     0.11,2,     0.05,2,     0.03,2,   -999.0,9,   -999.0,9,-999.0000,9,  -999.00,      623
  49UF20110108,KS1101,  2930,  1,     30,  21990,2,20110117,0559, 26.0548, 127.8927,  489,     25.0,  21.9195,  34.7247,2,-999.0000,9,    215.3,2,     1.40,2,     0.10,2,     0.05,2,     0.04,2,   -999.0,9,   -999.0,9,-999.0000,9,  -999.00,      622
  49UF20110108,KS1101,  2930,  1,     29,  21989,2,20110117,0559, 26.0548, 127.8927,  489,     49.9,  21.8827,  34.7251,2,-999.0000,9,    214.9,6,     1.45,6,     0.19,6,     0.05,6,     0.04,6,   -999.0,9,   -999.0,9,-999.0000,9,  -999.00,      617
  49UF20110108,KS1101,  2930,  1,     28,  21988,2,20110117,0559, 26.0548, 127.8927,  489,     73.8,  21.8199,  34.7272,2,-999.0000,9,    214.3,2,     1.43,2,     0.17,2,     0.05,2,     0.04,2,   -999.0,9,   -999.0,9,-999.0000,9,  -999.00,      615
  49UF20110108,KS1101,  2930,  1,     21,  21981,2,20110117,0559, 26.0548, 127.8927,  489,    100.9,  21.4700,  34.7542,2,  34.7526,2,    202.9,3,     2.03,2,     1.19,2,     0.07,2,     0.10,2,   -999.0,9,   -999.0,9,-999.0000,9,  -999.00,      613
  49UF20110108,KS1101,  2930,  1,     20,  21980,2,20110117,0559, 26.0548, 127.8927,  489,    100.9,  21.4700,  34.7542,2,  34.7538,2,    199.5,2,     2.02,2,     1.25,2,     0.06,2,     0.11,2,   -999.0,9,   -999.0,9,-999.0000,9,  -999.00,      613
  49UF20110108,KS1101,  2930,  1,     19,  21978,2,20110117,0559, 26.0548, 127.8927,  489,    125.8,  20.8745,  34.7739,2,-999.0000,9,    192.9,2,     2.52,2,     2.07,2,     0.03,2,     0.16,2,   -999.0,9,   -999.0,9,-999.0000,9,  -999.00,      612
  49UF20110108,KS1101,  2930,  1,     12,  21971,2,20110117,0559, 26.0548, 127.8927,  489,    152.2,  20.4721,  34.7883,2,-999.0000,9,    191.3,6,     2.47,6,     2.23,6,     0.02,6,     0.16,6,   -999.0,9,   -999.0,9,-999.0000,9,  -999.00,      610
  49UF20110108,KS1101,  2930,  1,     11,  21970,2,20110117,0559, 26.0548, 127.8927,  489,    200.9,  19.2232,  34.7710,2,  34.7709,2,    190.6,2,     3.11,2,     3.54,2,     0.01,2,     0.24,2,   -999.0,9,   -999.0,9,-999.0000,9,  -999.00,      608
  49UF20110108,KS1101,  2930,  1,     10,  21969,2,20110117,0559, 26.0548, 127.8927,  489,    253.3,  18.1695,  34.7347,2,-999.0000,9,    186.0,2,     4.92,2,     5.34,2,     0.01,2,     0.36,2,   -999.0,9,   -999.0,9,-999.0000,9,  -999.00,      606
  49UF20110108,KS1101,  2930,  1,      3,  21962,2,20110117,0559, 26.0548, 127.8927,  489,    303.7,  16.3642,  34.6587,2,-999.0000,9,    181.9,2,     8.59,2,     8.39,2,     0.01,2,     0.57,2,   -999.0,9,   -999.0,9,-999.0000,9,  -999.00,      603
  49UF20110108,KS1101,  2930,  1,      2,  21961,3,20110117,0559, 26.0548, 127.8927,  489,    303.7,  16.3642,  34.6587,2,-999.0000,9,    182.1,2,     8.59,2,     8.32,2,     0.01,2,     0.57,2,   -999.0,9,   -999.0,9,-999.0000,9,  -999.00,      603
  49UF20110108,KS1101,  2930,  1,      1,  21960,2,20110117,0559, 26.0548, 127.8927,  489,    455.6,  12.0382,  34.3727,2,  34.3729,2,    173.3,2,    19.97,2,    15.78,2,     0.01,2,     1.10,2,   -999.0,9,   -999.0,9,-999.0000,9,  -999.00,      559