BOTTLE,20191015PRINUNIVRMK
EXPOCODE,SECT_ID,STNNBR,CASTNO,SAMPNO,BTLNBR,BTLNBR_FLAG_W,DATE,TIME,LATITUDE,LONGITUDE,DEPTH,CTDPRS,CTDTMP,CTDSAL,CTDSAL_FLAG_W,SALNTY,SALNTY_FLAG_W,OXYGEN,OXYGEN_FLAG_W,SILCAT,SILCAT_FLAG_W,NITRAT,NITRAT_FLAG_W,NITRIT,NITRIT_FLAG_W,PHSPHT,PHSPHT_FLAG_W,TCARBN,TCARBN_FLAG_W,ALKALI,ALKALI_FLAG_W,PH_TOT,PH_TOT_FLAG_W,PH_TMP,BTL_TIME
,,,,,,,,,,,METERS,DBAR,ITS-90,PSS-78,,PSS-78,,UMOL/KG,,UMOL/KG,,UMOL/KG,,UMOL/KG,,UMOL/KG,,UMOL/KG,,UMOL/KG,,,,DEG C,
  49UF20110108,KS1101,  2938,  1,     99,     99,2,20110118,0629, 24.9742, 129.4828, 4052,      0.0,  21.9629,  34.7433,2,-999.0000,9,    215.2,2,  -999.00,9,  -999.00,9,  -999.00,9,  -999.00,9,   -999.0,9,   -999.0,9,-999.0000,9,  -999.00,      719
  49UF20110108,KS1101,  2938,  1,     33,  21993,2,20110118,0629, 24.9742, 129.4828, 4052,      9.9,  21.9761,  34.7435,2,-999.0000,9,    213.5,2,  -999.00,9,  -999.00,9,  -999.00,9,  -999.00,9,   -999.0,9,   -999.0,9,-999.0000,9,  -999.00,      737
  49UF20110108,KS1101,  2938,  1,     32,  21992,2,20110118,0629, 24.9742, 129.4828, 4052,     25.5,  21.9738,  34.7436,2,-999.0000,9,    213.1,2,  -999.00,9,  -999.00,9,  -999.00,9,  -999.00,9,   -999.0,9,   -999.0,9,-999.0000,9,  -999.00,      736
  49UF20110108,KS1101,  2938,  1,     31,  21991,2,20110118,0629, 24.9742, 129.4828, 4052,     50.2,  21.9804,  34.7440,2,-999.0000,9,    216.5,2,  -999.00,9,  -999.00,9,  -999.00,9,  -999.00,9,   -999.0,9,   -999.0,9,-999.0000,9,  -999.00,      731
  49UF20110108,KS1101,  2938,  1,     30,  21990,2,20110118,0629, 24.9742, 129.4828, 4052,     74.6,  21.9280,  34.7392,2,-999.0000,9,    212.7,2,  -999.00,9,  -999.00,9,  -999.00,9,  -999.00,9,   -999.0,9,   -999.0,9,-999.0000,9,  -999.00,      730
  49UF20110108,KS1101,  2938,  1,     29,  21989,2,20110118,0629, 24.9742, 129.4828, 4052,    101.4,  21.8524,  34.7345,2,-999.0000,9,    216.6,3,  -999.00,9,  -999.00,9,  -999.00,9,  -999.00,9,   -999.0,9,   -999.0,9,-999.0000,9,  -999.00,      728
  49UF20110108,KS1101,  2938,  1,     28,  21988,2,20110118,0629, 24.9742, 129.4828, 4052,    101.4,  21.8524,  34.7345,2,-999.0000,9,    212.7,2,  -999.00,9,  -999.00,9,  -999.00,9,  -999.00,9,   -999.0,9,   -999.0,9,-999.0000,9,  -999.00,      728
  49UF20110108,KS1101,  2938,  1,     24,  21984,2,20110118,0629, 24.9742, 129.4828, 4052,    126.0,  21.6466,  34.7410,2,-999.0000,9,    214.2,2,  -999.00,9,  -999.00,9,  -999.00,9,  -999.00,9,   -999.0,9,   -999.0,9,-999.0000,9,  -999.00,      727
  49UF20110108,KS1101,  2938,  1,     23,  21983,2,20110118,0629, 24.9742, 129.4828, 4052,    151.4,  21.4854,  34.7347,2,-999.0000,9,    209.6,2,  -999.00,9,  -999.00,9,  -999.00,9,  -999.00,9,   -999.0,9,   -999.0,9,-999.0000,9,  -999.00,      726
  49UF20110108,KS1101,  2938,  1,     22,  21982,2,20110118,0629, 24.9742, 129.4828, 4052,    201.3,  19.9636,  34.7411,2,-999.0000,9,    200.8,2,  -999.00,9,  -999.00,9,  -999.00,9,  -999.00,9,   -999.0,9,   -999.0,9,-999.0000,9,  -999.00,      724
  49UF20110108,KS1101,  2938,  1,     21,  21981,2,20110118,0629, 24.9742, 129.4828, 4052,    253.1,  18.7651,  34.7618,2,-999.0000,9,   -999.0,5,  -999.00,9,  -999.00,9,  -999.00,9,  -999.00,9,   -999.0,9,   -999.0,9,-999.0000,9,  -999.00,      722
  49UF20110108,KS1101,  2938,  1,     20,  21980,2,20110118,0629, 24.9742, 129.4828, 4052,    303.6,  17.5880,  34.7421,2,-999.0000,9,    189.9,2,  -999.00,9,  -999.00,9,  -999.00,9,  -999.00,9,   -999.0,9,   -999.0,9,-999.0000,9,  -999.00,      720
  49UF20110108,KS1101,  2938,  1,     19,  21978,2,20110118,0629, 24.9742, 129.4828, 4052,    407.3,  14.8127,  34.5607,2,-999.0000,9,    187.2,2,  -999.00,9,  -999.00,9,  -999.00,9,  -999.00,9,   -999.0,9,   -999.0,9,-999.0000,9,  -999.00,      716
  49UF20110108,KS1101,  2938,  1,     15,  21974,2,20110118,0629, 24.9742, 129.4828, 4052,    505.2,  12.4380,  34.4040,2,-999.0000,9,    170.3,2,  -999.00,9,  -999.00,9,  -999.00,9,  -999.00,9,   -999.0,9,   -999.0,9,-999.0000,9,  -999.00,      713
  49UF20110108,KS1101,  2938,  1,     14,  21973,2,20110118,0629, 24.9742, 129.4828, 4052,    607.1,   9.3724,  34.2358,2,-999.0000,9,    145.2,2,  -999.00,9,  -999.00,9,  -999.00,9,  -999.00,9,   -999.0,9,   -999.0,9,-999.0000,9,  -999.00,      709
  49UF20110108,KS1101,  2938,  1,     13,  21972,2,20110118,0629, 24.9742, 129.4828, 4052,    705.9,   6.7763,  34.1499,2,-999.0000,9,    116.7,2,  -999.00,9,  -999.00,9,  -999.00,9,  -999.00,9,   -999.0,9,   -999.0,9,-999.0000,9,  -999.00,      705
  49UF20110108,KS1101,  2938,  1,     12,  21971,2,20110118,0629, 24.9742, 129.4828, 4052,    807.7,   5.4475,  34.1974,2,-999.0000,9,     84.7,2,  -999.00,9,  -999.00,9,  -999.00,9,  -999.00,9,   -999.0,9,   -999.0,9,-999.0000,9,  -999.00,      701
  49UF20110108,KS1101,  2938,  1,     11,  21970,2,20110118,0629, 24.9742, 129.4828, 4052,    908.7,   4.4960,  34.2782,2,-999.0000,9,     65.6,2,  -999.00,9,  -999.00,9,  -999.00,9,  -999.00,9,   -999.0,9,   -999.0,9,-999.0000,9,  -999.00,      657
  49UF20110108,KS1101,  2938,  1,     10,  21969,2,20110118,0629, 24.9742, 129.4828, 4052,    908.7,   4.4960,  34.2782,2,-999.0000,9,     65.5,2,  -999.00,9,  -999.00,9,  -999.00,9,  -999.00,9,   -999.0,9,   -999.0,9,-999.0000,9,  -999.00,      657
  49UF20110108,KS1101,  2938,  1,      6,  21965,2,20110118,0629, 24.9742, 129.4828, 4052,   1011.4,   3.9122,  34.3530,2,-999.0000,9,     59.0,2,  -999.00,9,  -999.00,9,  -999.00,9,  -999.00,9,   -999.0,9,   -999.0,9,-999.0000,9,  -999.00,      653
  49UF20110108,KS1101,  2938,  1,      5,  21964,2,20110118,0629, 24.9742, 129.4828, 4052,   1212.6,   3.2223,  34.4533,2,-999.0000,9,     65.4,2,  -999.00,9,  -999.00,9,  -999.00,9,  -999.00,9,   -999.0,9,   -999.0,9,-999.0000,9,  -999.00,      647
  49UF20110108,KS1101,  2938,  1,      4,  21963,2,20110118,0629, 24.9742, 129.4828, 4052,   1415.7,   2.7405,  34.5159,2,-999.0000,9,     78.7,2,  -999.00,9,  -999.00,9,  -999.00,9,  -999.00,9,   -999.0,9,   -999.0,9,-999.0000,9,  -999.00,      643
  49UF20110108,KS1101,  2938,  1,      3,  21962,2,20110118,0629, 24.9742, 129.4828, 4052,   1616.1,   2.4204,  34.5512,2,-999.0000,9,     89.0,2,  -999.00,9,  -999.00,9,  -999.00,9,  -999.00,9,   -999.0,9,   -999.0,9,-999.0000,9,  -999.00,      638
  49UF20110108,KS1101,  2938,  1,      2,  21961,2,20110118,0629, 24.9742, 129.4828, 4052,   1817.8,   2.1465,  34.5903,2,-999.0000,9,    103.9,6,  -999.00,9,  -999.00,9,  -999.00,9,  -999.00,9,   -999.0,9,   -999.0,9,-999.0000,9,  -999.00,      633
  49UF20110108,KS1101,  2938,  1,      1,  21960,2,20110118,0629, 24.9742, 129.4828, 4052,   2018.6,   1.9616,  34.6167,2,-999.0000,9,    115.2,2,  -999.00,9,  -999.00,9,  -999.00,9,  -999.00,9,   -999.0,9,   -999.0,9,-999.0000,9,  -999.00,      629
  49UF20110108,KS1101,  2940,  1,     99,     99,2,20110118,1627, 24.6468, 129.9872, 4225,      0.0,  21.2390,  34.7908,2,-999.0000,9,    219.7,2,     1.64,2,     0.11,2,     0.01,2,     0.02,2,   -999.0,9,   -999.0,9,-999.0000,9,  -999.00,     1720
  49UF20110108,KS1101,  2940,  1,     33,  21993,2,20110118,1627, 24.6468, 129.9872, 4225,     10.3,  21.2432,  34.7910,2,  34.7896,2,    218.1,2,     1.64,2,     0.11,2,     0.00,2,     0.01,2,   1973.9,2,   2282.7,2,   8.0592,2,    25.00,     1737
  49UF20110108,KS1101,  2940,  1,     32,  21992,2,20110118,1627, 24.6468, 129.9872, 4225,     25.1,  21.2555,  34.7910,2,  34.7898,2,    218.1,2,     1.60,2,     0.11,2,     0.00,2,     0.02,2,   1974.4,2,   2284.5,2,   8.0477,2,    25.00,     1735
  49UF20110108,KS1101,  2940,  1,     31,  21991,2,20110118,1627, 24.6468, 129.9872, 4225,     50.1,  21.2617,  34.7913,2,  34.7898,2,    218.6,2,     1.64,2,     0.10,2,     0.00,2,     0.01,2,   1976.0,2,   2286.0,2,   8.0490,2,    25.00,     1729
  49UF20110108,KS1101,  2940,  1,     30,  21990,2,20110118,1627, 24.6468, 129.9872, 4225,     75.6,  21.2692,  34.7915,2,  34.7899,2,    218.1,2,     1.57,2,     0.01,2,     0.00,2,     0.02,2,   1975.2,2,   2284.8,2,   8.0507,2,    25.00,     1727
  49UF20110108,KS1101,  2940,  1,     29,  21989,2,20110118,1627, 24.6468, 129.9872, 4225,     75.6,  21.2692,  34.7915,2,  34.7927,2,    336.6,4,     1.64,2,     0.08,2,     0.01,2,     0.01,2,   1973.9,2,   2283.2,2,   8.0523,2,    25.00,     1727
  49UF20110108,KS1101,  2940,  1,     28,  21988,2,20110118,1627, 24.6468, 129.9872, 4225,    100.4,  21.2684,  34.7911,2,  34.7905,2,    218.1,2,     1.64,2,     0.11,2,     0.00,2,     0.01,2,   1974.7,2,   2278.5,2,   8.0527,2,    25.00,     1726
  49UF20110108,KS1101,  2940,  1,     24,  21984,2,20110118,1627, 24.6468, 129.9872, 4225,    126.2,  21.2584,  34.7897,2,  34.7930,2,    217.8,2,     1.63,2,     0.09,2,     0.01,2,     0.01,2,   1975.1,2,   2281.2,2,   8.0539,2,    25.00,     1724
  49UF20110108,KS1101,  2940,  1,     23,  21983,2,20110118,1627, 24.6468, 129.9872, 4225,    151.0,  19.4647,  34.7380,2,  34.7383,2,    199.6,2,     2.72,2,     2.49,2,     0.02,2,     0.17,2,   2013.5,2,   2278.4,2,   7.9804,2,    25.00,     1722
  49UF20110108,KS1101,  2940,  1,     22,  21982,2,20110118,1627, 24.6468, 129.9872, 4225,    200.8,  18.5693,  34.7272,2,  34.7272,2,    200.3,2,     3.18,2,     3.45,2,     0.01,2,     0.24,2,   2024.6,2,   2273.3,2,   7.9606,2,    25.00,     1720
  49UF20110108,KS1101,  2940,  1,     21,  21981,2,20110118,1627, 24.6468, 129.9872, 4225,    253.0,  17.6502,  34.7236,2,  34.7267,6,    193.6,6,     4.59,6,     5.37,6,     0.01,6,     0.36,6,   2037.0,2,   2278.5,2,   7.9386,2,    25.00,     1718
  49UF20110108,KS1101,  2940,  1,     20,  21980,2,20110118,1627, 24.6468, 129.9872, 4225,    302.6,  16.8655,  34.6965,2,  34.6968,2,    191.2,2,     6.13,2,     6.83,2,     0.00,2,     0.45,2,   2046.3,2,   2277.1,2,   7.9148,2,    25.00,     1715
  49UF20110108,KS1101,  2940,  1,     19,  21978,2,20110118,1627, 24.6468, 129.9872, 4225,    402.7,  14.5919,  34.5544,2,  34.5573,2,    184.4,2,    11.88,2,    10.78,2,     0.00,2,     0.74,2,   2079.6,2,   2274.6,2,   7.8506,2,    25.00,     1712
  49UF20110108,KS1101,  2940,  1,     15,  21974,2,20110118,1627, 24.6468, 129.9872, 4225,    504.5,  11.4008,  34.3503,2,  34.3520,2,    166.2,2,    25.66,2,    17.75,2,     0.00,2,     1.26,2,   2128.7,2,   2277.9,2,   7.7283,2,    25.00,     1708
  49UF20110108,KS1101,  2940,  1,     14,  21973,2,20110118,1627, 24.6468, 129.9872, 4225,    606.9,   7.9398,  34.2141,2,  34.2172,2,    126.8,2,    52.58,2,    27.31,2,     0.00,2,     1.96,2,   2206.7,2,   2292.5,2,   7.5843,2,    25.00,     1704
  49UF20110108,KS1101,  2940,  1,     13,  21972,2,20110118,1627, 24.6468, 129.9872, 4225,    706.9,   6.2506,  34.2135,2,  34.2113,2,     99.6,2,    73.14,2,    32.72,2,     0.00,2,     2.36,2,   2252.5,2,   2311.9,2,   7.4912,2,    25.00,     1700
  49UF20110108,KS1101,  2940,  1,     12,  21971,2,20110118,1627, 24.6468, 129.9872, 4225,    807.9,   5.2422,  34.2729,2,  34.2723,2,     78.6,2,    90.44,2,    36.11,2,     0.00,2,     2.60,2,   2290.8,2,   2330.0,3,   7.4453,2,    25.00,     1656
  49UF20110108,KS1101,  2940,  1,     11,  21970,2,20110118,1627, 24.6468, 129.9872, 4225,    807.9,   5.2422,  34.2729,2,  34.2722,2,     78.6,2,    90.52,2,    36.01,2,     0.00,2,     2.60,2,   2290.2,2,   2334.4,2,   7.4517,2,    25.00,     1656
  49UF20110108,KS1101,  2940,  1,     10,  21969,2,20110118,1627, 24.6468, 129.9872, 4225,    909.1,   4.4036,  34.3277,2,  34.3276,2,     66.8,2,   105.34,2,    38.68,2,     0.00,2,     2.77,2,   2317.1,6,   2351.0,2,   7.4169,6,    25.00,     1653
  49UF20110108,KS1101,  2940,  1,      6,  21965,2,20110118,1627, 24.6468, 129.9872, 4225,   1011.9,   3.7560,  34.3719,2,  34.3713,2,     59.5,2,   118.15,2,    40.17,2,     0.00,2,     2.86,2,   2335.8,2,   2360.5,2,   7.3996,2,    25.00,     1650
  49UF20110108,KS1101,  2940,  1,      5,  21964,2,20110118,1627, 24.6468, 129.9872, 4225,   1211.7,   3.0404,  34.4667,2,  34.4656,2,     67.1,2,   131.95,2,    40.39,2,     0.00,2,     2.88,2,   2350.5,2,   2377.9,2,   7.4164,2,    25.00,     1645
  49UF20110108,KS1101,  2940,  1,      4,  21963,2,20110118,1627, 24.6468, 129.9872, 4225,   1414.6,   2.6242,  34.5243,2,  34.5235,2,     81.0,2,   138.10,2,    39.98,2,     0.00,2,     2.83,2,   2352.2,2,   2393.5,2,   7.4408,2,    25.00,     1640
  49UF20110108,KS1101,  2940,  1,      3,  21962,2,20110118,1627, 24.6468, 129.9872, 4225,   1618.9,   2.2988,  34.5671,2,  34.5663,2,     94.6,6,   141.33,6,    39.16,6,     0.00,6,     2.77,6,   2350.7,2,   2399.0,2,   7.4670,2,    25.00,     1635
  49UF20110108,KS1101,  2940,  1,      2,  21961,2,20110118,1627, 24.6468, 129.9872, 4225,   1819.7,   2.0742,  34.5996,2,  34.5994,2,    108.1,2,   142.23,2,    38.55,2,     0.00,2,     2.71,2,   2342.1,2,   2402.0,6,   7.4908,6,    25.00,     1631
  49UF20110108,KS1101,  2940,  1,      1,  21960,2,20110118,1627, 24.6468, 129.9872, 4225,   2020.8,   1.9337,  34.6197,2,  34.6182,2,    117.1,2,   142.77,2,    38.12,2,     0.00,2,     2.67,2,   2341.6,2,   2404.9,2,   7.5054,2,    25.00,     1627
  49UF20110108,KS1101,  2943,  1,     99,     99,2,20110119,0406, 23.9883, 130.9912, 3363,      0.0,  21.3293,  34.8036,2,-999.0000,9,    217.5,2,     1.45,2,    -0.01,2,     0.01,2,     0.03,2,   -999.0,9,   -999.0,9,-999.0000,9,  -999.00,      502
  49UF20110108,KS1101,  2943,  1,     33,  21993,2,20110119,0406, 23.9883, 130.9912, 3363,     10.7,  21.3304,  34.8046,2,-999.0000,9,    217.4,2,     1.45,2,     0.00,2,     0.00,2,     0.02,2,   -999.0,9,   -999.0,9,-999.0000,9,  -999.00,      514
  49UF20110108,KS1101,  2943,  1,     32,  21992,2,20110119,0406, 23.9883, 130.9912, 3363,     26.0,  21.3317,  34.8046,2,-999.0000,9,    217.0,2,     1.45,2,    -0.01,2,     0.01,2,     0.03,2,   -999.0,9,   -999.0,9,-999.0000,9,  -999.00,      512
  49UF20110108,KS1101,  2943,  1,     31,  21991,2,20110119,0406, 23.9883, 130.9912, 3363,     50.1,  21.3388,  34.8048,2,-999.0000,9,    218.0,2,     1.49,2,    -0.01,2,     0.01,2,     0.03,2,   -999.0,9,   -999.0,9,-999.0000,9,  -999.00,      506
  49UF20110108,KS1101,  2943,  1,     30,  21990,2,20110119,0406, 23.9883, 130.9912, 3363,     50.1,  21.3388,  34.8048,2,-999.0000,9,    217.4,2,     1.47,2,    -0.01,2,     0.01,2,     0.03,2,   -999.0,9,   -999.0,9,-999.0000,9,  -999.00,      506
  49UF20110108,KS1101,  2943,  1,     29,  21989,2,20110119,0406, 23.9883, 130.9912, 3363,     74.6,  21.3408,  34.8048,2,-999.0000,9,    217.0,2,     1.45,2,    -0.01,2,     0.01,2,     0.03,2,   -999.0,9,   -999.0,9,-999.0000,9,  -999.00,      504
  49UF20110108,KS1101,  2943,  1,     28,  21988,2,20110119,0406, 23.9883, 130.9912, 3363,     99.6,  21.3444,  34.8049,2,-999.0000,9,    217.5,2,     1.45,2,     0.00,2,     0.00,2,     0.02,2,   -999.0,9,   -999.0,9,-999.0000,9,  -999.00,      503
  49UF20110108,KS1101,  2943,  1,     24,  21984,2,20110119,0406, 23.9883, 130.9912, 3363,    126.2,  21.3510,  34.8045,2,-999.0000,9,    217.3,2,     1.45,2,     0.00,2,     0.00,2,     0.02,2,   -999.0,9,   -999.0,9,-999.0000,9,  -999.00,      501
  49UF20110108,KS1101,  2943,  1,     23,  21983,2,20110119,0406, 23.9883, 130.9912, 3363,    150.4,  19.8161,  34.7420,2,-999.0000,9,    199.8,2,     2.37,2,     1.96,2,     0.02,2,     0.16,2,   -999.0,9,   -999.0,9,-999.0000,9,  -999.00,      459
  49UF20110108,KS1101,  2943,  1,     22,  21982,2,20110119,0406, 23.9883, 130.9912, 3363,    200.9,  18.5420,  34.7200,2,-999.0000,9,    200.9,6,     3.15,6,     3.26,6,     0.01,6,     0.25,6,   -999.0,9,   -999.0,9,-999.0000,9,  -999.00,      457
  49UF20110108,KS1101,  2943,  1,     21,  21981,2,20110119,0406, 23.9883, 130.9912, 3363,    252.6,  17.7087,  34.7172,2,-999.0000,9,    196.1,2,     4.23,2,     4.82,2,     0.00,2,     0.34,2,   -999.0,9,   -999.0,9,-999.0000,9,  -999.00,      455
  49UF20110108,KS1101,  2943,  1,     20,  21980,2,20110119,0406, 23.9883, 130.9912, 3363,    304.1,  16.2610,  34.6608,2,-999.0000,9,    190.0,2,     7.34,2,     7.61,2,     0.00,2,     0.53,2,   -999.0,9,   -999.0,9,-999.0000,9,  -999.00,      453
  49UF20110108,KS1101,  2943,  1,     19,  21978,2,20110119,0406, 23.9883, 130.9912, 3363,    403.4,  13.7985,  34.5029,2,-999.0000,9,    176.4,2,    15.55,2,    12.60,2,     0.00,2,     0.90,2,   -999.0,9,   -999.0,9,-999.0000,9,  -999.00,      450
  49UF20110108,KS1101,  2943,  1,     15,  21974,2,20110119,0406, 23.9883, 130.9912, 3363,    503.6,  10.6196,  34.3115,2,-999.0000,9,    157.2,2,    30.82,2,    19.58,2,     0.00,2,     1.42,2,   -999.0,9,   -999.0,9,-999.0000,9,  -999.00,      447
  49UF20110108,KS1101,  2943,  1,     14,  21973,2,20110119,0406, 23.9883, 130.9912, 3363,    604.9,   7.5957,  34.1829,2,-999.0000,9,    126.5,2,    53.98,2,    27.62,2,     0.00,2,     2.01,2,   -999.0,9,   -999.0,9,-999.0000,9,  -999.00,      443
  49UF20110108,KS1101,  2943,  1,     13,  21972,2,20110119,0406, 23.9883, 130.9912, 3363,    706.4,   5.8519,  34.1672,2,-999.0000,9,     98.6,2,    75.55,2,    33.50,2,     0.00,2,     2.42,2,   -999.0,9,   -999.0,9,-999.0000,9,  -999.00,      440
  49UF20110108,KS1101,  2943,  1,     12,  21971,2,20110119,0406, 23.9883, 130.9912, 3363,    706.4,   5.8519,  34.1672,2,-999.0000,9,     98.2,2,    75.53,2,    33.10,2,     0.00,2,     2.42,2,   -999.0,9,   -999.0,9,-999.0000,9,  -999.00,      440
  49UF20110108,KS1101,  2943,  1,     11,  21970,2,20110119,0406, 23.9883, 130.9912, 3363,    807.5,   4.7311,  34.2418,2,-999.0000,9,     71.0,2,    96.05,2,    37.27,2,     0.00,2,     2.71,2,   -999.0,9,   -999.0,9,-999.0000,9,  -999.00,      437
  49UF20110108,KS1101,  2943,  1,     10,  21969,2,20110119,0406, 23.9883, 130.9912, 3363,    908.1,   4.0600,  34.3257,2,-999.0000,9,     59.1,2,   110.67,2,    39.30,2,     0.00,2,     2.85,2,   -999.0,9,   -999.0,9,-999.0000,9,  -999.00,      434
  49UF20110108,KS1101,  2943,  1,      6,  21965,2,20110119,0406, 23.9883, 130.9912, 3363,   1009.1,   3.6310,  34.3814,2,-999.0000,9,     59.6,4,   120.32,2,    39.98,2,     0.00,2,     2.90,2,   -999.0,9,   -999.0,9,-999.0000,9,  -999.00,      431
  49UF20110108,KS1101,  2943,  1,      5,  21964,2,20110119,0406, 23.9883, 130.9912, 3363,   1210.7,   2.9059,  34.4838,2,-999.0000,9,     70.4,2,   134.05,2,    39.95,2,     0.00,2,     2.87,2,   -999.0,9,   -999.0,9,-999.0000,9,  -999.00,      426
  49UF20110108,KS1101,  2943,  1,      4,  21963,2,20110119,0406, 23.9883, 130.9912, 3363,   1413.5,   2.5591,  34.5315,2,-999.0000,9,     82.6,2,   138.97,6,    39.44,6,     0.00,6,     2.83,6,   -999.0,9,   -999.0,9,-999.0000,9,  -999.00,      421
  49UF20110108,KS1101,  2943,  1,      3,  21962,2,20110119,0406, 23.9883, 130.9912, 3363,   1616.2,   2.2698,  34.5738,2,-999.0000,9,     97.5,2,   140.85,2,    38.82,2,     0.00,2,     2.76,2,   -999.0,9,   -999.0,9,-999.0000,9,  -999.00,      416
  49UF20110108,KS1101,  2943,  1,      2,  21961,2,20110119,0406, 23.9883, 130.9912, 3363,   1818.4,   2.0591,  34.6024,2,-999.0000,9,    109.1,2,   141.84,2,    38.18,2,     0.00,2,     2.71,2,   -999.0,9,   -999.0,9,-999.0000,9,  -999.00,      411
  49UF20110108,KS1101,  2943,  1,      1,  21960,2,20110119,0406, 23.9883, 130.9912, 3363,   2023.0,   1.8667,  34.6290,2,-999.0000,9,    121.0,2,   142.56,2,    37.32,2,     0.00,2,     2.65,2,   -999.0,9,   -999.0,9,-999.0000,9,  -999.00,      406