BOTTLE,20190925PRINUNIVRMK
EXPOCODE,SECT_ID,STNNBR,CASTNO,SAMPNO,BTLNBR,BTLNBR_FLAG_W,DATE,TIME,LATITUDE,LONGITUDE,DEPTH,CTDPRS,CTDTMP,CTDSAL,CTDSAL_FLAG_W,SALNTY,SALNTY_FLAG_W,OXYGEN,OXYGEN_FLAG_W,SILCAT,SILCAT_FLAG_W,NITRAT,NITRAT_FLAG_W,NITRIT,NITRIT_FLAG_W,PHSPHT,PHSPHT_FLAG_W,TCARBN,TCARBN_FLAG_W,ALKALI,ALKALI_FLAG_W,PH_TOT,PH_TOT_FLAG_W,PH_TMP,BTL_TIME
,,,,,,,,,,,METERS,DBAR,ITS-90,PSS-78,,PSS-78,,UMOL/KG,,UMOL/KG,,UMOL/KG,,UMOL/KG,,UMOL/KG,,UMOL/KG,,UMOL/KG,,,,DEG C,
  49UF20100524,KS1004,  2643,  1,     99,     99,2,20100529,1747, 25.9020, 128.1245, 2057,      0.0,  25.6562,  34.4239,2,-999.0000,9,    206.8,2,  -999.00,9,  -999.00,9,  -999.00,9,  -999.00,9,   -999.0,9,   -999.0,9,-999.0000,9,  -999.00,     1845
  49UF20100524,KS1004,  2643,  1,     23,  21983,2,20100529,1747, 25.9020, 128.1245, 2057,      9.6,  25.4972,  34.6809,2,-999.0000,9,    209.2,2,  -999.00,9,  -999.00,9,  -999.00,9,  -999.00,9,   -999.0,9,   -999.0,9,-999.0000,9,  -999.00,     1854
  49UF20100524,KS1004,  2643,  1,     22,  21982,2,20100529,1747, 25.9020, 128.1245, 2057,     26.6,  25.3044,  34.7086,2,-999.0000,9,    209.0,2,  -999.00,9,  -999.00,9,  -999.00,9,  -999.00,9,   -999.0,9,   -999.0,9,-999.0000,9,  -999.00,     1852
  49UF20100524,KS1004,  2643,  1,     21,  21981,2,20100529,1747, 25.9020, 128.1245, 2057,     49.1,  24.4779,  34.8060,2,-999.0000,9,    213.3,2,  -999.00,9,  -999.00,9,  -999.00,9,  -999.00,9,   -999.0,9,   -999.0,9,-999.0000,9,  -999.00,     1848
  49UF20100524,KS1004,  2643,  1,     20,  21980,2,20100529,1747, 25.9020, 128.1245, 2057,     74.8,  23.3340,  34.7951,2,-999.0000,9,    209.7,2,  -999.00,9,  -999.00,9,  -999.00,9,  -999.00,9,   -999.0,9,   -999.0,9,-999.0000,9,  -999.00,     1846
  49UF20100524,KS1004,  2643,  1,     19,  21978,2,20100529,1747, 25.9020, 128.1245, 2057,    102.1,  22.0782,  34.7502,2,-999.0000,9,    217.5,2,  -999.00,9,  -999.00,9,  -999.00,9,  -999.00,9,   -999.0,9,   -999.0,9,-999.0000,9,  -999.00,     1845
  49UF20100524,KS1004,  2643,  1,     18,  21977,2,20100529,1747, 25.9020, 128.1245, 2057,    126.0,  21.3414,  34.7437,2,-999.0000,9,    213.4,2,  -999.00,9,  -999.00,9,  -999.00,9,  -999.00,9,   -999.0,9,   -999.0,9,-999.0000,9,  -999.00,     1843
  49UF20100524,KS1004,  2643,  1,     17,  21976,2,20100529,1747, 25.9020, 128.1245, 2057,    150.9,  20.9155,  34.7333,2,-999.0000,9,    205.0,2,  -999.00,9,  -999.00,9,  -999.00,9,  -999.00,9,   -999.0,9,   -999.0,9,-999.0000,9,  -999.00,     1842
  49UF20100524,KS1004,  2643,  1,     16,  21975,2,20100529,1747, 25.9020, 128.1245, 2057,    202.5,  19.5487,  34.7427,2,-999.0000,9,    198.8,6,  -999.00,9,  -999.00,9,  -999.00,9,  -999.00,9,   -999.0,9,   -999.0,9,-999.0000,9,  -999.00,     1839
  49UF20100524,KS1004,  2643,  1,     15,  21974,2,20100529,1747, 25.9020, 128.1245, 2057,    252.2,  18.7214,  34.7638,2,-999.0000,9,    191.7,2,  -999.00,9,  -999.00,9,  -999.00,9,  -999.00,9,   -999.0,9,   -999.0,9,-999.0000,9,  -999.00,     1837
  49UF20100524,KS1004,  2643,  1,     14,  21973,2,20100529,1747, 25.9020, 128.1245, 2057,    302.6,  17.4018,  34.7301,2,-999.0000,9,    188.9,2,  -999.00,9,  -999.00,9,  -999.00,9,  -999.00,9,   -999.0,9,   -999.0,9,-999.0000,9,  -999.00,     1835
  49UF20100524,KS1004,  2643,  1,     13,  21972,2,20100529,1747, 25.9020, 128.1245, 2057,    405.6,  14.5887,  34.5561,2,-999.0000,9,    179.9,2,  -999.00,9,  -999.00,9,  -999.00,9,  -999.00,9,   -999.0,9,   -999.0,9,-999.0000,9,  -999.00,     1832
  49UF20100524,KS1004,  2643,  1,     12,  21971,2,20100529,1747, 25.9020, 128.1245, 2057,    504.2,  11.2992,  34.3234,2,-999.0000,9,    167.6,2,  -999.00,9,  -999.00,9,  -999.00,9,  -999.00,9,   -999.0,9,   -999.0,9,-999.0000,9,  -999.00,     1829
  49UF20100524,KS1004,  2643,  1,     10,  21969,2,20100529,1747, 25.9020, 128.1245, 2057,    606.9,   9.1513,  34.2851,2,-999.0000,9,    128.9,2,  -999.00,9,  -999.00,9,  -999.00,9,  -999.00,9,   -999.0,9,   -999.0,9,-999.0000,9,  -999.00,     1825
  49UF20100524,KS1004,  2643,  1,     11,  21970,2,20100529,1747, 25.9020, 128.1245, 2057,    609.3,   9.1422,  34.2844,2,-999.0000,9,    128.3,2,  -999.00,9,  -999.00,9,  -999.00,9,  -999.00,9,   -999.0,9,   -999.0,9,-999.0000,9,  -999.00,     1825
  49UF20100524,KS1004,  2643,  1,      9,  21968,2,20100529,1747, 25.9020, 128.1245, 2057,    708.0,   7.0671,  34.2485,2,-999.0000,9,    104.0,2,  -999.00,9,  -999.00,9,  -999.00,9,  -999.00,9,   -999.0,9,   -999.0,9,-999.0000,9,  -999.00,     1821
  49UF20100524,KS1004,  2643,  1,      8,  21967,2,20100529,1747, 25.9020, 128.1245, 2057,    809.0,   5.7248,  34.2771,2,-999.0000,9,     82.3,2,  -999.00,9,  -999.00,9,  -999.00,9,  -999.00,9,   -999.0,9,   -999.0,9,-999.0000,9,  -999.00,     1818
  49UF20100524,KS1004,  2643,  1,      7,  21966,2,20100529,1747, 25.9020, 128.1245, 2057,    908.6,   4.7047,  34.3609,2,-999.0000,9,     73.4,2,  -999.00,9,  -999.00,9,  -999.00,9,  -999.00,9,   -999.0,9,   -999.0,9,-999.0000,9,  -999.00,     1815
  49UF20100524,KS1004,  2643,  1,      6,  21965,2,20100529,1747, 25.9020, 128.1245, 2057,   1013.8,   3.9915,  34.4132,2,-999.0000,9,     68.7,2,  -999.00,9,  -999.00,9,  -999.00,9,  -999.00,9,   -999.0,9,   -999.0,9,-999.0000,9,  -999.00,     1811
  49UF20100524,KS1004,  2643,  1,      5,  21964,2,20100529,1747, 25.9020, 128.1245, 2057,   1264.6,   2.9289,  34.4939,2,-999.0000,9,     75.0,2,  -999.00,9,  -999.00,9,  -999.00,9,  -999.00,9,   -999.0,9,   -999.0,9,-999.0000,9,  -999.00,     1805
  49UF20100524,KS1004,  2643,  1,      4,  21963,2,20100529,1747, 25.9020, 128.1245, 2057,   1517.6,   2.5014,  34.5424,2,-999.0000,9,     86.4,2,  -999.00,9,  -999.00,9,  -999.00,9,  -999.00,9,   -999.0,9,   -999.0,9,-999.0000,9,  -999.00,     1759
  49UF20100524,KS1004,  2643,  1,      3,  21962,2,20100529,1747, 25.9020, 128.1245, 2057,   1767.9,   2.2298,  34.5786,2,-999.0000,9,    104.0,3,  -999.00,9,  -999.00,9,  -999.00,9,  -999.00,9,   -999.0,9,   -999.0,9,-999.0000,9,  -999.00,     1753
  49UF20100524,KS1004,  2643,  1,      2,  21961,2,20100529,1747, 25.9020, 128.1245, 2057,   2020.5,   2.0198,  34.6091,2,-999.0000,9,    128.3,4,  -999.00,9,  -999.00,9,  -999.00,9,  -999.00,9,   -999.0,9,   -999.0,9,-999.0000,9,  -999.00,     1748
  49UF20100524,KS1004,  2643,  1,      1,  21960,2,20100529,1747, 25.9020, 128.1245, 2057,   2021.7,   2.0190,  34.6090,2,-999.0000,9,    112.1,2,  -999.00,9,  -999.00,9,  -999.00,9,  -999.00,9,   -999.0,9,   -999.0,9,-999.0000,9,  -999.00,     1747
  49UF20100524,KS1004,  2645,  1,     99,     99,2,20100530,0122, 25.6258, 128.5057, 4639,      0.0,  25.6259,  34.6039,2,-999.0000,9,    210.9,2,  -999.00,9,  -999.00,9,  -999.00,9,  -999.00,9,   -999.0,9,   -999.0,9,-999.0000,9,  -999.00,      220
  49UF20100524,KS1004,  2645,  1,     23,  21983,2,20100530,0122, 25.6258, 128.5057, 4639,     10.8,  25.6184,  34.6075,2,-999.0000,9,    209.4,2,  -999.00,9,  -999.00,9,  -999.00,9,  -999.00,9,   -999.0,9,   -999.0,9,-999.0000,9,  -999.00,      233
  49UF20100524,KS1004,  2645,  1,     22,  21982,2,20100530,0122, 25.6258, 128.5057, 4639,     26.5,  25.6482,  34.6559,2,-999.0000,9,    210.8,2,  -999.00,9,  -999.00,9,  -999.00,9,  -999.00,9,   -999.0,9,   -999.0,9,-999.0000,9,  -999.00,      231
  49UF20100524,KS1004,  2645,  1,     21,  21981,2,20100530,0122, 25.6258, 128.5057, 4639,     49.3,  23.9410,  34.7939,2,-999.0000,9,    217.7,2,  -999.00,9,  -999.00,9,  -999.00,9,  -999.00,9,   -999.0,9,   -999.0,9,-999.0000,9,  -999.00,      226
  49UF20100524,KS1004,  2645,  1,     20,  21980,2,20100530,0122, 25.6258, 128.5057, 4639,     77.4,  22.7331,  34.7666,2,-999.0000,9,    221.5,2,  -999.00,9,  -999.00,9,  -999.00,9,  -999.00,9,   -999.0,9,   -999.0,9,-999.0000,9,  -999.00,      223
  49UF20100524,KS1004,  2645,  1,     19,  21978,2,20100530,0122, 25.6258, 128.5057, 4639,    102.2,  21.6001,  34.7453,2,-999.0000,9,    221.4,2,  -999.00,9,  -999.00,9,  -999.00,9,  -999.00,9,   -999.0,9,   -999.0,9,-999.0000,9,  -999.00,      221
  49UF20100524,KS1004,  2645,  1,     18,  21977,2,20100530,0122, 25.6258, 128.5057, 4639,    127.1,  20.8019,  34.7303,2,-999.0000,9,    210.0,2,  -999.00,9,  -999.00,9,  -999.00,9,  -999.00,9,   -999.0,9,   -999.0,9,-999.0000,9,  -999.00,      220
  49UF20100524,KS1004,  2645,  1,     17,  21976,2,20100530,0122, 25.6258, 128.5057, 4639,    151.9,  20.2522,  34.7357,2,-999.0000,9,    203.2,6,  -999.00,9,  -999.00,9,  -999.00,9,  -999.00,9,   -999.0,9,   -999.0,9,-999.0000,9,  -999.00,      218
  49UF20100524,KS1004,  2645,  1,     16,  21975,2,20100530,0122, 25.6258, 128.5057, 4639,    202.2,  19.1498,  34.7481,2,-999.0000,9,    195.6,2,  -999.00,9,  -999.00,9,  -999.00,9,  -999.00,9,   -999.0,9,   -999.0,9,-999.0000,9,  -999.00,      217
  49UF20100524,KS1004,  2645,  1,     15,  21974,2,20100530,0122, 25.6258, 128.5057, 4639,    253.2,  18.0019,  34.7557,2,-999.0000,9,   -999.0,5,  -999.00,9,  -999.00,9,  -999.00,9,  -999.00,9,   -999.0,9,   -999.0,9,-999.0000,9,  -999.00,      214
  49UF20100524,KS1004,  2645,  1,     14,  21973,2,20100530,0122, 25.6258, 128.5057, 4639,    303.9,  17.0370,  34.7179,2,-999.0000,9,    188.5,2,  -999.00,9,  -999.00,9,  -999.00,9,  -999.00,9,   -999.0,9,   -999.0,9,-999.0000,9,  -999.00,      212
  49UF20100524,KS1004,  2645,  1,     13,  21972,2,20100530,0122, 25.6258, 128.5057, 4639,    404.1,  13.9911,  34.5184,2,-999.0000,9,    174.4,2,  -999.00,9,  -999.00,9,  -999.00,9,  -999.00,9,   -999.0,9,   -999.0,9,-999.0000,9,  -999.00,      208
  49UF20100524,KS1004,  2645,  1,     11,  21970,2,20100530,0122, 25.6258, 128.5057, 4639,    505.9,  10.8658,  34.3104,2,-999.0000,9,    172.8,3,  -999.00,9,  -999.00,9,  -999.00,9,  -999.00,9,   -999.0,9,   -999.0,9,-999.0000,9,  -999.00,      204
  49UF20100524,KS1004,  2645,  1,     12,  21971,2,20100530,0122, 25.6258, 128.5057, 4639,    508.0,  10.8196,  34.3083,2,-999.0000,9,    165.3,2,  -999.00,9,  -999.00,9,  -999.00,9,  -999.00,9,   -999.0,9,   -999.0,9,-999.0000,9,  -999.00,      204
  49UF20100524,KS1004,  2645,  1,     10,  21969,2,20100530,0122, 25.6258, 128.5057, 4639,    607.2,   7.9656,  34.1908,2,-999.0000,9,    129.6,2,  -999.00,9,  -999.00,9,  -999.00,9,  -999.00,9,   -999.0,9,   -999.0,9,-999.0000,9,  -999.00,      200
  49UF20100524,KS1004,  2645,  1,      9,  21968,2,20100530,0122, 25.6258, 128.5057, 4639,    707.9,   6.1745,  34.1713,2,-999.0000,9,    101.6,2,  -999.00,9,  -999.00,9,  -999.00,9,  -999.00,9,   -999.0,9,   -999.0,9,-999.0000,9,  -999.00,      155
  49UF20100524,KS1004,  2645,  1,      8,  21967,2,20100530,0122, 25.6258, 128.5057, 4639,    807.9,   5.0889,  34.2273,2,-999.0000,9,     77.7,6,  -999.00,9,  -999.00,9,  -999.00,9,  -999.00,9,   -999.0,9,   -999.0,9,-999.0000,9,  -999.00,      152
  49UF20100524,KS1004,  2645,  1,      7,  21966,4,20100530,0122, 25.6258, 128.5057, 4639,    909.3,   4.4189,  34.3149,2,-999.0000,9,   -999.0,9,  -999.00,9,  -999.00,9,  -999.00,9,  -999.00,9,   -999.0,9,   -999.0,9,-999.0000,9,  -999.00,      149
  49UF20100524,KS1004,  2645,  1,      6,  21965,2,20100530,0122, 25.6258, 128.5057, 4639,   1014.3,   3.8946,  34.3765,2,-999.0000,9,     61.9,2,  -999.00,9,  -999.00,9,  -999.00,9,  -999.00,9,   -999.0,9,   -999.0,9,-999.0000,9,  -999.00,      145
  49UF20100524,KS1004,  2645,  1,      5,  21964,2,20100530,0122, 25.6258, 128.5057, 4639,   1264.1,   3.0460,  34.4763,2,-999.0000,9,     71.9,2,  -999.00,9,  -999.00,9,  -999.00,9,  -999.00,9,   -999.0,9,   -999.0,9,-999.0000,9,  -999.00,      139
  49UF20100524,KS1004,  2645,  1,      4,  21963,2,20100530,0122, 25.6258, 128.5057, 4639,   1516.0,   2.4825,  34.5423,2,-999.0000,9,     86.9,2,  -999.00,9,  -999.00,9,  -999.00,9,  -999.00,9,   -999.0,9,   -999.0,9,-999.0000,9,  -999.00,      133
  49UF20100524,KS1004,  2645,  1,      2,  21961,2,20100530,0122, 25.6258, 128.5057, 4639,   1769.0,   2.1578,  34.5930,2,-999.0000,9,    105.7,2,  -999.00,9,  -999.00,9,  -999.00,9,  -999.00,9,   -999.0,9,   -999.0,9,-999.0000,9,  -999.00,      127
  49UF20100524,KS1004,  2645,  1,      3,  21962,2,20100530,0122, 25.6258, 128.5057, 4639,   1769.3,   2.1595,  34.5928,2,-999.0000,9,    105.7,2,  -999.00,9,  -999.00,9,  -999.00,9,  -999.00,9,   -999.0,9,   -999.0,9,-999.0000,9,  -999.00,      127
  49UF20100524,KS1004,  2645,  1,      1,  21960,2,20100530,0122, 25.6258, 128.5057, 4639,   2018.1,   1.9418,  34.6168,2,-999.0000,9,    115.0,2,  -999.00,9,  -999.00,9,  -999.00,9,  -999.00,9,   -999.0,9,   -999.0,9,-999.0000,9,  -999.00,      122
  49UF20100524,KS1004,  2647,  1,     99,     99,2,20100530,0917, 25.3507, 128.9767, 5550,      0.0,  26.8513,  34.7744,2,-999.0000,9,    203.5,2,  -999.00,5,     0.15,2,     0.00,2,     0.01,2,   -999.0,9,   -999.0,9,-999.0000,9,  -999.00,      955
  49UF20100524,KS1004,  2647,  1,     23,  21983,2,20100530,0917, 25.3507, 128.9767, 5550,     10.5,  26.8600,  34.7751,2,  34.7740,2,    204.8,2,  -999.00,5,     0.06,2,     0.00,2,     0.00,2,   -999.0,9,   -999.0,9,-999.0000,9,  -999.00,     1027
  49UF20100524,KS1004,  2647,  1,     22,  21982,2,20100530,0917, 25.3507, 128.9767, 5550,     25.3,  26.6988,  34.7605,2,-999.0000,9,    206.1,2,  -999.00,5,     0.07,2,     0.00,2,     0.00,2,   -999.0,9,   -999.0,9,-999.0000,9,  -999.00,     1026
  49UF20100524,KS1004,  2647,  1,     21,  21981,2,20100530,0917, 25.3507, 128.9767, 5550,     50.9,  23.8510,  34.7741,2,-999.0000,9,    223.1,2,  -999.00,5,     0.09,2,     0.00,2,     0.00,2,   -999.0,9,   -999.0,9,-999.0000,9,  -999.00,     1020
  49UF20100524,KS1004,  2647,  1,     20,  21980,2,20100530,0917, 25.3507, 128.9767, 5550,     76.8,  21.9530,  34.7543,2,-999.0000,9,    212.8,2,  -999.00,5,     0.07,2,     0.00,2,     0.00,2,   -999.0,9,   -999.0,9,-999.0000,9,  -999.00,     1018
  49UF20100524,KS1004,  2647,  1,     19,  21978,2,20100530,0917, 25.3507, 128.9767, 5550,    100.7,  21.2905,  34.7456,2,  34.7459,2,    204.8,2,  -999.00,5,     0.13,2,     0.02,2,     0.02,2,   -999.0,9,   -999.0,9,-999.0000,9,  -999.00,     1017
  49UF20100524,KS1004,  2647,  1,     18,  21977,2,20100530,0917, 25.3507, 128.9767, 5550,    127.0,  20.4980,  34.7669,2,-999.0000,9,    192.8,6,  -999.00,5,     2.13,6,     0.05,6,     0.13,6,   -999.0,9,   -999.0,9,-999.0000,9,  -999.00,     1015
  49UF20100524,KS1004,  2647,  1,     17,  21976,2,20100530,0917, 25.3507, 128.9767, 5550,    152.9,  19.6680,  34.7789,2,-999.0000,9,    189.8,2,  -999.00,5,     3.22,2,     0.02,2,     0.20,2,   -999.0,9,   -999.0,9,-999.0000,9,  -999.00,     1013
  49UF20100524,KS1004,  2647,  1,     16,  21975,2,20100530,0917, 25.3507, 128.9767, 5550,    204.2,  18.5381,  34.7679,2,  34.7706,2,    191.2,2,  -999.00,5,     4.59,2,     0.01,2,     0.28,2,   -999.0,9,   -999.0,9,-999.0000,9,  -999.00,     1011
  49UF20100524,KS1004,  2647,  1,     15,  21974,2,20100530,0917, 25.3507, 128.9767, 5550,    251.1,  17.5981,  34.7466,2,-999.0000,9,    189.8,2,  -999.00,5,     6.05,2,     0.00,2,     0.37,2,   -999.0,9,   -999.0,9,-999.0000,9,  -999.00,     1009
  49UF20100524,KS1004,  2647,  1,     14,  21973,2,20100530,0917, 25.3507, 128.9767, 5550,    304.1,  16.5193,  34.6907,2,-999.0000,9,    187.7,2,  -999.00,5,     7.76,2,     0.00,2,     0.49,2,   -999.0,9,   -999.0,9,-999.0000,9,  -999.00,     1003
  49UF20100524,KS1004,  2647,  1,     12,  21971,2,20100530,0917, 25.3507, 128.9767, 5550,    404.5,  13.8729,  34.5095,2,  34.5175,4,    176.3,2,  -999.00,5,    12.78,2,     0.00,2,     0.86,2,   -999.0,9,   -999.0,9,-999.0000,9,  -999.00,     1000
  49UF20100524,KS1004,  2647,  1,     13,  21972,2,20100530,0917, 25.3507, 128.9767, 5550,    405.1,  13.8591,  34.5084,2,-999.0000,9,    176.1,2,  -999.00,5,    12.80,2,     0.00,2,     0.86,2,   -999.0,9,   -999.0,9,-999.0000,9,  -999.00,     1000
  49UF20100524,KS1004,  2647,  1,     11,  21970,2,20100530,0917, 25.3507, 128.9767, 5550,    506.9,  10.8854,  34.3173,2,-999.0000,9,    162.9,2,  -999.00,5,    18.91,2,     0.00,2,     1.31,2,   -999.0,9,   -999.0,9,-999.0000,9,  -999.00,      956
  49UF20100524,KS1004,  2647,  1,     10,  21969,2,20100530,0917, 25.3507, 128.9767, 5550,    607.5,   8.3211,  34.2104,2,  34.2108,2,    132.1,2,  -999.00,5,    26.46,2,     0.00,2,     1.86,2,   -999.0,9,   -999.0,9,-999.0000,9,  -999.00,      953
  49UF20100524,KS1004,  2647,  1,      9,  21968,2,20100530,0917, 25.3507, 128.9767, 5550,    709.2,   6.4460,  34.2071,2,-999.0000,9,     99.0,2,  -999.00,5,    32.55,2,     0.00,2,     2.34,2,   -999.0,9,   -999.0,9,-999.0000,9,  -999.00,      950
  49UF20100524,KS1004,  2647,  1,      8,  21967,2,20100530,0917, 25.3507, 128.9767, 5550,    809.0,   5.3119,  34.2569,2,  34.2581,6,     78.0,6,  -999.00,5,    36.41,6,     0.00,6,     2.62,6,   -999.0,9,   -999.0,9,-999.0000,9,  -999.00,      947
  49UF20100524,KS1004,  2647,  1,      7,  21966,2,20100530,0917, 25.3507, 128.9767, 5550,    908.6,   4.5150,  34.3393,2,-999.0000,9,     68.8,2,  -999.00,5,    38.20,2,     0.00,2,     2.74,2,   -999.0,9,   -999.0,9,-999.0000,9,  -999.00,      944
  49UF20100524,KS1004,  2647,  1,      6,  21965,2,20100530,0917, 25.3507, 128.9767, 5550,   1012.5,   3.8361,  34.3969,2,  34.3953,2,     65.4,2,  -999.00,5,    39.63,2,     0.00,2,     2.83,2,   -999.0,9,   -999.0,9,-999.0000,9,  -999.00,      941
  49UF20100524,KS1004,  2647,  1,      5,  21964,2,20100530,0917, 25.3507, 128.9767, 5550,   1264.9,   2.9663,  34.4820,2,  34.4796,2,     71.4,2,  -999.00,5,    40.19,2,     0.00,2,     2.85,2,   -999.0,9,   -999.0,9,-999.0000,9,  -999.00,      935
  49UF20100524,KS1004,  2647,  1,      3,  21962,2,20100530,0917, 25.3507, 128.9767, 5550,   1515.6,   2.5338,  34.5362,2,  34.5372,2,     84.6,2,  -999.00,5,    39.74,2,     0.00,2,     2.81,2,   -999.0,9,   -999.0,9,-999.0000,9,  -999.00,      929
  49UF20100524,KS1004,  2647,  1,      4,  21963,2,20100530,0917, 25.3507, 128.9767, 5550,   1516.9,   2.5335,  34.5364,2,-999.0000,9,     85.0,2,  -999.00,5,    39.91,2,     0.00,2,     2.82,2,   -999.0,9,   -999.0,9,-999.0000,9,  -999.00,      929
  49UF20100524,KS1004,  2647,  1,      2,  21961,2,20100530,0917, 25.3507, 128.9767, 5550,   1768.7,   2.1842,  34.5863,2,  34.5863,2,    102.3,2,  -999.00,5,    38.94,2,     0.00,2,     2.73,2,   -999.0,9,   -999.0,9,-999.0000,9,  -999.00,      923
  49UF20100524,KS1004,  2647,  1,      1,  21960,2,20100530,0917, 25.3507, 128.9767, 5550,   2025.1,   1.9576,  34.6157,2,  34.6152,2,    115.3,2,  -999.00,5,    38.13,2,     0.00,2,     2.68,2,   -999.0,9,   -999.0,9,-999.0000,9,  -999.00,      917