BOTTLE,20190925PRINUNIVRMK
EXPOCODE,SECT_ID,STNNBR,CASTNO,SAMPNO,BTLNBR,BTLNBR_FLAG_W,DATE,TIME,LATITUDE,LONGITUDE,DEPTH,CTDPRS,CTDTMP,CTDSAL,CTDSAL_FLAG_W,SALNTY,SALNTY_FLAG_W,OXYGEN,OXYGEN_FLAG_W,SILCAT,SILCAT_FLAG_W,NITRAT,NITRAT_FLAG_W,NITRIT,NITRIT_FLAG_W,PHSPHT,PHSPHT_FLAG_W,TCARBN,TCARBN_FLAG_W,ALKALI,ALKALI_FLAG_W,PH_TOT,PH_TOT_FLAG_W,PH_TMP,BTL_TIME
,,,,,,,,,,,METERS,DBAR,ITS-90,PSS-78,,PSS-78,,UMOL/KG,,UMOL/KG,,UMOL/KG,,UMOL/KG,,UMOL/KG,,UMOL/KG,,UMOL/KG,,,,DEG C,
  49UF20100524,KS1004,  2656,  1,     99,     99,2,20100531,2322, 23.7307, 131.9893, 3792,      0.0,  26.2297,  34.7787,2,-999.0000,9,    205.2,2,  -999.00,5,     0.09,2,     0.00,2,     0.00,2,   -999.0,9,   -999.0,9,-999.0000,9,  -999.00,        5
  49UF20100524,KS1004,  2656,  1,     24,  21984,2,20100531,2322, 23.7307, 131.9893, 3792,     12.1,  26.2342,  34.7787,2,  34.7779,2,    204.7,2,  -999.00,5,     0.09,2,     0.00,2,     0.00,2,   -999.0,9,   -999.0,9,-999.0000,9,  -999.00,       19
  49UF20100524,KS1004,  2656,  1,     23,  21983,2,20100531,2322, 23.7307, 131.9893, 3792,     26.8,  26.2353,  34.7792,2,-999.0000,9,    204.6,2,  -999.00,5,     0.04,2,     0.00,2,     0.00,2,   -999.0,9,   -999.0,9,-999.0000,9,  -999.00,       17
  49UF20100524,KS1004,  2656,  1,     22,  21982,2,20100531,2322, 23.7307, 131.9893, 3792,     51.6,  24.8012,  34.8198,2,-999.0000,9,    212.4,2,  -999.00,5,     0.09,2,     0.00,2,     0.00,2,   -999.0,9,   -999.0,9,-999.0000,9,  -999.00,       12
  49UF20100524,KS1004,  2656,  1,     21,  21981,2,20100531,2322, 23.7307, 131.9893, 3792,     76.1,  23.2459,  34.7859,2,-999.0000,9,    217.4,2,  -999.00,5,     0.03,2,     0.00,2,     0.00,2,   -999.0,9,   -999.0,9,-999.0000,9,  -999.00,       11
  49UF20100524,KS1004,  2656,  1,     20,  21980,2,20100531,2322, 23.7307, 131.9893, 3792,    101.9,  22.1699,  34.7496,2,  34.7535,2,    209.2,2,  -999.00,5,     0.19,2,     0.15,2,     0.02,2,   -999.0,9,   -999.0,9,-999.0000,9,  -999.00,       10
  49UF20100524,KS1004,  2656,  1,     19,  21978,2,20100531,2322, 23.7307, 131.9893, 3792,    127.7,  21.4921,  34.7390,2,-999.0000,9,    209.1,2,  -999.00,5,     0.78,2,     0.11,2,     0.05,2,   -999.0,9,   -999.0,9,-999.0000,9,  -999.00,        9
  49UF20100524,KS1004,  2656,  1,     17,  21976,2,20100531,2322, 23.7307, 131.9893, 3792,    152.7,  21.0750,  34.7437,2,-999.0000,9,    200.1,2,  -999.00,5,     0.95,2,     0.05,2,     0.06,2,   -999.0,9,   -999.0,9,-999.0000,9,  -999.00,        7
  49UF20100524,KS1004,  2656,  1,     18,  21977,2,20100531,2322, 23.7307, 131.9893, 3792,    153.2,  21.0741,  34.7444,2,-999.0000,9,    200.1,2,  -999.00,5,     0.98,2,     0.05,2,     0.06,2,   -999.0,9,   -999.0,9,-999.0000,9,  -999.00,        8
  49UF20100524,KS1004,  2656,  1,     16,  21975,2,20100531,2322, 23.7307, 131.9893, 3792,    202.7,  19.8488,  34.7644,2,  34.7654,2,    193.0,2,  -999.00,5,     3.13,2,     0.01,2,     0.18,2,   -999.0,9,   -999.0,9,-999.0000,9,  -999.00,        6
  49UF20100524,KS1004,  2656,  1,     15,  21974,2,20100531,2322, 23.7307, 131.9893, 3792,    253.1,  18.5602,  34.7562,2,-999.0000,9,    191.1,2,  -999.00,5,     4.62,2,     0.00,2,     0.28,2,   -999.0,9,   -999.0,9,-999.0000,9,  -999.00,        4
  49UF20100524,KS1004,  2656,  1,     14,  21973,2,20100531,2322, 23.7307, 131.9893, 3792,    303.8,  17.4716,  34.7386,2,-999.0000,9,    188.6,2,  -999.00,5,     6.37,2,     0.00,2,     0.39,2,   -999.0,9,   -999.0,9,-999.0000,9,  -999.00,        2
  49UF20100524,KS1004,  2656,  1,     13,  21972,2,20100531,2322, 23.7307, 131.9893, 3792,    404.3,  14.7956,  34.5680,2,  34.5686,6,    182.1,6,  -999.00,5,    10.95,6,     0.00,6,     0.73,6,   -999.0,9,   -999.0,9,-999.0000,9,  -999.00,        0
  49UF20100524,KS1004,  2656,  1,     12,  21971,2,20100531,2322, 23.7307, 131.9893, 3792,    505.5,  11.6097,  34.3557,2,-999.0000,9,    166.8,2,  -999.00,5,    17.55,2,     0.00,2,     1.22,2,   -999.0,9,   -999.0,9,-999.0000,9,  -999.00,     2357
  49UF20100524,KS1004,  2656,  1,     11,  21970,2,20100531,2322, 23.7307, 131.9893, 3792,    606.0,   9.0070,  34.2143,2,  34.2158,2,    145.6,2,  -999.00,5,    23.85,2,     0.00,2,     1.68,2,   -999.0,9,   -999.0,9,-999.0000,9,  -999.00,     2355
  49UF20100524,KS1004,  2656,  1,     10,  21969,2,20100531,2322, 23.7307, 131.9893, 3792,    707.2,   6.6318,  34.1488,2,-999.0000,9,    109.4,2,  -999.00,5,    31.38,2,     0.00,2,     2.23,2,   -999.0,9,   -999.0,9,-999.0000,9,  -999.00,     2352
  49UF20100524,KS1004,  2656,  1,      8,  21967,2,20100531,2322, 23.7307, 131.9893, 3792,    808.8,   5.4441,  34.1908,2,  34.1905,2,     82.3,2,  -999.00,5,    35.68,2,     0.00,2,     2.57,2,   -999.0,9,   -999.0,9,-999.0000,9,  -999.00,     2350
  49UF20100524,KS1004,  2656,  1,      9,  21968,2,20100531,2322, 23.7307, 131.9893, 3792,    810.3,   5.4193,  34.1927,2,-999.0000,9,     82.6,2,  -999.00,5,    35.65,2,     0.00,2,     2.58,2,   -999.0,9,   -999.0,9,-999.0000,9,  -999.00,     2350
  49UF20100524,KS1004,  2656,  1,      6,  21965,2,20100531,2322, 23.7307, 131.9893, 3792,    908.8,   4.5539,  34.2860,2,-999.0000,9,     61.8,2,  -999.00,5,    39.06,2,     0.00,2,     2.80,2,   -999.0,9,   -999.0,9,-999.0000,9,  -999.00,     2347
  49UF20100524,KS1004,  2656,  1,      5,  21964,2,20100531,2322, 23.7307, 131.9893, 3792,   1010.5,   4.0363,  34.3517,2,  34.3517,2,     57.6,2,  -999.00,5,    40.12,2,     0.00,2,     2.87,2,   -999.0,9,   -999.0,9,-999.0000,9,  -999.00,     2344
  49UF20100524,KS1004,  2656,  1,      4,  21963,2,20100531,2322, 23.7307, 131.9893, 3792,   1263.3,   3.1253,  34.4676,2,  34.4657,2,     66.7,2,  -999.00,5,    40.52,2,     0.00,2,     2.87,2,   -999.0,9,   -999.0,9,-999.0000,9,  -999.00,     2339
  49UF20100524,KS1004,  2656,  1,      3,  21962,2,20100531,2322, 23.7307, 131.9893, 3792,   1522.0,   2.5621,  34.5366,2,  34.5354,2,     84.2,6,  -999.00,5,    39.79,6,     0.00,6,     2.81,6,   -999.0,9,   -999.0,9,-999.0000,9,  -999.00,     2333
  49UF20100524,KS1004,  2656,  1,      2,  21961,2,20100531,2322, 23.7307, 131.9893, 3792,   1770.8,   2.1901,  34.5849,2,  34.5846,2,    102.0,2,  -999.00,5,    38.93,2,     0.00,2,     2.74,2,   -999.0,9,   -999.0,9,-999.0000,9,  -999.00,     2327
  49UF20100524,KS1004,  2656,  1,      1,  21960,2,20100531,2322, 23.7307, 131.9893, 3792,   2021.1,   1.9562,  34.6170,2,  34.6164,2,    116.3,2,  -999.00,5,    37.91,2,     0.00,2,     2.67,2,   -999.0,9,   -999.0,9,-999.0000,9,  -999.00,     2322
  49UF20100524,KS1004,  2658,  1,     99,     99,2,20100601,0824, 23.7340, 132.9875, 4186,      0.0,  24.1388,  34.6613,2,-999.0000,9,    212.2,2,  -999.00,5,     0.17,2,     0.00,2,     0.00,2,   -999.0,9,   -999.0,9,-999.0000,9,  -999.00,      900
  49UF20100524,KS1004,  2658,  1,     24,  21984,2,20100601,0824, 23.7340, 132.9875, 4186,     11.8,  24.1390,  34.6610,2,-999.0000,9,    212.9,2,  -999.00,5,     0.09,2,     0.00,2,     0.00,2,   -999.0,9,   -999.0,9,-999.0000,9,  -999.00,      927
  49UF20100524,KS1004,  2658,  1,     23,  21983,2,20100601,0824, 23.7340, 132.9875, 4186,     27.4,  23.7103,  34.7513,2,-999.0000,9,    214.8,2,  -999.00,5,     0.07,2,     0.00,2,     0.00,2,   -999.0,9,   -999.0,9,-999.0000,9,  -999.00,      924
  49UF20100524,KS1004,  2658,  1,     22,  21982,2,20100601,0824, 23.7340, 132.9875, 4186,     50.9,  22.1245,  34.7573,2,-999.0000,9,   -999.0,5,  -999.00,5,     0.14,2,     0.01,2,     0.01,2,   -999.0,9,   -999.0,9,-999.0000,9,  -999.00,      918
  49UF20100524,KS1004,  2658,  1,     21,  21981,2,20100601,0824, 23.7340, 132.9875, 4186,     74.5,  21.4244,  34.7496,2,-999.0000,9,    222.4,2,  -999.00,5,     0.12,2,     0.00,2,     0.00,2,   -999.0,9,   -999.0,9,-999.0000,9,  -999.00,      917
  49UF20100524,KS1004,  2658,  1,     20,  21980,2,20100601,0824, 23.7340, 132.9875, 4186,    100.9,  20.6975,  34.7406,2,-999.0000,9,    206.6,2,  -999.00,5,     1.39,2,     0.03,2,     0.08,2,   -999.0,9,   -999.0,9,-999.0000,9,  -999.00,      916
  49UF20100524,KS1004,  2658,  1,     19,  21978,2,20100601,0824, 23.7340, 132.9875, 4186,    126.0,  20.0681,  34.7422,2,-999.0000,9,    209.3,2,  -999.00,5,     1.39,2,     0.02,2,     0.08,2,   -999.0,9,   -999.0,9,-999.0000,9,  -999.00,      914
  49UF20100524,KS1004,  2658,  1,     18,  21977,2,20100601,0824, 23.7340, 132.9875, 4186,    153.0,  19.4918,  34.7295,2,-999.0000,9,    212.6,2,  -999.00,5,     1.53,2,     0.01,2,     0.09,2,   -999.0,9,   -999.0,9,-999.0000,9,  -999.00,      913
  49UF20100524,KS1004,  2658,  1,     17,  21976,2,20100601,0824, 23.7340, 132.9875, 4186,    203.8,  18.9265,  34.7575,2,-999.0000,9,    197.2,2,  -999.00,5,     3.50,2,     0.01,2,     0.20,2,   -999.0,9,   -999.0,9,-999.0000,9,  -999.00,      911
  49UF20100524,KS1004,  2658,  1,     16,  21975,2,20100601,0824, 23.7340, 132.9875, 4186,    253.2,  17.7355,  34.7355,2,-999.0000,9,    194.8,2,  -999.00,5,     5.20,2,     0.00,2,     0.32,2,   -999.0,9,   -999.0,9,-999.0000,9,  -999.00,      909
  49UF20100524,KS1004,  2658,  1,     15,  21974,2,20100601,0824, 23.7340, 132.9875, 4186,    303.8,  16.9068,  34.7073,2,-999.0000,9,    191.8,6,  -999.00,5,     6.87,6,     0.01,6,     0.43,6,   -999.0,9,   -999.0,9,-999.0000,9,  -999.00,      907
  49UF20100524,KS1004,  2658,  1,     14,  21973,2,20100601,0824, 23.7340, 132.9875, 4186,    404.3,  14.2000,  34.5262,2,-999.0000,9,    185.3,2,  -999.00,5,    11.55,2,     0.00,2,     0.76,2,   -999.0,9,   -999.0,9,-999.0000,9,  -999.00,      904
  49UF20100524,KS1004,  2658,  1,     13,  21972,2,20100601,0824, 23.7340, 132.9875, 4186,    505.8,  10.9627,  34.3158,2,-999.0000,9,    169.8,2,  -999.00,5,    18.44,2,     0.00,2,     1.26,2,   -999.0,9,   -999.0,9,-999.0000,9,  -999.00,      902
  49UF20100524,KS1004,  2658,  1,     12,  21971,2,20100601,0824, 23.7340, 132.9875, 4186,    605.2,   7.9109,  34.1568,2,-999.0000,9,    139.2,2,  -999.00,5,    26.45,2,     0.00,2,     1.86,2,   -999.0,9,   -999.0,9,-999.0000,9,  -999.00,      859
  49UF20100524,KS1004,  2658,  1,     10,  21969,2,20100601,0824, 23.7340, 132.9875, 4186,    707.4,   5.9282,  34.1606,2,-999.0000,9,     98.6,2,  -999.00,5,    33.44,2,     0.00,2,     2.42,2,   -999.0,9,   -999.0,9,-999.0000,9,  -999.00,      856
  49UF20100524,KS1004,  2658,  1,     11,  21970,2,20100601,0824, 23.7340, 132.9875, 4186,    708.4,   5.9263,  34.1608,2,-999.0000,9,     98.4,2,  -999.00,5,    33.57,2,     0.00,2,     2.40,2,   -999.0,9,   -999.0,9,-999.0000,9,  -999.00,      856
  49UF20100524,KS1004,  2658,  1,      9,  21968,2,20100601,0824, 23.7340, 132.9875, 4186,    806.8,   4.9076,  34.2344,2,-999.0000,9,     72.2,2,  -999.00,5,    37.62,2,     0.00,2,     2.69,2,   -999.0,9,   -999.0,9,-999.0000,9,  -999.00,      853
  49UF20100524,KS1004,  2658,  1,      8,  21967,2,20100601,0824, 23.7340, 132.9875, 4186,    908.2,   4.2608,  34.2955,2,-999.0000,9,     60.6,2,  -999.00,5,    39.58,2,     0.00,2,     2.83,2,   -999.0,9,   -999.0,9,-999.0000,9,  -999.00,      850
  49UF20100524,KS1004,  2658,  1,      6,  21965,2,20100601,0824, 23.7340, 132.9875, 4186,   1010.4,   3.8286,  34.3637,2,-999.0000,9,     57.2,2,  -999.00,5,    40.53,2,     0.00,2,     2.89,2,   -999.0,9,   -999.0,9,-999.0000,9,  -999.00,      847
  49UF20100524,KS1004,  2658,  1,      5,  21964,2,20100601,0824, 23.7340, 132.9875, 4186,   1263.9,   2.9809,  34.4830,2,-999.0000,9,     68.8,2,  -999.00,5,    40.71,6,     0.00,6,     2.87,6,   -999.0,9,   -999.0,9,-999.0000,9,  -999.00,      841
  49UF20100524,KS1004,  2658,  1,      4,  21963,2,20100601,0824, 23.7340, 132.9875, 4186,   1515.5,   2.5415,  34.5425,2,-999.0000,9,     85.8,2,  -999.00,5,    39.70,2,     0.00,2,     2.82,2,   -999.0,9,   -999.0,9,-999.0000,9,  -999.00,      836
  49UF20100524,KS1004,  2658,  1,      3,  21962,2,20100601,0824, 23.7340, 132.9875, 4186,   1769.9,   2.1185,  34.5944,2,-999.0000,9,    105.7,2,  -999.00,5,    38.84,2,     0.00,2,     2.72,2,   -999.0,9,   -999.0,9,-999.0000,9,  -999.00,      830
  49UF20100524,KS1004,  2658,  1,      2,  21961,2,20100601,0824, 23.7340, 132.9875, 4186,   2022.5,   1.9845,  34.6136,2,-999.0000,9,    114.6,2,  -999.00,5,    38.36,2,     0.00,2,     2.68,2,   -999.0,9,   -999.0,9,-999.0000,9,  -999.00,      824
  49UF20100524,KS1004,  2658,  1,      1,  21960,2,20100601,0824, 23.7340, 132.9875, 4186,   2023.4,   1.9815,  34.6140,2,-999.0000,9,    114.9,2,  -999.00,5,    38.26,2,     0.00,2,     2.68,2,   -999.0,9,   -999.0,9,-999.0000,9,  -999.00,      824
  49UF20100524,KS1004,  2661,  1,     99,     99,2,20100601,2146, 24.2167, 133.9587, 4882,      0.0,  24.7927,  34.7569,2,-999.0000,9,    213.1,2,  -999.00,5,     0.10,2,     0.00,2,     0.01,2,   -999.0,9,   -999.0,9,-999.0000,9,  -999.00,     2200
  49UF20100524,KS1004,  2661,  1,     24,  21984,2,20100601,2146, 24.2167, 133.9587, 4882,     11.8,  24.7876,  34.7567,2,  34.7566,2,    210.5,2,  -999.00,5,     0.08,2,     0.00,2,     0.00,2,   -999.0,9,   -999.0,9,-999.0000,9,  -999.00,     2300
  49UF20100524,KS1004,  2661,  1,     23,  21983,2,20100601,2146, 24.2167, 133.9587, 4882,     27.5,  24.7733,  34.7668,2,-999.0000,9,    211.0,2,  -999.00,5,     0.07,2,     0.00,2,     0.00,2,   -999.0,9,   -999.0,9,-999.0000,9,  -999.00,     2258
  49UF20100524,KS1004,  2661,  1,     22,  21982,2,20100601,2146, 24.2167, 133.9587, 4882,     51.3,  23.2088,  34.7964,2,-999.0000,9,    218.9,2,  -999.00,5,     0.03,2,     0.00,2,     0.00,2,   -999.0,9,   -999.0,9,-999.0000,9,  -999.00,     2253
  49UF20100524,KS1004,  2661,  1,     21,  21981,2,20100601,2146, 24.2167, 133.9587, 4882,     76.4,  21.4877,  34.7956,2,-999.0000,9,    220.0,2,  -999.00,5,     0.10,2,     0.00,2,     0.00,2,   -999.0,9,   -999.0,9,-999.0000,9,  -999.00,     2252
  49UF20100524,KS1004,  2661,  1,     20,  21980,2,20100601,2146, 24.2167, 133.9587, 4882,    101.8,  20.1462,  34.7467,2,  34.7469,2,    220.6,2,  -999.00,5,     0.13,2,     0.02,2,     0.00,2,   -999.0,9,   -999.0,9,-999.0000,9,  -999.00,     2250
  49UF20100524,KS1004,  2661,  1,     19,  21978,2,20100601,2146, 24.2167, 133.9587, 4882,    126.2,  19.8113,  34.7430,2,-999.0000,9,    211.1,2,  -999.00,5,     0.95,2,     0.09,2,     0.07,2,   -999.0,9,   -999.0,9,-999.0000,9,  -999.00,     2249
  49UF20100524,KS1004,  2661,  1,     18,  21977,2,20100601,2146, 24.2167, 133.9587, 4882,    152.2,  19.4337,  34.7582,2,-999.0000,9,    203.7,2,  -999.00,5,     2.13,2,     0.04,2,     0.12,2,   -999.0,9,   -999.0,9,-999.0000,9,  -999.00,     2247
  49UF20100524,KS1004,  2661,  1,     17,  21976,2,20100601,2146, 24.2167, 133.9587, 4882,    202.8,  18.4375,  34.7414,2,  34.7418,2,    197.1,2,  -999.00,5,     3.98,2,     0.01,2,     0.22,2,   -999.0,9,   -999.0,9,-999.0000,9,  -999.00,     2245
  49UF20100524,KS1004,  2661,  1,     16,  21975,2,20100601,2146, 24.2167, 133.9587, 4882,    256.3,  17.2628,  34.7210,2,-999.0000,9,    193.9,6,  -999.00,5,     5.95,6,     0.00,6,     0.38,6,   -999.0,9,   -999.0,9,-999.0000,9,  -999.00,     2243
  49UF20100524,KS1004,  2661,  1,     15,  21974,2,20100601,2146, 24.2167, 133.9587, 4882,    303.9,  16.1862,  34.6654,2,-999.0000,9,    190.3,2,  -999.00,5,     7.93,2,     0.00,2,     0.52,2,   -999.0,9,   -999.0,9,-999.0000,9,  -999.00,     2240
  49UF20100524,KS1004,  2661,  1,     14,  21973,2,20100601,2146, 24.2167, 133.9587, 4882,    405.6,  13.3153,  34.4721,2,  34.4742,2,    178.7,2,  -999.00,5,    13.58,2,     0.00,2,     0.94,2,   -999.0,9,   -999.0,9,-999.0000,9,  -999.00,     2236
  49UF20100524,KS1004,  2661,  1,     13,  21972,2,20100601,2146, 24.2167, 133.9587, 4882,    507.3,  10.1234,  34.2735,2,-999.0000,9,    159.3,2,  -999.00,5,    20.66,2,     0.00,2,     1.46,2,   -999.0,9,   -999.0,9,-999.0000,9,  -999.00,     2233
  49UF20100524,KS1004,  2661,  1,     11,  21970,2,20100601,2146, 24.2167, 133.9587, 4882,    609.9,   7.6963,  34.1868,2,  34.1936,4,    131.9,2,  -999.00,5,    27.07,2,     0.00,2,     1.95,2,   -999.0,9,   -999.0,9,-999.0000,9,  -999.00,     2228
  49UF20100524,KS1004,  2661,  1,     12,  21971,2,20100601,2146, 24.2167, 133.9587, 4882,    612.2,   7.4562,  34.1819,2,-999.0000,9,    130.4,2,  -999.00,5,    27.52,2,     0.00,2,     1.98,2,   -999.0,9,   -999.0,9,-999.0000,9,  -999.00,     2228
  49UF20100524,KS1004,  2661,  1,     10,  21969,2,20100601,2146, 24.2167, 133.9587, 4882,    706.4,   5.6831,  34.1586,2,-999.0000,9,     96.3,2,  -999.00,5,    34.00,2,     0.00,2,     2.45,2,   -999.0,9,   -999.0,9,-999.0000,9,  -999.00,     2224
  49UF20100524,KS1004,  2661,  1,      9,  21968,2,20100601,2146, 24.2167, 133.9587, 4882,    807.2,   4.8289,  34.2118,2,  34.2111,2,     74.3,2,  -999.00,5,    37.09,2,     0.00,2,     2.70,2,   -999.0,9,   -999.0,9,-999.0000,9,  -999.00,     2220
  49UF20100524,KS1004,  2661,  1,      8,  21967,2,20100601,2146, 24.2167, 133.9587, 4882,    912.5,   4.0532,  34.3090,2,-999.0000,9,     59.7,2,  -999.00,5,    39.59,2,     0.00,2,     2.86,2,   -999.0,9,   -999.0,9,-999.0000,9,  -999.00,     2217
  49UF20100524,KS1004,  2661,  1,      6,  21965,2,20100601,2146, 24.2167, 133.9587, 4882,   1010.3,   3.5901,  34.3772,2,  34.3757,6,     57.3,6,  -999.00,5,    40.42,6,     0.00,6,     2.90,6,   -999.0,9,   -999.0,9,-999.0000,9,  -999.00,     2212
  49UF20100524,KS1004,  2661,  1,      5,  21964,2,20100601,2146, 24.2167, 133.9587, 4882,   1266.3,   2.7943,  34.4983,2,  34.4975,2,     73.1,2,  -999.00,5,    40.29,2,     0.00,2,     2.87,2,   -999.0,9,   -999.0,9,-999.0000,9,  -999.00,     2205
  49UF20100524,KS1004,  2661,  1,      4,  21963,2,20100601,2146, 24.2167, 133.9587, 4882,   1517.7,   2.4322,  34.5576,2,  34.5573,2,     91.4,2,  -999.00,5,    39.18,2,     0.00,2,     2.78,2,   -999.0,9,   -999.0,9,-999.0000,9,  -999.00,     2159
  49UF20100524,KS1004,  2661,  1,      3,  21962,2,20100601,2146, 24.2167, 133.9587, 4882,   1771.9,   2.1350,  34.5945,2,-999.0000,9,    105.7,2,  -999.00,5,    38.49,2,     0.00,2,     2.72,2,   -999.0,9,   -999.0,9,-999.0000,9,  -999.00,     2153
  49UF20100524,KS1004,  2661,  1,      2,  21961,2,20100601,2146, 24.2167, 133.9587, 4882,   1772.4,   2.1350,  34.5943,2,  34.5946,2,    105.9,2,  -999.00,5,    38.45,2,     0.00,2,     2.73,2,   -999.0,9,   -999.0,9,-999.0000,9,  -999.00,     2152
  49UF20100524,KS1004,  2661,  1,      1,  21960,2,20100601,2146, 24.2167, 133.9587, 4882,   2026.3,   1.9227,  34.6210,2,  34.6208,2,    117.9,2,  -999.00,5,    37.83,2,     0.00,2,     2.67,2,   -999.0,9,   -999.0,9,-999.0000,9,  -999.00,     2146