BOTTLE,20190925PRINUNIVRMK
EXPOCODE,SECT_ID,STNNBR,CASTNO,SAMPNO,BTLNBR,BTLNBR_FLAG_W,DATE,TIME,LATITUDE,LONGITUDE,DEPTH,CTDPRS,CTDTMP,CTDSAL,CTDSAL_FLAG_W,SALNTY,SALNTY_FLAG_W,OXYGEN,OXYGEN_FLAG_W,SILCAT,SILCAT_FLAG_W,NITRAT,NITRAT_FLAG_W,NITRIT,NITRIT_FLAG_W,PHSPHT,PHSPHT_FLAG_W,TCARBN,TCARBN_FLAG_W,ALKALI,ALKALI_FLAG_W,PH_TOT,PH_TOT_FLAG_W,PH_TMP,BTL_TIME
,,,,,,,,,,,METERS,DBAR,ITS-90,PSS-78,,PSS-78,,UMOL/KG,,UMOL/KG,,UMOL/KG,,UMOL/KG,,UMOL/KG,,UMOL/KG,,UMOL/KG,,,,DEG C,
  49UF20100524,KS1004,  2649,  1,     99,     99,2,20100530,1705, 25.0122, 129.4983, 4096,      0.0,  27.3580,  34.6977,2,-999.0000,9,    202.5,2,  -999.00,9,  -999.00,9,  -999.00,9,  -999.00,9,   -999.0,9,   -999.0,9,-999.0000,9,  -999.00,     1755
  49UF20100524,KS1004,  2649,  1,     23,  21983,2,20100530,1705, 25.0122, 129.4983, 4096,     10.8,  27.3644,  34.6964,2,-999.0000,9,    203.1,2,  -999.00,9,  -999.00,9,  -999.00,9,  -999.00,9,   -999.0,9,   -999.0,9,-999.0000,9,  -999.00,     1811
  49UF20100524,KS1004,  2649,  1,     22,  21982,2,20100530,1705, 25.0122, 129.4983, 4096,     25.9,  26.2560,  34.7510,2,-999.0000,9,    209.7,2,  -999.00,9,  -999.00,9,  -999.00,9,  -999.00,9,   -999.0,9,   -999.0,9,-999.0000,9,  -999.00,     1809
  49UF20100524,KS1004,  2649,  1,     21,  21981,2,20100530,1705, 25.0122, 129.4983, 4096,     51.6,  23.7649,  34.7902,2,-999.0000,9,    219.2,2,  -999.00,9,  -999.00,9,  -999.00,9,  -999.00,9,   -999.0,9,   -999.0,9,-999.0000,9,  -999.00,     1805
  49UF20100524,KS1004,  2649,  1,     20,  21980,2,20100530,1705, 25.0122, 129.4983, 4096,     74.7,  22.3265,  34.7641,2,-999.0000,9,    215.2,2,  -999.00,9,  -999.00,9,  -999.00,9,  -999.00,9,   -999.0,9,   -999.0,9,-999.0000,9,  -999.00,     1803
  49UF20100524,KS1004,  2649,  1,     19,  21978,2,20100530,1705, 25.0122, 129.4983, 4096,    100.7,  21.6626,  34.7841,2,-999.0000,9,    200.9,6,  -999.00,9,  -999.00,9,  -999.00,9,  -999.00,9,   -999.0,9,   -999.0,9,-999.0000,9,  -999.00,     1801
  49UF20100524,KS1004,  2649,  1,     18,  21977,2,20100530,1705, 25.0122, 129.4983, 4096,    126.0,  20.6074,  34.7845,2,-999.0000,9,    193.4,2,  -999.00,9,  -999.00,9,  -999.00,9,  -999.00,9,   -999.0,9,   -999.0,9,-999.0000,9,  -999.00,     1800
  49UF20100524,KS1004,  2649,  1,     17,  21976,2,20100530,1705, 25.0122, 129.4983, 4096,    151.9,  19.7814,  34.7150,2,-999.0000,9,    205.0,2,  -999.00,9,  -999.00,9,  -999.00,9,  -999.00,9,   -999.0,9,   -999.0,9,-999.0000,9,  -999.00,     1758
  49UF20100524,KS1004,  2649,  1,     16,  21975,2,20100530,1705, 25.0122, 129.4983, 4096,    201.9,  18.8242,  34.7432,2,-999.0000,9,    197.3,2,  -999.00,9,  -999.00,9,  -999.00,9,  -999.00,9,   -999.0,9,   -999.0,9,-999.0000,9,  -999.00,     1756
  49UF20100524,KS1004,  2649,  1,     15,  21974,2,20100530,1705, 25.0122, 129.4983, 4096,    250.5,  17.9124,  34.7527,2,-999.0000,9,    195.7,4,  -999.00,9,  -999.00,9,  -999.00,9,  -999.00,9,   -999.0,9,   -999.0,9,-999.0000,9,  -999.00,     1754
  49UF20100524,KS1004,  2649,  1,     14,  21973,2,20100530,1705, 25.0122, 129.4983, 4096,    302.0,  16.8631,  34.7149,2,-999.0000,9,    192.6,2,  -999.00,9,  -999.00,9,  -999.00,9,  -999.00,9,   -999.0,9,   -999.0,9,-999.0000,9,  -999.00,     1751
  49UF20100524,KS1004,  2649,  1,     13,  21972,2,20100530,1705, 25.0122, 129.4983, 4096,    302.0,  16.8650,  34.7147,2,-999.0000,9,    193.5,2,  -999.00,9,  -999.00,9,  -999.00,9,  -999.00,9,   -999.0,9,   -999.0,9,-999.0000,9,  -999.00,     1751
  49UF20100524,KS1004,  2649,  1,     12,  21971,2,20100530,1705, 25.0122, 129.4983, 4096,    403.8,  14.2954,  34.5192,2,-999.0000,9,    187.9,2,  -999.00,9,  -999.00,9,  -999.00,9,  -999.00,9,   -999.0,9,   -999.0,9,-999.0000,9,  -999.00,     1748
  49UF20100524,KS1004,  2649,  1,     11,  21970,2,20100530,1705, 25.0122, 129.4983, 4096,    505.6,  11.1208,  34.3394,2,-999.0000,9,    161.4,2,  -999.00,9,  -999.00,9,  -999.00,9,  -999.00,9,   -999.0,9,   -999.0,9,-999.0000,9,  -999.00,     1745
  49UF20100524,KS1004,  2649,  1,     10,  21969,2,20100530,1705, 25.0122, 129.4983, 4096,    606.2,   8.0192,  34.1754,2,-999.0000,9,    133.9,2,  -999.00,9,  -999.00,9,  -999.00,9,  -999.00,9,   -999.0,9,   -999.0,9,-999.0000,9,  -999.00,     1742
  49UF20100524,KS1004,  2649,  1,      9,  21968,2,20100530,1705, 25.0122, 129.4983, 4096,    705.2,   6.2193,  34.1663,2,-999.0000,9,    100.1,6,  -999.00,9,  -999.00,9,  -999.00,9,  -999.00,9,   -999.0,9,   -999.0,9,-999.0000,9,  -999.00,     1739
  49UF20100524,KS1004,  2649,  1,      8,  21967,2,20100530,1705, 25.0122, 129.4983, 4096,    807.1,   5.2765,  34.2115,2,-999.0000,9,     77.8,2,  -999.00,9,  -999.00,9,  -999.00,9,  -999.00,9,   -999.0,9,   -999.0,9,-999.0000,9,  -999.00,     1736
  49UF20100524,KS1004,  2649,  1,      7,  21966,4,20100530,1705, 25.0122, 129.4983, 4096,    908.6,   4.5778,  34.2996,2,-999.0000,9,   -999.0,9,  -999.00,9,  -999.00,9,  -999.00,9,  -999.00,9,   -999.0,9,   -999.0,9,-999.0000,9,  -999.00,     1733
  49UF20100524,KS1004,  2649,  1,      6,  21965,2,20100530,1705, 25.0122, 129.4983, 4096,   1009.6,   3.8918,  34.3625,2,-999.0000,9,     59.4,4,  -999.00,9,  -999.00,9,  -999.00,9,  -999.00,9,   -999.0,9,   -999.0,9,-999.0000,9,  -999.00,     1729
  49UF20100524,KS1004,  2649,  1,      4,  21963,2,20100530,1705, 25.0122, 129.4983, 4096,   1262.4,   3.0161,  34.4735,2,-999.0000,9,     70.4,2,  -999.00,9,  -999.00,9,  -999.00,9,  -999.00,9,   -999.0,9,   -999.0,9,-999.0000,9,  -999.00,     1723
  49UF20100524,KS1004,  2649,  1,      5,  21964,2,20100530,1705, 25.0122, 129.4983, 4096,   1264.8,   3.0003,  34.4758,2,-999.0000,9,     69.7,2,  -999.00,9,  -999.00,9,  -999.00,9,  -999.00,9,   -999.0,9,   -999.0,9,-999.0000,9,  -999.00,     1723
  49UF20100524,KS1004,  2649,  1,      3,  21962,2,20100530,1705, 25.0122, 129.4983, 4096,   1517.8,   2.5014,  34.5430,2,-999.0000,9,     87.7,2,  -999.00,9,  -999.00,9,  -999.00,9,  -999.00,9,   -999.0,9,   -999.0,9,-999.0000,9,  -999.00,     1717
  49UF20100524,KS1004,  2649,  1,      2,  21961,2,20100530,1705, 25.0122, 129.4983, 4096,   1769.4,   2.1808,  34.5857,2,-999.0000,9,    102.1,2,  -999.00,9,  -999.00,9,  -999.00,9,  -999.00,9,   -999.0,9,   -999.0,9,-999.0000,9,  -999.00,     1711
  49UF20100524,KS1004,  2649,  1,      1,  21960,2,20100530,1705, 25.0122, 129.4983, 4096,   2023.5,   1.9432,  34.6204,2,-999.0000,9,    117.4,2,  -999.00,9,  -999.00,9,  -999.00,9,  -999.00,9,   -999.0,9,   -999.0,9,-999.0000,9,  -999.00,     1705
  49UF20100524,KS1004,  2651,  1,     99,     99,2,20100531,0052, 24.6848, 129.9833, 4208,      0.0,  28.5163,  34.8123,2,-999.0000,9,   -999.0,5,  -999.00,5,     0.14,2,     0.00,2,     0.01,2,   -999.0,9,   -999.0,9,-999.0000,9,  -999.00,      135
  49UF20100524,KS1004,  2651,  1,     24,  21984,2,20100531,0052, 24.6848, 129.9833, 4208,     11.8,  28.5159,  34.8127,2,  34.8134,2,    199.6,2,  -999.00,5,     0.08,2,     0.00,2,     0.00,2,   1933.3,2,   2287.6,2,   8.1200,2,    25.00,      154
  49UF20100524,KS1004,  2651,  1,     23,  21983,2,20100531,0052, 24.6848, 129.9833, 4208,     26.5,  28.5049,  34.8121,2,-999.0000,9,    200.1,2,  -999.00,5,     0.09,2,     0.00,2,     0.00,2,   1940.3,2,   2286.8,2,   8.1212,2,    25.00,      152
  49UF20100524,KS1004,  2651,  1,     22,  21982,2,20100531,0052, 24.6848, 129.9833, 4208,     52.0,  25.8070,  34.8552,2,-999.0000,9,    209.0,2,  -999.00,5,     0.05,2,     0.00,2,     0.00,2,   1957.2,2,   2290.5,2,   8.1022,2,    25.00,      148
  49UF20100524,KS1004,  2651,  1,     21,  21981,2,20100531,0052, 24.6848, 129.9833, 4208,     76.3,  23.8837,  34.8212,2,-999.0000,9,    201.8,2,  -999.00,5,     0.10,2,     0.00,2,     0.01,2,   1981.0,2,   2284.7,2,   8.0652,2,    25.00,      146
  49UF20100524,KS1004,  2651,  1,     20,  21980,2,20100531,0052, 24.6848, 129.9833, 4208,    101.7,  22.5260,  34.7931,2,  34.7970,2,    200.8,2,  -999.00,5,     0.19,2,     0.10,2,     0.02,2,   1989.2,2,   2287.3,2,   8.0443,2,    25.00,      145
  49UF20100524,KS1004,  2651,  1,     19,  21978,2,20100531,0052, 24.6848, 129.9833, 4208,    124.9,  21.9092,  34.9279,2,-999.0000,9,    181.4,2,  -999.00,5,     1.90,2,     0.03,2,     0.15,2,   2021.3,2,   2296.6,2,   7.9945,2,    25.00,      144
  49UF20100524,KS1004,  2651,  1,     18,  21977,2,20100531,0052, 24.6848, 129.9833, 4208,    152.7,  20.5499,  34.8149,2,-999.0000,9,    187.3,2,  -999.00,5,     2.63,2,     0.01,2,     0.17,2,   2022.7,2,   2289.3,2,   7.9870,2,    25.00,      142
  49UF20100524,KS1004,  2651,  1,     17,  21976,2,20100531,0052, 24.6848, 129.9833, 4208,    202.0,  19.2667,  34.7794,2,  34.7790,2,    190.9,2,  -999.00,5,     3.67,2,     0.01,2,     0.22,2,   2024.2,6,   2283.1,6,   7.9746,2,    25.00,      141
  49UF20100524,KS1004,  2651,  1,     15,  21974,2,20100531,0052, 24.6848, 129.9833, 4208,    251.7,  18.1327,  34.7726,2,-999.0000,9,    192.8,2,  -999.00,5,     4.84,2,     0.01,2,     0.30,2,   2035.7,2,   2282.7,2,   7.9500,2,    25.00,      139
  49UF20100524,KS1004,  2651,  1,     16,  21975,2,20100531,0052, 24.6848, 129.9833, 4208,    252.2,  18.1298,  34.7729,2,-999.0000,9,    192.3,2,  -999.00,5,     4.96,2,     0.01,2,     0.30,2,   2042.5,2,   2284.1,2,   7.9502,2,    25.00,      139
  49UF20100524,KS1004,  2651,  1,     14,  21973,2,20100531,0052, 24.6848, 129.9833, 4208,    302.8,  17.1645,  34.7296,2,-999.0000,9,    192.0,2,  -999.00,5,     6.20,2,     0.00,2,     0.39,2,   2050.4,2,   2282.7,2,   7.9250,2,    25.00,      137
  49UF20100524,KS1004,  2651,  1,     13,  21972,2,20100531,0052, 24.6848, 129.9833, 4208,    403.8,  14.7801,  34.5681,2,  34.5700,2,    183.9,2,  -999.00,5,    10.90,2,     0.00,2,     0.72,2,   2078.7,2,   2275.7,2,   7.8548,2,    25.00,      133
  49UF20100524,KS1004,  2651,  1,     12,  21971,2,20100531,0052, 24.6848, 129.9833, 4208,    504.7,  12.1936,  34.3898,2,-999.0000,9,    174.1,2,  -999.00,5,    16.02,2,     0.00,2,     1.08,2,   2107.3,2,   2276.3,2,   7.7662,2,    25.00,      131
  49UF20100524,KS1004,  2651,  1,     11,  21970,2,20100531,0052, 24.6848, 129.9833, 4208,    606.1,   9.0707,  34.1842,2,  34.1856,6,    152.0,6,  -999.00,5,    23.34,6,     0.00,6,     1.64,6,   2158.0,2,   2277.7,2,   7.6457,2,    25.00,      128
  49UF20100524,KS1004,  2651,  1,     10,  21969,2,20100531,0052, 24.6848, 129.9833, 4208,    707.9,   7.2319,  34.1549,2,-999.0000,9,    123.3,2,  -999.00,5,    29.42,2,     0.00,2,     2.07,2,   2212.8,2,   2292.1,2,   7.5429,2,    25.00,      124
  49UF20100524,KS1004,  2651,  1,      9,  21968,2,20100531,0052, 24.6848, 129.9833, 4208,    808.7,   6.0555,  34.2072,2,  34.2084,2,     93.3,2,  -999.00,5,    34.07,2,     0.00,2,     2.42,2,   2266.4,2,   2316.0,2,   7.4807,2,    25.00,      121
  49UF20100524,KS1004,  2651,  1,      8,  21967,2,20100531,0052, 24.6848, 129.9833, 4208,    907.7,   4.7947,  34.2948,2,-999.0000,9,     70.6,2,  -999.00,5,    37.77,2,     0.00,2,     2.71,2,   2302.8,2,   2340.5,2,   7.4192,2,    25.00,      119
  49UF20100524,KS1004,  2651,  1,      5,  21964,2,20100531,0052, 24.6848, 129.9833, 4208,   1009.3,   4.0325,  34.3535,2,  34.3532,2,     62.2,2,  -999.00,5,    39.87,2,     0.00,2,     2.83,2,   2328.9,6,   2358.5,6,   7.4014,6,    25.00,      115
  49UF20100524,KS1004,  2651,  1,      6,  21965,2,20100531,0052, 24.6848, 129.9833, 4208,   1010.0,   4.0251,  34.3545,2,-999.0000,9,     62.8,2,  -999.00,5,    39.92,2,     0.00,2,     2.83,2,   2334.1,2,   2357.8,2,   7.3996,2,    25.00,      115
  49UF20100524,KS1004,  2651,  1,      4,  21963,2,20100531,0052, 24.6848, 129.9833, 4208,   1263.7,   3.1450,  34.4730,2,  34.4728,2,     69.2,2,  -999.00,5,    40.54,2,     0.00,2,     2.85,2,   2348.5,2,   2383.6,2,   7.4191,2,    25.00,      109
  49UF20100524,KS1004,  2651,  1,      3,  21962,2,20100531,0052, 24.6848, 129.9833, 4208,   1517.6,   2.5648,  34.5331,2,  34.5341,2,     83.6,2,  -999.00,5,    39.94,2,     0.00,2,     2.82,2,   2352.1,2,   2397.1,2,   7.4425,2,    25.00,      103
  49UF20100524,KS1004,  2651,  1,      2,  21961,2,20100531,0052, 24.6848, 129.9833, 4208,   1768.3,   2.2036,  34.5836,2,  34.5944,4,    102.3,2,  -999.00,5,    39.12,2,     0.00,2,     2.73,2,   2348.0,2,   2405.9,2,   7.4779,2,    25.00,       57
  49UF20100524,KS1004,  2651,  1,      1,  21960,2,20100531,0052, 24.6848, 129.9833, 4208,   2024.2,   1.9788,  34.6154,2,  34.6169,2,    115.6,6,  -999.00,5,    38.40,6,     0.00,6,     2.69,6,   2346.9,2,   2411.2,2,   7.5082,2,    25.00,       52
  49UF20100524,KS1004,  2654,  1,     99,     99,2,20100531,1339, 23.9995, 130.9985, 3323,      0.0,  26.9526,  34.7308,2,-999.0000,9,   -999.0,5,  -999.00,5,     0.14,2,     0.00,2,     0.02,2,   -999.0,9,   -999.0,9,-999.0000,9,  -999.00,     1419
  49UF20100524,KS1004,  2654,  1,     24,  21984,2,20100531,1339, 23.9995, 130.9985, 3323,     11.3,  26.9563,  34.7289,2,-999.0000,9,    202.6,2,  -999.00,5,     0.11,2,     0.00,2,     0.01,2,   -999.0,9,   -999.0,9,-999.0000,9,  -999.00,     1434
  49UF20100524,KS1004,  2654,  1,     23,  21983,2,20100531,1339, 23.9995, 130.9985, 3323,     27.1,  26.9582,  34.7399,2,-999.0000,9,    203.3,2,  -999.00,5,     0.14,2,     0.00,2,     0.00,2,   -999.0,9,   -999.0,9,-999.0000,9,  -999.00,     1433
  49UF20100524,KS1004,  2654,  1,     22,  21982,2,20100531,1339, 23.9995, 130.9985, 3323,     51.2,  25.8577,  34.8285,2,-999.0000,9,    209.2,2,  -999.00,5,     0.06,2,     0.00,2,     0.00,2,   -999.0,9,   -999.0,9,-999.0000,9,  -999.00,     1428
  49UF20100524,KS1004,  2654,  1,     21,  21981,2,20100531,1339, 23.9995, 130.9985, 3323,     75.1,  24.1502,  34.7914,2,-999.0000,9,    212.8,2,  -999.00,5,     0.08,2,     0.00,2,     0.00,2,   -999.0,9,   -999.0,9,-999.0000,9,  -999.00,     1427
  49UF20100524,KS1004,  2654,  1,     20,  21980,2,20100531,1339, 23.9995, 130.9985, 3323,    102.4,  22.6534,  34.7759,2,-999.0000,9,    209.9,2,  -999.00,5,     0.18,2,     0.10,2,     0.00,2,   -999.0,9,   -999.0,9,-999.0000,9,  -999.00,     1426
  49UF20100524,KS1004,  2654,  1,     19,  21978,2,20100531,1339, 23.9995, 130.9985, 3323,    128.3,  21.9485,  34.7644,2,-999.0000,9,    211.4,2,  -999.00,5,     0.35,2,     0.17,2,     0.01,2,   -999.0,9,   -999.0,9,-999.0000,9,  -999.00,     1424
  49UF20100524,KS1004,  2654,  1,     18,  21977,2,20100531,1339, 23.9995, 130.9985, 3323,    152.4,  21.4969,  34.7528,2,-999.0000,9,    209.5,2,  -999.00,5,     0.57,2,     0.06,2,     0.03,2,   -999.0,9,   -999.0,9,-999.0000,9,  -999.00,     1423
  49UF20100524,KS1004,  2654,  1,     17,  21976,2,20100531,1339, 23.9995, 130.9985, 3323,    204.3,  20.3668,  34.7524,2,-999.0000,9,    211.7,2,  -999.00,5,     1.05,2,     0.03,2,     0.06,2,   -999.0,9,   -999.0,9,-999.0000,9,  -999.00,     1421
  49UF20100524,KS1004,  2654,  1,     16,  21975,2,20100531,1339, 23.9995, 130.9985, 3323,    204.5,  20.3672,  34.7525,2,-999.0000,9,    211.6,2,  -999.00,5,     1.02,2,     0.03,2,     0.04,2,   -999.0,9,   -999.0,9,-999.0000,9,  -999.00,     1421
  49UF20100524,KS1004,  2654,  1,     15,  21974,2,20100531,1339, 23.9995, 130.9985, 3323,    254.2,  19.5747,  34.7307,2,-999.0000,9,    211.6,2,  -999.00,5,     1.62,2,     0.01,2,     0.08,2,   -999.0,9,   -999.0,9,-999.0000,9,  -999.00,     1419
  49UF20100524,KS1004,  2654,  1,     14,  21973,2,20100531,1339, 23.9995, 130.9985, 3323,    304.5,  18.5186,  34.7576,2,-999.0000,9,    195.5,2,  -999.00,5,     4.15,2,     0.00,2,     0.25,2,   -999.0,9,   -999.0,9,-999.0000,9,  -999.00,     1418
  49UF20100524,KS1004,  2654,  1,     13,  21972,2,20100531,1339, 23.9995, 130.9985, 3323,    405.2,  15.9830,  34.6535,2,-999.0000,9,    188.3,2,  -999.00,5,     8.53,2,     0.00,2,     0.54,2,   -999.0,9,   -999.0,9,-999.0000,9,  -999.00,     1415
  49UF20100524,KS1004,  2654,  1,     12,  21971,2,20100531,1339, 23.9995, 130.9985, 3323,    503.7,  12.9867,  34.4427,2,-999.0000,9,    176.8,6,  -999.00,5,    14.36,6,     0.00,6,     0.98,6,   -999.0,9,   -999.0,9,-999.0000,9,  -999.00,     1413
  49UF20100524,KS1004,  2654,  1,     11,  21970,2,20100531,1339, 23.9995, 130.9985, 3323,    605.7,   9.3282,  34.2436,2,-999.0000,9,    144.1,2,  -999.00,5,    23.73,2,     0.00,2,     1.66,2,   -999.0,9,   -999.0,9,-999.0000,9,  -999.00,     1410
  49UF20100524,KS1004,  2654,  1,     10,  21969,2,20100531,1339, 23.9995, 130.9985, 3323,    706.9,   7.1113,  34.1516,2,-999.0000,9,    118.6,2,  -999.00,5,    29.88,2,     0.00,2,     2.15,2,   -999.0,9,   -999.0,9,-999.0000,9,  -999.00,     1408
  49UF20100524,KS1004,  2654,  1,      9,  21968,2,20100531,1339, 23.9995, 130.9985, 3323,    807.7,   5.4926,  34.2076,2,-999.0000,9,     77.4,2,  -999.00,5,    36.52,2,     0.00,2,     2.63,2,   -999.0,9,   -999.0,9,-999.0000,9,  -999.00,     1405
  49UF20100524,KS1004,  2654,  1,      8,  21967,2,20100531,1339, 23.9995, 130.9985, 3323,    909.2,   4.6466,  34.2921,2,-999.0000,9,     62.2,2,  -999.00,5,    39.01,2,     0.00,2,     2.80,2,   -999.0,9,   -999.0,9,-999.0000,9,  -999.00,     1403
  49UF20100524,KS1004,  2654,  1,      6,  21965,2,20100531,1339, 23.9995, 130.9985, 3323,    909.3,   4.6464,  34.2918,2,-999.0000,9,     64.3,3,  -999.00,5,    39.13,2,     0.00,2,     2.80,2,   -999.0,9,   -999.0,9,-999.0000,9,  -999.00,     1403
  49UF20100524,KS1004,  2654,  1,      5,  21964,2,20100531,1339, 23.9995, 130.9985, 3323,   1010.2,   4.0222,  34.3591,2,-999.0000,9,     57.7,2,  -999.00,5,    40.24,2,     0.00,2,     2.87,2,   -999.0,9,   -999.0,9,-999.0000,9,  -999.00,     1400
  49UF20100524,KS1004,  2654,  1,      4,  21963,2,20100531,1339, 23.9995, 130.9985, 3323,   1262.6,   3.1336,  34.4762,2,-999.0000,9,     68.1,2,  -999.00,5,    40.46,2,     0.00,2,     2.88,2,   -999.0,9,   -999.0,9,-999.0000,9,  -999.00,     1355
  49UF20100524,KS1004,  2654,  1,      3,  21962,2,20100531,1339, 23.9995, 130.9985, 3323,   1516.3,   2.5726,  34.5464,2,-999.0000,9,     88.7,2,  -999.00,5,    39.34,2,     0.00,2,     2.81,2,   -999.0,9,   -999.0,9,-999.0000,9,  -999.00,     1350
  49UF20100524,KS1004,  2654,  1,      2,  21961,2,20100531,1339, 23.9995, 130.9985, 3323,   1769.0,   2.2930,  34.5778,2,-999.0000,9,     99.9,6,  -999.00,5,    38.85,6,     0.00,6,     2.75,6,   -999.0,9,   -999.0,9,-999.0000,9,  -999.00,     1344
  49UF20100524,KS1004,  2654,  1,      1,  21960,2,20100531,1339, 23.9995, 130.9985, 3323,   2025.5,   2.0058,  34.6125,2,-999.0000,9,    114.4,2,  -999.00,5,    38.34,2,     0.00,2,     2.69,2,   -999.0,9,   -999.0,9,-999.0000,9,  -999.00,     1339