BOTTLE,20190925PRINUNIVRMK
# processed by CCHDO 2019-10-09, no changes
# 08/29/2019 Initialized README file  
# Data source:  Masao Ishii 2018/11/30 
# SHIP: R/V Keifu Maru II 
# Cruise: KS10-04 
# Region:NW Pacific Ocean 
# 	NW to SE section of 20 stations 29Nx126E to 24Nx137E 
# EXPOCODE: 49UF20100524 
# DATES: 20100524 - 20100609	 
# Chief Scientist: Tatsuo Nakamura	 
# 20 stations with 24 place Rosette 
# CTD: Who - Hitomi Kamiya; Status - final 
# 	Includes: CTDSAL 
# SALNTY: Who - Hitomi Kamiya; Status - final 
# 	Notes: 	 
# Nutrients: Who - Hitomi Kamiya; Status - final 
# 	Includes: nitrate, nitrite, silicate, phosphate 
# 	Nitrite and NO3+NO2 reported. Separated by subtraction 
# OXYGEN: Who - Tatsushi Shiga; Status - final 
# 	Notes: 
# TCARBN: Who - Hitomi Kamiya; Status - final 
# 	Notes:  
# ALKALI: Who - Hitomi Kamiya; Status - final 
# 	Notes:  
# PH-TOT: Who - Hitomi Kamiya; Status - final 
# 	Notes:  
# Nakamura, Tatsuo; Kamiya, Hitomi (2019). Dissolved inorganic carbon (DIC), total alkalinity, pH on total scale, temperature, salinity, oxygen, nutrients and other measurements collected from profile and discrete sample observations during the R/V Keifu Maru II cruise KS10-04 (EXPOCODE 49UF20100524) in the North Pacific Ocean from 2010-05-21 to 2010-06-09 (NCEI Accession 0186222). [indicate subset used]. NOAA National Centers for Environmental Information. Dataset. https://doi.org/10.25921/bvpt-k165.   
# References that have used data from this cruise: 
EXPOCODE,SECT_ID,STNNBR,CASTNO,SAMPNO,BTLNBR,BTLNBR_FLAG_W,DATE,TIME,LATITUDE,LONGITUDE,DEPTH,CTDPRS,CTDTMP,CTDSAL,CTDSAL_FLAG_W,SALNTY,SALNTY_FLAG_W,OXYGEN,OXYGEN_FLAG_W,SILCAT,SILCAT_FLAG_W,NITRAT,NITRAT_FLAG_W,NITRIT,NITRIT_FLAG_W,PHSPHT,PHSPHT_FLAG_W,TCARBN,TCARBN_FLAG_W,ALKALI,ALKALI_FLAG_W,PH_TOT,PH_TOT_FLAG_W,PH_TMP,BTL_TIME
,,,,,,,,,,,METERS,DBAR,ITS-90,PSS-78,,PSS-78,,UMOL/KG,,UMOL/KG,,UMOL/KG,,UMOL/KG,,UMOL/KG,,UMOL/KG,,UMOL/KG,,,,DEG C,
  49UF20100524,KS1004,  2625,  1,     99,     99,2,20100527,0658, 27.4893, 128.2825, 1063,      0.0,  23.9450,  34.6965,2,-999.0000,9,    211.3,2,  -999.00,5,     0.16,2,     0.01,2,     0.02,2,   -999.0,9,   -999.0,9,-999.0000,9,  -999.00,      700
  49UF20100524,KS1004,  2625,  1,     19,  21978,2,20100527,0658, 27.4893, 128.2825, 1063,     11.0,  23.7500,  34.7006,2,  34.7179,4,    215.9,2,  -999.00,5,     0.16,2,     0.00,2,     0.01,2,   -999.0,9,   -999.0,9,-999.0000,9,  -999.00,      746
  49UF20100524,KS1004,  2625,  1,     18,  21977,2,20100527,0658, 27.4893, 128.2825, 1063,     20.8,  22.5148,  34.7456,2,-999.0000,9,    218.4,2,  -999.00,5,     0.13,2,     0.00,2,     0.02,2,   -999.0,9,   -999.0,9,-999.0000,9,  -999.00,      744
  49UF20100524,KS1004,  2625,  1,     17,  21976,2,20100527,0658, 27.4893, 128.2825, 1063,     30.8,  22.3111,  34.7470,2,-999.0000,9,    216.9,2,  -999.00,5,     0.10,2,     0.01,2,     0.01,2,   -999.0,9,   -999.0,9,-999.0000,9,  -999.00,      743
  49UF20100524,KS1004,  2625,  1,     16,  21975,2,20100527,0658, 27.4893, 128.2825, 1063,     50.9,  21.8240,  34.7430,2,-999.0000,9,    213.1,2,  -999.00,5,     0.45,2,     0.10,2,     0.04,2,   -999.0,9,   -999.0,9,-999.0000,9,  -999.00,      737
  49UF20100524,KS1004,  2625,  1,     15,  21974,2,20100527,0658, 27.4893, 128.2825, 1063,     76.5,  21.7231,  34.7428,2,-999.0000,9,    209.5,2,  -999.00,5,     0.79,2,     0.13,2,     0.06,2,   -999.0,9,   -999.0,9,-999.0000,9,  -999.00,      735
  49UF20100524,KS1004,  2625,  1,     14,  21973,2,20100527,0658, 27.4893, 128.2825, 1063,    102.6,  21.1072,  34.7355,2,  34.7346,2,    206.0,2,  -999.00,5,     1.50,2,     0.06,2,     0.09,2,   -999.0,9,   -999.0,9,-999.0000,9,  -999.00,      733
  49UF20100524,KS1004,  2625,  1,     13,  21972,2,20100527,0658, 27.4893, 128.2825, 1063,    126.8,  20.7380,  34.7379,2,-999.0000,9,    201.5,2,  -999.00,5,     2.11,2,     0.03,2,     0.13,2,   -999.0,9,   -999.0,9,-999.0000,9,  -999.00,      731
  49UF20100524,KS1004,  2625,  1,     12,  21971,2,20100527,0658, 27.4893, 128.2825, 1063,    151.9,  20.4880,  34.7424,2,-999.0000,9,    213.8,3,  -999.00,5,     0.54,2,     0.01,2,     0.05,2,   -999.0,9,   -999.0,9,-999.0000,9,  -999.00,      729
  49UF20100524,KS1004,  2625,  1,     11,  21970,2,20100527,0658, 27.4893, 128.2825, 1063,    202.4,  19.6955,  34.7497,2,  34.7487,2,    190.9,2,  -999.00,5,     4.00,2,     0.02,2,     0.24,2,   -999.0,9,   -999.0,9,-999.0000,9,  -999.00,      727
  49UF20100524,KS1004,  2625,  1,     10,  21969,2,20100527,0658, 27.4893, 128.2825, 1063,    252.9,  18.3687,  34.7381,2,-999.0000,9,    186.2,2,  -999.00,5,     5.80,2,     0.01,2,     0.36,2,   -999.0,9,   -999.0,9,-999.0000,9,  -999.00,      725
  49UF20100524,KS1004,  2625,  1,      9,  21968,2,20100527,0658, 27.4893, 128.2825, 1063,    305.1,  16.5097,  34.6686,2,-999.0000,9,    181.9,2,  -999.00,5,     8.60,2,     0.01,2,     0.56,2,   -999.0,9,   -999.0,9,-999.0000,9,  -999.00,      722
  49UF20100524,KS1004,  2625,  1,      8,  21967,2,20100527,0658, 27.4893, 128.2825, 1063,    404.4,  14.3352,  34.5440,2,  34.5433,2,    179.3,4,  -999.00,5,    12.77,2,     0.01,2,     0.86,2,   -999.0,9,   -999.0,9,-999.0000,9,  -999.00,      719
  49UF20100524,KS1004,  2625,  1,      7,  21966,2,20100527,0658, 27.4893, 128.2825, 1063,    505.9,  11.7721,  34.4283,2,-999.0000,9,    153.5,2,  -999.00,5,    18.82,2,     0.01,2,     1.31,2,   -999.0,9,   -999.0,9,-999.0000,9,  -999.00,      716
  49UF20100524,KS1004,  2625,  1,      6,  21965,2,20100527,0658, 27.4893, 128.2825, 1063,    606.6,   8.9513,  34.3731,2,  34.3726,6,    123.4,6,  -999.00,5,    26.37,6,     0.01,6,     1.86,6,   -999.0,9,   -999.0,9,-999.0000,9,  -999.00,      712
  49UF20100524,KS1004,  2625,  1,      5,  21964,2,20100527,0658, 27.4893, 128.2825, 1063,    706.9,   7.5935,  34.3590,2,-999.0000,9,    108.8,2,  -999.00,5,    29.94,2,     0.01,2,     2.12,2,   -999.0,9,   -999.0,9,-999.0000,9,  -999.00,      708
  49UF20100524,KS1004,  2625,  1,      4,  21963,2,20100527,0658, 27.4893, 128.2825, 1063,    807.8,   6.8855,  34.3550,2,  34.3545,2,    101.2,2,  -999.00,5,    31.76,2,     0.01,2,     2.25,2,   -999.0,9,   -999.0,9,-999.0000,9,  -999.00,      705
  49UF20100524,KS1004,  2625,  1,      3,  21962,2,20100527,0658, 27.4893, 128.2825, 1063,    909.7,   6.2469,  34.3619,2,-999.0000,9,     93.5,2,  -999.00,5,    33.47,2,     0.01,2,     2.38,2,   -999.0,9,   -999.0,9,-999.0000,9,  -999.00,      702
  49UF20100524,KS1004,  2625,  1,      1,  21960,2,20100527,0658, 27.4893, 128.2825, 1063,   1012.2,   5.8714,  34.3662,2,  34.3666,6,     90.9,2,  -999.00,5,    34.57,2,     0.01,2,     2.47,2,   -999.0,9,   -999.0,9,-999.0000,9,  -999.00,      658
  49UF20100524,KS1004,  2625,  1,      2,  21961,2,20100527,0658, 27.4893, 128.2825, 1063,   1012.8,   5.8714,  34.3662,2,-999.0000,9,     91.5,2,  -999.00,5,    34.54,2,     0.00,2,     2.46,2,   -999.0,9,   -999.0,9,-999.0000,9,  -999.00,      658
  49UF20100524,KS1004,  2627,  1,     99,     99,2,20100527,1306, 27.7945, 127.8017,  835,      0.0,  26.2309,  34.6504,2,-999.0000,9,    206.2,2,  -999.00,5,  -999.00,5,     0.00,2,  -999.00,5,   -999.0,9,   -999.0,9,-999.0000,9,  -999.00,     1320
  49UF20100524,KS1004,  2627,  1,     19,  21978,2,20100527,1306, 27.7945, 127.8017,  835,     11.2,  26.2415,  34.6502,2,-999.0000,9,    204.5,2,  -999.00,5,  -999.00,5,     0.00,2,  -999.00,5,   1944.5,2,   2243.1,4,   8.0872,2,    25.00,     1359
  49UF20100524,KS1004,  2627,  1,     18,  21977,2,20100527,1306, 27.7945, 127.8017,  835,     21.9,  26.2386,  34.6504,2,-999.0000,9,    207.2,2,  -999.00,5,  -999.00,5,     0.00,2,  -999.00,5,   1942.3,2,   2244.9,4,   8.1006,3,    25.00,     1357
  49UF20100524,KS1004,  2627,  1,     17,  21976,2,20100527,1306, 27.7945, 127.8017,  835,     30.9,  26.0802,  34.6673,2,-999.0000,9,    205.8,2,  -999.00,5,  -999.00,5,     0.00,2,  -999.00,5,   1947.1,2,   2247.5,4,   8.0911,2,    25.00,     1355
  49UF20100524,KS1004,  2627,  1,     16,  21975,2,20100527,1306, 27.7945, 127.8017,  835,     50.9,  25.0581,  34.7827,2,-999.0000,9,    207.6,2,  -999.00,5,  -999.00,5,     0.00,2,  -999.00,5,   1955.0,2,   2240.2,4,   8.0872,3,    25.00,     1349
  49UF20100524,KS1004,  2627,  1,     15,  21974,2,20100527,1306, 27.7945, 127.8017,  835,     76.6,  23.9164,  34.7729,2,-999.0000,9,    197.3,2,  -999.00,5,  -999.00,5,     0.25,2,  -999.00,5,   1980.6,2,   2238.9,4,   8.0487,2,    25.00,     1348
  49UF20100524,KS1004,  2627,  1,     14,  21973,2,20100527,1306, 27.7945, 127.8017,  835,    101.4,  22.9633,  34.7531,2,-999.0000,9,    203.5,2,  -999.00,5,  -999.00,5,     0.20,2,  -999.00,5,   1978.6,2,   2230.3,4,   8.0526,3,    25.00,     1346
  49UF20100524,KS1004,  2627,  1,     13,  21972,2,20100527,1306, 27.7945, 127.8017,  835,    125.3,  21.9902,  34.7588,2,-999.0000,9,    199.8,2,  -999.00,5,  -999.00,5,     0.08,2,  -999.00,5,   1995.1,2,   2229.0,4,   8.0255,2,    25.00,     1344
  49UF20100524,KS1004,  2627,  1,     12,  21971,2,20100527,1306, 27.7945, 127.8017,  835,    153.1,  21.2104,  34.7315,2,-999.0000,9,    208.8,2,  -999.00,5,  -999.00,5,     0.03,2,  -999.00,5,   1985.8,2,   2228.6,4,   8.0337,3,    25.00,     1343
  49UF20100524,KS1004,  2627,  1,     11,  21970,2,20100527,1306, 27.7945, 127.8017,  835,    203.9,  20.2564,  34.7468,2,-999.0000,9,    195.8,2,  -999.00,5,  -999.00,5,     0.01,2,  -999.00,5,   2008.6,6,   2231.9,4,   7.9978,2,    25.00,     1341
  49UF20100524,KS1004,  2627,  1,     10,  21969,2,20100527,1306, 27.7945, 127.8017,  835,    253.3,  18.6177,  34.7451,2,-999.0000,9,    187.4,2,  -999.00,5,  -999.00,5,     0.01,2,  -999.00,5,   2037.2,2,   2232.4,4,   7.9534,2,    25.00,     1339
  49UF20100524,KS1004,  2627,  1,      9,  21968,2,20100527,1306, 27.7945, 127.8017,  835,    303.9,  17.2704,  34.7061,2,-999.0000,9,    183.9,2,  -999.00,5,  -999.00,5,     0.01,2,  -999.00,5,   2055.6,2,   2241.3,4,   7.9193,3,    25.00,     1323
  49UF20100524,KS1004,  2627,  1,      7,  21966,2,20100527,1306, 27.7945, 127.8017,  835,    405.4,  14.6443,  34.5580,2,-999.0000,9,    175.9,2,  -999.00,5,  -999.00,5,     0.01,6,  -999.00,5,   2089.8,2,   2225.1,4,   7.8540,2,    25.00,     1319
  49UF20100524,KS1004,  2627,  1,      6,  21965,2,20100527,1306, 27.7945, 127.8017,  835,    505.6,  11.5887,  34.4005,2,-999.0000,9,    154.5,2,  -999.00,5,  -999.00,5,     0.00,2,  -999.00,5,   2140.6,2,   2237.2,4,   7.7337,3,    25.00,     1316
  49UF20100524,KS1004,  2627,  1,      5,  21964,2,20100527,1306, 27.7945, 127.8017,  835,    606.8,   8.9034,  34.3139,2,-999.0000,9,    127.7,2,  -999.00,5,  -999.00,5,     0.00,2,  -999.00,5,   2202.0,2,   2182.4,4,   7.6547,2,    25.00,     1312
  49UF20100524,KS1004,  2627,  1,      4,  21963,2,20100527,1306, 27.7945, 127.8017,  835,    706.3,   7.0040,  34.3352,2,-999.0000,9,    102.9,2,  -999.00,5,  -999.00,5,     0.00,2,  -999.00,5,   2254.1,2,   2264.5,4,   7.5395,3,    25.00,     1309
  49UF20100524,KS1004,  2627,  1,      3,  21962,2,20100527,1306, 27.7945, 127.8017,  835,    755.7,   6.4033,  34.3472,2,-999.0000,9,     95.6,2,  -999.00,5,  -999.00,5,     0.00,2,  -999.00,5,   2272.3,2,   2291.7,4,   7.5613,3,    25.00,     1307
  49UF20100524,KS1004,  2627,  1,      2,  21961,2,20100527,1306, 27.7945, 127.8017,  835,    756.5,   6.3753,  34.3480,2,-999.0000,9,     97.1,4,  -999.00,5,  -999.00,5,     0.00,2,  -999.00,5,   2267.8,2,   2293.1,4,   7.4906,4,    25.00,     1307
  49UF20100524,KS1004,  2627,  1,      1,  21960,2,20100527,1306, 27.7945, 127.8017,  835,    756.6,   6.3784,  34.3479,2,-999.0000,9,     96.1,2,  -999.00,5,  -999.00,5,     0.00,2,  -999.00,5,   2266.3,6,   2293.9,4,   7.5118,2,    25.00,     1306
  49UF20100524,KS1004,  2630,  1,     99,     99,2,20100527,2150, 28.1133, 127.3492,  990,      0.0,  26.3932,  34.6669,2,-999.0000,9,    204.2,2,  -999.00,5,     0.12,2,     0.00,2,     0.02,2,   -999.0,9,   -999.0,9,-999.0000,9,  -999.00,     2200
  49UF20100524,KS1004,  2630,  1,     19,  21978,2,20100527,2150, 28.1133, 127.3492,  990,     11.6,  26.4037,  34.6665,2,  34.6660,2,    204.5,2,  -999.00,5,     0.06,2,     0.00,2,     0.01,2,   -999.0,9,   -999.0,9,-999.0000,9,  -999.00,     2241
  49UF20100524,KS1004,  2630,  1,     18,  21977,2,20100527,2150, 28.1133, 127.3492,  990,     21.6,  26.3818,  34.6664,2,-999.0000,9,    205.4,2,  -999.00,5,     0.10,2,     0.00,2,     0.01,2,   -999.0,9,   -999.0,9,-999.0000,9,  -999.00,     2239
  49UF20100524,KS1004,  2630,  1,     17,  21976,2,20100527,2150, 28.1133, 127.3492,  990,     31.0,  26.3744,  34.6664,2,-999.0000,9,    205.5,2,  -999.00,5,     0.06,2,     0.00,2,     0.01,2,   -999.0,9,   -999.0,9,-999.0000,9,  -999.00,     2238
  49UF20100524,KS1004,  2630,  1,     16,  21975,2,20100527,2150, 28.1133, 127.3492,  990,     51.5,  25.8448,  34.7466,2,-999.0000,9,    206.3,2,  -999.00,5,     0.07,2,     0.00,2,     0.00,2,   -999.0,9,   -999.0,9,-999.0000,9,  -999.00,     2232
  49UF20100524,KS1004,  2630,  1,     15,  21974,2,20100527,2150, 28.1133, 127.3492,  990,     75.9,  25.2550,  34.7578,2,-999.0000,9,    206.3,2,  -999.00,5,     0.08,2,     0.00,2,     0.00,2,   -999.0,9,   -999.0,9,-999.0000,9,  -999.00,     2230
  49UF20100524,KS1004,  2630,  1,     14,  21973,2,20100527,2150, 28.1133, 127.3492,  990,    101.8,  24.1430,  34.7862,2,  34.7858,2,    204.6,2,  -999.00,5,     0.14,2,     0.03,2,     0.01,2,   -999.0,9,   -999.0,9,-999.0000,9,  -999.00,     2229
  49UF20100524,KS1004,  2630,  1,     13,  21972,2,20100527,2150, 28.1133, 127.3492,  990,    126.1,  22.6762,  34.7837,2,-999.0000,9,    193.7,2,  -999.00,5,     1.58,2,     0.07,2,     0.10,2,   -999.0,9,   -999.0,9,-999.0000,9,  -999.00,     2227
  49UF20100524,KS1004,  2630,  1,     12,  21971,2,20100527,2150, 28.1133, 127.3492,  990,    153.1,  21.1089,  34.7949,2,-999.0000,9,    189.1,2,  -999.00,5,     2.35,2,     0.03,2,     0.15,2,   -999.0,9,   -999.0,9,-999.0000,9,  -999.00,     2225
  49UF20100524,KS1004,  2630,  1,     11,  21970,2,20100527,2150, 28.1133, 127.3492,  990,    203.7,  19.9615,  34.7677,2,  34.7660,2,    186.3,2,  -999.00,5,     3.96,2,     0.02,2,     0.25,2,   -999.0,9,   -999.0,9,-999.0000,9,  -999.00,     2223
  49UF20100524,KS1004,  2630,  1,     10,  21969,2,20100527,2150, 28.1133, 127.3492,  990,    253.8,  18.9306,  34.7767,2,-999.0000,9,    189.4,2,  -999.00,5,     4.32,2,     0.02,2,     0.27,2,   -999.0,9,   -999.0,9,-999.0000,9,  -999.00,     2221
  49UF20100524,KS1004,  2630,  1,      9,  21968,2,20100527,2150, 28.1133, 127.3492,  990,    303.2,  17.8321,  34.7471,2,  34.7461,6,    186.7,6,  -999.00,5,     6.13,6,     0.01,6,     0.40,6,   -999.0,9,   -999.0,9,-999.0000,9,  -999.00,     2218
  49UF20100524,KS1004,  2630,  1,      8,  21967,2,20100527,2150, 28.1133, 127.3492,  990,    404.5,  13.9265,  34.5213,2,  34.5207,2,    167.9,2,  -999.00,5,    13.80,2,     0.01,2,     0.94,2,   -999.0,9,   -999.0,9,-999.0000,9,  -999.00,     2214
  49UF20100524,KS1004,  2630,  1,      7,  21966,2,20100527,2150, 28.1133, 127.3492,  990,    502.8,  10.3055,  34.3463,2,-999.0000,9,    140.2,2,  -999.00,5,    22.49,2,     0.00,2,     1.58,2,   -999.0,9,   -999.0,9,-999.0000,9,  -999.00,     2209
  49UF20100524,KS1004,  2630,  1,      6,  21965,2,20100527,2150, 28.1133, 127.3492,  990,    606.5,   7.8574,  34.3140,2,  34.3137,2,    115.5,2,  -999.00,5,    28.95,2,     0.00,2,     2.05,2,   -999.0,9,   -999.0,9,-999.0000,9,  -999.00,     2206
  49UF20100524,KS1004,  2630,  1,      5,  21964,2,20100527,2150, 28.1133, 127.3492,  990,    708.4,   6.6119,  34.3447,2,-999.0000,9,     99.1,2,  -999.00,5,    32.39,2,     0.00,2,     2.31,2,   -999.0,9,   -999.0,9,-999.0000,9,  -999.00,     2202
  49UF20100524,KS1004,  2630,  1,      4,  21963,2,20100527,2150, 28.1133, 127.3492,  990,    806.3,   5.5779,  34.3740,2,  34.3732,2,     86.0,2,  -999.00,5,    35.24,2,     0.00,2,     2.50,2,   -999.0,9,   -999.0,9,-999.0000,9,  -999.00,     2159
  49UF20100524,KS1004,  2630,  1,      3,  21962,2,20100527,2150, 28.1133, 127.3492,  990,    908.3,   4.5245,  34.4122,2,-999.0000,9,     77.2,2,  -999.00,5,    37.66,2,     0.00,2,     2.68,2,   -999.0,9,   -999.0,9,-999.0000,9,  -999.00,     2153
  49UF20100524,KS1004,  2630,  1,      2,  21961,2,20100527,2150, 28.1133, 127.3492,  990,    939.7,   4.3513,  34.4188,2,-999.0000,9,     75.9,2,  -999.00,5,    37.99,2,     0.00,2,     2.71,2,   -999.0,9,   -999.0,9,-999.0000,9,  -999.00,     2151
  49UF20100524,KS1004,  2630,  1,      1,  21960,2,20100527,2150, 28.1133, 127.3492,  990,    939.9,   4.3509,  34.4189,2,  34.4171,2,     75.6,2,  -999.00,5,    38.04,2,     0.00,2,     2.71,2,   -999.0,9,   -999.0,9,-999.0000,9,  -999.00,     2150