BOTTLE,20190925PRINUNIVRMK
EXPOCODE,SECT_ID,STNNBR,CASTNO,SAMPNO,BTLNBR,BTLNBR_FLAG_W,DATE,TIME,LATITUDE,LONGITUDE,DEPTH,CTDPRS,CTDTMP,CTDSAL,CTDSAL_FLAG_W,SALNTY,SALNTY_FLAG_W,OXYGEN,OXYGEN_FLAG_W,SILCAT,SILCAT_FLAG_W,NITRAT,NITRAT_FLAG_W,NITRIT,NITRIT_FLAG_W,PHSPHT,PHSPHT_FLAG_W,TCARBN,TCARBN_FLAG_W,ALKALI,ALKALI_FLAG_W,PH_TOT,PH_TOT_FLAG_W,PH_TMP,BTL_TIME
,,,,,,,,,,,METERS,DBAR,ITS-90,PSS-78,,PSS-78,,UMOL/KG,,UMOL/KG,,UMOL/KG,,UMOL/KG,,UMOL/KG,,UMOL/KG,,UMOL/KG,,,,DEG C,
  49UF20100524,KS1004,  2663,  1,     99,     99,2,20100603,2316, 24.2578, 134.9830, 5125,      0.0,  25.0269,  34.6967,2,-999.0000,9,    208.7,2,     1.37,2,     0.16,2,     0.00,2,     0.01,2,   -999.0,9,   -999.0,9,-999.0000,9,  -999.00,     2358
  49UF20100524,KS1004,  2663,  1,     24,  21984,2,20100603,2316, 24.2578, 134.9830, 5125,     12.1,  25.0100,  34.6972,2,-999.0000,9,    209.8,2,     1.37,2,     0.11,2,     0.00,2,     0.00,2,   1969.6,2,   2278.6,2,   8.0766,2,    25.00,       14
  49UF20100524,KS1004,  2663,  1,     23,  21983,2,20100603,2316, 24.2578, 134.9830, 5125,     25.2,  24.8685,  34.7060,2,-999.0000,9,    211.3,2,     1.35,2,     0.11,2,     0.00,2,     0.00,2,   1970.3,2,   2280.1,2,   8.0732,2,    25.00,       13
  49UF20100524,KS1004,  2663,  1,     22,  21982,2,20100603,2316, 24.2578, 134.9830, 5125,     52.2,  21.4614,  34.7417,2,-999.0000,9,    216.6,2,     1.56,2,     0.05,2,     0.00,2,     0.01,2,   1981.8,2,   2282.0,2,   8.0522,2,    25.00,        8
  49UF20100524,KS1004,  2663,  1,     21,  21981,2,20100603,2316, 24.2578, 134.9830, 5125,     76.4,  20.6157,  34.7535,2,-999.0000,9,    216.7,2,     1.63,2,     0.28,2,     0.10,2,     0.01,2,   1989.1,2,   2282.2,2,   8.0391,2,    25.00,        7
  49UF20100524,KS1004,  2663,  1,     20,  21980,2,20100603,2316, 24.2578, 134.9830, 5125,    101.0,  19.9146,  34.7379,2,-999.0000,9,    213.3,2,     1.99,2,     0.87,2,     0.13,2,     0.06,2,   2001.1,2,   2282.2,2,   8.0256,2,    25.00,        5
  49UF20100524,KS1004,  2663,  1,     19,  21978,2,20100603,2316, 24.2578, 134.9830, 5125,    126.3,  19.6064,  34.7535,2,-999.0000,9,    204.9,2,     2.27,2,     1.70,2,     0.07,2,     0.11,2,   2004.1,2,   2281.1,2,   8.0065,2,    25.00,        4
  49UF20100524,KS1004,  2663,  1,     18,  21977,2,20100603,2316, 24.2578, 134.9830, 5125,    151.3,  19.0975,  34.7361,2,-999.0000,9,    205.3,2,     2.60,2,     2.48,2,     0.02,2,     0.14,2,   2010.4,2,   2282.4,2,   7.9975,2,    25.00,        3
  49UF20100524,KS1004,  2663,  1,     17,  21976,2,20100603,2316, 24.2578, 134.9830, 5125,    202.0,  18.0472,  34.7341,2,-999.0000,9,    196.9,6,     3.89,6,     4.55,6,     0.01,6,     0.27,6,   2019.4,6,   2282.3,6,   7.9622,6,    25.00,        0
  49UF20100524,KS1004,  2663,  1,     16,  21975,2,20100603,2316, 24.2578, 134.9830, 5125,    252.7,  17.2211,  34.7167,2,-999.0000,9,    194.4,2,     5.54,2,     6.17,2,     0.01,2,     0.38,2,   2040.4,2,   2281.8,2,   7.9363,2,    25.00,     2359
  49UF20100524,KS1004,  2663,  1,     15,  21974,2,20100603,2316, 24.2578, 134.9830, 5125,    303.0,  16.0325,  34.6554,2,-999.0000,9,    189.9,2,     8.44,2,     8.44,2,     0.00,2,     0.54,2,   2058.8,2,   2277.9,2,   7.8976,2,    25.00,     2357
  49UF20100524,KS1004,  2663,  1,     14,  21973,2,20100603,2316, 24.2578, 134.9830, 5125,    405.4,  13.3586,  34.4665,2,-999.0000,9,    184.0,2,    15.88,2,    12.85,2,     0.00,2,     0.86,2,   2101.6,2,   2277.5,2,   7.8274,2,    25.00,     2354
  49UF20100524,KS1004,  2663,  1,     13,  21972,2,20100603,2316, 24.2578, 134.9830, 5125,    505.0,  10.6268,  34.2843,2,-999.0000,9,    169.9,2,    28.86,2,    18.90,2,     0.00,2,     1.30,2,   2147.2,2,   2279.7,2,   7.7228,2,    25.00,     2352
  49UF20100524,KS1004,  2663,  1,     12,  21971,2,20100603,2316, 24.2578, 134.9830, 5125,    505.3,  10.6136,  34.2828,2,-999.0000,9,    168.3,2,    29.48,2,    19.26,2,     0.00,2,     1.34,2,   2150.5,2,   2274.2,2,   7.7141,2,    25.00,     2351
  49UF20100524,KS1004,  2663,  1,     11,  21970,2,20100603,2316, 24.2578, 134.9830, 5125,    607.4,   8.0184,  34.1660,2,-999.0000,9,    139.3,2,    50.16,2,    26.39,2,     0.00,2,     1.87,2,   2201.6,2,   2290.8,2,   7.6068,2,    25.00,     2349
  49UF20100524,KS1004,  2663,  1,     10,  21969,2,20100603,2316, 24.2578, 134.9830, 5125,    708.6,   6.1249,  34.1565,2,-999.0000,9,    104.0,2,    73.25,2,    32.71,2,     0.00,2,     2.33,2,   2254.4,2,   2309.7,2,   7.4925,2,    25.00,     2346
  49UF20100524,KS1004,  2663,  1,      9,  21968,2,20100603,2316, 24.2578, 134.9830, 5125,    808.3,   5.0153,  34.2090,2,-999.0000,9,     77.4,2,    93.45,2,    36.86,2,     0.00,2,     2.64,2,   2292.4,2,   2327.5,2,   7.4379,2,    25.00,     2343
  49UF20100524,KS1004,  2663,  1,      8,  21967,2,20100603,2316, 24.2578, 134.9830, 5125,    908.6,   4.3161,  34.2837,2,-999.0000,9,     62.4,6,   107.55,6,    39.27,6,     0.00,6,     2.82,6,   2315.5,2,   2348.3,2,   7.3990,2,    25.00,     2341
  49UF20100524,KS1004,  2663,  1,      6,  21965,2,20100603,2316, 24.2578, 134.9830, 5125,   1010.4,   3.7455,  34.3599,2,-999.0000,9,     56.1,2,   119.90,2,    40.52,2,     0.00,2,     2.88,2,   2341.0,6,   2363.1,6,   7.3938,6,    25.00,     2338
  49UF20100524,KS1004,  2663,  1,      5,  21964,2,20100603,2316, 24.2578, 134.9830, 5125,   1263.7,   2.9196,  34.4864,2,-999.0000,9,     70.3,2,   136.19,2,    40.38,2,     0.00,2,     2.87,2,   2351.7,2,   2386.3,2,   7.4262,2,    25.00,     2332
  49UF20100524,KS1004,  2663,  1,      4,  21963,2,20100603,2316, 24.2578, 134.9830, 5125,   1516.0,   2.5113,  34.5515,2,-999.0000,9,     88.5,2,   140.43,2,    39.29,2,     0.00,2,     2.80,2,   2354.5,2,   2400.3,2,   7.4792,3,    25.00,     2327
  49UF20100524,KS1004,  2663,  1,      3,  21962,2,20100603,2316, 24.2578, 134.9830, 5125,   1516.0,   2.5124,  34.5511,2,-999.0000,9,     88.9,2,   139.96,2,    39.42,2,     0.00,2,     2.78,2,   2349.8,2,   2399.9,2,   7.4616,2,    25.00,     2327
  49UF20100524,KS1004,  2663,  1,      2,  21961,2,20100603,2316, 24.2578, 134.9830, 5125,   1767.9,   2.2021,  34.5891,2,-999.0000,9,    103.7,2,   141.66,2,    38.77,2,     0.00,2,     2.72,2,   2352.8,2,   2407.3,2,   7.4909,2,    25.00,     2321
  49UF20100524,KS1004,  2663,  1,      1,  21960,2,20100603,2316, 24.2578, 134.9830, 5125,   2024.1,   1.9880,  34.6149,2,-999.0000,9,    114.8,2,   143.65,2,    38.22,2,     0.00,2,     2.67,2,   2336.9,2,   2414.6,2,   7.5283,2,    25.00,     2316
  49UF20100524,KS1004,  2666,  1,     99,     99,2,20100604,1403, 24.2520, 137.0053, 4509,      0.0,  27.1388,  34.7225,2,-999.0000,9,   -999.0,5,  -999.00,5,     0.09,2,     0.00,2,     0.00,2,   -999.0,9,   -999.0,9,-999.0000,9,  -999.00,     1440
  49UF20100524,KS1004,  2666,  1,     24,  21984,2,20100604,1403, 24.2520, 137.0053, 4509,     11.3,  27.1406,  34.7289,2,  34.7350,4,    202.3,2,  -999.00,5,     0.11,2,     0.00,2,     0.00,2,   1944.8,2,   2284.4,2,   8.1043,2,    25.00,     1459
  49UF20100524,KS1004,  2666,  1,     23,  21983,2,20100604,1403, 24.2520, 137.0053, 4509,     27.2,  24.2520,  34.8598,2,-999.0000,9,    209.6,2,  -999.00,5,     0.08,2,     0.00,2,     0.00,2,   1967.4,2,   2287.8,2,   8.0787,2,    25.00,     1457
  49UF20100524,KS1004,  2666,  1,     22,  21982,2,20100604,1403, 24.2520, 137.0053, 4509,     50.6,  22.7688,  34.8046,2,-999.0000,9,    215.2,2,  -999.00,5,     0.05,2,     0.00,2,     0.00,2,   1972.8,2,   2289.1,2,   8.0619,2,    25.00,     1453
  49UF20100524,KS1004,  2666,  1,     21,  21981,2,20100604,1403, 24.2520, 137.0053, 4509,     76.4,  21.8715,  34.7722,2,-999.0000,9,    219.9,2,  -999.00,5,     0.04,2,     0.00,2,     0.00,2,   1975.6,2,   2282.1,2,   8.0576,2,    25.00,     1452
  49UF20100524,KS1004,  2666,  1,     20,  21980,2,20100604,1403, 24.2520, 137.0053, 4509,    101.8,  20.8952,  34.7390,2,  34.7417,2,    217.7,2,  -999.00,5,     0.09,2,     0.01,2,     0.00,2,   1983.7,2,   2285.1,2,   8.0374,2,    25.00,     1451
  49UF20100524,KS1004,  2666,  1,     19,  21978,2,20100604,1403, 24.2520, 137.0053, 4509,    125.4,  20.2065,  34.7398,2,-999.0000,9,    209.8,2,  -999.00,5,     1.19,2,     0.14,2,     0.07,2,   1999.4,2,   2284.0,2,   8.0186,2,    25.00,     1449
  49UF20100524,KS1004,  2666,  1,     18,  21977,2,20100604,1403, 24.2520, 137.0053, 4509,    152.4,  19.7514,  34.7395,2,-999.0000,9,    214.3,6,  -999.00,5,     1.05,6,     0.10,6,     0.06,6,   1996.8,2,   2282.5,2,   8.0173,2,    25.00,     1448
  49UF20100524,KS1004,  2666,  1,     17,  21976,2,20100604,1403, 24.2520, 137.0053, 4509,    204.5,  18.3312,  34.7413,2,  34.7424,2,    196.2,2,  -999.00,5,     4.26,2,     0.01,2,     0.27,2,   2028.6,6,   2286.7,6,   7.9599,6,    25.00,     1446
  49UF20100524,KS1004,  2666,  1,     16,  21975,2,20100604,1403, 24.2520, 137.0053, 4509,    253.1,  17.1457,  34.7254,2,-999.0000,9,    194.2,2,  -999.00,5,     6.16,2,     0.00,2,     0.38,2,   2040.1,2,   2288.3,2,   7.9265,2,    25.00,     1444
  49UF20100524,KS1004,  2666,  1,     15,  21974,2,20100604,1403, 24.2520, 137.0053, 4509,    303.2,  16.0651,  34.6554,2,-999.0000,9,    192.0,2,  -999.00,5,     7.79,2,     0.00,2,     0.52,2,   2053.5,2,   2282.5,2,   7.8961,2,    25.00,     1443
  49UF20100524,KS1004,  2666,  1,     13,  21972,2,20100604,1403, 24.2520, 137.0053, 4509,    404.5,  14.1631,  34.5168,2,  34.5176,2,    186.9,2,  -999.00,5,    11.43,2,     0.00,2,     0.77,2,   2083.5,2,   2274.9,2,   7.8382,2,    25.00,     1440
  49UF20100524,KS1004,  2666,  1,     14,  21973,2,20100604,1403, 24.2520, 137.0053, 4509,    404.7,  14.1615,  34.5184,2,-999.0000,9,    187.0,2,  -999.00,5,    11.39,2,     0.00,2,     0.76,2,   2077.0,2,   2278.5,2,   7.8373,2,    25.00,     1440
  49UF20100524,KS1004,  2666,  1,     12,  21971,2,20100604,1403, 24.2520, 137.0053, 4509,    504.9,  10.7904,  34.2880,2,-999.0000,9,    172.5,2,  -999.00,5,    18.48,2,     0.00,2,     1.27,2,   2134.3,2,   2277.7,2,   7.7247,2,    25.00,     1438
  49UF20100524,KS1004,  2666,  1,     11,  21970,2,20100604,1403, 24.2520, 137.0053, 4509,    607.8,   8.2265,  34.1628,2,  34.1620,2,    142.7,2,  -999.00,5,    25.75,2,     0.00,2,     1.85,2,   2190.9,2,   2292.8,2,   7.6098,2,    25.00,     1435
  49UF20100524,KS1004,  2666,  1,     10,  21969,2,20100604,1403, 24.2520, 137.0053, 4509,    707.8,   6.0405,  34.1409,2,-999.0000,9,    102.4,2,  -999.00,5,    32.98,2,     0.00,2,     2.39,2,   2253.5,2,   2309.4,2,   7.4775,2,    25.00,     1433
  49UF20100524,KS1004,  2666,  1,      9,  21968,2,20100604,1403, 24.2520, 137.0053, 4509,    807.3,   5.0871,  34.1993,2,  34.1995,6,     77.1,6,  -999.00,5,    36.76,6,     0.00,6,     2.66,6,   2284.6,2,   2330.0,2,   7.4284,2,    25.00,     1430
  49UF20100524,KS1004,  2666,  1,      8,  21967,2,20100604,1403, 24.2520, 137.0053, 4509,    910.0,   4.3216,  34.2857,2,-999.0000,9,     63.1,2,  -999.00,5,    39.26,2,     0.00,2,     2.83,2,   2314.9,2,   2346.3,2,   7.3896,2,    25.00,     1427
  49UF20100524,KS1004,  2666,  1,      6,  21965,2,20100604,1403, 24.2520, 137.0053, 4509,   1012.3,   3.8630,  34.3564,2,  34.3565,2,     56.6,2,  -999.00,5,    40.34,2,     0.00,2,     2.91,2,   2338.6,6,   2361.4,6,   7.3896,6,    25.00,     1425
  49UF20100524,KS1004,  2666,  1,      4,  21963,2,20100604,1403, 24.2520, 137.0053, 4509,   1264.0,   3.0727,  34.4720,2,  34.4724,2,     66.9,2,  -999.00,5,    40.43,2,     0.00,2,     2.89,2,   2353.6,2,   2384.1,2,   7.4103,2,    25.00,     1420
  49UF20100524,KS1004,  2666,  1,      5,  21964,2,20100604,1403, 24.2520, 137.0053, 4509,   1264.1,   3.0732,  34.4720,2,-999.0000,9,     66.9,2,  -999.00,5,    40.43,2,     0.00,2,     2.89,2,   2352.6,2,   2388.5,2,   7.4108,2,    25.00,     1420
  49UF20100524,KS1004,  2666,  1,      3,  21962,2,20100604,1403, 24.2520, 137.0053, 4509,   1516.0,   2.5903,  34.5347,2,  34.5355,2,     82.4,2,  -999.00,5,    39.85,2,     0.00,2,     2.82,2,   2354.1,2,   2400.7,2,   7.4457,2,    25.00,     1415
  49UF20100524,KS1004,  2666,  1,      2,  21961,2,20100604,1403, 24.2520, 137.0053, 4509,   1768.6,   2.2489,  34.5822,2,  34.5823,2,    100.5,2,  -999.00,5,    38.83,2,     0.00,2,     2.74,2,   2342.0,2,   2406.6,2,   7.4760,2,    25.00,     1409
  49UF20100524,KS1004,  2666,  1,      1,  21960,2,20100604,1403, 24.2520, 137.0053, 4509,   2024.7,   2.0540,  34.6092,2,  34.6096,2,    112.4,2,  -999.00,5,    38.39,2,     0.00,2,     2.70,2,   2338.4,2,   2412.4,2,   7.4973,2,    25.00,     1403