BOTTLE,20190925PRINUNIVRMK
EXPOCODE,SECT_ID,STNNBR,CASTNO,SAMPNO,BTLNBR,BTLNBR_FLAG_W,DATE,TIME,LATITUDE,LONGITUDE,DEPTH,CTDPRS,CTDTMP,CTDSAL,CTDSAL_FLAG_W,SALNTY,SALNTY_FLAG_W,OXYGEN,OXYGEN_FLAG_W,SILCAT,SILCAT_FLAG_W,NITRAT,NITRAT_FLAG_W,NITRIT,NITRIT_FLAG_W,PHSPHT,PHSPHT_FLAG_W,TCARBN,TCARBN_FLAG_W,ALKALI,ALKALI_FLAG_W,PH_TOT,PH_TOT_FLAG_W,PH_TMP,BTL_TIME
,,,,,,,,,,,METERS,DBAR,ITS-90,PSS-78,,PSS-78,,UMOL/KG,,UMOL/KG,,UMOL/KG,,UMOL/KG,,UMOL/KG,,UMOL/KG,,UMOL/KG,,,,DEG C,
  49UF20100524,KS1004,  2632,  1,     99,     99,2,20100528,0234, 28.2540, 127.1407,  979,      0.0,  26.3074,  34.6569,2,-999.0000,9,    204.7,2,     1.13,2,     0.31,2,     0.00,2,     0.03,2,   -999.0,9,   -999.0,9,-999.0000,9,  -999.00,      250
  49UF20100524,KS1004,  2632,  1,     19,  21978,2,20100528,0234, 28.2540, 127.1407,  979,     10.8,  26.3010,  34.6557,2,-999.0000,9,    206.0,2,     1.31,2,     0.08,2,     0.00,2,     0.01,2,   -999.0,9,   -999.0,9,-999.0000,9,  -999.00,      317
  49UF20100524,KS1004,  2632,  1,     18,  21977,2,20100528,0234, 28.2540, 127.1407,  979,     21.9,  26.2953,  34.6547,2,-999.0000,9,    207.2,2,     1.27,2,     0.11,2,     0.00,2,     0.01,2,   -999.0,9,   -999.0,9,-999.0000,9,  -999.00,      315
  49UF20100524,KS1004,  2632,  1,     17,  21976,2,20100528,0234, 28.2540, 127.1407,  979,     31.2,  26.2937,  34.6546,2,-999.0000,9,    207.8,2,     1.27,2,     0.10,2,     0.00,2,     0.01,2,   -999.0,9,   -999.0,9,-999.0000,9,  -999.00,      314
  49UF20100524,KS1004,  2632,  1,     16,  21975,2,20100528,0234, 28.2540, 127.1407,  979,     50.8,  26.2917,  34.6548,2,-999.0000,9,    206.0,2,     1.27,2,     0.08,2,     0.00,2,     0.01,2,   -999.0,9,   -999.0,9,-999.0000,9,  -999.00,      309
  49UF20100524,KS1004,  2632,  1,     15,  21974,2,20100528,0234, 28.2540, 127.1407,  979,     77.0,  24.6767,  34.7883,2,-999.0000,9,    207.2,2,     1.41,2,     0.07,2,     0.00,2,     0.01,2,   -999.0,9,   -999.0,9,-999.0000,9,  -999.00,      307
  49UF20100524,KS1004,  2632,  1,     14,  21973,2,20100528,0234, 28.2540, 127.1407,  979,    102.4,  23.5980,  34.7879,2,-999.0000,9,    197.6,2,     1.78,2,     0.69,2,     0.16,2,     0.06,2,   -999.0,9,   -999.0,9,-999.0000,9,  -999.00,      305
  49UF20100524,KS1004,  2632,  1,     13,  21972,2,20100528,0234, 28.2540, 127.1407,  979,    126.7,  22.7212,  34.7876,2,-999.0000,9,    192.0,2,     2.19,2,     1.62,2,     0.07,2,     0.11,2,   -999.0,9,   -999.0,9,-999.0000,9,  -999.00,      303
  49UF20100524,KS1004,  2632,  1,     12,  21971,2,20100528,0234, 28.2540, 127.1407,  979,    152.0,  21.6917,  34.7882,2,-999.0000,9,    190.2,2,     2.53,2,     2.22,2,     0.03,2,     0.15,2,   -999.0,9,   -999.0,9,-999.0000,9,  -999.00,      301
  49UF20100524,KS1004,  2632,  1,     11,  21970,2,20100528,0234, 28.2540, 127.1407,  979,    201.4,  19.3429,  34.7878,2,-999.0000,9,    187.0,2,     3.74,2,     4.21,2,     0.01,2,     0.27,2,   -999.0,9,   -999.0,9,-999.0000,9,  -999.00,      257
  49UF20100524,KS1004,  2632,  1,     10,  21969,2,20100528,0234, 28.2540, 127.1407,  979,    253.9,  17.8814,  34.7499,2,-999.0000,9,    186.8,6,     5.49,6,     6.10,6,     0.01,6,     0.39,6,   -999.0,9,   -999.0,9,-999.0000,9,  -999.00,      255
  49UF20100524,KS1004,  2632,  1,      9,  21968,2,20100528,0234, 28.2540, 127.1407,  979,    303.9,  16.4266,  34.6690,2,-999.0000,9,    184.2,2,     8.62,2,     8.36,2,     0.00,2,     0.55,2,   -999.0,9,   -999.0,9,-999.0000,9,  -999.00,      252
  49UF20100524,KS1004,  2632,  1,      8,  21967,2,20100528,0234, 28.2540, 127.1407,  979,    404.3,  11.2709,  34.4003,2,-999.0000,9,    172.3,3,    33.73,2,    19.79,2,     0.00,2,     1.38,2,   -999.0,9,   -999.0,9,-999.0000,9,  -999.00,      248
  49UF20100524,KS1004,  2632,  1,      7,  21966,2,20100528,0234, 28.2540, 127.1407,  979,    504.3,   7.9735,  34.3113,2,-999.0000,9,    117.1,2,    62.58,2,    28.77,2,     0.00,2,     2.03,2,   -999.0,9,   -999.0,9,-999.0000,9,  -999.00,      245
  49UF20100524,KS1004,  2632,  1,      6,  21965,2,20100528,0234, 28.2540, 127.1407,  979,    606.3,   6.6290,  34.3408,2,-999.0000,9,     98.2,2,    80.55,2,    32.60,2,     0.00,2,     2.32,2,   -999.0,9,   -999.0,9,-999.0000,9,  -999.00,      243
  49UF20100524,KS1004,  2632,  1,      5,  21964,2,20100528,0234, 28.2540, 127.1407,  979,    707.2,   5.7742,  34.3705,2,-999.0000,9,     86.6,2,    93.63,2,    34.65,2,     0.00,2,     2.49,2,   -999.0,9,   -999.0,9,-999.0000,9,  -999.00,      240
  49UF20100524,KS1004,  2632,  1,      4,  21963,2,20100528,0234, 28.2540, 127.1407,  979,    807.2,   5.5233,  34.3783,2,-999.0000,9,     84.8,2,    98.11,2,    35.51,2,     0.00,2,     2.53,2,   -999.0,9,   -999.0,9,-999.0000,9,  -999.00,      237
  49UF20100524,KS1004,  2632,  1,      1,  21960,2,20100528,0234, 28.2540, 127.1407,  979,    911.3,   4.8033,  34.4024,2,-999.0000,9,     78.6,2,   107.85,2,    37.21,2,     0.00,2,     2.66,2,   -999.0,9,   -999.0,9,-999.0000,9,  -999.00,      234
  49UF20100524,KS1004,  2632,  1,      3,  21962,2,20100528,0234, 28.2540, 127.1407,  979,    911.4,   4.8055,  34.4022,2,-999.0000,9,     77.9,2,   107.81,2,    37.20,2,     0.00,2,     2.66,2,   -999.0,9,   -999.0,9,-999.0000,9,  -999.00,      235
  49UF20100524,KS1004,  2632,  1,      2,  21961,2,20100528,0234, 28.2540, 127.1407,  979,    911.7,   4.8039,  34.4024,2,-999.0000,9,     78.1,2,   107.99,2,    37.05,2,     0.00,2,     2.66,2,   -999.0,9,   -999.0,9,-999.0000,9,  -999.00,      234
  49UF20100524,KS1004,  2634,  1,     99,     99,2,20100528,0650, 28.4113, 126.9022,  273,      0.0,  27.0165,  34.5230,2,-999.0000,9,    204.0,2,  -999.00,5,  -999.00,5,     0.00,2,     0.04,2,   -999.0,9,   -999.0,9,-999.0000,9,  -999.00,      650
  49UF20100524,KS1004,  2634,  1,     11,  21970,2,20100528,0650, 28.4113, 126.9022,  273,     11.6,  27.0358,  34.5299,2,-999.0000,9,    205.5,2,  -999.00,5,  -999.00,5,     0.00,2,     0.03,2,   -999.0,9,   -999.0,9,-999.0000,9,  -999.00,      712
  49UF20100524,KS1004,  2634,  1,     10,  21969,2,20100528,0650, 28.4113, 126.9022,  273,     21.8,  27.0490,  34.5394,2,-999.0000,9,    203.8,2,  -999.00,5,  -999.00,5,     0.00,2,     0.02,2,   -999.0,9,   -999.0,9,-999.0000,9,  -999.00,      710
  49UF20100524,KS1004,  2634,  1,      9,  21968,2,20100528,0650, 28.4113, 126.9022,  273,     32.1,  27.1062,  34.5673,2,-999.0000,9,    204.1,2,  -999.00,5,  -999.00,5,     0.00,2,     0.02,2,   -999.0,9,   -999.0,9,-999.0000,9,  -999.00,      708
  49UF20100524,KS1004,  2634,  1,      8,  21967,2,20100528,0650, 28.4113, 126.9022,  273,     51.1,  26.5871,  34.6645,2,-999.0000,9,    204.0,2,  -999.00,5,  -999.00,5,     0.00,2,     0.04,2,   -999.0,9,   -999.0,9,-999.0000,9,  -999.00,      702
  49UF20100524,KS1004,  2634,  1,      7,  21966,4,20100528,0650, 28.4113, 126.9022,  273,     76.7,  25.2747,  34.7965,2,-999.0000,9,   -999.0,9,  -999.00,9,  -999.00,9,  -999.00,9,  -999.00,9,   -999.0,9,   -999.0,9,-999.0000,9,  -999.00,      701
  49UF20100524,KS1004,  2634,  1,      6,  21965,2,20100528,0650, 28.4113, 126.9022,  273,    102.1,  24.0431,  34.7752,2,-999.0000,9,    196.6,2,  -999.00,5,  -999.00,5,     0.23,4,     0.05,4,   -999.0,9,   -999.0,9,-999.0000,9,  -999.00,      659
  49UF20100524,KS1004,  2634,  1,      5,  21964,2,20100528,0650, 28.4113, 126.9022,  273,    126.4,  22.6099,  34.7437,2,-999.0000,9,    188.6,2,  -999.00,5,  -999.00,5,     0.29,2,     0.18,2,   -999.0,9,   -999.0,9,-999.0000,9,  -999.00,      658
  49UF20100524,KS1004,  2634,  1,      4,  21963,2,20100528,0650, 28.4113, 126.9022,  273,    153.2,  21.6425,  34.7560,2,-999.0000,9,    184.4,2,  -999.00,5,  -999.00,5,     0.12,6,     0.24,6,   -999.0,9,   -999.0,9,-999.0000,9,  -999.00,      656
  49UF20100524,KS1004,  2634,  1,      3,  21962,2,20100528,0650, 28.4113, 126.9022,  273,    204.3,  18.8433,  34.6084,2,-999.0000,9,    176.6,2,  -999.00,5,  -999.00,5,     0.04,2,     0.47,2,   -999.0,9,   -999.0,9,-999.0000,9,  -999.00,      654
  49UF20100524,KS1004,  2634,  1,      2,  21961,2,20100528,0650, 28.4113, 126.9022,  273,    250.2,  11.6328,  34.4053,2,-999.0000,9,    149.4,2,  -999.00,5,  -999.00,5,     0.05,2,     1.35,2,   -999.0,9,   -999.0,9,-999.0000,9,  -999.00,      650
  49UF20100524,KS1004,  2634,  1,      1,  21960,2,20100528,0650, 28.4113, 126.9022,  273,    251.7,  11.6487,  34.4053,2,-999.0000,9,    149.3,2,  -999.00,5,  -999.00,5,     0.05,2,     1.37,2,   -999.0,9,   -999.0,9,-999.0000,9,  -999.00,      650
  49UF20100524,KS1004,  2636,  1,     99,     99,2,20100528,1054, 28.5512, 126.6878,  156,      0.0,  27.0550,  34.5241,2,-999.0000,9,    204.5,2,     0.81,2,     0.05,2,     0.00,2,     0.02,2,   -999.0,9,   -999.0,9,-999.0000,9,  -999.00,     1105
  49UF20100524,KS1004,  2636,  1,      8,  21967,2,20100528,1054, 28.5512, 126.6878,  156,     11.3,  27.0612,  34.5225,2,  34.5217,2,    204.1,2,     1.15,2,     0.09,2,     0.00,2,     0.03,2,   -999.0,9,   -999.0,9,-999.0000,9,  -999.00,     1106
  49UF20100524,KS1004,  2636,  1,      7,  21966,2,20100528,1054, 28.5512, 126.6878,  156,     21.5,  27.0664,  34.5264,2,-999.0000,9,    205.4,2,     1.16,2,     0.06,2,     0.00,2,     0.02,2,   -999.0,9,   -999.0,9,-999.0000,9,  -999.00,     1105
  49UF20100524,KS1004,  2636,  1,      6,  21965,2,20100528,1054, 28.5512, 126.6878,  156,     32.7,  27.0590,  34.5423,2,-999.0000,9,    204.1,2,     1.12,2,     0.04,2,     0.00,2,     0.02,2,   -999.0,9,   -999.0,9,-999.0000,9,  -999.00,     1103
  49UF20100524,KS1004,  2636,  1,      5,  21964,2,20100528,1054, 28.5512, 126.6878,  156,     51.4,  26.6460,  34.5650,2,  34.5652,6,    206.7,6,     1.12,6,     0.06,6,     0.00,6,     0.02,6,   -999.0,9,   -999.0,9,-999.0000,9,  -999.00,     1100
  49UF20100524,KS1004,  2636,  1,      4,  21963,2,20100528,1054, 28.5512, 126.6878,  156,     76.4,  23.8794,  34.7492,2,-999.0000,9,    190.8,2,     2.58,2,     1.39,2,     0.28,2,     0.13,2,   -999.0,9,   -999.0,9,-999.0000,9,  -999.00,     1059
  49UF20100524,KS1004,  2636,  1,      3,  21962,2,20100528,1054, 28.5512, 126.6878,  156,    102.2,  21.9970,  34.7304,2,  34.7253,4,    187.5,2,     4.17,2,     3.08,2,     0.16,2,     0.21,2,   -999.0,9,   -999.0,9,-999.0000,9,  -999.00,     1057
  49UF20100524,KS1004,  2636,  1,      1,  21960,2,20100528,1054, 28.5512, 126.6878,  156,    126.6,  19.3206,  34.3207,2,  34.3262,4,    212.1,2,     5.58,2,     2.21,2,     0.57,2,     0.14,2,   -999.0,9,   -999.0,9,-999.0000,9,  -999.00,     1054
  49UF20100524,KS1004,  2636,  1,      2,  21961,2,20100528,1054, 28.5512, 126.6878,  156,    127.1,  19.3197,  34.3203,2,  34.3236,2,    212.6,2,     5.56,2,     2.21,2,     0.57,2,     0.13,2,   -999.0,9,   -999.0,9,-999.0000,9,  -999.00,     1054
  49UF20100524,KS1004,  2638,  1,     99,     99,2,20100528,1517, 28.6988, 126.4498,  128,      0.0,  26.8295,  34.5254,2,-999.0000,9,    203.7,2,  -999.00,5,     0.24,2,     0.00,2,     0.07,2,   -999.0,9,   -999.0,9,-999.0000,9,  -999.00,     1530
  49UF20100524,KS1004,  2638,  1,      8,  21967,2,20100528,1517, 28.6988, 126.4498,  128,     10.8,  26.8403,  34.5310,2,-999.0000,9,   -999.0,5,  -999.00,5,     0.10,2,     0.00,2,     0.03,2,   -999.0,9,   -999.0,9,-999.0000,9,  -999.00,     1528
  49UF20100524,KS1004,  2638,  1,      7,  21966,2,20100528,1517, 28.6988, 126.4498,  128,     20.8,  26.8367,  34.5295,2,-999.0000,9,    204.3,2,  -999.00,5,     0.07,2,     0.00,2,     0.03,2,   -999.0,9,   -999.0,9,-999.0000,9,  -999.00,     1526
  49UF20100524,KS1004,  2638,  1,      6,  21965,2,20100528,1517, 28.6988, 126.4498,  128,     31.3,  25.2731,  34.6851,2,-999.0000,9,    211.4,3,  -999.00,5,     0.07,2,     0.01,2,     0.03,2,   -999.0,9,   -999.0,9,-999.0000,9,  -999.00,     1525
  49UF20100524,KS1004,  2638,  1,      5,  21964,2,20100528,1517, 28.6988, 126.4498,  128,     51.0,  22.6888,  34.6281,2,-999.0000,9,    210.8,2,  -999.00,5,     1.51,2,     0.31,2,     0.14,2,   -999.0,9,   -999.0,9,-999.0000,9,  -999.00,     1523
  49UF20100524,KS1004,  2638,  1,      4,  21963,2,20100528,1517, 28.6988, 126.4498,  128,     77.1,  19.6298,  34.3425,2,-999.0000,9,    212.0,2,  -999.00,5,     2.60,2,     0.25,2,     0.13,2,   -999.0,9,   -999.0,9,-999.0000,9,  -999.00,     1521
  49UF20100524,KS1004,  2638,  1,      3,  21962,2,20100528,1517, 28.6988, 126.4498,  128,    102.1,  18.2263,  34.5473,2,-999.0000,9,    168.0,6,  -999.00,5,     8.98,6,     0.08,6,     0.60,6,   -999.0,9,   -999.0,9,-999.0000,9,  -999.00,     1519
  49UF20100524,KS1004,  2638,  1,      1,  21960,2,20100528,1517, 28.6988, 126.4498,  128,    112.4,  18.0921,  34.5603,2,-999.0000,9,    165.0,2,  -999.00,5,     9.32,2,     0.08,2,     0.62,2,   -999.0,9,   -999.0,9,-999.0000,9,  -999.00,     1516
  49UF20100524,KS1004,  2638,  1,      2,  21961,2,20100528,1517, 28.6988, 126.4498,  128,    112.7,  18.0912,  34.5605,2,-999.0000,9,    165.0,2,  -999.00,5,     9.33,2,     0.08,2,     0.62,2,   -999.0,9,   -999.0,9,-999.0000,9,  -999.00,     1517
  49UF20100524,KS1004,  2640,  1,     99,     99,2,20100528,1927, 28.9955, 125.9960,  122,      0.0,  21.2542,  33.9026,2,-999.0000,9,    226.4,2,  -999.00,5,     0.13,2,     0.00,2,     0.01,2,   -999.0,9,   -999.0,9,-999.0000,9,  -999.00,     1920
  49UF20100524,KS1004,  2640,  1,      7,  21966,2,20100528,1927, 28.9955, 125.9960,  122,     10.9,  21.2471,  33.9039,2,  33.8998,2,    226.0,2,  -999.00,5,     0.09,2,     0.00,2,     0.00,2,   1902.7,2,   2222.7,4,   8.0817,2,    25.00,     1941
  49UF20100524,KS1004,  2640,  1,      6,  21965,2,20100528,1927, 28.9955, 125.9960,  122,     21.4,  21.3634,  34.0857,2,-999.0000,9,    226.5,2,  -999.00,5,     0.11,2,     0.00,2,     0.00,2,   -999.0,9,   -999.0,9,-999.0000,9,  -999.00,     1938
  49UF20100524,KS1004,  2640,  1,      5,  21964,2,20100528,1927, 28.9955, 125.9960,  122,     31.6,  20.8711,  34.4594,2,-999.0000,9,    228.6,2,  -999.00,5,     0.12,2,     0.01,2,     0.01,2,   -999.0,9,   -999.0,9,-999.0000,9,  -999.00,     1936
  49UF20100524,KS1004,  2640,  1,      4,  21963,2,20100528,1927, 28.9955, 125.9960,  122,     52.7,  18.0540,  34.2121,2,  34.2090,2,    220.4,2,  -999.00,5,     3.68,2,     0.23,2,     0.21,2,   -999.0,9,   -999.0,9,-999.0000,9,  -999.00,     1933
  49UF20100524,KS1004,  2640,  1,      3,  21962,2,20100528,1927, 28.9955, 125.9960,  122,     76.7,  17.9806,  34.2717,2,  34.2709,6,    196.7,6,  -999.00,5,     7.00,6,     0.05,6,     0.44,6,   -999.0,9,   -999.0,9,-999.0000,9,  -999.00,     1930
  49UF20100524,KS1004,  2640,  1,      2,  21961,2,20100528,1927, 28.9955, 125.9960,  122,    102.2,  17.9952,  34.4195,2,-999.0000,9,    175.0,2,  -999.00,5,     8.90,2,     0.04,2,     0.59,2,   -999.0,9,   -999.0,9,-999.0000,9,  -999.00,     1927
  49UF20100524,KS1004,  2640,  1,      1,  21960,2,20100528,1927, 28.9955, 125.9960,  122,    102.7,  17.9965,  34.4211,2,  34.4187,2,    174.4,2,  -999.00,5,     8.79,2,     0.04,2,     0.59,2,   1355.6,4,   2243.5,4,   7.9058,2,    25.00,     1927
  49UF20100524,KS1004,  2641,  1,     99,     99,2,20100529,1303, 26.0653, 127.8927,  426,      0.0,  26.5458,  34.7331,2,-999.0000,9,    203.0,2,  -999.00,5,     0.18,2,     0.00,2,     0.00,2,   -999.0,9,   -999.0,9,-999.0000,9,  -999.00,     1305
  49UF20100524,KS1004,  2641,  1,     12,  21971,2,20100529,1303, 26.0653, 127.8927,  426,     10.7,  26.5515,  34.7379,2,  34.7353,2,    204.4,2,  -999.00,5,     0.06,2,     0.00,2,     0.00,2,   -999.0,9,   -999.0,9,-999.0000,9,  -999.00,     1324
  49UF20100524,KS1004,  2641,  1,     11,  21970,2,20100529,1303, 26.0653, 127.8927,  426,     28.0,  26.5935,  34.8052,2,-999.0000,9,   -999.0,5,  -999.00,5,     0.05,2,     0.00,2,     0.00,2,   -999.0,9,   -999.0,9,-999.0000,9,  -999.00,     1322
  49UF20100524,KS1004,  2641,  1,     10,  21969,2,20100529,1303, 26.0653, 127.8927,  426,     51.8,  25.3290,  34.8143,2,-999.0000,9,    213.1,2,  -999.00,5,     0.06,2,     0.00,2,     0.00,2,   -999.0,9,   -999.0,9,-999.0000,9,  -999.00,     1318
  49UF20100524,KS1004,  2641,  1,      9,  21968,2,20100529,1303, 26.0653, 127.8927,  426,     75.9,  24.0797,  34.7942,2,-999.0000,9,    215.2,2,  -999.00,5,     0.08,2,     0.00,2,     0.00,2,   -999.0,9,   -999.0,9,-999.0000,9,  -999.00,     1317
  49UF20100524,KS1004,  2641,  1,      8,  21967,2,20100529,1303, 26.0653, 127.8927,  426,    101.7,  23.1824,  34.8020,2,  34.8022,2,    209.9,2,  -999.00,5,     0.09,2,     0.00,2,     0.00,2,   -999.0,9,   -999.0,9,-999.0000,9,  -999.00,     1315
  49UF20100524,KS1004,  2641,  1,      7,  21966,2,20100529,1303, 26.0653, 127.8927,  426,    125.5,  21.9692,  34.7661,2,-999.0000,9,    212.6,2,  -999.00,5,     0.09,2,     0.05,2,     0.00,2,   -999.0,9,   -999.0,9,-999.0000,9,  -999.00,     1314
  49UF20100524,KS1004,  2641,  1,      6,  21965,2,20100529,1303, 26.0653, 127.8927,  426,    151.0,  20.9786,  34.7404,2,-999.0000,9,    205.2,2,  -999.00,5,     0.73,2,     0.15,2,     0.05,2,   -999.0,9,   -999.0,9,-999.0000,9,  -999.00,     1312
  49UF20100524,KS1004,  2641,  1,      5,  21964,2,20100529,1303, 26.0653, 127.8927,  426,    202.7,  19.4396,  34.7571,2,-999.0000,9,    197.7,2,  -999.00,5,     3.00,2,     0.01,2,     0.17,2,   -999.0,9,   -999.0,9,-999.0000,9,  -999.00,     1310
  49UF20100524,KS1004,  2641,  1,      4,  21963,2,20100529,1303, 26.0653, 127.8927,  426,    202.7,  19.4519,  34.7575,2,  34.7567,2,    197.8,2,  -999.00,5,     2.99,2,     0.01,2,     0.19,2,   -999.0,9,   -999.0,9,-999.0000,9,  -999.00,     1309
  49UF20100524,KS1004,  2641,  1,      3,  21962,2,20100529,1303, 26.0653, 127.8927,  426,    252.9,  18.6553,  34.7753,2,-999.0000,9,    191.7,2,  -999.00,5,     4.40,2,     0.01,2,     0.26,2,   -999.0,9,   -999.0,9,-999.0000,9,  -999.00,     1307
  49UF20100524,KS1004,  2641,  1,      2,  21961,2,20100529,1303, 26.0653, 127.8927,  426,    299.9,  17.5971,  34.7512,2,  34.7501,2,    190.0,2,  -999.00,5,     6.10,2,     0.00,2,     0.37,2,   -999.0,9,   -999.0,9,-999.0000,9,  -999.00,     1305
  49UF20100524,KS1004,  2641,  1,      1,  21960,2,20100529,1303, 26.0653, 127.8927,  426,    334.2,  16.8947,  34.7170,2,  34.7160,6,    189.1,2,  -999.00,5,     7.06,6,     0.00,6,     0.43,6,   -999.0,9,   -999.0,9,-999.0000,9,  -999.00,     1303