BOTTLE,20190925PRINUNIVRMK
EXPOCODE,SECT_ID,STNNBR,CASTNO,SAMPNO,BTLNBR,BTLNBR_FLAG_W,DATE,TIME,LATITUDE,LONGITUDE,DEPTH,CTDPRS,CTDTMP,CTDSAL,CTDSAL_FLAG_W,SALNTY,SALNTY_FLAG_W,OXYGEN,OXYGEN_FLAG_W,SILCAT,SILCAT_FLAG_W,NITRAT,NITRAT_FLAG_W,NITRIT,NITRIT_FLAG_W,PHSPHT,PHSPHT_FLAG_W,TCARBN,TCARBN_FLAG_W,ALKALI,ALKALI_FLAG_W,PH_TOT,PH_TOT_FLAG_W,PH_TMP,BTL_TIME
,,,,,,,,,,,METERS,DBAR,ITS-90,PSS-78,,PSS-78,,UMOL/KG,,UMOL/KG,,UMOL/KG,,UMOL/KG,,UMOL/KG,,UMOL/KG,,UMOL/KG,,,,DEG C,
  49UF20101203,KS1009,  2875,  1,     99,     99,2,20101206,2218, 29.9995, 145.0720, 5897,      0.0,  23.9940,  34.6739,2,-999.0000,9,    211.6,2,     1.28,2,     0.00,2,     0.00,2,     0.00,2,   -999.0,9,   -999.0,9,-999.0000,9,  -999.00,     2255
  49UF20101203,KS1009,  2875,  1,     33,  21993,2,20101206,2218, 29.9995, 145.0720, 5897,     10.7,  24.0012,  34.6739,2,-999.0000,9,    211.3,2,     1.23,2,     0.00,2,     0.00,2,     0.00,2,   1963.3,2,   2273.4,2,   8.0818,2,    25.00,     2323
  49UF20101203,KS1009,  2875,  1,     32,  21992,2,20101206,2218, 29.9995, 145.0720, 5897,     25.9,  24.0063,  34.6741,2,-999.0000,9,    211.1,2,     1.23,2,     0.00,2,     0.00,2,     0.00,2,   1961.9,2,   2274.4,2,   8.0826,2,    25.00,     2321
  49UF20101203,KS1009,  2875,  1,     31,  21991,2,20101206,2218, 29.9995, 145.0720, 5897,     50.6,  24.0048,  34.6735,2,-999.0000,9,    211.2,2,     1.26,2,     0.00,2,     0.00,2,     0.00,2,   1960.1,2,   2271.7,2,   8.0834,2,    25.00,     2318
  49UF20101203,KS1009,  2875,  1,     30,  21990,2,20101206,2218, 29.9995, 145.0720, 5897,     76.5,  22.4265,  34.7171,2,-999.0000,9,    219.7,2,     1.49,2,     0.00,2,     0.00,2,     0.00,2,   1980.1,2,   2277.9,2,   8.0520,2,    25.00,     2316
  49UF20101203,KS1009,  2875,  1,     29,  21989,2,20101206,2218, 29.9995, 145.0720, 5897,    100.8,  20.2012,  34.7350,2,-999.0000,9,    215.1,2,     1.89,2,     0.13,2,     0.11,2,     0.03,2,   2004.3,2,   2280.8,2,   8.0152,2,    25.00,     2315
  49UF20101203,KS1009,  2875,  1,     28,  21988,2,20101206,2218, 29.9995, 145.0720, 5897,    127.0,  19.5250,  34.7248,2,-999.0000,9,    211.3,6,     2.14,6,     1.05,6,     0.03,6,     0.09,6,   2008.7,2,   2279.8,2,   8.0032,2,    25.00,     2313
  49UF20101203,KS1009,  2875,  1,     24,  21984,2,20101206,2218, 29.9995, 145.0720, 5897,    153.0,  18.8697,  34.7159,2,-999.0000,9,    212.7,2,     2.18,2,     0.63,2,     0.01,2,     0.07,2,   2013.1,2,   2277.7,2,   7.9928,2,    25.00,     2311
  49UF20101203,KS1009,  2875,  1,     23,  21983,2,20101206,2218, 29.9995, 145.0720, 5897,    202.4,  18.1493,  34.7028,2,-999.0000,9,    206.2,2,     2.84,2,     2.96,2,     0.01,2,     0.20,2,   2022.4,2,   2276.0,2,   7.9748,2,    25.00,     2309
  49UF20101203,KS1009,  2875,  1,     22,  21982,2,20101206,2218, 29.9995, 145.0720, 5897,    253.8,  17.6371,  34.6991,2,-999.0000,9,    204.5,2,     3.65,2,     4.20,2,     0.01,2,     0.27,2,   2027.4,2,   2276.3,2,   7.9600,2,    25.00,     2307
  49UF20101203,KS1009,  2875,  1,     21,  21981,2,20101206,2218, 29.9995, 145.0720, 5897,    303.9,  16.9099,  34.6889,2,-999.0000,9,    195.3,2,     5.53,2,     6.29,2,     0.00,2,     0.41,2,   2045.8,2,   2275.4,2,   7.9232,2,    25.00,     2305
  49UF20101203,KS1009,  2875,  1,     20,  21980,2,20101206,2218, 29.9995, 145.0720, 5897,    405.9,  14.4219,  34.5420,2,-999.0000,9,    182.8,2,    12.82,2,    11.18,2,     0.00,2,     0.76,2,   2081.9,2,   2275.5,2,   7.8512,2,    25.00,     2301
  49UF20101203,KS1009,  2875,  1,     19,  21978,2,20101206,2218, 29.9995, 145.0720, 5897,    506.0,  11.6407,  34.3533,2,-999.0000,9,    176.7,2,    22.79,2,    16.23,2,     0.00,2,     1.14,2,   2118.9,2,   2274.5,2,   7.7590,2,    25.00,     2258
  49UF20101203,KS1009,  2875,  1,     15,  21974,2,20101206,2218, 29.9995, 145.0720, 5897,    605.7,   8.7449,  34.1557,2,-999.0000,9,    163.1,2,    38.08,2,    22.56,2,     0.00,2,     1.62,2,   2167.9,2,   2280.7,2,   7.6526,2,    25.00,     2255
  49UF20101203,KS1009,  2875,  1,     14,  21973,2,20101206,2218, 29.9995, 145.0720, 5897,    605.7,   8.7448,  34.1557,2,-999.0000,9,    163.2,2,    37.92,2,    22.41,2,     0.00,2,     1.61,2,   2167.9,2,   2279.9,2,   7.6622,2,    25.00,     2255
  49UF20101203,KS1009,  2875,  1,     13,  21972,2,20101206,2218, 29.9995, 145.0720, 5897,    707.4,   6.1403,  34.0498,2,-999.0000,9,    130.4,2,    62.44,2,    30.22,2,     0.00,2,     2.19,2,   2228.0,2,   2294.8,2,   7.5226,2,    25.00,     2252
  49UF20101203,KS1009,  2875,  1,     12,  21971,2,20101206,2218, 29.9995, 145.0720, 5897,    707.4,   6.1403,  34.0498,2,-999.0000,9,    130.4,2,    62.28,2,    30.03,2,     0.00,2,     2.19,2,   2229.5,2,   2296.2,2,   7.5256,2,    25.00,     2252
  49UF20101203,KS1009,  2875,  1,     11,  21970,2,20101206,2218, 29.9995, 145.0720, 5897,    809.4,   4.8977,  34.1083,2,-999.0000,9,     86.2,2,    85.66,2,    36.04,2,     0.00,2,     2.61,2,   2282.0,6,   2313.9,6,   7.4217,6,    25.00,     2248
  49UF20101203,KS1009,  2875,  1,     10,  21969,2,20101206,2218, 29.9995, 145.0720, 5897,    908.8,   4.3268,  34.1910,2,-999.0000,9,     62.2,2,   101.71,2,    38.94,2,     0.00,2,     2.80,2,   2315.1,2,   2328.9,2,   7.3790,2,    25.00,     2245
  49UF20101203,KS1009,  2875,  1,      6,  21965,2,20101206,2218, 29.9995, 145.0720, 5897,   1009.9,   3.8199,  34.2762,2,-999.0000,9,     46.3,6,   116.51,6,    40.84,6,     0.00,6,     2.94,6,   2341.5,2,   2346.9,2,   7.3571,2,    25.00,     2242
  49UF20101203,KS1009,  2875,  1,      5,  21964,2,20101206,2218, 29.9995, 145.0720, 5897,   1212.3,   3.0979,  34.3992,2,-999.0000,9,     36.5,2,   137.13,2,    42.35,2,     0.00,2,     3.04,2,   2368.6,2,   2372.2,2,   7.3562,2,    25.00,     2238
  49UF20101203,KS1009,  2875,  1,      4,  21963,2,20101206,2218, 29.9995, 145.0720, 5897,   1416.6,   2.6717,  34.4754,2,-999.0000,9,     42.2,2,   148.28,2,    42.36,2,     0.00,2,     3.03,2,   2379.4,2,   2388.3,2,   7.3651,2,    25.00,     2233
  49UF20101203,KS1009,  2875,  1,      3,  21962,2,20101206,2218, 29.9995, 145.0720, 5897,   1618.5,   2.3072,  34.5419,2,-999.0000,9,     56.1,2,   155.13,2,    41.56,2,     0.00,2,     2.97,2,   2374.5,2,   2399.7,2,   7.4010,2,    25.00,     2228
  49UF20101203,KS1009,  2875,  1,      2,  21961,2,20101206,2218, 29.9995, 145.0720, 5897,   1821.2,   2.0940,  34.5817,2,-999.0000,9,     76.0,2,   155.56,2,    40.79,2,     0.00,2,     2.87,2,   2369.2,6,   2405.4,6,   7.4316,6,    25.00,     2224
  49UF20101203,KS1009,  2875,  1,      1,  21960,2,20101206,2218, 29.9995, 145.0720, 5897,   2025.8,   1.9296,  34.6066,2,-999.0000,9,     88.9,2,   156.28,2,    39.92,2,     0.00,2,     2.81,2,   2360.3,2,   2412.5,2,   7.4515,2,    25.00,     2218
  49UF20101203,KS1009,  2877,  1,     99,     99,2,20101207,0821, 29.0023, 145.9957, 5930,      0.0,  23.8424,  34.7221,2,-999.0000,9,    212.6,2,     1.31,2,     0.00,2,     0.00,2,     0.00,2,   -999.0,9,   -999.0,9,-999.0000,9,  -999.00,      856
  49UF20101203,KS1009,  2877,  1,     33,  21993,2,20101207,0821, 29.0023, 145.9957, 5930,     11.8,  23.8549,  34.7230,2,-999.0000,9,    212.3,2,     1.29,2,     0.00,2,     0.00,2,     0.00,2,   -999.0,9,   -999.0,9,-999.0000,9,  -999.00,      921
  49UF20101203,KS1009,  2877,  1,     32,  21992,2,20101207,0821, 29.0023, 145.9957, 5930,     26.7,  23.8547,  34.7222,2,-999.0000,9,    212.4,2,     1.27,2,     0.01,2,     0.00,2,     0.00,2,   -999.0,9,   -999.0,9,-999.0000,9,  -999.00,      919
  49UF20101203,KS1009,  2877,  1,     31,  21991,2,20101207,0821, 29.0023, 145.9957, 5930,     51.1,  23.8647,  34.7246,2,-999.0000,9,    212.3,2,     1.31,2,     0.00,2,     0.00,2,     0.00,2,   -999.0,9,   -999.0,9,-999.0000,9,  -999.00,      915
  49UF20101203,KS1009,  2877,  1,     30,  21990,2,20101207,0821, 29.0023, 145.9957, 5930,     76.5,  21.2265,  34.7480,2,-999.0000,9,    230.3,2,     1.63,2,    -0.01,2,     0.01,2,     0.00,2,   -999.0,9,   -999.0,9,-999.0000,9,  -999.00,      914
  49UF20101203,KS1009,  2877,  1,     29,  21989,2,20101207,0821, 29.0023, 145.9957, 5930,    101.5,  19.7844,  34.7263,2,-999.0000,9,    220.3,2,     1.87,2,     0.04,2,     0.17,2,     0.02,2,   -999.0,9,   -999.0,9,-999.0000,9,  -999.00,      912
  49UF20101203,KS1009,  2877,  1,     28,  21988,2,20101207,0821, 29.0023, 145.9957, 5930,    127.6,  19.0523,  34.7404,2,-999.0000,9,    210.9,2,     2.08,2,     0.55,2,     0.02,2,     0.06,2,   -999.0,9,   -999.0,9,-999.0000,9,  -999.00,      911
  49UF20101203,KS1009,  2877,  1,     24,  21984,2,20101207,0821, 29.0023, 145.9957, 5930,    152.7,  18.5797,  34.7173,2,-999.0000,9,    207.7,6,     2.45,6,     1.71,6,     0.02,6,     0.13,6,   -999.0,9,   -999.0,9,-999.0000,9,  -999.00,      910
  49UF20101203,KS1009,  2877,  1,     23,  21983,2,20101207,0821, 29.0023, 145.9957, 5930,    203.0,  17.7367,  34.6931,2,-999.0000,9,    208.2,2,     3.27,2,     3.77,2,     0.01,2,     0.23,2,   -999.0,9,   -999.0,9,-999.0000,9,  -999.00,      908
  49UF20101203,KS1009,  2877,  1,     22,  21982,2,20101207,0821, 29.0023, 145.9957, 5930,    252.5,  17.3334,  34.6885,2,-999.0000,9,    207.4,2,     3.90,2,     4.63,2,     0.01,2,     0.29,2,   -999.0,9,   -999.0,9,-999.0000,9,  -999.00,      906
  49UF20101203,KS1009,  2877,  1,     21,  21981,2,20101207,0821, 29.0023, 145.9957, 5930,    303.4,  16.6323,  34.6737,2,-999.0000,9,    195.2,2,     6.00,2,     6.80,2,     0.01,2,     0.44,2,   -999.0,9,   -999.0,9,-999.0000,9,  -999.00,      904
  49UF20101203,KS1009,  2877,  1,     20,  21980,2,20101207,0821, 29.0023, 145.9957, 5930,    403.7,  14.2030,  34.5213,2,-999.0000,9,    188.0,2,    12.81,2,    11.24,2,     0.01,2,     0.76,2,   -999.0,9,   -999.0,9,-999.0000,9,  -999.00,      901
  49UF20101203,KS1009,  2877,  1,     19,  21978,2,20101207,0821, 29.0023, 145.9957, 5930,    504.1,  11.4272,  34.3250,2,-999.0000,9,    184.8,2,    21.55,2,    16.05,2,     0.00,2,     1.11,2,   -999.0,9,   -999.0,9,-999.0000,9,  -999.00,      859
  49UF20101203,KS1009,  2877,  1,     15,  21974,2,20101207,0821, 29.0023, 145.9957, 5930,    606.2,   8.6555,  34.1352,2,-999.0000,9,    167.8,2,    36.69,2,    22.44,2,     0.00,2,     1.60,2,   -999.0,9,   -999.0,9,-999.0000,9,  -999.00,      856
  49UF20101203,KS1009,  2877,  1,     14,  21973,2,20101207,0821, 29.0023, 145.9957, 5930,    707.2,   5.8844,  34.0421,2,-999.0000,9,    123.5,2,    65.46,2,    31.37,2,     0.00,2,     2.27,2,   -999.0,9,   -999.0,9,-999.0000,9,  -999.00,      853
  49UF20101203,KS1009,  2877,  1,     13,  21972,2,20101207,0821, 29.0023, 145.9957, 5930,    807.5,   4.8620,  34.1124,2,-999.0000,9,     82.6,2,    86.49,2,    36.50,2,     0.00,2,     2.64,2,   -999.0,9,   -999.0,9,-999.0000,9,  -999.00,      850
  49UF20101203,KS1009,  2877,  1,     12,  21971,2,20101207,0821, 29.0023, 145.9957, 5930,    807.5,   4.8620,  34.1124,2,-999.0000,9,     89.4,4,    86.48,2,    36.65,2,     0.00,2,     2.64,2,   -999.0,9,   -999.0,9,-999.0000,9,  -999.00,      850
  49UF20101203,KS1009,  2877,  1,     11,  21970,2,20101207,0821, 29.0023, 145.9957, 5930,    911.2,   4.2901,  34.2059,2,-999.0000,9,     56.6,2,   103.04,2,    39.59,2,     0.00,2,     2.85,2,   -999.0,9,   -999.0,9,-999.0000,9,  -999.00,      847
  49UF20101203,KS1009,  2877,  1,     10,  21969,2,20101207,0821, 29.0023, 145.9957, 5930,    911.2,   4.2901,  34.2059,2,-999.0000,9,     56.6,2,   102.92,2,    39.57,2,     0.00,2,     2.84,2,   -999.0,9,   -999.0,9,-999.0000,9,  -999.00,      847
  49UF20101203,KS1009,  2877,  1,      6,  21965,2,20101207,0821, 29.0023, 145.9957, 5930,   1011.2,   3.7827,  34.2874,2,-999.0000,9,     44.4,2,   117.34,2,    41.19,2,     0.00,2,     2.95,2,   -999.0,9,   -999.0,9,-999.0000,9,  -999.00,      845
  49UF20101203,KS1009,  2877,  1,      5,  21964,2,20101207,0821, 29.0023, 145.9957, 5930,   1213.0,   3.1301,  34.4134,2,-999.0000,9,     40.1,6,   135.59,6,    42.34,6,     0.00,6,     3.03,6,   -999.0,9,   -999.0,9,-999.0000,9,  -999.00,      840
  49UF20101203,KS1009,  2877,  1,      4,  21963,2,20101207,0821, 29.0023, 145.9957, 5930,   1416.7,   2.6982,  34.4900,2,-999.0000,9,     48.1,2,   145.42,2,    42.11,2,     0.00,2,     3.00,2,   -999.0,9,   -999.0,9,-999.0000,9,  -999.00,      835
  49UF20101203,KS1009,  2877,  1,      3,  21962,2,20101207,0821, 29.0023, 145.9957, 5930,   1618.0,   2.3602,  34.5385,2,-999.0000,9,     57.6,2,   153.21,2,    41.81,2,     0.00,2,     2.96,2,   -999.0,9,   -999.0,9,-999.0000,9,  -999.00,      830
  49UF20101203,KS1009,  2877,  1,      2,  21961,2,20101207,0821, 29.0023, 145.9957, 5930,   1821.4,   2.1252,  34.5760,2,-999.0000,9,     72.6,2,   156.02,2,    40.92,2,     0.00,2,     2.89,2,   -999.0,9,   -999.0,9,-999.0000,9,  -999.00,      826
  49UF20101203,KS1009,  2877,  1,      1,  21960,2,20101207,0821, 29.0023, 145.9957, 5930,   2025.6,   1.9280,  34.6044,2,-999.0000,9,     85.1,2,   158.29,2,    40.29,2,     0.00,2,     2.83,2,   -999.0,9,   -999.0,9,-999.0000,9,  -999.00,      821
  49UF20101203,KS1009,  2879,  1,     99,     99,2,20101207,1900, 28.0252, 147.0097, 5528,      0.0,  25.0416,  34.7170,2,-999.0000,9,    208.8,2,     1.32,2,     0.02,2,     0.00,2,     0.00,2,   -999.0,9,   -999.0,9,-999.0000,9,  -999.00,     1935
  49UF20101203,KS1009,  2879,  1,     33,  21993,2,20101207,1900, 28.0252, 147.0097, 5528,     11.2,  25.0422,  34.7171,2,  34.7166,2,    208.7,2,     1.27,2,     0.00,2,     0.00,2,     0.00,2,   1958.6,2,   2274.5,2,   8.0841,2,    25.00,     2005
  49UF20101203,KS1009,  2879,  1,     32,  21992,2,20101207,1900, 28.0252, 147.0097, 5528,     26.5,  25.0588,  34.7167,2,-999.0000,9,    208.6,2,     1.27,2,     0.00,2,     0.00,2,     0.00,2,   1957.9,2,   2273.5,2,   8.0863,2,    25.00,     2003
  49UF20101203,KS1009,  2879,  1,     31,  21991,3,20101207,1900, 28.0252, 147.0097, 5528,     50.6,  25.0464,  34.7178,2,-999.0000,9,    222.8,4,     1.27,2,     0.00,2,     0.00,2,     0.00,2,   1956.6,2,   2275.7,2,   8.0839,2,    25.00,     2000
  49UF20101203,KS1009,  2879,  1,     30,  21990,2,20101207,1900, 28.0252, 147.0097, 5528,     76.8,  20.8011,  34.7620,2,-999.0000,9,    236.6,2,     1.65,2,     0.00,2,     0.00,2,     0.00,2,   1985.9,2,   2282.9,2,   8.0269,2,    25.00,     1958
  49UF20101203,KS1009,  2879,  1,     29,  21989,2,20101207,1900, 28.0252, 147.0097, 5528,    101.8,  19.0179,  34.7249,2,  34.7252,2,    219.6,2,     2.02,2,    -0.02,2,     0.05,2,     0.02,2,   2010.8,2,   2280.7,2,   7.9964,2,    25.00,     1957
  49UF20101203,KS1009,  2879,  1,     28,  21988,2,20101207,1900, 28.0252, 147.0097, 5528,    126.7,  18.3167,  34.7071,2,-999.0000,9,    207.4,2,     2.52,2,     1.49,2,     0.02,2,     0.11,2,   2019.9,2,   2278.9,2,   7.9767,2,    25.00,     1956
  49UF20101203,KS1009,  2879,  1,     24,  21984,2,20101207,1900, 28.0252, 147.0097, 5528,    152.3,  17.9700,  34.6973,2,-999.0000,9,    206.2,2,     2.93,2,     3.29,2,     0.01,2,     0.20,2,   2024.1,2,   2274.9,2,   7.9696,2,    25.00,     1955
  49UF20101203,KS1009,  2879,  1,     23,  21983,2,20101207,1900, 28.0252, 147.0097, 5528,    203.6,  17.4335,  34.6892,2,  34.6904,2,    206.4,6,     3.79,6,     4.60,6,     0.01,6,     0.28,6,   2027.0,2,   2275.4,2,   7.9481,2,    25.00,     1953
  49UF20101203,KS1009,  2879,  1,     22,  21982,2,20101207,1900, 28.0252, 147.0097, 5528,    255.2,  16.8233,  34.6791,2,-999.0000,9,    197.5,2,     5.33,2,     6.33,2,     0.00,2,     0.39,2,   2041.0,2,   2273.4,2,   7.9293,2,    25.00,     1951
  49UF20101203,KS1009,  2879,  1,     21,  21981,2,20101207,1900, 28.0252, 147.0097, 5528,    305.3,  16.0157,  34.6354,2,-999.0000,9,    191.8,2,     7.42,2,     8.04,2,     0.00,2,     0.52,2,   2057.8,2,   2274.3,2,   7.8987,2,    25.00,     1948
  49UF20101203,KS1009,  2879,  1,     20,  21980,2,20101207,1900, 28.0252, 147.0097, 5528,    410.6,  13.3416,  34.4604,2,  34.4622,6,    189.2,2,    14.66,2,    12.41,2,     0.00,2,     0.83,2,   2088.2,2,   2274.4,2,   7.8261,2,    25.00,     1944
  49UF20101203,KS1009,  2879,  1,     19,  21978,3,20101207,1900, 28.0252, 147.0097, 5528,    506.6,  10.1330,  34.2362,2,-999.0000,9,    177.0,2,    28.06,2,    19.01,2,     0.00,2,     1.32,2,   2136.2,2,   2276.7,2,   7.7102,2,    25.00,     1940
  49UF20101203,KS1009,  2879,  1,     15,  21974,2,20101207,1900, 28.0252, 147.0097, 5528,    607.5,   7.2578,  34.0636,2,  34.0638,2,    153.3,2,    48.24,2,    26.25,2,     0.00,2,     1.88,2,   2192.2,2,   2285.2,2,   7.5958,2,    25.00,     1937
  49UF20101203,KS1009,  2879,  1,     14,  21973,2,20101207,1900, 28.0252, 147.0097, 5528,    708.2,   5.8951,  34.0601,2,-999.0000,9,    118.4,2,    66.67,2,    31.84,2,     0.00,2,     2.29,2,   2239.4,6,   2299.9,6,   7.5012,6,    25.00,     1933
  49UF20101203,KS1009,  2879,  1,     13,  21972,2,20101207,1900, 28.0252, 147.0097, 5528,    810.4,   4.7144,  34.1491,2,  34.1495,2,     76.6,2,    90.84,2,    37.52,2,     0.00,2,     2.68,2,   2291.4,2,   2323.2,2,   7.4214,2,    25.00,     1929
  49UF20101203,KS1009,  2879,  1,     12,  21971,2,20101207,1900, 28.0252, 147.0097, 5528,    910.5,   4.1366,  34.2515,2,-999.0000,9,     51.2,2,   107.84,2,    40.60,2,     0.00,2,     2.89,2,   2324.5,2,   2342.6,2,   7.3683,2,    25.00,     1926
  49UF20101203,KS1009,  2879,  1,     11,  21970,2,20101207,1900, 28.0252, 147.0097, 5528,   1011.0,   3.6786,  34.3382,2,  34.3367,2,     42.9,2,   120.60,2,    41.78,2,     0.00,2,     2.98,2,   2347.0,2,   2360.5,2,   7.3687,2,    25.00,     1923
  49UF20101203,KS1009,  2879,  1,     10,  21969,2,20101207,1900, 28.0252, 147.0097, 5528,   1011.0,   3.6786,  34.3382,2,  34.3379,2,     42.8,2,   120.25,2,    41.93,2,     0.00,2,     2.97,2,   2346.3,2,   2360.7,2,   7.3647,2,    25.00,     1923
  49UF20101203,KS1009,  2879,  1,      6,  21965,2,20101207,1900, 28.0252, 147.0097, 5528,   1213.0,   3.0760,  34.4431,2,  34.4449,2,     45.6,2,   135.80,2,    42.38,2,     0.00,2,     3.00,2,   2363.2,2,   2382.3,2,   7.3819,2,    25.00,     1918
  49UF20101203,KS1009,  2879,  1,      5,  21964,2,20101207,1900, 28.0252, 147.0097, 5528,   1213.0,   3.0760,  34.4431,2,  34.4441,2,     45.6,2,   135.63,2,    42.25,2,     0.00,2,     3.00,2,   2362.6,2,   2380.6,2,   7.3816,2,    25.00,     1918
  49UF20101203,KS1009,  2879,  1,      4,  21963,2,20101207,1900, 28.0252, 147.0097, 5528,   1415.6,   2.6665,  34.5067,2,  34.5073,6,     55.9,6,   144.26,6,    41.90,6,     0.00,6,     2.96,6,   2366.8,2,   2392.9,2,   7.3928,2,    25.00,     1913
  49UF20101203,KS1009,  2879,  1,      3,  21962,2,20101207,1900, 28.0252, 147.0097, 5528,   1616.2,   2.3388,  34.5532,2,  34.5529,2,     70.0,2,   149.36,2,    41.22,2,     0.00,2,     2.89,2,   2365.1,6,   2401.5,6,   7.4252,6,    25.00,     1908
  49UF20101203,KS1009,  2879,  1,      2,  21961,2,20101207,1900, 28.0252, 147.0097, 5528,   1820.1,   2.0865,  34.5878,2,  34.5875,2,     85.1,2,   152.20,2,    40.43,2,     0.00,2,     2.82,2,   2358.8,2,   2409.1,2,   7.4529,2,    25.00,     1904
  49UF20101203,KS1009,  2879,  1,      1,  21960,3,20101207,1900, 28.0252, 147.0097, 5528,   2021.1,   1.9264,  34.6110,2,  34.6125,2,     97.6,2,   152.31,2,    39.50,2,     0.00,2,     2.76,2,   2353.2,2,   2411.7,2,   7.4768,2,    25.00,     1900