BOTTLE,20190925PRINUNIVRMK
# 08/29/2019 Initialized README file  
# Data source:  Masao Ishii 2018/11/30 
# SHIP: R/V Keifu Maru II 
# Cruise: ks201009 
# Region: NW Pacific Ocean 
# 	3 sided box of stations centered on 37N x 145E 
# EXPOCODE: 49UF20101203 
# DATES: 20101203-20101222 
# Chief Scientist: Masanobu Tani 
# 21 stations with 24 place Rosette 
# NOTE: 
# 	Preceeding "KS-" removed from original station numbers 
# 	Preceeding "02-" removed from original bottle numbers 
# 	BUCKET samples coded as bottle/sample 99 
# CTD: Who - Hitomi Kamiya; Status - final 
# 	Includes: CTDSAL 
# SALNTY: Who - Hitomi Kamiya; Status - final 
# 	Notes: 	 
# Nutrients: Who - Hitomi Kamiya; Status - final 
# 	Includes: nitrate, nitrite, silicate, phosphate 
# 	Nitrite and NO3+NO2 reported. Separated by subtraction 
# OXYGEN: Who - Hitomi Kamiya; Status - final 
# 	Notes: 
# TCARBN: Who - Hitomi Kamiya; Status - final 
# 	Notes:  
# ALKALI: Who - Hitomi Kamiya; Status - final 
# 	Notes:  
# These data should be cited as: Tani, Masanobu; Kamiya, Hitomi; Ishii, Masao (2019). Dissolved inorganic carbon (DIC), total alkalinity, pH on total scale, temperature, salinity, oxygen, nutrients and other measurements collected from discrete samples and profile observations during the R/V Keifu Maru II cruise ks201009 (EXPOCODE 49UF20101203) in the North Pacific Ocean from 2010-12-03 to 2010-12-22 (NCEI Accession 0191619). [indicate subset used]. NOAA National Centers for Environmental Information. Dataset. https://doi.org/10.25921/c5bq-hq97.   
# References that have used data from this cruise: 
EXPOCODE,SECT_ID,STNNBR,CASTNO,SAMPNO,BTLNBR,BTLNBR_FLAG_W,DATE,TIME,LATITUDE,LONGITUDE,DEPTH,CTDPRS,CTDTMP,CTDSAL,CTDSAL_FLAG_W,SALNTY,SALNTY_FLAG_W,OXYGEN,OXYGEN_FLAG_W,SILCAT,SILCAT_FLAG_W,NITRAT,NITRAT_FLAG_W,NITRIT,NITRIT_FLAG_W,PHSPHT,PHSPHT_FLAG_W,TCARBN,TCARBN_FLAG_W,ALKALI,ALKALI_FLAG_W,PH_TOT,PH_TOT_FLAG_W,PH_TMP,BTL_TIME
,,,,,,,,,,,METERS,DBAR,ITS-90,PSS-78,,PSS-78,,UMOL/KG,,UMOL/KG,,UMOL/KG,,UMOL/KG,,UMOL/KG,,UMOL/KG,,UMOL/KG,,,,DEG C,
  49UF20101203,KS1009,  2863,  1,     99,     99,2,20101204,1028, 34.9497, 140.2515, 1983,      0.0,  20.2600,  34.5467,2,-999.0000,9,    217.8,2,     4.17,2,     2.13,2,     0.22,2,     0.16,2,   -999.0,9,   -999.0,9,-999.0000,9,  -999.00,     1120
  49UF20101203,KS1009,  2863,  1,     33,  21993,2,20101204,1028, 34.9497, 140.2515, 1983,     10.8,  20.2612,  34.5474,2,  34.5467,6,    216.0,6,     4.16,6,     2.14,6,     0.20,6,     0.16,6,   -999.0,9,   -999.0,9,-999.0000,9,  -999.00,     1134
  49UF20101203,KS1009,  2863,  1,     32,  21992,2,20101204,1028, 34.9497, 140.2515, 1983,     27.3,  20.2479,  34.5468,2,-999.0000,9,    214.4,2,     4.32,2,     2.26,2,     0.21,2,     0.17,2,   -999.0,9,   -999.0,9,-999.0000,9,  -999.00,     1133
  49UF20101203,KS1009,  2863,  1,     31,  21991,2,20101204,1028, 34.9497, 140.2515, 1983,     51.9,  17.7325,  34.5144,2,-999.0000,9,    178.2,2,    11.84,2,     8.37,2,     0.10,2,     0.59,2,   -999.0,9,   -999.0,9,-999.0000,9,  -999.00,     1129
  49UF20101203,KS1009,  2863,  1,     30,  21990,2,20101204,1028, 34.9497, 140.2515, 1983,     77.3,  14.9622,  34.5227,2,-999.0000,9,    161.9,2,    19.72,2,    13.21,2,     0.02,2,     0.93,2,   -999.0,9,   -999.0,9,-999.0000,9,  -999.00,     1127
  49UF20101203,KS1009,  2863,  1,     29,  21989,2,20101204,1028, 34.9497, 140.2515, 1983,    101.6,  14.2948,  34.5084,2,  34.5088,2,    161.0,2,    21.32,2,    14.03,2,     0.02,2,     0.99,2,   -999.0,9,   -999.0,9,-999.0000,9,  -999.00,     1125
  49UF20101203,KS1009,  2863,  1,     28,  21988,2,20101204,1028, 34.9497, 140.2515, 1983,    127.6,  13.4478,  34.4825,2,-999.0000,9,    157.9,2,    24.33,2,    15.50,2,     0.01,2,     1.09,2,   -999.0,9,   -999.0,9,-999.0000,9,  -999.00,     1123
  49UF20101203,KS1009,  2863,  1,     24,  21984,2,20101204,1028, 34.9497, 140.2515, 1983,    153.7,  12.6849,  34.4543,2,-999.0000,9,    153.0,2,    28.06,2,    17.09,2,     0.02,2,     1.21,2,   -999.0,9,   -999.0,9,-999.0000,9,  -999.00,     1122
  49UF20101203,KS1009,  2863,  1,     23,  21983,2,20101204,1028, 34.9497, 140.2515, 1983,    201.4,  11.2820,  34.3840,2,  34.3849,2,    152.4,2,    33.03,2,    19.35,2,     0.01,2,     1.38,2,   -999.0,9,   -999.0,9,-999.0000,9,  -999.00,     1120
  49UF20101203,KS1009,  2863,  1,     22,  21982,2,20101204,1028, 34.9497, 140.2515, 1983,    256.5,   9.2436,  34.2787,2,-999.0000,9,    142.1,2,    43.87,2,    23.29,2,     0.01,2,     1.67,2,   -999.0,9,   -999.0,9,-999.0000,9,  -999.00,     1117
  49UF20101203,KS1009,  2863,  1,     21,  21981,2,20101204,1028, 34.9497, 140.2515, 1983,    305.9,   8.6147,  34.2640,2,-999.0000,9,    133.1,2,    50.58,2,    25.52,2,     0.01,2,     1.83,2,   -999.0,9,   -999.0,9,-999.0000,9,  -999.00,     1114
  49UF20101203,KS1009,  2863,  1,     20,  21980,2,20101204,1028, 34.9497, 140.2515, 1983,    407.3,   7.5176,  34.2261,2,  34.2263,6,    123.4,2,    60.14,2,    28.34,2,     0.01,2,     2.03,2,   -999.0,9,   -999.0,9,-999.0000,9,  -999.00,     1111
  49UF20101203,KS1009,  2863,  1,     19,  21978,2,20101204,1028, 34.9497, 140.2515, 1983,    508.8,   6.0516,  34.2472,2,-999.0000,9,     96.0,6,    79.45,6,    33.02,6,     0.01,6,     2.38,6,   -999.0,9,   -999.0,9,-999.0000,9,  -999.00,     1107
  49UF20101203,KS1009,  2863,  1,     15,  21974,2,20101204,1028, 34.9497, 140.2515, 1983,    608.4,   4.4888,  34.2738,2,  34.2728,2,     67.8,2,   103.80,2,    38.01,2,     0.01,2,     2.74,2,   -999.0,9,   -999.0,9,-999.0000,9,  -999.00,     1103
  49UF20101203,KS1009,  2863,  1,     14,  21973,2,20101204,1028, 34.9497, 140.2515, 1983,    608.4,   4.4888,  34.2738,2,  34.2728,2,     67.7,2,   103.83,2,    37.98,2,     0.00,2,     2.74,2,   -999.0,9,   -999.0,9,-999.0000,9,  -999.00,     1103
  49UF20101203,KS1009,  2863,  1,     13,  21972,2,20101204,1028, 34.9497, 140.2515, 1983,    708.0,   4.0476,  34.3075,2,-999.0000,9,     59.1,2,   113.21,2,    39.47,2,     0.00,2,     2.84,2,   -999.0,9,   -999.0,9,-999.0000,9,  -999.00,     1100
  49UF20101203,KS1009,  2863,  1,     12,  21971,2,20101204,1028, 34.9497, 140.2515, 1983,    708.0,   4.0476,  34.3075,2,-999.0000,9,     59.2,4,   113.14,2,    39.59,2,     0.00,2,     2.83,2,   -999.0,9,   -999.0,9,-999.0000,9,  -999.00,     1100
  49UF20101203,KS1009,  2863,  1,     11,  21970,2,20101204,1028, 34.9497, 140.2515, 1983,    810.7,   3.8021,  34.3320,2,  34.3318,6,     55.4,2,   118.66,2,    39.90,2,     0.00,2,     2.89,2,   -999.0,9,   -999.0,9,-999.0000,9,  -999.00,     1057
  49UF20101203,KS1009,  2863,  1,     10,  21969,2,20101204,1028, 34.9497, 140.2515, 1983,    912.8,   3.5864,  34.3617,2,-999.0000,9,     54.0,2,   123.63,2,    40.65,2,     0.00,2,     2.91,2,   -999.0,9,   -999.0,9,-999.0000,9,  -999.00,     1053
  49UF20101203,KS1009,  2863,  1,      6,  21965,2,20101204,1028, 34.9497, 140.2515, 1983,   1011.1,   3.2474,  34.4070,2,  34.4065,2,     52.7,2,   132.01,2,    40.84,2,     0.00,2,     2.94,2,   -999.0,9,   -999.0,9,-999.0000,9,  -999.00,     1049
  49UF20101203,KS1009,  2863,  1,      5,  21964,2,20101204,1028, 34.9497, 140.2515, 1983,   1211.5,   2.6279,  34.4855,2,  34.4854,2,     53.8,2,   147.27,2,    41.78,2,     0.00,2,     2.97,2,   -999.0,9,   -999.0,9,-999.0000,9,  -999.00,     1045
  49UF20101203,KS1009,  2863,  1,      4,  21963,2,20101204,1028, 34.9497, 140.2515, 1983,   1413.9,   2.3743,  34.5206,2,  34.5204,2,     55.1,2,   153.87,2,    41.86,2,     0.00,2,     2.98,2,   -999.0,9,   -999.0,9,-999.0000,9,  -999.00,     1040
  49UF20101203,KS1009,  2863,  1,      3,  21962,2,20101204,1028, 34.9497, 140.2515, 1983,   1617.3,   2.1705,  34.5562,2,  34.5562,2,     67.7,2,   156.40,2,    41.22,2,     0.00,2,     2.92,2,   -999.0,9,   -999.0,9,-999.0000,9,  -999.00,     1036
  49UF20101203,KS1009,  2863,  1,      2,  21961,2,20101204,1028, 34.9497, 140.2515, 1983,   1819.0,   2.0572,  34.5765,2,  34.5767,2,     75.9,2,   157.60,2,    40.73,2,     0.00,2,     2.88,2,   -999.0,9,   -999.0,9,-999.0000,9,  -999.00,     1032
  49UF20101203,KS1009,  2863,  1,      1,  21960,2,20101204,1028, 34.9497, 140.2515, 1983,   1972.7,   1.8947,  34.6036,2,  34.6026,2,     87.0,2,   157.86,2,    39.90,2,     0.00,2,     2.83,2,   -999.0,9,   -999.0,9,-999.0000,9,  -999.00,     1028
  49UF20101203,KS1009,  2866,  1,     99,     99,2,20101205,0047, 34.2427, 140.9855, 4684,      0.0,  22.4699,  34.6333,2,-999.0000,9,    214.3,2,     1.46,2,     0.16,2,     0.16,2,     0.03,2,   -999.0,9,   -999.0,9,-999.0000,9,  -999.00,      144
  49UF20101203,KS1009,  2866,  1,     33,  21993,2,20101205,0047, 34.2427, 140.9855, 4684,     11.3,  22.4730,  34.6345,2,-999.0000,9,    213.7,2,     1.41,2,     0.11,2,     0.15,2,     0.02,2,   -999.0,9,   -999.0,9,-999.0000,9,  -999.00,      154
  49UF20101203,KS1009,  2866,  1,     32,  21992,2,20101205,0047, 34.2427, 140.9855, 4684,     26.1,  22.4612,  34.6338,2,-999.0000,9,    213.7,6,     1.45,6,     0.08,6,     0.16,6,     0.03,6,   -999.0,9,   -999.0,9,-999.0000,9,  -999.00,      153
  49UF20101203,KS1009,  2866,  1,     31,  21991,2,20101205,0047, 34.2427, 140.9855, 4684,     51.9,  22.4563,  34.6333,2,-999.0000,9,    213.1,2,     1.41,2,     0.13,2,     0.17,2,     0.03,2,   -999.0,9,   -999.0,9,-999.0000,9,  -999.00,      149
  49UF20101203,KS1009,  2866,  1,     30,  21990,2,20101205,0047, 34.2427, 140.9855, 4684,     76.2,  22.4587,  34.6333,2,-999.0000,9,    213.4,2,     1.43,2,     0.11,2,     0.17,2,     0.03,2,   -999.0,9,   -999.0,9,-999.0000,9,  -999.00,      148
  49UF20101203,KS1009,  2866,  1,     29,  21989,2,20101205,0047, 34.2427, 140.9855, 4684,    101.6,  22.4628,  34.6335,2,-999.0000,9,    213.3,2,     1.42,2,     0.12,2,     0.17,2,     0.03,2,   -999.0,9,   -999.0,9,-999.0000,9,  -999.00,      147
  49UF20101203,KS1009,  2866,  1,     28,  21988,2,20101205,0047, 34.2427, 140.9855, 4684,    125.8,  22.0155,  34.6229,2,-999.0000,9,    206.6,2,     1.95,2,     0.82,2,     0.16,2,     0.07,2,   -999.0,9,   -999.0,9,-999.0000,9,  -999.00,      145
  49UF20101203,KS1009,  2866,  1,     24,  21984,2,20101205,0047, 34.2427, 140.9855, 4684,    151.7,  21.1380,  34.7168,2,-999.0000,9,    195.4,2,     2.92,2,     2.31,2,     0.04,2,     0.16,2,   -999.0,9,   -999.0,9,-999.0000,9,  -999.00,      144
  49UF20101203,KS1009,  2866,  1,     23,  21983,2,20101205,0047, 34.2427, 140.9855, 4684,    201.5,  18.5113,  34.7046,2,-999.0000,9,    188.1,2,     5.78,2,     5.26,2,     0.02,2,     0.37,2,   -999.0,9,   -999.0,9,-999.0000,9,  -999.00,      142
  49UF20101203,KS1009,  2866,  1,     22,  21982,2,20101205,0047, 34.2427, 140.9855, 4684,    255.1,  16.6134,  34.6477,2,-999.0000,9,    182.2,2,     9.32,2,     8.18,2,     0.01,2,     0.55,2,   -999.0,9,   -999.0,9,-999.0000,9,  -999.00,      140
  49UF20101203,KS1009,  2866,  1,     21,  21981,2,20101205,0047, 34.2427, 140.9855, 4684,    307.6,  15.2221,  34.5773,2,-999.0000,9,    174.6,2,    14.00,2,    10.90,2,     0.01,2,     0.76,2,   -999.0,9,   -999.0,9,-999.0000,9,  -999.00,      138
  49UF20101203,KS1009,  2866,  1,     20,  21980,2,20101205,0047, 34.2427, 140.9855, 4684,    408.7,  13.2617,  34.4741,2,-999.0000,9,    172.6,2,    18.96,2,    14.13,2,     0.01,2,     0.98,2,   -999.0,9,   -999.0,9,-999.0000,9,  -999.00,      134
  49UF20101203,KS1009,  2866,  1,     19,  21978,3,20101205,0047, 34.2427, 140.9855, 4684,    507.8,  10.4418,  34.3375,2,-999.0000,9,    148.7,2,    36.78,2,    20.85,2,     0.00,2,     1.49,2,   -999.0,9,   -999.0,9,-999.0000,9,  -999.00,      131
  49UF20101203,KS1009,  2866,  1,     15,  21974,2,20101205,0047, 34.2427, 140.9855, 4684,    610.9,   6.4653,  34.1081,2,-999.0000,9,    127.1,6,    63.52,6,    30.03,6,     0.00,6,     2.18,6,   -999.0,9,   -999.0,9,-999.0000,9,  -999.00,      127
  49UF20101203,KS1009,  2866,  1,     14,  21973,2,20101205,0047, 34.2427, 140.9855, 4684,    712.4,   5.0801,  34.1393,2,-999.0000,9,     88.8,2,    85.78,2,    35.73,2,     0.00,2,     2.57,2,   -999.0,9,   -999.0,9,-999.0000,9,  -999.00,      123
  49UF20101203,KS1009,  2866,  1,     13,  21972,2,20101205,0047, 34.2427, 140.9855, 4684,    812.7,   4.4166,  34.2204,2,-999.0000,9,     66.4,2,   101.46,2,    38.17,2,     0.00,2,     2.76,2,   -999.0,9,   -999.0,9,-999.0000,9,  -999.00,      119
  49UF20101203,KS1009,  2866,  1,     12,  21971,2,20101205,0047, 34.2427, 140.9855, 4684,    812.7,   4.4166,  34.2204,2,-999.0000,9,     67.6,2,   101.36,2,    38.37,2,     0.00,2,     2.76,2,   -999.0,9,   -999.0,9,-999.0000,9,  -999.00,      119
  49UF20101203,KS1009,  2866,  1,     11,  21970,2,20101205,0047, 34.2427, 140.9855, 4684,    912.3,   4.0391,  34.3151,2,-999.0000,9,     58.4,2,   113.69,2,    39.60,2,     0.00,2,     2.84,2,   -999.0,9,   -999.0,9,-999.0000,9,  -999.00,      116
  49UF20101203,KS1009,  2866,  1,     10,  21969,2,20101205,0047, 34.2427, 140.9855, 4684,    912.3,   4.0391,  34.3151,2,-999.0000,9,     58.5,2,   113.29,2,    39.70,2,     0.00,2,     2.84,2,   -999.0,9,   -999.0,9,-999.0000,9,  -999.00,      116
  49UF20101203,KS1009,  2866,  1,      6,  21965,2,20101205,0047, 34.2427, 140.9855, 4684,   1013.5,   3.8073,  34.3637,2,-999.0000,9,     59.4,2,   118.65,2,    39.83,2,     0.00,2,     2.85,2,   -999.0,9,   -999.0,9,-999.0000,9,  -999.00,      112
  49UF20101203,KS1009,  2866,  1,      5,  21964,2,20101205,0047, 34.2427, 140.9855, 4684,   1215.5,   2.9928,  34.4249,2,-999.0000,9,     45.4,2,   139.26,2,    41.90,2,     0.00,2,     3.00,2,   -999.0,9,   -999.0,9,-999.0000,9,  -999.00,      106
  49UF20101203,KS1009,  2866,  1,      4,  21963,2,20101205,0047, 34.2427, 140.9855, 4684,   1415.5,   2.6152,  34.4820,2,-999.0000,9,     47.6,2,   149.27,2,    42.20,2,     0.00,2,     3.01,2,   -999.0,9,   -999.0,9,-999.0000,9,  -999.00,      101
  49UF20101203,KS1009,  2866,  1,      3,  21962,2,20101205,0047, 34.2427, 140.9855, 4684,   1617.4,   2.3401,  34.5291,2,-999.0000,9,     55.6,2,   155.20,2,    41.89,2,     0.00,2,     2.97,2,   -999.0,9,   -999.0,9,-999.0000,9,  -999.00,       56
  49UF20101203,KS1009,  2866,  1,      2,  21961,2,20101205,0047, 34.2427, 140.9855, 4684,   1817.6,   2.1543,  34.5623,2,-999.0000,9,     64.9,2,   158.15,2,    41.45,2,     0.00,2,     2.93,2,   -999.0,9,   -999.0,9,-999.0000,9,  -999.00,       52
  49UF20101203,KS1009,  2866,  1,      1,  21960,2,20101205,0047, 34.2427, 140.9855, 4684,   2026.9,   2.0732,  34.5785,2,-999.0000,9,     72.1,2,   158.85,2,    41.02,2,     0.00,2,     2.90,2,   -999.0,9,   -999.0,9,-999.0000,9,  -999.00,       47