BOTTLE,20190925PRINUNIVRMK
EXPOCODE,SECT_ID,STNNBR,CASTNO,SAMPNO,BTLNBR,BTLNBR_FLAG_W,DATE,TIME,LATITUDE,LONGITUDE,DEPTH,CTDPRS,CTDTMP,CTDSAL,CTDSAL_FLAG_W,SALNTY,SALNTY_FLAG_W,OXYGEN,OXYGEN_FLAG_W,SILCAT,SILCAT_FLAG_W,NITRAT,NITRAT_FLAG_W,NITRIT,NITRIT_FLAG_W,PHSPHT,PHSPHT_FLAG_W,TCARBN,TCARBN_FLAG_W,ALKALI,ALKALI_FLAG_W,PH_TOT,PH_TOT_FLAG_W,PH_TMP,BTL_TIME
,,,,,,,,,,,METERS,DBAR,ITS-90,PSS-78,,PSS-78,,UMOL/KG,,UMOL/KG,,UMOL/KG,,UMOL/KG,,UMOL/KG,,UMOL/KG,,UMOL/KG,,,,DEG C,
  49UF20101203,KS1009,  2887,  1,     99,     99,2,20101211,0845, 31.9963, 147.9032, 5757,      0.0,  22.7039,  34.5405,2,-999.0000,9,    215.4,2,     1.71,2,     0.00,2,     0.00,2,     0.00,2,   -999.0,9,   -999.0,9,-999.0000,9,  -999.00,      930
  49UF20101203,KS1009,  2887,  1,     33,  21993,2,20101211,0845, 31.9963, 147.9032, 5757,     11.7,  22.7007,  34.5407,2,-999.0000,9,    215.1,6,     1.71,6,     0.02,6,     0.00,6,     0.00,6,   -999.0,9,   -999.0,9,-999.0000,9,  -999.00,      950
  49UF20101203,KS1009,  2887,  1,     32,  21992,2,20101211,0845, 31.9963, 147.9032, 5757,     26.4,  22.7126,  34.5406,2,-999.0000,9,    215.3,2,     1.77,2,     0.00,2,     0.00,2,     0.00,2,   -999.0,9,   -999.0,9,-999.0000,9,  -999.00,      948
  49UF20101203,KS1009,  2887,  1,     31,  21991,2,20101211,0845, 31.9963, 147.9032, 5757,     50.9,  22.7183,  34.5412,2,-999.0000,9,    215.1,2,     1.73,2,     0.00,2,     0.00,2,     0.00,2,   -999.0,9,   -999.0,9,-999.0000,9,  -999.00,      942
  49UF20101203,KS1009,  2887,  1,     30,  21990,2,20101211,0845, 31.9963, 147.9032, 5757,     76.7,  22.7220,  34.5392,2,-999.0000,9,    215.4,2,     1.78,2,     0.00,2,     0.00,2,     0.00,2,   -999.0,9,   -999.0,9,-999.0000,9,  -999.00,      941
  49UF20101203,KS1009,  2887,  1,     29,  21989,2,20101211,0845, 31.9963, 147.9032, 5757,    101.0,  19.8463,  34.6329,2,-999.0000,9,    227.0,2,     2.79,2,    -0.16,2,     0.19,2,     0.04,2,   -999.0,9,   -999.0,9,-999.0000,9,  -999.00,      940
  49UF20101203,KS1009,  2887,  1,     28,  21988,2,20101211,0845, 31.9963, 147.9032, 5757,    126.4,  18.6130,  34.6482,2,-999.0000,9,    216.2,2,     3.62,2,     1.72,2,     0.03,2,     0.14,2,   -999.0,9,   -999.0,9,-999.0000,9,  -999.00,      939
  49UF20101203,KS1009,  2887,  1,     24,  21984,2,20101211,0845, 31.9963, 147.9032, 5757,    151.3,  17.6455,  34.6494,2,-999.0000,9,    204.7,2,     4.98,2,     4.00,2,     0.01,2,     0.28,2,   -999.0,9,   -999.0,9,-999.0000,9,  -999.00,      937
  49UF20101203,KS1009,  2887,  1,     23,  21983,2,20101211,0845, 31.9963, 147.9032, 5757,    203.0,  16.2594,  34.6310,2,-999.0000,9,    192.2,2,     8.13,2,     7.59,2,     0.01,2,     0.50,2,   -999.0,9,   -999.0,9,-999.0000,9,  -999.00,      936
  49UF20101203,KS1009,  2887,  1,     22,  21982,2,20101211,0845, 31.9963, 147.9032, 5757,    253.4,  15.1262,  34.5741,2,-999.0000,9,    187.8,2,    11.39,2,     9.81,2,     0.01,2,     0.66,2,   -999.0,9,   -999.0,9,-999.0000,9,  -999.00,      934
  49UF20101203,KS1009,  2887,  1,     21,  21981,2,20101211,0845, 31.9963, 147.9032, 5757,    306.5,  13.6232,  34.4817,2,-999.0000,9,    183.0,2,    16.33,2,    12.53,2,     0.00,2,     0.87,2,   -999.0,9,   -999.0,9,-999.0000,9,  -999.00,      932
  49UF20101203,KS1009,  2887,  1,     20,  21980,2,20101211,0845, 31.9963, 147.9032, 5757,    405.1,  10.9058,  34.2842,2,-999.0000,9,    180.8,2,    26.50,2,    17.05,2,     0.00,2,     1.21,2,   -999.0,9,   -999.0,9,-999.0000,9,  -999.00,      929
  49UF20101203,KS1009,  2887,  1,     19,  21978,2,20101211,0845, 31.9963, 147.9032, 5757,    509.5,   7.6475,  34.0573,2,-999.0000,9,    170.5,6,    42.81,6,    23.62,6,     0.00,6,     1.71,6,   -999.0,9,   -999.0,9,-999.0000,9,  -999.00,      925
  49UF20101203,KS1009,  2887,  1,     15,  21974,2,20101211,0845, 31.9963, 147.9032, 5757,    608.8,   5.6229,  34.0086,2,-999.0000,9,    132.2,2,    66.39,2,    31.10,2,     0.00,2,     2.27,2,   -999.0,9,   -999.0,9,-999.0000,9,  -999.00,      922
  49UF20101203,KS1009,  2887,  1,     14,  21973,2,20101211,0845, 31.9963, 147.9032, 5757,    710.4,   4.7547,  34.0956,2,-999.0000,9,     90.4,2,    86.67,2,    36.21,2,     0.00,2,     2.61,2,   -999.0,9,   -999.0,9,-999.0000,9,  -999.00,      919
  49UF20101203,KS1009,  2887,  1,     13,  21972,2,20101211,0845, 31.9963, 147.9032, 5757,    810.9,   4.2724,  34.1913,2,-999.0000,9,     63.0,2,   103.17,2,    39.25,2,     0.01,2,     2.82,2,   -999.0,9,   -999.0,9,-999.0000,9,  -999.00,      915
  49UF20101203,KS1009,  2887,  1,     12,  21971,2,20101211,0845, 31.9963, 147.9032, 5757,    810.9,   4.2724,  34.1913,2,-999.0000,9,     63.3,2,   103.13,2,    38.98,2,     0.00,2,     2.81,2,   -999.0,9,   -999.0,9,-999.0000,9,  -999.00,      915
  49UF20101203,KS1009,  2887,  1,     11,  21970,2,20101211,0845, 31.9963, 147.9032, 5757,    911.7,   3.8844,  34.2563,2,-999.0000,9,     49.8,2,   114.47,2,    40.76,2,     0.00,2,     2.91,2,   -999.0,9,   -999.0,9,-999.0000,9,  -999.00,      912
  49UF20101203,KS1009,  2887,  1,     10,  21969,2,20101211,0845, 31.9963, 147.9032, 5757,    911.7,   3.8844,  34.2563,2,-999.0000,9,     50.2,2,   114.49,2,    40.66,2,     0.00,2,     2.91,2,   -999.0,9,   -999.0,9,-999.0000,9,  -999.00,      912
  49UF20101203,KS1009,  2887,  1,      6,  21965,2,20101211,0845, 31.9963, 147.9032, 5757,   1012.6,   3.5204,  34.3237,2,-999.0000,9,     43.2,2,   125.02,2,    41.62,2,     0.00,2,     2.97,2,   -999.0,9,   -999.0,9,-999.0000,9,  -999.00,      909
  49UF20101203,KS1009,  2887,  1,      5,  21964,2,20101211,0845, 31.9963, 147.9032, 5757,   1215.4,   3.0281,  34.4076,2,-999.0000,9,     39.5,2,   139.00,2,    42.47,2,     0.00,2,     3.03,2,   -999.0,9,   -999.0,9,-999.0000,9,  -999.00,      903
  49UF20101203,KS1009,  2887,  1,      4,  21963,2,20101211,0845, 31.9963, 147.9032, 5757,   1419.4,   2.5933,  34.4789,2,-999.0000,9,     40.5,2,   151.62,2,    42.91,2,     0.00,2,     3.05,2,   -999.0,9,   -999.0,9,-999.0000,9,  -999.00,      858
  49UF20101203,KS1009,  2887,  1,      3,  21962,2,20101211,0845, 31.9963, 147.9032, 5757,   1618.9,   2.3066,  34.5303,2,-999.0000,9,     50.1,2,   158.00,2,    42.37,2,     0.00,2,     3.00,2,   -999.0,9,   -999.0,9,-999.0000,9,  -999.00,      853
  49UF20101203,KS1009,  2887,  1,      2,  21961,2,20101211,0845, 31.9963, 147.9032, 5757,   1820.2,   2.1269,  34.5642,2,-999.0000,9,     61.7,2,   161.07,2,    41.93,2,     0.00,2,     2.95,2,   -999.0,9,   -999.0,9,-999.0000,9,  -999.00,      849
  49UF20101203,KS1009,  2887,  1,      1,  21960,2,20101211,0845, 31.9963, 147.9032, 5757,   2022.9,   1.9243,  34.5990,2,-999.0000,9,     77.1,2,   162.70,2,    41.00,2,     0.00,2,     2.88,2,   -999.0,9,   -999.0,9,-999.0000,9,  -999.00,      845
  49UF20101203,KS1009,  2889,  1,     99,     99,2,20101211,1759, 33.0073, 148.1465, 5836,      0.0,  21.6608,  34.5159,2,-999.0000,9,    217.4,2,     1.81,2,     0.17,2,     0.10,2,     0.02,2,   -999.0,9,   -999.0,9,-999.0000,9,  -999.00,     1845
  49UF20101203,KS1009,  2889,  1,     33,  21993,2,20101211,1759, 33.0073, 148.1465, 5836,     10.7,  21.6975,  34.5419,2,-999.0000,9,    216.2,2,     1.79,2,     0.14,2,     0.10,2,     0.01,2,   -999.0,9,   -999.0,9,-999.0000,9,  -999.00,     1904
  49UF20101203,KS1009,  2889,  1,     32,  21992,2,20101211,1759, 33.0073, 148.1465, 5836,     26.7,  21.7075,  34.5508,2,-999.0000,9,    216.4,6,     1.82,6,     0.13,6,     0.10,6,     0.02,6,   -999.0,9,   -999.0,9,-999.0000,9,  -999.00,     1903
  49UF20101203,KS1009,  2889,  1,     31,  21991,2,20101211,1759, 33.0073, 148.1465, 5836,     52.9,  21.7128,  34.5506,2,-999.0000,9,    216.2,2,     1.81,2,     0.14,2,     0.10,2,     0.01,2,   -999.0,9,   -999.0,9,-999.0000,9,  -999.00,     1859
  49UF20101203,KS1009,  2889,  1,     30,  21990,3,20101211,1759, 33.0073, 148.1465, 5836,     77.7,  21.7145,  34.5514,2,-999.0000,9,    216.0,2,     1.78,2,     0.10,2,     0.10,2,     0.01,2,   -999.0,9,   -999.0,9,-999.0000,9,  -999.00,     1858
  49UF20101203,KS1009,  2889,  1,     29,  21989,2,20101211,1759, 33.0073, 148.1465, 5836,    102.1,  21.6885,  34.5696,2,-999.0000,9,    215.3,2,     1.85,2,     0.25,2,     0.11,2,     0.02,2,   -999.0,9,   -999.0,9,-999.0000,9,  -999.00,     1856
  49UF20101203,KS1009,  2889,  1,     28,  21988,2,20101211,1759, 33.0073, 148.1465, 5836,    126.9,  20.1897,  34.7320,2,-999.0000,9,    200.1,2,     2.72,2,     2.24,2,     0.04,2,     0.15,2,   -999.0,9,   -999.0,9,-999.0000,9,  -999.00,     1855
  49UF20101203,KS1009,  2889,  1,     24,  21984,2,20101211,1759, 33.0073, 148.1465, 5836,    153.3,  19.3844,  34.7242,2,-999.0000,9,    204.9,2,     2.80,2,     2.39,2,     0.03,2,     0.15,2,   -999.0,9,   -999.0,9,-999.0000,9,  -999.00,     1854
  49UF20101203,KS1009,  2889,  1,     23,  21983,2,20101211,1759, 33.0073, 148.1465, 5836,    202.7,  18.2932,  34.7013,2,-999.0000,9,    202.1,2,     3.86,2,     3.75,2,     0.02,2,     0.24,2,   -999.0,9,   -999.0,9,-999.0000,9,  -999.00,     1852
  49UF20101203,KS1009,  2889,  1,     22,  21982,2,20101211,1759, 33.0073, 148.1465, 5836,    254.1,  17.6689,  34.6883,2,-999.0000,9,    209.2,2,     3.73,2,     4.04,2,     0.02,2,     0.25,2,   -999.0,9,   -999.0,9,-999.0000,9,  -999.00,     1851
  49UF20101203,KS1009,  2889,  1,     21,  21981,2,20101211,1759, 33.0073, 148.1465, 5836,    301.6,  17.1769,  34.6857,2,-999.0000,9,    204.4,2,     4.95,2,     5.22,2,     0.02,2,     0.34,2,   -999.0,9,   -999.0,9,-999.0000,9,  -999.00,     1849
  49UF20101203,KS1009,  2889,  1,     20,  21980,2,20101211,1759, 33.0073, 148.1465, 5836,    403.9,  14.9524,  34.5722,2,-999.0000,9,    182.4,2,    12.29,2,    10.67,2,     0.01,2,     0.72,2,   -999.0,9,   -999.0,9,-999.0000,9,  -999.00,     1845
  49UF20101203,KS1009,  2889,  1,     19,  21978,2,20101211,1759, 33.0073, 148.1465, 5836,    505.2,  11.7743,  34.3584,2,-999.0000,9,    173.2,2,    24.71,2,    16.69,2,     0.01,2,     1.16,2,   -999.0,9,   -999.0,9,-999.0000,9,  -999.00,     1842
  49UF20101203,KS1009,  2889,  1,     15,  21974,2,20101211,1759, 33.0073, 148.1465, 5836,    606.4,   8.2536,  34.0777,2,-999.0000,9,    177.0,6,    38.56,6,    22.09,6,     0.01,6,     1.59,6,   -999.0,9,   -999.0,9,-999.0000,9,  -999.00,     1839
  49UF20101203,KS1009,  2889,  1,     14,  21973,2,20101211,1759, 33.0073, 148.1465, 5836,    707.9,   5.9847,  33.9857,2,-999.0000,9,    147.2,2,    59.83,2,    29.16,2,     0.01,2,     2.12,2,   -999.0,9,   -999.0,9,-999.0000,9,  -999.00,     1836
  49UF20101203,KS1009,  2889,  1,     13,  21972,2,20101211,1759, 33.0073, 148.1465, 5836,    808.4,   5.0241,  34.0767,2,-999.0000,9,     95.4,2,    81.54,2,    35.48,2,     0.00,2,     2.56,2,   -999.0,9,   -999.0,9,-999.0000,9,  -999.00,     1832
  49UF20101203,KS1009,  2889,  1,     12,  21971,2,20101211,1759, 33.0073, 148.1465, 5836,    911.6,   4.4904,  34.1756,2,-999.0000,9,     64.8,2,    97.45,2,    38.89,2,     0.01,2,     2.79,2,   -999.0,9,   -999.0,9,-999.0000,9,  -999.00,     1828
  49UF20101203,KS1009,  2889,  1,     11,  21970,2,20101211,1759, 33.0073, 148.1465, 5836,   1012.6,   3.9697,  34.2379,2,-999.0000,9,     53.7,2,   112.06,2,    40.46,2,     0.00,2,     2.89,2,   -999.0,9,   -999.0,9,-999.0000,9,  -999.00,     1825
  49UF20101203,KS1009,  2889,  1,     10,  21969,2,20101211,1759, 33.0073, 148.1465, 5836,   1012.6,   3.9697,  34.2379,2,-999.0000,9,     53.6,2,   112.03,2,    40.43,2,     0.00,2,     2.89,2,   -999.0,9,   -999.0,9,-999.0000,9,  -999.00,     1824
  49UF20101203,KS1009,  2889,  1,      6,  21965,2,20101211,1759, 33.0073, 148.1465, 5836,   1213.4,   3.2388,  34.3738,2,-999.0000,9,     37.4,2,   133.60,2,    42.53,2,     0.00,2,     3.03,2,   -999.0,9,   -999.0,9,-999.0000,9,  -999.00,     1819
  49UF20101203,KS1009,  2889,  1,      5,  21964,2,20101211,1759, 33.0073, 148.1465, 5836,   1213.4,   3.2388,  34.3738,2,-999.0000,9,     37.4,2,   133.53,2,    42.43,2,     0.00,2,     3.03,2,   -999.0,9,   -999.0,9,-999.0000,9,  -999.00,     1819
  49UF20101203,KS1009,  2889,  1,      4,  21963,3,20101211,1759, 33.0073, 148.1465, 5836,   1415.1,   2.8179,  34.4431,2,-999.0000,9,     40.8,2,   145.37,2,    42.54,2,     0.00,2,     3.04,2,   -999.0,9,   -999.0,9,-999.0000,9,  -999.00,     1814
  49UF20101203,KS1009,  2889,  1,      3,  21962,2,20101211,1759, 33.0073, 148.1465, 5836,   1619.2,   2.4579,  34.5040,2,-999.0000,9,     44.7,2,   155.17,2,    42.91,2,     0.00,2,     3.04,2,   -999.0,9,   -999.0,9,-999.0000,9,  -999.00,     1809
  49UF20101203,KS1009,  2889,  1,      2,  21961,3,20101211,1759, 33.0073, 148.1465, 5836,   1819.2,   2.2422,  34.5450,2,-999.0000,9,     53.9,2,   159.51,2,    42.50,2,     0.00,2,     2.99,2,   -999.0,9,   -999.0,9,-999.0000,9,  -999.00,     1804
  49UF20101203,KS1009,  2889,  1,      1,  21960,2,20101211,1759, 33.0073, 148.1465, 5836,   2023.8,   2.0159,  34.5855,2,-999.0000,9,     70.5,2,   162.31,2,    41.46,2,     0.00,2,     2.92,2,   -999.0,9,   -999.0,9,-999.0000,9,  -999.00,     1759
  49UF20101203,KS1009,  2891,  1,     99,     99,2,20101212,0252, 34.0098, 148.5645, 6116,      0.0,  21.6494,  34.6043,2,-999.0000,9,    218.6,2,     1.87,2,     0.05,2,     0.15,2,     0.02,2,   -999.0,9,   -999.0,9,-999.0000,9,  -999.00,      332
  49UF20101203,KS1009,  2891,  1,     33,  21993,2,20101212,0252, 34.0098, 148.5645, 6116,     11.6,  21.6545,  34.6050,2,  34.6058,2,    218.4,2,     1.89,2,     0.04,2,     0.14,2,     0.02,2,   -999.0,9,   -999.0,9,-999.0000,9,  -999.00,      351
  49UF20101203,KS1009,  2891,  1,     32,  21992,2,20101212,0252, 34.0098, 148.5645, 6116,     26.4,  21.6518,  34.6051,2,-999.0000,9,    218.6,2,     1.85,2,     0.01,2,     0.15,2,     0.02,2,   -999.0,9,   -999.0,9,-999.0000,9,  -999.00,      350
  49UF20101203,KS1009,  2891,  1,     31,  21991,2,20101212,0252, 34.0098, 148.5645, 6116,     50.4,  21.6424,  34.6057,2,-999.0000,9,    218.1,6,     1.84,6,     0.05,6,     0.15,6,     0.03,6,   -999.0,9,   -999.0,9,-999.0000,9,  -999.00,      346
  49UF20101203,KS1009,  2891,  1,     30,  21990,2,20101212,0252, 34.0098, 148.5645, 6116,     76.1,  21.6335,  34.6051,2,-999.0000,9,    217.3,2,     1.87,2,     0.04,2,     0.17,2,     0.02,2,   -999.0,9,   -999.0,9,-999.0000,9,  -999.00,      344
  49UF20101203,KS1009,  2891,  1,     29,  21989,2,20101212,0252, 34.0098, 148.5645, 6116,    102.0,  21.6339,  34.6067,2,  34.6052,6,    216.5,2,     1.90,2,     0.05,2,     0.20,2,     0.02,2,   -999.0,9,   -999.0,9,-999.0000,9,  -999.00,      343
  49UF20101203,KS1009,  2891,  1,     28,  21988,2,20101212,0252, 34.0098, 148.5645, 6116,    125.8,  21.5037,  34.6245,2,-999.0000,9,    209.8,2,     2.17,2,     0.74,2,     0.23,2,     0.06,2,   -999.0,9,   -999.0,9,-999.0000,9,  -999.00,      342
  49UF20101203,KS1009,  2891,  1,     24,  21984,2,20101212,0252, 34.0098, 148.5645, 6116,    151.2,  20.1796,  34.7310,2,-999.0000,9,    193.8,2,     3.44,2,     2.94,2,     0.03,2,     0.20,2,   -999.0,9,   -999.0,9,-999.0000,9,  -999.00,      341
  49UF20101203,KS1009,  2891,  1,     23,  21983,2,20101212,0252, 34.0098, 148.5645, 6116,    201.6,  18.8938,  34.7198,2,  34.7188,2,    212.5,4,     3.12,2,     3.01,2,     0.02,2,     0.20,2,   -999.0,9,   -999.0,9,-999.0000,9,  -999.00,      339
  49UF20101203,KS1009,  2891,  1,     22,  21982,2,20101212,0252, 34.0098, 148.5645, 6116,    252.5,  18.0248,  34.6969,2,-999.0000,9,    206.2,2,     3.64,2,     3.79,2,     0.01,2,     0.24,2,   -999.0,9,   -999.0,9,-999.0000,9,  -999.00,      337
  49UF20101203,KS1009,  2891,  1,     21,  21981,2,20101212,0252, 34.0098, 148.5645, 6116,    301.3,  17.3731,  34.6946,2,-999.0000,9,    201.9,2,     4.96,2,     5.20,2,     0.01,2,     0.34,2,   -999.0,9,   -999.0,9,-999.0000,9,  -999.00,      336
  49UF20101203,KS1009,  2891,  1,     20,  21980,3,20101212,0252, 34.0098, 148.5645, 6116,    405.5,  15.1776,  34.5844,2,  34.5846,2,    187.1,2,    10.63,2,     9.70,2,     0.01,2,     0.69,2,   -999.0,9,   -999.0,9,-999.0000,9,  -999.00,      333
  49UF20101203,KS1009,  2891,  1,     19,  21978,2,20101212,0252, 34.0098, 148.5645, 6116,    506.0,  12.3085,  34.3978,2,-999.0000,9,    176.6,2,    21.68,2,    15.17,2,     0.01,2,     1.07,2,   -999.0,9,   -999.0,9,-999.0000,9,  -999.00,      330
  49UF20101203,KS1009,  2891,  1,     15,  21974,2,20101212,0252, 34.0098, 148.5645, 6116,    607.0,   8.8663,  34.1974,2,  34.1999,6,    154.9,2,    41.86,2,    22.84,2,     0.00,2,     1.65,2,   -999.0,9,   -999.0,9,-999.0000,9,  -999.00,      327
  49UF20101203,KS1009,  2891,  1,     14,  21973,2,20101212,0252, 34.0098, 148.5645, 6116,    705.7,   5.9858,  34.0146,2,-999.0000,9,    139.1,6,    62.34,6,    29.79,6,     0.01,6,     2.17,6,   -999.0,9,   -999.0,9,-999.0000,9,  -999.00,      325
  49UF20101203,KS1009,  2891,  1,     13,  21972,2,20101212,0252, 34.0098, 148.5645, 6116,    809.2,   5.0085,  34.0960,2,  34.0958,2,     88.9,2,    83.00,2,    35.88,2,     0.00,2,     2.60,2,   -999.0,9,   -999.0,9,-999.0000,9,  -999.00,      321
  49UF20101203,KS1009,  2891,  1,     12,  21971,2,20101212,0252, 34.0098, 148.5645, 6116,    910.7,   4.4618,  34.1655,2,-999.0000,9,     67.9,2,    97.70,2,    38.44,2,     0.00,2,     2.77,2,   -999.0,9,   -999.0,9,-999.0000,9,  -999.00,      319
  49UF20101203,KS1009,  2891,  1,     11,  21970,2,20101212,0252, 34.0098, 148.5645, 6116,   1011.3,   3.9831,  34.2374,2,  34.2030,4,     54.2,2,   111.87,2,    40.21,2,     0.00,2,     2.89,2,   -999.0,9,   -999.0,9,-999.0000,9,  -999.00,      316
  49UF20101203,KS1009,  2891,  1,     10,  21969,3,20101212,0252, 34.0098, 148.5645, 6116,   1213.1,   3.3181,  34.3564,2,  34.3552,2,     37.4,2,   131.60,2,    42.19,2,     0.00,2,     3.03,2,   -999.0,9,   -999.0,9,-999.0000,9,  -999.00,      311
  49UF20101203,KS1009,  2891,  1,      6,  21965,2,20101212,0252, 34.0098, 148.5645, 6116,   1416.1,   2.8096,  34.4435,2,  34.4413,2,     41.7,2,   145.80,2,    42.43,2,     0.00,2,     3.04,2,   -999.0,9,   -999.0,9,-999.0000,9,  -999.00,      306
  49UF20101203,KS1009,  2891,  1,      5,  21964,3,20101212,0252, 34.0098, 148.5645, 6116,   1416.1,   2.8096,  34.4435,2,  34.4413,2,     41.8,2,   145.72,2,    42.47,2,     0.00,2,     3.04,2,   -999.0,9,   -999.0,9,-999.0000,9,  -999.00,      306
  49UF20101203,KS1009,  2891,  1,      4,  21963,2,20101212,0252, 34.0098, 148.5645, 6116,   1619.3,   2.4780,  34.5001,2,  34.5471,4,     44.0,2,   155.14,2,    42.70,2,     0.01,2,     3.03,2,   -999.0,9,   -999.0,9,-999.0000,9,  -999.00,      301
  49UF20101203,KS1009,  2891,  1,      3,  21962,2,20101212,0252, 34.0098, 148.5645, 6116,   1619.3,   2.4780,  34.5001,2,  34.4990,2,     43.7,2,   154.82,2,    42.70,2,     0.00,2,     3.03,2,   -999.0,9,   -999.0,9,-999.0000,9,  -999.00,      301
  49UF20101203,KS1009,  2891,  1,      2,  21961,3,20101212,0252, 34.0098, 148.5645, 6116,   1821.9,   2.2288,  34.5443,2,  34.5434,2,     52.8,2,   160.67,2,    42.05,2,     0.00,2,     2.99,2,   -999.0,9,   -999.0,9,-999.0000,9,  -999.00,      257
  49UF20101203,KS1009,  2891,  1,      1,  21960,2,20101212,0252, 34.0098, 148.5645, 6116,   2026.2,   2.0373,  34.5804,2,  34.5792,2,     65.8,2,   163.03,2,    41.41,2,     0.00,2,     2.93,2,   -999.0,9,   -999.0,9,-999.0000,9,  -999.00,      252