BOTTLE,20190925PRINUNIVRMK
EXPOCODE,SECT_ID,STNNBR,CASTNO,SAMPNO,BTLNBR,BTLNBR_FLAG_W,DATE,TIME,LATITUDE,LONGITUDE,DEPTH,CTDPRS,CTDTMP,CTDSAL,CTDSAL_FLAG_W,SALNTY,SALNTY_FLAG_W,OXYGEN,OXYGEN_FLAG_W,SILCAT,SILCAT_FLAG_W,NITRAT,NITRAT_FLAG_W,NITRIT,NITRIT_FLAG_W,PHSPHT,PHSPHT_FLAG_W,TCARBN,TCARBN_FLAG_W,ALKALI,ALKALI_FLAG_W,PH_TOT,PH_TOT_FLAG_W,PH_TMP,BTL_TIME
,,,,,,,,,,,METERS,DBAR,ITS-90,PSS-78,,PSS-78,,UMOL/KG,,UMOL/KG,,UMOL/KG,,UMOL/KG,,UMOL/KG,,UMOL/KG,,UMOL/KG,,,,DEG C,
  49UF20101203,KS1009,  2868,  1,     99,     99,2,20101205,0941, 33.5060, 141.5127, 5814,      0.0,  22.1223,  34.6354,2,-999.0000,9,    217.0,2,     1.37,2,     0.07,2,     0.07,2,     0.01,2,   -999.0,9,   -999.0,9,-999.0000,9,  -999.00,     1020
  49UF20101203,KS1009,  2868,  1,     33,  21993,2,20101205,0941, 33.5060, 141.5127, 5814,     11.5,  22.1357,  34.6353,2,  34.6347,2,    217.1,2,     1.39,2,     0.08,2,     0.06,2,     0.01,2,   1970.3,2,   2272.1,2,   8.0645,2,    25.00,     1049
  49UF20101203,KS1009,  2868,  1,     32,  21992,2,20101205,0941, 33.5060, 141.5127, 5814,     26.2,  22.1287,  34.6355,2,-999.0000,9,    216.3,2,     1.38,2,     0.06,2,     0.06,2,     0.01,2,   1966.4,2,   2275.4,2,   8.0616,2,    25.00,     1048
  49UF20101203,KS1009,  2868,  1,     31,  21991,2,20101205,0941, 33.5060, 141.5127, 5814,     50.9,  22.1314,  34.6354,2,-999.0000,9,    216.6,6,     1.42,6,     0.02,6,     0.06,6,     0.01,6,   1967.8,2,   2273.0,2,   8.0648,2,    25.00,     1044
  49UF20101203,KS1009,  2868,  1,     30,  21990,2,20101205,0941, 33.5060, 141.5127, 5814,     76.6,  22.1333,  34.6361,2,-999.0000,9,    215.9,2,     1.39,2,     0.00,2,     0.07,2,     0.01,2,   1969.8,2,   2273.9,2,   8.0662,2,    25.00,     1042
  49UF20101203,KS1009,  2868,  1,     29,  21989,2,20101205,0941, 33.5060, 141.5127, 5814,    101.9,  21.9352,  34.6355,2,  34.6363,6,    214.7,2,     1.61,2,     0.19,2,     0.12,2,     0.02,2,   1974.7,2,   2274.9,2,   8.0572,2,    25.00,     1040
  49UF20101203,KS1009,  2868,  1,     28,  21988,2,20101205,0941, 33.5060, 141.5127, 5814,    127.9,  19.6296,  34.7318,2,-999.0000,9,    223.9,2,     1.91,2,    -0.01,2,     0.15,2,     0.02,2,   2004.4,2,   2279.4,2,   8.0153,2,    25.00,     1038
  49UF20101203,KS1009,  2868,  1,     24,  21984,2,20101205,0941, 33.5060, 141.5127, 5814,    152.4,  18.8454,  34.7111,2,-999.0000,9,    215.4,2,     2.19,2,     0.48,2,     0.08,2,     0.06,2,   2015.3,2,   2278.9,2,   7.9990,2,    25.00,     1035
  49UF20101203,KS1009,  2868,  1,     23,  21983,3,20101205,0941, 33.5060, 141.5127, 5814,    203.6,  17.9642,  34.6985,2,  34.6972,2,    204.7,2,     3.44,2,     3.88,2,     0.01,2,     0.24,2,   2028.2,2,   2278.4,2,   7.9706,2,    25.00,     1033
  49UF20101203,KS1009,  2868,  1,     22,  21982,2,20101205,0941, 33.5060, 141.5127, 5814,    254.1,  17.5496,  34.6921,2,-999.0000,9,    205.8,2,     3.87,2,     4.42,2,     0.01,2,     0.28,2,   2025.0,2,   2279.6,2,   7.9607,2,    25.00,     1030
  49UF20101203,KS1009,  2868,  1,     21,  21981,2,20101205,0941, 33.5060, 141.5127, 5814,    304.3,  17.0501,  34.6809,2,-999.0000,9,    203.9,2,     4.96,2,     5.35,2,     0.00,2,     0.35,2,   2034.3,2,   2276.9,2,   7.9411,2,    25.00,     1028
  49UF20101203,KS1009,  2868,  1,     20,  21980,2,20101205,0941, 33.5060, 141.5127, 5814,    404.5,  14.8393,  34.5624,2,  34.5640,2,    188.2,2,    11.19,2,    10.17,2,     0.00,2,     0.68,2,   2073.2,2,   2276.4,2,   7.8697,2,    25.00,     1025
  49UF20101203,KS1009,  2868,  1,     19,  21978,2,20101205,0941, 33.5060, 141.5127, 5814,    507.1,  11.9890,  34.3900,2,-999.0000,9,    167.9,2,    23.50,2,    16.53,2,     0.00,2,     1.16,2,   2118.9,2,   2278.3,2,   7.7433,2,    25.00,     1022
  49UF20101203,KS1009,  2868,  1,     15,  21974,2,20101205,0941, 33.5060, 141.5127, 5814,    607.6,   8.9026,  34.2209,2,  34.2238,6,    146.9,2,    43.09,2,    23.64,2,     0.00,2,     1.70,2,   2178.3,2,   2289.0,2,   7.6595,2,    25.00,     1019
  49UF20101203,KS1009,  2868,  1,     14,  21973,2,20101205,0941, 33.5060, 141.5127, 5814,    708.6,   7.0090,  34.2183,2,-999.0000,9,    113.6,6,    65.23,6,    29.99,6,     0.00,6,     2.17,6,   2230.0,2,   2307.3,2,   7.5346,2,    25.00,     1016
  49UF20101203,KS1009,  2868,  1,     13,  21972,2,20101205,0941, 33.5060, 141.5127, 5814,    807.4,   4.8673,  34.1160,2,  34.1179,2,     86.5,2,    86.86,2,    35.97,2,     0.00,2,     2.62,2,   2282.2,2,   2317.0,2,   7.4321,2,    25.00,     1013
  49UF20101203,KS1009,  2868,  1,     12,  21971,2,20101205,0941, 33.5060, 141.5127, 5814,    910.0,   4.4808,  34.2541,2,-999.0000,9,     66.0,2,   102.99,2,    38.25,2,     0.00,2,     2.76,2,   2310.6,6,   2336.8,6,   7.4031,6,    25.00,     1010
  49UF20101203,KS1009,  2868,  1,     11,  21970,2,20101205,0941, 33.5060, 141.5127, 5814,   1012.4,   3.9341,  34.3181,2,  34.3176,2,     56.4,2,   115.61,2,    39.86,2,     0.00,2,     2.86,2,   2331.9,2,   2355.8,2,   7.3869,2,    25.00,     1007
  49UF20101203,KS1009,  2868,  1,     10,  21969,2,20101205,0941, 33.5060, 141.5127, 5814,   1012.4,   3.9341,  34.3181,2,  34.3178,2,     56.7,2,   115.56,2,    39.31,2,     0.00,2,     2.86,2,   2332.3,2,   2353.7,2,   7.3888,2,    25.00,     1007
  49UF20101203,KS1009,  2868,  1,      6,  21965,2,20101205,0941, 33.5060, 141.5127, 5814,   1214.8,   3.1657,  34.4001,2,  34.3985,2,     43.3,2,   134.60,2,    41.71,2,     0.00,2,     2.99,2,   2362.1,2,   2374.8,2,   7.3611,2,    25.00,     1001
  49UF20101203,KS1009,  2868,  1,      5,  21964,2,20101205,0941, 33.5060, 141.5127, 5814,   1214.8,   3.1657,  34.4001,2,  34.3988,2,     43.3,2,   134.41,2,    41.84,2,     0.00,2,     3.00,2,   2361.7,2,   2373.5,2,   7.3619,2,    25.00,     1001
  49UF20101203,KS1009,  2868,  1,      4,  21963,2,20101205,0941, 33.5060, 141.5127, 5814,   1416.4,   2.7183,  34.4674,2,  34.4659,2,     42.5,2,   146.66,2,    42.39,2,     0.00,2,     3.03,2,   2374.8,2,   2390.7,2,   7.3682,2,    25.00,      956
  49UF20101203,KS1009,  2868,  1,      3,  21962,2,20101205,0941, 33.5060, 141.5127, 5814,   1619.7,   2.4012,  34.5202,2,  34.5211,2,     49.8,2,   154.27,2,    42.10,2,     0.00,2,     3.01,2,   2379.0,2,   2398.4,2,   7.3825,2,    25.00,      951
  49UF20101203,KS1009,  2868,  1,      2,  21961,2,20101205,0941, 33.5060, 141.5127, 5814,   1823.3,   2.2069,  34.5528,2,  34.5523,2,     59.1,2,   158.28,2,    41.70,2,     0.00,2,     2.96,2,   2380.5,2,   2403.7,2,   7.4011,2,    25.00,      947
  49UF20101203,KS1009,  2868,  1,      1,  21960,2,20101205,0941, 33.5060, 141.5127, 5814,   2024.8,   2.0043,  34.5899,2,  34.5907,2,     76.5,2,   158.95,2,    40.65,2,     0.00,2,     2.88,2,   2373.7,6,   2410.2,6,   7.4336,6,    25.00,      941
  49UF20101203,KS1009,  2871,  1,     99,     99,2,20101206,0045, 32.0072, 142.9982, 5661,      0.0,  22.7200,  34.6125,2,-999.0000,9,    215.7,2,     1.43,2,     0.00,2,     0.00,2,     0.00,2,   -999.0,9,   -999.0,9,-999.0000,9,  -999.00,      130
  49UF20101203,KS1009,  2871,  1,     33,  21993,2,20101206,0045, 32.0072, 142.9982, 5661,     10.4,  22.7176,  34.6118,2,-999.0000,9,    215.5,2,     1.42,2,     0.00,2,     0.00,2,     0.00,2,   -999.0,9,   -999.0,9,-999.0000,9,  -999.00,      146
  49UF20101203,KS1009,  2871,  1,     32,  21992,2,20101206,0045, 32.0072, 142.9982, 5661,     26.3,  22.7125,  34.6126,2,-999.0000,9,    215.2,2,     1.42,2,     0.00,2,     0.00,2,     0.00,2,   -999.0,9,   -999.0,9,-999.0000,9,  -999.00,      144
  49UF20101203,KS1009,  2871,  1,     31,  21991,2,20101206,0045, 32.0072, 142.9982, 5661,     51.2,  22.7046,  34.6132,2,-999.0000,9,    215.5,2,     1.42,2,     0.00,2,     0.00,2,     0.00,2,   -999.0,9,   -999.0,9,-999.0000,9,  -999.00,      140
  49UF20101203,KS1009,  2871,  1,     30,  21990,2,20101206,0045, 32.0072, 142.9982, 5661,     76.0,  21.6759,  34.7146,2,-999.0000,9,    218.9,6,     1.75,6,     0.04,6,     0.03,6,     0.01,6,   -999.0,9,   -999.0,9,-999.0000,9,  -999.00,      139
  49UF20101203,KS1009,  2871,  1,     29,  21989,2,20101206,0045, 32.0072, 142.9982, 5661,    100.3,  19.3596,  34.7240,2,-999.0000,9,    212.5,2,     2.26,2,     1.20,2,     0.03,2,     0.09,2,   -999.0,9,   -999.0,9,-999.0000,9,  -999.00,      138
  49UF20101203,KS1009,  2871,  1,     28,  21988,2,20101206,0045, 32.0072, 142.9982, 5661,    127.0,  18.8038,  34.7118,2,-999.0000,9,    207.7,2,     2.62,2,     2.54,2,     0.02,2,     0.16,2,   -999.0,9,   -999.0,9,-999.0000,9,  -999.00,      137
  49UF20101203,KS1009,  2871,  1,     24,  21984,2,20101206,0045, 32.0072, 142.9982, 5661,    150.8,  18.4452,  34.7049,2,-999.0000,9,    207.0,2,     2.94,2,     2.98,2,     0.01,2,     0.19,2,   -999.0,9,   -999.0,9,-999.0000,9,  -999.00,      135
  49UF20101203,KS1009,  2871,  1,     23,  21983,2,20101206,0045, 32.0072, 142.9982, 5661,    201.6,  17.8190,  34.6967,2,-999.0000,9,    205.2,2,     3.74,2,     4.22,2,     0.01,2,     0.26,2,   -999.0,9,   -999.0,9,-999.0000,9,  -999.00,      133
  49UF20101203,KS1009,  2871,  1,     22,  21982,2,20101206,0045, 32.0072, 142.9982, 5661,    252.6,  17.3599,  34.6856,2,-999.0000,9,    207.5,2,     4.21,2,     4.74,2,     0.01,2,     0.30,2,   -999.0,9,   -999.0,9,-999.0000,9,  -999.00,      132
  49UF20101203,KS1009,  2871,  1,     21,  21981,2,20101206,0045, 32.0072, 142.9982, 5661,    302.2,  16.6927,  34.6716,2,-999.0000,9,    195.1,2,     6.37,2,     6.84,2,     0.01,2,     0.44,2,   -999.0,9,   -999.0,9,-999.0000,9,  -999.00,      130
  49UF20101203,KS1009,  2871,  1,     20,  21980,2,20101206,0045, 32.0072, 142.9982, 5661,    403.5,  14.4130,  34.5388,2,-999.0000,9,    180.6,2,    14.04,2,    11.78,2,     0.00,2,     0.79,2,   -999.0,9,   -999.0,9,-999.0000,9,  -999.00,      127
  49UF20101203,KS1009,  2871,  1,     19,  21978,2,20101206,0045, 32.0072, 142.9982, 5661,    504.0,  11.2730,  34.3166,2,-999.0000,9,    177.2,2,    25.36,2,    17.11,2,     0.00,2,     1.18,2,   -999.0,9,   -999.0,9,-999.0000,9,  -999.00,      124
  49UF20101203,KS1009,  2871,  1,     15,  21974,2,20101206,0045, 32.0072, 142.9982, 5661,    605.1,   7.9733,  34.0677,2,-999.0000,9,    172.5,2,    41.43,2,    23.01,2,     0.00,2,     1.64,2,   -999.0,9,   -999.0,9,-999.0000,9,  -999.00,      121
  49UF20101203,KS1009,  2871,  1,     14,  21973,2,20101206,0045, 32.0072, 142.9982, 5661,    706.6,   5.8817,  34.0291,2,-999.0000,9,    132.6,2,    64.59,2,    30.57,2,     0.00,2,     2.21,2,   -999.0,9,   -999.0,9,-999.0000,9,  -999.00,      118
  49UF20101203,KS1009,  2871,  1,     13,  21972,2,20101206,0045, 32.0072, 142.9982, 5661,    808.1,   4.8644,  34.0853,2,-999.0000,9,     94.1,6,    84.57,6,    35.73,6,     0.00,6,     2.56,6,   -999.0,9,   -999.0,9,-999.0000,9,  -999.00,      115
  49UF20101203,KS1009,  2871,  1,     12,  21971,2,20101206,0045, 32.0072, 142.9982, 5661,    909.7,   4.3568,  34.1814,2,-999.0000,9,     66.4,2,   101.21,2,    38.82,2,     0.00,2,     2.77,2,   -999.0,9,   -999.0,9,-999.0000,9,  -999.00,      112
  49UF20101203,KS1009,  2871,  1,     11,  21970,2,20101206,0045, 32.0072, 142.9982, 5661,   1011.0,   3.8903,  34.2684,2,-999.0000,9,     51.4,2,   115.11,2,    40.52,2,     0.00,2,     2.88,2,   -999.0,9,   -999.0,9,-999.0000,9,  -999.00,      110
  49UF20101203,KS1009,  2871,  1,     10,  21969,2,20101206,0045, 32.0072, 142.9982, 5661,   1213.3,   3.2166,  34.3821,2,-999.0000,9,     42.4,2,   133.62,2,    41.70,2,     0.00,2,     2.98,2,   -999.0,9,   -999.0,9,-999.0000,9,  -999.00,      105
  49UF20101203,KS1009,  2871,  1,      6,  21965,2,20101206,0045, 32.0072, 142.9982, 5661,   1415.1,   2.7422,  34.4581,2,-999.0000,9,     42.5,2,   147.25,2,    42.48,2,     0.00,2,     3.01,2,   -999.0,9,   -999.0,9,-999.0000,9,  -999.00,      100
  49UF20101203,KS1009,  2871,  1,      5,  21964,2,20101206,0045, 32.0072, 142.9982, 5661,   1415.1,   2.7422,  34.4581,2,-999.0000,9,     42.3,2,   147.12,2,    42.43,2,     0.00,2,     3.01,2,   -999.0,9,   -999.0,9,-999.0000,9,  -999.00,      100
  49UF20101203,KS1009,  2871,  1,      4,  21963,2,20101206,0045, 32.0072, 142.9982, 5661,   1617.8,   2.4534,  34.5090,2,-999.0000,9,     47.8,2,   154.45,2,    42.25,2,     0.00,2,     3.00,2,   -999.0,9,   -999.0,9,-999.0000,9,  -999.00,       55
  49UF20101203,KS1009,  2871,  1,      3,  21962,2,20101206,0045, 32.0072, 142.9982, 5661,   1617.8,   2.4534,  34.5090,2,-999.0000,9,     47.2,2,   154.68,2,    42.43,2,     0.00,2,     2.99,2,   -999.0,9,   -999.0,9,-999.0000,9,  -999.00,       55
  49UF20101203,KS1009,  2871,  1,      2,  21961,2,20101206,0045, 32.0072, 142.9982, 5661,   1821.5,   2.1988,  34.5539,2,-999.0000,9,     59.2,2,   159.07,2,    41.78,2,     0.00,2,     2.94,2,   -999.0,9,   -999.0,9,-999.0000,9,  -999.00,       50
  49UF20101203,KS1009,  2871,  1,      1,  21960,2,20101206,0045, 32.0072, 142.9982, 5661,   2024.9,   1.9913,  34.5915,2,-999.0000,9,     75.5,2,   160.77,2,    40.98,2,     0.00,2,     2.87,2,   -999.0,9,   -999.0,9,-999.0000,9,  -999.00,       45
  49UF20101203,KS1009,  2873,  1,     99,     99,2,20101206,1134, 31.0172, 143.9877, 5774,      0.0,  23.6631,  34.5633,2,-999.0000,9,    213.2,2,     1.44,2,     0.07,2,     0.00,2,     0.00,2,   -999.0,9,   -999.0,9,-999.0000,9,  -999.00,     1225
  49UF20101203,KS1009,  2873,  1,     33,  21993,2,20101206,1134, 31.0172, 143.9877, 5774,     11.2,  23.6946,  34.5623,2,  34.5603,2,    212.6,2,     1.32,2,     0.02,2,     0.00,2,     0.00,2,   -999.0,9,   -999.0,9,-999.0000,9,  -999.00,     1241
  49UF20101203,KS1009,  2873,  1,     32,  21992,2,20101206,1134, 31.0172, 143.9877, 5774,     26.8,  23.6399,  34.5617,2,-999.0000,9,    212.8,2,     1.31,2,     0.01,2,     0.00,2,     0.00,2,   -999.0,9,   -999.0,9,-999.0000,9,  -999.00,     1239
  49UF20101203,KS1009,  2873,  1,     31,  21991,2,20101206,1134, 31.0172, 143.9877, 5774,     51.8,  22.6539,  34.6086,2,-999.0000,9,    216.8,2,     1.43,2,     0.01,2,     0.00,2,     0.00,2,   -999.0,9,   -999.0,9,-999.0000,9,  -999.00,     1236
  49UF20101203,KS1009,  2873,  1,     30,  21990,2,20101206,1134, 31.0172, 143.9877, 5774,     77.4,  22.4601,  34.6495,2,-999.0000,9,    217.9,2,     1.47,2,     0.04,2,     0.00,2,     0.00,2,   -999.0,9,   -999.0,9,-999.0000,9,  -999.00,     1234
  49UF20101203,KS1009,  2873,  1,     29,  21989,2,20101206,1134, 31.0172, 143.9877, 5774,    101.8,  20.1938,  34.7282,2,  34.7278,2,    209.8,6,     2.42,6,     1.61,6,     0.07,6,     0.10,6,   -999.0,9,   -999.0,9,-999.0000,9,  -999.00,     1233
  49UF20101203,KS1009,  2873,  1,     28,  21988,2,20101206,1134, 31.0172, 143.9877, 5774,    126.4,  19.0789,  34.7195,2,-999.0000,9,    208.3,2,     2.50,2,     1.94,2,     0.02,2,     0.12,2,   -999.0,9,   -999.0,9,-999.0000,9,  -999.00,     1231
  49UF20101203,KS1009,  2873,  1,     24,  21984,2,20101206,1134, 31.0172, 143.9877, 5774,    152.5,  18.4056,  34.7047,2,-999.0000,9,    206.2,2,     3.00,2,     3.28,2,     0.01,2,     0.20,2,   -999.0,9,   -999.0,9,-999.0000,9,  -999.00,     1230
  49UF20101203,KS1009,  2873,  1,     23,  21983,2,20101206,1134, 31.0172, 143.9877, 5774,    203.4,  17.8081,  34.6914,2,  34.6912,6,    207.5,2,     3.46,2,     4.13,2,     0.01,2,     0.25,2,   -999.0,9,   -999.0,9,-999.0000,9,  -999.00,     1228
  49UF20101203,KS1009,  2873,  1,     22,  21982,2,20101206,1134, 31.0172, 143.9877, 5774,    252.9,  17.4290,  34.6900,2,-999.0000,9,    207.0,2,     4.08,2,     4.82,2,     0.01,2,     0.29,2,   -999.0,9,   -999.0,9,-999.0000,9,  -999.00,     1226
  49UF20101203,KS1009,  2873,  1,     21,  21981,2,20101206,1134, 31.0172, 143.9877, 5774,    303.8,  16.6081,  34.6712,2,-999.0000,9,    190.7,2,     6.96,2,     7.51,2,     0.01,2,     0.48,2,   -999.0,9,   -999.0,9,-999.0000,9,  -999.00,     1224
  49UF20101203,KS1009,  2873,  1,     20,  21980,2,20101206,1134, 31.0172, 143.9877, 5774,    405.4,  13.8449,  34.5007,2,  34.5015,2,    181.4,2,    15.44,2,    12.70,2,     0.01,2,     0.85,2,   -999.0,9,   -999.0,9,-999.0000,9,  -999.00,     1221
  49UF20101203,KS1009,  2873,  1,     19,  21978,2,20101206,1134, 31.0172, 143.9877, 5774,    508.1,  10.8082,  34.3181,2,-999.0000,9,    163.5,2,    29.74,2,    19.32,2,     0.00,2,     1.34,2,   -999.0,9,   -999.0,9,-999.0000,9,  -999.00,     1218
  49UF20101203,KS1009,  2873,  1,     15,  21974,2,20101206,1134, 31.0172, 143.9877, 5774,    607.8,   8.2288,  34.1576,2,  34.1594,2,    149.1,2,    45.05,2,    25.02,2,     0.00,2,     1.77,2,   -999.0,9,   -999.0,9,-999.0000,9,  -999.00,     1214
  49UF20101203,KS1009,  2873,  1,     14,  21973,2,20101206,1134, 31.0172, 143.9877, 5774,    708.7,   5.9574,  34.0672,2,-999.0000,9,    120.5,2,    67.07,2,    31.84,2,     0.00,2,     2.28,2,   -999.0,9,   -999.0,9,-999.0000,9,  -999.00,     1211
  49UF20101203,KS1009,  2873,  1,     13,  21972,2,20101206,1134, 31.0172, 143.9877, 5774,    809.7,   4.9618,  34.1115,2,  34.1107,6,     87.6,2,    85.26,2,    36.28,2,     0.00,2,     2.60,2,   -999.0,9,   -999.0,9,-999.0000,9,  -999.00,     1208
  49UF20101203,KS1009,  2873,  1,     12,  21971,2,20101206,1134, 31.0172, 143.9877, 5774,    911.6,   4.2135,  34.2171,2,-999.0000,9,     55.5,6,   105.13,6,    39.90,6,     0.00,6,     2.86,6,   -999.0,9,   -999.0,9,-999.0000,9,  -999.00,     1205
  49UF20101203,KS1009,  2873,  1,     11,  21970,2,20101206,1134, 31.0172, 143.9877, 5774,   1014.0,   3.7725,  34.2938,2,  34.2929,2,     43.3,2,   118.38,2,    41.29,2,     0.00,2,     2.96,2,   -999.0,9,   -999.0,9,-999.0000,9,  -999.00,     1201
  49UF20101203,KS1009,  2873,  1,     10,  21969,2,20101206,1134, 31.0172, 143.9877, 5774,   1216.8,   3.1970,  34.4006,2,  34.3999,2,     38.4,2,   134.25,2,    42.59,2,     0.00,2,     3.03,2,   -999.0,9,   -999.0,9,-999.0000,9,  -999.00,     1155
  49UF20101203,KS1009,  2873,  1,      6,  21965,2,20101206,1134, 31.0172, 143.9877, 5774,   1417.0,   2.7078,  34.4779,2,  34.4853,4,     42.3,2,   147.32,2,    42.67,2,     0.00,2,     3.03,2,   -999.0,9,   -999.0,9,-999.0000,9,  -999.00,     1149
  49UF20101203,KS1009,  2873,  1,      5,  21964,2,20101206,1134, 31.0172, 143.9877, 5774,   1618.6,   2.3847,  34.5312,2,  34.5318,2,     53.4,2,   154.41,2,    42.33,2,     0.00,2,     2.98,2,   -999.0,9,   -999.0,9,-999.0000,9,  -999.00,     1144
  49UF20101203,KS1009,  2873,  1,      4,  21963,2,20101206,1134, 31.0172, 143.9877, 5774,   1820.3,   2.1420,  34.5739,2,  34.5791,4,     71.9,2,   155.97,2,    41.01,2,     0.00,2,     2.90,2,   -999.0,9,   -999.0,9,-999.0000,9,  -999.00,     1139
  49UF20101203,KS1009,  2873,  1,      3,  21962,2,20101206,1134, 31.0172, 143.9877, 5774,   1820.3,   2.1420,  34.5739,2,  34.5743,2,     71.6,2,   156.23,2,    41.26,2,     0.00,2,     2.91,2,   -999.0,9,   -999.0,9,-999.0000,9,  -999.00,     1139
  49UF20101203,KS1009,  2873,  1,      2,  21961,2,20101206,1134, 31.0172, 143.9877, 5774,   2022.6,   1.9709,  34.6007,2,  34.6000,2,     86.1,2,   156.00,2,    40.42,2,     0.00,2,     2.83,2,   -999.0,9,   -999.0,9,-999.0000,9,  -999.00,     1134
  49UF20101203,KS1009,  2873,  1,      1,  21960,2,20101206,1134, 31.0172, 143.9877, 5774,   2022.6,   1.9709,  34.6007,2,  34.6018,2,     86.3,2,   156.61,2,    40.48,2,     0.00,2,     2.83,2,   -999.0,9,   -999.0,9,-999.0000,9,  -999.00,     1134