BOTTLE,20190925PRINUNIVRMK
EXPOCODE,SECT_ID,STNNBR,CASTNO,SAMPNO,BTLNBR,BTLNBR_FLAG_W,DATE,TIME,LATITUDE,LONGITUDE,DEPTH,CTDPRS,CTDTMP,CTDSAL,CTDSAL_FLAG_W,SALNTY,SALNTY_FLAG_W,OXYGEN,OXYGEN_FLAG_W,SILCAT,SILCAT_FLAG_W,NITRAT,NITRAT_FLAG_W,NITRIT,NITRIT_FLAG_W,PHSPHT,PHSPHT_FLAG_W,TCARBN,TCARBN_FLAG_W,ALKALI,ALKALI_FLAG_W,PH_TOT,PH_TOT_FLAG_W,PH_TMP,BTL_TIME
,,,,,,,,,,,METERS,DBAR,ITS-90,PSS-78,,PSS-78,,UMOL/KG,,UMOL/KG,,UMOL/KG,,UMOL/KG,,UMOL/KG,,UMOL/KG,,UMOL/KG,,,,DEG C,
  49UF20101203,KS1009,  2893,  1,     99,     99,2,20101212,1126, 35.0287, 148.9353, 6061,      0.0,  21.3681,  34.6511,2,-999.0000,9,    216.4,2,     2.05,2,     0.41,2,     0.14,2,     0.05,2,   -999.0,9,   -999.0,9,-999.0000,9,  -999.00,     1209
  49UF20101203,KS1009,  2893,  1,     33,  21993,2,20101212,1126, 35.0287, 148.9353, 6061,     10.6,  21.3765,  34.6511,2,-999.0000,9,    215.2,2,     2.00,2,     0.39,2,     0.14,2,     0.05,2,   -999.0,9,   -999.0,9,-999.0000,9,  -999.00,     1236
  49UF20101203,KS1009,  2893,  1,     32,  21992,2,20101212,1126, 35.0287, 148.9353, 6061,     25.3,  21.1801,  34.6433,2,-999.0000,9,    216.7,2,     2.27,2,     0.48,2,     0.15,2,     0.06,2,   -999.0,9,   -999.0,9,-999.0000,9,  -999.00,     1235
  49UF20101203,KS1009,  2893,  1,     31,  21991,2,20101212,1126, 35.0287, 148.9353, 6061,     52.0,  20.6522,  34.6068,2,-999.0000,9,    215.6,2,     3.10,2,     1.17,2,     0.30,2,     0.11,2,   -999.0,9,   -999.0,9,-999.0000,9,  -999.00,     1230
  49UF20101203,KS1009,  2893,  1,     30,  21990,2,20101212,1126, 35.0287, 148.9353, 6061,     75.3,  20.5885,  34.5987,2,-999.0000,9,    214.5,6,     3.45,6,     1.42,6,     0.33,6,     0.13,6,   -999.0,9,   -999.0,9,-999.0000,9,  -999.00,     1228
  49UF20101203,KS1009,  2893,  1,     29,  21989,2,20101212,1126, 35.0287, 148.9353, 6061,    101.3,  19.9760,  34.5813,2,-999.0000,9,    206.9,2,     4.69,2,     2.81,2,     0.27,2,     0.21,2,   -999.0,9,   -999.0,9,-999.0000,9,  -999.00,     1227
  49UF20101203,KS1009,  2893,  1,     28,  21988,2,20101212,1126, 35.0287, 148.9353, 6061,    127.2,  19.7794,  34.7126,2,-999.0000,9,    195.4,2,     3.83,2,     3.17,2,     0.02,2,     0.21,2,   -999.0,9,   -999.0,9,-999.0000,9,  -999.00,     1226
  49UF20101203,KS1009,  2893,  1,     24,  21984,2,20101212,1126, 35.0287, 148.9353, 6061,    151.3,  18.8467,  34.7015,2,-999.0000,9,    187.0,2,     5.79,2,     5.20,2,     0.01,2,     0.35,2,   -999.0,9,   -999.0,9,-999.0000,9,  -999.00,     1224
  49UF20101203,KS1009,  2893,  1,     23,  21983,2,20101212,1126, 35.0287, 148.9353, 6061,    201.6,  17.1682,  34.6825,2,-999.0000,9,    186.0,2,     7.66,2,     7.20,2,     0.01,2,     0.48,2,   -999.0,9,   -999.0,9,-999.0000,9,  -999.00,     1222
  49UF20101203,KS1009,  2893,  1,     22,  21982,2,20101212,1126, 35.0287, 148.9353, 6061,    253.3,  15.6248,  34.6142,2,-999.0000,9,    179.6,2,    11.51,2,     9.76,2,     0.00,2,     0.67,2,   -999.0,9,   -999.0,9,-999.0000,9,  -999.00,     1220
  49UF20101203,KS1009,  2893,  1,     21,  21981,2,20101212,1126, 35.0287, 148.9353, 6061,    303.8,  14.4004,  34.5391,2,-999.0000,9,    179.5,2,    14.48,2,    11.62,2,     0.00,2,     0.80,2,   -999.0,9,   -999.0,9,-999.0000,9,  -999.00,     1219
  49UF20101203,KS1009,  2893,  1,     20,  21980,2,20101212,1126, 35.0287, 148.9353, 6061,    404.7,  11.6947,  34.3643,2,-999.0000,9,    166.8,2,    26.34,2,    17.08,2,     0.00,2,     1.20,2,   -999.0,9,   -999.0,9,-999.0000,9,  -999.00,     1216
  49UF20101203,KS1009,  2893,  1,     19,  21978,2,20101212,1126, 35.0287, 148.9353, 6061,    507.9,   8.0539,  34.1227,2,-999.0000,9,    160.5,2,    43.94,2,    23.65,2,     0.00,2,     1.72,2,   -999.0,9,   -999.0,9,-999.0000,9,  -999.00,     1212
  49UF20101203,KS1009,  2893,  1,     15,  21974,2,20101212,1126, 35.0287, 148.9353, 6061,    608.2,   5.8775,  34.0484,2,-999.0000,9,    130.1,2,    66.24,2,    30.75,2,     0.00,2,     2.23,2,   -999.0,9,   -999.0,9,-999.0000,9,  -999.00,     1208
  49UF20101203,KS1009,  2893,  1,     14,  21973,2,20101212,1126, 35.0287, 148.9353, 6061,    709.0,   4.9866,  34.1391,2,-999.0000,9,     89.1,2,    86.52,2,    35.60,2,     0.00,2,     2.58,2,   -999.0,9,   -999.0,9,-999.0000,9,  -999.00,     1204
  49UF20101203,KS1009,  2893,  1,     13,  21972,2,20101212,1126, 35.0287, 148.9353, 6061,    810.6,   4.2850,  34.1964,2,-999.0000,9,     65.0,6,   103.09,6,    38.88,6,     0.00,6,     2.80,6,   -999.0,9,   -999.0,9,-999.0000,9,  -999.00,     1159
  49UF20101203,KS1009,  2893,  1,     12,  21971,2,20101212,1126, 35.0287, 148.9353, 6061,    911.2,   3.8920,  34.2780,2,-999.0000,9,     53.3,2,   114.72,2,    40.15,2,     0.00,2,     2.88,2,   -999.0,9,   -999.0,9,-999.0000,9,  -999.00,     1155
  49UF20101203,KS1009,  2893,  1,     11,  21970,2,20101212,1126, 35.0287, 148.9353, 6061,   1014.0,   3.5349,  34.3273,2,-999.0000,9,     46.7,2,   124.38,2,    41.23,2,     0.00,2,     2.96,2,   -999.0,9,   -999.0,9,-999.0000,9,  -999.00,     1151
  49UF20101203,KS1009,  2893,  1,     10,  21969,2,20101212,1126, 35.0287, 148.9353, 6061,   1213.8,   2.9966,  34.4124,2,-999.0000,9,     41.4,2,   139.61,2,    42.16,2,     0.00,2,     3.02,2,   -999.0,9,   -999.0,9,-999.0000,9,  -999.00,     1145
  49UF20101203,KS1009,  2893,  1,      6,  21965,2,20101212,1126, 35.0287, 148.9353, 6061,   1419.1,   2.6179,  34.4752,2,-999.0000,9,     42.5,2,   150.13,2,    42.59,2,     0.00,2,     3.03,2,   -999.0,9,   -999.0,9,-999.0000,9,  -999.00,     1140
  49UF20101203,KS1009,  2893,  1,      5,  21964,2,20101212,1126, 35.0287, 148.9353, 6061,   1619.4,   2.3474,  34.5237,2,-999.0000,9,     49.6,2,   156.76,2,    42.16,2,     0.00,2,     3.01,2,   -999.0,9,   -999.0,9,-999.0000,9,  -999.00,     1135
  49UF20101203,KS1009,  2893,  1,      4,  21963,2,20101212,1126, 35.0287, 148.9353, 6061,   1822.4,   2.1367,  34.5635,2,-999.0000,9,     62.0,2,   160.32,2,    41.76,2,     0.00,2,     2.94,2,   -999.0,9,   -999.0,9,-999.0000,9,  -999.00,     1130
  49UF20101203,KS1009,  2893,  1,      3,  21962,2,20101212,1126, 35.0287, 148.9353, 6061,   1822.4,   2.1367,  34.5635,2,-999.0000,9,     61.9,2,   160.08,2,    41.80,2,     0.00,2,     2.95,2,   -999.0,9,   -999.0,9,-999.0000,9,  -999.00,     1130
  49UF20101203,KS1009,  2893,  1,      2,  21961,2,20101212,1126, 35.0287, 148.9353, 6061,   2024.4,   1.9753,  34.5921,2,-999.0000,9,     74.7,2,   161.41,2,    41.06,2,     0.00,2,     2.88,2,   -999.0,9,   -999.0,9,-999.0000,9,  -999.00,     1126
  49UF20101203,KS1009,  2893,  1,      1,  21960,2,20101212,1126, 35.0287, 148.9353, 6061,   2024.4,   1.9753,  34.5921,2,-999.0000,9,     74.8,2,   161.08,2,    40.93,2,     0.00,2,     2.89,2,   -999.0,9,   -999.0,9,-999.0000,9,  -999.00,     1126
  49UF20101203,KS1009,  2895,  1,     99,     99,2,20101212,1928, 36.0278, 149.3097, 6006,      0.0,  20.9294,  34.6216,2,-999.0000,9,    217.5,2,     2.91,2,     1.06,2,     0.24,2,     0.09,2,   -999.0,9,   -999.0,9,-999.0000,9,  -999.00,     1950
  49UF20101203,KS1009,  2895,  1,     33,  21993,2,20101212,1928, 36.0278, 149.3097, 6006,     11.1,  20.9402,  34.6212,2,-999.0000,9,    215.2,2,     2.82,2,     0.92,2,     0.22,2,     0.08,2,   -999.0,9,   -999.0,9,-999.0000,9,  -999.00,     2029
  49UF20101203,KS1009,  2895,  1,     32,  21992,2,20101212,1928, 36.0278, 149.3097, 6006,     27.1,  20.9391,  34.6209,2,-999.0000,9,    215.1,2,     2.82,2,     0.95,2,     0.22,2,     0.08,2,   -999.0,9,   -999.0,9,-999.0000,9,  -999.00,     2027
  49UF20101203,KS1009,  2895,  1,     31,  21991,2,20101212,1928, 36.0278, 149.3097, 6006,     51.7,  20.3658,  34.5626,2,-999.0000,9,    214.4,2,     3.78,2,     1.72,2,     0.32,2,     0.14,2,   -999.0,9,   -999.0,9,-999.0000,9,  -999.00,     2023
  49UF20101203,KS1009,  2895,  1,     30,  21990,2,20101212,1928, 36.0278, 149.3097, 6006,     77.7,  19.9264,  34.5051,2,-999.0000,9,    214.8,2,     4.12,2,     1.98,2,     0.34,2,     0.17,2,   -999.0,9,   -999.0,9,-999.0000,9,  -999.00,     2022
  49UF20101203,KS1009,  2895,  1,     29,  21989,2,20101212,1928, 36.0278, 149.3097, 6006,    102.0,  19.1132,  34.5790,2,-999.0000,9,    187.8,2,     7.17,2,     5.51,2,     0.06,2,     0.37,2,   -999.0,9,   -999.0,9,-999.0000,9,  -999.00,     2021
  49UF20101203,KS1009,  2895,  1,     28,  21988,2,20101212,1928, 36.0278, 149.3097, 6006,    127.9,  18.0347,  34.7062,2,-999.0000,9,    190.0,6,     5.74,6,     5.56,6,     0.02,6,     0.36,6,   -999.0,9,   -999.0,9,-999.0000,9,  -999.00,     2020
  49UF20101203,KS1009,  2895,  1,     24,  21984,2,20101212,1928, 36.0278, 149.3097, 6006,    152.3,  17.5648,  34.6987,2,-999.0000,9,    189.0,2,     6.46,2,     6.29,2,     0.01,2,     0.40,2,   -999.0,9,   -999.0,9,-999.0000,9,  -999.00,     2019
  49UF20101203,KS1009,  2895,  1,     23,  21983,2,20101212,1928, 36.0278, 149.3097, 6006,    200.7,  15.7880,  34.6194,2,-999.0000,9,    179.3,2,    11.33,2,     9.72,2,     0.01,2,     0.65,2,   -999.0,9,   -999.0,9,-999.0000,9,  -999.00,     2017
  49UF20101203,KS1009,  2895,  1,     22,  21982,2,20101212,1928, 36.0278, 149.3097, 6006,    252.3,  14.4487,  34.5441,2,-999.0000,9,    174.1,2,    16.29,2,    12.45,2,     0.01,2,     0.84,2,   -999.0,9,   -999.0,9,-999.0000,9,  -999.00,     2016
  49UF20101203,KS1009,  2895,  1,     21,  21981,2,20101212,1928, 36.0278, 149.3097, 6006,    303.0,  12.5053,  34.4059,2,-999.0000,9,    169.2,2,    22.92,2,    15.75,2,     0.01,2,     1.10,2,   -999.0,9,   -999.0,9,-999.0000,9,  -999.00,     2014
  49UF20101203,KS1009,  2895,  1,     20,  21980,2,20101212,1928, 36.0278, 149.3097, 6006,    405.8,   7.8768,  34.1055,2,-999.0000,9,    160.6,2,    45.28,2,    24.33,2,     0.00,2,     1.76,2,   -999.0,9,   -999.0,9,-999.0000,9,  -999.00,     2011
  49UF20101203,KS1009,  2895,  1,     19,  21978,2,20101212,1928, 36.0278, 149.3097, 6006,    507.0,   6.2224,  34.0956,2,-999.0000,9,    125.4,2,    65.61,2,    30.73,2,     0.00,2,     2.21,2,   -999.0,9,   -999.0,9,-999.0000,9,  -999.00,     2008
  49UF20101203,KS1009,  2895,  1,     15,  21974,2,20101212,1928, 36.0278, 149.3097, 6006,    606.8,   5.1668,  34.1336,2,-999.0000,9,     94.8,2,    83.03,2,    35.21,2,     0.00,2,     2.53,2,   -999.0,9,   -999.0,9,-999.0000,9,  -999.00,     2005
  49UF20101203,KS1009,  2895,  1,     14,  21973,2,20101212,1928, 36.0278, 149.3097, 6006,    606.8,   5.1668,  34.1336,2,-999.0000,9,     94.4,2,    83.17,2,    35.28,2,     0.00,2,     2.53,2,   -999.0,9,   -999.0,9,-999.0000,9,  -999.00,     2005
  49UF20101203,KS1009,  2895,  1,     13,  21972,2,20101212,1928, 36.0278, 149.3097, 6006,    708.9,   4.4209,  34.2019,2,-999.0000,9,     68.1,2,   100.08,2,    38.76,2,     0.00,2,     2.76,2,   -999.0,9,   -999.0,9,-999.0000,9,  -999.00,     2001
  49UF20101203,KS1009,  2895,  1,     12,  21971,2,20101212,1928, 36.0278, 149.3097, 6006,    708.9,   4.4209,  34.2019,2,-999.0000,9,     68.4,2,   100.21,2,    38.54,2,     0.00,2,     2.76,2,   -999.0,9,   -999.0,9,-999.0000,9,  -999.00,     2001
  49UF20101203,KS1009,  2895,  1,     11,  21970,2,20101212,1928, 36.0278, 149.3097, 6006,    809.2,   3.9069,  34.2716,2,-999.0000,9,     54.5,2,   114.21,2,    40.36,2,     0.00,2,     2.88,2,   -999.0,9,   -999.0,9,-999.0000,9,  -999.00,     1958
  49UF20101203,KS1009,  2895,  1,     10,  21969,2,20101212,1928, 36.0278, 149.3097, 6006,    911.7,   3.4676,  34.3231,2,-999.0000,9,     45.2,6,   125.78,6,    41.69,6,     0.00,6,     2.97,6,   -999.0,9,   -999.0,9,-999.0000,9,  -999.00,     1954
  49UF20101203,KS1009,  2895,  1,      6,  21965,2,20101212,1928, 36.0278, 149.3097, 6006,   1014.0,   3.2009,  34.3699,2,-999.0000,9,     42.8,2,   132.68,2,    41.92,2,     0.00,2,     3.00,2,   -999.0,9,   -999.0,9,-999.0000,9,  -999.00,     1951
  49UF20101203,KS1009,  2895,  1,      5,  21964,2,20101212,1928, 36.0278, 149.3097, 6006,   1213.0,   2.8371,  34.4391,2,-999.0000,9,     42.4,2,   143.59,2,    42.58,2,     0.00,2,     3.03,2,   -999.0,9,   -999.0,9,-999.0000,9,  -999.00,     1946
  49UF20101203,KS1009,  2895,  1,      4,  21963,2,20101212,1928, 36.0278, 149.3097, 6006,   1419.0,   2.5441,  34.4858,2,-999.0000,9,     43.9,2,   152.21,2,    43.01,2,     0.00,2,     3.04,2,   -999.0,9,   -999.0,9,-999.0000,9,  -999.00,     1941
  49UF20101203,KS1009,  2895,  1,      3,  21962,2,20101212,1928, 36.0278, 149.3097, 6006,   1620.1,   2.2963,  34.5319,2,-999.0000,9,     51.0,2,   157.91,2,    42.77,2,     0.00,2,     3.01,2,   -999.0,9,   -999.0,9,-999.0000,9,  -999.00,     1936
  49UF20101203,KS1009,  2895,  1,      2,  21961,2,20101212,1928, 36.0278, 149.3097, 6006,   1820.4,   2.1139,  34.5661,2,-999.0000,9,     62.9,2,   160.65,2,    41.93,2,     0.00,2,     2.96,2,   -999.0,9,   -999.0,9,-999.0000,9,  -999.00,     1932
  49UF20101203,KS1009,  2895,  1,      1,  21960,2,20101212,1928, 36.0278, 149.3097, 6006,   2023.4,   1.9917,  34.5886,2,-999.0000,9,     72.6,2,   161.74,2,    41.56,2,     0.00,2,     2.91,2,   -999.0,9,   -999.0,9,-999.0000,9,  -999.00,     1928
  49UF20101203,KS1009,  2897,  1,     99,     99,2,20101213,0450, 36.9873, 149.6097, 5997,      0.0,  18.7110,  34.3633,2,-999.0000,9,    228.5,2,     3.65,2,     1.56,2,     0.27,2,     0.14,2,   -999.0,9,   -999.0,9,-999.0000,9,  -999.00,      548
  49UF20101203,KS1009,  2897,  1,     33,  21993,2,20101213,0450, 36.9873, 149.6097, 5997,     11.1,  18.6893,  34.3563,2,  34.3645,4,    229.9,2,     3.40,2,     1.33,2,     0.33,2,     0.12,2,   -999.0,9,   -999.0,9,-999.0000,9,  -999.00,      604
  49UF20101203,KS1009,  2897,  1,     32,  21992,2,20101213,0450, 36.9873, 149.6097, 5997,     26.8,  18.5963,  34.3358,2,-999.0000,9,    230.9,2,     3.46,2,     1.25,2,     0.34,2,     0.12,2,   -999.0,9,   -999.0,9,-999.0000,9,  -999.00,      603
  49UF20101203,KS1009,  2897,  1,     31,  21991,2,20101213,0450, 36.9873, 149.6097, 5997,     50.8,  18.2162,  34.2736,2,-999.0000,9,    232.3,2,     3.53,2,     1.20,2,     0.34,2,     0.13,2,   -999.0,9,   -999.0,9,-999.0000,9,  -999.00,      559
  49UF20101203,KS1009,  2897,  1,     30,  21990,2,20101213,0450, 36.9873, 149.6097, 5997,     75.3,  17.9327,  34.2283,2,-999.0000,9,    233.7,2,     3.64,2,     1.33,2,     0.33,2,     0.14,2,   -999.0,9,   -999.0,9,-999.0000,9,  -999.00,      558
  49UF20101203,KS1009,  2897,  1,     29,  21989,3,20101213,0450, 36.9873, 149.6097, 5997,     99.4,  17.3912,  34.1366,2,  34.1357,2,    235.2,2,     3.94,2,     1.51,2,     0.41,2,     0.17,2,   -999.0,9,   -999.0,9,-999.0000,9,  -999.00,      557
  49UF20101203,KS1009,  2897,  1,     28,  21988,2,20101213,0450, 36.9873, 149.6097, 5997,    126.9,  16.1004,  34.0841,2,-999.0000,9,    230.7,2,     5.91,2,     3.38,2,     0.45,2,     0.30,2,   -999.0,9,   -999.0,9,-999.0000,9,  -999.00,      556
  49UF20101203,KS1009,  2897,  1,     24,  21984,2,20101213,0450, 36.9873, 149.6097, 5997,    152.7,  14.7891,  34.4426,2,-999.0000,9,    190.0,6,    12.80,6,    10.07,6,     0.02,6,     0.70,6,   -999.0,9,   -999.0,9,-999.0000,9,  -999.00,      554
  49UF20101203,KS1009,  2897,  1,     23,  21983,2,20101213,0450, 36.9873, 149.6097, 5997,    203.2,  11.9946,  34.3391,2,  34.3354,4,    172.9,2,    24.14,2,    16.22,2,     0.02,2,     1.14,2,   -999.0,9,   -999.0,9,-999.0000,9,  -999.00,      551
  49UF20101203,KS1009,  2897,  1,     22,  21982,2,20101213,0450, 36.9873, 149.6097, 5997,    255.9,   9.7498,  34.1707,2,-999.0000,9,    184.0,4,    29.79,2,    18.47,2,     0.01,2,     1.32,2,   -999.0,9,   -999.0,9,-999.0000,9,  -999.00,      548
  49UF20101203,KS1009,  2897,  1,     21,  21981,2,20101213,0450, 36.9873, 149.6097, 5997,    306.9,   8.3071,  34.1052,2,-999.0000,9,    168.7,2,    40.52,2,    22.81,2,     0.01,2,     1.64,2,   -999.0,9,   -999.0,9,-999.0000,9,  -999.00,      545
  49UF20101203,KS1009,  2897,  1,     20,  21980,2,20101213,0450, 36.9873, 149.6097, 5997,    405.9,   6.3891,  34.0953,2,  34.0800,4,    134.5,2,    62.21,2,    29.67,2,     0.01,2,     2.14,2,   -999.0,9,   -999.0,9,-999.0000,9,  -999.00,      539
  49UF20101203,KS1009,  2897,  1,     19,  21978,2,20101213,0450, 36.9873, 149.6097, 5997,    506.6,   4.9151,  34.0372,2,-999.0000,9,    107.5,2,    79.49,2,    34.78,2,     0.00,2,     2.51,2,   -999.0,9,   -999.0,9,-999.0000,9,  -999.00,      534
  49UF20101203,KS1009,  2897,  1,     15,  21974,2,20101213,0450, 36.9873, 149.6097, 5997,    608.0,   4.6285,  34.1697,2,  34.1657,4,     76.1,2,    94.93,2,    37.56,2,     0.00,2,     2.70,2,   -999.0,9,   -999.0,9,-999.0000,9,  -999.00,      529
  49UF20101203,KS1009,  2897,  1,     14,  21973,2,20101213,0450, 36.9873, 149.6097, 5997,    708.8,   4.2049,  34.2373,2,-999.0000,9,     61.4,2,   106.93,2,    39.57,2,     0.00,2,     2.82,2,   -999.0,9,   -999.0,9,-999.0000,9,  -999.00,      524
  49UF20101203,KS1009,  2897,  1,     13,  21972,2,20101213,0450, 36.9873, 149.6097, 5997,    808.9,   3.8310,  34.2912,2,  34.2925,2,     53.2,2,   116.30,2,    40.60,2,     0.00,2,     2.90,2,   -999.0,9,   -999.0,9,-999.0000,9,  -999.00,      520
  49UF20101203,KS1009,  2897,  1,     12,  21971,2,20101213,0450, 36.9873, 149.6097, 5997,    808.9,   3.8310,  34.2912,2,  34.2887,4,     53.0,2,   116.54,2,    40.62,2,     0.00,2,     2.90,2,   -999.0,9,   -999.0,9,-999.0000,9,  -999.00,      520
  49UF20101203,KS1009,  2897,  1,     11,  21970,2,20101213,0450, 36.9873, 149.6097, 5997,    910.2,   3.5556,  34.3340,2,-999.0000,9,     49.0,2,   124.11,2,    41.33,2,     0.01,2,     2.95,2,   -999.0,9,   -999.0,9,-999.0000,9,  -999.00,      516
  49UF20101203,KS1009,  2897,  1,     10,  21969,2,20101213,0450, 36.9873, 149.6097, 5997,    910.2,   3.5556,  34.3340,2,-999.0000,9,     49.0,2,   124.12,2,    41.26,2,     0.00,2,     2.95,2,   -999.0,9,   -999.0,9,-999.0000,9,  -999.00,      516
  49UF20101203,KS1009,  2897,  1,      6,  21965,2,20101213,0450, 36.9873, 149.6097, 5997,   1011.1,   3.1850,  34.3811,2,  34.3796,6,     43.6,6,   134.10,6,    42.22,6,     0.00,6,     3.00,6,   -999.0,9,   -999.0,9,-999.0000,9,  -999.00,      513
  49UF20101203,KS1009,  2897,  1,      5,  21964,2,20101213,0450, 36.9873, 149.6097, 5997,   1214.3,   2.8089,  34.4426,2,  34.4408,2,     41.5,2,   144.88,2,    42.64,2,     0.00,2,     3.03,2,   -999.0,9,   -999.0,9,-999.0000,9,  -999.00,      507
  49UF20101203,KS1009,  2897,  1,      4,  21963,2,20101213,0450, 36.9873, 149.6097, 5997,   1416.2,   2.5181,  34.4914,2,  34.4903,2,     44.6,2,   153.03,2,    42.82,2,     0.00,2,     3.03,2,   -999.0,9,   -999.0,9,-999.0000,9,  -999.00,      502
  49UF20101203,KS1009,  2897,  1,      3,  21962,2,20101213,0450, 36.9873, 149.6097, 5997,   1619.3,   2.3077,  34.5296,2,  34.5288,2,     51.0,2,   158.01,2,    42.59,2,     0.00,2,     3.01,2,   -999.0,9,   -999.0,9,-999.0000,9,  -999.00,      457
  49UF20101203,KS1009,  2897,  1,      2,  21961,2,20101213,0450, 36.9873, 149.6097, 5997,   1821.4,   2.1306,  34.5629,2,  34.5630,2,     61.2,2,   161.21,2,    41.99,2,     0.00,2,     2.96,2,   -999.0,9,   -999.0,9,-999.0000,9,  -999.00,      453
  49UF20101203,KS1009,  2897,  1,      1,  21960,2,20101213,0450, 36.9873, 149.6097, 5997,   2023.5,   1.9849,  34.5902,2,  34.5894,2,     73.4,2,   161.80,2,    41.35,2,     0.00,2,     2.90,2,   -999.0,9,   -999.0,9,-999.0000,9,  -999.00,      450