BOTTLE,20190925PRINUNIVRMK
EXPOCODE,SECT_ID,STNNBR,CASTNO,SAMPNO,BTLNBR,BTLNBR_FLAG_W,DATE,TIME,LATITUDE,LONGITUDE,DEPTH,CTDPRS,CTDTMP,CTDSAL,CTDSAL_FLAG_W,SALNTY,SALNTY_FLAG_W,OXYGEN,OXYGEN_FLAG_W,SILCAT,SILCAT_FLAG_W,NITRAT,NITRAT_FLAG_W,NITRIT,NITRIT_FLAG_W,PHSPHT,PHSPHT_FLAG_W,TCARBN,TCARBN_FLAG_W,ALKALI,ALKALI_FLAG_W,PH_TOT,PH_TOT_FLAG_W,PH_TMP,BTL_TIME
,,,,,,,,,,,METERS,DBAR,ITS-90,PSS-78,,PSS-78,,UMOL/KG,,UMOL/KG,,UMOL/KG,,UMOL/KG,,UMOL/KG,,UMOL/KG,,UMOL/KG,,,,DEG C,
  49UF20101203,KS1009,  2906,  1,     99,     99,2,20101217,0544, 40.9947, 146.9088, 4202,      0.0,   6.4962,  32.6968,2,-999.0000,9,    300.2,2,    24.85,2,    14.71,2,     0.15,2,     1.33,2,   -999.0,9,   -999.0,9,-999.0000,9,  -999.00,      625
  49UF20101203,KS1009,  2906,  1,     33,  21993,2,20101217,0544, 40.9947, 146.9088, 4202,     11.9,   6.4826,  32.6952,2,  32.6963,2,    299.7,2,    24.84,2,    14.72,2,     0.15,2,     1.32,2,   -999.0,9,   -999.0,9,-999.0000,9,  -999.00,      640
  49UF20101203,KS1009,  2906,  1,     32,  21992,2,20101217,0544, 40.9947, 146.9088, 4202,     27.1,   6.3807,  32.7012,2,-999.0000,9,    299.7,2,    25.10,2,    14.91,2,     0.15,2,     1.33,2,   -999.0,9,   -999.0,9,-999.0000,9,  -999.00,      639
  49UF20101203,KS1009,  2906,  1,     31,  21991,2,20101217,0544, 40.9947, 146.9088, 4202,     50.4,   6.0456,  32.7749,2,-999.0000,9,    298.2,2,    26.85,2,    15.95,2,     0.15,2,     1.39,2,   -999.0,9,   -999.0,9,-999.0000,9,  -999.00,      635
  49UF20101203,KS1009,  2906,  1,     30,  21990,2,20101217,0544, 40.9947, 146.9088, 4202,     77.6,   2.7221,  33.0359,2,-999.0000,9,    301.8,2,    38.32,2,    23.78,2,     0.05,2,     1.90,2,   -999.0,9,   -999.0,9,-999.0000,9,  -999.00,      634
  49UF20101203,KS1009,  2906,  1,     29,  21989,2,20101217,0544, 40.9947, 146.9088, 4202,    101.0,   1.7247,  33.1258,2,  33.1234,4,    294.6,2,    45.14,2,    26.56,2,     0.02,2,     2.07,2,   -999.0,9,   -999.0,9,-999.0000,9,  -999.00,      633
  49UF20101203,KS1009,  2906,  1,     28,  21988,2,20101217,0544, 40.9947, 146.9088, 4202,    128.1,   1.7591,  33.2272,2,-999.0000,9,    263.9,2,    53.03,2,    29.22,2,     0.02,2,     2.23,2,   -999.0,9,   -999.0,9,-999.0000,9,  -999.00,      631
  49UF20101203,KS1009,  2906,  1,     24,  21984,2,20101217,0544, 40.9947, 146.9088, 4202,    153.0,   2.0953,  33.3796,2,-999.0000,9,    205.8,2,    65.19,2,    33.53,2,     0.01,2,     2.48,2,   -999.0,9,   -999.0,9,-999.0000,9,  -999.00,      630
  49UF20101203,KS1009,  2906,  1,     23,  21983,2,20101217,0544, 40.9947, 146.9088, 4202,    203.0,   2.4983,  33.5883,2,  33.5882,2,    143.0,2,    80.49,2,    37.55,2,     0.01,2,     2.72,2,   -999.0,9,   -999.0,9,-999.0000,9,  -999.00,      629
  49UF20101203,KS1009,  2906,  1,     22,  21982,2,20101217,0544, 40.9947, 146.9088, 4202,    253.3,   2.9527,  33.7339,2,-999.0000,9,     90.3,2,    90.18,2,    41.36,2,     0.00,2,     2.95,2,   -999.0,9,   -999.0,9,-999.0000,9,  -999.00,      627
  49UF20101203,KS1009,  2906,  1,     21,  21981,2,20101217,0544, 40.9947, 146.9088, 4202,    303.3,   3.1575,  33.8601,2,-999.0000,9,     57.1,2,    99.90,2,    43.26,2,     0.01,2,     3.05,2,   -999.0,9,   -999.0,9,-999.0000,9,  -999.00,      625
  49UF20101203,KS1009,  2906,  1,     20,  21980,2,20101217,0544, 40.9947, 146.9088, 4202,    402.9,   3.2268,  33.9818,2,  33.9797,6,     44.6,6,   109.61,6,    43.50,6,     0.01,6,     3.08,6,   -999.0,9,   -999.0,9,-999.0000,9,  -999.00,      623
  49UF20101203,KS1009,  2906,  1,     19,  21978,2,20101217,0544, 40.9947, 146.9088, 4202,    504.8,   3.2079,  34.1153,2,-999.0000,9,     36.7,2,   121.04,2,    43.10,2,     0.00,2,     3.07,2,   -999.0,9,   -999.0,9,-999.0000,9,  -999.00,      620
  49UF20101203,KS1009,  2906,  1,     15,  21974,2,20101217,0544, 40.9947, 146.9088, 4202,    607.0,   3.0851,  34.2004,2,  34.2007,2,     32.9,2,   129.40,2,    43.48,2,     0.00,2,     3.07,2,   -999.0,9,   -999.0,9,-999.0000,9,  -999.00,      617
  49UF20101203,KS1009,  2906,  1,     14,  21973,2,20101217,0544, 40.9947, 146.9088, 4202,    607.0,   3.0851,  34.2004,2,  34.1998,2,     32.7,2,   129.77,2,    43.57,2,     0.00,2,     3.08,2,   -999.0,9,   -999.0,9,-999.0000,9,  -999.00,      617
  49UF20101203,KS1009,  2906,  1,     13,  21972,2,20101217,0544, 40.9947, 146.9088, 4202,    707.6,   2.9391,  34.2627,2,-999.0000,9,     29.1,2,   137.99,2,    43.78,2,     0.00,2,     3.09,2,   -999.0,9,   -999.0,9,-999.0000,9,  -999.00,      615
  49UF20101203,KS1009,  2906,  1,     12,  21971,2,20101217,0544, 40.9947, 146.9088, 4202,    707.6,   2.9391,  34.2627,2,-999.0000,9,     27.9,2,   138.11,2,    44.08,2,     0.00,2,     3.10,2,   -999.0,9,   -999.0,9,-999.0000,9,  -999.00,      615
  49UF20101203,KS1009,  2906,  1,     11,  21970,2,20101217,0544, 40.9947, 146.9088, 4202,    807.5,   2.8259,  34.3190,2,  34.2621,4,     32.2,2,   142.97,2,    43.61,2,     0.00,2,     3.08,2,   -999.0,9,   -999.0,9,-999.0000,9,  -999.00,      612
  49UF20101203,KS1009,  2906,  1,     10,  21969,2,20101217,0544, 40.9947, 146.9088, 4202,    910.1,   2.7465,  34.3702,2,-999.0000,9,     35.6,2,   146.63,2,    43.41,2,     0.00,2,     3.07,2,   -999.0,9,   -999.0,9,-999.0000,9,  -999.00,      609
  49UF20101203,KS1009,  2906,  1,      6,  21965,2,20101217,0544, 40.9947, 146.9088, 4202,   1012.2,   2.6715,  34.4247,2,  34.4241,2,     39.2,2,   148.88,2,    43.17,2,     0.00,2,     3.04,2,   -999.0,9,   -999.0,9,-999.0000,9,  -999.00,      607
  49UF20101203,KS1009,  2906,  1,      5,  21964,2,20101217,0544, 40.9947, 146.9088, 4202,   1213.0,   2.4649,  34.4721,2,  34.4717,2,     42.2,2,   155.27,2,    43.01,2,     0.00,2,     3.04,2,   -999.0,9,   -999.0,9,-999.0000,9,  -999.00,      602
  49UF20101203,KS1009,  2906,  1,      4,  21963,2,20101217,0544, 40.9947, 146.9088, 4202,   1417.4,   2.3122,  34.5146,2,  34.5139,2,     48.2,2,   158.72,2,    42.85,2,     0.00,2,     3.02,2,   -999.0,9,   -999.0,9,-999.0000,9,  -999.00,      557
  49UF20101203,KS1009,  2906,  1,      3,  21962,2,20101217,0544, 40.9947, 146.9088, 4202,   1619.5,   2.1686,  34.5470,2,  34.5496,4,     56.2,2,   161.39,2,    42.30,2,     0.00,2,     2.97,2,   -999.0,9,   -999.0,9,-999.0000,9,  -999.00,      553
  49UF20101203,KS1009,  2906,  1,      2,  21961,2,20101217,0544, 40.9947, 146.9088, 4202,   1823.7,   2.0227,  34.5788,2,  34.5790,6,     67.9,6,   162.25,6,    41.74,6,     0.00,6,     2.91,6,   -999.0,9,   -999.0,9,-999.0000,9,  -999.00,      549
  49UF20101203,KS1009,  2906,  1,      1,  21960,2,20101217,0544, 40.9947, 146.9088, 4202,   2026.7,   1.8917,  34.6037,2,  34.6043,2,     81.0,2,   162.17,2,    41.01,2,     0.00,2,     2.85,2,   -999.0,9,   -999.0,9,-999.0000,9,  -999.00,      544