BOTTLE,20190925PRINUNIVRMK
EXPOCODE,SECT_ID,STNNBR,CASTNO,SAMPNO,BTLNBR,BTLNBR_FLAG_W,DATE,TIME,LATITUDE,LONGITUDE,DEPTH,CTDPRS,CTDTMP,CTDSAL,CTDSAL_FLAG_W,SALNTY,SALNTY_FLAG_W,OXYGEN,OXYGEN_FLAG_W,SILCAT,SILCAT_FLAG_W,NITRAT,NITRAT_FLAG_W,NITRIT,NITRIT_FLAG_W,PHSPHT,PHSPHT_FLAG_W,TCARBN,TCARBN_FLAG_W,ALKALI,ALKALI_FLAG_W,PH_TOT,PH_TOT_FLAG_W,PH_TMP,BTL_TIME
,,,,,,,,,,,METERS,DBAR,ITS-90,PSS-78,,PSS-78,,UMOL/KG,,UMOL/KG,,UMOL/KG,,UMOL/KG,,UMOL/KG,,UMOL/KG,,UMOL/KG,,,,DEG C,
  49UF20101203,KS1009,  2881,  1,     99,     99,2,20101208,2238, 28.9988, 147.2780, 6112,      0.0,  25.2298,  34.6485,2,-999.0000,9,    207.6,2,     1.26,2,     0.00,2,     0.00,2,     0.00,2,   -999.0,9,   -999.0,9,-999.0000,9,  -999.00,     2320
  49UF20101203,KS1009,  2881,  1,     33,  21993,2,20101208,2238, 28.9988, 147.2780, 6112,     11.1,  25.2257,  34.6497,2,-999.0000,9,    208.3,2,     1.22,2,     0.00,2,     0.00,2,     0.00,2,   -999.0,9,   -999.0,9,-999.0000,9,  -999.00,     2341
  49UF20101203,KS1009,  2881,  1,     32,  21992,2,20101208,2238, 28.9988, 147.2780, 6112,     27.3,  25.2469,  34.6503,2,-999.0000,9,    207.4,2,     1.21,2,     0.00,2,     0.00,2,     0.00,2,   -999.0,9,   -999.0,9,-999.0000,9,  -999.00,     2340
  49UF20101203,KS1009,  2881,  1,     31,  21991,2,20101208,2238, 28.9988, 147.2780, 6112,     51.9,  25.2423,  34.6498,2,-999.0000,9,    207.6,2,     1.24,2,     0.00,2,     0.00,2,     0.00,2,   -999.0,9,   -999.0,9,-999.0000,9,  -999.00,     2337
  49UF20101203,KS1009,  2881,  1,     30,  21990,2,20101208,2238, 28.9988, 147.2780, 6112,     75.4,  22.0454,  34.7743,2,-999.0000,9,    228.5,2,     1.53,2,     0.00,2,     0.00,2,     0.00,2,   -999.0,9,   -999.0,9,-999.0000,9,  -999.00,     2335
  49UF20101203,KS1009,  2881,  1,     29,  21989,2,20101208,2238, 28.9988, 147.2780, 6112,    102.5,  20.2162,  34.7835,2,-999.0000,9,    214.4,2,     1.77,2,    -0.10,2,     0.10,2,     0.01,2,   -999.0,9,   -999.0,9,-999.0000,9,  -999.00,     2334
  49UF20101203,KS1009,  2881,  1,     28,  21988,2,20101208,2238, 28.9988, 147.2780, 6112,    127.5,  19.1044,  34.7603,2,-999.0000,9,    201.8,2,     2.29,2,     1.32,2,     0.02,2,     0.10,2,   -999.0,9,   -999.0,9,-999.0000,9,  -999.00,     2333
  49UF20101203,KS1009,  2881,  1,     24,  21984,2,20101208,2238, 28.9988, 147.2780, 6112,    149.0,  18.6944,  34.7356,2,-999.0000,9,    202.6,2,     2.61,2,     2.05,2,     0.02,2,     0.15,2,   -999.0,9,   -999.0,9,-999.0000,9,  -999.00,     2331
  49UF20101203,KS1009,  2881,  1,     23,  21983,2,20101208,2238, 28.9988, 147.2780, 6112,    203.5,  17.9175,  34.6915,2,-999.0000,9,    209.4,2,     3.18,2,     3.49,2,     0.01,2,     0.22,2,   -999.0,9,   -999.0,9,-999.0000,9,  -999.00,     2329
  49UF20101203,KS1009,  2881,  1,     22,  21982,3,20101208,2238, 28.9988, 147.2780, 6112,    256.3,  17.3331,  34.6935,2,-999.0000,9,    205.4,2,     4.17,6,     4.73,6,     0.01,6,     0.30,6,   -999.0,9,   -999.0,9,-999.0000,9,  -999.00,     2327
  49UF20101203,KS1009,  2881,  1,     21,  21981,2,20101208,2238, 28.9988, 147.2780, 6112,    307.3,  16.7912,  34.6785,2,-999.0000,9,    197.3,2,     5.52,2,     6.24,2,     0.01,2,     0.40,2,   -999.0,9,   -999.0,9,-999.0000,9,  -999.00,     2325
  49UF20101203,KS1009,  2881,  1,     20,  21980,2,20101208,2238, 28.9988, 147.2780, 6112,    401.7,  14.3509,  34.5317,2,-999.0000,9,    188.8,2,    11.95,2,    10.84,2,     0.00,2,     0.73,2,   -999.0,9,   -999.0,9,-999.0000,9,  -999.00,     2322
  49UF20101203,KS1009,  2881,  1,     19,  21978,2,20101208,2238, 28.9988, 147.2780, 6112,    506.0,  11.4423,  34.3265,2,-999.0000,9,    182.8,2,    21.79,2,    16.16,2,     0.00,2,     1.12,2,   -999.0,9,   -999.0,9,-999.0000,9,  -999.00,     2318
  49UF20101203,KS1009,  2881,  1,     15,  21974,2,20101208,2238, 28.9988, 147.2780, 6112,    610.3,   8.4389,  34.1285,2,-999.0000,9,    163.7,2,    38.46,2,    22.99,2,     0.00,2,     1.64,2,   -999.0,9,   -999.0,9,-999.0000,9,  -999.00,     2315
  49UF20101203,KS1009,  2881,  1,     14,  21973,2,20101208,2238, 28.9988, 147.2780, 6112,    707.4,   6.1400,  34.0448,2,-999.0000,9,    127.5,2,    62.03,2,    30.67,2,     0.00,2,     2.20,2,   -999.0,9,   -999.0,9,-999.0000,9,  -999.00,     2312
  49UF20101203,KS1009,  2881,  1,     13,  21972,2,20101208,2238, 28.9988, 147.2780, 6112,    810.5,   5.0131,  34.1052,2,-999.0000,9,     86.0,2,    83.11,2,    36.05,2,     0.00,2,     2.60,2,   -999.0,9,   -999.0,9,-999.0000,9,  -999.00,     2309
  49UF20101203,KS1009,  2881,  1,     12,  21971,2,20101208,2238, 28.9988, 147.2780, 6112,    908.6,   4.4335,  34.1844,2,-999.0000,9,     60.7,2,    99.46,2,    38.78,2,     0.00,2,     2.81,2,   -999.0,9,   -999.0,9,-999.0000,9,  -999.00,     2306
  49UF20101203,KS1009,  2881,  1,     11,  21970,2,20101208,2238, 28.9988, 147.2780, 6112,   1013.7,   3.8667,  34.2755,2,-999.0000,9,     46.2,2,   114.41,2,    40.87,2,     0.00,2,     2.94,2,   -999.0,9,   -999.0,9,-999.0000,9,  -999.00,     2303
  49UF20101203,KS1009,  2881,  1,     10,  21969,2,20101208,2238, 28.9988, 147.2780, 6112,   1213.2,   3.2703,  34.3860,2,-999.0000,9,     38.6,2,   132.16,2,    42.33,2,     0.00,2,     3.03,2,   -999.0,9,   -999.0,9,-999.0000,9,  -999.00,     2257
  49UF20101203,KS1009,  2881,  1,      6,  21965,2,20101208,2238, 28.9988, 147.2780, 6112,   1415.8,   2.7277,  34.4866,2,-999.0000,9,     46.8,2,   145.23,2,    42.41,2,     0.00,2,     3.01,2,   -999.0,9,   -999.0,9,-999.0000,9,  -999.00,     2252
  49UF20101203,KS1009,  2881,  1,      5,  21964,2,20101208,2238, 28.9988, 147.2780, 6112,   1415.8,   2.7277,  34.4866,2,-999.0000,9,     47.0,2,   144.94,2,    42.39,2,     0.00,2,     3.00,2,   -999.0,9,   -999.0,9,-999.0000,9,  -999.00,     2252
  49UF20101203,KS1009,  2881,  1,      4,  21963,2,20101208,2238, 28.9988, 147.2780, 6112,   1618.3,   2.3990,  34.5350,2,-999.0000,9,     58.8,2,   152.37,2,    41.64,2,     0.00,2,     2.95,2,   -999.0,9,   -999.0,9,-999.0000,9,  -999.00,     2247
  49UF20101203,KS1009,  2881,  1,      3,  21962,2,20101208,2238, 28.9988, 147.2780, 6112,   1618.3,   2.3990,  34.5350,2,-999.0000,9,     57.4,6,   151.78,6,    41.60,6,     0.00,6,     2.97,6,   -999.0,9,   -999.0,9,-999.0000,9,  -999.00,     2247
  49UF20101203,KS1009,  2881,  1,      2,  21961,2,20101208,2238, 28.9988, 147.2780, 6112,   1821.8,   2.1559,  34.5755,2,-999.0000,9,     75.3,2,   153.21,2,    40.91,2,     0.00,2,     2.88,2,   -999.0,9,   -999.0,9,-999.0000,9,  -999.00,     2243
  49UF20101203,KS1009,  2881,  1,      1,  21960,2,20101208,2238, 28.9988, 147.2780, 6112,   2023.3,   1.9495,  34.6022,2,-999.0000,9,     82.4,2,   158.50,2,    40.58,2,     0.00,2,     2.85,2,   -999.0,9,   -999.0,9,-999.0000,9,  -999.00,     2238
  49UF20101203,KS1009,  2883,  1,     99,     99,2,20101210,1500, 29.9903, 147.5148, 6182,      0.0,  23.4799,  34.7703,2,-999.0000,9,    214.2,2,     1.37,2,     0.00,2,     0.00,2,     0.00,2,   -999.0,9,   -999.0,9,-999.0000,9,  -999.00,     1542
  49UF20101203,KS1009,  2883,  1,     33,  21993,2,20101210,1500, 29.9903, 147.5148, 6182,     11.7,  23.4955,  34.7698,2,-999.0000,9,    213.0,2,     1.38,2,     0.00,2,     0.00,2,     0.00,2,   -999.0,9,   -999.0,9,-999.0000,9,  -999.00,     1601
  49UF20101203,KS1009,  2883,  1,     32,  21992,2,20101210,1500, 29.9903, 147.5148, 6182,     26.0,  23.5001,  34.7700,2,-999.0000,9,    213.2,2,     1.36,2,     0.00,2,     0.00,2,     0.00,2,   -999.0,9,   -999.0,9,-999.0000,9,  -999.00,     1559
  49UF20101203,KS1009,  2883,  1,     31,  21991,2,20101210,1500, 29.9903, 147.5148, 6182,     50.4,  23.4816,  34.7620,2,-999.0000,9,    213.5,2,     1.40,2,     0.00,2,     0.00,2,     0.00,2,   -999.0,9,   -999.0,9,-999.0000,9,  -999.00,     1555
  49UF20101203,KS1009,  2883,  1,     30,  21990,2,20101210,1500, 29.9903, 147.5148, 6182,     77.1,  22.5757,  34.7975,2,-999.0000,9,    215.5,3,     1.37,2,     0.00,2,     0.00,2,     0.00,2,   -999.0,9,   -999.0,9,-999.0000,9,  -999.00,     1554
  49UF20101203,KS1009,  2883,  1,     29,  21989,2,20101210,1500, 29.9903, 147.5148, 6182,    100.6,  20.3348,  34.7557,2,-999.0000,9,    217.7,2,     1.86,2,    -0.04,2,     0.11,2,     0.01,2,   -999.0,9,   -999.0,9,-999.0000,9,  -999.00,     1553
  49UF20101203,KS1009,  2883,  1,     28,  21988,2,20101210,1500, 29.9903, 147.5148, 6182,    127.5,  19.4781,  34.7324,2,-999.0000,9,    211.1,2,     2.09,2,     0.73,2,     0.02,2,     0.06,2,   -999.0,9,   -999.0,9,-999.0000,9,  -999.00,     1552
  49UF20101203,KS1009,  2883,  1,     24,  21984,2,20101210,1500, 29.9903, 147.5148, 6182,    151.8,  18.6397,  34.7060,2,-999.0000,9,    208.8,2,     2.63,2,     1.98,2,     0.01,2,     0.13,2,   -999.0,9,   -999.0,9,-999.0000,9,  -999.00,     1551
  49UF20101203,KS1009,  2883,  1,     23,  21983,2,20101210,1500, 29.9903, 147.5148, 6182,    203.5,  17.8601,  34.6966,2,-999.0000,9,    206.5,2,     3.46,2,     3.80,2,     0.01,2,     0.24,2,   -999.0,9,   -999.0,9,-999.0000,9,  -999.00,     1549
  49UF20101203,KS1009,  2883,  1,     22,  21982,3,20101210,1500, 29.9903, 147.5148, 6182,    253.2,  17.3765,  34.6867,2,-999.0000,9,    208.5,2,     4.17,2,     4.54,2,     0.01,2,     0.29,2,   -999.0,9,   -999.0,9,-999.0000,9,  -999.00,     1547
  49UF20101203,KS1009,  2883,  1,     21,  21981,2,20101210,1500, 29.9903, 147.5148, 6182,    305.6,  16.7489,  34.6807,2,-999.0000,9,    193.6,6,     6.23,6,     6.83,6,     0.01,6,     0.44,6,   -999.0,9,   -999.0,9,-999.0000,9,  -999.00,     1545
  49UF20101203,KS1009,  2883,  1,     20,  21980,2,20101210,1500, 29.9903, 147.5148, 6182,    405.5,  14.4908,  34.5475,2,-999.0000,9,    182.8,2,    12.59,2,    11.07,2,     0.00,2,     0.75,2,   -999.0,9,   -999.0,9,-999.0000,9,  -999.00,     1542
  49UF20101203,KS1009,  2883,  1,     19,  21978,2,20101210,1500, 29.9903, 147.5148, 6182,    506.8,  11.2557,  34.3230,2,-999.0000,9,    176.9,2,    23.88,2,    16.78,2,     0.00,2,     1.17,2,   -999.0,9,   -999.0,9,-999.0000,9,  -999.00,     1539
  49UF20101203,KS1009,  2883,  1,     15,  21974,2,20101210,1500, 29.9903, 147.5148, 6182,    607.9,   8.1991,  34.1168,2,-999.0000,9,    162.9,2,    40.45,2,    23.42,2,     0.00,2,     1.67,2,   -999.0,9,   -999.0,9,-999.0000,9,  -999.00,     1536
  49UF20101203,KS1009,  2883,  1,     14,  21973,2,20101210,1500, 29.9903, 147.5148, 6182,    704.1,   5.8508,  34.0261,2,-999.0000,9,    130.7,2,    64.67,2,    30.68,2,     0.00,2,     2.24,2,   -999.0,9,   -999.0,9,-999.0000,9,  -999.00,     1534
  49UF20101203,KS1009,  2883,  1,     13,  21972,2,20101210,1500, 29.9903, 147.5148, 6182,    807.9,   4.8373,  34.1053,2,-999.0000,9,     85.9,2,    86.30,2,    36.34,2,     0.00,2,     2.62,2,   -999.0,9,   -999.0,9,-999.0000,9,  -999.00,     1531
  49UF20101203,KS1009,  2883,  1,     12,  21971,2,20101210,1500, 29.9903, 147.5148, 6182,    911.6,   4.1994,  34.2197,2,-999.0000,9,     55.4,2,   105.48,2,    39.80,2,     0.00,2,     2.85,2,   -999.0,9,   -999.0,9,-999.0000,9,  -999.00,     1528
  49UF20101203,KS1009,  2883,  1,     11,  21970,2,20101210,1500, 29.9903, 147.5148, 6182,   1012.6,   3.7591,  34.2898,2,-999.0000,9,     44.7,2,   118.00,2,    40.84,2,     0.00,2,     2.94,2,   -999.0,9,   -999.0,9,-999.0000,9,  -999.00,     1525
  49UF20101203,KS1009,  2883,  1,     10,  21969,3,20101210,1500, 29.9903, 147.5148, 6182,   1213.4,   3.1063,  34.4164,2,-999.0000,9,     39.5,2,   135.96,2,    42.48,2,     0.00,2,     3.03,2,   -999.0,9,   -999.0,9,-999.0000,9,  -999.00,     1520
  49UF20101203,KS1009,  2883,  1,      6,  21965,2,20101210,1500, 29.9903, 147.5148, 6182,   1415.0,   2.6845,  34.4870,2,-999.0000,9,     45.3,2,   147.19,2,    42.56,2,     0.00,2,     3.01,2,   -999.0,9,   -999.0,9,-999.0000,9,  -999.00,     1515
  49UF20101203,KS1009,  2883,  1,      5,  21964,2,20101210,1500, 29.9903, 147.5148, 6182,   1618.2,   2.3811,  34.5385,2,-999.0000,9,     58.2,2,   152.35,2,    41.83,2,     0.00,2,     2.96,2,   -999.0,9,   -999.0,9,-999.0000,9,  -999.00,     1510
  49UF20101203,KS1009,  2883,  1,      4,  21963,2,20101210,1500, 29.9903, 147.5148, 6182,   1821.5,   2.1478,  34.5719,2,-999.0000,9,     68.8,2,   156.37,2,    41.36,2,     0.00,2,     2.90,2,   -999.0,9,   -999.0,9,-999.0000,9,  -999.00,     1505
  49UF20101203,KS1009,  2883,  1,      3,  21962,2,20101210,1500, 29.9903, 147.5148, 6182,   1821.5,   2.1478,  34.5719,2,-999.0000,9,     68.9,6,   156.65,6,    41.17,6,     0.00,6,     2.91,6,   -999.0,9,   -999.0,9,-999.0000,9,  -999.00,     1505
  49UF20101203,KS1009,  2883,  1,      2,  21961,2,20101210,1500, 29.9903, 147.5148, 6182,   2025.0,   1.9837,  34.5997,2,-999.0000,9,     84.6,2,   156.00,2,    40.08,4,     0.00,2,     2.83,2,   -999.0,9,   -999.0,9,-999.0000,9,  -999.00,     1500
  49UF20101203,KS1009,  2883,  1,      1,  21960,2,20101210,1500, 29.9903, 147.5148, 6182,   2025.0,   1.9837,  34.5997,2,-999.0000,9,     85.3,2,   156.11,2,    40.41,2,     0.00,2,     2.83,2,   -999.0,9,   -999.0,9,-999.0000,9,  -999.00,     1500
  49UF20101203,KS1009,  2885,  1,     99,     99,2,20101210,2355, 30.9878, 147.7058, 6129,      0.0,  22.6503,  34.5545,2,-999.0000,9,    216.1,2,     1.56,2,     0.00,2,     0.00,2,     0.00,2,   -999.0,9,   -999.0,9,-999.0000,9,  -999.00,       50
  49UF20101203,KS1009,  2885,  1,     33,  21993,2,20101210,2355, 30.9878, 147.7058, 6129,     11.8,  22.6523,  34.5542,2,  34.5531,2,    214.9,2,     1.52,2,     0.00,2,     0.00,2,     0.00,2,   -999.0,9,   -999.0,9,-999.0000,9,  -999.00,       56
  49UF20101203,KS1009,  2885,  1,     32,  21992,2,20101210,2355, 30.9878, 147.7058, 6129,     26.5,  22.6472,  34.5548,2,-999.0000,9,    215.5,2,     1.51,2,     0.00,2,     0.00,2,     0.00,2,   -999.0,9,   -999.0,9,-999.0000,9,  -999.00,       54
  49UF20101203,KS1009,  2885,  1,     31,  21991,2,20101210,2355, 30.9878, 147.7058, 6129,     52.3,  22.6573,  34.5546,2,-999.0000,9,    215.4,2,     1.53,2,     0.00,2,     0.00,2,     0.00,2,   -999.0,9,   -999.0,9,-999.0000,9,  -999.00,       50
  49UF20101203,KS1009,  2885,  1,     30,  21990,2,20101210,2355, 30.9878, 147.7058, 6129,     76.3,  21.7032,  34.6218,2,-999.0000,9,    217.2,2,     1.77,2,    -0.03,2,     0.03,2,     0.00,2,   -999.0,9,   -999.0,9,-999.0000,9,  -999.00,       49
  49UF20101203,KS1009,  2885,  1,     29,  21989,3,20101210,2355, 30.9878, 147.7058, 6129,    102.3,  19.7369,  34.7001,2,  34.6997,6,    207.8,2,     2.90,2,     1.74,2,     0.04,2,     0.12,2,   -999.0,9,   -999.0,9,-999.0000,9,  -999.00,       47
  49UF20101203,KS1009,  2885,  1,     28,  21988,3,20101210,2355, 30.9878, 147.7058, 6129,    127.5,  18.8909,  34.7043,2,-999.0000,9,    203.6,2,     3.42,2,     2.95,2,     0.02,2,     0.19,2,   -999.0,9,   -999.0,9,-999.0000,9,  -999.00,       46
  49UF20101203,KS1009,  2885,  1,     24,  21984,2,20101210,2355, 30.9878, 147.7058, 6129,    151.5,  18.3081,  34.6968,2,-999.0000,9,    202.4,2,     3.66,2,     3.49,2,     0.01,2,     0.23,2,   -999.0,9,   -999.0,9,-999.0000,9,  -999.00,       45
  49UF20101203,KS1009,  2885,  1,     23,  21983,3,20101210,2355, 30.9878, 147.7058, 6129,    202.1,  17.1672,  34.6741,2,  34.6734,2,    198.2,2,     5.63,2,     5.77,2,     0.01,2,     0.37,2,   -999.0,9,   -999.0,9,-999.0000,9,  -999.00,       43
  49UF20101203,KS1009,  2885,  1,     22,  21982,2,20101210,2355, 30.9878, 147.7058, 6129,    254.4,  15.6521,  34.6051,2,-999.0000,9,    188.0,2,     9.68,2,     9.07,2,     0.00,2,     0.59,2,   -999.0,9,   -999.0,9,-999.0000,9,  -999.00,       41
  49UF20101203,KS1009,  2885,  1,     21,  21981,2,20101210,2355, 30.9878, 147.7058, 6129,    305.6,  14.4998,  34.5346,2,-999.0000,9,    188.7,2,    12.63,2,    10.72,2,     0.01,2,     0.72,2,   -999.0,9,   -999.0,9,-999.0000,9,  -999.00,       40
  49UF20101203,KS1009,  2885,  1,     20,  21980,2,20101210,2355, 30.9878, 147.7058, 6129,    405.4,  11.7992,  34.3543,2,  34.3535,6,    178.5,6,    23.17,6,    16.14,6,     0.00,6,     1.12,6,   -999.0,9,   -999.0,9,-999.0000,9,  -999.00,       37
  49UF20101203,KS1009,  2885,  1,     19,  21978,2,20101210,2355, 30.9878, 147.7058, 6129,    506.0,   9.0022,  34.1452,2,-999.0000,9,    173.4,2,    35.98,2,    20.93,2,     0.00,2,     1.50,2,   -999.0,9,   -999.0,9,-999.0000,9,  -999.00,       34
  49UF20101203,KS1009,  2885,  1,     15,  21974,2,20101210,2355, 30.9878, 147.7058, 6129,    606.5,   6.2460,  34.0166,2,  34.0186,2,    144.6,2,    58.96,2,    29.02,2,     0.00,2,     2.10,2,   -999.0,9,   -999.0,9,-999.0000,9,  -999.00,       31
  49UF20101203,KS1009,  2885,  1,     14,  21973,2,20101210,2355, 30.9878, 147.7058, 6129,    606.5,   6.2460,  34.0166,2,  34.0188,2,    144.6,2,    59.09,2,    28.94,2,     0.00,2,     2.09,2,   -999.0,9,   -999.0,9,-999.0000,9,  -999.00,       31
  49UF20101203,KS1009,  2885,  1,     13,  21972,2,20101210,2355, 30.9878, 147.7058, 6129,    706.2,   4.8749,  34.0602,2,-999.0000,9,     98.7,2,    82.69,2,    35.23,2,     0.00,2,     2.55,2,   -999.0,9,   -999.0,9,-999.0000,9,  -999.00,       28
  49UF20101203,KS1009,  2885,  1,     12,  21971,2,20101210,2355, 30.9878, 147.7058, 6129,    706.2,   4.8749,  34.0602,2,-999.0000,9,     99.5,2,    82.66,2,    35.30,2,     0.00,2,     2.55,2,   -999.0,9,   -999.0,9,-999.0000,9,  -999.00,       28
  49UF20101203,KS1009,  2885,  1,     11,  21970,2,20101210,2355, 30.9878, 147.7058, 6129,    810.2,   4.3569,  34.1746,2,  34.1738,2,     64.8,2,   100.35,2,    38.86,2,     0.00,2,     2.78,2,   -999.0,9,   -999.0,9,-999.0000,9,  -999.00,       25
  49UF20101203,KS1009,  2885,  1,     10,  21969,2,20101210,2355, 30.9878, 147.7058, 6129,    909.7,   3.8891,  34.2584,2,-999.0000,9,     49.7,2,   114.08,2,    40.70,2,     0.00,2,     2.90,2,   -999.0,9,   -999.0,9,-999.0000,9,  -999.00,       23
  49UF20101203,KS1009,  2885,  1,      6,  21965,2,20101210,2355, 30.9878, 147.7058, 6129,   1011.1,   3.5108,  34.3248,2,  34.3241,2,     41.8,2,   125.93,2,    41.87,2,     0.00,2,     2.98,2,   -999.0,9,   -999.0,9,-999.0000,9,  -999.00,       19
  49UF20101203,KS1009,  2885,  1,      5,  21964,2,20101210,2355, 30.9878, 147.7058, 6129,   1213.2,   2.9480,  34.4183,2,  34.4166,2,     38.4,2,   141.66,2,    42.66,2,     0.00,2,     3.03,2,   -999.0,9,   -999.0,9,-999.0000,9,  -999.00,       14
  49UF20101203,KS1009,  2885,  1,      4,  21963,2,20101210,2355, 30.9878, 147.7058, 6129,   1412.3,   2.5752,  34.4835,2,  34.4829,2,     41.0,2,   151.69,2,    42.80,2,     0.00,2,     3.04,2,   -999.0,9,   -999.0,9,-999.0000,9,  -999.00,        9
  49UF20101203,KS1009,  2885,  1,      3,  21962,2,20101210,2355, 30.9878, 147.7058, 6129,   1615.2,   2.3290,  34.5297,2,  34.5292,2,     48.1,2,   157.35,2,    42.57,2,     0.00,2,     3.00,2,   -999.0,9,   -999.0,9,-999.0000,9,  -999.00,        5
  49UF20101203,KS1009,  2885,  1,      2,  21961,2,20101210,2355, 30.9878, 147.7058, 6129,   1822.5,   2.0978,  34.5716,2,  34.5716,2,     64.9,2,   159.83,2,    41.54,2,     0.00,2,     2.93,2,   -999.0,9,   -999.0,9,-999.0000,9,  -999.00,        0
  49UF20101203,KS1009,  2885,  1,      1,  21960,2,20101210,2355, 30.9878, 147.7058, 6129,   2024.5,   1.9086,  34.6013,2,  34.5999,6,     77.6,6,   162.85,6,    40.96,6,     0.00,6,     2.87,6,   -999.0,9,   -999.0,9,-999.0000,9,  -999.00,     2355