BOTTLE,20190925PRINUNIVRMK
EXPOCODE,SECT_ID,STNNBR,CASTNO,SAMPNO,BTLNBR,BTLNBR_FLAG_W,DATE,TIME,LATITUDE,LONGITUDE,DEPTH,CTDPRS,CTDTMP,CTDSAL,CTDSAL_FLAG_W,SALNTY,SALNTY_FLAG_W,OXYGEN,OXYGEN_FLAG_W,SILCAT,SILCAT_FLAG_W,NITRAT,NITRAT_FLAG_W,NITRIT,NITRIT_FLAG_W,PHSPHT,PHSPHT_FLAG_W,TCARBN,TCARBN_FLAG_W,ALKALI,ALKALI_FLAG_W,PH_TOT,PH_TOT_FLAG_W,PH_TMP,BTL_TIME
,,,,,,,,,,,METERS,DBAR,ITS-90,PSS-78,,PSS-78,,UMOL/KG,,UMOL/KG,,UMOL/KG,,UMOL/KG,,UMOL/KG,,UMOL/KG,,UMOL/KG,,,,DEG C,
  49UF20101203,KS1009,  2900,  1,     99,     99,2,20101216,0448, 42.6705, 145.7278, 2369,      0.0,   5.2135,  33.0432,2,-999.0000,9,    302.8,2,    28.81,2,    15.17,2,     0.21,2,     1.29,2,   -999.0,9,   -999.0,9,-999.0000,9,  -999.00,      534
  49UF20101203,KS1009,  2900,  1,     33,  21993,2,20101216,0448, 42.6705, 145.7278, 2369,     11.3,   5.2206,  33.0434,2,  33.0448,6,    300.8,2,    28.87,2,    15.23,2,     0.21,2,     1.28,2,   -999.0,9,   -999.0,9,-999.0000,9,  -999.00,      546
  49UF20101203,KS1009,  2900,  1,     32,  21992,2,20101216,0448, 42.6705, 145.7278, 2369,     25.6,   5.2211,  33.0431,2,-999.0000,9,    301.3,6,    28.84,6,    15.21,6,     0.21,6,     1.29,6,   -999.0,9,   -999.0,9,-999.0000,9,  -999.00,      545
  49UF20101203,KS1009,  2900,  1,     31,  21991,2,20101216,0448, 42.6705, 145.7278, 2369,     51.1,   5.2129,  33.0415,2,-999.0000,9,    301.0,2,    28.97,2,    15.28,2,     0.21,2,     1.29,2,   -999.0,9,   -999.0,9,-999.0000,9,  -999.00,      540
  49UF20101203,KS1009,  2900,  1,     30,  21990,2,20101216,0448, 42.6705, 145.7278, 2369,     74.7,   5.4591,  33.1344,2,-999.0000,9,    291.5,2,    29.12,2,    14.30,2,     0.23,2,     1.20,2,   -999.0,9,   -999.0,9,-999.0000,9,  -999.00,      539
  49UF20101203,KS1009,  2900,  1,     29,  21989,2,20101216,0448, 42.6705, 145.7278, 2369,    101.2,   3.1170,  33.2174,2,  33.2183,2,    253.8,2,    51.69,2,    25.72,2,     0.01,2,     2.02,2,   -999.0,9,   -999.0,9,-999.0000,9,  -999.00,      538
  49UF20101203,KS1009,  2900,  1,     28,  21988,2,20101216,0448, 42.6705, 145.7278, 2369,    125.8,   2.7060,  33.2698,2,-999.0000,9,    244.0,2,    55.99,2,    27.41,2,     0.01,2,     2.12,2,   -999.0,9,   -999.0,9,-999.0000,9,  -999.00,      537
  49UF20101203,KS1009,  2900,  1,     24,  21984,2,20101216,0448, 42.6705, 145.7278, 2369,    154.3,   2.2749,  33.3036,2,-999.0000,9,    238.0,2,    59.84,2,    28.84,2,     0.01,2,     2.23,2,   -999.0,9,   -999.0,9,-999.0000,9,  -999.00,      536
  49UF20101203,KS1009,  2900,  1,     23,  21983,2,20101216,0448, 42.6705, 145.7278, 2369,    205.0,   2.0447,  33.3941,2,  33.3951,2,    214.6,2,    67.07,2,    31.09,2,     0.01,2,     2.37,2,   -999.0,9,   -999.0,9,-999.0000,9,  -999.00,      534
  49UF20101203,KS1009,  2900,  1,     22,  21982,2,20101216,0448, 42.6705, 145.7278, 2369,    253.0,   2.0868,  33.4725,2,-999.0000,9,    189.2,2,    73.06,2,    32.96,2,     0.00,2,     2.49,2,   -999.0,9,   -999.0,9,-999.0000,9,  -999.00,      532
  49UF20101203,KS1009,  2900,  1,     21,  21981,2,20101216,0448, 42.6705, 145.7278, 2369,    302.6,   2.3279,  33.6053,2,-999.0000,9,    151.5,2,    82.34,2,    35.50,2,     0.01,2,     2.65,2,   -999.0,9,   -999.0,9,-999.0000,9,  -999.00,      530
  49UF20101203,KS1009,  2900,  1,     20,  21980,2,20101216,0448, 42.6705, 145.7278, 2369,    404.0,   2.7490,  33.7938,2,  33.7920,2,     99.1,2,    96.43,2,    39.26,2,     0.00,2,     2.85,2,   -999.0,9,   -999.0,9,-999.0000,9,  -999.00,      527
  49UF20101203,KS1009,  2900,  1,     19,  21978,2,20101216,0448, 42.6705, 145.7278, 2369,    503.8,   3.1143,  33.9785,2,-999.0000,9,     54.0,2,   110.25,2,    42.01,2,     0.00,2,     3.02,2,   -999.0,9,   -999.0,9,-999.0000,9,  -999.00,      525
  49UF20101203,KS1009,  2900,  1,     15,  21974,2,20101216,0448, 42.6705, 145.7278, 2369,    604.6,   3.1907,  34.0827,2,  34.0832,2,     38.4,2,   119.17,2,    42.88,2,     0.01,2,     3.07,2,   -999.0,9,   -999.0,9,-999.0000,9,  -999.00,      522
  49UF20101203,KS1009,  2900,  1,     14,  21973,2,20101216,0448, 42.6705, 145.7278, 2369,    706.4,   3.1684,  34.1691,2,-999.0000,9,     33.4,2,   126.03,6,    43.24,6,     0.00,6,     3.09,6,   -999.0,9,   -999.0,9,-999.0000,9,  -999.00,      520
  49UF20101203,KS1009,  2900,  1,     13,  21972,2,20101216,0448, 42.6705, 145.7278, 2369,    807.0,   3.0049,  34.2467,2,  34.2473,6,     27.3,2,   136.25,2,    43.60,2,     0.00,2,     3.12,2,   -999.0,9,   -999.0,9,-999.0000,9,  -999.00,      517
  49UF20101203,KS1009,  2900,  1,     12,  21971,2,20101216,0448, 42.6705, 145.7278, 2369,    908.8,   2.9041,  34.3209,2,-999.0000,9,     33.7,2,   140.69,2,    42.98,2,     0.00,2,     3.07,2,   -999.0,9,   -999.0,9,-999.0000,9,  -999.00,      515
  49UF20101203,KS1009,  2900,  1,     11,  21970,2,20101216,0448, 42.6705, 145.7278, 2369,   1010.3,   2.7563,  34.3689,2,  34.3670,2,     34.8,2,   145.80,2,    43.01,2,     0.00,2,     3.08,2,   -999.0,9,   -999.0,9,-999.0000,9,  -999.00,      512
  49UF20101203,KS1009,  2900,  1,     10,  21969,2,20101216,0448, 42.6705, 145.7278, 2369,   1213.5,   2.4919,  34.4325,2,  34.4322,2,     37.6,2,   155.20,2,    42.94,2,     0.00,2,     3.06,2,   -999.0,9,   -999.0,9,-999.0000,9,  -999.00,      508
  49UF20101203,KS1009,  2900,  1,      5,  21964,2,20101216,0448, 42.6705, 145.7278, 2369,   1415.7,   2.3377,  34.4911,2,  34.4910,2,     45.5,2,   158.25,2,    42.59,2,     0.00,2,     3.02,2,   -999.0,9,   -999.0,9,-999.0000,9,  -999.00,      503
  49UF20101203,KS1009,  2900,  1,      6,  21965,2,20101216,0448, 42.6705, 145.7278, 2369,   1415.8,   2.3378,  34.4912,2,  34.4905,2,     45.6,2,   158.39,2,    42.55,2,     0.00,2,     3.02,2,   -999.0,9,   -999.0,9,-999.0000,9,  -999.00,      503
  49UF20101203,KS1009,  2900,  1,      3,  21962,2,20101216,0448, 42.6705, 145.7278, 2369,   1617.8,   2.2055,  34.5326,2,  34.5333,2,     52.4,2,   161.15,2,    42.25,2,     0.00,2,     2.99,2,   -999.0,9,   -999.0,9,-999.0000,9,  -999.00,      458
  49UF20101203,KS1009,  2900,  1,      4,  21963,2,20101216,0448, 42.6705, 145.7278, 2369,   1619.5,   2.2059,  34.5327,2,  34.5321,2,     52.3,2,   161.09,2,    42.25,2,     0.00,2,     2.99,2,   -999.0,9,   -999.0,9,-999.0000,9,  -999.00,      458
  49UF20101203,KS1009,  2900,  1,      2,  21961,2,20101216,0448, 42.6705, 145.7278, 2369,   1823.1,   2.0862,  34.5654,2,  34.5661,2,     63.0,2,   162.05,2,    41.46,2,     0.00,2,     2.94,2,   -999.0,9,   -999.0,9,-999.0000,9,  -999.00,      454
  49UF20101203,KS1009,  2900,  1,      1,  21960,2,20101216,0448, 42.6705, 145.7278, 2369,   2026.7,   1.9512,  34.5946,2,  34.5951,2,     76.5,2,   161.57,2,    40.86,2,     0.00,2,     2.88,2,   -999.0,9,   -999.0,9,-999.0000,9,  -999.00,      448
  49UF20101203,KS1009,  2903,  1,     99,     99,2,20101216,1444, 42.0030, 146.1947, 5818,      0.0,   8.2214,  33.1961,2,-999.0000,9,    284.6,2,    17.65,2,    10.07,2,     0.22,2,     0.90,2,   -999.0,9,   -999.0,9,-999.0000,9,  -999.00,     1525
  49UF20101203,KS1009,  2903,  1,     33,  21993,2,20101216,1444, 42.0030, 146.1947, 5818,     11.5,   8.2292,  33.1964,2,-999.0000,9,    284.0,6,    17.76,6,    10.13,6,     0.22,6,     0.91,6,   -999.0,9,   -999.0,9,-999.0000,9,  -999.00,     1541
  49UF20101203,KS1009,  2903,  1,     32,  21992,2,20101216,1444, 42.0030, 146.1947, 5818,     26.3,   8.2413,  33.1988,2,-999.0000,9,    284.9,2,    17.71,2,    10.09,2,     0.22,2,     0.90,2,   -999.0,9,   -999.0,9,-999.0000,9,  -999.00,     1540
  49UF20101203,KS1009,  2903,  1,     31,  21991,2,20101216,1444, 42.0030, 146.1947, 5818,     52.5,   8.2550,  33.1991,2,-999.0000,9,    284.3,2,    17.70,2,    10.14,2,     0.22,2,     0.91,2,   -999.0,9,   -999.0,9,-999.0000,9,  -999.00,     1535
  49UF20101203,KS1009,  2903,  1,     30,  21990,2,20101216,1444, 42.0030, 146.1947, 5818,     76.4,   8.3006,  33.2089,2,-999.0000,9,    282.6,2,    17.90,2,    10.17,2,     0.22,2,     0.91,2,   -999.0,9,   -999.0,9,-999.0000,9,  -999.00,     1534
  49UF20101203,KS1009,  2903,  1,     29,  21989,2,20101216,1444, 42.0030, 146.1947, 5818,    101.8,   4.9719,  33.3526,2,-999.0000,9,    269.2,2,    31.27,2,    20.03,2,     0.05,2,     1.59,2,   -999.0,9,   -999.0,9,-999.0000,9,  -999.00,     1533
  49UF20101203,KS1009,  2903,  1,     28,  21988,2,20101216,1444, 42.0030, 146.1947, 5818,    126.3,   3.4112,  33.3343,2,-999.0000,9,    267.0,2,    39.13,2,    23.47,2,     0.01,2,     1.82,2,   -999.0,9,   -999.0,9,-999.0000,9,  -999.00,     1532
  49UF20101203,KS1009,  2903,  1,     24,  21984,2,20101216,1444, 42.0030, 146.1947, 5818,    152.0,   2.7091,  33.3467,2,-999.0000,9,    254.8,2,    47.13,2,    26.19,2,     0.01,2,     2.00,2,   -999.0,9,   -999.0,9,-999.0000,9,  -999.00,     1531
  49UF20101203,KS1009,  2903,  1,     23,  21983,2,20101216,1444, 42.0030, 146.1947, 5818,    202.0,   2.5044,  33.4812,2,-999.0000,9,    203.1,2,    62.74,2,    31.06,2,     0.00,2,     2.34,2,   -999.0,9,   -999.0,9,-999.0000,9,  -999.00,     1529
  49UF20101203,KS1009,  2903,  1,     22,  21982,2,20101216,1444, 42.0030, 146.1947, 5818,    252.3,   2.5823,  33.5908,2,-999.0000,9,    157.8,2,    76.00,2,    35.34,2,     0.00,2,     2.61,2,   -999.0,9,   -999.0,9,-999.0000,9,  -999.00,     1527
  49UF20101203,KS1009,  2903,  1,     21,  21981,2,20101216,1444, 42.0030, 146.1947, 5818,    303.7,   2.9526,  33.7199,2,-999.0000,9,    123.0,2,    84.14,2,    37.27,2,     0.01,2,     2.73,2,   -999.0,9,   -999.0,9,-999.0000,9,  -999.00,     1525
  49UF20101203,KS1009,  2903,  1,     20,  21980,2,20101216,1444, 42.0030, 146.1947, 5818,    406.0,   3.2988,  33.9247,2,-999.0000,9,     72.5,2,   100.36,2,    40.43,2,     0.01,2,     2.92,2,   -999.0,9,   -999.0,9,-999.0000,9,  -999.00,     1523
  49UF20101203,KS1009,  2903,  1,     19,  21978,2,20101216,1444, 42.0030, 146.1947, 5818,    505.8,   3.4426,  34.0765,2,-999.0000,9,     50.0,2,   112.66,2,    41.47,2,     0.00,2,     2.99,2,   -999.0,9,   -999.0,9,-999.0000,9,  -999.00,     1520
  49UF20101203,KS1009,  2903,  1,     15,  21974,2,20101216,1444, 42.0030, 146.1947, 5818,    606.7,   3.3859,  34.1949,2,-999.0000,9,     40.5,6,   122.67,6,    42.25,6,     0.01,6,     3.02,6,   -999.0,9,   -999.0,9,-999.0000,9,  -999.00,     1518
  49UF20101203,KS1009,  2903,  1,     14,  21973,2,20101216,1444, 42.0030, 146.1947, 5818,    707.6,   3.2930,  34.2777,2,-999.0000,9,     39.4,2,   129.11,2,    42.14,2,     0.00,2,     3.01,2,   -999.0,9,   -999.0,9,-999.0000,9,  -999.00,     1515
  49UF20101203,KS1009,  2903,  1,     13,  21972,2,20101216,1444, 42.0030, 146.1947, 5818,    809.1,   3.0359,  34.3279,2,-999.0000,9,     37.5,2,   138.15,2,    42.42,2,     0.00,2,     3.05,2,   -999.0,9,   -999.0,9,-999.0000,9,  -999.00,     1513
  49UF20101203,KS1009,  2903,  1,     12,  21971,2,20101216,1444, 42.0030, 146.1947, 5818,    909.1,   2.8542,  34.3556,2,-999.0000,9,     35.0,2,   144.35,2,    42.15,2,     0.00,2,     3.06,2,   -999.0,9,   -999.0,9,-999.0000,9,  -999.00,     1510
  49UF20101203,KS1009,  2903,  1,     11,  21970,2,20101216,1444, 42.0030, 146.1947, 5818,   1011.7,   2.7535,  34.4025,2,-999.0000,9,     37.9,2,   147.07,2,    42.54,2,     0.00,2,     3.04,2,   -999.0,9,   -999.0,9,-999.0000,9,  -999.00,     1507
  49UF20101203,KS1009,  2903,  1,     10,  21969,2,20101216,1444, 42.0030, 146.1947, 5818,   1011.7,   2.7535,  34.4025,2,-999.0000,9,     38.6,2,   146.98,2,    42.36,2,     0.00,2,     3.05,2,   -999.0,9,   -999.0,9,-999.0000,9,  -999.00,     1507
  49UF20101203,KS1009,  2903,  1,      6,  21965,2,20101216,1444, 42.0030, 146.1947, 5818,   1212.3,   2.5756,  34.4624,2,-999.0000,9,     41.0,2,   152.02,2,    42.77,2,     0.00,2,     3.04,2,   -999.0,9,   -999.0,9,-999.0000,9,  -999.00,     1503
  49UF20101203,KS1009,  2903,  1,      5,  21964,2,20101216,1444, 42.0030, 146.1947, 5818,   1212.3,   2.5756,  34.4624,2,-999.0000,9,     41.5,2,   152.11,2,    42.54,2,     0.00,2,     3.04,2,   -999.0,9,   -999.0,9,-999.0000,9,  -999.00,     1503
  49UF20101203,KS1009,  2903,  1,      4,  21963,2,20101216,1444, 42.0030, 146.1947, 5818,   1416.9,   2.3709,  34.5046,2,-999.0000,9,     46.7,2,   157.56,2,    42.57,2,     0.00,2,     3.02,2,   -999.0,9,   -999.0,9,-999.0000,9,  -999.00,     1458
  49UF20101203,KS1009,  2903,  1,      3,  21962,2,20101216,1444, 42.0030, 146.1947, 5818,   1621.5,   2.1948,  34.5439,2,-999.0000,9,     55.2,2,   161.25,2,    41.89,2,     0.00,2,     2.98,2,   -999.0,9,   -999.0,9,-999.0000,9,  -999.00,     1453
  49UF20101203,KS1009,  2903,  1,      2,  21961,2,20101216,1444, 42.0030, 146.1947, 5818,   1821.1,   2.0613,  34.5724,2,-999.0000,9,     65.4,2,   161.57,2,    41.67,2,     0.00,2,     2.93,2,   -999.0,9,   -999.0,9,-999.0000,9,  -999.00,     1449
  49UF20101203,KS1009,  2903,  1,      1,  21960,2,20101216,1444, 42.0030, 146.1947, 5818,   2026.0,   1.9289,  34.5975,2,-999.0000,9,     77.1,2,   162.93,2,    40.95,2,     0.00,2,     2.87,2,   -999.0,9,   -999.0,9,-999.0000,9,  -999.00,     1444
  49UF20101203,KS1009,  2904,  1,     99,     99,2,20101216,2128, 41.6855, 146.4450, 6379,      0.0,   9.5724,  33.5811,2,-999.0000,9,    272.1,2,    14.04,2,     8.45,2,     0.24,2,     0.72,2,   -999.0,9,   -999.0,9,-999.0000,9,  -999.00,     2155
  49UF20101203,KS1009,  2904,  1,     33,  21993,2,20101216,2128, 41.6855, 146.4450, 6379,     11.2,   9.5790,  33.5803,2,-999.0000,9,    271.7,2,    14.13,2,     8.41,2,     0.25,2,     0.72,2,   2067.4,2,   2248.0,2,   7.8469,2,    25.00,     2230
  49UF20101203,KS1009,  2904,  1,     32,  21992,2,20101216,2128, 41.6855, 146.4450, 6379,     25.8,   9.5784,  33.5826,2,-999.0000,9,    271.7,2,    14.08,2,     8.47,2,     0.25,2,     0.73,2,   2068.5,2,   2245.9,2,   7.8411,2,    25.00,     2229
  49UF20101203,KS1009,  2904,  1,     31,  21991,2,20101216,2128, 41.6855, 146.4450, 6379,     52.6,   9.6253,  33.6025,2,-999.0000,9,    270.8,2,    13.92,2,     8.44,2,     0.24,2,     0.71,2,   2065.9,2,   2245.2,2,   7.8364,2,    25.00,     2224
  49UF20101203,KS1009,  2904,  1,     30,  21990,2,20101216,2128, 41.6855, 146.4450, 6379,     77.4,   9.3550,  33.6961,2,-999.0000,9,    254.5,2,    17.38,2,    11.20,2,     0.18,2,     0.88,2,   2088.5,2,   2251.5,2,   7.7817,2,    25.00,     2223
  49UF20101203,KS1009,  2904,  1,     29,  21989,2,20101216,2128, 41.6855, 146.4450, 6379,    102.0,   4.7176,  33.3750,2,-999.0000,9,    251.0,2,    38.43,2,    22.26,2,     0.01,2,     1.75,2,   2152.0,2,   2249.3,2,   7.6411,2,    25.00,     2222
  49UF20101203,KS1009,  2904,  1,     28,  21988,2,20101216,2128, 41.6855, 146.4450, 6379,    127.5,   3.4339,  33.3566,2,-999.0000,9,    255.2,2,    42.80,2,    24.34,2,     0.01,2,     1.88,2,   2166.1,2,   2252.7,2,   7.5990,2,    25.00,     2220
  49UF20101203,KS1009,  2904,  1,     24,  21984,2,20101216,2128, 41.6855, 146.4450, 6379,    151.8,   2.6957,  33.3293,2,-999.0000,9,    253.2,2,    47.47,2,    25.97,2,     0.01,2,     2.00,2,   2178.6,2,   2254.1,2,   7.5375,2,    25.00,     2219
  49UF20101203,KS1009,  2904,  1,     23,  21983,2,20101216,2128, 41.6855, 146.4450, 6379,    202.9,   2.3606,  33.3745,2,-999.0000,9,    236.6,2,    54.85,2,    28.05,2,     0.01,2,     2.14,2,   2197.1,2,   2259.7,2,   7.5335,2,    25.00,     2217
  49UF20101203,KS1009,  2904,  1,     22,  21982,2,20101216,2128, 41.6855, 146.4450, 6379,    254.2,   2.2871,  33.4529,2,-999.0000,9,    212.7,2,    62.09,2,    30.45,2,     0.01,2,     2.30,2,   2217.9,2,   2266.6,2,   7.4904,2,    25.00,     2215
  49UF20101203,KS1009,  2904,  1,     21,  21981,2,20101216,2128, 41.6855, 146.4450, 6379,    304.9,   2.4214,  33.5409,2,-999.0000,9,    184.8,2,    69.64,2,    32.80,2,     0.01,2,     2.45,2,   2235.5,2,   2273.6,2,   7.4426,2,    25.00,     2213
  49UF20101203,KS1009,  2904,  1,     20,  21980,2,20101216,2128, 41.6855, 146.4450, 6379,    406.2,   2.9155,  33.7512,2,-999.0000,9,    117.2,2,    87.12,2,    37.96,2,     0.01,2,     2.75,2,   2285.7,2,   2293.5,2,   7.3587,2,    25.00,     2210
  49UF20101203,KS1009,  2904,  1,     19,  21978,2,20101216,2128, 41.6855, 146.4450, 6379,    506.4,   3.1191,  33.9009,2,-999.0000,9,     75.2,6,   101.29,6,    40.90,6,     0.00,6,     2.94,6,   2318.3,2,   2309.1,2,   7.3115,2,    25.00,     2207
  49UF20101203,KS1009,  2904,  1,     15,  21974,2,20101216,2128, 41.6855, 146.4450, 6379,    608.5,   3.3207,  34.0384,2,-999.0000,9,     49.4,2,   111.87,2,    42.67,2,     0.00,2,     3.03,2,   2339.3,6,   2321.2,6,   7.2903,6,    25.00,     2204
  49UF20101203,KS1009,  2904,  1,     14,  21973,2,20101216,2128, 41.6855, 146.4450, 6379,    708.3,   3.4933,  34.1717,2,-999.0000,9,     44.1,2,   118.70,2,    42.14,2,     0.00,2,     3.00,2,   2343.7,2,   2338.4,2,   7.3148,2,    25.00,     2201
  49UF20101203,KS1009,  2904,  1,     13,  21972,2,20101216,2128, 41.6855, 146.4450, 6379,    808.9,   3.2524,  34.2487,2,-999.0000,9,     37.4,2,   129.08,2,    42.70,2,     0.00,2,     3.04,2,   2358.5,2,   2351.6,2,   7.3158,2,    25.00,     2158
  49UF20101203,KS1009,  2904,  1,     12,  21971,2,20101216,2128, 41.6855, 146.4450, 6379,    808.9,   3.2524,  34.2487,2,-999.0000,9,     37.0,2,   129.36,2,    42.81,2,     0.00,2,     3.04,2,   2358.5,2,   2353.1,2,   7.3140,2,    25.00,     2158
  49UF20101203,KS1009,  2904,  1,     11,  21970,2,20101216,2128, 41.6855, 146.4450, 6379,    910.3,   3.0741,  34.3039,2,-999.0000,9,     36.1,2,   135.74,2,    42.78,2,     0.00,2,     3.05,2,   2364.4,2,   2364.9,2,   7.3215,2,    25.00,     2155
  49UF20101203,KS1009,  2904,  1,     10,  21969,2,20101216,2128, 41.6855, 146.4450, 6379,    910.3,   3.0741,  34.3039,2,-999.0000,9,     36.2,2,   135.93,2,    43.04,2,     0.00,2,     3.05,2,   2365.5,2,   2361.6,2,   7.3272,2,    25.00,     2155
  49UF20101203,KS1009,  2904,  1,      6,  21965,2,20101216,2128, 41.6855, 146.4450, 6379,   1012.3,   2.8256,  34.3445,2,-999.0000,9,     33.7,2,   144.90,2,    43.49,2,     0.00,2,     3.07,2,   2375.9,2,   2369.8,2,   7.3141,2,    25.00,     2152
  49UF20101203,KS1009,  2904,  1,      5,  21964,2,20101216,2128, 41.6855, 146.4450, 6379,   1213.4,   2.6353,  34.4307,2,-999.0000,9,     39.0,2,   151.19,2,    42.87,2,     0.00,2,     3.06,2,   2380.0,2,   2383.8,2,   7.3452,2,    25.00,     2147
  49UF20101203,KS1009,  2904,  1,      4,  21963,2,20101216,2128, 41.6855, 146.4450, 6379,   1417.4,   2.4448,  34.4925,2,-999.0000,9,     44.4,2,   156.01,2,    43.12,2,     0.00,2,     3.03,2,   2385.7,6,   2394.5,6,   7.3639,6,    25.00,     2142
  49UF20101203,KS1009,  2904,  1,      3,  21962,2,20101216,2128, 41.6855, 146.4450, 6379,   1618.9,   2.2423,  34.5358,2,-999.0000,9,     52.6,2,   160.19,2,    42.60,2,     0.00,2,     2.99,2,   2385.3,2,   2399.3,2,   7.3860,2,    25.00,     2137
  49UF20101203,KS1009,  2904,  1,      2,  21961,2,20101216,2128, 41.6855, 146.4450, 6379,   1822.7,   2.1007,  34.5662,2,-999.0000,9,     62.1,2,   161.61,2,    42.17,2,     0.00,2,     2.95,2,   2380.6,2,   2407.9,2,   7.4127,2,    25.00,     2133
  49UF20101203,KS1009,  2904,  1,      1,  21960,2,20101216,2128, 41.6855, 146.4450, 6379,   2025.6,   1.9618,  34.5927,2,-999.0000,9,     74.9,6,   162.28,6,    41.35,6,     0.00,6,     2.89,6,   2377.5,2,   2407.6,2,   7.4321,2,    25.00,     2128