BOTTLE,20190925PRINUNIVRMK
EXPOCODE,SECT_ID,STNNBR,CASTNO,SAMPNO,BTLNBR,BTLNBR_FLAG_W,DATE,TIME,LATITUDE,LONGITUDE,DEPTH,CTDPRS,CTDTMP,CTDSAL,CTDSAL_FLAG_W,SALNTY,SALNTY_FLAG_W,OXYGEN,OXYGEN_FLAG_W,SILCAT,SILCAT_FLAG_W,NITRAT,NITRAT_FLAG_W,NITRIT,NITRIT_FLAG_W,PHSPHT,PHSPHT_FLAG_W,TCARBN,TCARBN_FLAG_W,ALKALI,ALKALI_FLAG_W,PH_TOT,PH_TOT_FLAG_W,PH_TMP,BTL_TIME
,,,,,,,,,,,METERS,DBAR,ITS-90,PSS-78,,PSS-78,,UMOL/KG,,UMOL/KG,,UMOL/KG,,UMOL/KG,,UMOL/KG,,UMOL/KG,,UMOL/KG,,,,DEG C,
  49UF20101109,KS1008,  2851,  1,     99,     99,2,20101115,1950, 39.9763, 154.0238, 5562,      0.0,  14.1011,  33.6581,2,-999.0000,9,    255.0,2,     7.17,2,     3.74,2,     0.13,2,     0.39,4,   -999.0,9,   -999.0,9,-999.0000,9,  -999.00,     2035
  49UF20101109,KS1008,  2851,  1,     33,  21993,2,20101115,1950, 39.9763, 154.0238, 5562,     12.1,  14.1024,  33.6579,2,-999.0000,9,    253.2,6,     7.03,6,     3.71,6,     0.13,6,     0.39,4,   -999.0,9,   -999.0,9,-999.0000,9,  -999.00,     2057
  49UF20101109,KS1008,  2851,  1,     32,  21992,2,20101115,1950, 39.9763, 154.0238, 5562,     26.2,  14.1292,  33.6617,2,-999.0000,9,    254.2,2,     7.01,2,     3.61,2,     0.14,2,     0.39,4,   -999.0,9,   -999.0,9,-999.0000,9,  -999.00,     2056
  49UF20101109,KS1008,  2851,  1,     31,  21991,2,20101115,1950, 39.9763, 154.0238, 5562,     52.2,  14.1789,  33.6779,2,-999.0000,9,    252.0,2,     6.85,2,     3.63,2,     0.14,2,     0.39,4,   -999.0,9,   -999.0,9,-999.0000,9,  -999.00,     2054
  49UF20101109,KS1008,  2851,  1,     30,  21990,2,20101115,1950, 39.9763, 154.0238, 5562,     76.7,  11.5766,  33.8883,2,-999.0000,9,    241.3,2,    14.45,2,    10.18,2,     0.10,2,     0.80,4,   -999.0,9,   -999.0,9,-999.0000,9,  -999.00,     2052
  49UF20101109,KS1008,  2851,  1,     29,  21989,2,20101115,1950, 39.9763, 154.0238, 5562,    101.7,   7.8564,  33.8528,2,-999.0000,9,    239.8,2,    26.48,2,    17.26,2,     0.01,2,     1.29,4,   -999.0,9,   -999.0,9,-999.0000,9,  -999.00,     2048
  49UF20101109,KS1008,  2851,  1,     28,  21988,2,20101115,1950, 39.9763, 154.0238, 5562,    127.2,   6.9618,  33.7899,2,-999.0000,9,    245.5,2,    29.63,2,    18.41,2,     0.01,2,     1.38,4,   -999.0,9,   -999.0,9,-999.0000,9,  -999.00,     2046
  49UF20101109,KS1008,  2851,  1,     24,  21984,2,20101115,1950, 39.9763, 154.0238, 5562,    152.8,   6.2332,  33.7354,2,-999.0000,9,    266.6,2,    28.92,2,    17.92,2,     0.00,2,     1.36,4,   -999.0,9,   -999.0,9,-999.0000,9,  -999.00,     2045
  49UF20101109,KS1008,  2851,  1,     23,  21983,2,20101115,1950, 39.9763, 154.0238, 5562,    204.1,   5.5412,  33.7809,2,-999.0000,9,    199.6,2,    46.81,2,    25.20,2,     0.00,2,     1.87,4,   -999.0,9,   -999.0,9,-999.0000,9,  -999.00,     2042
  49UF20101109,KS1008,  2851,  1,     22,  21982,2,20101115,1950, 39.9763, 154.0238, 5562,    254.1,   4.6733,  33.7776,2,-999.0000,9,    170.9,2,    60.20,2,    29.65,2,     0.00,2,     2.18,4,   -999.0,9,   -999.0,9,-999.0000,9,  -999.00,     2040
  49UF20101109,KS1008,  2851,  1,     21,  21981,2,20101115,1950, 39.9763, 154.0238, 5562,    305.1,   4.4071,  33.8481,2,-999.0000,9,    138.7,2,    71.49,2,    33.15,2,     0.00,2,     2.41,4,   -999.0,9,   -999.0,9,-999.0000,9,  -999.00,     2037
  49UF20101109,KS1008,  2851,  1,     20,  21980,2,20101115,1950, 39.9763, 154.0238, 5562,    406.1,   4.0012,  33.9223,2,-999.0000,9,    101.4,2,    86.02,2,    37.07,2,     0.00,2,     2.67,4,   -999.0,9,   -999.0,9,-999.0000,9,  -999.00,     2033
  49UF20101109,KS1008,  2851,  1,     19,  21978,2,20101115,1950, 39.9763, 154.0238, 5562,    506.9,   4.0316,  34.0940,2,-999.0000,9,     66.9,6,   100.82,6,    39.22,6,     0.00,6,     2.82,4,   -999.0,9,   -999.0,9,-999.0000,9,  -999.00,     2030
  49UF20101109,KS1008,  2851,  1,     15,  21974,2,20101115,1950, 39.9763, 154.0238, 5562,    605.1,   3.7394,  34.1679,2,-999.0000,9,     50.7,2,   112.77,2,    40.94,2,     0.00,2,     2.92,4,   -999.0,9,   -999.0,9,-999.0000,9,  -999.00,     2026
  49UF20101109,KS1008,  2851,  1,     14,  21973,2,20101115,1950, 39.9763, 154.0238, 5562,    708.7,   3.4393,  34.2445,2,-999.0000,9,     41.4,2,   124.32,2,    41.81,2,     0.00,2,     2.98,4,   -999.0,9,   -999.0,9,-999.0000,9,  -999.00,     2022
  49UF20101109,KS1008,  2851,  1,     13,  21972,2,20101115,1950, 39.9763, 154.0238, 5562,    809.3,   3.2129,  34.3041,2,-999.0000,9,     38.9,2,   131.28,2,    42.07,2,     0.00,2,     3.00,4,   -999.0,9,   -999.0,9,-999.0000,9,  -999.00,     2019
  49UF20101109,KS1008,  2851,  1,     12,  21971,2,20101115,1950, 39.9763, 154.0238, 5562,    809.3,   3.2129,  34.3041,2,-999.0000,9,     38.9,2,   131.47,2,    42.18,2,     0.00,2,     3.00,4,   -999.0,9,   -999.0,9,-999.0000,9,  -999.00,     2019
  49UF20101109,KS1008,  2851,  1,     11,  21970,2,20101115,1950, 39.9763, 154.0238, 5562,    911.2,   3.0852,  34.3517,2,-999.0000,9,     38.9,2,   136.83,2,    42.31,2,     0.00,2,     3.01,4,   -999.0,9,   -999.0,9,-999.0000,9,  -999.00,     2016
  49UF20101109,KS1008,  2851,  1,     10,  21969,2,20101115,1950, 39.9763, 154.0238, 5562,    911.2,   3.0852,  34.3517,2,-999.0000,9,     38.7,2,   136.59,2,    42.01,2,     0.00,2,     3.01,4,   -999.0,9,   -999.0,9,-999.0000,9,  -999.00,     2016
  49UF20101109,KS1008,  2851,  1,      6,  21965,2,20101115,1950, 39.9763, 154.0238, 5562,   1012.7,   2.9141,  34.3957,2,-999.0000,9,     38.2,2,   142.37,2,    42.61,2,     0.00,2,     3.02,4,   -999.0,9,   -999.0,9,-999.0000,9,  -999.00,     2012
  49UF20101109,KS1008,  2851,  1,      5,  21964,2,20101115,1950, 39.9763, 154.0238, 5562,   1215.0,   2.6071,  34.4550,2,-999.0000,9,     39.2,2,   151.51,2,    42.60,2,     0.00,2,     3.03,4,   -999.0,9,   -999.0,9,-999.0000,9,  -999.00,     2007
  49UF20101109,KS1008,  2851,  1,      4,  21963,2,20101115,1950, 39.9763, 154.0238, 5562,   1418.0,   2.3707,  34.5031,2,-999.0000,9,     44.7,2,   158.10,2,    42.65,2,     0.00,2,     3.01,4,   -999.0,9,   -999.0,9,-999.0000,9,  -999.00,     2002
  49UF20101109,KS1008,  2851,  1,      3,  21962,2,20101115,1950, 39.9763, 154.0238, 5562,   1621.6,   2.1979,  34.5464,2,-999.0000,9,     54.4,2,   160.71,2,    42.16,2,     0.00,2,     2.96,4,   -999.0,9,   -999.0,9,-999.0000,9,  -999.00,     1958
  49UF20101109,KS1008,  2851,  1,      2,  21961,2,20101115,1950, 39.9763, 154.0238, 5562,   1824.0,   2.0403,  34.5758,2,-999.0000,9,     65.0,2,   162.72,2,    41.52,2,     0.00,2,     2.91,4,   -999.0,9,   -999.0,9,-999.0000,9,  -999.00,     1953
  49UF20101109,KS1008,  2851,  1,      1,  21960,2,20101115,1950, 39.9763, 154.0238, 5562,   2027.7,   1.9156,  34.5980,2,-999.0000,9,     76.2,2,   163.34,2,    40.83,2,     0.00,2,     2.86,4,   -999.0,9,   -999.0,9,-999.0000,9,  -999.00,     1950
  49UF20101109,KS1008,  2852,  1,     99,     99,2,20101116,0144, 40.0027, 155.0140, 5553,      0.0,  14.0737,  33.5791,2,-999.0000,9,    256.5,2,     7.30,2,     3.75,2,     0.14,2,     0.39,2,   -999.0,9,   -999.0,9,-999.0000,9,  -999.00,      230
  49UF20101109,KS1008,  2852,  1,     33,  21993,2,20101116,0144, 40.0027, 155.0140, 5553,     12.1,  14.0806,  33.5802,2,  33.5794,2,    254.7,2,     7.29,2,     3.75,2,     0.14,2,     0.39,2,   2011.9,2,   2242.9,2,   7.9215,2,    25.00,      240
  49UF20101109,KS1008,  2852,  1,     32,  21992,2,20101116,0144, 40.0027, 155.0140, 5553,     26.7,  14.0913,  33.5807,2,-999.0000,9,    254.5,2,     7.31,6,     3.78,6,     0.14,6,     0.40,6,   2017.8,2,   2240.4,2,   7.9233,2,    25.00,      239
  49UF20101109,KS1008,  2852,  1,     31,  21991,2,20101116,0144, 40.0027, 155.0140, 5553,     49.4,  14.0882,  33.5811,2,-999.0000,9,    254.3,3,     7.29,2,     3.74,2,     0.14,2,     0.39,2,   2021.1,2,   2240.3,2,   7.9367,2,    25.00,      235
  49UF20101109,KS1008,  2852,  1,     30,  21990,2,20101116,0144, 40.0027, 155.0140, 5553,     76.4,  13.2608,  33.7868,2,-999.0000,9,    241.1,3,    12.12,2,     8.45,2,     0.18,2,     0.69,2,   2056.7,2,   2255.1,2,   7.8596,2,    25.00,      234
  49UF20101109,KS1008,  2852,  1,     29,  21989,2,20101116,0144, 40.0027, 155.0140, 5553,     99.0,   7.8310,  33.8023,2,  33.8049,2,    236.1,2,    25.76,2,    17.54,2,     0.02,2,     1.30,2,   2117.0,2,   2258.9,2,   7.7149,2,    25.00,      233
  49UF20101109,KS1008,  2852,  1,     28,  21988,2,20101116,0144, 40.0027, 155.0140, 5553,    125.4,   7.1401,  33.8131,2,-999.0000,9,    240.0,2,    29.87,2,    18.69,2,     0.02,2,     1.40,2,   2129.7,2,   2265.9,2,   7.6928,2,    25.00,      232
  49UF20101109,KS1008,  2852,  1,     24,  21984,2,20101116,0144, 40.0027, 155.0140, 5553,    151.8,   6.4953,  33.7516,2,-999.0000,9,    247.2,2,    31.25,2,    19.31,2,     0.01,2,     1.44,2,   2140.1,2,   2261.2,2,   7.6804,2,    25.00,      231
  49UF20101109,KS1008,  2852,  1,     23,  21983,2,20101116,0144, 40.0027, 155.0140, 5553,    203.5,   6.2739,  33.8482,2,  33.8529,2,    198.0,2,    43.42,2,    23.99,2,     0.01,2,     1.77,2,   2180.7,2,   2271.1,2,   7.6008,2,    25.00,      229
  49UF20101109,KS1008,  2852,  1,     22,  21982,2,20101116,0144, 40.0027, 155.0140, 5553,    253.5,   4.9830,  33.7825,2,-999.0000,9,    180.1,2,    55.14,2,    28.18,2,     0.01,2,     2.08,2,   2214.6,2,   2279.4,2,   7.5283,2,    25.00,      227
  49UF20101109,KS1008,  2852,  1,     21,  21981,2,20101116,0144, 40.0027, 155.0140, 5553,    304.6,   4.4533,  33.8244,2,-999.0000,9,    147.2,2,    67.39,2,    31.90,2,     0.01,2,     2.33,2,   2235.8,2,   2285.0,2,   7.4734,2,    25.00,      225
  49UF20101109,KS1008,  2852,  1,     20,  21980,2,20101116,0144, 40.0027, 155.0140, 5553,    404.5,   3.9865,  33.9320,2,  33.9330,2,     95.8,2,    86.90,2,    37.10,2,     0.00,2,     2.69,2,   2287.7,2,   2301.9,2,   7.3723,2,    25.00,      223
  49UF20101109,KS1008,  2852,  1,     19,  21978,2,20101116,0144, 40.0027, 155.0140, 5553,    503.5,   3.7866,  34.0657,2,-999.0000,9,     59.8,2,   103.57,2,    40.04,2,     0.01,2,     2.88,2,   2327.2,6,   2323.6,6,   7.3367,6,    25.00,      220
  49UF20101109,KS1008,  2852,  1,     15,  21974,2,20101116,0144, 40.0027, 155.0140, 5553,    606.3,   3.6179,  34.1637,2,  34.1682,2,     46.1,6,   114.91,6,    41.31,6,     0.00,6,     2.95,6,   2344.9,2,   2338.2,2,   7.3238,2,    25.00,      217
  49UF20101109,KS1008,  2852,  1,     14,  21973,3,20101116,0144, 40.0027, 155.0140, 5553,    705.6,   3.4605,  34.2531,2,-999.0000,9,     41.6,2,   123.00,2,    41.29,2,     0.01,2,     2.97,2,   2353.5,6,   2351.1,6,   7.3362,6,    25.00,      215
  49UF20101109,KS1008,  2852,  1,     13,  21972,2,20101116,0144, 40.0027, 155.0140, 5553,    812.4,   3.2548,  34.3074,2,  34.3071,2,     39.5,2,   130.59,2,    41.70,2,     0.01,2,     3.00,2,   2366.7,2,   2361.6,2,   7.3691,2,    25.00,      212
  49UF20101109,KS1008,  2852,  1,     12,  21971,2,20101116,0144, 40.0027, 155.0140, 5553,    907.8,   3.0693,  34.3578,2,-999.0000,9,     38.5,2,   136.66,2,    41.97,2,     0.00,2,     3.01,2,   2371.4,2,   2368.6,2,   7.3443,2,    25.00,      210
  49UF20101109,KS1008,  2852,  1,     11,  21970,2,20101116,0144, 40.0027, 155.0140, 5553,   1012.2,   2.8426,  34.3921,2,-999.0000,9,     37.7,2,   143.22,2,    42.26,2,     0.00,2,     3.02,2,   2372.6,2,   2377.7,2,   7.3350,2,    25.00,      207
  49UF20101109,KS1008,  2852,  1,     10,  21969,3,20101116,0144, 40.0027, 155.0140, 5553,   1012.2,   2.8426,  34.3921,2,  34.3925,2,     38.0,2,   143.60,2,    42.07,2,     0.01,2,     3.03,2,   2376.2,2,   2372.5,2,   7.4008,4,    25.00,      206
  49UF20101109,KS1008,  2852,  1,      6,  21965,2,20101116,0144, 40.0027, 155.0140, 5553,   1216.2,   2.5917,  34.4580,2,-999.0000,9,     38.8,2,   151.36,2,    42.30,2,     0.00,2,     3.02,2,   2388.4,2,   2388.4,2,   7.3506,2,    25.00,      202
  49UF20101109,KS1008,  2852,  1,      5,  21964,2,20101116,0144, 40.0027, 155.0140, 5553,   1216.2,   2.5917,  34.4580,2,  34.4576,2,     38.9,2,   151.09,2,    42.43,2,     0.00,2,     3.03,2,   2389.1,2,   2386.4,2,   7.3461,2,    25.00,      202
  49UF20101109,KS1008,  2852,  1,      4,  21963,2,20101116,0144, 40.0027, 155.0140, 5553,   1415.7,   2.3869,  34.5049,2,  34.5063,6,     44.2,2,   156.52,2,    42.29,2,     0.00,2,     3.01,2,   2391.4,2,   2396.0,2,   7.4124,4,    25.00,      157
  49UF20101109,KS1008,  2852,  1,      3,  21962,2,20101116,0144, 40.0027, 155.0140, 5553,   1621.8,   2.2033,  34.5428,2,  34.5442,6,     53.0,2,   160.38,2,    41.90,2,     0.01,2,     2.97,2,   2383.1,2,   2404.5,2,   7.3761,2,    25.00,      153
  49UF20101109,KS1008,  2852,  1,      2,  21961,2,20101116,0144, 40.0027, 155.0140, 5553,   1823.6,   2.0318,  34.5753,2,  34.5744,2,     64.4,2,   162.51,2,    41.21,2,     0.01,2,     2.92,2,   2383.6,2,   2406.5,2,   7.3997,2,    25.00,      148
  49UF20101109,KS1008,  2852,  1,      1,  21960,2,20101116,0144, 40.0027, 155.0140, 5553,   2026.2,   1.8920,  34.6014,2,  34.5997,2,     77.2,2,   163.12,2,    40.44,2,     0.00,2,     2.85,2,   2381.2,2,   2410.3,2,   7.4249,2,    25.00,      144
  49UF20101109,KS1008,  2853,  1,     99,     99,2,20101116,2312, 40.0015, 156.0097, 5497,      0.0,  14.8427,  33.8322,2,-999.0000,9,    251.2,2,     5.24,2,     2.40,2,     0.12,2,     0.29,2,   -999.0,9,   -999.0,9,-999.0000,9,  -999.00,     2350
  49UF20101109,KS1008,  2853,  1,     33,  21993,2,20101116,2312, 40.0015, 156.0097, 5497,     11.6,  14.8467,  33.8322,2,-999.0000,9,    249.4,2,     5.23,2,     2.47,2,     0.11,2,     0.29,2,   -999.0,9,   -999.0,9,-999.0000,9,  -999.00,        6
  49UF20101109,KS1008,  2853,  1,     32,  21992,2,20101116,2312, 40.0015, 156.0097, 5497,     26.3,  14.8526,  33.8325,2,-999.0000,9,    249.2,2,     5.17,2,     2.48,2,     0.11,2,     0.29,2,   -999.0,9,   -999.0,9,-999.0000,9,  -999.00,        5
  49UF20101109,KS1008,  2853,  1,     31,  21991,3,20101116,2312, 40.0015, 156.0097, 5497,     53.9,  14.8473,  33.8243,2,-999.0000,9,    249.1,6,     5.47,6,     2.69,6,     0.12,6,     0.31,6,   -999.0,9,   -999.0,9,-999.0000,9,  -999.00,        3
  49UF20101109,KS1008,  2853,  1,     30,  21990,2,20101116,2312, 40.0015, 156.0097, 5497,     76.9,   9.4426,  33.9460,2,-999.0000,9,    232.2,2,    19.10,2,    14.23,2,     0.04,2,     1.06,2,   -999.0,9,   -999.0,9,-999.0000,9,  -999.00,        2
  49UF20101109,KS1008,  2853,  1,     29,  21989,2,20101116,2312, 40.0015, 156.0097, 5497,    102.2,   8.3208,  33.9292,2,-999.0000,9,    226.9,2,    26.87,2,    17.36,2,     0.01,2,     1.27,2,   -999.0,9,   -999.0,9,-999.0000,9,  -999.00,        1
  49UF20101109,KS1008,  2853,  1,     28,  21988,2,20101116,2312, 40.0015, 156.0097, 5497,    127.8,   7.5324,  33.8681,2,-999.0000,9,    231.2,2,    30.57,2,    18.77,2,     0.01,2,     1.38,2,   -999.0,9,   -999.0,9,-999.0000,9,  -999.00,        0
  49UF20101109,KS1008,  2853,  1,     24,  21984,2,20101116,2312, 40.0015, 156.0097, 5497,    151.4,   6.7315,  33.8063,2,-999.0000,9,    229.9,2,    33.69,2,    19.98,2,     0.01,2,     1.49,2,   -999.0,9,   -999.0,9,-999.0000,9,  -999.00,     2357
  49UF20101109,KS1008,  2853,  1,     23,  21983,2,20101116,2312, 40.0015, 156.0097, 5497,    201.3,   6.0352,  33.8098,2,-999.0000,9,    204.8,2,    43.12,2,    23.64,2,     0.00,2,     1.75,2,   -999.0,9,   -999.0,9,-999.0000,9,  -999.00,     2355
  49UF20101109,KS1008,  2853,  1,     22,  21982,2,20101116,2312, 40.0015, 156.0097, 5497,    250.8,   5.3007,  33.8182,2,-999.0000,9,    176.0,2,    54.68,2,    27.57,2,     0.00,2,     2.03,2,   -999.0,9,   -999.0,9,-999.0000,9,  -999.00,     2354
  49UF20101109,KS1008,  2853,  1,     21,  21981,2,20101116,2312, 40.0015, 156.0097, 5497,    303.6,   4.8604,  33.8741,2,-999.0000,9,    144.2,2,    66.38,2,    31.26,2,     0.00,2,     2.29,2,   -999.0,9,   -999.0,9,-999.0000,9,  -999.00,     2352
  49UF20101109,KS1008,  2853,  1,     20,  21980,2,20101116,2312, 40.0015, 156.0097, 5497,    402.9,   4.3298,  33.9754,2,-999.0000,9,     99.0,2,    84.66,2,    36.02,2,     0.00,2,     2.59,2,   -999.0,9,   -999.0,9,-999.0000,9,  -999.00,     2349
  49UF20101109,KS1008,  2853,  1,     19,  21978,2,20101116,2312, 40.0015, 156.0097, 5497,    507.4,   4.0812,  34.0754,2,-999.0000,9,     72.6,2,    97.73,2,    38.26,2,     0.00,2,     2.76,2,   -999.0,9,   -999.0,9,-999.0000,9,  -999.00,     2347
  49UF20101109,KS1008,  2853,  1,     15,  21974,2,20101116,2312, 40.0015, 156.0097, 5497,    609.8,   3.8687,  34.1786,2,-999.0000,9,     54.1,2,   109.72,2,    39.94,2,     0.00,2,     2.85,2,   -999.0,9,   -999.0,9,-999.0000,9,  -999.00,     2344
  49UF20101109,KS1008,  2853,  1,     14,  21973,2,20101116,2312, 40.0015, 156.0097, 5497,    708.3,   3.5465,  34.2426,2,-999.0000,9,     43.9,6,   121.33,6,    41.05,6,     0.00,6,     2.93,6,   -999.0,9,   -999.0,9,-999.0000,9,  -999.00,     2342
  49UF20101109,KS1008,  2853,  1,     13,  21972,2,20101116,2312, 40.0015, 156.0097, 5497,    809.0,   3.3651,  34.3085,2,-999.0000,9,     39.3,2,   127.85,2,    41.59,2,     0.00,2,     2.96,2,   -999.0,9,   -999.0,9,-999.0000,9,  -999.00,     2339
  49UF20101109,KS1008,  2853,  1,     12,  21971,2,20101116,2312, 40.0015, 156.0097, 5497,    911.1,   3.1708,  34.3601,2,-999.0000,9,     37.3,2,   134.41,2,    41.84,2,     0.00,2,     2.98,2,   -999.0,9,   -999.0,9,-999.0000,9,  -999.00,     2337
  49UF20101109,KS1008,  2853,  1,     11,  21970,2,20101116,2312, 40.0015, 156.0097, 5497,   1010.5,   2.9705,  34.3953,2,-999.0000,9,     36.8,2,   140.22,2,    42.19,2,     0.00,2,     2.99,2,   -999.0,9,   -999.0,9,-999.0000,9,  -999.00,     2335
  49UF20101109,KS1008,  2853,  1,     10,  21969,2,20101116,2312, 40.0015, 156.0097, 5497,   1212.5,   2.6204,  34.4563,2,-999.0000,9,     38.2,2,   150.68,2,    42.17,2,     0.00,2,     3.00,2,   -999.0,9,   -999.0,9,-999.0000,9,  -999.00,     2331
  49UF20101109,KS1008,  2853,  1,      6,  21965,2,20101116,2312, 40.0015, 156.0097, 5497,   1420.1,   2.3756,  34.5054,2,-999.0000,9,     43.8,2,   156.78,2,    42.14,2,     0.00,2,     2.98,2,   -999.0,9,   -999.0,9,-999.0000,9,  -999.00,     2326
  49UF20101109,KS1008,  2853,  1,      5,  21964,2,20101116,2312, 40.0015, 156.0097, 5497,   1420.1,   2.3756,  34.5054,2,-999.0000,9,     43.5,2,   157.32,2,    42.34,2,     0.00,2,     2.98,2,   -999.0,9,   -999.0,9,-999.0000,9,  -999.00,     2326
  49UF20101109,KS1008,  2853,  1,      4,  21963,2,20101116,2312, 40.0015, 156.0097, 5497,   1621.2,   2.1899,  34.5403,2,-999.0000,9,     51.8,2,   161.52,2,    41.98,2,     0.00,2,     2.95,2,   -999.0,9,   -999.0,9,-999.0000,9,  -999.00,     2322
  49UF20101109,KS1008,  2853,  1,      3,  21962,2,20101116,2312, 40.0015, 156.0097, 5497,   1621.2,   2.1899,  34.5403,2,-999.0000,9,     52.0,2,   161.26,2,    41.89,2,     0.00,2,     2.95,2,   -999.0,9,   -999.0,9,-999.0000,9,  -999.00,     2322
  49UF20101109,KS1008,  2853,  1,      2,  21961,2,20101116,2312, 40.0015, 156.0097, 5497,   1825.5,   2.0308,  34.5736,2,-999.0000,9,     62.9,2,   163.57,2,    41.31,2,     0.00,2,     2.90,2,   -999.0,9,   -999.0,9,-999.0000,9,  -999.00,     2317
  49UF20101109,KS1008,  2853,  1,      1,  21960,2,20101116,2312, 40.0015, 156.0097, 5497,   2025.6,   1.9112,  34.5974,2,-999.0000,9,     75.1,2,   163.64,2,    40.73,2,     0.00,2,     2.84,2,   -999.0,9,   -999.0,9,-999.0000,9,  -999.00,     2312