BOTTLE,20190925PRINUNIVRMK
EXPOCODE,SECT_ID,STNNBR,CASTNO,SAMPNO,BTLNBR,BTLNBR_FLAG_W,DATE,TIME,LATITUDE,LONGITUDE,DEPTH,CTDPRS,CTDTMP,CTDSAL,CTDSAL_FLAG_W,SALNTY,SALNTY_FLAG_W,OXYGEN,OXYGEN_FLAG_W,SILCAT,SILCAT_FLAG_W,NITRAT,NITRAT_FLAG_W,NITRIT,NITRIT_FLAG_W,PHSPHT,PHSPHT_FLAG_W,TCARBN,TCARBN_FLAG_W,ALKALI,ALKALI_FLAG_W,PH_TOT,PH_TOT_FLAG_W,PH_TMP,BTL_TIME
,,,,,,,,,,,METERS,DBAR,ITS-90,PSS-78,,PSS-78,,UMOL/KG,,UMOL/KG,,UMOL/KG,,UMOL/KG,,UMOL/KG,,UMOL/KG,,UMOL/KG,,,,DEG C,
  49UF20101109,KS1008,  2857,  1,     99,     99,2,20101117,2115, 39.9843, 160.0253, 5538,      0.0,  17.7890,  34.2307,2,-999.0000,9,    236.6,2,     3.55,2,     1.43,2,     0.11,2,     0.15,2,   -999.0,9,   -999.0,9,-999.0000,9,  -999.00,     2200
  49UF20101109,KS1008,  2857,  1,     33,  21993,2,20101117,2115, 39.9843, 160.0253, 5538,     11.8,  17.7958,  34.2301,2,  34.2289,2,    231.5,2,     3.56,2,     1.51,2,     0.11,2,     0.15,2,   1998.4,2,   2261.1,2,   7.9911,2,    25.00,     2217
  49UF20101109,KS1008,  2857,  1,     32,  21992,2,20101117,2115, 39.9843, 160.0253, 5538,     26.4,  17.7987,  34.2295,2,-999.0000,9,    231.6,2,     3.58,2,     1.56,2,     0.11,2,     0.15,2,   1997.9,2,   2262.8,2,   7.9751,2,    25.00,     2216
  49UF20101109,KS1008,  2857,  1,     31,  21991,2,20101117,2115, 39.9843, 160.0253, 5538,     51.9,  17.8069,  34.2280,2,-999.0000,9,    231.7,2,     3.52,2,     1.55,2,     0.10,2,     0.15,2,   2000.8,2,   2261.7,2,   7.9582,2,    25.00,     2214
  49UF20101109,KS1008,  2857,  1,     30,  21990,2,20101117,2115, 39.9843, 160.0253, 5538,     77.5,  15.2896,  34.5400,2,-999.0000,9,    181.7,2,    12.64,2,     9.87,2,     0.02,2,     0.68,2,   2072.4,2,   2275.8,2,   7.8506,2,    25.00,     2212
  49UF20101109,KS1008,  2857,  1,     29,  21989,2,20101117,2115, 39.9843, 160.0253, 5538,    103.1,  13.9498,  34.4579,2,  34.4607,2,    195.4,2,    14.00,2,    10.97,2,     0.01,2,     0.75,2,   2081.7,2,   2269.9,2,   7.8402,2,    25.00,     2210
  49UF20101109,KS1008,  2857,  1,     28,  21988,2,20101117,2115, 39.9843, 160.0253, 5538,    129.2,  12.4348,  34.3442,2,-999.0000,9,    216.4,2,    15.05,2,    11.51,2,     0.01,2,     0.80,2,   2092.1,2,   2270.4,6,   7.8249,2,    25.00,     2209
  49UF20101109,KS1008,  2857,  1,     24,  21984,2,20101117,2115, 39.9843, 160.0253, 5538,    153.3,  11.8614,  34.3264,2,-999.0000,9,    197.0,6,    20.03,6,    14.10,6,     0.00,6,     0.99,6,   2104.1,2,   2275.1,2,   7.7747,3,    25.00,     2205
  49UF20101109,KS1008,  2857,  1,     23,  21983,2,20101117,2115, 39.9843, 160.0253, 5538,    202.5,  10.6250,  34.2021,2,  34.2036,2,    243.6,2,    16.34,2,    12.18,2,     0.03,2,     0.86,2,   2098.2,2,   2265.7,2,   7.7996,2,    25.00,     2203
  49UF20101109,KS1008,  2857,  1,     22,  21982,2,20101117,2115, 39.9843, 160.0253, 5538,    252.9,   9.8928,  34.1363,2,-999.0000,9,    244.6,2,    19.07,2,    13.36,2,     0.01,2,     0.95,2,   2099.0,2,   2266.6,2,   7.7800,2,    25.00,     2201
  49UF20101109,KS1008,  2857,  1,     21,  21981,2,20101117,2115, 39.9843, 160.0253, 5538,    304.1,   8.1951,  33.9603,2,-999.0000,9,    225.9,2,    28.32,2,    17.87,2,     0.00,2,     1.30,2,   2134.0,6,   2267.1,6,   7.7181,2,    25.00,     2159
  49UF20101109,KS1008,  2857,  1,     20,  21980,2,20101117,2115, 39.9843, 160.0253, 5538,    405.6,   6.0227,  33.9045,2,  33.9053,2,    172.1,2,    51.23,2,    26.80,2,     0.00,2,     1.94,2,   2203.1,2,   2281.9,2,   7.5714,2,    25.00,     2157
  49UF20101109,KS1008,  2857,  1,     19,  21978,2,20101117,2115, 39.9843, 160.0253, 5538,    506.1,   4.6907,  33.9496,2,-999.0000,9,    118.9,2,    75.03,2,    33.99,2,     0.00,2,     2.44,2,   2264.3,2,   2297.6,2,   7.4482,2,    25.00,     2154
  49UF20101109,KS1008,  2857,  1,     15,  21974,2,20101117,2115, 39.9843, 160.0253, 5538,    608.8,   4.1185,  34.0456,2,  34.0458,2,     78.1,2,    94.51,2,    38.21,2,     0.00,2,     2.74,2,   2301.8,2,   2316.3,2,   7.3708,2,    25.00,     2151
  49UF20101109,KS1008,  2857,  1,     14,  21973,2,20101117,2115, 39.9843, 160.0253, 5538,    707.4,   4.1415,  34.1819,2,-999.0000,9,     59.9,2,   104.25,2,    39.17,2,     0.00,2,     2.81,2,   2322.6,6,   2330.3,6,   7.3507,2,    25.00,     2148
  49UF20101109,KS1008,  2857,  1,     13,  21972,2,20101117,2115, 39.9843, 160.0253, 5538,    810.9,   3.7831,  34.2469,2,  34.2474,2,     47.8,2,   115.46,2,    40.56,2,     0.00,2,     2.90,2,   2330.6,2,   2346.1,2,   7.3393,2,    25.00,     2145
  49UF20101109,KS1008,  2857,  1,     12,  21971,2,20101117,2115, 39.9843, 160.0253, 5538,    910.1,   3.5341,  34.2964,2,-999.0000,9,     41.5,2,   123.43,2,    41.19,2,     0.00,2,     2.95,2,   2350.4,2,   2354.8,2,   7.3372,2,    25.00,     2142
  49UF20101109,KS1008,  2857,  1,     11,  21970,2,20101117,2115, 39.9843, 160.0253, 5538,   1010.8,   3.2491,  34.3545,2,-999.0000,9,     37.8,2,   132.04,2,    42.01,2,     0.00,2,     2.98,2,   2360.6,2,   2365.3,2,   7.3292,2,    25.00,     2139
  49UF20101109,KS1008,  2857,  1,     10,  21969,2,20101117,2115, 39.9843, 160.0253, 5538,   1010.8,   3.2491,  34.3545,2,  34.3541,2,     38.4,2,   132.08,2,    41.75,2,     0.00,2,     2.98,2,   2366.4,2,   2364.8,2,   7.3400,2,    25.00,     2139
  49UF20101109,KS1008,  2857,  1,      6,  21965,2,20101117,2115, 39.9843, 160.0253, 5538,   1215.3,   2.7761,  34.4372,2,-999.0000,9,     35.7,2,   145.95,2,    42.72,2,     0.00,2,     3.02,2,   2381.6,2,   2381.2,2,   7.3252,2,    25.00,     2134
  49UF20101109,KS1008,  2857,  1,      5,  21964,2,20101117,2115, 39.9843, 160.0253, 5538,   1215.3,   2.7761,  34.4372,2,  34.0705,4,     36.0,6,   146.14,6,    42.65,6,     0.00,6,     3.02,6,   2381.6,2,   2381.4,2,   7.3292,2,    25.00,     2134
  49UF20101109,KS1008,  2857,  1,      4,  21963,2,20101117,2115, 39.9843, 160.0253, 5538,   1417.8,   2.4812,  34.4801,2,  34.4794,2,     40.6,2,   154.51,2,    42.28,2,     0.00,2,     3.00,2,   2376.2,2,   2396.5,2,   7.3542,2,    25.00,     2129
  49UF20101109,KS1008,  2857,  1,      3,  21962,2,20101117,2115, 39.9843, 160.0253, 5538,   1619.4,   2.2715,  34.5252,2,  34.5236,2,     48.3,2,   159.30,2,    42.28,2,     0.00,2,     2.96,2,   2384.9,2,   2402.1,2,   7.3598,2,    25.00,     2124
  49UF20101109,KS1008,  2857,  1,      2,  21961,2,20101117,2115, 39.9843, 160.0253, 5538,   1824.0,   2.1061,  34.5597,2,  34.5612,6,     57.5,2,   162.31,2,    41.46,2,     0.00,2,     2.92,2,   2389.4,2,   2404.2,2,   7.3825,2,    25.00,     2119
  49UF20101109,KS1008,  2857,  1,      1,  21960,2,20101117,2115, 39.9843, 160.0253, 5538,   2026.2,   1.9693,  34.5884,2,  34.5873,6,     70.2,2,   163.34,2,    40.76,2,     0.00,2,     2.86,2,   2385.6,2,   2406.5,2,   7.3975,2,    25.00,     2115
  49UF20101109,KS1008,  2858,  1,     99,     99,2,20101118,0235, 39.9902, 161.0022, 5490,      0.0,  15.2582,  33.9869,2,-999.0000,9,    243.0,2,     5.93,2,     2.97,2,     0.08,2,     0.29,2,   -999.0,9,   -999.0,9,-999.0000,9,  -999.00,      315
  49UF20101109,KS1008,  2858,  1,     33,  21993,2,20101118,0235, 39.9902, 161.0022, 5490,     12.4,  15.2766,  33.9916,2,-999.0000,9,    241.3,2,     6.01,2,     3.14,2,     0.08,2,     0.30,2,   -999.0,9,   -999.0,9,-999.0000,9,  -999.00,      338
  49UF20101109,KS1008,  2858,  1,     32,  21992,2,20101118,0235, 39.9902, 161.0022, 5490,     28.8,  15.2932,  33.9961,2,-999.0000,9,    241.3,2,     6.05,2,     3.15,2,     0.08,2,     0.30,2,   -999.0,9,   -999.0,9,-999.0000,9,  -999.00,      336
  49UF20101109,KS1008,  2858,  1,     31,  21991,2,20101118,0235, 39.9902, 161.0022, 5490,     52.3,  15.4476,  34.0468,2,-999.0000,9,    238.8,2,     6.17,2,     3.36,2,     0.08,2,     0.30,2,   -999.0,9,   -999.0,9,-999.0000,9,  -999.00,      335
  49UF20101109,KS1008,  2858,  1,     30,  21990,2,20101118,0235, 39.9902, 161.0022, 5490,     78.8,  14.4643,  34.4676,2,-999.0000,9,    192.9,2,    13.11,2,    10.51,2,     0.03,2,     0.72,2,   -999.0,9,   -999.0,9,-999.0000,9,  -999.00,      333
  49UF20101109,KS1008,  2858,  1,     29,  21989,2,20101118,0235, 39.9902, 161.0022, 5490,    102.4,  12.8558,  34.4055,2,-999.0000,9,    184.8,2,    18.96,2,    13.79,2,     0.01,2,     0.95,2,   -999.0,9,   -999.0,9,-999.0000,9,  -999.00,      331
  49UF20101109,KS1008,  2858,  1,     28,  21988,2,20101118,0235, 39.9902, 161.0022, 5490,    128.6,  11.5948,  34.2953,2,-999.0000,9,    198.5,2,    20.62,2,    14.44,2,     0.01,2,     1.01,2,   -999.0,9,   -999.0,9,-999.0000,9,  -999.00,      328
  49UF20101109,KS1008,  2858,  1,     24,  21984,2,20101118,0235, 39.9902, 161.0022, 5490,    154.5,  10.8111,  34.2236,2,-999.0000,9,    217.8,2,    19.88,2,    14.06,2,     0.01,2,     0.99,2,   -999.0,9,   -999.0,9,-999.0000,9,  -999.00,      324
  49UF20101109,KS1008,  2858,  1,     23,  21983,2,20101118,0235, 39.9902, 161.0022, 5490,    203.5,   9.2017,  34.0823,2,-999.0000,9,    204.9,6,    28.43,6,    17.84,6,     0.01,6,     1.28,6,   -999.0,9,   -999.0,9,-999.0000,9,  -999.00,      322
  49UF20101109,KS1008,  2858,  1,     22,  21982,2,20101118,0235, 39.9902, 161.0022, 5490,    253.5,   7.3332,  33.8871,2,-999.0000,9,    224.5,2,    32.68,2,    19.77,2,     0.01,2,     1.45,2,   -999.0,9,   -999.0,9,-999.0000,9,  -999.00,      320
  49UF20101109,KS1008,  2858,  1,     21,  21981,2,20101118,0235, 39.9902, 161.0022, 5490,    304.4,   6.4116,  33.8683,2,-999.0000,9,    196.1,2,    43.08,2,    23.95,2,     0.00,2,     1.75,2,   -999.0,9,   -999.0,9,-999.0000,9,  -999.00,      318
  49UF20101109,KS1008,  2858,  1,     20,  21980,2,20101118,0235, 39.9902, 161.0022, 5490,    402.9,   5.1854,  33.9288,2,-999.0000,9,    145.5,3,    66.12,2,    31.39,2,     0.00,2,     2.27,2,   -999.0,9,   -999.0,9,-999.0000,9,  -999.00,      315
  49UF20101109,KS1008,  2858,  1,     19,  21978,2,20101118,0235, 39.9902, 161.0022, 5490,    506.9,   4.5727,  34.0123,2,-999.0000,9,     99.7,2,    83.02,2,    35.95,2,     0.00,2,     2.58,2,   -999.0,9,   -999.0,9,-999.0000,9,  -999.00,      312
  49UF20101109,KS1008,  2858,  1,     15,  21974,2,20101118,0235, 39.9902, 161.0022, 5490,    607.7,   4.2671,  34.1168,2,-999.0000,9,     70.6,2,    97.10,2,    38.50,2,     0.00,2,     2.76,2,   -999.0,9,   -999.0,9,-999.0000,9,  -999.00,      309
  49UF20101109,KS1008,  2858,  1,     14,  21973,4,20101118,0235, 39.9902, 161.0022, 5490,    706.5,   3.9486,  34.1942,2,-999.0000,9,     41.2,4,   154.68,4,    42.68,4,     0.00,4,     3.01,4,   -999.0,9,   -999.0,9,-999.0000,9,  -999.00,      307
  49UF20101109,KS1008,  2858,  1,     13,  21972,2,20101118,0235, 39.9902, 161.0022, 5490,    810.5,   3.5816,  34.2642,2,-999.0000,9,     44.2,2,   120.62,2,    41.36,2,     0.00,2,     2.94,2,   -999.0,9,   -999.0,9,-999.0000,9,  -999.00,      304
  49UF20101109,KS1008,  2858,  1,     12,  21971,2,20101118,0235, 39.9902, 161.0022, 5490,    910.6,   3.3965,  34.3226,2,-999.0000,9,     40.3,2,   126.79,2,    41.85,2,     0.00,2,     2.97,2,   -999.0,9,   -999.0,9,-999.0000,9,  -999.00,      301
  49UF20101109,KS1008,  2858,  1,     11,  21970,2,20101118,0235, 39.9902, 161.0022, 5490,   1013.5,   3.1366,  34.3564,2,-999.0000,9,     38.4,2,   134.64,2,    42.33,2,     0.00,2,     3.00,2,   -999.0,9,   -999.0,9,-999.0000,9,  -999.00,      258
  49UF20101109,KS1008,  2858,  1,     10,  21969,2,20101118,0235, 39.9902, 161.0022, 5490,   1217.3,   2.7521,  34.4237,2,-999.0000,9,     37.2,2,   146.37,2,    42.60,2,     0.00,2,     3.02,2,   -999.0,9,   -999.0,9,-999.0000,9,  -999.00,      253
  49UF20101109,KS1008,  2858,  1,      6,  21965,2,20101118,0235, 39.9902, 161.0022, 5490,   1415.2,   2.4833,  34.4800,2,-999.0000,9,     39.5,2,   153.88,2,    42.56,2,     0.00,2,     3.02,2,   -999.0,9,   -999.0,9,-999.0000,9,  -999.00,      248
  49UF20101109,KS1008,  2858,  1,      5,  21964,2,20101118,0235, 39.9902, 161.0022, 5490,   1415.2,   2.4833,  34.4800,2,-999.0000,9,     39.4,6,   154.00,6,    42.76,6,     0.00,6,     3.02,6,   -999.0,9,   -999.0,9,-999.0000,9,  -999.00,      248
  49UF20101109,KS1008,  2858,  1,      4,  21963,2,20101118,0235, 39.9902, 161.0022, 5490,   1617.5,   2.2759,  34.5228,2,-999.0000,9,     47.5,2,   159.09,2,    42.39,2,     0.00,2,     2.99,2,   -999.0,9,   -999.0,9,-999.0000,9,  -999.00,      244
  49UF20101109,KS1008,  2858,  1,      3,  21962,2,20101118,0235, 39.9902, 161.0022, 5490,   1617.5,   2.2759,  34.5228,2,-999.0000,9,     48.1,2,   159.18,2,    42.37,2,     0.00,2,     2.98,2,   -999.0,9,   -999.0,9,-999.0000,9,  -999.00,      243
  49UF20101109,KS1008,  2858,  1,      2,  21961,2,20101118,0235, 39.9902, 161.0022, 5490,   1822.2,   2.1184,  34.5557,2,-999.0000,9,     57.1,2,   161.64,2,    41.84,2,     0.00,2,     2.94,2,   -999.0,9,   -999.0,9,-999.0000,9,  -999.00,      239
  49UF20101109,KS1008,  2858,  1,      1,  21960,2,20101118,0235, 39.9902, 161.0022, 5490,   2025.3,   1.9697,  34.5866,2,-999.0000,9,     70.1,2,   162.47,2,    41.11,2,     0.00,2,     2.88,2,   -999.0,9,   -999.0,9,-999.0000,9,  -999.00,      235
  49UF20101109,KS1008,  2859,  1,     99,     99,2,20101118,0810, 39.9958, 162.0187, 5501,      0.0,  17.2652,  34.2357,2,-999.0000,9,    236.3,2,     4.67,2,     2.36,2,     0.09,2,     0.22,4,   -999.0,9,   -999.0,9,-999.0000,9,  -999.00,      850
  49UF20101109,KS1008,  2859,  1,     33,  21993,2,20101118,0810, 39.9958, 162.0187, 5501,     10.8,  17.2611,  34.2356,2,-999.0000,9,    231.2,2,     4.81,2,     2.47,2,     0.09,2,     0.22,2,   -999.0,9,   -999.0,9,-999.0000,9,  -999.00,      915
  49UF20101109,KS1008,  2859,  1,     32,  21992,3,20101118,0810, 39.9958, 162.0187, 5501,     26.4,  17.2767,  34.2355,2,-999.0000,9,    231.1,2,     4.79,2,     2.48,2,     0.09,2,     0.22,2,   -999.0,9,   -999.0,9,-999.0000,9,  -999.00,      913
  49UF20101109,KS1008,  2859,  1,     31,  21991,2,20101118,0810, 39.9958, 162.0187, 5501,     52.5,  17.2822,  34.2353,2,-999.0000,9,    231.3,2,     4.75,2,     2.40,2,     0.09,2,     0.21,2,   -999.0,9,   -999.0,9,-999.0000,9,  -999.00,      912
  49UF20101109,KS1008,  2859,  1,     30,  21990,2,20101118,0810, 39.9958, 162.0187, 5501,     76.6,  16.7128,  34.3832,2,-999.0000,9,    217.1,2,     6.95,2,     4.26,2,     0.08,2,     0.33,2,   -999.0,9,   -999.0,9,-999.0000,9,  -999.00,      910
  49UF20101109,KS1008,  2859,  1,     29,  21989,2,20101118,0810, 39.9958, 162.0187, 5501,    103.2,  14.9019,  34.5112,2,-999.0000,9,    177.2,2,    15.05,2,    11.26,2,     0.01,2,     0.78,2,   -999.0,9,   -999.0,9,-999.0000,9,  -999.00,      908
  49UF20101109,KS1008,  2859,  1,     28,  21988,2,20101118,0810, 39.9958, 162.0187, 5501,    129.6,  13.2598,  34.3818,2,-999.0000,9,    185.0,2,    17.41,2,    12.51,2,     0.01,2,     0.88,2,   -999.0,9,   -999.0,9,-999.0000,9,  -999.00,      907
  49UF20101109,KS1008,  2859,  1,     24,  21984,2,20101118,0810, 39.9958, 162.0187, 5501,    151.7,  12.2249,  34.3455,2,-999.0000,9,    192.0,2,    19.73,2,    13.91,2,     0.01,2,     0.98,2,   -999.0,9,   -999.0,9,-999.0000,9,  -999.00,      903
  49UF20101109,KS1008,  2859,  1,     23,  21983,2,20101118,0810, 39.9958, 162.0187, 5501,    202.6,  10.4916,  34.2192,2,-999.0000,9,    191.3,2,    25.62,2,    16.41,2,     0.01,2,     1.17,2,   -999.0,9,   -999.0,9,-999.0000,9,  -999.00,      900
  49UF20101109,KS1008,  2859,  1,     22,  21982,2,20101118,0810, 39.9958, 162.0187, 5501,    253.5,   8.5627,  34.0431,2,-999.0000,9,    198.5,6,    32.10,6,    19.26,6,     0.00,6,     1.40,6,   -999.0,9,   -999.0,9,-999.0000,9,  -999.00,      858
  49UF20101109,KS1008,  2859,  1,     21,  21981,2,20101118,0810, 39.9958, 162.0187, 5501,    304.0,   6.2399,  33.7683,2,-999.0000,9,    234.6,2,    35.02,2,    20.42,2,     0.00,2,     1.53,2,   -999.0,9,   -999.0,9,-999.0000,9,  -999.00,      856
  49UF20101109,KS1008,  2859,  1,     20,  21980,2,20101118,0810, 39.9958, 162.0187, 5501,    407.1,   4.9017,  33.8281,2,-999.0000,9,    166.5,2,    59.92,2,    29.36,2,     0.00,2,     2.16,2,   -999.0,9,   -999.0,9,-999.0000,9,  -999.00,      853
  49UF20101109,KS1008,  2859,  1,     19,  21978,2,20101118,0810, 39.9958, 162.0187, 5501,    506.8,   4.5931,  34.0004,2,-999.0000,9,    103.6,2,    81.90,2,    35.06,2,     0.00,2,     2.54,2,   -999.0,9,   -999.0,9,-999.0000,9,  -999.00,      850
  49UF20101109,KS1008,  2859,  1,     15,  21974,2,20101118,0810, 39.9958, 162.0187, 5501,    606.6,   4.0033,  34.0419,2,-999.0000,9,     72.1,2,    96.18,2,    38.61,2,     0.00,2,     2.78,2,   -999.0,9,   -999.0,9,-999.0000,9,  -999.00,      847
  49UF20101109,KS1008,  2859,  1,     14,  21973,2,20101118,0810, 39.9958, 162.0187, 5501,    707.7,   3.7711,  34.1361,2,-999.0000,9,     53.0,2,   108.45,2,    40.34,2,     0.00,2,     2.88,2,   -999.0,9,   -999.0,9,-999.0000,9,  -999.00,      844
  49UF20101109,KS1008,  2859,  1,     13,  21972,2,20101118,0810, 39.9958, 162.0187, 5501,    810.1,   3.6122,  34.2293,2,-999.0000,9,     45.3,2,   117.90,2,    40.84,2,     0.00,2,     2.92,2,   -999.0,9,   -999.0,9,-999.0000,9,  -999.00,      841
  49UF20101109,KS1008,  2859,  1,     12,  21971,2,20101118,0810, 39.9958, 162.0187, 5501,    912.6,   3.3723,  34.3006,2,-999.0000,9,     40.4,2,   126.96,2,    41.37,2,     0.00,2,     2.96,2,   -999.0,9,   -999.0,9,-999.0000,9,  -999.00,      838
  49UF20101109,KS1008,  2859,  1,     11,  21970,2,20101118,0810, 39.9958, 162.0187, 5501,   1011.6,   3.1390,  34.3512,2,-999.0000,9,     36.2,2,   134.77,2,    41.99,2,     0.00,2,     2.99,2,   -999.0,9,   -999.0,9,-999.0000,9,  -999.00,      835
  49UF20101109,KS1008,  2859,  1,     10,  21969,2,20101118,0810, 39.9958, 162.0187, 5501,   1214.2,   2.7659,  34.4295,2,-999.0000,9,     36.1,2,   146.54,2,    42.11,2,     0.00,2,     3.01,2,   -999.0,9,   -999.0,9,-999.0000,9,  -999.00,      830
  49UF20101109,KS1008,  2859,  1,      6,  21965,2,20101118,0810, 39.9958, 162.0187, 5501,   1419.0,   2.4950,  34.4800,2,-999.0000,9,     38.7,2,   154.42,2,    42.29,2,     0.00,2,     3.01,2,   -999.0,9,   -999.0,9,-999.0000,9,  -999.00,      825
  49UF20101109,KS1008,  2859,  1,      5,  21964,2,20101118,0810, 39.9958, 162.0187, 5501,   1621.9,   2.2825,  34.5221,2,-999.0000,9,     47.6,6,   159.20,6,    41.99,6,     0.00,6,     2.98,6,   -999.0,9,   -999.0,9,-999.0000,9,  -999.00,      820
  49UF20101109,KS1008,  2859,  1,      4,  21963,2,20101118,0810, 39.9958, 162.0187, 5501,   1824.1,   2.1141,  34.5578,2,-999.0000,9,     58.0,2,   162.27,2,    41.61,2,     0.00,2,     2.93,2,   -999.0,9,   -999.0,9,-999.0000,9,  -999.00,      815
  49UF20101109,KS1008,  2859,  1,      3,  21962,2,20101118,0810, 39.9958, 162.0187, 5501,   1824.1,   2.1141,  34.5578,2,-999.0000,9,     57.7,2,   161.69,2,    41.62,2,     0.00,2,     2.93,2,   -999.0,9,   -999.0,9,-999.0000,9,  -999.00,      815
  49UF20101109,KS1008,  2859,  1,      2,  21961,2,20101118,0810, 39.9958, 162.0187, 5501,   2027.0,   1.9770,  34.5866,2,-999.0000,9,     70.0,2,   162.41,2,    40.73,2,     0.00,2,     2.87,2,   -999.0,9,   -999.0,9,-999.0000,9,  -999.00,      810
  49UF20101109,KS1008,  2859,  1,      1,  21960,2,20101118,0810, 39.9958, 162.0187, 5501,   2027.0,   1.9770,  34.5866,2,-999.0000,9,     70.5,2,   162.52,2,    40.86,2,     0.00,2,     2.87,2,   -999.0,9,   -999.0,9,-999.0000,9,  -999.00,      810