BOTTLE,20190925PRINUNIVRMK
# 08/29/2019 Initialized README file  
# Data source:  Masao Ishii 2018/11/30 
# SHIP: R/V Keifu Maru II 
# Cruise: ks201008 
# Region: North Pacific Ocean 
# 	Section on 40N from 143E-165E 
# EXPOCODE: 49UF20101109 
# DATES: 20101109-20101126 
# Chief Scientist: Tetsuya Nakamura 
# 23 stations with 24 place Rosette 
# NOTE: 
# 	Preceeding "KS-" removed from original station numbers 
# 	Preceeding "02-" removed from original bottle numbers 
# 	BUCKET samples coded as bottle/sample 99 
# CTD: Who - Hitomi Kamiya; Status - final 
# 	Includes: CTDSAL 
# SALNTY: Who - Hitomi Kamiya; Status - final 
# 	Notes: 	 
# Nutrients: Who - Hitomi Kamiya; Status - final 
# 	Includes: nitrate, nitrite, silicate, phosphate 
# 	Nitrite and NO3+NO2 reported. Separated by subtraction 
# OXYGEN: Who - Hitomi Kamiya; Status - final 
# 	Notes: 
# TCARBN: Who - Hitomi Kamiya; Status - final 
# 	Notes:  
# ALKALI: Who - Hitomi Kamiya; Status - final 
# 	Notes:  
# These data should be cited as: Nakamura, Tetsuya; Kamiya, Hitomi; Ishii, Masao (2019). Dissolved inorganic carbon (DIC), total alkalinity, pH on total scale, temperature, salinity, oxygen, nutrients and other measurements collected from discrete samples and profile observations during the R/V Keifu Maru II cruise ks201008 (EXPOCODE 49UF20101109) in the North Pacific Ocean from 2010-11-09 to 2010-11-26 (NCEI Accession 0191568). [indicate subset used]. NOAA National Centers for Environmental Information. Dataset. https://doi.org/10.25921/55rs-s898.  
# References that have used data from this cruise: 
EXPOCODE,SECT_ID,STNNBR,CASTNO,SAMPNO,BTLNBR,BTLNBR_FLAG_W,DATE,TIME,LATITUDE,LONGITUDE,DEPTH,CTDPRS,CTDTMP,CTDSAL,CTDSAL_FLAG_W,SALNTY,SALNTY_FLAG_W,OXYGEN,OXYGEN_FLAG_W,SILCAT,SILCAT_FLAG_W,NITRAT,NITRAT_FLAG_W,NITRIT,NITRIT_FLAG_W,PHSPHT,PHSPHT_FLAG_W,TCARBN,TCARBN_FLAG_W,ALKALI,ALKALI_FLAG_W,PH_TOT,PH_TOT_FLAG_W,PH_TMP,BTL_TIME
,,,,,,,,,,,METERS,DBAR,ITS-90,PSS-78,,PSS-78,,UMOL/KG,,UMOL/KG,,UMOL/KG,,UMOL/KG,,UMOL/KG,,UMOL/KG,,UMOL/KG,,,,DEG C,
  49UF20101109,KS1008,  2833,  1,     99,     99,2,20101111,1026, 39.9713, 142.9830, 1308,      0.0,  17.5770,  33.5829,2,-999.0000,9,    234.8,2,     3.48,2,     1.40,2,     0.56,2,     0.23,4,   -999.0,9,   -999.0,9,-999.0000,9,  -999.00,     1100
  49UF20101109,KS1008,  2833,  1,     33,  21993,2,20101111,1026, 39.9713, 142.9830, 1308,     12.4,  17.5733,  33.5830,2,  33.5804,6,    233.6,6,     3.49,6,     1.28,6,     0.56,6,     0.14,6,   -999.0,9,   -999.0,9,-999.0000,9,  -999.00,     1114
  49UF20101109,KS1008,  2833,  1,     32,  21992,2,20101111,1026, 39.9713, 142.9830, 1308,     27.0,  17.5881,  33.5835,2,-999.0000,9,    233.7,2,     3.43,2,     1.25,2,     0.56,2,     0.12,2,   -999.0,9,   -999.0,9,-999.0000,9,  -999.00,     1113
  49UF20101109,KS1008,  2833,  1,     31,  21991,2,20101111,1026, 39.9713, 142.9830, 1308,     51.0,  17.4910,  33.5721,2,-999.0000,9,    233.6,2,     3.65,2,     1.31,2,     0.57,2,     0.13,2,   -999.0,9,   -999.0,9,-999.0000,9,  -999.00,     1109
  49UF20101109,KS1008,  2833,  1,     30,  21990,2,20101111,1026, 39.9713, 142.9830, 1308,     75.7,  17.1181,  33.5447,2,-999.0000,9,    234.9,2,     4.01,2,     1.42,2,     0.60,2,     0.15,2,   -999.0,9,   -999.0,9,-999.0000,9,  -999.00,     1107
  49UF20101109,KS1008,  2833,  1,     29,  21989,2,20101111,1026, 39.9713, 142.9830, 1308,    101.0,  16.1310,  33.7046,2,  33.6368,4,    232.2,2,     5.15,2,     2.58,2,     0.39,2,     0.22,2,   -999.0,9,   -999.0,9,-999.0000,9,  -999.00,     1106
  49UF20101109,KS1008,  2833,  1,     24,  21984,2,20101111,1026, 39.9713, 142.9830, 1308,    127.2,  13.5962,  34.0249,2,-999.0000,9,    236.7,2,     7.96,2,     5.51,2,     0.02,2,     0.43,2,   -999.0,9,   -999.0,9,-999.0000,9,  -999.00,     1104
  49UF20101109,KS1008,  2833,  1,     23,  21983,2,20101111,1026, 39.9713, 142.9830, 1308,    155.1,  12.4062,  34.0572,2,-999.0000,9,    240.7,2,     8.67,2,     6.20,2,     0.02,2,     0.48,2,   -999.0,9,   -999.0,9,-999.0000,9,  -999.00,     1103
  49UF20101109,KS1008,  2833,  1,     22,  21982,2,20101111,1026, 39.9713, 142.9830, 1308,    202.8,   9.1649,  33.8606,2,  33.8874,4,    238.2,2,    18.87,2,    11.89,2,     0.02,2,     0.93,2,   -999.0,9,   -999.0,9,-999.0000,9,  -999.00,     1100
  49UF20101109,KS1008,  2833,  1,     21,  21981,2,20101111,1026, 39.9713, 142.9830, 1308,    255.7,   6.8252,  33.8331,2,-999.0000,9,    206.4,2,    37.44,2,    21.21,2,     0.01,2,     1.59,2,   -999.0,9,   -999.0,9,-999.0000,9,  -999.00,     1058
  49UF20101109,KS1008,  2833,  1,     20,  21980,2,20101111,1026, 39.9713, 142.9830, 1308,    306.2,   2.9350,  33.4274,2,-999.0000,9,    240.8,2,    49.17,2,    25.82,2,     0.01,2,     2.00,2,   -999.0,9,   -999.0,9,-999.0000,9,  -999.00,     1056
  49UF20101109,KS1008,  2833,  1,     19,  21978,2,20101111,1026, 39.9713, 142.9830, 1308,    407.1,   3.0144,  33.6483,2,  33.6190,4,    165.5,2,    72.83,2,    33.60,2,     0.00,2,     2.50,2,   -999.0,9,   -999.0,9,-999.0000,9,  -999.00,     1052
  49UF20101109,KS1008,  2833,  1,     14,  21973,2,20101111,1026, 39.9713, 142.9830, 1308,    506.2,   3.4258,  33.8352,2,-999.0000,9,    110.3,6,    86.83,6,    37.06,6,     0.00,6,     2.72,6,   -999.0,9,   -999.0,9,-999.0000,9,  -999.00,     1049
  49UF20101109,KS1008,  2833,  1,     13,  21972,2,20101111,1026, 39.9713, 142.9830, 1308,    607.4,   3.8074,  34.0279,2,-999.0000,9,     72.7,2,    99.19,2,    39.16,2,     0.00,2,     2.84,2,   -999.0,9,   -999.0,9,-999.0000,9,  -999.00,     1045
  49UF20101109,KS1008,  2833,  1,     12,  21971,2,20101111,1026, 39.9713, 142.9830, 1308,    607.4,   3.8074,  34.0279,2,  34.0272,2,     71.5,2,    98.84,2,    39.26,2,     0.00,2,     2.83,2,   -999.0,9,   -999.0,9,-999.0000,9,  -999.00,     1045
  49UF20101109,KS1008,  2833,  1,     11,  21970,2,20101111,1026, 39.9713, 142.9830, 1308,    711.6,   3.9820,  34.1989,2,-999.0000,9,     58.4,2,   108.33,2,    39.65,2,     0.00,2,     2.86,2,   -999.0,9,   -999.0,9,-999.0000,9,  -999.00,     1041
  49UF20101109,KS1008,  2833,  1,     10,  21969,2,20101111,1026, 39.9713, 142.9830, 1308,    711.6,   3.9820,  34.1989,2,-999.0000,9,     57.4,2,   108.28,2,    39.66,2,     0.00,2,     2.86,2,   -999.0,9,   -999.0,9,-999.0000,9,  -999.00,     1041
  49UF20101109,KS1008,  2833,  1,      5,  21964,2,20101111,1026, 39.9713, 142.9830, 1308,    812.0,   3.6160,  34.2496,2,  34.2468,2,     46.2,2,   119.59,2,    40.95,2,     0.00,2,     2.95,2,   -999.0,9,   -999.0,9,-999.0000,9,  -999.00,     1038
  49UF20101109,KS1008,  2833,  1,      4,  21963,2,20101111,1026, 39.9713, 142.9830, 1308,    912.3,   3.3183,  34.3104,2,-999.0000,9,     42.4,2,   129.44,2,    41.56,2,     0.00,2,     2.99,2,   -999.0,9,   -999.0,9,-999.0000,9,  -999.00,     1035
  49UF20101109,KS1008,  2833,  1,      3,  21962,2,20101111,1026, 39.9713, 142.9830, 1308,   1013.5,   3.0146,  34.3419,2,  34.3398,2,     38.8,2,   139.05,2,    42.00,2,     0.00,2,     3.03,2,   -999.0,9,   -999.0,9,-999.0000,9,  -999.00,     1032
  49UF20101109,KS1008,  2833,  1,      2,  21961,2,20101111,1026, 39.9713, 142.9830, 1308,   1213.0,   2.6533,  34.4215,2,  34.4213,2,     39.1,2,   149.70,2,    42.41,2,     0.00,2,     3.04,2,   -999.0,9,   -999.0,9,-999.0000,9,  -999.00,     1028
  49UF20101109,KS1008,  2833,  1,      1,  21960,2,20101111,1026, 39.9713, 142.9830, 1308,   1289.7,   2.5356,  34.4547,2,  34.4534,2,     40.7,2,   155.00,2,    41.77,2,     0.01,2,     3.04,2,   -999.0,9,   -999.0,9,-999.0000,9,  -999.00,     1026
  49UF20101109,KS1008,  2835,  1,     99,     99,2,20101111,1853, 40.0092, 144.0382, 4427,      0.0,  17.3587,  33.8116,2,-999.0000,9,    236.4,2,     3.97,2,     1.12,2,     0.35,2,     0.14,2,   -999.0,9,   -999.0,9,-999.0000,9,  -999.00,     1944
  49UF20101109,KS1008,  2835,  1,     33,  21993,2,20101111,1853, 40.0092, 144.0382, 4427,     11.5,  17.3587,  33.8121,2,-999.0000,9,    235.2,2,     3.93,2,     1.12,2,     0.34,2,     0.14,2,   -999.0,9,   -999.0,9,-999.0000,9,  -999.00,     2000
  49UF20101109,KS1008,  2835,  1,     32,  21992,2,20101111,1853, 40.0092, 144.0382, 4427,     26.7,  17.3502,  33.8751,2,-999.0000,9,    236.0,6,     4.13,6,     1.31,6,     0.32,6,     0.15,6,   -999.0,9,   -999.0,9,-999.0000,9,  -999.00,     1958
  49UF20101109,KS1008,  2835,  1,     31,  21991,2,20101111,1853, 40.0092, 144.0382, 4427,     51.6,  16.9552,  33.8346,2,-999.0000,9,    236.0,2,     4.68,2,     1.70,2,     0.33,2,     0.18,2,   -999.0,9,   -999.0,9,-999.0000,9,  -999.00,     1954
  49UF20101109,KS1008,  2835,  1,     30,  21990,2,20101111,1853, 40.0092, 144.0382, 4427,     76.4,  15.4855,  33.6482,2,-999.0000,9,    231.2,2,     7.62,2,     3.96,2,     0.24,2,     0.37,2,   -999.0,9,   -999.0,9,-999.0000,9,  -999.00,     1952
  49UF20101109,KS1008,  2835,  1,     29,  21989,2,20101111,1853, 40.0092, 144.0382, 4427,    102.6,  13.7371,  34.0138,2,-999.0000,9,    222.8,2,    11.64,2,     7.63,2,     0.03,2,     0.62,2,   -999.0,9,   -999.0,9,-999.0000,9,  -999.00,     1951
  49UF20101109,KS1008,  2835,  1,     28,  21988,2,20101111,1853, 40.0092, 144.0382, 4427,    127.2,  11.4826,  33.9100,2,-999.0000,9,    225.4,2,    17.59,2,    10.64,2,     0.02,2,     0.85,2,   -999.0,9,   -999.0,9,-999.0000,9,  -999.00,     1949
  49UF20101109,KS1008,  2835,  1,     24,  21984,2,20101111,1853, 40.0092, 144.0382, 4427,    152.6,   9.8783,  33.8671,2,-999.0000,9,    238.3,2,    18.13,2,    11.50,2,     0.02,2,     0.92,2,   -999.0,9,   -999.0,9,-999.0000,9,  -999.00,     1948
  49UF20101109,KS1008,  2835,  1,     23,  21983,2,20101111,1853, 40.0092, 144.0382, 4427,    203.2,   5.2512,  33.4869,2,-999.0000,9,    252.1,2,    33.16,2,    19.89,2,     0.01,2,     1.58,2,   -999.0,9,   -999.0,9,-999.0000,9,  -999.00,     1946
  49UF20101109,KS1008,  2835,  1,     22,  21982,2,20101111,1853, 40.0092, 144.0382, 4427,    253.3,   2.7175,  33.3021,2,-999.0000,9,    263.3,2,    42.78,2,    23.95,2,     0.01,2,     1.89,2,   -999.0,9,   -999.0,9,-999.0000,9,  -999.00,     1944
  49UF20101109,KS1008,  2835,  1,     21,  21981,2,20101111,1853, 40.0092, 144.0382, 4427,    304.6,   2.4168,  33.4021,2,-999.0000,9,    232.8,2,    55.12,2,    27.84,2,     0.01,2,     2.15,2,   -999.0,9,   -999.0,9,-999.0000,9,  -999.00,     1942
  49UF20101109,KS1008,  2835,  1,     20,  21980,3,20101111,1853, 40.0092, 144.0382, 4427,    407.2,   3.8585,  33.7622,2,-999.0000,9,    155.8,2,    69.29,2,    32.14,2,     0.01,2,     2.39,2,   -999.0,9,   -999.0,9,-999.0000,9,  -999.00,     1938
  49UF20101109,KS1008,  2835,  1,     19,  21978,2,20101111,1853, 40.0092, 144.0382, 4427,    507.7,   4.1553,  33.9784,2,-999.0000,9,    110.4,3,    86.22,2,    36.38,2,     0.00,2,     2.64,2,   -999.0,9,   -999.0,9,-999.0000,9,  -999.00,     1935
  49UF20101109,KS1008,  2835,  1,     15,  21974,2,20101111,1853, 40.0092, 144.0382, 4427,    606.7,   3.4551,  34.0015,2,-999.0000,9,     62.7,6,   103.73,6,    40.26,6,     0.00,6,     2.92,6,   -999.0,9,   -999.0,9,-999.0000,9,  -999.00,     1932
  49UF20101109,KS1008,  2835,  1,     14,  21973,2,20101111,1853, 40.0092, 144.0382, 4427,    708.2,   3.5070,  34.1223,2,-999.0000,9,     47.6,2,   113.98,2,    41.30,2,     0.00,2,     2.97,2,   -999.0,9,   -999.0,9,-999.0000,9,  -999.00,     1929
  49UF20101109,KS1008,  2835,  1,     13,  21972,2,20101111,1853, 40.0092, 144.0382, 4427,    809.2,   3.5356,  34.2437,2,-999.0000,9,     45.3,2,   120.42,2,    40.89,2,     0.00,2,     2.94,2,   -999.0,9,   -999.0,9,-999.0000,9,  -999.00,     1925
  49UF20101109,KS1008,  2835,  1,     12,  21971,2,20101111,1853, 40.0092, 144.0382, 4427,    809.2,   3.5356,  34.2437,2,-999.0000,9,     45.0,2,   120.86,2,    41.07,2,     0.00,2,     2.96,2,   -999.0,9,   -999.0,9,-999.0000,9,  -999.00,     1925
  49UF20101109,KS1008,  2835,  1,     11,  21970,2,20101111,1853, 40.0092, 144.0382, 4427,    907.5,   3.4150,  34.3223,2,-999.0000,9,     45.4,2,   125.82,2,    40.87,2,     0.00,2,     2.94,2,   -999.0,9,   -999.0,9,-999.0000,9,  -999.00,     1923
  49UF20101109,KS1008,  2835,  1,     10,  21969,2,20101111,1853, 40.0092, 144.0382, 4427,    907.5,   3.4150,  34.3223,2,-999.0000,9,     45.3,2,   126.45,2,    41.15,2,     0.00,2,     2.96,2,   -999.0,9,   -999.0,9,-999.0000,9,  -999.00,     1923
  49UF20101109,KS1008,  2835,  1,      6,  21965,2,20101111,1853, 40.0092, 144.0382, 4427,   1010.3,   3.1413,  34.3523,2,-999.0000,9,     41.7,2,   134.57,2,    41.66,2,     0.00,2,     3.00,2,   -999.0,9,   -999.0,9,-999.0000,9,  -999.00,     1920
  49UF20101109,KS1008,  2835,  1,      5,  21964,2,20101111,1853, 40.0092, 144.0382, 4427,   1214.2,   2.8002,  34.4307,2,-999.0000,9,     41.0,2,   144.53,2,    42.19,2,     0.00,2,     3.01,2,   -999.0,9,   -999.0,9,-999.0000,9,  -999.00,     1915
  49UF20101109,KS1008,  2835,  1,      4,  21963,2,20101111,1853, 40.0092, 144.0382, 4427,   1418.2,   2.4870,  34.4739,2,-999.0000,9,     42.3,2,   154.43,2,    42.11,2,     0.00,2,     3.02,2,   -999.0,9,   -999.0,9,-999.0000,9,  -999.00,     1908
  49UF20101109,KS1008,  2835,  1,      3,  21962,2,20101111,1853, 40.0092, 144.0382, 4427,   1619.8,   2.2977,  34.5256,2,-999.0000,9,     50.4,2,   158.33,2,    41.90,2,     0.00,2,     2.99,2,   -999.0,9,   -999.0,9,-999.0000,9,  -999.00,     1903
  49UF20101109,KS1008,  2835,  1,      2,  21961,2,20101111,1853, 40.0092, 144.0382, 4427,   1823.6,   2.1635,  34.5542,2,-999.0000,9,     57.8,2,   161.24,2,    41.29,2,     0.00,2,     2.95,2,   -999.0,9,   -999.0,9,-999.0000,9,  -999.00,     1858
  49UF20101109,KS1008,  2835,  1,      1,  21960,2,20101111,1853, 40.0092, 144.0382, 4427,   2027.3,   2.0269,  34.5823,2,-999.0000,9,     69.4,2,   161.79,2,    40.77,2,     0.00,2,     2.90,2,   -999.0,9,   -999.0,9,-999.0000,9,  -999.00,     1853