BOTTLE,20190925PRINUNIVRMK
EXPOCODE,SECT_ID,STNNBR,CASTNO,SAMPNO,BTLNBR,BTLNBR_FLAG_W,DATE,TIME,LATITUDE,LONGITUDE,DEPTH,CTDPRS,CTDTMP,CTDSAL,CTDSAL_FLAG_W,SALNTY,SALNTY_FLAG_W,OXYGEN,OXYGEN_FLAG_W,SILCAT,SILCAT_FLAG_W,NITRAT,NITRAT_FLAG_W,NITRIT,NITRIT_FLAG_W,PHSPHT,PHSPHT_FLAG_W,TCARBN,TCARBN_FLAG_W,ALKALI,ALKALI_FLAG_W,PH_TOT,PH_TOT_FLAG_W,PH_TMP,BTL_TIME
,,,,,,,,,,,METERS,DBAR,ITS-90,PSS-78,,PSS-78,,UMOL/KG,,UMOL/KG,,UMOL/KG,,UMOL/KG,,UMOL/KG,,UMOL/KG,,UMOL/KG,,,,DEG C,
  49UF20101109,KS1008,  2860,  1,     99,     99,2,20101118,1417, 40.0117, 163.0120, 4934,      0.0,  16.7261,  34.2676,2,-999.0000,9,    241.1,2,     3.68,2,     0.51,2,     0.05,2,     0.08,2,   -999.0,9,   -999.0,9,-999.0000,9,  -999.00,     1455
  49UF20101109,KS1008,  2860,  1,     33,  21993,2,20101118,1417, 40.0117, 163.0120, 4934,     12.1,  16.7237,  34.2677,2,-999.0000,9,    240.6,2,     3.68,2,     0.48,2,     0.05,2,     0.08,2,   -999.0,9,   -999.0,9,-999.0000,9,  -999.00,     1518
  49UF20101109,KS1008,  2860,  1,     32,  21992,2,20101118,1417, 40.0117, 163.0120, 4934,     27.0,  16.7289,  34.2675,2,-999.0000,9,    240.6,2,     3.60,2,     0.50,2,     0.05,2,     0.08,2,   -999.0,9,   -999.0,9,-999.0000,9,  -999.00,     1517
  49UF20101109,KS1008,  2860,  1,     31,  21991,2,20101118,1417, 40.0117, 163.0120, 4934,     52.1,  16.7346,  34.2403,2,-999.0000,9,    240.4,2,     3.71,2,     0.51,2,     0.05,2,     0.08,2,   -999.0,9,   -999.0,9,-999.0000,9,  -999.00,     1515
  49UF20101109,KS1008,  2860,  1,     30,  21990,2,20101118,1417, 40.0117, 163.0120, 4934,     79.4,  13.9421,  34.4349,2,-999.0000,9,    222.0,2,    10.13,2,     8.59,2,     0.02,2,     0.59,2,   -999.0,9,   -999.0,9,-999.0000,9,  -999.00,     1513
  49UF20101109,KS1008,  2860,  1,     29,  21989,2,20101118,1417, 40.0117, 163.0120, 4934,    102.7,  13.3198,  34.4104,2,-999.0000,9,    228.4,2,    10.54,2,     9.00,2,     0.01,2,     0.61,2,   -999.0,9,   -999.0,9,-999.0000,9,  -999.00,     1512
  49UF20101109,KS1008,  2860,  1,     28,  21988,2,20101118,1417, 40.0117, 163.0120, 4934,    128.3,  12.5770,  34.3576,2,-999.0000,9,    229.2,2,    12.62,2,     9.99,2,     0.01,2,     0.69,2,   -999.0,9,   -999.0,9,-999.0000,9,  -999.00,     1510
  49UF20101109,KS1008,  2860,  1,     24,  21984,2,20101118,1417, 40.0117, 163.0120, 4934,    151.0,  12.0676,  34.3204,2,-999.0000,9,    230.5,2,    14.11,2,    10.87,2,     0.01,2,     0.75,2,   -999.0,9,   -999.0,9,-999.0000,9,  -999.00,     1506
  49UF20101109,KS1008,  2860,  1,     23,  21983,2,20101118,1417, 40.0117, 163.0120, 4934,    203.7,  11.2419,  34.2813,2,-999.0000,9,    246.5,2,    14.23,2,    10.68,2,     0.01,2,     0.74,2,   -999.0,9,   -999.0,9,-999.0000,9,  -999.00,     1504
  49UF20101109,KS1008,  2860,  1,     22,  21982,2,20101118,1417, 40.0117, 163.0120, 4934,    254.0,  10.6201,  34.2320,2,-999.0000,9,    245.0,2,    16.28,2,    11.78,2,     0.00,2,     0.84,2,   -999.0,9,   -999.0,9,-999.0000,9,  -999.00,     1502
  49UF20101109,KS1008,  2860,  1,     21,  21981,2,20101118,1417, 40.0117, 163.0120, 4934,    304.2,   9.9576,  34.1719,2,-999.0000,9,    241.0,6,    19.00,6,    13.41,6,     0.01,6,     0.95,6,   -999.0,9,   -999.0,9,-999.0000,9,  -999.00,     1500
  49UF20101109,KS1008,  2860,  1,     20,  21980,2,20101118,1417, 40.0117, 163.0120, 4934,    406.5,   8.1717,  34.0427,2,-999.0000,9,    197.9,2,    34.18,2,    20.58,2,     0.00,2,     1.47,2,   -999.0,9,   -999.0,9,-999.0000,9,  -999.00,     1457
  49UF20101109,KS1008,  2860,  1,     19,  21978,2,20101118,1417, 40.0117, 163.0120, 4934,    506.3,   6.1443,  33.9616,2,-999.0000,9,    156.9,2,    55.03,2,    28.15,2,     0.00,2,     2.02,2,   -999.0,9,   -999.0,9,-999.0000,9,  -999.00,     1454
  49UF20101109,KS1008,  2860,  1,     15,  21974,2,20101118,1417, 40.0117, 163.0120, 4934,    606.6,   4.9260,  33.9731,2,-999.0000,9,    117.9,2,    74.39,2,    33.68,2,     0.00,2,     2.42,2,   -999.0,9,   -999.0,9,-999.0000,9,  -999.00,     1451
  49UF20101109,KS1008,  2860,  1,     14,  21973,2,20101118,1417, 40.0117, 163.0120, 4934,    606.6,   4.9260,  33.9731,2,-999.0000,9,    117.5,2,    74.28,2,    33.71,2,     0.00,2,     2.42,2,   -999.0,9,   -999.0,9,-999.0000,9,  -999.00,     1451
  49UF20101109,KS1008,  2860,  1,     13,  21972,2,20101118,1417, 40.0117, 163.0120, 4934,    707.5,   4.4689,  34.0796,2,-999.0000,9,     81.6,2,    91.15,2,    37.59,2,     0.00,2,     2.67,2,   -999.0,9,   -999.0,9,-999.0000,9,  -999.00,     1448
  49UF20101109,KS1008,  2860,  1,     12,  21971,2,20101118,1417, 40.0117, 163.0120, 4934,    707.5,   4.4689,  34.0796,2,-999.0000,9,     81.3,2,    90.89,2,    37.48,2,     0.00,2,     2.66,2,   -999.0,9,   -999.0,9,-999.0000,9,  -999.00,     1448
  49UF20101109,KS1008,  2860,  1,     11,  21970,2,20101118,1417, 40.0117, 163.0120, 4934,    809.3,   4.1018,  34.1750,2,-999.0000,9,     58.5,2,   105.11,2,    39.80,2,     0.00,2,     2.82,2,   -999.0,9,   -999.0,9,-999.0000,9,  -999.00,     1445
  49UF20101109,KS1008,  2860,  1,     10,  21969,2,20101118,1417, 40.0117, 163.0120, 4934,    910.3,   3.7988,  34.2472,2,-999.0000,9,     47.0,2,   115.62,2,    40.99,2,     0.00,2,     2.90,2,   -999.0,9,   -999.0,9,-999.0000,9,  -999.00,     1442
  49UF20101109,KS1008,  2860,  1,      6,  21965,2,20101118,1417, 40.0117, 163.0120, 4934,   1010.2,   3.4780,  34.3043,2,-999.0000,9,     39.2,2,   125.87,2,    41.73,2,     0.00,2,     2.96,2,   -999.0,9,   -999.0,9,-999.0000,9,  -999.00,     1440
  49UF20101109,KS1008,  2860,  1,      5,  21964,2,20101118,1417, 40.0117, 163.0120, 4934,   1213.7,   2.9713,  34.3940,2,-999.0000,9,     33.4,2,   140.98,2,    42.59,2,     0.00,2,     3.01,2,   -999.0,9,   -999.0,9,-999.0000,9,  -999.00,     1435
  49UF20101109,KS1008,  2860,  1,      4,  21963,2,20101118,1417, 40.0117, 163.0120, 4934,   1417.0,   2.5985,  34.4596,2,-999.0000,9,     34.7,2,   152.20,2,    42.92,2,     0.00,2,     3.02,2,   -999.0,9,   -999.0,9,-999.0000,9,  -999.00,     1430
  49UF20101109,KS1008,  2860,  1,      3,  21962,2,20101118,1417, 40.0117, 163.0120, 4934,   1621.0,   2.3778,  34.5009,2,-999.0000,9,     40.4,2,   158.40,2,    42.62,2,     0.00,2,     3.00,2,   -999.0,9,   -999.0,9,-999.0000,9,  -999.00,     1426
  49UF20101109,KS1008,  2860,  1,      2,  21961,2,20101118,1417, 40.0117, 163.0120, 4934,   1823.2,   2.1803,  34.5407,2,-999.0000,9,     50.1,6,   162.49,6,    42.25,6,     0.00,6,     2.96,6,   -999.0,9,   -999.0,9,-999.0000,9,  -999.00,     1422
  49UF20101109,KS1008,  2860,  1,      1,  21960,2,20101118,1417, 40.0117, 163.0120, 4934,   2026.0,   2.0202,  34.5733,2,-999.0000,9,     61.8,2,   165.19,2,    41.61,2,     0.00,2,     2.90,2,   -999.0,9,   -999.0,9,-999.0000,9,  -999.00,     1417
  49UF20101109,KS1008,  2861,  1,     99,     99,2,20101118,1935, 39.9907, 164.0212, 4695,      0.0,  15.6560,  34.2690,2,-999.0000,9,    245.2,2,     4.63,2,     1.16,2,     0.11,2,     0.14,2,   -999.0,9,   -999.0,9,-999.0000,9,  -999.00,     2015
  49UF20101109,KS1008,  2861,  1,     33,  21993,2,20101118,1935, 39.9907, 164.0212, 4695,     11.1,  15.6577,  34.2692,2,-999.0000,9,    244.8,2,     4.56,2,     1.25,2,     0.11,2,     0.14,2,   -999.0,9,   -999.0,9,-999.0000,9,  -999.00,     2034
  49UF20101109,KS1008,  2861,  1,     32,  21992,2,20101118,1935, 39.9907, 164.0212, 4695,     24.9,  15.6597,  34.2692,2,-999.0000,9,    244.6,2,     4.58,2,     1.21,2,     0.11,2,     0.14,2,   -999.0,9,   -999.0,9,-999.0000,9,  -999.00,     2033
  49UF20101109,KS1008,  2861,  1,     31,  21991,2,20101118,1935, 39.9907, 164.0212, 4695,     52.1,  15.6638,  34.2687,2,-999.0000,9,    244.7,2,     4.58,2,     1.23,2,     0.11,2,     0.14,2,   -999.0,9,   -999.0,9,-999.0000,9,  -999.00,     2031
  49UF20101109,KS1008,  2861,  1,     30,  21990,2,20101118,1935, 39.9907, 164.0212, 4695,     76.5,  13.4984,  34.4321,2,-999.0000,9,    238.5,2,     8.76,2,     7.26,2,     0.12,2,     0.51,2,   -999.0,9,   -999.0,9,-999.0000,9,  -999.00,     2029
  49UF20101109,KS1008,  2861,  1,     29,  21989,2,20101118,1935, 39.9907, 164.0212, 4695,    101.8,  13.3756,  34.4310,2,-999.0000,9,    237.2,2,     8.93,2,     7.64,2,     0.01,2,     0.53,2,   -999.0,9,   -999.0,9,-999.0000,9,  -999.00,     2028
  49UF20101109,KS1008,  2861,  1,     28,  21988,2,20101118,1935, 39.9907, 164.0212, 4695,    126.5,  13.3131,  34.4266,2,-999.0000,9,    239.2,2,     9.22,2,     7.64,2,     0.01,2,     0.53,2,   -999.0,9,   -999.0,9,-999.0000,9,  -999.00,     2026
  49UF20101109,KS1008,  2861,  1,     24,  21984,2,20101118,1935, 39.9907, 164.0212, 4695,    152.3,  13.1814,  34.4125,2,-999.0000,9,    238.0,2,     9.78,2,     7.96,2,     0.01,2,     0.55,2,   -999.0,9,   -999.0,9,-999.0000,9,  -999.00,     2022
  49UF20101109,KS1008,  2861,  1,     23,  21983,2,20101118,1935, 39.9907, 164.0212, 4695,    205.5,  12.1362,  34.3279,2,-999.0000,9,    233.1,2,    13.00,2,    10.22,2,     0.01,2,     0.71,2,   -999.0,9,   -999.0,9,-999.0000,9,  -999.00,     2021
  49UF20101109,KS1008,  2861,  1,     22,  21982,2,20101118,1935, 39.9907, 164.0212, 4695,    253.3,  11.3859,  34.2856,2,-999.0000,9,    244.1,2,    14.13,2,    10.49,2,     0.00,2,     0.75,2,   -999.0,9,   -999.0,9,-999.0000,9,  -999.00,     2019
  49UF20101109,KS1008,  2861,  1,     21,  21981,2,20101118,1935, 39.9907, 164.0212, 4695,    305.4,  10.9710,  34.2617,2,-999.0000,9,    246.8,2,    14.95,2,    10.94,2,     0.00,2,     0.79,2,   -999.0,9,   -999.0,9,-999.0000,9,  -999.00,     2017
  49UF20101109,KS1008,  2861,  1,     20,  21980,2,20101118,1935, 39.9907, 164.0212, 4695,    403.4,   9.4803,  34.1331,2,-999.0000,9,    243.0,2,    20.32,6,    14.01,6,     0.00,6,     1.02,6,   -999.0,9,   -999.0,9,-999.0000,9,  -999.00,     2015
  49UF20101109,KS1008,  2861,  1,     19,  21978,2,20101118,1935, 39.9907, 164.0212, 4695,    506.1,   6.9872,  33.9858,2,-999.0000,9,    176.2,2,    44.97,2,    24.60,2,     0.00,2,     1.79,2,   -999.0,9,   -999.0,9,-999.0000,9,  -999.00,     2012
  49UF20101109,KS1008,  2861,  1,     15,  21974,2,20101118,1935, 39.9907, 164.0212, 4695,    607.9,   5.5573,  33.9719,2,-999.0000,9,    138.3,2,    63.83,2,    30.52,2,     0.00,2,     2.22,2,   -999.0,9,   -999.0,9,-999.0000,9,  -999.00,     2009
  49UF20101109,KS1008,  2861,  1,     14,  21973,2,20101118,1935, 39.9907, 164.0212, 4695,    708.7,   4.6794,  34.0338,2,-999.0000,9,     96.6,2,    83.13,2,    35.56,2,     0.00,2,     2.58,2,   -999.0,9,   -999.0,9,-999.0000,9,  -999.00,     2006
  49UF20101109,KS1008,  2861,  1,     13,  21972,2,20101118,1935, 39.9907, 164.0212, 4695,    809.7,   4.1918,  34.1498,2,-999.0000,9,     63.3,2,   100.69,2,    38.99,2,     0.00,2,     2.80,2,   -999.0,9,   -999.0,9,-999.0000,9,  -999.00,     2004
  49UF20101109,KS1008,  2861,  1,     12,  21971,2,20101118,1935, 39.9907, 164.0212, 4695,    809.7,   4.1918,  34.1498,2,-999.0000,9,     63.7,2,   100.94,2,    38.94,2,     0.00,2,     2.80,2,   -999.0,9,   -999.0,9,-999.0000,9,  -999.00,     2004
  49UF20101109,KS1008,  2861,  1,     11,  21970,2,20101118,1935, 39.9907, 164.0212, 4695,    910.1,   3.8282,  34.2306,2,-999.0000,9,     46.9,2,   113.88,2,    40.75,2,     0.00,2,     2.92,2,   -999.0,9,   -999.0,9,-999.0000,9,  -999.00,     2001
  49UF20101109,KS1008,  2861,  1,     10,  21969,2,20101118,1935, 39.9907, 164.0212, 4695,    910.1,   3.8282,  34.2306,2,-999.0000,9,     46.9,2,   113.88,2,    40.77,2,     0.00,2,     2.92,2,   -999.0,9,   -999.0,9,-999.0000,9,  -999.00,     2001
  49UF20101109,KS1008,  2861,  1,      6,  21965,2,20101118,1935, 39.9907, 164.0212, 4695,   1012.0,   3.5355,  34.2931,2,-999.0000,9,     40.0,2,   123.30,2,    41.56,2,     0.00,2,     2.98,2,   -999.0,9,   -999.0,9,-999.0000,9,  -999.00,     1958
  49UF20101109,KS1008,  2861,  1,      5,  21964,2,20101118,1935, 39.9907, 164.0212, 4695,   1215.8,   3.0252,  34.3828,2,-999.0000,9,     33.8,2,   138.15,2,    42.71,2,     0.00,2,     3.04,2,   -999.0,9,   -999.0,9,-999.0000,9,  -999.00,     1953
  49UF20101109,KS1008,  2861,  1,      4,  21963,2,20101118,1935, 39.9907, 164.0212, 4695,   1417.3,   2.6780,  34.4503,2,-999.0000,9,     35.2,2,   149.33,2,    42.82,2,     0.00,2,     3.05,2,   -999.0,9,   -999.0,9,-999.0000,9,  -999.00,     1949
  49UF20101109,KS1008,  2861,  1,      3,  21962,2,20101118,1935, 39.9907, 164.0212, 4695,   1621.7,   2.4008,  34.4986,2,-999.0000,9,     39.6,2,   157.26,2,    42.76,2,     0.00,2,     3.03,2,   -999.0,9,   -999.0,9,-999.0000,9,  -999.00,     1944
  49UF20101109,KS1008,  2861,  1,      2,  21961,2,20101118,1935, 39.9907, 164.0212, 4695,   1822.8,   2.2390,  34.5329,2,-999.0000,9,     47.5,2,   160.71,2,    42.41,2,     0.00,2,     3.00,2,   -999.0,9,   -999.0,9,-999.0000,9,  -999.00,     1939
  49UF20101109,KS1008,  2861,  1,      1,  21960,2,20101118,1935, 39.9907, 164.0212, 4695,   2025.2,   2.0600,  34.5672,2,-999.0000,9,     59.4,6,   163.80,6,    41.71,6,     0.00,6,     2.94,6,   -999.0,9,   -999.0,9,-999.0000,9,  -999.00,     1935
  49UF20101109,KS1008,  2862,  1,     99,     99,2,20101119,0059, 39.9933, 165.0220, 5465,      0.0,  16.0426,  34.0986,2,-999.0000,9,    240.7,2,     4.57,2,     1.87,2,     0.09,2,     0.20,2,   -999.0,9,   -999.0,9,-999.0000,9,  -999.00,      140
  49UF20101109,KS1008,  2862,  1,     33,  21993,2,20101119,0059, 39.9933, 165.0220, 5465,     11.6,  16.0476,  34.0987,2,  34.0997,6,    239.9,6,     4.65,6,     1.86,6,     0.09,6,     0.20,6,   2004.1,2,   2254.8,2,   7.9513,2,    25.00,      157
  49UF20101109,KS1008,  2862,  1,     32,  21992,2,20101119,0059, 39.9933, 165.0220, 5465,     27.0,  16.0466,  34.0981,2,-999.0000,9,    239.8,2,     4.54,2,     1.82,2,     0.08,2,     0.20,2,   2006.4,2,   2259.0,2,   7.9789,2,    25.00,      156
  49UF20101109,KS1008,  2862,  1,     31,  21991,2,20101119,0059, 39.9933, 165.0220, 5465,     53.3,  16.0512,  34.0980,2,-999.0000,9,    239.6,2,     4.55,2,     1.82,2,     0.09,2,     0.19,2,   2007.7,2,   2254.6,2,   7.9682,2,    25.00,      154
  49UF20101109,KS1008,  2862,  1,     30,  21990,2,20101119,0059, 39.9933, 165.0220, 5465,     79.3,  15.2801,  34.4928,2,-999.0000,9,    210.5,2,     8.72,2,     6.89,2,     0.05,2,     0.49,2,   2049.8,2,   2272.6,2,   7.9080,2,    25.00,      153
  49UF20101109,KS1008,  2862,  1,     29,  21989,2,20101119,0059, 39.9933, 165.0220, 5465,    104.1,  13.8381,  34.4361,2,  34.4401,6,    209.3,2,    12.08,2,     9.75,2,     0.01,2,     0.67,2,   2072.2,2,   2270.6,2,   7.8638,2,    25.00,      152
  49UF20101109,KS1008,  2862,  1,     28,  21988,2,20101119,0059, 39.9933, 165.0220, 5465,    129.0,  12.7374,  34.3697,2,-999.0000,9,    205.3,2,    15.42,2,    11.88,2,     0.01,2,     0.82,2,   2089.4,2,   2272.7,2,   7.8254,2,    25.00,      151
  49UF20101109,KS1008,  2862,  1,     24,  21984,2,20101119,0059, 39.9933, 165.0220, 5465,    153.3,  11.8338,  34.3066,2,-999.0000,9,    203.6,2,    18.74,2,    13.45,2,     0.01,2,     0.94,2,   2101.5,2,   2271.0,2,   7.7932,2,    25.00,      149
  49UF20101109,KS1008,  2862,  1,     23,  21983,2,20101119,0059, 39.9933, 165.0220, 5465,    201.9,  10.1557,  34.1738,2,  34.1722,2,    213.3,2,    23.19,2,    15.34,2,     0.00,2,     1.09,2,   2116.3,2,   2269.4,2,   7.7609,2,    25.00,      144
  49UF20101109,KS1008,  2862,  1,     22,  21982,2,20101119,0059, 39.9933, 165.0220, 5465,    253.2,   9.1892,  34.0964,2,-999.0000,9,    230.3,2,    23.80,2,    15.80,2,     0.01,2,     1.14,2,   2109.7,2,   2269.2,2,   7.7622,2,    25.00,      143
  49UF20101109,KS1008,  2862,  1,     21,  21981,2,20101119,0059, 39.9933, 165.0220, 5465,    303.5,   8.0958,  34.0217,2,-999.0000,9,    203.4,2,    33.27,2,    20.07,2,     0.00,2,     1.45,2,   2142.7,2,   2268.5,2,   7.6816,2,    25.00,      141
  49UF20101109,KS1008,  2862,  1,     20,  21980,2,20101119,0059, 39.9933, 165.0220, 5465,    405.3,   6.3110,  33.9680,2,  33.9686,2,    159.2,2,    53.15,2,    27.45,2,     0.00,2,     1.99,2,   2206.6,6,   2282.0,6,   7.5552,6,    25.00,      139
  49UF20101109,KS1008,  2862,  1,     19,  21978,2,20101119,0059, 39.9933, 165.0220, 5465,    506.1,   4.9533,  33.9739,2,-999.0000,9,    118.9,6,    73.50,6,    33.49,6,     0.00,6,     2.42,6,   2257.0,2,   2295.4,2,   7.4520,2,    25.00,      136
  49UF20101109,KS1008,  2862,  1,     15,  21974,2,20101119,0059, 39.9933, 165.0220, 5465,    607.5,   4.4047,  34.0718,2,  34.0705,2,     82.2,2,    90.92,2,    37.23,2,     0.00,2,     2.67,2,   2290.3,2,   2310.9,2,   7.3941,2,    25.00,      133
  49UF20101109,KS1008,  2862,  1,     14,  21973,2,20101119,0059, 39.9933, 165.0220, 5465,    709.6,   4.1462,  34.1612,2,-999.0000,9,     62.9,2,   102.62,2,    39.08,2,     0.00,2,     2.80,2,   2320.7,6,   2328.8,6,   7.3572,6,    25.00,      130
  49UF20101109,KS1008,  2862,  1,     13,  21972,2,20101119,0059, 39.9933, 165.0220, 5465,    811.7,   3.6850,  34.2074,2,  34.2071,2,     44.7,2,   115.35,2,    41.28,2,     0.00,2,     2.92,2,   2344.3,2,   2341.4,2,   7.3272,2,    25.00,      127
  49UF20101109,KS1008,  2862,  1,     12,  21971,2,20101119,0059, 39.9933, 165.0220, 5465,    910.6,   3.3554,  34.2711,2,-999.0000,9,     36.7,2,   126.84,2,    42.31,2,     0.00,2,     3.00,2,   2353.7,2,   2354.7,2,   7.3177,2,    25.00,      124
  49UF20101109,KS1008,  2862,  1,     11,  21970,2,20101119,0059, 39.9933, 165.0220, 5465,   1012.8,   3.1595,  34.3398,2,-999.0000,9,     38.0,2,   133.63,2,    42.12,2,     0.00,2,     3.01,2,   2357.7,2,   2361.7,2,   7.3247,4,    25.00,      122
  49UF20101109,KS1008,  2862,  1,     10,  21969,2,20101119,0059, 39.9933, 165.0220, 5465,   1012.8,   3.1595,  34.3398,2,  34.3395,2,     38.4,2,   133.41,2,    41.90,2,     0.00,2,     2.99,2,   2361.4,2,   2359.4,2,   7.3083,2,    25.00,      121
  49UF20101109,KS1008,  2862,  1,      6,  21965,2,20101119,0059, 39.9933, 165.0220, 5465,   1215.4,   2.8555,  34.4089,2,-999.0000,9,     36.5,2,   143.40,2,    42.60,2,     0.00,2,     3.00,2,   2371.9,2,   2379.6,2,   7.3217,2,    25.00,      116
  49UF20101109,KS1008,  2862,  1,      5,  21964,2,20101119,0059, 39.9933, 165.0220, 5465,   1215.4,   2.8555,  34.4089,2,  34.3881,4,     36.2,2,   143.08,2,    42.51,2,     0.00,2,     3.01,2,   2374.2,2,   2377.8,2,   7.3225,2,    25.00,      116
  49UF20101109,KS1008,  2862,  1,      4,  21963,2,20101119,0059, 39.9933, 165.0220, 5465,   1418.2,   2.5360,  34.4723,2,  34.4710,2,     37.4,2,   152.96,2,    42.79,2,     0.00,2,     3.02,2,   2377.4,2,   2390.9,2,   7.3265,2,    25.00,      112
  49UF20101109,KS1008,  2862,  1,      3,  21962,2,20101119,0059, 39.9933, 165.0220, 5465,   1620.7,   2.3339,  34.5158,2,  34.5260,4,     43.6,2,   158.07,2,    42.54,2,     0.00,2,     2.99,2,   2376.2,2,   2400.7,2,   7.3428,2,    25.00,      108
  49UF20101109,KS1008,  2862,  1,      2,  21961,2,20101119,0059, 39.9933, 165.0220, 5465,   1822.4,   2.1413,  34.5525,2,  34.5526,2,     55.9,3,   161.59,2,    41.97,2,     0.00,2,     2.93,2,   2382.6,2,   2406.2,2,   7.3700,2,    25.00,      103
  49UF20101109,KS1008,  2862,  1,      1,  21960,2,20101119,0059, 39.9933, 165.0220, 5465,   2023.5,   1.9961,  34.5787,2,  34.5784,2,     64.7,2,   163.93,2,    41.41,2,     0.00,2,     2.89,2,   2373.6,2,   2407.3,2,   7.3931,2,    25.00,       59