BOTTLE,20190925PRINUNIVRMK
EXPOCODE,SECT_ID,STNNBR,CASTNO,SAMPNO,BTLNBR,BTLNBR_FLAG_W,DATE,TIME,LATITUDE,LONGITUDE,DEPTH,CTDPRS,CTDTMP,CTDSAL,CTDSAL_FLAG_W,SALNTY,SALNTY_FLAG_W,OXYGEN,OXYGEN_FLAG_W,SILCAT,SILCAT_FLAG_W,NITRAT,NITRAT_FLAG_W,NITRIT,NITRIT_FLAG_W,PHSPHT,PHSPHT_FLAG_W,TCARBN,TCARBN_FLAG_W,ALKALI,ALKALI_FLAG_W,PH_TOT,PH_TOT_FLAG_W,PH_TMP,BTL_TIME
,,,,,,,,,,,METERS,DBAR,ITS-90,PSS-78,,PSS-78,,UMOL/KG,,UMOL/KG,,UMOL/KG,,UMOL/KG,,UMOL/KG,,UMOL/KG,,UMOL/KG,,,,DEG C,
  49UF20101109,KS1008,  2843,  1,     99,     99,2,20101114,0216, 40.0008, 148.0117, 5315,      0.0,  11.2603,  32.4690,2,-999.0000,9,    277.6,2,    13.13,4,     8.40,2,     0.16,2,     0.91,2,   -999.0,9,   -999.0,9,-999.0000,9,  -999.00,      254
  49UF20101109,KS1008,  2843,  1,     33,  21993,2,20101114,0216, 40.0008, 148.0117, 5315,     10.9,  11.2452,  32.4687,2,-999.0000,9,    277.8,2,    13.08,4,     8.36,2,     0.16,2,     0.90,2,   -999.0,9,   -999.0,9,-999.0000,9,  -999.00,      317
  49UF20101109,KS1008,  2843,  1,     32,  21992,3,20101114,0216, 40.0008, 148.0117, 5315,     26.5,  11.1849,  32.4680,2,-999.0000,9,    276.6,2,    13.07,4,     8.37,2,     0.16,2,     0.91,2,   -999.0,9,   -999.0,9,-999.0000,9,  -999.00,      316
  49UF20101109,KS1008,  2843,  1,     31,  21991,2,20101114,0216, 40.0008, 148.0117, 5315,     51.4,   8.1761,  32.7146,2,-999.0000,9,    289.6,3,    21.06,4,    14.65,2,     0.24,2,     1.37,2,   -999.0,9,   -999.0,9,-999.0000,9,  -999.00,      311
  49UF20101109,KS1008,  2843,  1,     30,  21990,2,20101114,0216, 40.0008, 148.0117, 5315,     76.6,   2.3833,  33.0529,2,-999.0000,9,    302.3,2,    36.57,4,    24.16,2,     0.01,2,     1.94,2,   -999.0,9,   -999.0,9,-999.0000,9,  -999.00,      309
  49UF20101109,KS1008,  2843,  1,     29,  21989,2,20101114,0216, 40.0008, 148.0117, 5315,    102.8,   1.7197,  33.0956,2,-999.0000,9,    300.4,2,    40.60,4,    25.83,2,     0.01,2,     2.04,2,   -999.0,9,   -999.0,9,-999.0000,9,  -999.00,      308
  49UF20101109,KS1008,  2843,  1,     28,  21988,2,20101114,0216, 40.0008, 148.0117, 5315,    127.7,   1.5046,  33.1481,2,-999.0000,9,    284.0,6,    46.15,4,    27.56,6,     0.01,6,     2.15,6,   -999.0,9,   -999.0,9,-999.0000,9,  -999.00,      306
  49UF20101109,KS1008,  2843,  1,     24,  21984,2,20101114,0216, 40.0008, 148.0117, 5315,    152.3,   1.5854,  33.2432,2,-999.0000,9,    253.8,2,    53.67,4,    29.83,2,     0.00,2,     2.30,2,   -999.0,9,   -999.0,9,-999.0000,9,  -999.00,      305
  49UF20101109,KS1008,  2843,  1,     23,  21983,2,20101114,0216, 40.0008, 148.0117, 5315,    202.8,   2.1844,  33.4557,2,-999.0000,9,    183.2,2,    67.97,4,    34.54,2,     0.00,2,     2.58,2,   -999.0,9,   -999.0,9,-999.0000,9,  -999.00,      303
  49UF20101109,KS1008,  2843,  1,     22,  21982,2,20101114,0216, 40.0008, 148.0117, 5315,    253.6,   2.5424,  33.6026,2,-999.0000,9,    137.2,2,    78.58,4,    37.26,2,     0.00,2,     2.75,2,   -999.0,9,   -999.0,9,-999.0000,9,  -999.00,      301
  49UF20101109,KS1008,  2843,  1,     21,  21981,2,20101114,0216, 40.0008, 148.0117, 5315,    303.9,   2.8864,  33.7363,2,-999.0000,9,     94.3,2,    87.61,4,    39.98,2,     0.01,2,     2.90,2,   -999.0,9,   -999.0,9,-999.0000,9,  -999.00,      259
  49UF20101109,KS1008,  2843,  1,     20,  21980,2,20101114,0216, 40.0008, 148.0117, 5315,    405.5,   3.2480,  33.9271,2,-999.0000,9,     51.7,2,   101.16,4,    42.59,2,     0.00,2,     3.05,2,   -999.0,9,   -999.0,9,-999.0000,9,  -999.00,      256
  49UF20101109,KS1008,  2843,  1,     19,  21978,3,20101114,0216, 40.0008, 148.0117, 5315,    505.8,   3.2984,  34.0691,2,-999.0000,9,     38.0,2,   113.02,4,    42.79,2,     0.00,2,     3.08,2,   -999.0,9,   -999.0,9,-999.0000,9,  -999.00,      253
  49UF20101109,KS1008,  2843,  1,     15,  21974,2,20101114,0216, 40.0008, 148.0117, 5315,    607.4,   3.1257,  34.1910,2,-999.0000,9,     30.2,2,   125.70,4,    42.97,2,     0.00,2,     3.09,2,   -999.0,9,   -999.0,9,-999.0000,9,  -999.00,      249
  49UF20101109,KS1008,  2843,  1,     14,  21973,2,20101114,0216, 40.0008, 148.0117, 5315,    607.4,   3.1257,  34.1910,2,-999.0000,9,     30.6,2,   125.90,4,    43.18,2,     0.00,2,     3.09,2,   -999.0,9,   -999.0,9,-999.0000,9,  -999.00,      249
  49UF20101109,KS1008,  2843,  1,     13,  21972,2,20101114,0216, 40.0008, 148.0117, 5315,    708.1,   3.0994,  34.2871,2,-999.0000,9,     35.8,2,   130.76,4,    42.37,2,     0.00,2,     3.05,2,   -999.0,9,   -999.0,9,-999.0000,9,  -999.00,      246
  49UF20101109,KS1008,  2843,  1,     12,  21971,2,20101114,0216, 40.0008, 148.0117, 5315,    708.1,   3.0994,  34.2871,2,-999.0000,9,     36.9,4,   130.98,4,    42.41,2,     0.00,2,     3.05,2,   -999.0,9,   -999.0,9,-999.0000,9,  -999.00,      246
  49UF20101109,KS1008,  2843,  1,     11,  21970,2,20101114,0216, 40.0008, 148.0117, 5315,    809.8,   2.8689,  34.3347,2,-999.0000,9,     33.0,2,   138.98,4,    42.87,2,     0.00,2,     3.07,2,   -999.0,9,   -999.0,9,-999.0000,9,  -999.00,      243
  49UF20101109,KS1008,  2843,  1,     10,  21969,2,20101114,0216, 40.0008, 148.0117, 5315,    910.4,   2.7330,  34.3754,2,-999.0000,9,     35.1,2,   143.57,4,    42.73,2,     0.00,2,     3.06,2,   -999.0,9,   -999.0,9,-999.0000,9,  -999.00,      241
  49UF20101109,KS1008,  2843,  1,      6,  21965,2,20101114,0216, 40.0008, 148.0117, 5315,   1011.1,   2.6027,  34.4100,2,-999.0000,9,     36.2,6,   147.97,4,    42.73,6,     0.00,6,     3.06,6,   -999.0,9,   -999.0,9,-999.0000,9,  -999.00,      238
  49UF20101109,KS1008,  2843,  1,      5,  21964,2,20101114,0216, 40.0008, 148.0117, 5315,   1215.2,   2.3678,  34.4709,2,-999.0000,9,     43.0,2,   154.51,4,    42.47,2,     0.00,2,     3.03,2,   -999.0,9,   -999.0,9,-999.0000,9,  -999.00,      234
  49UF20101109,KS1008,  2843,  1,      4,  21963,2,20101114,0216, 40.0008, 148.0117, 5315,   1416.6,   2.2151,  34.5231,2,-999.0000,9,     51.5,2,   157.60,4,    42.11,2,     0.00,2,     2.99,2,   -999.0,9,   -999.0,9,-999.0000,9,  -999.00,      229
  49UF20101109,KS1008,  2843,  1,      3,  21962,2,20101114,0216, 40.0008, 148.0117, 5315,   1619.9,   2.0939,  34.5564,2,-999.0000,9,     59.8,2,   158.98,4,    41.76,2,     0.00,2,     2.96,2,   -999.0,9,   -999.0,9,-999.0000,9,  -999.00,      225
  49UF20101109,KS1008,  2843,  1,      2,  21961,2,20101114,0216, 40.0008, 148.0117, 5315,   1822.5,   1.9676,  34.5846,2,-999.0000,9,     70.6,2,   159.87,4,    41.04,2,     0.00,2,     2.90,2,   -999.0,9,   -999.0,9,-999.0000,9,  -999.00,      221
  49UF20101109,KS1008,  2843,  1,      1,  21960,2,20101114,0216, 40.0008, 148.0117, 5315,   2037.5,   1.8585,  34.6059,2,-999.0000,9,     80.7,2,   160.82,4,    40.44,2,     0.00,2,     2.85,2,   -999.0,9,   -999.0,9,-999.0000,9,  -999.00,      216
  49UF20101109,KS1008,  2845,  1,     99,     99,2,20101114,1420, 40.0232, 149.0170, 5506,      0.0,  10.2472,  32.5808,2,-999.0000,9,    282.2,2,    12.36,4,     8.62,2,     0.16,2,     0.89,2,   -999.0,9,   -999.0,9,-999.0000,9,  -999.00,     1505
  49UF20101109,KS1008,  2845,  1,     33,  21993,2,20101114,1420, 40.0232, 149.0170, 5506,     11.7,  10.0740,  32.5953,2,-999.0000,9,    283.1,2,    12.83,4,     8.97,2,     0.16,2,     0.92,2,   -999.0,9,   -999.0,9,-999.0000,9,  -999.00,     1526
  49UF20101109,KS1008,  2845,  1,     32,  21992,3,20101114,1420, 40.0232, 149.0170, 5506,     26.9,   9.4733,  32.6465,2,-999.0000,9,    286.2,2,    15.24,4,    10.29,2,     0.16,2,     1.01,2,   -999.0,9,   -999.0,9,-999.0000,9,  -999.00,     1524
  49UF20101109,KS1008,  2845,  1,     31,  21991,3,20101114,1420, 40.0232, 149.0170, 5506,     52.6,   8.7711,  32.7065,2,-999.0000,9,    285.8,2,    16.76,4,    11.24,2,     0.16,2,     1.07,2,   -999.0,9,   -999.0,9,-999.0000,9,  -999.00,     1522
  49UF20101109,KS1008,  2845,  1,     30,  21990,2,20101114,1420, 40.0232, 149.0170, 5506,     77.8,   4.9380,  32.9541,2,-999.0000,9,    301.1,3,    29.08,4,    20.83,2,     0.10,2,     1.73,2,   -999.0,9,   -999.0,9,-999.0000,9,  -999.00,     1517
  49UF20101109,KS1008,  2845,  1,     29,  21989,2,20101114,1420, 40.0232, 149.0170, 5506,    102.3,   2.1402,  33.0814,2,-999.0000,9,    297.7,2,    38.40,4,    25.27,2,     0.02,2,     1.99,2,   -999.0,9,   -999.0,9,-999.0000,9,  -999.00,     1516
  49UF20101109,KS1008,  2845,  1,     28,  21988,3,20101114,1420, 40.0232, 149.0170, 5506,    127.7,   1.7439,  33.1475,2,-999.0000,9,    286.8,2,    43.03,4,    26.70,2,     0.02,2,     2.08,2,   -999.0,9,   -999.0,9,-999.0000,9,  -999.00,     1514
  49UF20101109,KS1008,  2845,  1,     24,  21984,2,20101114,1420, 40.0232, 149.0170, 5506,    153.0,   1.5697,  33.2204,2,-999.0000,9,    266.5,6,    48.90,4,    27.95,6,     0.01,6,     2.16,6,   -999.0,9,   -999.0,9,-999.0000,9,  -999.00,     1513
  49UF20101109,KS1008,  2845,  1,     23,  21983,2,20101114,1420, 40.0232, 149.0170, 5506,    202.1,   1.8651,  33.3535,2,-999.0000,9,    221.9,2,    59.95,4,    31.82,2,     0.01,2,     2.39,2,   -999.0,9,   -999.0,9,-999.0000,9,  -999.00,     1511
  49UF20101109,KS1008,  2845,  1,     22,  21982,2,20101114,1420, 40.0232, 149.0170, 5506,    253.7,   2.5290,  33.5228,2,-999.0000,9,    181.1,3,    66.07,4,    33.29,2,     0.01,2,     2.48,2,   -999.0,9,   -999.0,9,-999.0000,9,  -999.00,     1509
  49UF20101109,KS1008,  2845,  1,     21,  21981,2,20101114,1420, 40.0232, 149.0170, 5506,    304.4,   2.8933,  33.6627,2,-999.0000,9,    152.4,2,    73.49,4,    34.59,2,     0.01,2,     2.55,2,   -999.0,9,   -999.0,9,-999.0000,9,  -999.00,     1507
  49UF20101109,KS1008,  2845,  1,     20,  21980,2,20101114,1420, 40.0232, 149.0170, 5506,    406.9,   3.1056,  33.8099,2,-999.0000,9,    105.5,2,    86.99,4,    38.23,2,     0.01,2,     2.77,2,   -999.0,9,   -999.0,9,-999.0000,9,  -999.00,     1504
  49UF20101109,KS1008,  2845,  1,     19,  21978,2,20101114,1420, 40.0232, 149.0170, 5506,    507.6,   3.4893,  33.9891,2,-999.0000,9,     66.8,2,    99.05,4,    40.39,2,     0.00,2,     2.90,2,   -999.0,9,   -999.0,9,-999.0000,9,  -999.00,     1500
  49UF20101109,KS1008,  2845,  1,     15,  21974,2,20101114,1420, 40.0232, 149.0170, 5506,    608.2,   4.1076,  34.1964,2,-999.0000,9,     60.6,2,   102.74,4,    39.40,2,     0.00,2,     2.82,2,   -999.0,9,   -999.0,9,-999.0000,9,  -999.00,     1457
  49UF20101109,KS1008,  2845,  1,     14,  21973,2,20101114,1420, 40.0232, 149.0170, 5506,    709.2,   3.8324,  34.2775,2,-999.0000,9,     53.4,2,   112.63,4,    40.35,2,     0.00,2,     2.88,2,   -999.0,9,   -999.0,9,-999.0000,9,  -999.00,     1454
  49UF20101109,KS1008,  2845,  1,     13,  21972,2,20101114,1420, 40.0232, 149.0170, 5506,    811.2,   3.4484,  34.3243,2,-999.0000,9,     44.2,2,   122.52,4,    41.51,2,     0.00,2,     2.95,2,   -999.0,9,   -999.0,9,-999.0000,9,  -999.00,     1451
  49UF20101109,KS1008,  2845,  1,     12,  21971,2,20101114,1420, 40.0232, 149.0170, 5506,    811.2,   3.4484,  34.3243,2,-999.0000,9,     44.0,2,   122.63,4,    41.48,2,     0.00,2,     2.96,2,   -999.0,9,   -999.0,9,-999.0000,9,  -999.00,     1450
  49UF20101109,KS1008,  2845,  1,     11,  21970,2,20101114,1420, 40.0232, 149.0170, 5506,    911.4,   3.1881,  34.3624,2,-999.0000,9,     39.9,2,   130.19,4,    42.17,2,     0.00,2,     2.99,2,   -999.0,9,   -999.0,9,-999.0000,9,  -999.00,     1447
  49UF20101109,KS1008,  2845,  1,     10,  21969,2,20101114,1420, 40.0232, 149.0170, 5506,    911.4,   3.1881,  34.3624,2,-999.0000,9,     40.3,2,   130.13,4,    42.18,2,     0.00,2,     2.99,2,   -999.0,9,   -999.0,9,-999.0000,9,  -999.00,     1447
  49UF20101109,KS1008,  2845,  1,      6,  21965,2,20101114,1420, 40.0232, 149.0170, 5506,   1012.9,   2.9835,  34.3909,2,-999.0000,9,     38.8,2,   136.03,4,    42.42,2,     0.00,2,     3.01,2,   -999.0,9,   -999.0,9,-999.0000,9,  -999.00,     1444
  49UF20101109,KS1008,  2845,  1,      5,  21964,2,20101114,1420, 40.0232, 149.0170, 5506,   1215.2,   2.6362,  34.4528,2,-999.0000,9,     39.4,6,   146.21,4,    42.75,6,     0.00,6,     3.03,6,   -999.0,9,   -999.0,9,-999.0000,9,  -999.00,     1439
  49UF20101109,KS1008,  2845,  1,      4,  21963,2,20101114,1420, 40.0232, 149.0170, 5506,   1416.4,   2.4164,  34.5018,2,-999.0000,9,     44.4,2,   152.36,4,    42.68,2,     0.00,2,     3.01,2,   -999.0,9,   -999.0,9,-999.0000,9,  -999.00,     1434
  49UF20101109,KS1008,  2845,  1,      3,  21962,2,20101114,1420, 40.0232, 149.0170, 5506,   1618.4,   2.2301,  34.5341,2,-999.0000,9,     52.9,2,   156.20,4,    42.14,2,     0.00,2,     2.97,2,   -999.0,9,   -999.0,9,-999.0000,9,  -999.00,     1430
  49UF20101109,KS1008,  2845,  1,      2,  21961,2,20101114,1420, 40.0232, 149.0170, 5506,   1821.6,   2.0849,  34.5651,2,-999.0000,9,     62.8,2,   158.38,4,    41.66,2,     0.00,2,     2.93,2,   -999.0,9,   -999.0,9,-999.0000,9,  -999.00,     1425
  49UF20101109,KS1008,  2845,  1,      1,  21960,2,20101114,1420, 40.0232, 149.0170, 5506,   2024.6,   1.9539,  34.5920,2,-999.0000,9,     73.8,2,   158.97,4,    41.06,2,     0.00,2,     2.86,2,   -999.0,9,   -999.0,9,-999.0000,9,  -999.00,     1420
  49UF20101109,KS1008,  2847,  1,     99,     99,2,20101114,2223, 39.9995, 150.0292, 4984,      0.0,  15.7133,  33.8669,2,-999.0000,9,    240.5,2,     6.98,2,     3.21,2,     0.16,2,     0.32,2,   -999.0,9,   -999.0,9,-999.0000,9,  -999.00,     2300
  49UF20101109,KS1008,  2847,  1,     33,  21993,2,20101114,2223, 39.9995, 150.0292, 4984,     12.6,  15.7223,  33.8750,2,  33.8727,2,    239.7,2,     6.90,2,     3.13,2,     0.15,2,     0.31,2,   2010.6,2,   2256.5,2,   7.9539,2,    25.00,     2318
  49UF20101109,KS1008,  2847,  1,     32,  21992,2,20101114,2223, 39.9995, 150.0292, 4984,     27.6,  15.7436,  33.8802,2,-999.0000,9,    239.3,2,     6.94,2,     3.12,2,     0.15,2,     0.31,2,   2007.6,2,   2254.6,2,   7.9415,2,    25.00,     2317
  49UF20101109,KS1008,  2847,  1,     31,  21991,2,20101114,2223, 39.9995, 150.0292, 4984,     51.0,  15.6789,  33.8659,2,-999.0000,9,    239.2,2,     7.06,2,     3.18,2,     0.15,2,     0.32,2,   2007.2,2,   2250.6,2,   7.9301,2,    25.00,     2314
  49UF20101109,KS1008,  2847,  1,     30,  21990,2,20101114,2223, 39.9995, 150.0292, 4984,     76.2,  15.4425,  33.8487,2,-999.0000,9,    218.4,2,     9.84,2,     5.80,2,     0.13,2,     0.47,2,   2032.6,2,   2261.4,2,   7.9326,3,    25.00,     2312
  49UF20101109,KS1008,  2847,  1,     29,  21989,2,20101114,2223, 39.9995, 150.0292, 4984,    100.9,  13.9038,  34.4308,2,  34.4257,2,    175.3,2,    18.77,2,    12.92,2,     0.03,2,     0.91,2,   2098.6,2,   2282.3,2,   7.8122,2,    25.00,     2311
  49UF20101109,KS1008,  2847,  1,     28,  21988,2,20101114,2223, 39.9995, 150.0292, 4984,    126.4,  12.5093,  34.4027,2,-999.0000,9,    167.1,2,    24.50,2,    15.74,2,     0.02,2,     1.12,2,   2125.0,2,   2282.9,2,   7.7794,2,    25.00,     2310
  49UF20101109,KS1008,  2847,  1,     24,  21984,2,20101114,2223, 39.9995, 150.0292, 4984,    153.8,  11.5323,  34.3803,2,-999.0000,9,    155.4,2,    30.97,2,    18.42,2,     0.01,2,     1.31,2,   2142.5,2,   2285.1,2,   7.7365,2,    25.00,     2309
  49UF20101109,KS1008,  2847,  1,     23,  21983,2,20101114,2223, 39.9995, 150.0292, 4984,    203.7,   9.1009,  34.0766,2,  34.0870,4,    201.2,6,    29.13,6,    17.94,6,     0.02,6,     1.30,6,   2137.9,2,   2270.6,2,   7.7191,2,    25.00,     2307
  49UF20101109,KS1008,  2847,  1,     22,  21982,2,20101114,2223, 39.9995, 150.0292, 4984,    252.5,   7.8231,  33.9672,2,-999.0000,9,    201.8,2,    34.84,2,    20.29,2,     0.01,2,     1.49,2,   2152.5,2,   2272.0,2,   7.6788,2,    25.00,     2306
  49UF20101109,KS1008,  2847,  1,     21,  21981,2,20101114,2223, 39.9995, 150.0292, 4984,    303.8,   5.9601,  33.8125,2,-999.0000,9,    198.7,2,    43.71,2,    23.75,2,     0.00,2,     1.76,2,   2178.4,2,   2273.7,2,   7.6091,2,    25.00,     2304
  49UF20101109,KS1008,  2847,  1,     20,  21980,2,20101114,2223, 39.9995, 150.0292, 4984,    406.8,   5.1704,  33.9488,2,  33.9592,4,    136.0,2,    67.37,2,    31.55,2,     0.00,2,     2.29,2,   2240.6,2,   2293.7,2,   7.4880,2,    25.00,     2301
  49UF20101109,KS1008,  2847,  1,     19,  21978,2,20101114,2223, 39.9995, 150.0292, 4984,    506.5,   4.9728,  34.1002,2,-999.0000,9,     95.3,2,    83.86,2,    35.12,2,     0.00,2,     2.53,2,   2279.1,6,   2312.6,6,   7.4381,6,    25.00,     2258
  49UF20101109,KS1008,  2847,  1,     15,  21974,2,20101114,2223, 39.9995, 150.0292, 4984,    609.3,   4.3194,  34.1486,2,  34.1434,4,     70.6,2,    98.23,2,    38.18,2,     0.00,2,     2.74,2,   2308.3,2,   2325.5,2,   7.3823,2,    25.00,     2255
  49UF20101109,KS1008,  2847,  1,     14,  21973,2,20101114,2223, 39.9995, 150.0292, 4984,    706.0,   3.8097,  34.1980,2,-999.0000,9,     55.4,3,   111.89,2,    40.30,2,     0.00,2,     2.88,2,   2333.5,6,   2336.5,6,   7.3495,6,    25.00,     2252
  49UF20101109,KS1008,  2847,  1,     13,  21972,2,20101114,2223, 39.9995, 150.0292, 4984,    807.9,   3.4726,  34.2590,2,  34.2629,2,     43.7,2,   122.86,2,    41.16,2,     0.00,2,     2.96,2,   2351.7,2,   2350.8,2,   7.3362,2,    25.00,     2250
  49UF20101109,KS1008,  2847,  1,     12,  21971,2,20101114,2223, 39.9995, 150.0292, 4984,    909.5,   3.2581,  34.3280,2,-999.0000,9,     42.9,2,   130.38,2,    41.57,2,     0.00,2,     2.98,2,   2360.7,2,   2364.5,2,   7.3435,2,    25.00,     2247
  49UF20101109,KS1008,  2847,  1,     11,  21970,2,20101114,2223, 39.9995, 150.0292, 4984,   1011.9,   2.9445,  34.3548,2,-999.0000,9,     38.7,2,   139.59,2,    42.04,2,     0.00,2,     3.01,2,   2365.6,2,   2373.5,2,   7.3307,2,    25.00,     2245
  49UF20101109,KS1008,  2847,  1,     10,  21969,2,20101114,2223, 39.9995, 150.0292, 4984,   1011.9,   2.9445,  34.3548,2,  34.3557,6,     38.4,2,   139.57,2,    42.15,2,     0.00,2,     3.02,2,   2369.0,2,   2368.7,2,   7.3327,2,    25.00,     2245
  49UF20101109,KS1008,  2847,  1,      6,  21965,2,20101114,2223, 39.9995, 150.0292, 4984,   1211.7,   2.6418,  34.4233,2,-999.0000,9,     39.6,2,   148.81,2,    42.35,2,     0.00,2,     3.02,2,   2380.5,2,   2382.0,2,   7.3397,2,    25.00,     2241
  49UF20101109,KS1008,  2847,  1,      5,  21964,2,20101114,2223, 39.9995, 150.0292, 4984,   1211.7,   2.6418,  34.4233,2,  34.4240,6,     39.2,2,   149.04,2,    42.36,2,     0.00,2,     3.01,2,   2379.0,2,   2381.7,2,   7.3420,2,    25.00,     2241
  49UF20101109,KS1008,  2847,  1,      4,  21963,2,20101114,2223, 39.9995, 150.0292, 4984,   1418.4,   2.3444,  34.4732,2,  34.4715,2,     45.7,6,   157.53,6,    42.16,6,     0.00,6,     3.00,6,   2387.5,2,   2394.9,2,   7.3513,2,    25.00,     2236
  49UF20101109,KS1008,  2847,  1,      3,  21962,2,20101114,2223, 39.9995, 150.0292, 4984,   1621.2,   2.1987,  34.5157,2,  34.5197,2,     53.6,2,   160.91,2,    41.72,2,     0.00,2,     2.97,2,   2379.0,2,   2397.5,2,   7.3685,2,    25.00,     2232
  49UF20101109,KS1008,  2847,  1,      2,  21961,2,20101114,2223, 39.9995, 150.0292, 4984,   1823.8,   2.1046,  34.5596,2,  34.5592,2,     61.7,2,   161.21,2,    41.46,2,     0.00,2,     2.93,2,   2384.4,2,   2404.5,2,   7.3967,2,    25.00,     2227
  49UF20101109,KS1008,  2847,  1,      1,  21960,2,20101114,2223, 39.9995, 150.0292, 4984,   2028.2,   1.9698,  34.5892,2,  34.5890,2,     73.1,2,   161.68,2,    40.78,2,     0.00,2,     2.87,2,   2381.1,2,   2412.0,2,   7.4102,2,    25.00,     2223