BOTTLE,20190925PRINUNIVRMK
EXPOCODE,SECT_ID,STNNBR,CASTNO,SAMPNO,BTLNBR,BTLNBR_FLAG_W,DATE,TIME,LATITUDE,LONGITUDE,DEPTH,CTDPRS,CTDTMP,CTDSAL,CTDSAL_FLAG_W,SALNTY,SALNTY_FLAG_W,OXYGEN,OXYGEN_FLAG_W,SILCAT,SILCAT_FLAG_W,NITRAT,NITRAT_FLAG_W,NITRIT,NITRIT_FLAG_W,PHSPHT,PHSPHT_FLAG_W,TCARBN,TCARBN_FLAG_W,ALKALI,ALKALI_FLAG_W,PH_TOT,PH_TOT_FLAG_W,PH_TMP,BTL_TIME
,,,,,,,,,,,METERS,DBAR,ITS-90,PSS-78,,PSS-78,,UMOL/KG,,UMOL/KG,,UMOL/KG,,UMOL/KG,,UMOL/KG,,UMOL/KG,,UMOL/KG,,,,DEG C,
  49UF20101109,KS1008,  2837,  1,     99,     99,2,20101112,0158, 40.0145, 144.9997, 5592,      0.0,  17.2966,  33.8586,2,-999.0000,9,    238.3,2,     3.85,2,     1.00,2,     0.35,2,     0.14,2,   -999.0,9,   -999.0,9,-999.0000,9,  -999.00,      245
  49UF20101109,KS1008,  2837,  1,     33,  21993,2,20101112,0158, 40.0145, 144.9997, 5592,     11.1,  17.3058,  33.8602,2,  33.8601,2,    237.6,2,     3.89,2,     1.00,2,     0.34,2,     0.13,2,   1984.8,2,   2245.4,2,   7.9973,2,    25.00,      300
  49UF20101109,KS1008,  2837,  1,     32,  21992,2,20101112,0158, 40.0145, 144.9997, 5592,     26.5,  17.3150,  33.8598,2,-999.0000,9,    237.6,2,     3.89,2,     0.97,2,     0.34,2,     0.13,2,   1980.0,2,   2246.1,2,   7.9947,2,    25.00,      258
  49UF20101109,KS1008,  2837,  1,     31,  21991,2,20101112,0158, 40.0145, 144.9997, 5592,     51.6,  17.3056,  33.8580,2,-999.0000,9,    236.4,6,     3.97,6,     1.08,6,     0.36,6,     0.14,6,   1986.2,6,   2249.3,6,   7.9889,2,    25.00,      253
  49UF20101109,KS1008,  2837,  1,     30,  21990,2,20101112,0158, 40.0145, 144.9997, 5592,     78.4,  17.4682,  33.9844,2,-999.0000,9,    232.5,2,     4.17,2,     1.56,2,     0.37,2,     0.17,2,   1995.5,2,   2254.5,2,   7.9819,2,    25.00,      251
  49UF20101109,KS1008,  2837,  1,     29,  21989,2,20101112,0158, 40.0145, 144.9997, 5592,    102.7,  16.1432,  34.4944,2,  34.5248,4,    196.2,2,     8.31,2,     7.26,2,     0.03,2,     0.50,2,   2050.5,2,   2272.5,2,   7.9045,2,    25.00,      249
  49UF20101109,KS1008,  2837,  1,     28,  21988,2,20101112,0158, 40.0145, 144.9997, 5592,    127.9,  15.0714,  34.4510,2,-999.0000,9,    186.8,2,    12.23,2,     9.86,2,     0.02,2,     0.69,2,   2071.7,2,   2272.5,2,   7.8619,2,    25.00,      248
  49UF20101109,KS1008,  2837,  1,     24,  21984,2,20101112,0158, 40.0145, 144.9997, 5592,    153.3,  13.5597,  34.3647,2,-999.0000,9,    188.3,2,    15.41,2,    11.70,2,     0.01,2,     0.82,2,   2087.5,2,   2271.4,2,   7.8217,2,    25.00,      246
  49UF20101109,KS1008,  2837,  1,     23,  21983,2,20101112,0158, 40.0145, 144.9997, 5592,    203.2,  10.9928,  34.1919,2,  34.2101,4,    197.4,2,    21.34,2,    14.29,2,     0.01,2,     1.03,2,   2109.3,2,   2272.1,2,   7.7832,2,    25.00,      245
  49UF20101109,KS1008,  2837,  1,     22,  21982,2,20101112,0158, 40.0145, 144.9997, 5592,    253.1,   8.8135,  34.0509,2,-999.0000,9,    194.1,2,    31.70,2,    19.01,2,     0.01,2,     1.40,2,   2143.7,2,   2273.4,2,   7.6953,2,    25.00,      243
  49UF20101109,KS1008,  2837,  1,     21,  21981,2,20101112,0158, 40.0145, 144.9997, 5592,    303.8,   5.6839,  33.7100,2,-999.0000,9,    224.3,2,    38.97,2,    22.17,2,     0.01,2,     1.69,2,   2161.3,2,   2265.9,2,   7.6128,2,    25.00,      241
  49UF20101109,KS1008,  2837,  1,     20,  21980,2,20101112,0158, 40.0145, 144.9997, 5592,    405.2,   3.7006,  33.6810,2,  33.6716,4,    180.1,2,    63.05,2,    30.41,2,     0.00,2,     2.28,2,   2224.3,2,   2275.1,2,   7.4772,2,    25.00,      238
  49UF20101109,KS1008,  2837,  1,     19,  21978,3,20101112,0158, 40.0145, 144.9997, 5592,    504.4,   3.3379,  33.7853,2,-999.0000,9,    123.4,2,    82.46,2,    36.18,2,     0.00,2,     2.66,2,   2279.1,2,   2294.7,2,   7.3780,2,    25.00,      235
  49UF20101109,KS1008,  2837,  1,     15,  21974,2,20101112,0158, 40.0145, 144.9997, 5592,    605.9,   3.6464,  33.9553,2,  33.9565,2,     80.7,2,    95.74,2,    38.85,2,     0.00,2,     2.83,2,   2302.9,2,   2309.0,2,   7.3492,2,    25.00,      233
  49UF20101109,KS1008,  2837,  1,     14,  21973,2,20101112,0158, 40.0145, 144.9997, 5592,    707.1,   3.5095,  34.0754,2,-999.0000,9,     52.4,6,   110.50,6,    41.12,6,     0.00,6,     2.97,6,   2334.0,6,   2323.9,6,   7.3164,2,    25.00,      230
  49UF20101109,KS1008,  2837,  1,     13,  21972,2,20101112,0158, 40.0145, 144.9997, 5592,    807.6,   3.6708,  34.2278,2,  34.2279,2,     48.6,2,   117.32,2,    40.85,2,     0.00,2,     2.94,2,   2341.9,2,   2341.0,2,   7.3392,2,    25.00,      228
  49UF20101109,KS1008,  2837,  1,     12,  21971,2,20101112,0158, 40.0145, 144.9997, 5592,    910.7,   3.3773,  34.2929,2,-999.0000,9,     48.1,3,   126.84,2,    41.48,2,     0.00,2,     2.99,2,   2354.1,2,   2353.7,2,   7.3441,2,    25.00,      225
  49UF20101109,KS1008,  2837,  1,     11,  21970,2,20101112,0158, 40.0145, 144.9997, 5592,   1011.1,   3.1349,  34.3436,2,-999.0000,9,     45.2,3,   134.89,2,    41.95,2,     0.00,2,     3.01,2,   2365.8,2,   2366.5,2,   7.3422,2,    25.00,      222
  49UF20101109,KS1008,  2837,  1,     10,  21969,2,20101112,0158, 40.0145, 144.9997, 5592,   1011.1,   3.1349,  34.3436,2,  34.3424,2,     41.8,2,   134.89,2,    41.82,2,     0.00,2,     3.01,2,   2362.7,2,   2362.5,2,   7.3404,2,    25.00,      222
  49UF20101109,KS1008,  2837,  1,      6,  21965,3,20101112,0158, 40.0145, 144.9997, 5592,   1214.6,   2.8379,  34.4211,2,-999.0000,9,     41.1,4,   144.33,2,    42.46,2,     0.00,2,     3.03,2,   2379.7,2,   2375.8,2,   7.3477,2,    25.00,      217
  49UF20101109,KS1008,  2837,  1,      5,  21964,2,20101112,0158, 40.0145, 144.9997, 5592,   1214.6,   2.8379,  34.4211,2,  34.4212,2,     39.6,2,   144.09,2,    42.37,2,     0.00,2,     3.03,2,   2373.8,2,   2384.3,3,   7.3437,2,    25.00,      217
  49UF20101109,KS1008,  2837,  1,      4,  21963,2,20101112,0158, 40.0145, 144.9997, 5592,   1418.3,   2.5301,  34.4790,2,  34.4787,2,     43.2,2,   152.99,2,    42.53,2,     0.00,2,     3.03,2,   2385.3,2,   2412.5,3,   7.3561,2,    25.00,      212
  49UF20101109,KS1008,  2837,  1,      3,  21962,2,20101112,0158, 40.0145, 144.9997, 5592,   1619.3,   2.3163,  34.5222,2,  34.5196,2,     49.2,2,   158.34,2,    42.18,2,     0.00,2,     3.00,2,   2388.6,2,   2397.7,2,   7.3695,2,    25.00,      208
  49UF20101109,KS1008,  2837,  1,      2,  21961,2,20101112,0158, 40.0145, 144.9997, 5592,   1823.0,   2.1625,  34.5550,2,  34.5532,2,     57.9,2,   160.54,2,    41.89,2,     0.00,2,     2.97,2,   2384.6,2,   2402.0,2,   7.3911,2,    25.00,      203
  49UF20101109,KS1008,  2837,  1,      1,  21960,2,20101112,0158, 40.0145, 144.9997, 5592,   2026.2,   2.0144,  34.5833,2,  34.5832,2,     69.5,2,   161.97,2,    41.12,2,     0.00,2,     2.91,2,   2377.0,2,   2409.7,2,   7.4144,2,    25.00,      158
  49UF20101109,KS1008,  2839,  1,     99,     99,2,20101113,1123, 39.9758, 146.0030, 5144,      0.0,  10.2794,  32.9960,2,-999.0000,9,    276.7,2,    14.80,2,     6.75,2,     0.18,2,     0.71,2,   -999.0,9,   -999.0,9,-999.0000,9,  -999.00,     1205
  49UF20101109,KS1008,  2839,  1,     33,  21993,2,20101113,1123, 39.9758, 146.0030, 5144,     12.9,  10.2418,  32.9918,2,-999.0000,9,    277.9,2,    15.83,2,     7.39,2,     0.17,2,     0.75,2,   -999.0,9,   -999.0,9,-999.0000,9,  -999.00,     1226
  49UF20101109,KS1008,  2839,  1,     32,  21992,2,20101113,1123, 39.9758, 146.0030, 5144,     26.9,  10.0724,  32.9923,2,-999.0000,9,    278.1,2,    16.54,2,     7.82,2,     0.16,2,     0.78,2,   -999.0,9,   -999.0,9,-999.0000,9,  -999.00,     1225
  49UF20101109,KS1008,  2839,  1,     31,  21991,2,20101113,1123, 39.9758, 146.0030, 5144,     50.6,   9.4851,  32.9599,2,-999.0000,9,    276.1,2,    18.38,2,     9.05,2,     0.16,2,     0.88,2,   -999.0,9,   -999.0,9,-999.0000,9,  -999.00,     1221
  49UF20101109,KS1008,  2839,  1,     30,  21990,2,20101113,1123, 39.9758, 146.0030, 5144,     74.9,   6.9772,  33.4194,2,-999.0000,9,    264.7,6,    24.34,6,    16.32,6,     0.08,6,     1.34,6,   -999.0,9,   -999.0,9,-999.0000,9,  -999.00,     1219
  49UF20101109,KS1008,  2839,  1,     29,  21989,2,20101113,1123, 39.9758, 146.0030, 5144,    101.9,   2.9459,  33.1538,2,-999.0000,9,    293.4,2,    35.37,2,    22.52,2,     0.01,2,     1.80,2,   -999.0,9,   -999.0,9,-999.0000,9,  -999.00,     1218
  49UF20101109,KS1008,  2839,  1,     28,  21988,2,20101113,1123, 39.9758, 146.0030, 5144,    127.1,   1.6554,  33.1198,2,-999.0000,9,    295.9,2,    44.56,2,    26.12,2,     0.01,2,     2.06,2,   -999.0,9,   -999.0,9,-999.0000,9,  -999.00,     1217
  49UF20101109,KS1008,  2839,  1,     24,  21984,2,20101113,1123, 39.9758, 146.0030, 5144,    153.4,   1.6178,  33.2010,2,-999.0000,9,    275.4,2,    50.13,2,    27.62,2,     0.01,2,     2.14,2,   -999.0,9,   -999.0,9,-999.0000,9,  -999.00,     1216
  49UF20101109,KS1008,  2839,  1,     23,  21983,2,20101113,1123, 39.9758, 146.0030, 5144,    203.4,   1.9539,  33.3671,2,-999.0000,9,    219.9,2,    63.41,2,    31.63,2,     0.01,2,     2.39,2,   -999.0,9,   -999.0,9,-999.0000,9,  -999.00,     1213
  49UF20101109,KS1008,  2839,  1,     22,  21982,2,20101113,1123, 39.9758, 146.0030, 5144,    253.5,   2.1800,  33.4955,2,-999.0000,9,    175.7,2,    73.89,2,    34.60,2,     0.00,2,     2.56,2,   -999.0,9,   -999.0,9,-999.0000,9,  -999.00,     1211
  49UF20101109,KS1008,  2839,  1,     21,  21981,2,20101113,1123, 39.9758, 146.0030, 5144,    304.9,   2.7441,  33.6594,2,-999.0000,9,    118.0,2,    84.83,2,    38.69,2,     0.00,2,     2.80,2,   -999.0,9,   -999.0,9,-999.0000,9,  -999.00,     1209
  49UF20101109,KS1008,  2839,  1,     20,  21980,2,20101113,1123, 39.9758, 146.0030, 5144,    406.2,   3.5740,  33.8960,2,-999.0000,9,     92.2,2,    91.07,2,    38.13,2,     0.00,2,     2.74,2,   -999.0,9,   -999.0,9,-999.0000,9,  -999.00,     1205
  49UF20101109,KS1008,  2839,  1,     19,  21978,2,20101113,1123, 39.9758, 146.0030, 5144,    506.4,   4.2514,  34.1202,2,-999.0000,9,     72.5,2,    97.88,2,    38.25,2,     0.00,2,     2.75,2,   -999.0,9,   -999.0,9,-999.0000,9,  -999.00,     1202
  49UF20101109,KS1008,  2839,  1,     15,  21974,2,20101113,1123, 39.9758, 146.0030, 5144,    607.0,   3.3375,  34.1166,2,-999.0000,9,     44.0,2,   117.04,2,    41.82,2,     0.00,2,     2.98,2,   -999.0,9,   -999.0,9,-999.0000,9,  -999.00,     1200
  49UF20101109,KS1008,  2839,  1,     14,  21973,2,20101113,1123, 39.9758, 146.0030, 5144,    709.9,   3.5146,  34.2512,2,-999.0000,9,     45.3,2,   121.91,2,    41.07,2,     0.00,2,     2.94,2,   -999.0,9,   -999.0,9,-999.0000,9,  -999.00,     1156
  49UF20101109,KS1008,  2839,  1,     13,  21972,2,20101113,1123, 39.9758, 146.0030, 5144,    807.3,   3.2741,  34.3043,2,-999.0000,9,     41.0,6,   129.85,6,    41.70,6,     0.00,6,     2.98,6,   -999.0,9,   -999.0,9,-999.0000,9,  -999.00,     1153
  49UF20101109,KS1008,  2839,  1,     12,  21971,2,20101113,1123, 39.9758, 146.0030, 5144,    909.4,   3.0654,  34.3588,2,-999.0000,9,     40.5,2,   137.11,2,    42.05,2,     0.00,2,     2.99,2,   -999.0,9,   -999.0,9,-999.0000,9,  -999.00,     1150
  49UF20101109,KS1008,  2839,  1,     11,  21970,2,20101113,1123, 39.9758, 146.0030, 5144,   1010.9,   2.8123,  34.3862,2,-999.0000,9,     38.7,2,   144.73,2,    42.20,2,     0.00,2,     3.02,2,   -999.0,9,   -999.0,9,-999.0000,9,  -999.00,     1148
  49UF20101109,KS1008,  2839,  1,     10,  21969,2,20101113,1123, 39.9758, 146.0030, 5144,   1216.8,   2.5544,  34.4483,2,-999.0000,9,     40.6,2,   152.93,2,    42.35,2,     0.00,2,     3.01,2,   -999.0,9,   -999.0,9,-999.0000,9,  -999.00,     1143
  49UF20101109,KS1008,  2839,  1,      6,  21965,2,20101113,1123, 39.9758, 146.0030, 5144,   1417.4,   2.3524,  34.5008,2,-999.0000,9,     47.2,2,   157.70,2,    42.34,2,     0.00,2,     2.99,2,   -999.0,9,   -999.0,9,-999.0000,9,  -999.00,     1138
  49UF20101109,KS1008,  2839,  1,      5,  21964,2,20101113,1123, 39.9758, 146.0030, 5144,   1417.4,   2.3524,  34.5008,2,-999.0000,9,     47.4,2,   157.62,2,    42.16,2,     0.00,2,     2.98,2,   -999.0,9,   -999.0,9,-999.0000,9,  -999.00,     1138
  49UF20101109,KS1008,  2839,  1,      4,  21963,2,20101113,1123, 39.9758, 146.0030, 5144,   1622.5,   2.2018,  34.5420,2,-999.0000,9,     55.0,2,   160.24,2,    41.96,2,     0.00,2,     2.96,2,   -999.0,9,   -999.0,9,-999.0000,9,  -999.00,     1133
  49UF20101109,KS1008,  2839,  1,      3,  21962,2,20101113,1123, 39.9758, 146.0030, 5144,   1622.5,   2.2018,  34.5420,2,-999.0000,9,     54.4,2,   160.20,2,    41.80,2,     0.00,2,     2.95,2,   -999.0,9,   -999.0,9,-999.0000,9,  -999.00,     1133
  49UF20101109,KS1008,  2839,  1,      2,  21961,2,20101113,1123, 39.9758, 146.0030, 5144,   1823.8,   2.0629,  34.5740,2,-999.0000,9,     66.3,2,   161.42,2,    41.37,2,     0.00,2,     2.90,2,   -999.0,9,   -999.0,9,-999.0000,9,  -999.00,     1128
  49UF20101109,KS1008,  2839,  1,      1,  21960,2,20101113,1123, 39.9758, 146.0030, 5144,   2025.3,   1.9217,  34.5993,2,-999.0000,9,     78.3,2,   162.22,2,    40.65,2,     0.00,2,     2.85,2,   -999.0,9,   -999.0,9,-999.0000,9,  -999.00,     1123
  49UF20101109,KS1008,  2841,  1,     99,     99,2,20101113,1905, 40.0013, 147.0333, 5276,      0.0,   9.4787,  32.6434,2,-999.0000,9,    288.9,2,    14.58,4,    10.30,2,     0.17,2,     1.01,2,   -999.0,9,   -999.0,9,-999.0000,9,  -999.00,     1957
  49UF20101109,KS1008,  2841,  1,     33,  21993,2,20101113,1905, 40.0013, 147.0333, 5276,     12.2,   9.4756,  32.6442,2,  32.6449,2,    285.4,2,    14.65,4,    10.32,2,     0.17,2,     1.02,2,   -999.0,9,   -999.0,9,-999.0000,9,  -999.00,     2013
  49UF20101109,KS1008,  2841,  1,     32,  21992,2,20101113,1905, 40.0013, 147.0333, 5276,     26.4,   9.4368,  32.6484,2,-999.0000,9,    285.2,2,    14.89,4,    10.48,2,     0.17,2,     1.03,2,   -999.0,9,   -999.0,9,-999.0000,9,  -999.00,     2012
  49UF20101109,KS1008,  2841,  1,     31,  21991,2,20101113,1905, 40.0013, 147.0333, 5276,     51.4,   4.3295,  32.9347,2,-999.0000,9,    303.7,2,    29.49,4,    20.94,2,     0.03,2,     1.73,2,   -999.0,9,   -999.0,9,-999.0000,9,  -999.00,     2008
  49UF20101109,KS1008,  2841,  1,     30,  21990,2,20101113,1905, 40.0013, 147.0333, 5276,     76.2,   1.9397,  33.0809,2,-999.0000,9,    305.6,2,    38.37,4,    25.06,2,     0.00,2,     1.98,2,   -999.0,9,   -999.0,9,-999.0000,9,  -999.00,     2006
  49UF20101109,KS1008,  2841,  1,     29,  21989,2,20101113,1905, 40.0013, 147.0333, 5276,    102.1,   1.6329,  33.2077,2,  33.2209,4,    275.6,6,    47.49,4,    27.76,6,     0.00,6,     2.15,6,   -999.0,9,   -999.0,9,-999.0000,9,  -999.00,     2005
  49UF20101109,KS1008,  2841,  1,     28,  21988,2,20101113,1905, 40.0013, 147.0333, 5276,    128.1,   1.7146,  33.3107,2,-999.0000,9,    243.4,2,    57.21,4,    30.69,2,     0.00,2,     2.33,2,   -999.0,9,   -999.0,9,-999.0000,9,  -999.00,     2003
  49UF20101109,KS1008,  2841,  1,     24,  21984,2,20101113,1905, 40.0013, 147.0333, 5276,    152.3,   2.0184,  33.4115,2,-999.0000,9,    204.4,2,    64.40,4,    32.84,2,     0.00,2,     2.47,2,   -999.0,9,   -999.0,9,-999.0000,9,  -999.00,     2002
  49UF20101109,KS1008,  2841,  1,     23,  21983,2,20101113,1905, 40.0013, 147.0333, 5276,    202.4,   2.4705,  33.5658,2,  33.5567,4,    152.5,2,    74.86,4,    36.45,2,     0.00,2,     2.69,2,   -999.0,9,   -999.0,9,-999.0000,9,  -999.00,     2000
  49UF20101109,KS1008,  2841,  1,     22,  21982,2,20101113,1905, 40.0013, 147.0333, 5276,    253.3,   2.6945,  33.6717,2,-999.0000,9,    119.7,2,    82.64,4,    38.22,2,     0.00,2,     2.80,2,   -999.0,9,   -999.0,9,-999.0000,9,  -999.00,     1957
  49UF20101109,KS1008,  2841,  1,     21,  21981,2,20101113,1905, 40.0013, 147.0333, 5276,    305.1,   3.0670,  33.8305,2,-999.0000,9,     74.6,2,    94.90,4,    40.99,2,     0.00,2,     2.95,2,   -999.0,9,   -999.0,9,-999.0000,9,  -999.00,     1955
  49UF20101109,KS1008,  2841,  1,     20,  21980,2,20101113,1905, 40.0013, 147.0333, 5276,    405.6,   3.1734,  33.9879,2,  33.9837,4,     52.8,2,   107.03,4,    41.95,2,     0.00,2,     3.01,2,   -999.0,9,   -999.0,9,-999.0000,9,  -999.00,     1952
  49UF20101109,KS1008,  2841,  1,     19,  21978,2,20101113,1905, 40.0013, 147.0333, 5276,    506.1,   3.2609,  34.1271,2,-999.0000,9,     39.7,2,   117.15,4,    42.40,2,     0.00,2,     3.02,2,   -999.0,9,   -999.0,9,-999.0000,9,  -999.00,     1949
  49UF20101109,KS1008,  2841,  1,     15,  21974,2,20101113,1905, 40.0013, 147.0333, 5276,    607.3,   3.2796,  34.2420,2,  34.2402,6,     35.3,2,   124.73,4,    42.24,2,     0.00,2,     3.02,2,   -999.0,9,   -999.0,9,-999.0000,9,  -999.00,     1946
  49UF20101109,KS1008,  2841,  1,     14,  21973,2,20101113,1905, 40.0013, 147.0333, 5276,    708.1,   2.9582,  34.2724,2,  34.2713,6,     32.5,2,   133.67,4,    42.71,2,     0.00,2,     3.05,2,   -999.0,9,   -999.0,9,-999.0000,9,  -999.00,     1942
  49UF20101109,KS1008,  2841,  1,     13,  21972,4,20101113,1905, 40.0013, 147.0333, 5276,    809.8,   2.7974,  34.3305,2,-999.0000,9,   -999.0,9,  -999.00,9,  -999.00,9,  -999.00,9,  -999.00,9,   -999.0,9,   -999.0,9,-999.0000,9,  -999.00,     1939
  49UF20101109,KS1008,  2841,  1,     12,  21971,2,20101113,1905, 40.0013, 147.0333, 5276,    911.0,   2.8281,  34.3887,2,-999.0000,9,     39.8,6,   140.95,4,    42.28,6,     0.00,6,     3.02,6,   -999.0,9,   -999.0,9,-999.0000,9,  -999.00,     1936
  49UF20101109,KS1008,  2841,  1,     11,  21970,2,20101113,1905, 40.0013, 147.0333, 5276,   1013.0,   2.7223,  34.4236,2,  34.4212,2,     40.2,2,   144.15,4,    42.19,2,     0.00,2,     3.02,2,   -999.0,9,   -999.0,9,-999.0000,9,  -999.00,     1932
  49UF20101109,KS1008,  2841,  1,     10,  21969,2,20101113,1905, 40.0013, 147.0333, 5276,   1216.0,   2.4402,  34.4735,2,  34.4728,2,     43.3,2,   152.65,4,    42.23,2,     0.00,2,     3.01,2,   -999.0,9,   -999.0,9,-999.0000,9,  -999.00,     1927
  49UF20101109,KS1008,  2841,  1,      6,  21965,2,20101113,1905, 40.0013, 147.0333, 5276,   1417.3,   2.2064,  34.5200,2,  34.5206,2,     49.6,2,   158.78,4,    41.88,2,     0.00,2,     2.98,2,   -999.0,9,   -999.0,9,-999.0000,9,  -999.00,     1921
  49UF20101109,KS1008,  2841,  1,      5,  21964,2,20101113,1905, 40.0013, 147.0333, 5276,   1621.7,   2.1037,  34.5546,2,  34.5544,2,     59.4,2,   159.17,4,    41.42,2,     0.00,2,     2.93,2,   -999.0,9,   -999.0,9,-999.0000,9,  -999.00,     1915
  49UF20101109,KS1008,  2841,  1,      4,  21963,2,20101113,1905, 40.0013, 147.0333, 5276,   1823.1,   1.9736,  34.5868,2,-999.0000,9,     71.6,2,   159.47,4,    40.88,2,     0.00,2,     2.88,2,   -999.0,9,   -999.0,9,-999.0000,9,  -999.00,     1910
  49UF20101109,KS1008,  2841,  1,      3,  21962,2,20101113,1905, 40.0013, 147.0333, 5276,   1823.1,   1.9736,  34.5868,2,  34.5932,4,     71.4,2,   159.25,4,    40.83,2,     0.00,2,     2.88,2,   -999.0,9,   -999.0,9,-999.0000,9,  -999.00,     1910
  49UF20101109,KS1008,  2841,  1,      2,  21961,2,20101113,1905, 40.0013, 147.0333, 5276,   2026.0,   1.8579,  34.6086,2,-999.0000,9,     83.4,2,   159.09,4,    40.07,2,     0.00,2,     2.82,2,   -999.0,9,   -999.0,9,-999.0000,9,  -999.00,     1906
  49UF20101109,KS1008,  2841,  1,      1,  21960,2,20101113,1905, 40.0013, 147.0333, 5276,   2026.0,   1.8579,  34.6086,2,  34.6094,2,     83.9,2,   159.15,4,    40.14,2,     0.00,2,     2.82,2,   -999.0,9,   -999.0,9,-999.0000,9,  -999.00,     1905