BOTTLE,20190925PRINUNIVRMK
EXPOCODE,SECT_ID,STNNBR,CASTNO,SAMPNO,BTLNBR,BTLNBR_FLAG_W,DATE,TIME,LATITUDE,LONGITUDE,DEPTH,CTDPRS,CTDTMP,CTDSAL,CTDSAL_FLAG_W,SALNTY,SALNTY_FLAG_W,OXYGEN,OXYGEN_FLAG_W,NITRAT,NITRAT_FLAG_W,NITRIT,NITRIT_FLAG_W,PHSPHT,PHSPHT_FLAG_W,TCARBN,TCARBN_FLAG_W,ALKALI,ALKALI_FLAG_W,PH_TOT,PH_TOT_FLAG_W,PH_TMP,BTL_TIME
,,,,,,,,,,,METERS,DBAR,ITS-90,PSS-78,,PSS-78,,UMOL/KG,,UMOL/KG,,UMOL/KG,,UMOL/KG,,UMOL/KG,,UMOL/KG,,,,DEG C,
  49UF20100414,KS1002,  2612,  1,     99,     99,2,20100418,1338, 33.5300, 141.4057, 4926,      0.0,  19.0119,  34.7200,2,-999.0000,9,    229.9,2,     0.69,2,     0.15,2,     0.14,2,   -999.0,9,   -999.0,9,-999.0000,9,  -999.00,     1600
  49UF20100414,KS1002,  2612,  1,     33,  21993,2,20100418,1338, 33.5300, 141.4057, 4926,     11.0,  19.0105,  34.7202,2,  34.7194,2,    228.9,2,     0.66,2,     0.15,2,     0.09,2,   -999.0,9,   -999.0,9,-999.0000,9,  -999.00,     1615
  49UF20100414,KS1002,  2612,  1,     32,  21992,2,20100418,1338, 33.5300, 141.4057, 4926,     25.8,  19.0243,  34.7203,2,-999.0000,9,    229.4,2,     0.61,2,     0.14,2,     0.08,2,   -999.0,9,   -999.0,9,-999.0000,9,  -999.00,     1613
  49UF20100414,KS1002,  2612,  1,     31,  21991,2,20100418,1338, 33.5300, 141.4057, 4926,     51.1,  18.9480,  34.7159,2,-999.0000,9,    225.0,2,     0.94,2,     0.21,2,     0.10,2,   -999.0,9,   -999.0,9,-999.0000,9,  -999.00,     1605
  49UF20100414,KS1002,  2612,  1,     30,  21990,2,20100418,1338, 33.5300, 141.4057, 4926,     75.6,  18.8233,  34.7092,2,-999.0000,9,    224.9,2,     1.08,2,     0.22,2,     0.11,2,   -999.0,9,   -999.0,9,-999.0000,9,  -999.00,     1604
  49UF20100414,KS1002,  2612,  1,     29,  21989,2,20100418,1338, 33.5300, 141.4057, 4926,    102.5,  18.6183,  34.6931,2,  34.6924,2,    230.8,6,     0.63,6,     0.28,6,     0.09,6,   -999.0,9,   -999.0,9,-999.0000,9,  -999.00,     1602
  49UF20100414,KS1002,  2612,  1,     28,  21988,2,20100418,1338, 33.5300, 141.4057, 4926,    127.1,  18.4727,  34.6869,2,-999.0000,9,    231.3,6,     0.58,6,     0.25,6,     0.09,6,   -999.0,9,   -999.0,9,-999.0000,9,  -999.00,     1601
  49UF20100414,KS1002,  2612,  1,     27,  21987,2,20100418,1338, 33.5300, 141.4057, 4926,    152.2,  18.4543,  34.6920,2,-999.0000,9,    230.1,6,     0.81,6,     0.27,6,     0.09,6,   -999.0,9,   -999.0,9,-999.0000,9,  -999.00,     1559
  49UF20100414,KS1002,  2612,  1,     26,  21986,2,20100418,1338, 33.5300, 141.4057, 4926,    202.7,  18.4058,  34.7005,2,  34.6998,2,    225.8,6,     1.62,6,     0.08,6,     0.12,6,   -999.0,9,   -999.0,9,-999.0000,9,  -999.00,     1557
  49UF20100414,KS1002,  2612,  1,     25,  21985,2,20100418,1338, 33.5300, 141.4057, 4926,    253.7,  18.2921,  34.7008,2,-999.0000,9,    222.3,2,     2.19,2,     0.03,2,     0.15,2,   -999.0,9,   -999.0,9,-999.0000,9,  -999.00,     1554
  49UF20100414,KS1002,  2612,  1,     24,  21984,2,20100418,1338, 33.5300, 141.4057, 4926,    304.5,  17.7778,  34.7168,2,  34.7133,2,    202.6,2,     4.64,2,     0.01,2,     0.30,2,   -999.0,9,   -999.0,9,-999.0000,9,  -999.00,     1552
  49UF20100414,KS1002,  2612,  1,     23,  21983,2,20100418,1338, 33.5300, 141.4057, 4926,    404.7,  16.4538,  34.6762,2,  34.6779,6,    191.1,2,     7.77,2,     0.01,2,     0.51,2,   -999.0,9,   -999.0,9,-999.0000,9,  -999.00,     1547
  49UF20100414,KS1002,  2612,  1,     22,  21982,2,20100418,1338, 33.5300, 141.4057, 4926,    506.9,  13.9234,  34.5183,2,  34.5189,6,    176.0,2,    13.28,2,     0.01,2,     0.91,2,   -999.0,9,   -999.0,9,-999.0000,9,  -999.00,     1542
  49UF20100414,KS1002,  2612,  1,     21,  21981,2,20100418,1338, 33.5300, 141.4057, 4926,    608.0,  10.9122,  34.3743,2,  34.3787,4,    150.1,2,    20.53,2,     0.00,2,     1.44,2,   -999.0,9,   -999.0,9,-999.0000,9,  -999.00,     1537
  49UF20100414,KS1002,  2612,  1,     20,  21980,2,20100418,1338, 33.5300, 141.4057, 4926,    708.5,   7.5589,  34.2498,2,  34.2571,4,    117.0,2,    29.25,2,     0.00,2,     2.09,2,   -999.0,9,   -999.0,9,-999.0000,9,  -999.00,     1533
  49UF20100414,KS1002,  2612,  1,     19,  21978,2,20100418,1338, 33.5300, 141.4057, 4926,    808.6,   5.9536,  34.2663,2,  34.2666,2,     92.0,2,    34.22,2,     0.00,2,     2.46,2,   -999.0,9,   -999.0,9,-999.0000,9,  -999.00,     1528
  49UF20100414,KS1002,  2612,  1,     18,  21977,2,20100418,1338, 33.5300, 141.4057, 4926,    910.5,   4.7719,  34.2265,2,  34.2247,2,     72.8,2,    37.97,2,     0.00,2,     2.73,2,   -999.0,9,   -999.0,9,-999.0000,9,  -999.00,     1523
  49UF20100414,KS1002,  2612,  1,     17,  21976,2,20100418,1338, 33.5300, 141.4057, 4926,   1011.5,   4.2389,  34.3033,2,-999.0000,9,     64.4,2,    39.11,2,     0.00,2,     2.77,2,   -999.0,9,   -999.0,9,-999.0000,9,  -999.00,     1518
  49UF20100414,KS1002,  2612,  1,     16,  21975,2,20100418,1338, 33.5300, 141.4057, 4926,   1011.8,   4.2639,  34.3022,2,  34.2994,2,     64.9,2,    39.16,2,     0.00,2,     2.82,2,   -999.0,9,   -999.0,9,-999.0000,9,  -999.00,     1516
  49UF20100414,KS1002,  2612,  1,     15,  21974,2,20100418,1338, 33.5300, 141.4057, 4926,   1265.6,   3.2700,  34.3969,2,  34.3963,2,     48.1,2,    41.78,2,     0.00,2,     3.00,2,   -999.0,9,   -999.0,9,-999.0000,9,  -999.00,     1507
  49UF20100414,KS1002,  2612,  1,     14,  21973,2,20100418,1338, 33.5300, 141.4057, 4926,   1517.7,   2.7042,  34.4672,2,  34.4665,2,     41.3,2,    43.05,2,     0.00,2,     3.07,2,   -999.0,9,   -999.0,9,-999.0000,9,  -999.00,     1500
  49UF20100414,KS1002,  2612,  1,     13,  21972,2,20100418,1338, 33.5300, 141.4057, 4926,   1775.0,   2.3553,  34.5285,2,  34.5272,2,     53.9,2,    42.43,2,     0.00,2,     3.02,2,   -999.0,9,   -999.0,9,-999.0000,9,  -999.00,     1452
  49UF20100414,KS1002,  2612,  1,     11,  21970,2,20100418,1338, 33.5300, 141.4057, 4926,   2026.4,   2.1170,  34.5707,2,  34.5703,2,     68.3,2,    41.64,2,     0.00,2,     2.95,2,   -999.0,9,   -999.0,9,-999.0000,9,  -999.00,     1441
  49UF20100414,KS1002,  2612,  1,     12,  21971,2,20100418,1338, 33.5300, 141.4057, 4926,   2034.0,   2.1014,  34.5737,2,-999.0000,9,     68.8,2,    41.50,2,     0.01,2,     2.91,2,   -999.0,9,   -999.0,9,-999.0000,9,  -999.00,     1442
  49UF20100414,KS1002,  2612,  1,     10,  21969,2,20100418,1338, 33.5300, 141.4057, 4926,   2280.4,   1.9116,  34.6063,2,  34.6068,2,     87.4,2,    40.66,2,     0.00,2,     2.86,2,   -999.0,9,   -999.0,9,-999.0000,9,  -999.00,     1433
  49UF20100414,KS1002,  2612,  1,      9,  21968,2,20100418,1338, 33.5300, 141.4057, 4926,   2537.1,   1.7647,  34.6307,2,  34.6306,2,    103.0,2,    39.55,2,     0.00,2,     2.79,2,   -999.0,9,   -999.0,9,-999.0000,9,  -999.00,     1424
  49UF20100414,KS1002,  2612,  1,      8,  21967,2,20100418,1338, 33.5300, 141.4057, 4926,   2791.2,   1.6472,  34.6495,2,  34.6492,2,    118.0,2,    38.60,2,     0.00,2,     2.70,2,   -999.0,9,   -999.0,9,-999.0000,9,  -999.00,     1415
  49UF20100414,KS1002,  2612,  1,      6,  21965,2,20100418,1338, 33.5300, 141.4057, 4926,   3045.4,   1.5801,  34.6600,2,  34.6602,2,    126.6,2,    37.99,2,     0.00,2,     2.65,2,   -999.0,9,   -999.0,9,-999.0000,9,  -999.00,     1406
  49UF20100414,KS1002,  2612,  1,      7,  21966,2,20100418,1338, 33.5300, 141.4057, 4926,   3048.1,   1.5788,  34.6604,2,-999.0000,9,    126.9,2,    38.11,2,     0.00,2,     2.67,2,   -999.0,9,   -999.0,9,-999.0000,9,  -999.00,     1407
  49UF20100414,KS1002,  2612,  1,      5,  21964,2,20100418,1338, 33.5300, 141.4057, 4926,   3301.4,   1.5356,  34.6679,2,  34.6680,2,    134.5,2,    37.56,2,     0.00,2,     2.61,2,   -999.0,9,   -999.0,9,-999.0000,9,  -999.00,     1358
  49UF20100414,KS1002,  2612,  1,      4,  21963,2,20100418,1338, 33.5300, 141.4057, 4926,   3555.7,   1.4987,  34.6743,2,  34.6746,2,    141.5,2,    37.12,2,     0.00,2,     2.58,2,   -999.0,9,   -999.0,9,-999.0000,9,  -999.00,     1350
  49UF20100414,KS1002,  2612,  1,      3,  21962,2,20100418,1338, 33.5300, 141.4057, 4926,   3810.9,   1.4814,  34.6787,2,  34.6792,2,    146.6,2,    36.76,2,     0.00,2,     2.55,2,   -999.0,9,   -999.0,9,-999.0000,9,  -999.00,     1344
  49UF20100414,KS1002,  2612,  1,      2,  21961,2,20100418,1338, 33.5300, 141.4057, 4926,   4023.9,   1.4690,  34.6825,2,-999.0000,9,    151.4,2,    36.34,2,     0.00,2,     2.55,2,   -999.0,9,   -999.0,9,-999.0000,9,  -999.00,     1339
  49UF20100414,KS1002,  2612,  1,      1,  21960,2,20100418,1338, 33.5300, 141.4057, 4926,   4027.6,   1.4696,  34.6823,2,  34.6824,2,    151.1,2,    36.43,2,     0.00,2,     2.52,2,   -999.0,9,   -999.0,9,-999.0000,9,  -999.00,     1338
  49UF20100414,KS1002,  2615,  1,     99,     99,2,20100419,1518, 32.0080, 142.9713, 5653,      0.0,  19.1604,  34.7119,2,-999.0000,9,    233.8,2,    -0.01,2,     0.01,2,     0.04,2,   -999.0,9,   -999.0,9,-999.0000,9,  -999.00,     1722
  49UF20100414,KS1002,  2615,  1,     36,  21996,2,20100419,1518, 32.0080, 142.9713, 5653,     11.0,  19.1572,  34.7116,2,  34.7111,2,    233.7,2,    -0.01,2,     0.01,2,     0.04,2,   1985.5,2,   2284.8,2,   8.0351,2,    25.00,     1744
  49UF20100414,KS1002,  2615,  1,     35,  21995,2,20100419,1518, 32.0080, 142.9713, 5653,     27.0,  19.1563,  34.7115,2,-999.0000,9,    233.4,2,    -0.01,2,     0.02,2,     0.03,2,   1986.2,2,   2286.4,2,   8.0346,2,    25.00,     1742
  49UF20100414,KS1002,  2615,  1,     34,  21994,2,20100419,1518, 32.0080, 142.9713, 5653,     51.0,  18.9505,  34.7078,2,-999.0000,9,    231.1,2,     0.07,2,     0.26,2,     0.06,2,   1990.7,2,   2286.1,2,   8.0290,2,    25.00,     1736
  49UF20100414,KS1002,  2615,  1,     33,  21993,2,20100419,1518, 32.0080, 142.9713, 5653,     75.8,  18.8211,  34.7129,2,-999.0000,9,    229.5,2,     0.23,2,     0.45,2,     0.07,2,   1991.9,2,   2286.7,2,   8.0249,2,    25.00,     1735
  49UF20100414,KS1002,  2615,  1,     32,  21992,2,20100419,1518, 32.0080, 142.9713, 5653,    101.2,  18.7917,  34.7141,2,  34.7133,2,    228.8,2,     0.36,2,     0.39,2,     0.08,2,   1996.1,2,   2282.9,2,   8.0203,2,    25.00,     1733
  49UF20100414,KS1002,  2615,  1,     31,  21991,2,20100419,1518, 32.0080, 142.9713, 5653,    126.8,  18.7049,  34.7102,2,-999.0000,9,    227.2,2,     0.97,2,     0.16,2,     0.10,2,   1997.9,2,   2282.4,2,   8.0176,2,    25.00,     1732
  49UF20100414,KS1002,  2615,  1,     30,  21990,2,20100419,1518, 32.0080, 142.9713, 5653,    152.7,  18.5844,  34.7085,2,-999.0000,9,    225.8,2,     1.36,2,     0.06,2,     0.11,2,   2002.2,2,   2285.7,2,   8.0243,2,    25.00,     1730
  49UF20100414,KS1002,  2615,  1,     29,  21989,2,20100419,1518, 32.0080, 142.9713, 5653,    203.4,  18.4616,  34.7047,2,  34.7038,2,    222.4,2,     2.03,2,     0.02,2,     0.14,2,   2012.2,2,   2283.0,2,   8.0021,2,    25.00,     1728
  49UF20100414,KS1002,  2615,  1,     28,  21988,2,20100419,1518, 32.0080, 142.9713, 5653,    253.1,  17.8854,  34.7068,2,-999.0000,9,    209.8,6,     4.00,6,     0.01,6,     0.27,6,   2023.6,2,   2281.6,2,   7.9744,2,    25.00,     1726
  49UF20100414,KS1002,  2615,  1,     27,  21987,2,20100419,1518, 32.0080, 142.9713, 5653,    303.7,  17.3055,  34.7083,2,  34.7081,2,    197.7,6,     5.94,6,     0.01,6,     0.40,6,   2042.8,2,   2286.1,2,   7.9405,2,    25.00,     1724
  49UF20100414,KS1002,  2615,  1,     26,  21986,2,20100419,1518, 32.0080, 142.9713, 5653,    403.3,  15.2563,  34.5989,2,  34.6000,2,    185.3,6,    10.15,6,     0.01,6,     0.69,6,   2072.5,2,   2284.9,2,   7.8739,2,    25.00,     1721
  49UF20100414,KS1002,  2615,  1,     25,  21985,2,20100419,1518, 32.0080, 142.9713, 5653,    504.7,  12.6470,  34.4310,2,  34.4300,2,    173.0,6,    15.57,6,     0.00,6,     1.08,6,   2115.4,2,   2286.8,2,   7.7803,2,    25.00,     1718
  49UF20100414,KS1002,  2615,  1,     24,  21984,2,20100419,1518, 32.0080, 142.9713, 5653,    606.5,   9.1601,  34.1938,2,  34.1977,4,    164.5,2,    21.99,2,     0.00,2,     1.57,2,   2166.4,2,   2286.4,2,   7.6770,2,    25.00,     1714
  49UF20100414,KS1002,  2615,  1,     23,  21983,2,20100419,1518, 32.0080, 142.9713, 5653,    707.7,   6.5389,  34.0512,2,  34.0518,2,    141.5,2,    28.98,2,     0.00,2,     2.10,2,   2225.3,2,   2296.6,2,   7.5492,2,    25.00,     1711
  49UF20100414,KS1002,  2615,  1,     22,  21982,2,20100419,1518, 32.0080, 142.9713, 5653,    808.0,   5.3603,  34.0835,2,  34.0829,6,    106.8,2,    34.10,2,     0.00,2,     2.47,2,   2271.0,2,   2311.2,2,   7.4730,2,    25.00,     1707
  49UF20100414,KS1002,  2615,  1,     21,  21981,2,20100419,1518, 32.0080, 142.9713, 5653,    910.4,   4.5702,  34.1656,2,  34.1659,6,     71.9,2,    38.16,2,     0.00,2,     2.76,2,   2304.5,2,   2330.7,2,   7.3950,2,    25.00,     1704
  49UF20100414,KS1002,  2615,  1,     20,  21980,2,20100419,1518, 32.0080, 142.9713, 5653,   1012.0,   4.0742,  34.2454,2,  34.2439,6,     53.9,2,    40.25,2,     0.00,2,     2.91,2,   2330.5,2,   2347.1,2,   7.3746,2,    25.00,     1701
  49UF20100414,KS1002,  2615,  1,     19,  21978,2,20100419,1518, 32.0080, 142.9713, 5653,   1264.1,   3.2005,  34.3900,2,  34.3896,6,     37.7,2,    42.54,2,     0.00,2,     3.08,2,   2363.0,2,   2377.4,2,   7.3473,2,    25.00,     1654
  49UF20100414,KS1002,  2615,  1,     18,  21977,2,20100419,1518, 32.0080, 142.9713, 5653,   1517.6,   2.6502,  34.4797,2,  34.4792,2,     42.1,2,    43.03,2,     0.00,2,     3.07,2,   2382.2,2,   2396.9,2,   7.3639,2,    25.00,     1648
  49UF20100414,KS1002,  2615,  1,     17,  21976,2,20100419,1518, 32.0080, 142.9713, 5653,   1769.8,   2.2865,  34.5414,2,  34.5408,2,     56.0,2,    42.41,2,     0.00,2,     3.02,2,   2382.7,2,   2408.0,2,   7.3925,2,    25.00,     1642
  49UF20100414,KS1002,  2615,  1,     16,  21975,2,20100419,1518, 32.0080, 142.9713, 5653,   2024.5,   2.0579,  34.5848,2,  34.5840,2,     74.6,2,    41.33,2,     0.00,2,     2.93,2,   2378.1,2,   2414.2,2,   7.4297,2,    25.00,     1637
  49UF20100414,KS1002,  2615,  1,     15,  21974,2,20100419,1518, 32.0080, 142.9713, 5653,   2279.1,   1.8608,  34.6137,2,  34.6131,2,     89.9,2,    40.43,2,     0.00,2,     2.86,2,   2368.4,2,   2420.6,2,   7.4596,2,    25.00,     1631
  49UF20100414,KS1002,  2615,  1,     13,  21972,2,20100419,1518, 32.0080, 142.9713, 5653,   2533.0,   1.7304,  34.6352,2,  34.6341,2,    104.2,2,    39.48,2,     0.00,2,     2.78,2,   2362.2,2,   2422.0,2,   7.4956,2,    25.00,     1625
  49UF20100414,KS1002,  2615,  1,     14,  21973,2,20100419,1518, 32.0080, 142.9713, 5653,   2533.6,   1.7299,  34.6353,2,-999.0000,9,    104.3,2,    39.34,2,     0.00,2,     2.77,2,   2368.1,2,   2429.4,3,   7.4871,2,    25.00,     1626
  49UF20100414,KS1002,  2615,  1,     12,  21971,2,20100419,1518, 32.0080, 142.9713, 5653,   2789.0,   1.6411,  34.6501,2,  34.6499,2,    117.0,2,    38.54,2,     0.00,2,     2.73,2,   2354.7,2,   2420.3,2,   7.5110,2,    25.00,     1619
  49UF20100414,KS1002,  2615,  1,     11,  21970,2,20100419,1518, 32.0080, 142.9713, 5653,   3044.5,   1.5726,  34.6614,2,  34.6609,2,    126.7,2,    38.05,2,     0.00,2,     2.67,2,   2345.4,2,   2422.3,2,   7.5257,2,    25.00,     1614
  49UF20100414,KS1002,  2615,  1,     10,  21969,2,20100419,1518, 32.0080, 142.9713, 5653,   3298.5,   1.5294,  34.6696,2,  34.6693,2,    136.8,2,    37.37,2,     0.00,2,     2.62,2,   2337.8,2,   2421.0,2,   7.5471,2,    25.00,     1608
  49UF20100414,KS1002,  2615,  1,      8,  21967,2,20100419,1518, 32.0080, 142.9713, 5653,   3554.4,   1.5028,  34.6750,2,  34.6743,2,    141.6,2,    37.07,2,     0.00,2,     2.59,2,   2329.6,2,   2420.6,2,   7.5553,2,    25.00,     1602
  49UF20100414,KS1002,  2615,  1,      9,  21968,2,20100419,1518, 32.0080, 142.9713, 5653,   3554.8,   1.5027,  34.6749,2,-999.0000,9,    141.7,2,    36.99,2,     0.00,2,     2.58,2,   2328.2,2,   2421.0,2,   7.5593,2,    25.00,     1602
  49UF20100414,KS1002,  2615,  1,      7,  21966,3,20100419,1518, 32.0080, 142.9713, 5653,   4066.3,   1.4687,  34.6838,2,  34.6830,2,    152.3,2,    36.34,2,     0.00,2,     2.55,2,   2317.5,2,   2418.3,2,   7.5744,2,    25.00,     1552
  49UF20100414,KS1002,  2615,  1,      6,  21965,2,20100419,1518, 32.0080, 142.9713, 5653,   4324.0,   1.4688,  34.6863,2,  34.6862,2,    156.1,2,    36.12,2,     0.00,2,     2.51,2,   2315.0,2,   2421.7,2,   7.5765,2,    25.00,     1547
  49UF20100414,KS1002,  2615,  1,      4,  21963,2,20100419,1518, 32.0080, 142.9713, 5653,   4580.8,   1.4738,  34.6889,2,  34.6888,2,    160.0,2,    35.79,2,     0.00,2,     2.49,2,   2331.8,4,   2418.5,2,   7.5802,2,    25.00,     1540
  49UF20100414,KS1002,  2615,  1,      5,  21964,2,20100419,1518, 32.0080, 142.9713, 5653,   4581.0,   1.4741,  34.6887,2,-999.0000,9,    159.5,2,    35.82,2,     0.00,2,     2.49,2,   2313.2,2,   2421.7,2,   7.5815,2,    25.00,     1541
  49UF20100414,KS1002,  2615,  1,      3,  21962,2,20100419,1518, 32.0080, 142.9713, 5653,   5094.3,   1.5090,  34.6911,2,  34.6909,2,    163.8,2,    35.54,2,     0.00,2,     2.47,2,   2323.4,2,   2416.5,2,   7.5889,2,    25.00,     1530
  49UF20100414,KS1002,  2615,  1,      2,  21961,2,20100419,1518, 32.0080, 142.9713, 5653,   5691.9,   1.5757,  34.6925,2,-999.0000,9,    167.8,2,    35.32,2,     0.00,2,     2.46,2,   2315.5,2,   2420.2,2,   7.5895,2,    25.00,     1519
  49UF20100414,KS1002,  2615,  1,      1,  21960,2,20100419,1518, 32.0080, 142.9713, 5653,   5693.6,   1.5759,  34.6923,2,  34.6921,2,    166.1,2,    35.37,2,     0.00,2,     2.46,2,   2311.9,2,   2417.5,2,   7.5884,2,    25.00,     1518