BOTTLE,20190925PRINUNIVRMK
# 08/29/2019 Initialized README file  
# Data source:  Masao Ishii 2018/11/30 
# SHIP: R/V Keifu Maru II 
# Cruise: KS10-02 
# Region:Pacific Ocean 
# EXPOCODE: 49UF20100414 
# DATES: 20100414 - 20100423	 
# Chief Scientist: Takahiro Segawa 
# 4 stations with 24 place Rosette 
# CTD: Who - Hitomi Kamiya; Status - final 
# 	Includes: CTDSAL 
# SALNTY: Who - Hitomi Kamiya; Status - final 
# 	Notes: 	 
# Nutrients: Who - Hitomi Kamiya; Status - final 
# 	Includes: nitrate, nitrite, phosphate 
# 	Nitrite and NO3+NO2 reported. Separated by subtraction 
# 	No Silicate reported 
# OXYGEN: Who - Hitomi Kamiya; Status - final 
# 	Notes: 
# TCARBN: Who - Hitomi Kamiya; Status - final 
# 	Notes:  
# ALKALI: Who - Hitomi Kamiya; Status - final 
# 	Notes:  
# PH-TOT: Who - Hitomi Kamiya; Status - final 
# 	Notes:  
# Segawa, Takahiro; Kamiya, Hitomi (2019). Dissolved inorganic carbon (DIC), total alkalinity, pH on total scale, temperature, salinity, oxygen, nutrients and other measurements collected from profile and discrete sample observations during the R/V Keifu Maru II cruise KS10-02 (EXPOCODE 49UF20100414) in the North Pacific Ocean from 2010-04-14 to 2010-04-23 (NCEI Accession 0186221). [indicate subset used]. NOAA National Centers for Environmental Information. Dataset. https://doi.org/10.25921/c38n-cp02.   
# References that have used data from this cruise: 
EXPOCODE,SECT_ID,STNNBR,CASTNO,SAMPNO,BTLNBR,BTLNBR_FLAG_W,DATE,TIME,LATITUDE,LONGITUDE,DEPTH,CTDPRS,CTDTMP,CTDSAL,CTDSAL_FLAG_W,SALNTY,SALNTY_FLAG_W,OXYGEN,OXYGEN_FLAG_W,NITRAT,NITRAT_FLAG_W,NITRIT,NITRIT_FLAG_W,PHSPHT,PHSPHT_FLAG_W,TCARBN,TCARBN_FLAG_W,ALKALI,ALKALI_FLAG_W,PH_TOT,PH_TOT_FLAG_W,PH_TMP,BTL_TIME
,,,,,,,,,,,METERS,DBAR,ITS-90,PSS-78,,PSS-78,,UMOL/KG,,UMOL/KG,,UMOL/KG,,UMOL/KG,,UMOL/KG,,UMOL/KG,,,,DEG C,
  49UF20100414,KS1002,  2607,  1,     99,     99,2,20100414,1538, 34.9547, 140.2442, 1990,      0.0,  17.5729,  34.6287,2,-999.0000,9,    230.2,2,     3.50,2,     0.22,2,     0.26,2,   -999.0,9,   -999.0,9,-999.0000,9,  -999.00,     1627
  49UF20100414,KS1002,  2607,  1,     23,  21983,2,20100414,1538, 34.9547, 140.2442, 1990,     12.9,  17.5741,  34.6280,2,  34.6271,2,    230.0,6,     3.32,6,     0.22,6,     0.26,6,   -999.0,9,   -999.0,9,-999.0000,9,  -999.00,     1645
  49UF20100414,KS1002,  2607,  1,     22,  21982,2,20100414,1538, 34.9547, 140.2442, 1990,     26.9,  17.4966,  34.6218,2,-999.0000,9,    233.5,6,     2.83,6,     0.21,6,     0.23,6,   -999.0,9,   -999.0,9,-999.0000,9,  -999.00,     1644
  49UF20100414,KS1002,  2607,  1,     21,  21981,2,20100414,1538, 34.9547, 140.2442, 1990,     51.3,  17.2903,  34.5987,2,-999.0000,9,    231.1,2,     3.22,2,     0.23,2,     0.25,2,   -999.0,9,   -999.0,9,-999.0000,9,  -999.00,     1638
  49UF20100414,KS1002,  2607,  1,     20,  21980,2,20100414,1538, 34.9547, 140.2442, 1990,     77.1,  16.0277,  34.5321,2,-999.0000,9,    217.7,2,     6.21,2,     0.30,2,     0.46,2,   -999.0,9,   -999.0,9,-999.0000,9,  -999.00,     1636
  49UF20100414,KS1002,  2607,  1,     19,  21978,2,20100414,1538, 34.9547, 140.2442, 1990,    102.9,  14.5739,  34.5293,2,  34.5301,6,    181.9,2,    11.86,2,     0.05,2,     0.81,2,   -999.0,9,   -999.0,9,-999.0000,9,  -999.00,     1635
  49UF20100414,KS1002,  2607,  1,     18,  21977,2,20100414,1538, 34.9547, 140.2442, 1990,    128.1,  13.5245,  34.4483,2,-999.0000,9,    190.8,2,    12.50,2,     0.36,2,     0.89,2,   -999.0,9,   -999.0,9,-999.0000,9,  -999.00,     1633
  49UF20100414,KS1002,  2607,  1,     17,  21976,2,20100414,1538, 34.9547, 140.2442, 1990,    153.7,  12.0483,  34.4251,2,-999.0000,9,    165.8,2,    17.36,2,     0.10,2,     1.22,2,   -999.0,9,   -999.0,9,-999.0000,9,  -999.00,     1632
  49UF20100414,KS1002,  2607,  1,     16,  21975,2,20100414,1538, 34.9547, 140.2442, 1990,    206.0,  10.2902,  34.3534,2,  34.3553,2,    144.5,2,    22.06,2,     0.03,2,     1.55,2,   -999.0,9,   -999.0,9,-999.0000,9,  -999.00,     1629
  49UF20100414,KS1002,  2607,  1,     15,  21974,2,20100414,1538, 34.9547, 140.2442, 1990,    256.6,   9.2428,  34.3119,2,  34.3116,2,    133.4,2,    24.87,2,     0.02,2,     1.76,2,   -999.0,9,   -999.0,9,-999.0000,9,  -999.00,     1626
  49UF20100414,KS1002,  2607,  1,     14,  21973,2,20100414,1538, 34.9547, 140.2442, 1990,    304.3,   8.5449,  34.2991,2,  34.2986,2,    124.0,2,    26.87,2,     0.01,2,     1.92,2,   -999.0,9,   -999.0,9,-999.0000,9,  -999.00,     1624
  49UF20100414,KS1002,  2607,  1,     13,  21972,2,20100414,1538, 34.9547, 140.2442, 1990,    407.2,   7.1551,  34.2660,2,  34.2646,2,    109.3,2,    30.56,2,     0.00,2,     2.19,2,   -999.0,9,   -999.0,9,-999.0000,9,  -999.00,     1619
  49UF20100414,KS1002,  2607,  1,     12,  21971,2,20100414,1538, 34.9547, 140.2442, 1990,    505.7,   5.8224,  34.2114,2,  34.2110,2,     96.0,2,    33.98,2,     0.00,2,     2.44,2,   -999.0,9,   -999.0,9,-999.0000,9,  -999.00,     1616
  49UF20100414,KS1002,  2607,  1,     11,  21970,2,20100414,1538, 34.9547, 140.2442, 1990,    606.5,   4.9544,  34.2600,2,  34.2595,2,     77.7,2,    36.80,2,     0.00,2,     2.65,2,   -999.0,9,   -999.0,9,-999.0000,9,  -999.00,     1613
  49UF20100414,KS1002,  2607,  1,     10,  21969,2,20100414,1538, 34.9547, 140.2442, 1990,    706.2,   4.4752,  34.2731,2,  34.2760,2,     70.1,2,    38.31,2,     0.00,2,     2.77,2,   -999.0,9,   -999.0,9,-999.0000,9,  -999.00,     1610
  49UF20100414,KS1002,  2607,  1,      9,  21968,2,20100414,1538, 34.9547, 140.2442, 1990,    805.6,   3.5606,  34.3454,2,  34.3471,2,     54.5,2,    40.67,2,     0.00,2,     2.91,2,   -999.0,9,   -999.0,9,-999.0000,9,  -999.00,     1608
  49UF20100414,KS1002,  2607,  1,      8,  21967,2,20100414,1538, 34.9547, 140.2442, 1990,    907.9,   3.3719,  34.3750,2,  34.3739,2,     52.6,2,    41.12,2,     0.00,2,     2.94,2,   -999.0,9,   -999.0,9,-999.0000,9,  -999.00,     1605
  49UF20100414,KS1002,  2607,  1,      6,  21965,2,20100414,1538, 34.9547, 140.2442, 1990,   1010.6,   3.1364,  34.4076,2,  34.4071,2,     51.4,2,    41.34,2,     0.00,2,  -999.00,5,   -999.0,9,   -999.0,9,-999.0000,9,  -999.00,     1602
  49UF20100414,KS1002,  2607,  1,      7,  21966,2,20100414,1538, 34.9547, 140.2442, 1990,   1011.4,   3.1456,  34.4068,2,-999.0000,9,     51.0,2,    41.62,2,     0.00,2,     2.97,2,   -999.0,9,   -999.0,9,-999.0000,9,  -999.00,     1602
  49UF20100414,KS1002,  2607,  1,      5,  21964,2,20100414,1538, 34.9547, 140.2442, 1990,   1265.2,   2.6582,  34.4796,2,  34.4791,2,     55.8,2,    41.76,2,     0.00,2,     2.97,4,   -999.0,9,   -999.0,9,-999.0000,9,  -999.00,     1555
  49UF20100414,KS1002,  2607,  1,      4,  21963,2,20100414,1538, 34.9547, 140.2442, 1990,   1521.1,   2.3634,  34.5247,2,  34.5233,2,     59.8,2,    41.76,2,     0.00,2,     2.96,2,   -999.0,9,   -999.0,9,-999.0000,9,  -999.00,     1549
  49UF20100414,KS1002,  2607,  1,      3,  21962,2,20100414,1538, 34.9547, 140.2442, 1990,   1772.6,   2.1656,  34.5585,2,  34.5576,2,     70.2,2,    41.32,2,     0.00,2,     2.93,2,   -999.0,9,   -999.0,9,-999.0000,9,  -999.00,     1542
  49UF20100414,KS1002,  2607,  1,      2,  21961,2,20100414,1538, 34.9547, 140.2442, 1990,   1924.3,   2.0415,  34.5800,2,-999.0000,9,     77.8,2,    40.98,2,     0.00,2,     2.89,2,   -999.0,9,   -999.0,9,-999.0000,9,  -999.00,     1538
  49UF20100414,KS1002,  2607,  1,      1,  21960,2,20100414,1538, 34.9547, 140.2442, 1990,   1926.9,   2.0419,  34.5795,2,  34.5773,2,     77.2,2,    41.03,2,     0.00,2,     2.90,2,   -999.0,9,   -999.0,9,-999.0000,9,  -999.00,     1538
  49UF20100414,KS1002,  2610,  1,     99,     99,2,20100418,0009, 34.2593, 141.0437, 5156,      0.0,  19.4965,  34.7166,2,-999.0000,9,    226.2,2,     0.60,2,     0.13,2,     0.09,2,   -999.0,9,   -999.0,9,-999.0000,9,  -999.00,      205
  49UF20100414,KS1002,  2610,  1,     34,  21994,2,20100418,0009, 34.2593, 141.0437, 5156,     12.0,  19.5151,  34.7173,2,  34.7153,2,    225.5,2,     0.55,2,     0.14,2,     0.08,2,   -999.0,9,   -999.0,9,-999.0000,9,  -999.00,      244
  49UF20100414,KS1002,  2610,  1,     33,  21993,2,20100418,0009, 34.2593, 141.0437, 5156,     27.1,  19.4093,  34.7121,2,-999.0000,9,    226.4,2,     0.47,2,     0.16,2,     0.07,2,   -999.0,9,   -999.0,9,-999.0000,9,  -999.00,      242
  49UF20100414,KS1002,  2610,  1,     32,  21992,2,20100418,0009, 34.2593, 141.0437, 5156,     51.6,  19.2037,  34.7072,2,-999.0000,9,    228.8,6,     0.28,6,     0.13,6,     0.05,6,   -999.0,9,   -999.0,9,-999.0000,9,  -999.00,      237
  49UF20100414,KS1002,  2610,  1,     31,  21991,2,20100418,0009, 34.2593, 141.0437, 5156,     76.6,  19.1735,  34.7127,2,-999.0000,9,    227.8,6,     0.43,6,     0.15,6,     0.06,6,   -999.0,9,   -999.0,9,-999.0000,9,  -999.00,      236
  49UF20100414,KS1002,  2610,  1,     30,  21990,2,20100418,0009, 34.2593, 141.0437, 5156,    101.5,  19.1453,  34.7193,2,  34.7182,2,    226.8,2,     0.50,2,     0.20,2,  -999.00,5,   -999.0,9,   -999.0,9,-999.0000,9,  -999.00,      234
  49UF20100414,KS1002,  2610,  1,     29,  21989,2,20100418,0009, 34.2593, 141.0437, 5156,    125.9,  19.1323,  34.7371,2,-999.0000,9,    225.7,2,     0.44,2,     0.30,2,  -999.00,5,   -999.0,9,   -999.0,9,-999.0000,9,  -999.00,      232
  49UF20100414,KS1002,  2610,  1,     28,  21988,2,20100418,0009, 34.2593, 141.0437, 5156,    151.9,  19.0144,  34.7189,2,-999.0000,9,    222.6,2,     1.15,2,     0.07,2,     0.09,4,   -999.0,9,   -999.0,9,-999.0000,9,  -999.00,      230
  49UF20100414,KS1002,  2610,  1,     27,  21987,2,20100418,0009, 34.2593, 141.0437, 5156,    202.7,  18.9145,  34.7115,2,  34.7105,6,    222.5,2,     1.29,2,     0.03,2,     0.10,2,   -999.0,9,   -999.0,9,-999.0000,9,  -999.00,      228
  49UF20100414,KS1002,  2610,  1,     26,  21986,2,20100418,0009, 34.2593, 141.0437, 5156,    251.3,  18.5372,  34.7371,2,-999.0000,9,    200.5,2,     3.90,2,     0.01,2,     0.25,2,   -999.0,9,   -999.0,9,-999.0000,9,  -999.00,      225
  49UF20100414,KS1002,  2610,  1,     25,  21985,2,20100418,0009, 34.2593, 141.0437, 5156,    304.4,  17.7441,  34.7431,2,  34.7425,6,    192.9,2,     5.66,2,     0.00,2,     0.36,2,   -999.0,9,   -999.0,9,-999.0000,9,  -999.00,      223
  49UF20100414,KS1002,  2610,  1,     24,  21984,2,20100418,0009, 34.2593, 141.0437, 5156,    402.4,  15.2608,  34.6026,2,  34.6022,2,    180.2,2,    10.66,2,     0.00,2,     0.73,2,   -999.0,9,   -999.0,9,-999.0000,9,  -999.00,      220
  49UF20100414,KS1002,  2610,  1,     23,  21983,2,20100418,0009, 34.2593, 141.0437, 5156,    505.5,  11.6361,  34.3615,2,  34.3610,2,    171.3,2,    17.31,2,     0.00,2,     1.21,2,   -999.0,9,   -999.0,9,-999.0000,9,  -999.00,      217
  49UF20100414,KS1002,  2610,  1,     22,  21982,2,20100418,0009, 34.2593, 141.0437, 5156,    606.6,   8.3653,  34.1843,2,  34.1837,2,    147.5,2,    25.13,2,     0.00,2,     1.81,2,   -999.0,9,   -999.0,9,-999.0000,9,  -999.00,      205
  49UF20100414,KS1002,  2610,  1,     21,  21981,2,20100418,0009, 34.2593, 141.0437, 5156,    706.3,   6.1285,  34.1161,2,  34.1178,2,    115.2,2,    31.92,2,     0.00,2,     2.32,2,   -999.0,9,   -999.0,9,-999.0000,9,  -999.00,      202
  49UF20100414,KS1002,  2610,  1,     20,  21980,2,20100418,0009, 34.2593, 141.0437, 5156,    806.8,   4.6904,  34.1596,2,  34.1633,2,     74.5,2,    37.79,2,     0.00,2,     2.73,2,   -999.0,9,   -999.0,9,-999.0000,9,  -999.00,      159
  49UF20100414,KS1002,  2610,  1,     19,  21978,2,20100418,0009, 34.2593, 141.0437, 5156,    909.5,   4.0885,  34.2437,2,  34.2426,2,     52.8,2,    40.23,2,     0.00,2,     2.91,2,   -999.0,9,   -999.0,9,-999.0000,9,  -999.00,      155
  49UF20100414,KS1002,  2610,  1,     18,  21977,2,20100418,0009, 34.2593, 141.0437, 5156,   1010.8,   3.7740,  34.3552,2,  34.3542,2,     59.1,2,    40.10,2,     0.00,2,     2.89,2,   -999.0,9,   -999.0,9,-999.0000,9,  -999.00,      152
  49UF20100414,KS1002,  2610,  1,     17,  21976,2,20100418,0009, 34.2593, 141.0437, 5156,   1265.1,   3.0537,  34.4293,2,  34.4286,2,     48.8,2,    41.81,2,     0.00,2,     3.01,2,   -999.0,9,   -999.0,9,-999.0000,9,  -999.00,      146
  49UF20100414,KS1002,  2610,  1,     15,  21974,2,20100418,0009, 34.2593, 141.0437, 5156,   1517.7,   2.5515,  34.4974,2,-999.0000,9,     47.2,2,    42.56,2,     0.00,2,     3.05,2,   -999.0,9,   -999.0,9,-999.0000,9,  -999.00,      140
  49UF20100414,KS1002,  2610,  1,     16,  21975,2,20100418,0009, 34.2593, 141.0437, 5156,   1518.4,   2.5498,  34.4978,2,  34.4964,2,     46.8,2,    42.47,2,     0.00,2,     3.03,2,   -999.0,9,   -999.0,9,-999.0000,9,  -999.00,      140
  49UF20100414,KS1002,  2610,  1,     14,  21973,2,20100418,0009, 34.2593, 141.0437, 5156,   1771.3,   2.2261,  34.5498,2,  34.5490,2,     60.0,2,    41.98,2,     0.00,2,     2.99,2,   -999.0,9,   -999.0,9,-999.0000,9,  -999.00,      134
  49UF20100414,KS1002,  2610,  1,     12,  21971,2,20100418,0009, 34.2593, 141.0437, 5156,   2025.6,   2.0251,  34.5856,2,-999.0000,9,     75.2,2,    40.97,2,     0.00,2,     2.92,2,   -999.0,9,   -999.0,9,-999.0000,9,  -999.00,      127
  49UF20100414,KS1002,  2610,  1,     13,  21972,2,20100418,0009, 34.2593, 141.0437, 5156,   2029.3,   2.0223,  34.5861,2,  34.5840,2,     75.4,2,    41.12,2,     0.00,2,     2.90,2,   -999.0,9,   -999.0,9,-999.0000,9,  -999.00,      127
  49UF20100414,KS1002,  2610,  1,     11,  21970,2,20100418,0009, 34.2593, 141.0437, 5156,   2281.3,   1.8541,  34.6154,2,  34.6167,2,   -999.0,9,  -999.00,9,  -999.00,9,  -999.00,9,   -999.0,9,   -999.0,9,-999.0000,9,  -999.00,      121
  49UF20100414,KS1002,  2610,  1,     10,  21969,2,20100418,0009, 34.2593, 141.0437, 5156,   2534.3,   1.7503,  34.6331,2,  34.6325,2,   -999.0,9,  -999.00,9,  -999.00,9,  -999.00,9,   -999.0,9,   -999.0,9,-999.0000,9,  -999.00,      115
  49UF20100414,KS1002,  2610,  1,      9,  21968,2,20100418,0009, 34.2593, 141.0437, 5156,   2790.4,   1.6379,  34.6511,2,  34.6504,2,   -999.0,9,  -999.00,9,  -999.00,9,  -999.00,9,   -999.0,9,   -999.0,9,-999.0000,9,  -999.00,      109
  49UF20100414,KS1002,  2610,  1,      8,  21967,2,20100418,0009, 34.2593, 141.0437, 5156,   3046.1,   1.5821,  34.6606,2,  34.6598,2,   -999.0,9,  -999.00,9,  -999.00,9,  -999.00,9,   -999.0,9,   -999.0,9,-999.0000,9,  -999.00,      103
  49UF20100414,KS1002,  2610,  1,      7,  21966,2,20100418,0009, 34.2593, 141.0437, 5156,   3300.2,   1.5328,  34.6690,2,  34.6680,2,   -999.0,9,  -999.00,9,  -999.00,9,  -999.00,9,   -999.0,9,   -999.0,9,-999.0000,9,  -999.00,       56
  49UF20100414,KS1002,  2610,  1,      6,  21965,2,20100418,0009, 34.2593, 141.0437, 5156,   3556.2,   1.4938,  34.6755,2,  34.6750,2,   -999.0,9,  -999.00,9,  -999.00,9,  -999.00,9,   -999.0,9,   -999.0,9,-999.0000,9,  -999.00,       49
  49UF20100414,KS1002,  2610,  1,      5,  21964,2,20100418,0009, 34.2593, 141.0437, 5156,   3812.6,   1.4647,  34.6810,2,  34.6805,2,   -999.0,9,  -999.00,9,  -999.00,9,  -999.00,9,   -999.0,9,   -999.0,9,-999.0000,9,  -999.00,       42
  49UF20100414,KS1002,  2610,  1,      4,  21963,2,20100418,0009, 34.2593, 141.0437, 5156,   4067.8,   1.4352,  34.6869,2,  34.6863,2,   -999.0,9,  -999.00,9,  -999.00,9,  -999.00,9,   -999.0,9,   -999.0,9,-999.0000,9,  -999.00,       36
  49UF20100414,KS1002,  2610,  1,      3,  21962,2,20100418,0009, 34.2593, 141.0437, 5156,   4325.0,   1.4360,  34.6895,2,  34.6887,2,   -999.0,9,  -999.00,9,  -999.00,9,  -999.00,9,   -999.0,9,   -999.0,9,-999.0000,9,  -999.00,       29
  49UF20100414,KS1002,  2610,  1,      2,  21961,2,20100418,0009, 34.2593, 141.0437, 5156,   4583.0,   1.4552,  34.6907,2,  34.6900,2,   -999.0,9,  -999.00,9,  -999.00,9,  -999.00,9,   -999.0,9,   -999.0,9,-999.0000,9,  -999.00,       23
  49UF20100414,KS1002,  2610,  1,      1,  21960,2,20100418,0009, 34.2593, 141.0437, 5156,   5197.5,   1.5163,  34.6921,2,  34.6913,2,   -999.0,9,  -999.00,9,  -999.00,9,  -999.00,9,   -999.0,9,   -999.0,9,-999.0000,9,  -999.00,        9