BOTTLE,20180213PRINUNIVRMK
EXPOCODE,SECT_ID,STNNBR,CASTNO,BTLNBR,BTLNBR_FLAG_W,DATE,TIME,LATITUDE,LONGITUDE,DEPTH,CTDPRS,CTDTMP,CTDSAL,CTDSAL_FLAG_W,SALNTY,SALNTY_FLAG_W,CTDOXY,CTDOXY_FLAG_W,OXYGEN,OXYGEN_FLAG_W,SILCAT,SILCAT_FLAG_W,NITRAT,NITRAT_FLAG_W,NITRIT,NITRIT_FLAG_W,PHSPHT,PHSPHT_FLAG_W,NH4,NH4_FLAG_W,TCARBN,TCARBN_FLAG_W,ALKALI,ALKALI_FLAG_W,CHLORA
,,,,,,,,,,METERS,DBAR,ITS-90,PSS-78,,PSS-78,,UMOL/KG,,UMOL/KG,,UMOL/KG,,UMOL/KG,,UMOL/KG,,UMOL/KG,,UMOL/KG,,UMOL/KG,,UMOL/KG,,UG/KG
  32WC20120904,  WCOA,    11,  1,      1,2,20120907,0736, 47.1200,-125.2000, 1618,   1579.8,   2.4780,  34.5330,2,  34.5370,2,     37.1,2,     36.8,2,   161.10,2,    43.70,2,     0.10,2,     3.15,2,        0,2,   2391.1,2,   2408.3,2,  -999.00
  32WC20120904,  WCOA,    11,  1,      2,2,20120907,0745, 47.1200,-125.2000, 1618,    996.5,   3.7580,  34.3830,2,-999.0000,9,     11.8,2,     11.6,2,   124.40,2,    44.60,2,     0.00,2,     3.22,2,        0,2,   2370.3,2,   2365.9,2,  -999.00
  32WC20120904,  WCOA,    11,  1,      3,2,20120907,0749, 47.1200,-125.2000, 1618,    749.6,   4.4210,  34.2710,2,-999.0000,9,     11.8,2,     11.3,2,   106.20,2,    43.80,2,     0.00,2,     3.20,2,        0,2,   2349.6,2,   2342.7,2,  -999.00
  32WC20120904,  WCOA,    11,  1,      4,2,20120907,0754, 47.1200,-125.2000, 1618,    502.5,   5.2820,  34.1050,2,-999.0000,9,     30.2,2,     29.7,2,    81.00,2,    41.70,2,     0.00,2,     3.02,2,        0,2,   2309.4,2,   2307.7,2,  -999.00
  32WC20120904,  WCOA,    11,  1,      5,2,20120907,0757, 47.1200,-125.2000, 1618,    402.7,   5.6210,  34.0480,2,-999.0000,9,     41.9,2,   -999.0,9,    72.30,2,    40.30,2,     0.00,2,     2.90,2,        0,2,   2291.0,2,   2296.1,2,  -999.00
  32WC20120904,  WCOA,    11,  1,      6,2,20120907,0759, 47.1200,-125.2000, 1618,    301.0,   6.2030,  34.0200,2,-999.0000,9,     61.1,2,     59.1,2,    62.10,2,    38.10,2,     0.00,2,     2.73,2,        0,2,   2270.9,2,   2284.8,2,  -999.00
  32WC20120904,  WCOA,    11,  1,      7,2,20120907,0802, 47.1200,-125.2000, 1618,    200.6,   6.9070,  33.9580,2,-999.0000,9,     88.9,2,     87.1,2,    50.00,2,    34.60,2,     0.00,2,     2.51,2,        0,2,   2242.1,2,   2271.3,2,  -999.00
  32WC20120904,  WCOA,    11,  1,      8,2,20120907,0804, 47.1200,-125.2000, 1618,    150.7,   7.4270,  33.8730,2,-999.0000,9,    121.6,2,    116.2,2,    40.70,2,    31.10,2,     0.00,2,     2.27,2,        0,2,   2212.3,2,   2259.4,2,  -999.00
  32WC20120904,  WCOA,    11,  1,      9,2,20120907,0805, 47.1200,-125.2000, 1618,    124.9,   7.6050,  33.8070,2,-999.0000,9,    132.3,2,   -999.0,9,    37.30,2,    29.70,2,     0.00,2,     2.19,2,        0,2,   2199.6,2,   2252.0,2,  -999.00
  32WC20120904,  WCOA,    11,  1,     10,2,20120907,0806, 47.1200,-125.2000, 1618,    100.6,   7.7360,  33.7150,2,-999.0000,9,    135.5,2,    139.0,2,    34.20,2,    28.30,2,     0.00,2,     2.11,2,        0,2,   2189.5,2,   2247.8,2,  -999.00
  32WC20120904,  WCOA,    11,  1,     11,2,20120907,0807, 47.1200,-125.2000, 1618,     80.9,   7.9750,  33.5200,2,-999.0000,9,    154.2,2,   -999.0,9,    29.90,2,    25.70,2,     0.00,2,     1.98,2,        0,2,   2168.3,2,   2233.9,2,  -999.00
  32WC20120904,  WCOA,    11,  1,     12,2,20120907,0809, 47.1200,-125.2000, 1618,     60.5,   7.8210,  32.8220,2,-999.0000,9,    251.5,2,    243.3,2,    17.90,2,    14.80,2,     0.10,2,     1.40,2,        0,2,   2081.9,2,   2199.9,2,  -999.00
  32WC20120904,  WCOA,    11,  1,     13,2,20120907,0810, 47.1200,-125.2000, 1618,     51.1,   8.0200,  32.7110,2,-999.0000,9,    261.6,2,   -999.0,9,    15.50,2,    12.50,2,     0.10,2,     1.26,2,        0,2,   2063.7,2,   2191.2,2,  -999.00
  32WC20120904,  WCOA,    11,  1,     14,2,20120907,0811, 47.1200,-125.2000, 1618,     40.5,   8.4530,  32.6450,2,-999.0000,9,    250.7,2,    262.4,2,    13.80,2,    11.00,2,     0.10,2,     1.18,2,        0,2,   2053.9,2,   2187.7,2,  -999.00
  32WC20120904,  WCOA,    11,  1,     15,2,20120907,0812, 47.1200,-125.2000, 1618,     30.7,  10.2160,  32.5030,2,-999.0000,9,    298.4,2,   -999.0,9,     8.60,2,     4.40,2,     0.30,2,     0.83,2,      0.1,2,   2012.7,2,   2186.6,2,     0.66
  32WC20120904,  WCOA,    11,  1,     16,2,20120907,0813, 47.1200,-125.2000, 1618,     19.7,  10.2570,  32.4890,2,-999.0000,9,    298.6,2,    294.2,2,     7.60,2,     3.80,2,     0.30,2,     0.79,2,      0.1,2,   2008.7,2,   2186.1,2,  -999.00
  32WC20120904,  WCOA,    11,  1,     17,2,20120907,0814, 47.1200,-125.2000, 1618,     15.6,  12.2020,  32.3250,2,  32.3090,2,    286.4,2,   -999.0,9,     5.80,2,     1.60,2,     0.20,2,     0.57,2,      0.1,2,   1978.2,2,   2182.2,2,  -999.00
  32WC20120904,  WCOA,    11,  1,     18,2,20120907,0815, 47.1200,-125.2000, 1618,     10.0,  14.2130,  32.1620,2,-999.0000,9,    273.4,2,    275.9,2,     4.80,2,     0.30,2,     0.20,2,     0.41,2,        0,2,   -999.0,9,   2178.5,2,     0.42
  32WC20120904,  WCOA,    11,  1,     19,2,20120907,0816, 47.1200,-125.2000, 1618,      2.8,  14.6260,  32.1550,2,-999.0000,9,    273.2,2,   -999.0,9,     4.70,2,    -0.20,2,     0.20,2,     0.35,2,        0,2,   1948.5,2,   2177.3,2,     0.30
  32WC20120904,  WCOA,    12,  1,      1,2,20120907,1020, 47.1200,-125.0600, 1064,   1078.8,   3.5220,  34.4130,2,  34.4230,2,     14.5,2,     15.3,2,   131.50,2,    44.20,2,     0.10,2,     3.24,2,        0,2,   2374.7,2,   2375.9,2,  -999.00
  32WC20120904,  WCOA,    12,  1,      2,2,20120907,1022, 47.1200,-125.0600, 1064,   1000.3,   3.6550,  34.3960,2,-999.0000,9,     13.0,2,     12.0,2,   127.20,2,    44.20,2,     0.00,2,     3.24,2,        0,2,   2370.2,2,   2369.3,2,  -999.00
  32WC20120904,  WCOA,    12,  1,      3,2,20120907,1027, 47.1200,-125.0600, 1064,    751.8,   4.4170,  34.2700,2,-999.0000,9,     11.7,2,     11.0,2,   105.80,2,    43.60,2,     0.00,2,     3.23,2,        0,2,   2345.4,2,   2347.4,2,  -999.00
  32WC20120904,  WCOA,    12,  1,      4,2,20120907,1032, 47.1200,-125.0600, 1064,    499.7,   5.3160,  34.1200,2,-999.0000,9,     29.3,2,     28.8,2,    81.90,2,    41.40,2,     0.00,2,     3.06,2,        0,2,   2309.1,2,   2310.7,2,  -999.00
  32WC20120904,  WCOA,    12,  1,      5,2,20120907,1034, 47.1200,-125.0600, 1064,    400.3,   5.8740,  34.0650,2,-999.0000,9,     43.7,2,   -999.0,9,    70.90,2,    39.30,2,     0.00,2,     2.93,2,        0,2,   2288.2,2,   2295.6,2,  -999.00
  32WC20120904,  WCOA,    12,  1,      6,2,20120907,1037, 47.1200,-125.0600, 1064,    300.2,   6.6760,  33.9910,2,-999.0000,9,     63.4,2,     66.4,2,    56.70,2,    36.30,2,     0.00,2,     2.72,2,        0,2,   2258.7,2,   2275.4,2,  -999.00
  32WC20120904,  WCOA,    12,  1,      7,2,20120907,1039, 47.1200,-125.0600, 1064,    201.2,   7.0950,  33.9370,2,-999.0000,9,     86.2,2,     85.1,2,    49.00,2,    34.00,2,     0.00,2,     2.56,2,        0,2,   2241.9,2,   2271.6,2,  -999.00
  32WC20120904,  WCOA,    12,  1,      8,2,20120907,1041, 47.1200,-125.0600, 1064,    150.2,   7.2330,  33.8920,2,-999.0000,9,     75.5,2,     87.9,2,    48.00,2,    33.20,2,     0.00,2,     2.54,2,        0,2,   2237.3,2,   2263.7,2,  -999.00
  32WC20120904,  WCOA,    12,  1,      9,2,20120907,1042, 47.1200,-125.0600, 1064,    125.7,   7.4180,  33.8410,2,-999.0000,9,    106.8,2,   -999.0,9,    44.30,2,    32.00,2,     0.00,2,     2.46,2,        0,2,   2226.3,2,   2259.5,2,  -999.00
  32WC20120904,  WCOA,    12,  1,     10,2,20120907,1044, 47.1200,-125.0600, 1064,    101.0,   7.7630,  33.7690,2,-999.0000,9,    130.3,2,    128.9,2,    35.90,2,    29.10,2,     0.00,2,     2.24,2,        0,2,   2197.1,2,   2249.2,2,  -999.00
  32WC20120904,  WCOA,    12,  1,     11,2,20120907,1045, 47.1200,-125.0600, 1064,     81.0,   7.8850,  33.5850,2,-999.0000,9,    153.0,2,   -999.0,9,    30.90,2,    26.40,2,     0.00,2,     2.07,2,        0,2,   2172.3,2,   2239.5,2,  -999.00
  32WC20120904,  WCOA,    12,  1,     12,2,20120907,1046, 47.1200,-125.0600, 1064,     60.3,   8.0010,  33.1910,2,-999.0000,9,    190.4,2,    191.6,2,    23.90,2,    20.90,2,     0.00,2,     1.77,2,        0,2,   2129.4,2,   2216.9,2,  -999.00
  32WC20120904,  WCOA,    12,  1,     13,2,20120907,1047, 47.1200,-125.0600, 1064,     50.2,   7.8020,  32.8240,2,-999.0000,9,    245.0,2,   -999.0,9,    18.60,2,    15.60,2,     0.00,2,     1.44,2,        0,2,   2082.8,2,   2200.8,2,  -999.00
  32WC20120904,  WCOA,    12,  1,     14,2,20120907,1049, 47.1200,-125.0600, 1064,     40.4,   8.1330,  32.6670,2,-999.0000,9,    253.3,2,    254.8,2,    15.50,2,    13.00,2,     0.20,2,     1.31,2,        0,2,   2065.4,2,   2194.9,2,  -999.00
  32WC20120904,  WCOA,    12,  1,     15,2,20120907,1050, 47.1200,-125.0600, 1064,     30.3,   9.2760,  32.5290,2,-999.0000,9,    262.2,2,   -999.0,9,    13.10,2,     9.90,2,     0.20,2,     1.15,2,        0,2,   2041.7,2,   2188.7,2,     1.19
  32WC20120904,  WCOA,    12,  1,     16,2,20120907,1051, 47.1200,-125.0600, 1064,     20.0,  12.4760,  32.2040,2,-999.0000,9,    286.4,2,    284.8,2,     8.50,2,     3.40,2,     0.10,2,     0.74,2,        0,2,   1979.4,2,   2181.8,2,  -999.00
  32WC20120904,  WCOA,    12,  1,     17,2,20120907,1052, 47.1200,-125.0600, 1064,     15.8,  13.4130,  32.1510,2,-999.0000,9,    282.6,2,   -999.0,9,     6.40,2,     1.10,2,     0.00,2,     0.58,2,      0.3,2,   1959.6,2,   2180.4,2,  -999.00
  32WC20120904,  WCOA,    12,  1,     18,2,20120907,1053, 47.1200,-125.0600, 1064,     11.0,  14.1870,  32.1240,2,  32.1350,2,    276.9,2,   -999.0,9,     5.20,2,     0.20,2,     0.00,2,     0.48,2,        0,2,   1949.0,2,   2178.7,2,     0.68
  32WC20120904,  WCOA,    12,  1,     19,2,20120907,1054, 47.1200,-125.0600, 1064,      2.4,  14.3130,  32.1220,2,-999.0000,9,    275.5,2,    275.1,2,     4.90,2,    -0.10,2,     0.00,2,     0.46,2,        0,2,   1947.5,2,   2180.6,2,     0.50
  32WC20120904,  WCOA,    13,  1,      1,2,20120907,1245, 47.1100,-124.9800,  447,    452.7,   5.6390,  34.0900,2,  34.0900,2,     38.4,2,     39.7,2,    75.00,2,    40.10,2,     0.10,2,     2.93,2,        0,2,   2299.7,2,   2300.7,2,  -999.00
  32WC20120904,  WCOA,    13,  1,      2,2,20120907,1249, 47.1100,-124.9800,  447,    300.6,   6.5980,  33.9970,2,-999.0000,9,     62.6,2,     61.9,2,    58.70,2,    36.70,2,     0.10,2,     2.71,2,        0,2,   2263.4,2,   2279.9,2,  -999.00
  32WC20120904,  WCOA,    13,  1,      3,2,20120907,1251, 47.1100,-124.9800,  447,    200.2,   6.9400,  33.9460,2,-999.0000,9,     68.7,2,     70.0,2,    54.50,2,    35.10,2,     0.10,2,     2.64,2,        0,2,   2255.4,2,   2272.1,2,  -999.00
  32WC20120904,  WCOA,    13,  1,      4,2,20120907,1253, 47.1100,-124.9800,  447,    150.3,   7.2270,  33.8940,2,-999.0000,9,     88.0,2,   -999.0,9,    47.30,2,    33.10,2,     0.20,2,     2.46,2,        0,2,   2234.4,2,   2264.4,2,  -999.00
  32WC20120904,  WCOA,    13,  1,      5,2,20120907,1254, 47.1100,-124.9800,  447,    123.8,   7.6750,  33.8220,2,-999.0000,9,    122.6,2,    122.0,2,    37.80,2,    30.00,2,     0.20,2,     2.22,2,        0,2,   2204.3,2,   2252.8,2,  -999.00
  32WC20120904,  WCOA,    13,  1,      6,2,20120907,1255, 47.1100,-124.9800,  447,    100.5,   7.7810,  33.7280,2,-999.0000,9,    137.8,2,   -999.0,9,    33.70,2,    28.00,2,     0.10,2,     2.09,2,        0,2,   2184.9,2,   2245.6,2,  -999.00
  32WC20120904,  WCOA,    13,  1,      7,2,20120907,1257, 47.1100,-124.9800,  447,     80.6,   7.8290,  33.4780,2,-999.0000,9,    161.4,2,    160.0,2,    29.70,2,    25.40,2,     0.20,2,     1.95,2,        0,2,   2162.3,2,   2235.5,2,  -999.00
  32WC20120904,  WCOA,    13,  1,      8,2,20120907,1258, 47.1100,-124.9800,  447,     61.2,   7.6240,  33.1340,2,-999.0000,9,    194.4,2,   -999.0,9,    25.60,2,    21.20,2,     0.20,2,     1.74,2,        0,2,   2125.7,2,   2215.0,2,  -999.00
  32WC20120904,  WCOA,    13,  1,      9,2,20120907,1259, 47.1100,-124.9800,  447,     51.0,   7.5550,  32.9470,2,-999.0000,9,    208.6,2,    209.6,2,    24.90,2,    19.70,2,     0.20,2,     1.65,2,        0,2,   2109.4,2,   2121.6,4,  -999.00
  32WC20120904,  WCOA,    13,  1,     10,2,20120907,1300, 47.1100,-124.9800,  447,     40.7,   7.6550,  32.7820,2,-999.0000,9,    244.2,2,   -999.0,9,    19.80,2,    16.00,2,     0.20,2,     1.42,2,        0,2,   2079.6,2,   2198.0,2,  -999.00
  32WC20120904,  WCOA,    13,  1,     11,2,20120907,1301, 47.1100,-124.9800,  447,     31.0,   8.0810,  32.6750,2,-999.0000,9,    255.2,2,   -999.0,9,    16.10,2,    13.30,2,     0.30,2,     1.26,2,        0,2,   2060.8,2,   2180.7,3,     0.61
  32WC20120904,  WCOA,    13,  1,     12,2,20120907,1303, 47.1100,-124.9800,  447,     20.0,   8.9370,  32.5920,2,-999.0000,9,    258.1,2,    261.7,2,    12.60,2,    10.20,2,     0.40,2,     1.11,2,        0,2,   2047.8,2,   2188.4,2,  -999.00
  32WC20120904,  WCOA,    13,  1,     13,2,20120907,1304, 47.1100,-124.9800,  447,     15.0,   9.7740,  32.4490,2,-999.0000,9,    278.1,2,    272.8,2,    11.10,2,     7.60,2,     0.30,2,     0.91,2,        0,2,   2022.1,2,   2186.4,2,  -999.00
  32WC20120904,  WCOA,    13,  1,     14,2,20120907,1305, 47.1100,-124.9800,  447,     10.7,  12.7200,  32.1890,2,  32.2940,4,    286.8,2,   -999.0,9,     7.90,2,     3.00,2,     0.20,2,     0.58,2,        0,2,   1978.4,2,   2185.2,2,     1.52
  32WC20120904,  WCOA,    13,  1,     15,2,20120907,1306, 47.1100,-124.9800,  447,      2.7,  14.4250,  32.0530,2,-999.0000,9,    277.3,2,    277.4,2,     4.00,2,    -0.20,2,     0.20,2,     0.22,2,        0,2,   1937.1,2,   2174.9,2,     0.75
  32WC20120904,  WCOA,    14,  1,      1,2,20120907,1445, 47.1100,-124.8200,  138,    125.2,   7.1150,  33.9120,2,  33.9130,2,     58.6,2,     56.1,2,    59.60,2,    34.50,2,     0.10,2,     2.68,2,        0,2,   2265.4,2,   2265.2,2,  -999.00
  32WC20120904,  WCOA,    14,  1,      2,2,20120907,1447, 47.1100,-124.8200,  138,    100.5,   7.3330,  33.8130,2,-999.0000,9,     93.1,2,     89.2,2,    46.40,2,    32.80,2,     0.00,2,     2.40,2,        0,2,   2232.2,2,   2256.6,2,  -999.00
  32WC20120904,  WCOA,    14,  1,      3,2,20120907,1448, 47.1100,-124.8200,  138,     80.6,   7.5140,  33.5040,2,-999.0000,9,    139.7,2,    144.4,2,    34.60,2,    27.40,2,     0.00,2,     2.11,2,        0,2,   2178.6,2,   2234.7,2,  -999.00
  32WC20120904,  WCOA,    14,  1,      4,2,20120907,1450, 47.1100,-124.8200,  138,     60.9,   7.4540,  33.2210,2,-999.0000,9,    186.4,2,   -999.0,9,    27.70,2,    23.00,2,     0.00,2,     1.88,2,        0,2,   2138.4,2,   2221.0,2,  -999.00
  32WC20120904,  WCOA,    14,  1,      5,2,20120907,1451, 47.1100,-124.8200,  138,     50.1,   7.4580,  33.0560,2,-999.0000,9,    186.0,2,    196.9,2,    27.30,2,    21.80,2,     0.00,2,     1.83,2,        0,2,   2127.7,2,   2211.7,2,  -999.00
  32WC20120904,  WCOA,    14,  1,      6,2,20120907,1452, 47.1100,-124.8200,  138,     40.6,   7.3570,  32.8050,2,-999.0000,9,    244.0,2,   -999.0,9,    21.20,2,    17.00,2,     0.10,2,     1.55,2,        0,2,   2087.6,2,   2197.6,2,  -999.00
  32WC20120904,  WCOA,    14,  1,      7,2,20120907,1453, 47.1100,-124.8200,  138,     30.1,   7.6050,  32.7080,2,-999.0000,9,    257.2,2,    259.6,2,    17.90,2,    14.60,2,     0.10,2,     1.43,2,        0,2,   2069.1,2,   2193.5,2,     0.38
  32WC20120904,  WCOA,    14,  1,      8,2,20120907,1454, 47.1100,-124.8200,  138,     20.4,   9.7230,  32.4000,2,-999.0000,9,    248.7,2,   -999.0,9,    14.70,2,    12.10,2,     0.20,2,     1.29,2,      0.3,2,   2047.0,2,   2189.4,2,  -999.00
  32WC20120904,  WCOA,    14,  1,      9,2,20120907,1456, 47.1100,-124.8200,  138,     15.4,  12.9130,  32.2270,2,-999.0000,9,    286.1,2,    276.7,2,     7.00,2,     5.30,2,     0.10,2,     0.77,2,      0.2,2,   1987.2,2,   2188.2,2,  -999.00
  32WC20120904,  WCOA,    14,  1,     10,2,20120907,1457, 47.1100,-124.8200,  138,     11.0,  13.8970,  32.1660,2,  32.1920,2,    290.2,2,   -999.0,9,     3.20,2,     0.40,2,     0.00,2,     0.34,2,      0.1,2,   1942.1,2,   2187.3,2,     1.33
  32WC20120904,  WCOA,    14,  1,     11,2,20120907,1458, 47.1100,-124.8200,  138,      1.9,  14.0190,  32.1310,2,-999.0000,9,    288.6,2,    286.5,2,     3.30,2,     0.10,2,     0.00,2,     0.32,2,      0.1,2,   1937.9,2,   2181.6,2,     1.20
  32WC20120904,  WCOA,    15,  1,      1,2,20120907,1640, 47.1100,-124.6400,   93,     80.5,   7.2840,  33.8410,2,  33.8320,2,     20.7,2,     24.3,2,    75.50,2,    32.70,2,     0.10,2,     3.02,2,      0.1,2,   2289.7,2,   2254.0,2,  -999.00
  32WC20120904,  WCOA,    15,  1,      2,2,20120907,1641, 47.1100,-124.6400,   93,     70.4,   7.3300,  33.7590,2,-999.0000,9,     62.0,2,     53.5,2,    57.60,2,    33.60,2,     0.00,2,     2.85,2,        0,2,   2260.5,2,   2251.8,2,  -999.00
  32WC20120904,  WCOA,    15,  1,      3,2,20120907,1643, 47.1100,-124.6400,   93,     60.6,   7.4370,  33.6030,2,-999.0000,9,     82.3,2,     22.4,3,    45.80,2,    32.10,2,     0.00,2,     2.63,2,        0,2,   2229.9,2,   2242.3,2,  -999.00
  32WC20120904,  WCOA,    15,  1,      4,2,20120907,1644, 47.1100,-124.6400,   93,     50.7,   7.4360,  33.3940,2,-999.0000,9,    143.0,2,    131.9,2,    37.90,2,    27.10,2,     0.20,2,     2.33,2,      0.3,2,   2188.9,2,   2229.7,2,  -999.00
  32WC20120904,  WCOA,    15,  1,      5,2,20120907,1645, 47.1100,-124.6400,   93,     41.0,   7.4730,  33.2140,2,-999.0000,9,    171.3,2,   -999.0,9,    30.10,2,    24.20,2,     0.10,2,     2.04,2,        0,2,   2147.9,2,   2218.4,2,  -999.00
  32WC20120904,  WCOA,    15,  1,      6,2,20120907,1646, 47.1100,-124.6400,   93,     30.4,   7.5230,  33.0250,2,-999.0000,9,    197.0,2,    193.3,2,    27.90,2,    21.90,2,     0.10,2,     1.92,2,        0,2,   2126.8,2,   2212.2,2,     0.08
  32WC20120904,  WCOA,    15,  1,      7,2,20120907,1648, 47.1100,-124.6400,   93,     21.0,   7.8370,  32.8620,2,-999.0000,9,    220.0,2,   -999.0,9,    21.70,2,    17.30,2,     0.10,2,     1.69,2,      0.8,2,   2100.7,2,   2207.7,2,  -999.00
  32WC20120904,  WCOA,    15,  1,      8,2,20120907,1649, 47.1100,-124.6400,   93,     15.6,   8.9240,  32.7560,2,-999.0000,9,    196.6,2,    218.1,2,    15.70,2,    12.60,2,     0.20,2,     1.58,2,      2.9,2,   2095.3,2,   2208.8,2,  -999.00
  32WC20120904,  WCOA,    15,  1,      9,2,20120907,1650, 47.1100,-124.6400,   93,     10.3,  11.9260,  32.5800,2,-999.0000,9,    258.5,2,   -999.0,9,     6.10,2,     4.80,2,     0.10,2,     0.96,2,      3.3,2,   2032.3,2,   2212.3,2,     0.76
  32WC20120904,  WCOA,    15,  1,     10,2,20120907,1651, 47.1100,-124.6400,   93,      2.7,  13.5040,  32.3550,2,  32.3710,2,    296.5,2,    295.3,2,     1.90,2,     1.10,2,     0.10,2,     0.30,2,      0.4,2,   1947.1,2,   2203.9,2,     1.54