BOTTLE,20180213PRINUNIVRMK
EXPOCODE,SECT_ID,STNNBR,CASTNO,BTLNBR,BTLNBR_FLAG_W,DATE,TIME,LATITUDE,LONGITUDE,DEPTH,CTDPRS,CTDTMP,CTDSAL,CTDSAL_FLAG_W,SALNTY,SALNTY_FLAG_W,CTDOXY,CTDOXY_FLAG_W,OXYGEN,OXYGEN_FLAG_W,SILCAT,SILCAT_FLAG_W,NITRAT,NITRAT_FLAG_W,NITRIT,NITRIT_FLAG_W,PHSPHT,PHSPHT_FLAG_W,NH4,NH4_FLAG_W,TCARBN,TCARBN_FLAG_W,ALKALI,ALKALI_FLAG_W,CHLORA
,,,,,,,,,,METERS,DBAR,ITS-90,PSS-78,,PSS-78,,UMOL/KG,,UMOL/KG,,UMOL/KG,,UMOL/KG,,UMOL/KG,,UMOL/KG,,UMOL/KG,,UMOL/KG,,UMOL/KG,,UG/KG
  32WC20120904,  WCOA,     5,  1,      1,2,20120906,1616, 48.3800,-124.9600,  119,    107.9,   6.8950,  33.8500,2,-999.0000,9,     78.3,2,     78.0,2,    52.80,2,    34.10,2,     0.10,2,     2.59,2,        0,2,   2249.5,2,   2263.3,2,  -999.00
  32WC20120904,  WCOA,     5,  1,      2,2,20120906,1617, 48.3800,-124.9600,  119,     81.2,   7.1880,  33.7490,2,-999.0000,9,    101.1,2,    101.1,2,    45.50,2,    31.90,2,     0.10,2,     2.42,2,        0,2,   2226.0,2,   2253.6,2,  -999.00
  32WC20120904,  WCOA,     5,  1,      3,3,20120906,1621, 48.3800,-124.9600,  119,     60.0,   7.2610,  33.6990,2,-999.0000,9,    107.0,2,    111.4,2,    42.60,2,    30.70,2,     0.10,2,     2.33,2,        0,2,   2212.6,2,   2248.5,2,  -999.00
  32WC20120904,  WCOA,     5,  1,      4,2,20120906,1621, 48.3800,-124.9600,  119,     50.5,   7.4880,  33.3920,2,-999.0000,9,    108.5,2,   -999.0,9,    43.00,2,    30.70,2,     0.10,2,     2.39,2,      0.5,2,   2206.0,2,   2235.6,2,  -999.00
  32WC20120904,  WCOA,     5,  1,      5,2,20120906,1622, 48.3800,-124.9600,  119,     40.7,   7.6300,  33.2560,2,-999.0000,9,    108.5,2,    107.9,2,    43.20,2,    30.50,2,     0.10,2,     2.41,2,      0.9,2,   2201.9,2,   2229.6,2,  -999.00
  32WC20120904,  WCOA,     5,  1,      6,2,20120906,1623, 48.3800,-124.9600,  119,     30.8,   7.9730,  33.0540,2,-999.0000,9,    115.8,2,   -999.0,9,    40.60,2,    29.10,2,     0.10,2,     2.35,2,      1.6,2,   2189.8,2,   2222.1,2,  -999.00
  32WC20120904,  WCOA,     5,  1,      7,2,20120906,1624, 48.3800,-124.9600,  119,     21.0,   8.8150,  32.6260,2,-999.0000,9,    166.6,2,    152.9,2,    31.20,2,    23.20,2,     0.10,2,     2.04,2,      2.6,2,   2140.3,2,   2200.8,2,  -999.00
  32WC20120904,  WCOA,     5,  1,      8,2,20120906,1626, 48.3800,-124.9600,  119,     15.8,   9.6820,  32.3150,2,-999.0000,9,    184.0,2,   -999.0,9,    24.70,2,    19.00,2,     0.10,2,     1.77,2,      2.9,2,   2102.0,2,   2192.4,2,  -999.00
  32WC20120904,  WCOA,     5,  1,      9,2,20120906,1627, 48.3800,-124.9600,  119,     10.5,  10.3530,  32.0800,2,  32.0960,2,    207.6,2,    212.4,2,    17.80,2,    14.20,2,     0.10,2,     1.47,2,      2.8,2,   2060.3,2,   2101.7,4,  -999.00
  32WC20120904,  WCOA,     5,  1,     10,2,20120906,1628, 48.3800,-124.9600,  119,      3.0,  13.4080,  31.6710,2,-999.0000,9,    244.5,2,   -999.0,9,     2.70,2,     1.30,2,     0.00,2,     0.29,2,      0.8,2,   1916.2,6,   2174.3,6,  -999.00
  32WC20120904,  WCOA,     7,  1,      1,2,20120906,2325, 47.3300,-124.5000,   52,     43.3,   7.4230,  33.5730,2,-999.0000,9,     89.4,2,    100.4,2,    42.60,2,    28.80,2,     0.10,2,     2.35,2,      0.1,2,   2214.2,2,   2236.1,6,  -999.00
  32WC20120904,  WCOA,     7,  1,      2,2,20120906,2326, 47.3300,-124.5000,   52,     40.9,   7.4360,  33.5230,2,-999.0000,9,    107.9,2,    103.2,2,    43.40,2,    29.40,2,     0.10,2,     2.40,2,        0,2,   2213.7,2,   2237.7,2,  -999.00
  32WC20120904,  WCOA,     7,  1,      3,2,20120906,2328, 47.3300,-124.5000,   52,     30.4,   7.5230,  33.2730,2,-999.0000,9,    165.8,2,    153.8,2,    33.00,2,    25.00,2,     0.10,2,     2.04,2,      0.1,2,   2163.9,2,   2223.5,2,  -999.00
  32WC20120904,  WCOA,     7,  1,      4,2,20120906,2329, 47.3300,-124.5000,   52,     20.2,   8.1410,  33.1410,2,-999.0000,9,    142.5,2,   -999.0,9,    31.60,2,    23.10,2,     0.10,2,     2.13,2,      2.8,2,   2164.4,2,   2224.8,2,  -999.00
  32WC20120904,  WCOA,     7,  1,      5,2,20120906,2330, 47.3300,-124.5000,   52,     14.8,  10.2420,  32.9540,2,-999.0000,9,    175.7,2,    173.9,2,    16.90,2,     9.60,2,     0.20,2,     1.62,2,      5.9,2,   2120.0,2,   2231.0,4,  -999.00
  32WC20120904,  WCOA,     7,  1,      6,2,20120906,2331, 47.3300,-124.5000,   52,      9.9,  12.7900,  32.4250,2,  32.4840,4,    292.4,2,   -999.0,9,     3.30,2,     1.70,2,     0.10,2,     0.60,2,      3.4,2,   1989.6,2,   2190.5,3,  -999.00
  32WC20120904,  WCOA,     7,  1,      7,2,20120906,2333, 47.3300,-124.5000,   52,      4.1,  13.9320,  32.3070,2,-999.0000,9,    295.6,2,    305.0,2,     1.60,2,     0.20,2,     0.00,2,     0.31,2,      1.4,2,   1943.7,6,   2185.6,2,  -999.00
  32WC20120904,  WCOA,     8,  1,      1,2,20120907,0052, 47.3500,-124.7100,  118,    108.5,   6.9910,  33.9280,2,  33.9320,2,     54.8,2,     53.5,2,    59.50,2,    34.10,2,     0.20,2,     2.66,2,      0.5,2,   2272.3,2,   2268.7,6,  -999.00
  32WC20120904,  WCOA,     8,  1,      2,2,20120907,0054, 47.3500,-124.7100,  118,     80.7,   7.2340,  33.8740,2,-999.0000,9,     95.2,2,     96.0,2,    46.10,2,    32.20,2,     0.00,2,     2.34,2,        0,2,   2233.1,2,   2258.9,2,  -999.00
  32WC20120904,  WCOA,     8,  1,      3,2,20120907,0055, 47.3500,-124.7100,  118,     59.7,   7.3720,  33.7350,2,-999.0000,9,     96.0,2,     96.3,2,    44.20,2,    31.40,2,     0.10,2,     2.34,2,        0,2,   2228.0,2,   2250.9,2,  -999.00
  32WC20120904,  WCOA,     8,  1,      4,2,20120907,0057, 47.3500,-124.7100,  118,     50.6,   7.3980,  33.6900,2,-999.0000,9,     96.7,2,     98.0,2,    43.60,2,    30.90,2,     0.10,2,     2.34,2,      0.1,2,   2226.5,2,   2247.3,2,  -999.00
  32WC20120904,  WCOA,     8,  1,      5,2,20120907,0058, 47.3500,-124.7100,  118,     40.9,   7.4970,  33.5220,2,-999.0000,9,    119.0,2,   -999.0,9,    38.90,2,    28.10,2,     0.20,2,     2.22,2,      0.5,2,   2200.2,2,   2236.9,2,  -999.00
  32WC20120904,  WCOA,     8,  1,      6,2,20120907,0100, 47.3500,-124.7100,  118,     30.6,   7.6590,  33.3120,2,-999.0000,9,    170.8,2,    166.2,2,    29.60,2,    23.40,2,     0.10,2,     1.91,2,      0.7,2,   2157.0,2,   2226.5,2,  -999.00
  32WC20120904,  WCOA,     8,  1,      7,2,20120907,0101, 47.3500,-124.7100,  118,     20.5,  10.4040,  32.8300,2,-999.0000,9,    204.2,2,   -999.0,9,    12.80,2,    11.60,2,     0.20,2,     1.49,2,      4.8,2,   2110.0,2,   2228.3,2,  -999.00
  32WC20120904,  WCOA,     8,  1,      8,2,20120907,0103, 47.3500,-124.7100,  118,     15.8,  10.9310,  32.7300,2,-999.0000,9,    250.6,2,    247.6,2,     5.50,2,     6.60,2,     0.10,2,     1.00,2,      3.9,2,   2048.9,2,   2221.2,2,  -999.00
  32WC20120904,  WCOA,     8,  1,      9,2,20120907,0104, 47.3500,-124.7100,  118,     10.7,  12.9440,  32.2930,2,  32.4500,4,    313.0,2,   -999.0,9,     3.00,2,     2.60,2,     0.10,2,     0.54,2,      1.4,2,   1980.1,2,   2207.2,2,  -999.00
  32WC20120904,  WCOA,     8,  1,     10,2,20120907,0105, 47.3500,-124.7100,  118,      3.9,  14.4860,  32.0750,2,-999.0000,9,    314.0,2,    301.6,2,     1.30,2,     0.00,2,     0.00,2,     0.20,2,      0.1,2,   1921.8,6,   2185.7,6,  -999.00
  32WC20120904,  WCOA,     9,  1,      1,2,20120907,0244, 47.3300,-124.8500,  898,    949.2,   3.7640,  34.3720,2,  34.3730,2,     12.9,2,     13.6,2,   124.70,2,    43.60,2,     0.00,2,     3.10,2,        0,2,   2367.1,2,   2366.0,2,  -999.00
  32WC20120904,  WCOA,     9,  1,      2,2,20120907,0248, 47.3300,-124.8500,  898,    752.5,   4.4640,  34.2590,2,-999.0000,9,     12.7,2,     14.3,2,   104.20,2,    43.10,2,     0.00,2,     3.05,2,        0,2,   2344.8,2,   2338.1,2,  -999.00
  32WC20120904,  WCOA,     9,  1,      3,2,20120907,0253, 47.3300,-124.8500,  898,    500.6,   5.5970,  34.0890,2,-999.0000,9,     37.1,2,     35.9,2,    76.10,2,    40.10,2,     0.00,2,     2.84,2,        0,2,   2299.4,2,   2301.2,2,  -999.00
  32WC20120904,  WCOA,     9,  1,      4,2,20120907,0256, 47.3300,-124.8500,  898,    400.6,   6.0200,  34.0330,2,-999.0000,9,     50.7,2,     51.6,2,    66.50,2,    38.30,2,     0.00,2,     2.71,2,        0,2,   2280.6,2,   2288.2,2,  -999.00
  32WC20120904,  WCOA,     9,  1,      5,2,20120907,0259, 47.3300,-124.8500,  898,    299.6,   6.4580,  33.9980,2,-999.0000,9,     61.1,2,   -999.0,9,    60.10,2,    36.70,2,     0.00,2,     2.61,2,        0,2,   2266.1,2,   2279.1,2,  -999.00
  32WC20120904,  WCOA,     9,  1,      6,2,20120907,0302, 47.3300,-124.8500,  898,    200.6,   6.8590,  33.9480,2,-999.0000,9,     66.8,2,     69.3,2,    55.20,2,    34.90,2,     0.00,2,     2.53,2,        0,2,   2253.7,2,   2270.0,2,  -999.00
  32WC20120904,  WCOA,     9,  1,      7,2,20120907,0303, 47.3300,-124.8500,  898,    150.5,   7.0030,  33.9230,2,-999.0000,9,     61.7,2,   -999.0,9,    56.30,2,    34.70,2,     0.00,2,     2.57,2,        0,2,   2257.6,2,   2267.2,2,  -999.00
  32WC20120904,  WCOA,     9,  1,      8,2,20120907,0305, 47.3300,-124.8500,  898,    126.0,   7.0650,  33.9090,2,-999.0000,9,     64.2,2,   -999.0,9,    56.00,2,    34.30,2,     0.10,2,     2.56,2,        0,2,   2257.0,2,   2266.9,2,  -999.00
  32WC20120904,  WCOA,     9,  1,      9,2,20120907,0306, 47.3300,-124.8500,  898,    100.2,   7.2190,  33.8630,2,-999.0000,9,     49.5,2,     40.4,2,    62.00,2,    34.20,2,     0.00,2,     2.71,2,        0,2,   2275.3,2,   2262.4,6,  -999.00
  32WC20120904,  WCOA,     9,  1,     10,2,20120907,0308, 47.3300,-124.8500,  898,     80.8,   7.6660,  33.8150,2,-999.0000,9,    103.4,2,    111.6,2,    39.50,2,    30.50,2,     0.00,2,     2.21,2,        0,2,   2208.3,2,   2253.3,2,  -999.00
  32WC20120904,  WCOA,     9,  1,     11,2,20120907,0309, 47.3300,-124.8500,  898,     60.0,   7.6260,  33.4310,2,-999.0000,9,    141.3,2,    153.9,2,    32.70,2,    25.70,2,     0.10,2,     2.00,2,      0.1,2,   2168.1,2,   2231.9,2,  -999.00
  32WC20120904,  WCOA,     9,  1,     12,2,20120907,0310, 47.3300,-124.8500,  898,     50.3,   7.9140,  33.1710,2,-999.0000,9,    141.7,2,   -999.0,9,    29.20,2,    21.20,2,     0.20,2,     1.95,2,      1.8,2,   2150.2,2,   2226.1,2,  -999.00
  32WC20120904,  WCOA,     9,  1,     13,2,20120907,0312, 47.3300,-124.8500,  898,     40.5,   7.9780,  32.8090,2,-999.0000,9,    217.0,2,    232.1,2,    19.10,2,    15.60,2,     0.20,2,     1.47,2,      0.3,2,   2085.2,2,   2199.0,2,  -999.00
  32WC20120904,  WCOA,     9,  1,     14,2,20120907,0313, 47.3300,-124.8500,  898,     30.3,   8.5050,  32.6320,2,-999.0000,9,    225.5,2,   -999.0,9,    18.10,2,    14.40,2,     0.20,2,     1.44,2,      0.9,2,   2076.3,2,   2192.7,2,  -999.00
  32WC20120904,  WCOA,     9,  1,     15,2,20120907,0314, 47.3300,-124.8500,  898,     20.3,  11.2180,  32.3960,2,-999.0000,9,    275.4,2,    254.2,2,    10.80,2,     7.90,2,     0.20,2,     1.05,2,      1.6,2,   2031.6,2,   2191.8,2,  -999.00
  32WC20120904,  WCOA,     9,  1,     16,2,20120907,0315, 47.3300,-124.8500,  898,     16.0,  12.6120,  32.4240,2,-999.0000,9,    293.1,2,   -999.0,9,     4.80,2,     3.40,2,     0.10,2,     0.69,2,      2.2,2,   1993.2,2,   2199.9,2,  -999.00
  32WC20120904,  WCOA,     9,  1,     17,2,20120907,0316, 47.3300,-124.8500,  898,     10.0,  13.1850,  31.7110,2,  32.0990,4,    282.0,2,    289.3,2,     3.90,2,     2.70,2,     0.10,2,     0.57,2,        2,2,   1961.3,2,   2193.6,2,  -999.00
  32WC20120904,  WCOA,     9,  1,     18,2,20120907,0317, 47.3300,-124.8500,  898,      2.3,  14.2790,  31.5360,2,-999.0000,9,    292.0,2,    283.9,2,     6.70,2,     4.30,2,     0.20,2,     0.65,2,      1.4,2,   1944.9,2,   2173.3,6,  -999.00
  32WC20120904,  WCOA,    10,  1,      1,2,20120907,0458, 47.3300,-125.1500, 1460,   1555.6,   2.4310,  34.5380,2,  34.5410,2,     38.3,2,     38.1,2,   162.90,2,    43.50,2,     0.10,2,     3.14,2,        0,2,   2393.9,2,   2409.0,6,  -999.00
  32WC20120904,  WCOA,    10,  1,      2,2,20120907,0506, 47.3300,-125.1500, 1460,    998.3,   3.6370,  34.3940,2,-999.0000,9,     13.5,2,     12.9,2,   128.30,2,    44.40,2,     0.00,2,     3.24,2,        0,2,   2371.9,2,   2370.5,2,  -999.00
  32WC20120904,  WCOA,    10,  1,      3,2,20120907,0511, 47.3300,-125.1500, 1460,    750.2,   4.4630,  34.2580,2,-999.0000,9,     12.8,2,     12.4,2,   104.90,2,    43.70,2,     0.00,2,     3.22,2,        0,2,   2348.1,2,   2339.0,2,  -999.00
  32WC20120904,  WCOA,    10,  1,      4,2,20120907,0516, 47.3300,-125.1500, 1460,    500.3,   5.4280,  34.1020,2,-999.0000,9,     33.0,2,     31.9,2,    79.10,2,    41.10,2,     0.00,2,     3.00,2,        0,2,   2306.2,2,   2304.9,2,  -999.00
  32WC20120904,  WCOA,    10,  1,      5,2,20120907,0519, 47.3300,-125.1500, 1460,    400.3,   5.9050,  34.0530,2,-999.0000,9,     45.8,2,   -999.0,9,    69.20,2,    39.40,2,     0.00,2,     2.87,2,        0,2,   2287.1,2,   2293.1,2,  -999.00
  32WC20120904,  WCOA,    10,  1,      6,2,20120907,0522, 47.3300,-125.1500, 1460,    299.3,   6.4210,  34.0200,2,-999.0000,9,     62.5,2,     60.4,2,    59.60,2,    37.40,2,     0.00,2,     2.70,2,        0,2,   2268.2,2,   2283.5,2,  -999.00
  32WC20120904,  WCOA,    10,  1,      7,2,20120907,0524, 47.3300,-125.1500, 1460,    199.2,   7.0750,  33.9330,2,-999.0000,9,     68.1,2,   -999.0,9,    49.40,2,    34.10,2,     0.00,2,     2.46,2,        0,2,   2242.6,2,   2267.2,2,  -999.00
  32WC20120904,  WCOA,    10,  1,      8,2,20120907,0526, 47.3300,-125.1500, 1460,    149.5,   7.4630,  33.8660,2,-999.0000,9,    108.6,2,    108.6,2,    41.50,2,    31.50,2,     0.00,2,     2.27,2,        0,2,   2218.4,2,   2259.0,2,  -999.00
  32WC20120904,  WCOA,    10,  1,      9,2,20120907,0528, 47.3300,-125.1500, 1460,    125.4,   7.6120,  33.8190,2,-999.0000,9,    116.5,2,   -999.0,9,    39.00,2,    30.60,2,     0.00,2,     2.27,2,        0,2,   2210.5,2,   2254.2,2,  -999.00
  32WC20120904,  WCOA,    10,  1,     10,2,20120907,0529, 47.3300,-125.1500, 1460,    100.2,   7.8170,  33.6580,2,-999.0000,9,    133.9,2,    135.6,2,    34.00,2,    28.20,2,     0.00,2,     2.15,2,        0,2,   2188.9,2,   2243.0,2,  -999.00
  32WC20120904,  WCOA,    10,  1,     11,2,20120907,0531, 47.3300,-125.1500, 1460,     80.1,   7.8770,  33.4580,2,-999.0000,9,    153.2,2,    156.3,2,    30.30,2,    25.50,2,     0.00,2,     2.01,2,        0,2,   2166.5,2,   2229.8,2,  -999.00
  32WC20120904,  WCOA,    10,  1,     12,2,20120907,0533, 47.3300,-125.1500, 1460,     60.3,   8.2230,  33.1990,2,-999.0000,9,    186.4,2,    190.4,2,    23.50,2,    20.80,2,     0.00,2,     1.75,2,        0,2,   2128.2,2,   2216.0,2,  -999.00
  32WC20120904,  WCOA,    10,  1,     13,2,20120907,0534, 47.3300,-125.1500, 1460,     50.3,   8.2260,  32.9530,2,-999.0000,9,    225.6,2,   -999.0,9,    18.70,2,    16.30,2,     0.00,2,     1.50,2,        0,2,   2094.1,2,   2203.8,2,  -999.00
  32WC20120904,  WCOA,    10,  1,     14,2,20120907,0535, 47.3300,-125.1500, 1460,     40.2,   8.5470,  32.8050,2,-999.0000,9,    252.8,2,    251.8,2,    14.50,2,    11.90,2,     0.20,2,     1.26,2,        0,2,   2067.2,2,   2195.8,2,  -999.00
  32WC20120904,  WCOA,    10,  1,     15,2,20120907,0537, 47.3300,-125.1500, 1460,     30.5,   9.3200,  32.6340,2,-999.0000,9,    289.6,2,    286.1,2,     9.40,2,     6.20,2,     0.20,2,     0.96,2,      0.1,2,   2032.2,2,   2189.5,2,  -999.00
  32WC20120904,  WCOA,    10,  1,     16,2,20120907,0538, 47.3300,-125.1500, 1460,     20.3,  10.3380,  32.5290,2,-999.0000,9,    297.5,2,   -999.0,9,     6.10,2,     2.40,2,     0.10,2,     0.76,2,      0.2,2,   2009.9,2,   2186.8,2,  -999.00
  32WC20120904,  WCOA,    10,  1,     17,2,20120907,0539, 47.3300,-125.1500, 1460,     15.8,  10.5810,  32.5190,2,  32.5240,2,    297.3,2,    309.2,2,     5.20,2,     1.00,2,     0.10,2,     0.66,2,      0.2,2,   2000.1,2,   2187.6,2,  -999.00
  32WC20120904,  WCOA,    10,  1,     18,2,20120907,0540, 47.3300,-125.1500, 1460,     11.1,  12.4300,  32.3460,2,-999.0000,9,    293.9,2,   -999.0,9,     3.90,2,     0.40,2,     0.00,2,     0.50,2,      0.4,2,   1977.9,2,   2187.6,2,  -999.00
  32WC20120904,  WCOA,    10,  1,     19,2,20120907,0542, 47.3300,-125.1500, 1460,      2.6,  14.1760,  32.1050,2,-999.0000,9,    293.0,2,    291.5,2,     2.20,2,     0.40,2,     0.00,2,     0.28,2,      0.9,2,   1938.7,2,   2193.1,6,  -999.00