BOTTLE,20180213PRINUNIVRMK
EXPOCODE,SECT_ID,STNNBR,CASTNO,BTLNBR,BTLNBR_FLAG_W,DATE,TIME,LATITUDE,LONGITUDE,DEPTH,CTDPRS,CTDTMP,CTDSAL,CTDSAL_FLAG_W,SALNTY,SALNTY_FLAG_W,CTDOXY,CTDOXY_FLAG_W,OXYGEN,OXYGEN_FLAG_W,SILCAT,SILCAT_FLAG_W,NITRAT,NITRAT_FLAG_W,NITRIT,NITRIT_FLAG_W,PHSPHT,PHSPHT_FLAG_W,NH4,NH4_FLAG_W,TCARBN,TCARBN_FLAG_W,ALKALI,ALKALI_FLAG_W,CHLORA
,,,,,,,,,,METERS,DBAR,ITS-90,PSS-78,,PSS-78,,UMOL/KG,,UMOL/KG,,UMOL/KG,,UMOL/KG,,UMOL/KG,,UMOL/KG,,UMOL/KG,,UMOL/KG,,UMOL/KG,,UG/KG
  32WC20120904,  WCOA,    27,  1,      1,2,20120908,0856, 46.1200,-124.6700,  291,    284.5,   6.9470,  33.9680,2,  33.9680,2,     59.1,2,     62.7,2,    57.10,2,    35.00,2,     0.20,2,     2.64,2,        0,2,   2262.0,2,   2273.4,2,  -999.00
  32WC20120904,  WCOA,    27,  1,      2,2,20120908,0856, 46.1200,-124.6700,  291,    284.1,   6.9490,  33.9680,2,-999.0000,9,     59.2,2,   -999.0,9,    57.10,2,    35.00,2,     0.20,2,     2.64,2,        0,2,   -999.0,9,   -999.0,9,  -999.00
  32WC20120904,  WCOA,    27,  1,      3,2,20120908,0859, 46.1200,-124.6700,  291,    202.3,   7.0730,  33.9220,2,-999.0000,9,     59.3,2,     63.8,2,    53.10,2,    34.90,2,     0.00,2,     2.60,2,        0,2,   2257.2,2,   2266.3,2,  -999.00
  32WC20120904,  WCOA,    27,  1,      4,2,20120908,0901, 46.1200,-124.6700,  291,    150.3,   7.2470,  33.8690,2,-999.0000,9,     74.1,2,   -999.0,9,    49.60,2,    33.70,2,     0.00,2,     2.51,2,        0,2,   2245.3,2,   2260.3,2,  -999.00
  32WC20120904,  WCOA,    27,  1,      5,2,20120908,0902, 46.1200,-124.6700,  291,    125.4,   7.5910,  33.7820,2,-999.0000,9,    113.0,2,    111.7,2,    39.80,2,    30.50,2,     0.00,2,     2.25,2,        0,2,   2211.4,2,   2250.9,2,  -999.00
  32WC20120904,  WCOA,    27,  1,      6,2,20120908,0904, 46.1200,-124.6700,  291,    101.3,   7.9150,  33.6660,2,-999.0000,9,    139.0,2,   -999.0,9,    33.20,2,    27.80,2,     0.00,2,     2.06,2,        0,2,   2185.2,2,   2241.9,2,  -999.00
  32WC20120904,  WCOA,    27,  1,      7,2,20120908,0905, 46.1200,-124.6700,  291,     82.3,   8.0970,  33.4090,2,-999.0000,9,    168.8,2,    171.0,2,    26.70,2,    23.50,2,     0.00,2,     1.82,2,        0,2,   2149.1,2,   2225.7,2,  -999.00
  32WC20120904,  WCOA,    27,  1,      8,2,20120908,0906, 46.1200,-124.6700,  291,     60.5,   8.0770,  32.9720,2,-999.0000,9,    223.4,2,   -999.0,9,    18.40,2,    16.20,2,     0.00,2,     1.42,2,        0,2,   2090.9,2,   2203.2,2,  -999.00
  32WC20120904,  WCOA,    27,  1,      9,2,20120908,0907, 46.1200,-124.6700,  291,     50.8,   8.1030,  32.7400,2,-999.0000,9,    262.2,2,    261.6,2,    14.20,2,    11.70,2,     0.00,2,     1.17,2,        0,2,   2057.6,2,   2190.7,2,  -999.00
  32WC20120904,  WCOA,    27,  1,     10,2,20120908,0908, 46.1200,-124.6700,  291,     40.1,   8.3820,  32.6670,2,-999.0000,9,    263.3,2,   -999.0,9,    12.80,2,    10.40,2,     0.10,2,     1.11,2,        0,2,   2049.6,2,   2189.4,2,  -999.00
  32WC20120904,  WCOA,    27,  1,     11,2,20120908,0910, 46.1200,-124.6700,  291,     30.8,   9.0550,  32.6260,2,-999.0000,9,    284.6,2,    287.6,2,     9.30,2,     6.10,2,     0.10,2,     0.90,2,      0.2,2,   2028.6,2,   2188.7,2,     0.60
  32WC20120904,  WCOA,    27,  1,     12,2,20120908,0911, 46.1200,-124.6700,  291,     20.0,   9.7750,  32.5770,2,-999.0000,9,    313.7,2,   -999.0,9,     6.90,2,     2.60,2,     0.10,2,     0.69,2,      0.2,2,   2005.0,2,   2189.0,2,  -999.00
  32WC20120904,  WCOA,    27,  1,     13,2,20120908,0912, 46.1200,-124.6700,  291,     15.7,  10.3270,  32.5580,2,-999.0000,9,    335.2,2,    329.4,2,     6.00,2,     0.90,2,     0.00,2,     0.57,2,      0.1,2,   1990.6,2,   2190.0,2,  -999.00
  32WC20120904,  WCOA,    27,  1,     14,2,20120908,0913, 46.1200,-124.6700,  291,     10.6,  12.3120,  32.3990,2,-999.0000,9,    323.9,2,   -999.0,9,     5.30,2,     0.30,2,     0.00,2,     0.46,2,      0.1,2,   1971.7,2,   2184.0,2,     0.52
  32WC20120904,  WCOA,    27,  1,     15,2,20120908,0914, 46.1200,-124.6700,  291,      3.4,  15.4020,  31.7020,2,  31.7310,2,    297.8,2,    279.4,2,     2.90,2,     0.00,2,     0.00,2,     0.16,2,        0,2,   1920.4,2,   2173.0,6,     0.58
  32WC20120904,  WCOA,    28,  1,      1,2,20120908,0637, 46.1100,-124.9100, 1341,   1351.3,   2.9230,  34.4890,2,  34.4980,2,     24.8,2,     26.4,2,   148.00,2,    44.10,2,     0.10,2,     3.19,2,        0,2,   2384.6,2,   2393.1,2,  -999.00
  32WC20120904,  WCOA,    28,  1,      2,2,20120908,0643, 46.1100,-124.9100, 1341,   1002.6,   3.6280,  34.4050,2,-999.0000,9,     13.7,2,     14.8,2,   128.20,2,    44.40,2,     0.00,2,     3.25,2,        0,2,   2371.2,2,   2370.0,2,  -999.00
  32WC20120904,  WCOA,    28,  1,      3,2,20120908,0647, 46.1100,-124.9100, 1341,    753.0,   4.4770,  34.2470,2,-999.0000,9,     12.3,2,     11.9,2,   103.50,2,    43.60,2,     0.00,2,     3.20,2,        0,2,   2344.5,2,   2335.2,2,  -999.00
  32WC20120904,  WCOA,    28,  1,      4,2,20120908,0652, 46.1100,-124.9100, 1341,    501.8,   5.6710,  34.1020,2,-999.0000,9,     36.0,2,     35.1,2,    75.00,2,    40.30,2,     0.00,2,     2.99,2,        0,2,   2297.6,2,   2301.1,2,  -999.00
  32WC20120904,  WCOA,    28,  1,      5,2,20120908,0654, 46.1100,-124.9100, 1341,    402.2,   6.0500,  34.0610,2,-999.0000,9,     47.0,2,   -999.0,9,    67.10,2,    38.90,2,     0.00,2,     2.86,2,        0,2,   2282.1,2,   2289.8,2,  -999.00
  32WC20120904,  WCOA,    28,  1,      6,2,20120908,0657, 46.1100,-124.9100, 1341,    301.5,   6.5920,  33.9890,2,-999.0000,9,     67.1,2,     62.0,2,    57.80,2,    36.80,2,     0.00,2,     2.72,2,        0,2,   2263.0,2,   2276.4,2,  -999.00
  32WC20120904,  WCOA,    28,  1,      7,2,20120908,0659, 46.1100,-124.9100, 1341,    200.4,   7.1010,  33.9450,2,  33.9520,2,     78.8,2,   -999.0,9,    48.20,2,    34.10,2,     0.00,2,     2.52,2,        0,2,   2239.3,2,   2264.7,2,  -999.00
  32WC20120904,  WCOA,    28,  1,      8,2,20120908,0701, 46.1100,-124.9100, 1341,    150.2,   7.7520,  33.8040,2,-999.0000,9,    119.9,2,    119.1,2,    37.50,2,    30.10,2,     0.00,2,     2.29,2,        0,2,   2202.9,2,   2250.4,2,  -999.00
  32WC20120904,  WCOA,    28,  1,      9,2,20120908,0702, 46.1100,-124.9100, 1341,    125.2,   7.9510,  33.7010,2,-999.0000,9,    131.6,2,   -999.0,9,    34.20,2,    28.60,2,     0.00,2,     2.21,2,        0,2,   2192.4,2,   2244.2,2,  -999.00
  32WC20120904,  WCOA,    28,  1,     10,2,20120908,0704, 46.1100,-124.9100, 1341,     99.9,   7.9980,  33.4770,2,-999.0000,9,    154.8,2,    157.2,2,    29.20,2,    25.30,2,     0.00,2,     2.02,2,        0,2,   2164.1,2,   2231.5,2,  -999.00
  32WC20120904,  WCOA,    28,  1,     11,2,20120908,0705, 46.1100,-124.9100, 1341,     80.0,   7.8090,  33.0540,2,-999.0000,9,    224.7,2,    218.2,2,    20.90,2,    18.30,2,     0.00,2,     1.63,2,        0,2,   2103.4,2,   2207.7,2,  -999.00
  32WC20120904,  WCOA,    28,  1,     12,2,20120908,0706, 46.1100,-124.9100, 1341,     61.1,   8.0250,  32.7130,2,-999.0000,9,    267.3,2,    272.5,2,    13.70,2,    11.00,2,     0.00,2,     1.23,2,        0,2,   2050.2,2,   2190.5,2,  -999.00
  32WC20120904,  WCOA,    28,  1,     13,2,20120908,0707, 46.1100,-124.9100, 1341,     49.8,   8.7540,  32.6550,2,-999.0000,9,    281.5,2,   -999.0,9,    10.90,2,     8.20,2,     0.20,2,     1.08,2,        0,2,   2037.1,2,   2186.9,2,  -999.00
  32WC20120904,  WCOA,    28,  1,     14,2,20120908,0708, 46.1100,-124.9100, 1341,     40.2,   9.8750,  32.6030,2,-999.0000,9,    307.0,2,    307.0,2,     7.30,2,     3.20,2,     0.20,2,     0.83,2,      0.1,2,   2012.3,2,   2187.9,2,  -999.00
  32WC20120904,  WCOA,    28,  1,     15,2,20120908,0710, 46.1100,-124.9100, 1341,     29.8,  11.1410,  32.5520,2,-999.0000,9,    335.5,2,   -999.0,9,     5.30,2,     0.20,2,     0.00,2,     0.57,2,        0,2,   1978.1,2,   2187.1,2,     0.39
  32WC20120904,  WCOA,    28,  1,     16,2,20120908,0711, 46.1100,-124.9100, 1341,     19.6,  14.9140,  32.1660,2,-999.0000,9,    285.8,2,    294.0,2,     3.90,2,     0.10,2,     0.00,2,     0.40,2,        0,2,   1952.8,2,   2179.7,2,  -999.00
  32WC20120904,  WCOA,    28,  1,     17,2,20120908,0712, 46.1100,-124.9100, 1341,     14.4,  16.5240,  32.0930,2,-999.0000,9,    259.0,2,   -999.0,9,     3.70,2,     0.20,2,     0.00,2,     0.33,2,        0,2,   1951.1,2,   2170.4,2,  -999.00
  32WC20120904,  WCOA,    28,  1,     18,2,20120908,0713, 46.1100,-124.9100, 1341,     10.9,  16.6210,  32.0840,2,  32.0950,2,    258.0,2,   -999.0,9,     3.50,2,     0.10,2,     0.00,2,     0.31,2,        0,2,   1949.4,2,   2170.3,2,     0.16
  32WC20120904,  WCOA,    28,  1,     19,2,20120908,0714, 46.1100,-124.9100, 1341,      2.5,  16.9990,  32.0640,2,-999.0000,9,    253.6,2,    252.6,2,     3.30,2,     0.00,2,     0.00,2,     0.29,2,        0,2,   1949.7,2,   2170.0,2,     0.13
  32WC20120904,  WCOA,    29,  1,      1,2,20120908,0406, 46.1400,-125.1900, 1360,   1012.4,   3.6860,  34.3910,2,  34.4010,2,     11.2,2,     12.4,2,   126.00,2,    44.80,2,     0.00,2,     3.21,2,        0,2,   2368.9,6,   2365.5,6,  -999.00
  32WC20120904,  WCOA,    29,  1,      2,2,20120908,0406, 46.1400,-125.1900, 1360,   1012.4,   3.6880,  34.3910,2,-999.0000,9,     11.2,2,     11.8,2,   125.70,2,    44.80,2,     0.00,2,     3.21,2,        0,2,   -999.0,9,   -999.0,9,  -999.00
  32WC20120904,  WCOA,    29,  1,      3,2,20120908,0406, 46.1400,-125.1900, 1360,   1012.4,   3.6860,  34.3910,2,-999.0000,9,     11.2,2,     12.2,2,   125.70,2,    44.80,2,     0.00,2,     3.20,2,        0,2,   -999.0,9,   -999.0,9,  -999.00
  32WC20120904,  WCOA,    29,  1,      4,2,20120908,0413, 46.1400,-125.1900, 1360,    749.2,   4.3300,  34.2510,2,-999.0000,9,     11.4,2,     11.3,2,   106.10,2,    44.10,2,     0.00,2,     3.16,2,        0,2,   2345.9,2,   2336.2,2,  -999.00
  32WC20120904,  WCOA,    29,  1,      5,2,20120908,0418, 46.1400,-125.1900, 1360,    501.3,   5.4610,  34.1240,2,-999.0000,9,     30.8,2,     30.8,2,    79.20,2,    41.10,2,     0.00,2,     2.97,2,        0,2,   2305.2,2,   2294.3,2,  -999.00
  32WC20120904,  WCOA,    29,  1,      6,2,20120908,0420, 46.1400,-125.1900, 1360,    400.4,   5.9400,  34.0680,2,-999.0000,9,     46.2,2,   -999.0,9,    68.40,2,    39.30,2,     0.00,2,     2.82,2,        0,2,   2285.6,2,   2292.2,2,  -999.00
  32WC20120904,  WCOA,    29,  1,      7,2,20120908,0423, 46.1400,-125.1900, 1360,    300.0,   6.5060,  34.0150,2,-999.0000,9,     67.1,2,     65.2,2,    57.60,2,    36.70,2,     0.00,2,     2.64,2,        0,2,   2261.7,2,   2280.2,2,  -999.00
  32WC20120904,  WCOA,    29,  1,      8,2,20120908,0426, 46.1400,-125.1900, 1360,    200.8,   7.0990,  33.9480,2,  33.9480,2,     90.8,2,     91.8,2,    47.10,2,    33.60,2,     0.00,2,     2.41,2,        0,2,   2234.1,2,   2268.3,2,  -999.00
  32WC20120904,  WCOA,    29,  1,      9,2,20120908,0428, 46.1400,-125.1900, 1360,    150.0,   7.7500,  33.8260,2,-999.0000,9,    115.8,2,   -999.0,9,    37.80,2,    30.40,2,     0.00,2,     2.21,2,        0,2,   2206.9,2,   2253.6,2,  -999.00
  32WC20120904,  WCOA,    29,  1,     10,2,20120908,0429, 46.1400,-125.1900, 1360,    125.9,   8.0640,  33.6610,2,-999.0000,9,    131.6,2,    135.3,2,    32.90,2,    28.00,2,     0.00,2,     2.07,2,        0,2,   2185.3,2,   2240.7,2,  -999.00
  32WC20120904,  WCOA,    29,  1,     11,2,20120908,0431, 46.1400,-125.1900, 1360,     99.4,   8.0980,  33.4260,2,-999.0000,9,    162.7,2,   -999.0,9,  -999.00,9,  -999.00,9,  -999.00,9,  -999.00,9,     -999,9,   -999.0,9,   -999.0,9,  -999.00
  32WC20120904,  WCOA,    29,  1,     12,2,20120908,0432, 46.1400,-125.1900, 1360,     79.8,   7.9250,  32.9150,2,-999.0000,9,    227.4,2,   -999.0,9,    20.20,2,    17.10,2,     0.00,2,     1.48,2,        0,2,   2095.2,2,   2202.7,2,  -999.00
  32WC20120904,  WCOA,    29,  1,     13,2,20120908,0433, 46.1400,-125.1900, 1360,     61.2,   8.3370,  32.6930,2,-999.0000,9,    267.6,2,    270.5,2,    12.90,2,    10.50,2,     0.10,2,     1.11,2,        0,2,   2047.5,2,   2190.2,2,  -999.00
  32WC20120904,  WCOA,    29,  1,     14,2,20120908,0435, 46.1400,-125.1900, 1360,     50.8,   8.7440,  32.6610,2,-999.0000,9,    280.7,2,   -999.0,9,    11.10,2,     8.40,2,     0.20,2,     0.99,2,        0,2,   2035.2,2,   2188.0,2,  -999.00
  32WC20120904,  WCOA,    29,  1,     15,2,20120908,0436, 46.1400,-125.1900, 1360,     40.4,   9.8710,  32.6080,2,-999.0000,9,    306.2,2,    301.3,2,     8.80,2,     4.70,2,     0.10,2,     0.81,2,      0.1,2,   2015.1,2,   2188.7,2,  -999.00
  32WC20120904,  WCOA,    29,  1,     16,2,20120908,0436, 46.1400,-125.1900, 1360,     30.5,  11.4680,  32.5150,2,-999.0000,9,    331.2,2,   -999.0,9,     5.70,2,     0.60,2,     0.00,2,     0.55,2,        0,2,   1983.5,2,   2187.8,2,  -999.00
  32WC20120904,  WCOA,    29,  1,     17,2,20120908,0438, 46.1400,-125.1900, 1360,     20.9,  15.1180,  32.1680,2,-999.0000,9,    282.6,2,    296.2,2,     4.90,2,     0.20,2,     0.00,2,     0.41,2,        0,2,   1961.0,2,   2183.3,2,  -999.00
  32WC20120904,  WCOA,    29,  1,     18,2,20120908,0438, 46.1400,-125.1900, 1360,     15.5,  16.4300,  32.0700,2,-999.0000,9,    261.9,2,   -999.0,9,     4.20,2,     0.20,2,     0.00,2,     0.31,2,        0,2,   1944.7,2,   2173.3,2,  -999.00
  32WC20120904,  WCOA,    29,  1,     19,2,20120908,0439, 46.1400,-125.1900, 1360,     10.5,  16.6930,  32.0560,2,  32.0570,2,    256.7,2,    256.5,2,     4.40,2,     0.10,2,     0.00,2,     0.32,2,        0,2,   1945.7,2,   2171.7,2,  -999.00
  32WC20120904,  WCOA,    29,  1,     20,2,20120908,0441, 46.1400,-125.1900, 1360,      2.0,  16.9500,  32.0600,2,-999.0000,9,    256.3,2,    254.1,2,     4.20,2,     0.10,2,     0.00,2,     0.32,2,        0,2,   1946.9,2,   2171.2,6,  -999.00
  32WC20120904,  WCOA,    31,  1,      1,2,20120909,1510, 45.5000,-125.2500, 1961,   1951.9,   2.0400,  34.5840,2,  34.5750,2,     58.3,2,     57.5,2,   173.70,2,    48.70,2,     0.00,2,     3.44,2,        0,2,   2387.9,2,   2420.1,2,  -999.00
  32WC20120904,  WCOA,    31,  1,      2,2,20120909,1510, 45.5000,-125.2500, 1961,   1951.6,   2.0400,  34.5840,2,-999.0000,9,     58.3,2,   -999.0,9,  -999.00,9,  -999.00,9,  -999.00,9,  -999.00,9,     -999,9,   -999.0,9,   -999.0,9,  -999.00
  32WC20120904,  WCOA,    31,  1,      3,2,20120909,1517, 45.5000,-125.2500, 1961,   1499.3,   2.6400,  34.5160,2,-999.0000,9,     31.8,2,     31.4,2,   156.50,2,    50.40,2,     0.00,2,     3.53,2,        0,2,   2386.8,2,   2400.3,2,  -999.00
  32WC20120904,  WCOA,    31,  1,      4,2,20120909,1524, 45.5000,-125.2500, 1961,   1002.1,   3.7710,  34.3940,2,-999.0000,9,     12.3,2,     11.6,2,   124.50,2,    51.10,2,     0.00,2,     3.64,2,        0,2,   2367.7,2,   2367.4,2,  -999.00
  32WC20120904,  WCOA,    31,  1,      5,2,20120909,1529, 45.5000,-125.2500, 1961,    751.4,   4.4440,  34.2790,2,-999.0000,9,     11.3,2,     11.4,2,   105.70,2,    50.20,2,     0.00,2,     3.60,2,        0,2,   2345.2,2,   2342.3,2,  -999.00
  32WC20120904,  WCOA,    31,  1,      6,2,20120909,1534, 45.5000,-125.2500, 1961,    502.1,   5.3110,  34.1470,2,-999.0000,9,     26.6,2,   -999.0,9,    83.60,2,    47.70,2,     0.00,2,     3.44,2,        0,2,   2311.4,2,   2312.6,2,  -999.00
  32WC20120904,  WCOA,    31,  1,      7,2,20120909,1536, 45.5000,-125.2500, 1961,    399.7,   5.6690,  34.0980,2,-999.0000,9,     36.0,2,     36.1,2,    74.50,2,    46.30,2,     0.00,2,     3.33,2,        0,2,   2295.5,2,   2299.3,2,  -999.00
  32WC20120904,  WCOA,    31,  1,      8,2,20120909,1538, 45.5000,-125.2500, 1961,    300.4,   6.2650,  34.0250,2,-999.0000,9,     61.6,2,   -999.0,9,    61.00,2,    43.20,2,     0.00,2,     3.08,2,        0,2,   2266.5,2,   2283.0,2,  -999.00
  32WC20120904,  WCOA,    31,  1,      9,2,20120909,1541, 45.5000,-125.2500, 1961,    200.2,   7.1260,  33.9430,2,  33.9480,2,    102.7,2,    102.8,2,    45.00,2,    37.50,2,     0.00,2,     2.68,2,        0,2,   2223.0,2,   2264.3,2,  -999.00
  32WC20120904,  WCOA,    31,  1,     10,2,20120909,1542, 45.5000,-125.2500, 1961,    151.5,   7.7270,  33.8640,2,-999.0000,9,    117.6,2,    121.3,2,    37.70,2,    34.70,2,     0.00,2,     2.52,2,        0,2,   2204.0,2,   2254.2,2,  -999.00
  32WC20120904,  WCOA,    31,  1,     11,2,20120909,1544, 45.5000,-125.2500, 1961,    125.4,   7.9410,  33.7480,2,-999.0000,9,    131.3,2,   -999.0,9,  -999.00,9,  -999.00,9,  -999.00,9,  -999.00,9,     -999,9,   -999.0,9,   -999.0,9,  -999.00
  32WC20120904,  WCOA,    31,  1,     12,2,20120909,1545, 45.5000,-125.2500, 1961,    100.8,   7.8830,  33.3200,2,-999.0000,9,    189.0,2,    189.0,2,    24.50,2,    25.20,2,     0.00,2,     1.98,2,        0,2,   2130.5,2,   2221.4,2,  -999.00
  32WC20120904,  WCOA,    31,  1,     13,2,20120909,1546, 45.5000,-125.2500, 1961,     79.6,   8.3990,  33.0440,2,-999.0000,9,    208.2,2,   -999.0,9,    19.50,2,    20.40,2,     0.00,2,     1.74,2,        0,2,   2101.6,2,   2206.0,2,  -999.00
  32WC20120904,  WCOA,    31,  1,     14,2,20120909,1547, 45.5000,-125.2500, 1961,     60.6,   9.0440,  32.6660,2,-999.0000,9,    256.1,2,    256.7,2,    10.50,2,    10.80,2,     0.00,2,     1.24,2,        0,2,   2044.9,2,   2187.1,2,  -999.00
  32WC20120904,  WCOA,    31,  1,     15,2,20120909,1549, 45.5000,-125.2500, 1961,     51.0,   9.5290,  32.6100,2,-999.0000,9,    266.0,2,   -999.0,9,     7.40,2,     4.40,2,     0.10,2,     1.00,2,        0,2,   2029.7,2,   2188.8,2,  -999.00
  32WC20120904,  WCOA,    31,  1,     16,2,20120909,1550, 45.5000,-125.2500, 1961,     40.4,  10.4420,  32.5700,2,-999.0000,9,    319.8,2,    327.6,2,     4.30,2,     0.50,2,     0.00,2,     0.68,2,        0,2,   1993.2,2,   2189.9,2,  -999.00
  32WC20120904,  WCOA,    31,  1,     17,2,20120909,1551, 45.5000,-125.2500, 1961,     30.4,  12.3540,  32.4700,2,-999.0000,9,    317.4,2,   -999.0,9,     3.60,2,     0.10,2,     0.00,2,     0.51,2,        0,2,   1968.4,2,   2186.0,2,  -999.00
  32WC20120904,  WCOA,    31,  1,     18,2,20120909,1552, 45.5000,-125.2500, 1961,     21.9,  14.7880,  32.1410,2,-999.0000,9,    296.7,2,    297.5,2,     3.90,2,     0.00,2,     0.00,2,     0.35,2,        0,2,   1941.8,2,   2167.7,2,  -999.00
  32WC20120904,  WCOA,    31,  1,     19,2,20120909,1553, 45.5000,-125.2500, 1961,     15.0,  17.1550,  31.3430,2,-999.0000,9,    255.6,2,   -999.0,9,     4.10,2,     0.00,2,     0.00,2,     0.24,2,        0,2,   1922.6,2,   2148.2,2,  -999.00
  32WC20120904,  WCOA,    31,  1,     20,2,20120909,1554, 45.5000,-125.2500, 1961,     10.9,  17.5610,  31.0520,2,-999.0000,9,    249.7,2,    248.6,2,     4.50,2,     0.00,2,     0.00,2,     0.19,2,      0.2,2,   1912.2,2,   2138.4,2,  -999.00
  32WC20120904,  WCOA,    31,  1,     21,2,20120909,1555, 45.5000,-125.2500, 1961,      2.6,  17.5620,  31.0390,2,  31.0320,2,    249.4,2,    247.4,2,     4.30,2,     0.10,2,     0.00,2,     0.16,2,        0,2,   1911.2,6,   2135.0,6,  -999.00