BOTTLE,20180213PRINUNIVRMK
EXPOCODE,SECT_ID,STNNBR,CASTNO,BTLNBR,BTLNBR_FLAG_W,DATE,TIME,LATITUDE,LONGITUDE,DEPTH,CTDPRS,CTDTMP,CTDSAL,CTDSAL_FLAG_W,SALNTY,SALNTY_FLAG_W,CTDOXY,CTDOXY_FLAG_W,OXYGEN,OXYGEN_FLAG_W,SILCAT,SILCAT_FLAG_W,NITRAT,NITRAT_FLAG_W,NITRIT,NITRIT_FLAG_W,PHSPHT,PHSPHT_FLAG_W,NH4,NH4_FLAG_W,TCARBN,TCARBN_FLAG_W,ALKALI,ALKALI_FLAG_W,CHLORA
,,,,,,,,,,METERS,DBAR,ITS-90,PSS-78,,PSS-78,,UMOL/KG,,UMOL/KG,,UMOL/KG,,UMOL/KG,,UMOL/KG,,UMOL/KG,,UMOL/KG,,UMOL/KG,,UMOL/KG,,UG/KG
  32WC20120904,  WCOA,    38,  1,      1,2,20120909,2234, 45.0000,-124.1400,   88,     85.8,   7.6740,  33.7630,2,  33.7720,2,     90.6,2,     89.8,2,    47.00,2,    34.90,2,     0.10,2,     2.62,2,        0,2,   2229.0,2,   2252.4,2,  -999.00
  32WC20120904,  WCOA,    38,  1,      2,2,20120909,2234, 45.0000,-124.1400,   88,     85.8,   7.6750,  33.7630,2,-999.0000,9,     90.9,2,   -999.0,9,  -999.00,9,  -999.00,9,  -999.00,9,  -999.00,9,     -999,9,   -999.0,9,   -999.0,9,  -999.00
  32WC20120904,  WCOA,    38,  1,      3,2,20120909,2235, 45.0000,-124.1400,   88,     80.0,   7.6740,  33.7630,2,-999.0000,9,     90.8,2,     89.8,2,    47.10,2,    34.90,2,     0.10,2,     2.63,2,        0,2,   2229.2,2,   2253.9,2,  -999.00
  32WC20120904,  WCOA,    38,  1,      4,2,20120909,2237, 45.0000,-124.1400,   88,     59.7,   7.8730,  33.6240,2,-999.0000,9,    123.1,2,   -999.0,9,    35.90,2,    32.60,2,     0.00,2,     2.39,2,        0,2,   2199.4,2,   2241.6,2,  -999.00
  32WC20120904,  WCOA,    38,  1,      5,2,20120909,2238, 45.0000,-124.1400,   88,     49.9,   7.9740,  33.4630,2,-999.0000,9,    146.3,2,    145.9,2,    31.10,2,    29.10,2,     0.00,2,     2.19,2,        0,2,   2171.3,2,   2231.3,2,  -999.00
  32WC20120904,  WCOA,    38,  1,      6,2,20120909,2239, 45.0000,-124.1400,   88,     39.8,   7.7730,  33.1470,2,-999.0000,9,    178.0,2,    179.1,2,    27.50,2,    24.90,2,     0.00,2,     1.97,2,        0,2,   2137.4,2,   2215.0,2,  -999.00
  32WC20120904,  WCOA,    38,  1,      7,2,20120909,2240, 45.0000,-124.1400,   88,     30.3,   7.9210,  32.9230,2,-999.0000,9,    209.5,2,    199.6,2,    24.10,2,    22.00,2,     0.10,2,     1.82,2,        0,2,   2115.7,2,   2205.1,2,     0.31
  32WC20120904,  WCOA,    38,  1,      8,2,20120909,2241, 45.0000,-124.1400,   88,     20.2,   8.9150,  32.7340,2,-999.0000,9,    232.1,2,   -999.0,9,    19.90,2,    17.40,2,     0.10,2,     1.57,2,        0,2,   2085.9,2,   2199.6,2,  -999.00
  32WC20120904,  WCOA,    38,  1,      9,2,20120909,2242, 45.0000,-124.1400,   88,     16.0,   9.2600,  32.6710,2,-999.0000,9,    241.0,2,    243.3,2,    18.10,2,    15.20,2,     0.10,2,     1.44,2,        0,2,   2071.9,2,   2201.4,2,  -999.00
  32WC20120904,  WCOA,    38,  1,     10,2,20120909,2243, 45.0000,-124.1400,   88,     10.6,  10.2110,  32.5120,2,-999.0000,9,    266.0,2,   -999.0,9,    15.00,2,    10.90,2,     0.10,2,     1.17,2,        0,2,   2040.8,2,   2195.0,2,     1.89
  32WC20120904,  WCOA,    38,  1,     11,2,20120909,2244, 45.0000,-124.1400,   88,      2.1,  14.2970,  31.7390,2,-999.0000,9,    269.0,2,    269.9,2,     8.60,2,     1.70,2,     0.00,2,     0.48,2,        0,2,   1956.5,2,   2169.5,6,     1.54
  32WC20120904,  WCOA,    38,  1,     12,2,20120909,2244, 45.0000,-124.1400,   88,      2.0,  14.2680,  31.7440,2,  31.7690,2,    269.1,2,   -999.0,9,  -999.00,9,  -999.00,9,  -999.00,9,  -999.00,9,     -999,9,   -999.0,9,   -999.0,9,  -999.00
  32WC20120904,  WCOA,    39,  1,      1,2,20120910,0048, 44.9900,-124.3400,  180,    174.2,   7.4480,  33.9010,2,  33.9020,2,     72.1,2,     72.6,2,    48.90,2,    37.20,2,     0.30,2,     2.73,2,      0.4,2,   2251.1,2,   2264.1,2,  -999.00
  32WC20120904,  WCOA,    39,  1,      2,2,20120910,0048, 44.9900,-124.3400,  180,    174.2,   7.4480,  33.9010,2,-999.0000,9,     72.1,2,   -999.0,9,  -999.00,9,  -999.00,9,  -999.00,9,  -999.00,9,     -999,9,   -999.0,9,   -999.0,9,  -999.00
  32WC20120904,  WCOA,    39,  1,      3,2,20120910,0050, 44.9900,-124.3400,  180,    149.6,   7.4560,  33.8990,2,-999.0000,9,     76.2,2,     74.0,2,    48.20,2,    37.00,2,     0.30,2,     2.71,2,      0.3,2,   2248.8,2,   2261.9,2,  -999.00
  32WC20120904,  WCOA,    39,  1,      4,2,20120910,0051, 44.9900,-124.3400,  180,    125.1,   7.6840,  33.8270,2,-999.0000,9,    107.7,2,   -999.0,9,    41.20,2,    34.50,2,     0.00,2,     2.48,2,        0,2,   2219.1,2,   2254.6,2,  -999.00
  32WC20120904,  WCOA,    39,  1,      5,2,20120910,0053, 44.9900,-124.3400,  180,    102.2,   7.9390,  33.6190,2,-999.0000,9,    132.0,2,    134.0,2,    34.00,2,    30.90,2,     0.00,2,     2.25,2,        0,2,   2188.4,2,   2240.3,2,  -999.00
  32WC20120904,  WCOA,    39,  1,      6,2,20120910,0054, 44.9900,-124.3400,  180,     80.8,   8.0390,  33.4000,2,-999.0000,9,    157.7,2,   -999.0,9,    29.10,2,    27.30,2,     0.00,2,     2.06,2,        0,2,   2161.0,2,   2227.0,2,  -999.00
  32WC20120904,  WCOA,    39,  1,      7,2,20120910,0056, 44.9900,-124.3400,  180,     60.5,   8.0880,  32.9140,2,-999.0000,9,    225.5,2,    222.2,2,    19.30,2,    18.40,2,     0.10,2,     1.58,2,        0,2,   2096.6,2,   2201.8,2,  -999.00
  32WC20120904,  WCOA,    39,  1,      8,2,20120910,0057, 44.9900,-124.3400,  180,     49.3,   8.5100,  32.8100,2,-999.0000,9,    236.7,2,   -999.0,9,    15.40,2,    14.80,2,     0.10,2,     1.38,2,        0,2,   2075.2,2,   2194.1,2,  -999.00
  32WC20120904,  WCOA,    39,  1,      9,2,20120910,0058, 44.9900,-124.3400,  180,     41.0,   9.0070,  32.7440,2,-999.0000,9,    249.3,2,    246.9,2,    12.80,2,    12.30,2,     0.10,2,     1.23,2,        0,2,   2063.1,2,   2189.7,2,  -999.00
  32WC20120904,  WCOA,    39,  1,     10,2,20120910,0100, 44.9900,-124.3400,  180,     30.1,   9.8380,  32.5760,2,-999.0000,9,    280.1,2,   -999.0,9,     9.00,2,     5.70,2,     0.20,2,     0.94,2,      0.2,2,   2029.0,2,   2186.5,2,  -999.00
  32WC20120904,  WCOA,    39,  1,     11,2,20120910,0101, 44.9900,-124.3400,  180,     20.4,  11.5340,  32.2920,2,-999.0000,9,    267.2,2,    270.1,2,    12.10,2,     7.10,2,     0.10,2,     0.94,2,        0,2,   2017.9,2,   2183.0,2,  -999.00
  32WC20120904,  WCOA,    39,  1,     12,2,20120910,0102, 44.9900,-124.3400,  180,     15.0,  12.7310,  32.0610,2,-999.0000,9,    277.3,2,   -999.0,9,    10.20,2,     3.30,2,     0.00,2,     0.65,2,        0,2,   1983.8,2,   2181.4,2,  -999.00
  32WC20120904,  WCOA,    39,  1,     13,2,20120910,0103, 44.9900,-124.3400,  180,     10.4,  15.4950,  31.8820,2,-999.0000,9,    264.4,2,    269.4,2,     7.20,2,     0.80,2,     0.00,2,     0.40,2,        0,2,   1954.3,2,   2171.6,2,  -999.00
  32WC20120904,  WCOA,    39,  1,     14,2,20120910,0104, 44.9900,-124.3400,  180,      2.6,  15.5590,  31.8820,2,  31.8860,2,    264.5,2,    264.4,2,     6.40,2,     0.10,2,     0.00,2,     0.31,2,        0,2,   1945.5,2,   2169.2,6,  -999.00
  32WC20120904,  WCOA,    40,  1,      1,2,20120910,0304, 45.0000,-124.7400,  554,    557.8,   5.3850,  34.1350,2,  34.1470,2,     29.5,2,     29.3,2,    82.50,2,    45.20,2,     0.00,2,     3.24,2,        0,2,   2311.8,2,   2309.1,6,  -999.00
  32WC20120904,  WCOA,    40,  1,      2,2,20120910,0304, 45.0000,-124.7400,  554,    557.7,   5.3880,  34.1340,2,-999.0000,9,     29.4,2,   -999.0,9,  -999.00,9,  -999.00,9,  -999.00,9,  -999.00,9,     -999,9,   -999.0,9,   -999.0,9,  -999.00
  32WC20120904,  WCOA,    40,  1,      3,2,20120910,0307, 45.0000,-124.7400,  554,    500.6,   5.8410,  34.0900,2,-999.0000,9,     41.3,2,     40.7,2,    72.50,2,    43.60,2,     0.00,2,     3.14,2,        0,2,   2291.8,2,   2298.5,2,  -999.00
  32WC20120904,  WCOA,    40,  1,      4,2,20120910,0311, 45.0000,-124.7400,  554,    300.3,   6.9180,  34.0010,2,-999.0000,9,     71.2,2,     70.3,2,    53.80,2,    39.30,2,     0.00,2,     2.85,2,        0,2,   2254.8,2,   2272.2,2,  -999.00
  32WC20120904,  WCOA,    40,  1,      5,2,20120910,0313, 45.0000,-124.7400,  554,    200.7,   7.3360,  33.9470,2,-999.0000,9,     67.2,2,     71.0,2,    51.10,2,    38.40,2,     0.00,2,     2.84,2,        0,2,   2252.7,2,   2264.1,2,  -999.00
  32WC20120904,  WCOA,    40,  1,      6,2,20120910,0315, 45.0000,-124.7400,  554,    150.6,   7.4890,  33.9010,2,-999.0000,9,     82.3,2,   -999.0,9,    47.00,2,    37.10,2,     0.00,2,     2.74,2,        0,2,   2239.1,2,   2260.0,2,  -999.00
  32WC20120904,  WCOA,    40,  1,      7,2,20120910,0316, 45.0000,-124.7400,  554,    125.5,   7.5830,  33.8730,2,-999.0000,9,     99.0,2,     94.2,2,    44.20,2,    36.00,2,     0.00,2,     2.67,2,        0,2,   2230.1,2,   2258.1,2,  -999.00
  32WC20120904,  WCOA,    40,  1,      8,2,20120910,0317, 45.0000,-124.7400,  554,    100.4,   7.8450,  33.7610,2,-999.0000,9,    119.4,2,   -999.0,9,    37.50,2,    33.00,2,     0.00,2,     2.48,2,        0,2,   2203.5,2,   2248.3,2,  -999.00
  32WC20120904,  WCOA,    40,  1,      9,2,20120910,0319, 45.0000,-124.7400,  554,     80.5,   8.0640,  33.2190,2,-999.0000,9,    196.1,2,    185.7,2,    25.20,2,    23.80,2,     0.00,2,     1.98,2,        0,2,   2131.0,2,   2217.1,2,  -999.00
  32WC20120904,  WCOA,    40,  1,     10,2,20120910,0320, 45.0000,-124.7400,  554,     60.6,   8.1910,  32.7600,2,-999.0000,9,    251.3,2,    247.3,2,    15.80,2,    14.70,2,     0.10,2,     1.55,2,        0,2,   2069.6,2,   2193.2,2,  -999.00
  32WC20120904,  WCOA,    40,  1,     11,2,20120910,0321, 45.0000,-124.7400,  554,     50.3,   8.5930,  32.6890,2,-999.0000,9,    259.3,2,   -999.0,9,    12.00,2,    11.10,2,     0.10,2,     1.30,2,        0,2,   2049.4,2,   2187.9,2,  -999.00
  32WC20120904,  WCOA,    40,  1,     12,2,20120910,0322, 45.0000,-124.7400,  554,     40.4,   9.1690,  32.6570,2,-999.0000,9,    263.5,2,    271.0,2,    10.10,2,     8.60,2,     0.10,2,     1.18,2,        0,2,   2040.2,2,   2185.7,2,  -999.00
  32WC20120904,  WCOA,    40,  1,     13,2,20120910,0323, 45.0000,-124.7400,  554,     30.3,  10.4100,  32.5790,2,-999.0000,9,    305.9,2,   -999.0,9,     5.70,2,     1.40,2,     0.10,2,     0.79,2,        0,2,   2007.7,2,   2187.4,2,  -999.00
  32WC20120904,  WCOA,    40,  1,     14,2,20120910,0324, 45.0000,-124.7400,  554,     20.6,  12.5110,  32.3610,2,-999.0000,9,    317.4,2,    317.4,2,     3.80,2,     0.10,2,     0.00,2,     0.56,2,        0,2,   1971.7,2,   2181.6,2,  -999.00
  32WC20120904,  WCOA,    40,  1,     15,2,20120910,0327, 45.0000,-124.7400,  554,     15.6,  15.2640,  31.7600,2,-999.0000,9,    276.2,2,   -999.0,9,     4.30,2,     0.10,2,     0.00,2,     0.45,2,        0,2,   1945.4,2,   2165.3,2,  -999.00
  32WC20120904,  WCOA,    40,  1,     16,2,20120910,0328, 45.0000,-124.7400,  554,     10.5,  15.9780,  31.5330,2,  31.5760,2,    263.6,2,    264.8,2,     4.70,2,     0.00,2,     0.00,2,     0.38,2,        0,2,   1933.4,2,   2155.9,2,  -999.00
  32WC20120904,  WCOA,    40,  1,     17,2,20120910,0329, 45.0000,-124.7400,  554,      2.3,  16.1160,  31.5210,2,-999.0000,9,    261.3,2,    260.0,2,     4.70,2,     0.00,2,     0.00,2,     0.36,2,        0,2,   1930.7,2,   2155.2,6,  -999.00
  32WC20120904,  WCOA,    41,  1,      1,2,20120910,0500, 44.9900,-124.9800,  893,    889.8,   4.0910,  34.3560,2,  34.3640,2,     11.7,2,     12.4,2,   117.20,2,    49.00,2,     0.10,2,     3.49,2,        0,2,   2359.0,2,   2356.6,6,  -999.00
  32WC20120904,  WCOA,    41,  1,      2,2,20120910,0500, 44.9900,-124.9800,  893,    890.0,   4.0940,  34.3550,2,-999.0000,9,     11.6,2,   -999.0,9,  -999.00,9,  -999.00,9,  -999.00,9,  -999.00,9,     -999,9,   -999.0,9,   -999.0,9,  -999.00
  32WC20120904,  WCOA,    41,  1,      3,2,20120910,0504, 44.9900,-124.9800,  893,    751.1,   4.4980,  34.2840,2,-999.0000,9,     11.7,2,     12.7,2,   105.20,2,    48.10,2,     0.00,2,     3.46,2,        0,2,   2345.8,2,   2341.4,2,  -999.00
  32WC20120904,  WCOA,    41,  1,      4,2,20120910,0511, 44.9900,-124.9800,  893,    500.3,   5.3920,  34.1120,2,-999.0000,9,     32.1,2,     31.4,2,    80.10,2,    45.90,2,     0.00,2,     3.27,2,        0,2,   2306.5,2,   2305.9,2,  -999.00
  32WC20120904,  WCOA,    41,  1,      5,2,20120910,0513, 44.9900,-124.9800,  893,    400.4,   6.0200,  34.0760,2,-999.0000,9,     42.7,2,   -999.0,9,    68.80,2,    43.70,2,     0.00,2,     3.13,2,        0,2,   2286.6,2,   2291.6,2,  -999.00
  32WC20120904,  WCOA,    41,  1,      6,2,20120910,0516, 44.9900,-124.9800,  893,    300.3,   6.6650,  34.0300,2,-999.0000,9,     62.8,2,     65.9,2,    57.60,2,    41.10,2,     0.00,2,     2.95,2,        0,2,   2263.8,2,   2281.4,2,  -999.00
  32WC20120904,  WCOA,    41,  1,      7,2,20120910,0519, 44.9900,-124.9800,  893,    201.1,   7.3490,  33.9550,2,-999.0000,9,     94.7,2,     94.4,2,    45.10,2,    37.30,2,     0.00,2,     2.67,2,        0,2,   2232.8,2,   2266.0,2,  -999.00
  32WC20120904,  WCOA,    41,  1,      8,2,20120910,0521, 44.9900,-124.9800,  893,    151.6,   7.7610,  33.8650,2,-999.0000,9,    122.6,2,    123.6,2,    38.30,2,    34.30,2,     0.00,2,     2.48,2,        0,2,   2208.2,2,   2254.3,2,  -999.00
  32WC20120904,  WCOA,    41,  1,      9,2,20120910,0522, 44.9900,-124.9800,  893,    125.4,   8.3390,  33.7810,2,-999.0000,9,    147.1,2,   -999.0,9,    36.70,2,    33.50,2,     0.00,2,     2.46,2,        0,2,   2198.6,2,   2249.8,2,  -999.00
  32WC20120904,  WCOA,    41,  1,     10,2,20120910,0523, 44.9900,-124.9800,  893,    100.4,   8.3110,  33.5090,2,-999.0000,9,    155.0,2,    160.5,2,    30.50,2,    29.30,2,     0.00,2,     2.24,2,        0,2,   2171.2,2,   2234.5,2,  -999.00
  32WC20120904,  WCOA,    41,  1,     11,2,20120910,0525, 44.9900,-124.9800,  893,     80.3,   8.4880,  33.2960,2,-999.0000,9,    187.0,2,   -999.0,9,    24.50,2,    24.50,2,     0.00,2,     1.96,2,        0,2,   2137.9,2,   2221.2,2,  -999.00
  32WC20120904,  WCOA,    41,  1,     12,2,20120910,0526, 44.9900,-124.9800,  893,     60.2,   8.5630,  32.9800,2,-999.0000,9,    215.8,2,    217.8,2,    18.20,2,    18.70,2,     0.00,2,     1.64,2,        0,2,   2097.8,2,   2203.5,2,  -999.00
  32WC20120904,  WCOA,    41,  1,     13,2,20120910,0527, 44.9900,-124.9800,  893,     50.8,   8.6520,  32.8610,2,-999.0000,9,    232.4,2,   -999.0,9,    16.50,2,    16.70,2,     0.00,2,     1.54,2,        0,2,   2085.3,2,   2198.2,2,  -999.00
  32WC20120904,  WCOA,    41,  1,     14,2,20120910,0528, 44.9900,-124.9800,  893,     39.5,   9.0530,  32.6460,2,-999.0000,9,    259.1,2,    258.3,2,    12.30,2,    11.20,2,     0.20,2,     1.27,2,        0,2,   2051.4,2,   2188.3,2,  -999.00
  32WC20120904,  WCOA,    41,  1,     15,2,20120910,0529, 44.9900,-124.9800,  893,     31.0,   9.8830,  32.5300,2,-999.0000,9,    272.4,2,   -999.0,9,     9.80,2,     7.30,2,     0.20,2,     1.06,2,      0.2,2,   2031.1,2,   2188.1,2,     0.51
  32WC20120904,  WCOA,    41,  1,     16,2,20120910,0530, 44.9900,-124.9800,  893,     20.2,  12.6230,  32.1550,2,-999.0000,9,    274.3,2,    276.3,2,     9.10,2,     5.20,2,     0.20,2,     0.91,2,      0.2,2,   2014.2,2,   2186.1,2,  -999.00
  32WC20120904,  WCOA,    41,  1,     17,2,20120910,0531, 44.9900,-124.9800,  893,     15.3,  14.4700,  31.7300,2,-999.0000,9,    271.4,2,   -999.0,9,     5.60,2,     0.50,2,     0.00,2,     0.41,2,        0,2,   1954.4,2,   2173.0,2,  -999.00
  32WC20120904,  WCOA,    41,  1,     18,2,20120910,0532, 44.9900,-124.9800,  893,     10.2,  14.9960,  31.6230,2,  31.6890,4,    266.5,2,    270.0,2,     4.90,2,     0.20,2,     0.00,2,     0.33,2,        0,2,   1943.1,2,   2168.5,2,     0.65
  32WC20120904,  WCOA,    41,  1,     19,2,20120910,0534, 44.9900,-124.9800,  893,      3.4,  15.5930,  31.4730,2,-999.0000,9,    174.7,2,    263.4,3,     4.50,2,     0.10,2,     0.00,2,     0.27,2,        0,2,   1934.3,2,   2162.0,6,     0.48