BOTTLE,20180213PRINUNIVRMK
EXPOCODE,SECT_ID,STNNBR,CASTNO,BTLNBR,BTLNBR_FLAG_W,DATE,TIME,LATITUDE,LONGITUDE,DEPTH,CTDPRS,CTDTMP,CTDSAL,CTDSAL_FLAG_W,SALNTY,SALNTY_FLAG_W,CTDOXY,CTDOXY_FLAG_W,OXYGEN,OXYGEN_FLAG_W,SILCAT,SILCAT_FLAG_W,NITRAT,NITRAT_FLAG_W,NITRIT,NITRIT_FLAG_W,PHSPHT,PHSPHT_FLAG_W,NH4,NH4_FLAG_W,TCARBN,TCARBN_FLAG_W,ALKALI,ALKALI_FLAG_W,CHLORA
,,,,,,,,,,METERS,DBAR,ITS-90,PSS-78,,PSS-78,,UMOL/KG,,UMOL/KG,,UMOL/KG,,UMOL/KG,,UMOL/KG,,UMOL/KG,,UMOL/KG,,UMOL/KG,,UMOL/KG,,UG/KG
  32WC20120904,  WCOA,    59,  1,      1,2,20120912,2216, 43.4000,-125.2700, 1886,   1873.1,   2.0350,  34.5840,2,  34.5920,2,     59.2,2,     59.6,2,   171.40,2,    41.30,2,     0.10,2,     2.94,2,        0,2,   2385.5,6,   2419.1,6,  -999.00
  32WC20120904,  WCOA,    59,  1,      2,2,20120912,2219, 43.4000,-125.2700, 1886,   1741.0,   2.2230,  34.5600,2,  34.5530,2,     47.8,2,   -999.0,9,   166.50,2,    42.50,2,     0.10,2,     2.99,2,        0,2,   2385.7,2,   2413.3,2,  -999.00
  32WC20120904,  WCOA,    59,  1,      3,2,20120912,2223, 43.4000,-125.2700, 1886,   1498.0,   2.5900,  34.5190,2,  34.5250,2,     32.4,2,     32.2,2,   156.10,2,    43.40,2,     0.00,2,     3.07,2,        0,2,   2386.4,2,   2401.7,2,  -999.00
  32WC20120904,  WCOA,    59,  1,      4,2,20120912,2226, 43.4000,-125.2700, 1886,   1310.9,   2.9920,  34.4910,2,-999.0000,9,     26.0,2,   -999.0,9,  -999.00,9,  -999.00,9,  -999.00,9,  -999.00,9,     -999,9,   -999.0,9,   -999.0,9,  -999.00
  32WC20120904,  WCOA,    59,  1,      5,2,20120912,2231, 43.4000,-125.2700, 1886,   1000.0,   3.6540,  34.4090,2,  34.4150,2,     13.0,2,     13.5,2,   127.30,2,    43.90,2,     0.00,2,     3.17,2,        0,2,   2369.7,2,   2372.2,2,  -999.00
  32WC20120904,  WCOA,    59,  1,      6,2,20120912,2237, 43.4000,-125.2700, 1886,    760.8,   4.2050,  34.3050,2,-999.0000,9,     10.2,2,   -999.0,9,   111.10,2,    43.40,2,     0.00,2,     3.16,2,        0,2,   2352.3,2,   2348.8,2,  -999.00
  32WC20120904,  WCOA,    59,  1,      7,2,20120912,2242, 43.4000,-125.2700, 1886,    495.5,   5.0510,  34.1060,2,-999.0000,9,     30.9,2,     30.7,2,    84.90,2,    41.40,2,     0.00,2,     2.98,2,        0,2,   2311.4,2,   2307.9,2,  -999.00
  32WC20120904,  WCOA,    59,  1,      8,2,20120912,2245, 43.4000,-125.2700, 1886,    404.9,   5.5320,  34.0690,2,-999.0000,9,     43.4,2,   -999.0,9,    74.60,2,    39.80,2,     0.00,2,     2.89,2,        0,2,   2294.1,2,   2297.7,2,  -999.00
  32WC20120904,  WCOA,    59,  1,      9,2,20120912,2248, 43.4000,-125.2700, 1886,    302.9,   6.4580,  34.0260,2,-999.0000,9,     62.6,2,   -999.0,9,    58.60,2,    36.60,2,     0.00,2,     2.67,2,        0,2,   2263.4,2,   2282.4,2,  -999.00
  32WC20120904,  WCOA,    59,  1,     10,2,20120912,2251, 43.4000,-125.2700, 1886,    203.6,   7.1620,  33.9530,2,-999.0000,9,     93.4,2,     95.4,2,    46.10,2,    32.90,2,     0.00,2,     2.41,2,        0,2,   2230.4,2,   2267.0,2,  -999.00
  32WC20120904,  WCOA,    59,  1,     11,2,20120912,2253, 43.4000,-125.2700, 1886,    150.2,   7.6800,  33.8290,2,  33.9520,4,    125.6,2,   -999.0,9,  -999.00,9,  -999.00,9,  -999.00,9,  -999.00,9,     -999,9,   -999.0,9,   -999.0,9,  -999.00
  32WC20120904,  WCOA,    59,  1,     12,2,20120912,2254, 43.4000,-125.2700, 1886,    124.7,   8.2330,  33.6760,2,-999.0000,9,    152.4,2,    150.4,2,    33.20,2,    27.60,2,     0.00,2,     2.11,2,        0,2,   2184.4,2,   2242.8,2,  -999.00
  32WC20120904,  WCOA,    59,  1,     13,2,20120912,2256, 43.4000,-125.2700, 1886,     99.1,   8.3230,  33.4130,2,-999.0000,9,    172.8,2,   -999.0,9,    27.10,2,    23.60,2,     0.00,2,     1.90,2,        0,2,   2153.2,2,   2227.4,2,  -999.00
  32WC20120904,  WCOA,    59,  1,     14,2,20120912,2257, 43.4000,-125.2700, 1886,     80.6,   8.6170,  33.1610,2,-999.0000,9,    201.8,2,   -999.0,9,    20.90,2,    18.80,2,     0.00,2,     1.63,2,        0,2,   2116.0,2,   2213.6,2,  -999.00
  32WC20120904,  WCOA,    59,  1,     15,2,20120912,2259, 43.4000,-125.2700, 1886,     59.3,   9.2600,  32.7890,2,-999.0000,9,    244.2,2,    239.4,2,    14.50,2,    12.30,2,     0.30,2,     1.30,2,        0,2,   2071.6,2,   2194.3,2,  -999.00
  32WC20120904,  WCOA,    59,  1,     16,2,20120912,2300, 43.4000,-125.2700, 1886,     50.0,  10.0200,  32.6690,2,-999.0000,9,    263.8,2,   -999.0,9,     8.90,2,     5.70,2,     0.40,2,     0.93,2,      0.1,2,   2033.5,2,   2189.8,2,  -999.00
  32WC20120904,  WCOA,    59,  1,     17,2,20120912,2301, 43.4000,-125.2700, 1886,     40.1,  10.6930,  32.6220,2,-999.0000,9,    272.7,2,    280.2,2,     7.20,2,     3.30,2,     0.20,2,     0.82,2,      0.5,2,   2021.5,2,   2190.4,2,  -999.00
  32WC20120904,  WCOA,    59,  1,     18,2,20120912,2302, 43.4000,-125.2700, 1886,     30.9,  11.3980,  32.5660,2,-999.0000,9,    283.3,2,   -999.0,9,     6.50,2,     3.40,2,     0.20,2,     0.81,2,      0.6,2,   2015.2,2,   2193.1,2,  -999.00
  32WC20120904,  WCOA,    59,  1,     19,2,20120912,2303, 43.4000,-125.2700, 1886,     19.9,  13.8990,  32.3040,2,-999.0000,9,    271.1,2,   -999.0,9,     4.00,2,     0.30,2,     0.00,2,     0.47,2,      0.2,2,   1976.5,2,   2187.7,2,  -999.00
  32WC20120904,  WCOA,    59,  1,     20,2,20120912,2304, 43.4000,-125.2700, 1886,     15.8,  13.9140,  32.3040,2,  32.3010,2,    271.2,2,    273.6,2,     3.80,2,     0.20,2,     0.00,2,     0.46,2,      0.2,2,   1975.1,2,   2188.3,2,  -999.00
  32WC20120904,  WCOA,    59,  1,     21,2,20120912,2306, 43.4000,-125.2700, 1886,     11.0,  13.9040,  32.3040,2,-999.0000,9,    270.8,2,   -999.0,9,     3.80,2,     0.10,2,     0.00,2,     0.45,2,      0.2,2,   1976.0,2,   2187.0,2,  -999.00
  32WC20120904,  WCOA,    59,  1,     22,2,20120912,2307, 43.4000,-125.2700, 1886,      2.5,  13.9070,  32.3030,2,-999.0000,9,    270.6,2,    273.6,2,     3.80,2,     0.20,2,     0.00,2,     0.45,2,      0.2,2,   1975.0,6,   2187.1,6,  -999.00
  32WC20120904,  WCOA,    60,  1,      1,2,20120913,1849, 41.7300,-125.6300, 2936,   2962.6,   1.6950,  34.6470,2,  34.6480,2,     93.7,2,     98.8,2,   182.40,2,    39.10,2,     0.00,2,     2.80,2,        0,2,   2372.7,6,   2436.5,6,  -999.00
  32WC20120904,  WCOA,    60,  1,      2,2,20120913,1849, 41.7300,-125.6300, 2936,   2961.7,   1.6950,  34.6470,2,-999.0000,9,     94.6,2,   -999.0,9,   182.80,2,    39.20,2,     0.00,2,     2.80,2,        0,2,   -999.0,9,   -999.0,9,  -999.00
  32WC20120904,  WCOA,    60,  1,      3,2,20120913,1857, 41.7300,-125.6300, 2936,   2499.7,   1.7690,  34.6300,2,  34.6310,2,     85.8,2,     84.5,2,   177.80,2,    40.00,2,     0.00,2,     2.81,2,        0,2,   2373.5,2,   2430.3,2,  -999.00
  32WC20120904,  WCOA,    60,  1,      4,2,20120913,1905, 41.7300,-125.6300, 2936,   1999.2,   1.9260,  34.6010,2,  34.5870,2,     67.6,2,     67.2,2,   173.70,2,    41.10,2,     0.00,2,     2.88,2,        0,2,   2379.6,2,   2421.7,2,  -999.00
  32WC20120904,  WCOA,    60,  1,      5,2,20120913,1913, 41.7300,-125.6300, 2936,   1501.5,   2.7200,  34.5170,2,  34.5190,2,     32.4,2,     32.1,2,   152.20,2,    43.10,2,     0.00,2,     3.04,2,        0,2,   2381.7,2,   2399.8,2,  -999.00
  32WC20120904,  WCOA,    60,  1,      6,2,20120913,1922, 41.7300,-125.6300, 2936,   1006.5,   3.8470,  34.4040,2,  34.3920,2,     13.3,2,     12.6,2,   121.70,2,    43.30,2,     0.00,2,     3.10,2,        0,2,   2363.7,2,   2368.2,2,  -999.00
  32WC20120904,  WCOA,    60,  1,      7,2,20120913,1927, 41.7300,-125.6300, 2936,    752.8,   4.5340,  34.2980,2,-999.0000,9,     11.9,2,   -999.0,9,   103.80,2,    42.40,2,     0.00,2,     3.08,2,        0,2,   2343.8,2,   2342.6,2,  -999.00
  32WC20120904,  WCOA,    60,  1,      8,2,20120913,1933, 41.7300,-125.6300, 2936,    502.4,   5.5420,  34.1160,2,-999.0000,9,     32.0,2,     31.4,2,    76.80,2,    39.90,2,     0.00,2,     2.87,2,        0,2,   2301.3,2,   2306.2,2,  -999.00
  32WC20120904,  WCOA,    60,  1,      9,2,20120913,1936, 41.7300,-125.6300, 2936,    404.7,   6.1450,  34.0780,2,-999.0000,9,     47.2,2,   -999.0,9,    65.70,2,    38.00,2,     0.00,2,     2.73,2,        0,2,   2281.7,2,   2290.8,2,  -999.00
  32WC20120904,  WCOA,    60,  1,     10,2,20120913,1939, 41.7300,-125.6300, 2936,    301.2,   6.8300,  34.0230,2,-999.0000,9,     69.7,2,     68.1,2,    53.80,2,    35.30,2,     0.00,2,     2.52,2,        0,2,   2254.2,2,   2278.7,2,  -999.00
  32WC20120904,  WCOA,    60,  1,     11,2,20120913,1942, 41.7300,-125.6300, 2936,    201.7,   7.6510,  33.9540,2,  33.9520,2,    106.4,2,   -999.0,9,    41.90,2,    31.70,2,     0.00,2,     2.27,2,        0,2,   2222.8,2,   2262.5,2,  -999.00
  32WC20120904,  WCOA,    60,  1,     12,2,20120913,1944, 41.7300,-125.6300, 2936,    149.6,   7.9320,  33.8410,2,-999.0000,9,    122.8,2,    124.6,2,    36.70,2,    29.60,2,     0.00,2,     2.13,2,        0,2,   2202.1,2,   2254.3,2,  -999.00
  32WC20120904,  WCOA,    60,  1,     13,2,20120913,1945, 41.7300,-125.6300, 2936,    124.4,   8.3140,  33.7620,2,-999.0000,9,    141.1,2,   -999.0,9,    33.00,2,    27.70,2,     0.10,2,     2.03,2,        0,2,   2186.5,2,   2245.7,2,  -999.00
  32WC20120904,  WCOA,    60,  1,     14,2,20120913,1947, 41.7300,-125.6300, 2936,    100.2,   9.1430,  33.7010,2,-999.0000,9,    163.8,2,    186.2,2,    31.00,2,    25.50,2,     0.30,2,     1.94,2,      0.2,2,   2170.0,2,   2245.7,2,  -999.00
  32WC20120904,  WCOA,    60,  1,     15,2,20120913,1949, 41.7300,-125.6300, 2936,     81.0,   9.3790,  33.6580,2,-999.0000,9,    176.8,2,   -999.0,9,    30.70,2,    24.50,2,     0.50,2,     1.92,2,      0.4,2,   2163.6,2,   2244.6,2,  -999.00
  32WC20120904,  WCOA,    60,  1,     16,2,20120913,1950, 41.7300,-125.6300, 2936,     59.9,   9.3100,  33.4310,2,-999.0000,9,    214.6,2,    209.3,2,    24.10,2,    21.50,2,     0.20,2,     1.68,2,        0,2,   2134.2,2,   2230.2,2,  -999.00
  32WC20120904,  WCOA,    60,  1,     17,2,20120913,1951, 41.7300,-125.6300, 2936,     51.3,   9.2230,  33.1960,2,-999.0000,9,    224.0,2,   -999.0,9,    18.70,2,    17.50,2,     0.10,2,     1.45,2,        0,2,   2105.6,2,   2216.3,2,  -999.00
  32WC20120904,  WCOA,    60,  1,     18,2,20120913,1953, 41.7300,-125.6300, 2936,     41.7,  10.8360,  33.2840,2,-999.0000,9,    264.8,2,   -999.0,9,    17.20,2,    14.00,2,     0.30,2,     1.26,2,      0.3,2,   2085.6,2,   2226.7,2,  -999.00
  32WC20120904,  WCOA,    60,  1,     19,2,20120913,1954, 41.7300,-125.6300, 2936,     30.6,  10.9020,  33.1920,2,-999.0000,9,    267.9,2,    261.2,2,    15.80,2,    12.70,2,     0.30,2,     1.19,2,      0.2,2,   2076.7,2,   2223.0,2,  -999.00
  32WC20120904,  WCOA,    60,  1,     20,2,20120913,1955, 41.7300,-125.6300, 2936,     20.5,  10.7730,  33.0720,2,-999.0000,9,    267.5,2,   -999.0,9,    14.00,2,    11.50,2,     0.30,2,     1.13,2,      0.3,2,   2066.9,2,   2218.8,2,  -999.00
  32WC20120904,  WCOA,    60,  1,     21,2,20120913,1957, 41.7300,-125.6300, 2936,     15.5,  11.4170,  33.1270,2,  33.1190,2,    267.4,2,   -999.0,9,    13.10,2,    10.50,2,     0.20,2,     1.07,2,      0.2,2,   2060.5,2,   2219.8,2,  -999.00
  32WC20120904,  WCOA,    60,  1,     22,2,20120913,1958, 41.7300,-125.6300, 2936,     10.9,  12.0030,  33.0370,2,-999.0000,9,    267.4,2,    268.7,2,    11.00,2,     8.70,2,     0.20,2,     0.96,2,      0.2,2,   2046.0,2,   2214.5,2,  -999.00
  32WC20120904,  WCOA,    60,  1,     23,2,20120913,1959, 41.7300,-125.6300, 2936,      2.7,  14.0190,  32.7710,2,-999.0000,9,    267.6,2,   -999.0,9,     5.70,2,     3.00,2,     0.10,2,     0.58,2,      0.3,2,   2005.7,6,   2201.5,6,  -999.00
  32WC20120904,  WCOA,    61,  1,      1,2,20120913,1444, 41.8500,-125.0500, 1154,   1153.5,   3.4730,  34.4520,2,  34.4550,2,     19.8,2,     19.3,2,   132.10,2,    43.30,2,     0.00,2,     3.13,2,        0,2,   2373.4,6,   2379.8,6,  -999.00
  32WC20120904,  WCOA,    61,  1,      2,2,20120913,1450, 41.8500,-125.0500, 1154,    749.9,   4.4740,  34.3040,2,-999.0000,9,     11.4,2,     10.9,2,   105.40,2,    42.60,2,     0.00,2,     3.10,2,        0,2,   2347.8,2,   2344.9,2,  -999.00
  32WC20120904,  WCOA,    61,  1,      3,2,20120913,1454, 41.8500,-125.0500, 1154,    500.3,   5.3280,  34.1350,2,-999.0000,9,     28.6,2,   -999.0,9,    82.00,2,    40.70,2,     0.00,2,     2.94,2,        0,2,   2311.3,2,   2309.5,2,  -999.00
  32WC20120904,  WCOA,    61,  1,      4,2,20120913,1457, 41.8500,-125.0500, 1154,    400.3,   5.9220,  34.0810,2,-999.0000,9,     41.6,2,     40.9,2,    69.40,2,    38.80,2,     0.00,2,     2.80,2,        0,2,   2288.7,2,   2294.6,2,  -999.00
  32WC20120904,  WCOA,    61,  1,      5,2,20120913,1459, 41.8500,-125.0500, 1154,    300.5,   6.7860,  34.0480,2,-999.0000,9,     61.1,2,   -999.0,9,    56.30,2,    35.80,2,     0.00,2,     2.60,2,        0,2,   2261.2,2,   2280.4,2,  -999.00
  32WC20120904,  WCOA,    61,  1,      6,2,20120913,1501, 41.8500,-125.0500, 1154,    200.7,   7.6120,  34.0100,2,-999.0000,9,     77.8,2,     77.3,2,    46.80,2,    33.20,2,     0.00,2,     2.45,2,        0,2,   2243.2,2,   2271.1,2,  -999.00
  32WC20120904,  WCOA,    61,  1,      7,2,20120913,1503, 41.8500,-125.0500, 1154,    151.5,   7.9570,  33.9740,2,-999.0000,9,     84.1,2,   -999.0,9,    44.50,2,    32.80,2,     0.00,2,     2.43,2,        0,2,   2236.2,2,   2265.9,2,  -999.00
  32WC20120904,  WCOA,    61,  1,      8,2,20120913,1504, 41.8500,-125.0500, 1154,    125.3,   8.0810,  33.9550,2,-999.0000,9,     83.2,2,   -999.0,9,    43.10,2,    32.70,2,     0.00,2,     2.43,2,        0,2,   2235.7,2,   2260.7,2,  -999.00
  32WC20120904,  WCOA,    61,  1,      9,2,20120913,1506, 41.8500,-125.0500, 1154,    100.6,   8.1430,  33.9450,2,-999.0000,9,     79.4,2,     81.1,2,    43.80,2,    32.90,2,     0.00,2,     2.47,2,        0,2,   2238.3,2,   2260.1,2,  -999.00
  32WC20120904,  WCOA,    61,  1,     10,2,20120913,1507, 41.8500,-125.0500, 1154,     80.8,   8.2070,  33.9020,2,-999.0000,9,    113.2,2,   -999.0,9,    37.80,2,    30.30,2,     0.00,2,     2.24,2,        0,2,   2214.3,2,   2258.2,2,  -999.00
  32WC20120904,  WCOA,    61,  1,     11,2,20120913,1508, 41.8500,-125.0500, 1154,     60.2,   8.3350,  33.7920,2,-999.0000,9,    138.8,2,   -999.0,9,    34.20,2,    28.10,2,     0.00,2,     2.07,2,        0,2,   2191.7,2,   2247.8,2,  -999.00
  32WC20120904,  WCOA,    61,  1,     12,2,20120913,1509, 41.8500,-125.0500, 1154,     49.3,   9.1800,  33.6560,2,-999.0000,9,    169.1,2,    174.5,2,    29.20,2,    24.50,2,     0.10,2,     1.86,2,        0,2,   2165.8,2,   2243.6,2,  -999.00
  32WC20120904,  WCOA,    61,  1,     13,2,20120913,1510, 41.8500,-125.0500, 1154,     40.3,  10.4220,  33.4620,2,-999.0000,9,    237.2,2,   -999.0,9,    22.00,2,    18.60,2,     0.20,2,     1.52,2,      0.2,2,   2121.5,2,   2237.4,2,  -999.00
  32WC20120904,  WCOA,    61,  1,     14,2,20120913,1511, 41.8500,-125.0500, 1154,     29.9,  10.8500,  33.3950,2,-999.0000,9,    257.2,2,   -999.0,9,    18.40,2,    15.20,2,     0.20,2,     1.33,2,      0.2,2,   2095.8,2,   2234.6,2,     0.95
  32WC20120904,  WCOA,    61,  1,     15,2,20120913,1512, 41.8500,-125.0500, 1154,     20.3,  10.8780,  33.3930,2,-999.0000,9,    258.0,2,    260.8,2,    18.00,2,    14.90,2,     0.20,2,     1.31,2,      0.1,2,   2092.8,2,   2234.1,2,  -999.00
  32WC20120904,  WCOA,    61,  1,     16,2,20120913,1513, 41.8500,-125.0500, 1154,     14.2,  10.9350,  33.3960,2,-999.0000,9,    259.7,2,   -999.0,9,    18.00,2,    15.00,2,     0.20,2,     1.30,2,      0.1,2,   2093.2,2,   2233.9,2,  -999.00
  32WC20120904,  WCOA,    61,  1,     17,2,20120913,1514, 41.8500,-125.0500, 1154,     10.3,  10.9850,  33.3970,2,  33.3990,2,    261.0,2,   -999.0,9,    18.00,2,    15.00,2,     0.20,2,     1.30,2,      0.1,2,   2091.8,2,   2234.6,2,     1.07
  32WC20120904,  WCOA,    61,  1,     18,2,20120913,1515, 41.8500,-125.0500, 1154,      2.4,  11.0900,  33.3950,2,-999.0000,9,    262.2,2,    263.5,2,    18.00,2,    15.00,2,     0.20,2,     1.30,2,      0.1,2,   2092.2,6,   2233.6,6,     0.95
  32WC20120904,  WCOA,    62,  1,      1,2,20120913,1117, 41.9400,-124.5900,  340,    332.1,   6.9190,  34.0590,2,  34.0600,2,     60.3,2,     60.2,2,    55.00,2,    35.40,2,     0.10,2,     2.58,2,        0,2,   2260.8,2,   2282.9,2,  -999.00
  32WC20120904,  WCOA,    62,  1,      2,2,20120913,1121, 41.9400,-124.5900,  340,    200.0,   8.0350,  34.0060,2,-999.0000,9,     79.0,2,     78.6,2,    43.20,2,    32.40,2,     0.10,2,     2.39,2,        0,2,   2236.4,2,   2267.4,2,  -999.00
  32WC20120904,  WCOA,    62,  1,      3,2,20120913,1122, 41.9400,-124.5900,  340,    150.2,   8.4370,  33.9530,2,-999.0000,9,     87.4,2,   -999.0,9,    39.40,2,    31.30,2,     0.10,2,     2.34,2,        0,2,   2227.1,2,   2260.0,2,  -999.00
  32WC20120904,  WCOA,    62,  1,      4,2,20120913,1124, 41.9400,-124.5900,  340,    124.9,   8.5220,  33.8960,2,-999.0000,9,    111.4,2,    111.2,2,    35.50,2,    29.60,2,     0.10,2,     2.20,2,        0,2,   2210.2,2,   2256.2,2,  -999.00
  32WC20120904,  WCOA,    62,  1,      5,2,20120913,1125, 41.9400,-124.5900,  340,    100.9,   8.6950,  33.8550,2,-999.0000,9,    124.8,2,   -999.0,9,    35.40,2,    29.10,2,     0.10,2,     2.19,2,        0,2,   2205.9,2,   2254.1,2,  -999.00
  32WC20120904,  WCOA,    62,  1,      6,2,20120913,1126, 41.9400,-124.5900,  340,     79.6,   8.9290,  33.8010,2,-999.0000,9,    137.9,2,    136.3,2,    32.80,2,    27.90,2,     0.10,2,     2.09,2,      0.1,2,   2194.3,2,   2250.3,2,  -999.00
  32WC20120904,  WCOA,    62,  1,      7,2,20120913,1128, 41.9400,-124.5900,  340,     60.2,   9.1380,  33.7390,2,-999.0000,9,    150.1,2,   -999.0,9,    30.50,2,    26.30,2,     0.20,2,     2.01,2,      0.2,2,   2182.5,2,   2246.7,2,  -999.00
  32WC20120904,  WCOA,    62,  1,      8,2,20120913,1129, 41.9400,-124.5900,  340,     50.1,   9.8240,  33.6300,2,-999.0000,9,    190.5,2,    189.2,2,    25.90,2,    22.00,2,     0.30,2,     1.79,2,      0.7,2,   2155.4,2,   2245.1,2,  -999.00
  32WC20120904,  WCOA,    62,  1,      9,2,20120913,1130, 41.9400,-124.5900,  340,     40.2,  10.1990,  33.5700,2,-999.0000,9,    213.9,2,   -999.0,9,    23.20,2,    19.30,2,     0.30,2,     1.65,2,      0.9,2,   2136.9,2,   2245.0,2,  -999.00
  32WC20120904,  WCOA,    62,  1,     10,2,20120913,1131, 41.9400,-124.5900,  340,     30.5,  10.4810,  33.5240,2,-999.0000,9,    231.4,2,    231.9,2,    21.50,2,    17.70,2,     0.30,2,     1.55,2,      0.9,2,   2123.8,2,   2244.1,2,     1.52
  32WC20120904,  WCOA,    62,  1,     11,2,20120913,1132, 41.9400,-124.5900,  340,     20.9,  10.4850,  33.5180,2,-999.0000,9,    234.1,2,   -999.0,9,    21.30,2,    17.40,2,     0.30,2,     1.54,2,      0.8,2,   2122.5,2,   2241.8,2,  -999.00
  32WC20120904,  WCOA,    62,  1,     12,2,20120913,1133, 41.9400,-124.5900,  340,     16.0,  10.5150,  33.5020,2,-999.0000,9,    236.5,2,    238.0,2,    20.80,2,    17.30,2,     0.30,2,     1.49,2,      0.6,2,   2119.5,2,   2241.4,2,  -999.00
  32WC20120904,  WCOA,    62,  1,     13,2,20120913,1134, 41.9400,-124.5900,  340,     10.3,  10.4940,  33.4700,2,  33.4820,2,    241.1,2,   -999.0,9,    20.30,2,    17.00,2,     0.30,2,     1.47,2,      0.5,2,   2116.3,2,   2239.3,2,     1.56
  32WC20120904,  WCOA,    62,  1,     14,2,20120913,1135, 41.9400,-124.5900,  340,      2.7,  10.7560,  33.4710,2,-999.0000,9,    244.4,2,    245.1,2,    19.80,2,    16.80,2,     0.30,2,     1.44,2,      0.4,2,   2111.1,6,   2238.4,6,     1.36