BOTTLE,20180213PRINUNIVRMK
EXPOCODE,SECT_ID,STNNBR,CASTNO,BTLNBR,BTLNBR_FLAG_W,DATE,TIME,LATITUDE,LONGITUDE,DEPTH,CTDPRS,CTDTMP,CTDSAL,CTDSAL_FLAG_W,SALNTY,SALNTY_FLAG_W,CTDOXY,CTDOXY_FLAG_W,OXYGEN,OXYGEN_FLAG_W,SILCAT,SILCAT_FLAG_W,NITRAT,NITRAT_FLAG_W,NITRIT,NITRIT_FLAG_W,PHSPHT,PHSPHT_FLAG_W,NH4,NH4_FLAG_W,TCARBN,TCARBN_FLAG_W,ALKALI,ALKALI_FLAG_W,CHLORA
,,,,,,,,,,METERS,DBAR,ITS-90,PSS-78,,PSS-78,,UMOL/KG,,UMOL/KG,,UMOL/KG,,UMOL/KG,,UMOL/KG,,UMOL/KG,,UMOL/KG,,UMOL/KG,,UMOL/KG,,UG/KG
  32WC20120904,  WCOA,    42,  1,      1,2,20120910,1100, 44.6500,-125.6100, 2857,   2882.4,   1.7220,  34.6440,2,  34.6340,2,     85.6,2,     83.7,2,   190.50,2,    45.20,2,     0.00,2,     3.25,2,        0,2,   2386.5,2,   2440.4,6,  -999.00
  32WC20120904,  WCOA,    42,  1,      2,2,20120910,1110, 44.6500,-125.6100, 2857,   2251.3,   1.7980,  34.6200,2,  34.6190,2,     76.0,2,   -999.0,9,   179.90,2,    46.90,2,     0.00,2,     3.25,2,        0,2,   2382.2,2,   2430.0,2,  -999.00
  32WC20120904,  WCOA,    42,  1,      3,2,20120910,1114, 44.6500,-125.6100, 2857,   1999.8,   1.9810,  34.5950,2,-999.0000,9,     63.3,2,     63.3,2,   174.50,2,    47.80,2,     0.00,2,     3.31,2,        0,2,   2383.7,2,   2420.7,2,  -999.00
  32WC20120904,  WCOA,    42,  1,      4,2,20120910,1121, 44.6500,-125.6100, 2857,   1500.0,   2.6440,  34.5140,2,  34.5200,2,     29.9,2,   -999.0,9,   156.20,2,    50.10,2,     0.00,2,     3.47,2,        0,2,   2390.7,2,   2401.7,2,  -999.00
  32WC20120904,  WCOA,    42,  1,      5,2,20120910,1129, 44.6500,-125.6100, 2857,   1002.7,   3.8070,  34.3990,2,-999.0000,9,     12.2,2,     12.1,2,   124.00,2,    50.40,2,     0.00,2,     3.57,2,        0,2,   2369.0,2,   2366.4,2,  -999.00
  32WC20120904,  WCOA,    42,  1,      6,2,20120910,1133, 44.6500,-125.6100, 2857,    749.9,   4.5640,  34.2740,2,-999.0000,9,     12.3,2,     11.0,2,   103.40,2,    49.20,2,     0.00,2,     3.53,2,        0,2,   2346.4,2,   2337.8,2,  -999.00
  32WC20120904,  WCOA,    42,  1,      7,2,20120910,1138, 44.6500,-125.6100, 2857,    501.1,   5.1840,  34.1040,2,-999.0000,9,     31.2,2,     30.8,2,    82.70,2,    47.20,2,     0.00,2,     3.34,2,        0,2,   2311.0,2,   2307.8,2,  -999.00
  32WC20120904,  WCOA,    42,  1,      8,2,20120910,1141, 44.6500,-125.6100, 2857,    402.6,   5.5730,  34.0350,2,-999.0000,9,     47.5,2,   -999.0,9,    71.70,2,    45.20,2,     0.00,2,     3.17,2,        0,2,   2288.4,2,   2293.1,2,  -999.00
  32WC20120904,  WCOA,    42,  1,      9,2,20120910,1143, 44.6500,-125.6100, 2857,    300.7,   6.2170,  33.9710,2,  33.9710,2,     81.2,2,     80.3,2,    57.70,2,    41.00,2,     0.00,2,     2.88,2,        0,2,   2254.1,2,   2276.6,2,  -999.00
  32WC20120904,  WCOA,    42,  1,     10,2,20120910,1145, 44.6500,-125.6100, 2857,    200.7,   7.2480,  33.9360,2,-999.0000,9,     98.4,2,     95.3,2,    45.70,2,    37.50,2,     0.00,2,     2.68,2,        0,2,   2231.9,2,   2265.1,2,  -999.00
  32WC20120904,  WCOA,    42,  1,     11,2,20120910,1147, 44.6500,-125.6100, 2857,    150.0,   7.7420,  33.7970,2,-999.0000,9,    129.1,2,   -999.0,9,    35.90,2,    33.30,2,     0.00,2,     2.40,2,        0,2,   2198.8,2,   2251.1,2,  -999.00
  32WC20120904,  WCOA,    42,  1,     12,2,20120910,1148, 44.6500,-125.6100, 2857,    126.4,   8.0310,  33.6730,2,-999.0000,9,    137.5,2,    138.5,2,    32.10,2,    31.30,2,     0.00,2,     2.31,2,        0,2,   2184.0,2,   2242.0,2,  -999.00
  32WC20120904,  WCOA,    42,  1,     13,2,20120910,1150, 44.6500,-125.6100, 2857,    102.2,   7.9580,  33.3550,2,-999.0000,9,    176.2,2,   -999.0,9,    25.30,2,    25.50,2,     0.00,2,     1.97,2,        0,2,   2139.5,2,   2226.2,2,  -999.00
  32WC20120904,  WCOA,    42,  1,     14,2,20120910,1151, 44.6500,-125.6100, 2857,     80.4,   8.2470,  32.8810,2,-999.0000,9,    227.2,2,    234.6,2,    17.20,2,    17.30,2,     0.00,2,     1.55,2,        0,2,   2084.5,2,   2199.4,2,  -999.00
  32WC20120904,  WCOA,    42,  1,     15,2,20120910,1152, 44.6500,-125.6100, 2857,     60.5,   8.8370,  32.6620,2,-999.0000,9,    254.6,2,   -999.0,9,    11.90,2,    11.80,2,     0.00,2,     1.28,2,        0,2,   2054.5,2,   2188.2,2,  -999.00
  32WC20120904,  WCOA,    42,  1,     16,2,20120910,1153, 44.6500,-125.6100, 2857,     50.8,   9.3640,  32.6100,2,-999.0000,9,    267.9,2,    273.8,2,     8.60,2,     6.70,2,     0.10,2,     1.06,2,        0,2,   2037.1,2,   2185.7,2,  -999.00
  32WC20120904,  WCOA,    42,  1,     17,2,20120910,1154, 44.6500,-125.6100, 2857,     40.2,  10.9980,  32.5220,2,-999.0000,9,    313.5,2,   -999.0,9,     4.30,2,     0.30,2,     0.00,2,     0.60,2,        0,2,   1990.0,2,   2186.1,2,  -999.00
  32WC20120904,  WCOA,    42,  1,     18,2,20120910,1155, 44.6500,-125.6100, 2857,     30.6,  13.2650,  32.3020,2,-999.0000,9,    305.8,2,    308.4,2,     3.90,2,     0.30,2,     0.00,2,     0.51,2,      0.1,2,   1974.6,2,   2180.6,2,     0.31
  32WC20120904,  WCOA,    42,  1,     19,2,20120910,1157, 44.6500,-125.6100, 2857,     20.8,  15.6350,  31.6410,2,-999.0000,9,    274.9,2,   -999.0,9,     4.50,2,     0.20,2,     0.00,2,     0.36,2,      0.1,2,   1940.6,2,   2161.2,2,  -999.00
  32WC20120904,  WCOA,    42,  1,     20,2,20120910,1158, 44.6500,-125.6100, 2857,     15.7,  15.8930,  31.4920,2,-999.0000,9,    267.6,2,    259.9,2,     4.60,2,     0.10,2,     0.00,2,     0.34,2,        0,2,   1933.2,2,   2155.5,2,  -999.00
  32WC20120904,  WCOA,    42,  1,     21,2,20120910,1159, 44.6500,-125.6100, 2857,     11.0,  16.2470,  31.1460,2,-999.0000,9,    255.6,2,   -999.0,9,     4.10,2,     0.20,2,     0.00,2,     0.25,2,      0.1,2,   1921.4,2,   2141.8,2,     0.20
  32WC20120904,  WCOA,    42,  1,     22,2,20120910,1200, 44.6500,-125.6100, 2857,      2.4,  17.0030,  30.9320,2,  30.9340,2,    251.4,2,    251.6,2,     3.90,2,     0.10,2,     0.00,2,     0.18,2,        0,2,   1912.4,2,   2131.7,6,     0.23
  32WC20120904,  WCOA,    43,  1,      1,2,20120910,1506, 44.6500,-125.2300, 2252,   2276.6,   1.8590,  34.6140,2,  34.6150,2,     74.7,2,     75.9,2,   178.30,2,    46.90,2,     0.10,2,     3.22,2,      0.1,2,   2380.7,2,   2427.2,6,  -999.00
  32WC20120904,  WCOA,    43,  1,      2,2,20120910,1511, 44.6500,-125.2300, 2252,   1994.5,   1.9450,  34.6000,2,-999.0000,9,     66.6,2,   -999.0,9,   175.00,2,    47.40,2,     0.00,2,     3.25,2,        0,2,   2381.7,2,   2423.7,2,  -999.00
  32WC20120904,  WCOA,    43,  1,      3,2,20120910,1518, 44.6500,-125.2300, 2252,   1501.7,   2.6900,  34.5190,2,  34.5200,2,     34.4,2,     33.0,2,   154.00,2,    49.60,2,     0.00,2,     3.41,2,        0,2,   2382.2,2,   2400.3,2,  -999.00
  32WC20120904,  WCOA,    43,  1,      4,2,20120910,1526, 44.6500,-125.2300, 2252,   1003.4,   3.8200,  34.4000,2,-999.0000,9,     13.3,2,   -999.0,9,   123.30,2,    50.00,2,     0.00,2,     3.50,2,        0,2,   2364.5,2,   2368.0,2,  -999.00
  32WC20120904,  WCOA,    43,  1,      5,2,20120910,1530, 44.6500,-125.2300, 2252,    752.4,   4.4280,  34.2870,2,  34.2800,2,     11.1,2,     10.4,2,   106.40,2,    49.50,2,     0.00,2,     3.49,2,        0,2,   2345.4,2,   2343.6,2,  -999.00
  32WC20120904,  WCOA,    43,  1,      6,2,20120910,1535, 44.6500,-125.2300, 2252,    502.4,   5.3040,  34.1340,2,-999.0000,9,     30.2,2,     26.9,2,    82.30,2,    46.80,2,     0.00,2,     3.28,2,        0,2,   2310.2,2,   2310.2,2,  -999.00
  32WC20120904,  WCOA,    43,  1,      7,2,20120910,1537, 44.6500,-125.2300, 2252,    401.1,   5.7730,  34.0940,2,-999.0000,9,     37.8,2,     38.3,2,    72.80,2,    45.10,2,     0.00,2,     3.19,2,        0,2,   2292.8,2,   2299.9,2,  -999.00
  32WC20120904,  WCOA,    43,  1,      8,2,20120910,1540, 44.6500,-125.2300, 2252,    302.9,   6.3500,  34.0170,2,-999.0000,9,     61.8,2,   -999.0,9,    59.10,2,    41.90,2,     0.00,2,     2.90,2,        0,2,   2262.6,2,   2282.6,2,  -999.00
  32WC20120904,  WCOA,    43,  1,      9,2,20120910,1542, 44.6500,-125.2300, 2252,    201.1,   7.2510,  33.9570,2,  33.9510,2,     94.9,2,     92.6,2,    46.00,2,    37.80,2,     0.00,2,     2.62,2,        0,2,   2231.4,2,   2265.9,2,  -999.00
  32WC20120904,  WCOA,    43,  1,     10,2,20120910,1544, 44.6500,-125.2300, 2252,    151.0,   7.7560,  33.8500,2,-999.0000,9,    133.1,2,    118.7,2,    38.60,2,    34.70,2,     0.00,2,     2.42,2,        0,2,   2207.0,2,   2254.6,2,  -999.00
  32WC20120904,  WCOA,    43,  1,     11,2,20120910,1545, 44.6500,-125.2300, 2252,    125.3,   8.0060,  33.7550,2,-999.0000,9,    136.8,2,    134.3,2,    35.40,2,    33.10,2,     0.00,2,     2.33,2,        0,2,   2194.0,2,   2249.7,2,  -999.00
  32WC20120904,  WCOA,    43,  1,     12,2,20120910,1546, 44.6500,-125.2300, 2252,    100.6,   8.4330,  33.6410,2,-999.0000,9,    160.6,2,   -999.0,9,    32.10,2,    31.20,2,     0.00,2,     2.23,2,        0,2,   2180.3,2,   2242.4,2,  -999.00
  32WC20120904,  WCOA,    43,  1,     13,2,20120910,1548, 44.6500,-125.2300, 2252,     79.9,   8.6290,  33.3660,2,-999.0000,9,    184.1,2,    185.3,2,    25.20,2,    25.80,2,     0.00,2,     1.92,2,        0,2,   2143.6,2,   2227.0,2,  -999.00
  32WC20120904,  WCOA,    43,  1,     14,2,20120910,1549, 44.6500,-125.2300, 2252,     61.5,   8.6750,  33.0700,2,-999.0000,9,    210.4,2,   -999.0,9,    19.50,2,    20.20,2,     0.00,2,     1.63,2,        0,2,   2104.4,2,   2208.5,2,  -999.00
  32WC20120904,  WCOA,    43,  1,     15,2,20120910,1550, 44.6500,-125.2300, 2252,     49.6,   8.9680,  32.8950,2,-999.0000,9,    240.2,2,    230.5,2,    15.40,2,    16.10,2,     0.10,2,     1.40,2,        0,2,   2080.2,2,   2202.0,2,  -999.00
  32WC20120904,  WCOA,    43,  1,     16,2,20120910,1551, 44.6500,-125.2300, 2252,     40.3,   9.2470,  32.7360,2,-999.0000,9,    257.2,2,   -999.0,9,    10.40,2,     9.90,2,     0.20,2,     1.06,2,        0,2,   2043.8,2,   2192.4,2,  -999.00
  32WC20120904,  WCOA,    43,  1,     17,2,20120910,1552, 44.6500,-125.2300, 2252,     30.0,  10.0540,  32.6050,2,-999.0000,9,    263.2,2,    278.3,2,     7.50,2,     5.00,2,     0.30,2,     0.84,2,      0.1,2,   2022.9,2,   2188.8,2,     0.60
  32WC20120904,  WCOA,    43,  1,     18,2,20120910,1553, 44.6500,-125.2300, 2252,     20.2,  11.5830,  32.4770,2,-999.0000,9,    275.2,2,   -999.0,9,     5.80,2,     1.30,2,     0.10,2,     0.63,2,      0.1,2,   1996.7,2,   2185.8,2,  -999.00
  32WC20120904,  WCOA,    43,  1,     19,2,20120910,1554, 44.6500,-125.2300, 2252,     15.4,  12.5550,  32.2440,2,-999.0000,9,    298.6,2,    288.1,2,     6.00,2,     1.10,2,     0.00,2,     0.54,2,      0.1,2,   1978.5,2,   2182.1,2,  -999.00
  32WC20120904,  WCOA,    43,  1,     20,2,20120910,1555, 44.6500,-125.2300, 2252,     10.3,  14.8740,  31.7680,2,-999.0000,9,    268.1,2,   -999.0,9,     4.80,2,     0.20,2,     0.00,2,     0.35,2,      0.1,2,   1947.2,2,   2168.4,2,     0.32
  32WC20120904,  WCOA,    43,  1,     21,2,20120910,1556, 44.6500,-125.2300, 2252,      2.6,  15.5090,  31.5580,2,  31.5720,2,    262.9,2,    259.8,2,     4.30,2,     0.10,2,     0.00,2,     0.31,2,      0.1,2,   1936.8,6,   2162.8,6,     0.22
  32WC20120904,  WCOA,    44,  1,      1,2,20120910,1755, 44.6500,-125.0700,  979,    968.1,   3.9940,  34.3720,2,  34.3780,2,     12.3,2,     13.1,2,   118.20,2,    49.40,2,     0.00,2,     3.52,2,        0,2,   2360.0,2,   2348.5,4,  -999.00
  32WC20120904,  WCOA,    44,  1,      2,2,20120910,1759, 44.6500,-125.0700,  979,    752.2,   4.5140,  34.2730,2,-999.0000,9,     13.5,2,     15.1,2,   104.30,2,    48.70,2,     0.00,2,     3.46,2,        0,2,   2343.7,2,   2339.4,2,  -999.00
  32WC20120904,  WCOA,    44,  1,      3,2,20120910,1804, 44.6500,-125.0700,  979,    502.2,   5.3720,  34.1170,2,-999.0000,9,     30.3,2,     31.8,2,    80.20,2,    46.30,2,     0.00,2,     3.27,2,        0,2,   2305.8,2,   2306.9,2,  -999.00
  32WC20120904,  WCOA,    44,  1,      4,2,20120910,1806, 44.6500,-125.0700,  979,    403.3,   6.0150,  34.0730,2,-999.0000,9,     46.3,2,     44.7,2,    67.60,2,    44.10,2,     0.00,2,     3.12,2,        0,2,   2285.2,2,   2289.4,2,  -999.00
  32WC20120904,  WCOA,    44,  1,      5,2,20120910,1809, 44.6500,-125.0700,  979,    302.3,   6.1570,  33.9720,2,-999.0000,9,     79.8,2,   -999.0,9,    58.00,2,    40.40,2,     0.00,2,     2.82,2,        0,2,   2251.3,2,   2280.7,2,  -999.00
  32WC20120904,  WCOA,    44,  1,      6,2,20120910,1811, 44.6500,-125.0700,  979,    202.2,   7.1920,  33.9210,2,-999.0000,9,     80.7,2,    113.9,3,    43.10,2,    35.80,2,     0.00,2,     2.52,2,        0,2,   2215.7,2,   2264.7,2,  -999.00
  32WC20120904,  WCOA,    44,  1,      7,2,20120910,1813, 44.6500,-125.0700,  979,    152.3,   7.6400,  33.8650,2,-999.0000,9,     79.6,2,     87.4,2,    45.50,2,    37.60,2,     0.00,2,     2.73,2,        0,2,   2234.6,2,   2256.6,2,  -999.00
  32WC20120904,  WCOA,    44,  1,      8,2,20120910,1815, 44.6500,-125.0700,  979,    126.7,   7.9730,  33.7810,2,-999.0000,9,    129.9,2,   -999.0,9,    36.20,2,    33.60,2,     0.00,2,     2.43,2,        0,2,   2198.6,2,   2251.2,2,  -999.00
  32WC20120904,  WCOA,    44,  1,      9,2,20120910,1816, 44.6500,-125.0700,  979,    101.2,   8.3540,  33.6390,2,-999.0000,9,    155.9,2,    156.4,2,    31.60,2,    30.80,2,     0.00,2,     2.28,2,        0,2,   2178.4,2,   2242.2,2,  -999.00
  32WC20120904,  WCOA,    44,  1,     10,2,20120910,1818, 44.6500,-125.0700,  979,     81.1,   8.3020,  33.3450,2,-999.0000,9,    172.9,2,   -999.0,9,    26.40,2,    26.10,2,     0.10,2,     2.05,2,        0,2,   2147.0,2,   2225.2,2,  -999.00
  32WC20120904,  WCOA,    44,  1,     11,2,20120910,1819, 44.6500,-125.0700,  979,     60.7,   8.4710,  33.0170,2,-999.0000,9,    211.4,2,    217.5,2,    19.00,2,    19.00,2,     0.10,2,     1.66,2,      0.1,2,   2096.5,2,   2204.4,2,  -999.00
  32WC20120904,  WCOA,    44,  1,     12,2,20120910,1820, 44.6500,-125.0700,  979,     50.2,   9.0740,  32.8360,2,-999.0000,9,    241.2,2,   -999.0,9,    13.20,2,    13.10,2,     0.20,2,     1.19,2,        0,2,   2063.5,2,   2197.0,2,  -999.00
  32WC20120904,  WCOA,    44,  1,     13,2,20120910,1821, 44.6500,-125.0700,  979,     40.4,   9.5220,  32.7310,2,-999.0000,9,    257.1,2,    258.3,2,    10.80,2,     9.80,2,     0.30,2,     1.04,2,      0.1,2,   2047.9,2,   2192.1,2,  -999.00
  32WC20120904,  WCOA,    44,  1,     14,2,20120910,1822, 44.6500,-125.0700,  979,     31.1,  10.3890,  32.5570,2,-999.0000,9,    278.5,2,   -999.0,9,     7.20,2,     4.40,2,     0.20,2,     0.81,2,      0.7,2,   2020.2,2,   2190.8,2,     1.47
  32WC20120904,  WCOA,    44,  1,     15,2,20120910,1823, 44.6500,-125.0700,  979,     20.4,  12.1820,  32.2010,2,-999.0000,9,    302.8,2,    291.3,2,     4.70,2,     2.00,2,     0.10,2,     0.54,2,      0.4,2,   1987.8,2,   2187.3,2,  -999.00
  32WC20120904,  WCOA,    44,  1,     16,2,20120910,1824, 44.6500,-125.0700,  979,     15.4,  12.7360,  32.1420,2,-999.0000,9,    305.8,2,   -999.0,9,     4.70,2,     2.10,2,     0.10,2,     0.51,2,      0.4,2,   1969.4,2,   2187.7,2,  -999.00
  32WC20120904,  WCOA,    44,  1,     17,2,20120910,1825, 44.6500,-125.0700,  979,     10.4,  14.5740,  32.0080,2,-999.0000,9,    273.6,2,    283.6,2,     4.00,2,     0.10,2,     0.00,2,     0.28,2,        0,2,   1955.1,2,   2182.5,2,     0.69
  32WC20120904,  WCOA,    44,  1,     18,2,20120910,1826, 44.6500,-125.0700,  979,      3.8,  15.1720,  31.9770,2,  31.9820,2,    264.6,2,    265.2,2,     5.40,2,     0.10,2,     0.00,2,     0.33,2,        0,2,   1955.5,6,   2177.8,2,     0.34
  32WC20120904,  WCOA,    45,  1,      1,2,20120910,1958, 44.6500,-124.9600,  750,    741.5,   4.5010,  34.2680,2,  34.2590,2,     12.7,2,     12.4,2,   104.30,2,    48.60,2,     0.00,2,     3.48,2,        0,2,   2344.8,2,   2339.3,6,  -999.00
  32WC20120904,  WCOA,    45,  1,      2,2,20120910,2004, 44.6500,-124.9600,  750,    500.8,   5.4690,  34.1010,2,-999.0000,9,     34.7,2,     33.0,2,    77.50,2,    45.50,2,     0.00,2,     3.24,2,        0,2,   2302.8,2,   2303.3,2,  -999.00
  32WC20120904,  WCOA,    45,  1,      3,2,20120910,2007, 44.6500,-124.9600,  750,    399.9,   6.2040,  34.0450,2,-999.0000,9,     55.6,2,     54.5,2,    63.40,2,    42.50,2,     0.00,2,     3.04,2,        0,2,   2275.1,2,   2285.8,2,  -999.00
  32WC20120904,  WCOA,    45,  1,      4,2,20120910,2011, 44.6500,-124.9600,  750,    260.0,   6.7850,  33.9460,2,-999.0000,9,     99.7,2,    102.8,2,    48.70,2,    37.00,2,     0.00,2,     2.64,2,        0,2,   2230.6,2,   2269.1,2,  -999.00
  32WC20120904,  WCOA,    45,  1,      5,2,20120910,2013, 44.6500,-124.9600,  750,    199.5,   7.3710,  33.9680,2,-999.0000,9,     79.9,2,   -999.0,9,    48.20,2,    38.30,2,     0.00,2,     2.80,2,        0,2,   2243.2,2,   -999.0,5,  -999.00
  32WC20120904,  WCOA,    45,  1,      6,2,20120910,2015, 44.6500,-124.9600,  750,    149.7,   7.4800,  33.8920,2,-999.0000,9,     78.7,2,     77.6,2,    47.40,2,    37.90,2,     0.00,2,     2.79,2,        0,2,   2242.2,2,   2259.5,2,  -999.00
  32WC20120904,  WCOA,    45,  1,      7,2,20120910,2017, 44.6500,-124.9600,  750,    124.9,   7.5940,  33.8290,2,-999.0000,9,     82.7,2,   -999.0,9,    46.60,2,    36.70,2,     0.00,2,     2.78,2,        0,2,   2235.5,2,   2255.1,2,  -999.00
  32WC20120904,  WCOA,    45,  1,      8,2,20120910,2019, 44.6500,-124.9600,  750,    100.5,   8.0880,  33.6980,2,-999.0000,9,    140.7,2,    138.4,2,    34.90,2,    32.00,2,     0.00,2,     2.40,2,        0,2,   2192.0,2,   2244.2,2,  -999.00
  32WC20120904,  WCOA,    45,  1,      9,2,20120910,2020, 44.6500,-124.9600,  750,     80.8,   8.1070,  33.5960,2,-999.0000,9,    146.0,2,   -999.0,9,    32.90,2,    30.60,2,     0.00,2,     2.34,2,        0,2,   2180.7,2,   2237.2,2,  -999.00
  32WC20120904,  WCOA,    45,  1,     10,2,20120910,2022, 44.6500,-124.9600,  750,     60.0,   8.2610,  33.2600,2,-999.0000,9,    181.5,2,    174.2,2,    26.50,2,    25.40,2,     0.00,2,     2.06,2,        0,2,   2143.8,2,   2220.5,2,  -999.00
  32WC20120904,  WCOA,    45,  1,     11,2,20120910,2023, 44.6500,-124.9600,  750,     50.8,   8.5690,  33.0450,2,-999.0000,9,    214.5,2,   -999.0,9,    19.40,2,    19.30,2,     0.00,2,     1.71,2,        0,2,   2100.2,2,   2205.0,2,  -999.00
  32WC20120904,  WCOA,    45,  1,     12,2,20120910,2024, 44.6500,-124.9600,  750,     40.9,   8.7770,  32.8820,2,-999.0000,9,    232.9,2,    231.5,2,    15.60,2,    15.70,2,     0.10,2,     1.52,2,        0,2,   2080.3,2,   2196.2,2,  -999.00
  32WC20120904,  WCOA,    45,  1,     13,2,20120910,2025, 44.6500,-124.9600,  750,     29.7,   9.2020,  32.6860,2,-999.0000,9,    254.5,2,   -999.0,9,    10.70,2,    10.00,2,     0.20,2,     1.25,2,      0.1,2,   2045.0,2,   2187.4,2,     0.44
  32WC20120904,  WCOA,    45,  1,     14,2,20120910,2027, 44.6500,-124.9600,  750,     20.1,  11.1940,  32.4340,2,-999.0000,9,    289.7,2,    291.5,2,     6.00,2,     2.10,2,     0.20,2,     0.82,2,      0.3,2,   2000.8,2,   2184.0,2,  -999.00
  32WC20120904,  WCOA,    45,  1,     15,2,20120910,2028, 44.6500,-124.9600,  750,     14.6,  13.3740,  32.1240,2,-999.0000,9,    287.8,2,   -999.0,9,     4.60,2,     0.20,2,     0.10,2,     0.49,2,      0.1,2,   1963.5,2,   2183.2,2,  -999.00
  32WC20120904,  WCOA,    45,  1,     16,2,20120910,2029, 44.6500,-124.9600,  750,     10.1,  14.6480,  31.9620,2,  31.9720,2,    272.5,2,   -999.0,9,     4.80,2,     0.00,2,     0.00,2,     0.38,2,        0,2,   1950.3,2,   2178.4,2,     0.64
  32WC20120904,  WCOA,    45,  1,     17,2,20120910,2030, 44.6500,-124.9600,  750,      1.8,  15.0640,  31.9030,2,-999.0000,9,    268.0,2,    267.8,2,     4.80,2,     0.00,2,     0.00,2,     0.36,2,        0,2,   1947.0,2,   2175.1,6,     0.52