BOTTLE,20180213PRINUNIVRMK
EXPOCODE,SECT_ID,STNNBR,CASTNO,BTLNBR,BTLNBR_FLAG_W,DATE,TIME,LATITUDE,LONGITUDE,DEPTH,CTDPRS,CTDTMP,CTDSAL,CTDSAL_FLAG_W,SALNTY,SALNTY_FLAG_W,CTDOXY,CTDOXY_FLAG_W,OXYGEN,OXYGEN_FLAG_W,SILCAT,SILCAT_FLAG_W,NITRAT,NITRAT_FLAG_W,NITRIT,NITRIT_FLAG_W,PHSPHT,PHSPHT_FLAG_W,NH4,NH4_FLAG_W,TCARBN,TCARBN_FLAG_W,ALKALI,ALKALI_FLAG_W,CHLORA
,,,,,,,,,,METERS,DBAR,ITS-90,PSS-78,,PSS-78,,UMOL/KG,,UMOL/KG,,UMOL/KG,,UMOL/KG,,UMOL/KG,,UMOL/KG,,UMOL/KG,,UMOL/KG,,UMOL/KG,,UG/KG
  32WC20120904,  WCOA,    32,  1,      1,2,20120909,1113, 45.5000,-124.8300,  900,    886.3,   4.0140,  34.3640,2,  34.3600,2,     11.2,2,     11.1,2,   118.40,2,    43.00,2,     0.00,2,     3.21,2,        0,2,   2366.1,2,   2360.3,2,  -999.00
  32WC20120904,  WCOA,    32,  1,      2,2,20120909,1114, 45.5000,-124.8300,  900,    886.5,   4.0140,  34.3640,2,-999.0000,9,     11.2,2,   -999.0,9,   118.70,2,    44.20,2,     0.00,2,     3.18,2,        0,2,   -999.0,9,   -999.0,9,  -999.00
  32WC20120904,  WCOA,    32,  1,      3,2,20120909,1117, 45.5000,-124.8300,  900,    751.2,   4.4850,  34.2870,2,-999.0000,9,     11.8,2,     11.6,2,   104.60,2,    43.00,2,     0.00,2,     3.13,2,        0,2,   2347.0,2,   2343.5,2,  -999.00
  32WC20120904,  WCOA,    32,  1,      4,2,20120909,1122, 45.5000,-124.8300,  900,    504.5,   5.5410,  34.1170,2,-999.0000,9,     30.7,2,     31.4,2,    77.70,2,    40.70,2,     0.00,2,     2.91,2,        0,2,   2308.0,2,   2305.2,2,  -999.00
  32WC20120904,  WCOA,    32,  1,      5,2,20120909,1124, 45.5000,-124.8300,  900,    402.6,   6.0180,  34.0680,2,-999.0000,9,     45.3,2,   -999.0,9,    67.00,2,    39.00,2,     0.00,2,     2.76,2,        0,2,   2286.4,2,   2293.4,2,  -999.00
  32WC20120904,  WCOA,    32,  1,      6,2,20120909,1127, 45.5000,-124.8300,  900,    302.4,   6.4550,  34.0290,2,-999.0000,9,     62.3,2,     61.0,2,    58.40,2,    37.30,2,     0.00,2,     2.63,2,        0,2,   2267.5,2,   2282.7,2,  -999.00
  32WC20120904,  WCOA,    32,  1,      7,2,20120909,1129, 45.5000,-124.8300,  900,    202.3,   7.0570,  33.9650,2,  33.9710,2,     86.2,2,   -999.0,9,    48.00,2,    34.10,2,     0.00,2,     2.39,2,        0,2,   2241.3,2,   2269.2,2,  -999.00
  32WC20120904,  WCOA,    32,  1,      8,2,20120909,1131, 45.5000,-124.8300,  900,    150.8,   7.4640,  33.8460,2,-999.0000,9,    103.6,2,    103.2,2,    42.10,2,    31.80,2,     0.00,2,     2.26,2,        0,2,   2224.1,2,   2257.8,2,  -999.00
  32WC20120904,  WCOA,    32,  1,      9,2,20120909,1132, 45.5000,-124.8300,  900,    128.1,   7.8320,  33.7530,2,-999.0000,9,    126.5,2,   -999.0,9,    35.60,2,    29.40,2,     0.00,2,     2.09,2,        0,2,   2198.7,2,   2244.2,2,  -999.00
  32WC20120904,  WCOA,    32,  1,     10,2,20120909,1134, 45.5000,-124.8300,  900,    101.7,   8.1970,  33.4930,2,-999.0000,9,    152.1,2,    151.2,2,    29.20,2,    25.50,2,     0.00,2,     1.87,2,        0,2,   2167.7,2,   2232.6,2,  -999.00
  32WC20120904,  WCOA,    32,  1,     11,2,20120909,1135, 45.5000,-124.8300,  900,     81.4,   8.3280,  32.9150,2,-999.0000,9,    229.2,2,   -999.0,9,    17.70,2,    15.90,2,     0.00,2,     1.33,2,        0,2,   2090.5,2,   2201.8,2,  -999.00
  32WC20120904,  WCOA,    32,  1,     12,2,20120909,1136, 45.5000,-124.8300,  900,     60.8,   8.7290,  32.6830,2,-999.0000,9,    263.7,2,    259.6,2,    11.50,2,    10.00,2,     0.10,2,     1.02,2,        0,2,   2052.0,2,   2187.5,2,  -999.00
  32WC20120904,  WCOA,    32,  1,     13,2,20120909,1137, 45.5000,-124.8300,  900,     51.3,   9.1150,  32.6390,2,-999.0000,9,    276.8,2,   -999.0,9,     9.50,2,     7.40,2,     0.10,2,     0.89,2,        0,2,   2040.9,2,   2186.8,2,  -999.00
  32WC20120904,  WCOA,    32,  1,     14,2,20120909,1139, 45.5000,-124.8300,  900,     40.3,   9.8740,  32.5950,2,-999.0000,9,    306.1,2,    303.4,2,     6.50,2,     1.10,2,     0.10,2,     0.60,2,      0.1,2,   2010.5,2,   2189.2,2,  -999.00
  32WC20120904,  WCOA,    32,  1,     15,2,20120909,1140, 45.5000,-124.8300,  900,     30.4,  10.7810,  32.5480,2,-999.0000,9,    317.5,2,   -999.0,9,     4.30,2,     0.10,2,     0.00,2,     0.45,2,        0,2,   1989.9,2,   2187.4,2,     0.38
  32WC20120904,  WCOA,    32,  1,     16,2,20120909,1141, 45.5000,-124.8300,  900,     21.3,  13.0050,  32.3830,2,-999.0000,9,    314.9,2,    312.4,2,     3.90,2,     0.00,2,     0.00,2,     0.36,2,      0.1,2,   1969.8,2,   2179.8,2,  -999.00
  32WC20120904,  WCOA,    32,  1,     17,2,20120909,1142, 45.5000,-124.8300,  900,     14.8,  14.8470,  32.0930,2,-999.0000,9,    279.7,2,   -999.0,9,     4.50,2,    -0.10,2,     0.00,2,     0.28,2,      0.2,2,   1951.5,2,   2168.4,2,  -999.00
  32WC20120904,  WCOA,    32,  1,     18,2,20120909,1143, 45.5000,-124.8300,  900,     10.5,  17.4200,  31.2610,2,-999.0000,9,    249.9,2,    250.3,2,     4.30,2,     0.00,2,     0.00,2,     0.14,2,      0.1,2,   1925.6,2,   2146.2,2,     0.18
  32WC20120904,  WCOA,    32,  1,     19,2,20120909,1144, 45.5000,-124.8300,  900,      3.1,  17.4370,  31.2450,2,  31.2460,2,    249.2,2,    246.6,2,     4.30,2,     0.10,2,     0.00,2,     0.12,2,      0.1,2,   1922.8,6,   2141.5,6,     0.18
  32WC20120904,  WCOA,    33,  1,      1,2,20120909,0856, 45.4900,-124.7400,  500,    487.9,   5.7570,  34.0940,2,  34.1040,2,     38.3,2,     38.9,2,    73.20,2,    39.90,2,     0.10,2,     2.88,2,        0,2,   2299.0,6,   2302.1,2,  -999.00
  32WC20120904,  WCOA,    33,  1,      2,2,20120909,0856, 45.4900,-124.7400,  500,    484.3,   5.7620,  34.0950,2,-999.0000,9,     38.3,2,   -999.0,9,  -999.00,9,  -999.00,9,  -999.00,9,  -999.00,9,     -999,9,   -999.0,9,   -999.0,9,  -999.00
  32WC20120904,  WCOA,    33,  1,      3,2,20120909,0900, 45.4900,-124.7400,  500,    407.3,   5.8880,  34.0840,2,-999.0000,9,     41.6,2,     41.1,2,    70.10,2,    39.40,2,     0.00,2,     2.84,2,        0,2,   2294.3,2,   2297.3,2,  -999.00
  32WC20120904,  WCOA,    33,  1,      4,2,20120909,0903, 45.4900,-124.7400,  500,    303.0,   6.4320,  34.0330,2,-999.0000,9,     60.0,2,     59.9,2,    59.30,2,    37.20,2,     0.00,2,     2.67,2,        0,2,   2272.5,2,   2284.4,2,  -999.00
  32WC20120904,  WCOA,    33,  1,      5,2,20120909,0906, 45.4900,-124.7400,  500,    201.4,   7.1250,  33.9610,2,-999.0000,9,     89.0,2,     88.7,2,    47.40,2,    33.80,2,     0.00,2,     2.43,2,        0,2,   2243.0,2,   2268.5,2,  -999.00
  32WC20120904,  WCOA,    33,  1,      6,2,20120909,0908, 45.4900,-124.7400,  500,    150.1,   7.5610,  33.8300,2,-999.0000,9,    110.0,2,   -999.0,9,    40.30,2,    31.20,2,     0.00,2,     2.27,2,        0,2,   2218.7,2,   2255.2,2,  -999.00
  32WC20120904,  WCOA,    33,  1,      7,2,20120909,0910, 45.4900,-124.7400,  500,    126.5,   7.9030,  33.7460,2,-999.0000,9,    127.0,2,   -999.0,9,    34.90,2,    29.20,2,     0.00,2,     2.13,2,        0,2,   2200.4,2,   2248.1,2,  -999.00
  32WC20120904,  WCOA,    33,  1,      8,2,20120909,0911, 45.4900,-124.7400,  500,    101.0,   8.1670,  33.4950,2,-999.0000,9,    155.6,2,    154.1,2,    28.70,2,    25.40,2,     0.00,2,     1.91,2,        0,2,   2168.3,2,   2232.4,2,  -999.00
  32WC20120904,  WCOA,    33,  1,      9,2,20120909,0912, 45.4900,-124.7400,  500,     80.7,   8.4070,  33.1790,2,-999.0000,9,    193.9,2,   -999.0,9,    22.20,2,    20.20,2,     0.00,2,     1.64,2,        0,2,   2127.0,2,   2213.3,2,  -999.00
  32WC20120904,  WCOA,    33,  1,     10,2,20120909,0914, 45.4900,-124.7400,  500,     60.6,   8.2320,  32.9370,2,-999.0000,9,    228.9,2,    224.3,2,    18.00,2,    16.20,2,     0.00,2,     1.41,2,        0,2,   2094.7,2,   2200.7,2,  -999.00
  32WC20120904,  WCOA,    33,  1,     11,2,20120909,0915, 45.4900,-124.7400,  500,     50.8,   8.2080,  32.9030,2,-999.0000,9,    233.6,2,   -999.0,9,    17.20,2,    15.40,2,     0.00,2,     1.37,2,        0,2,   2088.4,2,   2199.6,2,  -999.00
  32WC20120904,  WCOA,    33,  1,     12,2,20120909,0916, 45.4900,-124.7400,  500,     39.9,   8.2450,  32.6970,2,-999.0000,9,    256.0,2,    256.1,2,    14.70,2,    12.40,2,     0.00,2,     1.22,2,        0,2,   2063.8,2,   2189.6,2,  -999.00
  32WC20120904,  WCOA,    33,  1,     13,2,20120909,0917, 45.4900,-124.7400,  500,     31.3,   9.1750,  32.6420,2,-999.0000,9,    269.8,2,   -999.0,9,     9.60,2,     7.00,2,     0.20,2,     0.93,2,        0,2,   2043.4,2,   2187.3,2,     0.60
  32WC20120904,  WCOA,    33,  1,     14,2,20120909,0918, 45.4900,-124.7400,  500,     19.8,  14.7520,  32.1630,2,-999.0000,9,    276.1,2,    276.3,2,     5.40,2,     0.20,2,     0.00,2,     0.37,2,      0.1,2,   1965.7,2,   2178.9,2,  -999.00
  32WC20120904,  WCOA,    33,  1,     15,2,20120909,0919, 45.4900,-124.7400,  500,     15.0,  16.6570,  31.8980,2,-999.0000,9,    254.8,2,   -999.0,9,     5.90,2,     0.10,2,     0.00,2,     0.30,2,      0.2,2,   1949.0,2,   2163.8,2,  -999.00
  32WC20120904,  WCOA,    33,  1,     16,2,20120909,0920, 45.4900,-124.7400,  500,     10.2,  17.3140,  31.1830,2,-999.0000,9,    249.6,2,    248.6,2,     5.20,2,     0.10,2,     0.00,2,     0.19,2,      0.2,2,   1930.5,2,   2145.9,2,     0.17
  32WC20120904,  WCOA,    33,  1,     17,2,20120909,0921, 45.4900,-124.7400,  500,      2.5,  17.3250,  31.1740,2,  31.1690,2,    249.4,2,    247.5,2,     5.20,2,     0.10,2,     0.00,2,     0.16,2,      0.2,2,   1923.6,6,   2140.8,6,     0.15
  32WC20120904,  WCOA,    34,  1,      1,2,20120909,0557, 45.5000,-124.3600,  182,    175.7,   7.2110,  33.9500,2,  33.9490,2,     77.0,2,     76.9,2,    50.20,2,    34.40,2,     0.00,2,     2.57,2,        0,2,   2247.8,2,   2268.4,2,  -999.00
  32WC20120904,  WCOA,    34,  1,      2,2,20120909,0558, 45.5000,-124.3600,  182,    175.8,   7.2100,  33.9500,2,-999.0000,9,     77.2,2,   -999.0,9,  -999.00,9,  -999.00,9,  -999.00,9,  -999.00,9,     -999,9,   -999.0,9,   -999.0,9,  -999.00
  32WC20120904,  WCOA,    34,  1,      3,2,20120909,0559, 45.5000,-124.3600,  182,    150.4,   7.2680,  33.9400,2,-999.0000,9,     78.0,2,     77.2,2,    49.00,2,    34.40,2,     0.00,2,     2.57,2,        0,2,   2245.9,2,   2266.3,2,  -999.00
  32WC20120904,  WCOA,    34,  1,      4,2,20120909,0600, 45.5000,-124.3600,  182,    125.6,   7.4030,  33.8950,2,-999.0000,9,     86.9,2,   -999.0,9,    46.20,2,    33.40,2,     0.00,2,     2.48,2,        0,2,   2235.9,2,   2260.6,2,  -999.00
  32WC20120904,  WCOA,    34,  1,      5,2,20120909,0602, 45.5000,-124.3600,  182,    101.0,   7.5900,  33.8140,2,-999.0000,9,    104.4,2,    104.5,2,    41.20,2,    31.50,2,     0.00,2,     2.36,2,        0,2,   2218.6,2,   2253.7,2,  -999.00
  32WC20120904,  WCOA,    34,  1,      6,2,20120909,0603, 45.5000,-124.3600,  182,     81.3,   7.7350,  33.6930,2,-999.0000,9,    111.6,2,   -999.0,9,    38.00,2,    30.20,2,     0.10,2,     2.32,2,        0,2,   2206.8,2,   2245.4,2,  -999.00
  32WC20120904,  WCOA,    34,  1,      7,2,20120909,0604, 45.5000,-124.3600,  182,     60.2,   7.7770,  33.4770,2,-999.0000,9,    140.3,2,    140.9,2,    32.90,2,    27.00,2,     0.00,2,     2.12,2,        0,2,   2178.6,2,   2233.6,2,  -999.00
  32WC20120904,  WCOA,    34,  1,      8,2,20120909,0606, 45.5000,-124.3600,  182,     50.4,   7.7360,  33.2180,2,-999.0000,9,    175.8,2,   -999.0,9,    27.90,2,    23.20,2,     0.00,2,     1.90,2,        0,2,   2145.7,2,   2218.4,2,  -999.00
  32WC20120904,  WCOA,    34,  1,      9,2,20120909,0607, 45.5000,-124.3600,  182,     39.7,   7.6220,  32.9190,2,-999.0000,9,    205.6,2,   -999.0,9,    25.30,2,    20.40,2,     0.10,2,     1.79,2,        0,2,   2118.8,2,   2203.3,2,  -999.00
  32WC20120904,  WCOA,    34,  1,     10,2,20120909,0608, 45.5000,-124.3600,  182,     31.8,   7.6880,  32.8250,2,-999.0000,9,    219.3,2,    221.8,2,    22.40,2,    18.10,2,     0.20,2,     1.66,2,        0,2,   2098.1,2,   2198.0,2,     0.30
  32WC20120904,  WCOA,    34,  1,     11,2,20120909,0609, 45.5000,-124.3600,  182,     20.3,   9.2390,  32.5880,2,-999.0000,9,    241.9,2,   -999.0,9,    15.60,2,    12.00,2,     0.20,2,     1.36,2,      0.7,2,   2061.0,2,   2190.4,2,  -999.00
  32WC20120904,  WCOA,    34,  1,     12,2,20120909,0611, 45.5000,-124.3600,  182,     15.8,   9.8850,  32.5430,2,-999.0000,9,    261.3,2,    258.7,2,    13.00,2,     9.40,2,     0.20,2,     1.20,2,      0.6,2,   2042.8,2,   2189.2,2,  -999.00
  32WC20120904,  WCOA,    34,  1,     13,2,20120909,0612, 45.5000,-124.3600,  182,     10.4,  12.6290,  32.2600,2,-999.0000,9,    300.4,2,   -999.0,9,     7.60,2,     1.80,2,     0.00,2,     0.67,2,      0.2,2,   1986.8,2,   2182.0,2,     1.32
  32WC20120904,  WCOA,    34,  1,     14,2,20120909,0613, 45.5000,-124.3600,  182,      3.4,  15.9930,  30.3180,2,  30.5500,4,    282.4,2,    266.8,2,     8.40,2,     0.10,2,     0.00,2,     0.31,2,        0,2,   1906.1,2,   2127.8,2,     0.61
  32WC20120904,  WCOA,    35,  1,      1,2,20120909,0359, 45.5000,-124.1200,   98,     88.0,   7.4910,  33.8170,2,  33.8110,2,     75.7,2,     74.6,2,    52.00,2,    32.80,2,     0.00,2,     2.58,2,        0,2,   2245.2,2,   2256.3,2,  -999.00
  32WC20120904,  WCOA,    35,  1,      2,2,20120909,0400, 45.5000,-124.1200,   98,     88.3,   7.4910,  33.8170,2,-999.0000,9,     75.8,2,   -999.0,9,  -999.00,9,  -999.00,9,  -999.00,9,  -999.00,9,     -999,9,   -999.0,9,   -999.0,9,  -999.00
  32WC20120904,  WCOA,    35,  1,      3,2,20120909,0401, 45.5000,-124.1200,   98,     79.7,   7.4900,  33.8180,2,-999.0000,9,     74.1,2,     74.5,2,    52.00,2,    32.90,2,     0.00,2,     2.58,2,        0,2,   2246.0,2,   2256.2,2,  -999.00
  32WC20120904,  WCOA,    35,  1,      4,2,20120909,0402, 45.5000,-124.1200,   98,     60.2,   7.8170,  33.7600,2,-999.0000,9,    116.4,2,    115.7,2,    37.30,2,    30.10,2,     0.00,2,     2.26,2,        0,2,   2206.0,2,   2247.7,2,  -999.00
  32WC20120904,  WCOA,    35,  1,      5,2,20120909,0403, 45.5000,-124.1200,   98,     50.9,   7.9640,  33.7000,2,-999.0000,9,    124.9,2,   -999.0,9,    34.90,2,    29.00,2,     0.10,2,     2.19,2,        0,2,   2197.2,2,   2242.7,2,  -999.00
  32WC20120904,  WCOA,    35,  1,      6,2,20120909,0404, 45.5000,-124.1200,   98,     40.7,   7.8730,  33.5680,2,-999.0000,9,    139.6,2,    136.8,2,    33.00,2,    27.50,2,     0.00,2,     2.11,2,        0,2,   2183.0,2,   2236.7,2,  -999.00
  32WC20120904,  WCOA,    35,  1,      7,2,20120909,0405, 45.5000,-124.1200,   98,     31.3,   7.8060,  33.4720,2,-999.0000,9,    143.4,2,   -999.0,9,    32.90,2,    27.00,2,     0.00,2,     2.10,2,        0,2,   2180.3,2,   2232.3,2,     0.07
  32WC20120904,  WCOA,    35,  1,      8,2,20120909,0406, 45.5000,-124.1200,   98,     19.9,   7.7910,  33.2910,2,-999.0000,9,    143.3,2,    145.7,2,    31.90,2,    26.10,2,     0.20,2,     2.10,2,        0,2,   2171.0,2,   2223.6,2,  -999.00
  32WC20120904,  WCOA,    35,  1,      9,2,20120909,0407, 45.5000,-124.1200,   98,     15.1,   8.2290,  33.1550,2,-999.0000,9,    166.5,2,   -999.0,9,    27.60,2,    23.30,2,     0.20,2,     1.96,2,      0.1,2,   2153.7,2,   2220.1,2,  -999.00
  32WC20120904,  WCOA,    35,  1,     10,2,20120909,0408, 45.5000,-124.1200,   98,     10.4,   9.4100,  33.1360,2,-999.0000,9,    203.0,2,    206.5,2,    24.40,2,    21.20,2,     0.30,2,     1.81,2,      0.1,2,   2136.1,2,   2226.2,3,     3.02
  32WC20120904,  WCOA,    35,  1,     11,2,20120909,0409, 45.5000,-124.1200,   98,      2.0,  10.1610,  33.0760,2,  33.0910,2,    209.4,2,    234.9,2,    23.30,2,    19.80,2,     0.30,2,     1.72,2,      0.1,2,   2121.6,2,   2228.0,3,     2.84
  32WC20120904,  WCOA,    36,  1,      1,2,20120909,0301, 45.5000,-124.0400,   55,     49.5,   8.0780,  33.6590,2,-999.0000,9,    122.6,2,    124.2,2,    44.00,2,    29.80,2,     0.30,2,     2.41,2,      0.4,2,   2216.9,6,   2250.3,2,  -999.00
  32WC20120904,  WCOA,    36,  1,      2,2,20120909,0301, 45.5000,-124.0400,   55,     49.5,   8.0780,  33.6590,2,-999.0000,9,    122.7,2,   -999.0,9,  -999.00,9,  -999.00,9,  -999.00,9,  -999.00,9,     -999,9,   -999.0,9,   2247.5,2,  -999.00
  32WC20120904,  WCOA,    36,  1,      3,2,20120909,0302, 45.5000,-124.0400,   55,     40.4,   8.0740,  33.6530,2,-999.0000,9,    124.2,2,    123.3,2,    43.50,2,    29.80,2,     0.20,2,     2.41,2,      0.4,2,   2215.4,2,   2249.7,2,  -999.00
  32WC20120904,  WCOA,    36,  1,      4,2,20120909,0303, 45.5000,-124.0400,   55,     30.2,   8.1260,  33.5640,2,-999.0000,9,    143.7,2,    134.7,2,    39.00,2,    28.70,2,     0.20,2,     2.30,2,      0.3,2,   2201.5,2,   2240.4,2,  -999.00
  32WC20120904,  WCOA,    36,  1,      5,2,20120909,0304, 45.5000,-124.0400,   55,     19.9,   7.8890,  33.3650,2,-999.0000,9,    116.2,2,    130.9,2,    33.90,2,    27.60,2,     0.20,2,     2.22,2,        0,2,   2186.1,2,   2227.6,2,  -999.00
  32WC20120904,  WCOA,    36,  1,      6,2,20120909,0305, 45.5000,-124.0400,   55,     15.0,   8.0360,  33.1380,2,-999.0000,9,    170.2,2,    160.3,2,    29.50,2,    24.20,2,     0.30,2,     2.03,2,      0.1,2,   2156.8,2,   2219.8,2,  -999.00
  32WC20120904,  WCOA,    36,  1,      7,2,20120909,0306, 45.5000,-124.0400,   55,     10.2,  10.0440,  32.9650,2,-999.0000,9,    246.1,2,    224.5,2,    22.50,2,    18.80,2,     0.30,2,     1.68,2,      0.1,2,   2111.9,2,   2217.1,2,  -999.00
  32WC20120904,  WCOA,    36,  1,      8,2,20120909,0307, 45.5000,-124.0400,   55,      2.0,  10.8250,  32.7090,2,  32.7420,2,    249.5,2,    249.2,2,    21.30,2,    16.40,2,     0.20,2,     1.52,2,        0,2,   2086.2,2,   2209.5,2,  -999.00
  32WC20120904,  WCOA,    37,  1,      1,2,20120909,2146, 45.0000,-124.0700,   47,     46.5,   8.0330,  33.5950,2,-999.0000,9,    129.4,2,    137.8,2,    41.80,2,    31.50,2,     0.20,2,     2.44,2,      0.3,2,   2208.4,2,   2246.5,2,  -999.00
  32WC20120904,  WCOA,    37,  1,      2,2,20120909,2147, 45.0000,-124.0700,   47,     46.6,   8.0360,  33.5950,2,-999.0000,9,    129.4,2,   -999.0,9,  -999.00,9,  -999.00,9,  -999.00,9,  -999.00,9,     -999,9,   -999.0,9,   -999.0,9,  -999.00
  32WC20120904,  WCOA,    37,  1,      3,2,20120909,2149, 45.0000,-124.0700,   47,     40.7,   8.1410,  33.5620,2,-999.0000,9,    135.0,2,    136.9,2,    39.90,2,    30.90,2,     0.20,2,     2.38,2,      0.3,2,   2200.8,2,   2246.2,2,  -999.00
  32WC20120904,  WCOA,    37,  1,      4,2,20120909,2150, 45.0000,-124.0700,   47,     30.0,   7.9570,  33.4550,2,-999.0000,9,    141.8,2,    143.4,2,    32.90,2,    29.50,2,     0.10,2,     2.20,2,        0,2,   2179.2,2,   2232.6,2,  -999.00
  32WC20120904,  WCOA,    37,  1,      5,2,20120909,2151, 45.0000,-124.0700,   47,     20.4,   9.2230,  33.0450,2,-999.0000,9,    210.1,2,    195.2,2,    25.40,2,    23.40,2,     0.20,2,     1.87,2,      0.1,2,   2136.4,2,   2224.9,2,  -999.00
  32WC20120904,  WCOA,    37,  1,      6,2,20120909,2152, 45.0000,-124.0700,   47,     15.6,  10.1840,  32.7420,2,-999.0000,9,    251.6,2,    239.0,2,    18.60,2,    16.00,2,     0.20,2,     1.38,2,      0.1,2,   2079.7,2,   2209.7,2,  -999.00
  32WC20120904,  WCOA,    37,  1,      7,2,20120909,2153, 45.0000,-124.0700,   47,     10.6,  11.4620,  32.3780,2,-999.0000,9,    266.3,2,    262.3,2,    14.70,2,    10.10,2,     0.10,2,     1.01,2,        0,2,   2032.8,2,   2195.1,2,  -999.00
  32WC20120904,  WCOA,    37,  1,      8,2,20120909,2153, 45.0000,-124.0700,   47,      2.2,  13.1020,  31.8750,2,  31.9050,2,    276.6,2,    274.8,2,    11.00,2,     4.30,2,     0.00,2,     0.65,2,      0.1,2,   1979.9,6,   2178.0,6,  -999.00