BOTTLE,20180213PRINUNIVRMK
EXPOCODE,SECT_ID,STNNBR,CASTNO,BTLNBR,BTLNBR_FLAG_W,DATE,TIME,LATITUDE,LONGITUDE,DEPTH,CTDPRS,CTDTMP,CTDSAL,CTDSAL_FLAG_W,SALNTY,SALNTY_FLAG_W,CTDOXY,CTDOXY_FLAG_W,OXYGEN,OXYGEN_FLAG_W,SILCAT,SILCAT_FLAG_W,NITRAT,NITRAT_FLAG_W,NITRIT,NITRIT_FLAG_W,PHSPHT,PHSPHT_FLAG_W,NH4,NH4_FLAG_W,TCARBN,TCARBN_FLAG_W,ALKALI,ALKALI_FLAG_W,CHLORA
,,,,,,,,,,METERS,DBAR,ITS-90,PSS-78,,PSS-78,,UMOL/KG,,UMOL/KG,,UMOL/KG,,UMOL/KG,,UMOL/KG,,UMOL/KG,,UMOL/KG,,UMOL/KG,,UMOL/KG,,UG/KG
  32WC20120904,  WCOA,    46,  1,      1,2,20120910,2201, 44.6500,-124.7900,  267,    274.0,   7.1830,  33.9880,2,  33.9900,2,     77.8,2,     77.4,2,    50.70,2,    36.90,2,     0.10,2,     2.64,2,        0,2,   2247.2,2,   2270.5,2,  -999.00
  32WC20120904,  WCOA,    46,  1,      2,2,20120910,2203, 44.6500,-124.7900,  267,    199.7,   7.4090,  33.9780,2,-999.0000,9,     81.1,2,     80.7,2,    48.70,2,    36.60,2,     0.00,2,     2.63,2,        0,2,   2242.8,2,   2267.3,2,  -999.00
  32WC20120904,  WCOA,    46,  1,      3,2,20120910,2206, 44.6500,-124.7900,  267,    149.6,   7.6490,  33.9220,2,-999.0000,9,    101.1,2,   -999.0,9,    43.00,2,    34.50,2,     0.10,2,     2.49,2,        0,2,   2224.4,2,   2259.4,2,  -999.00
  32WC20120904,  WCOA,    46,  1,      4,2,20120910,2208, 44.6500,-124.7900,  267,    130.0,   7.6240,  33.8850,2,-999.0000,9,    102.3,2,    105.6,2,    42.60,2,    34.40,2,     0.00,2,     2.48,2,        0,2,   2224.8,2,   2257.5,2,  -999.00
  32WC20120904,  WCOA,    46,  1,      5,2,20120910,2210, 44.6500,-124.7900,  267,    100.4,   7.7490,  33.7830,2,-999.0000,9,    114.1,2,   -999.0,9,    39.40,2,    32.70,2,     0.00,2,     2.41,2,        0,2,   2210.1,2,   2249.9,2,  -999.00
  32WC20120904,  WCOA,    46,  1,      6,2,20120910,2212, 44.6500,-124.7900,  267,     79.7,   7.9020,  33.6560,2,-999.0000,9,    131.5,2,    129.3,2,    35.70,2,    30.80,2,     0.00,2,     2.30,2,        0,2,   2194.5,2,   2242.4,2,  -999.00
  32WC20120904,  WCOA,    46,  1,      7,2,20120910,2213, 44.6500,-124.7900,  267,     60.7,   8.1500,  33.3500,2,-999.0000,9,    162.8,2,   -999.0,9,    28.60,2,    26.30,2,     0.00,2,     2.08,2,        0,2,   2157.3,2,   2226.5,2,  -999.00
  32WC20120904,  WCOA,    46,  1,      8,2,20120910,2214, 44.6500,-124.7900,  267,     51.1,   8.3090,  33.1440,2,-999.0000,9,    194.8,2,   -999.0,9,    24.30,2,    22.90,2,     0.00,2,     1.89,2,        0,2,   2131.4,2,   2214.7,2,  -999.00
  32WC20120904,  WCOA,    46,  1,      9,2,20120910,2216, 44.6500,-124.7900,  267,     40.1,   8.4300,  32.9360,2,-999.0000,9,    217.2,2,    216.0,2,    19.70,2,    18.50,2,     0.00,2,     1.67,2,        0,2,   2098.7,2,   2202.6,2,  -999.00
  32WC20120904,  WCOA,    46,  1,     10,2,20120910,2217, 44.6500,-124.7900,  267,     30.0,   8.5950,  32.8540,2,-999.0000,9,    228.3,2,    225.9,2,    17.80,2,    16.70,2,     0.10,2,     1.56,2,        0,2,   2086.6,2,   2198.4,2,     0.04
  32WC20120904,  WCOA,    46,  1,     11,2,20120910,2219, 44.6500,-124.7900,  267,     20.1,   9.9860,  32.5040,2,-999.0000,9,    255.1,2,    259.9,2,    11.90,2,     9.00,2,     0.20,2,     1.20,2,      0.3,2,   2038.7,2,   2187.4,2,  -999.00
  32WC20120904,  WCOA,    46,  1,     12,2,20120910,2219, 44.6500,-124.7900,  267,     15.8,  11.9370,  32.2570,2,-999.0000,9,    285.3,2,   -999.0,9,     9.40,2,     5.70,2,     0.20,2,     0.97,2,      0.4,2,   2016.5,2,   2185.9,2,  -999.00
  32WC20120904,  WCOA,    46,  1,     13,2,20120910,2222, 44.6500,-124.7900,  267,     10.7,  12.8560,  32.1410,2,  32.0880,4,    289.8,2,    289.6,2,     4.00,2,     0.60,2,     0.10,2,     0.47,2,      0.1,2,   1962.8,2,   2182.4,2,     1.28
  32WC20120904,  WCOA,    46,  1,     14,2,20120910,2223, 44.6500,-124.7900,  267,      2.4,  14.3170,  31.9830,2,-999.0000,9,    282.0,2,    281.2,2,     4.20,2,     0.20,2,     0.00,2,     0.39,2,        0,2,   1949.8,2,   2180.3,6,     0.78
  32WC20120904,  WCOA,    47,  1,      1,2,20120911,0000, 44.6500,-124.6000,  198,    188.1,   7.4520,  33.9350,2,  33.9230,2,     75.5,2,     75.7,2,    48.90,2,    36.10,2,     0.10,2,     2.65,2,      0.2,2,   2244.3,2,   2263.9,2,  -999.00
  32WC20120904,  WCOA,    47,  1,      2,2,20120911,0000, 44.6500,-124.6000,  198,    187.9,   7.4520,  33.9350,2,-999.0000,9,     75.5,2,   -999.0,9,  -999.00,9,  -999.00,9,  -999.00,9,  -999.00,9,     -999,9,   -999.0,9,   -999.0,9,  -999.00
  32WC20120904,  WCOA,    47,  1,      3,2,20120911,0002, 44.6500,-124.6000,  198,    150.2,   7.6080,  33.9430,2,-999.0000,9,     86.7,2,     85.8,2,    45.60,2,    35.40,2,     0.00,2,     2.56,2,        0,2,   2236.2,2,   2264.8,2,  -999.00
  32WC20120904,  WCOA,    47,  1,      4,2,20120911,0004, 44.6500,-124.6000,  198,    120.7,   7.6400,  33.8860,2,-999.0000,9,     98.6,2,   -999.0,9,    43.60,2,    34.50,2,     0.00,2,     2.48,2,        0,2,   2227.9,2,   2257.7,2,  -999.00
  32WC20120904,  WCOA,    47,  1,      5,2,20120911,0005, 44.6500,-124.6000,  198,     99.9,   7.8630,  33.8230,2,-999.0000,9,    106.6,2,    116.0,2,    39.50,2,    32.90,2,     0.00,2,     2.35,2,        0,2,   2212.6,2,   2253.9,2,  -999.00
  32WC20120904,  WCOA,    47,  1,      6,2,20120911,0007, 44.6500,-124.6000,  198,     79.4,   7.8980,  33.6640,2,-999.0000,9,    128.5,2,   -999.0,9,    35.40,2,    30.50,2,     0.00,2,     2.25,2,        0,2,   2191.7,2,   2241.6,2,  -999.00
  32WC20120904,  WCOA,    47,  1,      7,2,20120911,0008, 44.6500,-124.6000,  198,     57.7,   7.9190,  33.3680,2,-999.0000,9,    149.3,2,    149.7,2,    31.30,2,    27.60,2,     0.00,2,     2.13,2,        0,2,   2166.6,2,   2226.1,2,  -999.00
  32WC20120904,  WCOA,    47,  1,      8,2,20120911,0009, 44.6500,-124.6000,  198,     50.4,   7.9250,  33.2270,2,-999.0000,9,    164.6,2,   -999.0,9,    28.80,2,    25.10,2,     0.10,2,     2.02,2,      0.1,2,   2150.7,2,   2218.8,2,  -999.00
  32WC20120904,  WCOA,    47,  1,      9,2,20120911,0010, 44.6500,-124.6000,  198,     40.4,   8.1590,  32.9960,2,-999.0000,9,    203.7,2,   -999.0,9,    24.00,2,    21.40,2,     0.10,2,     1.83,2,      0.2,2,   2123.1,2,   2211.0,2,  -999.00
  32WC20120904,  WCOA,    47,  1,     10,2,20120911,0011, 44.6500,-124.6000,  198,     30.2,   8.1720,  32.7850,2,-999.0000,9,    220.1,2,    224.5,2,    19.60,2,    17.10,2,     0.10,2,     1.62,2,      0.1,2,   2089.7,2,   2197.6,2,     0.44
  32WC20120904,  WCOA,    47,  1,     11,2,20120911,0012, 44.6500,-124.6000,  198,     20.7,   9.0660,  32.6060,2,-999.0000,9,    251.0,2,   -999.0,9,    14.90,2,    12.80,2,     0.30,2,     1.39,2,      0.2,2,   2061.1,2,   2192.0,2,  -999.00
  32WC20120904,  WCOA,    47,  1,     12,2,20120911,0013, 44.6500,-124.6000,  198,     15.8,   9.6120,  32.5410,2,-999.0000,9,    268.3,2,    261.4,2,    12.10,2,    10.20,2,     0.20,2,     1.22,2,      0.2,2,   2045.1,2,   2190.4,2,  -999.00
  32WC20120904,  WCOA,    47,  1,     13,2,20120911,0014, 44.6500,-124.6000,  198,     11.2,  10.1510,  32.4650,2,  32.4760,2,    278.9,2,   -999.0,9,    10.40,2,     7.50,2,     0.20,2,     1.07,2,      0.1,2,   2026.3,2,   2186.7,2,     1.40
  32WC20120904,  WCOA,    47,  1,     14,2,20120911,0015, 44.6500,-124.6000,  198,      3.3,  13.8820,  31.9740,2,-999.0000,9,    282.7,2,    282.5,2,     7.00,2,     1.20,2,     0.00,2,     0.57,2,        0,2,   1965.3,2,   2175.3,6,     0.83
  32WC20120904,  WCOA,    48,  1,      1,2,20120911,0308, 44.6600,-124.3500,   86,     78.8,   7.4490,  33.8650,2,-999.0000,9,     26.7,2,     28.5,2,    70.90,2,    34.60,2,     0.10,2,     2.92,2,        0,2,   2284.4,2,   2262.5,2,  -999.00
  32WC20120904,  WCOA,    48,  1,      2,2,20120911,0308, 44.6600,-124.3500,   86,     79.0,   7.4490,  33.8650,2,-999.0000,9,     26.6,2,   -999.0,9,  -999.00,9,  -999.00,9,  -999.00,9,  -999.00,9,     -999,9,   -999.0,9,   -999.0,9,  -999.00
  32WC20120904,  WCOA,    48,  1,      3,2,20120911,0309, 44.6600,-124.3500,   86,     75.6,   7.4500,  33.8650,2,-999.0000,9,     25.1,2,   -999.0,9,    70.90,2,    34.50,2,     0.10,2,     2.92,2,        0,2,   2286.3,2,   2261.1,2,  -999.00
  32WC20120904,  WCOA,    48,  1,      4,2,20120911,0310, 44.6600,-124.3500,   86,     70.0,   7.5290,  33.8070,2,-999.0000,9,     38.1,2,   -999.0,9,    64.10,2,    34.00,2,     0.00,2,     2.82,2,        0,2,   2269.7,2,   2256.6,2,  -999.00
  32WC20120904,  WCOA,    48,  1,      5,2,20120911,0311, 44.6600,-124.3500,   86,     60.1,   7.7660,  33.6240,2,-999.0000,9,     99.8,2,    100.4,2,    44.50,2,    30.80,2,     0.10,2,     2.41,2,        0,2,   2219.0,2,   2242.6,2,  -999.00
  32WC20120904,  WCOA,    48,  1,      6,2,20120911,0313, 44.6600,-124.3500,   86,     50.9,   7.8750,  33.5290,2,-999.0000,9,    133.3,2,   -999.0,9,    36.00,2,    28.50,2,     0.00,2,     2.20,2,        0,2,   2188.7,2,   2237.2,2,  -999.00
  32WC20120904,  WCOA,    48,  1,      7,2,20120911,0315, 44.6600,-124.3500,   86,     40.9,   7.9080,  33.3100,2,-999.0000,9,    161.7,2,   -999.0,9,    29.40,2,    24.90,2,     0.00,2,     1.97,2,        0,2,   2153.5,2,   2221.3,2,  -999.00
  32WC20120904,  WCOA,    48,  1,      8,2,20120911,0317, 44.6600,-124.3500,   86,     30.5,   7.8950,  33.2000,2,-999.0000,9,    170.4,2,    173.3,2,    27.50,2,    23.70,2,     0.00,2,     1.90,2,        0,2,   2143.4,2,   2218.6,2,     0.13
  32WC20120904,  WCOA,    48,  1,      9,2,20120911,0318, 44.6600,-124.3500,   86,     21.3,   8.1450,  32.8790,2,-999.0000,9,    212.2,2,   -999.0,9,    20.90,2,    18.40,2,     0.20,2,     1.64,2,        0,2,   2104.9,2,   2204.2,2,  -999.00
  32WC20120904,  WCOA,    48,  1,     10,2,20120911,0319, 44.6600,-124.3500,   86,     15.8,   9.5080,  32.6350,2,-999.0000,9,    248.3,2,   -999.0,9,    13.90,2,    11.80,2,     0.20,2,     1.24,2,      0.1,2,   2059.6,2,   2197.8,2,  -999.00
  32WC20120904,  WCOA,    48,  1,     11,2,20120911,0320, 44.6600,-124.3500,   86,     10.7,  11.7270,  32.4480,2,  32.4450,2,    291.6,2,    108.2,3,     9.50,2,     3.90,2,     0.10,2,     0.71,2,        0,2,   1995.7,2,   2198.4,2,     4.45
  32WC20120904,  WCOA,    48,  1,     12,2,20120911,0321, 44.6600,-124.3500,   86,      2.3,  12.4730,  32.3890,2,-999.0000,9,    291.8,2,    296.1,2,    10.20,2,     3.70,2,     0.10,2,     0.66,2,        0,2,   1991.3,2,   2195.9,6,     3.90
  32WC20120904,  WCOA,    49,  1,      1,2,20120911,0506, 44.6600,-124.1400,   45,     42.5,   7.9310,  33.7170,2,-999.0000,9,    106.2,2,    298.0,3,    47.20,2,    31.10,2,     0.30,2,     2.52,2,      0.5,2,   2228.6,2,   2251.6,2,  -999.00
  32WC20120904,  WCOA,    49,  1,      2,2,20120911,0507, 44.6600,-124.1400,   45,     42.4,   7.9300,  33.7120,2,-999.0000,9,    110.5,2,   -999.0,9,  -999.00,9,  -999.00,9,  -999.00,9,  -999.00,9,     -999,9,   -999.0,9,   -999.0,9,  -999.00
  32WC20120904,  WCOA,    49,  1,      3,2,20120911,0508, 44.6600,-124.1400,   45,     35.9,   8.1190,  33.6940,2,-999.0000,9,    123.9,2,    120.0,2,    46.20,2,    30.80,2,     0.30,2,     2.50,2,      0.6,2,   2223.9,2,   2252.4,2,  -999.00
  32WC20120904,  WCOA,    49,  1,      4,2,20120911,0509, 44.6600,-124.1400,   45,     30.8,   7.9070,  33.5380,2,-999.0000,9,    133.3,2,   -999.0,9,    35.20,2,    28.70,2,     0.20,2,     2.21,2,      0.2,2,   2191.0,2,   2237.9,2,  -999.00
  32WC20120904,  WCOA,    49,  1,      5,2,20120911,0510, 44.6600,-124.1400,   45,     20.7,   8.1440,  33.4630,2,-999.0000,9,    141.1,2,    158.4,2,    29.90,2,    25.80,2,     0.20,2,     1.95,2,      0.1,2,   2168.9,2,   2233.2,2,  -999.00
  32WC20120904,  WCOA,    49,  1,      6,2,20120911,0511, 44.6600,-124.1400,   45,     15.7,   8.1890,  33.4600,2,-999.0000,9,    144.7,2,   -999.0,9,    29.10,2,    25.10,2,     0.20,2,     1.99,2,      0.1,2,   2163.0,2,   2234.1,2,  -999.00
  32WC20120904,  WCOA,    49,  1,      7,2,20120911,0511, 44.6600,-124.1400,   45,     10.5,   9.2500,  33.3490,2,  33.3550,2,    236.2,2,    210.3,2,    25.90,2,    21.60,2,     0.20,2,     1.81,2,      0.1,2,   2137.5,2,   2234.2,2,  -999.00
  32WC20120904,  WCOA,    49,  1,      8,2,20120911,0512, 44.6600,-124.1400,   45,      3.5,  10.1910,  33.1980,2,-999.0000,9,    264.2,2,   -999.0,9,    24.70,2,    18.50,2,     0.20,2,     1.58,2,      0.1,2,   2106.2,2,   2232.7,6,  -999.00
  32WC20120904,  WCOA,    50,  1,      1,2,20120911,2158, 44.2100,-124.9800,  337,    324.8,   6.7630,  34.0200,2,  34.0210,2,     68.2,2,     68.6,2,    56.30,2,    36.20,2,     0.10,2,     2.60,2,        0,2,   2257.8,2,   2277.8,2,  -999.00
  32WC20120904,  WCOA,    50,  1,      2,2,20120911,2158, 44.2100,-124.9800,  337,    325.9,   6.7630,  34.0200,2,-999.0000,9,     67.5,2,   -999.0,9,  -999.00,9,  -999.00,9,  -999.00,9,  -999.00,9,     -999,9,   -999.0,9,   -999.0,9,  -999.00
  32WC20120904,  WCOA,    50,  1,      3,2,20120911,2159, 44.2100,-124.9800,  337,    298.7,   6.7400,  34.0170,2,-999.0000,9,     67.2,2,     69.4,2,    56.30,2,    36.20,2,     0.00,2,     2.61,2,        0,2,   2255.6,2,   2277.9,2,  -999.00
  32WC20120904,  WCOA,    50,  1,      4,2,20120911,2202, 44.2100,-124.9800,  337,    201.6,   7.5830,  33.8920,2,-999.0000,9,     73.8,2,     72.8,2,    48.70,2,    34.50,2,     0.20,2,     2.56,2,      0.1,2,   2243.9,2,   2258.4,2,  -999.00
  32WC20120904,  WCOA,    50,  1,      5,2,20120911,2204, 44.2100,-124.9800,  337,    151.5,   7.6710,  33.8590,2,-999.0000,9,     74.6,2,     83.3,2,    46.50,2,    33.70,2,     0.20,2,     2.50,2,        0,2,   2236.0,2,   2256.0,2,  -999.00
  32WC20120904,  WCOA,    50,  1,      6,2,20120911,2206, 44.2100,-124.9800,  337,    123.0,   7.7040,  33.8030,2,-999.0000,9,     85.5,2,   -999.0,9,    44.50,2,    33.20,2,     0.20,2,     2.49,2,        0,2,   2230.3,2,   2251.5,2,  -999.00
  32WC20120904,  WCOA,    50,  1,      7,2,20120911,2207, 44.2100,-124.9800,  337,    101.0,   7.8260,  33.6670,2,-999.0000,9,    109.6,2,    109.7,2,    39.50,2,    30.80,2,     0.00,2,     2.33,2,        0,2,   2207.6,2,   2244.0,2,  -999.00
  32WC20120904,  WCOA,    50,  1,      8,2,20120911,2209, 44.2100,-124.9800,  337,     82.3,   8.0770,  33.5120,2,-999.0000,9,    135.9,2,   -999.0,9,    32.60,2,    27.60,2,     0.10,2,     2.16,2,        0,2,   2181.1,2,   2231.6,2,  -999.00
  32WC20120904,  WCOA,    50,  1,      9,2,20120911,2210, 44.2100,-124.9800,  337,     59.9,   8.6240,  33.4080,2,-999.0000,9,    175.2,2,    180.6,2,    25.70,2,    23.50,2,     0.10,2,     1.87,2,        0,2,   2146.5,2,   2225.4,2,  -999.00
  32WC20120904,  WCOA,    50,  1,     10,2,20120911,2211, 44.2100,-124.9800,  337,     50.7,   8.9670,  33.1710,2,-999.0000,9,    195.4,2,   -999.0,9,    21.20,2,    20.30,2,     0.40,2,     1.73,2,      0.2,2,   2124.4,2,   2217.6,2,  -999.00
  32WC20120904,  WCOA,    50,  1,     11,2,20120911,2212, 44.2100,-124.9800,  337,     41.7,   9.6240,  32.9660,2,-999.0000,9,    234.7,2,    231.8,2,    14.80,2,    13.60,2,     0.40,2,     1.37,2,      0.7,2,   2079.2,2,   2208.7,2,  -999.00
  32WC20120904,  WCOA,    50,  1,     12,2,20120911,2213, 44.2100,-124.9800,  337,     31.6,  10.3460,  32.8440,2,-999.0000,9,    241.4,2,   -999.0,9,    10.60,2,     9.30,2,     0.30,2,     1.11,2,      0.9,2,   2047.8,2,   2204.9,2,  -999.00
  32WC20120904,  WCOA,    50,  1,     13,2,20120911,2214, 44.2100,-124.9800,  337,     20.3,  12.6720,  32.6020,2,-999.0000,9,    276.3,2,    275.2,2,     6.40,2,     3.70,2,     0.10,2,     0.66,2,      0.2,2,   2000.4,2,   2201.8,2,  -999.00
  32WC20120904,  WCOA,    50,  1,     14,2,20120911,2215, 44.2100,-124.9800,  337,     16.5,  13.1690,  32.4090,2,-999.0000,9,    280.9,2,   -999.0,9,     5.70,2,     2.00,2,     0.10,2,     0.53,2,      0.1,2,   1979.0,2,   2196.0,2,  -999.00
  32WC20120904,  WCOA,    50,  1,     15,2,20120911,2216, 44.2100,-124.9800,  337,      9.0,  13.2030,  32.3900,2,  32.3920,2,    282.6,2,    280.5,2,     5.90,2,     1.90,2,     0.10,2,     0.52,2,      0.1,2,   1977.9,2,   2193.2,2,  -999.00
  32WC20120904,  WCOA,    50,  1,     16,2,20120911,2217, 44.2100,-124.9800,  337,      2.0,  13.2070,  32.3920,2,-999.0000,9,    282.3,2,    280.6,2,     5.90,2,     1.80,2,     0.10,2,     0.51,2,      0.1,2,   1978.2,2,   2194.0,6,  -999.00
  32WC20120904,  WCOA,    51,  1,      1,2,20120911,1248, 44.2000,-124.5800,  104,     95.6,   7.5390,  33.8850,2,  33.8880,2,     26.7,2,     27.4,2,    69.00,2,    36.10,2,     0.00,2,     2.85,2,        0,2,   2284.6,6,   2261.2,6,  -999.00
  32WC20120904,  WCOA,    51,  1,      2,2,20120911,1248, 44.2000,-124.5800,  104,     95.6,   7.5390,  33.8850,2,-999.0000,9,     26.8,2,   -999.0,9,  -999.00,9,  -999.00,9,  -999.00,9,  -999.00,9,     -999,9,   -999.0,9,   -999.0,9,  -999.00
  32WC20120904,  WCOA,    51,  1,      3,2,20120911,1249, 44.2000,-124.5800,  104,     92.1,   7.5390,  33.8850,2,-999.0000,9,     27.1,2,     27.9,2,    68.80,2,    36.10,2,     0.00,2,     2.85,2,        0,2,   2283.4,6,   2261.5,6,  -999.00
  32WC20120904,  WCOA,    51,  1,      4,2,20120911,1250, 44.2000,-124.5800,  104,     86.6,   7.5420,  33.8840,2,-999.0000,9,     31.7,2,     30.3,2,    67.30,2,    36.20,2,     0.00,2,     2.84,2,        0,2,   2281.6,6,   2261.0,6,  -999.00
  32WC20120904,  WCOA,    51,  1,      5,2,20120911,1251, 44.2000,-124.5800,  104,     81.0,   7.5820,  33.8710,2,-999.0000,9,     47.4,2,   -999.0,9,    58.00,2,    36.00,2,     0.20,2,     2.75,2,        0,2,   2265.5,2,   2259.3,2,  -999.00
  32WC20120904,  WCOA,    51,  1,      6,2,20120911,1252, 44.2000,-124.5800,  104,     60.5,   7.8550,  33.7500,2,-999.0000,9,    117.0,2,    113.4,2,    36.90,2,    31.00,2,     0.20,2,     2.30,2,        0,2,   2204.7,2,   2248.9,2,  -999.00
  32WC20120904,  WCOA,    51,  1,      7,2,20120911,1254, 44.2000,-124.5800,  104,     50.3,   7.8270,  33.6410,2,-999.0000,9,     99.6,2,   -999.0,9,    38.60,2,    32.60,2,     0.20,2,     2.46,2,        0,2,   2218.2,2,   2242.8,2,  -999.00
  32WC20120904,  WCOA,    51,  1,      8,2,20120911,1255, 44.2000,-124.5800,  104,     40.8,   8.0080,  33.4970,2,-999.0000,9,    132.3,2,    128.2,2,    32.20,2,    28.70,2,     0.30,2,     2.26,2,      0.5,2,   2190.4,2,   2234.4,2,  -999.00
  32WC20120904,  WCOA,    51,  1,      9,2,20120911,1256, 44.2000,-124.5800,  104,     30.9,   9.2510,  33.2630,2,-999.0000,9,    188.6,2,    251.2,3,    18.70,2,    19.40,2,     0.30,2,     1.86,2,      2.7,2,   2140.9,2,   2235.1,3,  -999.00
  32WC20120904,  WCOA,    51,  1,     10,2,20120911,1257, 44.2000,-124.5800,  104,     20.9,  10.7100,  33.0960,2,-999.0000,9,    252.6,2,   -999.0,9,     8.40,2,     9.00,2,     0.20,2,     1.14,2,      2.3,2,   2060.3,2,   2235.7,3,  -999.00
  32WC20120904,  WCOA,    51,  1,     11,2,20120911,1258, 44.2000,-124.5800,  104,     15.3,  11.2140,  32.7470,2,-999.0000,9,    287.3,2,   -999.0,9,     5.40,2,     4.30,2,     0.20,2,     0.64,2,      0.7,2,   2008.9,2,   2214.9,2,  -999.00
  32WC20120904,  WCOA,    51,  1,     12,2,20120911,1259, 44.2000,-124.5800,  104,     11.6,  11.6990,  32.6450,2,  32.6330,2,    299.2,2,    294.9,2,     4.60,2,     3.20,2,     0.20,2,     0.52,2,      0.4,2,   2000.9,2,   2211.4,2,  -999.00
  32WC20120904,  WCOA,    51,  1,     13,2,20120911,1300, 44.2000,-124.5800,  104,      3.3,  11.6990,  32.6440,2,-999.0000,9,    298.8,2,    295.9,2,     4.40,2,     3.10,2,     0.20,2,     0.50,2,      0.4,2,   1998.0,6,   2211.3,6,  -999.00