BOTTLE,20180213PRINUNIVRMK
EXPOCODE,SECT_ID,STNNBR,CASTNO,BTLNBR,BTLNBR_FLAG_W,DATE,TIME,LATITUDE,LONGITUDE,DEPTH,CTDPRS,CTDTMP,CTDSAL,CTDSAL_FLAG_W,SALNTY,SALNTY_FLAG_W,CTDOXY,CTDOXY_FLAG_W,OXYGEN,OXYGEN_FLAG_W,SILCAT,SILCAT_FLAG_W,NITRAT,NITRAT_FLAG_W,NITRIT,NITRIT_FLAG_W,PHSPHT,PHSPHT_FLAG_W,NH4,NH4_FLAG_W,TCARBN,TCARBN_FLAG_W,ALKALI,ALKALI_FLAG_W,CHLORA
,,,,,,,,,,METERS,DBAR,ITS-90,PSS-78,,PSS-78,,UMOL/KG,,UMOL/KG,,UMOL/KG,,UMOL/KG,,UMOL/KG,,UMOL/KG,,UMOL/KG,,UMOL/KG,,UMOL/KG,,UG/KG
  32WC20120904,  WCOA,    63,  1,      1,2,20120913,0919, 41.9700,-124.4800,   89,     80.8,   8.7370,  33.8250,2,-999.0000,9,    122.7,2,    123.6,2,    38.00,2,    28.70,2,     0.20,2,     2.20,2,        0,2,   2204.4,2,   2252.0,2,  -999.00
  32WC20120904,  WCOA,    63,  1,      2,2,20120913,0920, 41.9700,-124.4800,   89,     60.7,   8.9490,  33.7730,2,-999.0000,9,    144.7,2,   -999.0,9,    35.70,2,    28.00,2,     0.30,2,     2.15,2,      0.1,2,   2196.3,2,   2250.3,2,  -999.00
  32WC20120904,  WCOA,    63,  1,      3,2,20120913,0921, 41.9700,-124.4800,   89,     51.0,   9.2230,  33.7150,2,-999.0000,9,    167.4,2,    166.9,2,    32.20,2,    25.80,2,     0.30,2,     2.02,2,      0.5,2,   2178.7,2,   2248.4,2,  -999.00
  32WC20120904,  WCOA,    63,  1,      4,2,20120913,0923, 41.9700,-124.4800,   89,     40.2,   9.3710,  33.6880,2,-999.0000,9,    176.2,2,   -999.0,9,    31.10,2,    24.90,2,     0.30,2,     1.99,2,      0.6,2,   2173.8,2,   2246.1,2,  -999.00
  32WC20120904,  WCOA,    63,  1,      5,2,20120913,0924, 41.9700,-124.4800,   89,     30.0,   9.5010,  33.6540,2,-999.0000,9,    189.3,2,    189.2,2,    28.90,2,    23.60,2,     0.30,2,     1.89,2,      0.5,2,   2162.1,2,   2243.2,2,     0.66
  32WC20120904,  WCOA,    63,  1,      6,2,20120913,0925, 41.9700,-124.4800,   89,     20.1,   9.6280,  33.6290,2,-999.0000,9,    197.1,2,   -999.0,9,    27.90,2,    23.00,2,     0.30,2,     1.83,2,      0.4,2,   2156.5,2,   2242.7,2,  -999.00
  32WC20120904,  WCOA,    63,  1,      7,2,20120913,0926, 41.9700,-124.4800,   89,     15.2,   9.7250,  33.6130,2,-999.0000,9,    203.7,2,    202.6,2,    27.10,2,    22.20,2,     0.30,2,     1.79,2,      0.3,2,   2148.5,2,   2243.7,2,  -999.00
  32WC20120904,  WCOA,    63,  1,      8,2,20120913,0927, 41.9700,-124.4800,   89,     10.2,   9.8210,  33.6000,2,-999.0000,9,    212.7,2,   -999.0,9,    26.10,2,    21.60,2,     0.30,2,     1.74,2,      0.2,2,   2143.1,2,   2241.5,2,     0.90
  32WC20120904,  WCOA,    63,  1,      9,2,20120913,0928, 41.9700,-124.4800,   89,      2.5,  10.3220,  33.5750,2,  33.5750,2,    221.2,2,    221.6,2,    25.10,2,    20.80,2,     0.30,2,     1.68,2,      0.2,2,   2135.3,6,   2240.6,6,     0.91
  32WC20120904,  WCOA,    64,  1,      1,2,20120913,0743, 42.0000,-124.3500,   47,     39.0,   8.7890,  33.8060,2,-999.0000,9,    132.5,2,    138.4,2,    37.10,2,    28.00,2,     0.20,2,     2.15,2,      0.3,2,   2199.7,2,   2252.3,2,  -999.00
  32WC20120904,  WCOA,    64,  1,      2,2,20120913,0744, 42.0000,-124.3500,   47,     30.1,   8.9240,  33.7840,2,-999.0000,9,    140.7,2,   -999.0,9,    36.60,2,    27.70,2,     0.20,2,     2.15,2,      0.4,2,   -999.0,9,   2251.0,2,     0.19
  32WC20120904,  WCOA,    64,  1,      3,2,20120913,0745, 42.0000,-124.3500,   47,     20.6,   9.0450,  33.7640,2,-999.0000,9,    149.0,2,    150.8,2,    36.10,2,    26.90,2,     0.30,2,     2.14,2,      0.9,2,   2195.8,6,   2250.8,2,  -999.00
  32WC20120904,  WCOA,    64,  1,      4,2,20120913,0746, 42.0000,-124.3500,   47,     15.4,   9.1500,  33.7500,2,-999.0000,9,    156.6,2,   -999.0,9,    36.00,2,    26.30,2,     0.30,2,     2.13,2,      1.2,2,   2191.0,2,   2250.8,2,  -999.00
  32WC20120904,  WCOA,    64,  1,      5,2,20120913,0747, 42.0000,-124.3500,   47,      9.8,   9.2450,  33.7390,2,-999.0000,9,    160.8,2,    161.4,2,    35.40,2,    26.00,2,     0.30,2,     2.12,2,      1.2,2,   2188.3,2,   2251.7,2,     0.31
  32WC20120904,  WCOA,    64,  1,      6,2,20120913,0748, 42.0000,-124.3500,   47,      2.5,   9.3570,  33.7340,2,  33.7320,2,    165.6,2,   -999.0,9,    34.90,2,    25.80,2,     0.30,2,     2.11,2,      1.3,2,   2186.5,6,   2251.7,2,     0.32
  32WC20120904,  WCOA,    65,  1,      1,2,20120914,0308, 40.8300,-124.2600,   52,     41.6,   9.6580,  33.6340,2,-999.0000,9,    175.4,2,    176.1,2,    28.70,2,    20.80,2,     0.40,2,     1.87,2,      2.2,2,   2166.5,2,   2247.6,2,  -999.00
  32WC20120904,  WCOA,    65,  1,      2,2,20120914,0309, 40.8300,-124.2600,   52,     30.1,   9.9600,  33.5810,2,-999.0000,9,    202.7,2,   -999.0,9,    23.20,2,    18.50,2,     0.30,2,     1.67,2,      1.9,2,   2145.4,2,   2233.2,3,  -999.00
  32WC20120904,  WCOA,    65,  1,      3,2,20120914,0310, 40.8300,-124.2600,   52,     20.4,  10.7720,  33.5330,2,-999.0000,9,    252.0,2,    255.5,2,    12.10,2,    12.30,2,     0.20,2,     1.23,2,      1.1,2,   2093.1,2,   2238.0,2,  -999.00
  32WC20120904,  WCOA,    65,  1,      4,2,20120914,0311, 40.8300,-124.2600,   52,     15.3,  10.9510,  33.5280,2,-999.0000,9,    273.8,2,   -999.0,9,     8.30,2,     9.40,2,     0.20,2,     1.02,2,      0.9,2,   2070.9,2,   2247.8,2,  -999.00
  32WC20120904,  WCOA,    65,  1,      5,2,20120914,0312, 40.8300,-124.2600,   52,     11.1,  11.5240,  33.4970,2,  33.4990,2,    306.3,2,    312.6,2,     3.80,2,     5.20,2,     0.20,2,     0.72,2,      0.6,2,   2041.1,2,   2249.9,2,  -999.00
  32WC20120904,  WCOA,    65,  1,      6,2,20120914,0313, 40.8300,-124.2600,   52,      2.2,  11.9420,  33.4920,2,-999.0000,9,    336.0,2,   -999.0,9,     1.60,2,     1.50,2,     0.10,2,     0.48,2,      0.3,2,   2004.1,2,   2253.6,6,  -999.00
  32WC20120904,  WCOA,    66,  1,      1,2,20120914,0358, 40.8500,-124.3500,   94,     83.6,   9.0240,  33.7950,2,-999.0000,9,    124.5,2,    126.6,2,    36.00,2,    27.30,2,     0.30,2,     2.12,2,      0.3,2,   2201.8,2,   2250.0,2,  -999.00
  32WC20120904,  WCOA,    66,  1,      2,2,20120914,0359, 40.8500,-124.3500,   94,     80.7,   9.0290,  33.7930,2,-999.0000,9,    124.8,2,   -999.0,9,    36.00,2,    27.20,2,     0.30,2,     2.12,2,      0.3,2,   2202.6,2,   2249.8,2,  -999.00
  32WC20120904,  WCOA,    66,  1,      3,2,20120914,0401, 40.8500,-124.3500,   94,     60.6,   9.0580,  33.7600,2,-999.0000,9,    138.3,2,    136.2,2,    31.50,2,    26.50,2,     0.10,2,     2.01,2,      0.1,2,   2190.8,2,   2247.6,2,  -999.00
  32WC20120904,  WCOA,    66,  1,      4,2,20120914,0402, 40.8500,-124.3500,   94,     50.6,   9.0840,  33.7410,2,-999.0000,9,    139.7,2,   -999.0,9,    31.40,2,    26.20,2,     0.20,2,     1.99,2,      0.1,2,   2187.2,2,   2247.8,2,  -999.00
  32WC20120904,  WCOA,    66,  1,      5,2,20120914,0403, 40.8500,-124.3500,   94,     40.5,   9.2140,  33.6520,2,-999.0000,9,    157.3,2,   -999.0,9,    29.70,2,    24.70,2,     0.20,2,     1.90,2,      0.3,2,   2179.5,2,   2244.0,2,  -999.00
  32WC20120904,  WCOA,    66,  1,      6,2,20120914,0404, 40.8500,-124.3500,   94,     30.3,   9.4820,  33.5170,2,-999.0000,9,    181.4,2,    181.9,2,    24.20,2,    21.00,2,     0.30,2,     1.68,2,      0.6,2,   2150.2,2,   2235.0,2,     0.76
  32WC20120904,  WCOA,    66,  1,      7,2,20120914,0405, 40.8500,-124.3500,   94,     20.2,  10.6100,  33.4240,2,-999.0000,9,    255.4,2,   -999.0,9,    14.40,2,    13.80,2,     0.20,2,     1.25,2,        1,2,   2097.9,2,   2236.1,2,  -999.00
  32WC20120904,  WCOA,    66,  1,      8,2,20120914,0406, 40.8500,-124.3500,   94,     15.5,  10.8130,  33.3740,2,-999.0000,9,    265.5,2,   -999.0,9,    11.60,2,    11.40,2,     0.20,2,     1.09,2,      0.7,2,   2075.7,2,   2233.5,2,  -999.00
  32WC20120904,  WCOA,    66,  1,      9,2,20120914,0408, 40.8500,-124.3500,   94,     10.6,  11.4350,  33.3780,2,  33.3770,2,    279.0,2,   -999.0,9,    13.80,2,    11.00,2,     0.20,2,     1.05,2,      0.2,2,   2070.8,2,   2233.3,2,     2.21
  32WC20120904,  WCOA,    66,  1,     10,2,20120914,0409, 40.8500,-124.3500,   94,      3.2,  11.8500,  33.3830,2,-999.0000,9,    282.6,2,    281.1,2,    14.80,2,    10.30,2,     0.20,2,     1.00,2,        0,2,   2064.8,2,   2235.7,6,     1.91
  32WC20120904,  WCOA,    67,  1,      1,2,20120914,0525, 40.8900,-124.4900,  446,    440.1,   6.2080,  34.1040,2,  34.1050,2,     41.3,2,     41.9,2,    67.90,2,    37.40,2,     0.10,2,     2.73,2,      0.1,2,   2289.9,2,   2296.8,2,  -999.00
  32WC20120904,  WCOA,    67,  1,      2,2,20120914,0527, 40.8900,-124.4900,  446,    399.7,   6.3330,  34.0820,2,-999.0000,9,     48.7,2,   -999.0,9,    64.20,2,    37.10,2,     0.00,2,     2.66,2,        0,2,   2283.5,2,   2292.8,2,  -999.00
  32WC20120904,  WCOA,    67,  1,      3,2,20120914,0530, 40.8900,-124.4900,  446,    300.2,   7.1100,  34.0410,2,-999.0000,9,     69.6,2,     69.6,2,    51.80,2,    34.30,2,     0.00,2,     2.46,2,        0,2,   2254.9,2,   2279.2,2,  -999.00
  32WC20120904,  WCOA,    67,  1,      4,2,20120914,0533, 40.8900,-124.4900,  446,    200.2,   7.8530,  34.0120,2,-999.0000,9,     83.3,2,     85.9,2,    42.80,2,    32.00,2,     0.00,2,     2.31,2,        0,2,   2237.3,2,   2268.9,2,  -999.00
  32WC20120904,  WCOA,    67,  1,      5,2,20120914,0535, 40.8900,-124.4900,  446,    150.1,   8.3020,  33.9750,2,-999.0000,9,     89.9,2,   -999.0,9,    38.00,2,    30.10,2,     0.00,2,     2.21,2,        0,2,   2220.5,2,   2262.8,2,  -999.00
  32WC20120904,  WCOA,    67,  1,      6,2,20120914,0536, 40.8900,-124.4900,  446,    124.6,   8.4170,  33.8570,2,-999.0000,9,    125.5,2,   -999.0,9,    33.80,2,    28.60,2,     0.00,2,     2.08,2,        0,2,   2203.4,2,   2252.9,2,  -999.00
  32WC20120904,  WCOA,    67,  1,      7,2,20120914,0537, 40.8900,-124.4900,  446,    100.4,   8.5830,  33.7660,2,-999.0000,9,    139.8,2,    138.9,2,    31.00,2,    27.30,2,     0.00,2,     2.00,2,        0,2,   2188.9,2,   2244.9,2,  -999.00
  32WC20120904,  WCOA,    67,  1,      8,2,20120914,0538, 40.8900,-124.4900,  446,     80.3,   8.7620,  33.6920,2,-999.0000,9,    150.8,2,   -999.0,9,    28.50,2,    25.40,2,     0.00,2,     1.90,2,        0,2,   2174.8,2,   2243.8,2,  -999.00
  32WC20120904,  WCOA,    67,  1,      9,2,20120914,0540, 40.8900,-124.4900,  446,     60.1,   8.9930,  33.5720,2,-999.0000,9,    173.9,2,    172.9,2,    25.00,2,    22.90,2,     0.00,2,     1.77,2,        0,2,   2158.5,2,   2237.3,2,  -999.00
  32WC20120904,  WCOA,    67,  1,     10,2,20120914,0541, 40.8900,-124.4900,  446,     50.1,   9.1080,  33.5320,2,-999.0000,9,    183.7,2,   -999.0,9,    24.20,2,    22.10,2,     0.10,2,     1.72,2,        0,2,   2149.3,2,   2235.1,2,  -999.00
  32WC20120904,  WCOA,    67,  1,     11,2,20120914,0542, 40.8900,-124.4900,  446,     40.2,   9.1070,  33.5090,2,-999.0000,9,    186.3,2,    185.4,2,    23.70,2,    21.90,2,     0.10,2,     1.70,2,        0,2,   2147.9,2,   2233.2,2,  -999.00
  32WC20120904,  WCOA,    67,  1,     12,2,20120914,0543, 40.8900,-124.4900,  446,     30.2,   9.2780,  33.4660,2,-999.0000,9,    185.2,2,   -999.0,9,    23.50,2,    21.20,2,     0.10,2,     1.67,2,        0,2,   2143.0,2,   2237.3,3,     0.48
  32WC20120904,  WCOA,    67,  1,     13,2,20120914,0544, 40.8900,-124.4900,  446,     20.4,   9.9460,  33.4560,2,-999.0000,9,    221.8,2,    216.5,2,    20.70,2,    17.80,2,     0.10,2,     1.48,2,      0.1,2,   2125.6,2,   2233.9,2,  -999.00
  32WC20120904,  WCOA,    67,  1,     14,2,20120914,0545, 40.8900,-124.4900,  446,     14.9,  11.8630,  33.3220,2,  33.3540,2,    280.4,2,   -999.0,9,    15.00,2,    11.10,2,     0.10,2,     1.07,2,        0,2,   2074.3,2,   2234.6,2,  -999.00
  32WC20120904,  WCOA,    67,  1,     15,2,20120914,0545, 40.8900,-124.4900,  446,     11.2,  11.9430,  33.3140,2,-999.0000,9,    286.9,2,   -999.0,9,    12.70,2,     8.70,2,     0.10,2,     0.93,2,        0,2,   2057.0,2,   2235.4,2,     2.52
  32WC20120904,  WCOA,    67,  1,     16,2,20120914,0546, 40.8900,-124.4900,  446,      4.0,  12.2290,  33.3040,2,-999.0000,9,    289.4,2,    290.3,2,    11.50,2,     7.60,2,     0.10,2,     0.87,2,        0,2,   2046.6,6,   2234.2,6,     1.66
  32WC20120904,  WCOA,    68,  1,      1,2,20120914,0749, 40.9600,-124.7700,  887,    884.7,   4.3340,  34.3560,2,  34.3600,2,     13.1,2,     13.6,2,   110.00,2,    42.20,2,     0.10,2,     3.12,2,        0,2,   2354.5,6,   2355.8,6,  -999.00
  32WC20120904,  WCOA,    68,  1,      2,2,20120914,0752, 40.9600,-124.7700,  887,    750.7,   4.6240,  34.3120,2,-999.0000,9,     13.4,2,   -999.0,9,   102.30,2,    41.90,2,     0.00,2,     3.10,2,        0,2,   2345.5,2,   2345.2,2,  -999.00
  32WC20120904,  WCOA,    68,  1,      3,2,20120914,0757, 40.9600,-124.7700,  887,    502.2,   5.9410,  34.1220,2,-999.0000,9,     35.4,2,     34.8,2,    71.40,2,    38.70,2,     0.00,2,     2.86,2,      0.1,2,   2296.2,2,   2301.4,2,  -999.00
  32WC20120904,  WCOA,    68,  1,      4,2,20120914,0759, 40.9600,-124.7700,  887,    400.8,   6.6370,  34.0940,2,-999.0000,9,     48.2,2,   -999.0,9,    60.30,2,    36.70,2,     0.00,2,     2.71,2,        0,2,   2276.2,2,   2289.7,2,  -999.00
  32WC20120904,  WCOA,    68,  1,      5,2,20120914,0802, 40.9600,-124.7700,  887,    301.4,   7.1380,  34.0780,2,-999.0000,9,     57.5,2,     57.1,2,    53.30,2,    35.00,2,     0.00,2,     2.60,2,        0,2,   2261.7,2,   2281.3,2,  -999.00
  32WC20120904,  WCOA,    68,  1,      6,2,20120914,0804, 40.9600,-124.7700,  887,    200.0,   7.8110,  34.0320,2,-999.0000,9,     75.4,2,   -999.0,9,    44.70,2,    32.70,2,     0.00,2,     2.44,2,        0,2,   2241.7,2,   2271.4,2,  -999.00
  32WC20120904,  WCOA,    68,  1,      7,2,20120914,0807, 40.9600,-124.7700,  887,    150.2,   8.0220,  33.9810,2,-999.0000,9,     88.8,2,   -999.0,9,    41.70,2,    31.90,2,     0.00,2,     2.36,2,        0,2,   2231.3,2,   2265.0,2,  -999.00
  32WC20120904,  WCOA,    68,  1,      8,2,20120914,0808, 40.9600,-124.7700,  887,    126.3,   8.3310,  33.9710,2,-999.0000,9,     86.5,2,   -999.0,9,    40.20,2,    31.20,2,     0.00,2,     2.35,2,        0,2,   2229.2,2,   2263.3,2,  -999.00
  32WC20120904,  WCOA,    68,  1,      9,2,20120914,0810, 40.9600,-124.7700,  887,    100.9,   8.3250,  33.8970,2,-999.0000,9,    114.6,2,    115.8,2,    36.70,2,    29.60,2,     0.00,2,     2.21,2,        0,2,   2212.6,2,   2257.3,2,  -999.00
  32WC20120904,  WCOA,    68,  1,     10,2,20120914,0811, 40.9600,-124.7700,  887,     80.8,   8.5030,  33.8720,2,-999.0000,9,    123.5,2,   -999.0,9,    33.50,2,    28.50,2,     0.00,2,     2.13,2,        0,2,   2200.3,2,   2253.6,2,  -999.00
  32WC20120904,  WCOA,    68,  1,     11,2,20120914,0812, 40.9600,-124.7700,  887,     61.3,   8.8410,  33.7710,2,-999.0000,9,    142.1,2,    142.4,2,    31.70,2,    27.00,2,     0.00,2,     2.06,2,        0,2,   2186.8,2,   2246.0,2,  -999.00
  32WC20120904,  WCOA,    68,  1,     12,2,20120914,0814, 40.9600,-124.7700,  887,     49.9,   8.9460,  33.7020,2,-999.0000,9,    158.8,2,   -999.0,9,    28.90,2,    25.30,2,     0.10,2,     1.95,2,        0,2,   2172.2,2,   2241.2,2,  -999.00
  32WC20120904,  WCOA,    68,  1,     13,2,20120914,0815, 40.9600,-124.7700,  887,     40.8,   9.2280,  33.5510,2,-999.0000,9,    174.2,2,    178.3,2,    25.70,2,    22.80,2,     0.10,2,     1.80,2,        0,2,   2153.7,2,   2237.0,2,  -999.00
  32WC20120904,  WCOA,    68,  1,     14,2,20120914,0816, 40.9600,-124.7700,  887,     30.2,   9.4410,  33.5300,2,-999.0000,9,    183.7,2,   -999.0,9,    23.40,2,    21.10,2,     0.30,2,     1.69,2,      0.1,2,   2141.8,2,   2235.1,2,     1.10
  32WC20120904,  WCOA,    68,  1,     15,2,20120914,0817, 40.9600,-124.7700,  887,     20.0,  10.9820,  33.3220,2,-999.0000,9,    250.8,2,    236.0,2,    18.40,2,    16.20,2,     0.30,2,     1.40,2,      0.2,2,   2107.0,2,   2232.3,2,  -999.00
  32WC20120904,  WCOA,    68,  1,     16,2,20120914,0819, 40.9600,-124.7700,  887,     15.3,  11.2740,  33.3050,2,-999.0000,9,    269.0,2,   -999.0,9,    14.90,2,    12.60,2,     0.20,2,     1.16,2,      0.1,2,   2079.1,2,   2231.2,2,  -999.00
  32WC20120904,  WCOA,    68,  1,     17,2,20120914,0819, 40.9600,-124.7700,  887,     10.6,  11.3680,  33.3160,2,  33.3150,2,    271.0,2,   -999.0,9,    14.80,2,    12.20,2,     0.20,2,     1.12,2,      0.1,2,   2076.7,2,   2231.1,2,     1.23
  32WC20120904,  WCOA,    68,  1,     18,2,20120914,0821, 40.9600,-124.7700,  887,      3.0,  11.5650,  33.3090,2,-999.0000,9,    273.0,2,    272.9,2,    14.60,2,    12.10,2,     0.20,2,     1.11,2,      0.1,2,   2075.4,6,   2230.9,6,     0.43