BOTTLE,20180213PRINUNIVRMK
# 12/15/2014 Initialized README file  
# Data source:NOAA/PMEL,D. Greeley 12/4/14 
# SHIP: R/V Bell Shimada 
# Cruise: WCOA2012 
# Region: US West Coast, Pacific Ocean 
# EXPOCODE: 332220120904 
# DATES:  20120904 - 20120917 
# Chief Scientist: Richard Feely, Lauren W. Juranek 
# 77 stations with 24 place Rosette 
# Hydro: Who - G. Johnson; Status - final 
# 	Notes: Only enough bottle salt for calibration 
# 	CTDSAL nicely calibrated 
# Nutrients: Who - B. Hales; Status - final 
#  	Notes: 
# O2: Who - B. Hales; Status -final 
#  	Notes: 
# TCO2: Who - R.Feely; Status - final 
# 	Notes: 
# TA: Who - S. Alin; Status - final 
# 	Notes: 
# pH: Who -R. Byrne; Status - final 
# 	Notes: No data in file 
# Other: Ammonia- B. Hales; Chlorophyll- W. Peterson 
# References: 
# 	Feely, R., S. Alin, B. Hales, G. Johnson, L. Juranek, R. Byrne, W. Peterson and D. Greeley. 2014. Carbon dioxide, hydrographic and chemical measurements onboard R/V Bell M. Shimada during the NOAA PMEL West Coast Ocean Acidification Cruise WCOA2012 (September 4 - 17, 2012). http://cdiac.ornl.gov/ftp/oceans/WCOA2012/. Carbon Dioxide Information Analysis Center, Oak Ridge National Labor 
EXPOCODE,SECT_ID,STNNBR,CASTNO,BTLNBR,BTLNBR_FLAG_W,DATE,TIME,LATITUDE,LONGITUDE,DEPTH,CTDPRS,CTDTMP,CTDSAL,CTDSAL_FLAG_W,SALNTY,SALNTY_FLAG_W,CTDOXY,CTDOXY_FLAG_W,OXYGEN,OXYGEN_FLAG_W,SILCAT,SILCAT_FLAG_W,NITRAT,NITRAT_FLAG_W,NITRIT,NITRIT_FLAG_W,PHSPHT,PHSPHT_FLAG_W,NH4,NH4_FLAG_W,TCARBN,TCARBN_FLAG_W,ALKALI,ALKALI_FLAG_W,CHLORA
,,,,,,,,,,METERS,DBAR,ITS-90,PSS-78,,PSS-78,,UMOL/KG,,UMOL/KG,,UMOL/KG,,UMOL/KG,,UMOL/KG,,UMOL/KG,,UMOL/KG,,UMOL/KG,,UMOL/KG,,UG/KG
  32WC20120904,  WCOA,     1,  2,      1,2,20120905,2257, 47.1200,-126.0900, 2506,   2402.6,   1.7510,  34.6330,2,  34.6360,2,     77.5,2,   -999.0,9,  -999.00,9,  -999.00,9,  -999.00,9,  -999.00,9,     -999,9,   2388.9,6,   2440.3,6,  -999.00
  32WC20120904,  WCOA,     1,  2,      2,2,20120905,2301, 47.1200,-126.0900, 2506,   2244.2,   1.7970,  34.6190,2,-999.0000,9,     74.0,2,     73.3,2,   179.90,2,    41.50,2,     0.10,2,  -999.00,9,      0.1,2,   2386.7,6,   2429.4,2,  -999.00
  32WC20120904,  WCOA,     1,  2,      3,2,20120905,2301, 47.1200,-126.0900, 2506,   2243.2,   1.7970,  34.6190,2,-999.0000,9,     74.0,2,     73.0,2,   179.80,2,    41.50,2,     0.00,2,  -999.00,9,        0,2,   2385.8,2,   -999.0,9,  -999.00
  32WC20120904,  WCOA,     1,  2,      4,2,20120905,2305, 47.1200,-126.0900, 2506,   1999.1,   1.9360,  34.5940,2,-999.0000,9,     62.3,2,     62.1,2,   174.80,2,    42.40,2,     0.00,2,  -999.00,9,        0,2,   2386.4,2,   2422.0,2,  -999.00
  32WC20120904,  WCOA,     1,  2,      5,2,20120905,2313, 47.1200,-126.0900, 2506,   1502.1,   2.6050,  34.5180,2,-999.0000,9,     32.0,2,     31.2,2,   156.00,2,    44.10,2,     0.00,2,  -999.00,9,        0,2,   2388.2,2,   2400.7,2,  -999.00
  32WC20120904,  WCOA,     1,  2,      6,2,20120905,2320, 47.1200,-126.0900, 2506,   1000.3,   3.5530,  34.4100,2,-999.0000,9,     12.6,2,     11.6,2,   129.50,2,    44.70,2,     0.00,2,  -999.00,9,        0,2,   2374.1,2,   2354.8,2,  -999.00
  32WC20120904,  WCOA,     1,  2,      7,2,20120905,2326, 47.1200,-126.0900, 2506,    747.3,   4.3170,  34.2890,2,-999.0000,9,     10.5,2,   -999.0,9,   108.30,2,    44.00,2,     0.00,2,  -999.00,9,        0,2,   2351.6,6,   2340.1,2,  -999.00
  32WC20120904,  WCOA,     1,  2,      8,2,20120905,2330, 47.1200,-126.0900, 2506,    499.8,   5.1640,  34.1230,2,-999.0000,9,     27.2,2,     26.7,2,    83.90,2,    42.10,2,     0.00,2,  -999.00,9,        0,2,   2314.6,2,   2310.2,2,  -999.00
  32WC20120904,  WCOA,     1,  2,      9,2,20120905,2332, 47.1200,-126.0900, 2506,    400.8,   5.6380,  34.0800,2,-999.0000,9,     38.8,2,   -999.0,9,    74.10,2,    40.30,2,     0.00,2,  -999.00,9,        0,2,   2297.2,2,   2299.4,2,  -999.00
  32WC20120904,  WCOA,     1,  2,     10,2,20120905,2334, 47.1200,-126.0900, 2506,    299.8,   6.1160,  34.0280,2,-999.0000,9,     53.8,2,     54.8,2,    63.90,2,    38.50,2,     0.00,2,  -999.00,9,        0,2,   2277.2,2,   2287.9,2,  -999.00
  32WC20120904,  WCOA,     1,  2,     11,2,20120905,2337, 47.1200,-126.0900, 2506,    201.5,   6.7600,  33.9550,2,-999.0000,9,     73.8,2,   -999.0,9,    53.00,2,    35.10,2,     0.00,2,  -999.00,9,        0,2,   2248.6,2,   2273.3,2,  -999.00
  32WC20120904,  WCOA,     1,  2,     12,2,20120905,2338, 47.1200,-126.0900, 2506,    149.7,   7.2940,  33.8850,2,-999.0000,9,    123.1,2,    107.0,2,    43.20,2,    32.20,2,     0.00,2,  -999.00,9,        0,2,   2222.3,2,   2260.7,2,  -999.00
  32WC20120904,  WCOA,     1,  2,     13,2,20120905,2340, 47.1200,-126.0900, 2506,    123.3,   7.4770,  33.8070,2,-999.0000,9,    131.3,2,    137.7,2,    38.90,2,    30.50,2,     0.00,2,  -999.00,9,        0,2,   2207.6,2,   2253.4,2,  -999.00
  32WC20120904,  WCOA,     1,  2,     14,2,20120905,2341, 47.1200,-126.0900, 2506,     99.1,   7.7320,  33.6110,2,-999.0000,9,    145.2,2,   -999.0,9,    34.10,2,    28.40,2,     0.00,2,  -999.00,9,        0,2,   2187.8,2,   2241.4,2,  -999.00
  32WC20120904,  WCOA,     1,  2,     15,2,20120905,2342, 47.1200,-126.0900, 2506,     80.5,   7.7760,  33.3980,2,-999.0000,9,    155.4,2,   -999.0,9,    30.30,2,    25.80,2,     0.00,2,  -999.00,9,        0,2,   2165.1,2,   2229.4,2,  -999.00
  32WC20120904,  WCOA,     1,  2,     16,2,20120905,2344, 47.1200,-126.0900, 2506,     59.7,   7.7310,  32.9330,2,-999.0000,9,    216.4,2,   -999.0,9,    23.10,2,    19.50,2,     0.10,2,  -999.00,9,        0,2,   2110.6,2,   2205.5,2,  -999.00
  32WC20120904,  WCOA,     1,  2,     17,2,20120905,2345, 47.1200,-126.0900, 2506,     50.6,   7.8820,  32.7970,2,-999.0000,9,    244.2,2,    245.0,2,    17.40,2,    15.00,2,     0.10,2,  -999.00,9,        0,2,   2079.3,2,   2196.5,2,  -999.00
  32WC20120904,  WCOA,     1,  2,     18,2,20120905,2346, 47.1200,-126.0900, 2506,     41.0,   8.4770,  32.7100,2,-999.0000,9,    260.6,2,   -999.0,9,    13.70,2,    11.30,2,     0.10,2,  -999.00,9,        0,2,   2058.9,2,   2186.3,2,  -999.00
  32WC20120904,  WCOA,     1,  2,     19,2,20120905,2347, 47.1200,-126.0900, 2506,     30.5,   9.6420,  32.6030,2,-999.0000,9,    304.3,2,   -999.0,9,     8.70,2,     4.50,2,     0.20,2,  -999.00,9,        0,2,   2024.1,2,   2188.7,2,  -999.00
  32WC20120904,  WCOA,     1,  2,     20,2,20120905,2348, 47.1200,-126.0900, 2506,     20.6,  11.3750,  32.4920,2,-999.0000,9,    318.7,2,    323.5,2,     4.50,2,     0.50,2,     0.00,2,  -999.00,9,        0,2,   1987.1,2,   2181.2,2,  -999.00
  32WC20120904,  WCOA,     1,  2,     21,2,20120905,2348, 47.1200,-126.0900, 2506,     16.1,  15.1110,  32.1280,2,-999.0000,9,    269.3,2,   -999.0,9,     3.10,2,     0.20,2,     0.00,2,  -999.00,9,        0,2,   1953.8,2,   2180.6,2,  -999.00
  32WC20120904,  WCOA,     1,  2,     22,2,20120905,2350, 47.1200,-126.0900, 2506,     10.9,  15.2220,  32.1240,2,  32.1390,2,    269.2,2,    268.6,2,     3.10,2,     0.10,2,     0.00,2,  -999.00,9,        0,2,   1939.0,2,   2179.5,2,  -999.00
  32WC20120904,  WCOA,     1,  2,     23,2,20120905,2351, 47.1200,-126.0900, 2506,      2.4,  15.2210,  32.1240,2,-999.0000,9,    268.8,2,   -999.0,4,     3.10,2,     0.00,2,     0.00,2,  -999.00,9,      0.1,2,   1938.3,2,   2178.2,6,  -999.00
  32WC20120904,  WCOA,     1,  2,     24,2,20120905,2351, 47.1200,-126.0900, 2506,      2.3,  15.2200,  32.1240,2,-999.0000,9,    268.8,2,    267.0,2,     3.10,2,     0.00,2,     0.10,2,  -999.00,9,        0,2,   1936.3,2,   -999.0,9,  -999.00
  32WC20120904,  WCOA,     2,  1,      1,2,20120906,0517, 47.6800,-125.5600, 1115,   1111.2,   3.3900,  34.4310,2,  34.4320,2,     15.0,2,     14.6,2,   134.50,2,    43.90,2,     0.00,2,     3.20,2,        0,2,   2377.2,6,   2378.0,6,  -999.00
  32WC20120904,  WCOA,     2,  1,      2,2,20120906,0519, 47.6800,-125.5600, 1115,    998.9,   3.7590,  34.3820,2,-999.0000,9,     11.4,2,     13.4,2,   124.70,2,    44.00,2,     0.00,2,     3.20,2,        0,2,   2367.7,2,   2366.5,2,  -999.00
  32WC20120904,  WCOA,     2,  1,      3,2,20120906,0524, 47.6800,-125.5600, 1115,    748.4,   4.4450,  34.2700,2,-999.0000,9,     11.4,2,     11.3,2,   105.30,2,    43.40,2,     0.00,2,     3.16,2,        0,2,   2346.0,2,   2341.1,2,  -999.00
  32WC20120904,  WCOA,     2,  1,      4,2,20120906,0529, 47.6800,-125.5600, 1115,    497.7,   5.3110,  34.1200,2,-999.0000,9,     28.5,2,     27.9,2,    81.90,2,    41.30,2,     0.00,2,     2.96,2,        0,2,   2310.5,2,   2307.4,2,  -999.00
  32WC20120904,  WCOA,     2,  1,      5,2,20120906,0532, 47.6800,-125.5600, 1115,    396.9,   5.7090,  34.0600,2,-999.0000,9,     44.6,2,   -999.0,9,    72.20,2,    39.80,2,     0.00,2,     2.83,2,        0,2,   2291.1,2,   2296.4,2,  -999.00
  32WC20120904,  WCOA,     2,  1,      6,2,20120906,0534, 47.6800,-125.5600, 1115,    304.8,   6.2770,  34.0220,2,-999.0000,9,     57.4,2,     58.3,2,    61.70,2,    37.80,2,     0.00,2,     2.65,2,        0,2,   2268.4,2,   2284.7,2,  -999.00
  32WC20120904,  WCOA,     2,  1,      7,2,20120906,0537, 47.6800,-125.5600, 1115,    199.7,   6.9100,  33.9420,2,-999.0000,9,     74.6,2,     74.9,2,    53.80,2,    34.90,2,     0.00,2,     2.48,2,        0,2,   2249.4,2,   2270.5,2,  -999.00
  32WC20120904,  WCOA,     2,  1,      8,2,20120906,0539, 47.6800,-125.5600, 1115,    149.6,   7.1980,  33.8900,2,-999.0000,9,     86.3,2,     86.6,2,    48.30,2,    33.50,2,     0.00,2,     2.37,2,        0,2,   2236.1,2,   2262.2,2,  -999.00
  32WC20120904,  WCOA,     2,  1,      9,2,20120906,0541, 47.6800,-125.5600, 1115,    128.0,   7.5950,  33.8300,2,-999.0000,9,    100.5,2,   -999.0,9,    42.50,2,    32.00,2,     0.00,2,     2.24,2,        0,2,   2219.2,2,   2254.6,2,  -999.00
  32WC20120904,  WCOA,     2,  1,     10,2,20120906,0543, 47.6800,-125.5600, 1115,    100.2,   8.2030,  33.7390,2,-999.0000,9,    118.7,2,     99.7,2,    42.50,2,    32.10,2,     0.00,2,     2.23,2,        0,2,   2218.3,2,   2254.0,2,  -999.00
  32WC20120904,  WCOA,     2,  1,     11,2,20120906,0545, 47.6800,-125.5600, 1115,     81.1,   7.8150,  33.3930,2,-999.0000,9,    160.5,2,   -999.0,9,    36.30,2,    30.10,2,     0.00,2,     2.07,2,        0,2,   2201.4,2,   2246.5,2,  -999.00
  32WC20120904,  WCOA,     2,  1,     12,2,20120906,0547, 47.6800,-125.5600, 1115,     61.0,   7.7290,  32.8520,2,-999.0000,9,    232.5,2,    162.6,3,    29.90,2,    25.10,2,     0.00,2,     1.76,2,        0,2,   2157.8,2,   2224.6,2,  -999.00
  32WC20120904,  WCOA,     2,  1,     13,2,20120906,0548, 47.6800,-125.5600, 1115,     51.6,   7.7470,  32.7410,2,-999.0000,9,    247.6,2,   -999.0,9,    21.20,2,    17.60,2,     0.00,2,     1.33,2,        0,2,   2091.6,2,   2202.1,2,  -999.00
  32WC20120904,  WCOA,     2,  1,     14,2,20120906,0549, 47.6800,-125.5600, 1115,     41.1,   8.0500,  32.6780,2,-999.0000,9,    255.0,2,    246.5,2,    18.50,2,    15.40,2,     0.10,2,     1.19,2,      0.1,2,   2073.1,2,   2193.6,2,  -999.00
  32WC20120904,  WCOA,     2,  1,     15,3,20120906,0551, 47.6800,-125.5600, 1115,     30.0,   8.6560,  32.5880,2,-999.0000,9,    269.6,2,   -999.0,9,    16.40,2,    13.70,2,     0.10,2,     1.08,2,        0,2,   2063.6,2,   2190.7,2,     0.25
  32WC20120904,  WCOA,     2,  1,     16,2,20120906,0552, 47.6800,-125.5600, 1115,     20.9,   9.8410,  32.5190,2,-999.0000,9,    307.4,2,    309.2,2,     8.10,2,     3.40,2,     0.10,2,     0.50,2,        0,2,   2002.7,2,   2188.3,2,  -999.00
  32WC20120904,  WCOA,     2,  1,     17,2,20120906,0552, 47.6800,-125.5600, 1115,     15.4,  12.1640,  32.3900,2,  32.3520,2,    291.6,2,   -999.0,9,     4.60,2,     0.50,2,     0.00,2,     0.20,2,      0.1,2,   1966.6,2,   2179.7,2,  -999.00
  32WC20120904,  WCOA,     2,  1,     18,2,20120906,0554, 47.6800,-125.5600, 1115,     11.1,  15.2920,  32.1390,2,-999.0000,9,    264.2,2,    270.9,2,     4.00,2,     0.10,2,     0.00,2,     0.07,2,        0,2,   1947.2,2,   2175.3,2,     0.17
  32WC20120904,  WCOA,     2,  1,     19,2,20120906,0555, 47.6800,-125.5600, 1115,      2.9,  15.3030,  32.1350,2,-999.0000,9,    264.3,2,   -999.0,9,     3.50,2,     0.10,2,     0.00,2,     0.02,2,        0,2,   1944.7,6,   2174.8,6,     0.16
  32WC20120904,  WCOA,     3,  1,      1,2,20120906,0938, 47.9600,-125.3300,  492,    481.1,   5.5640,  34.0750,2,  34.0880,2,     38.5,2,     37.5,2,    75.80,2,    39.90,2,     0.20,2,     2.91,2,      0.1,2,   2299.6,6,   2300.5,6,  -999.00
  32WC20120904,  WCOA,     3,  1,      2,2,20120906,0938, 47.9600,-125.3300,  492,    481.4,   5.5670,  34.0750,2,-999.0000,9,     38.7,2,     37.6,2,    75.60,2,    39.90,2,     0.10,2,     2.90,2,        0,2,   -999.0,9,   -999.0,9,  -999.00
  32WC20120904,  WCOA,     3,  1,      3,3,20120906,0941, 47.9600,-125.3300,  492,    400.0,   5.8400,  34.0420,2,-999.0000,9,     47.8,2,   -999.0,9,    68.60,2,    38.90,2,     0.00,2,     2.82,2,        0,2,   2284.1,2,   2292.2,2,  -999.00
  32WC20120904,  WCOA,     3,  1,      4,2,20120906,0944, 47.9600,-125.3300,  492,    300.0,   6.4200,  33.9940,2,-999.0000,9,     68.1,2,     65.7,2,    58.40,2,    36.50,2,     0.00,2,     2.65,2,        0,2,   2260.8,2,   2279.4,2,  -999.00
  32WC20120904,  WCOA,     3,  1,      5,2,20120906,0946, 47.9600,-125.3300,  492,    200.8,   6.8880,  33.9510,2,-999.0000,9,     74.6,2,   -999.0,9,    53.00,2,    34.40,2,     0.00,2,     2.57,2,        0,2,   2250.6,2,   2270.2,2,  -999.00
  32WC20120904,  WCOA,     3,  1,      6,3,20120906,0948, 47.9600,-125.3300,  492,    150.0,   7.3350,  33.9100,2,-999.0000,9,     98.4,2,     96.6,2,    44.00,2,    32.40,2,     0.00,2,     2.39,2,        0,2,   2228.8,2,   2262.5,2,  -999.00
  32WC20120904,  WCOA,     3,  1,      7,2,20120906,0950, 47.9600,-125.3300,  492,    127.2,   7.6070,  33.8640,2,-999.0000,9,    110.1,2,   -999.0,9,    40.30,2,    31.20,2,     0.00,2,     2.31,2,        0,2,   2215.6,2,   2255.4,2,  -999.00
  32WC20120904,  WCOA,     3,  1,      8,2,20120906,0951, 47.9600,-125.3300,  492,    100.6,   7.9360,  33.7960,2,-999.0000,9,    111.9,2,   -999.0,9,    37.40,2,    30.10,2,     0.00,2,     2.26,2,        0,2,   2206.7,2,   2249.9,2,  -999.00
  32WC20120904,  WCOA,     3,  1,      9,2,20120906,0953, 47.9600,-125.3300,  492,     79.5,   7.9080,  33.5440,2,-999.0000,9,    151.7,2,    201.4,3,    23.20,2,    19.80,2,     0.00,2,     1.69,2,        0,2,   2117.6,2,   2213.5,2,  -999.00
  32WC20120904,  WCOA,     3,  1,     10,2,20120906,0954, 47.9600,-125.3300,  492,     61.9,   7.8380,  33.1220,2,-999.0000,9,    198.1,2,   -999.0,9,    23.20,2,    19.70,2,     0.00,2,     1.69,2,        0,2,   2119.3,2,   2211.5,2,  -999.00
  32WC20120904,  WCOA,     3,  1,     11,3,20120906,0955, 47.9600,-125.3300,  492,     50.0,   7.8090,  32.8840,2,-999.0000,9,    236.2,2,    236.8,2,    18.30,2,    15.20,2,     0.00,2,     1.44,2,        0,2,   2087.1,2,   2198.8,2,  -999.00
  32WC20120904,  WCOA,     3,  1,     12,2,20120906,0957, 47.9600,-125.3300,  492,     41.4,   8.0920,  32.7400,2,-999.0000,9,    251.5,2,   -999.0,9,    15.40,2,    12.60,2,     0.10,2,     1.30,2,        0,2,   2067.2,2,   2192.7,2,  -999.00
  32WC20120904,  WCOA,     3,  1,     13,3,20120906,0958, 47.9600,-125.3300,  492,     30.0,   8.6700,  32.6450,2,-999.0000,9,    265.7,2,   -999.0,9,    12.30,2,     9.70,2,     0.10,2,     1.15,2,        0,2,   2049.9,2,   2188.8,2,     0.42
  32WC20120904,  WCOA,     3,  1,     14,2,20120906,0959, 47.9600,-125.3300,  492,     21.0,   9.3760,  32.5850,2,-999.0000,9,    285.7,2,    286.9,2,     8.60,2,     5.50,2,     0.20,2,     0.94,2,      0.1,2,   2027.7,2,   2187.4,2,  -999.00
  32WC20120904,  WCOA,     3,  1,     15,2,20120906,1000, 47.9600,-125.3300,  492,     15.3,   9.8300,  32.5420,2,-999.0000,9,    294.9,2,   -999.0,9,     7.20,2,     3.70,2,     0.20,2,     0.83,2,      0.1,2,   2013.9,2,   2190.0,2,  -999.00
  32WC20120904,  WCOA,     3,  1,     16,3,20120906,1001, 47.9600,-125.3300,  492,     10.0,  11.1490,  32.3190,2,-999.0000,9,    297.5,2,   -999.0,9,     5.50,2,     1.40,2,     0.10,2,     0.58,2,      0.1,2,   1964.1,2,   2174.2,2,     1.44
  32WC20120904,  WCOA,     3,  1,     17,2,20120906,1003, 47.9600,-125.3300,  492,      2.2,  13.4030,  31.5870,2,-999.0000,9,    291.7,2,    289.9,2,     5.30,2,     0.90,2,     0.10,2,     0.43,2,      0.1,2,   1922.0,6,   2165.0,6,     2.88
  32WC20120904,  WCOA,     3,  1,     18,2,20120906,1003, 47.9600,-125.3300,  492,      2.0,  13.4020,  31.5870,2,  31.5910,2,    291.6,2,    289.7,2,    75.60,2,    38.60,2,     0.10,2,     2.85,2,      0.1,2,   -999.0,9,   -999.0,9,  -999.00
  32WC20120904,  WCOA,     4,  1,      1,2,20120906,1234, 48.1300,-125.1700,  233,    226.5,   6.5350,  33.9780,2,  33.9750,2,     69.2,2,     70.1,2,    56.90,2,    35.80,2,     0.00,2,     2.59,2,        0,2,   2255.6,6,   2277.1,6,  -999.00
  32WC20120904,  WCOA,     4,  1,      2,3,20120906,1236, 48.1300,-125.1700,  233,    200.0,   6.7970,  33.9450,2,-999.0000,9,     79.5,2,     70.0,2,    52.80,2,    34.50,2,     0.00,2,     2.51,2,        0,2,   2244.8,2,   2272.2,2,  -999.00
  32WC20120904,  WCOA,     4,  1,      3,2,20120906,1238, 48.1300,-125.1700,  233,    151.0,   7.0290,  33.8790,2,-999.0000,9,     91.8,2,     89.4,2,    49.00,2,    33.10,2,     0.10,2,     2.44,2,      0.1,2,   2233.1,2,   2265.2,2,  -999.00
  32WC20120904,  WCOA,     4,  1,      4,2,20120906,1240, 48.1300,-125.1700,  233,    124.9,   7.0460,  33.8740,2,-999.0000,9,     92.0,2,   -999.0,9,    48.80,2,    32.90,2,     0.10,2,     2.45,2,      0.1,2,   2231.9,2,   2262.6,2,  -999.00
  32WC20120904,  WCOA,     4,  1,      5,2,20120906,1241, 48.1300,-125.1700,  233,     99.8,   7.3520,  33.7890,2,-999.0000,9,    107.4,2,    111.1,2,    41.80,2,    30.70,2,     0.10,2,     2.29,2,        0,2,   2209.6,2,   2253.3,2,  -999.00
  32WC20120904,  WCOA,     4,  1,      6,3,20120906,1243, 48.1300,-125.1700,  233,     80.0,   7.4700,  33.5700,2,-999.0000,9,    132.7,2,   -999.0,9,    39.20,2,    29.40,2,     0.10,2,     2.24,2,        0,2,   2194.3,2,   2241.6,2,  -999.00
  32WC20120904,  WCOA,     4,  1,      7,2,20120906,1244, 48.1300,-125.1700,  233,     60.2,   7.3930,  33.2700,2,-999.0000,9,    173.9,2,    165.6,2,    31.20,2,    24.10,2,     0.00,2,     1.95,2,        0,2,   2151.9,2,   2225.3,2,  -999.00
  32WC20120904,  WCOA,     4,  1,      8,3,20120906,1245, 48.1300,-125.1700,  233,     50.0,   7.3740,  33.1160,2,-999.0000,9,    200.4,2,   -999.0,9,    26.30,2,    20.60,2,     0.00,2,     1.75,2,        0,2,   2117.0,2,   2213.9,2,  -999.00
  32WC20120904,  WCOA,     4,  1,      9,2,20120906,1247, 48.1300,-125.1700,  233,     40.6,   7.3910,  32.8580,2,-999.0000,9,    231.5,2,    231.6,2,    22.70,2,    17.60,2,     0.00,2,     1.60,2,        0,2,   2091.4,2,   2203.0,2,  -999.00
  32WC20120904,  WCOA,     4,  1,     10,2,20120906,1248, 48.1300,-125.1700,  233,     30.3,   7.6650,  32.7080,2,-999.0000,9,    250.9,2,   -999.0,9,    20.20,2,    15.50,2,     0.00,2,     1.49,2,        0,2,   2072.8,2,   2195.6,2,  -999.00
  32WC20120904,  WCOA,     4,  1,     11,3,20120906,1249, 48.1300,-125.1700,  233,     20.0,   9.2640,  32.3810,2,-999.0000,9,    229.8,2,    236.4,2,    16.90,2,    13.20,2,     0.20,2,     1.43,2,      0.8,2,   2054.5,2,   2184.6,2,  -999.00
  32WC20120904,  WCOA,     4,  1,     12,2,20120906,1251, 48.1300,-125.1700,  233,     15.5,  10.1040,  32.2190,2,-999.0000,9,    235.8,2,   -999.0,9,    14.90,2,    11.60,2,     0.20,2,     1.34,2,      0.9,2,   2038.7,2,   2178.8,2,  -999.00
  32WC20120904,  WCOA,     4,  1,     13,3,20120906,1252, 48.1300,-125.1700,  233,     10.0,  11.4760,  31.9240,2,  31.9820,4,    273.4,2,   -999.0,9,     9.60,2,     7.20,2,     0.10,2,     0.93,2,      0.7,2,   1988.9,2,   2175.8,2,  -999.00
  32WC20120904,  WCOA,     4,  1,     14,2,20120906,1253, 48.1300,-125.1700,  233,      4.4,  13.2360,  31.6510,2,-999.0000,9,    293.6,2,    295.3,2,     3.30,2,     1.40,2,     0.00,2,     0.39,2,      0.5,2,   1918.6,6,   2173.9,2,  -999.00