BOTTLE,20180213PRINUNIVRMK
EXPOCODE,SECT_ID,STNNBR,CASTNO,BTLNBR,BTLNBR_FLAG_W,DATE,TIME,LATITUDE,LONGITUDE,DEPTH,CTDPRS,CTDTMP,CTDSAL,CTDSAL_FLAG_W,SALNTY,SALNTY_FLAG_W,CTDOXY,CTDOXY_FLAG_W,OXYGEN,OXYGEN_FLAG_W,SILCAT,SILCAT_FLAG_W,NITRAT,NITRAT_FLAG_W,NITRIT,NITRIT_FLAG_W,PHSPHT,PHSPHT_FLAG_W,NH4,NH4_FLAG_W,TCARBN,TCARBN_FLAG_W,ALKALI,ALKALI_FLAG_W,CHLORA
,,,,,,,,,,METERS,DBAR,ITS-90,PSS-78,,PSS-78,,UMOL/KG,,UMOL/KG,,UMOL/KG,,UMOL/KG,,UMOL/KG,,UMOL/KG,,UMOL/KG,,UMOL/KG,,UMOL/KG,,UG/KG
  32WC20120904,  WCOA,    73,  1,      1,2,20120915,0051, 40.2000,-124.4900,  328,    324.9,   7.5100,  34.1040,2,  34.1050,2,     58.2,2,     58.6,2,    49.70,2,    33.40,2,     0.10,2,     2.49,2,        0,2,   2256.5,2,   2281.9,2,  -999.00
  32WC20120904,  WCOA,    73,  1,      2,2,20120915,0054, 40.2000,-124.4900,  328,    249.9,   8.1240,  33.9970,2,-999.0000,9,     89.4,2,     89.9,2,    39.80,2,    30.60,2,     0.10,2,     2.26,2,        0,2,   2224.6,2,   2263.5,2,  -999.00
  32WC20120904,  WCOA,    73,  1,      3,2,20120915,0056, 40.2000,-124.4900,  328,    200.1,   8.7670,  33.9210,2,-999.0000,9,     97.6,2,     97.9,2,    36.50,2,    29.50,2,     0.10,2,     2.25,2,        0,2,   2217.7,2,   2256.3,2,  -999.00
  32WC20120904,  WCOA,    73,  1,      4,2,20120915,0058, 40.2000,-124.4900,  328,    150.5,   8.9930,  33.8970,2,-999.0000,9,     99.6,2,     99.9,2,    36.40,2,    29.30,2,     0.20,2,     2.26,2,        0,2,   2218.2,2,   2253.6,2,  -999.00
  32WC20120904,  WCOA,    73,  1,      5,2,20120915,0100, 40.2000,-124.4900,  328,    125.2,   9.1090,  33.7540,2,-999.0000,9,    140.1,2,   -999.0,9,    30.20,2,    26.40,2,     0.10,2,     2.04,2,      0.1,2,   2186.4,2,   2245.1,2,  -999.00
  32WC20120904,  WCOA,    73,  1,      6,2,20120915,0102, 40.2000,-124.4900,  328,    100.2,   9.3360,  33.6600,2,-999.0000,9,    162.5,2,    164.1,2,    27.10,2,    24.30,2,     0.20,2,     1.92,2,      0.2,2,   2168.6,2,   2240.2,2,  -999.00
  32WC20120904,  WCOA,    73,  1,      7,2,20120915,0103, 40.2000,-124.4900,  328,     80.3,   9.5810,  33.6470,2,-999.0000,9,    171.0,2,    172.2,2,    26.40,2,    23.20,2,     0.20,2,     1.88,2,      0.4,2,   2165.6,2,   2237.6,2,  -999.00
  32WC20120904,  WCOA,    73,  1,      8,2,20120915,0105, 40.2000,-124.4900,  328,     60.3,   9.7660,  33.6350,2,-999.0000,9,    179.5,2,    179.9,2,    25.70,2,    22.50,2,     0.20,2,     1.85,2,      0.6,2,   2160.0,2,   2241.6,2,  -999.00
  32WC20120904,  WCOA,    73,  1,      9,2,20120915,0106, 40.2000,-124.4900,  328,     50.5,   9.8770,  33.6250,2,-999.0000,9,    186.6,2,   -999.0,9,    24.90,2,    21.70,2,     0.20,2,     1.82,2,      0.7,2,   2156.1,2,   2239.4,2,  -999.00
  32WC20120904,  WCOA,    73,  1,     10,2,20120915,0108, 40.2000,-124.4900,  328,     40.6,  10.0760,  33.5870,2,-999.0000,9,    199.6,2,    200.0,2,    22.70,2,    19.80,2,     0.20,2,     1.70,2,      0.7,2,   2141.7,2,   2238.1,2,  -999.00
  32WC20120904,  WCOA,    73,  1,     11,2,20120915,0109, 40.2000,-124.4900,  328,     30.3,  11.5280,  33.2530,2,-999.0000,9,    256.7,2,   -999.0,9,    13.80,2,    12.40,2,     0.20,2,     1.31,2,      0.4,2,   2084.9,2,   2229.3,2,  -999.00
  32WC20120904,  WCOA,    73,  1,     12,2,20120915,0110, 40.2000,-124.4900,  328,     20.1,  11.8900,  33.1260,2,-999.0000,9,    265.5,2,    265.4,2,     8.10,2,     7.70,2,     0.20,2,     0.94,2,      0.3,2,   2048.8,2,   2215.1,2,  -999.00
  32WC20120904,  WCOA,    73,  1,     13,2,20120915,0111, 40.2000,-124.4900,  328,     15.2,  11.9040,  33.0910,2,-999.0000,9,    265.8,2,   -999.0,9,     7.70,2,     7.30,2,     0.10,2,     0.92,2,      0.2,2,   2044.8,2,   2218.1,2,  -999.00
  32WC20120904,  WCOA,    73,  1,     14,2,20120915,0112, 40.2000,-124.4900,  328,     10.5,  12.0870,  33.0500,2,  33.0720,2,    264.3,2,   -999.0,9,     7.20,2,     6.90,2,     0.10,2,     0.89,2,      0.2,2,   2040.6,2,   2216.7,2,  -999.00
  32WC20120904,  WCOA,    73,  1,     15,2,20120915,0113, 40.2000,-124.4900,  328,      2.5,  13.6680,  32.8870,2,-999.0000,9,    271.3,2,    274.2,2,     3.40,2,     3.50,2,     0.10,2,     0.65,2,      0.2,2,   2017.9,2,   2210.1,6,  -999.00
  32WC20120904,  WCOA,    74,  1,      1,2,20120914,2259, 40.2100,-124.4500,  150,    142.3,   9.3580,  33.7800,2,  33.7770,2,    136.4,2,    138.4,2,    32.40,2,    25.90,2,     0.20,2,     2.07,2,      0.1,2,   2193.8,2,   2248.6,2,  -999.00
  32WC20120904,  WCOA,    74,  1,      2,2,20120914,2300, 40.2100,-124.4500,  150,    135.9,   9.4920,  33.7380,2,-999.0000,9,    151.2,2,    150.4,2,    30.60,2,    24.80,2,     0.20,2,     2.02,2,      0.2,2,   2185.8,2,   2247.3,2,  -999.00
  32WC20120904,  WCOA,    74,  1,      3,2,20120914,2301, 40.2100,-124.4500,  150,    125.0,   9.7030,  33.6810,2,-999.0000,9,    168.4,2,   -999.0,9,    27.90,2,    22.80,2,     0.20,2,     1.92,2,      0.5,2,   2170.7,2,   2243.7,2,  -999.00
  32WC20120904,  WCOA,    74,  1,      4,2,20120914,2302, 40.2100,-124.4500,  150,    115.1,   9.7360,  33.6730,2,-999.0000,9,    171.5,2,    172.6,2,    27.30,2,    22.50,2,     0.20,2,     1.89,2,      0.5,2,   2167.1,2,   2242.8,2,  -999.00
  32WC20120904,  WCOA,    74,  1,      5,2,20120914,2304, 40.2100,-124.4500,  150,     99.8,   9.8030,  33.6580,2,-999.0000,9,    175.9,2,   -999.0,9,    26.30,2,    21.80,2,     0.20,2,     1.89,2,      0.6,2,   2164.1,2,   2242.1,2,  -999.00
  32WC20120904,  WCOA,    74,  1,      6,2,20120914,2305, 40.2100,-124.4500,  150,     79.7,   9.8110,  33.6240,2,-999.0000,9,    185.0,2,    184.0,2,    25.10,2,    21.00,2,     0.20,2,     1.78,2,      0.6,2,   2157.3,2,   2240.5,2,  -999.00
  32WC20120904,  WCOA,    74,  1,      7,2,20120914,2307, 40.2100,-124.4500,  150,     59.9,   9.8550,  33.6340,2,-999.0000,9,    203.5,2,   -999.0,9,    25.30,2,    21.50,2,     0.20,2,     1.80,2,      0.6,2,   2158.6,2,   2241.9,2,  -999.00
  32WC20120904,  WCOA,    74,  1,      8,2,20120914,2308, 40.2100,-124.4500,  150,     50.0,   9.9070,  33.6400,2,-999.0000,9,    203.0,2,   -999.0,9,    25.40,2,    21.30,2,     0.20,2,     1.83,2,      0.6,2,   2157.3,2,   2243.4,2,  -999.00
  32WC20120904,  WCOA,    74,  1,      9,2,20120914,2309, 40.2100,-124.4500,  150,     40.1,  10.1020,  33.5980,2,-999.0000,9,    199.4,2,    197.3,2,    23.10,2,    19.60,2,     0.20,2,     1.71,2,      0.7,2,   2144.8,2,   2241.8,2,  -999.00
  32WC20120904,  WCOA,    74,  1,     10,2,20120914,2310, 40.2100,-124.4500,  150,     30.2,  10.2710,  33.5480,2,-999.0000,9,    212.9,2,   -999.0,9,    20.90,2,    17.90,2,     0.20,2,     1.59,2,      0.6,2,   2130.4,2,   2238.4,2,  -999.00
  32WC20120904,  WCOA,    74,  1,     11,2,20120914,2311, 40.2100,-124.4500,  150,     19.9,  10.5950,  33.4930,2,-999.0000,9,    237.8,2,    228.7,2,    17.90,2,    15.40,2,     0.20,2,     1.43,2,      0.5,2,   2113.6,2,   2237.3,2,  -999.00
  32WC20120904,  WCOA,    74,  1,     12,2,20120914,2312, 40.2100,-124.4500,  150,     15.5,  11.3160,  33.3670,2,-999.0000,9,    267.3,2,   -999.0,9,    10.80,2,     9.30,2,     0.10,2,     1.10,2,      0.4,2,   2071.5,2,   2232.5,2,  -999.00
  32WC20120904,  WCOA,    74,  1,     13,2,20120914,2313, 40.2100,-124.4500,  150,     10.2,  11.5070,  33.2610,2,  33.2650,2,    280.7,2,   -999.0,9,     9.10,2,     7.80,2,     0.20,2,     1.03,2,      0.2,2,   2058.0,2,   2229.5,2,  -999.00
  32WC20120904,  WCOA,    74,  1,     14,2,20120914,2314, 40.2100,-124.4500,  150,      2.8,  11.9550,  33.1330,2,-999.0000,9,    282.2,2,    280.7,2,     7.80,2,     6.60,2,     0.10,2,     0.88,2,      0.2,2,   2044.0,2,   2222.1,6,  -999.00
  32WC20120904,  WCOA,    75,  1,      1,2,20120914,2143, 40.2300,-124.4200,  110,    101.6,   9.1930,  33.8360,2,-999.0000,9,    123.6,2,    121.5,2,    34.80,2,    27.80,2,     0.20,2,     2.16,2,      0.1,2,   2199.2,2,   2248.5,2,  -999.00
  32WC20120904,  WCOA,    75,  1,      2,2,20120914,2144, 40.2300,-124.4200,  110,    101.7,   9.1920,  33.8360,2,-999.0000,9,    123.6,2,   -999.0,9,    35.00,2,    28.00,2,     0.20,2,     2.17,2,      0.1,2,   -999.0,9,   -999.0,9,  -999.00
  32WC20120904,  WCOA,    75,  1,      3,2,20120914,2145, 40.2300,-124.4200,  110,     80.1,   9.8420,  33.6510,2,-999.0000,9,    180.3,2,   -999.0,9,    26.70,2,    22.70,2,     0.20,2,     1.86,2,      0.6,2,   2160.8,2,   2242.6,2,  -999.00
  32WC20120904,  WCOA,    75,  1,      4,2,20120914,2147, 40.2300,-124.4200,  110,     60.7,  10.2050,  33.6130,2,-999.0000,9,    202.3,2,    200.9,2,    22.90,2,    19.90,2,     0.20,2,     1.72,2,      0.9,2,   2140.8,2,   2243.5,2,  -999.00
  32WC20120904,  WCOA,    75,  1,      5,2,20120914,2148, 40.2300,-124.4200,  110,     50.6,  10.3130,  33.5700,2,-999.0000,9,    215.0,2,   -999.0,9,    21.20,2,    18.60,2,     0.20,2,     1.66,2,      0.8,2,   2131.7,2,   2243.7,2,  -999.00
  32WC20120904,  WCOA,    75,  1,      6,2,20120914,2149, 40.2300,-124.4200,  110,     41.1,  10.3560,  33.5440,2,-999.0000,9,    223.8,2,   -999.0,9,    19.90,2,    17.60,2,     0.20,2,     1.56,2,      0.6,2,   2120.5,2,   2238.3,2,  -999.00
  32WC20120904,  WCOA,    75,  1,      7,2,20120914,2150, 40.2300,-124.4200,  110,     30.7,  10.4500,  33.5090,2,-999.0000,9,    232.0,2,    232.6,2,    18.90,2,    16.50,2,     0.20,2,     1.49,2,      0.4,2,   2112.1,2,   2237.4,2,     2.01
  32WC20120904,  WCOA,    75,  1,      8,2,20120914,2151, 40.2300,-124.4200,  110,     20.4,  11.1330,  33.3870,2,-999.0000,9,    267.5,2,   -999.0,9,    15.40,2,    13.40,2,     0.20,2,     1.29,2,      0.3,2,   2084.9,2,   2232.2,2,  -999.00
  32WC20120904,  WCOA,    75,  1,      9,2,20120914,2152, 40.2300,-124.4200,  110,     15.2,  11.5110,  33.3450,2,-999.0000,9,    292.6,2,    284.8,2,    11.10,2,     9.50,2,     0.10,2,     1.08,2,      0.2,2,   2055.5,2,   2230.6,2,  -999.00
  32WC20120904,  WCOA,    75,  1,     10,2,20120914,2153, 40.2300,-124.4200,  110,     10.5,  11.8730,  33.3040,2,  33.3190,2,    290.5,2,   -999.0,9,     9.30,2,     7.60,2,     0.10,2,     0.97,2,      0.2,2,   2043.3,2,   2231.3,2,     3.88
  32WC20120904,  WCOA,    75,  1,     11,2,20120914,2154, 40.2300,-124.4200,  110,      2.1,  12.2760,  33.1960,2,-999.0000,9,    284.7,2,    297.9,2,     7.80,2,     6.30,2,     0.10,2,     0.90,2,      0.2,2,   2030.7,2,   2228.2,6,     3.59
  32WC20120904,  WCOA,    76,  1,      1,2,20120914,2032, 40.2300,-124.4000,   87,     77.6,   9.4760,  33.7600,2,-999.0000,9,    141.9,2,    145.8,2,    31.50,2,    26.00,2,     0.20,2,     2.03,2,      0.4,2,   2189.4,2,   2249.6,2,  -999.00
  32WC20120904,  WCOA,    76,  1,      2,2,20120914,2034, 40.2300,-124.4000,   87,     61.1,   9.6870,  33.6900,2,-999.0000,9,    163.0,2,    161.9,2,    29.10,2,    24.60,2,     0.20,2,     1.95,2,      0.5,2,   2176.7,2,   2245.5,2,  -999.00
  32WC20120904,  WCOA,    76,  1,      3,2,20120914,2035, 40.2300,-124.4000,   87,     50.7,   9.8950,  33.6380,2,-999.0000,9,    181.3,2,   -999.0,9,    25.80,2,    22.40,2,     0.20,2,     1.82,2,      0.6,2,   2160.4,2,   2242.7,2,  -999.00
  32WC20120904,  WCOA,    76,  1,      4,2,20120914,2037, 40.2300,-124.4000,   87,     40.4,  10.1280,  33.6210,2,-999.0000,9,    198.1,2,    201.3,2,    22.60,2,    20.10,2,     0.20,2,     1.70,2,      0.9,2,   2145.8,2,   2243.9,2,  -999.00
  32WC20120904,  WCOA,    76,  1,      5,2,20120914,2038, 40.2300,-124.4000,   87,     29.8,  10.3410,  33.6060,2,-999.0000,9,    209.8,2,   -999.0,9,    20.60,2,    18.60,2,     0.20,2,     1.62,2,        1,2,   2138.7,2,   2245.8,2,  -999.00
  32WC20120904,  WCOA,    76,  1,      6,2,20120914,2039, 40.2300,-124.4000,   87,     20.4,  10.4970,  33.5680,2,-999.0000,9,    227.7,2,    233.8,2,    17.10,2,    16.00,2,     0.20,2,     1.45,2,        1,2,   2119.5,2,   2243.2,2,  -999.00
  32WC20120904,  WCOA,    76,  1,      7,2,20120914,2040, 40.2300,-124.4000,   87,     14.4,  10.5180,  33.5280,2,-999.0000,9,    234.3,2,   -999.0,9,    16.80,2,    15.80,2,     0.20,2,     1.42,2,      0.9,2,   2113.7,2,   2237.4,2,  -999.00
  32WC20120904,  WCOA,    76,  1,      8,2,20120914,2041, 40.2300,-124.4000,   87,     10.5,  10.5670,  33.4860,2,  33.4910,2,    240.9,2,   -999.0,9,    16.90,2,    15.60,2,     0.20,2,     1.39,2,      0.5,2,   2108.3,2,   2237.8,2,  -999.00
  32WC20120904,  WCOA,    76,  1,      9,2,20120914,2042, 40.2300,-124.4000,   87,      2.2,  11.0640,  33.4050,2,-999.0000,9,    272.5,2,    260.8,2,    15.30,2,    13.40,2,     0.20,2,     1.24,2,      0.2,2,   2086.1,2,   2233.4,6,  -999.00
  32WC20120904,  WCOA,    77,  1,      1,2,20120915,2136, 37.6700,-123.4800, 2739,   -999.0,-999.0000,-999.0000,9,-999.0000,9,   -999.0,9,   -999.0,9,  -999.00,9,  -999.00,9,  -999.00,9,  -999.00,9,     -999,9,   -999.0,9,   -999.0,9,  -999.00
  32WC20120904,  WCOA,    77,  1,      2,2,20120915,2155, 37.6700,-123.4800, 2739,   1001.1,   3.9460,  34.4360,2,  34.4390,2,     16.8,2,     19.8,2,   117.90,2,    41.60,2,     0.00,2,     2.99,2,        0,2,   2363.6,2,   2362.0,6,  -999.00
  32WC20120904,  WCOA,    77,  1,      3,2,20120915,2201, 37.6700,-123.4800, 2739,    751.2,   4.7870,  34.3570,2,  34.3720,2,     12.0,2,     11.5,2,    99.90,2,    40.50,2,     0.00,2,     2.99,2,        0,2,   2343.9,2,   2347.5,2,  -999.00
  32WC20120904,  WCOA,    77,  1,      4,2,20120915,2206, 37.6700,-123.4800, 2739,    501.0,   5.5610,  34.1690,2,-999.0000,9,     24.3,2,     23.6,2,    78.50,2,    38.50,2,     0.00,2,     2.85,2,        0,2,   2311.4,2,   2309.0,2,  -999.00
  32WC20120904,  WCOA,    77,  1,      5,2,20120915,2209, 37.6700,-123.4800, 2739,    400.6,   6.0160,  34.0730,2,-999.0000,9,     46.3,2,   -999.0,9,    66.40,2,    36.60,2,     0.00,2,     2.68,2,        0,2,   2286.2,2,   2292.0,2,  -999.00
  32WC20120904,  WCOA,    77,  1,      6,2,20120915,2212, 37.6700,-123.4800, 2739,    299.1,   6.7490,  33.9960,2,-999.0000,9,     98.4,2,     87.3,2,    51.00,2,    32.10,2,     0.00,2,     2.36,2,        0,2,   2242.6,2,   2276.4,2,  -999.00
  32WC20120904,  WCOA,    77,  1,      7,2,20120915,2215, 37.6700,-123.4800, 2739,    202.0,   7.8320,  33.9390,2,  33.9350,2,    137.6,2,   -999.0,9,    34.80,2,    26.10,2,     0.00,2,     1.97,2,      0.1,2,   2192.0,2,   2259.2,2,  -999.00
  32WC20120904,  WCOA,    77,  1,      8,2,20120915,2217, 37.6700,-123.4800, 2739,    150.3,   8.1670,  33.8260,2,-999.0000,9,    161.5,2,    161.1,2,    28.70,2,    23.10,2,     0.00,2,     1.80,2,      0.1,2,   2168.4,2,   2251.7,2,  -999.00
  32WC20120904,  WCOA,    77,  1,      9,2,20120915,2218, 37.6700,-123.4800, 2739,    125.2,   8.7060,  33.6950,2,-999.0000,9,    155.8,2,   -999.0,9,    24.70,2,    21.50,2,     0.00,2,     1.75,2,        0,2,   2157.2,2,   2239.4,2,  -999.00
  32WC20120904,  WCOA,    77,  1,     10,2,20120915,2220, 37.6700,-123.4800, 2739,    100.1,   9.8560,  33.5950,2,-999.0000,9,    175.7,2,    171.0,2,    20.90,2,    20.20,2,     0.10,2,     1.75,2,      0.2,2,   2151.8,2,   2234.8,2,  -999.00
  32WC20120904,  WCOA,    77,  1,     11,2,20120915,2221, 37.6700,-123.4800, 2739,     80.9,  10.5040,  33.4730,2,-999.0000,9,    210.8,2,   -999.0,9,    15.60,2,    15.70,2,     0.20,2,     1.49,2,      0.4,2,   2118.2,2,   2228.1,2,  -999.00
  32WC20120904,  WCOA,    77,  1,     12,2,20120915,2223, 37.6700,-123.4800, 2739,     60.8,   9.6650,  32.9660,2,-999.0000,9,    233.1,2,   -999.0,9,    10.70,2,     9.10,2,     0.10,2,     1.10,2,      0.1,2,   2066.5,2,   2201.1,2,  -999.00
  32WC20120904,  WCOA,    77,  1,     13,2,20120915,2224, 37.6700,-123.4800, 2739,     50.5,  10.0320,  32.8650,2,  32.8780,2,    251.2,2,    249.6,2,     8.30,2,     6.00,2,     0.10,2,     0.92,2,      0.2,2,   2046.6,2,   2195.4,2,  -999.00
  32WC20120904,  WCOA,    77,  1,     14,2,20120915,2225, 37.6700,-123.4800, 2739,     40.7,  11.2150,  32.9530,2,-999.0000,9,    254.4,2,   -999.0,9,     7.70,2,     5.30,2,     0.40,2,     0.92,2,      0.3,2,   2045.5,2,   2201.4,2,  -999.00
  32WC20120904,  WCOA,    77,  1,     15,2,20120915,2226, 37.6700,-123.4800, 2739,     30.3,  13.9660,  33.1060,2,-999.0000,9,    266.3,2,    265.2,2,     4.80,2,     3.00,2,     0.20,2,     0.75,2,      0.3,2,   2028.3,2,   2212.1,2,     0.41
  32WC20120904,  WCOA,    77,  1,     16,2,20120915,2227, 37.6700,-123.4800, 2739,     20.2,  15.1400,  33.2190,2,-999.0000,9,    263.5,2,   -999.0,9,     3.10,2,     2.00,2,     0.10,2,     0.66,2,      0.2,2,   2019.4,2,   2223.3,2,  -999.00
  32WC20120904,  WCOA,    77,  1,     17,2,20120915,2228, 37.6700,-123.4800, 2739,     15.9,  15.0330,  33.1800,2,  33.1710,2,    263.2,2,   -999.0,9,     2.90,2,     1.60,2,     0.10,2,     0.64,2,      0.1,2,   2016.4,2,   2222.4,2,  -999.00
  32WC20120904,  WCOA,    77,  1,     18,2,20120915,2230, 37.6700,-123.4800, 2739,     10.4,  15.0720,  33.1340,2,-999.0000,9,    263.4,2,   -999.0,9,     3.10,2,     1.40,2,     0.10,2,     0.63,2,      0.1,2,   2015.3,2,   2219.2,2,     0.33
  32WC20120904,  WCOA,    77,  1,     19,2,20120915,2230, 37.6700,-123.4800, 2739,      2.1,  15.1190,  33.1160,2,-999.0000,9,    263.1,2,    265.5,2,     2.90,2,     1.00,2,     0.10,2,     0.60,2,      0.1,2,   2015.4,2,   2217.9,2,     0.31