BOTTLE,20180213PRINUNIVRMK
EXPOCODE,SECT_ID,STNNBR,CASTNO,BTLNBR,BTLNBR_FLAG_W,DATE,TIME,LATITUDE,LONGITUDE,DEPTH,CTDPRS,CTDTMP,CTDSAL,CTDSAL_FLAG_W,SALNTY,SALNTY_FLAG_W,CTDOXY,CTDOXY_FLAG_W,OXYGEN,OXYGEN_FLAG_W,SILCAT,SILCAT_FLAG_W,NITRAT,NITRAT_FLAG_W,NITRIT,NITRIT_FLAG_W,PHSPHT,PHSPHT_FLAG_W,NH4,NH4_FLAG_W,TCARBN,TCARBN_FLAG_W,ALKALI,ALKALI_FLAG_W,CHLORA
,,,,,,,,,,METERS,DBAR,ITS-90,PSS-78,,PSS-78,,UMOL/KG,,UMOL/KG,,UMOL/KG,,UMOL/KG,,UMOL/KG,,UMOL/KG,,UMOL/KG,,UMOL/KG,,UMOL/KG,,UG/KG
  32WC20120904,  WCOA,    69,  1,      1,2,20120914,1013, 40.9900,-124.8900, 2129,   2150.8,   1.8420,  34.6170,2,  34.6190,2,     77.5,2,     76.6,2,   175.70,2,    40.10,2,     0.10,2,     2.84,2,        0,2,   2376.3,6,   2427.9,6,  -999.00
  32WC20120904,  WCOA,    69,  1,      2,2,20120914,1022, 40.9900,-124.8900, 2129,   1499.2,   2.7280,  34.5270,2,  34.5290,2,     36.5,2,     35.7,2,   150.80,2,    42.50,2,     0.00,2,     3.01,2,        0,2,   2379.6,2,   2400.7,2,  -999.00
  32WC20120904,  WCOA,    69,  1,      3,2,20120914,1030, 40.9900,-124.8900, 2129,   1000.4,   3.7910,  34.4200,2,-999.0000,9,     15.0,2,   -999.0,9,   122.80,2,    43.10,2,     0.00,2,     3.11,2,        0,2,   2362.8,2,   2370.4,2,  -999.00
  32WC20120904,  WCOA,    69,  1,      4,2,20120914,1034, 40.9900,-124.8900, 2129,    750.3,   4.6410,  34.3060,2,  34.3060,2,     13.1,2,     11.9,2,   102.40,2,    41.90,2,     0.00,2,     3.09,2,        0,2,   2340.1,2,   2343.6,2,  -999.00
  32WC20120904,  WCOA,    69,  1,      5,2,20120914,1039, 40.9900,-124.8900, 2129,    500.8,   6.1130,  34.1210,2,  34.1230,2,     36.6,2,   -999.0,9,    69.20,2,    38.30,2,     0.00,2,     2.82,2,        0,2,   2286.9,2,   2300.9,2,  -999.00
  32WC20120904,  WCOA,    69,  1,      6,2,20120914,1041, 40.9900,-124.8900, 2129,    400.0,   6.5390,  34.0700,2,-999.0000,9,     51.5,2,     51.8,2,    59.60,2,    36.50,2,     0.00,2,     2.67,2,        0,2,   2268.3,2,   2288.5,2,  -999.00
  32WC20120904,  WCOA,    69,  1,      7,2,20120914,1044, 40.9900,-124.8900, 2129,    300.2,   7.2340,  34.0460,2,-999.0000,9,     64.0,2,   -999.0,9,    50.50,2,    34.20,2,     0.00,2,     2.52,2,        0,2,   2246.6,2,   2278.1,2,  -999.00
  32WC20120904,  WCOA,    69,  1,      8,2,20120914,1046, 40.9900,-124.8900, 2129,    200.5,   8.1830,  33.9880,2,-999.0000,9,     87.0,2,     88.8,2,    40.30,2,    30.90,2,     0.00,2,     2.32,2,        0,2,   2220.8,2,   2265.5,2,  -999.00
  32WC20120904,  WCOA,    69,  1,      9,2,20120914,1048, 40.9900,-124.8900, 2129,    150.0,   8.6520,  33.9460,2,-999.0000,9,     90.2,2,   -999.0,9,    38.30,2,    30.10,2,     0.00,2,     2.31,2,        0,2,   2215.5,2,   2260.9,2,  -999.00
  32WC20120904,  WCOA,    69,  1,     10,2,20120914,1049, 40.9900,-124.8900, 2129,    126.0,   8.7870,  33.9530,2,-999.0000,9,     88.6,2,   -999.0,9,    38.20,2,    30.10,2,     0.00,2,     2.32,2,        0,2,   2217.0,2,   2259.6,2,  -999.00
  32WC20120904,  WCOA,    69,  1,     11,2,20120914,1050, 40.9900,-124.8900, 2129,    101.2,   8.7840,  33.9180,2,  33.9020,2,    104.9,2,    101.5,2,    35.00,2,    29.30,2,     0.00,2,     2.23,2,        0,2,   2207.4,2,   2256.5,2,  -999.00
  32WC20120904,  WCOA,    69,  1,     12,2,20120914,1052, 40.9900,-124.8900, 2129,     81.3,   8.9760,  33.8120,2,-999.0000,9,    131.4,2,   -999.0,9,    30.90,2,    27.20,2,     0.00,2,     2.08,2,        0,2,   2187.5,2,   2251.5,2,  -999.00
  32WC20120904,  WCOA,    69,  1,     13,2,20120914,1053, 40.9900,-124.8900, 2129,     60.4,   9.1330,  33.6630,2,-999.0000,9,    170.3,2,   -999.0,9,    26.50,2,    24.40,2,     0.00,2,     1.89,2,        0,2,   2164.6,2,   2239.5,2,  -999.00
  32WC20120904,  WCOA,    69,  1,     14,2,20120914,1054, 40.9900,-124.8900, 2129,     50.1,   8.8400,  33.4210,2,-999.0000,9,    180.9,2,    181.7,2,    23.60,2,    21.60,2,     0.00,2,     1.71,2,        0,2,   2140.4,2,   2224.9,2,  -999.00
  32WC20120904,  WCOA,    69,  1,     15,2,20120914,1055, 40.9900,-124.8900, 2129,     39.6,   9.1690,  33.2210,2,-999.0000,9,    211.6,2,   -999.0,9,    19.60,2,    18.00,2,     0.10,2,     1.52,2,        0,2,   2110.1,2,   2217.4,2,  -999.00
  32WC20120904,  WCOA,    69,  1,     16,2,20120914,1056, 40.9900,-124.8900, 2129,     30.5,  11.0590,  33.3400,2,-999.0000,9,    261.6,2,   -999.0,9,    13.10,2,    12.60,2,     0.20,2,     1.18,2,      0.1,2,   2075.6,2,   2228.3,2,     1.58
  32WC20120904,  WCOA,    69,  1,     17,2,20120914,1057, 40.9900,-124.8900, 2129,     19.9,  11.2480,  33.3150,2,-999.0000,9,    271.6,2,    270.0,2,    11.60,2,    11.10,2,     0.20,2,     1.09,2,      0.2,2,   2066.4,2,   2227.0,2,  -999.00
  32WC20120904,  WCOA,    69,  1,     18,2,20120914,1059, 40.9900,-124.8900, 2129,     16.3,  11.4960,  33.2880,2,  33.3000,2,    277.5,2,   -999.0,9,    10.90,2,    10.30,2,     0.20,2,     1.03,2,      0.2,2,   2061.8,2,   2227.5,2,  -999.00
  32WC20120904,  WCOA,    69,  1,     19,2,20120914,1100, 40.9900,-124.8900, 2129,     10.6,  11.6650,  33.2790,2,-999.0000,9,    276.7,2,   -999.0,9,    10.60,2,     9.60,2,     0.20,2,     0.99,2,      0.1,2,   2056.1,2,   2227.9,2,     1.43
  32WC20120904,  WCOA,    69,  1,     20,2,20120914,1101, 40.9900,-124.8900, 2129,      3.0,  12.4190,  33.0870,2,-999.0000,9,    272.5,2,    272.9,2,     7.30,2,     6.70,2,     0.20,2,     0.82,2,      0.1,2,   2033.9,6,   2216.4,6,     0.99
  32WC20120904,  WCOA,    70,  1,      1,2,20120915,0822, 39.8900,-125.2100, 2465,    998.9,   3.6600,  34.4430,2,  34.4310,2,     17.8,2,     17.2,2,   124.90,2,    42.80,2,     0.00,2,     3.04,2,        0,2,   2368.3,2,   2375.6,6,  -999.00
  32WC20120904,  WCOA,    70,  1,      2,2,20120915,0827, 39.8900,-125.2100, 2465,    754.0,   4.1720,  34.3110,2,-999.0000,9,     10.3,2,      9.8,2,   111.10,2,    42.20,2,     0.00,2,     3.04,2,        0,2,   2353.7,2,   2350.9,2,  -999.00
  32WC20120904,  WCOA,    70,  1,      3,2,20120915,0832, 39.8900,-125.2100, 2465,    501.6,   5.1830,  34.1690,2,-999.0000,9,     22.2,2,   -999.0,9,    85.10,2,    40.40,2,     0.00,2,     2.91,2,        0,2,   2318.8,2,   2317.4,2,  -999.00
  32WC20120904,  WCOA,    70,  1,      4,2,20120915,0835, 39.8900,-125.2100, 2465,    400.7,   5.6710,  34.0880,2,-999.0000,9,     36.0,2,     35.6,2,    72.50,2,    39.00,2,     0.00,2,     2.78,2,        0,2,   2296.3,2,   2299.2,2,  -999.00
  32WC20120904,  WCOA,    70,  1,      5,2,20120915,0837, 39.8900,-125.2100, 2465,    300.9,   6.3390,  34.0260,2,-999.0000,9,     60.0,2,   -999.0,9,    59.30,2,    36.10,2,     0.00,2,     2.55,2,        0,2,   2267.9,2,   2284.6,2,  -999.00
  32WC20120904,  WCOA,    70,  1,      6,2,20120915,0840, 39.8900,-125.2100, 2465,    201.9,   7.2210,  33.9740,2,-999.0000,9,     88.2,2,     89.1,2,    45.80,2,    32.60,2,     0.00,2,     2.30,2,        0,2,   2236.3,2,   2268.1,2,  -999.00
  32WC20120904,  WCOA,    70,  1,      7,2,20120915,0842, 39.8900,-125.2100, 2465,    152.2,   7.7020,  33.9070,2,-999.0000,9,    113.3,2,   -999.0,9,    38.90,2,    30.10,2,     0.00,2,     2.14,2,        0,2,   2215.2,2,   2259.5,2,  -999.00
  32WC20120904,  WCOA,    70,  1,      8,2,20120915,0844, 39.8900,-125.2100, 2465,    125.6,   8.0090,  33.8220,2,-999.0000,9,    128.6,2,   -999.0,9,    34.90,2,    28.40,2,     0.00,2,     2.04,2,        0,2,   2200.2,2,   2252.8,2,  -999.00
  32WC20120904,  WCOA,    70,  1,      9,2,20120915,0847, 39.8900,-125.2100, 2465,    100.8,   8.4530,  33.6030,2,-999.0000,9,    161.3,2,    156.8,2,    28.50,2,    24.80,2,     0.00,2,     1.84,2,        0,2,   2170.8,2,   2237.9,2,  -999.00
  32WC20120904,  WCOA,    70,  1,     10,2,20120915,0848, 39.8900,-125.2100, 2465,     80.5,   8.6160,  33.3920,2,-999.0000,9,    186.0,2,   -999.0,9,    23.30,2,    21.00,2,     0.10,2,     1.64,2,        0,2,   2139.6,2,   2225.7,2,  -999.00
  32WC20120904,  WCOA,    70,  1,     11,2,20120915,0850, 39.8900,-125.2100, 2465,     60.1,   9.9280,  33.1580,2,-999.0000,9,    219.1,2,   -999.0,9,  -999.00,9,  -999.00,9,  -999.00,9,  -999.00,9,     -999,9,   -999.0,9,   -999.0,9,  -999.00
  32WC20120904,  WCOA,    70,  1,     12,2,20120915,0851, 39.8900,-125.2100, 2465,     50.3,  11.9120,  32.8660,2,-999.0000,9,    265.1,2,    260.4,2,     5.70,2,     4.10,2,     0.20,2,     0.74,2,      0.5,2,   2032.3,2,   2202.8,2,  -999.00
  32WC20120904,  WCOA,    70,  1,     13,2,20120915,0852, 39.8900,-125.2100, 2465,     40.7,  13.0950,  32.7730,2,-999.0000,9,    266.9,2,   -999.0,9,     4.20,2,     1.80,2,     0.10,2,     0.59,2,      0.4,2,   2011.5,2,   2199.1,2,  -999.00
  32WC20120904,  WCOA,    70,  1,     14,2,20120915,0853, 39.8900,-125.2100, 2465,     29.6,  13.4130,  32.7820,2,-999.0000,9,    269.6,2,   -999.0,9,     3.50,2,     1.40,2,     0.10,2,     0.56,2,      0.4,2,   2008.2,2,   2200.5,2,     0.32
  32WC20120904,  WCOA,    70,  1,     15,2,20120915,0854, 39.8900,-125.2100, 2465,     20.4,  13.4850,  32.7850,2,-999.0000,9,    269.8,2,    268.5,2,     3.40,2,     1.40,2,     0.10,2,     0.56,2,      0.3,2,   2007.1,2,   2218.0,4,  -999.00
  32WC20120904,  WCOA,    70,  1,     16,2,20120915,0855, 39.8900,-125.2100, 2465,     15.9,  13.5530,  32.7840,2,-999.0000,9,    269.5,2,   -999.0,9,     3.40,2,     1.30,2,     0.10,2,     0.55,2,      0.3,2,   2005.3,2,   2201.2,2,  -999.00
  32WC20120904,  WCOA,    70,  1,     17,2,20120915,0856, 39.8900,-125.2100, 2465,     10.2,  13.6670,  32.7830,2,  32.7810,2,    267.9,2,   -999.0,9,     3.60,2,     1.30,2,     0.10,2,     0.54,2,      0.1,2,   2007.0,2,   2202.7,2,     0.29
  32WC20120904,  WCOA,    70,  1,     18,2,20120915,0857, 39.8900,-125.2100, 2465,      2.6,  13.8680,  32.7870,2,-999.0000,9,    268.4,2,    269.2,2,     3.60,2,     1.10,2,     0.10,2,     0.54,2,      0.1,2,   2003.7,6,   2199.4,6,     0.26
  32WC20120904,  WCOA,    71,  1,      1,2,20120915,0529, 40.0000,-124.9400, 1469,   1460.7,   2.7620,  34.5300,2,  34.5340,2,     38.3,2,     39.6,2,   149.60,2,    41.50,2,     0.10,2,     2.96,2,        0,2,   2382.6,2,   2402.9,6,  -999.00
  32WC20120904,  WCOA,    71,  1,      2,2,20120915,0537, 40.0000,-124.9400, 1469,   1001.5,   3.5990,  34.4300,2,  34.4350,2,     15.8,2,     17.6,2,   127.00,2,    42.70,2,     0.00,2,     3.04,2,        0,2,   2373.9,2,   2376.4,2,  -999.00
  32WC20120904,  WCOA,    71,  1,      3,2,20120915,0543, 40.0000,-124.9400, 1469,    749.8,   4.2670,  34.2920,2,-999.0000,9,     10.7,2,     10.1,2,   108.50,2,    42.30,2,     0.00,2,     3.04,2,        0,2,   2354.3,2,   2349.5,2,  -999.00
  32WC20120904,  WCOA,    71,  1,      4,2,20120915,0548, 40.0000,-124.9400, 1469,    501.5,   4.9800,  34.1290,2,-999.0000,9,     26.4,2,   -999.0,9,    86.20,2,    40.50,2,     0.00,2,     2.91,2,        0,2,   2320.7,2,   2315.3,2,  -999.00
  32WC20120904,  WCOA,    71,  1,      5,2,20120915,0551, 40.0000,-124.9400, 1469,    401.2,   5.6390,  34.0890,2,-999.0000,9,     37.9,2,     37.3,2,    73.20,2,    38.80,2,     0.00,2,     2.81,2,        0,2,   2301.2,2,   2301.1,2,  -999.00
  32WC20120904,  WCOA,    71,  1,      6,2,20120915,0553, 40.0000,-124.9400, 1469,    301.9,   6.5160,  34.0460,2,-999.0000,9,     58.5,2,   -999.0,9,    58.30,2,    35.70,2,     0.00,2,     2.60,2,        0,2,   2271.9,2,   2286.1,2,  -999.00
  32WC20120904,  WCOA,    71,  1,      7,2,20120915,0556, 40.0000,-124.9400, 1469,    199.1,   7.5300,  33.9570,2,  33.9600,2,    101.4,2,    100.8,2,    43.10,2,    31.70,2,     0.00,2,     2.30,2,        0,2,   2230.8,2,   2266.7,2,  -999.00
  32WC20120904,  WCOA,    71,  1,      8,2,20120915,0558, 40.0000,-124.9400, 1469,    150.4,   8.0590,  33.8470,2,-999.0000,9,    125.8,2,   -999.0,9,    35.80,2,    28.80,2,     0.00,2,     2.12,2,        0,2,   2205.5,2,   2255.5,2,  -999.00
  32WC20120904,  WCOA,    71,  1,      9,2,20120915,0559, 40.0000,-124.9400, 1469,    124.1,   8.2420,  33.7520,2,-999.0000,9,    138.2,2,   -999.0,9,    33.30,2,    27.50,2,     0.00,2,     2.05,2,        0,2,   2192.2,2,   2250.0,2,  -999.00
  32WC20120904,  WCOA,    71,  1,     10,2,20120915,0600, 40.0000,-124.9400, 1469,    100.2,   8.9600,  33.5160,2,-999.0000,9,    175.7,2,    175.1,2,    25.00,2,    22.90,2,     0.00,2,     1.79,2,        0,2,   2154.1,2,   2234.5,2,  -999.00
  32WC20120904,  WCOA,    71,  1,     11,2,20120915,0601, 40.0000,-124.9400, 1469,     79.0,   9.2200,  33.3820,2,-999.0000,9,    199.5,2,   -999.0,9,    21.40,2,    19.90,2,     0.10,2,     1.64,2,        0,2,   2133.5,2,   2164.6,4,  -999.00
  32WC20120904,  WCOA,    71,  1,     12,2,20120915,0602, 40.0000,-124.9400, 1469,     60.4,  10.0860,  33.1050,2,-999.0000,9,    238.2,2,    236.9,2,    14.10,2,    13.10,2,     0.20,2,     1.28,2,      0.3,2,   2084.4,2,   2215.3,2,  -999.00
  32WC20120904,  WCOA,    71,  1,     13,2,20120915,0603, 40.0000,-124.9400, 1469,     49.4,  11.0640,  33.0280,2,-999.0000,9,    258.7,2,   -999.0,9,     8.70,2,     8.10,2,     0.20,2,     0.99,2,      0.5,2,   2058.9,2,   2213.5,2,  -999.00
  32WC20120904,  WCOA,    71,  1,     14,2,20120915,0604, 40.0000,-124.9400, 1469,     39.8,  11.0890,  32.9770,2,-999.0000,9,    263.0,2,   -999.0,9,     8.50,2,     7.60,2,     0.20,2,     0.96,2,      0.6,2,   2052.5,2,   2210.2,2,  -999.00
  32WC20120904,  WCOA,    71,  1,     15,2,20120915,0605, 40.0000,-124.9400, 1469,     29.2,  11.7820,  32.9410,2,-999.0000,9,    280.1,2,    267.0,2,     7.20,2,     6.20,2,     0.20,2,     0.88,2,      0.4,2,   2041.3,2,   2208.4,2,     1.26
  32WC20120904,  WCOA,    71,  1,     16,2,20120915,0606, 40.0000,-124.9400, 1469,     19.2,  13.2500,  32.9250,2,-999.0000,9,    274.2,2,   -999.0,9,     2.30,2,     2.90,2,     0.10,2,     0.61,2,      0.1,2,   2015.7,2,   2208.9,2,  -999.00
  32WC20120904,  WCOA,    71,  1,     17,2,20120915,0607, 40.0000,-124.9400, 1469,     15.2,  13.3610,  32.9210,2,-999.0000,9,    273.8,2,    278.8,2,     2.40,2,     2.70,2,     0.10,2,     0.60,2,      0.1,2,   2013.0,2,   2210.2,2,  -999.00
  32WC20120904,  WCOA,    71,  1,     18,2,20120915,0608, 40.0000,-124.9400, 1469,     10.4,  13.4770,  32.9160,2,-999.0000,9,    273.2,2,   -999.0,9,     2.80,2,     2.50,2,     0.10,2,     0.59,2,      0.1,2,   2010.6,2,   2209.3,2,     0.86
  32WC20120904,  WCOA,    71,  1,     19,2,20120915,0609, 40.0000,-124.9400, 1469,      2.6,  13.7170,  32.9100,2,  32.9090,2,    273.6,2,    276.1,2,     2.60,2,     2.50,2,     0.10,2,     0.59,2,      0.1,2,   2011.4,2,   2209.6,6,     0.79
  32WC20120904,  WCOA,    72,  1,      1,2,20120915,0249, 40.1100,-124.7100,  918,    914.5,   3.9620,  34.3880,2,  34.3720,2,     12.1,2,   -999.0,9,   118.30,2,    42.70,2,     0.00,2,     3.07,2,        0,2,   2362.0,2,   2360.1,6,  -999.00
  32WC20120904,  WCOA,    72,  1,      2,2,20120915,0253, 40.1100,-124.7100,  918,    752.1,   4.4320,  34.3100,2,-999.0000,9,     10.8,2,     12.7,2,   105.70,2,    42.10,2,     0.00,2,     3.04,2,        0,2,   2348.4,2,   2345.5,2,  -999.00
  32WC20120904,  WCOA,    72,  1,      3,2,20120915,0257, 40.1100,-124.7100,  918,    500.6,   5.6820,  34.1510,2,-999.0000,9,     27.9,2,     27.1,2,    76.10,2,    39.20,2,     0.00,2,     2.85,2,        0,2,   2305.7,2,   2308.2,2,  -999.00
  32WC20120904,  WCOA,    72,  1,      4,2,20120915,0300, 40.1100,-124.7100,  918,    400.0,   6.3910,  34.0840,2,-999.0000,9,     45.2,2,     45.0,2,    62.40,2,    37.10,2,     0.00,2,     2.66,2,        0,2,   2279.5,2,   2290.4,2,  -999.00
  32WC20120904,  WCOA,    72,  1,      5,2,20120915,0302, 40.1100,-124.7100,  918,    301.9,   7.0810,  34.0540,2,-999.0000,9,     64.0,2,   -999.0,9,    51.30,2,    34.60,2,     0.00,2,     2.48,2,        0,2,   2255.4,2,   2278.1,2,  -999.00
  32WC20120904,  WCOA,    72,  1,      6,2,20120915,0305, 40.1100,-124.7100,  918,    200.5,   7.6050,  33.9110,2,-999.0000,9,    128.5,2,    128.7,2,    37.20,2,    28.50,2,     0.00,2,     2.02,2,        0,2,   2198.7,2,   2259.2,2,  -999.00
  32WC20120904,  WCOA,    72,  1,      7,2,20120915,0307, 40.1100,-124.7100,  918,    150.8,   8.2680,  33.8050,2,-999.0000,9,    134.0,2,    133.4,2,    33.20,2,    28.00,2,     0.00,2,     2.02,2,        0,2,   2192.1,2,   2251.2,2,  -999.00
  32WC20120904,  WCOA,    72,  1,      8,2,20120915,0308, 40.1100,-124.7100,  918,    125.4,   8.4340,  33.6600,2,-999.0000,9,    154.9,2,   -999.0,9,    28.10,2,    24.90,2,     0.00,2,     1.84,2,        0,2,   2167.8,2,   2239.5,2,  -999.00
  32WC20120904,  WCOA,    72,  1,      9,2,20120915,0310, 40.1100,-124.7100,  918,    101.1,   8.9910,  33.4920,2,-999.0000,9,    178.9,2,    180.4,2,    23.20,2,    22.00,2,     0.10,2,     1.69,2,        0,2,   2145.2,2,   2230.8,2,  -999.00
  32WC20120904,  WCOA,    72,  1,     10,2,20120915,0311, 40.1100,-124.7100,  918,     80.4,   9.2890,  33.3220,2,-999.0000,9,    198.0,2,   -999.0,9,    19.70,2,    19.00,2,     0.10,2,     1.52,2,        0,2,   2122.2,2,   2222.7,2,  -999.00
  32WC20120904,  WCOA,    72,  1,     11,2,20120915,0313, 40.1100,-124.7100,  918,     60.6,   9.8130,  32.9840,2,-999.0000,9,    241.2,2,    241.4,2,    12.70,2,    11.80,2,     0.20,2,     1.15,2,      0.3,2,   2071.8,2,   2206.0,2,  -999.00
  32WC20120904,  WCOA,    72,  1,     12,2,20120915,0314, 40.1100,-124.7100,  918,     48.8,  10.3110,  32.9720,2,-999.0000,9,    251.2,2,   -999.0,9,    10.30,2,     9.80,2,     0.20,2,     1.05,2,      0.5,2,   2060.8,2,   2206.0,2,  -999.00
  32WC20120904,  WCOA,    72,  1,     13,2,20120915,0315, 40.1100,-124.7100,  918,     40.5,  11.4290,  32.9760,2,-999.0000,9,    266.3,2,    263.9,2,     6.70,2,     7.40,2,     0.20,2,     0.91,2,      0.5,2,   2047.5,2,   2206.3,2,  -999.00
  32WC20120904,  WCOA,    72,  1,     14,2,20120915,0316, 40.1100,-124.7100,  918,     30.8,  12.2190,  32.9820,2,-999.0000,9,    282.6,2,   -999.0,9,     2.00,2,     4.80,2,     0.10,2,     0.70,2,      0.2,2,   2025.8,2,   2210.1,2,     1.56
  32WC20120904,  WCOA,    72,  1,     15,2,20120915,0317, 40.1100,-124.7100,  918,     20.9,  12.7790,  32.9620,2,-999.0000,9,    279.9,2,    277.7,2,     2.20,2,     4.10,2,     0.10,2,     0.67,2,      0.2,2,   2021.9,2,   2210.3,2,  -999.00
  32WC20120904,  WCOA,    72,  1,     16,2,20120915,0318, 40.1100,-124.7100,  918,     13.2,  13.0600,  32.9450,2,  32.9460,2,    277.9,2,   -999.0,9,     1.70,2,     3.10,2,     0.10,2,     0.61,2,      0.1,2,   2014.0,2,   2209.0,2,  -999.00
  32WC20120904,  WCOA,    72,  1,     17,2,20120915,0319, 40.1100,-124.7100,  918,     10.2,  13.1740,  32.9390,2,-999.0000,9,    277.6,2,   -999.0,9,     1.20,2,     2.60,2,     0.10,2,     0.57,2,      0.1,2,   2009.8,2,   2209.2,2,     0.92
  32WC20120904,  WCOA,    72,  1,     18,2,20120915,0320, 40.1100,-124.7100,  918,      2.4,  13.4790,  32.9470,2,-999.0000,9,    275.8,2,    279.2,2,     1.40,2,     2.80,2,     0.10,2,     0.59,2,      0.1,2,   2012.9,2,   2209.3,6,     0.89