BOTTLE,20180213PRINUNIVRMK
EXPOCODE,SECT_ID,STNNBR,CASTNO,BTLNBR,BTLNBR_FLAG_W,DATE,TIME,LATITUDE,LONGITUDE,DEPTH,CTDPRS,CTDTMP,CTDSAL,CTDSAL_FLAG_W,SALNTY,SALNTY_FLAG_W,CTDOXY,CTDOXY_FLAG_W,OXYGEN,OXYGEN_FLAG_W,SILCAT,SILCAT_FLAG_W,NITRAT,NITRAT_FLAG_W,NITRIT,NITRIT_FLAG_W,PHSPHT,PHSPHT_FLAG_W,NH4,NH4_FLAG_W,TCARBN,TCARBN_FLAG_W,ALKALI,ALKALI_FLAG_W,CHLORA
,,,,,,,,,,METERS,DBAR,ITS-90,PSS-78,,PSS-78,,UMOL/KG,,UMOL/KG,,UMOL/KG,,UMOL/KG,,UMOL/KG,,UMOL/KG,,UMOL/KG,,UMOL/KG,,UMOL/KG,,UG/KG
  32WC20120904,  WCOA,    78,  1,      1,2,20120916,0016, 37.7500,-123.3100,  912,    898.8,   4.1590,  34.4140,2,  34.4160,2,     15.3,2,     15.2,2,   114.40,2,    40.60,2,     0.00,2,     3.00,2,        0,2,   2361.0,2,   2363.8,6,  -999.00
  32WC20120904,  WCOA,    78,  1,      2,2,20120916,0020, 37.7500,-123.3100,  912,    750.1,   4.7590,  34.3430,2,  34.3450,2,     12.0,2,     13.9,2,   100.80,2,    39.90,2,     0.00,2,     2.98,2,        0,2,   2345.4,2,   2344.1,2,  -999.00
  32WC20120904,  WCOA,    78,  1,      3,2,20120916,0026, 37.7500,-123.3100,  912,    500.8,   6.1380,  34.2050,2,-999.0000,9,     25.1,2,     25.7,2,    72.40,2,    36.70,2,     0.00,2,     2.78,2,        0,2,   2304.3,2,   2307.2,2,  -999.00
  32WC20120904,  WCOA,    78,  1,      4,2,20120916,0028, 37.7500,-123.3100,  912,    399.3,   6.8500,  34.1400,2,-999.0000,9,     39.9,2,     41.8,2,    58.80,2,    34.90,2,     0.00,2,     2.60,2,        0,2,   2279.1,2,   2291.7,2,  -999.00
  32WC20120904,  WCOA,    78,  1,      5,2,20120916,0031, 37.7500,-123.3100,  912,    300.6,   7.4420,  34.0560,2,-999.0000,9,     81.8,2,   -999.0,9,    46.70,2,    31.30,2,     0.00,2,     2.33,2,        0,2,   2243.5,2,   2276.5,2,  -999.00
  32WC20120904,  WCOA,    78,  1,      6,2,20120916,0034, 37.7500,-123.3100,  912,    200.2,   8.3840,  33.9780,2,-999.0000,9,    113.3,2,    110.0,2,    34.10,2,    27.10,2,     0.00,2,     2.04,2,        0,2,   2205.5,2,   2260.7,2,  -999.00
  32WC20120904,  WCOA,    78,  1,      7,2,20120916,0036, 37.7500,-123.3100,  912,    150.9,   9.2060,  33.9460,2,-999.0000,9,     92.8,2,   -999.0,9,    30.90,2,    26.60,2,     0.00,2,     2.06,2,        0,2,   2204.7,2,   2255.2,2,  -999.00
  32WC20120904,  WCOA,    78,  1,      8,2,20120916,0037, 37.7500,-123.3100,  912,    125.9,   9.1520,  33.8280,2,-999.0000,9,    124.5,2,   -999.0,9,    27.10,2,    24.90,2,     0.00,2,     1.89,2,        0,2,   2181.3,2,   2246.2,2,  -999.00
  32WC20120904,  WCOA,    78,  1,      9,2,20120916,0039, 37.7500,-123.3100,  912,     99.8,   9.4780,  33.7540,2,-999.0000,9,    134.0,2,    142.4,2,    25.10,2,    24.00,2,     0.00,2,     1.84,2,        0,2,   2173.2,2,   2241.2,2,  -999.00
  32WC20120904,  WCOA,    78,  1,     10,2,20120916,0040, 37.7500,-123.3100,  912,     80.4,   9.0310,  33.4890,2,-999.0000,9,    197.3,2,   -999.0,9,    19.50,2,    18.90,2,     0.00,2,     1.51,2,        0,2,   2129.5,2,   2228.4,2,  -999.00
  32WC20120904,  WCOA,    78,  1,     11,2,20120916,0042, 37.7500,-123.3100,  912,     60.2,   9.8490,  33.4670,2,-999.0000,9,    199.0,2,   -999.0,9,    18.30,2,    19.10,2,     0.10,2,     1.54,2,        0,2,   2130.3,2,   2228.2,2,  -999.00
  32WC20120904,  WCOA,    78,  1,     12,2,20120916,0044, 37.7500,-123.3100,  912,     50.3,  10.2910,  33.3520,2,-999.0000,9,    218.7,2,    220.3,2,    15.00,2,    15.80,2,     0.30,2,     1.37,2,        0,2,   2106.7,2,   2224.2,2,  -999.00
  32WC20120904,  WCOA,    78,  1,     13,2,20120916,0046, 37.7500,-123.3100,  912,     40.2,  11.7060,  33.4450,2,-999.0000,9,    266.1,2,   -999.0,9,     8.70,2,    10.00,2,     0.30,2,     1.11,2,      1.2,2,   2074.6,2,   2234.8,2,  -999.00
  32WC20120904,  WCOA,    78,  1,     14,2,20120916,0047, 37.7500,-123.3100,  912,     29.9,  12.3500,  33.4570,2,-999.0000,9,    265.3,2,   -999.0,9,     3.70,2,     3.70,2,     0.20,2,     0.91,2,      1.6,2,   2050.6,2,   2243.7,2,     1.44
  32WC20120904,  WCOA,    78,  1,     15,2,20120916,0048, 37.7500,-123.3100,  912,     20.0,  13.3820,  33.3100,2,-999.0000,9,    280.5,2,    283.1,2,     2.90,2,     2.20,2,     0.10,2,     0.73,2,      0.9,2,   2029.0,2,   2237.2,2,  -999.00
  32WC20120904,  WCOA,    78,  1,     16,2,20120916,0049, 37.7500,-123.3100,  912,     15.8,  13.8140,  33.2690,2,-999.0000,9,    274.3,2,   -999.0,9,     2.90,2,     1.90,2,     0.10,2,     0.70,2,      0.7,2,   2024.6,2,   2234.5,2,  -999.00
  32WC20120904,  WCOA,    78,  1,     17,2,20120916,0050, 37.7500,-123.3100,  912,     10.6,  14.2090,  33.2860,2,  33.2840,2,    272.2,2,   -999.0,9,     3.10,2,     1.80,2,     0.10,2,     0.68,2,      0.5,2,   2022.4,2,   2230.2,2,     0.52
  32WC20120904,  WCOA,    78,  1,     18,2,20120916,0051, 37.7500,-123.3100,  912,      3.1,  14.2420,  33.2890,2,-999.0000,9,    271.7,2,    275.8,2,     3.10,2,     1.90,2,     0.10,2,     0.68,2,      0.5,2,   2022.6,2,   2230.3,6,     0.53
  32WC20120904,  WCOA,    79,  1,      1,2,20120916,0150, 37.7700,-123.2600,  281,    305.1,   7.5880,  34.1400,2,  34.1410,2,     50.6,2,     51.7,2,    50.90,2,    32.80,2,     0.10,2,     2.45,2,      0.1,2,   2264.0,2,   2283.7,2,  -999.00
  32WC20120904,  WCOA,    79,  1,      2,2,20120916,0153, 37.7700,-123.2600,  281,    200.2,   8.9910,  34.0600,2,-999.0000,9,     72.2,2,     71.5,2,    36.40,2,    29.20,2,     0.00,2,     2.25,2,        0,2,   2232.6,2,   2266.1,2,  -999.00
  32WC20120904,  WCOA,    79,  1,      3,2,20120916,0154, 37.7700,-123.2600,  281,    150.0,   9.4810,  33.9470,2,-999.0000,9,     87.4,2,     87.6,2,    31.60,2,    27.30,2,     0.00,2,     2.11,2,        0,2,   2214.2,2,   2254.8,2,  -999.00
  32WC20120904,  WCOA,    79,  1,      4,2,20120916,0156, 37.7700,-123.2600,  281,    124.9,   9.5930,  33.9210,2,-999.0000,9,     92.4,2,   -999.0,9,    31.00,2,    26.80,2,     0.00,2,     2.11,2,        0,2,   2207.6,2,   2254.5,2,  -999.00
  32WC20120904,  WCOA,    79,  1,      5,2,20120916,0157, 37.7700,-123.2600,  281,    100.2,   9.7230,  33.8940,2,-999.0000,9,     96.9,2,     95.4,2,    30.10,2,    26.40,2,     0.00,2,     2.08,2,        0,2,   2205.0,2,   2251.2,2,  -999.00
  32WC20120904,  WCOA,    79,  1,      6,2,20120916,0158, 37.7700,-123.2600,  281,     79.9,   9.8120,  33.8290,2,-999.0000,9,    110.5,2,   -999.0,9,    28.10,2,    25.50,2,     0.00,2,     1.98,2,        0,2,   2193.5,2,   2251.1,2,  -999.00
  32WC20120904,  WCOA,    79,  1,      7,2,20120916,0200, 37.7700,-123.2600,  281,     60.3,  10.1330,  33.7040,2,-999.0000,9,    152.3,2,    153.3,2,    21.90,2,    22.00,2,     0.10,2,     1.76,2,        0,2,   2161.1,2,   2238.6,2,  -999.00
  32WC20120904,  WCOA,    79,  1,      8,2,20120916,0201, 37.7700,-123.2600,  281,     50.5,   9.3410,  33.3470,2,-999.0000,9,    205.1,2,   -999.0,9,    17.70,2,    17.50,2,     0.10,2,     1.45,2,        0,2,   2121.7,2,   2222.6,2,  -999.00
  32WC20120904,  WCOA,    79,  1,      9,2,20120916,0202, 37.7700,-123.2600,  281,     40.3,  10.8320,  33.3480,2,-999.0000,9,    224.9,2,    222.4,2,    12.50,2,    13.30,2,     0.20,2,     1.27,2,      0.9,2,   2100.1,2,   2224.9,2,  -999.00
  32WC20120904,  WCOA,    79,  1,     10,2,20120916,0203, 37.7700,-123.2600,  281,     30.2,  10.7680,  33.0430,2,-999.0000,9,    248.3,2,   -999.0,9,    10.30,2,    10.10,2,     0.40,2,     1.07,2,      0.4,2,   2071.0,2,   2212.4,2,     0.43
  32WC20120904,  WCOA,    79,  1,     11,2,20120916,0204, 37.7700,-123.2600,  281,     20.2,  13.2390,  33.3320,2,-999.0000,9,    279.1,2,    280.3,2,     4.00,2,     4.80,2,     0.10,2,     0.74,2,      0.9,2,   2033.5,2,   2230.2,2,  -999.00
  32WC20120904,  WCOA,    79,  1,     12,2,20120916,0205, 37.7700,-123.2600,  281,     15.0,  13.9110,  33.3340,2,-999.0000,9,    277.4,2,   -999.0,9,     2.60,2,     3.70,2,     0.10,2,     0.66,2,      0.9,2,   2022.2,2,   2238.1,2,  -999.00
  32WC20120904,  WCOA,    79,  1,     13,2,20120916,0206, 37.7700,-123.2600,  281,     10.2,  13.9810,  33.2530,2,  33.2850,2,    270.4,2,    276.7,2,     3.50,2,     4.30,2,     0.10,2,     0.69,2,      0.8,2,   2026.8,2,   2233.0,2,     0.43
  32WC20120904,  WCOA,    79,  1,     14,2,20120916,0207, 37.7700,-123.2600,  281,      2.2,  13.9680,  33.2410,2,-999.0000,9,    270.0,2,    270.1,2,     4.30,2,     4.70,2,     0.10,2,     0.71,2,      0.7,2,   2030.4,2,   2227.5,6,     0.40
  32WC20120904,  WCOA,    80,  1,      1,2,20120916,0331, 37.8400,-123.0900,   90,     79.9,   9.9520,  33.7970,2,-999.0000,9,    101.8,2,    112.5,2,    28.80,2,    23.30,2,     0.20,2,     2.01,2,      0.9,2,   2195.2,2,   2247.8,2,  -999.00
  32WC20120904,  WCOA,    80,  1,      2,2,20120916,0333, 37.8400,-123.0900,   90,     60.7,  10.2430,  33.7240,2,-999.0000,9,    139.3,2,   -999.0,9,    22.40,2,    21.70,2,     0.20,2,     1.88,2,      1.2,2,   2171.9,2,   2244.2,2,  -999.00
  32WC20120904,  WCOA,    80,  1,      3,2,20120916,0334, 37.8400,-123.0900,   90,     50.9,  10.5400,  33.6380,2,-999.0000,9,    170.2,2,    161.4,2,    19.90,2,    19.80,2,     0.20,2,     1.76,2,      1.4,2,   2158.9,2,   2243.0,2,  -999.00
  32WC20120904,  WCOA,    80,  1,      4,2,20120916,0336, 37.8400,-123.0900,   90,     41.1,  11.0210,  33.5810,2,-999.0000,9,    200.1,2,   -999.0,9,    14.50,2,    15.70,2,     0.20,2,     1.47,2,      1.5,2,   2127.1,2,   2242.2,2,  -999.00
  32WC20120904,  WCOA,    80,  1,      5,2,20120916,0337, 37.8400,-123.0900,   90,     30.9,  11.4120,  33.5500,2,-999.0000,9,    216.0,2,    219.5,2,    11.50,2,    13.00,2,     0.20,2,     1.32,2,      1.6,2,   2108.1,2,   2243.4,2,     1.46
  32WC20120904,  WCOA,    80,  1,      6,2,20120916,0338, 37.8400,-123.0900,   90,     20.8,  12.2060,  33.4890,2,-999.0000,9,    261.9,2,   -999.0,9,     6.20,2,     8.30,2,     0.20,2,     0.95,2,      1.1,2,   2068.4,2,   2243.9,2,  -999.00
  32WC20120904,  WCOA,    80,  1,      7,2,20120916,0339, 37.8400,-123.0900,   90,     15.5,  12.3640,  33.4670,2,-999.0000,9,    272.4,2,    270.3,2,     5.20,2,     7.30,2,     0.20,2,     0.88,2,      0.9,2,   2058.5,2,   2245.6,2,  -999.00
  32WC20120904,  WCOA,    80,  1,      8,2,20120916,0340, 37.8400,-123.0900,   90,     10.4,  12.4020,  33.4580,2,  33.4620,2,    274.8,2,   -999.0,9,     4.40,2,     6.70,2,     0.20,2,     0.84,2,      0.8,2,   2051.4,2,   2244.7,2,     0.89
  32WC20120904,  WCOA,    80,  1,      9,2,20120916,0341, 37.8400,-123.0900,   90,      2.1,  12.4030,  33.4590,2,-999.0000,9,    274.5,2,    277.3,2,     4.60,2,     6.70,2,     0.20,2,     0.83,2,      0.8,2,   2051.4,2,   2244.7,6,     0.91
  32WC20120904,  WCOA,    81,  1,      1,2,20120916,0533, 37.9500,-122.8900,   49,     39.4,  10.1120,  33.7480,2,-999.0000,9,    115.0,2,    121.0,2,    27.20,2,    22.70,2,     0.30,2,     2.01,2,      1.8,2,   2196.7,2,   2247.8,2,  -999.00
  32WC20120904,  WCOA,    81,  1,      2,2,20120916,0534, 37.9500,-122.8900,   49,     30.1,  10.3310,  33.6580,2,-999.0000,9,    152.7,2,    146.6,2,    22.20,2,    21.40,2,     0.30,2,     1.88,2,      1.6,2,   2175.8,2,   2244.9,2,     1.24
  32WC20120904,  WCOA,    81,  1,      3,2,20120916,0535, 37.9500,-122.8900,   49,     20.9,  10.9260,  33.6080,2,-999.0000,9,    192.1,2,    187.3,2,    16.30,2,    17.70,2,     0.30,2,     1.66,2,      1.8,2,   2149.5,2,   2245.0,2,  -999.00
  32WC20120904,  WCOA,    81,  1,      4,2,20120916,0536, 37.9500,-122.8900,   49,     15.6,  11.5550,  33.6310,2,-999.0000,9,    228.0,2,    225.4,2,    12.50,2,    13.60,2,     0.30,2,     1.42,2,      1.8,2,   2124.6,2,   2253.5,2,  -999.00
  32WC20120904,  WCOA,    81,  1,      5,2,20120916,0537, 37.9500,-122.8900,   49,     10.3,  12.1450,  33.6190,2,  33.6080,2,    258.5,2,    253.7,2,    10.20,2,    11.10,2,     0.20,2,     1.25,2,      1.2,2,   2103.3,2,   2255.8,2,     4.14
  32WC20120904,  WCOA,    81,  1,      6,2,20120916,0538, 37.9500,-122.8900,   49,      3.3,  12.1940,  33.6100,2,-999.0000,9,    258.4,2,    262.5,2,    10.30,2,    10.80,2,     0.20,2,     1.24,2,        2,2,   2098.6,2,   2256.4,6,     3.67