BOTTLE,20180213PRINUNIVRMK
EXPOCODE,SECT_ID,STNNBR,CASTNO,BTLNBR,BTLNBR_FLAG_W,DATE,TIME,LATITUDE,LONGITUDE,DEPTH,CTDPRS,CTDTMP,CTDSAL,CTDSAL_FLAG_W,SALNTY,SALNTY_FLAG_W,CTDOXY,CTDOXY_FLAG_W,OXYGEN,OXYGEN_FLAG_W,SILCAT,SILCAT_FLAG_W,NITRAT,NITRAT_FLAG_W,NITRIT,NITRIT_FLAG_W,PHSPHT,PHSPHT_FLAG_W,NH4,NH4_FLAG_W,TCARBN,TCARBN_FLAG_W,ALKALI,ALKALI_FLAG_W,CHLORA
,,,,,,,,,,METERS,DBAR,ITS-90,PSS-78,,PSS-78,,UMOL/KG,,UMOL/KG,,UMOL/KG,,UMOL/KG,,UMOL/KG,,UMOL/KG,,UMOL/KG,,UMOL/KG,,UMOL/KG,,UG/KG
  32WC20120904,  WCOA,    52,  1,      1,2,20120911,1118, 44.2000,-124.4200,   93,     85.0,   7.6290,  33.8480,2,-999.0000,9,     64.5,2,     60.4,2,    53.50,2,    34.30,2,     0.50,2,     2.71,2,        1,2,   2257.9,2,   2257.7,2,  -999.00
  32WC20120904,  WCOA,    52,  1,      2,2,20120911,1120, 44.2000,-124.4200,   93,     70.9,   7.8910,  33.6410,2,-999.0000,9,    104.3,2,   -999.0,9,    39.00,2,    31.40,2,     0.40,2,     2.44,2,      0.7,2,   2217.1,2,   2244.2,3,  -999.00
  32WC20120904,  WCOA,    52,  1,      3,2,20120911,1121, 44.2000,-124.4200,   93,     60.9,   8.3370,  33.6270,2,-999.0000,9,    121.3,2,    122.5,2,    34.30,2,    29.10,2,     0.40,2,     2.46,2,      2.1,2,   2213.4,2,   2248.1,3,  -999.00
  32WC20120904,  WCOA,    52,  1,      4,2,20120911,1122, 44.2000,-124.4200,   93,     50.7,   8.8700,  33.5930,2,-999.0000,9,    153.8,2,   -999.0,9,    28.70,2,    25.40,2,     0.40,2,     2.39,2,      3.2,2,   2204.4,2,   2253.8,2,  -999.00
  32WC20120904,  WCOA,    52,  1,      5,2,20120911,1123, 44.2000,-124.4200,   93,     40.8,   9.1590,  33.5560,2,-999.0000,9,    172.8,2,    171.9,2,    23.70,2,    23.00,2,     0.40,2,     2.15,2,      3.2,2,   2188.4,2,   2253.9,2,  -999.00
  32WC20120904,  WCOA,    52,  1,      6,2,20120911,1124, 44.2000,-124.4200,   93,     30.4,   9.3190,  33.4470,2,-999.0000,9,    188.2,2,   -999.0,9,    15.80,2,    18.70,2,     0.30,2,     1.95,2,      3.7,2,   2160.0,2,   2249.2,2,  -999.00
  32WC20120904,  WCOA,    52,  1,      7,2,20120911,1126, 44.2000,-124.4200,   93,     20.5,  10.3610,  33.3230,2,-999.0000,9,    262.9,2,    259.8,2,     5.40,2,     9.40,2,     0.30,2,     1.21,2,      2.8,2,   2086.7,2,   2246.1,2,  -999.00
  32WC20120904,  WCOA,    52,  1,      8,2,20120911,1126, 44.2000,-124.4200,   93,     15.7,   9.8130,  32.9970,2,-999.0000,9,    234.1,2,   -999.0,9,    10.50,2,    11.90,2,     0.30,2,     1.44,2,      3.2,2,   2091.3,2,   2229.7,2,  -999.00
  32WC20120904,  WCOA,    52,  1,      9,2,20120911,1127, 44.2000,-124.4200,   93,     10.8,  11.1930,  32.5430,2,-999.0000,9,    296.8,2,    286.4,2,     5.90,2,     6.40,2,     0.20,2,     0.85,2,      1.2,2,   2026.0,2,   2209.7,2,  -999.00
  32WC20120904,  WCOA,    52,  1,     10,2,20120911,1129, 44.2000,-124.4200,   93,      3.0,  11.5460,  32.4750,2,  32.4760,2,    301.6,2,   -999.0,9,     3.80,2,     3.00,2,     0.10,2,     0.52,2,      0.2,2,   1987.6,6,   2199.6,6,  -999.00
  32WC20120904,  WCOA,    53,  1,      1,2,20120911,0949, 44.2000,-124.2600,   74,     63.3,   7.7140,  33.8180,2,-999.0000,9,     75.3,2,     75.2,2,    55.30,2,    32.60,2,     0.30,2,     2.55,2,        0,2,   2245.1,2,   2255.9,2,  -999.00
  32WC20120904,  WCOA,    53,  1,      2,2,20120911,0950, 44.2000,-124.2600,   74,     49.0,   7.8010,  33.7770,2,-999.0000,9,    108.8,2,    101.9,2,    42.90,2,    31.90,2,     0.20,2,     2.36,2,        0,2,   2220.2,2,   2252.8,2,  -999.00
  32WC20120904,  WCOA,    53,  1,      3,2,20120911,0951, 44.2000,-124.2600,   74,     40.6,   7.7700,  33.7130,2,-999.0000,9,     94.3,2,   -999.0,9,    40.70,2,    33.00,2,     0.40,2,     2.45,2,        0,2,   2226.6,2,   -999.0,5,  -999.00
  32WC20120904,  WCOA,    53,  1,      4,2,20120911,0953, 44.2000,-124.2600,   74,     31.9,   7.9310,  33.6200,2,-999.0000,9,    126.7,2,    118.9,2,    35.10,2,    29.70,2,     0.40,2,     2.21,2,      0.4,2,   2205.5,2,   2241.1,2,  -999.00
  32WC20120904,  WCOA,    53,  1,      5,2,20120911,0954, 44.2000,-124.2600,   74,     20.4,   8.1740,  33.5970,2,-999.0000,9,    130.0,2,   -999.0,9,    32.10,2,    28.00,2,     0.50,2,     2.20,2,      1.1,2,   2200.4,2,   2240.3,2,  -999.00
  32WC20120904,  WCOA,    53,  1,      6,2,20120911,0955, 44.2000,-124.2600,   74,     15.0,   9.2590,  33.4830,2,-999.0000,9,    178.2,2,    177.4,2,    23.60,2,    22.80,2,     0.50,2,     1.97,2,      2.1,2,   2174.8,2,   2248.9,3,  -999.00
  32WC20120904,  WCOA,    53,  1,      7,2,20120911,0955, 44.2000,-124.2600,   74,     10.4,  11.1990,  33.1090,2,-999.0000,9,    340.9,2,   -999.0,9,     8.60,2,     8.60,2,     0.30,2,     0.94,2,      0.9,2,   2058.8,2,   2243.4,3,  -999.00
  32WC20120904,  WCOA,    53,  1,      8,2,20120911,0956, 44.2000,-124.2600,   74,      2.4,  11.4460,  32.9750,2,  32.9860,2,    348.9,2,    347.2,2,     0.80,2,     0.10,2,     0.30,2,     0.27,2,      0.1,2,   1979.5,6,   2234.7,2,  -999.00
  32WC20120904,  WCOA,    54,  1,      1,2,20120911,0833, 44.2000,-124.1700,   45,     35.0,   7.9150,  33.7410,2,-999.0000,9,     66.8,2,     73.4,2,    50.10,2,    32.80,2,     0.50,2,     2.70,2,      1.4,2,   2258.0,2,   2253.6,2,  -999.00
  32WC20120904,  WCOA,    54,  1,      2,2,20120911,0834, 44.2000,-124.1700,   45,     35.0,   7.9280,  33.7390,2,-999.0000,9,     69.3,2,   -999.0,9,    49.80,2,    32.70,2,     0.50,2,     2.74,2,      1.4,2,   -999.0,9,   -999.0,9,  -999.00
  32WC20120904,  WCOA,    54,  1,      3,2,20120911,0835, 44.2000,-124.1700,   45,     30.1,   8.1920,  33.7140,2,-999.0000,9,    105.6,2,   -999.0,9,    48.10,2,    31.70,2,     0.50,2,     2.65,2,      1.4,2,   2244.4,2,   2254.5,2,  -999.00
  32WC20120904,  WCOA,    54,  1,      4,2,20120911,0837, 44.2000,-124.1700,   45,     20.2,   8.8520,  33.6630,2,-999.0000,9,    180.4,2,    171.4,2,    41.50,2,    28.30,2,     0.50,2,     2.41,2,      1.3,2,   2205.4,2,   2254.0,2,  -999.00
  32WC20120904,  WCOA,    54,  1,      5,2,20120911,0838, 44.2000,-124.1700,   45,     15.9,   8.7530,  33.5880,2,-999.0000,9,    175.2,2,   -999.0,9,    32.10,2,    26.10,2,     0.40,2,     2.26,2,      1.4,2,   2192.9,2,   2249.8,2,  -999.00
  32WC20120904,  WCOA,    54,  1,      6,2,20120911,0839, 44.2000,-124.1700,   45,     11.0,   9.9100,  33.4420,2,-999.0000,9,    259.3,2,    245.8,2,    23.00,2,    18.50,2,     0.40,2,     1.70,2,      0.6,2,   2129.8,2,   2248.1,2,  -999.00
  32WC20120904,  WCOA,    54,  1,      7,2,20120911,0840, 44.2000,-124.1700,   45,      2.5,  10.2490,  33.4270,2,  33.4120,2,    280.0,2,    281.9,2,    18.70,2,    14.40,2,     0.40,2,     1.39,2,      0.2,2,   2095.8,6,   2249.7,2,  -999.00
  32WC20120904,  WCOA,    55,  1,      1,2,20120912,0327, 43.4000,-124.3900,   55,     42.5,   8.4250,  33.7500,2,-999.0000,9,    138.8,2,    139.2,2,    40.80,2,    29.90,2,     0.60,2,     2.31,2,      0.3,2,   2209.1,2,   2250.8,2,  -999.00
  32WC20120904,  WCOA,    55,  1,      2,2,20120912,0327, 43.4000,-124.3900,   55,     42.9,   8.4170,  33.7620,2,-999.0000,9,    138.5,2,   -999.0,9,  -999.00,9,  -999.00,9,  -999.00,9,  -999.00,9,     -999,9,   -999.0,9,   -999.0,9,  -999.00
  32WC20120904,  WCOA,    55,  1,      3,2,20120912,0328, 43.4000,-124.3900,   55,     29.8,   8.5080,  33.6950,2,-999.0000,9,    150.5,2,    151.2,2,    35.80,2,    28.60,2,     0.60,2,     2.22,2,      0.6,2,   2197.1,2,   2248.5,2,     0.50
  32WC20120904,  WCOA,    55,  1,      4,2,20120912,0330, 43.4000,-124.3900,   55,     21.9,   8.3750,  33.5180,2,-999.0000,9,    156.7,2,    159.4,2,    29.30,2,    26.10,2,     0.10,2,     1.99,2,        0,2,   2169.0,2,   2235.4,2,  -999.00
  32WC20120904,  WCOA,    55,  1,      5,2,20120912,0331, 43.4000,-124.3900,   55,     16.2,   8.9510,  33.4010,2,-999.0000,9,    192.7,2,   -999.0,9,    24.50,2,    21.70,2,     0.30,2,     1.79,2,      0.2,2,   2139.8,2,   2232.6,2,  -999.00
  32WC20120904,  WCOA,    55,  1,      6,2,20120912,0332, 43.4000,-124.3900,   55,     10.7,   9.5440,  33.2780,2,  33.2770,2,    226.0,2,    241.0,2,    20.80,2,    18.00,2,     0.20,2,     1.54,2,      0.1,2,   2109.2,2,   2228.7,2,     3.65
  32WC20120904,  WCOA,    55,  1,      7,2,20120912,0333, 43.4000,-124.3900,   55,      2.4,   9.7880,  33.2250,2,-999.0000,9,    245.0,2,    245.5,2,    18.90,2,    16.10,2,     0.20,2,     1.43,2,      0.1,2,   2095.0,6,   2228.2,6,     4.55
  32WC20120904,  WCOA,    56,  1,      1,2,20120912,0438, 43.4000,-124.4300,   96,     85.0,   8.2530,  33.8040,2,-999.0000,9,    114.0,2,    114.6,2,    43.00,2,    30.60,2,     0.60,2,     2.37,2,      0.4,2,   2220.2,2,   2252.5,2,  -999.00
  32WC20120904,  WCOA,    56,  1,      2,2,20120912,0438, 43.4000,-124.4300,   96,     84.8,   8.2560,  33.8030,2,-999.0000,9,    115.3,2,   -999.0,9,  -999.00,9,  -999.00,9,  -999.00,9,  -999.00,9,     -999,9,   -999.0,9,   -999.0,9,  -999.00
  32WC20120904,  WCOA,    56,  1,      3,2,20120912,0439, 43.4000,-124.4300,   96,     79.9,   8.2670,  33.7990,2,-999.0000,9,    115.4,2,    115.5,2,    42.80,2,    30.60,2,     0.60,2,     2.50,2,      0.4,2,   2217.8,2,   2251.6,2,  -999.00
  32WC20120904,  WCOA,    56,  1,      4,2,20120912,0441, 43.4000,-124.4300,   96,     60.8,   8.3850,  33.7550,2,-999.0000,9,    131.1,2,   -999.0,9,    39.30,2,    29.90,2,     0.60,2,     2.44,2,      0.3,2,   2208.1,2,   2248.4,2,  -999.00
  32WC20120904,  WCOA,    56,  1,      5,2,20120912,0442, 43.4000,-124.4300,   96,     48.8,   8.3090,  33.6020,2,-999.0000,9,    147.6,2,    147.3,2,    31.70,2,    27.50,2,     0.10,2,     2.21,2,        0,2,   2183.0,2,   2239.7,2,  -999.00
  32WC20120904,  WCOA,    56,  1,      6,2,20120912,0444, 43.4000,-124.4300,   96,     40.4,   8.8450,  33.5290,2,-999.0000,9,    174.5,2,   -999.0,9,    29.70,2,    25.70,2,     0.40,2,     2.19,2,      0.7,2,   2176.9,2,   2238.4,2,  -999.00
  32WC20120904,  WCOA,    56,  1,      7,2,20120912,0445, 43.4000,-124.4300,   96,     29.7,   8.8180,  33.2950,2,-999.0000,9,    196.2,2,    192.6,2,    22.20,2,    20.80,2,     0.30,2,     1.84,2,      0.2,2,   2136.5,2,   2223.8,2,     0.59
  32WC20120904,  WCOA,    56,  1,      8,2,20120912,0446, 43.4000,-124.4300,   96,     20.2,   9.7110,  33.0960,2,-999.0000,9,    251.3,2,   -999.0,9,    16.60,2,    13.80,2,     0.20,2,     1.24,2,        0,2,   2083.0,2,   2218.7,2,  -999.00
  32WC20120904,  WCOA,    56,  1,      9,2,20120912,0447, 43.4000,-124.4300,   96,     14.8,   9.7520,  33.0910,2,-999.0000,9,    251.1,2,    254.2,2,    16.20,2,    13.50,2,     0.20,2,     1.33,2,        0,2,   2079.5,2,   2218.1,2,  -999.00
  32WC20120904,  WCOA,    56,  1,     10,2,20120912,0448, 43.4000,-124.4300,   96,      9.8,   9.8150,  33.0880,2,  33.0880,2,    251.0,2,   -999.0,9,    15.90,2,    13.40,2,     0.20,2,     1.33,2,        0,2,   2078.2,2,   2218.1,2,     4.30
  32WC20120904,  WCOA,    56,  1,     11,2,20120912,0449, 43.4000,-124.4300,   96,      3.8,   9.8320,  33.0880,2,-999.0000,9,    250.8,2,    255.4,2,    15.90,2,    13.20,2,     0.20,2,     1.33,2,        0,2,   2076.2,6,   2218.5,6,     4.28
  32WC20120904,  WCOA,    57,  1,      1,2,20120912,1553, 43.4000,-124.6400,  198,    188.8,   7.7930,  33.9570,2,  33.9420,2,     90.8,2,     92.3,2,    43.80,2,    32.60,2,     0.10,2,     2.33,2,        0,2,   2231.2,6,   2263.7,2,  -999.00
  32WC20120904,  WCOA,    57,  1,      2,2,20120912,1553, 43.4000,-124.6400,  198,    189.1,   7.7910,  33.9570,2,-999.0000,9,     90.3,2,   -999.0,9,  -999.00,9,  -999.00,9,  -999.00,9,  -999.00,9,     -999,9,   -999.0,9,   -999.0,9,  -999.00
  32WC20120904,  WCOA,    57,  1,      3,2,20120912,1555, 43.4000,-124.6400,  198,    150.4,   7.9090,  33.9180,2,-999.0000,9,    105.2,2,    103.7,2,    41.20,2,    31.60,2,     0.00,2,     2.27,2,        0,2,   2221.6,2,   2259.8,2,  -999.00
  32WC20120904,  WCOA,    57,  1,      4,2,20120912,1557, 43.4000,-124.6400,  198,    126.1,   8.0590,  33.8560,2,-999.0000,9,    119.3,2,   -999.0,9,    39.20,2,    30.50,2,     0.00,2,     2.21,2,        0,2,   2211.7,2,   2255.7,2,  -999.00
  32WC20120904,  WCOA,    57,  1,      5,2,20120912,1558, 43.4000,-124.6400,  198,    101.3,   8.1180,  33.8320,2,-999.0000,9,    127.1,2,    126.2,2,    38.20,2,    29.80,2,     0.10,2,     2.19,2,        0,2,   2206.6,2,   2254.0,2,  -999.00
  32WC20120904,  WCOA,    57,  1,      6,2,20120912,1559, 43.4000,-124.6400,  198,     81.7,   8.3100,  33.7730,2,-999.0000,9,    150.8,2,   -999.0,9,    35.80,2,    28.50,2,     0.20,2,     2.12,2,        0,2,   2192.3,2,   2252.1,2,  -999.00
  32WC20120904,  WCOA,    57,  1,      7,2,20120912,1600, 43.4000,-124.6400,  198,     59.5,   9.0940,  33.3580,2,-999.0000,9,    199.6,2,    201.7,2,    22.40,2,    21.10,2,     0.30,2,     1.78,2,      0.6,2,   2138.6,2,   2232.8,2,  -999.00
  32WC20120904,  WCOA,    57,  1,      8,2,20120912,1601, 43.4000,-124.6400,  198,     50.3,   9.3430,  33.1950,2,-999.0000,9,    219.1,2,   -999.0,9,    16.80,2,    16.90,2,     0.30,2,     1.55,2,      0.7,2,   2105.8,2,   2224.4,2,  -999.00
  32WC20120904,  WCOA,    57,  1,      9,2,20120912,1602, 43.4000,-124.6400,  198,     41.0,   9.5670,  33.1270,2,-999.0000,9,    229.4,2,    232.6,2,    15.30,2,    15.40,2,     0.30,2,     1.46,2,      0.5,2,   2095.8,2,   2219.8,2,  -999.00
  32WC20120904,  WCOA,    57,  1,     10,2,20120912,1603, 43.4000,-124.6400,  198,     30.6,  10.3280,  32.8720,2,-999.0000,9,    258.4,2,   -999.0,9,    10.70,2,     9.50,2,     0.20,2,     1.10,2,      0.3,2,   2049.8,2,   2208.8,2,  -999.00
  32WC20120904,  WCOA,    57,  1,     11,2,20120912,1604, 43.4000,-124.6400,  198,     20.8,  10.3770,  32.8600,2,-999.0000,9,    260.8,2,    261.7,2,    10.50,2,     9.30,2,     0.20,2,     1.09,2,      0.3,2,   2049.0,2,   2208.4,2,  -999.00
  32WC20120904,  WCOA,    57,  1,     12,2,20120912,1605, 43.4000,-124.6400,  198,     14.6,  10.4020,  32.8490,2,-999.0000,9,    260.5,2,   -999.0,9,    10.40,2,     9.10,2,     0.30,2,     1.10,2,      0.3,2,   2046.9,2,   2207.8,2,  -999.00
  32WC20120904,  WCOA,    57,  1,     13,2,20120912,1606, 43.4000,-124.6400,  198,      9.7,  10.4260,  32.8430,2,  32.8460,2,    260.4,2,    262.4,2,    10.40,2,     9.00,2,     0.20,2,     1.10,2,      0.3,2,   2046.4,2,   2207.7,2,  -999.00
  32WC20120904,  WCOA,    57,  1,     14,2,20120912,1607, 43.4000,-124.6400,  198,      2.8,  10.4390,  32.8410,2,-999.0000,9,    260.1,2,   -999.0,9,    10.20,2,     9.00,2,     0.20,2,     1.11,2,      0.3,2,   2046.8,6,   2207.6,6,  -999.00
  32WC20120904,  WCOA,    58,  1,      1,2,20120912,1753, 43.4000,-124.8400,  599,    585.1,   4.9550,  34.1860,2,  34.1890,2,     18.8,2,     20.7,2,    91.30,2,    41.90,2,     0.10,2,     3.05,2,        0,2,   2326.2,6,   2323.9,6,  -999.00
  32WC20120904,  WCOA,    58,  1,      2,2,20120912,1756, 43.4000,-124.8400,  599,    503.2,   5.2560,  34.1350,2,-999.0000,9,     26.8,2,     29.2,2,    82.80,2,    41.20,2,     0.00,2,     2.98,2,        0,2,   2312.0,2,   2311.0,2,  -999.00
  32WC20120904,  WCOA,    58,  1,      3,2,20120912,1758, 43.4000,-124.8400,  599,    401.0,   5.4830,  34.0190,2,-999.0000,9,     53.0,2,   -999.0,9,    71.40,2,    39.20,2,     0.00,2,     2.78,2,        0,2,   2283.2,2,   2293.4,2,  -999.00
  32WC20120904,  WCOA,    58,  1,      4,2,20120912,1801, 43.4000,-124.8400,  599,    306.8,   6.2660,  34.0250,2,-999.0000,9,     60.9,2,     61.0,2,    60.10,2,    37.10,2,     0.00,2,     2.68,2,        0,2,   2266.9,2,   2284.5,2,  -999.00
  32WC20120904,  WCOA,    58,  1,      5,2,20120912,1804, 43.4000,-124.8400,  599,    206.5,   7.1980,  33.9510,2,-999.0000,9,     96.4,2,   -999.0,9,    45.60,2,    33.10,2,     0.00,2,     2.39,2,        0,2,   2230.5,2,   2266.0,2,  -999.00
  32WC20120904,  WCOA,    58,  1,      6,2,20120912,1806, 43.4000,-124.8400,  599,    149.5,   7.5800,  33.8620,2,-999.0000,9,    116.4,2,    128.8,2,    38.00,2,    29.70,2,     0.00,2,     2.17,2,        0,2,   2199.7,2,   2256.8,2,  -999.00
  32WC20120904,  WCOA,    58,  1,      7,2,20120912,1808, 43.4000,-124.8400,  599,    130.8,   7.8430,  33.7810,2,-999.0000,9,    132.2,2,   -999.0,9,    34.60,2,    28.40,2,     0.00,2,     2.11,2,        0,2,   2189.0,2,   2249.0,2,  -999.00
  32WC20120904,  WCOA,    58,  1,      8,2,20120912,1809, 43.4000,-124.8400,  599,    101.3,   8.1980,  33.5850,2,-999.0000,9,    167.8,2,    163.9,2,    29.90,2,    25.80,2,     0.00,2,     1.96,2,        0,2,   2167.6,2,   2237.4,2,  -999.00
  32WC20120904,  WCOA,    58,  1,      9,2,20120912,1810, 43.4000,-124.8400,  599,     82.0,   8.9120,  33.4860,2,-999.0000,9,    195.8,2,   -999.0,9,    26.90,2,    22.50,2,     0.30,2,     1.85,2,      0.4,2,   2147.0,2,   2233.9,2,  -999.00
  32WC20120904,  WCOA,    58,  1,     10,2,20120912,1811, 43.4000,-124.8400,  599,     60.5,   9.2250,  33.1690,2,-999.0000,9,    222.2,2,   -999.0,9,    18.40,2,    17.20,2,     0.20,2,     1.53,2,      0.3,2,   2108.1,2,   2220.0,2,  -999.00
  32WC20120904,  WCOA,    58,  1,     11,2,20120912,1813, 43.4000,-124.8400,  599,     50.6,  10.0030,  33.0130,2,-999.0000,9,    243.6,2,    246.0,2,    13.40,2,    12.90,2,     0.40,2,     1.31,2,      0.4,2,   2076.1,2,   2213.8,2,  -999.00
  32WC20120904,  WCOA,    58,  1,     12,2,20120912,1814, 43.4000,-124.8400,  599,     41.5,  10.3560,  32.7410,2,-999.0000,9,    263.0,2,   -999.0,9,     9.30,2,     7.10,2,     0.30,2,     0.93,2,      0.2,2,   2036.3,2,   2197.9,2,  -999.00
  32WC20120904,  WCOA,    58,  1,     13,2,20120912,1815, 43.4000,-124.8400,  599,     31.8,  10.9920,  32.7510,2,-999.0000,9,    267.6,2,   -999.0,9,     8.70,2,     6.90,2,     0.20,2,     0.88,2,      0.1,2,   2031.2,2,   2204.2,2,  -999.00
  32WC20120904,  WCOA,    58,  1,     14,2,20120912,1816, 43.4000,-124.8400,  599,     20.5,  11.3890,  32.7230,2,-999.0000,9,    271.9,2,    271.7,2,     7.80,2,     5.70,2,     0.20,2,     0.78,2,      0.1,2,   2021.6,2,   2202.7,2,  -999.00
  32WC20120904,  WCOA,    58,  1,     15,2,20120912,1817, 43.4000,-124.8400,  599,     16.5,  11.5250,  32.6970,2,-999.0000,9,    272.0,2,   -999.0,9,     7.50,2,     5.30,2,     0.20,2,     0.75,2,      0.1,2,   2016.2,2,   2202.0,2,  -999.00
  32WC20120904,  WCOA,    58,  1,     16,2,20120912,1818, 43.4000,-124.8400,  599,     10.1,  11.5940,  32.6860,2,  32.6710,2,    271.8,2,   -999.0,9,     7.30,2,     4.90,2,     0.20,2,     0.73,2,        0,2,   2015.6,2,   2201.9,2,  -999.00
  32WC20120904,  WCOA,    58,  1,     17,2,20120912,1819, 43.4000,-124.8400,  599,      3.0,  11.6240,  32.6830,2,-999.0000,9,    271.5,2,    274.6,2,     7.30,2,     4.80,2,     0.20,2,     0.72,2,      0.1,2,   2014.6,6,   2201.5,2,  -999.00