BOTTLE,20180213PRINUNIVRMK
EXPOCODE,SECT_ID,STNNBR,CASTNO,BTLNBR,BTLNBR_FLAG_W,DATE,TIME,LATITUDE,LONGITUDE,DEPTH,CTDPRS,CTDTMP,CTDSAL,CTDSAL_FLAG_W,SALNTY,SALNTY_FLAG_W,CTDOXY,CTDOXY_FLAG_W,OXYGEN,OXYGEN_FLAG_W,SILCAT,SILCAT_FLAG_W,NITRAT,NITRAT_FLAG_W,NITRIT,NITRIT_FLAG_W,PHSPHT,PHSPHT_FLAG_W,NH4,NH4_FLAG_W,TCARBN,TCARBN_FLAG_W,ALKALI,ALKALI_FLAG_W,CHLORA
,,,,,,,,,,METERS,DBAR,ITS-90,PSS-78,,PSS-78,,UMOL/KG,,UMOL/KG,,UMOL/KG,,UMOL/KG,,UMOL/KG,,UMOL/KG,,UMOL/KG,,UMOL/KG,,UMOL/KG,,UG/KG
  32WC20120904,  WCOA,    16,  1,      1,2,20120907,1828, 47.1100,-124.3900,   51,     39.0,   7.4560,  33.5570,2,-999.0000,9,     90.5,2,    109.4,2,    38.50,2,    29.40,2,     0.20,2,     2.35,2,      0.1,2,   2205.1,2,   2233.8,2,  -999.00
  32WC20120904,  WCOA,    16,  1,      2,2,20120907,1829, 47.1100,-124.3900,   51,     30.7,   7.4870,  33.2040,2,-999.0000,9,    183.1,2,    163.5,2,    29.60,2,    24.20,2,     0.20,2,     1.99,2,      0.4,2,   2157.5,2,   2222.1,2,  -999.00
  32WC20120904,  WCOA,    16,  1,      3,2,20120907,1831, 47.1100,-124.3900,   51,     20.6,  10.5410,  32.7900,2,-999.0000,9,    186.6,2,   -999.0,9,    10.50,2,    12.10,2,     0.10,2,     1.54,2,      5.2,2,   2110.4,2,   2225.8,2,  -999.00
  32WC20120904,  WCOA,    16,  1,      4,2,20120907,1832, 47.1100,-124.3900,   51,     15.6,  10.9640,  32.6150,2,-999.0000,9,    233.5,2,    230.6,2,     4.00,2,     8.20,2,     0.10,2,     1.09,2,      4.5,2,   2061.0,2,   2217.2,2,  -999.00
  32WC20120904,  WCOA,    16,  1,      5,2,20120907,1833, 47.1100,-124.3900,   51,     10.8,  13.7350,  32.1860,2,-999.0000,9,    281.5,2,   -999.0,9,     3.00,2,     3.80,2,     0.10,2,     0.60,2,      2.3,2,   1988.8,2,   2200.2,2,  -999.00
  32WC20120904,  WCOA,    16,  1,      6,2,20120907,1835, 47.1100,-124.3900,   51,      2.8,  14.5180,  32.0690,2,-999.0000,9,    287.1,2,    289.4,2,     1.60,2,     0.20,2,     0.00,2,  -999.00,9,      1.2,2,   1930.0,2,   2193.9,2,  -999.00
  32WC20120904,  WCOA,    19,  1,      1,2,20120907,2220, 46.6700,-124.3600,   77,     60.7,   7.4690,  33.7890,2,-999.0000,9,     71.1,2,     69.6,2,    51.20,2,    32.20,2,     0.20,2,     2.56,2,      0.3,2,   2249.7,2,   2254.2,2,  -999.00
  32WC20120904,  WCOA,    19,  1,      2,2,20120907,2220, 46.6700,-124.3600,   77,     60.4,   7.4630,  33.7930,2,-999.0000,9,     68.2,2,     67.9,2,    51.50,2,    32.20,2,     0.20,2,     2.57,2,      0.3,2,   2246.8,2,   2253.5,2,  -999.00
  32WC20120904,  WCOA,    19,  1,      3,2,20120907,2221, 46.6700,-124.3600,   77,     50.1,   7.4920,  33.5580,2,-999.0000,9,     85.2,2,   -999.0,9,    42.90,2,    31.60,2,     0.10,2,     2.52,2,        0,2,   2227.9,2,   2236.8,2,  -999.00
  32WC20120904,  WCOA,    19,  1,      4,2,20120907,2222, 46.6700,-124.3600,   77,     40.8,   7.4990,  33.4040,2,-999.0000,9,    132.3,2,    140.7,2,    33.70,2,    26.80,2,     0.20,2,     2.19,2,      0.1,2,   2179.2,2,   2226.2,2,  -999.00
  32WC20120904,  WCOA,    19,  1,      5,2,20120907,2224, 46.6700,-124.3600,   77,     31.1,   7.6720,  33.1590,2,-999.0000,9,    155.8,2,   -999.0,9,    30.30,2,    25.40,2,     0.20,2,     2.15,2,      0.2,2,   2170.4,2,   2218.3,2,     0.08
  32WC20120904,  WCOA,    19,  1,      6,2,20120907,2225, 46.6700,-124.3600,   77,     21.1,   8.0060,  32.9860,2,-999.0000,9,    149.0,2,    153.7,2,    25.10,2,    22.40,2,     0.30,2,     2.11,2,      1.6,2,   2158.3,2,   2211.4,2,  -999.00
  32WC20120904,  WCOA,    19,  1,      7,2,20120907,2226, 46.6700,-124.3600,   77,     15.8,  10.2470,  32.6380,2,-999.0000,9,    186.2,2,   -999.0,9,    20.60,2,    17.40,2,     0.20,2,     1.79,2,      2.5,2,   2108.2,2,   2209.0,2,  -999.00
  32WC20120904,  WCOA,    19,  1,      8,2,20120907,2226, 46.6700,-124.3600,   77,     10.7,  13.5880,  31.7430,2,-999.0000,9,    270.4,2,    261.7,2,     7.30,2,     3.50,2,     0.00,2,     0.66,2,      0.8,2,   1976.2,2,   2186.1,2,     4.14
  32WC20120904,  WCOA,    19,  1,      9,2,20120907,2228, 46.6700,-124.3600,   77,      1.9,  15.1690,  31.0310,2,-999.0000,9,    299.8,2,    297.0,2,     4.00,2,     0.10,2,     0.00,2,     0.28,2,        0,2,   1907.1,2,   2150.6,2,     3.94
  32WC20120904,  WCOA,    20,  1,      1,2,20120907,2125, 46.6700,-124.2100,   44,     38.1,   7.5770,  33.6970,2,-999.0000,9,     69.8,2,     70.8,2,    51.00,2,    30.10,2,     0.20,2,     2.59,2,      0.9,2,   2247.6,2,   2250.6,2,  -999.00
  32WC20120904,  WCOA,    20,  1,      2,2,20120907,2126, 46.6700,-124.2100,   44,     29.9,   7.5760,  33.6920,2,-999.0000,9,     70.3,2,     70.8,2,    50.80,2,    30.00,2,     0.10,2,     2.60,2,      0.8,2,   2246.4,2,   2249.3,2,  -999.00
  32WC20120904,  WCOA,    20,  1,      3,2,20120907,2127, 46.6700,-124.2100,   44,     20.2,   8.1400,  33.4030,2,-999.0000,9,     63.7,2,   -999.0,9,    39.50,2,    28.60,2,     0.10,2,     2.57,2,      0.9,2,   2235.0,2,   2237.7,2,  -999.00
  32WC20120904,  WCOA,    20,  1,      4,2,20120907,2129, 46.6700,-124.2100,   44,     15.2,   8.0420,  33.4460,2,-999.0000,9,     56.6,2,     74.0,2,    39.00,2,    28.50,2,     0.10,2,     2.61,2,        1,2,   2239.5,2,   2236.4,2,  -999.00
  32WC20120904,  WCOA,    20,  1,      5,2,20120907,2130, 46.6700,-124.2100,   44,     10.4,   8.8200,  33.1580,2,-999.0000,9,    110.1,2,   -999.0,9,    34.50,2,    25.50,2,     0.10,2,     2.44,2,      1.5,2,   2215.4,2,   2225.9,2,  -999.00
  32WC20120904,  WCOA,    20,  1,      6,2,20120907,2131, 46.6700,-124.2100,   44,      2.3,  12.7280,  32.0230,2,-999.0000,9,    132.5,2,    198.1,3,    22.10,2,    11.50,2,     0.20,2,     1.53,2,      1.3,2,   2081.9,2,   2203.5,6,  -999.00
  32WC20120904,  WCOA,    21,  1,      1,2,20120908,1736, 46.2100,-124.1900,   51,     46.2,   7.5180,  33.7550,2,-999.0000,9,     87.1,2,   -999.0,9,  -999.00,9,  -999.00,9,  -999.00,9,  -999.00,9,     -999,9,   -999.0,9,   -999.0,9,  -999.00
  32WC20120904,  WCOA,    21,  1,      2,2,20120908,1736, 46.2100,-124.1900,   51,     46.2,   7.5190,  33.7540,2,-999.0000,9,     87.1,2,   -999.0,9,  -999.00,9,  -999.00,9,  -999.00,9,  -999.00,9,     -999,9,   -999.0,9,   -999.0,9,  -999.00
  32WC20120904,  WCOA,    21,  1,      3,2,20120908,1736, 46.2100,-124.1900,   51,     46.3,   7.5200,  33.7540,2,-999.0000,9,     87.2,2,   -999.0,9,  -999.00,9,  -999.00,9,  -999.00,9,  -999.00,9,     -999,9,   -999.0,9,   -999.0,9,  -999.00
  32WC20120904,  WCOA,    21,  1,      4,2,20120908,1736, 46.2100,-124.1900,   51,     46.3,   7.5220,  33.7520,2,-999.0000,9,     86.8,2,   -999.0,9,  -999.00,9,  -999.00,9,  -999.00,9,  -999.00,9,     -999,9,   -999.0,9,   -999.0,9,  -999.00
  32WC20120904,  WCOA,    21,  1,      5,2,20120908,1737, 46.2100,-124.1900,   51,     46.3,   7.5230,  33.7520,2,-999.0000,9,     86.9,2,   -999.0,9,  -999.00,9,  -999.00,9,  -999.00,9,  -999.00,9,     -999,9,   -999.0,9,   -999.0,9,  -999.00
  32WC20120904,  WCOA,    21,  1,      6,2,20120908,1737, 46.2100,-124.1900,   51,     46.3,   7.5230,  33.7520,2,-999.0000,9,     86.8,2,     86.8,2,    47.40,2,    31.40,2,     0.10,2,     2.45,2,        0,2,   2229.1,2,   2251.6,2,  -999.00
  32WC20120904,  WCOA,    21,  1,      7,2,20120908,1738, 46.2100,-124.1900,   51,     41.4,   7.5320,  33.7450,2,-999.0000,9,     88.6,2,   -999.0,9,    46.40,2,    31.30,2,     0.10,2,     2.42,2,        0,2,   2225.9,2,   2251.2,2,  -999.00
  32WC20120904,  WCOA,    21,  1,      8,2,20120908,1739, 46.2100,-124.1900,   51,     29.4,   7.6930,  33.5870,2,-999.0000,9,    128.2,2,    122.2,2,    36.00,2,    28.60,2,     0.00,2,     2.18,2,        0,2,   2190.5,2,   2237.0,2,  -999.00
  32WC20120904,  WCOA,    21,  1,      9,2,20120908,1740, 46.2100,-124.1900,   51,     20.0,   7.7800,  33.3910,2,-999.0000,9,    155.9,2,    155.8,2,    30.10,2,    25.30,2,     0.10,2,     1.98,2,        0,2,   2161.2,2,   -999.0,5,  -999.00
  32WC20120904,  WCOA,    21,  1,     10,2,20120908,1741, 46.2100,-124.1900,   51,     15.5,   8.0100,  33.1950,2,-999.0000,9,    124.8,2,   -999.0,9,    31.80,2,    26.80,2,     0.10,2,     2.14,2,        0,2,   2178.3,2,   2225.3,2,  -999.00
  32WC20120904,  WCOA,    21,  1,     11,2,20120908,1742, 46.2100,-124.1900,   51,     10.6,   9.2710,  32.8210,2,-999.0000,9,    155.0,2,    142.2,2,    25.70,2,    22.80,2,     0.30,2,     1.98,2,      0.3,2,   2152.7,2,   2212.5,2,  -999.00
  32WC20120904,  WCOA,    21,  1,     12,2,20120908,1743, 46.2100,-124.1900,   51,      2.1,  12.0750,  29.1480,2,-999.0000,9,    158.9,2,    217.0,3,    27.50,2,    13.30,2,     0.20,2,     1.26,2,      0.3,2,   2001.6,6,   2116.9,6,  -999.00
  32WC20120904,  WCOA,    22,  1,      1,2,20120908,2127, 46.2500,-124.0000,   26,     19.8,   9.4030,  32.2420,2,-999.0000,9,    178.4,2,    176.7,2,    26.50,2,    19.60,2,     0.30,2,     1.74,2,      0.6,2,   2108.9,2,   2187.4,2,  -999.00
  32WC20120904,  WCOA,    22,  1,      2,2,20120908,2128, 46.2500,-124.0000,   26,     14.7,   9.8410,  31.7140,2,-999.0000,9,    186.2,2,    184.5,2,    27.70,2,    18.50,2,     0.30,2,     1.63,2,      0.6,2,   2084.7,2,   2166.5,2,  -999.00
  32WC20120904,  WCOA,    22,  1,      3,2,20120908,2128, 46.2500,-124.0000,   26,     10.6,  10.6580,  30.2200,2,-999.0000,9,    192.5,2,    192.5,2,    30.20,2,    17.10,2,     0.20,2,     1.48,2,      0.5,2,   2054.2,2,   2129.1,2,  -999.00
  32WC20120904,  WCOA,    22,  1,      4,2,20120908,2129, 46.2500,-124.0000,   26,      8.6,  10.9760,  29.3560,2,-999.0000,9,    197.4,2,    196.9,2,    32.90,2,    16.50,2,     0.20,2,     1.43,2,      0.4,2,   2022.4,2,   2103.7,6,  -999.00
  32WC20120904,  WCOA,    22,  1,      5,2,20120908,2129, 46.2500,-124.0000,   26,      5.3,  15.7590,  14.2000,2,-999.0000,9,    234.4,2,    212.3,2,    93.90,2,    11.60,2,     0.20,2,     0.71,2,      0.7,2,   1821.2,2,   1890.6,3,  -999.00
  32WC20120904,  WCOA,    22,  1,      6,2,20120908,2130, 46.2500,-124.0000,   26,      2.3,  16.9460,  10.2830,2,   9.7180,4,    244.9,2,    253.4,2,   107.90,2,    10.10,2,     0.20,2,     0.57,2,      0.5,2,   1382.2,2,   1403.5,6,  -999.00
  32WC20120904,  WCOA,    23,  1,      1,2,20120908,2032, 46.2300,-124.1300,   20,     14.2,   9.6610,  32.6830,2,-999.0000,9,    186.1,2,    194.2,2,    19.60,2,    16.40,2,     0.20,2,     1.58,2,      0.1,2,   2101.9,2,   2196.3,2,  -999.00
  32WC20120904,  WCOA,    23,  1,      2,2,20120908,2033, 46.2300,-124.1300,   20,     11.1,  10.3040,  32.4340,2,-999.0000,9,    209.8,2,    206.5,2,    18.40,2,    15.40,2,     0.20,2,     1.52,2,      0.1,2,   2089.1,2,   2191.0,2,  -999.00
  32WC20120904,  WCOA,    23,  1,      3,2,20120908,2034, 46.2300,-124.1300,   20,      8.7,  11.0650,  31.6160,2,-999.0000,9,    232.9,2,    227.6,2,    19.10,2,    12.90,2,     0.20,2,     1.31,2,      0.1,2,   2046.1,2,   2172.1,2,  -999.00
  32WC20120904,  WCOA,    23,  1,      4,2,20120908,2034, 46.2300,-124.1300,   20,      6.4,  11.6870,  30.7870,2,-999.0000,9,    245.3,2,    237.4,2,    24.20,2,    11.90,2,     0.20,2,     1.18,2,      0.1,2,   2002.4,2,   2117.9,6,  -999.00
  32WC20120904,  WCOA,    23,  1,      5,2,20120908,2035, 46.2300,-124.1300,   20,      1.7,  13.2130,  28.0440,2,  28.2550,4,    262.9,2,    262.4,2,    32.20,2,    10.50,2,     0.20,2,     1.04,2,      0.1,2,   1923.9,2,   2058.2,6,  -999.00
  32WC20120904,  WCOA,    24,  1,      1,2,20120908,1502, 46.1300,-124.0900,   41,     36.1,   7.5930,  33.6920,2,-999.0000,9,     93.6,2,     95.6,2,    44.90,2,    30.10,2,     0.20,2,     2.31,2,        0,2,   2224.3,2,   2249.1,2,  -999.00
  32WC20120904,  WCOA,    24,  1,      2,2,20120908,1503, 46.1300,-124.0900,   41,     20.1,   7.6540,  33.3400,2,-999.0000,9,    146.7,2,    136.5,2,    33.40,2,    27.00,2,     0.10,2,     2.07,2,        0,2,   2181.8,2,   2229.2,2,  -999.00
  32WC20120904,  WCOA,    24,  1,      3,2,20120908,1504, 46.1300,-124.0900,   41,     15.7,   7.9870,  33.1870,2,-999.0000,9,    102.6,2,   -999.0,9,    32.00,2,    27.30,2,     0.10,2,     2.13,2,        0,2,   2182.9,2,   2217.2,2,  -999.00
  32WC20120904,  WCOA,    24,  1,      4,2,20120908,1505, 46.1300,-124.0900,   41,     10.7,  10.1310,  32.3360,2,-999.0000,9,    192.4,2,    162.0,2,    23.50,2,    20.20,2,     0.20,2,     1.73,2,      0.1,2,   2127.5,2,   2204.3,2,  -999.00
  32WC20120904,  WCOA,    24,  1,      5,2,20120908,1507, 46.1300,-124.0900,   41,      2.6,  15.3010,  29.1810,2,-999.0000,9,    270.4,2,    270.5,2,    11.40,2,     0.60,2,     0.00,2,     0.21,2,      0.1,2,   1867.1,2,   2091.2,6,  -999.00
  32WC20120904,  WCOA,    25,  1,      1,2,20120908,1321, 46.1300,-124.2700,   91,     85.6,   7.2110,  33.9130,2,  33.9130,2,     54.5,2,     55.5,2,    56.00,2,    34.70,2,     0.10,2,     2.69,2,        0,2,   2263.8,2,   2266.7,2,  -999.00
  32WC20120904,  WCOA,    25,  1,      2,2,20120908,1323, 46.1300,-124.2700,   91,     60.8,   7.3590,  33.8270,2,-999.0000,9,     80.0,2,     79.1,2,    46.90,2,    33.30,2,     0.00,2,     2.52,2,        0,2,   2241.5,2,   2257.6,2,  -999.00
  32WC20120904,  WCOA,    25,  1,      3,2,20120908,1324, 46.1300,-124.2700,   91,     52.0,   7.4600,  33.7760,2,-999.0000,9,     86.8,2,   -999.0,9,    43.70,2,    32.30,2,     0.00,2,     2.46,2,        0,2,   2230.8,2,   2251.1,2,  -999.00
  32WC20120904,  WCOA,    25,  1,      4,2,20120908,1325, 46.1300,-124.2700,   91,     41.0,   7.6730,  33.6460,2,-999.0000,9,    119.3,2,    117.1,2,    37.20,2,    29.60,2,     0.00,2,     2.27,2,        0,2,   2204.9,2,   2243.5,2,  -999.00
  32WC20120904,  WCOA,    25,  1,      5,2,20120908,1326, 46.1300,-124.2700,   91,     30.1,   7.7330,  33.4340,2,-999.0000,9,    103.7,2,   -999.0,9,    36.30,2,    30.00,2,     0.00,2,     2.36,2,        0,2,   2207.9,2,   2233.9,2,     0.06
  32WC20120904,  WCOA,    25,  1,      6,2,20120908,1328, 46.1300,-124.2700,   91,     21.2,   7.9780,  33.2330,2,-999.0000,9,    106.9,2,    112.2,2,    32.20,2,    28.30,2,     0.10,2,     2.35,2,        0,2,   2194.0,2,   2221.9,2,  -999.00
  32WC20120904,  WCOA,    25,  1,      7,2,20120908,1329, 46.1300,-124.2700,   91,     16.4,   8.6920,  32.9770,2,-999.0000,9,    123.2,2,   -999.0,9,    26.40,2,    23.90,2,     0.20,2,     2.11,2,      0.7,2,   2161.4,2,   2211.5,2,  -999.00
  32WC20120904,  WCOA,    25,  1,      8,2,20120908,1330, 46.1300,-124.2700,   91,     10.4,  12.5110,  32.4010,2,-999.0000,9,    247.4,2,    227.8,2,    12.50,2,     8.50,2,     0.10,2,     1.10,2,      1.7,2,   2034.8,2,   2199.5,2,     0.81
  32WC20120904,  WCOA,    25,  1,      9,2,20120908,1331, 46.1300,-124.2700,   91,      2.5,  15.7920,  28.6330,2,  28.7320,4,    278.7,2,    277.7,2,    11.70,2,     0.10,2,     0.00,2,     0.18,2,      0.1,2,   1840.6,2,   2072.0,6,     1.36
  32WC20120904,  WCOA,    26,  1,      1,2,20120908,1104, 46.1200,-124.5300,  136,    130.1,   7.0310,  33.9350,2,  33.9280,2,     44.1,2,     43.8,2,    62.20,2,    35.40,2,     0.10,2,     2.69,2,        0,2,   2278.1,2,   2269.8,2,  -999.00
  32WC20120904,  WCOA,    26,  1,      2,2,20120908,1106, 46.1200,-124.5300,  136,    100.4,   7.1880,  33.8910,2,-999.0000,9,     69.3,2,     64.8,2,    52.70,2,    34.60,2,     0.00,2,     2.53,2,        0,2,   2256.5,2,   2265.2,2,  -999.00
  32WC20120904,  WCOA,    26,  1,      3,2,20120908,1107, 46.1200,-124.5300,  136,     80.4,   7.5160,  33.6710,2,-999.0000,9,    103.6,2,     97.6,2,    41.50,2,    31.30,2,     0.00,2,     2.31,2,        0,2,   2222.0,2,   2248.0,2,  -999.00
  32WC20120904,  WCOA,    26,  1,      4,2,20120908,1109, 46.1200,-124.5300,  136,     60.6,   7.5930,  33.2580,2,-999.0000,9,    159.2,2,   -999.0,9,    30.90,2,    24.60,2,     0.00,2,     1.90,2,        0,2,   2157.8,2,   2220.6,2,  -999.00
  32WC20120904,  WCOA,    26,  1,      5,2,20120908,1110, 46.1200,-124.5300,  136,     50.8,   7.8300,  32.9640,2,-999.0000,9,    217.1,2,    216.7,2,    21.40,2,    18.30,2,     0.00,2,     1.50,2,        0,2,   2106.9,2,   2204.6,2,  -999.00
  32WC20120904,  WCOA,    26,  1,      6,2,20120908,1111, 46.1200,-124.5300,  136,     41.6,   8.0090,  32.7870,2,-999.0000,9,    252.2,2,    250.8,2,    15.50,2,    13.30,2,     0.10,2,     1.22,2,        0,2,   2071.2,2,   2194.4,2,  -999.00
  32WC20120904,  WCOA,    26,  1,      7,2,20120908,1112, 46.1200,-124.5300,  136,     31.3,   8.1890,  32.6770,2,-999.0000,9,    256.1,2,    255.6,2,    14.50,2,    12.20,2,     0.20,2,     1.22,2,      0.2,2,   2063.3,2,   2191.6,2,     0.44
  32WC20120904,  WCOA,    26,  1,      8,2,20120908,1113, 46.1200,-124.5300,  136,     20.2,   8.6880,  32.6190,2,-999.0000,9,    260.9,2,   -999.0,9,    11.90,2,    10.40,2,     0.20,2,     1.16,2,      0.4,2,   2056.2,2,   2189.3,2,  -999.00
  32WC20120904,  WCOA,    26,  1,      9,2,20120908,1114, 46.1200,-124.5300,  136,     15.9,   9.3480,  32.5550,2,-999.0000,9,    259.8,2,    264.8,2,     8.90,2,     8.30,2,     0.20,2,     1.06,2,      0.7,2,   2046.5,2,   2187.0,2,  -999.00
  32WC20120904,  WCOA,    26,  1,     10,2,20120908,1115, 46.1200,-124.5300,  136,     11.4,  10.9450,  32.3440,2,-999.0000,9,    263.8,2,   -999.0,9,     7.20,2,     7.00,2,     0.10,2,     0.93,2,      0.8,2,   2025.9,2,   2186.2,2,     1.19
  32WC20120904,  WCOA,    26,  1,     11,2,20120908,1117, 46.1200,-124.5300,  136,      2.3,  15.2870,  31.7220,2,  31.7460,2,    281.6,2,    280.8,2,     2.20,2,     0.20,2,     0.00,2,     0.13,2,      0.1,2,   1917.9,2,   2174.7,6,     1.26