BOTTLE,20190618WHPSIOAMB
EXPOCODE,SECT_ID,STNNBR,CASTNO,SAMPNO,BTLNBR,BTLNBR_FLAG_W,DATE,TIME,LATITUDE,LONGITUDE,DEPTH,CTDPRS,CTDTMP,CTDSAL,CTDSAL_FLAG_W,SALNTY,SALNTY_FLAG_W,CTDOXY,CTDOXY_FLAG_W,OXYGEN,OXYGEN_FLAG_W,SILCAT,SILCAT_FLAG_W,NO2+NO3,NO2+NO3_FLAG_W,PHSPHT,PHSPHT_FLAG_W,TCARBN,TCARBN_FLAG_W,THETA
,,,,,,,,,,,,DBAR,ITS-90,PSS-78,,PSS-78,,UMOL/KG,,UMOL/KG,,UMOL/KG,,UMOL/KG,,UMOL/KG,,UMOL/KG,,ITS-90
    09AR9391_2,  P11A,    63,  1,     24,    224,2,19930430,0657,-65.8897, 146.4667,  690,      4.0,  -1.8730,  34.0900,2,  34.0960,2,   -999.0,5,    328.5,2,    64.50,2,    27.20,2,  -999.00,5,   2184.0,2, -1.8740
    09AR9391_2,  P11A,    63,  1,     23,    223,2,19930430,0657,-65.8897, 146.4667,  690,     24.7,  -1.8700,  34.0910,2,  34.0950,2,   -999.0,5,    327.6,2,    64.70,2,    27.00,2,     1.83,2,   2184.7,2, -1.8710
    09AR9391_2,  P11A,    63,  1,     22,    222,2,19930430,0657,-65.8897, 146.4667,  690,     45.9,  -1.8590,  34.1150,2,  34.1340,2,   -999.0,5,    328.2,2,  -999.00,5,  -999.00,5,  -999.00,5,   2187.0,2, -1.8600
    09AR9391_2,  P11A,    63,  1,     21,    221,2,19930430,0657,-65.8897, 146.4667,  690,     76.1,  -1.8330,  34.3160,2,  34.3210,2,   -999.0,5,    319.3,2,  -999.00,5,  -999.00,5,  -999.00,5,   2205.1,2, -1.8350
    09AR9391_2,  P11A,    63,  1,     20,    220,2,19930430,0657,-65.8897, 146.4667,  690,     96.7,  -1.7750,  34.3670,2,  34.3680,2,   -999.0,5,    302.9,2,    74.20,2,    30.00,2,     2.03,2,   2214.6,2, -1.7770
    09AR9391_2,  P11A,    63,  1,     19,    203,2,19930430,0657,-65.8897, 146.4667,  690,    106.0,  -1.7760,  34.3690,2,  34.3730,2,   -999.0,5,    303.5,2,    73.70,2,    30.20,2,     2.05,2,   2217.1,2, -1.7790
    09AR9391_2,  P11A,    63,  1,     18,    201,2,19930430,0657,-65.8897, 146.4667,  690,    116.5,  -1.7760,  34.3720,2,  34.3730,2,   -999.0,5,    302.6,2,    73.80,2,    30.20,2,     2.05,2,   -999.0,9, -1.7790
    09AR9391_2,  P11A,    63,  1,     17,    217,2,19930430,0657,-65.8897, 146.4667,  690,    131.1,  -1.7800,  34.3870,2,  34.3860,2,   -999.0,5,    302.3,2,  -999.00,5,  -999.00,5,  -999.00,5,   2218.2,2, -1.7830
    09AR9391_2,  P11A,    63,  1,     16,    216,2,19930430,0657,-65.8897, 146.4667,  690,    161.1,  -1.7750,  34.4020,2,  34.3990,2,   -999.0,5,    298.3,2,    73.80,2,    30.30,2,     2.04,2,   2219.8,2, -1.7790
    09AR9391_2,  P11A,    63,  1,     15,    215,2,19930430,0657,-65.8897, 146.4667,  690,    200.7,  -1.7340,  34.4150,2,  34.4120,2,   -999.0,5,    294.3,2,    75.10,2,    30.70,2,     2.07,2,   2221.1,2, -1.7390
    09AR9391_2,  P11A,    63,  1,     13,    213,2,19930430,0657,-65.8897, 146.4667,  690,    230.6,  -1.7050,  34.4240,2,-999.0000,9,   -999.0,5,    291.8,2,  -999.00,9,  -999.00,9,  -999.00,9,   -999.0,9, -1.7110
    09AR9391_2,  P11A,    63,  1,     14,    214,2,19930430,0657,-65.8897, 146.4667,  690,    231.5,  -1.7040,  34.4220,2,  34.4190,2,   -999.0,5,    293.2,2,  -999.00,5,  -999.00,5,  -999.00,5,   2221.3,2, -1.7100
    09AR9391_2,  P11A,    63,  1,     12,    212,2,19930430,0657,-65.8897, 146.4667,  690,    281.2,  -1.7620,  34.4390,2,  34.4450,4,   -999.0,5,    298.6,2,    73.90,2,    30.90,2,  -999.00,5,   2220.6,2, -1.7690
    09AR9391_2,  P11A,    63,  1,     11,    211,2,19930430,0657,-65.8897, 146.4667,  690,    300.4,  -1.7470,  34.4450,2,  34.4460,2,   -999.0,5,    296.9,2,    74.30,2,    30.60,2,     2.05,2,   2221.3,2, -1.7540
    09AR9391_2,  P11A,    63,  1,     10,    210,2,19930430,0657,-65.8897, 146.4667,  690,    325.9,  -1.6560,  34.4630,2,  34.4620,2,   -999.0,5,    292.9,2,    75.50,2,    30.90,2,     2.07,2,   2223.1,2, -1.6640
    09AR9391_2,  P11A,    63,  1,      9,    209,2,19930430,0657,-65.8897, 146.4667,  690,    360.8,  -1.4780,  34.4780,2,  34.4750,2,   -999.0,5,    286.1,2,    76.70,2,    30.90,2,     2.05,2,   2225.9,2, -1.4880
    09AR9391_2,  P11A,    63,  1,      8,    208,2,19930430,0657,-65.8897, 146.4667,  690,    400.7,  -1.3610,  34.4900,2,  34.4890,2,   -999.0,5,    279.2,2,    77.90,2,    31.20,2,     2.07,2,   2227.3,2, -1.3720
    09AR9391_2,  P11A,    63,  1,      7,    207,2,19930430,0657,-65.8897, 146.4667,  690,    420.0,  -1.3350,  34.4960,2,  34.4960,2,   -999.0,5,    278.0,2,    78.60,2,    31.10,2,     2.09,2,   2229.0,2, -1.3470
    09AR9391_2,  P11A,    63,  1,      6,    206,2,19930430,0657,-65.8897, 146.4667,  690,    450.3,  -1.2750,  34.5100,2,  34.5100,2,   -999.0,5,    276.3,2,    79.90,2,    31.40,2,     2.09,2,   2228.3,2, -1.2880
    09AR9391_2,  P11A,    63,  1,      5,    205,2,19930430,0657,-65.8897, 146.4667,  690,    495.0,  -1.1480,  34.5360,2,  34.5330,2,   -999.0,5,    268.8,2,    81.80,2,    31.50,2,     2.09,2,   2234.4,2, -1.1630
    09AR9391_2,  P11A,    63,  1,      4,    204,2,19930430,0657,-65.8897, 146.4667,  690,    550.1,  -0.8800,  34.5850,2,  34.5810,2,   -999.0,5,    258.8,2,  -999.00,5,  -999.00,5,  -999.00,5,   2237.2,2, -0.8980
    09AR9391_2,  P11A,    63,  1,      3,    319,2,19930430,0657,-65.8897, 146.4667,  690,    594.4,  -0.7990,  34.6170,3,  34.6130,2,   -999.0,5,    254.5,2,    92.50,2,    31.80,2,     2.11,2,   2242.3,2, -0.8190
    09AR9391_2,  P11A,    63,  1,      2,    202,2,19930430,0657,-65.8897, 146.4667,  690,    622.6,  -0.8500,  34.6160,2,  34.6170,2,   -999.0,5,    254.5,2,    92.10,2,  -999.00,5,     2.13,2,   2239.9,2, -0.8710
    09AR9391_2,  P11A,    63,  1,      1,    218,2,19930430,0657,-65.8897, 146.4667,  690,    664.1,  -0.9790,  34.6040,3,  34.6050,2,   -999.0,5,    258.8,2,    90.10,2,    31.90,2,     2.11,2,   2238.5,2, -1.0010
    09AR9391_2,  P11A,    64,  1,     24,    224,2,19930502,2319,-65.4475, 143.9480, 2600,     10.1,  -1.8100,  33.9460,2,  33.9460,2,   -999.0,5,    312.8,2,  -999.00,9,  -999.00,9,  -999.00,9,   -999.0,9, -1.8110
    09AR9391_2,  P11A,    64,  1,     23,    223,2,19930502,2319,-65.4475, 143.9480, 2600,     19.6,  -1.8050,  33.9510,2,  33.9460,2,   -999.0,5,    312.9,2,  -999.00,9,  -999.00,9,  -999.00,9,   -999.0,9, -1.8060
    09AR9391_2,  P11A,    64,  1,     22,    222,2,19930502,2319,-65.4475, 143.9480, 2600,     39.5,  -1.7920,  33.9490,2,  33.9450,2,   -999.0,5,    312.9,2,  -999.00,9,  -999.00,9,  -999.00,9,   -999.0,9, -1.7930
    09AR9391_2,  P11A,    64,  1,     21,    221,2,19930502,2319,-65.4475, 143.9480, 2600,     59.5,  -1.7930,  33.9140,2,  33.9440,2,   -999.0,5,    311.9,2,  -999.00,9,  -999.00,9,  -999.00,9,   -999.0,9, -1.7950
    09AR9391_2,  P11A,    64,  1,     20,    220,2,19930502,2319,-65.4475, 143.9480, 2600,     79.7,  -1.5300,  34.0400,4,  34.0650,2,   -999.0,5,    301.8,2,  -999.00,9,  -999.00,9,  -999.00,9,   -999.0,9, -1.5320
    09AR9391_2,  P11A,    64,  1,     19,    203,2,19930502,2319,-65.4475, 143.9480, 2600,     99.2,  -0.9160,  34.3920,2,-999.0000,9,   -999.0,5,   -999.0,9,  -999.00,9,  -999.00,9,  -999.00,9,   -999.0,9, -0.9190
    09AR9391_2,  P11A,    64,  1,     16,    216,2,19930502,2319,-65.4475, 143.9480, 2600,     99.3,  -0.8000,  34.4190,2,  34.4200,2,   -999.0,5,    270.5,2,  -999.00,9,  -999.00,9,  -999.00,9,   -999.0,9, -0.8030
    09AR9391_2,  P11A,    64,  1,     17,    217,2,19930502,2319,-65.4475, 143.9480, 2600,     99.4,  -0.9160,  34.3910,3,-999.0000,9,   -999.0,5,   -999.0,9,  -999.00,9,  -999.00,9,  -999.00,9,   -999.0,9, -0.9190
    09AR9391_2,  P11A,    64,  1,     18,    201,2,19930502,2319,-65.4475, 143.9480, 2600,     99.6,  -0.9110,  34.3860,3,-999.0000,9,   -999.0,5,   -999.0,9,  -999.00,9,  -999.00,9,  -999.00,9,   -999.0,9, -0.9140
    09AR9391_2,  P11A,    64,  1,     15,    215,2,19930502,2319,-65.4475, 143.9480, 2600,    119.0,  -0.4830,  34.4860,2,-999.0000,9,   -999.0,5,   -999.0,9,  -999.00,9,  -999.00,9,  -999.00,9,   -999.0,9, -0.4870
    09AR9391_2,  P11A,    64,  1,     14,    214,2,19930502,2319,-65.4475, 143.9480, 2600,    120.0,  -0.6470,  34.4800,4,  34.4950,2,   -999.0,5,    256.5,2,  -999.00,9,  -999.00,9,  -999.00,9,   -999.0,9, -0.6510
    09AR9391_2,  P11A,    64,  1,     13,    213,2,19930502,2319,-65.4475, 143.9480, 2600,    140.3,  -0.4270,  34.5010,2,-999.0000,9,   -999.0,5,   -999.0,9,  -999.00,9,  -999.00,9,  -999.00,9,   -999.0,9, -0.4320
    09AR9391_2,  P11A,    64,  1,     12,    212,2,19930502,2319,-65.4475, 143.9480, 2600,    140.9,  -0.4320,  34.5000,2,  34.5150,2,   -999.0,5,    251.0,2,  -999.00,9,  -999.00,9,  -999.00,9,   -999.0,9, -0.4370
    09AR9391_2,  P11A,    64,  1,     11,    211,2,19930502,2319,-65.4475, 143.9480, 2600,    149.3,  -0.3580,  34.5250,4,  34.5310,2,   -999.0,5,    247.6,2,  -999.00,9,  -999.00,9,  -999.00,9,   -999.0,9, -0.3630
    09AR9391_2,  P11A,    64,  1,     10,    210,2,19930502,2319,-65.4475, 143.9480, 2600,    159.8,  -0.3080,  34.5270,4,  34.5420,2,   -999.0,5,    246.8,2,  -999.00,9,  -999.00,9,  -999.00,9,   -999.0,9, -0.3130
    09AR9391_2,  P11A,    64,  1,      9,    209,2,19930502,2319,-65.4475, 143.9480, 2600,    169.5,   0.1170,  34.5790,4,  34.5740,2,   -999.0,5,    231.9,2,  -999.00,9,  -999.00,9,  -999.00,9,   -999.0,9,  0.1110
    09AR9391_2,  P11A,    64,  1,      7,    207,2,19930502,2319,-65.4475, 143.9480, 2600,    189.1,   0.1800,  34.5840,2,-999.0000,9,   -999.0,5,   -999.0,9,  -999.00,9,  -999.00,9,  -999.00,9,   -999.0,9,  0.1730
    09AR9391_2,  P11A,    64,  1,      8,    208,2,19930502,2319,-65.4475, 143.9480, 2600,    189.6,   0.1720,  34.5830,2,  34.5890,2,   -999.0,5,    229.0,2,  -999.00,9,  -999.00,9,  -999.00,9,   -999.0,9,  0.1650
    09AR9391_2,  P11A,    64,  1,      6,    206,2,19930502,2319,-65.4475, 143.9480, 2600,    209.9,   0.2510,  34.5930,2,  34.5980,2,   -999.0,5,    227.6,2,  -999.00,9,  -999.00,9,  -999.00,9,   -999.0,9,  0.2430
    09AR9391_2,  P11A,    64,  1,      5,    205,2,19930502,2319,-65.4475, 143.9480, 2600,    210.2,   0.2570,  34.5920,3,-999.0000,9,   -999.0,5,   -999.0,9,  -999.00,9,  -999.00,9,  -999.00,9,   -999.0,9,  0.2490
    09AR9391_2,  P11A,    64,  1,      4,    204,2,19930502,2319,-65.4475, 143.9480, 2600,    231.1,   0.4030,  34.6190,4,  34.6140,2,   -999.0,5,    223.6,2,  -999.00,9,  -999.00,9,  -999.00,9,   -999.0,9,  0.3940
    09AR9391_2,  P11A,    64,  1,      3,    319,2,19930502,2319,-65.4475, 143.9480, 2600,    248.6,   0.4510,  34.6290,2,-999.0000,9,   -999.0,5,    219.5,2,  -999.00,9,  -999.00,9,  -999.00,9,   -999.0,9,  0.4410
    09AR9391_2,  P11A,    64,  1,      2,    202,2,19930502,2319,-65.4475, 143.9480, 2600,    270.2,   0.5280,  34.6410,2,  34.6400,2,   -999.0,5,    217.8,2,  -999.00,9,  -999.00,9,  -999.00,9,   -999.0,9,  0.5170
    09AR9391_2,  P11A,    64,  1,      1,    218,2,19930502,2319,-65.4475, 143.9480, 2600,    299.7,   0.6380,  34.6580,2,  34.6560,2,   -999.0,5,    217.6,2,  -999.00,9,  -999.00,9,  -999.00,9,   -999.0,9,  0.6250