BOTTLE,20190618WHPSIOAMB
EXPOCODE,SECT_ID,STNNBR,CASTNO,SAMPNO,BTLNBR,BTLNBR_FLAG_W,DATE,TIME,LATITUDE,LONGITUDE,DEPTH,CTDPRS,CTDTMP,CTDSAL,CTDSAL_FLAG_W,SALNTY,SALNTY_FLAG_W,CTDOXY,CTDOXY_FLAG_W,OXYGEN,OXYGEN_FLAG_W,SILCAT,SILCAT_FLAG_W,NO2+NO3,NO2+NO3_FLAG_W,PHSPHT,PHSPHT_FLAG_W,TCARBN,TCARBN_FLAG_W,THETA
,,,,,,,,,,,,DBAR,ITS-90,PSS-78,,PSS-78,,UMOL/KG,,UMOL/KG,,UMOL/KG,,UMOL/KG,,UMOL/KG,,UMOL/KG,,ITS-90
    09AR9391_2,  P11A,    15,  1,     24,    224,2,19930409,0110,-43.2522, 154.9762, 4500,      8.0,  14.7000,  34.9880,2,  34.9870,2,   -999.0,5,    243.8,2,     0.90,2,     2.30,2,     0.37,2,   2046.4,2, 14.7020
    09AR9391_2,  P11A,    15,  1,     23,    223,2,19930409,0110,-43.2522, 154.9762, 4500,     16.3,  14.6990,  34.9880,2,  34.9860,2,   -999.0,5,    243.6,2,     0.90,2,     2.30,2,     0.37,2,   2045.7,2, 14.7000
    09AR9391_2,  P11A,    15,  1,     22,    222,2,19930409,0110,-43.2522, 154.9762, 4500,     46.1,  14.7010,  34.9880,2,  34.9860,2,   -999.0,5,    244.1,2,     1.00,2,     2.30,2,     0.37,2,   2045.6,2, 14.6980
    09AR9391_2,  P11A,    15,  1,     21,    221,2,19930409,0110,-43.2522, 154.9762, 4500,     96.3,  12.5880,  35.1810,2,  35.1770,2,   -999.0,5,    218.4,2,     2.90,2,    10.20,2,     0.74,2,   2096.2,2, 12.5780
    09AR9391_2,  P11A,    15,  1,     20,    220,2,19930409,0110,-43.2522, 154.9762, 4500,    147.2,  11.1710,  34.9950,4,  34.9900,2,   -999.0,5,    229.0,2,     3.60,2,    12.20,2,     0.87,2,   2103.5,2, 11.1550
    09AR9391_2,  P11A,    15,  1,     19,    319,2,19930409,0110,-43.2522, 154.9762, 4500,    198.0,  10.3420,  34.8690,3,  34.8660,2,   -999.0,5,   -999.0,9,     4.10,2,    13.90,2,     0.97,2,   2109.2,2, 10.3210
    09AR9391_2,  P11A,    15,  1,     18,    201,2,19930409,0110,-43.2522, 154.9762, 4500,    297.8,   9.4670,  34.7210,4,  34.7310,2,   -999.0,5,    246.5,2,     3.90,2,    14.80,2,     1.05,2,   2107.6,2,  9.4360
    09AR9391_2,  P11A,    15,  1,     17,    217,2,19930409,0110,-43.2522, 154.9762, 4500,    395.9,   8.9410,  34.6370,2,  34.6400,2,   -999.0,5,    242.9,2,     4.40,2,    16.50,2,     1.17,2,   2112.2,2,  8.9000
    09AR9391_2,  P11A,    15,  1,     16,    216,2,19930409,0110,-43.2522, 154.9762, 4500,    495.0,   8.5200,  34.5800,2,  34.5820,2,   -999.0,5,    234.7,2,     5.90,2,    18.80,2,     1.30,2,   2120.8,2,  8.4690
    09AR9391_2,  P11A,    15,  1,     15,    215,2,19930409,0110,-43.2522, 154.9762, 4500,    596.2,   8.0310,  34.5370,2,  34.5420,2,   -999.0,5,    218.3,2,     8.80,2,    21.60,2,     1.48,2,   2134.9,2,  7.9710
    09AR9391_2,  P11A,    15,  1,     14,    214,2,19930409,0110,-43.2522, 154.9762, 4500,    795.7,   6.5520,  34.4680,2,  34.4700,2,   -999.0,5,    190.5,2,    19.90,2,    27.40,2,     1.88,2,   2168.6,2,  6.4790
    09AR9391_2,  P11A,    15,  1,     13,    213,2,19930409,0110,-43.2522, 154.9762, 4500,    995.1,   5.1620,  34.4440,2,  34.4450,2,   -999.0,5,    181.0,2,    35.60,2,    31.00,2,     2.13,2,   2196.7,2,  5.0790
    09AR9391_2,  P11A,    15,  1,     12,    212,2,19930409,0110,-43.2522, 154.9762, 4500,   1193.3,   4.1350,  34.4760,2,  34.4760,2,   -999.0,5,    169.2,2,    53.80,2,    33.60,2,  -999.00,5,   2224.4,2,  4.0430
    09AR9391_2,  P11A,    15,  1,     11,    211,2,19930409,0110,-43.2522, 154.9762, 4500,   1394.3,   3.2110,  34.5040,2,  34.5060,2,   -999.0,5,    165.8,2,    64.90,2,    35.20,2,     2.42,2,   2242.6,2,  3.1110
    09AR9391_2,  P11A,    15,  1,     10,    210,2,19930409,0110,-43.2522, 154.9762, 4500,   1594.0,   2.8270,  34.5870,2,  34.5880,2,   -999.0,5,    158.1,2,    78.00,2,    35.80,2,     2.48,2,   2262.1,2,  2.7140
    09AR9391_2,  P11A,    15,  1,      9,    209,2,19930409,0110,-43.2522, 154.9762, 4500,   1794.1,   2.5180,  34.6390,2,  34.6400,2,   -999.0,5,    161.7,2,    81.10,2,    35.00,2,     2.43,2,   2263.3,2,  2.3920
    09AR9391_2,  P11A,    15,  1,      8,    208,2,19930409,0110,-43.2522, 154.9762, 4500,   1997.0,   2.3350,  34.6810,2,  34.6840,2,   -999.0,5,    167.4,2,    82.80,2,    34.40,2,     2.38,2,   2259.2,2,  2.1940
    09AR9391_2,  P11A,    15,  1,      7,    207,2,19930409,0110,-43.2522, 154.9762, 4500,   2196.1,   2.1850,  34.7080,2,  34.7130,2,   -999.0,5,    173.7,2,    84.90,2,    33.60,2,     2.35,2,   2257.4,2,  2.0290
    09AR9391_2,  P11A,    15,  1,      6,    206,2,19930409,0110,-43.2522, 154.9762, 4500,   2599.9,   1.8840,  34.7390,2,  34.7390,2,   -999.0,5,    181.7,2,    91.30,2,    33.10,2,     2.28,2,   2259.2,2,  1.6970
    09AR9391_2,  P11A,    15,  1,      5,    205,2,19930409,0110,-43.2522, 154.9762, 4500,   3000.4,   1.6210,  34.7390,2,-999.0000,9,   -999.0,5,   -999.0,5,  -999.00,9,  -999.00,9,  -999.00,9,   -999.0,9,  1.4020
    09AR9391_2,  P11A,    15,  1,      4,    204,2,19930409,0110,-43.2522, 154.9762, 4500,   3401.2,   1.3290,  34.7330,2,  34.7340,2,   -999.0,5,    191.1,2,   106.20,2,    33.50,2,     2.32,2,   2265.8,2,  1.0770
    09AR9391_2,  P11A,    15,  1,      3,    203,3,19930409,0110,-43.2522, 154.9762, 4500,   3801.5,   1.1440,  34.7250,2,  34.4920,4,   -999.0,5,   -999.0,5,  -999.00,5,  -999.00,5,  -999.00,5,   -999.0,9,  0.8560
    09AR9391_2,  P11A,    15,  1,      2,    202,2,19930409,0110,-43.2522, 154.9762, 4500,   4206.3,   1.0730,  34.7210,2,  34.7210,2,   -999.0,5,    194.7,2,   114.30,2,    33.80,2,     2.34,2,   2270.4,2,  0.7440
    09AR9391_2,  P11A,    15,  1,      1,    218,2,19930409,0110,-43.2522, 154.9762, 4500,   4575.5,   1.0350,  34.7190,2,  34.7180,2,   -999.0,5,   -999.0,9,   114.90,2,    34.10,2,     2.35,2,   2269.6,2,  0.6660
    09AR9391_2,  P11A,    16,  1,     24,    224,2,19930409,1128,-43.7500, 154.9983, 4610,      7.8,  15.3670,  35.1760,2,  35.1740,2,   -999.0,5,    238.2,2,     0.60,2,     0.70,2,     0.35,2,   -999.0,9, 15.3690
    09AR9391_2,  P11A,    16,  1,     23,    223,2,19930409,1128,-43.7500, 154.9983, 4610,     18.9,  15.3690,  35.1750,2,  35.1750,2,   -999.0,5,    238.5,2,     0.50,2,     0.70,2,     0.33,2,   -999.0,9, 15.3700
    09AR9391_2,  P11A,    16,  1,     22,    222,2,19930409,1128,-43.7500, 154.9983, 4610,     49.6,  15.3040,  35.1910,4,  35.1830,2,   -999.0,5,    237.4,2,     0.50,2,     0.90,2,     0.34,2,   -999.0,9, 15.3000
    09AR9391_2,  P11A,    16,  1,     21,    221,2,19930409,1128,-43.7500, 154.9983, 4610,     97.0,  13.0570,  35.2480,4,  35.2460,2,   -999.0,5,    236.6,2,     2.80,2,     8.80,2,     0.74,2,   -999.0,9, 13.0470
    09AR9391_2,  P11A,    16,  1,     20,    220,2,19930409,1128,-43.7500, 154.9983, 4610,    148.3,  12.0940,  35.1320,4,  35.1440,2,   -999.0,5,    211.0,2,     3.30,2,    10.20,2,     0.84,2,   -999.0,9, 12.0770
    09AR9391_2,  P11A,    16,  1,     19,    319,2,19930409,1128,-43.7500, 154.9983, 4610,    196.8,  11.2450,  35.0090,4,  35.0090,2,   -999.0,5,    216.8,2,     3.70,2,    11.80,2,     0.94,2,   -999.0,9, 11.2230
    09AR9391_2,  P11A,    16,  1,     18,    201,2,19930409,1128,-43.7500, 154.9983, 4610,    300.7,   9.9720,  34.8060,2,  34.8060,2,   -999.0,5,    221.2,2,     3.20,2,    12.50,2,     1.00,2,   -999.0,9,  9.9390
    09AR9391_2,  P11A,    16,  1,     17,    217,2,19930409,1128,-43.7500, 154.9983, 4610,    398.2,   9.1470,  34.6640,2,  34.6710,2,   -999.0,5,    248.5,2,     3.60,2,    14.80,2,     1.12,2,   -999.0,9,  9.1050
    09AR9391_2,  P11A,    16,  1,     16,    216,2,19930409,1128,-43.7500, 154.9983, 4610,    496.0,   8.5870,  34.5720,2,  34.5740,2,   -999.0,5,    249.8,2,     4.00,2,    16.20,2,     1.21,2,   -999.0,9,  8.5360
    09AR9391_2,  P11A,    16,  1,     15,    215,2,19930409,1128,-43.7500, 154.9983, 4610,    597.9,   8.1040,  34.5460,3,  34.5520,2,   -999.0,5,    252.3,2,     8.90,2,    21.20,2,     1.52,2,   -999.0,9,  8.0440
    09AR9391_2,  P11A,    16,  1,     14,    214,2,19930409,1128,-43.7500, 154.9983, 4610,    797.3,   6.7490,  34.4880,2,  34.4940,2,   -999.0,5,    216.1,2,    19.80,2,    27.20,2,     1.90,2,   -999.0,9,  6.6750
    09AR9391_2,  P11A,    16,  1,     13,    213,2,19930409,1128,-43.7500, 154.9983, 4610,    994.3,   5.2040,  34.4280,3,  34.4190,2,   -999.0,5,    185.6,2,    31.30,2,    31.00,2,     2.14,2,   -999.0,9,  5.1210
    09AR9391_2,  P11A,    16,  1,     12,    212,2,19930409,1128,-43.7500, 154.9983, 4610,   1194.1,   4.1590,  34.4550,3,  34.4590,2,   -999.0,5,    187.6,2,    49.20,2,    33.80,2,  -999.00,5,   -999.0,9,  4.0670
    09AR9391_2,  P11A,    16,  1,     11,    211,2,19930409,1128,-43.7500, 154.9983, 4610,   1394.1,   3.2520,  34.5000,2,  34.5020,2,   -999.0,5,    172.3,2,    63.00,2,    36.00,2,     2.46,2,   -999.0,9,  3.1510
    09AR9391_2,  P11A,    16,  1,     10,    210,2,19930409,1128,-43.7500, 154.9983, 4610,   1596.8,   2.8000,  34.5770,2,  34.5760,2,   -999.0,5,    166.3,2,    74.50,2,    36.00,2,     2.51,2,   -999.0,9,  2.6870
    09AR9391_2,  P11A,    16,  1,      9,    209,2,19930409,1128,-43.7500, 154.9983, 4610,   1796.0,   2.5340,  34.6310,2,  34.6320,2,   -999.0,5,    160.2,2,    78.80,2,    36.10,2,     2.46,2,   -999.0,9,  2.4080
    09AR9391_2,  P11A,    16,  1,      8,    208,2,19930409,1128,-43.7500, 154.9983, 4610,   1996.3,   2.3480,  34.6740,2,  34.6750,2,   -999.0,5,    161.4,2,    82.10,2,    35.00,2,     2.37,2,   -999.0,9,  2.2070
    09AR9391_2,  P11A,    16,  1,      7,    207,2,19930409,1128,-43.7500, 154.9983, 4610,   2200.4,   2.1980,  34.7060,2,  34.7050,2,   -999.0,5,    166.8,2,    83.90,2,    34.50,2,     2.35,2,   -999.0,9,  2.0410
    09AR9391_2,  P11A,    16,  1,      6,    206,2,19930409,1128,-43.7500, 154.9983, 4610,   2598.9,   1.9230,  34.7330,2,  34.7320,2,   -999.0,5,    176.3,2,    89.90,2,    33.90,2,     2.30,2,   -999.0,9,  1.7350
    09AR9391_2,  P11A,    16,  1,      5,    205,2,19930409,1128,-43.7500, 154.9983, 4610,   3000.6,   1.6340,  34.7360,2,  34.7350,2,   -999.0,5,    182.6,2,    95.80,2,    34.00,2,     2.30,2,   -999.0,9,  1.4140
    09AR9391_2,  P11A,    16,  1,      4,    204,2,19930409,1128,-43.7500, 154.9983, 4610,   3404.1,   1.3690,  34.7280,2,  34.7280,2,   -999.0,5,    193.3,3,   104.10,2,    34.10,2,     2.33,2,   -999.0,9,  1.1160
    09AR9391_2,  P11A,    16,  1,      3,    203,3,19930409,1128,-43.7500, 154.9983, 4610,   3802.3,   1.1540,  34.7210,2,  34.5480,4,   -999.0,5,   -999.0,5,  -999.00,5,  -999.00,5,  -999.00,5,   -999.0,9,  0.8660
    09AR9391_2,  P11A,    16,  1,      2,    202,2,19930409,1128,-43.7500, 154.9983, 4610,   4200.0,   1.0880,  34.7180,2,  34.7180,2,   -999.0,5,    194.1,2,   111.80,2,    35.00,2,     2.35,2,   -999.0,9,  0.7590
    09AR9391_2,  P11A,    16,  1,      1,    218,2,19930409,1128,-43.7500, 154.9983, 4610,   4687.5,   1.0520,  34.7150,2,  34.7140,2,   -999.0,5,    198.8,2,   113.60,2,    35.00,2,     2.36,2,   -999.0,9,  0.6700
    09AR9391_2,  P11A,    17,  1,     24,    224,2,19930409,1832,-44.2385, 155.0135, 4750,      8.5,  13.8770,  34.8830,2,  34.8830,2,   -999.0,5,    248.4,2,     1.00,2,     2.70,2,     0.45,2,   2050.9,2, 13.8790
    09AR9391_2,  P11A,    17,  1,     23,    223,2,19930409,1832,-44.2385, 155.0135, 4750,     17.5,  13.8800,  34.8830,2,  34.8830,2,   -999.0,5,    248.4,2,     1.00,2,     2.70,2,     0.45,2,   2050.5,2, 13.8810
    09AR9391_2,  P11A,    17,  1,     22,    222,2,19930409,1832,-44.2385, 155.0135, 4750,     50.1,  13.8820,  34.8820,2,  34.8830,2,   -999.0,5,    248.2,2,     0.90,2,     2.80,2,     0.46,2,   2048.2,2, 13.8780
    09AR9391_2,  P11A,    17,  1,     21,    221,2,19930409,1832,-44.2385, 155.0135, 4750,    100.5,  12.2330,  35.0820,2,  35.0820,2,   -999.0,5,    221.5,2,     3.10,2,    10.20,2,     0.84,2,   2098.0,2, 12.2230
    09AR9391_2,  P11A,    17,  1,     20,    220,2,19930409,1832,-44.2385, 155.0135, 4750,    149.4,  11.0900,  34.9720,3,  34.9650,2,   -999.0,5,    230.0,2,     4.00,2,    12.10,2,     0.97,2,   2107.1,2, 11.0740
    09AR9391_2,  P11A,    17,  1,     19,    319,2,19930409,1832,-44.2385, 155.0135, 4750,    198.7,  10.0170,  34.7980,4,  34.8210,2,   -999.0,5,    242.5,2,     3.90,2,    13.10,2,     1.06,2,   2104.6,2,  9.9960
    09AR9391_2,  P11A,    17,  1,     18,    201,2,19930409,1832,-44.2385, 155.0135, 4750,    298.8,   9.4110,  34.7140,2,  34.7120,2,   -999.0,5,    249.3,2,     4.10,2,    14.30,2,     1.13,2,   2107.2,2,  9.3800
    09AR9391_2,  P11A,    17,  1,     17,    217,2,19930409,1832,-44.2385, 155.0135, 4750,    396.6,   8.9960,  34.6410,2,  34.6450,2,   -999.0,5,    246.0,2,     4.70,2,    15.80,2,     1.24,2,   2112.7,2,  8.9550
    09AR9391_2,  P11A,    17,  1,     16,    216,2,19930409,1832,-44.2385, 155.0135, 4750,    498.4,   8.6500,  34.5940,2,  34.6000,2,   -999.0,5,    241.1,2,     5.80,2,    17.30,2,     1.33,2,   2118.1,2,  8.5990
    09AR9391_2,  P11A,    17,  1,     15,    215,2,19930409,1832,-44.2385, 155.0135, 4750,    698.3,   7.5590,  34.5170,2,  34.5240,2,   -999.0,5,    202.1,2,    13.70,2,    24.30,2,     1.77,2,   2151.6,2,  7.4910
    09AR9391_2,  P11A,    17,  1,     14,    214,2,19930409,1832,-44.2385, 155.0135, 4750,    897.4,   5.9280,  34.4520,2,  34.4540,2,   -999.0,5,    185.2,2,    26.90,2,    28.50,2,     2.04,2,   2183.1,3,  5.8490
    09AR9391_2,  P11A,    17,  1,     13,    213,2,19930409,1832,-44.2385, 155.0135, 4750,    995.2,   5.1160,  34.4040,3,  34.4060,2,   -999.0,5,    192.6,2,    31.30,2,    30.10,2,     2.16,2,   2184.3,2,  5.0340
    09AR9391_2,  P11A,    17,  1,     12,    212,2,19930409,1832,-44.2385, 155.0135, 4750,   1097.2,   4.5170,  34.4040,3,  34.4030,2,   -999.0,5,   -999.0,5,    38.50,2,    31.60,2,  -999.00,5,   2203.3,2,  4.4300
    09AR9391_2,  P11A,    17,  1,     11,    211,2,19930409,1832,-44.2385, 155.0135, 4750,   1194.6,   4.0110,  34.4170,2,  34.4200,2,   -999.0,5,    182.9,2,    46.40,2,    32.50,2,     2.31,2,   2214.8,2,  3.9200
    09AR9391_2,  P11A,    17,  1,     10,    210,2,19930409,1832,-44.2385, 155.0135, 4750,   1496.8,   2.9020,  34.5140,2,  34.5130,2,   -999.0,5,    158.8,2,    65.90,2,    34.50,2,     2.45,2,   2245.4,2,  2.7960
    09AR9391_2,  P11A,    17,  1,      9,    209,2,19930409,1832,-44.2385, 155.0135, 4750,   1796.7,   2.5560,  34.6320,2,  34.6300,2,   -999.0,5,    160.4,2,    83.40,2,    34.80,2,     2.48,2,   2265.5,2,  2.4290
    09AR9391_2,  P11A,    17,  1,      8,    208,2,19930409,1832,-44.2385, 155.0135, 4750,   2097.8,   2.2980,  34.6880,2,  34.6880,2,   -999.0,5,    170.1,2,    85.60,2,    33.20,2,     2.37,2,   2261.9,2,  2.1490
    09AR9391_2,  P11A,    17,  1,      7,    207,2,19930409,1832,-44.2385, 155.0135, 4750,   2398.9,   2.0870,  34.7240,2,  34.7220,2,   -999.0,5,    178.7,2,    89.40,2,    33.00,2,     2.32,2,   2260.6,2,  1.9140
    09AR9391_2,  P11A,    17,  1,      6,    206,2,19930409,1832,-44.2385, 155.0135, 4750,   2700.9,   1.9180,  34.7350,2,  34.7360,2,   -999.0,5,   -999.0,5,    94.00,2,    32.40,2,     2.31,2,   2258.5,2,  1.7210
    09AR9391_2,  P11A,    17,  1,      5,    205,3,19930409,1832,-44.2385, 155.0135, 4750,   3002.1,   1.6910,  34.7370,2,  34.4380,4,   -999.0,5,   -999.0,5,  -999.00,5,  -999.00,5,  -999.00,5,   -999.0,9,  1.4700
    09AR9391_2,  P11A,    17,  1,      4,    204,2,19930409,1832,-44.2385, 155.0135, 4750,   3503.0,   1.3760,  34.7300,2,  34.7290,2,   -999.0,5,    188.4,2,   109.00,2,    32.60,2,     2.33,2,   2264.2,2,  1.1130
    09AR9391_2,  P11A,    17,  1,      3,    203,3,19930409,1832,-44.2385, 155.0135, 4750,   4001.3,   1.1420,  34.7210,2,  34.5190,4,   -999.0,5,   -999.0,5,  -999.00,5,  -999.00,5,  -999.00,5,   -999.0,9,  0.8330
    09AR9391_2,  P11A,    17,  1,      2,    202,2,19930409,1832,-44.2385, 155.0135, 4750,   4478.9,   1.0600,  34.7170,2,  34.7160,2,   -999.0,5,    197.3,2,   118.90,2,    33.00,2,     2.36,2,   2270.4,2,  0.7010
    09AR9391_2,  P11A,    17,  1,      1,    218,2,19930409,1832,-44.2385, 155.0135, 4750,   4847.9,   1.0080,  34.7140,2,  34.7120,2,   -999.0,5,    199.1,2,   121.10,2,    33.40,2,     2.37,2,   2265.6,2,  0.6080