BOTTLE,20190618WHPSIOAMB
#BOTTLE,20020606WHPSIOSA
# 2019-08-18 Fixed the units of CTDPRS and CTDTMP
# Leaving in THETA for now, but if using potential temperature, be sure to
# calculate using the current best practice.
#code : jjward hyd_to_exchange.pl 
#original files copied from HTML directory: June 6, 2002
#original HYD file: p11ahy.txt   Thu Jun  6 11:17:34 2002
#original SUM file: p11asu.txt   Thu Jun  6 11:33:01 2002
EXPOCODE,SECT_ID,STNNBR,CASTNO,SAMPNO,BTLNBR,BTLNBR_FLAG_W,DATE,TIME,LATITUDE,LONGITUDE,DEPTH,CTDPRS,CTDTMP,CTDSAL,CTDSAL_FLAG_W,SALNTY,SALNTY_FLAG_W,CTDOXY,CTDOXY_FLAG_W,OXYGEN,OXYGEN_FLAG_W,SILCAT,SILCAT_FLAG_W,NO2+NO3,NO2+NO3_FLAG_W,PHSPHT,PHSPHT_FLAG_W,TCARBN,TCARBN_FLAG_W,THETA
,,,,,,,,,,,,DBAR,ITS-90,PSS-78,,PSS-78,,UMOL/KG,,UMOL/KG,,UMOL/KG,,UMOL/KG,,UMOL/KG,,UMOL/KG,,ITS-90
    09AR9391_2,  P11A,     1,  1,      7,    207,2,19930404,0906,-43.2190, 148.0965,  170,      8.8,  17.6710,  35.5950,2,  35.5960,2,   -999.0,5,    232.9,2,     0.80,2,     0.30,2,     0.22,2,   2029.2,2, 17.6740
    09AR9391_2,  P11A,     1,  1,      6,    206,2,19930404,0906,-43.2190, 148.0965,  170,     19.0,  17.6690,  35.5960,2,  35.5960,2,   -999.0,5,    226.6,2,     0.80,2,     0.30,2,     0.21,2,   2029.4,2, 17.6700
    09AR9391_2,  P11A,     1,  1,      5,    205,2,19930404,0906,-43.2190, 148.0965,  170,     49.9,  16.2230,  35.3460,4,  35.3620,2,   -999.0,5,    217.0,2,     1.20,2,     2.70,2,     0.33,2,   2049.7,2, 16.2190
    09AR9391_2,  P11A,     1,  1,      4,    204,2,19930404,0906,-43.2190, 148.0965,  170,     79.8,  14.7400,  35.3250,3,  35.3270,2,   -999.0,5,    196.3,2,     2.60,2,     7.90,2,     0.59,2,   2083.4,2, 14.7320
    09AR9391_2,  P11A,     1,  1,      3,    203,2,19930404,0906,-43.2190, 148.0965,  170,    108.5,  13.6020,  35.2980,4,-999.0000,9,   -999.0,5,   -999.0,9,  -999.00,9,  -999.00,9,  -999.00,9,   -999.0,9, 13.5900
    09AR9391_2,  P11A,     1,  1,      2,    202,2,19930404,0906,-43.2190, 148.0965,  170,    140.7,  12.9340,  35.2100,4,  35.2250,2,   -999.0,5,    200.8,2,     3.30,2,    10.40,2,     0.73,2,   2098.2,2, 12.9180
    09AR9391_2,  P11A,     1,  1,      1,    201,2,19930404,0906,-43.2190, 148.0965,  170,    150.7,  12.7040,  35.4210,4,  35.1810,4,   -999.0,5,    199.4,2,     3.50,2,    11.00,2,     0.79,2,   2100.4,2, 12.6870
    09AR9391_2,  P11A,     2,  1,     16,    216,2,19930404,1050,-43.2397, 148.2228,  616,      9.4,  17.4620,  35.5620,2,  35.5600,2,   -999.0,5,    230.0,2,     0.90,2,     0.20,2,     0.20,2,   -999.0,9, 17.4650
    09AR9391_2,  P11A,     2,  1,     15,    215,2,19930404,1050,-43.2397, 148.2228,  616,      9.6,  17.4600,  35.5620,2,-999.0000,9,   -999.0,5,   -999.0,9,  -999.00,9,  -999.00,9,  -999.00,9,   -999.0,9, 17.4630
    09AR9391_2,  P11A,     2,  1,     24,    224,2,19930404,1050,-43.2397, 148.2228,  616,      9.8,  17.4670,  35.5620,2,-999.0000,9,   -999.0,5,   -999.0,9,  -999.00,9,  -999.00,9,  -999.00,9,   -999.0,9, 17.4700
    09AR9391_2,  P11A,     2,  1,     14,    214,2,19930404,1050,-43.2397, 148.2228,  616,     19.2,  16.9460,  35.4580,2,  35.4560,2,   -999.0,5,    232.0,2,     0.80,2,     0.60,2,     0.21,2,   -999.0,9, 16.9470
    09AR9391_2,  P11A,     2,  1,     13,    213,2,19930404,1050,-43.2397, 148.2228,  616,     19.3,  16.9080,  35.4480,2,-999.0000,9,   -999.0,5,   -999.0,9,  -999.00,9,  -999.00,9,  -999.00,9,   -999.0,9, 16.9090
    09AR9391_2,  P11A,     2,  1,     12,    212,2,19930404,1050,-43.2397, 148.2228,  616,     49.2,  15.4090,  35.1360,4,  35.1190,2,   -999.0,5,    236.3,2,     0.70,2,     1.40,2,     0.29,2,   -999.0,9, 15.4050
    09AR9391_2,  P11A,     2,  1,     11,    211,2,19930404,1050,-43.2397, 148.2228,  616,     99.2,  14.1830,  35.3120,4,  35.3070,2,   -999.0,5,    195.8,2,     3.00,2,     9.10,2,     0.64,2,   -999.0,9, 14.1720
    09AR9391_2,  P11A,     2,  1,     10,    210,2,19930404,1050,-43.2397, 148.2228,  616,    149.5,  11.9790,  35.0660,3,  35.0650,2,   -999.0,5,    221.5,2,     3.00,2,    10.70,2,     0.76,2,   -999.0,9, 11.9620
    09AR9391_2,  P11A,     2,  1,      9,    209,2,19930404,1050,-43.2397, 148.2228,  616,    196.9,  11.1250,  34.9670,2,  34.9670,2,   -999.0,5,    245.6,2,     3.70,2,    12.40,2,     0.87,2,   -999.0,9, 11.1030
    09AR9391_2,  P11A,     2,  1,      8,    208,2,19930404,1050,-43.2397, 148.2228,  616,    248.5,  10.2600,  34.8450,2,  34.8410,2,   -999.0,5,    228.1,2,     4.20,2,    14.10,2,     0.98,2,   -999.0,9, 10.2330
    09AR9391_2,  P11A,     2,  1,      7,    207,2,19930404,1050,-43.2397, 148.2228,  616,    298.4,   9.7170,  34.7670,2,  34.7670,2,   -999.0,5,    220.0,2,     5.30,2,    16.10,2,     1.11,2,   -999.0,9,  9.6850
    09AR9391_2,  P11A,     2,  1,      6,    206,2,19930404,1050,-43.2397, 148.2228,  616,    350.7,   9.3960,  34.7230,2,  34.7330,2,   -999.0,5,    212.8,2,     6.30,2,    17.80,2,     1.21,2,   -999.0,9,  9.3590
    09AR9391_2,  P11A,     2,  1,      5,    205,2,19930404,1050,-43.2397, 148.2228,  616,    400.4,   8.9050,  34.6580,2,  34.6600,2,   -999.0,5,    209.6,2,     7.50,2,    19.50,2,     1.33,2,   -999.0,9,  8.8640
    09AR9391_2,  P11A,     2,  1,      4,    204,2,19930404,1050,-43.2397, 148.2228,  616,    449.6,   8.5660,  34.6290,3,  34.6120,2,   -999.0,5,    198.9,2,     9.40,2,    21.10,2,     1.43,2,   -999.0,9,  8.5200
    09AR9391_2,  P11A,     2,  1,      3,    203,2,19930404,1050,-43.2397, 148.2228,  616,    501.1,   8.2100,  34.5970,2,  34.5750,2,   -999.0,5,    196.2,2,    11.20,2,    22.50,2,     1.51,2,   -999.0,9,  8.1600
    09AR9391_2,  P11A,     2,  1,      2,    202,2,19930404,1050,-43.2397, 148.2228,  616,    560.7,   7.7470,  34.5580,2,  34.5600,2,   -999.0,5,    191.3,2,    13.60,2,    23.90,2,     1.62,2,   -999.0,9,  7.6920
    09AR9391_2,  P11A,     2,  1,      1,    201,3,19930404,1050,-43.2397, 148.2228,  616,    610.0,   7.4340,  34.5390,2,  34.5440,3,   -999.0,5,    189.1,2,    15.50,2,    24.60,2,     1.69,2,   -999.0,9,  7.3750
    09AR9391_2,  P11A,     3,  1,     20,    220,2,19930404,1258,-43.2457, 148.2630, 1140,      8.7,  17.1760,  35.5170,2,  35.5190,2,   -999.0,5,    232.2,2,     0.50,2,     0.50,2,     0.22,2,   -999.0,9, 17.1790
    09AR9391_2,  P11A,     3,  1,     19,    219,2,19930404,1258,-43.2457, 148.2630, 1140,      9.0,  17.1660,  35.5160,2,-999.0000,9,   -999.0,5,    233.3,2,  -999.00,9,  -999.00,9,  -999.00,9,   2034.6,2, 17.1690
    09AR9391_2,  P11A,     3,  1,     17,    217,2,19930404,1258,-43.2457, 148.2630, 1140,     18.2,  16.9890,  35.4860,2,-999.0000,9,   -999.0,5,    232.8,2,  -999.00,9,  -999.00,9,  -999.00,9,   2036.3,2, 16.9900
    09AR9391_2,  P11A,     3,  1,     18,    218,2,19930404,1258,-43.2457, 148.2630, 1140,     18.6,  17.0160,  35.4870,2,  35.4900,2,   -999.0,5,    232.0,2,     0.60,2,     0.40,2,     0.21,2,   -999.0,9, 17.0170
    09AR9391_2,  P11A,     3,  1,     15,    215,2,19930404,1258,-43.2457, 148.2630, 1140,     48.6,  15.3550,  35.1480,4,-999.0000,9,   -999.0,5,    231.8,2,  -999.00,9,  -999.00,9,  -999.00,9,   2048.0,2, 15.3510
    09AR9391_2,  P11A,     3,  1,     16,    216,2,19930404,1258,-43.2457, 148.2630, 1140,     48.9,  15.3880,  35.1430,3,  35.1680,2,   -999.0,5,    231.3,2,     0.80,2,     2.90,2,     0.34,2,   -999.0,9, 15.3840
    09AR9391_2,  P11A,     3,  1,     14,    214,2,19930404,1258,-43.2457, 148.2630, 1140,    101.1,  13.8790,  35.3120,2,-999.0000,9,   -999.0,5,    200.8,2,  -999.00,9,  -999.00,9,  -999.00,9,   -999.0,9, 13.8680
    09AR9391_2,  P11A,     3,  1,     13,    213,2,19930404,1258,-43.2457, 148.2630, 1140,    101.1,  13.8770,  35.3120,3,  35.3120,2,   -999.0,5,    200.2,2,     2.90,2,     9.80,2,     0.65,2,   2091.2,2, 13.8660
    09AR9391_2,  P11A,     3,  1,     12,    212,2,19930404,1258,-43.2457, 148.2630, 1140,    150.3,  12.3820,  35.1240,2,  35.1210,2,   -999.0,5,    203.2,2,     3.90,2,    12.50,2,     0.83,2,   2106.6,2, 12.3650
    09AR9391_2,  P11A,     3,  1,     11,    211,2,19930404,1258,-43.2457, 148.2630, 1140,    199.1,  11.4280,  35.0250,2,  35.0230,2,   -999.0,5,    206.4,2,     4.30,2,    14.10,2,     0.93,2,   2112.2,2, 11.4060
    09AR9391_2,  P11A,     3,  1,     10,    210,2,19930404,1258,-43.2457, 148.2630, 1140,    250.1,  10.5760,  34.9040,2,  34.9030,2,   -999.0,5,    216.5,2,     4.60,2,    15.00,2,     1.00,2,   2112.5,2, 10.5480
    09AR9391_2,  P11A,     3,  1,      9,    209,2,19930404,1258,-43.2457, 148.2630, 1140,    298.3,   9.8080,  34.7870,3,  34.7810,2,   -999.0,5,    218.7,2,     5.30,2,    17.00,2,     1.11,2,   2121.5,2,  9.7760
    09AR9391_2,  P11A,     3,  1,      8,    208,2,19930404,1258,-43.2457, 148.2630, 1140,    401.0,   8.9190,  34.6470,2,  34.6530,2,   -999.0,5,    222.2,2,     6.10,2,    19.00,2,  -999.00,5,   2123.5,2,  8.8770
    09AR9391_2,  P11A,     3,  1,      7,    207,2,19930404,1258,-43.2457, 148.2630, 1140,    496.8,   8.3120,  34.6040,2,  34.6010,2,   -999.0,5,    198.9,2,    10.60,2,    23.00,2,     1.47,2,   2145.6,2,  8.2620
    09AR9391_2,  P11A,     3,  1,      6,    206,2,19930404,1258,-43.2457, 148.2630, 1140,    597.1,   7.6730,  34.5520,3,  34.5550,2,   -999.0,5,    190.4,2,    14.00,2,    25.00,2,     1.62,2,   2155.0,2,  7.6150
    09AR9391_2,  P11A,     3,  1,      5,    205,2,19930404,1258,-43.2457, 148.2630, 1140,    698.6,   6.7480,  34.5010,2,-999.0000,9,   -999.0,5,   -999.0,9,  -999.00,9,  -999.00,9,  -999.00,9,   -999.0,9,  6.6840
    09AR9391_2,  P11A,     3,  1,      4,    204,2,19930404,1258,-43.2457, 148.2630, 1140,    799.3,   6.0690,  34.4750,2,  34.4750,2,   -999.0,5,    181.4,2,    27.00,2,    29.20,2,     1.91,2,   2180.3,2,  5.9990
    09AR9391_2,  P11A,     3,  1,      3,    203,2,19930404,1258,-43.2457, 148.2630, 1140,    899.2,   5.3690,  34.4600,3,  34.4610,2,   -999.0,5,    178.6,2,    34.50,2,    30.80,2,     2.01,2,   2195.1,2,  5.2940
    09AR9391_2,  P11A,     3,  1,      2,    202,2,19930404,1258,-43.2457, 148.2630, 1140,   1053.8,   4.2000,  34.4290,3,  34.4300,2,   -999.0,5,    180.9,2,  -999.00,9,    32.80,2,     2.18,2,   2214.2,2,  4.1190
    09AR9391_2,  P11A,     3,  1,      1,    201,2,19930404,1258,-43.2457, 148.2630, 1140,   1157.0,   3.7220,  34.4640,2,  34.4640,2,   -999.0,5,    173.9,2,  -999.00,9,    33.90,2,     2.27,2,   2229.3,2,  3.6370
    09AR9391_2,  P11A,     4,  1,     24,    224,2,19930404,1553,-43.2367, 148.3470, 2400,      8.8,  17.5470,  35.5790,2,  35.5800,2,   -999.0,5,    228.9,2,     0.60,2,     0.20,2,     0.20,2,   -999.0,9, 17.5500
    09AR9391_2,  P11A,     4,  1,     23,    223,2,19930404,1553,-43.2367, 148.3470, 2400,     19.2,  17.5440,  35.5760,2,  35.5760,2,   -999.0,5,    228.9,2,     0.70,2,     0.20,2,     0.20,2,   -999.0,9, 17.5450
    09AR9391_2,  P11A,     4,  1,     22,    222,2,19930404,1553,-43.2367, 148.3470, 2400,     49.5,  16.7680,  35.4950,3,  35.4960,2,   -999.0,5,    225.6,2,     1.00,2,     1.40,2,     0.24,2,   -999.0,9, 16.7640
    09AR9391_2,  P11A,     4,  1,     21,    221,2,19930404,1553,-43.2367, 148.3470, 2400,     99.5,  13.8740,  35.2970,2,  35.2950,2,   -999.0,5,    198.5,2,     3.10,2,    10.00,2,     0.65,2,   -999.0,9, 13.8630
    09AR9391_2,  P11A,     4,  1,     20,    220,2,19930404,1553,-43.2367, 148.3470, 2400,    149.0,  12.3860,  35.1410,3,  35.1440,2,   -999.0,5,    202.0,2,     4.00,2,    12.50,2,     0.82,2,   -999.0,9, 12.3690
    09AR9391_2,  P11A,     4,  1,     19,    219,2,19930404,1553,-43.2367, 148.3470, 2400,    199.7,  11.1510,  34.9820,3,  34.9830,2,   -999.0,5,    205.0,2,     5.00,2,    15.00,2,     0.97,2,   -999.0,9, 11.1290
    09AR9391_2,  P11A,     4,  1,     18,    218,2,19930404,1553,-43.2367, 148.3470, 2400,    298.0,   9.8830,  34.7920,3,  34.7950,2,   -999.0,5,    218.0,2,     5.20,2,    16.70,2,     1.08,2,   -999.0,9,  9.8510
    09AR9391_2,  P11A,     4,  1,     17,    217,2,19930404,1553,-43.2367, 148.3470, 2400,    398.7,   8.8010,  34.6380,2,  34.6390,2,   -999.0,5,    214.2,2,     7.30,2,    20.00,2,     1.30,2,   -999.0,9,  8.7600
    09AR9391_2,  P11A,     4,  1,     16,    216,2,19930404,1553,-43.2367, 148.3470, 2400,    498.6,   7.8070,  34.5170,2,  34.5170,2,   -999.0,5,    215.0,2,     9.90,2,    22.70,2,     1.45,2,   -999.0,9,  7.7580
    09AR9391_2,  P11A,     4,  1,     15,    215,2,19930404,1553,-43.2367, 148.3470, 2400,    596.7,   7.2460,  34.5030,3,  34.5040,2,   -999.0,5,    196.9,2,    15.00,2,    25.40,2,     1.64,2,   -999.0,9,  7.1900
    09AR9391_2,  P11A,     4,  1,     14,    214,2,19930404,1553,-43.2367, 148.3470, 2400,    697.1,   6.6660,  34.4890,2,  34.4910,2,   -999.0,5,    187.1,2,    20.50,2,    27.30,2,     1.80,2,   -999.0,9,  6.6020
    09AR9391_2,  P11A,     4,  1,     13,    213,2,19930404,1553,-43.2367, 148.3470, 2400,    796.3,   5.5590,  34.4280,2,  34.4300,2,   -999.0,5,    189.2,2,    27.60,2,    29.60,2,     1.95,2,   -999.0,9,  5.4920
    09AR9391_2,  P11A,     4,  1,     12,    212,2,19930404,1553,-43.2367, 148.3470, 2400,    897.0,   5.1580,  34.4620,3,  34.4610,2,   -999.0,5,    176.0,2,    37.30,2,    30.80,2,  -999.00,5,   -999.0,9,  5.0840
    09AR9391_2,  P11A,     4,  1,     11,    211,2,19930404,1553,-43.2367, 148.3470, 2400,    996.9,   4.5790,  34.4760,2,  34.4770,2,   -999.0,5,    169.3,2,    47.00,2,    32.10,2,     2.14,2,   -999.0,9,  4.5000
    09AR9391_2,  P11A,     4,  1,     10,    210,2,19930404,1553,-43.2367, 148.3470, 2400,   1097.4,   4.1030,  34.4910,2,  34.4910,2,   -999.0,5,    166.5,2,    55.20,2,    33.00,2,     2.23,2,   -999.0,9,  4.0190
    09AR9391_2,  P11A,     4,  1,      9,    209,2,19930404,1553,-43.2367, 148.3470, 2400,   1196.7,   3.7050,  34.5210,2,  34.5210,2,   -999.0,5,    158.7,2,    64.00,2,    33.80,2,     2.31,2,   -999.0,9,  3.6160
    09AR9391_2,  P11A,     4,  1,      8,    208,2,19930404,1553,-43.2367, 148.3470, 2400,   1294.8,   3.2550,  34.5080,2,  34.5090,2,   -999.0,5,    164.6,2,    63.20,3,    34.40,2,     2.34,2,   -999.0,9,  3.1620
    09AR9391_2,  P11A,     4,  1,      7,    207,2,19930404,1553,-43.2367, 148.3470, 2400,   1395.8,   3.0620,  34.5480,2,  34.5470,2,   -999.0,5,    161.4,2,    70.50,2,    34.50,2,     2.36,2,   -999.0,9,  2.9630
    09AR9391_2,  P11A,     4,  1,      6,    206,2,19930404,1553,-43.2367, 148.3470, 2400,   1495.1,   2.8160,  34.5730,3,  34.5690,2,   -999.0,5,    161.8,2,    71.80,2,    34.30,2,     2.35,2,   -999.0,9,  2.7110
    09AR9391_2,  P11A,     4,  1,      5,    205,2,19930404,1553,-43.2367, 148.3470, 2400,   1598.6,   2.6550,  34.5970,2,  34.5950,2,   -999.0,5,    164.6,2,    72.50,2,    34.10,2,     2.32,2,   -999.0,9,  2.5440
    09AR9391_2,  P11A,     4,  1,      4,    204,2,19930404,1553,-43.2367, 148.3470, 2400,   1798.9,   2.4190,  34.6610,2,-999.0000,9,   -999.0,5,   -999.0,9,  -999.00,9,  -999.00,9,  -999.00,9,   -999.0,9,  2.2940
    09AR9391_2,  P11A,     4,  1,      3,    203,3,19930404,1553,-43.2367, 148.3470, 2400,   1998.7,   2.2490,  34.6990,2,  34.7200,4,   -999.0,5,   -999.0,5,  -999.00,5,  -999.00,5,  -999.00,5,   -999.0,9,  2.1090
    09AR9391_2,  P11A,     4,  1,      2,    202,2,19930404,1553,-43.2367, 148.3470, 2400,   2201.7,   2.0950,  34.7220,2,  34.7230,2,   -999.0,5,    173.4,2,    86.10,2,    32.20,2,     2.19,2,   -999.0,9,  1.9400
    09AR9391_2,  P11A,     4,  1,      1,    201,2,19930404,1553,-43.2367, 148.3470, 2400,   2400.9,   1.9600,  34.7340,2,  34.7330,2,   -999.0,5,    180.1,2,    89.20,2,    32.10,2,     2.18,2,   -999.0,9,  1.7900