BOTTLE,20190618WHPSIOAMB
EXPOCODE,SECT_ID,STNNBR,CASTNO,SAMPNO,BTLNBR,BTLNBR_FLAG_W,DATE,TIME,LATITUDE,LONGITUDE,DEPTH,CTDPRS,CTDTMP,CTDSAL,CTDSAL_FLAG_W,SALNTY,SALNTY_FLAG_W,CTDOXY,CTDOXY_FLAG_W,OXYGEN,OXYGEN_FLAG_W,SILCAT,SILCAT_FLAG_W,NO2+NO3,NO2+NO3_FLAG_W,PHSPHT,PHSPHT_FLAG_W,TCARBN,TCARBN_FLAG_W,THETA
,,,,,,,,,,,,DBAR,ITS-90,PSS-78,,PSS-78,,UMOL/KG,,UMOL/KG,,UMOL/KG,,UMOL/KG,,UMOL/KG,,UMOL/KG,,ITS-90
    09AR9391_2,  P11A,    60,  1,     24,    224,2,19930428,2239,-65.7950, 146.5150, 2020,     10.1,  -1.8510,  34.1000,2,  34.1210,2,   -999.0,5,    322.8,2,    62.70,2,    28.10,2,  -999.00,5,   2184.8,2, -1.8520
    09AR9391_2,  P11A,    60,  1,     23,    223,2,19930428,2239,-65.7950, 146.5150, 2020,     26.0,  -1.8580,  34.1020,2,  34.1170,2,   -999.0,5,    321.4,2,    58.90,2,    29.00,2,     1.87,2,   2185.9,2, -1.8590
    09AR9391_2,  P11A,    60,  1,     22,    222,2,19930428,2239,-65.7950, 146.5150, 2020,     50.3,  -1.8490,  34.1040,2,  34.1530,2,   -999.0,5,    320.7,2,    59.40,2,    29.00,2,     2.01,2,   2189.9,2, -1.8500
    09AR9391_2,  P11A,    60,  1,     21,    221,2,19930428,2239,-65.7950, 146.5150, 2020,    100.9,  -1.7720,  34.4010,2,  34.4120,2,   -999.0,5,    299.3,2,    76.00,2,    30.60,2,     2.02,2,   2221.2,2, -1.7740
    09AR9391_2,  P11A,    60,  1,     20,    220,2,19930428,2239,-65.7950, 146.5150, 2020,    140.9,  -1.7950,  34.4110,2,  34.4080,2,   -999.0,5,    297.4,2,    76.30,2,    31.20,2,     2.04,2,   2219.4,2, -1.7980
    09AR9391_2,  P11A,    60,  1,     19,    203,2,19930428,2239,-65.7950, 146.5150, 2020,    181.0,  -1.5640,  34.4340,3,  34.4320,2,   -999.0,5,    285.2,2,    78.50,2,    31.20,2,     2.05,2,   2220.5,2, -1.5690
    09AR9391_2,  P11A,    60,  1,     17,    217,2,19930428,2239,-65.7950, 146.5150, 2020,    200.9,  -1.4120,  34.4490,2,  34.4460,2,   -999.0,5,    280.1,2,    79.50,2,    31.60,2,     2.13,3,   2223.6,2, -1.4170
    09AR9391_2,  P11A,    60,  1,     18,    201,2,19930428,2239,-65.7950, 146.5150, 2020,    201.2,  -1.4210,  34.4470,2,  34.4430,2,   -999.0,5,    281.8,2,  -999.00,9,  -999.00,9,  -999.00,9,   2224.4,2, -1.4260
    09AR9391_2,  P11A,    60,  1,     16,    216,2,19930428,2239,-65.7950, 146.5150, 2020,    300.5,  -0.1530,  34.5670,2,  34.5740,2,   -999.0,5,    235.1,2,    85.10,2,    32.40,2,     2.09,3,   2238.2,2, -0.1640
    09AR9391_2,  P11A,    60,  1,     15,    215,2,19930428,2239,-65.7950, 146.5150, 2020,    390.0,   0.2050,  34.6200,2,  34.6280,2,   -999.0,5,    223.1,2,    91.10,2,    33.10,2,     2.18,2,   2244.4,2,  0.1890
    09AR9391_2,  P11A,    60,  1,     14,    214,2,19930428,2239,-65.7950, 146.5150, 2020,    450.9,   0.1370,  34.6290,2,  34.6380,2,   -999.0,5,    222.8,2,    94.70,2,    33.10,2,     2.19,2,   2247.1,2,  0.1190
    09AR9391_2,  P11A,    60,  1,     13,    213,2,19930428,2239,-65.7950, 146.5150, 2020,    509.1,   0.3140,  34.6550,2,  34.6640,2,   -999.0,5,    216.0,2,    99.80,2,    32.30,3,     2.20,2,   2251.2,2,  0.2920
    09AR9391_2,  P11A,    60,  1,     12,    212,2,19930428,2239,-65.7950, 146.5150, 2020,    599.2,   0.3840,  34.6720,2,  34.6760,2,   -999.0,5,    206.9,2,   105.40,2,    33.60,2,  -999.00,5,   2253.7,2,  0.3580
    09AR9391_2,  P11A,    60,  1,     11,    211,2,19930428,2239,-65.7950, 146.5150, 2020,    669.5,   0.3960,  34.6800,2,  34.6870,2,   -999.0,5,    208.9,2,   109.10,2,    34.00,2,     2.20,2,   2256.2,2,  0.3660
    09AR9391_2,  P11A,    60,  1,     10,    210,2,19930428,2239,-65.7950, 146.5150, 2020,    729.7,   0.4210,  34.6870,2,  34.6940,2,   -999.0,5,    207.6,2,   111.80,2,    35.40,3,     2.21,2,   -999.0,9,  0.3880
    09AR9391_2,  P11A,    60,  1,      9,    209,2,19930428,2239,-65.7950, 146.5150, 2020,    799.4,   0.3920,  34.6870,2,  34.6930,2,   -999.0,5,    208.9,2,   112.40,2,    34.70,2,     2.22,2,   2256.6,2,  0.3560
    09AR9391_2,  P11A,    60,  1,      8,    208,2,19930428,2239,-65.7950, 146.5150, 2020,    900.1,   0.2280,  34.6780,2,  34.6840,2,   -999.0,5,    212.8,2,   111.30,2,    34.80,2,     2.21,2,   2255.0,2,  0.1870
    09AR9391_2,  P11A,    60,  1,      7,    207,3,19930428,2239,-65.7950, 146.5150, 2020,    999.5,   0.1790,  34.6820,2,  34.6840,4,   -999.0,5,    214.3,2,   111.70,2,    34.80,2,     2.22,2,   2255.3,2,  0.1330
    09AR9391_2,  P11A,    60,  1,      6,    206,2,19930428,2239,-65.7950, 146.5150, 2020,   1200.0,   0.1400,  34.6950,2,  34.6880,2,   -999.0,5,    214.7,2,   115.70,2,    35.40,2,     2.25,2,   2256.5,2,  0.0830
    09AR9391_2,  P11A,    60,  1,      5,    205,2,19930428,2239,-65.7950, 146.5150, 2020,   1499.7,   0.0150,  34.7020,2,  34.6900,2,   -999.0,5,    214.0,2,   115.60,2,    36.20,2,     2.23,2,   2256.1,2, -0.0580
    09AR9391_2,  P11A,    60,  1,      4,    204,2,19930428,2239,-65.7950, 146.5150, 2020,   1791.1,  -0.1060,  34.7030,2,  34.6940,2,   -999.0,5,    224.7,2,   104.10,2,    34.80,2,     2.24,2,   2253.0,2, -0.1960
    09AR9391_2,  P11A,    60,  1,      3,    319,2,19930428,2239,-65.7950, 146.5150, 2020,   1860.1,  -0.4710,  34.6740,2,  34.6560,2,   -999.0,5,    240.6,2,    99.70,2,    34.90,2,     2.24,2,   2247.5,2, -0.5600
    09AR9391_2,  P11A,    60,  1,      2,    202,2,19930428,2239,-65.7950, 146.5150, 2020,   1951.9,  -0.9170,  34.6330,2,  34.6100,2,   -999.0,5,    261.6,2,    93.90,2,    35.00,2,     2.17,2,   2240.3,2, -1.0050
    09AR9391_2,  P11A,    60,  1,      1,    218,2,19930428,2239,-65.7950, 146.5150, 2020,   2008.4,  -0.9870,  34.6320,2,  34.6060,2,   -999.0,5,    263.0,2,    92.80,2,    35.10,2,     2.16,2,   2238.7,2, -1.0780
    09AR9391_2,  P11A,    61,  1,     24,    224,2,19930429,1034,-65.7715, 146.4883, 2293,      5.4,  -1.8530,  34.1030,2,  34.1080,2,   -999.0,5,    323.8,2,    61.10,2,    30.20,2,  -999.00,5,   -999.0,9, -1.8540
    09AR9391_2,  P11A,    61,  1,     23,    223,2,19930429,1034,-65.7715, 146.4883, 2293,     26.6,  -1.8520,  34.1050,2,  34.1050,2,   -999.0,5,    322.1,2,    57.40,2,    30.40,2,     1.95,2,   -999.0,9, -1.8530
    09AR9391_2,  P11A,    61,  1,     22,    222,2,19930429,1034,-65.7715, 146.4883, 2293,     51.8,  -1.8310,  34.1230,2,  34.2010,2,   -999.0,5,    312.3,2,    63.90,2,    30.90,2,     2.01,2,   -999.0,9, -1.8320
    09AR9391_2,  P11A,    61,  1,     21,    221,2,19930429,1034,-65.7715, 146.4883, 2293,     75.8,  -1.7530,  34.3680,2,  34.3690,2,   -999.0,5,    300.9,2,    72.70,2,    32.50,2,     2.09,2,   -999.0,9, -1.7550
    09AR9391_2,  P11A,    61,  1,     20,    220,2,19930429,1034,-65.7715, 146.4883, 2293,    150.4,  -1.7930,  34.4040,2,  34.4050,2,   -999.0,5,    296.4,2,    74.00,2,    32.70,2,     2.10,2,   -999.0,9, -1.7970
    09AR9391_2,  P11A,    61,  1,     19,    203,2,19930429,1034,-65.7715, 146.4883, 2293,    200.5,  -1.5540,  34.4310,3,  34.4340,2,   -999.0,5,    286.0,2,    75.70,2,    32.60,2,     2.13,2,   -999.0,9, -1.5590
    09AR9391_2,  P11A,    61,  1,     18,    201,2,19930429,1034,-65.7715, 146.4883, 2293,    299.8,  -0.1150,  34.5720,3,  34.5690,2,   -999.0,5,    235.1,2,    82.30,2,    34.10,2,     2.17,2,   -999.0,9, -0.1260
    09AR9391_2,  P11A,    61,  1,     17,    217,2,19930429,1034,-65.7715, 146.4883, 2293,    394.8,   0.3990,  34.6360,2,  34.6390,2,   -999.0,5,   -999.0,9,    87.80,2,    33.30,2,     2.17,2,   -999.0,9,  0.3820
    09AR9391_2,  P11A,    61,  1,     16,    216,2,19930429,1034,-65.7715, 146.4883, 2293,    500.0,   0.3260,  34.6520,2,  34.6520,2,   -999.0,5,    216.0,2,    95.00,2,    34.60,2,     2.21,2,   -999.0,9,  0.3050
    09AR9391_2,  P11A,    61,  1,     15,    215,2,19930429,1034,-65.7715, 146.4883, 2293,    599.4,   0.4660,  34.6740,2,  34.6780,2,   -999.0,5,    210.2,2,   100.40,2,    34.00,2,     2.20,2,   -999.0,9,  0.4390
    09AR9391_2,  P11A,    61,  1,     14,    214,2,19930429,1034,-65.7715, 146.4883, 2293,    675.1,   0.5300,  34.6870,2,  34.6980,3,   -999.0,5,    206.9,2,   105.30,2,    34.50,2,     2.20,2,   -999.0,9,  0.4990
    09AR9391_2,  P11A,    61,  1,     13,    213,2,19930429,1034,-65.7715, 146.4883, 2293,    799.3,   0.3850,  34.6830,2,  34.6920,3,   -999.0,5,    209.9,2,   107.70,2,    34.90,2,     2.22,2,   -999.0,9,  0.3490
    09AR9391_2,  P11A,    61,  1,     12,    212,2,19930429,1034,-65.7715, 146.4883, 2293,    899.0,   0.2250,  34.6730,2,  34.6740,2,   -999.0,5,    214.3,2,   105.40,2,    34.60,2,  -999.00,5,   -999.0,9,  0.1840
    09AR9391_2,  P11A,    61,  1,     11,    211,2,19930429,1034,-65.7715, 146.4883, 2293,    998.7,   0.1950,  34.6770,2,  34.6790,2,   -999.0,5,    213.7,2,   106.30,2,    34.90,2,     2.19,2,   -999.0,9,  0.1490
    09AR9391_2,  P11A,    61,  1,     10,    210,2,19930429,1034,-65.7715, 146.4883, 2293,   1098.8,   0.1870,  34.6820,2,  34.6870,2,   -999.0,5,    215.0,2,   109.20,2,    34.90,2,     2.21,2,   -999.0,9,  0.1360
    09AR9391_2,  P11A,    61,  1,      9,    209,2,19930429,1034,-65.7715, 146.4883, 2293,   1299.3,   0.1360,  34.6890,2,  34.6910,2,   -999.0,5,    216.3,2,   111.20,2,    35.10,2,     2.22,2,   -999.0,9,  0.0740
    09AR9391_2,  P11A,    61,  1,      8,    208,2,19930429,1034,-65.7715, 146.4883, 2293,   1549.4,   0.0300,  34.6910,2,  34.6920,2,   -999.0,5,    219.2,2,   111.20,2,    35.40,2,     2.22,2,   -999.0,9, -0.0460
    09AR9391_2,  P11A,    61,  1,      7,    207,2,19930429,1034,-65.7715, 146.4883, 2293,   1700.1,  -0.0160,  34.6940,2,  34.6960,2,   -999.0,5,    221.8,2,   102.30,2,    34.90,2,     2.20,2,   -999.0,9, -0.1010
    09AR9391_2,  P11A,    61,  1,      6,    206,2,19930429,1034,-65.7715, 146.4883, 2293,   1702.8,  -0.0170,  34.6930,2,  34.6950,2,   -999.0,5,    221.8,2,   101.00,2,    35.00,2,     2.20,2,   -999.0,9, -0.1030
    09AR9391_2,  P11A,    61,  1,      5,    205,2,19930429,1034,-65.7715, 146.4883, 2293,   1707.2,  -0.0180,  34.6930,2,  34.6960,2,   -999.0,5,    221.5,2,   100.70,2,    35.40,2,     2.20,2,   -999.0,9, -0.1040
    09AR9391_2,  P11A,    61,  1,      4,    204,2,19930429,1034,-65.7715, 146.4883, 2293,   2101.0,  -0.1320,  34.7040,2,  34.7050,2,   -999.0,5,    225.7,2,    97.30,2,    34.80,2,     2.19,2,   -999.0,9, -0.2430
    09AR9391_2,  P11A,    61,  1,      3,    319,2,19930429,1034,-65.7715, 146.4883, 2293,   2201.0,  -0.2330,  34.6950,2,  34.6910,2,   -999.0,5,    231.3,2,    96.60,2,    34.90,2,     2.19,2,   -999.0,9, -0.3490
    09AR9391_2,  P11A,    61,  1,      2,    202,2,19930429,1034,-65.7715, 146.4883, 2293,   2252.7,  -0.6190,  34.6570,2,  34.6450,2,   -999.0,5,    250.6,2,    91.60,2,    34.40,2,     2.17,2,   -999.0,9, -0.7320
    09AR9391_2,  P11A,    61,  1,      1,    218,2,19930429,1034,-65.7715, 146.4883, 2293,   2297.6,  -0.7500,  34.6470,2,  34.6350,2,   -999.0,5,    255.4,2,    90.60,2,    34.80,2,     2.17,2,   -999.0,9, -0.8640
    09AR9391_2,  P11A,    62,  1,     24,    224,2,19930429,2040,-65.7735, 146.4507, 2260,      9.6,  -1.8540,  34.1080,2,  34.1050,2,   -999.0,5,    322.5,2,    57.70,2,  -999.00,5,  -999.00,5,   -999.0,9, -1.8550
    09AR9391_2,  P11A,    62,  1,     23,    223,2,19930429,2040,-65.7735, 146.4507, 2260,     48.9,  -1.8410,  34.1170,2,  34.1220,2,   -999.0,5,    319.4,2,    58.90,2,  -999.00,5,     1.96,2,   -999.0,9, -1.8420
    09AR9391_2,  P11A,    62,  1,     22,    222,2,19930429,2040,-65.7735, 146.4507, 2260,     99.4,  -1.7850,  34.3980,2,  34.3960,2,   -999.0,5,    298.3,2,    74.60,2,  -999.00,5,     2.11,2,   -999.0,9, -1.7870
    09AR9391_2,  P11A,    62,  1,     21,    221,2,19930429,2040,-65.7735, 146.4507, 2260,    149.4,  -1.7580,  34.4130,2,  34.4090,2,   -999.0,5,    294.7,2,    75.00,2,  -999.00,5,     2.11,2,   -999.0,9, -1.7620
    09AR9391_2,  P11A,    62,  1,     20,    220,2,19930429,2040,-65.7735, 146.4507, 2260,    198.8,  -1.6410,  34.4280,2,  34.4230,2,   -999.0,5,    286.9,2,    76.10,2,  -999.00,5,     2.12,2,   -999.0,9, -1.6460
    09AR9391_2,  P11A,    62,  1,     19,    203,2,19930429,2040,-65.7735, 146.4507, 2260,    248.7,  -0.8560,  34.5000,2,  34.5000,2,   -999.0,5,    258.4,2,    79.50,2,  -999.00,5,     2.17,2,   -999.0,9, -0.8640
    09AR9391_2,  P11A,    62,  1,     18,    201,2,19930429,2040,-65.7735, 146.4507, 2260,    361.4,  -0.0560,  34.5900,4,  34.5980,2,   -999.0,5,    232.8,2,    85.40,2,  -999.00,5,     2.17,2,   -999.0,9, -0.0700
    09AR9391_2,  P11A,    62,  1,     17,    217,2,19930429,2040,-65.7735, 146.4507, 2260,    418.9,   0.4030,  34.6510,2,  34.6560,2,   -999.0,5,    216.3,2,    93.10,2,  -999.00,5,     2.19,2,   -999.0,9,  0.3850
    09AR9391_2,  P11A,    62,  1,     16,    216,2,19930429,2040,-65.7735, 146.4507, 2260,    469.1,   0.4730,  34.6610,2,  34.6650,2,   -999.0,5,    213.1,2,    94.80,2,  -999.00,5,     2.20,2,   -999.0,9,  0.4530
    09AR9391_2,  P11A,    62,  1,     15,    215,2,19930429,2040,-65.7735, 146.4507, 2260,    528.1,   0.3280,  34.6570,2,  34.6590,2,   -999.0,5,    215.3,2,    97.20,2,  -999.00,5,     2.20,2,   -999.0,9,  0.3060
    09AR9391_2,  P11A,    62,  1,     14,    214,2,19930429,2040,-65.7735, 146.4507, 2260,    597.3,   0.4600,  34.6750,2,  34.6780,2,   -999.0,5,    210.2,2,   101.40,2,  -999.00,5,     2.21,2,   -999.0,9,  0.4340
    09AR9391_2,  P11A,    62,  1,     13,    213,2,19930429,2040,-65.7735, 146.4507, 2260,    797.3,   0.4000,  34.6850,2,  34.6900,2,   -999.0,5,    209.6,2,   108.80,2,  -999.00,5,     2.23,2,   -999.0,9,  0.3640
    09AR9391_2,  P11A,    62,  1,     12,    212,2,19930429,2040,-65.7735, 146.4507, 2260,    897.9,   0.2960,  34.6800,2,  34.6860,2,   -999.0,5,    212.1,2,   110.10,2,  -999.00,5,  -999.00,5,   -999.0,9,  0.2550
    09AR9391_2,  P11A,    62,  1,     11,    211,2,19930429,2040,-65.7735, 146.4507, 2260,    997.6,   0.2150,  34.6760,4,  34.6770,2,   -999.0,5,    214.3,2,   109.20,2,  -999.00,5,     2.21,2,   -999.0,9,  0.1690
    09AR9391_2,  P11A,    62,  1,     10,    210,2,19930429,2040,-65.7735, 146.4507, 2260,   1098.0,   0.1950,  34.6820,2,  34.6830,2,   -999.0,5,    213.7,2,   112.30,2,  -999.00,5,     2.22,2,   -999.0,9,  0.1440
    09AR9391_2,  P11A,    62,  1,      9,    209,2,19930429,2040,-65.7735, 146.4507, 2260,   1297.1,   0.1390,  34.6870,4,  34.6860,2,   -999.0,5,    215.0,2,   113.70,2,  -999.00,5,     2.23,2,   -999.0,9,  0.0770
    09AR9391_2,  P11A,    62,  1,      8,    208,2,19930429,2040,-65.7735, 146.4507, 2260,   1547.6,   0.0480,  34.6910,4,  34.6870,2,   -999.0,5,   -999.0,5,   114.40,2,  -999.00,5,     2.22,2,   -999.0,9, -0.0280
    09AR9391_2,  P11A,    62,  1,      7,    207,3,19930429,2040,-65.7735, 146.4507, 2260,   1698.3,  -0.0020,  34.6890,4,  34.6900,4,   -999.0,5,    221.5,2,   105.50,2,  -999.00,5,     2.22,2,   -999.0,9, -0.0870
    09AR9391_2,  P11A,    62,  1,      6,    206,2,19930429,2040,-65.7735, 146.4507, 2260,   1798.6,  -0.0170,  34.6930,4,  34.6990,2,   -999.0,5,    221.1,2,   104.80,2,  -999.00,5,     2.20,2,   -999.0,9, -0.1090
    09AR9391_2,  P11A,    62,  1,      5,    205,2,19930429,2040,-65.7735, 146.4507, 2260,   1999.1,  -0.0790,  34.6950,2,  34.6950,2,   -999.0,5,    222.1,2,   105.30,2,  -999.00,5,     2.23,2,   -999.0,9, -0.1840
    09AR9391_2,  P11A,    62,  1,      4,    204,2,19930429,2040,-65.7735, 146.4507, 2260,   2079.4,  -0.1070,  34.6960,2,  34.6920,2,   -999.0,5,    226.0,2,   101.70,2,  -999.00,5,     2.21,2,   -999.0,9, -0.2170
    09AR9391_2,  P11A,    62,  1,      3,    319,2,19930429,2040,-65.7735, 146.4507, 2260,   2123.8,  -0.1410,  34.6930,2,  34.6880,2,   -999.0,5,    227.0,2,   101.30,2,  -999.00,5,     2.20,2,   -999.0,9, -0.2530
    09AR9391_2,  P11A,    62,  1,      2,    202,2,19930429,2040,-65.7735, 146.4507, 2260,   2157.0,  -0.2340,  34.6830,2,  34.6770,2,   -999.0,5,    230.9,2,   100.50,2,  -999.00,5,     2.20,2,   -999.0,9, -0.3470
    09AR9391_2,  P11A,    62,  1,      1,    218,2,19930429,2040,-65.7735, 146.4507, 2260,   2275.6,  -0.6710,  34.6460,2,  34.6350,2,   -999.0,5,    252.0,2,    95.00,2,  -999.00,5,     2.18,2,   -999.0,9, -0.7850