BOTTLE,20190618WHPSIOAMB
EXPOCODE,SECT_ID,STNNBR,CASTNO,SAMPNO,BTLNBR,BTLNBR_FLAG_W,DATE,TIME,LATITUDE,LONGITUDE,DEPTH,CTDPRS,CTDTMP,CTDSAL,CTDSAL_FLAG_W,SALNTY,SALNTY_FLAG_W,CTDOXY,CTDOXY_FLAG_W,OXYGEN,OXYGEN_FLAG_W,SILCAT,SILCAT_FLAG_W,NO2+NO3,NO2+NO3_FLAG_W,PHSPHT,PHSPHT_FLAG_W,TCARBN,TCARBN_FLAG_W,THETA
,,,,,,,,,,,,DBAR,ITS-90,PSS-78,,PSS-78,,UMOL/KG,,UMOL/KG,,UMOL/KG,,UMOL/KG,,UMOL/KG,,UMOL/KG,,ITS-90
    09AR9391_2,  P11A,    12,  1,     24,    224,2,19930406,1933,-43.2405, 152.7955, 4630,      8.6,  15.6060,  35.0780,2,  35.0760,2,   -999.0,5,    238.3,2,     0.30,2,     0.90,2,     0.28,2,   -999.0,9, 15.6080
    09AR9391_2,  P11A,    12,  1,     23,    223,2,19930406,1933,-43.2405, 152.7955, 4630,     19.6,  15.6060,  35.0790,2,  35.0760,2,   -999.0,5,    238.6,2,     0.40,2,     0.90,2,     0.29,2,   -999.0,9, 15.6070
    09AR9391_2,  P11A,    12,  1,     22,    222,2,19930406,1933,-43.2405, 152.7955, 4630,     48.3,  15.6250,  35.0860,2,  35.0870,2,   -999.0,5,    237.4,2,     0.40,2,     0.90,2,     0.28,2,   -999.0,9, 15.6210
    09AR9391_2,  P11A,    12,  1,     21,    221,2,19930406,1933,-43.2405, 152.7955, 4630,     98.0,  13.0270,  35.2100,4,  35.2220,2,   -999.0,5,    211.8,2,     2.20,2,     9.40,2,     0.67,2,   -999.0,9, 13.0170
    09AR9391_2,  P11A,    12,  1,     20,    220,2,19930406,1933,-43.2405, 152.7955, 4630,    197.7,  10.3250,  34.8590,2,  34.8660,2,   -999.0,5,    212.4,2,     4.60,2,    15.30,2,     1.05,2,   -999.0,9, 10.3040
    09AR9391_2,  P11A,    12,  1,     19,    319,2,19930406,1933,-43.2405, 152.7955, 4630,    298.5,   9.6400,  34.7530,3,  34.7590,2,   -999.0,5,    223.6,2,     4.40,2,    16.20,2,     1.11,2,   -999.0,9,  9.6080
    09AR9391_2,  P11A,    12,  1,     18,    218,2,19930406,1933,-43.2405, 152.7955, 4630,    396.8,   9.2040,  34.6940,2,  34.6930,2,   -999.0,5,    208.8,2,     6.40,2,    19.10,2,     1.31,2,   -999.0,9,  9.1620
    09AR9391_2,  P11A,    12,  1,     17,    217,2,19930406,1933,-43.2405, 152.7955, 4630,    498.2,   8.6640,  34.6320,2,  34.6330,2,   -999.0,5,   -999.0,9,     8.60,2,    21.40,2,     1.45,2,   -999.0,9,  8.6120
    09AR9391_2,  P11A,    12,  1,     16,    216,2,19930406,1933,-43.2405, 152.7955, 4630,    597.4,   7.8010,  34.5230,2,  34.5240,2,   -999.0,5,    206.1,2,    10.20,2,    23.40,2,     1.56,2,   -999.0,9,  7.7420
    09AR9391_2,  P11A,    12,  1,     15,    215,2,19930406,1933,-43.2405, 152.7955, 4630,    795.7,   6.2700,  34.4370,2,  34.4390,2,   -999.0,5,    192.1,2,    20.00,2,    28.20,2,     1.90,2,   -999.0,9,  6.1990
    09AR9391_2,  P11A,    12,  1,     14,    214,2,19930406,1933,-43.2405, 152.7955, 4630,    995.9,   4.5220,  34.3620,2,  34.3620,2,   -999.0,5,    197.5,2,    30.80,2,    31.50,2,     2.12,2,   -999.0,9,  4.4440
    09AR9391_2,  P11A,    12,  1,     13,    213,2,19930406,1933,-43.2405, 152.7955, 4630,   1196.0,   3.8840,  34.4490,2,  34.4480,2,   -999.0,5,    174.4,2,    51.60,2,    33.90,2,     2.33,2,   -999.0,9,  3.7940
    09AR9391_2,  P11A,    12,  1,     12,    212,2,19930406,1933,-43.2405, 152.7955, 4630,   1397.2,   3.2330,  34.5100,2,  34.5120,2,   -999.0,5,    163.4,2,    67.00,2,    35.60,2,  -999.00,5,   -999.0,9,  3.1320
    09AR9391_2,  P11A,    12,  1,     11,    211,2,19930406,1933,-43.2405, 152.7955, 4630,   1598.9,   2.8250,  34.5740,2,  34.5730,2,   -999.0,5,    158.1,2,    76.10,2,    35.70,2,     2.42,2,   -999.0,9,  2.7120
    09AR9391_2,  P11A,    12,  1,     10,    210,2,19930406,1933,-43.2405, 152.7955, 4630,   1795.8,   2.5460,  34.6270,2,  34.6260,2,   -999.0,5,    162.9,2,    78.50,2,    35.10,2,     2.39,2,   -999.0,9,  2.4190
    09AR9391_2,  P11A,    12,  1,      9,    209,2,19930406,1933,-43.2405, 152.7955, 4630,   1999.0,   2.3630,  34.6730,2,  34.6730,2,   -999.0,5,    169.1,2,    79.90,2,    34.20,2,     2.28,2,   -999.0,9,  2.2220
    09AR9391_2,  P11A,    12,  1,      8,    208,2,19930406,1933,-43.2405, 152.7955, 4630,   2198.3,   2.2260,  34.7070,2,  34.7070,2,   -999.0,5,    171.9,2,    81.90,2,    33.50,2,     2.29,2,   -999.0,9,  2.0690
    09AR9391_2,  P11A,    12,  1,      7,    207,2,19930406,1933,-43.2405, 152.7955, 4630,   2399.3,   2.0840,  34.7270,2,  34.7260,2,   -999.0,5,    180.0,2,    85.00,2,    33.10,2,     2.24,2,   -999.0,9,  1.9110
    09AR9391_2,  P11A,    12,  1,      6,    206,2,19930406,1933,-43.2405, 152.7955, 4630,   2702.8,   1.8520,  34.7410,2,  34.7410,2,   -999.0,5,    184.6,2,    91.30,2,    32.70,2,     2.21,2,   -999.0,9,  1.6560
    09AR9391_2,  P11A,    12,  1,      5,    205,2,19930406,1933,-43.2405, 152.7955, 4630,   3102.2,   1.5320,  34.7340,2,  34.7360,2,   -999.0,5,    188.4,2,   100.80,2,    33.20,2,     2.24,2,   -999.0,9,  1.3050
    09AR9391_2,  P11A,    12,  1,      4,    204,2,19930406,1933,-43.2405, 152.7955, 4630,   3501.0,   1.2630,  34.7260,2,  34.7270,2,   -999.0,5,    192.9,2,   107.00,2,    33.50,2,     2.26,2,   -999.0,9,  1.0030
    09AR9391_2,  P11A,    12,  1,      3,    203,2,19930406,1933,-43.2405, 152.7955, 4630,   3901.6,   1.0980,  34.7180,2,  34.7200,2,   -999.0,5,    195.6,2,   111.70,2,    34.00,2,     2.29,2,   -999.0,9,  0.8010
    09AR9391_2,  P11A,    12,  1,      2,    202,2,19930406,1933,-43.2405, 152.7955, 4630,   4302.8,   1.0000,  34.7130,2,  34.7150,2,   -999.0,5,   -999.0,9,   114.50,5,    34.20,5,     2.29,5,   -999.0,9,  0.6630
    09AR9391_2,  P11A,    12,  1,      1,    201,2,19930406,1933,-43.2405, 152.7955, 4630,   4701.3,   0.9790,  34.7110,2,  34.7080,2,   -999.0,5,   -999.0,9,  -999.00,9,  -999.00,9,  -999.00,9,   -999.0,9,  0.5970
    09AR9391_2,  P11A,    13,  1,     24,    224,2,19930407,0238,-43.2562, 153.4958, 4650,      7.7,  16.6060,  35.3920,2,  35.3920,2,   -999.0,5,    234.0,2,     0.20,2,     0.20,2,     0.24,2,   2036.6,2, 16.6090
    09AR9391_2,  P11A,    13,  1,     23,    223,2,19930407,0238,-43.2562, 153.4958, 4650,     18.0,  16.5980,  35.3900,3,  35.3880,2,   -999.0,5,    234.0,2,     0.50,2,     1.20,2,     0.23,2,   2038.0,2, 16.5990
    09AR9391_2,  P11A,    13,  1,     22,    222,2,19930407,0238,-43.2562, 153.4958, 4650,     49.0,  16.6090,  35.4000,2,  35.4000,2,   -999.0,5,    232.8,2,     0.20,2,     1.20,2,     0.24,2,   2036.0,2, 16.6050
    09AR9391_2,  P11A,    13,  1,     21,    221,2,19930407,0238,-43.2562, 153.4958, 4650,     99.1,  13.8730,  35.2620,4,  35.2680,2,   -999.0,5,    204.3,2,     2.10,2,     9.40,2,     0.63,2,   2091.4,2, 13.8620
    09AR9391_2,  P11A,    13,  1,     20,    220,2,19930407,0238,-43.2562, 153.4958, 4650,    201.2,  11.5920,  35.0470,2,  35.0500,2,   -999.0,5,    207.1,2,     3.80,2,    13.20,2,     0.89,2,   2113.0,2, 11.5690
    09AR9391_2,  P11A,    13,  1,     19,    319,2,19930407,0238,-43.2562, 153.4958, 4650,    299.3,  10.2650,  34.8480,4,  34.8600,2,   -999.0,5,    200.5,2,     3.90,2,    14.00,2,     1.00,2,   2113.8,2, 10.2320
    09AR9391_2,  P11A,    13,  1,     18,    218,2,19930407,0238,-43.2562, 153.4958, 4650,    499.4,   8.5060,  34.6000,3,  34.6050,2,   -999.0,5,    213.5,2,     7.50,2,    19.90,2,     1.38,2,   2135.9,2,  8.4550
    09AR9391_2,  P11A,    13,  1,     17,    217,2,19930407,0238,-43.2562, 153.4958, 4650,    696.5,   7.2450,  34.5140,3,  34.5160,2,   -999.0,5,    188.4,2,    16.20,2,    25.10,2,     1.71,2,   2162.8,2,  7.1780
    09AR9391_2,  P11A,    13,  1,     16,    216,2,19930407,0238,-43.2562, 153.4958, 4650,    896.2,   5.8040,  34.4650,2,  34.4660,2,   -999.0,5,    177.7,2,    30.60,2,    28.90,2,     2.00,2,   2188.2,2,  5.7260
    09AR9391_2,  P11A,    13,  1,     15,    215,2,19930407,0238,-43.2562, 153.4958, 4650,   1096.7,   4.6540,  34.4700,2,  34.4710,2,   -999.0,5,    170.4,2,    47.50,2,    31.50,2,     2.20,2,   2217.1,2,  4.5660
    09AR9391_2,  P11A,    13,  1,     14,    214,2,19930407,0238,-43.2562, 153.4958, 4650,   1297.2,   3.7300,  34.5060,2,  34.5090,2,   -999.0,5,    160.0,2,    67.10,2,    34.40,2,     2.43,2,   2243.7,2,  3.6330
    09AR9391_2,  P11A,    13,  1,     13,    213,2,19930407,0238,-43.2562, 153.4958, 4650,   1496.1,   3.1780,  34.5640,2,  34.5630,2,   -999.0,5,    152.8,2,    79.40,2,    34.40,2,     2.46,2,   2264.5,2,  3.0690
    09AR9391_2,  P11A,    13,  1,     12,    212,2,19930407,0238,-43.2562, 153.4958, 4650,   1697.7,   2.7210,  34.6000,2,  34.5970,2,   -999.0,5,    157.6,2,    78.80,2,    34.10,2,  -999.00,5,   2265.1,2,  2.6010
    09AR9391_2,  P11A,    13,  1,     11,    211,2,19930407,0238,-43.2562, 153.4958, 4650,   1901.8,   2.4940,  34.6460,2,  34.6450,2,   -999.0,5,    160.5,2,    84.20,2,    34.00,2,     2.40,2,   2267.9,2,  2.3590
    09AR9391_2,  P11A,    13,  1,     10,    210,2,19930407,0238,-43.2562, 153.4958, 4650,   2098.5,   2.2990,  34.6850,2,  34.6850,2,   -999.0,5,    169.2,2,    83.20,2,    33.10,2,     2.32,2,   2261.0,2,  2.1500
    09AR9391_2,  P11A,    13,  1,      9,    209,2,19930407,0238,-43.2562, 153.4958, 4650,   2298.0,   2.1450,  34.7120,2,  34.7110,2,   -999.0,5,    174.0,2,    85.50,2,    32.30,2,     2.25,2,   2259.5,2,  1.9810
    09AR9391_2,  P11A,    13,  1,      8,    208,2,19930407,0238,-43.2562, 153.4958, 4650,   2501.3,   1.9950,  34.7280,2,  34.7260,2,   -999.0,5,    178.7,2,    90.00,2,    31.90,2,     2.23,2,   2260.0,2,  1.8150
    09AR9391_2,  P11A,    13,  1,      7,    207,2,19930407,0238,-43.2562, 153.4958, 4650,   2799.4,   1.7940,  34.7350,2,  34.7270,4,   -999.0,5,   -999.0,5,    90.10,3,    31.80,2,     2.24,2,   2261.2,2,  1.5900
    09AR9391_2,  P11A,    13,  1,      6,    206,2,19930407,0238,-43.2562, 153.4958, 4650,   3102.8,   1.5560,  34.7340,2,  34.7360,2,   -999.0,5,    187.6,2,   103.30,2,    32.10,2,     2.25,2,   2263.8,2,  1.3280
    09AR9391_2,  P11A,    13,  1,      5,    205,2,19930407,0238,-43.2562, 153.4958, 4650,   3404.2,   1.3810,  34.7290,2,  34.7300,2,   -999.0,5,    190.4,2,   107.70,2,    32.30,2,     2.26,2,   2264.9,2,  1.1280
    09AR9391_2,  P11A,    13,  1,      4,    204,2,19930407,0238,-43.2562, 153.4958, 4650,   3702.9,   1.2690,  34.7250,2,  34.7310,2,   -999.0,5,    190.9,2,   105.60,3,    32.00,3,     2.24,3,   2265.5,2,  0.9880
    09AR9391_2,  P11A,    13,  1,      3,    203,2,19930407,0238,-43.2562, 153.4958, 4650,   4003.2,   1.1630,  34.7200,2,  34.7210,2,   -999.0,5,    193.1,2,   113.30,2,    32.40,2,     2.29,2,   2271.0,2,  0.8530
    09AR9391_2,  P11A,    13,  1,      2,    202,2,19930407,0238,-43.2562, 153.4958, 4650,   4300.7,   1.0970,  34.7160,2,  34.7170,2,   -999.0,5,    195.2,2,   115.50,2,    32.60,2,     2.29,2,   2269.6,2,  0.7570
    09AR9391_2,  P11A,    13,  1,      1,    201,2,19930407,0238,-43.2562, 153.4958, 4650,   4728.9,   1.0030,  34.7130,2,-999.0000,9,   -999.0,5,   -999.0,9,  -999.00,9,  -999.00,9,  -999.00,9,   -999.0,9,  0.6170
    09AR9391_2,  P11A,    14,  1,     24,    224,2,19930407,0953,-43.2427, 154.2565, 4650,      8.7,  15.6890,  35.1460,2,  35.1500,2,   -999.0,5,    239.0,2,     0.40,2,     0.90,2,     0.43,2,   -999.0,9, 15.6910
    09AR9391_2,  P11A,    14,  1,     23,    223,2,19930407,0953,-43.2427, 154.2565, 4650,     17.5,  15.6840,  35.1440,2,  35.1450,2,   -999.0,5,    239.2,2,     0.40,2,     0.90,2,     0.40,2,   -999.0,9, 15.6850
    09AR9391_2,  P11A,    14,  1,     22,    222,2,19930407,0953,-43.2427, 154.2565, 4650,     48.5,  15.6930,  35.1460,2,  35.1460,2,   -999.0,5,    238.5,2,     0.40,2,     0.90,2,     0.40,2,   -999.0,9, 15.6890
    09AR9391_2,  P11A,    14,  1,     21,    221,2,19930407,0953,-43.2427, 154.2565, 4650,     98.9,  12.5730,  35.1710,4,  35.1720,2,   -999.0,5,    220.7,2,     2.50,2,     9.70,2,     0.82,2,   -999.0,9, 12.5630
    09AR9391_2,  P11A,    14,  1,     20,    220,2,19930407,0953,-43.2427, 154.2565, 4650,    198.6,  11.0720,  34.9840,3,  34.9900,2,   -999.0,5,    223.8,2,     3.80,2,    12.40,2,     1.01,2,   -999.0,9, 11.0500
    09AR9391_2,  P11A,    14,  1,     19,    319,2,19930407,0953,-43.2427, 154.2565, 4650,    299.1,   9.9280,  34.7990,3,  34.8050,2,   -999.0,5,    223.0,2,     4.70,2,    15.10,2,     1.19,2,   -999.0,9,  9.8960
    09AR9391_2,  P11A,    14,  1,     18,    218,2,19930407,0953,-43.2427, 154.2565, 4650,    496.4,   8.5870,  34.6160,2,  34.6120,2,   -999.0,5,    213.8,2,     8.00,2,    19.70,2,     1.51,2,   -999.0,9,  8.5360
    09AR9391_2,  P11A,    14,  1,     17,    217,2,19930407,0953,-43.2427, 154.2565, 4650,    698.2,   7.2160,  34.5030,2,  34.5050,2,   -999.0,5,    194.4,2,    15.80,2,    25.00,2,     1.83,2,   -999.0,9,  7.1490
    09AR9391_2,  P11A,    14,  1,     16,    216,2,19930407,0953,-43.2427, 154.2565, 4650,    896.9,   5.7210,  34.4470,2,  34.4480,2,   -999.0,5,    183.6,2,    29.90,2,    29.00,2,     2.14,2,   -999.0,9,  5.6430
    09AR9391_2,  P11A,    14,  1,     15,    215,2,19930407,0953,-43.2427, 154.2565, 4650,   1097.9,   4.3550,  34.4260,2,  34.4290,2,   -999.0,5,    181.0,2,    45.00,2,    31.70,2,     2.35,2,   -999.0,9,  4.2690
    09AR9391_2,  P11A,    14,  1,     14,    214,2,19930407,0953,-43.2427, 154.2565, 4650,   1298.1,   3.4490,  34.4820,2,  34.4800,2,   -999.0,5,    168.8,2,    63.10,2,    33.70,2,     2.51,2,   -999.0,9,  3.3540
    09AR9391_2,  P11A,    14,  1,     13,    213,2,19930407,0953,-43.2427, 154.2565, 4650,   1497.6,   2.9980,  34.5540,2,  34.5520,2,   -999.0,5,    159.5,2,    77.30,2,    34.30,2,     2.57,2,   -999.0,9,  2.8910
    09AR9391_2,  P11A,    14,  1,     12,    212,2,19930407,0953,-43.2427, 154.2565, 4650,   1697.0,   2.6850,  34.6170,2,  34.6140,2,   -999.0,5,    154.9,2,    84.60,2,    33.80,2,  -999.00,5,   -999.0,9,  2.5650
    09AR9391_2,  P11A,    14,  1,     11,    211,2,19930407,0953,-43.2427, 154.2565, 4650,   1901.0,   2.4300,  34.6630,2,  34.6610,2,   -999.0,5,    162.8,2,    82.90,2,    33.40,2,     2.49,2,   -999.0,9,  2.2960
    09AR9391_2,  P11A,    14,  1,     10,    210,2,19930407,0953,-43.2427, 154.2565, 4650,   2098.4,   2.2600,  34.6970,2,  34.6950,2,   -999.0,5,    169.7,2,    83.50,2,    32.40,2,     2.39,2,   -999.0,9,  2.1110
    09AR9391_2,  P11A,    14,  1,      9,    209,2,19930407,0953,-43.2427, 154.2565, 4650,   2298.3,   2.1140,  34.7180,2,  34.7180,2,   -999.0,5,    174.5,2,    86.30,2,    31.90,2,     2.37,2,   -999.0,9,  1.9500
    09AR9391_2,  P11A,    14,  1,      8,    208,2,19930407,0953,-43.2427, 154.2565, 4650,   2497.9,   1.9910,  34.7320,2,  34.7320,2,   -999.0,5,    178.5,2,    88.10,2,    31.70,2,     2.34,2,   -999.0,9,  1.8110
    09AR9391_2,  P11A,    14,  1,      7,    207,2,19930407,0953,-43.2427, 154.2565, 4650,   2800.2,   1.7950,  34.7400,2,  34.7400,2,   -999.0,5,    183.8,2,    94.00,2,    31.30,2,     2.32,2,   -999.0,9,  1.5910
    09AR9391_2,  P11A,    14,  1,      6,    206,2,19930407,0953,-43.2427, 154.2565, 4650,   3102.7,   1.5920,  34.7390,2,  34.7370,2,   -999.0,5,    186.6,2,    98.10,2,    31.70,2,     2.33,2,   -999.0,9,  1.3630
    09AR9391_2,  P11A,    14,  1,      5,    205,2,19930407,0953,-43.2427, 154.2565, 4650,   3402.1,   1.3950,  34.7340,2,  34.7350,2,   -999.0,5,    189.2,2,   106.10,2,    31.90,2,     2.35,2,   -999.0,9,  1.1410
    09AR9391_2,  P11A,    14,  1,      4,    204,2,19930407,0953,-43.2427, 154.2565, 4650,   3700.4,   1.2130,  34.7280,2,  34.7300,2,   -999.0,5,    192.1,2,   111.90,2,    32.30,2,     2.37,2,   -999.0,9,  0.9340
    09AR9391_2,  P11A,    14,  1,      3,    203,2,19930407,0953,-43.2427, 154.2565, 4650,   4003.2,   1.1260,  34.7230,2,  34.7240,2,   -999.0,5,    192.3,2,   115.30,2,    32.20,2,     2.38,2,   -999.0,9,  0.8170
    09AR9391_2,  P11A,    14,  1,      2,    202,2,19930407,0953,-43.2427, 154.2565, 4650,   4302.5,   1.0930,  34.7220,2,  34.7210,2,   -999.0,5,   -999.0,9,   115.20,2,    32.30,2,     2.38,2,   -999.0,9,  0.7530
    09AR9391_2,  P11A,    14,  1,      1,    201,2,19930407,0953,-43.2427, 154.2565, 4650,   4720.0,   1.0620,  34.7190,2,-999.0000,9,   -999.0,5,   -999.0,5,  -999.00,9,  -999.00,9,  -999.00,9,   -999.0,9,  0.6750