BOTTLE,20190618WHPSIOAMB
EXPOCODE,SECT_ID,STNNBR,CASTNO,SAMPNO,BTLNBR,BTLNBR_FLAG_W,DATE,TIME,LATITUDE,LONGITUDE,DEPTH,CTDPRS,CTDTMP,CTDSAL,CTDSAL_FLAG_W,SALNTY,SALNTY_FLAG_W,CTDOXY,CTDOXY_FLAG_W,OXYGEN,OXYGEN_FLAG_W,SILCAT,SILCAT_FLAG_W,NO2+NO3,NO2+NO3_FLAG_W,PHSPHT,PHSPHT_FLAG_W,TCARBN,TCARBN_FLAG_W,THETA
,,,,,,,,,,,,DBAR,ITS-90,PSS-78,,PSS-78,,UMOL/KG,,UMOL/KG,,UMOL/KG,,UMOL/KG,,UMOL/KG,,UMOL/KG,,ITS-90
    09AR9391_2,  P11A,    22,  1,     24,    224,2,19930411,0618,-46.7530, 155.0147, 4600,      9.0,  12.8840,  34.6710,2,  34.7090,4,   -999.0,5,   -999.0,5,  -999.00,5,  -999.00,5,  -999.00,5,   -999.0,9, 12.8860
    09AR9391_2,  P11A,    22,  1,     23,    223,2,19930411,0618,-46.7530, 155.0147, 4600,     18.2,  12.8870,  34.6730,2,  34.6650,2,   -999.0,5,    256.2,2,     0.80,2,     5.10,2,     0.68,2,   2054.8,2, 12.8880
    09AR9391_2,  P11A,    22,  1,     22,    222,2,19930411,0618,-46.7530, 155.0147, 4600,     48.6,  12.5550,  34.6230,2,  34.6220,2,   -999.0,5,    240.7,2,     0.70,2,     5.70,2,     0.64,2,   2056.0,2, 12.5520
    09AR9391_2,  P11A,    22,  1,     21,    221,2,19930411,0618,-46.7530, 155.0147, 4600,     98.9,  10.5250,  34.7980,4,  34.8220,2,   -999.0,5,    249.8,2,     3.00,2,    12.00,2,     0.96,2,   2103.9,2, 10.5160
    09AR9391_2,  P11A,    22,  1,     20,    220,2,19930411,0618,-46.7530, 155.0147, 4600,    197.3,   9.3830,  34.6900,2,  34.6890,2,   -999.0,5,    250.1,2,     3.80,2,    14.00,2,     1.11,2,   2108.4,2,  9.3630
    09AR9391_2,  P11A,    22,  1,     19,    203,2,19930411,0618,-46.7530, 155.0147, 4600,    397.9,   8.8040,  34.6000,2,  34.6010,2,   -999.0,5,    249.6,2,     4.40,2,    15.60,2,     1.23,2,   2113.5,2,  8.7630
    09AR9391_2,  P11A,    22,  1,     18,    201,2,19930411,0618,-46.7530, 155.0147, 4600,    495.8,   8.4750,  34.5570,2,  34.5590,2,   -999.0,5,    245.7,2,     5.20,2,    17.30,2,     1.32,2,   2118.1,2,  8.4240
    09AR9391_2,  P11A,    22,  1,     17,    217,2,19930411,0618,-46.7530, 155.0147, 4600,    598.1,   8.0320,  34.5210,2,  34.5200,2,   -999.0,5,    222.6,2,     8.40,2,    20.40,2,     1.53,2,   2135.9,2,  7.9720
    09AR9391_2,  P11A,    22,  1,     16,    216,2,19930411,0618,-46.7530, 155.0147, 4600,    798.6,   6.6520,  34.4450,3,  34.4450,2,   -999.0,5,    196.4,2,    17.60,2,    25.60,2,     1.88,2,   2165.6,2,  6.5780
    09AR9391_2,  P11A,    22,  1,     15,    215,2,19930411,0618,-46.7530, 155.0147, 4600,    995.3,   5.2070,  34.3920,2,  34.3940,2,   -999.0,5,    192.0,2,    28.40,2,    28.80,2,     2.11,2,   2188.2,2,  5.1240
    09AR9391_2,  P11A,    22,  1,     14,    214,2,19930411,0618,-46.7530, 155.0147, 4600,   1198.1,   3.9040,  34.3890,2,  34.3890,2,   -999.0,5,    187.9,2,    42.50,2,    31.70,2,     2.31,2,   2211.9,2,  3.8140
    09AR9391_2,  P11A,    22,  1,     13,    213,2,19930411,0618,-46.7530, 155.0147, 4600,   1396.0,   3.1670,  34.4490,2,  34.4360,2,   -999.0,5,   -999.0,5,  -999.00,5,  -999.00,5,  -999.00,5,   -999.0,9,  3.0670
    09AR9391_2,  P11A,    22,  1,     12,    212,2,19930411,0618,-46.7530, 155.0147, 4600,   1596.8,   2.7790,  34.5410,2,  34.5400,2,   -999.0,5,    167.6,2,    68.60,2,    34.00,2,  -999.00,5,   2251.5,2,  2.6660
    09AR9391_2,  P11A,    22,  1,     11,    211,2,19930411,0618,-46.7530, 155.0147, 4600,   1599.8,   2.7770,  34.5400,2,  34.5400,2,   -999.0,5,    167.3,2,    68.10,2,    33.50,2,     2.41,2,   2252.7,2,  2.6640
    09AR9391_2,  P11A,    22,  1,     10,    210,2,19930411,0618,-46.7530, 155.0147, 4600,   1998.3,   2.4040,  34.6570,2,  34.6550,2,   -999.0,5,    169.6,2,    76.90,2,    32.20,2,     2.36,2,   2257.0,2,  2.2620
    09AR9391_2,  P11A,    22,  1,      9,    209,2,19930411,0618,-46.7530, 155.0147, 4600,   2000.8,   2.4050,  34.6570,2,  34.6550,2,   -999.0,5,    170.1,2,    76.90,2,    32.30,2,     2.36,2,   2255.6,2,  2.2630
    09AR9391_2,  P11A,    22,  1,      8,    208,2,19930411,0618,-46.7530, 155.0147, 4600,   2184.4,   2.2990,  34.6970,2,  34.6980,2,   -999.0,5,    176.2,2,    77.30,2,    31.40,2,     2.29,2,   2252.5,2,  2.1420
    09AR9391_2,  P11A,    22,  1,      7,    207,2,19930411,0618,-46.7530, 155.0147, 4600,   2400.8,   2.1520,  34.7310,2,  34.7300,2,   -999.0,5,    183.1,2,    80.20,2,    30.50,2,     2.24,2,   -999.0,9,  1.9780
    09AR9391_2,  P11A,    22,  1,      6,    206,2,19930411,0618,-46.7530, 155.0147, 4600,   2703.8,   1.8970,  34.7380,2,  34.7360,2,   -999.0,5,    188.6,2,    95.30,2,    30.60,2,     2.27,2,   2260.3,2,  1.7000
    09AR9391_2,  P11A,    22,  1,      5,    205,2,19930411,0618,-46.7530, 155.0147, 4600,   3005.2,   1.6660,  34.7360,2,  34.7360,2,   -999.0,5,    191.9,2,    96.20,2,    30.90,2,     2.28,2,   2259.5,2,  1.4450
    09AR9391_2,  P11A,    22,  1,      4,    204,2,19930411,0618,-46.7530, 155.0147, 4600,   3302.5,   1.4500,  34.7290,2,  34.7310,2,   -999.0,5,    193.4,2,   101.40,2,    31.10,2,     2.28,2,   2262.1,2,  1.2050
    09AR9391_2,  P11A,    22,  1,      3,    319,2,19930411,0618,-46.7530, 155.0147, 4600,   4001.2,   1.0490,  34.7130,2,  34.7130,2,   -999.0,5,    199.5,2,   110.50,2,    31.40,2,     2.32,2,   2261.8,2,  0.7430
    09AR9391_2,  P11A,    22,  1,      2,    202,2,19930411,0618,-46.7530, 155.0147, 4600,   4404.3,   0.9580,  34.7080,2,  34.7080,2,   -999.0,5,    203.1,2,   113.80,2,    31.80,2,     2.32,2,   2262.1,2,  0.6110
    09AR9391_2,  P11A,    22,  1,      1,    218,2,19930411,0618,-46.7530, 155.0147, 4600,   4677.0,   0.9440,  34.7060,2,  34.7060,2,   -999.0,5,    202.7,2,   114.70,2,    31.80,2,     2.33,2,   2263.2,2,  0.5660
    09AR9391_2,  P11A,    23,  1,     24,    224,2,19930411,1254,-47.2507, 154.9917, 4675,      8.4,  12.8160,  34.6690,2,  34.6690,2,   -999.0,5,    255.8,2,     0.90,2,     5.80,2,  -999.00,5,   -999.0,9, 12.8180
    09AR9391_2,  P11A,    23,  1,     23,    223,2,19930411,1254,-47.2507, 154.9917, 4675,     22.9,  12.6810,  34.6600,2,  34.6600,2,   -999.0,5,    255.9,2,     0.80,2,     5.90,2,     0.58,2,   -999.0,9, 12.6810
    09AR9391_2,  P11A,    23,  1,     22,    222,2,19930411,1254,-47.2507, 154.9917, 4675,     49.7,  12.6520,  34.6520,2,  34.6530,2,   -999.0,5,    257.0,2,     0.70,2,     6.00,2,     0.59,2,   -999.0,9, 12.6480
    09AR9391_2,  P11A,    23,  1,     21,    221,2,19930411,1254,-47.2507, 154.9917, 4675,     99.3,  11.4950,  34.7990,4,  34.7860,2,   -999.0,5,    242.5,2,     2.20,2,    11.10,2,     0.83,2,   -999.0,9, 11.4850
    09AR9391_2,  P11A,    23,  1,     20,    220,2,19930411,1254,-47.2507, 154.9917, 4675,    197.1,   9.2510,  34.6680,3,  34.6690,2,   -999.0,5,    252.4,2,     4.30,2,    14.30,2,     1.06,2,   -999.0,9,  9.2320
    09AR9391_2,  P11A,    23,  1,     19,    203,2,19930411,1254,-47.2507, 154.9917, 4675,    299.6,   8.8890,  34.6150,2,  34.6150,2,   -999.0,5,    250.6,2,     4.30,2,    15.80,2,     1.16,2,   -999.0,9,  8.8590
    09AR9391_2,  P11A,    23,  1,     18,    201,2,19930411,1254,-47.2507, 154.9917, 4675,    400.2,   8.5460,  34.5640,2,  34.5670,2,   -999.0,5,    247.0,2,     4.80,2,    17.20,2,     1.24,2,   -999.0,9,  8.5060
    09AR9391_2,  P11A,    23,  1,     17,    217,2,19930411,1254,-47.2507, 154.9917, 4675,    496.3,   8.3470,  34.5470,2,  34.5490,2,   -999.0,5,    237.2,2,     6.30,2,    19.10,2,     1.37,2,   -999.0,9,  8.2970
    09AR9391_2,  P11A,    23,  1,     16,    216,2,19930411,1254,-47.2507, 154.9917, 4675,    647.8,   7.5690,  34.4900,2,  34.4890,2,   -999.0,5,    211.5,2,    11.40,2,    23.20,2,     1.65,2,   -999.0,9,  7.5060
    09AR9391_2,  P11A,    23,  1,     15,    215,2,19930411,1254,-47.2507, 154.9917, 4675,    797.9,   6.4380,  34.4310,3,  34.4360,2,   -999.0,5,    197.9,2,    18.50,2,    26.80,2,     1.89,2,   -999.0,9,  6.3660
    09AR9391_2,  P11A,    23,  1,     14,    214,2,19930411,1254,-47.2507, 154.9917, 4675,   1057.5,   4.4080,  34.3740,2,  34.3710,2,   -999.0,5,    196.1,2,    34.80,2,    31.20,2,     2.20,2,   -999.0,9,  4.3250
    09AR9391_2,  P11A,    23,  1,     13,    213,2,19930411,1254,-47.2507, 154.9917, 4675,   1198.1,   3.8450,  34.3950,2,-999.0000,9,   -999.0,5,   -999.0,9,  -999.00,9,  -999.00,9,  -999.00,9,   -999.0,9,  3.7550
    09AR9391_2,  P11A,    23,  1,     12,    212,2,19930411,1254,-47.2507, 154.9917, 4675,   1396.8,   3.1250,  34.4710,2,  34.4710,2,   -999.0,5,    174.0,2,    59.40,2,    33.90,2,  -999.00,5,   -999.0,9,  3.0250
    09AR9391_2,  P11A,    23,  1,     11,    211,2,19930411,1254,-47.2507, 154.9917, 4675,   1397.6,   3.1240,  34.4700,2,  34.4700,2,   -999.0,5,    174.0,2,    59.70,2,    34.30,2,     2.39,2,   -999.0,9,  3.0240
    09AR9391_2,  P11A,    23,  1,     10,    210,2,19930411,1254,-47.2507, 154.9917, 4675,   1599.0,   2.7520,  34.5500,2,  34.5470,2,   -999.0,5,    166.8,2,    69.70,2,    34.50,2,     2.43,2,   -999.0,9,  2.6400
    09AR9391_2,  P11A,    23,  1,      8,    208,2,19930411,1254,-47.2507, 154.9917, 4675,   2097.4,   2.3470,  34.6790,2,  34.6770,2,   -999.0,5,    173.7,2,    78.10,2,    32.90,2,     2.33,2,   -999.0,9,  2.1970
    09AR9391_2,  P11A,    23,  1,      9,    209,2,19930411,1254,-47.2507, 154.9917, 4675,   2099.6,   2.3490,  34.6790,2,  34.6780,2,   -999.0,5,    172.9,2,    78.20,2,    32.70,2,     2.33,2,   -999.0,9,  2.1990
    09AR9391_2,  P11A,    23,  1,      7,    207,2,19930411,1254,-47.2507, 154.9917, 4675,   2398.9,   2.1450,  34.7280,2,  34.7260,2,   -999.0,5,    181.5,2,    82.60,2,    31.90,2,     2.26,2,   -999.0,9,  1.9710
    09AR9391_2,  P11A,    23,  1,      6,    206,2,19930411,1254,-47.2507, 154.9917, 4675,   2701.0,   1.9040,  34.7380,2,  34.7350,2,   -999.0,5,    189.8,2,    98.00,2,    31.90,2,     2.26,2,   -999.0,9,  1.7070
    09AR9391_2,  P11A,    23,  1,      5,    205,2,19930411,1254,-47.2507, 154.9917, 4675,   3002.3,   1.6400,  34.7350,2,  34.7360,2,   -999.0,5,    190.9,2,    97.80,2,    31.60,2,     2.27,2,   -999.0,9,  1.4200
    09AR9391_2,  P11A,    23,  1,      4,    204,2,19930411,1254,-47.2507, 154.9917, 4675,   3302.9,   1.4110,  34.7280,2,  34.7290,2,   -999.0,5,    193.7,2,   103.40,2,    32.30,2,     2.28,2,   -999.0,9,  1.1670
    09AR9391_2,  P11A,    23,  1,      3,    319,2,19930411,1254,-47.2507, 154.9917, 4675,   4002.6,   1.0410,  34.7120,2,  34.7120,2,   -999.0,5,    198.6,2,   111.90,2,    32.70,2,     2.32,2,   -999.0,9,  0.7350
    09AR9391_2,  P11A,    23,  1,      2,    202,2,19930411,1254,-47.2507, 154.9917, 4675,   4407.0,   0.9630,  34.7080,2,  34.7070,2,   -999.0,5,    202.9,2,   115.40,2,    32.80,2,     2.32,2,   -999.0,9,  0.6150
    09AR9391_2,  P11A,    23,  1,      1,    218,2,19930411,1254,-47.2507, 154.9917, 4675,   4755.7,   0.9480,  34.7070,2,  34.7070,2,   -999.0,5,    201.9,2,   113.60,2,    32.70,2,     2.32,2,   -999.0,9,  0.5610
    09AR9391_2,  P11A,    24,  1,     24,    224,2,19930411,1925,-47.7508, 155.0057, 4860,      8.3,  12.3600,  34.6160,2,  34.6110,2,   -999.0,5,    260.5,2,  -999.00,9,     6.30,2,  -999.00,5,   2062.0,2, 12.3620
    09AR9391_2,  P11A,    24,  1,     23,    223,2,19930411,1925,-47.7508, 155.0057, 4860,     23.2,  12.3580,  34.6160,2,  34.6130,2,   -999.0,5,    260.5,2,     1.70,2,     6.40,2,     0.63,2,   2059.8,2, 12.3580
    09AR9391_2,  P11A,    24,  1,     22,    222,2,19930411,1925,-47.7508, 155.0057, 4860,     49.9,  12.3320,  34.6140,2,  34.6130,2,   -999.0,5,    259.0,2,     0.90,2,     6.40,2,     0.64,2,   2061.5,2, 12.3280
    09AR9391_2,  P11A,    24,  1,     21,    221,2,19930411,1925,-47.7508, 155.0057, 4860,     98.6,  10.4790,  34.7810,3,  34.8140,2,   -999.0,5,    241.6,2,     3.10,2,    12.40,2,     0.98,2,   2105.8,2, 10.4700
    09AR9391_2,  P11A,    24,  1,     20,    220,2,19930411,1925,-47.7508, 155.0057, 4860,    198.8,   9.4770,  34.7090,2,  34.7070,2,   -999.0,5,    252.0,2,     3.70,2,    14.20,2,     1.09,2,   2109.4,2,  9.4570
    09AR9391_2,  P11A,    24,  1,     19,    203,2,19930411,1925,-47.7508, 155.0057, 4860,    299.6,   9.0380,  34.6370,2,  34.6360,2,   -999.0,5,    254.0,2,     3.70,2,    15.00,2,     1.16,2,   2110.4,2,  9.0070
    09AR9391_2,  P11A,    24,  1,     18,    201,2,19930411,1925,-47.7508, 155.0057, 4860,    448.0,   8.5620,  34.5610,2,  34.5610,2,   -999.0,5,    252.5,2,     4.20,2,    16.40,2,     1.26,2,   2114.9,2,  8.5160
    09AR9391_2,  P11A,    24,  1,     17,    217,2,19930411,1925,-47.7508, 155.0057, 4860,    597.2,   8.0110,  34.5170,2,  34.5160,2,   -999.0,5,    224.4,2,     8.20,2,    20.50,2,     1.53,2,   2122.7,2,  7.9510
    09AR9391_2,  P11A,    24,  1,     16,    216,2,19930411,1925,-47.7508, 155.0057, 4860,    797.4,   6.5600,  34.4350,2,  34.4320,2,   -999.0,5,    199.9,2,    17.70,2,    26.00,2,     1.88,2,   2166.3,2,  6.4870
    09AR9391_2,  P11A,    24,  1,     15,    215,2,19930411,1925,-47.7508, 155.0057, 4860,    997.3,   5.1520,  34.3910,2,  34.3910,2,   -999.0,5,    192.8,2,    29.80,2,    29.40,2,     2.10,2,   2190.6,2,  5.0690
    09AR9391_2,  P11A,    24,  1,     13,    213,2,19930411,1925,-47.7508, 155.0057, 4860,   1198.3,   4.0450,  34.4090,3,  34.4050,2,   -999.0,5,    187.6,2,    44.50,2,    31.80,2,     2.29,2,   -999.0,9,  3.9530
    09AR9391_2,  P11A,    24,  1,     14,    214,2,19930411,1925,-47.7508, 155.0057, 4860,   1198.6,   4.0730,  34.4060,2,  34.4050,2,   -999.0,5,    184.2,2,    44.70,2,    31.40,2,     2.29,2,   2216.9,2,  3.9810
    09AR9391_2,  P11A,    24,  1,     12,    212,2,19930411,1925,-47.7508, 155.0057, 4860,   1397.0,   3.2660,  34.4620,2,  34.4620,2,   -999.0,5,    174.1,2,    59.10,2,    33.30,2,  -999.00,5,   2237.8,2,  3.1650
    09AR9391_2,  P11A,    24,  1,     11,    211,2,19930411,1925,-47.7508, 155.0057, 4860,   1597.5,   2.7970,  34.5400,2,  34.5380,2,   -999.0,5,    167.1,2,    69.40,2,    33.50,2,     2.34,2,   2252.8,2,  2.6840
    09AR9391_2,  P11A,    24,  1,     10,    210,2,19930411,1925,-47.7508, 155.0057, 4860,   1797.7,   2.5690,  34.6020,2,  34.6000,2,   -999.0,5,    167.1,2,    74.90,2,    32.60,2,     2.38,2,   2258.9,2,  2.4420
    09AR9391_2,  P11A,    24,  1,      9,    209,2,19930411,1925,-47.7508, 155.0057, 4860,   1998.0,   2.4090,  34.6580,2,  34.6560,2,   -999.0,5,    171.5,2,    77.70,2,    32.00,2,     2.33,2,   2256.8,2,  2.2670
    09AR9391_2,  P11A,    24,  1,      8,    208,2,19930411,1925,-47.7508, 155.0057, 4860,   2148.9,   2.3050,  34.6920,2,  34.6890,2,   -999.0,5,    175.8,2,    80.00,2,    31.20,2,     2.30,2,   2257.2,2,  2.1510
    09AR9391_2,  P11A,    24,  1,      7,    207,2,19930411,1925,-47.7508, 155.0057, 4860,   2602.0,   1.9730,  34.7340,2,  34.7330,2,   -999.0,5,    184.6,2,    88.80,2,    31.60,2,     2.25,2,   2256.2,3,  1.7840
    09AR9391_2,  P11A,    24,  1,      6,    206,2,19930411,1925,-47.7508, 155.0057, 4860,   2602.3,   1.9720,  34.7340,2,  34.7330,2,   -999.0,5,    188.5,2,    99.70,2,    31.20,2,     2.28,2,   2262.1,2,  1.7830
    09AR9391_2,  P11A,    24,  1,      5,    205,2,19930411,1925,-47.7508, 155.0057, 4860,   3002.5,   1.6470,  34.7340,2,  34.7330,2,   -999.0,5,    190.0,2,    99.00,2,    31.60,2,     2.26,2,   2260.8,2,  1.4270
    09AR9391_2,  P11A,    24,  1,      4,    204,2,19930411,1925,-47.7508, 155.0057, 4860,   3393.1,   1.3540,  34.7240,2,  34.7240,2,   -999.0,5,    192.9,2,   107.20,2,    31.80,2,     2.28,2,   -999.0,9,  1.1020
    09AR9391_2,  P11A,    24,  1,      3,    319,2,19930411,1925,-47.7508, 155.0057, 4860,   3703.8,   1.1630,  34.7160,2,  34.7170,2,   -999.0,5,    195.9,2,   111.90,2,    31.70,2,     2.31,2,   2269.7,2,  0.8850
    09AR9391_2,  P11A,    24,  1,      2,    202,2,19930411,1925,-47.7508, 155.0057, 4860,   4504.5,   0.9880,  34.7080,2,  34.7090,2,   -999.0,5,    200.7,2,   117.70,2,    32.10,2,     2.31,2,   2267.9,2,  0.6280
    09AR9391_2,  P11A,    24,  1,      1,    218,2,19930411,1925,-47.7508, 155.0057, 4860,   4920.4,   0.9710,  34.7060,2,  34.7070,2,   -999.0,5,    201.7,2,   119.20,2,    34.20,3,     2.31,2,   2267.2,2,  0.5640