BOTTLE,20190618WHPSIOAMB
EXPOCODE,SECT_ID,STNNBR,CASTNO,SAMPNO,BTLNBR,BTLNBR_FLAG_W,DATE,TIME,LATITUDE,LONGITUDE,DEPTH,CTDPRS,CTDTMP,CTDSAL,CTDSAL_FLAG_W,SALNTY,SALNTY_FLAG_W,CTDOXY,CTDOXY_FLAG_W,OXYGEN,OXYGEN_FLAG_W,SILCAT,SILCAT_FLAG_W,NO2+NO3,NO2+NO3_FLAG_W,PHSPHT,PHSPHT_FLAG_W,TCARBN,TCARBN_FLAG_W,THETA
,,,,,,,,,,,,DBAR,ITS-90,PSS-78,,PSS-78,,UMOL/KG,,UMOL/KG,,UMOL/KG,,UMOL/KG,,UMOL/KG,,UMOL/KG,,ITS-90
    09AR9391_2,  P11A,    44,  1,     24,    224,2,19930422,1134,-57.5855, 154.9960, 3645,     10.1,   3.5970,  33.8760,2,  33.8720,2,   -999.0,5,    305.0,2,  -999.00,5,    25.70,2,  -999.00,5,   -999.0,9,  3.5970
    09AR9391_2,  P11A,    44,  1,     23,    223,2,19930422,1134,-57.5855, 154.9960, 3645,     24.4,   3.5930,  33.8760,2,  33.8730,2,   -999.0,5,    305.3,2,  -999.00,5,    25.50,2,     1.81,2,   -999.0,9,  3.5920
    09AR9391_2,  P11A,    44,  1,     22,    222,2,19930422,1134,-57.5855, 154.9960, 3645,     50.2,   3.5880,  33.8760,2,  33.8730,2,   -999.0,5,    304.1,2,  -999.00,5,    25.50,2,     1.82,2,   -999.0,9,  3.5860
    09AR9391_2,  P11A,    44,  1,     21,    221,2,19930422,1134,-57.5855, 154.9960, 3645,     99.5,   3.4340,  33.8910,4,  33.8920,2,   -999.0,5,    305.0,2,  -999.00,5,    26.20,2,     1.86,2,   -999.0,9,  3.4290
    09AR9391_2,  P11A,    44,  1,     20,    220,2,19930422,1134,-57.5855, 154.9960, 3645,    140.6,   0.9520,  34.1080,3,  34.1030,2,   -999.0,5,    274.8,2,  -999.00,5,    31.80,2,     2.22,2,   -999.0,9,  0.9460
    09AR9391_2,  P11A,    44,  1,     19,    203,2,19930422,1134,-57.5855, 154.9960, 3645,    200.1,   1.3780,  34.2800,2,  34.2800,2,   -999.0,5,    226.4,2,  -999.00,5,    33.70,2,     2.36,2,   -999.0,9,  1.3690
    09AR9391_2,  P11A,    44,  1,     18,    201,2,19930422,1134,-57.5855, 154.9960, 3645,    349.0,   2.0160,  34.4940,3,  34.4900,2,   -999.0,5,    177.7,2,  -999.00,5,    35.00,2,     2.44,2,   -999.0,9,  1.9970
    09AR9391_2,  P11A,    44,  1,     17,    217,2,19930422,1134,-57.5855, 154.9960, 3645,    497.2,   2.1680,  34.6230,2,  34.6180,2,   -999.0,5,    169.4,2,  -999.00,5,    33.50,2,     2.36,2,   -999.0,9,  2.1400
    09AR9391_2,  P11A,    44,  1,     16,    216,2,19930422,1134,-57.5855, 154.9960, 3645,    591.2,   2.1620,  34.6530,2,  34.6510,2,   -999.0,5,    170.1,2,  -999.00,5,    33.40,2,     2.32,2,   -999.0,9,  2.1280
    09AR9391_2,  P11A,    44,  1,     15,    215,2,19930422,1134,-57.5855, 154.9960, 3645,    697.6,   2.1230,  34.6820,2,  34.6820,2,   -999.0,5,    173.9,2,  -999.00,5,    32.60,2,     2.27,2,   -999.0,9,  2.0820
    09AR9391_2,  P11A,    44,  1,     14,    214,2,19930422,1134,-57.5855, 154.9960, 3645,    796.8,   2.1050,  34.7030,2,  34.7020,2,   -999.0,5,    175.3,2,  -999.00,5,    31.70,2,     2.24,2,   -999.0,9,  2.0580
    09AR9391_2,  P11A,    44,  1,     13,    213,2,19930422,1134,-57.5855, 154.9960, 3645,    901.3,   2.0710,  34.7160,2,  34.7180,2,   -999.0,5,    180.7,2,  -999.00,5,    31.30,2,     2.22,2,   -999.0,9,  2.0170
    09AR9391_2,  P11A,    44,  1,     12,    212,2,19930422,1134,-57.5855, 154.9960, 3645,   1096.8,   1.9410,  34.7340,2,  34.7340,2,   -999.0,5,    183.6,2,  -999.00,5,    31.20,2,  -999.00,5,   -999.0,9,  1.8750
    09AR9391_2,  P11A,    44,  1,     11,    211,2,19930422,1134,-57.5855, 154.9960, 3645,   1298.0,   1.8030,  34.7450,2,  34.7450,2,   -999.0,5,    189.1,2,  -999.00,5,    31.10,2,     2.14,2,   -999.0,9,  1.7240
    09AR9391_2,  P11A,    44,  1,     10,    210,2,19930422,1134,-57.5855, 154.9960, 3645,   1498.4,   1.6470,  34.7440,2,  34.7460,2,   -999.0,5,    191.3,2,  -999.00,5,    30.70,2,     2.16,2,   -999.0,9,  1.5550
    09AR9391_2,  P11A,    44,  1,      9,    209,2,19930422,1134,-57.5855, 154.9960, 3645,   1696.1,   1.4740,  34.7430,2,  34.7440,2,   -999.0,5,    193.6,2,  -999.00,5,    30.90,2,     2.16,2,   -999.0,9,  1.3690
    09AR9391_2,  P11A,    44,  1,      8,    208,2,19930422,1134,-57.5855, 154.9960, 3645,   1702.3,   1.4740,  34.7420,2,  34.7440,2,   -999.0,5,    193.6,2,  -999.00,5,    30.80,2,     2.17,2,   -999.0,9,  1.3690
    09AR9391_2,  P11A,    44,  1,      7,    207,2,19930422,1134,-57.5855, 154.9960, 3645,   2100.3,   1.1660,  34.7290,2,  34.7330,2,   -999.0,5,    197.1,2,  -999.00,5,    31.20,2,     2.20,2,   -999.0,9,  1.0340
    09AR9391_2,  P11A,    44,  1,      6,    206,2,19930422,1134,-57.5855, 154.9960, 3645,   2302.0,   1.0410,  34.7230,2,  34.7270,2,   -999.0,5,    198.9,2,  -999.00,5,    31.40,2,     2.22,2,   -999.0,9,  0.8950
    09AR9391_2,  P11A,    44,  1,      5,    205,2,19930422,1134,-57.5855, 154.9960, 3645,   2302.8,   1.0410,  34.7240,2,  34.7270,2,   -999.0,5,    199.7,2,  -999.00,5,    32.00,2,     2.23,2,   -999.0,9,  0.8950
    09AR9391_2,  P11A,    44,  1,      4,    204,2,19930422,1134,-57.5855, 154.9960, 3645,   2802.5,   0.7680,  34.7100,2,  34.7150,2,   -999.0,5,    204.2,2,  -999.00,5,    31.80,2,     2.24,2,   -999.0,9,  0.5850
    09AR9391_2,  P11A,    44,  1,      3,    319,2,19930422,1134,-57.5855, 154.9960, 3645,   3104.9,   0.6710,  34.7040,2,  34.7090,2,   -999.0,5,    206.0,2,  -999.00,5,    32.30,2,     2.25,2,   -999.0,9,  0.4630
    09AR9391_2,  P11A,    44,  1,      2,    202,2,19930422,1134,-57.5855, 154.9960, 3645,   3406.0,   0.5540,  34.6990,2,  34.7040,2,   -999.0,5,    208.0,2,  -999.00,5,    32.50,2,     2.26,2,   -999.0,9,  0.3210
    09AR9391_2,  P11A,    44,  1,      1,    218,2,19930422,1134,-57.5855, 154.9960, 3645,   3670.1,   0.5260,  34.6970,2,  34.7010,2,   -999.0,5,    209.2,2,  -999.00,5,    32.70,2,     2.27,2,   -999.0,9,  0.2680
    09AR9391_2,  P11A,    45,  1,     24,    224,2,19930422,1919,-58.2370, 155.0430, 3470,     10.1,   3.7180,  33.8380,2,  33.8440,2,   -999.0,5,    305.0,2,     7.70,2,    25.10,2,  -999.00,5,   2133.5,2,  3.7180
    09AR9391_2,  P11A,    45,  1,     23,    223,2,19930422,1919,-58.2370, 155.0430, 3470,     24.8,   3.7170,  33.8370,2,  33.8440,2,   -999.0,5,    305.0,2,     7.70,2,    25.30,2,     1.76,2,   2126.8,2,  3.7160
    09AR9391_2,  P11A,    45,  1,     22,    222,2,19930422,1919,-58.2370, 155.0430, 3470,     50.8,   3.3380,  33.8730,3,  33.8720,2,   -999.0,5,    305.9,2,    10.00,2,    25.80,2,     1.82,2,   2135.8,2,  3.3360
    09AR9391_2,  P11A,    45,  1,     21,    221,2,19930422,1919,-58.2370, 155.0430, 3470,     90.8,   3.3540,  33.9210,2,  33.9260,2,   -999.0,5,    297.0,2,    13.40,2,    26.40,2,     1.86,2,   2144.0,2,  3.3490
    09AR9391_2,  P11A,    45,  1,     20,    220,2,19930422,1919,-58.2370, 155.0430, 3470,    158.9,   2.3460,  33.9950,4,  33.9840,2,   -999.0,5,    289.1,2,    21.30,2,    28.30,2,     2.00,2,   2163.6,2,  2.3380
    09AR9391_2,  P11A,    45,  1,     19,    203,2,19930422,1919,-58.2370, 155.0430, 3470,    249.6,   1.9410,  34.2530,2,  34.2600,2,   -999.0,5,    224.9,2,    48.00,2,    33.10,2,     2.32,2,   2214.0,2,  1.9280
    09AR9391_2,  P11A,    45,  1,     18,    201,2,19930422,1919,-58.2370, 155.0430, 3470,    347.3,   1.8700,  34.4060,2,  34.4100,2,   -999.0,5,    193.3,2,    63.70,2,    34.60,2,     2.44,2,   2240.9,2,  1.8520
    09AR9391_2,  P11A,    45,  1,     17,    217,2,19930422,1919,-58.2370, 155.0430, 3470,    500.3,   2.1610,  34.5750,2,  34.5800,2,   -999.0,5,    169.4,2,    75.20,2,    33.80,2,     2.41,2,   2258.6,2,  2.1330
    09AR9391_2,  P11A,    45,  1,     16,    216,2,19930422,1919,-58.2370, 155.0430, 3470,    601.9,   2.2020,  34.6340,2,  34.6290,2,   -999.0,5,    169.4,2,    78.00,2,    33.20,2,     2.35,2,   2257.7,2,  2.1670
    09AR9391_2,  P11A,    45,  1,     15,    215,2,19930422,1919,-58.2370, 155.0430, 3470,    699.8,   2.1570,  34.6610,3,  34.6580,2,   -999.0,5,    171.5,2,    79.70,2,    32.60,2,     2.31,2,   2255.7,2,  2.1160
    09AR9391_2,  P11A,    45,  1,     14,    214,2,19930422,1919,-58.2370, 155.0430, 3470,    799.8,   2.1070,  34.6970,2,  34.6920,2,   -999.0,5,    175.5,2,    81.40,2,    31.60,2,     2.25,2,   2253.3,2,  2.0600
    09AR9391_2,  P11A,    45,  1,     13,    213,2,19930422,1919,-58.2370, 155.0430, 3470,    800.3,   2.1080,  34.6990,2,  34.6920,2,   -999.0,5,    177.0,2,    81.20,2,    31.50,2,     2.26,2,   2253.0,2,  2.0610
    09AR9391_2,  P11A,    45,  1,     12,    212,2,19930422,1919,-58.2370, 155.0430, 3470,   1098.6,   1.9000,  34.7380,2,  34.7320,2,   -999.0,5,    185.3,2,    87.00,2,    30.30,2,  -999.00,5,   2252.2,2,  1.8340
    09AR9391_2,  P11A,    45,  1,     10,    210,2,19930422,1919,-58.2370, 155.0430, 3470,   1298.8,   1.7180,  34.7430,2,  34.7390,2,   -999.0,5,    191.5,2,    91.70,2,    30.00,2,     2.15,2,   2251.7,2,  1.6400
    09AR9391_2,  P11A,    45,  1,     11,    211,2,19930422,1919,-58.2370, 155.0430, 3470,   1299.8,   1.7180,  34.7440,2,  34.7390,2,   -999.0,5,    190.6,2,    91.90,2,    30.10,2,     2.14,2,   2253.5,2,  1.6400
    09AR9391_2,  P11A,    45,  1,      9,    209,2,19930422,1919,-58.2370, 155.0430, 3470,   1699.9,   1.3720,  34.7370,2,  34.7330,2,   -999.0,5,    194.1,2,   102.40,2,    30.40,2,     2.19,2,   2255.9,2,  1.2680
    09AR9391_2,  P11A,    45,  1,      8,    208,2,19930422,1919,-58.2370, 155.0430, 3470,   1700.2,   1.3720,  34.7380,2,  34.7330,2,   -999.0,5,    194.4,2,   102.30,2,    30.60,2,     2.20,2,   2255.5,2,  1.2680
    09AR9391_2,  P11A,    45,  1,      7,    207,3,19930422,1919,-58.2370, 155.0430, 3470,   1901.5,   1.2170,  34.7300,2,  34.7290,4,   -999.0,5,    197.1,2,   105.90,2,    30.60,2,     2.19,2,   2257.4,2,  1.1000
    09AR9391_2,  P11A,    45,  1,      6,    206,2,19930422,1919,-58.2370, 155.0430, 3470,   2303.9,   0.9240,  34.7170,2,  34.7150,2,   -999.0,5,    200.0,2,   116.00,2,    31.20,2,     2.22,2,   2260.1,2,  0.7800
    09AR9391_2,  P11A,    45,  1,      5,    205,2,19930422,1919,-58.2370, 155.0430, 3470,   2502.4,   0.7950,  34.7130,2,  34.7140,2,   -999.0,5,    202.1,2,   116.20,3,    31.00,3,     2.23,3,   2259.9,2,  0.6370
    09AR9391_2,  P11A,    45,  1,      4,    204,2,19930422,1919,-58.2370, 155.0430, 3470,   2703.7,   0.6900,  34.7040,2,  34.7020,2,   -999.0,5,    205.0,2,   121.30,2,    30.90,2,     2.25,2,   2262.8,2,  0.5170
    09AR9391_2,  P11A,    45,  1,      3,    319,2,19930422,1919,-58.2370, 155.0430, 3470,   2903.5,   0.6370,  34.7030,2,  34.7000,2,   -999.0,5,    206.5,2,   122.00,2,    31.00,2,     2.26,2,   2259.5,2,  0.4480
    09AR9391_2,  P11A,    45,  1,      2,    202,2,19930422,1919,-58.2370, 155.0430, 3470,   3211.8,   0.5260,  34.6980,2,  34.6930,2,   -999.0,5,    208.9,2,   124.50,2,    31.10,2,     2.26,2,   2260.8,2,  0.3120
    09AR9391_2,  P11A,    45,  1,      1,    218,2,19930422,1919,-58.2370, 155.0430, 3470,   3481.3,   0.4220,  34.6930,2,  34.6890,2,   -999.0,5,    210.9,2,   127.30,2,    31.30,2,     2.27,2,   2259.3,2,  0.1850
    09AR9391_2,  P11A,    46,  1,     24,    224,2,19930423,0227,-58.8680, 154.4780, 3250,      8.8,   2.2730,  34.0390,2,  34.0390,2,   -999.0,5,    314.4,2,  -999.00,5,    27.70,2,  -999.00,5,   -999.0,9,  2.2730
    09AR9391_2,  P11A,    46,  1,     23,    223,2,19930423,0227,-58.8680, 154.4780, 3250,     24.8,   2.2740,  34.0400,2,  34.0370,2,   -999.0,5,    314.6,2,  -999.00,5,    27.30,2,     1.79,2,   -999.0,9,  2.2730
    09AR9391_2,  P11A,    46,  1,     22,    222,2,19930423,0227,-58.8680, 154.4780, 3250,     50.7,   2.2240,  34.0410,2,  34.0390,2,   -999.0,5,    314.6,2,  -999.00,5,    27.50,2,     1.81,2,   -999.0,9,  2.2220
    09AR9391_2,  P11A,    46,  1,     21,    221,2,19930423,0227,-58.8680, 154.4780, 3250,    101.7,   2.0700,  34.0460,2,  34.0450,2,   -999.0,5,    312.3,2,  -999.00,5,    27.80,2,     1.83,2,   -999.0,9,  2.0650
    09AR9391_2,  P11A,    46,  1,     20,    220,2,19930423,0227,-58.8680, 154.4780, 3250,    199.8,   1.4930,  34.6050,3,  34.6020,2,   -999.0,5,    185.0,2,  -999.00,5,    34.10,2,     2.43,2,   -999.0,9,  1.4830
    09AR9391_2,  P11A,    46,  1,     19,    203,2,19930423,0227,-58.8680, 154.4780, 3250,    299.3,   1.7400,  34.6790,2,  34.6800,2,   -999.0,5,    174.9,2,  -999.00,5,    33.20,2,     2.36,2,   -999.0,9,  1.7250
    09AR9391_2,  P11A,    46,  1,     18,    201,2,19930423,0227,-58.8680, 154.4780, 3250,    400.2,   1.7450,  34.7050,2,  34.7010,2,   -999.0,5,    178.8,2,  -999.00,5,    32.40,2,     2.30,2,   -999.0,9,  1.7240
    09AR9391_2,  P11A,    46,  1,     17,    217,2,19930423,0227,-58.8680, 154.4780, 3250,    496.1,   1.7090,  34.7150,2,  34.7120,2,   -999.0,5,    182.6,2,  -999.00,5,    32.40,2,     2.26,2,   -999.0,9,  1.6830
    09AR9391_2,  P11A,    46,  1,     16,    216,2,19930423,0227,-58.8680, 154.4780, 3250,    660.0,   1.7060,  34.7340,2,  34.7310,2,   -999.0,5,    186.7,2,  -999.00,5,    31.40,2,     2.20,2,   -999.0,9,  1.6700
    09AR9391_2,  P11A,    46,  1,     15,    215,2,19930423,0227,-58.8680, 154.4780, 3250,    798.5,   1.6000,  34.7360,2,  34.7310,2,   -999.0,5,    187.7,2,  -999.00,5,    31.20,2,     2.20,2,   -999.0,9,  1.5560
    09AR9391_2,  P11A,    46,  1,     14,    214,2,19930423,0227,-58.8680, 154.4780, 3250,    899.1,   1.5050,  34.7350,2,  34.7350,2,   -999.0,5,    191.5,2,  -999.00,5,    31.10,2,     2.18,2,   -999.0,9,  1.4550
    09AR9391_2,  P11A,    46,  1,     13,    213,3,19930423,0227,-58.8680, 154.4780, 3250,   1001.4,   1.4350,  34.7350,2,  34.7380,4,   -999.0,5,    191.6,2,  -999.00,5,    31.10,2,     2.18,2,   -999.0,9,  1.3790
    09AR9391_2,  P11A,    46,  1,     12,    212,2,19930423,0227,-58.8680, 154.4780, 3250,   1096.3,   1.3660,  34.7340,2,  34.7340,2,   -999.0,5,    193.8,2,  -999.00,5,    30.90,2,  -999.00,5,   -999.0,9,  1.3050
    09AR9391_2,  P11A,    46,  1,     11,    211,2,19930423,0227,-58.8680, 154.4780, 3250,   1200.2,   1.2850,  34.7310,2,  34.7330,2,   -999.0,5,    195.0,2,  -999.00,5,    31.20,2,     2.17,2,   -999.0,9,  1.2180
    09AR9391_2,  P11A,    46,  1,     10,    210,2,19930423,0227,-58.8680, 154.4780, 3250,   1397.6,   1.1240,  34.7230,2,  34.7250,2,   -999.0,5,    198.0,2,  -999.00,5,    31.90,2,     2.20,2,   -999.0,9,  1.0450
    09AR9391_2,  P11A,    46,  1,      9,    209,2,19930423,0227,-58.8680, 154.4780, 3250,   1399.6,   1.1200,  34.7260,2,  34.7250,2,   -999.0,5,   -999.0,9,  -999.00,5,    31.90,2,     2.22,2,   -999.0,9,  1.0410
    09AR9391_2,  P11A,    46,  1,      8,    208,2,19930423,0227,-58.8680, 154.4780, 3250,   1798.7,   0.8260,  34.7090,2,  34.7110,2,   -999.0,5,    200.0,2,  -999.00,5,    33.10,2,     2.26,2,   -999.0,9,  0.7220
    09AR9391_2,  P11A,    46,  1,      7,    207,2,19930423,0227,-58.8680, 154.4780, 3250,   2002.0,   0.7580,  34.7070,2,  34.7100,2,   -999.0,5,    202.1,2,  -999.00,5,    33.10,2,     2.27,2,   -999.0,9,  0.6400
    09AR9391_2,  P11A,    46,  1,      6,    206,2,19930423,0227,-58.8680, 154.4780, 3250,   2201.2,   0.6710,  34.7010,2,  34.7060,2,   -999.0,5,    203.5,2,  -999.00,5,    33.10,2,     2.28,2,   -999.0,9,  0.5400
    09AR9391_2,  P11A,    46,  1,      5,    205,2,19930423,0227,-58.8680, 154.4780, 3250,   2202.6,   0.6700,  34.7050,2,  34.7060,2,   -999.0,5,    204.7,2,  -999.00,5,    33.10,2,     2.28,2,   -999.0,9,  0.5380
    09AR9391_2,  P11A,    46,  1,      4,    204,2,19930423,0227,-58.8680, 154.4780, 3250,   2599.8,   0.4910,  34.6930,2,  34.6970,2,   -999.0,5,    207.4,2,  -999.00,5,    33.20,2,     2.30,2,   -999.0,9,  0.3310
    09AR9391_2,  P11A,    46,  1,      3,    319,2,19930423,0227,-58.8680, 154.4780, 3250,   2801.3,   0.4270,  34.6890,2,  34.6930,2,   -999.0,5,    208.9,2,  -999.00,5,    33.70,2,     2.31,2,   -999.0,9,  0.2510
    09AR9391_2,  P11A,    46,  1,      2,    202,2,19930423,0227,-58.8680, 154.4780, 3250,   3005.6,   0.3660,  34.6890,2,  34.6910,2,   -999.0,5,    211.2,2,  -999.00,5,    33.60,2,     2.31,2,   -999.0,9,  0.1740
    09AR9391_2,  P11A,    46,  1,      1,    218,2,19930423,0227,-58.8680, 154.4780, 3250,   3222.2,   0.2860,  34.6850,2,  34.6890,2,   -999.0,5,    213.0,2,  -999.00,5,    34.00,2,     2.31,2,   -999.0,9,  0.0760