BOTTLE,20190618WHPSIOAMB
EXPOCODE,SECT_ID,STNNBR,CASTNO,SAMPNO,BTLNBR,BTLNBR_FLAG_W,DATE,TIME,LATITUDE,LONGITUDE,DEPTH,CTDPRS,CTDTMP,CTDSAL,CTDSAL_FLAG_W,SALNTY,SALNTY_FLAG_W,CTDOXY,CTDOXY_FLAG_W,OXYGEN,OXYGEN_FLAG_W,SILCAT,SILCAT_FLAG_W,NO2+NO3,NO2+NO3_FLAG_W,PHSPHT,PHSPHT_FLAG_W,TCARBN,TCARBN_FLAG_W,THETA
,,,,,,,,,,,,DBAR,ITS-90,PSS-78,,PSS-78,,UMOL/KG,,UMOL/KG,,UMOL/KG,,UMOL/KG,,UMOL/KG,,UMOL/KG,,ITS-90
    09AR9391_2,  P11A,    28,  1,     24,    224,2,19930412,2227,-49.7617, 155.0097, 4450,     10.6,  10.8300,  34.4390,2,  34.4380,2,   -999.0,5,    264.8,2,     3.70,2,     9.20,2,  -999.00,5,   2070.4,2, 10.8310
    09AR9391_2,  P11A,    28,  1,     23,    223,2,19930412,2227,-49.7617, 155.0097, 4450,     50.7,  10.8340,  34.4390,2,  34.4370,2,   -999.0,5,    265.1,2,     1.90,2,     9.20,2,     0.82,2,   2071.2,2, 10.8300
    09AR9391_2,  P11A,    28,  1,     22,    222,2,19930412,2227,-49.7617, 155.0097, 4450,     75.0,  10.8360,  34.4390,2,  34.4370,2,   -999.0,5,    264.1,2,     1.50,2,     9.20,2,     0.84,2,   2068.8,2, 10.8300
    09AR9391_2,  P11A,    28,  1,     21,    221,2,19930412,2227,-49.7617, 155.0097, 4450,     98.4,  10.1060,  34.4730,4,  34.4650,2,   -999.0,5,    255.6,2,     2.30,2,    12.70,2,     1.04,2,   2089.0,2, 10.0970
    09AR9391_2,  P11A,    28,  1,     20,    220,2,19930412,2227,-49.7617, 155.0097, 4450,    149.3,   9.2020,  34.6520,2,  34.6490,2,   -999.0,5,    251.9,2,     4.40,2,    14.80,2,     1.13,2,   2109.1,2,  9.1880
    09AR9391_2,  P11A,    28,  1,     19,    203,2,19930412,2227,-49.7617, 155.0097, 4450,    198.1,   9.0390,  34.6310,2,  34.6290,2,   -999.0,5,    255.1,2,     4.40,2,    14.80,2,     1.14,2,   2108.4,2,  9.0200
    09AR9391_2,  P11A,    28,  1,     18,    201,2,19930412,2227,-49.7617, 155.0097, 4450,    299.0,   8.8130,  34.5940,2,  34.5950,2,   -999.0,5,    254.8,2,     4.70,2,    15.30,2,     1.19,2,   2111.3,2,  8.7830
    09AR9391_2,  P11A,    28,  1,     17,    217,2,19930412,2227,-49.7617, 155.0097, 4450,    500.1,   8.3250,  34.5340,2,  34.5330,2,   -999.0,5,    243.7,2,     6.20,2,    18.10,2,     1.36,2,   2118.5,2,  8.2750
    09AR9391_2,  P11A,    28,  1,     16,    216,2,19930412,2227,-49.7617, 155.0097, 4450,    599.1,   7.8440,  34.4920,3,  34.4900,2,   -999.0,5,    225.0,2,     9.10,2,    21.20,2,     1.54,2,   2134.2,2,  7.7850
    09AR9391_2,  P11A,    28,  1,     15,    215,2,19930412,2227,-49.7617, 155.0097, 4450,    799.5,   6.2540,  34.4070,2,-999.0000,9,   -999.0,5,    203.2,2,    18.50,2,    26.90,2,     1.92,2,   -999.0,9,  6.1830
    09AR9391_2,  P11A,    28,  1,     14,    214,2,19930412,2227,-49.7617, 155.0097, 4450,    800.0,   6.2540,  34.4070,2,  34.4070,2,   -999.0,5,    203.2,2,    18.60,2,    27.20,2,     1.94,2,   2165.8,2,  6.1830
    09AR9391_2,  P11A,    28,  1,     13,    213,2,19930412,2227,-49.7617, 155.0097, 4450,    897.1,   5.4000,  34.3610,2,  34.3620,2,   -999.0,5,    205.4,2,    22.90,2,    28.70,2,     2.06,2,   2175.0,2,  5.3250
    09AR9391_2,  P11A,    28,  1,     12,    212,2,19930412,2227,-49.7617, 155.0097, 4450,    997.5,   4.5420,  34.3320,3,  34.3310,2,   -999.0,5,    207.6,2,    28.00,2,    30.50,2,  -999.00,5,   2185.6,2,  4.4640
    09AR9391_2,  P11A,    28,  1,     11,    211,2,19930412,2227,-49.7617, 155.0097, 4450,   1199.5,   3.6700,  34.3550,2,  34.3540,2,   -999.0,5,    197.1,2,    40.30,2,    33.00,2,     2.29,2,   2207.4,2,  3.5820
    09AR9391_2,  P11A,    28,  1,     10,    210,2,19930412,2227,-49.7617, 155.0097, 4450,   1396.3,   2.9990,  34.4480,2,  34.4470,2,   -999.0,5,    178.7,2,    56.40,2,    34.90,2,     2.41,2,   2234.8,2,  2.9010
    09AR9391_2,  P11A,    28,  1,      9,    209,2,19930412,2227,-49.7617, 155.0097, 4450,   1596.9,   2.6920,  34.5380,2,  34.5350,2,   -999.0,5,    169.2,2,    66.50,2,    35.20,2,     2.44,2,   2249.1,2,  2.5800
    09AR9391_2,  P11A,    28,  1,      8,    208,2,19930412,2227,-49.7617, 155.0097, 4450,   1798.9,   2.5170,  34.6150,2,  34.6140,2,   -999.0,5,    169.0,2,    71.20,2,    34.40,2,     2.40,2,   2252.0,2,  2.3910
    09AR9391_2,  P11A,    28,  1,      7,    207,2,19930412,2227,-49.7617, 155.0097, 4450,   2000.0,   2.4050,  34.6680,2,  34.6670,2,   -999.0,5,    171.9,2,    75.40,2,    33.60,2,     2.37,2,   2251.6,2,  2.2630
    09AR9391_2,  P11A,    28,  1,      5,    205,2,19930412,2227,-49.7617, 155.0097, 4450,   2502.1,   2.0790,  34.7380,2,  34.7370,2,   -999.0,5,    183.7,2,    84.00,2,    31.90,2,     2.26,2,   2252.4,2,  1.8970
    09AR9391_2,  P11A,    28,  1,      6,    206,2,19930412,2227,-49.7617, 155.0097, 4450,   2502.3,   2.0760,  34.7390,2,  34.7370,2,   -999.0,5,    182.3,2,    83.90,2,    31.90,2,     2.24,2,   2252.6,2,  1.8940
    09AR9391_2,  P11A,    28,  1,      4,    204,2,19930412,2227,-49.7617, 155.0097, 4450,   2801.0,   1.8320,  34.7420,2,  34.7420,2,   -999.0,5,    186.6,2,    91.20,2,    32.00,2,     2.27,2,   2255.2,2,  1.6270
    09AR9391_2,  P11A,    28,  1,      3,    319,2,19930412,2227,-49.7617, 155.0097, 4450,   3202.6,   1.5300,  34.7340,2,  34.7350,2,   -999.0,5,    191.0,2,   101.00,2,    32.70,2,     2.29,2,   2261.9,2,  1.2930
    09AR9391_2,  P11A,    28,  1,      2,    202,2,19930412,2227,-49.7617, 155.0097, 4450,   4103.2,   0.9710,  34.7120,2,  34.7120,2,   -999.0,5,    200.6,2,   112.60,2,    33.30,2,     2.32,2,   2263.4,2,  0.6560
    09AR9391_2,  P11A,    28,  1,      1,    218,2,19930412,2227,-49.7617, 155.0097, 4450,   4518.3,   0.9130,  34.7080,2,  34.7080,2,   -999.0,5,    202.4,2,   116.90,2,    33.10,2,     2.32,2,   2263.0,2,  0.5540
    09AR9391_2,  P11A,    29,  1,     24,    224,2,19930413,1553,-50.2232, 155.0087, 4500,      8.9,   9.4940,  34.2730,2,  34.2710,2,   -999.0,5,    272.2,2,     1.40,2,    13.50,2,  -999.00,5,   -999.0,9,  9.4950
    09AR9391_2,  P11A,    29,  1,     23,    223,2,19930413,1553,-50.2232, 155.0087, 4500,     19.0,   9.5000,  34.2710,2,  34.2710,2,   -999.0,5,    271.9,2,     1.20,2,    13.30,2,     1.01,2,   -999.0,9,  9.5000
    09AR9391_2,  P11A,    29,  1,     22,    222,2,19930413,1553,-50.2232, 155.0087, 4500,     49.5,   9.5560,  34.2880,2,  34.2860,2,   -999.0,5,    270.7,2,     1.60,2,    13.20,2,     1.00,2,   -999.0,9,  9.5530
    09AR9391_2,  P11A,    29,  1,     21,    221,2,19930413,1553,-50.2232, 155.0087, 4500,     98.8,   9.3290,  34.3330,4,  34.3200,2,   -999.0,5,    266.4,2,     1.70,2,    14.20,2,     1.07,2,   -999.0,9,  9.3200
    09AR9391_2,  P11A,    29,  1,     20,    220,2,19930413,1553,-50.2232, 155.0087, 4500,    198.4,   8.7740,  34.5790,2,  34.5800,2,   -999.0,5,    256.7,2,     3.50,2,    15.70,2,     1.15,2,   -999.0,9,  8.7550
    09AR9391_2,  P11A,    29,  1,     19,    203,2,19930413,1553,-50.2232, 155.0087, 4500,    298.8,   8.2720,  34.5020,2,  34.5050,2,   -999.0,5,    256.5,2,     3.90,2,    17.00,2,     1.25,2,   -999.0,9,  8.2430
    09AR9391_2,  P11A,    29,  1,     18,    201,3,19930413,1553,-50.2232, 155.0087, 4500,    497.2,   7.4360,  34.4440,2,  34.4250,4,   -999.0,5,    230.2,2,     8.30,2,    22.00,2,     1.55,2,   -999.0,9,  7.3890
    09AR9391_2,  P11A,    29,  1,     17,    217,2,19930413,1553,-50.2232, 155.0087, 4500,    599.0,   6.4120,  34.3480,2,  34.3510,2,   -999.0,5,    225.6,2,    11.80,2,    24.30,2,     1.72,2,   -999.0,9,  6.3590
    09AR9391_2,  P11A,    29,  1,     16,    216,2,19930413,1553,-50.2232, 155.0087, 4500,    697.4,   5.7740,  34.3320,2,  34.3330,2,   -999.0,5,    219.5,2,    15.50,2,    26.60,2,     1.85,2,   -999.0,9,  5.7150
    09AR9391_2,  P11A,    29,  1,     15,    215,2,19930413,1553,-50.2232, 155.0087, 4500,    796.1,   5.1020,  34.3120,2,  34.3110,2,   -999.0,5,    220.1,2,    19.30,2,    28.00,2,     1.97,2,   -999.0,9,  5.0380
    09AR9391_2,  P11A,    29,  1,     13,    213,2,19930413,1553,-50.2232, 155.0087, 4500,    895.4,   4.5970,  34.3330,3,  34.3380,2,   -999.0,5,    207.6,2,    26.10,2,    29.80,2,     2.10,2,   -999.0,9,  4.5270
    09AR9391_2,  P11A,    29,  1,     14,    214,2,19930413,1553,-50.2232, 155.0087, 4500,    897.4,   4.6150,  34.3340,2,  34.3380,2,   -999.0,5,    207.3,2,    25.80,2,    29.80,2,     2.10,2,   -999.0,9,  4.5450
    09AR9391_2,  P11A,    29,  1,     12,    212,2,19930413,1553,-50.2232, 155.0087, 4500,   1095.6,   3.6260,  34.3630,2,  34.3640,2,   -999.0,5,    197.2,2,  -999.00,9,    32.20,2,  -999.00,5,   -999.0,9,  3.5470
    09AR9391_2,  P11A,    29,  1,     11,    211,2,19930413,1553,-50.2232, 155.0087, 4500,   1097.2,   3.6300,  34.3610,3,  34.3630,2,   -999.0,5,    196.5,2,    32.30,2,    32.10,2,     2.25,2,   -999.0,9,  3.5500
    09AR9391_2,  P11A,    29,  1,     10,    210,2,19930413,1553,-50.2232, 155.0087, 4500,   1298.1,   2.9800,  34.4080,2,  34.4090,2,   -999.0,5,    187.7,2,  -999.00,5,  -999.00,5,  -999.00,5,   -999.0,9,  2.8900
    09AR9391_2,  P11A,    29,  1,      9,    209,2,19930413,1553,-50.2232, 155.0087, 4500,   1496.8,   2.7440,  34.5080,2,  34.5100,2,   -999.0,5,    172.6,2,    66.80,2,    34.20,2,     2.39,2,   -999.0,9,  2.6400
    09AR9391_2,  P11A,    29,  1,      8,    208,2,19930413,1553,-50.2232, 155.0087, 4500,   1696.3,   2.5560,  34.5910,2,  34.5920,2,   -999.0,5,    169.8,2,    66.90,2,    33.40,2,     2.36,2,   -999.0,9,  2.4380
    09AR9391_2,  P11A,    29,  1,      7,    207,2,19930413,1553,-50.2232, 155.0087, 4500,   1999.7,   2.3780,  34.6770,2,  34.6780,2,   -999.0,5,    175.1,2,    71.20,2,    32.40,2,     2.29,2,   -999.0,9,  2.2360
    09AR9391_2,  P11A,    29,  1,      6,    206,2,19930413,1553,-50.2232, 155.0087, 4500,   2499.6,   2.0550,  34.7390,2,  34.7390,2,   -999.0,5,    185.7,2,    79.80,2,    30.90,2,     2.20,2,   -999.0,9,  1.8740
    09AR9391_2,  P11A,    29,  1,      5,    205,2,19930413,1553,-50.2232, 155.0087, 4500,   2799.6,   1.7880,  34.7430,2,  34.7410,2,   -999.0,5,   -999.0,5,  -999.00,5,  -999.00,5,  -999.00,5,   -999.0,9,  1.5840
    09AR9391_2,  P11A,    29,  1,      4,    204,2,19930413,1553,-50.2232, 155.0087, 4500,   3203.5,   1.4950,  34.7360,2,  34.7360,2,   -999.0,5,    192.8,2,    99.50,2,    31.40,2,     2.21,2,   -999.0,9,  1.2590
    09AR9391_2,  P11A,    29,  1,      3,    319,2,19930413,1553,-50.2232, 155.0087, 4500,   3701.8,   1.0790,  34.7180,2,  34.7190,2,   -999.0,5,    200.1,2,   111.00,2,    32.10,2,     2.26,2,   -999.0,9,  0.8030
    09AR9391_2,  P11A,    29,  1,      2,    202,2,19930413,1553,-50.2232, 155.0087, 4500,   4203.9,   0.8940,  34.7070,2,  34.7090,2,   -999.0,5,    203.0,2,   115.80,2,    32.10,2,     2.27,2,   -999.0,9,  0.5700
    09AR9391_2,  P11A,    29,  1,      1,    218,2,19930413,1553,-50.2232, 155.0087, 4500,   4690.6,   0.8470,  34.7040,2,  34.7100,3,   -999.0,5,    203.3,2,   117.00,2,    32.20,2,     2.27,2,   -999.0,9,  0.4710
    09AR9391_2,  P11A,    30,  1,     24,    224,2,19930413,2257,-50.7423, 154.9912, 4470,      9.8,  10.0320,  34.3160,2,  34.3130,2,   -999.0,5,    271.4,2,     1.50,2,    11.90,2,  -999.00,5,   2074.1,2, 10.0330
    09AR9391_2,  P11A,    30,  1,     23,    223,2,19930413,2257,-50.7423, 154.9912, 4470,     49.9,   9.9660,  34.3150,3,  34.3100,2,   -999.0,5,    270.7,2,     2.30,2,    12.20,2,     1.00,2,   2076.1,2,  9.9630
    09AR9391_2,  P11A,    30,  1,     22,    222,2,19930413,2257,-50.7423, 154.9912, 4470,     77.3,  10.0750,  34.4560,4,  34.4460,2,   -999.0,5,    265.9,2,     1.40,2,    11.30,2,     0.96,2,   2079.2,2, 10.0690
    09AR9391_2,  P11A,    30,  1,     21,    221,2,19930413,2257,-50.7423, 154.9912, 4470,    101.0,   8.8950,  34.4390,4,  34.4070,2,   -999.0,5,    261.1,2,     3.40,2,    15.90,2,     1.23,2,   2102.2,2,  8.8860
    09AR9391_2,  P11A,    30,  1,     20,    220,2,19930413,2257,-50.7423, 154.9912, 4470,    150.4,   8.5850,  34.5350,2,  34.5320,2,   -999.0,5,    260.1,2,     4.20,2,    16.00,2,     1.26,2,   2111.0,2,  8.5710
    09AR9391_2,  P11A,    30,  1,     19,    203,2,19930413,2257,-50.7423, 154.9912, 4470,    199.3,   8.4360,  34.5170,2,  34.5160,2,   -999.0,5,    261.1,2,     4.30,2,    16.30,2,     1.28,2,   2110.0,2,  8.4170
    09AR9391_2,  P11A,    30,  1,     18,    201,2,19930413,2257,-50.7423, 154.9912, 4470,    296.9,   8.1490,  34.4770,3,  34.4770,2,   -999.0,5,    259.4,2,     4.90,2,    17.10,2,     1.34,2,   2113.6,2,  8.1210
    09AR9391_2,  P11A,    30,  1,     17,    217,2,19930413,2257,-50.7423, 154.9912, 4470,    497.5,   7.0730,  34.3730,2,  34.3730,2,   -999.0,5,    239.6,2,     8.50,2,    21.80,2,     1.62,2,   2134.4,2,  7.0270
    09AR9391_2,  P11A,    30,  1,     16,    216,2,19930413,2257,-50.7423, 154.9912, 4470,    597.6,   7.0320,  34.4490,4,  34.4420,2,   -999.0,5,    210.1,2,    13.40,2,    24.60,2,     1.80,2,   2155.3,2,  6.9760
    09AR9391_2,  P11A,    30,  1,     15,    215,2,19930413,2257,-50.7423, 154.9912, 4470,    698.3,   5.9430,  34.3640,2,  34.3650,2,   -999.0,5,    213.9,2,    17.60,2,    26.70,2,     1.94,2,   2164.5,2,  5.8830
    09AR9391_2,  P11A,    30,  1,     14,    214,2,19930413,2257,-50.7423, 154.9912, 4470,    797.2,   5.0860,  34.3290,2,  34.3280,2,   -999.0,5,    214.4,2,    21.90,2,    28.60,2,     2.07,2,   2175.1,2,  5.0220
    09AR9391_2,  P11A,    30,  1,     13,    213,2,19930413,2257,-50.7423, 154.9912, 4470,    897.0,   4.3800,  34.2930,3,  34.3300,4,   -999.0,5,    213.6,2,  -999.00,5,  -999.00,5,  -999.00,5,   2175.2,2,  4.3120
    09AR9391_2,  P11A,    30,  1,     12,    212,2,19930413,2257,-50.7423, 154.9912, 4470,   1096.9,   3.4380,  34.3420,2,  34.3300,4,   -999.0,5,    204.8,2,    38.70,2,    32.20,2,  -999.00,5,   2206.8,2,  3.3600
    09AR9391_2,  P11A,    30,  1,     11,    211,2,19930413,2257,-50.7423, 154.9912, 4470,   1100.8,   3.4350,  34.3430,2,  34.3400,3,   -999.0,5,    201.3,3,    42.30,3,    32.90,3,     2.32,3,   2207.7,2,  3.3570
    09AR9391_2,  P11A,    30,  1,     10,    210,2,19930413,2257,-50.7423, 154.9912, 4470,   1296.0,   2.7990,  34.4050,2,  34.4020,2,   -999.0,5,    189.9,2,    54.40,2,    33.90,2,     2.43,2,   2229.9,2,  2.7110
    09AR9391_2,  P11A,    30,  1,      9,    209,2,19930413,2257,-50.7423, 154.9912, 4470,   1594.8,   2.5800,  34.5690,2,  34.5680,2,   -999.0,5,    171.4,2,    69.40,2,    33.60,2,     2.42,2,   2250.6,2,  2.4700
    09AR9391_2,  P11A,    30,  1,      8,    208,2,19930413,2257,-50.7423, 154.9912, 4470,   1899.2,   2.3440,  34.6690,2,  34.6670,2,   -999.0,5,    174.1,2,    75.80,2,    32.60,2,     2.35,2,   2253.2,2,  2.2110
    09AR9391_2,  P11A,    30,  1,      7,    207,2,19930413,2257,-50.7423, 154.9912, 4470,   2201.5,   2.1820,  34.7310,2,  34.7290,2,   -999.0,5,    183.5,2,    81.00,2,    31.30,2,     2.26,2,   2250.0,2,  2.0250
    09AR9391_2,  P11A,    30,  1,      6,    206,2,19930413,2257,-50.7423, 154.9912, 4470,   2500.4,   1.9560,  34.7460,2,  34.7470,2,   -999.0,5,    192.2,2,    91.30,2,    30.90,2,     2.24,2,   2251.1,2,  1.7770
    09AR9391_2,  P11A,    30,  1,      5,    205,2,19930413,2257,-50.7423, 154.9912, 4470,   2702.6,   1.7910,  34.7460,2,  34.7470,2,   -999.0,5,    192.4,2,    92.10,2,    31.20,2,     2.24,2,   2252.5,2,  1.5960
    09AR9391_2,  P11A,    30,  1,      4,    204,2,19930413,2257,-50.7423, 154.9912, 4470,   3002.3,   1.5420,  34.7400,2,  34.7400,2,   -999.0,5,    194.9,2,   100.40,2,    31.50,2,     2.27,2,   2257.0,2,  1.3240
    09AR9391_2,  P11A,    30,  1,      3,    319,2,19930413,2257,-50.7423, 154.9912, 4470,   3303.5,   1.2730,  34.7290,2,  34.7270,2,   -999.0,5,    197.1,2,   109.30,2,    31.90,2,     2.31,2,   2261.4,2,  1.0320
    09AR9391_2,  P11A,    30,  1,      2,    202,2,19930413,2257,-50.7423, 154.9912, 4470,   4105.7,   0.9400,  34.7120,2,  34.7110,2,   -999.0,5,    202.9,2,   118.90,2,    32.80,2,     2.35,2,   2261.8,2,  0.6260
    09AR9391_2,  P11A,    30,  1,      1,    218,2,19930413,2257,-50.7423, 154.9912, 4470,   4541.6,   0.8490,  34.7050,2,  34.7110,3,   -999.0,5,    202.2,2,   117.90,2,    32.20,2,     2.33,2,   2262.1,2,  0.4900