BOTTLE,20190618WHPSIOAMB
EXPOCODE,SECT_ID,STNNBR,CASTNO,SAMPNO,BTLNBR,BTLNBR_FLAG_W,DATE,TIME,LATITUDE,LONGITUDE,DEPTH,CTDPRS,CTDTMP,CTDSAL,CTDSAL_FLAG_W,SALNTY,SALNTY_FLAG_W,CTDOXY,CTDOXY_FLAG_W,OXYGEN,OXYGEN_FLAG_W,SILCAT,SILCAT_FLAG_W,NO2+NO3,NO2+NO3_FLAG_W,PHSPHT,PHSPHT_FLAG_W,TCARBN,TCARBN_FLAG_W,THETA
,,,,,,,,,,,,DBAR,ITS-90,PSS-78,,PSS-78,,UMOL/KG,,UMOL/KG,,UMOL/KG,,UMOL/KG,,UMOL/KG,,UMOL/KG,,ITS-90
    09AR9391_2,  P11A,     5,  1,     23,    223,2,19930404,1924,-43.2405, 148.5422, 2950,      6.7,  17.1100,  35.5340,2,  35.5330,2,   -999.0,5,    228.1,2,     0.80,2,     0.70,2,     0.21,2,   2038.9,2, 17.1130
    09AR9391_2,  P11A,     5,  1,     24,    224,2,19930404,1924,-43.2405, 148.5422, 2950,      6.9,  17.1090,  35.5340,2,  35.5350,2,   -999.0,5,    228.3,2,     1.00,2,     0.80,2,     0.22,2,   2037.6,2, 17.1120
    09AR9391_2,  P11A,     5,  1,     22,    222,2,19930404,1924,-43.2405, 148.5422, 2950,     16.3,  17.1020,  35.5330,2,  35.5310,2,   -999.0,5,    229.1,2,     0.80,2,     0.70,2,     0.21,2,   2038.6,2, 17.1030
    09AR9391_2,  P11A,     5,  1,     21,    221,2,19930404,1924,-43.2405, 148.5422, 2950,     49.0,  16.9490,  35.4900,4,  35.4800,2,   -999.0,5,   -999.0,5,     0.70,2,     0.70,2,     0.22,2,   2036.4,2, 16.9450
    09AR9391_2,  P11A,     5,  1,     20,    220,2,19930404,1924,-43.2405, 148.5422, 2950,     99.7,  14.7560,  35.0350,3,  35.0780,2,   -999.0,5,    228.3,2,     0.90,2,     4.00,2,     0.39,2,   2057.1,2, 14.7450
    09AR9391_2,  P11A,     5,  1,     19,    219,2,19930404,1924,-43.2405, 148.5422, 2950,    147.9,  13.1840,  35.2390,3,  35.2330,2,   -999.0,5,    199.7,2,     3.40,2,    10.50,2,     0.71,2,   2097.8,2, 13.1670
    09AR9391_2,  P11A,     5,  1,     18,    218,2,19930404,1924,-43.2405, 148.5422, 2950,    196.4,  11.9540,  35.0910,3,  35.0830,2,   -999.0,5,    204.4,2,     4.30,2,    13.20,2,     0.88,2,   2111.4,2, 11.9310
    09AR9391_2,  P11A,     5,  1,     17,    217,2,19930404,1924,-43.2405, 148.5422, 2950,    298.2,   9.7240,  34.7900,4,  34.7930,2,   -999.0,5,    189.3,3,     7.70,2,    19.50,2,     1.26,2,   2138.1,2,  9.6920
    09AR9391_2,  P11A,     5,  1,     16,    216,2,19930404,1924,-43.2405, 148.5422, 2950,    399.0,   8.2760,  34.6100,3,  34.6110,2,   -999.0,5,    193.3,2,    10.80,2,    23.10,2,     1.49,2,   2146.8,2,  8.2360
    09AR9391_2,  P11A,     5,  1,     15,    215,2,19930404,1924,-43.2405, 148.5422, 2950,    498.3,   7.3920,  34.5390,2,  34.5390,2,   -999.0,5,    185.1,2,    15.50,2,    25.90,2,     1.68,2,   2159.2,2,  7.3450
    09AR9391_2,  P11A,     5,  1,     14,    214,2,19930404,1924,-43.2405, 148.5422, 2950,    596.8,   6.5480,  34.4900,2,  34.4940,2,   -999.0,5,   -999.0,9,    21.40,2,    28.20,2,     1.84,2,   2172.6,2,  6.4950
    09AR9391_2,  P11A,     5,  1,     13,    213,2,19930404,1924,-43.2405, 148.5422, 2950,    798.5,   5.0830,  34.4520,3,  34.4540,2,   -999.0,5,    178.8,2,    35.90,2,    31.80,2,     2.08,2,   2200.1,2,  5.0180
    09AR9391_2,  P11A,     5,  1,     12,    212,2,19930404,1924,-43.2405, 148.5422, 2950,    897.0,   4.4250,  34.4330,2,  34.4330,2,   -999.0,5,    178.4,2,    41.50,2,    32.80,2,  -999.00,5,   2210.4,2,  4.3560
    09AR9391_2,  P11A,     5,  1,     11,    211,2,19930404,1924,-43.2405, 148.5422, 2950,    998.1,   4.1240,  34.4590,2,  34.4580,2,   -999.0,5,    171.5,2,    49.10,2,    34.00,2,     2.22,2,   2221.4,2,  4.0490
    09AR9391_2,  P11A,     5,  1,     10,    210,2,19930404,1924,-43.2405, 148.5422, 2950,   1195.2,   3.5220,  34.5230,2,  34.5180,2,   -999.0,5,    158.4,2,    65.20,2,    35.80,2,     2.36,2,   2247.8,2,  3.4350
    09AR9391_2,  P11A,     5,  1,      9,    209,2,19930404,1924,-43.2405, 148.5422, 2950,   1396.5,   2.8560,  34.5750,2,  34.5720,2,   -999.0,5,    157.7,2,    74.10,2,    36.30,2,     2.41,2,   2259.8,2,  2.7590
    09AR9391_2,  P11A,     5,  1,      8,    208,2,19930404,1924,-43.2405, 148.5422, 2950,   1598.5,   2.5800,  34.6200,2,  34.6170,2,   -999.0,5,    161.8,2,    75.10,2,    35.90,2,     2.36,2,   2258.8,2,  2.4690
    09AR9391_2,  P11A,     5,  1,      7,    207,2,19930404,1924,-43.2405, 148.5422, 2950,   1797.4,   2.3990,  34.6650,2,  34.6630,2,   -999.0,5,    167.7,2,    77.70,2,    35.50,2,     2.31,2,   2259.2,2,  2.2740
    09AR9391_2,  P11A,     5,  1,      6,    206,2,19930404,1924,-43.2405, 148.5422, 2950,   1999.4,   2.2310,  34.7080,2,  34.7050,2,   -999.0,5,    174.2,2,    79.10,2,    34.60,2,     2.25,2,   2256.3,2,  2.0910
    09AR9391_2,  P11A,     5,  1,      5,    205,2,19930404,1924,-43.2405, 148.5422, 2950,   2198.7,   2.0410,  34.7330,2,-999.0000,9,   -999.0,5,   -999.0,9,  -999.00,9,  -999.00,9,  -999.00,9,   -999.0,9,  1.8870
    09AR9391_2,  P11A,     5,  1,      4,    204,2,19930404,1924,-43.2405, 148.5422, 2950,   2399.9,   1.9420,  34.7400,2,  34.7380,2,   -999.0,5,    178.8,2,    88.20,2,    34.40,2,     2.22,2,   2260.2,2,  1.7720
    09AR9391_2,  P11A,     5,  1,      3,    203,2,19930404,1924,-43.2405, 148.5422, 2950,   2601.2,   1.8130,  34.7430,2,  34.7390,3,   -999.0,5,    182.8,2,    91.30,2,    34.20,2,     2.21,2,   2258.8,2,  1.6270
    09AR9391_2,  P11A,     5,  1,      2,    202,2,19930404,1924,-43.2405, 148.5422, 2950,   2808.4,   1.6490,  34.7400,2,  34.7390,2,   -999.0,5,    183.3,2,    97.50,2,    34.30,2,     2.22,2,   2265.3,2,  1.4470
    09AR9391_2,  P11A,     5,  1,      1,    201,2,19930404,1924,-43.2405, 148.5422, 2950,   2934.5,   1.5680,  34.7380,2,  34.7380,2,   -999.0,5,    185.7,2,    98.70,2,    34.20,2,     2.23,2,   2266.7,2,  1.3560
    09AR9391_2,  P11A,     6,  1,     24,    224,2,19930405,0306,-43.2778, 149.2385, 3300,      8.8,  18.0860,  35.5730,2,  35.5730,2,   -999.0,5,    227.6,2,     0.10,2,  -999.00,9,     0.23,2,   -999.0,9, 18.0890
    09AR9391_2,  P11A,     6,  1,     23,    223,2,19930405,0306,-43.2778, 149.2385, 3300,     19.0,  17.9260,  35.5770,2,  35.5770,2,   -999.0,5,    227.3,2,     0.10,2,  -999.00,9,     0.23,2,   -999.0,9, 17.9270
    09AR9391_2,  P11A,     6,  1,     22,    222,2,19930405,0306,-43.2778, 149.2385, 3300,     49.3,  17.8540,  35.5810,2,  35.5790,2,   -999.0,5,    226.7,2,     0.10,2,  -999.00,9,     0.23,2,   -999.0,9, 17.8500
    09AR9391_2,  P11A,     6,  1,     21,    221,3,19930405,0306,-43.2778, 149.2385, 3300,    101.3,  14.9950,  35.3920,4,  35.4230,4,   -999.0,5,    199.8,2,     2.50,2,     6.20,2,     0.46,2,   -999.0,9, 14.9830
    09AR9391_2,  P11A,     6,  1,     20,    220,2,19930405,0306,-43.2778, 149.2385, 3300,    147.9,  13.6120,  35.3100,3,  35.3100,2,   -999.0,5,    204.9,2,     3.20,2,     9.40,2,     0.64,2,   -999.0,9, 13.5940
    09AR9391_2,  P11A,     6,  1,     18,    218,2,19930405,0306,-43.2778, 149.2385, 3300,    296.9,  10.8550,  34.9460,3,  34.9540,2,   -999.0,5,    219.5,2,     3.80,2,    12.60,2,     0.84,2,   -999.0,9, 10.8210
    09AR9391_2,  P11A,     6,  1,     17,    217,2,19930405,0306,-43.2778, 149.2385, 3300,    399.2,   9.4140,  34.7240,4,  34.7320,2,   -999.0,5,    211.8,2,     5.10,2,    18.00,2,     1.18,2,   -999.0,9,  9.3710
    09AR9391_2,  P11A,     6,  1,     16,    216,2,19930405,0306,-43.2778, 149.2385, 3300,    498.6,   8.5340,  34.6180,3,  34.6240,2,   -999.0,5,    202.9,2,     9.60,2,    21.10,2,     1.42,2,   -999.0,9,  8.4830
    09AR9391_2,  P11A,     6,  1,     15,    215,2,19930405,0306,-43.2778, 149.2385, 3300,    597.3,   7.6880,  34.5590,2,  34.5630,2,   -999.0,5,    187.8,2,    14.70,2,    24.30,2,     1.63,2,   -999.0,9,  7.6300
    09AR9391_2,  P11A,     6,  1,     14,    214,2,19930405,0306,-43.2778, 149.2385, 3300,    697.7,   6.7850,  34.5010,2,  34.5040,2,   -999.0,5,    184.6,2,    21.10,2,    26.70,2,     1.87,2,   -999.0,9,  6.7210
    09AR9391_2,  P11A,     6,  1,     13,    213,2,19930405,0306,-43.2778, 149.2385, 3300,    798.0,   6.0220,  34.4680,3,  34.4720,2,   -999.0,5,    183.7,2,    27.50,2,    28.40,2,     1.94,2,   -999.0,9,  5.9520
    09AR9391_2,  P11A,     6,  1,     12,    212,2,19930405,0306,-43.2778, 149.2385, 3300,    895.9,   5.2980,  34.4650,2,  34.4660,2,   -999.0,5,    176.2,2,    38.30,2,    30.10,2,  -999.00,5,   -999.0,9,  5.2230
    09AR9391_2,  P11A,     6,  1,     11,    211,2,19930405,0306,-43.2778, 149.2385, 3300,    976.5,   4.4230,  34.4090,3,  34.4070,2,   -999.0,5,    186.8,2,    40.30,2,    31.30,2,     2.35,2,   -999.0,9,  4.3470
    09AR9391_2,  P11A,     6,  1,     10,    210,2,19930405,0306,-43.2778, 149.2385, 3300,   1197.3,   3.7530,  34.4930,3,  34.4930,2,   -999.0,5,    164.6,2,    62.60,2,    33.30,2,     2.44,2,   -999.0,9,  3.6640
    09AR9391_2,  P11A,     6,  1,      9,    209,2,19930405,0306,-43.2778, 149.2385, 3300,   1397.7,   3.0250,  34.5540,2,  34.5520,2,   -999.0,5,    160.4,2,    76.00,2,    34.50,2,     2.41,2,   -999.0,9,  2.9260
    09AR9391_2,  P11A,     6,  1,      8,    208,2,19930405,0306,-43.2778, 149.2385, 3300,   1599.2,   2.6580,  34.6060,2,  34.6080,2,   -999.0,5,    161.3,2,    79.10,2,    33.80,2,     2.36,2,   -999.0,9,  2.5470
    09AR9391_2,  P11A,     6,  1,      7,    207,2,19930405,0306,-43.2778, 149.2385, 3300,   1798.1,   2.4400,  34.6570,2,  34.6570,2,   -999.0,5,    165.8,2,    83.00,2,    32.40,2,     2.28,2,   -999.0,9,  2.3150
    09AR9391_2,  P11A,     6,  1,      6,    206,2,19930405,0306,-43.2778, 149.2385, 3300,   1999.2,   2.2290,  34.7050,2,  34.7030,2,   -999.0,5,    173.4,2,  -999.00,9,    32.40,2,     2.27,2,   -999.0,9,  2.0890
    09AR9391_2,  P11A,     6,  1,      5,    205,2,19930405,0306,-43.2778, 149.2385, 3300,   2199.6,   2.0960,  34.7270,4,  34.7250,2,   -999.0,5,    177.1,2,    91.90,2,    32.10,2,     2.26,2,   -999.0,9,  1.9410
    09AR9391_2,  P11A,     6,  1,      4,    204,2,19930405,0306,-43.2778, 149.2385, 3300,   2501.3,   1.8860,  34.7300,2,  34.7390,2,   -999.0,5,    180.1,2,    98.60,2,    32.10,2,     2.26,2,   -999.0,9,  1.7080
    09AR9391_2,  P11A,     6,  1,      3,    203,2,19930405,0306,-43.2778, 149.2385, 3300,   2801.6,   1.6530,  34.7310,2,  34.7410,2,   -999.0,5,    184.0,2,   105.60,2,    31.80,2,     2.23,2,   -999.0,9,  1.4520
    09AR9391_2,  P11A,     6,  1,      2,    202,2,19930405,0306,-43.2778, 149.2385, 3300,   3108.6,   1.5430,  34.7370,2,  34.7400,2,   -999.0,5,    187.0,2,   110.10,2,    32.10,2,     2.24,2,   -999.0,9,  1.3150
    09AR9391_2,  P11A,     6,  1,      1,    201,2,19930405,0306,-43.2778, 149.2385, 3300,   3321.6,   1.4990,  34.7370,2,  34.7380,2,   -999.0,5,    187.1,2,   111.40,2,    32.10,2,     2.24,2,   -999.0,9,  1.2510
    09AR9391_2,  P11A,     7,  1,     24,    224,2,19930405,0926,-43.2528, 149.9237, 3070,     10.0,  17.6730,  35.5910,2,  35.5910,2,   -999.0,5,    229.9,2,     0.90,2,     0.20,2,     0.15,2,   2033.8,2, 17.6760
    09AR9391_2,  P11A,     7,  1,     23,    223,2,19930405,0926,-43.2528, 149.9237, 3070,     17.2,  17.6760,  35.5920,2,  35.5910,2,   -999.0,5,    228.6,2,     0.90,2,     0.20,2,     0.14,2,   2034.6,2, 17.6770
    09AR9391_2,  P11A,     7,  1,     22,    222,2,19930405,0926,-43.2528, 149.9237, 3070,     47.4,  17.6120,  35.5870,2,  35.5870,2,   -999.0,5,    230.1,2,     1.10,2,     0.30,2,     0.14,2,   2034.7,2, 17.6080
    09AR9391_2,  P11A,     7,  1,     21,    221,2,19930405,0926,-43.2528, 149.9237, 3070,     97.4,  15.2570,  35.4040,4,  35.4110,2,   -999.0,5,    187.0,2,     2.30,2,     7.00,2,     0.55,2,   2078.6,2, 15.2460
    09AR9391_2,  P11A,     7,  1,     20,    220,2,19930405,0926,-43.2528, 149.9237, 3070,    148.3,  13.9040,  35.3200,2,  35.3210,2,   -999.0,5,    202.5,2,     3.00,2,     9.20,2,     0.71,2,   2090.1,2, 13.8860
    09AR9391_2,  P11A,     7,  1,     19,    319,2,19930405,0926,-43.2528, 149.9237, 3070,    199.3,  12.9330,  35.2160,4,  35.2320,2,   -999.0,5,    204.9,2,     3.60,2,    10.70,2,     0.82,2,   2099.2,2, 12.9090
    09AR9391_2,  P11A,     7,  1,     18,    218,2,19930405,0926,-43.2528, 149.9237, 3070,    297.8,  11.4940,  35.0360,2,  35.0360,2,   -999.0,5,    205.7,2,     4.70,2,    13.80,2,     1.01,2,   2113.4,2, 11.4590
    09AR9391_2,  P11A,     7,  1,     17,    217,2,19930405,0926,-43.2528, 149.9237, 3070,    396.7,  10.2870,  34.8540,3,-999.0000,9,   -999.0,5,   -999.0,9,  -999.00,9,  -999.00,9,  -999.00,9,   -999.0,5, 10.2420
    09AR9391_2,  P11A,     7,  1,     16,    216,2,19930405,0926,-43.2528, 149.9237, 3070,    498.0,   9.3120,  34.6990,2,  34.7040,2,   -999.0,5,    226.6,2,     5.70,2,    17.80,2,     1.25,2,   2121.1,2,  9.2580
    09AR9391_2,  P11A,     7,  1,     15,    215,2,19930405,0926,-43.2528, 149.9237, 3070,    594.0,   8.8490,  34.6430,2,  34.6580,2,   -999.0,5,    202.9,2,     9.30,2,    21.60,2,     1.46,2,   2137.8,2,  8.7860
    09AR9391_2,  P11A,     7,  1,     14,    214,2,19930405,0926,-43.2528, 149.9237, 3070,    695.9,   8.0040,  34.5730,2,  34.5370,4,   -999.0,5,    185.4,3,  -999.00,5,  -999.00,5,  -999.00,5,   2177.5,4,  7.9340
    09AR9391_2,  P11A,     7,  1,     13,    213,2,19930405,0926,-43.2528, 149.9237, 3070,    795.3,   7.2590,  34.5190,4,  34.5290,2,   -999.0,5,    189.0,2,    18.50,2,    27.20,2,     1.86,2,   2161.7,2,  7.1820
    09AR9391_2,  P11A,     7,  1,     12,    212,2,19930405,0926,-43.2528, 149.9237, 3070,    897.0,   6.2380,  34.4590,4,  34.4650,2,   -999.0,5,    187.1,2,  -999.00,9,    29.80,2,  -999.00,5,   2177.4,2,  6.1570
    09AR9391_2,  P11A,     7,  1,     11,    211,2,19930405,0926,-43.2528, 149.9237, 3070,   1020.6,   5.1960,  34.4290,2,  34.4300,2,   -999.0,5,    184.6,2,    36.40,2,    32.60,2,     2.06,2,   2193.7,2,  5.1110
    09AR9391_2,  P11A,     7,  1,     10,    210,2,19930405,0926,-43.2528, 149.9237, 3070,   1146.1,   4.4720,  34.4810,2,  34.4790,2,   -999.0,5,    169.6,2,    54.40,2,    34.70,2,     2.31,2,   2221.4,2,  4.3810
    09AR9391_2,  P11A,     7,  1,      9,    209,2,19930405,0926,-43.2528, 149.9237, 3070,   1337.8,   3.5590,  34.4860,4,  34.4860,2,   -999.0,5,    168.0,2,    66.60,2,    36.60,2,     2.45,2,   2239.9,2,  3.4600
    09AR9391_2,  P11A,     7,  1,      8,    208,2,19930405,0926,-43.2528, 149.9237, 3070,   1597.3,   2.9290,  34.5890,2,  34.5890,2,   -999.0,5,    154.7,2,    88.90,3,    37.80,2,     2.54,2,   2267.7,2,  2.8140
    09AR9391_2,  P11A,     7,  1,      7,    207,2,19930405,0926,-43.2528, 149.9237, 3070,   1795.1,   2.5750,  34.6320,2,  34.6320,2,   -999.0,5,    161.7,2,    89.90,3,    37.30,2,     2.49,2,   2264.0,2,  2.4480
    09AR9391_2,  P11A,     7,  1,      6,    206,2,19930405,0926,-43.2528, 149.9237, 3070,   1998.2,   2.3810,  34.6730,2,  34.6700,2,   -999.0,5,    167.5,2,    90.60,3,    36.50,2,     2.44,2,   2259.5,2,  2.2390
    09AR9391_2,  P11A,     7,  1,      5,    205,2,19930405,0926,-43.2528, 149.9237, 3070,   2160.3,   2.2510,  34.7050,2,  34.7030,2,   -999.0,5,    175.6,2,    91.00,2,    35.70,2,     2.37,2,   2258.3,2,  2.0970
    09AR9391_2,  P11A,     7,  1,      4,    204,2,19930405,0926,-43.2528, 149.9237, 3070,   2403.0,   2.0950,  34.7290,2,  34.7280,2,   -999.0,5,    178.8,2,    94.90,2,    35.20,2,     2.34,2,   2257.3,2,  1.9220
    09AR9391_2,  P11A,     7,  1,      3,    203,2,19930405,0926,-43.2528, 149.9237, 3070,   2601.2,   1.9270,  34.7400,2,  34.7380,2,   -999.0,5,    183.5,2,    99.20,2,    35.10,2,     2.35,2,   2260.5,2,  1.7390
    09AR9391_2,  P11A,     7,  1,      2,    202,2,19930405,0926,-43.2528, 149.9237, 3070,   2903.0,   1.6750,  34.7430,2,  34.7420,2,   -999.0,5,    185.9,2,   107.50,2,    35.20,2,     2.35,2,   2260.7,2,  1.4640
    09AR9391_2,  P11A,     7,  1,      1,    201,2,19930405,0926,-43.2528, 149.9237, 3070,   3098.8,   1.5320,  34.7390,2,  34.7390,2,   -999.0,5,    190.4,2,   111.40,2,    35.30,2,     2.36,2,   2263.8,2,  1.3050