BOTTLE,20190618WHPSIOAMB
EXPOCODE,SECT_ID,STNNBR,CASTNO,SAMPNO,BTLNBR,BTLNBR_FLAG_W,DATE,TIME,LATITUDE,LONGITUDE,DEPTH,CTDPRS,CTDTMP,CTDSAL,CTDSAL_FLAG_W,SALNTY,SALNTY_FLAG_W,CTDOXY,CTDOXY_FLAG_W,OXYGEN,OXYGEN_FLAG_W,SILCAT,SILCAT_FLAG_W,NO2+NO3,NO2+NO3_FLAG_W,PHSPHT,PHSPHT_FLAG_W,TCARBN,TCARBN_FLAG_W,THETA
,,,,,,,,,,,,DBAR,ITS-90,PSS-78,,PSS-78,,UMOL/KG,,UMOL/KG,,UMOL/KG,,UMOL/KG,,UMOL/KG,,UMOL/KG,,ITS-90
    09AR9391_2,  P11A,     9,  1,     24,    224,2,19930405,1910,-43.2565, 150.6625, 3200,      7.2,  17.5490,  35.6020,2,  35.6000,2,   -999.0,5,    225.6,2,     0.80,2,     0.40,2,     0.23,2,   2038.6,2, 17.5520
    09AR9391_2,  P11A,     9,  1,     23,    223,2,19930405,1910,-43.2565, 150.6625, 3200,     18.2,  17.5610,  35.6020,2,  35.6000,2,   -999.0,5,    226.0,2,     0.80,2,     0.30,2,     0.22,2,   2037.9,2, 17.5620
    09AR9391_2,  P11A,     9,  1,     22,    222,2,19930405,1910,-43.2565, 150.6625, 3200,     48.3,  17.5640,  35.6010,2,  35.6000,2,   -999.0,5,    225.1,2,     0.80,2,     0.40,2,     0.21,2,   2038.0,2, 17.5600
    09AR9391_2,  P11A,     9,  1,     21,    221,2,19930405,1910,-43.2565, 150.6625, 3200,     97.9,  15.2950,  35.4250,4,  35.4360,2,   -999.0,5,    197.9,2,     2.10,2,     6.50,2,     0.49,2,   2076.1,2, 15.2840
    09AR9391_2,  P11A,     9,  1,     20,    220,2,19930405,1910,-43.2565, 150.6625, 3200,    147.9,  14.1810,  35.3400,3,  35.3410,2,   -999.0,5,    198.3,2,     3.00,2,     8.90,2,     0.63,2,   2090.4,2, 14.1630
    09AR9391_2,  P11A,     9,  1,     19,    319,2,19930405,1910,-43.2565, 150.6625, 3200,    200.0,  13.1570,  35.2970,2,  35.2980,2,   -999.0,5,    217.9,2,     2.90,2,     8.80,2,     0.63,2,   2092.7,2, 13.1320
    09AR9391_2,  P11A,     9,  1,     18,    218,2,19930405,1910,-43.2565, 150.6625, 3200,    298.7,  12.0570,  35.1230,4,  35.1350,2,   -999.0,5,    209.3,2,     3.80,2,    11.60,2,     0.80,2,   2107.0,2, 12.0210
    09AR9391_2,  P11A,     9,  1,     17,    217,2,19930405,1910,-43.2565, 150.6625, 3200,    398.0,  10.7710,  34.9330,2,  34.9370,2,   -999.0,5,    220.1,2,     4.50,2,    13.70,2,     0.95,2,   2114.8,2, 10.7250
    09AR9391_2,  P11A,     9,  1,     16,    216,2,19930405,1910,-43.2565, 150.6625, 3200,    497.9,   9.5470,  34.7450,2,  34.7470,2,   -999.0,5,    216.2,2,     5.90,2,    17.20,2,     1.16,2,   2125.3,2,  9.4920
    09AR9391_2,  P11A,     9,  1,     15,    215,2,19930405,1910,-43.2565, 150.6625, 3200,    598.5,   8.8060,  34.6550,3,  34.6600,2,   -999.0,5,    203.6,2,    10.50,2,    20.50,2,     1.38,2,   2137.3,2,  8.7430
    09AR9391_2,  P11A,     9,  1,     14,    214,2,19930405,1910,-43.2565, 150.6625, 3200,    696.0,   7.9270,  34.5740,2,  34.5740,2,   -999.0,5,    190.8,2,    13.80,2,    24.10,2,     1.62,2,   2155.1,2,  7.8570
    09AR9391_2,  P11A,     9,  1,     13,    213,2,19930405,1910,-43.2565, 150.6625, 3200,    797.0,   7.1270,  34.5200,4,  34.5250,2,   -999.0,5,    185.4,2,    18.90,2,    26.10,2,     1.76,2,   2167.6,2,  7.0510
    09AR9391_2,  P11A,     9,  1,     12,    212,2,19930405,1910,-43.2565, 150.6625, 3200,    996.1,   5.5970,  34.4640,2,  34.4640,2,   -999.0,5,    178.4,2,    33.70,2,    30.00,2,  -999.00,5,   2194.4,2,  5.5110
    09AR9391_2,  P11A,     9,  1,     11,    211,2,19930405,1910,-43.2565, 150.6625, 3200,   1198.0,   4.3830,  34.4850,2,  34.4850,2,   -999.0,5,    168.1,2,    53.80,2,    32.50,2,     2.24,2,   2229.2,2,  4.2880
    09AR9391_2,  P11A,     9,  1,     10,    210,2,19930405,1910,-43.2565, 150.6625, 3200,   1398.6,   3.5860,  34.5310,2,  34.5300,2,   -999.0,5,    156.8,2,  -999.00,9,    34.10,2,     2.37,2,   2252.0,2,  3.4810
    09AR9391_2,  P11A,     9,  1,      9,    209,2,19930405,1910,-43.2565, 150.6625, 3200,   1596.6,   2.9600,  34.5570,2,  34.5560,2,   -999.0,5,    160.3,2,  -999.00,9,    34.80,2,     2.44,2,   2257.5,2,  2.8450
    09AR9391_2,  P11A,     9,  1,      8,    208,2,19930405,1910,-43.2565, 150.6625, 3200,   1797.4,   2.5610,  34.6230,2,  34.6230,2,   -999.0,5,    164.2,2,    78.30,2,    34.00,2,     2.36,2,   2259.1,2,  2.4340
    09AR9391_2,  P11A,     9,  1,      7,    207,2,19930405,1910,-43.2565, 150.6625, 3200,   1998.7,   2.3850,  34.6730,2,  34.6730,2,   -999.0,5,    169.8,2,    82.60,2,    33.50,2,     2.37,2,   2257.5,2,  2.2430
    09AR9391_2,  P11A,     9,  1,      6,    206,2,19930405,1910,-43.2565, 150.6625, 3200,   2197.2,   2.2450,  34.7090,2,  34.7090,2,   -999.0,5,    174.4,2,    83.80,2,    32.40,2,     2.27,2,   2258.1,2,  2.0880
    09AR9391_2,  P11A,     9,  1,      5,    205,2,19930405,1910,-43.2565, 150.6625, 3200,   2398.6,   2.0600,  34.7340,2,  34.7330,2,   -999.0,5,    179.5,2,    88.30,2,    32.00,2,     2.24,2,   2258.0,2,  1.8880
    09AR9391_2,  P11A,     9,  1,      4,    204,2,19930405,1910,-43.2565, 150.6625, 3200,   2601.0,   1.9320,  34.7420,2,  34.7420,2,   -999.0,5,    182.3,2,    93.20,2,    31.90,2,     2.22,2,   2257.7,2,  1.7440
    09AR9391_2,  P11A,     9,  1,      3,    203,2,19930405,1910,-43.2565, 150.6625, 3200,   2802.6,   1.8020,  34.7440,2,  34.7450,2,   -999.0,5,    185.6,2,    97.10,2,    31.90,2,     2.22,2,   2259.8,2,  1.5980
    09AR9391_2,  P11A,     9,  1,      2,    202,2,19930405,1910,-43.2565, 150.6625, 3200,   3102.7,   1.5710,  34.7410,2,  34.7430,2,   -999.0,5,    188.0,2,   105.30,2,    32.20,2,     2.25,2,   2264.8,2,  1.3430
    09AR9391_2,  P11A,     9,  1,      1,    201,2,19930405,1910,-43.2565, 150.6625, 3200,   3234.7,   1.4440,  34.7370,2,  34.7390,2,   -999.0,5,    191.3,2,   107.40,2,    32.30,2,     2.27,2,   2261.3,2,  1.2060
    09AR9391_2,  P11A,    10,  1,     24,    224,2,19930406,0116,-43.2487, 151.3270, 4030,      8.4,  15.1060,  34.9680,2,  34.9680,2,   -999.0,5,    244.8,2,     0.50,2,  -999.00,5,     0.32,2,   -999.0,9, 15.1080
    09AR9391_2,  P11A,    10,  1,     23,    223,2,19930406,0116,-43.2487, 151.3270, 4030,     18.6,  15.1120,  34.9700,2,  34.9690,2,   -999.0,5,    244.9,2,     0.60,2,  -999.00,5,     0.31,2,   -999.0,9, 15.1130
    09AR9391_2,  P11A,    10,  1,     22,    222,2,19930406,0116,-43.2487, 151.3270, 4030,     48.2,  15.0290,  34.9590,4,  34.9490,2,   -999.0,5,    243.4,2,     0.80,2,  -999.00,5,     0.32,2,   -999.0,9, 15.0250
    09AR9391_2,  P11A,    10,  1,     21,    221,2,19930406,0116,-43.2487, 151.3270, 4030,     99.1,  12.7190,  35.1190,3,  35.1180,2,   -999.0,5,    220.4,2,     2.30,2,  -999.00,5,     0.67,2,   -999.0,9, 12.7090
    09AR9391_2,  P11A,    10,  1,     20,    220,2,19930406,0116,-43.2487, 151.3270, 4030,    147.3,  11.3580,  35.0240,3,  35.0260,2,   -999.0,5,    225.4,2,     3.40,2,  -999.00,5,     0.82,2,   -999.0,9, 11.3420
    09AR9391_2,  P11A,    10,  1,     19,    319,2,19930406,0116,-43.2487, 151.3270, 4030,    196.9,  10.6500,  34.9170,3,  34.9190,2,   -999.0,5,    238.4,2,     3.30,2,  -999.00,5,     0.86,2,   -999.0,9, 10.6290
    09AR9391_2,  P11A,    10,  1,     18,    218,2,19930406,0116,-43.2487, 151.3270, 4030,    296.8,   9.9450,  34.8020,2,  34.8040,2,   -999.0,5,    248.8,2,     3.20,2,  -999.00,5,     0.92,2,   -999.0,9,  9.9130
    09AR9391_2,  P11A,    10,  1,     17,    217,2,19930406,0116,-43.2487, 151.3270, 4030,    398.0,   9.2030,  34.6690,2,  34.6700,2,   -999.0,5,    248.6,2,     3.60,2,  -999.00,5,     1.03,2,   -999.0,9,  9.1610
    09AR9391_2,  P11A,    10,  1,     16,    216,2,19930406,0116,-43.2487, 151.3270, 4030,    497.1,   8.7930,  34.6010,2,  34.6030,2,   -999.0,5,    252.9,2,     3.70,2,  -999.00,5,     1.09,2,   -999.0,9,  8.7410
    09AR9391_2,  P11A,    10,  1,     15,    215,2,19930406,0116,-43.2487, 151.3270, 4030,    695.9,   7.8870,  34.5360,2,  34.5370,2,   -999.0,5,    205.4,2,    10.50,2,  -999.00,5,     1.50,2,   -999.0,9,  7.8170
    09AR9391_2,  P11A,    10,  1,     14,    214,2,19930406,0116,-43.2487, 151.3270, 4030,    894.5,   6.4060,  34.4540,2,  34.4560,2,   -999.0,5,    188.4,2,    20.90,2,  -999.00,5,     1.85,2,   -999.0,9,  6.3240
    09AR9391_2,  P11A,    10,  1,     13,    213,2,19930406,0116,-43.2487, 151.3270, 4030,   1097.2,   4.6130,  34.4080,2,  34.4080,2,   -999.0,5,    185.9,2,    36.60,2,  -999.00,5,     2.05,2,   -999.0,9,  4.5250
    09AR9391_2,  P11A,    10,  1,     12,    212,2,19930406,0116,-43.2487, 151.3270, 4030,   1297.1,   3.7500,  34.4620,2,  34.4580,2,   -999.0,5,    171.8,2,    54.10,2,  -999.00,5,  -999.00,5,   -999.0,9,  3.6520
    09AR9391_2,  P11A,    10,  1,     11,    211,2,19930406,0116,-43.2487, 151.3270, 4030,   1495.8,   3.2540,  34.5560,2,  34.5550,2,   -999.0,5,    154.2,2,    75.80,2,  -999.00,5,     2.39,2,   -999.0,9,  3.1440
    09AR9391_2,  P11A,    10,  1,     10,    210,2,19930406,0116,-43.2487, 151.3270, 4030,   1597.9,   2.9190,  34.5730,2,  34.5720,2,   -999.0,5,    156.8,2,    77.10,2,  -999.00,5,     2.40,2,   -999.0,9,  2.8050
    09AR9391_2,  P11A,    10,  1,      9,    209,2,19930406,0116,-43.2487, 151.3270, 4030,   1799.2,   2.6080,  34.6270,2,  34.6250,2,   -999.0,5,    157.8,2,    83.40,3,  -999.00,5,     2.39,2,   -999.0,9,  2.4800
    09AR9391_2,  P11A,    10,  1,      8,    208,2,19930406,0116,-43.2487, 151.3270, 4030,   1996.1,   2.3970,  34.6660,2,  34.6640,2,   -999.0,5,    165.9,2,    80.80,2,  -999.00,5,     2.32,2,   -999.0,9,  2.2550
    09AR9391_2,  P11A,    10,  1,      7,    207,2,19930406,0116,-43.2487, 151.3270, 4030,   2298.5,   2.1630,  34.7200,2,  34.7180,2,   -999.0,5,    177.6,2,    81.90,2,  -999.00,5,     2.21,2,   -999.0,9,  1.9980
    09AR9391_2,  P11A,    10,  1,      6,    206,2,19930406,0116,-43.2487, 151.3270, 4030,   2601.5,   1.9350,  34.7390,2,  34.7380,2,   -999.0,5,    183.0,2,    88.20,2,  -999.00,5,     2.19,2,   -999.0,9,  1.7470
    09AR9391_2,  P11A,    10,  1,      5,    205,2,19930406,0116,-43.2487, 151.3270, 4030,   2901.3,   1.7000,  34.7390,2,  34.7400,2,   -999.0,5,    187.1,2,    96.30,2,  -999.00,5,     2.19,2,   -999.0,9,  1.4880
    09AR9391_2,  P11A,    10,  1,      4,    204,2,19930406,0116,-43.2487, 151.3270, 4030,   3203.5,   1.5160,  34.7350,2,  34.7360,2,   -999.0,5,    189.5,2,   101.90,2,  -999.00,5,     2.20,2,   -999.0,9,  1.2790
    09AR9391_2,  P11A,    10,  1,      3,    203,2,19930406,0116,-43.2487, 151.3270, 4030,   3505.6,   1.3280,  34.7290,2,  34.7310,2,   -999.0,5,    196.0,2,   104.70,2,  -999.00,5,     2.23,2,   -999.0,9,  1.0660
    09AR9391_2,  P11A,    10,  1,      2,    202,2,19930406,0116,-43.2487, 151.3270, 4030,   3808.3,   1.0960,  34.7200,2,  34.7210,2,   -999.0,5,    197.8,2,   110.20,2,  -999.00,5,     2.25,2,   -999.0,9,  0.8090
    09AR9391_2,  P11A,    10,  1,      1,    201,2,19930406,0116,-43.2487, 151.3270, 4030,   4043.3,   0.9420,  34.7140,2,  34.7130,2,   -999.0,5,    199.6,2,   109.70,2,  -999.00,5,     2.24,2,   -999.0,9,  0.6340
    09AR9391_2,  P11A,    11,  1,     24,    224,2,19930406,0828,-43.2483, 152.0608, 4490,      9.1,  15.3750,  34.9860,2,  34.9860,2,   -999.0,5,    242.5,2,     0.70,2,     1.30,2,     0.28,2,   2041.6,2, 15.3770
    09AR9391_2,  P11A,    11,  1,     23,    223,2,19930406,0828,-43.2483, 152.0608, 4490,     19.6,  15.3760,  34.9870,2,  34.9870,2,   -999.0,5,    240.8,2,     0.80,2,     1.30,2,     0.27,2,   2041.3,2, 15.3770
    09AR9391_2,  P11A,    11,  1,     22,    222,2,19930406,0828,-43.2483, 152.0608, 4490,     49.4,  15.3830,  34.9860,2,  34.9870,2,   -999.0,5,    240.8,2,     0.70,2,     1.30,2,     0.27,2,   2039.7,2, 15.3790
    09AR9391_2,  P11A,    11,  1,     21,    221,2,19930406,0828,-43.2483, 152.0608, 4490,     98.8,  12.1960,  35.1500,4,  35.1480,2,   -999.0,5,    218.9,2,     3.00,2,    10.50,2,     0.70,2,   2101.0,2, 12.1860
    09AR9391_2,  P11A,    11,  1,     20,    220,2,19930406,0828,-43.2483, 152.0608, 4490,    147.5,  11.2240,  35.0040,4,  35.0040,2,   -999.0,5,    227.7,2,     4.60,2,    12.00,2,     0.82,2,   2106.4,2, 11.2080
    09AR9391_2,  P11A,    11,  1,     19,    319,2,19930406,0828,-43.2483, 152.0608, 4490,    249.6,   9.9810,  34.8040,2,  34.8040,2,   -999.0,5,    233.1,2,     3.80,2,    14.30,2,     0.98,2,   2111.3,2,  9.9540
    09AR9391_2,  P11A,    11,  1,     18,    218,2,19930406,0828,-43.2483, 152.0608, 4490,    347.3,   9.1970,  34.6730,2,  34.6780,2,   -999.0,5,    237.4,2,     4.20,2,    16.10,2,     1.08,2,   2115.2,2,  9.1610
    09AR9391_2,  P11A,    11,  1,     17,    217,2,19930406,0828,-43.2483, 152.0608, 4490,    497.2,   8.5590,  34.5860,2,  34.5870,2,   -999.0,5,    228.6,2,     5.90,2,    19.10,2,     1.27,2,   2125.9,2,  8.5080
    09AR9391_2,  P11A,    11,  1,     16,    216,2,19930406,0828,-43.2483, 152.0608, 4490,    645.5,   7.7040,  34.5160,2,  34.5170,2,   -999.0,5,    205.0,2,    10.80,2,    23.30,2,     1.54,2,   2146.9,2,  7.6410
    09AR9391_2,  P11A,    11,  1,     15,    215,2,19930406,0828,-43.2483, 152.0608, 4490,    797.7,   6.6220,  34.4570,2,  34.4590,2,   -999.0,5,    193.1,2,    17.90,2,    27.00,2,     1.80,2,   2164.9,2,  6.5490
    09AR9391_2,  P11A,    11,  1,     14,    214,2,19930406,0828,-43.2483, 152.0608, 4490,    946.7,   5.2920,  34.3990,3,  34.3950,2,   -999.0,5,    192.6,2,    26.90,2,    30.10,2,     2.02,2,   2184.5,2,  5.2130
    09AR9391_2,  P11A,    11,  1,     13,    213,2,19930406,0828,-43.2483, 152.0608, 4490,   1097.2,   4.3490,  34.4040,2,  34.4030,2,   -999.0,5,    185.3,2,    38.50,2,    32.40,2,     2.20,2,   2205.9,2,  4.2630
    09AR9391_2,  P11A,    11,  1,     12,    212,2,19930406,0828,-43.2483, 152.0608, 4490,   1398.6,   3.3290,  34.5090,2,  34.5080,2,   -999.0,5,    161.1,2,    65.00,2,    35.00,2,  -999.00,5,   2247.1,2,  3.2270
    09AR9391_2,  P11A,    11,  1,     11,    211,2,19930406,0828,-43.2483, 152.0608, 4490,   1599.7,   2.8660,  34.5720,2,  34.5710,2,   -999.0,5,    157.2,2,    75.00,2,    35.30,2,     2.41,2,   2261.7,2,  2.7520
    09AR9391_2,  P11A,    11,  1,     10,    210,2,19930406,0828,-43.2483, 152.0608, 4490,   1799.1,   2.5580,  34.6270,2,  34.6260,2,   -999.0,5,    159.8,2,    78.20,2,    34.90,2,     2.40,2,   2262.5,2,  2.4310
    09AR9391_2,  P11A,    11,  1,      9,    209,2,19930406,0828,-43.2483, 152.0608, 4490,   1998.1,   2.3530,  34.6740,2,  34.6710,2,   -999.0,5,    165.5,2,    81.70,2,    34.20,2,     2.35,2,   2263.2,2,  2.2120
    09AR9391_2,  P11A,    11,  1,      8,    208,2,19930406,0828,-43.2483, 152.0608, 4490,   2300.7,   2.1530,  34.7150,2,  34.7150,2,   -999.0,5,    174.4,2,    82.90,2,    33.20,2,     2.28,2,   2259.1,2,  1.9880
    09AR9391_2,  P11A,    11,  1,      7,    207,2,19930406,0828,-43.2483, 152.0608, 4490,   2700.2,   1.8870,  34.7400,2,  34.7400,2,   -999.0,5,   -999.0,5,    88.70,2,    32.40,2,     2.23,2,   2257.6,2,  1.6900
    09AR9391_2,  P11A,    11,  1,      6,    206,2,19930406,0828,-43.2483, 152.0608, 4490,   3001.5,   1.6710,  34.7400,2,  34.7380,2,   -999.0,5,    186.5,2,    95.40,2,    32.50,2,     2.24,2,   2260.5,2,  1.4500
    09AR9391_2,  P11A,    11,  1,      5,    205,2,19930406,0828,-43.2483, 152.0608, 4490,   3302.1,   1.3970,  34.7330,2,  34.7340,2,   -999.0,5,    189.3,2,   100.00,2,    32.70,2,     2.25,2,   2262.1,2,  1.1530
    09AR9391_2,  P11A,    11,  1,      4,    204,2,19930406,0828,-43.2483, 152.0608, 4490,   3601.8,   1.1790,  34.7240,2,  34.7240,2,   -999.0,5,    195.1,2,   109.60,2,    33.10,2,     2.26,2,   2263.8,2,  0.9110
    09AR9391_2,  P11A,    11,  1,      3,    203,2,19930406,0828,-43.2483, 152.0608, 4490,   3903.8,   1.0330,  34.7180,2,  34.7170,2,   -999.0,5,    197.8,2,  -999.00,9,    33.30,2,     2.29,2,   2265.4,2,  0.7370
    09AR9391_2,  P11A,    11,  1,      2,    202,2,19930406,0828,-43.2483, 152.0608, 4490,   4206.7,   0.9790,  34.7130,2,  34.7130,2,   -999.0,5,    197.7,2,   111.70,2,    33.40,2,     2.29,2,   2261.5,2,  0.6530
    09AR9391_2,  P11A,    11,  1,      1,    201,2,19930406,0828,-43.2483, 152.0608, 4490,   4558.0,   0.9560,  34.7120,2,-999.0000,9,   -999.0,5,   -999.0,9,  -999.00,9,  -999.00,9,  -999.00,9,   -999.0,9,  0.5910