BOTTLE,20190618WHPSIOAMB
EXPOCODE,SECT_ID,STNNBR,CASTNO,SAMPNO,BTLNBR,BTLNBR_FLAG_W,DATE,TIME,LATITUDE,LONGITUDE,DEPTH,CTDPRS,CTDTMP,CTDSAL,CTDSAL_FLAG_W,SALNTY,SALNTY_FLAG_W,CTDOXY,CTDOXY_FLAG_W,OXYGEN,OXYGEN_FLAG_W,SILCAT,SILCAT_FLAG_W,NO2+NO3,NO2+NO3_FLAG_W,PHSPHT,PHSPHT_FLAG_W,TCARBN,TCARBN_FLAG_W,THETA
,,,,,,,,,,,,DBAR,ITS-90,PSS-78,,PSS-78,,UMOL/KG,,UMOL/KG,,UMOL/KG,,UMOL/KG,,UMOL/KG,,UMOL/KG,,ITS-90
    09AR9391_2,  P11A,    53,  1,     24,    224,2,19930425,2211,-63.4273, 150.6550, 3760,      8.1,   0.3890,  34.0350,2,  34.0330,2,   -999.0,5,    353.1,3,    34.10,2,    28.40,2,  -999.00,5,   2167.7,2,  0.3890
    09AR9391_2,  P11A,    53,  1,     23,    223,2,19930425,2211,-63.4273, 150.6550, 3760,     24.0,   0.3950,  34.0330,2,  34.0330,2,   -999.0,5,    352.1,3,    33.80,2,    28.40,2,     1.92,2,   2168.6,2,  0.3940
    09AR9391_2,  P11A,    53,  1,     22,    222,2,19930425,2211,-63.4273, 150.6550, 3760,     81.4,   0.3490,  34.3830,4,  34.3680,2,   -999.0,5,    242.8,2,    60.20,2,    32.70,2,     2.43,2,   2230.3,2,  0.3460
    09AR9391_2,  P11A,    53,  1,     21,    221,2,19930425,2211,-63.4273, 150.6550, 3760,    152.3,   1.7910,  34.6210,2,  34.6150,2,   -999.0,5,    170.2,2,    73.50,2,    34.20,2,     2.46,2,   2261.4,2,  1.7840
    09AR9391_2,  P11A,    53,  1,     20,    220,2,19930425,2211,-63.4273, 150.6550, 3760,    223.9,   1.8540,  34.6600,2,  34.6570,2,   -999.0,5,    171.4,2,    75.70,2,    33.20,2,     2.39,2,   2257.3,2,  1.8430
    09AR9391_2,  P11A,    53,  1,     19,    203,2,19930425,2211,-63.4273, 150.6550, 3760,    299.0,   1.8650,  34.6880,2,  34.6850,2,   -999.0,5,    176.3,2,    77.10,2,    33.30,3,     2.39,3,   2252.9,2,  1.8490
    09AR9391_2,  P11A,    53,  1,     18,    201,2,19930425,2211,-63.4273, 150.6550, 3760,    397.0,   1.8390,  34.7110,2,  34.7070,2,   -999.0,5,    180.9,2,    78.10,2,    32.40,2,     2.29,2,   2250.9,2,  1.8180
    09AR9391_2,  P11A,    53,  1,     17,    217,2,19930425,2211,-63.4273, 150.6550, 3760,    497.4,   1.8080,  34.7220,2,  34.7220,2,   -999.0,5,    183.8,2,    79.30,2,    32.20,2,     2.25,2,   2251.3,2,  1.7810
    09AR9391_2,  P11A,    53,  1,     16,    216,2,19930425,2211,-63.4273, 150.6550, 3760,    593.5,   1.7690,  34.7320,2,  34.7310,2,   -999.0,5,    185.1,2,    80.50,2,    31.50,2,     2.23,2,   2250.7,2,  1.7370
    09AR9391_2,  P11A,    53,  1,     15,    215,2,19930425,2211,-63.4273, 150.6550, 3760,    696.6,   1.7040,  34.7390,2,  34.7380,2,   -999.0,5,    189.5,2,    82.10,2,    30.70,2,     2.22,2,   2249.8,2,  1.6660
    09AR9391_2,  P11A,    53,  1,     14,    214,2,19930425,2211,-63.4273, 150.6550, 3760,    799.2,   1.6240,  34.7410,2,  34.7420,2,   -999.0,5,    189.5,2,    84.00,2,    31.20,2,     2.21,2,   2251.3,2,  1.5800
    09AR9391_2,  P11A,    53,  1,     13,    213,2,19930425,2211,-63.4273, 150.6550, 3760,    998.0,   1.4570,  34.7400,2,  34.7410,2,   -999.0,5,    190.9,3,    84.40,3,    31.20,3,     2.21,3,   2251.3,2,  1.4010
    09AR9391_2,  P11A,    53,  1,     12,    212,2,19930425,2211,-63.4273, 150.6550, 3760,   1092.6,   1.3800,  34.7390,2,  34.7390,2,   -999.0,5,    195.1,2,    89.90,2,    30.50,2,  -999.00,5,   2253.0,2,  1.3190
    09AR9391_2,  P11A,    53,  1,     11,    211,2,19930425,2211,-63.4273, 150.6550, 3760,   1099.6,   1.3700,  34.7400,2,  34.7390,2,   -999.0,5,    195.1,2,    90.10,2,    30.60,2,     2.19,2,   2252.9,2,  1.3080
    09AR9391_2,  P11A,    53,  1,     10,    210,2,19930425,2211,-63.4273, 150.6550, 3760,   1296.8,   1.2300,  34.7350,2,  34.7340,2,   -999.0,5,    197.3,2,    94.60,2,    30.60,2,     2.21,2,   -999.0,9,  1.1570
    09AR9391_2,  P11A,    53,  1,      9,    209,2,19930425,2211,-63.4273, 150.6550, 3760,   1696.8,   0.9180,  34.7200,2,  34.7200,2,   -999.0,5,    199.9,2,   103.40,2,    31.40,2,     2.26,2,   2257.4,2,  0.8200
    09AR9391_2,  P11A,    53,  1,      8,    208,2,19930425,2211,-63.4273, 150.6550, 3760,   1699.5,   0.9160,  34.7210,2,  34.7200,2,   -999.0,5,    200.6,2,   103.80,2,    31.40,2,     2.27,2,   2254.8,2,  0.8180
    09AR9391_2,  P11A,    53,  1,      7,    207,2,19930425,2211,-63.4273, 150.6550, 3760,   1901.6,   0.7750,  34.7130,2,  34.7120,2,   -999.0,5,    205.3,2,   107.30,2,    31.30,2,     2.29,2,   2259.6,2,  0.6650
    09AR9391_2,  P11A,    53,  1,      6,    206,2,19930425,2211,-63.4273, 150.6550, 3760,   2399.8,   0.4340,  34.6970,2,  34.6960,2,   -999.0,5,    208.7,2,   114.00,2,    31.80,2,     2.31,2,   -999.0,9,  0.2910
    09AR9391_2,  P11A,    53,  1,      5,    205,2,19930425,2211,-63.4273, 150.6550, 3760,   2704.2,   0.2650,  34.6900,2,  34.6890,2,   -999.0,5,    215.5,2,   115.70,2,    31.90,2,     2.31,2,   2259.3,2,  0.1010
    09AR9391_2,  P11A,    53,  1,      4,    204,2,19930425,2211,-63.4273, 150.6550, 3760,   3001.6,   0.1420,  34.6870,2,  34.6870,2,   -999.0,5,    219.1,2,   117.20,2,    31.70,2,     2.31,2,   2255.8,2, -0.0450
    09AR9391_2,  P11A,    53,  1,      3,    319,2,19930425,2211,-63.4273, 150.6550, 3760,   3305.2,   0.0400,  34.6850,2,  34.6840,2,   -999.0,5,    223.6,2,   113.20,2,    31.60,2,     2.31,2,   2255.4,2, -0.1710
    09AR9391_2,  P11A,    53,  1,      2,    202,2,19930425,2211,-63.4273, 150.6550, 3760,   3605.3,  -0.0520,  34.6870,2,  34.6870,2,   -999.0,5,    227.2,2,   106.60,2,    31.60,2,     2.30,2,   2254.0,2, -0.2890
    09AR9391_2,  P11A,    53,  1,      1,    218,2,19930425,2211,-63.4273, 150.6550, 3760,   3770.6,  -0.0880,  34.6950,2,  34.6950,2,   -999.0,5,   -999.0,9,   103.50,2,    32.10,3,     2.30,2,   2252.9,2, -0.3390
    09AR9391_2,  P11A,    54,  1,     24,    224,2,19930426,0607,-64.0570, 150.0918, 3645,      9.5,  -0.4000,  34.1240,2,  34.1220,2,   -999.0,5,    313.1,2,    49.30,2,    30.50,2,  -999.00,5,   -999.0,9, -0.4000
    09AR9391_2,  P11A,    54,  1,     23,    223,2,19930426,0607,-64.0570, 150.0918, 3645,     28.2,  -0.3800,  34.1250,2,  34.1220,2,   -999.0,5,    311.8,2,    48.10,2,    30.30,2,     2.06,2,   -999.0,9, -0.3810
    09AR9391_2,  P11A,    54,  1,     22,    222,2,19930426,0607,-64.0570, 150.0918, 3645,     72.1,   0.9600,  34.4390,4,  34.4330,2,   -999.0,5,    214.6,2,    66.30,2,    33.50,2,     2.34,2,   -999.0,9,  0.9570
    09AR9391_2,  P11A,    54,  1,     21,    221,2,19930426,0607,-64.0570, 150.0918, 3645,    159.9,   1.7220,  34.6310,4,  34.6230,2,   -999.0,5,    175.3,2,    76.60,2,    34.60,2,     2.39,2,   -999.0,9,  1.7140
    09AR9391_2,  P11A,    54,  1,     20,    220,2,19930426,0607,-64.0570, 150.0918, 3645,    222.0,   1.7190,  34.6570,2,  34.6520,2,   -999.0,5,    177.3,2,    78.40,2,    33.90,2,     2.35,2,   -999.0,9,  1.7080
    09AR9391_2,  P11A,    54,  1,     19,    203,2,19930426,0607,-64.0570, 150.0918, 3645,    351.1,   1.7060,  34.6920,3,  34.6900,2,   -999.0,5,    182.8,2,    80.40,2,    32.90,2,     2.29,2,   -999.0,9,  1.6880
    09AR9391_2,  P11A,    54,  1,     18,    201,2,19930426,0607,-64.0570, 150.0918, 3645,    497.2,   1.6920,  34.7190,2,  34.7190,2,   -999.0,5,    187.3,2,    82.40,2,    30.90,2,     2.27,2,   -999.0,9,  1.6660
    09AR9391_2,  P11A,    54,  1,     17,    217,2,19930426,0607,-64.0570, 150.0918, 3645,    599.1,   1.6380,  34.7270,2,  34.7280,2,   -999.0,5,    189.2,2,    84.00,2,    30.90,2,     2.24,2,   -999.0,9,  1.6060
    09AR9391_2,  P11A,    54,  1,     16,    216,2,19930426,0607,-64.0570, 150.0918, 3645,    697.3,   1.5620,  34.7300,2,  34.7300,2,   -999.0,5,    190.9,2,    89.60,2,    30.90,2,     2.22,2,   -999.0,9,  1.5240
    09AR9391_2,  P11A,    54,  1,     15,    215,2,19930426,0607,-64.0570, 150.0918, 3645,    798.2,   1.4890,  34.7340,2,  34.7350,2,   -999.0,5,    192.8,2,    92.00,2,    30.40,2,     2.22,2,   -999.0,9,  1.4460
    09AR9391_2,  P11A,    54,  1,     14,    214,2,19930426,0607,-64.0570, 150.0918, 3645,    900.7,   1.4070,  34.7330,2,  34.7340,2,   -999.0,5,    194.4,2,    94.10,2,    31.00,2,     2.21,2,   -999.0,9,  1.3580
    09AR9391_2,  P11A,    54,  1,     13,    213,2,19930426,0607,-64.0570, 150.0918, 3645,   1000.3,   1.3450,  34.7340,2,  34.7340,2,   -999.0,5,    194.9,2,    93.80,2,    31.40,2,     2.20,2,   -999.0,9,  1.2900
    09AR9391_2,  P11A,    54,  1,     12,    212,2,19930426,0607,-64.0570, 150.0918, 3645,   1200.4,   1.1780,  34.7290,2,  34.7290,2,   -999.0,5,    198.3,2,   101.30,2,    31.80,2,  -999.00,5,   -999.0,9,  1.1120
    09AR9391_2,  P11A,    54,  1,     11,    211,2,19930426,0607,-64.0570, 150.0918, 3645,   1397.0,   1.0000,  34.7190,2,  34.7210,2,   -999.0,5,    200.2,2,   106.00,2,    32.10,2,     2.24,2,   -999.0,9,  0.9220
    09AR9391_2,  P11A,    54,  1,     10,    210,2,19930426,0607,-64.0570, 150.0918, 3645,   1399.7,   0.9990,  34.7200,2,  34.7210,2,   -999.0,5,    200.2,2,   105.50,2,    32.30,2,     2.24,2,   -999.0,9,  0.9210
    09AR9391_2,  P11A,    54,  1,      9,    209,2,19930426,0607,-64.0570, 150.0918, 3645,   1798.6,   0.7100,  34.7060,2,  34.7070,2,   -999.0,5,    204.1,2,   112.90,2,    31.90,2,     2.27,2,   -999.0,9,  0.6080
    09AR9391_2,  P11A,    54,  1,      8,    208,2,19930426,0607,-64.0570, 150.0918, 3645,   1804.2,   0.7070,  34.7050,2,  34.7090,3,   -999.0,5,    203.8,2,  -999.00,5,  -999.00,5,  -999.00,5,   -999.0,9,  0.6050
    09AR9391_2,  P11A,    54,  1,      7,    207,2,19930426,0607,-64.0570, 150.0918, 3645,   2301.8,   0.3390,  34.6900,2,  34.6910,2,   -999.0,5,    213.1,2,   119.00,2,  -999.00,5,  -999.00,5,   -999.0,9,  0.2050
    09AR9391_2,  P11A,    54,  1,      6,    206,2,19930426,0607,-64.0570, 150.0918, 3645,   2601.4,   0.2130,  34.6860,2,  34.6870,2,   -999.0,5,    216.5,2,   119.00,2,    31.40,2,     2.30,2,   -999.0,9,  0.0580
    09AR9391_2,  P11A,    54,  1,      5,    205,2,19930426,0607,-64.0570, 150.0918, 3645,   2904.3,   0.1040,  34.6840,2,  34.6880,3,   -999.0,5,   -999.0,5,   119.00,2,    31.60,2,     2.30,2,   -999.0,9, -0.0740
    09AR9391_2,  P11A,    54,  1,      4,    204,2,19930426,0607,-64.0570, 150.0918, 3645,   3103.2,   0.0430,  34.6840,2,  34.6850,2,   -999.0,5,    223.0,2,   116.20,2,    31.30,2,     2.30,2,   -999.0,9, -0.1500
    09AR9391_2,  P11A,    54,  1,      3,    319,2,19930426,0607,-64.0570, 150.0918, 3645,   3354.4,  -0.0370,  34.6850,2,  34.6880,2,   -999.0,5,    225.5,2,   110.70,2,    32.10,3,     2.28,3,   -999.0,9, -0.2510
    09AR9391_2,  P11A,    54,  1,      2,    202,2,19930426,0607,-64.0570, 150.0918, 3645,   3506.8,  -0.0800,  34.6900,2,  34.6920,2,   -999.0,5,    226.8,2,   106.50,2,    31.70,2,     2.29,2,   -999.0,9, -0.3070
    09AR9391_2,  P11A,    54,  1,      1,    218,2,19930426,0607,-64.0570, 150.0918, 3645,   3649.3,  -0.1110,  34.7010,2,  34.7020,2,   -999.0,5,    227.5,2,   107.50,2,    31.80,2,     2.29,2,   -999.0,9, -0.3500
    09AR9391_2,  P11A,    55,  1,     24,    224,2,19930426,1707,-64.5497, 149.6370, 3480,     10.7,  -1.4780,  33.8320,3,  33.8330,2,   -999.0,5,    318.7,2,    53.60,2,    30.00,2,  -999.00,5,   2165.4,2, -1.4790
    09AR9391_2,  P11A,    55,  1,     23,    223,2,19930426,1707,-64.5497, 149.6370, 3480,     24.9,  -1.4800,  33.8320,2,  33.8340,2,   -999.0,5,    317.5,2,    48.50,2,    29.20,2,     1.97,2,   2167.2,2, -1.4810
    09AR9391_2,  P11A,    55,  1,     22,    222,2,19930426,1707,-64.5497, 149.6370, 3480,     51.7,  -1.2600,  33.8570,4,  33.8650,2,   -999.0,5,    310.6,2,    49.00,2,    30.30,2,     2.01,2,   2170.4,2, -1.2620
    09AR9391_2,  P11A,    55,  1,     21,    221,2,19930426,1707,-64.5497, 149.6370, 3480,    101.7,   1.6680,  34.5730,3,  34.5760,2,   -999.0,5,    177.0,2,    76.50,2,    35.70,2,     2.43,2,   2258.6,2,  1.6630
    09AR9391_2,  P11A,    55,  1,     20,    220,2,19930426,1707,-64.5497, 149.6370, 3480,    149.2,   1.7910,  34.6200,2,  34.6240,2,   -999.0,5,    171.7,2,    78.80,2,    34.90,2,     2.40,2,   2259.7,2,  1.7840
    09AR9391_2,  P11A,    55,  1,     19,    203,2,19930426,1707,-64.5497, 149.6370, 3480,    200.6,   1.8130,  34.6470,4,  34.6490,2,   -999.0,5,    172.7,2,    82.60,2,    35.30,2,     2.41,2,   2258.6,2,  1.8030
    09AR9391_2,  P11A,    55,  1,     18,    201,2,19930426,1707,-64.5497, 149.6370, 3480,    299.4,   1.8320,  34.6860,2,  34.6840,2,   -999.0,5,    178.3,2,    83.60,2,    35.10,2,     2.29,2,   2257.4,2,  1.8170
    09AR9391_2,  P11A,    55,  1,     17,    217,2,19930426,1707,-64.5497, 149.6370, 3480,    399.0,   1.7960,  34.7060,4,  34.7090,2,   -999.0,5,    183.1,2,    84.70,2,    32.40,3,     2.26,2,   2254.2,2,  1.7750
    09AR9391_2,  P11A,    55,  1,     16,    216,2,19930426,1707,-64.5497, 149.6370, 3480,    498.9,   1.7670,  34.7220,2,  34.7250,2,   -999.0,5,    184.4,2,    86.20,2,    33.70,2,     2.23,2,   2249.9,2,  1.7400
    09AR9391_2,  P11A,    55,  1,     15,    215,2,19930426,1707,-64.5497, 149.6370, 3480,    600.5,   1.7030,  34.7310,4,  34.7340,2,   -999.0,5,    187.3,2,    87.20,2,    33.10,2,     2.20,2,   2248.5,2,  1.6710
    09AR9391_2,  P11A,    55,  1,     14,    214,2,19930426,1707,-64.5497, 149.6370, 3480,    701.3,   1.6050,  34.7360,2,  34.7400,2,   -999.0,5,    189.9,2,    89.50,2,    31.60,2,     2.24,2,   2252.1,2,  1.5670
    09AR9391_2,  P11A,    55,  1,     13,    213,2,19930426,1707,-64.5497, 149.6370, 3480,    799.8,   1.5290,  34.7380,4,  34.7420,2,   -999.0,5,    192.4,2,    91.50,2,    31.20,2,     2.21,2,   2251.1,2,  1.4850
    09AR9391_2,  P11A,    55,  1,     12,    212,2,19930426,1707,-64.5497, 149.6370, 3480,    998.0,   1.3490,  34.7380,4,  34.7370,2,   -999.0,5,    196.0,2,    96.10,2,    31.10,2,  -999.00,5,   2251.9,2,  1.2940
    09AR9391_2,  P11A,    55,  1,     11,    211,2,19930426,1707,-64.5497, 149.6370, 3480,    999.2,   1.3490,  34.7380,2,  34.7380,2,   -999.0,5,    196.3,2,    96.00,2,    30.90,2,     2.20,2,   2251.0,2,  1.2940
    09AR9391_2,  P11A,    55,  1,     10,    210,2,19930426,1707,-64.5497, 149.6370, 3480,   1399.6,   1.0120,  34.7270,4,  34.7240,2,   -999.0,5,    200.2,2,   105.40,2,    31.70,2,     2.23,2,   2256.9,2,  0.9340
    09AR9391_2,  P11A,    55,  1,      8,    208,2,19930426,1707,-64.5497, 149.6370, 3480,   1599.0,   0.8720,  34.7200,2,  34.7180,2,   -999.0,5,    202.6,2,   109.10,2,    32.90,2,     2.28,2,   2257.5,2,  0.7820
    09AR9391_2,  P11A,    55,  1,      9,    209,2,19930426,1707,-64.5497, 149.6370, 3480,   1600.1,   0.8710,  34.7200,2,  34.7180,2,   -999.0,5,    201.9,2,   108.30,2,    31.40,2,     2.24,2,   2256.1,2,  0.7810
    09AR9391_2,  P11A,    55,  1,      7,    207,3,19930426,1707,-64.5497, 149.6370, 3480,   2099.8,   0.4140,  34.6990,4,  34.6910,4,   -999.0,5,    211.6,2,   114.50,2,    32.40,2,     2.31,2,   2256.7,2,  0.2940
    09AR9391_2,  P11A,    55,  1,      6,    206,2,19930426,1707,-64.5497, 149.6370, 3480,   2401.4,   0.2450,  34.6990,4,  34.6850,2,   -999.0,5,    214.8,2,   116.30,2,    33.70,2,     2.33,2,   2256.5,2,  0.1050
    09AR9391_2,  P11A,    55,  1,      5,    205,2,19930426,1707,-64.5497, 149.6370, 3480,   2701.6,   0.1150,  34.6980,4,  34.6870,2,   -999.0,5,   -999.0,5,  -999.00,5,  -999.00,5,  -999.00,5,   2256.3,2, -0.0460
    09AR9391_2,  P11A,    55,  1,      4,    204,2,19930426,1707,-64.5497, 149.6370, 3480,   3005.9,  -0.0210,  34.6960,2,  34.6840,2,   -999.0,5,    224.2,2,   115.10,2,    33.20,2,     2.30,2,   2253.5,2, -0.2050
    09AR9391_2,  P11A,    55,  1,      3,    319,2,19930426,1707,-64.5497, 149.6370, 3480,   3205.7,  -0.0620,  34.7040,4,  34.6890,2,   -999.0,5,    226.8,2,  -999.00,5,  -999.00,5,  -999.00,5,   2254.6,2, -0.2620
    09AR9391_2,  P11A,    55,  1,      2,    202,2,19930426,1707,-64.5497, 149.6370, 3480,   3315.9,  -0.0920,  34.7090,4,  34.6930,2,   -999.0,5,    228.6,2,   111.40,2,    34.40,2,     2.31,2,   2252.2,2, -0.3010
    09AR9391_2,  P11A,    55,  1,      1,    218,2,19930426,1707,-64.5497, 149.6370, 3480,   3505.0,  -0.1270,  34.7190,4,  34.7020,2,   -999.0,5,    228.4,2,   106.80,2,    34.10,2,     2.29,2,   2253.8,2, -0.3520