BOTTLE,20190618WHPSIOAMB
EXPOCODE,SECT_ID,STNNBR,CASTNO,SAMPNO,BTLNBR,BTLNBR_FLAG_W,DATE,TIME,LATITUDE,LONGITUDE,DEPTH,CTDPRS,CTDTMP,CTDSAL,CTDSAL_FLAG_W,SALNTY,SALNTY_FLAG_W,CTDOXY,CTDOXY_FLAG_W,OXYGEN,OXYGEN_FLAG_W,SILCAT,SILCAT_FLAG_W,NO2+NO3,NO2+NO3_FLAG_W,PHSPHT,PHSPHT_FLAG_W,TCARBN,TCARBN_FLAG_W,THETA
,,,,,,,,,,,,DBAR,ITS-90,PSS-78,,PSS-78,,UMOL/KG,,UMOL/KG,,UMOL/KG,,UMOL/KG,,UMOL/KG,,UMOL/KG,,ITS-90
    09AR9391_2,  P11A,    18,  1,     24,    224,2,19930410,0243,-44.7360, 155.0053, 4875,      8.5,  13.6780,  34.8190,2,  34.8210,2,   -999.0,5,    249.7,2,     0.60,2,     3.50,2,  -999.00,5,   -999.0,9, 13.6800
    09AR9391_2,  P11A,    18,  1,     23,    223,2,19930410,0243,-44.7360, 155.0053, 4875,     18.5,  13.6820,  34.8230,2,  34.8210,2,   -999.0,5,    250.3,2,     0.60,2,     3.50,2,     0.52,2,   -999.0,9, 13.6830
    09AR9391_2,  P11A,    18,  1,     22,    222,2,19930410,0243,-44.7360, 155.0053, 4875,     49.9,  13.6750,  34.8350,2,  34.8350,2,   -999.0,5,    250.7,2,     0.50,2,     3.30,2,     0.51,2,   -999.0,9, 13.6710
    09AR9391_2,  P11A,    18,  1,     21,    221,2,19930410,0243,-44.7360, 155.0053, 4875,     98.1,  12.3550,  35.1400,3,  35.1410,2,   -999.0,5,    248.6,2,     3.20,2,    10.50,2,     0.86,2,   -999.0,9, 12.3450
    09AR9391_2,  P11A,    18,  1,     20,    220,2,19930410,0243,-44.7360, 155.0053, 4875,    149.5,  11.0720,  34.9840,3,  34.9830,2,   -999.0,5,    214.6,2,     3.70,2,    12.00,2,     0.97,2,   -999.0,9, 11.0560
    09AR9391_2,  P11A,    18,  1,     19,    319,2,19930410,0243,-44.7360, 155.0053, 4875,    197.4,  10.3950,  34.8770,3,  34.8770,2,   -999.0,5,    227.3,2,     3.50,2,    12.40,2,     1.03,2,   -999.0,9, 10.3740
    09AR9391_2,  P11A,    18,  1,     18,    201,2,19930410,0243,-44.7360, 155.0053, 4875,    297.7,   9.6290,  34.7470,2,  34.7490,2,   -999.0,5,    239.9,2,     3.60,2,    13.80,2,     1.11,2,   -999.0,9,  9.5970
    09AR9391_2,  P11A,    18,  1,     17,    217,2,19930410,0243,-44.7360, 155.0053, 4875,    395.9,   9.0020,  34.6340,2,  34.6350,2,   -999.0,5,    249.0,2,     3.90,2,    15.00,2,     1.21,2,   -999.0,9,  8.9610
    09AR9391_2,  P11A,    18,  1,     16,    216,2,19930410,0243,-44.7360, 155.0053, 4875,    495.9,   8.8050,  34.6070,4,  34.6110,2,   -999.0,5,    252.3,2,     4.50,2,    16.00,2,     1.26,2,   -999.0,9,  8.7530
    09AR9391_2,  P11A,    18,  1,     15,    215,2,19930410,0243,-44.7360, 155.0053, 4875,    597.5,   8.4760,  34.5730,2,  34.5730,2,   -999.0,5,    248.2,2,     6.40,2,    18.70,2,     1.42,2,   -999.0,9,  8.4140
    09AR9391_2,  P11A,    18,  1,     14,    214,2,19930410,0243,-44.7360, 155.0053, 4875,    796.1,   7.0610,  34.4870,2,  34.4900,2,   -999.0,5,    232.6,2,    16.40,2,    25.60,2,     1.85,2,   -999.0,9,  6.9850
    09AR9391_2,  P11A,    18,  1,     13,    213,2,19930410,0243,-44.7360, 155.0053, 4875,    997.4,   5.1890,  34.3860,2,  34.3870,2,   -999.0,5,    198.4,2,    27.20,2,    29.70,2,     2.13,2,   -999.0,9,  5.1060
    09AR9391_2,  P11A,    18,  1,     12,    212,2,19930410,0243,-44.7360, 155.0053, 4875,   1196.9,   4.1230,  34.4000,2,  34.4000,2,   -999.0,5,    188.5,2,    40.20,2,    33.30,2,  -999.00,5,   -999.0,9,  4.0310
    09AR9391_2,  P11A,    18,  1,     11,    211,2,19930410,0243,-44.7360, 155.0053, 4875,   1398.1,   3.3830,  34.4710,2,  34.4700,2,   -999.0,5,    171.9,2,    58.10,2,    34.00,2,     2.42,2,   -999.0,9,  3.2810
    09AR9391_2,  P11A,    18,  1,     10,    210,2,19930410,0243,-44.7360, 155.0053, 4875,   1596.4,   2.8950,  34.5370,2,  34.5370,2,   -999.0,5,    165.7,2,    68.80,2,    34.90,2,     2.48,2,   -999.0,9,  2.7810
    09AR9391_2,  P11A,    18,  1,      9,    209,2,19930410,0243,-44.7360, 155.0053, 4875,   1895.8,   2.5210,  34.6420,2,  34.6420,2,   -999.0,5,    161.9,2,    81.10,2,    33.70,2,     2.46,2,   -999.0,9,  2.3860
    09AR9391_2,  P11A,    18,  1,      8,    208,2,19930410,0243,-44.7360, 155.0053, 4875,   2098.9,   2.3300,  34.6850,2,  34.6840,2,   -999.0,5,    170.8,2,    81.80,2,    33.30,2,     2.41,2,   -999.0,9,  2.1800
    09AR9391_2,  P11A,    18,  1,      7,    207,2,19930410,0243,-44.7360, 155.0053, 4875,   2398.2,   2.1160,  34.7230,2,  34.7230,2,   -999.0,5,    178.8,2,    84.70,2,    32.40,2,     2.33,2,   -999.0,9,  1.9430
    09AR9391_2,  P11A,    18,  1,      6,    206,2,19930410,0243,-44.7360, 155.0053, 4875,   2801.8,   1.7960,  34.7390,2,  34.7410,2,   -999.0,5,    183.3,2,    95.50,2,    32.20,2,     2.33,2,   -999.0,9,  1.5920
    09AR9391_2,  P11A,    18,  1,      5,    205,3,19930410,0243,-44.7360, 155.0053, 4875,   3203.8,   1.5730,  34.7380,2,  34.6190,4,   -999.0,5,   -999.0,5,  -999.00,5,  -999.00,5,  -999.00,5,   -999.0,9,  1.3350
    09AR9391_2,  P11A,    18,  1,      4,    204,2,19930410,0243,-44.7360, 155.0053, 4875,   3605.4,   1.2940,  34.7300,2,  34.7320,2,   -999.0,5,    191.7,2,   108.60,2,    32.60,2,     2.35,2,   -999.0,9,  1.0220
    09AR9391_2,  P11A,    18,  1,      3,    203,2,19930410,0243,-44.7360, 155.0053, 4875,   4000.8,   1.1530,  34.7250,2,-999.0000,9,   -999.0,5,   -999.0,9,  -999.00,9,  -999.00,9,  -999.00,9,   -999.0,9,  0.8440
    09AR9391_2,  P11A,    18,  1,      2,    202,2,19930410,0243,-44.7360, 155.0053, 4875,   4499.9,   1.0420,  34.7170,2,  34.7200,2,   -999.0,5,    198.9,2,   116.00,2,    32.50,2,     2.36,2,   -999.0,9,  0.6810
    09AR9391_2,  P11A,    18,  1,      1,    218,2,19930410,0243,-44.7360, 155.0053, 4875,   4976.5,   1.0250,  34.7170,2,  34.7160,2,   -999.0,5,    200.3,2,   118.20,2,    33.20,2,     2.38,2,   -999.0,9,  0.6100
    09AR9391_2,  P11A,    19,  1,     24,    224,2,19930410,0955,-45.2415, 155.0045, 4760,      8.7,  13.2970,  34.7370,2,  34.7320,2,   -999.0,5,    253.4,2,     0.70,2,     5.10,2,  -999.00,5,   2050.7,2, 13.2990
    09AR9391_2,  P11A,    19,  1,     23,    223,2,19930410,0955,-45.2415, 155.0045, 4760,     19.5,  13.2880,  34.7370,2,  34.7320,2,   -999.0,5,    252.0,2,     0.70,2,     5.10,2,     0.53,2,   2049.9,2, 13.2880
    09AR9391_2,  P11A,    19,  1,     22,    222,2,19930410,0955,-45.2415, 155.0045, 4760,     47.7,  13.2210,  34.7320,2,  34.7270,2,   -999.0,5,    251.8,2,     0.60,2,     5.30,2,     0.54,2,   2050.8,2, 13.2180
    09AR9391_2,  P11A,    19,  1,     21,    221,2,19930410,0955,-45.2415, 155.0045, 4760,     98.6,  12.2320,  35.1410,4,  35.1480,2,   -999.0,5,    239.1,2,     3.20,2,    10.80,2,     0.79,2,   2100.2,2, 12.2220
    09AR9391_2,  P11A,    19,  1,     20,    220,2,19930410,0955,-45.2415, 155.0045, 4760,    149.9,  10.8540,  34.9520,3,  34.9570,2,   -999.0,5,    230.6,2,     3.70,2,    12.40,2,     0.91,2,   2103.5,2, 10.8380
    09AR9391_2,  P11A,    19,  1,     19,    319,2,19930410,0955,-45.2415, 155.0045, 4760,    200.5,  10.2030,  34.8470,2,  34.8510,2,   -999.0,5,    242.1,2,     3.40,2,    12.80,2,     0.96,2,   2101.9,2, 10.1820
    09AR9391_2,  P11A,    19,  1,     18,    201,2,19930410,0955,-45.2415, 155.0045, 4760,    297.0,   9.6140,  34.7440,3,  34.7490,2,   -999.0,5,    246.0,2,     3.70,2,    14.10,2,     1.05,2,   2106.4,2,  9.5830
    09AR9391_2,  P11A,    19,  1,     17,    217,2,19930410,0955,-45.2415, 155.0045, 4760,    399.1,   9.0970,  34.6590,2,  34.6570,2,   -999.0,5,    244.4,2,     4.20,2,    15.50,2,     1.15,2,   2112.7,2,  9.0550
    09AR9391_2,  P11A,    19,  1,     16,    216,2,19930410,0955,-45.2415, 155.0045, 4760,    498.3,   8.7490,  34.6050,2,  34.6040,2,   -999.0,5,    241.1,2,     4.80,2,    17.00,2,     1.25,2,   2116.5,2,  8.6970
    09AR9391_2,  P11A,    19,  1,     15,    215,2,19930410,0955,-45.2415, 155.0045, 4760,    599.2,   8.3150,  34.5670,2,  34.5670,2,   -999.0,5,    221.1,2,     7.80,2,    20.20,2,     1.45,2,   2131.4,2,  8.2540
    09AR9391_2,  P11A,    19,  1,     14,    214,2,19930410,0955,-45.2415, 155.0045, 4760,    797.1,   6.8000,  34.4800,3,  34.4790,2,   -999.0,5,    191.0,2,    18.10,2,    25.90,2,     1.84,2,   2164.9,2,  6.7260
    09AR9391_2,  P11A,    19,  1,     13,    213,3,19930410,0955,-45.2415, 155.0045, 4760,    999.6,   5.2290,  34.4100,2,  34.4320,4,   -999.0,5,    193.1,2,    24.10,2,    27.90,2,     1.98,2,   2177.2,2,  5.1450
    09AR9391_2,  P11A,    19,  1,     12,    212,2,19930410,0955,-45.2415, 155.0045, 4760,   1087.9,   4.5850,  34.3980,3,  34.3970,2,   -999.0,5,    189.1,2,    36.20,2,    30.40,2,  -999.00,5,   2199.6,2,  4.4980
    09AR9391_2,  P11A,    19,  1,     11,    211,2,19930410,0955,-45.2415, 155.0045, 4760,   1296.1,   3.6400,  34.4470,2,  34.4450,2,   -999.0,5,    176.3,2,    53.40,2,    32.60,2,     2.34,2,   2227.1,2,  3.5440
    09AR9391_2,  P11A,    19,  1,     10,    210,2,19930410,0955,-45.2415, 155.0045, 4760,   1597.1,   2.7410,  34.5390,2,  34.5360,2,   -999.0,5,    168.6,2,    66.50,2,    33.70,2,     2.42,2,   2247.0,2,  2.6290
    09AR9391_2,  P11A,    19,  1,      9,    209,2,19930410,0955,-45.2415, 155.0045, 4760,   1898.4,   2.4430,  34.6550,2,  34.6520,2,   -999.0,5,    170.1,2,    75.50,2,    32.80,2,     2.35,2,   2255.0,2,  2.3090
    09AR9391_2,  P11A,    19,  1,      8,    208,2,19930410,0955,-45.2415, 155.0045, 4760,   2098.4,   2.2780,  34.7000,2,  34.6970,2,   -999.0,5,    171.2,2,    81.70,2,    32.10,2,     2.31,2,   2256.5,2,  2.1290
    09AR9391_2,  P11A,    19,  1,      7,    207,2,19930410,0955,-45.2415, 155.0045, 4760,   2399.9,   2.0820,  34.7340,2,  34.7330,2,   -999.0,5,    181.1,2,    84.90,2,    31.70,2,     2.27,2,   2253.8,2,  1.9090
    09AR9391_2,  P11A,    19,  1,      6,    206,2,19930410,0955,-45.2415, 155.0045, 4760,   2801.9,   1.7950,  34.7410,2,  34.7400,2,   -999.0,5,    184.7,2,    95.30,2,    31.70,2,     2.28,2,   2261.1,2,  1.5910
    09AR9391_2,  P11A,    19,  1,      5,    205,3,19930410,0955,-45.2415, 155.0045, 4760,   3202.1,   1.5050,  34.7360,2,  34.7240,4,   -999.0,5,   -999.0,5,  -999.00,5,  -999.00,5,  -999.00,5,   -999.0,9,  1.2690
    09AR9391_2,  P11A,    19,  1,      4,    204,2,19930410,0955,-45.2415, 155.0045, 4760,   3603.3,   1.2160,  34.7270,2,  34.7250,2,   -999.0,5,    191.6,2,   108.80,2,    32.00,2,     2.33,2,   2268.7,2,  0.9470
    09AR9391_2,  P11A,    19,  1,      3,    203,3,19930410,0955,-45.2415, 155.0045, 4760,   4004.3,   1.0930,  34.7230,2,  34.6380,4,   -999.0,5,   -999.0,5,  -999.00,5,  -999.00,5,  -999.00,5,   -999.0,9,  0.7850
    09AR9391_2,  P11A,    19,  1,      2,    202,2,19930410,0955,-45.2415, 155.0045, 4760,   4506.3,   1.0180,  34.7180,2,  34.7170,2,   -999.0,5,    198.3,2,   114.70,2,    32.20,2,     2.30,2,   2267.3,2,  0.6570
    09AR9391_2,  P11A,    19,  1,      1,    218,2,19930410,0955,-45.2415, 155.0045, 4760,   4846.4,   1.0090,  34.7160,2,  34.7160,2,   -999.0,5,    201.9,2,   116.40,2,    32.10,2,     2.33,2,   2266.4,2,  0.6090
    09AR9391_2,  P11A,    20,  1,     24,    224,2,19930410,1646,-45.7435, 154.9953, 4810,      9.6,  13.1930,  34.6850,2,  34.6870,2,   -999.0,5,    253.6,2,     1.00,2,     5.30,2,  -999.00,5,   -999.0,9, 13.1950
    09AR9391_2,  P11A,    20,  1,     23,    223,2,19930410,1646,-45.7435, 154.9953, 4810,     48.4,  13.2010,  34.6880,2,  34.6880,2,   -999.0,5,    252.0,2,     0.70,2,     5.20,2,     0.51,2,   -999.0,9, 13.1970
    09AR9391_2,  P11A,    20,  1,     22,    222,2,19930410,1646,-45.7435, 154.9953, 4810,     73.4,  13.2040,  34.7110,3,  34.7100,2,   -999.0,5,    252.0,2,     0.70,2,     5.20,2,     0.52,2,   -999.0,9, 13.1970
    09AR9391_2,  P11A,    20,  1,     21,    221,2,19930410,1646,-45.7435, 154.9953, 4810,     97.8,  11.0540,  34.8100,4,  34.8270,2,   -999.0,5,    237.6,2,  -999.00,5,    12.10,2,  -999.00,5,   -999.0,9, 11.0450
    09AR9391_2,  P11A,    20,  1,     20,    220,2,19930410,1646,-45.7435, 154.9953, 4810,    199.2,   9.6130,  34.7410,2,  34.7410,2,   -999.0,5,    242.9,2,     2.80,2,  -999.00,5,     0.89,2,   -999.0,9,  9.5930
    09AR9391_2,  P11A,    20,  1,     19,    319,2,19930410,1646,-45.7435, 154.9953, 4810,    298.2,   9.0830,  34.6530,2,  34.6530,2,   -999.0,5,    248.0,2,     4.30,2,    14.50,2,     1.12,2,   -999.0,9,  9.0530
    09AR9391_2,  P11A,    20,  1,     18,    201,2,19930410,1646,-45.7435, 154.9953, 4810,    397.4,   8.7150,  34.5920,2,  34.5950,2,   -999.0,5,    247.6,2,     4.80,2,    16.50,2,     1.20,2,   -999.0,9,  8.6740
    09AR9391_2,  P11A,    20,  1,     17,    217,2,19930410,1646,-45.7435, 154.9953, 4810,    498.1,   8.3840,  34.5640,2,  34.5640,2,   -999.0,5,    230.0,2,     6.80,2,    19.10,2,     1.37,2,   -999.0,9,  8.3340
    09AR9391_2,  P11A,    20,  1,     16,    216,2,19930410,1646,-45.7435, 154.9953, 4810,    598.0,   7.8530,  34.5180,2,  34.5200,2,   -999.0,5,    214.3,2,    10.10,2,    21.90,2,     1.55,2,   -999.0,9,  7.7940
    09AR9391_2,  P11A,    20,  1,     15,    215,2,19930410,1646,-45.7435, 154.9953, 4810,    797.7,   6.2910,  34.4390,2,  34.4410,2,   -999.0,5,    194.0,2,    20.90,2,    27.20,2,     1.90,2,   -999.0,9,  6.2190
    09AR9391_2,  P11A,    20,  1,     14,    214,2,19930410,1646,-45.7435, 154.9953, 4810,    994.5,   4.8620,  34.4100,2,  34.4090,2,   -999.0,5,    188.7,2,    35.30,2,    30.40,2,     2.14,2,   -999.0,9,  4.7820
    09AR9391_2,  P11A,    20,  1,     13,    213,2,19930410,1646,-45.7435, 154.9953, 4810,   1198.2,   3.8380,  34.4320,2,-999.0000,9,   -999.0,5,   -999.0,9,  -999.00,9,  -999.00,9,  -999.00,9,   -999.0,9,  3.7480
    09AR9391_2,  P11A,    20,  1,     12,    212,2,19930410,1646,-45.7435, 154.9953, 4810,   1396.8,   3.0070,  34.4760,2,  34.4740,2,   -999.0,5,    174.0,2,    61.90,2,    33.90,2,  -999.00,5,   -999.0,9,  2.9090
    09AR9391_2,  P11A,    20,  1,     11,    211,2,19930410,1646,-45.7435, 154.9953, 4810,   1588.9,   2.6950,  34.5550,2,  34.5540,2,   -999.0,5,    167.6,2,    70.70,2,    33.90,2,     2.39,2,   -999.0,9,  2.5840
    09AR9391_2,  P11A,    20,  1,     10,    210,2,19930410,1646,-45.7435, 154.9953, 4810,   1797.9,   2.5140,  34.6270,2,  34.6270,2,   -999.0,5,    167.8,2,    77.40,2,    33.40,2,     2.35,2,   -999.0,9,  2.3880
    09AR9391_2,  P11A,    20,  1,      9,    209,2,19930410,1646,-45.7435, 154.9953, 4810,   1998.9,   2.3680,  34.6790,2,  34.6790,2,   -999.0,5,    171.4,2,    79.70,2,    32.40,2,     2.30,2,   -999.0,9,  2.2260
    09AR9391_2,  P11A,    20,  1,      8,    208,2,19930410,1646,-45.7435, 154.9953, 4810,   2401.9,   2.0990,  34.7320,2,  34.7330,2,   -999.0,5,    179.3,2,    86.50,2,    31.20,2,     2.24,2,   -999.0,9,  1.9260
    09AR9391_2,  P11A,    20,  1,      7,    207,2,19930410,1646,-45.7435, 154.9953, 4810,   2600.3,   1.9460,  34.7420,2,  34.7430,2,   -999.0,5,    185.3,2,    91.40,2,    31.10,2,     2.23,2,   -999.0,9,  1.7580
    09AR9391_2,  P11A,    20,  1,      6,    206,2,19930410,1646,-45.7435, 154.9953, 4810,   2800.8,   1.7890,  34.7430,2,  34.7440,2,   -999.0,5,    185.9,2,    95.70,2,    31.10,2,     2.22,2,   -999.0,9,  1.5850
    09AR9391_2,  P11A,    20,  1,      5,    205,3,19930410,1646,-45.7435, 154.9953, 4810,   3199.9,   1.5300,  34.7380,2,  34.7240,4,   -999.0,5,   -999.0,5,  -999.00,5,  -999.00,5,  -999.00,5,   -999.0,9,  1.2930
    09AR9391_2,  P11A,    20,  1,      4,    204,2,19930410,1646,-45.7435, 154.9953, 4810,   3602.8,   1.2310,  34.7270,2,  34.7280,2,   -999.0,5,    195.0,2,   110.60,2,    31.80,2,     2.27,2,   -999.0,9,  0.9610
    09AR9391_2,  P11A,    20,  1,      3,    203,3,19930410,1646,-45.7435, 154.9953, 4810,   4003.8,   1.0670,  34.7190,2,  34.6040,4,   -999.0,5,   -999.0,9,  -999.00,5,  -999.00,5,  -999.00,5,   -999.0,9,  0.7600
    09AR9391_2,  P11A,    20,  1,      2,    202,2,19930410,1646,-45.7435, 154.9953, 4810,   4502.8,   0.9760,  34.7130,2,  34.7150,2,   -999.0,5,    201.6,2,   118.30,2,    32.00,2,     2.26,2,   -999.0,9,  0.6170
    09AR9391_2,  P11A,    20,  1,      1,    218,2,19930410,1646,-45.7435, 154.9953, 4810,   4889.1,   0.9750,  34.7120,2,  34.7140,2,   -999.0,5,    201.4,2,   119.60,2,    32.00,2,     2.30,2,   -999.0,9,  0.5720
    09AR9391_2,  P11A,    21,  1,     17,    217,2,19930410,2346,-46.2542, 154.9985, 4550,      9.4,  13.0410,  34.7060,2,  34.7050,2,   -999.0,5,    253.9,2,  -999.00,9,     5.40,2,  -999.00,5,   -999.0,9, 13.0430
    09AR9391_2,  P11A,    21,  1,     16,    216,2,19930410,2346,-46.2542, 154.9985, 4550,     47.5,  13.0200,  34.7050,2,  34.7040,2,   -999.0,5,    253.1,2,  -999.00,9,     5.50,2,     0.45,2,   -999.0,9, 13.0170
    09AR9391_2,  P11A,    21,  1,     15,    215,2,19930410,2346,-46.2542, 154.9985, 4550,     74.0,  12.1060,  34.7740,3,  34.7720,2,   -999.0,5,    242.5,2,     1.40,2,     9.50,2,     0.64,2,   -999.0,9, 12.0990
    09AR9391_2,  P11A,    21,  1,     14,    214,2,19930410,2346,-46.2542, 154.9985, 4550,     98.8,  11.2980,  34.8830,3,  34.8810,2,   -999.0,5,    235.5,2,     2.50,2,    11.80,2,     0.78,2,   -999.0,9, 11.2880
    09AR9391_2,  P11A,    21,  1,     13,    213,2,19930410,2346,-46.2542, 154.9985, 4550,    146.7,  10.1520,  34.8250,4,  34.8230,2,   -999.0,5,    241.2,2,     3.30,2,    13.40,2,     0.87,2,   -999.0,9, 10.1370
    09AR9391_2,  P11A,    21,  1,     12,    212,2,19930410,2346,-46.2542, 154.9985, 4550,    247.8,   9.2470,  34.6770,2,  34.6800,2,   -999.0,5,    252.4,2,     3.60,2,    14.60,2,  -999.00,5,   -999.0,9,  9.2220
    09AR9391_2,  P11A,    21,  1,     11,    211,2,19930410,2346,-46.2542, 154.9985, 4550,    398.4,   8.7210,  34.5960,3,  34.6000,2,   -999.0,5,    249.8,2,     4.10,2,    16.30,2,     1.07,2,   -999.0,9,  8.6800
    09AR9391_2,  P11A,    21,  1,     10,    210,2,19930410,2346,-46.2542, 154.9985, 4550,    498.5,   8.4670,  34.5650,2,  34.5660,2,   -999.0,5,    242.9,2,     5.90,2,    17.90,2,     1.16,2,   -999.0,9,  8.4160
    09AR9391_2,  P11A,    21,  1,      9,    209,2,19930410,2346,-46.2542, 154.9985, 4550,    597.2,   8.0850,  34.5320,2,  34.5320,2,   -999.0,5,    224.7,2,     8.50,2,    20.70,2,     1.36,2,   -999.0,9,  8.0250
    09AR9391_2,  P11A,    21,  1,      8,    208,2,19930410,2346,-46.2542, 154.9985, 4550,    798.3,   6.6480,  34.4550,3,  34.4580,2,   -999.0,5,    196.9,2,    17.30,2,    26.20,2,     1.70,2,   -999.0,9,  6.5740
    09AR9391_2,  P11A,    21,  1,      7,    207,2,19930410,2346,-46.2542, 154.9985, 4550,    997.4,   4.9880,  34.3850,2,  34.3840,2,   -999.0,5,    196.8,2,    29.20,2,    30.00,2,     2.00,2,   -999.0,9,  4.9060
    09AR9391_2,  P11A,    21,  1,      6,    206,2,19930410,2346,-46.2542, 154.9985, 4550,   1194.7,   3.7850,  34.3950,2,  34.3910,2,   -999.0,5,    191.5,2,    43.30,2,    32.20,2,     2.21,2,   -999.0,9,  3.6960
    09AR9391_2,  P11A,    21,  1,      5,    205,2,19930410,2346,-46.2542, 154.9985, 4550,   3203.3,   1.4930,  34.7410,2,-999.0000,9,   -999.0,5,   -999.0,9,  -999.00,9,  -999.00,9,  -999.00,9,   -999.0,9,  1.2570
    09AR9391_2,  P11A,    21,  1,      4,    204,2,19930410,2346,-46.2542, 154.9985, 4550,   3601.3,   1.2390,  34.7330,2,  34.7330,2,   -999.0,5,    196.5,2,   107.40,2,    31.60,2,     2.19,2,   -999.0,9,  0.9690
    09AR9391_2,  P11A,    21,  1,      3,    319,2,19930410,2346,-46.2542, 154.9985, 4550,   4000.2,   1.0360,  34.7230,2,  34.7220,2,   -999.0,5,    202.4,2,   113.00,2,    31.90,2,  -999.00,5,   -999.0,9,  0.7300
    09AR9391_2,  P11A,    21,  1,      2,    202,2,19930410,2346,-46.2542, 154.9985, 4550,   4305.2,   0.9670,  34.7180,2,  34.7180,2,   -999.0,5,    202.7,2,   115.00,2,    32.10,2,     2.21,2,   -999.0,9,  0.6300
    09AR9391_2,  P11A,    21,  1,      1,    218,2,19930410,2346,-46.2542, 154.9985, 4550,   4635.5,   0.9410,  34.7160,2,  34.7160,2,   -999.0,5,    201.5,2,   116.70,2,    32.40,2,     2.23,2,   -999.0,9,  0.5680