BOTTLE,20190618WHPSIOAMB
EXPOCODE,SECT_ID,STNNBR,CASTNO,SAMPNO,BTLNBR,BTLNBR_FLAG_W,DATE,TIME,LATITUDE,LONGITUDE,DEPTH,CTDPRS,CTDTMP,CTDSAL,CTDSAL_FLAG_W,SALNTY,SALNTY_FLAG_W,CTDOXY,CTDOXY_FLAG_W,OXYGEN,OXYGEN_FLAG_W,SILCAT,SILCAT_FLAG_W,NO2+NO3,NO2+NO3_FLAG_W,PHSPHT,PHSPHT_FLAG_W,TCARBN,TCARBN_FLAG_W,THETA
,,,,,,,,,,,,DBAR,ITS-90,PSS-78,,PSS-78,,UMOL/KG,,UMOL/KG,,UMOL/KG,,UMOL/KG,,UMOL/KG,,UMOL/KG,,ITS-90
    09AR9391_2,  P11A,    47,  1,     24,    224,2,19930423,0935,-59.4910, 153.9342, 3182,      8.8,   2.0740,  33.9520,4,  33.9870,2,   -999.0,5,    312.6,2,    20.90,2,    27.00,2,  -999.00,5,   2155.9,2,  2.0740
    09AR9391_2,  P11A,    47,  1,     23,    223,2,19930423,0935,-59.4910, 153.9342, 3182,     22.8,   2.0710,  33.9470,4,  33.9870,2,   -999.0,5,    312.6,2,    19.70,2,    26.90,2,     1.88,2,   2157.3,2,  2.0700
    09AR9391_2,  P11A,    47,  1,     22,    222,2,19930423,0935,-59.4910, 153.9342, 3182,     50.6,   2.0360,  33.9570,4,  33.9890,2,   -999.0,5,    312.0,2,    19.90,2,    26.70,2,     1.88,2,   2157.2,2,  2.0340
    09AR9391_2,  P11A,    47,  1,     21,    221,2,19930423,0935,-59.4910, 153.9342, 3182,     99.7,   1.7680,  34.3510,4,  34.3850,2,   -999.0,5,    194.2,2,    58.90,2,    34.20,2,     2.44,2,   2242.2,2,  1.7630
    09AR9391_2,  P11A,    47,  1,     20,    220,2,19930423,0935,-59.4910, 153.9342, 3182,    201.0,   2.1300,  34.5020,4,  34.5310,2,   -999.0,5,    171.2,2,    67.90,2,    33.80,2,     2.43,2,   2255.2,2,  2.1200
    09AR9391_2,  P11A,    47,  1,     19,    203,2,19930423,0935,-59.4910, 153.9342, 3182,    297.3,   2.1220,  34.5670,4,  34.6010,2,   -999.0,5,    166.1,2,    72.90,2,    33.10,2,     2.41,2,   2256.8,2,  2.1060
    09AR9391_2,  P11A,    47,  1,     18,    201,2,19930423,0935,-59.4910, 153.9342, 3182,    400.6,   2.1490,  34.6340,4,  34.6650,2,   -999.0,5,    171.2,2,    74.60,2,    32.10,2,     2.31,2,   2253.7,2,  2.1270
    09AR9391_2,  P11A,    47,  1,     17,    217,2,19930423,0935,-59.4910, 153.9342, 3182,    498.7,   2.0860,  34.6570,4,  34.6930,2,   -999.0,5,    174.4,2,    75.60,2,    31.70,2,     2.29,2,   2251.0,2,  2.0580
    09AR9391_2,  P11A,    47,  1,     16,    216,2,19930423,0935,-59.4910, 153.9342, 3182,    599.1,   1.9840,  34.6740,4,  34.7110,2,   -999.0,5,    175.8,2,    77.30,2,    31.80,2,     2.25,2,   2251.5,2,  1.9500
    09AR9391_2,  P11A,    47,  1,     15,    215,2,19930423,0935,-59.4910, 153.9342, 3182,    747.6,   1.9300,  34.6950,4,  34.7300,2,   -999.0,5,    182.3,2,    78.70,2,    31.00,2,     2.22,2,   2249.3,2,  1.8870
    09AR9391_2,  P11A,    47,  1,     14,    214,2,19930423,0935,-59.4910, 153.9342, 3182,    897.3,   1.8360,  34.7040,4,  34.7440,2,   -999.0,5,    186.4,2,    80.60,2,    30.50,2,     2.18,2,   2248.1,2,  1.7840
    09AR9391_2,  P11A,    47,  1,     13,    213,2,19930423,0935,-59.4910, 153.9342, 3182,    999.3,   1.7320,  34.7100,4,  34.7430,2,   -999.0,5,    187.0,2,  -999.00,5,  -999.00,5,  -999.00,5,   2248.7,2,  1.6740
    09AR9391_2,  P11A,    47,  1,     12,    212,2,19930423,0935,-59.4910, 153.9342, 3182,   1101.4,   1.6300,  34.7110,4,  34.7460,2,   -999.0,5,    189.7,2,    88.70,2,  -999.00,5,  -999.00,5,   2250.5,2,  1.5660
    09AR9391_2,  P11A,    47,  1,     11,    211,2,19930423,0935,-59.4910, 153.9342, 3182,   1199.3,   1.5130,  34.7080,4,  34.7450,2,   -999.0,5,    193.5,2,    91.40,2,  -999.00,5,     2.15,2,   2250.9,2,  1.4440
    09AR9391_2,  P11A,    47,  1,     10,    210,2,19930423,0935,-59.4910, 153.9342, 3182,   1399.8,   1.3310,  34.7080,4,  34.7420,2,   -999.0,5,    195.6,2,    95.30,2,  -999.00,5,     2.17,2,   2251.8,2,  1.2500
    09AR9391_2,  P11A,    47,  1,      9,    209,2,19930423,0935,-59.4910, 153.9342, 3182,   1599.0,   1.1970,  34.6980,4,  34.7370,2,   -999.0,5,    196.5,2,    99.50,2,  -999.00,5,     2.18,2,   2255.0,2,  1.1030
    09AR9391_2,  P11A,    47,  1,      8,    208,2,19930423,0935,-59.4910, 153.9342, 3182,   1599.9,   1.1970,  34.7030,4,  34.7360,2,   -999.0,5,    197.4,2,    99.50,2,  -999.00,5,     2.18,2,   2253.6,2,  1.1030
    09AR9391_2,  P11A,    47,  1,      7,    207,2,19930423,0935,-59.4910, 153.9342, 3182,   1799.3,   0.9970,  34.6890,4,  34.7260,2,   -999.0,5,    199.5,2,   104.70,2,  -999.00,5,     2.21,2,   2256.4,2,  0.8910
    09AR9391_2,  P11A,    47,  1,      5,    205,2,19930423,0935,-59.4910, 153.9342, 3182,   2197.7,   0.6990,  34.6740,4,  34.7120,2,   -999.0,5,    204.4,2,   111.50,2,  -999.00,5,     2.27,2,   2259.3,2,  0.5670
    09AR9391_2,  P11A,    47,  1,      6,    206,2,19930423,0935,-59.4910, 153.9342, 3182,   2201.6,   0.6970,  34.6740,4,  34.7120,2,   -999.0,5,    203.5,2,   112.60,2,  -999.00,5,     2.25,2,   2260.3,2,  0.5650
    09AR9391_2,  P11A,    47,  1,      4,    204,2,19930423,0935,-59.4910, 153.9342, 3182,   2601.4,   0.5270,  34.6660,4,  34.7070,2,   -999.0,5,    207.4,2,   114.70,2,    32.50,2,     2.29,2,   2257.9,2,  0.3660
    09AR9391_2,  P11A,    47,  1,      3,    319,2,19930423,0935,-59.4910, 153.9342, 3182,   2805.0,   0.4610,  34.6650,4,  34.7010,2,   -999.0,5,    209.8,2,   115.00,2,    32.70,2,     2.29,2,   2258.6,2,  0.2840
    09AR9391_2,  P11A,    47,  1,      2,    202,2,19930423,0935,-59.4910, 153.9342, 3182,   3004.6,   0.4290,  34.6600,4,  34.6980,2,   -999.0,5,    209.5,2,   117.80,3,    33.50,3,     2.34,3,   2259.1,2,  0.2360
    09AR9391_2,  P11A,    47,  1,      1,    218,2,19930423,0935,-59.4910, 153.9342, 3182,   3185.0,   0.3550,  34.6550,4,  34.6950,2,   -999.0,5,    212.4,2,   116.30,2,    33.00,2,     2.31,2,   2258.2,2,  0.1470
    09AR9391_2,  P11A,    48,  1,     24,    224,2,19930423,1753,-60.0807, 153.4507, 2900,      8.6,   2.1030,  34.0480,2,  34.0510,2,   -999.0,5,    315.5,2,    25.80,2,    27.20,2,  -999.00,5,   -999.0,9,  2.1030
    09AR9391_2,  P11A,    48,  1,     23,    223,2,19930423,1753,-60.0807, 153.4507, 2900,     19.3,   2.1050,  34.0470,2,  34.0470,2,   -999.0,5,    314.5,2,    26.20,2,    28.00,2,     1.82,2,   -999.0,9,  2.1050
    09AR9391_2,  P11A,    48,  1,     22,    222,2,19930423,1753,-60.0807, 153.4507, 2900,     51.5,   2.0960,  34.0490,2,  34.0490,2,   -999.0,5,    314.5,2,    26.20,2,    27.70,2,     1.83,2,   -999.0,9,  2.0940
    09AR9391_2,  P11A,    48,  1,     21,    221,2,19930423,1753,-60.0807, 153.4507, 2900,    101.2,   0.5140,  34.2730,2,  34.2690,2,   -999.0,5,    287.6,2,    51.30,2,    30.70,2,     2.20,2,   -999.0,9,  0.5100
    09AR9391_2,  P11A,    48,  1,     20,    220,2,19930423,1753,-60.0807, 153.4507, 2900,    196.7,   1.6890,  34.6250,2,  34.6250,2,   -999.0,5,    174.7,2,    79.80,2,    35.00,2,     2.42,2,   -999.0,9,  1.6790
    09AR9391_2,  P11A,    48,  1,     19,    203,2,19930423,1753,-60.0807, 153.4507, 2900,    299.4,   1.8370,  34.6860,2,  34.6820,2,   -999.0,5,    174.7,2,    82.70,2,    34.40,2,     2.37,2,   -999.0,9,  1.8220
    09AR9391_2,  P11A,    48,  1,     18,    201,2,19930423,1753,-60.0807, 153.4507, 2900,    400.1,   1.7690,  34.7120,2,  34.7120,2,   -999.0,5,    180.0,2,    85.00,2,    32.90,2,     2.33,2,   -999.0,9,  1.7480
    09AR9391_2,  P11A,    48,  1,     17,    217,2,19930423,1753,-60.0807, 153.4507, 2900,    498.1,   1.7910,  34.7330,2,  34.7320,2,   -999.0,5,    184.1,2,    85.90,2,    32.00,2,     2.26,2,   -999.0,9,  1.7640
    09AR9391_2,  P11A,    48,  1,     16,    216,2,19930423,1753,-60.0807, 153.4507, 2900,    600.5,   1.7400,  34.7400,2,  34.7400,2,   -999.0,5,    186.7,2,    87.90,2,    31.70,2,     2.23,2,   -999.0,9,  1.7070
    09AR9391_2,  P11A,    48,  1,     15,    215,2,19930423,1753,-60.0807, 153.4507, 2900,    698.3,   1.6590,  34.7460,2,  34.7450,2,   -999.0,5,    189.4,2,    88.90,2,    31.40,2,     2.22,2,   -999.0,9,  1.6210
    09AR9391_2,  P11A,    48,  1,     14,    214,2,19930423,1753,-60.0807, 153.4507, 2900,    800.9,   1.5560,  34.7440,2,  34.7430,2,   -999.0,5,    190.8,2,    92.40,2,    32.10,3,     2.24,3,   -999.0,9,  1.5120
    09AR9391_2,  P11A,    48,  1,     13,    213,2,19930423,1753,-60.0807, 153.4507, 2900,    897.1,   1.4740,  34.7450,2,  34.7440,2,   -999.0,5,    193.7,2,    94.40,2,    31.70,2,     2.22,2,   -999.0,9,  1.4250
    09AR9391_2,  P11A,    48,  1,     12,    212,2,19930423,1753,-60.0807, 153.4507, 2900,    997.1,   1.3860,  34.7430,2,  34.7440,2,   -999.0,5,    195.4,2,    96.60,2,    31.90,2,  -999.00,5,   -999.0,9,  1.3310
    09AR9391_2,  P11A,    48,  1,     11,    211,2,19930423,1753,-60.0807, 153.4507, 2900,   1095.7,   1.2940,  34.7390,2,  34.7390,2,   -999.0,5,    196.1,2,    98.40,2,    32.10,2,     2.20,2,   -999.0,9,  1.2330
    09AR9391_2,  P11A,    48,  1,     10,    210,2,19930423,1753,-60.0807, 153.4507, 2900,   1196.6,   1.2110,  34.7360,2,  34.7340,2,   -999.0,5,    195.9,2,   102.00,3,    32.90,3,     2.23,2,   -999.0,9,  1.1450
    09AR9391_2,  P11A,    48,  1,      9,    209,2,19930423,1753,-60.0807, 153.4507, 2900,   1297.4,   1.1240,  34.7320,2,  34.7300,2,   -999.0,5,   -999.0,9,   100.70,2,    32.30,2,     2.24,2,   -999.0,9,  1.0520
    09AR9391_2,  P11A,    48,  1,      8,    208,2,19930423,1753,-60.0807, 153.4507, 2900,   1297.8,   1.1320,  34.7330,3,  34.7310,2,   -999.0,5,    196.9,2,   100.80,2,    32.10,2,     2.25,2,   -999.0,9,  1.0600
    09AR9391_2,  P11A,    48,  1,      7,    207,2,19930423,1753,-60.0807, 153.4507, 2900,   1698.9,   0.7660,  34.7140,2,  34.7130,2,   -999.0,5,    203.3,2,   111.40,2,    33.10,2,     2.29,2,   -999.0,9,  0.6700
    09AR9391_2,  P11A,    48,  1,      5,    205,2,19930423,1753,-60.0807, 153.4507, 2900,   1899.4,   0.6200,  34.7070,2,  34.7070,2,   -999.0,5,    205.0,2,   115.40,2,    32.90,2,     2.30,2,   -999.0,9,  0.5120
    09AR9391_2,  P11A,    48,  1,      6,    206,2,19930423,1753,-60.0807, 153.4507, 2900,   1900.7,   0.6210,  34.7060,2,  34.7080,2,   -999.0,5,    205.0,2,   113.60,2,    33.90,2,     2.30,2,   -999.0,9,  0.5130
    09AR9391_2,  P11A,    48,  1,      4,    204,2,19930423,1753,-60.0807, 153.4507, 2900,   2302.1,   0.2540,  34.6940,2,  34.6910,2,   -999.0,5,    212.5,2,   120.40,2,    33.80,2,     2.32,2,   -999.0,9,  0.1220
    09AR9391_2,  P11A,    48,  1,      3,    319,2,19930423,1753,-60.0807, 153.4507, 2900,   2502.3,   0.2050,  34.6910,2,  34.6870,2,   -999.0,5,    214.9,2,   122.10,2,    33.90,2,     2.32,2,   -999.0,9,  0.0580
    09AR9391_2,  P11A,    48,  1,      2,    202,2,19930423,1753,-60.0807, 153.4507, 2900,   2704.2,   0.1390,  34.6900,2,  34.6870,2,   -999.0,5,    217.1,2,   123.60,2,    33.70,2,     2.32,2,   -999.0,9, -0.0230
    09AR9391_2,  P11A,    48,  1,      1,    218,2,19930423,1753,-60.0807, 153.4507, 2900,   2964.2,   0.1250,  34.6890,2,  34.6860,2,   -999.0,5,    216.6,2,   124.40,2,    33.70,2,     2.33,2,   -999.0,9, -0.0580
    09AR9391_2,  P11A,    49,  1,     24,    224,2,19930424,0212,-60.7213, 152.9525, 2550,      9.7,   1.4150,  34.0730,2,  34.0710,2,   -999.0,5,    316.0,2,    30.50,2,    27.10,2,  -999.00,5,   2166.5,2,  1.4150
    09AR9391_2,  P11A,    49,  1,     23,    223,2,19930424,0212,-60.7213, 152.9525, 2550,     24.6,   1.4140,  34.0730,2,  34.0720,2,   -999.0,5,    314.5,2,    30.50,2,    27.00,2,     1.79,2,   2166.8,2,  1.4130
    09AR9391_2,  P11A,    49,  1,     22,    222,2,19930424,0212,-60.7213, 152.9525, 2550,     47.7,   1.4170,  34.0730,2,  34.0750,2,   -999.0,5,    315.9,2,    30.40,2,    26.90,2,     1.79,2,   2166.9,2,  1.4150
    09AR9391_2,  P11A,    49,  1,     21,    221,2,19930424,0212,-60.7213, 152.9525, 2550,     94.4,   0.7800,  34.3360,4,  34.3380,2,   -999.0,5,    261.2,2,    56.20,2,    31.60,2,     2.24,2,   2216.0,2,  0.7760
    09AR9391_2,  P11A,    49,  1,     20,    220,2,19930424,0212,-60.7213, 152.9525, 2550,    139.9,   1.5820,  34.6330,2,  34.6320,2,   -999.0,5,    174.1,2,    77.10,2,    34.50,2,     2.46,2,   2259.9,2,  1.5750
    09AR9391_2,  P11A,    49,  1,     19,    203,2,19930424,0212,-60.7213, 152.9525, 2550,    196.4,   1.7590,  34.6790,2,  34.6780,2,   -999.0,5,    171.2,2,    79.50,2,    33.80,2,     2.40,2,   2259.3,2,  1.7490
    09AR9391_2,  P11A,    49,  1,     18,    201,2,19930424,0212,-60.7213, 152.9525, 2550,    301.8,   1.7500,  34.7030,2,  34.6970,2,   -999.0,5,    176.3,2,    81.00,2,    33.20,2,     2.33,2,   2255.2,2,  1.7350
    09AR9391_2,  P11A,    49,  1,     17,    217,2,19930424,0212,-60.7213, 152.9525, 2550,    403.8,   1.7130,  34.7220,2,  34.7210,2,   -999.0,5,    181.7,2,    82.60,2,    32.50,2,     2.28,2,   2253.0,2,  1.6920
    09AR9391_2,  P11A,    49,  1,     16,    216,2,19930424,0212,-60.7213, 152.9525, 2550,    500.8,   1.6620,  34.7310,2,  34.7330,2,   -999.0,5,    184.3,2,    84.40,2,    31.80,2,     2.24,2,   2254.2,2,  1.6360
    09AR9391_2,  P11A,    49,  1,     15,    215,2,19930424,0212,-60.7213, 152.9525, 2550,    597.1,   1.6090,  34.7390,2,  34.7410,2,   -999.0,5,    187.0,2,    85.80,2,    31.70,2,     2.23,2,   2249.6,2,  1.5770
    09AR9391_2,  P11A,    49,  1,     14,    214,2,19930424,0212,-60.7213, 152.9525, 2550,    697.3,   1.4850,  34.7400,2,  34.7440,2,   -999.0,5,    189.9,2,    89.60,2,    31.40,2,     2.22,2,   2251.6,2,  1.4480
    09AR9391_2,  P11A,    49,  1,     13,    213,2,19930424,0212,-60.7213, 152.9525, 2550,    798.1,   1.3980,  34.7380,2,  34.7430,2,   -999.0,5,    192.7,2,    92.00,2,    31.60,2,     2.22,2,   2252.3,2,  1.3550
    09AR9391_2,  P11A,    49,  1,     12,    212,2,19930424,0212,-60.7213, 152.9525, 2550,    897.3,   1.3200,  34.7390,2,  34.7380,2,   -999.0,5,    193.4,2,    95.70,2,    31.60,2,  -999.00,5,   2253.2,2,  1.2720
    09AR9391_2,  P11A,    49,  1,     11,    211,2,19930424,0212,-60.7213, 152.9525, 2550,   1001.5,   1.2370,  34.7370,2,  34.7390,2,   -999.0,5,    194.8,2,    98.20,2,    31.90,2,     2.19,2,   2251.1,2,  1.1830
    09AR9391_2,  P11A,    49,  1,     10,    210,2,19930424,0212,-60.7213, 152.9525, 2550,   1097.4,   1.1370,  34.7330,2,  34.7370,2,   -999.0,5,    196.1,2,   100.70,2,    31.20,3,     2.21,2,   2254.2,2,  1.0780
    09AR9391_2,  P11A,    49,  1,      9,    209,2,19930424,0212,-60.7213, 152.9525, 2550,   1196.2,   1.0600,  34.7280,2,  34.7340,2,   -999.0,5,    195.9,2,   102.90,2,    31.70,2,     2.23,2,   2255.9,2,  0.9950
    09AR9391_2,  P11A,    49,  1,      8,    208,2,19930424,0212,-60.7213, 152.9525, 2550,   1202.0,   1.0570,  34.7270,2,  34.7340,2,   -999.0,5,    196.9,2,   103.00,2,    31.80,2,     2.24,2,   2255.0,2,  0.9920
    09AR9391_2,  P11A,    49,  1,      7,    207,2,19930424,0212,-60.7213, 152.9525, 2550,   1498.9,   0.8280,  34.7180,2,  34.7210,2,   -999.0,5,    200.8,2,   109.40,2,    32.20,2,     2.25,2,   2254.9,2,  0.7450
    09AR9391_2,  P11A,    49,  1,      6,    206,2,19930424,0212,-60.7213, 152.9525, 2550,   1697.3,   0.6890,  34.7110,2,  34.7080,2,   -999.0,5,    201.0,2,   113.10,2,    32.50,2,     2.28,2,   2258.7,2,  0.5940
    09AR9391_2,  P11A,    49,  1,      5,    205,2,19930424,0212,-60.7213, 152.9525, 2550,   1896.2,   0.5210,  34.7050,2,  34.7100,2,   -999.0,5,   -999.0,5,  -999.00,5,  -999.00,5,  -999.00,5,   2257.0,2,  0.4150
    09AR9391_2,  P11A,    49,  1,      4,    204,2,19930424,0212,-60.7213, 152.9525, 2550,   2099.0,   0.3960,  34.6980,2,  34.7000,2,   -999.0,5,    208.5,2,   117.90,2,    32.70,2,     2.30,2,   2258.5,2,  0.2770
    09AR9391_2,  P11A,    49,  1,      3,    319,2,19930424,0212,-60.7213, 152.9525, 2550,   2304.4,   0.2540,  34.6920,2,  34.6950,2,   -999.0,5,    212.8,2,   119.30,2,    32.60,2,     2.30,2,   2256.8,2,  0.1220
    09AR9391_2,  P11A,    49,  1,      2,    202,2,19930424,0212,-60.7213, 152.9525, 2550,   2502.1,   0.1510,  34.6910,3,  34.6930,2,   -999.0,5,    214.9,2,   121.70,2,    32.60,2,     2.30,2,   2257.7,2,  0.0050
    09AR9391_2,  P11A,    49,  1,      1,    218,2,19930424,0212,-60.7213, 152.9525, 2550,   2667.8,   0.1360,  34.6910,2,  34.6930,2,   -999.0,5,    214.9,2,   122.20,2,    33.10,2,     2.30,2,   2258.2,2, -0.0230