BOTTLE,20190618WHPSIOAMB
EXPOCODE,SECT_ID,STNNBR,CASTNO,SAMPNO,BTLNBR,BTLNBR_FLAG_W,DATE,TIME,LATITUDE,LONGITUDE,DEPTH,CTDPRS,CTDTMP,CTDSAL,CTDSAL_FLAG_W,SALNTY,SALNTY_FLAG_W,CTDOXY,CTDOXY_FLAG_W,OXYGEN,OXYGEN_FLAG_W,SILCAT,SILCAT_FLAG_W,NO2+NO3,NO2+NO3_FLAG_W,PHSPHT,PHSPHT_FLAG_W,TCARBN,TCARBN_FLAG_W,THETA
,,,,,,,,,,,,DBAR,ITS-90,PSS-78,,PSS-78,,UMOL/KG,,UMOL/KG,,UMOL/KG,,UMOL/KG,,UMOL/KG,,UMOL/KG,,ITS-90
    09AR9391_2,  P11A,    34,  1,     24,    224,2,19930416,1153,-52.7310, 155.0255, 4230,      9.6,   7.9820,  34.0010,2,  34.0000,2,   -999.0,5,    279.6,2,     3.10,2,    18.00,2,  -999.00,5,   2092.6,2,  7.9830
    09AR9391_2,  P11A,    34,  1,     23,    223,2,19930416,1153,-52.7310, 155.0255, 4230,     22.1,   7.9860,  34.0010,2,  34.0000,2,   -999.0,5,    278.2,2,     3.10,2,    18.00,2,     1.38,2,   2092.0,2,  7.9860
    09AR9391_2,  P11A,    34,  1,     22,    222,2,19930416,1153,-52.7310, 155.0255, 4230,     48.8,   8.0010,  34.0070,2,  34.0070,2,   -999.0,5,    278.5,2,     2.40,2,    18.20,2,     1.40,2,   2093.5,2,  7.9980
    09AR9391_2,  P11A,    34,  1,     21,    221,2,19930416,1153,-52.7310, 155.0255, 4230,    102.0,   7.8340,  34.1350,4,  34.1340,2,   -999.0,5,    275.9,2,     3.60,2,    18.30,2,     1.44,2,   2103.9,2,  7.8260
    09AR9391_2,  P11A,    34,  1,     20,    220,2,19930416,1153,-52.7310, 155.0255, 4230,    197.1,   6.8400,  34.2760,4,  34.2870,2,   -999.0,5,    265.2,2,     6.00,2,    20.10,2,     1.51,2,   2120.0,2,  6.8240
    09AR9391_2,  P11A,    34,  1,     19,    203,2,19930416,1153,-52.7310, 155.0255, 4230,    297.6,   5.4900,  34.1550,2,  34.1570,2,   -999.0,5,    264.9,2,     8.80,2,    23.20,2,     1.74,2,   2130.0,2,  5.4670
    09AR9391_2,  P11A,    34,  1,     18,    201,2,19930416,1153,-52.7310, 155.0255, 4230,    396.7,   6.0230,  34.3580,4,  34.3460,2,   -999.0,5,    220.0,2,    14.70,2,    25.50,2,     1.88,2,   2157.2,2,  5.9900
    09AR9391_2,  P11A,    34,  1,     17,    217,2,19930416,1153,-52.7310, 155.0255, 4230,    493.6,   5.1320,  34.3190,2,  34.3200,2,   -999.0,5,    215.8,2,    19.60,2,    28.00,2,     2.10,2,   2170.1,2,  5.0940
    09AR9391_2,  P11A,    34,  1,     16,    216,2,19930416,1153,-52.7310, 155.0255, 4230,    596.0,   4.2460,  34.2860,2,  34.2880,2,   -999.0,5,    218.5,2,  -999.00,9,    29.60,2,     2.18,2,   2180.5,2,  4.2030
    09AR9391_2,  P11A,    34,  1,     15,    215,2,19930416,1153,-52.7310, 155.0255, 4230,    697.7,   3.8710,  34.3140,2,  34.3140,2,   -999.0,5,    209.9,2,    36.20,2,    31.10,2,     2.27,2,   2194.6,2,  3.8220
    09AR9391_2,  P11A,    34,  1,     14,    214,2,19930416,1153,-52.7310, 155.0255, 4230,    797.2,   3.4220,  34.3420,2,  34.3410,2,   -999.0,5,    199.6,2,    38.90,2,    32.00,2,     2.35,2,   2207.8,2,  3.3680
    09AR9391_2,  P11A,    34,  1,     13,    213,2,19930416,1153,-52.7310, 155.0255, 4230,    799.3,   3.4200,  34.3440,2,  34.3420,2,   -999.0,5,    200.4,2,    39.40,2,    32.20,2,     2.35,2,   2207.5,2,  3.3650
    09AR9391_2,  P11A,    34,  1,     12,    212,2,19930416,1153,-52.7310, 155.0255, 4230,   1198.3,   2.5590,  34.5380,3,  34.5270,4,   -999.0,5,    170.2,2,    65.80,2,    34.40,2,  -999.00,5,   2246.9,2,  2.4800
    09AR9391_2,  P11A,    34,  1,     11,    211,2,19930416,1153,-52.7310, 155.0255, 4230,   1203.4,   2.5690,  34.5400,3,  34.5200,4,   -999.0,5,    172.1,2,    66.00,2,    34.20,2,     2.48,2,   2246.6,2,  2.4900
    09AR9391_2,  P11A,    34,  1,     10,    210,2,19930416,1153,-52.7310, 155.0255, 4230,   1396.9,   2.4780,  34.6090,2,  34.6090,2,   -999.0,5,    169.1,2,    72.50,2,    33.80,2,     2.42,2,   2252.1,2,  2.3850
    09AR9391_2,  P11A,    34,  1,      9,    209,2,19930416,1153,-52.7310, 155.0255, 4230,   1599.5,   2.3830,  34.6680,2,  34.6680,2,   -999.0,5,    172.8,2,    75.50,2,    32.90,2,     2.38,2,   2251.0,2,  2.2750
    09AR9391_2,  P11A,    34,  1,      8,    208,2,19930416,1153,-52.7310, 155.0255, 4230,   1797.8,   2.2620,  34.7090,2,  34.7080,2,   -999.0,5,    177.5,2,    78.40,2,    32.00,2,     2.34,2,   2252.0,2,  2.1390
    09AR9391_2,  P11A,    34,  1,      7,    207,2,19930416,1153,-52.7310, 155.0255, 4230,   2098.2,   2.0720,  34.7390,2,  34.7380,2,   -999.0,5,    184.5,2,    84.60,2,    31.20,2,     2.28,2,   2249.6,2,  1.9260
    09AR9391_2,  P11A,    34,  1,      6,    206,2,19930416,1153,-52.7310, 155.0255, 4230,   2603.7,   1.5930,  34.7430,2,  34.7430,2,   -999.0,5,    193.9,2,    96.90,2,    31.10,2,     2.28,2,   2253.3,2,  1.4110
    09AR9391_2,  P11A,    34,  1,      5,    205,2,19930416,1153,-52.7310, 155.0255, 4230,   2607.4,   1.5920,  34.7420,3,  34.7430,2,   -999.0,5,    193.6,2,    95.10,2,    30.90,2,     2.28,2,   2252.0,2,  1.4100
    09AR9391_2,  P11A,    34,  1,      4,    204,2,19930416,1153,-52.7310, 155.0255, 4230,   2901.6,   1.3170,  34.7340,2,  34.7340,2,   -999.0,5,    195.9,2,   104.70,2,    31.50,2,     2.30,2,   2259.6,2,  1.1130
    09AR9391_2,  P11A,    34,  1,      3,    319,2,19930416,1153,-52.7310, 155.0255, 4230,   3606.5,   0.8860,  34.7120,2,  34.7120,2,   -999.0,5,    202.5,2,   118.40,2,    32.10,2,     2.35,2,   2256.8,2,  0.6250
    09AR9391_2,  P11A,    34,  1,      2,    202,2,19930416,1153,-52.7310, 155.0255, 4230,   3902.5,   0.7750,  34.7060,2,  34.7070,2,   -999.0,5,    205.6,2,   120.30,2,    32.20,2,     2.36,2,   2258.7,2,  0.4870
    09AR9391_2,  P11A,    34,  1,      1,    218,2,19930416,1153,-52.7310, 155.0255, 4230,   4278.4,   0.6430,  34.7000,2,  34.7000,2,   -999.0,5,    209.0,2,   123.80,2,    32.40,2,     2.37,2,   2260.1,2,  0.3190
    09AR9391_2,  P11A,    35,  1,     24,    224,2,19930418,0517,-53.2637, 155.0222, 4075,     10.0,   6.7040,  33.8610,2,  33.8610,2,   -999.0,5,    289.7,2,     3.20,2,  -999.00,5,  -999.00,5,   -999.0,9,  6.7050
    09AR9391_2,  P11A,    35,  1,     23,    223,2,19930418,0517,-53.2637, 155.0222, 4075,     23.9,   6.7050,  33.8620,2,  33.8610,2,   -999.0,5,    289.7,2,     2.90,2,  -999.00,5,     1.41,2,   -999.0,9,  6.7040
    09AR9391_2,  P11A,    35,  1,     22,    222,2,19930418,0517,-53.2637, 155.0222, 4075,     48.1,   6.7050,  33.8620,2,  33.8610,2,   -999.0,5,    289.2,2,     2.90,2,  -999.00,5,     1.41,2,   -999.0,9,  6.7020
    09AR9391_2,  P11A,    35,  1,     21,    221,2,19930418,0517,-53.2637, 155.0222, 4075,    125.7,   6.1780,  34.0630,4,  34.0140,2,   -999.0,5,    282.3,2,     4.90,2,  -999.00,5,     1.50,2,   -999.0,9,  6.1690
    09AR9391_2,  P11A,    35,  1,     20,    220,2,19930418,0517,-53.2637, 155.0222, 4075,    187.5,   4.3730,  34.0350,4,  34.0320,2,   -999.0,5,    277.3,2,    10.90,2,  -999.00,5,     1.74,2,   -999.0,9,  4.3610
    09AR9391_2,  P11A,    35,  1,     19,    203,2,19930418,0517,-53.2637, 155.0222, 4075,    295.9,   3.9590,  34.1550,3,  34.1560,2,   -999.0,5,    248.9,2,    19.20,2,  -999.00,5,     1.94,2,   -999.0,9,  3.9390
    09AR9391_2,  P11A,    35,  1,     18,    201,3,19930418,0517,-53.2637, 155.0222, 4075,    392.5,   3.6030,  34.2220,3,  34.2090,4,   -999.0,5,    235.1,2,    26.30,2,  -999.00,5,     2.08,2,   -999.0,9,  3.5770
    09AR9391_2,  P11A,    35,  1,     17,    217,2,19930418,0517,-53.2637, 155.0222, 4075,    498.9,   3.1110,  34.2610,2,  34.2580,2,   -999.0,5,    221.1,2,    35.30,2,  -999.00,5,     2.21,2,   -999.0,9,  3.0800
    09AR9391_2,  P11A,    35,  1,     16,    216,2,19930418,0517,-53.2637, 155.0222, 4075,    593.7,   2.7680,  34.2950,3,  34.2940,2,   -999.0,5,    210.3,2,    42.90,2,  -999.00,5,     2.30,2,   -999.0,9,  2.7320
    09AR9391_2,  P11A,    35,  1,     15,    215,2,19930418,0517,-53.2637, 155.0222, 4075,    696.8,   2.6830,  34.3780,4,  34.3730,2,   -999.0,5,    195.0,2,    52.50,2,  -999.00,5,     2.37,2,   -999.0,9,  2.6400
    09AR9391_2,  P11A,    35,  1,     14,    214,2,19930418,0517,-53.2637, 155.0222, 4075,    798.4,   2.6390,  34.4280,2,  34.4240,2,   -999.0,5,    182.5,2,    57.50,2,  -999.00,5,     2.40,2,   -999.0,9,  2.5890
    09AR9391_2,  P11A,    35,  1,     13,    213,2,19930418,0517,-53.2637, 155.0222, 4075,    799.2,   2.6390,  34.4280,2,  34.4270,2,   -999.0,5,    184.8,2,    57.80,2,  -999.00,5,     2.41,2,   -999.0,9,  2.5890
    09AR9391_2,  P11A,    35,  1,     12,    212,2,19930418,0517,-53.2637, 155.0222, 4075,    993.3,   2.6020,  34.5390,2,  34.5700,3,   -999.0,5,    170.2,2,    72.70,2,  -999.00,5,  -999.00,5,   -999.0,9,  2.5380
    09AR9391_2,  P11A,    35,  1,     11,    211,2,19930418,0517,-53.2637, 155.0222, 4075,   1193.4,   2.4620,  34.6180,2,  34.6160,2,   -999.0,5,    169.9,2,    75.70,2,  -999.00,5,     2.31,2,   -999.0,9,  2.3850
    09AR9391_2,  P11A,    35,  1,     10,    210,2,19930418,0517,-53.2637, 155.0222, 4075,   1397.9,   2.3500,  34.6720,2,  34.6730,2,   -999.0,5,    174.4,2,  -999.00,5,  -999.00,5,     2.26,2,   -999.0,9,  2.2580
    09AR9391_2,  P11A,    35,  1,      9,    209,2,19930418,0517,-53.2637, 155.0222, 4075,   1596.6,   2.2310,  34.7120,2,  34.7100,2,   -999.0,5,    179.8,2,    77.10,2,  -999.00,5,     2.20,2,   -999.0,9,  2.1250
    09AR9391_2,  P11A,    35,  1,      8,    208,2,19930418,0517,-53.2637, 155.0222, 4075,   1798.1,   2.1160,  34.7320,2,  34.7320,2,   -999.0,5,    182.1,2,    80.20,2,  -999.00,5,     2.17,2,   -999.0,9,  1.9950
    09AR9391_2,  P11A,    35,  1,      7,    207,2,19930418,0517,-53.2637, 155.0222, 4075,   2294.9,   1.6900,  34.7450,2,  34.7440,2,   -999.0,5,    191.8,2,    93.00,2,  -999.00,5,     2.17,2,   -999.0,9,  1.5330
    09AR9391_2,  P11A,    35,  1,      6,    206,2,19930418,0517,-53.2637, 155.0222, 4075,   2601.6,   1.4500,  34.7380,2,  34.7390,2,   -999.0,5,    193.9,2,    99.70,2,  -999.00,5,     2.18,2,   -999.0,9,  1.2710
    09AR9391_2,  P11A,    35,  1,      5,    205,2,19930418,0517,-53.2637, 155.0222, 4075,   2604.7,   1.4500,  34.7380,2,  34.7390,2,   -999.0,5,    194.7,2,    98.30,2,  -999.00,5,     2.18,2,   -999.0,9,  1.2710
    09AR9391_2,  P11A,    35,  1,      4,    204,2,19930418,0517,-53.2637, 155.0222, 4075,   2901.5,   1.2280,  34.7280,2,  34.7300,2,   -999.0,5,    197.2,2,   106.70,2,  -999.00,5,     2.19,2,   -999.0,9,  1.0260
    09AR9391_2,  P11A,    35,  1,      3,    319,2,19930418,0517,-53.2637, 155.0222, 4075,   3504.1,   0.9190,  34.7130,2,  34.7150,2,   -999.0,5,    201.9,2,   114.10,2,  -999.00,5,     2.22,2,   -999.0,9,  0.6670
    09AR9391_2,  P11A,    35,  1,      1,    218,2,19930418,0517,-53.2637, 155.0222, 4075,   3807.3,   0.8320,  34.7080,2,  34.7100,2,   -999.0,5,    204.0,2,   116.20,2,  -999.00,5,     2.23,2,   -999.0,9,  0.5520
    09AR9391_2,  P11A,    35,  1,      2,    202,2,19930418,0517,-53.2637, 155.0222, 4075,   3810.1,   0.8310,  34.7070,2,  34.7100,2,   -999.0,5,    204.0,2,   116.90,2,  -999.00,5,     2.23,2,   -999.0,9,  0.5510
    09AR9391_2,  P11A,    36,  1,     24,    224,2,19930418,1404,-53.7353, 154.9790, 4200,      9.0,   6.9050,  33.8820,2,  33.8830,2,   -999.0,5,    289.4,2,     7.70,3,    20.50,2,  -999.00,5,   2098.7,2,  6.9060
    09AR9391_2,  P11A,    36,  1,     23,    223,2,19930418,1404,-53.7353, 154.9790, 4200,     33.9,   6.8870,  33.8810,2,  33.8830,2,   -999.0,5,    289.7,2,     2.30,2,    20.40,2,     1.45,2,   2097.1,2,  6.8860
    09AR9391_2,  P11A,    36,  1,     22,    222,2,19930418,1404,-53.7353, 154.9790, 4200,     79.0,   6.7190,  33.8870,2,  33.8890,2,   -999.0,5,    289.4,2,     7.20,3,    20.70,2,     1.47,2,   2100.5,2,  6.7140
    09AR9391_2,  P11A,    36,  1,     21,    221,2,19930418,1404,-53.7353, 154.9790, 4200,    125.3,   5.0840,  33.9430,4,  33.9260,2,   -999.0,5,    291.5,2,     4.80,2,    23.20,2,     1.66,2,   2118.3,2,  5.0760
    09AR9391_2,  P11A,    36,  1,     20,    220,2,19930418,1404,-53.7353, 154.9790, 4200,    198.9,   4.2330,  34.0610,4,  34.0670,2,   -999.0,5,    273.7,2,  -999.00,5,    25.70,2,     1.81,2,   2141.5,2,  4.2200
    09AR9391_2,  P11A,    36,  1,     19,    203,2,19930418,1404,-53.7353, 154.9790, 4200,    275.5,   4.0860,  34.1570,2,  34.1550,2,   -999.0,5,    250.8,2,    16.20,2,    27.60,2,     1.93,2,   2159.7,2,  4.0680
    09AR9391_2,  P11A,    36,  1,     18,    201,3,19930418,1404,-53.7353, 154.9790, 4200,    394.8,   3.2450,  34.2040,3,  34.1990,4,   -999.0,5,    239.3,2,    26.30,2,    30.50,2,     2.13,2,   2180.7,2,  3.2200
    09AR9391_2,  P11A,    36,  1,     17,    217,2,19930418,1404,-53.7353, 154.9790, 4200,    495.4,   2.9540,  34.2570,2,  34.2540,2,   -999.0,5,    225.0,2,    34.30,2,    31.70,2,     2.22,2,   2197.0,2,  2.9230
    09AR9391_2,  P11A,    36,  1,     16,    216,2,19930418,1404,-53.7353, 154.9790, 4200,    602.8,   2.9110,  34.3400,2,  34.3380,2,   -999.0,5,    203.0,2,    43.60,2,    33.20,2,     2.31,2,   2214.1,2,  2.8730
    09AR9391_2,  P11A,    36,  1,     15,    215,2,19930418,1404,-53.7353, 154.9790, 4200,    696.9,   2.8190,  34.3970,2,  34.3950,2,   -999.0,5,    190.6,2,    49.00,2,    33.70,2,     2.34,2,   2224.1,2,  2.7750
    09AR9391_2,  P11A,    36,  1,     14,    214,2,19930418,1404,-53.7353, 154.9790, 4200,    794.6,   2.5250,  34.4310,2,  34.4300,2,   -999.0,5,    185.6,2,    56.20,2,    34.30,2,     2.39,2,   2235.2,2,  2.4760
    09AR9391_2,  P11A,    36,  1,     13,    213,3,19930418,1404,-53.7353, 154.9790, 4200,    801.5,   2.5290,  34.4340,2,  34.4300,4,   -999.0,5,    185.9,2,    56.50,2,    34.60,2,     2.36,2,   -999.0,9,  2.4800
    09AR9391_2,  P11A,    36,  1,     12,    212,2,19930418,1404,-53.7353, 154.9790, 4200,   1197.7,   2.4270,  34.6250,2,  34.6230,2,   -999.0,5,    172.0,2,    70.60,2,    33.70,2,  -999.00,5,   2250.8,2,  2.3490
    09AR9391_2,  P11A,    36,  1,     11,    211,2,19930418,1404,-53.7353, 154.9790, 4200,   1200.2,   2.4250,  34.6260,2,  34.6260,2,   -999.0,5,    172.5,2,    70.90,2,    33.90,2,     2.31,2,   2249.7,2,  2.3470
    09AR9391_2,  P11A,    36,  1,     10,    210,2,19930418,1404,-53.7353, 154.9790, 4200,   1395.3,   2.3210,  34.6840,2,  34.6850,2,   -999.0,5,    176.2,2,    74.40,2,    32.60,2,     2.25,2,   2249.9,2,  2.2290
    09AR9391_2,  P11A,    36,  1,      9,    209,2,19930418,1404,-53.7353, 154.9790, 4200,   1598.2,   2.1770,  34.7220,2,  34.7250,2,   -999.0,5,    181.4,2,    77.80,2,    32.20,2,     2.21,2,   2250.3,2,  2.0710
    09AR9391_2,  P11A,    36,  1,      8,    208,2,19930418,1404,-53.7353, 154.9790, 4200,   1797.2,   2.0360,  34.7430,2,  34.7450,2,   -999.0,5,    185.5,2,    81.20,2,    31.40,2,     2.17,2,   2247.6,2,  1.9160
    09AR9391_2,  P11A,    36,  1,      7,    207,2,19930418,1404,-53.7353, 154.9790, 4200,   2298.8,   1.6730,  34.7490,2,  34.7490,2,   -999.0,5,    192.8,2,    92.40,2,    31.40,2,     2.18,2,   2250.9,2,  1.5160
    09AR9391_2,  P11A,    36,  1,      6,    206,2,19930418,1404,-53.7353, 154.9790, 4200,   2599.1,   1.3720,  34.7400,2,  34.7390,2,   -999.0,5,    195.9,2,   101.00,2,    32.00,2,     2.20,2,   2258.2,2,  1.1950
    09AR9391_2,  P11A,    36,  1,      5,    205,2,19930418,1404,-53.7353, 154.9790, 4200,   2898.8,   1.1190,  34.7290,2,  34.7400,4,   -999.0,5,    197.2,2,  -999.00,5,  -999.00,5,  -999.00,5,   -999.0,9,  0.9200
    09AR9391_2,  P11A,    36,  1,      4,    204,2,19930418,1404,-53.7353, 154.9790, 4200,   3201.0,   0.9820,  34.7220,2,  34.7200,2,   -999.0,5,    201.1,2,   110.10,2,    32.60,2,     2.24,2,   2260.4,2,  0.7580
    09AR9391_2,  P11A,    36,  1,      3,    319,2,19930418,1404,-53.7353, 154.9790, 4200,   3502.9,   0.8720,  34.7160,2,  34.7160,2,   -999.0,5,    204.0,2,   111.50,2,    32.60,2,     2.24,2,   2262.0,2,  0.6210
    09AR9391_2,  P11A,    36,  1,      2,    202,2,19930418,1404,-53.7353, 154.9790, 4200,   3800.1,   0.8020,  34.7120,2,  34.7110,2,   -999.0,5,    205.6,2,   113.90,2,    32.80,2,     2.25,2,   2261.0,2,  0.5230
    09AR9391_2,  P11A,    36,  1,      1,    218,2,19930418,1404,-53.7353, 154.9790, 4200,   4242.3,   0.7750,  34.7080,2,  34.7080,2,   -999.0,5,    206.6,2,   115.50,2,    32.80,2,     2.27,2,   2260.1,2,  0.4510