BOTTLE,20190618WHPSIOAMB
EXPOCODE,SECT_ID,STNNBR,CASTNO,SAMPNO,BTLNBR,BTLNBR_FLAG_W,DATE,TIME,LATITUDE,LONGITUDE,DEPTH,CTDPRS,CTDTMP,CTDSAL,CTDSAL_FLAG_W,SALNTY,SALNTY_FLAG_W,CTDOXY,CTDOXY_FLAG_W,OXYGEN,OXYGEN_FLAG_W,SILCAT,SILCAT_FLAG_W,NO2+NO3,NO2+NO3_FLAG_W,PHSPHT,PHSPHT_FLAG_W,TCARBN,TCARBN_FLAG_W,THETA
,,,,,,,,,,,,DBAR,ITS-90,PSS-78,,PSS-78,,UMOL/KG,,UMOL/KG,,UMOL/KG,,UMOL/KG,,UMOL/KG,,UMOL/KG,,ITS-90
    09AR9391_2,  P11A,    41,  1,     24,    224,2,19930421,1458,-55.7413, 155.0437, 4175,      9.4,   7.8570,  34.1690,2,  34.1680,2,   -999.0,5,    276.1,2,     4.00,2,    17.10,2,  -999.00,5,   2095.4,2,  7.8580
    09AR9391_2,  P11A,    41,  1,     23,    223,2,19930421,1458,-55.7413, 155.0437, 4175,     24.0,   7.8600,  34.1680,2,  34.1680,2,   -999.0,5,    276.1,2,     4.00,2,    17.30,2,     1.26,2,   2095.8,2,  7.8600
    09AR9391_2,  P11A,    41,  1,     22,    222,2,19930421,1458,-55.7413, 155.0437, 4175,     75.9,   7.8650,  34.1680,2,  34.1680,2,   -999.0,5,    276.4,2,     3.80,2,    17.20,2,     1.27,2,   2095.7,2,  7.8590
    09AR9391_2,  P11A,    41,  1,     21,    221,2,19930421,1458,-55.7413, 155.0437, 4175,    121.8,   7.1640,  34.2910,4,  34.2890,2,   -999.0,5,    266.9,2,     4.80,2,    19.20,2,     1.39,2,   2114.7,2,  7.1540
    09AR9391_2,  P11A,    41,  1,     20,    220,2,19930421,1458,-55.7413, 155.0437, 4175,    198.0,   6.5620,  34.2610,2,  34.2630,2,   -999.0,5,    263.4,2,     6.60,2,    21.00,2,     1.50,2,   2125.6,2,  6.5460
    09AR9391_2,  P11A,    41,  1,     19,    203,2,19930421,1458,-55.7413, 155.0437, 4175,    296.8,   5.9230,  34.2700,3,  34.2690,2,   -999.0,5,    242.7,2,    11.10,2,    23.80,2,     1.71,2,   2144.6,2,  5.8990
    09AR9391_2,  P11A,    41,  1,     18,    201,2,19930421,1458,-55.7413, 155.0437, 4175,    398.4,   5.3480,  34.3210,2,  34.3200,2,   -999.0,5,    218.5,2,    18.50,2,    26.90,2,     1.92,2,   2167.6,2,  5.3170
    09AR9391_2,  P11A,    41,  1,     17,    217,2,19930421,1458,-55.7413, 155.0437, 4175,    498.0,   4.1380,  34.2840,2,  34.2850,2,   -999.0,5,    221.5,2,    25.50,2,    29.50,2,     2.09,2,   2183.4,2,  4.1030
    09AR9391_2,  P11A,    41,  1,     16,    216,2,19930421,1458,-55.7413, 155.0437, 4175,    596.8,   3.6670,  34.3180,2,  34.3180,2,   -999.0,5,    208.7,2,    33.50,2,    30.70,2,     2.20,2,   2199.1,2,  3.6260
    09AR9391_2,  P11A,    41,  1,     15,    215,2,19930421,1458,-55.7413, 155.0437, 4175,    697.9,   3.2260,  34.3530,2,  34.3530,2,   -999.0,5,    199.0,2,    41.80,2,    31.70,2,     2.30,2,   2213.4,2,  3.1800
    09AR9391_2,  P11A,    41,  1,     13,    213,2,19930421,1458,-55.7413, 155.0437, 4175,    796.8,   2.9470,  34.3970,2,  34.3910,2,   -999.0,5,    191.4,2,    50.10,2,    32.90,2,     2.36,2,   2224.7,2,  2.8950
    09AR9391_2,  P11A,    41,  1,     14,    214,2,19930421,1458,-55.7413, 155.0437, 4175,    800.4,   2.9510,  34.3980,3,  34.3900,2,   -999.0,5,    191.4,2,    50.10,2,    33.50,2,     2.36,2,   2226.1,2,  2.8990
    09AR9391_2,  P11A,    41,  1,     12,    212,2,19930421,1458,-55.7413, 155.0437, 4175,   1195.0,   2.5170,  34.5900,2,  34.5890,2,   -999.0,5,    169.1,2,    68.60,2,    33.60,2,  -999.00,5,   2252.0,2,  2.4390
    09AR9391_2,  P11A,    41,  1,     11,    211,2,19930421,1458,-55.7413, 155.0437, 4175,   1198.3,   2.5150,  34.5910,2,  34.5910,2,   -999.0,5,    169.4,2,    68.80,2,    33.80,2,     2.36,2,   2252.1,2,  2.4370
    09AR9391_2,  P11A,    41,  1,     10,    210,2,19930421,1458,-55.7413, 155.0437, 4175,   1396.7,   2.3630,  34.6610,2,  34.6600,2,   -999.0,5,    172.4,2,    72.40,2,    32.30,2,     2.30,2,   2252.4,2,  2.2710
    09AR9391_2,  P11A,    41,  1,      9,    209,2,19930421,1458,-55.7413, 155.0437, 4175,   1796.2,   2.1140,  34.7350,2,  34.7340,2,   -999.0,5,    181.3,2,    77.90,2,    31.30,2,     2.20,2,   2250.6,2,  1.9930
    09AR9391_2,  P11A,    41,  1,      8,    208,2,19930421,1458,-55.7413, 155.0437, 4175,   1796.8,   2.1130,  34.7360,2,  34.7340,2,   -999.0,5,    181.3,2,    78.40,2,    31.20,2,     2.20,2,   2251.1,2,  1.9920
    09AR9391_2,  P11A,    41,  1,      7,    207,2,19930421,1458,-55.7413, 155.0437, 4175,   1999.1,   1.9760,  34.7480,2,  34.7450,2,   -999.0,5,    186.8,2,    80.50,2,    30.40,2,     2.18,2,   2249.4,2,  1.8400
    09AR9391_2,  P11A,    41,  1,      6,    206,2,19930421,1458,-55.7413, 155.0437, 4175,   2400.0,   1.6290,  34.7510,2,  34.7510,2,   -999.0,5,    191.6,2,    90.70,2,    30.90,2,     2.18,2,   2254.0,2,  1.4640
    09AR9391_2,  P11A,    41,  1,      5,    205,2,19930421,1458,-55.7413, 155.0437, 4175,   2401.2,   1.6300,  34.7500,2,  34.7510,2,   -999.0,5,    192.4,2,    90.50,2,    31.00,2,     2.17,2,   -999.0,5,  1.4650
    09AR9391_2,  P11A,    41,  1,      4,    204,2,19930421,1458,-55.7413, 155.0437, 4175,   3200.8,   1.0320,  34.7250,2,  34.7270,2,   -999.0,5,    198.9,2,   107.60,2,    31.40,2,     2.24,2,   2262.1,2,  0.8070
    09AR9391_2,  P11A,    41,  1,      3,    319,2,19930421,1458,-55.7413, 155.0437, 4175,   3603.6,   0.8370,  34.7160,2,  34.7160,2,   -999.0,5,    203.0,2,   113.40,2,    31.80,2,     2.27,2,   2259.8,2,  0.5770
    09AR9391_2,  P11A,    41,  1,      2,    202,2,19930421,1458,-55.7413, 155.0437, 4175,   4008.3,   0.7640,  34.7110,2,  34.7120,2,   -999.0,5,    203.9,2,   116.10,2,    31.80,2,     2.27,2,   2259.7,2,  0.4650
    09AR9391_2,  P11A,    41,  1,      1,    218,3,19930421,1458,-55.7413, 155.0437, 4175,   4257.2,   0.5880,  34.7040,2,  34.7110,4,   -999.0,5,    204.8,2,   116.60,2,    31.90,2,     2.27,2,   2260.3,2,  0.2680
    09AR9391_2,  P11A,    42,  1,     24,    224,2,19930421,2257,-56.4240, 155.0440, 3830,     10.9,   5.5260,  33.8130,2,  33.8170,2,   -999.0,5,    294.7,2,     4.40,2,    22.20,2,  -999.00,5,   -999.0,9,  5.5260
    09AR9391_2,  P11A,    42,  1,     23,    223,2,19930421,2257,-56.4240, 155.0440, 3830,     49.3,   5.5230,  33.8130,2,  33.8100,2,   -999.0,5,    294.2,2,     4.20,2,    22.10,2,     1.64,2,   -999.0,9,  5.5200
    09AR9391_2,  P11A,    42,  1,     22,    222,2,19930421,2257,-56.4240, 155.0440, 3830,     98.7,   5.4050,  33.8080,4,  33.8110,2,   -999.0,5,    293.9,2,     4.10,2,    22.20,2,     1.62,2,   -999.0,9,  5.3990
    09AR9391_2,  P11A,    42,  1,     21,    221,2,19930421,2257,-56.4240, 155.0440, 3830,    149.7,   3.1350,  34.0020,2,  33.9990,2,   -999.0,5,    283.7,2,    15.60,2,    26.80,2,     1.94,2,   -999.0,9,  3.1270
    09AR9391_2,  P11A,    42,  1,     20,    220,2,19930421,2257,-56.4240, 155.0440, 3830,    198.4,   3.1170,  34.1120,4,  34.1010,2,   -999.0,5,    258.0,2,    21.80,2,    28.50,2,     2.06,2,   -999.0,9,  3.1050
    09AR9391_2,  P11A,    42,  1,     19,    203,2,19930421,2257,-56.4240, 155.0440, 3830,    297.5,   2.7090,  34.2140,2,  34.2110,2,   -999.0,5,    231.4,2,    34.50,2,    31.20,2,     2.25,2,   -999.0,9,  2.6920
    09AR9391_2,  P11A,    42,  1,     18,    201,2,19930421,2257,-56.4240, 155.0440, 3830,    399.8,   2.4900,  34.3240,2,  34.3170,2,   -999.0,5,    206.1,2,    47.10,2,    32.90,2,     2.38,2,   -999.0,9,  2.4670
    09AR9391_2,  P11A,    42,  1,     17,    217,2,19930421,2257,-56.4240, 155.0440, 3830,    500.0,   2.5330,  34.4160,2,  34.4110,2,   -999.0,5,    186.6,2,    56.00,2,    33.30,2,     2.43,2,   -999.0,9,  2.5040
    09AR9391_2,  P11A,    42,  1,     16,    216,2,19930421,2257,-56.4240, 155.0440, 3830,    599.6,   2.2830,  34.4580,2,  34.4550,2,   -999.0,5,    177.1,2,    64.70,2,    34.30,2,     2.48,2,   -999.0,9,  2.2480
    09AR9391_2,  P11A,    42,  1,     15,    215,2,19930421,2257,-56.4240, 155.0440, 3830,    696.4,   2.3980,  34.5420,2,  34.5390,2,   -999.0,5,    171.3,2,    68.90,2,    33.60,2,     2.44,2,   -999.0,9,  2.3560
    09AR9391_2,  P11A,    42,  1,     14,    214,2,19930421,2257,-56.4240, 155.0440, 3830,    798.6,   2.3680,  34.6000,2,  34.6000,2,   -999.0,5,    170.1,2,    72.90,2,    33.10,2,     2.43,2,   -999.0,9,  2.3190
    09AR9391_2,  P11A,    42,  1,     13,    213,2,19930421,2257,-56.4240, 155.0440, 3830,    799.3,   2.3680,  34.6010,2,  34.6000,2,   -999.0,5,    171.0,2,    72.70,2,    33.00,2,     2.40,2,   -999.0,9,  2.3190
    09AR9391_2,  P11A,    42,  1,     11,    211,2,19930421,2257,-56.4240, 155.0440, 3830,   1199.5,   2.1680,  34.7150,2,  34.7170,2,   -999.0,5,    180.4,2,    79.10,2,    30.70,2,     2.22,2,   -999.0,9,  2.0930
    09AR9391_2,  P11A,    42,  1,     12,    212,2,19930421,2257,-56.4240, 155.0440, 3830,   1199.7,   2.1680,  34.7170,2,  34.7170,2,   -999.0,5,    179.7,2,    79.20,2,    31.10,2,  -999.00,5,   -999.0,9,  2.0930
    09AR9391_2,  P11A,    42,  1,     10,    210,2,19930421,2257,-56.4240, 155.0440, 3830,   1399.2,   2.0220,  34.7350,2,  34.7360,2,   -999.0,5,    185.1,2,    82.80,2,    30.50,2,     2.21,2,   -999.0,9,  1.9330
    09AR9391_2,  P11A,    42,  1,      8,    208,2,19930421,2257,-56.4240, 155.0440, 3830,   1798.4,   1.6710,  34.7460,2,  34.7470,2,   -999.0,5,    190.0,2,    94.30,2,    30.50,2,     2.20,2,   -999.0,9,  1.5560
    09AR9391_2,  P11A,    42,  1,      9,    209,2,19930421,2257,-56.4240, 155.0440, 3830,   1800.4,   1.6610,  34.7450,2,  34.7470,2,   -999.0,5,    190.3,2,    94.20,2,    30.50,2,     2.20,2,   -999.0,9,  1.5460
    09AR9391_2,  P11A,    42,  1,      7,    207,2,19930421,2257,-56.4240, 155.0440, 3830,   2201.1,   1.2690,  34.7320,2,  34.7340,2,   -999.0,5,    197.1,2,   106.40,2,    31.10,2,     2.24,2,   -999.0,9,  1.1280
    09AR9391_2,  P11A,    42,  1,      6,    206,2,19930421,2257,-56.4240, 155.0440, 3830,   2320.5,   1.1690,  34.7270,2,  34.7300,2,   -999.0,5,    196.5,2,   110.30,2,    31.00,2,     2.25,2,   -999.0,9,  1.0190
    09AR9391_2,  P11A,    42,  1,      5,    205,2,19930421,2257,-56.4240, 155.0440, 3830,   2322.4,   1.1730,  34.7270,2,  34.7300,2,   -999.0,5,    198.0,2,   109.70,2,    31.20,2,     2.25,2,   -999.0,9,  1.0230
    09AR9391_2,  P11A,    42,  1,      4,    204,2,19930421,2257,-56.4240, 155.0440, 3830,   3001.5,   0.7840,  34.7080,2,  34.7120,2,   -999.0,5,    203.6,2,   119.70,2,    31.50,2,     2.30,2,   -999.0,9,  0.5830
    09AR9391_2,  P11A,    42,  1,      3,    319,2,19930421,2257,-56.4240, 155.0440, 3830,   3304.0,   0.6330,  34.7000,2,  34.7040,2,   -999.0,5,    206.3,2,   123.80,2,    31.70,2,     2.30,2,   -999.0,9,  0.4080
    09AR9391_2,  P11A,    42,  1,      2,    202,2,19930421,2257,-56.4240, 155.0440, 3830,   3603.7,   0.5450,  34.6960,2,  34.6990,2,   -999.0,5,    208.0,2,   124.60,2,    31.60,2,     2.30,2,   -999.0,9,  0.2930
    09AR9391_2,  P11A,    42,  1,      1,    218,2,19930421,2257,-56.4240, 155.0440, 3830,   3775.9,   0.5450,  34.6960,2,  34.6990,2,   -999.0,5,    207.7,2,   123.90,2,    31.90,2,     2.30,2,   -999.0,9,  0.2760
    09AR9391_2,  P11A,    43,  1,     24,    224,2,19930422,0529,-57.0120, 155.0115, 3710,      9.0,   3.5730,  33.8680,4,  33.8980,2,   -999.0,5,    308.5,2,    11.40,2,    25.60,2,  -999.00,5,   2140.3,2,  3.5730
    09AR9391_2,  P11A,    43,  1,     23,    223,2,19930422,0529,-57.0120, 155.0115, 3710,     24.2,   3.5660,  33.8700,4,  33.8970,2,   -999.0,5,    308.2,2,    11.40,2,    25.80,2,     1.79,2,   2141.8,2,  3.5650
    09AR9391_2,  P11A,    43,  1,     22,    222,2,19930422,0529,-57.0120, 155.0115, 3710,     50.3,   3.5490,  33.8700,4,  33.8980,2,   -999.0,5,    308.2,2,    11.20,2,    26.00,2,     1.80,2,   2139.0,2,  3.5470
    09AR9391_2,  P11A,    43,  1,     21,    221,2,19930422,0529,-57.0120, 155.0115, 3710,     90.3,   2.9880,  33.9120,4,  33.9390,2,   -999.0,5,    308.8,2,    15.10,2,    26.50,2,     1.85,2,   2149.2,2,  2.9830
    09AR9391_2,  P11A,    43,  1,     20,    220,2,19930422,0529,-57.0120, 155.0115, 3710,    159.2,   0.6350,  34.0750,4,  34.1130,2,   -999.0,5,    294.3,2,    38.10,2,    30.40,2,     2.21,2,   2187.2,2,  0.6290
    09AR9391_2,  P11A,    43,  1,     19,    203,2,19930422,0529,-57.0120, 155.0115, 3710,    250.7,   1.5080,  34.3930,4,  34.4210,2,   -999.0,5,    199.2,2,    64.90,2,    35.20,2,     2.48,2,   2243.4,2,  1.4960
    09AR9391_2,  P11A,    43,  1,     18,    201,3,19930422,0529,-57.0120, 155.0115, 3710,    350.9,   2.0200,  34.5120,4,  34.5320,4,   -999.0,5,    171.9,2,    72.50,2,    35.30,2,     2.49,2,   2255.8,2,  2.0010
    09AR9391_2,  P11A,    43,  1,     17,    217,2,19930422,0529,-57.0120, 155.0115, 3710,    498.2,   2.0690,  34.5960,4,  34.6280,2,   -999.0,5,    168.8,2,    78.30,2,    33.80,2,     2.40,2,   2258.6,2,  2.0410
    09AR9391_2,  P11A,    43,  1,     16,    216,2,19930422,0529,-57.0120, 155.0115, 3710,    599.7,   2.0910,  34.6030,4,  34.6750,2,   -999.0,5,    172.1,2,    80.00,2,    32.70,2,     2.33,2,   2255.5,2,  2.0570
    09AR9391_2,  P11A,    43,  1,     15,    215,2,19930422,0529,-57.0120, 155.0115, 3710,    698.3,   2.0710,  34.6960,2,  34.6940,2,   -999.0,5,    175.3,2,    80.70,2,    32.00,2,     2.29,2,   2253.0,2,  2.0310
    09AR9391_2,  P11A,    43,  1,     13,    213,2,19930422,0529,-57.0120, 155.0115, 3710,    798.6,   2.1170,  34.7240,2,  34.7240,2,   -999.0,5,    181.0,2,    80.20,2,    31.60,2,     2.22,2,   2248.5,2,  2.0700
    09AR9391_2,  P11A,    43,  1,     14,    214,2,19930422,0529,-57.0120, 155.0115, 3710,    799.0,   2.1140,  34.7260,2,  34.7230,2,   -999.0,5,    180.4,2,    80.50,2,    31.50,2,     2.22,2,   2250.1,2,  2.0670
    09AR9391_2,  P11A,    43,  1,     11,    211,3,19930422,0529,-57.0120, 155.0115, 3710,   1095.4,   1.8260,  34.7470,2,  34.7450,4,   -999.0,5,    186.8,2,    84.70,2,    30.90,2,     2.15,2,   2250.0,2,  1.7610
    09AR9391_2,  P11A,    43,  1,     12,    212,2,19930422,0529,-57.0120, 155.0115, 3710,   1099.9,   1.8260,  34.7460,2,  34.7450,2,   -999.0,5,    186.5,2,    84.30,2,    30.90,2,  -999.00,5,   2250.1,2,  1.7610
    09AR9391_2,  P11A,    43,  1,     10,    210,2,19930422,0529,-57.0120, 155.0115, 3710,   1298.8,   1.6970,  34.7500,2,  34.7500,2,   -999.0,5,    189.1,2,    89.60,2,    31.10,2,     2.16,2,   2249.9,2,  1.6190
    09AR9391_2,  P11A,    43,  1,      9,    209,2,19930422,0529,-57.0120, 155.0115, 3710,   1500.8,   1.5170,  34.7450,2,  34.7460,2,   -999.0,5,    191.6,2,    97.00,2,    31.10,2,     2.17,2,   2253.4,2,  1.4260
    09AR9391_2,  P11A,    43,  1,      8,    208,2,19930422,0529,-57.0120, 155.0115, 3710,   1697.4,   1.3440,  34.7400,2,  34.7400,2,   -999.0,5,    194.8,2,   102.90,2,    31.70,2,     2.20,2,   2255.4,2,  1.2410
    09AR9391_2,  P11A,    43,  1,      7,    207,2,19930422,0529,-57.0120, 155.0115, 3710,   1899.4,   1.2340,  34.7350,2,  34.7340,2,   -999.0,5,    196.5,2,   106.10,2,    31.50,2,     2.21,2,   2257.8,2,  1.1170
    09AR9391_2,  P11A,    43,  1,      6,    206,2,19930422,0529,-57.0120, 155.0115, 3710,   2302.3,   0.9660,  34.7230,2,  34.7230,2,   -999.0,5,    199.7,2,   114.20,2,    31.60,2,     2.24,2,   2259.4,2,  0.8210
    09AR9391_2,  P11A,    43,  1,      5,    205,2,19930422,0529,-57.0120, 155.0115, 3710,   2303.4,   0.9660,  34.7230,2,  34.7230,2,   -999.0,5,    199.7,2,   113.70,2,    31.70,2,     2.24,2,   2259.6,2,  0.8210
    09AR9391_2,  P11A,    43,  1,      4,    204,2,19930422,0529,-57.0120, 155.0115, 3710,   2904.1,   0.6760,  34.7060,2,  34.7080,2,   -999.0,5,    205.4,2,   120.30,2,    32.30,2,     2.27,2,   2259.6,2,  0.4860
    09AR9391_2,  P11A,    43,  1,      3,    319,2,19930422,0529,-57.0120, 155.0115, 3710,   3206.0,   0.6040,  34.7040,2,  34.7040,2,   -999.0,5,    207.4,2,   123.90,2,    32.40,2,     2.28,2,   2256.6,2,  0.3880
    09AR9391_2,  P11A,    43,  1,      2,    202,2,19930422,0529,-57.0120, 155.0115, 3710,   3514.7,   0.5310,  34.7000,2,  34.7010,2,   -999.0,5,    209.2,2,   123.80,2,    32.30,2,     2.28,2,   2259.4,2,  0.2880
    09AR9391_2,  P11A,    43,  1,      1,    218,2,19930422,0529,-57.0120, 155.0115, 3710,   3744.4,   0.5170,  34.6970,2,  34.6990,2,   -999.0,5,    209.8,2,   123.70,2,    31.90,2,     2.29,2,   2258.3,2,  0.2520