BOTTLE,20190618WHPSIOAMB
EXPOCODE,SECT_ID,STNNBR,CASTNO,SAMPNO,BTLNBR,BTLNBR_FLAG_W,DATE,TIME,LATITUDE,LONGITUDE,DEPTH,CTDPRS,CTDTMP,CTDSAL,CTDSAL_FLAG_W,SALNTY,SALNTY_FLAG_W,CTDOXY,CTDOXY_FLAG_W,OXYGEN,OXYGEN_FLAG_W,SILCAT,SILCAT_FLAG_W,NO2+NO3,NO2+NO3_FLAG_W,PHSPHT,PHSPHT_FLAG_W,TCARBN,TCARBN_FLAG_W,THETA
,,,,,,,,,,,,DBAR,ITS-90,PSS-78,,PSS-78,,UMOL/KG,,UMOL/KG,,UMOL/KG,,UMOL/KG,,UMOL/KG,,UMOL/KG,,ITS-90
    09AR9391_2,  P11A,    31,  1,     24,    224,2,19930414,0612,-51.2552, 155.0133, 4230,     10.9,  10.6340,  34.4410,2,  34.4380,2,   -999.0,5,    266.2,2,     1.60,2,    10.10,2,  -999.00,5,   -999.0,9, 10.6350
    09AR9391_2,  P11A,    31,  1,     23,    223,2,19930414,0612,-51.2552, 155.0133, 4230,     38.7,  10.6380,  34.4410,2,  34.4430,2,   -999.0,5,    266.5,2,     1.50,2,    10.10,2,     0.86,2,   -999.0,9, 10.6360
    09AR9391_2,  P11A,    31,  1,     22,    222,2,19930414,0612,-51.2552, 155.0133, 4230,     74.1,  10.8760,  34.5180,2,  34.5180,2,   -999.0,5,    263.6,2,     1.70,2,     9.50,2,     0.84,2,   -999.0,9, 10.8700
    09AR9391_2,  P11A,    31,  1,     21,    221,2,19930414,0612,-51.2552, 155.0133, 4230,    100.9,  10.5980,  34.8780,4,  34.8730,2,   -999.0,5,    237.5,2,     3.10,2,    12.70,2,     1.01,2,   -999.0,9, 10.5880
    09AR9391_2,  P11A,    31,  1,     20,    220,2,19930414,0612,-51.2552, 155.0133, 4230,    151.5,   9.8650,  34.7820,3,  34.7850,2,   -999.0,5,    246.9,2,     3.10,2,    13.40,2,     1.06,2,   -999.0,9,  9.8500
    09AR9391_2,  P11A,    31,  1,     19,    203,2,19930414,0612,-51.2552, 155.0133, 4230,    197.5,   9.3290,  34.6880,3,  34.6910,2,   -999.0,5,    252.9,2,     2.70,2,    14.30,2,     1.12,2,   -999.0,9,  9.3090
    09AR9391_2,  P11A,    31,  1,     18,    201,2,19930414,0612,-51.2552, 155.0133, 4230,    300.2,   8.8250,  34.5960,2,  34.5960,2,   -999.0,5,    255.3,2,     4.30,2,    15.60,2,     1.21,2,   -999.0,9,  8.7950
    09AR9391_2,  P11A,    31,  1,     17,    217,2,19930414,0612,-51.2552, 155.0133, 4230,    451.1,   8.4920,  34.5610,2,-999.0000,9,   -999.0,5,   -999.0,9,  -999.00,9,  -999.00,9,  -999.00,9,   -999.0,9,  8.4460
    09AR9391_2,  P11A,    31,  1,     16,    216,2,19930414,0612,-51.2552, 155.0133, 4230,    598.9,   7.6920,  34.4850,4,  34.4960,2,   -999.0,5,    218.5,2,    10.00,2,    22.00,2,     1.60,2,   -999.0,9,  7.6330
    09AR9391_2,  P11A,    31,  1,     15,    215,2,19930414,0612,-51.2552, 155.0133, 4230,    695.8,   6.9460,  34.4410,2,  34.4420,2,   -999.0,5,    210.1,2,    12.60,2,    24.80,2,     1.80,2,   -999.0,9,  6.8810
    09AR9391_2,  P11A,    31,  1,     13,    213,3,19930414,0612,-51.2552, 155.0133, 4230,    799.5,   5.8150,  34.3550,3,  34.3600,4,   -999.0,5,    215.1,2,    17.30,2,    27.00,2,     1.95,2,   -999.0,9,  5.7460
    09AR9391_2,  P11A,    31,  1,     14,    214,2,19930414,0612,-51.2552, 155.0133, 4230,    799.7,   5.8210,  34.3560,2,  34.3570,2,   -999.0,5,    214.2,2,    16.40,2,    27.00,2,     1.94,2,   -999.0,9,  5.7520
    09AR9391_2,  P11A,    31,  1,     12,    212,2,19930414,0612,-51.2552, 155.0133, 4230,    898.7,   4.8430,  34.3070,4,  34.3080,2,   -999.0,5,    216.4,2,    22.40,2,    29.10,2,  -999.00,5,   -999.0,9,  4.7710
    09AR9391_2,  P11A,    31,  1,     11,    211,2,19930414,0612,-51.2552, 155.0133, 4230,   1098.0,   3.8860,  34.3600,2,  34.3570,2,   -999.0,5,    198.2,2,    38.60,2,    32.00,2,     2.27,2,   -999.0,9,  3.8040
    09AR9391_2,  P11A,    31,  1,     10,    210,2,19930414,0612,-51.2552, 155.0133, 4230,   1299.1,   3.0990,  34.4040,2,  34.4050,2,   -999.0,5,    187.7,2,    51.30,2,    33.70,2,     2.40,2,   -999.0,9,  3.0080
    09AR9391_2,  P11A,    31,  1,      9,    209,2,19930414,0612,-51.2552, 155.0133, 4230,   1601.7,   2.6270,  34.5400,2,  34.5400,2,   -999.0,5,    171.2,2,    65.80,2,    33.90,2,     2.45,2,   -999.0,9,  2.5160
    09AR9391_2,  P11A,    31,  1,      8,    208,2,19930414,0612,-51.2552, 155.0133, 4230,   1897.0,   2.4570,  34.6460,2,  34.6470,2,   -999.0,5,    172.3,2,    72.30,2,    32.80,2,     2.37,2,   -999.0,9,  2.3230
    09AR9391_2,  P11A,    31,  1,      7,    207,2,19930414,0612,-51.2552, 155.0133, 4230,   2198.1,   2.2690,  34.7170,2,  34.7190,2,   -999.0,5,    181.7,2,    77.20,2,    31.20,2,     2.27,2,   -999.0,9,  2.1110
    09AR9391_2,  P11A,    31,  1,      6,    206,2,19930414,0612,-51.2552, 155.0133, 4230,   2505.9,   2.0520,  34.7410,2,  34.7440,2,   -999.0,5,    191.0,2,    90.70,2,    30.90,2,     2.25,2,   -999.0,9,  1.8700
    09AR9391_2,  P11A,    31,  1,      5,    205,2,19930414,0612,-51.2552, 155.0133, 4230,   2797.9,   1.7780,  34.7450,2,  34.7460,2,   -999.0,5,    192.5,2,    91.10,2,    30.70,2,     2.25,2,   -999.0,9,  1.5740
    09AR9391_2,  P11A,    31,  1,      4,    204,2,19930414,0612,-51.2552, 155.0133, 4230,   3102.9,   1.4500,  34.7340,2,  34.7360,2,   -999.0,5,    195.6,2,    98.80,2,    31.40,2,     2.29,2,   -999.0,9,  1.2240
    09AR9391_2,  P11A,    31,  1,      3,    319,2,19930414,0612,-51.2552, 155.0133, 4230,   3705.0,   1.0660,  34.7180,2,  34.7180,2,   -999.0,5,    201.2,2,   108.30,2,    32.00,2,     2.32,2,   -999.0,9,  0.7900
    09AR9391_2,  P11A,    31,  1,      2,    202,2,19930414,0612,-51.2552, 155.0133, 4230,   4007.1,   0.9520,  34.7110,2,  34.7120,2,   -999.0,5,    203.0,2,   112.00,2,    32.60,2,     2.32,2,   -999.0,9,  0.6480
    09AR9391_2,  P11A,    31,  1,      1,    218,3,19930414,0612,-51.2552, 155.0133, 4230,   4298.7,   0.8740,  34.7050,2,  34.7130,4,   -999.0,5,    202.9,2,   110.40,2,    32.00,2,     2.33,2,   -999.0,9,  0.5410
    09AR9391_2,  P11A,    32,  1,     23,    223,2,19930415,1946,-51.7358, 155.0308, 4520,      9.2,   8.3360,  33.9870,2,  33.9860,2,   -999.0,5,    278.6,2,     2.50,2,    18.00,2,  -999.00,5,   2090.0,2,  8.3370
    09AR9391_2,  P11A,    32,  1,     22,    222,2,19930415,1946,-51.7358, 155.0308, 4520,     30.3,   8.3410,  33.9880,2,  33.9860,2,   -999.0,5,    278.3,2,     2.30,2,    18.10,2,     1.33,2,   2089.2,2,  8.3400
    09AR9391_2,  P11A,    32,  1,     21,    221,2,19930415,1946,-51.7358, 155.0308, 4520,     71.8,   8.4600,  34.0380,4,  34.0440,2,   -999.0,5,    271.8,2,     2.80,2,    17.50,2,     1.32,2,   2091.7,2,  8.4550
    09AR9391_2,  P11A,    32,  1,     20,    220,2,19930415,1946,-51.7358, 155.0308, 4520,     96.9,   8.6610,  34.4510,2,  34.4470,2,   -999.0,5,    256.0,2,     4.80,2,    17.10,2,     1.29,2,   2108.1,2,  8.6530
    09AR9391_2,  P11A,    32,  1,     19,    203,2,19930415,1946,-51.7358, 155.0308, 4520,    196.8,   8.2180,  34.4810,2,  34.4820,2,   -999.0,5,    262.0,2,     5.30,2,    17.50,2,     1.31,2,   2111.8,2,  8.2000
    09AR9391_2,  P11A,    32,  1,     18,    201,2,19930415,1946,-51.7358, 155.0308, 4520,    298.3,   7.5340,  34.3870,2,  34.3900,2,   -999.0,5,    261.3,2,     6.10,2,    19.00,2,     1.42,2,   2118.5,2,  7.5070
    09AR9391_2,  P11A,    32,  1,     17,    217,2,19930415,1946,-51.7358, 155.0308, 4520,    396.5,   6.7020,  34.2930,2,  34.2950,2,   -999.0,5,    255.9,2,     8.40,2,    21.80,2,     1.59,2,   2128.3,2,  6.6670
    09AR9391_2,  P11A,    32,  1,     16,    216,2,19930415,1946,-51.7358, 155.0308, 4520,    496.9,   6.2760,  34.3180,4,  34.3180,2,   -999.0,5,    232.8,2,    12.90,2,    24.50,2,     1.77,2,   2147.7,2,  6.2330
    09AR9391_2,  P11A,    32,  1,     15,    215,2,19930415,1946,-51.7358, 155.0308, 4520,    596.9,   5.8350,  34.3640,2,  34.3630,2,   -999.0,5,    213.4,2,    18.80,2,    27.20,2,     1.93,2,   2165.5,2,  5.7850
    09AR9391_2,  P11A,    32,  1,     14,    214,2,19930415,1946,-51.7358, 155.0308, 4520,    599.0,   5.8210,  34.3620,3,  34.3640,2,   -999.0,5,    211.1,2,    19.30,2,    27.10,2,     1.96,2,   2165.2,2,  5.7710
    09AR9391_2,  P11A,    32,  1,     13,    213,2,19930415,1946,-51.7358, 155.0308, 4520,    695.0,   5.0000,  34.3370,3,  34.3400,2,   -999.0,5,    211.1,2,    25.40,2,    29.50,2,     2.11,2,   2176.4,2,  4.9450
    09AR9391_2,  P11A,    32,  1,     12,    212,2,19930415,1946,-51.7358, 155.0308, 4520,    796.4,   4.1580,  34.2900,2,  34.2890,2,   -999.0,5,    216.5,2,    27.40,2,    30.50,2,  -999.00,5,   2183.4,2,  4.0990
    09AR9391_2,  P11A,    32,  1,     11,    211,2,19930415,1946,-51.7358, 155.0308, 4520,    898.4,   3.6000,  34.2950,4,  34.3020,2,   -999.0,5,    211.0,2,    34.40,2,    31.70,2,     2.24,2,   2196.8,2,  3.5370
    09AR9391_2,  P11A,    32,  1,     10,    210,2,19930415,1946,-51.7358, 155.0308, 4520,    984.7,   3.2650,  34.3200,3,  34.3130,2,   -999.0,5,    206.1,2,    41.10,2,    33.20,2,     2.34,2,   2205.9,2,  3.1970
    09AR9391_2,  P11A,    32,  1,      9,    209,2,19930415,1946,-51.7358, 155.0308, 4520,   1194.3,   2.9410,  34.4340,2,  34.4320,2,   -999.0,5,    181.2,2,    58.00,2,    34.20,2,     2.43,2,   2232.9,2,  2.8590
    09AR9391_2,  P11A,    32,  1,      8,    208,2,19930415,1946,-51.7358, 155.0308, 4520,   1597.0,   2.5460,  34.5990,2,  34.5950,2,   -999.0,5,    168.5,2,    74.00,2,    34.20,2,     2.45,2,   2251.7,2,  2.4360
    09AR9391_2,  P11A,    32,  1,      7,    207,2,19930415,1946,-51.7358, 155.0308, 4520,   1798.0,   2.4390,  34.6530,2,  34.6500,2,   -999.0,5,    173.3,2,    77.90,2,    33.20,2,     2.37,2,   -999.0,9,  2.3140
    09AR9391_2,  P11A,    32,  1,      6,    206,2,19930415,1946,-51.7358, 155.0308, 4520,   2100.1,   2.2760,  34.7130,2,  34.7440,4,   -999.0,5,   -999.0,5,    89.10,2,    31.30,2,     2.24,2,   2251.9,2,  2.1270
    09AR9391_2,  P11A,    32,  1,      5,    205,2,19930415,1946,-51.7358, 155.0308, 4520,   2502.1,   2.0110,  34.7460,2,  34.7450,2,   -999.0,5,    187.5,2,    90.10,2,    31.00,2,     2.24,2,   2250.8,2,  1.8300
    09AR9391_2,  P11A,    32,  1,      4,    204,2,19930415,1946,-51.7358, 155.0308, 4520,   2903.3,   1.6800,  34.7440,2,  34.7440,2,   -999.0,5,    188.4,2,    99.90,2,    31.40,2,     2.25,2,   2256.5,2,  1.4690
    09AR9391_2,  P11A,    32,  1,      3,    319,2,19930415,1946,-51.7358, 155.0308, 4520,   3303.9,   1.3120,  34.7320,2,  34.7300,2,   -999.0,5,    194.7,2,   111.30,2,    31.90,2,     2.30,2,   2260.6,2,  1.0700
    09AR9391_2,  P11A,    32,  1,      2,    202,2,19930415,1946,-51.7358, 155.0308, 4520,   3702.0,   1.0860,  34.7190,2,  34.7200,2,   -999.0,5,    198.1,2,   118.80,2,    32.90,2,     2.35,2,   2262.1,2,  0.8100
    09AR9391_2,  P11A,    32,  1,      1,    218,2,19930415,1946,-51.7358, 155.0308, 4520,   4208.3,   0.9170,  34.7100,2,  34.7110,2,   -999.0,5,    201.7,2,   121.50,2,    32.20,2,     2.32,2,   2261.9,2,  0.5920
    09AR9391_2,  P11A,    33,  1,     24,    224,2,19930416,0351,-52.2193, 154.9780, 4230,     10.0,   8.5880,  34.1020,2,  34.1040,2,   -999.0,5,    277.1,2,  -999.00,5,    15.80,2,  -999.00,5,   -999.0,9,  8.5890
    09AR9391_2,  P11A,    33,  1,     23,    223,2,19930416,0351,-52.2193, 154.9780, 4230,     25.1,   8.5810,  34.1120,2,  34.1090,2,   -999.0,5,    277.3,2,  -999.00,5,    15.80,2,     1.21,2,   -999.0,9,  8.5800
    09AR9391_2,  P11A,    33,  1,     22,    222,2,19930416,0351,-52.2193, 154.9780, 4230,     52.7,   8.5710,  34.1250,2,  34.1240,2,   -999.0,5,    277.0,2,  -999.00,5,    15.80,2,     1.21,2,   -999.0,9,  8.5680
    09AR9391_2,  P11A,    33,  1,     21,    221,2,19930416,0351,-52.2193, 154.9780, 4230,    102.9,   8.2240,  34.1600,4,  34.1630,2,   -999.0,5,    274.5,2,  -999.00,5,    16.90,2,     1.29,2,   -999.0,9,  8.2160
    09AR9391_2,  P11A,    33,  1,     20,    220,2,19930416,0351,-52.2193, 154.9780, 4230,    202.8,   7.1150,  34.3090,3,  34.3120,2,   -999.0,5,    266.9,2,  -999.00,5,    19.20,2,     1.40,2,   -999.0,9,  7.0980
    09AR9391_2,  P11A,    33,  1,     19,    203,2,19930416,0351,-52.2193, 154.9780, 4230,    255.3,   6.5140,  34.2370,4,  34.2340,2,   -999.0,5,    266.2,2,  -999.00,5,    21.00,2,     1.51,2,   -999.0,9,  6.4930
    09AR9391_2,  P11A,    33,  1,     18,    201,2,19930416,0351,-52.2193, 154.9780, 4230,    401.4,   6.2170,  34.3270,4,  34.3070,2,   -999.0,5,    234.7,2,  -999.00,5,    24.50,2,     1.74,2,   -999.0,9,  6.1830
    09AR9391_2,  P11A,    33,  1,     17,    217,3,19930416,0351,-52.2193, 154.9780, 4230,    499.1,   5.4360,  34.3100,4,  34.2990,4,   -999.0,5,    224.0,2,  -999.00,5,    27.00,2,     1.90,2,   -999.0,9,  5.3960
    09AR9391_2,  P11A,    33,  1,     16,    216,2,19930416,0351,-52.2193, 154.9780, 4230,    593.8,   4.8060,  34.2960,2,  34.2950,2,   -999.0,5,    219.7,2,  -999.00,5,    28.80,2,     2.01,2,   -999.0,9,  4.7610
    09AR9391_2,  P11A,    33,  1,     15,    215,2,19930416,0351,-52.2193, 154.9780, 4230,    692.6,   4.2370,  34.3190,3,  34.3160,2,   -999.0,5,    210.4,2,  -999.00,5,    30.70,2,     2.15,2,   -999.0,9,  4.1860
    09AR9391_2,  P11A,    33,  1,     14,    214,2,19930416,0351,-52.2193, 154.9780, 4230,    796.7,   3.6980,  34.3330,3,  34.3330,2,   -999.0,5,    204.3,2,  -999.00,5,    32.30,2,     2.24,2,   -999.0,9,  3.6420
    09AR9391_2,  P11A,    33,  1,     13,    213,2,19930416,0351,-52.2193, 154.9780, 4230,    801.3,   3.6860,  34.3350,3,  34.3340,2,   -999.0,5,    204.3,2,  -999.00,5,    32.40,2,     2.24,2,   -999.0,9,  3.6300
    09AR9391_2,  P11A,    33,  1,     12,    212,2,19930416,0351,-52.2193, 154.9780, 4230,    997.3,   2.9860,  34.3700,3,  34.3670,2,   -999.0,5,    194.4,2,  -999.00,5,    34.60,2,  -999.00,5,   -999.0,9,  2.9190
    09AR9391_2,  P11A,    33,  1,     11,    211,2,19930416,0351,-52.2193, 154.9780, 4230,    999.8,   3.0020,  34.3740,2,  34.3670,2,   -999.0,5,    195.3,2,  -999.00,5,    34.80,2,     2.35,2,   -999.0,9,  2.9350
    09AR9391_2,  P11A,    33,  1,     10,    210,2,19930416,0351,-52.2193, 154.9780, 4230,   1395.3,   2.5250,  34.5790,2,  34.5800,2,   -999.0,5,    169.9,2,  -999.00,5,    35.40,2,     2.39,2,   -999.0,9,  2.4320
    09AR9391_2,  P11A,    33,  1,      9,    209,2,19930416,0351,-52.2193, 154.9780, 4230,   1400.6,   2.5220,  34.5810,2,  34.5790,2,   -999.0,5,    169.9,2,  -999.00,5,    35.40,2,     2.38,2,   -999.0,9,  2.4280
    09AR9391_2,  P11A,    33,  1,      8,    208,2,19930416,0351,-52.2193, 154.9780, 4230,   1702.7,   2.3290,  34.6770,2,  34.6780,2,   -999.0,5,    173.5,2,  -999.00,5,    33.90,2,     2.29,2,   -999.0,9,  2.2130
    09AR9391_2,  P11A,    33,  1,      7,    207,2,19930416,0351,-52.2193, 154.9780, 4230,   2299.9,   1.8520,  34.7470,2,  34.7480,2,   -999.0,5,    191.4,2,  -999.00,5,    32.30,2,     2.19,2,   -999.0,9,  1.6920
    09AR9391_2,  P11A,    33,  1,      6,    206,2,19930416,0351,-52.2193, 154.9780, 4230,   2601.3,   1.5440,  34.7420,2,  34.7430,2,   -999.0,5,    193.1,2,  -999.00,5,    32.20,2,     2.22,2,   -999.0,9,  1.3630
    09AR9391_2,  P11A,    33,  1,      5,    205,2,19930416,0351,-52.2193, 154.9780, 4230,   2601.8,   1.5500,  34.7430,2,  34.7430,2,   -999.0,5,    194.3,2,  -999.00,5,    32.20,2,     2.21,2,   -999.0,9,  1.3690
    09AR9391_2,  P11A,    33,  1,      4,    204,2,19930416,0351,-52.2193, 154.9780, 4230,   3305.2,   1.0280,  34.7170,2,  34.7210,2,   -999.0,5,    199.0,2,  -999.00,5,    33.20,2,     2.28,2,   -999.0,9,  0.7930
    09AR9391_2,  P11A,    33,  1,      3,    319,2,19930416,0351,-52.2193, 154.9780, 4230,   3705.8,   0.8440,  34.7100,2,  34.7110,2,   -999.0,5,    203.0,2,  -999.00,5,    33.50,2,     2.28,2,   -999.0,9,  0.5740
    09AR9391_2,  P11A,    33,  1,      2,    202,2,19930416,0351,-52.2193, 154.9780, 4230,   4008.0,   0.7520,  34.7040,2,  34.7060,2,   -999.0,5,    205.3,2,  -999.00,5,    33.70,2,     2.29,2,   -999.0,9,  0.4530
    09AR9391_2,  P11A,    33,  1,      1,    218,3,19930416,0351,-52.2193, 154.9780, 4230,   4251.6,   0.6520,  34.6990,2,  34.7060,4,   -999.0,5,    206.3,2,  -999.00,5,    33.80,2,     2.30,2,   -999.0,9,  0.3310