BOTTLE,20190618WHPSIOAMB
EXPOCODE,SECT_ID,STNNBR,CASTNO,SAMPNO,BTLNBR,BTLNBR_FLAG_W,DATE,TIME,LATITUDE,LONGITUDE,DEPTH,CTDPRS,CTDTMP,CTDSAL,CTDSAL_FLAG_W,SALNTY,SALNTY_FLAG_W,CTDOXY,CTDOXY_FLAG_W,OXYGEN,OXYGEN_FLAG_W,SILCAT,SILCAT_FLAG_W,NO2+NO3,NO2+NO3_FLAG_W,PHSPHT,PHSPHT_FLAG_W,TCARBN,TCARBN_FLAG_W,THETA
,,,,,,,,,,,,DBAR,ITS-90,PSS-78,,PSS-78,,UMOL/KG,,UMOL/KG,,UMOL/KG,,UMOL/KG,,UMOL/KG,,UMOL/KG,,ITS-90
    09AR9391_2,  P11A,    50,  1,     24,    224,2,19930424,1420,-61.6012, 152.1733, 2710,      9.7,   0.8830,  34.0740,2,  34.0790,2,   -999.0,5,    315.2,2,    39.00,2,    28.50,2,  -999.00,5,   2173.4,2,  0.8830
    09AR9391_2,  P11A,    50,  1,     23,    223,2,19930424,1420,-61.6012, 152.1733, 2710,     24.1,   0.8850,  34.0730,2,  34.0740,2,   -999.0,5,    313.7,2,    39.10,2,    29.10,2,     1.91,2,   2175.6,2,  0.8840
    09AR9391_2,  P11A,    50,  1,     22,    222,2,19930424,1420,-61.6012, 152.1733, 2710,     50.3,   0.8810,  34.0730,2,  34.0730,2,   -999.0,5,    315.4,2,    39.30,2,    28.50,2,     1.92,2,   2176.8,2,  0.8790
    09AR9391_2,  P11A,    50,  1,     21,    221,2,19930424,1420,-61.6012, 152.1733, 2710,     82.5,   0.9000,  34.0850,3,  34.0830,2,   -999.0,5,    311.9,2,    40.20,2,    28.80,2,     1.95,2,   2174.6,2,  0.8970
    09AR9391_2,  P11A,    50,  1,     20,    220,2,19930424,1420,-61.6012, 152.1733, 2710,    118.9,   1.7450,  34.6450,2,  34.6420,2,   -999.0,5,    171.9,2,    80.70,2,    34.80,2,     2.44,2,   2261.2,2,  1.7390
    09AR9391_2,  P11A,    50,  1,     19,    203,2,19930424,1420,-61.6012, 152.1733, 2710,    189.1,   1.7710,  34.6730,2,  34.6710,2,   -999.0,5,    175.1,2,    82.00,2,    34.60,2,     2.40,2,   2257.9,2,  1.7620
    09AR9391_2,  P11A,    50,  1,     18,    201,2,19930424,1420,-61.6012, 152.1733, 2710,    298.9,   1.7530,  34.7050,2,  34.7000,2,   -999.0,5,    181.4,2,    84.00,2,    33.50,2,     2.33,2,   2256.4,2,  1.7380
    09AR9391_2,  P11A,    50,  1,     17,    217,2,19930424,1420,-61.6012, 152.1733, 2710,    399.1,   1.7260,  34.7220,2,  34.7170,2,   -999.0,5,    184.9,2,    85.20,2,    32.60,2,     2.30,2,   2252.3,2,  1.7050
    09AR9391_2,  P11A,    50,  1,     16,    216,2,19930424,1420,-61.6012, 152.1733, 2710,    497.0,   1.6850,  34.7340,2,  34.7290,2,   -999.0,5,    185.9,2,    87.10,2,    32.00,2,     2.28,2,   2252.3,2,  1.6590
    09AR9391_2,  P11A,    50,  1,     15,    215,2,19930424,1420,-61.6012, 152.1733, 2710,    598.9,   1.6210,  34.7410,2,  34.7370,2,   -999.0,5,    189.4,2,    89.20,2,    32.10,2,     2.26,2,   2251.2,2,  1.5890
    09AR9391_2,  P11A,    50,  1,     14,    214,2,19930424,1420,-61.6012, 152.1733, 2710,    694.5,   1.5410,  34.7440,2,  34.7460,2,   -999.0,5,    191.9,2,    91.30,2,    31.70,2,     2.25,2,   2251.9,2,  1.5040
    09AR9391_2,  P11A,    50,  1,     13,    213,2,19930424,1420,-61.6012, 152.1733, 2710,    796.1,   1.4480,  34.7430,2,  34.7480,2,   -999.0,5,    194.2,2,    93.60,2,    31.80,2,     2.24,2,   2251.9,2,  1.4050
    09AR9391_2,  P11A,    50,  1,     12,    212,2,19930424,1420,-61.6012, 152.1733, 2710,    899.5,   1.3690,  34.7410,2,  34.7430,2,   -999.0,5,    194.3,2,    94.40,2,    31.50,2,  -999.00,5,   2251.1,2,  1.3200
    09AR9391_2,  P11A,    50,  1,     11,    211,2,19930424,1420,-61.6012, 152.1733, 2710,    996.4,   1.2840,  34.7390,2,  34.7410,2,   -999.0,5,    195.4,2,    94.20,2,    30.90,2,     2.22,2,   2251.2,2,  1.2300
    09AR9391_2,  P11A,    50,  1,     10,    210,2,19930424,1420,-61.6012, 152.1733, 2710,   1094.6,   1.2110,  34.7350,2,  34.7360,2,   -999.0,5,    196.7,2,    98.90,2,    31.60,2,     2.24,2,   2254.3,2,  1.1510
    09AR9391_2,  P11A,    50,  1,      9,    209,2,19930424,1420,-61.6012, 152.1733, 2710,   1098.4,   1.2100,  34.7360,2,  34.7360,2,   -999.0,5,    197.0,2,    98.40,2,    31.30,2,     2.25,2,   2252.8,2,  1.1500
    09AR9391_2,  P11A,    50,  1,      8,    208,2,19930424,1420,-61.6012, 152.1733, 2710,   1201.2,   1.1180,  34.7320,2,  34.7330,2,   -999.0,5,    197.5,2,   100.70,2,    31.30,2,     2.26,2,   2254.6,2,  1.0520
    09AR9391_2,  P11A,    50,  1,      7,    207,2,19930424,1420,-61.6012, 152.1733, 2710,   1600.2,   0.7830,  34.7170,2,  34.7190,2,   -999.0,5,    203.0,2,   108.10,2,    32.00,2,     2.29,2,   2256.4,2,  0.6940
    09AR9391_2,  P11A,    50,  1,      6,    206,2,19930424,1420,-61.6012, 152.1733, 2710,   1799.3,   0.6490,  34.7090,2,  34.7120,2,   -999.0,5,    205.1,2,   110.40,2,    32.80,2,     2.30,2,   2257.9,2,  0.5480
    09AR9391_2,  P11A,    50,  1,      5,    205,2,19930424,1420,-61.6012, 152.1733, 2710,   1998.3,   0.5090,  34.7040,2,  34.7050,2,   -999.0,5,    207.8,2,   112.00,2,    33.20,2,     2.32,2,   2258.0,2,  0.3950
    09AR9391_2,  P11A,    50,  1,      4,    204,2,19930424,1420,-61.6012, 152.1733, 2710,   2200.2,   0.3940,  34.6980,2,  34.7090,3,   -999.0,5,    210.0,2,   112.90,2,    33.00,2,     2.33,2,   2257.8,2,  0.2670
    09AR9391_2,  P11A,    50,  1,      3,    319,2,19930424,1420,-61.6012, 152.1733, 2710,   2399.1,   0.2540,  34.6940,2,  34.7020,3,   -999.0,5,    214.2,2,   113.70,2,    33.20,2,     2.32,2,   2256.1,2,  0.1140
    09AR9391_2,  P11A,    50,  1,      2,    202,2,19930424,1420,-61.6012, 152.1733, 2710,   2603.2,   0.1500,  34.6910,2,  34.6970,3,   -999.0,5,    216.5,2,   115.70,2,    33.10,2,     2.33,2,   2257.4,2, -0.0040
    09AR9391_2,  P11A,    50,  1,      1,    218,2,19930424,1420,-61.6012, 152.1733, 2710,   2768.9,   0.1400,  34.6900,2,  34.6970,3,   -999.0,5,    216.7,2,   113.30,2,    33.30,2,     2.32,2,   2255.6,2, -0.0270
    09AR9391_2,  P11A,    51,  1,     24,    224,2,19930424,2237,-62.2055, 151.7107, 3880,      9.5,   0.8000,  34.0360,2,  34.0340,2,   -999.0,5,    320.1,2,  -999.00,9,  -999.00,9,  -999.00,9,   -999.0,9,  0.8000
    09AR9391_2,  P11A,    51,  1,     23,    223,2,19930424,2237,-62.2055, 151.7107, 3880,     23.7,   0.8000,  34.0360,2,  34.0320,2,   -999.0,5,    319.4,2,  -999.00,9,  -999.00,9,  -999.00,9,   -999.0,9,  0.7990
    09AR9391_2,  P11A,    51,  1,     22,    222,2,19930424,2237,-62.2055, 151.7107, 3880,     49.7,   0.8020,  34.0360,2,  34.0330,2,   -999.0,5,    320.3,2,  -999.00,9,  -999.00,9,  -999.00,9,   -999.0,9,  0.8000
    09AR9391_2,  P11A,    51,  1,     21,    221,2,19930424,2237,-62.2055, 151.7107, 3880,     82.2,   0.7990,  34.0380,2,  34.0380,2,   -999.0,5,    317.2,2,  -999.00,9,  -999.00,9,  -999.00,9,   -999.0,9,  0.7960
    09AR9391_2,  P11A,    51,  1,     20,    220,2,19930424,2237,-62.2055, 151.7107, 3880,    121.2,   1.4340,  34.5340,2,  34.5360,2,   -999.0,5,    182.2,2,  -999.00,9,  -999.00,9,  -999.00,9,   -999.0,9,  1.4290
    09AR9391_2,  P11A,    51,  1,     19,    203,2,19930424,2237,-62.2055, 151.7107, 3880,    202.3,   1.9110,  34.6440,2,  34.6420,2,   -999.0,5,    169.8,2,  -999.00,9,  -999.00,9,  -999.00,9,   -999.0,9,  1.9010
    09AR9391_2,  P11A,    51,  1,     18,    201,2,19930424,2237,-62.2055, 151.7107, 3880,    297.6,   1.9200,  34.6810,2,  34.6790,2,   -999.0,5,    174.9,2,  -999.00,9,  -999.00,9,  -999.00,9,   -999.0,9,  1.9040
    09AR9391_2,  P11A,    51,  1,     17,    217,2,19930424,2237,-62.2055, 151.7107, 3880,    398.3,   1.8810,  34.7020,2,  34.6990,2,   -999.0,5,    178.4,2,  -999.00,9,  -999.00,9,  -999.00,9,   -999.0,9,  1.8600
    09AR9391_2,  P11A,    51,  1,     16,    216,2,19930424,2237,-62.2055, 151.7107, 3880,    500.5,   1.8620,  34.7250,2,  34.7210,2,   -999.0,5,    181.9,2,  -999.00,9,  -999.00,9,  -999.00,9,   -999.0,9,  1.8350
    09AR9391_2,  P11A,    51,  1,     15,    215,2,19930424,2237,-62.2055, 151.7107, 3880,    601.1,   1.8200,  34.7370,2,  34.7360,2,   -999.0,5,    185.9,2,  -999.00,9,  -999.00,9,  -999.00,9,   -999.0,9,  1.7870
    09AR9391_2,  P11A,    51,  1,     14,    214,2,19930424,2237,-62.2055, 151.7107, 3880,    799.0,   1.6820,  34.7460,2,  34.7450,2,   -999.0,5,    189.1,2,  -999.00,9,  -999.00,9,  -999.00,9,   -999.0,9,  1.6370
    09AR9391_2,  P11A,    51,  1,     13,    213,2,19930424,2237,-62.2055, 151.7107, 3880,   1000.5,   1.5130,  34.7490,2,  34.7490,2,   -999.0,5,    190.2,3,  -999.00,9,  -999.00,9,  -999.00,9,   -999.0,9,  1.4570
    09AR9391_2,  P11A,    51,  1,     12,    212,2,19930424,2237,-62.2055, 151.7107, 3880,   1201.7,   1.3370,  34.7440,2,  34.7440,2,   -999.0,5,    196.4,2,  -999.00,9,  -999.00,9,  -999.00,9,   -999.0,9,  1.2690
    09AR9391_2,  P11A,    51,  1,     11,    211,2,19930424,2237,-62.2055, 151.7107, 3880,   1398.8,   1.1850,  34.7390,2,  34.7420,3,   -999.0,5,    196.2,2,  -999.00,9,  -999.00,9,  -999.00,9,   -999.0,9,  1.1050
    09AR9391_2,  P11A,    51,  1,     10,    210,2,19930424,2237,-62.2055, 151.7107, 3880,   1598.0,   1.0260,  34.7300,2,  34.7280,2,   -999.0,5,    200.8,2,  -999.00,9,  -999.00,9,  -999.00,9,   -999.0,9,  0.9340
    09AR9391_2,  P11A,    51,  1,      9,    209,2,19930424,2237,-62.2055, 151.7107, 3880,   1799.5,   0.8730,  34.7230,2,  34.7210,2,   -999.0,5,    201.6,2,  -999.00,9,  -999.00,9,  -999.00,9,   -999.0,9,  0.7690
    09AR9391_2,  P11A,    51,  1,      8,    208,2,19930424,2237,-62.2055, 151.7107, 3880,   1998.3,   0.7320,  34.7150,2,  34.7250,3,   -999.0,5,    199.7,3,  -999.00,9,  -999.00,9,  -999.00,9,   -999.0,9,  0.6150
    09AR9391_2,  P11A,    51,  1,      7,    207,2,19930424,2237,-62.2055, 151.7107, 3880,   2200.9,   0.5870,  34.7070,2,-999.0000,9,   -999.0,5,   -999.0,9,  -999.00,9,  -999.00,9,  -999.00,9,   -999.0,9,  0.4570
    09AR9391_2,  P11A,    51,  1,      6,    206,2,19930424,2237,-62.2055, 151.7107, 3880,   2497.8,   0.4030,  34.7000,2,  34.7040,2,   -999.0,5,    211.3,2,  -999.00,9,  -999.00,9,  -999.00,9,   -999.0,9,  0.2530
    09AR9391_2,  P11A,    51,  1,      5,    205,3,19930424,2237,-62.2055, 151.7107, 3880,   2801.5,   0.2460,  34.6930,2,  34.7060,4,   -999.0,5,   -999.0,5,  -999.00,9,  -999.00,9,  -999.00,9,   -999.0,9,  0.0740
    09AR9391_2,  P11A,    51,  1,      4,    204,2,19930424,2237,-62.2055, 151.7107, 3880,   3103.0,   0.1390,  34.6890,2,  34.6920,2,   -999.0,5,    220.0,2,  -999.00,9,  -999.00,9,  -999.00,9,   -999.0,9, -0.0570
    09AR9391_2,  P11A,    51,  1,      3,    319,2,19930424,2237,-62.2055, 151.7107, 3880,   3405.3,   0.0570,  34.6890,2,  34.6900,2,   -999.0,5,    222.6,2,  -999.00,9,  -999.00,9,  -999.00,9,   -999.0,9, -0.1640
    09AR9391_2,  P11A,    51,  1,      2,    202,2,19930424,2237,-62.2055, 151.7107, 3880,   3713.5,   0.0370,  34.6880,2,  34.6900,2,   -999.0,5,    223.5,2,  -999.00,9,  -999.00,9,  -999.00,9,   -999.0,9, -0.2120
    09AR9391_2,  P11A,    51,  1,      1,    218,2,19930424,2237,-62.2055, 151.7107, 3880,   3910.2,   0.0110,  34.6920,2,  34.6940,2,   -999.0,5,    224.6,2,  -999.00,9,  -999.00,9,  -999.00,9,   -999.0,9, -0.2570
    09AR9391_2,  P11A,    52,  1,     24,    224,2,19930425,0609,-62.8678, 151.1578, 3780,      8.4,   0.7290,  34.0300,2,  34.0330,2,   -999.0,5,    319.2,2,    37.20,2,    27.70,2,  -999.00,5,   2166.8,2,  0.7290
    09AR9391_2,  P11A,    52,  1,     23,    223,2,19930425,0609,-62.8678, 151.1578, 3780,     24.0,   0.7280,  34.0290,2,  34.0330,2,   -999.0,5,    317.2,2,    37.10,2,    27.90,2,     1.84,2,   2166.9,2,  0.7270
    09AR9391_2,  P11A,    52,  1,     22,    222,2,19930425,0609,-62.8678, 151.1578, 3780,     50.8,   0.7290,  34.0290,2,  34.0380,4,   -999.0,5,    318.9,2,    37.00,2,    27.50,2,     1.84,2,   2166.5,2,  0.7270
    09AR9391_2,  P11A,    52,  1,     21,    221,2,19930425,0609,-62.8678, 151.1578, 3780,     80.5,   0.7370,  34.0400,4,  34.0380,2,   -999.0,5,    317.2,2,    37.40,2,    28.10,2,     1.88,2,   2166.6,2,  0.7340
    09AR9391_2,  P11A,    52,  1,     20,    220,2,19930425,0609,-62.8678, 151.1578, 3780,    199.1,   1.9690,  34.6050,2,  34.6070,2,   -999.0,5,    166.8,2,    76.70,2,    34.30,2,     2.47,2,   2261.2,2,  1.9590
    09AR9391_2,  P11A,    52,  1,     19,    203,2,19930425,0609,-62.8678, 151.1578, 3780,    299.7,   1.9540,  34.6550,2,  34.6580,2,   -999.0,5,    171.0,2,    78.90,2,    33.40,2,     2.40,2,   2256.8,2,  1.9380
    09AR9391_2,  P11A,    52,  1,     18,    201,2,19930425,0609,-62.8678, 151.1578, 3780,    399.3,   1.9660,  34.6880,2,  34.6890,2,   -999.0,5,    175.4,2,    79.20,2,    32.80,2,     2.34,2,   2255.7,2,  1.9440
    09AR9391_2,  P11A,    52,  1,     17,    217,2,19930425,0609,-62.8678, 151.1578, 3780,    500.6,   1.9430,  34.7090,2,  34.7080,2,   -999.0,5,    178.9,2,    81.00,2,    31.80,2,     2.29,2,   2254.2,2,  1.9160
    09AR9391_2,  P11A,    52,  1,     16,    216,2,19930425,0609,-62.8678, 151.1578, 3780,    595.6,   1.8950,  34.7260,2,  34.7250,2,   -999.0,5,    182.7,2,    81.70,2,    31.30,2,     2.24,2,   2249.2,2,  1.8620
    09AR9391_2,  P11A,    52,  1,     15,    215,2,19930425,0609,-62.8678, 151.1578, 3780,    699.4,   1.8330,  34.7360,2,  34.7360,2,   -999.0,5,    186.2,2,    82.20,2,    31.20,2,     2.20,2,   2250.6,2,  1.7940
    09AR9391_2,  P11A,    52,  1,     14,    214,2,19930425,0609,-62.8678, 151.1578, 3780,    797.4,   1.7680,  34.7410,2,  34.7420,2,   -999.0,5,    188.4,2,    85.30,2,    30.30,2,     2.18,2,   2250.8,2,  1.7230
    09AR9391_2,  P11A,    52,  1,     13,    213,2,19930425,0609,-62.8678, 151.1578, 3780,    797.7,   1.7660,  34.7420,2,  34.7440,2,   -999.0,5,    188.3,2,    84.30,2,    30.70,2,     2.19,2,   2250.7,2,  1.7210
    09AR9391_2,  P11A,    52,  1,     12,    212,2,19930425,0609,-62.8678, 151.1578, 3780,    951.4,   1.6530,  34.7450,2,  34.7520,2,   -999.0,5,    195.7,2,    91.70,2,    30.90,2,  -999.00,5,   2251.7,2,  1.5990
    09AR9391_2,  P11A,    52,  1,     11,    211,2,19930425,0609,-62.8678, 151.1578, 3780,   1199.4,   1.4300,  34.7430,2,  34.7400,2,   -999.0,5,    197.5,2,    97.40,2,    30.80,2,     2.15,2,   2254.3,2,  1.3610
    09AR9391_2,  P11A,    52,  1,     10,    210,2,19930425,0609,-62.8678, 151.1578, 3780,   1397.3,   1.2590,  34.7360,2,  34.7370,2,   -999.0,5,    197.8,2,    97.40,2,    31.10,2,     2.20,2,   2254.5,2,  1.1780
    09AR9391_2,  P11A,    52,  1,      9,    209,2,19930425,0609,-62.8678, 151.1578, 3780,   1796.5,   0.9540,  34.7230,2,  34.7220,2,   -999.0,5,    201.6,2,   105.50,2,    31.30,2,     2.23,2,   2255.3,2,  0.8490
    09AR9391_2,  P11A,    52,  1,      8,    208,2,19930425,0609,-62.8678, 151.1578, 3780,   1798.4,   0.9540,  34.7220,2,  34.7230,2,   -999.0,5,   -999.0,9,   104.80,2,    31.50,2,     2.23,2,   2257.4,2,  0.8490
    09AR9391_2,  P11A,    52,  1,      7,    207,2,19930425,0609,-62.8678, 151.1578, 3780,   1998.0,   0.8170,  34.7150,2,  34.7160,2,   -999.0,5,    207.5,3,  -999.00,5,  -999.00,5,  -999.00,5,   2258.5,2,  0.6990
    09AR9391_2,  P11A,    52,  1,      6,    206,2,19930425,0609,-62.8678, 151.1578, 3780,   2201.8,   0.6600,  34.7070,2,  34.7090,2,   -999.0,5,    208.1,2,   114.60,2,    32.20,2,     2.28,2,   2258.1,2,  0.5290
    09AR9391_2,  P11A,    52,  1,      5,    205,2,19930425,0609,-62.8678, 151.1578, 3780,   2703.0,   0.3250,  34.6930,2,  34.6930,2,   -999.0,5,    212.4,2,   116.30,2,    32.30,2,     2.27,2,   2255.2,2,  0.1600
    09AR9391_2,  P11A,    52,  1,      4,    204,2,19930425,0609,-62.8678, 151.1578, 3780,   3003.9,   0.1900,  34.6880,2,  34.6870,2,   -999.0,5,    218.0,2,   120.30,2,    31.60,2,     2.27,2,   2257.2,2,  0.0020
    09AR9391_2,  P11A,    52,  1,      3,    319,2,19930425,0609,-62.8678, 151.1578, 3780,   3303.4,   0.0730,  34.6860,2,  34.6840,2,   -999.0,5,    222.6,2,   119.30,2,    32.10,2,     2.27,2,   2256.5,2, -0.1390
    09AR9391_2,  P11A,    52,  1,      2,    202,2,19930425,0609,-62.8678, 151.1578, 3780,   3606.9,   0.0070,  34.6840,2,  34.6840,2,   -999.0,5,    224.5,2,   117.40,2,    31.90,2,     2.27,2,   2255.8,2, -0.2310
    09AR9391_2,  P11A,    52,  1,      1,    218,2,19930425,0609,-62.8678, 151.1578, 3780,   3795.7,   0.0010,  34.6870,2,  34.6880,2,   -999.0,5,    225.0,2,   115.00,2,    32.10,2,     2.25,2,   2253.6,2, -0.2550