BOTTLE,20190618WHPSIOAMB
EXPOCODE,SECT_ID,STNNBR,CASTNO,SAMPNO,BTLNBR,BTLNBR_FLAG_W,DATE,TIME,LATITUDE,LONGITUDE,DEPTH,CTDPRS,CTDTMP,CTDSAL,CTDSAL_FLAG_W,SALNTY,SALNTY_FLAG_W,CTDOXY,CTDOXY_FLAG_W,OXYGEN,OXYGEN_FLAG_W,SILCAT,SILCAT_FLAG_W,NO2+NO3,NO2+NO3_FLAG_W,PHSPHT,PHSPHT_FLAG_W,TCARBN,TCARBN_FLAG_W,THETA
,,,,,,,,,,,,DBAR,ITS-90,PSS-78,,PSS-78,,UMOL/KG,,UMOL/KG,,UMOL/KG,,UMOL/KG,,UMOL/KG,,UMOL/KG,,ITS-90
    09AR9391_2,  P11A,    25,  1,     24,    224,2,19930412,0229,-48.2515, 154.9917, 4740,      8.8,  11.6620,  34.5840,2,  34.5880,2,   -999.0,5,    263.9,2,  -999.00,9,     7.80,2,  -999.00,5,   -999.0,9, 11.6640
    09AR9391_2,  P11A,    25,  1,     23,    223,2,19930412,0229,-48.2515, 154.9917, 4740,     23.4,  11.6260,  34.5800,2,  34.5820,2,   -999.0,5,    262.5,2,     1.40,2,     8.10,2,     0.64,2,   -999.0,9, 11.6260
    09AR9391_2,  P11A,    25,  1,     22,    222,2,19930412,0229,-48.2515, 154.9917, 4740,     48.5,  11.5960,  34.5720,2,  34.5750,2,   -999.0,5,    264.0,2,     0.90,2,     7.90,2,     0.65,2,   -999.0,9, 11.5930
    09AR9391_2,  P11A,    25,  1,     21,    221,2,19930412,0229,-48.2515, 154.9917, 4740,     98.3,  10.9450,  34.7640,4,  34.7530,2,   -999.0,5,    245.7,2,     2.20,2,    11.40,2,     0.81,2,   -999.0,9, 10.9360
    09AR9391_2,  P11A,    25,  1,     20,    220,2,19930412,0229,-48.2515, 154.9917, 4740,    198.1,   9.5100,  34.7140,2,  34.7210,2,   -999.0,5,    250.5,2,     3.60,2,    14.20,2,     0.97,2,   -999.0,9,  9.4900
    09AR9391_2,  P11A,    25,  1,     19,    203,2,19930412,0229,-48.2515, 154.9917, 4740,    297.5,   9.0190,  34.6290,2,  34.6330,2,   -999.0,5,    255.4,2,     3.80,2,    15.20,2,     1.05,2,   -999.0,9,  8.9890
    09AR9391_2,  P11A,    25,  1,     18,    201,2,19930412,0229,-48.2515, 154.9917, 4740,    399.0,   8.8360,  34.6010,2,  34.6320,4,   -999.0,5,    255.6,2,     3.80,2,    15.20,2,     1.06,2,   -999.0,9,  8.7950
    09AR9391_2,  P11A,    25,  1,     17,    217,2,19930412,0229,-48.2515, 154.9917, 4740,    497.1,   8.5400,  34.5610,2,  34.5640,2,   -999.0,5,    246.1,2,     5.00,2,    17.50,2,     1.21,2,   -999.0,9,  8.4890
    09AR9391_2,  P11A,    25,  1,     16,    216,2,19930412,0229,-48.2515, 154.9917, 4740,    647.9,   7.7290,  34.4750,3,  34.4780,2,   -999.0,5,    230.7,2,     9.10,2,    21.60,2,     1.47,2,   -999.0,9,  7.6650
    09AR9391_2,  P11A,    25,  1,     15,    215,2,19930412,0229,-48.2515, 154.9917, 4740,    847.7,   6.2190,  34.4050,2,  34.4080,2,   -999.0,5,    226.0,2,    18.60,2,    26.50,2,     1.82,2,   -999.0,9,  6.1430
    09AR9391_2,  P11A,    25,  1,     13,    213,3,19930412,0229,-48.2515, 154.9917, 4740,   1067.2,   4.3640,  34.3380,3,  34.5710,4,   -999.0,5,    205.5,2,    31.60,2,    30.60,2,     2.15,2,   -999.0,9,  4.2810
    09AR9391_2,  P11A,    25,  1,     14,    214,2,19930412,0229,-48.2515, 154.9917, 4740,   1067.8,   4.3880,  34.3340,2,  34.3360,2,   -999.0,5,    204.2,2,    31.00,2,    30.60,2,     2.15,2,   -999.0,9,  4.3050
    09AR9391_2,  P11A,    25,  1,     12,    212,2,19930412,0229,-48.2515, 154.9917, 4740,   1247.1,   3.5360,  34.3700,2,  34.3680,2,   -999.0,5,    206.9,2,    45.10,2,    32.20,2,  -999.00,5,   -999.0,9,  3.4450
    09AR9391_2,  P11A,    25,  1,     11,    211,2,19930412,0229,-48.2515, 154.9917, 4740,   1397.8,   3.0880,  34.4320,2,  34.4270,2,   -999.0,5,    193.2,2,    56.20,2,    33.50,2,     2.35,2,   -999.0,9,  2.9890
    09AR9391_2,  P11A,    25,  1,     10,    210,2,19930412,0229,-48.2515, 154.9917, 4740,   1597.9,   2.7370,  34.5190,2,  34.5200,2,   -999.0,5,    181.0,2,    66.90,2,    34.20,2,     2.42,2,   -999.0,9,  2.6250
    09AR9391_2,  P11A,    25,  1,      9,    209,2,19930412,0229,-48.2515, 154.9917, 4740,   1799.8,   2.5420,  34.5980,2,  34.5980,2,   -999.0,5,    170.7,2,    73.80,2,    33.20,2,     2.39,2,   -999.0,9,  2.4150
    09AR9391_2,  P11A,    25,  1,      8,    208,2,19930412,0229,-48.2515, 154.9917, 4740,   2099.1,   2.3210,  34.6870,2,  34.6870,2,   -999.0,5,    169.7,2,    80.50,2,    32.40,2,     2.28,2,   -999.0,9,  2.1710
    09AR9391_2,  P11A,    25,  1,      7,    207,2,19930412,0229,-48.2515, 154.9917, 4740,   2402.0,   2.0750,  34.7290,2,  34.7300,2,   -999.0,5,    174.6,2,    85.00,2,    31.10,2,     2.19,2,   -999.0,9,  1.9020
    09AR9391_2,  P11A,    25,  1,      6,    206,2,19930412,0229,-48.2515, 154.9917, 4740,   3002.4,   1.6140,  34.7360,2,  34.7360,2,   -999.0,5,    184.8,2,   101.10,2,    31.70,2,     2.22,2,   -999.0,9,  1.3950
    09AR9391_2,  P11A,    25,  1,      5,    205,2,19930412,0229,-48.2515, 154.9917, 4740,   3002.7,   1.6140,  34.7360,2,  34.7370,2,   -999.0,5,    195.1,3,   100.50,2,    31.60,2,     2.20,2,   -999.0,9,  1.3940
    09AR9391_2,  P11A,    25,  1,      3,    319,2,19930412,0229,-48.2515, 154.9917, 4740,   3604.0,   1.3140,  34.7220,2,  34.7220,2,   -999.0,5,    194.6,2,   106.60,2,    32.00,2,     2.27,2,   -999.0,9,  1.0420
    09AR9391_2,  P11A,    25,  1,      4,    204,2,19930412,0229,-48.2515, 154.9917, 4740,   3604.7,   1.3130,  34.7230,2,  34.7230,2,   -999.0,5,    194.4,2,   107.80,2,    32.10,2,     2.27,2,   -999.0,9,  1.0410
    09AR9391_2,  P11A,    25,  1,      2,    202,2,19930412,0229,-48.2515, 154.9917, 4740,   4402.5,   0.9820,  34.7070,2,  34.7080,2,   -999.0,5,    202.0,2,   114.70,2,    32.90,2,     2.30,2,   -999.0,9,  0.6340
    09AR9391_2,  P11A,    25,  1,      1,    218,2,19930412,0229,-48.2515, 154.9917, 4740,   4826.0,   0.9380,  34.7050,2,  34.7070,2,   -999.0,5,    202.0,2,   116.00,2,    32.50,2,     2.30,2,   -999.0,9,  0.5430
    09AR9391_2,  P11A,    26,  1,     24,    224,2,19930412,0859,-48.7538, 154.9925, 4505,      9.2,  11.5380,  34.5560,2,  34.5540,2,   -999.0,5,    264.4,2,     5.00,2,     7.80,2,  -999.00,5,   2061.9,2, 11.5400
    09AR9391_2,  P11A,    26,  1,     23,    223,2,19930412,0859,-48.7538, 154.9925, 4505,     23.5,  11.5470,  34.5550,2,  34.5540,2,   -999.0,5,    264.5,2,     3.00,2,     7.90,2,     0.81,2,   2061.9,2, 11.5470
    09AR9391_2,  P11A,    26,  1,     22,    222,2,19930412,0859,-48.7538, 154.9925, 4505,     48.7,  11.4420,  34.5390,3,  34.5340,2,   -999.0,5,    264.8,2,     1.00,2,     8.10,2,     0.83,2,   2064.3,2, 11.4390
    09AR9391_2,  P11A,    26,  1,     21,    221,2,19930412,0859,-48.7538, 154.9925, 4505,     99.6,   9.3880,  34.5670,4,  34.5260,2,   -999.0,5,    263.8,2,     2.80,2,    14.90,2,     1.22,2,   2101.5,2,  9.3790
    09AR9391_2,  P11A,    26,  1,     20,    220,2,19930412,0859,-48.7538, 154.9925, 4505,    198.0,   9.1060,  34.6400,2,  34.6390,2,   -999.0,5,    255.2,2,     3.70,2,    14.80,2,     1.23,2,   2107.3,2,  9.0870
    09AR9391_2,  P11A,    26,  1,     19,    203,2,19930412,0859,-48.7538, 154.9925, 4505,    299.7,   8.8610,  34.6010,2,  34.6010,2,   -999.0,5,    255.9,2,     3.90,2,    15.20,2,     1.29,2,   2107.0,2,  8.8310
    09AR9391_2,  P11A,    26,  1,     18,    201,2,19930412,0859,-48.7538, 154.9925, 4505,    399.9,   8.5310,  34.5520,2,  34.6020,2,   -999.0,5,    258.1,2,     3.90,2,    15.30,2,     1.30,2,   2106.6,2,  8.4910
    09AR9391_2,  P11A,    26,  1,     17,    217,2,19930412,0859,-48.7538, 154.9925, 4505,    496.2,   8.4270,  34.5410,2,  34.5400,2,   -999.0,5,    253.5,2,     4.50,2,    17.10,2,     1.39,2,   2112.9,2,  8.3770
    09AR9391_2,  P11A,    26,  1,     16,    216,2,19930412,0859,-48.7538, 154.9925, 4505,    597.2,   8.0000,  34.4980,2,  34.4980,2,   -999.0,5,    238.0,2,     7.10,2,    19.70,2,     1.55,2,   2126.9,2,  7.9400
    09AR9391_2,  P11A,    26,  1,     15,    215,3,19930412,0859,-48.7538, 154.9925, 4505,    796.3,   6.4880,  34.4140,2,  34.4180,3,   -999.0,5,    206.0,2,    16.70,2,    25.70,2,     1.89,2,   2160.3,2,  6.4160
    09AR9391_2,  P11A,    26,  1,     13,    213,2,19930412,0859,-48.7538, 154.9925, 4505,    997.7,   4.8560,  34.3650,2,  34.3650,2,   -999.0,5,    202.3,2,    29.10,2,    29.20,2,     2.15,2,   -999.0,9,  4.7750
    09AR9391_2,  P11A,    26,  1,     14,    214,2,19930412,0859,-48.7538, 154.9925, 4505,    998.3,   4.8060,  34.3650,4,  34.3650,2,   -999.0,5,    200.8,2,    29.20,2,    29.30,2,     2.13,2,   2186.4,2,  4.7260
    09AR9391_2,  P11A,    26,  1,     12,    212,2,19930412,0859,-48.7538, 154.9925, 4505,   1145.6,   3.8580,  34.3550,3,  34.3540,2,   -999.0,5,    198.6,2,    38.70,2,    31.00,2,  -999.00,5,   2203.3,2,  3.7730
    09AR9391_2,  P11A,    26,  1,     11,    211,2,19930412,0859,-48.7538, 154.9925, 4505,   1397.3,   3.0300,  34.4370,2,  34.4350,2,   -999.0,5,    180.7,2,    56.10,2,    33.10,2,     2.38,2,   2234.5,2,  2.9310
    09AR9391_2,  P11A,    26,  1,     10,    210,2,19930412,0859,-48.7538, 154.9925, 4505,   1598.4,   2.6880,  34.5320,2,  34.5310,2,   -999.0,5,    172.9,2,    65.50,2,    33.70,2,     2.42,2,   2247.5,2,  2.5760
    09AR9391_2,  P11A,    26,  1,      9,    209,2,19930412,0859,-48.7538, 154.9925, 4505,   1798.2,   2.5150,  34.6070,2,  34.6080,2,   -999.0,5,    169.7,2,    73.00,2,    33.20,2,     2.41,2,   2252.7,2,  2.3890
    09AR9391_2,  P11A,    26,  1,      8,    208,2,19930412,0859,-48.7538, 154.9925, 4505,   1998.5,   2.3870,  34.6650,2,  34.6640,2,   -999.0,5,    173.4,2,    76.60,2,    33.00,2,     2.39,2,   2252.0,2,  2.2450
    09AR9391_2,  P11A,    26,  1,      7,    207,2,19930412,0859,-48.7538, 154.9925, 4505,   2199.1,   2.2650,  34.7020,2,  34.7000,2,   -999.0,5,    178.3,2,    79.10,2,    31.70,2,     2.32,2,   2252.2,2,  2.1070
    09AR9391_2,  P11A,    26,  1,      6,    206,2,19930412,0859,-48.7538, 154.9925, 4505,   2501.1,   1.9980,  34.7320,2,  34.7340,2,   -999.0,5,    189.0,2,    94.60,2,    31.60,2,     2.30,2,   2257.3,2,  1.8180
    09AR9391_2,  P11A,    26,  1,      5,    205,2,19930412,0859,-48.7538, 154.9925, 4505,   2799.9,   1.7460,  34.7360,2,  34.7360,2,   -999.0,5,    190.0,2,  -999.00,5,  -999.00,5,  -999.00,5,   2257.3,2,  1.5430
    09AR9391_2,  P11A,    26,  1,      4,    204,2,19930412,0859,-48.7538, 154.9925, 4505,   3102.3,   1.5170,  34.7280,2,  34.7280,2,   -999.0,5,    191.0,2,   103.70,2,    32.50,3,     2.37,3,   2263.5,2,  1.2900
    09AR9391_2,  P11A,    26,  1,      3,    319,2,19930412,0859,-48.7538, 154.9925, 4505,   3402.4,   1.3190,  34.7220,2,  34.7220,2,   -999.0,5,    195.4,2,   108.10,2,    31.70,2,     2.35,2,   2265.5,2,  1.0670
    09AR9391_2,  P11A,    26,  1,      2,    202,2,19930412,0859,-48.7538, 154.9925, 4505,   4206.4,   1.0040,  34.7060,2,  34.7090,2,   -999.0,5,    200.9,2,   115.60,2,    32.00,2,     2.36,2,   2264.6,2,  0.6770
    09AR9391_2,  P11A,    26,  1,      1,    218,2,19930412,0859,-48.7538, 154.9925, 4505,   4581.4,   0.9470,  34.7060,2,  34.7080,2,   -999.0,5,    201.5,2,   115.20,2,    32.20,2,     2.34,2,   2264.3,2,  0.5800
    09AR9391_2,  P11A,    27,  1,     24,    224,2,19930412,1541,-49.2578, 155.0025, 4580,      7.8,  11.1000,  34.4720,2,  34.4760,2,   -999.0,5,    264.8,2,     3.40,2,     8.90,2,  -999.00,5,   -999.0,9, 11.1020
    09AR9391_2,  P11A,    27,  1,     23,    223,2,19930412,1541,-49.2578, 155.0025, 4580,     18.3,  11.1020,  34.4720,2,  34.4750,2,   -999.0,5,    264.3,2,     1.30,2,     8.80,2,     0.76,2,   -999.0,9, 11.1020
    09AR9391_2,  P11A,    27,  1,     22,    222,2,19930412,1541,-49.2578, 155.0025, 4580,     48.9,  11.1050,  34.4720,2,  34.4750,2,   -999.0,5,    265.1,2,     0.90,2,     8.80,2,     0.77,2,   -999.0,9, 11.1020
    09AR9391_2,  P11A,    27,  1,     21,    221,2,19930412,1541,-49.2578, 155.0025, 4580,     98.8,  10.2500,  34.6590,4,  34.5480,2,   -999.0,5,    250.5,2,     2.40,2,    13.80,2,     1.06,2,   -999.0,9, 10.2410
    09AR9391_2,  P11A,    27,  1,     20,    220,2,19930412,1541,-49.2578, 155.0025, 4580,    149.4,   8.9360,  34.6040,3,  34.5990,2,   -999.0,5,    254.1,2,     3.90,2,    15.30,2,     1.17,2,   -999.0,9,  8.9220
    09AR9391_2,  P11A,    27,  1,     19,    203,2,19930412,1541,-49.2578, 155.0025, 4580,    197.0,   8.9000,  34.6070,3,  34.6090,2,   -999.0,5,    254.6,2,     4.20,2,    15.10,2,     1.18,2,   -999.0,9,  8.8810
    09AR9391_2,  P11A,    27,  1,     18,    201,2,19930412,1541,-49.2578, 155.0025, 4580,    298.1,   8.7430,  34.5920,2,  34.6090,4,   -999.0,5,   -999.0,5,  -999.00,5,  -999.00,5,  -999.00,5,   -999.0,9,  8.7130
    09AR9391_2,  P11A,    27,  1,     17,    217,2,19930412,1541,-49.2578, 155.0025, 4580,    397.9,   8.4200,  34.5410,2,  34.5420,2,   -999.0,5,    256.2,2,     4.40,2,    16.30,2,     1.24,2,   -999.0,9,  8.3800
    09AR9391_2,  P11A,    27,  1,     16,    216,2,19930412,1541,-49.2578, 155.0025, 4580,    498.9,   8.1910,  34.5150,2,  34.5160,2,   -999.0,5,    247.7,2,     5.80,2,    17.80,2,     1.35,2,   -999.0,9,  8.1410
    09AR9391_2,  P11A,    27,  1,     15,    215,2,19930412,1541,-49.2578, 155.0025, 4580,    597.7,   7.7080,  34.4720,3,  34.4790,2,   -999.0,5,    228.0,2,     8.90,2,    20.90,2,     1.53,2,   -999.0,9,  7.6500
    09AR9391_2,  P11A,    27,  1,     13,    213,2,19930412,1541,-49.2578, 155.0025, 4580,    796.5,   6.4420,  34.4300,4,  34.4380,2,   -999.0,5,    198.0,2,    18.60,2,    26.30,2,     1.92,2,   -999.0,9,  6.3700
    09AR9391_2,  P11A,    27,  1,     14,    214,2,19930412,1541,-49.2578, 155.0025, 4580,    797.0,   6.3840,  34.4290,2,  34.4370,2,   -999.0,5,    198.1,2,    18.70,2,    26.20,2,     1.89,2,   -999.0,9,  6.3120
    09AR9391_2,  P11A,    27,  1,     12,    212,2,19930412,1541,-49.2578, 155.0025, 4580,    997.5,   4.7350,  34.3460,2,  34.3480,2,   -999.0,5,    204.9,2,    27.80,2,    30.20,2,  -999.00,5,   -999.0,9,  4.6550
    09AR9391_2,  P11A,    27,  1,     11,    211,2,19930412,1541,-49.2578, 155.0025, 4580,   1196.3,   3.5130,  34.3590,2,  34.3590,2,   -999.0,5,    197.1,2,    41.70,2,    32.80,2,     2.29,2,   -999.0,9,  3.4260
    09AR9391_2,  P11A,    27,  1,     10,    210,2,19930412,1541,-49.2578, 155.0025, 4580,   1395.3,   3.0180,  34.4470,2,  34.4430,2,   -999.0,5,    178.0,2,    55.20,2,    34.50,2,     2.39,2,   -999.0,9,  2.9200
    09AR9391_2,  P11A,    27,  1,      9,    209,2,19930412,1541,-49.2578, 155.0025, 4580,   1596.3,   2.7100,  34.5290,2,  34.5260,2,   -999.0,5,    170.7,2,    66.30,2,    34.30,2,     2.43,2,   -999.0,9,  2.5980
    09AR9391_2,  P11A,    27,  1,      8,    208,2,19930412,1541,-49.2578, 155.0025, 4580,   1797.9,   2.5180,  34.6070,2,  34.6060,2,   -999.0,5,    175.1,2,    70.70,2,    34.40,2,     2.36,2,   -999.0,9,  2.3920
    09AR9391_2,  P11A,    27,  1,      7,    207,2,19930412,1541,-49.2578, 155.0025, 4580,   2098.8,   2.3020,  34.6870,2,  34.6860,2,   -999.0,5,    175.7,2,    76.50,2,    33.10,2,     2.32,2,   -999.0,9,  2.1530
    09AR9391_2,  P11A,    27,  1,      6,    206,2,19930412,1541,-49.2578, 155.0025, 4580,   2701.6,   1.8390,  34.7390,2,  34.7380,2,   -999.0,5,    184.9,2,    88.20,2,    31.90,2,     2.24,2,   -999.0,9,  1.6430
    09AR9391_2,  P11A,    27,  1,      5,    205,2,19930412,1541,-49.2578, 155.0025, 4580,   2703.0,   1.8380,  34.7390,2,  34.7370,2,   -999.0,5,    185.4,2,    88.30,2,    32.00,2,     2.25,2,   -999.0,9,  1.6420
    09AR9391_2,  P11A,    27,  1,      4,    204,2,19930412,1541,-49.2578, 155.0025, 4580,   3003.6,   1.6060,  34.7350,2,  34.7350,2,   -999.0,5,    187.4,2,    95.00,2,    32.30,2,     2.27,2,   -999.0,9,  1.3870
    09AR9391_2,  P11A,    27,  1,      3,    319,2,19930412,1541,-49.2578, 155.0025, 4580,   3403.9,   1.3570,  34.7290,2,  34.7290,2,   -999.0,5,    194.6,2,   100.20,2,  -999.00,9,     2.26,2,   -999.0,9,  1.1040
    09AR9391_2,  P11A,    27,  1,      2,    202,2,19930412,1541,-49.2578, 155.0025, 4580,   4209.9,   0.9540,  34.7110,2,  34.7100,2,   -999.0,5,    200.6,2,   110.90,2,  -999.00,9,     2.30,2,   -999.0,9,  0.6280
    09AR9391_2,  P11A,    27,  1,      1,    218,2,19930412,1541,-49.2578, 155.0025, 4580,   4620.2,   0.9330,  34.7070,2,  34.7100,2,   -999.0,5,    201.4,2,   110.60,2,  -999.00,9,     2.30,2,   -999.0,9,  0.5620