BOTTLE,20190321PRINUNIVRMK,,,,,,,,,,,,,,,,,,,,,,,,,,,,,,,,,,,,,,,
EXPOCODE,SECT_ID,STNNBR,CASTNO,SAMPNO,BTLNBR,BTLNBR_FLAG_W,DATE,TIME,LATITUDE,LONGITUDE,DEPTH,CTDPRS,CTDTMP,CTDSAL,CTDSAL_FLAG_W,SALNTY,SALNTY_FLAG_W,CTDOXY,CTDOXY_FLAG_W,OXYGEN,OXYGEN_FLAG_W,SILCAT,SILCAT_FLAG_W,NITRAT,NITRAT_FLAG_W,PHSPHT,PHSPHT_FLAG_W,TCARBN,TCARBN_FLAG_W,ALKALI,ALKALI_FLAG_W,CHLORA,CHLORA_FLAG_W,DELC14,DELC14_FLAG_W,C14ERR,DELC13,DELC13_FLAG_W,DELO18,DELO18_FLAG_W
,,,,,,,,,,,METERS,DBAR,ITS-90,PSS-78,,PSS-78,,UMOL/KG,,UMOL/KG,,UMOL/KG,,UMOL/KG,,UMOL/KG,,UMOL/KG,,UMOL/KG,,UG/KG,,/MILLE,,/MILLE,/MILLE,,/MILLE,
  740H20180228, A09.5,56,1,24,1086,2,20180316,1914,-23.3295,-16.5001,4738,5.5,26.3228,36.8448,2,36.8435,2,205.8,2,208.4,2,1.34,2,0.16,2,0.16,2,2111,2,2427.9,2,-999,9,-999,1,-999,-999,1,-999,1
  740H20180228, A09.5,56,1,23,6427,2,20180316,1914,-23.3295,-16.5001,4738,51.3,22.971,36.4854,2,36.4944,2,231.4,2,232.8,2,1.24,2,0.18,2,0.15,2,2099.1,2,2399.9,2,-999,9,-999,1,-999,-999,1,-999,1
  740H20180228, A09.5,56,1,22,6426,2,20180316,1914,-23.3295,-16.5001,4738,81.1,21.3456,36.4112,2,36.414,2,234.1,2,233.1,2,1.33,2,0.19,2,0.15,2,2096.8,2,2391.9,2,-999,9,-999,1,-999,-999,1,-999,1
  740H20180228, A09.5,56,1,21,6425,2,20180316,1914,-23.3295,-16.5001,4738,100.8,20.718,36.3927,2,36.3922,2,229.6,2,229.6,2,1.3,2,0.19,2,0.15,2,2100.4,2,2391.1,2,-999,9,-999,1,-999,-999,1,-999,1
  740H20180228, A09.5,56,1,20,6428,2,20180316,1914,-23.3295,-16.5001,4738,151.4,19.4861,36.2293,2,36.1982,2,220.8,2,219,2,1.46,2,0.43,2,0.19,2,2108.4,6,2377.7,6,-999,9,35.2,2,4,0.98,2,-999,1
  740H20180228, A09.5,56,1,19,6692,2,20180316,1914,-23.3295,-16.5001,4738,176.3,18.1918,35.9682,2,35.9562,2,216.8,2,216.2,2,1.67,2,1.56,2,0.27,2,2108.6,2,2361.4,2,-999,9,-999,1,-999,-999,1,-999,1
  740H20180228, A09.5,56,1,18,1098,2,20180316,1914,-23.3295,-16.5001,4738,252,15.2323,35.4309,2,35.434,2,210.1,2,209.4,2,2.71,2,5.82,2,0.53,2,2116.4,2,2331.1,2,-999,9,-999,1,-999,-999,1,-999,1
  740H20180228, A09.5,56,1,17,1122,2,20180316,1914,-23.3295,-16.5001,4738,378.2,11.947,35.0325,2,35.0217,2,200.5,2,199.3,2,5.33,2,13.9,2,1.01,2,2143.4,2,2305.9,2,-999,9,-999,1,-999,-999,1,-999,1
  740H20180228, A09.5,56,1,16,6420,2,20180316,1914,-23.3295,-16.5001,4738,504.2,9.7917,34.7788,2,34.7646,2,190.8,2,189.3,2,9.32,2,20.16,2,1.4,2,2163.3,2,2295.2,2,-999,9,-999,1,-999,-999,1,-999,1
  740H20180228, A09.5,56,1,15,6419,2,20180316,1914,-23.3295,-16.5001,4738,631,6.8749,34.4886,2,34.4946,2,186.4,2,175.8,2,16.71,2,27.15,2,1.85,2,2183.3,6,2289.6,6,-999,9,-999,1,-999,-999,1,-999,1
  740H20180228, A09.5,56,1,14,6418,2,20180316,1914,-23.3295,-16.5001,4738,790.4,5.1606,34.4189,2,34.4192,2,177.3,2,171.7,2,27.17,2,31.79,2,2.14,2,2204.8,2,2294.1,2,-999,9,-999,1,-999,-999,1,-999,1
  740H20180228, A09.5,56,1,13,6417,2,20180316,1914,-23.3295,-16.5001,4738,881.3,4.3093,34.399,2,34.4002,2,187.5,2,187.5,2,34.57,2,32.26,2,2.19,2,2209.9,6,2300.1,6,-999,9,-999,1,-999,-999,1,-999,1
  740H20180228, A09.5,56,1,12,6416,2,20180316,1914,-23.3295,-16.5001,4738,1008.9,3.7732,34.4761,2,34.477,2,182.8,2,182.4,2,41,2,32.67,2,2.22,2,2217.3,2,2306.5,2,-999,9,-999,1,-999,-999,1,-999,1
  740H20180228, A09.5,56,1,11,6415,2,20180316,1914,-23.3295,-16.5001,4738,1260.8,3.4144,34.6354,2,34.6384,2,189.8,2,189.1,2,44.08,2,30.51,2,2.06,2,2217.2,2,2320.4,2,-999,9,-999,1,-999,-999,1,-999,1
  740H20180228, A09.5,56,1,10,6414,2,20180316,1914,-23.3295,-16.5001,4738,1514,3.1647,34.7632,2,34.7667,2,208,2,206.9,2,43.55,2,27.34,2,1.84,2,2207.8,2,2322.2,2,-999,9,-999,1,-999,-999,1,-999,1
  740H20180228, A09.5,56,1,9,6413,2,20180316,1914,-23.3295,-16.5001,4738,1767.9,3.2197,34.8875,2,34.8888,2,234,2,234.2,2,32.4,2,22.7,2,1.51,2,2186.2,2,2320.2,2,-999,9,-999,1,-999,-999,1,-999,1
  740H20180228, A09.5,56,1,8,6412,2,20180316,1914,-23.3295,-16.5001,4738,2022,3.2122,34.9401,2,34.9389,2,249.5,2,249.7,2,26.15,2,20.36,2,1.34,2,2174.8,2,2318.8,2,-999,9,-999,9,-999,-999,9,-999,1
  740H20180228, A09.5,56,1,7,6411,2,20180316,1914,-23.3295,-16.5001,4738,2276.4,3.0612,34.9371,2,34.9363,2,251.1,2,251.3,2,28.03,2,20.3,2,1.34,2,2176.2,2,2322.5,2,-999,9,-999,1,-999,-999,1,-999,1
  740H20180228, A09.5,56,1,6,6410,2,20180316,1914,-23.3295,-16.5001,4738,2528.9,2.854,34.9177,2,34.9188,2,248.5,2,248.4,2,33.48,2,21.07,2,1.4,2,2180.5,6,2324.8,6,-999,9,-999,9,-999,-999,9,-999,1
  740H20180228, A09.5,56,1,5,6409,2,20180316,1914,-23.3295,-16.5001,4738,3039.6,2.6345,34.9051,2,34.9037,2,249.2,2,242.7,3,38.29,2,21.37,2,1.42,2,2185.1,2,2331.5,2,-999,9,-999,1,-999,-999,1,-999,1
  740H20180228, A09.5,56,1,4,6408,2,20180316,1914,-23.3295,-16.5001,4738,3551.3,2.2289,34.8653,2,34.8647,2,244.5,2,244.4,2,53.45,2,23.34,2,1.58,2,2200.9,2,2337.8,2,-999,9,-999,9,-999,-999,9,-999,1
  740H20180228, A09.5,56,1,3,6407,2,20180316,1914,-23.3295,-16.5001,4738,4065,1.7151,34.8141,2,34.8144,2,238.2,2,238.2,2,72.91,2,25.86,2,1.76,2,1679,4,2348,2,-999,9,-999,1,-999,-999,1,-999,1
  740H20180228, A09.5,56,1,2,6406,2,20180316,1914,-23.3295,-16.5001,4738,4422.3,1.3475,34.7767,2,34.7779,2,233,2,233.1,2,87.65,2,27.79,2,1.89,2,2231.9,2,2354.5,2,-999,9,-999,9,-999,-999,9,-999,1
  740H20180228, A09.5,56,1,1,5977,2,20180316,1914,-23.3295,-16.5001,4738,4808.9,1.2133,34.7593,2,34.7625,2,230.5,2,230.3,2,94.44,2,28.78,2,1.96,2,2240.5,6,2356.3,6,-999,9,-999,1,-999,-999,1,-999,1
  740H20180228, A09.5,57,1,24,1086,2,20180317,243,-23.2505,-15.8996,4268,6.2,26.2477,36.8141,2,36.8147,2,205.5,2,211.8,2,1.37,2,0.28,2,0.19,2,2106.5,2,2418.6,2,-999,9,-999,9,-999,-999,9,-999,1
  740H20180228, A09.5,57,1,23,6427,2,20180317,243,-23.2505,-15.8996,4268,51.9,23.965,36.5284,2,36.6041,2,222.1,2,225.8,2,1.38,2,0.29,2,0.16,2,2104.3,2,2407.3,2,-999,9,-999,9,-999,-999,9,-999,1
  740H20180228, A09.5,57,1,22,6426,2,20180317,243,-23.2505,-15.8996,4268,81.8,21.6805,36.4329,2,36.4362,2,233.1,2,234.3,2,1.43,2,0.29,2,0.16,2,2095.3,2,2393.8,2,-999,9,-999,9,-999,-999,9,-999,1
  740H20180228, A09.5,57,1,21,6425,2,20180317,243,-23.2505,-15.8996,4268,100.7,21.0833,36.3997,2,36.3999,2,231.7,2,231.8,2,1.43,2,0.28,2,0.17,2,2099.2,2,2390.2,2,-999,9,-999,9,-999,-999,9,-999,1
  740H20180228, A09.5,57,1,20,6428,2,20180317,243,-23.2505,-15.8996,4268,151.7,19.7164,36.2427,2,36.2438,2,221.3,2,222.5,2,1.53,2,0.34,2,0.19,2,2104.8,6,2382,6,-999,9,-999,9,-999,-999,9,-999,1
  740H20180228, A09.5,57,1,19,6692,2,20180317,243,-23.2505,-15.8996,4268,177.4,18.8852,36.0806,2,36.069,2,219.8,2,218.6,2,1.63,2,0.8,2,0.21,2,2108.6,2,2371.7,2,-999,9,-999,9,-999,-999,9,-999,1
  740H20180228, A09.5,57,1,18,1098,2,20180317,243,-23.2505,-15.8996,4268,252.4,15.2571,35.4308,2,35.4179,2,209.7,2,219,2,2.77,2,6.04,2,0.5,2,2112.4,2,2327.8,2,-999,9,-999,9,-999,-999,9,-999,1
  740H20180228, A09.5,57,1,17,1122,2,20180317,243,-23.2505,-15.8996,4268,378.7,12.2037,35.0603,2,35.0552,2,198.4,2,209.8,2,5.23,2,13.52,2,0.91,2,2143,2,2308.6,2,-999,9,-999,9,-999,-999,9,-999,1
  740H20180228, A09.5,57,1,16,6420,2,20180317,243,-23.2505,-15.8996,4268,503.1,9.3323,34.7302,2,34.7292,2,188,2,198,2,10.26,2,21.15,2,1.37,2,2162.2,2,-999,9,-999,9,-999,9,-999,-999,9,-999,1
  740H20180228, A09.5,57,1,15,6419,3,20180317,243,-23.2505,-15.8996,4268,585.1,7.2519,34.5191,2,34.5199,4,190.8,2,189.8,4,15.65,4,26.1,4,1.68,4,2180.7,4,2288.5,4,-999,9,-999,9,-999,-999,9,-999,1
  740H20180228, A09.5,57,1,14,6418,2,20180317,243,-23.2505,-15.8996,4268,629.3,6.4075,34.4515,2,34.4542,2,192.5,2,188.8,3,18.74,2,27.92,2,1.8,2,2181.1,2,-999,9,-999,9,-999,9,-999,-999,9,-999,1
  740H20180228, A09.5,57,1,13,6417,2,20180317,243,-23.2505,-15.8996,4268,755.8,4.974,34.3899,2,34.3912,2,186.5,2,185.9,2,28.13,2,31.6,2,2.04,2,2203.1,6,2295,6,-999,9,-999,9,-999,-999,9,-999,1
  740H20180228, A09.5,57,1,12,6416,2,20180317,243,-23.2505,-15.8996,4268,881.9,4.0971,34.4264,2,34.428,2,183.9,2,171.8,2,37.52,2,32.71,2,2.14,2,2208.7,2,-999,9,-999,9,-999,9,-999,-999,9,-999,1
  740H20180228, A09.5,57,1,11,6415,2,20180317,243,-23.2505,-15.8996,4268,1008.9,3.7881,34.4823,2,34.4831,2,181.9,2,181.4,2,41.46,2,32.71,2,2.15,2,2218.4,6,2309.1,2,-999,9,-999,9,-999,-999,9,-999,1
  740H20180228, A09.5,57,1,10,6414,2,20180317,243,-23.2505,-15.8996,4268,1261.2,3.5197,34.6403,2,34.6412,2,189.4,2,188.6,2,42.53,2,30.49,2,2,2,2214.7,2,-999,9,-999,9,-999,9,-999,-999,9,-999,1
  740H20180228, A09.5,57,1,9,6413,2,20180317,243,-23.2505,-15.8996,4268,1514.4,3.1972,34.7693,2,34.7721,2,208.7,2,208.4,2,43.38,2,27.33,2,1.79,2,2210.6,2,2323,2,-999,9,-999,9,-999,-999,9,-999,1
  740H20180228, A09.5,57,1,8,6412,2,20180317,243,-23.2505,-15.8996,4268,1767.4,3.0279,34.8421,2,34.8446,2,226.2,2,225.7,2,40.3,2,24.63,2,1.61,2,2195.4,2,2324.5,2,-999,9,-999,9,-999,-999,9,-999,1
  740H20180228, A09.5,57,1,7,6411,2,20180317,243,-23.2505,-15.8996,4268,2021.8,3.1184,34.9162,2,34.9155,2,244.4,2,243.2,2,31.15,2,21.66,2,1.41,2,2183.6,2,2322.3,2,-999,9,-999,9,-999,-999,9,-999,1
  740H20180228, A09.5,57,1,6,6410,2,20180317,243,-23.2505,-15.8996,4268,2276.5,2.9868,34.9229,2,34.9245,2,248.2,2,247.2,2,31.86,2,21.25,2,1.38,2,2178,6,2324,6,-999,9,-999,9,-999,-999,9,-999,1
  740H20180228, A09.5,57,1,5,6409,2,20180317,243,-23.2505,-15.8996,4268,2530.9,2.8299,34.9171,2,34.9167,2,249,2,247.8,2,34.48,2,21.43,2,1.39,2,2184.9,2,2324.7,2,-999,9,-999,9,-999,-999,9,-999,1
  740H20180228, A09.5,57,1,4,6408,2,20180317,243,-23.2505,-15.8996,4268,2785.8,2.7189,34.9095,2,34.9078,2,248.9,2,248.1,2,37.28,2,21.65,2,1.41,2,2181.7,2,2327,2,-999,9,-999,9,-999,-999,9,-999,1
  740H20180228, A09.5,57,1,3,6407,2,20180317,243,-23.2505,-15.8996,4268,3296.6,2.4128,34.8824,2,34.883,2,246.7,2,245.8,2,47.19,2,22.88,2,1.48,2,2196.3,2,2334.1,2,-999,9,-999,9,-999,-999,9,-999,1
  740H20180228, A09.5,57,1,2,6406,2,20180317,243,-23.2505,-15.8996,4268,3806.6,1.98,34.8394,2,34.8388,2,241.2,2,239.7,2,63.95,2,25.09,2,1.64,2,907.1,4,2342.2,2,-999,9,-999,9,-999,-999,9,-999,1
  740H20180228, A09.5,57,1,1,5977,2,20180317,243,-23.2505,-15.8996,4268,4328.8,1.5092,34.7916,2,34.7979,2,235.8,2,234.9,2,82.01,2,27.49,2,1.8,2,2229.8,6,2353.7,6,-999,9,-999,9,-999,-999,9,-999,1
  740H20180228, A09.5,58,1,24,1086,2,20180317,919,-23.1795,-15.368,4238,7.3,25.958,36.7263,2,36.7278,2,206.2,2,-999,9,1.5,2,0.27,2,0.2,2,2110.7,2,2413.7,2,-999,9,-999,9,-999,-999,9,-999,1
  740H20180228, A09.5,58,1,23,6427,2,20180317,919,-23.1795,-15.368,4238,51.7,23.7398,36.4665,2,36.4422,2,228,2,228.3,2,1.44,2,0.27,2,0.19,2,2096.3,2,2393.9,2,-999,9,-999,9,-999,-999,9,-999,1
  740H20180228, A09.5,58,1,22,6426,2,20180317,919,-23.1795,-15.368,4238,82.4,21.4958,36.37,2,36.3676,2,232.4,2,231.7,2,1.5,2,0.24,2,0.18,2,2099.2,2,2388.7,2,-999,9,-999,9,-999,-999,9,-999,1
  740H20180228, A09.5,58,1,21,6425,2,20180317,919,-23.1795,-15.368,4238,102,20.675,36.3435,2,36.3435,2,229.2,2,228.6,2,1.44,2,0.23,2,0.18,2,2098,2,2388.3,2,-999,9,-999,9,-999,-999,9,-999,1
  740H20180228, A09.5,58,1,20,6428,2,20180317,919,-23.1795,-15.368,4238,152.1,19.579,36.2099,2,36.2107,2,224.1,2,222.6,2,1.56,2,0.28,2,0.18,2,2111.5,6,2389.3,6,-999,9,-999,9,-999,-999,9,-999,1
  740H20180228, A09.5,58,1,19,6692,2,20180317,919,-23.1795,-15.368,4238,177.8,18.7926,36.0487,2,36.0476,2,219.3,2,219.4,2,1.75,2,0.85,2,0.24,2,2104.3,2,2368,2,-999,9,-999,9,-999,-999,9,-999,1
  740H20180228, A09.5,58,1,18,1098,2,20180317,919,-23.1795,-15.368,4238,253.1,15.2465,35.431,2,35.4364,2,207.7,2,207.2,2,2.89,2,6.07,2,0.52,2,2121.5,2,2328,2,-999,9,-999,9,-999,-999,9,-999,1
  740H20180228, A09.5,58,1,17,1122,2,20180317,919,-23.1795,-15.368,4238,378.3,12.2419,35.0637,2,35.0529,2,194.9,2,193.6,2,5.56,2,13.95,2,0.97,2,2143.7,2,2306.6,2,-999,9,-999,9,-999,-999,9,-999,1
  740H20180228, A09.5,58,1,16,6420,2,20180317,919,-23.1795,-15.368,4238,504.2,9.3467,34.7397,2,34.7364,2,175.9,2,166.7,2,11.16,2,22.55,2,1.49,2,2174.9,6,2295.1,6,-999,9,-999,9,-999,-999,9,-999,1
  740H20180228, A09.5,58,1,15,6419,2,20180317,919,-23.1795,-15.368,4238,630.1,6.7828,34.4817,2,34.4845,2,186.3,2,-999,5,17.51,2,27.59,2,1.82,2,2182.7,2,2288.5,2,-999,9,-999,9,-999,-999,9,-999,1
  740H20180228, A09.5,58,1,14,6418,2,20180317,919,-23.1795,-15.368,4238,757,5.0766,34.3861,2,34.3877,2,191,2,191.2,2,26.95,2,30.87,2,2.05,2,2199.7,2,2293.8,2,-999,9,-999,9,-999,-999,9,-999,1
  740H20180228, A09.5,58,1,13,6417,2,20180317,919,-23.1795,-15.368,4238,907.4,4.0558,34.4107,2,34.4161,2,187.4,2,187.8,2,38.55,2,32.49,2,2.18,2,2212,2,2303.3,2,-999,9,-999,9,-999,-999,9,-999,1
  740H20180228, A09.5,58,1,12,6416,2,20180317,919,-23.1795,-15.368,4238,1059.8,3.6539,34.509,2,34.5118,2,183.3,2,183,2,43.29,2,32.39,2,2.18,2,2214.5,6,2315,6,-999,9,-999,9,-999,-999,9,-999,1
  740H20180228, A09.5,58,1,11,6415,2,20180317,919,-23.1795,-15.368,4238,1261.8,3.432,34.6546,2,34.6554,2,191.6,2,191.5,2,43.78,2,30.16,2,2.03,2,2216.1,2,2318.2,2,-999,9,-999,9,-999,-999,9,-999,1
  740H20180228, A09.5,58,1,10,6414,2,20180317,919,-23.1795,-15.368,4238,1514.5,3.194,34.7558,2,34.7555,2,206,2,205.5,2,44.16,2,27.72,2,1.86,2,2206.8,2,2324.2,2,-999,9,-999,9,-999,-999,9,-999,1
  740H20180228, A09.5,58,1,9,6413,2,20180317,919,-23.1795,-15.368,4238,1767.8,2.939,34.8323,2,34.833,2,223.9,2,223.6,2,42.97,2,25.17,2,1.68,2,2199.1,2,2326.2,2,-999,9,-999,9,-999,-999,9,-999,1
  740H20180228, A09.5,58,1,8,6412,2,20180317,919,-23.1795,-15.368,4238,2021.8,3,34.9054,2,34.9055,2,242.5,2,242.9,2,33.62,2,22.14,2,1.47,2,2182.2,2,2325.7,2,-999,9,-999,9,-999,-999,9,-999,1
  740H20180228, A09.5,58,1,7,6411,2,20180317,919,-23.1795,-15.368,4238,2275.7,2.8904,34.911,2,34.9132,2,246,2,245.9,2,34.3,2,21.82,2,1.44,2,2179.7,2,2325.8,2,-999,9,-999,9,-999,-999,9,-999,1
  740H20180228, A09.5,58,1,6,6410,2,20180317,919,-23.1795,-15.368,4238,2529.9,2.7312,34.902,2,34.9022,2,245.7,2,245.2,2,37.9,3,22.18,3,1.47,3,2185.5,6,2327.9,6,-999,9,-999,9,-999,-999,9,-999,1
  740H20180228, A09.5,58,1,5,6409,2,20180317,919,-23.1795,-15.368,4238,2786.6,2.7151,34.9106,2,34.9102,2,249.4,2,248.5,2,36.34,2,21.67,2,1.43,2,2181.2,2,2327.8,2,-999,9,-999,9,-999,-999,9,-999,1
  740H20180228, A09.5,58,1,4,6408,2,20180317,919,-23.1795,-15.368,4238,3041.5,2.5952,34.8965,2,34.8961,2,247,2,246.5,2,41.32,2,22.35,2,1.48,2,2187.2,2,2332.4,2,-999,9,-999,9,-999,-999,9,-999,1
  740H20180228, A09.5,58,1,3,6407,2,20180317,919,-23.1795,-15.368,4238,3553.7,2.1759,34.8579,2,34.8602,2,243.2,2,242.5,2,56.29,2,24.21,2,1.6,2,2202.5,2,2337.7,2,-999,9,-999,9,-999,-999,9,-999,1
  740H20180228, A09.5,58,1,2,6406,2,20180317,919,-23.1795,-15.368,4238,4070.6,1.6773,34.8097,2,34.8089,2,237.6,2,237.3,2,75.01,2,26.58,2,1.78,2,2218,2,2348,2,-999,9,-999,9,-999,-999,9,-999,1
  740H20180228, A09.5,58,1,1,5977,2,20180317,919,-23.1795,-15.368,4238,4294.2,1.4861,34.7898,2,34.7902,2,235.1,2,234.3,2,82.38,2,27.53,2,1.83,2,2226.7,6,2352.2,6,-999,9,-999,9,-999,-999,9,-999,1
  740H20180228, A09.5,60,1,24,1086,2,20180318,112,-23.0368,-14.2995,4116,6.1,26.073,36.7571,2,36.7597,2,205.9,2,206,2,1.3,2,0.22,2,0.17,2,2107.5,2,2416.1,2,-999,9,-999,9,-999,-999,9,-999,1
  740H20180228, A09.5,60,1,23,6427,2,20180318,112,-23.0368,-14.2995,4116,51.3,22.9186,36.436,2,36.435,2,231.3,2,230.1,2,1.35,2,0.2,2,0.16,2,2097.3,2,2393.1,2,-999,9,-999,9,-999,-999,9,-999,1
  740H20180228, A09.5,60,1,22,6426,2,20180318,112,-23.0368,-14.2995,4116,75.8,21.2824,36.3766,2,36.3837,2,231.7,2,231.7,2,1.29,2,0.28,2,0.16,2,2095.4,2,2391.4,2,-999,9,-999,9,-999,-999,9,-999,1
  740H20180228, A09.5,60,1,21,6425,2,20180318,112,-23.0368,-14.2995,4116,101.5,20.3001,36.3085,2,36.3097,2,226.6,2,226.9,2,1.33,2,0.3,2,0.17,2,2101.2,2,2385.9,2,-999,9,-999,9,-999,-999,9,-999,1
  740H20180228, A09.5,60,1,20,6428,2,20180318,112,-23.0368,-14.2995,4116,147.7,19.1665,36.1451,2,36.1556,2,222.5,2,221.7,2,1.43,2,0.44,2,0.18,2,2106,6,2374.2,6,-999,9,-999,9,-999,-999,9,-999,1
  740H20180228, A09.5,60,1,19,6692,2,20180318,112,-23.0368,-14.2995,4116,176.6,17.7725,35.8775,2,35.9264,2,217.5,2,217.1,2,1.69,2,1.65,2,0.28,2,2106.4,2,2369.2,2,-999,9,-999,9,-999,-999,9,-999,1
  740H20180228, A09.5,60,1,18,1098,2,20180318,112,-23.0368,-14.2995,4116,252.5,15.0646,35.4043,2,35.4127,2,205.1,2,205.5,2,2.74,2,6.56,2,0.57,2,2122.5,2,2327.2,2,-999,9,-999,9,-999,-999,9,-999,1
  740H20180228, A09.5,60,1,17,1122,2,20180318,112,-23.0368,-14.2995,4116,378.4,12.0261,35.035,2,35.0389,2,197.5,2,196.6,2,5.18,2,13.83,2,1.01,2,2141.5,2,2309.2,2,-999,9,-999,9,-999,-999,9,-999,1
  740H20180228, A09.5,60,1,16,6420,2,20180318,112,-23.0368,-14.2995,4116,504.4,9.0489,34.7039,2,34.7055,2,178.3,2,178.1,2,11.11,2,22.67,2,1.57,2,2176.3,2,2294.5,2,-999,9,-999,9,-999,-999,9,-999,1
  740H20180228, A09.5,60,1,15,6419,2,20180318,112,-23.0368,-14.2995,4116,630.6,6.5756,34.487,2,34.4893,2,168.4,2,162.7,2,19.11,2,29.72,2,2.03,2,2193.1,2,2293.1,2,-999,9,-999,9,-999,-999,9,-999,1
  740H20180228, A09.5,60,1,14,6418,2,20180318,112,-23.0368,-14.2995,4116,726.4,5.4666,34.4353,2,34.4349,2,166.6,2,183.1,3,25.12,2,32.32,2,2.2,2,2208.7,6,2292.7,6,-999,9,-999,9,-999,-999,9,-999,1
  740H20180228, A09.5,60,1,13,6417,2,20180318,112,-23.0368,-14.2995,4116,887.4,4.4016,34.4312,2,34.432,2,172.8,2,172.3,2,33.78,2,33.33,2,2.29,2,2215.6,2,2305,2,-999,9,-999,9,-999,-999,9,-999,1
  740H20180228, A09.5,60,1,12,6416,2,20180318,112,-23.0368,-14.2995,4116,1008.6,3.9049,34.4638,2,34.4646,2,181.5,2,181.1,2,39.24,2,32.7,2,2.26,2,2215,2,2307.7,2,-999,9,-999,9,-999,-999,9,-999,1
  740H20180228, A09.5,60,1,11,6415,2,20180318,112,-23.0368,-14.2995,4116,1261.5,3.6121,34.6441,2,34.6475,2,189.8,2,207.8,3,40.43,2,30.13,2,2.08,2,2214.6,6,2315.2,6,-999,9,-999,9,-999,-999,9,-999,1
  740H20180228, A09.5,60,1,10,6414,2,20180318,112,-23.0368,-14.2995,4116,1514.6,3.2333,34.7424,2,34.7467,2,203.4,2,202.9,2,43.93,2,27.93,2,1.92,2,2210.3,2,2324.6,2,-999,9,-999,9,-999,-999,9,-999,1
  740H20180228, A09.5,60,1,9,6413,2,20180318,112,-23.0368,-14.2995,4116,1767.1,3.0062,34.8183,2,34.8176,2,220.7,2,219.9,2,42.79,2,25.37,2,1.74,2,2207.5,2,2324.2,2,-999,9,-999,9,-999,-999,9,-999,1
  740H20180228, A09.5,60,1,8,6412,2,20180318,112,-23.0368,-14.2995,4116,2021.7,2.8413,34.8661,2,34.8648,2,234.3,2,233.8,2,41.22,2,23.45,2,1.6,2,2194.3,2,2328.6,2,-999,9,-999,9,-999,-999,9,-999,1
  740H20180228, A09.5,60,1,7,6411,2,20180318,112,-23.0368,-14.2995,4116,2275,2.7719,34.8866,2,34.8847,2,240.8,2,239.7,2,39.86,2,22.48,2,1.53,2,2199.7,3,2327.8,2,-999,9,-999,9,-999,-999,9,-999,1
  740H20180228, A09.5,60,1,6,6410,2,20180318,112,-23.0368,-14.2995,4116,2528.8,2.719,34.897,2,34.8997,2,245.6,2,244.2,2,38.71,2,21.88,2,1.49,2,2187.1,6,2330.1,6,-999,9,-999,9,-999,-999,9,-999,1
  740H20180228, A09.5,60,1,5,6409,2,20180318,112,-23.0368,-14.2995,4116,2784.3,2.7347,34.9107,2,34.9133,2,248.8,2,228.7,3,36.27,2,21.32,2,1.45,2,2188.1,2,2327.3,2,-999,9,-999,9,-999,-999,9,-999,1
  740H20180228, A09.5,60,1,4,6408,2,20180318,112,-23.0368,-14.2995,4116,3294.6,2.4246,34.8821,2,34.8822,2,245.3,2,245,2,46.74,2,22.67,2,1.54,2,2193.4,2,2336.2,2,-999,9,-999,9,-999,-999,9,-999,1
  740H20180228, A09.5,60,1,3,6407,2,20180318,112,-23.0368,-14.2995,4116,3806.2,2.0048,34.8394,2,34.8387,2,240.2,2,239.7,2,62.46,2,24.7,2,1.69,2,2217.4,2,2341.2,2,-999,9,-999,9,-999,-999,9,-999,1
  740H20180228, A09.5,60,1,2,6406,2,20180318,112,-23.0368,-14.2995,4116,4068.2,1.8597,34.8246,2,34.8245,2,238.6,2,238.2,2,67.99,2,25.37,2,1.74,2,2215,2,2345.8,2,-999,9,-999,9,-999,-999,9,-999,1
  740H20180228, A09.5,60,1,1,5977,2,20180318,112,-23.0368,-14.2995,4116,4169.3,1.8377,34.822,2,34.822,2,238.6,2,237.8,2,69.36,2,25.56,2,1.75,2,2218.4,6,2346.1,6,-999,9,-999,9,-999,-999,9,-999,1