BOTTLE,20190321PRINUNIVRMK,,,,,,,,,,,,,,,,,,,,,,,,,,,,,,,,,,,,,,,
EXPOCODE,SECT_ID,STNNBR,CASTNO,SAMPNO,BTLNBR,BTLNBR_FLAG_W,DATE,TIME,LATITUDE,LONGITUDE,DEPTH,CTDPRS,CTDTMP,CTDSAL,CTDSAL_FLAG_W,SALNTY,SALNTY_FLAG_W,CTDOXY,CTDOXY_FLAG_W,OXYGEN,OXYGEN_FLAG_W,SILCAT,SILCAT_FLAG_W,NITRAT,NITRAT_FLAG_W,PHSPHT,PHSPHT_FLAG_W,TCARBN,TCARBN_FLAG_W,ALKALI,ALKALI_FLAG_W,CHLORA,CHLORA_FLAG_W,DELC14,DELC14_FLAG_W,C14ERR,DELC13,DELC13_FLAG_W,DELO18,DELO18_FLAG_W
,,,,,,,,,,,METERS,DBAR,ITS-90,PSS-78,,PSS-78,,UMOL/KG,,UMOL/KG,,UMOL/KG,,UMOL/KG,,UMOL/KG,,UMOL/KG,,UMOL/KG,,UG/KG,,/MILLE,,/MILLE,/MILLE,,/MILLE,
  740H20180228, A09.5,10,1,24,1086,2,20180303,108,-23.739,-40.3123,2857,3.8,27.4871,37.1144,2,-999,9,200.3,2,205.8,4,0.45,2,0,2,0.01,2,-999,9,-999,9,-999,9,-999,9,-999,-999,9,-999,1
  740H20180228, A09.5,10,1,23,6427,2,20180303,108,-23.739,-40.3123,2857,4.5,27.4849,37.1143,2,37.1142,2,201.3,2,206,4,0.41,2,0,2,0,2,2085.7,6,2431.4,6,-999,9,-999,9,-999,-999,9,-999,1
  740H20180228, A09.5,10,1,22,6426,2,20180303,108,-23.739,-40.3123,2857,39.6,27.3133,37.1299,2,37.131,2,202.3,2,-999,9,0.42,2,0,2,0.01,2,-999,9,-999,9,-999,9,-999,9,-999,-999,9,-999,9
  740H20180228, A09.5,10,1,21,6425,2,20180303,108,-23.739,-40.3123,2857,39.8,27.3558,37.1303,2,37.1304,2,203.4,2,207.9,4,0.43,2,0,2,0,2,2085.5,2,2435.5,2,-999,9,-999,9,-999,-999,9,-999,1
  740H20180228, A09.5,10,1,20,6428,2,20180303,108,-23.739,-40.3123,2857,64.7,24.0894,37.1368,2,37.1318,2,222.2,2,208.2,4,0.47,2,0,2,0.01,2,2087,2,2428.7,2,-999,9,-999,9,-999,-999,9,-999,1
  740H20180228, A09.5,10,1,19,1098,2,20180303,108,-23.739,-40.3123,2857,89.6,22.5722,37.021,2,37.0214,2,213.9,2,219.8,4,0.32,2,0,2,0.04,2,2109,2,2433.9,2,-999,9,-999,9,-999,-999,9,-999,1
  740H20180228, A09.5,10,1,18,6692,2,20180303,108,-23.739,-40.3123,2857,104.3,22.0874,36.9341,2,36.9482,2,209.6,2,215,4,0.34,2,0.07,2,0.06,2,2116.9,6,2418.7,6,-999,9,-999,9,-999,-999,9,-999,1
  740H20180228, A09.5,10,1,17,1122,2,20180303,108,-23.739,-40.3123,2857,189.8,17.3995,35.8641,2,35.8449,2,212.4,2,217.8,4,1.39,2,2.46,2,0.28,2,2105.8,2,2347.7,2,-999,9,-999,9,-999,-999,9,-999,1
  740H20180228, A09.5,10,1,16,6420,2,20180303,108,-23.739,-40.3123,2857,265.1,16.1125,35.6721,2,35.6668,2,200.9,2,208.1,4,1.91,2,5.48,2,0.48,2,2121.3,2,2349.8,2,-999,9,-999,9,-999,-999,9,-999,1
  740H20180228, A09.5,10,1,15,6419,2,20180303,108,-23.739,-40.3123,2857,391.2,13.613,35.2849,2,35.2836,2,228.4,2,232,4,3.05,2,7.41,2,0.6,2,2116,6,2318.2,6,-999,9,-999,9,-999,-999,9,-999,1
  740H20180228, A09.5,10,1,14,6418,2,20180303,108,-23.739,-40.3123,2857,517,12.7128,35.1541,2,35.1377,2,224.3,2,229.2,4,3.87,2,10.26,3,0.77,3,2121.4,6,2310.9,6,-999,9,-999,9,-999,-999,9,-999,1
  740H20180228, A09.5,10,1,13,6417,2,20180303,108,-23.739,-40.3123,2857,643.3,8.7113,34.6642,2,34.6772,2,197.2,2,202,4,10.07,2,21.73,2,1.47,2,2162.2,2,2292.8,2,-999,9,-999,9,-999,-999,9,-999,1
  740H20180228, A09.5,10,1,12,6416,2,20180303,108,-23.739,-40.3123,2857,769.4,5.9781,34.4333,2,34.4311,2,191.3,2,196.3,4,20.59,2,29.31,2,1.96,2,2188.2,2,-999,4,-999,9,-999,9,-999,-999,9,-999,1
  740H20180228, A09.5,10,1,11,6415,2,20180303,108,-23.739,-40.3123,2857,895.9,4.5957,34.3789,2,34.3798,2,194.5,2,201.4,4,30.66,2,31.83,2,2.15,2,2201,2,2300,2,-999,9,-999,9,-999,-999,9,-999,1
  740H20180228, A09.5,10,1,10,6414,2,20180303,108,-23.739,-40.3123,2857,1022.6,3.8023,34.4282,2,34.432,2,190.6,2,195.1,4,40.2,2,32.8,2,2.24,2,2214.4,2,-999,9,-999,9,-999,9,-999,-999,9,-999,1
  740H20180228, A09.5,10,1,9,6413,2,20180303,108,-23.739,-40.3123,2857,1275.1,3.6102,34.607,2,34.6083,2,190.3,2,197.1,4,41.54,2,31.07,2,2.1,2,2215.4,6,2318.4,6,-999,9,-999,9,-999,-999,9,-999,1
  740H20180228, A09.5,10,1,8,6412,2,20180303,108,-23.739,-40.3123,2857,1529,3.9267,34.793,2,34.7946,2,204.8,2,208.6,4,31.02,2,27,2,1.82,2,2200.6,2,-999,9,-999,9,-999,9,-999,-999,9,-999,1
  740H20180228, A09.5,10,1,7,6411,2,20180303,108,-23.739,-40.3123,2857,1783.5,3.9732,34.9225,2,34.9202,2,231,2,234.8,4,22.35,2,22.63,2,1.5,2,2183.1,2,2326.6,3,-999,9,-999,9,-999,-999,9,-999,1
  740H20180228, A09.5,10,1,6,6410,2,20180303,108,-23.739,-40.3123,2857,2037.2,3.6427,34.9552,2,34.9554,2,250,2,252.7,4,20.87,2,20.38,2,1.34,2,2172.3,2,2323.3,2,-999,9,-999,9,-999,-999,9,-999,1
  740H20180228, A09.5,10,1,5,6409,2,20180303,108,-23.739,-40.3123,2857,2291.7,3.2945,34.9479,2,34.9468,2,255.3,2,257.9,4,23.93,2,20.11,2,1.33,2,2174.1,2,2328,2,-999,9,-999,9,-999,-999,9,-999,1
  740H20180228, A09.5,10,1,4,6408,2,20180303,108,-23.739,-40.3123,2857,2547,2.8759,34.9278,2,34.928,2,255.5,2,259.6,4,30.53,2,20.51,2,1.35,2,2176.1,2,-999,9,-999,9,-999,9,-999,-999,9,-999,1
  740H20180228, A09.5,10,1,3,6407,2,20180303,108,-23.739,-40.3123,2857,2802.3,2.6206,34.9128,2,34.912,2,256.4,2,258.8,4,34.96,2,20.81,2,1.38,2,-999,9,-999,9,-999,9,-999,9,-999,-999,9,-999,1
  740H20180228, A09.5,10,1,2,6406,2,20180303,108,-23.739,-40.3123,2857,2884.3,2.4716,34.9005,2,34.9005,2,255.9,2,-999,9,39.09,2,21.27,2,1.42,2,-999,9,-999,9,-999,9,-999,9,-999,-999,9,-999,9
  740H20180228, A09.5,10,1,1,5977,2,20180303,108,-23.739,-40.3123,2857,2885,2.47,34.9005,2,34.9021,2,255.7,2,258.9,4,38.95,2,21.23,2,1.41,2,2184.2,6,-999,9,-999,9,-999,9,-999,-999,9,-999,1
  740H20180228, A09.5,11,1,23,6427,2,20180303,639,-23.9964,-40.0026,3013,13.8,27.1257,37.0375,2,37.0363,2,203,2,216.9,4,0.54,2,0,2,0.03,2,2081.3,6,2425.7,6,-999,9,-999,9,-999,-999,9,-999,1
  740H20180228, A09.5,11,1,24,1086,2,20180303,639,-23.9964,-40.0026,3013,13.9,27.1352,37.0337,2,37.0362,2,202.2,2,-999,9,0.54,2,0,2,0.04,2,-999,9,-999,9,-999,9,-999,9,-999,-999,9,-999,1
  740H20180228, A09.5,11,1,22,6426,2,20180303,639,-23.9964,-40.0026,3013,33.7,26.9015,37.0803,2,37.0795,2,204,2,219.2,4,0.58,2,0,2,0.03,2,-999,9,-999,9,-999,9,-999,9,-999,-999,9,-999,1
  740H20180228, A09.5,11,1,21,6425,2,20180303,639,-23.9964,-40.0026,3013,58.7,24.7078,37.1816,2,37.1853,2,221.4,2,232.4,4,0.44,2,0,2,0.02,2,2093.3,2,2434.9,2,-999,9,-999,9,-999,-999,9,-999,1
  740H20180228, A09.5,11,1,20,6428,2,20180303,639,-23.9964,-40.0026,3013,83.8,23.4287,37.1249,2,37.1253,2,219.7,2,-999,5,0.4,2,0,2,0.04,2,-999,9,-999,9,-999,9,-999,9,-999,-999,9,-999,1
  740H20180228, A09.5,11,1,19,1098,2,20180303,639,-23.9964,-40.0026,3013,108.7,22.4153,37.0286,2,37.0284,2,207.3,2,211.1,4,0.44,2,0.15,2,0.1,2,2111.6,6,2427.6,6,-999,9,-999,9,-999,-999,9,-999,1
  740H20180228, A09.5,11,1,18,6692,2,20180303,639,-23.9964,-40.0026,3013,184.3,19.2651,36.2666,2,36.2776,2,211.6,2,209.4,4,0.53,2,1.19,2,0.15,2,2103.8,2,2377.1,2,-999,9,-999,9,-999,-999,9,-999,1
  740H20180228, A09.5,11,1,17,1122,2,20180303,639,-23.9964,-40.0026,3013,259.9,16.3672,35.6848,2,35.6775,2,206.3,2,204.1,4,1.4,2,4.03,2,0.39,2,-999,9,-999,9,-999,9,-999,9,-999,-999,9,-999,1
  740H20180228, A09.5,11,1,16,6420,2,20180303,639,-23.9964,-40.0026,3013,385.3,13.4499,35.2746,2,35.2699,2,212,2,210.3,4,2.78,2,9.17,2,0.7,2,2124.4,2,2320,2,-999,9,-999,9,-999,-999,9,-999,1
  740H20180228, A09.5,11,1,15,6419,2,20180303,639,-23.9964,-40.0026,3013,511.4,10.8302,34.9059,2,34.9227,2,206.3,2,203.7,4,5.58,2,15.68,2,1.11,2,-999,9,-999,9,-999,9,-999,9,-999,-999,9,-999,1
  740H20180228, A09.5,11,1,14,6418,2,20180303,639,-23.9964,-40.0026,3013,637.4,7.6657,34.5428,2,34.538,2,210,2,206.9,4,11.42,2,23.33,2,1.6,2,2160.6,2,2291.6,2,-999,9,-999,9,-999,-999,9,-999,1
  740H20180228, A09.5,11,1,13,6417,2,20180303,639,-23.9964,-40.0026,3013,764.1,5.576,34.3685,2,34.368,2,212.5,2,209.8,4,19.29,2,28,2,1.92,2,2178.8,2,2289.1,2,-999,9,-999,9,-999,-999,9,-999,1
  740H20180228, A09.5,11,1,12,6416,2,20180303,639,-23.9964,-40.0026,3013,889.9,4.2952,34.3484,2,-999,9,205.5,2,-999,9,31.07,2,31.15,2,2.13,2,-999,9,-999,9,-999,9,-999,9,-999,-999,9,-999,9
  740H20180228, A09.5,11,1,11,6415,2,20180303,639,-23.9964,-40.0026,3013,890.2,4.281,34.3511,2,34.352,2,205,2,195.7,4,31.53,2,31.23,2,2.15,2,2197.3,2,2298.5,2,-999,9,-999,9,-999,-999,9,-999,1
  740H20180228, A09.5,11,1,10,6414,2,20180303,639,-23.9964,-40.0026,3013,1016.6,3.7427,34.4192,2,34.4244,2,192.8,2,197.2,4,41.06,2,32.48,2,2.24,2,2214.4,2,2308.7,2,-999,9,-999,9,-999,-999,9,-999,1
  740H20180228, A09.5,11,1,9,6413,2,20180303,639,-23.9964,-40.0026,3013,1211.2,3.5241,34.5619,2,34.5642,2,189.1,2,194,4,44.05,2,31.44,2,2.17,2,2218.8,6,-999,4,-999,9,-999,9,-999,-999,9,-999,1
  740H20180228, A09.5,11,1,8,6412,2,20180303,639,-23.9964,-40.0026,3013,1523.5,4.03,34.8372,2,34.8376,2,209.1,2,213.7,4,27.93,2,25.61,2,1.75,2,2193,2,2319.6,2,-999,9,-999,9,-999,-999,9,-999,1
  740H20180228, A09.5,11,1,7,6411,2,20180303,639,-23.9964,-40.0026,3013,1777.1,3.9161,34.9401,2,34.9397,2,237,2,241.6,4,21.4,2,21.56,2,1.45,2,2177.8,2,-999,4,-999,9,-999,9,-999,-999,9,-999,1
  740H20180228, A09.5,11,1,6,6410,2,20180303,639,-23.9964,-40.0026,3013,2031.2,3.587,34.9512,2,34.9496,2,250.1,2,252.5,4,22.52,2,20.32,2,1.37,2,2175.7,2,-999,9,-999,9,-999,9,-999,-999,9,-999,1
  740H20180228, A09.5,11,1,5,6409,2,20180303,639,-23.9964,-40.0026,3013,2285.8,3.2613,34.9464,2,34.9461,2,254.8,2,257.6,4,24.81,2,19.96,2,1.34,2,2174,2,-999,3,-999,9,-999,9,-999,-999,9,-999,1
  740H20180228, A09.5,11,1,4,6408,2,20180303,639,-23.9964,-40.0026,3013,2540.9,2.9655,34.9323,2,34.9318,2,255.4,2,259.8,4,29.57,2,20.38,2,1.38,2,2176.3,2,-999,3,-999,9,-999,9,-999,-999,9,-999,1
  740H20180228, A09.5,11,1,3,6407,2,20180303,639,-23.9964,-40.0026,3013,2795.9,2.7324,34.9191,2,34.9195,2,255.7,2,258.4,4,33.25,2,20.72,2,1.4,2,2180.4,2,-999,9,-999,9,-999,9,-999,-999,9,-999,1
  740H20180228, A09.5,11,1,1,5977,2,20180303,639,-23.9964,-40.0026,3013,3044.8,2.3462,34.8905,2,34.8898,2,254.2,2,256.2,4,43,2,21.72,2,1.48,2,2189.3,6,-999,3,-999,9,-999,9,-999,-999,9,-999,1
  740H20180228, A09.5,11,1,2,6406,2,20180303,639,-23.9964,-40.0026,3013,3044.9,2.3237,34.8858,2,-999,9,253.8,2,-999,9,44.14,2,21.88,2,1.49,2,-999,9,-999,3,-999,9,-999,9,-999,-999,9,-999,9
  740H20180228, A09.5,12,1,23,6427,2,20180303,1246,-23.9995,-39.5002,3026,12.9,26.9571,36.5079,2,36.5046,3,203.4,2,203.1,2,0.32,2,0,2,0.02,2,-999,9,-999,9,-999,1,-999,9,-999,-999,9,-999,1
  740H20180228, A09.5,12,1,24,1086,2,20180303,1246,-23.9995,-39.5002,3026,13.2,26.9244,36.5101,2,36.5068,3,203.5,2,-999,9,0.33,2,0,2,0.02,2,2061.7,6,2390.9,6,-999,9,-999,9,-999,-999,9,-999,1
  740H20180228, A09.5,12,1,22,6426,2,20180303,1246,-23.9995,-39.5002,3026,33.1,25.0727,36.8197,2,36.7672,3,219.1,2,219.2,2,0.38,2,0,2,0.02,2,2081.1,2,2414,2,-999,9,-999,9,-999,-999,9,-999,1
  740H20180228, A09.5,12,1,21,6425,2,20180303,1246,-23.9995,-39.5002,3026,53,22.6806,36.7026,2,36.7058,3,234.1,2,232.5,2,0.43,2,0,2,0.02,2,2085.1,2,2411.2,2,-999,1,-999,9,-999,-999,9,-999,1
  740H20180228, A09.5,12,1,20,6428,2,20180303,1246,-23.9995,-39.5002,3026,83.3,21.5506,36.6965,2,36.6931,3,222.8,2,222.3,2,0.44,2,0.01,2,0.05,2,2091.4,2,2408.4,2,-999,9,-999,9,-999,-999,9,-999,3
  740H20180228, A09.5,12,1,18,6692,2,20180303,1246,-23.9995,-39.5002,3026,118.2,20.4868,36.5023,2,36.4963,3,215.7,2,214.2,2,0.42,2,0.15,2,0.08,2,2101.8,6,2377.4,6,-999,9,-999,9,-999,-999,9,-999,1
  740H20180228, A09.5,12,1,19,1098,2,20180303,1246,-23.9995,-39.5002,3026,118.2,20.4849,36.502,2,36.501,3,214.9,2,-999,9,0.42,2,0.14,2,0.09,2,-999,9,-999,9,-999,1,-999,9,-999,-999,9,-999,9
  740H20180228, A09.5,12,1,17,1122,2,20180303,1246,-23.9995,-39.5002,3026,183.3,17.5205,35.8852,2,35.8533,3,207,2,206.1,2,0.98,2,2.54,2,0.29,2,-999,9,-999,9,-999,9,-999,9,-999,-999,9,-999,1
  740H20180228, A09.5,12,1,16,6420,2,20180303,1246,-23.9995,-39.5002,3026,258.6,15.2107,35.499,2,35.4999,3,207.9,2,207.1,2,1.87,2,5.6,2,0.51,2,2115.3,2,2336.6,2,-999,9,-999,9,-999,-999,9,-999,1
  740H20180228, A09.5,12,1,15,6419,2,20180303,1246,-23.9995,-39.5002,3026,384.9,12.7617,35.1944,2,35.1814,3,210.5,2,208.7,2,3.28,2,10.98,2,0.82,2,2123.4,2,2318.1,2,-999,9,-999,9,-999,-999,9,-999,1
  740H20180228, A09.5,12,1,14,6418,2,20180303,1246,-23.9995,-39.5002,3026,510.4,10.0369,34.8178,2,34.8086,3,202.5,2,201.6,2,7.15,2,18.15,2,1.28,2,2151.2,2,2303.3,2,-999,9,-999,9,-999,-999,9,-999,1
  740H20180228, A09.5,12,1,13,6417,2,20180303,1246,-23.9995,-39.5002,3026,636.5,7.2996,34.5074,2,34.5029,3,209.6,2,209.3,2,12.35,2,24.12,2,1.65,2,2157.6,2,2288.6,2,-999,9,-999,9,-999,-999,9,-999,3
  740H20180228, A09.5,12,1,12,6416,2,20180303,1246,-23.9995,-39.5002,3026,762.8,5.2936,34.352,2,34.3554,3,210.3,2,209,2,21.35,2,28.81,2,1.97,2,2182.6,2,-999,3,-999,9,-999,9,-999,-999,9,-999,3
  740H20180228, A09.5,12,1,11,6415,2,20180303,1246,-23.9995,-39.5002,3026,833.6,4.508,34.3373,2,34.3362,3,209.1,2,207.5,2,27.81,2,30.38,2,2.09,2,2191.7,6,-999,3,-999,9,-999,9,-999,-999,9,-999,1
  740H20180228, A09.5,12,1,10,6414,2,20180303,1246,-23.9995,-39.5002,3026,1116.4,3.4872,34.5109,2,34.5139,3,188.5,2,186.2,2,44.75,2,31.96,2,2.21,2,2212.2,2,2313.6,2,-999,9,-999,9,-999,-999,9,-999,1
  740H20180228, A09.5,12,1,9,6413,2,20180303,1246,-23.9995,-39.5002,3026,1268.6,3.6792,34.6524,2,34.6553,3,192.3,2,190.2,2,39.23,2,29.76,2,2.03,2,2204.1,2,2314.9,2,-999,9,-999,9,-999,-999,9,-999,1
  740H20180228, A09.5,12,1,8,6412,2,20180303,1246,-23.9995,-39.5002,3026,1522.4,3.978,34.8551,2,34.8549,3,213.5,2,211,2,27.32,2,24.81,2,1.67,2,2191.4,2,-999,4,-999,9,-999,9,-999,-999,9,-999,1
  740H20180228, A09.5,12,1,7,6411,2,20180303,1246,-23.9995,-39.5002,3026,1776.1,3.8158,34.9384,2,34.9364,3,238.6,2,235.1,2,22.35,2,21.34,2,1.42,2,2171.1,2,2314.2,2,-999,9,-999,9,-999,-999,9,-999,1
  740H20180228, A09.5,12,1,6,6410,2,20180303,1246,-23.9995,-39.5002,3026,2030.7,3.6182,34.9584,2,34.959,3,251.3,2,248,2,20.84,2,19.94,2,1.34,2,2167.1,6,2315.3,4,-999,9,-999,9,-999,-999,9,-999,1
  740H20180228, A09.5,12,1,5,6409,2,20180303,1246,-23.9995,-39.5002,3026,2285.2,3.312,34.9497,2,34.9485,3,255.2,2,251.5,2,23.82,2,19.79,2,1.33,2,2171,2,-999,4,-999,9,-999,9,-999,-999,9,-999,1
  740H20180228, A09.5,12,1,4,6408,2,20180303,1246,-23.9995,-39.5002,3026,2539.6,3.0875,34.9383,2,34.9378,3,255.4,2,251.3,2,27.31,2,20.05,2,1.35,2,2172.6,2,-999,4,-999,9,-999,9,-999,-999,9,-999,1
  740H20180228, A09.5,12,1,3,6407,2,20180303,1246,-23.9995,-39.5002,3026,2845.8,2.7964,34.9223,2,34.9207,3,255.8,2,251.4,2,32.38,2,20.45,2,1.38,2,2177.6,4,-999,4,-999,9,-999,9,-999,-999,9,-999,1
  740H20180228, A09.5,12,1,1,5977,2,20180303,1246,-23.9995,-39.5002,3026,3055.6,2.5989,34.9089,2,34.9059,3,256.3,2,252,2,36.67,2,20.89,2,1.41,2,2179.1,2,2327.9,2,-999,9,-999,9,-999,-999,9,-999,1
  740H20180228, A09.5,12,1,2,6406,2,20180303,1246,-23.9995,-39.5002,3026,3055.7,2.5988,34.9088,2,34.905,3,255.9,2,-999,9,36.64,2,20.84,2,1.41,2,-999,9,-999,9,-999,9,-999,9,-999,-999,9,-999,9
  740H20180228, A09.5,13,1,23,6427,2,20180303,1854,-24.0011,-39.0032,3438,11.5,27.1254,36.8016,2,36.8215,2,203,2,-999,9,0.36,2,0,2,0.01,2,2077.4,2,2411.3,2,-999,9,-999,1,-999,-999,1,-999,1
  740H20180228, A09.5,13,1,24,1086,2,20180303,1854,-24.0011,-39.0032,3438,11.8,27.1272,36.8009,2,36.822,2,203.4,2,-999,9,0.39,2,0,2,0.01,2,-999,9,-999,9,-999,9,-999,9,-999,-999,9,-999,9
  740H20180228, A09.5,13,1,21,6425,2,20180303,1854,-24.0011,-39.0032,3438,31.8,26.6178,36.9541,2,36.9559,2,208.6,2,-999,9,0.53,2,0.03,2,0.01,2,2082,2,2419.8,2,-999,9,-999,1,-999,-999,1,-999,1
  740H20180228, A09.5,13,1,22,6426,2,20180303,1854,-24.0011,-39.0032,3438,31.9,26.6165,36.9496,2,36.9548,2,208.1,2,-999,9,0.42,2,0.02,2,0.02,2,-999,9,-999,9,-999,9,-999,9,-999,-999,9,-999,9
  740H20180228, A09.5,13,1,20,6428,4,20180303,1854,-24.0011,-39.0032,3438,81.5,21.9741,36.686,2,-999,9,229.7,2,-999,9,-999,9,-999,9,-999,9,-999,9,-999,9,-999,9,-999,9,-999,-999,9,-999,9
  740H20180228, A09.5,13,1,19,1098,2,20180303,1854,-24.0011,-39.0032,3438,106.8,21.2109,36.6506,2,36.6616,2,220,2,-999,9,0.67,2,0.03,2,0.04,2,2098.8,2,2405.2,2,-999,9,-999,1,-999,-999,1,-999,1
  740H20180228, A09.5,13,1,18,6692,2,20180303,1854,-24.0011,-39.0032,3438,182.5,18.3926,36.06,2,36.0625,2,210.6,2,210.1,2,0.82,2,1.67,2,0.2,2,2104.1,2,2366.4,2,-999,9,-999,1,-999,-999,1,-999,1
  740H20180228, A09.5,13,1,17,1122,2,20180303,1854,-24.0011,-39.0032,3438,257.7,15.8849,35.6114,2,35.5965,2,207.1,2,207,2,1.69,2,4.82,2,0.45,2,2114.7,2,2339.8,2,-999,9,-999,1,-999,-999,1,-999,1
  740H20180228, A09.5,13,1,16,6420,2,20180303,1854,-24.0011,-39.0032,3438,383.1,12.9717,35.2078,2,35.2052,2,207.1,2,206.9,2,3.4,2,10.57,2,0.79,2,2130.8,6,2316.8,6,-999,9,-999,1,-999,-999,1,-999,1
  740H20180228, A09.5,13,1,15,6419,2,20180303,1854,-24.0011,-39.0032,3438,509.7,10.3464,34.8512,2,34.8452,2,197.9,2,198.2,2,7.32,2,17.82,2,1.25,2,2151.5,2,2303.4,2,-999,9,-999,1,-999,-999,1,-999,1
  740H20180228, A09.5,13,1,14,6418,2,20180303,1854,-24.0011,-39.0032,3438,635.8,7.7792,34.5762,2,34.5647,2,187.5,2,186.8,2,14.1,2,25.36,2,1.72,2,2176.7,2,2290.7,2,-999,9,-999,1,-999,-999,1,-999,1
  740H20180228, A09.5,13,1,13,6417,2,20180303,1854,-24.0011,-39.0032,3438,762.2,5.6644,34.4084,2,34.4004,2,195.4,2,195.1,2,22.18,2,29.61,2,1.98,2,2186.4,2,2289.3,2,-999,9,-999,1,-999,-999,1,-999,1
  740H20180228, A09.5,13,1,12,6416,2,20180303,1854,-24.0011,-39.0032,3438,888.3,4.2591,34.3584,2,34.3635,2,202.1,2,198.2,2,32.28,2,31.44,2,2.12,2,2198.2,2,2297.2,2,-999,9,-999,1,-999,-999,1,-999,1
  740H20180228, A09.5,13,1,11,6415,2,20180303,1854,-24.0011,-39.0032,3438,1176.4,3.2876,34.5203,2,34.5217,2,189.9,2,185.1,2,49.11,2,32.19,2,2.18,2,2222.9,2,2315.5,2,-999,9,-999,1,-999,-999,1,-999,1
  740H20180228, A09.5,13,1,10,6414,2,20180303,1854,-24.0011,-39.0032,3438,1267.9,3.5193,34.6225,2,34.6252,2,191.5,2,188.1,2,43.11,2,30.56,2,2.05,2,2212.2,2,2315.9,2,-999,9,-999,1,-999,-999,1,-999,1
  740H20180228, A09.5,13,1,9,6413,2,20180303,1854,-24.0011,-39.0032,3438,1521.1,4.0383,34.8796,2,34.8802,2,217.7,2,214.6,2,25.35,2,24.28,2,1.6,2,2186.1,2,2314.5,2,-999,9,-999,1,-999,-999,1,-999,1
  740H20180228, A09.5,13,1,8,6412,2,20180303,1854,-24.0011,-39.0032,3438,1775.8,3.8215,34.9485,2,34.9484,2,242.3,2,238.4,2,21.09,2,20.98,2,1.37,2,2169.7,2,2314.3,2,-999,9,-999,1,-999,-999,1,-999,1
  740H20180228, A09.5,13,1,7,6411,2,20180303,1854,-24.0011,-39.0032,3438,2030,3.4854,34.9561,2,34.9586,2,253.7,2,248.4,2,21.76,2,19.93,2,1.3,2,2167.8,2,2315.7,2,-999,9,-999,1,-999,-999,1,-999,1
  740H20180228, A09.5,13,1,6,6410,2,20180303,1854,-24.0011,-39.0032,3438,2284,3.2573,34.9474,2,34.9464,2,255.8,2,252.2,2,24.66,2,20.07,2,1.31,2,2172.9,2,-999,9,-999,9,-999,1,-999,-999,1,-999,1
  740H20180228, A09.5,13,1,5,6409,2,20180303,1854,-24.0011,-39.0032,3438,2538.9,3.0519,34.9364,2,34.9388,2,255.2,2,252.1,2,27.93,2,20.32,2,1.33,2,-999,9,-999,9,-999,9,-999,1,-999,-999,1,-999,1
  740H20180228, A09.5,13,1,4,6408,2,20180303,1854,-24.0011,-39.0032,3438,2794.9,2.9019,34.9271,2,34.9293,2,254.9,2,252.8,2,30.76,2,20.57,2,1.35,2,2171.6,2,2323.3,2,-999,9,-999,1,-999,-999,1,-999,1
  740H20180228, A09.5,13,1,3,6407,2,20180303,1854,-24.0011,-39.0032,3438,3049.9,2.725,34.9168,2,34.9178,2,255.9,2,252.6,2,33.88,2,20.81,2,1.37,2,2179.6,2,-999,9,-999,9,-94.4,2,4,0.95,2,-999,1
  740H20180228, A09.5,13,1,1,5977,2,20180303,1854,-24.0011,-39.0032,3438,3474.9,1.918,34.8413,2,34.8443,2,246.9,2,244.1,2,61.6,2,-999,5,1.64,2,2206,2,2339.7,2,-999,9,-999,1,-999,-999,1,-999,1
  740H20180228, A09.5,13,1,2,6406,2,20180303,1854,-24.0011,-39.0032,3438,3474.9,1.9235,34.842,2,34.8424,2,247,2,-999,9,61.74,2,24.38,2,1.64,2,-999,9,-999,9,-999,9,-999,9,-999,-999,9,-999,9