BOTTLE,20190321PRINUNIVRMK,,,,,,,,,,,,,,,,,,,,,,,,,,,,,,,,,,,,,,,
EXPOCODE,SECT_ID,STNNBR,CASTNO,SAMPNO,BTLNBR,BTLNBR_FLAG_W,DATE,TIME,LATITUDE,LONGITUDE,DEPTH,CTDPRS,CTDTMP,CTDSAL,CTDSAL_FLAG_W,SALNTY,SALNTY_FLAG_W,CTDOXY,CTDOXY_FLAG_W,OXYGEN,OXYGEN_FLAG_W,SILCAT,SILCAT_FLAG_W,NITRAT,NITRAT_FLAG_W,PHSPHT,PHSPHT_FLAG_W,TCARBN,TCARBN_FLAG_W,ALKALI,ALKALI_FLAG_W,CHLORA,CHLORA_FLAG_W,DELC14,DELC14_FLAG_W,C14ERR,DELC13,DELC13_FLAG_W,DELO18,DELO18_FLAG_W
,,,,,,,,,,,METERS,DBAR,ITS-90,PSS-78,,PSS-78,,UMOL/KG,,UMOL/KG,,UMOL/KG,,UMOL/KG,,UMOL/KG,,UMOL/KG,,UMOL/KG,,UG/KG,,/MILLE,,/MILLE,/MILLE,,/MILLE,
  740H20180228, A09.5,93,1,12,6416,2,20180328,213,-24.0001,1.9002,5219,6.3,23.1158,35.9121,2,35.9113,2,216.1,2,220.8,2,0.82,2,0.15,2,0.2,2,2070.3,2,2362.9,2,-999,9,-999,9,-999,-999,9,-999,1
  740H20180228, A09.5,93,1,11,6415,2,20180328,213,-24.0001,1.9002,5219,50.7,21.3511,35.9213,2,35.9105,2,238.6,2,239,2,1.02,2,0.13,2,0.21,2,2079.3,2,2361.5,2,-999,9,-999,9,-999,-999,9,-999,1
  740H20180228, A09.5,93,1,10,6414,2,20180328,213,-24.0001,1.9002,5219,70.8,19.7686,35.8789,2,35.8748,2,242.6,2,240.6,2,0.95,2,0.22,2,0.26,2,2084.9,2,2356.4,2,-999,9,-999,9,-999,-999,9,-999,1
  740H20180228, A09.5,93,1,9,6413,2,20180328,213,-24.0001,1.9002,5219,100.5,18.3126,35.7872,2,35.7786,2,222.8,2,222.2,2,1.4,2,2.38,2,0.42,2,2105.6,6,2350.2,6,-999,9,-999,9,-999,-999,9,-999,1
  740H20180228, A09.5,93,1,8,6412,2,20180328,213,-24.0001,1.9002,5219,176.1,15.2022,35.3755,2,35.3621,2,186.2,2,185.7,2,3.37,2,10.76,2,0.84,2,2137,2,2319.9,2,-999,9,-999,9,-999,-999,9,-999,1
  740H20180228, A09.5,93,1,7,6411,2,20180328,213,-24.0001,1.9002,5219,253.7,13.0473,35.1412,2,35.1373,2,179.3,2,179.4,2,5.14,2,14.23,2,1.02,2,2150.1,2,2311.4,2,-999,9,-999,9,-999,-999,9,-999,1
  740H20180228, A09.5,93,1,6,6410,2,20180328,213,-24.0001,1.9002,5219,378.6,10.4546,34.857,2,34.8562,2,166.6,2,167.4,2,8.61,2,20.94,2,1.43,2,2172,2,2299.1,2,-999,9,-999,9,-999,-999,9,-999,1
  740H20180228, A09.5,93,1,5,6409,2,20180328,213,-24.0001,1.9002,5219,503.8,7.5505,34.5599,2,34.5468,2,162.5,2,-999,2,16.04,2,28.68,2,1.92,2,2196.3,2,2288.5,2,-999,9,-999,9,-999,-999,9,-999,1
  740H20180228, A09.5,93,1,4,6408,2,20180328,213,-24.0001,1.9002,5219,631.2,5.3646,34.3826,2,34.3826,2,185.8,2,-999,5,23.66,2,31.32,2,2.1,2,2198.8,6,2291.2,6,-999,9,-999,9,-999,-999,9,-999,1
  740H20180228, A09.5,93,1,3,6407,2,20180328,213,-24.0001,1.9002,5219,755.5,4.5422,34.3811,2,34.3798,2,182.1,2,182.1,2,31.7,2,33.15,2,2.23,2,2210.8,2,2295,2,-999,9,-999,9,-999,-999,9,-999,1
  740H20180228, A09.5,93,1,2,6406,2,20180328,213,-24.0001,1.9002,5219,882.5,3.9324,34.4312,2,34.4287,2,177.2,2,177.7,2,40.06,2,34.07,2,2.29,2,2222.3,2,2307.7,2,-999,9,-999,9,-999,-999,9,-999,1
  740H20180228, A09.5,93,1,1,5977,2,20180328,213,-24.0001,1.9002,5219,1009.5,3.6815,34.5147,2,34.5175,2,175.5,2,175.2,2,42.72,2,33.5,2,2.25,2,2224.1,6,2312.8,6,-999,9,-999,9,-999,-999,9,-999,1
  740H20180228, A09.5,93,1,24,1086,2,20180328,213,-24.0001,1.9002,5219,1262.6,3.5832,34.6768,2,34.6704,2,185.1,2,184.5,2,40.31,2,30.66,2,2.05,2,2218.2,2,2314.1,2,-999,9,-999,9,-999,-999,9,-999,1
  740H20180228, A09.5,93,1,23,6427,2,20180328,213,-24.0001,1.9002,5219,1515.5,3.5099,34.7908,2,34.7876,2,203.4,2,203.7,2,36.18,2,27.29,2,1.81,2,2205.1,6,2320.8,6,-999,9,-999,9,-999,-999,9,-999,1
  740H20180228, A09.5,93,1,22,6426,2,20180328,213,-24.0001,1.9002,5219,1769.3,3.3007,34.8551,2,34.8518,2,220.9,2,227.1,2,35.1,2,24.74,2,1.63,2,2196.7,2,2320.7,2,-999,9,-999,9,-999,-999,9,-999,1
  740H20180228, A09.5,93,1,21,6425,2,20180328,213,-24.0001,1.9002,5219,2023.1,3.0818,34.8754,2,34.8717,2,230.3,2,221.8,2,36.86,2,23.7,2,1.56,2,2192.7,2,2323.3,2,-999,9,-999,9,-999,-999,9,-999,1
  740H20180228, A09.5,93,1,20,6428,2,20180328,213,-24.0001,1.9002,5219,2277.1,2.8044,34.8717,2,34.8685,2,233.6,2,233.6,2,41.15,2,23.61,2,1.55,2,2196,6,2327.7,6,-999,9,-999,9,-999,-999,9,-999,1
  740H20180228, A09.5,93,1,19,6692,2,20180328,213,-24.0001,1.9002,5219,2529.7,2.5922,34.8666,2,34.8636,2,235.3,2,232.4,2,45.54,2,23.73,2,1.57,2,2197.6,2,2334,2,-999,9,-999,9,-999,-999,9,-999,1
  740H20180228, A09.5,93,1,18,1098,2,20180328,213,-24.0001,1.9002,5219,2785.8,2.4864,34.8668,2,34.8643,2,236.1,2,235.9,2,48.02,2,23.76,2,1.58,2,2200.4,2,2335.1,2,-999,9,-999,9,-999,-999,9,-999,1
  740H20180228, A09.5,93,1,17,1122,2,20180328,213,-24.0001,1.9002,5219,3295.2,2.3809,34.8771,2,34.8752,2,234.9,2,232.8,2,50.56,2,23.68,2,1.58,2,2205.2,2,2347,2,-999,9,-999,9,-999,-999,9,-999,1
  740H20180228, A09.5,93,1,16,6420,2,20180328,213,-24.0001,1.9002,5219,3807.7,2.3557,34.8851,2,34.8847,2,232.2,2,232.9,2,51.86,2,23.66,2,1.57,2,2216.7,6,2356.5,6,-999,9,-999,9,-999,-999,9,-999,1
  740H20180228, A09.5,93,1,15,6419,2,20180328,213,-24.0001,1.9002,5219,4319.7,2.3753,34.8839,2,34.882,2,232.2,2,230.1,3,52.78,2,23.72,2,1.57,2,2216.4,2,2353.3,2,-999,9,-999,9,-999,-999,9,-999,1
  740H20180228, A09.5,93,1,14,6418,2,20180328,213,-24.0001,1.9002,5219,4832.3,2.4295,34.8833,2,34.8819,2,231.9,2,232.8,2,53.05,2,23.74,2,1.57,2,2211.1,2,2361.7,2,-999,9,-999,9,-999,-999,9,-999,1
  740H20180228, A09.5,93,1,13,6417,2,20180328,213,-24.0001,1.9002,5219,5306.6,2.4852,34.8825,2,34.8812,2,231.5,2,233.1,2,53.01,2,23.81,2,1.56,2,2217.7,6,2359.4,6,-999,9,-999,9,-999,-999,9,-999,1
  740H20180228, A09.5,94,1,12,6416,2,20180328,904,-24,2.4009,5275,4.7,23.0321,36.0734,2,36.0726,2,215.8,2,217.5,2,0.98,2,0.12,2,0.19,2,2084.2,2,2370.6,2,-999,9,-999,9,-999,-999,9,-999,1
  740H20180228, A09.5,94,1,11,6415,2,20180328,904,-24,2.4009,5275,50.2,20.9573,35.9536,2,35.9579,2,239.6,2,240.1,2,1.04,2,0.13,2,0.19,2,2083,2,2364.9,2,-999,9,-999,9,-999,-999,9,-999,1
  740H20180228, A09.5,94,1,10,6414,2,20180328,904,-24,2.4009,5275,70.3,19.4781,35.9141,2,35.9099,2,238.7,2,238.2,2,1.19,2,0.14,2,0.22,2,2082.8,2,2361.9,2,-999,1,-999,9,-999,-999,9,-999,1
  740H20180228, A09.5,94,1,9,6413,2,20180328,904,-24,2.4009,5275,110.7,18.2268,35.7974,2,35.7877,2,221.7,2,222.4,2,1.58,2,1.73,2,0.33,2,2098.2,6,2350.3,6,-999,1,-999,9,-999,-999,9,-999,1
  740H20180228, A09.5,94,1,8,6412,2,20180328,904,-24,2.4009,5275,175.8,15.9941,35.461,2,35.4452,2,205,2,206.5,2,2.88,2,6.04,2,0.54,2,2111.4,2,2329.8,2,-999,9,-999,9,-999,-999,9,-999,1
  740H20180228, A09.5,94,1,7,6411,2,20180328,904,-24,2.4009,5275,272.6,12.966,35.158,2,35.152,2,142.7,2,144.4,2,6.15,2,18.46,2,1.23,2,2171.4,2,2308.7,2,-999,9,-999,9,-999,-999,9,-999,1
  740H20180228, A09.5,94,1,6,6410,2,20180328,904,-24,2.4009,5275,403.8,10.3333,34.8578,2,34.8557,2,140.9,2,142.2,2,9.75,2,23.86,2,1.57,2,2192,2,2298.1,2,-999,9,-999,9,-999,-999,9,-999,1
  740H20180228, A09.5,94,1,5,6409,2,20180328,904,-24,2.4009,5275,529.1,7.4568,34.551,2,34.5544,2,162.3,2,161.7,2,16.04,2,28.66,2,1.88,2,2191.1,2,2288.7,2,-999,9,-999,9,-999,-999,9,-999,1
  740H20180228, A09.5,94,1,4,6408,2,20180328,904,-24,2.4009,5275,655.6,5.4139,34.3863,2,34.3855,2,186,2,186.6,2,23.49,2,31.25,2,2.07,2,2195.6,6,2290.4,6,-999,9,-999,9,-999,-999,9,-999,1
  740H20180228, A09.5,94,1,3,6407,2,20180328,904,-24,2.4009,5275,756.2,4.6316,34.3868,2,34.3871,2,178.2,2,178.5,2,31.35,2,33.43,2,2.22,2,2205.9,2,2295.3,2,-999,9,-999,9,-999,-999,9,-999,1
  740H20180228, A09.5,94,1,2,6406,2,20180328,904,-24,2.4009,5275,857.4,4.118,34.4285,2,34.4259,2,170.9,2,171.6,2,37.52,2,34.57,2,2.28,2,2221,2,2306.2,2,-999,9,-999,9,-999,-999,9,-999,1
  740H20180228, A09.5,94,1,1,5977,2,20180328,904,-24,2.4009,5275,1008.3,3.6898,34.5066,2,34.5071,2,175,2,175.4,2,42.39,2,33.85,2,2.24,2,2221.7,6,2311.3,6,-999,9,-999,9,-999,-999,9,-999,1
  740H20180228, A09.5,94,1,24,1086,2,20180328,904,-24,2.4009,5275,1261.7,3.5798,34.6765,2,34.6719,2,184.3,2,185,2,40,2,31,2,2.04,2,2213,2,2314.8,2,-999,9,-999,9,-999,-999,9,-999,1
  740H20180228, A09.5,94,1,23,6427,2,20180328,904,-24,2.4009,5275,1514.9,3.5209,34.7935,2,34.7902,2,202.6,2,203.2,2,35.48,2,27.69,2,1.82,2,2200.7,6,2319.7,6,-999,9,-999,9,-999,-999,9,-999,1
  740H20180228, A09.5,94,1,22,6426,2,20180328,904,-24,2.4009,5275,1768.4,3.3211,34.8562,2,34.853,2,220.5,2,221.8,2,34.32,2,25.09,2,1.62,2,2194.8,2,2321.3,2,-999,9,-999,9,-999,-999,9,-999,1
  740H20180228, A09.5,94,1,21,6425,2,20180328,904,-24,2.4009,5275,2022.6,3.0658,34.8809,2,34.8783,2,232,2,233,2,35.98,2,23.75,2,1.53,2,2187.2,2,2321.9,2,-999,9,-999,9,-999,-999,9,-999,1
  740H20180228, A09.5,94,1,20,6428,2,20180328,904,-24,2.4009,5275,2276.8,2.8102,34.88,2,34.8768,2,235.2,2,236.8,2,40.31,2,23.61,2,1.52,2,2192.4,6,2329.7,6,-999,9,-999,9,-999,-999,9,-999,1
  740H20180228, A09.5,94,1,19,6692,2,20180328,904,-24,2.4009,5275,2530.8,2.6003,34.8697,2,34.8667,2,235.5,2,236.5,2,45.39,2,23.89,2,1.55,2,2192.2,2,2331,2,-999,9,-999,9,-999,-999,9,-999,1
  740H20180228, A09.5,94,1,18,1098,2,20180328,904,-24,2.4009,5275,3039.5,2.4101,34.8714,2,34.8691,2,235.9,2,237,2,50.08,2,23.91,2,1.55,2,2201.4,2,2339.8,2,-999,9,-999,9,-999,-999,9,-999,1
  740H20180228, A09.5,94,1,17,1122,2,20180328,904,-24,2.4009,5275,3551.4,2.3572,34.8813,2,34.8792,2,233.6,2,234.6,2,51.85,2,23.78,2,1.55,2,2206.1,6,2350.1,6,-999,9,-999,9,-999,-999,9,-999,1
  740H20180228, A09.5,94,1,16,6420,2,20180328,904,-24,2.4009,5275,4064.8,2.3599,34.8845,2,34.8824,2,232.2,2,233.8,2,52.81,2,23.66,2,1.54,2,2213.3,2,2360.1,2,-999,9,-999,9,-999,-999,9,-999,1
  740H20180228, A09.5,94,1,15,6419,2,20180328,904,-24,2.4009,5275,4578.6,2.4024,34.8838,2,34.8816,2,232.1,2,233.6,2,53.21,2,23.65,2,1.55,2,2217,2,2356.4,2,-999,9,-999,9,-999,-999,9,-999,1
  740H20180228, A09.5,94,1,14,6418,2,20180328,904,-24,2.4009,5275,5087.7,2.4569,34.8828,2,34.8815,2,231.7,2,233.5,2,53.21,2,23.71,2,1.55,2,2215.8,2,2360.2,2,-999,9,-999,9,-999,-999,9,-999,1
  740H20180228, A09.5,94,1,13,6417,2,20180328,904,-24,2.4009,5275,5364.2,2.4897,34.8824,2,34.8811,2,232,2,233.8,2,52.78,2,23.87,2,1.55,2,2216.7,6,2359.4,6,-999,9,-999,9,-999,-999,9,-999,1
  740H20180228, A09.5,95,1,12,6416,2,20180328,1547,-23.9991,2.8965,5194,7.1,22.8701,35.9982,2,35.9971,2,218.1,2,215.5,2,1.05,2,0.19,2,0.2,2,2083.5,2,2367,2,-999,9,-999,9,-999,-999,9,-999,1
  740H20180228, A09.5,95,1,11,6415,2,20180328,1547,-23.9991,2.8965,5194,51,21.3885,35.904,2,35.8935,2,240.9,2,241.9,2,0.79,2,0.16,2,0.22,2,2077.7,2,2358,2,-999,9,-999,9,-999,-999,9,-999,1
  740H20180228, A09.5,95,1,10,6414,2,20180328,1547,-23.9991,2.8965,5194,63.4,19.9554,35.8742,2,35.8741,2,246.9,2,244.6,2,0.83,2,0.2,2,0.25,2,2083.8,2,2358.6,2,-999,9,-999,9,-999,-999,9,-999,1
  740H20180228, A09.5,95,1,9,6413,2,20180328,1547,-23.9991,2.8965,5194,92.3,18.8191,35.8389,2,35.8113,2,234.3,2,230,2,1.29,2,0.95,2,0.33,2,2097.9,6,2354.7,6,-999,9,-999,9,-999,-999,9,-999,1
  740H20180228, A09.5,95,1,8,6412,2,20180328,1547,-23.9991,2.8965,5194,101.4,18.2609,35.7783,2,35.7628,2,225.4,2,224.2,2,1.43,2,2.2,2,0.39,2,2101.7,2,2350.5,2,-999,9,-999,9,-999,-999,9,-999,1
  740H20180228, A09.5,95,1,7,6411,2,20180328,1547,-23.9991,2.8965,5194,121.3,17.6808,35.7034,2,35.703,2,219.1,2,219,2,1.79,2,3.75,2,0.46,2,2104.1,2,2344.4,2,-999,9,-999,9,-999,-999,9,-999,1
  740H20180228, A09.5,95,1,6,6410,2,20180328,1547,-23.9991,2.8965,5194,177,15.1428,35.3649,2,35.3367,2,187.4,2,188.8,2,3.43,2,10.68,2,0.81,2,2134,2,2322.1,2,-999,9,-999,9,-999,-999,9,-999,1
  740H20180228, A09.5,95,1,5,6409,2,20180328,1547,-23.9991,2.8965,5194,222.1,13.4733,35.1629,2,35.1557,2,197.3,2,195.8,2,4.36,2,11.53,2,0.85,2,2134.1,2,2321.3,3,-999,9,-999,9,-999,-999,9,-999,1
  740H20180228, A09.5,95,1,4,6408,2,20180328,1547,-23.9991,2.8965,5194,378.3,10.3465,34.8409,2,34.8384,2,180,2,180.5,2,8.39,2,20.08,2,1.36,2,2166.5,6,2297.9,6,-999,9,-999,9,-999,-999,9,-999,1
  740H20180228, A09.5,95,1,3,6407,2,20180328,1547,-23.9991,2.8965,5194,504.2,7.547,34.5471,2,34.5452,2,178.5,2,178.7,2,15.05,2,27.09,2,1.81,2,2186.9,2,2291.8,2,-999,9,-999,9,-999,-999,9,-999,1
  740H20180228, A09.5,95,1,2,6406,2,20180328,1547,-23.9991,2.8965,5194,631.5,5.5827,34.3957,2,34.3933,2,183.7,2,183.7,2,22.67,2,31.29,2,2.08,2,2196.7,2,2291.2,2,-999,9,-999,9,-999,-999,9,-999,1
  740H20180228, A09.5,95,1,1,5977,2,20180328,1547,-23.9991,2.8965,5194,797.5,4.3044,34.4193,2,34.4176,2,169.2,2,169.2,2,35.3,2,34.64,2,2.3,2,2217.2,6,2300.1,6,-999,9,-999,9,-999,-999,9,-999,1
  740H20180228, A09.5,95,1,24,1086,2,20180328,1547,-23.9991,2.8965,5194,1010.2,3.7191,34.5276,2,34.5289,2,173.4,2,173.5,2,41.57,2,33.67,2,2.23,2,2223.1,6,2310.6,6,-999,9,-999,9,-999,-999,9,-999,1
  740H20180228, A09.5,95,1,23,6427,2,20180328,1547,-23.9991,2.8965,5194,1268,3.5788,34.698,2,34.693,2,186.4,2,186.2,2,39.59,2,30.57,2,2,2,2212.9,2,2316.1,2,-999,9,-999,9,-999,-999,9,-999,1
  740H20180228, A09.5,95,1,22,6426,2,20180328,1547,-23.9991,2.8965,5194,1521.2,3.5195,34.8089,2,34.8071,2,206,2,205.7,2,34.66,2,27.18,2,1.76,2,2202.6,2,-999,9,-999,9,-999,9,-999,-999,9,-999,1
  740H20180228, A09.5,95,1,21,6425,2,20180328,1547,-23.9991,2.8965,5194,1774.5,3.3527,34.8659,2,34.8636,2,221.6,2,221.9,2,33.16,2,24.99,2,1.59,2,2189,2,2319.6,2,-999,9,-999,9,-999,-999,9,-999,1
  740H20180228, A09.5,95,1,20,6428,2,20180328,1547,-23.9991,2.8965,5194,2028.7,3.126,34.8908,2,34.8882,2,233,2,233.4,2,33.9,2,23.83,2,1.51,2,2189.5,6,2322.2,6,-999,9,-999,9,-999,-999,9,-999,1
  740H20180228, A09.5,95,1,19,6692,2,20180328,1547,-23.9991,2.8965,5194,2282.6,2.8788,34.884,2,34.8812,2,234.9,2,235.6,2,38.64,2,24,2,1.52,2,2191,2,2327.5,2,-999,9,-999,9,-999,-999,9,-999,1
  740H20180228, A09.5,95,1,18,1098,2,20180328,1547,-23.9991,2.8965,5194,2792.6,2.5012,34.8695,2,34.8689,2,236.8,2,236.7,2,47.13,2,24.49,2,1.57,2,2194.6,2,2332.9,2,-999,9,-999,9,-999,-999,9,-999,1
  740H20180228, A09.5,95,1,17,1122,2,20180328,1547,-23.9991,2.8965,5194,3302.9,2.3766,34.8776,2,34.8751,2,234.7,2,235.5,2,50.39,2,24.54,2,1.57,2,2205,6,2346.4,6,-999,9,-999,9,-999,-999,9,-999,1
  740H20180228, A09.5,95,1,16,6420,2,20180328,1547,-23.9991,2.8965,5194,3815,2.3472,34.884,2,34.8837,2,232.7,2,232.8,2,51.67,2,24.52,2,1.57,2,2217,2,2357,2,-999,9,-999,9,-999,-999,9,-999,1
  740H20180228, A09.5,95,1,15,6419,2,20180328,1547,-23.9991,2.8965,5194,4328.5,2.3762,34.8843,2,34.8829,2,232.1,2,233.2,2,51.99,2,24.4,2,1.57,2,2212.7,2,2358.1,2,-999,9,-999,9,-999,-999,9,-999,1
  740H20180228, A09.5,95,1,14,6418,2,20180328,1547,-23.9991,2.8965,5194,4842.8,2.4283,34.8834,2,34.8832,2,231.7,2,232.8,2,52.21,2,24.34,2,1.57,2,2218.2,2,2361,2,-999,9,-999,9,-999,-999,9,-999,1
  740H20180228, A09.5,95,1,13,6417,2,20180328,1547,-23.9991,2.8965,5194,5281.8,2.4786,34.8824,2,34.8812,2,231.6,2,217.8,3,52.39,2,24.16,2,1.56,2,2215.1,6,2360.7,6,-999,9,-999,9,-999,-999,9,-999,1
  740H20180228, A09.5,96,1,12,6416,2,20180328,2229,-23.9999,3.4003,5241,5.5,22.6144,35.8677,2,35.8601,2,217.3,2,217.3,2,1.37,2,0.26,2,0.18,2,2078.4,2,2359.3,2,-999,9,-999,1,-999,-999,1,-999,1
  740H20180228, A09.5,96,1,11,6415,2,20180328,2229,-23.9999,3.4003,5241,51,20.369,35.862,2,35.86,2,240.4,2,238.4,2,1.2,2,0.21,2,0.2,2,2079.8,2,2356.6,2,-999,9,-999,1,-999,-999,1,-999,1
  740H20180228, A09.5,96,1,10,6414,2,20180328,2229,-23.9999,3.4003,5241,75.5,19.2906,35.7884,2,35.7784,2,240.7,2,238.5,2,1.29,2,0.24,2,0.22,2,2083.2,6,2351.7,6,-999,9,-999,1,-999,-999,1,-999,1
  740H20180228, A09.5,96,1,9,6413,2,20180328,2229,-23.9999,3.4003,5241,102.4,17.5746,35.627,2,35.6312,2,232,2,229.1,2,1.79,2,1.41,2,0.31,2,2093.1,2,-999,9,-999,9,-999,1,-999,-999,1,-999,1
  740H20180228, A09.5,96,1,8,6412,2,20180328,2229,-23.9999,3.4003,5241,177.1,14.8735,35.294,2,35.2866,2,201.5,2,200.9,2,3.34,2,8.32,2,0.66,2,2120,2,2319,2,-999,9,-999,1,-999,-999,1,-999,1
  740H20180228, A09.5,96,1,7,6411,2,20180328,2229,-23.9999,3.4003,5241,253.1,13.057,35.1335,2,35.1236,2,182.9,2,180.8,2,5.2,2,14.07,2,1,2,2150.5,6,2309.7,6,-999,9,-999,1,-999,-999,1,-999,1
  740H20180228, A09.5,96,1,6,6410,2,20180328,2229,-23.9999,3.4003,5241,378,10.4032,34.8429,2,34.8292,2,185,2,184.6,2,8.09,2,19.22,2,1.3,2,2163.3,2,2298.2,2,-999,9,28.7,2,4,0.71,2,-999,1
  740H20180228, A09.5,96,1,5,6409,2,20180328,2229,-23.9999,3.4003,5241,505.2,7.5756,34.5491,2,34.5497,2,173.6,2,173.1,2,15.22,2,27.09,2,1.81,2,2188.7,2,2289.2,2,-999,9,-999,1,-999,-999,1,-999,1
  740H20180228, A09.5,96,1,4,6408,2,20180328,2229,-23.9999,3.4003,5241,630.2,5.479,34.3888,2,34.3897,2,183.8,2,183.5,2,23.11,2,31,2,2.06,2,2201.7,2,2290,2,-999,9,-999,1,-999,-999,1,-999,1
  740H20180228, A09.5,96,1,3,6407,2,20180328,2229,-23.9999,3.4003,5241,756.7,4.4932,34.3941,2,34.3937,2,175.4,2,174.3,2,33.03,2,33.32,2,2.24,2,2216.1,2,2299,2,-999,9,-999,1,-999,-999,1,-999,1
  740H20180228, A09.5,96,1,2,6406,2,20180328,2229,-23.9999,3.4003,5241,882.7,3.9448,34.4474,2,34.449,2,171.6,2,171.1,2,40.23,2,33.89,2,2.27,2,2224.7,6,2306.6,6,-999,9,-999,1,-999,-999,1,-999,1
  740H20180228, A09.5,96,1,1,5977,2,20180328,2229,-23.9999,3.4003,5241,1009.8,3.682,34.5235,2,34.5222,2,174.8,2,173.8,2,42.44,2,32.99,2,2.23,2,2225.9,2,2311.1,2,-999,9,-999,1,-999,-999,1,-999,1
  740H20180228, A09.5,96,1,24,1086,2,20180328,2229,-23.9999,3.4003,5241,1261.4,3.5944,34.6821,2,34.6803,2,185.4,2,184.3,2,39.76,2,30.1,2,2.01,2,2220.9,2,2317.3,2,-999,9,-999,1,-999,-999,1,-999,1
  740H20180228, A09.5,96,1,23,6427,2,20180328,2229,-23.9999,3.4003,5241,1514.7,3.5066,34.8096,2,34.8073,2,206.7,2,207.2,2,34.87,2,26.41,2,1.77,2,2203.1,6,2317.1,6,-999,9,-999,1,-999,-999,1,-999,1
  740H20180228, A09.5,96,1,22,6426,2,20180328,2229,-23.9999,3.4003,5241,1767.8,3.3373,34.8693,2,34.868,2,223,2,223.2,2,32.74,2,24.18,2,1.6,2,2194,2,2320.9,2,-999,9,-999,1,-999,-999,1,-999,1
  740H20180228, A09.5,96,1,21,6425,2,20180328,2229,-23.9999,3.4003,5241,2021.7,3.1372,34.8915,2,34.8887,2,232.6,2,233.1,2,33.61,2,23.05,2,1.52,2,2189.1,2,2320.4,2,-999,9,-999,1,-999,-999,1,-999,1
  740H20180228, A09.5,96,1,20,6428,2,20180328,2229,-23.9999,3.4003,5241,2275.9,2.8365,34.8803,2,34.8786,2,234.7,2,233.1,2,39.61,2,23.3,2,1.54,2,2190.5,6,2327.8,6,-999,9,-999,1,-999,-999,1,-999,1
  740H20180228, A09.5,96,1,19,6692,2,20180328,2229,-23.9999,3.4003,5241,2530.8,2.6368,34.872,2,34.8702,2,235.5,2,236,2,44.13,2,23.54,2,1.55,2,2199.7,2,2333.3,2,-999,9,-999,1,-999,-999,1,-999,1
  740H20180228, A09.5,96,1,18,1098,2,20180328,2229,-23.9999,3.4003,5241,3040.2,2.4097,34.8705,2,34.8692,2,235.8,2,235.7,2,49.9,2,23.72,2,1.57,2,2199,2,2338.9,2,-999,9,-999,1,-999,-999,1,-999,1
  740H20180228, A09.5,96,1,17,1122,2,20180328,2229,-23.9999,3.4003,5241,3557.4,2.3552,34.8816,2,34.8828,2,232.8,2,233,2,51.66,2,23.65,2,1.56,2,2209.6,6,2352.2,6,-999,9,-999,1,-999,-999,1,-999,1
  740H20180228, A09.5,96,1,16,6420,2,20180328,2229,-23.9999,3.4003,5241,4070,2.3592,34.8842,2,34.8833,2,232.6,2,232,2,52.4,2,23.54,2,1.56,2,2212.5,2,2356,2,-999,9,-120.8,2,4,0.8,2,-999,1
  740H20180228, A09.5,96,1,15,6419,2,20180328,2229,-23.9999,3.4003,5241,4583.5,2.3991,34.8837,2,34.8817,2,231.8,2,232.2,2,52.86,2,23.53,2,1.55,2,2219.2,2,2358.9,2,-999,9,-999,1,-999,-999,1,-999,1
  740H20180228, A09.5,96,1,14,6418,2,20180328,2229,-23.9999,3.4003,5241,5098.3,2.4512,34.8822,2,34.8822,2,231.6,2,233.5,2,53.33,2,23.47,2,1.55,2,2215.6,6,2359.5,6,-999,9,-999,1,-999,-999,1,-999,1
  740H20180228, A09.5,96,1,13,6417,2,20180328,2229,-23.9999,3.4003,5241,5328.1,2.479,34.8816,2,34.8804,2,231.4,2,232.8,2,53.38,2,23.55,2,1.55,2,2221.4,2,2362.5,2,-999,9,-999,1,-999,-999,1,-999,1