BOTTLE,20190321PRINUNIVRMK,,,,,,,,,,,,,,,,,,,,,,,,,,,,,,,,,,,,,,,
EXPOCODE,SECT_ID,STNNBR,CASTNO,SAMPNO,BTLNBR,BTLNBR_FLAG_W,DATE,TIME,LATITUDE,LONGITUDE,DEPTH,CTDPRS,CTDTMP,CTDSAL,CTDSAL_FLAG_W,SALNTY,SALNTY_FLAG_W,CTDOXY,CTDOXY_FLAG_W,OXYGEN,OXYGEN_FLAG_W,SILCAT,SILCAT_FLAG_W,NITRAT,NITRAT_FLAG_W,PHSPHT,PHSPHT_FLAG_W,TCARBN,TCARBN_FLAG_W,ALKALI,ALKALI_FLAG_W,CHLORA,CHLORA_FLAG_W,DELC14,DELC14_FLAG_W,C14ERR,DELC13,DELC13_FLAG_W,DELO18,DELO18_FLAG_W
,,,,,,,,,,,METERS,DBAR,ITS-90,PSS-78,,PSS-78,,UMOL/KG,,UMOL/KG,,UMOL/KG,,UMOL/KG,,UMOL/KG,,UMOL/KG,,UMOL/KG,,UG/KG,,/MILLE,,/MILLE,/MILLE,,/MILLE,
  740H20180228, A09.5,81,1,24,1086,2,20180324,711,-23.9994,-3.601,4885,5.4,23.6682,36.3187,2,36.3244,2,214.4,2,220.1,2,1.39,2,0.11,2,0.16,2,2095.9,2,2387.6,2,-999,9,-999,9,-999,-999,9,-999,1
  740H20180228, A09.5,81,1,23,6427,2,20180324,711,-23.9994,-3.601,4885,50.9,20.7136,35.9052,2,35.9061,2,241.7,2,243.9,2,1.55,2,0.11,2,0.14,2,2083.3,2,2357.6,2,-999,9,-999,9,-999,-999,9,-999,1
  740H20180228, A09.5,81,1,22,6426,2,20180324,711,-23.9994,-3.601,4885,71.5,19.7129,35.9168,2,35.9444,2,241.3,2,242.3,2,1.5,2,0.09,2,0.14,2,2084,2,2361.4,2,-999,9,-999,9,-999,-999,9,-999,1
  740H20180228, A09.5,81,1,21,6425,2,20180324,711,-23.9994,-3.601,4885,102.4,18.3762,35.8417,2,35.8486,2,238.7,2,238.3,2,1.58,2,0.11,2,0.14,2,2087.3,2,2353.7,2,-999,9,-999,9,-999,-999,9,-999,1
  740H20180228, A09.5,81,1,20,6428,2,20180324,711,-23.9994,-3.601,4885,132.2,17.0528,35.6434,2,35.6469,2,231.7,2,231.5,2,1.98,2,1.05,2,0.23,2,2091.9,6,2340.4,6,-999,9,-999,9,-999,-999,9,-999,1
  740H20180228, A09.5,81,1,19,6692,2,20180324,711,-23.9994,-3.601,4885,176.5,16.0337,35.4906,2,35.4938,2,219.2,2,220.4,2,2.49,2,4.01,2,0.39,2,2101.8,2,2328.3,2,-999,9,-999,9,-999,-999,9,-999,1
  740H20180228, A09.5,81,1,18,1098,2,20180324,711,-23.9994,-3.601,4885,253.3,13.8219,35.1875,2,35.1914,2,204.5,2,205,2,3.73,2,9.17,2,0.72,2,2126.1,6,2313.1,2,-999,9,-999,9,-999,-999,9,-999,1
  740H20180228, A09.5,81,1,17,1122,2,20180324,711,-23.9994,-3.601,4885,378.2,10.9847,34.9141,2,34.9184,2,191.1,2,192.1,2,6.7,2,16.83,2,1.19,2,2154.4,2,2299.4,2,-999,9,-999,9,-999,-999,9,-999,1
  740H20180228, A09.5,81,1,16,6420,2,20180324,711,-23.9994,-3.601,4885,504.3,8.256,34.6118,2,34.6182,2,180.8,2,181.3,2,12.83,2,24.41,2,1.68,2,2178.5,2,-999,9,-999,9,-999,9,-999,-999,9,-999,1
  740H20180228, A09.5,81,1,15,6419,2,20180324,711,-23.9994,-3.601,4885,631,6.1231,34.4246,2,34.4186,2,187.6,2,189,2,19.72,2,29.26,2,1.99,2,2192.2,6,2287.2,6,-999,9,-999,9,-999,-999,9,-999,1
  740H20180228, A09.5,81,1,14,6418,2,20180324,711,-23.9994,-3.601,4885,742.5,4.8551,34.3739,2,34.3747,2,187.8,2,188.6,2,28.11,2,31.76,2,2.18,2,2202.6,2,2292.1,2,-999,9,-999,9,-999,-999,9,-999,1
  740H20180228, A09.5,81,1,13,6417,2,20180324,711,-23.9994,-3.601,4885,884.4,3.9953,34.4211,2,34.4185,2,179.8,2,180.4,2,38.71,2,33.35,2,2.3,2,-999,9,-999,9,-999,9,-999,9,-999,-999,9,-999,1
  740H20180228, A09.5,81,1,12,6416,2,20180324,711,-23.9994,-3.601,4885,1008.9,3.6984,34.4935,2,34.4936,2,178.5,2,179,2,42.79,2,33.13,2,2.29,2,2220.4,6,2308.5,6,-999,9,-999,9,-999,-999,9,-999,1
  740H20180228, A09.5,81,1,11,6415,2,20180324,711,-23.9994,-3.601,4885,1261.6,3.5284,34.6786,2,34.6758,2,190.5,2,190.7,2,40.71,2,29.9,2,2.05,2,2219.1,6,2312.4,6,-999,9,-999,9,-999,-999,9,-999,1
  740H20180228, A09.5,81,1,10,6414,2,20180324,711,-23.9994,-3.601,4885,1514.8,3.3244,34.7833,2,34.7816,2,207.7,2,208.8,2,39.96,2,27.01,2,1.84,2,2204.4,2,2321.8,2,-999,9,-999,9,-999,-999,9,-999,1
  740H20180228, A09.5,81,1,9,6413,2,20180324,711,-23.9994,-3.601,4885,1768.8,3.0558,34.8295,2,34.8275,2,220.7,2,221.6,2,41.82,2,25.28,2,1.71,2,2200.7,2,2322.2,2,-999,9,-999,9,-999,-999,9,-999,1
  740H20180228, A09.5,81,1,8,6412,2,20180324,711,-23.9994,-3.601,4885,2023,2.772,34.8461,2,34.8474,2,228,2,229,2,45.64,2,24.58,2,1.67,2,2201.8,6,2329,6,-999,9,-999,9,-999,-999,9,-999,1
  740H20180228, A09.5,81,1,7,6411,2,20180324,711,-23.9994,-3.601,4885,2276.5,2.5967,34.8607,2,34.8609,2,233.8,2,235.1,2,46.96,2,23.91,2,1.61,2,2197.1,2,2328.9,2,-999,9,-999,9,-999,-999,9,-999,1
  740H20180228, A09.5,81,1,6,6410,2,20180324,711,-23.9994,-3.601,4885,2531.2,2.5194,34.8696,2,34.8732,2,238,2,238.7,2,46.99,2,23.48,2,1.58,2,2196.7,2,-999,9,-999,9,-999,9,-999,-999,9,-999,1
  740H20180228, A09.5,81,1,5,6409,2,20180324,711,-23.9994,-3.601,4885,3040.7,2.3884,34.8756,2,34.8746,2,238.2,2,239,2,49.49,2,23.44,2,1.58,2,2205.5,2,2339.6,2,-999,9,-999,9,-999,-999,9,-999,1
  740H20180228, A09.5,81,1,4,6408,2,20180324,711,-23.9994,-3.601,4885,3551.8,2.345,34.8826,2,34.8816,2,234.5,2,235.4,2,51.43,2,23.46,2,1.57,2,2212.9,2,2351.2,2,-999,9,-999,9,-999,-999,9,-999,1
  740H20180228, A09.5,81,1,3,6407,2,20180324,711,-23.9994,-3.601,4885,4064,2.3631,34.8845,2,34.8862,2,233.5,2,235,2,52.14,2,23.42,2,1.58,2,2218.6,6,2361.7,6,-999,9,-999,9,-999,-999,9,-999,1
  740H20180228, A09.5,81,1,2,6406,2,20180324,711,-23.9994,-3.601,4885,4578.3,2.4097,34.8841,2,34.8903,2,232.8,2,234.6,2,52.38,2,23.38,2,1.58,2,2216,2,2358,2,-999,9,-999,9,-999,-999,9,-999,1
  740H20180228, A09.5,81,1,1,5977,2,20180324,711,-23.9994,-3.601,4885,4962.2,2.456,34.8837,2,34.8842,2,232.8,2,234.6,2,52.51,2,23.43,2,1.59,2,2221.2,6,2357.6,6,-999,9,-999,9,-999,-999,9,-999,1
  740H20180228, A09.5,82,1,24,1086,2,20180324,1347,-24,-3.1,4742,7.8,23.5557,36.2274,2,36.2283,2,216,2,216.7,2,1.51,2,0.09,2,0.17,2,2094.5,2,2381,2,-999,9,-999,9,-999,-999,9,-999,1
  740H20180228, A09.5,82,1,23,6427,2,20180324,1347,-24,-3.1,4742,57.1,20.9116,36.1692,2,36.1734,2,238.7,2,239,2,1.45,2,0.1,2,0.16,2,2102.2,2,2375.8,2,-999,1,-999,9,-999,-999,9,-999,1
  740H20180228, A09.5,82,1,22,6426,2,20180324,1347,-24,-3.1,4742,70.7,20.2188,36.1176,2,36.1214,2,239.7,2,240,2,1.44,2,0.13,2,0.16,2,2091.6,2,2373.3,2,-999,9,-999,9,-999,-999,9,-999,1
  740H20180228, A09.5,82,1,21,6425,2,20180324,1347,-24,-3.1,4742,100.9,19.09,36.0198,2,36.0272,2,233.5,2,234.8,2,1.5,2,0.13,2,0.18,2,2103.1,2,2366.4,2,-999,9,-999,9,-999,-999,9,-999,1
  740H20180228, A09.5,82,1,20,6428,2,20180324,1347,-24,-3.1,4742,121.5,18.2696,35.8951,2,35.9208,2,231.1,2,231.2,2,1.61,2,0.16,2,0.2,2,2100,6,2360.9,6,-999,1,-999,9,-999,-999,9,-999,1
  740H20180228, A09.5,82,1,19,6692,2,20180324,1347,-24,-3.1,4742,176.7,15.7375,35.448,2,35.4912,2,214.5,2,215.6,2,2.52,2,4.34,2,0.45,2,2118.1,2,2330.3,2,-999,9,-999,9,-999,-999,9,-999,1
  740H20180228, A09.5,82,1,18,1098,2,20180324,1347,-24,-3.1,4742,252.7,13.495,35.1734,2,35.1776,2,204.4,2,205.4,2,3.86,2,9.81,2,0.78,2,2129.4,2,2313.8,2,-999,9,-999,9,-999,-999,9,-999,1
  740H20180228, A09.5,82,1,17,1122,2,20180324,1347,-24,-3.1,4742,377.7,10.8645,34.8972,2,34.8801,2,193.9,2,193.9,2,7.11,2,17.3,2,1.24,2,2161.5,6,2299.6,6,-999,9,-999,9,-999,-999,9,-999,1
  740H20180228, A09.5,82,1,16,6420,2,20180324,1347,-24,-3.1,4742,508.9,7.5554,34.5499,2,34.5564,2,173.7,2,174.8,2,15.23,2,26.8,2,1.85,2,2187.9,2,2290.8,2,-999,9,-999,9,-999,-999,9,-999,1
  740H20180228, A09.5,82,1,15,6419,2,20180324,1347,-24,-3.1,4742,634.2,5.8108,34.4176,2,34.4163,2,177.1,2,178.3,2,21.97,2,30.78,2,2.11,2,2205,6,2289.3,6,-999,9,-999,9,-999,-999,9,-999,1
  740H20180228, A09.5,82,1,14,6418,2,20180324,1347,-24,-3.1,4742,724.8,4.8597,34.3815,2,34.3829,2,182.3,2,183.1,2,28.56,2,32.06,2,2.22,2,2205.9,2,2295.2,2,-999,9,-999,9,-999,-999,9,-999,1
  740H20180228, A09.5,82,1,13,6417,2,20180324,1347,-24,-3.1,4742,761.2,4.6355,34.392,2,34.3923,2,177,2,178,2,31.62,2,32.79,2,2.28,2,2220.5,2,2293.7,2,-999,9,-999,9,-999,-999,9,-999,1
  740H20180228, A09.5,82,1,12,6416,2,20180324,1347,-24,-3.1,4742,888.5,3.9778,34.4256,2,34.4267,2,177.8,2,178.4,2,39.42,2,33.2,2,2.33,2,2220.8,2,2305.6,2,-999,9,-999,9,-999,-999,9,-999,1
  740H20180228, A09.5,82,1,11,6415,2,20180324,1347,-24,-3.1,4742,1013.9,3.5967,34.5143,2,34.5149,2,179.1,2,179.6,2,43.98,2,32.58,2,2.29,2,2230.7,2,2312.4,2,-999,9,-999,9,-999,-999,9,-999,1
  740H20180228, A09.5,82,1,10,6414,2,20180324,1347,-24,-3.1,4742,1266.3,3.539,34.6826,2,34.6804,2,192,2,192.4,2,39.63,2,29.44,2,2.06,2,2219,6,2315.3,6,-999,9,-999,9,-999,-999,9,-999,1
  740H20180228, A09.5,82,1,9,6413,2,20180324,1347,-24,-3.1,4742,1520.2,3.3488,34.7977,2,34.8004,2,210.7,2,211.4,2,37.69,2,26.21,2,1.84,2,2201.4,2,2321,2,-999,9,-999,9,-999,-999,9,-999,1
  740H20180228, A09.5,82,1,8,6412,2,20180324,1347,-24,-3.1,4742,1773.5,3.1907,34.8666,2,34.8654,2,227.6,2,228.4,2,35.05,2,23.78,2,1.66,2,-999,9,-999,9,-999,9,-999,9,-999,-999,9,-999,1
  740H20180228, A09.5,82,1,7,6411,2,20180324,1347,-24,-3.1,4742,2027.4,2.8795,34.8773,2,34.879,2,235.1,2,235.2,2,38.77,2,23.21,2,1.61,2,2193.6,6,2323.7,6,-999,9,-999,9,-999,-999,9,-999,1
  740H20180228, A09.5,82,1,6,6410,2,20180324,1347,-24,-3.1,4742,2281.3,2.6571,34.8705,2,34.8727,2,236.2,2,236.9,2,43.68,2,23.46,2,1.64,2,2196.4,6,2331.1,6,-999,9,-999,9,-999,-999,9,-999,1
  740H20180228, A09.5,82,1,5,6409,2,20180324,1347,-24,-3.1,4742,2791.5,2.4411,34.8716,2,34.8729,2,238.5,2,239.2,2,48.45,2,23.49,2,1.64,2,2205.5,2,2336.2,2,-999,9,-999,9,-999,-999,9,-999,1
  740H20180228, A09.5,82,1,4,6408,2,20180324,1347,-24,-3.1,4742,3301.4,2.3661,34.8784,2,34.8773,2,237.1,2,237.6,2,50.83,2,23.47,2,1.64,2,2205.6,2,-999,9,-999,9,-999,9,-999,-999,9,-999,1
  740H20180228, A09.5,82,1,3,6407,2,20180324,1347,-24,-3.1,4742,3814.8,2.3485,34.8839,2,34.8827,2,233.5,2,234,2,52.5,2,23.56,2,1.64,2,2220.4,2,2352.9,2,-999,9,-999,9,-999,-999,9,-999,1
  740H20180228, A09.5,82,1,2,6406,2,20180324,1347,-24,-3.1,4742,4329.2,2.3834,34.884,2,34.884,2,233.1,2,234,2,53.1,2,23.54,2,1.64,2,2216.7,2,-999,9,-999,9,-999,9,-999,-999,9,-999,1
  740H20180228, A09.5,82,1,1,5977,2,20180324,1347,-24,-3.1,4742,4817.1,2.4358,34.8837,2,34.8831,2,232.2,2,234.2,2,53.34,2,23.58,2,1.63,2,2220.5,6,2359.1,6,-999,9,-999,9,-999,-999,9,-999,1
  740H20180228, A09.5,83,1,24,1086,2,20180324,2011,-23.9998,-2.6004,4915,7.3,23.5885,36.3035,2,36.3056,2,215.5,2,214.8,2,1.69,2,0.19,2,0.18,2,2107.1,2,2382.9,2,-999,9,-999,9,-999,-999,9,-999,1
  740H20180228, A09.5,83,1,23,6427,2,20180324,2011,-23.9998,-2.6004,4915,52.2,20.1124,35.9119,2,35.9201,2,244.1,2,243.1,2,1.77,2,0.19,2,0.15,2,2091.5,2,2367.2,2,-999,9,-999,9,-999,-999,9,-999,1
  740H20180228, A09.5,83,1,22,6426,2,20180324,2011,-23.9998,-2.6004,4915,67.3,19.9171,36.0673,2,36.07,2,239.3,2,239.6,2,1.76,2,0.2,2,0.16,2,2099.3,2,2367.7,2,-999,9,-999,9,-999,-999,9,-999,1
  740H20180228, A09.5,83,1,21,6425,2,20180324,2011,-23.9998,-2.6004,4915,102.7,18.7586,35.9669,2,35.9656,2,233.2,2,232.3,2,1.73,2,0.2,2,0.18,2,2096.2,2,2363.1,2,-999,9,-999,9,-999,-999,9,-999,1
  740H20180228, A09.5,83,1,20,6428,2,20180324,2011,-23.9998,-2.6004,4915,127.2,17.6936,35.7923,2,35.7622,2,225.9,2,226,2,1.95,2,1.02,2,0.25,2,2105.9,6,2349.3,2,-999,9,-999,9,-999,-999,9,-999,1
  740H20180228, A09.5,83,1,19,6692,2,20180324,2011,-23.9998,-2.6004,4915,177.6,15.1366,35.3668,2,35.3689,2,211.4,2,211.4,2,2.81,2,5.95,2,0.52,2,2116.8,2,2323.4,2,-999,9,-999,9,-999,-999,9,-999,1
  740H20180228, A09.5,83,1,18,1098,2,20180324,2011,-23.9998,-2.6004,4915,253.1,13.2255,35.1457,2,35.1514,2,201.3,2,202,2,4.25,2,10.74,2,0.8,2,2143.4,2,2310.4,2,-999,9,-999,9,-999,-999,9,-999,1
  740H20180228, A09.5,83,1,17,1122,2,20180324,2011,-23.9998,-2.6004,4915,379.2,10.4469,34.8463,2,34.841,2,192,2,193.1,2,7.7,2,18.16,2,1.25,2,2164.4,6,2297.9,6,-999,9,-999,9,-999,-999,9,-999,1
  740H20180228, A09.5,83,1,16,6420,2,20180324,2011,-23.9998,-2.6004,4915,504.7,7.6526,34.5542,2,34.5543,2,178.8,2,177.8,2,15.04,2,26.56,2,1.79,2,2185.7,2,2291,2,-999,9,-999,9,-999,-999,9,-999,1
  740H20180228, A09.5,83,1,15,6419,2,20180324,2011,-23.9998,-2.6004,4915,630.6,5.6508,34.406,2,34.4066,2,179.1,2,180,2,22.82,2,31.2,2,2.1,2,2213,2,2288.5,2,-999,9,-999,9,-999,-999,9,-999,1
  740H20180228, A09.5,83,1,14,6418,2,20180324,2011,-23.9998,-2.6004,4915,692.2,5.0731,34.4009,2,34.4017,2,171.8,2,171.9,2,27.91,2,33.01,2,2.26,2,2217.5,6,2292.4,6,-999,9,-999,9,-999,-999,9,-999,1
  740H20180228, A09.5,83,1,13,6417,2,20180324,2011,-23.9998,-2.6004,4915,761.4,4.6831,34.4035,2,34.4094,2,170.2,2,170.6,2,32.03,2,33.56,2,2.28,2,-999,9,-999,9,-999,9,-999,9,-999,-999,9,-999,1
  740H20180228, A09.5,83,1,12,6416,2,20180324,2011,-23.9998,-2.6004,4915,888,3.9305,34.4376,2,34.4382,2,175.2,2,175.1,2,40.61,2,33.61,2,2.31,2,2235.4,2,2303.9,2,-999,9,-999,9,-999,-999,9,-999,1
  740H20180228, A09.5,83,1,11,6415,2,20180324,2011,-23.9998,-2.6004,4915,1014.1,3.6866,34.523,2,34.5275,2,178.5,2,178.6,2,42.08,2,32.58,2,2.25,2,2220.7,6,2311.7,6,-999,9,-999,9,-999,-999,9,-999,1
  740H20180228, A09.5,83,1,10,6414,2,20180324,2011,-23.9998,-2.6004,4915,1268,3.5991,34.7015,2,34.7032,2,192.4,2,192.1,2,38.73,2,29.23,2,2.01,2,2226.7,2,2313.7,2,-999,9,-999,9,-999,-999,9,-999,1
  740H20180228, A09.5,83,1,9,6413,2,20180324,2011,-23.9998,-2.6004,4915,1521,3.4799,34.8102,2,34.8114,2,209.2,2,209.2,2,35.58,2,26.35,2,1.81,2,2200.8,2,2318.6,2,-999,9,-999,9,-999,-999,9,-999,1
  740H20180228, A09.5,83,1,8,6412,2,20180324,2011,-23.9998,-2.6004,4915,1775.2,3.27,34.8689,2,34.8715,2,226.2,2,226,2,34.17,2,24.18,2,1.64,2,2206.2,6,-999,9,-999,9,-999,9,-999,-999,9,-999,1
  740H20180228, A09.5,83,1,7,6411,4,20180324,2011,-23.9998,-2.6004,4915,2028.3,3.0564,34.8863,2,-999,9,234,2,-999,9,-999,5,-999,5,-999,5,-999,9,-999,9,-999,9,-999,9,-999,-999,9,-999,9
  740H20180228, A09.5,83,1,6,6410,2,20180324,2011,-23.9998,-2.6004,4915,2536.9,2.5954,34.8688,2,34.8693,2,236.6,2,235.9,2,45.71,2,23.8,2,1.62,2,2194.3,2,2333.6,2,-999,9,-999,9,-999,-999,9,-999,1
  740H20180228, A09.5,83,1,5,6409,2,20180324,2011,-23.9998,-2.6004,4915,3047.6,2.4286,34.8727,2,34.8735,2,238.7,2,239,2,49.31,2,23.71,2,1.6,2,2217,3,-999,9,-999,9,-999,9,-999,-999,9,-999,1
  740H20180228, A09.5,83,1,4,6408,2,20180324,2011,-23.9998,-2.6004,4915,3558.6,2.3703,34.8804,2,34.8811,2,235.7,2,235.5,2,51.58,2,23.76,2,1.61,2,2206.1,6,2347.6,6,-999,9,-999,9,-999,-999,9,-999,1
  740H20180228, A09.5,83,1,3,6407,2,20180324,2011,-23.9998,-2.6004,4915,4072.3,2.3673,34.8841,2,34.8851,2,233.5,2,233,2,52.97,2,23.77,2,1.6,2,2214.2,2,2356.6,2,-999,9,-999,9,-999,-999,9,-999,1
  740H20180228, A09.5,83,1,2,6406,2,20180324,2011,-23.9998,-2.6004,4915,4585.2,2.4126,34.8841,2,34.8836,2,232.7,2,233.2,2,53.33,2,23.7,2,1.59,2,2233.4,3,-999,9,-999,9,-999,9,-999,-999,9,-999,1
  740H20180228, A09.5,83,1,1,5977,2,20180324,2011,-23.9998,-2.6004,4915,4991.4,2.4507,34.8832,2,34.8831,2,232.7,2,232.6,2,53.45,2,23.68,2,1.58,2,2225.9,6,2357.7,6,-999,9,-999,9,-999,-999,9,-999,1
  740H20180228, A09.5,84,1,24,1086,2,20180325,303,-24.0003,-2.1003,5324,5.8,23.447,36.2506,2,36.251,2,215.1,2,215.8,2,-999,9,-999,9,-999,9,2093.5,2,2380.2,2,-999,9,-999,9,-999,-999,9,-999,1
  740H20180228, A09.5,84,1,23,6427,2,20180325,303,-24.0003,-2.1003,5324,51.4,21.2384,36.0187,2,36.0232,2,238,2,238.9,2,-999,9,-999,9,-999,9,2087,6,2365.1,6,-999,9,-999,9,-999,-999,9,-999,1
  740H20180228, A09.5,84,1,22,6426,2,20180325,303,-24.0003,-2.1003,5324,76.8,19.4166,35.9107,2,35.9169,2,241.9,2,241.4,2,-999,9,-999,9,-999,9,2083,2,2359.1,2,-999,9,-999,9,-999,-999,9,-999,1
  740H20180228, A09.5,84,1,21,6425,2,20180325,303,-24.0003,-2.1003,5324,119.6,17.786,35.7401,2,35.7452,2,231.9,2,231.7,2,-999,9,-999,9,-999,9,2086.9,6,2350.6,6,-999,9,-999,9,-999,-999,9,-999,1
  740H20180228, A09.5,84,1,20,6428,2,20180325,303,-24.0003,-2.1003,5324,177.5,15.1568,35.3368,2,35.3564,2,208.4,2,207.8,2,-999,9,-999,9,-999,9,2112.4,2,2322.6,2,-999,9,-999,9,-999,-999,9,-999,1
  740H20180228, A09.5,84,1,19,6692,2,20180325,303,-24.0003,-2.1003,5324,252.1,12.93,35.1207,2,35.1254,2,201,2,200.7,2,-999,9,-999,9,-999,9,2129.2,2,2307.9,2,-999,9,-999,9,-999,-999,9,-999,1
  740H20180228, A09.5,84,1,18,1098,2,20180325,303,-24.0003,-2.1003,5324,377.8,10.323,34.833,2,34.8284,2,188.7,2,188.8,2,-999,9,-999,9,-999,9,2158.9,2,2298.2,2,-999,9,-999,9,-999,-999,9,-999,1
  740H20180228, A09.5,84,1,17,1122,2,20180325,303,-24.0003,-2.1003,5324,504,7.4034,34.5279,2,34.5272,2,183,2,182.2,2,-999,9,-999,9,-999,9,2185.8,6,2291,6,-999,9,-999,9,-999,-999,9,-999,1
  740H20180228, A09.5,84,1,16,6420,2,20180325,303,-24.0003,-2.1003,5324,630.5,5.3263,34.3843,2,34.3873,2,185.1,2,185,2,-999,9,-999,9,-999,9,2196.9,2,2289.6,2,-999,9,-999,9,-999,-999,9,-999,1
  740H20180228, A09.5,84,1,15,6419,2,20180325,303,-24.0003,-2.1003,5324,756.9,4.4169,34.3935,2,34.3939,2,178.8,2,179.2,2,-999,9,-999,9,-999,9,2206.8,2,2295.9,2,-999,9,-999,9,-999,-999,9,-999,1
  740H20180228, A09.5,84,1,14,6418,2,20180325,303,-24.0003,-2.1003,5324,882.1,3.9066,34.445,2,34.4474,2,174.1,2,173.5,2,-999,9,-999,9,-999,9,2222,2,2307.4,2,-999,9,-999,9,-999,-999,9,-999,1
  740H20180228, A09.5,84,1,13,6417,2,20180325,303,-24.0003,-2.1003,5324,1008.6,3.6648,34.5312,2,34.5377,2,179,2,179.4,2,-999,9,-999,9,-999,9,2215.8,2,2307.7,2,-999,9,-999,9,-999,-999,9,-999,1
  740H20180228, A09.5,84,1,12,6416,2,20180325,303,-24.0003,-2.1003,5324,1261.6,3.6142,34.7086,2,34.7088,2,191.4,2,191.4,2,-999,9,-999,9,-999,9,2208.4,6,2314.9,6,-999,9,-999,9,-999,-999,9,-999,1
  740H20180228, A09.5,84,1,11,6415,2,20180325,303,-24.0003,-2.1003,5324,1515.3,3.4962,34.8069,2,34.806,2,207.5,2,207.2,2,-999,9,-999,9,-999,9,2197.8,2,2316.3,2,-999,9,-999,9,-999,-999,9,-999,1
  740H20180228, A09.5,84,1,10,6414,2,20180325,303,-24.0003,-2.1003,5324,1768.3,3.2449,34.8642,2,34.8658,2,225.8,2,226.1,2,-999,9,-999,9,-999,9,2190.3,2,2320.8,2,-999,9,-999,9,-999,-999,9,-999,1
  740H20180228, A09.5,84,1,9,6413,2,20180325,303,-24.0003,-2.1003,5324,2022.6,2.9992,34.8816,2,34.8799,2,234.2,2,234.4,2,-999,9,-999,9,-999,9,2185.7,6,2332.9,6,-999,9,-999,9,-999,-999,9,-999,1
  740H20180228, A09.5,84,1,8,6412,2,20180325,303,-24.0003,-2.1003,5324,2277.8,2.7316,34.8751,2,34.8751,2,236,2,236.6,2,-999,9,-999,9,-999,9,2187.5,2,2327.2,2,-999,9,-999,9,-999,-999,9,-999,1
  740H20180228, A09.5,84,1,7,6411,2,20180325,303,-24.0003,-2.1003,5324,2531.6,2.5622,34.8686,2,34.8695,2,236.5,2,237.2,2,-999,9,-999,9,-999,9,2195.7,2,2333.4,2,-999,9,-999,9,-999,-999,9,-999,1
  740H20180228, A09.5,84,1,6,6410,2,20180325,303,-24.0003,-2.1003,5324,2785.7,2.4838,34.8702,2,34.8687,2,237.6,2,237.3,2,-999,9,-999,9,-999,9,2194.2,2,2332.4,2,-999,9,-999,9,-999,-999,9,-999,1
  740H20180228, A09.5,84,1,5,6409,2,20180325,303,-24.0003,-2.1003,5324,3294.6,2.3853,34.8763,2,34.8768,2,236.9,2,237.1,2,-999,9,-999,9,-999,9,2204.1,6,2343.1,2,-999,9,-999,9,-999,-999,9,-999,1
  740H20180228, A09.5,84,1,4,6408,2,20180325,303,-24.0003,-2.1003,5324,3807.3,2.3594,34.8839,2,34.8836,2,233.2,2,233.3,2,-999,9,-999,9,-999,9,2207.9,2,2351.2,2,-999,9,-999,9,-999,-999,9,-999,1
  740H20180228, A09.5,84,1,3,6407,2,20180325,303,-24.0003,-2.1003,5324,4319.6,2.3821,34.8844,2,34.8844,2,232.7,2,233,2,-999,9,-999,9,-999,9,2215.9,2,2359.1,2,-999,9,-999,9,-999,-999,9,-999,1
  740H20180228, A09.5,84,1,2,6406,2,20180325,303,-24.0003,-2.1003,5324,4834.8,2.4276,34.8835,2,34.8816,2,232.5,2,233,2,-999,9,-999,9,-999,9,2213.3,2,2357.2,2,-999,9,-999,9,-999,-999,9,-999,1
  740H20180228, A09.5,84,1,1,5977,2,20180325,303,-24.0003,-2.1003,5324,5415.7,2.4923,34.8819,2,34.8813,2,232.9,2,233.8,2,-999,9,-999,9,-999,9,2223.2,6,2337.2,6,-999,9,-999,9,-999,-999,9,-999,1