BOTTLE,20190321PRINUNIVRMK,,,,,,,,,,,,,,,,,,,,,,,,,,,,,,,,,,,,,,,
EXPOCODE,SECT_ID,STNNBR,CASTNO,SAMPNO,BTLNBR,BTLNBR_FLAG_W,DATE,TIME,LATITUDE,LONGITUDE,DEPTH,CTDPRS,CTDTMP,CTDSAL,CTDSAL_FLAG_W,SALNTY,SALNTY_FLAG_W,CTDOXY,CTDOXY_FLAG_W,OXYGEN,OXYGEN_FLAG_W,SILCAT,SILCAT_FLAG_W,NITRAT,NITRAT_FLAG_W,PHSPHT,PHSPHT_FLAG_W,TCARBN,TCARBN_FLAG_W,ALKALI,ALKALI_FLAG_W,CHLORA,CHLORA_FLAG_W,DELC14,DELC14_FLAG_W,C14ERR,DELC13,DELC13_FLAG_W,DELO18,DELO18_FLAG_W
,,,,,,,,,,,METERS,DBAR,ITS-90,PSS-78,,PSS-78,,UMOL/KG,,UMOL/KG,,UMOL/KG,,UMOL/KG,,UMOL/KG,,UMOL/KG,,UMOL/KG,,UG/KG,,/MILLE,,/MILLE,/MILLE,,/MILLE,
  740H20180228, A09.5,73,1,24,1086,2,20180321,1813,-23.4873,-7.6,5402,5.7,24.4342,36.3052,2,36.3051,2,213.1,2,212.3,2,1.53,2,0.34,2,0.19,2,2094.2,6,2383.5,6,-999,9,-999,9,-999,-999,9,-999,1
  740H20180228, A09.5,73,1,23,6427,2,20180321,1813,-23.4873,-7.6,5402,51.8,22.1946,36.2639,2,36.2641,2,235.4,2,234.2,2,1.43,2,0.3,2,0.18,2,-999,9,-999,9,-999,9,-999,9,-999,-999,9,-999,1
  740H20180228, A09.5,73,1,22,6426,2,20180321,1813,-23.4873,-7.6,5402,74.3,20.2724,36.1223,2,36.1234,2,240.9,2,228.6,2,1.48,2,0.28,2,0.18,2,2085.5,2,2373.6,2,-999,9,-999,9,-999,-999,9,-999,1
  740H20180228, A09.5,73,1,21,6425,2,20180321,1813,-23.4873,-7.6,5402,102.5,18.5312,35.9152,2,35.9229,2,232.6,2,244.1,2,1.63,2,0.31,2,0.21,2,2094.2,2,2359.1,2,-999,9,-999,9,-999,-999,9,-999,1
  740H20180228, A09.5,73,1,20,6428,2,20180321,1813,-23.4873,-7.6,5402,127,17.9631,35.8292,2,35.7911,2,227.7,2,226,2,1.87,2,0.93,2,0.27,2,2097.1,6,2352.5,6,-999,9,-999,9,-999,-999,9,-999,1
  740H20180228, A09.5,73,1,19,6692,2,20180321,1813,-23.4873,-7.6,5402,177.5,16.2188,35.5296,2,35.5017,2,219.2,2,218.5,2,2.55,2,4.11,2,0.42,2,2103.2,2,2330.4,2,-999,9,-999,9,-999,-999,9,-999,1
  740H20180228, A09.5,73,1,18,1098,2,20180321,1813,-23.4873,-7.6,5402,252.5,13.5511,35.1695,2,35.1625,2,201.6,2,202.6,2,4.19,2,10.43,2,0.77,2,2127.2,2,2313.4,2,-999,9,-999,9,-999,-999,9,-999,1
  740H20180228, A09.5,73,1,17,1122,2,20180321,1813,-23.4873,-7.6,5402,378.8,11.002,34.9132,2,34.9163,2,195,2,194.8,2,6.73,2,16.57,2,1.13,2,2151.1,2,2301.9,2,-999,9,-999,9,-999,-999,9,-999,1
  740H20180228, A09.5,73,1,16,6420,2,20180321,1813,-23.4873,-7.6,5402,504.8,8.5052,34.6381,2,34.6402,2,178.3,2,178.2,2,12.79,2,24.31,2,1.6,2,2175.2,2,2291.1,2,-999,9,-999,9,-999,-999,9,-999,1
  740H20180228, A09.5,73,1,15,6419,2,20180321,1813,-23.4873,-7.6,5402,691.3,5.2985,34.3722,2,34.3736,2,194.7,2,194.8,2,23.91,2,30.36,2,2,2,2193.7,6,2290.7,6,-999,9,-999,9,-999,-999,9,-999,1
  740H20180228, A09.5,73,1,14,6418,2,20180321,1813,-23.4873,-7.6,5402,756.6,4.7303,34.3734,2,34.3744,2,188.6,2,189.4,2,29.6,2,31.79,2,2.1,2,2200.6,2,2294.6,2,-999,9,-999,9,-999,-999,9,-999,1
  740H20180228, A09.5,73,1,13,6417,2,20180321,1813,-23.4873,-7.6,5402,882.3,4.0722,34.425,2,34.4274,2,180.3,2,179.8,2,38.14,2,33.03,2,2.2,2,2217.1,2,2304.4,2,-999,9,-999,9,-999,-999,9,-999,1
  740H20180228, A09.5,73,1,12,6416,2,20180321,1813,-23.4873,-7.6,5402,998.9,3.8084,34.4932,2,34.4952,2,178.8,2,179.2,2,40.55,2,32.78,2,2.21,2,2216.5,2,2307.5,2,-999,9,-999,9,-999,-999,9,-999,1
  740H20180228, A09.5,73,1,11,6415,2,20180321,1813,-23.4873,-7.6,5402,1267.5,3.6098,34.6664,2,34.6651,2,189,2,189.5,2,39.77,2,30.07,2,2.02,2,2215.7,2,2316.4,2,-999,9,-999,9,-999,-999,9,-999,1
  740H20180228, A09.5,73,1,10,6414,2,20180321,1813,-23.4873,-7.6,5402,1520.7,3.4666,34.8002,2,34.7985,2,208.6,2,208.7,2,36.32,2,26.64,2,1.77,2,2198,6,2318.1,6,-999,9,-999,9,-999,-999,9,-999,1
  740H20180228, A09.5,73,1,9,6413,2,20180321,1813,-23.4873,-7.6,5402,1774.2,3.2095,34.8687,2,34.8608,2,227.4,2,225.8,2,35.44,2,24.41,2,1.62,2,2190.8,2,2321.7,2,-999,9,-999,9,-999,-999,9,-999,1
  740H20180228, A09.5,73,1,8,6412,2,20180321,1813,-23.4873,-7.6,5402,2028,2.9547,34.8815,2,34.8887,2,234.5,2,235.6,2,37.88,2,23.43,2,1.55,2,2192.5,2,2327.4,2,-999,9,-999,9,-999,-999,9,-999,1
  740H20180228, A09.5,73,1,7,6411,2,20180321,1813,-23.4873,-7.6,5402,2537.7,2.5437,34.8712,2,34.8711,2,237.7,2,237.9,2,46.54,2,23.69,2,1.58,2,2193.6,2,2331.7,2,-999,9,-999,9,-999,-999,9,-999,1
  740H20180228, A09.5,73,1,6,6410,2,20180321,1813,-23.4873,-7.6,5402,3047.3,2.4113,34.8751,2,34.8751,2,238.9,2,239.2,2,49.71,2,23.7,2,1.57,2,2202.3,2,2337.2,2,-999,9,-999,9,-999,-999,9,-999,1
  740H20180228, A09.5,73,1,5,6409,2,20180321,1813,-23.4873,-7.6,5402,3558.7,2.3705,34.8824,2,34.8814,2,235.1,2,235.8,2,51.76,2,23.76,2,1.58,2,2210.6,6,2349,6,-999,9,-999,9,-999,-999,9,-999,1
  740H20180228, A09.5,73,1,4,6408,2,20180321,1813,-23.4873,-7.6,5402,4071.2,2.3761,34.8848,2,34.8864,2,233.8,2,233.5,2,52.86,2,23.72,2,1.58,2,2210.4,2,2354.3,2,-999,9,-999,9,-999,-999,9,-999,1
  740H20180228, A09.5,73,1,3,6407,2,20180321,1813,-23.4873,-7.6,5402,4586,2.4209,34.8848,2,34.8852,2,233.2,2,234.2,2,53.39,2,23.77,2,1.58,2,2218.2,2,2357,2,-999,9,-999,9,-999,-999,9,-999,1
  740H20180228, A09.5,73,1,2,6406,2,20180321,1813,-23.4873,-7.6,5402,5101.1,2.4831,34.8844,2,34.8851,2,233.2,2,234,2,53.67,2,23.78,2,1.58,2,2213.4,2,2356.9,2,-999,9,-999,9,-999,-999,9,-999,1
  740H20180228, A09.5,73,1,1,5977,2,20180321,1813,-23.4873,-7.6,5402,5498.5,2.5368,34.8841,2,34.8868,2,232.7,2,233.7,2,53.58,2,23.78,2,1.58,2,2215.6,6,2356.8,6,-999,9,-999,9,-999,-999,9,-999,1
  740H20180228, A09.5,74,1,22,6426,4,20180322,121,-23.7439,-7.0998,4934,-999,-999,-999,5,36.2021,4,-999,5,-999,5,-999,9,-999,9,-999,9,-999,9,-999,9,-999,9,-999,9,-999,-999,9,-999,1
  740H20180228, A09.5,74,1,23,6427,4,20180322,121,-23.7439,-7.0998,4934,-999,-999,-999,5,-999,9,-999,5,-999,9,-999,9,-999,9,-999,9,-999,9,-999,9,-999,9,-999,9,-999,-999,9,-999,9
  740H20180228, A09.5,74,1,24,1086,4,20180322,121,-23.7439,-7.0998,4934,-999,-999,-999,5,36.3046,4,-999,5,-999,5,-999,9,-999,9,-999,9,2884.4,4,-999,9,-999,9,-999,9,-999,-999,9,-999,1
  740H20180228, A09.5,74,1,21,6425,4,20180322,121,-23.7439,-7.0998,4934,70.6,20.4895,36.0726,2,36.0226,4,240.7,2,-999,5,-999,9,-999,9,-999,9,2096.2,4,-999,9,-999,9,-999,9,-999,-999,9,-999,1
  740H20180228, A09.5,74,1,20,6428,2,20180322,121,-23.7439,-7.0998,4934,176.9,16.3742,35.5697,2,35.5768,2,218.1,2,217.4,2,2.31,2,3.41,2,0.39,2,2105.5,6,2337.9,6,-999,9,-999,9,-999,-999,9,-999,1
  740H20180228, A09.5,74,1,19,6692,2,20180322,121,-23.7439,-7.0998,4934,252.4,13.7351,35.1748,2,35.1765,2,205.4,2,205.1,2,3.83,2,9.4,2,0.75,2,2128.8,2,2315.1,2,-999,9,-999,9,-999,-999,9,-999,1
  740H20180228, A09.5,74,1,18,1098,2,20180322,121,-23.7439,-7.0998,4934,377.6,11.1619,34.9321,2,34.9306,2,197.7,2,197.7,2,6.31,2,15.94,2,1.15,2,2149.1,2,2303.8,2,-999,9,-999,9,-999,-999,9,-999,1
  740H20180228, A09.5,74,1,17,1122,2,20180322,121,-23.7439,-7.0998,4934,504,8.5735,34.6435,2,34.644,2,183.7,2,183.7,2,11.92,2,23.45,2,1.63,2,2177.7,6,2292.6,6,-999,9,-999,9,-999,-999,9,-999,1
  740H20180228, A09.5,74,1,16,6420,2,20180322,121,-23.7439,-7.0998,4934,630.5,6.4343,34.4505,2,34.444,2,184.7,2,185.5,2,18.41,2,28.79,2,1.99,2,2189.2,2,2290.2,2,-999,9,-999,9,-999,-999,9,-999,1
  740H20180228, A09.5,74,1,15,6419,2,20180322,121,-23.7439,-7.0998,4934,756.2,4.9085,34.3765,2,34.3766,2,186.7,2,186.6,2,28.07,2,31.8,2,2.2,2,2209.4,2,2294.4,2,-999,9,-999,9,-999,-999,9,-999,1
  740H20180228, A09.5,74,1,14,6418,2,20180322,121,-23.7439,-7.0998,4934,883.2,4.0144,34.4082,2,34.4108,2,182.3,2,182.6,2,38.87,2,33.11,2,2.31,2,2215.2,2,2304.7,2,-999,9,-999,9,-999,-999,9,-999,1
  740H20180228, A09.5,74,1,13,6417,2,20180322,121,-23.7439,-7.0998,4934,1009.6,3.6095,34.4862,2,34.487,2,179.7,2,179.9,2,44.75,2,33,2,2.31,2,2226.1,6,2312.7,6,-999,9,-999,9,-999,-999,9,-999,1
  740H20180228, A09.5,74,1,12,6416,2,20180322,121,-23.7439,-7.0998,4934,1262.2,3.4306,34.6722,2,34.6717,2,189.7,2,189.7,2,42.88,2,29.91,2,2.09,2,2215.6,2,2319.6,2,-999,9,-999,9,-999,-999,9,-999,1
  740H20180228, A09.5,74,1,11,6415,2,20180322,121,-23.7439,-7.0998,4934,1516.3,3.2955,34.7761,2,34.7761,2,206.5,2,206.1,2,40.68,2,27.03,2,1.89,2,2210.8,6,2320.9,6,-999,9,-999,9,-999,-999,9,-999,1
  740H20180228, A09.5,74,1,10,6414,2,20180322,121,-23.7439,-7.0998,4934,1769.5,2.9573,34.8243,2,34.825,2,219.8,2,219.4,2,43.65,2,25.42,2,1.78,2,2201.2,2,2327.2,2,-999,9,-999,9,-999,-999,9,-999,1
  740H20180228, A09.5,74,1,9,6413,4,20180322,121,-23.7439,-7.0998,4934,2021.7,2.7255,34.8444,2,-999,9,227.5,2,-999,9,-999,5,-999,5,-999,5,-999,9,-999,9,-999,9,-999,9,-999,-999,9,-999,9
  740H20180228, A09.5,74,1,8,6412,2,20180322,121,-23.7439,-7.0998,4934,2277.3,2.5928,34.8623,2,34.8617,2,234.6,2,234.2,2,45.77,2,23.84,2,1.65,2,2199.5,6,2331,6,-999,9,-999,9,-999,-999,9,-999,1
  740H20180228, A09.5,74,1,7,6411,2,20180322,121,-23.7439,-7.0998,4934,2530.4,2.5139,34.8703,2,34.8707,2,238.2,2,237.9,2,46.23,2,23.49,2,1.63,2,2195.1,2,2333.4,2,-999,9,-999,9,-999,-999,9,-999,1
  740H20180228, A09.5,74,1,6,6410,2,20180322,121,-23.7439,-7.0998,4934,2786.1,2.4537,34.8726,2,34.8719,2,239,2,239.5,2,47.53,2,23.42,2,1.63,2,2203.8,2,2337,2,-999,9,-999,9,-999,-999,9,-999,1
  740H20180228, A09.5,74,1,5,6409,2,20180322,121,-23.7439,-7.0998,4934,3295.4,2.3715,34.8789,2,34.8784,2,237.3,2,236.8,2,50.1,2,23.5,2,1.64,2,2206.8,6,2344.8,6,-999,9,-999,9,-999,-999,9,-999,1
  740H20180228, A09.5,74,1,4,6408,2,20180322,121,-23.7439,-7.0998,4934,3808.7,2.3594,34.8845,2,34.8836,2,234.2,2,233.8,2,51.72,2,23.59,2,1.64,2,2215.6,2,2353.6,2,-999,9,-999,9,-999,-999,9,-999,1
  740H20180228, A09.5,74,1,3,6407,2,20180322,121,-23.7439,-7.0998,4934,4321,2.3894,34.8847,2,34.8839,2,233.5,2,234.1,2,52.47,2,23.57,2,1.64,2,2210.6,2,2359.4,2,-999,9,-999,9,-999,-999,9,-999,1
  740H20180228, A09.5,74,1,2,6406,2,20180322,121,-23.7439,-7.0998,4934,4836,2.4483,34.8843,2,34.8836,2,233,2,233.4,2,52.79,2,23.59,2,1.64,2,2218.7,2,2358.9,2,-999,9,-999,9,-999,-999,9,-999,1
  740H20180228, A09.5,74,1,1,5977,2,20180322,121,-23.7439,-7.0998,4934,5011.2,2.4703,34.884,2,34.8831,2,233.3,2,233.8,2,52.82,2,23.59,2,1.63,2,2213.6,6,2359,6,-999,9,-999,9,-999,-999,9,-999,1
  740H20180228, A09.5,75,1,24,1086,2,20180322,1437,-24,-6.6001,4716,5.6,24.4877,36.4268,2,36.4272,2,212.4,2,216.5,2,1.49,2,0.08,2,0.16,2,2100.1,2,2393.1,2,-999,9,-999,9,-999,-999,9,-999,1
  740H20180228, A09.5,75,1,23,6427,2,20180322,1437,-24,-6.6001,4716,60.7,20.425,36.0307,2,36.025,2,242.1,2,241.8,2,1.6,2,0.06,2,0.14,2,2085.4,6,2372.6,2,-999,1,-999,9,-999,-999,9,-999,1
  740H20180228, A09.5,75,1,22,6426,2,20180322,1437,-24,-6.6001,4716,100.7,18.8044,35.9368,2,35.9286,2,233.6,2,238.6,2,1.61,2,0.13,2,0.16,2,2089.4,2,2361.1,2,-999,9,-999,9,-999,-999,9,-999,1
  740H20180228, A09.5,75,1,21,6425,2,20180322,1437,-24,-6.6001,4716,128.3,17.9196,35.7808,2,35.7841,2,233,2,235.5,2,1.75,2,0.26,2,0.18,2,2091.2,6,2352.2,6,-999,1,-999,9,-999,-999,9,-999,1
  740H20180228, A09.5,75,1,20,6428,2,20180322,1437,-24,-6.6001,4716,175.6,16.5555,35.5801,2,35.5846,2,220.2,2,226.5,2,2.29,2,2.98,2,0.33,2,2097.3,2,2337,2,-999,9,-999,9,-999,-999,9,-999,1
  740H20180228, A09.5,75,1,19,6692,2,20180322,1437,-24,-6.6001,4716,251.7,14.032,35.2487,2,35.2435,2,205.1,2,205.5,2,3.36,2,8.52,2,0.67,2,2125.1,2,2318.3,2,-999,9,-999,9,-999,-999,9,-999,1
  740H20180228, A09.5,75,1,18,1098,2,20180322,1437,-24,-6.6001,4716,378.2,10.9915,34.9103,2,34.901,2,195.2,2,195.9,2,6.69,2,16.59,2,1.18,2,2147.5,2,2301.9,2,-999,9,-999,9,-999,-999,9,-999,1
  740H20180228, A09.5,75,1,17,1122,2,20180322,1437,-24,-6.6001,4716,509,8.3672,34.6207,2,34.6132,2,180.5,2,181.6,2,12.94,2,24.32,2,1.69,2,2172.4,6,2291.7,6,-999,9,-999,9,-999,-999,9,-999,1
  740H20180228, A09.5,75,1,16,6420,2,20180322,1437,-24,-6.6001,4716,634.8,6.2,34.4267,2,34.4263,2,191.7,2,192.1,2,18.58,2,28.45,2,1.96,2,2187.6,2,2289,2,-999,9,-999,9,-999,-999,9,-999,1
  740H20180228, A09.5,75,1,15,6419,2,20180322,1437,-24,-6.6001,4716,710.2,5.292,34.3985,2,34.3984,2,178.2,2,178.7,2,25.11,2,31.76,2,2.19,2,2197.6,2,2292.5,2,-999,9,-999,9,-999,-999,9,-999,1
  740H20180228, A09.5,75,1,14,6418,2,20180322,1437,-24,-6.6001,4716,800.8,4.3609,34.3889,2,34.3918,2,183.2,2,183.5,2,34.05,2,32.83,2,2.28,2,2211.1,2,2297.9,2,-999,9,-999,9,-999,-999,9,-999,1
  740H20180228, A09.5,75,1,13,6417,2,20180322,1437,-24,-6.6001,4716,886.2,3.9662,34.4163,2,34.4173,2,181.3,2,181.4,2,40.04,2,33.3,2,2.32,2,2213.2,2,2309.1,2,-999,9,-999,9,-999,-999,9,-999,1
  740H20180228, A09.5,75,1,12,6416,2,20180322,1437,-24,-6.6001,4716,1013.4,3.6204,34.4987,2,34.4988,2,178.8,2,178.5,2,44.5,2,33.02,2,2.31,2,2221,6,2310.4,6,-999,9,-999,9,-999,-999,9,-999,1
  740H20180228, A09.5,75,1,11,6415,2,20180322,1437,-24,-6.6001,4716,1265.8,3.5219,34.6634,2,34.6631,2,188.8,2,184.7,3,41.52,2,30.15,2,2.1,2,2210.5,2,2316,2,-999,9,-999,9,-999,-999,9,-999,1
  740H20180228, A09.5,75,1,10,6414,2,20180322,1437,-24,-6.6001,4716,1519.3,3.326,34.778,2,34.7779,2,206.3,2,206.5,2,40.5,2,27.2,2,1.88,2,2204.4,6,2322,6,-999,9,-999,9,-999,-999,9,-999,1
  740H20180228, A09.5,75,1,9,6413,2,20180322,1437,-24,-6.6001,4716,1773.4,3.0398,34.8212,2,34.8223,2,218.6,2,218.7,2,40.52,3,27.18,3,1.87,3,2197,2,2326.2,2,-999,9,-999,9,-999,-999,9,-999,1
  740H20180228, A09.5,75,1,8,6412,2,20180322,1437,-24,-6.6001,4716,2027,2.7528,34.8465,2,34.8461,2,228.3,2,228.4,2,45.83,2,24.57,2,1.68,2,2202,2,2328.2,2,-999,9,-999,9,-999,-999,9,-999,1
  740H20180228, A09.5,75,1,7,6411,2,20180322,1437,-24,-6.6001,4716,2281,2.5804,34.8578,2,34.856,2,233.7,2,233.7,2,47.44,2,24.06,2,1.63,2,2195.6,2,2332,2,-999,9,-999,9,-999,-999,9,-999,1
  740H20180228, A09.5,75,1,6,6410,2,20180322,1437,-24,-6.6001,4716,2535.3,2.5108,34.8672,2,34.8666,2,237.7,2,237.7,2,47.32,2,23.65,2,1.58,2,2198.4,2,2332.4,2,-999,9,-999,9,-999,-999,9,-999,1
  740H20180228, A09.5,75,1,5,6409,2,20180322,1437,-24,-6.6001,4716,3045.5,2.4008,34.8749,2,34.8748,2,239.2,2,239.2,2,49.28,2,23.46,2,1.57,2,2198.5,6,2338.8,6,-999,9,-999,9,-999,-999,9,-999,1
  740H20180228, A09.5,75,1,4,6408,2,20180322,1437,-24,-6.6001,4716,3557.3,2.3611,34.8828,2,34.8848,2,235.2,2,235.5,2,51.01,2,23.56,2,1.58,2,2210.9,2,2355.7,2,-999,9,-999,9,-999,-999,9,-999,1
  740H20180228, A09.5,75,1,3,6407,2,20180322,1437,-24,-6.6001,4716,4069.6,2.3651,34.8851,2,34.8849,2,233.9,2,234,2,51.94,2,23.51,2,1.57,2,2208.9,2,2356.3,2,-999,9,-999,9,-999,-999,9,-999,1
  740H20180228, A09.5,75,1,2,6406,2,20180322,1437,-24,-6.6001,4716,4583.9,2.4144,34.8844,2,34.8859,2,232.7,2,234.1,2,52.34,2,23.51,2,1.58,2,2217.2,2,2357.2,2,-999,9,-999,9,-999,-999,9,-999,1
  740H20180228, A09.5,75,1,1,5977,2,20180322,1437,-24,-6.6001,4716,4790.7,2.4404,34.8843,2,34.8843,2,233.1,2,233.7,2,52.41,2,23.53,2,1.59,2,2213.7,6,2358.7,6,-999,9,-999,9,-999,-999,9,-999,1
  740H20180228, A09.5,76,1,24,1086,2,20180322,2110,-24.0002,-6.1005,4639,7.2,24.2522,36.3397,2,36.3438,2,210.6,2,212.8,2,1.45,2,0.2,2,0.16,2,2100.6,2,2388.9,2,-999,9,-999,9,-999,-999,9,-999,1
  740H20180228, A09.5,76,1,23,6427,2,20180322,2110,-24.0002,-6.1005,4639,67.8,19.797,35.9724,2,35.9718,2,240.7,2,241.3,2,1.51,2,0.26,2,0.14,2,2082.9,2,2363.8,2,-999,9,-999,9,-999,-999,9,-999,1
  740H20180228, A09.5,76,1,22,6426,2,20180322,2110,-24.0002,-6.1005,4639,116.7,18.0641,35.8405,2,35.8299,2,226,2,226.4,2,1.71,2,0.63,2,0.2,2,2100.2,6,2354.5,6,-999,9,-999,9,-999,-999,9,-999,1
  740H20180228, A09.5,76,1,21,6425,2,20180322,2110,-24.0002,-6.1005,4639,178.3,15.4968,35.4092,2,35.3971,2,212.9,2,213.7,2,2.73,2,5.46,2,0.47,2,2108.8,2,2326.9,2,-999,9,-999,9,-999,-999,9,-999,1
  740H20180228, A09.5,76,1,20,6428,2,20180322,2110,-24.0002,-6.1005,4639,253.4,13.3614,35.1724,2,35.1774,2,200.5,2,201,2,4,2,10.34,2,0.75,2,2134.4,2,2314.7,2,-999,9,-999,9,-999,-999,9,-999,1
  740H20180228, A09.5,76,1,19,6692,2,20180322,2110,-24.0002,-6.1005,4639,379.5,11.1505,34.9287,2,34.921,2,197.5,2,197.4,2,6.38,2,16.02,2,1.09,2,2147.1,2,2302.5,2,-999,9,-999,9,-999,-999,9,-999,1
  740H20180228, A09.5,76,1,18,1098,2,20180322,2110,-24.0002,-6.1005,4639,454.5,9.6178,34.7532,2,34.7552,2,184.4,2,187.3,2,9.56,2,20.65,2,1.39,2,2170.3,2,2294,2,-999,9,-999,9,-999,-999,9,-999,1
  740H20180228, A09.5,76,1,17,1122,2,20180322,2110,-24.0002,-6.1005,4639,525,8.0826,34.5953,2,34.5877,2,175.5,2,176.3,2,14.11,2,25.67,2,1.71,2,2180.4,6,2290.4,6,-999,9,-999,9,-999,-999,9,-999,1
  740H20180228, A09.5,76,1,16,6420,2,20180322,2110,-24.0002,-6.1005,4639,625.5,5.9597,34.4132,2,34.4132,2,190.6,2,190.8,2,19.79,2,29.03,2,1.93,2,2186.9,2,2289.6,2,-999,9,-999,9,-999,-999,9,-999,1
  740H20180228, A09.5,76,1,15,6419,2,20180322,2110,-24.0002,-6.1005,4639,727,4.9117,34.3733,2,34.3759,2,188.2,2,189,2,27.38,2,31.46,2,2.16,2,2203.7,2,2295,2,-999,9,-999,9,-999,-999,9,-999,1
  740H20180228, A09.5,76,1,14,6418,2,20180322,2110,-24.0002,-6.1005,4639,858.4,4.1067,34.4107,2,34.4098,2,180.8,2,180.7,2,37.16,2,33.2,2,2.23,2,2211.9,2,2301.3,2,-999,9,-999,9,-999,-999,9,-999,1
  740H20180228, A09.5,76,1,13,6417,2,20180322,2110,-24.0002,-6.1005,4639,984.9,3.7076,34.4847,2,34.485,2,179.1,2,179.6,2,42.76,2,33.12,2,2.23,2,2219.6,6,2310.2,6,-999,9,-999,9,-999,-999,9,-999,1
  740H20180228, A09.5,76,1,12,6416,2,20180322,2110,-24.0002,-6.1005,4639,1131.2,3.6409,34.5868,2,34.5854,2,183.7,2,183.8,2,40.45,2,31.69,2,2.11,2,2221.3,2,2312.3,2,-999,9,-999,9,-999,-999,9,-999,1
  740H20180228, A09.5,76,1,11,6415,2,20180322,2110,-24.0002,-6.1005,4639,1267.8,3.5776,34.6864,2,34.6853,2,191.6,2,191.8,2,38.92,2,29.73,2,1.97,2,2206.8,2,2315.2,2,-999,9,-999,9,-999,-999,9,-999,1
  740H20180228, A09.5,76,1,10,6414,2,20180322,2110,-24.0002,-6.1005,4639,1521.6,3.4063,34.7938,2,34.7941,2,209.4,2,209.5,2,37.35,2,26.78,2,1.76,2,2201,6,2319.7,6,-999,9,-999,9,-999,-999,9,-999,1
  740H20180228, A09.5,76,1,9,6413,4,20180322,2110,-24.0002,-6.1005,4639,1774.6,3.1969,34.8657,2,-999,9,227.8,2,-999,9,-999,5,-999,5,-999,5,-999,9,-999,9,-999,9,-999,9,-999,-999,9,-999,9
  740H20180228, A09.5,76,1,8,6412,2,20180322,2110,-24.0002,-6.1005,4639,2028.2,2.9358,34.8831,2,34.8834,2,235.6,2,236.1,2,37.56,2,23,2,1.51,2,2185.8,2,2326.2,2,-999,9,-999,9,-999,-999,9,-999,1
  740H20180228, A09.5,76,1,7,6411,2,20180322,2110,-24.0002,-6.1005,4639,2282.4,2.6933,34.8725,2,34.8717,2,236.1,2,236.6,2,42.96,2,23.29,2,1.53,2,2193.4,6,2330.2,6,-999,9,-999,9,-999,-999,9,-999,1
  740H20180228, A09.5,76,1,6,6410,2,20180322,2110,-24.0002,-6.1005,4639,2537.2,2.5323,34.8699,2,34.8707,2,238.1,2,238.1,2,46.33,2,23.32,2,1.53,2,2191.6,2,2338.4,3,-999,9,-999,9,-999,-999,9,-999,1
  740H20180228, A09.5,76,1,5,6409,2,20180322,2110,-24.0002,-6.1005,4639,2792.7,2.4548,34.8721,2,34.871,2,239.4,2,239.3,2,47.94,2,23.28,2,1.53,2,2200.4,2,2335.6,2,-999,9,-999,9,-999,-999,9,-999,1
  740H20180228, A09.5,76,1,4,6408,2,20180322,2110,-24.0002,-6.1005,4639,3303.4,2.3763,34.8802,2,34.8794,2,237.1,2,237,2,50.31,2,23.31,2,1.54,2,2203.8,6,2349.6,6,-999,9,-999,9,-999,-999,9,-999,1
  740H20180228, A09.5,76,1,3,6407,2,20180322,2110,-24.0002,-6.1005,4639,3815.8,2.3597,34.8848,2,34.8834,2,234.3,2,234.6,2,51.7,2,23.3,2,1.55,2,2206.8,2,2354.5,2,-999,9,-999,9,-999,-999,9,-999,1
  740H20180228, A09.5,76,1,2,6406,2,20180322,2110,-24.0002,-6.1005,4639,4330,2.3845,34.8844,2,34.8836,2,233.5,2,234.1,2,52.56,2,23.3,2,1.55,2,2216.8,2,2359.5,2,-999,9,-999,9,-999,-999,9,-999,1
  740H20180228, A09.5,76,1,1,5977,2,20180322,2110,-24.0002,-6.1005,4639,4709.6,2.4285,34.8842,2,34.884,2,233,2,236.3,2,52.66,2,23.37,2,1.55,2,2214.1,6,2359,6,-999,9,-999,9,-999,-999,9,-999,1