BOTTLE,20190321PRINUNIVRMK,,,,,,,,,,,,,,,,,,,,,,,,,,,,,,,,,,,,,,,
# README Initialized by data generator ,,,,,,,,,,,,,,,,,,,,,,,,,,,,,,,,,,,,,,,,
# SHIP: James Cook ,,,,,,,,,,,,,,,,,,,,,,,,,,,,,,,,,,,,,,,,
# Cruise JC159; A09.5 24S ,,,,,,,,,,,,,,,,,,,,,,,,,,,,,,,,,,,,,,,,
# Region: South Atlantic ,,,,,,,,,,,,,,,,,,,,,,,,,,,,,,,,,,,,,,,,
# EXPOCODE: 740H20180228 ,,,,,,,,,,,,,,,,,,,,,,,,,,,,,,,,,,,,,,,,
# DATES: 20180228 - 20180410 ,,,,,,,,,,,,,,,,,,,,,,,,,,,,,,,,,,,,,,,,
# Chief Scientist: B. King, NOC ,,,,,,,,,,,,,,,,,,,,,,,,,,,,,,,,,,,,,,,
# Supported by NERC NE/N018095/1 (ORCHESTRA) and NERC *** (TICTOC) ,,,,,,,,,,,,,,,,,,,,,,,,,,,,,,,,,,,,,,,,
# 119 stations with 24-place rosette ,,,,,,,,,,,,,,,,,,,,,,,,,,,,,,,,,,,,,,,,
# CTD: Who - Y. Firing; Status - final ,,,,,,,,,,,,,,,,,,,,,,,,,,,,,,,,,,,,,,,,
# 	Notes: Includes CTDSAL, CTDOXY ,,,,,,,,,,,,,,,,,,,,,,,,,,,,,,,,,,,,,,,
# 	The CTD PRS;  TMP;  SAL; OXY data are all calibrated and good ,,,,,,,,,,,,,,,,,,,,,,,,,,,,,,,,,,,,,,,,
# Salinity: Who - J. Benson; Status - final ,,,,,,,,,,,,,,,,,,,,,,,,,,,,,,,,,,,,,,,,
# 	Notes: bottle salinity from stations 3-85 used for CTD calibration ,,,,,,,,,,,,,,,,,,,,,,,,,,,,,,,,,,,,,,,,
# Oxygen and Nutrients: Who - E. Mawji; Status - final ,,,,,,,,,,,,,,,,,,,,,,,,,,,,,,,,,,,,,,,,
# 	Notes: bottle oxygen from stations 35-123 used for CTD calibration ,,,,,,,,,,,,,,,,,,,,,,,,,,,,,,,,,,,,,,,,
"# 	""Nitrate"" is NO3+NO2 ",,,,,,,,,,,,,,,,,,,,,,,,,,,,,,,,,,,,,,,,
# DIC: Who - P. Brown; Status - uncalibrated  ,,,,,,,,,,,,,,,,,,,,,,,,,,,,,,,,,,,,,,,,
# 	Notes: ,,,,,,,,,,,,,,,,,,,,,,,,,,,,,,,,,,,,,,,,
# ALKALI: Who - P. Brown; Status - uncalibrated  ,,,,,,,,,,,,,,,,,,,,,,,,,,,,,,,,,,,,,,,,
# 	Notes: ,,,,,,,,,,,,,,,,,,,,,,,,,,,,,,,,,,,,,,,,
# CFCs and SF6: Who - M.J. Messias; Status - uncalibrated and proprietary ,,,,,,,,,,,,,,,,,,,,,,,,,,,,,,,,,,,,,,,,
# 	Notes: ,,,,,,,,,,,,,,,,,,,,,,,,,,,,,,,,,,,,,,,,
# C14/13: Who - M.Lang; Status - preliminary  ,,,,,,,,,,,,,,,,,,,,,,,,,,,,,,,,,,,,,,,,
# 	Notes: data rcd 3/11/19 from J.Lester ,,,,,,,,,,,,,,,,,,,,,,,,,,,,,,,,,,,,,,,,
# 	Additional values expected from NOSAMS ,,,,,,,,,,,,,,,,,,,,,,,,,,,,,,,,,,,,,,,,
"# These data should be acknowledged with: """"Data were collected and made publicly available by the international Global Ship-based Hydrographic Investigations Program (GO-SHIP; http://www.go-ship.org/) with funding from the UK Natural Environment Research Council to the National Oceanography Centre and the University of Exeter. ",,,,,,,,,,,,,,,,,,,,,,,,,,,,,,,,,,,,,,,,
EXPOCODE,SECT_ID,STNNBR,CASTNO,SAMPNO,BTLNBR,BTLNBR_FLAG_W,DATE,TIME,LATITUDE,LONGITUDE,DEPTH,CTDPRS,CTDTMP,CTDSAL,CTDSAL_FLAG_W,SALNTY,SALNTY_FLAG_W,CTDOXY,CTDOXY_FLAG_W,OXYGEN,OXYGEN_FLAG_W,SILCAT,SILCAT_FLAG_W,NITRAT,NITRAT_FLAG_W,PHSPHT,PHSPHT_FLAG_W,TCARBN,TCARBN_FLAG_W,ALKALI,ALKALI_FLAG_W,CHLORA,CHLORA_FLAG_W,DELC14,DELC14_FLAG_W,C14ERR,DELC13,DELC13_FLAG_W,DELO18,DELO18_FLAG_W
,,,,,,,,,,,METERS,DBAR,ITS-90,PSS-78,,PSS-78,,UMOL/KG,,UMOL/KG,,UMOL/KG,,UMOL/KG,,UMOL/KG,,UMOL/KG,,UMOL/KG,,UG/KG,,/MILLE,,/MILLE,/MILLE,,/MILLE,
  740H20180228, A09.5,3,1,23,6427,2,20180301,1806,-23.746,-40.3157,2859,9.9,27.4078,37.0944,2,-999,9,200.7,2,-999,9,-999,9,-999,9,-999,9,-999,9,-999,9,-999,1,-999,9,-999,-999,9,-999,9
  740H20180228, A09.5,3,1,24,1086,2,20180301,1806,-23.746,-40.3157,2859,10.2,27.431,37.096,2,37.0968,2,201.3,2,-999,9,-999,9,-999,9,-999,9,799,4,2427.9,2,-999,1,-999,9,-999,-999,9,-999,1
  740H20180228, A09.5,3,1,21,6425,2,20180301,1806,-23.746,-40.3157,2859,68.7,23.4583,37.0902,2,37.0788,2,221.5,2,-999,9,-999,9,-999,9,-999,9,-999,9,-999,9,-999,9,-999,9,-999,-999,9,-999,1
  740H20180228, A09.5,3,1,22,6426,2,20180301,1806,-23.746,-40.3157,2859,69.1,23.4711,37.0897,2,37.0837,2,220.6,2,-999,9,-999,9,-999,9,-999,9,2104.9,2,2430.2,2,-999,9,-999,9,-999,-999,9,-999,1
  740H20180228, A09.5,3,1,19,1098,2,20180301,1806,-23.746,-40.3157,2859,100.5,21.9961,36.9164,2,36.9171,2,210.8,2,-999,9,-999,9,-999,9,-999,9,-999,9,-999,9,-999,9,-999,9,-999,-999,9,-999,1
  740H20180228, A09.5,3,1,20,6428,2,20180301,1806,-23.746,-40.3157,2859,100.6,21.9945,36.9157,2,36.9159,2,210.2,2,-999,9,-999,9,-999,9,-999,9,2111.8,2,2418.6,2,-999,9,-999,9,-999,-999,9,-999,1
  740H20180228, A09.5,3,1,17,1122,2,20180301,1806,-23.746,-40.3157,2859,180.4,17.013,35.7784,2,35.7781,2,214.1,2,-999,9,-999,9,-999,9,-999,9,-999,9,-999,9,-999,9,-999,9,-999,-999,9,-999,1
  740H20180228, A09.5,3,1,18,6692,2,20180301,1806,-23.746,-40.3157,2859,180.9,17.0226,35.7804,2,35.7835,2,214.1,2,-999,9,-999,9,-999,9,-999,9,2103.3,2,2348.1,2,-999,9,-999,9,-999,-999,9,-999,1
  740H20180228, A09.5,3,1,16,6420,2,20180301,1806,-23.746,-40.3157,2859,256.1,16.2327,35.6955,2,35.6959,2,201.5,2,-999,9,-999,9,-999,9,-999,9,2122.9,6,2346.7,6,-999,9,-999,9,-999,-999,9,-999,1
  740H20180228, A09.5,3,1,15,6419,2,20180301,1806,-23.746,-40.3157,2859,256.3,16.2212,35.6922,2,35.693,2,199.9,2,-999,9,-999,9,-999,9,-999,9,-999,9,-999,9,-999,9,-999,9,-999,-999,9,-999,1
  740H20180228, A09.5,3,1,14,6418,2,20180301,1806,-23.746,-40.3157,2859,507.9,12.6426,35.1438,2,35.1422,2,223.4,2,-999,9,-999,9,-999,9,-999,9,2123.7,6,2331.1,3,-999,9,-999,9,-999,-999,9,-999,1
  740H20180228, A09.5,3,1,13,6417,2,20180301,1806,-23.746,-40.3157,2859,508,12.6138,35.1399,2,35.1335,2,223.5,2,-999,9,-999,9,-999,9,-999,9,-999,9,-999,9,-999,9,-999,9,-999,-999,9,-999,1
  740H20180228, A09.5,3,1,11,6415,2,20180301,1806,-23.746,-40.3157,2859,760,6.3013,34.4456,2,34.4374,2,195.7,2,193.2,2,-999,9,-999,9,-999,9,-999,9,-999,9,-999,9,-999,9,-999,-999,9,-999,1
  740H20180228, A09.5,3,1,12,6416,2,20180301,1806,-23.746,-40.3157,2859,760.8,6.3096,34.4438,2,34.4434,2,195.4,2,193.7,2,-999,9,-999,9,-999,9,-999,9,-999,9,-999,9,-999,9,-999,-999,9,-999,1
  740H20180228, A09.5,3,1,9,6413,3,20180301,1806,-23.746,-40.3157,2859,1012.6,3.9425,34.4103,2,34.4125,4,191.3,2,190.1,4,-999,9,-999,9,-999,9,-999,9,-999,9,-999,9,-999,9,-999,-999,9,-999,1
  740H20180228, A09.5,3,1,10,6414,2,20180301,1806,-23.746,-40.3157,2859,1012.6,3.9456,34.4096,2,34.4109,2,191.9,2,189.9,2,-999,9,-999,9,-999,9,2212,6,2320.9,2,-999,9,-999,9,-999,-999,9,-999,1
  740H20180228, A09.5,3,1,7,6411,2,20180301,1806,-23.746,-40.3157,2859,1519.2,3.9402,34.8063,2,34.8127,2,206.9,2,203.9,3,-999,9,-999,9,-999,9,959.6,4,-999,3,-999,9,-999,9,-999,-999,9,-999,1
  740H20180228, A09.5,3,1,8,6412,2,20180301,1806,-23.746,-40.3157,2859,1519.8,3.9398,34.8062,2,34.7531,2,206.6,2,197.2,3,-999,9,-999,9,-999,9,2204,6,2320.8,3,-999,9,-999,9,-999,-999,9,-999,1
  740H20180228, A09.5,3,1,5,6409,2,20180301,1806,-23.746,-40.3157,2859,2027.4,3.6539,34.957,2,34.9616,2,250.1,2,245.7,2,-999,9,-999,9,-999,9,-999,9,-999,9,-999,9,-999,9,-999,-999,9,-999,1
  740H20180228, A09.5,3,1,6,6410,2,20180301,1806,-23.746,-40.3157,2859,2028,3.6553,34.9569,2,34.958,2,250.4,2,247.5,2,-999,9,-999,9,-999,9,2171.7,6,-999,9,-999,9,-999,9,-999,-999,9,-999,1
  740H20180228, A09.5,3,1,4,6408,2,20180301,1806,-23.746,-40.3157,2859,2537.7,2.8911,34.928,2,34.9283,2,255.3,2,250.9,2,-999,9,-999,9,-999,9,2179.4,6,-999,9,-999,9,-999,9,-999,-999,9,-999,1
  740H20180228, A09.5,3,1,3,6407,2,20180301,1806,-23.746,-40.3157,2859,2538.1,2.8895,34.9279,2,34.9288,2,255.2,2,250.8,2,-999,9,-999,9,-999,9,2195.4,3,-999,9,-999,9,-999,9,-999,-999,9,-999,1
  740H20180228, A09.5,3,1,2,6406,2,20180301,1806,-23.746,-40.3157,2859,2884.2,2.478,34.9005,2,34.901,2,255,2,249.4,2,-999,9,-999,9,-999,9,2185.8,2,-999,9,-999,9,-999,9,-999,-999,9,-999,1
  740H20180228, A09.5,3,1,1,5977,2,20180301,1806,-23.746,-40.3157,2859,2884.7,2.4732,34.9001,2,34.9004,2,254.9,2,-999,5,-999,9,-999,9,-999,9,-999,9,-999,9,-999,9,-999,9,-999,-999,9,-999,1
  740H20180228, A09.5,4,1,22,6426,2,20180302,140,-23.186,-40.9812,148,3.9,25.926,36.4769,2,36.4875,2,208.8,2,209.4,2,0.8,2,0.47,2,0.12,2,2084.4,2,2390.2,2,-999,9,-999,9,-999,-999,9,-999,1
  740H20180228, A09.5,4,1,23,6427,2,20180302,140,-23.186,-40.9812,148,4,25.9464,36.4733,2,36.489,2,207.8,2,209.3,2,-999,9,-999,9,-999,9,-999,9,-999,9,-999,9,-999,9,-999,-999,9,-999,1
  740H20180228, A09.5,4,1,24,1086,2,20180302,140,-23.186,-40.9812,148,4,25.945,36.4732,2,36.4926,2,207.1,2,208.9,2,-999,9,-999,9,-999,9,-999,9,-999,9,-999,1,-999,9,-999,-999,9,-999,1
  740H20180228, A09.5,4,1,19,1098,2,20180302,140,-23.186,-40.9812,148,15.8,25.1941,36.5787,2,36.5811,2,212.3,2,212.3,2,0.62,2,0.31,2,0.11,2,2091.9,2,2393.2,2,-999,1,-999,9,-999,-999,9,-999,1
  740H20180228, A09.5,4,1,21,6425,2,20180302,140,-23.186,-40.9812,148,15.8,25.1985,36.5815,2,36.5777,2,210,2,211.6,2,-999,9,-999,9,-999,9,-999,9,-999,9,-999,9,-999,9,-999,-999,9,-999,1
  740H20180228, A09.5,4,1,20,6428,2,20180302,140,-23.186,-40.9812,148,16.4,25.1975,36.5823,2,-999,9,211,2,-999,9,-999,9,-999,9,-999,9,-999,9,-999,9,-999,9,-999,9,-999,-999,9,-999,9
  740H20180228, A09.5,4,1,17,1122,2,20180302,140,-23.186,-40.9812,148,23.5,23.9668,36.705,2,36.7078,2,214.1,2,216,2,-999,9,-999,9,-999,9,-999,9,-999,9,-999,1,-999,9,-999,-999,9,-999,1
  740H20180228, A09.5,4,1,16,6420,2,20180302,140,-23.186,-40.9812,148,23.9,23.9047,36.7064,2,36.7064,2,214.4,2,216.6,2,0.53,2,0.17,2,0.1,2,2083.5,2,2403,2,-999,9,-999,9,-999,-999,9,-999,1
  740H20180228, A09.5,4,1,18,6692,2,20180302,140,-23.186,-40.9812,148,24,23.9283,36.7057,2,36.7062,2,216.1,2,216.1,2,-999,9,-999,9,-999,9,-999,9,-999,9,-999,9,-999,9,-999,-999,9,-999,1
  740H20180228, A09.5,4,1,15,6419,2,20180302,140,-23.186,-40.9812,148,45.8,21.2958,36.6863,2,36.6868,2,215.6,2,216.5,2,-999,9,-999,9,-999,9,-999,9,-999,9,-999,9,-999,9,-999,-999,9,-999,1
  740H20180228, A09.5,4,1,13,6417,2,20180302,140,-23.186,-40.9812,148,45.9,21.2948,36.6868,2,36.6863,2,216.6,2,216.4,2,0.28,2,0.01,2,0.09,2,2104.5,2,2405.3,2,-999,1,-999,9,-999,-999,9,-999,1
  740H20180228, A09.5,4,1,14,6418,2,20180302,140,-23.186,-40.9812,148,45.9,21.2948,36.6871,2,36.6864,2,215.7,2,216.7,2,-999,9,-999,9,-999,9,-999,9,-999,9,-999,9,-999,9,-999,-999,9,-999,1
  740H20180228, A09.5,4,1,9,6413,4,20180302,140,-23.186,-40.9812,148,61,20.8236,36.6233,2,-999,9,210.6,2,-999,9,-999,9,-999,9,-999,9,-999,9,-999,9,-999,9,-999,9,-999,-999,9,-999,9
  740H20180228, A09.5,4,1,12,6416,2,20180302,140,-23.186,-40.9812,148,61,20.8495,36.6275,2,36.6294,2,209.9,2,212,2,-999,9,-999,9,-999,9,-999,9,-999,9,-999,9,-999,9,-999,-999,9,-999,1
  740H20180228, A09.5,4,1,11,6415,2,20180302,140,-23.186,-40.9812,148,61.1,20.848,36.6275,2,36.627,2,210.8,2,211.7,2,0.34,2,0.77,2,0.14,2,-999,9,-999,9,-999,9,-999,9,-999,-999,9,-999,1
  740H20180228, A09.5,4,1,10,6414,2,20180302,140,-23.186,-40.9812,148,61.3,20.8439,36.6259,2,36.6188,2,210.4,2,211,2,0.39,2,0.62,2,0.13,2,2115.1,2,2401.4,6,-999,1,-999,9,-999,-999,9,-999,1
  740H20180228, A09.5,4,1,5,6409,2,20180302,140,-23.186,-40.9812,148,101.2,16.964,35.8426,2,35.8521,2,197.8,2,200.7,2,-999,9,-999,9,-999,9,814.9,4,2353.5,2,-999,9,-999,9,-999,-999,9,-999,1
  740H20180228, A09.5,4,1,6,6410,2,20180302,140,-23.186,-40.9812,148,101.4,16.9192,35.834,2,35.8496,2,199.6,2,209,4,-999,9,-999,9,-999,9,-999,9,-999,9,-999,9,-999,9,-999,-999,9,-999,1
  740H20180228, A09.5,4,1,8,6412,2,20180302,140,-23.186,-40.9812,148,101.7,16.7743,35.8043,2,35.8321,2,199.1,2,-999,9,1.44,2,5.34,2,0.43,2,-999,9,-999,9,-999,9,-999,9,-999,-999,9,-999,1
  740H20180228, A09.5,4,1,7,6411,2,20180302,140,-23.186,-40.9812,148,101.8,16.8363,35.8169,2,35.8466,2,199.4,2,199.9,2,-999,9,-999,9,-999,9,-999,9,-999,9,-999,9,-999,9,-999,-999,9,-999,1
  740H20180228, A09.5,4,1,2,6406,4,20180302,140,-23.186,-40.9812,148,134.1,16.0376,35.6733,2,35.6822,4,199.3,2,199.9,4,-999,9,-999,9,-999,9,-999,9,-999,9,-999,9,-999,9,-999,-999,9,-999,1
  740H20180228, A09.5,4,1,1,5977,2,20180302,140,-23.186,-40.9812,148,134.2,16.0422,35.6744,2,35.6831,2,198.8,2,142.5,4,-999,9,-999,9,-999,9,2127,2,2345.3,2,-999,9,-999,9,-999,-999,9,-999,1
  740H20180228, A09.5,4,1,3,6407,2,20180302,140,-23.186,-40.9812,148,134.3,15.8649,35.6424,2,35.6893,2,200.8,2,199.7,2,-999,9,-999,9,-999,9,-999,9,-999,9,-999,9,-999,9,-999,-999,9,-999,1
  740H20180228, A09.5,4,1,4,6408,2,20180302,140,-23.186,-40.9812,148,134.3,15.7518,35.6256,2,35.6714,2,200.7,2,-999,9,-999,9,-999,9,-999,9,-999,9,2328.1,3,-999,9,-999,9,-999,-999,9,-999,1
  740H20180228, A09.5,5,1,24,1086,2,20180302,445,-23.1994,-40.9598,470,8.3,25.9453,36.5927,2,-999,9,207.2,2,206.2,2,1.01,2,0,2,0.13,2,-999,9,-999,9,-999,9,-999,9,-999,-999,9,-999,1
  740H20180228, A09.5,5,1,22,6426,2,20180302,445,-23.1994,-40.9598,470,8.4,25.9488,36.593,2,36.5956,2,206.5,2,84.6,4,-999,9,-999,9,-999,9,2088,2,2394.3,2,-999,9,-999,9,-999,-999,9,-999,1
  740H20180228, A09.5,5,1,23,6427,2,20180302,445,-23.1994,-40.9598,470,8.6,25.9497,36.5932,2,36.5937,2,207.4,2,193.5,4,1.01,2,0,2,0.11,2,-999,9,-999,9,-999,1,-999,9,-999,-999,9,-999,1
  740H20180228, A09.5,5,1,20,6428,2,20180302,445,-23.1994,-40.9598,470,38.2,21.91,36.7351,2,36.7343,2,217.8,2,216.3,2,0.74,2,0,2,0.12,2,-999,9,-999,9,-999,1,-999,9,-999,-999,9,-999,1
  740H20180228, A09.5,5,1,19,1098,2,20180302,445,-23.1994,-40.9598,470,38.4,21.9028,36.7365,2,36.7359,2,216.3,2,216.2,2,-999,9,-999,9,-999,9,2107.1,2,2408.5,2,-999,9,-999,9,-999,-999,9,-999,1
  740H20180228, A09.5,5,1,21,6425,2,20180302,445,-23.1994,-40.9598,470,38.9,21.9136,36.7365,2,36.7353,2,216.4,2,216.1,2,0.73,2,0,2,0.12,2,-999,9,-999,9,-999,9,-999,9,-999,-999,9,-999,1
  740H20180228, A09.5,5,1,17,1122,2,20180302,445,-23.1994,-40.9598,470,71.6,20.669,36.5907,2,36.5909,2,208.8,2,208.1,2,0.77,2,0.85,2,0.16,2,-999,9,-999,9,-999,9,-999,9,-999,-999,9,-999,1
  740H20180228, A09.5,5,1,18,6692,2,20180302,445,-23.1994,-40.9598,470,71.6,20.6883,36.5961,2,36.6039,2,208.8,2,209.7,2,0.72,2,0.77,2,0.16,2,-999,9,-999,9,-999,9,-999,9,-999,-999,9,-999,1
  740H20180228, A09.5,5,1,16,6420,2,20180302,445,-23.1994,-40.9598,470,71.9,20.6872,36.5955,2,36.598,2,208.6,2,208.4,2,-999,9,-999,9,-999,9,2114.2,2,2399.1,2,-999,1,-999,9,-999,-999,9,-999,1
  740H20180228, A09.5,5,1,15,6419,2,20180302,445,-23.1994,-40.9598,470,103.4,17.8847,36.0298,2,36.0332,2,197.5,2,198.3,2,1.65,2,3.65,2,0.37,2,-999,9,-999,9,-999,9,-999,9,-999,-999,9,-999,1
  740H20180228, A09.5,5,1,13,6417,2,20180302,445,-23.1994,-40.9598,470,103.9,17.887,36.032,2,36.0233,2,198.9,2,198.9,2,-999,9,-999,9,-999,9,2119.1,2,2364.4,2,-999,1,-999,9,-999,-999,9,-999,1
  740H20180228, A09.5,5,1,14,6418,2,20180302,445,-23.1994,-40.9598,470,104,17.8865,36.0316,2,36.0345,2,198.3,2,198.5,2,1.63,2,3.67,2,0.39,2,-999,9,-999,9,-999,9,-999,9,-999,-999,9,-999,1
  740H20180228, A09.5,5,1,11,6415,2,20180302,445,-23.1994,-40.9598,470,123.5,16.7065,35.7987,2,35.7786,2,197.3,2,197.6,2,1.96,2,5.12,2,0.45,2,-999,9,-999,9,-999,9,-999,9,-999,-999,9,-999,1
  740H20180228, A09.5,5,1,10,6414,2,20180302,445,-23.1994,-40.9598,470,123.7,16.6852,35.7942,2,35.7614,2,197.2,2,197.9,2,-999,9,-999,9,-999,9,2121.5,2,2348.9,2,-999,9,-999,9,-999,-999,9,-999,1
  740H20180228, A09.5,5,1,12,6416,2,20180302,445,-23.1994,-40.9598,470,123.8,16.7401,35.8052,2,35.8007,2,197.2,2,197.9,2,1.91,2,4.99,2,0.45,2,-999,9,-999,9,-999,9,-999,9,-999,-999,9,-999,1
  740H20180228, A09.5,5,1,8,6412,2,20180302,445,-23.1994,-40.9598,470,224.4,13.6215,35.3062,2,35.2985,2,204.7,2,204.5,2,2.95,2,9.46,2,0.69,2,-999,9,-999,9,-999,9,-999,9,-999,-999,9,-999,1
  740H20180228, A09.5,5,1,9,6413,2,20180302,445,-23.1994,-40.9598,470,224.5,13.6009,35.3042,2,35.3006,2,204.7,2,205,2,2.96,2,9.44,2,0.7,2,-999,9,-999,9,-999,9,-999,9,-999,-999,9,-999,1
  740H20180228, A09.5,5,1,7,6411,2,20180302,445,-23.1994,-40.9598,470,224.7,13.665,35.3132,2,-999,9,204.7,2,203.8,2,-999,9,-999,9,-999,9,2132.8,2,2323.3,2,-999,9,-999,9,-999,-999,9,-999,1
  740H20180228, A09.5,5,1,6,6410,2,20180302,445,-23.1994,-40.9598,470,305,12.1944,35.1022,2,35.1005,2,202.3,2,200.8,2,4.31,2,12.92,2,0.9,2,-999,9,-999,9,-999,9,-999,9,-999,-999,9,-999,1
  740H20180228, A09.5,5,1,4,6408,2,20180302,445,-23.1994,-40.9598,470,305.1,12.1752,35.1006,2,35.1017,2,201.9,2,201.4,2,-999,9,-999,9,-999,9,2139.5,2,2318.4,2,-999,9,-999,9,-999,-999,9,-999,1
  740H20180228, A09.5,5,1,5,6409,2,20180302,445,-23.1994,-40.9598,470,305.2,12.1822,35.1017,2,35.1019,2,202,2,201.5,2,4.24,2,12.89,2,0.9,2,-999,9,-999,9,-999,9,-999,9,-999,-999,9,-999,1
  740H20180228, A09.5,5,1,2,6406,2,20180302,445,-23.1994,-40.9598,470,461.2,10.684,34.9072,2,34.9111,2,198.8,2,199.7,2,6.49,2,16.77,2,1.14,2,-999,9,-999,9,-999,9,-999,9,-999,-999,9,-999,1
  740H20180228, A09.5,5,1,1,5977,2,20180302,445,-23.1994,-40.9598,470,461.3,10.6898,34.9083,2,34.9142,2,198.6,2,199.1,2,-999,9,-999,9,-999,9,2150.7,6,2305.5,6,-999,9,-999,9,-999,-999,9,-999,1
  740H20180228, A09.5,5,1,3,6407,2,20180302,445,-23.1994,-40.9598,470,461.7,10.6145,34.8975,2,34.912,2,198.1,2,197.4,2,6.47,2,16.73,2,1.13,2,-999,9,-999,9,-999,9,-999,9,-999,-999,9,-999,1