BOTTLE,20190321PRINUNIVRMK,,,,,,,,,,,,,,,,,,,,,,,,,,,,,,,,,,,,,,,
EXPOCODE,SECT_ID,STNNBR,CASTNO,SAMPNO,BTLNBR,BTLNBR_FLAG_W,DATE,TIME,LATITUDE,LONGITUDE,DEPTH,CTDPRS,CTDTMP,CTDSAL,CTDSAL_FLAG_W,SALNTY,SALNTY_FLAG_W,CTDOXY,CTDOXY_FLAG_W,OXYGEN,OXYGEN_FLAG_W,SILCAT,SILCAT_FLAG_W,NITRAT,NITRAT_FLAG_W,PHSPHT,PHSPHT_FLAG_W,TCARBN,TCARBN_FLAG_W,ALKALI,ALKALI_FLAG_W,CHLORA,CHLORA_FLAG_W,DELC14,DELC14_FLAG_W,C14ERR,DELC13,DELC13_FLAG_W,DELO18,DELO18_FLAG_W
,,,,,,,,,,,METERS,DBAR,ITS-90,PSS-78,,PSS-78,,UMOL/KG,,UMOL/KG,,UMOL/KG,,UMOL/KG,,UMOL/KG,,UMOL/KG,,UMOL/KG,,UG/KG,,/MILLE,,/MILLE,/MILLE,,/MILLE,
  740H20180228, A09.5,105,1,11,6415,2,20180330,1930,-24.0001,7.2378,3498,5.5,22.6169,35.6727,2,35.6712,2,218.8,2,218.3,2,1.34,2,0.24,2,0.17,2,2071.2,2,2354.1,2,-999,9,-999,9,-999,-999,9,-999,1
  740H20180228, A09.5,105,1,12,6416,2,20180330,1930,-24.0001,7.2378,3498,5.5,22.6188,35.6724,2,35.6712,2,218.6,2,217.2,2,-999,9,-999,9,-999,9,-999,9,-999,9,-999,9,-999,9,-999,-999,9,-999,9
  740H20180228, A09.5,105,1,10,6414,2,20180330,1930,-24.0001,7.2378,3498,51,21.7762,35.7749,2,35.7584,2,228.5,2,230.2,2,1.27,2,0.24,2,0.18,2,2064,2,2352.4,2,-999,9,-999,9,-999,-999,9,-999,1
  740H20180228, A09.5,105,1,9,6413,2,20180330,1930,-24.0001,7.2378,3498,70.7,19.1821,35.7027,2,35.6981,2,242.2,2,240.3,2,1.55,2,0.23,2,0.2,2,2081.9,2,2344.7,2,-999,9,-999,9,-999,-999,9,-999,1
  740H20180228, A09.5,105,1,8,6412,2,20180330,1930,-24.0001,7.2378,3498,91.5,17.7296,35.5804,2,35.5695,2,231.8,2,228.8,2,2.12,2,1.68,2,0.32,2,2091.6,6,2336.1,6,-999,9,-999,9,-999,-999,9,-999,1
  740H20180228, A09.5,105,1,7,6411,2,20180330,1930,-24.0001,7.2378,3498,132.1,15.7997,35.4725,2,35.4753,2,223.6,2,223.9,2,2.68,2,3.9,2,0.39,2,2092.8,2,2329.9,2,-999,9,-999,9,-999,-999,9,-999,1
  740H20180228, A09.5,105,1,6,6410,2,20180330,1930,-24.0001,7.2378,3498,176.1,14.3871,35.2448,2,35.2305,2,189.5,2,185.7,2,4.19,2,11.21,2,0.85,2,2140.7,2,2313.5,2,-999,9,-999,9,-999,-999,9,-999,1
  740H20180228, A09.5,105,1,5,6409,2,20180330,1930,-24.0001,7.2378,3498,251.9,12.5112,35.0941,2,35.0827,2,171.6,2,172.5,2,6.05,2,15.81,2,1.11,2,2150,2,2305.9,2,-999,9,-999,9,-999,-999,9,-999,1
  740H20180228, A09.5,105,1,4,6408,2,20180330,1930,-24.0001,7.2378,3498,378.4,9.862,34.7914,2,34.793,2,162.5,2,162.4,2,10.05,2,22.1,2,1.53,2,-999,9,-999,9,-999,9,-999,9,-999,-999,9,-999,1
  740H20180228, A09.5,105,1,3,6407,2,20180330,1930,-24.0001,7.2378,3498,508.8,7.3934,34.5561,2,34.5588,2,143.8,2,148.7,2,17.34,2,29.68,2,2.01,2,2196.9,2,2288.8,2,-999,9,-999,9,-999,-999,9,-999,1
  740H20180228, A09.5,105,1,2,1077,2,20180330,1930,-24.0001,7.2378,3498,634.8,5.8409,34.4623,2,34.4608,2,141.8,2,140.7,2,24.69,2,33.88,2,2.29,2,2219.1,6,2290.6,6,-999,9,-999,9,-999,-999,9,-999,1
  740H20180228, A09.5,105,1,1,5977,2,20180330,1930,-24.0001,7.2378,3498,760.9,4.7718,34.4119,2,34.4101,2,165.8,2,164.9,2,31.24,2,33.6,2,2.3,2,2221.8,2,2294.5,2,-999,9,-999,9,-999,-999,9,-999,1
  740H20180228, A09.5,105,1,24,1086,2,20180330,1930,-24.0001,7.2378,3498,886.2,3.9842,34.4253,2,34.4242,2,175.4,2,175.5,2,40.41,2,33.5,2,2.31,2,2211.7,2,2305,2,-999,9,-999,9,-999,-999,9,-999,1
  740H20180228, A09.5,105,1,23,6427,2,20180330,1930,-24.0001,7.2378,3498,1012.7,3.6085,34.5059,2,34.5027,2,175.8,2,174.8,2,45.83,2,33.05,2,2.29,2,2232.3,2,2315.5,2,-999,9,-999,9,-999,-999,9,-999,1
  740H20180228, A09.5,105,1,22,6426,2,20180330,1930,-24.0001,7.2378,3498,1266.1,3.436,34.6744,2,34.6721,2,185.4,2,185.6,2,44.43,2,30.22,2,2.08,2,2212.6,6,2319.1,6,-999,9,-999,9,-999,-999,9,-999,1
  740H20180228, A09.5,105,1,21,6425,2,20180330,1930,-24.0001,7.2378,3498,1520.5,3.2485,34.7932,2,34.7901,2,203.3,2,202.8,2,42.42,2,27.14,2,1.86,2,2216.1,2,2325.9,2,-999,9,-999,9,-999,-999,9,-999,1
  740H20180228, A09.5,105,1,20,6428,2,20180330,1930,-24.0001,7.2378,3498,1773.1,3.1331,34.8499,2,34.8467,2,217.7,2,216.3,2,40.04,2,25.05,2,1.71,2,2194.3,2,2323.2,2,-999,9,-999,9,-999,-999,9,-999,1
  740H20180228, A09.5,105,1,19,6692,2,20180330,1930,-24.0001,7.2378,3498,2028.1,2.966,34.8682,2,34.8647,2,225.4,2,223.1,2,41.27,2,24.15,2,1.65,2,2205.4,2,2327.9,2,-999,9,-999,9,-999,-999,9,-999,1
  740H20180228, A09.5,105,1,18,1098,2,20180330,1930,-24.0001,7.2378,3498,2282.1,2.7677,34.872,2,34.8689,2,230.3,2,229.8,2,44.41,2,23.84,2,1.62,2,2197.1,6,2332.1,6,-999,9,-999,9,-999,-999,9,-999,1
  740H20180228, A09.5,105,1,17,1122,2,20180330,1930,-24.0001,7.2378,3498,2536.3,2.6048,34.8707,2,34.8681,2,232.3,2,231.9,2,47.68,2,23.77,2,1.61,2,2193.2,2,2332,2,-999,9,-999,9,-999,-999,9,-999,1
  740H20180228, A09.5,105,1,16,6420,2,20180330,1930,-24.0001,7.2378,3498,2791.6,2.4819,34.869,2,34.8668,2,233.6,2,233,2,50.61,2,23.83,2,1.62,2,2203.9,2,2339.9,2,-999,9,-999,9,-999,-999,9,-999,1
  740H20180228, A09.5,105,1,15,6419,2,20180330,1930,-24.0001,7.2378,3498,3047.5,2.385,34.8642,2,34.8625,2,232.8,2,234.4,3,54.07,2,24.06,2,1.63,2,2200.8,2,2340.9,2,-999,9,-999,9,-999,-999,9,-999,1
  740H20180228, A09.5,105,1,14,6418,2,20180330,1930,-24.0001,7.2378,3498,3303.3,2.265,34.8561,2,34.8537,2,231.1,2,230.7,2,58.95,2,24.48,2,1.67,2,2193.2,6,2344.6,2,-999,9,-999,9,-999,-999,9,-999,1
  740H20180228, A09.5,105,1,13,6417,2,20180330,1930,-24.0001,7.2378,3498,3539,2.1872,34.8477,2,34.8462,2,229.5,2,229.5,2,62.52,2,24.92,2,1.7,2,2213.3,6,2349.5,6,-999,9,-999,9,-999,-999,9,-999,1
  740H20180228, A09.5,106,1,12,6416,2,20180331,43,-24,7.3625,4246,5.3,22.5876,35.641,2,35.645,2,219.1,2,218.2,2,1.36,2,0.24,2,0.18,2,2063.7,2,2351.4,2,-999,9,-999,9,-999,-999,9,-999,1
  740H20180228, A09.5,106,1,11,6415,2,20180331,43,-24,7.3625,4246,50.6,21.1138,35.7217,2,35.715,2,232.7,2,231.8,2,1.45,2,0.24,2,0.17,2,2072.5,2,2348.3,2,-999,9,-999,9,-999,-999,9,-999,1
  740H20180228, A09.5,106,1,10,6414,2,20180331,43,-24,7.3625,4246,76.5,17.6467,35.6514,2,35.6322,2,226.3,2,224.8,2,1.97,2,1.78,2,0.33,2,2096.4,2,2340.7,2,-999,9,-999,9,-999,-999,9,-999,1
  740H20180228, A09.5,106,1,9,6413,2,20180331,43,-24,7.3625,4246,91.5,16.7707,35.5531,2,35.5349,2,216.9,2,216.5,2,2.38,2,4.2,2,0.44,2,2103.8,2,2333.3,6,-999,9,-999,9,-999,-999,9,-999,1
  740H20180228, A09.5,106,1,8,6412,2,20180331,43,-24,7.3625,4246,131.7,15.3254,35.3696,2,35.3565,2,209.6,2,207.8,2,3.17,2,6.96,2,0.59,2,2114.1,2,2323.8,2,-999,9,-999,9,-999,-999,9,-999,1
  740H20180228, A09.5,106,1,7,6411,2,20180331,43,-24,7.3625,4246,177.2,13.7316,35.1684,2,35.1642,2,196.4,2,196.4,2,4.27,2,10.49,2,0.78,2,2129.9,2,2311.9,2,-999,9,-999,9,-999,-999,9,-999,1
  740H20180228, A09.5,106,1,6,6410,2,20180331,43,-24,7.3625,4246,252.6,12.1018,35.0423,2,35.0453,2,180.9,2,180.3,2,6.06,2,15.53,2,1.08,2,2153.9,2,2307.3,2,-999,9,-999,9,-999,-999,9,-999,1
  740H20180228, A09.5,106,1,5,6409,2,20180331,43,-24,7.3625,4246,378.5,9.5291,34.7485,2,34.7424,2,164.5,2,166.2,2,11.25,2,22.56,2,1.55,2,2174.1,2,2293.1,2,-999,9,-999,9,-999,-999,9,-999,1
  740H20180228, A09.5,106,1,4,6408,2,20180331,43,-24,7.3625,4246,504.2,7.1757,34.5322,2,34.5317,2,154.7,2,155.6,2,17.62,2,29.38,2,1.99,2,2201.4,2,2292.9,2,-999,9,-999,9,-999,-999,9,-999,1
  740H20180228, A09.5,106,1,3,6407,2,20180331,43,-24,7.3625,4246,631.3,5.6926,34.4374,2,34.4356,2,155.8,2,156,2,24.31,2,32.76,2,2.21,2,-999,9,-999,9,-999,9,-999,9,-999,-999,9,-999,1
  740H20180228, A09.5,106,1,2,1077,2,20180331,43,-24,7.3625,4246,696,5.3577,34.4548,2,34.4525,2,137.2,2,136.8,2,27.73,2,35.18,2,2.36,2,2218.2,6,2292.9,6,-999,9,-999,9,-999,-999,9,-999,1
  740H20180228, A09.5,106,1,1,5977,2,20180331,43,-24,7.3625,4246,776.7,4.9008,34.4407,2,34.4381,2,147.1,2,146,2,30.87,2,35.1,2,2.37,2,2225.2,2,2296.7,2,-999,9,-999,9,-999,-999,9,-999,1
  740H20180228, A09.5,106,1,24,1086,2,20180331,43,-24,7.3625,4246,882,4.1968,34.445,2,34.4428,2,162.1,2,161.5,2,37.05,2,34.37,2,2.36,2,2219.3,2,2302.6,2,-999,9,-999,9,-999,-999,9,-999,1
  740H20180228, A09.5,106,1,23,6427,2,20180331,43,-24,7.3625,4246,1007.8,3.7292,34.4891,2,34.4876,2,173.5,2,173.2,2,43.63,2,33.31,2,2.3,2,2221.4,6,2311.5,6,-999,9,-999,9,-999,-999,9,-999,1
  740H20180228, A09.5,106,1,22,6426,2,20180331,43,-24,7.3625,4246,1261.6,3.4545,34.6582,2,34.6553,2,184.8,2,184.2,2,44.53,2,30.47,2,2.1,2,2214.6,2,2317.9,2,-999,9,-999,9,-999,-999,9,-999,1
  740H20180228, A09.5,106,1,21,6425,2,20180331,43,-24,7.3625,4246,1515.1,3.3098,34.7847,2,34.7806,2,200.9,2,200.2,2,41.77,2,27.46,2,1.88,2,2210.3,2,2323.6,2,-999,9,-999,9,-999,-999,9,-999,1
  740H20180228, A09.5,106,1,20,6428,2,20180331,43,-24,7.3625,4246,1767.4,3.143,34.8487,2,34.8444,2,216.8,2,216.3,2,40.2,2,25.24,2,1.73,2,2195,2,2318.7,2,-999,9,-999,9,-999,-999,9,-999,1
  740H20180228, A09.5,106,1,19,6692,2,20180331,43,-24,7.3625,4246,2022.1,2.9521,34.8736,2,34.871,2,226.8,2,226.1,2,40.82,2,24,2,1.64,2,2197.3,6,2331.3,6,-999,9,-999,9,-999,-999,9,-999,1
  740H20180228, A09.5,106,1,18,1098,2,20180331,43,-24,7.3625,4246,2276.6,2.7279,34.87,2,34.8674,2,230,2,229.6,2,45.36,2,23.92,2,1.63,2,2193.7,2,2330.1,2,-999,9,-999,9,-999,-999,9,-999,1
  740H20180228, A09.5,106,1,17,1122,2,20180331,43,-24,7.3625,4246,2531.5,2.573,34.8681,2,34.8656,2,232,2,231.9,2,48.74,2,23.91,2,1.63,2,2202,2,2335.7,2,-999,9,-999,9,-999,-999,9,-999,1
  740H20180228, A09.5,106,1,16,6420,2,20180331,43,-24,7.3625,4246,2785.3,2.4773,34.8673,2,34.8658,2,232.7,2,232.7,2,51.09,2,23.94,2,1.63,2,2198.7,2,2336.5,2,-999,9,-999,9,-999,-999,9,-999,1
  740H20180228, A09.5,106,1,15,6419,2,20180331,43,-24,7.3625,4246,3295.8,2.2834,34.8582,2,34.856,2,231.2,2,231,2,58.3,2,24.46,2,1.67,2,2211.9,2,2345,2,-999,9,-999,9,-999,-999,9,-999,1
  740H20180228, A09.5,106,1,14,6418,2,20180331,43,-24,7.3625,4246,3806.1,1.9728,34.8244,2,34.8224,2,226.2,2,226.7,2,72.53,2,26.19,2,1.79,2,2213.4,2,2351.8,2,-999,9,-999,9,-999,-999,9,-999,1
  740H20180228, A09.5,106,1,13,6417,2,20180331,43,-24,7.3625,4246,4305.3,1.2284,34.7478,2,34.748,2,217.9,2,221,2,101.42,2,30,2,2.06,2,2248,6,2369.6,6,-999,9,-999,9,-999,-999,9,-999,1
  740H20180228, A09.5,107,1,12,6416,2,20180331,541,-23.9999,7.5993,4713,8.1,22.1589,35.5263,2,35.5258,2,222,2,221.6,2,1.23,2,0.18,2,0.19,2,2063,2,2345.3,2,-999,9,-999,9,-999,-999,9,-999,1
  740H20180228, A09.5,107,1,11,6415,2,20180331,541,-23.9999,7.5993,4713,51,21.7949,35.6247,2,35.623,2,222.2,2,221.6,2,2.17,2,0.17,2,0.17,2,2069.1,2,2346.5,2,-999,9,-999,9,-999,-999,9,-999,1
  740H20180228, A09.5,107,1,10,6414,2,20180331,541,-23.9999,7.5993,4713,66.5,19.3325,35.6271,2,35.6193,2,241.4,2,241.6,2,1.75,2,0.15,2,0.16,2,2072.8,2,2340,2,-999,9,-999,9,-999,-999,9,-999,1
  740H20180228, A09.5,107,1,9,6413,2,20180331,541,-23.9999,7.5993,4713,82.1,17.6168,35.5764,2,35.5684,2,244.2,2,242,2,2.09,2,0.61,2,0.22,2,2083.1,2,2336.7,2,-999,9,-999,9,-999,-999,9,-999,1
  740H20180228, A09.5,107,1,8,6412,2,20180331,541,-23.9999,7.5993,4713,101.1,16.459,35.499,2,35.4936,2,215.8,2,216,2,2.68,2,4.9,2,0.51,2,2108.4,2,2331.6,2,-999,9,-999,9,-999,-999,9,-999,1
  740H20180228, A09.5,107,1,7,6411,2,20180331,541,-23.9999,7.5993,4713,177.6,13.5037,35.1486,2,35.1495,2,195.5,2,197.2,2,4.44,2,11.04,2,0.85,2,2137.1,2,2308.1,2,-999,9,-999,9,-999,-999,9,-999,1
  740H20180228, A09.5,107,1,6,6410,2,20180331,541,-23.9999,7.5993,4713,251.8,11.6908,34.9942,2,34.9894,2,188,2,187.8,2,6.31,2,15.94,2,1.12,2,2154.6,2,2304.7,2,-999,9,-999,9,-999,-999,9,-999,1
  740H20180228, A09.5,107,1,5,6409,2,20180331,541,-23.9999,7.5993,4713,378.6,9.0331,34.6911,2,34.6783,2,171.6,2,170.4,2,12.26,2,23.95,2,1.63,2,2182.4,6,2292,6,-999,9,-999,9,-999,-999,9,-999,1
  740H20180228, A09.5,107,1,4,6408,2,20180331,541,-23.9999,7.5993,4713,504.7,6.7181,34.4843,2,34.477,2,165.9,2,166.9,2,18.63,2,29.92,2,2.01,2,2200,2,2290.2,2,-999,9,-999,9,-999,-999,9,-999,1
  740H20180228, A09.5,107,1,3,6407,2,20180331,541,-23.9999,7.5993,4713,646.5,5.4019,34.4425,2,34.4393,2,147.5,2,147.6,2,26.79,2,34.28,2,2.29,2,2222.3,2,2291.2,2,-999,9,-999,9,-999,-999,9,-999,1
  740H20180228, A09.5,107,1,2,1077,2,20180331,541,-23.9999,7.5993,4713,756.5,4.6833,34.4413,2,34.439,2,150.5,2,150.1,2,32.57,2,34.99,2,2.37,2,2227.4,6,2298.7,6,-999,9,-999,9,-999,-999,9,-999,1
  740H20180228, A09.5,107,1,1,5977,2,20180331,541,-23.9999,7.5993,4713,885,4.1772,34.4722,2,34.4688,2,155.3,2,154.9,2,37.72,2,34.83,2,2.37,2,2231.2,2,2302.6,2,-999,9,-999,9,-999,-999,9,-999,1
  740H20180228, A09.5,107,1,24,1086,2,20180331,541,-23.9999,7.5993,4713,1009.5,3.8039,34.5192,2,34.5158,2,167,2,167.1,2,41.85,2,33.55,2,2.31,2,2227.1,2,2308.4,2,-999,9,-999,9,-999,-999,9,-999,1
  740H20180228, A09.5,107,1,23,6427,2,20180331,541,-23.9999,7.5993,4713,1263.8,3.4781,34.6543,2,34.651,2,184.9,2,184.2,2,44.42,2,30.54,2,2.11,2,2221.5,6,2314.7,6,-999,9,-999,9,-999,-999,9,-999,1
  740H20180228, A09.5,107,1,22,6426,2,20180331,541,-23.9999,7.5993,4713,1515.3,3.3707,34.7836,2,34.7788,2,201.1,2,200.8,2,40.59,2,27.4,2,1.88,2,2213.2,2,2319.3,2,-999,9,-999,9,-999,-999,9,-999,1
  740H20180228, A09.5,107,1,21,6425,2,20180331,541,-23.9999,7.5993,4713,1769.5,3.2248,34.8449,2,34.8408,2,215.1,2,215,2,38.93,2,25.35,2,1.73,2,2201.8,2,2326.6,2,-999,9,-999,9,-999,-999,9,-999,1
  740H20180228, A09.5,107,1,20,6428,2,20180331,541,-23.9999,7.5993,4713,2022,3.0011,34.8696,2,34.8664,2,225.2,2,225.2,2,40.72,2,24.14,2,1.65,2,2199.4,2,2325.4,2,-999,9,-999,9,-999,-999,9,-999,1
  740H20180228, A09.5,107,1,19,6692,2,20180331,541,-23.9999,7.5993,4713,2276.5,2.7832,34.8745,2,34.8716,2,230.1,2,230.2,2,44.11,2,23.84,2,1.64,2,2199.9,6,2334.3,6,-999,9,-999,9,-999,-999,9,-999,1
  740H20180228, A09.5,107,1,18,1098,2,20180331,541,-23.9999,7.5993,4713,2531.2,2.5957,34.8701,2,34.867,2,232,2,232.2,2,48.24,2,23.88,2,1.64,2,2203.4,2,2336.3,2,-999,9,-999,9,-999,-999,9,-999,1
  740H20180228, A09.5,107,1,17,1122,2,20180331,541,-23.9999,7.5993,4713,3040.9,2.3611,34.8633,2,34.8605,2,232.2,2,231.8,2,55.12,2,24.28,2,1.67,2,2212,2,2340.9,2,-999,9,-999,9,-999,-999,9,-999,1
  740H20180228, A09.5,107,1,16,6420,2,20180331,541,-23.9999,7.5993,4713,3551.3,2.1225,34.8418,2,34.8415,2,228.9,2,229.4,2,64.94,2,25.3,2,1.74,2,2218.1,2,2352.8,2,-999,9,-999,9,-999,-999,9,-999,1
  740H20180228, A09.5,107,1,15,6419,2,20180331,541,-23.9999,7.5993,4713,4064.1,1.6441,34.7893,2,34.7861,2,221.9,2,224.1,2,87.33,2,28.02,2,1.94,2,2240.6,2,2355.6,2,-999,9,-999,9,-999,-999,9,-999,1
  740H20180228, A09.5,107,1,14,6418,2,20180331,541,-23.9999,7.5993,4713,4578.2,1.2073,34.743,2,34.741,2,216.5,2,217.3,2,106.2,2,30.27,2,2.1,2,2256.5,2,2370.2,2,-999,9,-999,9,-999,-999,9,-999,1
  740H20180228, A09.5,107,1,13,6417,2,20180331,541,-23.9999,7.5993,4713,4785,1.1822,34.7381,2,34.7366,2,215.5,2,216.4,2,107.17,2,30.69,2,2.12,2,2258.3,6,2371.1,6,-999,9,-999,9,-999,-999,9,-999,1
  740H20180228, A09.5,108,1,12,6416,2,20180331,1220,-24.0001,8.1333,4676,6.4,22.2154,35.6391,2,35.6395,2,221.4,2,220.6,2,2.09,2,0.17,2,0.17,2,2071.9,6,2344.2,6,-999,9,-999,9,-999,-999,9,-999,1
  740H20180228, A09.5,108,1,11,6415,2,20180331,1220,-24.0001,8.1333,4676,50.7,21.6293,35.64,2,35.633,2,222,2,224.1,2,2.07,2,0.19,2,0.16,2,2069.1,6,2345.4,6,-999,9,-999,9,-999,-999,9,-999,1
  740H20180228, A09.5,108,1,10,6414,2,20180331,1220,-24.0001,8.1333,4676,66.3,18.4577,35.5209,2,35.5268,2,244.1,2,244.8,2,2.03,2,0.2,2,0.19,2,2093,6,2350.9,6,-999,1,-999,9,-999,-999,9,-999,1
  740H20180228, A09.5,108,1,9,6413,2,20180331,1220,-24.0001,8.1333,4676,76.5,17.183,35.5431,2,35.5459,2,244.1,2,244.7,2,2.08,2,0.3,2,0.2,2,2079,6,2334,6,-999,1,-999,9,-999,-999,9,-999,1
  740H20180228, A09.5,108,1,8,6412,2,20180331,1220,-24.0001,8.1333,4676,101.8,16.0134,35.4908,2,35.4902,2,229.2,2,229,2,2.52,2,3.14,2,0.36,2,2096.1,6,2330.6,6,-999,9,-999,9,-999,-999,9,-999,1
  740H20180228, A09.5,108,1,7,6411,2,20180331,1220,-24.0001,8.1333,4676,177.5,13.8087,35.1724,2,35.1714,2,221.1,2,220.9,2,3.13,2,7.36,2,0.63,2,2113.4,6,2313.2,6,-999,9,-999,9,-999,-999,9,-999,1
  740H20180228, A09.5,108,1,6,6410,2,20180331,1220,-24.0001,8.1333,4676,256.2,12.2376,35.0506,2,35.0518,2,199.8,2,200,2,5.2,2,13.3,2,0.98,2,2142.3,6,2307,6,-999,9,-999,9,-999,-999,9,-999,1
  740H20180228, A09.5,108,1,5,6409,2,20180331,1220,-24.0001,8.1333,4676,378.6,10.2262,34.8596,2,34.8567,2,109.7,2,109.8,4,13.11,2,26.78,2,1.83,2,2211.4,6,2293.6,6,-999,9,-999,9,-999,-999,9,-999,1
  740H20180228, A09.5,108,1,4,6408,2,20180331,1220,-24.0001,8.1333,4676,507.5,7.6136,34.6008,2,34.5983,2,113.2,2,115.8,4,18.67,2,32.95,2,2.21,2,2229,6,2291.3,6,-999,9,-999,9,-999,-999,9,-999,1
  740H20180228, A09.5,108,1,3,6407,2,20180331,1220,-24.0001,8.1333,4676,633.1,5.8608,34.4836,2,34.4832,2,123.5,2,126.2,2,25.11,2,35.43,2,2.38,2,2227.7,6,2291.7,6,-999,9,-999,9,-999,-999,9,-999,1
  740H20180228, A09.5,108,1,2,1077,2,20180331,1220,-24.0001,8.1333,4676,759.3,4.759,34.4351,2,34.4348,2,152.9,2,152.6,2,31.76,2,34.76,2,2.37,2,2224.9,6,2296.2,6,-999,9,-999,9,-999,-999,9,-999,1
  740H20180228, A09.5,108,1,1,5977,2,20180331,1220,-24.0001,8.1333,4676,886.2,4.1532,34.4573,2,34.4548,2,158.7,2,158.3,2,38.34,2,34.64,2,2.38,2,2231.9,2,2301.2,2,-999,9,-999,9,-999,-999,9,-999,1
  740H20180228, A09.5,108,1,24,1086,2,20180331,1220,-24.0001,8.1333,4676,1011.9,3.8539,34.5142,2,34.512,2,161.9,2,162.4,2,41.94,2,33.89,2,2.35,2,2233.7,6,2309.4,6,-999,9,-999,9,-999,-999,9,-999,1
  740H20180228, A09.5,108,1,23,6427,2,20180331,1220,-24.0001,8.1333,4676,1265.3,3.5222,34.6688,2,-999,9,180.8,2,180.3,2,44.27,2,30.6,2,2.12,2,2227.3,6,2315.4,6,-999,9,-999,9,-999,-999,9,-999,1
  740H20180228, A09.5,108,1,22,6426,2,20180331,1220,-24.0001,8.1333,4676,1518.8,3.536,34.8134,2,34.8094,2,199.7,2,199.6,2,35.8,2,26.75,2,1.84,2,2208.2,6,2319.7,6,-999,9,-999,9,-999,-999,9,-999,1
  740H20180228, A09.5,108,1,21,6425,2,20180331,1220,-24.0001,8.1333,4676,1772.2,3.4144,34.8781,2,34.8752,2,217,2,217.2,2,32.55,2,24.33,2,1.67,2,2198.1,6,2318.7,6,-999,9,-999,9,-999,-999,9,-999,1
  740H20180228, A09.5,108,1,20,6428,2,20180331,1220,-24.0001,8.1333,4676,2026.5,3.2338,34.8992,2,34.8958,2,227.2,2,226.4,2,33.04,2,23.27,2,1.59,2,2193.9,6,2322.1,6,-999,9,-999,9,-999,-999,9,-999,1
  740H20180228, A09.5,108,1,19,6692,2,20180331,1220,-24.0001,8.1333,4676,2279.6,3.0376,34.9021,2,34.9019,2,231.2,2,231.4,2,35.84,2,22.92,2,1.58,2,2194,6,2324.4,6,-999,9,-999,9,-999,-999,9,-999,1
  740H20180228, A09.5,108,1,18,1098,2,20180331,1220,-24.0001,8.1333,4676,2534.9,2.7785,34.884,2,34.8831,2,233.2,2,233.7,2,41.86,2,23.28,2,1.6,2,2195.5,6,2330.1,6,-999,9,-999,9,-999,-999,9,-999,1
  740H20180228, A09.5,108,1,17,1122,2,20180331,1220,-24.0001,8.1333,4676,2790.3,2.5248,34.865,2,34.8633,2,232,2,232.1,2,49.44,2,24.08,2,1.66,2,2205.8,6,2335,6,-999,9,-999,9,-999,-999,9,-999,1
  740H20180228, A09.5,108,1,16,6420,2,20180331,1220,-24.0001,8.1333,4676,3300.6,2.3434,34.8598,2,34.8582,2,231.7,2,232.3,2,55.27,2,24.41,2,1.68,2,2213.4,6,2344,6,-999,9,-999,9,-999,-999,9,-999,1
  740H20180228, A09.5,108,1,15,6419,2,20180331,1220,-24.0001,8.1333,4676,3812.2,2.0245,34.8296,2,34.828,2,226.9,2,227.8,2,69.01,2,26.01,2,1.8,2,2227.3,6,2350.6,6,-999,9,-999,9,-999,-999,9,-999,1
  740H20180228, A09.5,108,1,14,6418,2,20180331,1220,-24.0001,8.1333,4676,4324.7,1.2754,34.7521,2,34.7511,2,217.3,2,218.4,2,100.15,2,29.86,2,2.07,2,2250.8,2,2366.2,2,-999,9,-999,9,-999,-999,9,-999,1
  740H20180228, A09.5,108,1,13,6417,2,20180331,1220,-24.0001,8.1333,4676,4747.6,1.1686,34.7374,2,34.7364,2,215.7,2,216.5,2,106.28,2,30.69,2,2.14,2,2259.2,6,2366.9,6,-999,9,-999,9,-999,-999,9,-999,1