BOTTLE,20190321PRINUNIVRMK,,,,,,,,,,,,,,,,,,,,,,,,,,,,,,,,,,,,,,,
EXPOCODE,SECT_ID,STNNBR,CASTNO,SAMPNO,BTLNBR,BTLNBR_FLAG_W,DATE,TIME,LATITUDE,LONGITUDE,DEPTH,CTDPRS,CTDTMP,CTDSAL,CTDSAL_FLAG_W,SALNTY,SALNTY_FLAG_W,CTDOXY,CTDOXY_FLAG_W,OXYGEN,OXYGEN_FLAG_W,SILCAT,SILCAT_FLAG_W,NITRAT,NITRAT_FLAG_W,PHSPHT,PHSPHT_FLAG_W,TCARBN,TCARBN_FLAG_W,ALKALI,ALKALI_FLAG_W,CHLORA,CHLORA_FLAG_W,DELC14,DELC14_FLAG_W,C14ERR,DELC13,DELC13_FLAG_W,DELO18,DELO18_FLAG_W
,,,,,,,,,,,METERS,DBAR,ITS-90,PSS-78,,PSS-78,,UMOL/KG,,UMOL/KG,,UMOL/KG,,UMOL/KG,,UMOL/KG,,UMOL/KG,,UMOL/KG,,UG/KG,,/MILLE,,/MILLE,/MILLE,,/MILLE,
  740H20180228, A09.5,122,1,11,6415,2,20180405,618,-23.9995,11.3322,3511,6.4,20.4976,35.3013,2,-999,9,231.8,2,232,3,1.08,2,0.21,2,0.27,2,2059.5,2,2333.4,2,-999,1,-999,9,-999,-999,9,-999,1
  740H20180228, A09.5,122,1,9,6413,2,20180405,618,-23.9995,11.3322,3511,40.4,20.4698,35.2999,2,35.2996,2,230.9,2,247,3,1.07,2,0.25,2,0.28,2,-999,9,2329.3,2,-999,1,-999,9,-999,-999,9,-999,1
  740H20180228, A09.5,122,1,8,6412,2,20180405,618,-23.9995,11.3322,3511,50.8,19.8185,35.2745,2,35.2596,2,232.3,2,234.5,3,1.62,2,1.2,2,0.38,2,2072.8,2,2328.1,2,-999,1,-999,9,-999,-999,9,-999,1
  740H20180228, A09.5,122,1,7,6411,2,20180405,618,-23.9995,11.3322,3511,101.9,14.0836,35.1329,2,35.132,2,200.8,2,202.2,3,4.61,2,12.26,2,0.93,2,2137.3,6,2311.4,6,-999,9,-999,9,-999,-999,9,-999,1
  740H20180228, A09.5,122,1,6,6410,2,20180405,618,-23.9995,11.3322,3511,177.6,12.2293,34.9967,2,34.9993,2,174.6,2,173.6,3,8.24,2,18.87,2,1.31,2,2173.5,6,2306.5,6,-999,9,-999,9,-999,-999,9,-999,1
  740H20180228, A09.5,122,1,5,6409,2,20180405,618,-23.9995,11.3322,3511,253.9,11.0332,34.9521,2,34.9655,2,103.2,2,104.2,3,11.75,2,25.84,2,1.72,2,2211.3,2,2295.8,2,-999,9,-999,9,-999,-999,9,-999,1
  740H20180228, A09.5,122,1,4,6408,2,20180405,618,-23.9995,11.3322,3511,333.1,9.8413,34.8434,2,34.8398,2,71.8,2,76.4,3,15.98,2,30.99,2,2.07,2,2233.8,2,2297,2,-999,9,-999,9,-999,-999,9,-999,1
  740H20180228, A09.5,122,1,3,6407,2,20180405,618,-23.9995,11.3322,3511,377.6,9.0048,34.7475,2,34.7524,2,78.9,2,78.6,3,17.47,2,32.92,2,2.18,2,2238.6,6,2296.8,6,-999,9,-999,9,-999,-999,9,-999,1
  740H20180228, A09.5,122,1,2,1077,2,20180405,618,-23.9995,11.3322,3511,504.9,7.1461,34.5948,2,34.5985,2,86.9,2,85.4,3,21.85,2,36.78,2,2.4,2,2243.5,6,2290.2,6,-999,9,-999,9,-999,-999,9,-999,1
  740H20180228, A09.5,122,1,1,5977,2,20180405,618,-23.9995,11.3322,3511,629.7,5.5922,34.4663,2,34.4642,2,131.4,2,131.6,3,26.65,2,35.73,2,2.36,2,2224,2,2293,2,-999,9,-999,9,-999,-999,9,-999,1
  740H20180228, A09.5,122,1,24,1086,2,20180405,618,-23.9995,11.3322,3511,757.4,4.776,34.4523,2,34.451,2,138.9,2,139.6,3,32.56,2,36.2,2,2.41,2,2228.9,2,2293.5,2,-999,9,-999,9,-999,-999,9,-999,1
  740H20180228, A09.5,122,1,23,6427,2,20180405,618,-23.9995,11.3322,3511,883.7,4.1819,34.4729,2,34.4714,2,151.4,2,151.7,3,38.12,2,35.34,2,2.39,2,2229.4,2,2304.3,2,-999,9,-999,9,-999,-999,9,-999,1
  740H20180228, A09.5,122,1,22,6426,2,20180405,618,-23.9995,11.3322,3511,1009.8,3.6963,34.5156,2,34.5077,2,168.7,2,169.4,3,44.15,2,33.69,2,2.29,2,2226.9,2,2309.1,2,-999,9,-999,9,-999,-999,9,-999,1
  740H20180228, A09.5,122,1,21,6425,2,20180405,618,-23.9995,11.3322,3511,1261.8,3.5103,34.6769,2,34.6742,2,180.5,2,180.3,3,43.54,2,30.76,2,2.09,2,2222.5,6,2324.5,6,-999,9,-999,9,-999,-999,9,-999,1
  740H20180228, A09.5,122,1,20,6428,2,20180405,618,-23.9995,11.3322,3511,1515.4,3.467,34.8083,2,34.806,2,197.8,2,198.8,3,37.44,2,27.4,2,1.84,2,2199.6,2,2322.5,2,-999,9,-999,9,-999,-999,9,-999,1
  740H20180228, A09.5,122,1,19,6692,2,20180405,618,-23.9995,11.3322,3511,1768.7,3.3908,34.8782,2,34.8753,2,213.5,2,214.5,3,33.54,2,24.87,2,1.67,2,2195.9,6,2321.4,6,-999,9,-999,9,-999,-999,9,-999,1
  740H20180228, A09.5,122,1,18,1098,2,20180405,618,-23.9995,11.3322,3511,2022,3.2068,34.899,2,34.8954,2,223.1,2,226.4,3,34.86,2,23.74,2,1.6,2,2189.8,2,2325,2,-999,9,-999,9,-999,-999,9,-999,1
  740H20180228, A09.5,122,1,17,1122,2,20180405,618,-23.9995,11.3322,3511,2277.5,2.9713,34.8957,2,34.8946,2,229.5,2,230.4,3,38.01,2,23.34,2,1.57,2,2193.9,2,2332.8,2,-999,9,-999,9,-999,-999,9,-999,1
  740H20180228, A09.5,122,1,16,6420,2,20180405,618,-23.9995,11.3322,3511,2533.4,2.8027,34.8908,2,34.8881,2,231.9,2,233,3,41.41,2,23.33,2,1.58,2,2192.6,6,2331.7,6,-999,9,-999,9,-999,-999,9,-999,1
  740H20180228, A09.5,122,1,15,6419,2,20180405,618,-23.9995,11.3322,3511,2786.9,2.6763,34.8858,2,34.8838,2,233.8,2,242,3,44.09,2,23.33,2,1.58,2,2194.6,2,2335.6,2,-999,9,-999,9,-999,-999,9,-999,1
  740H20180228, A09.5,122,1,14,6418,2,20180405,618,-23.9995,11.3322,3511,3297.1,2.4905,34.8773,2,34.8761,2,231.3,2,233.1,3,50.16,2,23.86,2,1.61,2,2206.4,2,2343.9,2,-999,9,-999,9,-999,-999,9,-999,1
  740H20180228, A09.5,122,1,13,6417,2,20180405,618,-23.9995,11.3322,3511,3551.3,2.3855,34.8678,2,34.8665,2,225.7,2,237.4,3,56.4,2,24.7,2,1.66,2,2210.5,6,2352.3,6,-999,9,-999,9,-999,-999,9,-999,1
  740H20180228, A09.5,123,1,12,6416,2,20180405,1218,-24,10.7667,3922,7,21.044,35.3441,2,35.3461,2,230,2,228.7,2,1.53,2,0.09,2,0.23,2,2062.7,2,2332.4,2,-999,1,-999,9,-999,-999,9,-999,1
  740H20180228, A09.5,123,1,11,6415,2,20180405,1218,-24,10.7667,3922,11.4,20.9674,35.343,2,35.3433,2,228.2,2,228.3,2,1.45,2,0.13,2,0.24,2,2059.6,2,2334.7,2,-999,1,-999,9,-999,-999,9,-999,1
  740H20180228, A09.5,123,1,10,6414,2,20180405,1218,-24,10.7667,3922,19.6,20.7435,35.3397,2,35.3406,2,229.8,2,229.6,2,1.43,2,0.13,2,0.24,2,2061.8,2,2330.4,2,-999,1,-999,9,-999,-999,9,-999,1
  740H20180228, A09.5,123,1,9,6413,2,20180405,1218,-24,10.7667,3922,37.9,20.5358,35.3167,2,35.2953,2,230.7,2,231.6,2,1.31,2,0.43,2,0.29,2,2062.5,6,2330.3,6,-999,1,-999,9,-999,-999,9,-999,1
  740H20180228, A09.5,123,1,8,6412,2,20180405,1218,-24,10.7667,3922,51,18.4024,35.21,2,35.1778,2,239.5,2,233,2,1.47,2,4.24,2,0.63,2,2091.6,2,2322.9,2,-999,1,-999,9,-999,-999,9,-999,1
  740H20180228, A09.5,123,1,7,6411,2,20180405,1218,-24,10.7667,3922,81.9,14.7451,35.169,2,35.1691,2,201.9,2,202.8,2,4.06,2,11.13,2,0.88,2,2133.7,2,2310.3,2,-999,9,-999,9,-999,-999,9,-999,1
  740H20180228, A09.5,123,1,6,6410,2,20180405,1218,-24,10.7667,3922,101.9,14.0241,35.1629,2,35.1616,2,203.1,2,203.5,2,4.49,2,11.2,2,0.87,2,2132.4,2,2312.6,2,-999,9,-999,9,-999,-999,9,-999,1
  740H20180228, A09.5,123,1,5,6409,2,20180405,1218,-24,10.7667,3922,177.7,11.8839,34.9861,2,34.9868,2,155.9,2,154.5,2,9.9,2,21.11,2,1.46,2,2186.3,6,2299.1,6,-999,9,-999,9,-999,-999,9,-999,1
  740H20180228, A09.5,123,1,4,6408,2,20180405,1218,-24,10.7667,3922,253.1,10.8823,34.9585,2,34.9576,2,60,2,61.5,2,15.82,2,30.19,2,2.04,2,2243.6,2,2299.5,2,-999,9,-999,9,-999,-999,9,-999,1
  740H20180228, A09.5,123,1,3,6407,2,20180405,1218,-24,10.7667,3922,378.5,8.9485,34.7689,2,34.7649,2,53.2,2,53,2,18.8,2,36.06,2,2.36,2,2258.3,6,2292.7,6,-999,9,-999,9,-999,-999,9,-999,1
  740H20180228, A09.5,123,1,2,1077,2,20180405,1218,-24,10.7667,3922,509.6,6.8909,34.5685,2,34.5679,2,97.4,2,95.3,2,21.98,2,36.8,2,2.4,2,2243.7,2,2290.6,2,-999,9,-999,9,-999,-999,9,-999,1
  740H20180228, A09.5,123,1,1,5977,2,20180405,1218,-24,10.7667,3922,636.1,5.5393,34.4748,2,34.4707,2,126.8,2,126,2,27.41,2,36.45,2,2.41,2,2234.6,2,2288.5,2,-999,9,-999,9,-999,-999,9,-999,1
  740H20180228, A09.5,123,1,24,1086,2,20180405,1218,-24,10.7667,3922,767.5,4.5745,34.4396,2,34.4376,2,149.2,2,150.1,2,33.9,2,35.54,2,2.38,2,2230.1,2,2294,2,-999,9,-999,9,-999,-999,9,-999,1
  740H20180228, A09.5,123,1,23,6427,2,20180405,1218,-24,10.7667,3922,888.7,4.2421,34.4717,2,34.4706,2,149.8,2,149.3,2,37.24,2,35.57,2,2.4,2,2235,2,2303.6,2,-999,9,-999,9,-999,-999,9,-999,1
  740H20180228, A09.5,123,1,22,6426,2,20180405,1218,-24,10.7667,3922,1015.6,3.8571,34.5133,2,34.5112,2,161.5,2,161.7,2,41.26,2,34.19,2,2.32,2,2233.2,2,2304.1,2,-999,9,-999,9,-999,-999,9,-999,1
  740H20180228, A09.5,123,1,21,6425,2,20180405,1218,-24,10.7667,3922,1267.5,3.4609,34.6662,2,34.6674,2,180.1,2,180.2,2,44.96,2,30.91,2,2.11,2,2226,6,2318.8,6,-999,9,-999,9,-999,-999,9,-999,1
  740H20180228, A09.5,123,1,20,6428,2,20180405,1218,-24,10.7667,3922,1521.2,3.5195,34.8153,2,34.8152,2,196.2,2,195.7,2,36.82,2,27.17,2,1.84,2,2212.3,2,2320.9,2,-999,9,-999,9,-999,-999,9,-999,1
  740H20180228, A09.5,123,1,19,6692,2,20180405,1218,-24,10.7667,3922,1774.9,3.3515,34.8672,2,34.8653,2,215.4,2,214.8,2,34.65,2,24.86,2,1.67,2,2202.4,2,2317,2,-999,9,-999,9,-999,-999,9,-999,1
  740H20180228, A09.5,123,1,18,1098,2,20180405,1218,-24,10.7667,3922,2029.3,3.237,34.8989,2,34.8971,2,224.2,2,223.6,2,33.84,2,23.62,2,1.59,2,2194.7,6,2324.5,6,-999,9,-999,9,-999,-999,9,-999,1
  740H20180228, A09.5,123,1,16,6420,2,20180405,1218,-24,10.7667,3922,2537.4,2.8502,34.8941,2,34.8959,2,232.3,2,232.8,2,40.4,2,23.19,2,1.56,2,2196.5,6,2325,6,-999,9,-999,9,-999,-999,9,-999,1
  740H20180228, A09.5,123,1,17,1122,2,20180405,1218,-24,10.7667,3922,2537.9,2.8504,34.8941,2,34.8935,2,232.4,2,232.5,2,40.36,2,23.18,2,1.56,2,-999,9,-999,9,-999,9,-999,9,-999,-999,9,-999,1
  740H20180228, A09.5,123,1,15,6419,2,20180405,1218,-24,10.7667,3922,3048.5,2.5339,34.8784,2,34.8784,2,233.9,2,234.1,2,48.22,2,23.66,2,1.59,2,2204.8,2,2339.6,2,-999,9,-999,9,-999,-999,9,-999,1
  740H20180228, A09.5,123,1,14,6418,2,20180405,1218,-24,10.7667,3922,3558.4,2.3016,34.8603,2,34.8603,2,228.6,2,229.7,2,58.1,2,24.81,2,1.67,2,2217.2,2,2341.8,2,-999,9,-999,9,-999,-999,9,-999,1
  740H20180228, A09.5,123,1,13,6417,2,20180405,1218,-24,10.7667,3922,3974,1.6102,34.7877,2,34.789,2,217.7,2,218.2,2,86.95,2,28.64,2,1.93,2,2245.7,6,2361.6,6,-999,9,-999,1,-999,-999,1,-999,1
  740H20180228, A09.5,124,1,16,6420,2,20180405,1630,-23.8837,11.1344,3624,5.6,20.8269,35.3143,2,-999,9,231.4,2,-999,9,-999,9,-999,9,-999,9,-999,9,-999,9,-999,9,-999,9,-999,-999,9,-999,9
  740H20180228, A09.5,124,1,22,6426,2,20180405,1630,-23.8837,11.1344,3624,5.6,20.7889,35.3128,2,-999,9,232.3,2,-999,9,-999,9,-999,9,-999,9,-999,9,-999,9,-999,9,-999,9,-999,-999,9,-999,9
  740H20180228, A09.5,124,1,23,6427,2,20180405,1630,-23.8837,11.1344,3624,5.6,20.8041,35.3132,2,-999,9,231.6,2,-999,9,-999,9,-999,9,-999,9,-999,9,-999,9,-999,9,-999,9,-999,-999,9,-999,9
  740H20180228, A09.5,124,1,3,6407,2,20180405,1630,-23.8837,11.1344,3624,5.7,20.78,35.3129,2,-999,9,231.4,2,-999,9,-999,9,-999,9,-999,9,-999,9,-999,9,-999,9,-999,9,-999,-999,9,-999,9
  740H20180228, A09.5,124,1,9,6413,2,20180405,1630,-23.8837,11.1344,3624,5.7,20.8044,35.3132,2,-999,9,231.5,2,-999,9,-999,9,-999,9,-999,9,-999,9,-999,9,-999,9,-999,9,-999,-999,9,-999,9
  740H20180228, A09.5,124,1,14,6418,2,20180405,1630,-23.8837,11.1344,3624,5.7,20.8612,35.3143,2,-999,9,231.2,2,-999,9,-999,9,-999,9,-999,9,-999,9,-999,9,-999,9,-999,9,-999,-999,9,-999,9
  740H20180228, A09.5,124,1,7,6411,2,20180405,1630,-23.8837,11.1344,3624,5.8,20.8254,35.314,2,-999,9,231.7,2,-999,9,-999,9,-999,9,-999,9,-999,9,-999,9,-999,9,-999,9,-999,-999,9,-999,9
  740H20180228, A09.5,124,1,2,1077,2,20180405,1630,-23.8837,11.1344,3624,5.9,20.7648,35.3131,2,-999,9,231.6,2,-999,9,-999,9,-999,9,-999,9,-999,9,-999,9,-999,9,-999,9,-999,-999,9,-999,9
  740H20180228, A09.5,124,1,4,6408,2,20180405,1630,-23.8837,11.1344,3624,5.9,20.7554,35.3117,2,-999,9,231.5,2,-999,9,-999,9,-999,9,-999,9,-999,9,-999,9,-999,9,-999,9,-999,-999,9,-999,9
  740H20180228, A09.5,124,1,5,6409,2,20180405,1630,-23.8837,11.1344,3624,5.9,20.7518,35.3123,2,-999,9,231.7,2,-999,9,-999,9,-999,9,-999,9,-999,9,-999,9,-999,9,-999,9,-999,-999,9,-999,9
  740H20180228, A09.5,124,1,18,1098,2,20180405,1630,-23.8837,11.1344,3624,5.9,20.8608,35.3144,2,-999,9,231.8,2,-999,9,-999,9,-999,9,-999,9,-999,9,-999,9,-999,9,-999,9,-999,-999,9,-999,9
  740H20180228, A09.5,124,1,20,6428,2,20180405,1630,-23.8837,11.1344,3624,5.9,20.8473,35.3144,2,-999,9,232,2,-999,9,-999,9,-999,9,-999,9,-999,9,-999,9,-999,9,-999,9,-999,-999,9,-999,9
  740H20180228, A09.5,124,1,21,6425,2,20180405,1630,-23.8837,11.1344,3624,5.9,20.7805,35.3111,2,-999,9,231.2,2,-999,9,-999,9,-999,9,-999,9,-999,9,-999,9,-999,9,-999,9,-999,-999,9,-999,9
  740H20180228, A09.5,124,1,6,6410,2,20180405,1630,-23.8837,11.1344,3624,6,20.7712,35.3143,2,-999,9,231.5,2,-999,9,-999,9,-999,9,-999,9,-999,9,-999,9,-999,9,-999,9,-999,-999,9,-999,9
  740H20180228, A09.5,124,1,8,6412,2,20180405,1630,-23.8837,11.1344,3624,6,20.8083,35.3128,2,-999,9,231.9,2,-999,9,-999,9,-999,9,-999,9,-999,9,-999,9,-999,9,-999,9,-999,-999,9,-999,9
  740H20180228, A09.5,124,1,10,6414,2,20180405,1630,-23.8837,11.1344,3624,6,20.7728,35.3129,2,-999,9,231.7,2,-999,9,-999,9,-999,9,-999,9,-999,9,-999,9,-999,9,-999,9,-999,-999,9,-999,9
  740H20180228, A09.5,124,1,15,6419,2,20180405,1630,-23.8837,11.1344,3624,6,20.8184,35.3109,2,-999,9,231.2,2,-999,9,-999,9,-999,9,-999,9,-999,9,-999,9,-999,9,-999,9,-999,-999,9,-999,9
  740H20180228, A09.5,124,1,19,6692,2,20180405,1630,-23.8837,11.1344,3624,6,20.7936,35.3138,2,-999,9,231.6,2,-999,9,-999,9,-999,9,-999,9,-999,9,-999,9,-999,9,-999,1,-999,-999,1,-999,9
  740H20180228, A09.5,124,1,12,6416,2,20180405,1630,-23.8837,11.1344,3624,6.1,20.8258,35.3137,2,-999,9,231.3,2,-999,9,-999,9,-999,9,-999,9,-999,9,-999,9,-999,9,-999,9,-999,-999,9,-999,9
  740H20180228, A09.5,124,1,11,6415,2,20180405,1630,-23.8837,11.1344,3624,6.2,20.7811,35.3146,2,-999,9,232,2,-999,9,-999,9,-999,9,-999,9,-999,9,-999,9,-999,9,-999,9,-999,-999,9,-999,9
  740H20180228, A09.5,124,1,13,6417,2,20180405,1630,-23.8837,11.1344,3624,6.2,20.8495,35.3151,2,-999,9,231.6,2,-999,9,-999,9,-999,9,-999,9,-999,9,-999,9,-999,9,-999,9,-999,-999,9,-999,9
  740H20180228, A09.5,124,1,17,1122,2,20180405,1630,-23.8837,11.1344,3624,6.2,20.7998,35.3132,2,-999,9,231.2,2,-999,9,-999,9,-999,9,-999,9,-999,9,-999,9,-999,9,-999,9,-999,-999,9,-999,9
  740H20180228, A09.5,124,1,1,5977,2,20180405,1630,-23.8837,11.1344,3624,6.3,20.7563,35.3124,2,-999,9,231.3,2,-999,9,-999,9,-999,9,-999,9,-999,9,-999,9,-999,9,-999,9,-999,-999,9,-999,9
  740H20180228, A09.5,124,1,24,1086,2,20180405,1630,-23.8837,11.1344,3624,6.3,20.7917,35.3116,2,-999,9,231.1,2,-999,9,-999,9,-999,9,-999,9,-999,9,-999,9,-999,9,-999,9,-999,-999,9,-999,9