BOTTLE,20190321PRINUNIVRMK,,,,,,,,,,,,,,,,,,,,,,,,,,,,,,,,,,,,,,,
EXPOCODE,SECT_ID,STNNBR,CASTNO,SAMPNO,BTLNBR,BTLNBR_FLAG_W,DATE,TIME,LATITUDE,LONGITUDE,DEPTH,CTDPRS,CTDTMP,CTDSAL,CTDSAL_FLAG_W,SALNTY,SALNTY_FLAG_W,CTDOXY,CTDOXY_FLAG_W,OXYGEN,OXYGEN_FLAG_W,SILCAT,SILCAT_FLAG_W,NITRAT,NITRAT_FLAG_W,PHSPHT,PHSPHT_FLAG_W,TCARBN,TCARBN_FLAG_W,ALKALI,ALKALI_FLAG_W,CHLORA,CHLORA_FLAG_W,DELC14,DELC14_FLAG_W,C14ERR,DELC13,DELC13_FLAG_W,DELO18,DELO18_FLAG_W
,,,,,,,,,,,METERS,DBAR,ITS-90,PSS-78,,PSS-78,,UMOL/KG,,UMOL/KG,,UMOL/KG,,UMOL/KG,,UMOL/KG,,UMOL/KG,,UMOL/KG,,UG/KG,,/MILLE,,/MILLE,/MILLE,,/MILLE,
  740H20180228, A09.5,18,1,24,1086,2,20180305,220,-23.9995,-36.498,4073,5.6,27.3963,36.987,2,36.9855,2,201.7,2,202,2,1.15,2,0.32,2,0.04,2,2078.6,2,2420.8,2,-999,9,-999,9,-999,-999,9,-999,1
  740H20180228, A09.5,18,1,23,6427,2,20180305,220,-23.9995,-36.498,4073,60,24.1701,36.9547,2,36.95,2,225.1,2,224.5,2,1.29,2,0.29,2,0.1,2,2098.9,2,2426.2,2,-999,9,-999,9,-999,-999,9,-999,1
  740H20180228, A09.5,18,1,22,6426,2,20180305,220,-23.9995,-36.498,4073,78.4,22.7483,36.9176,2,36.9201,2,225.7,2,226,2,1.22,2,0.26,2,0.09,2,2102.6,2,2423,2,-999,9,-999,9,-999,-999,9,-999,1
  740H20180228, A09.5,18,1,21,6425,2,20180305,220,-23.9995,-36.498,4073,122.8,21.6903,36.8123,2,36.8144,2,215.6,2,215.9,2,1.19,2,0.29,2,0.12,2,2112.7,2,2418.8,2,-999,9,-999,9,-999,-999,9,-999,1
  740H20180228, A09.5,18,1,20,6428,2,20180305,220,-23.9995,-36.498,4073,178.8,20.0078,36.4061,2,36.4023,2,213.2,2,212.9,2,1.04,2,0.74,2,0.1,2,2105,2,2389.2,2,-999,9,-999,9,-999,-999,9,-999,1
  740H20180228, A09.5,18,1,19,1098,2,20180305,220,-23.9995,-36.498,4073,254.1,16.6056,35.7261,2,35.7341,2,206.2,2,207.7,2,2.03,2,3.64,2,0.35,2,2113.7,2,2348.3,2,-999,9,-999,9,-999,-999,9,-999,1
  740H20180228, A09.5,18,1,18,6692,2,20180305,220,-23.9995,-36.498,4073,380.1,13.6311,35.27,2,35.2745,2,207.5,2,206.7,2,3.34,2,8.99,2,0.63,2,2126.5,2,2321.2,2,-999,9,-999,9,-999,-999,9,-999,1
  740H20180228, A09.5,18,1,17,1122,2,20180305,220,-23.9995,-36.498,4073,504.7,11.181,34.956,2,34.9618,2,203.1,2,203.1,2,5.85,2,15.19,2,1,2,2145.7,2,2308.5,2,-999,9,-999,9,-999,-999,9,-999,1
  740H20180228, A09.5,18,1,16,6420,2,20180305,220,-23.9995,-36.498,4073,632.1,8.2857,34.6185,2,34.6092,2,200.4,2,201.2,2,11.29,2,22.76,2,1.45,2,2164.1,2,2294,2,-999,9,-999,9,-999,-999,9,-999,1
  740H20180228, A09.5,18,1,15,6419,2,20180305,220,-23.9995,-36.498,4073,757,5.8125,34.3862,2,34.3928,2,209.8,2,209.9,2,18.11,2,27.65,2,1.76,2,2176.8,2,2288.8,2,-999,9,-999,9,-999,-999,9,-999,1
  740H20180228, A09.5,18,1,14,6418,2,20180305,220,-23.9995,-36.498,4073,883.7,4.3987,34.3407,2,34.3425,2,208,2,207.4,2,29.31,2,30.94,2,1.97,2,2196.3,2,2298,2,-999,9,-999,9,-999,-999,9,-999,1
  740H20180228, A09.5,18,1,13,6417,2,20180305,220,-23.9995,-36.498,4073,1007.3,3.7194,34.4155,2,34.4163,2,192,2,192,2,41.08,2,32.67,2,2.11,2,2215.7,2,2312.4,2,-999,9,-999,9,-999,-999,9,-999,1
  740H20180228, A09.5,18,1,12,6416,2,20180305,220,-23.9995,-36.498,4073,1159.9,3.2896,34.5211,2,34.5209,2,188,2,187.9,2,48.53,2,32.44,2,2.1,2,2220.8,6,2317.9,6,-999,9,-999,9,-999,-999,9,-999,1
  740H20180228, A09.5,18,1,11,6415,2,20180305,220,-23.9995,-36.498,4073,1261,3.1394,34.5822,2,34.5849,2,190.1,2,188.8,2,50.87,2,31.66,2,2.05,2,2225.9,2,2321,2,-999,9,-999,9,-999,-999,9,-999,1
  740H20180228, A09.5,18,1,10,6414,2,20180305,220,-23.9995,-36.498,4073,1514.3,3.6645,34.8394,2,34.8367,2,216.4,2,215.9,2,32.68,2,25.34,2,1.63,2,2197,2,2318.2,2,-999,9,-999,9,-999,-999,9,-999,1
  740H20180228, A09.5,18,1,9,6413,4,20180305,220,-23.9995,-36.498,4073,1768.7,3.6104,34.9311,2,34.8368,4,241.6,2,215.6,4,32.68,4,25.3,4,1.63,4,2194.6,4,-999,9,-999,9,-999,9,-999,-999,9,-999,1
  740H20180228, A09.5,18,1,8,6412,2,20180305,220,-23.9995,-36.498,4073,2022.5,3.408,34.9489,2,34.9477,2,252.5,2,251.3,2,23.27,2,20.18,2,1.29,2,2173.3,2,2318.1,2,-999,9,-999,9,-999,-999,9,-999,1
  740H20180228, A09.5,18,1,7,6411,2,20180305,220,-23.9995,-36.498,4073,2275.7,3.1881,34.9426,2,34.9413,2,254.4,2,253.2,2,25.84,2,20.18,2,1.29,2,2174.5,2,2322.3,2,-999,9,-999,9,-999,-999,9,-999,1
  740H20180228, A09.5,18,1,6,6410,2,20180305,220,-23.9995,-36.498,4073,2529.8,2.9869,34.9331,2,34.9328,2,255,2,253,2,29.03,2,20.44,2,1.3,2,2179.3,2,2324.2,2,-999,9,-999,9,-999,-999,9,-999,1
  740H20180228, A09.5,18,1,5,6409,2,20180305,220,-23.9995,-36.498,4073,2785.7,2.842,34.9247,2,34.9246,2,255,2,254.6,2,31.36,2,20.71,2,1.31,2,2179.2,2,2324.9,2,-999,9,-999,9,-999,-999,9,-999,1
  740H20180228, A09.5,18,1,4,6408,2,20180305,220,-23.9995,-36.498,4073,3295.8,2.5172,34.903,2,34.9053,2,256.3,2,254,2,36.97,2,21.05,2,1.33,2,2184.1,2,2330.7,2,-999,9,-999,9,-999,-999,9,-999,1
  740H20180228, A09.5,18,1,3,6407,2,20180305,220,-23.9995,-36.498,4073,3821,1.3604,34.7841,2,34.7836,2,237.2,2,234.8,2,82.58,2,27.47,2,1.78,2,2229.4,2,2351.8,2,-999,9,-999,9,-999,-999,9,-999,1
  740H20180228, A09.5,18,1,2,6406,2,20180305,220,-23.9995,-36.498,4073,4127.7,0.5082,34.6945,2,34.695,2,224.3,2,-999,9,116.39,2,32.1,2,2.1,2,-999,9,-999,3,-999,9,-999,9,-999,-999,9,-999,9
  740H20180228, A09.5,18,1,1,5977,2,20180305,220,-23.9995,-36.498,4073,4127.8,0.5087,34.6944,2,34.6934,2,224.1,2,222.4,2,116.26,2,32.14,2,2.1,2,2261.8,6,2365.6,3,-999,9,-999,9,-999,-999,9,-999,1
  740H20180228, A09.5,19,1,24,1086,2,20180305,841,-23.9999,-36.0003,4116,5.5,27.0668,36.6541,2,36.6554,2,202.6,2,204.7,2,0.96,2,0.1,2,0.02,2,2068.2,2,2401.9,2,-999,9,-999,9,-999,-999,9,-999,1
  740H20180228, A09.5,19,1,23,6427,2,20180305,841,-23.9999,-36.0003,4116,52,23.5866,36.8104,2,36.8055,2,226.9,2,230.4,2,0.91,2,0.22,2,0,2,2086.4,2,2412.1,2,-999,9,-999,9,-999,-999,9,-999,1
  740H20180228, A09.5,19,1,22,6426,2,20180305,841,-23.9999,-36.0003,4116,66.2,22.8572,36.829,2,36.8312,2,228.7,2,229.5,2,0.89,2,0.21,2,0,2,2093,2,2412,2,-999,9,-999,9,-999,-999,9,-999,1
  740H20180228, A09.5,19,1,21,6425,2,20180305,841,-23.9999,-36.0003,4116,121.4,21.0967,36.6834,2,36.6873,2,212.2,2,212.8,2,0.88,2,0.34,2,0.03,2,2104.7,2,2405.2,2,-999,9,-999,9,-999,-999,9,-999,1
  740H20180228, A09.5,19,1,20,6428,2,20180305,841,-23.9999,-36.0003,4116,177.9,19.5611,36.3201,2,36.3195,2,213.5,2,213.5,2,0.93,2,0.97,2,0.09,2,2106.9,2,2382.1,2,-999,9,-999,9,-999,-999,9,-999,1
  740H20180228, A09.5,19,1,19,1098,2,20180305,841,-23.9999,-36.0003,4116,242.2,16.7033,35.7415,2,35.7311,2,208.2,2,208.5,2,1.58,2,3.36,2,0.31,2,2107.5,2,2348,2,-999,9,-999,9,-999,-999,9,-999,1
  740H20180228, A09.5,19,1,18,6692,2,20180305,841,-23.9999,-36.0003,4116,377.9,13.6796,35.344,2,35.3438,2,215.6,2,215.5,2,2.71,2,8.43,2,0.64,2,2125.2,2,2326.7,2,-999,9,-999,9,-999,-999,9,-999,1
  740H20180228, A09.5,19,1,17,1122,2,20180305,841,-23.9999,-36.0003,4116,393.3,13.431,35.2991,2,35.2969,2,213.8,2,212.9,3,2.97,2,9.2,2,0.68,2,2122.6,2,2325.3,2,-999,9,-999,9,-999,-999,9,-999,1
  740H20180228, A09.5,19,1,16,6420,2,20180305,841,-23.9999,-36.0003,4116,630.5,8.4036,34.6248,2,34.3906,3,203.1,2,202.7,2,10.74,2,22.33,2,1.49,2,2164.5,2,2292.9,2,-999,9,-999,9,-999,-999,9,-999,1
  740H20180228, A09.5,19,1,15,6419,2,20180305,841,-23.9999,-36.0003,4116,756.3,5.8693,34.3928,2,34.3917,2,210.5,2,211.2,2,18.12,2,27.64,2,1.84,2,2174,2,2293,6,-999,9,-999,9,-999,-999,9,-999,1
  740H20180228, A09.5,19,1,14,6418,2,20180305,841,-23.9999,-36.0003,4116,827.2,4.9779,34.3489,2,34.3486,2,209.1,2,207.9,3,24.04,2,29.81,2,1.98,2,2188.9,2,2294.1,2,-999,9,-999,9,-999,-999,9,-999,1
  740H20180228, A09.5,19,1,13,6417,2,20180305,841,-23.9999,-36.0003,4116,888.1,4.459,34.3406,2,34.3418,2,207.5,2,206.3,3,29.07,2,30.93,2,2.05,2,2189.2,2,-999,9,-999,9,-999,9,-999,-999,9,-999,1
  740H20180228, A09.5,19,1,12,6416,2,20180305,841,-23.9999,-36.0003,4116,1008.4,3.8414,34.3925,2,34.3941,2,195.7,2,196.7,2,38.73,2,32.51,2,2.16,2,2213.5,2,2306.8,2,-999,9,-999,9,-999,-999,9,-999,1
  740H20180228, A09.5,19,1,11,6415,2,20180305,841,-23.9999,-36.0003,4116,1190.3,3.2925,34.513,2,34.513,2,188,2,186.7,2,49.25,2,32.6,2,2.18,2,2226.8,2,2318.2,2,-999,9,-999,9,-999,-999,9,-999,1
  740H20180228, A09.5,19,1,10,6414,2,20180305,841,-23.9999,-36.0003,4116,1514.1,3.5395,34.8053,2,34.8056,2,212.4,2,211,2,36.54,2,26.34,2,1.73,2,2198.5,6,2320.5,6,-999,9,-999,9,-999,-999,9,-999,1
  740H20180228, A09.5,19,1,9,6413,2,20180305,841,-23.9999,-36.0003,4116,2021.1,3.448,34.9545,2,34.9527,2,253.6,2,250.1,2,22.3,2,19.96,2,1.3,2,2166.1,2,2317.9,2,-999,9,-999,9,-999,-999,9,-999,1
  740H20180228, A09.5,19,1,8,6412,2,20180305,841,-23.9999,-36.0003,4116,2224.7,3.2632,34.9479,2,34.9466,2,255.1,2,252.2,2,24.48,2,20.02,2,1.29,2,2171.7,2,2319.6,2,-999,9,-999,9,-999,-999,9,-999,1
  740H20180228, A09.5,19,1,7,6411,2,20180305,841,-23.9999,-36.0003,4116,2530.4,3.0115,34.9345,2,34.9327,2,255.2,2,251.4,2,28.53,2,20.37,2,1.3,2,2169.9,2,2322.9,2,-999,9,-999,9,-999,-999,9,-999,1
  740H20180228, A09.5,19,1,6,6410,2,20180305,841,-23.9999,-36.0003,4116,3039.2,2.7229,34.9177,2,34.9163,2,256,2,252,2,33.31,2,20.67,2,1.32,2,2180.4,2,2327.6,2,-999,9,-999,9,-999,-999,9,-999,1
  740H20180228, A09.5,19,1,5,6409,2,20180305,841,-23.9999,-36.0003,4116,3243.6,2.6041,34.9098,2,34.9097,2,256.2,2,253.1,2,35.16,2,20.82,2,1.33,2,2177.1,2,2329.1,2,-999,9,-999,9,-999,-999,9,-999,1
  740H20180228, A09.5,19,1,4,6408,2,20180305,841,-23.9999,-36.0003,4116,3551.2,2.2519,34.877,2,34.8755,2,252.9,2,250.1,2,46.57,2,22.29,2,1.43,2,2192.3,2,2336.1,2,-999,9,-999,9,-999,-999,9,-999,1
  740H20180228, A09.5,19,1,3,6407,2,20180305,841,-23.9999,-36.0003,4116,4064.5,0.8351,34.726,2,34.7262,2,227.4,2,224.8,2,102.49,2,30.38,2,2,2,2243.8,2,2359.6,2,-999,9,-999,9,-999,-999,9,-999,1
  740H20180228, A09.5,19,1,1,5977,2,20180305,841,-23.9999,-36.0003,4116,4172.5,0.5254,34.696,2,34.6942,2,224.1,2,221.2,2,114.52,2,31.89,2,2.12,2,2260.7,2,2365.9,2,-999,9,-999,9,-999,-999,9,-999,1
  740H20180228, A09.5,19,1,2,6406,2,20180305,841,-23.9999,-36.0003,4116,4172.9,0.5239,34.6958,2,34.6942,2,224,2,-999,9,114.24,2,31.94,2,2.11,2,-999,9,-999,9,-999,9,-999,9,-999,-999,9,-999,9
  740H20180228, A09.5,20,1,24,1086,2,20180305,1503,-23.9999,-35.5,4199,5.3,26.849,36.5621,2,36.5626,2,205.2,2,208.2,4,1.04,2,0.26,2,0.02,2,2065.5,2,2394.5,2,-999,1,-999,1,-999,-999,1,-999,1
  740H20180228, A09.5,20,1,23,6427,2,20180305,1503,-23.9999,-35.5,4199,50.8,23.7704,36.6269,2,36.6449,2,227,2,228.3,2,1.16,2,0.33,2,0.01,2,2083.4,2,2402.2,2,-999,9,-999,1,-999,-999,1,-999,1
  740H20180228, A09.5,20,1,22,6426,2,20180305,1503,-23.9999,-35.5,4199,64.8,22.7555,36.6899,2,36.6925,2,229.9,2,231.4,2,0.99,2,0.26,2,0.08,2,2085,2,2403.7,2,-999,1,-999,1,-999,-999,1,-999,1
  740H20180228, A09.5,20,1,21,6425,2,20180305,1503,-23.9999,-35.5,4199,110.4,21.0653,36.6261,2,36.604,2,219.8,2,217.2,2,0.91,2,0.25,2,0.04,2,2099.8,6,2397.8,6,-999,1,-999,1,-999,-999,1,-999,1
  740H20180228, A09.5,20,1,20,6428,2,20180305,1503,-23.9999,-35.5,4199,176.2,19.2707,36.2582,2,36.2547,2,212.2,2,212,2,1.05,2,1.12,2,0.11,2,2104.6,2,2380,2,-999,9,-999,1,-999,-999,1,-999,1
  740H20180228, A09.5,20,1,19,1098,2,20180305,1503,-23.9999,-35.5,4199,251.2,16.2348,35.6677,2,35.6518,2,209.7,2,208.4,2,1.81,2,4.02,2,0.37,2,2110.6,2,2340.3,2,-999,9,-999,1,-999,-999,1,-999,1
  740H20180228, A09.5,20,1,18,6692,2,20180305,1503,-23.9999,-35.5,4199,362.3,13.7829,35.3434,2,35.3362,2,212.8,2,211.4,2,2.83,2,8.47,2,0.61,2,2124.4,2,2327.2,2,-999,9,-999,1,-999,-999,1,-999,1
  740H20180228, A09.5,20,1,17,1122,2,20180305,1503,-23.9999,-35.5,4199,503.8,10.5965,34.8866,2,34.8855,2,204.2,2,203.8,2,6.51,2,16.65,2,1.13,2,2144.6,2,2301.1,2,-999,9,-999,1,-999,-999,1,-999,1
  740H20180228, A09.5,20,1,16,6420,2,20180305,1503,-23.9999,-35.5,4199,573.4,9.0015,34.6948,2,34.6961,2,197.2,2,196.6,2,9.75,2,21.17,2,1.41,2,2158.5,6,2294.9,6,-999,9,-999,1,-999,-999,1,-999,1
  740H20180228, A09.5,20,1,15,6419,2,20180305,1503,-23.9999,-35.5,4199,629.4,7.8135,34.5659,2,34.5684,2,203,2,201.1,2,11.98,2,23.5,2,1.58,2,2169.3,2,2293.8,2,-999,9,-999,1,-999,-999,1,-999,1
  740H20180228, A09.5,20,1,14,6418,2,20180305,1503,-23.9999,-35.5,4199,755.2,5.6807,34.3778,2,34.3758,2,210.5,2,209.8,2,19.08,2,28.08,2,1.85,2,2175.7,2,2288.4,2,-999,9,-999,1,-999,-999,1,-999,1
  740H20180228, A09.5,20,1,13,6417,2,20180305,1503,-23.9999,-35.5,4199,826.4,4.7795,34.3403,2,34.3411,2,209.6,2,208.6,2,25.44,2,30.13,2,1.99,2,2185.3,2,2292.5,2,-999,9,-999,1,-999,-999,1,-999,1
  740H20180228, A09.5,20,1,12,6416,2,20180305,1503,-23.9999,-35.5,4199,1008.4,3.721,34.4061,2,34.4049,2,194.3,2,192.5,2,40.55,2,32.66,2,2.17,2,2208.7,2,2306.7,2,-999,9,-999,1,-999,-999,1,-999,1
  740H20180228, A09.5,20,1,11,6415,2,20180305,1503,-23.9999,-35.5,4199,1190.2,3.2511,34.5312,2,34.533,2,187.7,2,186.1,2,49.9,2,32.48,2,2.16,2,2221,6,2320,6,-999,9,-999,1,-999,-999,1,-999,1
  740H20180228, A09.5,20,1,10,6414,2,20180305,1503,-23.9999,-35.5,4199,1514.5,3.2984,34.7728,2,34.7678,2,209.2,2,206.8,2,42.62,2,27.51,2,1.81,2,2209.5,2,2325.7,2,-999,9,-999,1,-999,-999,1,-999,1
  740H20180228, A09.5,20,1,9,6413,2,20180305,1503,-23.9999,-35.5,4199,1769.3,3.5568,34.9221,2,34.9212,2,240.1,2,237.3,2,26.21,2,21.92,2,1.44,2,2175.4,2,2315.3,2,-999,9,-999,1,-999,-999,1,-999,1
  740H20180228, A09.5,20,1,8,6412,2,20180305,1503,-23.9999,-35.5,4199,2023.2,3.4217,34.9503,2,34.9494,2,252.6,2,249.9,2,23.16,2,20.14,2,1.29,2,2167.8,2,2317.8,2,-999,9,-999,1,-999,-999,1,-999,1
  740H20180228, A09.5,20,1,7,6411,2,20180305,1503,-23.9999,-35.5,4199,2278,3.1998,34.9442,2,34.9438,2,254.9,2,251.4,2,25.63,2,20.09,2,1.29,2,2169.8,2,2319.3,2,-999,9,-78.7,2,4,0.96,2,-999,1
  740H20180228, A09.5,20,1,6,6410,2,20180305,1503,-23.9999,-35.5,4199,2532.6,3.0295,34.9349,2,34.9338,2,254.2,2,250.8,2,28.54,2,20.39,2,1.3,2,2169.2,2,2322.2,2,-999,9,-999,1,-999,-999,1,-999,1
  740H20180228, A09.5,20,1,5,6409,2,20180305,1503,-23.9999,-35.5,4199,2782.5,2.8802,34.9269,2,34.9242,2,254.9,2,251.8,2,30.92,2,20.63,2,1.32,2,2179.1,2,2327.9,2,-999,9,-999,1,-999,-999,1,-999,1
  740H20180228, A09.5,20,1,4,6408,2,20180305,1503,-23.9999,-35.5,4199,3293.4,2.6144,34.9103,2,34.9099,2,256.5,2,252.7,2,35.26,2,20.9,2,1.35,2,2176.8,2,2329,2,-999,9,-999,1,-999,-999,1,-999,1
  740H20180228, A09.5,20,1,3,6407,2,20180305,1503,-23.9999,-35.5,4199,3806.7,1.6976,34.8194,2,34.8179,2,243.2,2,240.1,2,68.87,2,25.56,2,1.67,2,2215.3,2,2347.7,2,-999,9,-999,1,-999,-999,1,-999,1
  740H20180228, A09.5,20,1,1,5977,2,20180305,1503,-23.9999,-35.5,4199,4258.8,0.4795,34.6915,2,34.6924,2,224.2,2,220.6,2,116.82,2,32.18,2,2.14,2,2257.6,6,2365.3,6,-999,9,-999,1,-999,-999,1,-999,1
  740H20180228, A09.5,20,1,2,6406,2,20180305,1503,-23.9999,-35.5,4199,4258.9,0.4794,34.6915,2,34.6941,2,224.3,2,-999,9,116.6,2,32.19,2,2.14,2,-999,9,-999,9,-999,9,-999,9,-999,-999,9,-999,9
  740H20180228, A09.5,21,1,24,1086,2,20180305,2137,-24.0004,-34.9982,4230,9.4,27.1775,36.8301,2,36.8297,2,202.9,2,202.1,3,1.06,2,0.24,2,0.13,2,2071.7,2,2413.5,2,-999,9,-999,9,-999,-999,9,-999,1
  740H20180228, A09.5,21,1,23,6427,2,20180305,2137,-24.0004,-34.9982,4230,60.3,23.7018,36.6998,2,36.7022,2,226.9,2,226.3,2,0.97,2,0.19,2,0.07,2,2081,2,2402.4,2,-999,9,-999,9,-999,-999,9,-999,1
  740H20180228, A09.5,21,1,22,6426,2,20180305,2137,-24.0004,-34.9982,4230,85.3,22.0674,36.6537,2,36.6672,2,229,2,227.5,2,0.92,2,0.2,2,0.06,2,2088.8,6,2403.4,6,-999,9,-999,9,-999,-999,9,-999,1
  740H20180228, A09.5,21,1,21,6425,2,20180305,2137,-24.0004,-34.9982,4230,114.7,20.6637,36.5268,2,36.5274,2,220.2,2,-999,9,0.91,2,0.2,2,0.07,2,2094.5,2,2394.3,2,-999,9,-999,9,-999,-999,9,-999,1
  740H20180228, A09.5,21,1,20,6428,2,20180305,2137,-24.0004,-34.9982,4230,119.5,20.5845,36.5246,2,36.5251,2,217.5,2,216.5,2,0.89,2,0.22,2,0.1,2,2096.8,2,2393.7,2,-999,9,-999,9,-999,-999,9,-999,1
  740H20180228, A09.5,21,1,19,1098,2,20180305,2137,-24.0004,-34.9982,4230,184.7,18.2621,36.04,2,36.0467,2,213.3,2,212.2,2,1.13,2,1.53,2,0.2,2,2100.6,2,2363.8,2,-999,9,-999,9,-999,-999,9,-999,1
  740H20180228, A09.5,21,1,18,6692,2,20180305,2137,-24.0004,-34.9982,4230,260.8,15.6737,35.5773,2,35.5732,2,210.1,2,208.5,2,1.95,2,4.7,2,0.45,2,2112.2,2,2336.4,2,-999,9,-999,9,-999,-999,9,-999,1
  740H20180228, A09.5,21,1,17,1122,2,20180305,2137,-24.0004,-34.9982,4230,362.2,13.5156,35.2908,2,35.2908,2,212.7,2,211.4,2,3.07,2,8.95,2,0.68,2,2122.1,2,2321,2,-999,9,-999,9,-999,-999,9,-999,1
  740H20180228, A09.5,21,1,16,6420,2,20180305,2137,-24.0004,-34.9982,4230,512.6,10.3172,34.8487,2,34.8569,2,201.1,2,199.4,2,7.11,2,17.39,2,1.19,2,2149.1,6,2301.7,6,-999,9,-999,9,-999,-999,9,-999,1
  740H20180228, A09.5,21,1,15,6419,2,20180305,2137,-24.0004,-34.9982,4230,638.6,7.5241,34.539,2,34.5348,2,201.9,2,200.5,2,13.31,2,24.6,2,1.62,2,2167.2,2,2287.9,2,-999,9,-999,9,-999,-999,9,-999,1
  740H20180228, A09.5,21,1,14,6418,2,20180305,2137,-24.0004,-34.9982,4230,714.5,5.8638,34.3876,2,34.3911,2,211.9,2,210.3,2,17.92,2,27.47,2,1.8,2,2174.7,2,2287.3,2,-999,9,-999,9,-999,-999,9,-999,1
  740H20180228, A09.5,21,1,13,6417,2,20180305,2137,-24.0004,-34.9982,4230,865.8,4.3917,34.3493,2,34.3519,2,205.2,2,203.9,2,30.48,2,31.17,2,2.04,2,2199,2,2297.2,2,-999,9,-999,9,-999,-999,9,-999,1
  740H20180228, A09.5,21,1,12,6416,2,20180305,2137,-24.0004,-34.9982,4230,1017.6,3.7086,34.432,2,34.4313,2,190.3,2,188.5,2,41.34,2,32.8,2,2.15,2,2219.5,2,2309.9,2,-999,9,-999,9,-999,-999,9,-999,1
  740H20180228, A09.5,21,1,11,6415,2,20180305,2137,-24.0004,-34.9982,4230,1270.9,3.3682,34.6196,2,34.6204,2,191.5,2,188.8,2,46.38,2,30.96,2,2.03,2,2217.4,6,2319.4,6,-999,9,-999,9,-999,-999,9,-999,1
  740H20180228, A09.5,21,1,10,6414,2,20180305,2137,-24.0004,-34.9982,4230,1525,3.5891,34.8304,2,34.8285,2,216.2,2,213.5,2,34.51,2,25.65,2,1.65,2,2198.7,2,2321.6,2,-999,9,-999,9,-999,-999,9,-999,1
  740H20180228, A09.5,21,1,9,6413,2,20180305,2137,-24.0004,-34.9982,4230,1778,3.6668,34.9393,2,34.938,2,243,2,239.9,2,23.32,2,21.2,2,1.35,2,2177.6,2,2316,2,-999,9,-999,9,-999,-999,9,-999,1
  740H20180228, A09.5,21,1,8,6412,2,20180305,2137,-24.0004,-34.9982,4230,2032.6,3.374,34.9429,2,34.9422,2,251.1,2,247.9,2,24.56,2,20.41,2,1.29,2,2174.6,2,2319.3,2,-999,9,-999,9,-999,-999,9,-999,1
  740H20180228, A09.5,21,1,7,6411,2,20180305,2137,-24.0004,-34.9982,4230,2287.5,3.1687,34.939,2,34.9389,2,253.7,2,250,2,26.57,2,20.29,2,1.28,2,2177.4,2,2322.2,2,-999,9,-999,9,-999,-999,9,-999,1
  740H20180228, A09.5,21,1,6,6410,2,20180305,2137,-24.0004,-34.9982,4230,2542.9,2.9977,34.9329,2,34.9313,2,254.5,2,263,4,28.81,2,20.44,2,1.29,2,2175.9,2,2323.2,2,-999,9,-999,9,-999,-999,9,-999,1
  740H20180228, A09.5,21,1,5,6409,2,20180305,2137,-24.0004,-34.9982,4230,3054.2,2.7059,34.9172,2,34.9175,2,256.1,2,251.7,2,33.06,2,20.71,2,1.3,2,2179.8,2,2328.9,2,-999,9,-999,9,-999,-999,9,-999,1
  740H20180228, A09.5,21,1,4,6408,2,20180305,2137,-24.0004,-34.9982,4230,3565.1,2.2065,34.8728,2,34.8718,2,252.2,2,248.4,2,47.85,2,22.56,2,1.43,2,2194.6,2,2334.5,2,-999,9,-999,9,-999,-999,9,-999,1
  740H20180228, A09.5,21,1,3,6407,2,20180305,2137,-24.0004,-34.9982,4230,4079.8,1.0283,34.7483,2,34.7477,2,231.5,2,226.9,3,94.66,2,29.32,2,1.9,2,2243.3,2,-999,9,-999,9,-999,9,-999,-999,9,-999,1
  740H20180228, A09.5,21,1,1,5977,2,20180305,2137,-24.0004,-34.9982,4230,4288.6,0.441,34.689,2,34.6905,2,224.9,2,233.5,3,116.5,2,32.23,2,2.12,2,2261.6,2,-999,9,-999,9,-999,9,-999,-999,9,-999,1
  740H20180228, A09.5,21,1,2,6406,2,20180305,2137,-24.0004,-34.9982,4230,4288.7,0.4371,34.6884,2,34.6901,2,224.7,2,-999,9,116,2,32.17,2,2.11,2,-999,9,-999,9,-999,9,-999,9,-999,-999,9,-999,9