BOTTLE,20190321PRINUNIVRMK,,,,,,,,,,,,,,,,,,,,,,,,,,,,,,,,,,,,,,,
EXPOCODE,SECT_ID,STNNBR,CASTNO,SAMPNO,BTLNBR,BTLNBR_FLAG_W,DATE,TIME,LATITUDE,LONGITUDE,DEPTH,CTDPRS,CTDTMP,CTDSAL,CTDSAL_FLAG_W,SALNTY,SALNTY_FLAG_W,CTDOXY,CTDOXY_FLAG_W,OXYGEN,OXYGEN_FLAG_W,SILCAT,SILCAT_FLAG_W,NITRAT,NITRAT_FLAG_W,PHSPHT,PHSPHT_FLAG_W,TCARBN,TCARBN_FLAG_W,ALKALI,ALKALI_FLAG_W,CHLORA,CHLORA_FLAG_W,DELC14,DELC14_FLAG_W,C14ERR,DELC13,DELC13_FLAG_W,DELO18,DELO18_FLAG_W
,,,,,,,,,,,METERS,DBAR,ITS-90,PSS-78,,PSS-78,,UMOL/KG,,UMOL/KG,,UMOL/KG,,UMOL/KG,,UMOL/KG,,UMOL/KG,,UMOL/KG,,UG/KG,,/MILLE,,/MILLE,/MILLE,,/MILLE,
  740H20180228, A09.5,65,1,24,1086,2,20180319,1115,-22.1917,-11.7116,4426,5.9,25.4549,36.6762,2,36.6774,2,208,2,211.9,2,1.19,2,0.22,2,0.19,2,2105.8,2,2408.3,2,-999,9,-999,9,-999,-999,9,-999,1
  740H20180228, A09.5,65,1,23,6427,2,20180319,1115,-22.1917,-11.7116,4426,51.2,23.0708,36.4473,2,36.4411,2,227.9,2,228.9,2,1.01,2,0.22,2,0.19,2,2094.1,2,2396.2,2,-999,9,-999,9,-999,-999,9,-999,1
  740H20180228, A09.5,65,1,22,6426,2,20180319,1115,-22.1917,-11.7116,4426,80.9,21.7753,36.3726,2,36.2721,2,228.1,2,231.8,2,1.02,2,0.22,2,0.18,2,2094.4,6,2387.9,6,-999,9,-999,9,-999,-999,9,-999,1
  740H20180228, A09.5,65,1,21,6425,2,20180319,1115,-22.1917,-11.7116,4426,101.4,20.7442,36.2719,2,36.2736,2,232.7,2,233.2,2,1.22,2,0.2,2,0.17,2,2092.7,2,2385.9,2,-999,9,-999,9,-999,-999,9,-999,1
  740H20180228, A09.5,65,1,20,6428,2,20180319,1115,-22.1917,-11.7116,4426,126.6,20.2509,36.2614,2,36.2612,2,222.7,2,224.5,2,1.21,2,0.23,2,0.21,2,2110.3,6,2380.9,6,-999,9,-999,9,-999,-999,9,-999,1
  740H20180228, A09.5,65,1,19,6692,2,20180319,1115,-22.1917,-11.7116,4426,176.4,17.8901,35.8578,2,35.8715,2,217.1,2,217.2,2,1.75,2,1.83,2,0.32,2,2105,2,2359.6,2,-999,9,-999,9,-999,-999,9,-999,1
  740H20180228, A09.5,65,1,18,1098,2,20180319,1115,-22.1917,-11.7116,4426,252.4,14.5962,35.3279,2,35.3328,2,192.5,2,193.4,2,3.4,2,9.26,2,0.75,2,2133.1,2,2319.7,2,-999,9,-999,9,-999,-999,9,-999,1
  740H20180228, A09.5,65,1,17,1122,2,20180319,1115,-22.1917,-11.7116,4426,380.9,11.6916,35.0032,2,35.0049,2,176.8,2,176.9,2,6.49,2,16.89,2,1.2,2,2157.3,2,2305.9,2,-999,9,-999,9,-999,-999,9,-999,1
  740H20180228, A09.5,65,1,16,6420,2,20180319,1115,-22.1917,-11.7116,4426,506.3,8.7166,34.677,2,34.6813,2,165.8,2,165.6,2,12.72,2,24.75,2,1.71,2,2183.4,2,2292.3,2,-999,9,-999,9,-999,-999,9,-999,1
  740H20180228, A09.5,65,1,15,6419,2,20180319,1115,-22.1917,-11.7116,4426,583,7.1028,34.5347,2,34.5327,2,163.3,2,163.4,2,17.81,2,28.95,2,1.98,2,2194.7,2,2294.4,2,-999,9,-999,9,-999,-999,9,-999,1
  740H20180228, A09.5,65,1,14,6418,2,20180319,1115,-22.1917,-11.7116,4426,658.1,6.2925,34.4881,2,34.4942,2,157.8,2,159,2,21.11,2,31.06,2,2.12,2,2203.8,6,2292,6,-999,9,-999,9,-999,-999,9,-999,1
  740H20180228, A09.5,65,1,13,6417,2,20180319,1115,-22.1917,-11.7116,4426,758.7,5.1514,34.4201,2,34.4209,2,175.5,2,175.4,2,27.23,2,31.85,2,2.19,2,2202.5,2,2292.5,2,-999,9,-999,9,-999,-999,9,-999,1
  740H20180228, A09.5,65,1,12,6416,2,20180319,1115,-22.1917,-11.7116,4426,885.7,4.1614,34.4299,2,34.432,2,181.9,2,182.7,2,36.58,2,32.63,2,2.25,2,2211.1,2,2305.8,2,-999,9,-999,9,-999,-999,9,-999,1
  740H20180228, A09.5,65,1,11,6415,2,20180319,1115,-22.1917,-11.7116,4426,1011.6,3.7768,34.491,2,34.4922,2,181.7,2,182.3,2,40.56,2,32.48,2,2.25,2,2218.9,2,2306.9,2,-999,9,-999,9,-999,-999,9,-999,1
  740H20180228, A09.5,65,1,10,6414,2,20180319,1115,-22.1917,-11.7116,4426,1263.9,3.4354,34.667,2,34.6669,2,192.4,2,192.8,2,42.64,2,29.73,2,2.05,2,2212.4,2,2320.8,2,-999,9,-999,9,-999,-999,9,-999,1
  740H20180228, A09.5,65,1,9,6413,2,20180319,1115,-22.1917,-11.7116,4426,1517,3.2918,34.802,2,34.8025,2,213.1,2,213.8,2,39.11,2,26.03,2,1.78,2,2198.7,2,2319.1,2,-999,9,-999,9,-999,-999,9,-999,1
  740H20180228, A09.5,65,1,8,6412,2,20180319,1115,-22.1917,-11.7116,4426,1770.5,3.3163,34.908,2,34.9111,2,237.2,2,238.4,2,29.59,2,22,2,1.49,2,2181.1,2,2321.5,2,-999,9,-999,9,-999,-999,9,-999,1
  740H20180228, A09.5,65,1,7,6411,2,20180319,1115,-22.1917,-11.7116,4426,1923.5,3.2357,34.9268,2,34.9258,2,244.8,2,244.5,2,28.28,2,21.08,2,1.42,2,2175.7,2,2317,3,-999,9,-999,9,-999,-999,9,-999,1
  740H20180228, A09.5,65,1,6,6410,2,20180319,1115,-22.1917,-11.7116,4426,2276,2.947,34.9188,2,34.9183,2,246.5,2,246.8,2,33,2,21.24,2,1.44,2,2179.4,6,2329,6,-999,9,-999,9,-999,-999,9,-999,1
  740H20180228, A09.5,65,1,5,6409,2,20180319,1115,-22.1917,-11.7116,4426,2530.2,2.8087,34.9086,2,34.9105,2,245.9,2,246.3,2,36.53,2,21.58,2,1.46,2,2183,2,2325,2,-999,9,-999,9,-999,-999,9,-999,1
  740H20180228, A09.5,65,1,4,6408,2,20180319,1115,-22.1917,-11.7116,4426,3038.2,2.549,34.8876,2,34.8894,2,244.1,2,243.9,2,44.66,2,22.46,2,1.53,2,2191.7,2,2335.1,2,-999,9,-999,9,-999,-999,9,-999,1
  740H20180228, A09.5,65,1,3,6407,2,20180319,1115,-22.1917,-11.7116,4426,3550.1,2.3921,34.8723,2,34.8723,2,243.2,2,242.5,2,50.65,2,23.09,2,1.59,2,2196.6,2,2335,2,-999,9,-999,9,-999,-999,9,-999,1
  740H20180228, A09.5,65,1,2,6406,2,20180319,1115,-22.1917,-11.7116,4426,4062.9,2.2491,34.8576,2,34.8585,2,241.9,2,242,2,56.62,2,23.82,2,1.64,2,2201.2,2,2340.7,2,-999,9,-999,9,-999,-999,9,-999,1
  740H20180228, A09.5,65,1,1,5977,2,20180319,1115,-22.1917,-11.7116,4426,4492.9,2.2641,34.8544,2,34.8557,2,241.3,2,242,2,57.63,2,24.05,2,1.65,2,2203.1,6,2340.9,6,-999,9,-999,9,-999,-999,9,-999,1
  740H20180228, A09.5,66,1,24,1086,2,20180319,1807,-22.0677,-11.1642,4393,5.2,25.0404,36.5169,2,36.516,2,211.4,2,213.1,2,1.34,2,0.33,2,0.21,2,2104.3,2,2398.8,2,-999,9,-999,9,-999,-999,9,-999,1
  740H20180228, A09.5,66,1,23,6427,2,20180319,1807,-22.0677,-11.1642,4393,50.5,22.672,36.3718,2,36.3766,2,230,2,230.6,2,1.18,2,0.22,2,0.2,2,2096.8,2,2391.4,2,-999,9,-999,9,-999,-999,9,-999,1
  740H20180228, A09.5,66,1,22,6426,2,20180319,1807,-22.0677,-11.1642,4393,70.7,21.7099,36.3304,2,36.3337,2,232.9,2,232.9,2,1.17,2,0.27,2,0.2,2,2095.4,6,2386.7,6,-999,1,-999,9,-999,-999,9,-999,1
  740H20180228, A09.5,66,1,21,6425,2,20180319,1807,-22.0677,-11.1642,4393,100.3,20.5232,36.2764,2,36.2803,2,232.7,2,230.9,2,1.22,2,0.27,2,0.2,2,2096.6,2,2381.6,2,-999,9,-999,9,-999,-999,9,-999,1
  740H20180228, A09.5,66,1,20,6428,2,20180319,1807,-22.0677,-11.1642,4393,126.7,19.6997,36.2001,2,36.2148,2,225.6,2,226.4,2,1.31,2,0.29,2,0.2,2,2101.7,2,2382,2,-999,1,-999,9,-999,-999,9,-999,1
  740H20180228, A09.5,66,1,19,6692,2,20180319,1807,-22.0677,-11.1642,4393,176.4,17.9743,35.8824,2,35.9104,2,218.9,2,220,2,1.67,2,1.31,2,0.29,2,2102.1,2,2358.2,2,-999,9,-999,9,-999,-999,9,-999,1
  740H20180228, A09.5,66,1,18,1098,2,20180319,1807,-22.0677,-11.1642,4393,252,15.0336,35.3867,2,35.3806,2,206.9,2,207.8,2,2.74,2,6.47,2,0.59,2,2117.7,2,2329.5,2,-999,9,-999,9,-999,-999,9,-999,1
  740H20180228, A09.5,66,1,17,1122,2,20180319,1807,-22.0677,-11.1642,4393,378.3,11.3323,34.9599,2,34.9642,2,181.8,2,182.2,2,6.59,2,16.98,2,1.21,2,2156.3,2,2301.3,2,-999,9,-999,9,-999,-999,9,-999,1
  740H20180228, A09.5,66,1,16,6420,2,20180319,1807,-22.0677,-11.1642,4393,508,8.2457,34.6304,2,34.6308,2,162.2,2,162.9,2,13.99,2,26.39,2,1.79,2,2188.1,2,2294.8,2,-999,9,-999,9,-999,-999,9,-999,1
  740H20180228, A09.5,66,1,15,6419,2,20180319,1807,-22.0677,-11.1642,4393,619.1,6.3535,34.4773,2,34.4859,2,161,2,161.6,2,20.22,2,30.83,2,2.08,2,2202.1,6,2291.5,6,-999,9,-999,9,-999,-999,9,-999,1
  740H20180228, A09.5,66,1,14,6418,2,20180319,1807,-22.0677,-11.1642,4393,790.7,4.9015,34.4316,2,34.4329,2,163.3,2,163.9,2,29.8,2,33.5,2,2.27,2,2213.9,2,2295.3,2,-999,9,-999,9,-999,-999,9,-999,1
  740H20180228, A09.5,66,1,13,6417,2,20180319,1807,-22.0677,-11.1642,4393,886.6,4.2422,34.448,2,34.451,2,171.3,2,171.6,2,35.46,2,33.47,2,2.29,2,2215.2,2,2307,2,-999,9,-999,9,-999,-999,9,-999,1
  740H20180228, A09.5,66,1,12,6416,2,20180319,1807,-22.0677,-11.1642,4393,1013.2,3.9039,34.4861,2,34.487,2,179,2,173.4,2,38.7,2,32.64,2,2.25,2,2218.3,2,2306.3,2,-999,9,-999,9,-999,-999,9,-999,1
  740H20180228, A09.5,66,1,11,6415,2,20180319,1807,-22.0677,-11.1642,4393,1265,3.5376,34.6691,2,34.6703,2,192.1,2,192,2,41.06,2,29.6,2,2.03,2,2211.5,2,2321.8,2,-999,9,-999,9,-999,-999,9,-999,1
  740H20180228, A09.5,66,1,10,6414,2,20180319,1807,-22.0677,-11.1642,4393,1518.7,3.237,34.7855,2,34.7843,2,210.4,2,209.9,2,41.47,2,26.64,2,1.83,2,2205.9,6,2320.9,6,-999,9,-999,9,-999,-999,9,-999,1
  740H20180228, A09.5,66,1,9,6413,2,20180319,1807,-22.0677,-11.1642,4393,1772.4,3.3373,34.9033,2,34.9024,2,236,2,235.8,2,30.07,2,22.25,2,1.51,2,2182.1,2,2323.2,2,-999,9,-999,9,-999,-999,9,-999,1
  740H20180228, A09.5,66,1,8,6412,2,20180319,1807,-22.0677,-11.1642,4393,2026.9,3.0958,34.9236,2,34.9229,2,245.4,2,246.3,2,30.43,2,21.14,2,1.44,2,2179.6,2,2320,2,-999,9,-999,9,-999,-999,9,-999,1
  740H20180228, A09.5,66,1,7,6411,2,20180319,1807,-22.0677,-11.1642,4393,2280.6,2.9236,34.9173,2,34.9166,2,246.5,2,246.4,2,33.54,2,21.27,2,1.45,2,2181.5,2,2326.7,2,-999,9,-999,9,-999,-999,9,-999,1
  740H20180228, A09.5,66,1,6,6410,2,20180319,1807,-22.0677,-11.1642,4393,2535.4,2.7513,34.9057,2,34.9067,2,246.1,2,245.7,2,37.78,2,21.71,2,1.48,2,2186,2,2326.9,2,-999,9,-999,9,-999,-999,9,-999,1
  740H20180228, A09.5,66,1,5,6409,2,20180319,1807,-22.0677,-11.1642,4393,2790.1,2.6052,34.8918,2,34.8902,2,244.7,2,243.2,2,42.91,2,22.37,2,1.53,2,2189,6,2333.9,6,-999,9,-999,9,-999,-999,9,-999,1
  740H20180228, A09.5,66,1,4,6408,2,20180319,1807,-22.0677,-11.1642,4393,3301.3,2.4655,34.8784,2,34.8792,2,242.9,2,243.3,2,48.71,2,22.95,2,1.57,2,2197.6,2,2333.2,2,-999,9,-999,9,-999,-999,9,-999,1
  740H20180228, A09.5,66,1,3,6407,2,20180319,1807,-22.0677,-11.1642,4393,3813,2.3265,34.8653,2,34.8651,2,242.5,2,241,2,53.76,2,23.54,2,1.61,2,2199.1,2,2341.3,2,-999,9,-999,9,-999,-999,9,-999,1
  740H20180228, A09.5,66,1,2,6406,2,20180319,1807,-22.0677,-11.1642,4393,4326.9,2.2752,34.857,2,34.8573,2,241.3,2,241.9,2,56.91,2,23.96,2,1.64,2,2205.4,2,2338.2,2,-999,9,-999,9,-999,-999,9,-999,1
  740H20180228, A09.5,66,1,1,5977,2,20180319,1807,-22.0677,-11.1642,4393,4452.9,2.2871,34.8567,2,34.8564,2,241.4,2,242.7,2,56.57,2,24.09,2,1.63,2,2203.7,6,2341.7,6,-999,9,-999,9,-999,-999,9,-999,1
  740H20180228, A09.5,67,1,24,1086,2,20180320,58,-21.9501,-10.6002,4247,6.2,25.0942,36.6059,2,36.6053,2,208.5,2,209,2,1.22,2,0.23,2,0.19,2,2106.3,2,2402.9,2,-999,9,-999,9,-999,-999,9,-999,1
  740H20180228, A09.5,67,1,23,6427,2,20180320,58,-21.9501,-10.6002,4247,51.8,22.4039,36.2673,2,36.287,2,231.4,2,229.9,2,1.22,2,0.24,2,0.19,2,2095.1,2,2386.6,2,-999,9,-999,9,-999,-999,9,-999,1
  740H20180228, A09.5,67,1,22,6426,2,20180320,58,-21.9501,-10.6002,4247,81.5,20.5578,36.1823,2,36.1851,2,232.6,2,234,2,1.21,2,0.23,2,0.21,2,2097.9,2,2375.9,2,-999,9,-999,9,-999,-999,9,-999,1
  740H20180228, A09.5,67,1,21,6425,2,20180320,58,-21.9501,-10.6002,4247,102.1,20.0277,36.1467,2,36.1564,2,231.1,2,230.6,2,1.23,2,0.23,2,0.22,2,2095.1,2,2378.2,2,-999,9,-999,9,-999,-999,9,-999,1
  740H20180228, A09.5,67,1,20,6428,2,20180320,58,-21.9501,-10.6002,4247,131.9,19.474,36.0804,2,36.08,2,224.2,2,224.4,2,1.26,2,0.3,2,0.25,2,2101.9,6,2372.7,6,-999,9,-999,9,-999,-999,9,-999,1
  740H20180228, A09.5,67,1,19,6692,2,20180320,58,-21.9501,-10.6002,4247,176.6,16.9501,35.6656,2,35.6744,2,207.8,2,208.8,2,2.25,2,4.25,2,0.48,2,2115.4,2,2340,2,-999,9,-999,9,-999,-999,9,-999,1
  740H20180228, A09.5,67,1,18,1098,2,20180320,58,-21.9501,-10.6002,4247,252.7,13.7077,35.2133,2,35.2186,2,188.4,2,190.2,2,4.05,2,11.27,2,0.87,2,2136.5,2,2318.6,2,-999,9,-999,9,-999,-999,9,-999,1
  740H20180228, A09.5,67,1,17,1122,2,20180320,58,-21.9501,-10.6002,4247,322.9,12.3154,35.083,2,35.0816,2,169.1,2,168.1,2,6,2,16.92,2,1.19,2,2162.7,6,2308.4,6,-999,9,-999,9,-999,-999,9,-999,1
  740H20180228, A09.5,67,1,16,6420,2,20180320,58,-21.9501,-10.6002,4247,378.1,11.1215,34.9342,2,34.9329,2,183.1,2,182.4,2,7.06,2,17.8,2,1.26,2,2159.1,2,2301.8,2,-999,9,-999,9,-999,-999,9,-999,1
  740H20180228, A09.5,67,1,15,6419,2,20180320,58,-21.9501,-10.6002,4247,504.1,8.2966,34.625,2,34.622,2,171.9,2,-999,5,13.65,2,25.81,2,1.77,2,2182.4,2,2294.2,2,-999,9,-999,9,-999,-999,9,-999,1
  740H20180228, A09.5,67,1,14,6418,2,20180320,58,-21.9501,-10.6002,4247,630,5.8779,34.4343,2,34.4405,2,172.7,2,172.6,2,21.99,2,31.29,2,2.12,2,2200.5,2,2288.2,2,-999,9,-999,9,-999,-999,9,-999,1
  740H20180228, A09.5,67,1,13,6417,2,20180320,58,-21.9501,-10.6002,4247,755.8,4.8178,34.4143,2,34.4162,2,174.2,2,173,2,30.14,2,33.26,2,2.26,2,2210.2,2,2300.7,2,-999,9,-999,9,-999,-999,9,-999,1
  740H20180228, A09.5,67,1,12,6416,2,20180320,58,-21.9501,-10.6002,4247,882.3,4.1915,34.4513,2,34.4501,2,172,2,171.6,2,36.31,2,33.9,2,2.3,2,2218.7,2,2300.9,2,-999,9,-999,9,-999,-999,9,-999,1
  740H20180228, A09.5,67,1,11,6415,2,20180320,58,-21.9501,-10.6002,4247,1008.8,3.825,34.505,2,34.5039,2,179.8,2,179.3,2,39.88,2,32.85,2,2.25,2,2217.7,6,2308.8,6,-999,9,-999,9,-999,-999,9,-999,1
  740H20180228, A09.5,67,1,10,6414,2,20180320,58,-21.9501,-10.6002,4247,1261.5,3.5769,34.6696,2,34.6694,2,191.7,2,191.2,2,40.68,2,29.95,2,2.04,2,2216.2,2,2316.9,2,-999,9,-999,9,-999,-999,9,-999,1
  740H20180228, A09.5,67,1,9,6413,2,20180320,58,-21.9501,-10.6002,4247,1514.9,3.2127,34.783,2,34.7856,2,210.6,2,210.8,2,42.25,2,26.93,2,1.83,2,2207.7,2,2320.7,2,-999,9,-999,9,-999,-999,9,-999,1
  740H20180228, A09.5,67,1,8,6412,2,20180320,58,-21.9501,-10.6002,4247,1769,3.048,34.8368,2,34.8354,2,224,2,222.4,2,40.76,2,25.1,2,1.69,2,2201,2,2326.7,2,-999,9,-999,9,-999,-999,9,-999,1
  740H20180228, A09.5,67,1,7,6411,2,20180320,58,-21.9501,-10.6002,4247,2022.7,2.804,34.8685,2,34.8674,2,234.8,2,234.1,2,41.36,2,23.72,2,1.58,2,2194.5,2,2326.5,2,-999,9,-999,9,-999,-999,9,-999,1
  740H20180228, A09.5,67,1,6,6410,2,20180320,58,-21.9501,-10.6002,4247,2275.7,2.7068,34.8833,2,34.8846,2,240.1,2,239.3,2,41.21,2,22.99,2,1.54,2,2193.1,2,2330.5,2,-999,9,-999,9,-999,-999,9,-999,1
  740H20180228, A09.5,67,1,5,6409,2,20180320,58,-21.9501,-10.6002,4247,2529.9,2.554,34.8785,2,34.8776,2,240.9,2,240.4,2,44.85,2,23.19,2,1.54,2,2195.6,6,2332.5,6,-999,9,-999,9,-999,-999,9,-999,1
  740H20180228, A09.5,67,1,4,6408,2,20180320,58,-21.9501,-10.6002,4247,3040.4,2.4392,34.8756,2,34.8763,2,242,2,240.9,2,48.32,2,23.31,2,1.58,2,2197.9,2,2333.1,2,-999,9,-999,9,-999,-999,9,-999,1
  740H20180228, A09.5,67,1,3,6407,2,20180320,58,-21.9501,-10.6002,4247,3550.5,2.3904,34.8715,2,34.8703,2,241.8,2,241.2,2,51.05,2,23.56,2,1.6,2,2201.6,2,2338.6,2,-999,9,-999,9,-999,-999,9,-999,1
  740H20180228, A09.5,67,1,2,6406,2,20180320,58,-21.9501,-10.6002,4247,4068.7,2.2784,34.8597,2,34.8594,2,242,2,241.3,2,55.72,2,24.04,2,1.64,2,2204.3,2,2339,2,-999,9,-999,9,-999,-999,9,-999,1
  740H20180228, A09.5,67,1,1,5977,2,20180320,58,-21.9501,-10.6002,4247,4304.6,2.3007,34.8591,2,34.8598,2,241.6,2,241.8,2,56.04,2,24.09,2,1.64,2,2205.6,6,2340.4,6,-999,9,-999,9,-999,-999,9,-999,1
  740H20180228, A09.5,68,1,24,1086,2,20180320,727,-22.2062,-10.1012,4071,5.7,24.7919,36.5392,2,36.5382,2,210.3,2,211,2,1.18,2,0.28,2,0.2,2,2102.5,2,2399.4,2,-999,9,-999,9,-999,-999,9,-999,1
  740H20180228, A09.5,68,1,23,6427,2,20180320,727,-22.2062,-10.1012,4071,52.3,22.194,36.2332,2,36.2599,2,232.2,2,231.2,2,1.22,2,0.27,2,0.19,2,2101.1,2,2384.6,2,-999,9,-999,9,-999,-999,9,-999,1
  740H20180228, A09.5,68,1,22,6426,2,20180320,727,-22.2062,-10.1012,4071,75.6,20.9172,36.205,2,36.2014,2,235.9,2,236.2,2,1.27,2,0.27,2,0.19,2,2099.5,2,2378.1,2,-999,9,-999,9,-999,-999,9,-999,1
  740H20180228, A09.5,68,1,21,6425,2,20180320,727,-22.2062,-10.1012,4071,101.7,20.047,36.149,2,36.1506,2,233.2,2,233.5,2,1.27,2,0.26,2,0.2,2,2093.1,2,2375.1,2,-999,9,-999,9,-999,-999,9,-999,1
  740H20180228, A09.5,68,1,20,6428,2,20180320,727,-22.2062,-10.1012,4071,139.7,19.1298,36.0357,2,36.036,2,223.7,2,225,2,1.55,2,0.32,2,0.23,2,2104.1,6,2368.7,6,-999,9,-999,9,-999,-999,9,-999,1
  740H20180228, A09.5,68,1,19,6692,2,20180320,727,-22.2062,-10.1012,4071,176.3,17.188,35.701,2,35.6663,2,212.2,2,213.5,2,2.21,2,3.52,2,0.42,2,2113.7,2,2342.7,2,-999,9,-999,9,-999,-999,9,-999,1
  740H20180228, A09.5,68,1,18,1098,2,20180320,727,-22.2062,-10.1012,4071,252.3,14.0789,35.2559,2,35.2608,2,192.9,2,194.1,2,3.69,2,10.09,2,0.78,2,2132.7,2,2317.2,2,-999,9,-999,9,-999,-999,9,-999,1
  740H20180228, A09.5,68,1,17,1122,2,20180320,727,-22.2062,-10.1012,4071,353.5,11.2016,34.9532,2,34.9553,2,169.3,2,169.2,2,7.32,2,18.97,2,1.31,2,2174,2,2302.8,2,-999,9,-999,9,-999,-999,9,-999,1
  740H20180228, A09.5,68,1,16,6420,2,20180320,727,-22.2062,-10.1012,4071,454.3,9.0188,34.704,2,34.7057,2,165.1,2,165.2,2,11.92,2,24.34,2,1.65,2,2180.8,2,2290.6,2,-999,9,-999,9,-999,-999,9,-999,1
  740H20180228, A09.5,68,1,15,6419,2,20180320,727,-22.2062,-10.1012,4071,545.3,7.494,34.5631,2,34.5623,2,158.7,2,159.3,2,16.52,2,28.86,2,1.93,2,2198.6,6,2290.6,6,-999,9,-999,9,-999,-999,9,-999,1
  740H20180228, A09.5,68,1,14,6418,2,20180320,727,-22.2062,-10.1012,4071,631.2,6.1019,34.4615,2,34.4587,2,163.5,2,163.8,2,21.83,2,31.55,2,2.11,2,2209.6,2,2292.4,2,-999,9,-999,9,-999,-999,9,-999,1
  740H20180228, A09.5,68,1,13,6417,2,20180320,727,-22.2062,-10.1012,4071,757.3,4.852,34.4187,2,34.4215,2,170,2,169.7,2,30.13,2,33.29,2,2.25,2,2211.1,2,-999,9,-999,9,-999,9,-999,-999,9,-999,1
  740H20180228, A09.5,68,1,12,6416,2,20180320,727,-22.2062,-10.1012,4071,883.8,4.0653,34.4415,2,34.4435,2,177.4,2,177.2,2,37.9,2,33.36,2,2.27,2,2222,2,2305.8,2,-999,9,-999,9,-999,-999,9,-999,1
  740H20180228, A09.5,68,1,11,6415,2,20180320,727,-22.2062,-10.1012,4071,1010.4,3.8117,34.5238,2,34.5278,2,178.1,2,177.5,2,39.5,2,32.73,2,2.24,2,2219.1,2,-999,9,-999,9,-999,9,-999,-999,9,-999,1
  740H20180228, A09.5,68,1,10,6414,2,20180320,727,-22.2062,-10.1012,4071,1262.8,3.6421,34.6519,2,34.6511,2,189.4,2,189.3,2,39.23,2,30.36,2,2.07,2,2217.3,6,2317,6,-999,9,-999,9,-999,-999,9,-999,1
  740H20180228, A09.5,68,1,9,6413,2,20180320,727,-22.2062,-10.1012,4071,1516.4,3.3249,34.7645,2,34.7654,2,206.5,2,206.2,2,41.1,2,27.56,2,1.87,2,2205.4,2,-999,9,-999,9,-999,9,-999,-999,9,-999,1
  740H20180228, A09.5,68,1,8,6412,2,20180320,727,-22.2062,-10.1012,4071,1769.7,3.0972,34.8449,2,34.8444,2,225.5,2,225.9,2,39.09,2,24.73,2,1.68,2,2200.5,2,2326.7,2,-999,9,-999,9,-999,-999,9,-999,1
  740H20180228, A09.5,68,1,7,6411,2,20180320,727,-22.2062,-10.1012,4071,2022.2,2.8264,34.8676,2,34.8665,2,234.1,2,233.9,2,41.2,2,23.8,2,1.63,2,2195.4,2,-999,9,-999,9,-999,9,-999,-999,9,-999,1
  740H20180228, A09.5,68,1,6,6410,2,20180320,727,-22.2062,-10.1012,4071,2277.1,2.6894,34.8764,2,34.8744,2,238.4,2,238.2,2,42.77,2,23.41,2,1.59,2,2196.7,2,2330.4,2,-999,9,-999,9,-999,-999,9,-999,1
  740H20180228, A09.5,68,1,5,6409,2,20180320,727,-22.2062,-10.1012,4071,2529.2,2.5786,34.8793,2,34.8772,2,241.1,2,240.8,2,44.71,2,23.29,2,1.58,2,2193.9,6,-999,9,-999,9,-999,9,-999,-999,9,-999,1
  740H20180228, A09.5,68,1,4,6408,2,20180320,727,-22.2062,-10.1012,4071,2785.1,2.5085,34.88,2,34.8799,2,242.7,2,242.2,2,46.43,2,23.23,2,1.58,2,2198.3,2,2336,2,-999,9,-999,9,-999,-999,9,-999,1
  740H20180228, A09.5,68,1,3,6407,2,20180320,727,-22.2062,-10.1012,4071,3295,2.4077,34.8738,2,34.874,2,241.8,2,241.3,2,50.48,2,23.59,2,1.61,2,2200.2,2,2336.7,2,-999,9,-999,9,-999,-999,9,-999,1
  740H20180228, A09.5,68,1,2,6406,2,20180320,727,-22.2062,-10.1012,4071,3807.5,2.3763,34.8722,2,34.8718,2,240.2,2,240.4,3,52.82,2,23.76,2,1.61,2,2205.4,2,2343.5,2,-999,9,-999,9,-999,-999,9,-999,1
  740H20180228, A09.5,68,1,1,5977,2,20180320,727,-22.2062,-10.1012,4071,4125.9,2.4042,34.8777,2,34.8788,2,237.6,2,238,2,52.93,2,23.71,2,1.59,2,2208.4,6,2347.4,6,-999,9,-999,9,-999,-999,9,-999,1