BOTTLE,20190321PRINUNIVRMK,,,,,,,,,,,,,,,,,,,,,,,,,,,,,,,,,,,,,,,
EXPOCODE,SECT_ID,STNNBR,CASTNO,SAMPNO,BTLNBR,BTLNBR_FLAG_W,DATE,TIME,LATITUDE,LONGITUDE,DEPTH,CTDPRS,CTDTMP,CTDSAL,CTDSAL_FLAG_W,SALNTY,SALNTY_FLAG_W,CTDOXY,CTDOXY_FLAG_W,OXYGEN,OXYGEN_FLAG_W,SILCAT,SILCAT_FLAG_W,NITRAT,NITRAT_FLAG_W,PHSPHT,PHSPHT_FLAG_W,TCARBN,TCARBN_FLAG_W,ALKALI,ALKALI_FLAG_W,CHLORA,CHLORA_FLAG_W,DELC14,DELC14_FLAG_W,C14ERR,DELC13,DELC13_FLAG_W,DELO18,DELO18_FLAG_W
,,,,,,,,,,,METERS,DBAR,ITS-90,PSS-78,,PSS-78,,UMOL/KG,,UMOL/KG,,UMOL/KG,,UMOL/KG,,UMOL/KG,,UMOL/KG,,UMOL/KG,,UG/KG,,/MILLE,,/MILLE,/MILLE,,/MILLE,
  740H20180228, A09.5,6,1,23,6427,2,20180302,756,-23.2354,-40.9238,1084,14.5,26.5589,36.8198,2,36.821,2,205.2,2,203.1,2,1.19,2,0.18,2,0.1,2,2080,2,2406,2,-999,9,-999,9,-999,-999,9,-999,1
  740H20180228, A09.5,6,1,24,1086,2,20180302,756,-23.2354,-40.9238,1084,14.6,26.5736,36.8189,2,-999,9,204.6,2,-999,9,1.16,2,0.13,2,0.1,2,-999,9,-999,9,-999,9,-999,9,-999,-999,9,-999,9
  740H20180228, A09.5,6,1,21,6425,2,20180302,756,-23.2354,-40.9238,1084,44.5,23.8145,37.0904,2,37.0935,2,216,2,215.3,2,0.51,2,0,2,0.08,2,2103.2,2,2433.1,2,-999,9,-999,9,-999,-999,9,-999,1
  740H20180228, A09.5,6,1,22,6426,2,20180302,756,-23.2354,-40.9238,1084,44.7,23.9171,37.1,2,-999,9,217.4,2,-999,9,0.57,2,0,2,0.08,2,-999,9,-999,9,-999,9,-999,9,-999,-999,9,-999,9
  740H20180228, A09.5,6,1,19,1098,2,20180302,756,-23.2354,-40.9238,1084,85,19.776,36.4018,2,36.4631,2,205.1,2,204.5,2,0.86,2,1.67,2,0.19,2,2109.2,2,2389.1,2,-999,9,-999,9,-999,-999,9,-999,1
  740H20180228, A09.5,6,1,20,6428,2,20180302,756,-23.2354,-40.9238,1084,85,20.2419,36.4924,2,-999,9,205.3,2,-999,9,0.5,2,0,2,0.08,2,-999,9,-999,9,-999,9,-999,9,-999,-999,9,-999,9
  740H20180228, A09.5,6,1,17,1122,2,20180302,756,-23.2354,-40.9238,1084,114.9,17.2728,35.8778,2,35.8856,2,201.1,2,200.9,2,1.33,2,3.42,2,0.34,2,2110.5,2,2353.8,2,-999,9,-999,9,-999,-999,9,-999,1
  740H20180228, A09.5,6,1,18,6692,2,20180302,756,-23.2354,-40.9238,1084,115.3,17.3112,35.8885,2,-999,9,202.5,2,-999,9,1.29,2,3.36,2,0.34,2,-999,9,-999,9,-999,9,-999,9,-999,-999,9,-999,9
  740H20180228, A09.5,6,1,15,6419,2,20180302,756,-23.2354,-40.9238,1084,205.8,14.1043,35.3689,2,-999,9,204.2,2,-999,9,-999,9,-999,9,-999,9,-999,9,-999,9,-999,9,-999,9,-999,-999,9,-999,9
  740H20180228, A09.5,6,1,16,6420,2,20180302,756,-23.2354,-40.9238,1084,206.1,14.2063,35.379,2,35.3825,2,204.4,2,224.9,3,2.53,2,8.18,2,0.62,2,2122.8,2,2329.1,2,-999,9,-999,9,-999,-999,9,-999,1
  740H20180228, A09.5,6,1,14,6418,2,20180302,756,-23.2354,-40.9238,1084,286.5,12.8585,35.1937,2,-999,9,203.2,2,-999,9,3.68,2,11.32,2,0.81,2,-999,9,-999,9,-999,9,-999,9,-999,-999,9,-999,9
  740H20180228, A09.5,6,1,13,6417,2,20180302,756,-23.2354,-40.9238,1084,286.7,12.8569,35.1936,2,35.1945,2,203.2,2,201.8,2,3.98,2,11.34,2,0.81,2,2129.9,2,2320,2,-999,9,-999,9,-999,-999,9,-999,1
  740H20180228, A09.5,6,1,11,6415,2,20180302,756,-23.2354,-40.9238,1084,458,10.868,34.9251,2,34.9222,2,198.8,2,196.3,2,6.38,2,16.62,2,1.14,2,2145.3,2,2310,2,-999,9,-999,9,-999,-999,9,-999,1
  740H20180228, A09.5,6,1,12,6416,2,20180302,756,-23.2354,-40.9238,1084,458,10.8966,34.9289,2,-999,9,198.4,2,-999,9,6.37,2,16.46,2,1.13,2,-999,9,-999,9,-999,9,-999,9,-999,-999,9,-999,9
  740H20180228, A09.5,6,1,9,6413,2,20180302,756,-23.2354,-40.9238,1084,497.5,9.5546,34.7644,2,34.7641,2,195.7,2,193.3,2,8.72,2,20.1,2,1.37,2,2154,2,2305,2,-999,9,-999,9,-999,-999,9,-999,1
  740H20180228, A09.5,6,1,10,6414,2,20180302,756,-23.2354,-40.9238,1084,497.8,9.5634,34.7655,2,-999,9,195.1,2,-999,9,8.68,2,20.04,2,1.35,2,-999,9,-999,9,-999,9,-999,9,-999,-999,9,-999,9
  740H20180228, A09.5,6,1,8,6412,2,20180302,756,-23.2354,-40.9238,1084,688.8,6.1295,34.4166,2,-999,9,207.7,2,-999,9,17.3,2,27.29,2,1.84,2,-999,9,-999,9,-999,9,-999,9,-999,-999,9,-999,9
  740H20180228, A09.5,6,1,7,6411,2,20180302,756,-23.2354,-40.9238,1084,689.2,6.1304,34.4166,2,34.4164,2,207.8,2,205.1,2,17.38,2,27.33,2,1.85,2,2170.5,2,2304,2,-999,9,-999,9,-999,-999,9,-999,1
  740H20180228, A09.5,6,1,6,6410,2,20180302,756,-23.2354,-40.9238,1084,809.9,5.4778,34.376,2,34.3757,2,208.1,2,204.4,2,20.85,2,28.81,2,1.93,2,2178.4,2,2300.5,2,-999,9,-999,9,-999,-999,9,-999,1
  740H20180228, A09.5,6,1,5,6409,3,20180302,756,-23.2354,-40.9238,1084,810.2,5.4764,34.3758,2,-999,9,207.5,2,-999,9,-999,9,-999,9,-999,9,-999,9,-999,9,-999,9,-999,9,-999,-999,9,-999,9
  740H20180228, A09.5,6,1,4,6408,2,20180302,756,-23.2354,-40.9238,1084,991.1,4.2048,34.3613,2,-999,9,202.7,2,-999,9,33.21,2,31.8,2,2.15,2,-999,9,-999,9,-999,9,-999,9,-999,-999,9,-999,9
  740H20180228, A09.5,6,1,3,6407,2,20180302,756,-23.2354,-40.9238,1084,991.4,4.1994,34.3615,2,34.3633,2,203,2,200.8,2,33.13,2,31.93,2,2.15,2,-999,9,-999,9,-999,9,-999,9,-999,-999,9,-999,1
  740H20180228, A09.5,6,1,1,5977,2,20180302,756,-23.2354,-40.9238,1084,1081.9,3.6777,34.4271,2,34.4267,2,193.5,2,185.9,4,41.34,2,32.94,2,2.21,2,2209.8,2,2314.3,6,-999,9,-999,9,-999,-999,9,-999,1
  740H20180228, A09.5,6,1,2,6406,2,20180302,756,-23.2354,-40.9238,1084,1082.4,3.6774,34.4272,2,-999,9,193.6,2,-999,9,41.39,2,32.96,2,2.22,2,-999,9,-999,9,-999,9,-999,9,-999,-999,9,-999,1
  740H20180228, A09.5,7,1,24,1086,2,20180302,1126,-23.2965,-40.8511,1577,9.7,27.3256,36.9006,2,-999,9,202.7,2,-999,9,0.82,2,0,2,0.05,2,-999,9,-999,9,-999,9,-999,9,-999,-999,9,-999,9
  740H20180228, A09.5,7,1,23,6427,2,20180302,1126,-23.2965,-40.8511,1577,9.8,27.3253,36.9014,2,36.9019,2,202.9,2,201.3,2,0.82,2,0,2,0.06,2,2074.9,2,2411.2,2,-999,9,-999,5,-999,-999,5,-999,1
  740H20180228, A09.5,7,1,21,6425,2,20180302,1126,-23.2965,-40.8511,1577,59.9,23.2075,37.0511,2,-999,9,219.8,2,-999,9,0.39,2,0,2,0.06,2,-999,9,-999,9,-999,9,-999,9,-999,-999,9,-999,9
  740H20180228, A09.5,7,1,22,6426,2,20180302,1126,-23.2965,-40.8511,1577,59.9,23.2072,37.0517,2,37.0488,2,219.7,2,219.1,2,0.41,2,0,2,0.05,2,2101.8,6,2427.4,6,-999,9,-999,1,-999,-999,1,-999,1
  740H20180228, A09.5,7,1,19,1098,2,20180302,1126,-23.2965,-40.8511,1577,85.3,21.9905,36.8783,2,36.8853,2,213.9,2,212.7,2,0.41,2,0.05,2,0.09,2,2109.1,6,2418.9,6,-999,9,-999,1,-999,-999,1,-999,1
  740H20180228, A09.5,7,1,20,6428,2,20180302,1126,-23.2965,-40.8511,1577,85.3,21.9946,36.8789,2,-999,9,215.2,2,-999,9,0.41,2,0.05,2,0.12,2,-999,9,-999,9,-999,9,-999,9,-999,-999,9,-999,9
  740H20180228, A09.5,7,1,18,6692,2,20180302,1126,-23.2965,-40.8511,1577,205.4,15.2682,35.5414,2,-999,9,197.9,2,-999,9,2.46,2,6.82,2,0.57,2,-999,9,-999,9,-999,9,-999,9,-999,-999,9,-999,9
  740H20180228, A09.5,7,1,17,1122,2,20180302,1126,-23.2965,-40.8511,1577,205.9,15.3678,35.5559,2,35.5383,2,197.9,2,197.3,2,2.5,2,6.95,2,0.59,2,2124.7,2,2333.8,2,-999,9,-999,1,-999,-999,1,-999,1
  740H20180228, A09.5,7,1,16,6420,2,20180302,1126,-23.2965,-40.8511,1577,255.6,14.39,35.4093,2,35.4042,2,206,2,204.8,2,2.33,2,7.67,2,0.61,2,2120.1,2,2338.2,2,-999,9,-999,1,-999,-999,1,-999,1
  740H20180228, A09.5,7,1,15,6419,2,20180302,1126,-23.2965,-40.8511,1577,256,14.3598,35.4053,2,-999,9,205.8,2,-999,9,2.36,2,7.71,2,0.62,2,-999,9,-999,9,-999,9,-999,9,-999,-999,9,-999,9
  740H20180228, A09.5,7,1,14,6418,2,20180302,1126,-23.2965,-40.8511,1577,346.5,13.2064,35.2408,2,35.2366,2,205.3,2,203.9,2,3.21,2,10.41,2,0.79,2,2129.8,2,2319.2,2,-999,9,-999,1,-999,-999,1,-999,1
  740H20180228, A09.5,7,1,13,6417,2,20180302,1126,-23.2965,-40.8511,1577,346.8,13.2123,35.2407,2,-999,9,205.5,2,-999,9,3.24,2,10.54,2,0.8,2,-999,9,-999,9,-999,9,-999,1,-999,-999,1,-999,9
  740H20180228, A09.5,7,1,12,6416,2,20180302,1126,-23.2965,-40.8511,1577,507,9.7393,34.7844,2,-999,9,193.5,2,-999,9,8.28,2,19.86,2,1.36,2,-999,9,-999,9,-999,9,-999,9,-999,-999,9,-999,9
  740H20180228, A09.5,7,1,11,6415,2,20180302,1126,-23.2965,-40.8511,1577,507.7,9.7002,34.7795,2,34.7783,2,194.1,2,192.7,2,8.36,2,19.93,2,1.35,2,2154.9,2,2306.2,2,-999,9,-999,1,-999,-999,1,-999,1
  740H20180228, A09.5,7,1,10,6414,2,20180302,1126,-23.2965,-40.8511,1577,633.8,7.4485,34.5269,2,34.5171,2,205.6,2,203.4,2,12.88,2,24.64,2,1.65,2,2166.8,2,2291.7,2,-999,9,-999,1,-999,-999,1,-999,1
  740H20180228, A09.5,7,1,8,6412,2,20180302,1126,-23.2965,-40.8511,1577,739.4,5.8738,34.3952,2,34.3933,2,207.8,2,206.5,2,18.5,2,28.06,2,1.87,2,2176.7,2,2311.5,2,-999,9,-999,1,-999,-999,1,-999,1
  740H20180228, A09.5,7,1,9,6413,3,20180302,1126,-23.2965,-40.8511,1577,740.1,5.9065,34.3965,2,-999,9,208,2,-999,9,18.38,4,27.96,4,1.87,4,-999,9,-999,9,-999,9,-999,9,-999,-999,9,-999,9
  740H20180228, A09.5,7,1,7,6411,2,20180302,1126,-23.2965,-40.8511,1577,860.5,4.5838,34.3367,2,-999,9,210,2,-999,9,26.67,2,30.52,2,2.03,2,-999,9,-999,3,-999,9,-999,9,-999,-999,9,-999,1
  740H20180228, A09.5,7,1,6,6410,2,20180302,1126,-23.2965,-40.8511,1577,860.7,4.5818,34.3366,2,34.3375,2,210.6,2,206.9,2,26.68,2,30.51,2,2.04,2,2191.6,2,-999,3,-999,9,-999,1,-999,-999,1,-999,1
  740H20180228, A09.5,7,1,5,6409,2,20180302,1126,-23.2965,-40.8511,1577,1012.6,3.8949,34.3931,2,34.3934,2,195.9,2,192.8,2,37.27,2,32.45,2,2.18,2,2204.8,2,-999,9,-999,9,-999,1,-999,-999,1,-999,9
  740H20180228, A09.5,7,1,3,6407,2,20180302,1126,-23.2965,-40.8511,1577,1264.3,3.5268,34.5491,2,34.5462,2,189.5,2,187.2,2,43.64,2,31.9,2,2.15,2,2216.2,2,-999,3,-999,9,-999,1,-999,-999,1,-999,1
  740H20180228, A09.5,7,1,4,6408,2,20180302,1126,-23.2965,-40.8511,1577,1264.5,3.5268,34.548,2,-999,9,189.4,2,-999,9,43.56,2,31.87,2,2.14,2,-999,9,-999,9,-999,9,-999,9,-999,-999,9,-999,1
  740H20180228, A09.5,7,1,1,5977,2,20180302,1126,-23.2965,-40.8511,1577,1586,3.816,34.7898,2,34.7902,2,207.2,2,203.8,2,32.7,2,26.85,2,1.79,2,2199.4,2,-999,9,-999,9,-999,1,-999,-999,1,-999,1
  740H20180228, A09.5,7,1,2,6406,2,20180302,1126,-23.2965,-40.8511,1577,1586,3.8159,34.7897,2,-999,9,207.2,2,-999,9,32.71,2,26.82,2,1.79,2,-999,9,-999,3,-999,9,-999,9,-999,-999,9,-999,1
  740H20180228, A09.5,8,1,24,1086,2,20180302,1545,-23.3478,-40.7819,1993,6.5,27.5514,36.9379,2,36.9413,2,202.6,2,-999,9,0.82,2,0,2,0.05,2,2077.6,2,2412.8,2,-999,9,-999,9,-999,-999,9,-999,1
  740H20180228, A09.5,8,1,23,6427,2,20180302,1545,-23.3478,-40.7819,1993,6.7,27.5426,36.9393,2,36.9388,2,202,2,205,2,0.83,2,0,2,0.05,2,-999,9,-999,9,-999,9,-999,9,-999,-999,9,-999,1
  740H20180228, A09.5,8,1,21,6425,2,20180302,1545,-23.3478,-40.7819,1993,62,23.6608,37.0557,2,37.0624,2,222.7,2,223.4,2,0.41,2,0,2,0.03,2,2098.8,2,2427,2,-999,9,-999,9,-999,-999,9,-999,1
  740H20180228, A09.5,8,1,22,6426,4,20180302,1545,-23.3478,-40.7819,1993,62.8,23.7288,37.0535,2,-999,9,222.8,2,-999,9,-999,9,-999,9,-999,9,-999,9,-999,9,-999,9,-999,9,-999,-999,9,-999,9
  740H20180228, A09.5,8,1,20,6428,2,20180302,1545,-23.3478,-40.7819,1993,87.5,22.2285,36.9425,2,36.9468,2,213.9,2,-999,9,0.46,2,0.04,2,0.09,2,2111.3,6,2422,6,-999,9,-999,9,-999,-999,9,-999,9
  740H20180228, A09.5,8,1,19,1098,2,20180302,1545,-23.3478,-40.7819,1993,87.8,22.2502,36.9439,2,36.9443,2,213.5,2,213.4,2,-999,9,-999,9,-999,9,-999,9,-999,9,-999,9,-999,9,-999,-999,9,-999,1
  740H20180228, A09.5,8,1,18,6692,2,20180302,1545,-23.3478,-40.7819,1993,207.6,16.2261,35.6692,2,35.6595,2,206.2,2,208.1,2,1.84,2,4.53,2,0.42,2,2110.6,2,2340.4,2,-999,9,-999,9,-999,-999,9,-999,1
  740H20180228, A09.5,8,1,17,1122,2,20180302,1545,-23.3478,-40.7819,1993,258.4,14.8404,35.4676,2,35.4673,2,203.7,2,204.6,2,2.28,2,6.98,2,0.57,2,-999,9,-999,9,-999,9,-999,9,-999,-999,9,-999,1
  740H20180228, A09.5,8,1,15,6419,2,20180302,1545,-23.3478,-40.7819,1993,348.9,13.3297,35.2571,2,35.2604,2,205.4,2,205.7,2,3.08,2,10.02,2,0.74,2,-999,9,-999,9,-999,9,-999,9,-999,-999,9,-999,1
  740H20180228, A09.5,8,1,16,6420,2,20180302,1545,-23.3478,-40.7819,1993,349,13.3778,35.2661,2,35.2563,2,206.1,2,-999,9,3.05,2,10.03,2,0.74,2,2128.2,2,2321.1,2,-999,9,-999,9,-999,-999,9,-999,9
  740H20180228, A09.5,8,1,14,6418,2,20180302,1545,-23.3478,-40.7819,1993,510.5,9.9504,34.8084,2,34.7992,2,202.3,2,-999,9,7.32,2,18.54,2,1.26,2,2149.3,2,2298.2,2,-999,9,-999,9,-999,-999,9,-999,9
  740H20180228, A09.5,8,1,13,6417,2,20180302,1545,-23.3478,-40.7819,1993,510.6,9.9425,34.805,2,34.7976,2,201.9,2,202.2,2,7.32,2,18.67,2,1.28,2,-999,9,-999,9,-999,9,-999,9,-999,-999,9,-999,1
  740H20180228, A09.5,8,1,12,6416,2,20180302,1545,-23.3478,-40.7819,1993,636.1,7.3759,34.5204,2,34.5103,2,205.9,2,206.4,2,12.68,2,24.66,2,1.64,2,2167.7,2,2291.6,2,-999,9,-999,9,-999,-999,9,-999,1
  740H20180228, A09.5,8,1,11,6415,2,20180302,1545,-23.3478,-40.7819,1993,742.4,5.6771,34.3758,2,34.3741,2,211.5,2,211.3,2,18.92,2,28.24,2,1.88,2,2176.2,2,2290,2,-999,9,-999,9,-999,-999,9,-999,1
  740H20180228, A09.5,8,1,10,6414,2,20180302,1545,-23.3478,-40.7819,1993,863.6,4.5598,34.3513,2,34.3525,2,204.6,2,204,2,28.17,2,30.98,2,2.07,2,2190.3,2,2303,2,-999,9,-999,9,-999,-999,9,-999,1
  740H20180228, A09.5,8,1,8,6412,2,20180302,1545,-23.3478,-40.7819,1993,1015.1,3.8462,34.3997,2,34.4045,2,194.9,2,194.5,2,38.48,2,32.48,2,2.2,2,2208.4,2,2312.7,2,-999,9,-999,9,-999,-999,9,-999,1
  740H20180228, A09.5,8,1,9,6413,2,20180302,1545,-23.3478,-40.7819,1993,1015.1,3.8456,34.3999,2,34.4022,2,195.1,2,-999,9,38.37,2,32.48,2,2.2,2,-999,9,-999,9,-999,9,-999,9,-999,-999,9,-999,9
  740H20180228, A09.5,8,1,7,6411,2,20180302,1545,-23.3478,-40.7819,1993,1268.1,3.5316,34.5838,2,34.5843,2,190.1,2,189.1,2,43.16,2,31.31,2,2.11,2,2217,2,-999,3,-999,9,-999,9,-999,-999,9,-999,1
  740H20180228, A09.5,8,1,6,6410,2,20180302,1545,-23.3478,-40.7819,1993,1521.6,3.8646,34.7852,2,34.7858,2,204.5,2,-999,9,32.45,2,27.08,2,1.82,2,-999,9,-999,9,-999,9,-999,9,-999,-999,9,-999,9
  740H20180228, A09.5,8,1,5,6409,2,20180302,1545,-23.3478,-40.7819,1993,1522.3,3.8684,34.7864,2,34.7859,2,205.1,2,203.1,2,32.62,2,27.13,2,1.83,2,2198.1,2,2325,2,-999,9,-999,9,-999,-999,9,-999,1
  740H20180228, A09.5,8,1,3,6407,2,20180302,1545,-23.3478,-40.7819,1993,1775.6,3.9852,34.9267,2,34.9244,2,231.9,2,228.8,2,22.33,2,22.51,2,1.48,2,2176.3,2,2332.9,2,-999,9,-999,9,-999,-999,9,-999,1
  740H20180228, A09.5,8,1,4,6408,2,20180302,1545,-23.3478,-40.7819,1993,1776.2,3.986,34.9259,2,34.9262,2,231.2,2,-999,9,22.22,2,22.44,2,1.49,2,-999,9,-999,9,-999,9,-999,9,-999,-999,9,-999,9
  740H20180228, A09.5,8,1,1,5977,2,20180302,1545,-23.3478,-40.7819,1993,2004.1,3.5773,34.9528,2,34.9519,2,249.4,2,247.6,2,21.78,2,20.54,2,1.35,2,2171.2,6,-999,3,-999,9,-999,9,-999,-999,9,-999,1
  740H20180228, A09.5,8,1,2,6406,2,20180302,1545,-23.3478,-40.7819,1993,2004.5,3.5769,34.9529,2,34.9518,2,250.1,2,-999,9,21.84,2,20.52,2,1.35,2,-999,9,-999,3,-999,9,-999,9,-999,-999,9,-999,9
  740H20180228, A09.5,9,1,24,1086,2,20180302,1955,-23.4703,-40.6094,2522,11.7,27.6278,37.1024,2,37.1008,2,201.4,2,-999,9,0.5,2,0,2,0.04,2,-999,9,-999,9,-999,9,-999,9,-999,-999,9,-999,9
  740H20180228, A09.5,9,1,23,6427,2,20180302,1955,-23.4703,-40.6094,2522,12.1,27.622,37.1026,2,37.1008,2,200.8,2,210.9,4,-999,9,-999,9,-999,9,2082.1,2,2427.5,2,-999,1,-999,9,-999,-999,9,-999,1
  740H20180228, A09.5,9,1,22,6426,4,20180302,1955,-23.4703,-40.6094,2522,42,26.5739,37.1005,2,-999,9,210.1,2,-999,9,-999,9,-999,9,-999,9,-999,9,-999,9,-999,9,-999,9,-999,-999,9,-999,9
  740H20180228, A09.5,9,1,21,6425,2,20180302,1955,-23.4703,-40.6094,2522,42.4,26.5474,37.101,2,37.1014,2,210.5,2,217.7,4,0.38,2,0,2,0.03,2,2085.3,2,2428.2,2,-999,1,-999,9,-999,-999,9,-999,1
  740H20180228, A09.5,9,1,20,6428,2,20180302,1955,-23.4703,-40.6094,2522,77.2,22.7891,37.0002,2,37.0004,2,221.3,2,224.4,4,0.35,2,0,2,0.04,2,2101.6,2,2423,2,-999,1,-999,9,-999,-999,9,-999,1
  740H20180228, A09.5,9,1,19,1098,2,20180302,1955,-23.4703,-40.6094,2522,117.5,22.1381,36.9237,2,36.9264,2,212.6,2,216.6,4,0.35,2,0,2,0.06,2,2108.6,2,2420.8,2,-999,1,-999,9,-999,-999,9,-999,1
  740H20180228, A09.5,9,1,18,6692,2,20180302,1955,-23.4703,-40.6094,2522,208.1,17.2382,35.8414,2,35.8485,2,207.2,2,209.2,4,1.35,2,2.9,2,0.31,2,2108.9,2,2352.9,2,-999,9,-999,9,-999,-999,9,-999,1
  740H20180228, A09.5,9,1,17,1122,2,20180302,1955,-23.4703,-40.6094,2522,258.4,16.0277,35.6175,2,35.6172,2,210.3,2,213.5,4,1.86,2,4.41,2,0.41,2,2108.3,2,2335.3,2,-999,9,-999,9,-999,-999,9,-999,1
  740H20180228, A09.5,9,1,16,6420,2,20180302,1955,-23.4703,-40.6094,2522,293.7,15.5266,35.5912,2,35.5902,2,195.9,2,199.5,4,2.69,2,6.83,2,0.56,2,2127.2,2,2336.6,2,-999,9,-999,9,-999,-999,9,-999,1
  740H20180228, A09.5,9,1,15,6419,2,20180302,1955,-23.4703,-40.6094,2522,348.8,14.0058,35.3332,2,35.3366,2,202.1,2,205.7,4,2.86,2,8.93,2,0.68,2,2127.6,2,2323.8,2,-999,9,-999,9,-999,-999,9,-999,1
  740H20180228, A09.5,9,1,14,6418,2,20180302,1955,-23.4703,-40.6094,2522,510.7,10.8087,34.9116,2,34.9077,2,199.4,2,198.7,4,6.28,2,16.68,2,1.14,2,-999,9,-999,9,-999,9,-999,9,-999,-999,9,-999,1
  740H20180228, A09.5,9,1,13,6417,2,20180302,1955,-23.4703,-40.6094,2522,636.5,7.6015,34.5438,2,34.5405,2,203.1,2,-999,9,12.52,2,24.28,2,1.63,2,-999,9,-999,9,-999,9,-999,9,-999,-999,9,-999,9
  740H20180228, A09.5,9,1,12,6416,2,20180302,1955,-23.4703,-40.6094,2522,637.1,7.5998,34.5437,2,34.5378,2,202.6,2,205.3,4,12.6,2,24.33,2,1.64,2,2169.6,2,2291.9,2,-999,9,-999,9,-999,-999,9,-999,1
  740H20180228, A09.5,9,1,11,6415,2,20180302,1955,-23.4703,-40.6094,2522,743,5.8161,34.3872,2,34.384,2,209.7,2,213.8,4,18.73,2,28.09,2,1.89,2,2179.4,2,-999,9,-999,9,-999,9,-999,-999,9,-999,1
  740H20180228, A09.5,9,1,9,6413,2,20180302,1955,-23.4703,-40.6094,2522,864.2,4.5657,34.3464,2,34.344,2,207.5,2,209.9,4,28.3,2,30.96,2,2.08,2,2192,2,2305.6,2,-999,9,-999,9,-999,-999,9,-999,1
  740H20180228, A09.5,9,1,10,6414,2,20180302,1955,-23.4703,-40.6094,2522,864.3,4.5359,34.3437,2,34.3431,2,207.3,2,-999,9,28.2,2,30.97,2,2.08,2,-999,9,-999,9,-999,9,-999,9,-999,-999,9,-999,9
  740H20180228, A09.5,9,1,8,6412,2,20180302,1955,-23.4703,-40.6094,2522,1015.9,3.7787,34.4051,2,34.4085,2,194.5,2,196.7,4,40.11,2,32.71,2,2.21,2,2208.7,2,2311.5,2,-999,9,-999,9,-999,-999,9,-999,1
  740H20180228, A09.5,9,1,7,6411,2,20180302,1955,-23.4703,-40.6094,2522,1268.8,3.5439,34.6058,2,34.6049,2,190.7,2,201.3,4,43.13,2,31.28,2,2.11,2,-999,9,-999,9,-999,9,-999,9,-999,-999,9,-999,1
  740H20180228, A09.5,9,1,6,6410,2,20180302,1955,-23.4703,-40.6094,2522,1522.6,3.949,34.8173,2,34.818,2,207.7,2,208.6,4,30.43,2,26.5,2,1.77,2,2197.1,6,-999,3,-999,9,-999,9,-999,-999,9,-999,1
  740H20180228, A09.5,9,1,5,6409,2,20180302,1955,-23.4703,-40.6094,2522,1776.6,3.9685,34.9347,2,34.9337,2,234.2,2,235.5,4,21.71,2,22.09,2,1.46,2,2177.2,2,-999,3,-999,9,-999,9,-999,-999,9,-999,1
  740H20180228, A09.5,9,1,4,6408,2,20180302,1955,-23.4703,-40.6094,2522,2031.4,3.6459,34.9562,2,34.9557,2,250.8,2,251.3,4,21.32,2,20.42,2,1.34,2,2169.7,6,2337.3,6,-999,9,-999,9,-999,-999,9,-999,1
  740H20180228, A09.5,9,1,3,6407,2,20180302,1955,-23.4703,-40.6094,2522,2286.6,3.1248,34.9405,2,34.9407,2,255.4,2,261.3,4,27.17,2,20.41,2,1.34,2,-999,9,-999,9,-999,9,-999,9,-999,-999,9,-999,1
  740H20180228, A09.5,9,1,1,5977,2,20180302,1955,-23.4703,-40.6094,2522,2543.2,2.8214,34.9243,2,34.924,2,255,2,256.5,4,32.31,2,20.74,2,1.36,2,2177.4,2,-999,9,-999,9,-999,9,-999,-999,9,-999,1
  740H20180228, A09.5,9,1,2,6406,2,20180302,1955,-23.4703,-40.6094,2522,2543.5,2.8211,34.9243,2,34.9247,2,255.5,2,-999,9,32.18,2,20.75,2,1.38,2,-999,9,-999,9,-999,9,-999,9,-999,-999,9,-999,9