BOTTLE,20190321PRINUNIVRMK,,,,,,,,,,,,,,,,,,,,,,,,,,,,,,,,,,,,,,,
EXPOCODE,SECT_ID,STNNBR,CASTNO,SAMPNO,BTLNBR,BTLNBR_FLAG_W,DATE,TIME,LATITUDE,LONGITUDE,DEPTH,CTDPRS,CTDTMP,CTDSAL,CTDSAL_FLAG_W,SALNTY,SALNTY_FLAG_W,CTDOXY,CTDOXY_FLAG_W,OXYGEN,OXYGEN_FLAG_W,SILCAT,SILCAT_FLAG_W,NITRAT,NITRAT_FLAG_W,PHSPHT,PHSPHT_FLAG_W,TCARBN,TCARBN_FLAG_W,ALKALI,ALKALI_FLAG_W,CHLORA,CHLORA_FLAG_W,DELC14,DELC14_FLAG_W,C14ERR,DELC13,DELC13_FLAG_W,DELO18,DELO18_FLAG_W
,,,,,,,,,,,METERS,DBAR,ITS-90,PSS-78,,PSS-78,,UMOL/KG,,UMOL/KG,,UMOL/KG,,UMOL/KG,,UMOL/KG,,UMOL/KG,,UMOL/KG,,UG/KG,,/MILLE,,/MILLE,/MILLE,,/MILLE,
  740H20180228, A09.5,26,1,24,1086,2,20180307,739,-24.0014,-32.5025,4998,6.8,27.3261,36.9456,2,36.9446,2,202.8,2,202.2,2,0.98,2,0.08,2,0.02,2,2083.2,2,2422.4,2,-999,9,-999,9,-999,-999,9,-999,1
  740H20180228, A09.5,26,1,23,6427,2,20180307,739,-24.0014,-32.5025,4998,51.5,25.2739,36.9036,2,36.9015,2,223.1,2,221.6,2,1.03,2,0.07,2,0.04,2,2093.5,2,2421,2,-999,9,-999,9,-999,-999,9,-999,1
  740H20180228, A09.5,26,1,22,6426,2,20180307,739,-24.0014,-32.5025,4998,76.5,22.9348,36.8462,2,36.8314,2,225.9,2,225.8,2,0.95,2,0.06,2,0.03,2,2095.5,2,2415.3,2,-999,9,-999,9,-999,-999,9,-999,1
  740H20180228, A09.5,26,1,21,6425,2,20180307,739,-24.0014,-32.5025,4998,136.5,21.5647,36.7821,2,36.7895,2,215.9,2,215.5,2,1.09,2,0.1,2,0.12,2,2114,2,2416.9,2,-999,9,-999,9,-999,-999,9,-999,1
  740H20180228, A09.5,26,1,20,6428,2,20180307,739,-24.0014,-32.5025,4998,176.5,21.0856,36.6734,2,36.6642,2,212,2,210.3,2,1.12,2,0.51,2,0.14,2,2111.8,2,2406,2,-999,9,-999,9,-999,-999,9,-999,1
  740H20180228, A09.5,26,1,19,1098,2,20180307,739,-24.0014,-32.5025,4998,252.5,18.227,36.0557,2,36.0578,2,206.2,2,205.6,2,1.47,2,2.12,2,0.27,2,2113.2,6,2368.6,6,-999,9,-999,9,-999,-999,9,-999,1
  740H20180228, A09.5,26,1,18,6692,2,20180307,739,-24.0014,-32.5025,4998,378.3,14.1018,35.3452,2,35.3475,2,210.7,2,209.2,2,2.78,2,7.61,2,0.62,2,2120,2,2325.1,2,-999,9,-999,9,-999,-999,9,-999,1
  740H20180228, A09.5,26,1,17,1122,2,20180307,739,-24.0014,-32.5025,4998,504.3,11.1506,34.9488,2,34.954,2,204.7,2,202.7,2,5.76,2,15.01,2,1.08,2,2144.3,2,2306.2,2,-999,9,-999,9,-999,-999,9,-999,1
  740H20180228, A09.5,26,1,16,6420,2,20180307,739,-24.0014,-32.5025,4998,630.4,8.3933,34.6254,2,34.6168,2,198.3,2,197.6,2,11.36,2,22.6,2,1.57,2,2161,2,2293.1,2,-999,9,-999,9,-999,-999,9,-999,1
  740H20180228, A09.5,26,1,15,6419,2,20180307,739,-24.0014,-32.5025,4998,756.3,5.739,34.3737,2,34.3776,2,213.3,2,212.4,2,18.12,2,27.38,2,1.89,2,2180.5,6,2292.6,6,-999,9,-999,9,-999,-999,9,-999,1
  740H20180228, A09.5,26,1,14,6418,2,20180307,739,-24.0014,-32.5025,4998,883.2,4.4741,34.3388,2,34.3388,2,207.7,2,207.6,2,28.62,2,30.56,2,2.11,2,2191.9,2,2295.1,2,-999,9,-999,9,-999,-999,9,-999,1
  740H20180228, A09.5,26,1,13,6417,2,20180307,739,-24.0014,-32.5025,4998,1008.7,3.7918,34.4033,2,34.4034,2,193.7,2,192.1,2,39.64,2,32.45,2,2.23,2,2214.8,2,2310.2,2,-999,9,-999,9,-999,-999,9,-999,1
  740H20180228, A09.5,26,1,12,6416,2,20180307,739,-24.0014,-32.5025,4998,1261.2,3.2202,34.5752,2,34.5755,2,187.7,2,185.8,2,49.52,2,31.8,2,2.17,2,2220.5,6,2322.7,6,-999,9,-999,9,-999,-999,9,-999,1
  740H20180228, A09.5,26,1,11,6415,2,20180307,739,-24.0014,-32.5025,4998,1515,3.0879,34.7317,2,34.733,2,203.8,2,203,2,46.67,2,28.3,2,1.91,2,2213.8,2,2328.9,2,-999,9,-999,9,-999,-999,9,-999,1
  740H20180228, A09.5,26,1,10,6414,2,20180307,739,-24.0014,-32.5025,4998,1768,3.2922,34.8749,2,34.8753,2,231.6,2,229.2,2,33.43,2,23.41,2,1.55,2,2187.6,2,2322.2,2,-999,9,-999,9,-999,-999,9,-999,1
  740H20180228, A09.5,26,1,9,6413,2,20180307,739,-24.0014,-32.5025,4998,2022.1,3.3294,34.9401,2,34.9402,2,250.2,2,247.7,2,24.82,2,20.42,2,1.34,2,2174.7,2,2319.4,2,-999,9,-999,9,-999,-999,9,-999,1
  740H20180228, A09.5,26,1,8,6412,2,20180307,739,-24.0014,-32.5025,4998,2275.8,3.1456,34.9387,2,34.9391,2,252.8,2,250,2,26.31,2,20.22,2,1.32,2,-999,9,-999,9,-999,9,-999,9,-999,-999,9,-999,1
  740H20180228, A09.5,26,1,7,6411,2,20180307,739,-24.0014,-32.5025,4998,2531.6,2.9774,34.9317,2,34.9317,2,253.3,2,250.6,2,28.9,2,20.37,2,1.34,2,2176.1,2,2323.8,2,-999,9,-999,9,-999,-999,9,-999,1
  740H20180228, A09.5,26,1,6,6410,2,20180307,739,-24.0014,-32.5025,4998,2785.7,2.855,34.925,2,34.9275,2,253.3,2,251.2,2,31.06,2,20.5,2,1.36,2,2176.2,2,2326.9,2,-999,9,-999,9,-999,-999,9,-999,1
  740H20180228, A09.5,26,1,5,6409,3,20180307,739,-24.0014,-32.5025,4998,3295.4,2.6167,34.9113,2,34.9104,4,255.5,2,253.6,4,34.69,4,20.55,4,1.38,4,2181.8,4,2330,4,-999,9,-999,9,-999,-999,9,-999,1
  740H20180228, A09.5,26,1,4,6408,2,20180307,739,-24.0014,-32.5025,4998,3806.7,2.0194,34.8534,2,34.8544,2,248.2,2,245.3,2,55.88,2,23.43,2,1.57,2,2198.8,2,2340.6,2,-999,9,-999,9,-999,-999,9,-999,1
  740H20180228, A09.5,26,1,3,6407,2,20180307,739,-24.0014,-32.5025,4998,4320.7,1.284,34.7739,2,34.7744,2,235.8,2,233.3,2,86.14,2,27.8,2,1.9,2,2231.2,2,2356.3,2,-999,9,-999,9,-999,-999,9,-999,1
  740H20180228, A09.5,26,1,2,6406,2,20180307,739,-24.0014,-32.5025,4998,4834,0.7389,34.7135,2,34.7142,2,227.3,2,223.9,2,108.19,2,31.03,2,2.14,2,2252.4,2,2363.2,2,-999,9,-999,9,-999,-999,9,-999,1
  740H20180228, A09.5,26,1,1,5977,2,20180307,739,-24.0014,-32.5025,4998,5079.2,0.3825,34.6766,2,34.6769,2,223.6,2,221.3,2,121.49,2,32.77,2,2.25,2,2264,6,2364.7,6,-999,9,-999,9,-999,-999,9,-999,1
  740H20180228, A09.5,29,1,24,1086,2,20180308,846,-24,-32,5063,11.7,27.381,36.9687,2,36.9664,2,202.9,2,203.4,2,1.08,2,0.06,2,0.06,2,2085.8,6,2423.3,6,-999,9,-999,1,-999,-999,1,-999,1
  740H20180228, A09.5,29,1,23,6427,2,20180308,846,-24,-32,5063,51.3,24.5753,36.6911,2,36.7017,2,226,2,225.9,2,1.08,2,0.05,2,0.02,2,2083.2,2,2407.2,2,-999,9,-999,1,-999,-999,1,-999,1
  740H20180228, A09.5,29,1,22,6426,2,20180308,846,-24,-32,5063,81.3,22.5255,36.7378,2,36.739,2,226.5,2,227.1,2,1.09,2,0.05,2,0.04,2,2094.5,6,2410.1,6,-999,9,-999,1,-999,-999,1,-999,1
  740H20180228, A09.5,29,1,21,6425,2,20180308,846,-24,-32,5063,121.4,21.6833,36.741,2,36.7376,2,218.7,2,220.7,2,1.06,2,0.05,2,0.09,2,2102.1,6,2409.1,6,-999,9,-999,1,-999,-999,1,-999,1
  740H20180228, A09.5,29,1,20,6428,2,20180308,846,-24,-32,5063,177,20.4242,36.4862,2,36.4614,2,212.8,2,213.4,2,1.14,2,0.41,2,0.11,2,2105.6,2,2393.3,2,-999,9,-999,1,-999,-999,1,-999,1
  740H20180228, A09.5,29,1,19,1098,2,20180308,846,-24,-32,5063,252.7,17.4326,35.889,2,35.8276,2,207.5,2,207.1,2,1.88,2,2.81,2,0.34,2,2115.1,2,2355.8,2,-999,9,-999,1,-999,-999,1,-999,1
  740H20180228, A09.5,29,1,18,6692,2,20180308,846,-24,-32,5063,378.3,13.7919,35.2843,2,35.2848,2,207.8,2,207.1,2,3.25,2,8.44,2,0.68,2,2123.7,6,2319,6,-999,9,-999,1,-999,-999,1,-999,1
  740H20180228, A09.5,29,1,17,1122,2,20180308,846,-24,-32,5063,504.1,10.8803,34.9188,2,34.9188,2,201.4,2,200.9,2,6.49,2,15.82,2,1.14,2,2149.2,6,2304.2,6,-999,9,-999,1,-999,-999,1,-999,1
  740H20180228, A09.5,29,1,16,6420,2,20180308,846,-24,-32,5063,630.8,8.1362,34.6053,2,34.6054,2,193.5,2,194.1,2,12.53,2,23.24,2,1.63,2,2169.1,6,2291.1,6,-999,9,-999,1,-999,-999,1,-999,1
  740H20180228, A09.5,29,1,15,6419,2,20180308,846,-24,-32,5063,756.8,5.9937,34.4082,2,34.4072,2,203.4,2,202.9,2,19.5,2,27.89,2,1.94,2,2183.4,6,2288.8,6,-999,9,-999,1,-999,-999,1,-999,1
  740H20180228, A09.5,29,1,14,6418,2,20180308,846,-24,-32,5063,882.9,4.7289,34.3747,2,34.3762,2,195.5,2,193.9,2,29.02,2,31.15,2,2.16,2,2201.3,6,2297.7,6,-999,9,-999,1,-999,-999,1,-999,1
  740H20180228, A09.5,29,1,13,6417,2,20180308,846,-24,-32,5063,1009,3.779,34.4136,2,34.416,2,191.6,2,190.5,2,41.14,2,32.52,2,2.26,2,2214.7,2,2306.3,2,-999,9,-999,1,-999,-999,1,-999,1
  740H20180228, A09.5,29,1,12,6416,2,20180308,846,-24,-32,5063,1161.1,3.3429,34.5141,2,34.5161,2,186.1,2,186,2,49.01,2,32.23,2,2.25,2,2226.7,6,2318.1,6,-999,9,-999,1,-999,-999,1,-999,1
  740H20180228, A09.5,29,1,11,6415,2,20180308,846,-24,-32,5063,1312.1,3.1733,34.612,2,34.6116,2,189.8,2,189.6,2,50.75,2,30.96,2,2.16,2,2225.2,2,2322.3,2,-999,9,-999,1,-999,-999,1,-999,1
  740H20180228, A09.5,29,1,10,6414,2,20180308,846,-24,-32,5063,1515.3,3.2332,34.7598,2,34.7597,2,207.1,2,206,2,44.25,2,27.41,2,1.9,2,2211.1,6,2323.8,6,-999,9,-109.4,2,4,0.74,2,-999,1
  740H20180228, A09.5,29,1,9,6413,2,20180308,846,-24,-32,5063,1767.8,3.3434,34.8839,2,34.8838,2,232.9,2,232.3,2,32.69,2,22.93,2,1.58,2,2190,6,2320.2,6,-999,9,-999,1,-999,-999,1,-999,1
  740H20180228, A09.5,29,1,8,6412,2,20180308,846,-24,-32,5063,2022.6,3.36,34.9426,2,34.9425,2,250.3,2,249,2,24.99,2,20.26,2,1.39,2,2176.4,6,2319.6,6,-999,9,-999,1,-999,-999,1,-999,1
  740H20180228, A09.5,29,1,7,6411,2,20180308,846,-24,-32,5063,2276.1,3.1903,34.9429,2,34.9414,2,253.2,2,252,2,26.22,2,20.01,2,1.38,2,2172.6,6,2321.6,6,-999,9,-999,1,-999,-999,1,-999,1
  740H20180228, A09.5,29,1,6,6410,2,20180308,846,-24,-32,5063,2530.5,3.0164,34.9343,2,34.9359,2,253.2,2,251.8,2,29.11,2,20.27,2,1.4,2,2177.9,2,2323.7,2,-999,9,-999,1,-999,-999,1,-999,1
  740H20180228, A09.5,29,1,5,6409,2,20180308,846,-24,-32,5063,3039.6,2.7604,34.9196,2,34.9218,2,254.2,2,253.1,2,33.4,2,20.61,2,1.42,2,2177.4,2,2327.7,2,-999,9,-999,1,-999,-999,1,-999,1
  740H20180228, A09.5,29,1,4,6408,2,20180308,846,-24,-32,5063,3551.1,2.4377,34.8954,2,34.8945,2,254.8,2,252.8,2,40.71,2,21.32,2,1.47,2,2188.8,2,2332,6,-999,9,-999,1,-999,-999,1,-999,1
  740H20180228, A09.5,29,1,3,6407,2,20180308,846,-24,-32,5063,4063.4,1.6425,34.8128,2,34.8119,2,241.9,2,240,2,72.75,2,25.85,2,1.8,2,2214.9,2,2347.5,2,-999,9,-999,1,-999,-999,1,-999,1
  740H20180228, A09.5,29,1,2,6406,2,20180308,846,-24,-32,5063,4576.4,1.0896,34.7514,2,34.752,2,232,2,230.5,2,96.99,2,29.19,2,2.03,2,2243,2,2359.7,2,-999,9,-999,1,-999,-999,1,-999,1
  740H20180228, A09.5,29,1,1,5977,2,20180308,846,-24,-32,5063,5142.1,0.3836,34.6764,2,34.6757,2,223.8,2,221.5,2,126.13,2,32.94,2,2.29,2,2266.1,6,2365.1,2,-999,9,-999,1,-999,-999,1,-999,1
  740H20180228, A09.5,30,1,24,1086,2,20180308,1532,-24.0002,-31.5,5155,3.5,27.4326,36.9284,2,36.9242,2,202.9,2,211.3,2,1.21,2,0.07,2,0.07,2,2086.4,2,2422.3,2,-999,9,-999,9,-999,-999,9,-999,1
  740H20180228, A09.5,30,1,23,6427,2,20180308,1532,-24.0002,-31.5,5155,59.6,24.9239,36.8013,2,36.8056,2,226.2,2,234.4,4,1.12,2,0.05,2,0.04,2,2088.5,2,2413.1,2,-999,9,-999,9,-999,-999,9,-999,1
  740H20180228, A09.5,30,1,22,6426,2,20180308,1532,-24.0002,-31.5,5155,84.5,22.8199,36.8761,2,36.8676,2,228.7,2,233.5,2,1.17,2,0.06,2,0.11,2,2099.3,2,2417.5,2,-999,1,-999,9,-999,-999,9,-999,1
  740H20180228, A09.5,30,1,21,6425,2,20180308,1532,-24.0002,-31.5,5155,129.5,21.6927,36.7854,2,36.78,2,219.5,2,218.7,2,1.18,2,0.05,2,0.12,2,2109.5,6,2413.9,6,-999,1,-999,9,-999,-999,9,-999,1
  740H20180228, A09.5,30,1,20,6428,2,20180308,1532,-24.0002,-31.5,5155,184.9,20.6656,36.5619,2,36.5571,2,212.3,2,213.1,2,1.1,2,0.43,2,0.13,2,2110.7,2,2400.2,2,-999,9,-999,9,-999,-999,9,-999,1
  740H20180228, A09.5,30,1,19,1098,2,20180308,1532,-24.0002,-31.5,5155,260.7,16.9684,35.7854,2,35.7366,2,208.3,2,210,2,1.91,2,3.02,2,0.35,2,2111.1,2,2345.4,2,-999,9,-999,9,-999,-999,9,-999,1
  740H20180228, A09.5,30,1,18,6692,2,20180308,1532,-24.0002,-31.5,5155,386.5,13.2156,35.2049,2,35.2034,2,206.3,2,206.2,2,3.77,2,10.03,2,0.77,2,2130,2,2317.9,2,-999,9,-999,9,-999,-999,9,-999,1
  740H20180228, A09.5,30,1,17,1122,2,20180308,1532,-24.0002,-31.5,5155,512.9,10.552,34.8741,2,34.8811,2,198,2,198,2,7.16,2,17.13,2,1.2,2,2148.6,2,2301.6,2,-999,9,-999,9,-999,-999,9,-999,1
  740H20180228, A09.5,30,1,16,6420,2,20180308,1532,-24.0002,-31.5,5155,638.7,7.8296,34.571,2,34.5667,2,197.9,2,198.9,2,12.98,2,23.9,2,1.64,2,2171.7,2,2293.7,2,-999,9,-999,9,-999,-999,9,-999,1
  740H20180228, A09.5,30,1,15,6419,2,20180308,1532,-24.0002,-31.5,5155,765.1,5.5653,34.3824,2,34.3854,2,203.5,2,203.3,2,21.65,2,28.98,2,1.98,2,2182.6,6,2288.6,6,-999,9,-999,9,-999,-999,9,-999,1
  740H20180228, A09.5,30,1,14,6418,2,20180308,1532,-24.0002,-31.5,5155,891.3,4.6314,34.3941,2,34.3926,2,188,2,189.1,2,31.25,2,31.94,2,2.18,2,2204.3,2,2296.7,2,-999,9,-999,9,-999,-999,9,-999,1
  740H20180228, A09.5,30,1,13,6417,2,20180308,1532,-24.0002,-31.5,5155,1017.4,3.8511,34.4382,2,34.4403,2,185.7,2,185.9,2,40.55,2,32.8,2,2.26,2,2212.7,2,2304.9,2,-999,9,-999,9,-999,-999,9,-999,1
  740H20180228, A09.5,30,1,12,6416,2,20180308,1532,-24.0002,-31.5,5155,1270.2,3.2804,34.6042,2,34.6042,2,189.1,2,188.5,2,49.55,2,31.33,2,2.17,2,2223.7,6,2321.6,6,-999,9,-999,9,-999,-999,9,-999,1
  740H20180228, A09.5,30,1,11,6415,2,20180308,1532,-24.0002,-31.5,5155,1524.5,3.9094,34.8931,2,34.894,2,221.4,2,221.8,2,26.14,2,23.71,2,1.61,2,2180.6,2,2313.4,2,-999,9,-999,9,-999,-999,9,-999,1
  740H20180228, A09.5,30,1,10,6414,2,20180308,1532,-24.0002,-31.5,5155,1777.6,3.6982,34.9522,2,34.9526,2,244.4,2,244.5,2,21.67,2,20.75,2,1.41,2,2174,2,2316.4,2,-999,9,-999,9,-999,-999,9,-999,1
  740H20180228, A09.5,30,1,9,6413,2,20180308,1532,-24.0002,-31.5,5155,2033.4,3.4243,34.952,2,34.9509,2,250.5,2,250.8,2,23.23,2,20.25,2,1.38,2,2168.3,2,2315.7,2,-999,9,-999,9,-999,-999,9,-999,1
  740H20180228, A09.5,30,1,8,6412,2,20180308,1532,-24.0002,-31.5,5155,2287.7,3.1905,34.9429,2,34.9422,2,252.1,2,252.1,2,26.29,2,20.36,2,1.39,2,2175.6,2,2319.6,2,-999,9,-999,9,-999,-999,9,-999,1
  740H20180228, A09.5,30,1,7,6411,2,20180308,1532,-24.0002,-31.5,5155,2543.2,3.0196,34.9335,2,34.9322,2,251.5,2,251.9,2,29.42,2,20.68,2,1.41,2,2174.8,2,2321.3,2,-999,9,-999,9,-999,-999,9,-999,1
  740H20180228, A09.5,30,1,6,6410,2,20180308,1532,-24.0002,-31.5,5155,2798.1,2.8853,34.925,2,34.9242,2,251.4,2,251.6,2,32.16,2,20.88,2,1.42,2,2180.8,2,2327,2,-999,9,-999,9,-999,-999,9,-999,1
  740H20180228, A09.5,30,1,5,6409,2,20180308,1532,-24.0002,-31.5,5155,3309.1,2.6855,34.915,2,34.9157,2,253.8,2,254,2,34.66,2,20.77,2,1.42,2,2178.4,2,2325.8,2,-999,9,-999,9,-999,-999,9,-999,1
  740H20180228, A09.5,30,1,4,6408,2,20180308,1532,-24.0002,-31.5,5155,3822.7,2.176,34.8686,2,34.8682,2,249.6,2,238.6,4,51.7,2,22.89,2,1.59,2,2198.7,2,2338.7,2,-999,9,-999,9,-999,-999,9,-999,1
  740H20180228, A09.5,30,1,3,6407,2,20180308,1532,-24.0002,-31.5,5155,4335.4,1.4197,34.7874,2,34.7867,2,237.3,2,235.8,2,83.74,2,27.38,2,1.9,2,2225.3,2,2351.7,2,-999,9,-999,9,-999,-999,9,-999,1
  740H20180228, A09.5,30,1,2,6406,2,20180308,1532,-24.0002,-31.5,5155,4852.1,0.868,34.7264,2,34.7268,2,228.4,2,226.1,2,108.07,2,30.57,2,2.14,2,2250.2,2,2363.4,2,-999,9,-999,9,-999,-999,9,-999,1
  740H20180228, A09.5,30,1,1,5977,2,20180308,1532,-24.0002,-31.5,5155,5242,0.454,34.6814,2,34.6826,2,223.7,2,222.2,2,125.22,2,32.84,2,2.28,2,2262.9,6,2365.2,6,-999,9,-999,9,-999,-999,9,-999,1
  740H20180228, A09.5,31,1,24,1086,2,20180308,2322,-23.9996,-30.9003,5213,8.4,27.4511,36.8283,2,36.8284,2,201.3,2,204.3,2,1.11,2,0.01,2,0.02,2,2077.1,2,2417,2,-999,9,-999,9,-999,-999,9,-999,1
  740H20180228, A09.5,31,1,23,6427,2,20180308,2322,-23.9996,-30.9003,5213,54.3,24.8598,36.8282,2,36.8157,2,225.8,2,227.2,2,1.05,2,0.01,2,0.01,2,2085.3,2,2415,2,-999,9,-999,9,-999,-999,9,-999,1
  740H20180228, A09.5,31,1,22,6426,2,20180308,2322,-23.9996,-30.9003,5213,84.2,22.7427,36.7524,2,36.7541,2,229.6,2,231.3,2,1.16,2,0.01,2,0.05,2,2094.1,6,2409.7,6,-999,9,-999,9,-999,-999,9,-999,1
  740H20180228, A09.5,31,1,21,6425,2,20180308,2322,-23.9996,-30.9003,5213,104.4,21.7192,36.7052,2,36.7146,2,226.6,2,227.5,2,1.04,2,0,2,0.05,2,2101.1,2,2409.4,2,-999,9,-999,9,-999,-999,9,-999,1
  740H20180228, A09.5,31,1,20,6428,2,20180308,2322,-23.9996,-30.9003,5213,179.3,20.3585,36.485,2,36.4741,2,214.8,2,215.7,2,1.08,2,0.36,2,0.09,2,2104.7,2,2391.8,2,-999,9,-999,9,-999,-999,9,-999,1
  740H20180228, A09.5,31,1,19,1098,2,20180308,2322,-23.9996,-30.9003,5213,254.9,16.4604,35.6957,2,35.69,2,207.3,2,209.1,2,1.97,2,3.27,2,0.35,2,2116,2,2344.4,2,-999,9,-999,9,-999,-999,9,-999,1
  740H20180228, A09.5,31,1,18,6692,2,20180308,2322,-23.9996,-30.9003,5213,390.4,13.1314,35.1902,2,35.1899,2,205,2,206.1,2,3.86,2,10.14,2,0.76,2,2131.3,6,2315.6,6,-999,9,-999,9,-999,-999,9,-999,1
  740H20180228, A09.5,31,1,17,1122,2,20180308,2322,-23.9996,-30.9003,5213,516.2,10.4064,34.8576,2,34.8636,2,194,2,196.7,2,7.53,2,17.72,2,1.22,2,2152.3,2,2299.5,2,-999,9,-999,9,-999,-999,9,-999,1
  740H20180228, A09.5,31,1,16,6420,2,20180308,2322,-23.9996,-30.9003,5213,642.8,7.6074,34.5554,2,34.5477,2,196.2,2,197.7,2,13.99,2,24.79,2,1.66,2,2165.7,2,2288.8,2,-999,9,-999,9,-999,-999,9,-999,1
  740H20180228, A09.5,31,1,15,6419,2,20180308,2322,-23.9996,-30.9003,5213,768.9,5.5817,34.4102,2,34.4062,2,191.9,2,193.1,2,22.92,2,29.93,2,1.99,2,2189.9,2,2289.1,2,-999,9,-999,9,-999,-999,9,-999,1
  740H20180228, A09.5,31,1,14,6418,2,20180308,2322,-23.9996,-30.9003,5213,895.5,4.445,34.398,2,34.397,2,187.5,2,189.5,2,33.12,2,32.31,2,2.17,2,2208.4,2,2298.3,2,-999,9,-999,9,-999,-999,9,-999,1
  740H20180228, A09.5,31,1,13,6417,2,20180308,2322,-23.9996,-30.9003,5213,1022,3.7026,34.4424,2,34.4445,2,187.4,2,189.3,2,42.88,2,32.88,2,2.23,2,2217,6,2308.5,6,-999,9,-999,9,-999,-999,9,-999,1
  740H20180228, A09.5,31,1,12,6416,2,20180308,2322,-23.9996,-30.9003,5213,1274.7,3.1854,34.6181,2,34.6168,2,189.6,2,191,2,50.49,2,31.18,2,2.11,2,2223,2,2323.9,2,-999,9,-999,9,-999,-999,9,-999,1
  740H20180228, A09.5,31,1,11,6415,2,20180308,2322,-23.9996,-30.9003,5213,1528.6,3.6546,34.8683,2,34.8683,2,221.8,2,222.7,2,30.96,2,24.16,2,1.61,2,2190.3,2,2315.2,2,-999,9,-999,9,-999,-999,9,-999,1
  740H20180228, A09.5,31,1,10,6414,2,20180308,2322,-23.9996,-30.9003,5213,1782.7,3.6532,34.9474,2,34.9465,2,244.2,2,245.5,2,22.7,2,20.65,2,1.38,2,2173.4,2,2316.1,2,-999,9,-999,9,-999,-999,9,-999,1
  740H20180228, A09.5,31,1,9,6413,2,20180308,2322,-23.9996,-30.9003,5213,2036.9,3.4443,34.9535,2,34.9537,2,251.6,2,252.3,2,23.03,2,19.92,2,1.32,2,2172.6,2,2317.4,2,-999,9,-999,9,-999,-999,9,-999,1
  740H20180228, A09.5,31,1,8,6412,2,20180308,2322,-23.9996,-30.9003,5213,2291,3.1865,34.9427,2,34.9427,2,252.6,2,253.5,2,26.53,2,20.11,2,1.34,2,2172.3,2,2319.2,2,-999,9,-999,9,-999,-999,9,-999,1
  740H20180228, A09.5,31,1,7,6411,2,20180308,2322,-23.9996,-30.9003,5213,2546.7,3.0014,34.931,2,34.9317,2,251.9,2,253.1,2,30.01,2,20.58,2,1.37,2,2177.8,2,2323.6,2,-999,9,-999,9,-999,-999,9,-999,1
  740H20180228, A09.5,31,1,6,6410,2,20180308,2322,-23.9996,-30.9003,5213,3057.3,2.8071,34.9212,2,34.9199,2,253.1,2,253.9,2,33.01,2,20.68,2,1.37,2,2179,2,-999,9,-999,9,-999,9,-999,-999,9,-999,1
  740H20180228, A09.5,31,1,5,6409,2,20180308,2322,-23.9996,-30.9003,5213,3568.8,2.5802,34.9069,2,34.9083,2,255,2,256.2,2,36.91,2,20.82,2,1.39,2,2181.8,2,2330.8,2,-999,9,-999,9,-999,-999,9,-999,1
  740H20180228, A09.5,31,1,4,6408,2,20180308,2322,-23.9996,-30.9003,5213,4082.9,1.9007,34.8384,2,34.8395,2,245.5,2,245.7,2,63.07,2,24.41,2,1.63,2,2205.9,2,2340.5,2,-999,9,-999,9,-999,-999,9,-999,1
  740H20180228, A09.5,31,1,3,6407,2,20180308,2322,-23.9996,-30.9003,5213,4598.1,1.2461,34.7669,2,34.7663,2,234.2,2,234.1,2,91.69,2,28.37,2,1.89,2,2234.8,2,2356.3,2,-999,9,-999,9,-999,-999,9,-999,1
  740H20180228, A09.5,31,1,2,6406,2,20180308,2322,-23.9996,-30.9003,5213,4855.3,0.9899,34.738,2,34.7367,2,230,2,229.8,2,103.07,2,29.89,2,2,2,2245.6,2,2357.8,2,-999,9,-999,9,-999,-999,9,-999,1
  740H20180228, A09.5,31,1,1,5977,2,20180308,2322,-23.9996,-30.9003,5213,5301.8,0.4636,34.6808,2,34.6793,2,223.4,2,223.9,2,125.3,2,32.67,2,2.2,2,2263.3,6,2365.6,6,-999,9,-999,9,-999,-999,9,-999,1