BOTTLE,20190321PRINUNIVRMK,,,,,,,,,,,,,,,,,,,,,,,,,,,,,,,,,,,,,,,
EXPOCODE,SECT_ID,STNNBR,CASTNO,SAMPNO,BTLNBR,BTLNBR_FLAG_W,DATE,TIME,LATITUDE,LONGITUDE,DEPTH,CTDPRS,CTDTMP,CTDSAL,CTDSAL_FLAG_W,SALNTY,SALNTY_FLAG_W,CTDOXY,CTDOXY_FLAG_W,OXYGEN,OXYGEN_FLAG_W,SILCAT,SILCAT_FLAG_W,NITRAT,NITRAT_FLAG_W,PHSPHT,PHSPHT_FLAG_W,TCARBN,TCARBN_FLAG_W,ALKALI,ALKALI_FLAG_W,CHLORA,CHLORA_FLAG_W,DELC14,DELC14_FLAG_W,C14ERR,DELC13,DELC13_FLAG_W,DELO18,DELO18_FLAG_W
,,,,,,,,,,,METERS,DBAR,ITS-90,PSS-78,,PSS-78,,UMOL/KG,,UMOL/KG,,UMOL/KG,,UMOL/KG,,UMOL/KG,,UMOL/KG,,UMOL/KG,,UG/KG,,/MILLE,,/MILLE,/MILLE,,/MILLE,
  740H20180228, A09.5,101,1,11,6415,2,20180330,7,-24.0003,5.4,2063,5.7,22.6867,35.7789,2,35.7771,2,217.2,2,217.9,2,1.58,2,0.13,2,0.19,2,2067.1,2,2354.1,2,-999,9,-999,9,-999,-999,9,-999,1
  740H20180228, A09.5,101,1,12,6416,2,20180330,7,-24.0003,5.4,2063,6.3,22.6854,35.7797,2,35.777,2,217.1,2,218.2,2,-999,5,-999,5,-999,5,-999,9,-999,9,-999,9,-999,9,-999,-999,9,-999,9
  740H20180228, A09.5,101,1,10,6414,2,20180330,7,-24.0003,5.4,2063,50.8,22.2555,35.8051,2,35.8007,2,220.6,2,221.9,2,-999,5,-999,5,-999,5,-999,9,-999,9,-999,9,-999,9,-999,-999,9,-999,9
  740H20180228, A09.5,101,1,9,6413,2,20180330,7,-24.0003,5.4,2063,51,22.2494,35.8041,2,35.7944,2,221.3,2,223.2,2,1.5,2,0.11,2,0.18,2,2076.7,2,2353.2,2,-999,9,-999,9,-999,-999,9,-999,1
  740H20180228, A09.5,101,1,7,6411,2,20180330,7,-24.0003,5.4,2063,65.1,19.0488,35.5927,2,35.5926,2,245.1,2,244.6,2,1.75,2,0.1,2,0.16,2,2067.5,2,2339.2,2,-999,9,-999,9,-999,-999,9,-999,1
  740H20180228, A09.5,101,1,8,6412,2,20180330,7,-24.0003,5.4,2063,65.7,19.0757,35.5934,2,35.5926,2,245.3,2,245.2,2,-999,5,-999,5,-999,5,-999,9,-999,9,-999,9,-999,9,-999,-999,9,-999,9
  740H20180228, A09.5,101,1,5,6409,2,20180330,7,-24.0003,5.4,2063,82.1,17.1026,35.5469,2,35.5442,2,232.1,2,231.4,2,2.18,2,1.72,2,0.31,2,2091.2,6,2335.1,6,-999,9,-999,9,-999,-999,9,-999,1
  740H20180228, A09.5,101,1,6,6410,2,20180330,7,-24.0003,5.4,2063,82.1,17.195,35.5517,2,35.5508,2,233,2,232.1,2,-999,5,-999,5,-999,5,-999,9,-999,9,-999,9,-999,9,-999,-999,9,-999,9
  740H20180228, A09.5,101,1,4,6408,2,20180330,7,-24.0003,5.4,2063,101.7,16.0902,35.4713,2,35.4699,2,221.5,2,224.1,2,2.65,2,4.18,2,0.41,2,2103.4,2,2330.6,2,-999,9,-999,9,-999,-999,9,-999,1
  740H20180228, A09.5,101,1,3,6407,2,20180330,7,-24.0003,5.4,2063,177.4,13.5384,35.1444,2,35.1409,2,209.2,2,210.8,2,3.78,2,9.41,2,0.7,2,2118,2,2312.2,2,-999,9,-999,9,-999,-999,9,-999,1
  740H20180228, A09.5,101,1,2,6406,2,20180330,7,-24.0003,5.4,2063,252.8,12.2792,35.0614,2,35.0597,2,188.4,2,188.6,2,5.61,2,14.49,2,1,2,2148.8,2,2305.8,2,-999,9,-999,9,-999,-999,9,-999,1
  740H20180228, A09.5,101,1,1,1077,2,20180330,7,-24.0003,5.4,2063,379.3,9.9298,34.7891,2,34.7895,2,182.3,2,182.7,2,8.96,2,20.13,2,1.35,2,2159.3,2,2296,2,-999,9,-999,9,-999,-999,9,-999,1
  740H20180228, A09.5,101,1,24,1086,2,20180330,7,-24.0003,5.4,2063,504.6,7.3027,34.5251,2,34.5273,2,173.3,2,168.6,2,-999,5,-999,5,-999,5,-999,9,-999,9,-999,9,-999,9,-999,-999,9,-999,9
  740H20180228, A09.5,101,1,23,6427,2,20180330,7,-24.0003,5.4,2063,505.1,7.2174,34.5191,2,34.5258,2,173.2,2,186.6,2,16.05,2,27.59,2,1.83,2,2192.2,2,2288.4,2,-999,9,-999,9,-999,-999,9,-999,1
  740H20180228, A09.5,101,1,22,6426,2,20180330,7,-24.0003,5.4,2063,629.6,5.3044,34.3853,2,34.3845,2,184.3,2,184.3,2,24.01,2,31.08,2,2.06,2,2192.6,6,2289.2,6,-999,9,-999,9,-999,-999,9,-999,1
  740H20180228, A09.5,101,1,21,6425,2,20180330,7,-24.0003,5.4,2063,756.7,4.2567,34.3892,2,34.3871,2,182.2,2,183.5,2,35.17,2,32.77,2,2.21,2,2214.6,2,2300.1,2,-999,9,-999,9,-999,-999,9,-999,1
  740H20180228, A09.5,101,1,20,6428,2,20180330,7,-24.0003,5.4,2063,882.3,3.7111,34.4511,2,34.4486,2,177.3,2,178.2,2,44.4,2,33.34,2,2.26,2,2218.7,2,2308.7,2,-999,9,-999,9,-999,-999,9,-999,1
  740H20180228, A09.5,101,1,19,6692,2,20180330,7,-24.0003,5.4,2063,1008.7,3.5733,34.5429,2,34.5404,2,176,2,175.8,2,-999,5,-999,5,-999,5,-999,9,-999,9,-999,9,-999,9,-999,-999,9,-999,9
  740H20180228, A09.5,101,1,18,1098,2,20180330,7,-24.0003,5.4,2063,1009.2,3.5744,34.5413,2,34.5418,2,176,2,176.2,2,44.6,2,32.63,2,2.21,2,2226.7,6,2313.2,6,-999,9,-999,9,-999,-999,9,-999,1
  740H20180228, A09.5,101,1,17,1122,2,20180330,7,-24.0003,5.4,2063,1262,3.5446,34.7295,2,34.7269,2,192.4,2,192,2,38.38,2,28.82,2,1.95,2,2205.9,2,2316.1,2,-999,9,-999,9,-999,-999,9,-999,1
  740H20180228, A09.5,101,1,16,6420,2,20180330,7,-24.0003,5.4,2063,1515.5,3.3791,34.8211,2,34.8197,2,209.6,2,210.3,2,36.51,2,26.06,2,1.76,2,2201.4,2,2322.1,2,-999,9,-999,9,-999,-999,9,-999,1
  740H20180228, A09.5,101,1,15,6419,2,20180330,7,-24.0003,5.4,2063,1768.2,3.1865,34.8772,2,34.8757,2,226.5,2,226.3,2,34.95,2,23.86,2,1.61,2,2187,2,2322.2,2,-999,9,-999,9,-999,-999,9,-999,1
  740H20180228, A09.5,101,1,14,6418,2,20180330,7,-24.0003,5.4,2063,2077.1,3.031,34.8849,2,34.8829,2,231.3,2,230,2,-999,5,-999,5,-999,5,-999,9,-999,9,-999,9,-999,9,-999,-999,9,-999,9
  740H20180228, A09.5,101,1,13,6417,2,20180330,7,-24.0003,5.4,2063,2077.7,3.0313,34.8849,2,34.883,2,230.9,2,230.5,2,36.9,2,23.47,2,1.57,2,2188.8,6,2324.4,6,-999,9,-999,9,-999,-999,9,-999,1
  740H20180228, A09.5,102,1,12,6416,2,20180330,517,-23.9999,5.9831,1643,5.8,22.5304,35.8463,2,35.8439,2,218.2,2,-999,9,-999,9,-999,9,-999,9,-999,9,-999,9,-999,9,-999,9,-999,-999,9,-999,9
  740H20180228, A09.5,102,1,11,6415,2,20180330,517,-23.9999,5.9831,1643,6.1,22.5317,35.8467,2,35.8424,2,218.4,2,218.2,2,-999,9,-999,9,-999,9,2078.7,2,2359.9,2,-999,9,-999,1,-999,-999,1,-999,1
  740H20180228, A09.5,102,1,9,6413,2,20180330,517,-23.9999,5.9831,1643,50.7,21.0047,35.7133,2,35.713,2,228.7,2,230.1,2,-999,9,-999,9,-999,9,2072.6,2,2346.2,2,-999,9,27.3,2,4,1.2,2,-999,1
  740H20180228, A09.5,102,1,10,6414,2,20180330,517,-23.9999,5.9831,1643,51,21.0062,35.7133,2,35.7171,2,229.6,2,-999,9,-999,9,-999,9,-999,9,-999,9,-999,9,-999,9,-999,9,-999,-999,9,-999,9
  740H20180228, A09.5,102,1,8,6412,2,20180330,517,-23.9999,5.9831,1643,70.6,18.1687,35.5845,2,35.5831,2,241.3,2,-999,9,-999,9,-999,9,-999,9,-999,9,-999,9,-999,9,-999,9,-999,-999,9,-999,9
  740H20180228, A09.5,102,1,7,6411,2,20180330,517,-23.9999,5.9831,1643,71.1,18.1572,35.5834,2,35.5832,2,241.5,2,241.4,2,-999,9,-999,9,-999,9,2080.1,2,2337.6,2,-999,9,-999,1,-999,-999,1,-999,1
  740H20180228, A09.5,102,1,6,6410,2,20180330,517,-23.9999,5.9831,1643,82.9,17.4373,35.563,2,35.5617,2,236.3,2,236.1,2,-999,9,-999,9,-999,9,2085.2,2,2332.7,2,-999,9,-999,1,-999,-999,1,-999,1
  740H20180228, A09.5,102,1,5,6409,2,20180330,517,-23.9999,5.9831,1643,100.9,16.7823,35.5261,2,35.5257,2,227.9,2,229.1,2,-999,9,-999,9,-999,9,2096.1,2,2332.7,2,-999,9,-999,1,-999,-999,1,-999,1
  740H20180228, A09.5,102,1,4,6408,2,20180330,517,-23.9999,5.9831,1643,176.5,14.0832,35.2059,2,35.1961,2,207.7,2,208.1,2,-999,9,-999,9,-999,9,2120.9,2,2311.8,2,-999,9,-999,1,-999,-999,1,-999,1
  740H20180228, A09.5,102,1,3,6407,2,20180330,517,-23.9999,5.9831,1643,252.4,12.4215,35.0675,2,35.0699,2,196.4,2,196.5,2,-999,9,-999,9,-999,9,2142.6,2,2309.3,2,-999,9,-999,1,-999,-999,1,-999,1
  740H20180228, A09.5,102,1,2,6406,2,20180330,517,-23.9999,5.9831,1643,302.4,11.3933,34.9514,2,34.9532,2,201.5,2,201.3,2,-999,9,-999,9,-999,9,2145.8,6,2304.1,6,-999,9,-999,1,-999,-999,1,-999,1
  740H20180228, A09.5,102,1,1,1077,2,20180330,517,-23.9999,5.9831,1643,377.7,9.9646,34.7852,2,34.7889,2,188.6,2,190.3,2,-999,9,-999,9,-999,9,2164.6,2,2296.9,2,-999,9,-999,1,-999,-999,1,-999,1
  740H20180228, A09.5,102,1,24,1086,2,20180330,517,-23.9999,5.9831,1643,443.5,8.7205,34.6565,2,34.6561,2,174.6,2,174.8,2,-999,9,-999,9,-999,9,2178.1,2,2291.8,2,-999,9,-999,1,-999,-999,1,-999,1
  740H20180228, A09.5,102,1,23,6427,2,20180330,517,-23.9999,5.9831,1643,503.8,7.0768,34.4923,2,34.4911,2,188.3,2,187.8,2,-999,9,-999,9,-999,9,2182.4,2,2286.9,2,-999,9,-999,1,-999,-999,1,-999,1
  740H20180228, A09.5,102,1,22,6426,2,20180330,517,-23.9999,5.9831,1643,604.8,5.246,34.3523,2,34.3523,2,202.2,2,201.7,2,-999,9,-999,9,-999,9,2188.3,2,2286.7,2,-999,9,-999,1,-999,-999,1,-999,1
  740H20180228, A09.5,102,1,21,6425,2,20180330,517,-23.9999,5.9831,1643,629.9,5.0312,34.351,2,34.3492,2,198.8,2,199.8,2,-999,9,-999,9,-999,9,2197.7,6,2294.9,6,-999,9,-999,1,-999,-999,1,-999,1
  740H20180228, A09.5,102,1,20,6428,2,20180330,517,-23.9999,5.9831,1643,756.9,4.2755,34.3904,2,34.3886,2,181,2,181.7,2,-999,9,-999,9,-999,9,2207.3,2,2298.7,2,-999,9,-999,1,-999,-999,1,-999,1
  740H20180228, A09.5,102,1,19,6692,2,20180330,517,-23.9999,5.9831,1643,882.3,3.7708,34.4584,2,34.458,2,174.4,2,174.9,2,-999,9,-999,9,-999,9,2225,6,2309,6,-999,9,-100.7,2,4,0.56,2,-999,1
  740H20180228, A09.5,102,1,18,1098,2,20180330,517,-23.9999,5.9831,1643,959.3,3.5637,34.5122,2,34.5088,2,175.2,2,175.7,2,-999,9,-999,9,-999,9,2222.4,2,2311.5,2,-999,9,-999,1,-999,-999,1,-999,1
  740H20180228, A09.5,102,1,17,1122,2,20180330,517,-23.9999,5.9831,1643,1109.6,3.5144,34.6229,2,34.6222,2,181.2,2,181.3,2,-999,9,-999,9,-999,9,2220.1,2,2315.1,2,-999,9,-999,1,-999,-999,1,-999,1
  740H20180228, A09.5,102,1,16,6420,2,20180330,517,-23.9999,5.9831,1643,1260.6,3.5032,34.7298,2,34.7291,2,193,2,193.4,2,-999,9,-999,9,-999,9,2206.7,6,2317,6,-999,9,-999,1,-999,-999,1,-999,1
  740H20180228, A09.5,102,1,15,6419,2,20180330,517,-23.9999,5.9831,1643,1515.4,3.348,34.8204,2,34.8177,2,208.6,2,208.8,2,-999,9,-999,9,-999,9,2202.1,2,2318.1,2,-999,9,-999,1,-999,-999,1,-999,1
  740H20180228, A09.5,102,1,13,6417,2,20180330,517,-23.9999,5.9831,1643,1649.3,3.2733,34.8404,2,34.8388,2,213.5,2,213.5,2,-999,9,-999,9,-999,9,2198.5,6,2321.7,6,-999,9,-999,1,-999,-999,1,-999,1
  740H20180228, A09.5,102,1,14,6418,2,20180330,517,-23.9999,5.9831,1643,1649.7,3.2719,34.8406,2,-999,9,213.6,2,-999,9,-999,9,-999,9,-999,9,-999,9,-999,9,-999,9,-999,9,-999,-999,9,-999,9
  740H20180228, A09.5,103,1,11,6415,2,20180330,1019,-24.0001,6.5333,2516,5.1,22.7761,35.6196,2,35.6141,2,219.1,2,219,2,0.73,2,0.14,2,0.19,2,2058.6,2,2346.6,2,-999,9,-999,9,-999,-999,9,-999,1
  740H20180228, A09.5,103,1,12,6416,2,20180330,1019,-24.0001,6.5333,2516,5.1,22.8661,35.6189,2,35.6153,2,218.5,2,-999,9,0.77,2,0.11,2,0.19,2,-999,9,-999,9,-999,9,-999,9,-999,-999,9,-999,1
  740H20180228, A09.5,103,1,10,6414,2,20180330,1019,-24.0001,6.5333,2516,25,22.4973,35.6059,2,35.6048,2,219.1,2,219.8,2,0.76,2,0.14,2,0.2,2,2062.1,2,2345.8,2,-999,9,-999,9,-999,-999,9,-999,1
  740H20180228, A09.5,103,1,9,6413,2,20180330,1019,-24.0001,6.5333,2516,50.6,20.8873,35.6365,2,35.6659,2,235.5,2,236.8,2,1.18,2,0.48,2,0.24,2,2075.1,2,2344.8,2,-999,9,-999,9,-999,-999,9,-999,1
  740H20180228, A09.5,103,1,8,6412,2,20180330,1019,-24.0001,6.5333,2516,70.2,18.4716,35.7114,2,35.7063,2,236.9,2,236.1,2,1.54,2,0.2,2,0.24,2,2090.7,2,2348.1,2,-999,1,-999,9,-999,-999,9,-999,1
  740H20180228, A09.5,103,1,7,6411,2,20180330,1019,-24.0001,6.5333,2516,86.5,17.8251,35.6787,2,35.6727,2,228.5,2,226.9,2,1.75,2,1.14,2,0.3,2,2096.4,6,2344.1,6,-999,1,-999,9,-999,-999,9,-999,1
  740H20180228, A09.5,103,1,6,6410,2,20180330,1019,-24.0001,6.5333,2516,103.4,17.3473,35.6376,2,35.632,2,218.1,2,219.5,2,2,2,2.96,2,0.37,2,2103.3,2,2341.4,2,-999,9,-999,9,-999,-999,9,-999,1
  740H20180228, A09.5,103,1,5,6409,2,20180330,1019,-24.0001,6.5333,2516,178.8,14.6458,35.2768,2,35.2603,2,204.7,2,204.3,2,3.42,2,8.55,2,0.65,2,2119.2,2,2316.2,2,-999,9,-999,9,-999,-999,9,-999,1
  740H20180228, A09.5,103,1,4,6408,2,20180330,1019,-24.0001,6.5333,2516,253.9,12.8618,35.1316,2,35.1327,2,158.7,2,160.3,2,5.84,2,16.66,2,1.1,2,2166.5,2,2308.4,2,-999,9,-999,9,-999,-999,9,-999,1
  740H20180228, A09.5,103,1,3,6407,2,20180330,1019,-24.0001,6.5333,2516,379.9,10.311,34.8404,2,34.84,2,163.9,2,164,2,9.05,2,21.29,2,1.39,2,2174.5,2,2295,2,-999,9,-999,9,-999,-999,9,-999,1
  740H20180228, A09.5,103,1,2,6406,2,20180330,1019,-24.0001,6.5333,2516,434.9,9.1435,34.7154,2,34.7173,2,158.8,2,159.2,2,11.79,2,24.44,2,1.6,2,2186.6,6,2292.6,6,-999,9,-999,9,-999,-999,9,-999,1
  740H20180228, A09.5,103,1,1,1077,2,20180330,1019,-24.0001,6.5333,2516,506.3,7.5525,34.5581,2,34.5584,2,164.8,2,164.9,2,15.5,2,27.92,2,1.83,2,2194.1,2,2287,2,-999,9,-999,9,-999,-999,9,-999,1
  740H20180228, A09.5,103,1,24,1086,2,20180330,1019,-24.0001,6.5333,2516,632.5,5.676,34.402,2,34.4015,2,183.2,2,183.7,2,21.55,2,30.56,2,2.01,2,2201.1,2,2288.3,2,-999,9,-999,9,-999,-999,9,-999,1
  740H20180228, A09.5,103,1,23,6427,2,20180330,1019,-24.0001,6.5333,2516,757.6,4.3725,34.3647,2,34.364,2,191,2,191.2,2,32.33,2,32.18,2,2.14,2,2208.8,2,2295.8,2,-999,9,-999,9,-999,-999,9,-999,1
  740H20180228, A09.5,103,1,22,6426,2,20180330,1019,-24.0001,6.5333,2516,884,3.8869,34.426,2,34.4238,2,177.7,2,178.1,2,40.76,2,33.59,2,2.25,2,2221.3,6,2304.3,6,-999,9,-999,9,-999,-999,9,-999,1
  740H20180228, A09.5,103,1,21,6425,2,20180330,1019,-24.0001,6.5333,2516,1010.3,3.5445,34.5108,2,34.5086,2,176,2,176.1,2,46.18,2,33.19,2,2.24,2,2228.2,2,2311.6,2,-999,9,-999,9,-999,-999,9,-999,1
  740H20180228, A09.5,103,1,20,6428,2,20180330,1019,-24.0001,6.5333,2516,1261.9,3.292,34.6782,2,34.6811,2,186.3,2,186.3,2,46.99,2,30.47,2,2.05,2,2225,2,2321.4,2,-999,9,-999,9,-999,-999,9,-999,1
  740H20180228, A09.5,103,1,19,6692,3,20180330,1019,-24.0001,6.5333,2516,1515.3,3.2534,34.8029,2,34.7998,4,205,2,204.8,4,40.78,4,27.13,4,1.81,4,2208.6,4,2322.2,4,-999,9,-999,9,-999,-999,9,-999,1
  740H20180228, A09.5,103,1,18,1098,2,20180330,1019,-24.0001,6.5333,2516,1768.5,3.1576,34.8631,2,34.8596,2,220.8,2,220.5,2,37.35,2,24.81,2,1.65,2,2198.8,6,2322.9,6,-999,9,-999,9,-999,-999,9,-999,1
  740H20180228, A09.5,103,1,17,1122,2,20180330,1019,-24.0001,6.5333,2516,2022,2.9871,34.8742,2,34.8715,2,226.8,2,226.7,2,39.29,2,24.19,2,1.6,2,2196.2,2,2323.9,2,-999,9,-999,9,-999,-999,9,-999,1
  740H20180228, A09.5,103,1,16,6420,2,20180330,1019,-24.0001,6.5333,2516,2276.9,2.8491,34.8724,2,34.8701,2,228.9,2,228.8,2,42.12,2,24.18,2,1.6,2,2201.1,2,2330.7,2,-999,9,-999,9,-999,-999,9,-999,1
  740H20180228, A09.5,103,1,15,6419,2,20180330,1019,-24.0001,6.5333,2516,2431.7,2.7127,34.8697,2,34.8675,2,230.6,2,230,2,44.92,2,24.17,2,1.6,2,2201.6,2,2330.3,2,-999,9,-999,9,-999,-999,9,-999,1
  740H20180228, A09.5,103,1,14,6418,2,20180330,1019,-24.0001,6.5333,2516,2537.8,2.6603,34.8679,2,34.8657,2,230.8,2,-999,9,46.35,2,24.2,2,1.6,2,-999,9,-999,9,-999,9,-999,9,-999,-999,9,-999,1
  740H20180228, A09.5,103,1,13,6417,2,20180330,1019,-24.0001,6.5333,2516,2538.8,2.6588,34.8677,2,34.8661,2,230.7,2,231.2,2,45.88,2,24.31,2,1.59,2,2201.3,6,2332.6,6,-999,9,-999,9,-999,-999,9,-999,1
  740H20180228, A09.5,104,1,12,6416,2,20180330,1524,-23.9999,7.038,2951,5.9,22.5546,35.6452,2,35.6449,2,220,2,-999,9,-999,5,-999,5,-999,5,-999,9,-999,9,-999,9,-999,9,-999,-999,9,-999,9
  740H20180228, A09.5,104,1,11,6415,2,20180330,1524,-23.9999,7.038,2951,6.2,22.551,35.6444,2,35.644,2,219.6,2,219.3,2,1.25,2,0.09,2,0.18,2,2068.6,2,2347.4,2,-999,9,-999,9,-999,-999,9,-999,1
  740H20180228, A09.5,104,1,10,6414,2,20180330,1524,-23.9999,7.038,2951,50.6,20.8744,35.7709,2,35.7686,2,237.6,2,237.3,2,1.36,2,0.07,2,0.17,2,2065,2,2350.2,2,-999,9,-999,9,-999,-999,9,-999,1
  740H20180228, A09.5,104,1,9,6413,2,20180330,1524,-23.9999,7.038,2951,64.3,19.7365,35.7458,2,35.7436,2,242.9,2,242,2,1.37,2,0.07,2,0.19,2,2078.9,2,2347.3,2,-999,1,-999,9,-999,-999,9,-999,1
  740H20180228, A09.5,104,1,8,6412,2,20180330,1524,-23.9999,7.038,2951,91.8,18.1431,35.6698,2,35.6651,2,234,2,234.3,2,1.63,2,0.62,2,0.27,2,2086.5,6,2342.3,6,-999,1,-999,9,-999,-999,9,-999,1
  740H20180228, A09.5,104,1,7,6411,2,20180330,1524,-23.9999,7.038,2951,105.1,17.281,35.5899,2,35.5767,2,220,2,219,2,1.96,2,3.91,2,0.45,2,2110,2,2334.4,2,-999,9,-999,9,-999,-999,9,-999,1
  740H20180228, A09.5,104,1,6,6410,2,20180330,1524,-23.9999,7.038,2951,176.9,14.7242,35.2741,2,35.2778,2,190.9,2,190.2,2,3.64,2,10.83,2,0.8,2,2125.3,2,2318.3,2,-999,9,-999,9,-999,-999,9,-999,1
  740H20180228, A09.5,104,1,5,6409,2,20180330,1524,-23.9999,7.038,2951,252.4,12.6804,35.1088,2,35.1056,2,166.1,2,165.8,2,5.74,2,16.35,2,1.09,2,2167.6,2,2304.4,2,-999,9,-999,9,-999,-999,9,-999,1
  740H20180228, A09.5,104,1,4,6408,2,20180330,1524,-23.9999,7.038,2951,378,10.3668,34.8529,2,34.8572,2,155.5,2,155.2,2,9.06,2,21.98,2,1.45,2,2167.9,2,2297.5,2,-999,9,-999,9,-999,-999,9,-999,1
  740H20180228, A09.5,104,1,3,6407,2,20180330,1524,-23.9999,7.038,2951,411.9,9.853,34.7979,2,34.7902,2,149.9,2,149.8,2,10.63,2,23.92,2,1.58,2,2182.6,6,2292.7,6,-999,9,-999,9,-999,-999,9,-999,1
  740H20180228, A09.5,104,1,1,5977,2,20180330,1524,-23.9999,7.038,2951,537.7,7.274,34.5438,2,34.5444,2,150.5,2,150.5,2,17.2,2,29.9,2,1.97,2,2209.5,2,2285.7,2,-999,9,-999,9,-999,-999,9,-999,1
  740H20180228, A09.5,104,1,24,1086,2,20180330,1524,-23.9999,7.038,2951,633.6,5.9019,34.4236,2,34.4229,2,174.3,2,175.1,2,21.25,2,30.69,2,2.05,2,2204.5,2,2284,2,-999,9,-999,9,-999,-999,9,-999,1
  740H20180228, A09.5,104,1,23,6427,2,20180330,1524,-23.9999,7.038,2951,759.5,4.668,34.3887,2,34.3875,2,176.9,2,177.3,2,30.75,2,32.72,2,2.22,2,2215.4,2,2293.3,2,-999,9,-999,9,-999,-999,9,-999,1
  740H20180228, A09.5,104,1,22,6426,2,20180330,1524,-23.9999,7.038,2951,820.2,4.3798,34.3994,2,34.3988,2,175.7,2,176,2,34.06,2,33.27,2,2.26,2,2218.6,6,2299.4,6,-999,9,-999,9,-999,-999,9,-999,1
  740H20180228, A09.5,104,1,21,6425,2,20180330,1524,-23.9999,7.038,2951,1012.1,3.5735,34.4931,2,34.4911,2,176.5,2,176.1,2,45.88,2,33.33,2,2.28,2,2232.4,2,2315,2,-999,9,-999,9,-999,-999,9,-999,1
  740H20180228, A09.5,104,1,20,6428,2,20180330,1524,-23.9999,7.038,2951,1265.3,3.3329,34.6721,2,34.6692,2,184.9,2,184.7,2,46.29,2,30.63,2,2.09,2,2225.9,2,2317.2,2,-999,9,-999,9,-999,-999,9,-999,1
  740H20180228, A09.5,104,1,19,6692,2,20180330,1524,-23.9999,7.038,2951,1518.3,3.2548,34.7992,2,34.7965,2,205,2,204.6,2,40.7,2,27.16,2,1.84,2,2213.3,2,2322.2,2,-999,9,-999,9,-999,-999,9,-999,1
  740H20180228, A09.5,104,1,18,1098,2,20180330,1524,-23.9999,7.038,2951,1772.8,3.1009,34.8529,2,34.8521,2,219.3,2,218.7,2,39.31,2,25.21,2,1.71,2,2200.6,6,2322.5,6,-999,9,-999,9,-999,-999,9,-999,1
  740H20180228, A09.5,104,1,17,1122,2,20180330,1524,-23.9999,7.038,2951,2025.1,2.9417,34.8765,2,34.8758,2,228.2,2,227.8,2,39.65,2,24.05,2,1.63,2,2199.7,2,2328,2,-999,9,-999,9,-999,-999,9,-999,1
  740H20180228, A09.5,104,1,16,6420,2,20180330,1524,-23.9999,7.038,2951,2281.1,2.7196,34.8756,2,34.8747,2,232.2,2,232,2,43.54,2,23.92,2,1.62,2,2199.8,2,2328,2,-999,9,-999,9,-999,-999,9,-999,1
  740H20180228, A09.5,104,1,15,6419,2,20180330,1524,-23.9999,7.038,2951,2534.1,2.5227,34.8654,2,34.8647,2,231.9,2,231.9,2,48.98,2,24.26,2,1.64,2,2206.7,2,2334.6,2,-999,9,-999,9,-999,-999,9,-999,1
  740H20180228, A09.5,104,1,14,6418,2,20180330,1524,-23.9999,7.038,2951,2790.5,2.4195,34.8654,2,34.8648,2,232.6,2,232.3,2,51.49,2,24.24,2,1.64,2,2207.7,2,2337.5,2,-999,9,-999,9,-999,-999,9,-999,1
  740H20180228, A09.5,104,1,13,6417,2,20180330,1524,-23.9999,7.038,2951,2980.5,2.3523,34.8615,2,34.8607,2,232,2,231.9,2,53.86,2,24.47,2,1.66,2,2211.5,6,2340.4,6,-999,9,-999,9,-999,-999,9,-999,1
  740H20180228, A09.5,104,1,2,1077,2,20180330,1524,-23.9999,7.038,2951,2980.7,2.3521,34.8616,2,-999,9,232.1,2,-999,9,-999,9,-999,9,-999,9,-999,9,-999,9,-999,9,-999,9,-999,-999,9,-999,9