BOTTLE,20190321PRINUNIVRMK,,,,,,,,,,,,,,,,,,,,,,,,,,,,,,,,,,,,,,,
EXPOCODE,SECT_ID,STNNBR,CASTNO,SAMPNO,BTLNBR,BTLNBR_FLAG_W,DATE,TIME,LATITUDE,LONGITUDE,DEPTH,CTDPRS,CTDTMP,CTDSAL,CTDSAL_FLAG_W,SALNTY,SALNTY_FLAG_W,CTDOXY,CTDOXY_FLAG_W,OXYGEN,OXYGEN_FLAG_W,SILCAT,SILCAT_FLAG_W,NITRAT,NITRAT_FLAG_W,PHSPHT,PHSPHT_FLAG_W,TCARBN,TCARBN_FLAG_W,ALKALI,ALKALI_FLAG_W,CHLORA,CHLORA_FLAG_W,DELC14,DELC14_FLAG_W,C14ERR,DELC13,DELC13_FLAG_W,DELO18,DELO18_FLAG_W
,,,,,,,,,,,METERS,DBAR,ITS-90,PSS-78,,PSS-78,,UMOL/KG,,UMOL/KG,,UMOL/KG,,UMOL/KG,,UMOL/KG,,UMOL/KG,,UMOL/KG,,UG/KG,,/MILLE,,/MILLE,/MILLE,,/MILLE,
  740H20180228, A09.5,14,1,24,1086,2,20180304,110,-23.9992,-38.4994,3484,5.5,27.3902,36.974,2,36.9719,2,202,2,201.5,2,0.54,2,0.03,2,0.07,2,-999,9,-999,9,-999,9,-999,9,-999,-999,9,-999,9
  740H20180228, A09.5,14,1,23,6427,2,20180304,110,-23.9992,-38.4994,3484,6.2,27.3927,36.9737,2,36.9727,2,200.5,2,201.9,2,0.54,2,0.02,2,0.07,2,2075.3,2,2418.7,2,-999,9,-999,9,-999,-999,9,-999,1
  740H20180228, A09.5,14,1,22,6426,2,20180304,110,-23.9992,-38.4994,3484,25.6,27.4208,37.0011,2,37.0052,2,201,2,-999,9,0.56,2,0.01,2,0.07,2,-999,9,-999,9,-999,9,-999,9,-999,-999,9,-999,1
  740H20180228, A09.5,14,1,21,6425,2,20180304,110,-23.9992,-38.4994,3484,50.6,27.3047,37.0796,2,37.0782,2,204,2,201.8,2,0.56,2,0.02,2,0.07,2,2079.8,2,2425.5,2,-999,9,-999,9,-999,-999,9,-999,1
  740H20180228, A09.5,14,1,20,6428,2,20180304,110,-23.9992,-38.4994,3484,76.4,23.5917,37.047,2,37.0583,2,224.7,2,222.6,2,0.46,2,0.02,2,0.06,2,2098.8,2,2431,2,-999,9,-999,9,-999,-999,9,-999,1
  740H20180228, A09.5,14,1,19,1098,2,20180304,110,-23.9992,-38.4994,3484,101.3,22.5457,36.9664,2,36.9672,2,221.6,2,219.4,2,0.46,2,0.03,2,0.09,2,2104.7,6,2427.8,6,-999,9,-999,9,-999,-999,9,-999,1
  740H20180228, A09.5,14,1,18,6692,2,20180304,110,-23.9992,-38.4994,3484,176.1,20.8433,36.6316,2,36.6376,2,207.1,2,205.7,2,0.47,2,0.87,2,0.13,2,-999,9,-999,9,-999,9,-999,9,-999,-999,9,-999,1
  740H20180228, A09.5,14,1,17,1122,2,20180304,110,-23.9992,-38.4994,3484,251.8,17.2366,35.8753,2,35.8494,2,201.5,2,200.3,2,1.22,2,3.67,2,0.36,2,2116.5,2,2358.3,2,-999,9,-999,9,-999,-999,9,-999,1
  740H20180228, A09.5,14,1,16,6420,2,20180304,110,-23.9992,-38.4994,3484,377.7,13.694,35.3099,2,35.3087,2,209.2,2,208.3,2,2.67,2,8.99,2,0.67,2,-999,9,-999,9,-999,9,-999,9,-999,-999,9,-999,1
  740H20180228, A09.5,14,1,15,6419,2,20180304,110,-23.9992,-38.4994,3484,503.5,10.7783,34.9081,2,34.8987,2,205.1,2,211.6,3,6,2,16.41,2,1.12,2,2145.7,2,2306.8,2,-999,9,-999,9,-999,-999,9,-999,1
  740H20180228, A09.5,14,1,14,6418,2,20180304,110,-23.9992,-38.4994,3484,629.6,8.1195,34.5992,2,34.5947,2,201.1,2,199,2,11.37,2,23.3,2,1.54,2,2166.6,2,2296.8,6,-999,9,-999,9,-999,-999,9,-999,1
  740H20180228, A09.5,14,1,13,6417,2,20180304,110,-23.9992,-38.4994,3484,755.8,5.8133,34.3859,2,34.3851,2,210,2,209.1,2,18.53,2,28.09,2,1.85,2,2179.7,2,2286.8,2,-999,9,-999,9,-999,-999,9,-999,1
  740H20180228, A09.5,14,1,12,6416,2,20180304,110,-23.9992,-38.4994,3484,882.3,4.4698,34.3503,2,34.351,2,204.3,2,-999,9,29.33,2,31.29,2,2.05,2,-999,9,-999,9,-999,9,-999,9,-999,-999,9,-999,1
  740H20180228, A09.5,14,1,11,6415,2,20180304,110,-23.9992,-38.4994,3484,1008.9,3.7545,34.3991,2,34.3998,2,195.8,2,193.9,2,39.72,2,32.88,2,2.16,2,2212.6,2,2304.8,2,-999,9,-999,9,-999,-999,9,-999,1
  740H20180228, A09.5,14,1,10,6414,2,20180304,110,-23.9992,-38.4994,3484,1260.4,3.4294,34.5978,2,34.6016,2,190.1,2,188.4,2,45.24,2,31.57,2,2.07,2,2219.9,6,2317,6,-999,9,-999,9,-999,-999,9,-999,1
  740H20180228, A09.5,14,1,9,6413,2,20180304,110,-23.9992,-38.4994,3484,1513.9,3.8458,34.8522,2,34.8578,2,216.1,2,213.3,2,29.54,2,25.29,2,1.65,2,2196.8,2,2314.5,2,-999,9,-999,9,-999,-999,9,-999,1
  740H20180228, A09.5,14,1,8,6412,2,20180304,110,-23.9992,-38.4994,3484,1768.5,3.8061,34.941,2,34.9418,2,240.1,2,235.2,2,22.04,2,21.52,2,1.41,2,2176.5,2,2314.7,2,-999,9,-999,9,-999,-999,9,-999,1
  740H20180228, A09.5,14,1,7,6411,2,20180304,110,-23.9992,-38.4994,3484,2021.9,3.5148,34.9567,2,34.9561,2,253,2,249,2,21.64,2,20.14,2,1.32,2,2172.9,2,2316.5,2,-999,9,-999,9,-999,-999,9,-999,1
  740H20180228, A09.5,14,1,6,6410,2,20180304,110,-23.9992,-38.4994,3484,2276.4,3.2572,34.9475,2,34.9477,2,255.2,2,251.8,2,24.35,2,20.1,2,1.32,2,2174.3,2,2317.5,2,-999,9,-999,9,-999,-999,9,-999,1
  740H20180228, A09.5,14,1,5,6409,2,20180304,110,-23.9992,-38.4994,3484,2531.3,3.0592,34.9369,2,34.9361,2,255.6,2,260,3,27.62,2,20.36,2,1.34,2,2178.2,6,2323.2,6,-999,9,-999,9,-999,-999,9,-999,1
  740H20180228, A09.5,14,1,4,6408,2,20180304,110,-23.9992,-38.4994,3484,2785.3,2.8731,34.9262,2,34.9295,2,255.5,2,251.8,2,30.89,2,20.67,2,1.36,2,-999,9,-999,9,-999,9,-999,9,-999,-999,9,-999,1
  740H20180228, A09.5,14,1,3,6407,2,20180304,110,-23.9992,-38.4994,3484,3041.5,2.7267,34.9177,2,34.9174,2,256.5,2,251.9,2,33.23,2,20.8,2,1.37,2,2178.9,2,2326.7,2,-999,9,-999,9,-999,-999,9,-999,1
  740H20180228, A09.5,14,1,2,6406,2,20180304,110,-23.9992,-38.4994,3484,3296.9,2.5567,34.9055,2,34.9063,2,256.5,2,252.5,2,36.84,2,21.05,2,1.4,2,2186.1,2,2330.6,2,-999,9,-999,9,-999,-999,9,-999,1
  740H20180228, A09.5,14,1,1,5977,2,20180304,110,-23.9992,-38.4994,3484,3523.7,2.2781,34.8795,2,34.8807,2,253.5,2,250.4,2,46.28,2,22.27,2,1.46,2,2195.7,2,2334.9,6,-999,9,-999,9,-999,-999,9,-999,1
  740H20180228, A09.5,15,1,23,6427,2,20180304,734,-24.0015,-38.0036,3598,14.2,27.388,37.0337,2,37.0323,2,202.3,2,204.9,2,0.5,2,0,2,0.04,2,2078.8,2,2422.8,2,-999,1,-999,9,-999,-999,9,-999,1
  740H20180228, A09.5,15,1,24,1086,2,20180304,734,-24.0015,-38.0036,3598,14.3,27.3826,37.0334,2,-999,9,201.6,2,-999,9,0.5,2,0,2,0.04,2,-999,9,-999,9,-999,9,-999,9,-999,-999,9,-999,9
  740H20180228, A09.5,15,1,22,6426,2,20180304,734,-24.0015,-38.0036,3598,59.6,24.6059,37.0949,2,37.1051,2,223.6,2,226,2,0.43,2,0,2,0.06,2,2097.8,6,2430.1,2,-999,1,-999,9,-999,-999,9,-999,1
  740H20180228, A09.5,15,1,21,6425,2,20180304,734,-24.0015,-38.0036,3598,89.9,22.5987,36.9626,2,36.9729,2,222.2,2,225.3,2,0.47,2,0,2,0.08,2,2103.3,2,2426.4,6,-999,9,-999,9,-999,-999,9,-999,1
  740H20180228, A09.5,15,1,20,6428,2,20180304,734,-24.0015,-38.0036,3598,109.9,22.1771,36.9247,2,36.9114,2,215,2,217.1,2,0.45,2,0.06,2,0.1,2,2110.4,2,2423.4,2,-999,9,-999,9,-999,-999,9,-999,1
  740H20180228, A09.5,15,1,18,6692,2,20180304,734,-24.0015,-38.0036,3598,129.7,21.8383,36.8587,2,36.8485,2,210.8,2,212,2,0.48,2,0.34,2,0.12,2,2110.5,6,2417.9,6,-999,9,-999,9,-999,-999,9,-999,1
  740H20180228, A09.5,15,1,19,1098,2,20180304,734,-24.0015,-38.0036,3598,129.9,21.7974,36.8567,2,-999,9,210.4,2,-999,9,0.45,2,0.3,2,0.12,2,-999,4,-999,9,-999,1,-999,9,-999,-999,9,-999,9
  740H20180228, A09.5,15,1,17,1122,2,20180304,734,-24.0015,-38.0036,3598,185.6,20.2415,36.4943,2,36.461,2,206.1,2,209,2,0.64,2,1.35,2,0.19,2,2111.2,2,2394,2,-999,9,-999,9,-999,-999,9,-999,1
  740H20180228, A09.5,15,1,16,6420,2,20180304,734,-24.0015,-38.0036,3598,259.8,16.2571,35.6859,2,35.6842,2,204.4,2,207,2,1.51,2,4.54,2,0.44,2,2116.5,2,2347.5,2,-999,9,-999,9,-999,-999,9,-999,1
  740H20180228, A09.5,15,1,15,6419,2,20180304,734,-24.0015,-38.0036,3598,386.8,13.4127,35.2774,2,35.2662,2,211.8,2,213.7,2,2.84,2,9.55,2,0.73,2,2128.8,2,2322.6,2,-999,9,-999,9,-999,-999,9,-999,1
  740H20180228, A09.5,15,1,14,6418,2,20180304,734,-24.0015,-38.0036,3598,512.1,10.9212,34.9284,2,34.9182,2,205,2,207.9,2,5.73,2,16.08,2,1.12,2,2145.6,2,2305.8,2,-999,9,-999,9,-999,-999,9,-999,1
  740H20180228, A09.5,15,1,13,6417,2,20180304,734,-24.0015,-38.0036,3598,764.5,5.5385,34.3821,2,34.3832,2,203.9,2,205.9,2,21.06,2,29.27,2,1.94,2,2185.5,2,2295,2,-999,9,-999,9,-999,-999,9,-999,1
  740H20180228, A09.5,15,1,12,6416,2,20180304,734,-24.0015,-38.0036,3598,890.4,4.4721,34.3849,2,34.3824,2,193.7,2,196.8,2,31.74,2,32.11,2,2.14,2,2202.9,2,2298.3,2,-999,9,-999,9,-999,-999,9,-999,1
  740H20180228, A09.5,15,1,11,6415,2,20180304,734,-24.0015,-38.0036,3598,1017.5,3.791,34.4256,2,34.4267,2,191.3,2,194,2,39.85,2,32.85,2,2.18,2,2212.8,2,2305.1,2,-999,9,-999,9,-999,-999,9,-999,1
  740H20180228, A09.5,15,1,10,6414,2,20180304,734,-24.0015,-38.0036,3598,1270.1,3.302,34.5867,2,34.5873,2,190.6,2,192.8,2,47.74,2,31.76,2,2.1,2,2218.6,6,2320.5,6,-999,9,-999,9,-999,-999,9,-999,1
  740H20180228, A09.5,15,1,9,6413,2,20180304,734,-24.0015,-38.0036,3598,1523.8,3.8188,34.8334,2,34.8379,2,212.9,2,214.3,2,30.3,2,25.78,2,1.68,2,2191.2,2,-999,9,-999,9,-999,9,-999,-999,9,-999,1
  740H20180228, A09.5,15,1,8,6412,2,20180304,734,-24.0015,-38.0036,3598,1774.4,3.8698,34.9355,2,34.9367,2,237,2,238.2,2,21.95,2,21.87,2,1.41,2,2173.4,2,2315.6,2,-999,9,-999,9,-999,-999,9,-999,1
  740H20180228, A09.5,15,1,7,6411,2,20180304,734,-24.0015,-38.0036,3598,2026,3.5888,34.9532,2,34.9535,2,250.4,2,250.7,2,21.53,2,20.4,2,1.3,2,2219.8,4,-999,4,-999,9,-999,9,-999,-999,9,-999,1
  740H20180228, A09.5,15,1,6,6410,2,20180304,734,-24.0015,-38.0036,3598,2329,3.2369,34.9456,2,34.9452,2,255,2,256.4,2,24.69,2,20.14,2,1.29,2,2168.4,2,2320.9,2,-999,9,-999,9,-999,-999,9,-999,1
  740H20180228, A09.5,15,1,5,6409,2,20180304,734,-24.0015,-38.0036,3598,2838.2,2.8373,34.9241,2,34.924,2,255.1,2,255.7,2,31.38,2,20.65,2,1.34,2,-999,9,-999,9,-999,9,-999,9,-999,-999,9,-999,1
  740H20180228, A09.5,15,1,4,6408,2,20180304,734,-24.0015,-38.0036,3598,3248.4,2.5214,34.9033,2,34.9061,2,256.1,2,257,2,37.7,2,21.09,2,1.38,2,2180.9,2,2329.7,2,-999,9,-999,9,-999,-999,9,-999,1
  740H20180228, A09.5,15,1,3,6407,2,20180304,734,-24.0015,-38.0036,3598,3453.3,2.1885,34.8712,2,34.8726,2,252.1,2,252.1,2,49.53,2,22.7,2,1.49,2,2196.4,2,-999,3,-999,9,-999,9,-999,-999,9,-999,1
  740H20180228, A09.5,15,1,1,5977,2,20180304,734,-24.0015,-38.0036,3598,3642.5,1.894,34.84,2,34.8407,2,247.1,2,246.6,2,62.15,2,24.5,2,1.62,2,2204.4,6,2341.4,2,-999,9,-999,9,-999,-999,9,-999,1
  740H20180228, A09.5,15,1,2,6406,2,20180304,734,-24.0015,-38.0036,3598,3643.4,1.8934,34.8398,2,-999,9,247.3,2,-999,9,61.89,2,24.44,2,1.62,2,-999,9,-999,9,-999,9,-999,9,-999,-999,9,-999,9
  740H20180228, A09.5,16,1,24,1086,2,20180304,1344,-24.0005,-37.4996,4064,12.4,27.4762,36.9582,2,36.9569,2,200.4,2,-999,9,0.4,2,0,2,0.05,2,-999,9,-999,9,-999,9,-999,9,-999,-999,9,-999,9
  740H20180228, A09.5,16,1,23,6427,2,20180304,1344,-24.0005,-37.4996,4064,13.1,27.4709,36.958,2,36.959,2,202.5,2,202.4,2,0.41,2,0.01,2,0.05,2,2076.7,2,2419.8,2,-999,9,-999,9,-999,-999,9,-999,1
  740H20180228, A09.5,16,1,22,6426,2,20180304,1344,-24.0005,-37.4996,4064,58.1,23.8462,36.8184,2,36.8075,2,229.4,2,228.1,2,0.51,2,0.01,2,0.06,2,2086.1,2,2410.8,2,-999,9,-999,9,-999,-999,9,-999,1
  740H20180228, A09.5,16,1,21,6425,2,20180304,1344,-24.0005,-37.4996,4064,77.9,22.6206,36.848,2,36.8459,2,228.9,2,226.8,2,0.5,2,0,2,0.08,2,2095.3,2,2414.4,2,-999,9,-999,9,-999,-999,9,-999,1
  740H20180228, A09.5,16,1,20,6428,2,20180304,1344,-24.0005,-37.4996,4064,107.8,21.8652,36.8298,2,36.8374,2,217.6,2,217.2,2,0.51,2,0.01,2,0.12,2,2105.7,2,2413.4,2,-999,9,-999,9,-999,-999,9,-999,1
  740H20180228, A09.5,16,1,19,1098,2,20180304,1344,-24.0005,-37.4996,4064,138.1,21.253,36.706,2,36.7094,2,213.3,2,-999,9,0.53,2,0.24,2,0.15,2,-999,9,-999,4,-999,9,-999,9,-999,-999,9,-999,9
  740H20180228, A09.5,16,1,18,6692,2,20180304,1344,-24.0005,-37.4996,4064,138.5,21.2113,36.6976,2,36.701,2,212.4,2,210.9,2,0.53,2,0.29,2,0.14,2,2109,2,2405.3,2,-999,9,-999,9,-999,-999,9,-999,1
  740H20180228, A09.5,16,1,17,1122,2,20180304,1344,-24.0005,-37.4996,4064,183.7,20.1989,36.4634,2,36.4257,2,210.3,2,208.4,2,0.59,2,0.95,2,0.17,2,2104.9,2,2385.5,2,-999,9,-999,9,-999,-999,9,-999,1
  740H20180228, A09.5,16,1,16,6420,2,20180304,1344,-24.0005,-37.4996,4064,384.7,13.3447,35.2519,2,35.2415,2,208.9,2,207.1,2,3.02,2,9.88,2,0.77,2,2127.2,6,2318.4,6,-999,9,-999,9,-999,-999,9,-999,1
  740H20180228, A09.5,16,1,15,6419,2,20180304,1344,-24.0005,-37.4996,4064,636.9,7.8162,34.5739,2,34.5751,2,193.3,2,194.2,2,12.85,2,24.69,2,1.67,2,2170.5,2,2291,2,-999,9,-999,9,-999,-999,9,-999,1
  740H20180228, A09.5,16,1,14,6418,2,20180304,1344,-24.0005,-37.4996,4064,712.4,6.424,34.4623,2,34.4651,2,189.8,2,188.4,2,18.06,2,28.36,2,1.89,2,2184.5,2,2291.2,2,-999,9,-999,9,-999,-999,9,-999,1
  740H20180228, A09.5,16,1,13,6417,2,20180304,1344,-24.0005,-37.4996,4064,793.4,5.1206,34.3668,2,34.3654,2,203.5,2,202.3,2,24.33,2,30.12,2,2.01,2,2187.1,2,2290.9,2,-999,9,-999,9,-999,-999,9,-999,1
  740H20180228, A09.5,16,1,11,6415,2,20180304,1344,-24.0005,-37.4996,4064,1187.8,3.3517,34.5668,2,34.5692,2,189.9,2,188,2,47.63,2,31.88,2,2.14,2,2218.3,6,2317,6,-999,9,-999,9,-999,-999,9,-999,1
  740H20180228, A09.5,16,1,12,6416,2,20180304,1344,-24.0005,-37.4996,4064,1187.8,3.3535,34.568,2,34.5653,2,189.8,2,-999,9,47.64,2,31.9,2,2.14,2,-999,9,-999,9,-999,9,-999,9,-999,-999,9,-999,9
  740H20180228, A09.5,16,1,10,6414,2,20180304,1344,-24.0005,-37.4996,4064,1522.3,3.8184,34.8538,2,34.8538,2,216.8,2,211.2,2,29.98,2,25.08,2,1.66,2,2191.9,2,2316,2,-999,9,-999,9,-999,-999,9,-999,1
  740H20180228, A09.5,16,1,9,6413,4,20180304,1344,-24.0005,-37.4996,4064,1928.7,3.6205,34.9572,2,34.853,4,250.5,2,213.7,4,29.7,4,25.12,4,1.66,4,2189.5,4,-999,9,-999,9,-999,9,-999,-999,9,-999,1
  740H20180228, A09.5,16,1,8,6412,2,20180304,1344,-24.0005,-37.4996,4064,2285.9,3.2507,34.9478,2,34.9477,2,255.2,2,252.6,2,24.23,2,20.06,2,1.31,2,2170,2,2320.7,2,-999,9,-999,9,-999,-999,9,-999,1
  740H20180228, A09.5,16,1,7,6411,2,20180304,1344,-24.0005,-37.4996,4064,2540.5,3.0319,34.9355,2,34.9363,2,255,2,251.4,2,27.91,2,20.4,2,1.34,2,2173.2,2,2323.5,2,-999,9,-999,9,-999,-999,9,-999,1
  740H20180228, A09.5,16,1,6,6410,2,20180304,1344,-24.0005,-37.4996,4064,2795.5,2.8709,34.9262,2,34.9266,2,254.9,2,251,2,30.75,2,20.69,2,1.36,2,2175.3,2,2325,2,-999,9,-999,9,-999,-999,9,-999,1
  740H20180228, A09.5,16,1,5,6409,2,20180304,1344,-24.0005,-37.4996,4064,3051,2.737,34.9182,2,34.9178,2,255.6,2,252.3,2,32.92,2,20.78,2,1.38,2,2174.4,2,2328.1,2,-999,9,-999,9,-999,-999,9,-999,1
  740H20180228, A09.5,16,1,4,6408,2,20180304,1344,-24.0005,-37.4996,4064,3255.4,2.5972,34.9088,2,34.9104,2,256.2,2,252.5,2,35.63,2,20.97,2,1.4,2,2179.8,2,2329.8,2,-999,9,-999,9,-999,-999,9,-999,1
  740H20180228, A09.5,16,1,3,6407,2,20180304,1344,-24.0005,-37.4996,4064,3563,2.2123,34.8727,2,34.8737,2,252.3,2,248.9,2,48.42,2,22.69,2,1.52,2,2192,2,2333.7,2,-999,9,-999,9,-999,-999,9,-999,1
  740H20180228, A09.5,16,1,2,6406,2,20180304,1344,-24.0005,-37.4996,4064,4117.2,0.5574,34.6997,2,34.6994,2,225,2,220.7,2,115.67,2,32.08,2,2.18,2,2255,2,2364.4,2,-999,9,-999,9,-999,-999,9,-999,1
  740H20180228, A09.5,16,1,1,5977,4,20180304,1344,-24.0005,-37.4996,4064,4117.4,0.5583,34.6996,2,-999,9,224.8,2,-999,9,-999,9,-999,9,-999,9,-999,9,-999,9,-999,9,-999,9,-999,-999,9,-999,9
  740H20180228, A09.5,17,1,23,6427,2,20180304,1958,-23.9997,-37,4042,3.4,27.3438,36.9143,2,36.915,2,202.3,2,204.7,2,0.42,2,0.02,2,0.03,2,2081.1,2,2419.7,2,-999,1,-999,9,-999,-999,9,-999,1
  740H20180228, A09.5,17,1,24,1086,2,20180304,1958,-23.9997,-37,4042,3.8,27.3451,36.9146,2,36.9132,2,201.7,2,-999,9,0.47,2,0.02,2,0.04,2,-999,9,-999,9,-999,9,-999,9,-999,-999,9,-999,9
  740H20180228, A09.5,17,1,22,6426,2,20180304,1958,-23.9997,-37,4042,49.8,25.1951,36.865,2,36.8678,2,222.6,2,224,2,0.52,2,0.02,2,0.06,2,2086.9,2,2415.3,2,-999,9,-999,9,-999,-999,9,-999,1
  740H20180228, A09.5,17,1,21,6425,2,20180304,1958,-23.9997,-37,4042,74.5,22.8347,36.8208,2,36.8206,2,228,2,230.9,2,0.43,2,0.02,2,0.04,2,2093.3,6,2411.5,6,-999,1,-999,9,-999,-999,9,-999,1
  740H20180228, A09.5,17,1,20,6428,2,20180304,1958,-23.9997,-37,4042,100.4,22.0571,36.839,2,36.8322,2,221.7,2,222.9,2,0.46,2,0.03,2,0.08,2,-999,9,-999,9,-999,9,-999,9,-999,-999,9,-999,1
  740H20180228, A09.5,17,1,19,1098,2,20180304,1958,-23.9997,-37,4042,129.8,21.5041,36.7592,2,36.7549,2,216.2,2,216.7,2,0.47,2,0.03,2,0.1,2,2108,2,2408.2,2,-999,1,-999,9,-999,-999,9,-999,1
  740H20180228, A09.5,17,1,18,6692,2,20180304,1958,-23.9997,-37,4042,175.5,20.7547,36.5896,2,36.5909,2,211.9,2,212.7,2,0.47,2,0.58,2,0.12,2,2106.4,2,2396.6,2,-999,9,-999,9,-999,-999,9,-999,1
  740H20180228, A09.5,17,1,17,1122,2,20180304,1958,-23.9997,-37,4042,250.9,16.927,35.7849,2,35.7816,2,206,2,208.3,2,1.38,2,3.42,2,0.38,2,-999,9,-999,9,-999,9,-999,9,-999,-999,9,-999,1
  740H20180228, A09.5,17,1,16,6420,2,20180304,1958,-23.9997,-37,4042,377.1,13.9333,35.3387,2,35.343,2,209.9,2,212.2,2,2.49,2,8.28,2,0.66,2,2124.3,2,2325.1,2,-999,9,-999,9,-999,-999,9,-999,1
  740H20180228, A09.5,17,1,15,6419,2,20180304,1958,-23.9997,-37,4042,503.1,11.2394,34.966,2,34.9594,2,202.5,2,203.2,2,5.53,2,15.44,2,1.08,2,2144,2,2305.7,2,-999,9,-999,9,-999,-999,9,-999,1
  740H20180228, A09.5,17,1,14,6418,2,20180304,1958,-23.9997,-37,4042,629,8.2224,34.607,2,34.6065,2,203.5,2,204.3,2,10.85,2,22.73,2,1.52,2,2162.2,2,2295.8,2,-999,9,-999,9,-999,-999,9,-999,1
  740H20180228, A09.5,17,1,13,6417,4,20180304,1958,-23.9997,-37,4042,755.4,6.0544,34.4005,2,34.606,4,211.3,2,204.7,4,10.89,4,22.74,4,1.52,4,2163.2,4,-999,9,-999,9,-999,9,-999,-999,9,-999,1
  740H20180228, A09.5,17,1,12,6416,2,20180304,1958,-23.9997,-37,4042,881.5,4.4996,34.3372,2,34.3373,2,209.2,2,210.6,2,28.3,2,30.73,2,2.03,2,2192,2,2299.3,2,-999,9,-999,9,-999,-999,9,-999,1
  740H20180228, A09.5,17,1,11,6415,2,20180304,1958,-23.9997,-37,4042,1008.5,3.8022,34.397,2,34.3993,2,195.5,2,196.1,2,40.07,2,32.67,2,2.16,2,2211.4,2,2307,2,-999,9,-999,9,-999,-999,9,-999,1
  740H20180228, A09.5,17,1,10,6414,2,20180304,1958,-23.9997,-37,4042,1260.7,3.3326,34.5942,2,34.5958,2,190.5,2,190.7,2,-999,9,-999,9,-999,9,2220.8,6,2323.3,6,-999,9,-999,9,-999,-999,9,-999,1
  740H20180228, A09.5,17,1,9,6413,2,20180304,1958,-23.9997,-37,4042,1514.7,3.8081,34.8407,2,34.8407,2,214,2,214.5,2,30.72,2,25.56,2,1.66,2,2197.2,2,2320.6,2,-999,9,-999,9,-999,-999,9,-999,1
  740H20180228, A09.5,17,1,8,6412,2,20180304,1958,-23.9997,-37,4042,1767.8,3.7234,34.9402,2,34.9397,2,242,2,244.5,2,22.36,2,21.37,2,1.38,2,2171.9,2,2319.8,2,-999,9,-999,9,-999,-999,9,-999,1
  740H20180228, A09.5,17,1,7,6411,2,20180304,1958,-23.9997,-37,4042,2022.2,3.4726,34.953,2,34.9527,2,252.6,2,252.4,2,22.08,2,20.23,2,1.3,2,2170.4,2,2322.5,2,-999,9,-999,9,-999,-999,9,-999,1
  740H20180228, A09.5,17,1,6,6410,2,20180304,1958,-23.9997,-37,4042,2277,3.2104,34.9455,2,34.9449,2,255.5,2,254.9,2,24.91,2,20.18,2,1.3,2,2173.2,2,2324.8,2,-999,9,-999,9,-999,-999,9,-999,1
  740H20180228, A09.5,17,1,5,6409,2,20180304,1958,-23.9997,-37,4042,2541.8,2.9997,34.934,2,34.9337,2,255.2,2,254.4,2,28.57,2,20.53,2,1.33,2,2177.7,2,2329.2,2,-999,9,-999,9,-999,-999,9,-999,1
  740H20180228, A09.5,17,1,4,6408,2,20180304,1958,-23.9997,-37,4042,3052.1,2.7467,34.9189,2,34.9189,2,255.8,2,254.3,2,32.94,2,20.81,2,1.35,2,2179.7,6,2332,6,-999,9,-999,9,-999,-999,9,-999,1
  740H20180228, A09.5,17,1,3,6407,2,20180304,1958,-23.9997,-37,4042,3563.5,2.3398,34.8851,2,34.8866,2,254.3,2,253.4,2,44.34,2,22.03,2,1.43,2,2187.4,2,2330.6,2,-999,9,-999,9,-999,-999,9,-999,1
  740H20180228, A09.5,17,1,2,6406,2,20180304,1958,-23.9997,-37,4042,4096.3,0.7348,34.7152,2,34.7147,2,225.9,2,-999,9,110.05,2,31.18,2,2.05,2,-999,9,-999,3,-999,9,-999,9,-999,-999,9,-999,9
  740H20180228, A09.5,17,1,1,5977,2,20180304,1958,-23.9997,-37,4042,4096.5,0.7351,34.7153,2,34.7155,2,226.1,2,224.8,2,110.65,2,31.28,2,2.05,2,2253.5,6,-999,3,-999,9,-999,9,-999,-999,9,-999,1