BOTTLE,20190321PRINUNIVRMK,,,,,,,,,,,,,,,,,,,,,,,,,,,,,,,,,,,,,,,
EXPOCODE,SECT_ID,STNNBR,CASTNO,SAMPNO,BTLNBR,BTLNBR_FLAG_W,DATE,TIME,LATITUDE,LONGITUDE,DEPTH,CTDPRS,CTDTMP,CTDSAL,CTDSAL_FLAG_W,SALNTY,SALNTY_FLAG_W,CTDOXY,CTDOXY_FLAG_W,OXYGEN,OXYGEN_FLAG_W,SILCAT,SILCAT_FLAG_W,NITRAT,NITRAT_FLAG_W,PHSPHT,PHSPHT_FLAG_W,TCARBN,TCARBN_FLAG_W,ALKALI,ALKALI_FLAG_W,CHLORA,CHLORA_FLAG_W,DELC14,DELC14_FLAG_W,C14ERR,DELC13,DELC13_FLAG_W,DELO18,DELO18_FLAG_W
,,,,,,,,,,,METERS,DBAR,ITS-90,PSS-78,,PSS-78,,UMOL/KG,,UMOL/KG,,UMOL/KG,,UMOL/KG,,UMOL/KG,,UMOL/KG,,UMOL/KG,,UG/KG,,/MILLE,,/MILLE,/MILLE,,/MILLE,
  740H20180228, A09.5,85,1,12,6416,2,20180325,955,-24.0005,-1.5997,5519,6.1,23.4577,36.2439,2,36.2434,2,215,2,214.8,2,1.18,2,0.2,2,0.19,2,2097.9,2,2380.5,2,-999,9,-999,1,-999,-999,1,-999,1
  740H20180228, A09.5,85,1,11,6415,2,20180325,955,-24.0005,-1.5997,5519,52,21.8161,36.0062,2,35.9861,2,235.1,2,234.9,2,1.18,2,0.17,2,0.2,2,2080,2,2363.8,2,-999,9,-999,1,-999,-999,1,-999,1
  740H20180228, A09.5,85,1,10,6414,2,20180325,955,-24.0005,-1.5997,5519,87.1,19.0729,35.8551,2,35.8514,2,242.8,2,241.8,2,1.59,2,0.25,2,0.2,2,2082.9,2,-999,9,-999,1,-999,1,-999,-999,1,-999,1
  740H20180228, A09.5,85,1,9,6413,2,20180325,955,-24.0005,-1.5997,5519,101.4,18.1459,35.7712,2,35.7471,2,232.3,2,231.1,2,1.77,2,1.16,2,0.31,2,2093.6,6,2347.1,6,-999,1,-999,1,-999,-999,1,-999,1
  740H20180228, A09.5,85,1,8,6412,2,20180325,955,-24.0005,-1.5997,5519,177.6,15.4312,35.377,2,35.3805,2,208.3,2,208.5,2,3.07,2,6.27,2,0.57,2,2114.1,2,2322.1,2,-999,9,-999,1,-999,-999,1,-999,1
  740H20180228, A09.5,85,1,7,6411,2,20180325,955,-24.0005,-1.5997,5519,252.4,13.0456,35.1327,2,35.1288,2,200,2,200.4,2,4.63,2,11.62,2,0.88,2,2133.4,2,2310.2,2,-999,9,41.4,2,4,0.64,2,-999,1
  740H20180228, A09.5,85,1,6,6410,2,20180325,955,-24.0005,-1.5997,5519,378.6,10.5755,34.8657,2,34.8678,2,187.7,2,187.4,2,7.7,2,18.14,2,1.3,2,2161,2,2298.4,2,-999,9,-999,1,-999,-999,1,-999,1
  740H20180228, A09.5,85,1,5,6409,2,20180325,955,-24.0005,-1.5997,5519,504.4,7.9477,34.5852,2,34.5973,2,175.4,2,175.7,2,14.17,2,25.42,2,1.77,2,2183.1,2,2290.4,2,-999,9,-999,1,-999,-999,1,-999,1
  740H20180228, A09.5,85,1,4,6408,2,20180325,955,-24.0005,-1.5997,5519,630.2,5.8776,34.4088,2,34.4095,2,185.9,2,185.7,2,20.9,2,29.69,2,2.05,2,2193.8,6,2288.3,6,-999,9,-999,1,-999,-999,1,-999,1
  740H20180228, A09.5,85,1,3,6407,2,20180325,955,-24.0005,-1.5997,5519,756.9,4.7645,34.3911,2,34.392,2,175.9,2,176.2,2,30.36,2,32.72,2,2.26,2,2210.6,2,2295.4,2,-999,9,-999,1,-999,-999,1,-999,1
  740H20180228, A09.5,85,1,2,6406,2,20180325,955,-24.0005,-1.5997,5519,882.6,3.9812,34.427,2,34.4266,2,176.7,2,176.8,2,39.78,2,33.33,2,2.31,2,2219.4,2,2301.9,2,-999,9,-999,1,-999,-999,1,-999,1
  740H20180228, A09.5,85,1,1,5977,2,20180325,955,-24.0005,-1.5997,5519,1009.3,3.6859,34.5127,2,34.5095,2,177.6,2,177.6,2,42.42,2,32.72,2,2.26,2,2221.7,6,2311.5,6,-999,9,-999,1,-999,-999,1,-999,1
  740H20180228, A09.5,85,1,24,1086,2,20180325,955,-24.0005,-1.5997,5519,1261.6,3.6001,34.6782,2,34.6802,2,188,2,188.2,2,39.58,2,29.83,2,2.03,2,2212.6,2,2315.9,2,-999,9,-999,1,-999,-999,1,-999,1
  740H20180228, A09.5,85,1,23,6427,2,20180325,955,-24.0005,-1.5997,5519,1515.5,3.4406,34.7933,2,34.7987,2,207.8,2,208.2,2,37.21,2,26.6,2,1.8,2,2202.5,2,2318.1,2,-999,9,-999,1,-999,-999,1,-999,1
  740H20180228, A09.5,85,1,22,6426,2,20180325,955,-24.0005,-1.5997,5519,1622.7,3.3558,34.8289,2,34.8278,2,216.1,2,216.4,2,36.21,2,25.38,2,1.71,2,2197.5,2,2320.4,2,-999,9,-999,9,-999,-999,9,-999,1
  740H20180228, A09.5,85,1,21,6425,2,20180325,955,-24.0005,-1.5997,5519,1768.8,3.2441,34.8624,2,34.861,2,225.2,2,225.1,2,35.31,2,24.17,2,1.62,2,2192.8,2,2321.4,2,-999,9,-999,1,-999,-999,1,-999,1
  740H20180228, A09.5,85,1,20,6428,2,20180325,955,-24.0005,-1.5997,5519,2277.3,2.7288,34.8674,2,34.8665,2,233.6,2,234.1,2,43.47,2,23.71,2,1.6,2,2193.9,2,2329.2,2,-999,9,-999,9,-999,-999,9,-999,1
  740H20180228, A09.5,85,1,19,6692,2,20180325,955,-24.0005,-1.5997,5519,2531,2.5911,34.8703,2,34.8691,2,236.3,2,236.9,2,46.08,2,23.59,2,1.6,2,2196.6,2,2331.2,2,-999,9,-999,1,-999,-999,1,-999,1
  740H20180228, A09.5,85,1,18,1098,2,20180325,955,-24.0005,-1.5997,5519,3040.6,2.4207,34.8719,2,34.8711,2,238.2,2,238.7,2,50.24,2,23.46,2,1.6,2,2199.5,6,2336.8,6,-999,9,-999,9,-999,-999,9,-999,1
  740H20180228, A09.5,85,1,17,1122,2,20180325,955,-24.0005,-1.5997,5519,3550.9,2.3654,34.8819,2,34.8818,2,233.5,2,234.4,2,52.41,2,23.48,2,1.61,2,2208.6,2,2350.6,2,-999,9,-999,1,-999,-999,1,-999,1
  740H20180228, A09.5,85,1,16,6420,2,20180325,955,-24.0005,-1.5997,5519,4061.3,2.3686,34.8853,2,34.8833,2,232.1,2,233.6,2,53.21,2,23.46,2,1.6,2,2210.9,6,2360.1,6,-999,9,-999,9,-999,-999,9,-999,1
  740H20180228, A09.5,85,1,15,6419,2,20180325,955,-24.0005,-1.5997,5519,4573.4,2.4039,34.8843,2,34.8852,2,232.5,2,233.1,2,53.41,2,23.42,2,1.6,2,2215.8,2,2358.7,2,-999,9,-999,1,-999,-999,1,-999,1
  740H20180228, A09.5,85,1,14,6418,2,20180325,955,-24.0005,-1.5997,5519,5090.6,2.4523,34.8826,2,34.8818,2,232.8,2,233.6,2,53.76,2,23.39,2,1.6,2,2213,6,2356.8,6,-999,9,-999,9,-999,-999,9,-999,1
  740H20180228, A09.5,85,1,13,6417,2,20180325,955,-24.0005,-1.5997,5519,5614.9,2.5189,34.882,2,34.8817,2,233.1,2,233.2,3,53.84,2,23.32,2,1.59,2,2215.6,6,2359,6,-999,9,-999,1,-999,-999,1,-999,1
  740H20180228, A09.5,86,1,12,6416,2,20180325,1711,-23.9999,-1.1,4674,8.1,23.5758,36.2824,2,36.2843,2,215.1,2,214.2,2,1.29,2,0.26,2,0.22,2,2110.7,2,2381,2,-999,9,-999,9,-999,-999,9,-999,1
  740H20180228, A09.5,86,1,11,6415,2,20180325,1711,-23.9999,-1.1,4674,52.4,21.0908,35.9478,2,35.9358,2,239.8,2,239,2,1.49,2,0.25,2,0.18,2,2091.6,6,2361.4,6,-999,9,-999,9,-999,-999,9,-999,1
  740H20180228, A09.5,86,1,10,6414,2,20180325,1711,-23.9999,-1.1,4674,73,19.5373,35.8805,2,35.8783,2,244.7,2,242.6,2,1.59,2,0.19,2,0.17,2,2084.5,2,2357.4,2,-999,9,-999,9,-999,-999,9,-999,1
  740H20180228, A09.5,86,1,9,6413,2,20180325,1711,-23.9999,-1.1,4674,107.9,17.6511,35.7238,2,35.7208,2,233,2,251,2,1.84,2,0.34,2,0.21,2,2110.9,6,2333.8,6,-999,9,-999,9,-999,-999,9,-999,1
  740H20180228, A09.5,86,1,8,6412,2,20180325,1711,-23.9999,-1.1,4674,178.4,15.2801,35.3575,2,35.3583,2,208.9,2,208.9,2,2.98,2,6.17,2,0.54,2,2124.6,2,2319.7,2,-999,9,-999,9,-999,-999,9,-999,1
  740H20180228, A09.5,86,1,7,6411,2,20180325,1711,-23.9999,-1.1,4674,253.4,13.1833,35.1427,2,35.1411,2,198.9,2,198.7,2,4.58,2,11.29,2,0.84,2,-999,9,-999,9,-999,9,-999,9,-999,-999,9,-999,1
  740H20180228, A09.5,86,1,6,6410,2,20180325,1711,-23.9999,-1.1,4674,379.5,10.2742,34.8323,2,34.8457,2,180,2,171.6,2,8.35,2,19.07,2,1.32,2,2176,2,2295.4,2,-999,9,-999,9,-999,-999,9,-999,1
  740H20180228, A09.5,86,1,5,6409,2,20180325,1711,-23.9999,-1.1,4674,478.9,8.2147,34.6114,2,34.616,2,172.8,2,173.6,2,13.68,2,25.24,2,1.72,2,2185.6,2,2291.5,2,-999,9,-999,9,-999,-999,9,-999,1
  740H20180228, A09.5,86,1,4,6408,2,20180325,1711,-23.9999,-1.1,4674,531.1,6.8142,34.4815,2,34.4853,2,179.3,2,179.3,2,17.18,2,27.94,2,1.9,2,2203.9,2,2286.6,2,-999,9,-999,9,-999,-999,9,-999,1
  740H20180228, A09.5,86,1,3,6407,2,20180325,1711,-23.9999,-1.1,4674,636.2,5.5853,34.4219,2,34.4241,2,166.1,2,166.1,2,23.94,2,32,2,2.17,2,2209.5,2,2290.8,2,-999,9,-999,9,-999,-999,9,-999,1
  740H20180228, A09.5,86,1,2,6406,2,20180325,1711,-23.9999,-1.1,4674,727.2,4.8787,34.4134,2,34.4125,2,164.4,2,163.3,2,29.55,2,33.41,2,2.29,2,2228.7,2,2293.8,2,-999,9,-999,9,-999,-999,9,-999,1
  740H20180228, A09.5,86,1,1,5977,2,20180325,1711,-23.9999,-1.1,4674,822.1,4.2853,34.4106,2,34.4087,2,174.9,2,174.9,2,35.39,2,33.22,2,2.3,2,2223.2,6,2298.7,6,-999,9,-999,9,-999,-999,9,-999,1
  740H20180228, A09.5,86,1,24,1086,2,20180325,1711,-23.9999,-1.1,4674,1015.6,3.7038,34.5204,2,34.5181,2,177.8,2,177.6,2,41.67,2,32.52,2,2.26,2,2221.4,2,2309.6,2,-999,9,-999,9,-999,-999,9,-999,1
  740H20180228, A09.5,86,1,23,6427,2,20180325,1711,-23.9999,-1.1,4674,1267.9,3.6188,34.6834,2,34.6835,2,189.1,2,188.2,2,39.05,2,29.57,2,2.04,2,2223.6,2,2313.3,2,-999,9,-999,9,-999,-999,9,-999,1
  740H20180228, A09.5,86,1,22,6426,2,20180325,1711,-23.9999,-1.1,4674,1520.2,3.4908,34.8103,2,34.8073,2,208.2,2,207.9,2,35.53,2,26.24,2,1.8,2,2202.2,2,2318.6,2,-999,9,-999,9,-999,-999,9,-999,1
  740H20180228, A09.5,86,1,21,6425,2,20180325,1711,-23.9999,-1.1,4674,1774.4,3.2816,34.8653,2,34.867,2,224.8,2,223.4,2,34.5,2,23.62,2,1.65,2,2202.4,2,2319.8,2,-999,9,-999,9,-999,-999,9,-999,1
  740H20180228, A09.5,86,1,20,6428,2,20180325,1711,-23.9999,-1.1,4674,2028.6,3.0005,34.8827,2,34.8834,2,234.1,2,233.4,2,37.39,2,22.75,2,1.58,2,2191.4,2,2322.7,2,-999,9,-999,9,-999,-999,9,-999,1
  740H20180228, A09.5,86,1,19,6692,2,20180325,1711,-23.9999,-1.1,4674,2283.6,2.7644,34.8784,2,34.8766,2,236.4,2,235.9,2,41.69,2,22.9,2,1.6,2,2195,2,2326.3,2,-999,9,-999,9,-999,-999,9,-999,1
  740H20180228, A09.5,86,1,18,1098,2,20180325,1711,-23.9999,-1.1,4674,2538.6,2.574,34.8684,2,34.87,2,236.7,2,235.5,2,46.23,2,23.38,2,1.62,2,2203,6,2331.1,6,-999,9,-999,9,-999,-999,9,-999,1
  740H20180228, A09.5,86,1,17,1122,2,20180325,1711,-23.9999,-1.1,4674,2793,2.499,34.8687,2,34.8682,2,238,2,236.8,2,47.95,2,23.42,2,1.62,2,2199.3,2,2333.5,2,-999,9,-999,9,-999,-999,9,-999,1
  740H20180228, A09.5,86,1,16,6420,2,20180325,1711,-23.9999,-1.1,4674,3303.3,2.3888,34.8764,2,34.875,2,236.3,2,234.9,2,50.97,2,23.47,2,1.62,2,2212.2,3,2342.2,6,-999,9,-999,9,-999,-999,9,-999,1
  740H20180228, A09.5,86,1,15,6419,2,20180325,1711,-23.9999,-1.1,4674,3815.5,2.3595,34.8841,2,34.8835,2,233.4,2,232.6,2,52.59,2,23.46,2,1.62,2,2213.5,2,2353.4,2,-999,9,-999,9,-999,-999,9,-999,1
  740H20180228, A09.5,86,1,14,6418,2,20180325,1711,-23.9999,-1.1,4674,4328,2.3833,34.8843,2,34.8857,2,232.4,2,231.9,2,53.26,2,23.39,2,1.62,2,2217.2,6,2359.1,6,-999,9,-999,9,-999,-999,9,-999,1
  740H20180228, A09.5,86,1,13,6417,2,20180325,1711,-23.9999,-1.1,4674,4743.1,2.4167,34.8833,2,34.8832,2,232.3,2,232.3,2,53.64,2,23.38,2,1.61,2,2219,6,2358.2,6,-999,9,-999,9,-999,-999,9,-999,1
  740H20180228, A09.5,87,1,12,6416,2,20180325,2358,-24,-0.6,5467,6.3,23.5762,36.2539,2,36.2531,2,214.1,2,213.2,2,1.17,2,0.19,2,0.19,2,2106.5,2,2380.7,2,-999,9,-999,9,-999,-999,9,-999,1
  740H20180228, A09.5,87,1,11,6415,2,20180325,2358,-24,-0.6,5467,53.6,22.3306,36.0862,2,36.0793,2,229.2,2,228.6,2,1.37,2,0.2,2,0.16,2,2083.6,2,-999,9,-999,9,-999,9,-999,-999,9,-999,1
  740H20180228, A09.5,87,1,10,6414,2,20180325,2358,-24,-0.6,5467,73,19.9592,35.9419,2,35.9387,2,242,2,241.1,2,1.53,2,0.2,2,0.14,2,2096.7,2,2358.9,2,-999,9,-999,9,-999,-999,9,-999,1
  740H20180228, A09.5,87,1,9,6413,2,20180325,2358,-24,-0.6,5467,107.8,18.1413,35.7941,2,35.7933,2,236.3,2,234.7,2,1.62,2,0.23,2,0.17,2,2094.9,6,2352.5,6,-999,9,-999,9,-999,-999,9,-999,1
  740H20180228, A09.5,87,1,8,6412,2,20180325,2358,-24,-0.6,5467,176.9,15.5326,35.3877,2,35.3809,2,207.5,2,206.4,2,2.91,2,6.2,2,0.53,2,2127.6,2,2321.1,2,-999,9,-999,9,-999,-999,9,-999,1
  740H20180228, A09.5,87,1,7,6411,2,20180325,2358,-24,-0.6,5467,262.8,12.9873,35.1501,2,35.1517,2,156.6,2,156.5,2,5.6,2,16.52,2,1.14,2,2162.6,2,2310.4,2,-999,9,-999,9,-999,-999,9,-999,1
  740H20180228, A09.5,87,1,6,6410,2,20180325,2358,-24,-0.6,5467,377.8,10.3966,34.8532,2,34.8545,2,170.4,2,169.1,2,8.42,2,20.1,2,1.38,2,2186.8,2,2296.6,2,-999,9,-999,9,-999,-999,9,-999,1
  740H20180228, A09.5,87,1,5,6409,2,20180325,2358,-24,-0.6,5467,504.1,8.0919,34.5993,2,34.5978,2,172.8,2,172.4,2,13.82,2,25.42,2,1.75,2,2180.4,2,2293.3,2,-999,9,-999,9,-999,-999,9,-999,1
  740H20180228, A09.5,87,1,4,6408,2,20180325,2358,-24,-0.6,5467,629.9,5.8598,34.4132,2,34.4088,2,182,2,181.3,2,21.4,2,30,2,2.05,2,2213.1,6,2287.5,6,-999,9,-999,9,-999,-999,9,-999,1
  740H20180228, A09.5,87,1,3,6407,2,20180325,2358,-24,-0.6,5467,756.2,4.6618,34.3916,2,34.3901,2,176.4,2,175.9,2,30.89,2,32.44,2,2.23,2,2212.9,2,2297.1,2,-999,9,-999,9,-999,-999,9,-999,1
  740H20180228, A09.5,87,1,2,6406,2,20180325,2358,-24,-0.6,5467,882.6,4.0034,34.4301,2,34.4282,2,174.7,2,174.2,2,39.23,2,33.16,2,2.3,2,2238,2,2300.9,2,-999,9,-999,9,-999,-999,9,-999,1
  740H20180228, A09.5,87,1,1,5977,2,20180325,2358,-24,-0.6,5467,1008.8,3.7186,34.5104,2,34.5093,2,173.9,2,174.2,2,42.18,2,32.75,2,2.27,2,2241,2,2309.9,6,-999,9,-999,9,-999,-999,9,-999,1
  740H20180228, A09.5,87,1,24,1086,2,20180325,2358,-24,-0.6,5467,1260.3,3.6705,34.683,2,34.6833,2,187,2,186.3,2,37.5,2,29.58,2,2.03,2,2220.7,6,2313.5,6,-999,9,-999,9,-999,-999,9,-999,1
  740H20180228, A09.5,87,1,23,6427,2,20180325,2358,-24,-0.6,5467,1515.1,3.5668,34.8,2,34.7993,2,203.6,2,203,2,34.42,2,26.6,2,1.81,2,2200.5,2,-999,9,-999,9,-999,9,-999,-999,9,-999,1
  740H20180228, A09.5,87,1,22,6426,2,20180325,2358,-24,-0.6,5467,1768.8,3.3618,34.8638,2,34.8624,2,224.1,2,223.5,2,32.99,2,23.9,2,1.61,2,2185.3,2,2319.4,2,-999,9,-999,9,-999,-999,9,-999,1
  740H20180228, A09.5,87,1,21,6425,2,20180325,2358,-24,-0.6,5467,2022.7,3.1276,34.8904,2,34.8865,2,233.3,2,232.3,2,34.04,2,22.81,2,1.54,2,2190.1,2,-999,9,-999,9,-999,9,-999,-999,9,-999,1
  740H20180228, A09.5,87,1,20,6428,2,20180325,2358,-24,-0.6,5467,2277.5,2.8589,34.8829,2,34.8788,2,235.8,2,234.9,2,39.27,2,22.96,2,1.56,2,2186.2,2,2325.6,2,-999,9,-999,9,-999,-999,9,-999,1
  740H20180228, A09.5,87,1,19,6692,2,20180325,2358,-24,-0.6,5467,2531.5,2.6529,34.8731,2,34.8703,2,236.3,2,236.3,2,43.92,2,23.22,2,1.58,2,2193.7,2,-999,9,-999,9,-999,9,-999,-999,9,-999,1
  740H20180228, A09.5,87,1,18,1098,2,20180325,2358,-24,-0.6,5467,3041.7,2.4569,34.8729,2,34.8701,2,237.4,2,237.3,2,48.77,2,23.37,2,1.58,2,2197.1,6,2338,6,-999,9,-999,9,-999,-999,9,-999,1
  740H20180228, A09.5,87,1,17,1122,2,20180325,2358,-24,-0.6,5467,3552.3,2.3786,34.8819,2,34.879,2,233.5,2,233.6,2,51.43,2,23.42,2,1.58,2,2203.2,2,2347.6,2,-999,9,-999,9,-999,-999,9,-999,1
  740H20180228, A09.5,87,1,16,6420,2,20180325,2358,-24,-0.6,5467,4065.9,2.3728,34.8845,2,34.8799,2,232.5,2,233.5,2,51.57,2,23.4,2,1.58,2,2213.6,6,2351.8,6,-999,9,-999,9,-999,-999,9,-999,1
  740H20180228, A09.5,87,1,15,6419,2,20180325,2358,-24,-0.6,5467,4579.2,2.409,34.8842,2,34.8822,2,232.4,2,232.1,2,53.08,2,23.37,2,1.58,2,2210.3,2,2356.7,2,-999,9,-999,9,-999,-999,9,-999,1
  740H20180228, A09.5,87,1,14,6418,2,20180325,2358,-24,-0.6,5467,5092.9,2.4604,34.8832,2,34.8818,2,232.5,2,232.6,2,53.44,2,23.37,2,1.57,2,2212.3,6,2361.6,6,-999,9,-999,9,-999,-999,9,-999,1
  740H20180228, A09.5,87,1,13,6417,2,20180325,2358,-24,-0.6,5467,5562.3,2.5193,34.8825,2,34.8805,2,232.4,2,232.5,2,53.46,2,23.4,2,1.57,2,2212.8,6,2358.2,6,-999,9,-999,9,-999,-999,9,-999,1
  740H20180228, A09.5,88,1,12,6416,2,20180326,643,-24.0001,-0.1003,4921,5.1,23.4994,36.1775,2,36.1758,2,215.3,2,215.1,2,0.98,2,0.23,2,0.21,2,2088.1,2,2378.4,2,-999,9,-999,9,-999,-999,9,-999,1
  740H20180228, A09.5,88,1,11,6415,2,20180326,643,-24.0001,-0.1003,4921,51.5,20.7946,35.9628,2,35.9557,2,239.3,2,238.8,2,1.18,2,0.19,2,0.19,2,2080.8,2,2361.3,2,-999,9,-999,9,-999,-999,9,-999,1
  740H20180228, A09.5,88,1,10,6414,2,20180326,643,-24.0001,-0.1003,4921,77.2,19.0835,35.8286,2,35.8333,2,237.4,2,238,2,1.23,2,0.27,2,0.23,2,2084.6,2,2353.8,2,-999,9,-999,9,-999,-999,9,-999,1
  740H20180228, A09.5,88,1,9,6413,2,20180326,643,-24.0001,-0.1003,4921,101.6,18.053,35.7359,2,35.7337,2,223.5,2,224.5,2,1.6,2,2.57,2,0.39,2,2100.1,6,2346.4,6,-999,9,-999,9,-999,-999,9,-999,1
  740H20180228, A09.5,88,1,8,6412,2,20180326,643,-24.0001,-0.1003,4921,176.2,15.3757,35.3656,2,35.3648,2,207.5,2,208.1,2,2.99,2,6.34,2,0.55,2,2116.3,2,2326.1,2,-999,9,-999,9,-999,-999,9,-999,1
  740H20180228, A09.5,88,1,7,6411,2,20180326,643,-24.0001,-0.1003,4921,252.7,13.2603,35.1645,2,35.1637,2,176.5,2,177.6,2,4.78,2,13.71,2,0.97,2,2145.4,2,2310.9,2,-999,9,-999,9,-999,-999,9,-999,1
  740H20180228, A09.5,88,1,6,6410,2,20180326,643,-24.0001,-0.1003,4921,378.9,10.7398,34.892,2,34.9016,2,175.7,2,176,2,7.57,2,18.82,2,1.3,2,2167.1,2,2303.9,2,-999,9,-999,9,-999,-999,9,-999,1
  740H20180228, A09.5,88,1,5,6409,2,20180326,643,-24.0001,-0.1003,4921,505.4,8.6375,34.6614,2,34.6645,2,164.5,2,165.8,2,12.71,2,24.91,2,1.68,2,2179.2,2,2290.7,2,-999,9,-999,9,-999,-999,9,-999,1
  740H20180228, A09.5,88,1,4,6408,2,20180326,643,-24.0001,-0.1003,4921,630,6.1455,34.4308,2,34.4262,2,181.6,2,184.6,2,20.05,2,29.6,2,2,2,2192.1,6,2288.8,6,-999,9,-999,9,-999,-999,9,-999,1
  740H20180228, A09.5,88,1,3,6407,2,20180326,643,-24.0001,-0.1003,4921,756.1,4.7627,34.3889,2,34.387,2,177.4,2,177.8,2,30.1,2,32.6,2,2.2,2,2204.8,2,2293.1,2,-999,9,-999,9,-999,-999,9,-999,1
  740H20180228, A09.5,88,1,2,6406,2,20180326,643,-24.0001,-0.1003,4921,883.1,4.1007,34.4341,2,34.4342,2,170.8,2,171,2,38.05,2,33.78,2,2.31,2,2225,2,2304.5,2,-999,9,-999,9,-999,-999,9,-999,1
  740H20180228, A09.5,88,1,1,5977,2,20180326,643,-24.0001,-0.1003,4921,1009.2,3.7267,34.5076,2,34.503,2,174.4,2,174.7,2,42.12,2,33.14,2,2.26,2,2217.8,6,2307.8,6,-999,9,-999,9,-999,-999,9,-999,1
  740H20180228, A09.5,88,1,24,1086,2,20180326,643,-24.0001,-0.1003,4921,1261,3.6216,34.6834,2,34.6813,2,184.6,2,185.6,2,39.03,2,30.06,2,2.04,2,-999,9,-999,9,-999,9,-999,9,-999,-999,9,-999,1
  740H20180228, A09.5,88,1,23,6427,2,20180326,643,-24.0001,-0.1003,4921,1514.1,3.5181,34.7997,2,34.7971,2,205.2,2,205.3,2,35.27,2,26.76,2,1.8,2,2204.2,2,2319.6,2,-999,9,-999,9,-999,-999,9,-999,1
  740H20180228, A09.5,88,1,22,6426,2,20180326,643,-24.0001,-0.1003,4921,1768.8,3.3745,34.8677,2,34.8659,2,222.8,2,223.3,2,32.78,2,24.17,2,1.62,2,2188,2,2318.5,2,-999,9,-999,9,-999,-999,9,-999,1
  740H20180228, A09.5,88,1,21,6425,2,20180326,643,-24.0001,-0.1003,4921,2021.5,3.1584,34.8893,2,34.8866,2,232.8,2,233.3,2,33.87,2,22.99,2,1.54,2,2188.8,6,2325.4,6,-999,9,-999,9,-999,-999,9,-999,1
  740H20180228, A09.5,88,1,20,6428,2,20180326,643,-24.0001,-0.1003,4921,2275.7,2.9084,34.888,2,34.8846,2,236.4,2,237.2,2,38.12,2,22.89,2,1.54,2,2186,2,2325.3,2,-999,9,-999,9,-999,-999,9,-999,1
  740H20180228, A09.5,88,1,19,6692,2,20180326,643,-24.0001,-0.1003,4921,2531.6,2.6458,34.8732,2,34.8707,2,236.6,2,237.7,2,44.21,2,23.35,2,1.58,2,2197.9,2,2333.8,2,-999,9,-999,9,-999,-999,9,-999,1
  740H20180228, A09.5,88,1,18,1098,2,20180326,643,-24.0001,-0.1003,4921,2786.7,2.515,34.8702,2,34.8674,2,237.5,2,238.2,2,44.4,2,23.36,2,1.58,2,2191,2,2334.9,2,-999,9,-999,9,-999,-999,9,-999,1
  740H20180228, A09.5,88,1,17,1122,2,20180326,643,-24.0001,-0.1003,4921,3295.5,2.3971,34.8767,2,34.8757,2,236.5,2,238.3,2,50.72,2,23.48,2,1.58,2,2202.9,6,2343,6,-999,9,-999,9,-999,-999,9,-999,1
  740H20180228, A09.5,88,1,16,6420,2,20180326,643,-24.0001,-0.1003,4921,3807.8,2.3634,34.8839,2,34.8748,4,233.2,2,237.4,2,50.68,2,23.45,2,1.58,2,2199.6,2,2345,6,-999,9,-999,9,-999,-999,9,-999,1
  740H20180228, A09.5,88,1,15,6419,2,20180326,643,-24.0001,-0.1003,4921,4319.7,2.3862,34.8847,2,34.8835,2,232.7,2,233.2,2,52.9,2,23.39,2,1.58,2,2215,2,2361.7,2,-999,9,-999,9,-999,-999,9,-999,1
  740H20180228, A09.5,88,1,14,6418,2,20180326,643,-24.0001,-0.1003,4921,4835.2,2.4314,34.8834,2,34.8837,2,232.6,2,233.8,2,53.5,2,23.42,2,1.58,2,2213,2,2358.2,2,-999,9,-999,9,-999,-999,9,-999,1
  740H20180228, A09.5,88,1,13,6417,2,20180326,643,-24.0001,-0.1003,4921,4997.5,2.4508,34.8831,2,34.8819,2,232.4,2,234.2,2,53.58,2,23.44,2,1.58,2,2214.8,6,2360.4,6,-999,9,-999,9,-999,-999,9,-999,1