BOTTLE,20190321PRINUNIVRMK,,,,,,,,,,,,,,,,,,,,,,,,,,,,,,,,,,,,,,,
EXPOCODE,SECT_ID,STNNBR,CASTNO,SAMPNO,BTLNBR,BTLNBR_FLAG_W,DATE,TIME,LATITUDE,LONGITUDE,DEPTH,CTDPRS,CTDTMP,CTDSAL,CTDSAL_FLAG_W,SALNTY,SALNTY_FLAG_W,CTDOXY,CTDOXY_FLAG_W,OXYGEN,OXYGEN_FLAG_W,SILCAT,SILCAT_FLAG_W,NITRAT,NITRAT_FLAG_W,PHSPHT,PHSPHT_FLAG_W,TCARBN,TCARBN_FLAG_W,ALKALI,ALKALI_FLAG_W,CHLORA,CHLORA_FLAG_W,DELC14,DELC14_FLAG_W,C14ERR,DELC13,DELC13_FLAG_W,DELO18,DELO18_FLAG_W
,,,,,,,,,,,METERS,DBAR,ITS-90,PSS-78,,PSS-78,,UMOL/KG,,UMOL/KG,,UMOL/KG,,UMOL/KG,,UMOL/KG,,UMOL/KG,,UMOL/KG,,UG/KG,,/MILLE,,/MILLE,/MILLE,,/MILLE,
  740H20180228, A09.5,69,1,24,1086,2,20180320,1357,-22.4623,-9.6014,4161,5.4,24.8203,36.4916,2,36.4901,2,211.3,2,215.2,2,1.26,2,0.28,2,0.2,2,2095.3,2,2398.3,2,-999,9,-999,9,-999,-999,9,-999,1
  740H20180228, A09.5,69,1,23,6427,2,20180320,1357,-22.4623,-9.6014,4161,50.6,21.7435,36.1892,2,36.1878,2,234.5,2,234.2,2,1.38,2,0.25,2,0.19,2,2092.6,2,2377.8,2,-999,9,-999,9,-999,-999,9,-999,1
  740H20180228, A09.5,69,1,22,6426,2,20180320,1357,-22.4623,-9.6014,4161,76.1,20.2935,36.1077,2,36.1096,2,234.6,2,235.8,2,1.39,2,0.22,2,0.18,2,2086.5,2,2374.5,2,-999,1,-999,9,-999,-999,9,-999,1
  740H20180228, A09.5,69,1,21,6425,2,20180320,1357,-22.4623,-9.6014,4161,101.5,19.7091,36.1067,2,36.1081,2,231.4,2,230.4,2,1.34,2,0.2,2,0.18,2,2097.4,2,2371.8,2,-999,9,-999,9,-999,-999,9,-999,1
  740H20180228, A09.5,69,1,20,6428,2,20180320,1357,-22.4623,-9.6014,4161,129.7,19.0532,36.0259,2,36.0254,2,223.7,2,224.8,2,1.56,2,0.36,2,0.2,2,2099,6,2368.6,6,-999,1,-999,9,-999,-999,9,-999,1
  740H20180228, A09.5,69,1,19,6692,2,20180320,1357,-22.4623,-9.6014,4161,177.2,16.9413,35.6624,2,35.6651,2,211.7,2,214.2,2,2.13,2,3.52,2,0.37,2,2101.5,2,2343.3,2,-999,9,-999,9,-999,-999,9,-999,1
  740H20180228, A09.5,69,1,18,1098,2,20180320,1357,-22.4623,-9.6014,4161,252.9,14.0868,35.2496,2,35.2531,2,199.4,2,200.7,2,3.49,2,9.14,2,0.67,2,2129.7,2,2316.8,2,-999,9,-999,9,-999,-999,9,-999,1
  740H20180228, A09.5,69,1,17,1122,2,20180320,1357,-22.4623,-9.6014,4161,349.4,11.7845,35.0199,2,35.014,2,172.2,2,172.9,2,6.44,2,17.35,2,1.15,2,2155.1,2,2307.6,2,-999,9,-999,9,-999,-999,9,-999,1
  740H20180228, A09.5,69,1,16,6420,2,20180320,1357,-22.4623,-9.6014,4161,516.9,7.8512,34.5916,2,34.5967,2,160.5,2,160.4,2,14.99,2,27.64,2,1.8,2,2193.4,2,2290.6,2,-999,9,-999,9,-999,-999,9,-999,1
  740H20180228, A09.5,69,1,15,6419,2,20180320,1357,-22.4623,-9.6014,4161,648.3,5.945,34.4613,2,34.4638,2,158.5,2,159.3,2,22.56,2,32.37,2,2.1,2,2204.8,6,2292.2,6,-999,9,-999,9,-999,-999,9,-999,1
  740H20180228, A09.5,69,1,14,6418,2,20180320,1357,-22.4623,-9.6014,4161,778.8,4.8177,34.4268,2,34.4268,2,166,2,167.3,2,30.02,2,33.67,2,2.2,2,2206.9,2,2297.8,2,-999,9,-999,9,-999,-999,9,-999,1
  740H20180228, A09.5,69,1,13,6417,2,20180320,1357,-22.4623,-9.6014,4161,886.2,4.236,34.446,2,34.4461,2,170.6,2,171.1,2,35.55,2,33.89,2,2.24,2,2217.4,2,2302.3,2,-999,9,-999,9,-999,-999,9,-999,1
  740H20180228, A09.5,69,1,12,6416,2,20180320,1357,-22.4623,-9.6014,4161,1011.7,3.8688,34.5018,2,34.5017,2,173.2,2,173.8,2,39.24,2,33.43,2,2.23,2,2214.1,2,2308.8,2,-999,9,-999,9,-999,-999,9,-999,1
  740H20180228, A09.5,69,1,11,6415,2,20180320,1357,-22.4623,-9.6014,4161,1264.7,3.694,34.67,2,34.6742,2,188,2,181.9,2,37.89,2,30.13,2,2.01,2,2213,6,2313.8,6,-999,9,-999,9,-999,-999,9,-999,1
  740H20180228, A09.5,69,1,10,6414,2,20180320,1357,-22.4623,-9.6014,4161,1519.4,3.472,34.7809,2,34.7836,2,207.6,2,198.7,2,37.49,2,27.03,2,1.79,2,2197.2,2,2320.8,2,-999,9,-999,9,-999,-999,9,-999,1
  740H20180228, A09.5,69,1,9,6413,2,20180320,1357,-22.4623,-9.6014,4161,1771.4,3.2619,34.8542,2,34.8541,2,225.7,2,225.9,2,35.98,2,24.32,2,1.61,2,2193.5,2,2321.1,2,-999,9,-999,9,-999,-999,9,-999,1
  740H20180228, A09.5,69,1,8,6412,2,20180320,1357,-22.4623,-9.6014,4161,2026.1,3.0579,34.8912,2,34.8916,2,237.8,2,238.4,2,35.24,2,22.71,2,1.5,2,2181.4,2,2323.2,2,-999,9,-999,9,-999,-999,9,-999,1
  740H20180228, A09.5,69,1,7,6411,2,20180320,1357,-22.4623,-9.6014,4161,2279.8,2.728,34.8743,2,34.8736,2,237.6,2,237.6,2,42.74,2,23.37,2,1.55,2,2192.6,2,2326.9,2,-999,9,-999,9,-999,-999,9,-999,1
  740H20180228, A09.5,69,1,6,6410,2,20180320,1357,-22.4623,-9.6014,4161,2534.1,2.6005,34.8809,2,34.8821,2,241.1,2,241.5,2,44.4,2,23.12,2,1.52,2,2185.4,6,2332.3,6,-999,9,-999,9,-999,-999,9,-999,1
  740H20180228, A09.5,69,1,5,6409,2,20180320,1357,-22.4623,-9.6014,4161,2789.1,2.5126,34.8789,2,34.8796,2,242.1,2,241.9,2,46.38,2,23.26,2,1.53,2,2196.5,2,2333.4,2,-999,9,-999,9,-999,-999,9,-999,1
  740H20180228, A09.5,69,1,4,6408,2,20180320,1357,-22.4623,-9.6014,4161,3044.5,2.4518,34.8764,2,34.8789,2,242,2,242.1,2,48.09,2,23.42,2,1.54,2,2190.1,2,2335.9,2,-999,9,-999,9,-999,-999,9,-999,1
  740H20180228, A09.5,69,1,3,6407,2,20180320,1357,-22.4623,-9.6014,4161,3556.1,2.3655,34.873,2,34.8742,2,240.5,2,241.2,2,51.66,2,23.72,2,1.55,2,2199.9,2,2339.4,2,-999,9,-999,9,-999,-999,9,-999,1
  740H20180228, A09.5,69,1,2,6406,2,20180320,1357,-22.4623,-9.6014,4161,4068.6,2.3976,34.8796,2,34.8818,2,237,2,237.3,2,51.98,2,23.68,2,1.54,2,2200.3,2,2350.8,2,-999,9,-999,9,-999,-999,9,-999,1
  740H20180228, A09.5,69,1,1,5977,2,20180320,1357,-22.4623,-9.6014,4161,4219.5,2.4111,34.8813,2,34.8866,2,236,2,236.3,2,51.93,2,23.61,2,1.53,2,2205.6,6,2352.7,6,-999,9,-999,9,-999,-999,9,-999,1
  740H20180228, A09.5,70,1,24,1086,2,20180320,2042,-22.7187,-9.1011,4444,7.2,24.6684,36.4808,2,36.483,2,211.2,2,210.3,2,1.37,2,0.26,2,0.18,2,2096.3,2,2397.2,2,-999,9,-999,1,-999,-999,1,-999,1
  740H20180228, A09.5,70,1,23,6427,2,20180320,2042,-22.7187,-9.1011,4444,52.8,22.2609,36.2759,2,36.2668,2,231.9,2,231.5,2,1.33,2,0.28,2,0.18,2,2094.2,2,2381.3,2,-999,9,-999,1,-999,-999,1,-999,1
  740H20180228, A09.5,70,1,22,6426,2,20180320,2042,-22.7187,-9.1011,4444,83.6,20.1637,36.1827,2,36.143,2,233.9,2,233,2,1.32,2,0.26,2,0.19,2,2090,2,2375.6,2,-999,9,-999,1,-999,-999,1,-999,1
  740H20180228, A09.5,70,1,21,6425,2,20180320,2042,-22.7187,-9.1011,4444,103.2,19.8796,36.216,2,36.2223,2,228,2,227.4,2,1.4,2,0.27,2,0.19,2,2100.3,2,2379.2,2,-999,9,36.7,2,4,1.11,2,-999,1
  740H20180228, A09.5,70,1,20,6428,2,20180320,2042,-22.7187,-9.1011,4444,152.6,18.7446,36.0046,2,36.0047,2,222.8,2,222.1,2,1.65,2,0.64,2,0.25,2,2100.8,6,2364.6,6,-999,9,-999,1,-999,-999,1,-999,1
  740H20180228, A09.5,70,1,19,6692,2,20180320,2042,-22.7187,-9.1011,4444,178.1,17.6407,35.7894,2,35.7841,2,217.8,2,218.4,2,2,2,2.1,2,0.33,2,2105,2,2349.2,2,-999,9,-999,1,-999,-999,1,-999,1
  740H20180228, A09.5,70,1,18,1098,2,20180320,2042,-22.7187,-9.1011,4444,253.8,14.6115,35.3175,2,35.3202,2,207.6,2,207.1,2,3.11,2,7.19,2,0.62,2,2116,2,2321.1,2,-999,9,-999,1,-999,-999,1,-999,1
  740H20180228, A09.5,70,1,17,1122,2,20180320,2042,-22.7187,-9.1011,4444,379.5,11.6301,34.9934,2,34.9803,2,192.2,2,190.8,2,6.16,2,15.78,2,1.11,2,2151.8,2,2302.7,2,-999,9,-999,1,-999,-999,1,-999,1
  740H20180228, A09.5,70,1,16,6420,2,20180320,2042,-22.7187,-9.1011,4444,505.1,8.4843,34.6483,2,34.6457,2,163,2,162.8,2,13.67,2,26.04,2,1.74,2,2183.1,2,2291.8,2,-999,9,-999,1,-999,-999,1,-999,1
  740H20180228, A09.5,70,1,15,6419,2,20180320,2042,-22.7187,-9.1011,4444,631.5,6.2921,34.4734,2,34.4772,2,158.8,2,158.6,2,21.06,2,31.72,2,2.09,2,2204.1,6,2290.1,6,-999,9,-999,1,-999,-999,1,-999,1
  740H20180228, A09.5,70,1,14,6418,2,20180320,2042,-22.7187,-9.1011,4444,756.9,5.0064,34.428,2,34.4302,2,163,2,162.6,2,29.36,2,33.79,2,2.24,2,2215.4,2,2294.8,2,-999,9,-999,1,-999,-999,1,-999,1
  740H20180228, A09.5,70,1,13,6417,2,20180320,2042,-22.7187,-9.1011,4444,883.6,4.1813,34.4475,2,34.4488,2,171,2,170.8,2,36.71,2,33.9,2,2.26,2,2212.7,2,2303.8,2,-999,9,-999,1,-999,-999,1,-999,1
  740H20180228, A09.5,70,1,12,6416,2,20180320,2042,-22.7187,-9.1011,4444,1015.2,3.8446,34.5034,2,34.5038,2,176.9,2,176.6,2,39.57,2,33.22,2,2.2,2,2220.8,2,2308.7,2,-999,9,-999,1,-999,-999,1,-999,1
  740H20180228, A09.5,70,1,11,6415,2,20180320,2042,-22.7187,-9.1011,4444,1267.8,3.6819,34.6549,2,34.6572,2,187.1,2,185.8,2,38.54,2,30.56,2,2.02,2,2207.9,2,2313.5,2,-999,9,-999,1,-999,-999,1,-999,1
  740H20180228, A09.5,70,1,10,6414,2,20180320,2042,-22.7187,-9.1011,4444,1522.2,3.414,34.7735,2,34.7737,2,206.9,2,205.9,2,39.08,2,27.32,2,1.79,2,2197.9,6,2322.2,6,-999,9,-999,1,-999,-999,1,-999,1
  740H20180228, A09.5,70,1,9,6413,2,20180320,2042,-22.7187,-9.1011,4444,1774.1,3.1167,34.836,2,34.8376,2,222.3,2,221.9,2,39.83,2,25.05,2,1.64,2,2198.6,2,2322.6,2,-999,9,-999,1,-999,-999,1,-999,1
  740H20180228, A09.5,70,1,8,6412,2,20180320,2042,-22.7187,-9.1011,4444,2028.2,2.9465,34.8795,2,34.8804,2,235.7,2,234.7,2,38.36,2,23.28,2,1.52,2,2186,2,2326.5,2,-999,9,-999,1,-999,-999,1,-999,1
  740H20180228, A09.5,70,1,7,6411,2,20180320,2042,-22.7187,-9.1011,4444,2283.2,2.7312,34.8796,2,34.8784,2,238.2,2,237.5,2,41.76,2,23.11,2,1.52,2,2193.2,2,2327.4,2,-999,9,-999,9,-999,-999,9,-999,1
  740H20180228, A09.5,70,1,6,6410,2,20180320,2042,-22.7187,-9.1011,4444,2537.5,2.5941,34.8746,2,34.8747,2,238.8,2,238.7,2,45.19,2,23.31,2,1.55,2,2195.8,6,2329.9,6,-999,9,-999,1,-999,-999,1,-999,1
  740H20180228, A09.5,70,1,5,6409,2,20180320,2042,-22.7187,-9.1011,4444,2792.2,2.4833,34.8739,2,34.8751,2,240.4,2,239.8,2,47.7,2,23.34,2,1.56,2,2191.2,2,2334.1,2,-999,9,-999,1,-999,-999,1,-999,1
  740H20180228, A09.5,70,1,4,6408,2,20180320,2042,-22.7187,-9.1011,4444,3303.1,2.3959,34.8771,2,34.8788,2,239,2,238.7,2,50.66,2,23.48,2,1.57,2,2203.5,2,2342.4,2,-999,9,-999,9,-999,-999,9,-999,1
  740H20180228, A09.5,70,1,3,6407,2,20180320,2042,-22.7187,-9.1011,4444,3815.2,2.3751,34.8818,2,34.8828,2,236,2,235.5,2,52.15,2,23.53,2,1.57,2,2202.9,2,2351.1,2,-999,9,-999,1,-999,-999,1,-999,1
  740H20180228, A09.5,70,1,2,6406,2,20180320,2042,-22.7187,-9.1011,4444,4327.9,2.4058,34.8835,2,34.8853,2,234.9,2,234.8,2,52.8,2,23.63,2,1.57,2,2212.1,2,2352.6,2,-999,9,-999,9,-999,-999,9,-999,1
  740H20180228, A09.5,70,1,1,5977,2,20180320,2042,-22.7187,-9.1011,4444,4514.2,2.428,34.8834,2,34.8833,2,234.7,2,232.7,2,52.48,2,23.72,2,1.57,2,2209.7,6,2354.4,6,-999,9,-999,1,-999,-999,1,-999,1
  740H20180228, A09.5,71,1,24,1086,2,20180321,346,-22.975,-8.6001,5193,5.6,24.7427,36.5542,2,36.556,2,210.7,2,210.7,2,1.45,2,0.23,2,0.18,2,2106.8,2,2400.9,2,-999,9,-999,9,-999,-999,9,-999,1
  740H20180228, A09.5,71,1,23,6427,2,20180321,346,-22.975,-8.6001,5193,52.2,21.7163,36.3139,2,36.3161,2,233.4,2,233.1,2,1.28,2,0.25,2,0.19,2,2090.1,2,2386.2,2,-999,9,-999,9,-999,-999,9,-999,1
  740H20180228, A09.5,71,1,22,6426,2,20180321,346,-22.975,-8.6001,5193,82.5,20.7686,36.3138,2,36.3102,2,230.6,2,230.2,2,1.26,2,0.21,2,0.17,2,2096.4,6,2384.4,6,-999,9,-999,9,-999,-999,9,-999,1
  740H20180228, A09.5,71,1,21,6425,2,20180321,346,-22.975,-8.6001,5193,102.3,20.3974,36.289,2,36.294,2,229.3,2,228.5,2,1.26,2,0.18,2,0.16,2,2097.3,2,2383.8,2,-999,9,-999,9,-999,-999,9,-999,1
  740H20180228, A09.5,71,1,20,6428,2,20180321,346,-22.975,-8.6001,5193,178.2,17.7951,35.8509,2,35.8715,2,215.6,2,217.2,2,1.73,2,1.74,2,0.27,2,2106.8,2,2355.7,2,-999,9,-999,9,-999,-999,9,-999,1
  740H20180228, A09.5,71,1,19,6692,2,20180321,346,-22.975,-8.6001,5193,253.1,14.6007,35.3274,2,35.3208,2,206.8,2,206.4,2,3.01,2,7.43,2,0.58,2,2117,2,2321.3,2,-999,9,-999,9,-999,-999,9,-999,1
  740H20180228, A09.5,71,1,18,1098,2,20180321,346,-22.975,-8.6001,5193,300.8,13.2993,35.1784,2,35.1361,2,202,2,199.2,2,4.31,2,11.66,2,0.82,2,2137.5,2,2312.3,2,-999,9,-999,9,-999,-999,9,-999,1
  740H20180228, A09.5,71,1,17,1122,2,20180321,346,-22.975,-8.6001,5193,379.3,11.3264,34.9592,2,34.9593,2,195.3,2,195.1,2,6.07,2,15.76,2,1.07,2,2146.1,2,2304.6,2,-999,9,-999,9,-999,-999,9,-999,1
  740H20180228, A09.5,71,1,16,6420,2,20180321,346,-22.975,-8.6001,5193,631.2,6.3344,34.4478,2,34.4492,2,182.3,2,182.8,2,18.89,2,29.03,2,1.9,2,2192.8,2,2287.9,2,-999,9,-999,9,-999,-999,9,-999,1
  740H20180228, A09.5,71,1,15,6419,2,20180321,346,-22.975,-8.6001,5193,747.3,4.9045,34.3909,2,34.393,2,179,2,179.4,2,28.78,2,32.57,2,2.15,2,2203.3,2,2292.8,2,-999,9,-999,9,-999,-999,9,-999,1
  740H20180228, A09.5,71,1,14,6418,2,20180321,346,-22.975,-8.6001,5193,883.2,4.0839,34.4324,2,34.4405,2,178.4,2,178.7,2,37.47,2,33.31,2,2.22,2,2215.3,6,2302.5,6,-999,9,-999,9,-999,-999,9,-999,1
  740H20180228, A09.5,71,1,13,6417,2,20180321,346,-22.975,-8.6001,5193,1009.4,3.8092,34.5092,2,34.5159,2,178.7,2,178.8,2,39.99,2,32.74,2,2.2,2,2215.6,2,2301.2,2,-999,9,-999,9,-999,-999,9,-999,1
  740H20180228, A09.5,71,1,12,6416,2,20180321,346,-22.975,-8.6001,5193,1261.6,3.6764,34.6735,2,34.6726,2,188,2,188,2,38.28,2,30.04,2,2.01,2,2212.3,2,2313.3,2,-999,9,-999,9,-999,-999,9,-999,1
  740H20180228, A09.5,71,1,11,6415,2,20180321,346,-22.975,-8.6001,5193,1514.9,3.4617,34.8083,2,34.8098,2,210.6,2,210.4,2,36.06,2,26.25,2,1.76,2,2197.3,6,2319.8,6,-999,9,-999,9,-999,-999,9,-999,1
  740H20180228, A09.5,71,1,10,6414,2,20180321,346,-22.975,-8.6001,5193,1768.4,3.2075,34.8671,2,34.867,2,227.9,2,227,2,35.6,2,23.99,2,1.6,2,2188.8,2,2323.4,2,-999,9,-999,9,-999,-999,9,-999,1
  740H20180228, A09.5,71,1,9,6413,2,20180321,346,-22.975,-8.6001,5193,2022.1,2.9581,34.8855,2,34.884,2,236.3,2,236.7,2,37.15,2,23.17,2,1.54,2,2192.1,2,2324.2,2,-999,9,-999,9,-999,-999,9,-999,1
  740H20180228, A09.5,71,1,8,6412,2,20180321,346,-22.975,-8.6001,5193,2277.4,2.7223,34.8785,2,34.8787,2,237.9,2,239.1,2,41.96,2,23.39,2,1.56,2,2191.3,2,2328.9,2,-999,9,-999,9,-999,-999,9,-999,1
  740H20180228, A09.5,71,1,7,6411,2,20180321,346,-22.975,-8.6001,5193,2529.6,2.6362,34.8778,2,34.8789,2,239,2,239.2,2,43.88,2,23.37,2,1.55,2,2191.3,6,2332.7,6,-999,9,-999,9,-999,-999,9,-999,1
  740H20180228, A09.5,71,1,6,6410,2,20180321,346,-22.975,-8.6001,5193,3039.9,2.4452,34.8743,2,34.8799,2,239.6,2,239.5,2,48.9,2,23.63,2,1.57,2,2197.9,2,2338.2,2,-999,9,-999,9,-999,-999,9,-999,1
  740H20180228, A09.5,71,1,5,6409,2,20180321,346,-22.975,-8.6001,5193,3550.3,2.3764,34.8802,2,34.8825,2,236.8,2,236.5,2,51.5,2,23.7,2,1.57,2,2204.5,2,2345.4,2,-999,9,-999,9,-999,-999,9,-999,1
  740H20180228, A09.5,71,1,4,6408,2,20180321,346,-22.975,-8.6001,5193,4063.8,2.3843,34.8838,2,34.8839,2,234.8,2,234.3,2,52.54,2,23.68,2,1.56,2,2208.8,2,2354.1,2,-999,9,-999,9,-999,-999,9,-999,1
  740H20180228, A09.5,71,1,3,6407,2,20180321,346,-22.975,-8.6001,5193,4577.8,2.4297,34.8843,2,34.8843,2,234.2,2,239.4,2,52.87,2,23.69,2,1.56,2,2211.7,2,2354.7,2,-999,9,-999,9,-999,-999,9,-999,1
  740H20180228, A09.5,71,1,2,6406,2,20180321,346,-22.975,-8.6001,5193,5092.4,2.4942,34.884,2,34.8857,2,233.8,2,-999,5,53.12,2,23.63,2,1.54,2,2211.2,2,2357.1,2,-999,9,-999,9,-999,-999,9,-999,1
  740H20180228, A09.5,71,1,1,5977,2,20180321,346,-22.975,-8.6001,5193,5277.5,2.519,34.8839,2,34.8897,2,233.4,2,234,2,53.01,2,23.63,2,1.54,2,2211.3,6,2356.2,6,-999,9,-999,9,-999,-999,9,-999,1
  740H20180228, A09.5,72,1,24,1086,2,20180321,1048,-23.2312,-8.1002,4989,6.7,24.9849,36.603,2,36.6029,2,208.6,2,208.3,2,1.24,2,0.21,2,0.16,2,2104.8,2,2405,2,-999,9,-999,9,-999,-999,9,-999,1
  740H20180228, A09.5,72,1,23,6427,2,20180321,1048,-23.2312,-8.1002,4989,50.2,24.3513,36.5279,2,36.5384,2,213.2,2,216.7,2,1.21,2,0.18,2,0.15,2,2101.9,2,2397.6,2,-999,9,-999,9,-999,-999,9,-999,1
  740H20180228, A09.5,72,1,22,6426,2,20180321,1048,-23.2312,-8.1002,4989,70,21.5249,36.2782,2,36.2671,2,237.3,2,237.5,2,1.33,2,0.18,2,0.13,2,2090.9,2,2384.5,2,-999,1,-999,9,-999,-999,9,-999,1
  740H20180228, A09.5,72,1,21,6425,2,20180321,1048,-23.2312,-8.1002,4989,141.7,19.4102,36.1311,2,36.1309,2,230.2,2,230.6,2,1.38,2,0.15,2,0.12,2,2097.6,6,2373.1,6,-999,1,-999,9,-999,-999,9,-999,1
  740H20180228, A09.5,72,1,20,6428,2,20180321,1048,-23.2312,-8.1002,4989,176.2,18.3727,35.9656,2,35.9577,2,221.3,2,221.6,2,1.57,2,0.98,2,0.2,2,2105.5,2,2359.9,2,-999,9,-999,9,-999,-999,9,-999,1
  740H20180228, A09.5,72,1,19,6692,2,20180321,1048,-23.2312,-8.1002,4989,252.6,15.2948,35.4243,2,35.4207,2,209.7,2,210.1,2,2.59,2,5.79,2,0.49,2,2115.7,2,2327.3,2,-999,9,-999,9,-999,-999,9,-999,1
  740H20180228, A09.5,72,1,18,1098,2,20180321,1048,-23.2312,-8.1002,4989,377.2,11.5597,34.9863,2,34.9889,2,201.1,2,201.1,2,5.55,2,14.61,2,1.01,2,2143.4,2,2302.5,2,-999,9,-999,9,-999,-999,9,-999,1
  740H20180228, A09.5,72,1,17,1122,2,20180321,1048,-23.2312,-8.1002,4989,507.3,8.8297,34.6693,2,34.6619,2,190.7,2,191,2,11.07,2,22.53,2,1.51,2,2169.3,2,2293,2,-999,9,-999,9,-999,-999,9,-999,1
  740H20180228, A09.5,72,1,16,6420,2,20180321,1048,-23.2312,-8.1002,4989,634,5.7969,34.4129,2,34.412,2,188.6,2,189,2,21.17,2,29.87,2,1.98,2,2191.5,2,2288.9,2,-999,9,-999,9,-999,-999,9,-999,1
  740H20180228, A09.5,72,1,15,6419,2,20180321,1048,-23.2312,-8.1002,4989,760.3,4.8367,34.3885,2,34.3914,2,185.1,2,186.1,2,28.71,2,32.08,2,2.13,2,2202.4,6,2295.1,6,-999,9,-999,9,-999,-999,9,-999,1
  740H20180228, A09.5,72,1,14,6418,2,20180321,1048,-23.2312,-8.1002,4989,886,4.0818,34.4232,2,34.4234,2,180.1,2,180.8,2,37.21,2,33.31,2,2.23,2,2216.1,2,2302.6,2,-999,9,-999,9,-999,-999,9,-999,1
  740H20180228, A09.5,72,1,13,6417,2,20180321,1048,-23.2312,-8.1002,4989,1012.6,3.7917,34.5098,2,34.5115,2,178.7,2,179.1,2,40.03,2,32.83,2,2.2,2,2218.1,6,2308.1,6,-999,9,-999,9,-999,-999,9,-999,1
  740H20180228, A09.5,72,1,12,6416,2,20180321,1048,-23.2312,-8.1002,4989,1265.6,3.5861,34.6538,2,34.6542,2,189.3,2,189.7,2,40.38,2,30.2,2,2.02,2,2214.2,2,2315.1,2,-999,9,-999,9,-999,-999,9,-999,1
  740H20180228, A09.5,72,1,11,6415,2,20180321,1048,-23.2312,-8.1002,4989,1514.8,3.4434,34.7692,2,34.7655,2,204.9,2,205.4,2,39.04,2,27.51,2,1.83,2,2205,2,2318.2,2,-999,9,-999,9,-999,-999,9,-999,1
  740H20180228, A09.5,72,1,10,6414,2,20180321,1048,-23.2312,-8.1002,4989,1768.8,3.0581,34.8281,2,34.8259,2,220.6,2,223.2,2,42.13,2,25.39,2,1.69,2,2202,2,2324.8,2,-999,9,-999,9,-999,-999,9,-999,1
  740H20180228, A09.5,72,1,9,6413,2,20180321,1048,-23.2312,-8.1002,4989,2022.3,2.736,34.8414,2,34.8403,2,226.8,2,227.1,2,46.79,2,24.9,2,1.66,2,2200.6,2,2329.8,2,-999,9,-999,9,-999,-999,9,-999,1
  740H20180228, A09.5,72,1,8,6412,2,20180321,1048,-23.2312,-8.1002,4989,2276.6,2.5602,34.8574,2,34.8595,2,233.7,2,234.3,2,47.71,2,24.22,2,1.6,2,2200.4,6,2331.8,6,-999,9,-999,9,-999,-999,9,-999,1
  740H20180228, A09.5,72,1,7,6411,2,20180321,1048,-23.2312,-8.1002,4989,2531.5,2.493,34.8683,2,34.8675,2,237.8,2,238.6,2,47.65,2,23.7,2,1.55,2,2197,2,2333.7,2,-999,9,-999,9,-999,-999,9,-999,1
  740H20180228, A09.5,72,1,6,6410,2,20180321,1048,-23.2312,-8.1002,4989,2784.5,2.4561,34.8717,2,34.8715,2,239.4,2,240.2,2,48.34,2,23.53,2,1.53,2,2199.4,2,2335.3,2,-999,9,-999,9,-999,-999,9,-999,1
  740H20180228, A09.5,72,1,5,6409,2,20180321,1048,-23.2312,-8.1002,4989,3295.6,2.3692,34.8787,2,34.8785,2,237.5,2,238.2,2,50.75,2,23.49,2,1.53,2,2205.1,2,2344.5,2,-999,9,-999,9,-999,-999,9,-999,1
  740H20180228, A09.5,72,1,4,6408,2,20180321,1048,-23.2312,-8.1002,4989,3806.4,2.3605,34.8842,2,34.8917,2,235,2,235.2,2,51.98,2,23.51,2,1.53,2,2214.6,2,2353.8,2,-999,9,-999,9,-999,-999,9,-999,1
  740H20180228, A09.5,72,1,3,6407,2,20180321,1048,-23.2312,-8.1002,4989,4319.1,2.3958,34.8847,2,34.8836,2,234.1,2,234.3,2,52.5,2,23.43,2,1.52,2,2212,2,2355.1,2,-999,9,-999,9,-999,-999,9,-999,1
  740H20180228, A09.5,72,1,2,6406,2,20180321,1048,-23.2312,-8.1002,4989,4841.5,2.4574,34.8845,2,34.8835,2,233.4,2,234.4,2,52.63,2,23.39,2,1.53,2,2213.2,2,2355.9,2,-999,9,-999,9,-999,-999,9,-999,1
  740H20180228, A09.5,72,1,1,5977,2,20180321,1048,-23.2312,-8.1002,4989,5068,2.4868,34.8842,2,34.8853,2,233.3,2,234.5,2,52.73,2,23.4,2,1.54,2,2214,6,2354.7,6,-999,9,-999,9,-999,-999,9,-999,1