BOTTLE,20190321PRINUNIVRMK,,,,,,,,,,,,,,,,,,,,,,,,,,,,,,,,,,,,,,,
EXPOCODE,SECT_ID,STNNBR,CASTNO,SAMPNO,BTLNBR,BTLNBR_FLAG_W,DATE,TIME,LATITUDE,LONGITUDE,DEPTH,CTDPRS,CTDTMP,CTDSAL,CTDSAL_FLAG_W,SALNTY,SALNTY_FLAG_W,CTDOXY,CTDOXY_FLAG_W,OXYGEN,OXYGEN_FLAG_W,SILCAT,SILCAT_FLAG_W,NITRAT,NITRAT_FLAG_W,PHSPHT,PHSPHT_FLAG_W,TCARBN,TCARBN_FLAG_W,ALKALI,ALKALI_FLAG_W,CHLORA,CHLORA_FLAG_W,DELC14,DELC14_FLAG_W,C14ERR,DELC13,DELC13_FLAG_W,DELO18,DELO18_FLAG_W
,,,,,,,,,,,METERS,DBAR,ITS-90,PSS-78,,PSS-78,,UMOL/KG,,UMOL/KG,,UMOL/KG,,UMOL/KG,,UMOL/KG,,UMOL/KG,,UMOL/KG,,UG/KG,,/MILLE,,/MILLE,/MILLE,,/MILLE,
  740H20180228, A09.5,44,1,24,1086,2,20180312,2322,-23.9999,-23.7001,5343,5.3,27.0032,37.0592,2,37.0568,2,200.3,2,202.2,4,1.21,2,0.22,2,0.14,2,2108.6,2,2432.1,2,-999,9,-999,9,-999,-999,9,-999,1
  740H20180228, A09.5,44,1,23,6427,2,20180312,2322,-23.9999,-23.7001,5343,50.5,24.3654,36.6984,2,36.695,2,227.2,2,226.4,4,1.21,2,0.24,2,0.12,2,2097.7,2,2408.8,2,-999,9,-999,9,-999,-999,9,-999,1
  740H20180228, A09.5,44,1,22,6426,2,20180312,2322,-23.9999,-23.7001,5343,87.2,22.2113,36.6198,2,36.6227,2,232.9,2,232.5,4,1.21,2,0.21,2,0.12,2,2096.2,2,2401.8,2,-999,9,-999,9,-999,-999,9,-999,1
  740H20180228, A09.5,44,1,21,6425,2,20180312,2322,-23.9999,-23.7001,5343,102.1,21.4685,36.5542,2,36.5515,2,233,2,240.8,4,1.2,2,0.3,2,0.11,2,2097.8,6,2399.9,6,-999,9,-999,9,-999,-999,9,-999,1
  740H20180228, A09.5,44,1,20,6428,2,20180312,2322,-23.9999,-23.7001,5343,137.8,20.4936,36.4792,2,36.4749,2,224.9,2,223.1,4,1.19,2,0.28,2,0.13,2,2103.7,2,2394.5,2,-999,9,-999,9,-999,-999,9,-999,1
  740H20180228, A09.5,44,1,19,1098,2,20180312,2322,-23.9999,-23.7001,5343,177.5,19.5201,36.2887,2,36.2929,2,218,2,217.3,4,1.23,2,0.43,2,0.16,2,2107.3,2,2384.8,2,-999,9,-999,9,-999,-999,9,-999,1
  740H20180228, A09.5,44,1,18,6692,2,20180312,2322,-23.9999,-23.7001,5343,251.9,15.7617,35.5424,2,35.5426,2,207.3,2,207.1,4,2.39,2,5.04,2,0.48,2,2116,2,2334.8,2,-999,9,-999,9,-999,-999,9,-999,1
  740H20180228, A09.5,44,1,17,1122,2,20180312,2322,-23.9999,-23.7001,5343,379.8,12.5331,35.1078,2,35.1066,2,199,2,199.1,4,4.7,2,12.38,2,0.92,2,2137,6,2310.9,6,-999,9,-999,9,-999,-999,9,-999,1
  740H20180228, A09.5,44,1,16,6420,2,20180312,2322,-23.9999,-23.7001,5343,505.7,9.8344,34.7911,2,34.7944,2,191.3,2,202,4,8.76,2,19.33,2,1.35,2,2160.7,2,2297.5,2,-999,9,-999,9,-999,-999,9,-999,1
  740H20180228, A09.5,44,1,15,6419,2,20180312,2322,-23.9999,-23.7001,5343,646.3,6.6507,34.4581,2,34.4594,2,203.1,2,206,4,16.35,2,25.98,2,1.79,2,2175.1,2,2286.6,2,-999,9,-999,9,-999,-999,9,-999,1
  740H20180228, A09.5,44,1,14,6418,2,20180312,2322,-23.9999,-23.7001,5343,773,5.1016,34.3665,2,34.3676,2,201.3,2,188.2,4,25.12,2,29.57,2,2.02,2,2191.4,2,2289.7,2,-999,9,-999,9,-999,-999,9,-999,1
  740H20180228, A09.5,44,1,13,6417,2,20180312,2322,-23.9999,-23.7001,5343,914.3,4.1109,34.4038,2,34.4043,2,188.7,2,184.1,4,37.29,2,32.15,2,2.22,2,2212.2,6,2302.6,6,-999,9,-999,9,-999,-999,9,-999,1
  740H20180228, A09.5,44,1,12,6416,2,20180312,2322,-23.9999,-23.7001,5343,1045.6,3.627,34.4866,2,34.4881,2,184.2,2,207.6,4,44.21,2,32.3,2,2.24,2,2221.5,2,2310.6,2,-999,9,-999,9,-999,-999,9,-999,1
  740H20180228, A09.5,44,1,11,6415,2,20180312,2322,-23.9999,-23.7001,5343,1533.2,3.1595,34.7678,2,34.7678,2,208.4,2,235.3,4,44.91,2,27,2,1.84,2,2207.7,2,2322.4,2,-999,9,-999,9,-999,-999,9,-999,1
  740H20180228, A09.5,44,1,10,6414,2,20180312,2322,-23.9999,-23.7001,5343,1786.1,3.2481,34.8851,2,34.8846,2,233.4,2,247.3,4,33.69,2,22.81,2,1.54,2,2188.4,2,2321.8,2,-999,9,-999,9,-999,-999,9,-999,1
  740H20180228, A09.5,44,1,9,6413,2,20180312,2322,-23.9999,-23.7001,5343,2039.9,3.2278,34.9348,2,34.9348,2,247.7,2,250.3,4,27.16,2,20.58,2,1.39,2,2176.7,2,2315.7,2,-999,9,-999,9,-999,-999,9,-999,1
  740H20180228, A09.5,44,1,8,6412,2,20180312,2322,-23.9999,-23.7001,5343,2295.5,3.0675,34.9373,2,34.9376,2,250.9,2,250,4,28.13,2,20.26,2,1.36,2,2176,2,2322.5,2,-999,9,-999,9,-999,-999,9,-999,1
  740H20180228, A09.5,44,1,7,6411,2,20180312,2322,-23.9999,-23.7001,5343,2550.4,2.9348,34.9314,2,34.9318,2,251.1,2,251.3,4,30.31,2,20.33,2,1.38,2,2176.1,2,2322.2,2,-999,9,-999,9,-999,-999,9,-999,1
  740H20180228, A09.5,44,1,6,6410,2,20180312,2322,-23.9999,-23.7001,5343,3061.5,2.6898,34.9166,2,34.9172,2,252.5,2,252.3,4,34.83,2,20.61,2,1.4,2,2181.1,6,2329.6,6,-999,9,-999,9,-999,-999,9,-999,1
  740H20180228, A09.5,44,1,5,6409,2,20180312,2322,-23.9999,-23.7001,5343,3573.5,2.3103,34.8813,2,34.8799,2,248.7,2,237.5,4,47.69,2,22.12,2,1.5,2,2190.2,2,2333.5,2,-999,9,-999,9,-999,-999,9,-999,1
  740H20180228, A09.5,44,1,4,6408,2,20180312,2322,-23.9999,-23.7001,5343,4072,1.6133,34.8083,2,34.8086,2,238.1,2,230.4,4,76.24,2,25.92,2,1.79,2,2221.5,2,2350.4,2,-999,9,-999,9,-999,-999,9,-999,1
  740H20180228, A09.5,44,1,3,6407,2,20180312,2322,-23.9999,-23.7001,5343,4602.1,1.0991,34.7524,2,34.752,2,230.6,2,227.9,4,98.33,2,28.79,2,2,2,2241.2,2,2356.6,2,-999,9,-999,9,-999,-999,9,-999,1
  740H20180228, A09.5,44,1,2,6406,2,20180312,2322,-23.9999,-23.7001,5343,5118,0.8525,34.7218,2,34.721,2,226.7,2,223.9,4,110.58,2,30.35,2,2.11,2,2251.9,2,2363.8,2,-999,9,-999,9,-999,-999,9,-999,1
  740H20180228, A09.5,44,1,1,5977,2,20180312,2322,-23.9999,-23.7001,5343,5434.2,0.7323,34.7056,2,34.705,2,224.7,2,228.8,4,116.76,2,31.27,2,2.18,2,2254,6,2359.1,6,-999,9,-999,9,-999,-999,9,-999,1
  740H20180228, A09.5,45,1,24,1086,2,20180313,718,-24.0004,-23.0998,5236,5.8,26.8759,37.0397,2,37.0392,2,202.4,2,201.7,2,1.13,2,0.2,2,0.17,2,2112.3,2,2430.1,2,-999,9,-999,9,-999,-999,9,-999,1
  740H20180228, A09.5,45,1,23,6427,2,20180313,718,-24.0004,-23.0998,5236,52.2,24.3547,36.6912,2,36.7005,2,226.2,2,225.3,2,1.09,2,0.18,2,0.15,2,2093.5,2,2409.2,2,-999,9,-999,9,-999,-999,9,-999,1
  740H20180228, A09.5,45,1,22,6426,2,20180313,718,-24.0004,-23.0998,5236,72.1,22.9939,36.5517,2,36.5721,2,230.4,2,230.1,2,1.05,2,0.18,2,0.18,2,2095.9,2,2400,2,-999,1,-999,9,-999,-999,9,-999,1
  740H20180228, A09.5,45,1,21,6425,2,20180313,718,-24.0004,-23.0998,5236,102.5,21.754,36.5481,2,36.5537,2,227,2,226.6,2,1.1,2,0.21,2,0.17,2,2094.2,2,2399.4,2,-999,9,-999,9,-999,-999,9,-999,1
  740H20180228, A09.5,45,1,20,6428,2,20180313,718,-24.0004,-23.0998,5236,171.2,20.1689,36.4348,2,36.4322,2,217.6,2,217,2,1.2,2,0.4,2,0.16,2,2110.5,2,2391.2,2,-999,1,-999,9,-999,-999,9,-999,1
  740H20180228, A09.5,45,1,19,1098,2,20180313,718,-24.0004,-23.0998,5236,252.7,16.3066,35.6231,2,35.6254,2,205.9,2,205.9,2,2.27,2,4.64,2,0.47,2,2112.6,2,2339,2,-999,9,-999,9,-999,-999,9,-999,1
  740H20180228, A09.5,45,1,18,6692,2,20180313,718,-24.0004,-23.0998,5236,378.1,13.0018,35.1763,2,35.175,2,204.5,2,203.8,2,3.94,2,10.66,2,0.82,2,2129.5,6,2315,6,-999,9,-999,9,-999,-999,9,-999,1
  740H20180228, A09.5,45,1,17,1122,2,20180313,718,-24.0004,-23.0998,5236,504,10.4925,34.868,2,34.8715,2,200.3,2,200.5,2,7.03,2,16.85,2,1.2,2,2148.1,2,2300.6,2,-999,9,-999,9,-999,-999,9,-999,1
  740H20180228, A09.5,45,1,16,6420,2,20180313,718,-24.0004,-23.0998,5236,630.4,7.7112,34.5552,2,34.5478,2,201.3,2,201.5,2,13.28,2,23.79,2,1.65,2,2164.8,2,2292,2,-999,9,-999,9,-999,-999,9,-999,1
  740H20180228, A09.5,45,1,15,6419,2,20180313,718,-24.0004,-23.0998,5236,756.3,5.5086,34.3758,2,34.3764,2,206,2,207.1,3,21.79,2,28.43,2,1.95,2,2184.4,6,2288.6,6,-999,9,-999,9,-999,-999,9,-999,1
  740H20180228, A09.5,45,1,14,6418,2,20180313,718,-24.0004,-23.0998,5236,907.5,4.2009,34.3887,2,34.3881,2,191.8,2,192.6,2,35.67,2,31.8,2,2.2,2,2205.5,2,2302.9,2,-999,9,-999,9,-999,-999,9,-999,1
  740H20180228, A09.5,45,1,13,6417,2,20180313,718,-24.0004,-23.0998,5236,1078.8,3.6064,34.4951,2,34.4198,2,183.9,2,189,3,40.29,2,32.28,2,2.24,2,2211.9,2,2304.6,2,-999,9,-999,9,-999,-999,9,-999,1
  740H20180228, A09.5,45,1,12,6416,2,20180313,718,-24.0004,-23.0998,5236,1261.7,3.2919,34.6139,2,34.6156,2,189.4,2,189.7,2,48.36,2,30.62,2,2.13,2,2217,2,2321.5,2,-999,9,-999,9,-999,-999,9,-999,1
  740H20180228, A09.5,45,1,11,6415,2,20180313,718,-24.0004,-23.0998,5236,1514.2,3.1708,34.7744,2,34.7745,2,209.5,2,209.8,2,44.29,2,26.73,2,1.83,2,2204.4,6,2323.8,6,-999,9,-999,9,-999,-999,9,-999,1
  740H20180228, A09.5,45,1,10,6414,2,20180313,718,-24.0004,-23.0998,5236,1768.5,3.2148,34.8818,2,34.8791,2,232.1,2,233.3,2,34.74,2,22.85,2,1.56,2,2184.5,2,2320.7,2,-999,9,-999,9,-999,-999,9,-999,1
  740H20180228, A09.5,45,1,9,6413,2,20180313,718,-24.0004,-23.0998,5236,2021.7,3.2362,34.9321,2,34.9335,2,246.8,2,246.9,2,27.72,2,20.64,2,1.4,2,2176.5,2,2316.6,2,-999,9,-999,9,-999,-999,9,-999,1
  740H20180228, A09.5,45,1,8,6412,2,20180313,718,-24.0004,-23.0998,5236,2277,3.0905,34.9379,2,34.9377,2,250.6,2,250.3,2,27.79,2,20.21,2,1.36,2,2170.5,2,2320.7,2,-999,9,-999,9,-999,-999,9,-999,1
  740H20180228, A09.5,45,1,7,6411,2,20180313,718,-24.0004,-23.0998,5236,2532.9,2.9427,34.932,2,34.9327,2,250.8,2,251.6,2,30.08,2,20.3,2,1.37,2,2176.4,2,2322.2,2,-999,9,-999,9,-999,-999,9,-999,1
  740H20180228, A09.5,45,1,6,6410,2,20180313,718,-24.0004,-23.0998,5236,2783.6,2.8205,34.9246,2,34.9233,2,251.9,2,252.2,2,32.44,2,20.45,2,1.39,2,2175.6,6,2326.7,6,-999,9,-999,9,-999,-999,9,-999,1
  740H20180228, A09.5,45,1,5,6409,2,20180313,718,-24.0004,-23.0998,5236,3294.4,2.5697,34.9072,2,34.9064,2,252.3,2,253.3,2,37.77,2,20.84,2,1.42,2,2181,2,2327.3,2,-999,9,-999,9,-999,-999,9,-999,1
  740H20180228, A09.5,45,1,4,6408,2,20180313,718,-24.0004,-23.0998,5236,3806.8,2.0296,34.8524,2,34.8527,2,244.7,2,244.8,2,58.62,2,23.58,2,1.62,2,2199,2,2339.4,2,-999,9,-999,9,-999,-999,9,-999,1
  740H20180228, A09.5,45,1,3,6407,2,20180313,718,-24.0004,-23.0998,5236,4316,1.3882,34.7827,2,34.7818,2,234.7,2,233.5,3,86.21,2,27.29,2,1.89,2,2231.5,2,2350.5,2,-999,9,-999,9,-999,-999,9,-999,1
  740H20180228, A09.5,45,1,2,6406,2,20180313,718,-24.0004,-23.0998,5236,4831.3,1.0106,34.741,2,34.7412,2,229.5,2,229.2,2,102.79,2,29.37,2,2.06,2,2241.7,2,2359.8,2,-999,9,-999,9,-999,-999,9,-999,1
  740H20180228, A09.5,45,1,1,5977,2,20180313,718,-24.0004,-23.0998,5236,5327.7,0.9208,34.7256,2,34.7265,2,227.4,2,226.7,2,108.84,2,30.17,2,2.11,2,2248.2,6,2370,6,-999,9,-999,9,-999,-999,9,-999,1
  740H20180228, A09.5,46,1,24,1086,2,20180313,1513,-24.0014,-22.5011,5242,7.6,26.9654,37.0148,2,37.0148,2,203,2,-999,9,1.16,2,0.19,2,0.16,2,2109.4,2,2428.1,2,-999,9,-999,9,-999,-999,9,-999,9
  740H20180228, A09.5,46,1,23,6427,2,20180313,1513,-24.0014,-22.5011,5242,8.3,26.9681,37.0147,2,37.0128,2,203.4,2,-999,5,1.11,2,0.19,2,0.16,2,2105.4,2,2431.4,2,-999,9,-999,1,-999,-999,1,-999,1
  740H20180228, A09.5,46,1,22,6426,2,20180313,1513,-24.0014,-22.5011,5242,52.8,23.7552,36.6384,2,36.6436,2,230.8,2,-999,5,1.12,2,0.19,2,0.15,2,2098.3,2,2405.6,2,-999,9,-999,1,-999,-999,1,-999,1
  740H20180228, A09.5,46,1,21,6425,2,20180313,1513,-24.0014,-22.5011,5242,83.3,21.7594,36.5734,2,36.574,2,233.6,2,232.6,2,1.13,2,0.18,2,0.13,2,2092.3,2,2397.3,2,-999,9,-999,1,-999,-999,1,-999,1
  740H20180228, A09.5,46,1,20,6428,2,20180313,1513,-24.0014,-22.5011,5242,103.1,21.1377,36.5354,2,36.5314,2,231,2,234.1,2,1.15,2,0.17,2,0.14,2,2097.2,2,2397,2,-999,9,-999,1,-999,-999,1,-999,1
  740H20180228, A09.5,46,1,19,1098,2,20180313,1513,-24.0014,-22.5011,5242,162.8,19.7738,36.3335,2,36.334,2,221.4,2,220,2,1.17,2,0.27,2,0.17,2,2099.1,2,2384.7,2,-999,9,-999,1,-999,-999,1,-999,1
  740H20180228, A09.5,46,1,18,6692,2,20180313,1513,-24.0014,-22.5011,5242,253.4,15.8207,35.5514,2,35.5554,2,211.2,2,211.4,2,2.1,2,4.14,2,0.44,2,2110.6,2,2335.8,2,-999,9,-999,1,-999,-999,1,-999,1
  740H20180228, A09.5,46,1,17,1122,2,20180313,1513,-24.0014,-22.5011,5242,379.5,12.8077,35.1529,2,35.1562,2,201.8,2,202.4,2,4.17,2,11.23,2,0.87,2,2128,6,2312.8,6,-999,9,-999,1,-999,-999,1,-999,1
  740H20180228, A09.5,46,1,16,6420,2,20180313,1513,-24.0014,-22.5011,5242,504.9,10.2819,34.8428,2,34.846,2,196.5,2,196,2,7.67,2,17.78,2,1.28,2,2151.9,2,2299.1,2,-999,9,-999,1,-999,-999,1,-999,1
  740H20180228, A09.5,46,1,15,6419,2,20180313,1513,-24.0014,-22.5011,5242,626.7,7.7698,34.5676,2,34.5665,2,194.8,2,195.5,2,13.5,2,24.16,2,1.68,2,2166.7,2,2296.7,2,-999,9,-999,1,-999,-999,1,-999,1
  740H20180228, A09.5,46,1,14,6418,2,20180313,1513,-24.0014,-22.5011,5242,803.8,4.9121,34.3719,2,34.3708,2,196.8,2,198.1,2,27.36,2,30.45,2,2.1,2,2192.5,6,2294.2,6,-999,9,-50.8,2,4,0.85,2,-999,1
  740H20180228, A09.5,46,1,13,6417,2,20180313,1513,-24.0014,-22.5011,5242,1056.7,3.6416,34.4866,2,34.4805,2,184.2,2,184.1,2,43.13,2,32.57,2,2.25,2,2218.2,2,2311.4,2,-999,9,-999,1,-999,-999,1,-999,1
  740H20180228, A09.5,46,1,12,6416,2,20180313,1513,-24.0014,-22.5011,5242,1268.4,3.3122,34.6154,2,34.6176,2,189.7,2,189.4,2,46.95,2,30.82,2,2.12,2,2216.4,2,2316.6,2,-999,9,-999,1,-999,-999,1,-999,1
  740H20180228, A09.5,46,1,11,6415,2,20180313,1513,-24.0014,-22.5011,5242,1521.8,3.1511,34.7598,2,34.7592,2,207.1,2,207.3,2,44.75,2,27.39,2,1.88,2,2207.3,2,2325.4,2,-999,9,-999,1,-999,-999,1,-999,1
  740H20180228, A09.5,46,1,10,6414,2,20180313,1513,-24.0014,-22.5011,5242,1776.5,3.2126,34.8653,2,34.8647,2,228.7,2,228.8,2,35.88,2,23.64,2,1.61,2,2188.1,2,2320.8,2,-999,9,-999,1,-999,-999,1,-999,1
  740H20180228, A09.5,46,1,9,6413,2,20180313,1513,-24.0014,-22.5011,5242,2029.3,3.2213,34.9313,2,34.9321,2,246.9,2,247.6,2,27.62,2,20.71,2,1.4,2,2174.8,2,2321.6,2,-999,9,-999,1,-999,-999,1,-999,1
  740H20180228, A09.5,46,1,8,6412,2,20180313,1513,-24.0014,-22.5011,5242,2285.8,3.0966,34.9381,2,34.9377,2,251.1,2,251.3,2,27.67,2,20.17,2,1.36,2,2171.6,2,2319.2,2,-999,9,-999,1,-999,-999,1,-999,1
  740H20180228, A09.5,46,1,7,6411,2,20180313,1513,-24.0014,-22.5011,5242,2540.7,2.9631,34.9322,2,34.9364,2,251.6,2,252.6,2,29.74,2,20.24,2,1.37,2,2175,2,2325.8,2,-999,9,-999,1,-999,-999,1,-999,1
  740H20180228, A09.5,46,1,6,6410,2,20180313,1513,-24.0014,-22.5011,5242,3051.4,2.7056,34.9175,2,34.9185,2,252.9,2,252.3,2,34.24,2,20.53,2,1.39,2,2176.4,2,2326.1,2,-999,9,-999,1,-999,-999,1,-999,1
  740H20180228, A09.5,46,1,5,6409,2,20180313,1513,-24.0014,-22.5011,5242,3563.7,2.2894,34.879,2,34.8793,2,249,2,249.5,2,48.18,2,22.21,2,1.51,2,2190.8,6,2333.8,6,-999,9,-999,1,-999,-999,1,-999,1
  740H20180228, A09.5,46,1,4,6408,2,20180313,1513,-24.0014,-22.5011,5242,4075.7,1.6443,34.8099,2,34.8129,2,238.5,2,238.1,2,75.48,2,25.88,2,1.78,2,2215.6,2,2346.3,2,-999,9,-999,1,-999,-999,1,-999,1
  740H20180228, A09.5,46,1,3,6407,2,20180313,1513,-24.0014,-22.5011,5242,4590.4,1.1684,34.7587,2,34.7606,2,231.2,2,231.5,2,94.87,2,28.63,2,1.98,2,2235.8,2,2356.3,2,-999,9,-999,1,-999,-999,1,-999,1
  740H20180228, A09.5,46,1,2,6406,2,20180313,1513,-24.0014,-22.5011,5242,5106.4,0.9501,34.7314,2,34.7327,2,228,2,227.5,2,104.35,2,29.99,2,2.07,2,2245,2,2361.5,2,-999,9,-999,1,-999,-999,1,-999,1
  740H20180228, A09.5,46,1,1,5977,2,20180313,1513,-24.0014,-22.5011,5242,5327.3,0.9386,34.7272,2,34.7281,2,226.9,2,227,2,105.57,2,30.2,2,2.09,2,2246.6,6,2359.8,6,-999,9,-999,1,-999,-999,1,-999,1
  740H20180228, A09.5,47,1,24,1086,2,20180313,2257,-24.0002,-21.8998,4802,10.3,26.9193,36.9519,2,36.9526,2,201.9,2,176.2,4,1.37,2,0.22,2,0.15,2,2106.5,2,2426.7,2,-999,9,-999,9,-999,-999,9,-999,1
  740H20180228, A09.5,47,1,23,6427,2,20180313,2257,-24.0002,-21.8998,4802,51.4,24.4058,36.6757,2,36.6731,2,226.6,2,225.8,2,1.39,2,0.22,2,0.14,2,2097.9,2,-999,9,-999,9,-999,9,-999,-999,9,-999,1
  740H20180228, A09.5,47,1,22,6426,2,20180313,2257,-24.0002,-21.8998,4802,76.8,22.2485,36.6046,2,36.6078,2,232.3,2,232.4,2,1.32,2,0.25,2,0.17,2,2097.4,6,2402.8,2,-999,9,-999,9,-999,-999,9,-999,1
  740H20180228, A09.5,47,1,21,6425,2,20180313,2257,-24.0002,-21.8998,4802,98.9,21.2903,36.5041,2,36.5062,2,226,2,226.9,2,1.28,2,0.26,2,0.17,2,2101.1,2,2396.1,2,-999,9,-999,9,-999,-999,9,-999,1
  740H20180228, A09.5,47,1,20,6428,2,20180313,2257,-24.0002,-21.8998,4802,176.7,18.6765,36.0965,2,36.1004,2,216.5,2,238.3,4,1.39,2,1.08,2,0.22,2,-999,9,-999,9,-999,9,-999,9,-999,-999,9,-999,1
  740H20180228, A09.5,47,1,19,1098,2,20180313,2257,-24.0002,-21.8998,4802,252.1,15.3258,35.4657,2,35.4634,2,200.6,2,200.2,2,2.73,2,6.93,2,0.58,2,2123.1,2,2328,2,-999,9,-999,9,-999,-999,9,-999,1
  740H20180228, A09.5,47,1,18,6692,2,20180313,2257,-24.0002,-21.8998,4802,367.7,12.7168,35.1352,2,35.1386,2,202.4,2,202.6,2,4.21,2,11.44,2,0.83,2,-999,9,-999,9,-999,9,-999,9,-999,-999,9,-999,1
  740H20180228, A09.5,47,1,17,1122,4,20180313,2257,-24.0002,-21.8998,4802,519.2,9.5772,34.7614,2,34.9303,4,193.4,2,197.6,4,6.42,4,15.86,4,1.1,4,-999,9,-999,9,-999,9,-999,9,-999,-999,9,-999,1
  740H20180228, A09.5,47,1,16,6420,2,20180313,2257,-24.0002,-21.8998,4802,644.4,7.066,34.5063,2,34.5038,2,191.4,2,191.2,2,16.13,2,26.23,2,1.77,2,2179.7,2,2288.9,2,-999,9,-999,9,-999,-999,9,-999,1
  740H20180228, A09.5,47,1,15,6419,2,20180313,2257,-24.0002,-21.8998,4802,771,5.1694,34.3801,2,34.3816,2,196.2,2,196.2,2,25.12,2,29.83,2,2.01,2,2190.6,2,-999,9,-999,9,-999,9,-999,-999,9,-999,1
  740H20180228, A09.5,47,1,14,6418,2,20180313,2257,-24.0002,-21.8998,4802,897.4,4.1813,34.375,2,34.3772,2,195.6,2,195.9,2,35.59,2,31.45,2,2.14,2,2202.9,2,2299.2,2,-999,9,-999,9,-999,-999,9,-999,1
  740H20180228, A09.5,47,1,13,6417,2,20180313,2257,-24.0002,-21.8998,4802,1024,3.74,34.4544,2,34.4479,2,185.3,2,185.1,2,42.39,2,32.28,2,2.2,2,2213.3,6,-999,9,-999,9,-999,9,-999,-999,9,-999,1
  740H20180228, A09.5,47,1,12,6416,2,20180313,2257,-24.0002,-21.8998,4802,1276.8,3.2808,34.6403,2,34.6406,2,191.5,2,191.3,2,47.74,2,30.1,2,2.05,2,2219,2,2320.1,2,-999,9,-999,9,-999,-999,9,-999,1
  740H20180228, A09.5,47,1,11,6415,2,20180313,2257,-24.0002,-21.8998,4802,1530.9,3.14,34.764,2,34.7638,2,208.8,2,208,2,45.2,2,27.1,2,1.83,2,2203.7,2,-999,9,-999,9,-999,9,-999,-999,9,-999,1
  740H20180228, A09.5,47,1,10,6414,2,20180313,2257,-24.0002,-21.8998,4802,1785.1,3.1609,34.8647,2,34.8636,2,229.5,2,229.3,2,36.59,2,23.64,2,1.58,2,2190.8,2,2320.1,2,-999,9,-999,9,-999,-999,9,-999,1
  740H20180228, A09.5,47,1,9,6413,2,20180313,2257,-24.0002,-21.8998,4802,2039,3.1971,34.932,2,34.9317,2,248.1,2,247.6,2,27.75,2,20.65,2,1.38,2,2175.6,2,2317.4,2,-999,9,-999,9,-999,-999,9,-999,1
  740H20180228, A09.5,47,1,8,6412,2,20180313,2257,-24.0002,-21.8998,4802,2293.9,3.047,34.9362,2,34.937,2,251.7,2,251.3,2,28.43,2,20.24,2,1.35,2,2173.8,2,2320.2,2,-999,9,-999,9,-999,-999,9,-999,1
  740H20180228, A09.5,47,1,7,6411,2,20180313,2257,-24.0002,-21.8998,4802,2549,2.9112,34.9302,2,34.9293,2,252.2,2,239.9,4,30.74,2,20.4,2,1.36,2,2174.3,2,2321.8,2,-999,9,-999,9,-999,-999,9,-999,1
  740H20180228, A09.5,47,1,6,6410,2,20180313,2257,-24.0002,-21.8998,4802,2803.7,2.798,34.9236,2,34.9283,2,252.4,2,252.4,2,32.82,2,20.5,2,1.37,2,2177.7,6,2325.8,6,-999,9,-999,9,-999,-999,9,-999,1
  740H20180228, A09.5,47,1,5,6409,2,20180313,2257,-24.0002,-21.8998,4802,3314.1,2.5434,34.9046,2,34.9045,2,252.7,2,252.3,2,38.81,2,21.01,2,1.41,2,2179.9,2,2327.3,2,-999,9,-999,9,-999,-999,9,-999,1
  740H20180228, A09.5,47,1,4,6408,2,20180313,2257,-24.0002,-21.8998,4802,3826.8,1.9686,34.8446,2,34.8434,2,243.8,2,243.3,2,62.29,2,24.09,2,1.62,2,2206.3,2,2341.1,2,-999,9,-999,9,-999,-999,9,-999,1
  740H20180228, A09.5,47,1,3,6407,2,20180313,2257,-24.0002,-21.8998,4802,4342.1,1.3402,34.7778,2,34.7766,2,234.2,2,233.2,2,88.68,2,27.5,2,1.86,2,2227.7,2,2352.1,2,-999,9,-999,9,-999,-999,9,-999,1
  740H20180228, A09.5,47,1,2,6406,2,20180313,2257,-24.0002,-21.8998,4802,4598.5,1.1339,34.7554,2,34.7583,2,230.9,2,230.7,2,97.28,2,28.68,2,1.95,2,2237.5,2,2357.2,2,-999,9,-999,9,-999,-999,9,-999,1
  740H20180228, A09.5,47,1,1,5977,2,20180313,2257,-24.0002,-21.8998,4802,4877,0.9854,34.7377,2,34.7414,2,228.8,2,227.7,2,102.66,2,29.67,2,2.01,2,2244,6,2358.5,6,-999,9,-999,9,-999,-999,9,-999,1