BOTTLE,20190321PRINUNIVRMK,,,,,,,,,,,,,,,,,,,,,,,,,,,,,,,,,,,,,,,
EXPOCODE,SECT_ID,STNNBR,CASTNO,SAMPNO,BTLNBR,BTLNBR_FLAG_W,DATE,TIME,LATITUDE,LONGITUDE,DEPTH,CTDPRS,CTDTMP,CTDSAL,CTDSAL_FLAG_W,SALNTY,SALNTY_FLAG_W,CTDOXY,CTDOXY_FLAG_W,OXYGEN,OXYGEN_FLAG_W,SILCAT,SILCAT_FLAG_W,NITRAT,NITRAT_FLAG_W,PHSPHT,PHSPHT_FLAG_W,TCARBN,TCARBN_FLAG_W,ALKALI,ALKALI_FLAG_W,CHLORA,CHLORA_FLAG_W,DELC14,DELC14_FLAG_W,C14ERR,DELC13,DELC13_FLAG_W,DELO18,DELO18_FLAG_W
,,,,,,,,,,,METERS,DBAR,ITS-90,PSS-78,,PSS-78,,UMOL/KG,,UMOL/KG,,UMOL/KG,,UMOL/KG,,UMOL/KG,,UMOL/KG,,UMOL/KG,,UG/KG,,/MILLE,,/MILLE,/MILLE,,/MILLE,
  740H20180228, A09.5,36,1,24,1086,2,20180310,1012,-23.9999,-28.4991,5516,5.1,27.2452,36.9887,2,36.9883,2,201.1,2,209.7,2,1.06,2,0.29,2,0.08,2,2096.6,2,2427.1,2,-999,9,-999,9,-999,-999,9,-999,1
  740H20180228, A09.5,36,1,23,6427,2,20180310,1012,-23.9999,-28.4991,5516,50.7,24.4751,36.7524,2,36.7554,2,227.7,2,233.2,2,1.08,2,0.29,2,0.05,2,2092.5,2,2414.2,2,-999,9,-999,9,-999,-999,9,-999,1
  740H20180228, A09.5,36,1,22,6426,2,20180310,1012,-23.9999,-28.4991,5516,80.8,22.2717,36.7574,2,36.751,2,229.1,2,232,2,1.09,2,0.29,2,0.08,2,2099.4,2,2413.2,2,-999,9,-999,9,-999,-999,9,-999,1
  740H20180228, A09.5,36,1,21,6425,2,20180310,1012,-23.9999,-28.4991,5516,101.8,21.4645,36.7126,2,36.7076,2,222.8,2,225.8,2,1.12,2,0.27,2,0.09,2,2107,2,2409.5,2,-999,9,-999,9,-999,-999,9,-999,1
  740H20180228, A09.5,36,1,20,6428,2,20180310,1012,-23.9999,-28.4991,5516,180.4,19.7404,36.3495,2,36.3574,2,216.2,2,218.5,2,1.16,2,0.61,2,0.13,2,2106.2,2,2384.3,2,-999,9,-999,9,-999,-999,9,-999,1
  740H20180228, A09.5,36,1,19,1098,2,20180310,1012,-23.9999,-28.4991,5516,253.5,17.3589,35.8613,2,35.8496,2,209.6,2,211.7,2,1.69,2,2.52,2,0.29,2,2111.5,2,2356.5,2,-999,9,-999,9,-999,-999,9,-999,1
  740H20180228, A09.5,36,1,18,6692,2,20180310,1012,-23.9999,-28.4991,5516,378.2,13.6605,35.2632,2,35.2598,2,207.7,2,212.1,2,3.36,2,8.83,2,0.68,2,2124.9,6,2320.9,6,-999,9,-999,9,-999,-999,9,-999,1
  740H20180228, A09.5,36,1,17,1122,2,20180310,1012,-23.9999,-28.4991,5516,504.2,10.8221,34.9083,2,34.8972,2,200.1,2,202.1,2,6.91,2,16.53,2,1.14,2,2147.8,2,2301.3,2,-999,9,-999,9,-999,-999,9,-999,1
  740H20180228, A09.5,36,1,16,6420,2,20180310,1012,-23.9999,-28.4991,5516,629.9,7.8583,34.5818,2,34.5799,2,188.7,2,191.6,2,13.88,2,24.69,2,1.65,2,2174,2,2292.1,2,-999,9,-999,9,-999,-999,9,-999,1
  740H20180228, A09.5,36,1,15,6419,2,20180310,1012,-23.9999,-28.4991,5516,756.6,5.9229,34.4296,2,34.4295,2,189.6,2,191.9,2,21.52,2,29.24,2,1.94,2,2188.4,6,2289,6,-999,9,-999,9,-999,-999,9,-999,1
  740H20180228, A09.5,36,1,14,6418,2,20180310,1012,-23.9999,-28.4991,5516,882.8,4.5181,34.3766,2,34.3766,2,193.3,2,196.1,2,22.13,2,29.59,2,1.96,2,2201.1,2,2297,2,-999,9,-999,9,-999,-999,9,-999,1
  740H20180228, A09.5,36,1,13,6417,2,20180310,1012,-23.9999,-28.4991,5516,1009.2,3.8308,34.4236,2,34.4178,2,188.2,2,193.2,2,31.23,2,31.62,2,2.1,2,2203.1,2,2290.6,3,-999,9,-999,9,-999,-999,9,-999,1
  740H20180228, A09.5,36,1,12,6416,2,20180310,1012,-23.9999,-28.4991,5516,1210.9,3.276,34.5488,2,34.5489,2,185.8,2,186.7,2,50.02,2,32.16,2,2.15,2,2224.4,2,2318,2,-999,9,-999,9,-999,-999,9,-999,1
  740H20180228, A09.5,36,1,11,6415,2,20180310,1012,-23.9999,-28.4991,5516,1514.8,3.094,34.7415,2,34.7436,2,204.8,2,204.8,2,47.11,2,28.08,2,1.85,2,2220.1,2,2323.9,2,-999,9,-999,9,-999,-999,9,-999,1
  740H20180228, A09.5,36,1,10,6414,2,20180310,1012,-23.9999,-28.4991,5516,1768.1,3.3132,34.8772,2,34.877,2,230.1,2,231.2,2,-999,9,-999,9,-999,9,2190.5,2,2323.6,2,-999,9,-999,9,-999,-999,9,-999,1
  740H20180228, A09.5,36,1,9,6413,3,20180310,1012,-23.9999,-28.4991,5516,2021.3,3.3353,34.9434,2,-999,9,248.4,2,-999,9,33.56,4,23.36,4,1.52,4,-999,9,-999,9,-999,9,-999,9,-999,-999,9,-999,9
  740H20180228, A09.5,36,1,8,6412,2,20180310,1012,-23.9999,-28.4991,5516,2276.9,3.1277,34.9404,2,34.9397,2,251.5,2,251.8,2,26.96,2,20.28,2,1.32,2,2174.9,6,2322.7,6,-999,9,-999,9,-999,-999,9,-999,1
  740H20180228, A09.5,36,1,7,6411,2,20180310,1012,-23.9999,-28.4991,5516,2530.9,2.9549,34.9319,2,34.9303,2,252,2,252.6,2,29.69,2,20.43,2,1.33,2,2178.7,2,2322.5,2,-999,9,-999,9,-999,-999,9,-999,1
  740H20180228, A09.5,36,1,6,6410,2,20180310,1012,-23.9999,-28.4991,5516,3041.2,2.726,34.9187,2,34.9177,2,252.2,2,253.4,2,33.42,2,20.59,2,1.35,2,2179.9,2,2329.3,2,-999,9,-999,9,-999,-999,9,-999,1
  740H20180228, A09.5,36,1,5,6409,2,20180310,1012,-23.9999,-28.4991,5516,3556.1,2.4409,34.8962,2,34.8957,2,252.3,2,253,2,40.42,2,21.25,2,1.4,2,2179.2,2,2329.8,2,-999,9,-999,9,-999,-999,9,-999,1
  740H20180228, A09.5,36,1,4,6408,2,20180310,1012,-23.9999,-28.4991,5516,4068.7,1.8068,34.8297,2,34.8292,2,242.6,2,249.2,2,66.04,2,24.82,2,1.65,2,2211.5,2,2345.6,2,-999,9,-999,9,-999,-999,9,-999,1
  740H20180228, A09.5,36,1,3,6407,2,20180310,1012,-23.9999,-28.4991,5516,4583.6,1.2185,34.7645,2,34.7636,2,232.7,2,232.6,2,90.4,2,28.42,2,1.9,2,2256.9,2,2353.2,2,-999,9,-999,9,-999,-999,9,-999,1
  740H20180228, A09.5,36,1,2,6406,2,20180310,1012,-23.9999,-28.4991,5516,5092.4,0.756,34.7121,2,34.7116,2,226.2,2,217.4,2,110.62,2,31.13,2,2.09,2,2253.4,2,2364.5,2,-999,9,-999,9,-999,-999,9,-999,1
  740H20180228, A09.5,36,1,1,5977,2,20180310,1012,-23.9999,-28.4991,5516,5610.1,0.5777,34.688,2,34.6891,2,223.7,2,-999,5,119.95,2,32.32,2,2.18,2,2257.8,6,2365.5,6,-999,9,-999,9,-999,-999,9,-999,1
  740H20180228, A09.5,37,1,24,1086,2,20180310,1752,-24.0002,-27.8999,5360,3.8,27.0244,36.9464,2,36.9445,2,203.5,2,202.7,2,1.2,2,0.3,2,0.05,2,2098.1,2,2429.4,2,-999,9,-999,9,-999,-999,9,-999,1
  740H20180228, A09.5,37,1,23,6427,2,20180310,1752,-24.0002,-27.8999,5360,51.6,24.7353,36.6552,2,36.6687,2,227.3,2,226.8,2,1.11,2,0.29,2,0.02,2,2086.3,2,2406.7,2,-999,9,-999,9,-999,-999,9,-999,1
  740H20180228, A09.5,37,1,22,6426,2,20180310,1752,-24.0002,-27.8999,5360,81.7,22.2341,36.6697,2,36.6662,2,231,2,231.5,2,1.11,2,0.27,2,0.02,2,2098.5,2,2404.7,2,-999,1,-999,9,-999,-999,9,-999,1
  740H20180228, A09.5,37,1,21,6425,2,20180310,1752,-24.0002,-27.8999,5360,131.2,20.7743,36.5513,2,36.5583,2,220.8,2,220.7,2,1.01,2,0.23,2,0.05,2,2102,2,2399.3,2,-999,1,-999,9,-999,-999,9,-999,1
  740H20180228, A09.5,37,1,20,6428,2,20180310,1752,-24.0002,-27.8999,5360,176.6,19.7321,36.3209,2,36.3231,2,217.9,2,217.3,2,1.05,2,0.52,2,0.07,2,2097.8,2,2382.3,2,-999,9,-999,9,-999,-999,9,-999,1
  740H20180228, A09.5,37,1,19,1098,2,20180310,1752,-24.0002,-27.8999,5360,252.7,17.0937,35.8107,2,35.821,2,208.6,2,208.1,2,1.76,2,2.73,2,0.29,2,2113.2,2,2352.7,2,-999,9,-999,9,-999,-999,9,-999,1
  740H20180228, A09.5,37,1,18,6692,2,20180310,1752,-24.0002,-27.8999,5360,377.9,13.4844,35.2433,2,35.2399,2,209,2,208.2,2,3.39,2,9.24,2,0.68,2,2125.3,6,2318.4,6,-999,9,-999,9,-999,-999,9,-999,1
  740H20180228, A09.5,37,1,17,1122,2,20180310,1752,-24.0002,-27.8999,5360,504.3,11.0689,34.9389,2,34.9331,2,202,2,201.4,2,6.27,2,15.82,2,1.08,2,2148.3,2,2303.9,2,-999,9,-999,9,-999,-999,9,-999,1
  740H20180228, A09.5,37,1,16,6420,4,20180310,1752,-24.0002,-27.8999,5360,654.9,7.8369,34.5759,2,34.7126,4,194.6,2,194.9,4,9.9,4,20.9,4,1.4,4,2162.6,4,-999,9,-999,9,-999,9,-999,-999,9,-999,1
  740H20180228, A09.5,37,1,15,6419,2,20180310,1752,-24.0002,-27.8999,5360,857.1,4.6764,34.3535,2,34.3548,2,203.4,2,203.3,2,27.95,2,30.51,2,2.03,2,2188.9,2,2292.8,2,-999,9,-999,9,-999,-999,9,-999,1
  740H20180228, A09.5,37,1,14,6418,2,20180310,1752,-24.0002,-27.8999,5360,1008.9,3.8043,34.4035,2,34.4037,2,192.8,2,192.8,2,40.69,2,32.43,2,2.18,2,2214.9,2,2306.4,2,-999,9,-999,9,-999,-999,9,-999,1
  740H20180228, A09.5,37,1,13,6417,2,20180310,1752,-24.0002,-27.8999,5360,1135.6,3.4661,34.502,2,34.5036,2,185.3,2,184.7,2,46.88,2,32.48,2,2.18,2,2223.6,6,2313.8,6,-999,9,-999,9,-999,-999,9,-999,1
  740H20180228, A09.5,37,1,12,6416,2,20180310,1752,-24.0002,-27.8999,5360,1260,3.2033,34.5908,2,34.5935,2,187.6,2,187.2,2,50.48,2,31.46,2,2.12,2,2225.8,2,2321.8,2,-999,9,-999,9,-999,-999,9,-999,1
  740H20180228, A09.5,37,1,11,6415,2,20180310,1752,-24.0002,-27.8999,5360,1514.4,3.0374,34.7503,2,34.7514,2,206.7,2,205.8,2,47.42,2,27.78,2,1.84,2,2216.6,2,2324.2,2,-999,9,-999,9,-999,-999,9,-999,1
  740H20180228, A09.5,37,1,10,6414,2,20180310,1752,-24.0002,-27.8999,5360,1768.2,3.3344,34.8989,2,34.8978,2,236.5,2,236.5,2,30.98,2,22.43,2,1.47,2,2187.3,2,2321.4,2,-999,9,-999,9,-999,-999,9,-999,1
  740H20180228, A09.5,37,1,9,6413,2,20180310,1752,-24.0002,-27.8999,5360,2022.8,3.2683,34.9416,2,34.9406,2,250.6,2,249,2,25.69,2,20.34,2,1.32,2,2170.3,2,2317.5,2,-999,9,-999,9,-999,-999,9,-999,1
  740H20180228, A09.5,37,1,8,6412,2,20180310,1752,-24.0002,-27.8999,5360,2277.8,3.1113,34.9395,2,34.9393,2,252.3,2,251.6,2,25.53,2,20.4,2,1.32,2,2174.3,2,2320.8,2,-999,9,-999,9,-999,-999,9,-999,1
  740H20180228, A09.5,37,1,7,6411,2,20180310,1752,-24.0002,-27.8999,5360,2787.3,2.8215,34.9231,2,34.9213,2,251.5,2,-999,5,32.52,2,20.79,2,1.36,2,2179.8,6,2322.1,6,-999,9,-999,9,-999,-999,9,-999,1
  740H20180228, A09.5,37,1,6,6410,2,20180310,1752,-24.0002,-27.8999,5360,3294.2,2.6162,34.9115,2,34.9113,2,253.7,2,252,2,35.36,2,20.82,2,1.37,2,2190.2,2,2326.1,2,-999,9,-999,9,-999,-999,9,-999,1
  740H20180228, A09.5,37,1,5,6409,2,20180310,1752,-24.0002,-27.8999,5360,3805.5,2.1828,34.8692,2,34.8692,2,248.9,2,248.5,2,50.81,2,22.79,2,1.51,2,2196.4,2,2337.6,2,-999,9,-999,9,-999,-999,9,-999,1
  740H20180228, A09.5,37,1,4,6408,2,20180310,1752,-24.0002,-27.8999,5360,4319.7,1.5296,34.7991,2,34.7982,2,238.2,2,237.7,2,78.35,2,26.63,2,1.78,2,2213.6,2,2349.1,2,-999,9,-999,9,-999,-999,9,-999,1
  740H20180228, A09.5,37,1,3,6407,2,20180310,1752,-24.0002,-27.8999,5360,4832.4,1.0069,34.7403,2,34.74,2,229.5,2,228.1,2,101.5,2,29.75,2,2.01,2,2245.3,2,2360.3,2,-999,9,-999,9,-999,-999,9,-999,1
  740H20180228, A09.5,37,1,2,6406,2,20180310,1752,-24.0002,-27.8999,5360,5349.8,0.6189,34.6958,2,34.6948,2,223.1,2,223.1,2,118.74,2,31.92,2,2.16,2,2267.5,2,2362.4,2,-999,9,-999,9,-999,-999,9,-999,1
  740H20180228, A09.5,37,1,1,5977,2,20180310,1752,-24.0002,-27.8999,5360,5451,0.5985,34.6922,2,34.6929,2,223.7,2,-999,5,120.58,2,32.1,2,2.18,2,2258.5,6,2363.9,6,-999,9,-999,9,-999,-999,9,-999,1
  740H20180228, A09.5,38,1,24,1086,2,20180311,129,-23.9999,-27.2994,5643,6.2,27.0407,36.97,2,36.9696,2,202.6,2,209.3,2,1.21,2,0.23,2,0.06,2,2096.4,2,2424.2,2,-999,9,-999,9,-999,-999,9,-999,1
  740H20180228, A09.5,38,1,23,6427,2,20180311,129,-23.9999,-27.2994,5643,51.7,24.2194,36.6047,2,36.6167,2,226.5,2,232.6,2,1.1,2,0.26,2,0.02,2,2084,2,2403.5,2,-999,9,-999,9,-999,-999,9,-999,1
  740H20180228, A09.5,38,1,22,6426,2,20180311,129,-23.9999,-27.2994,5643,101.8,21.5426,36.6581,2,36.6596,2,225.2,2,227,2,1.06,2,0.23,2,0.05,2,2094.6,2,2402,2,-999,9,-999,9,-999,-999,9,-999,1
  740H20180228, A09.5,38,1,21,6425,2,20180311,129,-23.9999,-27.2994,5643,176.9,19.83,36.3485,2,36.3446,2,217.6,2,219.6,2,1.07,2,0.48,2,0.1,2,2102.3,6,2384.7,6,-999,9,-999,9,-999,-999,9,-999,1
  740H20180228, A09.5,38,1,20,6428,2,20180311,129,-23.9999,-27.2994,5643,252.4,17.2564,35.8286,2,35.829,2,209.4,2,211.4,2,1.56,2,2.42,2,0.27,2,2124.6,4,2319.9,3,-999,9,-999,9,-999,-999,9,-999,1
  740H20180228, A09.5,38,1,19,1098,2,20180311,129,-23.9999,-27.2994,5643,379.6,13.789,35.2911,2,35.2881,2,209.4,2,210.6,2,3.07,2,8.42,2,0.64,2,-999,9,-999,9,-999,9,-999,9,-999,-999,9,-999,1
  740H20180228, A09.5,38,1,18,6692,2,20180311,129,-23.9999,-27.2994,5643,506.2,10.8197,34.9083,2,34.9069,2,198.7,2,200.6,2,6.69,2,16.38,2,1.13,2,2147.3,2,2298.7,2,-999,9,-999,9,-999,-999,9,-999,1
  740H20180228, A09.5,38,1,17,1122,2,20180311,129,-23.9999,-27.2994,5643,631.4,8.2761,34.6182,2,34.6142,2,194.7,2,196.5,2,12.12,2,23.1,2,1.56,2,2169.6,2,2293.8,2,-999,9,-999,9,-999,-999,9,-999,1
  740H20180228, A09.5,38,1,16,6420,2,20180311,129,-23.9999,-27.2994,5643,756.9,5.8972,34.4239,2,34.4244,2,190.4,2,191.9,2,21.05,2,29.08,2,1.95,2,2186,2,2289.8,2,-999,9,-999,9,-999,-999,9,-999,1
  740H20180228, A09.5,38,1,15,6419,2,20180311,129,-23.9999,-27.2994,5643,882.2,4.5501,34.3881,2,34.3893,2,190,2,191.8,2,31.04,2,31.6,2,2.14,2,2207,2,2299.1,2,-999,9,-999,9,-999,-999,9,-999,1
  740H20180228, A09.5,38,1,14,6418,2,20180311,129,-23.9999,-27.2994,5643,1008.7,3.9069,34.4299,2,34.4313,2,186.4,2,188.2,2,39.84,2,32.56,2,2.22,2,2212.6,2,2302.9,2,-999,9,-999,9,-999,-999,9,-999,1
  740H20180228, A09.5,38,1,13,6417,2,20180311,129,-23.9999,-27.2994,5643,1262,3.2679,34.579,2,34.5791,2,187,2,187.6,2,49.2,2,31.55,2,2.14,2,2224.8,6,2321.1,6,-999,9,-999,9,-999,-999,9,-999,1
  740H20180228, A09.5,38,1,12,6416,2,20180311,129,-23.9999,-27.2994,5643,1515.6,3.0576,34.725,2,34.7238,2,202.3,2,203.6,2,47.88,2,28.51,2,1.92,2,2211.9,2,2323.4,2,-999,9,-999,9,-999,-999,9,-999,1
  740H20180228, A09.5,38,1,11,6415,2,20180311,129,-23.9999,-27.2994,5643,1768.6,2.9985,34.8286,2,34.8313,2,223.8,2,224.4,2,41.22,2,25.05,2,1.68,2,2198.6,2,2328.8,2,-999,9,-999,9,-999,-999,9,-999,1
  740H20180228, A09.5,38,1,10,6414,2,20180311,129,-23.9999,-27.2994,5643,2022.3,3.1361,34.9129,2,34.9115,2,243.5,2,245,2,30.54,2,21.58,2,1.43,2,2177.1,2,2320.7,2,-999,9,-999,9,-999,-999,9,-999,1
  740H20180228, A09.5,38,1,9,6413,2,20180311,129,-23.9999,-27.2994,5643,2275.4,3.0689,34.934,2,34.9328,2,250.6,2,251.7,2,28.17,2,20.46,2,1.37,2,2176.7,2,2322.6,2,-999,9,-999,9,-999,-999,9,-999,1
  740H20180228, A09.5,38,1,8,6412,2,20180311,129,-23.9999,-27.2994,5643,2530.6,2.9239,34.9302,2,34.9292,2,251.5,2,253,2,30.05,2,20.46,2,1.36,2,2174.8,2,2321.5,2,-999,9,-999,9,-999,-999,9,-999,1
  740H20180228, A09.5,38,1,7,6411,2,20180311,129,-23.9999,-27.2994,5643,3040.9,2.6952,34.9175,2,34.9156,2,253,2,254,2,33.77,2,20.63,2,1.39,2,2181.7,2,2327.5,2,-999,9,-999,9,-999,-999,9,-999,1
  740H20180228, A09.5,38,1,6,6410,2,20180311,129,-23.9999,-27.2994,5643,3550.1,2.3462,34.8873,2,34.8867,2,251.3,2,252.5,2,43.78,2,21.78,2,1.46,2,2186.5,6,2332.3,6,-999,9,-999,9,-999,-999,9,-999,1
  740H20180228, A09.5,38,1,5,6409,2,20180311,129,-23.9999,-27.2994,5643,4060.8,1.7247,34.8212,2,34.82,2,241.2,2,241.5,2,69.68,2,25.41,2,1.73,2,2215,2,2345.9,2,-999,9,-999,9,-999,-999,9,-999,1
  740H20180228, A09.5,38,1,4,6408,2,20180311,129,-23.9999,-27.2994,5643,4575.2,1.1926,34.762,2,34.7611,2,231.8,2,232.2,2,92.96,2,28.56,2,1.94,2,2236.2,2,2352.9,2,-999,9,-999,9,-999,-999,9,-999,1
  740H20180228, A09.5,38,1,3,6407,2,20180311,129,-23.9999,-27.2994,5643,5092.1,0.7731,34.714,2,34.7131,2,225.9,2,225.3,2,111.77,2,31,2,2.13,2,-999,9,-999,9,-999,9,-999,9,-999,-999,9,-999,1
  740H20180228, A09.5,38,1,2,6406,2,20180311,129,-23.9999,-27.2994,5643,5348.2,0.687,34.7023,2,34.7012,2,224.7,2,224,2,116.03,2,31.59,2,2.16,2,2262.6,2,2360.9,2,-999,9,-999,9,-999,-999,9,-999,1
  740H20180228, A09.5,38,1,1,5977,2,20180311,129,-23.9999,-27.2994,5643,5743.5,0.6229,34.6906,2,34.6901,2,223.4,2,222.3,2,119.22,2,32.31,2,2.19,2,2261.9,6,2364.2,6,-999,9,-999,9,-999,-999,9,-999,1
  740H20180228, A09.5,39,1,24,1086,2,20180311,913,-23.999,-26.6974,5689,10.1,27.0614,36.9149,2,36.9147,2,202.3,2,201.7,2,1.1,2,0.18,2,0.05,2,2092.1,2,2420.1,2,-999,9,-999,1,-999,-999,1,-999,1
  740H20180228, A09.5,39,1,23,6427,2,20180311,913,-23.999,-26.6974,5689,71.9,23.2529,36.599,2,36.5978,2,229.6,2,229.1,2,1.06,2,0.18,2,0.02,2,2087.8,2,2401.3,2,-999,9,-999,1,-999,-999,1,-999,1
  740H20180228, A09.5,39,1,22,6426,2,20180311,913,-23.999,-26.6974,5689,130.8,20.6142,36.5146,2,36.5135,2,220.3,2,219.5,2,1.06,2,0.17,2,0.07,2,2097.4,2,2394.9,2,-999,9,-999,1,-999,-999,1,-999,1
  740H20180228, A09.5,39,1,21,6425,2,20180311,913,-23.999,-26.6974,5689,176,19.247,36.2154,2,36.2114,2,218.8,2,218.9,2,1.1,2,0.4,2,0.1,2,2101.9,2,2380.1,2,-999,9,-999,1,-999,-999,1,-999,1
  740H20180228, A09.5,39,1,20,6428,2,20180311,913,-23.999,-26.6974,5689,252.3,16.0431,35.6093,2,35.6126,2,210,2,209.1,2,2.01,2,3.88,2,0.39,2,2109.2,6,2342.2,2,-999,9,-999,1,-999,-999,1,-999,1
  740H20180228, A09.5,39,1,19,1098,2,20180311,913,-23.999,-26.6974,5689,378.5,13.1186,35.1952,2,35.1816,2,205.3,2,204.5,2,3.88,2,10.49,2,0.78,2,2129.9,2,2313.1,2,-999,9,-999,1,-999,-999,1,-999,1
  740H20180228, A09.5,39,1,18,6692,2,20180311,913,-23.999,-26.6974,5689,503.8,10.3882,34.8547,2,34.8587,2,199.6,2,199.2,2,7.22,2,17.24,2,1.2,2,2154.1,2,2302.7,2,-999,9,-999,1,-999,-999,1,-999,1
  740H20180228, A09.5,39,1,17,1122,2,20180311,913,-23.999,-26.6974,5689,628.7,7.76,34.5681,2,34.5682,2,194.2,2,194.5,2,13.3,2,24.28,2,1.64,2,2169,2,2289.5,2,-999,9,-999,1,-999,-999,1,-999,1
  740H20180228, A09.5,39,1,16,6420,2,20180311,913,-23.999,-26.6974,5689,755.3,5.6005,34.4054,2,34.4029,2,193.1,2,189.3,2,22.52,2,29.57,2,1.98,2,2189.6,2,2292.2,2,-999,9,-999,1,-999,-999,1,-999,1
  740H20180228, A09.5,39,1,15,6419,2,20180311,913,-23.999,-26.6974,5689,881.5,4.5281,34.3958,2,34.3973,2,187.2,2,193.4,4,31.43,2,31.96,2,2.15,2,2201.2,2,2296.5,2,-999,9,-999,1,-999,-999,1,-999,1
  740H20180228, A09.5,39,1,14,6418,2,20180311,913,-23.999,-26.6974,5689,1008.1,3.8834,34.4505,2,34.4531,2,183.2,2,183.7,2,39.04,2,32.67,2,2.21,2,2215.5,2,2309.2,2,-999,9,-999,1,-999,-999,1,-999,1
  740H20180228, A09.5,39,1,13,6417,4,20180311,913,-23.999,-26.6974,5689,1228.4,3.3023,34.5668,2,34.4509,4,186,2,183.1,4,39.18,4,32.71,4,2.22,4,-999,9,-999,9,-999,9,-999,1,-999,-999,1,-999,1
  740H20180228, A09.5,39,1,12,6416,2,20180311,913,-23.999,-26.6974,5689,1262.1,3.2426,34.5852,2,34.5855,2,186.9,2,182.3,2,49.49,2,31.55,2,2.15,2,2228.8,2,2322.4,2,-999,9,-119.8,2,4,0.68,2,-999,1
  740H20180228, A09.5,39,1,11,6415,2,20180311,913,-23.999,-26.6974,5689,1768.1,3.012,34.8351,2,34.8348,2,224.5,2,224.9,2,40.83,2,24.78,2,1.66,2,2197.6,2,2323.2,2,-999,9,-999,1,-999,-999,1,-999,1
  740H20180228, A09.5,39,1,10,6414,2,20180311,913,-23.999,-26.6974,5689,2023.3,3.1056,34.9099,2,34.909,2,242.6,2,242.8,2,31.49,2,21.72,2,1.45,2,2183.9,2,2324.5,2,-999,9,-999,1,-999,-999,1,-999,1
  740H20180228, A09.5,39,1,9,6413,2,20180311,913,-23.999,-26.6974,5689,2274.9,3.0616,34.9328,2,34.9347,2,250.3,2,250.4,2,28.55,2,20.52,2,1.38,2,2175.3,2,2320.5,2,-999,9,-999,1,-999,-999,1,-999,1
  740H20180228, A09.5,39,1,8,6412,2,20180311,913,-23.999,-26.6974,5689,2531.3,2.9164,34.9296,2,34.9296,2,251.5,2,251.1,2,30.46,2,20.51,2,1.38,2,2177.1,2,2327.6,2,-999,9,-999,1,-999,-999,1,-999,1
  740H20180228, A09.5,39,1,7,6411,2,20180311,913,-23.999,-26.6974,5689,2785.9,2.7904,34.9231,2,34.9229,2,251.7,2,252.7,2,32.62,2,20.65,2,1.38,2,2181.9,2,2323.6,2,-999,9,-999,1,-999,-999,1,-999,1
  740H20180228, A09.5,39,1,6,6410,2,20180311,913,-23.999,-26.6974,5689,3296.1,2.5741,34.9088,2,34.9083,2,253.4,2,254,2,36.25,2,20.9,2,1.4,2,2182.9,6,2330.5,6,-999,9,-999,1,-999,-999,1,-999,1
  740H20180228, A09.5,39,1,5,6409,2,20180311,913,-23.999,-26.6974,5689,3806.3,2.0131,34.8531,2,34.8529,2,246,2,247.5,2,56.86,2,23.72,2,1.59,2,2204,2,2338.4,2,-999,9,-999,1,-999,-999,1,-999,1
  740H20180228, A09.5,39,1,4,6408,2,20180311,913,-23.999,-26.6974,5689,4317,1.4146,34.7876,2,34.7871,2,236.2,2,236.1,2,82.45,2,27.3,2,1.85,2,2228.8,2,2354.7,2,-999,9,-999,1,-999,-999,1,-999,1
  740H20180228, A09.5,39,1,3,6407,2,20180311,913,-23.999,-26.6974,5689,4832.4,0.9669,34.7368,2,34.737,2,228.6,2,228.1,2,102.06,2,29.95,2,2.04,2,2249.3,2,2356.1,2,-999,9,-999,1,-999,-999,1,-999,1
  740H20180228, A09.5,39,1,2,6406,2,20180311,913,-23.999,-26.6974,5689,5348.2,0.7104,34.7049,2,34.7062,2,225.5,2,224.3,2,114.46,2,31.5,2,2.16,2,2258.8,2,-999,9,-999,9,-999,1,-999,-999,1,-999,1
  740H20180228, A09.5,39,1,1,5977,2,20180311,913,-23.999,-26.6974,5689,5792.1,0.6301,34.6907,2,34.6913,2,223.5,2,222.4,2,119.96,2,32.18,2,2.21,2,2263.8,6,2365.5,2,-999,9,-999,1,-999,-999,1,-999,1