BOTTLE,20190321PRINUNIVRMK,,,,,,,,,,,,,,,,,,,,,,,,,,,,,,,,,,,,,,,
EXPOCODE,SECT_ID,STNNBR,CASTNO,SAMPNO,BTLNBR,BTLNBR_FLAG_W,DATE,TIME,LATITUDE,LONGITUDE,DEPTH,CTDPRS,CTDTMP,CTDSAL,CTDSAL_FLAG_W,SALNTY,SALNTY_FLAG_W,CTDOXY,CTDOXY_FLAG_W,OXYGEN,OXYGEN_FLAG_W,SILCAT,SILCAT_FLAG_W,NITRAT,NITRAT_FLAG_W,PHSPHT,PHSPHT_FLAG_W,TCARBN,TCARBN_FLAG_W,ALKALI,ALKALI_FLAG_W,CHLORA,CHLORA_FLAG_W,DELC14,DELC14_FLAG_W,C14ERR,DELC13,DELC13_FLAG_W,DELO18,DELO18_FLAG_W
,,,,,,,,,,,METERS,DBAR,ITS-90,PSS-78,,PSS-78,,UMOL/KG,,UMOL/KG,,UMOL/KG,,UMOL/KG,,UMOL/KG,,UMOL/KG,,UMOL/KG,,UG/KG,,/MILLE,,/MILLE,/MILLE,,/MILLE,
  740H20180228, A09.5,97,1,12,6416,2,20180329,521,-23.9996,3.9978,4180,5.6,22.7099,35.715,2,35.7142,2,218.7,2,218.5,2,1.4,2,0.18,2,0.18,2,2066.4,2,2352.8,2,-999,9,-999,9,-999,-999,9,-999,1
  740H20180228, A09.5,97,1,11,6415,2,20180329,521,-23.9996,3.9978,4180,51.6,21.8521,35.6795,2,35.6762,2,226.2,2,226.3,2,1.47,2,0.16,2,0.17,2,2074,2,2349.3,2,-999,9,-999,9,-999,-999,9,-999,1
  740H20180228, A09.5,97,1,10,6414,2,20180329,521,-23.9996,3.9978,4180,72.1,18.1392,35.591,2,35.5899,2,240.5,2,241.6,2,1.79,2,0.2,2,0.2,2,2075.3,2,2339,2,-999,9,-999,9,-999,-999,9,-999,1
  740H20180228, A09.5,97,1,9,6413,2,20180329,521,-23.9996,3.9978,4180,86.5,17.3616,35.5671,2,35.5591,2,236.9,2,236.5,2,2.05,2,1.04,2,0.25,2,2100.7,6,2326.3,6,-999,9,-999,9,-999,-999,9,-999,1
  740H20180228, A09.5,97,1,8,6412,2,20180329,521,-23.9996,3.9978,4180,101.3,16.5231,35.5198,2,35.5131,2,233,2,232.3,2,2.37,2,2.46,2,0.31,2,2091.6,6,2332.9,6,-999,9,-999,9,-999,-999,9,-999,1
  740H20180228, A09.5,97,1,7,6411,2,20180329,521,-23.9996,3.9978,4180,176.8,14.2422,35.2309,2,35.2161,2,215.5,2,216.1,2,3.27,2,7.71,2,0.62,2,-999,9,-999,9,-999,9,-999,9,-999,-999,9,-999,1
  740H20180228, A09.5,97,1,6,6410,2,20180329,521,-23.9996,3.9978,4180,252.6,12.5684,35.0782,2,35.0758,2,201,2,216.3,2,7.92,2,18.59,2,1.27,2,2140.6,2,2308.3,2,-999,9,-999,9,-999,-999,9,-999,1
  740H20180228, A09.5,97,1,5,6409,2,20180329,521,-23.9996,3.9978,4180,378.8,10.31,34.8238,2,34.8214,2,192.1,2,192.1,2,7.91,3,18.6,3,1.27,3,2157.3,6,2298.4,6,-999,9,-999,9,-999,-999,9,-999,1
  740H20180228, A09.5,97,1,4,6408,2,20180329,521,-23.9996,3.9978,4180,474.4,8.5533,34.6435,2,34.6404,2,172.5,2,173.4,2,12.94,2,24.91,2,1.66,2,2185,2,2293,2,-999,9,-999,9,-999,-999,9,-999,1
  740H20180228, A09.5,97,1,3,6407,2,20180329,521,-23.9996,3.9978,4180,543.9,7.0231,34.5051,2,34.5046,2,171.5,2,172.5,2,16.96,2,28.63,2,1.88,2,2189.3,2,2289.9,2,-999,9,-999,9,-999,-999,9,-999,1
  740H20180228, A09.5,97,1,2,6406,2,20180329,521,-23.9996,3.9978,4180,630.6,5.5567,34.3959,2,34.3982,2,183.2,2,183.6,2,22.4,2,30.85,2,2.04,2,2196.1,2,2291.1,2,-999,9,-999,9,-999,-999,9,-999,1
  740H20180228, A09.5,97,1,1,5977,2,20180329,521,-23.9996,3.9978,4180,756.9,4.4318,34.3781,2,34.3757,2,185,2,185.7,2,32.88,2,32.61,2,2.18,2,2206.5,6,2298.3,6,-999,9,-999,9,-999,-999,9,-999,1
  740H20180228, A09.5,97,1,24,1086,2,20180329,521,-23.9996,3.9978,4180,882.5,3.8751,34.4384,2,34.4372,2,176,2,176.8,2,41.67,2,33.62,2,2.26,2,2222.2,2,2309.3,2,-999,9,-999,9,-999,-999,9,-999,1
  740H20180228, A09.5,97,1,23,6427,2,20180329,521,-23.9996,3.9978,4180,1009.2,3.5691,34.5196,2,34.52,2,176.7,2,177.3,2,45.75,2,32.93,2,2.22,2,2219,2,2313.7,2,-999,9,-999,9,-999,-999,9,-999,1
  740H20180228, A09.5,97,1,22,6426,2,20180329,521,-23.9996,3.9978,4180,1262.9,3.5463,34.7003,2,34.6995,2,189.3,2,190.1,2,39.8,2,29.47,2,1.97,2,2214.1,6,2319.2,6,-999,9,-999,9,-999,-999,9,-999,1
  740H20180228, A09.5,97,1,21,6425,2,20180329,521,-23.9996,3.9978,4180,1514.9,3.4731,34.8131,2,34.8082,2,208.2,2,208.8,2,35.41,2,26.4,2,1.76,2,2197.4,2,2318.5,2,-999,9,-999,9,-999,-999,9,-999,1
  740H20180228, A09.5,97,1,20,6428,2,20180329,521,-23.9996,3.9978,4180,1768.9,3.3041,34.8682,2,34.8653,2,224.3,2,224.8,2,33.64,2,24.21,2,1.59,2,2191.6,2,2321.1,2,-999,9,-999,9,-999,-999,9,-999,1
  740H20180228, A09.5,97,1,19,6692,2,20180329,521,-23.9996,3.9978,4180,2023.2,3.0217,34.875,2,34.8724,2,231.9,2,232.2,2,37.28,2,23.66,2,1.56,2,2187.9,6,2324.5,6,-999,9,-999,9,-999,-999,9,-999,1
  740H20180228, A09.5,97,1,18,1098,2,20180329,521,-23.9996,3.9978,4180,2277.5,2.7408,34.8704,2,34.8683,2,234.2,2,235.6,2,42.37,2,23.71,2,1.57,2,2193.8,2,2331.5,2,-999,9,-999,9,-999,-999,9,-999,1
  740H20180228, A09.5,97,1,17,1122,2,20180329,521,-23.9996,3.9978,4180,2530.8,2.5574,34.8659,2,34.8638,2,235.3,2,235.8,2,46.62,2,23.84,2,1.58,2,2194.7,2,2333.7,2,-999,9,-999,9,-999,-999,9,-999,1
  740H20180228, A09.5,97,1,16,6420,2,20180329,521,-23.9996,3.9978,4180,2785.9,2.4609,34.8696,2,34.868,2,235.9,2,236.7,2,48.57,2,23.76,2,1.58,2,2200.5,6,2339.2,6,-999,9,-999,9,-999,-999,9,-999,1
  740H20180228, A09.5,97,1,15,6419,2,20180329,521,-23.9996,3.9978,4180,3296.8,2.3436,34.8806,2,34.8787,2,233.8,2,234.8,2,51.68,2,23.66,2,1.57,2,2206.2,2,2350.7,2,-999,9,-999,9,-999,-999,9,-999,1
  740H20180228, A09.5,97,1,14,6418,2,20180329,521,-23.9996,3.9978,4180,3807.6,2.3266,34.8848,2,34.8833,2,232.6,2,234.2,2,52.73,2,23.55,2,1.57,2,2213.1,2,2358,2,-999,9,-999,9,-999,-999,9,-999,1
  740H20180228, A09.5,97,1,13,6417,2,20180329,521,-23.9996,3.9978,4180,4238,2.3462,34.8829,2,34.882,2,231.9,2,233.5,2,53.18,2,23.53,2,1.56,2,2216.5,6,2359.9,6,-999,9,-999,9,-999,-999,9,-999,1
  740H20180228, A09.5,98,1,12,6416,3,20180329,1102,-24.0001,4.4674,3645,5.5,22.8387,35.8257,2,35.8288,4,217.7,2,218.5,4,1.21,4,0.16,4,0.19,4,2074.7,4,2357.3,4,-999,9,-999,9,-999,-999,9,-999,1
  740H20180228, A09.5,98,1,11,6415,2,20180329,1102,-24.0001,4.4674,3645,49.9,22.5579,35.8228,2,35.7635,2,221.9,2,223.8,2,1.3,2,0.14,2,0.19,2,2076.7,2,2351.4,2,-999,9,-999,9,-999,-999,9,-999,1
  740H20180228, A09.5,98,1,10,6414,2,20180329,1102,-24.0001,4.4674,3645,69.7,18.9947,35.577,2,35.576,2,241.5,2,241.3,2,1.78,2,0.23,2,0.19,2,2073.3,2,2338.1,2,-999,1,-999,9,-999,-999,9,-999,1
  740H20180228, A09.5,98,1,9,6413,2,20180329,1102,-24.0001,4.4674,3645,90.3,16.7553,35.5223,2,35.516,2,229.7,2,229.7,2,2.29,2,2.5,2,0.36,2,2096.2,6,2332.2,6,-999,1,-999,9,-999,-999,9,-999,1
  740H20180228, A09.5,98,1,8,6412,2,20180329,1102,-24.0001,4.4674,3645,150.3,15.1642,35.3791,2,35.3707,2,224.4,2,224.5,2,2.66,2,4.97,2,0.48,2,2103,2,2323.9,2,-999,9,-999,9,-999,-999,9,-999,1
  740H20180228, A09.5,98,1,7,6411,2,20180329,1102,-24.0001,4.4674,3645,175.3,14.3402,35.249,2,35.2406,2,220.9,2,220.7,2,3.04,2,6.85,2,0.6,2,2113.4,2,2317.1,2,-999,9,-999,9,-999,-999,9,-999,1
  740H20180228, A09.5,98,1,6,6410,3,20180329,1102,-24.0001,4.4674,3645,215.7,13.274,35.1185,2,35.1209,4,213.5,2,213.7,4,3.66,4,9.58,4,0.75,4,2123.8,4,2311.1,4,-999,9,-999,9,-999,-999,9,-999,1
  740H20180228, A09.5,98,1,5,6409,3,20180329,1102,-24.0001,4.4674,3645,256,12.6396,35.0913,2,35.0859,4,190.9,2,190.8,4,5.16,4,13.89,4,0.98,4,2148.3,4,2308.9,4,-999,9,-999,9,-999,-999,9,-999,1
  740H20180228, A09.5,98,1,4,6408,2,20180329,1102,-24.0001,4.4674,3645,381.3,10.0991,34.8133,2,34.812,2,175.7,2,176.2,2,9.08,2,20.85,2,1.41,2,2171.1,2,2296.6,2,-999,9,-999,9,-999,-999,9,-999,1
  740H20180228, A09.5,98,1,3,6407,2,20180329,1102,-24.0001,4.4674,3645,457,8.4094,34.6323,2,34.628,2,175.6,2,175.2,2,12.89,2,25.14,2,1.68,2,2182.2,6,2292.2,6,-999,9,-999,9,-999,-999,9,-999,1
  740H20180228, A09.5,98,1,2,6406,2,20180329,1102,-24.0001,4.4674,3645,508,7.2605,34.5218,2,34.5224,2,176.3,2,176.2,2,15.87,2,27.82,2,1.85,2,2189.7,2,2288.6,2,-999,9,-999,9,-999,-999,9,-999,1
  740H20180228, A09.5,98,1,1,5977,4,20180329,1102,-24.0001,4.4674,3645,633.8,5.337,34.3833,2,34.5231,4,187.3,2,176.5,4,15.9,4,27.84,4,1.85,4,-999,9,-999,9,-999,9,-999,9,-999,-999,9,-999,1
  740H20180228, A09.5,98,1,24,1086,2,20180329,1102,-24.0001,4.4674,3645,760.3,4.4681,34.3915,2,34.3913,2,178.4,2,178.1,2,33.31,2,33.41,2,2.24,2,2213.6,6,2297.8,6,-999,9,-999,9,-999,-999,9,-999,1
  740H20180228, A09.5,98,1,23,6427,2,20180329,1102,-24.0001,4.4674,3645,886,3.8593,34.4348,2,34.4321,2,177.1,2,177.2,2,41.7,2,33.84,2,2.28,2,2221.9,2,2308.8,2,-999,9,-999,9,-999,-999,9,-999,1
  740H20180228, A09.5,98,1,22,6426,2,20180329,1102,-24.0001,4.4674,3645,1012.4,3.5938,34.514,2,34.5129,2,176.5,2,176.4,2,45.09,2,33.33,2,2.25,2,2223.7,6,2313.2,6,-999,9,-999,9,-999,-999,9,-999,1
  740H20180228, A09.5,98,1,21,6425,3,20180329,1102,-24.0001,4.4674,3645,1265,3.5432,34.6982,2,34.7003,4,189,2,189.2,4,39.72,4,29.77,4,2,4,2212.7,4,2317.3,4,-999,9,-999,9,-999,-999,9,-999,1
  740H20180228, A09.5,98,1,20,6428,2,20180329,1102,-24.0001,4.4674,3645,1519.1,3.4966,34.8224,2,34.8191,2,208.5,2,208.7,2,34.24,2,26.4,2,1.76,2,2201.5,2,2317.1,2,-999,9,-999,9,-999,-999,9,-999,1
  740H20180228, A09.5,98,1,19,6692,2,20180329,1102,-24.0001,4.4674,3645,1771.9,3.1918,34.8593,2,34.8581,2,224.4,2,224.8,2,35.75,2,24.58,2,1.63,2,-999,9,-999,9,-999,9,-999,9,-999,-999,9,-999,1
  740H20180228, A09.5,98,1,18,1098,2,20180329,1102,-24.0001,4.4674,3645,2025.8,2.9856,34.8805,2,34.878,2,232.5,2,232.2,2,37.08,2,23.75,2,1.57,2,2192.6,2,2323.1,2,-999,9,-999,9,-999,-999,9,-999,1
  740H20180228, A09.5,98,1,17,1122,2,20180329,1102,-24.0001,4.4674,3645,2279.7,2.7443,34.8742,2,34.8742,2,234.8,2,234.3,2,41.63,2,23.82,2,1.57,2,2189.8,2,2328,2,-999,9,-999,9,-999,-999,9,-999,1
  740H20180228, A09.5,98,1,16,6420,2,20180329,1102,-24.0001,4.4674,3645,2535.2,2.5538,34.8698,2,34.8685,2,235.9,2,235.9,2,45.86,2,23.98,2,1.59,2,2198.8,6,2334.2,6,-999,9,-999,9,-999,-999,9,-999,1
  740H20180228, A09.5,98,1,15,6419,2,20180329,1102,-24.0001,4.4674,3645,3046,2.3673,34.8778,2,34.8827,2,235.1,2,235.3,2,50.24,2,23.97,2,1.59,2,2205.3,2,2344.9,2,-999,9,-999,9,-999,-999,9,-999,1
  740H20180228, A09.5,98,1,14,6418,2,20180329,1102,-24.0001,4.4674,3645,3557.4,2.3118,34.8843,2,34.8829,2,232.3,2,232.5,2,52.15,2,23.93,2,1.57,2,2214.2,2,2356.9,2,-999,9,-999,9,-999,-999,9,-999,1
  740H20180228, A09.5,98,1,13,6417,2,20180329,1102,-24.0001,4.4674,3645,3688.8,2.2977,34.8837,2,34.8856,2,232.1,2,232.7,2,52.34,2,23.9,2,1.57,2,2215.3,6,2358.5,6,-999,9,-999,9,-999,-999,9,-999,3
  740H20180228, A09.5,99,1,11,6415,2,20180329,1546,-24.0002,4.7843,3009,5.5,22.7751,35.7472,2,35.746,2,219.7,2,219.8,2,1.21,2,0.16,2,0.18,2,-999,9,-999,9,-999,9,-999,9,-999,-999,9,-999,1
  740H20180228, A09.5,99,1,12,6416,2,20180329,1546,-24.0002,4.7843,3009,5.5,22.67,35.7448,2,35.7466,2,219.3,2,220,2,1.26,2,0.18,2,0.19,2,2075.6,6,2353.7,6,-999,9,-999,9,-999,-999,9,-999,9
  740H20180228, A09.5,99,1,9,6413,2,20180329,1546,-24.0002,4.7843,3009,50,20.5039,35.6188,2,35.6116,2,236.9,2,238.1,2,1.52,2,0.14,2,0.17,2,2071.9,6,2343.8,6,-999,9,-999,9,-999,-999,9,-999,1
  740H20180228, A09.5,99,1,10,6414,2,20180329,1546,-24.0002,4.7843,3009,50.7,20.46,35.6189,2,35.6169,2,237.7,2,237.3,2,1.49,2,0.14,2,0.17,2,2073.4,2,2342.7,2,-999,9,-999,9,-999,-999,9,-999,9
  740H20180228, A09.5,99,1,7,6411,2,20180329,1546,-24.0002,4.7843,3009,74.4,18.0999,35.5796,2,35.573,2,245.2,2,246.3,2,1.9,2,0.19,2,0.17,2,2081.1,2,2343.3,2,-999,9,-999,9,-999,-999,9,-999,1
  740H20180228, A09.5,99,1,8,6412,2,20180329,1546,-24.0002,4.7843,3009,74.4,18.1173,35.5799,2,35.5742,2,246.1,2,246,2,1.92,2,0.19,2,0.17,2,2074.1,2,2337.7,2,-999,9,-999,9,-999,-999,9,-999,9
  740H20180228, A09.5,99,1,5,6409,2,20180329,1546,-24.0002,4.7843,3009,105.5,16.0358,35.4574,2,35.4518,2,222.7,2,223.8,2,2.65,2,4.24,2,0.42,2,2099.1,2,2331.4,2,-999,9,-999,9,-999,-999,9,-999,1
  740H20180228, A09.5,99,1,6,6410,2,20180329,1546,-24.0002,4.7843,3009,105.6,16.0826,35.4629,2,35.454,2,223.6,2,223.5,2,2.63,2,4.2,2,0.43,2,2104.1,6,2329,6,-999,9,-999,9,-999,-999,9,-999,9
  740H20180228, A09.5,99,1,4,6408,2,20180329,1546,-24.0002,4.7843,3009,177.9,13.7733,35.1642,2,35.1641,2,215.9,2,216,2,3.32,2,8.29,2,0.66,2,2123.3,2,2313.5,2,-999,9,-999,9,-999,-999,9,-999,1
  740H20180228, A09.5,99,1,3,6407,2,20180329,1546,-24.0002,4.7843,3009,253.2,12.47,35.0742,2,35.0713,2,195.6,2,196.3,2,5.13,2,13.44,2,0.96,2,2140,2,2308.2,2,-999,9,-999,9,-999,-999,9,-999,1
  740H20180228, A09.5,99,1,2,6406,2,20180329,1546,-24.0002,4.7843,3009,378.6,9.9498,34.7925,2,34.7938,2,176.4,2,178.4,2,5.06,3,13.48,2,0.96,2,2175,2,2294.9,2,-999,9,-999,9,-999,-999,9,-999,1
  740H20180228, A09.5,99,1,1,5977,2,20180329,1546,-24.0002,4.7843,3009,495.5,7.1328,34.5138,2,34.519,2,171.3,2,171.7,2,16.07,2,28.13,2,1.87,2,2195.6,6,2288.6,6,-999,9,-999,9,-999,-999,9,-999,1
  740H20180228, A09.5,99,1,24,1086,2,20180329,1546,-24.0002,4.7843,3009,626,5.2488,34.383,2,34.3799,2,186.4,2,187,2,24.06,2,31.01,2,2.08,2,2199.8,2,2290,2,-999,9,-999,9,-999,-999,9,-999,1
  740H20180228, A09.5,99,1,23,6427,2,20180329,1546,-24.0002,4.7843,3009,684.3,4.853,34.378,2,34.3757,2,183.9,2,185.8,2,27.79,2,31.76,2,2.15,2,2205.5,6,2293.1,6,-999,9,-999,9,-999,-999,9,-999,1
  740H20180228, A09.5,99,1,22,6426,2,20180329,1546,-24.0002,4.7843,3009,752.1,4.3256,34.3956,2,34.3963,2,179.4,2,179.8,2,35.02,2,32.84,2,2.25,2,2221.4,2,2298.9,2,-999,9,-999,9,-999,-999,9,-999,1
  740H20180228, A09.5,99,1,21,6425,2,20180329,1546,-24.0002,4.7843,3009,888.5,3.6806,34.4683,2,34.4666,2,176.1,2,176.7,2,44,2,33.03,2,2.26,2,2226.3,2,2311.6,2,-999,9,-999,9,-999,-999,9,-999,1
  740H20180228, A09.5,99,1,20,6428,2,20180329,1546,-24.0002,4.7843,3009,1014.8,3.5721,34.5682,2,34.562,2,178,2,178.6,2,43,2,31.89,2,2.19,2,2230.9,2,2312.4,2,-999,9,-999,9,-999,-999,9,-999,1
  740H20180228, A09.5,99,1,19,6692,2,20180329,1546,-24.0002,4.7843,3009,1267.9,3.5888,34.7218,2,34.7202,2,190.4,2,190.8,2,37.64,2,28.66,2,1.95,2,2212.7,2,2314.2,2,-999,9,-999,9,-999,-999,9,-999,1
  740H20180228, A09.5,99,1,18,1098,2,20180329,1546,-24.0002,4.7843,3009,1521.7,3.4831,34.8181,2,34.8149,2,208,2,208.7,2,34.33,2,25.84,2,1.76,2,2207.2,6,2317.5,6,-999,9,-999,9,-999,-999,9,-999,1
  740H20180228, A09.5,99,1,17,1122,2,20180329,1546,-24.0002,4.7843,3009,1774,3.224,34.86,2,34.8588,2,225,2,224.6,2,35.09,2,23.8,2,1.63,2,2193.4,2,2320.5,2,-999,9,-999,9,-999,-999,9,-999,1
  740H20180228, A09.5,99,1,16,6420,2,20180329,1546,-24.0002,4.7843,3009,2029.2,2.9637,34.8798,2,34.8777,2,233.9,2,234.4,2,37.26,2,22.84,2,1.55,2,2195.5,6,2324.4,6,-999,9,-999,9,-999,-999,9,-999,3
  740H20180228, A09.5,99,1,15,6419,2,20180329,1546,-24.0002,4.7843,3009,2284,2.7075,34.8707,2,34.8694,2,235.2,2,235.4,2,42.66,2,23.04,2,1.57,2,2202.2,2,2327.8,2,-999,9,-999,9,-999,-999,9,-999,1
  740H20180228, A09.5,99,1,14,6418,2,20180329,1546,-24.0002,4.7843,3009,2793,2.4467,34.8719,2,34.8706,2,236.5,2,237.2,2,47.98,2,22.99,2,1.57,2,2202.6,2,2335.9,2,-999,9,-999,9,-999,-999,9,-999,1
  740H20180228, A09.5,99,1,13,6417,2,20180329,1546,-24.0002,4.7843,3009,3042.1,2.3812,34.8771,2,34.8757,2,235.4,2,237.1,2,48.97,2,23.05,2,1.57,2,2210.8,6,2342.7,6,-999,9,-999,9,-999,-999,9,-999,3
  740H20180228, A09.5,100,1,12,6416,2,20180329,1958,-23.9997,5.0978,2463,3.5,23.0945,35.8525,2,35.8496,2,217.6,2,218.7,2,-999,5,-999,5,-999,5,-999,9,-999,9,-999,9,-999,9,-999,-999,9,-999,9
  740H20180228, A09.5,100,1,11,6415,2,20180329,1958,-23.9997,5.0978,2463,4,23.0896,35.8514,2,35.8487,2,218.1,2,219.4,2,1.51,2,0.12,2,0.16,2,2080.2,2,2356.3,2,-999,9,-999,9,-999,-999,9,-999,1
  740H20180228, A09.5,100,1,10,6414,2,20180329,1958,-23.9997,5.0978,2463,52.3,19.9312,35.6112,2,35.6125,2,239.5,2,240.6,2,1.83,2,0.1,2,0.17,2,2067.5,2,2341.8,2,-999,9,-999,9,-999,-999,9,-999,1
  740H20180228, A09.5,100,1,9,6413,2,20180329,1958,-23.9997,5.0978,2463,67.6,18.0992,35.5869,2,35.5827,2,241.9,2,241.2,2,2.07,2,0.23,2,0.2,2,2084.9,2,2338.1,2,-999,9,-999,9,-999,-999,9,-999,1
  740H20180228, A09.5,100,1,8,6412,2,20180329,1958,-23.9997,5.0978,2463,81.4,17.2039,35.5554,2,35.5549,2,234.5,2,235,2,-999,5,-999,5,-999,5,-999,9,-999,9,-999,9,-999,9,-999,-999,9,-999,9
  740H20180228, A09.5,100,1,7,6411,2,20180329,1958,-23.9997,5.0978,2463,81.7,17.1814,35.5543,2,35.5536,2,233.1,2,234.8,2,2.27,2,1.07,2,0.27,2,2088.8,6,2333.1,6,-999,9,-999,9,-999,-999,9,-999,1
  740H20180228, A09.5,100,1,6,6410,2,20180329,1958,-23.9997,5.0978,2463,102.9,15.9933,35.4596,2,35.4588,2,222,2,222.4,2,2.87,2,4.41,2,0.44,2,2106.2,2,2328,2,-999,9,-999,9,-999,-999,9,-999,1
  740H20180228, A09.5,100,1,5,6409,2,20180329,1958,-23.9997,5.0978,2463,177.4,13.7258,35.1669,2,35.1625,2,205.5,2,206.8,2,4.06,2,9.65,2,0.75,2,2119.4,2,2312.5,2,-999,9,-999,9,-999,-999,9,-999,1
  740H20180228, A09.5,100,1,4,6408,2,20180329,1958,-23.9997,5.0978,2463,253.8,12.0121,35.0216,2,35.0213,2,206.1,2,206.8,2,5.06,2,13.15,2,0.95,2,2143.2,2,2303.7,2,-999,9,-999,9,-999,-999,9,-999,1
  740H20180228, A09.5,100,1,3,6407,2,20180329,1958,-23.9997,5.0978,2463,318.2,10.8525,34.8926,2,34.8933,2,190.3,2,192.2,2,7.04,2,17.22,2,1.2,2,2146.7,2,2300.1,2,-999,9,-999,9,-999,-999,9,-999,1
  740H20180228, A09.5,100,1,2,6406,2,20180329,1958,-23.9997,5.0978,2463,388.3,9.3485,34.7322,2,34.731,2,168.2,2,168.7,2,11.02,2,23.06,2,1.57,2,2177.3,6,2293.2,6,-999,9,-999,9,-999,-999,9,-999,1
  740H20180228, A09.5,100,1,24,1086,2,20180329,1958,-23.9997,5.0978,2463,505.5,6.7542,34.4769,2,34.4874,2,179.3,2,179.6,2,-999,5,-999,5,-999,5,2194.4,2,2288.1,2,-999,9,-999,9,-999,-999,9,-999,1
  740H20180228, A09.5,100,1,23,6427,2,20180329,1958,-23.9997,5.0978,2463,631.1,5.2461,34.3797,2,34.3792,2,186.6,2,187.2,2,17.06,3,28.14,2,1.89,2,2190.5,2,2289.9,2,-999,9,-999,9,-999,-999,9,-999,1
  740H20180228, A09.5,100,1,22,6426,2,20180329,1958,-23.9997,5.0978,2463,666.2,4.9586,34.3761,2,34.3752,2,185.8,2,186.9,2,24.55,2,31.09,2,2.09,2,2194.7,6,2292.3,6,-999,9,-999,9,-999,-999,9,-999,1
  740H20180228, A09.5,100,1,21,6425,2,20180329,1958,-23.9997,5.0978,2463,760.7,4.3895,34.3953,2,34.3944,2,177,2,177.9,2,27.4,2,31.74,2,2.13,2,2216.3,2,2298.9,2,-999,9,-999,9,-999,-999,9,-999,1
  740H20180228, A09.5,100,1,20,6428,2,20180329,1958,-23.9997,5.0978,2463,886.6,3.8099,34.447,2,34.4449,2,176.3,2,176.8,2,34.27,2,33.19,2,2.24,2,2216,2,2307.2,2,-999,9,-999,9,-999,-999,9,-999,1
  740H20180228, A09.5,100,1,19,6692,2,20180329,1958,-23.9997,5.0978,2463,1012.6,3.6008,34.5336,2,34.5305,2,176.9,2,177,2,42.95,2,33.52,2,2.27,2,2231.8,2,2312.1,2,-999,9,-999,9,-999,-999,9,-999,1
  740H20180228, A09.5,100,1,18,1098,2,20180329,1958,-23.9997,5.0978,2463,1265.4,3.5509,34.7107,2,34.709,2,189.2,2,189,2,44.34,2,32.7,2,2.21,2,2206.4,2,2315.2,2,-999,9,-999,9,-999,-999,9,-999,1
  740H20180228, A09.5,100,1,17,1122,2,20180329,1958,-23.9997,5.0978,2463,1518.4,3.3811,34.811,2,34.8082,2,209.6,2,209.3,2,39.77,2,29.32,2,1.97,2,2204.5,6,2319.7,6,-999,9,-999,9,-999,-999,9,-999,1
  740H20180228, A09.5,100,1,16,6420,2,20180329,1958,-23.9997,5.0978,2463,1772.2,3.2353,34.8643,2,34.862,2,224.9,2,224,2,37.24,2,26.16,2,1.74,2,2185,2,2320.4,2,-999,9,-999,9,-999,-999,9,-999,1
  740H20180228, A09.5,100,1,15,6419,2,20180329,1958,-23.9997,5.0978,2463,2025.7,2.9808,34.8811,2,34.8796,2,232.8,2,233.6,2,35.51,2,24.06,2,1.59,2,2194,2,2323.9,2,-999,9,-999,9,-999,-999,9,-999,1
  740H20180228, A09.5,100,1,14,6418,2,20180329,1958,-23.9997,5.0978,2463,2280.5,2.7559,34.8752,2,34.8756,2,235,2,234.6,2,38.03,2,23.24,2,1.53,2,2186.7,2,2329,2,-999,9,-999,9,-999,-999,9,-999,1
  740H20180228, A09.5,100,1,1,5977,2,20180329,1958,-23.9997,5.0978,2463,2484,2.6586,34.8759,2,-999,9,235.4,2,-999,9,42.74,2,23.33,2,1.54,2,-999,9,-999,9,-999,9,-999,9,-999,-999,9,-999,9
  740H20180228, A09.5,100,1,13,6417,2,20180329,1958,-23.9997,5.0978,2463,2485.3,2.6575,34.8758,2,34.8753,2,235.7,2,219.9,3,44.43,2,23.4,2,1.54,2,2192.8,6,2330.3,6,-999,9,-999,9,-999,-999,9,-999,1