BOTTLE,20190321PRINUNIVRMK,,,,,,,,,,,,,,,,,,,,,,,,,,,,,,,,,,,,,,,
EXPOCODE,SECT_ID,STNNBR,CASTNO,SAMPNO,BTLNBR,BTLNBR_FLAG_W,DATE,TIME,LATITUDE,LONGITUDE,DEPTH,CTDPRS,CTDTMP,CTDSAL,CTDSAL_FLAG_W,SALNTY,SALNTY_FLAG_W,CTDOXY,CTDOXY_FLAG_W,OXYGEN,OXYGEN_FLAG_W,SILCAT,SILCAT_FLAG_W,NITRAT,NITRAT_FLAG_W,PHSPHT,PHSPHT_FLAG_W,TCARBN,TCARBN_FLAG_W,ALKALI,ALKALI_FLAG_W,CHLORA,CHLORA_FLAG_W,DELC14,DELC14_FLAG_W,C14ERR,DELC13,DELC13_FLAG_W,DELO18,DELO18_FLAG_W
,,,,,,,,,,,METERS,DBAR,ITS-90,PSS-78,,PSS-78,,UMOL/KG,,UMOL/KG,,UMOL/KG,,UMOL/KG,,UMOL/KG,,UMOL/KG,,UMOL/KG,,UG/KG,,/MILLE,,/MILLE,/MILLE,,/MILLE,
  740H20180228, A09.5,109,1,12,6416,2,20180331,1902,-23.9997,8.6663,4675,6.4,22.0818,35.6123,2,35.6122,2,220.1,2,220.8,2,2.15,2,0.16,2,0.17,2,2068.6,6,2348,6,-999,9,-999,9,-999,-999,9,-999,1
  740H20180228, A09.5,109,1,11,6415,2,20180331,1902,-23.9997,8.6663,4675,51.7,19.3222,35.5485,2,35.5452,2,240.8,2,239.7,2,2.1,2,0.2,2,0.16,2,2068.2,6,2338.6,6,-999,9,-999,9,-999,-999,9,-999,1
  740H20180228, A09.5,109,1,10,6414,2,20180331,1902,-23.9997,8.6663,4675,71.4,16.455,35.4663,2,35.4542,2,226.4,2,226.5,2,2.76,2,3.38,2,0.38,2,2097.7,6,2329.1,6,-999,9,-999,9,-999,-999,9,-999,1
  740H20180228, A09.5,109,1,9,6413,2,20180331,1902,-23.9997,8.6663,4675,79.2,15.8099,35.421,2,35.4177,2,220.5,2,220,2,3.02,2,4.98,2,0.46,2,2101.1,6,2324,6,-999,9,-999,9,-999,-999,9,-999,1
  740H20180228, A09.5,109,1,8,6412,2,20180331,1902,-23.9997,8.6663,4675,178.8,13.2558,35.1066,2,35.1068,2,223.2,2,223.3,2,3.14,2,8.09,2,0.64,2,2118.4,6,2313,6,-999,9,-999,9,-999,-999,9,-999,1
  740H20180228, A09.5,109,1,7,6411,2,20180331,1902,-23.9997,8.6663,4675,254.1,11.8365,35.0003,2,34.9954,2,211.8,2,212.4,2,4.68,2,12.84,2,0.92,2,2129.8,2,2303.4,2,-999,9,-999,9,-999,-999,9,-999,1
  740H20180228, A09.5,109,1,6,6410,2,20180331,1902,-23.9997,8.6663,4675,379.6,9.8728,34.854,2,34.8486,2,60.3,2,60.4,2,15.96,2,32.92,2,2.15,2,2244.9,6,2294.6,6,-999,9,-999,9,-999,-999,9,-999,1
  740H20180228, A09.5,109,1,5,6409,2,20180331,1902,-23.9997,8.6663,4675,423.1,9.0882,34.7722,2,34.7704,2,61,2,65.9,2,17.51,2,34.76,2,2.26,2,2249.6,6,2293.4,6,-999,9,-999,9,-999,-999,9,-999,1
  740H20180228, A09.5,109,1,4,6408,2,20180331,1902,-23.9997,8.6663,4675,505.4,7.8281,34.6593,2,34.6578,2,70.9,2,77.3,2,19.92,2,36.9,2,2.38,2,2249.6,6,2290.8,6,-999,9,-999,9,-999,-999,9,-999,1
  740H20180228, A09.5,109,1,3,6407,2,20180331,1902,-23.9997,8.6663,4675,622.1,6.4168,34.5489,2,34.5471,2,91.7,2,91.4,2,24.54,2,37.88,2,2.48,2,2208.6,6,2295.7,6,-999,9,-999,9,-999,-999,9,-999,1
  740H20180228, A09.5,109,1,2,1077,2,20180331,1902,-23.9997,8.6663,4675,756.9,5.0733,34.4693,2,34.4676,2,126.4,2,125.7,2,30.62,2,36.98,2,2.46,2,2236.5,6,2294.4,6,-999,9,-999,9,-999,-999,9,-999,1
  740H20180228, A09.5,109,1,1,5977,2,20180331,1902,-23.9997,8.6663,4675,868.2,4.3814,34.4688,2,34.4666,2,144.6,2,143.6,2,35.97,2,36.1,2,2.44,2,2233,6,2301.4,6,-999,9,-999,9,-999,-999,9,-999,1
  740H20180228, A09.5,109,1,24,1086,2,20180331,1902,-23.9997,8.6663,4675,1015.8,3.8744,34.5116,2,34.5091,2,162,2,161.9,2,41.2,2,34.36,2,2.34,2,2229.9,6,2307.4,6,-999,9,-999,9,-999,-999,9,-999,1
  740H20180228, A09.5,109,1,23,6427,2,20180331,1902,-23.9997,8.6663,4675,1267.4,3.6227,34.6459,2,34.6412,2,176.2,2,175.7,2,41.74,2,31.61,2,2.16,2,2224,6,2314.9,6,-999,9,-999,9,-999,-999,9,-999,1
  740H20180228, A09.5,109,1,22,6426,2,20180331,1902,-23.9997,8.6663,4675,1521,3.4173,34.7786,2,34.7756,2,196.4,2,196,2,40.38,2,28.08,2,1.9,2,2212.6,6,2318.9,6,-999,9,-999,9,-999,-999,9,-999,1
  740H20180228, A09.5,109,1,21,6425,2,20180331,1902,-23.9997,8.6663,4675,1775.1,3.3614,34.8589,2,34.8556,2,214.1,2,213.3,2,35.54,2,25.28,2,1.72,2,2200.9,6,2321.2,6,-999,9,-999,9,-999,-999,9,-999,1
  740H20180228, A09.5,109,1,20,6428,2,20180331,1902,-23.9997,8.6663,4675,2027.7,3.2005,34.8849,2,34.8827,2,224.9,2,223.4,2,35.65,2,23.94,2,1.62,2,2193,6,2320.7,2,-999,9,-999,9,-999,-999,9,-999,1
  740H20180228, A09.5,109,1,19,6692,2,20180331,1902,-23.9997,8.6663,4675,2282.4,2.9548,34.8842,2,34.8824,2,230,2,230.5,2,39.6,2,23.67,2,1.59,2,2196,6,2326.4,6,-999,9,-999,9,-999,-999,9,-999,1
  740H20180228, A09.5,109,1,18,1098,2,20180331,1902,-23.9997,8.6663,4675,2537.1,2.8164,34.8906,2,34.8892,2,234.8,2,234.9,2,40.65,2,23.21,2,1.55,2,2191.7,6,2328.9,6,-999,9,-999,9,-999,-999,9,-999,1
  740H20180228, A09.5,109,1,17,1122,2,20180331,1902,-23.9997,8.6663,4675,3048.2,2.5014,34.8704,2,34.8686,2,233.1,2,229,2,49.87,2,24.14,2,1.62,2,2204.5,6,2337.7,6,-999,9,-999,9,-999,-999,9,-999,1
  740H20180228, A09.5,109,1,16,6420,2,20180331,1902,-23.9997,8.6663,4675,3559.5,2.2867,34.8567,2,34.8551,2,230.4,2,230.7,2,57.86,2,24.92,2,1.67,2,2216.6,6,2348.8,6,-999,9,-999,9,-999,-999,9,-999,1
  740H20180228, A09.5,109,1,15,6419,2,20180331,1902,-23.9997,8.6663,4675,4070.7,1.6598,34.7913,2,34.7892,2,221.7,2,222.1,2,84.06,2,28.2,2,1.9,2,2235.8,6,2357.1,6,-999,9,-999,9,-999,-999,9,-999,1
  740H20180228, A09.5,109,1,14,6418,2,20180331,1902,-23.9997,8.6663,4675,4584.4,1.1846,34.7409,2,34.7393,2,216.1,2,214.8,2,104.61,2,30.66,2,2.08,2,2255.4,6,2369.3,6,-999,9,-999,9,-999,-999,9,-999,1
  740H20180228, A09.5,109,1,13,6417,2,20180331,1902,-23.9997,8.6663,4675,4745.9,1.1721,34.7376,2,34.7368,2,215.7,2,216.4,2,105.64,2,30.89,2,2.09,2,2254.1,6,2370.6,6,-999,9,-999,9,-999,-999,9,-999,1
  740H20180228, A09.5,110,1,12,6416,2,20180401,139,-23.9994,9.1985,4547,5.5,21.739,35.5351,2,35.5355,2,221.9,2,222.4,2,2.25,2,0.15,2,0.2,2,2065,2,2345.9,2,-999,9,-999,1,-999,-999,1,-999,1
  740H20180228, A09.5,110,1,11,6415,2,20180401,139,-23.9994,9.1985,4547,50.9,21.6279,35.5871,2,35.5916,2,223.1,2,224.1,2,2.12,2,0.16,2,0.19,2,2064.3,2,2345.6,2,-999,9,-999,1,-999,-999,1,-999,1
  740H20180228, A09.5,110,1,10,6414,2,20180401,139,-23.9994,9.1985,4547,81.5,16.6816,35.5358,2,35.5343,2,236.7,2,235.1,2,2.28,2,1.29,2,0.3,2,2089,2,2335.7,2,-999,9,-999,1,-999,-999,1,-999,1
  740H20180228, A09.5,110,1,9,6413,2,20180401,139,-23.9994,9.1985,4547,103,15.9263,35.4937,2,35.4864,2,226.2,2,225.7,2,2.57,2,3.7,2,0.44,2,2093.4,2,2330.1,2,-999,9,-999,1,-999,-999,1,-999,1
  740H20180228, A09.5,110,1,8,6412,2,20180401,139,-23.9994,9.1985,4547,177.6,13.3383,35.1184,2,35.11,2,208.1,2,208.4,2,4.1,2,10.4,2,0.8,2,2128,2,2311.3,2,-999,9,-999,1,-999,-999,1,-999,1
  740H20180228, A09.5,110,1,7,6411,2,20180401,139,-23.9994,9.1985,4547,256.7,11.8704,35.0076,2,35.0074,2,206.7,2,207.7,2,4.94,2,13.27,2,0.96,2,2133.9,2,2305.2,2,-999,9,-999,1,-999,-999,1,-999,1
  740H20180228, A09.5,110,1,6,6410,2,20180401,139,-23.9994,9.1985,4547,378.8,9.7861,34.8374,2,34.8344,2,65.8,2,66.4,2,15.89,2,32.49,2,2.13,2,2243.1,6,2297.9,6,-999,9,-999,1,-999,-999,1,-999,1
  740H20180228, A09.5,110,1,5,6409,2,20180401,139,-23.9994,9.1985,4547,413.3,9.3006,34.7989,2,34.7934,2,55.2,2,55.6,2,17.61,2,34.76,2,2.26,2,2247.6,2,2296,2,-999,9,-999,1,-999,-999,1,-999,1
  740H20180228, A09.5,110,1,4,6408,2,20180401,139,-23.9994,9.1985,4547,504.6,7.8477,34.6716,2,34.6681,2,58.9,2,59.2,2,20.77,2,37.95,2,2.44,2,2256.2,2,2292.3,2,-999,9,-30.3,2,4,0.27,2,-999,1
  740H20180228, A09.5,110,1,3,6407,2,20180401,139,-23.9994,9.1985,4547,628.8,6.2062,34.5357,2,34.5307,2,93.7,2,94.9,2,25.28,2,38,2,2.47,2,2242.1,2,2291.3,2,-999,9,-999,1,-999,-999,1,-999,1
  740H20180228, A09.5,110,1,2,1077,2,20180401,139,-23.9994,9.1985,4547,756.9,5.1168,34.477,2,34.4761,2,120.7,2,120.2,2,30.77,2,37.29,2,2.47,2,2237.3,6,2296.2,6,-999,9,-999,1,-999,-999,1,-999,1
  740H20180228, A09.5,110,1,1,5977,2,20180401,139,-23.9994,9.1985,4547,882.1,4.3457,34.4643,2,34.462,2,145.5,2,145.5,2,36.57,2,35.65,2,2.39,2,2233.6,2,2305.4,2,-999,9,-999,1,-999,-999,1,-999,1
  740H20180228, A09.5,110,1,24,1086,2,20180401,139,-23.9994,9.1985,4547,1009.5,3.9207,34.5063,2,34.5044,2,158.7,2,158.3,2,40.87,2,34.32,2,2.34,2,2228.6,2,2309.3,2,-999,9,-999,1,-999,-999,1,-999,1
  740H20180228, A09.5,110,1,23,6427,2,20180401,139,-23.9994,9.1985,4547,1260.9,3.5428,34.6651,2,34.6631,2,179.9,2,175.2,3,43.02,2,30.81,2,2.11,2,2221.9,6,2320.9,6,-999,9,-999,1,-999,-999,1,-999,1
  740H20180228, A09.5,110,1,22,6426,2,20180401,139,-23.9994,9.1985,4547,1514.3,3.5108,34.7936,2,34.7959,2,198.3,2,202.4,3,36.75,2,27.32,2,1.85,2,2209.2,2,2320.7,2,-999,9,-999,1,-999,-999,1,-999,1
  740H20180228, A09.5,110,1,21,6425,2,20180401,139,-23.9994,9.1985,4547,1769,3.4021,34.87,2,34.8656,2,214.3,2,212.6,3,33.48,2,25.04,2,1.7,2,2197.5,2,2319.8,2,-999,9,-999,1,-999,-999,1,-999,1
  740H20180228, A09.5,110,1,20,6428,2,20180401,139,-23.9994,9.1985,4547,2021.4,3.2024,34.8842,2,34.8812,2,223.9,2,225.2,3,34.81,2,24.1,2,1.63,2,2198.4,2,2327.3,2,-999,9,-999,1,-999,-999,1,-999,1
  740H20180228, A09.5,110,1,19,6692,2,20180401,139,-23.9994,9.1985,4547,2275.9,3.0424,34.8987,2,34.896,2,232.5,2,-999,9,35.76,2,23.2,2,1.57,2,2188.8,6,2326.7,6,-999,9,-999,1,-999,-999,1,-999,1
  740H20180228, A09.5,110,1,18,1098,2,20180401,139,-23.9994,9.1985,4547,2530.8,2.8097,34.8895,2,34.8881,2,234.4,2,233.6,2,40.23,2,23.32,2,1.58,2,2195.3,2,2332.7,2,-999,9,-999,1,-999,-999,1,-999,1
  740H20180228, A09.5,110,1,17,1122,2,20180401,139,-23.9994,9.1985,4547,2786.4,2.6186,34.879,2,34.8778,2,234.3,2,232.9,2,45.43,2,23.71,2,1.61,2,2197.9,2,2334,2,-999,9,-999,1,-999,-999,1,-999,1
  740H20180228, A09.5,110,1,16,6420,2,20180401,139,-23.9994,9.1985,4547,3296.8,2.4064,34.8674,2,34.8657,2,232.3,2,231,2,52.86,2,24.34,2,1.66,2,2208.6,2,2344.7,2,-999,9,-999,1,-999,-999,1,-999,1
  740H20180228, A09.5,110,1,15,6419,2,20180401,139,-23.9994,9.1985,4547,3809.4,2.079,34.8347,2,34.8339,2,226.8,2,226.6,2,66.97,2,26.06,2,1.78,2,2219.6,2,2349.6,2,-999,9,-999,1,-999,-999,1,-999,1
  740H20180228, A09.5,110,1,14,6418,2,20180401,139,-23.9994,9.1985,4547,4319.6,1.394,34.7624,2,34.7608,2,218.6,2,217.6,2,95.6,2,29.59,2,2.04,2,2249.9,2,2366.8,2,-999,9,-999,1,-999,-999,1,-999,1
  740H20180228, A09.5,110,1,13,6417,2,20180401,139,-23.9994,9.1985,4547,4614.9,1.1936,34.7403,2,34.7392,2,215.2,2,215.2,2,105.4,2,30.87,2,2.11,2,2258.8,6,2373.6,6,-999,9,-152.6,2,4,0.54,2,-999,1
  740H20180228, A09.5,111,1,12,6416,2,20180401,828,-23.9996,9.7333,4304,6.4,21.3473,35.337,2,35.3367,2,227.1,2,225.9,2,1.32,2,0.19,2,0.24,2,2062.4,2,2335.8,2,-999,1,-999,9,-999,-999,9,-999,1
  740H20180228, A09.5,111,1,11,6415,2,20180401,828,-23.9996,9.7333,4304,31.5,21.2195,35.4016,2,35.4016,2,225.3,2,225.7,2,2.33,2,0.14,2,0.21,2,2062.6,2,2335.3,2,-999,1,-999,9,-999,-999,9,-999,1
  740H20180228, A09.5,111,1,10,6414,2,20180401,828,-23.9996,9.7333,4304,51.6,18.2479,35.5951,2,35.5956,2,243.7,2,244.6,2,1.9,2,0.14,2,0.18,2,2076.3,2,2338.6,2,-999,1,-999,9,-999,-999,9,-999,1
  740H20180228, A09.5,111,1,9,6413,2,20180401,828,-23.9996,9.7333,4304,60.6,17.1793,35.5559,2,35.5554,2,241.1,2,241.7,2,2.12,2,0.23,2,0.22,2,2085.7,2,2334.3,2,-999,1,-999,9,-999,-999,9,-999,1
  740H20180228, A09.5,111,1,8,6412,2,20180401,828,-23.9996,9.7333,4304,70.5,16.5325,35.5219,2,35.5289,2,235.1,2,235,2,2.31,2,1.17,2,0.29,2,2091.6,6,2332.7,6,-999,1,-999,9,-999,-999,9,-999,1
  740H20180228, A09.5,111,1,7,6411,2,20180401,828,-23.9996,9.7333,4304,101,15.8401,35.482,2,35.4749,2,225.7,2,224.5,2,2.63,2,3.91,2,0.41,2,2099.7,2,2327.1,2,-999,9,-999,9,-999,-999,9,-999,1
  740H20180228, A09.5,111,1,6,6410,2,20180401,828,-23.9996,9.7333,4304,175.5,13.6879,35.1648,2,35.1659,2,220.3,2,220.1,2,3.33,2,7.71,2,0.65,2,2119.2,2,2315.7,2,-999,9,-999,9,-999,-999,9,-999,1
  740H20180228, A09.5,111,1,5,6409,2,20180401,828,-23.9996,9.7333,4304,252.8,12.1024,35.0361,2,35.0385,2,202.1,2,202.7,2,5.2,2,13.32,2,0.98,2,2142.1,2,2306.5,2,-999,9,-999,9,-999,-999,9,-999,1
  740H20180228, A09.5,111,1,4,6408,2,20180401,828,-23.9996,9.7333,4304,377.9,9.4659,34.7303,2,34.729,2,188.7,2,187.8,2,9.89,2,20.82,2,1.43,2,2169.4,2,2294.3,2,-999,9,-999,9,-999,-999,9,-999,1
  740H20180228, A09.5,111,1,3,6407,2,20180401,828,-23.9996,9.7333,4304,504.1,7.0172,34.4921,2,34.4818,2,178,2,177.9,2,17.05,2,28.19,2,1.9,2,2192.9,2,2285.1,2,-999,9,-999,9,-999,-999,9,-999,1
  740H20180228, A09.5,111,1,2,1077,2,20180401,828,-23.9996,9.7333,4304,631.4,5.326,34.3903,2,34.3899,2,178.2,2,177.4,2,24.67,2,31.82,2,2.13,2,2208.8,2,2291.1,2,-999,9,-999,9,-999,-999,9,-999,1
  740H20180228, A09.5,111,1,1,5977,2,20180401,828,-23.9996,9.7333,4304,756.9,4.5814,34.4161,2,34.414,2,164.5,2,164.1,2,32.81,2,34.29,2,2.28,2,2222.3,6,2297.9,6,-999,9,-999,9,-999,-999,9,-999,1
  740H20180228, A09.5,111,1,24,1086,2,20180401,828,-23.9996,9.7333,4304,883.1,4.09,34.4486,2,34.4451,2,165,2,165,2,38.63,2,34.49,2,2.3,2,2223.1,2,2303.1,2,-999,9,-999,9,-999,-999,9,-999,1
  740H20180228, A09.5,111,1,23,6427,2,20180401,828,-23.9996,9.7333,4304,1009.3,3.7366,34.5062,2,34.5065,2,170.7,2,169.8,2,43.74,2,33.71,2,2.26,2,2229.2,2,2311.4,2,-999,9,-999,9,-999,-999,9,-999,1
  740H20180228, A09.5,111,1,22,6426,2,20180401,828,-23.9996,9.7333,4304,1262.2,3.4621,34.6604,2,34.6573,2,181.9,2,180.7,2,44.82,2,30.95,2,2.07,2,2222.7,6,2316.8,6,-999,9,-999,9,-999,-999,9,-999,1
  740H20180228, A09.5,111,1,21,6425,2,20180401,828,-23.9996,9.7333,4304,1518.3,3.423,34.8012,2,34.7982,2,200.1,2,200.2,2,38.69,2,27.33,2,1.81,2,2211.2,2,2322,2,-999,9,-999,9,-999,-999,9,-999,1
  740H20180228, A09.5,111,1,20,6428,2,20180401,828,-23.9996,9.7333,4304,1769.3,3.3297,34.8648,2,34.8623,2,215.8,2,214.6,2,35.49,2,24.97,2,1.64,2,2199.1,2,2320.4,2,-999,9,-999,9,-999,-999,9,-999,1
  740H20180228, A09.5,111,1,19,6692,2,20180401,828,-23.9996,9.7333,4304,2022.6,3.177,34.8885,2,34.8873,2,224.5,2,223.7,2,36.01,2,23.82,2,1.55,2,2197,2,2325.3,2,-999,9,-999,9,-999,-999,9,-999,1
  740H20180228, A09.5,111,1,18,1098,2,20180401,828,-23.9996,9.7333,4304,2277.6,2.9747,34.8931,2,34.8909,2,230.5,2,230.9,2,38.72,2,23.3,2,1.53,2,2193.5,2,2326.7,2,-999,9,-999,9,-999,-999,9,-999,1
  740H20180228, A09.5,111,1,17,1122,2,20180401,828,-23.9996,9.7333,4304,2533,2.7133,34.8736,2,34.8731,2,231.8,2,231.2,2,45.21,2,23.72,2,1.56,2,2199.3,6,2334.6,6,-999,9,-999,9,-999,-999,9,-999,1
  740H20180228, A09.5,111,1,16,6420,2,20180401,828,-23.9996,9.7333,4304,3042,2.4629,34.868,2,34.8664,2,232.9,2,232.6,2,52.08,2,23.95,2,1.58,2,2205.8,2,2339,2,-999,9,-999,9,-999,-999,9,-999,1
  740H20180228, A09.5,111,1,15,6419,2,20180401,828,-23.9996,9.7333,4304,3551.1,2.2506,34.8532,2,34.8513,2,230.1,2,229.8,2,61,2,24.8,2,1.66,2,2216.1,2,2353.3,2,-999,9,-999,9,-999,-999,9,-999,1
  740H20180228, A09.5,111,1,14,6418,2,20180401,828,-23.9996,9.7333,4304,4064.6,1.5521,34.7812,2,34.7795,2,219.9,2,220.6,2,90.75,2,28.43,2,1.92,2,2242.6,2,2359.2,2,-999,9,-999,9,-999,-999,9,-999,1
  740H20180228, A09.5,111,1,13,6417,2,20180401,828,-23.9996,9.7333,4304,4362.4,1.1676,34.7416,2,34.7412,2,214.4,2,214.8,2,106.77,2,30.65,2,2.07,2,2259.4,6,2372.9,6,-999,9,-999,9,-999,-999,9,-999,1
  740H20180228, A09.5,112,1,12,6416,2,20180401,1445,-23.9999,10.2659,4144,5.9,21.511,35.3525,2,35.3518,2,226.5,2,226.9,2,0.89,2,0.13,2,0.22,2,2060.3,6,2336.2,6,-999,9,-999,9,-999,-999,9,-999,1
  740H20180228, A09.5,112,1,11,6415,2,20180401,1445,-23.9999,10.2659,4144,43.6,19.6321,35.2605,2,35.2646,2,242.1,2,240.5,2,0.76,2,0.62,2,0.38,2,2069.7,6,2324.5,6,-999,9,-999,9,-999,-999,9,-999,1
  740H20180228, A09.5,112,1,10,6414,2,20180401,1445,-23.9999,10.2659,4144,49.5,18.8515,35.2578,2,35.2638,2,234.2,2,231.1,2,1.46,2,2.51,2,0.48,2,2085.1,6,2325.7,6,-999,9,-999,9,-999,-999,9,-999,1
  740H20180228, A09.5,112,1,9,6413,2,20180401,1445,-23.9999,10.2659,4144,71.4,15.3272,35.3151,2,35.3164,2,207.7,2,208.4,2,3.49,2,8.05,2,0.68,2,2119.4,6,2317.3,6,-999,9,-999,9,-999,-999,9,-999,1
  740H20180228, A09.5,112,1,8,6412,2,20180401,1445,-23.9999,10.2659,4144,101.6,14.3835,35.2284,2,35.1905,2,199.9,2,196.9,2,4.53,2,11.27,2,0.87,2,2136.4,6,2312.8,6,-999,9,-999,9,-999,-999,9,-999,1
  740H20180228, A09.5,112,1,7,6411,4,20180401,1445,-23.9999,10.2659,4144,177.2,12.5205,35.0896,2,35.0183,4,159.4,2,-999,9,-999,5,-999,5,-999,5,-999,9,-999,9,-999,9,-999,9,-999,-999,9,-999,9
  740H20180228, A09.5,112,1,6,6410,2,20180401,1445,-23.9999,10.2659,4144,203.6,11.8825,35.021,2,-999,9,170.6,2,171.7,2,6.78,2,17.34,2,1.2,2,2167.7,6,2305.1,6,-999,9,-999,9,-999,-999,9,-999,1
  740H20180228, A09.5,112,1,5,6409,2,20180401,1445,-23.9999,10.2659,4144,273,10.7845,34.912,2,34.9093,2,130.5,2,131.8,2,9.91,2,23.79,2,1.59,2,2195.4,6,2297.6,6,-999,9,-999,9,-999,-999,9,-999,1
  740H20180228, A09.5,112,1,4,6408,2,20180401,1445,-23.9999,10.2659,4144,378.4,8.3998,34.6265,2,34.6288,2,173.7,2,174.3,2,13.07,2,24.87,2,1.69,2,2184.3,6,2292.2,6,-999,9,-999,9,-999,-999,9,-999,1
  740H20180228, A09.5,112,1,3,6407,2,20180401,1445,-23.9999,10.2659,4144,496.7,6.2549,34.4329,2,34.4361,2,180.4,2,180.1,2,19.23,2,29.78,2,2,2,2196.5,6,2286.5,6,-999,9,-999,9,-999,-999,9,-999,1
  740H20180228, A09.5,112,1,2,1077,2,20180401,1445,-23.9999,10.2659,4144,619.3,5.3627,34.4376,2,34.4366,2,150,2,150,2,26.62,2,34.36,2,2.28,2,2223.4,6,2292.8,6,-999,9,-999,9,-999,-999,9,-999,1
  740H20180228, A09.5,112,1,1,5977,2,20180401,1445,-23.9999,10.2659,4144,755,4.6855,34.4549,2,34.4529,2,143.7,2,143.2,2,32.94,2,35.93,2,2.41,2,2228.9,6,2296.4,6,-999,9,-999,9,-999,-999,9,-999,1
  740H20180228, A09.5,112,1,24,1086,2,20180401,1445,-23.9999,10.2659,4144,840.1,4.3695,34.4726,2,34.4699,2,143.1,2,142,2,36.58,2,36.15,2,2.43,2,2234,6,2299.9,6,-999,9,-999,9,-999,-999,9,-999,1
  740H20180228, A09.5,112,1,23,6427,2,20180401,1445,-23.9999,10.2659,4144,1013.4,3.7726,34.5489,2,34.5473,2,167.6,2,167.8,2,41.27,2,33.39,2,2.26,2,2229.2,6,2312.2,6,-999,9,-999,9,-999,-999,9,-999,1
  740H20180228, A09.5,112,1,22,6426,2,20180401,1445,-23.9999,10.2659,4144,1266.3,3.655,34.6951,2,34.693,2,179.2,2,179.2,2,39.52,2,30.39,2,2.07,2,2220.4,6,2314.5,6,-999,9,-999,9,-999,-999,9,-999,1
  740H20180228, A09.5,112,1,21,6425,2,20180401,1445,-23.9999,10.2659,4144,1519.8,3.5152,34.8042,2,34.8019,2,198.5,2,198.1,2,36.91,2,27.14,2,1.84,2,2210.3,6,2320.3,6,-999,9,-999,9,-999,-999,9,-999,1
  740H20180228, A09.5,112,1,20,6428,2,20180401,1445,-23.9999,10.2659,4144,1773.8,3.3338,34.8613,2,34.8596,2,214.7,2,214.2,2,35.89,2,25.03,2,1.68,2,2199.4,6,2317.2,6,-999,9,-999,9,-999,-999,9,-999,1
  740H20180228, A09.5,112,1,19,6692,2,20180401,1445,-23.9999,10.2659,4144,2027.4,3.1746,34.892,2,34.8899,2,224.5,2,224.4,2,35.68,2,23.77,2,1.58,2,2197.3,6,2325.2,6,-999,9,-999,9,-999,-999,9,-999,1
  740H20180228, A09.5,112,1,18,1098,2,20180401,1445,-23.9999,10.2659,4144,2280,2.9174,34.8833,2,34.8816,2,230.3,2,230.2,2,40.11,2,23.68,2,1.57,2,2195.2,6,2325.8,6,-999,9,-999,9,-999,-999,9,-999,1
  740H20180228, A09.5,112,1,17,1122,2,20180401,1445,-23.9999,10.2659,4144,2535.6,2.7439,34.8809,2,34.8801,2,232.9,2,232.5,2,43.37,2,23.57,2,1.56,2,2199.6,6,2332.9,6,-999,9,-999,9,-999,-999,9,-999,1
  740H20180228, A09.5,112,1,16,6420,2,20180401,1445,-23.9999,10.2659,4144,2789.2,2.5597,34.87,2,34.869,2,232.9,2,233,2,48.7,2,23.93,2,1.6,2,2202.6,6,2333.7,6,-999,9,-999,9,-999,-999,9,-999,1
  740H20180228, A09.5,112,1,15,6419,2,20180401,1445,-23.9999,10.2659,4144,3300.2,2.3975,34.8697,2,34.8682,2,231.8,2,232,2,53.66,2,24.13,2,1.61,2,2212.7,6,2345.2,6,-999,9,-999,9,-999,-999,9,-999,1
  740H20180228, A09.5,112,1,14,6418,2,20180401,1445,-23.9999,10.2659,4144,3812.6,1.925,34.8199,2,34.8197,2,224.6,2,225.1,2,74.25,2,26.66,2,1.81,2,2228.2,6,2352.7,6,-999,9,-999,9,-999,-999,9,-999,1
  740H20180228, A09.5,112,1,13,6417,2,20180401,1445,-23.9999,10.2659,4144,4203.6,1.3156,34.7571,2,34.7567,2,214.6,2,212.9,2,100.64,2,30.1,2,2.05,2,2255.3,6,2370.7,6,-999,9,-999,9,-999,-999,9,-999,1