BOTTLE,20190321PRINUNIVRMK,,,,,,,,,,,,,,,,,,,,,,,,,,,,,,,,,,,,,,,
EXPOCODE,SECT_ID,STNNBR,CASTNO,SAMPNO,BTLNBR,BTLNBR_FLAG_W,DATE,TIME,LATITUDE,LONGITUDE,DEPTH,CTDPRS,CTDTMP,CTDSAL,CTDSAL_FLAG_W,SALNTY,SALNTY_FLAG_W,CTDOXY,CTDOXY_FLAG_W,OXYGEN,OXYGEN_FLAG_W,SILCAT,SILCAT_FLAG_W,NITRAT,NITRAT_FLAG_W,PHSPHT,PHSPHT_FLAG_W,TCARBN,TCARBN_FLAG_W,ALKALI,ALKALI_FLAG_W,CHLORA,CHLORA_FLAG_W,DELC14,DELC14_FLAG_W,C14ERR,DELC13,DELC13_FLAG_W,DELO18,DELO18_FLAG_W
,,,,,,,,,,,METERS,DBAR,ITS-90,PSS-78,,PSS-78,,UMOL/KG,,UMOL/KG,,UMOL/KG,,UMOL/KG,,UMOL/KG,,UMOL/KG,,UMOL/KG,,UG/KG,,/MILLE,,/MILLE,/MILLE,,/MILLE,
  740H20180228, A09.5,40,1,24,1086,2,20180311,1646,-24.0003,-26.0996,5695,5.4,27.2583,36.8744,2,36.8723,2,202.5,2,-999,5,1.17,2,0.24,2,0.05,2,2076.5,2,2417.7,2,-999,9,-999,9,-999,-999,9,-999,1
  740H20180228, A09.5,40,1,23,6427,2,20180311,1646,-24.0003,-26.0996,5695,51.5,24.9777,36.747,2,36.746,2,224.9,2,-999,5,1.15,2,0.19,2,0.08,2,2096.6,2,2412,2,-999,9,-999,9,-999,-999,9,-999,1
  740H20180228, A09.5,40,1,22,6426,2,20180311,1646,-24.0003,-26.0996,5695,82.2,22.5987,36.6611,2,36.6652,2,232.9,2,-999,5,1.18,2,0.16,2,0.09,2,2082.3,2,2406.3,2,-999,1,-999,9,-999,-999,9,-999,1
  740H20180228, A09.5,40,1,21,6425,2,20180311,1646,-24.0003,-26.0996,5695,136.1,20.7559,36.5577,2,36.5559,2,219.8,2,-999,5,1.1,2,0.15,2,0.11,2,2110.3,2,2400.3,2,-999,1,-999,9,-999,-999,9,-999,1
  740H20180228, A09.5,40,1,20,6428,2,20180311,1646,-24.0003,-26.0996,5695,177.4,19.4276,36.2753,2,36.2681,2,214.3,2,213.9,2,1.21,2,0.77,2,0.17,2,2102.7,6,2380.7,6,-999,9,-999,9,-999,-999,9,-999,1
  740H20180228, A09.5,40,1,19,1098,2,20180311,1646,-24.0003,-26.0996,5695,253.1,15.9192,35.5854,2,35.5827,2,203.4,2,203.8,2,2.3,2,5.14,2,0.47,2,2120.6,2,2337.1,2,-999,9,-999,9,-999,-999,9,-999,1
  740H20180228, A09.5,40,1,18,6692,2,20180311,1646,-24.0003,-26.0996,5695,378.1,12.653,35.1367,2,35.1378,2,200.3,2,200.7,2,4.26,2,11.88,2,0.86,2,2123.4,2,2312.1,2,-999,9,-999,9,-999,-999,9,-999,1
  740H20180228, A09.5,40,1,17,1122,2,20180311,1646,-24.0003,-26.0996,5695,515.1,9.6699,34.7712,2,34.7629,2,198,2,197.1,2,8.68,2,19.41,2,1.33,2,2158.5,2,2295.2,2,-999,9,-999,9,-999,-999,9,-999,1
  740H20180228, A09.5,40,1,16,6420,2,20180311,1646,-24.0003,-26.0996,5695,641.4,7.1703,34.5082,2,34.5055,2,199.3,2,199.3,2,14.88,2,25.39,2,1.71,2,2160,2,2288.7,2,-999,9,-999,9,-999,-999,9,-999,1
  740H20180228, A09.5,40,1,15,6419,2,20180311,1646,-24.0003,-26.0996,5695,766.2,5.3978,34.396,2,34.3973,2,192.4,2,192.8,2,23.87,2,30.01,2,2.02,2,2196,2,2292.6,2,-999,9,-999,9,-999,-999,9,-999,1
  740H20180228, A09.5,40,1,14,6418,2,20180311,1646,-24.0003,-26.0996,5695,872.9,4.4542,34.3902,2,34.3896,2,189.9,2,189.5,2,32.43,2,31.85,2,2.15,2,2192.6,2,2299.1,2,-999,9,-999,9,-999,-999,9,-999,1
  740H20180228, A09.5,40,1,13,6417,2,20180311,1646,-24.0003,-26.0996,5695,1070,3.6669,34.4866,2,34.4854,2,183.4,2,183.7,2,42.58,2,32.58,2,2.21,2,2220,2,2312.3,2,-999,9,-999,9,-999,-999,9,-999,1
  740H20180228, A09.5,40,1,12,6416,2,20180311,1646,-24.0003,-26.0996,5695,1272.7,3.2902,34.6063,2,34.6047,2,188.6,2,188.8,2,47.74,2,31.29,2,2.11,2,2208.1,4,2318,6,-999,9,-999,9,-999,-999,9,-999,1
  740H20180228, A09.5,40,1,11,6415,2,20180311,1646,-24.0003,-26.0996,5695,1526.3,3.0585,34.7294,2,34.7283,2,202.7,2,203.4,2,47.84,2,28.5,2,1.91,2,2218.3,2,2325.4,2,-999,9,-999,9,-999,-999,9,-999,1
  740H20180228, A09.5,40,1,10,6414,2,20180311,1646,-24.0003,-26.0996,5695,1780.5,3.1732,34.8589,2,34.8561,2,227.5,2,227.7,2,37.01,2,24.08,2,1.61,2,2184,2,2322.3,2,-999,9,-999,9,-999,-999,9,-999,1
  740H20180228, A09.5,40,1,9,6413,2,20180311,1646,-24.0003,-26.0996,5695,2033.6,3.244,34.9354,2,34.9335,2,248.2,2,247.8,2,26.73,2,20.7,2,1.38,2,2176.9,2,2320.8,2,-999,9,-999,9,-999,-999,9,-999,1
  740H20180228, A09.5,40,1,8,6412,2,20180311,1646,-24.0003,-26.0996,5695,2544.7,2.9205,34.9302,2,34.929,2,251.4,2,251.6,2,30.35,2,20.5,2,1.37,2,2167.6,2,2323.7,2,-999,9,-999,9,-999,-999,9,-999,1
  740H20180228, A09.5,40,1,7,6411,2,20180311,1646,-24.0003,-26.0996,5695,3054.5,2.6991,34.9175,2,34.9167,2,252.7,2,252.9,2,34,2,20.7,2,1.39,2,2181.9,2,2327.3,2,-999,9,-999,9,-999,-999,9,-999,1
  740H20180228, A09.5,40,1,6,6410,2,20180311,1646,-24.0003,-26.0996,5695,3567.4,2.3443,34.887,2,34.8868,2,251,2,251.1,2,44.52,2,21.88,2,1.47,2,2188.5,6,2334.2,6,-999,9,-999,9,-999,-999,9,-999,1
  740H20180228, A09.5,40,1,5,6409,2,20180311,1646,-24.0003,-26.0996,5695,4080,1.6903,34.8177,2,34.8174,2,240.3,2,240.2,2,71.36,2,25.63,2,1.75,2,2205.6,2,2346.5,2,-999,9,-999,9,-999,-999,9,-999,1
  740H20180228, A09.5,40,1,4,6408,2,20180311,1646,-24.0003,-26.0996,5695,4594.6,1.1955,34.7624,2,34.7617,2,231.7,2,231.1,2,93.09,2,28.59,2,1.94,2,2238.2,2,2359.6,2,-999,9,-999,9,-999,-999,9,-999,1
  740H20180228, A09.5,40,1,3,6407,2,20180311,1646,-24.0003,-26.0996,5695,5110.6,0.8431,34.7209,2,34.7195,2,226.6,2,224.6,2,108.82,2,30.79,2,2.11,2,2240.2,2,2362.1,2,-999,9,-999,9,-999,-999,9,-999,1
  740H20180228, A09.5,40,1,2,6406,2,20180311,1646,-24.0003,-26.0996,5695,5627.7,0.6447,34.6946,2,34.7032,2,223.5,2,222.2,2,118.05,2,32.18,2,2.2,2,2259.6,2,2367,2,-999,9,-999,9,-999,-999,9,-999,1
  740H20180228, A09.5,40,1,1,5977,2,20180311,1646,-24.0003,-26.0996,5695,5802.6,0.6339,34.6909,2,34.6915,2,223,2,224.4,2,119.42,2,32.35,2,2.22,2,2256.1,6,2363.9,6,-999,9,-999,9,-999,-999,9,-999,1
  740H20180228, A09.5,41,1,24,1086,2,20180312,36,-23.9999,-25.4992,5708,6,27.0478,36.9988,2,36.9974,2,203,2,202.7,2,1.21,2,0.17,2,0.12,2,2108.8,2,2431,2,-999,9,-999,9,-999,-999,9,-999,1
  740H20180228, A09.5,41,1,23,6427,2,20180312,36,-23.9999,-25.4992,5708,50.7,24.8738,36.6802,2,36.8106,2,221.4,2,214.9,2,1.19,2,0.17,2,0.12,2,2095.6,2,2415.3,2,-999,9,-999,9,-999,-999,9,-999,1
  740H20180228, A09.5,41,1,22,6426,2,20180312,36,-23.9999,-25.4992,5708,100.4,21.2005,36.5268,2,36.5237,2,231.4,2,232.5,2,1.21,2,0.19,2,0.1,2,2100.4,2,2398.1,2,-999,9,-999,9,-999,-999,9,-999,1
  740H20180228, A09.5,41,1,21,6425,2,20180312,36,-23.9999,-25.4992,5708,171.1,19.4065,36.2589,2,36.2644,2,216.6,2,204.2,4,1.28,2,0.39,2,0.15,2,2102.6,2,2378.3,2,-999,9,-999,9,-999,-999,9,-999,1
  740H20180228, A09.5,41,1,20,6428,2,20180312,36,-23.9999,-25.4992,5708,251.4,16.0324,35.6033,2,35.6037,2,210,2,210.6,2,2.05,2,3.88,2,0.4,2,2111.2,6,2338.5,6,-999,9,-999,9,-999,-999,9,-999,1
  740H20180228, A09.5,41,1,19,1098,2,20180312,36,-23.9999,-25.4992,5708,377.2,12.7974,35.1574,2,35.1566,2,205.6,2,206,2,4.01,2,10.92,2,0.83,2,2134.6,2,2314.7,2,-999,9,-999,9,-999,-999,9,-999,1
  740H20180228, A09.5,41,1,18,6692,2,20180312,36,-23.9999,-25.4992,5708,503.5,10.0919,34.8211,2,34.8225,2,196.1,2,196.1,2,7.93,2,18.39,2,1.29,2,2148.5,2,2298.9,2,-999,9,-999,9,-999,-999,9,-999,1
  740H20180228, A09.5,41,1,17,1122,2,20180312,36,-23.9999,-25.4992,5708,639.8,7.1683,34.5102,2,34.58,2,197.5,2,193.4,2,13.33,2,24.19,2,1.67,2,-999,9,-999,9,-999,9,-999,9,-999,-999,9,-999,1
  740H20180228, A09.5,41,1,16,6420,4,20180312,36,-23.9999,-25.4992,5708,765.7,5.2731,34.3818,2,34.5808,4,198.1,2,193.3,4,13.26,4,24.11,4,1.67,4,-999,9,-999,9,-999,9,-999,9,-999,-999,9,-999,1
  740H20180228, A09.5,41,1,15,6419,2,20180312,36,-23.9999,-25.4992,5708,892.3,4.3521,34.3963,2,34.398,2,188.3,2,181.5,4,33.77,2,32.02,2,2.21,2,2205.8,2,2299.5,2,-999,9,-999,9,-999,-999,9,-999,1
  740H20180228, A09.5,41,1,14,6418,2,20180312,36,-23.9999,-25.4992,5708,1017.9,3.8139,34.4594,2,34.4569,2,183.2,2,183.8,2,40.76,2,32.59,2,2.25,2,2209.4,2,2304,2,-999,9,-999,9,-999,-999,9,-999,1
  740H20180228, A09.5,41,1,13,6417,2,20180312,36,-23.9999,-25.4992,5708,1272.1,3.3102,34.6159,2,34.6145,2,188.9,2,189.3,2,47.72,2,30.84,2,2.14,2,2221.8,6,2319,6,-999,9,-999,9,-999,-999,9,-999,1
  740H20180228, A09.5,41,1,12,6416,2,20180312,36,-23.9999,-25.4992,5708,1525,3.0636,34.7314,2,34.7343,2,203,2,203.2,2,48.26,2,28.11,2,1.94,2,2217.3,2,2325.2,2,-999,9,-999,9,-999,-999,9,-999,1
  740H20180228, A09.5,41,1,11,6415,2,20180312,36,-23.9999,-25.4992,5708,1778.1,3.0544,34.842,2,34.8415,2,225.4,2,226.3,2,40.31,2,24.38,2,1.66,2,2187.8,2,2323.7,2,-999,9,-999,9,-999,-999,9,-999,1
  740H20180228, A09.5,41,1,10,6414,2,20180312,36,-23.9999,-25.4992,5708,2034,3.1817,34.9262,2,34.9246,2,245.6,2,246.8,2,28.94,2,20.87,2,1.41,2,2180.2,2,2320.3,2,-999,9,-999,9,-999,-999,9,-999,1
  740H20180228, A09.5,41,1,9,6413,2,20180312,36,-23.9999,-25.4992,5708,2288.7,3.0319,34.9348,2,34.9343,2,250.5,2,251.8,2,28.48,2,20.29,2,1.36,2,2167.5,2,2321,2,-999,9,-999,9,-999,-999,9,-999,1
  740H20180228, A09.5,41,1,8,6412,2,20180312,36,-23.9999,-25.4992,5708,2542.7,2.9089,34.9297,2,34.9298,2,250.6,2,251.4,2,30.45,2,20.37,2,1.37,2,2179.1,2,2325.3,2,-999,9,-999,9,-999,-999,9,-999,1
  740H20180228, A09.5,41,1,7,6411,2,20180312,36,-23.9999,-25.4992,5708,2798.2,2.7869,34.9228,2,34.9257,2,251.3,2,251.7,2,32.45,2,20.45,2,1.38,2,2171.8,6,2326.2,6,-999,9,-999,9,-999,-999,9,-999,1
  740H20180228, A09.5,41,1,6,6410,2,20180312,36,-23.9999,-25.4992,5708,3309.4,2.5479,34.9067,2,34.9068,2,252.8,2,253.7,2,37.06,2,20.74,2,1.41,2,2184.6,2,2329.6,2,-999,9,-999,9,-999,-999,9,-999,1
  740H20180228, A09.5,41,1,5,6409,2,20180312,36,-23.9999,-25.4992,5708,3823.6,1.9613,34.8474,2,34.8453,2,244.2,2,245,2,59.65,2,23.76,2,1.63,2,2195.6,2,2338.9,2,-999,9,-999,9,-999,-999,9,-999,1
  740H20180228, A09.5,41,1,4,6408,2,20180312,36,-23.9999,-25.4992,5708,4337.5,1.3626,34.7815,2,34.7841,2,234.4,2,234.5,2,85.5,2,27.28,2,1.88,2,2230.4,2,2352.5,2,-999,9,-999,9,-999,-999,9,-999,1
  740H20180228, A09.5,41,1,3,6407,2,20180312,36,-23.9999,-25.4992,5708,4852.7,0.976,34.7378,2,34.7379,2,228.6,2,227.6,2,102.66,2,29.52,2,2.05,2,2237,2,2357.9,2,-999,9,-999,9,-999,-999,9,-999,1
  740H20180228, A09.5,41,1,2,6406,2,20180312,36,-23.9999,-25.4992,5708,5368.5,0.7481,34.7081,2,34.7086,2,225,2,224.1,2,114.31,2,30.98,2,2.18,2,2256.7,2,2364.1,2,-999,9,-999,9,-999,-999,9,-999,1
  740H20180228, A09.5,41,1,1,5977,2,20180312,36,-23.9999,-25.4992,5708,5811,0.6513,34.6925,2,34.6933,2,223.1,2,222,2,120.72,2,31.85,2,2.23,2,2256.6,6,2364.6,6,-999,9,-999,9,-999,-999,9,-999,1
  740H20180228, A09.5,42,1,24,1086,2,20180312,811,-24.0002,-24.8988,4353,6.1,26.9888,36.9904,2,36.9885,2,201.3,2,201.4,2,1.11,2,0.18,2,0.14,2,2107.3,2,2426.6,2,-999,9,-999,1,-999,-999,1,-999,1
  740H20180228, A09.5,42,1,23,6427,2,20180312,811,-24.0002,-24.8988,4353,51.4,24.1783,36.6444,2,36.6453,2,228.7,2,225.7,2,1.11,2,0.16,2,0.11,2,2095.8,2,2405.9,2,-999,9,-999,1,-999,-999,1,-999,1
  740H20180228, A09.5,42,1,22,6426,2,20180312,811,-24.0002,-24.8988,4353,72,22.0806,36.61,2,36.6137,2,232.5,2,232.3,2,1.11,2,0.16,2,0.11,2,2103.2,2,2402.1,2,-999,1,-999,1,-999,-999,1,-999,1
  740H20180228, A09.5,42,1,21,6425,2,20180312,811,-24.0002,-24.8988,4353,101.8,20.8446,36.522,2,36.5428,2,228.5,2,228.2,2,1.14,2,0.16,2,0.13,2,2100.4,2,2397.7,2,-999,9,-999,1,-999,-999,1,-999,1
  740H20180228, A09.5,42,1,20,6428,2,20180312,811,-24.0002,-24.8988,4353,151.6,20.0542,36.4081,2,36.4052,2,221.3,2,222.7,2,1.13,2,0.19,2,0.13,2,2108.3,2,2389.5,2,-999,1,-999,1,-999,-999,1,-999,1
  740H20180228, A09.5,42,1,19,1098,2,20180312,811,-24.0002,-24.8988,4353,176.5,19.2806,36.2374,2,36.2264,2,218.5,2,218.9,2,1.17,2,0.54,2,0.17,2,2106.1,2,2380.3,2,-999,9,-999,1,-999,-999,1,-999,1
  740H20180228, A09.5,42,1,18,6692,2,20180312,811,-24.0002,-24.8988,4353,252.5,15.5642,35.509,2,35.4955,2,208.7,2,209.4,2,2.28,2,5.13,2,0.49,2,2118,6,2332.3,6,-999,9,-999,1,-999,-999,1,-999,1
  740H20180228, A09.5,42,1,17,1122,2,20180312,811,-24.0002,-24.8988,4353,378,12.5342,35.1277,2,35.1357,2,206.5,2,208.9,2,4.06,2,11.3,2,0.85,2,2137.5,2,2312,2,-999,9,-999,1,-999,-999,1,-999,1
  740H20180228, A09.5,42,1,16,6420,2,20180312,811,-24.0002,-24.8988,4353,504.2,9.9466,34.7999,2,34.8052,2,201.3,2,202.5,2,7.64,2,18.02,2,1.27,2,2151.9,2,2299.3,2,-999,9,-999,1,-999,-999,1,-999,1
  740H20180228, A09.5,42,1,15,6419,2,20180312,811,-24.0002,-24.8988,4353,630.4,7.4629,34.5367,2,34.5272,2,199.4,2,199.5,2,14.29,2,24.58,2,1.71,2,2176.6,2,2288.9,2,-999,9,-999,1,-999,-999,1,-999,1
  740H20180228, A09.5,42,1,14,6418,2,20180312,811,-24.0002,-24.8988,4353,756.5,5.3264,34.3801,2,34.3799,2,200.4,2,200.6,2,23.65,2,29.17,2,2.01,2,2187.4,6,2293,6,-999,9,-999,1,-999,-999,1,-999,1
  740H20180228, A09.5,42,1,13,6417,2,20180312,811,-24.0002,-24.8988,4353,882,4.3805,34.3899,2,34.3908,2,190.5,2,190.9,2,33.53,2,31.66,2,2.19,2,2210,2,2298,2,-999,9,-999,1,-999,-999,1,-999,1
  740H20180228, A09.5,42,1,12,6416,2,20180312,811,-24.0002,-24.8988,4353,1080,3.5829,34.513,2,34.5137,2,184.4,2,183.8,2,43.84,2,32.15,2,2.23,2,2219.5,2,2310.7,2,-999,9,-999,1,-999,-999,1,-999,1
  740H20180228, A09.5,42,1,11,6415,2,20180312,811,-24.0002,-24.8988,4353,1262.3,3.3415,34.6217,2,34.6205,2,189.6,2,189.2,2,46.73,2,30.72,2,2.13,2,2226.6,2,2317.1,2,-999,9,-999,1,-999,-999,1,-999,1
  740H20180228, A09.5,42,1,10,6414,2,20180312,811,-24.0002,-24.8988,4353,1515.3,3.1759,34.7613,2,34.758,2,206.8,2,211.2,2,44.56,2,27.41,2,1.89,2,-999,9,-999,9,-999,9,-999,1,-999,-999,1,-999,1
  740H20180228, A09.5,42,1,9,6413,2,20180312,811,-24.0002,-24.8988,4353,1768.8,3.1281,34.8491,2,34.8481,2,226.7,2,225.6,2,38.4,2,24.25,2,1.66,2,2203.3,2,2323.5,2,-999,9,-999,1,-999,-999,1,-999,1
  740H20180228, A09.5,42,1,8,6412,2,20180312,811,-24.0002,-24.8988,4353,2021.9,3.1779,34.9177,2,34.9168,2,244.3,2,243.5,2,29.7,2,21.33,2,1.45,2,2179.6,2,2320.1,2,-999,9,-88.8,2,4,0.97,2,-999,1
  740H20180228, A09.5,42,1,7,6411,2,20180312,811,-24.0002,-24.8988,4353,2277.1,3.0644,34.9341,2,34.9338,2,251,2,250.3,2,28.26,2,20.38,2,1.39,2,2182.1,6,2320,6,-999,9,-999,9,-999,-999,9,-999,1
  740H20180228, A09.5,42,1,6,6410,2,20180312,811,-24.0002,-24.8988,4353,2531.5,2.9201,34.9302,2,34.9289,2,251.8,2,251.5,2,30.37,2,20.42,2,1.4,2,2176.8,2,2324.7,2,-999,9,-999,1,-999,-999,1,-999,1
  740H20180228, A09.5,42,1,5,6409,2,20180312,811,-24.0002,-24.8988,4353,2834.6,2.7902,34.9226,2,34.9207,2,252.8,2,251.8,2,32.83,2,20.46,2,1.4,2,2184.8,2,2324,2,-999,9,-999,1,-999,-999,1,-999,1
  740H20180228, A09.5,42,1,4,6408,2,20180312,811,-24.0002,-24.8988,4353,3140.7,2.6555,34.9147,2,34.9146,2,253.7,2,252.9,2,34.87,2,20.46,2,1.41,2,2178.1,2,2327.5,2,-999,9,-999,9,-999,-999,9,-999,1
  740H20180228, A09.5,42,1,3,6407,2,20180312,811,-24.0002,-24.8988,4353,3551.3,2.3593,34.8879,2,34.8887,2,251.6,2,258.9,4,44.29,2,21.59,2,1.48,2,2196.6,2,2332,2,-999,9,-999,1,-999,-999,1,-999,1
  740H20180228, A09.5,42,1,2,6406,2,20180312,811,-24.0002,-24.8988,4353,4064.6,1.6105,34.8084,2,34.8068,2,239.2,2,238.3,2,75.25,2,25.87,2,1.8,2,2224.5,2,2347.9,2,-999,9,-999,9,-999,-999,9,-999,1
  740H20180228, A09.5,42,1,1,5977,2,20180312,811,-24.0002,-24.8988,4353,4378.5,1.2805,34.7727,2,34.7717,2,234,2,241.5,3,88.79,2,27.72,2,1.92,2,2237,6,2354.3,6,-999,9,-999,1,-999,-999,1,-999,1
  740H20180228, A09.5,43,1,24,1086,2,20180312,1525,-24.0007,-24.3006,5400,4.9,27.016,37.001,2,36.9991,2,202.7,2,204.5,2,1.28,2,0.18,2,0.12,2,2107.7,2,2427.7,2,-999,9,-999,9,-999,-999,9,-999,1
  740H20180228, A09.5,43,1,23,6427,2,20180312,1525,-24.0007,-24.3006,5400,52,23.0748,36.5959,2,36.5953,2,232.3,2,233.4,2,1.26,2,0.14,2,0.11,2,2099.9,2,2401,2,-999,9,-999,9,-999,-999,9,-999,1
  740H20180228, A09.5,43,1,22,6426,2,20180312,1525,-24.0007,-24.3006,5400,71.3,21.636,36.5234,2,36.5217,2,233.6,2,235.2,2,1.24,2,0.14,2,0.1,2,2097,2,2398.4,2,-999,9,-999,9,-999,-999,9,-999,1
  740H20180228, A09.5,43,1,21,6425,2,20180312,1525,-24.0007,-24.3006,5400,102.4,20.8262,36.4733,2,36.4606,2,230,2,229.9,2,1.21,2,0.15,2,0.11,2,2100.7,2,2392.2,2,-999,9,-999,9,-999,-999,9,-999,1
  740H20180228, A09.5,43,1,20,6428,2,20180312,1525,-24.0007,-24.3006,5400,150.2,19.6446,36.2952,2,36.2501,2,221,2,221.2,2,1.25,2,0.24,2,0.14,2,2105.9,6,2379.7,6,-999,9,-999,9,-999,-999,9,-999,1
  740H20180228, A09.5,43,1,19,1098,2,20180312,1525,-24.0007,-24.3006,5400,177.5,18.7844,36.1132,2,36.1071,2,217.6,2,218,2,1.32,2,0.67,2,0.19,2,2106.4,2,2369.1,2,-999,9,-999,9,-999,-999,9,-999,1
  740H20180228, A09.5,43,1,18,6692,2,20180312,1525,-24.0007,-24.3006,5400,252.8,15.1585,35.4483,2,35.4516,2,208.1,2,208.3,2,2.47,2,5.74,2,0.51,2,2117.7,6,2330.5,6,-999,9,-999,9,-999,-999,9,-999,1
  740H20180228, A09.5,43,1,17,1122,2,20180312,1525,-24.0007,-24.3006,5400,379.3,12.7677,35.145,2,35.1389,2,200.5,2,200.2,2,4.36,2,11.82,2,0.86,2,2137.6,2,2314.5,2,-999,9,-999,9,-999,-999,9,-999,1
  740H20180228, A09.5,43,1,16,6420,4,20180312,1525,-24.0007,-24.3006,5400,511.1,9.4491,34.7439,2,-999,9,197,2,-999,9,-999,9,-999,9,-999,9,-999,9,-999,9,-999,9,-999,9,-999,-999,9,-999,9
  740H20180228, A09.5,43,1,15,6419,2,20180312,1525,-24.0007,-24.3006,5400,636.9,7.0405,34.4906,2,34.4942,2,202.9,2,204.7,2,14.56,2,25.07,2,1.7,2,2169.1,2,2288.3,2,-999,9,-999,9,-999,-999,9,-999,1
  740H20180228, A09.5,43,1,14,6418,2,20180312,1525,-24.0007,-24.3006,5400,763.5,5.256,34.3786,2,34.3781,2,199.8,2,200.7,2,24.03,2,29.49,2,2,2,2188.9,6,2294.5,6,-999,9,-999,9,-999,-999,9,-999,1
  740H20180228, A09.5,43,1,13,6417,2,20180312,1525,-24.0007,-24.3006,5400,889.7,4.2593,34.3947,2,34.3947,2,189.8,2,190.7,2,34.85,2,31.91,2,2.18,2,899.8,4,2301.9,2,-999,9,-999,9,-999,-999,9,-999,1
  740H20180228, A09.5,43,1,12,6416,2,20180312,1525,-24.0007,-24.3006,5400,1087,3.6086,34.493,2,34.4955,2,183.8,2,184.3,2,43.76,2,32.29,2,2.21,2,2220.4,6,2311.4,6,-999,9,-999,9,-999,-999,9,-999,1
  740H20180228, A09.5,43,1,11,6415,2,20180312,1525,-24.0007,-24.3006,5400,1269.5,3.3091,34.6163,2,34.6155,2,188.9,2,187.4,2,47.35,2,30.72,2,2.09,2,2219.9,2,2320.5,2,-999,9,-999,9,-999,-999,9,-999,1
  740H20180228, A09.5,43,1,10,6414,2,20180312,1525,-24.0007,-24.3006,5400,1523.1,3.0964,34.7525,2,34.7511,2,206,2,206.6,2,46.1,2,27.5,2,1.86,2,2209,2,2323.5,2,-999,9,-999,9,-999,-999,9,-999,1
  740H20180228, A09.5,43,1,9,6413,2,20180312,1525,-24.0007,-24.3006,5400,1776.1,3.1543,34.8577,2,34.8589,2,227.5,2,228.9,2,37.39,2,23.81,2,1.61,2,2193.9,2,2325,2,-999,9,-999,9,-999,-999,9,-999,1
  740H20180228, A09.5,43,1,8,6412,4,20180312,1525,-24.0007,-24.3006,5400,2284.9,3.0694,34.9361,2,37.002,4,250.1,2,207.5,4,-999,9,-999,9,-999,9,-999,9,-999,9,-999,9,-999,9,-999,-999,9,-999,9
  740H20180228, A09.5,43,1,7,6411,2,20180312,1525,-24.0007,-24.3006,5400,2795.2,2.8082,34.9241,2,34.9236,2,251.1,2,252.7,2,32.43,2,20.4,2,1.37,2,2177,2,2323.6,2,-999,9,-999,9,-999,-999,9,-999,1
  740H20180228, A09.5,43,1,6,6410,2,20180312,1525,-24.0007,-24.3006,5400,3307.6,2.5657,34.9081,2,34.9108,2,251.9,2,254,2,36.92,2,20.83,2,1.39,2,2181.5,2,2331.6,2,-999,9,-999,9,-999,-999,9,-999,1
  740H20180228, A09.5,43,1,5,6409,2,20180312,1525,-24.0007,-24.3006,5400,3820.3,1.9583,34.8449,2,34.8431,2,242.9,2,244.6,2,60.76,2,24.17,2,1.63,2,2205.2,2,2339.7,2,-999,9,-999,9,-999,-999,9,-999,1
  740H20180228, A09.5,43,1,4,6408,2,20180312,1525,-24.0007,-24.3006,5400,4334,1.3144,34.7769,2,34.7773,2,234,2,233.9,2,86.45,2,27.67,2,1.91,2,2229.8,2,2356.8,2,-999,9,-999,9,-999,-999,9,-999,1
  740H20180228, A09.5,43,1,3,6407,2,20180312,1525,-24.0007,-24.3006,5400,4849.9,0.9834,34.7379,2,34.7376,2,228.9,2,228.8,2,101.68,2,29.68,2,2.03,2,2244.7,2,2358.3,2,-999,9,-999,9,-999,-999,9,-999,1
  740H20180228, A09.5,43,1,2,6406,2,20180312,1525,-24.0007,-24.3006,5400,5366,0.7484,34.708,2,34.7081,2,224.8,2,224.2,2,113.21,2,31.13,2,2.14,2,2256,2,2366.3,2,-999,9,-999,9,-999,-999,9,-999,1
  740H20180228, A09.5,43,1,1,5977,2,20180312,1525,-24.0007,-24.3006,5400,5492,0.7325,34.7048,2,34.7078,2,224.3,2,224.8,2,113.52,2,31.12,2,2.14,2,2253.9,6,2362.5,6,-999,9,-999,9,-999,-999,9,-999,1