BOTTLE,20190321PRINUNIVRMK,,,,,,,,,,,,,,,,,,,,,,,,,,,,,,,,,,,,,,,
EXPOCODE,SECT_ID,STNNBR,CASTNO,SAMPNO,BTLNBR,BTLNBR_FLAG_W,DATE,TIME,LATITUDE,LONGITUDE,DEPTH,CTDPRS,CTDTMP,CTDSAL,CTDSAL_FLAG_W,SALNTY,SALNTY_FLAG_W,CTDOXY,CTDOXY_FLAG_W,OXYGEN,OXYGEN_FLAG_W,SILCAT,SILCAT_FLAG_W,NITRAT,NITRAT_FLAG_W,PHSPHT,PHSPHT_FLAG_W,TCARBN,TCARBN_FLAG_W,ALKALI,ALKALI_FLAG_W,CHLORA,CHLORA_FLAG_W,DELC14,DELC14_FLAG_W,C14ERR,DELC13,DELC13_FLAG_W,DELO18,DELO18_FLAG_W
,,,,,,,,,,,METERS,DBAR,ITS-90,PSS-78,,PSS-78,,UMOL/KG,,UMOL/KG,,UMOL/KG,,UMOL/KG,,UMOL/KG,,UMOL/KG,,UMOL/KG,,UG/KG,,/MILLE,,/MILLE,/MILLE,,/MILLE,
  740H20180228, A09.5,113,1,12,6416,2,20180401,2056,-23.9997,10.7657,3921,5.4,20.065,35.2549,2,35.2548,2,238,2,238.3,2,0.77,2,0.54,2,0.31,2,2066.5,6,2331.1,6,-999,1,-999,9,-999,-999,9,-999,1
  740H20180228, A09.5,113,1,11,6415,2,20180401,2056,-23.9997,10.7657,3921,16.2,20.0407,35.2528,2,35.2536,2,238.5,2,239,2,0.85,2,0.55,2,0.31,2,2062.2,6,2328,6,-999,1,-999,9,-999,-999,9,-999,1
  740H20180228, A09.5,113,1,10,6414,2,20180401,2056,-23.9997,10.7657,3921,31.3,18.4247,35.2174,2,35.2175,2,237.1,2,237.3,2,0.76,2,2.67,2,0.59,2,2091.1,6,2326.2,6,-999,1,-999,9,-999,-999,9,-999,1
  740H20180228, A09.5,113,1,9,6413,2,20180401,2056,-23.9997,10.7657,3921,52,17.048,35.1823,2,35.195,2,222.7,2,224.9,2,1.8,2,5.26,2,0.71,2,2106.5,6,2319.8,6,-999,1,-999,9,-999,-999,9,-999,1
  740H20180228, A09.5,113,1,8,6412,2,20180401,2056,-23.9997,10.7657,3921,61.6,15.9601,35.4178,2,35.4193,2,215.7,2,217.6,2,3.27,2,5.19,2,0.47,2,2107.8,6,2326.9,6,-999,1,-999,9,-999,-999,9,-999,1
  740H20180228, A09.5,113,1,7,6411,4,20180401,2056,-23.9997,10.7657,3921,101.9,13.9892,35.1853,2,-999,9,211,2,-999,9,-999,5,-999,5,-999,5,-999,9,-999,9,-999,9,-999,9,-999,-999,9,-999,9
  740H20180228, A09.5,113,1,6,6410,2,20180401,2056,-23.9997,10.7657,3921,178.4,12.2268,35.0292,2,35.0241,2,217.7,2,-999,5,4.8,2,12.26,2,0.84,2,2132.1,6,2309.9,6,-999,9,-999,9,-999,-999,9,-999,1
  740H20180228, A09.5,113,1,5,6409,2,20180401,2056,-23.9997,10.7657,3921,252.4,10.4162,34.8247,2,34.814,2,208.4,2,208.9,2,6.94,2,17.31,2,1.19,2,2146.9,6,2283.1,6,-999,9,-999,9,-999,-999,9,-999,1
  740H20180228, A09.5,113,1,4,6408,2,20180401,2056,-23.9997,10.7657,3921,369.8,8.508,34.6817,2,34.6831,2,109.4,2,109.4,2,16.33,2,31.78,2,2.07,2,2226.9,6,2294,6,-999,9,-999,9,-999,-999,9,-999,1
  740H20180228, A09.5,113,1,3,6407,2,20180401,2056,-23.9997,10.7657,3921,484.9,6.5291,34.477,2,34.4772,2,158.8,2,157.5,2,19.38,2,31.79,3,2.09,3,2205.9,6,2289.7,6,-999,9,-999,9,-999,-999,9,-999,1
  740H20180228, A09.5,113,1,2,1077,2,20180401,2056,-23.9997,10.7657,3921,585.1,5.8229,34.496,2,34.49,2,120.5,2,121.3,2,25.54,2,36.89,2,2.4,2,2235.2,6,2292.7,6,-999,9,-999,9,-999,-999,9,-999,1
  740H20180228, A09.5,113,1,1,5977,2,20180401,2056,-23.9997,10.7657,3921,631.7,5.6136,34.4982,2,34.4964,2,111.3,2,110.9,2,27.52,2,37.32,2,2.5,2,2238.2,6,2292.1,6,-999,9,-999,9,-999,-999,9,-999,1
  740H20180228, A09.5,113,1,24,1086,2,20180401,2056,-23.9997,10.7657,3921,756.8,4.7121,34.4573,2,34.455,2,141.8,2,142,2,32.42,2,36.06,2,2.43,2,2232.4,6,2299.7,6,-999,9,-999,9,-999,-999,9,-999,1
  740H20180228, A09.5,113,1,23,6427,2,20180401,2056,-23.9997,10.7657,3921,884,4.1555,34.4725,2,34.4694,2,156.2,2,155.8,2,37.34,2,35.08,2,2.39,2,2227,6,2302.2,6,-999,9,-999,9,-999,-999,9,-999,1
  740H20180228, A09.5,113,1,22,6426,2,20180401,2056,-23.9997,10.7657,3921,1013.9,3.8058,34.5261,2,34.5217,2,165.5,2,164.9,2,41.08,2,33.82,2,2.32,2,2229.1,6,2310.3,6,-999,9,-999,9,-999,-999,9,-999,1
  740H20180228, A09.5,113,1,21,6425,2,20180401,2056,-23.9997,10.7657,3921,1265.6,3.4666,34.6621,2,34.6586,2,179.5,2,179.2,2,45.24,2,30.95,2,2.15,2,2216.2,2,2319.1,6,-999,9,-999,9,-999,-999,9,-999,1
  740H20180228, A09.5,113,1,20,6428,2,20180401,2056,-23.9997,10.7657,3921,1519.6,3.4601,34.8089,2,34.8055,2,199.2,2,199.2,2,37.7,2,27.16,2,1.87,2,2211.7,6,2321.4,6,-999,9,-999,9,-999,-999,9,-999,1
  740H20180228, A09.5,113,1,19,6692,2,20180401,2056,-23.9997,10.7657,3921,1773.2,3.4305,34.8798,2,34.8771,2,213.7,2,214.3,2,32.99,2,24.74,2,1.69,2,2196.3,6,2319.6,6,-999,9,-999,9,-999,-999,9,-999,1
  740H20180228, A09.5,113,1,18,1098,2,20180401,2056,-23.9997,10.7657,3921,2026.1,3.2608,34.8995,2,34.8967,2,223.3,2,223.3,2,33.43,2,23.8,2,1.6,2,2197,6,2324.3,6,-999,9,-999,9,-999,-999,9,-999,1
  740H20180228, A09.5,113,1,17,1122,2,20180401,2056,-23.9997,10.7657,3921,2280.8,2.998,34.8953,2,34.8939,2,230.8,2,230.5,2,37.07,2,23.53,2,1.57,2,2191.4,6,2326.4,6,-999,9,-999,9,-999,-999,9,-999,1
  740H20180228, A09.5,113,1,16,6420,2,20180401,2056,-23.9997,10.7657,3921,2535.8,2.7968,34.8885,2,34.8859,2,233.3,2,233.5,2,41,2,23.42,2,1.57,2,2199.1,6,2330.9,6,-999,9,-999,9,-999,-999,9,-999,1
  740H20180228, A09.5,113,1,15,6419,2,20180401,2056,-23.9997,10.7657,3921,3044.4,2.5276,34.8767,2,34.875,2,234.2,2,234,2,47.8,2,23.77,2,1.59,2,2201,6,2335.6,6,-999,9,-999,9,-999,-999,9,-999,1
  740H20180228, A09.5,113,1,14,6418,2,20180401,2056,-23.9997,10.7657,3921,3557.3,2.2982,34.8594,2,34.8583,2,229.5,2,230.3,2,57.2,2,24.76,2,1.66,2,2217.4,6,2349.6,6,-999,9,-999,9,-999,-999,9,-999,1
  740H20180228, A09.5,113,1,13,6417,2,20180401,2056,-23.9997,10.7657,3921,3972.6,1.6912,34.7954,2,34.7938,2,219.7,2,220.1,2,82.75,2,28.18,2,1.9,2,2237.6,6,2361.2,6,-999,9,-999,9,-999,-999,9,-999,1
  740H20180228, A09.5,114,1,9,6413,2,20180403,2131,-23.677,13.7131,203,5.7,16.7661,35.179,2,-999,9,267.1,2,-999,9,-999,9,-999,9,-999,9,-999,9,-999,9,-999,9,-999,9,-999,-999,9,-999,9
  740H20180228, A09.5,114,1,10,6414,4,20180403,2131,-23.677,13.7131,203,5.8,16.775,35.1788,2,-999,9,266.9,2,-999,9,-999,9,-999,9,-999,9,-999,9,-999,9,-999,9,-999,9,-999,-999,9,-999,9
  740H20180228, A09.5,114,1,11,6415,2,20180403,2131,-23.677,13.7131,203,5.8,16.7786,35.1789,2,35.1804,2,267.7,2,268.6,2,1.23,2,0.6,2,0.63,2,2069.2,6,2329.1,6,-999,9,-999,9,-999,-999,9,-999,1
  740H20180228, A09.5,114,1,12,6416,2,20180403,2131,-23.677,13.7131,203,6.2,16.7618,35.1782,2,-999,9,267.9,2,-999,9,-999,9,-999,9,-999,9,-999,9,-999,9,-999,1,-999,9,-999,-999,9,-999,9
  740H20180228, A09.5,114,1,6,6410,2,20180403,2131,-23.677,13.7131,203,10.7,16.7905,35.1796,2,-999,9,268,2,269.6,2,1.09,2,0.52,2,0.67,2,2068.8,2,2330.4,2,-999,9,-999,9,-999,-999,9,-999,1
  740H20180228, A09.5,114,1,7,6411,2,20180403,2131,-23.677,13.7131,203,10.7,16.7758,35.1789,2,-999,9,269.5,2,-999,9,-999,9,-999,9,-999,9,-999,9,-999,9,-999,1,-999,9,-999,-999,9,-999,9
  740H20180228, A09.5,114,1,8,6412,2,20180403,2131,-23.677,13.7131,203,10.7,16.7888,35.1795,2,-999,9,268.5,2,-999,9,-999,9,-999,9,-999,9,-999,9,-999,9,-999,9,-999,9,-999,-999,9,-999,9
  740H20180228, A09.5,114,1,5,6409,2,20180403,2131,-23.677,13.7131,203,15.7,16.7674,35.1797,2,-999,9,267.2,2,-999,9,-999,9,-999,9,-999,9,-999,9,-999,9,-999,9,-999,9,-999,-999,9,-999,9
  740H20180228, A09.5,114,1,4,6408,2,20180403,2131,-23.677,13.7131,203,15.8,16.7105,35.1772,2,-999,9,262.9,2,263.6,2,1.26,2,0.97,2,0.64,2,2069.5,6,2329.5,6,-999,1,-999,9,-999,-999,9,-999,1
  740H20180228, A09.5,114,1,2,1077,2,20180403,2131,-23.677,13.7131,203,28,15.3017,35.1504,2,-999,9,185.4,2,193.9,2,4.31,2,9.29,2,1.03,2,2142.1,6,2316.9,6,-999,9,-999,9,-999,-999,9,-999,1
  740H20180228, A09.5,114,1,3,6407,2,20180403,2131,-23.677,13.7131,203,28,15.724,35.1394,2,-999,9,192.9,2,-999,9,-999,9,-999,9,-999,9,-999,9,-999,9,-999,1,-999,9,-999,-999,9,-999,9
  740H20180228, A09.5,114,1,23,6427,2,20180403,2131,-23.677,13.7131,203,40.7,13.8629,35.1444,2,35.1458,2,172.1,2,176.4,2,5.91,2,14.72,2,1.08,2,2158.1,6,2307.5,6,-999,9,-999,9,-999,-999,9,-999,1
  740H20180228, A09.5,114,1,1,5977,2,20180403,2131,-23.677,13.7131,203,41.1,13.9641,35.1452,2,-999,9,173,2,-999,9,-999,9,-999,9,-999,9,-999,9,-999,9,-999,1,-999,9,-999,-999,9,-999,9
  740H20180228, A09.5,114,1,24,1086,2,20180403,2131,-23.677,13.7131,203,41.1,13.9518,35.1438,2,-999,9,172.7,2,-999,9,-999,9,-999,9,-999,9,-999,9,-999,9,-999,9,-999,9,-999,-999,9,-999,9
  740H20180228, A09.5,114,1,21,6425,2,20180403,2131,-23.677,13.7131,203,74.6,12.8905,35.1102,2,35.1112,2,154,2,158.6,2,7.2,2,17.23,2,1.2,2,2166.7,2,2304.7,2,-999,9,-999,9,-999,-999,9,-999,1
  740H20180228, A09.5,114,1,20,6428,2,20180403,2131,-23.677,13.7131,203,102.2,12.6769,35.1181,2,-999,9,132.4,2,-999,9,-999,9,-999,9,-999,9,-999,9,-999,9,-999,9,-999,9,-999,-999,9,-999,9
  740H20180228, A09.5,114,1,18,1098,2,20180403,2131,-23.677,13.7131,203,102.3,12.6088,35.1211,2,35.1186,2,132.1,2,130.8,2,8.05,2,20.41,2,1.37,2,2188.6,6,2304.6,6,-999,9,-999,9,-999,-999,9,-999,1
  740H20180228, A09.5,114,1,19,6692,2,20180403,2131,-23.677,13.7131,203,102.4,12.679,35.1187,2,-999,9,132.7,2,-999,9,-999,9,-999,9,-999,9,-999,9,-999,9,-999,9,-999,9,-999,-999,9,-999,9
  740H20180228, A09.5,114,1,16,6420,2,20180403,2131,-23.677,13.7131,203,177.9,11.6438,35.0759,2,35.0755,2,39.1,2,42.8,2,16.47,2,29.83,2,2.04,2,2250,6,2302.3,6,-999,9,-999,9,-999,-999,9,-999,1
  740H20180228, A09.5,114,1,13,6417,2,20180403,2131,-23.677,13.7131,203,194.5,11.6434,35.0758,2,35.0738,2,39.5,2,43,2,16.55,2,29.98,2,2.18,2,2254.4,6,2303.2,6,-999,9,-999,9,-999,-999,9,-999,1
  740H20180228, A09.5,114,1,14,6418,2,20180403,2131,-23.677,13.7131,203,194.6,11.6434,35.0758,2,-999,9,39.5,2,-999,9,-999,9,-999,9,-999,9,-999,9,-999,9,-999,9,-999,9,-999,-999,9,-999,9
  740H20180228, A09.5,114,1,15,6419,2,20180403,2131,-23.677,13.7131,203,194.8,11.6437,35.0757,2,-999,9,39.5,2,-999,9,-999,9,-999,9,-999,9,-999,9,-999,9,-999,9,-999,9,-999,-999,9,-999,9
  740H20180228, A09.5,115,1,10,6414,2,20180404,151,-23.7775,13.3287,304,6.1,18.1267,35.2034,2,35.2041,2,254.3,2,255.3,2,-999,9,-999,9,-999,9,2058.7,6,2326.2,6,-999,9,-999,9,-999,-999,9,-999,1
  740H20180228, A09.5,115,1,11,6415,2,20180404,151,-23.7775,13.3287,304,6.7,18.0884,35.204,2,-999,9,253.1,2,-999,9,-999,9,-999,9,-999,9,-999,9,-999,9,-999,1,-999,9,-999,-999,9,-999,9
  740H20180228, A09.5,115,1,8,6412,2,20180404,151,-23.7775,13.3287,304,15.1,17.181,35.1899,2,-999,9,248.6,2,-999,9,-999,9,-999,9,-999,9,-999,9,-999,9,-999,1,-999,9,-999,-999,9,-999,9
  740H20180228, A09.5,115,1,7,6411,2,20180404,151,-23.7775,13.3287,304,15.2,17.0976,35.1897,2,35.1924,2,248.1,2,248.3,2,0.81,2,1.82,2,0.61,2,2086.6,2,2325.9,2,-999,9,-999,9,-999,-999,9,-999,1
  740H20180228, A09.5,115,1,5,6409,2,20180404,151,-23.7775,13.3287,304,24.9,16.8218,35.1887,2,-999,9,241.6,2,-999,9,-999,9,-999,9,-999,9,-999,9,-999,9,-999,1,-999,9,-999,-999,9,-999,9
  740H20180228, A09.5,115,1,4,6408,2,20180404,151,-23.7775,13.3287,304,25.2,16.8682,35.1887,2,35.1911,2,246.8,2,192.1,4,1.15,2,2.81,2,0.62,2,2096.3,6,2326,6,-999,9,-999,9,-999,-999,9,-999,1
  740H20180228, A09.5,115,1,1,5977,2,20180404,151,-23.7775,13.3287,304,50.9,14.906,35.1765,2,35.1723,2,178.1,2,180,2,5.03,2,13.49,2,1.09,2,2151.5,6,2310.9,6,-999,9,-999,9,-999,-999,9,-999,1
  740H20180228, A09.5,115,1,2,1077,2,20180404,151,-23.7775,13.3287,304,51,14.9964,35.1785,2,-999,9,178,2,-999,9,-999,9,-999,9,-999,9,-999,9,-999,9,-999,1,-999,9,-999,-999,9,-999,9
  740H20180228, A09.5,115,1,22,6426,2,20180404,151,-23.7775,13.3287,304,102.1,13.0361,35.1907,2,35.1843,2,94.4,2,98.3,2,9.48,2,24.13,2,1.6,2,2212.5,6,2305.8,6,-999,9,-999,9,-999,-999,9,-999,1
  740H20180228, A09.5,115,1,19,6692,2,20180404,151,-23.7775,13.3287,304,176.6,11.6234,35.0416,2,35.041,2,89.5,2,91.1,2,10.89,2,26.37,2,1.74,2,2219.1,6,2300,6,-999,9,-999,9,-999,-999,9,-999,1
  740H20180228, A09.5,115,1,16,6420,2,20180404,151,-23.7775,13.3287,304,251,10.6002,34.9605,2,34.9576,2,28,2,30.8,2,-999,9,-999,9,-999,9,2261.9,6,2298.4,6,-999,9,-999,9,-999,-999,9,-999,1
  740H20180228, A09.5,115,1,13,6417,2,20180404,151,-23.7775,13.3287,304,295.5,10.4943,34.9466,2,34.9444,2,28.5,2,37.5,4,20.61,2,32.97,2,2.31,2,2265.1,6,2298.4,6,-999,9,-999,9,-999,-999,9,-999,1
  740H20180228, A09.5,116,1,12,6416,2,20180404,503,-23.8251,13.1489,498,5.6,18.2654,35.1993,2,-999,9,242.4,2,-999,9,-999,9,-999,9,-999,9,-999,9,-999,9,-999,9,-999,9,-999,-999,9,-999,9
  740H20180228, A09.5,116,1,11,6415,2,20180404,503,-23.8251,13.1489,498,5.7,18.2656,35.1992,2,-999,9,241.7,2,-999,9,-999,9,-999,9,-999,9,-999,9,-999,9,-999,9,-999,9,-999,-999,9,-999,9
  740H20180228, A09.5,116,1,10,6414,2,20180404,503,-23.8251,13.1489,498,6,18.2659,35.1992,2,35.2,2,241.6,2,243.9,2,0.64,2,1.38,2,0.52,2,2069.7,2,2325.6,2,-999,9,-999,9,-999,-999,9,-999,1
  740H20180228, A09.5,116,1,9,6413,2,20180404,503,-23.8251,13.1489,498,20.7,18.2461,35.1989,2,-999,9,241.8,2,-999,9,-999,9,-999,9,-999,9,-999,9,-999,9,-999,9,-999,9,-999,-999,9,-999,9
  740H20180228, A09.5,116,1,8,6412,2,20180404,503,-23.8251,13.1489,498,20.9,18.2148,35.1984,2,35.1998,2,242.1,2,243.6,2,0.86,2,1.47,2,0.51,2,2067.1,6,2328.7,6,-999,9,-999,9,-999,-999,9,-999,1
  740H20180228, A09.5,116,1,6,6410,2,20180404,503,-23.8251,13.1489,498,50.5,15.5014,35.2342,2,35.2334,2,190.1,2,192.4,2,3.77,2,9.95,2,0.95,2,2132.7,2,2315,2,-999,9,-999,9,-999,-999,9,-999,1
  740H20180228, A09.5,116,1,7,6411,2,20180404,503,-23.8251,13.1489,498,50.9,15.5208,35.2328,2,-999,9,189.9,2,-999,9,-999,9,-999,9,-999,9,-999,9,-999,9,-999,9,-999,9,-999,-999,9,-999,9
  740H20180228, A09.5,116,1,4,6408,2,20180404,503,-23.8251,13.1489,498,75.5,14.0388,35.1503,2,-999,9,182.2,2,-999,9,-999,9,-999,9,-999,9,2151.2,6,2310.1,6,-999,9,-999,9,-999,-999,9,-999,9
  740H20180228, A09.5,116,1,5,6409,2,20180404,503,-23.8251,13.1489,498,76,14.0466,35.1507,2,35.1478,2,182.4,2,183.9,2,5.45,2,13.94,2,1.06,2,-999,9,-999,9,-999,9,-999,9,-999,-999,9,-999,1
  740H20180228, A09.5,116,1,2,1077,2,20180404,503,-23.8251,13.1489,498,101.7,13.0025,35.0898,2,-999,9,168.6,2,-999,9,-999,9,-999,9,-999,9,-999,9,-999,9,-999,9,-999,9,-999,-999,9,-999,9
  740H20180228, A09.5,116,1,3,6407,2,20180404,503,-23.8251,13.1489,498,101.8,13.0228,35.0871,2,-999,9,168.2,2,-999,9,-999,9,-999,9,-999,9,-999,9,-999,9,-999,9,-999,9,-999,-999,9,-999,9
  740H20180228, A09.5,116,1,1,5977,2,20180404,503,-23.8251,13.1489,498,101.9,13.0374,35.088,2,35.0885,2,168.6,2,169.9,2,7,2,16.43,2,1.18,2,2164.4,6,2306.9,6,-999,9,-999,9,-999,-999,9,-999,1
  740H20180228, A09.5,116,1,22,6426,2,20180404,503,-23.8251,13.1489,498,176.9,11.4288,34.9811,2,34.9803,2,146.7,2,148.8,2,8.29,2,20.52,2,1.39,2,2182.2,6,2303.1,6,-999,9,-999,9,-999,-999,9,-999,1
  740H20180228, A09.5,116,1,20,6428,2,20180404,503,-23.8251,13.1489,498,252.7,10.8324,34.9783,2,34.9776,2,49.5,2,53.2,2,15.32,2,31.46,2,2.07,2,2245.8,6,2280,6,-999,9,-999,9,-999,-999,9,-999,1
  740H20180228, A09.5,116,1,18,1098,2,20180404,503,-23.8251,13.1489,498,287.3,9.8302,34.8329,2,34.833,2,91.4,2,91.3,2,-999,9,-999,9,-999,9,2228.9,2,2297.7,2,-999,9,-999,9,-999,-999,9,-999,1
  740H20180228, A09.5,116,1,17,1122,2,20180404,503,-23.8251,13.1489,498,378.6,9.0883,34.7938,2,34.7991,2,41.4,2,43.4,2,20.28,2,35.94,2,2.4,2,2262.8,6,2299.7,6,-999,9,-999,9,-999,-999,9,-999,1
  740H20180228, A09.5,116,1,13,6417,2,20180404,503,-23.8251,13.1489,498,492,6.2601,34.5256,2,34.5287,2,107.7,2,109.5,2,25.02,2,36.27,2,2.39,2,2238.9,6,2292.1,6,-999,9,-999,9,-999,-999,9,-999,1
  740H20180228, A09.5,116,1,15,6419,2,20180404,503,-23.8251,13.1489,498,492.6,6.2481,34.5254,2,-999,9,108,2,-999,9,-999,9,-999,9,-999,9,-999,9,-999,9,-999,9,-999,9,-999,-999,9,-999,9
  740H20180228, A09.5,116,1,14,6418,2,20180404,503,-23.8251,13.1489,498,492.7,6.2399,34.525,2,-999,9,107.8,2,-999,9,-999,9,-999,9,-999,9,-999,9,-999,9,-999,9,-999,9,-999,-999,9,-999,9
  740H20180228, A09.5,117,1,12,6416,2,20180404,825,-23.8745,12.972,1003,5.4,18.4491,35.2034,2,-999,9,241,2,-999,9,-999,9,-999,9,-999,9,-999,9,-999,9,-999,9,-999,9,-999,-999,9,-999,9
  740H20180228, A09.5,117,1,11,6415,2,20180404,825,-23.8745,12.972,1003,5.6,18.4492,35.2034,2,-999,9,241,2,-999,9,-999,9,-999,9,-999,9,-999,9,-999,9,-999,9,-999,9,-999,-999,9,-999,9
  740H20180228, A09.5,117,1,10,6414,2,20180404,825,-23.8745,12.972,1003,6.1,18.4496,35.2034,2,35.2045,2,241.4,2,240.3,2,0.82,2,1.58,2,0.56,2,2081.4,2,2328.5,2,-999,1,-999,9,-999,-999,9,-999,1
  740H20180228, A09.5,117,1,8,6412,2,20180404,825,-23.8745,12.972,1003,25,18.4078,35.2041,2,35.2064,2,239.1,2,235.9,2,0.84,2,1.69,2,0.56,2,2082,2,2330.8,2,-999,1,-999,9,-999,-999,9,-999,1
  740H20180228, A09.5,117,1,9,6413,2,20180404,825,-23.8745,12.972,1003,25.1,18.4073,35.204,2,-999,9,240.2,2,-999,9,-999,9,-999,9,-999,9,-999,9,-999,9,-999,9,-999,9,-999,-999,9,-999,9
  740H20180228, A09.5,117,1,6,6410,2,20180404,825,-23.8745,12.972,1003,49.7,15.4863,35.3637,2,35.3689,2,200.1,2,200.8,2,3.86,2,7.08,2,0.64,2,2120.1,6,2322.6,6,-999,1,-999,9,-999,-999,9,-999,1
  740H20180228, A09.5,117,1,7,6411,2,20180404,825,-23.8745,12.972,1003,50.7,15.5123,35.3656,2,-999,9,200.5,2,-999,9,-999,9,-999,9,-999,9,-999,9,-999,9,-999,9,-999,9,-999,-999,9,-999,9
  740H20180228, A09.5,117,1,4,6408,2,20180404,825,-23.8745,12.972,1003,75.3,14.1627,35.1952,2,35.1916,2,190.9,2,190.5,2,4.7,2,11.84,2,0.87,2,2138.8,6,2312.5,6,-999,9,-999,9,-999,-999,9,-999,1
  740H20180228, A09.5,117,1,5,6409,2,20180404,825,-23.8745,12.972,1003,75.6,14.16,35.1955,2,-999,9,191,2,-999,9,-999,9,-999,9,-999,9,-999,9,-999,9,-999,9,-999,9,-999,-999,9,-999,9
  740H20180228, A09.5,117,1,1,5977,2,20180404,825,-23.8745,12.972,1003,100.6,13.042,35.0781,2,35.0777,2,179.7,2,180.3,2,6.05,2,15.14,2,1.05,2,2155.1,6,2307.4,6,-999,9,-999,9,-999,-999,9,-999,1
  740H20180228, A09.5,117,1,2,1077,2,20180404,825,-23.8745,12.972,1003,101.6,13.0102,35.0756,2,-999,9,180.4,2,-999,9,-999,9,-999,9,-999,9,-999,9,-999,9,-999,9,-999,9,-999,-999,9,-999,9
  740H20180228, A09.5,117,1,3,6407,2,20180404,825,-23.8745,12.972,1003,101.6,13.0698,35.0765,2,-999,9,179.9,2,-999,9,-999,9,-999,9,-999,9,-999,9,-999,9,-999,9,-999,9,-999,-999,9,-999,9
  740H20180228, A09.5,117,1,23,6427,2,20180404,825,-23.8745,12.972,1003,176.5,11.6484,34.9988,2,34.9955,2,156.2,2,157.3,2,8.06,2,19.27,2,1.29,2,2178.9,2,2302.9,2,-999,9,-999,9,-999,-999,9,-999,1
  740H20180228, A09.5,117,1,21,6425,2,20180404,825,-23.8745,12.972,1003,251.9,10.2157,34.8301,2,34.8291,2,160.5,2,162.6,2,9.73,2,21.35,2,1.43,2,2178.3,6,2298.2,6,-999,9,-999,9,-999,-999,9,-999,1
  740H20180228, A09.5,117,1,19,6692,2,20180404,825,-23.8745,12.972,1003,377.7,8.467,34.728,2,34.7268,2,52.9,2,56.4,2,19.86,2,36.25,2,2.36,2,2252.6,6,2294.2,6,-999,9,-999,9,-999,-999,9,-999,1
  740H20180228, A09.5,117,1,18,1098,2,20180404,825,-23.8745,12.972,1003,503.1,6.9926,34.5976,2,34.6001,2,77.4,2,76.4,2,22.9,2,37.83,2,2.46,2,2249.8,2,2291.8,2,-999,9,-999,9,-999,-999,9,-999,1
  740H20180228, A09.5,117,1,17,1122,2,20180404,825,-23.8745,12.972,1003,630.5,5.3835,34.4788,2,34.4777,2,120.6,2,121.3,2,29.26,2,36.74,2,2.44,2,2240.9,2,2295.2,2,-999,9,-999,9,-999,-999,9,-999,1
  740H20180228, A09.5,117,1,16,6420,2,20180404,825,-23.8745,12.972,1003,755.9,4.623,34.4661,2,34.4641,2,135.4,2,136,2,34.94,2,36.45,2,2.45,2,2232.3,2,2301,2,-999,9,-999,9,-999,-999,9,-999,1
  740H20180228, A09.5,117,1,15,6419,2,20180404,825,-23.8745,12.972,1003,882.5,4.0891,34.4789,2,34.478,2,153.2,2,153.3,2,40.03,2,35,2,2.37,2,2231,6,2306.5,6,-999,9,-999,9,-999,-999,9,-999,1
  740H20180228, A09.5,117,1,13,6417,2,20180404,825,-23.8745,12.972,1003,1002.1,3.8904,34.5076,2,34.5044,2,157.8,2,158.1,2,43.32,2,34.44,2,2.35,2,2236.1,6,2311.4,6,-999,9,-999,9,-999,-999,9,-999,1
  740H20180228, A09.5,117,1,14,6418,2,20180404,825,-23.8745,12.972,1003,1002.1,3.8914,34.5074,2,-999,9,157.8,2,-999,9,-999,9,-999,9,-999,9,-999,9,-999,9,-999,9,-999,9,-999,-999,9,-999,9