BOTTLE,20190321PRINUNIVRMK,,,,,,,,,,,,,,,,,,,,,,,,,,,,,,,,,,,,,,,
EXPOCODE,SECT_ID,STNNBR,CASTNO,SAMPNO,BTLNBR,BTLNBR_FLAG_W,DATE,TIME,LATITUDE,LONGITUDE,DEPTH,CTDPRS,CTDTMP,CTDSAL,CTDSAL_FLAG_W,SALNTY,SALNTY_FLAG_W,CTDOXY,CTDOXY_FLAG_W,OXYGEN,OXYGEN_FLAG_W,SILCAT,SILCAT_FLAG_W,NITRAT,NITRAT_FLAG_W,PHSPHT,PHSPHT_FLAG_W,TCARBN,TCARBN_FLAG_W,ALKALI,ALKALI_FLAG_W,CHLORA,CHLORA_FLAG_W,DELC14,DELC14_FLAG_W,C14ERR,DELC13,DELC13_FLAG_W,DELO18,DELO18_FLAG_W
,,,,,,,,,,,METERS,DBAR,ITS-90,PSS-78,,PSS-78,,UMOL/KG,,UMOL/KG,,UMOL/KG,,UMOL/KG,,UMOL/KG,,UMOL/KG,,UMOL/KG,,UG/KG,,/MILLE,,/MILLE,/MILLE,,/MILLE,
  740H20180228, A09.5,22,1,24,1086,2,20180306,414,-24.001,-34.4999,4396,8.3,27.1789,36.6549,2,36.6568,2,202.2,2,203.6,2,1.13,2,0.26,2,0.02,2,2071.9,2,2404.9,2,-999,9,-999,9,-999,-999,9,-999,1
  740H20180228, A09.5,22,1,23,6427,2,20180306,414,-24.001,-34.4999,4396,51.7,26.0324,36.815,2,36.8251,2,213.7,2,213.6,2,1.2,2,0.28,2,0.02,2,2082,2,2415.2,2,-999,9,-999,9,-999,-999,9,-999,1
  740H20180228, A09.5,22,1,22,6426,2,20180306,414,-24.001,-34.4999,4396,74.3,23.6317,36.6963,2,36.6957,2,228.7,2,227.9,2,1.42,2,0.33,2,0.04,2,2085.7,2,2405.1,2,-999,9,-999,9,-999,-999,9,-999,1
  740H20180228, A09.5,22,1,21,6425,2,20180306,414,-24.001,-34.4999,4396,101.6,22.5723,36.8968,2,36.8932,2,225.8,2,225.9,2,1.27,2,0.26,2,0.12,2,2105.6,4,-999,4,-999,9,-999,9,-999,-999,9,-999,1
  740H20180228, A09.5,22,1,20,6428,2,20180306,414,-24.001,-34.4999,4396,129.9,21.856,36.8378,2,36.8377,2,218.5,2,217.8,2,1.32,2,0.29,2,0.15,2,2113.6,6,2417.5,6,-999,1,-999,9,-999,-999,9,-999,1
  740H20180228, A09.5,22,1,19,1098,2,20180306,414,-24.001,-34.4999,4396,176.8,20.8049,36.602,2,36.6018,2,208.6,2,208.2,2,1.22,2,0.74,2,0.19,2,2117.1,2,2400.9,2,-999,9,-999,9,-999,-999,9,-999,1
  740H20180228, A09.5,22,1,18,6692,2,20180306,414,-24.001,-34.4999,4396,252.8,16.4316,35.6985,2,35.6805,2,204.9,2,204.6,2,2.26,2,4.39,2,0.45,2,2120.6,2,2344.2,2,-999,9,-999,9,-999,-999,9,-999,1
  740H20180228, A09.5,22,1,17,1122,2,20180306,414,-24.001,-34.4999,4396,379.2,13.3065,35.2144,2,35.212,2,201.7,2,201.4,2,4.01,2,10.42,2,0.8,2,2134.6,2,2315.4,2,-999,9,-999,9,-999,-999,9,-999,1
  740H20180228, A09.5,22,1,16,6420,2,20180306,414,-24.001,-34.4999,4396,503.9,10.6382,34.888,2,34.8801,2,199.8,2,199.6,2,7.15,2,16.9,2,1.19,2,2152.7,2,2301.5,2,-999,9,-999,9,-999,-999,9,-999,1
  740H20180228, A09.5,22,1,15,6419,2,20180306,414,-24.001,-34.4999,4396,631.7,7.7639,34.57,2,34.5715,2,193.2,2,194.2,2,13.71,2,24.35,2,1.66,2,2173.2,2,2291.9,2,-999,9,-999,9,-999,-999,9,-999,1
  740H20180228, A09.5,22,1,14,6418,2,20180306,414,-24.001,-34.4999,4396,758,5.8805,34.4181,2,34.4188,2,195,2,194.6,2,21.12,2,28.82,2,1.94,2,2189,2,2293.3,2,-999,9,-999,9,-999,-999,9,-999,1
  740H20180228, A09.5,22,1,13,6417,2,20180306,414,-24.001,-34.4999,4396,883.7,4.6651,34.3952,2,34.3941,2,188.2,2,187.7,2,30.84,2,31.74,2,2.15,2,2200.4,2,2295.7,2,-999,9,-999,9,-999,-999,9,-999,1
  740H20180228, A09.5,22,1,12,6416,2,20180306,414,-24.001,-34.4999,4396,1009,3.7849,34.4152,2,-999,9,191.3,2,190.8,2,41.61,2,32.54,2,2.21,2,2213.6,2,2307.1,2,-999,9,-999,9,-999,-999,9,-999,1
  740H20180228, A09.5,22,1,11,6415,2,20180306,414,-24.001,-34.4999,4396,1212.4,3.3925,34.5592,2,34.5609,2,188.5,2,188.6,2,47.29,2,31.69,2,2.15,2,2220.2,6,2317.5,6,-999,9,-999,9,-999,-999,9,-999,1
  740H20180228, A09.5,22,1,10,6414,2,20180306,414,-24.001,-34.4999,4396,1514.1,3.7394,34.8314,2,34.8328,2,213.5,2,211.9,2,32.47,2,25.44,2,1.69,2,2195.9,2,2316.6,2,-999,9,-999,9,-999,-999,9,-999,1
  740H20180228, A09.5,22,1,9,6413,2,20180306,414,-24.001,-34.4999,4396,1767.3,3.8012,34.9437,2,34.9429,2,240.7,2,239.8,3,22.36,2,21.07,2,1.39,2,-999,9,2314.6,2,-999,9,-999,9,-999,-999,9,-999,1
  740H20180228, A09.5,22,1,8,6412,2,20180306,414,-24.001,-34.4999,4396,2022.6,3.4975,34.9512,2,34.9502,2,251.2,2,249.6,2,22.96,2,19.99,2,1.32,2,2168,2,2315,2,-999,9,-999,9,-999,-999,9,-999,1
  740H20180228, A09.5,22,1,7,6411,2,20180306,414,-24.001,-34.4999,4396,2276.3,3.2452,34.9464,2,34.9461,2,254.7,2,253.2,2,25.24,2,19.84,2,1.32,2,2169.8,2,2318.8,2,-999,9,-999,9,-999,-999,9,-999,1
  740H20180228, A09.5,22,1,6,6410,2,20180306,414,-24.001,-34.4999,4396,2531.4,3.0314,34.9353,2,34.9346,2,254.6,2,252.4,2,28.81,2,20.14,2,1.36,2,2179.8,2,2322.3,2,-999,9,-999,9,-999,-999,9,-999,1
  740H20180228, A09.5,22,1,5,6409,2,20180306,414,-24.001,-34.4999,4396,2785.5,2.8702,34.9259,2,34.9254,2,254.5,2,252.7,2,31.74,2,20.45,2,1.36,2,2176.9,2,2325,2,-999,9,-999,9,-999,-999,9,-999,1
  740H20180228, A09.5,22,1,4,6408,2,20180306,414,-24.001,-34.4999,4396,3294.8,2.5742,34.9078,2,34.9077,2,256.8,2,254.5,2,36.94,2,20.73,2,1.39,2,2184.9,2,2328.8,2,-999,9,-999,9,-999,-999,9,-999,1
  740H20180228, A09.5,22,1,3,6407,2,20180306,414,-24.001,-34.4999,4396,3807.6,1.6144,34.8122,2,34.8112,2,242.2,2,239.9,2,74.44,2,25.77,2,1.75,2,2216.1,4,2347,4,-999,9,-999,9,-999,-999,9,-999,1
  740H20180228, A09.5,22,1,2,6406,2,20180306,414,-24.001,-34.4999,4396,4319,0.8823,34.7319,2,34.7331,2,229.3,2,228.1,2,105.53,2,29.91,2,2.05,2,2246.8,2,-999,9,-999,9,-999,9,-999,-999,9,-999,1
  740H20180228, A09.5,22,1,1,5977,2,20180306,414,-24.001,-34.4999,4396,4459.8,0.4636,34.6889,2,34.6893,2,224.5,2,221.8,2,122.48,2,32.18,2,2.22,2,2258.8,2,2362.7,2,-999,9,-999,9,-999,-999,9,-999,1
  740H20180228, A09.5,23,1,23,6427,2,20180306,1100,-24,-33.9967,4612,5.2,27.3242,36.8001,2,36.7982,2,202.4,2,214.8,4,0.98,2,0.2,2,0.03,2,2074.4,2,2410.8,2,-999,9,-999,9,-999,-999,9,-999,1
  740H20180228, A09.5,23,1,24,1086,2,20180306,1100,-24,-33.9967,4612,5.5,27.3243,36.8001,2,-999,9,201.8,2,-999,9,1.1,2,0.22,2,0.03,2,2078.9,2,2414.4,2,-999,9,-999,9,-999,-999,9,-999,9
  740H20180228, A09.5,23,1,22,6426,2,20180306,1100,-24,-33.9967,4612,51.2,25.0898,36.9386,2,36.9337,2,220.9,2,231.9,4,1.12,2,0.18,2,0.1,2,2100.9,2,2425.9,2,-999,9,-999,9,-999,-999,9,-999,1
  740H20180228, A09.5,23,1,21,6425,2,20180306,1100,-24,-33.9967,4612,76.9,23.5762,36.9388,2,36.9431,2,227.4,2,232.6,2,1.09,2,0.19,2,0.14,2,2104.6,6,2424.9,6,-999,9,-999,9,-999,-999,9,-999,1
  740H20180228, A09.5,23,1,20,6428,2,20180306,1100,-24,-33.9967,4612,101.5,22.4199,36.882,2,36.8713,2,221.8,2,229.6,4,1.13,2,0.2,2,0.14,2,2105,2,2418.9,2,-999,9,-999,9,-999,-999,9,-999,1
  740H20180228, A09.5,23,1,19,1098,2,20180306,1100,-24,-33.9967,4612,131.7,21.7973,36.8209,2,36.8221,2,216.5,2,218.8,2,1.15,2,0.22,2,0.15,2,2115.1,6,2415.9,6,-999,9,-999,9,-999,-999,9,-999,1
  740H20180228, A09.5,23,1,18,6692,2,20180306,1100,-24,-33.9967,4612,176.1,21.1035,36.6734,2,36.6662,2,211.9,2,215.1,2,1.13,2,0.44,2,0.15,2,2110.8,2,2405.1,2,-999,9,-999,9,-999,-999,9,-999,1
  740H20180228, A09.5,23,1,17,1122,2,20180306,1100,-24,-33.9967,4612,251.8,17.0609,35.8133,2,35.7865,2,207,2,209.9,2,1.86,2,3.27,2,0.37,2,2115.6,2,2349.9,2,-999,9,-999,9,-999,-999,9,-999,1
  740H20180228, A09.5,23,1,16,6420,2,20180306,1100,-24,-33.9967,4612,377.7,13.2289,35.2042,2,35.2085,2,199.8,2,202.4,2,4.15,2,10.88,2,0.81,2,2130.8,2,2314.9,2,-999,9,-999,9,-999,-999,9,-999,1
  740H20180228, A09.5,23,1,15,6419,2,20180306,1100,-24,-33.9967,4612,504,10.6285,34.8867,2,34.8679,2,201.6,2,203.4,2,7.26,2,17.17,2,1.2,2,2153.2,2,2300.8,2,-999,9,-999,9,-999,-999,9,-999,1
  740H20180228, A09.5,23,1,14,6418,2,20180306,1100,-24,-33.9967,4612,654.7,7.3573,34.5191,2,34.5179,2,203.3,2,206.3,2,13.95,2,24.61,2,1.65,2,2167.7,2,2287.7,2,-999,9,-999,9,-999,-999,9,-999,1
  740H20180228, A09.5,23,1,13,6417,2,20180306,1100,-24,-33.9967,4612,807,5.4094,34.4079,2,34.4035,2,189.6,2,193.1,2,25.16,2,30.5,2,2.04,2,2198.2,2,2295.1,2,-999,9,-999,9,-999,-999,9,-999,1
  740H20180228, A09.5,23,1,12,6416,2,20180306,1100,-24,-33.9967,4612,1058.9,3.5702,34.4499,2,34.4507,2,188.7,2,191.3,2,45.89,2,32.76,2,2.21,2,2220.6,6,2312,6,-999,9,-999,9,-999,-999,9,-999,1
  740H20180228, A09.5,23,1,11,6415,2,20180306,1100,-24,-33.9967,4612,1312,3.1521,34.6192,2,34.621,2,191.3,2,198.4,4,51.51,2,31.07,2,2.08,2,2227.9,2,2322.5,2,-999,9,-999,9,-999,-999,9,-999,1
  740H20180228, A09.5,23,1,10,6414,2,20180306,1100,-24,-33.9967,4612,1566.7,3.254,34.7891,2,34.7908,2,213.4,2,214.6,2,42.26,2,26.6,2,1.77,2,2201.6,2,2321.6,2,-999,9,-999,9,-999,-999,9,-999,1
  740H20180228, A09.5,23,1,9,6413,2,20180306,1100,-24,-33.9967,4612,1819.1,3.6122,34.9452,2,34.945,2,245.8,2,246.7,2,23.29,2,20.74,2,1.36,2,2178.9,2,2317.4,2,-999,9,-999,9,-999,-999,9,-999,1
  740H20180228, A09.5,23,1,8,6412,2,20180306,1100,-24,-33.9967,4612,2072.6,3.3973,34.9523,2,34.952,2,253.5,2,254.1,2,23.54,2,19.98,2,1.31,2,2168,2,2315.7,2,-999,9,-999,9,-999,-999,9,-999,1
  740H20180228, A09.5,23,1,7,6411,2,20180306,1100,-24,-33.9967,4612,2225.3,3.2534,34.9472,2,34.9467,2,253.7,2,254,2,25.26,2,20,2,1.31,2,2177.6,2,2322.3,2,-999,9,-999,9,-999,-999,9,-999,1
  740H20180228, A09.5,23,1,6,6410,2,20180306,1100,-24,-33.9967,4612,2376.8,3.126,34.9402,2,34.9396,2,254.2,2,254.8,2,27.41,2,20.18,2,1.33,2,2169.1,2,2322.7,2,-999,9,-999,9,-999,-999,9,-999,1
  740H20180228, A09.5,23,1,5,6409,2,20180306,1100,-24,-33.9967,4612,2580.6,3.0138,34.9339,2,34.938,2,254.1,2,255.6,2,29.52,2,20.34,2,1.34,2,2177.1,2,2323.4,2,-999,9,-999,9,-999,-999,9,-999,1
  740H20180228, A09.5,23,1,4,6408,2,20180306,1100,-24,-33.9967,4612,3091.3,2.7528,34.9193,2,34.9192,2,255.3,2,254.8,2,33.87,2,20.56,2,1.36,2,2177.6,2,2327.6,2,-999,9,-999,9,-999,-999,9,-999,1
  740H20180228, A09.5,23,1,3,6407,2,20180306,1100,-24,-33.9967,4612,3601.8,2.3425,34.8854,2,34.8854,2,253.7,2,253.7,2,45.49,2,21.76,2,1.44,2,2192.8,2,2333.9,2,-999,9,-999,9,-999,-999,9,-999,1
  740H20180228, A09.5,23,1,2,6406,2,20180306,1100,-24,-33.9967,4612,4115.6,1.1655,34.7604,2,34.7609,2,232.7,2,232.9,2,95.25,2,28.61,2,1.94,2,2234,2,2354.2,2,-999,9,-999,9,-999,-999,9,-999,1
  740H20180228, A09.5,23,1,1,5977,2,20180306,1100,-24,-33.9967,4612,4680.8,0.328,34.6771,2,34.6769,2,224.7,2,225,2,128.11,2,32.77,2,2.24,2,2263.8,6,2363.9,6,-999,9,-999,9,-999,-999,9,-999,1
  740H20180228, A09.5,24,1,23,6427,2,20180306,1739,-23.9993,-33.4984,4625,6.5,27.2861,36.7614,2,36.7606,2,202,2,229.1,4,1.13,2,0.21,2,0.02,2,2073.4,2,2409.9,2,-999,9,-999,9,-999,-999,9,-999,1
  740H20180228, A09.5,24,1,24,1086,2,20180306,1739,-23.9993,-33.4984,4625,6.5,27.2907,36.763,2,36.7621,2,203.2,2,225.3,4,1.2,2,0.23,2,0.03,2,-999,9,-999,9,-999,9,-999,9,-999,-999,9,-999,9
  740H20180228, A09.5,24,1,22,6426,2,20180306,1739,-23.9993,-33.4984,4625,50,26.7198,36.8374,2,36.8361,2,212.7,2,231.4,4,1.09,2,0.19,2,0.01,2,2079.2,2,2412.3,2,-999,9,-999,9,-999,-999,9,-999,1
  740H20180228, A09.5,24,1,21,6425,2,20180306,1739,-23.9993,-33.4984,4625,80.6,23.4896,36.8262,2,36.8405,2,227,2,228.7,4,0.97,2,0.19,2,0.03,2,2091.7,2,2416.5,2,-999,1,-999,9,-999,-999,9,-999,1
  740H20180228, A09.5,24,1,20,6428,2,20180306,1739,-23.9993,-33.4984,4625,100.1,22.1093,36.7721,2,36.7695,2,226.1,2,219,4,0.96,2,0.19,2,0.04,2,2095.9,2,2411,2,-999,9,-999,9,-999,-999,9,-999,1
  740H20180228, A09.5,24,1,19,1098,2,20180306,1739,-23.9993,-33.4984,4625,124.9,21.5564,36.7549,2,36.7508,2,215.7,2,211.2,4,0.96,2,0.19,2,0.07,2,2105.7,6,2410.9,6,-999,1,-999,9,-999,-999,9,-999,1
  740H20180228, A09.5,24,1,18,6692,2,20180306,1739,-23.9993,-33.4984,4625,176.1,19.8342,36.3657,2,36.3672,2,211,2,209.4,4,1.02,2,0.84,2,0.13,2,2109.9,6,2359.6,6,-999,9,-999,9,-999,-999,9,-999,1
  740H20180228, A09.5,24,1,17,1122,2,20180306,1739,-23.9993,-33.4984,4625,277,15.3208,35.4925,2,35.4915,2,210.7,2,204.4,4,2.26,2,5.29,2,0.46,2,-999,9,-999,9,-999,9,-999,9,-999,-999,9,-999,1
  740H20180228, A09.5,24,1,16,6420,2,20180306,1739,-23.9993,-33.4984,4625,377.8,13.0718,35.1889,2,35.198,2,206.3,2,198.2,4,3.79,2,10.41,2,0.76,2,2130.1,2,2318,2,-999,9,-999,9,-999,-999,9,-999,1
  740H20180228, A09.5,24,1,15,6419,2,20180306,1739,-23.9993,-33.4984,4625,503.7,10.8187,34.9081,2,34.9102,2,199.6,2,191,4,6.69,2,16.58,2,1.13,2,2146.6,2,2301.6,2,-999,9,-999,9,-999,-999,9,-999,1
  740H20180228, A09.5,24,1,14,6418,2,20180306,1739,-23.9993,-33.4984,4625,582.1,8.9524,34.6867,2,34.6865,2,197.6,2,207.1,4,10.19,2,21.39,2,1.44,2,2162.7,2,2295.3,2,-999,9,-999,9,-999,-999,9,-999,1
  740H20180228, A09.5,24,1,13,6417,2,20180306,1739,-23.9993,-33.4984,4625,712.7,6.3876,34.4312,2,34.4311,2,208.2,2,194.7,4,16.46,2,26.77,2,1.8,2,2171.5,6,2289.2,6,-999,9,-999,9,-999,-999,9,-999,1
  740H20180228, A09.5,24,1,12,6416,2,20180306,1739,-23.9993,-33.4984,4625,875.1,4.5732,34.3706,2,34.3726,2,196.6,2,187,4,30.44,2,31.69,2,2.14,2,2200.2,2,2321.3,6,-999,9,-999,9,-999,-999,9,-999,1
  740H20180228, A09.5,24,1,11,6415,2,20180306,1739,-23.9993,-33.4984,4625,1127.4,3.43,34.4913,2,34.4913,2,187.8,2,188.9,4,47.23,2,32.88,2,2.24,2,2217.1,6,2315.9,6,-999,9,-999,9,-999,-999,9,-999,1
  740H20180228, A09.5,24,1,10,6414,2,20180306,1739,-23.9993,-33.4984,4625,1259.7,3.5065,34.62,2,34.619,2,190.1,2,208.7,4,44.69,2,31.23,2,2.11,2,2216.9,2,2317,2,-999,9,-999,9,-999,-999,9,-999,1
  740H20180228, A09.5,24,1,9,6413,2,20180306,1739,-23.9993,-33.4984,4625,1513.1,3.791,34.8456,2,34.8469,2,214.6,2,235.9,4,31.32,2,25.66,2,1.71,2,2197.4,2,2317.8,2,-999,9,-999,9,-999,-999,9,-999,1
  740H20180228, A09.5,24,1,8,6412,2,20180306,1739,-23.9993,-33.4984,4625,1767.1,3.6771,34.9269,2,34.9256,2,237.8,2,248,4,24.92,2,22.21,2,1.47,2,2176.8,2,2316.3,2,-999,9,-999,9,-999,-999,9,-999,1
  740H20180228, A09.5,24,1,7,6411,2,20180306,1739,-23.9993,-33.4984,4625,2021,3.5529,34.9562,2,34.9561,2,250.8,2,248,4,21.84,2,20.43,2,1.35,2,2174.1,2,2316.2,2,-999,9,-999,9,-999,-999,9,-999,1
  740H20180228, A09.5,24,1,6,6410,2,20180306,1739,-23.9993,-33.4984,4625,2275.5,3.3029,34.9493,2,34.9493,2,253.9,2,251.1,4,24.27,2,20.31,2,1.35,2,2168.6,2,2317.6,2,-999,9,-999,9,-999,-999,9,-999,1
  740H20180228, A09.5,24,1,5,6409,2,20180306,1739,-23.9993,-33.4984,4625,2530.9,3.107,34.938,2,34.9367,2,254.2,2,251.3,4,27.66,2,20.65,2,1.37,2,2174.1,6,2321.1,6,-999,9,-999,9,-999,-999,9,-999,1
  740H20180228, A09.5,24,1,4,6408,2,20180306,1739,-23.9993,-33.4984,4625,3296.6,2.6937,34.9154,2,34.9146,2,255.5,2,252.5,4,34.52,2,21.02,2,1.4,2,2177.5,2,2327.5,2,-999,9,-999,9,-999,-999,9,-999,1
  740H20180228, A09.5,24,1,3,6407,2,20180306,1739,-23.9993,-33.4984,4625,3809.7,2.151,34.8648,2,34.865,2,250.3,2,247.4,4,53.18,2,23.4,2,1.56,2,2201.4,2,2338.4,2,-999,9,-999,9,-999,-999,9,-999,1
  740H20180228, A09.5,24,1,2,6406,2,20180306,1739,-23.9993,-33.4984,4625,4321.5,1.1861,34.7601,2,34.7597,2,232.9,2,229.3,4,94.16,2,29.09,2,1.95,2,2232.8,2,2356.8,2,-999,9,-999,9,-999,-999,9,-999,1
  740H20180228, A09.5,24,1,1,5977,2,20180306,1739,-23.9993,-33.4984,4625,4694.9,0.3517,34.679,2,34.6791,2,224.5,2,221,4,125.71,2,33.12,2,2.24,2,2269.3,2,2365.3,2,-999,9,-999,9,-999,-999,9,-999,1
  740H20180228, A09.5,25,1,24,1086,2,20180307,49,-23.9995,-32.9999,4791,4.7,27.2204,36.8219,2,36.8199,2,203.2,2,203,2,1.1,2,0.08,2,0.01,2,2078.3,2,2415.4,2,-999,9,-999,9,-999,-999,9,-999,1
  740H20180228, A09.5,25,1,23,6427,2,20180307,49,-23.9995,-32.9999,4791,41.1,26.8884,36.7997,2,36.8076,2,205.9,2,206.4,2,1.09,2,0.08,2,0,2,-999,9,-999,9,-999,9,-999,9,-999,-999,9,-999,1
  740H20180228, A09.5,25,1,22,6426,2,20180307,49,-23.9995,-32.9999,4791,82.3,22.0107,36.6166,2,36.6404,2,226.9,2,227.7,2,1.05,2,0.06,2,0,2,2083.9,6,2408,6,-999,9,-999,9,-999,-999,9,-999,1
  740H20180228, A09.5,25,1,21,6425,2,20180307,49,-23.9995,-32.9999,4791,122.2,21.1023,36.6496,2,36.6436,2,216.6,2,216,2,1.02,2,0.21,2,0.05,2,2103.7,6,2403.9,6,-999,9,-999,9,-999,-999,9,-999,1
  740H20180228, A09.5,25,1,20,6428,2,20180307,49,-23.9995,-32.9999,4791,177.2,19.2935,36.2521,2,36.2456,2,210.5,2,209.9,2,1.28,2,1.24,2,0.16,2,2106,2,2377.3,2,-999,9,-999,9,-999,-999,9,-999,1
  740H20180228, A09.5,25,1,19,1098,2,20180307,49,-23.9995,-32.9999,4791,252.7,15.9128,35.5943,2,35.6043,2,207.6,2,209.5,2,2.12,2,4.31,2,0.39,2,2113.8,2,2341.4,2,-999,9,-999,9,-999,-999,9,-999,1
  740H20180228, A09.5,25,1,18,6692,2,20180307,49,-23.9995,-32.9999,4791,380.4,13.1047,35.2084,2,35.2198,2,207.7,2,208.9,2,3.48,2,9.88,2,0.72,2,2127.1,2,2318.9,2,-999,9,-999,9,-999,-999,9,-999,1
  740H20180228, A09.5,25,1,17,1122,2,20180307,49,-23.9995,-32.9999,4791,504.5,10.3403,34.8485,2,34.8469,2,201.8,2,201.7,2,7.02,2,17.32,2,1.17,2,2151,2,2303,2,-999,9,-999,9,-999,-999,9,-999,1
  740H20180228, A09.5,25,1,16,6420,2,20180307,49,-23.9995,-32.9999,4791,630.5,7.7887,34.5689,2,34.5655,2,195.7,2,197.5,2,12.95,2,24.1,2,1.61,2,2167.4,6,2292.3,6,-999,9,-999,9,-999,-999,9,-999,1
  740H20180228, A09.5,25,1,15,6419,2,20180307,49,-23.9995,-32.9999,4791,757.1,5.5675,34.3751,2,34.3771,2,208,2,208.6,2,-999,9,-999,9,-999,9,2183.8,2,2290.2,2,-999,9,-999,9,-999,-999,9,-999,1
  740H20180228, A09.5,25,1,14,6418,2,20180307,49,-23.9995,-32.9999,4791,883.2,4.2198,34.3391,2,34.3423,2,206.8,2,206.6,2,30.99,2,31.01,2,2.09,2,2198.6,2,2297.4,2,-999,9,-999,9,-999,-999,9,-999,1
  740H20180228, A09.5,25,1,13,6417,2,20180307,49,-23.9995,-32.9999,4791,1008.8,3.6773,34.4277,2,34.4278,2,189.8,2,189.5,2,41.85,2,32.58,2,2.2,2,2214.7,2,2311.6,2,-999,9,-999,9,-999,-999,9,-999,1
  740H20180228, A09.5,25,1,12,6416,2,20180307,49,-23.9995,-32.9999,4791,1159.9,3.3588,34.5214,2,34.526,2,186.3,2,186.4,2,47.59,2,32.3,2,2.2,2,2223.5,6,2319.5,6,-999,9,-999,9,-999,-999,9,-999,1
  740H20180228, A09.5,25,1,11,6415,2,20180307,49,-23.9995,-32.9999,4791,1261.5,3.451,34.6455,2,34.6461,2,191,2,191.2,2,43.57,2,30.22,2,2.05,2,2218,2,2319.4,2,-999,9,-999,9,-999,-999,9,-999,1
  740H20180228, A09.5,25,1,10,6414,2,20180307,49,-23.9995,-32.9999,4791,1486,3.6928,34.8252,2,34.8284,2,212.2,2,212.3,2,32.43,2,25.57,2,1.73,2,2196.6,2,2318.2,2,-999,9,-999,9,-999,-999,9,-999,1
  740H20180228, A09.5,25,1,9,6413,2,20180307,49,-23.9995,-32.9999,4791,1768.6,3.7183,34.9462,2,34.9479,2,242.8,2,242.4,2,21.72,2,20.8,2,1.39,2,2174.8,2,2315.1,2,-999,9,-999,9,-999,-999,9,-999,1
  740H20180228, A09.5,25,1,8,6412,2,20180307,49,-23.9995,-32.9999,4791,2022.2,3.474,34.9541,2,34.957,2,251.8,2,250.1,2,22.2,2,19.94,2,1.33,2,2170.5,2,2316.8,2,-999,9,-999,9,-999,-999,9,-999,1
  740H20180228, A09.5,25,1,7,6411,2,20180307,49,-23.9995,-32.9999,4791,2277.9,3.2458,34.9456,2,34.9452,2,253.7,2,252.2,2,24.59,2,20.1,2,1.33,2,2171.1,2,2319.5,2,-999,9,-999,9,-999,-999,9,-999,1
  740H20180228, A09.5,25,1,6,6410,2,20180307,49,-23.9995,-32.9999,4791,2532.5,3.0722,34.9361,2,34.9359,2,253.6,2,252.3,2,27.57,2,20.37,2,1.35,2,2173.9,2,2323.2,2,-999,9,-999,9,-999,-999,9,-999,1
  740H20180228, A09.5,25,1,5,6409,2,20180307,49,-23.9995,-32.9999,4791,3042.9,2.8255,34.9225,2,34.9243,2,254.1,2,251.8,2,31.71,2,20.62,2,1.36,2,2179,2,2326.4,2,-999,9,-999,9,-999,-999,9,-999,1
  740H20180228, A09.5,25,1,4,6408,2,20180307,49,-23.9995,-32.9999,4791,3555.8,2.5282,34.9019,2,34.9023,2,255,2,253.1,2,37.79,2,21.07,2,1.4,2,2184.6,2,2330.3,2,-999,9,-999,9,-999,-999,9,-999,1
  740H20180228, A09.5,25,1,3,6407,2,20180307,49,-23.9995,-32.9999,4791,4063.4,1.702,34.8181,2,34.8182,2,242.8,2,239.9,2,69.33,2,25.54,2,1.71,2,2216.1,2,2347.4,2,-999,9,-999,9,-999,-999,9,-999,1
  740H20180228, A09.5,25,1,2,6406,2,20180307,49,-23.9995,-32.9999,4791,4577.5,0.8458,34.7239,2,34.7233,2,227.2,2,225.6,2,105.46,2,30.55,2,2.08,2,2248.3,2,2361.5,2,-999,9,-999,9,-999,-999,9,-999,1
  740H20180228, A09.5,25,1,1,5977,2,20180307,49,-23.9995,-32.9999,4791,4866.1,0.3458,34.6762,2,34.6763,2,223.3,2,221.7,2,123.02,2,32.73,2,2.24,2,2263.9,6,2365.2,6,-999,9,-999,9,-999,-999,9,-999,1