BOTTLE,20190321PRINUNIVRMK,,,,,,,,,,,,,,,,,,,,,,,,,,,,,,,,,,,,,,,
EXPOCODE,SECT_ID,STNNBR,CASTNO,SAMPNO,BTLNBR,BTLNBR_FLAG_W,DATE,TIME,LATITUDE,LONGITUDE,DEPTH,CTDPRS,CTDTMP,CTDSAL,CTDSAL_FLAG_W,SALNTY,SALNTY_FLAG_W,CTDOXY,CTDOXY_FLAG_W,OXYGEN,OXYGEN_FLAG_W,SILCAT,SILCAT_FLAG_W,NITRAT,NITRAT_FLAG_W,PHSPHT,PHSPHT_FLAG_W,TCARBN,TCARBN_FLAG_W,ALKALI,ALKALI_FLAG_W,CHLORA,CHLORA_FLAG_W,DELC14,DELC14_FLAG_W,C14ERR,DELC13,DELC13_FLAG_W,DELO18,DELO18_FLAG_W
,,,,,,,,,,,METERS,DBAR,ITS-90,PSS-78,,PSS-78,,UMOL/KG,,UMOL/KG,,UMOL/KG,,UMOL/KG,,UMOL/KG,,UMOL/KG,,UMOL/KG,,UG/KG,,/MILLE,,/MILLE,/MILLE,,/MILLE,
  740H20180228, A09.5,118,1,12,6416,2,20180404,1144,-23.9221,12.7897,1520,5.5,18.9548,35.204,2,35.2051,2,245.1,2,-999,9,0.75,2,1.04,2,0.53,2,-999,9,-999,9,-999,1,-999,9,-999,-999,9,-999,9
  740H20180228, A09.5,118,1,11,6415,2,20180404,1144,-23.9221,12.7897,1520,5.6,18.9571,35.2039,2,35.2049,2,244.3,2,246,2,-999,9,-999,9,-999,9,2068.2,2,2328.1,2,-999,9,-999,9,-999,-999,9,-999,1
  740H20180228, A09.5,118,1,10,6414,2,20180404,1144,-23.9221,12.7897,1520,20.3,18.616,35.2027,2,35.2061,2,241.3,2,-999,9,0.79,2,1.45,2,0.56,2,-999,9,-999,9,-999,1,-999,9,-999,-999,9,-999,9
  740H20180228, A09.5,118,1,9,6413,2,20180404,1144,-23.9221,12.7897,1520,20.7,18.6064,35.2039,2,35.2081,2,242.2,2,239.9,2,-999,9,-999,9,-999,9,2075,6,2328.9,6,-999,9,-999,9,-999,-999,9,-999,1
  740H20180228, A09.5,118,1,7,6411,2,20180404,1144,-23.9221,12.7897,1520,51.1,14.8448,35.318,2,35.3157,2,203.2,2,205.5,2,3.86,2,7.64,2,0.63,2,2121.4,2,2321.6,2,-999,9,-999,9,-999,-999,9,-999,1
  740H20180228, A09.5,118,1,8,6412,2,20180404,1144,-23.9221,12.7897,1520,51.2,14.9545,35.3354,2,35.3201,2,202.9,2,-999,9,-999,9,-999,9,-999,9,-999,9,-999,9,-999,1,-999,9,-999,-999,9,-999,9
  740H20180228, A09.5,118,1,5,6409,2,20180404,1144,-23.9221,12.7897,1520,81.3,13.53,35.1437,2,35.1443,2,209.9,2,212,2,-999,9,-999,9,-999,9,2120.1,6,2313.9,6,-999,9,-999,9,-999,-999,9,-999,1
  740H20180228, A09.5,118,1,6,6410,2,20180404,1144,-23.9221,12.7897,1520,81.4,13.5848,35.1489,2,35.1476,2,210,2,-999,9,3.78,2,8.99,2,0.7,2,-999,9,-999,9,-999,9,-999,9,-999,-999,9,-999,9
  740H20180228, A09.5,118,1,4,6408,2,20180404,1144,-23.9221,12.7897,1520,102,13.0453,35.0936,2,35.0935,2,203.5,2,-999,9,4.45,2,11.05,2,0.82,2,-999,9,-999,9,-999,9,-999,9,-999,-999,9,-999,9
  740H20180228, A09.5,118,1,3,6407,2,20180404,1144,-23.9221,12.7897,1520,102.8,13.0417,35.0924,2,35.0932,2,203.8,2,205.6,2,-999,9,-999,9,-999,9,2129.9,2,2311.9,2,-999,9,-999,9,-999,-999,9,-999,1
  740H20180228, A09.5,118,1,2,1077,2,20180404,1144,-23.9221,12.7897,1520,180.1,11.6002,34.9957,2,34.9971,2,156.2,2,158.7,2,7.76,2,19.08,2,1.29,2,2168.7,2,2302.1,2,-999,9,-999,9,-999,-999,9,-999,1
  740H20180228, A09.5,118,1,1,5977,2,20180404,1144,-23.9221,12.7897,1520,255.6,10.104,34.8166,2,34.8097,2,158,2,160.9,2,10.23,2,22.17,2,1.49,2,2175.6,6,2295.9,6,-999,9,-999,9,-999,-999,9,-999,1
  740H20180228, A09.5,118,1,24,1086,2,20180404,1144,-23.9221,12.7897,1520,380.4,7.9171,34.6,2,34.5985,2,144.4,2,145.6,2,16.08,2,28.97,2,1.93,2,2202.5,2,2291.1,2,-999,9,-999,9,-999,-999,9,-999,1
  740H20180228, A09.5,118,1,23,6427,2,20180404,1144,-23.9221,12.7897,1520,456.5,6.894,34.5197,2,34.5212,2,143.3,2,144.1,2,19.1,2,31.54,2,2.09,2,2203.9,2,2288,2,-999,9,-999,9,-999,-999,9,-999,1
  740H20180228, A09.5,118,1,22,6426,2,20180404,1144,-23.9221,12.7897,1520,507,6.7244,34.5606,2,34.5577,2,97.5,2,99.7,2,22.41,2,36.32,2,2.38,2,2234.9,6,2290.6,6,-999,9,-999,9,-999,-999,9,-999,1
  740H20180228, A09.5,118,1,21,6425,2,20180404,1144,-23.9221,12.7897,1520,607.8,5.7635,34.5051,2,34.5012,2,110.3,2,110.9,2,27.14,2,37.22,2,2.47,2,2238.4,2,2295.8,2,-999,9,-999,9,-999,-999,9,-999,1
  740H20180228, A09.5,118,1,20,6428,2,20180404,1144,-23.9221,12.7897,1520,693.7,4.9506,34.4613,2,34.4604,2,131.4,2,132.5,2,31.62,2,36.37,2,2.44,2,2226.2,6,2297.6,6,-999,9,-999,9,-999,-999,9,-999,1
  740H20180228, A09.5,118,1,19,6692,2,20180404,1144,-23.9221,12.7897,1520,759.3,4.5681,34.462,2,34.4601,2,139.8,2,140.5,2,34.92,2,36.08,2,2.44,2,2226.7,2,2298.6,2,-999,9,-999,9,-999,-999,9,-999,1
  740H20180228, A09.5,118,1,18,1098,2,20180404,1144,-23.9221,12.7897,1520,885.3,4.0766,34.4675,2,34.4651,2,157,2,158.2,2,39.46,2,34.89,2,2.38,2,2228.7,2,2306.2,2,-999,9,-999,9,-999,-999,9,-999,1
  740H20180228, A09.5,118,1,17,1122,2,20180404,1144,-23.9221,12.7897,1520,1011.5,3.7165,34.525,2,34.5272,2,168.2,2,168.8,2,43.49,2,33.59,2,2.29,2,2222.1,2,2309.5,2,-999,9,-999,9,-999,-999,9,-999,1
  740H20180228, A09.5,118,1,16,6420,2,20180404,1144,-23.9221,12.7897,1520,1265.4,3.4201,34.6702,2,34.6686,2,180.6,2,181.6,2,46.22,2,30.8,2,2.11,2,2219.9,6,2320.3,6,-999,9,-999,9,-999,-999,9,-999,1
  740H20180228, A09.5,118,1,15,6419,2,20180404,1144,-23.9221,12.7897,1520,1518.7,3.4775,34.8185,2,34.8164,2,193,2,194.4,2,40.25,2,27.23,2,1.88,2,2213.5,2,2326.3,2,-999,9,-999,9,-999,-999,9,-999,1
  740H20180228, A09.5,118,1,14,6418,2,20180404,1144,-23.9221,12.7897,1520,1527.1,3.4718,34.8213,2,34.8178,2,193.1,2,-999,9,-999,9,-999,9,-999,9,-999,9,-999,9,-999,9,-999,9,-999,-999,9,-999,9
  740H20180228, A09.5,118,1,13,6417,2,20180404,1144,-23.9221,12.7897,1520,1528,3.4708,34.8215,2,34.8183,2,193.6,2,193.8,2,40.28,2,27.21,2,1.87,2,2212.5,6,2325.3,6,-999,9,-999,9,-999,-999,9,-999,1
  740H20180228, A09.5,119,1,11,6415,2,20180404,1455,-23.9594,12.6503,1916,6.3,19.6447,35.2184,2,35.2185,2,243.4,2,242.3,2,0.77,2,1.11,2,0.45,2,2061.6,2,2324.8,2,-999,1,-999,1,-999,-999,1,-999,1
  740H20180228, A09.5,119,1,12,6416,2,20180404,1455,-23.9594,12.6503,1916,6.5,19.6548,35.2184,2,35.219,2,243.5,2,-999,9,-999,9,-999,9,-999,9,-999,9,-999,9,-999,9,-999,9,-999,-999,9,-999,9
  740H20180228, A09.5,119,1,10,6414,2,20180404,1455,-23.9594,12.6503,1916,11.4,19.5563,35.2181,2,35.2177,2,244.5,2,242.3,2,0.69,2,1.25,2,0.48,2,2065.6,6,2325.9,6,-999,1,-999,1,-999,-999,1,-999,1
  740H20180228, A09.5,119,1,9,6413,2,20180404,1455,-23.9594,12.6503,1916,21.4,18.9566,35.2171,2,35.2269,2,239.2,2,237.1,2,0.89,2,2.31,2,0.55,2,2081.4,2,2324.8,2,-999,1,-999,1,-999,-999,1,-999,1
  740H20180228, A09.5,119,1,8,6412,2,20180404,1455,-23.9594,12.6503,1916,33,16.3181,35.3083,2,35.3108,2,210.2,2,-999,9,-999,9,-999,9,-999,9,-999,9,-999,9,-999,1,-999,9,-999,-999,9,-999,9
  740H20180228, A09.5,119,1,7,6411,2,20180404,1455,-23.9594,12.6503,1916,33.1,16.2982,35.3051,2,35.3098,2,210,2,210.4,2,3.12,2,6.69,2,0.66,2,2109.9,2,2319.1,2,-999,9,-999,1,-999,-999,1,-999,1
  740H20180228, A09.5,119,1,6,6410,2,20180404,1455,-23.9594,12.6503,1916,50.9,15.0618,35.3375,2,35.3456,2,212,2,-999,9,-999,9,-999,9,-999,9,-999,9,-999,9,-999,9,-999,9,-999,-999,9,-999,9
  740H20180228, A09.5,119,1,5,6409,2,20180404,1455,-23.9594,12.6503,1916,51.5,15.1261,35.3462,2,35.3489,2,210.9,2,212.9,2,3.44,2,6.62,2,0.6,2,2111.1,2,2322.3,2,-999,1,-999,1,-999,-999,1,-999,1
  740H20180228, A09.5,119,1,4,6408,2,20180404,1455,-23.9594,12.6503,1916,102,13.1608,35.1031,2,35.108,2,220.1,2,-999,9,-999,9,-999,9,-999,9,-999,9,-999,9,-999,9,-999,9,-999,-999,9,-999,9
  740H20180228, A09.5,119,1,3,6407,2,20180404,1455,-23.9594,12.6503,1916,102.4,13.2219,35.1077,2,35.106,2,220.9,2,220.9,2,3.47,2,8.4,2,0.7,2,2117.1,6,2309.9,6,-999,9,-999,1,-999,-999,1,-999,1
  740H20180228, A09.5,119,1,2,1077,2,20180404,1455,-23.9594,12.6503,1916,119.5,12.7804,35.0695,2,35.0733,2,206.2,2,207.9,2,4.73,2,11.36,2,0.87,2,2133.8,2,2309.5,2,-999,9,-999,1,-999,-999,1,-999,1
  740H20180228, A09.5,119,1,1,5977,2,20180404,1455,-23.9594,12.6503,1916,176.9,11.6796,35.0023,2,35.0037,2,139.9,2,140.6,2,9.02,2,21.11,2,1.44,2,2182.4,2,2301.9,2,-999,9,-999,1,-999,-999,1,-999,1
  740H20180228, A09.5,119,1,24,1086,2,20180404,1455,-23.9594,12.6503,1916,292.5,9.7602,34.799,2,34.8024,2,118.6,2,119.2,2,12.93,2,27.07,2,1.83,2,2207.1,6,2293.7,6,-999,9,-999,1,-999,-999,1,-999,1
  740H20180228, A09.5,119,1,23,6427,2,20180404,1455,-23.9594,12.6503,1916,378.2,8.1046,34.6142,2,34.6136,2,145.8,2,146.5,2,15.67,2,28.34,2,1.92,2,2195.4,2,2288.6,2,-999,9,-999,1,-999,-999,1,-999,1
  740H20180228, A09.5,119,1,22,6426,2,20180404,1455,-23.9594,12.6503,1916,540.5,5.8596,34.4495,2,34.4383,2,150.4,2,154.3,2,23.93,2,33.24,2,2.24,2,2214.9,2,2292.7,2,-999,9,-999,1,-999,-999,1,-999,1
  740H20180228, A09.5,119,1,21,6425,2,20180404,1455,-23.9594,12.6503,1916,633.5,5.3328,34.4568,2,34.4553,2,135.4,2,136.1,2,28.3,2,35.57,2,2.38,2,2222.3,6,2291.3,6,-999,9,-999,1,-999,-999,1,-999,1
  740H20180228, A09.5,119,1,20,6428,2,20180404,1455,-23.9594,12.6503,1916,760.3,4.6334,34.4567,2,34.4548,2,140.2,2,139.5,2,34.21,2,36.12,2,2.45,2,2232.7,2,2300.7,2,-999,9,-999,1,-999,-999,1,-999,1
  740H20180228, A09.5,119,1,19,6692,2,20180404,1455,-23.9594,12.6503,1916,885.8,4.0918,34.4689,2,34.4688,2,157.2,2,157.5,2,39.31,2,34.8,2,2.38,2,2227.8,2,2305.3,2,-999,9,-999,1,-999,-999,1,-999,1
  740H20180228, A09.5,119,1,18,1098,2,20180404,1455,-23.9594,12.6503,1916,1011.8,3.7724,34.5199,2,34.5186,2,165.8,2,165.4,2,43.26,2,33.82,2,2.31,2,2226.1,6,2310.2,6,-999,9,-109.2,2,4,0.68,2,-999,1
  740H20180228, A09.5,119,1,17,1122,2,20180404,1455,-23.9594,12.6503,1916,1264.9,3.4426,34.6719,2,34.6728,2,181.2,2,181.8,2,46.11,2,30.68,2,2.1,2,2219.6,2,2319.4,2,-999,9,-999,1,-999,-999,1,-999,1
  740H20180228, A09.5,119,1,16,6420,2,20180404,1455,-23.9594,12.6503,1916,1518.9,3.4282,34.809,2,34.8067,2,197,2,197.4,2,39.9,2,27.24,2,1.85,2,2211.5,6,2324.5,6,-999,9,-999,1,-999,-999,1,-999,1
  740H20180228, A09.5,119,1,15,6419,2,20180404,1455,-23.9594,12.6503,1916,1772.1,3.3594,34.878,2,34.8767,2,211.1,2,210.8,2,35.98,2,24.94,2,1.68,2,2196.1,2,2320.2,2,-999,9,-999,1,-999,-999,1,-999,1
  740H20180228, A09.5,119,1,13,6417,2,20180404,1455,-23.9594,12.6503,1916,1926.5,3.2543,34.8948,2,34.8924,2,217.4,2,217.7,2,36.49,2,24.11,2,1.62,2,2198,6,2326.5,6,-999,9,-999,1,-999,-999,1,-999,1
  740H20180228, A09.5,119,1,14,6418,2,20180404,1455,-23.9594,12.6503,1916,1927.9,3.2523,34.8949,2,34.8937,2,217.6,2,-999,9,-999,9,-999,9,-999,9,-999,9,-999,9,-999,9,-999,9,-999,-999,9,-999,9
  740H20180228, A09.5,120,1,12,6416,2,20180404,1846,-23.9999,12.5005,2235,6.4,19.2687,35.2195,2,35.221,2,248.4,2,248,2,0.74,2,0.4,2,0.41,2,2055.8,2,2326.5,2,-999,9,-999,9,-999,-999,9,-999,1
  740H20180228, A09.5,120,1,10,6414,2,20180404,1846,-23.9999,12.5005,2235,20.7,18.3899,35.1805,2,35.2157,2,248.8,2,238.7,2,0.94,2,1.84,2,0.6,2,2080.2,2,2330.8,2,-999,9,-999,9,-999,-999,9,-999,1
  740H20180228, A09.5,120,1,11,6415,2,20180404,1846,-23.9999,12.5005,2235,20.9,18.4227,35.2082,2,35.21,2,248.3,2,-999,9,0.74,2,1.29,2,0.57,2,-999,9,-999,9,-999,9,-999,9,-999,-999,9,-999,9
  740H20180228, A09.5,120,1,9,6413,2,20180404,1846,-23.9999,12.5005,2235,50.7,15.5795,35.4081,2,35.4025,2,208.7,2,-999,9,3.77,2,5.89,2,0.52,2,-999,9,-999,9,-999,9,-999,9,-999,-999,9,-999,9
  740H20180228, A09.5,120,1,8,6412,2,20180404,1846,-23.9999,12.5005,2235,50.8,15.5064,35.4044,2,35.4003,2,209.4,2,207.9,2,3.75,2,5.94,2,0.51,2,2105.2,6,2322.7,6,-999,9,-999,9,-999,-999,9,-999,1
  740H20180228, A09.5,120,1,7,6411,2,20180404,1846,-23.9999,12.5005,2235,102.3,13.2194,35.0948,2,35.094,2,187.7,2,186.3,2,5.76,2,14.32,2,1.03,2,2143.5,2,2306.1,2,-999,9,-999,9,-999,-999,9,-999,1
  740H20180228, A09.5,120,1,5,6409,2,20180404,1846,-23.9999,12.5005,2235,180.2,11.7463,34.9883,2,34.9871,2,141.6,2,144.8,2,10.23,2,21.67,2,1.47,2,2183.4,6,2301.2,6,-999,9,-999,9,-999,-999,9,-999,1
  740H20180228, A09.5,120,1,6,6410,2,20180404,1846,-23.9999,12.5005,2235,181,11.752,34.9876,2,34.9887,2,141.9,2,-999,9,10.19,2,21.65,2,1.46,2,-999,9,-999,9,-999,9,-999,9,-999,-999,9,-999,9
  740H20180228, A09.5,120,1,4,6408,2,20180404,1846,-23.9999,12.5005,2235,256.7,10.1093,34.7937,2,34.798,2,198.3,2,194.9,2,7.72,4,18.28,4,1.26,4,2154.1,2,2297.4,2,-999,9,-999,9,-999,-999,9,-999,1
  740H20180228, A09.5,120,1,3,6407,2,20180404,1846,-23.9999,12.5005,2235,381.9,8.0657,34.6178,2,34.6133,2,147.6,2,-999,9,15.83,2,29.35,2,1.95,2,-999,9,-999,9,-999,9,-999,9,-999,-999,9,-999,9
  740H20180228, A09.5,120,1,2,1077,2,20180404,1846,-23.9999,12.5005,2235,382,8.0769,34.6237,2,34.6098,2,148.1,2,149.6,2,15.73,2,29.16,2,1.94,2,2201,6,2292.2,6,-999,9,-999,9,-999,-999,9,-999,1
  740H20180228, A09.5,120,1,1,5977,2,20180404,1846,-23.9999,12.5005,2235,421.6,7.8973,34.6615,2,34.6694,2,77.6,2,74.5,2,19.86,4,35.99,4,2.36,4,2237.8,2,2289.7,2,-999,9,-999,9,-999,-999,9,-999,1
  740H20180228, A09.5,120,1,24,1086,2,20180404,1846,-23.9999,12.5005,2235,508.3,6.3013,34.4804,2,34.4779,2,148.1,2,145.8,3,21.28,3,32.56,4,2.18,4,2206.3,6,2289.1,6,-999,9,-999,9,-999,-999,9,-999,1
  740H20180228, A09.5,120,1,23,6427,2,20180404,1846,-23.9999,12.5005,2235,632.8,5.1699,34.4369,2,34.44,2,147.2,2,143.8,2,28.57,2,34.93,2,2.34,2,2221.5,2,2296.2,2,-999,9,-999,9,-999,-999,9,-999,1
  740H20180228, A09.5,120,1,21,6425,2,20180404,1846,-23.9999,12.5005,2235,759.6,4.4885,34.4495,2,34.4471,2,147,2,147.9,2,34.7,2,35.74,2,2.41,2,2217.2,2,2297.4,2,-999,9,-999,9,-999,-999,9,-999,1
  740H20180228, A09.5,120,1,22,6426,2,20180404,1846,-23.9999,12.5005,2235,759.9,4.4948,34.4481,2,34.4484,2,148.5,2,-999,9,34.94,2,35.61,2,2.41,2,-999,9,-999,9,-999,9,-999,9,-999,-999,9,-999,1
  740H20180228, A09.5,120,1,20,6428,2,20180404,1846,-23.9999,12.5005,2235,885.9,3.9986,34.4682,2,34.4658,2,161.9,2,156.3,2,39.91,2,34.72,2,2.36,2,2225.5,2,2307,2,-999,9,-999,9,-999,-999,9,-999,1
  740H20180228, A09.5,120,1,19,6692,2,20180404,1846,-23.9999,12.5005,2235,1013,3.7123,34.5308,2,34.5282,2,167.4,2,166.4,2,43.22,2,33.81,2,2.31,2,2219.6,6,2310.5,6,-999,9,-999,9,-999,-999,9,-999,1
  740H20180228, A09.5,120,1,18,1098,2,20180404,1846,-23.9999,12.5005,2235,1264.7,3.5104,34.6816,2,34.6793,2,180.2,2,179.4,2,42.92,2,30.82,2,2.1,2,2207.4,2,2314.4,2,-999,9,-999,9,-999,-999,9,-999,1
  740H20180228, A09.5,120,1,17,1122,2,20180404,1846,-23.9999,12.5005,2235,1519,3.4233,34.7999,2,34.7998,2,198.9,2,198.5,2,38.69,2,27.56,2,1.86,2,2207.3,2,2326,2,-999,9,-999,9,-999,-999,9,-999,1
  740H20180228, A09.5,120,1,16,6420,2,20180404,1846,-23.9999,12.5005,2235,1772.8,3.3302,34.8707,2,34.8684,2,212.5,2,211.8,2,36.11,2,25.19,2,1.71,2,2196.1,6,2323.6,6,-999,9,-999,9,-999,-999,9,-999,1
  740H20180228, A09.5,120,1,15,6419,2,20180404,1846,-23.9999,12.5005,2235,2026.6,3.1861,34.8992,2,34.8975,2,222,2,220.9,2,36.32,2,23.92,2,1.63,2,2194.5,2,2328,2,-999,9,-999,9,-999,-999,9,-999,1
  740H20180228, A09.5,120,1,14,6418,2,20180404,1846,-23.9999,12.5005,2235,2250.9,3.04,34.9041,2,34.9025,2,221.7,2,-999,9,41.33,2,23.6,2,1.62,2,-999,9,-999,9,-999,9,-999,9,-999,-999,9,-999,9
  740H20180228, A09.5,120,1,13,6417,2,20180404,1846,-23.9999,12.5005,2235,2251.1,3.0397,34.9039,2,34.9022,2,221.8,2,220.5,2,41.22,2,23.59,2,1.62,2,2197.9,6,2331.9,6,-999,9,-999,9,-999,-999,9,-999,1
  740H20180228, A09.5,121,1,12,6416,2,20180405,39,-23.9995,11.8664,3035,7.3,20.2141,35.2937,2,-999,9,231.4,2,-999,9,-999,9,-999,9,-999,9,-999,9,-999,9,-999,9,-999,9,-999,-999,9,-999,9
  740H20180228, A09.5,121,1,11,6415,2,20180405,39,-23.9995,11.8664,3035,7.4,20.2152,35.2941,2,35.2971,2,232.5,2,232.4,2,0.9,2,0.18,2,0.26,2,2053.9,2,2327.4,2,-999,9,-999,9,-999,-999,9,-999,1
  740H20180228, A09.5,121,1,9,6413,2,20180405,39,-23.9995,11.8664,3035,45,18.6098,35.2644,2,35.2677,2,230.5,2,231.5,2,1.68,2,1.29,2,0.37,2,2075.1,2,2329.5,2,-999,9,-999,9,-999,-999,9,-999,1
  740H20180228, A09.5,121,1,10,6414,2,20180405,39,-23.9995,11.8664,3035,45.5,18.5311,35.2648,2,-999,9,230.5,2,-999,9,-999,9,-999,9,-999,9,-999,9,-999,9,-999,9,-999,9,-999,-999,9,-999,9
  740H20180228, A09.5,121,1,8,6412,2,20180405,39,-23.9995,11.8664,3035,71.1,15.052,35.299,2,35.2778,2,205.3,2,206.2,2,3.83,2,8.95,2,0.72,2,2115.6,2,2314.8,2,-999,9,-999,9,-999,-999,9,-999,1
  740H20180228, A09.5,121,1,7,6411,2,20180405,39,-23.9995,11.8664,3035,101.8,13.7426,35.1811,2,35.1799,2,219.3,2,220.1,2,3.54,2,7.84,2,0.64,2,2115.1,6,2320,6,-999,9,-999,9,-999,-999,9,-999,1
  740H20180228, A09.5,121,1,6,6410,2,20180405,39,-23.9995,11.8664,3035,102.3,13.7365,35.1798,2,-999,9,218.5,2,-999,9,-999,9,-999,9,-999,9,-999,9,-999,9,-999,9,-999,9,-999,-999,9,-999,9
  740H20180228, A09.5,121,1,5,6409,2,20180405,39,-23.9995,11.8664,3035,177,11.988,35.035,2,35.0384,2,160.6,2,151.3,2,7.88,2,19.5,2,1.33,2,2173.2,6,2303.6,6,-999,9,-999,9,-999,-999,9,-999,1
  740H20180228, A09.5,121,1,4,6408,2,20180405,39,-23.9995,11.8664,3035,253.2,10.6492,34.8991,2,34.8989,2,127.8,2,130.7,2,10.76,2,24.37,2,1.63,2,2191.4,2,2294.7,2,-999,9,-999,9,-999,-999,9,-999,1
  740H20180228, A09.5,121,1,3,6407,2,20180405,39,-23.9995,11.8664,3035,378.9,8.3703,34.6557,2,34.6572,2,120.1,2,123.3,2,16.12,2,30.38,2,2.02,2,2214.2,2,2292.7,2,-999,9,-999,9,-999,-999,9,-999,1
  740H20180228, A09.5,121,1,2,1077,2,20180405,39,-23.9995,11.8664,3035,503.7,7.0834,34.5819,2,34.5764,2,95,2,94.1,2,21.97,2,36.28,2,2.38,2,2234.1,6,2289.2,6,-999,9,-999,9,-999,-999,9,-999,1
  740H20180228, A09.5,121,1,1,5977,2,20180405,39,-23.9995,11.8664,3035,630.5,5.6734,34.4821,2,34.4796,2,121.3,2,120.8,2,27.21,2,36.67,2,2.43,2,2229.9,2,2295.5,2,-999,9,-999,9,-999,-999,9,-999,1
  740H20180228, A09.5,121,1,24,1086,2,20180405,39,-23.9995,11.8664,3035,755.6,4.8114,34.4519,2,34.4498,2,140.3,2,139.1,2,32.8,2,36.2,2,2.43,2,2223.4,2,2294.5,2,-999,9,-999,9,-999,-999,9,-999,1
  740H20180228, A09.5,121,1,23,6427,2,20180405,39,-23.9995,11.8664,3035,883.3,4.1214,34.4656,2,34.4648,2,155.8,2,155.9,2,38.81,2,35.31,2,2.38,2,2227.3,2,2307.4,2,-999,9,-999,9,-999,-999,9,-999,1
  740H20180228, A09.5,121,1,22,6426,2,20180405,39,-23.9995,11.8664,3035,1008.8,3.7067,34.5172,2,34.5195,2,168.3,2,167.9,2,43.51,2,33.94,2,2.29,2,2221.3,6,2311.5,6,-999,9,-999,9,-999,-999,9,-999,1
  740H20180228, A09.5,121,1,21,6425,2,20180405,39,-23.9995,11.8664,3035,1261.1,3.465,34.6626,2,34.6619,2,179.5,2,179.4,2,44.7,2,31.2,2,2.12,2,2224.1,2,2321.3,2,-999,9,-999,9,-999,-999,9,-999,1
  740H20180228, A09.5,121,1,20,6428,2,20180405,39,-23.9995,11.8664,3035,1516.4,3.395,34.7893,2,34.7849,2,196.7,2,196,2,40.18,2,27.88,2,1.88,2,2204.2,6,2323.5,6,-999,9,-999,9,-999,-999,9,-999,1
  740H20180228, A09.5,121,1,19,6692,2,20180405,39,-23.9995,11.8664,3035,1769.2,3.3702,34.8716,2,34.869,2,213.4,2,212.9,2,34.49,2,25.08,2,1.68,2,2193.3,2,2318.1,2,-999,9,-999,9,-999,-999,9,-999,1
  740H20180228, A09.5,121,1,18,1098,2,20180405,39,-23.9995,11.8664,3035,2023.2,3.2228,34.8957,2,34.8938,2,223.4,2,222.1,2,34.57,2,23.81,2,1.59,2,2192.6,2,2328.9,2,-999,9,-999,9,-999,-999,9,-999,1
  740H20180228, A09.5,121,1,17,1122,2,20180405,39,-23.9995,11.8664,3035,2276.8,3.0355,34.9012,2,34.901,2,227.3,2,226.4,2,37.46,2,23.35,2,1.57,2,2190.3,6,2328.6,6,-999,9,-999,9,-999,-999,9,-999,1
  740H20180228, A09.5,121,1,16,6420,2,20180405,39,-23.9995,11.8664,3035,2530.9,2.8354,34.8955,2,34.8936,2,230.5,2,230.7,2,41.53,2,23.27,2,1.57,2,2193.2,2,2334.2,2,-999,9,-999,9,-999,-999,9,-999,1
  740H20180228, A09.5,121,1,15,6419,2,20180405,39,-23.9995,11.8664,3035,2787.1,2.655,34.8854,2,34.8844,2,233.3,2,234.1,2,44.81,2,23.37,2,1.57,2,2198.4,2,2340.5,2,-999,9,-999,9,-999,-999,9,-999,1
  740H20180228, A09.5,121,1,13,6417,2,20180405,39,-23.9995,11.8664,3035,3066.3,2.541,34.88,2,34.8788,2,229.9,2,229.5,2,50.08,2,23.84,2,1.62,2,2203.2,6,2344.8,6,-999,9,-999,9,-999,-999,9,-999,1
  740H20180228, A09.5,121,1,14,6418,2,20180405,39,-23.9995,11.8664,3035,3067.5,2.5406,34.8801,2,-999,9,229.5,2,-999,9,-999,9,-999,9,-999,9,-999,9,-999,9,-999,9,-999,9,-999,-999,9,-999,9