BOTTLE,20190321PRINUNIVRMK,,,,,,,,,,,,,,,,,,,,,,,,,,,,,,,,,,,,,,,
EXPOCODE,SECT_ID,STNNBR,CASTNO,SAMPNO,BTLNBR,BTLNBR_FLAG_W,DATE,TIME,LATITUDE,LONGITUDE,DEPTH,CTDPRS,CTDTMP,CTDSAL,CTDSAL_FLAG_W,SALNTY,SALNTY_FLAG_W,CTDOXY,CTDOXY_FLAG_W,OXYGEN,OXYGEN_FLAG_W,SILCAT,SILCAT_FLAG_W,NITRAT,NITRAT_FLAG_W,PHSPHT,PHSPHT_FLAG_W,TCARBN,TCARBN_FLAG_W,ALKALI,ALKALI_FLAG_W,CHLORA,CHLORA_FLAG_W,DELC14,DELC14_FLAG_W,C14ERR,DELC13,DELC13_FLAG_W,DELO18,DELO18_FLAG_W
,,,,,,,,,,,METERS,DBAR,ITS-90,PSS-78,,PSS-78,,UMOL/KG,,UMOL/KG,,UMOL/KG,,UMOL/KG,,UMOL/KG,,UMOL/KG,,UMOL/KG,,UG/KG,,/MILLE,,/MILLE,/MILLE,,/MILLE,
  740H20180228, A09.5,77,1,24,1086,2,20180323,351,-23.9999,-5.6004,4972,6.3,24.0454,36.2481,2,36.2475,2,213.4,2,214.1,2,1.43,2,0.26,2,0.18,2,2092,2,2382.3,2,-999,9,-999,9,-999,-999,9,-999,1
  740H20180228, A09.5,77,1,23,6427,2,20180323,351,-23.9999,-5.6004,4972,51.2,22.0139,36.0542,2,36.0639,2,233.7,2,234.6,2,1.47,2,0.25,2,0.17,2,2088.4,6,2370.2,6,-999,9,-999,9,-999,-999,9,-999,1
  740H20180228, A09.5,77,1,22,6426,2,20180323,351,-23.9999,-5.6004,4972,71.7,20.5459,36.0275,2,36.0321,2,240.3,2,240.5,2,1.47,2,0.23,2,0.17,2,2086.5,2,2369.3,2,-999,9,-999,9,-999,-999,9,-999,1
  740H20180228, A09.5,77,1,21,6425,2,20180323,351,-23.9999,-5.6004,4972,101.3,18.741,35.8936,2,35.9074,2,238.3,2,238.4,2,1.55,2,0.24,2,0.19,2,2085.8,2,2360.1,2,-999,9,-999,9,-999,-999,9,-999,1
  740H20180228, A09.5,77,1,20,6428,2,20180323,351,-23.9999,-5.6004,4972,176.5,16.1151,35.5064,2,35.5125,2,217.1,2,217.9,2,2.5,2,4,2,0.43,2,2102.8,6,2332.6,6,-999,9,-999,9,-999,-999,9,-999,1
  740H20180228, A09.5,77,1,19,6692,2,20180323,351,-23.9999,-5.6004,4972,254.5,13.645,35.1903,2,35.1938,2,202.6,2,203.3,2,3.85,2,9.63,2,0.76,2,2126.9,2,2314.6,2,-999,9,-999,9,-999,-999,9,-999,1
  740H20180228, A09.5,77,1,18,1098,2,20180323,351,-23.9999,-5.6004,4972,378.6,10.9964,34.9123,2,34.917,2,198.9,2,198.8,2,6.42,2,16,2,1.15,2,2146.2,6,2302,6,-999,9,-999,9,-999,-999,9,-999,1
  740H20180228, A09.5,77,1,17,1122,2,20180323,351,-23.9999,-5.6004,4972,515,8.1654,34.6081,2,34.6098,2,171.9,2,171.5,2,14.13,2,25.75,2,1.77,2,2184.5,2,2292.9,2,-999,9,-999,9,-999,-999,9,-999,1
  740H20180228, A09.5,77,1,16,6420,2,20180323,351,-23.9999,-5.6004,4972,631.8,5.9315,34.415,2,34.411,2,183.5,2,183.8,2,21.06,2,30.09,2,2.04,2,2192.8,2,2289.9,2,-999,9,-999,9,-999,-999,9,-999,1
  740H20180228, A09.5,77,1,15,6419,2,20180323,351,-23.9999,-5.6004,4972,757.1,4.5627,34.3794,2,34.3805,2,185.1,2,185.6,2,31.98,2,32.48,2,2.21,2,2207.9,2,2298.1,2,-999,9,-999,9,-999,-999,9,-999,1
  740H20180228, A09.5,77,1,14,6418,2,20180323,351,-23.9999,-5.6004,4972,883.4,3.874,34.4318,2,34.4313,2,179.6,2,180.3,2,41.19,2,33.47,2,2.27,2,2216.4,2,2305.8,2,-999,9,-999,9,-999,-999,9,-999,1
  740H20180228, A09.5,77,1,13,6417,2,20180323,351,-23.9999,-5.6004,4972,969.4,3.7145,34.4895,2,34.4892,2,178.6,2,179.1,2,42.04,2,33.12,2,2.24,2,2221.2,2,2310.6,2,-999,9,-999,9,-999,-999,9,-999,1
  740H20180228, A09.5,77,1,12,6416,2,20180323,351,-23.9999,-5.6004,4972,1009.6,3.6869,34.5255,2,34.5248,2,179.9,2,179.3,2,41.39,2,32.54,2,2.19,2,2220.1,6,2311.3,6,-999,9,-999,9,-999,-999,9,-999,1
  740H20180228, A09.5,77,1,11,6415,2,20180323,351,-23.9999,-5.6004,4972,1263.2,3.5823,34.6866,2,34.6893,2,191.7,2,192,2,39.05,2,29.36,2,1.97,2,2214.5,2,2315.1,2,-999,9,-999,9,-999,-999,9,-999,1
  740H20180228, A09.5,77,1,10,6414,2,20180323,351,-23.9999,-5.6004,4972,1515.9,3.3976,34.812,2,34.8106,2,212.6,2,211.7,2,36.36,2,25.9,2,1.74,2,2200.6,6,2316.6,6,-999,9,-999,9,-999,-999,9,-999,1
  740H20180228, A09.5,77,1,9,6413,2,20180323,351,-23.9999,-5.6004,4972,1769.4,3.2187,34.8686,2,34.8682,2,227.3,2,228.1,2,34.83,2,23.75,2,1.59,2,2190.5,2,2322.9,2,-999,9,-999,9,-999,-999,9,-999,1
  740H20180228, A09.5,77,1,8,6412,2,20180323,351,-23.9999,-5.6004,4972,2022.7,2.9403,34.8824,2,34.8821,2,235,2,235.8,2,37.71,2,23.05,2,1.55,2,2190.1,2,-999,9,-999,9,-999,9,-999,-999,9,-999,1
  740H20180228, A09.5,77,1,7,6411,2,20180323,351,-23.9999,-5.6004,4972,2276.6,2.6968,34.8739,2,34.8726,2,236.3,2,236.7,2,42.88,2,23.26,2,1.57,2,2191.1,2,2330.9,2,-999,9,-999,9,-999,-999,9,-999,1
  740H20180228, A09.5,77,1,6,6410,2,20180323,351,-23.9999,-5.6004,4972,2530.7,2.5339,34.8695,2,34.8726,2,237.6,2,238,2,46.67,2,23.44,2,1.59,2,2198.9,2,-999,9,-999,9,-999,9,-999,-999,9,-999,1
  740H20180228, A09.5,77,1,5,6409,2,20180323,351,-23.9999,-5.6004,4972,3040.3,2.412,34.8738,2,34.8734,2,238.7,2,239.6,2,49.65,2,23.38,2,1.58,2,2199.7,6,2339.8,6,-999,9,-999,9,-999,-999,9,-999,1
  740H20180228, A09.5,77,1,4,6408,2,20180323,351,-23.9999,-5.6004,4972,3551.6,2.36,34.8824,2,34.8813,2,235.4,2,236,2,51.9,2,23.51,2,1.58,2,2210.5,2,2351.8,2,-999,9,-999,9,-999,-999,9,-999,1
  740H20180228, A09.5,77,1,3,6407,2,20180323,351,-23.9999,-5.6004,4972,4064.5,2.3686,34.8849,2,34.8866,2,233.8,2,234.2,2,52.86,2,23.49,2,1.58,2,2211.6,2,2356.2,2,-999,9,-999,9,-999,-999,9,-999,1
  740H20180228, A09.5,77,1,2,6406,2,20180323,351,-23.9999,-5.6004,4972,4577.2,2.4152,34.8845,2,34.8869,2,233.4,2,233.5,2,53.19,2,23.54,2,1.57,2,2214.9,2,2358,2,-999,9,-999,9,-999,-999,9,-999,1
  740H20180228, A09.5,77,1,1,5977,2,20180323,351,-23.9999,-5.6004,4972,5053.4,2.4731,34.8839,2,34.8838,2,232.9,2,233.6,2,52.79,2,23.63,2,1.57,2,2215.2,6,2359,6,-999,9,-999,9,-999,-999,9,-999,1
  740H20180228, A09.5,78,1,24,1086,2,20180323,1041,-23.9998,-5.1003,5244,7,24.0036,36.2694,2,36.27,2,214.4,2,214.8,2,1.49,2,0.21,2,0.16,2,2095.8,2,2383.1,2,-999,9,-999,9,-999,-999,9,-999,1
  740H20180228, A09.5,78,1,23,6427,2,20180323,1041,-23.9998,-5.1003,5244,49.4,21.5024,35.9459,2,35.9197,2,238.1,2,239.7,2,1.55,2,0.2,2,0.14,2,2081.2,2,2359.5,2,-999,9,-999,9,-999,-999,9,-999,1
  740H20180228, A09.5,78,1,22,6426,2,20180323,1041,-23.9998,-5.1003,5244,72.6,19.7441,35.8645,2,35.863,2,245.1,2,244.4,2,1.59,2,0.19,2,0.14,2,2080.9,6,2356.9,6,-999,9,-999,9,-999,-999,9,-999,1
  740H20180228, A09.5,78,1,21,6425,2,20180323,1041,-23.9998,-5.1003,5244,123.1,17.411,35.6833,2,35.6878,2,237,2,237.3,2,1.85,2,0.24,2,0.18,2,2089.2,6,2344.8,6,-999,9,-999,9,-999,-999,9,-999,1
  740H20180228, A09.5,78,1,20,6428,2,20180323,1041,-23.9998,-5.1003,5244,182.9,15.8295,35.4534,2,35.4382,2,219.1,2,218.3,2,2.67,2,4.6,2,0.41,2,2103.3,2,2327.2,2,-999,9,-999,9,-999,-999,9,-999,1
  740H20180228, A09.5,78,1,19,6692,2,20180323,1041,-23.9998,-5.1003,5244,253.1,13.37,35.1471,2,35.1459,2,203.5,2,203.4,2,4.19,2,10.46,2,0.76,2,2134.3,2,2313,2,-999,9,-999,9,-999,-999,9,-999,1
  740H20180228, A09.5,78,1,18,1098,2,20180323,1041,-23.9998,-5.1003,5244,378.8,10.6186,34.8686,2,34.8642,2,193.6,2,193.9,2,7.38,2,17.44,2,1.18,2,2155.4,2,2299.4,2,-999,9,-999,9,-999,-999,9,-999,1
  740H20180228, A09.5,78,1,17,1122,2,20180323,1041,-23.9998,-5.1003,5244,510.5,8.1276,34.6037,2,34.6042,2,172,2,172.2,2,14.2,2,25.74,2,1.71,2,2188,6,2291.9,6,-999,9,-999,9,-999,-999,9,-999,1
  740H20180228, A09.5,78,1,16,6420,2,20180323,1041,-23.9998,-5.1003,5244,635.5,5.6234,34.3886,2,34.3901,2,191.8,2,192.4,2,21.76,2,29.84,2,1.97,2,2195.3,2,2288.6,2,-999,9,-999,9,-999,-999,9,-999,1
  740H20180228, A09.5,78,1,15,6419,2,20180323,1041,-23.9998,-5.1003,5244,762.2,4.6303,34.3822,2,34.3832,2,181.1,2,181.6,2,31.24,2,32.64,2,2.18,2,2205.3,2,2295.9,2,-999,9,-999,9,-999,-999,9,-999,1
  740H20180228, A09.5,78,1,14,6418,2,20180323,1041,-23.9998,-5.1003,5244,888.5,3.9639,34.4191,2,34.418,2,179.7,2,180.6,2,39.67,2,33.39,2,2.23,2,2220.3,2,2306.9,2,-999,9,-999,9,-999,-999,9,-999,1
  740H20180228, A09.5,78,1,13,6417,2,20180323,1041,-23.9998,-5.1003,5244,1014.5,3.6855,34.5035,2,34.6799,4,179.1,2,179.6,2,42.52,2,32.89,2,2.21,2,2221.5,6,2311.4,6,-999,9,-999,9,-999,-999,9,-999,1
  740H20180228, A09.5,78,1,12,6416,2,20180323,1041,-23.9998,-5.1003,5244,1267.8,3.5526,34.6803,2,34.6817,2,191.7,2,191.7,2,40.29,2,29.66,2,1.98,2,2211.4,2,2316.6,2,-999,9,-999,9,-999,-999,9,-999,1
  740H20180228, A09.5,78,1,11,6415,2,20180323,1041,-23.9998,-5.1003,5244,1520.8,3.2922,34.7837,2,34.5076,4,208.3,2,209.6,2,40.77,2,26.95,2,1.8,2,2203,6,2321.1,6,-999,9,-999,9,-999,-999,9,-999,1
  740H20180228, A09.5,78,1,10,6414,2,20180323,1041,-23.9998,-5.1003,5244,1768.1,3.125,34.8446,2,34.8417,2,223.1,2,223.4,2,39.71,2,24.85,2,1.66,2,2198,2,2323.6,2,-999,9,-999,9,-999,-999,9,-999,1
  740H20180228, A09.5,78,1,9,6413,2,20180323,1041,-23.9998,-5.1003,5244,2022.1,2.7451,34.8451,2,34.8438,2,227.2,2,227.9,2,46.12,2,24.7,2,1.65,2,2198.9,2,2329.5,2,-999,9,-999,9,-999,-999,9,-999,1
  740H20180228, A09.5,78,1,8,6412,2,20180323,1041,-23.9998,-5.1003,5244,2276.8,2.6255,34.8633,2,34.862,2,234.2,2,234.9,2,46.24,2,23.92,2,1.59,2,2197.8,2,2330.6,2,-999,9,-999,9,-999,-999,9,-999,1
  740H20180228, A09.5,78,1,7,6411,2,20180323,1041,-23.9998,-5.1003,5244,2530.7,2.5247,34.8684,2,34.8703,2,237.1,2,237.8,2,47.67,2,23.65,2,1.57,2,2194.9,2,2332.8,2,-999,9,-999,9,-999,-999,9,-999,1
  740H20180228, A09.5,78,1,6,6410,2,20180323,1041,-23.9998,-5.1003,5244,2785.9,2.4548,34.8721,2,34.8724,2,239.2,2,239.7,2,49.03,2,23.51,2,1.56,2,2197.9,2,2338.2,2,-999,9,-999,9,-999,-999,9,-999,1
  740H20180228, A09.5,78,1,5,6409,2,20180323,1041,-23.9998,-5.1003,5244,3293.5,2.3755,34.8781,2,34.8782,2,237,2,237.7,2,51.55,2,23.56,2,1.55,2,2204.1,6,2343.7,6,-999,9,-999,9,-999,-999,9,-999,1
  740H20180228, A09.5,78,1,4,6408,2,20180323,1041,-23.9998,-5.1003,5244,3806.2,2.3625,34.8842,2,34.8859,2,234,2,234,2,53.03,2,23.65,2,1.55,2,2210.2,2,2359.1,2,-999,9,-999,9,-999,-999,9,-999,1
  740H20180228, A09.5,78,1,3,6407,2,20180323,1041,-23.9998,-5.1003,5244,4321.6,2.3879,34.8847,2,34.887,2,233.4,2,233.9,2,53.63,2,23.57,2,1.54,2,2217.5,2,2356.7,2,-999,9,-999,9,-999,-999,9,-999,1
  740H20180228, A09.5,78,1,2,6406,2,20180323,1041,-23.9998,-5.1003,5244,4842.6,2.4446,34.8843,2,34.893,2,233.2,2,233.6,2,53.59,2,23.62,2,1.53,2,2213.8,2,2357.8,2,-999,9,-999,9,-999,-999,9,-999,1
  740H20180228, A09.5,78,1,1,5977,2,20180323,1041,-23.9998,-5.1003,5244,5330.5,2.5038,34.8836,2,34.8838,2,232.4,2,233.6,2,53.14,2,23.69,2,1.53,2,2215.7,6,2359.2,6,-999,9,-999,9,-999,-999,9,-999,1
  740H20180228, A09.5,79,1,24,1086,2,20180323,1731,-23.9999,-4.6017,5435,6.6,23.9427,36.3137,2,36.3145,2,214.9,2,214.7,2,1.41,2,0.23,2,0.17,2,2094.3,2,2385.6,2,-999,9,-999,1,-999,-999,1,-999,1
  740H20180228, A09.5,79,1,23,6427,2,20180323,1731,-23.9999,-4.6017,5435,51.6,21.2915,36.0726,2,36.0796,2,239.1,2,238.7,2,1.51,2,0.19,2,0.15,2,2080.4,2,2371.2,2,-999,9,-999,1,-999,-999,1,-999,1
  740H20180228, A09.5,79,1,22,6426,2,20180323,1731,-23.9999,-4.6017,5435,72.1,20.0685,35.9865,2,35.9944,2,242.5,2,-999,5,1.52,2,0.2,2,0.14,2,2086.1,2,2365.2,2,-999,1,-999,1,-999,-999,1,-999,1
  740H20180228, A09.5,79,1,21,6425,2,20180323,1731,-23.9999,-4.6017,5435,127,18.24,35.842,2,35.8579,2,230.8,2,230.8,2,1.61,2,0.24,2,0.17,2,2091.8,6,2355.8,6,-999,1,-999,1,-999,-999,1,-999,1
  740H20180228, A09.5,79,1,20,6428,2,20180323,1731,-23.9999,-4.6017,5435,177.5,16.0599,35.4968,2,35.5125,2,215.4,2,215.5,2,2.45,2,4.18,2,0.38,2,2098.3,2,2332.8,2,-999,9,-999,1,-999,-999,1,-999,1
  740H20180228, A09.5,79,1,19,6692,2,20180323,1731,-23.9999,-4.6017,5435,252.7,13.7552,35.1917,2,35.1955,2,204,2,203.6,2,3.73,2,9.45,2,0.69,2,2129.3,2,2313.3,2,-999,9,-999,1,-999,-999,1,-999,1
  740H20180228, A09.5,79,1,18,1098,2,20180323,1731,-23.9999,-4.6017,5435,383.3,11.0643,34.9192,2,34.9162,2,197.1,2,196.4,2,6.4,2,16.29,2,1.09,2,2143.2,2,2301.4,2,-999,9,41.6,2,4,0.73,2,-999,1
  740H20180228, A09.5,79,1,17,1122,2,20180323,1731,-23.9999,-4.6017,5435,509.2,8.3054,34.6148,2,34.6127,2,179.7,2,179.4,2,12.88,2,24.49,2,1.62,2,2180.9,6,2289.9,6,-999,9,-999,1,-999,-999,1,-999,1
  740H20180228, A09.5,79,1,16,6420,2,20180323,1731,-23.9999,-4.6017,5435,635.8,6.353,34.434,2,34.413,2,190.7,2,193.1,2,18.89,2,28.6,2,1.88,2,2178.3,2,2289.8,2,-999,9,-999,1,-999,-999,1,-999,1
  740H20180228, A09.5,79,1,15,6419,2,20180323,1731,-23.9999,-4.6017,5435,761.8,4.7483,34.3773,2,34.3767,2,183.9,2,183.9,2,29.35,2,32.13,2,2.13,2,2210.7,2,2292.4,2,-999,9,-999,1,-999,-999,1,-999,1
  740H20180228, A09.5,79,1,14,6418,2,20180323,1731,-23.9999,-4.6017,5435,887.6,3.9761,34.4244,2,34.4228,2,176.8,2,176.7,2,39.66,2,33.46,2,2.25,2,2213.7,2,2305.2,2,-999,9,-999,1,-999,-999,1,-999,1
  740H20180228, A09.5,79,1,13,6417,2,20180323,1731,-23.9999,-4.6017,5435,1014.5,3.6894,34.5042,2,34.5067,2,177.3,2,177.6,2,42.22,2,32.93,2,2.22,2,2220.3,6,2310.5,6,-999,9,-999,1,-999,-999,1,-999,1
  740H20180228, A09.5,79,1,12,6416,2,20180323,1731,-23.9999,-4.6017,5435,1267.8,3.5363,34.6647,2,34.6651,2,188.8,2,187.8,2,40.74,2,30.11,2,2.02,2,2219.3,2,2316.5,2,-999,9,-999,1,-999,-999,1,-999,1
  740H20180228, A09.5,79,1,11,6415,2,20180323,1731,-23.9999,-4.6017,5435,1520.3,3.3666,34.773,2,34.772,2,205.3,2,205.6,2,39.51,2,27.28,2,1.82,2,2196.5,6,2319.8,6,-999,9,-999,1,-999,-999,1,-999,1
  740H20180228, A09.5,79,1,10,6414,2,20180323,1731,-23.9999,-4.6017,5435,1775.1,3.0163,34.8259,2,34.823,2,219.6,2,219.7,2,42.62,2,25.48,2,1.7,2,2206.1,2,2326.2,2,-999,9,-999,9,-999,-999,9,-999,1
  740H20180228, A09.5,79,1,9,6413,2,20180323,1731,-23.9999,-4.6017,5435,2028.1,2.7444,34.8457,2,34.8434,2,227.5,2,227.9,2,45.79,2,24.68,2,1.64,2,2193.3,2,2329.4,2,-999,9,-999,1,-999,-999,1,-999,1
  740H20180228, A09.5,79,1,8,6412,2,20180323,1731,-23.9999,-4.6017,5435,2281.9,2.5864,34.8578,2,34.8563,2,233.4,2,233.1,2,47.46,2,24.12,2,1.59,2,2202.8,2,2332.4,2,-999,9,-999,9,-999,-999,9,-999,1
  740H20180228, A09.5,79,1,7,6411,2,20180323,1731,-23.9999,-4.6017,5435,2537,2.5185,34.8692,2,34.8681,2,237.3,2,237.5,2,47.31,2,23.61,2,1.54,2,2189.2,2,2334,2,-999,9,-999,1,-999,-999,1,-999,1
  740H20180228, A09.5,79,1,6,6410,2,20180323,1731,-23.9999,-4.6017,5435,3047.1,2.3946,34.874,2,34.8728,2,238.2,2,238.9,2,49.96,2,23.58,2,1.53,2,2196.9,6,2338.9,6,-999,9,-999,9,-999,-999,9,-999,1
  740H20180228, A09.5,79,1,5,6409,2,20180323,1731,-23.9999,-4.6017,5435,3559.1,2.358,34.8821,2,34.8802,2,234.5,2,234.4,2,51.31,2,23.59,2,1.53,2,2213.2,2,2351.1,2,-999,9,-999,1,-999,-999,1,-999,1
  740H20180228, A09.5,79,1,4,6408,2,20180323,1731,-23.9999,-4.6017,5435,4071.4,2.3692,34.8849,2,34.884,2,233.3,2,233.6,2,52.09,2,23.51,2,1.53,2,2207.5,6,2357.4,6,-999,9,-999,9,-999,-999,9,-999,1
  740H20180228, A09.5,79,1,3,6407,2,20180323,1731,-23.9999,-4.6017,5435,4585.6,2.4139,34.8845,2,34.8842,2,233,2,233.4,2,52.23,2,23.44,2,1.53,2,2220.1,2,2359.3,2,-999,9,-999,1,-999,-999,1,-999,1
  740H20180228, A09.5,79,1,2,6406,2,20180323,1731,-23.9999,-4.6017,5435,5100.3,2.4725,34.8839,2,34.8882,2,232.4,2,232.9,2,52.39,2,23.39,2,1.53,2,2192.3,3,2359.3,2,-999,9,-999,9,-999,-999,9,-999,1
  740H20180228, A09.5,79,1,1,5977,2,20180323,1731,-23.9999,-4.6017,5435,5528,2.5262,34.8833,2,34.8821,2,232.7,2,234,2,52.51,2,23.41,2,1.53,2,2214.8,6,2360.6,6,-999,9,-999,1,-999,-999,1,-999,1
  740H20180228, A09.5,80,1,24,1086,2,20180324,33,-24.0001,-4.1001,5185,4.9,23.8118,36.2926,2,36.2941,2,215.4,2,214.7,2,1.27,2,0.15,2,0.19,2,2093.1,2,2384.8,2,-999,9,-999,9,-999,-999,9,-999,1
  740H20180228, A09.5,80,1,23,6427,2,20180324,33,-24.0001,-4.1001,5185,50.4,20.6974,35.9455,2,35.9585,2,242,2,240.7,2,1.54,2,0.18,2,0.16,2,2083.1,2,2364.1,2,-999,9,-999,9,-999,-999,9,-999,1
  740H20180228, A09.5,80,1,22,6426,2,20180324,33,-24.0001,-4.1001,5185,80.3,19.7246,36.0441,2,36.0427,2,239.8,2,239.6,2,1.5,2,0.14,2,0.16,2,2086.6,2,2367.5,2,-999,9,-999,9,-999,-999,9,-999,1
  740H20180228, A09.5,80,1,21,6425,2,20180324,33,-24.0001,-4.1001,5185,114.9,18.1206,35.8478,2,35.8628,2,228.5,2,230.3,2,1.71,2,0.23,2,0.19,2,2095.1,6,2355.9,6,-999,9,-999,9,-999,-999,9,-999,1
  740H20180228, A09.5,80,1,20,6428,2,20180324,33,-24.0001,-4.1001,5185,177.1,15.7737,35.4525,2,35.4526,2,216.3,2,215.4,2,2.62,2,4.75,2,0.46,2,2106.6,2,2327.4,2,-999,9,-999,9,-999,-999,9,-999,1
  740H20180228, A09.5,80,1,19,6692,2,20180324,33,-24.0001,-4.1001,5185,252.5,13.4358,35.1625,2,35.1611,2,202.1,2,202.8,2,4.13,2,10.38,2,0.79,2,2128.1,2,2312.2,2,-999,9,-999,9,-999,-999,9,-999,1
  740H20180228, A09.5,80,1,18,1098,2,20180324,33,-24.0001,-4.1001,5185,378.5,10.7875,34.8867,2,34.8924,2,194,2,194.4,2,7.02,2,16.91,2,1.19,2,2154.6,2,-999,9,-999,9,-999,9,-999,-999,9,-999,1
  740H20180228, A09.5,80,1,17,1122,2,20180324,33,-24.0001,-4.1001,5185,504.1,8.2146,34.6115,2,34.6293,2,173.4,2,173,2,13.43,2,25,2,1.71,2,2181.2,6,2289.8,6,-999,9,-999,9,-999,-999,9,-999,1
  740H20180228, A09.5,80,1,16,6420,2,20180324,33,-24.0001,-4.1001,5185,630.2,5.9376,34.4157,2,34.4143,2,184.4,2,184.7,2,20.59,2,29.82,2,2.02,2,2194.6,2,2288,2,-999,9,-999,9,-999,-999,9,-999,1
  740H20180228, A09.5,80,1,15,6419,2,20180324,33,-24.0001,-4.1001,5185,757.2,4.686,34.3838,2,34.383,2,181.6,2,181.8,2,29.96,2,32.45,2,2.21,2,2206.5,2,2293.9,2,-999,9,-999,9,-999,-999,9,-999,1
  740H20180228, A09.5,80,1,14,6418,2,20180324,33,-24.0001,-4.1001,5185,883.9,3.9071,34.436,2,34.4372,2,178.8,2,179.1,2,39.62,2,33.17,2,2.28,2,2216.5,6,2300.7,6,-999,9,-999,9,-999,-999,9,-999,1
  740H20180228, A09.5,80,1,13,6417,2,20180324,33,-24.0001,-4.1001,5185,1009.9,3.6405,34.5078,2,34.5078,2,178.2,2,180,2,42.94,2,32.67,2,2.26,2,2224.6,2,2310.7,2,-999,9,-999,9,-999,-999,9,-999,1
  740H20180228, A09.5,80,1,12,6416,2,20180324,33,-24.0001,-4.1001,5185,1261.2,3.5233,34.6757,2,34.6784,2,189.9,2,190.4,2,40.36,2,29.69,2,2.04,2,2219.3,2,2318.3,2,-999,9,-999,9,-999,-999,9,-999,1
  740H20180228, A09.5,80,1,11,6415,2,20180324,33,-24.0001,-4.1001,5185,1515,3.303,34.7908,2,34.7884,2,209.3,2,210.3,2,39.34,2,26.5,2,1.81,2,2202.8,2,-999,9,-999,9,-999,9,-999,-999,9,-999,1
  740H20180228, A09.5,80,1,10,6414,2,20180324,33,-24.0001,-4.1001,5185,1768.8,2.9842,34.8287,2,34.8268,2,220.1,2,221.1,2,42.61,2,25.16,2,1.73,2,2200.5,6,-999,9,-999,9,-999,9,-999,-999,9,-999,1
  740H20180228, A09.5,80,1,9,6413,2,20180324,33,-24.0001,-4.1001,5185,2022.5,2.6923,34.8428,2,34.8446,2,226.5,2,227.1,2,46.79,2,24.62,2,1.7,2,2200.8,2,2328,2,-999,9,-999,9,-999,-999,9,-999,1
  740H20180228, A09.5,80,1,8,6412,2,20180324,33,-24.0001,-4.1001,5185,2276.2,2.5633,34.8573,2,34.8647,2,233,2,234.4,2,47.37,2,23.88,2,1.65,2,2200.4,6,2334.1,6,-999,9,-999,9,-999,-999,9,-999,1
  740H20180228, A09.5,80,1,7,6411,2,20180324,33,-24.0001,-4.1001,5185,2530.4,2.4907,34.8687,2,34.8775,2,237.3,2,237.7,2,47.65,2,23.4,2,1.62,2,2203.7,2,2331.7,2,-999,9,-999,9,-999,-999,9,-999,1
  740H20180228, A09.5,80,1,6,6410,4,20180324,33,-24.0001,-4.1001,5185,2785.4,2.4214,34.8704,2,-999,9,237.9,2,-999,9,-999,5,-999,5,-999,5,-999,9,-999,9,-999,9,-999,9,-999,-999,9,-999,9
  740H20180228, A09.5,80,1,5,6409,2,20180324,33,-24.0001,-4.1001,5185,3294.5,2.3543,34.8801,2,34.8816,2,235.3,2,236.4,2,51.33,2,23.42,2,1.61,2,2211.3,6,2347.3,6,-999,9,-999,9,-999,-999,9,-999,1
  740H20180228, A09.5,80,1,4,6408,2,20180324,33,-24.0001,-4.1001,5185,3807.4,2.3525,34.8841,2,34.8836,2,233.6,2,233.7,2,52.53,2,23.54,2,1.6,2,2211.2,2,2355,2,-999,9,-999,9,-999,-999,9,-999,1
  740H20180228, A09.5,80,1,3,6407,2,20180324,33,-24.0001,-4.1001,5185,4321,2.3865,34.8845,2,34.8835,2,233,2,233.8,2,52.44,2,23.57,2,1.59,2,2220.5,2,2356.9,2,-999,9,-999,9,-999,-999,9,-999,1
  740H20180228, A09.5,80,1,2,6406,2,20180324,33,-24.0001,-4.1001,5185,4834.9,2.4376,34.884,2,34.8839,2,232.9,2,234.1,2,52.5,2,23.57,2,1.59,2,2215.2,2,2357.4,2,-999,9,-999,9,-999,-999,9,-999,1
  740H20180228, A09.5,80,1,1,5977,2,20180324,33,-24.0001,-4.1001,5185,5268.8,2.4893,34.8832,2,34.8831,2,233,2,233.8,2,52.52,2,23.54,2,1.58,2,2218.1,6,2359.1,6,-999,9,-999,9,-999,-999,9,-999,1