BOTTLE,20190321PRINUNIVRMK,,,,,,,,,,,,,,,,,,,,,,,,,,,,,,,,,,,,,,,
EXPOCODE,SECT_ID,STNNBR,CASTNO,SAMPNO,BTLNBR,BTLNBR_FLAG_W,DATE,TIME,LATITUDE,LONGITUDE,DEPTH,CTDPRS,CTDTMP,CTDSAL,CTDSAL_FLAG_W,SALNTY,SALNTY_FLAG_W,CTDOXY,CTDOXY_FLAG_W,OXYGEN,OXYGEN_FLAG_W,SILCAT,SILCAT_FLAG_W,NITRAT,NITRAT_FLAG_W,PHSPHT,PHSPHT_FLAG_W,TCARBN,TCARBN_FLAG_W,ALKALI,ALKALI_FLAG_W,CHLORA,CHLORA_FLAG_W,DELC14,DELC14_FLAG_W,C14ERR,DELC13,DELC13_FLAG_W,DELO18,DELO18_FLAG_W
,,,,,,,,,,,METERS,DBAR,ITS-90,PSS-78,,PSS-78,,UMOL/KG,,UMOL/KG,,UMOL/KG,,UMOL/KG,,UMOL/KG,,UMOL/KG,,UMOL/KG,,UG/KG,,/MILLE,,/MILLE,/MILLE,,/MILLE,
  740H20180228, A09.5,48,1,24,1086,2,20180314,613,-24.0006,-21.3006,5115,5.8,26.926,36.9911,2,36.9898,2,202.7,2,204.3,2,1.23,2,0.19,2,0.15,2,2105.6,2,-999,9,-999,9,-999,9,-999,-999,9,-999,1
  740H20180228, A09.5,48,1,23,6427,2,20180314,613,-24.0006,-21.3006,5115,50,24.1555,36.6919,2,36.6926,2,228.4,2,203.9,3,1.22,2,0.16,2,0.11,2,2098.1,2,-999,9,-999,9,-999,9,-999,-999,9,-999,1
  740H20180228, A09.5,48,1,22,6426,2,20180314,613,-24.0006,-21.3006,5115,76.1,22.2535,36.6192,2,36.6227,2,232.8,2,227,2,1.2,2,0.21,2,0.11,2,2097.4,6,-999,9,-999,9,-999,9,-999,-999,9,-999,1
  740H20180228, A09.5,48,1,21,6425,2,20180314,613,-24.0006,-21.3006,5115,101.6,21.3893,36.5588,2,36.561,2,231.4,2,230.8,2,1.18,2,0.19,2,0.11,2,2093.5,2,-999,9,-999,9,-999,9,-999,-999,9,-999,1
  740H20180228, A09.5,48,1,20,6428,2,20180314,613,-24.0006,-21.3006,5115,150.8,20.0339,36.3958,2,36.3982,2,220.3,2,220,2,1.23,2,0.21,2,0.13,2,2107.3,2,-999,9,-999,9,-999,9,-999,-999,9,-999,1
  740H20180228, A09.5,48,1,19,1098,2,20180314,613,-24.0006,-21.3006,5115,251.3,15.8275,35.5586,2,35.5642,2,208.4,2,207.7,2,2.3,2,4.6,2,0.44,2,254.7,4,-999,9,-999,9,-999,9,-999,-999,9,-999,1
  740H20180228, A09.5,48,1,18,6692,2,20180314,613,-24.0006,-21.3006,5115,378.4,12.4709,35.1122,2,35.1189,2,203.7,2,204,2,4.37,2,11.77,2,0.85,2,2134.8,2,2311.7,2,-999,9,-999,9,-999,-999,9,-999,1
  740H20180228, A09.5,48,1,17,1122,2,20180314,613,-24.0006,-21.3006,5115,503.3,9.8214,34.7851,2,34.7791,2,190.8,2,191.9,2,9.09,2,19.56,2,1.34,2,2160.2,6,2297.1,2,-999,9,-999,9,-999,-999,9,-999,1
  740H20180228, A09.5,48,1,16,6420,2,20180314,613,-24.0006,-21.3006,5115,630.4,7.024,34.4982,2,34.4992,2,195.5,2,196,2,15.86,2,25.68,2,1.74,2,2176.8,2,2291.4,2,-999,9,-999,9,-999,-999,9,-999,1
  740H20180228, A09.5,48,1,15,6419,2,20180314,613,-24.0006,-21.3006,5115,753.5,5.2923,34.3821,2,34.3838,2,197.9,2,198.3,2,24.41,2,29.35,2,1.99,2,2188,6,-999,9,-999,9,-999,9,-999,-999,9,-999,1
  740H20180228, A09.5,48,1,14,6418,2,20180314,613,-24.0006,-21.3006,5115,905.2,4.0613,34.4018,2,34.4059,2,190,2,190.8,2,38.11,2,31.28,2,2.18,2,2211.2,2,2306.3,2,-999,9,-999,9,-999,-999,9,-999,1
  740H20180228, A09.5,48,1,13,6417,4,20180314,613,-24.0006,-21.3006,5115,1105.5,3.5608,34.5112,2,-999,9,184.1,2,207.5,4,-999,9,-999,9,-999,9,2122.4,4,-999,9,-999,9,-999,9,-999,-999,9,-999,9
  740H20180228, A09.5,48,1,12,6416,2,20180314,613,-24.0006,-21.3006,5115,1259.2,3.3512,34.6189,2,34.6202,2,189.6,2,189.7,2,46.58,2,30.74,2,2.06,2,2218.9,2,2320.9,2,-999,9,-999,9,-999,-999,9,-999,1
  740H20180228, A09.5,48,1,11,6415,2,20180314,613,-24.0006,-21.3006,5115,1511.8,3.1614,34.766,2,34.767,2,208.8,2,231.9,4,43.95,2,27.06,2,1.82,2,2204.7,2,-999,9,-999,9,-999,9,-999,-999,9,-999,1
  740H20180228, A09.5,48,1,10,6414,2,20180314,613,-24.0006,-21.3006,5115,1767.2,3.1567,34.8588,2,34.8575,2,229,2,244.4,4,37.06,2,23.86,2,1.6,2,2190.4,2,2323.3,2,-999,9,-999,9,-999,-999,9,-999,1
  740H20180228, A09.5,48,1,9,6413,2,20180314,613,-24.0006,-21.3006,5115,2020.9,3.2074,34.9283,2,34.9296,2,246.7,2,250.1,2,28.23,2,20.85,2,1.39,2,2172.4,2,-999,9,-999,9,-999,9,-999,-999,9,-999,1
  740H20180228, A09.5,48,1,8,6412,2,20180314,613,-24.0006,-21.3006,5115,2275.2,3.0581,34.9358,2,34.9358,2,250.8,2,251.2,2,28.48,2,20.3,2,1.35,2,2175.2,2,2321.2,2,-999,9,-999,9,-999,-999,9,-999,1
  740H20180228, A09.5,48,1,7,6411,2,20180314,613,-24.0006,-21.3006,5115,2530.3,2.9076,34.93,2,34.9303,2,251.7,2,251.8,2,30.72,2,20.36,2,1.36,2,2175.1,2,-999,9,-999,9,-999,9,-999,-999,9,-999,1
  740H20180228, A09.5,48,1,6,6410,2,20180314,613,-24.0006,-21.3006,5115,3041.5,2.694,34.9171,2,34.9181,2,252.6,2,253.3,2,34.63,2,20.56,2,1.37,2,2177.2,6,2327.7,6,-999,9,-999,9,-999,-999,9,-999,1
  740H20180228, A09.5,48,1,5,6409,2,20180314,613,-24.0006,-21.3006,5115,3548.3,2.258,34.8769,2,34.8759,2,248.8,2,249.2,2,49.18,2,22.35,2,1.49,2,2191,2,2332.4,2,-999,9,-999,9,-999,-999,9,-999,1
  740H20180228, A09.5,48,1,4,6408,2,20180314,613,-24.0006,-21.3006,5115,4060.7,1.623,34.8072,2,34.8055,2,237.8,2,242.4,3,77.6,2,26.2,2,1.78,2,2218.6,2,2348,2,-999,9,-999,9,-999,-999,9,-999,1
  740H20180228, A09.5,48,1,3,6407,4,20180314,613,-24.0006,-21.3006,5115,4576.8,1.2742,34.7684,2,-999,9,232.6,2,-999,9,-999,9,-999,9,-999,9,2120.1,4,-999,9,-999,9,-999,9,-999,-999,9,-999,9
  740H20180228, A09.5,48,1,2,6406,2,20180314,613,-24.0006,-21.3006,5115,5092.5,0.9587,34.7325,2,34.7307,2,228.3,2,228,2,105.91,2,30.05,2,2.04,2,2246.4,2,2360.9,2,-999,9,-999,9,-999,-999,9,-999,1
  740H20180228, A09.5,48,1,1,5977,2,20180314,613,-24.0006,-21.3006,5115,5200.9,0.9424,34.7293,2,34.7302,2,228.2,2,227.5,2,106.05,2,30.21,2,2.05,2,2246.4,6,2358.8,6,-999,9,-999,9,-999,-999,9,-999,1
  740H20180228, A09.5,49,1,23,6427,2,20180314,1433,-23.9204,-20.7002,4767,6.1,26.8692,36.9209,2,36.9206,2,204.2,2,205.2,2,1.26,2,0.2,2,0.16,2,2107.3,2,2420.2,2,-999,9,-999,9,-999,-999,9,-999,1
  740H20180228, A09.5,49,1,24,1086,2,20180314,1433,-23.9204,-20.7002,4767,6.7,26.862,36.9208,2,36.9256,2,202.7,2,205.6,2,1.33,2,0.2,2,0.17,2,1152.3,4,2425,2,-999,9,-999,9,-999,-999,9,-999,9
  740H20180228, A09.5,49,1,22,6426,2,20180314,1433,-23.9204,-20.7002,4767,62.1,22.9337,36.5844,2,36.5895,2,232.7,2,231.4,2,1.28,2,0.22,2,0.16,2,885.2,4,2404.5,2,-999,1,-999,9,-999,-999,9,-999,1
  740H20180228, A09.5,49,1,21,6425,2,20180314,1433,-23.9204,-20.7002,4767,103.3,21.3026,36.5474,2,36.5504,2,230.3,2,229,2,1.35,2,0.2,2,0.14,2,2101.7,2,2399,2,-999,9,-999,9,-999,-999,9,-999,1
  740H20180228, A09.5,49,1,20,6428,2,20180314,1433,-23.9204,-20.7002,4767,160.5,20.6077,36.5257,2,36.5265,2,221.8,2,220.8,2,1.34,2,0.22,2,0.14,2,2108.4,2,2398.9,6,-999,1,-999,9,-999,-999,9,-999,1
  740H20180228, A09.5,49,1,19,1098,2,20180314,1433,-23.9204,-20.7002,4767,252.4,17.3927,35.8461,2,35.839,2,211.2,2,210.5,2,1.94,2,2.77,2,0.34,2,2110.7,2,2356,2,-999,9,-999,9,-999,-999,9,-999,1
  740H20180228, A09.5,49,1,18,6692,2,20180314,1433,-23.9204,-20.7002,4767,388.6,12.8148,35.1427,2,35.1447,2,181.1,2,183,2,5.11,2,13.6,2,0.98,2,2147.1,6,2312.1,6,-999,9,-999,9,-999,-999,9,-999,1
  740H20180228, A09.5,49,1,17,1122,2,20180314,1433,-23.9204,-20.7002,4767,514.9,10.1708,34.829,2,34.832,2,194.7,2,194.7,2,8.18,2,18.08,2,1.27,2,2155,2,2296.4,2,-999,9,-999,9,-999,-999,9,-999,1
  740H20180228, A09.5,49,1,16,6420,4,20180314,1433,-23.9204,-20.7002,4767,630.8,7.9463,34.5901,2,-999,9,186.1,2,-999,9,-999,9,-999,9,-999,9,-999,9,-999,9,-999,9,-999,9,-999,-999,9,-999,9
  740H20180228, A09.5,49,1,15,6419,2,20180314,1433,-23.9204,-20.7002,4767,767.1,5.3995,34.3952,2,34.3981,2,191.9,2,192.1,2,24.39,2,29.69,2,2.03,2,2194.5,2,2292.5,2,-999,9,-999,9,-999,-999,9,-999,1
  740H20180228, A09.5,49,1,14,6418,2,20180314,1433,-23.9204,-20.7002,4767,843.2,4.767,34.3827,2,34.3836,2,190,2,190.8,2,29.92,2,31.02,2,2.13,2,2196.7,6,2292.7,6,-999,9,-999,9,-999,-999,9,-999,1
  740H20180228, A09.5,49,1,13,6417,2,20180314,1433,-23.9204,-20.7002,4767,1100.8,3.5861,34.5165,2,34.516,2,183.4,2,183.4,2,44.55,2,32,2,2.21,2,2221,2,2314.4,2,-999,9,-999,9,-999,-999,9,-999,1
  740H20180228, A09.5,49,1,12,6416,2,20180314,1433,-23.9204,-20.7002,4767,1273.9,3.3622,34.6238,2,34.6267,2,189.5,2,189.7,2,45.88,2,30.42,2,2.09,2,2216.5,2,2316.7,2,-999,9,-999,9,-999,-999,9,-999,1
  740H20180228, A09.5,49,1,11,6415,2,20180314,1433,-23.9204,-20.7002,4767,1527,3.1993,34.7629,2,34.7639,2,207.6,2,207.7,2,43.37,2,27.11,2,1.84,2,2208.3,2,2324.3,2,-999,9,-999,9,-999,-999,9,-999,1
  740H20180228, A09.5,49,1,10,6414,2,20180314,1433,-23.9204,-20.7002,4767,1781.1,3.1979,34.8659,2,34.8692,2,229.1,2,228.9,2,35.88,2,23.58,2,1.59,2,2188.4,2,2318.3,2,-999,9,-999,9,-999,-999,9,-999,1
  740H20180228, A09.5,49,1,9,6413,2,20180314,1433,-23.9204,-20.7002,4767,2035.8,3.2108,34.9264,2,34.9259,2,245.1,2,245.2,2,28.57,2,20.88,2,1.41,2,2178.8,2,2321.2,2,-999,9,-999,9,-999,-999,9,-999,1
  740H20180228, A09.5,49,1,8,6412,2,20180314,1433,-23.9204,-20.7002,4767,2289.8,3.084,34.9368,2,34.937,2,250.5,2,251.2,2,28.21,2,20.23,2,1.37,2,2174,2,2319.4,2,-999,9,-999,9,-999,-999,9,-999,1
  740H20180228, A09.5,49,1,7,6411,2,20180314,1433,-23.9204,-20.7002,4767,2544.5,2.948,34.932,2,34.9319,2,251.1,2,251.7,2,30.25,2,20.27,2,1.36,2,2177.4,2,2323.9,2,-999,9,-999,9,-999,-999,9,-999,1
  740H20180228, A09.5,49,1,6,6410,2,20180314,1433,-23.9204,-20.7002,4767,2800.9,2.823,34.9252,2,34.9267,2,251.3,2,251.9,2,32.34,2,20.37,2,1.36,2,2178.6,6,2326,6,-999,9,-999,9,-999,-999,9,-999,1
  740H20180228, A09.5,49,1,5,6409,2,20180314,1433,-23.9204,-20.7002,4767,3312.1,2.5639,34.9059,2,34.9059,2,251.5,2,251.8,2,38.51,2,20.91,2,1.41,2,2181.5,2,2325.2,2,-999,9,-999,9,-999,-999,9,-999,1
  740H20180228, A09.5,49,1,4,6408,2,20180314,1433,-23.9204,-20.7002,4767,3567.5,2.3286,34.8816,2,34.8844,2,248,2,249,2,47.84,2,22.09,2,1.49,2,2192.9,2,2333.9,2,-999,9,-999,9,-999,-999,9,-999,1
  740H20180228, A09.5,49,1,3,6407,2,20180314,1433,-23.9204,-20.7002,4767,3823.8,1.9721,34.8447,2,34.8439,2,242.6,2,278.1,4,62.2,2,24.04,2,1.63,2,2204.3,2,2339.9,2,-999,9,-999,9,-999,-999,9,-999,1
  740H20180228, A09.5,49,1,2,6406,2,20180314,1433,-23.9204,-20.7002,4767,4337.7,1.4813,34.7909,2,34.7914,2,234.9,2,235.2,2,82.49,2,26.91,2,1.83,2,2228.7,2,-999,9,-999,9,-999,9,-999,-999,9,-999,1
  740H20180228, A09.5,49,1,1,5977,2,20180314,1433,-23.9204,-20.7002,4767,4841,1.0675,34.7455,2,34.7449,2,229.6,2,228.5,2,99.31,2,29.16,2,1.99,2,2243.2,6,2358.4,6,-999,9,-999,9,-999,-999,9,-999,1
  740H20180228, A09.5,50,1,24,1086,2,20180314,2240,-23.8406,-20.1002,5193,4.7,26.8355,36.9791,2,36.9788,2,203.4,2,202.3,2,1.25,2,0.19,2,0.21,2,-999,9,-999,9,-999,9,-999,9,-999,-999,9,-999,1
  740H20180228, A09.5,50,1,23,6427,2,20180314,2240,-23.8406,-20.1002,5193,53.1,25.1353,36.7569,2,36.7705,2,221.1,2,252.2,4,1.27,2,0.23,2,0.19,2,2102.5,2,2412.6,2,-999,9,-999,9,-999,-999,9,-999,1
  740H20180228, A09.5,50,1,22,6426,2,20180314,2240,-23.8406,-20.1002,5193,77.2,22.6255,36.5766,2,36.5774,2,230.7,2,231,2,1.22,2,0.25,2,0.18,2,2102.7,6,2412.9,6,-999,9,-999,9,-999,-999,9,-999,1
  740H20180228, A09.5,50,1,21,6425,2,20180314,2240,-23.8406,-20.1002,5193,102.4,21.4894,36.5225,2,36.5203,2,227.8,2,227.1,2,1.22,2,0.25,2,0.18,2,2103.6,2,2398.5,2,-999,9,-999,9,-999,-999,9,-999,1
  740H20180228, A09.5,50,1,20,6428,2,20180314,2240,-23.8406,-20.1002,5193,176.7,19.7598,36.3333,2,36.3357,2,217.4,2,216,2,1.35,2,0.54,2,0.2,2,2111.3,2,2384,2,-999,9,-999,9,-999,-999,9,-999,1
  740H20180228, A09.5,50,1,19,1098,2,20180314,2240,-23.8406,-20.1002,5193,253.7,16.0529,35.5905,2,35.5997,2,211.5,2,210.7,2,2.08,2,3.82,2,0.41,2,2117.1,2,2338.3,2,-999,9,-999,9,-999,-999,9,-999,1
  740H20180228, A09.5,50,1,18,6692,2,20180314,2240,-23.8406,-20.1002,5193,379.1,12.7313,35.1364,2,35.1316,2,193.3,2,191.7,2,4.78,2,12.92,2,0.94,2,2141.9,2,2308.8,2,-999,9,-999,9,-999,-999,9,-999,1
  740H20180228, A09.5,50,1,17,1122,2,20180314,2240,-23.8406,-20.1002,5193,504.9,9.8969,34.8001,2,34.8039,2,181,2,180.2,2,9.33,2,20.4,2,1.4,2,2165,6,2295.4,6,-999,9,-999,9,-999,-999,9,-999,1
  740H20180228, A09.5,50,1,16,6420,2,20180314,2240,-23.8406,-20.1002,5193,631.1,7.373,34.5411,2,34.5379,2,183.2,2,183.6,2,15.65,2,26.22,2,1.78,2,2183.5,2,2289.1,2,-999,9,-999,9,-999,-999,9,-999,1
  740H20180228, A09.5,50,1,15,6419,2,20180314,2240,-23.8406,-20.1002,5193,757.2,5.3531,34.3985,2,34.3979,2,190.5,2,190.9,2,24.84,2,30.05,2,2.05,2,2198.1,2,2291.7,2,-999,9,-999,9,-999,-999,9,-999,1
  740H20180228, A09.5,50,1,14,6418,2,20180314,2240,-23.8406,-20.1002,5193,883.4,4.3344,34.4011,2,34.3997,2,186.6,2,186.7,2,34.31,2,31.89,2,2.2,2,2210.9,2,2298.9,2,-999,9,-999,9,-999,-999,9,-999,1
  740H20180228, A09.5,50,1,13,6417,2,20180314,2240,-23.8406,-20.1002,5193,1009.9,3.8383,34.4529,2,34.4532,2,183.5,2,183.3,2,41.09,2,32.39,2,2.24,2,2218.2,6,2306.7,6,-999,9,-999,9,-999,-999,9,-999,1
  740H20180228, A09.5,50,1,12,6416,2,20180314,2240,-23.8406,-20.1002,5193,1262.4,3.4028,34.6267,2,34.6241,2,189.6,2,189.2,2,45.26,2,30.33,2,2.09,2,2217.6,2,2316.1,2,-999,9,-999,9,-999,-999,9,-999,1
  740H20180228, A09.5,50,1,11,6415,2,20180314,2240,-23.8406,-20.1002,5193,1514.5,3.2268,34.7642,2,34.7617,2,207.7,2,207.2,2,42.85,2,27.12,2,1.85,2,2210.3,2,2320.7,2,-999,9,-999,9,-999,-999,9,-999,1
  740H20180228, A09.5,50,1,10,6414,2,20180314,2240,-23.8406,-20.1002,5193,1768.6,3.2012,34.8682,2,34.8661,2,229.9,2,229.1,2,35.32,2,23.52,2,1.6,2,2190.9,2,2318.2,2,-999,9,-999,9,-999,-999,9,-999,1
  740H20180228, A09.5,50,1,9,6413,2,20180314,2240,-23.8406,-20.1002,5193,2022.1,3.1767,34.92,2,34.9189,2,244.6,2,243.5,2,29.49,2,21.18,2,1.43,2,2181.6,2,2319.1,2,-999,9,-999,9,-999,-999,9,-999,1
  740H20180228, A09.5,50,1,8,6412,2,20180314,2240,-23.8406,-20.1002,5193,2275.8,3.0642,34.9351,2,34.9346,2,250.5,2,249.9,2,28.43,2,20.32,2,1.38,2,2175.3,2,2319.3,2,-999,9,-999,9,-999,-999,9,-999,1
  740H20180228, A09.5,50,1,7,6411,2,20180314,2240,-23.8406,-20.1002,5193,2530.4,2.9206,34.9308,2,34.9315,2,251.4,2,250.8,2,30.53,2,20.35,2,1.39,2,2178,6,2323.7,6,-999,9,-999,9,-999,-999,9,-999,1
  740H20180228, A09.5,50,1,6,6410,2,20180314,2240,-23.8406,-20.1002,5193,3040,2.7163,34.9179,2,34.9184,2,252.5,2,252.1,2,34.43,2,20.64,2,1.41,2,2182.2,2,2326.1,2,-999,9,-999,9,-999,-999,9,-999,1
  740H20180228, A09.5,50,1,5,6409,2,20180314,2240,-23.8406,-20.1002,5193,3550.7,2.2605,34.8732,2,34.8742,2,246.9,2,247,2,50.41,2,22.67,2,1.55,2,2194.1,2,2335.1,2,-999,9,-999,9,-999,-999,9,-999,1
  740H20180228, A09.5,50,1,4,6408,2,20180314,2240,-23.8406,-20.1002,5193,4064.6,1.6149,34.8055,2,34.8068,2,236.9,2,236.2,2,77.48,2,26.22,2,1.82,2,2222.1,2,2349.1,2,-999,9,-999,9,-999,-999,9,-999,1
  740H20180228, A09.5,50,1,3,6407,2,20180314,2240,-23.8406,-20.1002,5193,4577.8,1.3196,34.7727,2,34.7699,2,232.7,2,232,2,90.85,2,27.93,2,1.93,2,2233.7,2,2351.8,2,-999,9,-999,9,-999,-999,9,-999,1
  740H20180228, A09.5,50,1,2,6406,2,20180314,2240,-23.8406,-20.1002,5193,5091.8,0.9476,34.7312,2,34.7312,2,227.2,2,226.6,2,106.41,2,29.97,2,2.08,2,2249.8,2,2359.5,2,-999,9,-999,9,-999,-999,9,-999,1
  740H20180228, A09.5,50,1,1,5977,2,20180314,2240,-23.8406,-20.1002,5193,5280.7,0.9406,34.7282,2,34.7283,2,226.7,2,226.6,2,106.59,2,30.23,2,2.09,2,2249.5,6,2360,6,-999,9,-999,9,-999,-999,9,-999,1
  740H20180228, A09.5,51,1,24,1086,2,20180315,618,-23.7611,-19.4994,5650,4.5,26.6251,36.8849,2,36.8748,2,202.6,2,207.8,3,1.28,2,0.19,2,0.23,2,2101.9,2,2422.3,2,-999,9,-999,9,-999,-999,9,-999,1
  740H20180228, A09.5,51,1,23,6427,2,20180315,618,-23.7611,-19.4994,5650,56.4,23.0138,36.5835,2,36.5922,2,231.7,2,252.1,4,1.22,2,0.17,2,0.19,2,2099.5,2,2399.8,2,-999,9,-999,9,-999,-999,9,-999,1
  740H20180228, A09.5,51,1,22,6426,2,20180315,618,-23.7611,-19.4994,5650,151.4,19.7316,36.2959,2,36.2971,2,222.6,2,221.1,2,1.31,2,0.22,2,0.19,2,2105.6,6,2383.3,6,-999,9,-999,9,-999,-999,9,-999,1
  740H20180228, A09.5,51,1,21,6425,2,20180315,618,-23.7611,-19.4994,5650,177.5,18.6941,36.0688,2,36.0724,2,220.8,2,220.4,2,1.37,2,0.65,2,0.27,2,2103.8,2,2370.3,2,-999,9,-999,9,-999,-999,9,-999,1
  740H20180228, A09.5,51,1,20,6428,2,20180315,618,-23.7611,-19.4994,5650,252.2,15.3086,35.4483,2,35.4493,2,208.6,2,208.9,2,2.55,2,5.62,2,0.5,2,2118.7,2,-999,9,-999,9,-999,9,-999,-999,9,-999,1
  740H20180228, A09.5,51,1,19,6692,2,20180315,618,-23.7611,-19.4994,5650,377.8,12.1873,35.0774,2,35.0763,2,202.4,2,203.1,2,4.67,2,12.51,2,0.89,2,2136.1,2,2310,2,-999,9,-999,9,-999,-999,9,-999,1
  740H20180228, A09.5,51,1,18,1098,2,20180315,618,-23.7611,-19.4994,5650,504.3,9.5912,34.7567,2,34.5098,3,198.7,2,198.2,2,8.77,2,19.51,2,1.34,2,2156.5,2,2297.4,2,-999,9,-999,9,-999,-999,9,-999,1
  740H20180228, A09.5,51,1,17,1122,2,20180315,618,-23.7611,-19.4994,5650,630.6,7.084,34.5059,2,34.7461,3,192.5,2,192.8,2,15.56,2,25.88,2,1.75,2,2178.3,4,2288,4,-999,9,-999,9,-999,-999,9,-999,1
  740H20180228, A09.5,51,1,16,6420,2,20180315,618,-23.7611,-19.4994,5650,756,5.4244,34.3997,2,34.3975,2,191.8,2,192.2,2,24.35,2,29.86,2,2.02,2,2192.2,2,2290.3,2,-999,9,-999,9,-999,-999,9,-999,1
  740H20180228, A09.5,51,1,15,6419,2,20180315,618,-23.7611,-19.4994,5650,881.9,4.3516,34.3954,2,34.3976,2,187.2,2,186.8,2,34.12,2,31.93,2,2.17,2,2210.1,2,2298.9,2,-999,9,-999,9,-999,-999,9,-999,1
  740H20180228, A09.5,51,1,14,6418,2,20180315,618,-23.7611,-19.4994,5650,1008.5,3.7456,34.4777,2,34.4735,2,182.8,2,182.9,2,41.6,2,32.29,2,2.22,2,2218.6,6,2308,6,-999,9,-999,9,-999,-999,9,-999,1
  740H20180228, A09.5,51,1,13,6417,2,20180315,618,-23.7611,-19.4994,5650,1261.6,3.4585,34.6426,2,34.6451,2,190.5,2,190.1,2,43.25,2,29.97,2,2.05,2,2217.7,2,2316.1,2,-999,9,-999,9,-999,-999,9,-999,1
  740H20180228, A09.5,51,1,12,6416,2,20180315,618,-23.7611,-19.4994,5650,1515.3,3.3029,34.7847,2,34.7843,2,209.6,2,210,2,41.04,2,26.57,2,1.81,2,2203.6,6,2321.5,6,-999,9,-999,9,-999,-999,9,-999,1
  740H20180228, A09.5,51,1,11,6415,2,20180315,618,-23.7611,-19.4994,5650,1769.2,3.3545,34.898,2,34.8973,2,234.6,2,234.6,2,30.92,2,22.38,2,1.51,2,2184.7,2,2317.1,2,-999,9,-999,9,-999,-999,9,-999,1
  740H20180228, A09.5,51,1,10,6414,2,20180315,618,-23.7611,-19.4994,5650,2022.5,3.3132,34.9386,2,34.9383,2,247.3,2,241.8,3,26.1,2,20.48,2,1.38,2,2174.2,2,2318.2,2,-999,9,-999,9,-999,-999,9,-999,1
  740H20180228, A09.5,51,1,9,6413,2,20180315,618,-23.7611,-19.4994,5650,2276,3.1386,34.9408,2,34.9401,2,250.7,2,248.3,2,27.07,2,20.21,2,1.35,2,2176.1,2,2315.7,2,-999,9,-999,9,-999,-999,9,-999,1
  740H20180228, A09.5,51,1,8,6412,2,20180315,618,-23.7611,-19.4994,5650,2529,2.977,34.9333,2,34.9348,2,250.9,2,251.1,2,29.58,2,20.35,2,1.36,2,2174.2,2,2322.9,2,-999,9,-999,9,-999,-999,9,-999,1
  740H20180228, A09.5,51,1,7,6411,2,20180315,618,-23.7611,-19.4994,5650,2784,2.8522,34.9258,2,34.9279,2,251,2,251.4,2,31.93,2,20.58,2,1.37,2,2180,6,2324.1,6,-999,9,-999,9,-999,-999,9,-999,1
  740H20180228, A09.5,51,1,6,6410,2,20180315,618,-23.7611,-19.4994,5650,3295,2.6107,34.9083,2,34.9075,2,251.2,2,251.2,2,37.45,2,21.11,2,1.41,2,2181.9,2,2328.4,2,-999,9,-999,9,-999,-999,9,-999,1
  740H20180228, A09.5,51,1,5,6409,2,20180315,618,-23.7611,-19.4994,5650,3807,2.0171,34.8473,2,34.8488,2,242.4,2,242.3,2,60.84,2,24.19,2,1.63,2,2207.3,2,2339.7,2,-999,9,-999,9,-999,-999,9,-999,1
  740H20180228, A09.5,51,1,4,6408,2,20180315,618,-23.7611,-19.4994,5650,4320,1.5205,34.794,2,34.7944,2,235.4,2,233,2,81.54,2,26.85,2,1.83,2,2224,2,2349.7,2,-999,9,-999,9,-999,-999,9,-999,1
  740H20180228, A09.5,51,1,3,6407,2,20180315,618,-23.7611,-19.4994,5650,4834,1.0475,34.744,2,34.7434,2,229.4,2,228.6,2,100.57,2,29.26,2,2,2,2244.8,2,2356.9,2,-999,9,-999,9,-999,-999,9,-999,1
  740H20180228, A09.5,51,1,2,6406,2,20180315,618,-23.7611,-19.4994,5650,5349.8,0.9702,34.7302,2,34.7301,2,227.4,2,227.2,2,105.59,2,29.82,2,2.04,2,2246.6,2,2360.9,2,-999,9,-999,9,-999,-999,9,-999,1
  740H20180228, A09.5,51,1,1,5977,2,20180315,618,-23.7611,-19.4994,5650,5750.8,1.0116,34.7289,2,34.7304,2,227.3,2,226.8,2,105.76,2,29.88,2,2.05,2,2248.7,6,2361,6,-999,9,-999,9,-999,-999,9,-999,1