BOTTLE,20190321PRINUNIVRMK,,,,,,,,,,,,,,,,,,,,,,,,,,,,,,,,,,,,,,,
EXPOCODE,SECT_ID,STNNBR,CASTNO,SAMPNO,BTLNBR,BTLNBR_FLAG_W,DATE,TIME,LATITUDE,LONGITUDE,DEPTH,CTDPRS,CTDTMP,CTDSAL,CTDSAL_FLAG_W,SALNTY,SALNTY_FLAG_W,CTDOXY,CTDOXY_FLAG_W,OXYGEN,OXYGEN_FLAG_W,SILCAT,SILCAT_FLAG_W,NITRAT,NITRAT_FLAG_W,PHSPHT,PHSPHT_FLAG_W,TCARBN,TCARBN_FLAG_W,ALKALI,ALKALI_FLAG_W,CHLORA,CHLORA_FLAG_W,DELC14,DELC14_FLAG_W,C14ERR,DELC13,DELC13_FLAG_W,DELO18,DELO18_FLAG_W
,,,,,,,,,,,METERS,DBAR,ITS-90,PSS-78,,PSS-78,,UMOL/KG,,UMOL/KG,,UMOL/KG,,UMOL/KG,,UMOL/KG,,UMOL/KG,,UMOL/KG,,UG/KG,,/MILLE,,/MILLE,/MILLE,,/MILLE,
  740H20180228, A09.5,32,1,24,1086,2,20180309,656,-24.0004,-30.3012,5300,5.3,27.0774,36.7033,2,36.7047,2,203.4,2,206.9,2,1.15,2,0.23,2,0.04,2,2079.4,2,2407.8,2,-999,9,-999,9,-999,-999,9,-999,1
  740H20180228, A09.5,32,1,23,6427,2,20180309,656,-24.0004,-30.3012,5300,66.5,22.8501,36.8091,2,36.8091,2,227.9,2,-999,5,1.22,2,0.25,2,0.09,2,2101.7,2,2413.8,2,-999,1,-999,9,-999,-999,9,-999,1
  740H20180228, A09.5,32,1,22,6426,2,20180309,656,-24.0004,-30.3012,5300,121.4,21.2771,36.6917,2,36.6719,2,217.7,2,210.3,3,1.19,2,0.25,2,0.1,2,2109.7,2,2405.8,2,-999,1,-999,9,-999,-999,9,-999,1
  740H20180228, A09.5,32,1,21,6425,2,20180309,656,-24.0004,-30.3012,5300,176.4,20.1001,36.4299,2,36.4247,2,215.1,2,213.6,2,1.23,2,0.6,2,0.13,2,2114,2,2348.4,4,-999,9,-999,9,-999,-999,9,-999,1
  740H20180228, A09.5,32,1,20,6428,2,20180309,656,-24.0004,-30.3012,5300,252.8,16.9128,35.7766,2,35.7683,2,207.4,2,-999,5,1.95,2,3.27,2,0.34,2,2108.6,2,-999,9,-999,9,-999,9,-999,-999,9,-999,1
  740H20180228, A09.5,32,1,19,1098,2,20180309,656,-24.0004,-30.3012,5300,377.8,13.1505,35.2062,2,35.2064,2,208.4,2,-999,5,3.79,2,10.23,2,0.74,2,2131.6,6,2317.1,6,-999,9,-999,9,-999,-999,9,-999,1
  740H20180228, A09.5,32,1,18,6692,4,20180309,656,-24.0004,-30.3012,5300,504.4,10.6633,34.8917,2,-999,9,200.3,2,-999,9,-999,9,-999,9,-999,9,-999,9,-999,9,-999,9,-999,9,-999,-999,9,-999,9
  740H20180228, A09.5,32,1,17,1122,2,20180309,656,-24.0004,-30.3012,5300,630.3,7.7058,34.5597,2,34.5573,2,198.3,2,203.4,4,13.65,2,24.59,2,1.62,2,2170.7,2,2292.5,2,-999,9,-999,9,-999,-999,9,-999,1
  740H20180228, A09.5,32,1,16,6420,4,20180309,656,-24.0004,-30.3012,5300,756.9,5.6354,34.4019,2,34.6377,4,197.1,2,197.1,4,11.66,4,22.78,4,1.49,4,2168.6,4,-999,9,-999,9,-999,9,-999,-999,9,-999,1
  740H20180228, A09.5,32,1,15,6419,2,20180309,656,-24.0004,-30.3012,5300,882.9,4.2976,34.3471,2,34.3479,2,204.5,2,205.1,2,32.01,2,31.51,2,2.06,2,2200.2,6,2297.9,6,-999,9,-999,9,-999,-999,9,-999,1
  740H20180228, A09.5,32,1,14,6418,2,20180309,656,-24.0004,-30.3012,5300,1009.4,3.8153,34.4218,2,34.4236,2,189,2,192.2,2,41.65,2,33.17,2,2.17,2,2217,2,2305.2,2,-999,9,-999,9,-999,-999,9,-999,1
  740H20180228, A09.5,32,1,13,6417,2,20180309,656,-24.0004,-30.3012,5300,1262.4,3.0684,34.5918,2,34.5937,2,189.7,2,191.9,2,53.57,2,32.03,2,2.1,2,2227.9,2,2324.4,2,-999,9,-999,9,-999,-999,9,-999,1
  740H20180228, A09.5,32,1,12,6416,2,20180309,656,-24.0004,-30.3012,5300,1513.9,3.7033,34.8595,2,34.8624,2,217.3,2,218,2,31.15,2,24.94,2,1.6,2,2192.3,6,2315.8,6,-999,9,-999,9,-999,-999,9,-999,1
  740H20180228, A09.5,32,1,11,6415,2,20180309,656,-24.0004,-30.3012,5300,1768.9,3.6921,34.9532,2,34.9528,2,244.5,2,244.8,2,21.74,2,20.85,2,1.33,2,2173.7,2,2316.7,2,-999,9,-999,9,-999,-999,9,-999,1
  740H20180228, A09.5,32,1,10,6414,2,20180309,656,-24.0004,-30.3012,5300,2022.5,3.4315,34.9538,2,34.9528,2,251.4,2,250.7,2,23,2,20.27,2,1.3,2,2173.2,2,2316.2,2,-999,9,-999,9,-999,-999,9,-999,1
  740H20180228, A09.5,32,1,9,6413,2,20180309,656,-24.0004,-30.3012,5300,2277.1,3.2112,34.9447,2,34.9447,2,252.1,2,258.6,2,26,2,20.37,2,1.31,2,2174.4,2,2320.7,2,-999,9,-999,9,-999,-999,9,-999,1
  740H20180228, A09.5,32,1,8,6412,2,20180309,656,-24.0004,-30.3012,5300,2530.6,3.0365,34.9352,2,34.9347,2,252.3,2,256.5,2,29.12,2,20.62,2,1.33,2,2177.5,2,2322.2,2,-999,9,-999,9,-999,-999,9,-999,1
  740H20180228, A09.5,32,1,7,6411,2,20180309,656,-24.0004,-30.3012,5300,2785,2.9137,34.9273,2,34.9277,2,252.1,2,250.6,2,31.64,2,20.89,2,1.35,2,2179.4,2,2324.8,2,-999,9,-999,9,-999,-999,9,-999,1
  740H20180228, A09.5,32,1,6,6410,2,20180309,656,-24.0004,-30.3012,5300,2989.7,2.8306,34.9229,2,34.9217,2,252.6,2,255.3,2,32.81,2,20.89,2,1.35,2,2179.5,2,2325.5,2,-999,9,-999,9,-999,-999,9,-999,1
  740H20180228, A09.5,32,1,5,6409,2,20180309,656,-24.0004,-30.3012,5300,3346,2.6629,34.9137,2,34.9134,2,254.3,2,253.9,2,35.13,2,20.96,2,1.36,2,2182.3,2,2327.9,2,-999,9,-999,9,-999,-999,9,-999,1
  740H20180228, A09.5,32,1,4,6408,2,20180309,656,-24.0004,-30.3012,5300,3806.9,2.2477,34.8756,2,34.8747,2,251.6,2,250.3,2,48.58,2,22.76,2,1.47,2,2194.3,2,2335.5,2,-999,9,-999,9,-999,-999,9,-999,1
  740H20180228, A09.5,32,1,3,6407,2,20180309,656,-24.0004,-30.3012,5300,4319.5,1.4792,34.7933,2,34.7941,2,238.2,2,242.5,2,80.05,2,27.33,2,1.79,2,2226.2,2,2350.9,2,-999,9,-999,9,-999,-999,9,-999,1
  740H20180228, A09.5,32,1,2,6406,2,20180309,656,-24.0004,-30.3012,5300,4831.8,0.9552,34.7352,2,34.7332,2,230.2,2,234.2,2,103.4,2,30.41,2,2,2,2247.1,2,2358.6,2,-999,9,-999,9,-999,-999,9,-999,1
  740H20180228, A09.5,32,1,1,5977,2,20180309,656,-24.0004,-30.3012,5300,5390.2,0.5051,34.684,2,34.6843,2,223.7,2,228,2,124.11,2,33.01,2,2.17,2,2262.9,6,2365.6,6,-999,9,-999,9,-999,-999,9,-999,1
  740H20180228, A09.5,33,1,7,6411,2,20180309,1237,-23.9999,-30,5300,4143.6,1.7089,34.8186,2,34.8173,2,242.9,2,-999,9,-999,9,-999,9,-999,9,2216.6,2,1843.5,4,-999,9,-999,9,-999,-999,9,-999,1
  740H20180228, A09.5,33,1,8,6412,2,20180309,1237,-23.9999,-30,5300,4143.6,1.7092,34.8187,2,34.8217,2,242.5,2,244.6,2,-999,9,-999,9,-999,9,2219,2,2134.7,4,-999,9,-999,9,-999,-999,9,-999,1
  740H20180228, A09.5,33,1,2,6406,2,20180309,1237,-23.9999,-30,5300,4143.7,1.7098,34.8186,2,34.8172,2,242.5,2,244.3,2,-999,9,-999,9,-999,9,2212,2,2343.6,2,-999,9,-999,9,-999,-999,9,-999,1
  740H20180228, A09.5,33,1,13,6417,2,20180309,1237,-23.9999,-30,5300,4143.7,1.7086,34.8184,2,34.8168,2,242.8,2,-999,9,-999,9,-999,9,-999,9,2217,6,2344.1,6,-999,9,-999,9,-999,-999,9,-999,1
  740H20180228, A09.5,33,1,18,6692,2,20180309,1237,-23.9999,-30,5300,4143.8,1.7087,34.8186,2,34.8167,2,243.1,2,-999,9,-999,9,-999,9,-999,9,2214,6,2346.7,6,-999,9,-999,9,-999,-999,9,-999,1
  740H20180228, A09.5,33,1,5,6409,2,20180309,1237,-23.9999,-30,5300,4144,1.7093,34.8186,2,34.8182,2,242.7,2,244.2,2,-999,9,-999,9,-999,9,2218.8,2,2348.4,2,-999,9,-999,9,-999,-999,9,-999,1
  740H20180228, A09.5,33,1,10,6414,2,20180309,1237,-23.9999,-30,5300,4144,1.709,34.8186,2,34.8173,2,242.7,2,-999,9,-999,9,-999,9,-999,9,2212.7,6,2258.9,6,-999,9,-999,9,-999,-999,9,-999,1
  740H20180228, A09.5,33,1,12,6416,2,20180309,1237,-23.9999,-30,5300,4144,1.7086,34.8185,2,34.8181,2,242.9,2,-999,9,-999,9,-999,9,-999,9,2214.3,6,2344.4,2,-999,9,-999,9,-999,-999,9,-999,1
  740H20180228, A09.5,33,1,14,6418,2,20180309,1237,-23.9999,-30,5300,4144,1.7085,34.8187,2,34.8191,2,242.8,2,246.6,2,-999,9,-999,9,-999,9,-999,9,-999,9,-999,9,-999,9,-999,-999,9,-999,1
  740H20180228, A09.5,33,1,17,1122,2,20180309,1237,-23.9999,-30,5300,4144,1.7085,34.8185,2,34.8172,2,242.8,2,249.6,2,-999,9,-999,9,-999,9,2217.2,2,2346.2,2,-999,9,-999,9,-999,-999,9,-999,1
  740H20180228, A09.5,33,1,19,1098,2,20180309,1237,-23.9999,-30,5300,4144,1.7064,34.8183,2,34.8173,2,242.6,2,-999,9,-999,9,-999,9,-999,9,2213.6,6,2343.9,6,-999,9,-999,9,-999,-999,9,-999,1
  740H20180228, A09.5,33,1,21,6425,2,20180309,1237,-23.9999,-30,5300,4144,1.7079,34.8186,2,34.8178,2,242.5,2,-999,9,-999,9,-999,9,-999,9,2217.5,6,2346.8,6,-999,9,-999,9,-999,-999,9,-999,1
  740H20180228, A09.5,33,1,6,6410,2,20180309,1237,-23.9999,-30,5300,4144.1,1.7086,34.8185,2,34.8195,2,242.6,2,-999,9,-999,9,-999,9,-999,9,2217.9,2,2346.6,2,-999,9,-999,9,-999,-999,9,-999,1
  740H20180228, A09.5,33,1,3,6407,2,20180309,1237,-23.9999,-30,5300,4144.2,1.7088,34.8186,2,34.8168,2,242.7,2,-999,9,-999,9,-999,9,-999,9,2212,2,2343.5,2,-999,9,-999,9,-999,-999,9,-999,1
  740H20180228, A09.5,33,1,24,1086,2,20180309,1237,-23.9999,-30,5300,4144.2,1.7064,34.8183,2,34.8178,2,243,2,-999,9,-999,9,-999,9,-999,9,2217.2,2,2348.5,2,-999,9,-999,9,-999,-999,9,-999,1
  740H20180228, A09.5,33,1,1,5977,2,20180309,1237,-23.9999,-30,5300,4144.3,1.7047,34.8182,2,34.8156,2,242.7,2,-999,9,-999,9,-999,9,-999,9,2183.1,4,2346.1,2,-999,9,-999,9,-999,-999,9,-999,1
  740H20180228, A09.5,33,1,16,6420,2,20180309,1237,-23.9999,-30,5300,4144.3,1.7085,34.8186,2,34.8206,2,242.9,2,-999,9,-999,9,-999,9,-999,9,2217,6,521.6,4,-999,9,-999,9,-999,-999,9,-999,1
  740H20180228, A09.5,33,1,23,6427,2,20180309,1237,-23.9999,-30,5300,4144.3,1.7071,34.8185,2,34.8177,2,242.7,2,245.2,2,-999,9,-999,9,-999,9,2216.2,2,2347.2,2,-999,9,-999,9,-999,-999,9,-999,1
  740H20180228, A09.5,33,1,4,6408,2,20180309,1237,-23.9999,-30,5300,4144.4,1.7091,34.8186,2,34.8184,2,242.8,2,-999,9,-999,9,-999,9,-999,9,2213.6,6,2345.4,6,-999,9,-999,9,-999,-999,9,-999,1
  740H20180228, A09.5,33,1,20,6428,2,20180309,1237,-23.9999,-30,5300,4144.4,1.7067,34.8184,2,34.8176,2,242.7,2,246.4,2,-999,9,-999,9,-999,9,2215,2,2350.2,2,-999,9,-999,9,-999,-999,9,-999,1
  740H20180228, A09.5,33,1,22,6426,2,20180309,1237,-23.9999,-30,5300,4144.4,1.7079,34.8184,2,34.8185,2,242.8,2,-999,9,-999,9,-999,9,-999,9,2218.4,2,2345.4,2,-999,9,-999,9,-999,-999,9,-999,1
  740H20180228, A09.5,33,1,9,6413,2,20180309,1237,-23.9999,-30,5300,4144.5,1.7086,34.8184,2,34.8189,2,242.8,2,-999,9,-999,9,-999,9,-999,9,2217.9,6,2345.5,6,-999,9,-999,9,-999,-999,9,-999,1
  740H20180228, A09.5,33,1,11,6415,2,20180309,1237,-23.9999,-30,5300,4144.5,1.7089,34.8186,2,34.8174,2,242.8,2,244.2,2,-999,9,-999,9,-999,9,2219.4,2,2346.2,2,-999,9,-999,9,-999,-999,9,-999,1
  740H20180228, A09.5,33,1,15,6419,2,20180309,1237,-23.9999,-30,5300,4144.5,1.7081,34.8185,2,34.8178,2,242.8,2,-999,9,-999,9,-999,9,-999,9,2215.6,6,2345.7,6,-999,9,-999,9,-999,-999,9,-999,1
  740H20180228, A09.5,34,1,24,1086,2,20180309,1808,-24.0007,-29.7,5363,5,27.0225,36.5848,2,36.5839,2,203.7,2,211.7,4,1.09,2,0.22,2,0,2,2064.5,2,2395.6,2,-999,9,-999,9,-999,-999,9,-999,1
  740H20180228, A09.5,34,1,23,6427,2,20180309,1808,-24.0007,-29.7,5363,70.1,22.0503,36.61,2,36.6196,2,230.6,2,231.3,4,1.06,2,0.19,2,0.01,2,2087,6,2403,6,-999,1,-999,9,-999,-999,9,-999,1
  740H20180228, A09.5,34,1,22,6426,2,20180309,1808,-24.0007,-29.7,5363,116.2,20.8888,36.5883,2,36.5845,2,216.4,2,217.3,4,1.06,2,0.22,2,0.06,2,2100.3,2,2397.8,2,-999,1,-999,9,-999,-999,9,-999,1
  740H20180228, A09.5,34,1,21,6425,2,20180309,1808,-24.0007,-29.7,5363,176.6,19.5524,36.2939,2,36.2837,2,213.9,2,213.8,4,1.08,2,0.74,2,0.11,2,2103.7,2,2381.1,2,-999,9,-999,9,-999,-999,9,-999,1
  740H20180228, A09.5,34,1,20,6428,2,20180309,1808,-24.0007,-29.7,5363,251.8,15.9117,35.5959,2,35.5987,2,209.4,2,209.3,4,1.95,2,4.15,2,0.39,2,2110.3,2,2337,2,-999,9,-999,9,-999,-999,9,-999,1
  740H20180228, A09.5,34,1,19,1098,2,20180309,1808,-24.0007,-29.7,5363,378,13.0675,35.2075,2,35.2002,2,208.7,2,208.2,4,3.73,2,10.39,2,0.76,2,2132.4,2,2318.5,2,-999,9,-999,9,-999,-999,9,-999,1
  740H20180228, A09.5,34,1,18,6692,2,20180309,1808,-24.0007,-29.7,5363,504.3,10.2697,34.8413,2,34.8384,2,198.2,2,197.7,4,7.7,2,18.14,2,1.24,2,2149.6,2,2298,2,-999,9,-999,9,-999,-999,9,-999,1
  740H20180228, A09.5,34,1,17,1122,2,20180309,1808,-24.0007,-29.7,5363,630,7.6734,34.5531,2,34.5449,2,198.3,2,-999,5,13.76,2,24.83,2,1.66,2,2172.4,2,2290.6,2,-999,9,-999,9,-999,-999,9,-999,1
  740H20180228, A09.5,34,1,16,6420,2,20180309,1808,-24.0007,-29.7,5363,756.5,5.5797,34.3957,2,34.3979,2,197.7,2,201.1,4,22.43,2,29.68,2,1.96,2,2183.6,2,2288.4,2,-999,9,-999,9,-999,-999,9,-999,1
  740H20180228, A09.5,34,1,15,6419,2,20180309,1808,-24.0007,-29.7,5363,836.2,4.8936,34.3905,2,34.3913,2,189,2,199.1,4,28.44,2,31.87,2,2.1,2,2202.5,2,2294.8,2,-999,9,-999,9,-999,-999,9,-999,1
  740H20180228, A09.5,34,1,14,6418,2,20180309,1808,-24.0007,-29.7,5363,1007.8,3.679,34.4194,2,34.4259,2,190.8,2,196,4,43.39,2,33.16,2,2.21,2,2214.2,6,2308,6,-999,9,-999,9,-999,-999,9,-999,1
  740H20180228, A09.5,34,1,13,6417,2,20180309,1808,-24.0007,-29.7,5363,1164.1,3.2764,34.5419,2,34.5459,2,185.5,2,191,4,50.42,2,32.75,2,2.18,2,2227.7,2,2320.5,2,-999,9,-999,9,-999,-999,9,-999,1
  740H20180228, A09.5,34,1,12,6416,2,20180309,1808,-24.0007,-29.7,5363,1260.7,3.1791,34.6077,2,34.606,2,188.9,2,192.9,4,50.84,2,31.74,2,2.1,2,2220.9,2,2319.8,2,-999,9,-999,9,-999,-999,9,-999,1
  740H20180228, A09.5,34,1,11,6415,2,20180309,1808,-24.0007,-29.7,5363,1514.1,3.614,34.8625,2,34.8644,2,220.5,2,225,4,31.81,2,24.73,2,1.59,2,2194.2,2,2319.2,2,-999,9,-999,9,-999,-999,9,-999,1
  740H20180228, A09.5,34,1,10,6414,2,20180309,1808,-24.0007,-29.7,5363,1768.4,3.6551,34.9518,2,34.9508,2,245,2,249.3,4,22.13,2,20.83,2,1.34,2,2171.6,2,2312,2,-999,9,-999,9,-999,-999,9,-999,1
  740H20180228, A09.5,34,1,9,6413,2,20180309,1808,-24.0007,-29.7,5363,2022.5,3.4148,34.9533,2,34.9519,2,251.5,2,256,4,23.19,2,20.25,2,1.3,2,2173.7,2,2318.6,2,-999,9,-999,9,-999,-999,9,-999,1
  740H20180228, A09.5,34,1,8,6412,2,20180309,1808,-24.0007,-29.7,5363,2277.3,3.1779,34.9431,2,34.9432,2,252.2,2,257.6,4,26.33,2,20.37,2,1.31,2,2174.9,6,2321.3,6,-999,9,-999,9,-999,-999,9,-999,1
  740H20180228, A09.5,34,1,7,6411,2,20180309,1808,-24.0007,-29.7,5363,2529.4,3.0119,34.933,2,34.9325,2,252,2,255.6,4,29.68,2,20.77,2,1.34,2,2172.4,2,2320.8,2,-999,9,-999,9,-999,-999,9,-999,1
  740H20180228, A09.5,34,1,6,6410,2,20180309,1808,-24.0007,-29.7,5363,3040.9,2.7908,34.9205,2,34.9221,2,252.7,2,256.1,4,33.46,2,21.02,2,1.36,2,2182.8,2,2328,2,-999,9,-999,9,-999,-999,9,-999,1
  740H20180228, A09.5,34,1,5,6409,2,20180309,1808,-24.0007,-29.7,5363,3550,2.552,34.9049,2,34.9043,2,254.8,2,260.2,4,37.26,2,21.24,2,1.38,2,2179.2,2,2326.5,2,-999,9,-999,9,-999,-999,9,-999,1
  740H20180228, A09.5,34,1,4,6408,2,20180309,1808,-24.0007,-29.7,5363,4062.2,1.8328,34.8321,2,34.832,2,244,2,247,4,65.48,2,25.17,2,1.65,2,2212.9,2,2345,2,-999,9,-999,9,-999,-999,9,-999,1
  740H20180228, A09.5,34,1,3,6407,2,20180309,1808,-24.0007,-29.7,5363,4576.2,1.2307,34.7657,2,34.764,2,234,2,236.1,4,91.09,2,28.78,2,1.9,2,2232.4,2,2353.7,2,-999,9,-999,9,-999,-999,9,-999,1
  740H20180228, A09.5,34,1,2,6406,2,20180309,1808,-24.0007,-29.7,5363,5091.5,0.7116,34.7082,2,34.7064,2,226,2,228.2,4,113.22,2,31.74,2,2.12,2,2254,6,2360.7,6,-999,9,-999,9,-999,-999,9,-999,1
  740H20180228, A09.5,34,1,1,5977,2,20180309,1808,-24.0007,-29.7,5363,5456.2,0.5148,34.6838,2,34.6822,2,223,2,225.2,4,122.55,2,32.97,2,2.21,2,2268.4,2,2366.5,2,-999,9,-999,9,-999,-999,9,-999,1
  740H20180228, A09.5,35,1,24,1086,2,20180310,150,-23.9999,-29.0993,5452,4.6,27.2015,36.8029,2,36.8011,2,201.7,2,201.1,2,1.12,2,0.3,2,0.04,2,2084.6,2,2417.6,2,-999,9,-999,1,-999,-999,1,-999,1
  740H20180228, A09.5,35,1,23,6427,2,20180310,150,-23.9999,-29.0993,5452,50.6,24.3916,36.8459,2,36.8462,2,226.8,2,226.5,2,1.17,2,0.3,2,0.1,2,2103.6,2,2418.3,2,-999,9,40.5,2,4,1.23,2,-999,1
  740H20180228, A09.5,35,1,22,6426,2,20180310,150,-23.9999,-29.0993,5452,101,21.6526,36.6818,2,36.6824,2,226.6,2,225.2,2,1.17,2,0.34,2,0.12,2,2104.3,2,2407.2,2,-999,9,-999,1,-999,-999,1,-999,1
  740H20180228, A09.5,35,1,21,6425,2,20180310,150,-23.9999,-29.0993,5452,176.3,20.9785,36.6345,2,36.6343,2,213.1,2,212.5,2,1.16,2,0.47,2,0.15,2,2115.3,4,2405,6,-999,9,41.1,2,4,1.03,2,-999,1
  740H20180228, A09.5,35,1,20,6428,2,20180310,150,-23.9999,-29.0993,5452,251.9,17.9073,35.9788,2,35.9668,2,208.8,2,208.2,2,1.65,2,2.29,2,0.27,2,2110,2,2362,2,-999,9,-999,1,-999,-999,1,-999,1
  740H20180228, A09.5,35,1,19,1098,2,20180310,150,-23.9999,-29.0993,5452,377.8,13.138,35.1903,2,35.188,2,201.5,2,202.4,2,3.93,2,10.72,2,0.77,2,2130.3,2,2313.6,2,-999,9,51,2,4,0.81,2,-999,1
  740H20180228, A09.5,35,1,18,6692,2,20180310,150,-23.9999,-29.0993,5452,503.9,10.3439,34.8486,2,34.8516,2,197.8,2,197.4,2,7.54,2,17.68,2,1.2,2,1588.2,4,2303,2,-999,9,-999,1,-999,-999,1,-999,1
  740H20180228, A09.5,35,1,17,1122,2,20180310,150,-23.9999,-29.0993,5452,629.7,7.6924,34.5688,2,34.5686,2,186.5,2,186.2,2,14.29,2,25.22,2,1.68,2,2175.7,2,2292,2,-999,9,2,2,4,0.85,2,-999,1
  740H20180228, A09.5,35,1,16,6420,2,20180310,150,-23.9999,-29.0993,5452,755.8,5.7008,34.4072,2,34.4135,2,194.8,2,193.7,2,21.47,2,29.09,2,1.92,2,2188.2,2,2290.7,2,-999,9,-999,1,-999,-999,1,-999,1
  740H20180228, A09.5,35,1,15,6419,2,20180310,150,-23.9999,-29.0993,5452,882.4,4.3567,34.3651,2,34.3658,2,198.1,2,198.6,2,32.24,2,31.37,2,2.09,2,-999,9,-999,9,-999,9,-60.1,2,4,0.87,2,-999,1
  740H20180228, A09.5,35,1,14,6418,2,20180310,150,-23.9999,-29.0993,5452,1008.4,3.7966,34.4343,2,34.4324,2,187,2,188.5,2,40.92,2,32.68,2,2.19,2,2215.5,6,2308.7,6,-999,9,-999,1,-999,-999,1,-999,1
  740H20180228, A09.5,35,1,13,6417,2,20180310,150,-23.9999,-29.0993,5452,1262.5,3.2573,34.5992,2,34.5009,2,188.8,2,187,2,45.96,2,32.52,2,2.17,2,2199.1,2,2304.5,3,-999,9,-108.3,2,4,0.75,2,-999,1
  740H20180228, A09.5,35,1,12,6416,2,20180310,150,-23.9999,-29.0993,5452,1515.5,3.3378,34.7866,2,34.7902,2,208.6,2,210.4,2,40.86,2,26.87,2,1.77,2,2204.4,2,2325,2,-999,9,-999,1,-999,-999,1,-999,1
  740H20180228, A09.5,35,1,11,6415,2,20180310,150,-23.9999,-29.0993,5452,1768.4,3.578,34.931,2,34.9298,2,239.7,2,241.3,2,25.54,2,21.53,2,1.39,2,2176.8,2,2313.6,2,-999,9,-84.8,2,4,0.9,2,-999,1
  740H20180228, A09.5,35,1,10,6414,2,20180310,150,-23.9999,-29.0993,5452,2024.3,3.3996,34.9517,2,34.9506,2,251,2,251.9,2,23.3,2,20.07,2,1.29,2,2172.1,2,2318.2,2,-999,9,-999,1,-999,-999,1,-999,1
  740H20180228, A09.5,35,1,9,6413,2,20180310,150,-23.9999,-29.0993,5452,2276.2,3.1944,34.9438,2,34.9429,2,252,2,253.5,2,25.9,2,20.13,2,1.3,2,2171.3,2,2317.3,2,-999,9,-84.7,2,4,0.98,2,-999,1
  740H20180228, A09.5,35,1,8,6412,2,20180310,150,-23.9999,-29.0993,5452,2530.5,3.0033,34.9336,2,34.9326,2,252.1,2,253.1,2,29.29,2,20.4,2,1.32,2,2175.6,2,2322.5,2,-999,9,-999,1,-999,-999,1,-999,1
  740H20180228, A09.5,35,1,7,6411,2,20180310,150,-23.9999,-29.0993,5452,2785.9,2.8814,34.925,2,34.9278,2,251.3,2,252.4,2,32.02,2,20.71,2,1.34,2,2175.6,6,2323.6,6,-999,9,-96.6,2,4,0.92,2,-999,1
  740H20180228, A09.5,35,1,6,6410,2,20180310,150,-23.9999,-29.0993,5452,3295.7,2.6982,34.9148,2,34.9149,2,252.7,2,259.6,4,35,2,20.8,2,1.35,2,2179.8,2,2328.6,2,-999,9,-999,1,-999,-999,1,-999,1
  740H20180228, A09.5,35,1,5,6409,2,20180310,150,-23.9999,-29.0993,5452,3806.8,2.3801,34.8882,2,34.8913,2,252.2,2,253.4,2,43.85,2,21.67,2,1.42,2,2185.5,2,2329.1,2,-999,9,-139,2,4,-0.32,2,-999,1
  740H20180228, A09.5,35,1,4,6408,2,20180310,150,-23.9999,-29.0993,5452,4319.4,1.5979,34.8052,2,34.8048,2,238.9,2,239.8,2,76.18,2,26.25,2,1.74,2,2219.8,2,2349.9,2,-999,9,-999,1,-999,-999,1,-999,1
  740H20180228, A09.5,35,1,3,6407,2,20180310,150,-23.9999,-29.0993,5452,4833,1.0084,34.7402,2,34.74,2,229.9,2,229,2,100.3,2,29.73,2,1.98,2,2242.1,2,2358.3,2,-999,9,-148.6,2,4,0.62,2,-999,1
  740H20180228, A09.5,35,1,2,6406,2,20180310,150,-23.9999,-29.0993,5452,5347.8,0.6127,34.6951,2,34.6953,2,224.8,2,224.2,2,117.31,2,31.95,2,2.13,2,2260.2,2,2363,2,-999,9,-999,1,-999,-999,1,-999,1
  740H20180228, A09.5,35,1,1,5977,2,20180310,150,-23.9999,-29.0993,5452,5544.6,0.5149,34.6829,2,34.6822,2,223.2,2,222.6,2,121.93,2,32.53,2,2.18,2,2260.6,6,2363.9,6,-999,9,-149.3,2,4,0.47,2,-999,1