BOTTLE,20190321PRINUNIVRMK,,,,,,,,,,,,,,,,,,,,,,,,,,,,,,,,,,,,,,,
EXPOCODE,SECT_ID,STNNBR,CASTNO,SAMPNO,BTLNBR,BTLNBR_FLAG_W,DATE,TIME,LATITUDE,LONGITUDE,DEPTH,CTDPRS,CTDTMP,CTDSAL,CTDSAL_FLAG_W,SALNTY,SALNTY_FLAG_W,CTDOXY,CTDOXY_FLAG_W,OXYGEN,OXYGEN_FLAG_W,SILCAT,SILCAT_FLAG_W,NITRAT,NITRAT_FLAG_W,PHSPHT,PHSPHT_FLAG_W,TCARBN,TCARBN_FLAG_W,ALKALI,ALKALI_FLAG_W,CHLORA,CHLORA_FLAG_W,DELC14,DELC14_FLAG_W,C14ERR,DELC13,DELC13_FLAG_W,DELO18,DELO18_FLAG_W
,,,,,,,,,,,METERS,DBAR,ITS-90,PSS-78,,PSS-78,,UMOL/KG,,UMOL/KG,,UMOL/KG,,UMOL/KG,,UMOL/KG,,UMOL/KG,,UMOL/KG,,UG/KG,,/MILLE,,/MILLE,/MILLE,,/MILLE,
  740H20180228, A09.5,52,1,24,1086,2,20180315,1348,-23.6815,-18.9003,4961,6.6,26.9705,36.933,2,36.9313,2,203.1,2,203.5,2,1.26,2,0.19,2,0.2,2,2105.5,2,2425.3,2,-999,9,-999,1,-999,-999,1,-999,1
  740H20180228, A09.5,52,1,23,6427,2,20180315,1348,-23.6815,-18.9003,4961,53.2,23.0514,36.5501,2,36.5556,2,233.3,2,232.6,2,1.29,2,0.2,2,0.2,2,2093.5,2,2400.9,2,-999,9,-999,1,-999,-999,1,-999,1
  740H20180228, A09.5,52,1,22,6426,4,20180315,1348,-23.6815,-18.9003,4961,103.2,20.9801,36.4267,2,36.9323,4,232.1,2,204.3,4,1.22,4,0.19,4,0.28,4,2110.1,4,-999,9,-999,1,36.5,2,4,1.27,2,-999,1
  740H20180228, A09.5,52,1,21,6425,2,20180315,1348,-23.6815,-18.9003,4961,155.3,19.765,36.2953,2,36.304,2,223.2,2,222.3,2,1.33,2,0.2,2,0.3,2,2105.5,6,2385.5,6,-999,1,-999,1,-999,-999,1,-999,1
  740H20180228, A09.5,52,1,20,6428,2,20180315,1348,-23.6815,-18.9003,4961,178.5,19.042,36.1434,2,36.1205,2,217.4,2,216.8,2,1.53,2,0.72,2,0.33,2,2110.7,2,2371.6,2,-999,9,-999,1,-999,-999,1,-999,1
  740H20180228, A09.5,52,1,19,6692,2,20180315,1348,-23.6815,-18.9003,4961,254.6,15.2005,35.4417,2,35.444,2,208.3,2,208.7,2,2.56,2,5.61,2,0.52,2,2115.6,2,2329.9,2,-999,9,-999,1,-999,-999,1,-999,1
  740H20180228, A09.5,52,1,18,1098,2,20180315,1348,-23.6815,-18.9003,4961,380,12.1897,35.0772,2,35.0566,2,201.3,2,200.4,2,5.02,2,13.27,2,0.99,2,2142.2,2,2308,2,-999,9,-999,1,-999,-999,1,-999,1
  740H20180228, A09.5,52,1,17,1122,2,20180315,1348,-23.6815,-18.9003,4961,500.3,9.6816,34.7745,2,34.7712,2,184.8,2,185.2,2,9.44,2,20.51,2,1.42,2,2163.6,2,2296.3,2,-999,9,-999,1,-999,-999,1,-999,1
  740H20180228, A09.5,52,1,16,6420,2,20180315,1348,-23.6815,-18.9003,4961,631.7,7.0514,34.5095,2,34.5098,2,188.8,2,188.5,2,16.07,2,26.34,2,1.8,2,2183.4,2,2289.6,2,-999,9,-999,1,-999,-999,1,-999,1
  740H20180228, A09.5,52,1,15,6419,2,20180315,1348,-23.6815,-18.9003,4961,757.3,5.3355,34.397,2,34.3948,2,189.5,2,189.2,2,25.06,2,30.25,2,2.07,2,2195.2,2,2290.5,2,-999,9,-999,1,-999,-999,1,-999,1
  740H20180228, A09.5,52,1,14,6418,2,20180315,1348,-23.6815,-18.9003,4961,823.3,4.7228,34.381,2,34.3842,2,192.2,2,192.3,2,29.64,2,30.97,2,2.14,2,2202,6,2294.8,6,-999,9,-999,1,-999,-999,1,-999,1
  740H20180228, A09.5,52,1,13,6417,2,20180315,1348,-23.6815,-18.9003,4961,1047.7,3.7209,34.4875,2,34.4867,2,182.3,2,181.7,2,41.92,2,32.14,2,2.23,2,2222.2,2,2309.2,2,-999,9,-999,1,-999,-999,1,-999,1
  740H20180228, A09.5,52,1,12,6416,2,20180315,1348,-23.6815,-18.9003,4961,1263.4,3.3872,34.6335,2,34.6351,2,189.8,2,189.6,2,44.93,2,30.05,2,2.09,2,2217.2,2,2316.9,2,-999,9,-999,1,-999,-999,1,-999,1
  740H20180228, A09.5,52,1,11,6415,2,20180315,1348,-23.6815,-18.9003,4961,1516.7,3.285,34.78,2,34.7792,2,209.1,2,208.8,2,41.15,2,26.45,2,1.83,2,2207.4,6,2321.7,6,-999,9,-999,1,-999,-999,1,-999,1
  740H20180228, A09.5,52,1,10,6414,2,20180315,1348,-23.6815,-18.9003,4961,1770.3,3.2527,34.8752,2,34.877,2,230.7,2,230.4,2,33.97,2,23.01,2,1.57,2,2189.3,2,2324,2,-999,9,-999,1,-999,-999,1,-999,1
  740H20180228, A09.5,52,1,9,6413,2,20180315,1348,-23.6815,-18.9003,4961,2024.8,3.2683,34.937,2,34.9353,2,247.6,2,247.5,2,26.5,2,20.3,2,1.39,2,2178.6,2,2317.8,2,-999,9,-999,1,-999,-999,1,-999,1
  740H20180228, A09.5,52,1,8,6412,2,20180315,1348,-23.6815,-18.9003,4961,2279,3.0802,34.938,2,34.9378,2,250.9,2,251.3,2,27.76,2,20.03,2,1.38,2,2174,2,2322.9,2,-999,9,-999,9,-999,-999,9,-999,1
  740H20180228, A09.5,52,1,7,6411,2,20180315,1348,-23.6815,-18.9003,4961,2533,2.9525,34.9322,2,34.9332,2,251.8,2,251.4,2,29.57,2,20.23,2,1.39,2,2179.2,2,2323.1,2,-999,9,-999,1,-999,-999,1,-999,1
  740H20180228, A09.5,52,1,6,6410,2,20180315,1348,-23.6815,-18.9003,4961,2788.8,2.8322,34.9253,2,34.9243,2,251.7,2,251.1,2,31.67,2,20.43,2,1.41,2,2177,6,2323.7,6,-999,9,-999,9,-999,-999,9,-999,1
  740H20180228, A09.5,52,1,5,6409,2,20180315,1348,-23.6815,-18.9003,4961,3044.5,2.7142,34.918,2,34.917,2,252.8,2,251.8,2,33.79,2,20.57,2,1.42,2,2184.2,2,2327.3,2,-999,9,-999,1,-999,-999,1,-999,1
  740H20180228, A09.5,52,1,4,6408,2,20180315,1348,-23.6815,-18.9003,4961,3555.7,2.3257,34.8796,2,34.8789,2,248,2,247.5,2,47.5,2,22.36,2,1.54,2,2193,2,2334.7,2,-999,9,-999,9,-999,-999,9,-999,1
  740H20180228, A09.5,52,1,3,6407,2,20180315,1348,-23.6815,-18.9003,4961,4068.5,1.6822,34.8117,2,34.812,2,238.2,2,237.2,2,73.73,2,25.87,2,1.8,2,2221.3,2,2346.5,2,-999,9,-999,1,-999,-999,1,-999,1
  740H20180228, A09.5,52,1,2,6406,2,20180315,1348,-23.6815,-18.9003,4961,4582.3,1.2363,34.7646,2,34.7648,2,232,2,231.2,2,92.06,2,28.21,2,1.97,2,2237.1,2,2353.6,2,-999,9,-999,9,-999,-999,9,-999,1
  740H20180228, A09.5,52,1,1,5977,2,20180315,1348,-23.6815,-18.9003,4961,5038.5,0.9765,34.7348,2,34.7346,2,228.1,2,227.2,2,103.48,2,29.76,2,2.07,2,2247.9,6,2358.8,6,-999,9,-999,1,-999,-999,1,-999,1
  740H20180228, A09.5,53,1,24,1086,2,20180315,2101,-23.6017,-18.3004,4786,4.2,26.5015,36.8957,2,36.8952,2,204.9,2,204.5,2,1.31,2,0.25,2,0.17,2,2126.3,2,2423.8,2,-999,9,-999,9,-999,-999,9,-999,1
  740H20180228, A09.5,53,1,23,6427,2,20180315,2101,-23.6017,-18.3004,4786,50.4,23.9237,36.6382,2,36.631,2,228.2,2,226.6,2,1.46,2,0.24,2,0.16,2,2102.1,2,2403.3,2,-999,9,-999,9,-999,-999,9,-999,1
  740H20180228, A09.5,53,1,22,6426,2,20180315,2101,-23.6017,-18.3004,4786,80.6,21.8803,36.5146,2,36.5119,2,231.9,2,230.5,2,1.34,2,0.24,2,0.16,2,2106.5,6,2396.8,6,-999,9,-999,9,-999,-999,9,-999,1
  740H20180228, A09.5,53,1,21,6425,2,20180315,2101,-23.6017,-18.3004,4786,105.7,21.2408,36.5033,2,36.5098,2,229.3,2,229.1,2,1.41,2,0.27,2,0.16,2,2101.9,2,2394.6,2,-999,9,-999,9,-999,-999,9,-999,1
  740H20180228, A09.5,53,1,20,6428,2,20180315,2101,-23.6017,-18.3004,4786,156.2,19.7526,36.2637,2,36.2763,2,221.7,2,221,2,1.36,2,0.32,2,0.19,2,2122.4,2,2382,2,-999,9,-999,9,-999,-999,9,-999,1
  740H20180228, A09.5,53,1,19,6692,2,20180315,2101,-23.6017,-18.3004,4786,180.2,19.1086,36.1526,2,36.1531,2,215.4,2,214.9,2,1.59,2,0.9,2,0.24,2,2111.7,2,2372,2,-999,9,-999,9,-999,-999,9,-999,1
  740H20180228, A09.5,53,1,18,1098,2,20180315,2101,-23.6017,-18.3004,4786,255.5,15.3955,35.4513,2,35.4505,2,206,2,205.8,2,2.87,2,6.23,2,0.57,2,2132.6,2,2328,2,-999,9,-999,9,-999,-999,9,-999,1
  740H20180228, A09.5,53,1,17,1122,2,20180315,2101,-23.6017,-18.3004,4786,380.9,11.9737,35.0359,2,35.0384,2,192.2,2,187.6,2,5.65,2,14.57,2,1.04,2,2147.6,2,2304.3,2,-999,9,-999,9,-999,-999,9,-999,1
  740H20180228, A09.5,53,1,16,6420,2,20180315,2101,-23.6017,-18.3004,4786,482.5,10.0839,34.8206,2,34.8296,2,177.9,2,176.6,2,9.11,2,20.35,2,1.4,2,2175.9,6,2295.8,6,-999,9,-999,9,-999,-999,9,-999,1
  740H20180228, A09.5,53,1,15,6419,2,20180315,2101,-23.6017,-18.3004,4786,633.8,6.8043,34.4879,2,34.4863,2,183.9,2,183.9,2,17.55,2,27.81,2,1.88,2,2200.6,2,2288.7,2,-999,9,-999,9,-999,-999,9,-999,1
  740H20180228, A09.5,53,1,14,6418,2,20180315,2101,-23.6017,-18.3004,4786,779.5,5.1069,34.3997,2,34.4005,2,183.7,2,183.7,2,26.82,2,31.45,2,2.13,2,2201.2,2,2291.3,2,-999,9,-999,9,-999,-999,9,-999,1
  740H20180228, A09.5,53,1,13,6417,2,20180315,2101,-23.6017,-18.3004,4786,886,4.375,34.4124,2,34.4142,2,181.3,2,193.7,2,34.35,2,32.66,2,2.21,2,2224.7,2,2298.8,2,-999,9,-999,9,-999,-999,9,-999,1
  740H20180228, A09.5,53,1,12,6416,2,20180315,2101,-23.6017,-18.3004,4786,1012.6,3.8719,34.473,2,34.4739,2,181.2,2,180.9,2,39.89,2,32.48,2,2.21,2,2215.4,6,2305.1,6,-999,9,-999,9,-999,-999,9,-999,1
  740H20180228, A09.5,53,1,11,6415,2,20180315,2101,-23.6017,-18.3004,4786,1264.9,3.533,34.6261,2,34.6252,2,188.2,2,187.7,2,42.38,2,30.43,2,2.07,2,2224.3,2,2317.4,2,-999,9,-999,9,-999,-999,9,-999,1
  740H20180228, A09.5,53,1,10,6414,2,20180315,2101,-23.6017,-18.3004,4786,1518.9,3.2259,34.7614,2,34.7638,2,206.8,2,206.5,2,42.75,2,27.24,2,1.83,2,2206.5,2,2319.9,2,-999,9,-999,9,-999,-999,9,-999,1
  740H20180228, A09.5,53,1,9,6413,2,20180315,2101,-23.6017,-18.3004,4786,1772.7,3.283,34.8725,2,34.8734,2,229.8,2,229.8,2,33.5,2,23.32,2,1.55,2,2196.3,2,2322.3,2,-999,9,-999,9,-999,-999,9,-999,1
  740H20180228, A09.5,53,1,8,6412,2,20180315,2101,-23.6017,-18.3004,4786,2026.3,3.2043,34.919,2,34.9183,2,244.2,2,243.3,2,29.18,2,21.36,2,1.42,2,2178.4,2,2319.8,2,-999,9,-999,9,-999,-999,9,-999,1
  740H20180228, A09.5,53,1,7,6411,2,20180315,2101,-23.6017,-18.3004,4786,2280.7,3.0941,34.9364,2,34.936,2,250.7,2,250,2,27.85,2,20.39,2,1.36,2,2189.1,2,2322.3,2,-999,9,-999,9,-999,-999,9,-999,1
  740H20180228, A09.5,53,1,6,6410,2,20180315,2101,-23.6017,-18.3004,4786,2535.5,2.93,34.9254,2,34.927,2,249.9,2,249.5,2,31.39,2,20.79,2,1.39,2,2184.4,6,2324.2,6,-999,9,-999,9,-999,-999,9,-999,1
  740H20180228, A09.5,53,1,5,6409,2,20180315,2101,-23.6017,-18.3004,4786,2790.2,2.7801,34.9163,2,34.9141,2,249.7,2,249.3,2,34.65,2,21.12,2,1.41,2,2181.2,2,2323.5,2,-999,9,-999,9,-999,-999,9,-999,1
  740H20180228, A09.5,53,1,4,6408,2,20180315,2101,-23.6017,-18.3004,4786,3302.1,2.5172,34.8954,2,34.8955,2,248.8,2,248.3,2,41.87,2,21.88,2,1.46,2,2196,2,2331.5,2,-999,9,-999,9,-999,-999,9,-999,1
  740H20180228, A09.5,53,1,3,6407,2,20180315,2101,-23.6017,-18.3004,4786,3814.2,1.8943,34.8333,2,34.8335,2,240.4,2,239.7,2,66.05,2,25.02,2,1.7,2,2211.9,2,2343.1,2,-999,9,-999,9,-999,-999,9,-999,1
  740H20180228, A09.5,53,1,2,6406,2,20180315,2101,-23.6017,-18.3004,4786,4327.4,1.5483,34.797,2,34.798,2,236,2,231.6,2,79.92,2,26.8,2,1.83,2,2231.2,2,2350.6,2,-999,9,-999,9,-999,-999,9,-999,1
  740H20180228, A09.5,53,1,1,5977,2,20180315,2101,-23.6017,-18.3004,4786,4860.1,1.0063,34.7396,2,34.7379,2,228.4,2,227.8,2,102.53,2,29.82,2,2.04,2,2245.9,6,2359.9,6,-999,9,-999,9,-999,-999,9,-999,1
  740H20180228, A09.5,54,1,24,1086,2,20180316,424,-23.5227,-17.7012,4953,5.9,26.287,36.8464,2,36.837,2,204.7,2,207.5,2,1.32,2,0.26,2,0.16,2,2111.3,2,2418.7,2,-999,9,-999,9,-999,-999,9,-999,1
  740H20180228, A09.5,54,1,23,6427,2,20180316,424,-23.5227,-17.7012,4953,51.5,23.2335,36.4997,2,36.5052,2,232,2,230.6,2,1.39,2,0.26,2,0.17,2,2110.9,2,2394.6,2,-999,9,-999,9,-999,-999,9,-999,1
  740H20180228, A09.5,54,1,22,6426,2,20180316,424,-23.5227,-17.7012,4953,71.4,21.7546,36.4494,2,36.454,2,234.1,2,233.4,2,1.32,2,0.28,2,0.17,2,2106.6,6,2393.2,6,-999,9,-999,9,-999,-999,9,-999,1
  740H20180228, A09.5,54,1,21,6425,2,20180316,424,-23.5227,-17.7012,4953,101.3,20.8067,36.3954,2,36.4001,2,231.6,2,228.4,2,1.28,2,0.29,2,0.16,2,2100.4,2,2389.2,2,-999,9,-999,9,-999,-999,9,-999,1
  740H20180228, A09.5,54,1,20,6428,2,20180316,424,-23.5227,-17.7012,4953,156.7,19.829,36.2969,2,36.3026,2,223.9,2,222.3,2,1.39,2,0.27,2,0.17,2,2124,2,2383.9,2,-999,9,-999,9,-999,-999,9,-999,1
  740H20180228, A09.5,54,1,19,6692,2,20180316,424,-23.5227,-17.7012,4953,176.9,19.5307,36.2428,2,36.2477,2,222.2,2,221,2,1.49,2,0.33,2,0.19,2,2106.4,2,2381.9,2,-999,9,-999,9,-999,-999,9,-999,1
  740H20180228, A09.5,54,1,18,1098,2,20180316,424,-23.5227,-17.7012,4953,252.7,16.212,35.5949,2,35.5973,2,210,2,209.2,2,2.35,2,4.46,2,0.45,2,2131.1,2,2337.2,2,-999,9,-999,9,-999,-999,9,-999,1
  740H20180228, A09.5,54,1,17,1122,2,20180316,424,-23.5227,-17.7012,4953,378.6,12.1979,35.0622,2,35.0516,2,197.5,2,199.5,2,5.18,2,13.74,2,0.99,2,2144.4,2,2307.5,2,-999,9,-999,9,-999,-999,9,-999,1
  740H20180228, A09.5,54,1,16,6420,2,20180316,424,-23.5227,-17.7012,4953,504.3,9.8642,34.7846,2,34.5907,3,189.3,2,189.2,2,9.09,2,19.75,2,1.36,2,2179.3,2,2296,2,-999,9,-999,9,-999,-999,9,-999,1
  740H20180228, A09.5,54,1,15,6419,2,20180316,424,-23.5227,-17.7012,4953,615.1,7.6954,34.5616,2,34.7838,3,181.7,2,181.6,2,15.09,2,26.04,2,1.77,2,2183.2,6,2290.5,6,-999,9,-999,9,-999,-999,9,-999,1
  740H20180228, A09.5,54,1,14,6418,2,20180316,424,-23.5227,-17.7012,4953,757,5.4605,34.3985,2,34.3983,2,190.8,2,191.4,2,23.99,2,30.17,2,2.03,2,2215.2,2,2290.9,2,-999,9,-999,9,-999,-999,9,-999,1
  740H20180228, A09.5,54,1,13,6417,2,20180316,424,-23.5227,-17.7012,4953,882.4,4.4169,34.4085,2,34.4086,2,182.2,2,181.5,2,33.73,2,32.58,2,2.2,2,2211.9,2,2299.3,2,-999,9,-999,9,-999,-999,9,-999,1
  740H20180228, A09.5,54,1,12,6416,2,20180316,424,-23.5227,-17.7012,4953,998.3,3.928,34.4598,2,34.4618,2,181.4,2,181,2,39.74,2,32.76,2,2.23,2,2235.7,2,2305.1,2,-999,9,-999,9,-999,-999,9,-999,1
  740H20180228, A09.5,54,1,11,6415,2,20180316,424,-23.5227,-17.7012,4953,1261.4,3.4784,34.6262,2,34.6273,2,189,2,189,2,43.42,2,30.67,2,2.08,2,2219.3,2,2317.4,2,-999,9,-999,9,-999,-999,9,-999,1
  740H20180228, A09.5,54,1,10,6414,2,20180316,424,-23.5227,-17.7012,4953,1515.2,3.2035,34.7509,2,34.7532,2,205.3,2,205.3,2,43.95,2,27.75,2,1.86,2,2211.5,6,2323.2,6,-999,9,-999,9,-999,-999,9,-999,1
  740H20180228, A09.5,54,1,9,6413,2,20180316,424,-23.5227,-17.7012,4953,1769,3.0379,34.8391,2,34.838,2,224.4,2,224.6,2,40.4,2,24.78,2,1.66,2,2198,2,2324.2,2,-999,9,-999,9,-999,-999,9,-999,1
  740H20180228, A09.5,54,1,8,6412,2,20180316,424,-23.5227,-17.7012,4953,2022.5,3.0597,34.9029,2,34.9046,2,241.5,2,241,2,33.12,2,22.06,2,1.47,2,2185.5,2,2320.6,2,-999,9,-999,9,-999,-999,9,-999,1
  740H20180228, A09.5,54,1,7,6411,2,20180316,424,-23.5227,-17.7012,4953,2275.9,2.8787,34.9021,2,34.9001,2,243.5,2,243.3,2,35.8,2,22,2,1.47,2,2186,2,2328,2,-999,9,-999,9,-999,-999,9,-999,1
  740H20180228, A09.5,54,1,6,6410,2,20180316,424,-23.5227,-17.7012,4953,2531.1,2.8101,34.9101,2,34.9088,2,246.9,2,247.1,2,35.56,2,21.57,2,1.44,2,2183.1,6,2329.4,6,-999,9,-999,9,-999,-999,9,-999,1
  740H20180228, A09.5,54,1,5,6409,2,20180316,424,-23.5227,-17.7012,4953,3040.1,2.5944,34.8996,2,34.9012,2,248,2,247.1,2,40.29,2,22.47,2,1.46,2,2191.9,2,2329.5,2,-999,9,-999,9,-999,-999,9,-999,1
  740H20180228, A09.5,54,1,4,6408,2,20180316,424,-23.5227,-17.7012,4953,3551.4,2.1316,34.8567,2,34.8549,2,243.3,2,243.4,2,56.98,2,23.89,2,1.62,2,2204.9,2,2340.4,2,-999,9,-999,9,-999,-999,9,-999,1
  740H20180228, A09.5,54,1,3,6407,2,20180316,424,-23.5227,-17.7012,4953,4063.7,1.7535,34.8179,2,34.8181,2,238.8,2,238,2,71.92,2,25.81,2,1.77,2,2217.6,2,2347.3,2,-999,9,-999,9,-999,-999,9,-999,1
  740H20180228, A09.5,54,1,2,6406,2,20180316,424,-23.5227,-17.7012,4953,4585,1.157,34.7568,2,34.7549,2,231,2,239.5,3,95.5,2,28.87,2,1.98,2,2240.6,2,2358,2,-999,9,-999,9,-999,-999,9,-999,1
  740H20180228, A09.5,54,1,1,5977,2,20180316,424,-23.5227,-17.7012,4953,4956.2,1.0468,34.7421,2,34.7406,2,228.7,2,228.4,2,101.08,2,29.66,2,2.03,2,2247.1,6,2360.2,6,-999,9,-999,9,-999,-999,9,-999,1
  740H20180228, A09.5,55,1,24,1086,2,20180316,1139,-23.4427,-17.0999,4971,6.5,26.3663,36.8509,2,36.8505,2,205.7,2,208.3,2,1.32,2,0.23,2,0.16,2,2108.8,2,2424.6,2,-999,9,-999,9,-999,-999,9,-999,1
  740H20180228, A09.5,55,1,23,6427,2,20180316,1139,-23.4427,-17.0999,4971,71.6,22.5017,36.4858,2,36.4903,2,233,2,232.6,2,1.29,2,0.21,2,0.14,2,2098.3,2,2398,2,-999,1,-999,9,-999,-999,9,-999,1
  740H20180228, A09.5,55,1,22,6426,2,20180316,1139,-23.4427,-17.0999,4971,101.5,20.8576,36.3906,2,36.3892,2,230.4,2,230.2,2,1.39,2,0.19,2,0.15,2,2099,2,2390.8,2,-999,9,-999,9,-999,-999,9,-999,1
  740H20180228, A09.5,55,1,21,6425,2,20180316,1139,-23.4427,-17.0999,4971,151.8,19.6922,36.2622,2,36.2703,2,220.7,2,221.6,2,1.39,2,0.25,2,0.16,2,2107.1,6,2382.7,6,-999,1,-999,9,-999,-999,9,-999,1
  740H20180228, A09.5,55,1,20,6428,2,20180316,1139,-23.4427,-17.0999,4971,176.7,19.2734,36.1845,2,36.1852,2,219.6,2,219,2,1.4,2,0.52,2,0.19,2,2109.2,2,2370,2,-999,9,-999,9,-999,-999,9,-999,1
  740H20180228, A09.5,55,1,19,6692,2,20180316,1139,-23.4427,-17.0999,4971,252.7,15.5135,35.4821,2,35.4826,2,207.5,2,207.9,2,2.59,2,5.58,2,0.51,2,2116.9,2,2330.7,2,-999,9,-999,9,-999,-999,9,-999,1
  740H20180228, A09.5,55,1,18,1098,2,20180316,1139,-23.4427,-17.0999,4971,377.9,12.2871,35.0739,2,35.077,2,196.3,2,195.4,2,5.04,2,13.34,2,0.96,2,2144.2,2,2305.3,2,-999,9,-999,9,-999,-999,9,-999,1
  740H20180228, A09.5,55,1,17,1122,2,20180316,1139,-23.4427,-17.0999,4971,507.2,9.6474,34.7624,2,34.7657,2,188.1,2,187.9,2,9.54,2,20.37,2,1.4,2,2164.3,2,2297.3,2,-999,9,-999,9,-999,-999,9,-999,1
  740H20180228, A09.5,55,1,16,6420,2,20180316,1139,-23.4427,-17.0999,4971,633,6.783,34.4836,2,34.4845,2,189.2,2,188.6,2,17.03,2,27.19,2,1.84,2,2181.7,6,2288,6,-999,9,-999,9,-999,-999,9,-999,1
  740H20180228, A09.5,55,1,15,6419,2,20180316,1139,-23.4427,-17.0999,4971,759.5,5.3306,34.4224,2,34.4175,2,177.6,2,178.4,2,26.13,2,31.59,2,2.12,2,2202.2,2,2294,2,-999,9,-999,9,-999,-999,9,-999,1
  740H20180228, A09.5,55,1,14,6418,2,20180316,1139,-23.4427,-17.0999,4971,885.8,4.241,34.4019,2,34.4034,2,187.3,2,187.5,2,35.77,2,32.4,2,2.2,2,2210.4,2,2302,2,-999,9,-999,9,-999,-999,9,-999,1
  740H20180228, A09.5,55,1,13,6417,2,20180316,1139,-23.4427,-17.0999,4971,1058.8,3.6963,34.4985,2,34.4972,2,183.1,2,182.7,2,42.34,2,32.53,2,2.21,2,2218,6,2310.5,6,-999,9,-999,9,-999,-999,9,-999,1
  740H20180228, A09.5,55,1,12,6416,2,20180316,1139,-23.4427,-17.0999,4971,1262.1,3.3512,34.6337,2,34.6336,2,189.5,2,401.4,4,45.78,2,30.77,2,2.08,2,2218.1,2,2318.4,2,-999,9,-999,9,-999,-999,9,-999,1
  740H20180228, A09.5,55,1,11,6415,2,20180316,1139,-23.4427,-17.0999,4971,1515,3.1606,34.7637,2,34.7637,2,208.2,2,207,2,43.64,2,27.55,2,1.84,2,2208.5,2,2323,2,-999,9,-999,9,-999,-999,9,-999,1
  740H20180228, A09.5,55,1,10,6414,2,20180316,1139,-23.4427,-17.0999,4971,1766.7,3.1536,34.8607,2,34.8614,2,228.6,2,228.4,2,36.48,2,24.06,2,1.6,2,2191.9,2,2324.4,2,-999,9,-999,9,-999,-999,9,-999,1
  740H20180228, A09.5,55,1,9,6413,2,20180316,1139,-23.4427,-17.0999,4971,2021,3.1488,34.9222,2,34.9222,2,245.3,2,244.3,2,29.36,2,21.34,2,1.41,2,2179.9,2,2319.2,2,-999,9,-999,9,-999,-999,9,-999,1
  740H20180228, A09.5,55,1,8,6412,2,20180316,1139,-23.4427,-17.0999,4971,2276,3.0757,34.9373,2,34.9361,2,251.2,2,250.5,2,27.92,2,20.45,2,1.35,2,2174.6,2,2322,2,-999,9,-999,9,-999,-999,9,-999,1
  740H20180228, A09.5,55,1,7,6411,2,20180316,1139,-23.4427,-17.0999,4971,2530.2,2.9182,34.9282,2,34.9277,2,250.9,2,249.8,2,30.9,2,20.69,2,1.36,2,2176.4,6,2323.9,6,-999,9,-999,9,-999,-999,9,-999,1
  740H20180228, A09.5,55,1,6,6410,2,20180316,1139,-23.4427,-17.0999,4971,2783.2,2.8059,34.9199,2,34.9205,2,250.4,2,249.9,2,33.59,2,20.99,2,1.38,2,2180.8,2,2328.1,2,-999,9,-999,9,-999,-999,9,-999,1
  740H20180228, A09.5,55,1,5,6409,2,20180316,1139,-23.4427,-17.0999,4971,3294.2,2.4918,34.893,2,34.8928,2,248.3,2,248,2,43.15,2,22.04,2,1.45,2,2189.6,2,2333.2,2,-999,9,-999,9,-999,-999,9,-999,1
  740H20180228, A09.5,55,1,4,6408,2,20180316,1139,-23.4427,-17.0999,4971,3806.8,1.8801,34.8323,2,34.8325,2,240.2,2,239.8,2,66.82,2,25.06,2,1.68,2,2213,2,2345.1,2,-999,9,-999,9,-999,-999,9,-999,1
  740H20180228, A09.5,55,1,3,6407,2,20180316,1139,-23.4427,-17.0999,4971,4299.6,1.443,34.7869,2,34.7863,2,234.6,2,233.6,2,84.01,2,27.22,2,1.84,2,2226.9,2,2353,2,-999,9,-999,9,-999,-999,9,-999,1
  740H20180228, A09.5,55,1,2,6406,2,20180316,1139,-23.4427,-17.0999,4971,4834.7,1.0927,34.748,2,34.7485,2,229.3,2,229,2,98.86,2,29.15,2,1.99,2,2240.7,2,2357.3,2,-999,9,-999,9,-999,-999,9,-999,1
  740H20180228, A09.5,55,1,1,5977,2,20180316,1139,-23.4427,-17.0999,4971,5050.2,1.1103,34.7469,2,34.7491,2,229.2,2,228.7,2,98.6,2,29.32,2,1.99,2,2243,6,2359.8,6,-999,9,-999,9,-999,-999,9,-999,1