BOTTLE,20190321PRINUNIVRMK,,,,,,,,,,,,,,,,,,,,,,,,,,,,,,,,,,,,,,,
EXPOCODE,SECT_ID,STNNBR,CASTNO,SAMPNO,BTLNBR,BTLNBR_FLAG_W,DATE,TIME,LATITUDE,LONGITUDE,DEPTH,CTDPRS,CTDTMP,CTDSAL,CTDSAL_FLAG_W,SALNTY,SALNTY_FLAG_W,CTDOXY,CTDOXY_FLAG_W,OXYGEN,OXYGEN_FLAG_W,SILCAT,SILCAT_FLAG_W,NITRAT,NITRAT_FLAG_W,PHSPHT,PHSPHT_FLAG_W,TCARBN,TCARBN_FLAG_W,ALKALI,ALKALI_FLAG_W,CHLORA,CHLORA_FLAG_W,DELC14,DELC14_FLAG_W,C14ERR,DELC13,DELC13_FLAG_W,DELO18,DELO18_FLAG_W
,,,,,,,,,,,METERS,DBAR,ITS-90,PSS-78,,PSS-78,,UMOL/KG,,UMOL/KG,,UMOL/KG,,UMOL/KG,,UMOL/KG,,UMOL/KG,,UMOL/KG,,UG/KG,,/MILLE,,/MILLE,/MILLE,,/MILLE,
  740H20180228, A09.5,61,1,24,1086,2,20180318,724,-22.9667,-13.767,3632,5.5,25.8077,36.7248,2,36.7246,2,207.6,2,216.8,2,1.22,2,0.23,2,0.18,2,2107.1,2,2412.5,2,-999,9,-999,1,-999,-999,1,-999,1
  740H20180228, A09.5,61,1,23,6427,2,20180318,724,-22.9667,-13.767,3632,50.6,24.6004,36.6006,2,36.6207,2,219.7,2,224.6,2,1.19,2,0.21,2,0.16,2,2099.9,2,2404.1,2,-999,9,-999,1,-999,-999,1,-999,1
  740H20180228, A09.5,61,1,22,6426,2,20180318,724,-22.9667,-13.767,3632,65.7,22.4028,36.4604,2,36.4593,2,234.1,2,235.3,2,1.31,2,0.25,2,0.14,2,2099.3,2,2394.9,2,-999,9,-999,1,-999,-999,1,-999,1
  740H20180228, A09.5,61,1,21,6425,2,20180318,724,-22.9667,-13.767,3632,101.1,20.6723,36.3757,2,36.3786,2,231.5,2,229.9,2,1.34,2,0.19,2,0.16,2,2097.9,2,2389.4,2,-999,9,-999,1,-999,-999,1,-999,1
  740H20180228, A09.5,61,1,20,6428,2,20180318,724,-22.9667,-13.767,3632,141.6,19.6668,36.2559,2,36.2569,2,226.8,2,226.7,2,1.36,2,0.18,2,0.15,2,2102.7,6,2382.5,6,-999,9,-999,1,-999,-999,1,-999,1
  740H20180228, A09.5,61,1,19,6692,2,20180318,724,-22.9667,-13.767,3632,177.5,18.49,36.0109,2,36.0211,2,221.6,2,221.3,2,1.61,2,0.73,2,0.22,2,2107.3,2,2367.5,2,-999,9,-999,1,-999,-999,1,-999,1
  740H20180228, A09.5,61,1,18,1098,2,20180318,724,-22.9667,-13.767,3632,252.5,14.8181,35.3735,2,35.3794,2,208.5,2,207.6,2,2.78,2,6.58,2,0.59,2,2118,2,2324.3,2,-999,9,-999,1,-999,-999,1,-999,1
  740H20180228, A09.5,61,1,17,1122,2,20180318,724,-22.9667,-13.767,3632,327.5,12.9983,35.1527,2,35.1489,2,202.8,2,203.1,2,4.1,2,10.95,2,0.85,2,2136.9,2,2314.3,2,-999,9,-999,1,-999,-999,1,-999,1
  740H20180228, A09.5,61,1,16,6420,2,20180318,724,-22.9667,-13.767,3632,454.4,10.4238,34.8562,2,34.8644,2,187.9,2,188.2,2,7.72,2,18.22,2,1.3,2,2157.1,2,2299,2,-999,9,-999,1,-999,-999,1,-999,1
  740H20180228, A09.5,61,1,15,6419,2,20180318,724,-22.9667,-13.767,3632,529.2,8.9688,34.6985,2,34.6863,2,176.6,2,177.1,2,11.75,2,23.39,2,1.63,2,2178.4,2,2293.3,2,-999,9,-999,1,-999,-999,1,-999,1
  740H20180228, A09.5,61,1,14,6418,2,20180318,724,-22.9667,-13.767,3632,630.9,6.656,34.4755,2,34.4778,2,184,2,183.7,2,17.82,2,28.1,2,1.94,2,2188.6,6,2289,6,-999,9,-16,2,4,0.78,2,-999,1
  740H20180228, A09.5,61,1,13,6417,2,20180318,724,-22.9667,-13.767,3632,756.6,4.926,34.4103,2,34.4105,2,179.8,2,179.5,2,29.01,2,32.12,2,2.22,2,2205.2,2,2293.7,2,-999,9,-999,1,-999,-999,1,-999,1
  740H20180228, A09.5,61,1,12,6416,2,20180318,724,-22.9667,-13.767,3632,882.8,4.1275,34.4324,2,34.4381,2,180.5,2,179.9,2,37.16,2,32.92,2,2.28,2,2215.3,2,2303.5,2,-999,9,-999,1,-999,-999,1,-999,1
  740H20180228, A09.5,61,1,11,6415,2,20180318,724,-22.9667,-13.767,3632,1009.3,3.8328,34.4806,2,34.481,2,180.3,2,180.1,2,40.48,2,32.76,2,2.28,2,2217,6,2308.5,6,-999,9,-999,1,-999,-999,1,-999,1
  740H20180228, A09.5,61,1,10,6414,2,20180318,724,-22.9667,-13.767,3632,1262.2,3.5032,34.6268,2,34.6275,2,189,2,189.4,2,43.1,2,30.52,2,2.12,2,2216.2,2,2318.2,2,-999,9,-999,1,-999,-999,1,-999,1
  740H20180228, A09.5,61,1,9,6413,2,20180318,724,-22.9667,-13.767,3632,1514.8,3.1758,34.7579,2,34.7563,2,206.9,2,206.6,2,44.25,2,27.46,2,1.9,2,2206.9,2,2323.3,2,-999,9,-999,1,-999,-999,1,-999,1
  740H20180228, A09.5,61,1,8,6412,2,20180318,724,-22.9667,-13.767,3632,1768.4,2.8767,34.8197,2,34.8204,2,221.6,2,221.9,2,45.26,2,25.33,2,1.75,2,2204.5,2,2328.1,2,-999,9,-999,1,-999,-999,1,-999,1
  740H20180228, A09.5,61,1,7,6411,2,20180318,724,-22.9667,-13.767,3632,2022.6,2.7375,34.8513,2,34.8497,2,231.1,2,230.7,2,44.92,2,24.15,2,1.66,2,2195.6,2,2328.5,2,-999,9,-999,9,-999,-999,9,-999,1
  740H20180228, A09.5,61,1,6,6410,2,20180318,724,-22.9667,-13.767,3632,2276.2,2.6912,34.8836,2,34.8816,2,241.1,2,239.5,2,41.84,2,22.68,2,1.56,2,2190.9,6,2330.8,6,-999,9,-999,1,-999,-999,1,-999,1
  740H20180228, A09.5,61,1,5,6409,2,20180318,724,-22.9667,-13.767,3632,2428.9,2.7179,34.9008,2,34.8989,2,245.6,2,245.1,2,38.44,4,21.87,4,1.5,4,2185.3,2,2329.2,2,-999,9,-999,9,-999,-999,9,-999,1
  740H20180228, A09.5,61,1,4,6408,2,20180318,724,-22.9667,-13.767,3632,2633.2,2.5371,34.8769,2,34.8749,2,241.2,2,242.1,2,45.43,2,23.06,2,1.58,2,2195.4,2,2331.3,2,-999,9,-999,1,-999,-999,1,-999,1
  740H20180228, A09.5,61,1,3,6407,2,20180318,724,-22.9667,-13.767,3632,3040,2.4546,34.875,2,34.8742,2,242.6,2,241.2,2,47.89,2,23.15,2,1.58,2,2193.6,2,2335.6,2,-999,9,-999,9,-999,-999,9,-999,1
  740H20180228, A09.5,61,1,2,6406,2,20180318,724,-22.9667,-13.767,3632,3551,2.3158,34.8671,2,34.8664,2,243,2,243.3,2,52.32,2,23.42,2,1.6,2,2200.1,2,2339.9,2,-999,9,-999,1,-999,-999,1,-999,1
  740H20180228, A09.5,61,1,1,5977,2,20180318,724,-22.9667,-13.767,3632,3680,2.2582,34.8609,2,34.8659,2,242.4,2,232.6,3,54.69,2,23.71,2,1.63,2,2201.3,6,2339.2,6,-999,9,-999,1,-999,-999,1,-999,1
  740H20180228, A09.5,62,1,24,1086,2,20180318,1420,-22.788,-13.2,3708,6,25.8197,36.6981,2,36.7009,2,208.4,2,207.6,2,1.36,2,0.19,2,0.18,2,2103.9,2,2411.6,2,-999,9,-999,9,-999,-999,9,-999,1
  740H20180228, A09.5,62,1,23,6427,2,20180318,1420,-22.788,-13.2,3708,50.2,22.7221,36.4266,2,36.4273,2,233.4,2,232.3,2,1.46,2,0.24,2,0.16,2,2088.4,2,2387.3,2,-999,9,-999,9,-999,-999,9,-999,1
  740H20180228, A09.5,62,1,22,6426,2,20180318,1420,-22.788,-13.2,3708,75.4,21.3277,36.3431,2,36.3435,2,235.5,2,236.2,2,1.32,2,0.21,2,0.14,2,2097,2,2391.9,2,-999,1,-999,9,-999,-999,9,-999,1
  740H20180228, A09.5,62,1,21,6425,2,20180318,1420,-22.788,-13.2,3708,99.9,20.4545,36.2975,2,36.2956,2,232.6,2,232.8,2,1.38,2,0.28,2,0.16,2,2093,2,2386.8,2,-999,9,-999,9,-999,-999,9,-999,1
  740H20180228, A09.5,62,1,20,6428,2,20180318,1420,-22.788,-13.2,3708,132.1,19.5731,36.2064,2,36.2097,2,226.4,2,226.1,2,1.38,2,0.26,2,0.17,2,2099.5,6,2380.3,6,-999,1,-999,9,-999,-999,9,-999,1
  740H20180228, A09.5,62,1,19,6692,2,20180318,1420,-22.788,-13.2,3708,177.4,17.6571,35.8425,2,35.8446,2,218.6,2,218.5,2,1.8,2,1.86,2,0.31,2,2102.1,2,2356,2,-999,9,-999,9,-999,-999,9,-999,1
  740H20180228, A09.5,62,1,18,1098,2,20180318,1420,-22.788,-13.2,3708,252.5,14.5359,35.3273,2,35.3263,2,206.9,2,206.2,2,3.02,2,7.37,2,0.63,2,2120.3,2,2321.5,2,-999,9,-999,9,-999,-999,9,-999,1
  740H20180228, A09.5,62,1,17,1122,2,20180318,1420,-22.788,-13.2,3708,378.7,11.6648,34.9996,2,34.9874,2,195,2,193.9,2,5.9,2,15.19,2,1.11,2,2145.5,2,2306,2,-999,9,-999,9,-999,-999,9,-999,1
  740H20180228, A09.5,62,1,16,6420,2,20180318,1420,-22.788,-13.2,3708,477.5,9.4665,34.7487,2,34.7499,2,176.9,2,176.4,2,10.27,2,21.77,2,1.53,2,2170.7,2,2295.2,2,-999,9,-999,9,-999,-999,9,-999,1
  740H20180228, A09.5,62,1,15,6419,2,20180318,1420,-22.788,-13.2,3708,507,8.6715,34.6621,2,34.6552,2,178.9,2,178.6,2,12.31,2,23.74,2,1.66,2,2172.4,6,2293.3,6,-999,9,-999,9,-999,-999,9,-999,1
  740H20180228, A09.5,62,1,14,6418,2,20180318,1420,-22.788,-13.2,3708,633.4,6.1972,34.4618,2,34.4616,2,172.6,2,172.4,2,20.94,2,30.1,2,2.08,2,2192.9,2,2291.1,2,-999,9,-999,9,-999,-999,9,-999,1
  740H20180228, A09.5,62,1,13,6417,2,20180318,1420,-22.788,-13.2,3708,784.9,4.903,34.4265,2,34.4262,2,169.4,2,169.1,2,29.58,2,32.74,2,2.28,2,2208.5,2,2295.6,2,-999,9,-999,9,-999,-999,9,-999,1
  740H20180228, A09.5,62,1,12,6416,2,20180318,1420,-22.788,-13.2,3708,840.3,4.5608,34.4258,2,34.4258,2,174.1,2,174.5,2,32.58,2,32.78,2,2.29,2,2208.5,6,2300.1,6,-999,9,-999,9,-999,-999,9,-999,1
  740H20180228, A09.5,62,1,11,6415,2,20180318,1420,-22.788,-13.2,3708,1012,3.9265,34.4725,2,34.4755,2,180.4,2,180.1,2,39.11,2,32.43,2,2.28,2,2216,2,2308.7,2,-999,9,-999,9,-999,-999,9,-999,1
  740H20180228, A09.5,62,1,10,6414,2,20180318,1420,-22.788,-13.2,3708,1264.3,3.5147,34.6658,2,34.6663,2,191.4,2,191.3,2,41.53,2,29.53,2,2.07,2,2211,2,2317.1,2,-999,9,-999,9,-999,-999,9,-999,1
  740H20180228, A09.5,62,1,9,6413,2,20180318,1420,-22.788,-13.2,3708,1518,3.2467,34.7604,2,34.7609,2,205.8,2,205.7,2,42.67,2,27.26,2,1.91,2,2207.8,2,2321,2,-999,9,-999,9,-999,-999,9,-999,1
  740H20180228, A09.5,62,1,8,6412,2,20180318,1420,-22.788,-13.2,3708,1771.2,3.0349,34.818,2,34.817,2,219.5,2,219.4,2,42.16,2,25.48,2,1.77,2,2198.7,2,2325.7,2,-999,9,-999,9,-999,-999,9,-999,1
  740H20180228, A09.5,62,1,7,6411,2,20180318,1420,-22.788,-13.2,3708,2025.5,2.7655,34.857,2,34.855,2,232.4,2,231.7,2,42.96,2,23.89,2,1.66,2,2195.6,2,2328.3,2,-999,9,-999,9,-999,-999,9,-999,1
  740H20180228, A09.5,62,1,6,6410,2,20180318,1420,-22.788,-13.2,3708,2279.5,2.603,34.8702,2,34.8709,2,238.3,2,238.4,2,44.37,2,23.31,2,1.63,2,2194.5,6,2332.1,6,-999,9,-999,9,-999,-999,9,-999,1
  740H20180228, A09.5,62,1,5,6409,2,20180318,1420,-22.788,-13.2,3708,2535.8,2.5166,34.8744,2,34.8732,2,240.7,2,239.9,2,45.89,2,23.14,2,1.61,2,2192.4,2,2333,2,-999,9,-999,9,-999,-999,9,-999,1
  740H20180228, A09.5,62,1,4,6408,2,20180318,1420,-22.788,-13.2,3708,2789.7,2.4891,34.8752,2,34.8739,2,241.2,2,241.3,2,46.82,2,23.13,2,1.62,2,2196.6,2,2334,2,-999,9,-999,9,-999,-999,9,-999,1
  740H20180228, A09.5,62,1,3,6407,2,20180318,1420,-22.788,-13.2,3708,3301,2.4437,34.8718,2,34.8718,2,242,2,239.6,2,49.3,2,23.28,2,1.63,2,2193.7,2,2337,2,-999,9,-999,9,-999,-999,9,-999,1
  740H20180228, A09.5,62,1,1,5977,2,20180318,1420,-22.788,-13.2,3708,3751.2,2.254,34.8592,2,34.8586,2,242,2,242,2,55.7,2,23.85,2,1.68,2,2201.4,6,2340.6,6,-999,9,-999,9,-999,-999,9,-999,1
  740H20180228, A09.5,62,1,2,6406,2,20180318,1420,-22.788,-13.2,3708,3752.2,2.2548,34.8591,2,34.8603,2,242.5,2,-999,9,55.56,2,23.84,2,1.67,2,2201.8,2,2338.4,2,-999,9,-999,9,-999,-999,9,-999,1
  740H20180228, A09.5,63,1,24,1086,2,20180318,2046,-22.4996,-12.7949,4419,6.1,25.2734,36.623,2,36.6312,2,208,2,209,2,1.29,2,0.24,2,0.2,2,2105,2,2405.2,2,-999,9,-999,9,-999,-999,9,-999,1
  740H20180228, A09.5,63,1,23,6427,2,20180318,2046,-22.4996,-12.7949,4419,50.1,22.7638,36.4312,2,36.4377,2,228.8,2,228.2,2,1.14,2,0.19,2,0.19,2,2096.2,2,2394,2,-999,9,-999,9,-999,-999,9,-999,1
  740H20180228, A09.5,63,1,22,6426,2,20180318,2046,-22.4996,-12.7949,4419,72.4,21.8232,36.3742,2,36.3753,2,229.3,2,230.2,2,1.19,2,0.23,2,0.19,2,2095.9,2,2389.2,2,-999,9,-999,9,-999,-999,9,-999,1
  740H20180228, A09.5,63,1,21,6425,2,20180318,2046,-22.4996,-12.7949,4419,106.5,20.9823,36.3452,2,36.3476,2,225.9,2,226,2,1.06,2,0.23,2,0.18,2,2098.3,2,2390.4,2,-999,9,-999,9,-999,-999,9,-999,1
  740H20180228, A09.5,63,1,20,6428,2,20180318,2046,-22.4996,-12.7949,4419,130.4,20.5662,36.3153,2,36.3116,2,221.5,2,220.5,2,1.02,2,0.27,2,0.21,2,2105.2,6,2385.1,6,-999,9,-999,9,-999,-999,9,-999,1
  740H20180228, A09.5,63,1,19,6692,2,20180318,2046,-22.4996,-12.7949,4419,181.1,18.1379,35.8856,2,35.8877,2,209.6,2,209.6,2,1.76,2,2.8,2,0.37,2,2113.3,2,2356,2,-999,9,-999,9,-999,-999,9,-999,1
  740H20180228, A09.5,63,1,18,1098,2,20180318,2046,-22.4996,-12.7949,4419,257.1,14.3421,35.3008,2,35.312,2,195.2,2,196.3,2,3.42,2,9.13,2,0.71,2,2130.4,2,2320.7,2,-999,9,-999,9,-999,-999,9,-999,1
  740H20180228, A09.5,63,1,17,1122,2,20180318,2046,-22.4996,-12.7949,4419,381.6,11.1412,34.9382,2,34.9355,2,181.7,2,181,2,7,2,17.56,2,1.22,2,2159.9,2,2302.1,2,-999,9,-999,9,-999,-999,9,-999,1
  740H20180228, A09.5,63,1,16,6420,2,20180318,2046,-22.4996,-12.7949,4419,553.3,7.5366,34.5613,2,34.5614,2,172,2,165.4,2,15.49,2,26.98,2,1.84,2,2187.1,6,2290.3,6,-999,9,-999,9,-999,-999,9,-999,1
  740H20180228, A09.5,63,1,15,6419,2,20180318,2046,-22.4996,-12.7949,4419,633.5,6.3421,34.465,2,34.4667,2,175.6,2,175.8,2,19.62,2,29.48,2,2,2,2193.4,2,2291.7,2,-999,9,-999,9,-999,-999,9,-999,1
  740H20180228, A09.5,63,1,14,6418,2,20180318,2046,-22.4996,-12.7949,4419,750,5.0575,34.4203,2,34.4209,2,172.8,2,173.1,2,27.93,2,32.3,2,2.19,2,2204.3,6,2296.2,6,-999,9,-999,9,-999,-999,9,-999,1
  740H20180228, A09.5,63,1,13,6417,2,20180318,2046,-22.4996,-12.7949,4419,886.1,4.2325,34.4332,2,34.4334,2,179.5,2,179.3,2,35.45,2,32.66,2,2.25,2,2213.5,2,2301.7,2,-999,9,-999,9,-999,-999,9,-999,1
  740H20180228, A09.5,63,1,12,6416,2,20180318,2046,-22.4996,-12.7949,4419,1012.8,3.7845,34.5039,2,34.5046,2,181.6,2,182.1,2,40.02,2,32.24,2,2.23,2,2213.8,2,2308.6,2,-999,9,-999,9,-999,-999,9,-999,1
  740H20180228, A09.5,63,1,11,6415,2,20180318,2046,-22.4996,-12.7949,4419,1265.2,3.5295,34.6634,2,34.6631,2,191.3,2,191,2,41.14,2,29.7,2,2.05,2,2213.2,2,2315,2,-999,9,-999,9,-999,-999,9,-999,1
  740H20180228, A09.5,63,1,10,6414,2,20180318,2046,-22.4996,-12.7949,4419,1518.8,3.1946,34.7657,2,34.7676,2,207.5,2,208,2,43.17,2,27.14,2,1.87,2,2205.6,2,2323.5,2,-999,9,-999,9,-999,-999,9,-999,1
  740H20180228, A09.5,63,1,9,6413,2,20180318,2046,-22.4996,-12.7949,4419,1772.2,2.9896,34.8505,2,34.849,2,227.3,2,227.2,2,40.48,2,24.21,2,1.66,2,2195.7,2,2324.6,2,-999,9,-999,9,-999,-999,9,-999,1
  740H20180228, A09.5,63,1,8,6412,2,20180318,2046,-22.4996,-12.7949,4419,2025.9,2.8442,34.8698,2,34.8708,2,234.6,2,234.6,2,40.7,2,23.27,2,1.59,2,2190.6,2,2328.1,2,-999,9,-999,9,-999,-999,9,-999,1
  740H20180228, A09.5,63,1,7,6411,2,20180318,2046,-22.4996,-12.7949,4419,2280.6,2.7708,34.8933,2,34.8934,2,241.5,2,241.9,2,39.15,2,22.28,2,1.52,2,2187,6,2327.6,6,-999,9,-999,9,-999,-999,9,-999,1
  740H20180228, A09.5,63,1,6,6410,2,20180318,2046,-22.4996,-12.7949,4419,2534.7,2.5532,34.8748,2,34.8742,2,240.1,2,239.2,2,45.35,2,23.15,2,1.57,2,2196.7,2,2332.7,2,-999,9,-999,9,-999,-999,9,-999,1
  740H20180228, A09.5,63,1,5,6409,2,20180318,2046,-22.4996,-12.7949,4419,3044.4,2.4574,34.8743,2,34.8734,2,241.8,2,241.6,2,47.96,2,23.25,2,1.57,2,2194.5,2,2336.6,2,-999,9,-999,9,-999,-999,9,-999,1
  740H20180228, A09.5,63,1,4,6408,2,20180318,2046,-22.4996,-12.7949,4419,3556.5,2.3653,34.8698,2,34.8699,2,242.8,2,242.4,2,51.03,2,23.39,2,1.59,2,2200,2,2336.7,2,-999,9,-999,9,-999,-999,9,-999,1
  740H20180228, A09.5,63,1,3,6407,2,20180318,2046,-22.4996,-12.7949,4419,4071.3,2.2221,34.8548,2,34.8552,2,241.7,2,241.8,2,56.92,2,24.01,2,1.63,2,2201.2,2,2340.7,2,-999,9,-999,9,-999,-999,9,-999,1
  740H20180228, A09.5,63,1,2,6406,2,20180318,2046,-22.4996,-12.7949,4419,4483.3,2.2605,34.8537,2,34.8554,2,241.3,2,-999,9,57.37,2,24.06,2,1.64,2,2205.1,2,2341,2,-999,9,-999,9,-999,-999,9,-999,1
  740H20180228, A09.5,63,1,1,5977,2,20180318,2046,-22.4996,-12.7949,4419,4483.5,2.2605,34.8536,2,34.8546,2,241.3,2,241.1,2,57.28,2,24.05,2,1.63,2,2202.4,6,2340.7,6,-999,9,-999,9,-999,-999,9,-999,1
  740H20180228, A09.5,64,1,24,1086,2,20180319,402,-22.2998,-12.3004,5253,5.4,25.3354,36.6525,2,36.6519,2,209.7,2,208.7,2,1.08,2,0.23,2,0.18,2,2103,2,2410.5,2,-999,9,-999,9,-999,-999,9,-999,1
  740H20180228, A09.5,64,1,23,6427,2,20180319,402,-22.2998,-12.3004,5253,51.2,24.981,36.614,2,36.6117,2,214.9,2,213.7,2,1.08,2,0.22,2,0.19,2,2106.2,2,2403.7,2,-999,9,-999,9,-999,-999,9,-999,1
  740H20180228, A09.5,64,1,22,6426,2,20180319,402,-22.2998,-12.3004,5253,76.4,23.643,36.5305,2,36.5323,2,224.8,2,223.9,2,0.92,2,0.24,2,0.18,2,2101.6,6,2399.6,6,-999,9,-999,9,-999,-999,9,-999,1
  740H20180228, A09.5,64,1,21,6425,2,20180319,402,-22.2998,-12.3004,5253,100.8,21.9614,36.4612,2,36.4646,2,228.3,2,228.2,2,0.88,2,0.24,2,0.18,2,2099.3,2,2397.4,2,-999,9,-999,9,-999,-999,9,-999,1
  740H20180228, A09.5,64,1,20,6428,2,20180319,402,-22.2998,-12.3004,5253,176.2,19.2073,36.087,2,36.0981,2,212.4,2,213.3,2,1.49,2,1.55,2,0.29,2,2113.6,2,2371.7,2,-999,9,-999,9,-999,-999,9,-999,1
  740H20180228, A09.5,64,1,19,6692,2,20180319,402,-22.2998,-12.3004,5253,251.9,15.0636,35.3892,2,35.4011,2,200.1,2,199.8,2,2.98,2,7.52,2,0.62,2,2123.8,6,2328.4,6,-999,9,-999,9,-999,-999,9,-999,1
  740H20180228, A09.5,64,1,18,1098,2,20180319,402,-22.2998,-12.3004,5253,377.9,11.4679,34.9748,2,34.975,2,179.6,2,179.5,2,6.64,2,17.01,2,1.18,2,2160.3,2,2302.5,2,-999,9,-999,9,-999,-999,9,-999,1
  740H20180228, A09.5,64,1,17,1122,2,20180319,402,-22.2998,-12.3004,5253,503.6,8.8662,34.6875,2,34.6873,2,172.3,2,172.1,2,12.13,2,23.81,2,1.62,2,2178.7,2,2295.1,2,-999,9,-999,9,-999,-999,9,-999,1
  740H20180228, A09.5,64,1,16,6420,2,20180319,402,-22.2998,-12.3004,5253,630.4,6.7027,34.5081,2,34.5069,2,160.9,2,160.9,2,19.48,2,30.04,2,2.01,2,2202.3,2,2290.1,2,-999,9,-999,9,-999,-999,9,-999,1
  740H20180228, A09.5,64,1,15,6419,2,20180319,402,-22.2998,-12.3004,5253,756.7,5.1535,34.4154,2,34.416,2,180.2,2,180.7,2,27.09,2,31.41,2,2.13,2,2203.6,2,2294.7,2,-999,9,-999,9,-999,-999,9,-999,1
  740H20180228, A09.5,64,1,14,6418,2,20180319,402,-22.2998,-12.3004,5253,882.9,4.3446,34.4256,2,34.4335,2,179.8,2,180.3,2,34.14,2,32.69,2,2.22,2,2211.3,2,2302.3,2,-999,9,-999,9,-999,-999,9,-999,1
  740H20180228, A09.5,64,1,13,6417,2,20180319,402,-22.2998,-12.3004,5253,1007.8,3.7788,34.4881,2,34.4914,2,182.5,2,183.4,2,40.78,2,32.44,2,2.21,2,2219.3,2,2310.2,2,-999,9,-999,9,-999,-999,9,-999,1
  740H20180228, A09.5,64,1,12,6416,2,20180319,402,-22.2998,-12.3004,5253,1261.1,3.5191,34.6751,2,34.6767,2,192.4,2,192.7,2,40.76,2,29.55,2,2,2,2192.5,6,2317.1,6,-999,9,-999,9,-999,-999,9,-999,1
  740H20180228, A09.5,64,1,11,6415,2,20180319,402,-22.2998,-12.3004,5253,1513.7,3.1965,34.7782,2,34.7796,2,209.5,2,210.4,2,42.13,2,26.89,2,1.82,2,2208,2,2323.5,2,-999,9,-999,9,-999,-999,9,-999,1
  740H20180228, A09.5,64,1,10,6414,2,20180319,402,-22.2998,-12.3004,5253,1768.2,3.0456,34.8403,2,34.8429,2,225.3,2,225.4,2,39.75,2,24.51,2,1.66,2,2198.7,2,2326.3,2,-999,9,-999,9,-999,-999,9,-999,1
  740H20180228, A09.5,64,1,9,6413,2,20180319,402,-22.2998,-12.3004,5253,2021.7,2.9262,34.8843,2,34.885,2,237.4,2,237.4,2,37.71,2,22.81,2,1.53,2,2189.8,2,2324.4,2,-999,9,-999,9,-999,-999,9,-999,1
  740H20180228, A09.5,64,1,8,6412,2,20180319,402,-22.2998,-12.3004,5253,2274.6,2.8741,34.9086,2,34.9063,2,244.5,2,244.9,2,35.31,2,21.67,2,1.46,2,2183.9,6,2325.5,6,-999,9,-999,9,-999,-999,9,-999,1
  740H20180228, A09.5,64,1,7,6411,2,20180319,402,-22.2998,-12.3004,5253,2529.3,2.663,34.8877,2,34.8882,2,241.7,2,242,2,41.69,3,22.5,3,1.52,3,2190.1,2,2329.2,2,-999,9,-999,9,-999,-999,9,-999,1
  740H20180228, A09.5,64,1,6,6410,2,20180319,402,-22.2998,-12.3004,5253,2784,2.6278,34.8957,2,34.8939,2,244.1,2,244.7,2,41.88,2,22.18,2,1.5,2,2161.3,4,2328.1,2,-999,9,-999,9,-999,-999,9,-999,1
  740H20180228, A09.5,64,1,5,6409,2,20180319,402,-22.2998,-12.3004,5253,3295.2,2.4127,34.8746,2,34.8763,2,242.4,2,242.8,2,49.56,2,23.1,2,1.56,2,2195.2,2,2334.9,2,-999,9,-999,9,-999,-999,9,-999,1
  740H20180228, A09.5,64,1,4,6408,2,20180319,402,-22.2998,-12.3004,5253,3806.5,2.3237,34.8655,2,34.8648,2,242.1,2,187,4,53.81,2,23.51,2,1.6,2,2203.7,2,2338.2,2,-999,9,-999,9,-999,-999,9,-999,1
  740H20180228, A09.5,64,1,3,6407,2,20180319,402,-22.2998,-12.3004,5253,4319.3,2.2381,34.8543,2,34.855,2,241.1,2,242,2,57.95,2,24.02,2,1.64,2,2204.3,2,2337.7,2,-999,9,-999,9,-999,-999,9,-999,1
  740H20180228, A09.5,64,1,2,6406,2,20180319,402,-22.2998,-12.3004,5253,4840.9,2.277,34.8518,2,34.8511,2,241,2,241.3,2,58.45,2,24.19,2,1.65,2,2208.8,2,2340.3,2,-999,9,-999,9,-999,-999,9,-999,1
  740H20180228, A09.5,64,1,1,5977,2,20180319,402,-22.2998,-12.3004,5253,5340.8,2.3421,34.8513,2,34.8518,2,240.5,2,241.3,2,58.23,2,24.23,2,1.64,2,2207.4,6,2341,6,-999,9,-999,9,-999,-999,9,-999,1