BOTTLE,20190321PRINUNIVRMK,,,,,,,,,,,,,,,,,,,,,,,,,,,,,,,,,,,,,,,
EXPOCODE,SECT_ID,STNNBR,CASTNO,SAMPNO,BTLNBR,BTLNBR_FLAG_W,DATE,TIME,LATITUDE,LONGITUDE,DEPTH,CTDPRS,CTDTMP,CTDSAL,CTDSAL_FLAG_W,SALNTY,SALNTY_FLAG_W,CTDOXY,CTDOXY_FLAG_W,OXYGEN,OXYGEN_FLAG_W,SILCAT,SILCAT_FLAG_W,NITRAT,NITRAT_FLAG_W,PHSPHT,PHSPHT_FLAG_W,TCARBN,TCARBN_FLAG_W,ALKALI,ALKALI_FLAG_W,CHLORA,CHLORA_FLAG_W,DELC14,DELC14_FLAG_W,C14ERR,DELC13,DELC13_FLAG_W,DELO18,DELO18_FLAG_W
,,,,,,,,,,,METERS,DBAR,ITS-90,PSS-78,,PSS-78,,UMOL/KG,,UMOL/KG,,UMOL/KG,,UMOL/KG,,UMOL/KG,,UMOL/KG,,UMOL/KG,,UG/KG,,/MILLE,,/MILLE,/MILLE,,/MILLE,
  740H20180228, A09.5,89,1,14,6418,2,20180326,1158,-24.0002,0.15,5200,4841.9,2.4289,34.8834,2,34.8812,2,231.6,2,-999,9,-999,9,-999,9,-999,9,2223.1,2,2359.9,2,-999,9,-999,9,-999,-999,9,-999,1
  740H20180228, A09.5,89,1,3,6407,2,20180326,1158,-24.0002,0.15,5200,4842.7,2.4291,34.8832,2,34.8812,2,232.1,2,-999,9,-999,9,-999,9,-999,9,2221.3,2,2357.2,2,-999,9,-999,9,-999,-999,9,-999,1
  740H20180228, A09.5,89,1,6,6410,2,20180326,1158,-24.0002,0.15,5200,4842.7,2.4289,34.8833,2,34.8822,2,231.7,2,-999,9,-999,9,-999,9,-999,9,2211.2,2,2356.4,2,-999,9,-999,9,-999,-999,9,-999,1
  740H20180228, A09.5,89,1,16,6420,4,20180326,1158,-24.0002,0.15,5200,4842.9,2.4291,34.8833,2,-999,9,232.1,2,-999,9,-999,9,-999,9,-999,9,-999,9,-999,9,-999,9,-999,9,-999,-999,9,-999,9
  740H20180228, A09.5,89,1,17,1122,2,20180326,1158,-24.0002,0.15,5200,4842.9,2.4291,34.8832,2,34.8813,2,232.2,2,-999,9,-999,9,-999,9,-999,9,2213.2,2,2355.7,2,-999,9,-999,9,-999,-999,9,-999,1
  740H20180228, A09.5,89,1,18,1098,2,20180326,1158,-24.0002,0.15,5200,4842.9,2.429,34.8833,2,34.8811,2,232.2,2,-999,9,-999,9,-999,9,-999,9,2219.9,2,2361.2,2,-999,9,-999,9,-999,-999,9,-999,1
  740H20180228, A09.5,89,1,1,5977,2,20180326,1158,-24.0002,0.15,5200,4843,2.429,34.8832,2,34.8816,2,232.1,2,-999,9,-999,9,-999,9,-999,9,2216.4,6,2357.5,6,-999,9,-999,9,-999,-999,9,-999,1
  740H20180228, A09.5,89,1,15,6419,2,20180326,1158,-24.0002,0.15,5200,4843,2.429,34.8833,2,34.8824,2,232.1,2,-999,9,-999,9,-999,9,-999,9,2213.9,2,2357,2,-999,9,-999,9,-999,-999,9,-999,1
  740H20180228, A09.5,89,1,22,6426,2,20180326,1158,-24.0002,0.15,5200,4843.2,2.429,34.8833,2,34.8818,2,232.1,2,-999,9,-999,9,-999,9,-999,9,-999,9,-999,9,-999,9,-999,9,-999,-999,9,-999,1
  740H20180228, A09.5,89,1,2,6406,2,20180326,1158,-24.0002,0.15,5200,4843.4,2.4293,34.8831,2,34.8812,2,232.2,2,-999,9,-999,9,-999,9,-999,9,2214,6,2359.5,6,-999,9,-999,9,-999,-999,9,-999,1
  740H20180228, A09.5,89,1,8,6412,2,20180326,1158,-24.0002,0.15,5200,4843.5,2.4291,34.8832,2,34.8815,2,232.3,2,-999,9,-999,9,-999,9,-999,9,2217.7,2,2360.1,2,-999,9,-999,9,-999,-999,9,-999,1
  740H20180228, A09.5,89,1,21,6425,2,20180326,1158,-24.0002,0.15,5200,4843.5,2.4291,34.8832,2,34.8826,2,232.3,2,-999,9,-999,9,-999,9,-999,9,-999,9,-999,9,-999,9,-999,9,-999,-999,9,-999,1
  740H20180228, A09.5,89,1,24,1086,2,20180326,1158,-24.0002,0.15,5200,4843.5,2.4292,34.8833,2,34.8817,2,232.3,2,-999,9,-999,9,-999,9,-999,9,-999,9,-999,9,-999,9,-999,9,-999,-999,9,-999,1
  740H20180228, A09.5,89,1,13,6417,2,20180326,1158,-24.0002,0.15,5200,4843.6,2.4295,34.8831,2,34.8812,2,231.9,2,-999,9,-999,9,-999,9,-999,9,2225.3,2,2358.8,2,-999,9,-999,9,-999,-999,9,-999,1
  740H20180228, A09.5,89,1,20,6428,2,20180326,1158,-24.0002,0.15,5200,4843.6,2.4291,34.8833,2,34.8816,2,232.6,2,-999,9,-999,9,-999,9,-999,9,2217,2,2361.2,2,-999,9,-999,9,-999,-999,9,-999,1
  740H20180228, A09.5,89,1,19,6692,2,20180326,1158,-24.0002,0.15,5200,4844.1,2.4291,34.8833,2,34.8815,2,232.2,2,-999,9,-999,9,-999,9,-999,9,2217.7,2,2355,2,-999,9,-999,9,-999,-999,9,-999,1
  740H20180228, A09.5,89,1,23,6427,2,20180326,1158,-24.0002,0.15,5200,4844.1,2.4291,34.8834,2,34.8821,2,232.1,2,-999,9,-999,9,-999,9,-999,9,-999,9,-999,9,-999,9,-999,9,-999,-999,9,-999,1
  740H20180228, A09.5,89,1,5,6409,2,20180326,1158,-24.0002,0.15,5200,4844.2,2.4292,34.8832,2,34.8814,2,232.3,2,-999,9,-999,9,-999,9,-999,9,2211.2,2,2357.5,2,-999,9,-999,9,-999,-999,9,-999,1
  740H20180228, A09.5,89,1,4,6408,2,20180326,1158,-24.0002,0.15,5200,4844.8,2.4294,34.8832,2,34.8817,2,232.4,2,-999,9,-999,9,-999,9,-999,9,2215.9,2,1541.6,4,-999,9,-999,9,-999,-999,9,-999,1
  740H20180228, A09.5,89,1,11,6415,2,20180326,1158,-24.0002,0.15,5200,4844.8,2.4292,34.8832,2,34.8817,2,232.1,2,-999,9,-999,9,-999,9,-999,9,2215.3,2,2358.2,2,-999,9,-999,9,-999,-999,9,-999,1
  740H20180228, A09.5,89,1,7,6411,2,20180326,1158,-24.0002,0.15,5200,4845,2.4294,34.8832,2,34.8826,2,232.5,2,-999,9,-999,9,-999,9,-999,9,2214.9,2,2357.9,2,-999,9,-999,9,-999,-999,9,-999,1
  740H20180228, A09.5,89,1,9,6413,2,20180326,1158,-24.0002,0.15,5200,4845.1,2.4293,34.8832,2,34.8816,2,232.2,2,-999,9,-999,9,-999,9,-999,9,2216.6,2,2353.7,2,-999,9,-999,9,-999,-999,9,-999,1
  740H20180228, A09.5,89,1,12,6416,2,20180326,1158,-24.0002,0.15,5200,4845.1,2.4293,34.8832,2,34.8816,2,232.3,2,-999,9,-999,9,-999,9,-999,9,2222.9,2,2363.1,2,-999,9,-999,9,-999,-999,9,-999,1
  740H20180228, A09.5,89,1,10,6414,2,20180326,1158,-24.0002,0.15,5200,4845.6,2.4293,34.8833,2,34.8812,2,232.4,2,-999,9,-999,9,-999,9,-999,9,2210.3,2,2356.4,2,-999,9,-999,9,-999,-999,9,-999,1
  740H20180228, A09.5,90,1,12,6416,2,20180326,1639,-24.0002,0.4003,5343,6.6,23.4958,36.0886,2,36.0864,2,216.1,2,216.8,2,1.2,2,0.18,2,0.2,2,2082.6,2,2371.1,2,-999,9,-999,9,-999,-999,9,-999,1
  740H20180228, A09.5,90,1,11,6415,2,20180326,1639,-24.0002,0.4003,5343,52.3,21.9397,36.0204,2,36.0051,2,234.2,2,233.6,2,1.38,2,0.17,2,0.19,2,2087.9,2,2366.3,2,-999,9,-999,9,-999,-999,9,-999,1
  740H20180228, A09.5,90,1,10,6414,2,20180326,1639,-24.0002,0.4003,5343,86.4,18.8298,35.8462,2,35.8434,2,240.5,2,239.2,2,1.62,2,0.15,2,0.18,2,2084.8,2,2354.7,2,-999,1,-999,9,-999,-999,9,-999,1
  740H20180228, A09.5,90,1,9,6413,2,20180326,1639,-24.0002,0.4003,5343,102.9,18.2127,35.7899,2,35.7835,2,235.7,2,233.4,2,1.7,2,0.28,2,0.21,2,2094.8,2,2351.7,2,-999,9,-999,9,-999,-999,9,-999,1
  740H20180228, A09.5,90,1,8,6412,4,20180326,1639,-24.0002,0.4003,5343,123.3,-999,-999,5,35.6639,4,-999,5,-999,4,-999,4,-999,4,-999,4,-999,9,-999,9,-999,1,-999,9,-999,-999,9,-999,1
  740H20180228, A09.5,90,1,7,6411,2,20180326,1639,-24.0002,0.4003,5343,252.8,12.8052,35.1255,2,35.1239,2,176.7,2,176.2,2,5.27,2,14.64,2,1.03,2,2158.8,2,2309.3,2,-999,9,-999,9,-999,-999,9,-999,1
  740H20180228, A09.5,90,1,6,6410,2,20180326,1639,-24.0002,0.4003,5343,395.2,10.2017,34.8287,2,34.8319,2,174.5,2,174.1,2,8.65,2,20.42,2,1.4,2,2168.2,2,2296.2,2,-999,9,-999,9,-999,-999,9,-999,1
  740H20180228, A09.5,90,1,5,6409,2,20180326,1639,-24.0002,0.4003,5343,510.6,7.8126,34.5767,2,34.5622,2,173.4,2,172.4,2,14.86,2,26.85,2,1.8,2,2193.2,2,2290.1,2,-999,9,-999,9,-999,-999,9,-999,1
  740H20180228, A09.5,90,1,4,6408,4,20180326,1639,-24.0002,0.4003,5343,637,-999,-999,5,34.4078,4,-999,5,-999,4,-999,4,-999,4,-999,4,-999,9,-999,9,-999,9,-999,9,-999,-999,9,-999,1
  740H20180228, A09.5,90,1,3,6407,2,20180326,1639,-24.0002,0.4003,5343,732.4,4.8577,34.3946,2,34.3914,2,174.3,2,175.4,2,28.9,2,33.08,2,2.22,2,2207.9,2,2293.2,2,-999,9,-999,9,-999,-999,9,-999,1
  740H20180228, A09.5,90,1,2,6406,2,20180326,1639,-24.0002,0.4003,5343,877.3,4.122,34.4336,2,34.4324,2,171.8,2,169,2,37.12,2,34.05,2,2.3,2,2225.3,2,2303.6,2,-999,9,-999,9,-999,-999,9,-999,1
  740H20180228, A09.5,90,1,1,5977,2,20180326,1639,-24.0002,0.4003,5343,1014.6,3.7273,34.5189,2,34.5155,2,173.4,2,185.6,2,41.64,2,33.36,2,2.26,2,2219.7,6,2310.7,6,-999,9,-999,9,-999,-999,9,-999,1
  740H20180228, A09.5,90,1,24,1086,2,20180326,1639,-24.0002,0.4003,5343,1268.2,3.6112,34.6765,2,34.6735,2,184.1,2,183.9,2,39.71,2,30.46,2,2.06,2,2215.8,2,2315.6,2,-999,9,-999,9,-999,-999,9,-999,1
  740H20180228, A09.5,90,1,23,6427,2,20180326,1639,-24.0002,0.4003,5343,1520.8,3.5773,34.8075,2,34.8029,2,204.6,2,204.7,2,34.1,2,26.73,2,1.8,2,2206.4,2,2318.5,2,-999,9,-999,9,-999,-999,9,-999,1
  740H20180228, A09.5,90,1,22,6426,2,20180326,1639,-24.0002,0.4003,5343,1773.6,3.3525,34.8612,2,34.8578,2,221.3,2,293.3,4,33.64,2,24.52,2,1.64,2,2188.1,2,2318.8,2,-999,9,-999,9,-999,-999,9,-999,1
  740H20180228, A09.5,90,1,21,6425,2,20180326,1639,-24.0002,0.4003,5343,2028.3,3.1222,34.8834,2,34.8812,2,231.5,2,354.9,4,35.08,2,23.35,2,1.56,2,2189.3,6,2322.6,6,-999,9,-999,9,-999,-999,9,-999,1
  740H20180228, A09.5,90,1,20,6428,2,20180326,1639,-24.0002,0.4003,5343,2283,2.8701,34.8777,2,34.8741,2,234.5,2,234.3,2,39.77,2,23.37,2,1.57,2,2197.5,2,2326.2,2,-999,9,-999,9,-999,-999,9,-999,1
  740H20180228, A09.5,90,1,19,6692,2,20180326,1639,-24.0002,0.4003,5343,2537.9,2.6182,34.8692,2,34.8667,2,235.4,2,233,2,45.26,2,23.66,2,1.59,2,2193,6,2330.8,6,-999,9,-999,9,-999,-999,9,-999,1
  740H20180228, A09.5,90,1,18,1098,2,20180326,1639,-24.0002,0.4003,5343,3048.4,2.4677,34.8714,2,34.869,2,237.2,2,235.5,2,48.8,2,23.62,2,1.59,2,2198.5,2,2337.1,2,-999,9,-999,9,-999,-999,9,-999,1
  740H20180228, A09.5,90,1,17,1122,2,20180326,1639,-24.0002,0.4003,5343,3558.5,2.3683,34.8823,2,34.88,2,233.3,2,231.5,2,51.8,2,23.66,2,1.58,2,2215.8,6,2355.4,6,-999,9,-999,9,-999,-999,9,-999,1
  740H20180228, A09.5,90,1,16,6420,2,20180326,1639,-24.0002,0.4003,5343,4071,2.3743,34.8853,2,34.8823,2,232.2,2,230.4,2,52.71,2,23.62,2,1.58,2,2211.6,2,2355.9,2,-999,9,-999,9,-999,-999,9,-999,1
  740H20180228, A09.5,90,1,15,6419,2,20180326,1639,-24.0002,0.4003,5343,4586.5,2.4056,34.8841,2,34.8825,2,232.6,2,230.9,2,53.13,2,23.58,2,1.57,2,2219.1,2,2358.8,2,-999,9,-999,9,-999,-999,9,-999,1
  740H20180228, A09.5,90,1,14,6418,2,20180326,1639,-24.0002,0.4003,5343,5101.7,2.4603,34.8829,2,34.8813,2,231.8,2,232.7,2,53.25,2,23.61,2,1.57,2,2213.9,2,2358.8,2,-999,9,-999,9,-999,-999,9,-999,1
  740H20180228, A09.5,90,1,13,6417,2,20180326,1639,-24.0002,0.4003,5343,5431.3,2.4994,34.8823,2,34.8837,2,232.5,2,231,2,52.85,2,23.71,2,1.57,2,2217.4,6,2359.5,6,-999,9,-999,9,-999,-999,9,-999,1
  740H20180228, A09.5,91,1,12,6416,2,20180327,1242,-24,0.9,5325,7.8,23.6382,36.0862,2,36.0847,2,215.2,2,216.3,2,0.87,2,0.18,2,0.2,2,2073.5,2,2366.7,2,-999,9,-999,9,-999,-999,9,-999,1
  740H20180228, A09.5,91,1,11,6415,2,20180327,1242,-24,0.9,5325,50.8,23.17,36.0504,2,35.9621,2,220.3,2,232.7,2,0.93,2,0.25,2,0.2,2,2078.7,2,2363.2,2,-999,9,-999,9,-999,-999,9,-999,1
  740H20180228, A09.5,91,1,10,6414,2,20180327,1242,-24,0.9,5325,66.7,19.8145,35.8665,2,35.8635,2,241.4,2,241.2,2,1.2,2,0.28,2,0.23,2,2074.4,2,2356.1,2,-999,9,-999,9,-999,-999,9,-999,1
  740H20180228, A09.5,91,1,9,6413,2,20180327,1242,-24,0.9,5325,97.3,18.1427,35.7403,2,35.7245,2,222.9,2,222.4,2,1.48,2,3.24,2,0.29,2,2099.7,6,2345.7,6,-999,9,-999,9,-999,-999,9,-999,1
  740H20180228, A09.5,91,1,8,6412,2,20180327,1242,-24,0.9,5325,178.2,14.8448,35.2999,2,35.2965,2,197.3,2,198.3,2,3.4,2,8.92,2,0.72,2,2118.8,2,2317.7,2,-999,9,-999,9,-999,-999,9,-999,1
  740H20180228, A09.5,91,1,7,6411,2,20180327,1242,-24,0.9,5325,253.3,13.0026,35.1477,2,35.1386,2,172,2,170.2,2,5.54,2,15.89,2,1.11,2,2156.9,2,2309.3,2,-999,9,-999,9,-999,-999,9,-999,1
  740H20180228, A09.5,91,1,6,6410,2,20180327,1242,-24,0.9,5325,383.9,10.3528,34.8618,2,34.8481,2,141.4,2,143.9,2,9.77,2,24.17,2,1.6,2,2183.4,2,2297.6,2,-999,9,-999,9,-999,-999,9,-999,1
  740H20180228, A09.5,91,1,5,6409,2,20180327,1242,-24,0.9,5325,510.2,7.8724,34.5878,2,34.5811,2,164.5,2,165.5,2,15.01,2,27.7,2,1.86,2,2191.2,2,2291.5,2,-999,9,-999,9,-999,-999,9,-999,1
  740H20180228, A09.5,91,1,4,6408,2,20180327,1242,-24,0.9,5325,636.1,5.7892,34.4167,2,34.4126,2,178.3,2,180,2,22.2,2,31.18,2,2.09,2,2196,6,2289.8,6,-999,9,-999,9,-999,-999,9,-999,1
  740H20180228, A09.5,91,1,3,6407,2,20180327,1242,-24,0.9,5325,721.8,4.9253,34.3889,2,34.3863,2,178.4,2,180.3,2,28.57,2,32.75,2,2.2,2,2207.6,2,2294.5,2,-999,9,-999,9,-999,-999,9,-999,1
  740H20180228, A09.5,91,1,2,6406,2,20180327,1242,-24,0.9,5325,888.4,4.078,34.4503,2,34.4488,2,168.9,2,170.1,2,37.55,2,34.22,2,2.32,2,2215.1,2,2305.5,2,-999,9,-999,9,-999,-999,9,-999,1
  740H20180228, A09.5,91,1,1,5977,2,20180327,1242,-24,0.9,5325,1014.5,3.7526,34.5077,2,34.5045,2,172.9,2,173.5,2,41.65,2,33.58,2,2.28,2,2224.1,6,2310.6,6,-999,9,-999,9,-999,-999,9,-999,1
  740H20180228, A09.5,91,1,24,1086,2,20180327,1242,-24,0.9,5325,1267.7,3.6487,34.6781,2,34.6754,2,183.7,2,184.8,2,38.89,2,30.57,2,2.06,2,2211.7,2,2313.7,2,-999,9,-999,9,-999,-999,9,-999,1
  740H20180228, A09.5,91,1,23,6427,2,20180327,1242,-24,0.9,5325,1521,3.5488,34.7902,2,34.7871,2,201.7,2,202.7,2,35.59,2,27.53,2,1.83,2,2203,2,2320.9,2,-999,9,-999,9,-999,-999,9,-999,1
  740H20180228, A09.5,91,1,22,6426,2,20180327,1242,-24,0.9,5325,1774.6,3.3328,34.8583,2,34.8552,2,221.2,2,222.9,2,34.06,2,24.88,2,1.63,2,2186.3,2,2319.1,2,-999,9,-999,9,-999,-999,9,-999,1
  740H20180228, A09.5,91,1,21,6425,2,20180327,1242,-24,0.9,5325,2028.8,3.1272,34.8829,2,34.88,2,231.5,2,232.9,2,34.91,2,23.76,2,1.56,2,2181.2,6,2321.5,6,-999,9,-999,9,-999,-999,9,-999,1
  740H20180228, A09.5,91,1,20,6428,2,20180327,1242,-24,0.9,5325,2282.9,2.8802,34.8838,2,34.8809,2,234.5,2,236.8,2,38.64,2,23.57,2,1.55,2,2189.2,2,2328.6,2,-999,9,-999,9,-999,-999,9,-999,1
  740H20180228, A09.5,91,1,19,6692,2,20180327,1242,-24,0.9,5325,2792.8,2.514,34.8679,2,34.8651,2,236.5,2,238.6,2,47.28,2,24.13,2,1.59,2,2194.5,6,2332.8,6,-999,9,-999,9,-999,-999,9,-999,1
  740H20180228, A09.5,91,1,18,1098,2,20180327,1242,-24,0.9,5325,3302.1,2.4087,34.8763,2,34.8742,2,235.9,2,237.9,2,49.66,2,24.01,2,1.59,2,2199.1,2,2341.4,2,-999,9,-999,9,-999,-999,9,-999,1
  740H20180228, A09.5,91,1,17,1122,2,20180327,1242,-24,0.9,5325,3814.8,2.3661,34.8834,2,34.8807,2,232.9,2,235,2,51.68,2,24.08,2,1.59,2,2209,6,2353.8,6,-999,9,-999,9,-999,-999,9,-999,1
  740H20180228, A09.5,91,1,16,6420,2,20180327,1242,-24,0.9,5325,4327.8,2.3868,34.8847,2,34.8825,2,232.2,2,234.3,2,52.18,2,23.96,2,1.58,2,2214.8,2,2356.7,2,-999,9,-999,9,-999,-999,9,-999,1
  740H20180228, A09.5,91,1,15,6419,2,20180327,1242,-24,0.9,5325,4842.9,2.432,34.8833,2,34.8812,2,232,2,234.4,2,52.95,2,23.9,2,1.58,2,2210.5,2,2358.4,2,-999,9,-999,9,-999,-999,9,-999,1
  740H20180228, A09.5,91,1,14,6418,2,20180327,1242,-24,0.9,5325,5357.9,2.4904,34.8824,2,34.8814,2,231.9,2,234.2,2,53.34,2,23.83,2,1.58,2,2216.7,2,2364.1,2,-999,9,-999,9,-999,-999,9,-999,1
  740H20180228, A09.5,91,1,13,6417,2,20180327,1242,-24,0.9,5325,5415.8,2.4977,34.8823,2,34.8833,2,231.5,2,234.6,2,53.34,2,23.75,2,1.57,2,2213.9,6,2360.2,6,-999,9,-999,9,-999,-999,9,-999,1
  740H20180228, A09.5,92,1,12,6416,2,20180327,1920,-24,1.4003,5264,4.4,23.3005,36.1442,2,36.1423,2,215.8,2,214.7,2,0.81,2,0.24,2,0.23,2,2084.3,2,2377.7,2,-999,9,-999,9,-999,-999,9,-999,1
  740H20180228, A09.5,92,1,11,6415,2,20180327,1920,-24,1.4003,5264,52.2,21.5398,35.9725,2,35.9309,2,233.3,2,235,2,1.37,2,0.2,2,0.17,2,2081.8,2,2358.6,2,-999,9,-999,9,-999,-999,9,-999,1
  740H20180228, A09.5,92,1,10,6414,2,20180327,1920,-24,1.4003,5264,67.1,20.0405,35.8851,2,35.8722,2,242.2,2,242.2,3,1.5,2,0.26,2,0.17,2,2079.8,2,2359,2,-999,1,-999,9,-999,-999,9,-999,1
  740H20180228, A09.5,92,1,9,6413,2,20180327,1920,-24,1.4003,5264,107.6,17.8667,35.7295,2,35.7077,2,236.4,2,234.9,2,1.78,2,0.64,2,0.24,2,2089.2,6,2345.1,6,-999,1,-999,9,-999,-999,9,-999,1
  740H20180228, A09.5,92,1,8,6412,2,20180327,1920,-24,1.4003,5264,177.4,15.0394,35.3303,2,35.3213,2,204.9,2,196.3,2,3.32,2,8.64,2,0.69,2,2124,2,2319.2,2,-999,9,-999,9,-999,-999,9,-999,1
  740H20180228, A09.5,92,1,7,6411,2,20180327,1920,-24,1.4003,5264,279.1,12.6893,35.1278,2,35.1073,2,152.6,2,158.3,2,6.15,2,17.6,2,1.19,2,2166.6,2,2306.5,2,-999,9,-999,9,-999,-999,9,-999,1
  740H20180228, A09.5,92,1,6,6410,2,20180327,1920,-24,1.4003,5264,378.4,10.5303,34.8698,2,34.8609,2,172.8,2,171.5,2,8.31,2,20.07,2,1.37,2,2168.1,2,2299.4,2,-999,9,-999,9,-999,-999,9,-999,1
  740H20180228, A09.5,92,1,5,6409,2,20180327,1920,-24,1.4003,5264,504.9,8.0439,34.6019,2,34.589,2,165.5,2,165.6,2,14.61,2,27.01,2,1.81,2,2189.7,2,2290.9,2,-999,9,-999,9,-999,-999,9,-999,1
  740H20180228, A09.5,92,1,4,6408,2,20180327,1920,-24,1.4003,5264,630.5,5.8056,34.4169,2,34.416,2,176.3,2,176.8,2,21.81,2,31.05,2,2.07,2,2199.1,2,2291.3,2,-999,9,-999,9,-999,-999,9,-999,1
  740H20180228, A09.5,92,1,3,6407,2,20180327,1920,-24,1.4003,5264,706.1,5.048,34.3889,2,34.388,2,177.7,2,177.8,2,27.09,2,32.47,2,2.17,2,2204,6,2293.5,6,-999,9,-999,9,-999,-999,9,-999,1
  740H20180228, A09.5,92,1,2,6406,2,20180327,1920,-24,1.4003,5264,882.8,3.9675,34.4264,2,34.4231,2,177.2,2,177.6,2,39.24,2,33.83,2,2.27,2,-999,9,2304.7,2,-999,9,-999,9,-999,-999,9,-999,1
  740H20180228, A09.5,92,1,1,5977,2,20180327,1920,-24,1.4003,5264,1014,3.6719,34.514,2,34.5123,2,177,2,177,2,42.16,2,33.3,2,2.22,2,2219.5,6,2310.3,6,-999,9,-999,9,-999,-999,9,-999,1
  740H20180228, A09.5,92,1,24,1086,2,20180327,1920,-24,1.4003,5264,1266.8,3.6077,34.6777,2,34.6735,2,186.4,2,186.4,2,39.02,2,30.61,2,2.01,2,2216.3,2,2316.2,2,-999,9,-999,9,-999,-999,9,-999,1
  740H20180228, A09.5,92,1,23,6427,2,20180327,1920,-24,1.4003,5264,1520.5,3.5133,34.7879,2,34.7866,2,202.3,2,201.9,2,36.09,2,27.6,2,1.82,2,2203,6,2318.5,6,-999,9,-999,9,-999,-999,9,-999,1
  740H20180228, A09.5,92,1,22,6426,2,20180327,1920,-24,1.4003,5264,1773.7,3.3495,34.8587,2,34.856,2,220.5,2,220.5,2,34,2,25.03,2,1.64,2,2188.3,2,2319.3,2,-999,9,-999,9,-999,-999,9,-999,1
  740H20180228, A09.5,92,1,21,6425,2,20180327,1920,-24,1.4003,5264,2027.6,3.1026,34.8837,2,34.8813,2,231.4,2,229.4,2,35.34,2,23.77,2,1.55,2,2189.3,2,2324.1,2,-999,9,-999,9,-999,-999,9,-999,1
  740H20180228, A09.5,92,1,20,6428,2,20180327,1920,-24,1.4003,5264,2281.9,2.7806,34.8711,2,34.8706,2,233.8,2,233.8,2,41.97,2,24.09,2,1.59,2,2189.2,6,2326.1,6,-999,9,-999,9,-999,-999,9,-999,1
  740H20180228, A09.5,92,1,19,6692,2,20180327,1920,-24,1.4003,5264,2535.8,2.5778,34.866,2,34.8632,2,235.2,2,233.2,2,46.42,2,24.25,2,1.6,2,2192.9,2,2330.7,2,-999,9,-999,9,-999,-999,9,-999,1
  740H20180228, A09.5,92,1,18,1098,2,20180327,1920,-24,1.4003,5264,3046.3,2.4144,34.8711,2,34.8687,2,235.8,2,236.1,2,50.05,2,24.2,2,1.6,2,2201.8,2,2338.9,2,-999,9,-999,9,-999,-999,9,-999,1
  740H20180228, A09.5,92,1,17,1122,2,20180327,1920,-24,1.4003,5264,3558.3,2.3528,34.88,2,34.8784,2,233.5,2,231.3,2,52.03,2,24.16,2,1.6,2,2209,6,2350.3,6,-999,9,-999,9,-999,-999,9,-999,1
  740H20180228, A09.5,92,1,16,6420,2,20180327,1920,-24,1.4003,5264,4070.3,2.3602,34.8844,2,34.8826,2,232.3,2,230,2,52.37,2,24.05,2,1.59,2,2209.7,2,2355,2,-999,9,-999,9,-999,-999,9,-999,1
  740H20180228, A09.5,92,1,15,6419,2,20180327,1920,-24,1.4003,5264,4584.8,2.4027,34.8837,2,34.8818,2,231.9,2,229.9,2,52.44,2,23.98,2,1.58,2,2218.3,2,2359.2,2,-999,9,-999,9,-999,-999,9,-999,1
  740H20180228, A09.5,92,1,14,6418,2,20180327,1920,-24,1.4003,5264,5099.9,2.4572,34.8827,2,34.8818,2,231.7,2,229.2,2,52.55,2,23.91,2,1.58,2,2212.1,2,2358.7,2,-999,9,-999,9,-999,-999,9,-999,1
  740H20180228, A09.5,92,1,13,6417,2,20180327,1920,-24,1.4003,5264,5352.5,2.4903,34.8823,2,34.8808,2,231.9,2,230.6,2,52.52,2,23.84,2,1.57,2,2216,6,2358.6,6,-999,9,-999,9,-999,-999,9,-999,1