BOTTLE,201906109PRINUNIVRMK
EXPOCODE,SECT_ID,STNNBR,CASTNO,BTLNBR,BTLNBR_FLAG_W,DATE,TIME,LATITUDE,LONGITUDE,DEPTH,CTDPRS,CTDTMP,CTDSAL,CTDSAL_FLAG_W,SALNTY,SALNTY_FLAG_W,CTDOXY,CTDOXY_FLAG_W,OXYGEN,OXYGEN_FLAG_W,SILCAT,SILCAT_FLAG_W,NITRAT,NITRAT_FLAG_W,NITRIT,NITRIT_FLAG_W,PHSPHT,PHSPHT_FLAG_W,NH4,NH4_FLAG_W,TCARBN,TCARBN_FLAG_W,ALKALI,ALKALI_FLAG_W,PH_TOT,PH_TOT_FLAG_W,PH_TMP,CO32,CO32_FLAG_W
,,,,,,,,,,METERS,DBAR,ITS-90,PSS-78,,PSS-78,,UMOL/KG,,UMOL/KG,,UMOL/KG,,UMOL/KG,,UMOL/KG,,UMOL/KG,,UMOL/KG,,UMOL/KG,,UMOL/KG,,,,DEG C,UMOL/KG,
  32PO20130821,WCOA13,   128,  2,      1,2,   90827,2332, 36.7000,-122.3900, 1780,    201.5,   8.6673,  34.0290,2,  34.0576,2,     67.0,2,     66.0,2,    38.22,2,    30.92,2,     0.02,2,     2.45,2,     0.03,2,   2238.3,2,   2272.8,2,   7.3970,2,    25.00,   56.246,2
  32PO20130821,WCOA13,   128,  2,      2,2,   90827,2334, 36.7000,-122.3900, 1780,    151.3,   9.1433,  33.9290,2,-999.0000,9,     85.7,2,     84.7,2,    33.03,2,    28.78,2,     0.03,2,     2.31,2,     0.02,2,   2218.5,2,   2259.7,2,   7.4290,2,    25.00,   58.935,2
  32PO20130821,WCOA13,   128,  2,      3,2,   90827,2337, 36.7000,-122.3900, 1780,    100.7,   9.5279,  33.8420,2,-999.0000,9,    101.6,2,    100.6,2,    29.31,2,    26.92,2,     0.03,2,     2.20,2,     0.02,2,   2204.3,2,   2262.8,2,   7.4600,2,    25.00,   63.472,2
  32PO20130821,WCOA13,   128,  2,      4,2,   90827,2339, 36.7000,-122.3900, 1780,     80.8,   9.6801,  33.8390,2,-999.0000,9,    102.6,2,    100.9,2,    28.99,2,    26.67,2,     0.06,2,     2.19,2,     0.03,2,   2202.9,2,   2254.0,2,   7.4620,2,    25.00,   62.825,2
  32PO20130821,WCOA13,   128,  2,      5,2,   90827,2340, 36.7000,-122.3900, 1780,     60.5,  10.7555,  33.6470,2,-999.0000,9,    169.6,2,    161.5,2,    18.62,2,    19.69,2,     0.24,2,     1.89,2,     1.28,2,   2158.9,2,   2246.8,2,   7.5720,2,    25.00,   79.529,2
  32PO20130821,WCOA13,   128,  2,      6,2,   90827,2342, 36.7000,-122.3900, 1780,     40.4,  11.4370,  33.6060,2,  33.6156,2,    221.9,2,    208.0,2,    10.36,2,    13.67,2,     0.24,2,     1.53,2,     1.33,2,   2123.6,2,   2246.9,2,   7.6840,2,    25.00,   95.372,2
  32PO20130821,WCOA13,   128,  2,      7,2,   90827,2345, 36.7000,-122.3900, 1780,     30.2,  12.4522,  33.5890,2,-999.0000,9,    247.6,2,    254.5,2,     3.88,2,     8.12,2,     0.18,2,     1.05,2,     0.91,2,   2075.6,2,   2253.3,2,   7.8300,2,    25.00,  126.177,2
  32PO20130821,WCOA13,   128,  2,      8,2,   90827,2347, 36.7000,-122.3900, 1780,     20.2,  13.1090,  33.6620,2,-999.0000,9,    265.5,2,    266.6,2,     2.91,2,     6.03,2,     0.14,2,     0.99,2,     0.66,2,   2064.4,2,   2264.7,2,   7.8690,2,    25.00,  131.805,2
  32PO20130821,WCOA13,   128,  2,      9,2,   90827,2348, 36.7000,-122.3900, 1780,     10.3,  14.2385,  33.6540,2,-999.0000,9,    303.7,2,    301.7,2,     1.46,2,     2.22,2,     0.14,2,     0.65,2,     0.19,2,   2021.7,2,   2263.2,2,   7.9560,3,    25.00,  158.253,2
  32PO20130821,WCOA13,   128,  2,     10,2,   90827,2349, 36.7000,-122.3900, 1780,      3.0,  14.7005,  33.6660,2,  33.6938,2,    303.3,2,    302.6,2,     1.15,2,     1.84,2,     0.10,2,     0.60,2,     0.37,2,   2014.5,6,   2263.3,6,   7.9820,3,    25.00,  160.637,2