BOTTLE,201906109PRINUNIVRMK
EXPOCODE,SECT_ID,STNNBR,CASTNO,BTLNBR,BTLNBR_FLAG_W,DATE,TIME,LATITUDE,LONGITUDE,DEPTH,CTDPRS,CTDTMP,CTDSAL,CTDSAL_FLAG_W,SALNTY,SALNTY_FLAG_W,CTDOXY,CTDOXY_FLAG_W,OXYGEN,OXYGEN_FLAG_W,SILCAT,SILCAT_FLAG_W,NITRAT,NITRAT_FLAG_W,NITRIT,NITRIT_FLAG_W,PHSPHT,PHSPHT_FLAG_W,NH4,NH4_FLAG_W,TCARBN,TCARBN_FLAG_W,ALKALI,ALKALI_FLAG_W,PH_TOT,PH_TOT_FLAG_W,PH_TMP,CO32,CO32_FLAG_W
,,,,,,,,,,METERS,DBAR,ITS-90,PSS-78,,PSS-78,,UMOL/KG,,UMOL/KG,,UMOL/KG,,UMOL/KG,,UMOL/KG,,UMOL/KG,,UMOL/KG,,UMOL/KG,,UMOL/KG,,,,DEG C,UMOL/KG,
  32PO20130821,WCOA13,   117,  1,      1,2,   90825,2130, 37.7600,-123.2700,  546,    500.0,-999.0000,-999.0000,9,-999.0000,9,   -999.0,9,     24.6,2,    74.32,2,    39.82,2,     0.05,2,     3.03,2,     0.07,2,   2310.3,2,   2309.5,2,-999.0000,5,  -999.00,     -999,5
  32PO20130821,WCOA13,   117,  1,      2,2,   90825,2132, 37.7600,-123.2700,  546,    402.9,   7.0737,  34.1980,2,  34.1996,2,     29.2,2,     30.9,2,    61.47,2,    36.53,2,     0.07,2,     2.81,2,     0.05,2,   2290.4,2,   2294.8,2,   7.3280,2,    25.00,   49.356,2
  32PO20130821,WCOA13,   117,  1,      3,2,   90825,2136, 37.7600,-123.2700,  546,    302.4,   7.8752,  34.1440,2,-999.0000,9,     43.0,2,     43.1,2,    49.35,2,    35.87,2,     0.18,2,     2.61,2,     0.05,2,   2268.3,2,   2278.6,2,   7.3470,2,    25.00,   50.717,2
  32PO20130821,WCOA13,   117,  1,      4,2,   90825,2139, 37.7600,-123.2700,  546,    201.5,   8.6421,  33.9820,2,-999.0000,9,     90.9,2,     87.8,2,    36.41,2,    31.62,2,     0.12,2,     2.26,2,     0.21,2,   2222.9,2,   2258.4,2,   7.4330,2,    25.00,    60.44,2
  32PO20130821,WCOA13,   117,  1,      5,2,   90825,2142, 37.7600,-123.2700,  546,    151.0,   8.7385,  33.9560,2,-999.0000,9,     95.7,2,     97.3,2,    35.12,2,    30.71,2,     0.11,2,     2.20,2,     0.08,2,   2214.1,2,   2256.9,2,   7.4470,2,    25.00,    63.26,2
  32PO20130821,WCOA13,   117,  1,      6,2,   90825,2145, 37.7600,-123.2700,  546,    101.4,   8.9072,  33.9130,2,  33.9121,2,    101.0,2,    100.9,2,    35.14,2,    29.21,2,     0.17,2,     2.18,2,     0.04,2,   2210.7,2,   2253.2,2,   7.4470,2,    25.00,    61.42,2
  32PO20130821,WCOA13,   117,  1,      7,2,   90825,2147, 37.7600,-123.2700,  546,     80.1,   9.3648,  33.8480,2,-999.0000,9,    116.8,2,    113.7,2,    32.53,2,    27.54,2,     0.09,2,     1.98,2,     0.07,2,   2201.6,2,   2247.4,2,   7.4610,2,    25.00,   62.698,2
  32PO20130821,WCOA13,   117,  1,      8,2,   90825,2150, 37.7600,-123.2700,  546,     50.3,   9.5279,  33.5170,2,-999.0000,9,    182.1,2,    182.4,2,    21.07,2,    23.37,2,     0.05,2,     1.68,2,     0.04,2,   2142.5,2,   2235.1,2,   7.5910,2,    25.00,   79.804,2
  32PO20130821,WCOA13,   117,  1,      9,2,   90825,2153, 37.7600,-123.2700,  546,     30.3,  10.5483,  33.2530,2,-999.0000,9,    234.4,2,    235.6,2,    10.76,2,    13.53,2,     0.36,2,     1.18,2,     0.16,2,   2083.9,2,   2223.0,2,   7.7340,2,    25.00,  104.852,2
  32PO20130821,WCOA13,   117,  1,     10,2,   90825,2155, 37.7600,-123.2700,  546,     20.5,  13.5687,  33.5780,2,-999.0000,9,    257.5,2,    253.2,2,     5.36,2,     9.19,2,     0.27,2,     0.87,2,     0.43,2,   2061.6,2,   2243.7,2,   7.8370,2,    25.00,  128.926,2
  32PO20130821,WCOA13,   117,  1,     11,2,   90825,2157, 37.7600,-123.2700,  546,     10.2,  15.6671,  33.6270,2,-999.0000,9,    264.4,2,    264.1,2,     2.43,2,     5.42,2,     0.12,2,     0.57,2,     0.16,2,   2029.9,2,   2253.7,2,   7.9210,2,    25.00,  168.099,2
  32PO20130821,WCOA13,   117,  1,     12,2,   90825,2159, 37.7600,-123.2700,  546,      3.1,  16.5321,  33.6420,2,  33.6412,6,    261.1,2,    262.3,2,     1.63,2,     4.58,2,     0.08,2,     0.49,2,     0.15,2,   2023.5,2,   2255.0,2,   7.9400,6,    25.00,  162.351,2
  32PO20130821,WCOA13,   116,  1,      1,2,   90826,0035, 37.7500,-123.3100, 1100,   1009.7,   3.9993,  34.4430,2,  34.4444,6,     17.4,2,     18.2,2,   116.03,2,    42.31,2,     0.01,2,     3.22,2,     0.06,2,   2362.3,2,   2372.3,2,   7.3190,2,    25.00,   49.686,2
  32PO20130821,WCOA13,   116,  1,      2,2,   90826,0042, 37.7500,-123.3100, 1100,    756.4,   4.9206,  34.3260,2,-999.0000,9,     11.4,2,     11.6,2,    93.91,2,    40.40,2,     0.00,2,     3.13,2,        0,2,   2342.8,2,   2345.0,2,   7.2990,2,    25.00,   47.721,2
  32PO20130821,WCOA13,   116,  1,      3,2,   90826,0048, 37.7500,-123.3100, 1100,    503.5,   6.1559,  34.2350,2,-999.0000,9,     19.1,2,     19.1,2,    73.58,2,    38.51,2,     0.01,2,     2.99,2,     0.01,2,   2309.1,2,   2314.5,2,   7.3060,2,    25.00,   46.778,2
  32PO20130821,WCOA13,   116,  1,      4,2,   90826,0054, 37.7500,-123.3100, 1100,    302.8,   7.8200,  34.1800,2,-999.0000,9,     37.1,2,     36.8,2,    50.96,2,    33.84,2,     0.08,2,     2.67,2,     0.17,2,   2272.1,2,   2286.5,2,   7.3430,2,    25.00,   50.587,2
  32PO20130821,WCOA13,   116,  1,      5,2,   90826,0059, 37.7500,-123.3100, 1100,    200.8,   8.3808,  34.0720,2,-999.0000,9,     61.3,2,     60.1,2,    41.44,2,    31.19,2,     0.18,2,     2.44,2,     0.28,2,   2246.0,2,   2271.0,2,   7.3780,2,    25.00,   53.691,2
  32PO20130821,WCOA13,   116,  1,      6,2,   90826,0101, 37.7500,-123.3100, 1100,    151.3,   8.4485,  33.9980,2,-999.0000,9,     90.4,2,     89.9,2,    37.17,2,    29.01,2,     0.07,2,     2.22,2,     0.07,2,   2220.3,2,   2264.2,2,   7.4380,3,    25.00,   60.618,2
  32PO20130821,WCOA13,   116,  1,      7,2,   90826,0103, 37.7500,-123.3100, 1100,    100.8,   8.9480,  33.8880,2,  33.8848,2,    107.4,2,    106.4,2,    30.92,2,    29.78,2,     0.02,2,     2.07,2,     0.06,2,   2200.3,2,   2251.4,2,   7.4640,2,    25.00,   61.875,2
  32PO20130821,WCOA13,   116,  1,      8,2,   90826,0106, 37.7500,-123.3100, 1100,     80.6,   9.2502,  33.7870,2,-999.0000,9,    123.9,2,    124.1,2,    27.46,2,    29.60,2,     0.02,2,     1.96,2,     0.02,2,   2185.6,2,   2247.1,2,   7.4900,2,    25.00,   66.535,2
  32PO20130821,WCOA13,   116,  1,      9,2,   90826,0107, 37.7500,-123.3100, 1100,     50.3,   9.4217,  33.4480,2,-999.0000,9,    196.2,2,    194.1,2,    20.24,2,    21.78,2,     0.04,2,     1.59,2,     0.02,2,   2132.1,2,   2231.3,2,   7.6090,2,    25.00,   81.566,2
  32PO20130821,WCOA13,   116,  1,     10,2,   90826,0109, 37.7500,-123.3100, 1100,     30.5,  11.5669,  33.3060,2,-999.0000,9,    247.0,2,    247.5,2,     7.43,2,    11.28,2,     0.32,2,     1.00,2,     0.61,2,   2069.1,2,   2234.6,2,   7.7930,2,    25.00,  116.978,2
  32PO20130821,WCOA13,   116,  1,     11,2,   90826,0111, 37.7500,-123.3100, 1100,     20.1,  14.6042,  33.6450,2,  33.6347,2,    269.2,2,    265.1,2,     2.16,2,     6.04,2,     0.12,2,     0.58,2,     0.23,2,   2036.0,2,   2258.9,2,   7.9030,2,    25.00,  144.356,2
  32PO20130821,WCOA13,   116,  1,     12,2,   90826,0113, 37.7500,-123.3100, 1100,      3.2,  16.1776,  33.5730,2,  33.5726,2,    265.0,2,    261.2,2,     2.63,2,     6.21,2,     0.10,2,     0.59,2,     0.23,2,   2030.4,2,   2252.7,2,   7.9090,2,    25.00,   167.08,2
  32PO20130821,WCOA13,   125,  1,      1,2,   90826,1441, 36.8000,-121.8500,  303,    251.3,   7.5333,  34.1500,2,  34.1470,2,     39.6,2,   -999.0,5,    58.48,2,    34.48,2,     0.13,2,     2.70,2,     0.21,2,   2278.3,2,   2293.2,2,   7.3420,2,    25.00,   50.917,2
  32PO20130821,WCOA13,   125,  1,      2,2,   90826,1444, 36.8000,-121.8500,  303,    202.0,   7.7635,  34.0430,2,-999.0000,9,     48.0,2,     48.0,2,    40.35,3,    24.57,3,     0.14,3,     2.10,3,     0.24,3,   2271.1,2,   2290.1,2,   7.3480,3,    25.00,    53.42,2
  32PO20130821,WCOA13,   125,  1,      3,2,   90826,1447, 36.8000,-121.8500,  303,    151.3,   8.4880,  33.9280,2,  34.0444,3,     63.8,2,     56.8,2,    46.22,2,    31.69,2,     0.19,2,     2.50,2,      0.4,2,   2254.3,2,   2278.2,2,   7.3650,3,    25.00,   54.435,2
  32PO20130821,WCOA13,   125,  1,      4,2,   90826,1452, 36.8000,-121.8500,  303,    100.8,   9.2775,  33.9510,2,-999.0000,9,     74.7,2,     74.7,2,    37.40,2,    28.83,2,     0.29,2,     2.33,2,     0.51,2,   2230.5,2,   2262.8,2,   7.4020,2,    25.00,   56.586,2
  32PO20130821,WCOA13,   125,  1,      5,2,   90826,1455, 36.8000,-121.8500,  303,     80.6,   9.4981,  33.9240,2,-999.0000,9,     78.1,2,     76.7,2,    34.78,2,    28.22,2,     0.34,2,     2.26,2,     0.44,2,   2224.9,2,   2260.8,2,   7.4050,2,    25.00,   56.904,2
  32PO20130821,WCOA13,   125,  1,      6,2,   90826,1459, 36.8000,-121.8500,  303,     60.7,   9.9776,  33.8340,2,  33.8212,2,    116.5,2,    109.5,2,    28.40,2,    24.73,2,     0.35,2,     2.08,2,     0.57,2,   2197.6,2,   2253.8,2,   7.4760,2,    25.00,   64.794,2
  32PO20130821,WCOA13,   125,  1,      7,2,   90826,1501, 36.8000,-121.8500,  303,     40.5,  10.4059,  33.7690,2,-999.0000,9,    132.9,2,    140.2,2,    22.02,2,    21.38,2,     0.31,2,     1.86,2,      1.1,2,   2172.8,2,   2249.9,2,   7.5440,2,    25.00,    74.39,2
  32PO20130821,WCOA13,   125,  1,      8,2,   90826,1504, 36.8000,-121.8500,  303,     30.3,  11.0203,  33.7480,2,-999.0000,9,    135.3,2,    170.0,2,    16.95,2,    16.93,2,     0.28,2,     1.68,2,     2.25,2,   2152.4,2,   2251.9,2,   7.6150,2,    25.00,   87.727,2
  32PO20130821,WCOA13,   125,  1,      9,2,   90826,1508, 36.8000,-121.8500,  303,     20.1,  11.7279,  33.7420,2,-999.0000,9,    183.7,2,    209.0,2,    10.57,2,    11.74,2,     0.20,2,     1.42,2,     2.12,2,   2119.7,2,   2260.2,2,   7.7150,2,    25.00,  104.725,2
  32PO20130821,WCOA13,   125,  1,     10,2,   90826,1511, 36.8000,-121.8500,  303,     15.2,  11.8684,  33.7350,2,-999.0000,9,    203.9,2,    220.9,2,     8.93,2,    10.50,2,     0.21,2,     1.34,2,     1.87,2,   2109.7,2,   2259.3,2,   7.7460,2,    25.00,  107.907,2
  32PO20130821,WCOA13,   125,  1,     11,2,   90826,1513, 36.8000,-121.8500,  303,     10.0,  13.4323,  33.4710,2,-999.0000,9,    295.5,2,    279.2,2,     2.72,2,     3.28,2,     0.06,2,     0.60,2,     0.91,2,   2041.3,2,   2262.3,2,   7.9090,2,    25.00,  153.701,2
  32PO20130821,WCOA13,   125,  1,     12,2,   90826,1516, 36.8000,-121.8500,  303,      2.9,  14.3542,  33.7120,2,  33.7142,6,    295.1,2,    300.2,2,     1.24,2,     0.59,2,     0.05,2,     0.32,2,     1.35,2,   2010.5,2,   2264.7,2,   7.9680,2,    25.00,     -999,5
  32PO20130821,WCOA13,   124,  1,      1,2,   90826,1645, 36.7800,-121.8700,  150,    148.4,   9.1183,  33.9810,2,  33.9828,2,     67.7,2,     67.0,2,    39.23,2,    29.94,2,     0.22,2,     2.36,2,      0.4,2,   2238.8,2,   2271.3,2,   7.3870,2,    25.00,  121.679,3
  32PO20130821,WCOA13,   124,  1,      2,2,   90826,1647, 36.7800,-121.8700,  150,    131.2,   9.5312,  33.9180,2,-999.0000,9,     77.6,2,     80.2,2,    34.83,2,    28.01,2,     0.32,2,     2.28,2,     0.59,2,   2224.0,2,   2262.2,2,   7.4100,2,    25.00,  164.992,4
  32PO20130821,WCOA13,   124,  1,      3,2,   90826,1649, 36.7800,-121.8700,  150,    111.3,   9.6845,  33.8900,2,  33.8880,2,     87.0,2,     86.6,2,    33.21,2,    27.23,2,     0.36,2,     2.23,2,     0.52,2,   2215.9,2,   2258.7,2,   7.4250,2,    25.00,  187.933,3
  32PO20130821,WCOA13,   124,  1,      4,2,   90826,1651, 36.7800,-121.8700,  150,    100.8,   9.7005,  33.8870,2,-999.0000,9,     89.2,2,     89.0,2,    32.57,2,    26.70,2,     0.35,2,     2.20,2,     0.49,2,   2217.6,2,   2266.2,2,   7.4280,2,    25.00,   54.534,2
  32PO20130821,WCOA13,   124,  1,      5,2,   90826,1653, 36.7800,-121.8700,  150,     80.4,  10.0133,  33.8280,2,-999.0000,9,    111.8,2,    109.6,2,    28.82,2,    24.65,2,     0.35,2,     2.10,2,     0.66,2,   2197.6,2,   2254.4,2,   7.4760,2,    25.00,    59.98,2
  32PO20130821,WCOA13,   124,  1,      6,2,   90826,1656, 36.7800,-121.8700,  150,     60.2,  10.4954,  33.7870,2,-999.0000,9,    136.4,2,    135.2,2,    22.79,2,    22.20,2,     0.39,2,     1.98,2,     0.92,2,   2177.6,2,   2251.2,2,   7.5300,2,    25.00,   58.135,2
  32PO20130821,WCOA13,   124,  1,      7,2,   90826,1658, 36.7800,-121.8700,  150,     40.5,  10.5770,  33.7730,2,  33.7625,2,    143.8,2,    150.6,2,    21.17,2,    19.45,2,     0.31,2,     1.84,2,     1.76,2,   2167.0,2,   2255.3,2,   7.5700,2,    25.00,   58.457,2
  32PO20130821,WCOA13,   124,  1,      8,2,   90826,1700, 36.7800,-121.8700,  150,     30.3,  11.3482,  33.7620,2,-999.0000,9,    196.2,2,    194.7,2,    14.32,2,    13.97,2,     0.25,2,     1.56,2,     2.29,2,   2135.2,2,   2253.1,2,   7.6750,2,    25.00,   64.258,2
  32PO20130821,WCOA13,   124,  1,      9,2,   90826,1701, 36.7800,-121.8700,  150,     20.4,  11.6734,  33.7480,2,-999.0000,9,    212.9,2,    208.0,2,    11.88,2,    12.42,2,     0.23,2,     1.48,2,     1.89,2,   2119.6,2,   2255.6,2,   7.7160,2,    25.00,   69.857,2
  32PO20130821,WCOA13,   124,  1,     10,2,   90826,1703, 36.7800,-121.8700,  150,     14.9,  12.1705,  33.7420,2,-999.0000,9,    226.6,2,    227.4,2,     9.28,2,    10.21,2,     0.18,2,     1.31,2,     1.38,2,   2099.0,2,   2260.3,2,   7.7740,2,    25.00,   77.712,2
  32PO20130821,WCOA13,   124,  1,     11,2,   90826,1704, 36.7800,-121.8700,  150,     10.1,  14.5794,  33.7410,2,-999.0000,9,    316.4,2,    284.4,2,     4.06,2,     3.50,2,     0.05,2,     0.67,2,      0.5,2,   2025.6,2,   2267.6,2,   7.9400,3,    25.00,   96.963,3
  32PO20130821,WCOA13,   124,  1,     12,2,   90826,1706, 36.7800,-121.8700,  150,      3.2,  14.6779,  33.7430,2,  33.7398,6,    318.2,2,    318.1,2,     0.81,2,     0.09,2,     0.00,2,     0.32,2,     0.07,2,   1981.8,2,   2265.2,2,   8.0350,2,    25.00,  105.056,2
  32PO20130821,WCOA13,   123,  1,      2,2,   90826,1749, 36.7600,-121.9300,   98,     91.0,   9.6420,  33.8960,2,  33.8912,2,     88.0,2,     92.2,2,    32.40,2,    27.28,2,     0.19,2,     2.20,2,     0.06,2,   2211.2,2,   2258.1,2,   7.4360,2,    25.00,   60.245,2
  32PO20130821,WCOA13,   123,  1,      3,2,   90826,1751, 36.7600,-121.9300,   98,     80.3,   9.6807,  33.8730,2,-999.0000,9,    100.2,2,    100.0,2,    29.78,2,    26.65,2,     0.05,2,     2.12,2,     0.01,2,   2202.5,2,   2254.7,2,   7.4610,2,    25.00,   62.606,2
  32PO20130821,WCOA13,   123,  1,      4,2,   90826,1753, 36.7600,-121.9300,   98,     60.4,   9.7756,  33.8560,2,  33.8534,2,    104.7,2,    104.2,2,    28.30,2,    26.06,2,     0.03,2,     2.08,2,        0,2,   2196.4,2,   2255.3,2,   7.4720,2,    25.00,   63.944,2
  32PO20130821,WCOA13,   123,  1,      5,2,   90826,1755, 36.7600,-121.9300,   98,     50.3,   9.7922,  33.8540,2,-999.0000,9,    106.4,2,    105.3,2,    27.96,2,    25.94,2,     0.06,2,     2.08,2,     0.04,2,   2196.5,2,   2255.6,2,   7.4730,2,    25.00,   64.773,2
  32PO20130821,WCOA13,   123,  1,      6,2,   90826,1757, 36.7600,-121.9300,   98,     40.1,   9.9524,  33.8110,2,-999.0000,9,    120.3,2,    119.4,2,    26.16,2,    24.63,2,     0.13,2,     1.99,2,     0.14,2,   2184.7,2,   2254.3,2,   7.4990,2,    25.00,   67.737,2
  32PO20130821,WCOA13,   123,  1,      7,2,   90826,1759, 36.7600,-121.9300,   98,     30.3,  10.3643,  33.7650,2,-999.0000,9,    140.0,2,    139.1,2,    21.74,2,    22.33,2,     0.20,2,     1.89,2,     0.41,2,   2171.4,2,   2248.7,2,   7.5380,2,    25.00,     73.4,2
  32PO20130821,WCOA13,   123,  1,      8,2,   90826,1801, 36.7600,-121.9300,   98,     20.1,  10.9713,  33.7350,2,  33.7355,2,    154.1,2,    158.3,2,    18.30,2,    19.21,2,     0.26,2,     1.79,2,     1.16,2,   2156.8,2,   2250.4,2,   7.5880,2,    25.00,   79.484,2
  32PO20130821,WCOA13,   123,  1,      9,2,   90826,1802, 36.7600,-121.9300,   98,     15.0,  12.2073,  33.7540,2,-999.0000,9,    211.4,2,    175.7,2,    13.06,2,    14.62,2,     0.22,2,     1.56,2,     1.35,2,   2135.2,2,   2258.5,2,   7.6550,2,    25.00,    92.35,3
  32PO20130821,WCOA13,   123,  1,     10,2,   90826,1803, 36.7600,-121.9300,   98,      9.8,  13.2673,  33.7610,2,-999.0000,9,    237.0,2,    239.5,2,     4.37,2,     6.06,2,     0.20,2,     0.98,2,     0.72,2,   2064.5,2,   2265.2,2,   7.8500,4,    25.00,  136.883,2
  32PO20130821,WCOA13,   123,  1,     11,2,   90826,1805, 36.7600,-121.9300,   98,      3.1,  14.5084,  33.7640,2,  33.7639,6,    238.0,2,    301.8,2,     0.83,2,     0.30,2,     0.12,2,     0.50,2,      0.1,2,   2005.8,2,   2250.4,2,   8.0070,2,    25.00,  175.853,3
  32PO20130821,WCOA13,   122,  1,      1,2,   90826,1920, 36.7300,-121.9700,  121,    111.0,   9.0343,  33.9710,2,-999.0000,9,     94.3,2,   -999.0,9,  -999.00,9,  -999.00,9,  -999.00,9,  -999.00,9,     -999,9,   -999.0,9,   -999.0,9,-999.0000,9,  -999.00,     -999,9
  32PO20130821,WCOA13,   122,  1,      2,2,   90826,1920, 36.7300,-121.9700,  121,    111.0,   9.0330,  33.9730,2,  33.9586,2,     94.3,2,     94.4,2,    33.08,2,    28.09,2,     0.08,2,     2.18,2,     0.01,2,   2211.7,2,   2262.9,2,   7.4510,3,    25.00,   63.812,2
  32PO20130821,WCOA13,   122,  1,      3,2,   90826,1923, 36.7300,-121.9700,  121,    100.8,   9.3517,  33.9380,2,-999.0000,9,     88.4,2,     89.4,2,    33.05,2,    27.91,2,     0.06,2,     2.21,2,     0.03,2,   2212.7,2,   2260.2,2,   7.4400,2,    25.00,   60.219,2
  32PO20130821,WCOA13,   122,  1,      4,2,   90826,1925, 36.7300,-121.9700,  121,     80.5,   9.4523,  33.8870,2,-999.0000,9,    104.1,2,    101.5,2,    29.87,2,    26.71,2,     0.08,2,     2.11,2,     0.06,2,   2201.2,2,   2252.2,2,   7.4660,2,    25.00,   62.521,2
  32PO20130821,WCOA13,   122,  1,      5,2,   90826,1928, 36.7300,-121.9700,  121,     60.4,   9.6466,  33.8350,2,  33.8328,2,    114.7,2,    114.1,2,    27.02,2,    25.43,2,     0.13,2,     2.03,2,     0.05,2,   2190.4,2,   2247.2,2,   7.4890,2,    25.00,   67.142,2
  32PO20130821,WCOA13,   122,  1,      6,2,   90826,1928, 36.7300,-121.9700,  121,     60.5,   9.6469,  33.8350,2,-999.0000,9,    114.7,2,   -999.0,9,  -999.00,9,  -999.00,9,  -999.00,9,  -999.00,9,     -999,9,   -999.0,9,   -999.0,9,-999.0000,9,  -999.00,     -999,9
  32PO20130821,WCOA13,   122,  1,      7,2,   90826,1930, 36.7300,-121.9700,  121,     40.3,  10.4454,  33.7950,2,-999.0000,9,    131.3,2,    127.8,2,    23.34,2,    23.07,2,     0.38,2,     2.02,2,     0.72,2,   2180.6,2,   2247.6,2,   7.5140,2,    25.00,   69.808,2
  32PO20130821,WCOA13,   122,  1,      8,2,   90826,1931, 36.7300,-121.9700,  121,     30.3,  11.0866,  33.7690,2,-999.0000,9,    153.2,2,    147.1,2,    18.82,2,    19.65,2,     0.39,2,     1.89,2,     1.75,2,   2166.2,2,   2253.9,2,   7.5700,2,    25.00,    76.72,2
  32PO20130821,WCOA13,   122,  1,      9,2,   90826,1933, 36.7300,-121.9700,  121,     20.2,  12.9014,  33.7590,2,-999.0000,9,    228.0,2,    198.0,2,     9.31,2,    11.17,2,     0.23,2,     1.32,2,     1.59,2,   2113.2,2,   2256.9,2,   7.7350,2,    25.00,  104.722,3
  32PO20130821,WCOA13,   122,  1,     10,2,   90826,1934, 36.7300,-121.9700,  121,     15.2,  14.4357,  33.7300,2,  33.7363,2,    303.8,2,    281.6,2,     2.29,2,     2.38,2,     0.08,2,     0.60,2,     0.43,2,   2025.5,2,   2264.3,2,   7.9510,2,    25.00,  177.706,2
  32PO20130821,WCOA13,   122,  1,     11,4,   90826,1936, 36.7300,-121.9700,  121,     10.1,  14.6662,  33.7300,2,-999.0000,9,    314.8,2,   -999.0,9,  -999.00,9,  -999.00,9,  -999.00,9,  -999.00,9,     -999,9,   -999.0,9,   -999.0,9,-999.0000,9,  -999.00,     -999,9
  32PO20130821,WCOA13,   122,  1,     12,2,   90826,1937, 36.7300,-121.9700,  121,      2.9,  14.9342,  33.7290,2,  33.7278,6,    312.5,2,    312.3,2,     0.75,2,    -0.08,2,     0.06,2,     0.36,2,     0.06,2,   1986.6,2,   2265.2,2,   8.0250,3,    25.00,  179.593,2