BOTTLE,201906109PRINUNIVRMK
EXPOCODE,SECT_ID,STNNBR,CASTNO,BTLNBR,BTLNBR_FLAG_W,DATE,TIME,LATITUDE,LONGITUDE,DEPTH,CTDPRS,CTDTMP,CTDSAL,CTDSAL_FLAG_W,SALNTY,SALNTY_FLAG_W,CTDOXY,CTDOXY_FLAG_W,OXYGEN,OXYGEN_FLAG_W,SILCAT,SILCAT_FLAG_W,NITRAT,NITRAT_FLAG_W,NITRIT,NITRIT_FLAG_W,PHSPHT,PHSPHT_FLAG_W,NH4,NH4_FLAG_W,TCARBN,TCARBN_FLAG_W,ALKALI,ALKALI_FLAG_W,PH_TOT,PH_TOT_FLAG_W,PH_TMP,CO32,CO32_FLAG_W
,,,,,,,,,,METERS,DBAR,ITS-90,PSS-78,,PSS-78,,UMOL/KG,,UMOL/KG,,UMOL/KG,,UMOL/KG,,UMOL/KG,,UMOL/KG,,UMOL/KG,,UMOL/KG,,UMOL/KG,,,,DEG C,UMOL/KG,
  32PO20130821,WCOA13,   121,  1,      1,2,   90826,2045, 36.7100,-122.0200, 1262,   1008.8,   3.9986,  34.4480,2,  34.4444,6,     23.7,2,     24.7,2,   114.58,2,    41.82,2,     0.05,2,     3.16,2,     0.01,2,   2358.9,2,   2370.6,2,   7.3310,2,    25.00,   50.367,2
  32PO20130821,WCOA13,   121,  1,      2,2,   90826,2051, 36.7100,-122.0200, 1262,    756.2,   4.7614,  34.3810,2,-999.0000,9,     15.2,2,     17.7,2,    99.51,2,    41.20,2,     0.03,2,     3.17,2,     0.02,2,   2346.7,2,   2356.2,2,   7.3150,2,    25.00,   49.491,2
  32PO20130821,WCOA13,   121,  1,      3,2,   90826,2059, 36.7100,-122.0200, 1262,    504.0,   6.1546,  34.2570,2,-999.0000,9,     17.8,2,     18.0,2,    76.68,2,    38.52,2,     0.02,2,     3.00,2,     0.03,2,   2312.4,2,   2315.0,2,   7.3100,2,    25.00,   48.171,2
  32PO20130821,WCOA13,   121,  1,      4,2,   90826,2105, 36.7100,-122.0200, 1262,    302.2,   7.7492,  34.1290,2,  34.1459,2,     46.1,2,     43.1,2,  -999.00,9,  -999.00,9,  -999.00,9,  -999.00,9,     -999,9,   2267.0,2,   2283.8,2,   7.3500,2,    25.00,   51.573,2
  32PO20130821,WCOA13,   121,  1,      5,2,   90826,2109, 36.7100,-122.0200, 1262,    201.7,   8.6686,  34.0830,2,-999.0000,9,     64.7,2,     58.1,2,    41.62,2,    31.24,2,     0.04,2,     2.46,2,     0.03,2,   2244.1,2,   -999.0,5,   7.3840,2,    25.00,   54.455,2
  32PO20130821,WCOA13,   121,  1,      6,2,   90826,2113, 36.7100,-122.0200, 1262,    100.7,   9.5505,  33.8970,2,-999.0000,9,     96.9,2,     96.0,2,    29.87,2,    27.19,2,     0.20,2,     2.18,2,     0.08,2,   2205.6,2,   2255.5,2,   7.4570,2,    25.00,   62.075,2
  32PO20130821,WCOA13,   121,  1,      7,2,   90826,2115, 36.7100,-122.0200, 1262,     81.2,   9.8686,  33.8570,2,-999.0000,9,    106.6,2,    103.4,2,    28.92,2,    26.14,2,     0.11,2,     2.14,2,     0.03,2,   2198.7,2,   2250.9,2,   7.4660,2,    25.00,     63.8,2
  32PO20130821,WCOA13,   121,  1,      8,2,   90826,2117, 36.7100,-122.0200, 1262,     60.1,  10.4438,  33.7980,2,-999.0000,9,    132.3,2,    130.3,2,    23.33,2,    22.55,2,     0.36,2,     2.06,2,     0.98,2,   2180.1,2,   2251.4,2,   7.5230,2,    25.00,   70.676,2
  32PO20130821,WCOA13,   121,  1,      9,2,   90826,2119, 36.7100,-122.0200, 1262,     30.2,  12.5103,  33.6690,2,-999.0000,9,    249.5,2,    241.8,2,     5.78,2,     8.99,2,     0.26,2,     1.09,2,     1.05,2,   2086.9,2,   2254.1,2,   7.7940,3,    25.00,  119.369,2
  32PO20130821,WCOA13,   121,  1,     10,2,   90826,2121, 36.7100,-122.0200, 1262,     20.2,  12.8682,  33.6580,2,-999.0000,9,    262.8,2,    262.9,2,     3.09,2,     6.58,2,     0.21,2,     0.90,2,      0.6,2,   2063.5,2,   2255.7,2,   7.8550,2,    25.00,  131.004,2
  32PO20130821,WCOA13,   121,  1,     11,2,   90826,2123, 36.7100,-122.0200, 1262,      9.8,  13.9828,  33.7380,2,  33.7279,2,    313.4,2,    315.7,2,     2.88,2,     0.91,2,     0.07,2,     0.62,2,     0.11,2,   1999.8,2,   2271.4,2,   8.0040,2,    25.00,  181.424,3
  32PO20130821,WCOA13,   121,  1,     12,2,   90826,2125, 36.7100,-122.0200, 1262,      3.1,  14.0555,  33.7400,2,-999.0000,9,    315.4,2,    326.5,2,     1.93,2,     0.13,2,     0.06,2,     0.55,2,     0.08,2,   1986.5,2,   2266.5,2,   8.0300,2,    25.00,  178.604,2
  32PO20130821,WCOA13,   127,  1,      1,2,   90827,0043, 36.6900,-122.0600, 1762,   1720.3,   2.2591,  34.5980,2,  34.5958,2,     71.1,2,     70.2,6,   148.14,2,    40.52,2,     0.06,2,     2.97,2,     0.02,2,   2373.5,2,   2417.7,2,   7.4300,2,    25.00,   61.685,2
  32PO20130821,WCOA13,   127,  1,      2,2,   90827,0049, 36.6900,-122.0600, 1762,   1514.7,   2.6712,  34.5630,2,-999.0000,9,     53.7,2,     53.5,2,   137.70,2,    41.39,2,     0.06,2,     3.05,2,        0,2,   2372.2,2,   2407.3,2,   7.3950,2,    25.00,   59.756,2
  32PO20130821,WCOA13,   127,  1,      3,2,   90827,0056, 36.6900,-122.0600, 1762,   1261.6,   3.1869,  34.5190,2,-999.0000,9,     36.4,2,     36.8,2,   128.95,2,    42.17,2,     0.05,2,     3.13,2,     0.01,2,   2371.6,2,   2392.9,2,   7.3600,2,    25.00,   55.518,2
  32PO20130821,WCOA13,   127,  1,      4,2,   90827,0102, 36.6900,-122.0600, 1762,   1009.5,   4.0525,  34.4440,2,-999.0000,9,     18.3,2,     18.8,2,   113.96,2,    42.62,2,     0.00,2,     3.21,2,     0.01,2,   2362.2,2,   2371.3,2,   7.3230,2,    25.00,   50.748,2
  32PO20130821,WCOA13,   127,  1,      5,2,   90827,0106, 36.6900,-122.0600, 1762,    906.9,   4.3123,  34.4180,2,-999.0000,9,     15.0,2,     14.5,2,   109.83,2,    42.55,2,     0.01,2,     3.18,2,     0.03,2,   2356.4,2,   2363.6,2,   7.3140,2,    25.00,   49.587,2
  32PO20130821,WCOA13,   127,  1,      6,2,   90827,0109, 36.6900,-122.0600, 1762,    806.8,   4.7719,  34.3800,2,-999.0000,9,     12.1,2,     12.4,2,    99.46,2,    41.86,2,     0.01,2,     3.20,2,     0.02,2,   2345.3,2,   2355.0,2,   7.3060,2,    25.00,   48.446,2
  32PO20130821,WCOA13,   127,  1,      7,2,   90827,0113, 36.6900,-122.0600, 1762,    704.9,   5.2639,  34.3310,2,  34.3272,2,     12.2,2,     12.1,2,    89.92,2,    40.82,2,     0.01,2,     3.16,2,        0,2,   2331.9,2,   2340.9,2,   7.3050,2,    25.00,   48.155,2
  32PO20130821,WCOA13,   127,  1,      8,2,   90827,0116, 36.6900,-122.0600, 1762,    604.8,   5.8179,  34.2850,2,-999.0000,9,     15.0,2,     14.3,2,    79.73,2,    39.46,2,     0.01,2,     3.09,2,     0.01,2,   2320.7,2,   2326.2,2,   7.3040,2,    25.00,   47.671,2
  32PO20130821,WCOA13,   127,  1,      9,2,   90827,0120, 36.6900,-122.0600, 1762,    504.7,   6.4390,  34.2360,2,-999.0000,9,     21.3,2,     20.4,2,    69.39,2,    37.89,2,     0.01,2,     2.98,2,     0.04,2,   2303.0,2,   2309.6,2,   7.3130,2,    25.00,   49.263,2
  32PO20130821,WCOA13,   127,  1,     10,2,   90827,0123, 36.6900,-122.0600, 1762,    403.1,   7.1950,  34.2000,2,-999.0000,9,     31.6,2,     30.6,2,    59.55,2,    35.86,2,     0.01,2,     2.83,2,     0.01,2,   2282.6,2,   2302.3,2,   7.3310,2,    25.00,   50.264,2
  32PO20130821,WCOA13,   127,  1,     11,2,   90827,0126, 36.6900,-122.0600, 1762,    302.2,   8.0213,  34.1460,2,-999.0000,9,     48.1,2,     47.1,2,    48.42,2,    33.19,2,     0.14,2,     2.60,2,     0.01,2,   2259.7,2,   2279.6,2,   7.3630,2,    25.00,   53.197,2
  32PO20130821,WCOA13,   127,  1,     12,2,   90827,0130, 36.6900,-122.0600, 1762,    201.3,   8.8754,  34.0530,2,  34.0466,2,     70.9,2,     70.1,2,    37.74,2,    29.86,2,     0.08,2,     2.34,2,        0,2,   2229.6,2,   2266.2,2,   7.4140,2,    25.00,   58.743,2
  32PO20130821,WCOA13,   127,  2,      1,2,   90827,0218, 36.6900,-122.0600, 1762,    201.0,   8.8786,  34.0510,2,-999.0000,9,     71.0,2,     71.5,2,    37.57,2,    29.93,2,     0.06,2,     2.35,2,     0.01,2,   2230.5,2,   2267.0,2,   7.4130,2,    25.00,   58.283,3
  32PO20130821,WCOA13,   127,  2,      2,2,   90827,0220, 36.6900,-122.0600, 1762,    150.9,   9.2721,  33.9580,2,  33.9530,2,     86.6,2,     89.4,2,    33.36,2,    28.08,2,     0.04,2,     2.24,2,     0.02,2,   2213.5,2,   2261.7,2,   7.4430,2,    25.00,   60.868,2
  32PO20130821,WCOA13,   127,  2,      3,2,   90827,0223, 36.6900,-122.0600, 1762,    101.2,   9.6566,  33.8770,2,-999.0000,9,    100.6,2,     99.8,2,    29.96,2,    26.57,2,     0.04,2,     2.14,2,     0.02,2,   2199.9,2,   2258.3,2,   7.4650,2,    25.00,   63.603,2
  32PO20130821,WCOA13,   127,  2,      4,2,   90827,0224, 36.6900,-122.0600, 1762,     81.4,   9.9515,  33.8390,2,-999.0000,9,    110.0,2,    109.7,2,    27.69,2,    25.44,2,     0.07,2,     2.09,2,     0.01,2,   2191.9,2,   2253.0,2,   7.4840,2,    25.00,   68.278,3
  32PO20130821,WCOA13,   127,  2,      5,2,   90827,0226, 36.6900,-122.0600, 1762,     60.3,  10.4262,  33.7910,2,-999.0000,9,    137.5,2,    133.8,2,    23.96,2,    22.80,2,     0.37,2,     1.98,2,     0.54,2,   2177.0,2,   2249.6,2,   7.5250,2,    25.00,   71.348,2
  32PO20130821,WCOA13,   127,  2,      6,2,   90827,0228, 36.6900,-122.0600, 1762,     42.1,  10.9860,  33.7370,2,-999.0000,9,    163.7,2,    163.1,2,    18.78,2,    18.88,2,     0.34,2,     1.83,2,     1.77,2,   2156.0,2,   2251.2,2,   7.5910,2,    25.00,   82.841,2
  32PO20130821,WCOA13,   127,  2,      7,2,   90827,0230, 36.6900,-122.0600, 1762,     30.1,  12.0688,  33.6500,2,-999.0000,9,    222.5,2,    218.2,6,     8.73,2,    11.97,2,     0.25,2,     1.28,2,     1.44,2,   2106.0,2,   2251.5,2,   7.7260,2,    25.00,  105.172,2
  32PO20130821,WCOA13,   127,  2,      8,2,   90827,0231, 36.6900,-122.0600, 1762,     20.5,  13.4384,  33.6220,2,  33.6227,2,    255.3,2,    250.3,2,     4.35,2,     8.01,2,     0.19,2,     0.95,2,     0.72,2,   2067.8,2,   2254.7,2,   7.8320,2,    25.00,  127.705,2
  32PO20130821,WCOA13,   127,  2,      9,2,   90827,0233, 36.6900,-122.0600, 1762,     10.4,  13.5938,  33.6200,2,-999.0000,9,    256.5,2,    254.7,2,     3.37,2,     7.08,2,     0.18,2,     0.84,2,     0.58,2,   2062.2,2,   2256.2,2,   7.8470,2,    25.00,   132.09,2
  32PO20130821,WCOA13,   127,  2,     10,2,   90827,0234, 36.6900,-122.0600, 1762,      3.0,  13.5943,  33.6220,2,  33.6198,6,    256.2,2,   -999.0,9,     3.52,2,     7.28,2,     0.18,2,     0.85,2,     0.57,2,   2061.8,2,   2254.4,2,   7.8450,2,    25.00,  132.429,2
  32PO20130821,WCOA13,   126,  1,      1,2,   90827,1623, 36.5200,-122.4300, 2200,   2026.0,   1.9523,  34.6040,2,  34.6199,6,     81.6,2,     81.3,2,   148.96,2,    40.31,2,     0.03,2,     2.89,2,     0.03,2,   2376.3,2,   2427.7,2,   7.4500,3,    25.00,   67.506,2
  32PO20130821,WCOA13,   126,  1,      2,2,   90827,1631, 36.5200,-122.4300, 2200,   1770.9,   2.2628,  34.5730,2,-999.0000,9,     62.5,2,     62.7,2,   155.92,2,    41.06,2,     0.04,2,     2.95,2,     0.02,2,   -999.0,9,   -999.0,9,   7.4110,2,    25.00,   61.549,2
  32PO20130821,WCOA13,   126,  1,      3,2,   90827,1639, 36.5200,-122.4300, 2200,   1517.9,   2.8349,  34.5270,2,-999.0000,9,     42.8,2,     43.1,2,   141.20,2,    42.65,2,     0.01,2,     3.10,2,        0,2,   2376.9,2,   2404.5,2,   7.3700,2,    25.00,   55.828,2
  32PO20130821,WCOA13,   126,  1,      4,2,   90827,1647, 36.5200,-122.4300, 2200,   1264.4,   3.2548,  34.4900,2,-999.0000,9,     30.9,2,     31.4,2,   128.42,2,    43.05,2,     0.01,2,     3.15,2,     0.02,2,   -999.0,9,   -999.0,9,   7.3480,2,    25.00,   51.811,2
  32PO20130821,WCOA13,   126,  1,      5,2,   90827,1654, 36.5200,-122.4300, 2200,   1011.3,   3.9423,  34.4360,2,-999.0000,9,     19.7,2,     19.6,2,   112.89,2,    42.83,2,     0.02,2,     3.22,2,     0.01,2,   2362.5,2,   2377.3,2,   7.3250,2,    25.00,   50.841,2
  32PO20130821,WCOA13,   126,  1,      6,2,   90827,1657, 36.5200,-122.4300, 2200,    908.7,   4.2856,  34.4070,2,-999.0000,9,     15.5,2,     15.7,2,   107.55,2,    42.68,2,     0.00,2,     3.23,2,     0.02,2,   -999.0,9,   -999.0,9,   7.3160,2,    25.00,   51.358,2
  32PO20130821,WCOA13,   126,  1,      7,2,   90827,1700, 36.5200,-122.4300, 2200,    808.3,   4.6192,  34.3760,2,-999.0000,9,     13.4,2,     13.4,2,   100.26,2,    42.20,2,     0.01,2,     3.22,2,     0.02,2,   -999.0,9,   -999.0,9,   7.3110,2,    25.00,   49.009,2
  32PO20130821,WCOA13,   126,  1,      8,2,   90827,1703, 36.5200,-122.4300, 2200,    706.8,   5.1625,  34.3260,2,-999.0000,9,     11.7,2,     11.5,2,    90.55,2,    41.32,2,     0.00,2,     3.20,2,     0.02,2,   2336.8,2,   2340.3,2,   7.3040,2,    25.00,   47.804,2
  32PO20130821,WCOA13,   126,  1,      9,2,   90827,1706, 36.5200,-122.4300, 2200,    605.1,   5.6357,  34.2720,2,-999.0000,9,     13.9,2,     13.8,2,    83.26,2,    40.13,2,     0.00,2,     3.14,2,     0.01,2,   -999.0,9,   -999.0,9,   7.3030,2,    25.00,   47.763,2
  32PO20130821,WCOA13,   126,  1,     10,2,   90827,1709, 36.5200,-122.4300, 2200,    504.6,   6.0765,  34.1830,2,-999.0000,9,     23.9,2,     23.7,2,    71.93,2,    38.98,2,     0.00,2,     2.98,2,        0,2,   2304.2,2,   2313.5,3,   7.3100,2,    25.00,   47.898,2
  32PO20130821,WCOA13,   126,  1,     11,2,   90827,1713, 36.5200,-122.4300, 2200,    403.5,   6.9573,  34.2020,2,  34.2154,2,     29.3,2,     28.6,2,    61.88,2,    36.43,2,     0.00,2,     2.87,2,     0.02,2,   2289.0,2,   2302.0,2,   7.3310,2,    25.00,   49.846,2
  32PO20130821,WCOA13,   126,  1,     12,2,   90827,1716, 36.5200,-122.4300, 2200,    302.3,   8.0124,  29.3850,2,-999.0000,9,     46.1,2,     46.3,2,    47.78,2,    33.21,2,     0.00,2,     2.62,2,     0.05,2,   2261.6,2,   2287.5,2,   7.3770,2,    25.00,   26.879,3
  32PO20130821,WCOA13,   126,  2,      1,2,   90827,1811, 36.5200,-122.4300, 2200,    301.5,   8.0818,  34.1540,2,  34.1686,2,     47.4,2,     48.3,2,    46.81,2,    33.04,2,     0.00,2,     2.61,2,     0.02,2,   2260.4,2,   2286.6,2,   7.3700,2,    25.00,    53.05,2
  32PO20130821,WCOA13,   126,  2,      2,2,   90827,1815, 36.5200,-122.4300, 2200,    201.8,   8.8597,  34.0750,2,-999.0000,9,     66.5,2,     66.3,2,    38.38,2,    30.28,2,     0.01,2,     2.41,2,     0.09,2,   2236.9,2,   2270.0,2,   7.4060,2,    25.00,   58.924,3
  32PO20130821,WCOA13,   126,  2,      3,2,   90827,1817, 36.5200,-122.4300, 2200,    152.2,   9.2333,  34.0080,2,-999.0000,9,     77.0,2,     77.9,2,    34.16,2,    28.65,2,     0.02,2,     2.30,2,     0.04,2,   2223.4,2,   2261.7,2,   7.4300,2,    25.00,   59.735,2
  32PO20130821,WCOA13,   126,  2,      4,2,   90827,1819, 36.5200,-122.4300, 2200,    101.5,   9.6254,  33.9000,2,-999.0000,9,     94.7,2,     93.1,2,    30.27,2,    26.94,2,     0.02,2,     2.17,2,     0.01,2,   2206.6,2,   2257.4,2,   7.4580,2,    25.00,   62.677,2
  32PO20130821,WCOA13,   126,  2,      5,2,   90827,1821, 36.5200,-122.4300, 2200,     81.0,   9.7359,  33.8680,2,-999.0000,9,     97.6,2,     96.1,2,    28.80,2,    26.35,2,     0.03,2,     2.13,2,     0.02,2,   2201.2,2,   2250.2,2,   7.4660,2,    25.00,   63.448,2
  32PO20130821,WCOA13,   126,  2,      6,2,   90827,1823, 36.5200,-122.4300, 2200,     60.8,   9.9387,  33.8250,2,-999.0000,9,    114.4,2,    103.1,2,    26.69,2,    25.16,2,     0.07,2,     2.05,2,     0.04,2,   2196.7,2,   2250.7,2,   7.4780,2,    25.00,   64.743,2
  32PO20130821,WCOA13,   126,  2,      7,2,   90827,1824, 36.5200,-122.4300, 2200,     39.7,  11.4254,  33.6770,2,-999.0000,9,    183.8,2,    165.3,2,    15.49,2,    17.77,2,     0.30,2,     1.66,2,     1.01,2,   2145.6,2,   2244.7,2,   7.6190,3,    25.00,   86.976,2
  32PO20130821,WCOA13,   126,  2,      8,2,   90827,1826, 36.5200,-122.4300, 2200,     30.4,  12.3555,  33.6570,2,  33.6709,2,    231.3,2,    218.6,2,     8.29,2,    11.11,2,     0.24,2,     1.27,2,     1.45,2,   2103.5,2,   2251.8,2,   7.7500,2,    25.00,   99.988,4
  32PO20130821,WCOA13,   126,  2,      9,2,   90827,1827, 36.5200,-122.4300, 2200,     20.1,  13.1409,  33.6810,2,-999.0000,9,    265.7,2,    262.7,2,     2.76,2,     4.61,2,     0.11,2,     0.87,2,     1.38,2,   2060.5,2,   2254.9,2,   7.8690,2,    25.00,  139.713,2
  32PO20130821,WCOA13,   126,  2,     10,2,   90827,1828, 36.5200,-122.4300, 2200,     10.2,  13.9528,  33.6500,2,-999.0000,9,    293.9,2,    293.0,2,     1.46,2,     1.05,2,     0.11,2,     0.65,2,      0.2,2,   2022.9,2,   2261.8,2,   7.9430,3,    25.00,  160.128,2
  32PO20130821,WCOA13,   126,  2,     11,2,   90827,1830, 36.5200,-122.4300, 2200,      2.8,  14.0629,  33.6490,2,  33.6630,2,    294.3,2,    297.1,2,     1.13,2,     0.88,2,     0.13,2,     0.59,2,     0.14,2,   2019.1,2,   2261.5,2,   7.9610,2,    25.00,  159.737,2
  32PO20130821,WCOA13,   128,  1,      1,2,   90827,2208, 36.7000,-122.3900, 1780,   1720.6,   2.3842,  34.5450,2,  34.5803,6,     58.2,2,     59.0,2,   154.27,2,    41.41,2,    -0.01,2,     3.00,2,     0.03,2,   -999.0,9,   -999.0,9,   7.4030,3,    25.00,   61.072,2
  32PO20130821,WCOA13,   128,  1,      2,2,   90827,2214, 36.7000,-122.3900, 1780,   1517.9,   2.7129,  34.5190,2,-999.0000,9,     46.9,2,     47.8,2,   144.22,2,    41.62,2,     0.00,2,     3.06,2,     0.04,2,   -999.0,9,   -999.0,9,   7.3810,2,    25.00,   56.927,2
  32PO20130821,WCOA13,   128,  1,      3,2,   90827,2222, 36.7000,-122.3900, 1780,   1263.5,   3.2036,  34.4770,2,-999.0000,9,     32.7,2,     33.3,2,   128.67,2,    42.66,2,     0.00,2,     3.12,2,        0,2,   -999.0,9,   -999.0,9,   7.3530,2,    25.00,   54.056,2
  32PO20130821,WCOA13,   128,  1,      4,2,   90827,2229, 36.7000,-122.3900, 1780,   1008.4,   4.0059,  34.4040,2,-999.0000,9,     17.3,2,     18.3,2,   111.00,2,    42.83,2,     0.00,2,     3.18,2,     0.03,2,   -999.0,9,   -999.0,9,   7.3200,3,    25.00,   49.794,2
  32PO20130821,WCOA13,   128,  1,      5,2,   90827,2232, 36.7000,-122.3900, 1780,    908.0,   4.4801,  34.3720,2,-999.0000,9,     14.4,2,     14.8,2,   106.46,2,    42.15,2,     0.01,2,     3.19,2,     0.06,2,   -999.0,9,   -999.0,9,   7.3130,2,    25.00,   49.577,2
  32PO20130821,WCOA13,   128,  1,      6,2,   90827,2235, 36.7000,-122.3900, 1780,    806.7,   4.7780,  34.3440,2,-999.0000,9,     12.2,2,     12.2,2,    96.73,2,    41.70,2,     0.00,2,     3.18,2,     0.02,2,   -999.0,9,   -999.0,9,   7.3090,2,    25.00,   48.714,2
  32PO20130821,WCOA13,   128,  1,      7,2,   90827,2239, 36.7000,-122.3900, 1780,    706.0,   5.0635,  34.2850,2,-999.0000,9,     11.7,2,     11.5,2,    89.11,2,    41.29,2,     0.00,2,     3.14,2,     0.02,2,   -999.0,9,   -999.0,9,   7.2980,2,    25.00,   47.634,2
  32PO20130821,WCOA13,   128,  1,      8,2,   90827,2242, 36.7000,-122.3900, 1780,    606.2,   5.5304,  34.1910,2,-999.0000,9,     18.2,2,     18.0,2,    79.38,2,    40.16,2,     0.00,2,     3.04,2,     0.04,2,   -999.0,9,   -999.0,9,   7.2980,2,    25.00,   46.133,2
  32PO20130821,WCOA13,   128,  1,      9,2,   90827,2245, 36.7000,-122.3900, 1780,    503.6,   6.1348,  34.1520,2,-999.0000,9,     25.6,2,     25.0,2,    70.78,2,    38.70,2,     0.02,2,     2.92,2,     0.03,2,   -999.0,9,   -999.0,9,   7.3100,3,    25.00,   46.529,2
  32PO20130821,WCOA13,   128,  1,     10,2,   90827,2249, 36.7000,-122.3900, 1780,    403.7,   6.7130,  34.0800,2,-999.0000,9,     42.5,2,     43.2,2,    59.26,2,    36.48,2,     0.02,2,     2.72,2,     0.04,2,   -999.0,9,   -999.0,9,   7.3380,3,    25.00,   50.231,2
  32PO20130821,WCOA13,   128,  1,     11,2,   90827,2252, 36.7000,-122.3900, 1780,    303.2,   7.5843,  34.0660,2,  34.1007,2,     57.7,2,     55.3,2,    48.23,2,    33.66,2,     0.05,2,     2.55,2,     0.03,2,   2258.2,2,   2282.2,2,   7.3670,2,    25.00,   53.876,2
  32PO20130821,WCOA13,   128,  1,     12,2,   90827,2255, 36.7000,-122.3900, 1780,    201.5,   8.6501,  34.0420,2,-999.0000,9,     66.2,2,     64.7,2,    38.48,2,    30.69,2,     0.07,2,     2.39,2,     0.05,2,   2240.5,2,   2277.6,2,   7.4000,2,    25.00,   57.374,2