BOTTLE,201906109PRINUNIVRMK
# 06/23/2016 Initialized README file   
# Data source:NOAA/PMEL  
# SHIPS: R/V Point Sur 
# Cruise: WCOA2013 Leg 2 (Leg 1 was R/V Fairweather cruise 317W20130803) 
# Region: US West Coast, Pacific Ocean  
# EXPOCODE: 32PO20130821  (alias  32PO20130829) 
# DATES: 20130821 - 20130829 
# Chief Scientist: Richard Feely. Lauren W. Juranek 
# 33 stations with 24 place Rosette  
# Hydro: Who - G. Johnson; Status - final  
# 	Notes: 	 
# Nutrients: Who - B. Hales; Status - final  
# 	Notes:  includes ammonium 
# O2: Who - B. Hales; Status -final  
# 	Notes:  
# TCO2: Who - R.Feely; Status - final  
# 	Notes:  
# TA: Who - S. Alin; Status - final  
# 	Notes: 
# pH: Who -R. Byrne; Status - final 
# 	Notes: total scale at 25C 
# 	Revised data from D.Greely 6/4/2019 
# CO3-2: Who -R. Byrne; Status - final 
# 	Notes: Values measured 
# Other: Chlorophyll- W. Peterson;  
# References:  
# Feely, R.A., S.R. Alin, B. Hales, G.C. Johnson, R.H. Byrne, W.T. Peterson, X. Liu, and D. Greeley. Chemical and hydrographic profile measurements during the 2013 West Coast Ocean Acidification Cruise (WCOA2013, August 3−29, 2013). http://cdiac.ornl.gov/ftp/oceans/WCOA2013/. Carbon Dioxide Information Analysis Center, Oak Ridge National Laboratory, US Department of Energy, Oak Ridge, Tennessee.  doi: 10.3334/CDIAC/OTG.COAST_WCOA2013 
EXPOCODE,SECT_ID,STNNBR,CASTNO,BTLNBR,BTLNBR_FLAG_W,DATE,TIME,LATITUDE,LONGITUDE,DEPTH,CTDPRS,CTDTMP,CTDSAL,CTDSAL_FLAG_W,SALNTY,SALNTY_FLAG_W,CTDOXY,CTDOXY_FLAG_W,OXYGEN,OXYGEN_FLAG_W,SILCAT,SILCAT_FLAG_W,NITRAT,NITRAT_FLAG_W,NITRIT,NITRIT_FLAG_W,PHSPHT,PHSPHT_FLAG_W,NH4,NH4_FLAG_W,TCARBN,TCARBN_FLAG_W,ALKALI,ALKALI_FLAG_W,PH_TOT,PH_TOT_FLAG_W,PH_TMP,CO32,CO32_FLAG_W
,,,,,,,,,,METERS,DBAR,ITS-90,PSS-78,,PSS-78,,UMOL/KG,,UMOL/KG,,UMOL/KG,,UMOL/KG,,UMOL/KG,,UMOL/KG,,UMOL/KG,,UMOL/KG,,UMOL/KG,,,,DEG C,UMOL/KG,
  32PO20130821,WCOA13,    96,  2,      1,2,   90820,1730, 44.6500,-124.1300,   46,     36.5,   7.5640,  33.8120,2,-999.0000,9,     68.0,2,   -999.0,9,  -999.00,9,  -999.00,9,  -999.00,9,  -999.00,9,     -999,9,   -999.0,9,   -999.0,9,-999.0000,9,  -999.00,     -999,9
  32PO20130821,WCOA13,    96,  2,      2,2,   90820,1730, 44.6500,-124.1300,   46,     36.5,   7.5640,  33.8120,2,-999.0000,9,     68.0,2,   -999.0,9,  -999.00,9,  -999.00,9,  -999.00,9,  -999.00,9,     -999,9,   -999.0,9,   -999.0,9,-999.0000,9,  -999.00,     -999,9
  32PO20130821,WCOA13,    96,  2,      3,2,   90820,1730, 44.6500,-124.1300,   46,     36.4,   7.5640,  33.8120,2,-999.0000,9,     68.0,2,   -999.0,9,  -999.00,9,  -999.00,9,  -999.00,9,  -999.00,9,     -999,9,   -999.0,9,   -999.0,9,-999.0000,9,  -999.00,     -999,9
  32PO20130821,WCOA13,    96,  2,      4,2,   90820,1730, 44.6500,-124.1300,   46,     36.5,   7.5639,  33.8120,2,-999.0000,9,     68.0,2,   -999.0,9,  -999.00,9,  -999.00,9,  -999.00,9,  -999.00,9,     -999,9,   -999.0,9,   -999.0,9,-999.0000,9,  -999.00,     -999,9
  32PO20130821,WCOA13,    96,  2,      5,2,   90820,1730, 44.6500,-124.1300,   46,     36.5,   7.5638,  33.8120,2,-999.0000,9,     68.0,2,   -999.0,9,  -999.00,9,  -999.00,9,  -999.00,9,  -999.00,9,     -999,9,   -999.0,9,   -999.0,9,-999.0000,9,  -999.00,     -999,9
  32PO20130821,WCOA13,    96,  2,      6,2,   90820,1730, 44.6500,-124.1300,   46,     36.5,   7.5637,  33.8120,2,-999.0000,9,     68.0,2,   -999.0,9,  -999.00,9,  -999.00,9,  -999.00,9,  -999.00,9,     -999,9,   -999.0,9,   -999.0,9,-999.0000,9,  -999.00,     -999,9
  32PO20130821,WCOA13,    96,  2,      7,2,   90820,1730, 44.6500,-124.1300,   46,     36.5,   7.5637,  33.8120,2,-999.0000,9,     68.0,2,   -999.0,9,  -999.00,9,  -999.00,9,  -999.00,9,  -999.00,9,     -999,9,   -999.0,9,   -999.0,9,-999.0000,9,  -999.00,     -999,9
  32PO20130821,WCOA13,    96,  2,      8,2,   90820,1732, 44.6500,-124.1300,   46,     36.5,   7.5647,  33.8110,2,  33.8141,2,     68.3,2,   -999.0,9,    51.12,2,    31.02,2,     0.67,2,     2.69,2,     2.07,2,   2268.8,2,   2262.4,2,   7.2970,3,    25.00,   43.727,2
  32PO20130821,WCOA13,    96,  2,      9,2,   90820,1734, 44.6500,-124.1300,   46,     29.9,   7.5750,  33.8010,2,  33.7999,2,     72.9,2,   -999.0,9,    49.81,2,    30.69,2,     0.66,2,     2.65,2,     1.96,2,   2265.2,2,   2262.2,2,   7.2930,2,    25.00,   44.641,2
  32PO20130821,WCOA13,    96,  2,     10,2,   90820,1736, 44.6500,-124.1300,   46,     19.8,   7.7612,  33.7180,2,  33.7200,2,    109.5,2,   -999.0,9,    45.21,2,    29.20,2,     0.57,2,     2.48,2,     1.72,2,   2239.3,2,   2252.5,2,   7.3560,2,    25.00,   50.907,2
  32PO20130821,WCOA13,    96,  2,     11,2,   90820,1738, 44.6500,-124.1300,   46,      9.8,   8.0440,  33.6370,2,  33.6408,2,    139.3,2,   -999.0,9,    39.62,2,    27.30,2,     0.51,2,     2.40,2,     1.59,2,   2215.8,2,   2251.4,2,   7.4140,2,    25.00,   57.836,2
  32PO20130821,WCOA13,    96,  2,     12,2,   90820,1739, 44.6500,-124.1300,   46,      2.5,   8.3666,  33.5880,2,  33.5905,6,    144.0,2,   -999.0,9,    34.70,2,    25.17,2,     0.47,2,     2.28,2,     1.63,2,   2199.1,6,   2249.2,6,   7.4640,2,    25.00,   63.022,2
  32PO20130821,WCOA13,    97,  1,      1,2,   90820,1954, 44.6500,-124.3000,   80,     71.1,   7.4333,  33.8280,2,-999.0000,9,     75.5,2,   -999.0,9,  -999.00,9,  -999.00,9,  -999.00,9,  -999.00,9,     -999,9,   -999.0,9,   -999.0,9,-999.0000,9,  -999.00,     -999,9
  32PO20130821,WCOA13,    97,  1,      2,2,   90820,1954, 44.6500,-124.3000,   80,     71.2,   7.4314,  33.8290,2,-999.0000,9,     67.8,2,   -999.0,9,  -999.00,9,  -999.00,9,  -999.00,9,  -999.00,9,     -999,9,   -999.0,9,   -999.0,9,-999.0000,9,  -999.00,     -999,9
  32PO20130821,WCOA13,    97,  1,      3,2,   90820,1954, 44.6500,-124.3000,   80,     71.3,   7.4301,  33.8290,2,-999.0000,9,     61.2,2,   -999.0,9,  -999.00,9,  -999.00,9,  -999.00,9,  -999.00,9,     -999,9,   -999.0,9,   -999.0,9,-999.0000,9,  -999.00,     -999,9
  32PO20130821,WCOA13,    97,  1,      4,2,   90820,1954, 44.6500,-124.3000,   80,     71.4,   7.4320,  33.8280,2,-999.0000,9,     71.8,2,   -999.0,9,  -999.00,9,  -999.00,9,  -999.00,9,  -999.00,9,     -999,9,   -999.0,9,   -999.0,9,-999.0000,9,  -999.00,     -999,9
  32PO20130821,WCOA13,    97,  1,      5,2,   90820,1954, 44.6500,-124.3000,   80,     71.4,   7.4320,  33.8280,2,  33.8292,2,     71.8,2,     70.3,2,    58.76,2,    32.21,2,     0.54,2,     2.73,2,     1.09,2,   2263.9,2,   2261.5,2,   7.2920,3,    25.00,   44.792,2
  32PO20130821,WCOA13,    97,  1,      6,2,   90820,1957, 44.6500,-124.3000,   80,     60.2,   7.6406,  33.7090,2,-999.0000,9,    105.9,2,    109.0,2,    40.00,2,    30.94,2,     0.32,2,     2.32,2,     0.11,2,   2217.9,2,   2247.2,2,   7.3990,2,    25.00,   55.905,2
  32PO20130821,WCOA13,    97,  1,      7,2,   90820,2000, 44.6500,-124.3000,   80,     50.2,   7.7491,  33.6020,2,  33.6054,2,    121.5,2,    121.9,2,    36.73,2,    29.18,2,     0.19,2,     2.23,2,     0.12,2,   2203.9,2,   2241.3,2,   7.4270,3,    25.00,   58.336,2
  32PO20130821,WCOA13,    97,  1,      8,2,   90820,2001, 44.6500,-124.3000,   80,     40.5,   7.7778,  33.4720,2,-999.0000,9,    147.0,2,    142.9,2,    31.98,2,    26.68,2,     0.11,2,     2.07,2,     0.14,2,   2181.3,2,   2230.6,2,   7.4770,2,    25.00,   63.987,2
  32PO20130821,WCOA13,    97,  1,      9,2,   90820,2003, 44.6500,-124.3000,   80,     30.3,   7.5192,  33.2450,2,  33.2203,2,    151.0,2,    152.2,2,    30.70,2,    25.53,2,     0.09,2,     2.04,2,     0.16,2,   2166.3,2,   2219.9,2,   7.4850,2,    25.00,   64.309,2
  32PO20130821,WCOA13,    97,  1,     10,2,   90820,2005, 44.6500,-124.3000,   80,     20.5,   7.7529,  33.0230,2,  33.0165,2,    134.4,2,    137.2,2,    27.93,2,    25.46,2,     0.14,2,     2.16,2,     0.96,2,   2172.3,2,   2216.7,2,   7.4450,3,    25.00,   56.993,2
  32PO20130821,WCOA13,    97,  1,     11,2,   90820,2007, 44.6500,-124.3000,   80,     10.2,   9.1448,  33.0260,2,-999.0000,9,    228.0,2,    232.5,2,    12.17,2,    14.29,2,     0.14,2,     1.46,2,     0.98,2,   2102.1,2,   2229.8,2,   7.6980,2,    25.00,   96.963,2
  32PO20130821,WCOA13,    97,  1,     12,2,   90820,2009, 44.6500,-124.3000,   80,      2.8,   9.5330,  32.9920,2,  32.9945,6,    240.5,2,    236.3,2,    11.71,2,    14.18,2,     0.13,2,     1.39,2,     0.85,2,   2097.1,2,   2227.0,2,   7.7010,2,    25.00,   96.125,2
  32PO20130821,WCOA13,    98,  1,      1,2,   90820,2238, 44.6500,-124.6500,  280,    271.3,   6.7260,  33.9980,2,  34.0006,2,     70.1,2,     71.6,2,    56.37,2,    35.12,2,     0.04,2,     2.58,2,        0,2,   2261.3,2,   2279.4,2,   7.3660,3,    25.00,    53.25,2
  32PO20130821,WCOA13,    98,  1,      2,2,   90820,2241, 44.6500,-124.6500,  280,    203.7,   7.1286,  33.9560,2,-999.0000,9,     80.5,2,     38.0,2,    51.14,2,    33.88,2,     0.00,2,     2.52,2,     0.02,2,   2251.2,2,   2270.3,2,   7.3710,2,    25.00,   52.861,2
  32PO20130821,WCOA13,    98,  1,      3,2,   90820,2244, 44.6500,-124.6500,  280,    151.2,   7.3783,  33.9170,2,  33.9169,2,     96.6,2,     96.6,2,    47.05,2,    32.84,2,     0.03,2,     2.41,2,     0.05,2,   2237.3,2,   2264.3,2,   7.3920,2,    25.00,    55.34,2
  32PO20130821,WCOA13,    98,  1,      4,4,   90820,2247, 44.6500,-124.6500,  280,    104.6,   7.5694,  33.8110,2,-999.0000,9,     99.5,2,   -999.0,9,  -999.00,9,  -999.00,9,  -999.00,9,  -999.00,9,     -999,9,   -999.0,9,   -999.0,9,-999.0000,9,  -999.00,     -999,9
  32PO20130821,WCOA13,    98,  1,      5,2,   90820,2250, 44.6500,-124.6500,  280,     81.2,   7.8014,  33.6760,2,  33.6770,2,    129.1,2,    123.1,2,    38.75,2,    29.61,2,     0.37,2,     2.29,2,     0.12,2,   2207.7,6,   2247.7,6,   7.4340,2,    25.00,   58.914,2
  32PO20130821,WCOA13,    98,  1,      6,2,   90820,2253, 44.6500,-124.6500,  280,     61.3,   8.3920,  33.4880,2,-999.0000,9,    170.4,2,   -999.0,9,    28.77,2,    24.70,2,     0.43,2,     1.96,2,     0.74,2,   2174.6,2,   2241.3,2,   7.5200,2,    25.00,   70.799,2
  32PO20130821,WCOA13,    98,  1,      7,2,   90820,2255, 44.6500,-124.6500,  280,     50.5,   8.1451,  33.2690,2,  33.4857,4,    169.4,2,    167.2,2,    26.79,2,    23.37,2,     0.36,2,     1.98,2,     1.49,2,   2164.9,2,   2227.2,2,   7.5180,2,    25.00,   68.931,2
  32PO20130821,WCOA13,    98,  1,      8,2,   90820,2257, 44.6500,-124.6500,  280,     40.4,   7.6263,  32.9190,2,-999.0000,9,    225.5,2,   -999.0,9,    22.64,2,    19.73,2,     0.16,2,     1.67,2,     0.14,2,   2115.2,2,   2204.7,2,   7.6070,3,    25.00,   81.324,2
  32PO20130821,WCOA13,    98,  1,      9,2,   90820,2259, 44.6500,-124.6500,  280,     29.6,   7.7755,  32.7530,2,-999.0000,9,    210.5,2,    204.7,2,    21.99,2,    19.44,2,     0.17,2,     1.68,2,     0.09,2,   2109.6,2,   2196.6,2,   7.6040,2,    25.00,   79.312,2
  32PO20130821,WCOA13,    98,  1,     10,2,   90820,2301, 44.6500,-124.6500,  280,     20.7,   8.0704,  32.6360,2,-999.0000,9,    191.7,2,   -999.0,9,    21.34,2,    19.30,2,     0.24,2,     1.74,2,     0.25,2,   2114.4,2,   2189.8,2,   7.5790,2,    25.00,   78.871,2
  32PO20130821,WCOA13,    98,  1,     11,2,   90820,2303, 44.6500,-124.6500,  280,     10.4,  11.0405,  32.1770,2,-999.0000,9,    261.5,2,    255.9,2,     7.20,2,     7.38,2,     0.13,2,     0.91,2,      0.7,2,   2018.7,2,   2187.2,2,   7.8260,2,    25.00,  117.192,2
  32PO20130821,WCOA13,    98,  1,     12,2,   90820,2304, 44.6500,-124.6500,  280,      3.0,  11.9403,  32.0010,2,  32.0004,6,    279.3,2,   -999.0,9,     5.55,2,     4.03,2,     0.12,2,     0.66,2,     0.19,2,   1980.0,2,   2180.5,2,   7.8950,3,    25.00,  132.865,3
  32PO20130821,WCOA13,    99,  1,      1,2,   90821,0117, 44.6500,-124.7700,  246,    230.7,   7.1711,  33.9590,2,  33.9624,2,     86.1,2,     85.8,2,    50.27,2,    33.78,2,     0.03,2,     2.51,2,     0.01,2,   2246.2,2,   2269.8,2,   7.3870,2,    25.00,   54.674,2
  32PO20130821,WCOA13,    99,  1,      2,2,   90821,0120, 44.6500,-124.7700,  246,    201.1,   7.3325,  33.9440,2,-999.0000,9,     88.8,2,   -999.0,9,    48.12,2,    33.25,2,     0.02,2,     2.43,2,     0.07,2,   2241.1,2,   2267.8,2,   7.3880,3,    25.00,   54.512,2
  32PO20130821,WCOA13,    99,  1,      3,2,   90821,0124, 44.6500,-124.7700,  246,    152.2,   7.5181,  33.8980,2,  33.8984,2,    101.9,2,    105.9,2,    44.97,2,    32.31,2,     0.03,2,     2.38,2,     0.01,2,   2230.9,2,   2260.8,2,   7.4070,2,    25.00,   57.028,2
  32PO20130821,WCOA13,    99,  1,      4,3,   90821,0126, 44.6500,-124.7700,  246,    124.7,   7.7957,  33.8120,2,-999.0000,9,    132.7,2,   -999.0,9,     9.58,4,     9.98,4,     0.17,4,     1.18,4,     0.94,4,   2059.2,4,   -999.0,5,   7.7370,3,    25.00,  119.963,3
  32PO20130821,WCOA13,    99,  1,      5,2,   90821,0129, 44.6500,-124.7700,  246,    102.9,   7.9230,  33.7380,2,  33.7349,2,    142.3,2,    136.6,2,    38.34,2,    29.79,2,     0.08,2,     2.25,2,     0.04,2,   2206.6,2,   2251.2,2,   7.4500,2,    25.00,   61.413,2
  32PO20130821,WCOA13,    99,  1,      6,2,   90821,0131, 44.6500,-124.7700,  246,     81.9,   8.0822,  33.6260,2,-999.0000,9,    152.5,2,   -999.0,9,    34.20,2,    27.85,2,     0.10,2,     2.10,2,     0.03,2,   2191.0,2,   2239.8,3,   7.4780,2,    25.00,   64.443,2
  32PO20130821,WCOA13,    99,  1,      7,2,   90821,0133, 44.6500,-124.7700,  246,     61.1,   7.8287,  33.2380,2,-999.0000,9,    164.5,2,    161.5,2,    28.90,2,    24.69,2,     0.27,2,     2.01,2,     0.26,2,   2162.2,2,   2220.3,2,   7.5010,3,    25.00,   67.944,2
  32PO20130821,WCOA13,    99,  1,      8,2,   90821,0136, 44.6500,-124.7700,  246,     40.8,   7.9214,  32.8730,2,-999.0000,9,    158.9,2,    158.4,2,    24.76,2,    23.21,2,     0.15,2,     2.00,2,     0.77,2,   2150.6,2,   2204.4,2,   7.4950,2,    25.00,   66.056,3
  32PO20130821,WCOA13,    99,  1,      9,2,   90821,0138, 44.6500,-124.7700,  246,     30.3,   8.1511,  32.6520,2,  32.6056,2,    168.0,2,    199.8,2,    12.14,2,    14.31,2,     0.14,2,     1.54,2,     1.79,2,   2108.8,2,   2205.7,2,   7.6280,2,    25.00,   83.988,2
  32PO20130821,WCOA13,    99,  1,     10,2,   90821,0140, 44.6500,-124.7700,  246,     20.3,   9.9274,  32.4340,2,-999.0000,9,    242.2,2,    234.2,2,     9.33,2,     9.50,2,     0.16,2,     1.16,2,     0.85,2,   2051.4,2,   2194.8,2,   7.7610,2,    25.00,   108.67,2
  32PO20130821,WCOA13,    99,  1,     11,2,   90821,0142, 44.6500,-124.7700,  246,     10.0,  12.2158,  31.8800,2,-999.0000,9,    288.4,2,    281.4,2,     4.53,2,     2.99,2,     0.08,2,     0.57,2,     0.13,2,   1960.8,2,   2179.9,2,   7.9290,2,    25.00,  138.658,2
  32PO20130821,WCOA13,    99,  1,     12,2,   90821,0144, 44.6500,-124.7700,  246,      2.9,  12.6807,  31.8400,2,  31.8414,6,    288.0,2,   -999.0,9,     4.04,2,     1.73,2,     0.06,2,     0.49,2,      0.1,2,   1947.1,2,   2173.5,2,   7.9580,2,    25.00,  147.284,2
  32PO20130821,WCOA13,   101,  1,      1,2,   90821,1424, 44.2000,-124.1700,   45,     35.6,   7.9455,  33.7840,2,  33.7805,2,    121.9,2,    117.3,2,    43.21,2,    29.82,2,     0.90,2,     2.55,2,     2.51,2,   2237.3,2,   2260.6,2,   7.3740,2,    25.00,   54.924,2
  32PO20130821,WCOA13,   101,  1,      2,2,   90821,1425, 44.2000,-124.1700,   45,     35.5,   7.9503,  33.7830,2,-999.0000,9,    121.9,2,    121.4,2,    40.06,2,    28.83,2,     0.87,2,     2.42,2,      2.5,2,   2233.9,2,   2258.5,2,   7.3810,2,    25.00,   53.914,2
  32PO20130821,WCOA13,   101,  1,      3,2,   90821,1427, 44.2000,-124.1700,   45,     30.2,   8.0321,  33.7720,2,  33.7686,2,    124.8,2,    124.4,2,    39.41,2,    28.35,2,     0.76,2,     2.41,2,     2.97,2,   2230.4,2,   2259.4,2,   7.3970,2,    25.00,   55.489,2
  32PO20130821,WCOA13,   101,  1,      4,4,   90821,1428, 44.2000,-124.1700,   45,     19.7,   8.1217,  33.7530,2,-999.0000,9,    131.8,2,   -999.0,9,  -999.00,9,  -999.00,9,  -999.00,9,  -999.00,9,     -999,9,   -999.0,9,   -999.0,9,-999.0000,9,  -999.00,     -999,9
  32PO20130821,WCOA13,   101,  1,      5,2,   90821,1430, 44.2000,-124.1700,   45,     10.4,   8.5632,  33.7070,2,  33.6975,2,    176.0,2,    177.5,2,    28.97,2,    23.32,2,     0.74,2,     2.17,2,     3.08,2,   2198.6,2,   2260.1,2,   7.5020,2,    25.00,   68.049,2
  32PO20130821,WCOA13,   101,  1,      6,2,   90821,1432, 44.2000,-124.1700,   45,      3.0,   9.2984,  33.6610,2,  33.6567,2,    233.1,2,    236.7,2,    19.69,2,    17.35,2,     0.56,2,     1.66,2,      1.4,2,   2149.4,2,   2264.5,2,   7.6560,2,    25.00,   92.687,2
  32PO20130821,WCOA13,   101,  1,      7,2,   90821,1432, 44.2000,-124.1700,   45,      2.9,   9.3025,  33.6610,2,  33.6570,2,    233.1,2,    236.0,2,    19.87,2,    17.44,2,     0.57,2,     1.68,2,     1.47,2,   -999.0,9,   -999.0,9,-999.0000,9,  -999.00,     -999,9
  32PO20130821,WCOA13,   102,  1,      1,2,   90821,1647, 44.2000,-124.2600,   71,     66.6,   7.6788,  33.8600,2,  33.8548,2,     96.0,2,   -999.0,9,    53.86,2,    32.94,2,     0.53,2,     2.58,2,     0.23,2,   -999.0,9,   -999.0,9,-999.0000,9,  -999.00,     -999,9
  32PO20130821,WCOA13,   102,  1,      2,2,   90821,1647, 44.2000,-124.2600,   71,     66.7,   7.6788,  33.8600,2,-999.0000,9,     96.0,2,     98.9,2,    53.70,2,    32.87,2,     0.52,2,     2.58,2,     0.34,2,   2248.7,2,   2263.0,2,   7.3380,2,    25.00,   49.311,2
  32PO20130821,WCOA13,   102,  1,      3,2,   90821,1649, 44.2000,-124.2600,   71,     40.1,   7.9295,  33.7980,2,  33.7924,2,    135.5,2,    127.9,2,    39.62,2,    31.22,2,     0.05,2,     2.31,2,     0.09,2,   2219.4,2,   2254.3,2,   7.4160,2,    25.00,   58.292,2
  32PO20130821,WCOA13,   102,  1,      4,2,   90821,1651, 44.2000,-124.2600,   71,     31.1,   8.0358,  33.7750,2,-999.0000,9,    139.1,2,   -999.0,9,    38.47,2,    30.01,2,     0.55,2,     2.33,2,     0.61,2,   -999.0,9,   -999.0,9,-999.0000,9,  -999.00,     -999,9
  32PO20130821,WCOA13,   102,  1,      5,2,   90821,1651, 44.2000,-124.2600,   71,     31.0,   8.0352,  33.7750,2,  33.7635,2,    139.1,2,    139.2,2,    38.64,2,    30.04,2,     0.55,2,     2.35,2,     0.63,2,   2218.5,2,   2253.6,2,   7.4240,3,    25.00,   58.311,2
  32PO20130821,WCOA13,   102,  1,      6,2,   90821,1654, 44.2000,-124.2600,   71,     19.8,   8.1304,  33.6730,2,  33.7081,2,    137.5,2,    157.9,2,    19.61,2,    20.33,2,     0.51,2,     2.19,2,     6.02,2,   2217.7,2,   2269.5,2,   7.4680,3,    25.00,     63.4,2
  32PO20130821,WCOA13,   102,  1,      7,2,   90821,1656, 44.2000,-124.2600,   71,      9.6,  10.4621,  33.6290,2,-999.0000,9,    296.4,2,    301.3,2,     5.93,2,     7.23,2,     0.30,2,     0.91,2,     0.36,2,   2075.2,2,   2273.7,2,   7.8600,3,    25.00,  134.675,2
  32PO20130821,WCOA13,   102,  1,      8,2,   90821,1656, 44.2000,-124.2600,   71,      3.3,  10.7601,  33.6090,2,  33.6102,2,    309.4,2,    316.8,2,     4.46,2,     4.71,2,     0.25,2,     0.75,2,     0.21,2,   2053.0,2,   2273.2,2,   7.9070,3,    25.00,  140.816,2
  32PO20130821,WCOA13,   102,  1,      9,2,   90821,1656, 44.2000,-124.2600,   71,      3.3,  10.7931,  33.6070,2,  33.6102,2,    311.5,2,   -999.0,9,     4.30,2,     4.72,2,     0.22,2,     0.76,2,     0.18,2,   -999.0,9,   -999.0,9,-999.0000,9,  -999.00,     -999,9