BOTTLE,201906109PRINUNIVRMK
EXPOCODE,SECT_ID,STNNBR,CASTNO,BTLNBR,BTLNBR_FLAG_W,DATE,TIME,LATITUDE,LONGITUDE,DEPTH,CTDPRS,CTDTMP,CTDSAL,CTDSAL_FLAG_W,SALNTY,SALNTY_FLAG_W,CTDOXY,CTDOXY_FLAG_W,OXYGEN,OXYGEN_FLAG_W,SILCAT,SILCAT_FLAG_W,NITRAT,NITRAT_FLAG_W,NITRIT,NITRIT_FLAG_W,PHSPHT,PHSPHT_FLAG_W,NH4,NH4_FLAG_W,TCARBN,TCARBN_FLAG_W,ALKALI,ALKALI_FLAG_W,PH_TOT,PH_TOT_FLAG_W,PH_TMP,CO32,CO32_FLAG_W
,,,,,,,,,,METERS,DBAR,ITS-90,PSS-78,,PSS-78,,UMOL/KG,,UMOL/KG,,UMOL/KG,,UMOL/KG,,UMOL/KG,,UMOL/KG,,UMOL/KG,,UMOL/KG,,UMOL/KG,,,,DEG C,UMOL/KG,
  32PO20130821,WCOA13,   111,  1,      1,2,   90824,0124, 40.1000,-124.7100,  937,    909.0,   4.0220,  34.3760,2,  34.3814,6,     13.0,2,     13.3,2,   111.11,2,    41.74,2,     0.02,2,     3.13,2,     0.04,2,   2362.8,2,   2361.0,2,   7.3000,2,    25.00,   49.152,3
  32PO20130821,WCOA13,   111,  1,      2,2,   90824,0130, 40.1000,-124.7100,  937,    706.1,   4.3613,  34.2630,2,  34.2680,2,     12.1,2,     14.2,2,   105.71,2,    42.63,2,     0.02,2,     3.12,2,     0.14,2,   2349.6,2,   2341.8,2,   7.2820,2,    25.00,   46.413,2
  32PO20130821,WCOA13,   111,  1,      3,2,   90824,0135, 40.1000,-124.7100,  937,    503.9,   5.2059,  34.1630,2,-999.0000,9,     22.4,2,     23.3,2,    84.21,2,    40.70,2,     0.02,2,     3.05,2,     0.25,2,   2320.7,2,   2315.7,2,   7.2920,2,    25.00,   45.478,2
  32PO20130821,WCOA13,   111,  1,      4,2,   90824,0141, 40.1000,-124.7100,  937,    302.1,   6.1861,  33.9910,2,-999.0000,9,     71.6,2,     70.6,2,    59.75,2,    35.78,2,     0.03,2,     2.60,2,        0,2,   2264.6,2,   2282.4,2,   7.3690,2,    25.00,    53.09,2
  32PO20130821,WCOA13,   111,  1,      5,2,   90824,0146, 40.1000,-124.7100,  937,    201.4,   7.2236,  33.9210,2,-999.0000,9,    113.0,2,    113.7,2,    42.68,2,    30.49,2,     0.05,2,     2.23,2,      0.1,2,   2219.7,2,   2262.2,2,   7.4510,3,    25.00,   62.382,2
  32PO20130821,WCOA13,   111,  1,      6,2,   90824,0149, 40.1000,-124.7100,  937,    150.4,   7.8020,  33.9030,2,  33.9073,2,    116.6,2,    114.0,2,    38.59,2,    29.87,2,     0.04,2,     2.20,2,     0.13,2,   2214.0,2,   2258.2,2,   7.4530,2,    25.00,   69.795,2
  32PO20130821,WCOA13,   111,  1,      7,2,   90824,0151, 40.1000,-124.7100,  937,    101.2,   8.5304,  33.6180,2,-999.0000,9,    164.5,2,    162.8,2,    28.59,2,    24.47,2,     0.12,2,     1.90,2,     0.09,2,   2169.3,2,   2238.7,2,   7.5400,2,    25.00,   72.641,2
  32PO20130821,WCOA13,   111,  1,      8,2,   90824,0153, 40.1000,-124.7100,  937,     75.7,   9.7062,  33.3890,2,-999.0000,9,    218.6,2,    218.7,2,    19.40,2,    17.05,2,     0.24,2,     1.53,2,     0.73,2,   2121.5,2,   2231.0,2,   7.6630,2,    25.00,   98.375,2
  32PO20130821,WCOA13,   111,  1,      9,2,   90824,0155, 40.1000,-124.7100,  937,     50.1,  10.5208,  33.2040,2,-999.0000,9,    266.7,2,    256.4,2,    14.00,2,    12.77,2,     0.24,2,     1.23,2,     0.34,2,   2079.2,2,   2223.5,2,   7.7520,2,    25.00,  108.671,2
  32PO20130821,WCOA13,   111,  1,     10,2,   90824,0158, 40.1000,-124.7100,  937,     25.2,  11.4482,  32.9460,2,  32.9523,2,    278.3,2,    277.2,2,    10.07,2,     8.88,2,     0.20,2,     1.01,2,     0.12,2,   2042.7,2,   2209.2,2,   7.8150,2,    25.00,  124.709,2
  32PO20130821,WCOA13,   111,  1,     11,2,   90824,0200, 40.1000,-124.7100,  937,     10.2,  11.5865,  32.9410,2,-999.0000,9,    276.7,2,    276.8,2,    10.08,2,     8.93,2,     0.19,2,     1.00,2,     0.15,2,   2042.2,2,   2207.9,2,   7.8140,2,    25.00,  121.922,2
  32PO20130821,WCOA13,   111,  1,     12,2,   90824,0202, 40.1000,-124.7100,  937,      2.7,  11.9012,  32.9440,2,  32.9495,2,    276.1,2,    276.4,2,    10.26,2,     9.02,2,     0.21,2,     1.00,2,     0.14,2,   2042.3,2,   2208.6,2,   7.8130,2,    25.00,   118.32,2
  32PO20130821,WCOA13,   133,  1,      1,2,   90824,2123, 37.6700,-123.4800, 2879,   2530.1,   1.7382,  34.6270,2,  34.6475,6,    101.9,2,   -999.0,5,   162.34,2,    37.72,2,     0.03,2,     2.77,2,     0.05,2,   2367.0,6,   2430.4,6,   7.4930,2,    25.00,   73.346,2
  32PO20130821,WCOA13,   133,  1,      2,2,   90824,2132, 37.6700,-123.4800, 2879,   2275.7,   1.8352,  34.6120,2,-999.0000,9,     89.9,2,     90.3,2,   164.97,2,    39.66,2,     0.02,2,     2.87,2,     0.04,2,   2372.1,2,   2427.6,2,   7.4670,2,    25.00,   69.812,2
  32PO20130821,WCOA13,   133,  1,      3,2,   90824,2140, 37.6700,-123.4800, 2879,   2025.5,   1.9773,  34.5930,2,-999.0000,9,     77.3,2,     77.9,2,   161.53,2,    40.34,2,     0.03,2,     2.93,2,        0,2,   2376.3,2,   2424.3,2,   7.4420,2,    25.00,   65.502,2
  32PO20130821,WCOA13,   133,  1,      4,2,   90824,2149, 37.6700,-123.4800, 2879,   1771.6,   2.2807,  34.5580,2,-999.0000,9,     57.9,2,     57.8,2,   151.53,2,    41.55,2,     0.03,2,     3.02,2,     0.12,2,   2382.5,2,   2413.7,2,   7.4000,2,    25.00,    60.17,2
  32PO20130821,WCOA13,   133,  1,      5,2,   90824,2157, 37.6700,-123.4800, 2879,   1516.8,   2.7383,  34.5260,2,  34.5471,2,     44.1,2,     44.3,2,   148.90,2,    42.24,2,     0.03,2,     3.07,2,     0.22,2,   2380.0,2,   2401.4,2,   7.3740,2,    25.00,   57.739,2
  32PO20130821,WCOA13,   133,  1,      6,2,   90824,2205, 37.6700,-123.4800, 2879,   1263.1,   3.3358,  34.4800,2,-999.0000,9,     29.5,2,     29.3,2,   127.42,2,    42.75,2,     0.04,2,     3.16,2,      0.1,2,   2374.2,2,   2388.0,2,   7.3440,2,    25.00,    52.95,3
  32PO20130821,WCOA13,   133,  1,      7,2,   90824,2212, 37.6700,-123.4800, 2879,   1009.5,   4.0443,  34.4150,2,-999.0000,9,     16.1,2,     16.0,2,   111.67,2,    42.82,2,     0.05,2,     3.22,2,     0.18,2,   2366.7,2,   2367.2,2,   7.3150,2,    25.00,   49.073,2
  32PO20130821,WCOA13,   133,  1,      8,2,   90824,2217, 37.6700,-123.4800, 2879,    908.6,   4.3259,  34.3850,2,-999.0000,9,     12.9,2,     13.0,2,   107.73,2,    42.79,2,     0.04,2,     3.21,2,     0.06,2,   2360.4,2,   2359.8,2,   7.3090,2,    25.00,   48.842,2
  32PO20130821,WCOA13,   133,  1,      9,2,   90824,2223, 37.6700,-123.4800, 2879,    807.7,   4.5402,  34.3560,2,-999.0000,9,     12.0,2,     12.2,2,   103.47,2,    42.27,2,     0.04,2,     3.18,2,     0.01,2,   2353.4,2,   2353.3,2,   7.3050,3,    25.00,    48.72,2
  32PO20130821,WCOA13,   133,  1,     10,2,   90824,2229, 37.6700,-123.4800, 2879,    706.6,   5.0790,  34.3220,2,-999.0000,9,     11.5,2,     11.6,2,    94.77,2,    41.27,2,     0.06,2,     3.15,2,     0.07,2,   2343.2,2,   2339.2,2,   7.3030,2,    25.00,   48.116,2
  32PO20130821,WCOA13,   133,  1,     11,2,   90824,2233, 37.6700,-123.4800, 2879,    603.9,   5.2944,  34.2490,2,  34.2671,2,     14.1,2,     13.5,2,    87.30,2,    41.07,2,     0.01,2,     3.14,2,        0,2,   2330.6,2,   2327.5,2,   7.2970,2,    25.00,   45.343,2
  32PO20130821,WCOA13,   133,  1,     12,2,   90824,2237, 37.6700,-123.4800, 2879,    503.6,   5.9872,  34.2420,2,-999.0000,9,     16.4,2,     15.4,2,    78.15,2,    39.23,2,     0.01,2,     3.06,2,        0,2,   2318.2,6,   2317.2,6,   7.3040,2,    25.00,   47.593,2
  32PO20130821,WCOA13,   133,  2,      1,2,   90824,2346, 37.6700,-123.4800, 2879,    504.3,   5.8870,  34.2360,2,  34.2565,2,     15.9,2,     17.9,2,    79.13,2,    39.57,2,     0.01,2,     3.05,2,     0.01,2,   2317.1,2,   2316.8,2,   7.3050,2,    25.00,    47.51,2
  32PO20130821,WCOA13,   133,  2,      2,2,   90824,2349, 37.6700,-123.4800, 2879,    402.7,   6.2274,  34.1360,2,-999.0000,9,     31.5,2,     32.8,2,    69.01,2,    38.35,2,     0.01,2,     2.87,2,     0.02,2,   2296.7,2,   2300.5,2,   7.3190,2,    25.00,   48.427,2
  32PO20130821,WCOA13,   133,  2,      3,2,   90824,2353, 37.6700,-123.4800, 2879,    302.6,   6.8897,  34.0810,2,-999.0000,9,     49.4,2,     50.8,2,    56.61,2,    35.98,2,     0.02,2,     2.68,2,     0.02,2,   2272.4,2,   2284.5,2,   7.3510,2,    25.00,   51.071,2
  32PO20130821,WCOA13,   133,  2,      4,2,   90824,2358, 37.6700,-123.4800, 2879,    201.5,   7.7473,  34.0440,2,  34.0641,2,     67.0,2,     69.3,2,    45.01,2,    32.91,2,     0.01,2,     2.44,2,     0.01,2,   2243.2,2,   2272.4,2,   7.3930,3,    25.00,   55.472,2
  32PO20130821,WCOA13,   133,  2,      5,2,   90824,0001, 37.6700,-123.4800, 2879,    150.8,   7.8549,  33.9400,2,-999.0000,9,    144.8,2,    145.0,2,    34.56,2,    26.42,2,     0.04,2,     1.91,2,     0.03,2,   2185.3,2,   2260.9,2,   7.5450,2,    25.00,   74.677,2
  32PO20130821,WCOA13,   133,  2,      6,2,   90824,0003, 37.6700,-123.4800, 2879,    100.6,   8.4291,  33.7950,2,-999.0000,9,    149.5,2,    148.9,2,    28.36,2,    25.10,2,     0.04,2,     1.85,2,     0.05,2,   2173.4,2,   2245.6,2,   7.5410,2,    25.00,   73.817,2
  32PO20130821,WCOA13,   133,  2,      7,2,   90824,0005, 37.6700,-123.4800, 2879,     79.6,   9.2303,  33.7130,2,-999.0000,9,    142.2,2,    143.4,2,    25.75,2,    24.95,2,     0.06,2,     1.90,2,     0.02,2,   2176.0,2,   2238.8,2,   7.5220,2,    25.00,   70.111,2
  32PO20130821,WCOA13,   133,  2,      8,2,   90824,0008, 37.6700,-123.4800, 2879,     50.5,  10.4315,  33.6490,2,-999.0000,9,    183.4,2,    182.6,2,    18.56,2,    21.21,2,     0.39,2,     1.70,2,     0.04,2,   2151.6,2,   2239.7,2,   7.5920,2,    25.00,   79.304,2
  32PO20130821,WCOA13,   133,  2,      9,2,   90824,0010, 37.6700,-123.4800, 2879,     30.4,  12.7236,  33.6100,2,-999.0000,9,    245.4,2,    243.2,2,     5.00,2,     8.39,2,     0.25,2,     0.95,2,     1.08,2,   2076.2,2,   2251.7,2,   7.8290,2,    25.00,  127.226,2
  32PO20130821,WCOA13,   133,  2,     10,2,   90824,0011, 37.6700,-123.4800, 2879,     20.3,  15.3805,  33.5830,2,-999.0000,9,    261.3,2,    261.9,2,     2.55,2,     4.83,2,     0.14,2,     0.64,2,     0.16,2,   2035.8,2,   2250.0,2,   7.8980,3,    25.00,  145.753,2
  32PO20130821,WCOA13,   133,  2,     11,2,   90824,0013, 37.6700,-123.4800, 2879,     10.1,  15.8549,  33.5540,2,-999.0000,9,    260.3,2,    261.5,2,     2.54,2,     4.71,2,     0.13,2,     0.63,2,     0.09,2,   2032.4,2,   2247.6,2,   7.9070,2,    25.00,   147.73,2
  32PO20130821,WCOA13,   133,  2,     12,2,   90824,0015, 37.6700,-123.4800, 2879,      3.2,  16.2358,  33.5210,2,  33.5380,6,    257.9,2,    259.8,2,     2.70,2,     4.95,2,     0.12,2,     0.65,2,     0.13,2,   2034.1,2,   2245.4,2,   7.9020,2,    25.00,  147.688,2
  32PO20130821,WCOA13,   120,  1,      1,2,   90825,1442, 37.9400,-122.8800,   47,     40.3,   9.9920,  33.8450,2,-999.0000,9,     75.8,2,   -999.0,9,    47.43,2,    25.43,2,     0.56,2,     2.49,2,     1.88,2,   -999.0,9,   -999.0,9,   7.3680,2,    25.00,   53.391,2
  32PO20130821,WCOA13,   120,  1,      2,2,   90825,1442, 37.9400,-122.8800,   47,     40.3,   9.9922,  33.8450,2,  33.8415,2,     75.8,2,   -999.0,5,    49.55,2,    26.46,2,     0.59,2,     2.63,2,     1.86,2,   2236.9,2,   2252.7,2,   7.3670,2,    25.00,    52.95,2
  32PO20130821,WCOA13,   120,  1,      3,2,   90825,1443, 37.9400,-122.8800,   47,     30.1,  10.4448,  33.8220,2,  33.8277,2,     88.8,2,   -999.0,5,    43.68,2,    23.70,2,     0.47,2,     2.72,2,     4.36,2,   2232.2,2,   2260.6,2,   7.3970,2,    25.00,   56.163,2
  32PO20130821,WCOA13,   120,  1,      4,2,   90825,1446, 37.9400,-122.8800,   47,     20.1,  10.8626,  33.7630,2,-999.0000,9,    146.9,2,    139.7,2,    24.74,2,    19.29,2,     0.38,2,     2.24,2,     3.89,2,   2185.7,2,   2259.4,2,   7.5420,2,    25.00,   74.411,2
  32PO20130821,WCOA13,   120,  1,      5,2,   90825,1448, 37.9400,-122.8800,   47,     14.9,  11.3289,  33.7470,2,  33.7467,2,    157.7,2,    158.6,2,    18.04,2,    16.28,2,     0.34,2,     1.98,2,     3.75,2,   2164.0,2,   2257.5,2,   7.6050,2,    25.00,   83.991,2
  32PO20130821,WCOA13,   120,  1,      6,2,   90825,1450, 37.9400,-122.8800,   47,      9.9,  12.0479,  33.7000,2,-999.0000,9,    201.2,2,    184.9,2,    12.82,2,    12.12,2,     0.26,2,     1.63,2,     2.83,2,   2136.5,2,   2262.9,2,   7.6890,2,    25.00,     -999,5
  32PO20130821,WCOA13,   120,  1,      7,2,   90825,1452, 37.9400,-122.8800,   47,      3.0,  14.7883,  33.5550,2,  33.5740,6,    270.0,2,    298.8,2,     2.21,2,     1.32,2,     0.06,2,     0.60,2,     0.38,2,   2010.2,2,   2269.6,2,   7.9920,2,    25.00,  173.497,2
  32PO20130821,WCOA13,   120,  1,      8,2,   90825,1452, 37.9400,-122.8800,   47,      3.0,  14.7821,  33.5570,2,-999.0000,9,    270.0,2,   -999.0,9,     1.88,2,     1.09,2,     0.05,2,     0.57,2,     0.31,2,   -999.0,9,   -999.0,9,-999.0000,9,  -999.00,     -999,9
  32PO20130821,WCOA13,   119,  1,      1,2,   90825,1547, 37.9100,-122.9500,   68,     60.5,   9.7881,  33.8670,2,-999.0000,9,     82.9,2,   -999.0,9,    40.89,2,    27.68,2,     0.37,2,     2.45,2,     0.72,2,   -999.0,9,   -999.0,9,-999.0000,9,  -999.00,     -999,9
  32PO20130821,WCOA13,   119,  1,      2,2,   90825,1547, 37.9100,-122.9500,   68,     60.5,   9.7893,  33.8670,2,  33.8651,2,     82.9,2,     92.1,2,    40.89,2,    27.65,2,     0.37,2,     2.45,2,     0.69,2,   2223.7,2,   2251.0,2,   7.4060,2,    25.00,   56.106,2
  32PO20130821,WCOA13,   119,  1,      3,2,   90825,1551, 37.9100,-122.9500,   68,     39.9,  10.0113,  33.7870,2,  33.7875,2,    130.9,2,    125.7,2,    25.21,2,    24.80,2,     0.21,2,     2.22,2,     1.45,2,   2196.7,2,   2247.2,3,   7.4750,2,    25.00,   64.424,2
  32PO20130821,WCOA13,   119,  1,      4,2,   90825,1553, 37.9100,-122.9500,   68,     30.0,  10.3256,  33.7900,2,  33.7939,2,    121.5,2,    125.5,2,    25.69,2,    21.43,2,     0.28,2,     2.25,2,     2.85,2,   2196.1,2,   2254.0,2,   7.4950,4,    25.00,   67.769,2
  32PO20130821,WCOA13,   119,  1,      5,2,   90825,1555, 37.9100,-122.9500,   68,     20.0,  11.5545,  33.7660,2,-999.0000,9,    176.2,2,    172.3,2,    19.48,2,    14.15,2,     0.23,2,     1.83,2,     2.38,2,   2150.5,2,   2262.2,2,   7.6480,2,    25.00,   91.078,2
  32PO20130821,WCOA13,   119,  1,      6,2,   90825,1557, 37.9100,-122.9500,   68,     15.0,  12.5788,  33.7170,2,-999.0000,9,    249.5,2,    218.7,2,     9.03,2,     6.95,2,     0.12,2,     1.32,2,     1.59,2,   2100.1,2,   2266.3,2,   7.7880,2,    25.00,     -999,9
  32PO20130821,WCOA13,   119,  1,      7,2,   90825,1559, 37.9100,-122.9500,   68,     10.2,  14.0475,  33.6290,2,-999.0000,9,    309.4,2,    294.9,2,     1.67,2,     0.97,2,     0.02,2,     0.45,2,     0.24,2,   2001.7,2,   2269.0,2,   8.0080,2,    25.00,  191.379,2
  32PO20130821,WCOA13,   119,  1,      8,2,   90825,1600, 37.9100,-122.9500,   68,      3.1,  14.4848,  33.6530,2,  33.6555,6,    317.2,2,    316.8,2,     1.01,2,     0.12,2,     0.04,2,     0.31,2,     0.04,2,   1980.9,2,   2268.0,2,   8.0500,3,    25.00,  181.743,2
  32PO20130821,WCOA13,   119,  1,      9,2,   90825,1600, 37.9100,-122.9500,   68,      3.1,  14.4842,  33.6530,2,-999.0000,9,    317.2,2,   -999.0,9,     0.69,2,     0.12,2,     0.02,2,     0.32,2,     0.09,2,   -999.0,9,   -999.0,9,-999.0000,9,  -999.00,     -999,9
  32PO20130821,WCOA13,   118,  1,      1,2,   90825,1755, 37.8700,-123.0600,   89,     80.8,   9.6001,  33.8850,2,-999.0000,9,     92.1,2,   -999.0,9,  -999.00,9,  -999.00,9,  -999.00,9,  -999.00,9,     -999,9,   -999.0,9,   -999.0,9,-999.0000,9,  -999.00,     -999,9
  32PO20130821,WCOA13,   118,  1,      2,2,   90825,1755, 37.8700,-123.0600,   89,     80.8,   9.6001,  33.8850,2,  33.8867,2,     92.1,2,     94.1,2,    38.60,2,    28.09,2,     0.22,2,     2.34,2,     0.04,2,   2217.6,2,   2250.7,2,   7.4250,2,    25.00,   58.501,2
  32PO20130821,WCOA13,   118,  1,      3,2,   90825,1759, 37.8700,-123.0600,   89,     60.7,   9.8823,  33.8230,2,  33.8300,2,    118.4,2,    117.8,2,    30.93,2,    26.10,2,     0.25,2,     2.10,2,     0.23,2,   2197.2,2,   2246.3,2,   7.4780,2,    25.00,    64.53,2
  32PO20130821,WCOA13,   118,  1,      4,2,   90825,1801, 37.8700,-123.0600,   89,     40.6,  10.7094,  33.6520,2,-999.0000,9,    168.7,2,   -999.0,9,  -999.00,9,  -999.00,9,  -999.00,9,  -999.00,9,     -999,9,   -999.0,9,   -999.0,9,-999.0000,9,  -999.00,     -999,9
  32PO20130821,WCOA13,   118,  1,      5,2,   90825,1801, 37.8700,-123.0600,   89,     40.7,  10.7041,  33.6530,2,-999.0000,9,    168.6,2,    171.3,2,    16.47,2,    18.02,2,     0.36,2,     1.63,2,     1.11,2,   2153.3,2,   2240.6,2,   7.5910,2,    25.00,   80.067,2
  32PO20130821,WCOA13,   118,  1,      6,2,   90825,1803, 37.8700,-123.0600,   89,     30.4,  12.4129,  33.5490,2,-999.0000,9,    268.5,2,    258.9,2,     3.65,2,     5.98,2,     0.11,2,     0.79,2,     0.86,2,   2052.2,2,   2253.5,2,   7.8740,2,    25.00,  144.763,2
  32PO20130821,WCOA13,   118,  1,      7,2,   90825,1806, 37.8700,-123.0600,   89,     20.2,  13.3301,  33.5270,2,  33.5312,2,    307.6,2,    304.8,2,     0.84,2,     2.03,2,     0.02,2,     0.53,2,     0.36,2,   2004.9,2,   2257.0,2,   7.9790,2,    25.00,  166.343,2
  32PO20130821,WCOA13,   118,  1,      8,2,   90825,1807, 37.8700,-123.0600,   89,     15.1,  14.1543,  33.6270,2,-999.0000,9,    317.5,2,    315.7,2,     0.66,2,     1.03,2,     0.01,2,     0.41,2,     0.16,2,   1993.4,2,   2263.3,2,   8.0110,2,    25.00,  174.181,3
  32PO20130821,WCOA13,   118,  1,      9,2,   90825,1809, 37.8700,-123.0600,   89,     10.1,  14.3988,  33.6130,2,-999.0000,9,    320.6,2,   -999.0,9,  -999.00,9,  -999.00,9,  -999.00,9,  -999.00,9,     -999,9,   -999.0,9,   -999.0,9,-999.0000,9,  -999.00,     -999,9
  32PO20130821,WCOA13,   118,  1,     10,2,   90825,1809, 37.8700,-123.0600,   89,     10.1,  14.3879,  33.6130,2,-999.0000,9,    320.5,2,    323.2,2,     0.47,2,     0.61,2,     0.00,2,     0.40,2,     0.15,2,   1979.2,2,   2264.7,2,   8.0420,2,    25.00,   181.01,2
  32PO20130821,WCOA13,   118,  1,     11,2,   90825,1811, 37.8700,-123.0600,   89,      3.1,  14.8557,  33.6030,2,  33.5962,6,    318.6,2,    321.5,2,     0.62,2,     0.48,2,     0.00,2,     0.31,2,     0.11,2,   1971.7,2,   2261.8,2,   8.0480,2,    25.00,  190.655,2
  32PO20130821,WCOA13,   118,  1,     12,2,   90825,1811, 37.8700,-123.0600,   89,      3.1,  14.8442,  33.6040,2,-999.0000,9,    318.7,2,   -999.0,9,     0.76,2,     0.50,2,     0.02,2,     0.33,2,     0.11,2,   -999.0,9,   -999.0,9,-999.0000,9,  -999.00,     -999,9