BOTTLE,201906109PRINUNIVRMK
EXPOCODE,SECT_ID,STNNBR,CASTNO,BTLNBR,BTLNBR_FLAG_W,DATE,TIME,LATITUDE,LONGITUDE,DEPTH,CTDPRS,CTDTMP,CTDSAL,CTDSAL_FLAG_W,SALNTY,SALNTY_FLAG_W,CTDOXY,CTDOXY_FLAG_W,OXYGEN,OXYGEN_FLAG_W,SILCAT,SILCAT_FLAG_W,NITRAT,NITRAT_FLAG_W,NITRIT,NITRIT_FLAG_W,PHSPHT,PHSPHT_FLAG_W,NH4,NH4_FLAG_W,TCARBN,TCARBN_FLAG_W,ALKALI,ALKALI_FLAG_W,PH_TOT,PH_TOT_FLAG_W,PH_TMP,CO32,CO32_FLAG_W
,,,,,,,,,,METERS,DBAR,ITS-90,PSS-78,,PSS-78,,UMOL/KG,,UMOL/KG,,UMOL/KG,,UMOL/KG,,UMOL/KG,,UMOL/KG,,UMOL/KG,,UMOL/KG,,UMOL/KG,,,,DEG C,UMOL/KG,
  32PO20130821,WCOA13,   103,  1,      1,2,   90821,1826, 44.2000,-124.4200,   93,     86.1,   7.4942,  33.8920,2,  33.8869,2,     68.6,2,   -999.0,9,    58.34,2,    33.28,2,     0.54,2,     2.68,2,      0.7,2,   -999.0,9,   -999.0,9,   7.3010,2,    25.00,   46.986,3
  32PO20130821,WCOA13,   103,  1,      2,2,   90821,1826, 44.2000,-124.4200,   93,     86.1,   7.4944,  33.8920,2,-999.0000,9,     68.6,2,     70.4,2,    58.34,2,    33.33,2,     0.54,2,     2.69,2,     0.69,2,   2267.4,2,   2266.0,2,   7.3000,2,    25.00,   46.051,2
  32PO20130821,WCOA13,   103,  1,      3,2,   90821,1828, 44.2000,-124.4200,   93,     60.6,   7.8617,  33.8830,2,  33.8787,2,    116.6,2,    115.0,2,    42.89,2,    31.90,2,     0.08,2,     2.38,2,     0.02,2,   2229.9,2,   2261.6,3,   7.4060,3,    25.00,   57.008,2
  32PO20130821,WCOA13,   103,  1,      4,2,   90821,1830, 44.2000,-124.4200,   93,     40.2,   8.1794,  33.7870,2,  33.7858,2,    145.7,2,    136.9,2,    36.88,2,    26.55,2,     0.90,2,     2.44,2,     3.89,2,   2232.4,2,   2264.2,2,   7.4110,2,    25.00,   57.641,2
  32PO20130821,WCOA13,   103,  1,      5,2,   90821,1832, 44.2000,-124.4200,   93,     30.2,   8.0945,  33.6650,2,-999.0000,9,    129.1,2,    134.6,2,    31.84,2,    25.94,2,     0.61,2,     2.37,2,     4.42,2,   2222.1,2,   2258.8,2,   7.4160,2,    25.00,   58.266,2
  32PO20130821,WCOA13,   103,  1,      6,2,   90821,1833, 44.2000,-124.4200,   93,     19.9,   8.9569,  33.4180,2,  33.4214,2,    213.0,2,    215.3,2,     7.12,2,    13.29,2,     0.36,2,     1.48,2,      3.7,2,   2142.1,2,   2253.1,2,   7.6560,2,    25.00,    91.81,2
  32PO20130821,WCOA13,   103,  1,      7,2,   90821,1835, 44.2000,-124.4200,   93,     10.0,  11.4082,  33.1510,2,-999.0000,9,    292.8,2,    284.4,2,     4.03,2,     6.53,2,     0.19,2,     0.81,2,     0.89,2,   2033.8,2,   2242.8,2,   7.8950,2,    25.00,  140.788,2
  32PO20130821,WCOA13,   103,  1,      8,2,   90821,1836, 44.2000,-124.4200,   93,      3.2,  11.9992,  33.0000,2,  32.9986,2,    296.3,2,    297.8,2,     3.06,2,     5.31,2,     0.16,2,     0.68,2,     0.27,2,   2004.2,2,   2230.9,2,   7.9390,3,    25.00,  150.486,2
  32PO20130821,WCOA13,   103,  1,      9,2,   90821,1837, 44.2000,-124.4200,   93,      3.0,  12.0005,  33.0000,2,  32.9967,2,    296.3,2,   -999.0,9,     3.07,2,     5.29,2,     0.16,2,     0.68,2,     0.25,2,   -999.0,9,   -999.0,9,-999.0000,9,  -999.00,     -999,9
  32PO20130821,WCOA13,   104,  1,      1,2,   90821,2047, 44.2000,-124.5800,  104,     99.6,   7.1429,  33.8940,2,  33.8907,2,     34.9,2,     36.4,2,    73.36,2,    33.69,2,     0.33,2,     3.02,2,     0.46,2,   2291.2,2,   2268.0,2,   7.2370,2,    25.00,   40.359,2
  32PO20130821,WCOA13,   104,  1,      2,2,   90821,2049, 44.2000,-124.5800,  104,     90.6,   7.1535,  33.8920,2,  33.8887,2,     37.1,2,     39.8,2,    73.36,2,    33.80,2,     0.33,2,     2.99,2,     0.45,2,   2288.8,2,   2271.9,2,   7.2410,2,    25.00,   41.858,2
  32PO20130821,WCOA13,   104,  1,      3,2,   90821,2051, 44.2000,-124.5800,  104,     81.1,   7.1949,  33.8780,2,-999.0000,9,     41.9,2,     41.0,2,    67.18,2,    34.40,2,     0.27,2,     2.90,2,     0.25,2,   2284.3,2,   2266.9,2,   7.2480,2,    25.00,    43.29,2
  32PO20130821,WCOA13,   104,  1,      4,2,   90821,2055, 44.2000,-124.5800,  104,     60.6,   7.4828,  33.8090,2,-999.0000,9,     73.3,2,     70.0,2,    49.29,2,    33.39,2,     0.56,2,     2.62,2,     0.97,2,   2258.5,2,   2255.6,4,   7.3020,2,    25.00,   45.933,2
  32PO20130821,WCOA13,   104,  1,      5,2,   90821,2057, 44.2000,-124.5800,  104,     40.2,   8.1247,  33.6700,2,-999.0000,9,    126.8,2,    127.1,2,    26.36,2,    24.17,2,     0.49,2,     2.28,2,     4.99,2,   2229.6,2,   2259.4,2,   7.4090,3,    25.00,   57.415,2
  32PO20130821,WCOA13,   104,  1,      6,2,   90821,2058, 44.2000,-124.5800,  104,     30.4,   8.8298,  33.5080,2,  33.4356,3,    231.7,2,    233.3,2,     5.21,2,    11.27,2,     0.27,2,     1.34,2,     4.03,2,   2122.8,2,   2257.0,2,   7.7240,2,    25.00,  104.688,2
  32PO20130821,WCOA13,   104,  1,      7,2,   90821,2100, 44.2000,-124.5800,  104,     21.2,  10.3030,  33.4160,2,  33.4046,2,    276.6,2,    271.7,2,     2.77,2,     6.78,2,     0.19,2,     0.91,2,     2.75,2,   2066.1,2,   2258.8,2,   7.8630,3,    25.00,  133.841,2
  32PO20130821,WCOA13,   104,  1,      8,2,   90821,2102, 44.2000,-124.5800,  104,     10.3,  12.2862,  33.3450,2,-999.0000,9,    304.2,2,    307.6,2,     1.30,2,     2.46,2,     0.10,2,     0.44,2,     0.59,2,   1990.3,2,   2258.3,2,   8.0090,2,    25.00,  172.579,2
  32PO20130821,WCOA13,   104,  1,      9,2,   90821,2104, 44.2000,-124.5800,  104,      2.9,  12.5072,  33.3340,2,  33.3337,2,    315.5,2,    316.2,2,     1.45,2,     1.81,2,     0.10,2,     0.41,2,     0.18,2,   1978.6,2,   2253.8,2,   8.0340,2,    25.00,  167.351,2
  32PO20130821,WCOA13,   104,  1,     10,2,   90821,2104, 44.2000,-124.5800,  104,      2.9,  12.5158,  33.3340,2,  33.3332,2,    315.7,2,    317.0,2,     1.45,2,     1.85,2,     0.10,2,     0.43,2,     0.24,2,   -999.0,9,   -999.0,9,   8.0320,3,    25.00,  178.353,2
  32PO20130821,WCOA13,   105,  1,      1,2,   90822,0111, 44.2000,-124.9800,  313,    303.0,   5.9632,  33.9900,2,  33.9878,2,     66.6,2,     19.0,2,    56.78,2,    33.02,2,     0.05,2,     2.53,2,     0.02,2,   2271.9,2,   2286.9,2,   7.3530,2,    25.00,   51.712,2
  32PO20130821,WCOA13,   105,  1,      2,2,   90822,0115, 44.2000,-124.9800,  313,    202.6,   7.0699,  33.9660,2,  33.9636,2,     91.0,2,     93.0,2,    47.84,2,    32.83,2,     0.02,2,     2.40,2,     0.01,2,   2239.3,2,   2270.1,2,   7.4080,2,    25.00,   57.299,2
  32PO20130821,WCOA13,   105,  1,      3,2,   90822,0118, 44.2000,-124.9800,  313,    150.8,   7.3088,  33.8930,2,-999.0000,9,    117.0,2,    116.9,2,    42.81,2,    30.70,2,     0.01,2,     2.25,2,     0.07,2,   2218.8,2,   2262.6,2,   7.4490,3,    25.00,    61.84,2
  32PO20130821,WCOA13,   105,  1,      4,2,   90822,0121, 44.2000,-124.9800,  313,    100.6,   8.1895,  33.7720,2,-999.0000,9,    153.1,2,    153.5,2,    35.99,2,    28.25,2,     0.01,2,     2.10,2,        0,2,   2195.4,2,   2252.0,2,   7.4920,2,    25.00,   67.373,2
  32PO20130821,WCOA13,   105,  1,      5,2,   90822,0123, 44.2000,-124.9800,  313,     81.0,   8.7193,  33.7120,2,  33.6952,2,    185.2,2,    186.7,2,    33.07,2,    25.92,2,     0.15,2,     1.97,2,     0.09,2,   2177.8,2,   2248.2,2,   7.5340,2,    25.00,   72.595,2
  32PO20130821,WCOA13,   105,  1,      6,2,   90822,0125, 44.2000,-124.9800,  313,     60.1,   8.6815,  33.1500,2,  33.1522,2,    212.3,2,    205.9,2,    21.71,2,    19.16,2,     0.21,2,     1.63,2,     0.23,2,   2121.9,2,   2217.8,2,   7.6200,2,    25.00,   84.167,2
  32PO20130821,WCOA13,   105,  1,      7,2,   90822,0126, 44.2000,-124.9800,  313,     50.4,   8.8602,  33.0720,2,-999.0000,9,    220.1,2,    215.6,2,    19.60,2,    17.49,2,     0.25,2,     1.54,2,     0.29,2,   2109.2,2,   2214.3,2,   7.6470,3,    25.00,   88.828,2
  32PO20130821,WCOA13,   105,  1,      8,2,   90822,0128, 44.2000,-124.9800,  313,     40.5,   9.3948,  32.9400,2,-999.0000,9,    248.4,2,    239.2,2,    14.41,2,    13.42,2,     0.32,2,     1.34,2,     0.74,2,   2083.2,2,   2210.0,2,   7.7090,2,    25.00,   95.154,2
  32PO20130821,WCOA13,   105,  1,      9,2,   90822,0130, 44.2000,-124.9800,  313,     29.9,   9.4109,  32.7530,2,-999.0000,9,    261.0,2,    255.6,2,    11.49,2,    10.34,2,     0.22,2,     1.16,2,      0.5,2,   2060.0,2,   2199.4,2,   7.7510,2,    25.00,  106.692,2
  32PO20130821,WCOA13,   105,  1,     10,2,   90822,0132, 44.2000,-124.9800,  313,     20.4,  11.0327,  32.3610,2,-999.0000,9,    309.9,2,    287.4,2,     8.43,2,     4.22,2,     0.09,2,     0.74,2,     0.24,2,   2013.1,2,   2189.3,2,   7.8470,2,    25.00,  124.162,2
  32PO20130821,WCOA13,   105,  1,     11,2,   90822,0134, 44.2000,-124.9800,  313,     10.3,  14.7465,  32.1870,2,-999.0000,9,    280.2,2,    279.7,2,     2.97,2,     0.00,2,     0.03,2,     0.33,2,      0.1,2,   1953.9,2,   2191.3,2,   7.9780,2,    25.00,  158.386,2
  32PO20130821,WCOA13,   105,  1,     12,2,   90822,0135, 44.2000,-124.9800,  313,      3.2,  14.9349,  32.1800,2,  32.1788,6,    280.0,2,    279.7,2,     3.16,2,     0.05,2,     0.04,2,     0.34,2,     0.12,2,   1953.8,2,   2191.1,2,   7.9820,3,    25.00,  156.653,2
  32PO20130821,WCOA13,   110,  1,      1,2,   90822,2003, 41.9900,-124.3300,   40,     36.1,   9.8048,  33.6960,2,  33.6955,2,    179.4,2,    180.2,2,    31.91,2,    22.52,2,     0.41,2,     2.00,2,     2.15,2,   2180.1,2,   2253.9,2,   7.5420,2,    25.00,    83.13,3
  32PO20130821,WCOA13,   110,  1,      2,2,   90822,2003, 41.9900,-124.3300,   40,     36.2,   9.8494,  33.6920,2,-999.0000,9,    180.1,2,   -999.0,9,    31.89,2,    22.59,2,     0.42,2,     2.01,2,     2.24,2,   -999.0,9,   -999.0,9,-999.0000,9,  -999.00,     -999,9
  32PO20130821,WCOA13,   110,  1,      3,2,   90822,2005, 41.9900,-124.3300,   40,     20.3,   9.8066,  33.6320,2,  33.6307,2,    193.6,2,    194.4,2,    28.39,2,    21.60,2,     0.41,2,     1.91,2,     1.46,2,   2160.4,2,   2249.0,2,   7.5810,2,    25.00,   79.651,2
  32PO20130821,WCOA13,   110,  1,      4,2,   90822,2005, 41.9900,-124.3300,   40,     20.3,   9.8054,  33.6320,2,-999.0000,9,    193.5,2,   -999.0,9,    28.38,2,    21.53,2,     0.41,2,     1.86,2,      1.4,2,   -999.0,9,   -999.0,9,-999.0000,9,  -999.00,     -999,9
  32PO20130821,WCOA13,   110,  1,      5,2,   90822,2008, 41.9900,-124.3300,   40,     15.2,   9.7839,  33.6200,2,  33.6214,2,    194.9,2,    197.0,2,    28.19,2,    21.99,2,     0.40,2,     1.91,2,      1.3,2,   2158.8,2,   2246.0,2,   7.5860,2,    25.00,   80.198,2
  32PO20130821,WCOA13,   110,  1,      6,2,   90822,2008, 41.9900,-124.3300,   40,     15.2,   9.7821,  33.6220,2,-999.0000,9,    194.5,2,   -999.0,9,    28.17,2,    22.25,2,     0.39,2,     1.85,2,     1.17,2,   -999.0,9,   -999.0,9,-999.0000,9,  -999.00,     -999,9
  32PO20130821,WCOA13,   110,  1,      7,2,   90822,2011, 41.9900,-124.3300,   40,     10.3,   9.9344,  33.5840,2,  33.5881,2,    202.1,2,    209.4,2,    26.17,2,    20.67,2,     0.38,2,     1.75,2,     1.18,2,   2146.8,2,   2239.2,2,   7.6230,2,    25.00,   86.147,2
  32PO20130821,WCOA13,   110,  1,      8,2,   90822,2011, 41.9900,-124.3300,   40,     10.3,   9.9291,  33.5890,2,-999.0000,9,    201.6,2,   -999.0,9,    25.82,2,    20.76,2,     0.38,2,     1.73,2,     1.12,2,   -999.0,9,   -999.0,9,-999.0000,9,  -999.00,     -999,9
  32PO20130821,WCOA13,   110,  1,      9,2,   90822,2013, 41.9900,-124.3300,   40,      2.8,  11.7746,  33.5410,2,  33.5254,2,    317.2,2,    346.6,2,     5.78,2,     4.09,2,     0.24,2,     0.66,2,     0.65,2,   2008.7,2,   2262.1,2,   7.9760,2,    25.00,  158.885,2
  32PO20130821,WCOA13,   110,  1,     10,2,   90822,2013, 41.9900,-124.3300,   40,      2.8,  11.7709,  33.5400,2,  33.5291,2,    317.2,2,   -999.0,9,     5.60,2,     4.08,2,     0.22,2,     0.73,2,     1.14,2,   -999.0,9,   -999.0,9,-999.0000,9,  -999.00,     -999,9
  32PO20130821,WCOA13,   109,  1,      1,2,   90822,2114, 41.9700,-124.4200,   82,     76.2,   9.0649,  33.7590,2,-999.0000,9,    121.1,2,   -999.0,9,  -999.00,9,  -999.00,9,  -999.00,9,  -999.00,9,     -999,9,   -999.0,9,   -999.0,9,-999.0000,9,  -999.00,     -999,9
  32PO20130821,WCOA13,   109,  1,      2,2,   90822,2114, 41.9700,-124.4200,   82,     76.2,   9.0660,  33.7590,2,  33.7576,2,    121.1,2,    123.8,2,    40.00,2,    28.18,2,     0.38,2,     2.29,2,     1.73,2,   2213.0,2,   2251.5,2,   7.4310,2,    25.00,     -999,5
  32PO20130821,WCOA13,   109,  1,      3,2,   90822,2116, 41.9700,-124.4200,   82,     60.1,   9.3815,  33.7110,2,-999.0000,9,    168.8,2,    154.1,2,    32.75,2,    25.35,2,     0.40,2,     2.06,2,     1.45,2,   2186.3,2,   2249.0,2,   7.5090,2,    25.00,   69.162,2
  32PO20130821,WCOA13,   109,  1,      4,2,   90822,2118, 41.9700,-124.4200,   82,     50.6,   9.6704,  33.6610,2,  33.7046,2,    179.4,2,    182.7,2,    25.33,2,    21.32,2,     0.41,2,     1.71,2,     1.26,2,   2162.7,2,   2247.5,2,   7.5780,2,    25.00,   79.489,2
  32PO20130821,WCOA13,   109,  1,      5,2,   90822,2120, 41.9700,-124.4200,   82,     40.4,  10.1383,  33.6300,2,-999.0000,9,    204.8,2,    205.0,2,    23.36,2,    20.03,2,     0.46,2,     1.70,2,      1.4,2,   2144.6,2,   2247.8,2,   7.6350,2,    25.00,   84.311,3
  32PO20130821,WCOA13,   109,  1,      6,2,   90822,2123, 41.9700,-124.4200,   82,     30.2,  10.1260,  33.5070,2,-999.0000,9,    219.1,2,   -999.0,9,  -999.00,9,  -999.00,9,  -999.00,9,  -999.00,9,     -999,9,   -999.0,9,   -999.0,9,-999.0000,9,  -999.00,     -999,9
  32PO20130821,WCOA13,   109,  1,      7,2,   90822,2123, 41.9700,-124.4200,   82,     30.2,  10.1233,  33.5040,2,  33.4878,2,    219.4,2,    221.7,2,    23.38,2,    19.68,2,     0.36,2,     1.61,2,     0.85,2,   2128.5,2,   2237.4,2,   7.6520,2,    25.00,   91.244,2
  32PO20130821,WCOA13,   109,  1,      8,2,   90822,2126, 41.9700,-124.4200,   82,     20.1,  10.2061,  33.4500,2,-999.0000,9,    227.7,2,    229.1,2,    22.57,2,    19.02,2,     0.35,2,     1.57,2,     0.65,2,   2122.8,2,   2234.4,2,   7.6650,2,    25.00,   93.821,2
  32PO20130821,WCOA13,   109,  1,      9,2,   90822,2128, 41.9700,-124.4200,   82,     14.9,  10.2672,  33.4460,2,  33.4415,2,    226.6,2,    230.2,2,    21.93,2,    18.50,2,     0.36,2,     1.54,2,     0.78,2,   2119.7,2,   2236.5,2,   7.6740,2,    25.00,   93.228,2
  32PO20130821,WCOA13,   109,  1,     10,2,   90822,2131, 41.9700,-124.4200,   82,     10.3,  10.4400,  33.4370,2,-999.0000,9,    233.7,2,    236.8,2,    20.62,2,    17.62,2,     0.37,2,     1.49,2,     0.82,2,   2115.7,2,   2235.5,2,   7.6950,2,    25.00,   98.991,2
  32PO20130821,WCOA13,   109,  1,     11,2,   90822,2133, 41.9700,-124.4200,   82,      3.3,  10.7565,  33.3350,2,  33.3468,6,    239.4,2,    248.4,2,    19.15,2,    16.52,2,     0.34,2,     1.39,2,     0.53,2,   2101.2,2,   2231.3,2,   7.7190,2,    25.00,  101.984,2
  32PO20130821,WCOA13,   109,  1,     12,2,   90822,2133, 41.9700,-124.4200,   82,      3.2,  10.7608,  33.3330,2,-999.0000,9,    239.4,2,   -999.0,9,  -999.00,9,  -999.00,9,  -999.00,9,  -999.00,9,     -999,9,   -999.0,9,   -999.0,9,-999.0000,9,  -999.00,     -999,9
  32PO20130821,WCOA13,   108,  1,      1,2,   90822,2243, 41.9600,-124.4900,  108,    100.7,   8.3410,  33.7490,2,  33.7494,2,    131.8,2,    134.0,2,    38.66,2,    28.59,2,     0.11,2,     2.15,2,      0.1,2,   2198.6,2,   2247.1,2,   7.4700,2,    25.00,   68.841,3
  32PO20130821,WCOA13,   108,  1,      2,2,   90822,2246, 41.9600,-124.4900,  108,     80.0,   8.3307,  33.7410,2,-999.0000,9,    136.5,2,    136.9,2,    37.48,2,    28.49,2,     0.08,2,     2.13,2,     0.06,2,   2195.7,2,   2247.1,2,   7.4770,2,    25.00,   64.868,2
  32PO20130821,WCOA13,   108,  1,      3,2,   90822,2248, 41.9600,-124.4900,  108,     59.7,   8.4040,  33.6390,2,  33.6357,2,    164.7,2,    164.9,2,    30.19,2,    25.95,2,     0.10,2,     1.92,2,     0.08,2,   2171.5,2,   2239.4,2,   7.5350,2,    25.00,   72.586,2
  32PO20130821,WCOA13,   108,  1,      4,2,   90822,2251, 41.9600,-124.4900,  108,     49.6,   8.8389,  33.5940,2,-999.0000,9,    177.2,2,    180.1,2,    28.36,2,    24.41,2,     0.16,2,     1.86,2,     0.36,2,   2162.0,2,   2239.6,2,   7.5630,3,    25.00,   77.029,2
  32PO20130821,WCOA13,   108,  1,      5,2,   90822,2253, 41.9600,-124.4900,  108,     40.5,   9.5116,  33.3770,2,  33.3631,2,    222.5,2,    220.4,2,    22.89,2,    20.55,2,     0.29,2,     1.61,2,     0.15,2,   2126.2,2,   2226.7,2,   7.6380,2,    25.00,   87.828,2
  32PO20130821,WCOA13,   108,  1,      6,2,   90822,2255, 41.9600,-124.4900,  108,     29.8,   9.8902,  33.1920,2,  33.2084,2,    239.8,2,    242.2,2,    18.91,2,    16.93,2,     0.34,2,     1.44,2,     0.21,2,   2098.2,2,   2219.7,2,   7.7000,2,    25.00,   98.657,2
  32PO20130821,WCOA13,   108,  1,      7,2,   90822,2257, 41.9600,-124.4900,  108,     20.4,  10.6868,  33.1140,2,-999.0000,9,    257.2,2,    264.0,2,    14.26,2,    13.25,2,     0.29,2,     1.21,2,     0.28,2,   2070.3,2,   2216.4,2,   7.7670,3,    25.00,  109.689,2
  32PO20130821,WCOA13,   108,  1,      8,2,   90822,2259, 41.9600,-124.4900,  108,     10.1,  11.5244,  33.1090,2,-999.0000,9,    269.9,2,    270.5,2,    12.42,2,    12.21,2,     0.26,2,     1.14,2,     0.37,2,   2063.0,2,   2219.4,2,   7.7870,2,    25.00,  114.622,2
  32PO20130821,WCOA13,   108,  1,      9,2,   90822,2301, 41.9600,-124.4900,  108,      3.0,  12.0287,  33.1030,2,  33.1040,2,    270.9,2,    272.6,2,    10.92,2,    11.43,2,     0.24,2,     1.08,2,     0.43,2,   2057.8,2,   2217.0,2,   7.8010,2,    25.00,  117.033,2
  32PO20130821,WCOA13,   108,  1,     10,2,   90822,2301, 41.9600,-124.4900,  108,      3.0,  12.0360,  33.1030,2,  33.1044,2,    270.9,2,   -999.0,9,    10.57,2,    10.96,2,     0.23,2,     1.06,2,      0.4,2,   -999.0,9,   -999.0,9,   7.8020,2,    25.00,  120.394,2