BOTTLE,201906109PRINUNIVRMK
EXPOCODE,SECT_ID,STNNBR,CASTNO,BTLNBR,BTLNBR_FLAG_W,DATE,TIME,LATITUDE,LONGITUDE,DEPTH,CTDPRS,CTDTMP,CTDSAL,CTDSAL_FLAG_W,SALNTY,SALNTY_FLAG_W,CTDOXY,CTDOXY_FLAG_W,OXYGEN,OXYGEN_FLAG_W,SILCAT,SILCAT_FLAG_W,NITRAT,NITRAT_FLAG_W,NITRIT,NITRIT_FLAG_W,PHSPHT,PHSPHT_FLAG_W,NH4,NH4_FLAG_W,TCARBN,TCARBN_FLAG_W,ALKALI,ALKALI_FLAG_W,PH_TOT,PH_TOT_FLAG_W,PH_TMP,CO32,CO32_FLAG_W
,,,,,,,,,,METERS,DBAR,ITS-90,PSS-78,,PSS-78,,UMOL/KG,,UMOL/KG,,UMOL/KG,,UMOL/KG,,UMOL/KG,,UMOL/KG,,UMOL/KG,,UMOL/KG,,UMOL/KG,,,,DEG C,UMOL/KG,
  32PO20130821,WCOA13,   107,  1,      1,2,   90823,0154, 41.9400,-124.5800,  322,    313.1,   6.9545,  34.0240,2,  34.0232,2,     68.5,2,     70.3,2,    53.37,2,    34.52,2,     0.04,2,     2.56,2,     0.05,2,   2255.3,2,   2276.4,2,   7.3740,2,    25.00,   53.746,2
  32PO20130821,WCOA13,   107,  1,      2,2,   90823,0158, 41.9400,-124.5800,  322,    200.8,   7.5595,  33.9650,2,-999.0000,9,     95.8,2,     97.3,2,    43.89,2,    31.73,2,     0.02,2,     2.32,2,        0,2,   2228.9,2,   2265.0,2,   7.4200,2,    25.00,    58.57,2
  32PO20130821,WCOA13,   107,  1,      3,2,   90823,0202, 41.9400,-124.5800,  322,    151.6,   7.6243,  33.8870,2,  33.8876,2,    117.6,2,   -999.0,9,    39.48,2,    29.90,2,     0.04,2,     2.18,2,     0.04,2,   2210.9,2,   2256.0,2,   7.4590,2,    25.00,   62.972,2
  32PO20130821,WCOA13,   107,  1,      4,2,   90823,0205, 41.9400,-124.5800,  322,    100.7,   8.1561,  33.6900,2,-999.0000,9,    163.6,2,    162.0,2,    32.62,2,    26.42,2,     0.03,2,     1.97,2,     0.03,2,   2177.4,2,   2244.2,2,   7.5230,2,    25.00,   70.603,2
  32PO20130821,WCOA13,   107,  1,      5,2,   90823,0207, 41.9400,-124.5800,  322,     80.4,   8.7069,  33.5630,2,-999.0000,9,    185.5,2,    185.9,2,    28.54,2,    24.07,2,     0.05,2,     1.83,2,     0.03,2,   2159.4,2,   2237.0,2,   7.5620,2,    25.00,   76.035,2
  32PO20130821,WCOA13,   107,  1,      6,2,   90823,0211, 41.9400,-124.5800,  322,     60.4,   8.9005,  33.2920,2,-999.0000,9,    218.9,2,   -999.0,9,    20.86,3,    17.74,3,     0.17,3,     1.49,3,     0.16,3,   2123.6,2,   2223.3,2,   7.6340,2,    25.00,   86.337,2
  32PO20130821,WCOA13,   107,  1,      7,2,   90823,0213, 41.9400,-124.5800,  322,     50.1,   9.8782,  33.4210,2,  33.4213,2,    222.2,2,    225.4,2,    22.65,2,    19.25,2,     0.40,2,     1.54,2,     0.56,2,   2126.4,2,   2231.8,2,   7.6460,2,    25.00,   88.549,2
  32PO20130821,WCOA13,   107,  1,      8,2,   90823,0214, 41.9400,-124.5800,  322,     40.5,  10.2129,  33.4130,2,-999.0000,9,    235.0,2,    235.7,2,    21.33,2,    18.35,2,     0.42,2,     1.51,2,     0.89,2,   2117.2,2,   2232.6,2,   7.6730,2,    25.00,    94.69,2
  32PO20130821,WCOA13,   107,  1,      9,2,   90823,0216, 41.9400,-124.5800,  322,     30.4,  10.9263,  33.2560,2,  33.2670,2,    249.4,2,   -999.0,9,    17.41,2,    15.46,2,     0.35,2,     1.34,2,     0.92,2,   2093.5,2,   2224.1,2,   7.7170,2,    25.00,  100.224,2
  32PO20130821,WCOA13,   107,  1,     10,2,   90823,0218, 41.9400,-124.5800,  322,     20.0,  11.7153,  33.1440,2,-999.0000,9,    274.9,2,    271.7,2,    12.17,2,    11.01,2,     0.25,2,     1.10,2,     0.23,2,   2063.1,2,   2222.2,3,   7.7900,2,    25.00,  112.558,2
  32PO20130821,WCOA13,   107,  1,     11,2,   90823,0220, 41.9400,-124.5800,  322,      9.8,  12.3672,  33.1210,2,-999.0000,9,    275.6,2,   -999.0,9,     9.88,2,     9.43,2,     0.22,2,     0.99,2,     0.11,2,   2047.6,2,   2215.5,2,   7.8270,2,    25.00,  125.662,2
  32PO20130821,WCOA13,   107,  1,     12,2,   90823,0221, 41.9400,-124.5800,  322,      2.7,  13.1447,  33.1120,2,  33.1160,6,    274.6,2,    277.3,2,     9.06,2,     8.37,2,     0.19,2,     0.93,2,     0.15,2,   2041.6,2,   2214.9,2,   7.8450,2,    25.00,  126.917,2
  32PO20130821,WCOA13,   106,  1,      1,2,   90823,0355, 41.9000,-124.7900,  704,    690.2,   4.6762,  34.2960,2,  34.2947,6,     12.5,2,     13.9,6,    99.22,2,    41.88,2,     0.03,2,     3.17,2,     0.03,2,   2346.8,2,   2342.1,2,   7.2940,2,    25.00,   49.584,2
  32PO20130821,WCOA13,   106,  1,      2,2,   90823,0400, 41.9000,-124.7900,  704,    504.2,   5.1832,  34.1350,2,-999.0000,9,     26.6,2,     28.4,2,    82.26,2,    40.58,2,     0.01,2,     3.02,2,     0.04,2,   2318.7,2,   2310.3,2,   7.2980,2,    25.00,   46.912,2
  32PO20130821,WCOA13,   106,  1,      3,2,   90823,0404, 41.9000,-124.7900,  704,    402.9,   5.7836,  34.0760,2,-999.0000,9,     40.8,2,     41.6,2,    71.17,2,    38.73,2,     0.01,2,     2.86,2,     0.07,2,   2295.3,2,   2297.6,2,   7.3180,3,    25.00,   48.595,2
  32PO20130821,WCOA13,   106,  1,      4,2,   90823,0408, 41.9000,-124.7900,  704,    302.6,   6.3648,  34.0340,2,  34.0334,2,     58.5,2,     58.9,2,    60.41,2,    36.32,2,     0.00,2,     2.68,2,     0.05,2,   2272.3,2,   2285.9,2,   7.3520,2,    25.00,   50.145,2
  32PO20130821,WCOA13,   106,  1,      5,2,   90823,0412, 41.9000,-124.7900,  704,    201.3,   7.4724,  33.9550,2,-999.0000,9,     99.0,2,     98.8,2,    43.93,2,    31.81,2,     0.01,2,     2.34,2,     0.01,2,   2230.3,2,   2263.7,2,   7.4230,2,    25.00,   58.874,2
  32PO20130821,WCOA13,   106,  1,      6,2,   90823,0415, 41.9000,-124.7900,  704,    151.6,   7.9681,  33.9040,2,  33.9039,2,    114.3,2,   -999.0,9,    39.85,2,    30.59,2,     0.01,2,     2.28,2,     0.06,2,   2220.4,2,   2258.9,2,   7.4370,2,    25.00,   60.582,2
  32PO20130821,WCOA13,   106,  1,      7,2,   90823,0418, 41.9000,-124.7900,  704,    100.8,   8.3282,  33.7140,2,-999.0000,9,    160.8,2,    155.5,2,    33.17,2,    26.88,2,     0.01,2,     2.03,2,        0,2,   2185.9,2,   2248.2,2,   7.5090,2,    25.00,   70.673,2
  32PO20130821,WCOA13,   106,  1,      8,2,   90823,0420, 41.9000,-124.7900,  704,     75.4,   8.3928,  33.5080,2,-999.0000,9,    183.0,2,   -999.0,9,    28.94,2,    24.09,2,     0.01,2,     1.87,2,     0.04,2,   2160.7,2,   2236.6,2,   7.5570,2,    25.00,   74.667,2
  32PO20130821,WCOA13,   106,  1,      9,2,   90823,0422, 41.9000,-124.7900,  704,     50.0,   9.2993,  33.3230,2,  33.3233,2,    219.1,2,    220.0,2,    23.23,2,    19.56,2,     0.19,2,     1.62,2,     0.06,2,   2124.4,2,   2227.2,2,   7.6380,2,    25.00,   86.923,2
  32PO20130821,WCOA13,   106,  1,     10,2,   90823,0425, 41.9000,-124.7900,  704,     25.4,  12.6700,  33.1260,2,-999.0000,9,    276.0,2,   -999.0,9,     7.57,2,     8.59,2,     0.18,2,     1.00,2,     0.12,2,   2042.7,2,   2221.5,2,   7.8420,2,    25.00,  125.648,2
  32PO20130821,WCOA13,   106,  1,     11,2,   90823,0427, 41.9000,-124.7900,  704,      9.8,  13.0456,  33.0420,2,-999.0000,9,    277.7,2,   -999.0,9,     4.96,2,     6.26,2,     0.15,2,     0.77,2,     0.18,2,   2028.8,2,   2217.4,2,   7.8640,2,    25.00,  134.651,2
  32PO20130821,WCOA13,   106,  1,     12,2,   90823,0428, 41.9000,-124.7900,  704,      3.4,  13.8342,  33.0370,2,  33.0359,2,    276.7,2,    277.5,2,     5.13,2,     6.73,2,     0.13,2,     0.84,2,      0.1,2,   2026.4,2,   2217.5,2,   7.8700,2,    25.00,  135.849,2
  32PO20130821,WCOA13,   115,  1,      1,2,   90823,1826, 40.2500,-124.3800,   54,     45.8,   9.3003,  33.3670,2,  33.3529,2,    199.9,2,    108.4,2,    21.32,2,    17.77,2,     0.11,2,     1.58,2,     0.52,2,   2120.1,2,   2228.5,2,   7.6470,2,    25.00,     96.5,2
  32PO20130821,WCOA13,   115,  1,      2,2,   90823,1828, 40.2500,-124.3800,   54,     40.4,   9.7617,  33.3140,2,  33.2765,2,    220.6,2,    229.2,2,    17.23,2,    14.49,2,     0.12,2,     1.42,2,     0.52,2,   2095.4,2,   2227.6,2,   7.7080,2,    25.00,   101.41,2
  32PO20130821,WCOA13,   115,  1,      3,2,   90823,1832, 40.2500,-124.3800,   54,     29.0,  10.3225,  33.2340,2,-999.0000,9,    236.2,2,    238.5,2,    15.43,2,    13.29,2,     0.13,2,     1.33,2,     0.55,2,   2086.1,2,   2224.1,2,   7.7330,2,    25.00,  106.734,2
  32PO20130821,WCOA13,   115,  1,      4,2,   90823,1834, 40.2500,-124.3800,   54,     20.2,  10.3326,  33.2300,2,  33.2324,2,    236.8,2,    239.0,2,    15.26,2,    13.25,2,     0.13,2,     1.31,2,     0.51,2,   2084.9,2,   2223.0,2,   7.7370,2,    25.00,  104.079,2
  32PO20130821,WCOA13,   115,  1,      5,2,   90823,1836, 40.2500,-124.3800,   54,     14.4,  10.3482,  33.2210,2,-999.0000,9,    239.8,2,    240.8,2,    15.38,2,    13.28,2,     0.16,2,     1.29,2,     0.55,2,   2082.6,2,   2223.6,2,   7.7360,2,    25.00,  107.112,2
  32PO20130821,WCOA13,   115,  1,      6,2,   90823,1838, 40.2500,-124.3800,   54,     10.3,  10.5042,  33.1990,2,  33.1997,2,    244.8,2,    245.6,2,    14.38,2,    12.72,2,     0.16,2,     1.26,2,      0.6,2,   2076.9,2,   2222.1,2,   7.7480,2,    25.00,  107.554,3
  32PO20130821,WCOA13,   115,  1,      7,2,   90823,1840, 40.2500,-124.3800,   54,      3.2,  11.3936,  33.1120,2,  33.1149,6,    265.8,2,    270.2,2,    10.43,2,     9.95,2,     0.16,2,     1.04,2,     0.31,2,   2052.6,2,   2218.8,2,   7.8040,2,    25.00,  117.518,3
  32PO20130821,WCOA13,   114,  1,      1,2,   90823,1930, 40.2300,-124.4100,   95,     88.0,   8.4275,  33.8440,2,  33.8407,2,    104.7,2,    109.5,2,    38.08,2,    29.21,2,     0.08,2,     2.25,2,     0.07,2,   2212.5,2,   2251.3,2,   7.4350,2,    25.00,   60.578,2
  32PO20130821,WCOA13,   114,  1,      2,2,   90823,1933, 40.2300,-124.4100,   95,     60.4,   8.5212,  33.6000,2,-999.0000,9,    157.1,2,    161.8,2,    28.90,2,    23.81,2,     0.13,2,     1.90,2,     0.15,2,   2163.2,2,   2234.7,2,   7.5430,2,    25.00,   73.474,2
  32PO20130821,WCOA13,   114,  1,      3,2,   90823,1936, 40.2300,-124.4100,   95,     50.5,   8.4571,  33.7750,2,  33.7652,2,    121.5,2,    121.9,2,    35.64,2,    27.79,2,     0.11,2,     2.16,2,     0.18,2,   2199.3,2,   2248.1,2,   7.4590,2,    25.00,   63.809,2
  32PO20130821,WCOA13,   114,  1,      4,2,   90823,1940, 40.2300,-124.4100,   95,     39.9,   8.6128,  33.4740,2,  33.4879,2,    174.9,2,    172.9,2,    26.46,2,    22.43,2,     0.12,2,     1.80,2,     0.22,2,   2151.1,2,   2229.3,2,   7.5680,2,    25.00,   76.818,3
  32PO20130821,WCOA13,   114,  1,      5,2,   90823,1943, 40.2300,-124.4100,   95,     30.9,   8.6509,  33.4400,2,  33.4316,2,    181.1,2,    182.6,2,    24.83,2,    21.32,2,     0.12,2,     1.74,2,     0.24,2,   2142.6,2,   2230.8,2,   7.5870,2,    25.00,   79.731,2
  32PO20130821,WCOA13,   114,  1,      6,2,   90823,1946, 40.2300,-124.4100,   95,     20.2,   8.6768,  33.3990,2,-999.0000,9,    184.9,2,    191.3,2,    23.36,2,    20.31,2,     0.12,2,     1.67,2,     0.24,2,   2134.4,2,   2226.6,2,   7.6090,2,    25.00,   81.764,2
  32PO20130821,WCOA13,   114,  1,      7,2,   90823,1949, 40.2300,-124.4100,   95,     10.2,-999.0000,-999.0000,9,-999.0000,9,   -999.0,9,    211.4,2,    20.09,2,    17.88,2,     0.13,2,     1.53,2,     0.42,2,   2113.7,2,   2223.8,2,   7.6520,2,    25.00,   89.558,2
  32PO20130821,WCOA13,   114,  1,      8,2,   90823,1949, 40.2300,-124.4100,   95,     10.2,   9.0559,  33.2680,2,-999.0000,9,    213.8,2,    218.0,2,    18.13,2,    16.12,2,     0.14,2,     1.44,2,     0.36,2,   2103.3,2,   2221.9,2,   7.6750,3,    25.00,   94.342,2
  32PO20130821,WCOA13,   114,  1,      9,2,   90823,1951, 40.2300,-124.4100,   95,      2.9,  10.6449,  33.1760,2,  33.1877,6,    263.6,2,    254.0,2,    12.72,2,    11.11,2,     0.17,2,     1.17,2,     0.21,2,   2070.9,2,   2223.1,2,   7.7660,2,    25.00,  110.788,2
  32PO20130821,WCOA13,   113,  1,      1,2,   90823,2031, 40.2200,-124.4400,  128,    120.3,   8.0548,  33.9750,2,  33.9679,2,     80.8,2,     81.1,2,    43.54,2,    31.81,2,     0.03,2,     2.40,2,     0.03,2,   2234.2,2,   2261.8,2,   7.3910,2,    25.00,   55.349,2
  32PO20130821,WCOA13,   113,  1,      2,2,   90823,2033, 40.2200,-124.4400,  128,     97.9,   8.5535,  33.9010,2,-999.0000,9,     80.6,2,     88.8,2,    42.05,2,    31.10,2,     0.02,2,     2.39,2,        0,2,   2230.5,2,   2259.2,2,   7.3870,2,    25.00,   54.076,2
  32PO20130821,WCOA13,   113,  1,      3,2,   90823,2034, 40.2200,-124.4400,  128,     80.8,   8.5156,  33.6350,2,  33.6163,2,    154.6,2,    152.7,2,    29.91,2,    24.58,2,     0.12,2,     1.92,2,     0.14,2,   2169.8,2,   2239.5,2,   7.5260,2,    25.00,   70.814,2
  32PO20130821,WCOA13,   113,  1,      4,2,   90823,2037, 40.2200,-124.4400,  128,     60.6,   8.7591,  33.2580,2,  33.2637,2,    208.3,2,    208.5,2,    20.56,2,    18.65,2,     0.09,2,     1.54,2,     0.21,2,   2115.2,2,   2221.6,2,   7.6400,2,    25.00,   87.858,3
  32PO20130821,WCOA13,   113,  1,      5,2,   90823,2039, 40.2200,-124.4400,  128,     50.0,   9.0104,  33.2190,2,-999.0000,9,    221.4,2,    218.1,2,    18.74,2,    17.18,2,     0.11,2,     1.47,2,     0.38,2,   2106.0,2,   2219.6,2,   7.6620,2,    25.00,   92.036,2
  32PO20130821,WCOA13,   113,  1,      6,2,   90823,2042, 40.2200,-124.4400,  128,     40.6,   9.3419,  33.1750,2,  33.1823,2,    229.0,2,    229.3,2,    16.93,2,    15.50,2,     0.12,2,     1.39,2,     0.47,2,   2095.2,2,   2219.0,2,   7.6910,2,    25.00,  107.695,2
  32PO20130821,WCOA13,   113,  1,      7,2,   90823,2042, 40.2200,-124.4400,  128,     40.6,-999.0000,-999.0000,9,-999.0000,9,   -999.0,9,   -999.0,9,  -999.00,9,  -999.00,9,  -999.00,9,  -999.00,9,     -999,9,   -999.0,9,   -999.0,9,-999.0000,9,  -999.00,     -999,9
  32PO20130821,WCOA13,   113,  1,      8,2,   90823,2045, 40.2200,-124.4400,  128,     30.2,   9.3288,  33.1740,2,-999.0000,9,    228.7,2,    227.9,2,    16.92,2,    15.56,2,     0.12,2,     1.38,2,     0.48,2,   2095.3,2,   2217.0,2,   7.6930,2,    25.00,   93.851,2
  32PO20130821,WCOA13,   113,  1,      9,2,   90823,2048, 40.2200,-124.4400,  128,     20.2,   9.4703,  33.1680,2,-999.0000,9,    231.4,2,    231.2,2,    16.58,2,    15.15,2,     0.13,2,     1.36,2,     0.53,2,   2091.7,2,   2219.3,2,   7.7380,2,    25.00,    94.12,2
  32PO20130821,WCOA13,   113,  1,     10,2,   90823,2051, 40.2200,-124.4400,  128,     10.4,   9.7235,  33.1590,2,-999.0000,9,    239.6,2,    237.4,2,    15.75,2,    14.32,2,     0.13,2,     1.29,2,     0.64,2,   2086.7,2,   2218.4,2,   7.8030,2,    25.00,  103.241,2
  32PO20130821,WCOA13,   113,  1,     11,2,   90823,2052, 40.2200,-124.4400,  128,      2.9,  11.2782,  33.1390,2,  33.1422,6,    260.8,2,    261.0,2,    11.64,2,    10.71,2,     0.13,2,     1.08,2,      0.6,2,   2060.5,2,   2220.7,2,   7.9240,2,    25.00,  112.022,2
  32PO20130821,WCOA13,   112,  1,      1,2,   90823,2303, 40.2100,-124.4800,  260,    250.2,   7.4429,  34.0510,2,  34.0580,2,     65.0,2,     68.8,2,    49.71,2,    33.82,2,     0.06,2,     2.55,2,     0.12,2,   2254.4,2,   2280.7,2,   7.3750,2,    25.00,   55.976,2
  32PO20130821,WCOA13,   112,  1,      2,2,   90823,2306, 40.2100,-124.4800,  260,    201.4,   7.5860,  34.0310,2,-999.0000,9,     69.9,2,     72.1,2,    48.08,2,    33.39,2,     0.06,2,     2.51,2,     0.12,2,   2248.5,2,   2277.6,2,   7.3830,2,    25.00,   55.238,2
  32PO20130821,WCOA13,   112,  1,      3,2,   90823,2309, 40.2100,-124.4800,  260,    150.6,   7.7286,  33.9310,2,  33.9339,2,    108.2,2,    113.1,2,    38.69,2,    29.52,2,     0.03,2,     2.17,2,     0.05,2,   2212.0,2,   2268.6,2,   7.4610,2,    25.00,   62.968,2
  32PO20130821,WCOA13,   112,  1,      4,2,   90823,2312, 40.2100,-124.4800,  260,    100.9,   8.5655,  33.9180,2,  33.9189,2,     77.5,2,     80.6,2,    42.79,2,    31.24,2,     0.05,2,     2.42,2,      0.1,2,   2233.9,2,   2261.1,2,   7.3720,2,    25.00,   53.114,2
  32PO20130821,WCOA13,   112,  1,      5,2,   90823,2315, 40.2100,-124.4800,  260,     80.6,   8.5796,  33.8760,2,-999.0000,9,     99.7,2,     94.2,2,    40.31,2,    30.00,2,     0.04,2,     2.32,2,     0.08,2,   2222.7,2,   2260.5,2,   7.4000,3,    25.00,   55.701,2
  32PO20130821,WCOA13,   112,  1,      6,3,   90823,2318, 40.2100,-124.4800,  260,     60.6,   8.4061,  33.4960,2,  33.1702,4,    182.9,2,    216.5,2,    17.96,3,    16.84,3,     0.09,3,     1.43,3,      0.1,3,   2103.0,3,   2221.1,4,   7.6660,2,    25.00,   96.026,2
  32PO20130821,WCOA13,   112,  1,      7,2,   90823,2320, 40.2100,-124.4800,  260,     50.4,   8.3818,  33.2940,2,-999.0000,9,    200.9,2,    199.4,2,    21.57,2,    19.49,2,     0.05,2,     1.56,2,     0.04,2,   2123.6,2,   2228.6,2,   7.6210,2,    25.00,   84.154,2
  32PO20130821,WCOA13,   112,  1,      8,2,   90823,2323, 40.2100,-124.4800,  260,     40.4,   8.7364,  33.1660,2,-999.0000,9,    219.6,2,    216.4,2,    17.93,2,    16.87,2,     0.10,2,     1.43,2,     0.16,2,   2105.5,2,   2223.1,2,   7.6590,2,    25.00,   93.121,2
  32PO20130821,WCOA13,   112,  1,      9,2,   90823,2325, 40.2100,-124.4800,  260,     40.4,   8.7027,  33.1650,2,-999.0000,9,    219.5,2,    216.8,2,    18.10,2,    16.91,2,     0.10,2,     1.41,2,     0.42,2,   -999.0,9,   -999.0,9,   7.6610,2,    25.00,     90.4,2
  32PO20130821,WCOA13,   112,  1,     10,2,   90823,2329, 40.2100,-124.4800,  260,     20.4,  10.2626,  33.0870,2,-999.0000,9,    260.3,2,    259.4,2,    11.83,2,    10.76,2,     0.16,2,     1.12,2,     0.75,2,   2062.7,2,   2223.5,2,   7.7790,2,    25.00,  112.926,2
  32PO20130821,WCOA13,   112,  1,     11,2,   90823,2331, 40.2100,-124.4800,  260,      9.8,  11.0176,  33.1230,2,-999.0000,9,    270.4,2,    273.3,2,    10.67,2,     9.30,2,     0.18,2,     1.03,2,     0.42,2,   2050.2,2,   2225.2,2,   7.8120,3,    25.00,  127.715,2
  32PO20130821,WCOA13,   112,  1,     12,2,   90823,2333, 40.2100,-124.4800,  260,      3.1,  11.4318,  33.0820,2,  33.0909,6,    274.3,2,    274.3,2,    10.32,2,     9.14,2,     0.19,2,     0.99,2,     0.44,2,   2047.2,6,   2224.1,6,   7.8150,2,    25.00,  120.348,2