BOTTLE,20180401JMAGEMD
EXPOCODE,SECT_ID,STNNBR,CASTNO,SAMPNO,BTLNBR,BTLNBR_FLAG_W,DATE,TIME,LATITUDE,LONGITUDE,DEPTH,CTDPRS,CTDDEP,CTDTMP,CTDSAL,CTDSAL_FLAG_W,SALNTY,SALNTY_FLAG_W,OXYGEN,OXYGEN_FLAG_W,SILCAT,SILCAT_FLAG_W,NO2+NO3,NO2+NO3_FLAG_W,NITRIT,NITRIT_FLAG_W,PHSPHT,PHSPHT_FLAG_W,TCARBN,TCARBN_FLAG_W,ALKALI,ALKALI_FLAG_W,PH_TOT,PH_TOT_FLAG_W,CFC-11,CFC-11_FLAG_W,CFC-12,CFC-12_FLAG_W
,,,,,,,UTC,UTC,,,METER,DBAR,METERS,ITS-90,PSS-78,,PSS-78,,UMOL/KG,,UMOL/KG,,UMOL/KG,,UMOL/KG,,UMOL/KG,,UMOL/KG,,UMOL/KG,,@25DEG-C,,PMOL/KG,,PMOL/KG,
49UP20171125,RF17-10,6124,1,-999,0,2,20171210,1345,24.9892,129.4992,4080,0.0,0,24.0914,34.8977,2,-999.,9,210.10,2,-999.,9,-999.,9,-999.,9,-999.,9,-999.,9,-999.,9,-999.,9,-999,9,-999,9
49UP20171125,RF17-10,6124,1,36,25845,2,20171210,1406,24.9892,129.4992,4080,11.1,11,24.1052,34.8970,2,-999.,9,209.79,2,-999.,9,-999.,9,-999.,9,-999.,9,-999.,9,-999.,9,-999.,9,-999,9,-999,9
49UP20171125,RF17-10,6124,1,35,25844,3,20171210,1405,24.9892,129.4992,4080,26.3,26,24.1156,34.8965,2,-999.,9,210.90,2,-999.,9,-999.,9,-999.,9,-999.,9,-999.,9,-999.,9,-999.,9,-999,9,-999,9
49UP20171125,RF17-10,6124,1,34,25843,2,20171210,1401,24.9892,129.4992,4080,51.6,51,24.1181,34.8966,2,-999.,9,210.03,2,-999.,9,-999.,9,-999.,9,-999.,9,-999.,9,-999.,9,-999.,9,-999,9,-999,9
49UP20171125,RF17-10,6124,1,33,25842,2,20171210,1400,24.9892,129.4992,4080,76.2,76,24.1141,34.8957,2,-999.,9,210.17,2,-999.,9,-999.,9,-999.,9,-999.,9,-999.,9,-999.,9,-999.,9,-999,9,-999,9
49UP20171125,RF17-10,6124,1,32,25841,2,20171210,1359,24.9892,129.4992,4080,101.0,100,21.5126,34.9880,2,-999.,9,206.56,2,-999.,9,-999.,9,-999.,9,-999.,9,-999.,9,-999.,9,-999.,9,-999,9,-999,9
49UP20171125,RF17-10,6124,1,31,25840,2,20171210,1358,24.9892,129.4992,4080,126.4,126,20.1089,34.9565,2,-999.,9,200.01,2,-999.,9,-999.,9,-999.,9,-999.,9,-999.,9,-999.,9,-999.,9,-999,9,-999,9
49UP20171125,RF17-10,6124,1,27,25836,2,20171210,1357,24.9892,129.4992,4080,152.3,151,19.2472,34.9050,2,-999.,9,199.92,6,-999.,9,-999.,9,-999.,9,-999.,9,-999.,9,-999.,9,-999.,9,-999,9,-999,9
49UP20171125,RF17-10,6124,1,26,25835,3,20171210,1355,24.9892,129.4992,4080,202.4,201,18.3583,34.8692,2,-999.,9,206.66,2,-999.,9,-999.,9,-999.,9,-999.,9,-999.,9,-999.,9,-999.,9,-999,9,-999,9
49UP20171125,RF17-10,6124,1,25,25834,2,20171210,1355,24.9892,129.4992,4080,202.9,201,18.3578,34.8690,2,-999.,9,206.08,2,-999.,9,-999.,9,-999.,9,-999.,9,-999.,9,-999.,9,-999.,9,-999,9,-999,9
49UP20171125,RF17-10,6124,1,24,25833,2,20171210,1353,24.9892,129.4992,4080,253.5,252,17.5757,34.7966,2,-999.,9,202.06,2,-999.,9,-999.,9,-999.,9,-999.,9,-999.,9,-999.,9,-999.,9,-999,9,-999,9
49UP20171125,RF17-10,6124,1,23,25832,2,20171210,1352,24.9892,129.4992,4080,303.4,301,16.7230,34.7056,2,-999.,9,195.26,2,-999.,9,-999.,9,-999.,9,-999.,9,-999.,9,-999.,9,-999.,9,-999,9,-999,9
49UP20171125,RF17-10,6124,1,22,25831,2,20171210,1349,24.9892,129.4992,4080,404.9,402,14.4546,34.5155,2,-999.,9,187.13,2,-999.,9,-999.,9,-999.,9,-999.,9,-999.,9,-999.,9,-999.,9,-999,9,-999,9
49UP20171125,RF17-10,6124,1,18,25827,2,20171210,1347,24.9892,129.4992,4080,504.7,501,11.2053,34.2954,2,-999.,9,167.28,2,-999.,9,-999.,9,-999.,9,-999.,9,-999.,9,-999.,9,-999.,9,-999,9,-999,9
49UP20171125,RF17-10,6124,1,17,25826,2,20171210,1344,24.9892,129.4992,4080,606.6,602,8.2387,34.1669,2,-999.,9,139.19,2,-999.,9,-999.,9,-999.,9,-999.,9,-999.,9,-999.,9,-999.,9,-999,9,-999,9
49UP20171125,RF17-10,6124,1,16,25825,2,20171210,1341,24.9892,129.4992,4080,708.6,703,6.5629,34.1464,2,-999.,9,109.99,2,-999.,9,-999.,9,-999.,9,-999.,9,-999.,9,-999.,9,-999.,9,-999,9,-999,9
49UP20171125,RF17-10,6124,1,15,25824,2,20171210,1337,24.9892,129.4992,4080,808.5,802,5.0412,34.2225,2,-999.,9,74.22,2,-999.,9,-999.,9,-999.,9,-999.,9,-999.,9,-999.,9,-999.,9,-999,9,-999,9
49UP20171125,RF17-10,6124,1,14,25823,2,20171210,1335,24.9892,129.4992,4080,910.4,903,4.3608,34.2904,2,-999.,9,62.05,2,-999.,9,-999.,9,-999.,9,-999.,9,-999.,9,-999.,9,-999.,9,-999,9,-999,9
49UP20171125,RF17-10,6124,1,13,25822,2,20171210,1332,24.9892,129.4992,4080,1012.1,1003,3.8632,34.3592,2,-999.,9,59.56,2,-999.,9,-999.,9,-999.,9,-999.,9,-999.,9,-999.,9,-999.,9,-999,9,-999,9
49UP20171125,RF17-10,6124,1,9,25818,2,20171210,1327,24.9892,129.4992,4080,1213.8,1202,3.1039,34.4649,2,-999.,9,67.28,6,-999.,9,-999.,9,-999.,9,-999.,9,-999.,9,-999.,9,-999.,9,-999,9,-999,9
49UP20171125,RF17-10,6124,1,7,25816,2,20171210,1321,24.9892,129.4992,4080,1416.1,1402,2.6273,34.5198,2,-999.,9,78.97,2,-999.,9,-999.,9,-999.,9,-999.,9,-999.,9,-999.,9,-999.,9,-999,9,-999,9
49UP20171125,RF17-10,6124,1,8,25817,2,20171210,1321,24.9892,129.4992,4080,1416.9,1403,2.6233,34.5204,2,-999.,9,78.94,2,-999.,9,-999.,9,-999.,9,-999.,9,-999.,9,-999.,9,-999.,9,-999,9,-999,9
49UP20171125,RF17-10,6124,1,6,25815,2,20171210,1316,24.9892,129.4992,4080,1619.3,1603,2.3458,34.5594,2,-999.,9,91.27,2,-999.,9,-999.,9,-999.,9,-999.,9,-999.,9,-999.,9,-999.,9,-999,9,-999,9
49UP20171125,RF17-10,6124,1,5,25814,2,20171210,1311,24.9892,129.4992,4080,1821.7,1802,2.1304,34.5900,2,-999.,9,104.03,2,-999.,9,-999.,9,-999.,9,-999.,9,-999.,9,-999.,9,-999.,9,-999,9,-999,9
49UP20171125,RF17-10,6124,1,4,25813,2,20171210,1306,24.9892,129.4992,4080,2023.0,2000,1.9317,34.6186,2,-999.,9,117.28,2,-999.,9,-999.,9,-999.,9,-999.,9,-999.,9,-999.,9,-999.,9,-999,9,-999,9
49UP20171125,RF17-10,6125,1,-999,0,2,20171210,2315,25.4673,128.734,7092,0.0,0,24.0166,34.9421,2,-999.0000,9,210.95,2,1.32,2,0.01,2,0.00,2,0.03,2,-999.,9,-999.,9,-999.,9,-999,9,-999,9
49UP20171125,RF17-10,6125,1,36,25845,2,20171210,2352,25.4673,128.734,7092,11.0,11,24.0285,34.9415,2,34.9401,2,210.07,2,1.32,2,0.00,2,0.00,2,0.01,2,-999.,9,-999.,9,-999.,9,-999,9,-999,9
49UP20171125,RF17-10,6125,1,35,25844,3,20171210,2351,25.4673,128.734,7092,25.6,25,24.0256,34.9418,2,-999.0000,9,210.22,2,1.26,2,0.02,2,0.00,2,0.01,2,-999.,9,-999.,9,-999.,9,-999,9,-999,9
49UP20171125,RF17-10,6125,1,34,25843,2,20171210,2348,25.4673,128.734,7092,51.5,51,24.0238,34.9408,2,34.9380,2,210.03,2,1.33,2,0.03,2,0.00,2,0.01,2,-999.,9,-999.,9,-999.,9,-999,9,-999,9
49UP20171125,RF17-10,6125,1,33,25842,2,20171210,2346,25.4673,128.734,7092,75.9,75,24.0172,34.9407,2,-999.0000,9,210.09,6,1.28,6,0.02,6,0.00,6,0.01,6,-999.,9,-999.,9,-999.,9,-999,9,-999,9
49UP20171125,RF17-10,6125,1,32,25841,2,20171210,2345,25.4673,128.734,7092,101.2,101,21.8137,34.9847,2,34.9845,2,208.50,2,1.74,2,0.27,2,0.09,2,0.05,2,-999.,9,-999.,9,-999.,9,-999,9,-999,9
49UP20171125,RF17-10,6125,1,31,25840,2,20171210,2344,25.4673,128.734,7092,126.5,126,20.9724,34.9793,2,-999.0000,9,202.07,2,2.00,2,1.09,2,0.03,2,0.10,2,-999.,9,-999.,9,-999.,9,-999,9,-999,9
49UP20171125,RF17-10,6125,1,30,25839,2,20171210,2343,25.4673,128.734,7092,151.7,151,20.2895,34.9565,2,-999.0000,9,199.64,2,2.29,2,2.02,2,0.02,2,0.15,2,-999.,9,-999.,9,-999.,9,-999,9,-999,9
49UP20171125,RF17-10,6125,1,29,25838,2,20171210,2341,25.4673,128.734,7092,203.5,202,18.6088,34.8757,2,34.8752,2,202.10,2,3.04,2,3.39,2,0.01,2,0.23,2,-999.,9,-999.,9,-999.,9,-999,9,-999,9
49UP20171125,RF17-10,6125,1,28,25837,2,20171210,2339,25.4673,128.734,7092,252.6,251,17.8347,34.8316,2,34.8321,2,206.07,2,3.58,2,4.00,2,0.01,2,0.27,2,-999.,9,-999.,9,-999.,9,-999,9,-999,9
49UP20171125,RF17-10,6125,1,27,25836,2,20171210,2337,25.4673,128.734,7092,302.8,301,16.9405,34.7249,2,34.7238,2,196.70,2,5.24,2,6.07,2,0.00,2,0.40,2,-999.,9,-999.,9,-999.,9,-999,9,-999,9
49UP20171125,RF17-10,6125,1,26,25835,2,20171210,2334,25.4673,128.734,7092,405.2,402,14.5298,34.5237,2,34.5227,2,185.88,2,11.47,2,10.75,2,0.00,2,0.73,2,-999.,9,-999.,9,-999.,9,-999,9,-999,9
49UP20171125,RF17-10,6125,1,25,25834,2,20171210,2331,25.4673,128.734,7092,506.6,503,11.2385,34.2999,2,34.3008,2,168.91,2,24.74,2,17.76,2,0.00,2,1.25,2,-999.,9,-999.,9,-999.,9,-999,9,-999,9
49UP20171125,RF17-10,6125,1,24,25833,2,20171210,2328,25.4673,128.734,7092,608.2,603,8.3334,34.1720,2,34.1722,2,139.87,6,45.73,6,25.44,6,0.00,6,1.83,6,-999.,9,-999.,9,-999.,9,-999,9,-999,9
49UP20171125,RF17-10,6125,1,23,25832,2,20171210,2325,25.4673,128.734,7092,707.3,702,6.6221,34.1644,2,34.1634,2,107.93,2,65.20,2,31.31,2,0.00,2,2.26,2,-999.,9,-999.,9,-999.,9,-999,9,-999,9
49UP20171125,RF17-10,6125,1,22,25831,2,20171210,2321,25.4673,128.734,7092,809.7,803,5.3773,34.1931,2,34.1925,2,81.64,2,83.31,2,35.82,2,0.00,2,2.58,2,-999.,9,-999.,9,-999.,9,-999,9,-999,9
49UP20171125,RF17-10,6125,1,21,25830,2,20171210,2318,25.4673,128.734,7092,911.7,904,4.5502,34.2784,2,34.2763,2,66.50,2,100.61,2,38.35,2,0.00,2,2.76,2,-999.,9,-999.,9,-999.,9,-999,9,-999,9
49UP20171125,RF17-10,6125,1,20,25829,2,20171210,2315,25.4673,128.734,7092,1010.4,1001,3.9218,34.3724,2,34.3715,2,62.24,2,114.65,2,39.64,2,0.00,2,2.85,2,-999.,9,-999.,9,-999.,9,-999,9,-999,9
49UP20171125,RF17-10,6125,1,19,25828,2,20171210,2310,25.4673,128.734,7092,1213.2,1202,3.0780,34.4597,2,34.4596,2,65.64,2,131.58,2,40.43,2,0.00,2,2.89,2,-999.,9,-999.,9,-999.,9,-999,9,-999,9
49UP20171125,RF17-10,6125,1,18,25827,2,20171210,2304,25.4673,128.734,7092,1417.1,1403,2.6649,34.5182,2,34.5175,2,78.15,2,138.07,2,39.97,2,0.00,2,2.84,2,-999.,9,-999.,9,-999.,9,-999,9,-999,9
49UP20171125,RF17-10,6125,1,17,25826,2,20171210,2258,25.4673,128.734,7092,1618.7,1602,2.3547,34.5633,2,34.5625,2,92.52,2,141.12,2,39.24,2,0.00,2,2.78,2,-999.,9,-999.,9,-999.,9,-999,9,-999,9
49UP20171125,RF17-10,6125,1,16,25825,2,20171210,2252,25.4673,128.734,7092,1822.3,1803,2.1425,34.5917,2,34.5916,2,103.87,2,142.44,2,38.64,2,0.00,2,2.73,2,-999.,9,-999.,9,-999.,9,-999,9,-999,9
49UP20171125,RF17-10,6125,1,15,25824,2,20171210,2247,25.4673,128.734,7092,2025.2,2002,1.9700,34.6170,2,34.6159,2,115.18,6,142.50,6,38.00,6,0.00,6,2.68,6,-999.,9,-999.,9,-999.,9,-999,9,-999,9
49UP20171125,RF17-10,6125,1,14,25823,2,20171210,2240,25.4673,128.734,7092,2280.0,2253,1.8382,34.6359,2,34.6359,2,124.71,2,142.56,2,37.51,2,0.00,2,2.63,2,-999.,9,-999.,9,-999.,9,-999,9,-999,9
49UP20171125,RF17-10,6125,1,13,25822,2,20171210,2234,25.4673,128.734,7092,2534.2,2503,1.7459,34.6503,2,34.6499,2,132.38,2,142.43,2,37.08,2,0.00,2,2.60,2,-999.,9,-999.,9,-999.,9,-999,9,-999,9
49UP20171125,RF17-10,6125,1,12,25821,2,20171210,2229,25.4673,128.734,7092,2788.7,2752,1.6656,34.6589,2,34.6580,2,137.63,2,142.30,2,36.76,2,0.00,2,2.57,2,-999.,9,-999.,9,-999.,9,-999,9,-999,9
49UP20171125,RF17-10,6125,1,11,25820,2,20171210,2223,25.4673,128.734,7092,3044.4,3003,1.6095,34.6657,2,34.6655,6,142.83,2,142.31,2,36.47,2,0.00,2,2.55,2,-999.,9,-999.,9,-999.,9,-999,9,-999,9
49UP20171125,RF17-10,6125,1,10,25819,2,20171210,2217,25.4673,128.734,7092,3299.9,3253,1.5773,34.6709,2,34.6706,2,146.62,2,141.84,2,36.28,2,0.00,2,2.53,2,-999.,9,-999.,9,-999.,9,-999,9,-999,9
49UP20171125,RF17-10,6125,1,9,25818,2,20171210,2211,25.4673,128.734,7092,3556.2,3504,1.5687,34.6740,2,34.6737,2,148.05,2,141.74,2,36.12,2,0.00,2,2.52,2,-999.,9,-999.,9,-999.,9,-999,9,-999,9
49UP20171125,RF17-10,6125,1,8,25817,2,20171210,2205,25.4673,128.734,7092,3810.7,3752,1.5687,34.6766,2,34.6765,2,150.82,2,141.54,2,35.97,2,0.00,2,2.51,2,-999.,9,-999.,9,-999.,9,-999,9,-999,9
49UP20171125,RF17-10,6125,1,7,25816,2,20171210,2200,25.4673,128.734,7092,4067.1,4002,1.5792,34.6783,2,34.6778,2,151.59,2,141.15,2,35.91,2,0.00,2,2.50,2,-999.,9,-999.,9,-999.,9,-999,9,-999,9
49UP20171125,RF17-10,6125,1,6,25815,2,20171210,2149,25.4673,128.734,7092,4580.5,4503,1.6118,34.6810,2,34.6804,2,154.43,2,140.81,6,35.76,6,0.00,6,2.49,6,-999.,9,-999.,9,-999.,9,-999,9,-999,9
49UP20171125,RF17-10,6125,1,5,25814,2,20171210,2139,25.4673,128.734,7092,5095.2,5003,1.6657,34.6820,2,34.6813,2,154.79,2,140.68,2,35.72,2,0.00,2,2.48,2,-999.,9,-999.,9,-999.,9,-999,9,-999,9
49UP20171125,RF17-10,6125,1,4,25813,2,20171210,2133,25.4673,128.734,7092,5352.0,5252,1.6961,34.6823,2,34.6826,2,155.19,2,140.53,2,35.70,2,0.00,2,2.49,2,-999.,9,-999.,9,-999.,9,-999,9,-999,9
49UP20171125,RF17-10,6125,1,3,25812,2,20171210,2127,25.4673,128.734,7092,5608.3,5500,1.7291,34.6824,2,34.6811,2,155.25,2,140.45,2,35.70,2,0.00,2,2.48,2,-999.,9,-999.,9,-999.,9,-999,9,-999,9
49UP20171125,RF17-10,6125,1,2,25811,2,20171210,2122,25.4673,128.734,7092,5866.8,5750,1.7638,34.6822,2,34.6828,2,155.36,2,140.35,2,35.68,2,0.00,2,2.48,2,-999.,9,-999.,9,-999.,9,-999,9,-999,9
49UP20171125,RF17-10,6125,1,1,25810,2,20171210,2117,25.4673,128.734,7092,6124.2,5999,1.7989,34.6823,2,34.6817,6,155.23,2,140.36,2,35.67,2,0.00,2,2.48,2,-999.,9,-999.,9,-999.,9,-999,9,-999,9
49UP20171125,RF17-10,6126,1,-999,0,2,20171211,0605,25.8938,128.1667,2175,0.0,0,24.9337,34.5505,2,-999.0000,9,206.85,2,-999.,9,-999.,9,-999.,9,-999.,9,-999.,9,-999.,9,-999.,9,-999,9,-999,9
49UP20171125,RF17-10,6126,1,36,25845,2,20171211,0638,25.8938,128.1667,2175,10.5,10,24.9480,34.5499,2,34.5485,2,206.60,2,-999.,9,-999.,9,-999.,9,-999.,9,-999.,9,-999.,9,-999.,9,-999,9,-999,9
49UP20171125,RF17-10,6126,1,35,25844,2,20171211,0636,25.8938,128.1667,2175,25.9,26,24.9519,34.5512,2,-999.0000,9,206.87,2,-999.,9,-999.,9,-999.,9,-999.,9,-999.,9,-999.,9,-999.,9,-999,9,-999,9
49UP20171125,RF17-10,6126,1,34,25843,2,20171211,0633,25.8938,128.1667,2175,51.3,51,24.7466,34.6616,2,34.6397,4,207.05,2,-999.,9,-999.,9,-999.,9,-999.,9,-999.,9,-999.,9,-999.,9,-999,9,-999,9
49UP20171125,RF17-10,6126,1,33,25842,2,20171211,0631,25.8938,128.1667,2175,76.9,76,24.6485,34.7385,2,-999.0000,9,208.04,2,-999.,9,-999.,9,-999.,9,-999.,9,-999.,9,-999.,9,-999.,9,-999,9,-999,9
49UP20171125,RF17-10,6126,1,32,25841,2,20171211,0630,25.8938,128.1667,2175,102.2,102,24.1714,35.0572,2,35.0545,2,194.18,2,-999.,9,-999.,9,-999.,9,-999.,9,-999.,9,-999.,9,-999.,9,-999,9,-999,9
49UP20171125,RF17-10,6126,1,31,25840,2,20171211,0628,25.8938,128.1667,2175,128.8,128,22.5971,35.0285,2,-999.0000,9,190.24,2,-999.,9,-999.,9,-999.,9,-999.,9,-999.,9,-999.,9,-999.,9,-999,9,-999,9
49UP20171125,RF17-10,6126,1,26,25835,2,20171211,0626,25.8938,128.1667,2175,156.1,155,21.6540,35.0146,2,35.0158,2,188.89,2,-999.,9,-999.,9,-999.,9,-999.,9,-999.,9,-999.,9,-999.,9,-999,9,-999,9
49UP20171125,RF17-10,6126,1,27,25836,2,20171211,0626,25.8938,128.1667,2175,156.8,156,21.6303,35.0131,2,35.0155,2,188.88,2,-999.,9,-999.,9,-999.,9,-999.,9,-999.,9,-999.,9,-999.,9,-999,9,-999,9
49UP20171125,RF17-10,6126,1,25,25834,2,20171211,0624,25.8938,128.1667,2175,208.1,207,19.5555,34.9051,2,34.9119,4,189.17,2,-999.,9,-999.,9,-999.,9,-999.,9,-999.,9,-999.,9,-999.,9,-999,9,-999,9
49UP20171125,RF17-10,6126,1,24,25833,2,20171211,0622,25.8938,128.1667,2175,257.2,255,18.1224,34.8261,2,-999.0000,9,194.64,2,-999.,9,-999.,9,-999.,9,-999.,9,-999.,9,-999.,9,-999.,9,-999,9,-999,9
49UP20171125,RF17-10,6126,1,23,25832,2,20171211,0620,25.8938,128.1667,2175,309.4,307,17.1414,34.7447,2,-999.0000,9,199.28,2,-999.,9,-999.,9,-999.,9,-999.,9,-999.,9,-999.,9,-999.,9,-999,9,-999,9
49UP20171125,RF17-10,6126,1,22,25831,2,20171211,0616,25.8938,128.1667,2175,408.0,405,14.2341,34.4955,2,34.4980,2,184.24,6,-999.,9,-999.,9,-999.,9,-999.,9,-999.,9,-999.,9,-999.,9,-999,9,-999,9
49UP20171125,RF17-10,6126,1,18,25827,2,20171211,0613,25.8938,128.1667,2175,508.1,504,11.4773,34.3346,2,-999.0000,9,158.16,2,-999.,9,-999.,9,-999.,9,-999.,9,-999.,9,-999.,9,-999.,9,-999,9,-999,9
49UP20171125,RF17-10,6126,1,17,25826,3,20171211,0610,25.8938,128.1667,2175,606.5,602,8.3893,34.2003,2,34.2034,2,129.43,2,-999.,9,-999.,9,-999.,9,-999.,9,-999.,9,-999.,9,-999.,9,-999,9,-999,9
49UP20171125,RF17-10,6126,1,16,25825,4,20171211,0606,25.8938,128.1667,2175,707.1,701,6.3824,34.1835,2,-999.0000,9,-999.00,9,-999.,9,-999.,9,-999.,9,-999.,9,-999.,9,-999.,9,-999.,9,-999,9,-999,9
49UP20171125,RF17-10,6126,1,15,25824,2,20171211,0603,25.8938,128.1667,2175,805.5,799,5.3421,34.2454,2,34.2456,2,76.84,2,-999.,9,-999.,9,-999.,9,-999.,9,-999.,9,-999.,9,-999.,9,-999,9,-999,9
49UP20171125,RF17-10,6126,1,14,25823,2,20171211,0601,25.8938,128.1667,2175,906.2,898,4.5712,34.3010,2,-999.0000,9,66.47,2,-999.,9,-999.,9,-999.,9,-999.,9,-999.,9,-999.,9,-999.,9,-999,9,-999,9
49UP20171125,RF17-10,6126,1,13,25822,2,20171211,0558,25.8938,128.1667,2175,1010.4,1001,4.0749,34.4110,2,34.4102,2,69.80,2,-999.,9,-999.,9,-999.,9,-999.,9,-999.,9,-999.,9,-999.,9,-999,9,-999,9
49UP20171125,RF17-10,6126,1,9,25818,2,20171211,0554,25.8938,128.1667,2175,1209.0,1198,3.3037,34.4868,2,34.4865,2,77.00,2,-999.,9,-999.,9,-999.,9,-999.,9,-999.,9,-999.,9,-999.,9,-999,9,-999,9
49UP20171125,RF17-10,6126,1,8,25817,2,20171211,0554,25.8938,128.1667,2175,1210.1,1199,3.2949,34.4873,2,34.4874,2,77.92,3,-999.,9,-999.,9,-999.,9,-999.,9,-999.,9,-999.,9,-999.,9,-999,9,-999,9
49UP20171125,RF17-10,6126,1,7,25816,2,20171211,0548,25.8938,128.1667,2175,1412.2,1398,2.7479,34.5350,2,34.5350,2,85.63,2,-999.,9,-999.,9,-999.,9,-999.,9,-999.,9,-999.,9,-999.,9,-999,9,-999,9
49UP20171125,RF17-10,6126,1,6,25815,2,20171211,0544,25.8938,128.1667,2175,1618.4,1602,2.3796,34.5597,2,34.5604,2,92.22,2,-999.,9,-999.,9,-999.,9,-999.,9,-999.,9,-999.,9,-999.,9,-999,9,-999,9
49UP20171125,RF17-10,6126,1,5,25814,2,20171211,0539,25.8938,128.1667,2175,1820.2,1801,2.1411,34.5913,2,34.5918,2,105.08,2,-999.,9,-999.,9,-999.,9,-999.,9,-999.,9,-999.,9,-999.,9,-999,9,-999,9
49UP20171125,RF17-10,6126,1,4,25813,2,20171211,0534,25.8938,128.1667,2175,2025.1,2002,1.9483,34.6170,2,34.6178,2,116.34,6,-999.,9,-999.,9,-999.,9,-999.,9,-999.,9,-999.,9,-999.,9,-999,9,-999,9
49UP20171125,RF17-10,6127,1,-999,0,2,20171211,1110,26.06,127.9058,494,0.0,0,24.5214,34.6085,2,-999.,9,208.62,2,1.36,2,0.04,2,0.01,2,0.03,2,-999.,9,-999.,9,-999.,9,-999,9,-999,9
49UP20171125,RF17-10,6127,1,36,25845,3,20171211,1135,26.06,127.9058,494,12.0,12,24.5394,34.6075,2,-999.,9,207.74,2,1.32,2,0.02,2,0.00,2,0.01,2,-999.,9,-999.,9,-999.,9,-999,9,-999,9
49UP20171125,RF17-10,6127,1,35,25844,2,20171211,1134,26.06,127.9058,494,26.6,26,24.3069,34.6875,2,-999.,9,208.00,2,1.35,2,0.02,2,0.01,2,0.01,2,-999.,9,-999.,9,-999.,9,-999,9,-999,9
49UP20171125,RF17-10,6127,1,34,25843,2,20171211,1130,26.06,127.9058,494,50.7,50,24.2795,34.7692,2,-999.,9,206.09,2,1.42,2,0.10,2,0.04,2,0.02,2,-999.,9,-999.,9,-999.,9,-999,9,-999,9
49UP20171125,RF17-10,6127,1,27,25836,2,20171211,1129,26.06,127.9058,494,76.3,76,24.0928,34.7942,2,-999.,9,202.84,2,1.56,2,0.38,2,0.09,2,0.04,2,-999.,9,-999.,9,-999.,9,-999,9,-999,9
49UP20171125,RF17-10,6127,1,26,25835,2,20171211,1128,26.06,127.9058,494,102.9,102,24.0529,35.0286,2,-999.,9,194.90,2,1.54,2,0.63,2,0.08,2,0.08,2,-999.,9,-999.,9,-999.,9,-999,9,-999,9
49UP20171125,RF17-10,6127,1,25,25834,2,20171211,1127,26.06,127.9058,494,126.8,126,23.1509,35.0161,2,-999.,9,192.68,2,1.91,2,1.27,2,0.05,2,0.12,2,-999.,9,-999.,9,-999.,9,-999,9,-999,9
49UP20171125,RF17-10,6127,1,21,25830,2,20171211,1125,26.06,127.9058,494,153.8,153,20.9593,34.9521,2,-999.,9,190.70,2,2.90,2,2.67,2,0.02,2,0.21,2,-999.,9,-999.,9,-999.,9,-999,9,-999,9
49UP20171125,RF17-10,6127,1,20,25829,2,20171211,1123,26.06,127.9058,494,203.8,202,19.4094,34.9288,2,-999.,9,198.71,2,2.63,2,2.66,2,0.01,2,0.19,2,-999.,9,-999.,9,-999.,9,-999,9,-999,9
49UP20171125,RF17-10,6127,1,15,25824,2,20171211,1121,26.06,127.9058,494,253.4,252,18.1262,34.8177,2,-999.,9,188.27,2,4.65,2,5.20,2,0.01,2,0.37,2,-999.,9,-999.,9,-999.,9,-999,9,-999,9
49UP20171125,RF17-10,6127,1,13,25822,2,20171211,1119,26.06,127.9058,494,303.6,301,16.7335,34.7034,2,-999.,9,188.90,2,6.41,2,6.96,2,0.00,2,0.49,2,-999.,9,-999.,9,-999.,9,-999,9,-999,9
49UP20171125,RF17-10,6127,1,14,25823,2,20171211,1119,26.06,127.9058,494,304.1,302,16.7406,34.7040,2,-999.,9,189.27,2,6.40,2,6.94,2,0.00,2,0.48,2,-999.,9,-999.,9,-999.,9,-999,9,-999,9
49UP20171125,RF17-10,6127,1,6,25815,2,20171211,1117,26.06,127.9058,494,406.6,404,13.3105,34.4456,2,-999.,9,169.62,2,16.90,2,14.10,2,0.00,2,1.00,2,-999.,9,-999.,9,-999.,9,-999,9,-999,9
49UP20171125,RF17-10,6127,1,4,25813,2,20171211,1114,26.06,127.9058,494,474.7,471,11.4021,34.3349,2,-999.,9,158.17,6,25.61,6,18.37,6,0.00,6,1.31,6,-999.,9,-999.,9,-999.,9,-999,9,-999,9