BOTTLE,20180401JMAGEMD
EXPOCODE,SECT_ID,STNNBR,CASTNO,SAMPNO,BTLNBR,BTLNBR_FLAG_W,DATE,TIME,LATITUDE,LONGITUDE,DEPTH,CTDPRS,CTDDEP,CTDTMP,CTDSAL,CTDSAL_FLAG_W,SALNTY,SALNTY_FLAG_W,OXYGEN,OXYGEN_FLAG_W,SILCAT,SILCAT_FLAG_W,NO2+NO3,NO2+NO3_FLAG_W,NITRIT,NITRIT_FLAG_W,PHSPHT,PHSPHT_FLAG_W,TCARBN,TCARBN_FLAG_W,ALKALI,ALKALI_FLAG_W,PH_TOT,PH_TOT_FLAG_W,CFC-11,CFC-11_FLAG_W,CFC-12,CFC-12_FLAG_W
,,,,,,,UTC,UTC,,,METER,DBAR,METERS,ITS-90,PSS-78,,PSS-78,,UMOL/KG,,UMOL/KG,,UMOL/KG,,UMOL/KG,,UMOL/KG,,UMOL/KG,,UMOL/KG,,@25DEG-C,,PMOL/KG,,PMOL/KG,
49UP20171125,RF17-10,6100,1,-999,0,2,20171201,0735,24.2188,160.0485,5480,0.0,0,26.7172,35.1547,2,35.1490,2,202.02,2,1.13,2,0.08,2,0.00,2,0.06,2,1972.9,2,2306.7,2,8.1131,2,-999,9,-999,9
49UP20171125,RF17-10,6100,1,36,25845,2,20171201,0802,24.2188,160.0485,5480,10.9,11,26.7178,35.1568,2,35.1547,2,202.61,2,1.03,2,0.02,2,0.00,2,0.01,2,1976.2,2,2310.1,2,8.1129,2,-999,9,-999,9
49UP20171125,RF17-10,6100,1,35,25844,3,20171201,0801,24.2188,160.0485,5480,25.2,25,26.6927,35.1526,2,35.1516,2,203.30,2,1.03,2,0.02,2,0.00,2,0.01,2,1976.0,2,2310.2,2,8.1134,2,-999,9,-999,9
49UP20171125,RF17-10,6100,1,34,25843,2,20171201,0800,24.2188,160.0485,5480,51.4,51,26.3759,35.1821,2,35.1815,2,204.80,2,1.03,2,0.02,2,0.00,2,0.01,2,1980.9,2,2312.2,2,8.1089,2,-999,9,-999,9
49UP20171125,RF17-10,6100,1,33,25842,2,20171201,0759,24.2188,160.0485,5480,77.3,77,26.1690,35.2007,2,35.2026,2,205.50,2,1.12,2,0.02,2,0.00,2,0.01,2,1981.6,2,2314.6,2,8.1081,2,-999,9,-999,9
49UP20171125,RF17-10,6100,1,32,25841,2,20171201,0755,24.2188,160.0485,5480,101.0,100,23.0123,35.1894,2,35.1897,2,214.78,2,1.46,2,0.02,2,0.00,2,0.02,2,2012.1,2,2312.6,2,8.0517,2,-999,9,-999,9
49UP20171125,RF17-10,6100,1,31,25840,2,20171201,0754,24.2188,160.0485,5480,126.8,126,21.4070,35.1301,2,35.1360,2,209.50,2,1.70,2,0.05,2,0.02,2,0.04,2,2022.6,2,2308.6,2,8.0252,2,-999,9,-999,9
49UP20171125,RF17-10,6100,1,30,25839,2,20171201,0752,24.2188,160.0485,5480,152.3,151,20.1895,35.0467,2,-999.0000,9,205.13,2,2.02,2,0.56,2,0.08,2,0.09,2,2032.0,2,2302.3,2,7.9993,2,-999,9,-999,9
49UP20171125,RF17-10,6100,1,29,25838,2,20171201,0750,24.2188,160.0485,5480,202.8,201,17.7518,34.8210,2,34.8220,2,207.20,6,3.28,6,3.40,6,0.01,6,0.25,6,2042.3,2,2286.9,2,7.9609,2,-999,9,-999,9
49UP20171125,RF17-10,6100,1,28,25837,2,20171201,0748,24.2188,160.0485,5480,254.9,253,16.6540,34.7249,2,-999.0000,9,203.66,2,4.61,2,5.32,2,0.00,2,0.37,2,2053.3,2,2279.9,2,7.9319,2,-999,9,-999,9
49UP20171125,RF17-10,6100,1,27,25836,3,20171201,0746,24.2188,160.0485,5480,303.7,302,15.8209,34.6394,2,34.6431,2,204.01,2,6.16,2,6.74,2,0.00,2,0.46,2,2058.7,2,2277.2,2,7.9124,2,-999,9,-999,9
49UP20171125,RF17-10,6100,1,26,25835,2,20171201,0743,24.2188,160.0485,5480,405.7,403,13.1328,34.3964,2,34.3956,2,195.70,2,12.46,2,11.68,2,0.00,2,0.81,2,2088.2,2,2269.6,2,7.8324,2,-999,9,-999,9
49UP20171125,RF17-10,6100,1,25,25834,2,20171201,0740,24.2188,160.0485,5480,505.5,502,9.5133,34.1608,2,34.1614,2,165.52,2,29.20,2,20.91,2,0.00,2,1.48,2,2154.5,2,2271.6,2,7.6821,2,-999,9,-999,9
49UP20171125,RF17-10,6100,1,24,25833,2,20171201,0736,24.2188,160.0485,5480,607.0,602,7.3027,34.0766,2,34.0780,2,132.78,2,48.62,2,28.03,2,0.00,2,2.00,2,2209.3,6,2284.6,6,7.5704,2,-999,9,-999,9
49UP20171125,RF17-10,6100,1,23,25832,2,20171201,0732,24.2188,160.0485,5480,708.5,703,5.8986,34.1007,2,34.0999,2,90.95,2,68.48,2,34.29,2,0.00,2,2.46,2,2259.0,2,2301.9,2,7.4674,6,-999,9,-999,9
49UP20171125,RF17-10,6100,1,22,25831,2,20171201,0729,24.2188,160.0485,5480,810.4,804,4.7879,34.1864,2,34.1841,6,57.70,2,90.80,2,38.98,2,0.00,2,2.80,2,2304.2,2,2325.3,2,7.3945,2,-999,9,-999,9
49UP20171125,RF17-10,6100,1,21,25830,2,20171201,0725,24.2188,160.0485,5480,909.5,902,4.2046,34.2834,2,34.2830,2,42.61,2,106.27,2,41.16,2,0.00,2,2.96,2,2332.5,2,2346.1,2,7.3711,2,-999,9,-999,9
49UP20171125,RF17-10,6100,1,20,25829,2,20171201,0722,24.2188,160.0485,5480,1009.9,1001,3.7909,34.3712,2,34.3702,2,42.68,6,116.36,6,41.70,6,0.00,6,2.99,6,2343.0,2,2362.3,2,7.3793,2,-999,9,-999,9
49UP20171125,RF17-10,6100,1,19,25828,2,20171201,0716,24.2188,160.0485,5480,1210.7,1199,3.2236,34.4676,2,34.4677,2,54.73,2,129.10,2,41.39,2,0.00,2,2.95,2,2351.6,2,2380.8,2,7.4081,2,-999,9,-999,9
49UP20171125,RF17-10,6100,1,18,25827,2,20171201,0711,24.2188,160.0485,5480,1414.8,1401,2.7254,34.5219,2,34.5216,2,65.11,2,139.72,2,41.07,2,0.00,2,2.91,2,2355.1,2,2395.2,2,7.4294,2,-999,9,-999,9
49UP20171125,RF17-10,6100,1,17,25826,3,20171201,0707,24.2188,160.0485,5480,1616.5,1600,2.3677,34.5676,2,34.5679,2,81.31,2,144.25,2,40.19,2,0.00,2,2.84,2,2352.1,2,2402.0,2,7.4604,2,-999,9,-999,9
49UP20171125,RF17-10,6100,1,16,25825,2,20171201,0701,24.2188,160.0485,5480,1819.3,1800,2.1461,34.5933,2,34.5931,2,92.10,2,147.11,2,39.64,2,0.00,2,2.79,2,2354.7,6,2408.4,6,7.4814,2,-999,9,-999,9
49UP20171125,RF17-10,6100,1,15,25824,4,20171201,0656,24.2188,160.0485,5480,2024.1,2002,1.9799,34.6134,2,34.6255,4,99.89,4,100.60,4,29.81,4,0.00,4,2.08,4,2299.3,4,2381.4,4,7.5887,4,-999,9,-999,9
49UP20171125,RF17-10,6100,1,14,25823,2,20171201,0651,24.2188,160.0485,5480,2277.6,2251,1.8128,34.6333,2,34.6337,2,111.76,2,150.30,2,38.54,2,0.00,2,2.70,2,2346.6,2,2416.4,2,7.5217,2,-999,9,-999,9
49UP20171125,RF17-10,6100,1,13,25822,2,20171201,0646,24.2188,160.0485,5480,2530.3,2499,1.7165,34.6460,2,34.6452,2,119.22,2,150.76,2,38.12,2,0.00,2,2.66,2,2343.0,2,2415.0,2,7.5316,2,-999,9,-999,9
49UP20171125,RF17-10,6100,1,12,25821,2,20171201,0640,24.2188,160.0485,5480,2784.0,2748,1.6283,34.6575,2,34.6569,2,127.56,2,150.36,2,37.59,2,0.00,2,2.62,2,2346.0,2,2415.9,2,7.5463,2,-999,9,-999,9
49UP20171125,RF17-10,6100,1,11,25820,2,20171201,0635,24.2188,160.0485,5480,3040.9,3000,1.5701,34.6652,2,34.6637,2,133.31,6,149.81,6,37.24,6,0.00,6,2.59,6,2337.3,2,2415.4,2,7.5539,2,-999,9,-999,9
49UP20171125,RF17-10,6100,1,10,25819,2,20171201,0630,24.2188,160.0485,5480,3298.3,3252,1.5320,34.6711,2,34.6709,2,139.68,2,149.22,2,36.83,2,0.00,2,2.56,2,2332.5,2,2416.1,2,7.5651,2,-999,9,-999,9
49UP20171125,RF17-10,6100,1,9,25818,2,20171201,0624,24.2188,160.0485,5480,3553.6,3502,1.5018,34.6762,2,34.6751,2,144.42,2,147.82,2,36.52,2,0.00,2,2.53,2,2329.4,2,2415.5,2,7.5753,2,-999,9,-999,9
49UP20171125,RF17-10,6100,1,8,25817,2,20171201,0619,24.2188,160.0485,5480,3809.3,3751,1.4918,34.6794,2,34.6790,2,148.47,2,146.96,2,36.24,2,0.00,2,2.51,2,2326.6,6,2416.6,6,7.5782,2,-999,9,-999,9
49UP20171125,RF17-10,6100,1,7,25816,2,20171201,0613,24.2188,160.0485,5480,4064.7,4000,1.4858,34.6823,2,34.6801,4,151.04,2,145.71,2,36.10,2,0.00,2,2.50,2,2325.3,2,2413.7,2,7.5838,6,-999,9,-999,9
49UP20171125,RF17-10,6100,1,6,25815,2,20171201,0608,24.2188,160.0485,5480,4318.4,4248,1.4785,34.6853,2,34.6865,2,156.46,2,143.93,2,35.71,2,0.00,2,2.47,2,2322.8,2,2410.5,2,7.5917,2,-999,9,-999,9
49UP20171125,RF17-10,6100,1,5,25814,3,20171201,0602,24.2188,160.0485,5480,4574.7,4497,1.4754,34.6884,2,34.6889,2,160.45,2,141.90,2,35.39,2,0.00,2,2.45,2,2314.5,2,2411.7,2,7.5973,2,-999,9,-999,9
49UP20171125,RF17-10,6100,1,4,25813,2,20171201,0556,24.2188,160.0485,5480,4835.2,4751,1.4799,34.6907,2,34.6914,2,164.87,2,139.76,2,35.14,2,0.00,2,2.43,2,2317.2,2,2409.6,2,7.6005,2,-999,9,-999,9
49UP20171125,RF17-10,6100,1,3,25812,2,20171201,0551,24.2188,160.0485,5480,5094.0,5002,1.4931,34.6925,2,34.6927,6,168.34,3,137.82,2,34.94,2,0.00,2,2.41,2,2309.3,2,2406.9,2,7.6049,2,-999,9,-999,9
49UP20171125,RF17-10,6100,1,2,25811,2,20171201,0545,24.2188,160.0485,5480,5350.7,5251,1.5155,34.6934,2,34.6937,2,169.52,6,136.52,6,34.79,6,0.00,6,2.40,6,2309.7,2,2407.8,2,7.6087,2,-999,9,-999,9
49UP20171125,RF17-10,6100,1,1,25810,2,20171201,0539,24.2188,160.0485,5480,5604.0,5497,1.5414,34.6941,2,34.6951,2,170.43,2,135.55,2,34.67,2,0.00,2,2.40,2,2308.5,2,2403.0,2,7.6075,2,-999,9,-999,9
49UP20171125,RF17-10,6101,1,-999,0,2,20171201,1730,24.2407,158.4445,5782,0.0,0,26.9529,34.9861,2,-999.,9,202.25,2,1.03,2,0.04,2,0.00,2,0.03,2,-999.,9,-999.,9,-999.,9,-999,9,-999,9
49UP20171125,RF17-10,6101,1,33,25842,2,20171201,1809,24.2407,158.4445,5782,11.5,11,26.9588,34.9853,2,-999.,9,202.27,2,1.04,2,0.04,2,0.00,2,0.00,2,-999.,9,-999.,9,-999.,9,-999,9,-999,9
49UP20171125,RF17-10,6101,1,32,25841,2,20171201,1807,24.2407,158.4445,5782,25.9,26,26.9649,34.9901,2,-999.,9,202.84,2,0.99,2,0.02,2,0.00,2,0.00,2,-999.,9,-999.,9,-999.,9,-999,9,-999,9
49UP20171125,RF17-10,6101,1,31,25840,2,20171201,1802,24.2407,158.4445,5782,49.6,49,26.5040,35.2570,2,-999.,9,204.05,2,1.08,2,0.02,2,0.00,2,0.00,2,-999.,9,-999.,9,-999.,9,-999,9,-999,9
49UP20171125,RF17-10,6101,1,30,25839,2,20171201,1801,24.2407,158.4445,5782,77.6,77,24.5265,35.2254,2,-999.,9,217.41,2,1.30,2,0.03,2,0.00,2,0.00,2,-999.,9,-999.,9,-999.,9,-999,9,-999,9
49UP20171125,RF17-10,6101,1,29,25838,2,20171201,1759,24.2407,158.4445,5782,102.9,102,22.7131,35.2058,2,-999.,9,210.24,2,1.52,2,0.02,2,0.00,2,0.01,2,-999.,9,-999.,9,-999.,9,-999,9,-999,9
49UP20171125,RF17-10,6101,1,28,25837,2,20171201,1758,24.2407,158.4445,5782,129.6,129,21.3158,35.1334,2,-999.,9,212.11,2,1.76,2,0.06,2,0.03,2,0.01,2,-999.,9,-999.,9,-999.,9,-999,9,-999,9
49UP20171125,RF17-10,6101,1,24,25833,2,20171201,1756,24.2407,158.4445,5782,154.7,154,19.9616,35.0284,2,-999.,9,206.50,2,2.13,2,0.67,2,0.07,2,0.07,2,-999.,9,-999.,9,-999.,9,-999,9,-999,9
49UP20171125,RF17-10,6101,1,23,25832,2,20171201,1755,24.2407,158.4445,5782,203.2,202,18.2529,34.8685,2,-999.,9,207.90,6,2.81,6,2.56,6,0.01,6,0.24,6,-999.,9,-999.,9,-999.,9,-999,9,-999,9
49UP20171125,RF17-10,6101,1,22,25831,2,20171201,1753,24.2407,158.4445,5782,253.2,251,17.1527,34.7701,2,-999.,9,211.22,2,3.79,2,4.16,2,0.01,2,0.32,2,-999.,9,-999.,9,-999.,9,-999,9,-999,9
49UP20171125,RF17-10,6101,1,21,25830,2,20171201,1752,24.2407,158.4445,5782,253.7,252,17.1457,34.7696,2,-999.,9,212.40,4,3.77,2,4.12,2,0.01,2,0.31,2,-999.,9,-999.,9,-999.,9,-999,9,-999,9
49UP20171125,RF17-10,6101,1,20,25829,2,20171201,1751,24.2407,158.4445,5782,304.1,302,16.5287,34.7334,2,-999.,9,213.78,2,4.75,2,4.94,2,0.01,2,0.37,2,-999.,9,-999.,9,-999.,9,-999,9,-999,9
49UP20171125,RF17-10,6101,1,19,25828,2,20171201,1748,24.2407,158.4445,5782,405.6,403,14.2988,34.4929,2,-999.,9,202.26,2,9.16,2,9.09,2,0.00,2,0.66,2,-999.,9,-999.,9,-999.,9,-999,9,-999,9
49UP20171125,RF17-10,6101,1,15,25824,3,20171201,1745,24.2407,158.4445,5782,507.1,503,11.0963,34.2398,2,-999.,9,191.47,2,18.18,2,14.94,2,0.00,2,1.08,2,-999.,9,-999.,9,-999.,9,-999,9,-999,9
49UP20171125,RF17-10,6101,1,14,25823,2,20171201,1742,24.2407,158.4445,5782,605.7,601,8.6451,34.1173,2,-999.,9,150.42,2,35.35,2,23.89,2,0.00,2,1.73,2,-999.,9,-999.,9,-999.,9,-999,9,-999,9
49UP20171125,RF17-10,6101,1,13,25822,2,20171201,1737,24.2407,158.4445,5782,707.9,702,6.4649,34.0835,2,-999.,9,105.70,2,60.32,2,32.08,2,0.00,2,2.33,2,-999.,9,-999.,9,-999.,9,-999,9,-999,9
49UP20171125,RF17-10,6101,1,12,25821,2,20171201,1729,24.2407,158.4445,5782,810.3,804,5.2779,34.1638,2,-999.,9,64.64,2,81.58,2,37.71,2,0.00,2,2.74,2,-999.,9,-999.,9,-999.,9,-999,9,-999,9
49UP20171125,RF17-10,6101,1,11,25820,2,20171201,1726,24.2407,158.4445,5782,905.7,898,4.5715,34.2386,2,-999.,9,47.93,2,97.52,2,40.29,2,0.00,2,2.91,2,-999.,9,-999.,9,-999.,9,-999,9,-999,9
49UP20171125,RF17-10,6101,1,10,25819,2,20171201,1724,24.2407,158.4445,5782,1004.0,995,4.1034,34.3398,2,-999.,9,44.30,2,109.30,2,41.32,2,0.00,2,2.99,2,-999.,9,-999.,9,-999.,9,-999,9,-999,9
49UP20171125,RF17-10,6101,1,6,25815,2,20171201,1720,24.2407,158.4445,5782,1209.6,1198,3.4492,34.4457,2,-999.,9,52.11,2,124.51,2,41.48,2,0.00,2,2.98,2,-999.,9,-999.,9,-999.,9,-999,9,-999,9
49UP20171125,RF17-10,6101,1,5,25814,2,20171201,1714,24.2407,158.4445,5782,1415.4,1402,2.9402,34.5110,2,-999.,9,65.69,6,134.39,6,40.99,6,0.00,6,2.93,6,-999.,9,-999.,9,-999.,9,-999,9,-999,9
49UP20171125,RF17-10,6101,1,4,25813,2,20171201,1710,24.2407,158.4445,5782,1615.9,1599,2.5463,34.5571,2,-999.,9,80.88,2,140.58,2,40.24,2,0.00,2,2.86,2,-999.,9,-999.,9,-999.,9,-999,9,-999,9
49UP20171125,RF17-10,6101,1,3,25812,2,20171201,1709,24.2407,158.4445,5782,1618.3,1602,2.5448,34.5572,2,-999.,9,80.23,2,140.42,2,40.23,2,0.00,2,2.86,2,-999.,9,-999.,9,-999.,9,-999,9,-999,9
49UP20171125,RF17-10,6101,1,2,25811,2,20171201,1705,24.2407,158.4445,5782,1822.1,1803,2.1743,34.5927,2,-999.,9,93.83,2,146.28,2,39.63,2,0.00,2,2.80,2,-999.,9,-999.,9,-999.,9,-999,9,-999,9
49UP20171125,RF17-10,6101,1,1,25810,2,20171201,1658,24.2407,158.4445,5782,2023.9,2001,2.0005,34.6105,2,-999.,9,101.34,2,148.61,2,39.21,2,0.00,2,2.75,2,-999.,9,-999.,9,-999.,9,-999,9,-999,9
49UP20171125,RF17-10,6102,1,-999,0,2,20171202,0200,24.2542,156.8308,5653,0.0,0,27.3441,34.9928,2,-999.,9,201.05,2,0.94,2,0.04,2,0.00,2,0.04,2,-999.,9,-999.,9,-999.,9,-999,9,-999,9
49UP20171125,RF17-10,6102,1,33,25842,2,20171202,0233,24.2542,156.8308,5653,11.1,11,27.3589,34.9906,2,-999.,9,200.60,2,0.90,2,0.03,2,0.00,2,0.00,2,-999.,9,-999.,9,-999.,9,-999,9,-999,9
49UP20171125,RF17-10,6102,1,32,25841,2,20171202,0231,24.2542,156.8308,5653,25.2,25,27.3096,34.9922,2,-999.,9,200.80,2,0.90,2,0.02,2,0.00,2,0.01,2,-999.,9,-999.,9,-999.,9,-999,9,-999,9
49UP20171125,RF17-10,6102,1,31,25840,2,20171202,0228,24.2542,156.8308,5653,51.4,51,27.3230,35.0075,2,-999.,9,201.01,2,0.91,2,0.05,2,0.00,2,0.01,2,-999.,9,-999.,9,-999.,9,-999,9,-999,9
49UP20171125,RF17-10,6102,1,30,25839,2,20171202,0226,24.2542,156.8308,5653,76.8,76,25.0752,35.2543,2,-999.,9,221.54,2,1.22,2,0.02,2,0.00,2,0.01,2,-999.,9,-999.,9,-999.,9,-999,9,-999,9
49UP20171125,RF17-10,6102,1,29,25838,2,20171202,0225,24.2542,156.8308,5653,102.8,102,22.7649,35.2037,2,-999.,9,215.43,2,1.48,2,0.02,2,0.00,2,0.02,2,-999.,9,-999.,9,-999.,9,-999,9,-999,9
49UP20171125,RF17-10,6102,1,28,25837,2,20171202,0223,24.2542,156.8308,5653,127.2,126,21.0017,35.1160,2,-999.,9,207.12,2,1.79,2,0.24,2,0.11,2,0.06,2,-999.,9,-999.,9,-999.,9,-999,9,-999,9
49UP20171125,RF17-10,6102,1,24,25833,2,20171202,0222,24.2542,156.8308,5653,152.1,151,19.8808,35.0251,2,-999.,9,201.51,6,2.30,6,1.26,6,0.04,6,0.14,6,-999.,9,-999.,9,-999.,9,-999,9,-999,9
49UP20171125,RF17-10,6102,1,23,25832,2,20171202,0220,24.2542,156.8308,5653,202.5,201,17.8590,34.8297,2,-999.,9,203.09,2,3.38,2,3.64,2,0.01,2,0.27,2,-999.,9,-999.,9,-999.,9,-999,9,-999,9
49UP20171125,RF17-10,6102,1,22,25831,2,20171202,0220,24.2542,156.8308,5653,202.9,202,17.8504,34.8283,2,-999.,9,203.20,2,3.50,2,3.72,2,0.01,2,0.28,2,-999.,9,-999.,9,-999.,9,-999,9,-999,9
49UP20171125,RF17-10,6102,1,21,25830,2,20171202,0218,24.2542,156.8308,5653,254.3,253,16.8019,34.7647,2,-999.,9,217.99,2,4.05,2,4.34,2,0.01,2,0.29,2,-999.,9,-999.,9,-999.,9,-999,9,-999,9
49UP20171125,RF17-10,6102,1,20,25829,2,20171202,0217,24.2542,156.8308,5653,303.7,302,16.0392,34.6699,2,-999.,9,208.49,2,5.58,2,6.03,2,0.00,2,0.41,2,-999.,9,-999.,9,-999.,9,-999,9,-999,9
49UP20171125,RF17-10,6102,1,19,25828,2,20171202,0213,24.2542,156.8308,5653,403.3,400,13.1540,34.4002,2,-999.,9,200.78,2,12.24,2,11.23,2,0.00,2,0.78,2,-999.,9,-999.,9,-999.,9,-999,9,-999,9
49UP20171125,RF17-10,6102,1,15,25824,2,20171202,0210,24.2542,156.8308,5653,505.0,501,10.0072,34.1737,2,-999.,9,182.30,2,24.68,2,18.55,2,0.00,2,1.31,2,-999.,9,-999.,9,-999.,9,-999,9,-999,9
49UP20171125,RF17-10,6102,1,14,25823,2,20171202,0207,24.2542,156.8308,5653,605.0,600,7.3504,34.0626,2,-999.,9,138.26,2,47.50,2,27.63,2,0.00,2,1.97,2,-999.,9,-999.,9,-999.,9,-999,9,-999,9
49UP20171125,RF17-10,6102,1,13,25822,2,20171202,0204,24.2542,156.8308,5653,704.9,699,5.9584,34.1121,2,-999.,9,85.55,2,68.71,2,34.80,2,0.00,2,2.51,2,-999.,9,-999.,9,-999.,9,-999,9,-999,9
49UP20171125,RF17-10,6102,1,12,25821,2,20171202,0200,24.2542,156.8308,5653,807.5,801,4.8763,34.2061,2,-999.,9,53.61,2,90.44,2,39.41,2,0.00,2,2.83,2,-999.,9,-999.,9,-999.,9,-999,9,-999,9
49UP20171125,RF17-10,6102,1,11,25820,2,20171202,0157,24.2542,156.8308,5653,908.2,900,4.3633,34.2942,2,-999.,9,45.34,2,102.75,2,40.95,2,0.00,2,2.94,2,-999.,9,-999.,9,-999.,9,-999,9,-999,9
49UP20171125,RF17-10,6102,1,10,25819,2,20171202,0154,24.2542,156.8308,5653,1010.5,1002,3.9287,34.3775,2,-999.,9,45.41,2,113.12,2,41.54,2,0.00,2,2.97,2,-999.,9,-999.,9,-999.,9,-999,9,-999,9
49UP20171125,RF17-10,6102,1,6,25815,2,20171202,0149,24.2542,156.8308,5653,1214.3,1203,3.2815,34.4746,2,-999.,9,60.15,6,127.09,6,41.15,6,0.00,6,2.93,6,-999.,9,-999.,9,-999.,9,-999,9,-999,9
49UP20171125,RF17-10,6102,1,4,25813,2,20171202,0143,24.2542,156.8308,5653,1414.6,1401,2.8354,34.5242,2,-999.,9,72.72,2,135.62,2,40.69,2,0.00,2,2.88,2,-999.,9,-999.,9,-999.,9,-999,9,-999,9
49UP20171125,RF17-10,6102,1,5,25814,2,20171202,0143,24.2542,156.8308,5653,1415.0,1401,2.8376,34.5236,2,-999.,9,71.87,2,135.58,2,40.68,2,0.00,2,2.88,2,-999.,9,-999.,9,-999.,9,-999,9,-999,9
49UP20171125,RF17-10,6102,1,3,25812,2,20171202,0138,24.2542,156.8308,5653,1617.3,1601,2.4311,34.5575,2,-999.,9,79.75,2,143.72,2,40.45,2,0.00,2,2.86,2,-999.,9,-999.,9,-999.,9,-999,9,-999,9
49UP20171125,RF17-10,6102,1,2,25811,2,20171202,0133,24.2542,156.8308,5653,1822.0,1803,2.1656,34.5896,2,-999.,9,92.49,2,146.87,2,39.78,2,0.00,2,2.80,2,-999.,9,-999.,9,-999.,9,-999,9,-999,9
49UP20171125,RF17-10,6102,1,1,25810,2,20171202,0127,24.2542,156.8308,5653,2024.0,2001,2.0041,34.6080,2,-999.,9,99.71,2,149.22,2,39.37,2,0.00,2,2.77,2,-999.,9,-999.,9,-999.,9,-999,9,-999,9