BOTTLE,20180401JMAGEMD
EXPOCODE,SECT_ID,STNNBR,CASTNO,SAMPNO,BTLNBR,BTLNBR_FLAG_W,DATE,TIME,LATITUDE,LONGITUDE,DEPTH,CTDPRS,CTDDEP,CTDTMP,CTDSAL,CTDSAL_FLAG_W,SALNTY,SALNTY_FLAG_W,OXYGEN,OXYGEN_FLAG_W,SILCAT,SILCAT_FLAG_W,NO2+NO3,NO2+NO3_FLAG_W,NITRIT,NITRIT_FLAG_W,PHSPHT,PHSPHT_FLAG_W,TCARBN,TCARBN_FLAG_W,ALKALI,ALKALI_FLAG_W,PH_TOT,PH_TOT_FLAG_W,CFC-11,CFC-11_FLAG_W,CFC-12,CFC-12_FLAG_W
,,,,,,,UTC,UTC,,,METER,DBAR,METERS,ITS-90,PSS-78,,PSS-78,,UMOL/KG,,UMOL/KG,,UMOL/KG,,UMOL/KG,,UMOL/KG,,UMOL/KG,,UMOL/KG,,@25DEG-C,,PMOL/KG,,PMOL/KG,
49UP20171125,RF17-10,6115,1,-999,0,2,20171207,0115,24.2435,138.5902,4926,0.0,0,26.7629,34.8281,2,-999.,9,201.63,2,1.10,2,0.03,2,0.00,2,0.03,2,-999.,9,-999.,9,-999.,9,-999,9,-999,9
49UP20171125,RF17-10,6115,1,36,25845,2,20171207,0142,24.2435,138.5902,4926,11.8,12,26.7653,34.8281,2,-999.,9,201.53,2,1.08,2,0.02,2,0.00,2,0.01,2,-999.,9,-999.,9,-999.,9,-999,9,-999,9
49UP20171125,RF17-10,6115,1,35,25844,3,20171207,0141,24.2435,138.5902,4926,26.3,26,26.7704,34.8287,2,-999.,9,201.74,2,1.04,2,0.00,2,0.00,2,0.00,2,-999.,9,-999.,9,-999.,9,-999,9,-999,9
49UP20171125,RF17-10,6115,1,34,25843,2,20171207,0139,24.2435,138.5902,4926,54.0,54,26.3926,34.7880,2,-999.,9,204.22,2,1.32,2,0.03,2,0.00,2,0.01,2,-999.,9,-999.,9,-999.,9,-999,9,-999,9
49UP20171125,RF17-10,6115,1,30,25839,2,20171207,0138,24.2435,138.5902,4926,76.7,76,24.1628,34.9354,2,-999.,9,214.69,2,1.50,2,0.04,2,0.00,2,0.01,2,-999.,9,-999.,9,-999.,9,-999,9,-999,9
49UP20171125,RF17-10,6115,1,29,25838,2,20171207,0134,24.2435,138.5902,4926,101.6,101,21.8055,34.9781,2,-999.,9,211.34,2,1.75,2,0.11,2,0.04,2,0.04,2,-999.,9,-999.,9,-999.,9,-999,9,-999,9
49UP20171125,RF17-10,6115,1,28,25837,3,20171207,0133,24.2435,138.5902,4926,127.0,126,20.6316,34.9709,2,-999.,9,202.78,2,2.08,2,1.23,2,0.04,2,0.10,2,-999.,9,-999.,9,-999.,9,-999,9,-999,9
49UP20171125,RF17-10,6115,1,27,25836,3,20171207,0132,24.2435,138.5902,4926,151.6,151,19.8985,34.9426,2,-999.,9,200.02,2,2.38,2,2.24,2,0.02,2,0.16,2,-999.,9,-999.,9,-999.,9,-999,9,-999,9
49UP20171125,RF17-10,6115,1,26,25835,2,20171207,0130,24.2435,138.5902,4926,204.5,203,18.1693,34.8642,2,-999.,9,208.17,2,3.15,2,3.35,2,0.01,2,0.22,2,-999.,9,-999.,9,-999.,9,-999,9,-999,9
49UP20171125,RF17-10,6115,1,25,25834,2,20171207,0127,24.2435,138.5902,4926,252.6,251,17.6198,34.8088,2,-999.,9,204.65,2,4.09,2,4.54,2,0.01,2,0.30,2,-999.,9,-999.,9,-999.,9,-999,9,-999,9
49UP20171125,RF17-10,6115,1,21,25830,2,20171207,0126,24.2435,138.5902,4926,303.2,301,16.4228,34.6860,2,-999.,9,195.58,6,6.63,6,7.01,6,0.00,6,0.46,6,-999.,9,-999.,9,-999.,9,-999,9,-999,9
49UP20171125,RF17-10,6115,1,20,25829,2,20171207,0123,24.2435,138.5902,4926,406.0,403,13.8494,34.4744,2,-999.,9,184.30,2,13.61,2,11.93,2,0.00,2,0.82,2,-999.,9,-999.,9,-999.,9,-999,9,-999,9
49UP20171125,RF17-10,6115,1,19,25828,2,20171207,0122,24.2435,138.5902,4926,407.1,404,13.8398,34.4738,2,-999.,9,184.42,2,13.65,2,11.92,2,0.00,2,0.82,2,-999.,9,-999.,9,-999.,9,-999,9,-999,9
49UP20171125,RF17-10,6115,1,18,25827,2,20171207,0120,24.2435,138.5902,4926,505.3,501,11.0756,34.2790,2,-999.,9,171.11,2,24.38,2,17.83,2,0.00,2,1.25,2,-999.,9,-999.,9,-999.,9,-999,9,-999,9
49UP20171125,RF17-10,6115,1,17,25826,2,20171207,0117,24.2435,138.5902,4926,607.8,603,8.1380,34.1321,2,-999.,9,143.18,2,44.42,2,25.55,2,0.00,2,1.82,2,-999.,9,-999.,9,-999.,9,-999,9,-999,9
49UP20171125,RF17-10,6115,1,16,25825,2,20171207,0113,24.2435,138.5902,4926,705.9,700,6.3489,34.1192,2,-999.,9,106.85,2,65.16,2,32.16,2,0.00,2,2.31,2,-999.,9,-999.,9,-999.,9,-999,9,-999,9
49UP20171125,RF17-10,6115,1,12,25821,2,20171207,0109,24.2435,138.5902,4926,810.7,804,5.2370,34.1731,2,-999.,9,80.04,2,84.02,2,36.48,2,0.00,2,2.62,2,-999.,9,-999.,9,-999.,9,-999,9,-999,9
49UP20171125,RF17-10,6115,1,11,25820,2,20171207,0106,24.2435,138.5902,4926,910.3,903,4.4263,34.2561,2,-999.,9,61.84,2,101.73,2,39.07,2,0.00,2,2.80,2,-999.,9,-999.,9,-999.,9,-999,9,-999,9
49UP20171125,RF17-10,6115,1,10,25819,2,20171207,0103,24.2435,138.5902,4926,1009.5,1001,3.8194,34.3407,2,-999.,9,55.26,2,115.90,2,40.45,2,0.00,2,2.89,2,-999.,9,-999.,9,-999.,9,-999,9,-999,9
49UP20171125,RF17-10,6115,1,9,25818,2,20171207,0058,24.2435,138.5902,4926,1214.9,1204,3.1631,34.4521,2,-999.,9,62.04,2,129.96,2,40.75,2,0.00,2,2.90,2,-999.,9,-999.,9,-999.,9,-999,9,-999,9
49UP20171125,RF17-10,6115,1,8,25817,2,20171207,0053,24.2435,138.5902,4926,1416.1,1402,2.6997,34.5208,2,-999.,9,77.27,2,137.40,2,40.11,2,0.00,2,2.84,2,-999.,9,-999.,9,-999.,9,-999,9,-999,9
49UP20171125,RF17-10,6115,1,7,25816,2,20171207,0048,24.2435,138.5902,4926,1618.3,1602,2.3868,34.5625,2,-999.,9,91.32,2,140.60,2,39.36,2,0.00,2,2.78,2,-999.,9,-999.,9,-999.,9,-999,9,-999,9
49UP20171125,RF17-10,6115,1,3,25812,2,20171207,0044,24.2435,138.5902,4926,1821.4,1802,2.2086,34.5881,2,-999.,9,101.24,6,141.72,6,38.84,6,0.00,6,2.73,6,-999.,9,-999.,9,-999.,9,-999,9,-999,9
49UP20171125,RF17-10,6115,1,2,25811,2,20171207,0039,24.2435,138.5902,4926,2022.3,2000,2.0264,34.6120,2,-999.,9,112.34,2,142.71,2,38.33,2,0.00,2,2.69,2,-999.,9,-999.,9,-999.,9,-999,9,-999,9
49UP20171125,RF17-10,6115,1,1,25810,2,20171207,0038,24.2435,138.5902,4926,2023.7,2001,2.0255,34.6121,2,-999.,9,112.46,2,142.65,2,38.32,2,0.00,2,2.69,2,-999.,9,-999.,9,-999.,9,-999,9,-999,9
49UP20171125,RF17-10,6116,1,-999,0,2,20171207,1700,23.988,137.0023,3946,0.0,0,25.2464,34.8466,2,34.8490,2,206.50,2,1.35,2,0.02,2,0.00,2,0.02,2,1969.1,2,2286.6,2,8.0946,2,-999,9,-999,9
49UP20171125,RF17-10,6116,1,36,25845,2,20171207,1749,23.988,137.0023,3946,11.7,12,25.2284,34.8439,2,34.8429,2,206.87,2,1.42,2,0.02,2,0.00,2,0.01,2,1968.9,2,2286.6,2,8.0943,2,-999,9,-999,9
49UP20171125,RF17-10,6116,1,35,25844,2,20171207,1747,23.988,137.0023,3946,25.8,26,25.0871,34.8343,2,34.8338,2,207.25,2,1.44,2,0.02,2,0.00,2,0.01,2,1970.4,2,2287.4,2,8.0882,2,-999,9,-999,9
49UP20171125,RF17-10,6116,1,33,25842,2,20171207,1744,23.988,137.0023,3946,52.3,52,25.0371,34.8337,2,-999.0000,9,-999.00,9,-999.00,9,-999.00,9,-999.00,9,-999.000,9,-999.0,9,-999.0,9,-999.0000,9,-999,9,-999,9
49UP20171125,RF17-10,6116,1,34,25843,2,20171207,1744,23.988,137.0023,3946,52.6,52,25.0365,34.8336,2,34.8325,2,208.14,2,1.49,2,0.02,2,0.00,2,0.01,2,1973.5,2,2289.2,2,8.0913,2,-999,9,-999,9
49UP20171125,RF17-10,6116,1,30,25839,2,20171207,1741,23.988,137.0023,3946,77.5,77,24.5755,34.8733,2,-999.0000,9,209.35,2,1.54,2,0.00,2,0.00,2,0.01,2,1976.7,2,2292.3,2,8.0796,2,-999,9,-999,9
49UP20171125,RF17-10,6116,1,29,25838,2,20171207,1739,23.988,137.0023,3946,102.2,102,21.2302,34.9722,2,34.9716,2,202.55,2,2.15,2,1.18,2,0.04,2,0.10,2,2018.9,2,2295.7,2,8.0209,2,-999,9,-999,9
49UP20171125,RF17-10,6116,1,32,25841,2,20171207,1739,23.988,137.0023,3946,103.0,102,21.2218,34.9721,2,-999.0000,9,-999.00,9,-999.00,9,-999.00,9,-999.00,9,-999.000,9,-999.0,9,-999.0,9,-999.0000,9,-999,9,-999,9
49UP20171125,RF17-10,6116,1,28,25837,2,20171207,1737,23.988,137.0023,3946,128.4,128,19.6101,34.9187,2,34.9185,2,198.71,2,2.90,2,2.82,2,0.01,2,0.20,2,2031.4,2,2292.3,2,7.9925,2,-999,9,-999,9
49UP20171125,RF17-10,6116,1,27,25836,3,20171207,1734,23.988,137.0023,3946,151.0,150,19.0810,34.8953,2,34.8941,2,201.05,2,2.98,2,2.97,2,0.01,2,0.21,2,2035.1,2,2292.1,2,7.9820,2,-999,9,-999,9
49UP20171125,RF17-10,6116,1,31,25840,2,20171207,1734,23.988,137.0023,3946,152.2,151,19.0404,34.8936,2,-999.0000,9,-999.00,9,-999.00,9,-999.00,9,-999.00,9,-999.000,9,-999.0,9,-999.0,9,-999.0000,9,-999,9,-999,9
49UP20171125,RF17-10,6116,1,26,25835,2,20171207,1730,23.988,137.0023,3946,204.6,203,18.1034,34.8534,2,34.8530,2,205.56,2,3.42,2,3.64,2,0.01,2,0.25,2,2036.4,2,2289.2,2,7.9753,2,-999,9,-999,9
49UP20171125,RF17-10,6116,1,25,25834,2,20171207,1727,23.988,137.0023,3946,253.8,252,17.2766,34.7743,2,-999.0000,9,203.74,2,4.46,2,4.94,2,0.01,2,0.33,2,2042.6,2,2282.7,2,7.9510,2,-999,9,-999,9
49UP20171125,RF17-10,6116,1,24,25833,3,20171207,1722,23.988,137.0023,3946,305.3,303,16.4707,34.7022,2,34.7066,2,201.53,2,5.93,2,6.30,2,0.00,2,0.42,2,2052.5,2,2281.8,2,7.9280,2,-999,9,-999,9
49UP20171125,RF17-10,6116,1,23,25832,2,20171207,1719,23.988,137.0023,3946,403.9,401,13.8120,34.4786,2,34.4805,2,183.17,2,14.46,2,12.15,2,0.00,2,0.84,2,2093.8,2,2273.6,2,7.8374,2,-999,9,-999,9
49UP20171125,RF17-10,6116,1,21,25830,2,20171207,1716,23.988,137.0023,3946,505.2,501,11.0547,34.3003,2,34.3016,2,167.86,2,27.00,2,18.20,2,0.00,2,1.28,2,2139.3,2,2276.5,2,7.7396,2,-999,9,-999,9
49UP20171125,RF17-10,6116,1,22,25831,2,20171207,1716,23.988,137.0023,3946,507.1,503,10.9962,34.2975,2,34.3001,2,165.91,4,27.14,2,18.31,2,0.00,2,1.29,2,2135.9,2,2278.2,2,7.7362,2,-999,9,-999,9
49UP20171125,RF17-10,6116,1,20,25829,2,20171207,1713,23.988,137.0023,3946,607.3,603,8.2207,34.1841,2,34.1856,2,136.41,6,48.77,6,25.97,6,0.00,6,1.86,6,2197.1,2,2288.5,2,7.6130,2,-999,9,-999,9
49UP20171125,RF17-10,6116,1,19,25828,3,20171207,1709,23.988,137.0023,3946,704.5,699,6.1009,34.1278,2,34.1296,2,106.08,2,70.34,2,32.39,2,0.00,2,2.34,2,2250.6,6,2304.7,6,7.5038,2,-999,9,-999,9
49UP20171125,RF17-10,6116,1,18,25827,2,20171207,1704,23.988,137.0023,3946,808.9,802,5.0512,34.1861,2,34.1845,2,77.67,2,88.26,2,36.70,2,0.00,2,2.64,2,2287.5,2,2323.4,2,7.4362,6,-999,9,-999,9
49UP20171125,RF17-10,6116,1,17,25826,2,20171207,1701,23.988,137.0023,3946,907.1,899,4.3670,34.2691,2,34.2679,2,61.91,2,103.49,2,39.02,2,0.00,2,2.81,2,2314.8,2,2338.1,2,7.4094,2,-999,9,-999,9
49UP20171125,RF17-10,6116,1,15,25824,2,20171207,1657,23.988,137.0023,3946,1012.0,1003,3.8891,34.3338,2,34.3337,2,55.90,2,114.71,2,40.13,2,0.00,2,2.88,2,2331.1,2,2357.6,2,7.3975,2,-999,9,-999,9
49UP20171125,RF17-10,6116,1,16,25825,2,20171207,1658,23.988,137.0023,3946,1012.9,1004,3.8785,34.3353,2,34.3335,2,56.45,2,114.83,2,40.26,2,0.00,2,2.89,2,2332.4,2,2358.4,2,7.4001,2,-999,9,-999,9
49UP20171125,RF17-10,6116,1,14,25823,2,20171207,1652,23.988,137.0023,3946,1213.8,1203,3.2124,34.4509,2,34.4496,2,62.37,6,128.66,6,40.58,6,0.00,6,2.90,6,2348.6,2,2379.3,2,7.4210,2,-999,9,-999,9
49UP20171125,RF17-10,6116,1,13,25822,2,20171207,1646,23.988,137.0023,3946,1414.5,1401,2.8306,34.5054,2,34.5051,2,74.31,2,135.35,2,40.16,2,0.00,2,2.86,2,2352.5,2,2389.5,2,7.4422,2,-999,9,-999,9
49UP20171125,RF17-10,6116,1,12,25821,2,20171207,1641,23.988,137.0023,3946,1615.6,1599,2.4460,34.5611,2,34.5604,2,92.07,2,139.37,2,39.26,2,0.00,2,2.78,2,2348.9,6,2398.1,6,7.4833,2,-999,9,-999,9
49UP20171125,RF17-10,6116,1,11,25820,2,20171207,1636,23.988,137.0023,3946,1820.3,1801,2.2181,34.5898,2,34.5871,2,103.22,2,140.66,2,38.72,2,0.00,2,2.73,2,2344.0,2,2405.0,2,7.5031,6,-999,9,-999,9
49UP20171125,RF17-10,6116,1,10,25819,2,20171207,1630,23.988,137.0023,3946,2021.3,1999,2.0087,34.6137,2,34.6136,2,114.14,2,142.20,2,38.16,2,0.00,2,2.68,2,2341.9,2,2406.8,2,7.5197,2,-999,9,-999,9
49UP20171125,RF17-10,6116,1,9,25818,2,20171207,1625,23.988,137.0023,3946,2278.0,2251,1.8384,34.6350,2,34.6350,6,124.14,2,142.60,2,37.58,2,0.00,2,2.64,2,2337.9,2,2414.2,2,7.5413,2,-999,9,-999,9
49UP20171125,RF17-10,6116,1,8,25817,2,20171207,1618,23.988,137.0023,3946,2532.0,2501,1.7401,34.6476,2,34.6476,2,131.15,2,142.48,2,37.13,2,0.00,2,2.60,2,2336.8,2,2411.6,2,7.5499,2,-999,9,-999,9
49UP20171125,RF17-10,6116,1,7,25816,2,20171207,1613,23.988,137.0023,3946,2788.2,2752,1.6742,34.6562,2,34.6564,2,136.41,2,142.66,2,36.91,2,0.00,2,2.58,2,2330.3,2,2415.9,2,7.5606,2,-999,9,-999,9
49UP20171125,RF17-10,6116,1,6,25815,2,20171207,1607,23.988,137.0023,3946,3040.4,2999,1.6318,34.6622,2,34.6621,2,140.80,2,142.29,2,36.59,2,0.00,2,2.56,2,2327.3,2,2414.7,2,7.5671,2,-999,9,-999,9
49UP20171125,RF17-10,6116,1,5,25814,2,20171207,1607,23.988,137.0023,3946,3041.5,3000,1.6312,34.6622,2,34.6624,2,140.98,2,142.38,2,36.65,2,0.00,2,2.56,2,2328.6,2,2414.2,2,7.5670,2,-999,9,-999,9
49UP20171125,RF17-10,6116,1,4,25813,2,20171207,1601,23.988,137.0023,3946,3294.9,3249,1.5871,34.6691,2,34.6691,2,145.23,6,142.06,6,36.33,6,0.00,6,2.53,6,2329.2,2,2418.2,2,7.5727,2,-999,9,-999,9
49UP20171125,RF17-10,6116,1,3,25812,2,20171207,1555,23.988,137.0023,3946,3553.0,3501,1.5506,34.6751,2,34.6753,2,149.95,2,141.48,2,35.96,2,0.00,2,2.51,2,2328.8,6,2413.9,6,7.5831,2,-999,9,-999,9
49UP20171125,RF17-10,6116,1,2,25811,2,20171207,1549,23.988,137.0023,3946,3807.1,3749,1.5162,34.6808,2,34.6807,2,154.66,2,140.85,2,35.81,2,0.00,2,2.49,2,2322.1,2,2414.1,2,7.5879,6,-999,9,-999,9
49UP20171125,RF17-10,6116,1,1,25810,2,20171207,1544,23.988,137.0023,3946,4028.7,3965,1.5205,34.6825,2,34.6827,6,156.29,2,140.12,2,35.73,2,0.00,2,2.48,2,2318.2,2,2410.8,2,7.5904,2,-999,9,-999,9
49UP20171125,RF17-10,6117,1,-999,0,2,20171208,0300,24.231,136.1993,4106,0.0,0,24.0473,34.7548,2,-999.,9,212.35,2,1.51,2,0.01,2,0.00,2,0.02,2,-999.,9,-999.,9,-999.,9,-999,9,-999,9
49UP20171125,RF17-10,6117,1,36,25845,2,20171208,0336,24.231,136.1993,4106,10.8,11,24.0496,34.7549,2,-999.,9,212.35,2,1.49,2,0.00,2,0.00,2,0.00,2,-999.,9,-999.,9,-999.,9,-999,9,-999,9
49UP20171125,RF17-10,6117,1,35,25844,2,20171208,0335,24.231,136.1993,4106,27.6,27,23.9076,34.7418,2,-999.,9,211.76,6,1.49,6,0.01,6,0.00,6,0.00,6,-999.,9,-999.,9,-999.,9,-999,9,-999,9
49UP20171125,RF17-10,6117,1,33,25842,2,20171208,0330,24.231,136.1993,4106,51.3,51,23.6345,34.7231,2,-999.,9,211.86,2,1.58,2,0.00,2,0.00,2,0.01,2,-999.,9,-999.,9,-999.,9,-999,9,-999,9
49UP20171125,RF17-10,6117,1,34,25843,3,20171208,0330,24.231,136.1993,4106,51.4,51,23.6486,34.7190,2,-999.,9,212.03,2,1.58,2,0.03,2,0.00,2,0.01,2,-999.,9,-999.,9,-999.,9,-999,9,-999,9
49UP20171125,RF17-10,6117,1,32,25841,2,20171208,0328,24.231,136.1993,4106,76.4,76,22.4371,34.9384,2,-999.,9,201.53,2,1.99,2,0.97,2,0.09,2,0.09,2,-999.,9,-999.,9,-999.,9,-999,9,-999,9
49UP20171125,RF17-10,6117,1,31,25840,2,20171208,0327,24.231,136.1993,4106,100.9,100,21.4421,34.9725,2,-999.,9,201.61,2,2.15,2,1.35,2,0.05,2,0.11,2,-999.,9,-999.,9,-999.,9,-999,9,-999,9
49UP20171125,RF17-10,6117,1,27,25836,2,20171208,0325,24.231,136.1993,4106,125.0,124,20.1429,34.9393,2,-999.,9,195.94,2,2.74,2,2.60,2,0.02,2,0.19,2,-999.,9,-999.,9,-999.,9,-999,9,-999,9
49UP20171125,RF17-10,6117,1,26,25835,2,20171208,0323,24.231,136.1993,4106,152.2,151,19.3218,34.9010,2,-999.,9,196.30,2,3.13,2,3.37,2,0.01,2,0.23,2,-999.,9,-999.,9,-999.,9,-999,9,-999,9
49UP20171125,RF17-10,6117,1,25,25834,2,20171208,0321,24.231,136.1993,4106,204.6,203,18.3207,34.8748,2,-999.,9,207.66,2,2.94,2,3.13,2,0.01,2,0.21,2,-999.,9,-999.,9,-999.,9,-999,9,-999,9
49UP20171125,RF17-10,6117,1,24,25833,2,20171208,0319,24.231,136.1993,4106,251.7,250,17.5128,34.7980,2,-999.,9,205.06,2,4.03,2,4.49,2,0.01,2,0.29,2,-999.,9,-999.,9,-999.,9,-999,9,-999,9
49UP20171125,RF17-10,6117,1,23,25832,2,20171208,0317,24.231,136.1993,4106,304.1,302,16.3935,34.6843,2,-999.,9,198.85,2,5.92,2,6.59,2,0.00,2,0.44,2,-999.,9,-999.,9,-999.,9,-999,9,-999,9
49UP20171125,RF17-10,6117,1,22,25831,2,20171208,0314,24.231,136.1993,4106,406.4,403,13.8857,34.4781,2,-999.,9,185.46,2,13.54,2,11.85,2,0.00,2,0.81,2,-999.,9,-999.,9,-999.,9,-999,9,-999,9
49UP20171125,RF17-10,6117,1,18,25827,3,20171208,0311,24.231,136.1993,4106,506.4,503,10.1718,34.2354,2,-999.,9,163.45,2,30.27,2,20.08,2,0.00,2,1.42,2,-999.,9,-999.,9,-999.,9,-999,9,-999,9
49UP20171125,RF17-10,6117,1,17,25826,2,20171208,0308,24.231,136.1993,4106,608.6,604,8.3800,34.1798,2,-999.,9,140.06,6,46.03,6,25.43,6,0.00,6,1.81,6,-999.,9,-999.,9,-999.,9,-999,9,-999,9
49UP20171125,RF17-10,6117,1,15,25824,2,20171208,0305,24.231,136.1993,4106,707.6,702,6.0248,34.1412,2,-999.,9,103.26,2,72.83,2,32.85,2,0.00,2,2.35,2,-999.,9,-999.,9,-999.,9,-999,9,-999,9
49UP20171125,RF17-10,6117,1,16,25825,3,20171208,0305,24.231,136.1993,4106,708.1,702,6.0229,34.1413,2,-999.,9,103.55,2,72.79,2,32.79,2,0.00,2,2.35,2,-999.,9,-999.,9,-999.,9,-999,9,-999,9
49UP20171125,RF17-10,6117,1,14,25823,2,20171208,0300,24.231,136.1993,4106,807.4,801,4.7011,34.2106,2,-999.,9,70.28,2,96.29,2,37.95,2,0.00,2,2.71,2,-999.,9,-999.,9,-999.,9,-999,9,-999,9
49UP20171125,RF17-10,6117,1,13,25822,2,20171208,0257,24.231,136.1993,4106,909.5,902,4.0762,34.2867,2,-999.,9,55.97,2,109.96,2,40.04,2,0.00,2,2.86,2,-999.,9,-999.,9,-999.,9,-999,9,-999,9
49UP20171125,RF17-10,6117,1,9,25818,2,20171208,0254,24.231,136.1993,4106,1012.0,1003,3.7364,34.3581,2,-999.,9,55.91,2,118.23,2,40.60,2,0.00,2,2.89,2,-999.,9,-999.,9,-999.,9,-999,9,-999,9
49UP20171125,RF17-10,6117,1,8,25817,2,20171208,0249,24.231,136.1993,4106,1212.8,1202,3.0581,34.4448,2,-999.,9,58.68,2,133.28,2,41.17,2,0.00,2,2.92,2,-999.,9,-999.,9,-999.,9,-999,9,-999,9
49UP20171125,RF17-10,6117,1,7,25816,2,20171208,0244,24.231,136.1993,4106,1416.7,1403,2.6107,34.5121,2,-999.,9,72.61,2,140.64,2,40.60,2,0.00,2,2.87,2,-999.,9,-999.,9,-999.,9,-999,9,-999,9
49UP20171125,RF17-10,6117,1,6,25815,2,20171208,0239,24.231,136.1993,4106,1620.1,1604,2.3419,34.5551,2,-999.,9,88.59,2,142.51,2,39.65,2,0.00,2,2.79,2,-999.,9,-999.,9,-999.,9,-999,9,-999,9
49UP20171125,RF17-10,6117,1,5,25814,2,20171208,0234,24.231,136.1993,4106,1822.2,1803,2.1561,34.5920,2,-999.,9,104.51,2,141.64,2,38.70,2,0.00,2,2.72,2,-999.,9,-999.,9,-999.,9,-999,9,-999,9
49UP20171125,RF17-10,6117,1,4,25813,2,20171208,0228,24.231,136.1993,4106,2023.7,2001,1.9922,34.6140,2,-999.,9,114.49,2,142.41,2,38.18,2,0.00,2,2.68,2,-999.,9,-999.,9,-999.,9,-999,9,-999,9