BOTTLE,20180401JMAGEMD
EXPOCODE,SECT_ID,STNNBR,CASTNO,SAMPNO,BTLNBR,BTLNBR_FLAG_W,DATE,TIME,LATITUDE,LONGITUDE,DEPTH,CTDPRS,CTDDEP,CTDTMP,CTDSAL,CTDSAL_FLAG_W,SALNTY,SALNTY_FLAG_W,OXYGEN,OXYGEN_FLAG_W,SILCAT,SILCAT_FLAG_W,NO2+NO3,NO2+NO3_FLAG_W,NITRIT,NITRIT_FLAG_W,PHSPHT,PHSPHT_FLAG_W,TCARBN,TCARBN_FLAG_W,ALKALI,ALKALI_FLAG_W,PH_TOT,PH_TOT_FLAG_W,CFC-11,CFC-11_FLAG_W,CFC-12,CFC-12_FLAG_W
,,,,,,,UTC,UTC,,,METER,DBAR,METERS,ITS-90,PSS-78,,PSS-78,,UMOL/KG,,UMOL/KG,,UMOL/KG,,UMOL/KG,,UMOL/KG,,UMOL/KG,,UMOL/KG,,@25DEG-C,,PMOL/KG,,PMOL/KG,
49UP20171125,RF17-10,6097,1,-999,0,2,20171130,0310,23.9823,164.9877,6048,0.0,0,26.1583,35.2405,2,35.2565,2,204.90,2,1.20,2,0.03,2,0.00,2,0.06,2,1981.0,2,2316.7,2,8.1045,2,-999,9,-999,9
49UP20171125,RF17-10,6097,1,36,25845,2,20171130,0345,23.9823,164.9877,6048,10.6,11,26.0859,35.2368,2,35.2382,2,204.99,2,1.16,2,0.00,2,0.00,2,0.02,2,1983.3,2,2315.4,2,8.1019,2,-999,9,-999,9
49UP20171125,RF17-10,6097,1,35,25844,2,20171130,0343,23.9823,164.9877,6048,26.4,26,26.0131,35.2359,2,-999.0000,9,205.29,2,1.17,2,0.01,2,0.00,2,0.01,2,1982.3,2,2316.4,2,8.0982,2,-999,9,-999,9
49UP20171125,RF17-10,6097,1,34,25843,2,20171130,0342,23.9823,164.9877,6048,50.8,50,25.9962,35.2355,2,35.2334,2,205.45,2,1.15,2,0.00,2,0.00,2,0.01,2,1984.0,2,2316.4,2,8.1053,2,-999,9,-999,9
49UP20171125,RF17-10,6097,1,33,25842,2,20171130,0340,23.9823,164.9877,6048,76.0,76,24.1362,35.1627,2,-999.0000,9,221.64,2,1.47,2,0.01,2,0.00,2,0.01,2,1994.9,2,2308.7,2,8.0674,2,-999,9,-999,9
49UP20171125,RF17-10,6097,1,32,25841,2,20171130,0336,23.9823,164.9877,6048,100.7,100,21.8284,35.1336,2,35.1307,6,216.82,2,1.77,2,0.01,2,0.00,2,0.04,2,2017.0,2,2308.0,2,8.0392,2,-999,9,-999,9
49UP20171125,RF17-10,6097,1,31,25840,2,20171130,0334,23.9823,164.9877,6048,124.8,124,20.1643,35.0344,2,-999.0000,9,209.34,2,2.19,2,0.18,2,0.06,2,0.08,2,2033.2,2,2303.1,2,7.9993,2,-999,9,-999,9
49UP20171125,RF17-10,6097,1,30,25839,2,20171130,0333,23.9823,164.9877,6048,151.8,151,18.6249,34.8952,2,-999.0000,9,209.20,2,2.62,2,1.48,2,0.06,2,0.15,2,2034.6,2,2292.1,2,7.9764,2,-999,9,-999,9
49UP20171125,RF17-10,6097,1,29,25838,2,20171130,0331,23.9823,164.9877,6048,201.6,200,16.9679,34.7573,2,34.7570,2,210.75,2,4.09,2,4.50,2,0.01,2,0.31,2,2042.7,2,2283.9,2,7.9508,2,-999,9,-999,9
49UP20171125,RF17-10,6097,1,28,25837,2,20171130,0329,23.9823,164.9877,6048,253.5,252,16.1407,34.6892,2,34.6880,2,209.26,6,5.68,6,5.99,6,0.01,6,0.41,6,2050.6,2,2280.3,2,7.9307,2,-999,9,-999,9
49UP20171125,RF17-10,6097,1,27,25836,2,20171130,0327,23.9823,164.9877,6048,302.8,301,15.2266,34.5888,2,34.5882,2,205.57,2,7.47,2,7.58,2,0.00,2,0.52,2,2063.6,2,2277.0,2,7.8984,2,-999,9,-999,9
49UP20171125,RF17-10,6097,1,26,25835,2,20171130,0324,23.9823,164.9877,6048,404.7,402,12.4062,34.3403,2,34.3423,2,196.06,2,14.43,2,12.82,2,0.00,2,0.90,2,2096.9,2,2268.0,2,7.8098,2,-999,9,-999,9
49UP20171125,RF17-10,6097,1,25,25834,2,20171130,0321,23.9823,164.9877,6048,504.7,501,9.5894,34.1532,2,34.1538,2,175.69,2,27.45,2,19.87,2,0.00,2,1.41,2,2143.5,6,2271.5,6,7.6995,2,-999,9,-999,9
49UP20171125,RF17-10,6097,1,24,25833,2,20171130,0319,23.9823,164.9877,6048,607.5,603,7.3694,34.0742,2,34.0740,2,134.57,2,47.30,2,27.81,2,0.00,2,2.00,2,2202.3,2,2282.4,2,7.5708,6,-999,9,-999,9
49UP20171125,RF17-10,6097,1,23,25832,2,20171130,0316,23.9823,164.9877,6048,706.2,701,5.6779,34.1000,2,34.1000,2,84.80,2,72.35,2,35.32,2,0.00,2,2.54,2,2265.2,2,2304.0,2,7.4511,2,-999,9,-999,9
49UP20171125,RF17-10,6097,1,22,25831,2,20171130,0311,23.9823,164.9877,6048,810.2,803,4.6994,34.2227,2,34.2224,2,48.12,2,94.06,2,40.10,2,0.00,2,2.89,2,2311.9,2,2331.7,2,7.3805,2,-999,9,-999,9
49UP20171125,RF17-10,6097,1,21,25830,2,20171130,0308,23.9823,164.9877,6048,912.2,904,4.0747,34.3214,2,34.3177,4,39.06,2,109.35,2,41.77,2,0.00,2,3.00,2,2336.8,2,2352.0,2,7.3689,2,-999,9,-999,9
49UP20171125,RF17-10,6097,1,20,25829,2,20171130,0305,23.9823,164.9877,6048,1011.5,1003,3.7754,34.3857,2,34.3839,2,40.64,2,116.86,2,42.02,2,0.00,2,3.01,2,2342.0,2,2359.6,2,7.3780,2,-999,9,-999,9
49UP20171125,RF17-10,6097,1,19,25828,2,20171130,0300,23.9823,164.9877,6048,1214.6,1203,3.2017,34.4827,2,34.4820,2,55.49,2,129.35,6,41.55,6,0.00,6,2.97,6,2351.8,2,2383.2,2,7.4092,2,-999,9,-999,9
49UP20171125,RF17-10,6097,1,18,25827,2,20171130,0255,23.9823,164.9877,6048,1418.5,1405,2.7225,34.5384,2,34.5375,2,70.66,2,138.27,2,40.90,2,0.00,2,2.90,2,2354.9,2,2396.1,2,7.4396,2,-999,9,-999,9
49UP20171125,RF17-10,6097,1,17,25826,2,20171130,0250,23.9823,164.9877,6048,1615.9,1599,2.3788,34.5730,2,34.5686,4,81.84,2,143.26,2,40.18,2,0.00,2,2.84,2,2353.2,6,2402.9,6,7.4627,2,-999,9,-999,9
49UP20171125,RF17-10,6097,1,16,25825,2,20171130,0245,23.9823,164.9877,6048,1820.9,1801,2.1435,34.5979,2,34.5976,2,92.34,2,147.55,2,39.74,2,0.00,2,2.80,2,2353.0,2,2408.3,2,7.4789,6,-999,9,-999,9
49UP20171125,RF17-10,6097,1,15,25824,2,20171130,0240,23.9823,164.9877,6048,2025.2,2003,1.9759,34.6184,2,34.6159,2,101.44,2,148.86,2,39.22,2,0.00,2,2.76,2,2349.9,2,2412.1,2,7.5440,4,-999,9,-999,9
49UP20171125,RF17-10,6097,1,14,25823,2,20171130,0235,23.9823,164.9877,6048,2278.2,2251,1.8240,34.6372,2,34.6374,2,111.77,2,150.39,2,38.64,2,0.00,2,2.71,2,2346.9,2,2415.4,2,7.5587,4,-999,9,-999,9
49UP20171125,RF17-10,6097,1,13,25822,2,20171130,0230,23.9823,164.9877,6048,2532.8,2502,1.7213,34.6506,2,34.6494,2,119.72,2,151.03,2,38.20,2,0.00,2,2.67,2,2344.4,2,2416.5,2,7.5728,4,-999,9,-999,9
49UP20171125,RF17-10,6097,1,12,25821,2,20171130,0224,23.9823,164.9877,6048,2786.6,2751,1.6642,34.6583,2,34.6593,2,125.86,2,151.08,2,37.78,2,0.00,2,2.64,2,2346.4,2,2419.1,2,7.5491,2,-999,9,-999,9
49UP20171125,RF17-10,6097,1,11,25820,2,20171130,0219,23.9823,164.9877,6048,3043.5,3002,1.6153,34.6646,2,34.6629,2,130.35,2,151.03,2,37.47,2,0.00,2,2.61,2,2342.2,2,2419.3,2,7.5530,2,-999,9,-999,9
49UP20171125,RF17-10,6097,1,10,25819,2,20171130,0214,23.9823,164.9877,6048,3296.3,3250,1.5699,34.6706,2,34.6704,2,136.42,6,150.20,6,37.07,6,0.00,6,2.59,6,2339.6,2,2419.2,2,7.5616,2,-999,9,-999,9
49UP20171125,RF17-10,6097,1,9,25818,2,20171130,0208,23.9823,164.9877,6048,3552.4,3500,1.5322,34.6756,2,34.6747,2,141.83,2,149.18,2,36.71,2,0.00,2,2.55,2,2333.4,6,2419.2,6,7.5669,2,-999,9,-999,9
49UP20171125,RF17-10,6097,1,8,25817,2,20171130,0203,23.9823,164.9877,6048,3809.6,3752,1.5099,34.6797,2,34.6809,2,147.37,2,147.58,2,36.38,2,0.00,2,2.52,2,2334.6,2,2416.5,2,7.5772,6,-999,9,-999,9
49UP20171125,RF17-10,6097,1,7,25816,2,20171130,0158,23.9823,164.9877,6048,4064.6,4000,1.4946,34.6829,2,34.6798,4,150.11,2,145.94,2,36.18,2,0.00,2,2.51,2,2326.3,2,2415.7,2,7.5808,2,-999,9,-999,9
49UP20171125,RF17-10,6097,1,6,25815,2,20171130,0148,23.9823,164.9877,6048,4580.2,4503,1.4711,34.6895,2,34.6888,2,162.02,3,141.13,2,35.36,2,0.00,2,2.45,2,2317.9,2,2412.6,2,7.5947,2,-999,9,-999,9
49UP20171125,RF17-10,6097,1,5,25814,2,20171130,0138,23.9823,164.9877,6048,5093.3,5001,1.4677,34.6946,2,34.6935,2,169.79,2,136.31,2,34.73,2,0.00,2,2.41,2,2309.0,2,2407.2,2,7.6046,2,-999,9,-999,9
49UP20171125,RF17-10,6097,1,4,25813,2,20171130,0132,23.9823,164.9877,6048,5350.1,5251,1.4724,34.6966,2,34.7008,4,174.31,2,133.81,2,34.46,2,0.00,2,2.38,2,2303.4,2,2403.3,2,7.6118,2,-999,9,-999,9
49UP20171125,RF17-10,6097,1,3,25812,2,20171130,0127,23.9823,164.9877,6048,5609.2,5502,1.4904,34.6976,2,34.6958,4,174.52,4,133.22,2,34.41,2,0.00,2,2.38,2,2307.7,2,2402.3,2,7.6104,2,-999,9,-999,9
49UP20171125,RF17-10,6097,1,2,25811,2,20171130,0121,23.9823,164.9877,6048,5864.7,5749,1.5146,34.6982,2,34.6987,2,177.73,2,131.78,2,34.28,2,0.00,2,2.36,2,2299.8,2,2400.8,2,7.6116,2,-999,9,-999,9
49UP20171125,RF17-10,6097,1,1,25810,2,20171130,0115,23.9823,164.9877,6048,6127.3,6003,1.5467,34.6985,2,34.6979,6,177.25,6,131.74,6,34.23,6,0.00,6,2.36,6,2301.8,2,2400.0,2,7.6137,2,-999,9,-999,9
49UP20171125,RF17-10,6098,1,-999,0,2,20171130,1205,24.2425,163.2548,5362,0.0,0,26.1344,35.2121,2,-999.,9,204.89,2,1.18,2,0.04,2,0.00,2,0.03,2,-999.,9,-999.,9,-999.,9,-999,9,-999,9
49UP20171125,RF17-10,6098,1,33,25842,2,20171130,1231,24.2425,163.2548,5362,10.7,11,26.1412,35.2118,2,-999.,9,204.46,2,1.12,2,0.01,2,0.00,2,0.01,2,-999.,9,-999.,9,-999.,9,-999,9,-999,9
49UP20171125,RF17-10,6098,1,32,25841,2,20171130,1230,24.2425,163.2548,5362,26.0,26,26.1466,35.2113,2,-999.,9,204.68,2,1.16,2,0.02,2,0.00,2,0.01,2,-999.,9,-999.,9,-999.,9,-999,9,-999,9
49UP20171125,RF17-10,6098,1,31,25840,2,20171130,1229,24.2425,163.2548,5362,51.3,51,26.1304,35.2080,2,-999.,9,204.92,2,1.14,2,0.01,2,0.00,2,0.01,2,-999.,9,-999.,9,-999.,9,-999,9,-999,9
49UP20171125,RF17-10,6098,1,30,25839,2,20171130,1227,24.2425,163.2548,5362,77.8,77,22.8719,35.2157,2,-999.,9,213.10,2,1.58,2,0.02,2,0.00,2,0.03,2,-999.,9,-999.,9,-999.,9,-999,9,-999,9
49UP20171125,RF17-10,6098,1,29,25838,2,20171130,1225,24.2425,163.2548,5362,103.7,103,20.8942,35.0745,2,-999.,9,207.69,2,1.88,2,0.15,2,0.10,2,0.06,2,-999.,9,-999.,9,-999.,9,-999,9,-999,9
49UP20171125,RF17-10,6098,1,25,25834,2,20171130,1222,24.2425,163.2548,5362,127.9,127,19.6519,34.9884,2,-999.,9,206.78,2,2.18,2,0.81,2,0.08,2,0.10,2,-999.,9,-999.,9,-999.,9,-999,9,-999,9
49UP20171125,RF17-10,6098,1,24,25833,2,20171130,1220,24.2425,163.2548,5362,153.2,152,18.4929,34.8909,2,-999.,9,208.77,2,2.68,2,2.07,2,0.01,2,0.17,2,-999.,9,-999.,9,-999.,9,-999,9,-999,9
49UP20171125,RF17-10,6098,1,23,25832,2,20171130,1218,24.2425,163.2548,5362,204.0,203,17.1956,34.7833,2,-999.,9,211.86,2,3.73,2,4.05,2,0.01,2,0.28,2,-999.,9,-999.,9,-999.,9,-999,9,-999,9
49UP20171125,RF17-10,6098,1,22,25831,2,20171130,1216,24.2425,163.2548,5362,252.5,251,16.8011,34.7668,2,-999.,9,216.37,2,4.24,2,4.49,2,0.01,2,0.30,2,-999.,9,-999.,9,-999.,9,-999,9,-999,9
49UP20171125,RF17-10,6098,1,21,25830,2,20171130,1214,24.2425,163.2548,5362,303.6,301,16.3318,34.7158,2,-999.,9,214.75,6,5.10,6,5.23,6,0.01,6,0.36,6,-999.,9,-999.,9,-999.,9,-999,9,-999,9
49UP20171125,RF17-10,6098,1,19,25828,2,20171130,1210,24.2425,163.2548,5362,403.9,401,13.9327,34.4640,2,-999.,9,199.60,2,10.52,2,10.09,2,0.00,2,0.70,2,-999.,9,-999.,9,-999.,9,-999,9,-999,9
49UP20171125,RF17-10,6098,1,20,25829,2,20171130,1211,24.2425,163.2548,5362,406.6,404,13.8710,34.4619,2,-999.,9,199.04,2,10.56,2,10.13,2,0.00,2,0.70,2,-999.,9,-999.,9,-999.,9,-999,9,-999,9
49UP20171125,RF17-10,6098,1,15,25824,2,20171130,1208,24.2425,163.2548,5362,505.0,501,10.8153,34.2200,2,-999.,9,187.04,2,20.28,2,16.49,2,0.00,2,1.16,2,-999.,9,-999.,9,-999.,9,-999,9,-999,9
49UP20171125,RF17-10,6098,1,14,25823,2,20171130,1205,24.2425,163.2548,5362,606.4,602,8.0264,34.0971,2,-999.,9,138.22,2,40.88,2,26.25,2,0.00,2,1.88,2,-999.,9,-999.,9,-999.,9,-999,9,-999,9
49UP20171125,RF17-10,6098,1,13,25822,2,20171130,1202,24.2425,163.2548,5362,706.4,701,6.3850,34.1143,2,-999.,9,88.52,2,62.85,2,33.77,2,0.00,2,2.43,2,-999.,9,-999.,9,-999.,9,-999,9,-999,9
49UP20171125,RF17-10,6098,1,12,25821,2,20171130,1158,24.2425,163.2548,5362,809.0,802,5.1895,34.2116,2,-999.,9,53.56,2,84.70,2,38.95,2,0.00,2,2.81,2,-999.,9,-999.,9,-999.,9,-999,9,-999,9
49UP20171125,RF17-10,6098,1,11,25820,2,20171130,1154,24.2425,163.2548,5362,909.3,902,4.6845,34.2947,2,-999.,9,44.23,2,95.95,2,40.66,2,0.00,2,2.93,2,-999.,9,-999.,9,-999.,9,-999,9,-999,9
49UP20171125,RF17-10,6098,1,10,25819,3,20171130,1151,24.2425,163.2548,5362,1013.4,1004,4.1217,34.3875,2,-999.,9,45.98,2,107.96,2,41.45,2,0.00,2,2.98,2,-999.,9,-999.,9,-999.,9,-999,9,-999,9
49UP20171125,RF17-10,6098,1,6,25815,3,20171130,1146,24.2425,163.2548,5362,1213.6,1202,3.4199,34.4687,2,-999.,9,53.56,2,124.09,2,41.50,2,0.00,2,2.97,2,-999.,9,-999.,9,-999.,9,-999,9,-999,9
49UP20171125,RF17-10,6098,1,5,25814,2,20171130,1141,24.2425,163.2548,5362,1417.1,1403,2.8747,34.5278,2,-999.,9,67.37,2,135.12,2,40.98,2,0.00,2,2.92,2,-999.,9,-999.,9,-999.,9,-999,9,-999,9
49UP20171125,RF17-10,6098,1,4,25813,2,20171130,1136,24.2425,163.2548,5362,1616.6,1600,2.5220,34.5596,2,-999.,9,77.86,2,141.89,2,40.48,2,0.00,2,2.87,2,-999.,9,-999.,9,-999.,9,-999,9,-999,9
49UP20171125,RF17-10,6098,1,3,25812,2,20171130,1131,24.2425,163.2548,5362,1822.0,1803,2.2365,34.5898,2,-999.,9,90.44,6,145.70,6,39.86,6,0.00,6,2.81,6,-999.,9,-999.,9,-999.,9,-999,9,-999,9
49UP20171125,RF17-10,6098,1,1,25810,2,20171130,1126,24.2425,163.2548,5362,2023.5,2001,2.0201,34.6137,2,-999.,9,100.83,2,148.41,2,39.26,2,0.00,2,2.76,2,-999.,9,-999.,9,-999.,9,-999,9,-999,9
49UP20171125,RF17-10,6098,1,2,25811,2,20171130,1126,24.2425,163.2548,5362,2023.8,2001,2.0201,34.6136,2,-999.,9,101.43,2,148.45,2,39.29,2,0.00,2,2.76,2,-999.,9,-999.,9,-999.,9,-999,9,-999,9
49UP20171125,RF17-10,6099,1,-999,0,2,20171130,2100,24.2548,161.581,3330,0.0,0,26.6560,35.1256,2,-999.,9,202.14,2,1.10,2,0.07,2,0.00,2,0.04,2,-999.,9,-999.,9,-999.,9,-999,9,-999,9
49UP20171125,RF17-10,6099,1,33,25842,2,20171130,2109,24.2548,161.581,3330,11.4,11,26.6574,35.1258,2,-999.,9,202.55,2,1.00,2,0.01,2,0.00,2,0.01,2,-999.,9,-999.,9,-999.,9,-999,9,-999,9
49UP20171125,RF17-10,6099,1,32,25841,2,20171130,2108,24.2548,161.581,3330,26.4,26,26.6593,35.1263,2,-999.,9,202.76,2,0.98,2,0.02,2,0.00,2,0.01,2,-999.,9,-999.,9,-999.,9,-999,9,-999,9
49UP20171125,RF17-10,6099,1,31,25840,2,20171130,2106,24.2548,161.581,3330,51.4,51,26.5513,35.1740,2,-999.,9,203.51,2,1.01,2,0.03,2,0.00,2,0.01,2,-999.,9,-999.,9,-999.,9,-999,9,-999,9
49UP20171125,RF17-10,6099,1,30,25839,2,20171130,2105,24.2548,161.581,3330,77.1,77,26.4957,35.1832,2,-999.,9,203.29,2,1.00,2,0.02,2,0.00,2,0.01,2,-999.,9,-999.,9,-999.,9,-999,9,-999,9
49UP20171125,RF17-10,6099,1,29,25838,2,20171130,2104,24.2548,161.581,3330,103.0,102,23.7359,35.2254,2,-999.,9,216.74,2,1.35,2,0.03,2,0.00,2,0.02,2,-999.,9,-999.,9,-999.,9,-999,9,-999,9
49UP20171125,RF17-10,6099,1,28,25837,2,20171130,2102,24.2548,161.581,3330,128.2,127,21.6408,35.1006,2,-999.,9,212.86,2,1.68,2,0.03,2,0.01,2,0.03,2,-999.,9,-999.,9,-999.,9,-999,9,-999,9
49UP20171125,RF17-10,6099,1,24,25833,2,20171130,2058,24.2548,161.581,3330,152.5,151,20.2904,35.0167,2,-999.,9,212.86,2,1.98,2,0.39,2,0.15,2,0.07,2,-999.,9,-999.,9,-999.,9,-999,9,-999,9
49UP20171125,RF17-10,6099,1,23,25832,2,20171130,2056,24.2548,161.581,3330,201.6,200,17.7610,34.8175,2,-999.,9,206.88,2,3.33,2,3.37,2,0.01,2,0.25,2,-999.,9,-999.,9,-999.,9,-999,9,-999,9
49UP20171125,RF17-10,6099,1,22,25831,2,20171130,2054,24.2548,161.581,3330,252.5,251,16.5521,34.7153,2,-999.,9,207.55,6,4.71,6,5.28,6,0.00,6,0.36,6,-999.,9,-999.,9,-999.,9,-999,9,-999,9
49UP20171125,RF17-10,6099,1,21,25830,2,20171130,2052,24.2548,161.581,3330,301.7,300,15.6232,34.6219,2,-999.,9,204.86,2,6.33,2,6.83,2,0.00,2,0.47,2,-999.,9,-999.,9,-999.,9,-999,9,-999,9
49UP20171125,RF17-10,6099,1,20,25829,2,20171130,2052,24.2548,161.581,3330,301.8,300,15.6230,34.6217,2,-999.,9,204.82,2,6.29,2,6.83,2,0.00,2,0.47,2,-999.,9,-999.,9,-999.,9,-999,9,-999,9
49UP20171125,RF17-10,6099,1,19,25828,2,20171130,2048,24.2548,161.581,3330,407.6,405,12.9273,34.3779,2,-999.,9,201.66,2,12.35,2,11.41,2,0.00,2,0.79,2,-999.,9,-999.,9,-999.,9,-999,9,-999,9
49UP20171125,RF17-10,6099,1,15,25824,2,20171130,2045,24.2548,161.581,3330,505.3,501,10.3904,34.1958,2,-999.,9,188.00,2,22.22,2,17.30,2,0.00,2,1.21,2,-999.,9,-999.,9,-999.,9,-999,9,-999,9
49UP20171125,RF17-10,6099,1,14,25823,2,20171130,2042,24.2548,161.581,3330,606.2,601,7.6815,34.0853,2,-999.,9,133.91,2,44.25,2,27.32,2,0.00,2,1.95,2,-999.,9,-999.,9,-999.,9,-999,9,-999,9
49UP20171125,RF17-10,6099,1,13,25822,2,20171130,2039,24.2548,161.581,3330,706.4,701,5.9893,34.0701,2,-999.,9,100.47,2,65.86,2,33.45,2,0.00,2,2.40,2,-999.,9,-999.,9,-999.,9,-999,9,-999,9
49UP20171125,RF17-10,6099,1,12,25821,2,20171130,2034,24.2548,161.581,3330,807.7,801,4.9243,34.1587,2,-999.,9,63.71,2,87.55,2,38.37,2,0.00,2,2.75,2,-999.,9,-999.,9,-999.,9,-999,9,-999,9
49UP20171125,RF17-10,6099,1,11,25820,2,20171130,2031,24.2548,161.581,3330,909.5,902,4.1697,34.2689,2,-999.,9,43.81,2,106.67,2,41.12,2,0.00,2,2.95,2,-999.,9,-999.,9,-999.,9,-999,9,-999,9
49UP20171125,RF17-10,6099,1,10,25819,2,20171130,2027,24.2548,161.581,3330,1012.2,1003,3.8094,34.3579,2,-999.,9,40.94,2,116.47,2,41.87,2,0.00,2,3.00,2,-999.,9,-999.,9,-999.,9,-999,9,-999,9
49UP20171125,RF17-10,6099,1,6,25815,2,20171130,2022,24.2548,161.581,3330,1212.2,1201,3.2359,34.4517,2,-999.,9,48.32,2,130.17,2,41.92,2,0.00,2,2.99,2,-999.,9,-999.,9,-999.,9,-999,9,-999,9
49UP20171125,RF17-10,6099,1,5,25814,2,20171130,2015,24.2548,161.581,3330,1416.0,1402,2.7648,34.5234,2,-999.,9,67.28,2,138.22,2,40.98,2,0.00,2,2.91,2,-999.,9,-999.,9,-999.,9,-999,9,-999,9
49UP20171125,RF17-10,6099,1,4,25813,2,20171130,2011,24.2548,161.581,3330,1619.0,1602,2.4234,34.5656,2,-999.,9,81.37,6,143.14,6,40.21,6,0.00,6,2.85,6,-999.,9,-999.,9,-999.,9,-999,9,-999,9
49UP20171125,RF17-10,6099,1,3,25812,2,20171130,2006,24.2548,161.581,3330,1819.3,1800,2.1729,34.5938,2,-999.,9,92.50,2,146.53,2,39.64,2,0.00,2,2.80,2,-999.,9,-999.,9,-999.,9,-999,9,-999,9
49UP20171125,RF17-10,6099,1,2,25811,2,20171130,2006,24.2548,161.581,3330,1820.0,1801,2.1726,34.5939,2,-999.,9,92.77,2,146.50,2,39.65,2,0.00,2,2.80,2,-999.,9,-999.,9,-999.,9,-999,9,-999,9
49UP20171125,RF17-10,6099,1,1,25810,2,20171130,2001,24.2548,161.581,3330,2023.9,2001,1.9717,34.6154,2,-999.,9,101.64,2,149.36,2,39.16,2,0.00,2,2.76,2,-999.,9,-999.,9,-999.,9,-999,9,-999,9