BOTTLE,20180401JMAGEMD
EXPOCODE,SECT_ID,STNNBR,CASTNO,SAMPNO,BTLNBR,BTLNBR_FLAG_W,DATE,TIME,LATITUDE,LONGITUDE,DEPTH,CTDPRS,CTDDEP,CTDTMP,CTDSAL,CTDSAL_FLAG_W,SALNTY,SALNTY_FLAG_W,OXYGEN,OXYGEN_FLAG_W,SILCAT,SILCAT_FLAG_W,NO2+NO3,NO2+NO3_FLAG_W,NITRIT,NITRIT_FLAG_W,PHSPHT,PHSPHT_FLAG_W,TCARBN,TCARBN_FLAG_W,ALKALI,ALKALI_FLAG_W,PH_TOT,PH_TOT_FLAG_W,CFC-11,CFC-11_FLAG_W,CFC-12,CFC-12_FLAG_W
,,,,,,,UTC,UTC,,,METER,DBAR,METERS,ITS-90,PSS-78,,PSS-78,,UMOL/KG,,UMOL/KG,,UMOL/KG,,UMOL/KG,,UMOL/KG,,UMOL/KG,,UMOL/KG,,@25DEG-C,,PMOL/KG,,PMOL/KG,
49UP20171125,RF17-10,6118,1,-999,0,2,20171208,1205,24.2073,135.041,5159,0.0,0,25.3317,34.8683,2,34.8759,2,206.75,2,1.37,2,0.00,2,0.00,2,0.02,2,1966.5,2,2293.0,2,8.0981,2,-999,9,-999,9
49UP20171125,RF17-10,6118,1,36,25845,2,20171208,1243,24.2073,135.041,5159,12.4,12,25.3436,34.8681,2,-999.0000,9,206.29,6,1.37,6,0.00,6,0.00,6,0.01,6,1967.9,2,2292.3,2,8.1005,2,-999,9,-999,9
49UP20171125,RF17-10,6118,1,30,25839,2,20171208,1243,24.2073,135.041,5159,12.8,13,25.3324,34.8677,2,-999.0000,9,-999.00,9,-999.00,9,-999.00,9,-999.00,9,-999.000,9,-999.0,9,-999.0,9,-999.0000,9,-999,9,-999,9
49UP20171125,RF17-10,6118,1,34,25843,2,20171208,1241,24.2073,135.041,5159,26.1,26,25.3529,34.8680,2,-999.0000,9,206.10,2,1.40,2,0.00,2,0.00,2,0.01,2,1968.3,2,2292.1,2,8.0967,2,-999,9,-999,9
49UP20171125,RF17-10,6118,1,35,25844,2,20171208,1241,24.2073,135.041,5159,27.0,27,25.3553,34.8679,2,-999.0000,9,206.48,2,1.40,2,0.00,2,0.00,2,0.00,2,1968.3,2,2290.7,2,8.0936,2,-999,9,-999,9
49UP20171125,RF17-10,6118,1,29,25838,2,20171208,1239,24.2073,135.041,5159,50.9,51,25.0089,34.8514,2,-999.0000,9,-999.00,9,-999.00,9,-999.00,9,-999.00,9,-999.000,9,-999.0,9,-999.0,9,-999.0000,9,-999,9,-999,9
49UP20171125,RF17-10,6118,1,33,25842,2,20171208,1240,24.2073,135.041,5159,52.0,52,24.9422,34.8450,2,-999.0000,9,207.68,2,1.39,2,0.00,2,0.00,2,0.01,2,1972.3,2,2290.6,2,8.0936,2,-999,9,-999,9
49UP20171125,RF17-10,6118,1,32,25841,2,20171208,1238,24.2073,135.041,5159,79.4,79,24.6537,34.8191,2,-999.0000,9,208.87,2,1.60,2,0.00,2,0.00,2,0.01,2,1971.6,2,2289.3,2,8.0855,2,-999,9,-999,9
49UP20171125,RF17-10,6118,1,31,25840,2,20171208,1236,24.2073,135.041,5159,104.3,104,22.7440,34.9473,2,-999.0000,9,205.64,2,1.91,2,0.43,2,0.10,2,0.05,2,2006.5,2,2297.9,2,8.0444,2,-999,9,-999,9
49UP20171125,RF17-10,6118,1,28,25837,2,20171208,1236,24.2073,135.041,5159,105.0,104,22.7279,34.9474,2,-999.0000,9,-999.00,9,-999.00,9,-999.00,9,-999.00,9,-999.000,9,-999.0,9,-999.0,9,-999.0000,9,-999,9,-999,9
49UP20171125,RF17-10,6118,1,27,25836,2,20171208,1234,24.2073,135.041,5159,123.9,123,21.1715,34.9760,2,-999.0000,9,199.44,2,2.42,2,1.60,2,0.04,2,0.13,2,2021.1,2,2297.6,2,8.0187,2,-999,9,-999,9
49UP20171125,RF17-10,6118,1,21,25830,2,20171208,1232,24.2073,135.041,5159,152.6,152,20.4546,34.9600,2,-999.0000,9,-999.00,9,-999.00,9,-999.00,9,-999.00,9,-999.000,9,-999.0,9,-999.0,9,-999.0000,9,-999,9,-999,9
49UP20171125,RF17-10,6118,1,26,25835,2,20171208,1232,24.2073,135.041,5159,153.4,152,20.4351,34.9592,2,-999.0000,9,198.55,2,2.54,2,2.08,2,0.02,2,0.16,2,2026.4,2,2297.5,2,8.0048,2,-999,9,-999,9
49UP20171125,RF17-10,6118,1,25,25834,2,20171208,1230,24.2073,135.041,5159,204.7,203,18.8328,34.8966,2,-999.0000,9,202.93,2,2.97,2,2.96,2,0.01,2,0.21,2,2032.6,2,2293.1,2,7.9845,2,-999,9,-999,9
49UP20171125,RF17-10,6118,1,24,25833,2,20171208,1226,24.2073,135.041,5159,252.6,251,18.0013,34.8533,2,-999.0000,9,209.55,2,3.27,2,3.37,2,0.01,2,0.23,2,2039.1,2,2292.2,2,7.9754,2,-999,9,-999,9
49UP20171125,RF17-10,6118,1,23,25832,2,20171208,1223,24.2073,135.041,5159,307.5,305,17.0143,34.7546,2,-999.0000,9,205.10,2,4.78,2,5.16,2,0.00,2,0.34,2,2044.9,2,2286.5,2,7.9469,2,-999,9,-999,9
49UP20171125,RF17-10,6118,1,22,25831,2,20171208,1220,24.2073,135.041,5159,410.2,407,14.7972,34.5486,2,-999.0000,9,191.20,2,10.52,2,9.85,2,0.00,2,0.67,2,2077.3,2,2278.7,2,7.8699,2,-999,9,-999,9
49UP20171125,RF17-10,6118,1,18,25827,2,20171208,1217,24.2073,135.041,5159,505.2,501,11.7576,34.3343,2,-999.0000,9,172.73,6,22.57,6,16.53,6,0.00,6,1.16,6,2123.6,2,2277.1,2,7.7663,2,-999,9,-999,9
49UP20171125,RF17-10,6118,1,16,25825,2,20171208,1214,24.2073,135.041,5159,608.4,604,8.7979,34.1964,2,-999.0000,9,145.23,2,43.68,2,24.30,2,0.00,2,1.73,2,2186.7,2,2289.0,2,7.6455,2,-999,9,-999,9
49UP20171125,RF17-10,6118,1,17,25826,2,20171208,1214,24.2073,135.041,5159,611.4,607,8.7537,34.1964,2,-999.0000,9,145.25,2,43.59,2,24.20,2,0.00,2,1.73,2,2184.1,2,2287.7,2,7.6394,2,-999,9,-999,9
49UP20171125,RF17-10,6118,1,15,25824,2,20171208,1209,24.2073,135.041,5159,708.7,703,6.2097,34.1501,2,-999.0000,9,105.86,2,70.41,2,32.19,2,0.00,2,2.31,2,2246.7,6,2308.9,6,7.5093,2,-999,9,-999,9
49UP20171125,RF17-10,6118,1,14,25823,2,20171208,1206,24.2073,135.041,5159,811.7,805,4.9735,34.1963,2,-999.0000,9,75.67,2,90.26,2,37.04,2,0.00,2,2.66,2,2290.6,2,2327.6,2,7.4341,6,-999,9,-999,9
49UP20171125,RF17-10,6118,1,13,25822,2,20171208,1203,24.2073,135.041,5159,910.4,903,4.2597,34.2811,2,-999.0000,9,60.85,2,106.15,2,39.37,2,0.00,2,2.82,2,2321.5,2,2347.8,2,7.4067,2,-999,9,-999,9
49UP20171125,RF17-10,6118,1,9,25818,2,20171208,1200,24.2073,135.041,5159,1008.7,1000,3.7877,34.3424,2,-999.0000,9,56.30,2,117.14,2,40.36,2,0.00,2,2.89,2,2334.5,2,2361.4,2,7.3950,2,-999,9,-999,9
49UP20171125,RF17-10,6118,1,8,25817,2,20171208,1155,24.2073,135.041,5159,1214.8,1204,3.1127,34.4398,2,-999.0000,9,59.51,2,132.21,2,40.86,2,0.00,2,2.91,2,2353.4,2,2381.6,2,7.4120,2,-999,9,-999,9
49UP20171125,RF17-10,6118,1,7,25816,2,20171208,1150,24.2073,135.041,5159,1418.0,1404,2.7120,34.5077,2,-999.0000,9,73.99,2,138.16,2,40.37,2,0.00,2,2.86,2,2354.1,2,2394.0,2,7.4414,2,-999,9,-999,9
49UP20171125,RF17-10,6118,1,6,25815,2,20171208,1145,24.2073,135.041,5159,1609.5,1593,2.4074,34.5596,2,-999.0000,9,92.27,2,140.17,2,39.36,2,0.00,2,2.78,2,2344.3,6,2403.0,6,7.4765,2,-999,9,-999,9
49UP20171125,RF17-10,6118,1,5,25814,2,20171208,1140,24.2073,135.041,5159,1821.9,1802,2.1028,34.5947,2,-999.0000,9,105.93,2,142.38,2,38.60,2,0.00,2,2.72,2,2344.0,2,2409.1,2,7.5084,6,-999,9,-999,9
49UP20171125,RF17-10,6118,1,4,25813,2,20171208,1136,24.2073,135.041,5159,2022.8,2000,1.9837,34.6108,2,-999.0000,9,113.83,2,143.12,2,38.29,2,0.00,2,2.68,2,2337.9,2,2410.5,2,7.5191,2,-999,9,-999,9
49UP20171125,RF17-10,6119,1,-999,0,2,20171208,2240,24.2307,134.0048,4915,0.0,0,26.8368,34.7818,2,-999.0000,9,201.83,2,1.10,2,0.01,2,0.00,2,0.04,2,-999.,9,-999.,9,-999.,9,-999,9,-999,9
49UP20171125,RF17-10,6119,1,36,25845,2,20171208,2306,24.2307,134.0048,4915,12.5,12,26.8522,34.7819,2,34.7810,2,201.35,2,1.15,2,0.00,2,0.00,2,0.01,2,-999.,9,-999.,9,-999.,9,-999,9,-999,9
49UP20171125,RF17-10,6119,1,35,25844,2,20171208,2305,24.2307,134.0048,4915,26.0,26,26.8630,34.7812,2,34.7794,2,201.11,2,1.13,2,0.00,2,0.00,2,0.01,2,-999.,9,-999.,9,-999.,9,-999,9,-999,9
49UP20171125,RF17-10,6119,1,34,25843,2,20171208,2303,24.2307,134.0048,4915,52.2,52,26.8654,34.7811,2,34.7792,2,201.06,2,1.17,2,0.00,2,0.00,2,0.01,2,-999.,9,-999.,9,-999.,9,-999,9,-999,9
49UP20171125,RF17-10,6119,1,33,25842,2,20171208,2302,24.2307,134.0048,4915,77.8,77,26.8744,34.7807,2,34.7787,2,203.74,2,1.11,2,0.00,2,0.00,2,0.01,2,-999.,9,-999.,9,-999.,9,-999,9,-999,9
49UP20171125,RF17-10,6119,1,32,25841,2,20171208,2259,24.2307,134.0048,4915,107.7,107,25.6249,35.0397,2,35.0442,2,210.54,6,1.26,6,0.00,6,0.00,6,0.02,6,-999.,9,-999.,9,-999.,9,-999,9,-999,9
49UP20171125,RF17-10,6119,1,31,25840,2,20171208,2258,24.2307,134.0048,4915,127.7,127,24.3586,35.1107,2,-999.0000,9,209.46,2,1.40,2,0.04,2,0.04,2,0.03,2,-999.,9,-999.,9,-999.,9,-999,9,-999,9
49UP20171125,RF17-10,6119,1,30,25839,2,20171208,2256,24.2307,134.0048,4915,153.4,152,22.8764,35.0877,2,35.0859,2,203.08,2,1.64,2,0.29,2,0.13,2,0.05,2,-999.,9,-999.,9,-999.,9,-999,9,-999,9
49UP20171125,RF17-10,6119,1,29,25838,2,20171208,2254,24.2307,134.0048,4915,204.6,203,20.7738,35.0122,2,35.0125,2,200.48,2,2.12,2,1.07,2,0.02,2,0.11,2,-999.,9,-999.,9,-999.,9,-999,9,-999,9
49UP20171125,RF17-10,6119,1,28,25837,2,20171208,2252,24.2307,134.0048,4915,254.0,252,18.4938,34.8723,2,-999.0000,9,200.43,2,3.18,2,3.51,2,0.01,2,0.25,2,-999.,9,-999.,9,-999.,9,-999,9,-999,9
49UP20171125,RF17-10,6119,1,27,25836,2,20171208,2250,24.2307,134.0048,4915,307.4,305,17.4973,34.7830,2,34.7832,2,199.55,2,4.15,2,4.88,2,0.01,2,0.33,2,-999.,9,-999.,9,-999.,9,-999,9,-999,9
49UP20171125,RF17-10,6119,1,26,25835,2,20171208,2247,24.2307,134.0048,4915,407.2,404,15.3816,34.5865,2,34.6007,4,191.02,2,7.76,2,8.32,2,0.00,2,0.58,2,-999.,9,-999.,9,-999.,9,-999,9,-999,9
49UP20171125,RF17-10,6119,1,25,25834,2,20171208,2244,24.2307,134.0048,4915,507.8,504,11.5963,34.3090,2,34.3143,4,176.27,2,21.19,2,16.27,2,0.00,2,1.14,2,-999.,9,-999.,9,-999.,9,-999,9,-999,9
49UP20171125,RF17-10,6119,1,24,25833,2,20171208,2241,24.2307,134.0048,4915,607.8,603,8.8027,34.1720,2,34.1725,2,145.13,6,39.90,6,24.24,6,0.00,6,1.73,6,-999.,9,-999.,9,-999.,9,-999,9,-999,9
49UP20171125,RF17-10,6119,1,23,25832,2,20171208,2238,24.2307,134.0048,4915,706.4,701,6.9602,34.1356,2,34.1368,2,116.04,2,59.14,2,30.18,2,0.00,2,2.17,2,-999.,9,-999.,9,-999.,9,-999,9,-999,9
49UP20171125,RF17-10,6119,1,22,25831,3,20171208,2234,24.2307,134.0048,4915,806.0,799,5.7606,34.1666,2,34.1684,2,88.75,2,76.54,2,34.61,2,0.00,2,2.49,2,-999.,9,-999.,9,-999.,9,-999,9,-999,9
49UP20171125,RF17-10,6119,1,21,25830,2,20171208,2232,24.2307,134.0048,4915,910.5,903,4.7183,34.2662,2,34.2660,2,64.98,2,96.45,2,38.45,2,0.00,2,2.76,2,-999.,9,-999.,9,-999.,9,-999,9,-999,9
49UP20171125,RF17-10,6119,1,19,25828,2,20171208,2228,24.2307,134.0048,4915,1012.4,1003,4.1269,34.3278,2,34.3228,4,58.82,2,110.07,2,39.96,2,0.00,2,2.85,2,-999.,9,-999.,9,-999.,9,-999,9,-999,9
49UP20171125,RF17-10,6119,1,20,25829,2,20171208,2229,24.2307,134.0048,4915,1013.8,1005,4.1286,34.3321,2,34.3249,4,58.88,2,109.79,2,39.87,2,0.00,2,2.85,2,-999.,9,-999.,9,-999.,9,-999,9,-999,9
49UP20171125,RF17-10,6119,1,18,25827,2,20171208,2223,24.2307,134.0048,4915,1214.3,1203,3.2984,34.4443,2,34.4434,2,62.99,6,127.51,6,40.66,6,0.00,6,2.90,6,-999.,9,-999.,9,-999.,9,-999,9,-999,9
49UP20171125,RF17-10,6119,1,17,25826,2,20171208,2217,24.2307,134.0048,4915,1414.5,1401,2.8386,34.5035,2,34.5023,2,74.23,2,135.47,2,40.22,2,0.00,2,2.86,2,-999.,9,-999.,9,-999.,9,-999,9,-999,9
49UP20171125,RF17-10,6119,1,16,25825,2,20171208,2211,24.2307,134.0048,4915,1617.6,1601,2.4716,34.5492,2,34.5477,2,88.23,2,140.13,2,39.63,2,0.00,2,2.80,2,-999.,9,-999.,9,-999.,9,-999,9,-999,9
49UP20171125,RF17-10,6119,1,15,25824,2,20171208,2205,24.2307,134.0048,4915,1821.5,1802,2.1838,34.5859,2,34.5842,2,101.73,2,142.38,2,38.89,2,0.00,2,2.74,2,-999.,9,-999.,9,-999.,9,-999,9,-999,9
49UP20171125,RF17-10,6119,1,14,25823,2,20171208,2200,24.2307,134.0048,4915,2026.0,2003,2.0061,34.6095,2,34.6091,2,112.26,2,143.16,2,38.37,2,0.00,2,2.69,2,-999.,9,-999.,9,-999.,9,-999,9,-999,9
49UP20171125,RF17-10,6119,1,13,25822,2,20171208,2154,24.2307,134.0048,4915,2277.7,2251,1.8379,34.6310,2,34.6310,2,123.21,2,143.51,2,37.68,2,0.00,2,2.65,2,-999.,9,-999.,9,-999.,9,-999,9,-999,9
49UP20171125,RF17-10,6119,1,12,25821,2,20171208,2148,24.2307,134.0048,4915,2532.0,2501,1.7480,34.6444,2,34.6436,6,130.22,2,143.19,2,37.37,2,0.00,2,2.61,2,-999.,9,-999.,9,-999.,9,-999,9,-999,9
49UP20171125,RF17-10,6119,1,11,25820,2,20171208,2143,24.2307,134.0048,4915,2784.5,2749,1.6537,34.6570,2,34.6535,4,136.90,2,142.41,2,36.86,2,0.00,2,2.57,2,-999.,9,-999.,9,-999.,9,-999,9,-999,9
49UP20171125,RF17-10,6119,1,10,25819,2,20171208,2137,24.2307,134.0048,4915,3040.8,3000,1.6118,34.6638,2,34.6635,2,142.64,2,142.62,2,36.65,2,0.00,2,2.55,2,-999.,9,-999.,9,-999.,9,-999,9,-999,9
49UP20171125,RF17-10,6119,1,9,25818,2,20171208,2137,24.2307,134.0048,4915,3042.0,3001,1.6119,34.6639,2,34.6637,2,142.19,2,142.76,2,36.52,2,0.00,2,2.55,2,-999.,9,-999.,9,-999.,9,-999,9,-999,9
49UP20171125,RF17-10,6119,1,8,25817,2,20171208,2132,24.2307,134.0048,4915,3295.5,3249,1.5735,34.6701,2,34.6689,2,145.97,6,142.21,6,36.34,6,0.00,6,2.53,6,-999.,9,-999.,9,-999.,9,-999,9,-999,9
49UP20171125,RF17-10,6119,1,7,25816,2,20171208,2126,24.2307,134.0048,4915,3552.7,3501,1.5604,34.6741,2,34.6779,4,149.22,2,142.13,2,36.25,2,0.00,2,2.52,2,-999.,9,-999.,9,-999.,9,-999,9,-999,9
49UP20171125,RF17-10,6119,1,6,25815,2,20171208,2121,24.2307,134.0048,4915,3808.8,3751,1.5588,34.6771,2,34.6771,2,151.60,2,141.88,2,36.01,2,0.00,2,2.51,2,-999.,9,-999.,9,-999.,9,-999,9,-999,9
49UP20171125,RF17-10,6119,1,5,25814,2,20171208,2116,24.2307,134.0048,4915,4065.4,4001,1.5669,34.6791,2,34.6798,2,153.14,2,141.62,2,36.07,2,0.00,2,2.50,2,-999.,9,-999.,9,-999.,9,-999,9,-999,9
49UP20171125,RF17-10,6119,1,4,25813,2,20171208,2111,24.2307,134.0048,4915,4320.3,4250,1.5822,34.6804,2,34.6845,4,153.96,2,141.57,2,35.94,2,0.00,2,2.49,2,-999.,9,-999.,9,-999.,9,-999,9,-999,9
49UP20171125,RF17-10,6119,1,3,25812,2,20171208,2105,24.2307,134.0048,4915,4578.6,4501,1.6027,34.6814,2,34.6808,6,154.66,2,141.36,2,35.92,2,0.00,2,2.49,2,-999.,9,-999.,9,-999.,9,-999,9,-999,9
49UP20171125,RF17-10,6119,1,2,25811,2,20171208,2100,24.2307,134.0048,4915,4832.8,4748,1.6280,34.6818,2,34.6813,2,155.18,2,141.13,2,35.79,2,0.00,2,2.48,2,-999.,9,-999.,9,-999.,9,-999,9,-999,9
49UP20171125,RF17-10,6119,1,1,25810,2,20171208,2056,24.2307,134.0048,4915,5004.4,4915,1.6479,34.6820,2,34.6823,2,154.91,2,141.12,2,35.86,2,0.00,2,2.49,2,-999.,9,-999.,9,-999.,9,-999,9,-999,9
49UP20171125,RF17-10,6120,1,-999,0,2,20171209,0740,23.7578,133.0023,2898,0.0,0,26.9388,34.8328,2,34.8229,2,201.53,2,1.06,2,0.07,2,0.00,2,0.09,2,1949.5,2,2285.7,2,-999.,9,-999,9,-999,9
49UP20171125,RF17-10,6120,1,35,25844,2,20171209,0804,23.7578,133.0023,2898,11.1,11,26.9599,34.8327,2,-999.0000,9,201.01,2,1.05,2,0.05,2,0.00,2,0.00,2,1953.8,2,2290.1,2,-999.,9,-999,9,-999,9
49UP20171125,RF17-10,6120,1,36,25845,2,20171209,0804,23.7578,133.0023,2898,11.3,11,26.9619,34.8324,2,-999.0000,9,200.98,2,1.09,2,0.03,2,0.00,2,0.01,2,-999.0,9,-999.0,9,-999.,9,-999,9,-999,9
49UP20171125,RF17-10,6120,1,30,25839,2,20171209,0803,23.7578,133.0023,2898,11.7,12,26.9627,34.8324,2,-999.0000,9,-999.00,9,-999.00,9,-999.00,9,-999.00,9,-999.000,9,-999.0,9,-999.0,9,-999.,9,-999,9,-999,9
49UP20171125,RF17-10,6120,1,34,25843,2,20171209,0802,23.7578,133.0023,2898,28.6,28,26.9518,34.8342,2,-999.0000,9,200.92,2,1.08,2,0.05,2,0.00,2,0.00,2,1953.6,2,2291.0,2,-999.,9,-999,9,-999,9
49UP20171125,RF17-10,6120,1,29,25838,2,20171209,0800,23.7578,133.0023,2898,51.8,51,26.9108,34.8408,2,-999.0000,9,-999.00,9,-999.00,9,-999.00,9,-999.00,9,-999.000,9,-999.0,9,-999.0,9,-999.,9,-999,9,-999,9
49UP20171125,RF17-10,6120,1,33,25842,2,20171209,0801,23.7578,133.0023,2898,53.6,53,26.8816,34.8457,2,-999.0000,9,201.38,2,1.08,2,0.04,2,0.00,2,0.00,2,1959.9,2,2291.1,2,-999.,9,-999,9,-999,9
49UP20171125,RF17-10,6120,1,32,25841,2,20171209,0759,23.7578,133.0023,2898,77.4,77,26.8334,34.8530,2,-999.0000,9,201.61,2,1.10,2,0.02,2,0.00,2,0.00,2,1956.3,2,2292.4,2,-999.,9,-999,9,-999,9
49UP20171125,RF17-10,6120,1,28,25837,2,20171209,0758,23.7578,133.0023,2898,103.7,103,26.7800,34.8608,2,-999.0000,9,-999.00,9,-999.00,9,-999.00,9,-999.00,9,-999.000,9,-999.0,9,-999.0,9,-999.,9,-999,9,-999,9
49UP20171125,RF17-10,6120,1,31,25840,2,20171209,0758,23.7578,133.0023,2898,104.6,104,26.6829,34.8800,2,-999.0000,9,201.43,2,1.11,2,0.04,2,0.00,2,0.00,2,1956.8,4,2294.8,2,-999.,9,-999,9,-999,9
49UP20171125,RF17-10,6120,1,27,25836,2,20171209,0756,23.7578,133.0023,2898,128.2,127,24.2421,35.1112,2,-999.0000,9,201.80,2,1.37,2,0.15,2,0.10,2,0.04,2,2002.0,4,2309.2,2,-999.,9,-999,9,-999,9
49UP20171125,RF17-10,6120,1,21,25830,2,20171209,0755,23.7578,133.0023,2898,150.8,150,23.2418,35.1316,2,-999.0000,9,-999.00,9,-999.00,9,-999.00,9,-999.00,9,-999.000,9,-999.0,9,-999.0,9,-999.,9,-999,9,-999,9
49UP20171125,RF17-10,6120,1,26,25835,2,20171209,0755,23.7578,133.0023,2898,150.9,150,23.2497,35.1328,2,-999.0000,9,197.00,2,1.46,2,0.51,2,0.03,2,0.07,2,2017.0,4,2306.4,2,-999.,9,-999,9,-999,9
49UP20171125,RF17-10,6120,1,25,25834,2,20171209,0751,23.7578,133.0023,2898,203.3,202,21.4430,35.0727,2,-999.0000,9,196.09,2,1.85,2,1.24,2,0.02,2,0.11,2,2026.7,2,2304.6,2,-999.,9,-999,9,-999,9
49UP20171125,RF17-10,6120,1,24,25833,2,20171209,0749,23.7578,133.0023,2898,252.5,251,19.6793,34.9552,2,-999.0000,9,197.51,2,2.53,2,2.47,2,0.01,2,0.18,2,-999.0,9,-999.0,9,-999.,9,-999,9,-999,9
49UP20171125,RF17-10,6120,1,23,25832,2,20171209,0747,23.7578,133.0023,2898,302.9,301,18.1920,34.8583,2,-999.0000,9,206.64,2,3.19,2,3.48,2,0.01,2,0.23,2,-999.0,9,-999.0,9,-999.,9,-999,9,-999,9
49UP20171125,RF17-10,6120,1,22,25831,2,20171209,0745,23.7578,133.0023,2898,402.7,400,15.9556,34.6392,2,-999.0000,9,196.00,6,6.88,6,7.50,6,0.00,6,0.50,6,-999.0,9,-999.0,9,-999.,9,-999,9,-999,9
49UP20171125,RF17-10,6120,1,17,25826,2,20171209,0741,23.7578,133.0023,2898,503.9,500,12.4150,34.3562,2,-999.0000,9,178.84,2,17.38,2,14.61,2,0.00,2,1.02,2,-999.0,9,-999.0,9,-999.,9,-999,9,-999,9
49UP20171125,RF17-10,6120,1,18,25827,2,20171209,0742,23.7578,133.0023,2898,504.0,500,12.4205,34.3572,2,-999.0000,9,179.16,2,17.25,2,14.57,2,0.00,2,1.02,2,-999.0,9,-999.0,9,-999.,9,-999,9,-999,9
49UP20171125,RF17-10,6120,1,16,25825,2,20171209,0739,23.7578,133.0023,2898,606.2,601,9.7127,34.2023,2,-999.0000,9,151.75,2,31.52,2,21.85,2,0.00,2,1.56,2,-999.0,9,-999.0,9,-999.,9,-999,9,-999,9
49UP20171125,RF17-10,6120,1,15,25824,2,20171209,0736,23.7578,133.0023,2898,706.8,701,7.3917,34.1321,2,-999.0000,9,121.28,2,52.68,2,29.00,2,0.00,2,2.08,2,-999.0,9,-999.0,9,-999.,9,-999,9,-999,9
49UP20171125,RF17-10,6120,1,14,25823,2,20171209,0732,23.7578,133.0023,2898,808.6,802,5.9048,34.1532,2,-999.0000,9,91.52,2,73.40,2,34.24,2,0.00,2,2.47,2,-999.0,9,-999.0,9,-999.,9,-999,9,-999,9
49UP20171125,RF17-10,6120,1,13,25822,2,20171209,0729,23.7578,133.0023,2898,907.9,900,5.1598,34.2033,2,-999.0000,9,75.11,2,87.23,2,36.96,2,0.00,2,2.65,2,-999.0,9,-999.0,9,-999.,9,-999,9,-999,9
49UP20171125,RF17-10,6120,1,9,25818,2,20171209,0726,23.7578,133.0023,2898,1012.9,1004,4.2620,34.3143,2,-999.0000,9,59.02,2,106.43,2,39.72,2,0.00,2,2.84,2,-999.0,9,-999.0,9,-999.,9,-999,9,-999,9
49UP20171125,RF17-10,6120,1,8,25817,2,20171209,0721,23.7578,133.0023,2898,1213.5,1202,3.3520,34.4467,2,-999.0000,9,63.79,2,125.95,2,40.46,2,0.00,2,2.89,2,-999.0,9,-999.0,9,-999.,9,-999,9,-999,9
49UP20171125,RF17-10,6120,1,7,25816,2,20171209,0716,23.7578,133.0023,2898,1416.5,1403,2.7522,34.5171,2,-999.0000,9,78.60,2,136.55,2,39.90,2,0.00,2,2.83,2,-999.0,9,-999.0,9,-999.,9,-999,9,-999,9
49UP20171125,RF17-10,6120,1,6,25815,2,20171209,0712,23.7578,133.0023,2898,1617.6,1601,2.3942,34.5591,2,-999.0000,9,92.02,2,140.78,2,39.36,2,0.00,2,2.78,2,-999.0,9,-999.0,9,-999.,9,-999,9,-999,9
49UP20171125,RF17-10,6120,1,5,25814,2,20171209,0707,23.7578,133.0023,2898,1821.9,1802,2.1425,34.5905,2,-999.0000,9,104.27,2,142.56,2,38.74,2,0.00,2,2.73,2,-999.0,9,-999.0,9,-999.,9,-999,9,-999,9
49UP20171125,RF17-10,6120,1,4,25813,2,20171209,0702,23.7578,133.0023,2898,2024.8,2002,2.0366,34.6054,2,-999.0000,9,111.19,6,142.85,6,38.30,6,0.00,6,2.69,6,-999.0,9,-999.0,9,-999.,9,-999,9,-999,9