BOTTLE,20180401JMAGEMD
EXPOCODE,SECT_ID,STNNBR,CASTNO,SAMPNO,BTLNBR,BTLNBR_FLAG_W,DATE,TIME,LATITUDE,LONGITUDE,DEPTH,CTDPRS,CTDDEP,CTDTMP,CTDSAL,CTDSAL_FLAG_W,SALNTY,SALNTY_FLAG_W,OXYGEN,OXYGEN_FLAG_W,SILCAT,SILCAT_FLAG_W,NO2+NO3,NO2+NO3_FLAG_W,NITRIT,NITRIT_FLAG_W,PHSPHT,PHSPHT_FLAG_W,TCARBN,TCARBN_FLAG_W,ALKALI,ALKALI_FLAG_W,PH_TOT,PH_TOT_FLAG_W,CFC-11,CFC-11_FLAG_W,CFC-12,CFC-12_FLAG_W
,,,,,,,UTC,UTC,,,METER,DBAR,METERS,ITS-90,PSS-78,,PSS-78,,UMOL/KG,,UMOL/KG,,UMOL/KG,,UMOL/KG,,UMOL/KG,,UMOL/KG,,UMOL/KG,,@25DEG-C,,PMOL/KG,,PMOL/KG,
49UP20171125,RF17-10,6112,1,-999,0,2,20171205,2230,24.2343,142.4488,2900,0.0,0,25.8097,34.9659,2,-999.0000,9,205.72,2,1.31,2,0.00,2,0.00,2,0.03,2,-999.,9,-999.,9,-999.,9,-999,9,-999,9
49UP20171125,RF17-10,6112,1,36,25845,2,20171205,2305,24.2343,142.4488,2900,10.8,11,25.8125,34.9660,2,34.9639,2,205.28,2,1.30,2,0.00,2,0.00,2,0.01,2,-999.,9,-999.,9,-999.,9,-999,9,-999,9
49UP20171125,RF17-10,6112,1,35,25844,2,20171205,2304,24.2343,142.4488,2900,27.4,27,25.8200,34.9654,2,-999.0000,9,205.52,2,1.28,2,0.00,2,0.00,2,0.01,2,-999.,9,-999.,9,-999.,9,-999,9,-999,9
49UP20171125,RF17-10,6112,1,34,25843,2,20171205,2303,24.2343,142.4488,2900,53.6,53,25.8020,34.9619,2,34.9621,2,205.44,6,1.36,6,0.00,6,0.00,6,0.01,6,-999.,9,-999.,9,-999.,9,-999,9,-999,9
49UP20171125,RF17-10,6112,1,30,25839,2,20171205,2302,24.2343,142.4488,2900,76.4,76,24.2178,34.9752,2,-999.0000,9,211.18,2,1.49,2,0.01,2,0.00,2,0.02,2,-999.,9,-999.,9,-999.,9,-999,9,-999,9
49UP20171125,RF17-10,6112,1,29,25838,2,20171205,2302,24.2343,142.4488,2900,77.0,76,24.1321,34.9747,2,-999.0000,9,210.87,2,1.57,2,0.00,2,0.00,2,0.02,2,-999.,9,-999.,9,-999.,9,-999,9,-999,9
49UP20171125,RF17-10,6112,1,28,25837,2,20171205,2259,24.2343,142.4488,2900,103.1,102,21.7066,34.9942,2,34.9943,2,212.93,2,1.87,2,0.20,2,0.07,2,0.04,2,-999.,9,-999.,9,-999.,9,-999,9,-999,9
49UP20171125,RF17-10,6112,1,27,25836,2,20171205,2258,24.2343,142.4488,2900,127.6,127,19.6368,34.9685,2,-999.0000,9,212.14,2,2.14,2,0.59,2,0.10,2,0.08,2,-999.,9,-999.,9,-999.,9,-999,9,-999,9
49UP20171125,RF17-10,6112,1,26,25835,2,20171205,2257,24.2343,142.4488,2900,155.0,154,18.9113,34.9298,2,34.9318,2,213.46,2,2.23,2,1.18,2,0.02,2,0.11,2,-999.,9,-999.,9,-999.,9,-999,9,-999,9
49UP20171125,RF17-10,6112,1,25,25834,2,20171205,2255,24.2343,142.4488,2900,204.4,203,18.1694,34.8722,2,34.8742,6,211.75,2,2.77,2,2.62,2,0.01,2,0.19,2,-999.,9,-999.,9,-999.,9,-999,9,-999,9
49UP20171125,RF17-10,6112,1,21,25830,2,20171205,2253,24.2343,142.4488,2900,252.7,251,17.4649,34.8091,2,-999.0000,9,210.89,2,3.67,2,4.01,2,0.01,2,0.27,2,-999.,9,-999.,9,-999.,9,-999,9,-999,9
49UP20171125,RF17-10,6112,1,20,25829,2,20171205,2251,24.2343,142.4488,2900,306.6,304,16.8778,34.7698,2,-999.0000,9,214.51,2,4.43,2,4.65,2,0.01,2,0.31,2,-999.,9,-999.,9,-999.,9,-999,9,-999,9
49UP20171125,RF17-10,6112,1,19,25828,2,20171205,2247,24.2343,142.4488,2900,403.3,400,15.1648,34.5819,2,34.5847,2,198.86,2,8.55,2,8.48,2,0.01,2,0.59,2,-999.,9,-999.,9,-999.,9,-999,9,-999,9
49UP20171125,RF17-10,6112,1,18,25827,2,20171205,2244,24.2343,142.4488,2900,507.9,504,12.0611,34.3401,2,-999.0000,9,185.77,2,19.04,2,14.76,2,0.00,2,1.02,2,-999.,9,-999.,9,-999.,9,-999,9,-999,9
49UP20171125,RF17-10,6112,1,17,25826,2,20171205,2241,24.2343,142.4488,2900,605.6,601,8.4387,34.1223,2,34.1260,2,156.46,2,40.07,2,23.67,2,0.00,2,1.68,2,-999.,9,-999.,9,-999.,9,-999,9,-999,9
49UP20171125,RF17-10,6112,1,16,25825,2,20171205,2237,24.2343,142.4488,2900,710.1,704,6.6220,34.0840,2,-999.0000,9,119.44,6,59.11,6,30.47,6,0.00,6,2.18,6,-999.,9,-999.,9,-999.,9,-999,9,-999,9
49UP20171125,RF17-10,6112,1,11,25820,2,20171205,2234,24.2343,142.4488,2900,808.8,802,5.4295,34.1285,2,34.1279,2,85.48,2,78.30,2,35.55,2,0.00,2,2.55,2,-999.,9,-999.,9,-999.,9,-999,9,-999,9
49UP20171125,RF17-10,6112,1,12,25821,2,20171205,2234,24.2343,142.4488,2900,810.9,804,5.4193,34.1297,2,34.1289,2,84.82,2,78.60,2,35.61,2,0.00,2,2.55,2,-999.,9,-999.,9,-999.,9,-999,9,-999,9
49UP20171125,RF17-10,6112,1,10,25819,2,20171205,2231,24.2343,142.4488,2900,913.4,906,4.4638,34.2217,2,-999.0000,9,54.40,2,99.26,2,39.81,2,0.00,2,2.85,2,-999.,9,-999.,9,-999.,9,-999,9,-999,9
49UP20171125,RF17-10,6112,1,9,25818,2,20171205,2227,24.2343,142.4488,2900,1011.6,1003,3.8815,34.3154,2,34.3147,2,42.74,2,114.51,2,41.47,2,0.00,2,2.96,2,-999.,9,-999.,9,-999.,9,-999,9,-999,9
49UP20171125,RF17-10,6112,1,8,25817,2,20171205,2221,24.2343,142.4488,2900,1210.3,1199,3.2248,34.4506,2,34.4496,2,57.48,2,128.95,2,41.10,2,0.00,2,2.92,2,-999.,9,-999.,9,-999.,9,-999,9,-999,9
49UP20171125,RF17-10,6112,1,7,25816,2,20171205,2217,24.2343,142.4488,2900,1416.7,1403,2.6429,34.5037,2,34.5031,2,60.86,2,142.92,2,41.38,2,0.00,2,2.93,2,-999.,9,-999.,9,-999.,9,-999,9,-999,9
49UP20171125,RF17-10,6112,1,3,25812,2,20171205,2213,24.2343,142.4488,2900,1614.9,1598,2.3592,34.5452,2,34.5451,2,72.46,2,147.74,2,40.88,2,0.00,2,2.88,2,-999.,9,-999.,9,-999.,9,-999,9,-999,9
49UP20171125,RF17-10,6112,1,2,25811,2,20171205,2208,24.2343,142.4488,2900,1817.3,1798,2.0906,34.5840,2,34.5844,2,87.97,2,150.35,2,39.96,2,0.00,2,2.81,2,-999.,9,-999.,9,-999.,9,-999,9,-999,9
49UP20171125,RF17-10,6112,1,1,25810,2,20171205,2203,24.2343,142.4488,2900,2019.2,1997,1.9287,34.6082,2,34.6090,2,101.11,2,150.30,2,39.20,2,0.00,2,2.75,2,-999.,9,-999.,9,-999.,9,-999,9,-999,9
49UP20171125,RF17-10,6113,1,-999,0,2,20171206,0635,24.2407,141.2013,1838,0.0,0,25.6176,34.9579,2,-999.,9,206.79,2,1.44,2,0.00,2,0.00,2,0.03,2,-999.,9,-999.,9,-999.,9,-999,9,-999,9
49UP20171125,RF17-10,6113,1,36,25845,2,20171206,0709,24.2407,141.2013,1838,10.8,11,25.6169,34.9578,2,-999.,9,206.72,6,1.44,6,0.02,6,0.00,6,0.01,6,-999.,9,-999.,9,-999.,9,-999,9,-999,9
49UP20171125,RF17-10,6113,1,35,25844,2,20171206,0708,24.2407,141.2013,1838,26.6,26,25.6290,34.9586,2,-999.,9,207.05,2,1.44,2,0.00,2,0.00,2,0.01,2,-999.,9,-999.,9,-999.,9,-999,9,-999,9
49UP20171125,RF17-10,6113,1,34,25843,2,20171206,0708,24.2407,141.2013,1838,27.0,27,25.6275,34.9584,2,-999.,9,206.91,2,1.42,2,0.02,2,0.00,2,0.01,2,-999.,9,-999.,9,-999.,9,-999,9,-999,9
49UP20171125,RF17-10,6113,1,30,25839,2,20171206,0707,24.2407,141.2013,1838,52.8,52,25.6422,34.9627,2,-999.,9,206.92,2,1.44,2,0.01,2,0.00,2,0.01,2,-999.,9,-999.,9,-999.,9,-999,9,-999,9
49UP20171125,RF17-10,6113,1,29,25838,2,20171206,0705,24.2407,141.2013,1838,76.9,76,25.5382,34.9788,2,-999.,9,207.92,2,1.42,2,0.00,2,0.00,2,0.01,2,-999.,9,-999.,9,-999.,9,-999,9,-999,9
49UP20171125,RF17-10,6113,1,28,25837,3,20171206,0704,24.2407,141.2013,1838,102.1,101,22.3976,34.9670,2,-999.,9,220.13,2,1.75,2,0.14,2,0.01,2,0.02,2,-999.,9,-999.,9,-999.,9,-999,9,-999,9
49UP20171125,RF17-10,6113,1,27,25836,2,20171206,0702,24.2407,141.2013,1838,127.8,127,20.0466,34.9303,2,-999.,9,218.11,2,2.27,2,0.77,2,0.03,2,0.08,2,-999.,9,-999.,9,-999.,9,-999,9,-999,9
49UP20171125,RF17-10,6113,1,26,25835,2,20171206,0701,24.2407,141.2013,1838,153.8,153,18.9334,34.8987,2,-999.,9,215.52,2,2.45,2,1.20,2,0.06,2,0.11,2,-999.,9,-999.,9,-999.,9,-999,9,-999,9
49UP20171125,RF17-10,6113,1,25,25834,2,20171206,0656,24.2407,141.2013,1838,202.3,201,18.2694,34.8646,2,-999.,9,210.53,2,2.97,2,2.63,2,0.02,2,0.19,2,-999.,9,-999.,9,-999.,9,-999,9,-999,9
49UP20171125,RF17-10,6113,1,21,25830,2,20171206,0655,24.2407,141.2013,1838,249.2,247,17.0589,34.7717,2,-999.,9,209.74,2,4.35,2,4.66,2,0.01,2,0.31,2,-999.,9,-999.,9,-999.,9,-999,9,-999,9
49UP20171125,RF17-10,6113,1,20,25829,2,20171206,0653,24.2407,141.2013,1838,304.7,303,16.6657,34.7564,2,-999.,9,213.40,2,4.85,2,5.04,2,0.01,2,0.33,2,-999.,9,-999.,9,-999.,9,-999,9,-999,9
49UP20171125,RF17-10,6113,1,19,25828,2,20171206,0650,24.2407,141.2013,1838,407.9,405,14.4705,34.5263,2,-999.,9,193.91,2,11.02,2,10.05,2,0.00,2,0.68,2,-999.,9,-999.,9,-999.,9,-999,9,-999,9
49UP20171125,RF17-10,6113,1,18,25827,2,20171206,0647,24.2407,141.2013,1838,507.7,504,12.4025,34.3857,2,-999.,9,178.93,6,20.26,6,14.71,6,0.00,6,1.03,6,-999.,9,-999.,9,-999.,9,-999,9,-999,9
49UP20171125,RF17-10,6113,1,17,25826,2,20171206,0644,24.2407,141.2013,1838,605.1,600,10.1539,34.2632,2,-999.,9,157.93,2,34.49,2,20.63,2,0.00,2,1.46,2,-999.,9,-999.,9,-999.,9,-999,9,-999,9
49UP20171125,RF17-10,6113,1,16,25825,2,20171206,0644,24.2407,141.2013,1838,605.9,601,10.1270,34.2624,2,-999.,9,158.14,2,34.68,2,20.68,2,0.00,2,1.46,2,-999.,9,-999.,9,-999.,9,-999,9,-999,9
49UP20171125,RF17-10,6113,1,12,25821,2,20171206,0641,24.2407,141.2013,1838,703.3,698,7.1145,34.1272,2,-999.,9,123.77,2,57.49,2,29.13,2,0.00,2,2.09,2,-999.,9,-999.,9,-999.,9,-999,9,-999,9
49UP20171125,RF17-10,6113,1,11,25820,2,20171206,0636,24.2407,141.2013,1838,810.1,803,5.3332,34.2040,2,-999.,9,84.99,2,86.42,2,35.48,2,0.00,2,2.54,2,-999.,9,-999.,9,-999.,9,-999,9,-999,9
49UP20171125,RF17-10,6113,1,10,25819,2,20171206,0633,24.2407,141.2013,1838,909.2,901,4.5817,34.2564,2,-999.,9,67.31,2,99.90,2,38.30,2,0.00,2,2.75,2,-999.,9,-999.,9,-999.,9,-999,9,-999,9
49UP20171125,RF17-10,6113,1,9,25818,2,20171206,0630,24.2407,141.2013,1838,1014.2,1005,4.0842,34.3129,2,-999.,9,57.16,2,110.27,2,39.98,2,0.00,2,2.86,2,-999.,9,-999.,9,-999.,9,-999,9,-999,9
49UP20171125,RF17-10,6113,1,8,25817,2,20171206,0625,24.2407,141.2013,1838,1213.7,1202,3.3079,34.4150,2,-999.,9,57.19,2,127.98,2,40.92,2,0.00,2,2.92,2,-999.,9,-999.,9,-999.,9,-999,9,-999,9
49UP20171125,RF17-10,6113,1,7,25816,2,20171206,0620,24.2407,141.2013,1838,1415.4,1402,2.8056,34.4941,2,-999.,9,69.76,2,136.72,2,40.56,2,0.00,2,2.88,2,-999.,9,-999.,9,-999.,9,-999,9,-999,9
49UP20171125,RF17-10,6113,1,3,25812,2,20171206,0615,24.2407,141.2013,1838,1618.5,1602,2.4326,34.5504,2,-999.,9,86.29,2,141.16,2,39.73,2,0.00,2,2.81,2,-999.,9,-999.,9,-999.,9,-999,9,-999,9
49UP20171125,RF17-10,6113,1,2,25811,2,20171206,0609,24.2407,141.2013,1838,1847.5,1828,2.1240,34.5972,2,-999.,9,105.47,2,142.40,2,38.69,2,0.00,2,2.72,2,-999.,9,-999.,9,-999.,9,-999,9,-999,9
49UP20171125,RF17-10,6114,1,-999,0,2,20171206,1430,24.2373,140.2692,4041,0.0,0,26.5739,34.8269,2,34.8264,2,202.39,2,1.15,2,0.02,2,0.00,2,0.02,2,1957.2,2,2289.2,2,8.1121,2,-999,9,-999,9
49UP20171125,RF17-10,6114,1,35,25844,2,20171206,1503,24.2373,140.2692,4041,11.2,11,26.5776,34.8273,2,34.8272,2,202.36,2,1.13,2,0.00,2,0.00,2,0.00,2,1955.9,2,2289.6,2,8.1128,2,-999,9,-999,9
49UP20171125,RF17-10,6114,1,33,25842,2,20171206,1503,24.2373,140.2692,4041,11.5,11,26.5801,34.8276,2,-999.0000,9,-999.00,9,-999.00,9,-999.00,9,-999.00,9,-999.000,9,-999.0,9,-999.0,9,-999.0000,9,-999,9,-999,9
49UP20171125,RF17-10,6114,1,36,25845,2,20171206,1504,24.2373,140.2692,4041,12.0,12,26.5768,34.8280,2,34.8246,2,202.06,2,1.19,2,0.04,2,0.00,2,0.01,2,1956.7,2,2288.9,2,8.1148,2,-999,9,-999,9
49UP20171125,RF17-10,6114,1,34,25843,2,20171206,1501,24.2373,140.2692,4041,27.5,27,26.5784,34.8267,2,-999.0000,9,202.26,2,1.13,2,0.01,2,0.00,2,0.00,2,1961.1,2,2287.9,2,8.1168,2,-999,9,-999,9
49UP20171125,RF17-10,6114,1,32,25841,2,20171206,1458,24.2373,140.2692,4041,52.2,52,26.5980,34.8285,2,-999.0000,9,-999.00,9,-999.00,9,-999.00,9,-999.00,9,-999.000,9,-999.0,9,-999.0,9,-999.0000,9,-999,9,-999,9
49UP20171125,RF17-10,6114,1,30,25839,2,20171206,1458,24.2373,140.2692,4041,52.7,52,26.6007,34.8284,2,34.8270,2,202.50,2,1.15,2,0.00,2,0.00,2,0.00,2,1957.7,2,2288.8,2,8.1126,2,-999,9,-999,9
49UP20171125,RF17-10,6114,1,29,25838,2,20171206,1456,24.2373,140.2692,4041,78.2,78,25.5723,34.9081,2,-999.0000,9,207.70,2,1.24,2,0.00,2,0.00,2,0.01,2,1967.7,2,2292.3,2,8.0973,2,-999,9,-999,9
49UP20171125,RF17-10,6114,1,28,25837,2,20171206,1451,24.2373,140.2692,4041,105.7,105,22.8446,35.0236,2,35.0170,4,214.83,2,1.56,2,0.06,2,0.03,2,0.03,2,2002.1,2,2301.0,2,8.0545,2,-999,9,-999,9
49UP20171125,RF17-10,6114,1,31,25840,2,20171206,1451,24.2373,140.2692,4041,106.9,106,22.7868,35.0368,2,-999.0000,9,-999.00,9,-999.00,9,-999.00,9,-999.00,9,-999.000,9,-999.0,9,-999.0,9,-999.0000,9,-999,9,-999,9
49UP20171125,RF17-10,6114,1,27,25836,3,20171206,1449,24.2373,140.2692,4041,128.9,128,21.4561,35.0885,2,-999.0000,9,193.52,2,1.96,2,1.06,2,0.02,2,0.12,2,2037.7,2,2306.6,2,8.0094,2,-999,9,-999,9
49UP20171125,RF17-10,6114,1,24,25833,2,20171206,1447,24.2373,140.2692,4041,153.6,153,20.5140,35.0263,2,-999.0000,9,-999.00,9,-999.00,9,-999.00,9,-999.00,9,-999.000,9,-999.0,9,-999.0,9,-999.0000,9,-999,9,-999,9
49UP20171125,RF17-10,6114,1,26,25835,2,20171206,1448,24.2373,140.2692,4041,157.0,156,20.1773,34.9746,2,34.9993,4,196.64,2,2.32,2,1.94,2,0.02,2,0.16,2,2032.4,2,2298.3,2,7.9991,2,-999,9,-999,9
49UP20171125,RF17-10,6114,1,25,25834,2,20171206,1445,24.2373,140.2692,4041,205.8,204,18.6017,34.8722,2,34.8718,2,203.14,2,3.20,2,3.39,2,0.01,2,0.23,2,2035.5,2,2289.1,2,7.9823,2,-999,9,-999,9
49UP20171125,RF17-10,6114,1,21,25830,2,20171206,1443,24.2373,140.2692,4041,255.1,253,17.7454,34.8134,2,-999.0000,9,202.55,2,3.81,2,4.29,2,0.01,2,0.29,2,2040.7,2,2286.7,2,7.9644,2,-999,9,-999,9
49UP20171125,RF17-10,6114,1,20,25829,2,20171206,1441,24.2373,140.2692,4041,305.6,303,16.8807,34.7360,2,-999.0000,9,199.80,2,5.49,2,5.93,2,0.00,2,0.39,2,2051.0,2,2281.6,2,7.9370,2,-999,9,-999,9
49UP20171125,RF17-10,6114,1,19,25828,2,20171206,1438,24.2373,140.2692,4041,408.1,405,14.5890,34.5253,2,34.5284,2,190.70,6,10.45,6,10.03,6,0.00,6,0.69,6,2083.8,2,2273.9,2,7.8656,2,-999,9,-999,9
49UP20171125,RF17-10,6114,1,17,25826,2,20171206,1434,24.2373,140.2692,4041,505.4,502,11.4928,34.2902,2,-999.0000,9,180.61,2,20.43,2,16.09,2,0.00,2,1.13,2,2123.4,2,2272.4,2,7.7625,2,-999,9,-999,9
49UP20171125,RF17-10,6114,1,18,25827,3,20171206,1434,24.2373,140.2692,4041,506.8,503,11.4719,34.2903,2,-999.0000,9,181.14,2,20.48,2,16.11,2,0.00,2,1.13,2,2123.3,2,2272.3,2,7.7662,2,-999,9,-999,9
49UP20171125,RF17-10,6114,1,16,25825,2,20171206,1431,24.2373,140.2692,4041,607.4,603,8.7584,34.1587,2,34.1595,2,150.13,2,38.65,2,23.81,2,0.00,2,1.70,2,2176.5,6,2279.9,6,7.6413,2,-999,9,-999,9
49UP20171125,RF17-10,6114,1,12,25821,2,20171206,1426,24.2373,140.2692,4041,711.9,706,6.3807,34.1200,2,-999.0000,9,106.82,2,64.49,2,32.02,2,0.00,2,2.30,2,2243.2,2,2298.2,2,7.5116,6,-999,9,-999,9
49UP20171125,RF17-10,6114,1,11,25820,2,20171206,1423,24.2373,140.2692,4041,806.3,800,5.3020,34.1667,2,34.1679,2,80.31,2,82.62,2,36.21,2,0.00,2,2.60,2,2276.4,2,2318.8,2,7.4462,2,-999,9,-999,9
49UP20171125,RF17-10,6114,1,10,25819,2,20171206,1421,24.2373,140.2692,4041,908.1,900,4.4431,34.2509,2,-999.0000,9,63.96,2,101.64,2,38.97,2,0.00,2,2.79,2,2315.0,2,2339.1,2,7.4138,2,-999,9,-999,9
49UP20171125,RF17-10,6114,1,9,25818,2,20171206,1418,24.2373,140.2692,4041,1009.3,1000,3.8120,34.3366,2,34.3365,2,55.69,2,116.64,2,40.40,2,0.00,2,2.88,2,2334.5,2,2359.9,2,7.3996,2,-999,9,-999,9
49UP20171125,RF17-10,6114,1,8,25817,2,20171206,1414,24.2373,140.2692,4041,1212.5,1201,3.2041,34.4375,2,34.4376,2,59.60,2,129.51,2,40.88,2,0.00,2,2.91,2,2348.1,2,2377.4,2,7.4104,2,-999,9,-999,9
49UP20171125,RF17-10,6114,1,7,25816,2,20171206,1409,24.2373,140.2692,4041,1414.7,1401,2.7856,34.5023,2,34.5017,6,71.84,2,136.59,2,40.53,2,0.00,2,2.87,2,2352.4,2,2389.5,6,7.4409,2,-999,9,-999,9
49UP20171125,RF17-10,6114,1,3,25812,2,20171206,1405,24.2373,140.2692,4041,1614.9,1598,2.5221,34.5426,2,34.5427,2,84.53,2,139.95,2,39.88,2,0.00,2,2.82,2,2351.9,2,2397.5,2,7.4629,6,-999,9,-999,9
49UP20171125,RF17-10,6114,1,2,25811,2,20171206,1401,24.2373,140.2692,4041,1819.8,1800,2.2330,34.5843,2,34.5882,4,99.87,2,141.83,2,39.04,2,0.00,2,2.75,2,2346.3,2,2405.2,2,7.4976,2,-999,9,-999,9
49UP20171125,RF17-10,6114,1,1,25810,2,20171206,1356,24.2373,140.2692,4041,2024.7,2002,2.0577,34.6080,2,34.6086,2,110.58,6,142.44,6,38.45,6,0.00,6,2.70,6,2344.6,2,2408.6,2,7.5161,2,-999,9,-999,9