BOTTLE,20180401JMAGEMD
EXPOCODE,SECT_ID,STNNBR,CASTNO,SAMPNO,BTLNBR,BTLNBR_FLAG_W,DATE,TIME,LATITUDE,LONGITUDE,DEPTH,CTDPRS,CTDDEP,CTDTMP,CTDSAL,CTDSAL_FLAG_W,SALNTY,SALNTY_FLAG_W,OXYGEN,OXYGEN_FLAG_W,SILCAT,SILCAT_FLAG_W,NO2+NO3,NO2+NO3_FLAG_W,NITRIT,NITRIT_FLAG_W,PHSPHT,PHSPHT_FLAG_W,TCARBN,TCARBN_FLAG_W,ALKALI,ALKALI_FLAG_W,PH_TOT,PH_TOT_FLAG_W,CFC-11,CFC-11_FLAG_W,CFC-12,CFC-12_FLAG_W
,,,,,,,UTC,UTC,,,METER,DBAR,METERS,ITS-90,PSS-78,,PSS-78,,UMOL/KG,,UMOL/KG,,UMOL/KG,,UMOL/KG,,UMOL/KG,,UMOL/KG,,UMOL/KG,,@25DEG-C,,PMOL/KG,,PMOL/KG,
49UP20171125,RF17-10,6109,1,-999,0,2,20171204,1900,24.2622,146.0335,5685,0.0,0,27.7510,34.8021,2,-999.,9,200.04,2,1.07,2,0.02,2,0.00,2,0.04,2,-999.,9,-999.,9,-999.,9,-999,9,-999,9
49UP20171125,RF17-10,6109,1,36,25845,2,20171204,1936,24.2622,146.0335,5685,11.9,12,27.7541,34.8015,2,-999.,9,199.48,2,1.05,2,0.00,2,0.00,2,0.01,2,-999.,9,-999.,9,-999.,9,-999,9,-999,9
49UP20171125,RF17-10,6109,1,35,25844,2,20171204,1935,24.2622,146.0335,5685,26.5,26,27.7554,34.8009,2,-999.,9,199.45,2,1.03,2,0.00,2,0.00,2,0.01,2,-999.,9,-999.,9,-999.,9,-999,9,-999,9
49UP20171125,RF17-10,6109,1,34,25843,2,20171204,1930,24.2622,146.0335,5685,50.4,50,27.6485,34.8558,2,-999.,9,203.53,2,1.14,2,0.00,2,0.00,2,0.01,2,-999.,9,-999.,9,-999.,9,-999,9,-999,9
49UP20171125,RF17-10,6109,1,30,25839,2,20171204,1929,24.2622,146.0335,5685,75.5,75,22.2642,34.9908,2,-999.,9,217.02,2,1.70,2,0.00,2,0.00,2,0.02,2,-999.,9,-999.,9,-999.,9,-999,9,-999,9
49UP20171125,RF17-10,6109,1,29,25838,2,20171204,1927,24.2622,146.0335,5685,101.7,101,20.2875,35.0040,2,-999.,9,202.32,6,2.09,6,1.14,6,0.11,6,0.12,6,-999.,9,-999.,9,-999.,9,-999,9,-999,9
49UP20171125,RF17-10,6109,1,28,25837,2,20171204,1926,24.2622,146.0335,5685,127.0,126,19.2846,34.9400,2,-999.,9,201.33,2,2.51,2,2.00,2,0.04,2,0.17,2,-999.,9,-999.,9,-999.,9,-999,9,-999,9
49UP20171125,RF17-10,6109,1,27,25836,2,20171204,1926,24.2622,146.0335,5685,127.8,127,19.2906,34.9397,2,-999.,9,201.79,2,2.53,2,1.98,2,0.03,2,0.17,2,-999.,9,-999.,9,-999.,9,-999,9,-999,9
49UP20171125,RF17-10,6109,1,26,25835,2,20171204,1924,24.2622,146.0335,5685,149.9,149,18.4468,34.8720,2,-999.,9,203.12,2,2.93,2,3.02,2,0.02,2,0.22,2,-999.,9,-999.,9,-999.,9,-999,9,-999,9
49UP20171125,RF17-10,6109,1,25,25834,2,20171204,1922,24.2622,146.0335,5685,200.4,199,17.4441,34.7982,2,-999.,9,205.92,2,3.75,2,4.34,2,0.01,2,0.30,2,-999.,9,-999.,9,-999.,9,-999,9,-999,9
49UP20171125,RF17-10,6109,1,21,25830,2,20171204,1920,24.2622,146.0335,5685,253.0,251,16.8999,34.7772,2,-999.,9,213.34,2,4.41,2,4.65,2,0.01,2,0.31,2,-999.,9,-999.,9,-999.,9,-999,9,-999,9
49UP20171125,RF17-10,6109,1,20,25829,2,20171204,1918,24.2622,146.0335,5685,303.8,302,16.0304,34.6685,2,-999.,9,202.43,2,6.47,2,6.79,2,0.00,2,0.46,2,-999.,9,-999.,9,-999.,9,-999,9,-999,9
49UP20171125,RF17-10,6109,1,19,25828,2,20171204,1915,24.2622,146.0335,5685,404.4,401,13.3093,34.4260,2,-999.,9,190.71,2,13.83,2,12.09,2,0.00,2,0.84,2,-999.,9,-999.,9,-999.,9,-999,9,-999,9
49UP20171125,RF17-10,6109,1,18,25827,2,20171204,1911,24.2622,146.0335,5685,505.9,502,9.5776,34.1655,2,-999.,9,172.77,2,28.93,2,20.00,2,0.00,2,1.42,2,-999.,9,-999.,9,-999.,9,-999,9,-999,9
49UP20171125,RF17-10,6109,1,17,25826,2,20171204,1908,24.2622,146.0335,5685,607.1,602,6.8253,34.0637,2,-999.,9,129.06,2,54.57,2,29.15,2,0.00,2,2.10,2,-999.,9,-999.,9,-999.,9,-999,9,-999,9
49UP20171125,RF17-10,6109,1,16,25825,2,20171204,1903,24.2622,146.0335,5685,707.9,702,5.3739,34.1012,2,-999.,9,87.63,2,76.83,2,35.30,2,0.00,2,2.55,2,-999.,9,-999.,9,-999.,9,-999,9,-999,9
49UP20171125,RF17-10,6109,1,12,25821,2,20171204,1900,24.2622,146.0335,5685,808.7,802,4.4759,34.2167,2,-999.,9,56.53,2,98.73,2,39.38,2,0.00,2,2.83,2,-999.,9,-999.,9,-999.,9,-999,9,-999,9
49UP20171125,RF17-10,6109,1,11,25820,2,20171204,1856,24.2622,146.0335,5685,911.5,904,3.8329,34.3247,2,-999.,9,42.98,6,115.36,6,41.37,6,0.00,6,2.97,6,-999.,9,-999.,9,-999.,9,-999,9,-999,9
49UP20171125,RF17-10,6109,1,9,25818,2,20171204,1853,24.2622,146.0335,5685,1011.9,1003,3.4276,34.3850,2,-999.,9,41.65,2,126.43,2,41.96,2,0.00,2,3.00,2,-999.,9,-999.,9,-999.,9,-999,9,-999,9
49UP20171125,RF17-10,6109,1,10,25819,2,20171204,1853,24.2622,146.0335,5685,1013.3,1004,3.4272,34.3853,2,-999.,9,42.16,2,126.42,2,41.97,2,0.00,2,3.00,2,-999.,9,-999.,9,-999.,9,-999,9,-999,9
49UP20171125,RF17-10,6109,1,8,25817,2,20171204,1848,24.2622,146.0335,5685,1211.1,1200,2.9052,34.4746,2,-999.,9,50.70,2,138.46,2,41.81,2,0.00,2,2.97,2,-999.,9,-999.,9,-999.,9,-999,9,-999,9
49UP20171125,RF17-10,6109,1,7,25816,2,20171204,1842,24.2622,146.0335,5685,1413.8,1400,2.4354,34.5348,2,-999.,9,67.54,2,146.84,2,41.00,2,0.00,2,2.90,2,-999.,9,-999.,9,-999.,9,-999,9,-999,9
49UP20171125,RF17-10,6109,1,3,25812,2,20171204,1838,24.2622,146.0335,5685,1617.7,1601,2.1493,34.5765,2,-999.,9,84.36,2,149.58,2,40.05,2,0.00,2,2.82,2,-999.,9,-999.,9,-999.,9,-999,9,-999,9
49UP20171125,RF17-10,6109,1,2,25811,2,20171204,1833,24.2622,146.0335,5685,1820.0,1801,1.9731,34.6064,2,-999.,9,100.08,2,149.04,2,39.10,2,0.00,2,2.75,2,-999.,9,-999.,9,-999.,9,-999,9,-999,9
49UP20171125,RF17-10,6109,1,1,25810,2,20171204,1828,24.2622,146.0335,5685,2024.4,2002,1.8694,34.6229,2,-999.,9,110.47,2,148.45,2,38.45,2,0.00,2,2.70,2,-999.,9,-999.,9,-999.,9,-999,9,-999,9
49UP20171125,RF17-10,6110,1,-999,0,2,20171205,0510,24.2715,144.8253,5279,0.0,0,26.1259,34.9669,2,34.9705,2,205.40,2,1.39,2,0.00,2,0.00,2,0.03,2,1975.3,2,2297.6,2,8.0911,2,-999,9,-999,9
49UP20171125,RF17-10,6110,1,36,25845,2,20171205,0545,24.2715,144.8253,5279,10.8,11,25.9695,34.9654,2,34.9637,2,205.63,2,1.36,2,0.00,2,0.00,2,0.01,2,1979.0,2,2295.0,2,8.0885,2,-999,9,-999,9
49UP20171125,RF17-10,6110,1,35,25844,2,20171205,0543,24.2715,144.8253,5279,25.8,26,25.6867,34.9652,2,34.9642,2,206.87,2,1.37,2,0.00,2,0.00,2,0.01,2,1977.9,2,2296.6,2,8.0898,2,-999,9,-999,9
49UP20171125,RF17-10,6110,1,34,25843,2,20171205,0538,24.2715,144.8253,5279,51.9,52,25.6027,34.9679,2,34.9673,2,207.07,2,1.34,2,0.00,2,0.00,2,0.01,2,1976.7,2,2299.0,2,8.0911,2,-999,9,-999,9
49UP20171125,RF17-10,6110,1,33,25842,2,20171205,0537,24.2715,144.8253,5279,76.8,76,22.8248,34.9691,2,34.9652,2,226.38,2,1.69,2,0.00,2,0.00,2,0.02,2,2000.5,2,2296.6,2,8.0514,2,-999,9,-999,9
49UP20171125,RF17-10,6110,1,32,25841,2,20171205,0535,24.2715,144.8253,5279,101.7,101,19.6652,34.9169,2,34.9165,2,219.20,6,2.22,6,0.39,6,0.04,6,0.06,6,2020.4,2,2297.4,2,8.0086,2,-999,9,-999,9
49UP20171125,RF17-10,6110,1,31,25840,3,20171205,0534,24.2715,144.8253,5279,126.3,125,18.7756,34.8841,2,-999.0000,9,210.25,2,2.74,2,1.87,2,0.04,2,0.15,2,2027.7,2,2292.5,2,7.9855,2,-999,9,-999,9
49UP20171125,RF17-10,6110,1,30,25839,2,20171205,0532,24.2715,144.8253,5279,152.3,151,18.1055,34.8540,2,-999.0000,9,208.16,2,3.22,2,3.28,2,0.02,2,0.23,2,2034.8,2,2291.1,2,7.9781,2,-999,9,-999,9
49UP20171125,RF17-10,6110,1,29,25838,2,20171205,0530,24.2715,144.8253,5279,203.7,202,17.3155,34.8003,2,34.8006,2,210.78,2,3.77,2,4.23,2,0.01,2,0.28,2,2041.3,2,2287.0,2,7.9621,2,-999,9,-999,9
49UP20171125,RF17-10,6110,1,28,25837,2,20171205,0528,24.2715,144.8253,5279,253.7,252,16.9866,34.7937,2,34.7929,2,216.77,2,4.09,2,4.32,2,0.01,2,0.29,2,2041.7,2,2287.3,2,7.9643,2,-999,9,-999,9
49UP20171125,RF17-10,6110,1,27,25836,2,20171205,0526,24.2715,144.8253,5279,302.4,300,16.4345,34.7269,2,34.7307,2,210.79,2,5.31,2,5.59,2,0.01,2,0.38,2,2048.0,2,2284.7,2,7.9420,2,-999,9,-999,9
49UP20171125,RF17-10,6110,1,26,25835,2,20171205,0523,24.2715,144.8253,5279,404.4,401,13.9194,34.4792,2,34.4893,4,192.35,2,12.42,2,11.04,2,0.00,2,0.76,2,2085.4,2,2276.4,2,7.8528,2,-999,9,-999,9
49UP20171125,RF17-10,6110,1,25,25834,2,20171205,0521,24.2715,144.8253,5279,506.6,503,10.3783,34.2138,2,34.2168,2,179.63,2,24.74,2,18.04,2,0.00,2,1.27,2,2131.7,2,2273.3,2,7.7355,2,-999,9,-999,9
49UP20171125,RF17-10,6110,1,24,25833,2,20171205,0518,24.2715,144.8253,5279,605.6,601,7.2635,34.0730,2,34.0742,2,137.36,2,49.57,2,27.64,2,0.00,2,1.98,2,2209.5,2,2286.0,2,7.5814,2,-999,9,-999,9
49UP20171125,RF17-10,6110,1,23,25832,2,20171205,0515,24.2715,144.8253,5279,708.8,703,5.6848,34.0879,2,34.0887,2,97.69,6,72.04,6,34.01,6,0.00,6,2.45,6,2258.4,2,2303.5,2,7.4756,2,-999,9,-999,9
49UP20171125,RF17-10,6110,1,22,25831,2,20171205,0511,24.2715,144.8253,5279,808.8,802,4.6631,34.1814,2,34.1808,2,62.49,2,93.99,2,38.70,2,0.00,2,2.79,2,2304.0,6,2329.0,6,7.4037,2,-999,9,-999,9
49UP20171125,RF17-10,6110,1,21,25830,2,20171205,0509,24.2715,144.8253,5279,907.8,900,4.1066,34.2766,2,34.2761,2,47.22,2,108.68,2,40.82,2,0.00,2,2.94,2,2328.5,2,2349.4,2,7.3756,6,-999,9,-999,9
49UP20171125,RF17-10,6110,1,20,25829,2,20171205,0506,24.2715,144.8253,5279,1011.5,1003,3.6322,34.3613,2,34.3602,2,43.20,2,121.04,2,41.64,2,0.00,2,2.98,2,2344.5,2,2363.7,2,7.3771,2,-999,9,-999,9
49UP20171125,RF17-10,6110,1,19,25828,2,20171205,0501,24.2715,144.8253,5279,1214.4,1203,3.0023,34.4585,2,34.4584,2,48.24,2,136.68,2,41.92,2,0.00,2,2.99,2,2358.2,2,2385.6,2,7.3942,2,-999,9,-999,9
49UP20171125,RF17-10,6110,1,18,25827,2,20171205,0455,24.2715,144.8253,5279,1415.2,1401,2.5339,34.5225,2,34.5219,2,63.28,2,145.80,2,41.27,2,0.00,2,2.93,2,2362.9,2,2399.1,2,7.4225,2,-999,9,-999,9
49UP20171125,RF17-10,6110,1,17,25826,2,20171205,0450,24.2715,144.8253,5279,1617.3,1601,2.2300,34.5656,2,34.5631,2,78.98,2,149.03,2,40.35,2,0.00,2,2.86,2,2358.6,2,2405.3,2,7.4541,2,-999,9,-999,9
49UP20171125,RF17-10,6110,1,16,25825,2,20171205,0445,24.2715,144.8253,5279,1822.5,1803,2.0233,34.5990,2,34.5977,2,95.21,2,149.37,2,39.42,2,0.00,2,2.78,2,2353.6,2,2408.1,2,7.4856,2,-999,9,-999,9
49UP20171125,RF17-10,6110,1,15,25824,2,20171205,0440,24.2715,144.8253,5279,2026.1,2003,1.8595,34.6202,2,34.6184,2,106.27,2,150.16,2,38.74,2,0.00,2,2.73,2,2347.4,2,2411.3,2,7.5058,2,-999,9,-999,9
49UP20171125,RF17-10,6110,1,14,25823,2,20171205,0434,24.2715,144.8253,5279,2278.7,2252,1.7790,34.6330,2,34.6332,2,114.00,6,150.24,6,38.28,6,0.00,6,2.69,6,2346.2,2,2410.5,2,7.5190,2,-999,9,-999,9
49UP20171125,RF17-10,6110,1,13,25822,2,20171205,0428,24.2715,144.8253,5279,2534.0,2503,1.6819,34.6479,2,34.6473,2,122.93,2,150.06,2,37.73,2,0.00,2,2.65,2,2343.9,6,2413.2,6,7.5377,2,-999,9,-999,9
49UP20171125,RF17-10,6110,1,12,25821,2,20171205,0422,24.2715,144.8253,5279,2788.8,2753,1.6069,34.6592,2,34.6588,6,130.82,2,149.70,2,37.23,2,0.00,2,2.61,2,2340.4,3,2414.7,2,7.5488,6,-999,9,-999,9
49UP20171125,RF17-10,6110,1,11,25820,2,20171205,0416,24.2715,144.8253,5279,3046.3,3005,1.5545,34.6670,2,34.6646,2,136.63,2,148.68,2,36.90,2,0.00,2,2.58,2,2334.4,2,2417.0,2,7.5580,2,-999,9,-999,9
49UP20171125,RF17-10,6110,1,10,25819,2,20171205,0410,24.2715,144.8253,5279,3300.1,3254,1.5191,34.6727,2,34.6731,2,141.99,2,148.13,2,36.55,2,0.00,2,2.55,2,2330.3,2,2416.2,2,7.5655,2,-999,9,-999,9
49UP20171125,RF17-10,6110,1,9,25818,2,20171205,0404,24.2715,144.8253,5279,3554.8,3503,1.4867,34.6782,2,34.6771,2,147.43,2,146.84,2,36.17,2,0.00,2,2.52,2,2328.7,2,2415.5,2,7.5764,2,-999,9,-999,9
49UP20171125,RF17-10,6110,1,8,25817,2,20171205,0358,24.2715,144.8253,5279,3810.0,3752,1.4812,34.6810,2,34.6806,2,150.48,2,145.85,2,35.88,2,0.00,2,2.50,2,2321.9,2,2414.0,2,7.5813,2,-999,9,-999,9
49UP20171125,RF17-10,6110,1,7,25816,2,20171205,0352,24.2715,144.8253,5279,4065.8,4002,1.4774,34.6838,2,34.6793,4,152.52,3,144.44,2,35.79,2,0.00,2,2.49,2,2321.9,6,2412.2,6,7.5835,2,-999,9,-999,9
49UP20171125,RF17-10,6110,1,6,25815,2,20171205,0346,24.2715,144.8253,5279,4322.6,4252,1.4797,34.6861,2,34.6889,4,157.62,2,142.92,2,35.40,2,0.00,2,2.46,2,2321.5,2,2411.0,2,7.5925,6,-999,9,-999,9
49UP20171125,RF17-10,6110,1,5,25814,3,20171205,0340,24.2715,144.8253,5279,4579.3,4502,1.4775,34.6890,2,34.6874,2,161.10,2,140.87,6,35.15,6,0.00,6,2.45,6,2315.0,2,2408.6,2,7.5950,2,-999,9,-999,9
49UP20171125,RF17-10,6110,1,4,25813,2,20171205,0335,24.2715,144.8253,5279,4835.7,4751,1.4840,34.6910,2,34.6923,2,165.29,2,138.59,2,34.82,2,0.00,2,2.42,2,2313.2,2,2405.6,2,7.5995,2,-999,9,-999,9
49UP20171125,RF17-10,6110,1,3,25812,2,20171205,0329,24.2715,144.8253,5279,5092.9,5001,1.4935,34.6930,2,34.6928,2,168.68,2,136.71,2,34.62,2,0.00,2,2.41,2,2307.4,2,2404.0,2,7.6052,2,-999,9,-999,9
49UP20171125,RF17-10,6110,1,1,25810,2,20171205,0322,24.2715,144.8253,5279,5401.5,5300,1.5044,34.6953,2,34.6954,6,173.07,2,134.15,2,34.24,2,0.00,2,2.38,2,2304.1,2,2403.6,2,7.6108,2,-999,9,-999,9
49UP20171125,RF17-10,6110,1,2,25811,2,20171205,0322,24.2715,144.8253,5279,5401.6,5300,1.5044,34.6953,2,34.6960,2,173.13,2,134.20,2,34.31,2,0.00,2,2.38,2,2303.9,2,2403.0,2,7.6111,2,-999,9,-999,9
49UP20171125,RF17-10,6111,1,-999,0,2,20171205,1445,24.2412,143.6227,7686,0.0,0,25.9941,34.9746,2,-999.,9,205.76,2,1.27,2,0.02,2,0.00,2,0.02,2,-999.,9,-999.,9,-999.,9,-999,9,-999,9
49UP20171125,RF17-10,6111,1,36,25845,2,20171205,1510,24.2412,143.6227,7686,11.0,11,25.9953,34.9747,2,-999.,9,205.68,2,1.25,2,0.01,2,0.00,2,0.01,2,-999.,9,-999.,9,-999.,9,-999,9,-999,9
49UP20171125,RF17-10,6111,1,35,25844,3,20171205,1508,24.2412,143.6227,7686,26.4,26,25.9159,34.9835,2,-999.,9,205.54,2,1.16,2,0.01,2,0.00,2,0.01,2,-999.,9,-999.,9,-999.,9,-999,9,-999,9
49UP20171125,RF17-10,6111,1,34,25843,2,20171205,1504,24.2412,143.6227,7686,52.0,52,25.8413,34.9767,2,-999.,9,205.88,2,1.21,2,0.01,2,0.00,2,0.01,2,-999.,9,-999.,9,-999.,9,-999,9,-999,9
49UP20171125,RF17-10,6111,1,30,25839,2,20171205,1503,24.2412,143.6227,7686,78.7,78,23.9220,34.9715,2,-999.,9,214.44,6,1.44,6,0.00,6,0.00,6,0.02,6,-999.,9,-999.,9,-999.,9,-999,9,-999,9
49UP20171125,RF17-10,6111,1,28,25837,2,20171205,1501,24.2412,143.6227,7686,103.0,102,22.0581,35.0462,2,-999.,9,206.31,2,1.65,2,0.24,2,0.05,2,0.06,2,-999.,9,-999.,9,-999.,9,-999,9,-999,9
49UP20171125,RF17-10,6111,1,29,25838,2,20171205,1501,24.2412,143.6227,7686,103.3,103,22.0447,35.0462,2,-999.,9,206.21,2,1.65,2,0.26,2,0.05,2,0.06,2,-999.,9,-999.,9,-999.,9,-999,9,-999,9
49UP20171125,RF17-10,6111,1,27,25836,2,20171205,1459,24.2412,143.6227,7686,128.6,128,20.0047,34.9562,2,-999.,9,199.44,2,2.37,2,2.03,2,0.02,2,0.17,2,-999.,9,-999.,9,-999.,9,-999,9,-999,9
49UP20171125,RF17-10,6111,1,26,25835,2,20171205,1458,24.2412,143.6227,7686,153.2,152,19.2027,34.9035,2,-999.,9,200.97,2,2.79,2,2.88,2,0.01,2,0.21,2,-999.,9,-999.,9,-999.,9,-999,9,-999,9
49UP20171125,RF17-10,6111,1,25,25834,2,20171205,1456,24.2412,143.6227,7686,205.2,204,18.1653,34.8476,2,-999.,9,204.84,2,3.45,2,3.72,2,0.01,2,0.26,2,-999.,9,-999.,9,-999.,9,-999,9,-999,9
49UP20171125,RF17-10,6111,1,21,25830,2,20171205,1455,24.2412,143.6227,7686,256.1,254,17.2450,34.7714,2,-999.,9,203.22,2,4.23,2,4.89,2,0.01,2,0.33,2,-999.,9,-999.,9,-999.,9,-999,9,-999,9
49UP20171125,RF17-10,6111,1,20,25829,2,20171205,1453,24.2412,143.6227,7686,304.0,302,16.4455,34.7143,2,-999.,9,207.00,2,5.36,2,5.86,2,0.00,2,0.40,2,-999.,9,-999.,9,-999.,9,-999,9,-999,9
49UP20171125,RF17-10,6111,1,19,25828,2,20171205,1450,24.2412,143.6227,7686,404.9,402,13.8160,34.4595,2,-999.,9,191.70,2,11.91,2,11.10,2,0.00,2,0.77,2,-999.,9,-999.,9,-999.,9,-999,9,-999,9
49UP20171125,RF17-10,6111,1,18,25827,3,20171205,1448,24.2412,143.6227,7686,504.9,501,11.1143,34.2707,2,-999.,9,180.78,2,23.19,2,16.90,2,0.00,2,1.18,2,-999.,9,-999.,9,-999.,9,-999,9,-999,9
49UP20171125,RF17-10,6111,1,17,25826,2,20171205,1445,24.2412,143.6227,7686,606.9,602,8.0476,34.0910,2,-999.,9,157.27,2,43.39,2,24.34,2,0.00,2,1.75,2,-999.,9,-999.,9,-999.,9,-999,9,-999,9
49UP20171125,RF17-10,6111,1,16,25825,2,20171205,1443,24.2412,143.6227,7686,707.6,702,5.7137,34.0899,2,-999.,9,99.99,2,72.44,2,33.74,2,0.00,2,2.43,2,-999.,9,-999.,9,-999.,9,-999,9,-999,9
49UP20171125,RF17-10,6111,1,12,25821,2,20171205,1439,24.2412,143.6227,7686,808.5,802,4.6485,34.1895,2,-999.,9,61.52,6,94.65,6,38.81,6,0.00,6,2.79,6,-999.,9,-999.,9,-999.,9,-999,9,-999,9
49UP20171125,RF17-10,6111,1,11,25820,2,20171205,1437,24.2412,143.6227,7686,908.6,901,4.0420,34.2902,2,-999.,9,48.11,2,110.28,2,40.85,2,0.00,2,2.93,2,-999.,9,-999.,9,-999.,9,-999,9,-999,9
49UP20171125,RF17-10,6111,1,10,25819,2,20171205,1437,24.2412,143.6227,7686,909.0,901,4.0422,34.2901,2,-999.,9,47.97,2,110.53,2,40.89,2,0.00,2,2.93,2,-999.,9,-999.,9,-999.,9,-999,9,-999,9
49UP20171125,RF17-10,6111,1,9,25818,2,20171205,1434,24.2412,143.6227,7686,1011.0,1002,3.5429,34.3711,2,-999.,9,43.40,2,123.76,2,41.81,2,0.00,2,2.99,2,-999.,9,-999.,9,-999.,9,-999,9,-999,9
49UP20171125,RF17-10,6111,1,8,25817,2,20171205,1429,24.2412,143.6227,7686,1213.8,1203,2.9837,34.4584,2,-999.,9,49.07,2,136.94,2,42.05,2,0.00,2,2.98,2,-999.,9,-999.,9,-999.,9,-999,9,-999,9
49UP20171125,RF17-10,6111,1,7,25816,2,20171205,1423,24.2412,143.6227,7686,1415.8,1402,2.5818,34.5124,2,-999.,9,60.58,2,145.23,2,41.50,2,0.00,2,2.94,2,-999.,9,-999.,9,-999.,9,-999,9,-999,9
49UP20171125,RF17-10,6111,1,3,25812,2,20171205,1419,24.2412,143.6227,7686,1619.2,1603,2.1843,34.5705,2,-999.,9,82.04,2,149.35,2,40.34,2,0.00,2,2.84,2,-999.,9,-999.,9,-999.,9,-999,9,-999,9
49UP20171125,RF17-10,6111,1,2,25811,2,20171205,1414,24.2412,143.6227,7686,1821.7,1802,2.0076,34.5997,2,-999.,9,98.45,2,148.91,2,39.29,2,0.00,2,2.76,2,-999.,9,-999.,9,-999.,9,-999,9,-999,9
49UP20171125,RF17-10,6111,1,1,25810,2,20171205,1409,24.2412,143.6227,7686,2024.7,2002,1.8580,34.6202,2,-999.,9,109.03,2,149.38,2,38.67,2,0.00,2,2.71,2,-999.,9,-999.,9,-999.,9,-999,9,-999,9