BOTTLE,20180401JMAGEMD
EXPOCODE,SECT_ID,STNNBR,CASTNO,SAMPNO,BTLNBR,BTLNBR_FLAG_W,DATE,TIME,LATITUDE,LONGITUDE,DEPTH,CTDPRS,CTDDEP,CTDTMP,CTDSAL,CTDSAL_FLAG_W,SALNTY,SALNTY_FLAG_W,OXYGEN,OXYGEN_FLAG_W,SILCAT,SILCAT_FLAG_W,NO2+NO3,NO2+NO3_FLAG_W,NITRIT,NITRIT_FLAG_W,PHSPHT,PHSPHT_FLAG_W,TCARBN,TCARBN_FLAG_W,ALKALI,ALKALI_FLAG_W,PH_TOT,PH_TOT_FLAG_W,CFC-11,CFC-11_FLAG_W,CFC-12,CFC-12_FLAG_W
,,,,,,,UTC,UTC,,,METER,DBAR,METERS,ITS-90,PSS-78,,PSS-78,,UMOL/KG,,UMOL/KG,,UMOL/KG,,UMOL/KG,,UMOL/KG,,UMOL/KG,,UMOL/KG,,@25DEG-C,,PMOL/KG,,PMOL/KG,
49UP20171125,RF17-10,6103,1,-999,0,2,20171202,1255,24.2307,155.2203,5525,0.0,0,26.7135,35.1662,2,35.1721,2,202.54,2,1.07,2,0.00,2,0.00,2,0.05,2,1978.3,2,2310.4,2,8.1159,2,-999,9,-999,9
49UP20171125,RF17-10,6103,1,36,25845,2,20171202,1331,24.2307,155.2203,5525,11.2,11,26.7177,35.1648,2,35.1645,2,203.02,2,1.05,2,0.00,2,0.00,2,0.01,2,1978.1,2,2311.9,2,8.1107,2,-999,9,-999,9
49UP20171125,RF17-10,6103,1,35,25844,2,20171202,1330,24.2307,155.2203,5525,26.7,27,26.7206,35.1654,2,-999.0000,9,202.94,2,1.08,2,0.00,2,0.00,2,0.01,2,1978.6,2,2311.5,2,8.1121,2,-999,9,-999,9
49UP20171125,RF17-10,6103,1,34,25843,2,20171202,1326,24.2307,155.2203,5525,50.8,50,26.7263,35.1687,2,35.1691,2,202.65,2,1.05,2,0.00,2,0.00,2,0.01,2,1975.9,2,2312.0,2,8.1158,2,-999,9,-999,9
49UP20171125,RF17-10,6103,1,33,25842,2,20171202,1325,24.2307,155.2203,5525,75.6,75,24.2112,35.2101,2,35.2129,2,217.63,2,1.36,2,0.00,2,0.00,2,0.02,2,2001.6,2,2314.7,2,8.0762,2,-999,9,-999,9
49UP20171125,RF17-10,6103,1,32,25841,2,20171202,1324,24.2307,155.2203,5525,102.1,101,22.3584,35.1968,2,35.1979,2,209.84,2,1.64,2,0.00,2,0.00,2,0.04,2,2023.7,2,2313.3,2,8.0442,2,-999,9,-999,9
49UP20171125,RF17-10,6103,1,31,25840,2,20171202,1323,24.2307,155.2203,5525,126.8,126,20.3470,35.0565,2,35.0586,2,205.06,2,2.10,2,0.52,2,0.13,2,0.10,2,2033.3,2,2303.5,2,7.9983,2,-999,9,-999,9
49UP20171125,RF17-10,6103,1,30,25839,3,20171202,1321,24.2307,155.2203,5525,153.3,152,19.1530,34.9525,2,-999.0000,9,206.58,6,2.36,6,1.49,6,0.03,6,0.14,6,2035.6,2,2296.6,2,7.9883,2,-999,9,-999,9
49UP20171125,RF17-10,6103,1,29,25838,2,20171202,1319,24.2307,155.2203,5525,204.1,203,17.8368,34.8419,2,34.8466,2,210.96,2,3.08,2,3.04,2,0.02,2,0.22,2,2039.4,2,2289.0,2,7.9781,2,-999,9,-999,9
49UP20171125,RF17-10,6103,1,28,25837,2,20171202,1317,24.2307,155.2203,5525,252.7,251,17.0027,34.7798,2,-999.0000,9,214.78,2,4.05,2,4.35,2,0.01,2,0.30,2,2042.5,2,2286.4,2,7.9575,2,-999,9,-999,9
49UP20171125,RF17-10,6103,1,27,25836,4,20171202,1315,24.2307,155.2203,5525,306.3,304,16.3914,34.7179,2,34.7225,4,210.07,4,5.32,4,5.63,4,0.01,4,0.38,4,2050.4,4,2283.3,4,7.9409,4,-999,9,-999,9
49UP20171125,RF17-10,6103,1,26,25835,2,20171202,1312,24.2307,155.2203,5525,405.3,402,14.2361,34.4945,2,34.4995,2,197.39,2,10.28,2,9.85,2,0.00,2,0.68,2,2079.0,2,2273.2,2,7.8659,2,-999,9,-999,9
49UP20171125,RF17-10,6103,1,25,25834,2,20171202,1308,24.2307,155.2203,5525,508.3,504,10.2164,34.2005,2,34.2039,2,173.94,2,24.36,2,18.72,2,0.00,2,1.33,2,2138.7,2,2272.1,2,7.7185,2,-999,9,-999,9
49UP20171125,RF17-10,6103,1,24,25833,2,20171202,1305,24.2307,155.2203,5525,607.1,602,7.7300,34.0980,2,34.0997,6,133.67,2,44.83,2,27.18,2,0.00,2,1.95,2,2200.1,2,2282.7,2,7.5827,2,-999,9,-999,9
49UP20171125,RF17-10,6103,1,23,25832,2,20171202,1301,24.2307,155.2203,5525,709.0,703,5.6588,34.0994,2,34.0979,2,90.56,2,71.54,2,34.68,2,0.00,2,2.50,2,2260.5,6,2303.5,6,7.4614,2,-999,9,-999,9
49UP20171125,RF17-10,6103,1,22,25831,2,20171202,1258,24.2307,155.2203,5525,808.7,802,4.9162,34.2062,2,34.2071,2,58.34,2,88.73,2,38.77,2,0.00,2,2.80,2,2304.3,2,2327.9,2,7.3995,6,-999,9,-999,9
49UP20171125,RF17-10,6103,1,21,25830,2,20171202,1255,24.2307,155.2203,5525,910.6,903,4.4524,34.3061,2,34.3049,2,48.09,6,101.01,6,40.51,6,0.00,6,2.92,6,2323.4,2,2344.2,2,7.3882,2,-999,9,-999,9
49UP20171125,RF17-10,6103,1,20,25829,2,20171202,1252,24.2307,155.2203,5525,1011.9,1003,4.0730,34.3882,2,34.3886,2,52.76,2,109.67,2,40.66,2,0.00,2,2.93,2,2331.6,2,2358.2,2,7.4055,2,-999,9,-999,9
49UP20171125,RF17-10,6103,1,19,25828,2,20171202,1246,24.2307,155.2203,5525,1214.7,1203,3.3848,34.4636,2,34.4615,2,58.70,2,124.56,2,40.97,2,0.00,2,2.93,2,2346.1,2,2377.8,2,7.4230,2,-999,9,-999,9
49UP20171125,RF17-10,6103,1,18,25827,2,20171202,1241,24.2307,155.2203,5525,1415.9,1402,2.8539,34.5184,2,34.5186,2,69.75,2,135.66,2,40.67,2,0.00,2,2.90,2,2352.2,2,2392.3,2,7.4384,2,-999,9,-999,9
49UP20171125,RF17-10,6103,1,17,25826,2,20171202,1236,24.2307,155.2203,5525,1620.7,1604,2.4672,34.5546,2,34.5561,2,78.59,2,142.56,2,40.30,2,0.00,2,2.86,2,2356.5,2,2401.4,2,7.4536,2,-999,9,-999,9
49UP20171125,RF17-10,6103,1,16,25825,2,20171202,1231,24.2307,155.2203,5525,1823.2,1804,2.1981,34.5835,2,34.5834,2,87.99,2,147.75,2,39.95,2,0.00,2,2.82,2,2358.9,2,2405.8,2,7.4709,2,-999,9,-999,9
49UP20171125,RF17-10,6103,1,15,25824,2,20171202,1226,24.2307,155.2203,5525,2026.0,2003,1.9818,34.6068,2,34.6076,2,95.37,2,151.33,2,39.56,2,0.00,2,2.79,2,2354.4,6,2411.3,6,7.4883,2,-999,9,-999,9
49UP20171125,RF17-10,6103,1,14,25823,2,20171202,1221,24.2307,155.2203,5525,2276.7,2250,1.8032,34.6304,2,34.6309,2,109.10,2,152.30,2,38.83,2,0.00,2,2.73,2,2349.8,2,2414.8,2,7.5115,6,-999,9,-999,9
49UP20171125,RF17-10,6103,1,13,25822,2,20171202,1216,24.2307,155.2203,5525,2529.9,2499,1.6948,34.6452,2,34.6451,2,119.10,2,151.76,2,38.15,2,0.00,2,2.68,2,2343.4,2,2416.0,2,7.5289,2,-999,9,-999,9
49UP20171125,RF17-10,6103,1,12,25821,3,20171202,1211,24.2307,155.2203,5525,2786.4,2750,1.6206,34.6565,2,34.6573,2,127.69,6,151.14,6,37.61,6,0.00,6,2.64,6,2339.6,2,2416.2,2,7.5427,2,-999,9,-999,9
49UP20171125,RF17-10,6103,1,11,25820,2,20171202,1206,24.2307,155.2203,5525,3041.2,3000,1.5616,34.6649,2,34.6649,2,133.44,2,150.36,2,37.21,2,0.00,2,2.60,2,2337.3,2,2417.9,2,7.5554,2,-999,9,-999,9
49UP20171125,RF17-10,6103,1,10,25819,2,20171202,1201,24.2307,155.2203,5525,3295.7,3249,1.5205,34.6716,2,34.6712,2,140.58,2,149.30,2,36.78,2,0.00,2,2.57,2,2331.6,2,2418.7,2,7.5651,2,-999,9,-999,9
49UP20171125,RF17-10,6103,1,9,25818,2,20171202,1156,24.2307,155.2203,5525,3553.7,3502,1.4911,34.6768,2,34.6764,2,144.70,2,148.07,2,36.45,2,0.00,2,2.54,2,2330.2,2,2414.8,2,7.5740,2,-999,9,-999,9
49UP20171125,RF17-10,6103,1,8,25817,3,20171202,1151,24.2307,155.2203,5525,3808.8,3751,1.4681,34.6812,2,34.6816,2,150.61,2,146.85,2,36.06,2,0.00,2,2.51,2,2324.3,2,2414.9,2,7.5823,2,-999,9,-999,9
49UP20171125,RF17-10,6103,1,7,25816,2,20171202,1146,24.2307,155.2203,5525,4064.3,4000,1.4598,34.6845,2,34.6839,2,154.06,2,145.44,2,35.84,2,0.00,2,2.49,2,2321.7,6,2413.6,6,7.5860,2,-999,9,-999,9
49UP20171125,RF17-10,6103,1,6,25815,2,20171202,1136,24.2307,155.2203,5525,4576.6,4499,1.4672,34.6891,2,34.6923,4,161.34,2,142.58,2,35.36,2,0.00,2,2.45,2,2319.7,2,2413.8,2,7.5966,6,-999,9,-999,9
49UP20171125,RF17-10,6103,1,5,25814,2,20171202,1130,24.2307,155.2203,5525,4834.5,4750,1.4815,34.6907,2,34.6918,2,163.85,2,140.97,2,35.21,2,0.00,2,2.44,2,2314.0,2,2410.4,2,7.5987,2,-999,9,-999,9
49UP20171125,RF17-10,6103,1,4,25813,2,20171202,1124,24.2307,155.2203,5525,5093.8,5002,1.4975,34.6920,2,34.6955,4,166.82,2,138.77,2,34.98,2,0.00,2,2.42,2,2311.3,2,2410.0,2,7.6032,2,-999,9,-999,9
49UP20171125,RF17-10,6103,1,3,25812,2,20171202,1118,24.2307,155.2203,5525,5350.3,5251,1.5146,34.6935,2,34.6933,2,168.94,6,136.74,6,34.84,6,0.00,6,2.41,6,2308.9,2,2407.3,2,7.6044,2,-999,9,-999,9
49UP20171125,RF17-10,6103,1,2,25811,2,20171202,1112,24.2307,155.2203,5525,5607.9,5500,1.5340,34.6948,2,34.6962,4,172.57,2,134.63,2,34.59,2,0.00,2,2.39,2,2303.2,2,2402.7,2,7.6090,2,-999,9,-999,9
49UP20171125,RF17-10,6103,1,1,25810,2,20171202,1110,24.2307,155.2203,5525,5660.1,5551,1.5407,34.6948,2,34.6964,4,172.31,2,134.66,2,34.60,2,0.00,2,2.39,2,2307.2,2,2405.0,2,7.6082,2,-999,9,-999,9
49UP20171125,RF17-10,6104,1,-999,0,2,20171202,2245,24.2463,153.5523,5391,0.0,0,26.9948,35.0066,2,-999.,9,201.10,2,1.11,2,0.04,2,0.00,2,0.06,2,-999.,9,-999.,9,-999.,9,-999,9,-999,9
49UP20171125,RF17-10,6104,1,33,25842,2,20171202,2312,24.2463,153.5523,5391,11.2,11,26.9957,35.0063,2,-999.,9,201.77,2,1.02,2,0.00,2,0.00,2,0.01,2,-999.,9,-999.,9,-999.,9,-999,9,-999,9
49UP20171125,RF17-10,6104,1,32,25841,2,20171202,2310,24.2463,153.5523,5391,26.7,27,26.9974,35.0070,2,-999.,9,201.61,2,1.00,2,0.00,2,0.00,2,0.01,2,-999.,9,-999.,9,-999.,9,-999,9,-999,9
49UP20171125,RF17-10,6104,1,31,25840,2,20171202,2308,24.2463,153.5523,5391,52.3,52,26.7180,35.1094,2,-999.,9,203.04,2,1.07,2,0.00,2,0.00,2,0.01,2,-999.,9,-999.,9,-999.,9,-999,9,-999,9
49UP20171125,RF17-10,6104,1,30,25839,2,20171202,2307,24.2463,153.5523,5391,77.8,77,24.3074,35.1781,2,-999.,9,220.31,2,1.33,2,0.00,2,0.00,2,0.01,2,-999.,9,-999.,9,-999.,9,-999,9,-999,9
49UP20171125,RF17-10,6104,1,29,25838,2,20171202,2305,24.2463,153.5523,5391,101.8,101,21.6292,35.0785,2,-999.,9,216.22,2,1.73,2,0.01,2,0.00,2,0.03,2,-999.,9,-999.,9,-999.,9,-999,9,-999,9
49UP20171125,RF17-10,6104,1,28,25837,2,20171202,2303,24.2463,153.5523,5391,127.4,127,19.8433,34.9965,2,-999.,9,206.93,6,2.21,6,0.78,6,0.14,6,0.13,6,-999.,9,-999.,9,-999.,9,-999,9,-999,9
49UP20171125,RF17-10,6104,1,23,25832,2,20171202,2302,24.2463,153.5523,5391,154.4,153,18.9877,34.9397,2,-999.,9,203.45,2,2.65,2,1.89,2,0.02,2,0.18,2,-999.,9,-999.,9,-999.,9,-999,9,-999,9
49UP20171125,RF17-10,6104,1,24,25833,2,20171202,2302,24.2463,153.5523,5391,154.5,153,18.9860,34.9395,2,-999.,9,203.38,2,2.65,2,1.86,2,0.02,2,0.18,2,-999.,9,-999.,9,-999.,9,-999,9,-999,9
49UP20171125,RF17-10,6104,1,22,25831,2,20171202,2257,24.2463,153.5523,5391,203.7,202,17.5650,34.8018,2,-999.,9,204.79,2,3.61,2,3.86,2,0.01,2,0.28,2,-999.,9,-999.,9,-999.,9,-999,9,-999,9
49UP20171125,RF17-10,6104,1,21,25830,2,20171202,2255,24.2463,153.5523,5391,253.5,252,16.5315,34.7088,2,-999.,9,206.35,2,4.88,2,5.40,2,0.01,2,0.37,2,-999.,9,-999.,9,-999.,9,-999,9,-999,9
49UP20171125,RF17-10,6104,1,20,25829,2,20171202,2253,24.2463,153.5523,5391,303.9,302,15.6422,34.6203,2,-999.,9,203.88,2,6.40,2,6.81,2,0.00,2,0.47,2,-999.,9,-999.,9,-999.,9,-999,9,-999,9
49UP20171125,RF17-10,6104,1,19,25828,2,20171202,2251,24.2463,153.5523,5391,404.3,401,13.2462,34.4056,2,-999.,9,197.04,2,12.14,2,11.26,2,0.00,2,0.79,2,-999.,9,-999.,9,-999.,9,-999,9,-999,9
49UP20171125,RF17-10,6104,1,15,25824,2,20171202,2248,24.2463,153.5523,5391,507.8,504,10.1492,34.1897,2,-999.,9,178.50,2,24.53,2,18.49,2,0.00,2,1.31,2,-999.,9,-999.,9,-999.,9,-999,9,-999,9
49UP20171125,RF17-10,6104,1,14,25823,2,20171202,2245,24.2463,153.5523,5391,605.8,601,7.4073,34.0660,2,-999.,9,141.79,2,47.12,2,27.03,2,0.00,2,1.94,2,-999.,9,-999.,9,-999.,9,-999,9,-999,9
49UP20171125,RF17-10,6104,1,13,25822,2,20171202,2242,24.2463,153.5523,5391,706.5,701,6.0280,34.1349,2,-999.,9,83.34,2,68.87,2,34.82,2,0.00,2,2.51,2,-999.,9,-999.,9,-999.,9,-999,9,-999,9
49UP20171125,RF17-10,6104,1,12,25821,3,20171202,2237,24.2463,153.5523,5391,809.2,802,5.0087,34.1977,2,-999.,9,60.05,2,87.60,2,38.47,2,0.00,2,2.78,2,-999.,9,-999.,9,-999.,9,-999,9,-999,9
49UP20171125,RF17-10,6104,1,11,25820,2,20171202,2234,24.2463,153.5523,5391,908.8,901,4.4268,34.3313,2,-999.,9,50.04,2,101.77,2,40.39,2,0.00,2,2.91,2,-999.,9,-999.,9,-999.,9,-999,9,-999,9
49UP20171125,RF17-10,6104,1,10,25819,2,20171202,2231,24.2463,153.5523,5391,1012.0,1003,4.0062,34.3903,2,-999.,9,50.04,6,111.33,6,41.05,6,0.00,6,2.96,6,-999.,9,-999.,9,-999.,9,-999,9,-999,9
49UP20171125,RF17-10,6104,1,5,25814,2,20171202,2225,24.2463,153.5523,5391,1213.3,1202,3.4428,34.4846,2,-999.,9,65.94,2,122.25,2,40.40,2,0.00,2,2.89,2,-999.,9,-999.,9,-999.,9,-999,9,-999,9
49UP20171125,RF17-10,6104,1,6,25815,2,20171202,2226,24.2463,153.5523,5391,1215.5,1204,3.4422,34.4864,2,-999.,9,66.03,2,122.40,2,40.46,2,0.00,2,2.89,2,-999.,9,-999.,9,-999.,9,-999,9,-999,9
49UP20171125,RF17-10,6104,1,4,25813,2,20171202,2219,24.2463,153.5523,5391,1415.8,1402,2.8241,34.5185,2,-999.,9,69.66,2,136.64,2,40.79,2,0.00,2,2.90,2,-999.,9,-999.,9,-999.,9,-999,9,-999,9
49UP20171125,RF17-10,6104,1,3,25812,2,20171202,2214,24.2463,153.5523,5391,1618.4,1602,2.4388,34.5558,2,-999.,9,78.77,2,144.13,2,40.45,2,0.00,2,2.86,2,-999.,9,-999.,9,-999.,9,-999,9,-999,9
49UP20171125,RF17-10,6104,1,2,25811,2,20171202,2209,24.2463,153.5523,5391,1820.5,1801,2.1489,34.5866,2,-999.,9,88.72,2,149.25,2,40.03,2,0.00,2,2.82,2,-999.,9,-999.,9,-999.,9,-999,9,-999,9
49UP20171125,RF17-10,6104,1,1,25810,2,20171202,2204,24.2463,153.5523,5391,2023.3,2001,1.9375,34.6113,2,-999.,9,99.30,2,151.87,2,39.43,2,0.00,2,2.77,2,-999.,9,-999.,9,-999.,9,-999,9,-999,9
49UP20171125,RF17-10,6105,1,-999,0,2,20171203,0635,24.2577,152.0633,5439,0.0,0,27.2680,35.0968,2,-999.0000,9,201.07,2,1.04,2,0.01,2,0.00,2,0.03,2,-999.,9,-999.,9,-999.,9,-999,9,-999,9
49UP20171125,RF17-10,6105,1,33,25842,2,20171203,0706,24.2577,152.0633,5439,10.8,11,27.2833,35.0966,2,35.0961,2,201.13,2,1.06,2,0.00,2,0.00,2,0.01,2,-999.,9,-999.,9,-999.,9,-999,9,-999,9
49UP20171125,RF17-10,6105,1,32,25841,2,20171203,0705,24.2577,152.0633,5439,26.3,26,27.2886,35.0957,2,-999.0000,9,201.10,2,1.02,2,0.01,2,0.00,2,0.01,2,-999.,9,-999.,9,-999.,9,-999,9,-999,9
49UP20171125,RF17-10,6105,1,31,25840,4,20171203,0704,24.2577,152.0633,5439,50.9,51,27.2982,35.1063,2,35.0961,4,-999.00,9,1.57,4,0.00,4,0.00,4,0.00,4,-999.,9,-999.,9,-999.,9,-999,9,-999,9
49UP20171125,RF17-10,6105,1,30,25839,2,20171203,0703,24.2577,152.0633,5439,76.7,76,25.2355,35.2566,2,-999.0000,9,220.71,6,1.26,6,0.00,6,0.00,6,0.01,6,-999.,9,-999.,9,-999.,9,-999,9,-999,9
49UP20171125,RF17-10,6105,1,28,25837,2,20171203,0701,24.2577,152.0633,5439,101.3,101,22.7498,35.1765,2,35.1771,2,206.04,2,1.53,2,0.00,2,0.00,2,0.04,2,-999.,9,-999.,9,-999.,9,-999,9,-999,9
49UP20171125,RF17-10,6105,1,29,25838,2,20171203,0701,24.2577,152.0633,5439,101.8,101,22.7544,35.1778,2,35.1766,2,206.26,2,1.55,2,0.00,2,0.00,2,0.03,2,-999.,9,-999.,9,-999.,9,-999,9,-999,9
49UP20171125,RF17-10,6105,1,24,25833,2,20171203,0700,24.2577,152.0633,5439,127.4,127,21.1403,35.0808,2,-999.0000,9,203.40,2,1.92,2,0.31,2,0.08,2,0.08,2,-999.,9,-999.,9,-999.,9,-999,9,-999,9
49UP20171125,RF17-10,6105,1,23,25832,3,20171203,0656,24.2577,152.0633,5439,153.3,152,20.0109,35.0292,2,35.0392,4,199.26,2,2.30,2,1.48,2,0.08,2,0.16,2,-999.,9,-999.,9,-999.,9,-999,9,-999,9
49UP20171125,RF17-10,6105,1,22,25831,2,20171203,0654,24.2577,152.0633,5439,205.1,204,18.1651,34.8603,2,34.8628,2,204.95,2,3.02,2,2.96,2,0.01,2,0.22,2,-999.,9,-999.,9,-999.,9,-999,9,-999,9
49UP20171125,RF17-10,6105,1,21,25830,2,20171203,0652,24.2577,152.0633,5439,256.8,255,16.9022,34.7481,2,-999.0000,9,208.15,2,4.34,2,4.89,2,0.01,2,0.33,2,-999.,9,-999.,9,-999.,9,-999,9,-999,9
49UP20171125,RF17-10,6105,1,20,25829,2,20171203,0650,24.2577,152.0633,5439,305.5,303,16.2416,34.6905,2,-999.0000,9,208.06,2,5.41,2,5.85,2,0.01,2,0.40,2,-999.,9,-999.,9,-999.,9,-999,9,-999,9
49UP20171125,RF17-10,6105,1,19,25828,2,20171203,0647,24.2577,152.0633,5439,404.8,402,13.8898,34.4648,2,34.4671,2,192.61,2,11.56,2,10.89,2,0.00,2,0.75,2,-999.,9,-999.,9,-999.,9,-999,9,-999,9
49UP20171125,RF17-10,6105,1,15,25824,2,20171203,0644,24.2577,152.0633,5439,504.7,501,10.9292,34.2446,2,-999.0000,9,180.63,2,21.62,2,16.96,2,0.00,2,1.19,2,-999.,9,-999.,9,-999.,9,-999,9,-999,9
49UP20171125,RF17-10,6105,1,14,25823,2,20171203,0641,24.2577,152.0633,5439,606.3,602,7.8467,34.0950,2,34.0960,2,140.79,2,43.64,2,26.34,2,0.00,2,1.88,2,-999.,9,-999.,9,-999.,9,-999,9,-999,9
49UP20171125,RF17-10,6105,1,13,25822,2,20171203,0638,24.2577,152.0633,5439,709.1,703,5.9233,34.1079,2,-999.0000,9,89.59,2,69.13,2,34.31,2,0.00,2,2.47,2,-999.,9,-999.,9,-999.,9,-999,9,-999,9
49UP20171125,RF17-10,6105,1,12,25821,2,20171203,0634,24.2577,152.0633,5439,806.2,800,4.9543,34.1963,2,34.1963,2,59.16,6,88.62,6,38.65,6,0.00,6,2.79,6,-999.,9,-999.,9,-999.,9,-999,9,-999,9
49UP20171125,RF17-10,6105,1,10,25819,2,20171203,0631,24.2577,152.0633,5439,912.0,904,4.3062,34.2832,2,-999.0000,9,47.39,2,103.75,2,40.58,2,0.00,2,2.92,2,-999.,9,-999.,9,-999.,9,-999,9,-999,9
49UP20171125,RF17-10,6105,1,11,25820,2,20171203,0631,24.2577,152.0633,5439,913.7,906,4.3043,34.2838,2,-999.0000,9,47.46,2,103.94,2,40.58,2,0.00,2,2.92,2,-999.,9,-999.,9,-999.,9,-999,9,-999,9
49UP20171125,RF17-10,6105,1,6,25815,2,20171203,0628,24.2577,152.0633,5439,1014.5,1006,3.7575,34.3860,2,34.3865,2,47.86,2,117.06,2,41.26,2,0.00,2,2.96,2,-999.,9,-999.,9,-999.,9,-999,9,-999,9
49UP20171125,RF17-10,6105,1,5,25814,2,20171203,0622,24.2577,152.0633,5439,1211.7,1200,3.1925,34.4685,2,34.4695,2,57.42,2,129.72,2,41.14,2,0.00,2,2.94,2,-999.,9,-999.,9,-999.,9,-999,9,-999,9
49UP20171125,RF17-10,6105,1,4,25813,2,20171203,0617,24.2577,152.0633,5439,1412.8,1399,2.7748,34.5050,2,34.5050,2,63.14,2,139.25,2,41.09,2,0.00,2,2.92,2,-999.,9,-999.,9,-999.,9,-999,9,-999,9
49UP20171125,RF17-10,6105,1,3,25812,2,20171203,0613,24.2577,152.0633,5439,1615.0,1599,2.3823,34.5578,2,34.5579,2,79.20,2,144.81,2,40.27,2,0.00,2,2.85,2,-999.,9,-999.,9,-999.,9,-999,9,-999,9
49UP20171125,RF17-10,6105,1,2,25811,2,20171203,0609,24.2577,152.0633,5439,1820.1,1801,2.1416,34.5873,2,34.5881,2,89.92,2,148.12,2,39.73,2,0.00,2,2.80,2,-999.,9,-999.,9,-999.,9,-999,9,-999,9
49UP20171125,RF17-10,6105,1,1,25810,2,20171203,0604,24.2577,152.0633,5439,2026.2,2004,1.9729,34.6082,2,34.6095,6,-999.00,5,149.97,2,39.19,2,0.00,2,2.76,2,-999.,9,-999.,9,-999.,9,-999,9,-999,9