BOTTLE,20180401JMAGEMD
EXPOCODE,SECT_ID,STNNBR,CASTNO,SAMPNO,BTLNBR,BTLNBR_FLAG_W,DATE,TIME,LATITUDE,LONGITUDE,DEPTH,CTDPRS,CTDDEP,CTDTMP,CTDSAL,CTDSAL_FLAG_W,SALNTY,SALNTY_FLAG_W,OXYGEN,OXYGEN_FLAG_W,SILCAT,SILCAT_FLAG_W,NO2+NO3,NO2+NO3_FLAG_W,NITRIT,NITRIT_FLAG_W,PHSPHT,PHSPHT_FLAG_W,TCARBN,TCARBN_FLAG_W,ALKALI,ALKALI_FLAG_W,PH_TOT,PH_TOT_FLAG_W,CFC-11,CFC-11_FLAG_W,CFC-12,CFC-12_FLAG_W
,,,,,,,UTC,UTC,,,METER,DBAR,METERS,ITS-90,PSS-78,,PSS-78,,UMOL/KG,,UMOL/KG,,UMOL/KG,,UMOL/KG,,UMOL/KG,,UMOL/KG,,UMOL/KG,,@25DEG-C,,PMOL/KG,,PMOL/KG,
49UP20171125,RF17-10,6121,1,-999,0,2,20171209,1535,23.7405,131.9873,3499,0.0,0,27.3372,34.8313,2,-999.,9,200.56,2,0.92,2,0.00,2,0.00,2,0.03,2,-999.,9,-999.,9,-999.,9,-999,9,-999,9
49UP20171125,RF17-10,6121,1,36,25845,2,20171209,1608,23.7405,131.9873,3499,10.5,10,27.3521,34.8309,2,-999.,9,199.69,2,0.92,2,0.02,2,0.00,2,0.01,2,-999.,9,-999.,9,-999.,9,-999,9,-999,9
49UP20171125,RF17-10,6121,1,35,25844,2,20171209,1606,23.7405,131.9873,3499,26.9,27,27.3638,34.8303,2,-999.,9,199.95,2,0.91,2,0.01,2,0.00,2,0.01,2,-999.,9,-999.,9,-999.,9,-999,9,-999,9
49UP20171125,RF17-10,6121,1,34,25843,2,20171209,1604,23.7405,131.9873,3499,52.3,52,27.3571,34.8311,2,-999.,9,200.02,2,0.91,2,0.00,2,0.00,2,0.01,2,-999.,9,-999.,9,-999.,9,-999,9,-999,9
49UP20171125,RF17-10,6121,1,33,25842,2,20171209,1602,23.7405,131.9873,3499,78.4,78,27.3389,34.8312,2,-999.,9,200.02,2,0.91,2,0.00,2,0.00,2,0.01,2,-999.,9,-999.,9,-999.,9,-999,9,-999,9
49UP20171125,RF17-10,6121,1,32,25841,2,20171209,1600,23.7405,131.9873,3499,101.0,100,27.3359,34.8348,2,-999.,9,200.33,2,0.89,2,0.00,2,0.00,2,0.01,2,-999.,9,-999.,9,-999.,9,-999,9,-999,9
49UP20171125,RF17-10,6121,1,31,25840,2,20171209,1558,23.7405,131.9873,3499,126.8,126,24.9568,35.0407,2,-999.,9,213.58,2,1.25,2,0.00,2,0.00,2,0.02,2,-999.,9,-999.,9,-999.,9,-999,9,-999,9
49UP20171125,RF17-10,6121,1,27,25836,2,20171209,1556,23.7405,131.9873,3499,154.8,154,23.8032,35.1132,2,-999.,9,204.45,2,1.33,2,0.08,2,0.08,2,0.04,2,-999.,9,-999.,9,-999.,9,-999,9,-999,9
49UP20171125,RF17-10,6121,1,26,25835,3,20171209,1550,23.7405,131.9873,3499,204.6,203,21.0741,35.0181,2,-999.,9,200.30,2,1.92,2,0.98,2,0.02,2,0.10,2,-999.,9,-999.,9,-999.,9,-999,9,-999,9
49UP20171125,RF17-10,6121,1,25,25834,2,20171209,1548,23.7405,131.9873,3499,253.9,252,18.7649,34.8958,2,-999.,9,197.66,2,2.89,2,3.23,2,0.01,2,0.24,2,-999.,9,-999.,9,-999.,9,-999,9,-999,9
49UP20171125,RF17-10,6121,1,24,25833,2,20171209,1546,23.7405,131.9873,3499,306.1,304,17.7260,34.8048,2,-999.,9,200.22,6,3.74,6,4.45,6,0.01,6,0.31,6,-999.,9,-999.,9,-999.,9,-999,9,-999,9
49UP20171125,RF17-10,6121,1,23,25832,2,20171209,1543,23.7405,131.9873,3499,403.9,401,15.1028,34.5609,2,-999.,9,191.51,2,8.43,2,8.92,2,0.00,2,0.62,2,-999.,9,-999.,9,-999.,9,-999,9,-999,9
49UP20171125,RF17-10,6121,1,22,25831,2,20171209,1543,23.7405,131.9873,3499,404.3,401,15.0998,34.5603,2,-999.,9,191.54,2,8.47,2,8.92,2,0.00,2,0.62,2,-999.,9,-999.,9,-999.,9,-999,9,-999,9
49UP20171125,RF17-10,6121,1,18,25827,2,20171209,1540,23.7405,131.9873,3499,506.2,502,12.0359,34.3364,2,-999.,9,179.06,2,19.29,2,15.35,2,0.00,2,1.07,2,-999.,9,-999.,9,-999.,9,-999,9,-999,9
49UP20171125,RF17-10,6121,1,17,25826,2,20171209,1537,23.7405,131.9873,3499,608.2,603,9.2451,34.1821,2,-999.,9,153.33,2,35.44,2,22.64,2,0.00,2,1.61,2,-999.,9,-999.,9,-999.,9,-999,9,-999,9
49UP20171125,RF17-10,6121,1,16,25825,4,20171209,1535,23.7405,131.9873,3499,707.2,702,6.9738,34.1482,2,-999.,9,-999.00,9,-999.00,9,-999.00,9,-999.00,9,-999.000,9,-999.,9,-999.,9,-999.,9,-999,9,-999,9
49UP20171125,RF17-10,6121,1,15,25824,2,20171209,1530,23.7405,131.9873,3499,810.0,803,5.5355,34.1887,2,-999.,9,81.76,2,80.44,2,35.51,2,0.00,2,2.56,2,-999.,9,-999.,9,-999.,9,-999,9,-999,9
49UP20171125,RF17-10,6121,1,14,25823,2,20171209,1527,23.7405,131.9873,3499,910.5,903,4.7338,34.2567,2,-999.,9,66.84,2,96.32,2,38.19,2,0.00,2,2.74,2,-999.,9,-999.,9,-999.,9,-999,9,-999,9
49UP20171125,RF17-10,6121,1,13,25822,2,20171209,1524,23.7405,131.9873,3499,1012.9,1004,3.9427,34.3436,2,-999.,9,58.89,2,113.82,2,39.87,2,0.00,2,2.86,2,-999.,9,-999.,9,-999.,9,-999,9,-999,9
49UP20171125,RF17-10,6121,1,9,25818,2,20171209,1519,23.7405,131.9873,3499,1214.0,1203,3.2676,34.4588,2,-999.,9,65.93,2,127.55,2,40.30,2,0.00,2,2.87,2,-999.,9,-999.,9,-999.,9,-999,9,-999,9
49UP20171125,RF17-10,6121,1,8,25817,2,20171209,1513,23.7405,131.9873,3499,1415.3,1402,2.7922,34.5037,2,-999.,9,74.24,2,136.59,2,40.17,2,0.00,2,2.85,2,-999.,9,-999.,9,-999.,9,-999,9,-999,9
49UP20171125,RF17-10,6121,1,7,25816,2,20171209,1508,23.7405,131.9873,3499,1618.1,1602,2.4891,34.5484,2,-999.,9,88.03,2,139.87,2,39.46,2,0.00,2,2.79,2,-999.,9,-999.,9,-999.,9,-999,9,-999,9
49UP20171125,RF17-10,6121,1,6,25815,2,20171209,1504,23.7405,131.9873,3499,1821.3,1802,2.1999,34.5838,2,-999.,9,101.20,6,142.10,6,38.82,6,0.00,6,2.74,6,-999.,9,-999.,9,-999.,9,-999,9,-999,9
49UP20171125,RF17-10,6121,1,4,25813,2,20171209,1457,23.7405,131.9873,3499,2022.1,2000,2.0160,34.6071,2,-999.,9,111.91,2,142.80,2,38.33,2,0.00,2,2.69,2,-999.,9,-999.,9,-999.,9,-999,9,-999,9
49UP20171125,RF17-10,6121,1,5,25814,2,20171209,1458,23.7405,131.9873,3499,2022.5,2000,2.0168,34.6070,2,-999.,9,111.62,2,142.78,2,38.30,2,0.00,2,2.69,2,-999.,9,-999.,9,-999.,9,-999,9,-999,9
49UP20171125,RF17-10,6122,1,-999,0,2,20171209,2305,24.0008,130.9835,3329,0.0,0,26.7043,34.6669,2,34.6770,2,202.06,2,1.13,2,0.04,2,0.00,2,0.03,2,1948.3,2,2280.9,2,-999.,9,-999,9,-999,9
49UP20171125,RF17-10,6122,1,30,25839,2,20171209,2331,24.0008,130.9835,3329,10.3,10,26.7165,34.6714,2,-999.0000,9,-999.00,9,-999.00,9,-999.00,9,-999.00,9,-999.000,9,-999.0,9,-999.0,9,-999.,9,-999,9,-999,9
49UP20171125,RF17-10,6122,1,36,25845,2,20171209,2331,24.0008,130.9835,3329,10.6,11,26.7162,34.6713,2,34.6700,2,201.46,2,1.05,2,0.04,2,0.00,2,0.01,2,1946.0,2,2279.3,2,-999.,9,-999,9,-999,9
49UP20171125,RF17-10,6122,1,35,25844,2,20171209,2330,24.0008,130.9835,3329,25.9,26,26.7180,34.6720,2,-999.0000,9,201.67,2,1.10,2,0.04,2,0.00,2,0.01,2,1947.0,2,2278.7,2,-999.,9,-999,9,-999,9
49UP20171125,RF17-10,6122,1,34,25843,2,20171209,2329,24.0008,130.9835,3329,52.3,52,26.5104,34.6357,2,34.6358,2,202.18,2,1.10,2,0.03,2,0.00,2,0.01,2,1949.6,2,2278.5,2,-999.,9,-999,9,-999,9
49UP20171125,RF17-10,6122,1,29,25838,2,20171209,2329,24.0008,130.9835,3329,52.7,52,26.4943,34.6311,2,-999.0000,9,-999.00,9,-999.00,9,-999.00,9,-999.00,9,-999.000,9,-999.0,9,-999.0,9,-999.,9,-999,9,-999,9
49UP20171125,RF17-10,6122,1,33,25842,2,20171209,2327,24.0008,130.9835,3329,76.8,76,26.3244,34.6652,2,-999.0000,9,203.16,2,1.17,2,0.05,2,0.00,2,0.01,2,1956.4,2,2280.4,2,-999.,9,-999,9,-999,9
49UP20171125,RF17-10,6122,1,28,25837,2,20171209,2324,24.0008,130.9835,3329,101.8,101,24.3518,34.8965,2,-999.0000,9,-999.00,9,-999.00,9,-999.00,9,-999.00,9,-999.000,9,-999.0,9,-999.0,9,-999.,9,-999,9,-999,9
49UP20171125,RF17-10,6122,1,32,25841,2,20171209,2324,24.0008,130.9835,3329,103.0,102,24.3413,34.9006,2,34.8963,4,206.29,2,1.46,2,0.11,2,0.05,2,0.02,2,1990.3,2,2297.0,2,-999.,9,-999,9,-999,9
49UP20171125,RF17-10,6122,1,31,25840,2,20171209,2322,24.0008,130.9835,3329,127.0,126,22.3817,35.0503,2,-999.0000,9,204.67,2,1.55,2,0.30,2,0.14,2,0.04,2,2011.9,2,2305.2,2,-999.,9,-999,9,-999,9
49UP20171125,RF17-10,6122,1,21,25830,2,20171209,2321,24.0008,130.9835,3329,152.2,151,20.7413,35.0112,2,-999.0000,9,-999.00,9,-999.00,9,-999.00,9,-999.00,9,-999.000,9,-999.0,9,-999.0,9,-999.,9,-999,9,-999,9
49UP20171125,RF17-10,6122,1,27,25836,2,20171209,2321,24.0008,130.9835,3329,153.9,153,20.6455,35.0038,2,35.0129,4,198.13,2,1.94,2,1.53,2,0.02,2,0.12,2,2030.3,2,2301.6,2,-999.,9,-999,9,-999,9
49UP20171125,RF17-10,6122,1,26,25835,2,20171209,2319,24.0008,130.9835,3329,204.2,203,18.6185,34.8727,2,34.8727,2,199.90,2,3.14,2,3.56,2,0.01,2,0.24,2,2034.9,2,2292.3,2,-999.,9,-999,9,-999,9
49UP20171125,RF17-10,6122,1,25,25834,2,20171209,2317,24.0008,130.9835,3329,253.7,252,18.0259,34.8301,2,-999.0000,9,201.37,6,3.49,6,4.14,6,0.01,6,0.28,6,-999.0,9,-999.0,9,-999.,9,-999,9,-999,9
49UP20171125,RF17-10,6122,1,23,25832,2,20171209,2314,24.0008,130.9835,3329,306.6,304,16.8242,34.7153,2,-999.0000,9,196.55,2,5.39,2,6.17,2,0.00,2,0.41,2,-999.0,9,-999.0,9,-999.,9,-999,9,-999,9
49UP20171125,RF17-10,6122,1,24,25833,2,20171209,2315,24.0008,130.9835,3329,309.3,307,16.7959,34.7128,2,-999.0000,9,196.33,2,5.54,2,6.27,2,0.00,2,0.41,2,-999.0,9,-999.0,9,-999.,9,-999,9,-999,9
49UP20171125,RF17-10,6122,1,22,25831,2,20171209,2311,24.0008,130.9835,3329,407.8,405,14.8261,34.5503,2,34.5538,2,186.19,2,10.73,2,10.17,2,0.00,2,0.69,2,-999.0,9,-999.0,9,-999.,9,-999,9,-999,9
49UP20171125,RF17-10,6122,1,18,25827,2,20171209,2308,24.0008,130.9835,3329,508.0,504,11.6129,34.3270,2,-999.0000,9,168.90,2,22.97,2,17.06,2,0.00,2,1.19,2,-999.0,9,-999.0,9,-999.,9,-999,9,-999,9
49UP20171125,RF17-10,6122,1,17,25826,2,20171209,2305,24.0008,130.9835,3329,608.0,603,8.3260,34.1703,2,34.1715,2,138.89,2,45.79,2,25.65,2,0.00,2,1.82,2,-999.0,9,-999.0,9,-999.,9,-999,9,-999,9
49UP20171125,RF17-10,6122,1,16,25825,2,20171209,2301,24.0008,130.9835,3329,713.0,707,6.4711,34.1549,2,-999.0000,9,105.54,2,66.41,2,31.88,2,0.00,2,2.28,2,-999.0,9,-999.0,9,-999.,9,-999,9,-999,9
49UP20171125,RF17-10,6122,1,15,25824,2,20171209,2257,24.0008,130.9835,3329,810.7,804,5.2806,34.2028,2,34.2024,2,84.06,2,85.57,2,35.96,2,0.00,2,2.57,2,-999.0,9,-999.0,9,-999.,9,-999,9,-999,9
49UP20171125,RF17-10,6122,1,14,25823,2,20171209,2255,24.0008,130.9835,3329,906.8,899,4.3238,34.2947,2,-999.0000,9,61.91,2,104.94,2,39.23,2,0.00,2,2.80,2,-999.0,9,-999.0,9,-999.,9,-999,9,-999,9
49UP20171125,RF17-10,6122,1,13,25822,2,20171209,2252,24.0008,130.9835,3329,1009.3,1000,3.9046,34.3605,2,34.3582,2,59.17,2,114.25,2,40.10,2,0.00,2,2.86,2,-999.0,9,-999.0,9,-999.,9,-999,9,-999,9
49UP20171125,RF17-10,6122,1,9,25818,2,20171209,2248,24.0008,130.9835,3329,1210.5,1199,3.1998,34.4493,2,34.4496,6,64.39,2,128.98,2,40.59,2,0.00,2,2.88,2,-999.0,9,-999.0,9,-999.,9,-999,9,-999,9
49UP20171125,RF17-10,6122,1,8,25817,2,20171209,2243,24.0008,130.9835,3329,1415.5,1402,2.6740,34.5122,2,34.5116,2,76.79,2,137.78,2,40.13,2,0.00,2,2.84,2,-999.0,9,-999.0,9,-999.,9,-999,9,-999,9
49UP20171125,RF17-10,6122,1,7,25816,2,20171209,2238,24.0008,130.9835,3329,1614.0,1598,2.3599,34.5587,2,34.5582,2,91.57,6,140.94,6,39.44,6,0.00,6,2.78,6,-999.0,9,-999.0,9,-999.,9,-999,9,-999,9
49UP20171125,RF17-10,6122,1,6,25815,2,20171209,2234,24.0008,130.9835,3329,1818.0,1799,2.1551,34.5944,2,34.5952,2,105.73,2,141.42,2,38.64,2,0.00,2,2.71,2,-999.0,9,-999.0,9,-999.,9,-999,9,-999,9
49UP20171125,RF17-10,6122,1,5,25814,2,20171209,2234,24.0008,130.9835,3329,1818.1,1799,2.1549,34.5943,2,34.5937,2,106.01,2,141.26,2,38.62,2,0.00,2,2.71,2,-999.0,9,-999.0,9,-999.,9,-999,9,-999,9
49UP20171125,RF17-10,6122,1,4,25813,2,20171209,2229,24.0008,130.9835,3329,2024.6,2002,1.9929,34.6137,2,34.6147,2,115.19,2,142.22,2,38.16,2,0.00,2,2.67,2,-999.0,9,-999.0,9,-999.,9,-999,9,-999,9
49UP20171125,RF17-10,6123,1,-999,0,2,20171210,0705,24.626,129.9868,4230,0.0,0,24.6204,34.8970,2,34.8934,2,209.39,2,1.35,2,0.00,2,0.00,2,0.04,2,1971.3,2,2294.5,2,8.0871,2,-999,9,-999,9
49UP20171125,RF17-10,6123,1,36,25845,2,20171210,0735,24.626,129.9868,4230,11.3,11,24.6219,34.8970,2,-999.0000,9,208.97,2,1.33,2,0.00,2,0.00,2,0.01,2,1973.2,2,2294.6,2,8.0918,2,-999,9,-999,9
49UP20171125,RF17-10,6123,1,30,25839,2,20171210,0734,24.626,129.9868,4230,11.4,11,24.6197,34.8968,2,-999.0000,9,-999.00,9,-999.00,9,-999.00,9,-999.00,9,-999.000,9,-999.0,9,-999.0,9,-999.0000,9,-999,9,-999,9
49UP20171125,RF17-10,6123,1,35,25844,2,20171210,0733,24.626,129.9868,4230,26.7,27,24.6261,34.8962,2,-999.0000,9,208.67,2,1.29,2,0.00,2,0.00,2,0.01,2,1969.7,2,2294.1,2,8.0913,2,-999,9,-999,9
49UP20171125,RF17-10,6123,1,34,25843,2,20171210,0729,24.626,129.9868,4230,51.1,51,24.6096,34.8947,2,-999.0000,9,208.88,2,1.33,2,0.00,2,0.00,2,0.01,2,1970.3,2,2295.7,2,8.0956,2,-999,9,-999,9
49UP20171125,RF17-10,6123,1,29,25838,2,20171210,0728,24.626,129.9868,4230,51.1,51,24.6119,34.8947,2,-999.0000,9,-999.00,9,-999.00,9,-999.00,9,-999.00,9,-999.000,9,-999.0,9,-999.0,9,-999.0000,9,-999,9,-999,9
49UP20171125,RF17-10,6123,1,33,25842,2,20171210,0727,24.626,129.9868,4230,76.3,76,24.6184,34.8990,2,-999.0000,9,208.56,2,1.33,2,0.00,2,0.00,2,0.01,2,1971.6,2,2294.3,2,8.0899,2,-999,9,-999,9
49UP20171125,RF17-10,6123,1,28,25837,2,20171210,0725,24.626,129.9868,4230,102.0,101,22.3936,34.9820,2,-999.0000,9,-999.00,9,-999.00,9,-999.00,9,-999.00,9,-999.000,9,-999.0,9,-999.0,9,-999.0000,9,-999,9,-999,9
49UP20171125,RF17-10,6123,1,32,25841,2,20171210,0725,24.626,129.9868,4230,102.1,101,22.3790,34.9830,2,-999.0000,9,213.54,2,1.68,2,0.04,2,0.03,2,0.02,2,2001.2,2,2297.9,2,8.0459,2,-999,9,-999,9
49UP20171125,RF17-10,6123,1,31,25840,2,20171210,0723,24.626,129.9868,4230,125.6,125,21.3990,34.9949,2,-999.0000,9,208.30,2,1.84,2,0.27,2,0.11,2,0.05,2,2011.4,2,2301.2,2,8.0278,2,-999,9,-999,9
49UP20171125,RF17-10,6123,1,21,25830,2,20171210,0721,24.626,129.9868,4230,152.2,151,20.4383,34.9692,2,-999.0000,9,-999.00,9,-999.00,9,-999.00,9,-999.00,9,-999.000,9,-999.0,9,-999.0,9,-999.0000,9,-999,9,-999,9
49UP20171125,RF17-10,6123,1,27,25836,3,20171210,0722,24.626,129.9868,4230,152.3,151,20.4357,34.9698,2,-999.0000,9,200.26,2,2.30,2,1.90,2,0.03,2,0.14,2,2024.8,2,2295.8,2,8.0062,2,-999,9,-999,9
49UP20171125,RF17-10,6123,1,26,25835,3,20171210,0719,24.626,129.9868,4230,202.1,201,18.5849,34.8722,2,-999.0000,9,201.65,6,3.16,6,3.43,6,0.01,6,0.24,6,2038.5,2,2292.1,2,7.9777,2,-999,9,-999,9
49UP20171125,RF17-10,6123,1,24,25833,2,20171210,0717,24.626,129.9868,4230,253.1,251,17.6279,34.7928,2,-999.0000,9,200.01,2,4.15,2,4.86,2,0.01,2,0.33,2,2042.5,2,2284.3,2,7.9546,2,-999,9,-999,9
49UP20171125,RF17-10,6123,1,25,25834,2,20171210,0717,24.626,129.9868,4230,253.3,252,17.6262,34.7926,2,-999.0000,9,199.52,2,4.20,2,4.87,2,0.01,2,0.33,2,2042.2,2,2283.6,2,7.9533,2,-999,9,-999,9
49UP20171125,RF17-10,6123,1,23,25832,2,20171210,0715,24.626,129.9868,4230,303.7,302,16.6892,34.7010,2,-999.0000,9,195.39,2,5.77,2,6.54,2,0.01,2,0.43,2,2051.8,2,2281.7,2,7.9246,2,-999,9,-999,9
49UP20171125,RF17-10,6123,1,22,25831,2,20171210,0712,24.626,129.9868,4230,404.2,401,13.9316,34.4829,2,-999.0000,9,182.18,2,13.98,2,12.19,2,0.00,2,0.84,2,2091.7,2,2273.6,2,7.8350,2,-999,9,-999,9
49UP20171125,RF17-10,6123,1,18,25827,2,20171210,0709,24.626,129.9868,4230,504.2,500,11.1459,34.3023,2,-999.0000,9,167.30,2,26.54,2,18.32,2,0.00,2,1.29,2,2133.9,2,2276.2,2,7.7361,2,-999,9,-999,9
49UP20171125,RF17-10,6123,1,17,25826,2,20171210,0706,24.626,129.9868,4230,605.5,601,8.1823,34.1774,2,-999.0000,9,133.86,2,48.60,2,26.55,2,0.00,2,1.90,2,2196.0,2,2288.4,2,7.6054,2,-999,9,-999,9
49UP20171125,RF17-10,6123,1,16,25825,2,20171210,0703,24.626,129.9868,4230,706.7,701,6.4075,34.1528,2,-999.0000,9,105.87,2,68.44,2,32.21,2,0.00,2,2.32,2,2245.1,2,2304.5,2,7.5136,2,-999,9,-999,9
49UP20171125,RF17-10,6123,1,15,25824,2,20171210,0659,24.626,129.9868,4230,808.2,801,5.1433,34.2053,2,-999.0000,9,78.77,2,89.14,2,36.67,2,0.00,2,2.64,2,2285.7,6,2327.6,6,7.4459,2,-999,9,-999,9
49UP20171125,RF17-10,6123,1,14,25823,2,20171210,0656,24.626,129.9868,4230,908.6,901,4.3681,34.2893,2,-999.0000,9,63.68,2,105.57,2,39.17,2,0.00,2,2.81,2,2312.6,2,2347.1,2,7.4164,6,-999,9,-999,9
49UP20171125,RF17-10,6123,1,13,25822,2,20171210,0653,24.626,129.9868,4230,1011.2,1002,3.9081,34.3567,2,-999.0000,9,59.34,2,115.18,2,40.31,2,0.00,2,2.89,2,2331.5,2,2358.0,2,7.4085,2,-999,9,-999,9
49UP20171125,RF17-10,6123,1,9,25818,2,20171210,0649,24.626,129.9868,4230,1211.9,1201,3.1554,34.4520,2,-999.0000,9,65.30,2,131.11,2,40.68,2,0.00,2,2.90,2,2348.8,2,2381.1,2,7.4219,2,-999,9,-999,9
49UP20171125,RF17-10,6123,1,8,25817,2,20171210,0643,24.626,129.9868,4230,1417.0,1403,2.6812,34.5149,2,-999.0000,9,77.43,6,138.82,6,40.27,6,0.00,6,2.86,6,2346.1,2,2390.8,2,7.4477,2,-999,9,-999,9
49UP20171125,RF17-10,6123,1,6,25815,2,20171210,0638,24.626,129.9868,4230,1617.6,1601,2.3227,34.5642,2,-999.0000,9,93.62,2,142.47,2,39.48,2,0.00,2,2.79,2,2344.5,2,2397.8,2,7.4806,2,-999,9,-999,9
49UP20171125,RF17-10,6123,1,7,25816,2,20171210,0638,24.626,129.9868,4230,1617.9,1601,2.3226,34.5642,2,-999.0000,9,93.58,2,142.32,2,39.47,2,0.00,2,2.79,2,2347.1,2,2397.2,2,7.4805,2,-999,9,-999,9
49UP20171125,RF17-10,6123,1,5,25814,2,20171210,0633,24.626,129.9868,4230,1821.1,1802,2.1011,34.5953,2,-999.0000,9,106.08,2,143.37,2,38.76,2,0.00,2,2.73,2,2343.9,2,2404.0,6,7.5070,2,-999,9,-999,9
49UP20171125,RF17-10,6123,1,4,25813,2,20171210,0627,24.626,129.9868,4230,2024.8,2002,1.9484,34.6176,2,-999.0000,9,116.52,2,143.65,2,38.20,2,0.00,2,2.68,2,2341.5,2,2407.6,2,7.5222,6,-999,9,-999,9