BOTTLE,20180401JMAGEMD
EXPOCODE,SECT_ID,STNNBR,CASTNO,SAMPNO,BTLNBR,BTLNBR_FLAG_W,DATE,TIME,LATITUDE,LONGITUDE,DEPTH,CTDPRS,CTDDEP,CTDTMP,CTDSAL,CTDSAL_FLAG_W,SALNTY,SALNTY_FLAG_W,OXYGEN,OXYGEN_FLAG_W,SILCAT,SILCAT_FLAG_W,NO2+NO3,NO2+NO3_FLAG_W,NITRIT,NITRIT_FLAG_W,PHSPHT,PHSPHT_FLAG_W,TCARBN,TCARBN_FLAG_W,ALKALI,ALKALI_FLAG_W,PH_TOT,PH_TOT_FLAG_W,CFC-11,CFC-11_FLAG_W,CFC-12,CFC-12_FLAG_W
,,,,,,,UTC,UTC,,,METER,DBAR,METERS,ITS-90,PSS-78,,PSS-78,,UMOL/KG,,UMOL/KG,,UMOL/KG,,UMOL/KG,,UMOL/KG,,UMOL/KG,,UMOL/KG,,@25DEG-C,,PMOL/KG,,PMOL/KG,
49UP20171125,RF17-10,6106,1,-999,0,2,20171203,1455,24.2992,150.504,5221,0.0,0,26.4237,34.9767,2,-999.,9,203.83,2,1.22,2,0.04,2,0.00,2,0.04,2,-999.,9,-999.,9,-999.,9,-999,9,-999,9
49UP20171125,RF17-10,6106,1,33,25842,2,20171203,1531,24.2992,150.504,5221,10.1,10,26.4295,34.9768,2,-999.,9,204.07,2,1.20,2,0.00,2,0.00,2,0.02,2,-999.,9,-999.,9,-999.,9,-999,9,-999,9
49UP20171125,RF17-10,6106,1,32,25841,2,20171203,1530,24.2992,150.504,5221,25.9,26,26.4017,34.9736,2,-999.,9,204.25,2,1.23,2,0.01,2,0.00,2,0.02,2,-999.,9,-999.,9,-999.,9,-999,9,-999,9
49UP20171125,RF17-10,6106,1,31,25840,2,20171203,1528,24.2992,150.504,5221,51.3,51,25.5240,34.9680,2,-999.,9,208.88,6,1.34,6,0.01,6,0.00,6,0.01,6,-999.,9,-999.,9,-999.,9,-999,9,-999,9
49UP20171125,RF17-10,6106,1,30,25839,2,20171203,1526,24.2992,150.504,5221,77.7,77,21.6934,34.9766,2,-999.,9,225.92,2,1.74,2,0.00,2,0.00,2,0.02,2,-999.,9,-999.,9,-999.,9,-999,9,-999,9
49UP20171125,RF17-10,6106,1,29,25838,2,20171203,1525,24.2992,150.504,5221,78.7,78,21.5549,34.9820,2,-999.,9,225.87,2,1.76,2,0.01,2,0.00,2,0.02,2,-999.,9,-999.,9,-999.,9,-999,9,-999,9
49UP20171125,RF17-10,6106,1,28,25837,2,20171203,1523,24.2992,150.504,5221,101.6,101,20.1806,35.0386,2,-999.,9,193.46,2,2.33,2,1.80,2,0.03,2,0.18,2,-999.,9,-999.,9,-999.,9,-999,9,-999,9
49UP20171125,RF17-10,6106,1,24,25833,2,20171203,1521,24.2992,150.504,5221,126.2,125,18.6599,34.9058,2,-999.,9,196.30,2,3.05,2,3.22,2,0.01,2,0.26,2,-999.,9,-999.,9,-999.,9,-999,9,-999,9
49UP20171125,RF17-10,6106,1,23,25832,2,20171203,1519,24.2992,150.504,5221,152.0,151,17.8702,34.8315,2,-999.,9,201.06,2,3.47,2,4.01,2,0.01,2,0.29,2,-999.,9,-999.,9,-999.,9,-999,9,-999,9
49UP20171125,RF17-10,6106,1,22,25831,2,20171203,1514,24.2992,150.504,5221,203.6,202,17.1091,34.7831,2,-999.,9,210.94,2,4.12,2,4.53,2,0.01,2,0.31,2,-999.,9,-999.,9,-999.,9,-999,9,-999,9
49UP20171125,RF17-10,6106,1,21,25830,2,20171203,1512,24.2992,150.504,5221,254.3,253,16.2986,34.7071,2,-999.,9,208.43,2,5.57,2,5.92,2,0.01,2,0.40,2,-999.,9,-999.,9,-999.,9,-999,9,-999,9
49UP20171125,RF17-10,6106,1,20,25829,2,20171203,1510,24.2992,150.504,5221,303.8,302,15.1103,34.5794,2,-999.,9,197.79,2,8.72,2,8.67,2,0.00,2,0.59,2,-999.,9,-999.,9,-999.,9,-999,9,-999,9
49UP20171125,RF17-10,6106,1,19,25828,3,20171203,1507,24.2992,150.504,5221,404.8,402,12.1543,34.3403,2,-999.,9,187.00,2,17.75,2,14.41,2,0.00,2,1.00,2,-999.,9,-999.,9,-999.,9,-999,9,-999,9
49UP20171125,RF17-10,6106,1,15,25824,2,20171203,1504,24.2992,150.504,5221,505.5,502,10.0583,34.1995,2,-999.,9,174.94,2,27.75,2,19.12,2,0.00,2,1.35,2,-999.,9,-999.,9,-999.,9,-999,9,-999,9
49UP20171125,RF17-10,6106,1,14,25823,2,20171203,1501,24.2992,150.504,5221,603.9,599,6.9294,34.0542,2,-999.,9,134.64,2,52.89,2,28.53,2,0.00,2,2.05,2,-999.,9,-999.,9,-999.,9,-999,9,-999,9
49UP20171125,RF17-10,6106,1,13,25822,2,20171203,1459,24.2992,150.504,5221,706.2,700,5.3751,34.0860,2,-999.,9,92.25,6,76.56,6,35.09,6,0.00,6,2.53,6,-999.,9,-999.,9,-999.,9,-999,9,-999,9
49UP20171125,RF17-10,6106,1,11,25820,2,20171203,1453,24.2992,150.504,5221,808.9,802,4.4350,34.2125,2,-999.,9,53.31,2,99.44,2,39.85,2,0.00,2,2.87,2,-999.,9,-999.,9,-999.,9,-999,9,-999,9
49UP20171125,RF17-10,6106,1,12,25821,2,20171203,1454,24.2992,150.504,5221,811.3,805,4.4255,34.2138,2,-999.,9,52.85,2,99.75,2,39.92,2,0.00,2,2.87,2,-999.,9,-999.,9,-999.,9,-999,9,-999,9
49UP20171125,RF17-10,6106,1,10,25819,2,20171203,1451,24.2992,150.504,5221,909.1,901,3.9384,34.2972,2,-999.,9,42.02,2,112.88,2,41.53,2,0.00,2,2.98,2,-999.,9,-999.,9,-999.,9,-999,9,-999,9
49UP20171125,RF17-10,6106,1,6,25815,2,20171203,1448,24.2992,150.504,5221,1014.7,1006,3.5620,34.3752,2,-999.,9,42.93,2,122.89,2,41.88,2,0.00,2,3.00,2,-999.,9,-999.,9,-999.,9,-999,9,-999,9
49UP20171125,RF17-10,6106,1,5,25814,2,20171203,1443,24.2992,150.504,5221,1214.8,1204,3.0623,34.4607,2,-999.,9,51.81,2,134.28,2,41.72,2,0.00,2,2.98,2,-999.,9,-999.,9,-999.,9,-999,9,-999,9
49UP20171125,RF17-10,6106,1,4,25813,2,20171203,1437,24.2992,150.504,5221,1416.5,1403,2.6572,34.5144,2,-999.,9,63.03,2,142.41,2,41.29,2,0.00,2,2.94,2,-999.,9,-999.,9,-999.,9,-999,9,-999,9
49UP20171125,RF17-10,6106,1,3,25812,2,20171203,1431,24.2992,150.504,5221,1620.5,1604,2.2806,34.5650,2,-999.,9,80.48,2,147.21,2,40.33,2,0.00,2,2.86,2,-999.,9,-999.,9,-999.,9,-999,9,-999,9
49UP20171125,RF17-10,6106,1,2,25811,3,20171203,1427,24.2992,150.504,5221,1818.9,1799,2.0373,34.5967,2,-999.,9,93.15,2,150.12,2,39.67,2,0.00,2,2.80,2,-999.,9,-999.,9,-999.,9,-999,9,-999,9
49UP20171125,RF17-10,6106,1,1,25810,2,20171203,1422,24.2992,150.504,5221,2023.0,2000,1.9018,34.6167,2,-999.,9,104.04,2,150.24,2,38.99,2,0.00,2,2.75,2,-999.,9,-999.,9,-999.,9,-999,9,-999,9
49UP20171125,RF17-10,6107,1,-999,0,2,20171203,0125,24.2538,149.036,5740,0.0,0,27.7689,34.7467,2,34.7701,2,199.64,2,1.12,2,0.03,2,0.00,2,0.03,2,1948.5,2,2286.3,2,8.1184,2,-999,9,-999,9
49UP20171125,RF17-10,6107,1,36,25845,2,20171203,0213,24.2538,149.036,5740,10.7,11,27.7622,34.7465,2,34.7445,2,199.87,2,1.08,2,0.04,2,0.00,2,0.01,2,1946.6,2,2283.3,2,8.1201,2,-999,9,-999,9
49UP20171125,RF17-10,6107,1,35,25844,2,20171203,0212,24.2538,149.036,5740,28.1,28,27.7717,34.7467,2,-999.0000,9,199.71,2,1.10,2,0.01,2,0.00,2,0.01,2,1945.8,2,2284.5,2,8.1262,2,-999,9,-999,9
49UP20171125,RF17-10,6107,1,34,25843,2,20171203,0210,24.2538,149.036,5740,52.8,52,27.7859,34.8596,2,34.8204,4,200.24,2,1.12,2,0.01,2,0.00,2,0.01,2,1955.2,2,2288.3,2,8.1163,2,-999,9,-999,9
49UP20171125,RF17-10,6107,1,33,25842,2,20171203,0209,24.2538,149.036,5740,76.4,76,25.4205,35.1663,2,35.1672,2,213.06,2,1.23,2,0.01,2,0.00,2,0.02,2,1988.7,2,2314.0,2,8.0865,2,-999,9,-999,9
49UP20171125,RF17-10,6107,1,32,25841,2,20171203,0207,24.2538,149.036,5740,104.4,104,23.3642,35.2011,2,35.2005,2,202.35,2,1.47,2,0.01,2,0.01,2,0.05,2,2019.3,2,2313.2,2,8.0501,2,-999,9,-999,9
49UP20171125,RF17-10,6107,1,31,25840,2,20171203,0205,24.2538,149.036,5740,127.3,126,21.5091,35.0588,2,-999.0000,9,203.53,6,1.78,6,0.40,6,0.12,6,0.08,6,2026.0,2,2305.6,2,8.0199,2,-999,9,-999,9
49UP20171125,RF17-10,6107,1,30,25839,2,20171203,0204,24.2538,149.036,5740,156.5,155,19.5086,34.9602,2,-999.0000,9,202.65,2,2.30,2,1.76,2,0.02,2,0.15,2,2035.2,2,2298.8,2,7.9925,2,-999,9,-999,9
49UP20171125,RF17-10,6107,1,29,25838,2,20171203,0201,24.2538,149.036,5740,205.0,204,18.1616,34.8528,2,34.8536,2,203.53,2,3.21,2,3.50,2,0.01,2,0.25,2,2046.4,2,2290.8,2,7.9687,2,-999,9,-999,9
49UP20171125,RF17-10,6107,1,28,25837,2,20171203,0158,24.2538,149.036,5740,254.3,253,17.2875,34.7846,2,-999.0000,9,207.36,2,3.95,2,4.54,2,0.01,2,0.31,2,2044.7,2,2285.7,2,7.9553,2,-999,9,-999,9
49UP20171125,RF17-10,6107,1,27,25836,2,20171203,0152,24.2538,149.036,5740,304.9,303,16.2933,34.6971,2,34.7053,4,205.52,2,5.69,2,6.11,2,0.00,2,0.42,2,2055.1,2,2280.7,2,7.9301,2,-999,9,-999,9
49UP20171125,RF17-10,6107,1,26,25835,2,20171203,0150,24.2538,149.036,5740,403.9,401,13.8581,34.4502,2,34.4526,2,193.40,2,10.80,2,10.63,2,0.00,2,0.75,2,2084.9,2,2272.8,2,7.8426,2,-999,9,-999,9
49UP20171125,RF17-10,6107,1,25,25834,2,20171203,0147,24.2538,149.036,5740,504.8,501,10.3970,34.2066,2,34.2093,2,176.98,2,23.39,2,18.17,2,0.00,2,1.30,2,2132.9,2,2270.4,2,7.7249,2,-999,9,-999,9
49UP20171125,RF17-10,6107,1,24,25833,2,20171203,0144,24.2538,149.036,5740,605.8,601,7.7312,34.1036,2,34.1049,2,133.98,2,45.06,2,27.05,2,0.00,2,1.95,2,2203.1,2,2283.2,2,7.5848,2,-999,9,-999,9
49UP20171125,RF17-10,6107,1,23,25832,2,20171203,0142,24.2538,149.036,5740,705.7,700,5.9969,34.1148,2,34.1158,2,90.15,2,68.14,2,34.10,2,0.00,2,2.46,2,2257.9,2,2304.9,2,7.4705,2,-999,9,-999,9
49UP20171125,RF17-10,6107,1,22,25831,3,20171203,0137,24.2538,149.036,5740,807.4,801,4.9490,34.1918,2,34.1935,2,61.07,6,88.19,6,38.43,6,0.00,6,2.77,6,2302.0,2,2327.1,2,7.4056,2,-999,9,-999,9
49UP20171125,RF17-10,6107,1,21,25830,2,20171203,0135,24.2538,149.036,5740,909.2,901,4.4054,34.2649,2,34.2631,2,51.17,2,101.09,2,40.18,2,0.00,2,2.89,2,2319.6,6,2343.2,6,7.3901,2,-999,9,-999,9
49UP20171125,RF17-10,6107,1,20,25829,2,20171203,0132,24.2538,149.036,5740,1009.0,1000,3.8691,34.3539,2,34.3551,2,47.55,2,114.74,2,41.22,2,0.00,2,2.96,2,2336.9,2,2360.0,2,7.3877,6,-999,9,-999,9
49UP20171125,RF17-10,6107,1,19,25828,2,20171203,0128,24.2538,149.036,5740,1213.6,1202,3.0129,34.4581,2,34.4588,2,50.63,2,135.67,2,41.80,2,0.00,2,2.98,2,2363.5,2,2385.5,2,7.3967,2,-999,9,-999,9
49UP20171125,RF17-10,6107,1,18,25827,2,20171203,0122,24.2538,149.036,5740,1414.9,1401,2.6351,34.5098,2,34.5093,2,59.29,2,144.17,2,41.59,2,0.00,2,2.96,2,2370.2,2,2396.3,2,7.4145,2,-999,9,-999,9
49UP20171125,RF17-10,6107,1,17,25826,2,20171203,0118,24.2538,149.036,5740,1616.4,1600,2.2838,34.5588,2,34.5561,2,73.92,2,148.86,2,40.75,2,0.00,2,2.88,2,2359.8,2,2403.9,2,7.4415,2,-999,9,-999,9
49UP20171125,RF17-10,6107,1,16,25825,2,20171203,0114,24.2538,149.036,5740,1822.1,1803,2.0255,34.5980,2,34.5974,2,94.24,2,149.88,2,39.58,2,0.00,2,2.79,2,2354.2,2,2410.5,2,7.4775,2,-999,9,-999,9
49UP20171125,RF17-10,6107,1,15,25824,2,20171203,0108,24.2538,149.036,5740,2023.8,2001,1.8809,34.6173,2,34.6152,2,103.66,2,151.07,2,39.10,2,0.00,2,2.75,2,2350.6,2,2412.8,2,7.5022,2,-999,9,-999,9
49UP20171125,RF17-10,6107,1,14,25823,2,20171203,0102,24.2538,149.036,5740,2278.4,2252,1.7569,34.6358,2,34.6353,2,114.07,2,151.49,2,38.47,2,0.00,2,2.70,2,2347.0,2,2415.2,2,7.5198,2,-999,9,-999,9
49UP20171125,RF17-10,6107,1,13,25822,2,20171203,0057,24.2538,149.036,5740,2533.0,2502,1.6607,34.6494,2,34.6487,2,122.51,6,151.49,6,37.96,6,0.00,6,2.66,6,2341.9,2,2416.0,2,7.5318,2,-999,9,-999,9
49UP20171125,RF17-10,6107,1,12,25821,2,20171203,0051,24.2538,149.036,5740,2785.7,2750,1.5853,34.6609,2,34.6613,2,131.06,2,150.35,2,37.41,2,0.00,2,2.62,2,2337.2,6,2417.6,6,7.5510,2,-999,9,-999,9
49UP20171125,RF17-10,6107,1,11,25820,3,20171203,0045,24.2538,149.036,5740,3043.3,3002,1.5459,34.6676,2,34.6675,2,136.88,2,149.32,2,36.99,2,0.00,2,2.58,2,2333.3,2,2417.0,2,7.5586,6,-999,9,-999,9
49UP20171125,RF17-10,6107,1,10,25819,2,20171203,0040,24.2538,149.036,5740,3298.2,3252,1.5246,34.6720,2,34.6723,2,140.69,2,148.75,2,36.81,2,0.00,2,2.56,2,2329.8,2,2417.4,2,7.5625,2,-999,9,-999,9
49UP20171125,RF17-10,6107,1,9,25818,2,20171203,0034,24.2538,149.036,5740,3553.4,3501,1.4995,34.6767,2,34.6750,6,145.14,2,147.37,2,36.48,2,0.00,2,2.54,2,2326.2,2,2413.9,2,7.5716,2,-999,9,-999,9
49UP20171125,RF17-10,6107,1,8,25817,3,20171203,0029,24.2538,149.036,5740,3807.5,3750,1.4797,34.6810,2,34.6799,2,149.74,2,146.27,2,36.13,2,0.00,2,2.51,2,2326.8,2,2414.5,2,7.5784,2,-999,9,-999,9
49UP20171125,RF17-10,6107,1,7,25816,2,20171203,0023,24.2538,149.036,5740,4066.7,4002,1.4666,34.6848,2,34.6787,4,153.98,3,143.57,2,35.83,2,0.00,2,2.49,2,2322.5,2,2413.4,2,7.5859,2,-999,9,-999,9
49UP20171125,RF17-10,6107,1,6,25815,2,20171203,0012,24.2538,149.036,5740,4579.5,4502,1.4653,34.6900,2,34.6903,2,163.26,2,140.24,2,35.25,2,0.00,2,2.45,2,2312.6,6,2410.9,6,7.5970,2,-999,9,-999,9
49UP20171125,RF17-10,6107,1,5,25814,2,20171203,0006,24.2538,149.036,5740,4836.7,4752,1.4765,34.6916,2,34.6914,2,165.92,2,138.56,2,35.06,2,0.00,2,2.43,2,2311.8,2,2410.1,2,7.5999,6,-999,9,-999,9
49UP20171125,RF17-10,6107,1,4,25813,2,20171203,0000,24.2538,149.036,5740,5091.8,5000,1.4879,34.6935,2,34.6932,2,169.50,6,136.38,6,34.79,6,0.00,6,2.41,6,2305.6,2,2407.2,2,7.6050,2,-999,9,-999,9
49UP20171125,RF17-10,6107,1,3,25812,2,20171203,2355,24.2538,149.036,5740,5350.9,5251,1.5069,34.6947,2,34.6935,6,170.43,3,135.27,2,34.69,2,0.00,2,2.40,2,2307.8,2,2407.0,2,7.6065,2,-999,9,-999,9
49UP20171125,RF17-10,6107,1,2,25811,2,20171203,2349,24.2538,149.036,5740,5609.0,5501,1.5233,34.6960,2,34.6961,2,174.26,2,133.30,2,34.42,2,0.00,2,2.38,2,2302.0,2,2403.5,2,7.6079,2,-999,9,-999,9
49UP20171125,RF17-10,6107,1,1,25810,2,20171203,2343,24.2538,149.036,5740,5875.8,5760,1.5547,34.6961,2,34.6961,2,174.24,2,132.93,2,34.40,2,0.00,2,2.38,2,2303.3,2,2404.0,2,7.6100,2,-999,9,-999,9
49UP20171125,RF17-10,6108,1,-999,0,2,20171204,1120,24.2587,147.2502,5818,0.0,0,27.7209,34.7516,2,-999.,9,199.43,2,0.97,2,0.03,2,0.00,2,0.03,2,-999.,9,-999.,9,-999.,9,-999,9,-999,9
49UP20171125,RF17-10,6108,1,36,25845,3,20171204,1147,24.2587,147.2502,5818,10.6,11,27.7217,34.7519,2,-999.,9,199.40,2,0.97,2,0.01,2,0.00,2,0.01,2,-999.,9,-999.,9,-999.,9,-999,9,-999,9
49UP20171125,RF17-10,6108,1,35,25844,2,20171204,1146,24.2587,147.2502,5818,26.0,26,27.7249,34.7540,2,-999.,9,199.45,2,0.98,2,0.03,2,0.00,2,0.01,2,-999.,9,-999.,9,-999.,9,-999,9,-999,9
49UP20171125,RF17-10,6108,1,34,25843,2,20171204,1144,24.2587,147.2502,5818,52.0,52,27.6471,34.8788,2,-999.,9,199.89,2,0.98,2,0.01,2,0.00,2,0.01,2,-999.,9,-999.,9,-999.,9,-999,9,-999,9
49UP20171125,RF17-10,6108,1,30,25839,2,20171204,1143,24.2587,147.2502,5818,78.1,78,26.2906,34.9926,2,-999.,9,213.17,2,1.18,2,0.03,2,0.00,2,0.01,2,-999.,9,-999.,9,-999.,9,-999,9,-999,9
49UP20171125,RF17-10,6108,1,29,25838,2,20171204,1141,24.2587,147.2502,5818,102.0,101,22.5808,35.1341,2,-999.,9,217.47,4,1.53,2,0.00,2,0.00,2,0.03,2,-999.,9,-999.,9,-999.,9,-999,9,-999,9
49UP20171125,RF17-10,6108,1,28,25837,2,20171204,1139,24.2587,147.2502,5818,126.4,126,20.5647,35.0603,2,-999.,9,201.05,6,2.00,6,0.44,6,0.14,6,0.09,6,-999.,9,-999.,9,-999.,9,-999,9,-999,9
49UP20171125,RF17-10,6108,1,26,25835,2,20171204,1138,24.2587,147.2502,5818,151.4,150,19.0844,34.9496,2,-999.,9,194.71,2,2.75,2,2.60,2,0.02,2,0.22,2,-999.,9,-999.,9,-999.,9,-999,9,-999,9
49UP20171125,RF17-10,6108,1,27,25836,3,20171204,1138,24.2587,147.2502,5818,151.7,151,19.0827,34.9495,2,-999.,9,194.48,2,2.74,2,2.56,2,0.02,2,0.22,2,-999.,9,-999.,9,-999.,9,-999,9,-999,9
49UP20171125,RF17-10,6108,1,25,25834,2,20171204,1134,24.2587,147.2502,5818,202.8,201,17.5352,34.8007,2,-999.,9,197.06,2,3.72,2,4.57,2,0.01,2,0.33,2,-999.,9,-999.,9,-999.,9,-999,9,-999,9
49UP20171125,RF17-10,6108,1,21,25830,2,20171204,1132,24.2587,147.2502,5818,252.0,250,16.4861,34.6969,2,-999.,9,201.42,2,5.03,2,5.96,2,0.00,2,0.41,2,-999.,9,-999.,9,-999.,9,-999,9,-999,9
49UP20171125,RF17-10,6108,1,20,25829,2,20171204,1130,24.2587,147.2502,5818,303.9,302,15.2698,34.5769,2,-999.,9,199.28,2,7.26,2,7.91,2,0.00,2,0.55,2,-999.,9,-999.,9,-999.,9,-999,9,-999,9
49UP20171125,RF17-10,6108,1,19,25828,2,20171204,1127,24.2587,147.2502,5818,407.0,404,12.6709,34.3551,2,-999.,9,191.78,2,13.75,2,12.79,2,0.00,2,0.90,2,-999.,9,-999.,9,-999.,9,-999,9,-999,9
49UP20171125,RF17-10,6108,1,18,25827,2,20171204,1124,24.2587,147.2502,5818,504.1,500,9.8491,34.1789,2,-999.,9,167.26,2,27.13,2,20.15,2,0.00,2,1.44,2,-999.,9,-999.,9,-999.,9,-999,9,-999,9
49UP20171125,RF17-10,6108,1,17,25826,2,20171204,1121,24.2587,147.2502,5818,605.5,601,7.1860,34.0895,2,-999.,9,122.06,2,50.71,2,29.19,2,0.00,2,2.10,2,-999.,9,-999.,9,-999.,9,-999,9,-999,9
49UP20171125,RF17-10,6108,1,16,25825,2,20171204,1118,24.2587,147.2502,5818,707.6,702,5.7612,34.1298,2,-999.,9,83.26,2,72.56,2,35.24,2,0.00,2,2.55,2,-999.,9,-999.,9,-999.,9,-999,9,-999,9
49UP20171125,RF17-10,6108,1,12,25821,2,20171204,1115,24.2587,147.2502,5818,808.1,801,4.8143,34.2212,2,-999.,9,55.79,2,92.08,2,39.27,2,0.00,2,2.84,2,-999.,9,-999.,9,-999.,9,-999,9,-999,9
49UP20171125,RF17-10,6108,1,11,25820,2,20171204,1112,24.2587,147.2502,5818,910.0,902,4.2170,34.3027,2,-999.,9,47.69,2,106.06,2,40.74,2,0.00,2,2.93,2,-999.,9,-999.,9,-999.,9,-999,9,-999,9
49UP20171125,RF17-10,6108,1,10,25819,2,20171204,1109,24.2587,147.2502,5818,1010.5,1002,3.8885,34.3659,2,-999.,9,48.25,6,114.19,6,41.20,6,0.00,6,2.96,6,-999.,9,-999.,9,-999.,9,-999,9,-999,9
49UP20171125,RF17-10,6108,1,8,25817,2,20171204,1104,24.2587,147.2502,5818,1213.0,1202,3.0950,34.4647,2,-999.,9,55.67,2,132.55,2,41.44,2,0.00,2,2.96,2,-999.,9,-999.,9,-999.,9,-999,9,-999,9
49UP20171125,RF17-10,6108,1,9,25818,2,20171204,1105,24.2587,147.2502,5818,1213.9,1203,3.0907,34.4654,2,-999.,9,55.27,2,132.38,2,41.41,2,0.00,2,2.96,2,-999.,9,-999.,9,-999.,9,-999,9,-999,9
49UP20171125,RF17-10,6108,1,7,25816,2,20171204,1059,24.2587,147.2502,5818,1415.0,1401,2.5913,34.5194,2,-999.,9,66.03,2,143.18,2,41.11,2,0.00,2,2.92,2,-999.,9,-999.,9,-999.,9,-999,9,-999,9
49UP20171125,RF17-10,6108,1,3,25812,2,20171204,1054,24.2587,147.2502,5818,1619.8,1603,2.3023,34.5571,2,-999.,9,75.43,2,148.58,2,40.78,2,0.00,2,2.88,2,-999.,9,-999.,9,-999.,9,-999,9,-999,9
49UP20171125,RF17-10,6108,1,2,25811,2,20171204,1049,24.2587,147.2502,5818,1821.0,1802,2.0790,34.5884,2,-999.,9,89.59,2,150.10,2,39.92,2,0.00,2,2.82,2,-999.,9,-999.,9,-999.,9,-999,9,-999,9
49UP20171125,RF17-10,6108,1,1,25810,2,20171204,1043,24.2587,147.2502,5818,2026.3,2004,1.9079,34.6130,2,-999.,9,102.38,2,150.34,2,39.10,2,0.00,2,2.75,2,-999.,9,-999.,9,-999.,9,-999,9,-999,9