BOTTLE,20180401JMAGEMD
EXPOCODE,SECT_ID,STNNBR,CASTNO,SAMPNO,BTLNBR,BTLNBR_FLAG_W,DATE,TIME,LATITUDE,LONGITUDE,DEPTH,CTDPRS,CTDDEP,CTDTMP,CTDSAL,CTDSAL_FLAG_W,SALNTY,SALNTY_FLAG_W,OXYGEN,OXYGEN_FLAG_W,SILCAT,SILCAT_FLAG_W,NO2+NO3,NO2+NO3_FLAG_W,NITRIT,NITRIT_FLAG_W,PHSPHT,PHSPHT_FLAG_W,TCARBN,TCARBN_FLAG_W,ALKALI,ALKALI_FLAG_W,PH_TOT,PH_TOT_FLAG_W,CFC-11,CFC-11_FLAG_W,CFC-12,CFC-12_FLAG_W
,,,,,,,UTC,UTC,,,METER,DBAR,METERS,ITS-90,PSS-78,,PSS-78,,UMOL/KG,,UMOL/KG,,UMOL/KG,,UMOL/KG,,UMOL/KG,,UMOL/KG,,UMOL/KG,,@25DEG-C,,PMOL/KG,,PMOL/KG,
49UP20171125,RF17-10,6128,1,-999,0,2,20171211,1955,26.9908,127.4937,517,0.0,0,23.5938,34.7989,2,34.8069,2,209.29,2,1.38,2,0.24,2,0.07,2,0.05,2,1976.0,2,2284.8,2,8.0705,2,-999,9,-999,9
49UP20171125,RF17-10,6128,1,36,25845,2,20171211,2026,26.9908,127.4937,517,10.9,11,23.6021,34.7987,2,-999.0000,9,208.99,2,1.34,2,0.22,2,0.06,2,0.03,2,1979.1,2,2283.7,2,8.0757,2,-999,9,-999,9
49UP20171125,RF17-10,6128,1,35,25844,2,20171211,2025,26.9908,127.4937,517,27.4,27,23.6019,34.7990,2,-999.0000,9,208.46,2,1.36,2,0.20,2,0.05,2,0.03,2,1978.7,2,2289.2,2,8.0757,2,-999,9,-999,9
49UP20171125,RF17-10,6128,1,34,25843,2,20171211,2024,26.9908,127.4937,517,51.8,51,23.5929,34.8011,2,-999.0000,9,209.57,2,1.35,2,0.18,2,0.05,2,0.03,2,1976.5,2,2283.8,2,8.0763,2,-999,9,-999,9
49UP20171125,RF17-10,6128,1,27,25836,2,20171211,2022,26.9908,127.4937,517,78.5,78,23.5079,34.8157,2,-999.0000,9,209.90,2,1.35,2,0.11,2,0.03,2,0.02,2,1978.1,2,2285.9,2,8.0739,2,-999,9,-999,9
49UP20171125,RF17-10,6128,1,26,25835,2,20171211,2021,26.9908,127.4937,517,104.7,104,23.4216,34.8335,2,-999.0000,9,210.50,2,1.35,2,0.15,2,0.05,2,0.02,2,1982.6,2,2288.7,2,8.0696,2,-999,9,-999,9
49UP20171125,RF17-10,6128,1,25,25834,2,20171211,2020,26.9908,127.4937,517,126.1,125,23.3772,34.8414,2,-999.0000,9,210.04,2,1.42,2,0.21,2,0.07,2,0.03,2,1984.0,2,2288.4,2,8.0666,2,-999,9,-999,9
49UP20171125,RF17-10,6128,1,21,25830,2,20171211,2016,26.9908,127.4937,517,153.5,152,21.7052,34.9166,2,-999.0000,9,195.95,2,2.61,2,2.22,2,0.05,2,0.17,2,2016.7,2,2292.1,2,8.0141,2,-999,9,-999,9
49UP20171125,RF17-10,6128,1,20,25829,2,20171211,2014,26.9908,127.4937,517,204.5,203,19.7927,34.8700,2,-999.0000,9,191.96,2,4.01,2,3.96,2,0.02,2,0.28,2,2039.4,2,2293.5,2,7.9721,2,-999,9,-999,9
49UP20171125,RF17-10,6128,1,15,25824,2,20171211,2011,26.9908,127.4937,517,252.2,250,18.3546,34.8253,2,-999.0000,9,190.32,2,4.58,2,5.04,2,0.01,2,0.35,2,2049.0,2,2291.2,2,7.9517,2,-999,9,-999,9
49UP20171125,RF17-10,6128,1,14,25823,2,20171211,2011,26.9908,127.4937,517,253.4,252,18.3321,34.8244,2,-999.0000,9,190.52,2,4.63,2,5.06,2,0.01,2,0.35,2,2046.6,2,2288.3,2,7.9495,2,-999,9,-999,9
49UP20171125,RF17-10,6128,1,13,25822,2,20171211,2008,26.9908,127.4937,517,306.7,304,16.3900,34.6778,2,-999.0000,9,187.14,2,7.85,2,7.85,2,0.00,2,0.54,2,2067.4,6,2281.5,6,7.8982,2,-999,9,-999,9
49UP20171125,RF17-10,6128,1,6,25815,2,20171211,2005,26.9908,127.4937,517,406.4,403,13.2893,34.4617,2,-999.0000,9,170.42,2,18.35,2,14.14,2,0.00,2,0.99,2,2108.0,2,2276.4,2,7.8031,6,-999,9,-999,9
49UP20171125,RF17-10,6128,1,4,25813,2,20171211,2001,26.9908,127.4937,517,496.7,493,10.8089,34.3462,2,-999.0000,9,146.66,6,33.41,6,20.65,6,0.00,6,1.47,6,2163.6,2,2286.0,2,7.6995,2,-999,9,-999,9
49UP20171125,RF17-10,6129,1,-999,0,2,20171212,0245,27.4908,128.2533,1047,0.0,0,23.4577,34.8827,2,34.9158,2,211.84,2,1.45,2,0.01,2,0.01,2,0.03,2,1979.4,2,2295.3,2,8.0771,2,-999,9,-999,9
49UP20171125,RF17-10,6129,1,36,25845,2,20171212,0326,27.4908,128.2533,1047,11.0,11,23.4595,34.8827,2,-999.0000,9,210.90,2,1.45,2,0.00,2,0.01,2,0.01,2,1977.4,2,2294.1,2,8.0758,2,-999,9,-999,9
49UP20171125,RF17-10,6129,1,35,25844,2,20171212,0324,27.4908,128.2533,1047,22.5,22,23.4655,34.8827,2,-999.0000,9,210.70,2,1.40,2,0.01,2,0.01,2,0.01,2,1983.4,2,2293.2,2,8.0713,2,-999,9,-999,9
49UP20171125,RF17-10,6129,1,34,25843,2,20171212,0323,27.4908,128.2533,1047,31.7,31,23.4694,34.8831,2,-999.0000,9,210.76,2,1.40,2,0.00,2,0.01,2,0.01,2,1981.6,2,2293.5,2,8.0777,2,-999,9,-999,9
49UP20171125,RF17-10,6129,1,33,25842,2,20171212,0321,27.4908,128.2533,1047,52.3,52,23.4773,34.8845,2,-999.0000,9,210.33,2,1.40,2,0.02,2,0.01,2,0.01,2,1980.8,2,2293.6,2,8.0772,2,-999,9,-999,9
49UP20171125,RF17-10,6129,1,32,25841,2,20171212,0319,27.4908,128.2533,1047,76.7,76,23.4789,34.8862,2,-999.0000,9,210.73,2,1.45,2,0.02,2,0.01,2,0.02,2,1982.3,2,2294.8,2,8.0735,2,-999,9,-999,9
49UP20171125,RF17-10,6129,1,31,25840,2,20171212,0318,27.4908,128.2533,1047,103.0,102,23.4322,34.8971,2,34.8970,2,210.25,2,1.45,2,0.07,2,0.02,2,0.02,2,1980.4,2,2295.8,2,8.0773,2,-999,9,-999,9
49UP20171125,RF17-10,6129,1,27,25836,2,20171212,0316,27.4908,128.2533,1047,127.1,126,21.7026,34.9589,2,-999.0000,9,193.33,2,2.45,2,2.02,2,0.03,2,0.16,2,2021.0,2,2297.5,2,8.0133,2,-999,9,-999,9
49UP20171125,RF17-10,6129,1,26,25835,2,20171212,0316,27.4908,128.2533,1047,128.6,128,21.6630,34.9605,2,-999.0000,9,193.67,2,2.44,2,2.08,2,0.03,2,0.16,2,2021.5,2,2299.1,2,8.0155,2,-999,9,-999,9
49UP20171125,RF17-10,6129,1,25,25834,2,20171212,0314,27.4908,128.2533,1047,152.2,151,20.7557,34.9674,2,-999.0000,9,193.58,6,2.57,6,2.35,6,0.02,6,0.18,6,2027.7,2,2299.5,2,7.9982,2,-999,9,-999,9
49UP20171125,RF17-10,6129,1,21,25830,2,20171212,0309,27.4908,128.2533,1047,204.5,203,19.2338,34.9008,2,34.9016,2,195.31,2,3.13,2,3.35,2,0.01,2,0.24,2,2035.0,2,2294.3,2,7.9742,2,-999,9,-999,9
49UP20171125,RF17-10,6129,1,20,25829,2,20171212,0307,27.4908,128.2533,1047,255.6,254,17.9243,34.8012,2,-999.0000,9,192.23,2,4.78,2,5.25,2,0.01,2,0.36,2,2051.1,2,2285.4,2,7.9356,2,-999,9,-999,9
49UP20171125,RF17-10,6129,1,19,25828,2,20171212,0305,27.4908,128.2533,1047,306.4,304,17.2496,34.7471,2,34.7472,2,191.17,2,5.88,2,6.27,2,0.01,2,0.43,2,2059.6,2,2286.5,2,7.9222,2,-999,9,-999,9
49UP20171125,RF17-10,6129,1,15,25824,2,20171212,0302,27.4908,128.2533,1047,406.8,404,14.0394,34.4977,2,34.4980,2,177.39,2,14.36,2,12.28,2,0.00,2,0.85,2,2093.8,2,2277.6,2,7.8302,2,-999,9,-999,9
49UP20171125,RF17-10,6129,1,14,25823,2,20171212,0259,27.4908,128.2533,1047,505.4,501,11.7037,34.3562,2,-999.0000,9,160.95,2,25.19,2,17.69,2,0.00,2,1.24,2,2134.3,6,2281.2,6,7.7444,2,-999,9,-999,9
49UP20171125,RF17-10,6129,1,13,25822,2,20171212,0256,27.4908,128.2533,1047,606.6,602,8.4244,34.2683,2,34.2664,2,124.61,2,52.39,2,26.76,2,0.00,2,1.91,2,2202.1,2,2301.2,2,7.6041,6,-999,9,-999,9
49UP20171125,RF17-10,6129,1,8,25817,2,20171212,0253,27.4908,128.2533,1047,706.5,701,7.4098,34.3199,2,-999.0000,9,107.90,2,68.32,2,29.95,2,0.00,2,2.13,2,2239.7,2,2320.1,2,7.5600,2,-999,9,-999,9
49UP20171125,RF17-10,6129,1,9,25818,2,20171212,0253,27.4908,128.2533,1047,707.5,702,7.4048,34.3202,2,-999.0000,9,108.32,2,68.25,2,29.94,2,0.00,2,2.13,2,2239.7,2,2318.3,2,7.5627,2,-999,9,-999,9
49UP20171125,RF17-10,6129,1,7,25816,2,20171212,0250,27.4908,128.2533,1047,806.8,800,6.7285,34.3270,2,34.3277,2,99.14,6,76.37,6,31.94,6,0.00,6,2.28,6,2254.3,2,2327.9,2,7.5307,2,-999,9,-999,9
49UP20171125,RF17-10,6129,1,6,25815,2,20171212,0247,27.4908,128.2533,1047,908.2,900,6.1013,34.3331,2,34.3344,2,91.45,2,84.18,2,33.72,2,0.00,2,2.41,2,2273.9,6,2336.2,6,7.5083,2,-999,9,-999,9
49UP20171125,RF17-10,6129,1,5,25814,2,20171212,0244,27.4908,128.2533,1047,1009.3,1000,5.7042,34.3341,2,-999.0000,9,86.81,2,88.63,2,34.78,2,0.00,2,2.48,2,2280.4,2,2338.1,2,7.4913,6,-999,9,-999,9
49UP20171125,RF17-10,6129,1,4,25813,2,20171212,0243,27.4908,128.2533,1047,1035.9,1026,5.6460,34.3338,2,34.3339,2,86.15,2,89.26,2,34.94,2,0.00,2,2.49,2,2286.7,2,2339.5,2,7.4917,2,-999,9,-999,9