BOTTLE,20171117JMAGEMD
EXPOCODE,SECT_ID,STNNBR,CASTNO,SAMPNO,BTLNBR,BTLNBR_FLAG_W,DATE,TIME,LATITUDE,LONGITUDE,DEPTH,CTDPRS,CTDDEP,CTDTMP,CTDSAL,CTDSAL_FLAG_W,SALNTY,SALNTY_FLAG_W,OXYGEN,OXYGEN_FLAG_W,SILCAT,SILCAT_FLAG_W,NO2+NO3,NO2+NO3_FLAG_W,NITRIT,NITRIT_FLAG_W,PHSPHT,PHSPHT_FLAG_W,TCARBN,TCARBN_FLAG_W,ALKALI,ALKALI_FLAG_W,PH_TOT,PH_TOT_FLAG_W,CFC-11,CFC-11_FLAG_W,CFC-12,CFC-12_FLAG_W
,,,,,,,UTC,UTC,,,METER,DBAR,METERS,ITS-90,PSS-78,,PSS-78,,UMOL/KG,,UMOL/KG,,UMOL/KG,,UMOL/KG,,UMOL/KG,,UMOL/KG,,UMOL/KG,,@25DEG-C,,PMOL/KG,,PMOL/KG,
49UP20170107,RF17-01,5952,1,-999,0,2,20170110,0045,24.2428,140.2752,4025,0.0,0,23.8747,35.0487,2,35.0721,2,213.05,2,1.57,2,0.06,2,0.00,2,0.04,2,1989.2,2,2303.7,2,8.0634,2,-999,9,-999,9
49UP20170107,RF17-01,5952,1,36,25845,2,20170110,0114,24.2428,140.2752,4025,11.7,12,23.8722,35.0483,2,35.0481,2,211.73,2,1.53,2,0.00,2,0.00,2,0.01,2,1988.3,2,2301.8,2,8.0630,2,-999,9,-999,9
49UP20170107,RF17-01,5952,1,35,25844,2,20170110,0113,24.2428,140.2752,4025,25.4,25,23.8641,35.0475,2,-999.0000,9,211.56,2,1.55,2,0.00,2,0.00,2,0.01,2,1990.6,2,2302.5,2,8.0621,2,-999,9,-999,9
49UP20170107,RF17-01,5952,1,34,25843,2,20170110,0112,24.2428,140.2752,4025,52.1,52,23.8632,35.0477,2,35.0489,2,211.96,6,1.53,6,0.01,6,0.00,6,0.01,6,1990.8,2,2302.0,2,8.0647,2,-999,9,-999,9
49UP20170107,RF17-01,5952,1,33,25842,2,20170110,0110,24.2428,140.2752,4025,76.4,76,23.8656,35.0475,2,-999.0000,9,212.29,2,1.55,2,0.01,2,0.00,2,0.01,2,1988.4,2,2301.8,2,8.0665,2,-999,9,-999,9
49UP20170107,RF17-01,5952,1,32,25841,2,20170110,0109,24.2428,140.2752,4025,102.4,102,23.2337,34.9990,2,35.0102,6,213.02,2,1.63,2,0.03,2,0.00,2,0.02,2,1995.3,2,2298.5,2,8.0561,2,-999,9,-999,9
49UP20170107,RF17-01,5952,1,31,25840,2,20170110,0107,24.2428,140.2752,4025,126.4,126,19.5905,34.8607,2,-999.0000,9,206.75,2,2.50,2,1.90,2,0.02,2,0.14,2,2023.6,2,2289.1,2,7.9904,2,-999,9,-999,9
49UP20170107,RF17-01,5952,1,27,25836,2,20170110,0106,24.2428,140.2752,4025,152.7,152,18.8382,34.8444,2,34.8442,2,206.61,2,2.81,2,2.70,2,0.01,2,0.19,2,2022.0,2,2278.4,2,7.9739,2,-999,9,-999,9
49UP20170107,RF17-01,5952,1,26,25835,2,20170110,0104,24.2428,140.2752,4025,203.9,202,18.0599,34.7999,2,34.7997,2,204.30,2,3.51,2,3.83,2,0.01,2,0.26,2,2036.2,2,2286.3,2,7.9578,2,-999,9,-999,9
49UP20170107,RF17-01,5952,1,25,25834,2,20170110,0102,24.2428,140.2752,4025,256.1,254,17.1231,34.7331,2,-999.0000,9,203.16,2,4.58,2,5.29,2,0.00,2,0.35,2,2046.0,2,2282.1,2,7.9328,2,-999,9,-999,9
49UP20170107,RF17-01,5952,1,24,25833,2,20170110,0059,24.2428,140.2752,4025,305.9,304,16.1648,34.6568,2,34.6622,2,199.28,2,6.52,2,6.93,2,0.00,2,0.46,2,2056.3,2,2280.4,2,7.9083,2,-999,9,-999,9
49UP20170107,RF17-01,5952,1,23,25832,2,20170110,0056,24.2428,140.2752,4025,404.3,401,13.6210,34.4609,2,34.4603,2,185.93,2,14.65,2,12.33,2,0.00,2,0.85,2,2093.7,2,2275.7,2,7.8236,2,-999,9,-999,9
49UP20170107,RF17-01,5952,1,22,25831,2,20170110,0053,24.2428,140.2752,4025,502.5,499,11.0135,34.2864,2,-999.0000,9,172.09,2,26.07,2,17.96,2,0.00,2,1.26,2,2134.4,6,2277.3,6,7.7321,2,-999,9,-999,9
49UP20170107,RF17-01,5952,1,18,25827,2,20170110,0051,24.2428,140.2752,4025,605.4,601,8.0098,34.1585,2,34.1590,2,138.91,2,49.52,2,26.22,2,0.00,2,1.88,2,2199.2,2,2290.7,2,7.6000,6,-999,9,-999,9
49UP20170107,RF17-01,5952,1,17,25826,2,20170110,0048,24.2428,140.2752,4025,705.7,700,5.7477,34.1187,2,-999.0000,9,96.93,2,73.64,2,34.05,2,0.00,2,2.45,2,2261.1,2,2308.6,2,7.4700,2,-999,9,-999,9
49UP20170107,RF17-01,5952,1,16,25825,2,20170110,0045,24.2428,140.2752,4025,808.2,801,4.8491,34.2031,2,34.2029,6,72.59,2,92.82,2,37.59,2,0.00,2,2.70,2,2299.9,2,2330.3,2,7.4233,2,-999,9,-999,9
49UP20170107,RF17-01,5952,1,15,25824,2,20170110,0042,24.2428,140.2752,4025,907.7,900,4.1758,34.2855,2,-999.0000,9,57.75,2,107.57,2,39.87,2,0.00,2,2.86,2,2324.0,2,2348.7,2,7.3909,2,-999,9,-999,9
49UP20170107,RF17-01,5952,1,13,25822,2,20170110,0036,24.2428,140.2752,4025,1009.0,1000,3.6633,34.3701,2,34.3695,2,55.12,2,119.71,2,40.91,2,0.00,2,2.92,2,2337.6,2,2362.5,2,7.3927,2,-999,9,-999,9
49UP20170107,RF17-01,5952,1,14,25823,2,20170110,0036,24.2428,140.2752,4025,1010.8,1002,3.6418,34.3708,2,34.3699,2,53.97,2,119.86,2,40.91,2,0.00,2,2.93,2,2339.2,2,2367.1,2,7.3944,2,-999,9,-999,9
49UP20170107,RF17-01,5952,1,9,25818,2,20170110,0031,24.2428,140.2752,4025,1214.1,1203,3.0016,34.4602,2,34.4596,2,60.78,6,134.07,6,41.13,6,0.00,6,2.94,6,2354.4,2,2385.6,2,7.4069,2,-999,9,-999,9
49UP20170107,RF17-01,5952,1,8,25817,2,20170110,0027,24.2428,140.2752,4025,1415.4,1402,2.5679,34.5219,2,34.5215,2,73.96,2,141.38,2,40.60,2,0.00,2,2.88,2,2356.4,6,2396.0,6,7.4356,2,-999,9,-999,9
49UP20170107,RF17-01,5952,1,7,25816,2,20170110,0020,24.2428,140.2752,4025,1617.8,1601,2.3051,34.5689,2,34.5693,6,92.72,2,142.25,2,39.59,2,0.00,2,2.80,2,2350.9,2,2401.9,2,7.4743,6,-999,9,-999,9
49UP20170107,RF17-01,5952,1,1,25810,2,20170110,0015,24.2428,140.2752,4025,1820.1,1801,2.1338,34.6000,2,34.6002,2,106.05,2,141.77,2,38.67,2,0.00,2,2.73,2,-999.0,9,-999.0,9,-999.0000,9,-999,9,-999,9
49UP20170107,RF17-01,5952,1,6,25815,2,20170110,0015,24.2428,140.2752,4025,1820.1,1801,2.1326,34.6001,2,34.6005,2,106.49,2,142.00,2,38.71,2,0.00,2,2.73,2,2342.7,2,2406.5,2,7.4994,2,-999,9,-999,9
49UP20170107,RF17-01,5952,1,5,25814,2,20170110,0011,24.2428,140.2752,4025,2024.0,2001,1.9931,34.6173,2,34.6196,4,114.42,2,142.64,2,38.23,2,0.00,2,2.71,2,2341.5,2,2413.1,3,7.5142,2,-999,9,-999,9
49UP20170107,RF17-01,5952,1,4,25813,2,20170110,0010,24.2428,140.2752,4025,2025.9,2003,1.9922,34.6178,2,34.6186,2,114.91,2,142.79,2,38.32,2,0.00,2,2.70,2,2343.8,2,2408.8,2,7.5129,2,-999,9,-999,9
49UP20170107,RF17-01,5953,1,-999,0,2,20170110,0950,24.2395,138.5857,4930,0.0,0,22.4746,34.9403,2,-999.,9,217.38,2,1.59,2,0.02,2,0.00,2,0.01,2,-999.,9,-999.,9,-999.,9,-999,9,-999,9
49UP20170107,RF17-01,5953,1,36,25845,2,20170110,1010,24.2395,138.5857,4930,11.8,12,22.4663,34.9383,2,-999.,9,217.41,2,1.57,2,0.03,2,0.00,2,0.01,2,-999.,9,-999.,9,-999.,9,-999,9,-999,9
49UP20170107,RF17-01,5953,1,35,25844,2,20170110,1009,24.2395,138.5857,4930,25.9,26,22.4198,34.9360,2,-999.,9,217.45,2,1.55,2,0.00,2,0.00,2,0.01,2,-999.,9,-999.,9,-999.,9,-999,9,-999,9
49UP20170107,RF17-01,5953,1,34,25843,2,20170110,1008,24.2395,138.5857,4930,51.2,51,22.4074,34.9364,2,-999.,9,217.47,2,1.56,2,0.01,2,0.00,2,0.00,2,-999.,9,-999.,9,-999.,9,-999,9,-999,9
49UP20170107,RF17-01,5953,1,33,25842,2,20170110,1007,24.2395,138.5857,4930,75.8,75,22.3745,34.9309,2,-999.,9,216.78,6,1.51,6,0.01,6,0.00,6,0.01,6,-999.,9,-999.,9,-999.,9,-999,9,-999,9
49UP20170107,RF17-01,5953,1,32,25841,2,20170110,1006,24.2395,138.5857,4930,102.2,102,22.2408,34.9167,2,-999.,9,216.52,2,1.56,2,0.02,2,0.01,2,0.01,2,-999.,9,-999.,9,-999.,9,-999,9,-999,9
49UP20170107,RF17-01,5953,1,31,25840,2,20170110,1005,24.2395,138.5857,4930,127.5,127,20.1151,34.8759,2,-999.,9,204.38,2,2.34,2,1.76,2,0.04,2,0.13,2,-999.,9,-999.,9,-999.,9,-999,9,-999,9
49UP20170107,RF17-01,5953,1,27,25836,2,20170110,1004,24.2395,138.5857,4930,152.7,152,19.5668,34.8697,2,-999.,9,203.29,2,2.54,2,2.35,2,0.02,2,0.17,2,-999.,9,-999.,9,-999.,9,-999,9,-999,9
49UP20170107,RF17-01,5953,1,26,25835,2,20170110,1001,24.2395,138.5857,4930,201.4,200,18.4477,34.8240,2,-999.,9,203.81,2,3.07,2,3.36,2,0.01,2,0.23,2,-999.,9,-999.,9,-999.,9,-999,9,-999,9
49UP20170107,RF17-01,5953,1,25,25834,2,20170110,0959,24.2395,138.5857,4930,251.0,249,17.4207,34.7519,2,-999.,9,201.91,2,4.22,2,4.94,2,0.00,2,0.32,2,-999.,9,-999.,9,-999.,9,-999,9,-999,9
49UP20170107,RF17-01,5953,1,24,25833,2,20170110,0957,24.2395,138.5857,4930,302.9,301,16.6800,34.6977,2,-999.,9,201.91,2,5.55,2,6.14,2,0.01,2,0.40,2,-999.,9,-999.,9,-999.,9,-999,9,-999,9
49UP20170107,RF17-01,5953,1,23,25832,2,20170110,0953,24.2395,138.5857,4930,402.9,400,14.4622,34.5241,2,-999.,9,186.19,2,12.47,2,10.99,2,0.00,2,0.75,2,-999.,9,-999.,9,-999.,9,-999,9,-999,9
49UP20170107,RF17-01,5953,1,22,25831,2,20170110,0950,24.2395,138.5857,4930,504.3,500,11.4304,34.3006,2,-999.,9,181.23,2,22.32,2,16.31,2,0.00,2,1.14,2,-999.,9,-999.,9,-999.,9,-999,9,-999,9
49UP20170107,RF17-01,5953,1,18,25827,2,20170110,0947,24.2395,138.5857,4930,604.6,600,7.7261,34.1133,2,-999.,9,141.94,2,47.94,2,26.45,2,0.00,2,1.89,2,-999.,9,-999.,9,-999.,9,-999,9,-999,9
49UP20170107,RF17-01,5953,1,17,25826,2,20170110,0944,24.2395,138.5857,4930,707.1,701,5.6504,34.1371,2,-999.,9,94.29,2,76.43,2,34.35,2,0.00,2,2.47,2,-999.,9,-999.,9,-999.,9,-999,9,-999,9
49UP20170107,RF17-01,5953,1,16,25825,2,20170110,0941,24.2395,138.5857,4930,807.6,801,4.8775,34.2046,2,-999.,9,74.22,2,92.54,2,37.32,2,0.00,2,2.68,2,-999.,9,-999.,9,-999.,9,-999,9,-999,9
49UP20170107,RF17-01,5953,1,15,25824,2,20170110,0938,24.2395,138.5857,4930,908.6,901,4.2294,34.2792,2,-999.,9,59.41,2,105.93,2,39.47,2,0.00,2,2.83,2,-999.,9,-999.,9,-999.,9,-999,9,-999,9
49UP20170107,RF17-01,5953,1,14,25823,2,20170110,0938,24.2395,138.5857,4930,909.6,902,4.2214,34.2804,2,-999.,9,58.89,2,106.46,2,39.63,2,0.00,2,2.84,2,-999.,9,-999.,9,-999.,9,-999,9,-999,9
49UP20170107,RF17-01,5953,1,13,25822,2,20170110,0934,24.2395,138.5857,4930,1010.9,1002,3.6810,34.3572,2,-999.,9,54.71,2,119.47,2,40.70,2,0.00,2,2.91,2,-999.,9,-999.,9,-999.,9,-999,9,-999,9
49UP20170107,RF17-01,5953,1,9,25818,2,20170110,0929,24.2395,138.5857,4930,1211.7,1200,3.0210,34.4613,2,-999.,9,61.57,2,133.39,2,40.99,2,0.00,2,2.92,2,-999.,9,-999.,9,-999.,9,-999,9,-999,9
49UP20170107,RF17-01,5953,1,8,25817,2,20170110,0924,24.2395,138.5857,4930,1413.4,1400,2.5398,34.5190,2,-999.,9,70.88,6,142.92,6,40.80,6,0.00,6,2.89,6,-999.,9,-999.,9,-999.,9,-999,9,-999,9
49UP20170107,RF17-01,5953,1,7,25816,2,20170110,0918,24.2395,138.5857,4930,1617.4,1601,2.2384,34.5649,2,-999.,9,87.06,2,145.53,2,39.85,2,0.00,2,2.82,2,-999.,9,-999.,9,-999.,9,-999,9,-999,9
49UP20170107,RF17-01,5953,1,5,25814,2,20170110,0912,24.2395,138.5857,4930,1821.3,1802,2.0501,34.5976,2,-999.,9,102.75,2,144.97,2,39.01,2,0.00,2,2.75,2,-999.,9,-999.,9,-999.,9,-999,9,-999,9
49UP20170107,RF17-01,5953,1,6,25815,2,20170110,0912,24.2395,138.5857,4930,1821.5,1802,2.0499,34.5976,2,-999.,9,102.78,2,145.09,2,39.00,2,0.00,2,2.75,2,-999.,9,-999.,9,-999.,9,-999,9,-999,9
49UP20170107,RF17-01,5953,1,4,25813,2,20170110,0907,24.2395,138.5857,4930,2023.5,2001,1.9353,34.6215,2,-999.,9,116.03,2,143.31,2,38.16,2,0.00,2,2.68,2,-999.,9,-999.,9,-999.,9,-999,9,-999,9
49UP20170107,RF17-01,5953,1,1,25810,2,20170110,0907,24.2395,138.5857,4930,2024.0,2001,1.9350,34.6214,2,-999.,9,116.23,2,143.04,2,38.15,2,0.00,2,2.68,2,-999.,9,-999.,9,-999.,9,-999,9,-999,9
49UP20170107,RF17-01,5954,1,-999,0,2,20170110,2000,23.983,137.0065,4044,0.0,0,23.2261,35.0637,2,35.0708,2,213.12,2,1.44,2,0.00,2,0.00,2,0.02,2,1990.4,2,2304.7,2,8.0673,2,-999,9,-999,9
49UP20170107,RF17-01,5954,1,36,25845,2,20170110,2021,23.983,137.0065,4044,11.2,11,23.2356,35.0635,2,35.0627,2,213.06,2,1.42,2,0.00,2,0.00,2,0.01,2,1989.1,2,2302.0,2,8.0656,2,-999,9,-999,9
49UP20170107,RF17-01,5954,1,35,25844,2,20170110,2020,23.983,137.0065,4044,27.8,28,23.2370,35.0625,2,-999.0000,9,213.42,2,1.45,2,0.00,2,0.00,2,0.01,2,1991.1,2,2302.9,2,8.0628,2,-999,9,-999,9
49UP20170107,RF17-01,5954,1,34,25843,2,20170110,2019,23.983,137.0065,4044,52.8,52,23.2364,35.0617,2,-999.0000,9,212.80,2,1.43,2,0.00,2,0.00,2,0.01,2,1991.3,2,2301.7,2,8.0652,2,-999,9,-999,9
49UP20170107,RF17-01,5954,1,33,25842,2,20170110,2018,23.983,137.0065,4044,78.0,77,23.1834,35.0523,2,35.0527,2,213.70,2,1.43,2,0.01,2,0.00,2,0.01,2,1990.4,2,2302.6,2,8.0659,2,-999,9,-999,9
49UP20170107,RF17-01,5954,1,32,25841,2,20170110,2017,23.983,137.0065,4044,102.7,102,23.0779,35.0297,2,35.0292,2,213.57,6,1.42,6,0.03,6,0.00,6,0.02,6,1990.1,2,2301.0,2,8.0628,2,-999,9,-999,9
49UP20170107,RF17-01,5954,1,30,25839,2,20170110,2016,23.983,137.0065,4044,128.7,128,19.9275,34.8939,2,34.8944,2,205.46,2,2.17,2,1.43,2,0.02,2,0.12,3,2025.6,2,2290.7,2,7.9906,2,-999,9,-999,9
49UP20170107,RF17-01,5954,1,29,25838,2,20170110,2015,23.983,137.0065,4044,152.1,151,19.2382,34.8664,2,-999.0000,9,203.55,2,2.50,2,2.48,2,0.01,2,0.18,2,2030.7,2,2287.8,2,7.9747,2,-999,9,-999,9
49UP20170107,RF17-01,5954,1,28,25837,2,20170110,2011,23.983,137.0065,4044,202.5,201,18.0560,34.8086,2,34.8080,2,208.80,2,3.12,2,3.43,2,0.01,2,0.23,2,2032.5,2,2285.6,2,7.9674,2,-999,9,-999,9
49UP20170107,RF17-01,5954,1,27,25836,2,20170110,2011,23.983,137.0065,4044,203.1,202,18.0510,34.8083,2,34.8080,2,208.21,2,3.08,2,3.45,2,0.01,2,0.24,2,2032.0,2,2287.5,2,7.9681,2,-999,9,-999,9
49UP20170107,RF17-01,5954,1,26,25835,2,20170110,2009,23.983,137.0065,4044,252.7,251,17.3661,34.7599,2,-999.0000,9,206.92,2,3.86,2,4.51,2,0.01,2,0.31,2,2040.0,2,2282.0,2,7.9509,2,-999,9,-999,9
49UP20170107,RF17-01,5954,1,25,25834,2,20170110,2007,23.983,137.0065,4044,303.4,301,16.6783,34.7056,2,34.7054,2,206.75,2,4.89,2,5.61,2,0.00,2,0.38,2,2045.9,2,2280.1,2,7.9311,2,-999,9,-999,9
49UP20170107,RF17-01,5954,1,24,25833,2,20170110,2004,23.983,137.0065,4044,403.5,401,14.6853,34.5394,2,34.5395,2,198.05,2,9.97,2,9.51,2,0.00,2,0.65,2,2071.1,2,2275.5,2,7.8643,2,-999,9,-999,9
49UP20170107,RF17-01,5954,1,23,25832,2,20170110,2001,23.983,137.0065,4044,506.5,503,11.7663,34.3232,2,34.3255,2,182.74,2,20.66,2,15.68,2,0.00,2,1.10,2,2122.2,2,2275.3,2,7.7679,2,-999,9,-999,9
49UP20170107,RF17-01,5954,1,22,25831,2,20170110,1957,23.983,137.0065,4044,606.2,601,8.7464,34.1457,2,34.1455,2,157.43,2,38.15,2,23.27,2,0.00,2,1.66,2,2175.2,6,2281.0,6,7.6457,2,-999,9,-999,9
49UP20170107,RF17-01,5954,1,21,25830,2,20170110,1954,23.983,137.0065,4044,706.5,701,6.6609,34.1186,2,-999.0000,9,113.42,2,60.92,2,31.01,2,0.00,2,2.23,2,2234.6,2,2297.6,2,7.5197,6,-999,9,-999,9
49UP20170107,RF17-01,5954,1,20,25829,2,20170110,1951,23.983,137.0065,4044,806.8,800,5.0267,34.2070,2,34.2071,2,71.60,2,88.80,2,37.47,2,0.00,2,2.69,2,2295.3,2,2327.8,2,7.4230,2,-999,9,-999,9
49UP20170107,RF17-01,5954,1,19,25828,2,20170110,1947,23.983,137.0065,4044,908.2,900,4.3211,34.3044,2,34.3032,2,58.48,6,104.16,6,39.67,6,0.00,6,2.85,6,2319.8,2,2346.9,2,7.3994,2,-999,9,-999,9
49UP20170107,RF17-01,5954,1,18,25827,2,20170110,1944,23.983,137.0065,4044,1010.4,1002,3.8824,34.3608,2,34.3606,2,56.52,2,114.41,2,40.39,2,0.00,2,2.90,2,2334.7,2,2359.8,2,7.3974,2,-999,9,-999,9
49UP20170107,RF17-01,5954,1,17,25826,2,20170110,1944,23.983,137.0065,4044,1011.4,1003,3.8810,34.3608,2,34.3602,2,56.48,2,114.43,2,40.37,2,0.00,2,2.89,2,2336.1,2,2358.9,2,7.3962,2,-999,9,-999,9
49UP20170107,RF17-01,5954,1,16,25825,2,20170110,1939,23.983,137.0065,4044,1211.3,1200,3.2764,34.4463,2,34.4452,6,61.51,2,127.43,2,40.79,2,0.00,2,2.91,2,2346.7,2,2376.0,2,7.4069,2,-999,9,-999,9
49UP20170107,RF17-01,5954,1,15,25824,2,20170110,1933,23.983,137.0065,4044,1411.6,1398,2.8199,34.5125,2,34.5120,2,75.70,2,135.22,2,40.19,2,0.00,2,2.85,2,2348.8,6,2391.0,6,7.4446,2,-999,9,-999,9
49UP20170107,RF17-01,5954,1,14,25823,2,20170110,1927,23.983,137.0065,4044,1618.0,1601,2.4258,34.5612,2,34.5612,6,91.78,2,140.09,2,39.40,2,0.00,2,2.79,2,2348.1,2,2401.0,2,7.4745,6,-999,9,-999,9
49UP20170107,RF17-01,5954,1,12,25821,2,20170110,1922,23.983,137.0065,4044,1821.5,1802,2.2142,34.5916,2,34.5914,2,103.77,6,141.09,6,38.77,6,0.00,6,2.74,6,2342.0,2,2404.5,2,7.4985,2,-999,9,-999,9
49UP20170107,RF17-01,5954,1,10,25819,2,20170110,1917,23.983,137.0065,4044,2022.9,2000,2.0421,34.6134,2,34.6123,2,113.26,2,141.99,2,38.31,2,0.00,2,2.68,2,2340.8,2,2407.6,2,7.5134,2,-999,9,-999,9
49UP20170107,RF17-01,5954,1,11,25820,3,20170110,1917,23.983,137.0065,4044,2023.0,2000,2.0421,34.6134,2,34.6118,2,112.77,2,141.98,2,38.32,2,0.00,2,2.70,2,2342.1,2,2408.4,2,7.5170,2,-999,9,-999,9
49UP20170107,RF17-01,5954,1,9,25818,2,20170110,1909,23.983,137.0065,4044,2277.2,2250,1.8766,34.6316,2,34.6314,6,122.33,2,142.75,2,37.75,2,0.00,2,2.65,2,2343.5,2,2411.0,2,7.5288,2,-999,9,-999,9
49UP20170107,RF17-01,5954,1,8,25817,2,20170110,1903,23.983,137.0065,4044,2532.9,2502,1.7467,34.6471,2,34.6464,2,130.68,2,143.03,2,37.32,2,0.00,2,2.60,2,2337.2,2,2412.1,2,7.5424,2,-999,9,-999,9
49UP20170107,RF17-01,5954,1,7,25816,2,20170110,1856,23.983,137.0065,4044,2788.0,2752,1.6807,34.6552,2,34.6534,4,135.57,2,142.71,2,36.99,2,0.00,2,2.58,2,2334.7,6,2414.1,6,7.5530,2,-999,9,-999,9
49UP20170107,RF17-01,5954,1,6,25815,2,20170110,1850,23.983,137.0065,4044,3042.2,3001,1.6294,34.6633,2,34.6600,4,140.99,2,142.72,2,36.70,2,0.00,2,2.56,2,2329.5,2,2415.7,2,7.5620,6,-999,9,-999,9
49UP20170107,RF17-01,5954,1,5,25814,2,20170110,1843,23.983,137.0065,4044,3296.4,3250,1.5952,34.6690,2,34.6688,2,145.12,2,142.27,2,36.47,2,0.00,2,2.54,2,2329.2,2,2416.3,2,7.5680,2,-999,9,-999,9
49UP20170107,RF17-01,5954,1,4,25813,2,20170110,1838,23.983,137.0065,4044,3554.0,3502,1.5570,34.6747,2,34.6747,2,149.70,2,141.72,2,36.19,2,0.00,2,2.51,2,2323.1,2,2414.8,2,7.5750,2,-999,9,-999,9
49UP20170107,RF17-01,5954,1,3,25812,2,20170110,1832,23.983,137.0065,4044,3808.5,3751,1.5499,34.6778,2,34.6767,4,151.98,6,141.18,6,36.00,6,0.00,6,2.50,6,2322.8,2,2414.4,2,7.5772,2,-999,9,-999,9
49UP20170107,RF17-01,5954,1,1,25810,2,20170110,1827,23.983,137.0065,4044,4020.0,3957,1.5420,34.6807,2,34.6784,4,154.29,2,140.68,2,35.89,2,0.00,2,2.49,2,2321.5,2,2413.0,2,7.5773,2,-999,9,-999,9
49UP20170107,RF17-01,5954,1,2,25811,2,20170110,1828,23.983,137.0065,4044,4020.1,3957,1.5419,34.6807,2,34.6787,4,154.82,2,140.60,2,35.82,2,0.00,2,2.49,2,2320.4,2,2413.8,2,7.5810,2,-999,9,-999,9