BOTTLE,20171117JMAGEMD
EXPOCODE,SECT_ID,STNNBR,CASTNO,SAMPNO,BTLNBR,BTLNBR_FLAG_W,DATE,TIME,LATITUDE,LONGITUDE,DEPTH,CTDPRS,CTDDEP,CTDTMP,CTDSAL,CTDSAL_FLAG_W,SALNTY,SALNTY_FLAG_W,OXYGEN,OXYGEN_FLAG_W,SILCAT,SILCAT_FLAG_W,NO2+NO3,NO2+NO3_FLAG_W,NITRIT,NITRIT_FLAG_W,PHSPHT,PHSPHT_FLAG_W,TCARBN,TCARBN_FLAG_W,ALKALI,ALKALI_FLAG_W,PH_TOT,PH_TOT_FLAG_W,CFC-11,CFC-11_FLAG_W,CFC-12,CFC-12_FLAG_W
,,,,,,,UTC,UTC,,,METER,DBAR,METERS,ITS-90,PSS-78,,PSS-78,,UMOL/KG,,UMOL/KG,,UMOL/KG,,UMOL/KG,,UMOL/KG,,UMOL/KG,,UMOL/KG,,@25DEG-C,,PMOL/KG,,PMOL/KG,
49UP20170107,RF17-01,5978,1,-999,0,2,20170117,1833,27.8003,127.798,863,0.0,0,23.4569,34.9061,2,34.9157,2,209.59,2,1.26,2,0.28,2,0.12,2,0.04,2,1986.2,2,2294.3,2,8.0640,2,-999,9,-999,9
49UP20170107,RF17-01,5978,1,36,25845,2,20170117,1848,27.8003,127.798,863,12.1,12,23.4680,34.9056,2,-999.0000,9,207.05,2,1.22,2,0.28,2,0.12,2,0.03,2,-999.0,9,-999.0,9,-999.0000,9,-999,9,-999,9
49UP20170107,RF17-01,5978,1,35,25844,2,20170117,1847,27.8003,127.798,863,22.5,22,23.4761,34.9054,2,-999.0000,9,207.31,2,1.18,2,0.27,2,0.12,2,0.03,2,-999.0,9,-999.0,9,-999.0000,9,-999,9,-999,9
49UP20170107,RF17-01,5978,1,30,25839,2,20170117,1847,27.8003,127.798,863,31.3,31,23.4800,34.9053,2,-999.0000,9,207.00,2,1.18,2,0.27,2,0.12,2,0.03,2,-999.0,9,-999.0,9,-999.0000,9,-999,9,-999,9
49UP20170107,RF17-01,5978,1,29,25838,2,20170117,1846,27.8003,127.798,863,31.4,31,23.4799,34.9054,2,-999.0000,9,209.22,2,1.15,2,0.26,2,0.12,2,0.04,2,-999.0,9,-999.0,9,-999.0000,9,-999,9,-999,9
49UP20170107,RF17-01,5978,1,27,25836,2,20170117,1844,27.8003,127.798,863,51.6,51,23.4831,34.9054,2,-999.0000,9,207.11,2,1.14,2,0.29,2,0.12,2,0.04,2,-999.0,9,-999.0,9,-999.0000,9,-999,9,-999,9
49UP20170107,RF17-01,5978,1,26,25835,2,20170117,1843,27.8003,127.798,863,75.5,75,23.4853,34.9055,2,-999.0000,9,207.13,2,1.17,2,0.27,2,0.12,2,0.03,2,-999.0,9,-999.0,9,-999.0000,9,-999,9,-999,9
49UP20170107,RF17-01,5978,1,25,25834,2,20170117,1842,27.8003,127.798,863,101.8,101,23.4866,34.9055,2,-999.0000,9,207.03,2,1.17,2,0.27,2,0.12,2,0.04,2,-999.0,9,-999.0,9,-999.0000,9,-999,9,-999,9
49UP20170107,RF17-01,5978,1,21,25830,2,20170117,1841,27.8003,127.798,863,127.1,126,23.4799,34.9057,2,-999.0000,9,206.88,2,1.15,2,0.30,2,0.12,2,0.04,2,-999.0,9,-999.0,9,-999.0000,9,-999,9,-999,9
49UP20170107,RF17-01,5978,1,20,25829,2,20170117,1840,27.8003,127.798,863,151.6,151,23.3255,34.9115,2,-999.0000,9,201.75,2,1.36,2,0.73,2,0.11,2,0.07,2,-999.0,9,-999.0,9,-999.0000,9,-999,9,-999,9
49UP20170107,RF17-01,5978,1,19,25828,2,20170117,1838,27.8003,127.798,863,202.3,201,21.5658,34.9491,2,-999.0000,9,190.07,2,2.26,2,2.12,2,0.02,2,0.17,2,-999.0,9,-999.0,9,-999.0000,9,-999,9,-999,9
49UP20170107,RF17-01,5978,1,18,25827,2,20170117,1837,27.8003,127.798,863,252.3,250,19.3814,34.8656,2,-999.0000,9,189.25,2,3.58,2,3.94,2,0.01,2,0.29,2,-999.0,9,-999.0,9,-999.0000,9,-999,9,-999,9
49UP20170107,RF17-01,5978,1,17,25826,2,20170117,1836,27.8003,127.798,863,303.0,301,17.6471,34.7494,2,-999.0000,9,189.73,2,5.72,2,5.95,2,0.01,2,0.41,2,-999.0,9,-999.0,9,-999.0000,9,-999,9,-999,9
49UP20170107,RF17-01,5978,1,16,25825,2,20170117,1833,27.8003,127.798,863,403.7,401,15.5409,34.6037,2,-999.0000,9,183.82,6,10.51,6,9.45,6,0.00,6,0.66,6,-999.0,9,-999.0,9,-999.0000,9,-999,9,-999,9
49UP20170107,RF17-01,5978,1,9,25818,2,20170117,1831,27.8003,127.798,863,504.7,501,12.9241,34.4336,2,-999.0000,9,165.54,6,20.83,6,15.33,6,0.00,6,1.10,6,-999.0,9,-999.0,9,-999.0000,9,-999,9,-999,9
49UP20170107,RF17-01,5978,1,8,25817,2,20170117,1829,27.8003,127.798,863,606.0,601,9.8639,34.3227,2,-999.0000,9,134.59,2,43.42,2,23.65,2,0.00,2,1.69,2,-999.0,9,-999.0,9,-999.0000,9,-999,9,-999,9
49UP20170107,RF17-01,5978,1,7,25816,2,20170117,1828,27.8003,127.798,863,606.1,601,9.8366,34.3213,2,-999.0000,9,134.08,2,43.63,2,23.77,2,0.00,2,1.71,2,-999.0,9,-999.0,9,-999.0000,9,-999,9,-999,9
49UP20170107,RF17-01,5978,1,3,25812,2,20170117,1826,27.8003,127.798,863,705.8,700,6.9370,34.3002,2,-999.0000,9,100.12,2,71.81,2,31.66,2,0.00,2,2.29,2,-999.0,9,-999.0,9,-999.0000,9,-999,9,-999,9
49UP20170107,RF17-01,5978,1,2,25811,2,20170117,1824,27.8003,127.798,863,807.3,800,5.4849,34.3506,2,-999.0000,9,84.19,2,92.19,2,35.32,2,0.00,2,2.53,2,-999.0,9,-999.0,9,-999.0000,9,-999,9,-999,9
49UP20170107,RF17-01,5978,1,1,25810,2,20170117,1822,27.8003,127.798,863,864.8,857,5.3692,34.3566,2,-999.0000,9,83.18,2,94.11,2,35.65,2,0.00,2,2.56,2,-999.0,9,-999.0,9,-999.0000,9,-999,9,-999,9
49UP20170107,RF17-01,5980,1,-999,0,2,20170117,2258,27.498,128.244,1018,0.0,0,23.0940,34.9136,2,34.9207,2,210.27,2,1.44,2,0.33,2,0.11,2,0.05,2,1985.4,2,2294.3,2,8.0644,2,-999,9,-999,9
49UP20170107,RF17-01,5980,1,36,25845,2,20170117,2316,27.498,128.244,1018,11.1,11,23.1066,34.9131,2,34.9119,2,209.26,2,1.36,2,0.26,2,0.11,2,0.04,2,1984.6,2,2293.1,2,8.0659,2,-999,9,-999,9
49UP20170107,RF17-01,5980,1,35,25844,2,20170117,2315,27.498,128.244,1018,20.7,21,23.1090,34.9131,2,34.9115,2,209.38,2,1.36,2,0.25,2,0.11,2,0.04,2,1987.7,2,2294.1,2,8.0660,2,-999,9,-999,9
49UP20170107,RF17-01,5980,1,34,25843,2,20170117,2314,27.498,128.244,1018,31.1,31,23.1109,34.9128,2,-999.0000,9,209.47,2,1.37,2,0.27,2,0.11,2,0.05,2,1986.0,2,2294.2,2,8.0683,2,-999,9,-999,9
49UP20170107,RF17-01,5980,1,27,25836,2,20170117,2312,27.498,128.244,1018,51.5,51,23.1008,34.9119,2,34.9100,2,208.89,2,1.37,2,0.29,2,0.13,2,0.04,2,1986.8,2,2293.8,2,8.0657,2,-999,9,-999,9
49UP20170107,RF17-01,5980,1,26,25835,2,20170117,2311,27.498,128.244,1018,76.2,76,22.8880,34.9058,2,-999.0000,9,208.89,6,1.44,6,0.49,6,0.19,6,0.05,6,1985.1,2,2292.5,2,8.0605,2,-999,9,-999,9
49UP20170107,RF17-01,5980,1,21,25830,2,20170117,2309,27.498,128.244,1018,101.2,101,22.8835,34.9052,2,34.9044,2,208.72,2,1.42,2,0.49,2,0.19,2,0.04,2,1986.9,2,2292.4,2,8.0606,2,-999,9,-999,9
49UP20170107,RF17-01,5980,1,25,25834,2,20170117,2310,27.498,128.244,1018,101.6,101,22.8839,34.9055,2,34.9026,2,208.80,2,1.42,2,0.49,2,0.19,2,0.04,2,1987.7,2,2295.0,2,8.0587,2,-999,9,-999,9
49UP20170107,RF17-01,5980,1,20,25829,2,20170117,2308,27.498,128.244,1018,127.1,126,22.8793,34.9056,2,-999.0000,9,208.70,2,1.38,2,0.47,2,0.19,2,0.04,2,1987.9,2,2292.5,2,8.0585,2,-999,9,-999,9
49UP20170107,RF17-01,5980,1,19,25828,2,20170117,2307,27.498,128.244,1018,152.2,151,22.8779,34.9052,2,34.9043,2,208.17,2,1.38,2,0.53,2,0.19,2,0.04,2,1989.1,2,2291.6,2,8.0546,2,-999,9,-999,9
49UP20170107,RF17-01,5980,1,18,25827,2,20170117,2305,27.498,128.244,1018,202.6,201,21.9515,34.9363,2,34.9343,6,189.55,2,2.32,2,2.21,2,0.02,2,0.17,2,2022.5,2,2295.8,2,8.0005,2,-999,9,-999,9
49UP20170107,RF17-01,5980,1,17,25826,2,20170117,2304,27.498,128.244,1018,253.3,251,19.4622,34.8407,2,-999.0000,9,188.73,2,4.08,2,4.31,2,0.01,2,0.30,2,2041.4,6,2289.4,6,7.9544,2,-999,9,-999,9
49UP20170107,RF17-01,5980,1,16,25825,2,20170117,2302,27.498,128.244,1018,302.9,301,17.3854,34.7268,2,34.7201,2,187.68,2,7.02,2,6.82,2,0.00,2,0.46,2,2060.6,2,2282.4,2,7.9105,6,-999,9,-999,9
49UP20170107,RF17-01,5980,1,12,25821,2,20170117,2300,27.498,128.244,1018,404.4,401,14.6571,34.5464,2,34.5428,2,178.74,2,13.79,2,11.39,2,0.00,2,0.78,2,2092.0,2,2278.6,2,7.8366,2,-999,9,-999,9
49UP20170107,RF17-01,5980,1,11,25820,3,20170117,2257,27.498,128.244,1018,504.9,501,12.0057,34.3894,2,34.3892,2,157.95,2,25.63,2,17.56,2,0.00,2,1.24,2,2141.0,2,2283.4,6,7.7377,2,-999,9,-999,9
49UP20170107,RF17-01,5980,1,10,25819,2,20170117,2255,27.498,128.244,1018,606.3,601,9.2552,34.3255,2,34.3256,2,128.53,2,48.94,2,25.06,2,0.00,2,1.78,2,2200.9,2,2301.4,2,7.6289,6,-999,9,-999,9
49UP20170107,RF17-01,5980,1,9,25818,3,20170117,2252,27.498,128.244,1018,706.4,701,7.6373,34.3290,2,34.3291,2,108.74,6,66.66,6,29.55,6,0.00,6,2.11,6,2234.7,2,2317.2,2,7.5633,2,-999,9,-999,9
49UP20170107,RF17-01,5980,1,8,25817,2,20170117,2250,27.498,128.244,1018,807.6,801,6.7396,34.3361,2,34.3350,2,99.98,2,77.06,2,32.01,2,0.00,2,2.29,2,2255.6,2,2326.7,2,7.5302,2,-999,9,-999,9
49UP20170107,RF17-01,5980,1,7,25816,2,20170117,2249,27.498,128.244,1018,807.8,801,6.7408,34.3359,2,34.3354,2,98.17,2,77.10,2,32.02,2,0.00,2,2.29,2,2260.8,2,2329.4,2,7.5239,2,-999,9,-999,9
49UP20170107,RF17-01,5980,1,4,25813,2,20170117,2247,27.498,128.244,1018,908.3,900,6.2700,34.3415,2,34.3411,2,92.44,2,83.04,2,33.35,2,0.00,2,2.39,2,2270.4,2,2334.3,2,7.5073,2,-999,9,-999,9
49UP20170107,RF17-01,5980,1,3,25812,2,20170117,2243,27.498,128.244,1018,1010.0,1001,5.7048,34.3511,2,34.3502,6,86.40,2,90.20,2,34.87,2,0.00,2,2.50,2,2290.3,2,2342.1,2,7.4809,2,-999,9,-999,9
49UP20170107,RF17-01,5980,1,1,25810,3,20170117,2241,27.498,128.244,1018,1022.2,1013,5.6992,34.3511,2,34.3515,2,86.13,2,90.33,2,34.88,2,0.00,2,2.50,2,2285.4,2,2342.4,2,7.4887,2,-999,9,-999,9