BOTTLE,20171117JMAGEMD
EXPOCODE,SECT_ID,STNNBR,CASTNO,SAMPNO,BTLNBR,BTLNBR_FLAG_W,DATE,TIME,LATITUDE,LONGITUDE,DEPTH,CTDPRS,CTDDEP,CTDTMP,CTDSAL,CTDSAL_FLAG_W,SALNTY,SALNTY_FLAG_W,OXYGEN,OXYGEN_FLAG_W,SILCAT,SILCAT_FLAG_W,NO2+NO3,NO2+NO3_FLAG_W,NITRIT,NITRIT_FLAG_W,PHSPHT,PHSPHT_FLAG_W,TCARBN,TCARBN_FLAG_W,ALKALI,ALKALI_FLAG_W,PH_TOT,PH_TOT_FLAG_W,CFC-11,CFC-11_FLAG_W,CFC-12,CFC-12_FLAG_W
,,,,,,,UTC,UTC,,,METER,DBAR,METERS,ITS-90,PSS-78,,PSS-78,,UMOL/KG,,UMOL/KG,,UMOL/KG,,UMOL/KG,,UMOL/KG,,UMOL/KG,,UMOL/KG,,@25DEG-C,,PMOL/KG,,PMOL/KG,
49UP20170107,RF17-01,5958,1,-999,0,2,20170112,0830,23.739,132.9965,3774,0.0,0,25.1697,35.0510,2,35.0790,2,207.45,2,1.13,2,0.01,2,0.00,2,0.02,2,1977.9,2,2303.5,2,-999.,9,-999,9,-999,9
49UP20170107,RF17-01,5958,1,36,25845,2,20170112,0847,23.739,132.9965,3774,11.1,11,25.1813,35.0500,2,-999.0000,9,206.90,2,1.09,2,0.00,2,0.00,2,0.01,2,1977.2,2,2302.4,2,-999.,9,-999,9,-999,9
49UP20170107,RF17-01,5958,1,35,25844,2,20170112,0846,23.739,132.9965,3774,26.2,26,24.5913,34.9940,2,-999.0000,9,209.18,2,1.16,2,0.00,2,0.00,2,0.01,2,1975.1,2,2297.5,2,-999.,9,-999,9,-999,9
49UP20170107,RF17-01,5958,1,34,25843,2,20170112,0845,23.739,132.9965,3774,51.7,51,24.3025,34.9601,2,-999.0000,9,210.37,2,1.25,2,0.00,2,0.00,2,0.01,2,1978.5,2,2297.5,2,-999.,9,-999,9,-999,9
49UP20170107,RF17-01,5958,1,33,25842,2,20170112,0844,23.739,132.9965,3774,76.1,76,23.8272,34.9496,2,-999.0000,9,210.50,2,1.38,2,0.00,2,0.00,2,0.01,2,1987.3,2,2296.9,2,-999.,9,-999,9,-999,9
49UP20170107,RF17-01,5958,1,32,25841,2,20170112,0842,23.739,132.9965,3774,100.7,100,22.2393,34.9509,2,-999.0000,9,205.42,2,1.67,2,0.14,2,0.03,2,0.04,2,2012.7,2,2293.3,2,-999.,9,-999,9,-999,9
49UP20170107,RF17-01,5958,1,31,25840,2,20170112,0840,23.739,132.9965,3774,127.1,126,20.2100,34.9053,2,-999.0000,9,200.94,6,2.24,6,1.54,6,0.03,6,0.13,6,2028.5,2,2293.9,2,-999.,9,-999,9,-999,9
49UP20170107,RF17-01,5958,1,27,25836,2,20170112,0839,23.739,132.9965,3774,150.2,149,19.4925,34.8759,2,-999.0000,9,200.09,2,2.57,2,2.44,2,0.01,2,0.18,2,2030.1,2,2287.8,2,-999.,9,-999,9,-999,9
49UP20170107,RF17-01,5958,1,26,25835,2,20170112,0837,23.739,132.9965,3774,202.3,201,18.4535,34.8296,2,-999.0000,9,196.75,2,3.27,2,3.97,2,0.01,2,0.28,2,2043.2,2,2285.9,2,-999.,9,-999,9,-999,9
49UP20170107,RF17-01,5958,1,25,25834,2,20170112,0835,23.739,132.9965,3774,252.0,250,17.3112,34.7427,2,-999.0000,9,199.20,2,4.35,2,5.23,2,0.01,2,0.36,2,-999.0,9,-999.0,9,-999.,9,-999,9,-999,9
49UP20170107,RF17-01,5958,1,24,25833,2,20170112,0834,23.739,132.9965,3774,301.2,299,16.4024,34.6718,2,-999.0000,9,198.48,2,5.92,2,6.63,2,0.01,2,0.45,2,-999.0,9,-999.0,9,-999.,9,-999,9,-999,9
49UP20170107,RF17-01,5958,1,23,25832,2,20170112,0831,23.739,132.9965,3774,403.4,400,13.9755,34.4808,2,-999.0000,9,182.83,2,13.47,2,12.06,2,0.00,2,0.84,2,-999.0,9,-999.0,9,-999.,9,-999,9,-999,9
49UP20170107,RF17-01,5958,1,22,25831,2,20170112,0828,23.739,132.9965,3774,503.8,500,10.6647,34.2692,2,-999.0000,9,164.29,2,27.84,2,19.21,2,0.00,2,1.36,2,-999.0,9,-999.0,9,-999.,9,-999,9,-999,9
49UP20170107,RF17-01,5958,1,18,25827,2,20170112,0825,23.739,132.9965,3774,604.7,600,7.8142,34.1500,2,-999.0000,9,131.02,2,49.44,2,27.29,2,0.00,2,1.96,2,-999.0,9,-999.0,9,-999.,9,-999,9,-999,9
49UP20170107,RF17-01,5958,1,17,25826,2,20170112,0825,23.739,132.9965,3774,605.6,601,7.8188,34.1499,2,-999.0000,9,131.26,2,49.51,2,27.29,2,0.00,2,1.97,2,-999.0,9,-999.0,9,-999.,9,-999,9,-999,9
49UP20170107,RF17-01,5958,1,16,25825,2,20170112,0822,23.739,132.9965,3774,706.6,701,6.0637,34.1563,2,-999.0000,9,92.51,2,70.94,2,33.86,2,0.00,2,2.45,2,-999.0,9,-999.0,9,-999.,9,-999,9,-999,9
49UP20170107,RF17-01,5958,1,15,25824,3,20170112,0819,23.739,132.9965,3774,806.6,800,5.0079,34.2320,2,-999.0000,9,68.56,2,89.86,2,37.64,2,0.00,2,2.72,2,-999.0,9,-999.0,9,-999.,9,-999,9,-999,9
49UP20170107,RF17-01,5958,1,14,25823,2,20170112,0816,23.739,132.9965,3774,908.7,901,4.1377,34.3393,2,-999.0000,9,57.59,2,108.67,2,39.90,2,0.00,2,2.88,2,-999.0,9,-999.0,9,-999.,9,-999,9,-999,9
49UP20170107,RF17-01,5958,1,13,25822,2,20170112,0813,23.739,132.9965,3774,1010.6,1002,3.8241,34.3862,2,-999.0000,9,58.14,2,115.34,2,40.30,2,0.00,2,2.90,2,-999.0,9,-999.0,9,-999.,9,-999,9,-999,9
49UP20170107,RF17-01,5958,1,9,25818,2,20170112,0808,23.739,132.9965,3774,1211.6,1200,3.1953,34.4635,2,-999.0000,9,65.75,2,128.51,2,40.41,2,0.00,2,2.90,2,-999.0,9,-999.0,9,-999.,9,-999,9,-999,9
49UP20170107,RF17-01,5958,1,8,25817,2,20170112,0807,23.739,132.9965,3774,1211.8,1201,3.1953,34.4633,2,-999.0000,9,65.67,2,128.73,2,40.47,2,0.00,2,2.90,2,-999.0,9,-999.0,9,-999.,9,-999,9,-999,9
49UP20170107,RF17-01,5958,1,7,25816,2,20170112,0802,23.739,132.9965,3774,1412.6,1399,2.6977,34.5200,2,-999.0000,9,78.70,6,137.11,6,40.00,6,0.00,6,2.85,6,-999.0,9,-999.0,9,-999.,9,-999,9,-999,9
49UP20170107,RF17-01,5958,1,6,25815,2,20170112,0756,23.739,132.9965,3774,1617.0,1601,2.3499,34.5600,2,-999.0000,9,91.01,2,141.14,2,39.42,2,0.00,2,2.80,2,-999.0,9,-999.0,9,-999.,9,-999,9,-999,9
49UP20170107,RF17-01,5958,1,5,25814,2,20170112,0751,23.739,132.9965,3774,1820.5,1801,2.1340,34.5906,2,-999.0000,9,103.86,2,142.02,2,38.79,2,0.00,2,2.75,2,-999.0,9,-999.0,9,-999.,9,-999,9,-999,9
49UP20170107,RF17-01,5958,1,4,25813,2,20170112,0746,23.739,132.9965,3774,2023.6,2001,1.9360,34.6177,2,-999.0000,9,116.50,2,142.25,2,38.03,2,0.00,2,2.69,2,-999.0,9,-999.0,9,-999.,9,-999,9,-999,9
49UP20170107,RF17-01,5959,1,-999,0,2,20170112,1540,23.7405,131.9817,3510,0.0,0,24.3802,35.0179,2,-999.,9,209.36,2,1.17,2,0.00,2,0.00,2,0.01,2,-999.,9,-999.,9,-999.,9,-999,9,-999,9
49UP20170107,RF17-01,5959,1,33,25842,2,20170112,1602,23.7405,131.9817,3510,11.9,12,24.3841,35.0173,2,-999.,9,209.00,2,1.18,2,0.00,2,0.00,2,0.01,2,-999.,9,-999.,9,-999.,9,-999,9,-999,9
49UP20170107,RF17-01,5959,1,32,25841,2,20170112,1601,23.7405,131.9817,3510,27.3,27,24.3922,35.0177,2,-999.,9,209.43,2,1.22,2,0.00,2,0.00,2,0.01,2,-999.,9,-999.,9,-999.,9,-999,9,-999,9
49UP20170107,RF17-01,5959,1,31,25840,2,20170112,1558,23.7405,131.9817,3510,50.9,51,24.1981,34.9895,2,-999.,9,210.32,2,1.27,2,0.00,2,0.00,2,0.00,2,-999.,9,-999.,9,-999.,9,-999,9,-999,9
49UP20170107,RF17-01,5959,1,30,25839,2,20170112,1557,23.7405,131.9817,3510,77.2,77,23.8144,34.9297,2,-999.,9,212.38,2,1.40,2,0.01,2,0.00,2,0.01,2,-999.,9,-999.,9,-999.,9,-999,9,-999,9
49UP20170107,RF17-01,5959,1,29,25838,2,20170112,1556,23.7405,131.9817,3510,101.6,101,21.9878,34.9625,2,-999.,9,203.13,6,1.75,6,0.40,6,0.05,6,0.06,6,-999.,9,-999.,9,-999.,9,-999,9,-999,9
49UP20170107,RF17-01,5959,1,28,25837,2,20170112,1555,23.7405,131.9817,3510,126.9,126,20.6260,34.9375,2,-999.,9,198.49,2,2.07,2,1.24,2,0.02,2,0.11,2,-999.,9,-999.,9,-999.,9,-999,9,-999,9
49UP20170107,RF17-01,5959,1,24,25833,2,20170112,1554,23.7405,131.9817,3510,152.8,152,19.5786,34.9043,2,-999.,9,197.01,2,2.53,2,2.49,2,0.01,2,0.18,2,-999.,9,-999.,9,-999.,9,-999,9,-999,9
49UP20170107,RF17-01,5959,1,23,25832,2,20170112,1552,23.7405,131.9817,3510,202.6,201,18.4023,34.8208,2,-999.,9,201.08,2,3.21,2,3.70,2,0.01,2,0.25,2,-999.,9,-999.,9,-999.,9,-999,9,-999,9
49UP20170107,RF17-01,5959,1,22,25831,2,20170112,1551,23.7405,131.9817,3510,253.1,251,17.5075,34.7573,2,-999.,9,200.97,2,4.16,2,4.88,2,0.00,2,0.32,2,-999.,9,-999.,9,-999.,9,-999,9,-999,9
49UP20170107,RF17-01,5959,1,21,25830,2,20170112,1549,23.7405,131.9817,3510,304.6,302,16.5904,34.6856,2,-999.,9,198.03,2,5.70,2,6.46,2,0.00,2,0.43,2,-999.,9,-999.,9,-999.,9,-999,9,-999,9
49UP20170107,RF17-01,5959,1,20,25829,2,20170112,1546,23.7405,131.9817,3510,406.0,403,13.6951,34.4662,2,-999.,9,181.91,2,14.53,2,12.46,2,0.00,2,0.86,2,-999.,9,-999.,9,-999.,9,-999,9,-999,9
49UP20170107,RF17-01,5959,1,15,25824,2,20170112,1543,23.7405,131.9817,3510,506.1,502,10.6999,34.2762,2,-999.,9,162.83,2,27.92,2,19.28,2,0.00,2,1.36,2,-999.,9,-999.,9,-999.,9,-999,9,-999,9
49UP20170107,RF17-01,5959,1,19,25828,2,20170112,1544,23.7405,131.9817,3510,507.2,503,10.6386,34.2733,2,-999.,9,162.84,3,28.02,2,19.30,2,0.00,2,1.37,2,-999.,9,-999.,9,-999.,9,-999,9,-999,9
49UP20170107,RF17-01,5959,1,14,25823,2,20170112,1541,23.7405,131.9817,3510,607.5,603,7.7459,34.1493,2,-999.,9,128.32,2,49.80,2,27.65,2,0.00,2,1.98,2,-999.,9,-999.,9,-999.,9,-999,9,-999,9
49UP20170107,RF17-01,5959,1,13,25822,2,20170112,1538,23.7405,131.9817,3510,708.4,703,6.1734,34.1496,2,-999.,9,94.54,6,68.66,6,33.50,6,0.00,6,2.41,6,-999.,9,-999.,9,-999.,9,-999,9,-999,9
49UP20170107,RF17-01,5959,1,12,25821,2,20170112,1536,23.7405,131.9817,3510,808.7,802,5.1095,34.2239,2,-999.,9,69.99,2,87.55,2,37.45,2,0.00,2,2.70,2,-999.,9,-999.,9,-999.,9,-999,9,-999,9
49UP20170107,RF17-01,5959,1,11,25820,2,20170112,1532,23.7405,131.9817,3510,911.0,903,4.2441,34.2986,2,-999.,9,60.33,2,106.34,2,39.49,2,0.00,2,2.83,2,-999.,9,-999.,9,-999.,9,-999,9,-999,9
49UP20170107,RF17-01,5959,1,6,25815,2,20170112,1528,23.7405,131.9817,3510,1013.0,1004,3.7387,34.3755,2,-999.,9,58.78,2,117.88,2,40.30,2,0.00,2,2.89,2,-999.,9,-999.,9,-999.,9,-999,9,-999,9
49UP20170107,RF17-01,5959,1,10,25819,2,20170112,1528,23.7405,131.9817,3510,1015.5,1007,3.7229,34.3779,2,-999.,9,59.26,2,117.98,2,40.33,2,0.00,2,2.89,2,-999.,9,-999.,9,-999.,9,-999,9,-999,9
49UP20170107,RF17-01,5959,1,5,25814,2,20170112,1523,23.7405,131.9817,3510,1214.7,1203,3.0584,34.4737,2,-999.,9,66.93,2,131.43,2,40.52,2,0.00,2,2.89,2,-999.,9,-999.,9,-999.,9,-999,9,-999,9
49UP20170107,RF17-01,5959,1,4,25813,3,20170112,1517,23.7405,131.9817,3510,1417.4,1404,2.5952,34.5311,2,-999.,9,81.88,2,138.68,2,39.95,2,0.00,2,2.84,2,-999.,9,-999.,9,-999.,9,-999,9,-999,9
49UP20170107,RF17-01,5959,1,3,25812,2,20170112,1511,23.7405,131.9817,3510,1619.8,1603,2.2548,34.5731,2,-999.,9,96.43,2,141.99,2,39.22,2,0.00,2,2.77,2,-999.,9,-999.,9,-999.,9,-999,9,-999,9
49UP20170107,RF17-01,5959,1,2,25811,2,20170112,1506,23.7405,131.9817,3510,1822.5,1803,2.0314,34.6053,2,-999.,9,110.52,2,142.63,2,38.46,2,0.00,2,2.71,2,-999.,9,-999.,9,-999.,9,-999,9,-999,9
49UP20170107,RF17-01,5959,1,1,25810,2,20170112,1501,23.7405,131.9817,3510,2024.8,2002,1.8901,34.6258,2,-999.,9,119.59,2,142.47,2,37.90,2,0.00,2,2.67,2,-999.,9,-999.,9,-999.,9,-999,9,-999,9
49UP20170107,RF17-01,5960,1,-999,0,2,20170112,0015,24.0008,130.9942,3310,0.0,0,23.3615,34.9585,2,34.9730,2,212.78,2,1.36,2,0.05,2,0.00,2,0.03,2,1984.7,2,2296.9,2,-999.,9,-999,9,-999,9
49UP20170107,RF17-01,5960,1,36,25845,2,20170112,0038,24.0008,130.9942,3310,11.6,12,23.3695,34.9586,2,34.9601,2,213.64,2,1.32,2,0.01,2,0.00,2,0.01,2,1980.5,2,2296.4,2,-999.,9,-999,9,-999,9
49UP20170107,RF17-01,5960,1,35,25844,2,20170112,0037,24.0008,130.9942,3310,27.0,27,23.3336,34.9571,2,34.9564,2,213.34,2,1.32,2,0.02,2,0.00,2,0.01,2,1985.7,2,2298.4,2,-999.,9,-999,9,-999,9
49UP20170107,RF17-01,5960,1,34,25843,2,20170112,0035,24.0008,130.9942,3310,54.7,54,23.2595,34.9539,2,-999.0000,9,214.67,2,1.32,2,0.01,2,0.00,2,0.01,2,1982.7,2,2295.9,2,-999.,9,-999,9,-999,9
49UP20170107,RF17-01,5960,1,33,25842,2,20170112,0033,24.0008,130.9942,3310,75.5,75,23.2444,34.9532,2,34.9526,2,213.20,6,1.36,6,0.01,6,0.00,6,0.02,6,1984.1,2,2296.5,2,-999.,9,-999,9,-999,9
49UP20170107,RF17-01,5960,1,32,25841,2,20170112,0032,24.0008,130.9942,3310,102.3,102,23.2196,34.9491,2,34.9486,2,212.13,2,1.33,2,0.02,2,0.00,2,0.02,2,1990.8,2,2293.9,2,-999.,9,-999,9,-999,9
49UP20170107,RF17-01,5960,1,31,25840,2,20170112,0031,24.0008,130.9942,3310,127.7,127,21.8731,34.9233,2,34.9238,2,203.05,2,1.84,2,0.89,2,0.06,2,0.09,2,2015.6,2,2293.1,2,-999.,9,-999,9,-999,9
49UP20170107,RF17-01,5960,1,27,25836,2,20170112,0030,24.0008,130.9942,3310,150.1,149,20.1641,34.8993,2,34.8920,2,198.41,2,2.44,2,2.27,2,0.02,2,0.17,2,2030.0,2,2289.8,2,-999.,9,-999,9,-999,9
49UP20170107,RF17-01,5960,1,26,25835,2,20170112,0028,24.0008,130.9942,3310,201.4,200,18.6250,34.8260,2,34.8243,6,196.66,2,3.42,2,3.90,2,0.01,2,0.28,2,2042.4,2,2288.2,2,-999.,9,-999,9,-999,9
49UP20170107,RF17-01,5960,1,25,25834,2,20170112,0026,24.0008,130.9942,3310,252.9,251,17.6579,34.7719,2,-999.0000,9,203.12,2,3.81,2,4.51,2,0.01,2,0.31,2,-999.0,9,-999.0,9,-999.,9,-999,9,-999,9
49UP20170107,RF17-01,5960,1,24,25833,2,20170112,0024,24.0008,130.9942,3310,303.2,301,16.5842,34.6907,2,34.6885,2,201.09,2,5.55,2,6.23,2,0.00,2,0.42,2,-999.0,9,-999.0,9,-999.,9,-999,9,-999,9
49UP20170107,RF17-01,5960,1,22,25831,2,20170112,0022,24.0008,130.9942,3310,404.2,401,13.8278,34.4723,2,34.4622,2,181.04,2,14.66,2,12.60,2,0.00,2,0.88,2,-999.0,9,-999.0,9,-999.,9,-999,9,-999,9
49UP20170107,RF17-01,5960,1,23,25832,2,20170112,0022,24.0008,130.9942,3310,405.0,402,13.7997,34.4719,2,34.4621,2,180.51,2,14.58,2,12.62,2,0.00,2,0.88,2,-999.0,9,-999.0,9,-999.,9,-999,9,-999,9
49UP20170107,RF17-01,5960,1,18,25827,2,20170112,0019,24.0008,130.9942,3310,504.5,501,10.3895,34.2439,2,-999.0000,9,163.47,2,28.89,2,19.90,2,0.00,2,1.42,2,-999.0,9,-999.0,9,-999.,9,-999,9,-999,9
49UP20170107,RF17-01,5960,1,17,25826,2,20170112,0017,24.0008,130.9942,3310,604.8,600,8.1186,34.1443,2,34.1464,2,136.52,2,46.67,2,26.42,2,0.00,2,1.90,2,-999.0,9,-999.0,9,-999.,9,-999,9,-999,9
49UP20170107,RF17-01,5960,1,16,25825,2,20170112,0014,24.0008,130.9942,3310,707.7,702,6.3538,34.1412,2,-999.0000,9,102.23,6,66.81,6,32.48,6,0.00,6,2.35,6,-999.0,9,-999.0,9,-999.,9,-999,9,-999,9
49UP20170107,RF17-01,5960,1,15,25824,2,20170112,0012,24.0008,130.9942,3310,807.1,800,5.2751,34.2013,2,34.2047,2,77.60,2,85.89,2,36.47,2,0.00,2,2.63,2,-999.0,9,-999.0,9,-999.,9,-999,9,-999,9
49UP20170107,RF17-01,5960,1,14,25823,2,20170112,0009,24.0008,130.9942,3310,909.0,901,4.3369,34.3041,2,34.3065,2,62.05,2,105.27,2,39.20,2,0.00,2,2.82,2,-999.0,9,-999.0,9,-999.,9,-999,9,-999,9
49UP20170107,RF17-01,5960,1,13,25822,2,20170112,0009,24.0008,130.9942,3310,909.1,901,4.3364,34.3040,2,34.3074,2,62.13,2,105.13,2,39.20,2,0.00,2,2.83,2,-999.0,9,-999.0,9,-999.,9,-999,9,-999,9
49UP20170107,RF17-01,5960,1,9,25818,2,20170112,0004,24.0008,130.9942,3310,1010.0,1001,3.9056,34.3498,2,34.3516,6,58.86,2,114.43,2,40.04,2,0.00,2,2.88,2,-999.0,9,-999.0,9,-999.,9,-999,9,-999,9
49UP20170107,RF17-01,5960,1,8,25817,2,20170112,2359,24.0008,130.9942,3310,1211.0,1200,3.0410,34.4672,2,34.4700,2,67.24,2,131.73,2,40.51,2,0.00,2,2.89,2,-999.0,9,-999.0,9,-999.,9,-999,9,-999,9
49UP20170107,RF17-01,5960,1,7,25816,2,20170112,2355,24.0008,130.9942,3310,1415.2,1401,2.7031,34.5109,2,34.5129,2,77.01,2,137.23,2,40.16,2,0.00,2,2.86,2,-999.0,9,-999.0,9,-999.,9,-999,9,-999,9
49UP20170107,RF17-01,5960,1,6,25815,2,20170112,2348,24.0008,130.9942,3310,1617.2,1601,2.3733,34.5562,2,34.5560,2,89.77,2,141.19,2,39.58,2,0.00,2,2.81,2,-999.0,9,-999.0,9,-999.,9,-999,9,-999,9
49UP20170107,RF17-01,5960,1,5,25814,2,20170112,2344,24.0008,130.9942,3310,1820.5,1801,2.1064,34.5924,2,34.5922,2,104.16,2,142.90,2,38.81,2,0.00,2,2.75,2,-999.0,9,-999.0,9,-999.,9,-999,9,-999,9
49UP20170107,RF17-01,5960,1,4,25813,2,20170112,2340,24.0008,130.9942,3310,2023.7,2001,1.9660,34.6141,2,34.6140,2,114.48,2,142.67,2,38.26,2,0.00,2,2.70,2,-999.0,9,-999.0,9,-999.,9,-999,9,-999,9
49UP20170107,RF17-01,5961,1,-999,0,2,20170113,0945,24.6453,130.0063,4204,0.0,0,22.9652,34.9040,2,34.9166,2,214.35,2,1.38,2,0.01,2,0.00,2,0.03,2,1980.2,2,2294.4,2,8.0709,2,-999,9,-999,9
49UP20170107,RF17-01,5961,1,36,25845,2,20170113,1010,24.6453,130.0063,4204,11.3,11,22.9652,34.9041,2,-999.0000,9,213.61,2,1.34,2,0.00,2,0.00,2,0.01,2,1982.4,2,2294.1,2,8.0715,2,-999,9,-999,9
49UP20170107,RF17-01,5961,1,35,25844,2,20170113,1010,24.6453,130.0063,4204,25.4,25,22.9262,34.9055,2,-999.0000,9,214.22,2,1.35,2,0.00,2,0.00,2,0.01,2,1985.5,2,2292.0,2,8.0660,2,-999,9,-999,9
49UP20170107,RF17-01,5961,1,34,25843,2,20170113,1008,24.6453,130.0063,4204,51.9,52,22.7694,34.9131,2,-999.0000,9,214.82,2,1.37,2,0.00,2,0.00,2,0.01,2,1982.8,2,2294.7,2,8.0680,2,-999,9,-999,9
49UP20170107,RF17-01,5961,1,33,25842,2,20170113,1007,24.6453,130.0063,4204,77.1,77,22.6061,34.9178,2,-999.0000,9,214.60,6,1.46,6,0.02,6,0.01,6,0.01,6,1986.0,2,2291.9,2,8.0643,2,-999,9,-999,9
49UP20170107,RF17-01,5961,1,32,25841,2,20170113,1006,24.6453,130.0063,4204,101.2,101,22.5032,34.9158,2,-999.0000,9,212.64,2,1.52,2,0.15,2,0.05,2,0.02,2,1990.2,2,2295.0,2,8.0560,2,-999,9,-999,9
49UP20170107,RF17-01,5961,1,31,25840,2,20170113,1005,24.6453,130.0063,4204,127.1,126,22.2521,34.9379,2,-999.0000,9,198.76,2,1.88,2,1.17,2,0.06,2,0.09,2,2010.4,2,2294.9,2,8.0262,2,-999,9,-999,9
49UP20170107,RF17-01,5961,1,27,25836,2,20170113,1004,24.6453,130.0063,4204,152.2,151,20.2711,34.8875,2,-999.0000,9,201.79,2,2.30,2,1.56,2,0.03,2,0.12,2,2022.7,2,2291.9,2,7.9922,2,-999,9,-999,9
49UP20170107,RF17-01,5961,1,26,25835,2,20170113,1002,24.6453,130.0063,4204,203.6,202,18.5715,34.8249,2,-999.0000,9,201.36,2,3.18,2,3.52,2,0.01,2,0.24,2,2034.0,2,2286.5,2,7.9667,2,-999,9,-999,9
49UP20170107,RF17-01,5961,1,25,25834,2,20170113,0959,24.6453,130.0063,4204,252.8,251,17.6274,34.7659,2,-999.0000,9,201.26,2,4.12,2,4.77,2,0.01,2,0.31,2,2040.0,2,2284.1,2,7.9482,2,-999,9,-999,9
49UP20170107,RF17-01,5961,1,23,25832,2,20170113,0957,24.6453,130.0063,4204,302.7,301,16.8276,34.7065,2,-999.0000,9,200.11,2,5.33,2,6.00,2,0.01,2,0.39,2,2048.6,2,2280.6,2,7.9293,2,-999,9,-999,9
49UP20170107,RF17-01,5961,1,24,25833,2,20170113,0957,24.6453,130.0063,4204,304.4,302,16.8076,34.7049,2,-999.0000,9,199.69,2,5.34,2,6.00,2,0.01,2,0.39,2,2047.8,2,2279.1,2,7.9281,2,-999,9,-999,9
49UP20170107,RF17-01,5961,1,22,25831,2,20170113,0954,24.6453,130.0063,4204,405.0,402,14.8520,34.5429,2,-999.0000,9,187.54,2,10.26,2,10.00,2,0.00,2,0.69,2,2078.3,2,2276.8,2,7.8574,2,-999,9,-999,9
49UP20170107,RF17-01,5961,1,18,25827,2,20170113,0950,24.6453,130.0063,4204,506.2,502,11.0082,34.2986,2,-999.0000,9,158.12,2,25.94,2,18.87,2,0.00,2,1.34,2,2139.9,2,2277.0,2,7.7145,2,-999,9,-999,9
49UP20170107,RF17-01,5961,1,17,25826,2,20170113,0947,24.6453,130.0063,4204,607.2,602,8.6509,34.2202,2,-999.0000,9,133.11,2,45.35,2,25.54,2,0.00,2,1.83,2,2191.3,2,2291.3,2,7.6102,2,-999,9,-999,9
49UP20170107,RF17-01,5961,1,16,25825,2,20170113,0942,24.6453,130.0063,4204,706.4,701,6.6454,34.1875,2,-999.0000,9,101.30,2,65.49,2,32.11,2,0.00,2,2.31,2,2245.3,2,2306.9,2,7.5101,2,-999,9,-999,9
49UP20170107,RF17-01,5961,1,15,25824,2,20170113,0939,24.6453,130.0063,4204,808.6,802,5.3167,34.2291,2,-999.0000,9,73.34,2,84.48,2,36.86,2,0.00,2,2.65,2,2287.9,2,2322.0,2,7.4365,2,-999,9,-999,9
49UP20170107,RF17-01,5961,1,14,25823,2,20170113,0939,24.6453,130.0063,4204,808.9,802,5.3166,34.2289,2,-999.0000,9,72.98,2,84.70,2,36.94,2,0.00,2,2.66,2,2289.2,2,2324.4,2,7.4373,2,-999,9,-999,9
49UP20170107,RF17-01,5961,1,13,25822,2,20170113,0935,24.6453,130.0063,4204,908.9,901,4.7173,34.3002,2,-999.0000,9,63.99,2,97.06,2,38.74,2,0.00,2,2.79,2,2307.6,6,2340.3,6,7.4176,2,-999,9,-999,9
49UP20170107,RF17-01,5961,1,9,25818,2,20170113,0932,24.6453,130.0063,4204,1009.3,1000,4.1242,34.3477,2,-999.0000,9,59.99,2,109.72,2,39.78,2,0.00,2,2.85,2,2327.1,2,2356.0,2,7.4125,6,-999,9,-999,9
49UP20170107,RF17-01,5961,1,8,25817,2,20170113,0928,24.6453,130.0063,4204,1210.5,1199,3.2927,34.4424,2,-999.0000,9,63.41,2,127.23,2,40.57,2,0.00,2,2.89,2,2346.5,2,2374.3,2,7.4170,2,-999,9,-999,9
49UP20170107,RF17-01,5961,1,7,25816,2,20170113,0923,24.6453,130.0063,4204,1412.2,1398,2.7604,34.5093,2,-999.0000,9,76.25,2,136.31,2,40.15,2,0.00,2,2.85,2,2358.0,2,2391.3,2,7.4408,2,-999,9,-999,9
49UP20170107,RF17-01,5961,1,6,25815,2,20170113,0918,24.6453,130.0063,4204,1616.5,1600,2.4323,34.5536,2,-999.0000,9,89.39,6,140.49,6,39.53,6,0.00,6,2.80,6,2349.7,2,2398.9,2,7.4683,2,-999,9,-999,9
49UP20170107,RF17-01,5961,1,5,25814,2,20170113,0913,24.6453,130.0063,4204,1819.0,1800,2.1746,34.5871,2,-999.0000,9,102.17,2,142.17,2,38.89,2,0.00,2,2.74,2,2346.6,2,2404.0,2,7.4934,6,-999,9,-999,9
49UP20170107,RF17-01,5961,1,4,25813,2,20170113,0909,24.6453,130.0063,4204,2022.8,2000,2.0056,34.6126,2,-999.0000,9,113.64,2,142.40,2,38.26,2,0.00,2,2.69,2,2341.8,6,2408.9,6,7.5135,2,-999,9,-999,9