BOTTLE,20171117JMAGEMD
EXPOCODE,SECT_ID,STNNBR,CASTNO,SAMPNO,BTLNBR,BTLNBR_FLAG_W,DATE,TIME,LATITUDE,LONGITUDE,DEPTH,CTDPRS,CTDDEP,CTDTMP,CTDSAL,CTDSAL_FLAG_W,SALNTY,SALNTY_FLAG_W,OXYGEN,OXYGEN_FLAG_W,SILCAT,SILCAT_FLAG_W,NO2+NO3,NO2+NO3_FLAG_W,NITRIT,NITRIT_FLAG_W,PHSPHT,PHSPHT_FLAG_W,TCARBN,TCARBN_FLAG_W,ALKALI,ALKALI_FLAG_W,PH_TOT,PH_TOT_FLAG_W,CFC-11,CFC-11_FLAG_W,CFC-12,CFC-12_FLAG_W
,,,,,,,UTC,UTC,,,METER,DBAR,METERS,ITS-90,PSS-78,,PSS-78,,UMOL/KG,,UMOL/KG,,UMOL/KG,,UMOL/KG,,UMOL/KG,,UMOL/KG,,UMOL/KG,,@25DEG-C,,PMOL/KG,,PMOL/KG,
49UP20170107,RF17-01,5955,1,-999,0,2,20170111,0500,24.2327,136.1997,4075,0.0,0,24.8442,35.0489,2,-999.,9,208.30,2,1.18,2,0.01,2,0.00,2,0.01,2,-999.,9,-999.,9,-999.,9,-999,9,-999,9
49UP20170107,RF17-01,5955,1,36,25845,3,20170111,0528,24.2327,136.1997,4075,11.6,12,24.7608,35.0552,2,-999.,9,207.50,2,1.18,2,0.00,2,0.00,2,0.01,2,-999.,9,-999.,9,-999.,9,-999,9,-999,9
49UP20170107,RF17-01,5955,1,35,25844,2,20170111,0527,24.2327,136.1997,4075,27.9,28,24.6785,35.0598,2,-999.,9,208.16,2,1.20,2,0.00,2,0.00,2,0.01,2,-999.,9,-999.,9,-999.,9,-999,9,-999,9
49UP20170107,RF17-01,5955,1,34,25843,2,20170111,0525,24.2327,136.1997,4075,50.9,51,24.6351,35.0584,2,-999.,9,208.03,2,1.19,2,0.00,2,0.00,2,0.01,2,-999.,9,-999.,9,-999.,9,-999,9,-999,9
49UP20170107,RF17-01,5955,1,30,25839,2,20170111,0524,24.2327,136.1997,4075,77.0,76,24.2708,35.0435,2,-999.,9,210.02,2,1.27,2,0.00,2,0.00,2,0.01,2,-999.,9,-999.,9,-999.,9,-999,9,-999,9
49UP20170107,RF17-01,5955,1,29,25838,2,20170111,0521,24.2327,136.1997,4075,102.6,102,23.9471,35.0689,2,-999.,9,210.37,2,1.36,2,0.00,2,0.00,2,0.01,2,-999.,9,-999.,9,-999.,9,-999,9,-999,9
49UP20170107,RF17-01,5955,1,28,25837,2,20170111,0520,24.2327,136.1997,4075,122.2,121,22.0964,35.0054,2,-999.,9,199.94,2,1.66,2,0.52,2,0.07,2,0.06,2,-999.,9,-999.,9,-999.,9,-999,9,-999,9
49UP20170107,RF17-01,5955,1,27,25836,2,20170111,0518,24.2327,136.1997,4075,153.1,152,19.8250,34.8966,2,-999.,9,208.58,2,2.22,2,1.06,2,0.03,2,0.10,2,-999.,9,-999.,9,-999.,9,-999,9,-999,9
49UP20170107,RF17-01,5955,1,26,25835,2,20170111,0517,24.2327,136.1997,4075,201.2,200,18.4014,34.8291,2,-999.,9,208.80,2,2.86,2,2.88,2,0.01,2,0.20,2,-999.,9,-999.,9,-999.,9,-999,9,-999,9
49UP20170107,RF17-01,5955,1,25,25834,2,20170111,0515,24.2327,136.1997,4075,253.3,252,17.6946,34.7812,2,-999.,9,206.91,6,3.65,6,4.11,6,0.01,6,0.27,6,-999.,9,-999.,9,-999.,9,-999,9,-999,9
49UP20170107,RF17-01,5955,1,21,25830,2,20170111,0513,24.2327,136.1997,4075,304.8,303,16.8361,34.7192,2,-999.,9,206.88,2,4.63,2,5.24,2,0.01,2,0.34,2,-999.,9,-999.,9,-999.,9,-999,9,-999,9
49UP20170107,RF17-01,5955,1,20,25829,2,20170111,0510,24.2327,136.1997,4075,405.1,402,14.8847,34.5575,2,-999.,9,197.30,2,9.71,2,9.13,2,0.01,2,0.62,2,-999.,9,-999.,9,-999.,9,-999,9,-999,9
49UP20170107,RF17-01,5955,1,19,25828,2,20170111,0507,24.2327,136.1997,4075,508.1,504,12.1080,34.3452,2,-999.,9,181.63,2,19.27,2,15.09,2,0.00,2,1.05,2,-999.,9,-999.,9,-999.,9,-999,9,-999,9
49UP20170107,RF17-01,5955,1,18,25827,2,20170111,0504,24.2327,136.1997,4075,607.0,602,9.1125,34.1696,2,-999.,9,154.10,2,35.55,2,22.81,2,0.00,2,1.63,2,-999.,9,-999.,9,-999.,9,-999,9,-999,9
49UP20170107,RF17-01,5955,1,17,25826,2,20170111,0501,24.2327,136.1997,4075,706.9,701,6.6728,34.1228,2,-999.,9,109.15,2,61.06,2,31.37,2,0.00,2,2.26,2,-999.,9,-999.,9,-999.,9,-999,9,-999,9
49UP20170107,RF17-01,5955,1,12,25821,2,20170111,0458,24.2327,136.1997,4075,808.6,802,5.6902,34.1626,2,-999.,9,84.41,2,76.67,2,35.30,2,0.00,2,2.55,2,-999.,9,-999.,9,-999.,9,-999,9,-999,9
49UP20170107,RF17-01,5955,1,16,25825,2,20170111,0458,24.2327,136.1997,4075,809.0,802,5.6897,34.1629,2,-999.,9,84.19,2,76.69,2,35.30,2,0.00,2,2.55,2,-999.,9,-999.,9,-999.,9,-999,9,-999,9
49UP20170107,RF17-01,5955,1,11,25820,3,20170111,0454,24.2327,136.1997,4075,909.7,902,4.9841,34.2324,2,-999.,9,68.58,2,90.96,2,37.79,2,0.00,2,2.72,2,-999.,9,-999.,9,-999.,9,-999,9,-999,9
49UP20170107,RF17-01,5955,1,10,25819,2,20170111,0451,24.2327,136.1997,4075,1009.6,1001,4.1383,34.3164,2,-999.,9,57.78,2,109.70,2,39.98,2,0.00,2,2.87,2,-999.,9,-999.,9,-999.,9,-999,9,-999,9
49UP20170107,RF17-01,5955,1,9,25818,2,20170111,0446,24.2327,136.1997,4075,1213.6,1202,3.3132,34.4173,2,-999.,9,57.03,2,128.30,2,41.01,2,0.00,2,2.93,2,-999.,9,-999.,9,-999.,9,-999,9,-999,9
49UP20170107,RF17-01,5955,1,8,25817,2,20170111,0442,24.2327,136.1997,4075,1414.1,1400,2.7659,34.4882,2,-999.,9,65.99,2,139.88,2,41.04,2,0.00,2,2.92,2,-999.,9,-999.,9,-999.,9,-999,9,-999,9
49UP20170107,RF17-01,5955,1,6,25815,2,20170111,0434,24.2327,136.1997,4075,1618.0,1601,2.4396,34.5544,2,-999.,9,88.81,2,141.03,2,39.62,2,0.00,2,2.81,2,-999.,9,-999.,9,-999.,9,-999,9,-999,9
49UP20170107,RF17-01,5955,1,7,25816,2,20170111,0435,24.2327,136.1997,4075,1619.2,1603,2.4309,34.5539,2,-999.,9,88.71,2,140.99,2,39.59,2,0.00,2,2.81,2,-999.,9,-999.,9,-999.,9,-999,9,-999,9
49UP20170107,RF17-01,5955,1,5,25814,2,20170111,0430,24.2327,136.1997,4075,1822.4,1803,2.1899,34.5893,2,-999.,9,102.67,6,142.22,6,38.91,6,0.00,6,2.75,6,-999.,9,-999.,9,-999.,9,-999,9,-999,9
49UP20170107,RF17-01,5955,1,4,25813,2,20170111,0423,24.2327,136.1997,4075,2026.0,2003,2.0053,34.6130,2,-999.,9,112.92,2,143.05,2,38.39,2,0.00,2,2.70,2,-999.,9,-999.,9,-999.,9,-999,9,-999,9
49UP20170107,RF17-01,5956,1,-999,0,2,20170111,1234,24.249,135.0082,5136,0.0,0,25.4330,35.0436,2,35.0676,2,205.85,2,0.91,2,0.05,2,0.00,2,0.02,2,1971.1,2,2303.2,2,8.0923,2,-999,9,-999,9
49UP20170107,RF17-01,5956,1,36,25845,2,20170111,1259,24.249,135.0082,5136,11.8,12,25.4360,35.0429,2,-999.0000,9,205.38,2,0.83,2,0.00,2,0.00,2,0.01,2,1971.9,2,2304.3,2,8.0968,2,-999,9,-999,9
49UP20170107,RF17-01,5956,1,35,25844,2,20170111,1258,24.249,135.0082,5136,27.3,27,25.4398,35.0411,2,-999.0000,9,205.59,2,0.87,2,0.00,2,0.00,2,0.01,2,1971.4,2,2302.1,2,8.0978,2,-999,9,-999,9
49UP20170107,RF17-01,5956,1,34,25843,2,20170111,1255,24.249,135.0082,5136,50.6,50,24.8518,34.9870,2,-999.0000,9,207.12,2,0.99,2,0.02,2,0.00,2,0.01,2,1979.5,2,2298.9,2,8.0835,2,-999,9,-999,9
49UP20170107,RF17-01,5956,1,30,25839,2,20170111,1254,24.249,135.0082,5136,75.4,75,24.7501,34.9895,2,-999.0000,9,206.91,2,0.99,2,0.00,2,0.00,2,0.01,2,1980.4,2,2298.8,2,8.0861,2,-999,9,-999,9
49UP20170107,RF17-01,5956,1,29,25838,2,20170111,1253,24.249,135.0082,5136,100.2,100,24.1836,34.9641,2,-999.0000,9,207.47,2,1.12,2,0.02,2,0.01,2,0.01,2,1985.0,2,2297.7,2,8.0735,2,-999,9,-999,9
49UP20170107,RF17-01,5956,1,28,25837,2,20170111,1251,24.249,135.0082,5136,128.6,128,21.7668,34.9506,2,-999.0000,9,204.92,2,1.53,2,0.32,2,0.09,2,0.04,2,2015.2,2,2294.6,2,8.0197,2,-999,9,-999,9
49UP20170107,RF17-01,5956,1,27,25836,2,20170111,1250,24.249,135.0082,5136,152.2,151,20.3555,34.9333,2,-999.0000,9,198.35,2,1.87,2,1.52,2,0.02,2,0.12,2,2027.1,2,2295.0,2,7.9900,2,-999,9,-999,9
49UP20170107,RF17-01,5956,1,26,25835,2,20170111,1248,24.249,135.0082,5136,200.0,199,19.2853,34.8983,2,-999.0000,9,194.40,6,2.53,6,3.07,6,0.01,6,0.22,6,2040.9,2,2290.2,2,7.9651,2,-999,9,-999,9
49UP20170107,RF17-01,5956,1,25,25834,2,20170111,1246,24.249,135.0082,5136,252.7,251,17.7660,34.7913,2,-999.0000,9,195.29,2,3.85,2,4.86,2,0.00,2,0.34,2,2054.2,2,2285.8,2,7.9295,2,-999,9,-999,9
49UP20170107,RF17-01,5956,1,21,25830,2,20170111,1244,24.249,135.0082,5136,302.9,301,16.7982,34.7074,2,-999.0000,9,195.43,2,4.93,2,6.04,2,0.00,2,0.42,2,2058.9,2,2281.2,2,7.9152,2,-999,9,-999,9
49UP20170107,RF17-01,5956,1,20,25829,2,20170111,1242,24.249,135.0082,5136,405.0,402,14.4601,34.5141,2,-999.0000,9,188.12,2,11.06,2,10.60,2,0.00,2,0.72,2,2081.3,2,2274.7,2,7.8504,2,-999,9,-999,9
49UP20170107,RF17-01,5956,1,19,25828,2,20170111,1239,24.249,135.0082,5136,504.8,501,11.9062,34.3318,2,-999.0000,9,177.93,2,20.10,2,15.83,2,0.00,2,1.11,2,2116.5,2,2272.8,2,7.7583,2,-999,9,-999,9
49UP20170107,RF17-01,5956,1,18,25827,2,20170111,1236,24.249,135.0082,5136,606.0,601,8.7613,34.1672,2,-999.0000,9,148.06,2,39.73,2,24.03,2,0.00,2,1.72,2,2179.7,2,2281.9,2,7.6312,2,-999,9,-999,9
49UP20170107,RF17-01,5956,1,16,25825,2,20170111,1233,24.249,135.0082,5136,705.8,700,6.5133,34.1265,2,-999.0000,9,111.89,2,64.40,2,31.34,2,0.00,2,2.26,2,2238.5,2,2300.8,2,7.5195,2,-999,9,-999,9
49UP20170107,RF17-01,5956,1,17,25826,2,20170111,1234,24.249,135.0082,5136,706.4,701,6.4950,34.1270,2,-999.0000,9,112.21,2,64.41,2,31.30,2,0.00,2,2.25,2,2239.0,2,2301.7,2,7.5204,2,-999,9,-999,9
49UP20170107,RF17-01,5956,1,12,25821,2,20170111,1231,24.249,135.0082,5136,808.2,801,5.1606,34.1733,2,-999.0000,9,82.31,2,86.43,2,36.14,2,0.00,2,2.60,2,2282.7,6,2321.9,6,7.4450,2,-999,9,-999,9
49UP20170107,RF17-01,5956,1,11,25820,2,20170111,1228,24.249,135.0082,5136,909.1,901,4.3682,34.2637,2,-999.0000,9,63.38,2,103.34,2,38.93,2,0.00,2,2.79,2,2315.7,2,2341.8,2,7.4091,6,-999,9,-999,9
49UP20170107,RF17-01,5956,1,10,25819,2,20170111,1220,24.249,135.0082,5136,1010.1,1001,3.7916,34.3421,2,-999.0000,9,56.56,2,116.85,2,40.40,2,0.00,2,2.90,2,2336.6,2,2360.7,2,7.3969,2,-999,9,-999,9
49UP20170107,RF17-01,5956,1,9,25818,2,20170111,1216,24.249,135.0082,5136,1212.9,1202,3.0934,34.4423,2,-999.0000,9,59.79,2,131.95,2,41.03,2,0.00,2,2.93,2,2355.0,2,2380.1,2,7.4089,2,-999,9,-999,9
49UP20170107,RF17-01,5956,1,7,25816,2,20170111,1211,24.249,135.0082,5136,1414.6,1401,2.7227,34.5113,2,-999.0000,9,74.71,2,137.14,2,40.32,2,0.00,2,2.87,2,2353.1,2,2391.9,2,7.4409,2,-999,9,-999,9
49UP20170107,RF17-01,5956,1,8,25817,2,20170111,1211,24.249,135.0082,5136,1415.6,1402,2.7237,34.5109,2,-999.0000,9,75.88,4,137.00,2,40.31,2,0.00,2,2.86,2,2352.4,2,2392.0,2,7.4403,2,-999,9,-999,9
49UP20170107,RF17-01,5956,1,6,25815,2,20170111,1202,24.249,135.0082,5136,1618.3,1602,2.3892,34.5519,2,-999.0000,9,86.80,2,141.63,2,39.81,2,0.00,2,2.82,2,2352.5,2,2399.7,2,7.4625,6,-999,9,-999,9
49UP20170107,RF17-01,5956,1,5,25814,2,20170111,1158,24.249,135.0082,5136,1819.3,1800,2.1900,34.5867,2,-999.0000,9,102.00,2,141.45,2,38.88,2,0.00,2,2.75,2,2347.2,6,2404.8,6,7.4942,2,-999,9,-999,9
49UP20170107,RF17-01,5956,1,4,25813,2,20170111,1153,24.249,135.0082,5136,2025.1,2002,1.9796,34.6134,2,-999.0000,9,114.14,6,142.45,6,38.25,6,0.00,6,2.69,6,2349.0,2,2409.4,2,7.5127,2,-999,9,-999,9
49UP20170107,RF17-01,5957,1,-999,0,2,20170111,2337,24.2435,134.0212,4913,0.0,0,24.5211,35.0124,2,-999.0000,9,209.35,2,1.22,2,0.01,2,0.00,2,0.02,2,-999.,9,-999.,9,-999.,9,-999,9,-999,9
49UP20170107,RF17-01,5957,1,36,25845,2,20170111,0001,24.2435,134.0212,4913,12.1,12,24.5190,35.0115,2,35.0119,2,208.86,2,1.22,2,0.00,2,0.00,2,0.01,2,-999.,9,-999.,9,-999.,9,-999,9,-999,9
49UP20170107,RF17-01,5957,1,35,25844,2,20170111,0000,24.2435,134.0212,4913,26.4,26,24.5085,35.0089,2,-999.0000,9,209.09,2,1.26,2,0.01,2,0.00,2,0.01,2,-999.,9,-999.,9,-999.,9,-999,9,-999,9
49UP20170107,RF17-01,5957,1,34,25843,2,20170111,2357,24.2435,134.0212,4913,49.8,49,24.4325,34.9989,2,34.9995,2,209.55,2,1.22,2,0.00,2,0.00,2,0.01,2,-999.,9,-999.,9,-999.,9,-999,9,-999,9
49UP20170107,RF17-01,5957,1,33,25842,2,20170111,2355,24.2435,134.0212,4913,75.8,75,24.4258,34.9992,2,-999.0000,9,209.51,2,1.26,2,0.00,2,0.00,2,0.01,2,-999.,9,-999.,9,-999.,9,-999,9,-999,9
49UP20170107,RF17-01,5957,1,32,25841,2,20170111,2354,24.2435,134.0212,4913,102.5,102,24.0777,34.9812,2,34.9825,2,209.01,2,1.37,2,0.00,2,0.00,2,0.01,2,-999.,9,-999.,9,-999.,9,-999,9,-999,9
49UP20170107,RF17-01,5957,1,31,25840,2,20170111,2353,24.2435,134.0212,4913,126.2,125,21.2454,34.9408,2,34.9421,2,204.49,2,1.93,2,0.51,2,0.09,2,0.07,2,-999.,9,-999.,9,-999.,9,-999,9,-999,9
49UP20170107,RF17-01,5957,1,30,25839,2,20170111,2351,24.2435,134.0212,4913,151.9,151,19.8175,34.8994,2,34.9003,2,199.03,6,2.40,6,2.04,6,0.02,6,0.16,6,-999.,9,-999.,9,-999.,9,-999,9,-999,9
49UP20170107,RF17-01,5957,1,29,25838,2,20170111,2350,24.2435,134.0212,4913,201.4,200,18.9293,34.8659,2,34.8641,6,196.21,2,2.96,2,3.39,2,0.01,2,0.24,2,-999.,9,-999.,9,-999.,9,-999,9,-999,9
49UP20170107,RF17-01,5957,1,27,25836,2,20170111,2348,24.2435,134.0212,4913,251.6,250,17.7163,34.7751,2,34.7737,2,198.95,2,3.79,2,4.63,2,0.01,2,0.31,2,-999.,9,-999.,9,-999.,9,-999,9,-999,9
49UP20170107,RF17-01,5957,1,28,25837,2,20170111,2348,24.2435,134.0212,4913,252.8,251,17.6848,34.7741,2,34.7755,2,199.09,2,3.84,2,4.62,2,0.01,2,0.31,2,-999.,9,-999.,9,-999.,9,-999,9,-999,9
49UP20170107,RF17-01,5957,1,26,25835,2,20170111,2346,24.2435,134.0212,4913,305.4,303,16.3259,34.6658,2,-999.0000,9,199.16,2,5.64,2,6.41,2,0.00,2,0.43,2,-999.,9,-999.,9,-999.,9,-999,9,-999,9
49UP20170107,RF17-01,5957,1,25,25834,2,20170111,2343,24.2435,134.0212,4913,402.3,399,13.8976,34.4731,2,34.4729,2,185.61,2,13.19,2,11.77,2,0.00,2,0.80,2,-999.,9,-999.,9,-999.,9,-999,9,-999,9
49UP20170107,RF17-01,5957,1,24,25833,2,20170111,2341,24.2435,134.0212,4913,503.8,500,10.8850,34.2807,2,34.2831,2,168.53,2,26.71,2,18.45,2,0.00,2,1.29,2,-999.,9,-999.,9,-999.,9,-999,9,-999,9
49UP20170107,RF17-01,5957,1,23,25832,2,20170111,2338,24.2435,134.0212,4913,606.0,601,7.9733,34.1547,2,34.1554,2,134.95,2,48.23,2,26.52,2,0.00,2,1.90,2,-999.,9,-999.,9,-999.,9,-999,9,-999,9
49UP20170107,RF17-01,5957,1,22,25831,2,20170111,2336,24.2435,134.0212,4913,706.7,701,5.9785,34.1468,2,-999.0000,9,100.17,2,72.63,2,33.17,2,0.00,2,2.39,2,-999.,9,-999.,9,-999.,9,-999,9,-999,9
49UP20170107,RF17-01,5957,1,21,25830,2,20170111,2333,24.2435,134.0212,4913,808.2,801,5.1750,34.1934,2,34.1956,2,78.84,6,86.70,6,36.37,6,0.00,6,2.62,6,-999.,9,-999.,9,-999.,9,-999,9,-999,9
49UP20170107,RF17-01,5957,1,20,25829,2,20170111,2330,24.2435,134.0212,4913,908.1,900,4.5224,34.2612,2,34.2620,2,64.12,2,100.31,2,38.66,2,0.00,2,2.78,2,-999.,9,-999.,9,-999.,9,-999,9,-999,9
49UP20170107,RF17-01,5957,1,19,25828,2,20170111,2324,24.2435,134.0212,4913,1010.7,1002,3.9708,34.3320,2,34.3323,6,57.44,2,112.62,2,40.00,2,0.00,2,2.87,2,-999.,9,-999.,9,-999.,9,-999,9,-999,9
49UP20170107,RF17-01,5957,1,18,25827,2,20170111,2320,24.2435,134.0212,4913,1212.6,1201,3.2176,34.4531,2,34.4509,2,63.40,2,128.31,2,40.44,2,0.00,2,2.89,2,-999.,9,-999.,9,-999.,9,-999,9,-999,9
49UP20170107,RF17-01,5957,1,17,25826,2,20170111,2315,24.2435,134.0212,4913,1414.7,1401,2.7614,34.5177,2,34.5191,2,78.54,2,135.73,2,39.87,2,0.00,2,2.84,2,-999.,9,-999.,9,-999.,9,-999,9,-999,9
49UP20170107,RF17-01,5957,1,16,25825,2,20170111,2307,24.2435,134.0212,4913,1618.7,1602,2.3931,34.5617,2,34.5623,2,92.36,2,140.15,2,39.23,2,0.00,2,2.78,2,-999.,9,-999.,9,-999.,9,-999,9,-999,9
49UP20170107,RF17-01,5957,1,15,25824,2,20170111,2302,24.2435,134.0212,4913,1820.8,1801,2.1206,34.5943,2,34.5934,2,104.97,2,142.10,2,38.62,2,0.00,2,2.73,2,-999.,9,-999.,9,-999.,9,-999,9,-999,9
49UP20170107,RF17-01,5957,1,14,25823,2,20170111,2258,24.2435,134.0212,4913,2023.8,2001,1.9622,34.6140,2,34.6135,2,114.23,2,142.79,2,38.10,2,0.00,2,2.68,2,-999.,9,-999.,9,-999.,9,-999,9,-999,9
49UP20170107,RF17-01,5957,1,13,25822,2,20170111,2250,24.2435,134.0212,4913,2277.5,2251,1.8212,34.6333,2,34.6326,2,124.31,2,142.77,2,37.58,2,0.00,2,2.63,2,-999.,9,-999.,9,-999.,9,-999,9,-999,9
49UP20170107,RF17-01,5957,1,12,25821,2,20170111,2244,24.2435,134.0212,4913,2531.8,2501,1.7038,34.6491,2,34.6491,6,132.84,2,142.71,2,37.06,2,0.00,2,2.59,2,-999.,9,-999.,9,-999.,9,-999,9,-999,9
49UP20170107,RF17-01,5957,1,11,25820,2,20170111,2238,24.2435,134.0212,4913,2786.9,2751,1.6303,34.6594,2,34.6589,2,139.11,2,142.39,2,36.69,2,0.00,2,2.57,2,-999.,9,-999.,9,-999.,9,-999,9,-999,9
49UP20170107,RF17-01,5957,1,10,25819,2,20170111,2232,24.2435,134.0212,4913,3043.2,3002,1.5843,34.6665,2,34.6663,2,143.76,2,142.03,2,36.40,2,0.00,2,2.54,2,-999.,9,-999.,9,-999.,9,-999,9,-999,9
49UP20170107,RF17-01,5957,1,9,25818,2,20170111,2232,24.2435,134.0212,4913,3043.7,3003,1.5841,34.6665,2,34.6665,2,143.38,2,141.90,2,36.42,2,0.00,2,2.54,2,-999.,9,-999.,9,-999.,9,-999,9,-999,9
49UP20170107,RF17-01,5957,1,8,25817,2,20170111,2226,24.2435,134.0212,4913,3297.5,3251,1.5581,34.6719,2,34.6735,4,147.76,6,141.48,6,36.16,6,0.00,6,2.52,6,-999.,9,-999.,9,-999.,9,-999,9,-999,9
49UP20170107,RF17-01,5957,1,7,25816,2,20170111,2220,24.2435,134.0212,4913,3554.3,3502,1.5457,34.6759,2,34.6761,6,150.06,2,141.32,2,36.03,2,0.00,2,2.51,2,-999.,9,-999.,9,-999.,9,-999,9,-999,9
49UP20170107,RF17-01,5957,1,6,25815,2,20170111,2214,24.2435,134.0212,4913,3809.0,3751,1.5407,34.6790,2,34.6806,4,153.00,2,141.09,2,35.86,2,0.00,2,2.49,2,-999.,9,-999.,9,-999.,9,-999,9,-999,9
49UP20170107,RF17-01,5957,1,5,25814,2,20170111,2208,24.2435,134.0212,4913,4064.2,4000,1.5491,34.6807,2,34.6827,4,154.19,2,140.86,2,35.79,2,0.00,2,2.49,2,-999.,9,-999.,9,-999.,9,-999,9,-999,9
49UP20170107,RF17-01,5957,1,4,25813,2,20170111,2203,24.2435,134.0212,4913,4320.5,4250,1.5690,34.6815,2,34.6854,4,155.42,2,140.59,2,35.75,2,0.00,2,2.49,2,-999.,9,-999.,9,-999.,9,-999,9,-999,9
49UP20170107,RF17-01,5957,1,3,25812,2,20170111,2157,24.2435,134.0212,4913,4577.8,4500,1.5942,34.6821,2,34.6818,2,155.16,6,140.40,6,35.75,6,0.00,6,2.49,6,-999.,9,-999.,9,-999.,9,-999,9,-999,9
49UP20170107,RF17-01,5957,1,2,25811,2,20170111,2151,24.2435,134.0212,4913,4836.8,4752,1.6225,34.6824,2,34.6819,2,155.77,2,140.50,2,35.73,2,0.00,2,2.49,2,-999.,9,-999.,9,-999.,9,-999,9,-999,9
49UP20170107,RF17-01,5957,1,1,25810,2,20170111,2147,24.2435,134.0212,4913,4999.4,4910,1.6416,34.6826,2,34.6824,2,155.99,2,140.51,2,35.71,2,0.00,2,2.48,2,-999.,9,-999.,9,-999.,9,-999,9,-999,9