BOTTLE,20171117JMAGEMD
EXPOCODE,SECT_ID,STNNBR,CASTNO,SAMPNO,BTLNBR,BTLNBR_FLAG_W,DATE,TIME,LATITUDE,LONGITUDE,DEPTH,CTDPRS,CTDDEP,CTDTMP,CTDSAL,CTDSAL_FLAG_W,SALNTY,SALNTY_FLAG_W,OXYGEN,OXYGEN_FLAG_W,SILCAT,SILCAT_FLAG_W,NO2+NO3,NO2+NO3_FLAG_W,NITRIT,NITRIT_FLAG_W,PHSPHT,PHSPHT_FLAG_W,TCARBN,TCARBN_FLAG_W,ALKALI,ALKALI_FLAG_W,PH_TOT,PH_TOT_FLAG_W,CFC-11,CFC-11_FLAG_W,CFC-12,CFC-12_FLAG_W
,,,,,,,UTC,UTC,,,METER,DBAR,METERS,ITS-90,PSS-78,,PSS-78,,UMOL/KG,,UMOL/KG,,UMOL/KG,,UMOL/KG,,UMOL/KG,,UMOL/KG,,UMOL/KG,,@25DEG-C,,PMOL/KG,,PMOL/KG,
49UP20170107,RF17-01,5962,1,-999,0,2,20170113,1438,24.9837,129.5102,4239,0.0,0,23.3921,34.9210,2,-999.,9,210.43,2,-999.,9,-999.,9,-999.,9,-999.,9,-999.,9,-999.,9,-999.,9,-999,9,-999,9
49UP20170107,RF17-01,5962,1,36,25845,2,20170113,1506,24.9837,129.5102,4239,11.4,11,23.4027,34.9206,2,-999.,9,209.95,2,-999.,9,-999.,9,-999.,9,-999.,9,-999.,9,-999.,9,-999.,9,-999,9,-999,9
49UP20170107,RF17-01,5962,1,35,25844,2,20170113,1505,24.9837,129.5102,4239,27.1,27,23.3816,34.9212,2,-999.,9,210.22,2,-999.,9,-999.,9,-999.,9,-999.,9,-999.,9,-999.,9,-999.,9,-999,9,-999,9
49UP20170107,RF17-01,5962,1,34,25843,2,20170113,1503,24.9837,129.5102,4239,52.0,52,23.4011,34.9200,2,-999.,9,210.04,6,-999.,9,-999.,9,-999.,9,-999.,9,-999.,9,-999.,9,-999.,9,-999,9,-999,9
49UP20170107,RF17-01,5962,1,33,25842,2,20170113,1502,24.9837,129.5102,4239,77.0,76,23.4088,34.9198,2,-999.,9,210.14,2,-999.,9,-999.,9,-999.,9,-999.,9,-999.,9,-999.,9,-999.,9,-999,9,-999,9
49UP20170107,RF17-01,5962,1,32,25841,2,20170113,1459,24.9837,129.5102,4239,103.1,102,23.4071,34.9204,2,-999.,9,210.13,2,-999.,9,-999.,9,-999.,9,-999.,9,-999.,9,-999.,9,-999.,9,-999,9,-999,9
49UP20170107,RF17-01,5962,1,31,25840,2,20170113,1458,24.9837,129.5102,4239,128.8,128,23.4125,34.9194,2,-999.,9,209.77,2,-999.,9,-999.,9,-999.,9,-999.,9,-999.,9,-999.,9,-999.,9,-999,9,-999,9
49UP20170107,RF17-01,5962,1,27,25836,2,20170113,1457,24.9837,129.5102,4239,152.5,151,22.1608,34.9313,2,-999.,9,190.33,2,-999.,9,-999.,9,-999.,9,-999.,9,-999.,9,-999.,9,-999.,9,-999,9,-999,9
49UP20170107,RF17-01,5962,1,26,25835,2,20170113,1455,24.9837,129.5102,4239,202.4,201,20.0602,34.9013,2,-999.,9,191.10,2,-999.,9,-999.,9,-999.,9,-999.,9,-999.,9,-999.,9,-999.,9,-999,9,-999,9
49UP20170107,RF17-01,5962,1,24,25833,2,20170113,1453,24.9837,129.5102,4239,254.2,252,18.3990,34.8096,2,-999.,9,194.79,2,-999.,9,-999.,9,-999.,9,-999.,9,-999.,9,-999.,9,-999.,9,-999,9,-999,9
49UP20170107,RF17-01,5962,1,25,25834,2,20170113,1453,24.9837,129.5102,4239,254.9,253,18.3918,34.8094,2,-999.,9,195.12,2,-999.,9,-999.,9,-999.,9,-999.,9,-999.,9,-999.,9,-999.,9,-999,9,-999,9
49UP20170107,RF17-01,5962,1,23,25832,2,20170113,1451,24.9837,129.5102,4239,305.3,303,17.1522,34.7286,2,-999.,9,199.27,2,-999.,9,-999.,9,-999.,9,-999.,9,-999.,9,-999.,9,-999.,9,-999,9,-999,9
49UP20170107,RF17-01,5962,1,22,25831,2,20170113,1448,24.9837,129.5102,4239,406.2,403,14.3958,34.5141,2,-999.,9,182.55,2,-999.,9,-999.,9,-999.,9,-999.,9,-999.,9,-999.,9,-999.,9,-999,9,-999,9
49UP20170107,RF17-01,5962,1,18,25827,2,20170113,1445,24.9837,129.5102,4239,507.3,503,11.8029,34.3334,2,-999.,9,168.81,2,-999.,9,-999.,9,-999.,9,-999.,9,-999.,9,-999.,9,-999.,9,-999,9,-999,9
49UP20170107,RF17-01,5962,1,17,25826,2,20170113,1441,24.9837,129.5102,4239,608.6,604,8.7690,34.1912,2,-999.,9,147.17,2,-999.,9,-999.,9,-999.,9,-999.,9,-999.,9,-999.,9,-999.,9,-999,9,-999,9
49UP20170107,RF17-01,5962,1,16,25825,2,20170113,1438,24.9837,129.5102,4239,707.6,702,6.5934,34.1596,2,-999.,9,100.39,2,-999.,9,-999.,9,-999.,9,-999.,9,-999.,9,-999.,9,-999.,9,-999,9,-999,9
49UP20170107,RF17-01,5962,1,15,25824,2,20170113,1432,24.9837,129.5102,4239,809.3,803,5.4992,34.2171,2,-999.,9,76.13,2,-999.,9,-999.,9,-999.,9,-999.,9,-999.,9,-999.,9,-999.,9,-999,9,-999,9
49UP20170107,RF17-01,5962,1,14,25823,2,20170113,1430,24.9837,129.5102,4239,909.3,901,4.7736,34.2853,2,-999.,9,61.79,2,-999.,9,-999.,9,-999.,9,-999.,9,-999.,9,-999.,9,-999.,9,-999,9,-999,9
49UP20170107,RF17-01,5962,1,13,25822,2,20170113,1427,24.9837,129.5102,4239,1007.5,999,4.3866,34.3503,2,-999.,9,64.20,2,-999.,9,-999.,9,-999.,9,-999.,9,-999.,9,-999.,9,-999.,9,-999,9,-999,9
49UP20170107,RF17-01,5962,1,9,25818,2,20170113,1423,24.9837,129.5102,4239,1209.1,1198,3.3982,34.4422,2,-999.,9,65.13,2,-999.,9,-999.,9,-999.,9,-999.,9,-999.,9,-999.,9,-999.,9,-999,9,-999,9
49UP20170107,RF17-01,5962,1,8,25817,2,20170113,1416,24.9837,129.5102,4239,1413.1,1399,2.8029,34.5143,2,-999.,9,78.45,2,-999.,9,-999.,9,-999.,9,-999.,9,-999.,9,-999.,9,-999.,9,-999,9,-999,9
49UP20170107,RF17-01,5962,1,7,25816,2,20170113,1411,24.9837,129.5102,4239,1615.5,1599,2.4051,34.5553,2,-999.,9,89.80,2,-999.,9,-999.,9,-999.,9,-999.,9,-999.,9,-999.,9,-999.,9,-999,9,-999,9
49UP20170107,RF17-01,5962,1,6,25815,2,20170113,1407,24.9837,129.5102,4239,1819.2,1800,2.1848,34.5838,2,-999.,9,100.66,6,-999.,9,-999.,9,-999.,9,-999.,9,-999.,9,-999.,9,-999.,9,-999,9,-999,9
49UP20170107,RF17-01,5962,1,5,25814,2,20170113,1400,24.9837,129.5102,4239,2024.0,2001,1.9931,34.6118,2,-999.,9,113.40,2,-999.,9,-999.,9,-999.,9,-999.,9,-999.,9,-999.,9,-999.,9,-999,9,-999,9
49UP20170107,RF17-01,5962,1,4,25813,2,20170113,1400,24.9837,129.5102,4239,2024.2,2002,1.9939,34.6116,2,-999.,9,113.36,2,-999.,9,-999.,9,-999.,9,-999.,9,-999.,9,-999.,9,-999.,9,-999,9,-999,9
49UP20170107,RF17-01,5963,1,-999,0,2,20170113,2335,25.4907,128.7715,7197,0.0,0,23.3224,34.8920,2,-999.0000,9,210.41,2,1.33,2,0.20,2,0.10,2,0.04,2,-999.,9,-999.,9,-999.,9,-999,9,-999,9
49UP20170107,RF17-01,5963,1,36,25845,2,20170113,2359,25.4907,128.7715,7197,10.6,11,23.3296,34.8914,2,34.8907,2,209.65,2,1.31,2,0.18,2,0.10,2,0.04,2,-999.,9,-999.,9,-999.,9,-999,9,-999,9
49UP20170107,RF17-01,5963,1,35,25844,2,20170113,2358,25.4907,128.7715,7197,25.5,25,23.3356,34.8911,2,-999.0000,9,208.99,6,1.38,6,0.17,6,0.11,6,0.03,6,-999.,9,-999.,9,-999.,9,-999,9,-999,9
49UP20170107,RF17-01,5963,1,34,25843,2,20170113,2356,25.4907,128.7715,7197,52.4,52,23.3388,34.8913,2,34.8927,2,209.29,2,1.34,2,0.16,2,0.11,2,0.03,2,-999.,9,-999.,9,-999.,9,-999,9,-999,9
49UP20170107,RF17-01,5963,1,33,25842,2,20170113,2355,25.4907,128.7715,7197,75.9,75,23.3408,34.8916,2,-999.0000,9,209.26,2,1.34,2,0.19,2,0.11,2,0.03,2,-999.,9,-999.,9,-999.,9,-999,9,-999,9
49UP20170107,RF17-01,5963,1,32,25841,2,20170113,2352,25.4907,128.7715,7197,101.4,101,23.3446,34.8914,2,34.8902,2,209.52,2,1.39,2,0.16,2,0.10,2,0.03,2,-999.,9,-999.,9,-999.,9,-999,9,-999,9
49UP20170107,RF17-01,5963,1,31,25840,2,20170113,2351,25.4907,128.7715,7197,126.1,125,23.3492,34.8917,2,-999.0000,9,209.69,2,1.43,2,0.15,2,0.10,2,0.03,2,-999.,9,-999.,9,-999.,9,-999,9,-999,9
49UP20170107,RF17-01,5963,1,30,25839,2,20170113,2350,25.4907,128.7715,7197,152.6,152,23.3536,34.8912,2,34.8906,2,209.69,2,1.39,2,0.15,2,0.10,2,0.03,2,-999.,9,-999.,9,-999.,9,-999,9,-999,9
49UP20170107,RF17-01,5963,1,29,25838,2,20170113,2348,25.4907,128.7715,7197,203.8,202,21.3331,34.9546,2,34.9541,2,190.74,2,2.12,2,1.99,2,0.02,2,0.15,2,-999.,9,-999.,9,-999.,9,-999,9,-999,9
49UP20170107,RF17-01,5963,1,28,25837,2,20170113,2346,25.4907,128.7715,7197,254.1,252,19.9203,34.8932,2,-999.0000,9,192.41,2,2.88,2,2.95,2,0.01,2,0.22,2,-999.,9,-999.,9,-999.,9,-999,9,-999,9
49UP20170107,RF17-01,5963,1,27,25836,2,20170113,2343,25.4907,128.7715,7197,305.2,303,18.4431,34.8113,2,34.8114,2,192.73,2,3.87,2,4.46,2,0.01,2,0.31,2,-999.,9,-999.,9,-999.,9,-999,9,-999,9
49UP20170107,RF17-01,5963,1,26,25835,2,20170113,2340,25.4907,128.7715,7197,405.0,402,16.0795,34.6394,2,34.6514,2,191.62,2,7.47,2,7.81,2,0.00,2,0.54,2,-999.,9,-999.,9,-999.,9,-999,9,-999,9
49UP20170107,RF17-01,5963,1,25,25834,2,20170113,2337,25.4907,128.7715,7197,505.8,502,13.3547,34.4376,2,34.4377,2,175.09,2,15.76,2,13.48,2,0.00,2,0.95,2,-999.,9,-999.,9,-999.,9,-999,9,-999,9
49UP20170107,RF17-01,5963,1,24,25833,2,20170113,2333,25.4907,128.7715,7197,609.0,604,10.2304,34.2643,2,34.2707,4,153.89,6,31.51,6,20.84,6,0.00,6,1.49,6,-999.,9,-999.,9,-999.,9,-999,9,-999,9
49UP20170107,RF17-01,5963,1,23,25832,2,20170113,2330,25.4907,128.7715,7197,709.0,703,7.6669,34.1634,2,34.1646,2,124.26,2,50.61,2,27.99,2,0.00,2,2.02,2,-999.,9,-999.,9,-999.,9,-999,9,-999,9
49UP20170107,RF17-01,5963,1,22,25831,2,20170113,2325,25.4907,128.7715,7197,809.9,803,6.2309,34.2013,2,34.2029,2,93.06,2,71.50,2,33.51,2,0.00,2,2.42,2,-999.,9,-999.,9,-999.,9,-999,9,-999,9
49UP20170107,RF17-01,5963,1,21,25830,2,20170113,2321,25.4907,128.7715,7197,912.1,904,5.1706,34.3001,2,34.2990,2,74.70,2,90.71,2,36.85,2,0.00,2,2.65,2,-999.,9,-999.,9,-999.,9,-999,9,-999,9
49UP20170107,RF17-01,5963,1,20,25829,2,20170113,2318,25.4907,128.7715,7197,1013.4,1004,4.1878,34.4153,2,34.4149,2,72.89,6,109.96,6,38.52,6,0.00,6,2.76,6,-999.,9,-999.,9,-999.,9,-999,9,-999,9
49UP20170107,RF17-01,5963,1,19,25828,2,20170113,2312,25.4907,128.7715,7197,1215.3,1204,3.0746,34.4860,2,34.4854,2,73.35,2,130.78,2,39.91,2,0.00,2,2.85,2,-999.,9,-999.,9,-999.,9,-999,9,-999,9
49UP20170107,RF17-01,5963,1,18,25827,2,20170113,2307,25.4907,128.7715,7197,1417.1,1403,2.6154,34.5271,2,34.5258,2,81.15,2,138.29,2,39.92,2,0.00,2,2.84,2,-999.,9,-999.,9,-999.,9,-999,9,-999,9
49UP20170107,RF17-01,5963,1,17,25826,2,20170113,2302,25.4907,128.7715,7197,1618.8,1602,2.3060,34.5656,2,34.5663,2,92.99,2,141.67,2,39.37,2,0.00,2,2.79,2,-999.,9,-999.,9,-999.,9,-999,9,-999,9
49UP20170107,RF17-01,5963,1,16,25825,2,20170113,2256,25.4907,128.7715,7197,1821.9,1802,2.1232,34.5975,2,34.5972,2,106.39,2,141.82,2,38.62,2,0.00,2,2.72,2,-999.,9,-999.,9,-999.,9,-999,9,-999,9
49UP20170107,RF17-01,5963,1,15,25824,2,20170113,2251,25.4907,128.7715,7197,2025.5,2003,1.9770,34.6160,2,34.6133,4,114.66,2,141.73,2,38.11,2,0.00,2,2.69,2,-999.,9,-999.,9,-999.,9,-999,9,-999,9
49UP20170107,RF17-01,5963,1,14,25823,2,20170113,2246,25.4907,128.7715,7197,2276.9,2250,1.8754,34.6298,2,34.6313,4,121.73,2,142.66,2,37.75,2,0.00,2,2.66,2,-999.,9,-999.,9,-999.,9,-999,9,-999,9
49UP20170107,RF17-01,5963,1,13,25822,2,20170113,2241,25.4907,128.7715,7197,2533.7,2502,1.7945,34.6429,2,34.6420,2,128.27,2,142.45,2,37.39,2,0.00,2,2.62,2,-999.,9,-999.,9,-999.,9,-999,9,-999,9
49UP20170107,RF17-01,5963,1,12,25821,2,20170113,2236,25.4907,128.7715,7197,2785.2,2749,1.7103,34.6539,2,34.6538,2,134.87,2,142.74,2,37.01,2,0.00,2,2.59,2,-999.,9,-999.,9,-999.,9,-999,9,-999,9
49UP20170107,RF17-01,5963,1,11,25820,2,20170113,2230,25.4907,128.7715,7197,3040.5,2999,1.6373,34.6631,2,34.6631,6,140.68,2,142.33,2,36.66,2,0.00,2,2.56,2,-999.,9,-999.,9,-999.,9,-999,9,-999,9
49UP20170107,RF17-01,5963,1,10,25819,2,20170113,2225,25.4907,128.7715,7197,3296.8,3250,1.6024,34.6685,2,34.6684,2,144.95,2,142.35,2,36.47,2,0.00,2,2.54,2,-999.,9,-999.,9,-999.,9,-999,9,-999,9
49UP20170107,RF17-01,5963,1,9,25818,2,20170113,2220,25.4907,128.7715,7197,3550.5,3498,1.5825,34.6727,2,34.6721,6,147.22,2,142.01,2,36.29,2,0.00,2,2.52,2,-999.,9,-999.,9,-999.,9,-999,9,-999,9
49UP20170107,RF17-01,5963,1,8,25817,2,20170113,2214,25.4907,128.7715,7197,3809.4,3751,1.5748,34.6760,2,34.6761,2,150.42,2,141.73,2,36.13,2,0.00,2,2.51,2,-999.,9,-999.,9,-999.,9,-999,9,-999,9
49UP20170107,RF17-01,5963,1,7,25816,2,20170113,2209,25.4907,128.7715,7197,4065.1,4001,1.5841,34.6777,2,34.6769,2,151.27,2,141.41,6,36.04,6,0.00,6,2.51,6,-999.,9,-999.,9,-999.,9,-999,9,-999,9
49UP20170107,RF17-01,5963,1,6,25815,2,20170113,2159,25.4907,128.7715,7197,4579.4,4501,1.6184,34.6801,2,34.6804,6,153.69,2,141.22,2,35.90,2,0.00,2,2.50,2,-999.,9,-999.,9,-999.,9,-999,9,-999,9
49UP20170107,RF17-01,5963,1,5,25814,2,20170113,2150,25.4907,128.7715,7197,5091.1,4999,1.6690,34.6813,2,34.6837,4,154.64,2,141.02,2,35.83,2,0.00,2,2.49,2,-999.,9,-999.,9,-999.,9,-999,9,-999,9
49UP20170107,RF17-01,5963,1,4,25813,2,20170113,2145,25.4907,128.7715,7197,5349.3,5249,1.6998,34.6817,2,34.6821,2,155.20,2,140.92,2,35.87,2,0.00,2,2.49,2,-999.,9,-999.,9,-999.,9,-999,9,-999,9
49UP20170107,RF17-01,5963,1,3,25812,2,20170113,2140,25.4907,128.7715,7197,5607.6,5500,1.7326,34.6817,2,34.6820,6,154.99,2,140.72,2,35.81,2,0.00,2,2.49,2,-999.,9,-999.,9,-999.,9,-999,9,-999,9
49UP20170107,RF17-01,5963,1,2,25811,2,20170113,2134,25.4907,128.7715,7197,5867.4,5751,1.7666,34.6819,2,34.6823,2,155.10,2,140.60,2,35.81,2,0.00,2,2.49,2,-999.,9,-999.,9,-999.,9,-999,9,-999,9
49UP20170107,RF17-01,5963,1,1,25810,4,20170113,2128,25.4907,128.7715,7197,6125.9,6001,1.8018,34.6819,2,34.6619,4,140.60,4,142.31,4,36.71,4,0.00,4,2.57,4,-999.,9,-999.,9,-999.,9,-999,9,-999,9
49UP20170107,RF17-01,5964,1,-999,0,2,20170114,0455,25.9042,128.1582,2098,0.0,0,25.0255,35.0484,2,-999.,9,204.98,2,-999.,9,-999.,9,-999.,9,-999.,9,-999.,9,-999.,9,-999.,9,-999,9,-999,9
49UP20170107,RF17-01,5964,1,33,25842,2,20170114,0522,25.9042,128.1582,2098,12.3,12,25.0261,35.0745,2,-999.,9,204.54,6,-999.,9,-999.,9,-999.,9,-999.,9,-999.,9,-999.,9,-999.,9,-999,9,-999,9
49UP20170107,RF17-01,5964,1,32,25841,2,20170114,0521,25.9042,128.1582,2098,27.2,27,25.0414,35.0765,2,-999.,9,204.73,2,-999.,9,-999.,9,-999.,9,-999.,9,-999.,9,-999.,9,-999.,9,-999,9,-999,9
49UP20170107,RF17-01,5964,1,31,25840,2,20170114,0518,25.9042,128.1582,2098,51.6,51,25.0309,35.0722,2,-999.,9,204.72,2,-999.,9,-999.,9,-999.,9,-999.,9,-999.,9,-999.,9,-999.,9,-999,9,-999,9
49UP20170107,RF17-01,5964,1,30,25839,2,20170114,0517,25.9042,128.1582,2098,78.4,78,24.9780,35.0675,2,-999.,9,204.75,2,-999.,9,-999.,9,-999.,9,-999.,9,-999.,9,-999.,9,-999.,9,-999,9,-999,9
49UP20170107,RF17-01,5964,1,29,25838,2,20170114,0516,25.9042,128.1582,2098,104.8,104,24.4757,35.0135,2,-999.,9,205.83,2,-999.,9,-999.,9,-999.,9,-999.,9,-999.,9,-999.,9,-999.,9,-999,9,-999,9
49UP20170107,RF17-01,5964,1,28,25837,2,20170114,0515,25.9042,128.1582,2098,128.6,128,23.6383,34.9463,2,-999.,9,209.21,2,-999.,9,-999.,9,-999.,9,-999.,9,-999.,9,-999.,9,-999.,9,-999,9,-999,9
49UP20170107,RF17-01,5964,1,24,25833,2,20170114,0513,25.9042,128.1582,2098,153.0,152,23.4471,34.9232,2,-999.,9,209.27,2,-999.,9,-999.,9,-999.,9,-999.,9,-999.,9,-999.,9,-999.,9,-999,9,-999,9
49UP20170107,RF17-01,5964,1,22,25831,2,20170114,0512,25.9042,128.1582,2098,203.4,202,20.9675,35.0142,2,-999.,9,189.29,2,-999.,9,-999.,9,-999.,9,-999.,9,-999.,9,-999.,9,-999.,9,-999,9,-999,9
49UP20170107,RF17-01,5964,1,23,25832,2,20170114,0512,25.9042,128.1582,2098,204.0,203,20.9382,35.0120,2,-999.,9,189.19,2,-999.,9,-999.,9,-999.,9,-999.,9,-999.,9,-999.,9,-999.,9,-999,9,-999,9
49UP20170107,RF17-01,5964,1,21,25830,2,20170114,0510,25.9042,128.1582,2098,252.8,251,19.0099,34.8634,2,-999.,9,199.14,2,-999.,9,-999.,9,-999.,9,-999.,9,-999.,9,-999.,9,-999.,9,-999,9,-999,9
49UP20170107,RF17-01,5964,1,20,25829,2,20170114,0508,25.9042,128.1582,2098,305.5,303,17.9202,34.7900,2,-999.,9,193.22,2,-999.,9,-999.,9,-999.,9,-999.,9,-999.,9,-999.,9,-999.,9,-999,9,-999,9
49UP20170107,RF17-01,5964,1,19,25828,2,20170114,0506,25.9042,128.1582,2098,404.5,401,15.9401,34.6278,2,-999.,9,191.43,2,-999.,9,-999.,9,-999.,9,-999.,9,-999.,9,-999.,9,-999.,9,-999,9,-999,9
49UP20170107,RF17-01,5964,1,15,25824,2,20170114,0503,25.9042,128.1582,2098,506.6,503,12.6043,34.3904,2,-999.,9,172.52,2,-999.,9,-999.,9,-999.,9,-999.,9,-999.,9,-999.,9,-999.,9,-999,9,-999,9
49UP20170107,RF17-01,5964,1,14,25823,2,20170114,0501,25.9042,128.1582,2098,606.8,602,9.6391,34.2999,2,-999.,9,135.45,2,-999.,9,-999.,9,-999.,9,-999.,9,-999.,9,-999.,9,-999.,9,-999,9,-999,9
49UP20170107,RF17-01,5964,1,13,25822,2,20170114,0458,25.9042,128.1582,2098,707.1,701,7.3570,34.2134,2,-999.,9,109.57,2,-999.,9,-999.,9,-999.,9,-999.,9,-999.,9,-999.,9,-999.,9,-999,9,-999,9
49UP20170107,RF17-01,5964,1,12,25821,2,20170114,0455,25.9042,128.1582,2098,808.6,802,5.7321,34.2106,2,-999.,9,84.66,2,-999.,9,-999.,9,-999.,9,-999.,9,-999.,9,-999.,9,-999.,9,-999,9,-999,9
49UP20170107,RF17-01,5964,1,11,25820,2,20170114,0452,25.9042,128.1582,2098,909.8,902,4.8774,34.3063,2,-999.,9,66.57,2,-999.,9,-999.,9,-999.,9,-999.,9,-999.,9,-999.,9,-999.,9,-999,9,-999,9
49UP20170107,RF17-01,5964,1,10,25819,2,20170114,0449,25.9042,128.1582,2098,1011.1,1002,4.3042,34.3777,2,-999.,9,67.56,2,-999.,9,-999.,9,-999.,9,-999.,9,-999.,9,-999.,9,-999.,9,-999,9,-999,9
49UP20170107,RF17-01,5964,1,6,25815,2,20170114,0445,25.9042,128.1582,2098,1213.7,1202,3.3776,34.4653,2,-999.,9,69.46,2,-999.,9,-999.,9,-999.,9,-999.,9,-999.,9,-999.,9,-999.,9,-999,9,-999,9
49UP20170107,RF17-01,5964,1,5,25814,2,20170114,0440,25.9042,128.1582,2098,1416.9,1403,2.8269,34.5087,2,-999.,9,77.08,6,-999.,9,-999.,9,-999.,9,-999.,9,-999.,9,-999.,9,-999.,9,-999,9,-999,9
49UP20170107,RF17-01,5964,1,4,25813,2,20170114,0434,25.9042,128.1582,2098,1617.0,1600,2.4981,34.5455,2,-999.,9,87.09,2,-999.,9,-999.,9,-999.,9,-999.,9,-999.,9,-999.,9,-999.,9,-999,9,-999,9
49UP20170107,RF17-01,5964,1,3,25812,2,20170114,0434,25.9042,128.1582,2098,1617.7,1601,2.4969,34.5455,2,-999.,9,86.84,2,-999.,9,-999.,9,-999.,9,-999.,9,-999.,9,-999.,9,-999.,9,-999,9,-999,9
49UP20170107,RF17-01,5964,1,2,25811,2,20170114,0430,25.9042,128.1582,2098,1820.2,1801,2.2627,34.5743,2,-999.,9,96.98,2,-999.,9,-999.,9,-999.,9,-999.,9,-999.,9,-999.,9,-999.,9,-999,9,-999,9
49UP20170107,RF17-01,5964,1,1,25810,2,20170114,0425,25.9042,128.1582,2098,2025.4,2003,2.0667,34.6028,2,-999.,9,109.12,2,-999.,9,-999.,9,-999.,9,-999.,9,-999.,9,-999.,9,-999.,9,-999,9,-999,9
49UP20170107,RF17-01,5965,1,-999,0,2,20170114,0720,26.0603,127.9008,471,0.0,0,25.0266,35.0503,2,-999.,9,205.31,2,1.10,2,0.03,2,0.01,2,0.03,2,-999.,9,-999.,9,-999.,9,-999,9,-999,9
49UP20170107,RF17-01,5965,1,30,25839,2,20170114,0736,26.0603,127.9008,471,11.9,12,25.0351,35.0500,2,-999.,9,204.07,2,1.06,2,0.00,2,0.01,2,0.02,2,-999.,9,-999.,9,-999.,9,-999,9,-999,9
49UP20170107,RF17-01,5965,1,29,25838,2,20170114,0735,26.0603,127.9008,471,26.8,27,25.0477,35.0496,2,-999.,9,204.03,2,1.06,2,0.01,2,0.01,2,0.03,2,-999.,9,-999.,9,-999.,9,-999,9,-999,9
49UP20170107,RF17-01,5965,1,28,25837,2,20170114,0733,26.0603,127.9008,471,51.2,51,25.0410,35.0488,2,-999.,9,204.44,2,1.10,2,0.00,2,0.01,2,0.03,2,-999.,9,-999.,9,-999.,9,-999,9,-999,9
49UP20170107,RF17-01,5965,1,21,25830,2,20170114,0731,26.0603,127.9008,471,76.1,76,25.0464,35.0475,2,-999.,9,203.93,6,1.09,6,0.02,6,0.01,6,0.02,6,-999.,9,-999.,9,-999.,9,-999,9,-999,9
49UP20170107,RF17-01,5965,1,20,25829,2,20170114,0730,26.0603,127.9008,471,100.7,100,25.0278,35.0434,2,-999.,9,210.62,4,1.11,2,0.02,2,0.01,2,0.02,2,-999.,9,-999.,9,-999.,9,-999,9,-999,9
49UP20170107,RF17-01,5965,1,18,25827,2,20170114,0729,26.0603,127.9008,471,126.6,126,24.7100,35.0138,2,-999.,9,204.20,2,1.11,2,0.06,2,0.02,2,0.03,2,-999.,9,-999.,9,-999.,9,-999,9,-999,9
49UP20170107,RF17-01,5965,1,17,25826,2,20170114,0728,26.0603,127.9008,471,152.6,152,23.8581,35.0109,2,-999.,9,197.76,2,1.31,2,0.55,2,0.09,2,0.07,2,-999.,9,-999.,9,-999.,9,-999,9,-999,9
49UP20170107,RF17-01,5965,1,16,25825,2,20170114,0726,26.0603,127.9008,471,203.1,202,22.3170,35.0582,2,-999.,9,189.34,2,1.71,2,1.28,2,0.03,2,0.14,2,-999.,9,-999.,9,-999.,9,-999,9,-999,9
49UP20170107,RF17-01,5965,1,9,25818,2,20170114,0724,26.0603,127.9008,471,252.1,250,20.0864,34.9316,2,-999.,9,192.25,2,2.50,2,2.62,2,0.01,2,0.20,2,-999.,9,-999.,9,-999.,9,-999,9,-999,9
49UP20170107,RF17-01,5965,1,8,25817,2,20170114,0722,26.0603,127.9008,471,301.9,300,18.0921,34.7846,2,-999.,9,191.48,6,4.88,6,5.18,6,0.01,6,0.36,6,-999.,9,-999.,9,-999.,9,-999,9,-999,9
49UP20170107,RF17-01,5965,1,7,25816,2,20170114,0719,26.0603,127.9008,471,404.1,401,14.7684,34.5484,2,-999.,9,179.35,2,12.87,2,11.04,2,0.00,2,0.78,2,-999.,9,-999.,9,-999.,9,-999,9,-999,9
49UP20170107,RF17-01,5965,1,6,25815,2,20170114,0719,26.0603,127.9008,471,404.2,401,14.8013,34.5490,2,-999.,9,179.39,2,12.93,2,11.08,2,0.01,2,0.78,2,-999.,9,-999.,9,-999.,9,-999,9,-999,9
49UP20170107,RF17-01,5965,1,5,25814,2,20170114,0717,26.0603,127.9008,471,464.2,461,13.1843,34.4422,2,-999.,9,169.35,2,18.42,2,14.45,2,0.00,2,1.03,2,-999.,9,-999.,9,-999.,9,-999,9,-999,9