BOTTLE,20171117JMAGEMD
EXPOCODE,SECT_ID,STNNBR,CASTNO,SAMPNO,BTLNBR,BTLNBR_FLAG_W,DATE,TIME,LATITUDE,LONGITUDE,DEPTH,CTDPRS,CTDDEP,CTDTMP,CTDSAL,CTDSAL_FLAG_W,SALNTY,SALNTY_FLAG_W,OXYGEN,OXYGEN_FLAG_W,SILCAT,SILCAT_FLAG_W,NO2+NO3,NO2+NO3_FLAG_W,NITRIT,NITRIT_FLAG_W,PHSPHT,PHSPHT_FLAG_W,TCARBN,TCARBN_FLAG_W,ALKALI,ALKALI_FLAG_W,PH_TOT,PH_TOT_FLAG_W,CFC-11,CFC-11_FLAG_W,CFC-12,CFC-12_FLAG_W
,,,,,,,UTC,UTC,,,METER,DBAR,METERS,ITS-90,PSS-78,,PSS-78,,UMOL/KG,,UMOL/KG,,UMOL/KG,,UMOL/KG,,UMOL/KG,,UMOL/KG,,UMOL/KG,,@25DEG-C,,PMOL/KG,,PMOL/KG,
49UP20170107,RF17-01,5966,1,-999,0,2,20170116,0503,26.9948,127.5018,495,0.0,0,23.5722,34.9162,2,34.9284,2,208.63,2,1.35,2,0.30,2,0.11,2,0.03,2,1981.5,2,2295.6,2,8.0676,2,-999,9,-999,9
49UP20170107,RF17-01,5966,1,32,25841,2,20170116,0524,26.9948,127.5018,495,12.2,12,23.5871,34.9160,2,34.9152,2,207.45,2,1.39,2,0.29,2,0.10,2,0.03,2,1981.3,2,2293.3,2,8.0708,2,-999,9,-999,9
49UP20170107,RF17-01,5966,1,31,25840,2,20170116,0523,26.9948,127.5018,495,21.9,22,23.5931,34.9163,2,-999.0000,9,207.38,2,1.40,2,0.30,2,0.10,2,0.03,2,1980.6,2,2293.5,2,8.0714,2,-999,9,-999,9
49UP20170107,RF17-01,5966,1,29,25838,2,20170116,0522,26.9948,127.5018,495,32.1,32,23.5868,34.9156,2,-999.0000,9,206.96,2,1.38,2,0.29,2,0.11,2,0.07,4,1981.4,2,2294.7,2,8.0740,2,-999,9,-999,9
49UP20170107,RF17-01,5966,1,28,25837,2,20170116,0520,26.9948,127.5018,495,51.2,51,23.5530,34.9156,2,34.9141,2,207.58,2,1.36,2,0.27,2,0.12,2,0.04,2,1980.1,2,2293.2,2,8.0722,2,-999,9,-999,9
49UP20170107,RF17-01,5966,1,21,25830,2,20170116,0518,26.9948,127.5018,495,75.2,75,23.5177,34.9146,2,34.9135,2,207.71,2,1.41,2,0.26,2,0.12,2,0.04,2,1981.5,2,2295.3,2,8.0668,2,-999,9,-999,9
49UP20170107,RF17-01,5966,1,20,25829,2,20170116,0518,26.9948,127.5018,495,75.4,75,23.5188,34.9146,2,34.9131,2,207.67,2,1.35,2,0.27,2,0.12,2,0.04,2,1982.1,2,2293.3,2,8.0695,2,-999,9,-999,9
49UP20170107,RF17-01,5966,1,19,25828,2,20170116,0517,26.9948,127.5018,495,101.6,101,23.4722,34.9114,2,34.9106,2,207.73,6,1.41,6,0.31,6,0.13,6,0.05,6,1984.1,2,2293.3,2,8.0658,2,-999,9,-999,9
49UP20170107,RF17-01,5966,1,18,25827,2,20170116,0516,26.9948,127.5018,495,126.3,125,23.3486,34.9135,2,34.9152,4,203.84,2,1.55,2,0.58,2,0.12,2,0.07,2,1987.7,2,2292.0,2,8.0540,2,-999,9,-999,9
49UP20170107,RF17-01,5966,1,17,25826,2,20170116,0515,26.9948,127.5018,495,152.5,151,23.2413,34.9247,2,34.9241,6,197.78,2,1.81,2,1.04,2,0.08,2,0.10,2,1994.3,2,2292.6,2,8.0383,2,-999,9,-999,9
49UP20170107,RF17-01,5966,1,16,25825,2,20170116,0513,26.9948,127.5018,495,201.7,200,21.0350,34.9403,2,34.9406,2,190.36,2,2.66,2,2.43,2,0.02,2,0.19,2,2032.9,2,2297.1,2,7.9832,2,-999,9,-999,9
49UP20170107,RF17-01,5966,1,9,25818,2,20170116,0511,26.9948,127.5018,495,253.2,251,20.0281,34.9027,2,34.9029,4,189.32,2,3.22,2,3.29,2,0.01,2,0.24,2,2039.3,2,2295.9,2,7.9681,2,-999,9,-999,9
49UP20170107,RF17-01,5966,1,8,25817,3,20170116,0509,26.9948,127.5018,495,306.6,304,18.3574,34.7974,2,34.7994,4,189.22,2,4.94,2,5.11,2,0.01,2,0.36,2,2047.2,6,2289.0,6,7.9381,2,-999,9,-999,9
49UP20170107,RF17-01,5966,1,7,25816,2,20170116,0506,26.9948,127.5018,495,404.7,402,15.2571,34.5858,2,34.5851,2,181.91,6,11.69,6,10.09,6,0.00,6,0.70,6,2084.3,2,2282.1,2,7.8568,6,-999,9,-999,9
49UP20170107,RF17-01,5966,1,1,25810,2,20170116,0504,26.9948,127.5018,495,492.5,489,12.7324,34.4411,2,34.4412,2,163.72,2,23.06,2,15.81,2,0.00,2,1.13,2,2121.9,2,2283.6,2,7.7704,2,-999,9,-999,9
49UP20170107,RF17-01,5966,1,2,25811,2,20170116,0504,26.9948,127.5018,495,492.7,489,12.7361,34.4406,2,34.4412,2,163.72,2,23.04,2,15.84,2,0.00,2,1.13,2,2120.8,2,2282.7,2,7.7713,2,-999,9,-999,9
49UP20170107,RF17-01,5967,1,-999,0,2,20170117,0105,28.7003,126.4488,124,0.0,0,22.1604,34.8511,2,34.8729,2,214.92,2,2.18,2,0.58,2,0.13,2,0.08,2,1989.4,2,2292.9,2,8.0576,2,-999,9,-999,9
49UP20170107,RF17-01,5967,1,30,25839,2,20170117,0114,28.7003,126.4488,124,11.4,11,22.1625,34.8477,2,-999.0000,9,214.86,2,2.23,2,0.65,2,0.13,2,0.07,2,-999.0,9,-999.0,9,-999.0000,9,-999,9,-999,9
49UP20170107,RF17-01,5967,1,29,25838,2,20170117,0113,28.7003,126.4488,124,20.8,21,21.2504,34.7632,2,-999.0000,9,216.64,2,2.82,2,1.12,2,0.17,2,0.10,2,-999.0,9,-999.0,9,-999.0000,9,-999,9,-999,9
49UP20170107,RF17-01,5967,1,28,25837,2,20170117,0112,28.7003,126.4488,124,31.6,31,20.7640,34.7220,2,-999.0000,9,218.43,2,3.41,2,1.59,2,0.21,2,0.14,2,-999.0,9,-999.0,9,-999.0000,9,-999,9,-999,9
49UP20170107,RF17-01,5967,1,18,25827,2,20170117,0111,28.7003,126.4488,124,52.0,52,19.7530,34.5434,2,-999.0000,9,214.83,6,5.02,6,2.93,6,0.29,6,0.24,6,-999.0,9,-999.0,9,-999.0000,9,-999,9,-999,9
49UP20170107,RF17-01,5967,1,17,25826,2,20170117,0110,28.7003,126.4488,124,77.1,77,19.4431,34.4678,2,-999.0000,9,213.03,2,5.75,2,3.47,2,0.27,2,0.28,2,-999.0,9,-999.0,9,-999.0000,9,-999,9,-999,9
49UP20170107,RF17-01,5967,1,16,25825,2,20170117,0110,28.7003,126.4488,124,77.3,77,19.4555,34.4692,2,-999.0000,9,213.07,2,5.82,2,3.51,2,0.27,2,0.28,2,-999.0,9,-999.0,9,-999.0000,9,-999,9,-999,9
49UP20170107,RF17-01,5967,1,9,25818,2,20170117,0108,28.7003,126.4488,124,103.7,103,19.3348,34.4509,2,-999.0000,9,210.53,6,6.34,6,3.78,6,0.27,6,0.30,6,-999.0,9,-999.0,9,-999.0000,9,-999,9,-999,9
49UP20170107,RF17-01,5967,1,8,25817,2,20170117,0107,28.7003,126.4488,124,122.4,122,19.3690,34.4701,2,-999.0000,9,209.82,2,6.51,2,3.79,2,0.26,2,0.30,2,-999.0,9,-999.0,9,-999.0000,9,-999,9,-999,9
49UP20170107,RF17-01,5969,1,-999,0,2,20170117,0323,28.5468,126.6862,152,0.0,0,22.7838,34.8344,2,-999.,9,210.96,2,2.22,2,0.80,2,0.18,2,0.09,2,-999.,9,-999.,9,-999.,9,-999,9,-999,9
49UP20170107,RF17-01,5969,1,30,25839,2,20170117,0334,28.5468,126.6862,152,11.7,12,22.7950,34.8338,2,-999.,9,209.86,2,2.23,2,0.78,2,0.18,2,0.08,2,-999.,9,-999.,9,-999.,9,-999,9,-999,9
49UP20170107,RF17-01,5969,1,29,25838,2,20170117,0333,28.5468,126.6862,152,22.2,22,22.7959,34.8339,2,-999.,9,209.58,2,2.19,2,0.78,2,0.18,2,0.08,2,-999.,9,-999.,9,-999.,9,-999,9,-999,9
49UP20170107,RF17-01,5969,1,28,25837,2,20170117,0332,28.5468,126.6862,152,31.6,31,22.7955,34.8337,2,-999.,9,209.37,2,2.19,2,0.80,2,0.19,2,0.08,2,-999.,9,-999.,9,-999.,9,-999,9,-999,9
49UP20170107,RF17-01,5969,1,18,25827,2,20170117,0331,28.5468,126.6862,152,51.3,51,22.7947,34.8334,2,-999.,9,208.99,2,2.20,2,0.83,2,0.19,2,0.09,2,-999.,9,-999.,9,-999.,9,-999,9,-999,9
49UP20170107,RF17-01,5969,1,17,25826,2,20170117,0330,28.5468,126.6862,152,77.4,77,22.7091,34.8250,2,-999.,9,208.62,2,2.39,2,0.98,2,0.19,2,0.09,2,-999.,9,-999.,9,-999.,9,-999,9,-999,9
49UP20170107,RF17-01,5969,1,16,25825,2,20170117,0328,28.5468,126.6862,152,103.0,102,21.5898,34.7738,2,-999.,9,191.98,6,4.57,6,3.28,6,0.06,6,0.25,6,-999.,9,-999.,9,-999.,9,-999,9,-999,9
49UP20170107,RF17-01,5969,1,7,25816,2,20170117,0327,28.5468,126.6862,152,125.9,125,17.3786,34.5538,2,-999.,9,172.37,2,13.69,2,9.37,2,0.02,2,0.68,2,-999.,9,-999.,9,-999.,9,-999,9,-999,9
49UP20170107,RF17-01,5969,1,8,25817,2,20170117,0327,28.5468,126.6862,152,127.2,126,17.3963,34.5547,2,-999.,9,172.70,2,13.57,2,9.26,2,0.02,2,0.67,2,-999.,9,-999.,9,-999.,9,-999,9,-999,9
49UP20170107,RF17-01,5969,1,5,25814,2,20170117,0326,28.5468,126.6862,152,144.8,144,16.5012,34.5129,2,-999.,9,167.59,2,16.46,2,10.96,2,0.03,2,0.80,2,-999.,9,-999.,9,-999.,9,-999,9,-999,9
49UP20170107,RF17-01,5971,1,-999,0,2,20170117,0525,28.403,126.9108,280,0.0,0,22.8871,34.8328,2,-999.0000,9,212.84,2,2.08,2,0.47,2,0.12,2,0.07,2,-999.,9,-999.,9,-999.,9,-999,9,-999,9
49UP20170107,RF17-01,5971,1,30,25839,2,20170117,0545,28.403,126.9108,280,11.2,11,22.8942,34.8326,2,34.8331,2,212.13,2,1.98,2,0.50,2,0.12,2,0.08,2,-999.,9,-999.,9,-999.,9,-999,9,-999,9
49UP20170107,RF17-01,5971,1,29,25838,2,20170117,0544,28.403,126.9108,280,22.6,22,22.9000,34.8323,2,34.8314,2,211.38,2,2.00,2,0.48,2,0.12,2,0.07,2,-999.,9,-999.,9,-999.,9,-999,9,-999,9
49UP20170107,RF17-01,5971,1,28,25837,2,20170117,0544,28.403,126.9108,280,31.3,31,22.7617,34.8301,2,34.8295,2,210.91,2,2.06,2,0.57,2,0.18,2,0.07,2,-999.,9,-999.,9,-999.,9,-999,9,-999,9
49UP20170107,RF17-01,5971,1,21,25830,2,20170117,0542,28.403,126.9108,280,52.3,52,21.9505,34.8453,2,34.8442,6,213.42,2,2.52,2,0.90,2,0.24,2,0.09,2,-999.,9,-999.,9,-999.,9,-999,9,-999,9
49UP20170107,RF17-01,5971,1,20,25829,2,20170117,0541,28.403,126.9108,280,76.1,76,21.3811,34.8298,2,34.8291,2,212.80,2,3.09,2,1.34,2,0.25,2,0.12,2,-999.,9,-999.,9,-999.,9,-999,9,-999,9
49UP20170107,RF17-01,5971,1,18,25827,2,20170117,0540,28.403,126.9108,280,102.7,102,20.6796,34.7519,2,34.7495,2,191.87,2,6.91,2,4.21,2,0.08,2,0.33,2,-999.,9,-999.,9,-999.,9,-999,9,-999,9
49UP20170107,RF17-01,5971,1,17,25826,2,20170117,0539,28.403,126.9108,280,128.6,128,20.4669,34.7424,2,34.7407,2,198.91,2,6.30,2,3.70,2,0.24,2,0.29,2,-999.,9,-999.,9,-999.,9,-999,9,-999,9
49UP20170107,RF17-01,5971,1,16,25825,2,20170117,0538,28.403,126.9108,280,153.5,152,20.4252,34.7522,2,34.7518,2,203.32,6,5.81,6,3.40,6,0.33,6,0.27,6,-999.,9,-999.,9,-999.,9,-999,9,-999,9
49UP20170107,RF17-01,5971,1,8,25817,2,20170117,0535,28.403,126.9108,280,203.8,202,15.6037,34.5932,2,34.5964,2,173.31,2,15.79,2,11.05,2,0.04,2,0.79,2,-999.,9,-999.,9,-999.,9,-999,9,-999,9
49UP20170107,RF17-01,5971,1,9,25818,2,20170117,0536,28.403,126.9108,280,205.1,204,15.3650,34.5868,2,34.5957,2,173.10,2,15.85,2,11.08,2,0.04,2,0.79,2,-999.,9,-999.,9,-999.,9,-999,9,-999,9
49UP20170107,RF17-01,5971,1,3,25812,3,20170117,0534,28.403,126.9108,280,252.8,251,11.9259,34.4106,2,34.4076,6,150.26,2,30.03,2,18.62,2,0.04,2,1.35,2,-999.,9,-999.,9,-999.,9,-999,9,-999,9
49UP20170107,RF17-01,5971,1,2,25811,2,20170117,0533,28.403,126.9108,280,269.3,267,11.3015,34.3755,2,34.3750,2,146.71,2,32.52,2,19.84,2,0.08,2,1.44,2,-999.,9,-999.,9,-999.,9,-999,9,-999,9
49UP20170107,RF17-01,5973,1,-999,0,2,20170117,0845,28.2558,127.1347,970,0.0,0,24.5330,34.9136,2,-999.,9,207.94,2,1.14,2,0.10,2,0.02,2,0.03,2,-999.,9,-999.,9,-999.,9,-999,9,-999,9
49UP20170107,RF17-01,5973,1,36,25845,2,20170117,0910,28.2558,127.1347,970,11.0,11,24.5456,34.9147,2,-999.,9,206.04,2,1.12,2,0.08,2,0.02,2,0.02,2,-999.,9,-999.,9,-999.,9,-999,9,-999,9
49UP20170107,RF17-01,5973,1,35,25844,2,20170117,0909,28.2558,127.1347,970,21.4,21,24.5466,34.9156,2,-999.,9,206.13,2,1.10,2,0.07,2,0.02,2,0.01,2,-999.,9,-999.,9,-999.,9,-999,9,-999,9
49UP20170107,RF17-01,5973,1,27,25836,2,20170117,0909,28.2558,127.1347,970,31.2,31,24.5574,34.9153,2,-999.,9,205.74,2,1.15,2,0.06,2,0.02,2,0.01,2,-999.,9,-999.,9,-999.,9,-999,9,-999,9
49UP20170107,RF17-01,5973,1,26,25835,2,20170117,0907,28.2558,127.1347,970,51.0,51,24.5615,34.9152,2,-999.,9,205.91,2,1.07,2,0.06,2,0.02,2,0.02,2,-999.,9,-999.,9,-999.,9,-999,9,-999,9
49UP20170107,RF17-01,5973,1,25,25834,2,20170117,0905,28.2558,127.1347,970,76.4,76,24.5577,34.9143,2,-999.,9,205.61,2,1.22,2,0.15,2,0.04,2,0.02,2,-999.,9,-999.,9,-999.,9,-999,9,-999,9
49UP20170107,RF17-01,5973,1,21,25830,2,20170117,0904,28.2558,127.1347,970,101.5,101,23.1846,34.7861,2,-999.,9,207.32,2,2.18,2,0.75,2,0.28,2,0.07,2,-999.,9,-999.,9,-999.,9,-999,9,-999,9
49UP20170107,RF17-01,5973,1,20,25829,2,20170117,0903,28.2558,127.1347,970,127.0,126,22.5450,34.7596,2,-999.,9,210.41,2,2.57,2,1.04,2,0.37,2,0.09,2,-999.,9,-999.,9,-999.,9,-999,9,-999,9
49UP20170107,RF17-01,5973,1,19,25828,2,20170117,0901,28.2558,127.1347,970,151.5,150,22.1931,35.0727,2,-999.,9,186.12,2,1.93,2,1.62,2,0.02,2,0.16,2,-999.,9,-999.,9,-999.,9,-999,9,-999,9
49UP20170107,RF17-01,5973,1,18,25827,2,20170117,0859,28.2558,127.1347,970,202.4,201,19.0380,34.8540,2,-999.,9,192.80,6,3.09,6,3.71,6,0.01,6,0.25,6,-999.,9,-999.,9,-999.,9,-999,9,-999,9
49UP20170107,RF17-01,5973,1,17,25826,2,20170117,0857,28.2558,127.1347,970,252.5,251,17.3523,34.7344,2,-999.,9,191.64,2,6.00,2,6.18,2,0.00,2,0.42,2,-999.,9,-999.,9,-999.,9,-999,9,-999,9
49UP20170107,RF17-01,5973,1,16,25825,2,20170117,0857,28.2558,127.1347,970,252.5,251,17.3196,34.7319,2,-999.,9,191.13,2,6.13,2,6.26,2,0.00,2,0.43,2,-999.,9,-999.,9,-999.,9,-999,9,-999,9
49UP20170107,RF17-01,5973,1,12,25821,2,20170117,0855,28.2558,127.1347,970,303.1,301,16.0104,34.6346,2,-999.,9,190.99,2,7.67,2,7.99,2,0.00,2,0.54,2,-999.,9,-999.,9,-999.,9,-999,9,-999,9
49UP20170107,RF17-01,5973,1,11,25820,3,20170117,0852,28.2558,127.1347,970,404.8,402,11.2362,34.3797,2,-999.,9,145.82,2,32.07,2,20.01,2,0.00,2,1.43,2,-999.,9,-999.,9,-999.,9,-999,9,-999,9
49UP20170107,RF17-01,5973,1,10,25819,2,20170117,0849,28.2558,127.1347,970,505.7,502,8.7005,34.2712,2,-999.,9,125.57,2,48.64,2,26.14,2,0.00,2,1.87,2,-999.,9,-999.,9,-999.,9,-999,9,-999,9
49UP20170107,RF17-01,5973,1,9,25818,2,20170117,0845,28.2558,127.1347,970,607.1,602,7.0050,34.3065,2,-999.,9,101.11,2,70.76,2,31.25,2,0.00,2,2.24,2,-999.,9,-999.,9,-999.,9,-999,9,-999,9
49UP20170107,RF17-01,5973,1,8,25817,2,20170117,0842,28.2558,127.1347,970,708.6,703,5.8812,34.3369,2,-999.,9,87.19,2,86.34,2,34.32,2,0.00,2,2.47,2,-999.,9,-999.,9,-999.,9,-999,9,-999,9
49UP20170107,RF17-01,5973,1,7,25816,2,20170117,0840,28.2558,127.1347,970,806.0,799,5.2266,34.3671,2,-999.,9,80.49,2,97.47,2,35.96,2,0.00,2,2.58,2,-999.,9,-999.,9,-999.,9,-999,9,-999,9
49UP20170107,RF17-01,5973,1,3,25812,2,20170117,0837,28.2558,127.1347,970,904.5,897,4.8889,34.3826,2,-999.,9,77.03,6,102.67,6,36.77,6,0.00,6,2.64,6,-999.,9,-999.,9,-999.,9,-999,9,-999,9
49UP20170107,RF17-01,5973,1,2,25811,2,20170117,0834,28.2558,127.1347,970,962.6,954,4.6873,34.3926,2,-999.,9,75.45,2,106.16,2,37.19,2,0.00,2,2.68,2,-999.,9,-999.,9,-999.,9,-999,9,-999,9
49UP20170107,RF17-01,5973,1,1,25810,4,20170117,0834,28.2558,127.1347,970,964.0,955,4.6896,34.3923,2,-999.,9,-999.00,9,-999.00,9,-999.00,9,-999.00,9,-999.000,9,-999.,9,-999.,9,-999.,9,-999,9,-999,9
49UP20170107,RF17-01,5975,1,-999,0,2,20170117,1234,28.1097,127.347,1002,0.0,0,24.3149,34.9101,2,-999.0000,9,208.10,2,1.19,2,0.08,2,0.01,2,0.02,2,-999.,9,-999.,9,-999.,9,-999,9,-999,9
49UP20170107,RF17-01,5975,1,36,25845,2,20170117,1257,28.1097,127.347,1002,11.5,11,24.3179,34.9100,2,34.9089,2,206.89,2,1.14,2,0.03,2,0.01,2,0.01,2,-999.,9,-999.,9,-999.,9,-999,9,-999,9
49UP20170107,RF17-01,5975,1,35,25844,2,20170117,1256,28.1097,127.347,1002,21.4,21,24.3246,34.9099,2,-999.0000,9,207.30,2,1.12,2,0.03,2,0.01,2,0.01,2,-999.,9,-999.,9,-999.,9,-999,9,-999,9
49UP20170107,RF17-01,5975,1,34,25843,2,20170117,1255,28.1097,127.347,1002,31.7,31,24.3218,34.9101,2,34.9093,2,207.39,2,1.13,2,0.02,2,0.01,2,0.01,2,-999.,9,-999.,9,-999.,9,-999,9,-999,9
49UP20170107,RF17-01,5975,1,27,25836,2,20170117,1253,28.1097,127.347,1002,51.7,51,24.3228,34.9100,2,34.9092,2,207.66,2,1.18,2,0.03,2,0.01,2,0.01,2,-999.,9,-999.,9,-999.,9,-999,9,-999,9
49UP20170107,RF17-01,5975,1,25,25834,2,20170117,1252,28.1097,127.347,1002,76.1,76,24.3257,34.9104,2,34.9091,2,207.27,2,1.18,2,0.03,2,0.01,2,0.01,2,-999.,9,-999.,9,-999.,9,-999,9,-999,9
49UP20170107,RF17-01,5975,1,26,25835,2,20170117,1252,28.1097,127.347,1002,76.3,76,24.3266,34.9101,2,34.9096,2,207.12,2,1.18,2,0.05,2,0.01,2,0.01,2,-999.,9,-999.,9,-999.,9,-999,9,-999,9
49UP20170107,RF17-01,5975,1,21,25830,2,20170117,1250,28.1097,127.347,1002,101.3,101,24.2818,34.9131,2,34.9127,6,207.06,2,1.18,2,0.05,2,0.02,2,0.01,2,-999.,9,-999.,9,-999.,9,-999,9,-999,9
49UP20170107,RF17-01,5975,1,20,25829,2,20170117,1249,28.1097,127.347,1002,130.4,129,23.8850,34.9611,2,-999.0000,9,201.86,2,1.31,2,0.30,2,0.06,2,0.04,2,-999.,9,-999.,9,-999.,9,-999,9,-999,9
49UP20170107,RF17-01,5975,1,19,25828,2,20170117,1248,28.1097,127.347,1002,151.3,150,21.8384,34.9708,2,34.9638,2,193.24,2,1.85,2,1.62,2,0.02,2,0.12,2,-999.,9,-999.,9,-999.,9,-999,9,-999,9
49UP20170107,RF17-01,5975,1,18,25827,3,20170117,1246,28.1097,127.347,1002,202.2,201,19.4779,34.8799,2,34.8779,2,193.27,2,2.72,2,3.26,2,0.01,2,0.22,2,-999.,9,-999.,9,-999.,9,-999,9,-999,9
49UP20170107,RF17-01,5975,1,17,25826,2,20170117,1245,28.1097,127.347,1002,250.5,249,18.3822,34.7982,2,34.7967,2,190.84,2,4.78,2,4.99,2,0.01,2,0.34,2,-999.,9,-999.,9,-999.,9,-999,9,-999,9
49UP20170107,RF17-01,5975,1,16,25825,2,20170117,1243,28.1097,127.347,1002,303.0,301,17.4516,34.7369,2,34.7347,2,190.97,2,6.06,2,6.16,2,0.00,2,0.42,2,-999.,9,-999.,9,-999.,9,-999,9,-999,9
49UP20170107,RF17-01,5975,1,12,25821,2,20170117,1240,28.1097,127.347,1002,404.6,402,14.2552,34.5148,2,34.5145,2,175.59,2,14.72,2,12.20,2,0.00,2,0.86,2,-999.,9,-999.,9,-999.,9,-999,9,-999,9
49UP20170107,RF17-01,5975,1,11,25820,3,20170117,1237,28.1097,127.347,1002,505.2,501,11.5072,34.3662,2,34.3680,2,153.31,2,28.43,2,18.89,2,0.00,2,1.34,2,-999.,9,-999.,9,-999.,9,-999,9,-999,9
49UP20170107,RF17-01,5975,1,10,25819,2,20170117,1235,28.1097,127.347,1002,606.4,601,7.9691,34.2608,2,34.2603,6,114.81,2,55.96,2,28.61,2,0.00,2,2.05,2,-999.,9,-999.,9,-999.,9,-999,9,-999,9
49UP20170107,RF17-01,5975,1,9,25818,2,20170117,1232,28.1097,127.347,1002,707.5,702,6.3475,34.2970,2,34.3004,2,92.10,2,77.91,2,33.34,2,0.00,2,2.39,2,-999.,9,-999.,9,-999.,9,-999,9,-999,9
49UP20170107,RF17-01,5975,1,8,25817,2,20170117,1230,28.1097,127.347,1002,807.7,801,5.5504,34.3383,2,34.3403,2,83.68,2,90.26,2,35.32,2,0.00,2,2.54,2,-999.,9,-999.,9,-999.,9,-999,9,-999,9
49UP20170107,RF17-01,5975,1,7,25816,2,20170117,1227,28.1097,127.347,1002,909.1,901,4.7275,34.3900,2,34.3909,6,76.98,6,103.97,6,37.18,6,0.00,6,2.67,6,-999.,9,-999.,9,-999.,9,-999,9,-999,9
49UP20170107,RF17-01,5975,1,2,25811,2,20170117,1222,28.1097,127.347,1002,1012.4,1003,4.3971,34.4094,2,34.4092,2,75.91,2,109.20,2,37.94,2,0.00,2,2.71,2,-999.,9,-999.,9,-999.,9,-999,9,-999,9
49UP20170107,RF17-01,5975,1,3,25812,2,20170117,1222,28.1097,127.347,1002,1012.6,1003,4.3953,34.4096,2,34.4106,2,76.26,2,109.02,2,37.83,2,0.00,2,2.70,2,-999.,9,-999.,9,-999.,9,-999,9,-999,9