BOTTLE,20171117JMAGEMD
EXPOCODE,SECT_ID,STNNBR,CASTNO,SAMPNO,BTLNBR,BTLNBR_FLAG_W,DATE,TIME,LATITUDE,LONGITUDE,DEPTH,CTDPRS,CTDDEP,CTDTMP,CTDSAL,CTDSAL_FLAG_W,SALNTY,SALNTY_FLAG_W,OXYGEN,OXYGEN_FLAG_W,SILCAT,SILCAT_FLAG_W,NO2+NO3,NO2+NO3_FLAG_W,NITRIT,NITRIT_FLAG_W,PHSPHT,PHSPHT_FLAG_W,TCARBN,TCARBN_FLAG_W,ALKALI,ALKALI_FLAG_W,PH_TOT,PH_TOT_FLAG_W,CFC-11,CFC-11_FLAG_W,CFC-12,CFC-12_FLAG_W
,,,,,,,UTC,UTC,,,METER,DBAR,METERS,ITS-90,PSS-78,,PSS-78,,UMOL/KG,,UMOL/KG,,UMOL/KG,,UMOL/KG,,UMOL/KG,,UMOL/KG,,UMOL/KG,,@25DEG-C,,PMOL/KG,,PMOL/KG,
49UP20160608,RF16-05,5788,1,-999,0,2,20160618,1853,45.543,157.4927,5005,0.0,0,6.8532,32.8967,2,-999.,9,328.31,2,30.71,2,16.72,2,0.20,2,1.42,2,-999.,9,-999.,9,-999.,9,-999,9,-999,9
49UP20160608,RF16-05,5788,1,36,22109,2,20160618,1920,45.543,157.4927,5005,12.2,12,5.9718,32.8857,2,-999.,9,338.04,2,31.89,2,17.03,2,0.19,2,1.43,2,-999.,9,-999.,9,-999.,9,-999,9,-999,9
49UP20160608,RF16-05,5788,1,35,22112,2,20160618,1919,45.543,157.4927,5005,27.4,27,4.7441,32.8741,2,-999.,9,340.58,2,33.27,2,18.36,2,0.19,2,1.51,2,-999.,9,-999.,9,-999.,9,-999,9,-999,9
49UP20160608,RF16-05,5788,1,34,22094,2,20160618,1915,45.543,157.4927,5005,53.4,53,2.9126,32.9487,2,-999.,9,332.73,2,36.27,2,21.00,2,0.27,2,1.74,2,-999.,9,-999.,9,-999.,9,-999,9,-999,9
49UP20160608,RF16-05,5788,1,33,24469,2,20160618,1914,45.543,157.4927,5005,78.1,77,2.5910,32.9690,2,-999.,9,329.25,2,36.61,2,21.52,2,0.32,2,1.76,2,-999.,9,-999.,9,-999.,9,-999,9,-999,9
49UP20160608,RF16-05,5788,1,32,22105,2,20160618,1913,45.543,157.4927,5005,103.5,103,2.0877,33.0123,2,-999.,9,319.17,2,39.27,2,23.28,2,0.21,2,1.86,2,-999.,9,-999.,9,-999.,9,-999,9,-999,9
49UP20160608,RF16-05,5788,1,31,23515,2,20160618,1912,45.543,157.4927,5005,128.0,127,1.9631,33.1739,2,-999.,9,259.55,2,51.93,2,28.56,2,0.02,2,2.17,2,-999.,9,-999.,9,-999.,9,-999,9,-999,9
49UP20160608,RF16-05,5788,1,27,21998,2,20160618,1911,45.543,157.4927,5005,153.9,153,2.5998,33.4382,2,-999.,9,159.46,2,71.08,2,35.83,2,0.01,2,2.62,2,-999.,9,-999.,9,-999.,9,-999,9,-999,9
49UP20160608,RF16-05,5788,1,26,22084,2,20160618,1910,45.543,157.4927,5005,204.9,203,3.2995,33.7483,2,-999.,9,67.73,6,91.29,6,42.36,6,0.01,6,3.02,6,-999.,9,-999.,9,-999.,9,-999,9,-999,9
49UP20160608,RF16-05,5788,1,25,22098,2,20160618,1908,45.543,157.4927,5005,255.1,253,3.3726,33.8618,2,-999.,9,43.57,2,99.49,2,43.80,2,0.01,2,3.10,2,-999.,9,-999.,9,-999.,9,-999,9,-999,9
49UP20160608,RF16-05,5788,1,23,23679,2,20160618,1906,45.543,157.4927,5005,306.0,303,3.5298,33.9936,2,-999.,9,21.04,2,109.11,2,44.94,2,0.00,2,3.18,2,-999.,9,-999.,9,-999.,9,-999,9,-999,9
49UP20160608,RF16-05,5788,1,24,22110,2,20160618,1907,45.543,157.4927,5005,306.2,303,3.5343,33.9957,2,-999.,9,21.14,2,109.17,2,44.96,2,0.00,2,3.18,2,-999.,9,-999.,9,-999.,9,-999,9,-999,9
49UP20160608,RF16-05,5788,1,22,22111,2,20160618,1904,45.543,157.4927,5005,406.5,403,3.4100,34.1230,2,-999.,9,23.21,2,120.37,2,43.96,2,0.00,2,3.11,2,-999.,9,-999.,9,-999.,9,-999,9,-999,9
49UP20160608,RF16-05,5788,1,18,22101,2,20160618,1901,45.543,157.4927,5005,507.6,503,3.2905,34.2110,2,-999.,9,19.77,2,129.04,2,43.94,2,0.00,2,3.11,2,-999.,9,-999.,9,-999.,9,-999,9,-999,9
49UP20160608,RF16-05,5788,1,16,24474,2,20160618,1859,45.543,157.4927,5005,608.8,603,3.1379,34.2730,2,-999.,9,13.92,2,137.43,2,44.42,2,0.00,2,3.15,2,-999.,9,-999.,9,-999.,9,-999,9,-999,9
49UP20160608,RF16-05,5788,1,17,22090,2,20160618,1859,45.543,157.4927,5005,608.9,603,3.1380,34.2730,2,-999.,9,13.97,2,137.39,2,44.40,2,0.00,2,3.15,2,-999.,9,-999.,9,-999.,9,-999,9,-999,9
49UP20160608,RF16-05,5788,1,15,22088,2,20160618,1856,45.543,157.4927,5005,710.3,703,2.9557,34.3274,2,-999.,9,15.06,2,144.38,2,44.29,2,0.00,2,3.14,2,-999.,9,-999.,9,-999.,9,-999,9,-999,9
49UP20160608,RF16-05,5788,1,14,21999,2,20160618,1854,45.543,157.4927,5005,810.9,803,2.8146,34.3673,2,-999.,9,16.57,2,149.57,2,44.18,2,0.00,2,3.14,2,-999.,9,-999.,9,-999.,9,-999,9,-999,9
49UP20160608,RF16-05,5788,1,13,22667,2,20160618,1851,45.543,157.4927,5005,910.8,901,2.6729,34.4043,2,-999.,9,17.73,2,154.90,2,44.17,2,0.00,2,3.13,2,-999.,9,-999.,9,-999.,9,-999,9,-999,9
49UP20160608,RF16-05,5788,1,9,23518,2,20160618,1849,45.543,157.4927,5005,1012.3,1002,2.5262,34.4391,2,-999.,9,21.45,6,159.19,6,43.95,6,0.00,6,3.11,6,-999.,9,-999.,9,-999.,9,-999,9,-999,9
49UP20160608,RF16-05,5788,1,8,24470,2,20160618,1844,45.543,157.4927,5005,1216.3,1203,2.2844,34.4954,2,-999.,9,32.48,2,165.62,2,43.28,2,0.00,2,3.07,2,-999.,9,-999.,9,-999.,9,-999,9,-999,9
49UP20160608,RF16-05,5788,1,7,23516,2,20160618,1839,45.543,157.4927,5005,1417.8,1401,2.1067,34.5393,2,-999.,9,45.52,2,168.58,2,42.67,2,0.00,2,3.01,2,-999.,9,-999.,9,-999.,9,-999,9,-999,9
49UP20160608,RF16-05,5788,1,6,22113,2,20160618,1834,45.543,157.4927,5005,1621.0,1602,1.9632,34.5724,2,-999.,9,56.40,2,171.24,2,41.91,2,0.00,2,2.97,2,-999.,9,-999.,9,-999.,9,-999,9,-999,9
49UP20160608,RF16-05,5788,1,5,24658,2,20160618,1830,45.543,157.4927,5005,1824.9,1802,1.8552,34.5973,2,-999.,9,70.17,2,170.62,2,41.05,2,0.00,2,2.90,2,-999.,9,-999.,9,-999.,9,-999,9,-999,9
49UP20160608,RF16-05,5788,1,4,24471,2,20160618,1825,45.543,157.4927,5005,2029.1,2003,1.7575,34.6186,2,-999.,9,86.67,3,167.34,2,40.19,2,0.00,2,2.83,2,-999.,9,-999.,9,-999.,9,-999,9,-999,9
49UP20160608,RF16-05,5791,1,-999,0,2,20160619,1314,43.9807,155.0095,5313,0.0,0,8.1441,32.9299,2,34.8249,2,306.48,2,28.19,2,15.51,2,0.18,2,1.45,2,2074.4,2,2226.7,2,7.7683,2,-999,9,-999,9
49UP20160608,RF16-05,5791,1,36,22109,2,20160619,1338,43.9807,155.0095,5313,12.7,13,7.7803,32.9156,2,32.9281,4,310.15,2,27.75,2,15.29,2,0.17,2,1.43,2,2083.8,2,2233.1,2,7.7750,2,-999,9,-999,9
49UP20160608,RF16-05,5791,1,35,22112,3,20160619,1337,43.9807,155.0095,5313,28.4,28,6.2206,32.9249,2,-999.0000,9,321.36,2,30.27,2,16.09,2,0.16,2,1.48,2,2080.5,2,2230.7,2,7.7662,2,-999,9,-999,9
49UP20160608,RF16-05,5791,1,34,22094,4,20160619,1333,43.9807,155.0095,5313,52.7,52,3.6971,33.0312,2,-999.0000,9,-999.00,9,-999.00,9,-999.00,9,-999.00,9,-999.000,9,-999.0,9,-999.0,9,-999.0000,9,-999,9,-999,9
49UP20160608,RF16-05,5791,1,33,24469,3,20160619,1332,43.9807,155.0095,5313,77.9,77,3.8373,33.1411,2,-999.0000,9,315.31,2,29.63,2,17.93,2,0.26,2,1.54,2,2113.0,2,2240.4,2,7.6959,2,-999,9,-999,9
49UP20160608,RF16-05,5791,1,32,22105,2,20160619,1331,43.9807,155.0095,5313,102.5,102,2.8987,33.1136,2,33.1085,2,308.01,2,36.95,2,21.82,2,0.09,2,1.75,2,2134.1,2,2239.7,2,7.6490,2,-999,9,-999,9
49UP20160608,RF16-05,5791,1,31,23515,2,20160619,1330,43.9807,155.0095,5313,128.3,127,2.2547,33.2483,2,-999.0000,9,234.10,2,55.18,2,29.49,2,0.01,2,2.22,2,2189.1,2,2250.8,2,7.5107,2,-999,9,-999,9
49UP20160608,RF16-05,5791,1,30,22097,3,20160619,1329,43.9807,155.0095,5313,151.7,150,2.7260,33.4469,2,33.4764,4,157.17,6,71.35,6,35.50,6,0.01,6,2.60,6,2243.2,2,2267.6,2,7.3950,2,-999,9,-999,9
49UP20160608,RF16-05,5791,1,29,22102,2,20160619,1328,43.9807,155.0095,5313,204.0,202,3.2558,33.7113,2,33.7165,2,78.89,2,88.78,2,41.48,2,0.00,2,2.96,2,2298.8,2,2285.8,2,7.2800,2,-999,9,-999,9
49UP20160608,RF16-05,5791,1,28,24472,2,20160619,1326,43.9807,155.0095,5313,254.4,252,3.2699,33.8303,2,-999.0000,9,65.93,2,96.18,2,41.66,2,0.00,2,2.97,2,2310.0,2,2297.7,2,7.2796,2,-999,9,-999,9
49UP20160608,RF16-05,5791,1,27,21998,2,20160619,1325,43.9807,155.0095,5313,304.0,301,3.4823,33.9356,2,33.9434,4,30.64,2,104.98,2,44.32,2,0.00,2,3.13,2,2336.9,2,2307.6,2,7.2320,2,-999,9,-999,9
49UP20160608,RF16-05,5791,1,26,22084,2,20160619,1322,43.9807,155.0095,5313,405.0,401,3.4251,34.0583,2,34.0594,2,33.40,6,114.11,6,43.25,6,0.00,6,3.07,6,2340.0,2,2324.6,2,7.2700,2,-999,9,-999,9
49UP20160608,RF16-05,5791,1,25,22098,2,20160619,1320,43.9807,155.0095,5313,507.1,502,3.3540,34.1571,2,-999.0000,9,21.38,2,124.15,2,43.96,2,0.00,2,3.10,2,2354.4,2,2337.4,2,7.2652,2,-999,9,-999,9
49UP20160608,RF16-05,5791,1,24,22110,2,20160619,1318,43.9807,155.0095,5313,607.7,602,3.2188,34.2210,2,34.2222,2,20.57,2,131.28,2,43.90,2,0.00,2,3.11,2,2367.4,2,2348.7,2,7.2802,2,-999,9,-999,9
49UP20160608,RF16-05,5791,1,23,23679,2,20160619,1315,43.9807,155.0095,5313,708.4,702,3.0739,34.3010,2,34.2967,2,27.92,2,137.03,2,43.17,2,0.00,2,3.07,2,2363.0,2,2360.0,2,7.3073,2,-999,9,-999,9
49UP20160608,RF16-05,5791,1,22,22111,2,20160619,1313,43.9807,155.0095,5313,809.0,801,2.9166,34.3428,2,34.3391,2,21.95,2,144.17,2,43.70,2,0.00,2,3.10,2,2373.4,2,2366.7,2,7.3032,2,-999,9,-999,9
49UP20160608,RF16-05,5791,1,21,22078,2,20160619,1310,43.9807,155.0095,5313,911.6,902,2.7571,34.3799,2,-999.0000,9,27.56,2,148.30,2,43.41,2,0.00,2,3.08,2,2374.2,6,2373.4,6,7.3191,2,-999,9,-999,9
49UP20160608,RF16-05,5791,1,20,22093,3,20160619,1308,43.9807,155.0095,5313,1012.6,1002,2.6198,34.4106,2,34.4094,6,27.65,2,153.48,2,43.46,2,0.00,2,3.08,2,2385.8,2,2377.4,2,7.3230,2,-999,9,-999,9
49UP20160608,RF16-05,5791,1,19,24269,2,20160619,1303,43.9807,155.0095,5313,1215.6,1202,2.3832,34.4722,2,34.4712,2,32.63,6,161.03,6,43.24,6,0.00,6,3.06,6,2388.4,2,2389.2,2,7.3394,2,-999,9,-999,9
49UP20160608,RF16-05,5791,1,18,22101,2,20160619,1259,43.9807,155.0095,5313,1418.0,1402,2.2032,34.5174,2,-999.0000,9,41.56,2,165.90,2,42.76,2,0.00,2,3.02,2,2384.1,2,2397.6,2,7.3621,6,-999,9,-999,9
49UP20160608,RF16-05,5791,1,17,22090,3,20160619,1254,43.9807,155.0095,5313,1621.3,1602,2.0571,34.5563,2,34.5557,2,53.53,2,167.02,2,42.08,2,0.00,2,2.96,2,2378.6,2,2404.2,2,7.3876,2,-999,9,-999,9
49UP20160608,RF16-05,5791,1,16,24474,3,20160619,1250,43.9807,155.0095,5313,1824.6,1802,1.9300,34.5854,2,-999.0000,9,66.18,2,168.09,2,41.43,2,0.00,2,2.91,2,2377.1,2,2405.4,2,7.4142,2,-999,9,-999,9
49UP20160608,RF16-05,5791,1,15,22088,2,20160619,1245,43.9807,155.0095,5313,2028.1,2002,1.8147,34.6092,2,34.6084,2,78.73,2,167.90,2,40.61,2,0.00,2,2.85,2,2362.8,2,2410.9,2,7.4418,2,-999,9,-999,9
49UP20160608,RF16-05,5791,1,14,21999,2,20160619,1240,43.9807,155.0095,5313,2282.8,2252,1.6968,34.6330,2,34.6329,2,97.61,2,164.13,2,39.52,2,0.00,2,2.77,2,2356.1,6,2412.5,6,7.4802,2,-999,9,-999,9
49UP20160608,RF16-05,5791,1,13,22667,2,20160619,1235,43.9807,155.0095,5313,2535.8,2500,1.6195,34.6468,2,34.6460,6,108.99,2,162.97,2,38.83,2,0.00,2,2.71,2,2348.8,2,2413.7,2,7.5011,2,-999,9,-999,9
49UP20160608,RF16-05,5791,1,12,22074,3,20160619,1229,43.9807,155.0095,5313,2790.8,2750,1.5545,34.6589,2,-999.0000,9,121.33,2,159.53,2,38.05,2,0.00,2,2.65,2,2343.3,2,2414.1,6,7.5236,2,-999,9,-999,9
49UP20160608,RF16-05,5791,1,11,24268,2,20160619,1224,43.9807,155.0095,5313,3046.8,3001,1.5112,34.6671,2,34.6669,2,130.30,2,156.95,2,37.44,2,0.00,2,2.60,2,2336.1,2,2414.3,2,7.5416,2,-999,9,-999,9
49UP20160608,RF16-05,5791,1,10,24267,3,20160619,1218,43.9807,155.0095,5313,3301.8,3250,1.4855,34.6730,2,34.6728,2,136.81,2,155.30,2,37.04,2,0.00,2,2.57,2,2337.8,3,2414.1,2,7.5529,6,-999,9,-999,9
49UP20160608,RF16-05,5791,1,9,23518,2,20160619,1213,43.9807,155.0095,5313,3558.8,3501,1.4683,34.6776,2,34.6769,2,142.26,2,153.77,2,36.69,2,0.00,2,2.54,2,2329.9,2,2413.0,2,7.5610,2,-999,9,-999,9
49UP20160608,RF16-05,5791,1,8,24470,2,20160619,1207,43.9807,155.0095,5313,3814.5,3750,1.4605,34.6813,2,-999.0000,9,146.77,2,152.66,2,36.38,2,0.00,2,2.52,2,2321.9,2,2413.2,2,7.5697,6,-999,9,-999,9
49UP20160608,RF16-05,5791,1,7,23516,2,20160619,1202,43.9807,155.0095,5313,4072.1,4001,1.4592,34.6844,2,34.6835,2,150.59,2,151.43,2,36.13,2,0.00,2,2.50,2,2319.9,2,2412.5,2,7.5770,2,-999,9,-999,9
49UP20160608,RF16-05,5791,1,6,22113,2,20160619,1157,43.9807,155.0095,5313,4327.9,4250,1.4640,34.6870,2,-999.0000,9,153.67,2,150.90,2,35.90,2,0.00,2,2.48,2,2319.5,2,2413.2,2,7.5804,2,-999,9,-999,9
49UP20160608,RF16-05,5791,1,5,24658,2,20160619,1151,43.9807,155.0095,5313,4586.8,4502,1.4785,34.6887,2,34.6881,2,155.73,6,150.94,6,35.79,6,0.00,6,2.47,6,2319.9,2,2412.3,2,7.5838,2,-999,9,-999,9
49UP20160608,RF16-05,5791,1,4,24471,2,20160619,1146,43.9807,155.0095,5313,4845.1,4752,1.5002,34.6898,2,34.6896,2,157.04,2,150.98,2,35.69,2,0.00,2,2.47,2,2319.5,2,2411.6,2,7.5871,2,-999,9,-999,9
49UP20160608,RF16-05,5791,1,3,22104,2,20160619,1140,43.9807,155.0095,5313,5103.4,5003,1.5268,34.6907,2,34.6900,2,157.91,2,150.89,2,35.65,2,0.00,2,2.46,2,2316.6,2,2411.9,2,7.5866,2,-999,9,-999,9
49UP20160608,RF16-05,5791,1,2,22075,2,20160619,1134,43.9807,155.0095,5313,5361.1,5252,1.5579,34.6910,2,34.6898,2,157.95,2,151.03,2,35.61,2,0.00,2,2.46,2,2316.7,2,2412.3,2,7.5865,2,-999,9,-999,9
49UP20160608,RF16-05,5791,1,1,21997,2,20160619,1132,43.9807,155.0095,5313,5411.8,5301,1.5646,34.6909,2,34.6903,6,157.88,2,151.33,2,35.60,2,0.00,2,2.46,2,2317.8,2,2412.7,2,7.5874,2,-999,9,-999,9
49UP20160608,RF16-05,5794,1,-999,0,2,20160620,0350,42.674,152.6697,5304,0.0,0,9.0461,32.8516,2,-999.0000,9,306.04,2,26.23,2,12.92,2,0.14,2,1.30,2,-999.,9,-999.,9,-999.,9,-999,9,-999,9
49UP20160608,RF16-05,5794,1,36,22109,2,20160620,0412,42.674,152.6697,5304,11.5,11,7.9726,32.8479,2,32.8593,4,314.63,2,26.47,2,12.57,2,0.11,2,1.29,2,-999.,9,-999.,9,-999.,9,-999,9,-999,9
49UP20160608,RF16-05,5794,1,35,22112,2,20160620,0411,42.674,152.6697,5304,26.4,26,5.5093,32.8898,2,32.8981,4,331.22,2,27.79,2,13.06,2,0.11,2,1.35,2,-999.,9,-999.,9,-999.,9,-999,9,-999,9
49UP20160608,RF16-05,5794,1,34,22094,2,20160620,0408,42.674,152.6697,5304,50.2,50,2.9162,32.9885,2,-999.0000,9,330.57,2,32.33,2,19.15,2,0.30,2,1.69,2,-999.,9,-999.,9,-999.,9,-999,9,-999,9
49UP20160608,RF16-05,5794,1,33,24469,2,20160620,0407,42.674,152.6697,5304,76.8,76,2.3696,33.0238,2,33.0264,2,324.98,2,32.38,2,19.32,2,0.22,2,1.71,2,-999.,9,-999.,9,-999.,9,-999,9,-999,9
49UP20160608,RF16-05,5794,1,32,22105,2,20160620,0406,42.674,152.6697,5304,101.9,101,1.9226,33.0937,2,-999.0000,9,300.44,2,40.54,2,23.70,2,0.11,2,1.90,2,-999.,9,-999.,9,-999.,9,-999,9,-999,9
49UP20160608,RF16-05,5794,1,31,23515,3,20160620,0405,42.674,152.6697,5304,127.0,126,2.0441,33.2584,2,33.2658,4,238.97,6,55.35,6,29.47,6,0.01,6,2.25,6,-999.,9,-999.,9,-999.,9,-999,9,-999,9
49UP20160608,RF16-05,5794,1,27,21998,2,20160620,0404,42.674,152.6697,5304,151.1,150,2.5482,33.4367,2,-999.0000,9,174.07,2,68.34,2,34.34,2,0.01,2,2.54,2,-999.,9,-999.,9,-999.,9,-999,9,-999,9
49UP20160608,RF16-05,5794,1,26,22084,2,20160620,0402,42.674,152.6697,5304,202.2,201,3.0743,33.6483,2,33.6478,2,116.69,2,81.96,2,37.84,2,0.00,2,2.75,2,-999.,9,-999.,9,-999.,9,-999,9,-999,9
49UP20160608,RF16-05,5794,1,25,22098,2,20160620,0401,42.674,152.6697,5304,252.3,250,3.2680,33.7874,2,33.7812,2,82.89,2,91.76,2,40.19,2,0.01,2,2.89,2,-999.,9,-999.,9,-999.,9,-999,9,-999,9
49UP20160608,RF16-05,5794,1,24,22110,3,20160620,0359,42.674,152.6697,5304,302.1,299,3.3163,33.8887,2,-999.0000,9,60.86,2,100.06,2,41.54,2,0.01,2,2.98,2,-999.,9,-999.,9,-999.,9,-999,9,-999,9
49UP20160608,RF16-05,5794,1,23,23679,2,20160620,0356,42.674,152.6697,5304,404.1,401,3.3631,34.0284,2,34.0275,2,39.71,2,111.98,2,42.74,2,0.00,2,3.05,2,-999.,9,-999.,9,-999.,9,-999,9,-999,9
49UP20160608,RF16-05,5794,1,21,22078,2,20160620,0354,42.674,152.6697,5304,504.5,500,3.3677,34.1555,2,34.1546,2,18.21,2,124.46,2,44.25,2,0.00,2,3.13,2,-999.,9,-999.,9,-999.,9,-999,9,-999,9
49UP20160608,RF16-05,5794,1,22,22111,2,20160620,0354,42.674,152.6697,5304,504.8,500,3.3673,34.1559,2,34.1522,2,22.45,4,124.13,2,44.21,2,0.00,2,3.12,2,-999.,9,-999.,9,-999.,9,-999,9,-999,9
49UP20160608,RF16-05,5794,1,20,22093,3,20160620,0351,42.674,152.6697,5304,608.2,603,3.1669,34.2291,2,34.2270,6,19.26,2,132.87,2,43.98,2,0.00,2,3.12,2,-999.,9,-999.,9,-999.,9,-999,9,-999,9
49UP20160608,RF16-05,5794,1,19,24269,3,20160620,0348,42.674,152.6697,5304,707.2,700,3.0357,34.2993,2,-999.0000,9,15.17,2,140.99,2,44.21,2,0.00,2,3.14,2,-999.,9,-999.,9,-999.,9,-999,9,-999,9
49UP20160608,RF16-05,5794,1,18,22101,2,20160620,0346,42.674,152.6697,5304,808.2,800,2.8517,34.3553,2,34.3547,2,15.53,2,148.38,2,44.22,2,0.00,2,3.14,2,-999.,9,-999.,9,-999.,9,-999,9,-999,9
49UP20160608,RF16-05,5794,1,17,22090,2,20160620,0343,42.674,152.6697,5304,909.9,901,2.6878,34.3962,2,34.3958,2,18.55,2,153.72,2,44.07,2,0.00,2,3.12,2,-999.,9,-999.,9,-999.,9,-999,9,-999,9
49UP20160608,RF16-05,5794,1,16,24474,3,20160620,0340,42.674,152.6697,5304,1012.7,1002,2.5428,34.4320,2,34.4306,2,23.58,2,157.95,2,43.86,2,0.00,2,3.11,2,-999.,9,-999.,9,-999.,9,-999,9,-999,9
49UP20160608,RF16-05,5794,1,15,22088,3,20160620,0336,42.674,152.6697,5304,1215.5,1202,2.3094,34.4881,2,-999.0000,9,37.76,2,162.00,2,42.97,2,0.00,2,3.04,2,-999.,9,-999.,9,-999.,9,-999,9,-999,9
49UP20160608,RF16-05,5794,1,14,21999,2,20160620,0331,42.674,152.6697,5304,1416.4,1400,2.1758,34.5308,2,34.5312,6,51.07,6,162.55,6,42.21,6,0.00,6,2.99,6,-999.,9,-999.,9,-999.,9,-999,9,-999,9
49UP20160608,RF16-05,5794,1,13,22667,2,20160620,0326,42.674,152.6697,5304,1618.6,1600,2.0629,34.5650,2,-999.0000,9,61.01,2,162.87,2,41.75,2,0.00,2,2.94,2,-999.,9,-999.,9,-999.,9,-999,9,-999,9
49UP20160608,RF16-05,5794,1,12,22074,2,20160620,0322,42.674,152.6697,5304,1823.2,1801,1.9363,34.5900,2,34.5915,2,71.35,2,164.19,2,41.17,2,0.00,2,2.90,2,-999.,9,-999.,9,-999.,9,-999,9,-999,9
49UP20160608,RF16-05,5794,1,10,24267,3,20160620,0317,42.674,152.6697,5304,2027.4,2002,1.8338,34.6100,2,34.6102,2,82.63,2,163.82,2,40.49,2,0.00,2,2.84,2,-999.,9,-999.,9,-999.,9,-999,9,-999,9
49UP20160608,RF16-05,5794,1,11,24268,2,20160620,0317,42.674,152.6697,5304,2028.1,2002,1.8340,34.6099,2,34.6094,2,82.73,2,163.77,2,40.45,2,0.00,2,2.84,2,-999.,9,-999.,9,-999.,9,-999,9,-999,9