BOTTLE,20171117JMAGEMD
EXPOCODE,SECT_ID,STNNBR,CASTNO,SAMPNO,BTLNBR,BTLNBR_FLAG_W,DATE,TIME,LATITUDE,LONGITUDE,DEPTH,CTDPRS,CTDDEP,CTDTMP,CTDSAL,CTDSAL_FLAG_W,SALNTY,SALNTY_FLAG_W,OXYGEN,OXYGEN_FLAG_W,SILCAT,SILCAT_FLAG_W,NO2+NO3,NO2+NO3_FLAG_W,NITRIT,NITRIT_FLAG_W,PHSPHT,PHSPHT_FLAG_W,TCARBN,TCARBN_FLAG_W,ALKALI,ALKALI_FLAG_W,PH_TOT,PH_TOT_FLAG_W,CFC-11,CFC-11_FLAG_W,CFC-12,CFC-12_FLAG_W
,,,,,,,UTC,UTC,,,METER,DBAR,METERS,ITS-90,PSS-78,,PSS-78,,UMOL/KG,,UMOL/KG,,UMOL/KG,,UMOL/KG,,UMOL/KG,,UMOL/KG,,UMOL/KG,,@25DEG-C,,PMOL/KG,,PMOL/KG,
49UP20160608,RF16-05,5772,1,-999,0,2,20160614,1623,42.9875,164.9982,5412,0.0,0,6.5343,32.9683,2,-999.,9,314.48,2,28.84,2,15.43,2,0.15,2,1.40,2,-999.,9,-999.,9,-999.,9,-999,9,-999,9
49UP20160608,RF16-05,5772,1,33,24469,3,20160614,1653,42.9875,164.9982,5412,10.4,10,6.5375,32.9683,2,-999.,9,314.81,2,28.82,2,15.45,2,0.15,2,1.40,2,-999.,9,-999.,9,-999.,9,-999,9,-999,9
49UP20160608,RF16-05,5772,1,32,22105,2,20160614,1652,42.9875,164.9982,5412,26.4,26,6.5239,32.9666,2,-999.,9,315.72,2,28.80,2,15.45,2,0.15,2,1.40,2,-999.,9,-999.,9,-999.,9,-999,9,-999,9
49UP20160608,RF16-05,5772,1,31,23515,2,20160614,1649,42.9875,164.9982,5412,50.7,50,5.0158,33.0165,2,-999.,9,328.30,2,29.57,2,16.81,2,0.17,2,1.47,2,-999.,9,-999.,9,-999.,9,-999,9,-999,9
49UP20160608,RF16-05,5772,1,30,22097,3,20160614,1647,42.9875,164.9982,5412,76.8,76,3.9007,33.0624,2,-999.,9,321.22,2,30.81,2,18.83,2,0.39,2,1.57,2,-999.,9,-999.,9,-999.,9,-999,9,-999,9
49UP20160608,RF16-05,5772,1,29,22102,2,20160614,1646,42.9875,164.9982,5412,101.1,100,3.4634,33.1122,2,-999.,9,315.36,6,32.17,6,20.17,6,0.27,6,1.62,6,-999.,9,-999.,9,-999.,9,-999,9,-999,9
49UP20160608,RF16-05,5772,1,28,24472,2,20160614,1645,42.9875,164.9982,5412,125.5,124,3.4433,33.2143,2,-999.,9,287.47,2,37.40,2,22.30,2,0.01,2,1.74,2,-999.,9,-999.,9,-999.,9,-999,9,-999,9
49UP20160608,RF16-05,5772,1,23,23679,2,20160614,1644,42.9875,164.9982,5412,152.3,151,3.7088,33.5364,2,-999.,9,187.98,2,57.35,2,29.99,2,0.00,2,2.22,2,-999.,9,-999.,9,-999.,9,-999,9,-999,9
49UP20160608,RF16-05,5772,1,24,22110,2,20160614,1644,42.9875,164.9982,5412,153.6,152,3.7052,33.5416,2,-999.,9,188.73,2,57.11,2,29.89,2,0.00,2,2.22,2,-999.,9,-999.,9,-999.,9,-999,9,-999,9
49UP20160608,RF16-05,5772,1,22,22111,3,20160614,1642,42.9875,164.9982,5412,202.8,201,3.4509,33.6521,2,-999.,9,142.35,2,70.49,2,34.68,2,0.00,2,2.53,2,-999.,9,-999.,9,-999.,9,-999,9,-999,9
49UP20160608,RF16-05,5772,1,21,22078,2,20160614,1640,42.9875,164.9982,5412,253.2,251,3.4102,33.7499,2,-999.,9,106.57,2,80.97,2,37.97,2,0.00,2,2.74,2,-999.,9,-999.,9,-999.,9,-999,9,-999,9
49UP20160608,RF16-05,5772,1,20,22093,2,20160614,1638,42.9875,164.9982,5412,303.8,301,3.6046,33.8729,2,-999.,9,81.94,2,89.47,2,39.46,2,0.00,2,2.83,2,-999.,9,-999.,9,-999.,9,-999,9,-999,9
49UP20160608,RF16-05,5772,1,19,24269,2,20160614,1636,42.9875,164.9982,5412,404.8,401,3.6380,34.0232,2,-999.,9,48.88,6,104.39,6,41.86,6,0.00,6,2.98,6,-999.,9,-999.,9,-999.,9,-999,9,-999,9
49UP20160608,RF16-05,5772,1,15,22088,2,20160614,1633,42.9875,164.9982,5412,505.1,500,3.5655,34.1314,2,-999.,9,38.18,2,114.72,2,42.30,2,0.00,2,3.01,2,-999.,9,-999.,9,-999.,9,-999,9,-999,9
49UP20160608,RF16-05,5772,1,14,21999,2,20160614,1630,42.9875,164.9982,5412,606.6,601,3.4008,34.2127,2,-999.,9,28.47,2,124.70,2,43.11,2,0.00,2,3.06,2,-999.,9,-999.,9,-999.,9,-999,9,-999,9
49UP20160608,RF16-05,5772,1,13,22667,2,20160614,1627,42.9875,164.9982,5412,707.6,701,3.2150,34.2769,2,-999.,9,26.80,2,132.55,2,43.28,2,0.00,2,3.08,2,-999.,9,-999.,9,-999.,9,-999,9,-999,9
49UP20160608,RF16-05,5772,1,12,22074,2,20160614,1627,42.9875,164.9982,5412,707.6,701,3.2137,34.2769,2,-999.,9,26.43,2,132.58,2,43.26,2,0.00,2,3.07,2,-999.,9,-999.,9,-999.,9,-999,9,-999,9
49UP20160608,RF16-05,5772,1,11,24268,2,20160614,1624,42.9875,164.9982,5412,809.0,801,3.0711,34.3322,2,-999.,9,30.92,2,137.47,2,42.96,2,0.00,2,3.06,2,-999.,9,-999.,9,-999.,9,-999,9,-999,9
49UP20160608,RF16-05,5772,1,10,24267,3,20160614,1621,42.9875,164.9982,5412,910.6,901,2.9083,34.3729,2,-999.,9,31.54,2,142.61,2,43.04,2,0.00,2,3.06,2,-999.,9,-999.,9,-999.,9,-999,9,-999,9
49UP20160608,RF16-05,5772,1,6,22113,2,20160614,1618,42.9875,164.9982,5412,1012.4,1002,2.7555,34.4101,2,-999.,9,32.81,2,147.51,2,43.04,2,0.00,2,3.06,2,-999.,9,-999.,9,-999.,9,-999,9,-999,9
49UP20160608,RF16-05,5772,1,5,24658,2,20160614,1613,42.9875,164.9982,5412,1215.1,1202,2.4800,34.4668,2,-999.,9,37.15,2,155.71,2,43.02,2,0.00,2,3.05,2,-999.,9,-999.,9,-999.,9,-999,9,-999,9
49UP20160608,RF16-05,5772,1,4,24471,2,20160614,1608,42.9875,164.9982,5412,1415.7,1400,2.3102,34.5128,2,-999.,9,44.94,2,159.57,2,42.70,2,0.00,2,3.03,2,-999.,9,-999.,9,-999.,9,-999,9,-999,9
49UP20160608,RF16-05,5772,1,3,22104,2,20160614,1603,42.9875,164.9982,5412,1620.5,1601,2.1487,34.5448,2,-999.,9,53.29,2,162.69,2,42.24,2,0.00,2,2.98,2,-999.,9,-999.,9,-999.,9,-999,9,-999,9
49UP20160608,RF16-05,5772,1,2,22075,2,20160614,1558,42.9875,164.9982,5412,1823.1,1801,2.0204,34.5737,2,-999.,9,63.34,2,164.14,2,41.65,2,0.00,2,2.93,2,-999.,9,-999.,9,-999.,9,-999,9,-999,9
49UP20160608,RF16-05,5772,1,1,21997,2,20160614,1553,42.9875,164.9982,5412,2027.4,2002,1.8862,34.6000,2,-999.,9,76.20,3,164.93,2,40.89,2,0.00,2,2.87,2,-999.,9,-999.,9,-999.,9,-999,9,-999,9
49UP20160608,RF16-05,5774,1,-999,0,2,20160615,0750,45.0007,164.9967,5944,0.0,0,6.3739,33.1998,2,34.9405,2,319.14,2,26.11,2,14.46,2,0.20,2,1.27,2,2078.2,2,2229.5,2,7.7680,2,-999,9,-999,9
49UP20160608,RF16-05,5774,1,36,22109,2,20160615,0811,45.0007,164.9967,5944,10.8,11,6.3643,33.1993,2,33.1992,2,320.55,2,26.08,2,14.42,2,0.20,2,1.25,2,2085.6,6,2236.1,6,7.7758,2,-999,9,-999,9
49UP20160608,RF16-05,5774,1,35,22112,2,20160615,0810,45.0007,164.9967,5944,25.6,25,6.0578,33.1920,2,-999.0000,9,322.24,2,26.35,2,14.44,2,0.19,2,1.25,2,2081.1,2,2233.6,2,7.7773,2,-999,9,-999,9
49UP20160608,RF16-05,5774,1,34,22094,2,20160615,0807,45.0007,164.9967,5944,51.0,51,6.0006,33.1910,2,33.2009,4,318.59,2,26.59,2,14.78,2,0.20,2,1.27,2,2089.6,2,2236.1,2,7.7674,2,-999,9,-999,9
49UP20160608,RF16-05,5774,1,33,24469,3,20160615,0805,45.0007,164.9967,5944,75.7,75,4.7105,33.2990,2,-999.0000,9,312.69,2,27.43,2,17.16,2,0.47,2,1.40,2,2114.5,2,2236.2,2,7.7114,2,-999,9,-999,9
49UP20160608,RF16-05,5774,1,32,22105,2,20160615,0804,45.0007,164.9967,5944,101.6,101,4.9477,33.3677,2,33.3699,2,308.62,2,26.92,2,17.03,2,0.11,2,1.36,2,2113.2,2,2239.1,2,7.7146,2,-999,9,-999,9
49UP20160608,RF16-05,5774,1,31,23515,2,20160615,0803,45.0007,164.9967,5944,126.1,125,4.9500,33.4026,2,-999.0000,9,306.09,2,26.75,2,17.16,2,0.01,2,1.36,2,2114.1,2,2240.8,2,7.7115,2,-999,9,-999,9
49UP20160608,RF16-05,5774,1,30,22097,2,20160615,0802,45.0007,164.9967,5944,152.9,152,5.2533,33.4897,2,33.4920,2,297.09,6,27.55,6,17.18,6,0.01,6,1.34,6,2116.3,2,2244.4,2,7.7098,2,-999,9,-999,9
49UP20160608,RF16-05,5774,1,29,22102,2,20160615,0800,45.0007,164.9967,5944,201.8,200,5.3287,33.6431,2,33.6503,4,225.86,2,41.58,2,23.27,2,0.01,2,1.73,2,2164.7,2,2257.6,2,7.6108,2,-999,9,-999,9
49UP20160608,RF16-05,5774,1,28,24472,2,20160615,0758,45.0007,164.9967,5944,253.1,251,4.2209,33.6933,2,-999.0000,9,160.98,2,62.58,2,31.24,2,0.00,2,2.29,2,2223.6,2,2273.8,2,7.4732,2,-999,9,-999,9
49UP20160608,RF16-05,5774,1,27,21998,3,20160615,0756,45.0007,164.9967,5944,304.3,302,4.0744,33.7516,2,33.7506,2,140.35,2,69.14,2,33.24,2,0.00,2,2.43,2,2245.6,2,2279.5,2,7.4347,6,-999,9,-999,9
49UP20160608,RF16-05,5774,1,26,22084,2,20160615,0753,45.0007,164.9967,5944,404.9,401,3.9266,33.9159,2,33.9191,6,89.48,2,87.42,2,37.89,2,0.00,2,2.72,2,2286.0,2,2300.4,2,7.3584,2,-999,9,-999,9
49UP20160608,RF16-05,5774,1,25,22098,3,20160615,0751,45.0007,164.9967,5944,506.7,502,3.7517,34.0557,2,-999.0000,9,57.34,6,104.01,6,40.65,6,0.00,6,2.90,6,2320.7,2,2318.6,2,7.3166,2,-999,9,-999,9
49UP20160608,RF16-05,5774,1,24,22110,2,20160615,0748,45.0007,164.9967,5944,606.7,601,3.5772,34.1379,2,34.1373,2,42.15,2,114.69,2,41.82,2,0.00,2,2.98,2,2338.9,2,2327.6,2,7.3125,2,-999,9,-999,9
49UP20160608,RF16-05,5774,1,23,23679,2,20160615,0745,45.0007,164.9967,5944,707.7,701,3.4107,34.2125,2,34.2122,2,35.26,2,123.48,2,42.39,2,0.00,2,3.02,2,2350.0,2,2345.8,2,7.3108,2,-999,9,-999,9
49UP20160608,RF16-05,5774,1,22,22111,2,20160615,0742,45.0007,164.9967,5944,810.5,802,3.2290,34.2862,2,34.2869,2,34.10,2,131.68,2,42.54,2,0.00,2,3.03,2,2360.7,2,2355.8,2,7.3187,2,-999,9,-999,9
49UP20160608,RF16-05,5774,1,21,22078,2,20160615,0740,45.0007,164.9967,5944,910.5,901,2.9790,34.3200,2,-999.0000,9,30.07,2,139.88,2,43.04,2,0.00,2,3.07,2,2369.3,2,2363.2,6,7.3156,2,-999,9,-999,9
49UP20160608,RF16-05,5774,1,20,22093,2,20160615,0737,45.0007,164.9967,5944,1011.9,1001,2.8590,34.3692,2,34.3697,2,29.09,2,144.94,2,43.20,2,0.00,2,3.07,2,2373.7,2,2370.3,2,7.3172,2,-999,9,-999,9
49UP20160608,RF16-05,5774,1,19,24269,2,20160615,0733,45.0007,164.9967,5944,1214.9,1202,2.6020,34.4311,2,34.4313,2,31.53,6,153.34,6,43.22,6,0.00,6,3.06,6,2378.0,2,2381.4,2,7.3299,2,-999,9,-999,9
49UP20160608,RF16-05,5774,1,18,22101,2,20160615,0728,45.0007,164.9967,5944,1418.8,1403,2.3975,34.4846,2,-999.0000,9,39.51,2,158.48,2,42.87,2,0.00,2,3.03,2,2384.0,2,2390.2,2,7.3535,2,-999,9,-999,9
49UP20160608,RF16-05,5774,1,17,22090,2,20160615,0724,45.0007,164.9967,5944,1621.4,1602,2.2311,34.5249,2,34.5250,2,47.28,2,162.07,2,42.46,2,0.00,2,3.00,2,2381.4,2,2398.1,2,7.3717,2,-999,9,-999,9
49UP20160608,RF16-05,5774,1,16,24474,2,20160615,0719,45.0007,164.9967,5944,1822.8,1800,2.0917,34.5582,2,-999.0000,9,56.50,2,164.55,2,42.04,2,0.00,2,2.96,2,2376.0,2,2402.6,2,7.3927,2,-999,9,-999,9
49UP20160608,RF16-05,5774,1,15,22088,2,20160615,0714,45.0007,164.9967,5944,2027.6,2001,1.9409,34.5846,2,34.5852,2,63.60,2,169.76,2,41.57,2,0.00,2,2.93,2,2379.2,2,2406.8,2,7.4061,2,-999,9,-999,9
49UP20160608,RF16-05,5774,1,14,21999,2,20160615,0709,45.0007,164.9967,5944,2282.3,2252,1.8094,34.6131,2,34.6136,2,81.32,2,167.94,2,40.49,2,0.00,2,2.84,2,2377.0,2,2411.4,2,7.4420,6,-999,9,-999,9
49UP20160608,RF16-05,5774,1,13,22667,2,20160615,0703,45.0007,164.9967,5944,2534.8,2499,1.7041,34.6335,2,34.6341,2,96.81,2,165.91,2,39.52,2,0.00,2,2.77,2,2360.9,2,2410.7,2,7.4727,2,-999,9,-999,9
49UP20160608,RF16-05,5774,1,12,22074,2,20160615,0657,45.0007,164.9967,5944,2792.2,2751,1.6261,34.6487,2,34.6491,2,110.74,2,162.64,2,38.69,2,0.00,2,2.71,2,2354.4,6,2413.8,6,7.4997,6,-999,9,-999,9
49UP20160608,RF16-05,5774,1,11,24268,4,20160615,0652,45.0007,164.9967,5944,3046.7,3000,1.5727,34.6591,2,-999.0000,9,-999.00,9,-999.00,9,-999.00,9,-999.00,9,-999.000,9,-999.0,9,-999.0,9,-999.0000,9,-999,9,-999,9
49UP20160608,RF16-05,5774,1,10,24267,2,20160615,0647,45.0007,164.9967,5944,3303.3,3251,1.5324,34.6673,2,34.6679,2,130.16,2,157.30,2,37.41,2,0.00,2,2.61,2,2338.5,2,2413.9,2,7.5357,2,-999,9,-999,9
49UP20160608,RF16-05,5774,1,9,23518,2,20160615,0641,45.0007,164.9967,5944,3558.6,3500,1.5071,34.6728,2,34.6736,6,136.86,6,155.58,6,37.02,6,0.00,6,2.57,6,2337.2,2,2413.1,2,7.5487,2,-999,9,-999,9
49UP20160608,RF16-05,5774,1,8,24470,2,20160615,0636,45.0007,164.9967,5944,3815.3,3751,1.4886,34.6779,2,-999.0000,9,142.72,2,154.07,2,36.62,2,0.00,2,2.54,2,2337.9,2,2413.3,2,7.5572,2,-999,9,-999,9
49UP20160608,RF16-05,5774,1,7,23516,2,20160615,0630,45.0007,164.9967,5944,4072.4,4001,1.4835,34.6816,2,34.6824,2,147.22,2,152.75,2,36.32,2,0.00,2,2.52,2,2327.1,2,2412.5,2,7.5678,6,-999,9,-999,9
49UP20160608,RF16-05,5774,1,6,22113,2,20160615,0620,45.0007,164.9967,5944,4587.3,4502,1.4947,34.6866,2,34.6873,2,153.81,2,151.07,2,35.87,2,0.00,2,2.48,2,2321.5,2,2411.5,2,7.5772,2,-999,9,-999,9
49UP20160608,RF16-05,5774,1,5,24658,2,20160615,0610,45.0007,164.9967,5944,5102.0,5001,1.5330,34.6896,2,34.6903,2,156.74,2,151.47,2,35.68,2,0.00,2,2.46,2,2321.8,2,2413.8,2,7.5815,2,-999,9,-999,9
49UP20160608,RF16-05,5774,1,4,24471,2,20160615,0605,45.0007,164.9967,5944,5359.7,5251,1.5608,34.6905,2,34.6906,6,157.36,2,152.53,2,35.64,2,0.00,2,2.47,2,2321.0,6,2412.0,6,7.5854,2,-999,9,-999,9
49UP20160608,RF16-05,5774,1,3,22104,2,20160615,0559,45.0007,164.9967,5944,5618.9,5501,1.5952,34.6906,2,34.6905,2,157.16,2,152.44,2,35.64,2,0.00,2,2.46,2,2323.2,2,2413.6,2,7.5826,2,-999,9,-999,9
49UP20160608,RF16-05,5774,1,2,22075,2,20160615,0554,45.0007,164.9967,5944,5876.4,5750,1.6303,34.6907,2,34.6897,2,157.60,2,152.53,2,35.67,2,0.00,2,2.46,2,2319.5,2,2413.2,2,7.5834,2,-999,9,-999,9
49UP20160608,RF16-05,5774,1,1,21997,2,20160615,0549,45.0007,164.9967,5944,6091.5,5958,1.6603,34.6908,2,34.6907,2,157.39,2,152.58,2,35.66,2,0.00,2,2.46,2,2323.2,2,2411.5,2,7.5839,2,-999,9,-999,9
49UP20160608,RF16-05,5776,1,-999,0,2,20160615,2243,46.9802,164.9987,5872,0.0,0,4.7171,32.9381,2,34.9368,2,332.07,2,35.39,2,19.32,2,0.19,2,1.61,2,2090.2,2,2222.5,2,7.7268,2,-999,9,-999,9
49UP20160608,RF16-05,5776,1,36,22109,3,20160615,2310,46.9802,164.9987,5872,11.3,11,4.6612,32.9371,2,32.9383,2,332.76,2,35.48,2,19.33,2,0.19,2,1.60,2,2090.3,2,2228.0,2,7.7281,2,-999,9,-999,9
49UP20160608,RF16-05,5776,1,35,22112,2,20160615,2309,46.9802,164.9987,5872,26.8,27,4.4599,32.9348,2,32.9357,2,333.39,2,35.71,2,19.46,2,0.19,2,1.62,2,2097.6,2,2228.5,2,7.7290,6,-999,9,-999,9
49UP20160608,RF16-05,5776,1,34,22094,2,20160615,2305,46.9802,164.9987,5872,51.7,51,4.3657,32.9331,2,-999.0000,9,330.49,2,35.56,2,19.80,2,0.20,2,1.64,2,2100.4,2,2228.4,2,7.7144,2,-999,9,-999,9
49UP20160608,RF16-05,5776,1,33,24469,2,20160615,2304,46.9802,164.9987,5872,76.1,75,2.6797,32.9949,2,32.9957,2,332.10,2,37.82,2,22.01,2,0.27,2,1.79,2,2119.6,6,2229.5,6,7.6629,2,-999,9,-999,9
49UP20160608,RF16-05,5776,1,32,22105,2,20160615,2303,46.9802,164.9987,5872,101.2,100,2.2836,33.0056,2,-999.0000,9,330.72,2,39.46,2,23.14,2,0.39,2,1.85,2,2123.4,2,2230.9,2,7.6459,2,-999,9,-999,9
49UP20160608,RF16-05,5776,1,31,23515,2,20160615,2302,46.9802,164.9987,5872,126.8,126,1.8073,33.0329,2,33.0347,2,325.22,2,41.41,2,24.58,2,0.33,2,1.92,2,2134.8,2,2229.3,2,7.6230,2,-999,9,-999,9
49UP20160608,RF16-05,5776,1,30,22097,2,20160615,2301,46.9802,164.9987,5872,151.8,150,2.1672,33.2557,2,-999.0000,9,231.10,2,57.10,2,30.70,2,0.01,2,2.30,2,2200.3,2,2250.4,2,7.4951,2,-999,9,-999,9
49UP20160608,RF16-05,5776,1,29,22102,2,20160615,2259,46.9802,164.9987,5872,202.5,201,3.3061,33.7383,2,33.7460,2,70.82,6,88.68,6,41.98,6,0.00,6,2.98,6,2299.1,2,2287.1,2,7.2684,2,-999,9,-999,9
49UP20160608,RF16-05,5776,1,28,24472,2,20160615,2257,46.9802,164.9987,5872,253.2,251,3.4269,33.8558,2,33.8548,2,47.67,2,96.36,2,43.25,2,0.00,2,3.06,2,2326.0,2,2295.6,2,7.2442,2,-999,9,-999,9
49UP20160608,RF16-05,5776,1,27,21998,3,20160615,2255,46.9802,164.9987,5872,304.2,301,3.5862,33.9496,2,-999.0000,9,32.60,2,102.13,2,43.93,2,0.00,2,3.10,2,2335.9,2,2307.2,2,7.2451,2,-999,9,-999,9
49UP20160608,RF16-05,5776,1,26,22084,2,20160615,2252,46.9802,164.9987,5872,404.0,400,3.6550,34.0801,2,34.0814,2,16.35,2,112.67,2,44.68,2,0.00,2,3.14,2,2346.1,2,2323.5,2,7.2396,2,-999,9,-999,9
49UP20160608,RF16-05,5776,1,25,22098,2,20160615,2250,46.9802,164.9987,5872,504.5,500,3.5224,34.1563,2,34.1576,2,18.97,2,119.97,2,44.04,2,0.00,2,3.10,2,2346.7,2,2334.4,2,7.2603,2,-999,9,-999,9
49UP20160608,RF16-05,5776,1,24,22110,2,20160615,2248,46.9802,164.9987,5872,605.6,600,3.3311,34.2251,2,34.2244,2,24.99,6,127.22,6,43.33,6,0.00,6,3.07,6,2357.7,2,2347.3,2,7.2869,2,-999,9,-999,9
49UP20160608,RF16-05,5776,1,23,23679,2,20160615,2245,46.9802,164.9987,5872,707.2,700,3.2111,34.2772,2,-999.0000,9,15.69,2,134.35,2,44.15,2,0.00,2,3.12,2,2366.2,2,2355.6,2,7.2790,2,-999,9,-999,9
49UP20160608,RF16-05,5776,1,22,22111,2,20160615,2242,46.9802,164.9987,5872,809.1,801,3.0315,34.3261,2,34.3261,2,17.32,2,140.70,2,44.05,2,0.00,2,3.12,2,2371.1,2,2363.2,2,7.2881,2,-999,9,-999,9
49UP20160608,RF16-05,5776,1,21,22078,2,20160615,2240,46.9802,164.9987,5872,911.0,901,2.8902,34.3628,2,34.3638,2,16.69,2,146.17,2,44.14,2,0.00,2,3.12,2,2380.2,2,2371.2,2,7.2964,2,-999,9,-999,9
49UP20160608,RF16-05,5776,1,20,22093,2,20160615,2237,46.9802,164.9987,5872,1012.2,1001,2.7409,34.3991,2,34.3995,2,19.48,3,150.78,2,44.06,2,0.00,2,3.11,2,2384.6,2,2377.6,2,7.3044,2,-999,9,-999,9
49UP20160608,RF16-05,5776,1,19,24269,2,20160615,2232,46.9802,164.9987,5872,1215.2,1202,2.4606,34.4619,2,-999.0000,9,28.03,2,158.87,2,43.56,2,0.00,2,3.08,2,2384.2,6,2388.8,6,7.3256,2,-999,9,-999,9
49UP20160608,RF16-05,5776,1,18,22101,2,20160615,2227,46.9802,164.9987,5872,1417.7,1401,2.2516,34.5084,2,34.5085,6,35.54,6,165.13,6,43.15,6,0.00,6,3.04,6,2385.6,2,2397.8,2,7.3445,2,-999,9,-999,9
49UP20160608,RF16-05,5776,1,17,22090,2,20160615,2223,46.9802,164.9987,5872,1620.9,1601,2.0841,34.5480,2,-999.0000,9,47.23,2,168.53,2,42.45,2,0.00,2,2.99,2,2385.5,2,2403.9,2,7.3713,2,-999,9,-999,9
49UP20160608,RF16-05,5776,1,16,24474,2,20160615,2218,46.9802,164.9987,5872,1824.5,1801,1.9453,34.5799,2,34.5800,2,60.88,2,169.61,2,41.68,2,0.00,2,2.93,2,2384.1,2,2407.9,2,7.3990,2,-999,9,-999,9
49UP20160608,RF16-05,5776,1,15,22088,2,20160615,2213,46.9802,164.9987,5872,2027.2,2001,1.8512,34.6018,2,34.6022,2,73.50,2,168.21,2,40.94,2,0.00,2,2.88,2,2377.0,2,2409.9,2,7.4276,2,-999,9,-999,9
49UP20160608,RF16-05,5776,1,14,21999,2,20160615,2208,46.9802,164.9987,5872,2282.2,2251,1.7313,34.6266,2,-999.0000,9,91.54,2,165.62,2,39.85,2,0.00,2,2.79,2,2363.4,2,2411.9,2,7.4627,2,-999,9,-999,9
49UP20160608,RF16-05,5776,1,13,22667,2,20160615,2202,46.9802,164.9987,5872,2537.2,2501,1.6470,34.6421,2,34.6412,2,103.24,2,163.76,2,39.09,2,0.00,2,2.74,2,2356.0,2,2413.8,2,7.4851,6,-999,9,-999,9
49UP20160608,RF16-05,5776,1,12,22074,2,20160615,2156,46.9802,164.9987,5872,2793.0,2752,1.5896,34.6535,2,34.6546,6,115.17,2,161.28,2,38.38,2,0.00,2,2.67,2,2350.3,6,2414.9,6,7.5079,6,-999,9,-999,9
49UP20160608,RF16-05,5776,1,11,24268,4,20160615,2151,46.9802,164.9987,5872,3048.2,3001,1.5385,34.6629,2,-999.0000,9,-999.00,9,-999.00,9,-999.00,9,-999.00,9,-999.000,9,-999.0,9,-999.0,9,-999.0000,9,-999,9,-999,9
49UP20160608,RF16-05,5776,1,10,24267,2,20160615,2146,46.9802,164.9987,5872,3303.3,3250,1.5093,34.6695,2,-999.0000,9,132.71,2,156.78,2,37.25,2,0.00,2,2.58,2,2343.8,2,2412.2,2,7.5397,2,-999,9,-999,9
49UP20160608,RF16-05,5776,1,9,23518,2,20160615,2140,46.9802,164.9987,5872,3560.1,3501,1.4864,34.6750,2,34.6757,2,139.17,2,154.74,2,36.87,2,0.00,2,2.55,2,2333.4,6,2413.9,6,7.5520,2,-999,9,-999,9
49UP20160608,RF16-05,5776,1,8,24470,2,20160615,2130,46.9802,164.9987,5872,4073.4,4001,1.4717,34.6827,2,34.6827,2,148.56,6,152.27,6,36.25,6,0.00,6,2.51,6,2329.1,2,2413.5,2,7.5686,2,-999,9,-999,9
49UP20160608,RF16-05,5776,1,7,23516,2,20160615,2125,46.9802,164.9987,5872,4331.1,4252,1.4802,34.6849,2,34.6852,2,151.46,2,151.71,2,36.04,2,0.00,2,2.49,2,2324.2,2,2412.3,2,7.5735,2,-999,9,-999,9
49UP20160608,RF16-05,5776,1,6,22113,2,20160615,2119,46.9802,164.9987,5872,4588.3,4502,1.4916,34.6870,2,34.6876,2,154.09,2,151.04,2,35.89,2,0.00,2,2.48,2,2325.9,2,2411.5,2,7.5787,2,-999,9,-999,9
49UP20160608,RF16-05,5776,1,5,24658,2,20160615,2109,46.9802,164.9987,5872,5103.3,5001,1.5317,34.6898,2,34.6898,2,157.00,2,151.53,2,35.68,2,0.00,2,2.47,2,2324.1,2,2413.0,2,7.5822,2,-999,9,-999,9
49UP20160608,RF16-05,5776,1,4,24471,2,20160615,2104,46.9802,164.9987,5872,5362.3,5252,1.5616,34.6903,2,34.6909,2,157.56,2,152.35,2,35.66,2,0.00,2,2.46,2,2323.2,2,2413.5,2,7.5821,6,-999,9,-999,9
49UP20160608,RF16-05,5776,1,3,22104,2,20160615,2058,46.9802,164.9987,5872,5620.1,5501,1.5954,34.6906,2,34.6906,2,157.27,2,152.37,2,35.66,2,0.00,2,2.46,2,2321.3,2,2412.6,2,7.5845,2,-999,9,-999,9
49UP20160608,RF16-05,5776,1,2,22075,2,20160615,2052,46.9802,164.9987,5872,5877.9,5751,1.6303,34.6906,2,34.6912,6,157.79,2,152.41,2,35.64,2,0.00,2,2.47,2,2317.0,3,2413.0,2,7.5852,2,-999,9,-999,9
49UP20160608,RF16-05,5776,1,1,21997,2,20160615,2049,46.9802,164.9987,5872,6007.6,5876,1.6484,34.6906,2,34.6908,2,157.63,2,152.40,2,35.69,2,0.00,2,2.46,2,2325.5,2,2413.7,2,7.5825,2,-999,9,-999,9