BOTTLE,20171117JMAGEMD
EXPOCODE,SECT_ID,STNNBR,CASTNO,SAMPNO,BTLNBR,BTLNBR_FLAG_W,DATE,TIME,LATITUDE,LONGITUDE,DEPTH,CTDPRS,CTDDEP,CTDTMP,CTDSAL,CTDSAL_FLAG_W,SALNTY,SALNTY_FLAG_W,OXYGEN,OXYGEN_FLAG_W,SILCAT,SILCAT_FLAG_W,NO2+NO3,NO2+NO3_FLAG_W,NITRIT,NITRIT_FLAG_W,PHSPHT,PHSPHT_FLAG_W,TCARBN,TCARBN_FLAG_W,ALKALI,ALKALI_FLAG_W,PH_TOT,PH_TOT_FLAG_W,CFC-11,CFC-11_FLAG_W,CFC-12,CFC-12_FLAG_W
,,,,,,,UTC,UTC,,,METER,DBAR,METERS,ITS-90,PSS-78,,PSS-78,,UMOL/KG,,UMOL/KG,,UMOL/KG,,UMOL/KG,,UMOL/KG,,UMOL/KG,,UMOL/KG,,@25DEG-C,,PMOL/KG,,PMOL/KG,
49UP20160608,RF16-05,5779,1,-999,0,2,20160616,1930,49.9877,164.9988,5484,0.0,0,5.6712,32.9100,2,34.5841,2,320.34,2,35.82,2,20.33,2,0.23,2,1.69,2,2083.6,2,2221.7,2,7.7297,2,-999,9,-999,9
49UP20160608,RF16-05,5779,1,36,22109,2,20160616,1956,49.9877,164.9988,5484,11.9,12,5.6082,32.9112,2,32.9211,4,321.75,2,35.99,2,20.46,2,0.23,2,1.68,2,2094.4,2,2227.1,2,7.7320,2,-999,9,-999,9
49UP20160608,RF16-05,5779,1,35,22112,2,20160616,1955,49.9877,164.9988,5484,25.9,26,3.8075,33.0280,2,-999.0000,9,330.51,2,39.37,2,22.95,2,0.24,2,1.84,2,2106.2,6,2231.7,6,7.7019,2,-999,9,-999,9
49UP20160608,RF16-05,5779,1,34,22094,3,20160616,1952,49.9877,164.9988,5484,50.6,50,2.7024,33.0798,2,33.0797,2,319.06,2,46.24,2,26.16,2,0.48,2,2.05,2,2140.1,2,2235.6,2,7.6271,2,-999,9,-999,9
49UP20160608,RF16-05,5779,1,33,24469,3,20160616,1951,49.9877,164.9988,5484,76.1,75,3.1338,33.3260,2,-999.0000,9,251.22,2,52.46,2,30.06,2,0.17,2,2.25,2,2176.2,2,2242.9,2,7.5279,6,-999,9,-999,9
49UP20160608,RF16-05,5779,1,32,22105,2,20160616,1950,49.9877,164.9988,5484,101.5,101,3.4202,33.6046,2,33.6195,4,111.46,2,77.31,2,39.72,2,0.02,2,2.83,2,2273.9,2,2273.6,2,7.3255,2,-999,9,-999,9
49UP20160608,RF16-05,5779,1,31,23515,2,20160616,1949,49.9877,164.9988,5484,126.5,125,3.7583,33.8118,2,-999.0000,9,43.52,2,89.67,2,44.10,2,0.01,2,3.10,2,2318.6,2,2289.7,2,7.2326,2,-999,9,-999,9
49UP20160608,RF16-05,5779,1,30,22097,2,20160616,1948,49.9877,164.9988,5484,151.9,151,3.7781,33.8797,2,33.8847,2,27.91,2,94.49,2,45.00,2,0.01,2,3.15,2,2332.5,2,2296.9,2,7.2129,2,-999,9,-999,9
49UP20160608,RF16-05,5779,1,29,22102,2,20160616,1946,49.9877,164.9988,5484,202.6,201,3.7578,33.9690,2,33.9690,2,14.40,2,102.55,2,45.72,2,0.00,2,3.21,2,2346.6,2,2306.8,2,7.2035,2,-999,9,-999,9
49UP20160608,RF16-05,5779,1,28,24472,3,20160616,1944,49.9877,164.9988,5484,253.9,252,3.7279,34.0343,2,-999.0000,9,12.67,6,108.10,6,45.41,6,0.00,6,3.20,6,2354.0,2,2317.5,2,7.2180,2,-999,9,-999,9
49UP20160608,RF16-05,5779,1,27,21998,2,20160616,1943,49.9877,164.9988,5484,304.8,302,3.6618,34.0745,2,34.0741,2,11.88,2,112.54,2,45.21,2,0.00,2,3.18,2,2355.0,2,2322.9,2,7.2223,2,-999,9,-999,9
49UP20160608,RF16-05,5779,1,26,22084,2,20160616,1940,49.9877,164.9988,5484,404.3,400,3.5155,34.1670,2,34.1665,2,13.31,2,121.74,2,44.62,2,0.00,2,3.14,2,2365.2,2,2337.1,6,7.2503,2,-999,9,-999,9
49UP20160608,RF16-05,5779,1,25,22098,2,20160616,1937,49.9877,164.9988,5484,507.5,503,3.3757,34.2281,2,-999.0000,9,13.11,2,128.60,2,44.50,2,0.00,2,3.14,2,2371.0,2,2348.8,2,7.2601,2,-999,9,-999,9
49UP20160608,RF16-05,5779,1,24,22110,2,20160616,1934,49.9877,164.9988,5484,607.3,601,3.2279,34.2795,2,34.2781,2,14.26,2,134.46,2,44.35,2,0.00,2,3.13,2,2372.4,2,2355.5,2,7.2740,2,-999,9,-999,9
49UP20160608,RF16-05,5779,1,23,23679,2,20160616,1932,49.9877,164.9988,5484,708.7,701,3.0584,34.3237,2,34.3229,2,14.66,2,140.43,2,44.30,2,0.00,2,3.13,2,2381.5,2,2363.6,2,7.2809,2,-999,9,-999,9
49UP20160608,RF16-05,5779,1,22,22111,2,20160616,1929,49.9877,164.9988,5484,809.1,801,2.9122,34.3664,2,34.3661,2,16.15,6,145.40,6,44.29,6,0.00,6,3.13,6,2379.0,2,2373.9,2,7.2923,2,-999,9,-999,9
49UP20160608,RF16-05,5779,1,21,22078,2,20160616,1926,49.9877,164.9988,5484,910.6,901,2.7596,34.3978,2,-999.0000,9,17.53,2,150.39,2,44.22,2,0.00,2,3.12,2,2382.8,2,2378.7,2,7.2962,6,-999,9,-999,9
49UP20160608,RF16-05,5779,1,20,22093,2,20160616,1924,49.9877,164.9988,5484,1012.5,1001,2.6145,34.4299,2,34.4307,2,20.12,2,154.95,2,44.17,2,0.00,2,3.11,2,2389.1,2,2384.4,2,7.3028,2,-999,9,-999,9
49UP20160608,RF16-05,5779,1,19,24269,2,20160616,1919,49.9877,164.9988,5484,1215.0,1201,2.3426,34.4897,2,34.4902,2,29.71,2,162.82,2,43.66,2,0.00,2,3.07,2,2390.3,2,2396.6,2,7.3307,2,-999,9,-999,9
49UP20160608,RF16-05,5779,1,18,22101,2,20160616,1914,49.9877,164.9988,5484,1417.9,1401,2.1528,34.5313,2,-999.0000,9,40.50,2,167.01,2,43.00,2,0.00,2,3.03,2,2390.8,2,2403.0,2,7.3497,2,-999,9,-999,9
49UP20160608,RF16-05,5779,1,17,22090,2,20160616,1910,49.9877,164.9988,5484,1621.9,1602,2.0002,34.5650,2,34.5653,6,52.99,2,169.18,2,42.28,2,0.00,2,2.97,2,2385.4,2,2407.0,2,7.3806,2,-999,9,-999,9
49UP20160608,RF16-05,5779,1,16,24474,2,20160616,1905,49.9877,164.9988,5484,1824.7,1801,1.8798,34.5900,2,-999.0000,9,64.82,6,170.86,6,41.57,6,0.00,6,2.92,6,2380.4,2,2408.6,2,7.4056,2,-999,9,-999,9
49UP20160608,RF16-05,5779,1,15,22088,2,20160616,1900,49.9877,164.9988,5484,2027.2,2000,1.7907,34.6091,2,34.6094,2,76.10,2,171.37,2,40.75,2,0.00,2,2.87,2,2373.0,2,2410.9,2,7.4288,2,-999,9,-999,9
49UP20160608,RF16-05,5779,1,14,21999,2,20160616,1854,49.9877,164.9988,5484,2282.4,2251,1.6894,34.6300,2,34.6311,6,91.95,2,169.29,2,39.79,2,0.00,2,2.80,2,2367.6,2,2413.2,2,7.4582,2,-999,9,-999,9
49UP20160608,RF16-05,5779,1,13,22667,2,20160616,1849,49.9877,164.9988,5484,2537.4,2501,1.6120,34.6456,2,34.6460,2,106.28,2,166.13,2,38.88,2,0.00,2,2.73,2,2357.8,2,2415.0,2,7.4905,2,-999,9,-999,9
49UP20160608,RF16-05,5779,1,12,22074,3,20160616,1843,49.9877,164.9988,5484,2792.4,2750,1.5590,34.6566,2,-999.0000,9,118.41,2,162.31,2,38.17,2,0.00,2,2.67,2,2346.3,3,2416.2,2,7.5093,2,-999,9,-999,9
49UP20160608,RF16-05,5779,1,6,22113,2,20160616,1838,49.9877,164.9988,5484,3048.8,3001,1.5197,34.6648,2,34.6663,2,127.06,2,159.72,2,37.57,2,0.00,2,2.62,2,2349.2,2,2414.8,2,7.5294,2,-999,9,-999,9
49UP20160608,RF16-05,5779,1,10,24267,3,20160616,1832,49.9877,164.9988,5484,3303.0,3249,1.4855,34.6721,2,34.6718,2,135.71,2,156.69,2,37.07,2,0.00,2,2.58,2,2337.3,6,2414.9,6,7.5423,2,-999,9,-999,9
49UP20160608,RF16-05,5779,1,9,23518,2,20160616,1827,49.9877,164.9988,5484,3561.3,3501,1.4730,34.6763,2,34.6770,2,140.90,2,155.12,2,36.69,2,0.00,2,2.55,2,2330.7,2,2414.5,2,7.5536,2,-999,9,-999,9
49UP20160608,RF16-05,5779,1,8,24470,2,20160616,1821,49.9877,164.9988,5484,3817.6,3751,1.4688,34.6799,2,-999.0000,9,145.42,2,153.69,2,36.46,2,0.00,2,2.53,2,2331.5,2,2413.9,2,7.5633,2,-999,9,-999,9
49UP20160608,RF16-05,5779,1,7,23516,3,20160616,1816,49.9877,164.9988,5484,4073.6,4000,1.4712,34.6828,2,34.6836,6,148.71,6,152.96,6,36.20,6,0.00,6,2.52,6,2322.9,2,2412.8,2,7.5658,2,-999,9,-999,9
49UP20160608,RF16-05,5779,1,11,24268,2,20160616,1810,49.9877,164.9988,5484,4331.3,4251,1.4807,34.6849,2,34.6857,2,151.17,2,151.98,2,36.03,2,0.00,2,2.50,2,2332.2,2,2413.1,2,7.5713,6,-999,9,-999,9
49UP20160608,RF16-05,5779,1,5,24658,2,20160616,1805,49.9877,164.9988,5484,4588.2,4500,1.4917,34.6870,2,34.6873,2,153.78,2,151.65,2,35.86,2,0.00,2,2.49,2,2322.9,2,2413.7,2,7.5742,2,-999,9,-999,9
49UP20160608,RF16-05,5779,1,4,24471,2,20160616,1759,49.9877,164.9988,5484,4845.5,4750,1.5091,34.6885,2,34.6887,2,155.73,2,151.32,2,35.74,2,0.00,2,2.48,2,2321.2,2,2410.9,2,7.5803,2,-999,9,-999,9
49UP20160608,RF16-05,5779,1,3,22104,2,20160616,1754,49.9877,164.9988,5484,5104.1,5001,1.5327,34.6897,2,34.6897,2,156.93,2,151.27,2,35.64,2,0.00,2,2.47,2,2322.3,2,2413.1,2,7.5797,2,-999,9,-999,9
49UP20160608,RF16-05,5779,1,2,22075,2,20160616,1748,49.9877,164.9988,5484,5362.5,5251,1.5621,34.6902,2,34.6899,2,157.48,2,151.93,2,35.65,2,0.00,2,2.47,2,2322.5,2,2413.1,2,7.5776,2,-999,9,-999,9
49UP20160608,RF16-05,5779,1,1,21997,2,20160616,1743,49.9877,164.9988,5484,5594.9,5476,1.5889,34.6909,2,34.6898,2,157.89,2,150.87,2,35.59,2,0.00,2,2.47,2,2319.6,2,2412.0,2,7.5798,2,-999,9,-999,9
49UP20160608,RF16-05,5782,1,-999,0,2,20160617,1030,48.4978,162.5142,5706,0.0,0,6.0760,32.9877,2,-999.,9,326.23,2,39.98,2,21.24,2,0.24,2,1.75,2,-999.,9,-999.,9,-999.,9,-999,9,-999,9
49UP20160608,RF16-05,5782,1,33,24469,3,20160617,1049,48.4978,162.5142,5706,12.6,12,5.3486,32.9802,2,-999.,9,330.14,2,39.56,2,21.18,2,0.23,2,1.72,2,-999.,9,-999.,9,-999.,9,-999,9,-999,9
49UP20160608,RF16-05,5782,1,32,22105,2,20160617,1048,48.4978,162.5142,5706,27.9,28,4.8915,32.9840,2,-999.,9,334.88,2,39.50,2,21.38,2,0.22,2,1.71,2,-999.,9,-999.,9,-999.,9,-999,9,-999,9
49UP20160608,RF16-05,5782,1,31,23515,2,20160617,1045,48.4978,162.5142,5706,51.6,51,3.2267,33.0139,2,-999.,9,333.36,2,41.85,2,23.50,2,0.27,2,1.88,2,-999.,9,-999.,9,-999.,9,-999,9,-999,9
49UP20160608,RF16-05,5782,1,30,22097,2,20160617,1044,48.4978,162.5142,5706,77.8,77,2.4027,33.0471,2,-999.,9,328.86,2,44.11,2,25.21,2,0.50,2,1.98,2,-999.,9,-999.,9,-999.,9,-999,9,-999,9
49UP20160608,RF16-05,5782,1,29,22102,2,20160617,1043,48.4978,162.5142,5706,102.4,102,1.7368,33.0738,2,-999.,9,315.78,2,44.20,2,25.94,2,0.04,2,2.01,2,-999.,9,-999.,9,-999.,9,-999,9,-999,9
49UP20160608,RF16-05,5782,1,28,24472,3,20160617,1042,48.4978,162.5142,5706,128.1,127,3.0127,33.5062,2,-999.,9,146.61,2,71.14,2,36.92,2,0.01,2,2.67,2,-999.,9,-999.,9,-999.,9,-999,9,-999,9
49UP20160608,RF16-05,5782,1,24,22110,2,20160617,1040,48.4978,162.5142,5706,153.6,152,3.6077,33.7319,2,-999.,9,65.84,2,86.36,2,42.54,2,0.01,2,3.01,2,-999.,9,-999.,9,-999.,9,-999,9,-999,9
49UP20160608,RF16-05,5782,1,23,23679,2,20160617,1038,48.4978,162.5142,5706,204.7,203,3.6885,33.8860,2,-999.,9,24.67,2,97.24,2,45.35,2,0.01,2,3.18,2,-999.,9,-999.,9,-999.,9,-999,9,-999,9
49UP20160608,RF16-05,5782,1,21,22078,2,20160617,1036,48.4978,162.5142,5706,255.5,253,3.6729,33.9724,2,-999.,9,15.76,2,104.57,2,45.60,2,0.01,2,3.21,2,-999.,9,-999.,9,-999.,9,-999,9,-999,9
49UP20160608,RF16-05,5782,1,22,22111,2,20160617,1037,48.4978,162.5142,5706,255.8,253,3.6728,33.9726,2,-999.,9,15.65,2,104.40,2,45.58,2,0.01,2,3.21,2,-999.,9,-999.,9,-999.,9,-999,9,-999,9
49UP20160608,RF16-05,5782,1,20,22093,2,20160617,1035,48.4978,162.5142,5706,305.9,303,3.6159,34.0401,2,-999.,9,13.71,6,110.81,6,45.31,6,0.01,6,3.20,6,-999.,9,-999.,9,-999.,9,-999,9,-999,9
49UP20160608,RF16-05,5782,1,19,24269,2,20160617,1032,48.4978,162.5142,5706,406.2,402,3.5136,34.1274,2,-999.,9,15.30,2,119.01,2,44.58,2,0.00,2,3.14,2,-999.,9,-999.,9,-999.,9,-999,9,-999,9
49UP20160608,RF16-05,5782,1,15,22088,2,20160617,1029,48.4978,162.5142,5706,507.7,503,3.3796,34.1982,2,-999.,9,13.52,2,126.52,2,44.42,2,0.00,2,3.13,2,-999.,9,-999.,9,-999.,9,-999,9,-999,9
49UP20160608,RF16-05,5782,1,14,21999,2,20160617,1027,48.4978,162.5142,5706,609.1,603,3.2242,34.2574,2,-999.,9,13.68,2,133.65,2,44.33,2,0.00,2,3.13,2,-999.,9,-999.,9,-999.,9,-999,9,-999,9
49UP20160608,RF16-05,5782,1,13,22667,2,20160617,1024,48.4978,162.5142,5706,709.9,703,3.0827,34.3017,2,-999.,9,14.59,6,139.35,6,44.28,6,0.00,6,3.14,6,-999.,9,-999.,9,-999.,9,-999,9,-999,9
49UP20160608,RF16-05,5782,1,11,24268,4,20160617,1021,48.4978,162.5142,5706,810.8,802,2.9254,34.3454,2,-999.,9,-999.00,9,-999.00,9,-999.00,9,-999.00,9,-999.000,9,-999.,9,-999.,9,-999.,9,-999,9,-999,9
49UP20160608,RF16-05,5782,1,12,22074,2,20160617,1021,48.4978,162.5142,5706,811.1,803,2.9248,34.3456,2,-999.,9,15.49,2,145.09,2,44.18,2,0.00,2,3.13,2,-999.,9,-999.,9,-999.,9,-999,9,-999,9
49UP20160608,RF16-05,5782,1,10,24267,2,20160617,1018,48.4978,162.5142,5706,912.9,903,2.7757,34.3857,2,-999.,9,17.07,2,150.48,2,44.21,2,0.00,2,3.13,2,-999.,9,-999.,9,-999.,9,-999,9,-999,9
49UP20160608,RF16-05,5782,1,6,22113,2,20160617,1016,48.4978,162.5142,5706,1013.0,1002,2.6443,34.4182,2,-999.,9,19.17,2,154.70,2,44.15,2,0.00,2,3.12,2,-999.,9,-999.,9,-999.,9,-999,9,-999,9
49UP20160608,RF16-05,5782,1,5,24658,2,20160617,1011,48.4978,162.5142,5706,1216.6,1203,2.3925,34.4749,2,-999.,9,26.79,2,162.21,2,43.65,2,0.00,2,3.08,2,-999.,9,-999.,9,-999.,9,-999,9,-999,9
49UP20160608,RF16-05,5782,1,4,24471,2,20160617,1007,48.4978,162.5142,5706,1420.3,1404,2.1723,34.5257,2,-999.,9,38.44,2,167.48,2,43.06,2,0.00,2,3.04,2,-999.,9,-999.,9,-999.,9,-999,9,-999,9
49UP20160608,RF16-05,5782,1,3,22104,2,20160617,1002,48.4978,162.5142,5706,1622.5,1603,2.0164,34.5610,2,-999.,9,49.79,2,170.82,2,42.32,2,0.00,2,2.98,2,-999.,9,-999.,9,-999.,9,-999,9,-999,9
49UP20160608,RF16-05,5782,1,2,22075,2,20160617,0957,48.4978,162.5142,5706,1826.3,1803,1.9051,34.5867,2,-999.,9,62.95,2,170.33,2,41.53,2,0.00,2,2.93,2,-999.,9,-999.,9,-999.,9,-999,9,-999,9
49UP20160608,RF16-05,5782,1,1,21997,2,20160617,0953,48.4978,162.5142,5706,2031.1,2004,1.8078,34.6070,2,-999.,9,74.58,2,171.46,2,40.80,2,0.00,2,2.88,2,-999.,9,-999.,9,-999.,9,-999,9,-999,9
49UP20160608,RF16-05,5785,1,-999,0,2,20160618,0316,47.0877,160.0942,5201,0.0,0,6.4106,32.9293,2,34.7473,2,333.33,2,33.54,2,18.73,2,0.20,2,1.57,2,2090.0,2,2226.7,2,7.7429,2,-999,9,-999,9
49UP20160608,RF16-05,5785,1,36,22109,2,20160618,0344,47.0877,160.0942,5201,11.9,12,5.2475,32.9256,2,32.9304,2,342.10,2,33.35,2,18.97,2,0.19,2,1.57,2,2094.0,2,2230.4,2,7.7392,2,-999,9,-999,9
49UP20160608,RF16-05,5785,1,35,22112,3,20160618,0343,47.0877,160.0942,5201,26.5,26,4.2326,32.9301,2,32.9343,2,346.76,2,33.69,2,19.18,2,0.18,2,1.58,2,2093.3,2,2231.4,2,7.7350,2,-999,9,-999,9
49UP20160608,RF16-05,5785,1,34,22094,2,20160618,0341,47.0877,160.0942,5201,52.1,52,3.0439,32.9420,2,-999.0000,9,338.04,2,37.62,2,21.53,2,0.21,2,1.76,2,2116.4,2,2230.6,2,7.6798,2,-999,9,-999,9
49UP20160608,RF16-05,5785,1,33,24469,2,20160618,0339,47.0877,160.0942,5201,77.8,77,1.9475,32.9856,2,32.9975,4,329.78,2,41.08,2,23.93,2,0.34,2,1.91,2,2135.7,2,2232.7,2,7.6301,2,-999,9,-999,9
49UP20160608,RF16-05,5785,1,32,22105,2,20160618,0338,47.0877,160.0942,5201,102.3,101,1.5699,33.0552,2,-999.0000,9,307.37,2,45.16,2,26.05,2,0.14,2,2.02,2,2149.6,2,2238.2,2,7.5887,2,-999,9,-999,9
49UP20160608,RF16-05,5785,1,31,23515,2,20160618,0337,47.0877,160.0942,5201,126.6,126,1.7248,33.2050,2,33.2225,4,257.08,2,54.87,2,29.93,2,0.01,2,2.25,2,2185.3,2,2245.5,2,7.5130,2,-999,9,-999,9
49UP20160608,RF16-05,5785,1,30,22097,3,20160618,0336,47.0877,160.0942,5201,151.2,150,2.8397,33.5463,2,-999.0000,9,128.69,2,77.66,2,38.41,2,0.00,2,2.76,2,2267.0,6,2272.4,6,7.3408,2,-999,9,-999,9
49UP20160608,RF16-05,5785,1,29,22102,2,20160618,0334,47.0877,160.0942,5201,205.7,204,3.5367,33.8257,2,33.8234,2,45.82,2,94.67,2,43.85,2,0.00,2,3.09,2,2316.5,2,2294.9,2,7.2360,2,-999,9,-999,9
49UP20160608,RF16-05,5785,1,28,24472,3,20160618,0332,47.0877,160.0942,5201,253.7,251,3.6405,33.9325,2,33.9334,2,24.80,6,103.04,6,44.97,6,0.00,6,3.16,6,2342.8,2,2305.7,2,7.2194,2,-999,9,-999,9
49UP20160608,RF16-05,5785,1,27,21998,2,20160618,0330,47.0877,160.0942,5201,303.4,301,3.6171,34.0060,2,-999.0000,9,20.54,2,108.20,2,44.76,2,0.00,2,3.16,2,2346.5,2,2313.3,2,7.2324,6,-999,9,-999,9
49UP20160608,RF16-05,5785,1,26,22084,2,20160618,0328,47.0877,160.0942,5201,404.7,401,3.5548,34.1255,2,34.1293,2,15.20,2,118.56,2,44.52,2,0.00,2,3.13,2,2354.5,2,2331.3,2,7.2532,2,-999,9,-999,9
49UP20160608,RF16-05,5785,1,25,22098,2,20160618,0325,47.0877,160.0942,5201,506.2,501,3.3766,34.2086,2,34.2107,2,14.39,2,127.93,2,44.41,2,0.00,2,3.14,2,2357.8,2,2346.5,2,7.2661,2,-999,9,-999,9
49UP20160608,RF16-05,5785,1,24,22110,2,20160618,0322,47.0877,160.0942,5201,607.1,601,3.1923,34.2747,2,34.2738,2,14.92,2,135.41,2,44.28,2,0.00,2,3.13,2,2370.0,2,2355.0,2,7.2745,2,-999,9,-999,9
49UP20160608,RF16-05,5785,1,23,23679,3,20160618,0320,47.0877,160.0942,5201,708.9,702,3.0175,34.3212,2,-999.0000,9,13.82,2,142.63,2,44.31,2,0.00,2,3.14,2,2375.6,6,2363.8,6,7.2860,2,-999,9,-999,9
49UP20160608,RF16-05,5785,1,22,22111,3,20160618,0317,47.0877,160.0942,5201,810.2,802,2.8459,34.3677,2,34.3666,2,15.32,2,148.78,2,44.29,2,0.00,2,3.14,2,2382.3,2,2372.4,2,7.2907,2,-999,9,-999,9
49UP20160608,RF16-05,5785,1,21,22078,2,20160618,0314,47.0877,160.0942,5201,911.8,902,2.7239,34.3995,2,34.3993,2,17.42,6,152.31,6,44.19,6,0.00,6,3.12,6,2387.1,2,2378.7,2,7.3013,2,-999,9,-999,9
49UP20160608,RF16-05,5785,1,20,22093,2,20160618,0312,47.0877,160.0942,5201,1011.9,1001,2.5463,34.4371,2,34.4371,2,18.87,2,159.48,2,44.10,2,0.00,2,3.12,2,2390.9,2,2383.2,2,7.3057,2,-999,9,-999,9
49UP20160608,RF16-05,5785,1,19,24269,3,20160618,0307,47.0877,160.0942,5201,1215.4,1202,2.2689,34.4953,2,-999.0000,9,34.67,2,165.65,2,43.09,2,0.00,2,3.06,2,2389.0,2,2394.3,2,7.3420,2,-999,9,-999,9
49UP20160608,RF16-05,5785,1,18,22101,2,20160618,0302,47.0877,160.0942,5201,1418.2,1402,2.1134,34.5361,2,34.5355,2,42.46,2,170.09,2,42.61,2,0.00,2,3.02,2,2384.1,2,2399.9,2,7.3575,2,-999,9,-999,9
49UP20160608,RF16-05,5785,1,17,22090,2,20160618,0258,47.0877,160.0942,5201,1620.7,1601,1.9698,34.5711,2,-999.0000,9,55.49,2,171.63,2,41.88,2,0.00,2,2.96,2,2383.8,2,2408.7,2,7.3902,2,-999,9,-999,9
49UP20160608,RF16-05,5785,1,16,24474,2,20160618,0253,47.0877,160.0942,5201,1824.7,1802,1.8530,34.5973,2,34.5968,6,70.41,2,170.48,2,41.09,2,0.00,2,2.90,2,2375.1,2,2407.1,2,7.4194,2,-999,9,-999,9
49UP20160608,RF16-05,5785,1,15,22088,2,20160618,0249,47.0877,160.0942,5201,2028.8,2002,1.7637,34.6178,2,34.6181,2,85.15,6,167.31,6,40.19,6,0.00,6,2.83,6,2363.9,2,2410.5,2,7.4493,2,-999,9,-999,9
49UP20160608,RF16-05,5785,1,14,21999,2,20160618,0243,47.0877,160.0942,5201,2283.0,2252,1.6617,34.6371,2,-999.0000,9,100.04,2,165.26,2,39.29,2,0.00,2,2.76,2,2353.8,2,2412.8,2,7.4774,2,-999,9,-999,9
49UP20160608,RF16-05,5785,1,13,22667,2,20160618,0238,47.0877,160.0942,5201,2537.9,2502,1.5836,34.6516,2,34.6520,2,113.79,2,161.67,2,38.43,2,0.00,2,2.69,2,2349.8,2,2414.3,2,7.5069,2,-999,9,-999,9
49UP20160608,RF16-05,5785,1,12,22074,2,20160618,0232,47.0877,160.0942,5201,2792.7,2751,1.5310,34.6613,2,34.6627,2,123.50,2,159.81,2,37.87,2,0.00,2,2.64,2,2341.5,2,2415.2,2,7.5237,2,-999,9,-999,9
49UP20160608,RF16-05,5785,1,11,24268,2,20160618,0227,47.0877,160.0942,5201,3046.7,3000,1.4917,34.6690,2,34.6691,2,131.85,2,157.24,2,37.27,2,0.00,2,2.59,2,2334.7,2,2414.7,2,7.5408,2,-999,9,-999,9
49UP20160608,RF16-05,5785,1,10,24267,2,20160618,0227,47.0877,160.0942,5201,3046.9,3000,1.4917,34.6690,2,34.6692,2,132.16,2,157.12,2,37.26,2,0.00,2,2.59,2,2338.4,2,2414.8,2,7.5418,2,-999,9,-999,9
49UP20160608,RF16-05,5785,1,9,23518,2,20160618,0221,47.0877,160.0942,5201,3302.2,3249,1.4666,34.6750,2,34.6750,2,139.57,2,154.47,2,36.85,2,0.00,2,2.55,2,2331.6,6,2412.4,6,7.5534,2,-999,9,-999,9
49UP20160608,RF16-05,5785,1,8,24470,2,20160618,0215,47.0877,160.0942,5201,3558.5,3500,1.4548,34.6789,2,34.6802,2,144.11,2,153.38,2,36.53,2,0.00,2,2.53,2,2327.5,2,2413.2,2,7.5627,2,-999,9,-999,9
49UP20160608,RF16-05,5785,1,7,23516,2,20160618,0210,47.0877,160.0942,5201,3815.5,3750,1.4495,34.6823,2,34.6824,2,148.60,2,152.27,2,36.24,2,0.00,2,2.51,2,2325.8,2,2412.5,2,7.5693,2,-999,9,-999,9
49UP20160608,RF16-05,5785,1,6,22113,2,20160618,0204,47.0877,160.0942,5201,4074.9,4003,1.4490,34.6855,2,34.6852,2,152.01,6,151.13,6,35.99,6,0.00,6,2.49,6,2322.1,2,2410.9,2,7.5745,2,-999,9,-999,9
49UP20160608,RF16-05,5785,1,5,24658,2,20160618,0159,47.0877,160.0942,5201,4331.4,4252,1.4584,34.6877,2,34.6874,6,154.54,2,150.67,2,35.83,2,0.00,2,2.47,2,2317.8,2,2411.4,2,7.5790,2,-999,9,-999,9
49UP20160608,RF16-05,5785,1,4,24471,2,20160618,0153,47.0877,160.0942,5201,4587.7,4501,1.4745,34.6892,2,-999.0000,9,157.13,2,150.59,2,35.71,2,0.00,2,2.47,2,2319.5,2,2411.7,2,7.5833,6,-999,9,-999,9
49UP20160608,RF16-05,5785,1,3,22104,2,20160618,0147,47.0877,160.0942,5201,4846.7,4752,1.4962,34.6904,2,34.6897,2,157.54,2,150.82,2,35.62,2,0.00,2,2.46,2,2316.3,2,2410.2,2,7.5826,2,-999,9,-999,9
49UP20160608,RF16-05,5785,1,2,22075,2,20160618,0142,47.0877,160.0942,5201,5104.5,5002,1.5226,34.6911,2,34.6904,2,158.54,2,150.23,2,35.53,2,0.00,2,2.46,2,2317.7,2,2410.6,2,7.5855,2,-999,9,-999,9
49UP20160608,RF16-05,5785,1,1,21997,2,20160618,0137,47.0877,160.0942,5201,5292.0,5184,1.5438,34.6914,2,34.6908,2,158.65,2,150.14,2,35.48,2,0.00,2,2.46,2,2315.2,2,2409.0,2,7.5867,2,-999,9,-999,9