BOTTLE,20171117JMAGEMD
EXPOCODE,SECT_ID,STNNBR,CASTNO,SAMPNO,BTLNBR,BTLNBR_FLAG_W,DATE,TIME,LATITUDE,LONGITUDE,DEPTH,CTDPRS,CTDDEP,CTDTMP,CTDSAL,CTDSAL_FLAG_W,SALNTY,SALNTY_FLAG_W,OXYGEN,OXYGEN_FLAG_W,SILCAT,SILCAT_FLAG_W,NO2+NO3,NO2+NO3_FLAG_W,NITRIT,NITRIT_FLAG_W,PHSPHT,PHSPHT_FLAG_W,TCARBN,TCARBN_FLAG_W,ALKALI,ALKALI_FLAG_W,PH_TOT,PH_TOT_FLAG_W,CFC-11,CFC-11_FLAG_W,CFC-12,CFC-12_FLAG_W
,,,,,,,UTC,UTC,,,METER,DBAR,METERS,ITS-90,PSS-78,,PSS-78,,UMOL/KG,,UMOL/KG,,UMOL/KG,,UMOL/KG,,UMOL/KG,,UMOL/KG,,UMOL/KG,,@25DEG-C,,PMOL/KG,,PMOL/KG,
49UP20160608,RF16-05,5764,1,-999,0,2,20160612,0826,34.9815,165.0407,5873,0.0,0,20.4284,34.6863,2,34.9357,2,293.91,4,2.00,2,0.05,2,0.00,2,0.02,2,1994.8,2,2276.7,2,8.0265,2,-999,9,-999,9
49UP20160608,RF16-05,5764,1,36,22109,2,20160612,0904,34.9815,165.0407,5873,11.3,11,20.4314,34.6858,2,34.6844,2,227.75,2,1.98,2,0.01,2,0.00,2,0.03,2,1992.2,2,2277.3,2,8.0228,2,-999,9,-999,9
49UP20160608,RF16-05,5764,1,35,22112,2,20160612,0904,34.9815,165.0407,5873,26.8,27,20.4388,34.6876,2,-999.0000,9,227.83,6,1.95,6,0.01,6,0.00,6,0.02,6,1996.9,2,2276.7,2,8.0248,2,-999,9,-999,9
49UP20160608,RF16-05,5764,1,34,22094,2,20160612,0902,34.9815,165.0407,5873,51.3,51,18.7701,34.7234,2,34.7248,6,234.53,2,3.54,2,0.57,2,0.31,2,0.09,2,2009.3,2,2285.2,2,8.0135,6,-999,9,-999,9
49UP20160608,RF16-05,5764,1,33,24469,2,20160612,0901,34.9815,165.0407,5873,77.3,77,17.3379,34.7228,2,-999.0000,9,199.60,2,6.14,2,5.62,2,0.06,2,0.37,2,2045.0,2,2281.4,2,7.9402,2,-999,9,-999,9
49UP20160608,RF16-05,5764,1,32,22105,2,20160612,0858,34.9815,165.0407,5873,101.8,101,16.6914,34.7115,2,34.7089,2,210.12,2,6.31,2,5.49,2,0.02,2,0.37,2,2044.3,2,2281.4,2,7.9385,2,-999,9,-999,9
49UP20160608,RF16-05,5764,1,31,23515,2,20160612,0856,34.9815,165.0407,5873,126.3,125,16.2606,34.7127,2,-999.0000,9,221.86,2,5.46,2,4.91,2,0.01,2,0.33,2,2036.4,2,2279.2,2,7.9456,2,-999,9,-999,9
49UP20160608,RF16-05,5764,1,30,22097,2,20160612,0855,34.9815,165.0407,5873,153.7,153,15.9203,34.6834,2,34.6797,2,216.80,2,6.52,2,5.85,2,0.01,2,0.39,2,2050.4,2,2280.0,2,7.9323,2,-999,9,-999,9
49UP20160608,RF16-05,5764,1,29,22102,2,20160612,0853,34.9815,165.0407,5873,205.5,204,14.9585,34.5882,2,34.5959,4,204.68,6,10.43,6,8.47,6,0.01,6,0.58,6,2066.5,2,2278.1,2,7.8885,2,-999,9,-999,9
49UP20160608,RF16-05,5764,1,28,24472,2,20160612,0851,34.9815,165.0407,5873,260.4,258,13.7406,34.5193,2,-999.0000,9,226.41,2,10.62,2,8.15,2,0.01,2,0.57,2,2065.9,6,2276.6,6,7.8883,2,-999,9,-999,9
49UP20160608,RF16-05,5764,1,27,21998,2,20160612,0848,34.9815,165.0407,5873,307.1,305,12.6445,34.4125,2,34.4132,2,219.52,2,14.14,2,10.54,2,0.01,2,0.74,2,2081.5,2,2270.5,2,7.8476,2,-999,9,-999,9
49UP20160608,RF16-05,5764,1,26,22084,2,20160612,0843,34.9815,165.0407,5873,410.3,407,9.6416,34.1382,2,34.1443,4,192.89,2,27.90,2,17.94,2,0.01,2,1.28,2,2135.5,2,2269.5,2,7.7262,2,-999,9,-999,9
49UP20160608,RF16-05,5764,1,25,22098,2,20160612,0838,34.9815,165.0407,5873,509.8,505,7.3221,34.0268,2,-999.0000,9,162.91,2,46.02,2,24.96,2,0.00,2,1.80,2,2186.6,2,2284.5,2,7.6103,2,-999,9,-999,9
49UP20160608,RF16-05,5764,1,24,22110,2,20160612,0832,34.9815,165.0407,5873,610.2,605,5.5017,34.0186,2,34.0150,2,120.95,2,68.70,2,32.14,2,0.00,2,2.32,2,2244.9,2,2296.3,2,7.4923,2,-999,9,-999,9
49UP20160608,RF16-05,5764,1,23,23679,2,20160612,0827,34.9815,165.0407,5873,712.0,706,4.6679,34.1119,2,34.1097,2,79.96,2,90.36,2,37.11,2,0.00,2,2.66,2,2291.9,6,2317.7,6,7.4089,2,-999,9,-999,9
49UP20160608,RF16-05,5764,1,22,22111,2,20160612,0821,34.9815,165.0407,5873,813.1,806,4.1500,34.2100,2,34.2085,2,55.93,6,106.82,6,39.84,6,0.00,6,2.85,6,2318.3,2,2337.0,2,7.3779,2,-999,9,-999,9
49UP20160608,RF16-05,5764,1,21,22078,2,20160612,0816,34.9815,165.0407,5873,917.3,909,3.7462,34.2755,2,-999.0000,9,44.56,2,117.98,2,41.14,2,0.00,2,2.94,2,2335.8,2,2345.2,2,7.3589,6,-999,9,-999,9
49UP20160608,RF16-05,5764,1,20,22093,2,20160612,0811,34.9815,165.0407,5873,1015.8,1006,3.4322,34.3350,2,34.3342,6,40.25,2,127.55,2,41.87,2,0.00,2,2.99,2,2352.5,2,2360.0,2,7.3525,2,-999,9,-999,9
49UP20160608,RF16-05,5764,1,19,24269,2,20160612,0803,34.9815,165.0407,5873,1216.3,1204,2.9595,34.4144,2,34.4135,2,33.92,2,141.37,2,42.94,2,0.00,2,3.06,2,2370.5,2,2378.7,2,7.3489,2,-999,9,-999,9
49UP20160608,RF16-05,5764,1,18,22101,2,20160612,0755,34.9815,165.0407,5873,1418.4,1403,2.5924,34.4815,2,-999.0000,9,36.66,2,151.87,2,43.10,2,0.00,2,3.05,2,2381.4,2,2391.2,2,7.3583,2,-999,9,-999,9
49UP20160608,RF16-05,5764,1,17,22090,2,20160612,0749,34.9815,165.0407,5873,1619.7,1602,2.3161,34.5309,2,34.5309,2,47.23,2,158.03,2,42.61,2,0.00,2,3.00,2,2383.7,2,2402.4,2,7.3804,2,-999,9,-999,9
49UP20160608,RF16-05,5764,1,16,24474,2,20160612,0744,34.9815,165.0407,5873,1825.3,1804,2.1222,34.5664,2,-999.0000,9,59.31,2,161.34,2,41.96,2,0.00,2,2.95,2,2374.4,2,2406.3,2,7.4048,2,-999,9,-999,9
49UP20160608,RF16-05,5764,1,15,22088,2,20160612,0740,34.9815,165.0407,5873,2025.4,2001,1.9588,34.5942,2,34.5948,2,73.19,2,162.80,2,41.09,2,0.00,2,2.88,2,2371.7,2,2406.7,2,7.4349,2,-999,9,-999,9
49UP20160608,RF16-05,5764,1,14,21999,2,20160612,0735,34.9815,165.0407,5873,2279.6,2251,1.8037,34.6174,2,34.6181,2,88.24,2,163.89,2,40.25,2,0.00,2,2.81,2,2368.4,2,2411.5,2,7.4564,2,-999,9,-999,9
49UP20160608,RF16-05,5764,1,13,22667,2,20160612,0731,34.9815,165.0407,5873,2533.6,2500,1.7010,34.6377,2,34.6383,2,104.22,2,160.78,2,39.16,2,0.00,2,2.73,2,2362.4,2,2414.3,2,7.4917,2,-999,9,-999,9
49UP20160608,RF16-05,5764,1,12,22074,2,20160612,0727,34.9815,165.0407,5873,2788.5,2750,1.6150,34.6517,2,-999.0000,9,116.65,2,158.59,2,38.34,2,0.00,2,2.67,2,2362.5,2,2411.9,2,7.5157,2,-999,9,-999,9
49UP20160608,RF16-05,5764,1,11,24268,2,20160612,0724,34.9815,165.0407,5873,3043.2,3000,1.5639,34.6611,2,34.6617,2,125.37,3,156.49,6,37.81,6,0.00,6,2.62,6,2343.1,2,2413.0,2,7.5337,2,-999,9,-999,9
49UP20160608,RF16-05,5764,1,10,24267,2,20160612,0720,34.9815,165.0407,5873,3293.9,3245,1.5277,34.6685,2,34.6679,2,133.14,3,153.96,2,37.26,2,0.00,2,2.59,2,2338.2,2,2414.7,2,7.5445,2,-999,9,-999,9
49UP20160608,RF16-05,5764,1,9,23518,2,20160612,0716,34.9815,165.0407,5873,3549.0,3494,1.4997,34.6738,2,34.6749,2,139.54,2,153.00,2,36.81,2,0.00,2,2.55,2,2341.0,2,2414.8,2,7.5578,2,-999,9,-999,9
49UP20160608,RF16-05,5764,1,8,24470,2,20160612,0710,34.9815,165.0407,5873,4061.0,3993,1.4796,34.6815,2,34.6785,4,147.19,3,150.29,2,36.31,2,0.00,2,2.51,2,2331.6,2,2414.3,2,7.5697,2,-999,9,-999,9
49UP20160608,RF16-05,5764,1,7,23516,2,20160612,0707,34.9815,165.0407,5873,4314.1,4240,1.4793,34.6845,2,34.6848,2,151.99,2,148.83,2,35.99,2,0.00,2,2.49,2,2330.7,2,2412.8,2,7.5756,2,-999,9,-999,9
49UP20160608,RF16-05,5764,1,6,22113,2,20160612,0703,34.9815,165.0407,5873,4577.1,4496,1.4863,34.6870,2,34.6872,2,155.44,2,147.44,2,35.75,2,0.00,2,2.47,2,2324.3,2,2412.3,2,7.5834,2,-999,9,-999,9
49UP20160608,RF16-05,5764,1,5,24658,2,20160612,0656,34.9815,165.0407,5873,5093.3,4997,1.5068,34.6910,2,34.6886,4,160.42,3,143.36,2,35.36,2,0.00,2,2.44,2,2311.8,2,2409.0,2,7.5889,2,-999,9,-999,9
49UP20160608,RF16-05,5764,1,4,24471,2,20160612,0652,34.9815,165.0407,5873,5352.4,5248,1.5150,34.6933,2,34.6936,2,167.13,2,139.09,2,34.90,2,0.00,2,2.41,2,2316.2,2,2402.1,2,7.5971,6,-999,9,-999,9
49UP20160608,RF16-05,5764,1,3,22104,2,20160612,0648,34.9815,165.0407,5873,5608.7,5496,1.5296,34.6948,2,34.6945,2,169.04,2,137.26,2,34.78,2,0.00,2,2.40,2,2306.8,2,2400.0,2,7.5972,2,-999,9,-999,9
49UP20160608,RF16-05,5764,1,2,22075,2,20160612,0644,34.9815,165.0407,5873,5868.2,5747,1.5529,34.6960,2,34.6940,4,169.50,3,136.43,2,34.68,2,0.00,2,2.39,2,2309.8,2,2402.3,6,7.5958,2,-999,9,-999,9
49UP20160608,RF16-05,5764,1,1,21997,2,20160612,0640,34.9815,165.0407,5873,6014.4,5889,1.5683,34.6965,2,34.6951,2,169.61,3,137.02,2,34.74,2,0.00,2,2.40,2,2308.9,2,2404.0,2,7.5999,2,-999,9,-999,9
49UP20160608,RF16-05,5767,1,-999,0,2,20160613,0443,37.9827,165.0143,5430,0.0,0,16.3168,34.4893,2,-999.,9,248.97,2,4.67,2,0.92,2,0.04,2,0.13,2,-999.,9,-999.,9,-999.,9,-999,9,-999,9
49UP20160608,RF16-05,5767,1,33,24469,2,20160613,0512,37.9827,165.0143,5430,10.8,11,16.3238,34.4888,2,-999.,9,248.89,2,4.75,2,0.92,2,0.04,2,0.13,2,-999.,9,-999.,9,-999.,9,-999,9,-999,9
49UP20160608,RF16-05,5767,1,32,22105,2,20160613,0511,37.9827,165.0143,5430,25.9,26,16.3149,34.4874,2,-999.,9,249.23,2,4.80,2,0.94,2,0.04,2,0.13,2,-999.,9,-999.,9,-999.,9,-999,9,-999,9
49UP20160608,RF16-05,5767,1,31,23515,2,20160613,0510,37.9827,165.0143,5430,52.1,52,14.9805,34.4500,2,-999.,9,255.61,6,7.61,6,3.43,6,0.18,6,0.30,6,-999.,9,-999.,9,-999.,9,-999,9,-999,9
49UP20160608,RF16-05,5767,1,30,22097,2,20160613,0508,37.9827,165.0143,5430,75.9,75,13.9925,34.4891,2,-999.,9,240.63,2,8.72,2,6.44,2,0.40,2,0.46,2,-999.,9,-999.,9,-999.,9,-999,9,-999,9
49UP20160608,RF16-05,5767,1,29,22102,2,20160613,0505,37.9827,165.0143,5430,100.0,99,13.3950,34.4292,2,-999.,9,244.40,2,9.44,2,6.85,2,0.34,2,0.49,2,-999.,9,-999.,9,-999.,9,-999,9,-999,9
49UP20160608,RF16-05,5767,1,28,24472,2,20160613,0505,37.9827,165.0143,5430,100.5,100,13.3942,34.4268,2,-999.,9,242.97,2,9.49,2,7.00,2,0.27,2,0.50,2,-999.,9,-999.,9,-999.,9,-999,9,-999,9
49UP20160608,RF16-05,5767,1,24,22110,2,20160613,0504,37.9827,165.0143,5430,125.7,125,13.0902,34.4220,2,-999.,9,235.06,2,10.73,2,8.31,2,0.03,2,0.59,2,-999.,9,-999.,9,-999.,9,-999,9,-999,9
49UP20160608,RF16-05,5767,1,23,23679,2,20160613,0502,37.9827,165.0143,5430,150.4,149,12.6599,34.3887,2,-999.,9,234.01,2,11.79,2,9.13,2,0.03,2,0.64,2,-999.,9,-999.,9,-999.,9,-999,9,-999,9
49UP20160608,RF16-05,5767,1,22,22111,2,20160613,0500,37.9827,165.0143,5430,202.9,201,12.0002,34.3634,2,-999.,9,247.23,2,12.68,2,9.22,2,0.01,2,0.67,2,-999.,9,-999.,9,-999.,9,-999,9,-999,9
49UP20160608,RF16-05,5767,1,21,22078,2,20160613,0458,37.9827,165.0143,5430,252.8,251,11.0727,34.2651,2,-999.,9,240.33,6,16.01,6,11.33,6,0.01,6,0.82,6,-999.,9,-999.,9,-999.,9,-999,9,-999,9
49UP20160608,RF16-05,5767,1,20,22093,2,20160613,0457,37.9827,165.0143,5430,303.5,301,9.9943,34.1495,2,-999.,9,233.97,2,20.14,2,13.77,2,0.01,2,1.00,2,-999.,9,-999.,9,-999.,9,-999,9,-999,9
49UP20160608,RF16-05,5767,1,19,24269,2,20160613,0453,37.9827,165.0143,5430,403.0,400,7.7038,33.9328,2,-999.,9,206.83,2,34.36,2,20.29,2,0.01,2,1.48,2,-999.,9,-999.,9,-999.,9,-999,9,-999,9
49UP20160608,RF16-05,5767,1,15,22088,2,20160613,0450,37.9827,165.0143,5430,505.5,501,6.2843,33.9822,2,-999.,9,148.09,2,55.46,2,28.41,2,0.00,2,2.05,2,-999.,9,-999.,9,-999.,9,-999,9,-999,9
49UP20160608,RF16-05,5767,1,14,21999,2,20160613,0447,37.9827,165.0143,5430,607.0,602,4.8706,33.9798,2,-999.,9,111.61,2,75.79,2,34.23,2,0.00,2,2.47,2,-999.,9,-999.,9,-999.,9,-999,9,-999,9
49UP20160608,RF16-05,5767,1,13,22667,2,20160613,0443,37.9827,165.0143,5430,707.0,701,4.3990,34.0844,2,-999.,9,75.62,2,93.24,2,38.04,2,0.00,2,2.73,2,-999.,9,-999.,9,-999.,9,-999,9,-999,9
49UP20160608,RF16-05,5767,1,12,22074,2,20160613,0441,37.9827,165.0143,5430,809.2,802,3.9617,34.1840,2,-999.,9,50.72,2,109.28,2,40.65,2,0.00,2,2.90,2,-999.,9,-999.,9,-999.,9,-999,9,-999,9
49UP20160608,RF16-05,5767,1,11,24268,4,20160613,0438,37.9827,165.0143,5430,909.3,901,3.5648,34.2529,2,-999.,9,-999.00,9,-999.00,9,-999.00,9,-999.00,9,-999.000,9,-999.,9,-999.,9,-999.,9,-999,9,-999,9
49UP20160608,RF16-05,5767,1,10,24267,2,20160613,0435,37.9827,165.0143,5430,1012.1,1002,3.3287,34.3277,2,-999.,9,35.97,2,130.59,2,42.38,2,0.00,2,3.02,2,-999.,9,-999.,9,-999.,9,-999,9,-999,9
49UP20160608,RF16-05,5767,1,6,22113,2,20160613,0430,37.9827,165.0143,5430,1214.3,1202,2.9149,34.3994,2,-999.,9,33.09,2,143.77,2,42.98,2,0.00,2,3.06,2,-999.,9,-999.,9,-999.,9,-999,9,-999,9
49UP20160608,RF16-05,5767,1,5,24658,2,20160613,0425,37.9827,165.0143,5430,1417.7,1402,2.5498,34.4615,2,-999.,9,35.45,2,154.34,2,43.09,2,0.00,2,3.06,2,-999.,9,-999.,9,-999.,9,-999,9,-999,9
49UP20160608,RF16-05,5767,1,4,24471,2,20160613,0420,37.9827,165.0143,5430,1618.9,1601,2.3239,34.5095,2,-999.,9,42.12,2,160.21,2,42.87,2,0.00,2,3.03,2,-999.,9,-999.,9,-999.,9,-999,9,-999,9
49UP20160608,RF16-05,5767,1,3,22104,2,20160613,0415,37.9827,165.0143,5430,1822.0,1801,2.1463,34.5476,2,-999.,9,51.87,2,163.84,2,42.33,2,0.00,2,2.98,2,-999.,9,-999.,9,-999.,9,-999,9,-999,9
49UP20160608,RF16-05,5767,1,2,22075,2,20160613,0411,37.9827,165.0143,5430,2026.4,2002,1.9950,34.5788,2,-999.,9,64.16,2,165.62,2,41.64,2,0.00,2,2.93,2,-999.,9,-999.,9,-999.,9,-999,9,-999,9
49UP20160608,RF16-05,5767,1,1,21997,2,20160613,0411,37.9827,165.0143,5430,2026.5,2002,1.9949,34.5788,2,-999.,9,64.19,2,165.72,2,41.60,2,0.00,2,2.93,2,-999.,9,-999.,9,-999.,9,-999,9,-999,9
49UP20160608,RF16-05,5769,1,-999,0,2,20160613,2020,39.9782,165.0223,5462,0.0,0,12.5618,34.1806,2,34.9357,2,276.18,2,10.29,2,5.89,2,0.11,2,0.47,2,2054.9,2,2267.8,2,7.9089,2,-999,9,-999,9
49UP20160608,RF16-05,5769,1,36,22109,2,20160613,2039,39.9782,165.0223,5462,10.6,11,12.5633,34.1805,2,34.1809,2,275.45,2,10.32,2,5.94,2,0.11,2,0.47,2,2056.8,2,2269.9,6,7.9083,2,-999,9,-999,9
49UP20160608,RF16-05,5769,1,35,22112,2,20160613,2038,39.9782,165.0223,5462,26.5,26,12.5665,34.1800,2,34.1800,2,275.39,2,10.34,2,5.93,2,0.11,2,0.47,2,2056.3,2,2267.9,2,7.9082,2,-999,9,-999,9
49UP20160608,RF16-05,5769,1,34,22094,2,20160613,2035,39.9782,165.0223,5462,51.2,51,12.3871,34.1765,2,-999.0000,9,273.62,2,10.99,2,6.28,2,0.12,2,0.51,2,2059.5,2,2268.3,2,7.9002,2,-999,9,-999,9
49UP20160608,RF16-05,5769,1,33,24469,2,20160613,2034,39.9782,165.0223,5462,76.3,76,11.4190,34.2036,2,34.2053,2,269.02,6,14.88,6,8.61,6,0.23,6,0.70,6,2074.9,2,2268.9,2,7.8632,2,-999,9,-999,9
49UP20160608,RF16-05,5769,1,32,22105,2,20160613,2033,39.9782,165.0223,5462,100.7,100,10.0609,34.1025,2,-999.0000,9,265.19,2,18.11,2,11.44,2,0.26,2,0.86,2,2094.3,2,2265.4,2,7.8199,2,-999,9,-999,9
49UP20160608,RF16-05,5769,1,31,23515,2,20160613,2032,39.9782,165.0223,5462,126.3,125,9.6264,34.0801,2,34.0847,6,255.83,2,19.77,2,12.87,2,0.02,2,0.95,2,2101.4,2,2266.2,2,7.7974,6,-999,9,-999,9
49UP20160608,RF16-05,5769,1,30,22097,2,20160613,2031,39.9782,165.0223,5462,152.0,151,9.0088,33.9998,2,-999.0000,9,260.66,2,21.01,2,13.61,2,0.02,2,1.01,2,2106.8,2,2264.6,2,7.7851,2,-999,9,-999,9
49UP20160608,RF16-05,5769,1,29,22102,2,20160613,2030,39.9782,165.0223,5462,202.7,201,7.9277,33.8709,2,33.8765,4,265.47,2,23.02,2,14.82,2,0.01,2,1.11,2,2109.0,2,2259.8,2,7.7609,2,-999,9,-999,9
49UP20160608,RF16-05,5769,1,28,24472,2,20160613,2028,39.9782,165.0223,5462,253.2,251,7.4271,33.8402,2,33.8395,2,252.22,2,27.08,2,16.85,2,0.01,2,1.26,2,2127.4,2,2261.5,2,7.7310,2,-999,9,-999,9
49UP20160608,RF16-05,5769,1,27,21998,3,20160613,2027,39.9782,165.0223,5462,304.0,301,7.1443,33.8915,2,-999.0000,9,200.14,6,37.78,6,21.94,6,0.01,6,1.60,6,2159.2,2,2269.8,2,7.6509,2,-999,9,-999,9
49UP20160608,RF16-05,5769,1,26,22084,2,20160613,2024,39.9782,165.0223,5462,406.4,403,5.7808,33.9403,2,33.9402,2,144.92,2,59.46,2,29.69,2,0.00,2,2.14,2,2218.2,2,2287.5,2,7.5299,2,-999,9,-999,9
49UP20160608,RF16-05,5769,1,25,22098,2,20160613,2022,39.9782,165.0223,5462,506.0,502,4.8309,33.9942,2,33.9912,2,107.61,2,77.44,2,34.75,2,0.00,2,2.50,2,2260.7,2,2299.7,2,7.4429,2,-999,9,-999,9
49UP20160608,RF16-05,5769,1,24,22110,2,20160613,2019,39.9782,165.0223,5462,606.1,601,4.5493,34.0985,2,34.0976,2,76.98,2,91.59,2,37.72,2,0.00,2,2.70,2,2293.5,2,2317.3,2,7.4019,2,-999,9,-999,9
49UP20160608,RF16-05,5769,1,23,23679,2,20160613,2016,39.9782,165.0223,5462,708.8,702,3.9569,34.1732,2,-999.0000,9,50.52,2,108.89,2,40.63,2,0.00,2,2.89,2,2326.6,2,2334.1,2,7.3500,2,-999,9,-999,9
49UP20160608,RF16-05,5769,1,22,22111,2,20160613,2014,39.9782,165.0223,5462,809.8,802,3.6797,34.2553,2,34.2534,6,42.63,2,119.35,2,41.55,2,0.00,2,2.96,2,2339.9,2,2346.3,2,7.3459,2,-999,9,-999,9
49UP20160608,RF16-05,5769,1,21,22078,2,20160613,2011,39.9782,165.0223,5462,911.2,902,3.4085,34.3127,2,34.3124,2,37.22,2,127.90,2,42.19,2,0.00,2,3.01,2,2354.8,2,2358.3,2,7.3450,2,-999,9,-999,9
49UP20160608,RF16-05,5769,1,20,22093,2,20160613,2008,39.9782,165.0223,5462,1012.3,1002,3.1664,34.3590,2,34.3575,2,36.11,6,135.19,6,42.48,6,0.00,6,3.03,6,2356.9,2,2367.5,2,7.3457,2,-999,9,-999,9
49UP20160608,RF16-05,5769,1,19,24269,2,20160613,2004,39.9782,165.0223,5462,1215.2,1202,2.7319,34.4311,2,-999.0000,9,34.05,2,148.48,2,43.06,2,0.00,2,3.06,2,2375.1,2,2382.6,2,7.3424,2,-999,9,-999,9
49UP20160608,RF16-05,5769,1,18,22101,2,20160613,1959,39.9782,165.0223,5462,1417.7,1402,2.4523,34.4823,2,34.4826,2,38.08,2,156.53,2,43.01,2,0.00,2,3.04,2,2384.4,2,2392.5,2,7.3566,2,-999,9,-999,9
49UP20160608,RF16-05,5769,1,17,22090,2,20160613,1954,39.9782,165.0223,5462,1620.7,1602,2.2642,34.5208,2,-999.0000,9,45.16,2,161.19,2,42.66,2,0.00,2,3.01,2,2388.7,2,2399.1,2,7.3709,2,-999,9,-999,9
49UP20160608,RF16-05,5769,1,16,24474,2,20160613,1950,39.9782,165.0223,5462,1823.8,1802,2.0779,34.5611,2,34.5612,2,56.84,2,164.51,2,42.00,2,0.00,2,2.96,2,2381.6,6,2406.4,6,7.3952,2,-999,9,-999,9
49UP20160608,RF16-05,5769,1,15,22088,2,20160613,1945,39.9782,165.0223,5462,2027.5,2002,1.9547,34.5875,2,34.5871,2,68.47,2,165.10,2,41.34,2,0.00,2,2.91,2,2378.1,2,2407.5,2,7.4206,2,-999,9,-999,9
49UP20160608,RF16-05,5769,1,14,21999,2,20160613,1939,39.9782,165.0223,5462,2282.2,2252,1.7960,34.6169,2,-999.0000,9,84.82,2,165.57,2,40.32,2,0.00,2,2.83,2,2372.1,2,2411.2,2,7.4562,6,-999,9,-999,9
49UP20160608,RF16-05,5769,1,13,22667,4,20160613,1934,39.9782,165.0223,5462,2536.9,2502,1.6876,34.6368,2,34.5841,4,66.66,4,164.97,4,41.42,4,0.00,4,2.92,4,2380.1,4,2406.9,4,7.4186,4,-999,9,-999,9
49UP20160608,RF16-05,5769,1,12,22074,2,20160613,1928,39.9782,165.0223,5462,2790.5,2751,1.6125,34.6506,2,34.6511,2,113.48,2,160.52,2,38.57,2,0.00,2,2.69,2,2350.9,2,2413.6,2,7.5082,2,-999,9,-999,9
49UP20160608,RF16-05,5769,1,11,24268,2,20160613,1922,39.9782,165.0223,5462,3046.5,3001,1.5575,34.6602,2,34.6612,2,122.76,2,159.11,2,37.90,2,0.00,2,2.65,2,2345.5,2,2416.2,2,7.5263,2,-999,9,-999,9
49UP20160608,RF16-05,5769,1,10,24267,2,20160613,1916,39.9782,165.0223,5462,3302.3,3252,1.5194,34.6682,2,-999.0000,9,131.55,6,156.68,6,37.35,6,0.00,6,2.60,6,2339.1,2,2415.8,2,7.5409,2,-999,9,-999,9
49UP20160608,RF16-05,5769,1,9,23518,2,20160613,1910,39.9782,165.0223,5462,3557.4,3501,1.4905,34.6745,2,34.6750,2,138.86,2,154.67,2,36.89,2,0.00,2,2.56,2,2337.8,2,2414.3,2,7.5564,2,-999,9,-999,9
49UP20160608,RF16-05,5769,1,8,24470,2,20160613,1905,39.9782,165.0223,5462,3815.1,3752,1.4743,34.6791,2,34.6793,2,144.53,2,153.58,2,36.52,2,0.00,2,2.53,2,2344.4,3,2414.0,2,7.5641,2,-999,9,-999,9
49UP20160608,RF16-05,5769,1,7,23516,2,20160613,1859,39.9782,165.0223,5462,4070.8,4001,1.4699,34.6829,2,34.6831,2,148.67,2,152.44,2,36.22,2,0.00,2,2.51,2,2328.9,6,2414.3,6,7.5734,2,-999,9,-999,9
49UP20160608,RF16-05,5769,1,6,22113,2,20160613,1853,39.9782,165.0223,5462,4328.2,4252,1.4741,34.6853,2,-999.0000,9,152.07,2,151.62,2,36.03,2,0.00,2,2.49,2,2329.5,2,2411.1,2,7.5794,2,-999,9,-999,9
49UP20160608,RF16-05,5769,1,5,24658,2,20160613,1847,39.9782,165.0223,5462,4585.1,4502,1.4856,34.6874,2,34.6873,2,154.25,2,151.17,2,35.87,2,0.00,2,2.49,2,2322.6,2,2411.4,2,7.5831,2,-999,9,-999,9
49UP20160608,RF16-05,5769,1,4,24471,2,20160613,1841,39.9782,165.0223,5462,4841.5,4751,1.5033,34.6889,2,34.6893,2,156.29,2,151.15,2,35.73,2,0.00,2,2.47,2,2328.9,2,2410.0,2,7.5860,6,-999,9,-999,9
49UP20160608,RF16-05,5769,1,3,22104,2,20160613,1836,39.9782,165.0223,5462,5097.5,4999,1.5285,34.6899,2,34.6906,6,156.98,2,151.49,2,35.70,2,0.00,2,2.47,2,2326.8,2,2410.5,2,7.5851,2,-999,9,-999,9
49UP20160608,RF16-05,5769,1,2,22075,2,20160613,1830,39.9782,165.0223,5462,5355.6,5249,1.5593,34.6902,2,34.6905,2,157.51,2,152.00,2,35.68,2,0.00,2,2.46,2,2325.6,2,2411.3,2,7.5866,2,-999,9,-999,9
49UP20160608,RF16-05,5769,1,1,21997,2,20160613,1825,39.9782,165.0223,5462,5572.0,5458,1.5869,34.6907,2,34.6906,2,157.33,2,152.10,2,35.67,2,0.00,2,2.47,2,2329.6,2,2410.7,2,7.5878,2,-999,9,-999,9