BOTTLE,20171117JMAGEMD
EXPOCODE,SECT_ID,STNNBR,CASTNO,SAMPNO,BTLNBR,BTLNBR_FLAG_W,DATE,TIME,LATITUDE,LONGITUDE,DEPTH,CTDPRS,CTDDEP,CTDTMP,CTDSAL,CTDSAL_FLAG_W,SALNTY,SALNTY_FLAG_W,OXYGEN,OXYGEN_FLAG_W,SILCAT,SILCAT_FLAG_W,NO2+NO3,NO2+NO3_FLAG_W,NITRIT,NITRIT_FLAG_W,PHSPHT,PHSPHT_FLAG_W,TCARBN,TCARBN_FLAG_W,ALKALI,ALKALI_FLAG_W,PH_TOT,PH_TOT_FLAG_W,CFC-11,CFC-11_FLAG_W,CFC-12,CFC-12_FLAG_W
,,,,,,,UTC,UTC,,,METER,DBAR,METERS,ITS-90,PSS-78,,PSS-78,,UMOL/KG,,UMOL/KG,,UMOL/KG,,UMOL/KG,,UMOL/KG,,UMOL/KG,,UMOL/KG,,@25DEG-C,,PMOL/KG,,PMOL/KG,
49UP20160608,RF16-05,5798,1,-999,0,2,20160620,0046,40.9092,149.866,5370,0.0,0,11.4449,32.7241,2,34.3774,2,294.95,2,4.75,2,1.48,2,0.04,2,0.47,2,1984.5,2,2232.4,2,7.9757,2,-999,9,-999,9
49UP20160608,RF16-05,5798,1,36,22109,2,20160620,0120,40.9092,149.866,5370,12.0,12,11.4897,32.7163,2,32.7342,4,296.26,2,5.35,2,1.58,2,0.04,2,0.49,2,1989.9,2,2235.7,2,7.9787,2,-999,9,-999,9
49UP20160608,RF16-05,5798,1,35,22112,2,20160620,0119,40.9092,149.866,5370,28.2,28,6.8211,32.8668,2,-999.0000,9,340.26,2,4.77,2,6.86,2,0.11,2,0.90,2,2039.3,2,2237.7,2,7.8909,6,-999,9,-999,9
49UP20160608,RF16-05,5798,1,34,22094,2,20160620,0118,40.9092,149.866,5370,54.1,54,2.7322,32.9414,2,32.9386,2,329.11,2,21.75,2,15.37,2,0.24,2,1.63,2,2115.5,2,2237.5,2,7.6990,2,-999,9,-999,9
49UP20160608,RF16-05,5798,1,33,24469,2,20160620,0116,40.9092,149.866,5370,77.8,77,1.8237,33.0368,2,-999.0000,9,318.71,2,34.52,2,21.44,2,0.31,2,1.82,2,2133.2,6,2236.1,6,7.6380,2,-999,9,-999,9
49UP20160608,RF16-05,5798,1,32,22105,2,20160620,0115,40.9092,149.866,5370,103.7,103,1.0879,33.0995,2,33.0918,2,301.34,6,44.40,6,25.83,6,0.01,6,2.03,6,2151.9,2,2237.3,2,7.5777,2,-999,9,-999,9
49UP20160608,RF16-05,5798,1,31,23515,2,20160620,0114,40.9092,149.866,5370,130.9,130,1.6441,33.2375,2,-999.0000,9,247.63,2,55.02,2,29.58,2,0.01,2,2.26,2,2197.2,2,2248.0,2,7.5074,2,-999,9,-999,9
49UP20160608,RF16-05,5798,1,30,22097,2,20160620,0112,40.9092,149.866,5370,152.9,152,2.3958,33.4032,2,33.4050,2,195.14,2,64.62,2,32.52,2,0.01,2,2.43,2,2221.4,2,2261.6,2,7.4429,2,-999,9,-999,9
49UP20160608,RF16-05,5798,1,29,22102,2,20160620,0109,40.9092,149.866,5370,204.0,202,2.8102,33.5559,2,33.5512,2,144.77,2,75.91,2,36.03,2,0.01,2,2.64,2,2258.1,2,2272.3,2,7.3747,2,-999,9,-999,9
49UP20160608,RF16-05,5798,1,28,24472,2,20160620,0107,40.9092,149.866,5370,254.1,252,3.1371,33.7081,2,-999.0000,9,97.98,2,87.12,2,39.22,2,0.02,2,2.84,2,2292.5,2,2286.4,2,7.3160,2,-999,9,-999,9
49UP20160608,RF16-05,5798,1,27,21998,2,20160620,0105,40.9092,149.866,5370,305.3,303,3.2727,33.8269,2,33.8251,2,65.52,6,96.70,6,41.72,6,0.03,6,2.99,6,2312.4,2,2295.8,2,7.2730,2,-999,9,-999,9
49UP20160608,RF16-05,5798,1,26,22084,2,20160620,0103,40.9092,149.866,5370,404.6,401,3.6062,34.0144,2,34.0170,2,52.56,2,105.12,2,41.25,2,0.01,2,2.96,2,2322.7,2,2317.2,2,7.3008,2,-999,9,-999,9
49UP20160608,RF16-05,5798,1,25,22098,2,20160620,0100,40.9092,149.866,5370,506.0,501,3.4376,34.1166,2,-999.0000,9,34.94,2,117.40,2,42.47,2,0.01,2,3.04,2,2340.4,2,2331.6,2,7.2857,6,-999,9,-999,9
49UP20160608,RF16-05,5798,1,24,22110,2,20160620,0057,40.9092,149.866,5370,605.6,600,3.2483,34.1963,2,34.1959,2,23.03,2,129.04,2,43.47,2,0.00,2,3.10,2,2359.3,2,2345.6,2,7.2736,2,-999,9,-999,9
49UP20160608,RF16-05,5798,1,23,23679,2,20160620,0054,40.9092,149.866,5370,705.8,699,3.1120,34.2673,2,34.2645,2,29.48,2,134.12,2,42.83,2,0.00,2,3.06,2,2358.7,2,2355.1,2,7.2992,2,-999,9,-999,9
49UP20160608,RF16-05,5798,1,22,22111,2,20160620,0052,40.9092,149.866,5370,808.2,800,2.8760,34.3114,2,34.3102,2,31.91,2,141.07,2,42.77,2,0.00,2,3.06,2,2368.8,2,2364.6,2,7.3099,2,-999,9,-999,9
49UP20160608,RF16-05,5798,1,21,22078,2,20160620,0049,40.9092,149.866,5370,909.8,901,2.7690,34.3514,2,-999.0000,9,33.29,2,145.26,2,42.81,2,0.00,2,3.06,2,2370.0,2,2370.7,6,7.3193,2,-999,9,-999,9
49UP20160608,RF16-05,5798,1,20,22093,2,20160620,0046,40.9092,149.866,5370,1010.2,1000,2.7059,34.3935,2,34.3893,4,35.78,2,147.97,2,42.61,2,0.00,2,3.05,2,2370.3,2,2376.4,2,7.3305,2,-999,9,-999,9
49UP20160608,RF16-05,5798,1,19,24269,2,20160620,0041,40.9092,149.866,5370,1213.4,1201,2.4905,34.4619,2,34.4620,6,38.87,2,154.92,2,42.61,2,0.00,2,3.04,2,2377.3,2,2389.5,2,7.3466,2,-999,9,-999,9
49UP20160608,RF16-05,5798,1,18,22101,2,20160620,0037,40.9092,149.866,5370,1417.6,1402,2.3100,34.5064,2,-999.0000,9,45.49,2,159.70,2,42.43,2,0.00,2,3.01,2,2376.5,2,2395.7,2,7.3611,2,-999,9,-999,9
49UP20160608,RF16-05,5798,1,17,22090,2,20160620,0032,40.9092,149.866,5370,1622.5,1604,2.1458,34.5434,2,34.5418,2,54.56,6,162.64,6,41.90,6,0.00,6,2.97,6,2381.3,2,2402.9,2,7.3822,2,-999,9,-999,9
49UP20160608,RF16-05,5798,1,16,24474,2,20160620,0026,40.9092,149.866,5370,1826.4,1804,2.0226,34.5748,2,-999.0000,9,66.06,2,163.11,2,41.27,2,0.00,2,2.91,2,2375.6,2,2404.5,2,7.4104,2,-999,9,-999,9
49UP20160608,RF16-05,5798,1,15,22088,2,20160620,0021,40.9092,149.866,5370,2028.3,2003,1.8889,34.6030,2,34.5999,4,79.77,2,162.61,2,40.50,2,0.00,2,2.84,2,2369.9,2,2410.6,2,7.4385,2,-999,9,-999,9
49UP20160608,RF16-05,5798,1,14,21999,2,20160620,0016,40.9092,149.866,5370,2282.1,2252,1.7595,34.6260,2,-999.0000,9,95.34,2,161.64,2,39.57,2,0.00,2,2.77,2,2364.8,2,2410.3,2,7.4702,2,-999,9,-999,9
49UP20160608,RF16-05,5798,1,13,22667,2,20160620,0010,40.9092,149.866,5370,2535.3,2501,1.6615,34.6430,2,34.6448,2,108.36,2,160.21,2,38.78,2,0.00,2,2.71,2,2352.4,2,2413.7,2,7.4902,2,-999,9,-999,9
49UP20160608,RF16-05,5798,1,12,22074,3,20160620,0004,40.9092,149.866,5370,2792.1,2752,1.5877,34.6556,2,34.6548,6,119.49,2,158.30,2,38.04,2,0.00,2,2.65,2,2341.6,2,2414.4,2,7.5154,2,-999,9,-999,9
49UP20160608,RF16-05,5798,1,11,24268,2,20160620,2359,40.9092,149.866,5370,3047.4,3002,1.5330,34.6647,2,34.6649,2,128.04,2,157.20,2,37.48,2,0.00,2,2.61,2,2345.8,3,2413.8,2,7.5326,2,-999,9,-999,9
49UP20160608,RF16-05,5798,1,10,24267,3,20160620,2354,40.9092,149.866,5370,3300.5,3250,1.4960,34.6718,2,-999.0000,9,136.67,2,154.87,2,36.98,2,0.00,2,2.57,2,2329.9,6,2413.4,6,7.5437,2,-999,9,-999,9
49UP20160608,RF16-05,5798,1,9,23518,2,20160620,2348,40.9092,149.866,5370,3558.0,3501,1.4771,34.6768,2,34.6781,2,141.83,2,153.36,2,36.62,2,0.00,2,2.54,2,2328.9,2,2413.8,2,7.5523,2,-999,9,-999,9
49UP20160608,RF16-05,5798,1,8,24470,3,20160620,2342,40.9092,149.866,5370,3813.6,3750,1.4653,34.6808,2,34.6779,4,150.40,4,152.12,2,36.26,2,0.00,2,2.52,2,2325.9,2,2410.2,3,7.5643,2,-999,9,-999,9
49UP20160608,RF16-05,5798,1,7,23516,2,20160620,2336,40.9092,149.866,5370,4072.5,4003,1.4588,34.6845,2,34.6840,2,151.34,2,151.02,2,35.98,2,0.00,2,2.49,2,2327.3,2,2413.1,2,7.5704,2,-999,9,-999,9
49UP20160608,RF16-05,5798,1,6,22113,2,20160620,2331,40.9092,149.866,5370,4329.5,4253,1.4622,34.6871,2,34.6869,2,154.27,2,150.41,2,35.76,2,0.00,2,2.47,2,2320.3,2,2412.3,2,7.5759,2,-999,9,-999,9
49UP20160608,RF16-05,5798,1,5,24658,2,20160620,2325,40.9092,149.866,5370,4586.4,4502,1.4758,34.6891,2,34.6888,6,156.50,2,150.07,2,35.58,2,0.00,2,2.46,2,2318.4,2,2413.0,2,7.5784,2,-999,9,-999,9
49UP20160608,RF16-05,5798,1,4,24471,2,20160620,2320,40.9092,149.866,5370,4843.8,4752,1.4969,34.6902,2,-999.0000,9,157.77,2,150.24,2,35.46,2,0.00,2,2.46,2,2325.9,3,2412.0,2,7.5822,6,-999,9,-999,9
49UP20160608,RF16-05,5798,1,3,22104,2,20160620,2314,40.9092,149.866,5370,5101.4,5002,1.5232,34.6910,2,34.6900,2,158.31,6,150.12,6,35.44,6,0.00,6,2.45,6,2318.9,2,2412.3,2,7.5828,2,-999,9,-999,9
49UP20160608,RF16-05,5798,1,2,22075,2,20160620,2308,40.9092,149.866,5370,5359.2,5252,1.5506,34.6915,2,34.6875,4,160.18,2,147.71,2,35.25,2,0.00,2,2.45,2,2312.6,3,2411.6,2,7.5852,2,-999,9,-999,9
49UP20160608,RF16-05,5798,1,1,21997,2,20160620,2304,40.9092,149.866,5370,5465.4,5355,1.5632,34.6916,2,34.6910,2,159.93,2,149.55,2,35.33,2,0.00,2,2.45,2,2318.0,2,2411.1,2,7.5812,2,-999,9,-999,9
49UP20160608,RF16-05,5800,1,-999,0,2,20160621,1755,39.6778,147.8828,5331,0.0,0,13.2406,32.8969,2,34.3456,2,292.60,2,0.21,2,0.02,2,0.00,2,0.19,2,1958.3,2,2228.0,2,8.0166,2,-999,9,-999,9
49UP20160608,RF16-05,5800,1,36,22109,2,20160621,1817,39.6778,147.8828,5331,11.4,11,12.6754,32.8678,2,33.0916,4,321.09,2,1.86,2,0.55,2,0.02,2,0.28,2,1987.2,2,2243.4,2,7.9940,2,-999,9,-999,9
49UP20160608,RF16-05,5800,1,35,22112,2,20160621,1816,39.6778,147.8828,5331,26.5,26,4.3728,32.8117,2,32.8574,4,372.78,2,12.25,2,6.61,2,0.10,2,0.98,2,2046.9,2,2239.5,6,7.8669,2,-999,9,-999,9
49UP20160608,RF16-05,5800,1,34,22094,3,20160621,1815,39.6778,147.8828,5331,52.0,52,2.6532,32.9409,2,-999.0000,9,323.07,6,22.05,6,14.58,6,0.23,6,1.51,2,2119.2,2,2237.8,2,7.6870,2,-999,9,-999,9
49UP20160608,RF16-05,5800,1,33,24469,3,20160621,1813,39.6778,147.8828,5331,76.5,76,2.6258,33.1301,2,33.1261,2,302.53,2,30.54,2,18.79,2,0.21,2,1.64,2,2130.5,2,2239.7,2,7.6488,6,-999,9,-999,9
49UP20160608,RF16-05,5800,1,32,22105,2,20160621,1811,39.6778,147.8828,5331,100.9,100,2.5805,33.1767,2,-999.0000,9,296.91,2,32.31,2,19.74,2,0.16,2,1.65,2,2132.8,2,2239.9,2,7.6432,2,-999,9,-999,9
49UP20160608,RF16-05,5800,1,31,23515,2,20160621,1810,39.6778,147.8828,5331,127.3,126,1.8190,33.1511,2,-999.0000,5,293.37,2,37.71,2,22.17,2,0.12,2,1.79,2,2148.1,2,2239.6,2,7.6113,2,-999,9,-999,9
49UP20160608,RF16-05,5800,1,30,22097,2,20160621,1809,39.6778,147.8828,5331,152.8,152,1.0133,33.1316,2,-999.0000,9,272.34,2,48.10,2,25.73,2,0.06,2,2.04,2,2177.6,2,2243.1,2,7.5403,2,-999,9,-999,9
49UP20160608,RF16-05,5800,1,29,22102,2,20160621,1807,39.6778,147.8828,5331,200.2,199,1.7446,33.3135,2,33.3174,2,225.99,2,58.75,6,29.41,6,0.02,6,2.27,6,2202.0,2,2255.6,2,7.4866,2,-999,9,-999,9
49UP20160608,RF16-05,5800,1,28,24472,2,20160621,1805,39.6778,147.8828,5331,253.9,252,2.0137,33.4286,2,33.4302,6,192.09,2,67.45,2,32.04,2,0.01,2,2.43,2,2225.1,2,2265.2,2,7.4404,2,-999,9,-999,9
49UP20160608,RF16-05,5800,1,27,21998,2,20160621,1804,39.6778,147.8828,5331,302.6,300,2.2993,33.5459,2,-999.0000,9,158.59,2,76.45,2,34.64,2,0.01,2,2.60,2,2258.0,2,2274.1,2,7.3864,2,-999,9,-999,9
49UP20160608,RF16-05,5800,1,26,22084,2,20160621,1801,39.6778,147.8828,5331,406.7,403,3.2245,33.8324,2,33.8391,4,77.74,2,94.86,2,40.21,2,0.01,2,2.91,2,2305.8,6,2297.0,6,7.3085,2,-999,9,-999,9
49UP20160608,RF16-05,5800,1,25,22098,2,20160621,1759,39.6778,147.8828,5331,505.8,501,3.4054,33.9933,2,33.9960,2,43.15,2,108.83,2,42.56,2,0.01,2,3.04,2,2329.7,2,2314.5,2,7.2766,2,-999,9,-999,9
49UP20160608,RF16-05,5800,1,24,22110,2,20160621,1756,39.6778,147.8828,5331,607.5,602,3.3986,34.1313,2,34.1404,4,35.80,2,119.31,2,42.48,2,0.00,2,3.04,2,2338.5,2,2333.7,2,7.2943,2,-999,9,-999,9
49UP20160608,RF16-05,5800,1,23,23679,2,20160621,1754,39.6778,147.8828,5331,708.0,701,3.4680,34.2607,2,-999.0000,9,39.14,2,124.39,2,41.87,2,0.00,2,2.99,2,2338.3,2,2348.6,2,7.3322,2,-999,9,-999,9
49UP20160608,RF16-05,5800,1,22,22111,2,20160621,1751,39.6778,147.8828,5331,807.9,800,3.3359,34.3340,2,34.3343,2,41.28,2,129.65,2,41.86,2,0.00,2,2.99,2,2347.0,2,2358.2,2,7.3534,2,-999,9,-999,9
49UP20160608,RF16-05,5800,1,21,22078,2,20160621,1749,39.6778,147.8828,5331,909.7,901,3.1340,34.3882,2,34.3871,2,41.07,2,135.58,2,42.04,2,0.00,2,3.00,2,2355.8,2,2369.2,2,7.3544,6,-999,9,-999,9
49UP20160608,RF16-05,5800,1,20,22093,2,20160621,1746,39.6778,147.8828,5331,1011.0,1001,2.9308,34.4242,2,34.4238,2,41.97,2,141.14,2,42.24,2,0.00,2,3.01,2,2366.5,2,2376.5,2,7.3577,2,-999,9,-999,9
49UP20160608,RF16-05,5800,1,19,24269,2,20160621,1741,39.6778,147.8828,5331,1213.3,1201,2.5762,34.4682,2,-999.0000,9,40.58,2,151.50,2,42.66,2,0.00,2,3.04,2,2370.4,2,2387.0,2,7.3551,2,-999,9,-999,9
49UP20160608,RF16-05,5800,1,18,22101,2,20160621,1736,39.6778,147.8828,5331,1418.5,1403,2.3728,34.5128,2,34.5116,2,46.40,2,156.72,2,42.52,2,0.00,2,3.01,2,2372.4,2,2395.7,2,7.3717,2,-999,9,-999,9
49UP20160608,RF16-05,5800,1,17,22090,2,20160621,1732,39.6778,147.8828,5331,1620.0,1601,2.1893,34.5460,2,-999.0000,9,54.59,2,160.76,2,42.08,2,0.00,2,2.97,2,2373.3,2,2400.8,2,7.3861,2,-999,9,-999,9
49UP20160608,RF16-05,5800,1,16,24474,2,20160621,1727,39.6778,147.8828,5331,1823.4,1802,2.0363,34.5766,2,34.5762,2,65.63,2,162.39,2,41.48,2,0.00,2,2.92,2,2370.8,2,2405.4,2,7.4113,2,-999,9,-999,9
49UP20160608,RF16-05,5800,1,15,22088,2,20160621,1723,39.6778,147.8828,5331,2026.4,2001,1.9060,34.6005,2,34.6002,2,78.03,6,162.84,6,40.75,6,0.00,6,2.87,6,2371.8,2,2408.5,2,7.4359,2,-999,9,-999,9
49UP20160608,RF16-05,5800,1,14,21999,2,20160621,1717,39.6778,147.8828,5331,2280.5,2251,1.7656,34.6252,2,34.6246,2,94.43,2,161.50,2,39.73,2,0.00,2,2.79,2,2358.9,2,2409.6,2,7.4650,2,-999,9,-999,9
49UP20160608,RF16-05,5800,1,13,22667,2,20160621,1712,39.6778,147.8828,5331,2537.1,2503,1.6619,34.6428,2,34.6423,2,108.52,2,160.21,2,38.78,2,0.00,2,2.72,2,2351.0,2,2412.2,2,7.5141,4,-999,9,-999,9
49UP20160608,RF16-05,5800,1,12,22074,2,20160621,1706,39.6778,147.8828,5331,2791.2,2752,1.5882,34.6555,2,-999.0000,9,119.73,2,158.21,2,38.12,2,0.00,2,2.66,2,2346.3,2,2413.0,2,7.4961,4,-999,9,-999,9
49UP20160608,RF16-05,5800,1,11,24268,2,20160621,1701,39.6778,147.8828,5331,3045.7,3001,1.5364,34.6648,2,34.6649,2,129.04,2,156.06,2,37.48,2,0.00,2,2.61,2,2340.6,2,2413.6,2,7.5332,6,-999,9,-999,9
49UP20160608,RF16-05,5800,1,10,24267,3,20160621,1655,39.6778,147.8828,5331,3302.3,3252,1.5008,34.6716,2,34.6710,2,136.63,2,154.39,2,37.02,2,0.00,2,2.58,2,2328.7,6,2413.4,6,7.5454,2,-999,9,-999,9
49UP20160608,RF16-05,5800,1,9,23518,2,20160621,1650,39.6778,147.8828,5331,3558.4,3502,1.4781,34.6767,2,34.6775,2,141.89,2,153.21,2,36.67,2,0.00,2,2.55,2,2332.0,2,2413.3,2,7.5563,2,-999,9,-999,9
49UP20160608,RF16-05,5800,1,8,24470,2,20160621,1645,39.6778,147.8828,5331,3814.7,3752,1.4637,34.6811,2,-999.0000,9,147.60,2,151.52,2,36.32,2,0.00,2,2.52,2,2326.4,2,2413.5,2,7.5643,2,-999,9,-999,9
49UP20160608,RF16-05,5800,1,7,23516,2,20160621,1639,39.6778,147.8828,5331,4072.9,4003,1.4612,34.6844,2,34.6841,6,151.35,2,150.65,2,36.03,2,0.00,2,2.50,2,2328.3,2,2412.4,2,7.5688,2,-999,9,-999,9
49UP20160608,RF16-05,5800,1,6,22113,2,20160621,1634,39.6778,147.8828,5331,4326.2,4250,1.4641,34.6870,2,-999.0000,9,154.74,2,149.01,2,35.78,2,0.00,2,2.48,2,2314.4,3,2411.3,2,7.5796,2,-999,9,-999,9
49UP20160608,RF16-05,5800,1,5,24658,2,20160621,1628,39.6778,147.8828,5331,4583.3,4500,1.4753,34.6889,2,34.6884,2,156.82,2,149.54,2,35.63,2,0.00,2,2.47,2,2327.1,2,2410.7,2,7.5800,2,-999,9,-999,9
49UP20160608,RF16-05,5800,1,4,24471,2,20160621,1623,39.6778,147.8828,5331,4841.8,4751,1.4934,34.6903,2,34.6917,2,158.55,2,149.46,2,35.56,2,0.00,2,2.46,2,2317.6,2,2409.7,2,7.5810,2,-999,9,-999,9
49UP20160608,RF16-05,5800,1,3,22104,2,20160621,1617,39.6778,147.8828,5331,5099.3,5001,1.5147,34.6915,2,34.6914,6,160.67,2,147.06,2,35.34,2,0.00,2,2.45,2,2322.5,2,2407.7,2,7.5869,2,-999,9,-999,9
49UP20160608,RF16-05,5800,1,2,22075,2,20160621,1612,39.6778,147.8828,5331,5356.3,5250,1.5380,34.6924,2,34.6899,4,162.88,2,144.63,2,35.23,2,0.00,2,2.44,2,2317.3,2,2407.4,2,7.5909,2,-999,9,-999,9
49UP20160608,RF16-05,5800,1,1,21997,2,20160621,1609,39.6778,147.8828,5331,5424.5,5316,1.5445,34.6927,2,34.6927,2,162.83,6,144.90,6,35.20,6,0.00,6,2.44,6,2309.8,2,2406.8,2,7.5888,2,-999,9,-999,9