BOTTLE,20020809WHPSIObren
EXPOCODE,SECT_ID,STNNBR,CASTNO,SAMPNO,BTLNBR,BTLNBR_FLAG_W,DATE,TIME,LATITUDE,LONGITUDE,DEPTH,CTDPRS,CTDTMP,CTDSAL,CTDSAL_FLAG_W,SALNTY,SALNTY_FLAG_W,CTDOXY,CTDOXY_FLAG_W,OXYGEN,OXYGEN_FLAG_W,SILCAT,SILCAT_FLAG_W,NO2+NO3,NO2+NO3_FLAG_W,PHSPHT,PHSPHT_FLAG_W,CTDRAW,REVTMP,REVPRS,THETA
,,,,,,,,,,,,DBAR,ITS-90,PSS-78,,PSS-78,,UMOL/KG,,UMOL/KG,,UMOL/KG,,UMOL/KG,,UMOL/KG,,,DEG C,DBAR,ITS-90
     32MW068_1,  PRS2,     2,  7,     24,     31,2,19951117,0756, 22.7600,-158.0717, 4735,      2.8,  25.6758,  34.9470,2,  34.9442,2,    205.8,2,    206.1,6,  -999.00,9,  -999.00,9,  -999.00,9,      3,-999.000,  -999.0, 25.6752
     32MW068_1,  PRS2,     2,  7,     23,     30,2,19951117,0756, 22.7600,-158.0717, 4735,      9.4,  25.6831,  34.9466,2,  34.9446,2,    205.8,2,    206.4,6,  -999.00,9,  -999.00,9,  -999.00,9,      9,-999.000,  -999.0, 25.6810
     32MW068_1,  PRS2,     2,  7,     22,     22,2,19951117,0756, 22.7600,-158.0717, 4735,     14.6,  25.6853,  34.9470,2,  34.9448,2,    205.8,2,    206.6,6,  -999.00,9,  -999.00,9,  -999.00,9,     16,-999.000,  -999.0, 25.6821
     32MW068_1,  PRS2,     2,  7,     21,     21,2,19951117,0756, 22.7600,-158.0717, 4735,     19.4,  25.6884,  34.9475,2,  34.9464,2,    205.8,2,    206.5,6,  -999.00,9,  -999.00,9,  -999.00,9,     20,-999.000,  -999.0, 25.6841
     32MW068_1,  PRS2,     2,  7,     20,     20,2,19951117,0756, 22.7600,-158.0717, 4735,     30.1,  25.6889,  34.9460,2,  34.9756,4,    205.8,3,    206.2,6,  -999.00,9,  -999.00,9,  -999.00,9,     31,-999.000,  -999.0, 25.6822
     32MW068_1,  PRS2,     2,  7,     19,     19,2,19951117,0756, 22.7600,-158.0717, 4735,     39.3,  25.6897,  34.9451,2,  34.9443,2,    205.8,2,    206.5,6,  -999.00,9,  -999.00,9,  -999.00,9,     40,-999.000,  -999.0, 25.6810
     32MW068_1,  PRS2,     2,  7,     18,     18,2,19951117,0756, 22.7600,-158.0717, 4735,     49.4,  25.6860,  34.9445,2,  34.9624,4,    205.8,3,    206.6,6,  -999.00,9,  -999.00,9,  -999.00,9,     48,-999.000,  -999.0, 25.6750
     32MW068_1,  PRS2,     2,  7,     17,     17,2,19951117,0756, 22.7600,-158.0717, 4735,     59.6,  25.2558,  34.9819,2,  34.9478,3,    209.9,3,    207.0,6,  -999.00,9,  -999.00,9,  -999.00,9,     59,-999.000,  -999.0, 25.2428
     32MW068_1,  PRS2,     2,  7,     16,     16,2,19951117,0756, 22.7600,-158.0717, 4735,     69.5,  23.4028,  35.0702,2,  35.0725,2,    220.6,2,    223.3,6,  -999.00,9,  -999.00,9,  -999.00,9,     70,-999.000,  -999.0, 23.3884
     32MW068_1,  PRS2,     2,  7,     15,     15,2,19951117,0756, 22.7600,-158.0717, 4735,     79.7,  22.7189,  35.1067,2,  35.1061,2,    223.1,2,    222.6,6,  -999.00,9,  -999.00,9,  -999.00,9,     82,-999.000,  -999.0, 22.7028
     32MW068_1,  PRS2,     2,  7,     14,     14,2,19951117,0756, 22.7600,-158.0717, 4735,     90.5,  21.7794,  35.1328,2,  35.1361,2,    218.4,2,    214.2,6,  -999.00,9,  -999.00,9,  -999.00,9,     90,-999.000,  -999.0, 21.7617
     32MW068_1,  PRS2,     2,  7,     13,     13,2,19951117,0756, 22.7600,-158.0717, 4735,     99.2,  21.4813,  35.1366,2,  35.1373,2,    216.8,2,    214.9,6,  -999.00,9,  -999.00,9,  -999.00,9,    100,-999.000,  -999.0, 21.4620
     32MW068_1,  PRS2,     2,  7,     12,     12,2,19951117,0756, 22.7600,-158.0717, 4735,    110.3,  20.8000,  35.1302,2,  35.1299,2,    207.0,2,    205.3,6,  -999.00,9,  -999.00,9,  -999.00,9,    111,-999.000,  -999.0, 20.7791
     32MW068_1,  PRS2,     2,  7,     11,     11,2,19951117,0756, 22.7600,-158.0717, 4735,    121.2,  20.5105,  35.1285,2,  35.1285,2,    203.4,2,    203.8,6,  -999.00,9,  -999.00,9,  -999.00,9,    121,-999.000,  -999.0, 20.4877
     32MW068_1,  PRS2,     2,  7,     10,     32,2,19951117,0756, 22.7600,-158.0717, 4735,    149.9,  19.4998,  35.1033,2,  35.1028,2,    205.1,2,   -999.0,5,  -999.00,9,  -999.00,9,  -999.00,9,    150,-999.000,  -999.0, 19.4726
     32MW068_1,  PRS2,     2,  7,      9,      3,2,19951117,0756, 22.7600,-158.0717, 4735,    174.4,  18.7152,  35.0112,2,  35.0138,2,    202.9,2,   -999.0,5,  -999.00,9,  -999.00,9,  -999.00,9,    175,-999.000,  -999.0, 18.6845
     32MW068_1,  PRS2,     2,  7,      8,     29,2,19951117,0756, 22.7600,-158.0717, 4735,    480.7,   7.6244,  34.0451,2,  34.0488,2,    144.9,2,   -999.0,5,  -999.00,9,  -999.00,9,  -999.00,9,    481,-999.000,  -999.0,  7.5769
     32MW068_1,  PRS2,     2,  7,      2,     34,2,19951117,0756, 22.7600,-158.0717, 4735,   1018.7,   4.0343,  34.4834,2,-999.0000,5,     43.5,2,   -999.0,5,  -999.00,9,  -999.00,9,  -999.00,9,   1021,-999.000,  -999.0,  3.9568
     32MW068_1,  PRS2,     2,  7,      3,     35,2,19951117,0756, 22.7600,-158.0717, 4735,   1019.1,   4.0331,  34.4834,2,-999.0000,5,     43.5,2,   -999.0,5,  -999.00,9,  -999.00,9,  -999.00,9,   1021,-999.000,  -999.0,  3.9557
     32MW068_1,  PRS2,     2,  7,      4,     36,2,19951117,0756, 22.7600,-158.0717, 4735,   1019.4,   4.0320,  34.4837,2,-999.0000,5,     43.5,2,   -999.0,5,  -999.00,9,  -999.00,9,  -999.00,9,   1019,-999.000,  -999.0,  3.9545
     32MW068_1,  PRS2,     2,  7,      1,     33,2,19951117,0756, 22.7600,-158.0717, 4735,   1019.4,   4.0326,  34.4833,2,-999.0000,5,     43.5,2,   -999.0,5,  -999.00,9,  -999.00,9,  -999.00,9,   1020,-999.000,  -999.0,  3.9551
     32MW068_1,  PRS2,     2,  7,      6,      7,2,19951117,0756, 22.7600,-158.0717, 4735,   1019.7,   4.0317,  34.4843,2,-999.0000,5,     43.5,2,   -999.0,5,  -999.00,9,  -999.00,9,  -999.00,9,   1020,-999.000,  -999.0,  3.9541
     32MW068_1,  PRS2,     2,  7,      7,     28,2,19951117,0756, 22.7600,-158.0717, 4735,   1019.9,   4.0321,  34.4838,2,  34.4871,2,     43.5,2,   -999.0,5,  -999.00,9,  -999.00,9,  -999.00,9,   1019,-999.000,  -999.0,  3.9546
     32MW068_1,  PRS2,     2,  7,      5,     38,2,19951117,0756, 22.7600,-158.0717, 4735,   1020.0,   4.0323,  34.4834,2,-999.0000,5,     43.5,2,   -999.0,5,  -999.00,9,  -999.00,9,  -999.00,9,   1019,-999.000,  -999.0,  3.9548
     32MW068_1,  PRS2,     2,  8,     16,     16,2,19951117,1109, 22.7625,-158.0873, 4745,      4.7,  25.6278,  34.9412,2,  34.9390,2,    206.0,2,   -999.0,5,  -999.00,9,  -999.00,9,  -999.00,9,      5,-999.000,  -999.0, 25.6267
     32MW068_1,  PRS2,     2,  8,     15,     15,2,19951117,1109, 22.7625,-158.0873, 4745,     14.2,  25.6382,  34.9411,2,  34.9513,2,    206.0,2,    206.5,6,  -999.00,9,  -999.00,9,  -999.00,9,     15,-999.000,  -999.0, 25.6350
     32MW068_1,  PRS2,     2,  8,     14,     14,2,19951117,1109, 22.7625,-158.0873, 4745,    100.1,  21.1638,  35.1357,2,  35.1361,2,    212.7,2,   -999.0,5,  -999.00,9,  -999.00,9,  -999.00,9,     99,-999.000,  -999.0, 21.1446
     32MW068_1,  PRS2,     2,  8,     13,     13,2,19951117,1109, 22.7625,-158.0873, 4745,    129.3,  19.8407,  35.1277,2,  35.1291,2,    207.6,2,    204.5,6,  -999.00,9,  -999.00,9,  -999.00,9,    129,-999.000,  -999.0, 19.8169
     32MW068_1,  PRS2,     2,  8,     12,     12,2,19951117,1109, 22.7625,-158.0873, 4745,    148.8,  19.0759,  35.0569,2,  35.0545,2,    203.2,2,    202.9,6,  -999.00,9,  -999.00,9,  -999.00,9,    150,-999.000,  -999.0, 19.0493
     32MW068_1,  PRS2,     2,  8,     11,     11,2,19951117,1109, 22.7625,-158.0873, 4745,    158.7,  18.6370,  35.0011,2,  34.9985,2,    203.7,2,    203.5,6,  -999.00,9,  -999.00,9,  -999.00,9,    161,-999.000,  -999.0, 18.6091
     32MW068_1,  PRS2,     2,  8,     10,     32,2,19951117,1109, 22.7625,-158.0873, 4745,    170.3,  18.4909,  34.9839,2,  34.9872,2,    205.3,2,    203.8,6,  -999.00,9,  -999.00,9,  -999.00,9,    170,-999.000,  -999.0, 18.4611
     32MW068_1,  PRS2,     2,  8,      9,      3,2,19951117,1109, 22.7625,-158.0873, 4745,    179.9,  17.9091,  34.9158,2,  34.9564,3,    206.1,3,    204.7,6,  -999.00,9,  -999.00,9,  -999.00,9,    179,-999.000,  -999.0, 17.8784
     32MW068_1,  PRS2,     2,  8,      8,     29,2,19951117,1109, 22.7625,-158.0873, 4745,    189.6,  17.6378,  34.8823,2,  34.8836,2,    207.5,2,    207.6,6,  -999.00,9,  -999.00,9,  -999.00,9,    189,-999.000,  -999.0, 17.6057
     32MW068_1,  PRS2,     2,  8,      7,     28,2,19951117,1109, 22.7625,-158.0873, 4745,    200.8,  17.4212,  34.8540,2,  34.8554,2,    207.8,2,    208.2,6,  -999.00,9,  -999.00,9,  -999.00,9,    199,-999.000,  -999.0, 17.3875
     32MW068_1,  PRS2,     2,  8,      6,      7,2,19951117,1109, 22.7625,-158.0873, 4745,    220.7,  16.4697,  34.7302,2,  34.7364,2,    205.4,2,    205.8,6,  -999.00,9,  -999.00,9,  -999.00,9,    219,-999.000,  -999.0, 16.4341
     32MW068_1,  PRS2,     2,  8,      5,     38,2,19951117,1109, 22.7625,-158.0873, 4745,    250.1,  14.4696,  34.5108,2,  34.5166,2,    202.7,2,    203.7,6,  -999.00,9,  -999.00,9,  -999.00,9,    252,-999.000,  -999.0, 14.4327
     32MW068_1,  PRS2,     2,  8,      4,     36,2,19951117,1109, 22.7625,-158.0873, 4745,    298.7,  12.6874,  34.3433,2,  34.3411,2,    203.8,2,    206.6,6,  -999.00,9,  -999.00,9,  -999.00,9,    300,-999.000,  -999.0, 12.6471
     32MW068_1,  PRS2,     2,  8,      3,     35,2,19951117,1109, 22.7625,-158.0873, 4745,    399.0,   9.7094,  34.1211,2,  34.1211,2,    188.6,2,    193.8,6,  -999.00,9,  -999.00,9,  -999.00,9,    399,-999.000,  -999.0,  9.6640
     32MW068_1,  PRS2,     2,  8,      2,     34,2,19951117,1109, 22.7625,-158.0873, 4745,    501.0,   7.2581,  34.0424,2,  34.0398,2,    127.9,2,   -999.0,5,  -999.00,9,  -999.00,9,  -999.00,9,    500,-999.000,  -999.0,  7.2099
     32MW068_1,  PRS2,     2,  8,      1,     33,2,19951117,1109, 22.7625,-158.0873, 4745,   1019.0,   4.0187,  34.4827,2,  34.4846,2,     42.1,2,   -999.0,5,  -999.00,9,  -999.00,9,  -999.00,9,   1020,-999.000,  -999.0,  3.9414
     32MW068_1,  PRS2,     2,  9,     24,     31,2,19951117,1358, 22.7538,-158.0110, 4730,      4.6,  25.5934,  34.9515,2,  34.9506,2,    206.2,1,   -999.0,9,  -999.00,9,  -999.00,9,  -999.00,9,      4,-999.000,  -999.0, 25.5924
     32MW068_1,  PRS2,     2,  9,     23,     30,2,19951117,1358, 22.7538,-158.0110, 4730,      9.2,  25.5967,  34.9512,2,-999.0000,5,    206.2,1,   -999.0,9,  -999.00,9,  -999.00,9,  -999.00,9,      9,-999.000,  -999.0, 25.5947
     32MW068_1,  PRS2,     2,  9,     22,     22,2,19951117,1358, 22.7538,-158.0110, 4730,     15.0,  25.5942,  34.9515,2,-999.0000,5,    206.2,1,   -999.0,9,  -999.00,9,  -999.00,9,  -999.00,9,     15,-999.000,  -999.0, 25.5909
     32MW068_1,  PRS2,     2,  9,     21,     21,2,19951117,1358, 22.7538,-158.0110, 4730,     19.5,  25.5955,  34.9515,2,-999.0000,5,    206.3,1,   -999.0,9,  -999.00,9,  -999.00,9,  -999.00,9,     20,-999.000,  -999.0, 25.5912
     32MW068_1,  PRS2,     2,  9,     20,     20,2,19951117,1358, 22.7538,-158.0110, 4730,     24.7,  25.5953,  34.9511,2,  34.9493,2,    206.3,1,   -999.0,9,  -999.00,9,  -999.00,9,  -999.00,9,     25,-999.000,  -999.0, 25.5898
     32MW068_1,  PRS2,     2,  9,     19,     19,2,19951117,1358, 22.7538,-158.0110, 4730,     29.9,  25.6014,  34.9518,2,-999.0000,5,    206.3,1,   -999.0,9,  -999.00,9,  -999.00,9,  -999.00,9,     30,-999.000,  -999.0, 25.5948
     32MW068_1,  PRS2,     2,  9,     18,     18,2,19951117,1358, 22.7538,-158.0110, 4730,     34.5,  25.6014,  34.9517,2,-999.0000,5,    206.3,1,   -999.0,9,  -999.00,9,  -999.00,9,  -999.00,9,     34,-999.000,  -999.0, 25.5938
     32MW068_1,  PRS2,     2,  9,     17,     17,2,19951117,1358, 22.7538,-158.0110, 4730,     38.5,  25.6010,  34.9514,2,-999.0000,5,    206.3,1,   -999.0,9,  -999.00,9,  -999.00,9,  -999.00,9,     38,-999.000,  -999.0, 25.5925
     32MW068_1,  PRS2,     2,  9,     16,     16,2,19951117,1358, 22.7538,-158.0110, 4730,     44.3,  25.6026,  34.9509,2,-999.0000,5,    206.4,1,   -999.0,9,  -999.00,9,  -999.00,9,  -999.00,9,     44,-999.000,  -999.0, 25.5929
     32MW068_1,  PRS2,     2,  9,     15,     15,2,19951117,1358, 22.7538,-158.0110, 4730,     49.9,  25.5989,  34.9510,2,  34.9515,2,    206.4,1,   -999.0,9,  -999.00,9,  -999.00,9,  -999.00,9,     51,-999.000,  -999.0, 25.5879
     32MW068_1,  PRS2,     2,  9,     14,     14,2,19951117,1358, 22.7538,-158.0110, 4730,     54.7,  25.5817,  34.9517,2,-999.0000,5,    206.6,1,   -999.0,9,  -999.00,9,  -999.00,9,  -999.00,9,     54,-999.000,  -999.0, 25.5696
     32MW068_1,  PRS2,     2,  9,     13,     13,2,19951117,1358, 22.7538,-158.0110, 4730,     65.0,  24.4344,  35.0216,2,-999.0000,5,    214.7,1,   -999.0,9,  -999.00,9,  -999.00,9,  -999.00,9,     64,-999.000,  -999.0, 24.4206
     32MW068_1,  PRS2,     2,  9,     12,     12,2,19951117,1358, 22.7538,-158.0110, 4730,     73.9,  22.9850,  35.0900,2,-999.0000,5,    222.4,1,   -999.0,9,  -999.00,9,  -999.00,9,  -999.00,9,     73,-999.000,  -999.0, 22.9700
     32MW068_1,  PRS2,     2,  9,     11,     11,2,19951117,1358, 22.7538,-158.0110, 4730,     85.7,  22.1583,  35.1224,2,-999.0000,5,    219.1,1,   -999.0,9,  -999.00,9,  -999.00,9,  -999.00,9,     87,-999.000,  -999.0, 22.1413
     32MW068_1,  PRS2,     2,  9,     10,     32,2,19951117,1358, 22.7538,-158.0110, 4730,     95.6,  21.1918,  35.1420,2,-999.0000,5,    206.6,1,   -999.0,9,  -999.00,9,  -999.00,9,  -999.00,9,     97,-999.000,  -999.0, 21.1734
     32MW068_1,  PRS2,     2,  9,      9,      3,2,19951117,1358, 22.7538,-158.0110, 4730,    104.8,  20.8092,  35.1469,2,  35.1452,2,    208.4,1,   -999.0,9,  -999.00,9,  -999.00,9,  -999.00,9,    104,-999.000,  -999.0, 20.7893
     32MW068_1,  PRS2,     2,  9,      8,     29,2,19951117,1358, 22.7538,-158.0110, 4730,    114.7,  20.5454,  35.1451,2,  35.1455,2,    205.7,1,   -999.0,9,  -999.00,9,  -999.00,9,  -999.00,9,    116,-999.000,  -999.0, 20.5238
     32MW068_1,  PRS2,     2,  9,      7,     28,2,19951117,1358, 22.7538,-158.0110, 4730,    123.3,  20.2491,  35.1375,2,  35.1406,2,    207.4,1,   -999.0,9,  -999.00,9,  -999.00,9,  -999.00,9,    125,-999.000,  -999.0, 20.2261
     32MW068_1,  PRS2,     2,  9,      6,      7,2,19951117,1358, 22.7538,-158.0110, 4730,    149.5,  18.8562,  35.0349,2,-999.0000,5,    203.8,1,   -999.0,9,  -999.00,9,  -999.00,9,  -999.00,9,    149,-999.000,  -999.0, 18.8297
     32MW068_1,  PRS2,     2,  9,      5,     38,2,19951117,1358, 22.7538,-158.0110, 4730,    173.8,  18.0382,  34.9329,2,  34.9368,2,    206.0,1,   -999.0,9,  -999.00,9,  -999.00,9,  -999.00,9,    177,-999.000,  -999.0, 18.0083
     32MW068_1,  PRS2,     2,  9,      4,     36,2,19951117,1358, 22.7538,-158.0110, 4730,    249.8,  13.9871,  34.4611,2,  34.4615,2,    202.0,1,   -999.0,9,  -999.00,9,  -999.00,9,  -999.00,9,    250,-999.000,  -999.0, 13.9511
     32MW068_1,  PRS2,     2,  9,      3,     35,2,19951117,1358, 22.7538,-158.0110, 4730,    499.6,   7.1308,  34.0432,2,  34.0423,2,    122.0,1,   -999.0,9,  -999.00,9,  -999.00,9,  -999.00,9,    499,-999.000,  -999.0,  7.0833
     32MW068_1,  PRS2,     2,  9,      2,     34,2,19951117,1358, 22.7538,-158.0110, 4730,    798.2,   4.6295,  34.3565,2,  34.3591,2,     26.3,1,   -999.0,9,  -999.00,9,  -999.00,9,  -999.00,9,    800,-999.000,  -999.0,  4.5666
     32MW068_1,  PRS2,     2,  9,      1,     33,2,19951117,1358, 22.7538,-158.0110, 4730,   1020.0,   3.9990,  34.4849,2,  34.4867,2,     42.8,1,   -999.0,9,  -999.00,9,  -999.00,9,  -999.00,9,   1021,-999.000,  -999.0,  3.9217
     32MW068_1,  PRS2,     2, 10,     15,     15,2,19951117,1654, 22.7747,-158.0305,  472,      4.6,  25.6053,  34.9401,2,  34.9388,2,    205.7,1,   -999.0,9,  -999.00,9,  -999.00,9,  -999.00,9,      5,-999.000,  -999.0, 25.6043
     32MW068_1,  PRS2,     2, 10,     14,     14,2,19951117,1654, 22.7747,-158.0305,  472,     24.3,  25.6080,  34.9397,2,  34.9377,2,    205.7,1,   -999.0,9,  -999.00,9,  -999.00,9,  -999.00,9,     23,-999.000,  -999.0, 25.6027
     32MW068_1,  PRS2,     2, 10,     13,     13,2,19951117,1654, 22.7747,-158.0305,  472,     45.1,  25.6107,  34.9399,2,  34.9380,2,    205.6,1,   -999.0,9,  -999.00,9,  -999.00,9,  -999.00,9,     45,-999.000,  -999.0, 25.6007
     32MW068_1,  PRS2,     2, 10,     12,     12,2,19951117,1654, 22.7747,-158.0305,  472,     74.5,  23.6563,  35.0621,2,  35.0626,2,    222.3,1,   -999.0,9,  -999.00,9,  -999.00,9,  -999.00,9,     75,-999.000,  -999.0, 23.6408
     32MW068_1,  PRS2,     2, 10,     11,     11,2,19951117,1654, 22.7747,-158.0305,  472,     84.6,  22.8617,  35.0952,2,  35.0934,2,    223.8,1,   -999.0,9,  -999.00,9,  -999.00,9,  -999.00,9,     85,-999.000,  -999.0, 22.8445
     32MW068_1,  PRS2,     2, 10,     10,     32,2,19951117,1654, 22.7747,-158.0305,  472,     89.8,  22.0955,  35.1235,2,  35.1170,2,    219.5,1,   -999.0,9,  -999.00,9,  -999.00,9,  -999.00,9,     90,-999.000,  -999.0, 22.0777
     32MW068_1,  PRS2,     2, 10,      9,      3,2,19951117,1654, 22.7747,-158.0305,  472,     94.4,  21.3792,  35.1383,2,  35.1369,2,    214.0,1,   -999.0,9,  -999.00,9,  -999.00,9,  -999.00,9,     95,-999.000,  -999.0, 21.3609
     32MW068_1,  PRS2,     2, 10,      8,     29,2,19951117,1654, 22.7747,-158.0305,  472,     99.1,  20.9358,  35.1451,2,  35.1452,2,    204.0,1,   -999.0,9,  -999.00,9,  -999.00,9,  -999.00,9,     99,-999.000,  -999.0, 20.9169
     32MW068_1,  PRS2,     2, 10,      7,     28,2,19951117,1654, 22.7747,-158.0305,  472,    124.1,  19.9131,  35.1313,2,  35.1303,2,    204.5,1,   -999.0,9,  -999.00,9,  -999.00,9,  -999.00,9,    125,-999.000,  -999.0, 19.8902
     32MW068_1,  PRS2,     2, 10,      6,      7,2,19951117,1654, 22.7747,-158.0305,  472,    149.1,  18.6737,  35.0119,2,  35.0150,2,    202.7,1,   -999.0,9,  -999.00,9,  -999.00,9,  -999.00,9,    148,-999.000,  -999.0, 18.6474
     32MW068_1,  PRS2,     2, 10,      5,     38,3,19951117,1654, 22.7747,-158.0305,  472,    175.5,  17.7720,  34.9005,2,  34.9024,2,    207.5,1,   -999.0,9,  -999.00,9,  -999.00,9,  -999.00,9,    177,-999.000,  -999.0, 17.7422
     32MW068_1,  PRS2,     2, 10,      4,     36,2,19951117,1654, 22.7747,-158.0305,  472,    251.4,  14.1739,  34.4779,2,  34.4856,2,    201.1,1,   -999.0,9,  -999.00,9,  -999.00,9,  -999.00,9,    251,-999.000,  -999.0, 14.1374
     32MW068_1,  PRS2,     2, 10,      3,     35,2,19951117,1654, 22.7747,-158.0305,  472,    499.5,   7.0903,  34.0415,2,  34.0412,2,    123.7,1,   -999.0,9,  -999.00,9,  -999.00,9,  -999.00,9,    499,-999.000,  -999.0,  7.0429
     32MW068_1,  PRS2,     2, 10,      2,     34,2,19951117,1654, 22.7747,-158.0305,  472,    751.1,   4.7791,  34.3326,2,  34.3325,2,     25.9,1,   -999.0,9,  -999.00,9,  -999.00,9,  -999.00,9,    753,-999.000,  -999.0,  4.7194
     32MW068_1,  PRS2,     2, 10,      1,     33,4,19951117,1654, 22.7747,-158.0305,  472,   1022.2,   3.9978,  34.4858,2,  34.4867,2,     44.1,1,   -999.0,9,  -999.00,9,  -999.00,9,  -999.00,9,   1023,-999.000,  -999.0,  3.9203