BOTTLE,20020809WHPSIObren
#code : jjward hyd_to_exchange.pl 
#original files copied from HTML directory: 20020809
#original HYD file: /whpo/11/HOTS/BOTTLE/hot68/hot68.sea   Fri Aug  9 09:51:36 2002
#original SUM file: /whpo/11/HOTS/BOTTLE/hot68/hot68.sum   Fri Aug  9 13:30:40 2002
EXPOCODE,SECT_ID,STNNBR,CASTNO,SAMPNO,BTLNBR,BTLNBR_FLAG_W,DATE,TIME,LATITUDE,LONGITUDE,DEPTH,CTDPRS,CTDTMP,CTDSAL,CTDSAL_FLAG_W,SALNTY,SALNTY_FLAG_W,CTDOXY,CTDOXY_FLAG_W,OXYGEN,OXYGEN_FLAG_W,SILCAT,SILCAT_FLAG_W,NO2+NO3,NO2+NO3_FLAG_W,PHSPHT,PHSPHT_FLAG_W,CTDRAW,REVTMP,REVPRS,THETA
,,,,,,,,,,,,DBAR,ITS-90,PSS-78,,PSS-78,,UMOL/KG,,UMOL/KG,,UMOL/KG,,UMOL/KG,,UMOL/KG,,,DEG C,DBAR,ITS-90
     32MW068_1,  PRS2,     1,  1,     22,     22,2,19951115,2326, 21.3352,-158.2793, 1770,      4.8,  26.4051,  34.8428,2,  34.8431,2,    203.4,2,    203.7,2,     1.13,2,     0.01,2,     0.07,2,      5,-999.000,  -999.0, 26.4040
     32MW068_1,  PRS2,     1,  1,     23,     30,2,19951115,2326, 21.3352,-158.2793, 1770,      4.9,  26.4231,  34.8439,2,-999.0000,5,    203.3,2,    203.7,2,  -999.00,5,  -999.00,5,  -999.00,5,      5,-999.000,  -999.0, 26.4220
     32MW068_1,  PRS2,     1,  1,     21,     21,2,19951115,2326, 21.3352,-158.2793, 1770,     24.6,  26.1328,  34.8414,2,  34.8393,2,    204.1,2,    204.6,2,     1.29,2,     0.01,2,     0.07,2,     25,-999.000,  -999.0, 26.1273
     32MW068_1,  PRS2,     1,  1,     20,     20,2,19951115,2326, 21.3352,-158.2793, 1770,     44.8,  26.0826,  34.8436,2,  34.8407,2,    204.7,2,    204.5,2,     1.34,2,     0.00,2,     0.07,2,     45,-999.000,  -999.0, 26.0726
     32MW068_1,  PRS2,     1,  1,     19,     19,2,19951115,2326, 21.3352,-158.2793, 1770,     59.4,  25.9574,  34.8602,2,  34.8585,2,    206.1,2,    205.5,2,     1.32,2,     0.00,2,     0.07,2,     60,-999.000,  -999.0, 25.9442
     32MW068_1,  PRS2,     1,  1,     18,     18,2,19951115,2326, 21.3352,-158.2793, 1770,     75.0,  25.1204,  34.8753,2,  34.8748,2,    209.7,2,    211.1,2,     1.36,2,     0.00,2,     0.08,2,     76,-999.000,  -999.0, 25.1041
     32MW068_1,  PRS2,     1,  1,     17,     17,2,19951115,2326, 21.3352,-158.2793, 1770,     94.2,  24.0381,  34.9287,2,  34.9325,2,    214.4,2,    214.7,2,     1.42,2,     0.00,2,     0.08,2,     94,-999.000,  -999.0, 24.0182
     32MW068_1,  PRS2,     1,  1,     16,     16,2,19951115,2326, 21.3352,-158.2793, 1770,    104.5,  23.2518,  34.9843,2,  34.9769,2,    213.8,2,    212.1,2,     1.68,2,     0.03,2,     0.10,2,    105,-999.000,  -999.0, 23.2303
     32MW068_1,  PRS2,     1,  1,     15,     15,2,19951115,2326, 21.3352,-158.2793, 1770,    114.3,  22.5275,  35.0179,2,  35.0188,2,    204.1,2,    206.5,2,     1.55,2,     0.18,2,     0.12,2,    115,-999.000,  -999.0, 22.5046
     32MW068_1,  PRS2,     1,  1,     14,     14,2,19951115,2326, 21.3352,-158.2793, 1770,    124.1,  21.6022,  35.0633,2,  35.0733,2,    199.4,2,    197.6,2,     2.16,2,     0.93,2,     0.18,2,    124,-999.000,  -999.0, 21.5780
     32MW068_1,  PRS2,     1,  1,     13,     13,2,19951115,2326, 21.3352,-158.2793, 1770,    129.2,  20.7965,  35.0895,2,  35.0893,2,    190.8,2,   -999.0,5,  -999.00,5,  -999.00,5,  -999.00,5,    130,-999.000,  -999.0, 20.7720
     32MW068_1,  PRS2,     1,  1,     12,     12,2,19951115,2326, 21.3352,-158.2793, 1770,    148.9,  20.2915,  35.0728,2,  35.0688,2,    200.6,2,    198.9,2,     2.50,2,     1.55,2,     0.20,2,    149,-999.000,  -999.0, 20.2637
     32MW068_1,  PRS2,     1,  1,     11,     11,2,19951115,2326, 21.3352,-158.2793, 1770,    174.4,  19.1052,  35.0133,2,  35.0140,2,    199.9,2,    199.3,2,     2.72,2,     2.14,2,     0.26,2,    175,-999.000,  -999.0, 19.0740
     32MW068_1,  PRS2,     1,  1,     10,     32,2,19951115,2326, 21.3352,-158.2793, 1770,    199.7,  18.1096,  34.9130,2,  34.9097,2,    198.6,2,    197.7,2,     3.49,2,     3.23,2,     0.33,2,    200,-999.000,  -999.0, 18.0752
     32MW068_1,  PRS2,     1,  1,      9,      3,2,19951115,2326, 21.3352,-158.2793, 1770,    224.5,  16.1171,  34.6877,2,  34.6821,2,    188.9,2,    189.3,2,     5.64,2,     6.18,2,     0.54,2,    225,-999.000,  -999.0, 16.0814
     32MW068_1,  PRS2,     1,  1,      8,     29,2,19951115,2326, 21.3352,-158.2793, 1770,    249.8,  14.3365,  34.4869,2,  34.4847,2,    178.7,2,    181.9,2,     8.77,2,     9.39,2,     0.77,2,    249,-999.000,  -999.0, 14.3000
     32MW068_1,  PRS2,     1,  1,      7,     28,2,19951115,2326, 21.3352,-158.2793, 1770,    300.1,  12.1494,  34.3085,2,  34.3116,2,    185.4,2,    184.8,2,    13.60,2,    12.84,2,     0.99,2,    301,-999.000,  -999.0, 12.1101
     32MW068_1,  PRS2,     1,  1,      6,      7,2,19951115,2326, 21.3352,-158.2793, 1770,    399.6,   8.6217,  34.1263,2,  34.1268,2,    138.6,2,    138.6,2,    32.88,2,    23.47,2,     1.77,2,    400,-999.000,  -999.0,  8.5794
     32MW068_1,  PRS2,     1,  1,      5,     38,2,19951115,2326, 21.3352,-158.2793, 1770,    430.3,   8.1747,  34.1300,2,  34.1280,2,    124.2,2,   -999.0,5,  -999.00,5,  -999.00,5,  -999.00,5,    431,-999.000,  -999.0,  8.1305
     32MW068_1,  PRS2,     1,  1,      4,     36,2,19951115,2326, 21.3352,-158.2793, 1770,    500.2,   7.0814,  34.1661,2,  34.1653,2,     78.3,2,     75.1,2,    53.09,2,    31.95,2,     2.43,2,    501,-999.000,  -999.0,  7.0338
     32MW068_1,  PRS2,     1,  1,      3,     35,2,19951115,2326, 21.3352,-158.2793, 1770,    750.3,   5.2225,  34.3845,2,  34.3845,2,     30.7,2,     31.0,2,    85.76,2,    39.67,2,     2.99,2,    749,-999.000,  -999.0,  5.1603
     32MW068_1,  PRS2,     1,  1,      2,     34,2,19951115,2326, 21.3352,-158.2793, 1770,    789.4,   5.0533,  34.4097,2,  34.4079,2,     31.1,2,   -999.0,5,  -999.00,5,  -999.00,5,  -999.00,5,    789,-999.000,  -999.0,  4.9885
     32MW068_1,  PRS2,     1,  1,      1,     33,2,19951115,2326, 21.3352,-158.2793, 1770,   1021.2,   4.0666,  34.5064,2,  34.5072,2,     42.6,2,     44.2,2,   107.81,2,    40.81,2,     3.02,2,   1022,-999.000,  -999.0,  3.9887
     32MW068_1,  PRS2,     2,  1,     24,     31,2,19951116,1116, 22.7492,-157.9997, 4725,      4.9,  25.6677,  34.9347,2,  34.9374,2,    207.2,2,    205.2,2,     1.03,2,     0.00,2,     0.08,2,      5,-999.000,  -999.0, 25.6666
     32MW068_1,  PRS2,     2,  1,     23,     30,2,19951116,1116, 22.7492,-157.9997, 4725,    133.0,  19.3299,  35.0832,2,  35.0820,2,    204.9,2,    202.4,2,     2.17,2,     1.47,2,     0.19,2,    133,-999.000,  -999.0, 19.3059
     32MW068_1,  PRS2,     2,  1,     22,     22,2,19951116,1116, 22.7492,-157.9997, 4725,    507.1,   7.2213,  34.0404,2,  34.0406,2,    129.3,2,    130.0,2,    43.25,2,    27.01,2,     1.93,2,    508,-999.000,  -999.0,  7.1726
     32MW068_1,  PRS2,     2,  1,     21,     21,2,19951116,1116, 22.7492,-157.9997, 4725,    779.3,   4.7618,  34.3390,2,  34.3393,2,     23.1,2,     26.0,2,    94.46,2,    40.30,2,     2.94,2,    780,-999.000,  -999.0,  4.6998
     32MW068_1,  PRS2,     2,  1,     20,     20,2,19951116,1116, 22.7492,-157.9997, 4725,   1003.0,   4.0475,  34.4825,2,  34.4826,2,     40.5,2,     41.9,2,   109.11,2,    40.87,2,     2.96,2,   1003,-999.000,  -999.0,  3.9713
     32MW068_1,  PRS2,     2,  1,     19,     19,2,19951116,1116, 22.7492,-157.9997, 4725,   1400.3,   3.0480,  34.5599,2,  34.5607,2,     61.0,2,     61.1,2,   129.50,2,    40.47,2,     2.92,2,   1401,-999.000,  -999.0,  2.9479
     32MW068_1,  PRS2,     2,  1,     18,     18,2,19951116,1116, 22.7492,-157.9997, 4725,   1601.0,   2.6418,  34.5847,2,  34.5862,2,     73.8,2,     70.1,2,   139.70,2,    40.10,2,     2.88,2,   1601,-999.000,  -999.0,  2.5298
     32MW068_1,  PRS2,     2,  1,     17,     17,2,19951116,1116, 22.7492,-157.9997, 4725,   1800.1,   2.3218,  34.6040,2,  34.6051,2,     83.8,2,     78.8,2,   147.48,2,    39.55,2,     2.85,2,   1799,-999.000,  -999.0,  2.1974
     32MW068_1,  PRS2,     2,  1,     16,     16,2,19951116,1116, 22.7492,-157.9997, 4725,   2003.8,   2.1023,  34.6194,2,  34.6192,2,     90.5,2,     86.6,2,   153.27,2,    39.06,2,     2.81,2,   2004,-999.000,  -999.0,  1.9641
     32MW068_1,  PRS2,     2,  1,     15,     15,2,19951116,1116, 22.7492,-157.9997, 4725,   2201.1,   1.9318,  34.6332,2,  34.6342,2,     97.6,2,   -999.0,5,   156.84,2,    38.90,2,     2.77,2,   2202,-999.000,  -999.0,  1.7793
     32MW068_1,  PRS2,     2,  1,     14,     14,2,19951116,1116, 22.7492,-157.9997, 4725,   2401.1,   1.8064,  34.6452,2,  34.6459,2,    103.3,2,    101.6,2,   159.37,2,    38.24,2,     2.74,2,   2401,-999.000,  -999.0,  1.6386
     32MW068_1,  PRS2,     2,  1,     13,     13,2,19951116,1116, 22.7492,-157.9997, 4725,   2602.1,   1.6909,  34.6552,2,  34.6553,2,    112.5,2,    111.4,2,   158.81,2,    37.74,2,     2.70,2,   2602,-999.000,  -999.0,  1.5072
     32MW068_1,  PRS2,     2,  1,     12,     12,2,19951116,1116, 22.7492,-157.9997, 4725,   2801.5,   1.6239,  34.6636,2,  34.6628,2,    120.2,2,    119.5,2,   158.84,2,    37.19,2,     2.65,2,   2801,-999.000,  -999.0,  1.4232
     32MW068_1,  PRS2,     2,  1,     11,     11,2,19951116,1116, 22.7492,-157.9997, 4725,   3000.1,   1.5609,  34.6699,2,  34.6687,2,    126.9,2,    124.7,2,   158.35,2,    36.87,2,     2.62,2,   3000,-999.000,  -999.0,  1.3428
     32MW068_1,  PRS2,     2,  1,     10,     32,2,19951116,1116, 22.7492,-157.9997, 4725,   3199.3,   1.5108,  34.6760,2,  34.6753,2,    133.2,2,    132.8,2,   157.25,2,    36.48,2,     2.59,2,   3198,-999.000,  -999.0,  1.2745
     32MW068_1,  PRS2,     2,  1,      9,      3,2,19951116,1116, 22.7492,-157.9997, 4725,   3399.5,   1.4725,  34.6810,2,  34.6810,2,    139.7,2,    138.3,2,   155.53,2,    36.14,2,     2.56,2,   3399,-999.000,  -999.0,  1.2173
     32MW068_1,  PRS2,     2,  1,      8,     29,2,19951116,1116, 22.7492,-157.9997, 4725,   3598.2,   1.4576,  34.6843,2,  34.6828,2,    143.0,2,    142.8,2,   154.73,2,    35.90,2,     2.53,2,   3597,-999.000,  -999.0,  1.1825
     32MW068_1,  PRS2,     2,  1,      7,     28,2,19951116,1116, 22.7492,-157.9997, 4725,   3799.7,   1.4470,  34.6868,2,  34.6847,2,    148.0,2,    146.8,2,   153.20,2,    35.63,2,     2.51,2,   3799,-999.000,  -999.0,  1.1511
     32MW068_1,  PRS2,     2,  1,      6,      7,2,19951116,1116, 22.7492,-157.9997, 4725,   3999.4,   1.4488,  34.6886,2,  34.6876,2,    150.9,2,    149.1,2,   150.80,2,    35.40,2,     2.49,2,   3999,-999.000,  -999.0,  1.1314
     32MW068_1,  PRS2,     2,  1,      5,     38,2,19951116,1116, 22.7492,-157.9997, 4725,   4199.2,   1.4595,  34.6897,2,  34.6889,2,    152.1,2,    151.6,2,   149.80,2,    35.27,2,     2.50,2,   4198,-999.000,  -999.0,  1.1198
     32MW068_1,  PRS2,     2,  1,      4,     36,2,19951116,1116, 22.7492,-157.9997, 4725,   4400.5,   1.4752,  34.6905,2,  34.6906,2,    153.5,2,    151.9,2,   149.49,2,    35.22,2,     2.48,2,   4400,-999.000,  -999.0,  1.1124
     32MW068_1,  PRS2,     2,  1,      3,     35,2,19951116,1116, 22.7492,-157.9997, 4725,   4499.9,   1.4847,  34.6907,2,  34.6886,2,    154.9,2,    152.9,2,   149.57,2,    35.21,2,     2.48,2,   4500,-999.000,  -999.0,  1.1102
     32MW068_1,  PRS2,     2,  1,      2,     34,2,19951116,1116, 22.7492,-157.9997, 4725,   4600.0,   1.4954,  34.6910,2,  34.6901,2,    155.3,2,    153.0,2,   149.49,2,    35.11,2,     2.48,2,   4599,-999.000,  -999.0,  1.1090
     32MW068_1,  PRS2,     2,  1,      1,     33,2,19951116,1116, 22.7492,-157.9997, 4725,   4809.1,   1.5025,  34.6924,2,  34.6924,2,    157.4,2,    156.3,2,   147.70,2,    34.94,2,     2.48,2,   4809,-999.000,  -999.0,  1.0911
     32MW068_1,  PRS2,     2,  2,     24,     31,2,19951116,1700, 22.7678,-158.0290, 4725,      5.0,  25.6896,  34.9437,2,  34.9573,3,    205.7,3,    206.4,2,     0.64,2,     0.00,2,     0.07,2,      6,-999.000,  -999.0, 25.6885
     32MW068_1,  PRS2,     2,  2,     23,     30,2,19951116,1700, 22.7678,-158.0290, 4725,     53.7,  25.6413,  34.9555,2,  34.9583,2,    206.3,2,    206.2,2,     0.72,2,     0.00,2,     0.07,2,     54,-999.000,  -999.0, 25.6294
     32MW068_1,  PRS2,     2,  2,     22,     22,2,19951116,1700, 22.7678,-158.0290, 4725,     62.4,  24.3200,  35.0370,2,  35.0382,2,    216.7,2,    219.9,2,     0.91,2,     0.00,2,     0.06,2,     62,-999.000,  -999.0, 24.3067
     32MW068_1,  PRS2,     2,  2,     21,     21,2,19951116,1700, 22.7678,-158.0290, 4725,     77.6,  23.1871,  35.0829,2,  35.0812,2,    224.2,2,    223.3,2,     1.08,2,     0.01,2,     0.08,2,     78,-999.000,  -999.0, 23.1712
     32MW068_1,  PRS2,     2,  2,     20,     20,2,19951116,1700, 22.7678,-158.0290, 4725,     95.0,  21.0394,  35.1518,2,  35.1512,2,    209.6,2,    208.9,2,     1.27,2,     0.27,2,     0.12,2,     95,-999.000,  -999.0, 21.0212
     32MW068_1,  PRS2,     2,  2,     19,     19,2,19951116,1700, 22.7678,-158.0290, 4725,    125.1,  20.0345,  35.1314,2,  35.1328,2,    210.5,2,    206.4,2,     1.58,2,     0.79,2,     0.14,2,    125,-999.000,  -999.0, 20.0113
     32MW068_1,  PRS2,     2,  2,     18,     18,2,19951116,1700, 22.7678,-158.0290, 4725,    200.7,  17.0597,  34.8059,2,  34.8062,2,    209.7,2,    208.7,2,     3.36,2,     2.71,2,     0.26,2,    201,-999.000,  -999.0, 17.0266
     32MW068_1,  PRS2,     2,  2,     17,     17,2,19951116,1700, 22.7678,-158.0290, 4725,    230.5,  15.9184,  34.6645,2,  34.6643,2,    204.5,2,    202.7,2,     4.48,2,     4.62,2,     0.41,2,    230,-999.000,  -999.0, 15.8821
     32MW068_1,  PRS2,     2,  2,     16,     16,2,19951116,1700, 22.7678,-158.0290, 4725,    297.9,  12.5630,  34.3325,2,  34.3319,2,    207.0,2,    205.6,2,     9.49,2,     9.94,2,     0.73,2,    298,-999.000,  -999.0, 12.5230
     32MW068_1,  PRS2,     2,  2,     15,     15,2,19951116,1700, 22.7678,-158.0290, 4725,    344.0,  10.9209,  34.1904,2,  34.1894,2,    200.2,2,    199.5,2,    14.16,2,    13.73,2,     1.00,2,    344,-999.000,  -999.0, 10.8788
     32MW068_1,  PRS2,     2,  2,     14,     14,2,19951116,1700, 22.7678,-158.0290, 4725,    400.9,   9.5078,  34.1085,2,  34.1085,2,    192.9,2,    190.3,2,    20.67,2,    17.51,2,     1.25,2,    402,-999.000,  -999.0,  9.4628
     32MW068_1,  PRS2,     2,  2,     13,     13,2,19951116,1700, 22.7678,-158.0290, 4725,    427.5,   8.6619,  34.0735,2,  34.0739,2,    177.4,2,    175.4,2,    26.96,2,    20.71,2,     1.49,2,    428,-999.000,  -999.0,  8.6164
     32MW068_1,  PRS2,     2,  2,     12,     12,2,19951116,1700, 22.7678,-158.0290, 4725,    488.5,   7.1602,  34.0417,2,  34.0443,2,    130.0,2,    126.3,2,    44.08,2,    27.86,2,     2.01,2,    489,-999.000,  -999.0,  7.1136
     32MW068_1,  PRS2,     2,  2,     11,     11,2,19951116,1700, 22.7678,-158.0290, 4725,    520.0,   6.7211,  34.0452,2,  34.0450,2,    111.9,2,    108.4,2,    50.87,2,    30.29,2,     2.21,2,    520,-999.000,  -999.0,  6.6731
     32MW068_1,  PRS2,     2,  2,     10,     32,2,19951116,1700, 22.7678,-158.0290, 4725,    539.1,   6.4044,  34.0560,2,  34.0548,2,     97.9,2,     92.5,2,    56.63,2,    32.10,2,     2.36,2,    539,-999.000,  -999.0,  6.3559
     32MW068_1,  PRS2,     2,  2,      9,      3,2,19951116,1700, 22.7678,-158.0290, 4725,    584.2,   5.8731,  34.0924,2,  34.0973,2,     70.3,2,     62.3,2,    67.51,2,    35.54,2,     2.62,2,    584,-999.000,  -999.0,  5.8227
     32MW068_1,  PRS2,     2,  2,      8,     29,2,19951116,1700, 22.7678,-158.0290, 4725,    600.3,   5.7027,  34.1101,2,  34.1108,2,     61.0,2,     53.1,2,    71.26,2,    36.84,2,     2.72,2,    601,-999.000,  -999.0,  5.6516
     32MW068_1,  PRS2,     2,  2,      7,     28,2,19951116,1700, 22.7678,-158.0290, 4725,    626.7,   5.3899,  34.1435,2,  34.1445,2,     48.7,2,     41.8,2,    77.38,2,    38.31,2,     2.83,2,    627,-999.000,  -999.0,  5.3379
     32MW068_1,  PRS2,     2,  2,      6,      7,2,19951116,1700, 22.7678,-158.0290, 4725,    689.6,   5.0361,  34.2216,2,  34.2215,2,     32.4,2,     26.3,2,    87.17,2,    40.06,2,     2.98,2,    689,-999.000,  -999.0,  4.9803
     32MW068_1,  PRS2,     2,  2,      5,     38,2,19951116,1700, 22.7678,-158.0290, 4725,    755.2,   4.7974,  34.3155,2,  34.3274,4,     31.2,3,     25.6,2,    93.89,2,    40.73,2,     3.02,2,    755,-999.000,  -999.0,  4.7372
     32MW068_1,  PRS2,     2,  2,      4,     36,2,19951116,1700, 22.7678,-158.0290, 4725,    799.9,   4.6563,  34.3584,2,  34.3633,2,     30.8,2,     27.4,2,    97.00,2,    40.79,2,     3.03,2,    800,-999.000,  -999.0,  4.5931
     32MW068_1,  PRS2,     2,  2,      3,     35,2,19951116,1700, 22.7678,-158.0290, 4725,    841.6,   4.5413,  34.4022,2,  34.4030,2,     35.7,2,     31.7,2,    99.74,2,    40.91,2,     3.03,2,    842,-999.000,  -999.0,  4.4752
     32MW068_1,  PRS2,     2,  2,      2,     34,2,19951116,1700, 22.7678,-158.0290, 4725,    978.8,   4.0725,  34.4795,2,  34.4810,2,     44.2,2,     40.3,2,   108.98,2,    41.21,2,     3.03,2,    979,-999.000,  -999.0,  3.9981
     32MW068_1,  PRS2,     2,  2,      1,     33,2,19951116,1700, 22.7678,-158.0290, 4725,   1024.2,   3.9696,  34.4909,2,  34.4926,2,     46.0,2,     43.0,2,   110.62,2,    41.08,2,     3.02,2,   1024,-999.000,  -999.0,  3.8922