BOTTLE,20020809WHPSIObren
EXPOCODE,SECT_ID,STNNBR,CASTNO,SAMPNO,BTLNBR,BTLNBR_FLAG_W,DATE,TIME,LATITUDE,LONGITUDE,DEPTH,CTDPRS,CTDTMP,CTDSAL,CTDSAL_FLAG_W,SALNTY,SALNTY_FLAG_W,CTDOXY,CTDOXY_FLAG_W,OXYGEN,OXYGEN_FLAG_W,SILCAT,SILCAT_FLAG_W,NO2+NO3,NO2+NO3_FLAG_W,PHSPHT,PHSPHT_FLAG_W,CTDRAW,REVTMP,REVPRS,THETA
,,,,,,,,,,,,DBAR,ITS-90,PSS-78,,PSS-78,,UMOL/KG,,UMOL/KG,,UMOL/KG,,UMOL/KG,,UMOL/KG,,,DEG C,DBAR,ITS-90
     32MW068_1,  PRS2,     2,  3,     19,     19,2,19951116,1955, 22.7763,-158.0362, 4740,      4.3,  25.7387,  34.9557,2,  34.9555,2,    203.7,2,   -999.0,5,  -999.00,9,  -999.00,9,  -999.00,9,      5,-999.000,  -999.0, 25.7377
     32MW068_1,  PRS2,     2,  3,     18,     18,2,19951116,1955, 22.7763,-158.0362, 4740,     14.4,  25.7203,  34.9551,2,  34.9562,2,    203.8,2,    206.2,6,  -999.00,9,  -999.00,9,  -999.00,9,     14,-999.000,  -999.0, 25.7172
     32MW068_1,  PRS2,     2,  3,     17,     17,2,19951116,1955, 22.7763,-158.0362, 4740,     19.3,  25.7201,  34.9547,2,  34.9550,2,    203.8,2,   -999.0,5,  -999.00,9,  -999.00,9,  -999.00,9,     20,-999.000,  -999.0, 25.7158
     32MW068_1,  PRS2,     2,  3,     15,     15,2,19951116,1955, 22.7763,-158.0362, 4740,     25.1,  25.7186,  34.9544,2,-999.0000,5,    203.8,2,   -999.0,5,  -999.00,9,  -999.00,9,  -999.00,9,     25,-999.000,  -999.0, 25.7131
     32MW068_1,  PRS2,     2,  3,     16,     16,2,19951116,1955, 22.7763,-158.0362, 4740,     25.2,  25.7186,  34.9545,2,  34.9553,2,    203.8,2,   -999.0,5,  -999.00,9,  -999.00,9,  -999.00,9,     26,-999.000,  -999.0, 25.7131
     32MW068_1,  PRS2,     2,  3,     14,     14,2,19951116,1955, 22.7763,-158.0362, 4740,     44.8,  25.7198,  34.9552,2,  34.9453,2,    203.7,2,   -999.0,5,  -999.00,9,  -999.00,9,  -999.00,9,     46,-999.000,  -999.0, 25.7099
     32MW068_1,  PRS2,     2,  3,     13,     13,2,19951116,1955, 22.7763,-158.0362, 4740,     44.8,  25.7197,  34.9552,2,-999.0000,5,    203.7,2,   -999.0,5,  -999.00,9,  -999.00,9,  -999.00,9,     45,-999.000,  -999.0, 25.7098
     32MW068_1,  PRS2,     2,  3,     12,     12,2,19951116,1955, 22.7763,-158.0362, 4740,     74.5,  24.0512,  35.0484,2,  35.0476,2,    216.7,2,   -999.0,5,  -999.00,9,  -999.00,9,  -999.00,9,     74,-999.000,  -999.0, 24.0355
     32MW068_1,  PRS2,     2,  3,     11,     11,2,19951116,1955, 22.7763,-158.0362, 4740,     93.8,  22.0263,  35.1279,2,  35.1267,2,    217.6,2,   -999.0,5,  -999.00,9,  -999.00,9,  -999.00,9,     94,-999.000,  -999.0, 22.0078
     32MW068_1,  PRS2,     2,  3,     10,     32,2,19951116,1955, 22.7763,-158.0362, 4740,     99.3,  21.4529,  35.1372,2,  35.1338,2,    211.2,2,   -999.0,5,  -999.00,9,  -999.00,9,  -999.00,9,     99,-999.000,  -999.0, 21.4336
     32MW068_1,  PRS2,     2,  3,      9,      3,2,19951116,1955, 22.7763,-158.0362, 4740,     99.3,  21.4408,  35.1403,2,-999.0000,5,    210.8,2,   -999.0,5,  -999.00,9,  -999.00,9,  -999.00,9,    100,-999.000,  -999.0, 21.4215
     32MW068_1,  PRS2,     2,  3,      8,     29,2,19951116,1955, 22.7763,-158.0362, 4740,    110.3,  20.8427,  35.1499,2,  35.1501,2,    205.1,2,   -999.0,5,  -999.00,9,  -999.00,9,  -999.00,9,    111,-999.000,  -999.0, 20.8217
     32MW068_1,  PRS2,     2,  3,      7,     28,2,19951116,1955, 22.7763,-158.0362, 4740,    124.6,  20.1000,  35.1326,2,  35.1301,2,    208.2,2,   -999.0,5,  -999.00,9,  -999.00,9,  -999.00,9,    124,-999.000,  -999.0, 20.0769
     32MW068_1,  PRS2,     2,  3,      6,      7,2,19951116,1955, 22.7763,-158.0362, 4740,    149.9,  19.2258,  35.0609,2,  35.0584,2,    202.4,2,   -999.0,5,  -999.00,9,  -999.00,9,  -999.00,9,    150,-999.000,  -999.0, 19.1989
     32MW068_1,  PRS2,     2,  3,      5,     38,2,19951116,1955, 22.7763,-158.0362, 4740,    175.7,  18.2579,  34.9577,2,  34.9634,2,    202.8,2,   -999.0,5,  -999.00,9,  -999.00,9,  -999.00,9,    175,-999.000,  -999.0, 18.2275
     32MW068_1,  PRS2,     2,  3,      4,     36,2,19951116,1955, 22.7763,-158.0362, 4740,    250.7,  15.1386,  34.5767,2,  34.5799,2,    200.6,2,   -999.0,5,  -999.00,9,  -999.00,9,  -999.00,9,    251,-999.000,  -999.0, 15.1005
     32MW068_1,  PRS2,     2,  3,      3,     35,2,19951116,1955, 22.7763,-158.0362, 4740,    500.8,   7.1235,  34.0419,2,  34.0437,2,    122.8,2,   -999.0,5,  -999.00,9,  -999.00,9,  -999.00,9,    502,-999.000,  -999.0,  7.0758
     32MW068_1,  PRS2,     2,  3,      2,     34,2,19951116,1955, 22.7763,-158.0362, 4740,    750.9,   4.7513,  34.3120,2,  34.3128,2,     26.2,2,   -999.0,5,  -999.00,9,  -999.00,9,  -999.00,9,    751,-999.000,  -999.0,  4.6917
     32MW068_1,  PRS2,     2,  3,      1,     33,2,19951116,1955, 22.7763,-158.0362, 4740,   1021.4,   3.9537,  34.4927,2,  34.4942,2,     43.4,2,   -999.0,5,  -999.00,9,  -999.00,9,  -999.00,9,   1023,-999.000,  -999.0,  3.8766
     32MW068_1,  PRS2,     2,  4,     19,     19,2,19951116,2259, 22.7788,-158.0520, 4730,      5.1,  25.7937,  34.9592,2,  34.9568,2,    204.7,1,   -999.0,9,  -999.00,9,  -999.00,9,  -999.00,9,      5,-999.000,  -999.0, 25.7926
     32MW068_1,  PRS2,     2,  4,     18,     18,2,19951116,2259, 22.7788,-158.0520, 4730,     14.4,  25.7204,  34.9496,2,  34.9474,2,    204.8,1,   -999.0,9,  -999.00,9,  -999.00,9,  -999.00,9,     14,-999.000,  -999.0, 25.7172
     32MW068_1,  PRS2,     2,  4,     17,     17,2,19951116,2259, 22.7788,-158.0520, 4730,     19.4,  25.7159,  34.9490,2,  34.9478,2,    204.8,1,   -999.0,9,  -999.00,9,  -999.00,9,  -999.00,9,     20,-999.000,  -999.0, 25.7116
     32MW068_1,  PRS2,     2,  4,     16,     16,2,19951116,2259, 22.7788,-158.0520, 4730,     25.2,  25.7140,  34.9486,2,  34.9481,2,    204.8,1,   -999.0,9,  -999.00,9,  -999.00,9,  -999.00,9,     26,-999.000,  -999.0, 25.7084
     32MW068_1,  PRS2,     2,  4,     15,     15,2,19951116,2259, 22.7788,-158.0520, 4730,     25.2,  25.7141,  34.9486,2,-999.0000,5,    204.7,1,   -999.0,9,  -999.00,9,  -999.00,9,  -999.00,9,     26,-999.000,  -999.0, 25.7085
     32MW068_1,  PRS2,     2,  4,     13,     13,2,19951116,2259, 22.7788,-158.0520, 4730,     44.6,  25.7079,  34.9478,2,-999.0000,5,    204.7,1,   -999.0,9,  -999.00,9,  -999.00,9,  -999.00,9,     45,-999.000,  -999.0, 25.6981
     32MW068_1,  PRS2,     2,  4,     14,     14,2,19951116,2259, 22.7788,-158.0520, 4730,     44.7,  25.7079,  34.9479,2,  34.9480,2,    204.7,1,   -999.0,9,  -999.00,9,  -999.00,9,  -999.00,9,     45,-999.000,  -999.0, 25.6980
     32MW068_1,  PRS2,     2,  4,     12,     12,2,19951116,2259, 22.7788,-158.0520, 4730,     74.5,  23.2903,  35.0742,2,  35.0777,2,    221.4,1,   -999.0,9,  -999.00,9,  -999.00,9,  -999.00,9,     75,-999.000,  -999.0, 23.2750
     32MW068_1,  PRS2,     2,  4,     11,     11,2,19951116,2259, 22.7788,-158.0520, 4730,     95.1,  21.3696,  35.1380,2,  35.1393,2,    211.3,1,   -999.0,9,  -999.00,9,  -999.00,9,  -999.00,9,     95,-999.000,  -999.0, 21.3512
     32MW068_1,  PRS2,     2,  4,     10,     32,2,19951116,2259, 22.7788,-158.0520, 4730,     99.2,  21.1486,  35.1421,2,  35.1433,2,    209.1,1,   -999.0,9,  -999.00,9,  -999.00,9,  -999.00,9,     99,-999.000,  -999.0, 21.1295
     32MW068_1,  PRS2,     2,  4,      9,      3,2,19951116,2259, 22.7788,-158.0520, 4730,     99.3,  21.1414,  35.1444,2,-999.0000,5,    209.0,1,   -999.0,9,  -999.00,9,  -999.00,9,  -999.00,9,    100,-999.000,  -999.0, 21.1223
     32MW068_1,  PRS2,     2,  4,      8,     29,2,19951116,2259, 22.7788,-158.0520, 4730,    109.7,  20.4659,  35.1484,2,  35.1469,2,    205.2,1,   -999.0,9,  -999.00,9,  -999.00,9,  -999.00,9,    110,-999.000,  -999.0, 20.4453
     32MW068_1,  PRS2,     2,  4,      7,     28,2,19951116,2259, 22.7788,-158.0520, 4730,    124.7,  20.1618,  35.1359,2,  35.1358,2,    208.3,1,   -999.0,9,  -999.00,9,  -999.00,9,  -999.00,9,    126,-999.000,  -999.0, 20.1386
     32MW068_1,  PRS2,     2,  4,      6,      7,2,19951116,2259, 22.7788,-158.0520, 4730,    150.1,  19.2085,  35.0592,2,  35.0609,2,    202.2,1,   -999.0,9,  -999.00,9,  -999.00,9,  -999.00,9,    150,-999.000,  -999.0, 19.1815
     32MW068_1,  PRS2,     2,  4,      5,     38,2,19951116,2259, 22.7788,-158.0520, 4730,    174.1,  18.0377,  34.9308,2,  34.9303,2,    202.7,1,   -999.0,9,  -999.00,9,  -999.00,9,  -999.00,9,    175,-999.000,  -999.0, 18.0078
     32MW068_1,  PRS2,     2,  4,      4,     36,4,19951116,2259, 22.7788,-158.0520, 4730,    250.8,  14.8899,  34.5511,2,-999.0000,5,    201.8,1,   -999.0,9,  -999.00,9,  -999.00,9,  -999.00,9,    252,-999.000,  -999.0, 14.8522
     32MW068_1,  PRS2,     2,  4,      3,     35,2,19951116,2259, 22.7788,-158.0520, 4730,    500.4,   7.2772,  34.0421,2,  34.0371,2,    130.5,1,   -999.0,9,  -999.00,9,  -999.00,9,  -999.00,9,    500,-999.000,  -999.0,  7.2290
     32MW068_1,  PRS2,     2,  4,      2,     34,2,19951116,2259, 22.7788,-158.0520, 4730,    750.2,   4.8236,  34.2784,2,  34.2783,2,     23.7,1,   -999.0,9,  -999.00,9,  -999.00,9,  -999.00,9,    750,-999.000,  -999.0,  4.7637
     32MW068_1,  PRS2,     2,  4,      1,     33,2,19951116,2259, 22.7788,-158.0520, 4730,   1020.7,   4.0242,  34.4836,2,  34.4858,2,     41.3,1,   -999.0,9,  -999.00,9,  -999.00,9,  -999.00,9,   1021,-999.000,  -999.0,  3.9467
     32MW068_1,  PRS2,     2,  5,     23,     30,2,19951117,0158, 22.7540,-158.0080, 4725,      4.7,  25.7269,  34.9509,2,  34.9503,2,    205.2,2,   -999.0,5,  -999.00,5,  -999.00,5,  -999.00,5,      5,-999.000,  -999.0, 25.7259
     32MW068_1,  PRS2,     2,  5,     22,     22,2,19951117,0158, 22.7540,-158.0080, 4725,     25.5,  25.6913,  34.9430,2,  34.9727,4,    205.1,3,   -999.0,5,  -999.00,5,  -999.00,5,  -999.00,5,     26,-999.000,  -999.0, 25.6857
     32MW068_1,  PRS2,     2,  5,     21,     21,2,19951117,0158, 22.7540,-158.0080, 4725,     44.6,  25.6853,  34.9447,2,  34.9447,2,    205.1,2,   -999.0,5,  -999.00,5,  -999.00,5,  -999.00,5,     44,-999.000,  -999.0, 25.6754
     32MW068_1,  PRS2,     2,  5,     20,     20,2,19951117,0158, 22.7540,-158.0080, 4725,     74.3,  22.9252,  35.0927,2,  35.0889,2,    225.3,2,   -999.0,5,  -999.00,5,  -999.00,5,  -999.00,5,     74,-999.000,  -999.0, 22.9101
     32MW068_1,  PRS2,     2,  5,     19,     19,2,19951117,0158, 22.7540,-158.0080, 4725,    100.8,  21.0266,  35.1427,2,  35.1418,2,    208.9,2,   -999.0,5,  -999.00,5,  -999.00,5,  -999.00,5,    101,-999.000,  -999.0, 21.0073
     32MW068_1,  PRS2,     2,  5,     18,     18,2,19951117,0158, 22.7540,-158.0080, 4725,    124.9,  19.9387,  35.1235,2,  35.1241,2,    202.7,2,   -999.0,5,  -999.00,5,  -999.00,5,  -999.00,5,    125,-999.000,  -999.0, 19.9157
     32MW068_1,  PRS2,     2,  5,     17,     17,2,19951117,0158, 22.7540,-158.0080, 4725,    149.6,  18.5353,  34.9915,2,  34.9908,2,    202.3,2,   -999.0,5,  -999.00,5,  -999.00,5,  -999.00,5,    150,-999.000,  -999.0, 18.5091
     32MW068_1,  PRS2,     2,  5,     16,     16,2,19951117,0158, 22.7540,-158.0080, 4725,    174.5,  17.6143,  34.8787,2,  34.8760,2,    205.0,2,   -999.0,5,  -999.00,5,  -999.00,5,  -999.00,5,    175,-999.000,  -999.0, 17.5848
     32MW068_1,  PRS2,     2,  5,     15,     15,2,19951117,0158, 22.7540,-158.0080, 4725,    210.3,  15.6586,  34.6352,2,  34.6284,2,    200.4,2,    202.8,2,  -999.00,5,  -999.00,5,  -999.00,5,    211,-999.000,  -999.0, 15.6259
     32MW068_1,  PRS2,     2,  5,     14,     14,2,19951117,0158, 22.7540,-158.0080, 4725,    225.3,  15.1753,  34.5818,2,  34.5814,2,    200.7,2,    201.7,2,     5.86,2,     5.68,2,     6.03,4,    226,-999.000,  -999.0, 15.1410
     32MW068_1,  PRS2,     2,  5,     13,     13,2,19951117,0158, 22.7540,-158.0080, 4725,    234.9,  15.1213,  34.5756,2,  34.5716,2,    200.6,2,    201.8,2,     5.98,2,     5.87,2,     0.46,2,    235,-999.000,  -999.0, 15.0856
     32MW068_1,  PRS2,     2,  5,     12,     12,2,19951117,0158, 22.7540,-158.0080, 4725,    249.7,  14.6786,  34.5292,2,  34.5295,2,    201.0,2,    202.2,2,     6.50,2,     6.46,2,     0.55,2,    248,-999.000,  -999.0, 14.6414
     32MW068_1,  PRS2,     2,  5,     11,     11,2,19951117,0158, 22.7540,-158.0080, 4725,    274.4,  13.9509,  34.4565,2,  34.4575,2,    201.4,2,    202.5,2,     7.53,2,     7.65,2,     0.61,2,    275,-999.000,  -999.0, 13.9114
     32MW068_1,  PRS2,     2,  5,     10,     32,2,19951117,0158, 22.7540,-158.0080, 4725,    300.3,  12.9690,  34.3666,2,  34.3736,2,    201.9,2,    204.8,2,     9.03,2,     9.09,2,     0.69,2,    299,-999.000,  -999.0, 12.9278
     32MW068_1,  PRS2,     2,  5,      9,      3,2,19951117,0158, 22.7540,-158.0080, 4725,    324.0,  11.9112,  34.2686,2,  34.2736,2,    199.4,2,    202.5,2,    11.41,2,    11.17,2,     0.83,2,    324,-999.000,  -999.0, 11.8693
     32MW068_1,  PRS2,     2,  5,      8,     29,2,19951117,0158, 22.7540,-158.0080, 4725,    349.6,  10.4812,  34.1619,2,  34.1624,2,    190.4,2,    196.2,2,    16.22,2,    14.65,2,     1.07,2,    350,-999.000,  -999.0, 10.4395
     32MW068_1,  PRS2,     2,  5,      7,     28,2,19951117,0158, 22.7540,-158.0080, 4725,    400.3,   9.0140,  34.0860,2,  34.0883,2,    178.8,2,    182.0,2,    24.06,2,    19.00,2,     1.36,2,    400,-999.000,  -999.0,  8.9705
     32MW068_1,  PRS2,     2,  5,      6,      7,2,19951117,0158, 22.7540,-158.0080, 4725,    480.6,   7.2332,  34.0413,2,  34.0416,2,    128.5,2,    134.3,2,    42.92,2,    27.27,2,     1.96,2,    483,-999.000,  -999.0,  7.1872
     32MW068_1,  PRS2,     2,  5,      5,     38,2,19951117,0158, 22.7540,-158.0080, 4725,    599.7,   5.7661,  34.1043,2,  34.1061,2,     56.0,2,     58.5,2,    68.15,2,    35.74,2,     2.64,2,    600,-999.000,  -999.0,  5.7148
     32MW068_1,  PRS2,     2,  5,      4,     36,2,19951117,0158, 22.7540,-158.0080, 4725,    700.2,   5.0131,  34.2302,2,  34.2304,2,     30.0,2,     27.2,2,    87.84,2,    39.98,2,     2.96,2,    701,-999.000,  -999.0,  4.9565
     32MW068_1,  PRS2,     2,  5,      3,     35,2,19951117,0158, 22.7540,-158.0080, 4725,    801.1,   4.6865,  34.3359,2,  34.3355,2,     24.9,2,     26.5,2,    96.13,2,    40.98,2,     2.99,2,    802,-999.000,  -999.0,  4.6231
     32MW068_1,  PRS2,     2,  5,      2,     34,2,19951117,0158, 22.7540,-158.0080, 4725,    899.7,   4.3874,  34.4413,2,  34.4416,2,     35.2,2,     37.6,2,   101.69,2,    41.00,2,     3.02,2,    901,-999.000,  -999.0,  4.3175
     32MW068_1,  PRS2,     2,  5,      1,     33,4,19951117,0158, 22.7540,-158.0080, 4725,   1019.1,   4.0281,  34.4812,2,  34.4854,2,     42.0,2,     41.8,2,   109.13,2,    41.06,2,     3.01,2,   1019,-999.000,  -999.0,  3.9506
     32MW068_1,  PRS2,     2,  6,     23,     30,2,19951117,0456, 22.7485,-157.9985, 4725,      5.0,  25.6913,  34.9503,2,  34.9503,2,    204.8,2,   -999.0,5,  -999.00,5,  -999.00,5,  -999.00,5,      5,-999.000,  -999.0, 25.6902
     32MW068_1,  PRS2,     2,  6,     22,     22,2,19951117,0456, 22.7485,-157.9985, 4725,      5.0,  25.6921,  34.9503,2,  34.9507,2,    204.8,2,    205.8,2,     0.99,2,     0.00,2,     0.07,2,      6,-999.000,  -999.0, 25.6910
     32MW068_1,  PRS2,     2,  6,     21,     21,2,19951117,0456, 22.7485,-157.9985, 4725,     14.1,  25.6999,  34.9494,2,  34.9475,2,    204.8,2,    206.3,2,     1.01,2,     0.01,2,     0.06,2,     15,-999.000,  -999.0, 25.6968
     32MW068_1,  PRS2,     2,  6,     19,     19,2,19951117,0456, 22.7485,-157.9985, 4725,     24.0,  25.7040,  34.9491,2,  34.9530,2,    204.9,2,    205.9,2,     0.95,2,     0.01,2,     0.06,2,     25,-999.000,  -999.0, 25.6987
     32MW068_1,  PRS2,     2,  6,     20,     20,2,19951117,0456, 22.7485,-157.9985, 4725,     24.2,  25.7038,  34.9490,2,  34.9484,2,    204.9,2,   -999.0,5,  -999.00,5,  -999.00,5,  -999.00,5,     24,-999.000,  -999.0, 25.6985
     32MW068_1,  PRS2,     2,  6,     18,     18,2,19951117,0456, 22.7485,-157.9985, 4725,     34.5,  25.7052,  34.9504,2,  34.9500,2,    204.9,2,    205.9,2,     0.92,2,     0.01,2,     0.07,2,     35,-999.000,  -999.0, 25.6975
     32MW068_1,  PRS2,     2,  6,     17,     17,2,19951117,0456, 22.7485,-157.9985, 4725,     44.3,  25.6961,  34.9510,2,  34.9507,2,    205.0,2,    206.1,2,     0.93,2,     0.02,2,     0.07,2,     45,-999.000,  -999.0, 25.6863
     32MW068_1,  PRS2,     2,  6,     16,     16,2,19951117,0456, 22.7485,-157.9985, 4725,     60.9,  24.7497,  35.0076,2,  34.9765,3,    210.4,3,    211.5,2,     0.88,2,     0.02,2,     0.06,2,     61,-999.000,  -999.0, 24.7366
     32MW068_1,  PRS2,     2,  6,     15,     15,2,19951117,0456, 22.7485,-157.9985, 4725,     74.5,  23.0315,  35.0905,2,  35.0825,2,    223.5,2,    222.7,2,     1.34,2,     0.02,2,     0.07,2,     73,-999.000,  -999.0, 23.0162
     32MW068_1,  PRS2,     2,  6,     14,     14,2,19951117,0456, 22.7485,-157.9985, 4725,     85.5,  22.1345,  35.1228,2,  35.1266,2,    220.4,2,    218.6,2,     1.46,2,     0.01,2,     0.08,2,     85,-999.000,  -999.0, 22.1175
     32MW068_1,  PRS2,     2,  6,     13,     13,2,19951117,0456, 22.7485,-157.9985, 4725,     94.1,  21.5807,  35.1333,2,  35.1355,2,    215.3,2,    214.5,2,     1.56,2,     0.02,2,     0.10,2,     95,-999.000,  -999.0, 21.5623
     32MW068_1,  PRS2,     2,  6,     12,     12,2,19951117,0456, 22.7485,-157.9985, 4725,    104.3,  20.9736,  35.1432,2,  35.1319,2,    208.7,2,    206.0,2,     1.70,2,     0.48,2,     0.13,2,    105,-999.000,  -999.0, 20.9536
     32MW068_1,  PRS2,     2,  6,     11,     11,2,19951117,0456, 22.7485,-157.9985, 4725,    114.3,  20.3232,  35.1305,2,  35.1331,2,    203.1,2,    202.5,2,     1.88,2,     1.01,2,     0.16,2,    115,-999.000,  -999.0, 20.3018
     32MW068_1,  PRS2,     2,  6,     10,     32,2,19951117,0456, 22.7485,-157.9985, 4725,    125.0,  19.8686,  35.1124,2,  35.1116,2,    203.1,2,    203.0,2,     2.08,2,     1.22,2,     0.17,2,    126,-999.000,  -999.0, 19.8456
     32MW068_1,  PRS2,     2,  6,      9,      3,2,19951117,0456, 22.7485,-157.9985, 4725,    134.5,  19.5430,  35.0928,2,  35.0954,2,    204.9,2,    202.6,2,     2.26,2,     1.41,2,     0.18,2,    135,-999.000,  -999.0, 19.5186
     32MW068_1,  PRS2,     2,  6,      8,     29,2,19951117,0456, 22.7485,-157.9985, 4725,    149.9,  18.7960,  35.0290,2,  35.0380,2,    202.1,2,    202.1,2,     2.35,2,     1.69,2,     0.18,2,    150,-999.000,  -999.0, 18.7695
     32MW068_1,  PRS2,     2,  6,      7,     28,2,19951117,0456, 22.7485,-157.9985, 4725,    160.3,  18.1448,  34.9458,2,  34.9686,2,    204.0,2,    203.5,2,  -999.00,5,  -999.00,5,  -999.00,5,    161,-999.000,  -999.0, 18.1171
     32MW068_1,  PRS2,     2,  6,      6,      7,2,19951117,0456, 22.7485,-157.9985, 4725,    175.1,  17.4706,  34.8636,2,  34.8827,2,    206.1,2,    206.9,2,     3.48,2,     2.41,2,     0.24,2,    174,-999.000,  -999.0, 17.4412
     32MW068_1,  PRS2,     2,  6,      5,     38,2,19951117,0456, 22.7485,-157.9985, 4725,    184.7,  17.2068,  34.8270,2,  34.8478,2,    206.9,2,    205.8,2,  -999.00,5,  -999.00,5,  -999.00,5,    184,-999.000,  -999.0, 17.1761
     32MW068_1,  PRS2,     2,  6,      4,     36,2,19951117,0456, 22.7485,-157.9985, 4725,    200.8,  16.5686,  34.7450,2,  34.7463,2,    203.2,2,    202.9,2,     4.36,2,     3.75,2,     0.33,2,    201,-999.000,  -999.0, 16.5361
     32MW068_1,  PRS2,     2,  6,      3,     35,2,19951117,0456, 22.7485,-157.9985, 4725,    479.9,   7.3503,  34.0423,2,  34.0419,2,    131.6,2,    133.9,2,  -999.00,5,  -999.00,5,  -999.00,5,    480,-999.000,  -999.0,  7.3039
     32MW068_1,  PRS2,     2,  6,      2,     34,2,19951117,0456, 22.7485,-157.9985, 4725,    800.9,   4.6238,  34.3565,2,  34.3591,2,     27.4,2,     33.7,2,  -999.00,5,  -999.00,5,  -999.00,5,    801,-999.000,  -999.0,  4.5607
     32MW068_1,  PRS2,     2,  6,      1,     33,2,19951117,0456, 22.7485,-157.9985, 4725,   1019.6,   4.0429,  34.4825,2,  34.4845,2,     42.6,2,     41.3,2,  -999.00,5,  -999.00,5,  -999.00,5,   1020,-999.000,  -999.0,  3.9653