BOTTLE,20020809WHPSIObren
EXPOCODE,SECT_ID,STNNBR,CASTNO,SAMPNO,BTLNBR,BTLNBR_FLAG_W,DATE,TIME,LATITUDE,LONGITUDE,DEPTH,CTDPRS,CTDTMP,CTDSAL,CTDSAL_FLAG_W,SALNTY,SALNTY_FLAG_W,CTDOXY,CTDOXY_FLAG_W,OXYGEN,OXYGEN_FLAG_W,SILCAT,SILCAT_FLAG_W,NO2+NO3,NO2+NO3_FLAG_W,PHSPHT,PHSPHT_FLAG_W,CTDRAW,REVTMP,REVPRS,THETA
,,,,,,,,,,,,DBAR,ITS-90,PSS-78,,PSS-78,,UMOL/KG,,UMOL/KG,,UMOL/KG,,UMOL/KG,,UMOL/KG,,,DEG C,DBAR,ITS-90
     32MW068_1,  PRS2,     2, 16,     24,     31,2,19951118,1300, 22.7492,-157.9938,  472,      4.5,  25.6335,  34.9609,2,  34.9628,2,    205.5,2,    205.8,2,  -999.00,9,  -999.00,9,  -999.00,9,      5,-999.000,  -999.0, 25.6325
     32MW068_1,  PRS2,     2, 16,     23,     30,2,19951118,1300, 22.7492,-157.9938,  472,     23.9,  25.6406,  34.9603,2,  34.9612,2,    205.5,2,   -999.0,5,  -999.00,9,  -999.00,9,  -999.00,9,     24,-999.000,  -999.0, 25.6354
     32MW068_1,  PRS2,     2, 16,     22,     22,2,19951118,1300, 22.7492,-157.9938,  472,     44.6,  25.6417,  34.9595,2,  34.9622,2,    205.5,2,   -999.0,5,  -999.00,9,  -999.00,9,  -999.00,9,     45,-999.000,  -999.0, 25.6319
     32MW068_1,  PRS2,     2, 16,     21,     21,2,19951118,1300, 22.7492,-157.9938,  472,     75.7,  22.8422,  35.0949,2,  35.0932,2,    223.6,2,   -999.0,5,  -999.00,9,  -999.00,9,  -999.00,9,     76,-999.000,  -999.0, 22.8268
     32MW068_1,  PRS2,     2, 16,     19,     19,2,19951118,1300, 22.7492,-157.9938,  472,     99.3,  21.2485,  35.1381,2,  35.1373,2,    213.6,2,   -999.0,5,  -999.00,9,  -999.00,9,  -999.00,9,    100,-999.000,  -999.0, 21.2294
     32MW068_1,  PRS2,     2, 16,     20,     20,2,19951118,1300, 22.7492,-157.9938,  472,     99.4,  21.2539,  35.1367,2,  35.1431,2,    214.3,2,   -999.0,5,  -999.00,9,  -999.00,9,  -999.00,9,     99,-999.000,  -999.0, 21.2347
     32MW068_1,  PRS2,     2, 16,     18,     18,2,19951118,1300, 22.7492,-157.9938,  472,    119.5,  20.2414,  35.1243,2,  35.1279,2,    202.8,2,    201.7,2,  -999.00,9,  -999.00,9,  -999.00,9,    119,-999.000,  -999.0, 20.2191
     32MW068_1,  PRS2,     2, 16,     17,     17,2,19951118,1300, 22.7492,-157.9938,  472,    125.6,  20.0336,  35.1115,2,  35.1320,4,    204.4,3,   -999.0,5,  -999.00,9,  -999.00,9,  -999.00,9,    125,-999.000,  -999.0, 20.0103
     32MW068_1,  PRS2,     2, 16,     16,     16,2,19951118,1300, 22.7492,-157.9938,  472,    149.7,  19.1436,  35.0625,2,  35.0626,2,    202.2,2,   -999.0,5,  -999.00,9,  -999.00,9,  -999.00,9,    150,-999.000,  -999.0, 19.1168
     32MW068_1,  PRS2,     2, 16,     15,     15,2,19951118,1300, 22.7492,-157.9938,  472,    301.9,  12.8575,  34.3565,2,  34.3567,2,    202.3,2,   -999.0,5,  -999.00,9,  -999.00,9,  -999.00,9,    301,-999.000,  -999.0, 12.8163
     32MW068_1,  PRS2,     2, 16,     14,     14,2,19951118,1300, 22.7492,-157.9938,  472,    499.8,   6.8679,  34.0421,2,  34.0423,2,    114.5,2,   -999.0,5,  -999.00,9,  -999.00,9,  -999.00,9,    500,-999.000,  -999.0,  6.8213
     32MW068_1,  PRS2,     2, 16,     13,     13,2,19951118,1300, 22.7492,-157.9938,  472,    521.5,   6.6447,  34.0469,2,  34.0479,2,     99.2,2,   -999.0,5,  -999.00,9,  -999.00,9,  -999.00,9,    522,-999.000,  -999.0,  6.5969
     32MW068_1,  PRS2,     2, 16,     12,     12,2,19951118,1300, 22.7492,-157.9938,  472,    874.6,   4.5106,  34.4120,2,  34.4113,2,     30.1,2,     31.9,2,  -999.00,9,  -999.00,9,  -999.00,9,    877,-999.000,  -999.0,  4.4419
     32MW068_1,  PRS2,     2, 16,     11,     11,2,19951118,1300, 22.7492,-157.9938,  472,   1000.7,   4.0849,  34.4773,2,  34.4790,2,     39.3,2,   -999.0,5,  -999.00,9,  -999.00,9,  -999.00,9,   1000,-999.000,  -999.0,  4.0086
     32MW068_1,  PRS2,     2, 16,      9,      3,2,19951118,1300, 22.7492,-157.9938,  472,   2000.6,   2.1106,  34.6182,2,  34.6186,2,     83.3,2,     86.2,2,  -999.00,9,  -999.00,9,  -999.00,9,   2002,-999.000,  -999.0,  1.9725
     32MW068_1,  PRS2,     2, 16,     10,     32,2,19951118,1300, 22.7492,-157.9938,  472,   2001.0,   2.1108,  34.6185,2,-999.0000,5,     83.3,2,   -999.0,5,  -999.00,9,  -999.00,9,  -999.00,9,   2000,-999.000,  -999.0,  1.9727
     32MW068_1,  PRS2,     2, 16,      8,     29,2,19951118,1300, 22.7492,-157.9938,  472,   2999.7,   1.5568,  34.6698,2,-999.0000,5,    122.7,2,   -999.0,5,  -999.00,9,  -999.00,9,  -999.00,9,   2999,-999.000,  -999.0,  1.3388
     32MW068_1,  PRS2,     2, 16,      7,     28,2,19951118,1300, 22.7492,-157.9938,  472,   2999.7,   1.5567,  34.6699,2,  34.6699,2,    122.7,2,    124.5,2,  -999.00,9,  -999.00,9,  -999.00,9,   3000,-999.000,  -999.0,  1.3387
     32MW068_1,  PRS2,     2, 16,      6,      7,2,19951118,1300, 22.7492,-157.9938,  472,   4001.5,   1.4573,  34.6878,2,-999.0000,5,    148.0,2,   -999.0,5,  -999.00,9,  -999.00,9,  -999.00,9,   3999,-999.000,  -999.0,  1.1394
     32MW068_1,  PRS2,     2, 16,      5,     38,2,19951118,1300, 22.7492,-157.9938,  472,   4001.5,   1.4571,  34.6879,2,  34.6867,2,    148.1,2,    148.2,2,  -999.00,9,  -999.00,9,  -999.00,9,   4001,-999.000,  -999.0,  1.1393
     32MW068_1,  PRS2,     2, 16,      4,     36,2,19951118,1300, 22.7492,-157.9938,  472,   4500.8,   1.4852,  34.6904,2,  34.6904,2,    153.1,2,   -999.0,5,  -999.00,9,  -999.00,9,  -999.00,9,   4501,-999.000,  -999.0,  1.1106
     32MW068_1,  PRS2,     2, 16,      3,     35,2,19951118,1300, 22.7492,-157.9938,  472,   4600.2,   1.4915,  34.6909,2,  34.6907,2,    153.8,2,   -999.0,5,  -999.00,9,  -999.00,9,  -999.00,9,   4600,-999.000,  -999.0,  1.1052
     32MW068_1,  PRS2,     2, 16,      2,     34,2,19951118,1300, 22.7492,-157.9938,  472,   4701.3,   1.4944,  34.6916,2,  34.6925,2,    155.8,2,   -999.0,5,  -999.00,9,  -999.00,9,  -999.00,9,   4700,-999.000,  -999.0,  1.0961
     32MW068_1,  PRS2,     2, 16,      1,     33,2,19951118,1300, 22.7492,-157.9938,  472,   4805.9,   1.4989,  34.6926,2,  34.6922,2,    157.5,2,    156.4,2,  -999.00,9,  -999.00,9,  -999.00,9,   4807,-999.000,  -999.0,  1.0881