BOTTLE,20020809WHPSIObren
EXPOCODE,SECT_ID,STNNBR,CASTNO,SAMPNO,BTLNBR,BTLNBR_FLAG_W,DATE,TIME,LATITUDE,LONGITUDE,DEPTH,CTDPRS,CTDTMP,CTDSAL,CTDSAL_FLAG_W,SALNTY,SALNTY_FLAG_W,CTDOXY,CTDOXY_FLAG_W,OXYGEN,OXYGEN_FLAG_W,SILCAT,SILCAT_FLAG_W,NO2+NO3,NO2+NO3_FLAG_W,PHSPHT,PHSPHT_FLAG_W,CTDRAW,REVTMP,REVPRS,THETA
,,,,,,,,,,,,DBAR,ITS-90,PSS-78,,PSS-78,,UMOL/KG,,UMOL/KG,,UMOL/KG,,UMOL/KG,,UMOL/KG,,,DEG C,DBAR,ITS-90
     32MW068_1,  PRS2,     2, 11,     23,     30,2,19951117,1955, 22.7732,-158.0458,  473,      4.5,  25.6098,  34.9445,2,-999.0000,5,    205.1,1,   -999.0,9,  -999.00,9,  -999.00,9,  -999.00,9,      4,-999.000,  -999.0, 25.6088
     32MW068_1,  PRS2,     2, 11,     24,     31,2,19951117,1955, 22.7732,-158.0458,  473,      4.6,  25.6098,  34.9446,2,  34.9444,2,    205.1,1,   -999.0,9,  -999.00,9,  -999.00,9,  -999.00,9,      5,-999.000,  -999.0, 25.6087
     32MW068_1,  PRS2,     2, 11,     22,     22,2,19951117,1955, 22.7732,-158.0458,  473,     10.3,  25.6119,  34.9443,2,  34.9434,2,    205.1,1,   -999.0,9,  -999.00,9,  -999.00,9,  -999.00,9,     11,-999.000,  -999.0, 25.6097
     32MW068_1,  PRS2,     2, 11,     21,     21,2,19951117,1955, 22.7732,-158.0458,  473,     24.6,  25.6143,  34.9438,2,  34.9427,2,    205.1,1,   -999.0,9,  -999.00,9,  -999.00,9,  -999.00,9,     24,-999.000,  -999.0, 25.6089
     32MW068_1,  PRS2,     2, 11,     20,     20,2,19951117,1955, 22.7732,-158.0458,  473,     24.6,  25.6142,  34.9438,2,-999.0000,5,    205.1,1,   -999.0,9,  -999.00,9,  -999.00,9,  -999.00,9,     26,-999.000,  -999.0, 25.6088
     32MW068_1,  PRS2,     2, 11,     19,     19,2,19951117,1955, 22.7732,-158.0458,  473,     44.9,  25.6128,  34.9442,2,  34.9460,2,    205.1,1,   -999.0,9,  -999.00,9,  -999.00,9,  -999.00,9,     46,-999.000,  -999.0, 25.6029
     32MW068_1,  PRS2,     2, 11,     18,     18,2,19951117,1955, 22.7732,-158.0458,  473,     49.6,  25.6086,  34.9453,2,  34.9462,2,    205.1,1,   -999.0,9,  -999.00,9,  -999.00,9,  -999.00,9,     50,-999.000,  -999.0, 25.5977
     32MW068_1,  PRS2,     2, 11,     16,     16,3,19951117,1955, 22.7732,-158.0458,  473,     73.8,  24.0596,  35.0424,2,-999.0000,5,    218.8,1,   -999.0,9,  -999.00,9,  -999.00,9,  -999.00,9,     72,-999.000,  -999.0, 24.0440
     32MW068_1,  PRS2,     2, 11,     17,     17,2,19951117,1955, 22.7732,-158.0458,  473,     74.2,  24.0390,  35.0439,2,  35.0700,4,    218.6,1,   -999.0,9,  -999.00,9,  -999.00,9,  -999.00,9,     74,-999.000,  -999.0, 24.0234
     32MW068_1,  PRS2,     2, 11,     15,     15,2,19951117,1955, 22.7732,-158.0458,  473,    104.7,  21.1064,  35.1425,2,  35.1420,2,    210.2,1,   -999.0,9,  -999.00,9,  -999.00,9,  -999.00,9,    105,-999.000,  -999.0, 21.0863
     32MW068_1,  PRS2,     2, 11,     14,     14,2,19951117,1955, 22.7732,-158.0458,  473,    104.8,  21.1024,  35.1421,2,-999.0000,5,    210.0,1,   -999.0,9,  -999.00,9,  -999.00,9,  -999.00,9,    106,-999.000,  -999.0, 21.0823
     32MW068_1,  PRS2,     2, 11,     13,     13,2,19951117,1955, 22.7732,-158.0458,  473,    124.3,  19.9923,  35.1188,2,  35.1181,2,    208.2,1,   -999.0,9,  -999.00,9,  -999.00,9,  -999.00,9,    126,-999.000,  -999.0, 19.9694
     32MW068_1,  PRS2,     2, 11,     11,     11,2,19951117,1955, 22.7732,-158.0458,  473,    150.1,  19.2625,  35.0791,2,  35.0784,2,    203.3,1,   -999.0,9,  -999.00,9,  -999.00,9,  -999.00,9,    151,-999.000,  -999.0, 19.2355
     32MW068_1,  PRS2,     2, 11,     12,     12,2,19951117,1955, 22.7732,-158.0458,  473,    150.5,  19.2651,  35.0792,2,-999.0000,5,    203.2,1,   -999.0,9,  -999.00,9,  -999.00,9,  -999.00,9,    150,-999.000,  -999.0, 19.2381
     32MW068_1,  PRS2,     2, 11,     10,     32,2,19951117,1955, 22.7732,-158.0458,  473,    176.1,  18.0465,  34.9339,2,  34.9347,2,    205.8,1,   -999.0,9,  -999.00,9,  -999.00,9,  -999.00,9,    176,-999.000,  -999.0, 18.0162
     32MW068_1,  PRS2,     2, 11,      9,      3,2,19951117,1955, 22.7732,-158.0458,  473,    199.6,  17.3171,  34.8357,2,  34.8397,2,    206.1,1,   -999.0,9,  -999.00,9,  -999.00,9,  -999.00,9,    201,-999.000,  -999.0, 17.2837
     32MW068_1,  PRS2,     2, 11,      7,     28,2,19951117,1955, 22.7732,-158.0458,  473,    250.5,  15.0885,  34.5723,2,-999.0000,5,    198.1,1,   -999.0,9,  -999.00,9,  -999.00,9,  -999.00,9,    250,-999.000,  -999.0, 15.0505
     32MW068_1,  PRS2,     2, 11,      8,     29,2,19951117,1955, 22.7732,-158.0458,  473,    250.7,  15.0875,  34.5723,2,  34.5729,2,    198.1,1,   -999.0,9,  -999.00,9,  -999.00,9,  -999.00,9,    251,-999.000,  -999.0, 15.0494
     32MW068_1,  PRS2,     2, 11,      6,      7,2,19951117,1955, 22.7732,-158.0458,  473,    300.7,  12.7776,  34.3513,2,  34.3535,2,    201.7,1,   -999.0,9,  -999.00,9,  -999.00,9,  -999.00,9,    301,-999.000,  -999.0, 12.7368
     32MW068_1,  PRS2,     2, 11,      5,     38,3,19951117,1955, 22.7732,-158.0458,  473,    499.7,   6.9946,  34.0402,2,  34.0990,4,    119.6,1,   -999.0,9,  -999.00,9,  -999.00,9,  -999.00,9,    501,-999.000,  -999.0,  6.9475
     32MW068_1,  PRS2,     2, 11,      4,     36,2,19951117,1955, 22.7732,-158.0458,  473,    500.1,   6.9742,  34.0423,2,-999.0000,5,    119.0,1,   -999.0,9,  -999.00,9,  -999.00,9,  -999.00,9,    498,-999.000,  -999.0,  6.9271
     32MW068_1,  PRS2,     2, 11,      3,     35,2,19951117,1955, 22.7732,-158.0458,  473,    750.0,   4.9488,  34.3123,2,  34.3157,2,     28.6,1,   -999.0,9,  -999.00,9,  -999.00,9,  -999.00,9,    751,-999.000,  -999.0,  4.8882
     32MW068_1,  PRS2,     2, 11,      1,     33,2,19951117,1955, 22.7732,-158.0458,  473,   1019.5,   3.9614,  34.4940,2,-999.0000,5,     42.5,1,   -999.0,9,  -999.00,9,  -999.00,9,  -999.00,9,   1019,-999.000,  -999.0,  3.8845
     32MW068_1,  PRS2,     2, 11,      2,     34,2,19951117,1955, 22.7732,-158.0458,  473,   1019.9,   3.9614,  34.4939,2,  34.4958,2,     42.8,1,   -999.0,9,  -999.00,9,  -999.00,9,  -999.00,9,   1019,-999.000,  -999.0,  3.8844
     32MW068_1,  PRS2,     2, 12,     24,     31,2,19951117,2259, 22.7818,-158.0387,  472,      2.5,  25.6674,  34.9551,2,-999.0000,5,    205.6,1,   -999.0,9,  -999.00,9,  -999.00,9,  -999.00,9,      3,-999.000,  -999.0, 25.6668
     32MW068_1,  PRS2,     2, 12,     23,     30,2,19951117,2259, 22.7818,-158.0387,  472,      4.8,  25.6757,  34.9547,2,  34.9520,2,    205.7,1,   -999.0,9,  -999.00,9,  -999.00,9,  -999.00,9,      5,-999.000,  -999.0, 25.6747
     32MW068_1,  PRS2,     2, 12,     22,     22,2,19951117,2259, 22.7818,-158.0387,  472,      9.5,  25.6612,  34.9547,2,-999.0000,5,    205.7,1,   -999.0,9,  -999.00,9,  -999.00,9,  -999.00,9,     10,-999.000,  -999.0, 25.6591
     32MW068_1,  PRS2,     2, 12,     21,     21,2,19951117,2259, 22.7818,-158.0387,  472,     14.5,  25.6243,  34.9539,2,-999.0000,5,    205.6,1,   -999.0,9,  -999.00,9,  -999.00,9,  -999.00,9,     15,-999.000,  -999.0, 25.6211
     32MW068_1,  PRS2,     2, 12,     20,     20,2,19951117,2259, 22.7818,-158.0387,  472,     18.8,  25.6198,  34.9533,2,-999.0000,5,    205.6,1,   -999.0,9,  -999.00,9,  -999.00,9,  -999.00,9,     19,-999.000,  -999.0, 25.6156
     32MW068_1,  PRS2,     2, 12,     19,     19,2,19951117,2259, 22.7818,-158.0387,  472,     24.5,  25.6151,  34.9519,2,  34.9493,2,    205.6,1,   -999.0,9,  -999.00,9,  -999.00,9,  -999.00,9,     25,-999.000,  -999.0, 25.6097
     32MW068_1,  PRS2,     2, 12,     18,     18,2,19951117,2259, 22.7818,-158.0387,  472,     28.9,  25.6085,  34.9495,2,-999.0000,5,    205.6,1,   -999.0,9,  -999.00,9,  -999.00,9,  -999.00,9,     29,-999.000,  -999.0, 25.6021
     32MW068_1,  PRS2,     2, 12,     17,     17,2,19951117,2259, 22.7818,-158.0387,  472,     34.2,  25.6063,  34.9487,2,-999.0000,5,    205.6,1,   -999.0,9,  -999.00,9,  -999.00,9,  -999.00,9,     34,-999.000,  -999.0, 25.5987
     32MW068_1,  PRS2,     2, 12,     16,     16,2,19951117,2259, 22.7818,-158.0387,  472,     39.2,  25.6049,  34.9484,2,-999.0000,5,    205.6,1,   -999.0,9,  -999.00,9,  -999.00,9,  -999.00,9,     40,-999.000,  -999.0, 25.5963
     32MW068_1,  PRS2,     2, 12,     15,     15,2,19951117,2259, 22.7818,-158.0387,  472,     44.0,  25.6034,  34.9487,2,-999.0000,5,    205.6,1,   -999.0,9,  -999.00,9,  -999.00,9,  -999.00,9,     45,-999.000,  -999.0, 25.5936
     32MW068_1,  PRS2,     2, 12,     14,     14,2,19951117,2259, 22.7818,-158.0387,  472,     49.5,  25.5864,  34.9502,2,  34.9493,2,    205.3,1,   -999.0,9,  -999.00,9,  -999.00,9,  -999.00,9,     50,-999.000,  -999.0, 25.5755
     32MW068_1,  PRS2,     2, 12,     13,     13,2,19951117,2259, 22.7818,-158.0387,  472,     54.6,  25.0897,  34.9865,2,-999.0000,5,    208.1,1,   -999.0,9,  -999.00,9,  -999.00,9,  -999.00,9,     55,-999.000,  -999.0, 25.0779
     32MW068_1,  PRS2,     2, 12,     12,     12,2,19951117,2259, 22.7818,-158.0387,  472,     64.0,  23.9356,  35.0506,2,-999.0000,5,    219.5,1,   -999.0,9,  -999.00,9,  -999.00,9,  -999.00,9,     65,-999.000,  -999.0, 23.9222
     32MW068_1,  PRS2,     2, 12,     11,     11,2,19951117,2259, 22.7818,-158.0387,  472,     74.0,  23.2027,  35.0598,2,  35.0607,2,    223.6,1,   -999.0,9,  -999.00,9,  -999.00,9,  -999.00,9,     74,-999.000,  -999.0, 23.1875
     32MW068_1,  PRS2,     2, 12,     10,     32,2,19951117,2259, 22.7818,-158.0387,  472,     84.2,  22.1980,  35.1162,2,-999.0000,5,    218.1,1,   -999.0,9,  -999.00,9,  -999.00,9,  -999.00,9,     85,-999.000,  -999.0, 22.1813
     32MW068_1,  PRS2,     2, 12,      9,      3,2,19951117,2259, 22.7818,-158.0387,  472,     93.9,  21.5052,  35.1377,2,  35.1398,2,    216.6,1,   -999.0,9,  -999.00,9,  -999.00,9,  -999.00,9,     94,-999.000,  -999.0, 21.4869
     32MW068_1,  PRS2,     2, 12,      8,     29,2,19951117,2259, 22.7818,-158.0387,  472,    104.2,  20.8056,  35.1351,2,-999.0000,5,    205.6,1,   -999.0,9,  -999.00,9,  -999.00,9,  -999.00,9,    106,-999.000,  -999.0, 20.7858
     32MW068_1,  PRS2,     2, 12,      7,     28,2,19951117,2259, 22.7818,-158.0387,  472,    114.3,  20.3114,  35.1357,2,-999.0000,5,    198.7,1,   -999.0,9,  -999.00,9,  -999.00,9,  -999.00,9,    114,-999.000,  -999.0, 20.2900
     32MW068_1,  PRS2,     2, 12,      6,      7,2,19951117,2259, 22.7818,-158.0387,  472,    124.0,  20.0593,  35.1377,2,  35.1382,2,    206.7,1,   -999.0,9,  -999.00,9,  -999.00,9,  -999.00,9,    123,-999.000,  -999.0, 20.0364
     32MW068_1,  PRS2,     2, 12,      5,     38,2,19951117,2259, 22.7818,-158.0387,  472,    150.1,  19.1308,  35.0699,2,  35.0746,2,    201.2,1,   -999.0,9,  -999.00,9,  -999.00,9,  -999.00,9,    150,-999.000,  -999.0, 19.1039
     32MW068_1,  PRS2,     2, 12,      4,     36,2,19951117,2259, 22.7818,-158.0387,  472,    174.7,  18.1430,  34.9464,2,  34.9500,2,    204.7,1,   -999.0,9,  -999.00,9,  -999.00,9,  -999.00,9,    175,-999.000,  -999.0, 18.1128
     32MW068_1,  PRS2,     2, 12,      3,     35,2,19951117,2259, 22.7818,-158.0387,  472,    250.7,  14.7795,  34.5373,2,  34.5395,2,    200.9,1,   -999.0,9,  -999.00,9,  -999.00,9,  -999.00,9,    251,-999.000,  -999.0, 14.7420
     32MW068_1,  PRS2,     2, 12,      2,     34,2,19951117,2259, 22.7818,-158.0387,  472,    500.3,   7.2284,  34.0403,2,  34.0433,2,    131.5,1,   -999.0,9,  -999.00,9,  -999.00,9,  -999.00,9,    498,-999.000,  -999.0,  7.1804
     32MW068_1,  PRS2,     2, 12,      1,     33,2,19951117,2259, 22.7818,-158.0387,  472,   1019.8,   4.0119,  34.4821,2,  34.4826,2,     41.6,1,   -999.0,9,  -999.00,9,  -999.00,9,  -999.00,9,   1020,-999.000,  -999.0,  3.9345
     32MW068_1,  PRS2,     2, 13,     12,     12,2,19951118,0156, 22.7980,-158.0462,  472,      3.9,  25.6423,  34.9385,2,  34.9372,2,    205.1,1,   -999.0,9,  -999.00,9,  -999.00,9,  -999.00,9,      4,-999.000,  -999.0, 25.6415
     32MW068_1,  PRS2,     2, 13,     11,     11,2,19951118,0156, 22.7980,-158.0462,  472,      8.9,  25.6412,  34.9385,2,  34.9388,2,    205.1,1,   -999.0,9,  -999.00,9,  -999.00,9,  -999.00,9,     10,-999.000,  -999.0, 25.6392
     32MW068_1,  PRS2,     2, 13,     10,     32,2,19951118,0156, 22.7980,-158.0462,  472,     25.4,  25.6218,  34.9405,2,  34.9392,2,    205.3,1,   -999.0,9,  -999.00,9,  -999.00,9,  -999.00,9,     25,-999.000,  -999.0, 25.6162
     32MW068_1,  PRS2,     2, 13,      9,      3,2,19951118,0156, 22.7980,-158.0462,  472,     44.9,  25.6134,  34.9446,2,  34.9478,2,    205.2,1,   -999.0,9,  -999.00,9,  -999.00,9,  -999.00,9,     45,-999.000,  -999.0, 25.6035
     32MW068_1,  PRS2,     2, 13,      8,     29,2,19951118,0156, 22.7980,-158.0462,  472,     74.0,  22.4949,  35.0949,2,  35.0963,2,    217.5,1,   -999.0,9,  -999.00,9,  -999.00,9,  -999.00,9,     75,-999.000,  -999.0, 22.4800
     32MW068_1,  PRS2,     2, 13,      7,     28,2,19951118,0156, 22.7980,-158.0462,  472,     99.2,  21.2353,  35.1416,2,  35.1400,2,    212.6,1,   -999.0,9,  -999.00,9,  -999.00,9,  -999.00,9,    100,-999.000,  -999.0, 21.2161
     32MW068_1,  PRS2,     2, 13,      6,      7,2,19951118,0156, 22.7980,-158.0462,  472,    124.3,  20.1308,  35.1368,2,  35.1361,2,    198.2,1,   -999.0,9,  -999.00,9,  -999.00,9,  -999.00,9,    125,-999.000,  -999.0, 20.1077
     32MW068_1,  PRS2,     2, 13,      5,     38,2,19951118,0156, 22.7980,-158.0462,  472,    149.7,  18.9884,  35.0460,2,  35.0498,2,    201.0,1,   -999.0,9,  -999.00,9,  -999.00,9,  -999.00,9,    151,-999.000,  -999.0, 18.9617
     32MW068_1,  PRS2,     2, 13,      4,     36,2,19951118,0156, 22.7980,-158.0462,  472,    175.1,  17.8815,  34.9142,2,  34.9118,2,    206.4,1,   -999.0,9,  -999.00,9,  -999.00,9,  -999.00,9,    176,-999.000,  -999.0, 17.8516
     32MW068_1,  PRS2,     2, 13,      3,     35,2,19951118,0156, 22.7980,-158.0462,  472,    506.0,   7.1418,  34.0401,2,  34.0400,2,    124.9,1,   -999.0,9,  -999.00,9,  -999.00,9,  -999.00,9,    506,-999.000,  -999.0,  7.0936
     32MW068_1,  PRS2,     2, 13,      2,     34,2,19951118,0156, 22.7980,-158.0462,  472,    801.3,   4.7979,  34.3427,2,  34.3419,2,     27.4,1,   -999.0,9,  -999.00,9,  -999.00,9,  -999.00,9,    799,-999.000,  -999.0,  4.7337
     32MW068_1,  PRS2,     2, 13,      1,     33,2,19951118,0156, 22.7980,-158.0462,  472,   1020.0,   4.0505,  34.4780,2,  34.4792,2,     40.4,1,   -999.0,9,  -999.00,9,  -999.00,9,  -999.00,9,   1020,-999.000,  -999.0,  3.9728
     32MW068_1,  PRS2,     2, 14,      5,     38,2,19951118,0456, 22.7492,-157.9998,  472,      4.6,  25.6615,  34.9599,2,  34.9594,2,    205.3,2,    211.1,2,  -999.00,9,  -999.00,9,  -999.00,9,      5,-999.000,  -999.0, 25.6605
     32MW068_1,  PRS2,     2, 14,      4,     36,2,19951118,0456, 22.7492,-157.9998,  472,     94.6,  21.2846,  35.1403,2,  35.1373,2,    214.7,2,   -999.0,5,  -999.00,9,  -999.00,9,  -999.00,9,     96,-999.000,  -999.0, 21.2664
     32MW068_1,  PRS2,     2, 14,      3,     35,2,19951118,0456, 22.7492,-157.9998,  472,    489.8,   7.0562,  34.0400,2,  34.0412,2,    121.4,2,   -999.0,5,  -999.00,9,  -999.00,9,  -999.00,9,    491,-999.000,  -999.0,  7.0098
     32MW068_1,  PRS2,     2, 14,      2,     34,2,19951118,0456, 22.7492,-157.9998,  472,    800.2,   4.7900,  34.3710,2,  34.3782,2,     28.4,2,     31.3,2,  -999.00,9,  -999.00,9,  -999.00,9,    801,-999.000,  -999.0,  4.7259
     32MW068_1,  PRS2,     2, 14,      1,     33,2,19951118,0456, 22.7492,-157.9998,  472,   1020.1,   4.0353,  34.4804,2,  34.4793,2,     40.5,2,     43.2,2,  -999.00,9,  -999.00,9,  -999.00,9,   1021,-999.000,  -999.0,  3.9578
     32MW068_1,  PRS2,     2, 15,     15,     15,2,19951118,0756, 22.7657,-158.0118,  471,      4.0,  25.5920,  34.9132,2,  34.9122,2,    204.7,1,   -999.0,9,  -999.00,9,  -999.00,9,  -999.00,9,      4,-999.000,  -999.0, 25.5911
     32MW068_1,  PRS2,     2, 15,     14,     14,2,19951118,0756, 22.7657,-158.0118,  471,     23.6,  25.6182,  34.9416,2,  34.9407,2,    204.7,1,   -999.0,9,  -999.00,9,  -999.00,9,  -999.00,9,     24,-999.000,  -999.0, 25.6130
     32MW068_1,  PRS2,     2, 15,     13,     13,2,19951118,0756, 22.7657,-158.0118,  471,     45.7,  25.6088,  34.9432,2,  34.9435,2,    204.7,1,   -999.0,9,  -999.00,9,  -999.00,9,  -999.00,9,     45,-999.000,  -999.0, 25.5987
     32MW068_1,  PRS2,     2, 15,     12,     12,2,19951118,0756, 22.7657,-158.0118,  471,     74.3,  23.0709,  35.0774,2,  35.0708,2,    222.5,1,   -999.0,9,  -999.00,9,  -999.00,9,  -999.00,9,     75,-999.000,  -999.0, 23.0557
     32MW068_1,  PRS2,     2, 15,     11,     11,2,19951118,0756, 22.7657,-158.0118,  471,     89.4,  21.8693,  35.1278,2,  35.1244,2,    218.0,1,   -999.0,9,  -999.00,9,  -999.00,9,  -999.00,9,     88,-999.000,  -999.0, 21.8518
     32MW068_1,  PRS2,     2, 15,     10,     32,2,19951118,0756, 22.7657,-158.0118,  471,    100.0,  21.0115,  35.1402,2,  35.1395,2,    210.7,1,   -999.0,9,  -999.00,9,  -999.00,9,  -999.00,9,    101,-999.000,  -999.0, 20.9924
     32MW068_1,  PRS2,     2, 15,      9,      3,2,19951118,0756, 22.7657,-158.0118,  471,    109.3,  20.5334,  35.1330,2,  35.1327,2,    204.6,1,   -999.0,9,  -999.00,9,  -999.00,9,  -999.00,9,    110,-999.000,  -999.0, 20.5128
     32MW068_1,  PRS2,     2, 15,      8,     29,2,19951118,0756, 22.7657,-158.0118,  471,    124.2,  20.0612,  35.1166,2,  35.1182,2,    201.9,1,   -999.0,9,  -999.00,9,  -999.00,9,  -999.00,9,    125,-999.000,  -999.0, 20.0382
     32MW068_1,  PRS2,     2, 15,      7,     28,2,19951118,0756, 22.7657,-158.0118,  471,    150.7,  19.3836,  35.0957,2,  35.0965,2,    202.7,1,   -999.0,9,  -999.00,9,  -999.00,9,  -999.00,9,    151,-999.000,  -999.0, 19.3563
     32MW068_1,  PRS2,     2, 15,      6,      7,2,19951118,0756, 22.7657,-158.0118,  471,    174.2,  18.0769,  34.9377,2,  34.9460,2,    204.4,1,   -999.0,9,  -999.00,9,  -999.00,9,  -999.00,9,    174,-999.000,  -999.0, 18.0469
     32MW068_1,  PRS2,     2, 15,      5,     38,2,19951118,0756, 22.7657,-158.0118,  471,    199.3,  17.3247,  34.8415,2,  34.8434,2,    207.4,1,   -999.0,9,  -999.00,9,  -999.00,9,  -999.00,9,    200,-999.000,  -999.0, 17.2914
     32MW068_1,  PRS2,     2, 15,      4,     36,2,19951118,0756, 22.7657,-158.0118,  471,    350.4,  10.4488,  34.1602,2,  34.1606,2,    191.9,1,   -999.0,9,  -999.00,9,  -999.00,9,  -999.00,9,    353,-999.000,  -999.0, 10.4071
     32MW068_1,  PRS2,     2, 15,      3,     35,2,19951118,0756, 22.7657,-158.0118,  471,    481.1,   7.1105,  34.0391,2,  34.0385,2,    123.6,1,   -999.0,9,  -999.00,9,  -999.00,9,  -999.00,9,    482,-999.000,  -999.0,  7.0649
     32MW068_1,  PRS2,     2, 15,      2,     34,2,19951118,0756, 22.7657,-158.0118,  471,    799.7,   4.7161,  34.3731,2,  34.3713,2,     29.1,1,   -999.0,9,  -999.00,9,  -999.00,9,  -999.00,9,    800,-999.000,  -999.0,  4.6526
     32MW068_1,  PRS2,     2, 15,      1,     33,2,19951118,0756, 22.7657,-158.0118,  471,   1021.6,   4.0104,  34.4813,2,  34.4807,2,     41.3,1,   -999.0,9,  -999.00,9,  -999.00,9,  -999.00,9,   1019,-999.000,  -999.0,  3.9329