BOTTLE,20171126JMAGEMD
EXPOCODE,SECT_ID,STNNBR,CASTNO,SAMPNO,BTLNBR,BTLNBR_FLAG_W,DATE,TIME,LATITUDE,LONGITUDE,DEPTH,CTDPRS,CTDDEP,CTDTMP,CTDSAL,CTDSAL_FLAG_W,SALNTY,SALNTY_FLAG_W,OXYGEN,OXYGEN_FLAG_W,SILCAT,SILCAT_FLAG_W,NO2+NO3,NO2+NO3_FLAG_W,NITRIT,NITRIT_FLAG_W,PHSPHT,PHSPHT_FLAG_W,TCARBN,TCARBN_FLAG_W,ALKALI,ALKALI_FLAG_W,PH_TOT,PH_TOT_FLAG_W,CFC-11,CFC-11_FLAG_W,CFC-12,CFC-12_FLAG_W
,,,,,,,UTC,UTC,,,METER,DBAR,METERS,ITS-90,PSS-78,,PSS-78,,UMOL/KG,,UMOL/KG,,UMOL/KG,,UMOL/KG,,UMOL/KG,,UMOL/KG,,UMOL/KG,,@25DEG-C,,PMOL/KG,,PMOL/KG,
49UP20160109,RF16-01,5652,1,-999,0,2,20160209,0150,10.993,149.335,5764,0.0,0,27.7862,34.7078,2,-999.0000,9,199.21,2,1.39,2,0.02,2,0.00,2,0.10,2,-999.,9,-999.,9,-999.,9,-999,9,-999,9
49UP20160109,RF16-01,5652,1,36,22109,2,20160209,0223,10.993,149.335,5764,10.9,11,27.7907,34.7079,2,34.7061,2,199.34,6,1.37,6,0.02,6,0.00,6,0.08,6,-999.,9,-999.,9,-999.,9,-999,9,-999,9
49UP20160109,RF16-01,5652,1,35,22112,2,20160209,0222,10.993,149.335,5764,25.0,25,27.7505,34.7078,2,34.7062,2,199.22,2,1.34,2,0.02,2,0.00,2,0.08,2,-999.,9,-999.,9,-999.,9,-999,9,-999,9
49UP20160109,RF16-01,5652,1,34,22094,2,20160209,0220,10.993,149.335,5764,50.5,50,27.7259,34.7078,2,34.7069,2,199.19,2,1.38,2,0.00,2,0.00,2,0.08,2,-999.,9,-999.,9,-999.,9,-999,9,-999,9
49UP20160109,RF16-01,5652,1,33,24469,2,20160209,0219,10.993,149.335,5764,77.6,77,27.7284,34.7030,2,-999.0000,9,199.40,2,1.34,2,0.00,2,0.00,2,0.08,2,-999.,9,-999.,9,-999.,9,-999,9,-999,9
49UP20160109,RF16-01,5652,1,32,22105,2,20160209,0215,10.993,149.335,5764,102.1,101,21.0816,35.0111,2,35.0087,2,186.39,2,3.12,2,1.15,2,0.10,2,0.29,2,-999.,9,-999.,9,-999.,9,-999,9,-999,9
49UP20160109,RF16-01,5652,1,31,23515,2,20160209,0214,10.993,149.335,5764,127.0,126,17.5464,34.7539,2,34.7574,2,166.62,2,6.09,2,7.33,2,0.08,2,0.61,2,-999.,9,-999.,9,-999.,9,-999,9,-999,9
49UP20160109,RF16-01,5652,1,30,22097,2,20160209,0213,10.993,149.335,5764,151.3,150,15.2007,34.5440,2,-999.0000,9,168.72,2,8.99,2,10.23,2,0.01,2,0.78,2,-999.,9,-999.,9,-999.,9,-999,9,-999,9
49UP20160109,RF16-01,5652,1,29,22102,2,20160209,0212,10.993,149.335,5764,201.6,200,11.9351,34.3495,2,34.3497,2,126.21,2,21.14,2,20.03,2,0.00,2,1.50,2,-999.,9,-999.,9,-999.,9,-999,9,-999,9
49UP20160109,RF16-01,5652,1,28,22108,2,20160209,0210,10.993,149.335,5764,252.5,251,10.3291,34.4708,2,34.4689,2,73.66,2,32.09,2,28.77,2,0.00,2,2.10,2,-999.,9,-999.,9,-999.,9,-999,9,-999,9
49UP20160109,RF16-01,5652,1,27,21998,2,20160209,0209,10.993,149.335,5764,302.6,301,8.8245,34.4970,2,34.4962,2,57.30,2,41.17,2,33.17,2,0.00,2,2.38,2,-999.,9,-999.,9,-999.,9,-999,9,-999,9
49UP20160109,RF16-01,5652,1,26,22084,2,20160209,0207,10.993,149.335,5764,352.1,350,7.9097,34.5105,2,-999.0000,9,71.68,2,46.56,2,33.89,2,0.00,2,2.40,2,-999.,9,-999.,9,-999.,9,-999,9,-999,9
49UP20160109,RF16-01,5652,1,25,22098,2,20160209,0205,10.993,149.335,5764,403.7,401,7.4491,34.5107,2,34.5106,2,77.08,2,49.83,2,34.37,2,0.00,2,2.43,2,-999.,9,-999.,9,-999.,9,-999,9,-999,9
49UP20160109,RF16-01,5652,1,24,22110,2,20160209,0204,10.993,149.335,5764,456.6,454,7.0897,34.5098,2,34.5091,2,79.12,2,52.92,2,34.86,2,0.00,2,2.47,2,-999.,9,-999.,9,-999.,9,-999,9,-999,9
49UP20160109,RF16-01,5652,1,23,22096,2,20160209,0158,10.993,149.335,5764,507.4,504,6.7933,34.5167,2,-999.0000,9,80.81,2,55.76,2,35.32,2,0.00,2,2.51,2,-999.,9,-999.,9,-999.,9,-999,9,-999,9
49UP20160109,RF16-01,5652,1,22,22111,2,20160209,0156,10.993,149.335,5764,605.8,601,6.2426,34.5132,2,34.5129,2,79.65,2,63.26,2,36.37,2,0.00,2,2.58,2,-999.,9,-999.,9,-999.,9,-999,9,-999,9
49UP20160109,RF16-01,5652,1,21,22078,2,20160209,0153,10.993,149.335,5764,707.5,702,5.6460,34.5247,2,34.5237,2,76.91,2,72.66,2,37.70,2,0.00,2,2.68,2,-999.,9,-999.,9,-999.,9,-999,9,-999,9
49UP20160109,RF16-01,5652,1,20,22093,3,20160209,0150,10.993,149.335,5764,809.8,804,5.1512,34.5373,2,34.5368,2,76.39,2,81.00,2,38.50,2,0.00,2,2.74,2,-999.,9,-999.,9,-999.,9,-999,9,-999,9
49UP20160109,RF16-01,5652,1,19,22092,2,20160209,0147,10.993,149.335,5764,907.1,900,4.7924,34.5431,2,-999.0000,9,78.03,2,87.74,2,38.82,2,0.00,2,2.76,2,-999.,9,-999.,9,-999.,9,-999,9,-999,9
49UP20160109,RF16-01,5652,1,18,22101,2,20160209,0141,10.993,149.335,5764,1011.6,1003,4.3419,34.5543,2,34.5535,6,78.53,2,96.65,2,39.34,2,0.00,2,2.80,2,-999.,9,-999.,9,-999.,9,-999,9,-999,9
49UP20160109,RF16-01,5652,1,17,22090,2,20160209,0136,10.993,149.335,5764,1213.8,1203,3.6671,34.5736,2,34.5730,2,86.80,2,109.71,2,39.27,2,0.00,2,2.78,2,-999.,9,-999.,9,-999.,9,-999,9,-999,9
49UP20160109,RF16-01,5652,1,16,22089,2,20160209,0132,10.993,149.335,5764,1414.6,1402,3.1166,34.5924,2,34.5918,2,96.34,3,120.47,2,38.92,2,0.00,2,2.75,2,-999.,9,-999.,9,-999.,9,-999,9,-999,9
49UP20160109,RF16-01,5652,1,15,22088,2,20160209,0125,10.993,149.335,5764,1617.2,1602,2.6972,34.6093,2,34.6089,2,100.84,2,129.54,2,38.96,2,0.00,2,2.74,2,-999.,9,-999.,9,-999.,9,-999,9,-999,9
49UP20160109,RF16-01,5652,1,14,21999,2,20160209,0120,10.993,149.335,5764,1818.3,1800,2.4149,34.6238,2,34.6246,2,104.51,2,135.54,2,38.88,2,0.00,2,2.73,2,-999.,9,-999.,9,-999.,9,-999,9,-999,9
49UP20160109,RF16-01,5652,1,13,22667,2,20160209,0116,10.993,149.335,5764,2022.1,2001,2.2083,34.6349,2,34.6343,2,109.30,2,140.13,2,38.74,2,0.00,2,2.72,2,-999.,9,-999.,9,-999.,9,-999,9,-999,9
49UP20160109,RF16-01,5652,1,12,22074,2,20160209,0109,10.993,149.335,5764,2273.5,2248,2.0288,34.6462,2,34.6460,2,114.84,2,143.51,2,38.46,2,0.00,2,2.69,2,-999.,9,-999.,9,-999.,9,-999,9,-999,9
49UP20160109,RF16-01,5652,1,11,24268,2,20160209,0104,10.993,149.335,5764,2529.7,2500,1.8813,34.6552,2,34.6539,2,121.64,6,145.44,6,38.06,6,0.00,6,2.65,6,-999.,9,-999.,9,-999.,9,-999,9,-999,9
49UP20160109,RF16-01,5652,1,10,24267,2,20160209,0057,10.993,149.335,5764,2785.3,2751,1.7542,34.6610,2,34.6606,2,128.81,2,146.40,2,37.62,2,0.00,2,2.61,2,-999.,9,-999.,9,-999.,9,-999,9,-999,9
49UP20160109,RF16-01,5652,1,9,23518,2,20160209,0053,10.993,149.335,5764,3037.9,2999,1.6652,34.6676,2,34.6674,2,134.86,2,146.90,2,37.22,2,0.00,2,2.58,2,-999.,9,-999.,9,-999.,9,-999,9,-999,9
49UP20160109,RF16-01,5652,1,8,22081,2,20160209,0048,10.993,149.335,5764,3293.2,3249,1.5867,34.6746,2,34.6745,2,140.67,2,146.95,2,36.85,2,0.00,2,2.55,2,-999.,9,-999.,9,-999.,9,-999,9,-999,9
49UP20160109,RF16-01,5652,1,7,23516,2,20160209,0042,10.993,149.335,5764,3548.3,3499,1.5336,34.6796,2,34.6792,2,147.36,2,145.26,2,36.40,2,0.00,2,2.51,2,-999.,9,-999.,9,-999.,9,-999,9,-999,9
49UP20160109,RF16-01,5652,1,6,22113,2,20160209,0038,10.993,149.335,5764,3804.7,3749,1.4996,34.6839,2,34.6838,6,152.97,2,142.79,2,35.95,2,0.00,2,2.48,2,-999.,9,-999.,9,-999.,9,-999,9,-999,9
49UP20160109,RF16-01,5652,1,5,24658,2,20160209,0032,10.993,149.335,5764,4062.0,4001,1.4746,34.6876,2,34.6880,2,159.02,2,140.66,2,35.60,2,0.00,2,2.45,2,-999.,9,-999.,9,-999.,9,-999,9,-999,9
49UP20160109,RF16-01,5652,1,4,24471,2,20160209,0023,10.993,149.335,5764,4574.0,4500,1.4583,34.6927,2,34.6926,2,167.60,6,136.48,6,34.96,6,0.00,6,2.41,6,-999.,9,-999.,9,-999.,9,-999,9,-999,9
49UP20160109,RF16-01,5652,1,3,22104,2,20160209,0013,10.993,149.335,5764,5088.0,5000,1.4751,34.6958,2,34.6963,2,172.84,2,133.91,2,34.61,2,0.00,2,2.37,2,-999.,9,-999.,9,-999.,9,-999,9,-999,9
49UP20160109,RF16-01,5652,1,2,22075,2,20160209,0002,10.993,149.335,5764,5603.4,5500,1.5194,34.6973,2,34.6980,2,175.72,2,132.25,2,34.32,2,0.00,2,2.36,2,-999.,9,-999.,9,-999.,9,-999,9,-999,9
49UP20160109,RF16-01,5652,1,1,21997,2,20160209,2356,10.993,149.335,5764,5899.5,5787,1.5549,34.6975,2,34.6989,4,176.05,6,132.29,6,34.37,6,0.00,6,2.36,6,-999.,9,-999.,9,-999.,9,-999,9,-999,9
49UP20160109,RF16-01,5653,1,-999,0,2,20160210,1058,11.9887,149.3177,5796,0.0,0,27.3468,34.3314,2,-999.0000,9,201.84,2,1.29,2,0.09,2,0.00,2,0.09,2,-999.,9,-999.,9,-999.,9,-999,9,-999,9
49UP20160109,RF16-01,5653,1,36,22109,2,20160210,1144,11.9887,149.3177,5796,11.5,11,27.3539,34.3314,2,34.3295,2,201.53,2,1.39,2,0.04,2,0.00,2,0.08,2,-999.,9,-999.,9,-999.,9,-999,9,-999,9
49UP20160109,RF16-01,5653,1,35,22112,2,20160210,1142,11.9887,149.3177,5796,26.5,26,27.3464,34.3306,2,-999.0000,9,201.52,2,1.34,2,0.03,2,0.00,2,0.08,2,-999.,9,-999.,9,-999.,9,-999,9,-999,9
49UP20160109,RF16-01,5653,1,34,22094,2,20160210,1141,11.9887,149.3177,5796,51.3,51,27.2619,34.3231,2,34.3213,2,201.82,2,1.41,2,0.07,2,0.00,2,0.08,2,-999.,9,-999.,9,-999.,9,-999,9,-999,9
49UP20160109,RF16-01,5653,1,33,24469,2,20160210,1139,11.9887,149.3177,5796,75.5,75,27.2355,34.3127,2,34.3126,2,201.77,2,1.39,2,0.02,2,0.00,2,0.08,2,-999.,9,-999.,9,-999.,9,-999,9,-999,9
49UP20160109,RF16-01,5653,1,32,22105,2,20160210,1138,11.9887,149.3177,5796,102.6,102,20.8610,34.9123,2,34.9146,2,186.16,6,3.61,6,1.77,6,0.11,6,0.36,6,-999.,9,-999.,9,-999.,9,-999,9,-999,9
49UP20160109,RF16-01,5653,1,31,23515,2,20160210,1137,11.9887,149.3177,5796,127.2,126,16.8482,34.6868,2,-999.0000,9,165.54,2,7.06,2,8.34,2,0.02,2,0.68,2,-999.,9,-999.,9,-999.,9,-999,9,-999,9
49UP20160109,RF16-01,5653,1,30,22097,2,20160210,1133,11.9887,149.3177,5796,153.5,153,14.2301,34.4509,2,34.4495,2,175.90,2,10.44,2,11.20,2,0.01,2,0.83,2,-999.,9,-999.,9,-999.,9,-999,9,-999,9
49UP20160109,RF16-01,5653,1,29,22102,2,20160210,1132,11.9887,149.3177,5796,203.8,203,11.4935,34.3193,2,34.3220,2,132.55,2,21.71,2,20.00,2,0.00,2,1.49,2,-999.,9,-999.,9,-999.,9,-999,9,-999,9
49UP20160109,RF16-01,5653,1,28,22108,2,20160210,1131,11.9887,149.3177,5796,251.4,250,10.3979,34.3905,2,-999.0000,9,84.89,2,30.33,2,26.92,2,0.00,2,2.00,2,-999.,9,-999.,9,-999.,9,-999,9,-999,9
49UP20160109,RF16-01,5653,1,27,21998,2,20160210,1129,11.9887,149.3177,5796,301.9,300,8.9394,34.4304,2,34.4321,2,56.67,2,40.29,2,32.32,2,0.00,2,2.37,2,-999.,9,-999.,9,-999.,9,-999,9,-999,9
49UP20160109,RF16-01,5653,1,26,22084,2,20160210,1127,11.9887,149.3177,5796,352.5,350,8.2841,34.4951,2,34.4932,2,52.25,2,45.08,2,34.49,2,0.00,2,2.49,2,-999.,9,-999.,9,-999.,9,-999,9,-999,9
49UP20160109,RF16-01,5653,1,25,22098,3,20160210,1126,11.9887,149.3177,5796,404.7,402,7.6846,34.5053,2,34.5054,2,59.43,2,49.40,2,35.10,2,0.00,2,2.52,2,-999.,9,-999.,9,-999.,9,-999,9,-999,9
49UP20160109,RF16-01,5653,1,24,22110,2,20160210,1124,11.9887,149.3177,5796,460.1,457,7.0834,34.4927,2,-999.0000,9,72.68,2,54.21,2,35.19,2,0.00,2,2.51,2,-999.,9,-999.,9,-999.,9,-999,9,-999,9
49UP20160109,RF16-01,5653,1,23,22096,2,20160210,1121,11.9887,149.3177,5796,507.8,504,6.7647,34.4914,2,34.4909,2,74.98,2,57.70,2,35.56,2,0.00,2,2.53,2,-999.,9,-999.,9,-999.,9,-999,9,-999,9
49UP20160109,RF16-01,5653,1,22,22111,2,20160210,1117,11.9887,149.3177,5796,608.9,605,6.1944,34.5040,2,34.5041,2,79.61,2,64.04,2,36.24,2,0.00,2,2.58,2,-999.,9,-999.,9,-999.,9,-999,9,-999,9
49UP20160109,RF16-01,5653,1,21,22078,2,20160210,1114,11.9887,149.3177,5796,709.0,704,5.6676,34.5088,2,-999.0000,9,75.28,2,73.16,2,37.43,2,0.00,2,2.68,2,-999.,9,-999.,9,-999.,9,-999,9,-999,9
49UP20160109,RF16-01,5653,1,20,22093,2,20160210,1111,11.9887,149.3177,5796,808.7,803,5.1577,34.5211,2,34.5206,2,74.98,2,82.03,2,38.23,2,0.00,2,2.73,2,-999.,9,-999.,9,-999.,9,-999,9,-999,9
49UP20160109,RF16-01,5653,1,19,22092,2,20160210,1108,11.9887,149.3177,5796,909.6,902,4.7138,34.5360,2,34.5356,2,77.99,2,89.72,2,38.70,2,0.00,2,2.76,2,-999.,9,-999.,9,-999.,9,-999,9,-999,9
49UP20160109,RF16-01,5653,1,18,22101,2,20160210,1102,11.9887,149.3177,5796,1012.9,1005,4.3304,34.5449,2,34.5437,2,77.84,2,97.55,2,39.14,2,0.00,2,2.79,2,-999.,9,-999.,9,-999.,9,-999,9,-999,9
49UP20160109,RF16-01,5653,1,17,22090,2,20160210,1057,11.9887,149.3177,5796,1214.0,1204,3.4979,34.5686,2,34.5682,2,82.42,2,114.94,2,39.55,2,0.00,2,2.81,2,-999.,9,-999.,9,-999.,9,-999,9,-999,9
49UP20160109,RF16-01,5653,1,16,22089,2,20160210,1051,11.9887,149.3177,5796,1412.9,1400,3.0051,34.5886,2,34.5853,4,90.90,2,124.73,2,39.35,2,0.00,2,2.79,2,-999.,9,-999.,9,-999.,9,-999,9,-999,9
49UP20160109,RF16-01,5653,1,15,22088,2,20160210,1045,11.9887,149.3177,5796,1615.7,1600,2.6378,34.6051,2,34.6051,2,98.02,2,132.14,2,39.09,2,0.00,2,2.76,2,-999.,9,-999.,9,-999.,9,-999,9,-999,9
49UP20160109,RF16-01,5653,1,14,21999,2,20160210,1040,11.9887,149.3177,5796,1820.8,1803,2.2767,34.6248,2,34.6246,2,107.71,2,138.41,2,38.59,2,0.00,2,2.72,2,-999.,9,-999.,9,-999.,9,-999,9,-999,9
49UP20160109,RF16-01,5653,1,13,22667,2,20160210,1034,11.9887,149.3177,5796,2025.2,2004,2.1002,34.6376,2,34.6382,6,114.04,6,140.78,6,38.36,6,0.00,6,2.69,6,-999.,9,-999.,9,-999.,9,-999,9,-999,9
49UP20160109,RF16-01,5653,1,12,22074,2,20160210,1028,11.9887,149.3177,5796,2275.2,2250,1.9483,34.6473,2,34.6475,2,119.35,2,143.30,2,38.06,2,0.00,2,2.66,2,-999.,9,-999.,9,-999.,9,-999,9,-999,9
49UP20160109,RF16-01,5653,1,11,24268,2,20160210,1021,11.9887,149.3177,5796,2529.6,2500,1.8165,34.6563,2,34.6567,2,125.20,2,145.65,2,37.76,2,0.00,2,2.63,2,-999.,9,-999.,9,-999.,9,-999,9,-999,9
49UP20160109,RF16-01,5653,1,10,24267,2,20160210,1015,11.9887,149.3177,5796,2784.1,2750,1.6963,34.6643,2,34.6634,2,131.26,2,146.16,2,37.29,2,0.00,2,2.60,2,-999.,9,-999.,9,-999.,9,-999,9,-999,9
49UP20160109,RF16-01,5653,1,9,23518,2,20160210,1010,11.9887,149.3177,5796,3038.0,2999,1.6225,34.6702,2,34.6698,2,137.01,2,146.86,2,37.03,2,0.00,2,2.57,2,-999.,9,-999.,9,-999.,9,-999,9,-999,9
49UP20160109,RF16-01,5653,1,8,22081,2,20160210,1004,11.9887,149.3177,5796,3296.1,3252,1.5661,34.6750,2,34.6774,4,142.76,2,145.88,2,36.63,2,0.00,2,2.54,2,-999.,9,-999.,9,-999.,9,-999,9,-999,9
49UP20160109,RF16-01,5653,1,7,23516,2,20160210,0959,11.9887,149.3177,5796,3548.2,3499,1.5208,34.6803,2,34.6811,2,148.40,6,144.50,6,36.27,6,0.00,6,2.50,6,-999.,9,-999.,9,-999.,9,-999,9,-999,9
49UP20160109,RF16-01,5653,1,6,22113,2,20160210,0952,11.9887,149.3177,5796,3804.0,3749,1.4999,34.6835,2,34.6839,2,152.88,2,142.99,2,35.94,2,0.00,2,2.48,2,-999.,9,-999.,9,-999.,9,-999,9,-999,9
49UP20160109,RF16-01,5653,1,5,24658,2,20160210,0947,11.9887,149.3177,5796,4061.5,4000,1.4830,34.6868,2,34.6878,2,157.55,2,141.22,2,35.64,2,0.00,2,2.46,2,-999.,9,-999.,9,-999.,9,-999,9,-999,9
49UP20160109,RF16-01,5653,1,4,24471,2,20160210,0936,11.9887,149.3177,5796,4573.3,4499,1.4605,34.6925,2,34.6930,6,167.25,2,136.49,2,34.94,2,0.00,2,2.41,2,-999.,9,-999.,9,-999.,9,-999,9,-999,9
49UP20160109,RF16-01,5653,1,3,22104,2,20160210,0926,11.9887,149.3177,5796,5087.7,4999,1.4735,34.6960,2,34.6963,2,172.88,2,133.73,2,34.54,2,0.00,2,2.37,2,-999.,9,-999.,9,-999.,9,-999,9,-999,9
49UP20160109,RF16-01,5653,1,2,22075,2,20160210,0917,11.9887,149.3177,5796,5602.0,5498,1.5171,34.6976,2,34.6981,2,175.82,2,131.89,2,34.26,2,0.00,2,2.36,2,-999.,9,-999.,9,-999.,9,-999,9,-999,9
49UP20160109,RF16-01,5653,1,1,21997,2,20160210,0910,11.9887,149.3177,5796,5933.8,5820,1.5571,34.6976,2,34.6972,6,175.65,6,131.96,6,34.31,6,0.00,6,2.36,6,-999.,9,-999.,9,-999.,9,-999,9,-999,9