BOTTLE,20171126JMAGEMD
EXPOCODE,SECT_ID,STNNBR,CASTNO,SAMPNO,BTLNBR,BTLNBR_FLAG_W,DATE,TIME,LATITUDE,LONGITUDE,DEPTH,CTDPRS,CTDDEP,CTDTMP,CTDSAL,CTDSAL_FLAG_W,SALNTY,SALNTY_FLAG_W,OXYGEN,OXYGEN_FLAG_W,SILCAT,SILCAT_FLAG_W,NO2+NO3,NO2+NO3_FLAG_W,NITRIT,NITRIT_FLAG_W,PHSPHT,PHSPHT_FLAG_W,TCARBN,TCARBN_FLAG_W,ALKALI,ALKALI_FLAG_W,PH_TOT,PH_TOT_FLAG_W,CFC-11,CFC-11_FLAG_W,CFC-12,CFC-12_FLAG_W
,,,,,,,UTC,UTC,,,METER,DBAR,METERS,ITS-90,PSS-78,,PSS-78,,UMOL/KG,,UMOL/KG,,UMOL/KG,,UMOL/KG,,UMOL/KG,,UMOL/KG,,UMOL/KG,,@25DEG-C,,PMOL/KG,,PMOL/KG,
49UP20160109,RF16-01,5611,1,-999,0,2,20160115,0508,20.9973,137.003,4796,0.0,0,27.1281,34.9311,2,-999.,9,201.27,2,0.94,2,0.01,2,0.00,2,0.02,2,-999.,9,-999.,9,-999.,9,-999,9,-999,9
49UP20160109,RF16-01,5611,1,36,22109,2,20160115,0529,20.9973,137.003,4796,10.8,11,27.1283,34.9309,2,-999.,9,201.26,2,0.90,2,0.00,2,0.00,2,0.02,2,-999.,9,-999.,9,-999.,9,-999,9,-999,9
49UP20160109,RF16-01,5611,1,35,22112,2,20160115,0528,20.9973,137.003,4796,26.1,26,27.1326,34.9306,2,-999.,9,201.32,6,0.94,6,0.01,6,0.00,6,0.02,6,-999.,9,-999.,9,-999.,9,-999,9,-999,9
49UP20160109,RF16-01,5611,1,33,24469,2,20160115,0527,20.9973,137.003,4796,50.8,50,27.1351,34.9310,2,-999.,9,201.11,2,0.94,2,0.01,2,0.00,2,0.01,2,-999.,9,-999.,9,-999.,9,-999,9,-999,9
49UP20160109,RF16-01,5611,1,34,22094,2,20160115,0527,20.9973,137.003,4796,51.3,51,27.1359,34.9310,2,-999.,9,201.09,2,0.93,2,0.00,2,0.00,2,0.02,2,-999.,9,-999.,9,-999.,9,-999,9,-999,9
49UP20160109,RF16-01,5611,1,32,22105,2,20160115,0525,20.9973,137.003,4796,76.4,76,27.0730,34.9514,2,-999.,9,200.95,2,0.94,2,0.00,2,0.00,2,0.02,2,-999.,9,-999.,9,-999.,9,-999,9,-999,9
49UP20160109,RF16-01,5611,1,31,23515,2,20160115,0522,20.9973,137.003,4796,101.1,100,25.6908,35.2284,2,-999.,9,196.25,2,1.07,2,0.04,2,0.03,2,0.05,2,-999.,9,-999.,9,-999.,9,-999,9,-999,9
49UP20160109,RF16-01,5611,1,27,21998,2,20160115,0521,20.9973,137.003,4796,125.6,125,24.0081,35.1839,2,-999.,9,191.80,2,1.22,2,0.44,2,0.09,2,0.08,2,-999.,9,-999.,9,-999.,9,-999,9,-999,9
49UP20160109,RF16-01,5611,1,26,22084,2,20160115,0520,20.9973,137.003,4796,150.9,150,21.6734,35.0387,2,-999.,9,191.81,2,1.73,2,1.10,2,0.02,2,0.11,2,-999.,9,-999.,9,-999.,9,-999,9,-999,9
49UP20160109,RF16-01,5611,1,25,22098,2,20160115,0518,20.9973,137.003,4796,201.5,200,19.7018,34.9044,2,-999.,9,194.69,2,2.38,2,2.54,2,0.01,2,0.18,2,-999.,9,-999.,9,-999.,9,-999,9,-999,9
49UP20160109,RF16-01,5611,1,24,22110,2,20160115,0516,20.9973,137.003,4796,252.1,250,18.1892,34.8008,2,-999.,9,204.77,2,3.13,2,3.46,2,0.01,2,0.24,2,-999.,9,-999.,9,-999.,9,-999,9,-999,9
49UP20160109,RF16-01,5611,1,23,22096,2,20160115,0515,20.9973,137.003,4796,304.4,302,16.9696,34.7086,2,-999.,9,204.43,2,4.46,2,5.14,2,0.01,2,0.34,2,-999.,9,-999.,9,-999.,9,-999,9,-999,9
49UP20160109,RF16-01,5611,1,22,22111,2,20160115,0512,20.9973,137.003,4796,404.3,401,14.4937,34.4986,2,-999.,9,189.23,2,9.93,2,10.15,2,0.00,2,0.70,2,-999.,9,-999.,9,-999.,9,-999,9,-999,9
49UP20160109,RF16-01,5611,1,18,22101,2,20160115,0509,20.9973,137.003,4796,502.9,499,10.8932,34.2581,2,-999.,9,171.01,2,23.20,2,17.96,2,0.00,2,1.26,2,-999.,9,-999.,9,-999.,9,-999,9,-999,9
49UP20160109,RF16-01,5611,1,17,22090,2,20160115,0507,20.9973,137.003,4796,603.9,599,7.9477,34.1410,2,-999.,9,128.54,2,45.20,2,27.20,2,0.00,2,1.93,2,-999.,9,-999.,9,-999.,9,-999,9,-999,9
49UP20160109,RF16-01,5611,1,15,22088,2,20160115,0504,20.9973,137.003,4796,705.4,700,6.0626,34.2006,2,-999.,9,79.89,2,70.96,2,35.02,2,0.00,2,2.51,2,-999.,9,-999.,9,-999.,9,-999,9,-999,9
49UP20160109,RF16-01,5611,1,16,22089,2,20160115,0504,20.9973,137.003,4796,705.8,700,6.0512,34.2009,2,-999.,9,80.20,2,71.03,2,35.05,2,0.00,2,2.51,2,-999.,9,-999.,9,-999.,9,-999,9,-999,9
49UP20160109,RF16-01,5611,1,14,21999,2,20160115,0457,20.9973,137.003,4796,807.1,801,5.1226,34.2968,2,-999.,9,63.46,6,88.38,6,38.23,6,0.00,6,2.73,6,-999.,9,-999.,9,-999.,9,-999,9,-999,9
49UP20160109,RF16-01,5611,1,13,22667,2,20160115,0454,20.9973,137.003,4796,908.4,901,4.5392,34.3848,2,-999.,9,63.43,2,100.03,2,39.13,2,0.00,2,2.79,2,-999.,9,-999.,9,-999.,9,-999,9,-999,9
49UP20160109,RF16-01,5611,1,9,23518,2,20160115,0452,20.9973,137.003,4796,1010.3,1002,4.0305,34.4493,2,-999.,9,66.89,2,109.58,2,39.62,2,0.00,2,2.82,2,-999.,9,-999.,9,-999.,9,-999,9,-999,9
49UP20160109,RF16-01,5611,1,8,22081,2,20160115,0447,20.9973,137.003,4796,1211.8,1201,3.4234,34.5132,2,-999.,9,78.15,2,121.26,2,39.50,2,0.00,2,2.80,2,-999.,9,-999.,9,-999.,9,-999,9,-999,9
49UP20160109,RF16-01,5611,1,7,23516,2,20160115,0440,20.9973,137.003,4796,1415.5,1402,2.8740,34.5478,2,-999.,9,87.23,2,131.47,2,39.31,2,0.00,2,2.77,2,-999.,9,-999.,9,-999.,9,-999,9,-999,9
49UP20160109,RF16-01,5611,1,6,22113,2,20160115,0435,20.9973,137.003,4796,1616.7,1601,2.5772,34.5801,2,-999.,9,98.41,2,135.49,2,38.80,2,0.00,2,2.73,2,-999.,9,-999.,9,-999.,9,-999,9,-999,9
49UP20160109,RF16-01,5611,1,5,24658,2,20160115,0430,20.9973,137.003,4796,1820.1,1801,2.3302,34.6028,2,-999.,9,105.85,2,138.06,2,38.56,2,0.00,2,2.70,2,-999.,9,-999.,9,-999.,9,-999,9,-999,9
49UP20160109,RF16-01,5611,1,4,24471,2,20160115,0423,20.9973,137.003,4796,2026.7,2004,2.1158,34.6200,2,-999.,9,113.42,2,140.45,2,38.27,2,0.00,2,2.67,2,-999.,9,-999.,9,-999.,9,-999,9,-999,9
49UP20160109,RF16-01,5612,1,-999,0,2,20160115,1325,19.9827,137.0093,4744,0.0,0,27.1152,34.9295,2,34.9391,2,201.43,2,1.00,2,0.03,2,0.00,2,0.02,2,1959.1,2,2296.6,2,8.1138,2,-999,9,-999,9
49UP20160109,RF16-01,5612,1,36,22109,2,20160115,1353,19.9827,137.0093,4744,11.0,11,27.1302,34.9295,2,34.9291,2,201.15,2,1.00,2,0.00,2,0.00,2,0.01,2,1958.9,2,2295.8,2,8.1174,2,-999,9,-999,9
49UP20160109,RF16-01,5612,1,35,22112,2,20160115,1352,19.9827,137.0093,4744,26.0,26,27.1042,34.9303,2,34.9301,2,201.52,2,0.95,2,0.00,2,0.00,2,0.02,2,1960.7,2,2296.6,2,8.1138,2,-999,9,-999,9
49UP20160109,RF16-01,5612,1,34,22094,2,20160115,1349,19.9827,137.0093,4744,49.9,50,26.4131,34.9604,2,-999.0000,9,204.19,6,1.06,6,0.01,6,0.00,6,0.02,6,1967.1,2,2296.7,2,8.1071,2,-999,9,-999,9
49UP20160109,RF16-01,5612,1,33,24469,2,20160115,1348,19.9827,137.0093,4744,74.8,74,25.9006,35.0180,2,35.0203,2,205.21,2,1.05,2,0.01,2,0.00,2,0.02,2,1972.6,2,2300.6,2,8.0988,2,-999,9,-999,9
49UP20160109,RF16-01,5612,1,32,22105,2,20160115,1347,19.9827,137.0093,4744,100.2,100,25.2006,35.1964,2,35.1866,2,197.60,2,1.14,2,0.04,2,0.01,2,0.05,2,2002.6,6,2312.7,6,8.0707,2,-999,9,-999,9
49UP20160109,RF16-01,5612,1,31,23515,2,20160115,1346,19.9827,137.0093,4744,124.3,124,22.8100,35.1209,2,-999.0000,9,192.14,2,1.52,2,0.67,2,0.03,2,0.09,2,2020.9,2,2308.6,2,8.0287,6,-999,9,-999,9
49UP20160109,RF16-01,5612,1,30,22097,2,20160115,1345,19.9827,137.0093,4744,150.7,150,21.6002,35.0604,2,-999.0000,9,189.07,2,1.82,2,1.41,2,0.02,2,0.14,2,2033.5,2,2304.3,2,8.0046,2,-999,9,-999,9
49UP20160109,RF16-01,5612,1,29,22102,2,20160115,1343,19.9827,137.0093,4744,203.3,202,18.9964,34.8639,2,34.8595,2,193.59,2,2.92,2,3.32,2,0.01,2,0.24,2,2039.2,2,2289.3,2,7.9639,2,-999,9,-999,9
49UP20160109,RF16-01,5612,1,28,22108,2,20160115,1342,19.9827,137.0093,4744,251.8,250,17.5598,34.7603,2,34.7586,2,208.26,2,3.46,2,3.91,2,0.01,2,0.27,2,2034.5,2,2283.5,2,7.9630,2,-999,9,-999,9
49UP20160109,RF16-01,5612,1,27,21998,2,20160115,1340,19.9827,137.0093,4744,303.2,301,16.7229,34.7054,2,34.7085,2,210.71,6,4.50,6,4.98,6,0.01,6,0.33,6,2046.8,2,2280.9,2,7.9482,2,-999,9,-999,9
49UP20160109,RF16-01,5612,1,26,22084,2,20160115,1338,19.9827,137.0093,4744,353.9,351,15.8004,34.6181,2,-999.0000,9,199.96,2,7.10,2,7.40,2,0.00,2,0.50,2,2060.2,2,2276.3,2,7.9117,2,-999,9,-999,9
49UP20160109,RF16-01,5612,1,25,22098,2,20160115,1337,19.9827,137.0093,4744,404.2,401,14.0544,34.4846,2,34.4856,2,191.61,2,12.11,2,11.00,2,0.00,2,0.75,2,2083.0,2,2274.9,2,7.8498,2,-999,9,-999,9
49UP20160109,RF16-01,5612,1,24,22110,2,20160115,1335,19.9827,137.0093,4744,455.9,453,11.9964,34.3281,2,34.3308,2,177.02,2,18.07,2,15.33,2,0.00,2,1.08,2,2116.5,6,2271.2,6,7.7720,2,-999,9,-999,9
49UP20160109,RF16-01,5612,1,23,22096,2,20160115,1333,19.9827,137.0093,4744,502.9,499,10.3733,34.2302,2,-999.0000,9,164.61,2,26.18,2,19.49,2,0.00,2,1.37,2,2147.3,2,2273.8,2,7.7062,6,-999,9,-999,9
49UP20160109,RF16-01,5612,1,22,22111,2,20160115,1331,19.9827,137.0093,4744,604.3,600,7.6109,34.1434,2,34.1432,2,116.66,2,49.06,2,28.97,2,0.00,2,2.07,2,2225.9,2,2290.0,2,7.5521,2,-999,9,-999,9
49UP20160109,RF16-01,5612,1,21,22078,2,20160115,1328,19.9827,137.0093,4744,705.2,700,5.9548,34.1722,2,-999.0000,9,84.02,2,71.93,2,34.82,2,0.00,2,2.49,2,2266.5,2,2311.8,2,7.4653,2,-999,9,-999,9
49UP20160109,RF16-01,5612,1,20,22093,2,20160115,1324,19.9827,137.0093,4744,807.9,801,5.0622,34.2531,2,34.2527,2,64.14,2,88.57,2,38.18,2,0.00,2,2.73,2,2295.3,2,2332.3,2,7.4239,2,-999,9,-999,9
49UP20160109,RF16-01,5612,1,19,22092,2,20160115,1319,19.9827,137.0093,4744,909.0,901,4.3726,34.3801,2,34.3789,2,61.04,2,102.85,2,39.60,2,0.00,2,2.82,2,2321.2,2,2353.7,2,7.4245,2,-999,9,-999,9
49UP20160109,RF16-01,5612,1,18,22101,2,20160115,1317,19.9827,137.0093,4744,1008.9,1000,3.9208,34.4473,2,34.4477,2,65.72,2,111.89,2,39.90,2,0.00,2,2.83,2,2327.2,2,2369.4,2,7.4362,2,-999,9,-999,9
49UP20160109,RF16-01,5612,1,17,22090,2,20160115,1312,19.9827,137.0093,4744,1209.9,1199,3.3294,34.5205,2,34.5203,2,79.19,2,122.58,2,39.55,2,0.00,2,2.79,2,2337.9,2,2385.1,2,7.4640,2,-999,9,-999,9
49UP20160109,RF16-01,5612,1,16,22089,2,20160115,1307,19.9827,137.0093,4744,1412.7,1399,2.7953,34.5594,2,34.5595,2,90.26,2,132.17,2,39.26,2,0.00,2,2.76,2,2342.2,2,2398.2,2,7.4846,2,-999,9,-999,9
49UP20160109,RF16-01,5612,1,15,22088,2,20160115,1301,19.9827,137.0093,4744,1615.7,1600,2.5631,34.5831,2,34.5843,2,98.14,2,135.02,2,38.96,2,0.00,2,2.73,2,2347.0,2,2404.1,2,7.4976,2,-999,9,-999,9
49UP20160109,RF16-01,5612,1,14,21999,2,20160115,1257,19.9827,137.0093,4744,1818.5,1800,2.2824,34.6061,2,34.6060,2,106.25,2,138.71,2,38.64,2,0.00,2,2.70,2,2344.5,2,2408.1,2,7.5132,2,-999,9,-999,9
49UP20160109,RF16-01,5612,1,13,22667,2,20160115,1251,19.9827,137.0093,4744,2023.3,2001,2.0740,34.6227,2,34.6228,2,113.51,2,141.30,2,38.34,2,0.00,2,2.67,2,2342.8,2,2411.8,2,7.5223,2,-999,9,-999,9
49UP20160109,RF16-01,5612,1,12,22074,2,20160115,1245,19.9827,137.0093,4744,2275.4,2249,1.9013,34.6377,2,34.6375,2,121.08,2,143.02,2,37.97,2,0.00,2,2.64,2,2342.2,2,2415.2,2,7.5326,2,-999,9,-999,9
49UP20160109,RF16-01,5612,1,11,24268,2,20160115,1239,19.9827,137.0093,4744,2530.9,2500,1.7759,34.6500,2,34.6502,2,128.43,2,143.57,2,37.57,2,0.00,2,2.60,2,2338.6,2,2417.2,6,7.5453,2,-999,9,-999,9
49UP20160109,RF16-01,5612,1,10,24267,2,20160115,1231,19.9827,137.0093,4744,2783.7,2749,1.6959,34.6586,2,34.6587,2,134.33,2,143.33,2,37.15,2,0.00,2,2.57,2,2339.0,2,2417.5,2,7.5560,6,-999,9,-999,9
49UP20160109,RF16-01,5612,1,9,23518,2,20160115,1226,19.9827,137.0093,4744,3039.3,2999,1.6312,34.6661,2,34.6666,2,140.02,2,142.88,2,36.78,2,0.00,2,2.55,2,2339.2,2,2416.6,2,7.5663,2,-999,9,-999,9
49UP20160109,RF16-01,5612,1,8,22081,2,20160115,1219,19.9827,137.0093,4744,3295.1,3250,1.5960,34.6713,2,34.6708,2,144.35,6,142.40,6,36.55,6,0.00,6,2.52,6,2333.2,2,2417.3,2,7.5694,2,-999,9,-999,9
49UP20160109,RF16-01,5612,1,7,23516,2,20160115,1213,19.9827,137.0093,4744,3550.3,3499,1.5665,34.6757,2,34.6769,6,148.41,2,141.66,2,36.32,2,0.00,2,2.50,2,2331.9,2,2418.1,2,7.5767,2,-999,9,-999,9
49UP20160109,RF16-01,5612,1,6,22113,2,20160115,1207,19.9827,137.0093,4744,3808.5,3752,1.5516,34.6790,2,34.6791,2,151.63,2,141.04,2,36.07,2,0.00,2,2.48,2,2328.4,2,2416.8,2,7.5816,2,-999,9,-999,9
49UP20160109,RF16-01,5612,1,5,24658,2,20160115,1200,19.9827,137.0093,4744,4062.6,4000,1.5255,34.6833,2,34.6835,2,155.73,2,139.97,2,35.80,2,0.00,2,2.46,2,2335.1,3,2414.8,2,7.5875,2,-999,9,-999,9
49UP20160109,RF16-01,5612,1,4,24471,2,20160115,1154,19.9827,137.0093,4744,4320.2,4251,1.5221,34.6858,2,34.6856,2,158.61,2,139.27,2,35.60,2,0.00,2,2.45,2,2324.3,2,2413.3,2,7.5913,2,-999,9,-999,9
49UP20160109,RF16-01,5612,1,3,22104,2,20160115,1147,19.9827,137.0093,4744,4576.9,4501,1.5450,34.6863,2,34.6875,6,159.05,6,139.22,6,35.59,6,0.00,6,2.44,6,2320.5,2,2413.0,2,7.5921,2,-999,9,-999,9
49UP20160109,RF16-01,5612,1,2,22075,2,20160115,1142,19.9827,137.0093,4744,4859.0,4775,1.5752,34.6865,2,34.6874,2,159.43,2,138.98,2,35.53,2,0.00,2,2.44,2,2319.9,2,2411.7,2,7.5917,2,-999,9,-999,9
49UP20160109,RF16-01,5612,1,1,21997,2,20160115,1141,19.9827,137.0093,4744,4859.2,4775,1.5751,34.6864,2,34.6869,2,159.65,2,139.15,2,35.56,2,0.00,2,2.45,2,2323.8,2,2413.3,2,7.5905,2,-999,9,-999,9
49UP20160109,RF16-01,5613,1,-999,0,2,20160115,2245,19.0133,137.,4732,0.0,0,27.6452,34.8612,2,-999.,9,200.35,2,0.99,2,0.00,2,0.00,2,0.03,2,-999.,9,-999.,9,-999.,9,-999,9,-999,9
49UP20160109,RF16-01,5613,1,33,24469,2,20160115,2308,19.0133,137.,4732,10.0,10,27.6435,34.8614,2,-999.,9,200.09,6,0.97,6,0.00,6,0.00,6,0.03,6,-999.,9,-999.,9,-999.,9,-999,9,-999,9
49UP20160109,RF16-01,5613,1,32,22105,2,20160115,2307,19.0133,137.,4732,25.5,25,27.6508,34.8613,2,-999.,9,200.25,2,0.96,2,0.01,2,0.00,2,0.03,2,-999.,9,-999.,9,-999.,9,-999,9,-999,9
49UP20160109,RF16-01,5613,1,31,23515,2,20160115,2304,19.0133,137.,4732,49.5,49,27.6571,34.8643,2,-999.,9,200.22,2,1.00,2,0.01,2,0.00,2,0.03,2,-999.,9,-999.,9,-999.,9,-999,9,-999,9
49UP20160109,RF16-01,5613,1,30,22097,2,20160115,2303,19.0133,137.,4732,75.6,75,27.6373,34.9112,2,-999.,9,200.99,2,1.01,2,0.00,2,0.00,2,0.04,2,-999.,9,-999.,9,-999.,9,-999,9,-999,9
49UP20160109,RF16-01,5613,1,29,22102,2,20160115,2302,19.0133,137.,4732,101.2,101,25.9863,35.2307,2,-999.,9,203.15,2,1.15,2,0.01,2,0.00,2,0.06,2,-999.,9,-999.,9,-999.,9,-999,9,-999,9
49UP20160109,RF16-01,5613,1,28,22108,2,20160115,2301,19.0133,137.,4732,125.5,125,24.6164,35.2849,2,-999.,9,196.16,2,1.28,2,0.10,2,0.09,2,0.09,2,-999.,9,-999.,9,-999.,9,-999,9,-999,9
49UP20160109,RF16-01,5613,1,25,22098,2,20160115,2300,19.0133,137.,4732,151.3,150,23.0275,35.2610,2,-999.,9,186.90,2,1.56,2,0.60,2,0.04,2,0.12,2,-999.,9,-999.,9,-999.,9,-999,9,-999,9
49UP20160109,RF16-01,5613,1,24,22110,2,20160115,2258,19.0133,137.,4732,202.3,201,19.8559,34.9674,2,-999.,9,186.79,2,2.64,2,2.99,2,0.01,2,0.23,2,-999.,9,-999.,9,-999.,9,-999,9,-999,9
49UP20160109,RF16-01,5613,1,22,22111,2,20160115,2256,19.0133,137.,4732,252.2,251,17.6178,34.7657,2,-999.,9,193.89,2,4.01,2,4.87,2,0.01,2,0.35,2,-999.,9,-999.,9,-999.,9,-999,9,-999,9
49UP20160109,RF16-01,5613,1,23,22096,2,20160115,2256,19.0133,137.,4732,252.7,251,17.6071,34.7652,2,-999.,9,194.05,2,4.03,2,4.88,2,0.01,2,0.35,2,-999.,9,-999.,9,-999.,9,-999,9,-999,9
49UP20160109,RF16-01,5613,1,21,22078,2,20160115,2255,19.0133,137.,4732,304.4,302,15.5121,34.5811,2,-999.,9,188.43,2,7.78,2,8.57,2,0.00,2,0.61,2,-999.,9,-999.,9,-999.,9,-999,9,-999,9
49UP20160109,RF16-01,5613,1,20,22093,2,20160115,2253,19.0133,137.,4732,356.5,354,13.4655,34.4197,2,-999.,9,186.91,2,12.02,2,11.76,2,0.00,2,0.83,2,-999.,9,-999.,9,-999.,9,-999,9,-999,9
49UP20160109,RF16-01,5613,1,19,22092,2,20160115,2251,19.0133,137.,4732,404.8,402,11.7163,34.2982,2,-999.,9,176.94,2,18.04,2,15.71,2,0.00,2,1.11,2,-999.,9,-999.,9,-999.,9,-999,9,-999,9
49UP20160109,RF16-01,5613,1,15,22088,2,20160115,2249,19.0133,137.,4732,454.7,451,10.4893,34.2367,2,-999.,9,159.89,2,25.16,2,19.62,2,0.00,2,1.40,2,-999.,9,-999.,9,-999.,9,-999,9,-999,9
49UP20160109,RF16-01,5613,1,14,21999,2,20160115,2248,19.0133,137.,4732,505.7,502,8.9988,34.1752,2,-999.,9,142.39,2,35.67,2,24.01,2,0.00,2,1.71,2,-999.,9,-999.,9,-999.,9,-999,9,-999,9
49UP20160109,RF16-01,5613,1,13,22667,2,20160115,2245,19.0133,137.,4732,606.4,602,7.0695,34.2534,2,-999.,9,82.58,2,57.82,2,33.18,2,0.00,2,2.39,2,-999.,9,-999.,9,-999.,9,-999,9,-999,9
49UP20160109,RF16-01,5613,1,12,22074,2,20160115,2241,19.0133,137.,4732,706.0,701,5.6711,34.3292,2,-999.,9,67.49,2,79.18,2,37.08,2,0.00,2,2.66,2,-999.,9,-999.,9,-999.,9,-999,9,-999,9
49UP20160109,RF16-01,5613,1,11,24268,2,20160115,2238,19.0133,137.,4732,807.7,801,5.1405,34.3790,2,-999.,9,68.16,2,89.14,2,37.91,2,0.00,2,2.71,2,-999.,9,-999.,9,-999.,9,-999,9,-999,9
49UP20160109,RF16-01,5613,1,10,24267,2,20160115,2236,19.0133,137.,4732,909.0,902,4.4789,34.4390,2,-999.,9,70.38,2,101.07,2,38.76,2,0.00,2,2.76,2,-999.,9,-999.,9,-999.,9,-999,9,-999,9
49UP20160109,RF16-01,5613,1,7,23516,2,20160115,2233,19.0133,137.,4732,1010.0,1001,3.9007,34.4910,2,-999.,9,76.33,2,111.61,2,38.99,2,0.00,2,2.77,2,-999.,9,-999.,9,-999.,9,-999,9,-999,9
49UP20160109,RF16-01,5613,1,6,22113,2,20160115,2229,19.0133,137.,4732,1210.9,1200,3.3595,34.5371,2,-999.,9,87.12,2,121.85,2,38.79,2,0.00,2,2.75,2,-999.,9,-999.,9,-999.,9,-999,9,-999,9
49UP20160109,RF16-01,5613,1,5,24658,2,20160115,2223,19.0133,137.,4732,1413.8,1400,2.9019,34.5699,2,-999.,9,95.42,6,129.35,6,38.67,6,0.00,6,2.73,6,-999.,9,-999.,9,-999.,9,-999,9,-999,9
49UP20160109,RF16-01,5613,1,4,24471,2,20160115,2219,19.0133,137.,4732,1616.6,1601,2.5159,34.5948,2,-999.,9,102.11,2,135.16,2,38.64,2,0.00,2,2.72,2,-999.,9,-999.,9,-999.,9,-999,9,-999,9
49UP20160109,RF16-01,5613,1,2,22075,2,20160115,2214,19.0133,137.,4732,1819.9,1801,2.2885,34.6102,2,-999.,9,107.09,2,138.63,2,38.55,2,0.00,2,2.70,2,-999.,9,-999.,9,-999.,9,-999,9,-999,9
49UP20160109,RF16-01,5613,1,3,22104,2,20160115,2214,19.0133,137.,4732,1820.1,1801,2.2886,34.6102,2,-999.,9,106.64,2,138.83,2,38.59,2,0.00,2,2.70,2,-999.,9,-999.,9,-999.,9,-999,9,-999,9
49UP20160109,RF16-01,5613,1,1,21997,2,20160115,2208,19.0133,137.,4732,2023.5,2002,2.1100,34.6206,2,-999.,9,111.88,2,141.43,2,38.33,2,0.00,2,2.68,2,-999.,9,-999.,9,-999.,9,-999,9,-999,9