BOTTLE,20171126JMAGEMD
EXPOCODE,SECT_ID,STNNBR,CASTNO,SAMPNO,BTLNBR,BTLNBR_FLAG_W,DATE,TIME,LATITUDE,LONGITUDE,DEPTH,CTDPRS,CTDDEP,CTDTMP,CTDSAL,CTDSAL_FLAG_W,SALNTY,SALNTY_FLAG_W,OXYGEN,OXYGEN_FLAG_W,SILCAT,SILCAT_FLAG_W,NO2+NO3,NO2+NO3_FLAG_W,NITRIT,NITRIT_FLAG_W,PHSPHT,PHSPHT_FLAG_W,TCARBN,TCARBN_FLAG_W,ALKALI,ALKALI_FLAG_W,PH_TOT,PH_TOT_FLAG_W,CFC-11,CFC-11_FLAG_W,CFC-12,CFC-12_FLAG_W
,,,,,,,UTC,UTC,,,METER,DBAR,METERS,ITS-90,PSS-78,,PSS-78,,UMOL/KG,,UMOL/KG,,UMOL/KG,,UMOL/KG,,UMOL/KG,,UMOL/KG,,UMOL/KG,,@25DEG-C,,PMOL/KG,,PMOL/KG,
49UP20160109,RF16-01,5620,1,-999,0,2,20160118,1027,11.9942,136.9857,4938,0.0,0,27.8321,34.4782,2,-999.,9,200.17,2,1.07,2,0.00,2,0.00,2,0.06,2,-999.,9,-999.,9,-999.,9,-999,9,-999,9
49UP20160109,RF16-01,5620,1,36,22109,2,20160118,1054,11.9942,136.9857,4938,11.9,12,27.8284,34.4759,2,-999.,9,199.94,2,1.08,2,0.00,2,0.00,2,0.04,2,-999.,9,-999.,9,-999.,9,-999,9,-999,9
49UP20160109,RF16-01,5620,1,35,22112,2,20160118,1053,11.9942,136.9857,4938,25.9,26,27.7285,34.4726,2,-999.,9,200.43,6,1.07,6,0.01,6,0.00,6,0.04,6,-999.,9,-999.,9,-999.,9,-999,9,-999,9
49UP20160109,RF16-01,5620,1,34,22094,2,20160118,1049,11.9942,136.9857,4938,51.0,51,27.8107,34.6983,2,-999.,9,200.39,2,0.97,2,0.00,2,0.00,2,0.04,2,-999.,9,-999.,9,-999.,9,-999,9,-999,9
49UP20160109,RF16-01,5620,1,32,22105,2,20160118,1048,11.9942,136.9857,4938,78.0,78,27.8356,34.7470,2,-999.,9,200.24,2,0.98,2,0.00,2,0.00,2,0.04,2,-999.,9,-999.,9,-999.,9,-999,9,-999,9
49UP20160109,RF16-01,5620,1,33,24469,2,20160118,1048,11.9942,136.9857,4938,78.5,78,27.8366,34.7483,2,-999.,9,200.40,2,0.98,2,0.00,2,0.00,2,0.03,2,-999.,9,-999.,9,-999.,9,-999,9,-999,9
49UP20160109,RF16-01,5620,1,31,23515,2,20160118,1047,11.9942,136.9857,4938,102.1,101,26.9172,35.0523,2,-999.,9,203.87,2,1.07,2,0.00,2,0.00,2,0.05,2,-999.,9,-999.,9,-999.,9,-999,9,-999,9
49UP20160109,RF16-01,5620,1,28,22108,2,20160118,1046,11.9942,136.9857,4938,126.2,125,24.0534,35.2887,2,-999.,9,192.61,2,1.42,2,0.00,2,0.00,2,0.11,2,-999.,9,-999.,9,-999.,9,-999,9,-999,9
49UP20160109,RF16-01,5620,1,27,21998,2,20160118,1045,11.9942,136.9857,4938,151.0,150,21.4947,35.1521,2,-999.,9,176.84,2,2.76,2,2.41,2,0.04,2,0.30,2,-999.,9,-999.,9,-999.,9,-999,9,-999,9
49UP20160109,RF16-01,5620,1,26,22084,2,20160118,1043,11.9942,136.9857,4938,202.3,201,16.0500,34.6353,2,-999.,9,166.11,2,8.45,2,9.63,2,0.01,2,0.74,2,-999.,9,-999.,9,-999.,9,-999,9,-999,9
49UP20160109,RF16-01,5620,1,25,22098,2,20160118,1042,11.9942,136.9857,4938,252.1,251,13.2150,34.4315,2,-999.,9,151.65,2,16.04,2,15.55,2,0.01,2,1.15,2,-999.,9,-999.,9,-999.,9,-999,9,-999,9
49UP20160109,RF16-01,5620,1,24,22110,2,20160118,1040,11.9942,136.9857,4938,303.3,301,10.0528,34.3113,2,-999.,9,114.53,2,30.67,2,24.42,2,0.00,2,1.79,2,-999.,9,-999.,9,-999.,9,-999,9,-999,9
49UP20160109,RF16-01,5620,1,23,22096,2,20160118,1038,11.9942,136.9857,4938,354.2,352,8.8997,34.3554,2,-999.,9,86.02,2,40.16,2,29.63,2,0.00,2,2.15,2,-999.,9,-999.,9,-999.,9,-999,9,-999,9
49UP20160109,RF16-01,5620,1,22,22111,2,20160118,1037,11.9942,136.9857,4938,403.9,401,7.8225,34.4106,2,-999.,9,72.26,2,49.75,2,33.26,2,0.00,2,2.39,2,-999.,9,-999.,9,-999.,9,-999,9,-999,9
49UP20160109,RF16-01,5620,1,18,22101,2,20160118,1035,11.9942,136.9857,4938,453.5,450,7.0847,34.4269,2,-999.,9,73.16,2,56.95,2,34.67,2,0.00,2,2.48,2,-999.,9,-999.,9,-999.,9,-999,9,-999,9
49UP20160109,RF16-01,5620,1,17,22090,2,20160118,1033,11.9942,136.9857,4938,506.5,503,6.7473,34.4420,2,-999.,9,76.36,2,60.19,2,35.12,2,0.00,2,2.50,2,-999.,9,-999.,9,-999.,9,-999,9,-999,9
49UP20160109,RF16-01,5620,1,16,22089,2,20160118,1030,11.9942,136.9857,4938,605.8,601,6.2347,34.4811,2,-999.,9,82.14,2,64.27,2,35.80,2,0.00,2,2.55,2,-999.,9,-999.,9,-999.,9,-999,9,-999,9
49UP20160109,RF16-01,5620,1,15,22088,2,20160118,1025,11.9942,136.9857,4938,707.6,702,5.7131,34.5072,2,-999.,9,80.50,2,71.16,2,36.98,2,0.00,2,2.63,2,-999.,9,-999.,9,-999.,9,-999,9,-999,9
49UP20160109,RF16-01,5620,1,14,21999,2,20160118,1020,11.9942,136.9857,4938,809.4,803,5.2464,34.5225,2,-999.,9,80.22,2,79.04,2,37.81,2,0.00,2,2.69,2,-999.,9,-999.,9,-999.,9,-999,9,-999,9
49UP20160109,RF16-01,5620,1,13,22667,2,20160118,1017,11.9942,136.9857,4938,909.7,903,4.7611,34.5321,2,-999.,9,79.89,2,88.72,2,38.45,2,0.00,2,2.74,2,-999.,9,-999.,9,-999.,9,-999,9,-999,9
49UP20160109,RF16-01,5620,1,10,24267,2,20160118,1014,11.9942,136.9857,4938,1009.3,1001,4.3071,34.5440,2,-999.,9,82.78,6,97.73,6,38.75,6,0.00,6,2.76,6,-999.,9,-999.,9,-999.,9,-999,9,-999,9
49UP20160109,RF16-01,5620,1,9,23518,2,20160118,1010,11.9942,136.9857,4938,1211.1,1201,3.6807,34.5624,2,-999.,9,88.20,2,110.35,2,38.87,2,0.00,2,2.76,2,-999.,9,-999.,9,-999.,9,-999,9,-999,9
49UP20160109,RF16-01,5620,1,8,22081,2,20160118,1000,11.9942,136.9857,4938,1414.9,1402,3.1251,34.5838,2,-999.,9,92.97,2,121.80,2,39.13,2,0.00,2,2.77,2,-999.,9,-999.,9,-999.,9,-999,9,-999,9
49UP20160109,RF16-01,5620,1,7,23516,2,20160118,1000,11.9942,136.9857,4938,1415.1,1402,3.1249,34.5837,2,-999.,9,93.12,2,121.49,2,39.08,2,0.00,2,2.76,2,-999.,9,-999.,9,-999.,9,-999,9,-999,9
49UP20160109,RF16-01,5620,1,6,22113,2,20160118,0956,11.9942,136.9857,4938,1617.7,1602,2.7480,34.5997,2,-999.,9,98.33,2,129.26,2,39.03,2,0.00,2,2.75,2,-999.,9,-999.,9,-999.,9,-999,9,-999,9
49UP20160109,RF16-01,5620,1,5,24658,2,20160118,0951,11.9942,136.9857,4938,1819.7,1801,2.4778,34.6137,2,-999.,9,104.90,2,134.08,2,38.73,2,0.00,2,2.72,2,-999.,9,-999.,9,-999.,9,-999,9,-999,9
49UP20160109,RF16-01,5620,1,4,24471,2,20160118,0944,11.9942,136.9857,4938,2021.6,2000,2.2099,34.6284,2,-999.,9,112.81,2,138.35,2,38.34,2,0.00,2,2.69,2,-999.,9,-999.,9,-999.,9,-999,9,-999,9
49UP20160109,RF16-01,5621,1,-999,0,2,20160118,1749,10.9903,136.991,4877,0.0,0,28.1080,34.3746,2,-999.,9,198.98,2,1.15,2,0.02,2,0.00,2,0.04,2,-999.,9,-999.,9,-999.,9,-999,9,-999,9
49UP20160109,RF16-01,5621,1,36,22109,2,20160118,1809,10.9903,136.991,4877,10.7,11,28.1086,34.3738,2,-999.,9,199.04,6,1.17,6,0.01,6,0.00,6,0.04,6,-999.,9,-999.,9,-999.,9,-999,9,-999,9
49UP20160109,RF16-01,5621,1,35,22112,2,20160118,1808,10.9903,136.991,4877,26.5,26,28.1147,34.3736,2,-999.,9,199.01,2,1.16,2,0.00,2,0.00,2,0.03,2,-999.,9,-999.,9,-999.,9,-999,9,-999,9
49UP20160109,RF16-01,5621,1,34,22094,2,20160118,1804,10.9903,136.991,4877,50.5,50,28.0946,34.3712,2,-999.,9,199.61,2,1.18,2,0.01,2,0.00,2,0.05,2,-999.,9,-999.,9,-999.,9,-999,9,-999,9
49UP20160109,RF16-01,5621,1,30,22097,2,20160118,1803,10.9903,136.991,4877,75.5,75,24.1683,35.1547,2,-999.,9,202.42,2,1.69,2,0.00,2,0.00,2,0.14,2,-999.,9,-999.,9,-999.,9,-999,9,-999,9
49UP20160109,RF16-01,5621,1,28,22108,2,20160118,1802,10.9903,136.991,4877,101.1,101,22.1293,35.1318,2,-999.,9,186.86,2,2.48,2,0.94,2,0.05,2,0.22,2,-999.,9,-999.,9,-999.,9,-999,9,-999,9
49UP20160109,RF16-01,5621,1,29,22102,2,20160118,1802,10.9903,136.991,4877,102.1,101,21.9466,35.1264,2,-999.,9,187.20,2,2.48,2,0.93,2,0.05,2,0.22,2,-999.,9,-999.,9,-999.,9,-999,9,-999,9
49UP20160109,RF16-01,5621,1,27,21998,2,20160118,1801,10.9903,136.991,4877,127.0,126,19.5673,34.9537,2,-999.,9,173.15,2,4.24,2,4.66,2,0.06,2,0.43,2,-999.,9,-999.,9,-999.,9,-999,9,-999,9
49UP20160109,RF16-01,5621,1,26,22084,2,20160118,1759,10.9903,136.991,4877,154.0,153,17.5953,34.7749,2,-999.,9,174.22,2,5.72,2,6.73,2,0.03,2,0.53,2,-999.,9,-999.,9,-999.,9,-999,9,-999,9
49UP20160109,RF16-01,5621,1,25,22098,2,20160118,1757,10.9903,136.991,4877,203.8,203,13.5908,34.4536,2,-999.,9,157.41,2,14.31,2,14.25,2,0.01,2,1.05,2,-999.,9,-999.,9,-999.,9,-999,9,-999,9
49UP20160109,RF16-01,5621,1,22,22111,2,20160118,1755,10.9903,136.991,4877,254.7,253,10.1096,34.3751,2,-999.,9,102.12,2,31.35,2,25.79,2,0.00,2,1.88,2,-999.,9,-999.,9,-999.,9,-999,9,-999,9
49UP20160109,RF16-01,5621,1,21,22078,2,20160118,1753,10.9903,136.991,4877,303.8,302,9.0436,34.3687,2,-999.,9,86.16,2,38.92,2,29.35,2,0.00,2,2.13,2,-999.,9,-999.,9,-999.,9,-999,9,-999,9
49UP20160109,RF16-01,5621,1,20,22093,2,20160118,1751,10.9903,136.991,4877,354.6,352,8.8392,34.4610,2,-999.,9,75.43,2,40.48,2,31.35,2,0.00,2,2.24,2,-999.,9,-999.,9,-999.,9,-999,9,-999,9
49UP20160109,RF16-01,5621,1,19,22092,2,20160118,1749,10.9903,136.991,4877,405.4,403,8.3547,34.4866,2,-999.,9,74.89,2,43.45,2,32.52,2,0.00,2,2.31,2,-999.,9,-999.,9,-999.,9,-999,9,-999,9
49UP20160109,RF16-01,5621,1,18,22101,4,20160118,1747,10.9903,136.991,4877,456.0,453,7.6976,34.4960,2,-999.,9,74.73,4,43.44,4,32.51,4,0.00,4,2.32,4,-999.,9,-999.,9,-999.,9,-999,9,-999,9
49UP20160109,RF16-01,5621,1,16,22089,2,20160118,1745,10.9903,136.991,4877,505.5,502,7.3066,34.4924,2,-999.,9,84.14,2,50.58,2,33.83,2,0.00,2,2.40,2,-999.,9,-999.,9,-999.,9,-999,9,-999,9
49UP20160109,RF16-01,5621,1,17,22090,2,20160118,1745,10.9903,136.991,4877,505.9,502,7.3011,34.4924,2,-999.,9,83.99,2,50.79,2,33.83,2,0.00,2,2.40,2,-999.,9,-999.,9,-999.,9,-999,9,-999,9
49UP20160109,RF16-01,5621,1,12,22074,2,20160118,1738,10.9903,136.991,4877,605.9,602,6.5137,34.5015,2,-999.,9,88.33,2,58.38,2,35.02,2,0.00,2,2.48,2,-999.,9,-999.,9,-999.,9,-999,9,-999,9
49UP20160109,RF16-01,5621,1,11,24268,2,20160118,1734,10.9903,136.991,4877,706.0,701,5.9248,34.5138,2,-999.,9,85.14,2,66.61,2,36.34,2,0.00,2,2.58,2,-999.,9,-999.,9,-999.,9,-999,9,-999,9
49UP20160109,RF16-01,5621,1,10,24267,2,20160118,1732,10.9903,136.991,4877,806.7,801,5.4754,34.5244,2,-999.,9,83.31,2,74.14,2,37.22,2,0.00,2,2.65,2,-999.,9,-999.,9,-999.,9,-999,9,-999,9
49UP20160109,RF16-01,5621,1,9,23518,2,20160118,1729,10.9903,136.991,4877,908.2,901,5.0404,34.5329,2,-999.,9,82.48,2,82.45,2,37.94,2,0.00,2,2.69,2,-999.,9,-999.,9,-999.,9,-999,9,-999,9
49UP20160109,RF16-01,5621,1,8,22081,2,20160118,1727,10.9903,136.991,4877,1008.6,1000,4.6089,34.5432,2,-999.,9,83.32,2,90.71,2,38.39,2,0.00,2,2.73,2,-999.,9,-999.,9,-999.,9,-999,9,-999,9
49UP20160109,RF16-01,5621,1,7,23516,2,20160118,1723,10.9903,136.991,4877,1210.0,1200,3.7999,34.5624,2,-999.,9,86.01,2,107.61,2,39.02,2,0.00,2,2.77,2,-999.,9,-999.,9,-999.,9,-999,9,-999,9
49UP20160109,RF16-01,5621,1,4,24471,2,20160118,1715,10.9903,136.991,4877,1411.1,1398,3.1888,34.5818,2,-999.,9,93.08,2,119.94,2,38.92,2,0.00,2,2.75,2,-999.,9,-999.,9,-999.,9,-999,9,-999,9
49UP20160109,RF16-01,5621,1,3,22104,2,20160118,1711,10.9903,136.991,4877,1614.8,1599,2.7654,34.6016,2,-999.,9,100.10,2,127.75,2,38.81,2,0.00,2,2.73,2,-999.,9,-999.,9,-999.,9,-999,9,-999,9
49UP20160109,RF16-01,5621,1,2,22075,2,20160118,1707,10.9903,136.991,4877,1818.2,1800,2.4332,34.6172,2,-999.,9,107.15,2,133.88,2,38.53,2,0.00,2,2.70,2,-999.,9,-999.,9,-999.,9,-999,9,-999,9
49UP20160109,RF16-01,5621,1,1,21997,2,20160118,1701,10.9903,136.991,4877,2023.3,2002,2.1520,34.6335,2,-999.,9,114.79,2,138.61,2,38.21,2,0.00,2,2.67,2,-999.,9,-999.,9,-999.,9,-999,9,-999,9
49UP20160109,RF16-01,5622,1,-999,0,2,20160119,0150,9.999,136.9933,4897,0.0,0,28.1647,34.4844,2,34.4896,2,198.93,2,1.19,2,0.06,2,0.00,2,0.06,2,1941.5,2,2265.5,2,8.1057,2,-999,9,-999,9
49UP20160109,RF16-01,5622,1,36,22109,2,20160119,0227,9.999,136.9933,4897,11.1,11,28.1542,34.4840,2,34.4851,2,198.87,2,1.19,2,0.04,2,0.00,2,0.05,2,1940.3,2,2267.5,2,8.1059,2,-999,9,-999,9
49UP20160109,RF16-01,5622,1,35,22112,2,20160119,0226,9.999,136.9933,4897,25.6,25,28.0975,34.4858,2,-999.0000,9,198.84,2,1.17,2,0.03,2,0.00,2,0.05,2,1941.9,2,2265.8,2,8.1072,2,-999,9,-999,9
49UP20160109,RF16-01,5622,1,34,22094,2,20160119,0223,9.999,136.9933,4897,50.4,50,27.9421,34.5330,2,34.5335,2,199.66,2,1.18,2,0.04,2,0.00,2,0.06,2,1944.0,2,2270.7,2,8.1066,2,-999,9,-999,9
49UP20160109,RF16-01,5622,1,33,24469,2,20160119,0222,9.999,136.9933,4897,73.3,73,25.0190,35.0833,2,35.0705,2,205.39,2,1.55,2,0.04,2,0.00,2,0.13,2,2005.0,2,2310.5,2,8.0567,2,-999,9,-999,9
49UP20160109,RF16-01,5622,1,32,22105,2,20160119,0221,9.999,136.9933,4897,97.7,97,21.1806,35.0866,2,35.0975,2,184.19,6,2.86,6,1.75,6,0.06,6,0.27,6,2057.6,2,2310.3,2,7.9751,2,-999,9,-999,9
49UP20160109,RF16-01,5622,1,31,23515,2,20160119,0219,9.999,136.9933,4897,124.7,124,19.1446,34.9166,2,-999.0000,9,182.03,2,3.84,2,3.94,2,0.10,2,0.35,2,2058.7,2,2298.8,2,7.9403,2,-999,9,-999,9
49UP20160109,RF16-01,5622,1,30,22097,2,20160119,0218,9.999,136.9933,4897,151.5,151,16.5730,34.6977,2,34.7032,2,167.69,2,8.11,2,9.05,2,0.04,2,0.68,2,2093.9,2,2285.2,2,7.8629,2,-999,9,-999,9
49UP20160109,RF16-01,5622,1,29,22102,2,20160119,0216,9.999,136.9933,4897,203.1,202,12.6477,34.5085,2,34.5114,2,111.73,2,21.80,2,20.80,2,0.01,2,1.51,2,2165.7,6,2284.0,6,7.6800,2,-999,9,-999,9
49UP20160109,RF16-01,5622,1,28,22108,2,20160119,0214,9.999,136.9933,4897,251.5,250,11.1675,34.4961,2,-999.0000,9,97.16,2,28.38,2,25.05,2,0.00,2,1.81,2,2200.9,2,2290.1,2,7.6193,6,-999,9,-999,9
49UP20160109,RF16-01,5622,1,27,21998,2,20160119,0212,9.999,136.9933,4897,302.4,300,10.0083,34.4745,2,34.4864,4,89.10,2,33.24,2,27.68,2,0.00,2,1.99,2,2210.7,2,2294.5,2,7.5837,2,-999,9,-999,9
49UP20160109,RF16-01,5622,1,26,22084,2,20160119,0209,9.999,136.9933,4897,353.9,352,8.5997,34.4543,2,34.4556,2,84.61,2,42.30,2,30.95,2,0.00,2,2.21,2,2235.9,2,2303.5,2,7.5424,2,-999,9,-999,9
49UP20160109,RF16-01,5622,1,25,22098,2,20160119,0207,9.999,136.9933,4897,403.8,401,7.8288,34.4612,2,34.4620,2,88.79,2,47.15,2,32.16,2,0.00,2,2.29,2,2240.8,2,2309.1,2,7.5364,2,-999,9,-999,9
49UP20160109,RF16-01,5622,1,24,22110,2,20160119,0205,9.999,136.9933,4897,453.7,451,7.4192,34.4940,2,-999.0000,9,99.79,2,47.27,2,32.23,2,0.00,2,2.28,2,2240.7,2,2313.6,2,7.5464,2,-999,9,-999,9
49UP20160109,RF16-01,5622,1,23,22096,2,20160119,0201,9.999,136.9933,4897,509.1,506,6.9527,34.4977,2,34.4967,6,104.27,2,50.23,2,32.75,2,0.00,2,2.31,2,2246.6,2,2316.8,2,7.5510,2,-999,9,-999,9
49UP20160109,RF16-01,5622,1,22,22111,2,20160119,0155,9.999,136.9933,4897,605.9,602,6.5647,34.5148,2,34.5145,2,106.85,2,52.57,2,33.46,2,0.00,2,2.36,2,2255.0,2,2321.3,2,7.5519,2,-999,9,-999,9
49UP20160109,RF16-01,5622,1,21,22078,2,20160119,0151,9.999,136.9933,4897,706.8,702,5.9395,34.5252,2,-999.0000,9,104.24,2,60.72,2,34.87,2,0.00,2,2.47,2,2261.0,2,2331.0,2,7.5396,2,-999,9,-999,9
49UP20160109,RF16-01,5622,1,20,22093,2,20160119,0147,9.999,136.9933,4897,806.7,801,5.4044,34.5276,2,34.5267,2,97.21,2,71.57,2,36.18,2,0.00,2,2.56,2,2278.2,2,2341.4,2,7.5221,2,-999,9,-999,9
49UP20160109,RF16-01,5622,1,19,22092,2,20160119,0141,9.999,136.9933,4897,909.6,902,4.9842,34.5306,2,-999.0000,9,89.58,2,82.69,2,37.28,2,0.00,2,2.65,2,2292.2,2,2350.3,2,7.5041,2,-999,9,-999,9
49UP20160109,RF16-01,5622,1,18,22101,2,20160119,0136,9.999,136.9933,4897,1008.5,1000,4.5905,34.5450,2,34.5461,6,90.59,2,89.82,2,37.68,2,0.00,2,2.68,2,2304.7,2,2359.0,2,7.5048,2,-999,9,-999,9
49UP20160109,RF16-01,5622,1,17,22090,2,20160119,0130,9.999,136.9933,4897,1213.0,1203,3.7728,34.5650,2,34.5669,2,91.40,2,107.00,2,38.49,2,0.00,2,2.73,2,2321.6,6,2376.7,6,7.5009,2,-999,9,-999,9
49UP20160109,RF16-01,5622,1,16,22089,2,20160119,0124,9.999,136.9933,4897,1413.9,1401,3.2228,34.5888,2,34.5893,2,97.78,2,116.78,2,38.62,2,0.00,2,2.73,2,2329.3,2,2388.0,2,7.5072,6,-999,9,-999,9
49UP20160109,RF16-01,5622,1,15,22088,2,20160119,0119,9.999,136.9933,4897,1614.5,1599,2.7664,34.6030,2,34.6053,2,101.25,2,127.48,2,38.70,2,0.00,2,2.73,2,2337.2,2,2397.3,2,7.5089,2,-999,9,-999,9
49UP20160109,RF16-01,5622,1,14,21999,2,20160119,0115,9.999,136.9933,4897,1815.4,1797,2.4803,34.6186,2,34.6201,2,108.40,2,132.13,2,38.42,2,0.00,2,2.70,2,2342.1,2,2404.2,2,7.5207,2,-999,9,-999,9
49UP20160109,RF16-01,5622,1,13,22667,2,20160119,0111,9.999,136.9933,4897,2022.0,2001,2.2340,34.6326,2,34.6330,2,115.01,2,135.99,2,38.10,2,0.00,2,2.67,2,2344.5,2,2409.1,2,7.5288,2,-999,9,-999,9
49UP20160109,RF16-01,5622,1,12,22074,2,20160119,0105,9.999,136.9933,4897,2271.3,2246,2.0134,34.6445,2,34.6439,2,122.03,6,139.53,6,37.77,6,0.00,6,2.64,6,2340.9,2,2412.5,2,7.5399,2,-999,9,-999,9
49UP20160109,RF16-01,5622,1,11,24268,2,20160119,0101,9.999,136.9933,4897,2526.9,2498,1.8175,34.6559,2,34.6553,6,129.73,2,141.76,2,37.35,2,0.00,2,2.60,2,2346.4,2,2415.3,2,7.5504,2,-999,9,-999,9
49UP20160109,RF16-01,5622,1,10,24267,2,20160119,0057,9.999,136.9933,4897,2782.8,2749,1.6896,34.6641,2,34.6643,2,136.63,2,142.63,2,36.87,2,0.00,2,2.56,2,2336.5,2,2415.9,2,7.5593,2,-999,9,-999,9
49UP20160109,RF16-01,5622,1,9,23518,2,20160119,0051,9.999,136.9933,4897,3036.6,2998,1.6020,34.6712,2,34.6714,2,143.63,2,142.15,2,36.43,2,0.00,2,2.53,2,2335.3,6,2416.3,6,7.5721,2,-999,9,-999,9
49UP20160109,RF16-01,5622,1,8,22081,2,20160119,0046,9.999,136.9933,4897,3293.0,3249,1.5586,34.6751,2,34.6782,4,146.82,2,142.39,2,36.24,2,0.00,2,2.51,2,2332.3,2,2417.3,2,7.5745,6,-999,9,-999,9
49UP20160109,RF16-01,5622,1,7,23516,2,20160119,0042,9.999,136.9933,4897,3549.2,3500,1.5416,34.6783,2,34.6786,2,150.52,2,141.40,2,36.04,2,0.00,2,2.49,2,2329.2,2,2415.8,2,7.5794,2,-999,9,-999,9
49UP20160109,RF16-01,5622,1,6,22113,2,20160119,0036,9.999,136.9933,4897,3804.6,3749,1.5380,34.6805,2,34.6803,2,152.88,2,140.67,2,35.83,2,0.00,2,2.48,2,2327.5,2,2415.2,2,7.5856,2,-999,9,-999,9
49UP20160109,RF16-01,5622,1,5,24658,2,20160119,0032,9.999,136.9933,4897,4060.4,3999,1.5373,34.6826,2,34.6831,2,155.19,6,140.10,6,35.67,6,0.00,6,2.46,6,2338.3,3,2413.3,2,7.5853,2,-999,9,-999,9
49UP20160109,RF16-01,5622,1,4,24471,2,20160119,0028,9.999,136.9933,4897,4313.9,4246,1.5401,34.6845,2,34.6844,2,157.83,2,139.28,2,35.51,2,0.00,2,2.45,2,2322.3,2,2412.0,2,7.5906,2,-999,9,-999,9
49UP20160109,RF16-01,5622,1,3,22104,3,20160119,0023,9.999,136.9933,4897,4572.4,4498,1.5475,34.6860,2,34.6855,2,159.10,2,138.57,2,35.38,2,0.00,2,2.45,2,2328.2,2,2410.9,2,7.5906,2,-999,9,-999,9
49UP20160109,RF16-01,5622,1,2,22075,2,20160119,0018,9.999,136.9933,4897,4830.9,4750,1.5718,34.6867,2,34.6871,2,160.39,2,138.17,2,35.30,2,0.00,2,2.43,2,2319.6,2,2410.9,2,7.5937,2,-999,9,-999,9
49UP20160109,RF16-01,5622,1,1,21997,2,20160119,0014,9.999,136.9933,4897,5011.5,4925,1.5933,34.6867,2,34.6864,2,160.27,6,138.56,6,35.37,6,0.00,6,2.44,6,2331.4,3,2411.6,2,7.5915,2,-999,9,-999,9