BOTTLE,20171126JMAGEMD
EXPOCODE,SECT_ID,STNNBR,CASTNO,SAMPNO,BTLNBR,BTLNBR_FLAG_W,DATE,TIME,LATITUDE,LONGITUDE,DEPTH,CTDPRS,CTDDEP,CTDTMP,CTDSAL,CTDSAL_FLAG_W,SALNTY,SALNTY_FLAG_W,OXYGEN,OXYGEN_FLAG_W,SILCAT,SILCAT_FLAG_W,NO2+NO3,NO2+NO3_FLAG_W,NITRIT,NITRIT_FLAG_W,PHSPHT,PHSPHT_FLAG_W,TCARBN,TCARBN_FLAG_W,ALKALI,ALKALI_FLAG_W,PH_TOT,PH_TOT_FLAG_W,CFC-11,CFC-11_FLAG_W,CFC-12,CFC-12_FLAG_W
,,,,,,,UTC,UTC,,,METER,DBAR,METERS,ITS-90,PSS-78,,PSS-78,,UMOL/KG,,UMOL/KG,,UMOL/KG,,UMOL/KG,,UMOL/KG,,UMOL/KG,,UMOL/KG,,@25DEG-C,,PMOL/KG,,PMOL/KG,
49UP20160109,RF16-01,5591,1,-999,0,2,20160110,0255,34.0003,137.0003,1145,0.0,0,17.5485,34.7329,2,34.7428,2,224.28,2,6.71,2,4.37,2,0.32,2,0.32,2,2028.6,2,2287.6,2,7.9857,2,-999,9,-999,9
49UP20160109,RF16-01,5591,1,36,22109,2,20160110,0320,34.0003,137.0003,1145,10.9,11,17.5499,34.7331,2,34.7327,2,224.06,2,6.57,2,4.22,2,0.31,2,0.31,2,2040.6,2,2288.1,2,7.9863,2,-999,9,-999,9
49UP20160109,RF16-01,5591,1,35,22112,2,20160110,0319,34.0003,137.0003,1145,26.5,26,17.5523,34.7323,2,-999.0000,9,223.63,2,6.56,2,4.23,2,0.31,2,0.31,2,2027.5,2,2287.8,2,7.9850,2,-999,9,-999,9
49UP20160109,RF16-01,5591,1,34,22094,2,20160110,0315,34.0003,137.0003,1145,51.1,51,17.5419,34.7297,2,34.7291,2,222.66,2,6.65,2,4.32,2,0.32,2,0.31,2,2039.4,2,2288.1,2,7.9875,2,-999,9,-999,9
49UP20160109,RF16-01,5591,1,27,21998,3,20160110,0314,34.0003,137.0003,1145,75.4,75,17.5267,34.7267,2,-999.0000,9,222.45,2,6.64,2,4.32,2,0.32,2,0.31,2,2044.2,2,2285.4,2,7.9828,2,-999,9,-999,9
49UP20160109,RF16-01,5591,1,26,22084,2,20160110,0312,34.0003,137.0003,1145,101.4,101,17.5032,34.7205,2,34.7213,2,220.98,6,6.87,6,4.48,6,0.32,6,0.33,6,2031.6,2,2285.3,2,7.9807,2,-999,9,-999,9
49UP20160109,RF16-01,5591,1,25,22098,2,20160110,0311,34.0003,137.0003,1145,126.7,126,16.0023,34.5966,2,34.5936,2,179.22,2,15.03,2,10.22,2,0.02,2,0.72,2,2081.2,2,2283.2,2,7.8837,2,-999,9,-999,9
49UP20160109,RF16-01,5591,1,20,22093,2,20160110,0310,34.0003,137.0003,1145,151.8,151,14.8790,34.5594,2,-999.0000,9,173.24,2,17.72,2,11.95,2,0.02,2,0.84,2,2095.0,6,2283.2,6,7.8528,2,-999,9,-999,9
49UP20160109,RF16-01,5591,1,19,22092,2,20160110,0308,34.0003,137.0003,1145,202.9,201,13.4784,34.4915,2,34.5091,4,163.07,2,25.47,2,15.24,2,0.01,2,1.08,2,2127.0,2,2284.4,2,7.8036,6,-999,9,-999,9
49UP20160109,RF16-01,5591,1,17,22090,2,20160110,0306,34.0003,137.0003,1145,252.6,251,12.3197,34.4386,2,34.4384,2,154.29,2,30.28,2,17.71,2,0.01,2,1.25,2,2135.4,2,2287.0,2,7.7602,2,-999,9,-999,9
49UP20160109,RF16-01,5591,1,18,22101,2,20160110,0306,34.0003,137.0003,1145,252.9,251,12.3074,34.4382,2,34.4386,2,154.69,2,30.22,2,17.69,2,0.01,2,1.25,2,2146.3,2,2288.3,2,7.7609,2,-999,9,-999,9
49UP20160109,RF16-01,5591,1,16,22089,2,20160110,0304,34.0003,137.0003,1145,303.0,301,11.2493,34.3859,2,34.3855,2,148.83,2,34.96,2,19.92,2,0.01,2,1.41,2,2163.8,2,2291.1,2,7.7213,2,-999,9,-999,9
49UP20160109,RF16-01,5591,1,12,22074,2,20160110,0301,34.0003,137.0003,1145,403.6,400,9.1299,34.3016,2,34.3005,2,129.43,2,49.94,2,25.31,2,0.01,2,1.81,2,2197.1,2,2300.1,2,7.6354,2,-999,9,-999,9
49UP20160109,RF16-01,5591,1,11,24268,2,20160110,0259,34.0003,137.0003,1145,503.8,500,6.7242,34.2581,2,34.2598,2,101.18,2,72.43,2,31.84,2,0.01,2,2.28,2,2251.8,2,2315.4,2,7.5314,2,-999,9,-999,9
49UP20160109,RF16-01,5591,1,10,24267,2,20160110,0256,34.0003,137.0003,1145,605.6,600,5.6263,34.2634,2,34.2644,2,85.49,2,86.60,2,35.10,2,0.01,2,2.52,2,2285.6,2,2329.3,2,7.4804,2,-999,9,-999,9
49UP20160109,RF16-01,5591,1,9,23518,2,20160110,0253,34.0003,137.0003,1145,706.5,700,4.6700,34.3049,2,34.3046,2,70.76,2,101.92,2,37.94,2,0.01,2,2.71,2,2323.2,3,2343.6,2,7.4409,2,-999,9,-999,9
49UP20160109,RF16-01,5591,1,8,22081,2,20160110,0248,34.0003,137.0003,1145,807.1,800,4.1107,34.3446,2,34.3446,6,63.88,2,112.43,2,39.35,2,0.01,2,2.81,2,2325.3,6,2356.2,6,7.4239,2,-999,9,-999,9
49UP20160109,RF16-01,5591,1,7,23516,2,20160110,0245,34.0003,137.0003,1145,908.9,900,3.6648,34.3846,2,34.3850,2,61.01,2,121.34,2,40.20,2,0.01,2,2.86,2,2338.6,2,2365.8,2,7.4149,6,-999,9,-999,9
49UP20160109,RF16-01,5591,1,3,22104,2,20160110,0242,34.0003,137.0003,1145,1009.2,1000,3.2838,34.4242,2,34.4241,2,60.25,6,129.25,6,40.62,6,0.01,6,2.90,6,2350.8,2,2376.9,2,7.4156,2,-999,9,-999,9
49UP20160109,RF16-01,5591,1,1,21997,2,20160110,0239,34.0003,137.0003,1145,1120.1,1109,3.0384,34.4547,2,34.4541,6,63.13,2,134.17,2,40.76,2,0.01,2,2.90,2,2349.7,2,2380.8,2,7.4196,2,-999,9,-999,9
49UP20160109,RF16-01,5591,1,2,22075,2,20160110,0239,34.0003,137.0003,1145,1120.4,1109,3.0352,34.4550,2,34.4539,2,63.46,2,134.12,2,40.74,2,0.01,2,2.90,2,2351.1,2,2382.4,2,7.4164,2,-999,9,-999,9
49UP20160109,RF16-01,5594,1,-999,0,2,20160110,1440,32.946,137.0083,4137,0.0,0,21.7516,34.8838,2,-999.,9,214.93,2,1.58,2,0.36,2,0.14,2,0.05,2,-999.,9,-999.,9,-999.,9,-999,9,-999,9
49UP20160109,RF16-01,5594,1,33,24469,2,20160110,1512,32.946,137.0083,4137,10.8,11,21.7731,34.8833,2,-999.,9,214.26,2,1.60,2,0.33,2,0.14,2,0.05,2,-999.,9,-999.,9,-999.,9,-999,9,-999,9
49UP20160109,RF16-01,5594,1,32,22105,2,20160110,1511,32.946,137.0083,4137,25.5,25,21.7759,34.8832,2,-999.,9,214.43,2,1.59,2,0.32,2,0.14,2,0.05,2,-999.,9,-999.,9,-999.,9,-999,9,-999,9
49UP20160109,RF16-01,5594,1,31,23515,2,20160110,1508,32.946,137.0083,4137,51.1,51,21.7587,34.8817,2,-999.,9,214.52,2,1.59,2,0.32,2,0.14,2,0.05,2,-999.,9,-999.,9,-999.,9,-999,9,-999,9
49UP20160109,RF16-01,5594,1,30,22097,2,20160110,1507,32.946,137.0083,4137,75.6,75,21.6431,34.8759,2,-999.,9,215.10,2,1.59,2,0.33,2,0.15,2,0.05,2,-999.,9,-999.,9,-999.,9,-999,9,-999,9
49UP20160109,RF16-01,5594,1,29,22102,2,20160110,1506,32.946,137.0083,4137,100.7,100,21.5841,34.8727,2,-999.,9,215.07,2,1.55,2,0.27,2,0.12,2,0.05,2,-999.,9,-999.,9,-999.,9,-999,9,-999,9
49UP20160109,RF16-01,5594,1,28,22108,2,20160110,1504,32.946,137.0083,4137,126.6,126,20.2818,34.8804,2,-999.,9,191.87,2,2.96,2,2.93,2,0.02,2,0.23,2,-999.,9,-999.,9,-999.,9,-999,9,-999,9
49UP20160109,RF16-01,5594,1,24,22110,2,20160110,1503,32.946,137.0083,4137,151.3,150,18.8715,34.8218,2,-999.,9,199.98,2,3.16,2,3.25,2,0.01,2,0.24,2,-999.,9,-999.,9,-999.,9,-999,9,-999,9
49UP20160109,RF16-01,5594,1,23,22096,2,20160110,1501,32.946,137.0083,4137,202.6,201,17.5501,34.7558,2,-999.,9,205.64,6,3.82,6,4.23,6,0.01,6,0.29,6,-999.,9,-999.,9,-999.,9,-999,9,-999,9
49UP20160109,RF16-01,5594,1,22,22111,2,20160110,1459,32.946,137.0083,4137,253.5,252,16.9116,34.7144,2,-999.,9,206.76,2,4.69,2,5.12,2,0.01,2,0.35,2,-999.,9,-999.,9,-999.,9,-999,9,-999,9
49UP20160109,RF16-01,5594,1,21,22078,2,20160110,1455,32.946,137.0083,4137,303.2,301,16.2765,34.6609,2,-999.,9,200.34,2,6.59,2,6.71,2,0.00,2,0.46,2,-999.,9,-999.,9,-999.,9,-999,9,-999,9
49UP20160109,RF16-01,5594,1,20,22093,2,20160110,1455,32.946,137.0083,4137,303.8,301,16.2661,34.6601,2,-999.,9,200.23,2,6.55,2,6.74,2,0.01,2,0.46,2,-999.,9,-999.,9,-999.,9,-999,9,-999,9
49UP20160109,RF16-01,5594,1,19,22092,2,20160110,1452,32.946,137.0083,4137,403.1,400,13.2022,34.4680,2,-999.,9,167.00,2,21.92,2,14.85,2,0.00,2,1.05,2,-999.,9,-999.,9,-999.,9,-999,9,-999,9
49UP20160109,RF16-01,5594,1,15,22088,2,20160110,1449,32.946,137.0083,4137,505.1,501,9.7177,34.2274,2,-999.,9,159.14,2,35.08,2,21.40,2,0.00,2,1.52,2,-999.,9,-999.,9,-999.,9,-999,9,-999,9
49UP20160109,RF16-01,5594,1,14,21999,2,20160110,1447,32.946,137.0083,4137,606.9,602,7.6623,34.1972,2,-999.,9,125.57,2,55.62,2,27.96,2,0.00,2,2.00,2,-999.,9,-999.,9,-999.,9,-999,9,-999,9
49UP20160109,RF16-01,5594,1,13,22667,2,20160110,1444,32.946,137.0083,4137,706.4,700,5.6007,34.2731,2,-999.,9,85.77,2,87.05,2,34.94,2,0.00,2,2.51,2,-999.,9,-999.,9,-999.,9,-999,9,-999,9
49UP20160109,RF16-01,5594,1,12,22074,3,20160110,1437,32.946,137.0083,4137,808.6,801,4.2721,34.3029,2,-999.,9,63.36,2,107.29,2,38.97,2,0.00,2,2.79,2,-999.,9,-999.,9,-999.,9,-999,9,-999,9
49UP20160109,RF16-01,5594,1,11,24268,2,20160110,1433,32.946,137.0083,4137,910.2,902,3.8097,34.3742,2,-999.,9,61.20,2,117.61,2,39.86,2,0.00,2,2.85,2,-999.,9,-999.,9,-999.,9,-999,9,-999,9
49UP20160109,RF16-01,5594,1,10,24267,3,20160110,1430,32.946,137.0083,4137,1010.1,1001,3.3643,34.4157,2,-999.,9,60.40,2,127.59,2,40.51,2,0.00,2,2.89,2,-999.,9,-999.,9,-999.,9,-999,9,-999,9
49UP20160109,RF16-01,5594,1,6,22113,2,20160110,1425,32.946,137.0083,4137,1212.3,1200,2.9155,34.4701,2,-999.,9,64.91,2,136.48,2,40.72,2,0.00,2,2.89,2,-999.,9,-999.,9,-999.,9,-999,9,-999,9
49UP20160109,RF16-01,5594,1,5,24658,2,20160110,1415,32.946,137.0083,4137,1416.7,1402,2.5551,34.5198,2,-999.,9,75.71,2,141.97,2,40.33,2,0.00,2,2.86,2,-999.,9,-999.,9,-999.,9,-999,9,-999,9
49UP20160109,RF16-01,5594,1,4,24471,2,20160110,1410,32.946,137.0083,4137,1617.9,1600,2.3367,34.5514,2,-999.,9,85.42,2,144.27,2,39.87,2,0.00,2,2.82,2,-999.,9,-999.,9,-999.,9,-999,9,-999,9
49UP20160109,RF16-01,5594,1,3,22104,2,20160110,1409,32.946,137.0083,4137,1618.3,1601,2.3360,34.5515,2,-999.,9,85.26,2,144.23,2,39.88,2,0.00,2,2.82,2,-999.,9,-999.,9,-999.,9,-999,9,-999,9
49UP20160109,RF16-01,5594,1,2,22075,2,20160110,1405,32.946,137.0083,4137,1819.6,1799,2.1284,34.5819,2,-999.,9,97.29,2,145.81,2,39.22,2,0.00,2,2.76,2,-999.,9,-999.,9,-999.,9,-999,9,-999,9
49UP20160109,RF16-01,5594,1,1,21997,2,20160110,1359,32.946,137.0083,4137,2025.5,2002,1.9800,34.6042,2,-999.,9,106.55,6,146.07,6,38.77,6,0.00,6,2.72,6,-999.,9,-999.,9,-999.,9,-999,9,-999,9
49UP20160109,RF16-01,5597,1,-999,0,2,20160111,0045,31.9885,137.0258,4135,0.0,0,21.3133,34.8640,2,-999.0000,9,217.98,2,1.64,2,0.18,2,0.06,2,0.04,2,-999.,9,-999.,9,-999.,9,-999,9,-999,9
49UP20160109,RF16-01,5597,1,33,24469,2,20160111,0109,31.9885,137.0258,4135,10.4,10,21.3154,34.8651,2,34.8640,2,217.98,2,1.53,2,0.10,2,0.05,2,0.03,2,-999.,9,-999.,9,-999.,9,-999,9,-999,9
49UP20160109,RF16-01,5597,1,32,22105,2,20160111,0108,31.9885,137.0258,4135,25.6,25,21.3193,34.8635,2,34.8629,2,217.80,2,1.56,2,0.13,2,0.05,2,0.03,2,-999.,9,-999.,9,-999.,9,-999,9,-999,9
49UP20160109,RF16-01,5597,1,31,23515,2,20160111,0105,31.9885,137.0258,4135,49.2,49,21.3202,34.8633,2,-999.0000,9,217.37,2,1.56,2,0.13,2,0.05,2,0.03,2,-999.,9,-999.,9,-999.,9,-999,9,-999,9
49UP20160109,RF16-01,5597,1,30,22097,2,20160111,0104,31.9885,137.0258,4135,74.1,74,21.3111,34.8625,2,34.8630,2,217.35,2,1.52,2,0.15,2,0.06,2,0.03,2,-999.,9,-999.,9,-999.,9,-999,9,-999,9
49UP20160109,RF16-01,5597,1,29,22102,2,20160111,0103,31.9885,137.0258,4135,104.2,103,21.3183,34.8627,2,34.8619,2,217.34,2,1.57,2,0.14,2,0.06,2,0.03,2,-999.,9,-999.,9,-999.,9,-999,9,-999,9
49UP20160109,RF16-01,5597,1,28,22108,2,20160111,0101,31.9885,137.0258,4135,125.7,125,21.1852,34.8578,2,-999.0000,9,214.36,2,1.66,2,0.49,2,0.08,2,0.06,2,-999.,9,-999.,9,-999.,9,-999,9,-999,9
49UP20160109,RF16-01,5597,1,24,22110,2,20160111,0100,31.9885,137.0258,4135,150.1,149,20.2679,34.8511,2,34.8515,2,203.11,6,2.31,6,1.88,6,0.05,6,0.14,6,-999.,9,-999.,9,-999.,9,-999,9,-999,9
49UP20160109,RF16-01,5597,1,23,22096,2,20160111,0058,31.9885,137.0258,4135,202.0,200,18.8239,34.8181,2,34.8176,2,198.85,2,3.05,2,3.36,2,0.01,2,0.23,2,-999.,9,-999.,9,-999.,9,-999,9,-999,9
49UP20160109,RF16-01,5597,1,22,22111,2,20160111,0057,31.9885,137.0258,4135,251.0,249,18.2675,34.8076,2,34.8075,2,204.65,2,3.14,2,3.44,2,0.01,2,0.23,2,-999.,9,-999.,9,-999.,9,-999,9,-999,9
49UP20160109,RF16-01,5597,1,21,22078,2,20160111,0055,31.9885,137.0258,4135,300.8,298,17.6487,34.7605,2,34.7599,2,204.62,2,3.82,2,4.27,2,0.01,2,0.28,2,-999.,9,-999.,9,-999.,9,-999,9,-999,9
49UP20160109,RF16-01,5597,1,19,22092,2,20160111,0052,31.9885,137.0258,4135,403.9,401,16.6309,34.6919,2,34.7204,4,205.43,2,4.67,2,5.09,2,0.01,3,0.34,2,-999.,9,-999.,9,-999.,9,-999,9,-999,9
49UP20160109,RF16-01,5597,1,20,22093,2,20160111,0052,31.9885,137.0258,4135,404.4,401,16.6092,34.6901,2,34.6929,2,205.39,2,5.36,3,5.72,3,0.00,3,0.38,3,-999.,9,-999.,9,-999.,9,-999,9,-999,9
49UP20160109,RF16-01,5597,1,15,22088,2,20160111,0049,31.9885,137.0258,4135,504.0,500,14.9414,34.5523,2,34.5518,2,185.87,2,10.92,2,10.25,2,0.00,2,0.69,2,-999.,9,-999.,9,-999.,9,-999,9,-999,9
49UP20160109,RF16-01,5597,1,14,21999,2,20160111,0046,31.9885,137.0258,4135,606.6,601,12.2154,34.3808,2,34.3850,2,169.96,2,21.82,2,16.02,2,0.00,2,1.11,2,-999.,9,-999.,9,-999.,9,-999,9,-999,9
49UP20160109,RF16-01,5597,1,13,22667,2,20160111,0041,31.9885,137.0258,4135,706.0,700,9.2676,34.2227,2,34.2274,2,148.66,6,39.43,6,23.04,6,0.00,6,1.63,6,-999.,9,-999.,9,-999.,9,-999,9,-999,9
49UP20160109,RF16-01,5597,1,12,22074,2,20160111,0038,31.9885,137.0258,4135,807.3,800,7.2928,34.1956,2,34.1952,2,118.88,2,60.03,2,29.28,2,0.00,2,2.09,2,-999.,9,-999.,9,-999.,9,-999,9,-999,9
49UP20160109,RF16-01,5597,1,11,24268,2,20160111,0035,31.9885,137.0258,4135,908.1,900,5.9779,34.2284,2,34.2340,4,92.02,2,78.88,2,33.88,2,0.00,2,2.42,2,-999.,9,-999.,9,-999.,9,-999,9,-999,9
49UP20160109,RF16-01,5597,1,10,24267,2,20160111,0032,31.9885,137.0258,4135,1012.3,1003,4.7911,34.2881,2,34.2881,2,72.27,2,98.60,2,37.50,2,0.00,2,2.67,2,-999.,9,-999.,9,-999.,9,-999,9,-999,9
49UP20160109,RF16-01,5597,1,6,22113,2,20160111,0027,31.9885,137.0258,4135,1213.8,1202,3.6134,34.3925,2,34.3929,6,60.84,2,122.40,2,40.13,2,0.00,2,2.85,2,-999.,9,-999.,9,-999.,9,-999,9,-999,9
49UP20160109,RF16-01,5597,1,4,24471,2,20160111,0021,31.9885,137.0258,4135,1415.8,1401,3.0527,34.4572,2,34.4571,2,63.46,2,133.75,2,40.66,2,0.00,2,2.88,2,-999.,9,-999.,9,-999.,9,-999,9,-999,9
49UP20160109,RF16-01,5597,1,5,24658,2,20160111,0021,31.9885,137.0258,4135,1416.8,1402,3.0506,34.4577,2,34.4571,2,63.61,2,133.65,2,40.64,2,0.00,2,2.89,2,-999.,9,-999.,9,-999.,9,-999,9,-999,9
49UP20160109,RF16-01,5597,1,3,22104,2,20160111,0016,31.9885,137.0258,4135,1618.4,1601,2.6501,34.5094,2,34.5096,2,71.55,2,140.96,2,40.51,2,0.00,2,2.86,2,-999.,9,-999.,9,-999.,9,-999,9,-999,9
49UP20160109,RF16-01,5597,1,2,22075,2,20160111,0012,31.9885,137.0258,4135,1819.6,1799,2.3729,34.5476,2,34.5483,6,82.59,2,144.16,2,40.05,2,0.00,2,2.82,2,-999.,9,-999.,9,-999.,9,-999,9,-999,9
49UP20160109,RF16-01,5597,1,1,21997,2,20160111,0007,31.9885,137.0258,4135,2026.3,2002,2.1596,34.5790,2,34.5792,6,94.22,2,146.14,2,39.43,2,0.00,2,2.76,2,-999.,9,-999.,9,-999.,9,-999,9,-999,9
49UP20160109,RF16-01,5600,1,-999,0,2,20160111,1027,30.9855,136.9885,4297,0.0,0,20.5194,34.8583,2,-999.,9,221.31,2,1.61,2,0.30,2,0.10,2,0.05,2,-999.,9,-999.,9,-999.,9,-999,9,-999,9
49UP20160109,RF16-01,5600,1,33,24469,3,20160111,1050,30.9855,136.9885,4297,11.1,11,20.5249,34.8583,2,-999.,9,221.09,6,1.56,6,0.26,6,0.09,6,0.04,6,-999.,9,-999.,9,-999.,9,-999,9,-999,9
49UP20160109,RF16-01,5600,1,32,22105,2,20160111,1049,30.9855,136.9885,4297,25.6,25,20.5267,34.8582,2,-999.,9,220.96,2,1.54,2,0.25,2,0.09,2,0.03,2,-999.,9,-999.,9,-999.,9,-999,9,-999,9
49UP20160109,RF16-01,5600,1,31,23515,2,20160111,1045,30.9855,136.9885,4297,49.8,49,20.5173,34.8571,2,-999.,9,220.39,2,1.54,2,0.25,2,0.11,2,0.04,2,-999.,9,-999.,9,-999.,9,-999,9,-999,9
49UP20160109,RF16-01,5600,1,30,22097,2,20160111,1044,30.9855,136.9885,4297,75.4,75,20.5156,34.8573,2,-999.,9,220.28,2,1.54,2,0.28,2,0.12,2,0.04,2,-999.,9,-999.,9,-999.,9,-999,9,-999,9
49UP20160109,RF16-01,5600,1,29,22102,2,20160111,1043,30.9855,136.9885,4297,102.0,101,20.5138,34.8572,2,-999.,9,219.50,2,1.52,2,0.30,2,0.12,2,0.04,2,-999.,9,-999.,9,-999.,9,-999,9,-999,9
49UP20160109,RF16-01,5600,1,28,22108,2,20160111,1041,30.9855,136.9885,4297,128.7,128,20.4362,34.8563,2,-999.,9,217.79,2,1.61,2,0.47,2,0.12,2,0.05,2,-999.,9,-999.,9,-999.,9,-999,9,-999,9
49UP20160109,RF16-01,5600,1,24,22110,2,20160111,1040,30.9855,136.9885,4297,153.3,152,19.5986,34.8491,2,-999.,9,205.00,2,2.22,2,2.15,2,0.03,2,0.15,2,-999.,9,-999.,9,-999.,9,-999,9,-999,9
49UP20160109,RF16-01,5600,1,23,22096,2,20160111,1038,30.9855,136.9885,4297,201.8,200,18.6676,34.8318,2,-999.,9,208.69,2,2.53,2,2.69,2,0.01,2,0.18,2,-999.,9,-999.,9,-999.,9,-999,9,-999,9
49UP20160109,RF16-01,5600,1,21,22078,2,20160111,1036,30.9855,136.9885,4297,252.9,251,18.3659,34.8329,2,-999.,9,211.57,2,2.62,2,2.79,2,0.01,2,0.18,2,-999.,9,-999.,9,-999.,9,-999,9,-999,9
49UP20160109,RF16-01,5600,1,22,22111,2,20160111,1037,30.9855,136.9885,4297,254.6,253,18.3627,34.8329,2,-999.,9,211.60,2,2.66,2,2.80,2,0.01,2,0.18,2,-999.,9,-999.,9,-999.,9,-999,9,-999,9
49UP20160109,RF16-01,5600,1,20,22093,2,20160111,1035,30.9855,136.9885,4297,302.5,300,18.2375,34.8299,2,-999.,9,213.54,6,2.67,6,2.77,6,0.01,6,0.18,6,-999.,9,-999.,9,-999.,9,-999,9,-999,9
49UP20160109,RF16-01,5600,1,19,22092,2,20160111,1032,30.9855,136.9885,4297,402.7,400,18.0404,34.8164,2,-999.,9,216.00,2,2.67,2,2.74,2,0.01,2,0.18,2,-999.,9,-999.,9,-999.,9,-999,9,-999,9
49UP20160109,RF16-01,5600,1,15,22088,2,20160111,1030,30.9855,136.9885,4297,505.1,501,17.2893,34.7334,2,-999.,9,205.31,2,4.37,2,4.82,2,0.00,2,0.32,2,-999.,9,-999.,9,-999.,9,-999,9,-999,9
49UP20160109,RF16-01,5600,1,14,21999,2,20160111,1027,30.9855,136.9885,4297,606.2,601,15.6502,34.6052,2,-999.,9,190.47,2,9.08,2,8.80,2,0.00,2,0.59,2,-999.,9,-999.,9,-999.,9,-999,9,-999,9
49UP20160109,RF16-01,5600,1,13,22667,2,20160111,1025,30.9855,136.9885,4297,707.5,701,11.9668,34.3623,2,-999.,9,169.40,2,23.42,2,16.66,2,0.00,2,1.16,2,-999.,9,-999.,9,-999.,9,-999,9,-999,9
49UP20160109,RF16-01,5600,1,12,22074,2,20160111,1020,30.9855,136.9885,4297,808.3,801,8.8677,34.1989,2,-999.,9,146.83,2,42.74,2,24.06,2,0.00,2,1.71,2,-999.,9,-999.,9,-999.,9,-999,9,-999,9
49UP20160109,RF16-01,5600,1,11,24268,2,20160111,1017,30.9855,136.9885,4297,908.7,900,6.7653,34.1657,2,-999.,9,113.91,2,65.25,2,30.69,2,0.00,2,2.19,2,-999.,9,-999.,9,-999.,9,-999,9,-999,9
49UP20160109,RF16-01,5600,1,10,24267,2,20160111,1014,30.9855,136.9885,4297,1010.4,1001,5.4422,34.2147,2,-999.,9,82.98,2,84.60,2,35.70,2,0.00,2,2.55,2,-999.,9,-999.,9,-999.,9,-999,9,-999,9
49UP20160109,RF16-01,5600,1,5,24658,2,20160111,1010,30.9855,136.9885,4297,1213.5,1202,3.8128,34.3700,2,-999.,9,60.51,2,118.45,2,39.90,2,0.00,2,2.84,2,-999.,9,-999.,9,-999.,9,-999,9,-999,9
49UP20160109,RF16-01,5600,1,6,22113,2,20160111,1010,30.9855,136.9885,4297,1213.7,1202,3.8122,34.3699,2,-999.,9,60.57,2,118.54,2,39.89,2,0.00,2,2.84,2,-999.,9,-999.,9,-999.,9,-999,9,-999,9
49UP20160109,RF16-01,5600,1,4,24471,2,20160111,1003,30.9855,136.9885,4297,1416.6,1402,3.2609,34.4302,2,-999.,9,61.02,2,130.14,2,40.63,2,0.00,2,2.88,2,-999.,9,-999.,9,-999.,9,-999,9,-999,9
49UP20160109,RF16-01,5600,1,3,22104,2,20160111,0958,30.9855,136.9885,4297,1619.9,1603,2.7438,34.4978,2,-999.,9,70.28,2,139.48,2,40.55,2,0.00,2,2.87,2,-999.,9,-999.,9,-999.,9,-999,9,-999,9
49UP20160109,RF16-01,5600,1,2,22075,2,20160111,0953,30.9855,136.9885,4297,1821.9,1802,2.4342,34.5401,2,-999.,9,81.38,2,143.57,2,40.06,2,0.00,2,2.82,2,-999.,9,-999.,9,-999.,9,-999,9,-999,9
49UP20160109,RF16-01,5600,1,1,21997,2,20160111,0947,30.9855,136.9885,4297,2025.0,2001,2.1666,34.5781,2,-999.,9,93.96,2,146.27,2,39.46,2,0.00,2,2.76,2,-999.,9,-999.,9,-999.,9,-999,9,-999,9