BOTTLE,20171126JMAGEMD
EXPOCODE,SECT_ID,STNNBR,CASTNO,SAMPNO,BTLNBR,BTLNBR_FLAG_W,DATE,TIME,LATITUDE,LONGITUDE,DEPTH,CTDPRS,CTDDEP,CTDTMP,CTDSAL,CTDSAL_FLAG_W,SALNTY,SALNTY_FLAG_W,OXYGEN,OXYGEN_FLAG_W,SILCAT,SILCAT_FLAG_W,NO2+NO3,NO2+NO3_FLAG_W,NITRIT,NITRIT_FLAG_W,PHSPHT,PHSPHT_FLAG_W,TCARBN,TCARBN_FLAG_W,ALKALI,ALKALI_FLAG_W,PH_TOT,PH_TOT_FLAG_W,CFC-11,CFC-11_FLAG_W,CFC-12,CFC-12_FLAG_W
,,,,,,,UTC,UTC,,,METER,DBAR,METERS,ITS-90,PSS-78,,PSS-78,,UMOL/KG,,UMOL/KG,,UMOL/KG,,UMOL/KG,,UMOL/KG,,UMOL/KG,,UMOL/KG,,@25DEG-C,,PMOL/KG,,PMOL/KG,
49UP20160109,RF16-01,5617,1,-999,0,2,20160117,0540,14.9785,136.9697,5463,0.0,0,28.1413,34.6722,2,34.6785,2,199.70,2,0.98,2,0.08,2,0.00,2,0.04,2,1944.5,2,2279.1,2,8.1121,2,-999,9,-999,9
49UP20160109,RF16-01,5617,1,36,22109,2,20160117,0618,14.9785,136.9697,5463,10.9,11,28.0334,34.6650,2,34.6637,2,199.62,2,0.98,2,0.08,2,0.00,2,0.03,2,1944.0,2,2276.8,2,8.1131,2,-999,9,-999,9
49UP20160109,RF16-01,5617,1,35,22112,2,20160117,0617,14.9785,136.9697,5463,25.7,26,27.8997,34.6558,2,34.6555,2,200.21,2,0.98,2,0.07,2,0.00,2,0.03,2,1943.8,2,2274.1,2,8.1121,2,-999,9,-999,9
49UP20160109,RF16-01,5617,1,34,22094,2,20160117,0613,14.9785,136.9697,5463,49.4,49,27.8965,34.6596,2,34.6590,2,199.99,2,0.98,2,0.06,2,0.00,2,0.04,2,1943.3,2,2275.6,2,8.1141,2,-999,9,-999,9
49UP20160109,RF16-01,5617,1,33,24469,2,20160117,0612,14.9785,136.9697,5463,75.8,75,27.8956,34.7287,2,-999.0000,9,200.04,2,0.94,2,0.07,2,0.00,2,0.03,2,1951.1,2,2280.7,2,8.1138,2,-999,9,-999,9
49UP20160109,RF16-01,5617,1,32,22105,2,20160117,0611,14.9785,136.9697,5463,99.0,98,27.6848,34.8420,2,34.8552,2,200.66,6,0.95,6,0.06,6,0.00,6,0.03,6,1956.5,2,2288.6,2,8.1093,2,-999,9,-999,9
49UP20160109,RF16-01,5617,1,31,23515,2,20160117,0610,14.9785,136.9697,5463,126.5,126,24.2771,35.2390,2,35.2401,2,196.00,2,1.23,2,0.13,2,0.04,2,0.07,2,2014.7,2,2316.7,2,8.0498,2,-999,9,-999,9
49UP20160109,RF16-01,5617,1,30,22097,2,20160117,0609,14.9785,136.9697,5463,151.8,151,21.0813,34.9643,2,-999.0000,9,170.10,2,3.82,2,3.93,2,0.02,2,0.40,2,2061.9,6,2302.6,6,7.9425,2,-999,9,-999,9
49UP20160109,RF16-01,5617,1,29,22102,2,20160117,0608,14.9785,136.9697,5463,202.4,201,17.1205,34.7139,2,34.7102,2,169.53,2,7.04,2,8.32,2,0.01,2,0.63,2,2091.4,2,2285.1,2,7.8684,6,-999,9,-999,9
49UP20160109,RF16-01,5617,1,28,22108,2,20160117,0606,14.9785,136.9697,5463,253.9,252,13.9509,34.4597,2,-999.0000,9,170.53,2,12.23,2,12.55,2,0.00,2,0.91,2,2104.1,2,2274.2,2,7.8000,2,-999,9,-999,9
49UP20160109,RF16-01,5617,1,27,21998,2,20160117,0604,14.9785,136.9697,5463,303.2,301,12.0757,34.3329,2,34.3339,2,161.72,2,17.97,2,16.43,2,0.00,2,1.19,2,2126.4,2,2269.7,2,7.7398,2,-999,9,-999,9
49UP20160109,RF16-01,5617,1,26,22084,2,20160117,0603,14.9785,136.9697,5463,353.3,351,10.3416,34.2805,2,34.2815,2,129.81,2,28.08,2,22.55,2,0.00,2,1.64,2,2170.2,2,2275.7,2,7.6405,2,-999,9,-999,9
49UP20160109,RF16-01,5617,1,25,22098,2,20160117,0601,14.9785,136.9697,5463,403.4,401,8.5717,34.2567,2,34.2575,2,102.46,6,41.24,6,28.45,6,0.00,6,2.05,6,2221.1,2,2289.3,2,7.5540,2,-999,9,-999,9
49UP20160109,RF16-01,5617,1,24,22110,2,20160117,0559,14.9785,136.9697,5463,454.5,451,7.7466,34.3145,2,34.3150,6,79.03,2,50.54,2,32.38,2,0.00,2,2.34,2,2251.8,2,2302.3,2,7.4987,2,-999,9,-999,9
49UP20160109,RF16-01,5617,1,23,22096,2,20160117,0557,14.9785,136.9697,5463,505.7,502,7.0835,34.3609,2,-999.0000,9,70.30,2,57.79,2,34.57,2,0.00,2,2.49,2,2265.4,2,2314.0,2,7.4741,2,-999,9,-999,9
49UP20160109,RF16-01,5617,1,22,22111,2,20160117,0554,14.9785,136.9697,5463,607.1,603,6.4382,34.4532,2,34.4532,2,67.59,2,64.64,2,36.55,2,0.00,2,2.61,2,2276.1,2,2327.6,2,7.4685,2,-999,9,-999,9
49UP20160109,RF16-01,5617,1,21,22078,2,20160117,0550,14.9785,136.9697,5463,706.7,701,5.8268,34.4836,2,34.4837,2,73.58,2,72.03,2,37.27,2,0.00,2,2.66,2,2284.8,2,2337.9,2,7.4763,2,-999,9,-999,9
49UP20160109,RF16-01,5617,1,20,22093,2,20160117,0544,14.9785,136.9697,5463,808.3,802,5.2431,34.5070,2,34.5072,2,79.95,2,80.42,2,37.76,2,0.00,2,2.68,2,2292.5,2,2348.6,2,7.4845,2,-999,9,-999,9
49UP20160109,RF16-01,5617,1,19,22092,2,20160117,0541,14.9785,136.9697,5463,909.0,902,4.7524,34.5221,2,-999.0000,9,82.15,2,89.54,2,38.25,2,0.00,2,2.71,2,2301.8,2,2358.9,2,7.4837,2,-999,9,-999,9
49UP20160109,RF16-01,5617,1,18,22101,2,20160117,0538,14.9785,136.9697,5463,1009.6,1001,4.3861,34.5340,2,34.5335,2,81.74,2,96.74,2,38.62,2,0.00,2,2.74,2,2320.5,2,2366.3,2,7.4804,2,-999,9,-999,9
49UP20160109,RF16-01,5617,1,17,22090,2,20160117,0533,14.9785,136.9697,5463,1212.2,1202,3.7743,34.5542,2,34.5539,2,86.83,2,109.05,2,38.87,2,0.00,2,2.75,2,2322.7,6,2379.0,6,7.4855,2,-999,9,-999,9
49UP20160109,RF16-01,5617,1,16,22089,2,20160117,0525,14.9785,136.9697,5463,1415.0,1402,3.1537,34.5724,2,34.5729,2,93.68,2,122.22,2,38.80,2,0.00,2,2.74,2,2332.7,2,2390.8,2,7.4929,6,-999,9,-999,9
49UP20160109,RF16-01,5617,1,15,22088,2,20160117,0521,14.9785,136.9697,5463,1617.2,1602,2.7260,34.5894,2,34.5901,2,99.87,2,130.62,2,38.67,2,0.00,2,2.72,2,2337.3,2,2400.5,2,7.4990,2,-999,9,-999,9
49UP20160109,RF16-01,5617,1,14,21999,2,20160117,0516,14.9785,136.9697,5463,1819.6,1801,2.4478,34.6055,2,34.6061,2,104.96,2,135.80,2,38.65,2,0.00,2,2.71,2,2340.4,2,2405.1,2,7.5092,2,-999,9,-999,9
49UP20160109,RF16-01,5617,1,13,22667,2,20160117,0511,14.9785,136.9697,5463,2021.3,2000,2.1540,34.6247,2,34.6246,2,112.68,2,139.86,2,38.39,2,0.00,2,2.68,2,2343.5,2,2412.5,2,7.5154,2,-999,9,-999,9
49UP20160109,RF16-01,5617,1,12,22074,2,20160117,0505,14.9785,136.9697,5463,2276.4,2251,1.9351,34.6414,2,34.6425,2,120.32,2,142.81,2,38.00,2,0.00,2,2.64,2,2344.2,2,2414.6,2,7.5279,2,-999,9,-999,9
49UP20160109,RF16-01,5617,1,11,24268,2,20160117,0458,14.9785,136.9697,5463,2530.2,2500,1.7861,34.6538,2,34.6537,2,127.52,2,144.53,2,37.59,2,0.00,2,2.60,2,2340.2,2,2417.7,2,7.5402,2,-999,9,-999,9
49UP20160109,RF16-01,5617,1,10,24267,2,20160117,0452,14.9785,136.9697,5463,2785.4,2751,1.7197,34.6599,2,34.6598,2,132.07,6,144.80,6,37.25,6,0.00,6,2.59,6,2339.9,2,2418.0,2,7.5469,2,-999,9,-999,9
49UP20160109,RF16-01,5617,1,9,23518,2,20160117,0446,14.9785,136.9697,5463,3040.4,3001,1.6634,34.6661,2,34.6664,6,136.96,2,144.41,2,37.01,2,0.00,2,2.56,2,2331.9,2,2420.6,2,7.5558,2,-999,9,-999,9
49UP20160109,RF16-01,5617,1,8,22081,2,20160117,0440,14.9785,136.9697,5463,3296.2,3252,1.6262,34.6705,2,34.6717,2,141.30,2,143.91,2,36.72,2,0.00,2,2.54,2,2333.5,2,2419.6,2,7.5609,2,-999,9,-999,9
49UP20160109,RF16-01,5617,1,7,23516,2,20160117,0434,14.9785,136.9697,5463,3551.5,3501,1.6023,34.6740,2,34.6737,2,145.25,2,142.84,2,36.43,2,0.00,2,2.52,2,2329.9,2,2419.9,2,7.5706,2,-999,9,-999,9
49UP20160109,RF16-01,5617,1,6,22113,2,20160117,0426,14.9785,136.9697,5463,3807.6,3752,1.5613,34.6790,2,34.6788,2,150.64,2,141.75,2,36.10,2,0.00,2,2.49,2,2326.6,2,2417.9,2,7.5747,2,-999,9,-999,9
49UP20160109,RF16-01,5617,1,5,24658,2,20160117,0421,14.9785,136.9697,5463,4063.5,4001,1.5260,34.6834,2,34.6835,2,155.13,2,140.26,2,35.81,2,0.00,2,2.47,2,2324.2,2,2416.5,2,7.5802,2,-999,9,-999,9
49UP20160109,RF16-01,5617,1,4,24471,2,20160117,0410,14.9785,136.9697,5463,4575.2,4500,1.5284,34.6876,2,34.6878,2,160.94,2,138.65,2,35.38,2,0.00,2,2.44,2,2319.3,6,2412.6,6,7.5867,2,-999,9,-999,9
49UP20160109,RF16-01,5617,1,3,22104,2,20160117,0358,14.9785,136.9697,5463,5091.3,5002,1.5840,34.6880,2,34.6880,6,161.51,6,138.43,6,35.36,6,0.00,6,2.43,6,2318.9,2,2413.7,2,7.5884,6,-999,9,-999,9
49UP20160109,RF16-01,5617,1,2,22075,2,20160117,0351,14.9785,136.9697,5463,5348.4,5252,1.6169,34.6881,2,34.6883,2,161.78,2,138.49,2,35.34,2,0.00,2,2.43,2,2317.8,2,2413.6,2,7.5853,2,-999,9,-999,9
49UP20160109,RF16-01,5617,1,1,21997,2,20160117,0348,14.9785,136.9697,5463,5452.2,5352,1.6307,34.6879,2,34.6880,2,161.61,2,138.34,2,35.36,2,0.00,2,2.43,2,2317.8,2,2414.5,2,7.5882,2,-999,9,-999,9
49UP20160109,RF16-01,5618,1,-999,0,2,20160117,1852,13.9945,136.9943,4711,0.0,0,27.9142,34.7221,2,-999.,9,199.99,2,0.97,2,0.01,2,0.00,2,0.04,2,-999.,9,-999.,9,-999.,9,-999,9,-999,9
49UP20160109,RF16-01,5618,1,36,22109,2,20160117,1917,13.9945,136.9943,4711,12.2,12,27.9295,34.7218,2,-999.,9,199.81,2,0.91,2,0.02,2,0.00,2,0.03,2,-999.,9,-999.,9,-999.,9,-999,9,-999,9
49UP20160109,RF16-01,5618,1,35,22112,2,20160117,1916,13.9945,136.9943,4711,25.9,26,27.9299,34.7219,2,-999.,9,199.72,2,0.87,2,0.02,2,0.00,2,0.03,2,-999.,9,-999.,9,-999.,9,-999,9,-999,9
49UP20160109,RF16-01,5618,1,34,22094,2,20160117,1914,13.9945,136.9943,4711,51.7,51,27.9357,34.7227,2,-999.,9,199.56,2,0.92,2,0.02,2,0.00,2,0.03,2,-999.,9,-999.,9,-999.,9,-999,9,-999,9
49UP20160109,RF16-01,5618,1,33,24469,2,20160117,1913,13.9945,136.9943,4711,75.7,75,27.9347,34.7235,2,-999.,9,199.61,6,0.93,6,0.00,6,0.00,6,0.04,6,-999.,9,-999.,9,-999.,9,-999,9,-999,9
49UP20160109,RF16-01,5618,1,32,22105,2,20160117,1909,13.9945,136.9943,4711,101.0,100,27.1726,34.9892,2,-999.,9,202.73,2,1.09,2,0.00,2,0.00,2,0.08,2,-999.,9,-999.,9,-999.,9,-999,9,-999,9
49UP20160109,RF16-01,5618,1,31,23515,2,20160117,1908,13.9945,136.9943,4711,124.6,124,25.0742,35.2574,2,-999.,9,199.43,2,1.32,2,0.03,2,0.01,2,0.12,2,-999.,9,-999.,9,-999.,9,-999,9,-999,9
49UP20160109,RF16-01,5618,1,28,22108,2,20160117,1907,13.9945,136.9943,4711,151.7,151,22.1911,35.1878,2,-999.,9,181.59,2,2.15,2,1.03,2,0.24,2,0.23,2,-999.,9,-999.,9,-999.,9,-999,9,-999,9
49UP20160109,RF16-01,5618,1,27,21998,2,20160117,1905,13.9945,136.9943,4711,201.4,200,17.8544,34.7767,2,-999.,9,165.80,2,6.20,2,7.51,2,0.01,2,0.61,2,-999.,9,-999.,9,-999.,9,-999,9,-999,9
49UP20160109,RF16-01,5618,1,26,22084,2,20160117,1903,13.9945,136.9943,4711,251.3,250,13.3402,34.4158,2,-999.,9,166.42,6,13.90,6,13.76,6,0.00,6,1.01,6,-999.,9,-999.,9,-999.,9,-999,9,-999,9
49UP20160109,RF16-01,5618,1,24,22110,2,20160117,1901,13.9945,136.9943,4711,303.1,301,11.8351,34.3582,2,-999.,9,137.50,2,21.23,2,19.14,2,0.00,2,1.41,2,-999.,9,-999.,9,-999.,9,-999,9,-999,9
49UP20160109,RF16-01,5618,1,25,22098,2,20160117,1902,13.9945,136.9943,4711,303.2,301,11.8110,34.3584,2,-999.,9,137.31,2,21.31,2,19.21,2,0.00,2,1.42,2,-999.,9,-999.,9,-999.,9,-999,9,-999,9
49UP20160109,RF16-01,5618,1,23,22096,2,20160117,1900,13.9945,136.9943,4711,352.9,351,9.7399,34.3326,2,-999.,9,101.98,2,33.88,2,26.51,2,0.00,2,1.93,2,-999.,9,-999.,9,-999.,9,-999,9,-999,9
49UP20160109,RF16-01,5618,1,22,22111,2,20160117,1858,13.9945,136.9943,4711,404.3,402,8.6358,34.3624,2,-999.,9,82.21,2,42.64,2,30.58,2,0.00,2,2.21,2,-999.,9,-999.,9,-999.,9,-999,9,-999,9
49UP20160109,RF16-01,5618,1,18,22101,2,20160117,1857,13.9945,136.9943,4711,454.2,451,7.5902,34.3757,2,-999.,9,74.29,2,52.35,2,33.35,2,0.00,2,2.40,2,-999.,9,-999.,9,-999.,9,-999,9,-999,9
49UP20160109,RF16-01,5618,1,17,22090,2,20160117,1855,13.9945,136.9943,4711,506.0,502,7.1370,34.4267,2,-999.,9,74.38,2,56.34,2,34.47,2,0.00,2,2.46,2,-999.,9,-999.,9,-999.,9,-999,9,-999,9
49UP20160109,RF16-01,5618,1,16,22089,2,20160117,1852,13.9945,136.9943,4711,603.9,600,6.4950,34.4658,2,-999.,9,78.02,2,62.11,2,35.61,2,0.00,2,2.54,2,-999.,9,-999.,9,-999.,9,-999,9,-999,9
49UP20160109,RF16-01,5618,1,15,22088,2,20160117,1849,13.9945,136.9943,4711,706.7,701,5.9333,34.5027,2,-999.,9,82.14,2,67.62,2,36.46,2,0.00,2,2.60,2,-999.,9,-999.,9,-999.,9,-999,9,-999,9
49UP20160109,RF16-01,5618,1,13,22667,2,20160117,1843,13.9945,136.9943,4711,808.1,802,5.4559,34.5165,2,-999.,9,79.47,2,75.45,2,37.44,2,0.00,2,2.67,2,-999.,9,-999.,9,-999.,9,-999,9,-999,9
49UP20160109,RF16-01,5618,1,14,21999,2,20160117,1843,13.9945,136.9943,4711,808.5,802,5.4550,34.5164,2,-999.,9,79.79,2,75.62,2,37.52,2,0.00,2,2.67,2,-999.,9,-999.,9,-999.,9,-999,9,-999,9
49UP20160109,RF16-01,5618,1,10,24267,2,20160117,1840,13.9945,136.9943,4711,908.0,901,5.0382,34.5264,2,-999.,9,79.12,2,83.22,2,38.12,2,0.00,2,2.72,2,-999.,9,-999.,9,-999.,9,-999,9,-999,9
49UP20160109,RF16-01,5618,1,9,23518,2,20160117,1837,13.9945,136.9943,4711,1009.6,1001,4.5964,34.5375,2,-999.,9,79.99,2,92.06,2,38.58,2,0.00,2,2.75,2,-999.,9,-999.,9,-999.,9,-999,9,-999,9
49UP20160109,RF16-01,5618,1,8,22081,2,20160117,1833,13.9945,136.9943,4711,1211.4,1201,3.8817,34.5568,2,-999.,9,84.68,2,106.46,2,38.97,2,0.00,2,2.77,2,-999.,9,-999.,9,-999.,9,-999,9,-999,9
49UP20160109,RF16-01,5618,1,7,23516,2,20160117,1820,13.9945,136.9943,4711,1414.0,1401,3.2826,34.5775,2,-999.,9,91.70,2,118.25,2,38.95,2,0.00,2,2.76,2,-999.,9,-999.,9,-999.,9,-999,9,-999,9
49UP20160109,RF16-01,5618,1,6,22113,2,20160117,1814,13.9945,136.9943,4711,1615.5,1600,2.8795,34.5945,2,-999.,9,98.50,2,126.24,2,38.83,2,0.00,2,2.75,2,-999.,9,-999.,9,-999.,9,-999,9,-999,9
49UP20160109,RF16-01,5618,1,5,24658,2,20160117,1810,13.9945,136.9943,4711,1819.1,1801,2.5396,34.6090,2,-999.,9,104.41,2,132.69,2,38.59,2,0.00,2,2.72,2,-999.,9,-999.,9,-999.,9,-999,9,-999,9
49UP20160109,RF16-01,5618,1,4,24471,2,20160117,1803,13.9945,136.9943,4711,2021.9,2001,2.2873,34.6235,2,-999.,9,110.84,2,136.83,2,38.29,2,0.00,2,2.69,2,-999.,9,-999.,9,-999.,9,-999,9,-999,9
49UP20160109,RF16-01,5619,1,-999,0,2,20160118,0235,12.9927,136.9795,4720,0.0,0,27.9502,34.6154,2,-999.,9,199.49,2,1.05,2,0.00,2,0.00,2,0.07,2,-999.,9,-999.,9,-999.,9,-999,9,-999,9
49UP20160109,RF16-01,5619,1,36,22109,2,20160118,0309,12.9927,136.9795,4720,11.1,11,27.8537,34.6131,2,-999.,9,199.26,2,1.06,2,0.00,2,0.00,2,0.04,2,-999.,9,-999.,9,-999.,9,-999,9,-999,9
49UP20160109,RF16-01,5619,1,35,22112,2,20160118,0308,12.9927,136.9795,4720,25.7,26,27.8350,34.6130,2,-999.,9,199.72,2,1.06,2,0.00,2,0.00,2,0.04,2,-999.,9,-999.,9,-999.,9,-999,9,-999,9
49UP20160109,RF16-01,5619,1,34,22094,2,20160118,0304,12.9927,136.9795,4720,49.7,49,27.8351,34.6124,2,-999.,9,199.71,6,1.03,6,0.00,6,0.00,6,0.04,6,-999.,9,-999.,9,-999.,9,-999,9,-999,9
49UP20160109,RF16-01,5619,1,33,24469,2,20160118,0303,12.9927,136.9795,4720,75.7,75,27.8385,34.6137,2,-999.,9,199.43,2,1.02,2,0.00,2,0.00,2,0.04,2,-999.,9,-999.,9,-999.,9,-999,9,-999,9
49UP20160109,RF16-01,5619,1,32,22105,2,20160118,0302,12.9927,136.9795,4720,100.6,100,27.1235,35.0859,2,-999.,9,205.59,2,1.09,2,0.00,2,0.00,2,0.06,2,-999.,9,-999.,9,-999.,9,-999,9,-999,9
49UP20160109,RF16-01,5619,1,31,23515,2,20160118,0301,12.9927,136.9795,4720,126.3,126,25.1856,35.3072,2,-999.,9,196.51,2,1.29,2,0.00,2,0.01,2,0.10,2,-999.,9,-999.,9,-999.,9,-999,9,-999,9
49UP20160109,RF16-01,5619,1,27,21998,2,20160118,0300,12.9927,136.9795,4720,152.0,151,22.6336,35.2277,2,-999.,9,181.55,2,2.00,2,0.94,2,0.18,2,0.20,2,-999.,9,-999.,9,-999.,9,-999,9,-999,9
49UP20160109,RF16-01,5619,1,26,22084,2,20160118,0258,12.9927,136.9795,4720,202.4,201,19.0331,34.9065,2,-999.,9,169.57,2,4.70,2,5.52,2,0.01,2,0.49,2,-999.,9,-999.,9,-999.,9,-999,9,-999,9
49UP20160109,RF16-01,5619,1,25,22098,2,20160118,0257,12.9927,136.9795,4720,254.2,253,14.2600,34.4952,2,-999.,9,156.02,2,12.76,2,13.33,2,0.00,2,0.99,2,-999.,9,-999.,9,-999.,9,-999,9,-999,9
49UP20160109,RF16-01,5619,1,24,22110,2,20160118,0255,12.9927,136.9795,4720,303.7,302,11.1903,34.3693,2,-999.,9,115.59,2,24.49,2,22.34,2,0.00,2,1.65,2,-999.,9,-999.,9,-999.,9,-999,9,-999,9
49UP20160109,RF16-01,5619,1,22,22111,2,20160118,0253,12.9927,136.9795,4720,354.8,352,9.8424,34.4092,2,-999.,9,90.52,2,33.54,2,27.50,2,0.00,2,2.00,2,-999.,9,-999.,9,-999.,9,-999,9,-999,9
49UP20160109,RF16-01,5619,1,23,22096,2,20160118,0253,12.9927,136.9795,4720,355.9,354,9.7822,34.4067,2,-999.,9,90.17,2,33.73,2,27.57,2,0.00,2,2.00,2,-999.,9,-999.,9,-999.,9,-999,9,-999,9
49UP20160109,RF16-01,5619,1,18,22101,2,20160118,0251,12.9927,136.9795,4720,405.9,403,8.6425,34.4036,2,-999.,9,78.12,2,42.48,2,31.16,2,0.00,2,2.25,2,-999.,9,-999.,9,-999.,9,-999,9,-999,9
49UP20160109,RF16-01,5619,1,17,22090,2,20160118,0249,12.9927,136.9795,4720,454.8,452,7.9337,34.4433,2,-999.,9,73.18,2,48.21,2,33.24,2,0.00,2,2.38,2,-999.,9,-999.,9,-999.,9,-999,9,-999,9
49UP20160109,RF16-01,5619,1,16,22089,2,20160118,0247,12.9927,136.9795,4720,507.3,504,7.2931,34.4595,2,-999.,9,76.00,2,52.66,2,34.19,2,0.00,2,2.44,2,-999.,9,-999.,9,-999.,9,-999,9,-999,9
49UP20160109,RF16-01,5619,1,15,22088,2,20160118,0244,12.9927,136.9795,4720,605.8,601,6.5165,34.4741,2,-999.,9,80.25,2,61.07,2,35.46,2,0.00,2,2.53,2,-999.,9,-999.,9,-999.,9,-999,9,-999,9
49UP20160109,RF16-01,5619,1,14,21999,2,20160118,0239,12.9927,136.9795,4720,704.8,700,5.8432,34.4987,2,-999.,9,79.37,2,69.95,2,36.82,2,0.00,2,2.62,2,-999.,9,-999.,9,-999.,9,-999,9,-999,9
49UP20160109,RF16-01,5619,1,13,22667,2,20160118,0231,12.9927,136.9795,4720,808.4,802,5.4627,34.5150,2,-999.,9,79.37,2,75.84,2,37.53,2,0.00,2,2.67,2,-999.,9,-999.,9,-999.,9,-999,9,-999,9
49UP20160109,RF16-01,5619,1,11,24268,2,20160118,0228,12.9927,136.9795,4720,908.3,901,4.9810,34.5265,2,-999.,9,79.87,2,84.63,2,38.21,2,0.00,2,2.72,2,-999.,9,-999.,9,-999.,9,-999,9,-999,9
49UP20160109,RF16-01,5619,1,10,24267,2,20160118,0225,12.9927,136.9795,4720,1009.4,1001,4.4633,34.5409,2,-999.,9,81.66,2,94.80,2,38.67,2,0.00,2,2.75,2,-999.,9,-999.,9,-999.,9,-999,9,-999,9
49UP20160109,RF16-01,5619,1,9,23518,2,20160118,0221,12.9927,136.9795,4720,1210.4,1200,3.8048,34.5593,2,-999.,9,85.66,2,108.19,2,39.03,2,0.00,2,2.77,2,-999.,9,-999.,9,-999.,9,-999,9,-999,9
49UP20160109,RF16-01,5619,1,8,22081,3,20160118,0210,12.9927,136.9795,4720,1413.2,1400,3.1288,34.5788,2,-999.,9,94.52,2,121.79,2,38.73,2,0.00,2,2.74,2,-999.,9,-999.,9,-999.,9,-999,9,-999,9
49UP20160109,RF16-01,5619,1,7,23516,2,20160118,0206,12.9927,136.9795,4720,1616.3,1601,2.7294,34.5961,2,-999.,9,100.21,6,129.90,6,38.75,6,0.00,6,2.73,6,-999.,9,-999.,9,-999.,9,-999,9,-999,9
49UP20160109,RF16-01,5619,1,6,22113,2,20160118,0202,12.9927,136.9795,4720,1818.6,1800,2.4080,34.6141,2,-999.,9,106.60,2,135.54,2,38.59,2,0.00,2,2.71,2,-999.,9,-999.,9,-999.,9,-999,9,-999,9
49UP20160109,RF16-01,5619,1,5,24658,2,20160118,0155,12.9927,136.9795,4720,2022.5,2001,2.1944,34.6290,2,-999.,9,112.47,2,138.97,2,38.41,2,0.00,2,2.69,2,-999.,9,-999.,9,-999.,9,-999,9,-999,9
49UP20160109,RF16-01,5619,1,4,24471,2,20160118,0155,12.9927,136.9795,4720,2023.3,2002,2.1946,34.6291,2,-999.,9,112.79,2,138.77,2,38.36,2,0.00,2,2.69,2,-999.,9,-999.,9,-999.,9,-999,9,-999,9