BOTTLE,20171126JMAGEMD
EXPOCODE,SECT_ID,STNNBR,CASTNO,SAMPNO,BTLNBR,BTLNBR_FLAG_W,DATE,TIME,LATITUDE,LONGITUDE,DEPTH,CTDPRS,CTDDEP,CTDTMP,CTDSAL,CTDSAL_FLAG_W,SALNTY,SALNTY_FLAG_W,OXYGEN,OXYGEN_FLAG_W,SILCAT,SILCAT_FLAG_W,NO2+NO3,NO2+NO3_FLAG_W,NITRIT,NITRIT_FLAG_W,PHSPHT,PHSPHT_FLAG_W,TCARBN,TCARBN_FLAG_W,ALKALI,ALKALI_FLAG_W,PH_TOT,PH_TOT_FLAG_W,CFC-11,CFC-11_FLAG_W,CFC-12,CFC-12_FLAG_W
,,,,,,,UTC,UTC,,,METER,DBAR,METERS,ITS-90,PSS-78,,PSS-78,,UMOL/KG,,UMOL/KG,,UMOL/KG,,UMOL/KG,,UMOL/KG,,UMOL/KG,,UMOL/KG,,@25DEG-C,,PMOL/KG,,PMOL/KG,
49UP20160109,RF16-01,5654,1,-999,0,2,20160210,2035,12.9783,149.3372,5906,0.0,0,27.3774,34.3177,2,34.3172,2,201.27,2,1.36,2,0.00,2,0.00,2,0.08,2,1938.8,2,2254.5,2,8.0996,2,-999,9,-999,9
49UP20160109,RF16-01,5654,1,36,22109,2,20160210,2112,12.9783,149.3372,5906,10.4,10,27.3866,34.3169,2,34.3151,2,200.85,2,1.36,2,0.02,2,0.00,2,0.06,2,1937.5,2,2255.0,2,8.0965,2,-999,9,-999,9
49UP20160109,RF16-01,5654,1,35,22112,2,20160210,2111,12.9783,149.3372,5906,24.7,25,27.3892,34.3172,2,34.3153,2,201.00,2,1.38,2,0.03,2,0.00,2,0.06,2,1936.6,2,2256.3,2,8.0978,2,-999,9,-999,9
49UP20160109,RF16-01,5654,1,34,22094,2,20160210,2109,12.9783,149.3372,5906,51.5,51,27.3932,34.3175,2,34.3163,2,200.96,6,1.35,6,0.04,6,0.00,6,0.06,6,1937.1,2,2253.9,2,8.0975,2,-999,9,-999,9
49UP20160109,RF16-01,5654,1,33,24469,2,20160210,2107,12.9783,149.3372,5906,76.2,76,27.3480,34.3628,2,-999.0000,9,201.45,2,1.34,2,0.05,2,0.00,2,0.07,2,1941.5,2,2258.9,2,8.0918,2,-999,9,-999,9
49UP20160109,RF16-01,5654,1,32,22105,2,20160210,2104,12.9783,149.3372,5906,100.3,100,21.9203,34.8935,2,34.8990,2,200.67,2,2.26,2,0.14,2,0.01,2,0.25,2,2044.8,2,2304.8,2,7.9800,2,-999,9,-999,9
49UP20160109,RF16-01,5654,1,31,23515,2,20160210,2103,12.9783,149.3372,5906,125.3,125,19.0722,34.8542,2,34.8597,2,170.21,2,5.44,2,5.40,2,0.44,2,0.54,2,2079.9,2,2298.1,2,7.9015,2,-999,9,-999,9
49UP20160109,RF16-01,5654,1,30,22097,2,20160210,2101,12.9783,149.3372,5906,153.1,152,16.9763,34.6992,2,-999.0000,9,164.04,2,6.95,2,8.33,2,0.06,2,0.68,2,2100.7,2,2287.4,2,7.8502,2,-999,9,-999,9
49UP20160109,RF16-01,5654,1,29,22102,2,20160210,2059,12.9783,149.3372,5906,203.5,202,12.5428,34.3279,2,34.3340,2,173.36,2,14.40,2,14.00,2,0.01,2,1.02,2,2111.1,2,2268.8,2,7.7748,2,-999,9,-999,9
49UP20160109,RF16-01,5654,1,28,22108,2,20160210,2057,12.9783,149.3372,5906,253.3,252,10.4248,34.3895,2,34.3744,4,91.86,2,29.48,2,26.15,2,0.00,2,1.93,2,2199.6,2,2283.2,2,7.5749,2,-999,9,-999,9
49UP20160109,RF16-01,5654,1,27,21998,2,20160210,2055,12.9783,149.3372,5906,301.0,299,9.0643,34.3941,2,34.3948,2,70.04,2,38.87,2,30.87,2,0.00,2,2.25,2,2233.9,2,2293.3,2,7.5105,2,-999,9,-999,9
49UP20160109,RF16-01,5654,1,26,22084,2,20160210,2053,12.9783,149.3372,5906,353.4,351,8.1573,34.4192,2,-999.0000,9,64.03,2,46.56,6,33.42,6,0.00,6,2.41,6,2246.5,2,2303.0,2,7.4877,2,-999,9,-999,9
49UP20160109,RF16-01,5654,1,25,22098,2,20160210,2049,12.9783,149.3372,5906,404.3,402,7.6486,34.4647,2,34.4722,4,62.37,2,50.21,2,34.74,2,0.00,2,2.49,2,2257.9,6,2310.2,6,7.4822,2,-999,9,-999,9
49UP20160109,RF16-01,5654,1,24,22110,2,20160210,2046,12.9783,149.3372,5906,453.0,450,7.2596,34.4810,2,34.4800,2,65.66,2,54.13,2,35.45,2,0.00,2,2.53,2,2263.7,2,2315.7,2,7.4815,6,-999,9,-999,9
49UP20160109,RF16-01,5654,1,23,22096,2,20160210,2044,12.9783,149.3372,5906,503.9,500,6.7818,34.4791,2,-999.0000,9,76.47,2,58.06,2,35.34,2,0.00,2,2.52,2,2261.8,2,2321.0,2,7.4957,2,-999,9,-999,9
49UP20160109,RF16-01,5654,1,22,22111,2,20160210,2041,12.9783,149.3372,5906,605.8,601,6.1535,34.4898,2,34.4885,2,75.67,2,66.27,2,36.57,2,0.00,2,2.61,2,2274.7,2,2330.5,2,7.4890,2,-999,9,-999,9
49UP20160109,RF16-01,5654,1,21,22078,2,20160210,2037,12.9783,149.3372,5906,706.8,702,5.6124,34.5152,2,34.5150,2,68.87,2,74.56,2,38.36,2,0.00,2,2.74,2,2289.1,2,2340.7,2,7.4708,2,-999,9,-999,9
49UP20160109,RF16-01,5654,1,20,22093,2,20160210,2033,12.9783,149.3372,5906,807.4,801,5.1224,34.5245,2,34.5239,2,69.15,2,83.05,2,39.03,2,0.00,2,2.79,2,2303.2,2,2350.4,2,7.4676,2,-999,9,-999,9
49UP20160109,RF16-01,5654,1,19,22092,2,20160210,2023,12.9783,149.3372,5906,911.2,904,4.6768,34.5353,2,-999.0000,9,71.23,2,91.25,2,39.50,2,0.00,2,2.82,2,2308.2,2,2360.2,2,7.4675,2,-999,9,-999,9
49UP20160109,RF16-01,5654,1,18,22101,2,20160210,2019,12.9783,149.3372,5906,1008.6,1000,4.2717,34.5468,2,34.5462,2,73.36,2,99.44,2,39.75,2,0.00,2,2.84,2,2324.1,2,2365.9,2,7.4692,2,-999,9,-999,9
49UP20160109,RF16-01,5654,1,17,22090,2,20160210,2014,12.9783,149.3372,5906,1210.9,1200,3.4774,34.5716,2,34.5716,2,80.09,2,115.65,2,39.95,2,0.00,2,2.84,2,2337.0,2,2385.0,2,7.4748,2,-999,9,-999,9
49UP20160109,RF16-01,5654,1,16,22089,2,20160210,2006,12.9783,149.3372,5906,1415.7,1403,2.9503,34.5898,2,34.5893,2,89.84,2,126.03,2,39.40,2,0.00,2,2.79,2,2340.9,2,2396.4,2,7.4892,2,-999,9,-999,9
49UP20160109,RF16-01,5654,1,15,22088,2,20160210,2001,12.9783,149.3372,5906,1616.7,1601,2.5798,34.6079,2,34.6080,2,98.76,2,132.99,2,39.20,2,0.00,2,2.75,2,2340.2,6,2403.0,6,7.5042,2,-999,9,-999,9
49UP20160109,RF16-01,5654,1,14,21999,2,20160210,1956,12.9783,149.3372,5906,1819.8,1801,2.3057,34.6228,2,34.6255,4,105.69,2,138.49,2,38.89,2,0.00,2,2.72,2,2342.6,2,2409.9,2,7.5122,6,-999,9,-999,9
49UP20160109,RF16-01,5654,1,13,22667,2,20160210,1951,12.9783,149.3372,5906,2022.1,2001,2.1009,34.6350,2,34.6346,2,112.56,2,141.48,2,38.50,2,0.00,2,2.69,2,2345.5,2,2414.1,2,7.5236,2,-999,9,-999,9
49UP20160109,RF16-01,5654,1,12,22074,2,20160210,1945,12.9783,149.3372,5906,2276.0,2251,1.9388,34.6453,2,34.6449,6,118.02,2,144.41,2,38.23,2,0.00,2,2.66,2,2338.8,2,2415.9,2,7.5333,2,-999,9,-999,9
49UP20160109,RF16-01,5654,1,11,24268,2,20160210,1939,12.9783,149.3372,5906,2528.9,2499,1.7788,34.6571,2,34.6586,2,124.99,2,146.60,2,37.83,2,0.00,2,2.63,2,2343.8,2,2419.3,2,7.5416,2,-999,9,-999,9
49UP20160109,RF16-01,5654,1,10,24267,2,20160210,1934,12.9783,149.3372,5906,2784.1,2750,1.6969,34.6635,2,34.6628,6,130.05,2,147.38,2,37.51,2,0.00,2,2.60,2,2340.8,2,2421.0,2,7.5509,2,-999,9,-999,9
49UP20160109,RF16-01,5654,1,9,23518,2,20160210,1929,12.9783,149.3372,5906,3039.7,3001,1.6119,34.6709,2,34.6707,2,137.02,2,146.99,2,37.08,2,0.00,2,2.57,2,2336.1,2,2420.8,2,7.5594,2,-999,9,-999,9
49UP20160109,RF16-01,5654,1,8,22081,2,20160210,1924,12.9783,149.3372,5906,3294.2,3250,1.5781,34.6747,2,34.6742,2,141.26,6,146.63,6,36.79,6,0.00,6,2.54,6,2331.0,2,2421.0,2,7.5675,2,-999,9,-999,9
49UP20160109,RF16-01,5654,1,7,23516,2,20160210,1919,12.9783,149.3372,5906,3547.6,3498,1.5444,34.6788,2,34.6780,2,145.90,2,145.48,2,36.50,2,0.00,2,2.52,2,2329.7,2,2418.7,2,7.5730,2,-999,9,-999,9
49UP20160109,RF16-01,5654,1,6,22113,2,20160210,1914,12.9783,149.3372,5906,3805.1,3750,1.5251,34.6819,2,34.6814,2,150.34,2,143.74,2,36.17,2,0.00,2,2.49,2,2328.8,2,2417.1,2,7.5790,2,-999,9,-999,9
49UP20160109,RF16-01,5654,1,5,24658,2,20160210,1909,12.9783,149.3372,5906,4058.2,3997,1.5049,34.6855,2,34.6844,2,154.42,2,141.88,2,35.86,2,0.00,2,2.47,2,2324.8,2,2414.8,2,7.5845,2,-999,9,-999,9
49UP20160109,RF16-01,5654,1,4,24471,2,20160210,1900,12.9783,149.3372,5906,4573.6,4499,1.4787,34.6912,2,34.6912,2,164.64,2,137.67,2,35.18,2,0.00,2,2.42,2,2314.0,6,2411.3,6,7.5945,2,-999,9,-999,9
49UP20160109,RF16-01,5654,1,3,22104,2,20160210,1852,12.9783,149.3372,5906,5088.8,5000,1.4812,34.6955,2,34.6951,6,171.69,2,134.50,2,34.69,2,0.00,2,2.38,2,2306.2,2,2406.4,2,7.6058,6,-999,9,-999,9
49UP20160109,RF16-01,5654,1,2,22075,2,20160210,1842,12.9783,149.3372,5906,5605.0,5501,1.5203,34.6974,2,34.6965,2,174.80,2,132.06,2,34.31,2,0.00,2,2.36,2,2301.5,2,2402.8,2,7.6090,2,-999,9,-999,9
49UP20160109,RF16-01,5654,1,1,21997,2,20160210,1833,12.9783,149.3372,5906,6050.4,5932,1.5703,34.6979,2,34.6979,2,175.86,6,132.23,6,34.39,6,0.00,6,2.36,6,2301.7,2,2401.7,2,7.6084,2,-999,9,-999,9
49UP20160109,RF16-01,5655,1,-999,0,2,20160211,0654,13.9805,149.3338,5846,0.0,0,27.0721,34.6415,2,34.6418,2,202.54,2,1.17,2,0.00,2,0.00,2,0.08,2,-999.,9,-999.,9,-999.,9,-999,9,-999,9
49UP20160109,RF16-01,5655,1,36,22109,2,20160211,0722,13.9805,149.3338,5846,11.5,11,27.0750,34.6417,2,34.6410,2,202.19,6,1.23,6,0.01,6,0.00,6,0.08,6,-999.,9,-999.,9,-999.,9,-999,9,-999,9
49UP20160109,RF16-01,5655,1,35,22112,2,20160211,0721,13.9805,149.3338,5846,25.8,26,27.0787,34.6411,2,-999.0000,9,202.01,2,1.22,2,0.00,2,0.00,2,0.08,2,-999.,9,-999.,9,-999.,9,-999,9,-999,9
49UP20160109,RF16-01,5655,1,34,22094,2,20160211,0719,13.9805,149.3338,5846,51.9,52,27.0872,34.6399,2,34.6370,2,202.07,2,1.19,2,0.00,2,0.00,2,0.09,2,-999.,9,-999.,9,-999.,9,-999,9,-999,9
49UP20160109,RF16-01,5655,1,33,24469,2,20160211,0718,13.9805,149.3338,5846,76.6,76,27.0681,34.6369,2,34.6345,2,202.00,2,1.12,2,0.02,2,0.00,2,0.08,2,-999.,9,-999.,9,-999.,9,-999,9,-999,9
49UP20160109,RF16-01,5655,1,32,22105,2,20160211,0717,13.9805,149.3338,5846,101.6,101,27.0671,34.6454,2,34.6446,2,202.01,2,1.28,2,0.00,2,0.00,2,0.09,2,-999.,9,-999.,9,-999.,9,-999,9,-999,9
49UP20160109,RF16-01,5655,1,31,23515,2,20160211,0715,13.9805,149.3338,5846,126.8,126,23.9107,35.3777,2,-999.0000,9,197.84,2,1.41,2,0.00,2,0.00,2,0.08,2,-999.,9,-999.,9,-999.,9,-999,9,-999,9
49UP20160109,RF16-01,5655,1,30,22097,2,20160211,0714,13.9805,149.3338,5846,150.9,150,21.6431,35.2170,2,35.2255,2,183.14,2,2.12,2,1.37,2,0.07,2,0.21,2,-999.,9,-999.,9,-999.,9,-999,9,-999,9
49UP20160109,RF16-01,5655,1,29,22102,2,20160211,0710,13.9805,149.3338,5846,202.4,201,16.7997,34.6918,2,34.6959,2,170.50,2,6.90,2,7.81,2,0.01,2,0.63,2,-999.,9,-999.,9,-999.,9,-999,9,-999,9
49UP20160109,RF16-01,5655,1,28,22108,2,20160211,0708,13.9805,149.3338,5846,251.0,249,12.8465,34.3500,2,-999.0000,9,160.74,2,15.03,2,14.79,2,0.00,2,1.11,2,-999.,9,-999.,9,-999.,9,-999,9,-999,9
49UP20160109,RF16-01,5655,1,27,21998,2,20160211,0707,13.9805,149.3338,5846,303.3,301,9.8908,34.2554,2,34.2554,2,124.75,2,30.23,2,23.69,2,0.00,2,1.73,2,-999.,9,-999.,9,-999.,9,-999,9,-999,9
49UP20160109,RF16-01,5655,1,26,22084,2,20160211,0705,13.9805,149.3338,5846,352.1,350,8.9448,34.3112,2,34.3104,2,95.21,2,40.14,2,28.40,2,0.00,2,2.07,2,-999.,9,-999.,9,-999.,9,-999,9,-999,9
49UP20160109,RF16-01,5655,1,25,22098,2,20160211,0703,13.9805,149.3338,5846,404.1,401,8.3571,34.3720,2,34.3694,2,74.99,2,45.68,2,31.66,2,0.00,2,2.29,2,-999.,9,-999.,9,-999.,9,-999,9,-999,9
49UP20160109,RF16-01,5655,1,24,22110,2,20160211,0702,13.9805,149.3338,5846,453.8,451,7.5368,34.3942,2,-999.0000,9,69.50,2,53.47,2,33.87,2,0.00,2,2.44,2,-999.,9,-999.,9,-999.,9,-999,9,-999,9
49UP20160109,RF16-01,5655,1,23,22096,2,20160211,0659,13.9805,149.3338,5846,505.1,502,6.8305,34.4136,2,34.4150,2,69.54,2,60.79,2,35.28,2,0.00,2,2.53,2,-999.,9,-999.,9,-999.,9,-999,9,-999,9
49UP20160109,RF16-01,5655,1,22,22111,2,20160211,0655,13.9805,149.3338,5846,604.0,600,6.2255,34.4919,2,34.4911,2,72.06,2,66.31,2,36.68,2,0.00,2,2.62,2,-999.,9,-999.,9,-999.,9,-999,9,-999,9
49UP20160109,RF16-01,5655,1,21,22078,2,20160211,0652,13.9805,149.3338,5846,704.6,699,5.5368,34.5005,2,-999.0000,9,75.28,6,77.04,6,37.45,6,0.00,6,2.67,6,-999.,9,-999.,9,-999.,9,-999,9,-999,9
49UP20160109,RF16-01,5655,1,20,22093,2,20160211,0650,13.9805,149.3338,5846,808.6,802,5.0425,34.5195,2,34.5193,2,76.39,2,84.87,2,38.17,2,0.00,2,2.72,2,-999.,9,-999.,9,-999.,9,-999,9,-999,9
49UP20160109,RF16-01,5655,1,19,22092,2,20160211,0646,13.9805,149.3338,5846,908.9,902,4.5488,34.5363,2,34.5356,2,75.96,2,94.34,2,38.93,2,0.00,2,2.78,2,-999.,9,-999.,9,-999.,9,-999,9,-999,9
49UP20160109,RF16-01,5655,1,18,22101,2,20160211,0644,13.9805,149.3338,5846,1008.7,1000,4.0990,34.5502,2,34.5500,2,79.99,2,103.18,2,39.11,2,0.00,2,2.79,2,-999.,9,-999.,9,-999.,9,-999,9,-999,9
49UP20160109,RF16-01,5655,1,17,22090,2,20160211,0638,13.9805,149.3338,5846,1208.3,1198,3.4811,34.5690,2,34.5686,2,85.64,2,115.67,2,39.11,2,0.00,2,2.78,2,-999.,9,-999.,9,-999.,9,-999,9,-999,9
49UP20160109,RF16-01,5655,1,16,22089,2,20160211,0634,13.9805,149.3338,5846,1413.6,1401,3.0500,34.5860,2,34.5856,2,91.86,2,124.38,2,39.11,2,0.00,2,2.77,2,-999.,9,-999.,9,-999.,9,-999,9,-999,9
49UP20160109,RF16-01,5655,1,15,22088,2,20160211,0630,13.9805,149.3338,5846,1617.1,1602,2.6599,34.6004,2,34.5998,2,97.87,2,132.13,2,38.89,2,0.00,2,2.74,2,-999.,9,-999.,9,-999.,9,-999,9,-999,9
49UP20160109,RF16-01,5655,1,14,21999,2,20160211,0623,13.9805,149.3338,5846,1819.1,1801,2.3323,34.6156,2,34.6146,2,104.95,2,138.75,2,38.69,2,0.00,2,2.71,2,-999.,9,-999.,9,-999.,9,-999,9,-999,9
49UP20160109,RF16-01,5655,1,13,22667,2,20160211,0618,13.9805,149.3338,5846,2022.2,2001,2.0940,34.6329,2,34.6316,2,112.06,2,142.75,2,38.39,2,0.00,2,2.68,2,-999.,9,-999.,9,-999.,9,-999,9,-999,9
49UP20160109,RF16-01,5655,1,12,22074,2,20160211,0613,13.9805,149.3338,5846,2274.5,2249,1.9313,34.6435,2,34.6436,2,117.34,6,145.85,6,38.16,6,0.00,6,2.66,6,-999.,9,-999.,9,-999.,9,-999,9,-999,9
49UP20160109,RF16-01,5655,1,11,24268,2,20160211,0606,13.9805,149.3338,5846,2530.5,2501,1.7863,34.6565,2,34.6560,2,123.81,2,148.09,2,37.83,2,0.00,2,2.63,2,-999.,9,-999.,9,-999.,9,-999,9,-999,9
49UP20160109,RF16-01,5655,1,10,24267,2,20160211,0600,13.9805,149.3338,5846,2782.4,2748,1.6865,34.6643,2,34.6646,2,130.41,2,148.43,2,37.39,2,0.00,2,2.59,2,-999.,9,-999.,9,-999.,9,-999,9,-999,9
49UP20160109,RF16-01,5655,1,9,23518,2,20160211,0554,13.9805,149.3338,5846,3039.6,3000,1.5991,34.6715,2,34.6711,6,137.42,2,148.17,2,36.93,2,0.00,2,2.56,2,-999.,9,-999.,9,-999.,9,-999,9,-999,9
49UP20160109,RF16-01,5655,1,8,22081,2,20160211,0548,13.9805,149.3338,5846,3294.4,3250,1.5628,34.6756,2,34.6761,2,142.49,2,147.05,2,36.61,2,0.00,2,2.53,2,-999.,9,-999.,9,-999.,9,-999,9,-999,9
49UP20160109,RF16-01,5655,1,7,23516,2,20160211,0541,13.9805,149.3338,5846,3551.0,3501,1.5202,34.6803,2,34.6805,2,147.98,2,145.73,2,36.21,2,0.00,2,2.50,2,-999.,9,-999.,9,-999.,9,-999,9,-999,9
49UP20160109,RF16-01,5655,1,6,22113,2,20160211,0535,13.9805,149.3338,5846,3806.9,3751,1.4898,34.6842,2,34.6840,2,153.23,2,143.81,2,35.86,2,0.00,2,2.47,2,-999.,9,-999.,9,-999.,9,-999,9,-999,9
49UP20160109,RF16-01,5655,1,5,24658,2,20160211,0530,13.9805,149.3338,5846,4063.4,4002,1.4725,34.6875,2,34.6869,6,158.22,2,141.48,2,35.51,2,0.00,2,2.45,2,-999.,9,-999.,9,-999.,9,-999,9,-999,9
49UP20160109,RF16-01,5655,1,4,24471,2,20160211,0519,13.9805,149.3338,5846,4576.6,4502,1.4572,34.6928,2,34.6928,2,167.00,2,137.23,2,34.87,2,0.00,2,2.40,2,-999.,9,-999.,9,-999.,9,-999,9,-999,9
49UP20160109,RF16-01,5655,1,3,22104,2,20160211,0509,13.9805,149.3338,5846,5090.6,5002,1.4634,34.6968,2,34.6964,2,173.68,6,133.80,6,34.40,6,0.00,6,2.36,6,-999.,9,-999.,9,-999.,9,-999,9,-999,9
49UP20160109,RF16-01,5655,1,2,22075,2,20160211,0459,13.9805,149.3338,5846,5600.0,5496,1.5161,34.6975,2,34.6982,2,175.74,2,132.87,2,34.21,2,0.00,2,2.35,2,-999.,9,-999.,9,-999.,9,-999,9,-999,9
49UP20160109,RF16-01,5655,1,1,21997,2,20160211,0452,13.9805,149.3338,5846,5988.3,5872,1.5580,34.6978,2,34.6981,6,176.90,2,132.68,2,34.20,2,0.00,2,2.35,2,-999.,9,-999.,9,-999.,9,-999,9,-999,9