BOTTLE,20171126JMAGEMD
EXPOCODE,SECT_ID,STNNBR,CASTNO,SAMPNO,BTLNBR,BTLNBR_FLAG_W,DATE,TIME,LATITUDE,LONGITUDE,DEPTH,CTDPRS,CTDDEP,CTDTMP,CTDSAL,CTDSAL_FLAG_W,SALNTY,SALNTY_FLAG_W,OXYGEN,OXYGEN_FLAG_W,SILCAT,SILCAT_FLAG_W,NO2+NO3,NO2+NO3_FLAG_W,NITRIT,NITRIT_FLAG_W,PHSPHT,PHSPHT_FLAG_W,TCARBN,TCARBN_FLAG_W,ALKALI,ALKALI_FLAG_W,PH_TOT,PH_TOT_FLAG_W,CFC-11,CFC-11_FLAG_W,CFC-12,CFC-12_FLAG_W
,,,,,,,UTC,UTC,,,METER,DBAR,METERS,ITS-90,PSS-78,,PSS-78,,UMOL/KG,,UMOL/KG,,UMOL/KG,,UMOL/KG,,UMOL/KG,,UMOL/KG,,UMOL/KG,,@25DEG-C,,PMOL/KG,,PMOL/KG,
49UP20160109,RF16-01,5608,1,-999,0,2,20160113,2230,24.0105,137.0282,4173,0.0,0,25.9323,34.8591,2,34.8722,2,205.50,2,1.09,2,0.00,2,0.00,2,0.03,2,1962.1,2,2288.4,2,8.0993,2,-999,9,-999,9
49UP20160109,RF16-01,5608,1,36,22109,2,20160113,2245,24.0105,137.0282,4173,10.9,11,25.9386,34.8592,2,34.8610,2,204.54,2,1.06,2,0.00,2,0.00,2,0.02,2,1959.5,2,2287.5,2,8.1014,2,-999,9,-999,9
49UP20160109,RF16-01,5608,1,35,22112,2,20160113,2243,24.0105,137.0282,4173,26.1,26,25.9522,34.8590,2,-999.0000,9,204.89,2,1.09,2,0.00,2,0.00,2,0.02,2,1961.9,2,2285.5,2,8.1000,2,-999,9,-999,9
49UP20160109,RF16-01,5608,1,34,22094,2,20160113,2242,24.0105,137.0282,4173,51.1,51,25.9533,34.8576,2,-999.0000,9,204.60,2,1.10,2,0.00,2,0.00,2,0.02,2,1960.6,2,2287.5,2,8.0987,2,-999,9,-999,9
49UP20160109,RF16-01,5608,1,29,22102,2,20160113,2241,24.0105,137.0282,4173,75.5,75,25.1442,35.0517,2,35.0413,2,203.29,2,1.25,2,0.00,2,0.01,2,0.04,2,1988.3,2,2301.8,2,8.0721,2,-999,9,-999,9
49UP20160109,RF16-01,5608,1,30,22097,2,20160113,2241,24.0105,137.0282,4173,75.9,75,25.1491,35.0657,2,35.0411,4,203.00,2,1.23,2,0.00,2,0.01,2,0.04,2,1985.9,2,2300.5,2,8.0725,2,-999,9,-999,9
49UP20160109,RF16-01,5608,1,28,22108,2,20160113,2237,24.0105,137.0282,4173,101.1,100,23.9055,34.9907,2,34.9891,2,204.41,2,1.44,2,0.18,2,0.13,2,0.05,2,1995.9,2,2296.2,2,8.0534,2,-999,9,-999,9
49UP20160109,RF16-01,5608,1,27,21998,2,20160113,2236,24.0105,137.0282,4173,127.0,126,21.9182,35.0485,2,35.0627,2,191.10,6,1.76,6,1.08,6,0.05,6,0.12,6,2022.5,2,2303.5,2,8.0102,2,-999,9,-999,9
49UP20160109,RF16-01,5608,1,26,22084,2,20160113,2235,24.0105,137.0282,4173,151.9,151,21.0925,35.0694,2,35.0570,2,183.90,2,2.31,2,2.36,2,0.02,2,0.22,2,2055.8,6,2303.5,6,7.9825,2,-999,9,-999,9
49UP20160109,RF16-01,5608,1,25,22098,2,20160113,2233,24.0105,137.0282,4173,201.6,200,18.5779,34.8260,2,34.8271,2,204.49,2,2.84,2,3.09,2,0.01,2,0.23,2,2025.4,2,2286.2,2,7.9801,6,-999,9,-999,9
49UP20160109,RF16-01,5608,1,24,22110,2,20160113,2232,24.0105,137.0282,4173,252.2,250,18.1255,34.8070,2,-999.0000,9,207.09,2,3.17,2,3.47,2,0.01,2,0.24,2,2031.1,2,2283.4,2,7.9763,2,-999,9,-999,9
49UP20160109,RF16-01,5608,1,23,22096,2,20160113,2230,24.0105,137.0282,4173,302.7,301,17.4811,34.7467,2,34.7467,2,205.17,2,3.94,2,4.48,2,0.01,2,0.30,2,2038.3,2,2279.9,2,7.9573,2,-999,9,-999,9
49UP20160109,RF16-01,5608,1,22,22111,2,20160113,2227,24.0105,137.0282,4173,404.6,402,14.8488,34.5361,2,34.5348,2,190.39,2,9.76,2,9.72,2,0.00,2,0.67,2,2084.3,2,2270.8,2,7.8669,2,-999,9,-999,9
49UP20160109,RF16-01,5608,1,21,22078,2,20160113,2225,24.0105,137.0282,4173,504.1,500,12.1377,34.3396,2,34.3292,4,181.52,2,18.88,2,15.23,2,0.00,2,1.07,2,2117.2,2,2270.4,2,7.7769,2,-999,9,-999,9
49UP20160109,RF16-01,5608,1,20,22093,2,20160113,2223,24.0105,137.0282,4173,605.8,601,9.5323,34.1940,2,34.1934,2,152.48,2,32.21,2,22.16,2,0.00,2,1.58,2,2162.6,2,2274.2,2,7.6625,2,-999,9,-999,9
49UP20160109,RF16-01,5608,1,19,22092,4,20160113,2220,24.0105,137.0282,4173,706.6,701,7.0182,34.1239,2,-999.0000,9,-999.00,9,-999.00,9,-999.00,9,-999.00,9,-999.000,9,-999.0,9,-999.0,9,-999.0000,9,-999,9,-999,9
49UP20160109,RF16-01,5608,1,18,22101,2,20160113,2216,24.0105,137.0282,4173,807.7,801,5.5270,34.1994,2,34.2015,2,69.91,2,79.59,2,36.80,2,0.00,2,2.64,2,2283.5,2,2317.7,2,7.4347,2,-999,9,-999,9
49UP20160109,RF16-01,5608,1,17,22090,2,20160113,2213,24.0105,137.0282,4173,908.5,901,4.7692,34.2830,2,-999.0000,9,60.12,2,94.46,2,38.87,2,0.00,2,2.78,2,2313.3,2,2334.7,2,7.4121,2,-999,9,-999,9
49UP20160109,RF16-01,5608,1,16,22089,2,20160113,2211,24.0105,137.0282,4173,1010.8,1002,4.3759,34.3549,2,34.3541,2,58.71,2,103.23,2,39.67,2,0.00,2,2.83,2,2321.4,2,2350.4,2,7.4160,2,-999,9,-999,9
49UP20160109,RF16-01,5608,1,14,21999,2,20160113,2206,24.0105,137.0282,4173,1213.1,1202,3.3667,34.4298,2,34.4289,2,58.70,2,125.69,2,40.74,2,0.00,2,2.89,2,2352.1,2,2374.4,2,7.4080,2,-999,9,-999,9
49UP20160109,RF16-01,5608,1,13,22667,2,20160113,2206,24.0105,137.0282,4173,1213.1,1202,3.3668,34.4297,2,34.4292,2,58.76,2,126.06,2,40.72,2,0.00,2,2.89,2,2347.5,2,2373.9,2,7.4089,2,-999,9,-999,9
49UP20160109,RF16-01,5608,1,12,22074,2,20160113,2200,24.0105,137.0282,4173,1414.4,1401,2.8204,34.5018,2,34.5011,2,72.08,2,135.85,2,40.33,2,0.00,2,2.85,2,2352.1,2,2389.0,2,7.4389,2,-999,9,-999,9
49UP20160109,RF16-01,5608,1,11,24268,2,20160113,2155,24.0105,137.0282,4173,1616.8,1600,2.4685,34.5559,2,34.5552,2,89.47,2,139.29,2,39.39,2,0.00,2,2.77,2,2349.1,6,2400.0,6,7.4714,2,-999,9,-999,9
49UP20160109,RF16-01,5608,1,10,24267,2,20160113,2151,24.0105,137.0282,4173,1820.8,1801,2.2261,34.5836,2,34.5867,4,99.99,2,141.54,2,38.90,2,0.00,2,2.73,2,2348.4,2,2405.2,2,7.4888,6,-999,9,-999,9
49UP20160109,RF16-01,5608,1,9,23518,2,20160113,2145,24.0105,137.0282,4173,2024.1,2002,2.0745,34.6113,2,34.6114,2,112.37,2,141.14,2,38.20,2,0.00,2,2.67,2,2342.9,2,2406.4,2,7.5137,2,-999,9,-999,9
49UP20160109,RF16-01,5608,1,8,22081,2,20160113,2139,24.0105,137.0282,4173,2278.2,2251,1.8783,34.6302,2,34.6302,6,121.62,2,142.34,2,37.73,2,0.00,2,2.63,2,2346.5,2,2411.5,2,7.5282,2,-999,9,-999,9
49UP20160109,RF16-01,5608,1,7,23516,2,20160113,2133,24.0105,137.0282,4173,2532.9,2502,1.7718,34.6440,2,34.6449,2,129.34,6,142.62,6,37.31,6,0.00,6,2.60,6,2347.2,2,2413.5,2,7.5415,2,-999,9,-999,9
49UP20160109,RF16-01,5608,1,6,22113,2,20160113,2126,24.0105,137.0282,4173,2788.9,2753,1.6730,34.6562,2,34.6559,2,136.35,2,142.35,2,36.84,2,0.00,2,2.56,2,2340.1,6,2412.6,6,7.5549,2,-999,9,-999,9
49UP20160109,RF16-01,5608,1,5,24658,2,20160113,2120,24.0105,137.0282,4173,3044.0,3003,1.6253,34.6633,2,34.6628,6,141.30,2,142.09,2,36.60,2,0.00,2,2.54,2,2332.8,2,2412.4,2,7.5640,6,-999,9,-999,9
49UP20160109,RF16-01,5608,1,4,24471,2,20160113,2113,24.0105,137.0282,4173,3299.5,3253,1.5966,34.6686,2,34.6685,2,144.74,2,141.87,2,36.35,2,0.00,2,2.52,2,2332.6,2,2412.0,2,7.5695,2,-999,9,-999,9
49UP20160109,RF16-01,5608,1,3,22104,2,20160113,2107,24.0105,137.0282,4173,3555.9,3504,1.5446,34.6765,2,34.6767,2,150.28,2,141.22,2,36.02,2,0.00,2,2.49,2,2332.3,2,2412.6,2,7.5757,2,-999,9,-999,9
49UP20160109,RF16-01,5608,1,2,22075,2,20160113,2059,24.0105,137.0282,4173,3813.5,3755,1.5166,34.6818,2,34.6819,2,154.75,2,140.44,2,35.73,2,0.00,2,2.47,2,2332.6,2,2412.9,2,7.5846,2,-999,9,-999,9
49UP20160109,RF16-01,5608,1,1,21997,2,20160113,2054,24.0105,137.0282,4173,4014.0,3951,1.5247,34.6828,2,34.6834,6,155.96,6,140.28,6,35.70,6,0.00,6,2.47,6,2327.1,2,2415.4,2,7.5829,2,-999,9,-999,9
49UP20160109,RF16-01,5609,1,-999,0,2,20160114,0810,22.9938,136.9812,2832,0.0,0,25.4168,34.9562,2,-999.,9,206.15,2,1.10,2,0.01,2,0.00,2,0.02,2,-999.,9,-999.,9,-999.,9,-999,9,-999,9
49UP20160109,RF16-01,5609,1,36,22109,2,20160114,0833,22.9938,136.9812,2832,10.5,10,25.4210,34.9575,2,-999.,9,206.01,2,1.22,2,0.01,2,0.00,2,0.02,2,-999.,9,-999.,9,-999.,9,-999,9,-999,9
49UP20160109,RF16-01,5609,1,35,22112,2,20160114,0832,22.9938,136.9812,2832,26.1,26,25.4358,34.9625,2,-999.,9,206.27,2,1.18,2,0.00,2,0.00,2,0.02,2,-999.,9,-999.,9,-999.,9,-999,9,-999,9
49UP20160109,RF16-01,5609,1,34,22094,2,20160114,0831,22.9938,136.9812,2832,51.4,51,25.4835,34.9796,2,-999.,9,205.98,2,1.14,2,0.00,2,0.00,2,0.02,2,-999.,9,-999.,9,-999.,9,-999,9,-999,9
49UP20160109,RF16-01,5609,1,30,22097,2,20160114,0829,22.9938,136.9812,2832,76.8,76,25.4868,34.9805,2,-999.,9,206.06,2,1.17,2,0.00,2,0.00,2,0.02,2,-999.,9,-999.,9,-999.,9,-999,9,-999,9
49UP20160109,RF16-01,5609,1,29,22102,2,20160114,0826,22.9938,136.9812,2832,99.9,99,25.4856,34.9783,2,-999.,9,206.22,6,1.13,6,0.00,6,0.00,6,0.02,6,-999.,9,-999.,9,-999.,9,-999,9,-999,9
49UP20160109,RF16-01,5609,1,28,22108,2,20160114,0825,22.9938,136.9812,2832,123.6,123,23.2040,35.0755,2,-999.,9,197.04,2,1.50,2,0.48,2,0.06,2,0.07,2,-999.,9,-999.,9,-999.,9,-999,9,-999,9
49UP20160109,RF16-01,5609,1,27,21998,2,20160114,0825,22.9938,136.9812,2832,124.3,123,23.1705,35.0768,2,-999.,9,196.96,2,1.42,2,0.48,2,0.05,2,0.07,2,-999.,9,-999.,9,-999.,9,-999,9,-999,9
49UP20160109,RF16-01,5609,1,26,22084,2,20160114,0824,22.9938,136.9812,2832,149.9,149,21.5348,35.0349,2,-999.,9,193.02,2,1.85,2,1.27,2,0.02,2,0.11,2,-999.,9,-999.,9,-999.,9,-999,9,-999,9
49UP20160109,RF16-01,5609,1,25,22098,2,20160114,0822,22.9938,136.9812,2832,201.5,200,19.2963,34.8911,2,-999.,9,201.99,2,2.46,2,2.25,2,0.01,2,0.17,2,-999.,9,-999.,9,-999.,9,-999,9,-999,9
49UP20160109,RF16-01,5609,1,21,22078,2,20160114,0820,22.9938,136.9812,2832,252.3,251,17.7759,34.7786,2,-999.,9,210.13,2,3.23,2,3.39,2,0.01,2,0.24,2,-999.,9,-999.,9,-999.,9,-999,9,-999,9
49UP20160109,RF16-01,5609,1,20,22093,2,20160114,0819,22.9938,136.9812,2832,302.2,300,17.1384,34.7383,2,-999.,9,212.86,2,3.86,2,4.21,2,0.01,2,0.29,2,-999.,9,-999.,9,-999.,9,-999,9,-999,9
49UP20160109,RF16-01,5609,1,19,22092,2,20160114,0816,22.9938,136.9812,2832,402.8,400,15.6406,34.5987,2,-999.,9,195.81,6,7.68,6,8.04,6,0.00,6,0.55,6,-999.,9,-999.,9,-999.,9,-999,9,-999,9
49UP20160109,RF16-01,5609,1,18,22101,2,20160114,0814,22.9938,136.9812,2832,504.6,501,12.0230,34.3390,2,-999.,9,181.77,2,19.35,2,15.13,2,0.00,2,1.05,2,-999.,9,-999.,9,-999.,9,-999,9,-999,9
49UP20160109,RF16-01,5609,1,17,22090,2,20160114,0811,22.9938,136.9812,2832,606.7,602,9.0744,34.1573,2,-999.,9,159.47,2,34.52,2,22.40,2,0.00,2,1.58,2,-999.,9,-999.,9,-999.,9,-999,9,-999,9
49UP20160109,RF16-01,5609,1,16,22089,2,20160114,0808,22.9938,136.9812,2832,706.4,701,6.9022,34.1218,2,-999.,9,108.54,2,56.67,2,30.96,2,0.00,2,2.22,2,-999.,9,-999.,9,-999.,9,-999,9,-999,9
49UP20160109,RF16-01,5609,1,12,22074,2,20160114,0804,22.9938,136.9812,2832,809.7,803,5.5664,34.1845,2,-999.,9,71.51,2,77.60,2,36.61,2,0.00,2,2.63,2,-999.,9,-999.,9,-999.,9,-999,9,-999,9
49UP20160109,RF16-01,5609,1,10,24267,2,20160114,0801,22.9938,136.9812,2832,909.0,901,4.7417,34.2911,2,-999.,9,55.91,2,94.85,2,39.41,2,0.00,2,2.82,2,-999.,9,-999.,9,-999.,9,-999,9,-999,9
49UP20160109,RF16-01,5609,1,11,24268,2,20160114,0801,22.9938,136.9812,2832,910.4,903,4.7282,34.2931,2,-999.,9,55.66,2,94.91,2,39.36,2,0.00,2,2.82,2,-999.,9,-999.,9,-999.,9,-999,9,-999,9
49UP20160109,RF16-01,5609,1,9,23518,2,20160114,0758,22.9938,136.9812,2832,1011.8,1003,4.2622,34.3817,2,-999.,9,56.13,2,104.87,2,40.08,2,0.00,2,2.86,2,-999.,9,-999.,9,-999.,9,-999,9,-999,9
49UP20160109,RF16-01,5609,1,8,22081,2,20160114,0753,22.9938,136.9812,2832,1211.6,1200,3.4007,34.4508,2,-999.,9,63.88,2,123.91,2,40.39,2,0.00,2,2.87,2,-999.,9,-999.,9,-999.,9,-999,9,-999,9
49UP20160109,RF16-01,5609,1,7,23516,2,20160114,0746,22.9938,136.9812,2832,1415.2,1402,2.8986,34.5140,2,-999.,9,75.97,2,133.20,2,40.11,2,0.00,2,2.83,2,-999.,9,-999.,9,-999.,9,-999,9,-999,9
49UP20160109,RF16-01,5609,1,3,22104,2,20160114,0741,22.9938,136.9812,2832,1616.6,1600,2.5946,34.5640,2,-999.,9,94.18,2,136.27,2,38.97,2,0.00,2,2.75,2,-999.,9,-999.,9,-999.,9,-999,9,-999,9
49UP20160109,RF16-01,5609,1,2,22075,2,20160114,0737,22.9938,136.9812,2832,1819.3,1800,2.3580,34.5792,2,-999.,9,98.99,2,139.18,2,38.83,2,0.00,2,2.72,2,-999.,9,-999.,9,-999.,9,-999,9,-999,9
49UP20160109,RF16-01,5609,1,1,21997,2,20160114,0730,22.9938,136.9812,2832,2023.9,2001,2.1022,34.6112,2,-999.,9,112.45,2,140.68,2,38.24,2,0.00,2,2.67,2,-999.,9,-999.,9,-999.,9,-999,9,-999,9
49UP20160109,RF16-01,5610,1,-999,0,2,20160114,2140,22.0273,137.02,4639,0.0,0,25.7545,34.8883,2,-999.,9,205.31,2,1.13,2,0.01,2,0.00,2,0.01,2,-999.,9,-999.,9,-999.,9,-999,9,-999,9
49UP20160109,RF16-01,5610,1,33,24469,2,20160114,2205,22.0273,137.02,4639,10.6,11,25.7479,34.8956,2,-999.,9,204.84,2,1.05,2,0.00,2,0.00,2,0.01,2,-999.,9,-999.,9,-999.,9,-999,9,-999,9
49UP20160109,RF16-01,5610,1,32,22105,2,20160114,2205,22.0273,137.02,4639,11.3,11,25.7570,34.8920,2,-999.,9,205.49,2,1.10,2,0.00,2,0.00,2,0.01,2,-999.,9,-999.,9,-999.,9,-999,9,-999,9
49UP20160109,RF16-01,5610,1,31,23515,2,20160114,2204,22.0273,137.02,4639,27.1,27,25.6725,34.9424,2,-999.,9,205.52,2,1.10,2,0.00,2,0.00,2,0.01,2,-999.,9,-999.,9,-999.,9,-999,9,-999,9
49UP20160109,RF16-01,5610,1,30,22097,2,20160114,2202,22.0273,137.02,4639,52.8,52,25.4483,34.9731,2,-999.,9,206.39,2,1.12,2,0.00,2,0.00,2,0.01,2,-999.,9,-999.,9,-999.,9,-999,9,-999,9
49UP20160109,RF16-01,5610,1,29,22102,2,20160114,2200,22.0273,137.02,4639,77.1,77,25.4512,34.9826,2,-999.,9,206.06,6,1.13,6,0.00,6,0.00,6,0.01,6,-999.,9,-999.,9,-999.,9,-999,9,-999,9
49UP20160109,RF16-01,5610,1,28,22108,2,20160114,2157,22.0273,137.02,4639,101.5,101,25.4580,34.9833,2,-999.,9,206.02,2,1.11,2,0.00,2,0.00,2,0.02,2,-999.,9,-999.,9,-999.,9,-999,9,-999,9
49UP20160109,RF16-01,5610,1,24,22110,2,20160114,2156,22.0273,137.02,4639,125.8,125,23.0714,35.0666,2,-999.,9,199.99,2,1.41,2,0.33,2,0.07,2,0.05,2,-999.,9,-999.,9,-999.,9,-999,9,-999,9
49UP20160109,RF16-01,5610,1,23,22096,2,20160114,2154,22.0273,137.02,4639,153.0,152,21.8629,35.0640,2,-999.,9,193.98,2,1.66,2,0.89,2,0.03,2,0.09,2,-999.,9,-999.,9,-999.,9,-999,9,-999,9
49UP20160109,RF16-01,5610,1,22,22111,2,20160114,2152,22.0273,137.02,4639,203.5,202,18.7709,34.8350,2,-999.,9,200.27,2,2.81,2,3.00,2,0.01,2,0.21,2,-999.,9,-999.,9,-999.,9,-999,9,-999,9
49UP20160109,RF16-01,5610,1,21,22078,2,20160114,2150,22.0273,137.02,4639,254.1,252,17.6723,34.7636,2,-999.,9,205.02,2,3.53,2,3.98,2,0.01,2,0.27,2,-999.,9,-999.,9,-999.,9,-999,9,-999,9
49UP20160109,RF16-01,5610,1,20,22093,2,20160114,2148,22.0273,137.02,4639,303.5,301,16.8374,34.7184,2,-999.,9,212.90,2,4.24,2,4.61,2,0.01,2,0.31,2,-999.,9,-999.,9,-999.,9,-999,9,-999,9
49UP20160109,RF16-01,5610,1,19,22092,2,20160114,2145,22.0273,137.02,4639,404.5,402,14.2480,34.4950,2,-999.,9,192.72,2,11.43,2,10.47,2,0.00,2,0.72,2,-999.,9,-999.,9,-999.,9,-999,9,-999,9
49UP20160109,RF16-01,5610,1,15,22088,2,20160114,2143,22.0273,137.02,4639,506.1,502,11.3540,34.2934,2,-999.,9,179.43,2,22.14,2,16.53,2,0.00,2,1.15,2,-999.,9,-999.,9,-999.,9,-999,9,-999,9
49UP20160109,RF16-01,5610,1,14,21999,2,20160114,2140,22.0273,137.02,4639,606.9,602,8.7008,34.1579,2,-999.,9,144.61,2,38.28,2,24.35,2,0.00,2,1.73,2,-999.,9,-999.,9,-999.,9,-999,9,-999,9
49UP20160109,RF16-01,5610,1,12,22074,2,20160114,2136,22.0273,137.02,4639,706.6,701,6.2641,34.1427,2,-999.,9,91.67,2,65.79,2,33.61,2,0.00,2,2.40,2,-999.,9,-999.,9,-999.,9,-999,9,-999,9
49UP20160109,RF16-01,5610,1,13,22667,2,20160114,2136,22.0273,137.02,4639,706.9,701,6.2515,34.1437,2,-999.,9,91.57,2,65.75,2,33.59,2,0.00,2,2.40,2,-999.,9,-999.,9,-999.,9,-999,9,-999,9
49UP20160109,RF16-01,5610,1,11,24268,2,20160114,2133,22.0273,137.02,4639,807.8,801,5.0935,34.2409,2,-999.,9,60.90,2,87.11,2,38.46,2,0.00,2,2.76,2,-999.,9,-999.,9,-999.,9,-999,9,-999,9
49UP20160109,RF16-01,5610,1,10,24267,2,20160114,2130,22.0273,137.02,4639,908.4,901,4.5414,34.3412,2,-999.,9,58.22,2,99.60,2,39.53,2,0.00,2,2.82,2,-999.,9,-999.,9,-999.,9,-999,9,-999,9
49UP20160109,RF16-01,5610,1,6,22113,2,20160114,2128,22.0273,137.02,4639,1009.8,1001,4.0602,34.4074,2,-999.,9,59.36,2,109.64,2,40.12,2,0.00,2,2.85,2,-999.,9,-999.,9,-999.,9,-999,9,-999,9
49UP20160109,RF16-01,5610,1,5,24658,2,20160114,2123,22.0273,137.02,4639,1210.9,1200,3.4734,34.4766,2,-999.,9,68.65,2,121.49,2,40.07,2,0.00,2,2.84,2,-999.,9,-999.,9,-999.,9,-999,9,-999,9
49UP20160109,RF16-01,5610,1,4,24471,2,20160114,2117,22.0273,137.02,4639,1414.7,1401,2.7917,34.5233,2,-999.,9,77.54,2,135.30,2,40.01,2,0.00,2,2.82,2,-999.,9,-999.,9,-999.,9,-999,9,-999,9
49UP20160109,RF16-01,5610,1,3,22104,2,20160114,2113,22.0273,137.02,4639,1617.9,1602,2.4939,34.5674,2,-999.,9,92.63,2,138.30,2,39.21,2,0.00,2,2.75,2,-999.,9,-999.,9,-999.,9,-999,9,-999,9
49UP20160109,RF16-01,5610,1,2,22075,2,20160114,2109,22.0273,137.02,4639,1817.9,1799,2.2933,34.5914,2,-999.,9,102.79,2,139.96,2,38.71,2,0.00,2,2.71,2,-999.,9,-999.,9,-999.,9,-999,9,-999,9
49UP20160109,RF16-01,5610,1,1,21997,2,20160114,2103,22.0273,137.02,4639,2023.2,2001,2.1060,34.6153,2,-999.,9,112.74,6,140.78,6,38.20,6,0.00,6,2.66,6,-999.,9,-999.,9,-999.,9,-999,9,-999,9