BOTTLE,20171126JMAGEMD
EXPOCODE,SECT_ID,STNNBR,CASTNO,SAMPNO,BTLNBR,BTLNBR_FLAG_W,DATE,TIME,LATITUDE,LONGITUDE,DEPTH,CTDPRS,CTDDEP,CTDTMP,CTDSAL,CTDSAL_FLAG_W,SALNTY,SALNTY_FLAG_W,OXYGEN,OXYGEN_FLAG_W,SILCAT,SILCAT_FLAG_W,NO2+NO3,NO2+NO3_FLAG_W,NITRIT,NITRIT_FLAG_W,PHSPHT,PHSPHT_FLAG_W,TCARBN,TCARBN_FLAG_W,ALKALI,ALKALI_FLAG_W,PH_TOT,PH_TOT_FLAG_W,CFC-11,CFC-11_FLAG_W,CFC-12,CFC-12_FLAG_W
,,,,,,,UTC,UTC,,,METER,DBAR,METERS,ITS-90,PSS-78,,PSS-78,,UMOL/KG,,UMOL/KG,,UMOL/KG,,UMOL/KG,,UMOL/KG,,UMOL/KG,,UMOL/KG,,@25DEG-C,,PMOL/KG,,PMOL/KG,
49UP20160109,RF16-01,5626,1,-999,0,2,20160120,1428,5.99,136.9922,4452,0.0,0,28.5128,34.4707,2,-999.,9,197.95,2,1.27,2,0.01,2,0.00,2,0.05,2,-999.,9,-999.,9,-999.,9,-999,9,-999,9
49UP20160109,RF16-01,5626,1,36,22109,2,20160120,1457,5.99,136.9922,4452,11.6,12,28.5206,34.4699,2,-999.,9,197.66,6,1.35,6,0.02,6,0.00,6,0.04,6,-999.,9,-999.,9,-999.,9,-999,9,-999,9
49UP20160109,RF16-01,5626,1,35,22112,2,20160120,1456,5.99,136.9922,4452,25.0,25,28.5220,34.4669,2,-999.,9,197.48,2,1.35,2,0.02,2,0.00,2,0.05,2,-999.,9,-999.,9,-999.,9,-999,9,-999,9
49UP20160109,RF16-01,5626,1,34,22094,2,20160120,1454,5.99,136.9922,4452,51.8,52,20.6966,34.7590,2,-999.,9,187.75,2,4.54,6,1.97,6,0.08,6,0.38,6,-999.,9,-999.,9,-999.,9,-999,9,-999,9
49UP20160109,RF16-01,5626,1,33,24469,2,20160120,1453,5.99,136.9922,4452,77.0,77,15.7540,34.6147,2,-999.,9,141.93,2,13.41,2,14.03,2,0.34,2,1.03,2,-999.,9,-999.,9,-999.,9,-999,9,-999,9
49UP20160109,RF16-01,5626,1,32,22105,2,20160120,1451,5.99,136.9922,4452,102.3,102,12.7456,34.4768,2,-999.,9,129.55,2,20.00,2,18.95,2,0.08,2,1.37,2,-999.,9,-999.,9,-999.,9,-999,9,-999,9
49UP20160109,RF16-01,5626,1,31,23515,2,20160120,1450,5.99,136.9922,4452,126.3,126,11.2415,34.4554,2,-999.,9,107.05,2,28.19,2,24.18,2,0.01,2,1.74,2,-999.,9,-999.,9,-999.,9,-999,9,-999,9
49UP20160109,RF16-01,5626,1,27,21998,2,20160120,1447,5.99,136.9922,4452,151.8,151,10.3159,34.4751,2,-999.,9,102.76,2,32.00,2,26.17,2,0.01,2,1.88,2,-999.,9,-999.,9,-999.,9,-999,9,-999,9
49UP20160109,RF16-01,5626,1,25,22098,2,20160120,1445,5.99,136.9922,4452,201.5,200,9.0619,34.5259,2,-999.,9,99.92,2,37.02,2,29.10,2,0.00,2,2.06,2,-999.,9,-999.,9,-999.,9,-999,9,-999,9
49UP20160109,RF16-01,5626,1,26,22084,2,20160120,1445,5.99,136.9922,4452,202.2,201,9.0315,34.5253,2,-999.,9,100.15,2,36.95,2,29.05,2,0.00,2,2.06,2,-999.,9,-999.,9,-999.,9,-999,9,-999,9
49UP20160109,RF16-01,5626,1,24,22110,2,20160120,1444,5.99,136.9922,4452,252.1,251,8.3503,34.5348,2,-999.,9,91.14,2,40.25,2,31.40,2,0.00,2,2.22,2,-999.,9,-999.,9,-999.,9,-999,9,-999,9
49UP20160109,RF16-01,5626,1,23,22096,2,20160120,1442,5.99,136.9922,4452,302.9,301,8.0304,34.5337,2,-999.,9,99.49,2,40.82,2,31.32,2,0.00,2,2.20,2,-999.,9,-999.,9,-999.,9,-999,9,-999,9
49UP20160109,RF16-01,5626,1,22,22111,2,20160120,1440,5.99,136.9922,4452,353.8,352,7.7031,34.5443,2,-999.,9,108.94,2,40.12,2,31.24,2,0.00,2,2.19,2,-999.,9,-999.,9,-999.,9,-999,9,-999,9
49UP20160109,RF16-01,5626,1,18,22101,2,20160120,1439,5.99,136.9922,4452,403.2,401,7.5159,34.5419,2,-999.,9,109.71,2,41.14,2,31.63,2,0.00,2,2.22,2,-999.,9,-999.,9,-999.,9,-999,9,-999,9
49UP20160109,RF16-01,5626,1,17,22090,2,20160120,1437,5.99,136.9922,4452,453.8,451,7.3149,34.5466,2,-999.,9,111.01,2,41.33,2,32.05,2,0.00,2,2.25,2,-999.,9,-999.,9,-999.,9,-999,9,-999,9
49UP20160109,RF16-01,5626,1,15,22088,2,20160120,1436,5.99,136.9922,4452,503.5,500,7.0929,34.5426,2,-999.,9,110.89,2,42.94,2,32.50,2,0.00,2,2.28,2,-999.,9,-999.,9,-999.,9,-999,9,-999,9
49UP20160109,RF16-01,5626,1,16,22089,2,20160120,1436,5.99,136.9922,4452,504.0,501,7.0897,34.5425,2,-999.,9,110.91,2,42.98,2,32.49,2,0.00,2,2.28,2,-999.,9,-999.,9,-999.,9,-999,9,-999,9
49UP20160109,RF16-01,5626,1,14,21999,2,20160120,1433,5.99,136.9922,4452,605.6,601,6.5997,34.5276,2,-999.,9,98.41,2,53.04,2,34.30,2,0.00,2,2.42,2,-999.,9,-999.,9,-999.,9,-999,9,-999,9
49UP20160109,RF16-01,5626,1,13,22667,2,20160120,1429,5.99,136.9922,4452,706.5,701,6.0865,34.5297,2,-999.,9,95.44,2,59.28,2,35.59,2,0.00,2,2.52,2,-999.,9,-999.,9,-999.,9,-999,9,-999,9
49UP20160109,RF16-01,5626,1,11,24268,2,20160120,1424,5.99,136.9922,4452,807.1,801,5.5150,34.5325,2,-999.,9,89.30,2,71.16,2,36.81,2,0.00,2,2.61,2,-999.,9,-999.,9,-999.,9,-999,9,-999,9
49UP20160109,RF16-01,5626,1,10,24267,2,20160120,1421,5.99,136.9922,4452,906.8,900,5.0116,34.5412,2,-999.,9,89.24,2,80.89,2,37.53,2,0.00,2,2.66,2,-999.,9,-999.,9,-999.,9,-999,9,-999,9
49UP20160109,RF16-01,5626,1,9,23518,2,20160120,1419,5.99,136.9922,4452,1008.1,1000,4.4405,34.5552,2,-999.,9,88.89,2,92.07,2,38.10,2,0.00,2,2.71,2,-999.,9,-999.,9,-999.,9,-999,9,-999,9
49UP20160109,RF16-01,5626,1,8,22081,2,20160120,1414,5.99,136.9922,4452,1210.2,1200,3.5713,34.5788,2,-999.,9,94.30,6,109.12,6,38.73,6,0.00,6,2.74,6,-999.,9,-999.,9,-999.,9,-999,9,-999,9
49UP20160109,RF16-01,5626,1,7,23516,2,20160120,1406,5.99,136.9922,4452,1413.9,1401,3.0719,34.5972,2,-999.,9,99.37,2,118.99,2,38.79,2,0.00,2,2.74,2,-999.,9,-999.,9,-999.,9,-999,9,-999,9
49UP20160109,RF16-01,5626,1,6,22113,2,20160120,1402,5.99,136.9922,4452,1616.5,1601,2.7022,34.6128,2,-999.,9,104.15,2,126.54,2,38.75,2,0.00,2,2.73,2,-999.,9,-999.,9,-999.,9,-999,9,-999,9
49UP20160109,RF16-01,5626,1,5,24658,2,20160120,1358,5.99,136.9922,4452,1819.3,1801,2.3991,34.6263,2,-999.,9,109.35,2,133.31,2,38.49,2,0.00,2,2.71,2,-999.,9,-999.,9,-999.,9,-999,9,-999,9
49UP20160109,RF16-01,5626,1,4,24471,2,20160120,1351,5.99,136.9922,4452,2022.5,2002,2.2552,34.6343,2,-999.,9,112.94,2,136.32,2,38.43,2,0.00,2,2.69,2,-999.,9,-999.,9,-999.,9,-999,9,-999,9
49UP20160109,RF16-01,5627,1,-999,0,2,20160120,2312,4.9883,137.0553,5110,0.0,0,28.3822,34.5090,2,34.5175,2,198.92,2,1.21,2,0.06,2,0.00,2,0.06,2,1944.5,2,2267.1,2,8.1081,2,-999,9,-999,9
49UP20160109,RF16-01,5627,1,36,22109,2,20160120,2341,4.9883,137.0553,5110,10.0,10,28.3847,34.5082,2,34.5080,2,197.33,2,1.22,2,0.05,2,0.00,2,0.04,2,1944.3,2,2267.1,2,8.1090,2,-999,9,-999,9
49UP20160109,RF16-01,5627,1,35,22112,2,20160120,2340,4.9883,137.0553,5110,26.0,26,28.3700,34.5047,2,34.5099,2,198.42,2,1.17,2,0.03,2,0.00,2,0.04,2,1940.9,2,2268.4,2,8.1073,2,-999,9,-999,9
49UP20160109,RF16-01,5627,1,34,22094,2,20160120,2339,4.9883,137.0553,5110,51.4,51,22.0255,35.0367,2,-999.0000,9,191.45,2,2.37,2,0.20,2,0.01,2,0.17,2,2042.5,2,2307.4,2,7.9988,2,-999,9,-999,9
49UP20160109,RF16-01,5627,1,33,24469,2,20160120,2338,4.9883,137.0553,5110,77.4,77,16.8143,34.6936,2,34.6904,2,161.36,2,8.60,2,9.61,2,0.23,2,0.72,2,2096.3,2,2285.8,2,7.8497,2,-999,9,-999,9
49UP20160109,RF16-01,5627,1,32,22105,2,20160120,2335,4.9883,137.0553,5110,100.6,100,13.6907,34.5124,2,34.5218,2,131.48,6,16.84,6,16.93,6,0.04,6,1.24,6,2139.1,2,2278.4,2,7.7358,2,-999,9,-999,9
49UP20160109,RF16-01,5627,1,31,23515,2,20160120,2334,4.9883,137.0553,5110,126.2,125,11.9975,34.4447,2,-999.0000,9,113.95,2,23.43,2,21.61,2,0.01,2,1.57,2,2169.9,6,2282.7,6,7.6633,2,-999,9,-999,9
49UP20160109,RF16-01,5627,1,30,22097,2,20160120,2333,4.9883,137.0553,5110,151.0,150,10.3954,34.4293,2,34.4289,2,98.21,2,31.55,2,26.19,2,0.00,2,1.88,2,2199.3,2,2290.6,2,7.5993,6,-999,9,-999,9
49UP20160109,RF16-01,5627,1,29,22102,2,20160120,2331,4.9883,137.0553,5110,201.8,201,9.0371,34.4807,2,34.4803,2,99.98,2,37.65,2,28.89,2,0.00,2,2.05,2,2217.7,2,2300.0,2,7.5803,2,-999,9,-999,9
49UP20160109,RF16-01,5627,1,28,22108,2,20160120,2329,4.9883,137.0553,5110,252.3,251,8.2936,34.4758,2,-999.0000,9,101.09,2,42.43,2,30.23,2,0.00,2,2.14,2,2227.2,2,2307.3,2,7.5658,2,-999,9,-999,9
49UP20160109,RF16-01,5627,1,27,21998,2,20160120,2328,4.9883,137.0553,5110,302.5,301,7.8827,34.5123,2,34.5106,2,104.17,2,42.57,2,31.05,2,0.00,2,2.18,2,2227.7,2,2308.7,2,7.5671,2,-999,9,-999,9
49UP20160109,RF16-01,5627,1,26,22084,2,20160120,2326,4.9883,137.0553,5110,351.3,349,7.6452,34.5151,2,-999.0000,9,104.74,2,43.65,2,31.53,2,0.00,2,2.22,2,2232.6,2,2312.5,2,7.5623,2,-999,9,-999,9
49UP20160109,RF16-01,5627,1,25,22098,3,20160120,2324,4.9883,137.0553,5110,403.1,400,7.3362,34.5248,2,34.5235,2,110.23,2,43.68,2,31.81,2,0.00,2,2.23,2,2238.6,2,2314.5,2,7.5682,2,-999,9,-999,9
49UP20160109,RF16-01,5627,1,24,22110,2,20160120,2323,4.9883,137.0553,5110,451.5,449,7.0259,34.5097,2,34.5087,2,106.69,2,48.45,2,32.62,2,0.00,2,2.29,2,2239.1,2,2316.9,2,7.5559,2,-999,9,-999,9
49UP20160109,RF16-01,5627,1,23,22096,3,20160120,2321,4.9883,137.0553,5110,504.1,501,6.7164,34.5142,2,34.5132,2,107.26,2,50.63,2,33.09,2,0.00,2,2.33,2,2243.7,2,2319.4,2,7.5529,2,-999,9,-999,9
49UP20160109,RF16-01,5627,1,22,22111,2,20160120,2318,4.9883,137.0553,5110,604.2,600,6.0966,34.5238,2,34.5246,2,124.99,2,48.82,2,33.32,2,0.00,2,2.33,2,2241.8,2,2321.1,2,7.5686,2,-999,9,-999,9
49UP20160109,RF16-01,5627,1,21,22078,2,20160120,2313,4.9883,137.0553,5110,705.2,700,5.8299,34.5231,2,-999.0000,9,122.80,2,53.04,2,33.93,2,0.00,2,2.37,2,2252.7,2,2325.3,2,7.5649,2,-999,9,-999,9
49UP20160109,RF16-01,5627,1,20,22093,2,20160120,2309,4.9883,137.0553,5110,805.6,800,5.4615,34.5316,2,34.5307,2,110.95,2,62.96,2,35.49,2,0.00,2,2.49,2,2266.7,6,2334.1,6,7.5450,2,-999,9,-999,9
49UP20160109,RF16-01,5627,1,19,22092,2,20160120,2307,4.9883,137.0553,5110,907.2,900,4.8780,34.5457,2,-999.0000,9,98.23,2,78.10,2,37.28,2,0.00,2,2.63,2,2292.7,2,2350.5,2,7.5175,6,-999,9,-999,9
49UP20160109,RF16-01,5627,1,18,22101,2,20160120,2304,4.9883,137.0553,5110,1008.4,1000,4.5640,34.5534,2,34.5523,2,96.08,2,85.43,2,37.68,2,0.00,2,2.67,2,2296.4,2,2356.4,2,7.5120,2,-999,9,-999,9
49UP20160109,RF16-01,5627,1,17,22090,2,20160120,2259,4.9883,137.0553,5110,1210.9,1201,3.7879,34.5745,2,34.5735,2,96.90,2,102.32,2,38.47,2,0.00,2,2.72,2,2315.1,2,2374.6,2,7.5096,2,-999,9,-999,9
49UP20160109,RF16-01,5627,1,16,22089,3,20160120,2251,4.9883,137.0553,5110,1412.8,1400,3.2275,34.5925,2,34.5912,2,99.51,2,114.42,2,38.68,2,0.00,2,2.74,2,2330.8,2,2388.5,2,7.5078,2,-999,9,-999,9
49UP20160109,RF16-01,5627,1,15,22088,2,20160120,2246,4.9883,137.0553,5110,1617.5,1602,2.7766,34.6098,2,34.6081,2,103.86,2,124.41,2,38.66,2,0.00,2,2.72,2,2333.3,2,2396.3,2,7.5156,2,-999,9,-999,9
49UP20160109,RF16-01,5627,1,14,21999,2,20160120,2242,4.9883,137.0553,5110,1818.8,1801,2.4533,34.6248,2,34.6238,2,108.35,2,132.38,2,38.62,2,0.00,2,2.71,2,2341.5,2,2406.4,2,7.5190,2,-999,9,-999,9
49UP20160109,RF16-01,5627,1,13,22667,2,20160120,2236,4.9883,137.0553,5110,2020.6,2000,2.2107,34.6370,2,34.6358,2,114.13,2,136.38,2,38.35,2,0.00,2,2.68,2,2343.1,2,2410.7,2,7.5292,2,-999,9,-999,9
49UP20160109,RF16-01,5627,1,12,22074,2,20160120,2231,4.9883,137.0553,5110,2276.0,2251,1.9474,34.6511,2,34.6515,2,123.08,2,140.95,2,37.88,2,0.00,2,2.64,2,2343.7,2,2417.3,2,7.5386,2,-999,9,-999,9
49UP20160109,RF16-01,5627,1,11,24268,2,20160120,2226,4.9883,137.0553,5110,2529.6,2501,1.7976,34.6593,2,34.6586,2,131.01,2,141.96,2,37.32,2,0.00,2,2.60,2,2349.8,3,2415.1,2,7.5565,2,-999,9,-999,9
49UP20160109,RF16-01,5627,1,10,24267,2,20160120,2219,4.9883,137.0553,5110,2783.7,2750,1.6629,34.6673,2,34.6664,2,138.64,2,142.51,2,36.78,2,0.00,2,2.55,2,2337.6,2,2418.2,2,7.5637,2,-999,9,-999,9
49UP20160109,RF16-01,5627,1,9,23518,2,20160120,2214,4.9883,137.0553,5110,3039.9,3001,1.5790,34.6735,2,34.6732,2,144.38,2,141.97,2,36.37,2,0.00,2,2.51,2,2333.9,6,2418.8,6,7.5746,2,-999,9,-999,9
49UP20160109,RF16-01,5627,1,8,22081,2,20160120,2207,4.9883,137.0553,5110,3294.5,3251,1.5592,34.6762,2,34.6756,2,147.27,2,142.37,2,36.28,2,0.00,2,2.51,2,2331.5,2,2419.9,2,7.5762,6,-999,9,-999,9
49UP20160109,RF16-01,5627,1,7,23516,2,20160120,2202,4.9883,137.0553,5110,3550.3,3501,1.5419,34.6793,2,34.6793,2,149.97,6,141.99,6,36.14,6,0.00,6,2.49,6,2333.6,2,2420.0,2,7.5810,2,-999,9,-999,9
49UP20160109,RF16-01,5627,1,6,22113,2,20160120,2155,4.9883,137.0553,5110,3806.9,3752,1.5312,34.6823,2,34.6816,2,152.20,2,141.66,2,35.96,2,0.00,2,2.48,2,2329.5,2,2419.6,2,7.5871,2,-999,9,-999,9
49UP20160109,RF16-01,5627,1,5,24658,2,20160120,2149,4.9883,137.0553,5110,4063.2,4002,1.5171,34.6852,2,34.6852,2,155.12,2,141.02,2,35.76,2,0.00,2,2.46,2,2327.0,2,2418.3,2,7.5914,2,-999,9,-999,9
49UP20160109,RF16-01,5627,1,4,24471,2,20160120,2139,4.9883,137.0553,5110,4574.8,4501,1.5300,34.6882,2,34.6876,2,159.67,6,139.72,6,35.48,6,0.00,6,2.44,6,2324.5,2,2415.0,2,7.5948,2,-999,9,-999,9
49UP20160109,RF16-01,5627,1,3,22104,2,20160120,2134,4.9883,137.0553,5110,4832.1,4752,1.5520,34.6888,2,34.6890,6,160.47,2,139.35,2,35.43,2,0.00,2,2.43,2,2322.9,2,2414.8,2,7.5943,2,-999,9,-999,9
49UP20160109,RF16-01,5627,1,2,22075,2,20160120,2128,4.9883,137.0553,5110,5087.8,5000,1.5801,34.6889,2,34.6883,6,160.89,2,138.90,2,35.34,2,0.00,2,2.43,2,2322.6,2,2414.1,2,7.5961,2,-999,9,-999,9
49UP20160109,RF16-01,5627,1,1,21997,2,20160120,2125,4.9883,137.0553,5110,5192.3,5102,1.5938,34.6889,2,34.6884,6,160.82,6,139.29,6,35.40,6,0.00,6,2.43,6,2326.6,2,2413.8,2,7.5950,2,-999,9,-999,9
49UP20160109,RF16-01,5628,1,-999,0,2,20160121,0905,4.006,137.0268,4585,0.0,0,27.7326,34.5809,2,-999.,9,203.53,2,1.28,2,0.04,2,0.01,2,0.09,2,-999.,9,-999.,9,-999.,9,-999,9,-999,9
49UP20160109,RF16-01,5628,1,33,24469,2,20160121,0932,4.006,137.0268,4585,10.4,10,27.7497,34.5815,2,-999.,9,203.48,2,1.28,2,0.04,2,0.00,2,0.08,2,-999.,9,-999.,9,-999.,9,-999,9,-999,9
49UP20160109,RF16-01,5628,1,32,22105,2,20160121,0930,4.006,137.0268,4585,25.5,25,27.6731,34.5753,2,-999.,9,203.45,2,1.28,2,0.04,2,0.00,2,0.09,2,-999.,9,-999.,9,-999.,9,-999,9,-999,9
49UP20160109,RF16-01,5628,1,31,23515,2,20160121,0929,4.006,137.0268,4585,52.1,52,24.2661,35.0684,2,-999.,9,200.75,2,1.50,2,0.04,2,0.00,2,0.09,2,-999.,9,-999.,9,-999.,9,-999,9,-999,9
49UP20160109,RF16-01,5628,1,30,22097,2,20160121,0927,4.006,137.0268,4585,77.9,77,20.3086,34.9350,2,-999.,9,180.32,6,3.66,6,3.53,6,0.21,6,0.30,6,-999.,9,-999.,9,-999.,9,-999,9,-999,9
49UP20160109,RF16-01,5628,1,29,22102,2,20160121,0926,4.006,137.0268,4585,101.3,101,16.2859,34.6501,2,-999.,9,156.00,2,12.83,2,11.69,2,0.02,2,0.85,2,-999.,9,-999.,9,-999.,9,-999,9,-999,9
49UP20160109,RF16-01,5628,1,28,22108,2,20160121,0925,4.006,137.0268,4585,127.3,127,16.0108,34.8895,2,-999.,9,149.83,2,11.97,2,13.26,2,0.01,2,0.98,2,-999.,9,-999.,9,-999.,9,-999,9,-999,9
49UP20160109,RF16-01,5628,1,24,22110,2,20160121,0921,4.006,137.0268,4585,151.7,151,15.1614,34.8101,2,-999.,9,149.80,2,14.10,2,14.48,2,0.01,2,1.06,2,-999.,9,-999.,9,-999.,9,-999,9,-999,9
49UP20160109,RF16-01,5628,1,22,22111,2,20160121,0920,4.006,137.0268,4585,202.0,201,12.3912,34.6574,2,-999.,9,134.93,2,24.01,2,20.34,2,0.01,2,1.46,2,-999.,9,-999.,9,-999.,9,-999,9,-999,9
49UP20160109,RF16-01,5628,1,23,22096,2,20160121,0920,4.006,137.0268,4585,202.2,201,12.3941,34.6570,2,-999.,9,134.60,2,24.12,2,20.36,2,0.01,2,1.46,2,-999.,9,-999.,9,-999.,9,-999,9,-999,9
49UP20160109,RF16-01,5628,1,21,22078,2,20160121,0918,4.006,137.0268,4585,251.9,250,9.9499,34.6081,2,-999.,9,119.72,2,30.67,2,25.87,2,0.00,2,1.84,2,-999.,9,-999.,9,-999.,9,-999,9,-999,9
49UP20160109,RF16-01,5628,1,20,22093,2,20160121,0916,4.006,137.0268,4585,301.9,300,9.8642,34.7043,2,-999.,9,90.62,2,27.16,2,29.35,2,0.00,2,2.04,2,-999.,9,-999.,9,-999.,9,-999,9,-999,9
49UP20160109,RF16-01,5628,1,19,22092,2,20160121,0914,4.006,137.0268,4585,352.6,350,9.4958,34.6813,2,-999.,9,93.39,2,28.20,2,29.85,2,0.00,2,2.08,2,-999.,9,-999.,9,-999.,9,-999,9,-999,9
49UP20160109,RF16-01,5628,1,15,22088,2,20160121,0913,4.006,137.0268,4585,403.9,401,8.8682,34.6349,2,-999.,9,104.43,6,30.26,6,29.95,6,0.00,6,2.08,6,-999.,9,-999.,9,-999.,9,-999,9,-999,9
49UP20160109,RF16-01,5628,1,14,21999,2,20160121,0911,4.006,137.0268,4585,455.0,452,8.1694,34.5979,2,-999.,9,113.11,2,32.71,2,30.47,2,0.00,2,2.12,2,-999.,9,-999.,9,-999.,9,-999,9,-999,9
49UP20160109,RF16-01,5628,1,13,22667,2,20160121,0909,4.006,137.0268,4585,504.5,501,7.8347,34.5805,2,-999.,9,143.72,2,28.42,2,28.35,2,0.00,2,1.97,2,-999.,9,-999.,9,-999.,9,-999,9,-999,9
49UP20160109,RF16-01,5628,1,12,22074,2,20160121,0907,4.006,137.0268,4585,606.3,602,6.9708,34.5465,2,-999.,9,106.89,2,43.87,2,33.28,2,0.00,2,2.34,2,-999.,9,-999.,9,-999.,9,-999,9,-999,9
49UP20160109,RF16-01,5628,1,11,24268,2,20160121,0904,4.006,137.0268,4585,705.8,701,6.2776,34.5291,2,-999.,9,114.14,2,50.21,2,33.90,2,0.00,2,2.38,2,-999.,9,-999.,9,-999.,9,-999,9,-999,9
49UP20160109,RF16-01,5628,1,10,24267,2,20160121,0858,4.006,137.0268,4585,809.2,803,5.5319,34.5303,2,-999.,9,110.47,2,61.21,2,35.52,2,0.00,2,2.50,2,-999.,9,-999.,9,-999.,9,-999,9,-999,9
49UP20160109,RF16-01,5628,1,8,22081,2,20160121,0855,4.006,137.0268,4585,909.5,903,4.9814,34.5382,2,-999.,9,106.43,2,71.77,2,36.48,2,0.00,2,2.58,2,-999.,9,-999.,9,-999.,9,-999,9,-999,9
49UP20160109,RF16-01,5628,1,7,23516,2,20160121,0852,4.006,137.0268,4585,1009.6,1002,4.6159,34.5522,2,-999.,9,93.26,2,84.86,2,37.95,2,0.00,2,2.69,2,-999.,9,-999.,9,-999.,9,-999,9,-999,9
49UP20160109,RF16-01,5628,1,6,22113,2,20160121,0848,4.006,137.0268,4585,1212.7,1203,3.9392,34.5703,2,-999.,9,94.43,2,99.71,2,38.50,2,0.00,2,2.73,2,-999.,9,-999.,9,-999.,9,-999,9,-999,9
49UP20160109,RF16-01,5628,1,5,24658,2,20160121,0839,4.006,137.0268,4585,1414.2,1402,3.3582,34.5876,2,-999.,9,97.81,2,112.57,2,38.68,2,0.00,2,2.74,2,-999.,9,-999.,9,-999.,9,-999,9,-999,9
49UP20160109,RF16-01,5628,1,3,22104,2,20160121,0835,4.006,137.0268,4585,1616.0,1601,2.9172,34.6046,2,-999.,9,101.62,2,121.62,2,38.77,2,0.00,2,2.74,2,-999.,9,-999.,9,-999.,9,-999,9,-999,9
49UP20160109,RF16-01,5628,1,4,24471,2,20160121,0835,4.006,137.0268,4585,1616.2,1601,2.9164,34.6045,2,-999.,9,102.24,2,121.66,2,38.80,2,0.00,2,2.74,2,-999.,9,-999.,9,-999.,9,-999,9,-999,9
49UP20160109,RF16-01,5628,1,2,22075,2,20160121,0831,4.006,137.0268,4585,1818.3,1800,2.4945,34.6227,2,-999.,9,106.71,2,131.54,2,38.59,2,0.00,2,2.72,2,-999.,9,-999.,9,-999.,9,-999,9,-999,9
49UP20160109,RF16-01,5628,1,1,21997,2,20160121,0824,4.006,137.0268,4585,2023.8,2003,2.2064,34.6373,2,-999.,9,114.14,2,137.07,2,38.34,2,0.00,2,2.69,2,-999.,9,-999.,9,-999.,9,-999,9,-999,9