BOTTLE,20171126JMAGEMD
EXPOCODE,SECT_ID,STNNBR,CASTNO,SAMPNO,BTLNBR,BTLNBR_FLAG_W,DATE,TIME,LATITUDE,LONGITUDE,DEPTH,CTDPRS,CTDDEP,CTDTMP,CTDSAL,CTDSAL_FLAG_W,SALNTY,SALNTY_FLAG_W,OXYGEN,OXYGEN_FLAG_W,SILCAT,SILCAT_FLAG_W,NO2+NO3,NO2+NO3_FLAG_W,NITRIT,NITRIT_FLAG_W,PHSPHT,PHSPHT_FLAG_W,TCARBN,TCARBN_FLAG_W,ALKALI,ALKALI_FLAG_W,PH_TOT,PH_TOT_FLAG_W,CFC-11,CFC-11_FLAG_W,CFC-12,CFC-12_FLAG_W
,,,,,,,UTC,UTC,,,METER,DBAR,METERS,ITS-90,PSS-78,,PSS-78,,UMOL/KG,,UMOL/KG,,UMOL/KG,,UMOL/KG,,UMOL/KG,,UMOL/KG,,UMOL/KG,,@25DEG-C,,PMOL/KG,,PMOL/KG,
49UP20160109,RF16-01,5602,1,-999,0,2,20160111,2040,29.9918,136.9743,4362,0.0,0,21.0734,34.7231,2,34.4534,2,220.65,2,1.55,2,0.20,2,0.06,2,0.03,2,1969.6,2,2261.4,2,8.0612,2,-999,9,-999,9
49UP20160109,RF16-01,5602,1,36,22109,2,20160111,2056,29.9918,136.9743,4362,10.8,11,21.1340,34.8399,2,34.8354,2,219.06,2,1.53,2,0.12,2,0.07,2,0.03,2,1988.0,2,2287.6,2,8.0578,2,-999,9,-999,9
49UP20160109,RF16-01,5602,1,35,22112,2,20160111,2055,29.9918,136.9743,4362,25.9,26,21.0853,34.8440,2,34.8446,2,217.56,2,1.64,2,0.30,2,0.18,2,0.04,2,1992.5,2,2288.8,2,8.0539,2,-999,9,-999,9
49UP20160109,RF16-01,5602,1,34,22094,2,20160111,2050,29.9918,136.9743,4362,51.8,51,21.0550,34.8500,2,34.8506,2,218.47,6,1.57,6,0.21,6,0.12,6,0.04,6,1989.2,2,2288.3,2,8.0553,2,-999,9,-999,9
49UP20160109,RF16-01,5602,1,32,22105,2,20160111,2049,29.9918,136.9743,4362,75.8,75,21.0353,34.8507,2,-999.0000,9,218.18,2,1.56,2,0.24,2,0.13,2,0.04,2,1992.7,2,2287.7,2,8.0547,2,-999,9,-999,9
49UP20160109,RF16-01,5602,1,30,22097,2,20160111,2048,29.9918,136.9743,4362,101.9,101,21.0406,34.8505,2,34.9870,4,218.48,2,1.58,2,0.23,2,0.13,2,0.04,2,1989.1,2,2287.7,2,8.0530,2,-999,9,-999,9
49UP20160109,RF16-01,5602,1,31,23515,2,20160111,2048,29.9918,136.9743,4362,102.1,101,21.0397,34.8505,2,34.8499,2,217.93,2,1.60,2,0.24,2,0.13,2,0.04,2,1993.1,2,2289.4,2,8.0578,2,-999,9,-999,9
49UP20160109,RF16-01,5602,1,29,22102,2,20160111,2047,29.9918,136.9743,4362,126.8,126,21.0082,34.8479,2,34.8481,2,217.42,2,1.61,2,0.33,2,0.15,2,0.04,2,1996.0,6,2285.8,6,8.0525,2,-999,9,-999,9
49UP20160109,RF16-01,5602,1,28,22108,2,20160111,2045,29.9918,136.9743,4362,152.4,151,20.2855,34.8508,2,-999.0000,9,203.59,2,2.30,2,1.85,2,0.07,2,0.14,2,2020.1,2,2285.5,2,8.0115,6,-999,9,-999,9
49UP20160109,RF16-01,5602,1,27,21998,2,20160111,2044,29.9918,136.9743,4362,201.8,200,18.8793,34.8260,2,34.8242,2,201.88,2,2.83,2,3.00,2,0.01,2,0.21,2,2031.1,2,2284.4,2,7.9821,2,-999,9,-999,9
49UP20160109,RF16-01,5602,1,26,22084,2,20160111,2042,29.9918,136.9743,4362,254.9,253,18.1597,34.8038,2,34.8030,2,206.06,2,3.18,2,3.52,2,0.01,2,0.24,2,2035.2,2,2283.7,2,7.9786,2,-999,9,-999,9
49UP20160109,RF16-01,5602,1,25,22098,2,20160111,2040,29.9918,136.9743,4362,305.0,303,17.5976,34.7481,2,34.7436,2,199.94,2,4.37,2,4.86,2,0.01,2,0.32,2,2041.1,2,2279.7,2,7.9549,2,-999,9,-999,9
49UP20160109,RF16-01,5602,1,24,22110,2,20160111,2037,29.9918,136.9743,4362,405.2,402,16.4141,34.6672,2,34.6685,2,199.32,2,6.22,2,6.61,2,0.01,2,0.44,2,2048.7,2,2277.0,2,7.9253,2,-999,9,-999,9
49UP20160109,RF16-01,5602,1,23,22096,2,20160111,2034,29.9918,136.9743,4362,506.3,502,14.2636,34.5084,2,-999.0000,9,181.01,2,13.35,2,11.71,2,0.00,2,0.80,2,2090.1,2,2275.7,2,7.8422,2,-999,9,-999,9
49UP20160109,RF16-01,5602,1,22,22111,2,20160111,2032,29.9918,136.9743,4362,606.3,601,11.6244,34.3361,2,34.3361,2,169.11,2,23.64,2,17.17,2,0.00,2,1.20,2,2127.8,2,2277.0,2,7.7515,2,-999,9,-999,9
49UP20160109,RF16-01,5602,1,21,22078,2,20160111,2028,29.9918,136.9743,4362,706.8,701,9.1063,34.2073,2,-999.0000,9,146.44,2,39.43,2,23.60,2,0.00,2,1.67,2,2178.2,6,2284.0,6,7.6475,2,-999,9,-999,9
49UP20160109,RF16-01,5602,1,20,22093,2,20160111,2024,29.9918,136.9743,4362,808.8,802,7.1599,34.1808,2,34.1796,2,118.45,6,60.61,6,29.54,6,0.00,6,2.11,6,2238.6,2,2300.0,2,7.5551,6,-999,9,-999,9
49UP20160109,RF16-01,5602,1,19,22092,4,20160111,2022,29.9918,136.9743,4362,911.1,903,5.6782,34.2101,2,-999.0000,9,-999.00,9,-999.00,9,-999.00,9,-999.00,9,-999.000,9,-999.0,9,-999.0,9,-999.0000,9,-999,9,-999,9
49UP20160109,RF16-01,5602,1,17,22090,2,20160111,2019,29.9918,136.9743,4362,1010.6,1001,4.6049,34.2704,2,34.2720,2,68.50,2,100.91,2,38.09,2,0.00,2,2.72,2,2308.3,2,2338.3,2,7.4262,2,-999,9,-999,9
49UP20160109,RF16-01,5602,1,18,22101,2,20160111,2019,29.9918,136.9743,4362,1011.1,1002,4.6022,34.2707,2,-999.0000,9,68.29,2,-999.00,9,-999.00,9,-999.00,9,-999.000,9,-999.0,9,-999.0,9,-999.0000,9,-999,9,-999,9
49UP20160109,RF16-01,5602,1,16,22089,2,20160111,2014,29.9918,136.9743,4362,1211.0,1199,3.5880,34.3960,2,34.3944,2,60.72,2,122.85,2,40.20,2,0.00,2,2.86,2,2342.6,2,2368.8,2,7.4146,2,-999,9,-999,9
49UP20160109,RF16-01,5602,1,15,22088,2,20160111,2008,29.9918,136.9743,4362,1414.9,1401,2.9218,34.4719,2,34.4718,2,65.17,2,136.29,2,40.66,2,0.00,2,2.88,2,2350.8,2,2385.6,2,7.4290,2,-999,9,-999,9
49UP20160109,RF16-01,5602,1,14,21999,2,20160111,2004,29.9918,136.9743,4362,1618.3,1601,2.5144,34.5260,2,34.5291,4,85.28,4,143.03,2,40.37,2,0.00,2,2.85,2,2356.5,2,2398.0,2,7.4453,2,-999,9,-999,9
49UP20160109,RF16-01,5602,1,13,22667,2,20160111,1959,29.9918,136.9743,4362,1819.9,1800,2.2850,34.5605,2,34.5579,4,88.62,2,144.42,2,39.64,2,0.00,2,2.79,2,2356.7,2,2400.9,2,7.4707,2,-999,9,-999,9
49UP20160109,RF16-01,5602,1,12,22074,2,20160111,1953,29.9918,136.9743,4362,2024.6,2001,2.0539,34.5926,2,34.5962,4,98.18,2,147.23,2,39.23,2,0.00,2,2.75,2,2351.0,2,2409.0,2,7.4858,2,-999,9,-999,9
49UP20160109,RF16-01,5602,1,11,24268,2,20160111,1947,29.9918,136.9743,4362,2279.5,2252,1.8919,34.6191,2,34.6218,4,113.27,2,145.97,2,38.33,2,0.00,2,2.68,2,2348.2,6,2409.9,6,7.5149,2,-999,9,-999,9
49UP20160109,RF16-01,5602,1,10,24267,2,20160111,1939,29.9918,136.9743,4362,2533.1,2501,1.7525,34.6407,2,34.6410,2,126.05,2,144.80,2,37.57,2,0.00,2,2.62,2,2344.1,2,2411.0,2,7.5366,6,-999,9,-999,9
49UP20160109,RF16-01,5602,1,9,23518,2,20160111,1932,29.9918,136.9743,4362,2790.1,2753,1.6881,34.6518,2,34.6513,2,133.19,2,143.69,2,37.11,2,0.00,2,2.58,2,2346.6,3,2414.2,2,7.5492,2,-999,9,-999,9
49UP20160109,RF16-01,5602,1,8,22081,2,20160111,1926,29.9918,136.9743,4362,3044.4,3002,1.6199,34.6626,2,34.6635,2,140.52,6,142.82,6,36.68,6,0.00,6,2.55,6,2333.3,2,2412.4,2,7.5628,2,-999,9,-999,9
49UP20160109,RF16-01,5602,1,7,23516,2,20160111,1919,29.9918,136.9743,4362,3298.8,3251,1.5563,34.6722,2,34.6705,4,146.87,2,141.82,2,36.27,2,0.00,2,2.51,2,2328.4,2,2413.5,2,7.5721,2,-999,9,-999,9
49UP20160109,RF16-01,5602,1,6,22113,2,20160111,1914,29.9918,136.9743,4362,3554.6,3501,1.5296,34.6777,2,34.6780,6,151.11,2,141.31,2,36.04,2,0.00,2,2.49,2,2329.5,2,2414.5,2,7.5826,2,-999,9,-999,9
49UP20160109,RF16-01,5602,1,5,24658,2,20160111,1907,29.9918,136.9743,4362,3810.9,3751,1.5302,34.6805,2,34.6801,2,153.11,2,141.05,2,35.92,2,0.00,2,2.49,2,2324.8,2,2416.8,2,7.5852,2,-999,9,-999,9
49UP20160109,RF16-01,5602,1,4,24471,2,20160111,1901,29.9918,136.9743,4362,4065.2,3999,1.5450,34.6819,2,34.6819,2,154.41,2,140.66,2,35.83,2,0.00,2,2.47,2,2325.7,2,2414.5,2,7.5865,2,-999,9,-999,9
49UP20160109,RF16-01,5602,1,3,22104,2,20160111,1850,29.9918,136.9743,4362,4322.1,4250,1.5664,34.6827,2,34.6823,6,154.74,2,140.58,2,35.79,2,0.00,2,2.47,2,2325.2,2,2414.1,2,7.5870,2,-999,9,-999,9
49UP20160109,RF16-01,5602,1,2,22075,2,20160111,1844,29.9918,136.9743,4362,4595.4,4515,1.5930,34.6832,2,34.6819,4,155.40,2,140.12,2,35.73,2,0.00,2,2.47,2,2327.8,2,2413.1,2,7.5855,2,-999,9,-999,9
49UP20160109,RF16-01,5602,1,1,21997,2,20160111,1844,29.9918,136.9743,4362,4595.9,4516,1.5931,34.6832,2,34.6834,2,155.53,2,140.34,2,35.76,2,0.00,2,2.47,2,2323.4,2,2415.4,2,7.5877,2,-999,9,-999,9
49UP20160109,RF16-01,5603,1,-999,0,2,20160112,0610,28.9898,137.016,4453,0.0,0,21.4609,34.8104,2,-999.,9,219.56,2,1.58,2,0.00,2,0.01,2,0.02,2,-999.,9,-999.,9,-999.,9,-999,9,-999,9
49UP20160109,RF16-01,5603,1,33,24469,2,20160112,0642,28.9898,137.016,4453,10.8,11,21.4730,34.8132,2,-999.,9,219.33,2,1.57,2,0.00,2,0.00,2,0.02,2,-999.,9,-999.,9,-999.,9,-999,9,-999,9
49UP20160109,RF16-01,5603,1,32,22105,2,20160112,0641,28.9898,137.016,4453,25.7,26,21.4980,34.8265,2,-999.,9,219.47,2,1.55,2,0.00,2,0.00,2,0.02,2,-999.,9,-999.,9,-999.,9,-999,9,-999,9
49UP20160109,RF16-01,5603,1,31,23515,2,20160112,0638,28.9898,137.016,4453,50.7,50,21.5164,34.8369,2,-999.,9,218.42,2,1.53,2,0.00,2,0.01,2,0.02,2,-999.,9,-999.,9,-999.,9,-999,9,-999,9
49UP20160109,RF16-01,5603,1,30,22097,2,20160112,0636,28.9898,137.016,4453,76.4,76,21.5097,34.8391,2,-999.,9,218.23,2,1.58,2,0.00,2,0.02,2,0.03,2,-999.,9,-999.,9,-999.,9,-999,9,-999,9
49UP20160109,RF16-01,5603,1,28,22108,2,20160112,0635,28.9898,137.016,4453,101.5,101,21.4066,34.8482,2,-999.,9,216.87,2,1.64,2,0.14,2,0.14,2,0.04,2,-999.,9,-999.,9,-999.,9,-999,9,-999,9
49UP20160109,RF16-01,5603,1,29,22102,2,20160112,0635,28.9898,137.016,4453,102.3,102,21.4028,34.8487,2,-999.,9,216.98,2,1.62,2,0.17,2,0.15,2,0.03,2,-999.,9,-999.,9,-999.,9,-999,9,-999,9
49UP20160109,RF16-01,5603,1,24,22110,2,20160112,0633,28.9898,137.016,4453,127.5,127,21.2710,34.8737,2,-999.,9,215.39,6,1.69,6,0.34,6,0.24,6,0.05,6,-999.,9,-999.,9,-999.,9,-999,9,-999,9
49UP20160109,RF16-01,5603,1,23,22096,2,20160112,0631,28.9898,137.016,4453,154.5,153,20.4939,34.8535,2,-999.,9,203.18,2,2.41,2,1.70,2,0.06,2,0.14,2,-999.,9,-999.,9,-999.,9,-999,9,-999,9
49UP20160109,RF16-01,5603,1,22,22111,2,20160112,0628,28.9898,137.016,4453,204.5,203,18.5459,34.8166,2,-999.,9,204.98,2,3.06,2,2.96,2,0.02,2,0.21,2,-999.,9,-999.,9,-999.,9,-999,9,-999,9
49UP20160109,RF16-01,5603,1,21,22078,2,20160112,0626,28.9898,137.016,4453,254.0,252,17.9049,34.7827,2,-999.,9,205.81,2,3.62,2,3.74,2,0.01,2,0.26,2,-999.,9,-999.,9,-999.,9,-999,9,-999,9
49UP20160109,RF16-01,5603,1,20,22093,2,20160112,0624,28.9898,137.016,4453,305.2,303,17.3495,34.7445,2,-999.,9,208.10,2,4.12,2,4.36,2,0.01,2,0.46,4,-999.,9,-999.,9,-999.,9,-999,9,-999,9
49UP20160109,RF16-01,5603,1,19,22092,2,20160112,0621,28.9898,137.016,4453,407.0,404,15.9298,34.6291,2,-999.,9,196.58,2,7.68,2,7.64,2,0.01,2,0.52,4,-999.,9,-999.,9,-999.,9,-999,9,-999,9
49UP20160109,RF16-01,5603,1,14,21999,2,20160112,0617,28.9898,137.016,4453,508.0,504,13.6460,34.4642,2,-999.,9,183.18,2,15.01,2,12.53,2,0.01,2,0.86,2,-999.,9,-999.,9,-999.,9,-999,9,-999,9
49UP20160109,RF16-01,5603,1,15,22088,2,20160112,0617,28.9898,137.016,4453,509.6,506,13.6292,34.4631,2,-999.,9,183.07,2,15.07,2,12.56,2,0.01,2,0.86,2,-999.,9,-999.,9,-999.,9,-999,9,-999,9
49UP20160109,RF16-01,5603,1,13,22667,2,20160112,0608,28.9898,137.016,4453,607.9,603,10.5227,34.2592,2,-999.,9,170.74,2,28.40,2,18.83,2,0.00,2,1.32,2,-999.,9,-999.,9,-999.,9,-999,9,-999,9
49UP20160109,RF16-01,5603,1,12,22074,2,20160112,0605,28.9898,137.016,4453,707.8,702,8.0556,34.1422,2,-999.,9,145.32,2,46.82,2,25.50,2,0.00,2,1.82,2,-999.,9,-999.,9,-999.,9,-999,9,-999,9
49UP20160109,RF16-01,5603,1,11,24268,2,20160112,0602,28.9898,137.016,4453,809.2,802,6.4247,34.1394,2,-999.,9,113.10,2,67.05,2,31.31,2,0.00,2,2.25,2,-999.,9,-999.,9,-999.,9,-999,9,-999,9
49UP20160109,RF16-01,5603,1,10,24267,2,20160112,0600,28.9898,137.016,4453,908.0,900,5.0687,34.1629,2,-999.,9,83.17,2,88.32,2,36.23,2,0.00,2,2.60,2,-999.,9,-999.,9,-999.,9,-999,9,-999,9
49UP20160109,RF16-01,5603,1,6,22113,2,20160112,0557,28.9898,137.016,4453,1009.1,1000,4.3308,34.2242,2,-999.,9,61.43,2,103.60,2,39.16,2,0.00,2,2.80,2,-999.,9,-999.,9,-999.,9,-999,9,-999,9
49UP20160109,RF16-01,5603,1,5,24658,2,20160112,0550,28.9898,137.016,4453,1210.0,1198,3.4100,34.3689,2,-999.,9,46.17,2,127.84,2,41.58,2,0.00,2,2.96,2,-999.,9,-999.,9,-999.,9,-999,9,-999,9
49UP20160109,RF16-01,5603,1,4,24471,2,20160112,0545,28.9898,137.016,4453,1412.6,1398,2.9051,34.4512,2,-999.,9,53.51,2,139.48,2,41.64,2,0.00,2,2.95,2,-999.,9,-999.,9,-999.,9,-999,9,-999,9
49UP20160109,RF16-01,5603,1,3,22104,2,20160112,0542,28.9898,137.016,4453,1617.3,1600,2.4836,34.5161,2,-999.,9,62.26,6,148.19,6,41.37,6,0.00,6,2.92,6,-999.,9,-999.,9,-999.,9,-999,9,-999,9
49UP20160109,RF16-01,5603,1,2,22075,2,20160112,0538,28.9898,137.016,4453,1817.4,1797,2.2185,34.5591,2,-999.,9,76.34,2,151.08,2,40.57,2,0.00,2,2.85,2,-999.,9,-999.,9,-999.,9,-999,9,-999,9
49UP20160109,RF16-01,5603,1,1,21997,2,20160112,0531,28.9898,137.016,4453,2023.9,2001,2.0297,34.5924,2,-999.,9,94.43,2,149.98,2,39.48,2,0.00,2,2.77,2,-999.,9,-999.,9,-999.,9,-999,9,-999,9
49UP20160109,RF16-01,5604,1,-999,0,2,20160112,1420,27.9985,136.9873,4146,0.0,0,21.9024,34.8299,2,-999.,9,218.58,2,1.62,2,0.01,2,0.00,2,0.02,2,-999.,9,-999.,9,-999.,9,-999,9,-999,9
49UP20160109,RF16-01,5604,1,33,24469,3,20160112,1444,27.9985,136.9873,4146,11.2,11,21.9127,34.8295,2,-999.,9,217.89,2,1.56,2,0.00,2,0.00,2,0.02,2,-999.,9,-999.,9,-999.,9,-999,9,-999,9
49UP20160109,RF16-01,5604,1,32,22105,2,20160112,1443,27.9985,136.9873,4146,26.0,26,21.9209,34.8290,2,-999.,9,218.03,2,1.66,2,0.00,2,0.00,2,0.02,2,-999.,9,-999.,9,-999.,9,-999,9,-999,9
49UP20160109,RF16-01,5604,1,31,23515,2,20160112,1442,27.9985,136.9873,4146,49.8,49,21.8813,34.8311,2,-999.,9,217.42,2,1.68,2,0.02,2,0.01,2,0.02,2,-999.,9,-999.,9,-999.,9,-999,9,-999,9
49UP20160109,RF16-01,5604,1,30,22097,2,20160112,1440,27.9985,136.9873,4146,75.9,75,21.7783,34.8331,2,-999.,9,217.51,6,1.61,6,0.04,6,0.02,6,0.02,6,-999.,9,-999.,9,-999.,9,-999,9,-999,9
49UP20160109,RF16-01,5604,1,29,22102,2,20160112,1439,27.9985,136.9873,4146,101.7,101,21.3644,34.8562,2,-999.,9,209.35,2,1.93,2,0.87,2,0.15,2,0.07,2,-999.,9,-999.,9,-999.,9,-999,9,-999,9
49UP20160109,RF16-01,5604,1,28,22108,2,20160112,1437,27.9985,136.9873,4146,125.9,125,20.4726,34.8524,2,-999.,9,197.71,2,2.63,2,2.36,2,0.03,2,0.17,2,-999.,9,-999.,9,-999.,9,-999,9,-999,9
49UP20160109,RF16-01,5604,1,23,22096,2,20160112,1436,27.9985,136.9873,4146,151.1,150,19.1184,34.8287,2,-999.,9,200.44,2,3.06,2,2.98,2,0.02,2,0.21,2,-999.,9,-999.,9,-999.,9,-999,9,-999,9
49UP20160109,RF16-01,5604,1,24,22110,2,20160112,1436,27.9985,136.9873,4146,151.8,151,19.1071,34.8290,2,-999.,9,200.48,2,3.06,2,2.94,2,0.01,2,0.21,2,-999.,9,-999.,9,-999.,9,-999,9,-999,9
49UP20160109,RF16-01,5604,1,22,22111,2,20160112,1433,27.9985,136.9873,4146,204.1,203,18.2567,34.8047,2,-999.,9,204.72,2,3.45,2,3.53,2,0.01,2,0.24,2,-999.,9,-999.,9,-999.,9,-999,9,-999,9
49UP20160109,RF16-01,5604,1,21,22078,2,20160112,1431,27.9985,136.9873,4146,253.3,251,17.7261,34.7674,2,-999.,9,204.79,2,3.94,2,4.19,2,0.02,2,0.28,2,-999.,9,-999.,9,-999.,9,-999,9,-999,9
49UP20160109,RF16-01,5604,1,20,22093,2,20160112,1428,27.9985,136.9873,4146,301.6,299,17.3904,34.7398,2,-999.,9,203.99,2,4.36,2,4.74,2,0.01,2,0.32,2,-999.,9,-999.,9,-999.,9,-999,9,-999,9
49UP20160109,RF16-01,5604,1,19,22092,2,20160112,1425,27.9985,136.9873,4146,403.5,400,15.2858,34.5809,2,-999.,9,193.36,2,9.43,2,8.93,2,0.01,2,0.60,2,-999.,9,-999.,9,-999.,9,-999,9,-999,9
49UP20160109,RF16-01,5604,1,15,22088,2,20160112,1423,27.9985,136.9873,4146,504.3,500,12.5595,34.3876,2,-999.,9,180.18,2,19.05,2,14.62,2,0.01,2,1.01,2,-999.,9,-999.,9,-999.,9,-999,9,-999,9
49UP20160109,RF16-01,5604,1,14,21999,2,20160112,1420,27.9985,136.9873,4146,604.8,600,9.1546,34.1738,2,-999.,9,163.79,2,36.76,2,21.92,2,0.01,2,1.56,2,-999.,9,-999.,9,-999.,9,-999,9,-999,9
49UP20160109,RF16-01,5604,1,13,22667,2,20160112,1417,27.9985,136.9873,4146,706.0,700,7.1590,34.1124,2,-999.,9,132.69,2,56.65,2,28.43,2,0.01,2,2.04,2,-999.,9,-999.,9,-999.,9,-999,9,-999,9
49UP20160109,RF16-01,5604,1,12,22074,2,20160112,1414,27.9985,136.9873,4146,805.7,799,5.2399,34.1063,2,-999.,9,93.34,2,81.10,2,35.21,2,0.00,2,2.52,2,-999.,9,-999.,9,-999.,9,-999,9,-999,9
49UP20160109,RF16-01,5604,1,11,24268,2,20160112,1413,27.9985,136.9873,4146,806.3,799,5.2489,34.1047,2,-999.,9,93.47,2,81.02,2,35.19,2,0.00,2,2.52,2,-999.,9,-999.,9,-999.,9,-999,9,-999,9
49UP20160109,RF16-01,5604,1,10,24267,2,20160112,1410,27.9985,136.9873,4146,908.0,900,4.4611,34.1991,2,-999.,9,65.16,2,100.43,2,38.74,2,0.00,2,2.77,2,-999.,9,-999.,9,-999.,9,-999,9,-999,9
49UP20160109,RF16-01,5604,1,6,22113,2,20160112,1408,27.9985,136.9873,4146,1010.5,1001,3.9820,34.2664,2,-999.,9,51.19,2,112.77,2,40.55,2,0.00,2,2.89,2,-999.,9,-999.,9,-999.,9,-999,9,-999,9
49UP20160109,RF16-01,5604,1,5,24658,2,20160112,1403,27.9985,136.9873,4146,1212.4,1201,3.2118,34.3997,2,-999.,9,45.97,6,132.84,6,41.95,6,0.00,6,2.98,6,-999.,9,-999.,9,-999.,9,-999,9,-999,9
49UP20160109,RF16-01,5604,1,4,24471,2,20160112,1358,27.9985,136.9873,4146,1414.2,1400,2.7142,34.4808,2,-999.,9,57.27,2,143.19,2,41.67,2,0.00,2,2.94,2,-999.,9,-999.,9,-999.,9,-999,9,-999,9
49UP20160109,RF16-01,5604,1,3,22104,2,20160112,1352,27.9985,136.9873,4146,1617.6,1601,2.3708,34.5324,2,-999.,9,66.38,2,150.10,2,41.31,2,0.00,2,2.91,2,-999.,9,-999.,9,-999.,9,-999,9,-999,9
49UP20160109,RF16-01,5604,1,2,22075,2,20160112,1348,27.9985,136.9873,4146,1820.3,1800,2.1291,34.5736,2,-999.,9,83.40,2,151.07,2,40.28,2,0.00,2,2.83,2,-999.,9,-999.,9,-999.,9,-999,9,-999,9
49UP20160109,RF16-01,5604,1,1,21997,2,20160112,1341,27.9985,136.9873,4146,2026.3,2003,1.9747,34.6032,2,-999.,9,101.94,2,147.56,2,39.09,2,0.00,2,2.73,2,-999.,9,-999.,9,-999.,9,-999,9,-999,9