BOTTLE,20171126JMAGEMD
EXPOCODE,SECT_ID,STNNBR,CASTNO,SAMPNO,BTLNBR,BTLNBR_FLAG_W,DATE,TIME,LATITUDE,LONGITUDE,DEPTH,CTDPRS,CTDDEP,CTDTMP,CTDSAL,CTDSAL_FLAG_W,SALNTY,SALNTY_FLAG_W,OXYGEN,OXYGEN_FLAG_W,SILCAT,SILCAT_FLAG_W,NO2+NO3,NO2+NO3_FLAG_W,NITRIT,NITRIT_FLAG_W,PHSPHT,PHSPHT_FLAG_W,TCARBN,TCARBN_FLAG_W,ALKALI,ALKALI_FLAG_W,PH_TOT,PH_TOT_FLAG_W,CFC-11,CFC-11_FLAG_W,CFC-12,CFC-12_FLAG_W
,,,,,,,UTC,UTC,,,METER,DBAR,METERS,ITS-90,PSS-78,,PSS-78,,UMOL/KG,,UMOL/KG,,UMOL/KG,,UMOL/KG,,UMOL/KG,,UMOL/KG,,UMOL/KG,,@25DEG-C,,PMOL/KG,,PMOL/KG,
49UP20160109,RF16-01,5629,1,-999,0,2,20160121,2020,2.999,137.0047,4504,0.0,0,28.0959,34.7942,2,-999.0000,9,199.07,2,1.37,2,0.07,2,0.01,2,0.12,2,-999.,9,-999.,9,-999.,9,-999,9,-999,9
49UP20160109,RF16-01,5629,1,36,22109,3,20160121,2046,2.999,137.0047,4504,12.4,12,28.0903,34.7886,2,34.7878,2,199.12,2,1.33,2,0.11,2,0.01,2,0.12,2,-999.,9,-999.,9,-999.,9,-999,9,-999,9
49UP20160109,RF16-01,5629,1,35,22112,2,20160121,2044,2.999,137.0047,4504,25.2,25,25.9850,34.5845,2,-999.0000,9,185.52,2,3.38,2,2.33,2,0.22,2,0.26,2,-999.,9,-999.,9,-999.,9,-999,9,-999,9
49UP20160109,RF16-01,5629,1,34,22094,2,20160121,2043,2.999,137.0047,4504,52.3,52,21.9873,34.8156,2,34.8227,2,160.41,6,7.17,6,6.93,6,0.08,6,0.54,6,-999.,9,-999.,9,-999.,9,-999,9,-999,9
49UP20160109,RF16-01,5629,1,33,24469,2,20160121,2042,2.999,137.0047,4504,77.5,77,21.4556,34.8917,2,-999.0000,9,153.58,2,7.77,2,8.28,2,0.05,2,0.64,2,-999.,9,-999.,9,-999.,9,-999,9,-999,9
49UP20160109,RF16-01,5629,1,32,22105,2,20160121,2038,2.999,137.0047,4504,101.7,101,20.8036,35.1509,2,35.1502,2,152.15,2,5.75,2,8.75,2,0.03,2,0.69,2,-999.,9,-999.,9,-999.,9,-999,9,-999,9
49UP20160109,RF16-01,5629,1,31,23515,2,20160121,2037,2.999,137.0047,4504,125.7,125,19.5322,35.2886,2,35.2905,2,144.82,2,5.64,2,10.63,2,0.02,2,0.84,2,-999.,9,-999.,9,-999.,9,-999,9,-999,9
49UP20160109,RF16-01,5629,1,30,22097,2,20160121,2036,2.999,137.0047,4504,151.9,151,15.8336,34.7108,2,-999.0000,9,155.20,2,13.94,2,12.79,2,0.01,2,0.93,2,-999.,9,-999.,9,-999.,9,-999,9,-999,9
49UP20160109,RF16-01,5629,1,29,22102,2,20160121,2034,2.999,137.0047,4504,201.3,200,13.5917,34.6744,2,34.7119,4,144.61,2,18.20,2,17.03,2,0.01,2,1.23,2,-999.,9,-999.,9,-999.,9,-999,9,-999,9
49UP20160109,RF16-01,5629,1,28,22108,2,20160121,2032,2.999,137.0047,4504,253.1,252,11.6994,34.7795,2,-999.0000,9,136.45,2,20.61,2,21.54,2,0.01,2,1.55,2,-999.,9,-999.,9,-999.,9,-999,9,-999,9
49UP20160109,RF16-01,5629,1,27,21998,2,20160121,2031,2.999,137.0047,4504,305.0,303,10.0984,34.7143,2,34.7064,2,107.03,6,25.69,6,27.28,6,0.01,6,1.91,6,-999.,9,-999.,9,-999.,9,-999,9,-999,9
49UP20160109,RF16-01,5629,1,26,22084,2,20160121,2029,2.999,137.0047,4504,353.8,352,9.7603,34.7010,2,34.6995,2,101.58,2,26.09,2,28.56,2,0.01,2,1.99,2,-999.,9,-999.,9,-999.,9,-999,9,-999,9
49UP20160109,RF16-01,5629,1,25,22098,2,20160121,2027,2.999,137.0047,4504,402.5,400,9.3400,34.6709,2,34.6695,2,103.55,2,27.83,2,29.19,2,0.01,2,2.03,2,-999.,9,-999.,9,-999.,9,-999,9,-999,9
49UP20160109,RF16-01,5629,1,24,22110,2,20160121,2026,2.999,137.0047,4504,453.4,450,8.9956,34.6498,2,-999.0000,9,104.80,2,29.06,2,29.83,2,0.00,2,2.07,2,-999.,9,-999.,9,-999.,9,-999,9,-999,9
49UP20160109,RF16-01,5629,1,23,22096,2,20160121,2024,2.999,137.0047,4504,506.5,503,8.7883,34.6357,2,-999.0000,9,107.11,2,30.01,2,30.02,2,0.00,2,2.08,2,-999.,9,-999.,9,-999.,9,-999,9,-999,9
49UP20160109,RF16-01,5629,1,22,22111,2,20160121,2021,2.999,137.0047,4504,613.9,610,7.6603,34.5672,2,34.5716,2,109.13,2,37.23,2,31.69,2,0.00,2,2.22,2,-999.,9,-999.,9,-999.,9,-999,9,-999,9
49UP20160109,RF16-01,5629,1,21,22078,2,20160121,2016,2.999,137.0047,4504,705.3,700,6.6847,34.5384,2,-999.0000,9,97.60,2,50.22,2,34.56,2,0.00,2,2.44,2,-999.,9,-999.,9,-999.,9,-999,9,-999,9
49UP20160109,RF16-01,5629,1,20,22093,2,20160121,2013,2.999,137.0047,4504,809.3,803,5.8089,34.5374,2,34.5369,2,89.18,2,61.94,2,37.00,2,0.00,2,2.61,2,-999.,9,-999.,9,-999.,9,-999,9,-999,9
49UP20160109,RF16-01,5629,1,19,22092,2,20160121,2009,2.999,137.0047,4504,908.1,901,5.1425,34.5408,2,34.5414,2,95.22,2,73.04,2,37.35,2,0.00,2,2.64,2,-999.,9,-999.,9,-999.,9,-999,9,-999,9
49UP20160109,RF16-01,5629,1,18,22101,2,20160121,2007,2.999,137.0047,4504,1008.4,1000,4.6278,34.5517,2,34.5508,2,93.09,2,84.42,2,38.03,2,0.00,2,2.70,2,-999.,9,-999.,9,-999.,9,-999,9,-999,9
49UP20160109,RF16-01,5629,1,17,22090,2,20160121,2002,2.999,137.0047,4504,1211.9,1202,3.9126,34.5711,2,34.5711,2,93.39,2,100.73,2,38.54,2,0.00,2,2.74,2,-999.,9,-999.,9,-999.,9,-999,9,-999,9
49UP20160109,RF16-01,5629,1,16,22089,2,20160121,1956,2.999,137.0047,4504,1412.6,1400,3.2978,34.5904,2,34.5900,2,97.85,2,113.36,2,38.84,2,0.00,2,2.75,2,-999.,9,-999.,9,-999.,9,-999,9,-999,9
49UP20160109,RF16-01,5629,1,15,22088,2,20160121,1951,2.999,137.0047,4504,1615.2,1600,2.8674,34.6067,2,34.6066,2,101.94,2,122.93,2,38.83,2,0.00,2,2.74,2,-999.,9,-999.,9,-999.,9,-999,9,-999,9
49UP20160109,RF16-01,5629,1,14,21999,2,20160121,1947,2.999,137.0047,4504,1817.0,1799,2.4479,34.6254,2,34.6249,2,108.81,2,132.12,2,38.67,2,0.00,2,2.71,2,-999.,9,-999.,9,-999.,9,-999,9,-999,9
49UP20160109,RF16-01,5629,1,12,22074,2,20160121,1941,2.999,137.0047,4504,2021.8,2001,2.1111,34.6419,2,34.6430,2,118.08,2,138.08,2,38.13,2,0.00,2,2.67,2,-999.,9,-999.,9,-999.,9,-999,9,-999,9
49UP20160109,RF16-01,5629,1,13,22667,3,20160121,1941,2.999,137.0047,4504,2022.5,2002,2.1108,34.6419,2,34.6418,2,118.08,2,137.72,2,37.96,2,0.00,2,2.66,2,-999.,9,-999.,9,-999.,9,-999,9,-999,9
49UP20160109,RF16-01,5629,1,11,24268,2,20160121,1935,2.999,137.0047,4504,2277.0,2252,1.9354,34.6519,2,34.6514,2,123.47,2,141.01,2,37.86,2,0.00,2,2.64,2,-999.,9,-999.,9,-999.,9,-999,9,-999,9
49UP20160109,RF16-01,5629,1,10,24267,2,20160121,1930,2.999,137.0047,4504,2529.5,2501,1.7945,34.6596,2,34.6590,2,131.02,2,142.33,2,37.32,2,0.00,2,2.60,2,-999.,9,-999.,9,-999.,9,-999,9,-999,9
49UP20160109,RF16-01,5629,1,9,23518,2,20160121,1923,2.999,137.0047,4504,2784.2,2751,1.6634,34.6672,2,34.6668,2,139.04,2,142.56,2,36.81,2,0.00,2,2.56,2,-999.,9,-999.,9,-999.,9,-999,9,-999,9
49UP20160109,RF16-01,5629,1,8,22081,2,20160121,1918,2.999,137.0047,4504,3037.2,2999,1.5902,34.6727,2,34.6733,2,143.97,6,142.72,6,36.46,6,0.00,6,2.53,6,-999.,9,-999.,9,-999.,9,-999,9,-999,9
49UP20160109,RF16-01,5629,1,7,23516,2,20160121,1911,2.999,137.0047,4504,3295.2,3252,1.5675,34.6757,2,34.6751,2,146.69,2,142.56,2,36.37,2,0.00,2,2.52,2,-999.,9,-999.,9,-999.,9,-999,9,-999,9
49UP20160109,RF16-01,5629,1,6,22113,2,20160121,1905,2.999,137.0047,4504,3551.3,3502,1.5555,34.6784,2,34.6779,6,148.82,2,142.52,2,36.22,2,0.00,2,2.51,2,-999.,9,-999.,9,-999.,9,-999,9,-999,9
49UP20160109,RF16-01,5629,1,5,24658,2,20160121,1859,2.999,137.0047,4504,3807.3,3753,1.5302,34.6825,2,34.6816,6,151.44,2,142.22,2,35.98,2,0.00,2,2.49,2,-999.,9,-999.,9,-999.,9,-999,9,-999,9
49UP20160109,RF16-01,5629,1,4,24471,2,20160121,1853,2.999,137.0047,4504,4061.4,4001,1.5097,34.6862,2,34.6860,2,155.24,2,141.80,2,35.80,2,0.00,2,2.47,2,-999.,9,-999.,9,-999.,9,-999,9,-999,9
49UP20160109,RF16-01,5629,1,3,22104,2,20160121,1848,2.999,137.0047,4504,4317.4,4250,1.5143,34.6877,2,34.6879,6,157.22,6,141.12,6,35.68,6,0.00,6,2.46,6,-999.,9,-999.,9,-999.,9,-999,9,-999,9
49UP20160109,RF16-01,5629,1,2,22075,2,20160121,1841,2.999,137.0047,4504,4567.6,4494,1.5245,34.6884,2,34.6884,2,159.68,2,140.03,2,35.44,2,0.00,2,2.44,2,-999.,9,-999.,9,-999.,9,-999,9,-999,9
49UP20160109,RF16-01,5629,1,1,21997,2,20160121,1841,2.999,137.0047,4504,4568.0,4495,1.5245,34.6885,2,34.6887,2,159.66,2,140.03,2,35.50,2,0.00,2,2.45,2,-999.,9,-999.,9,-999.,9,-999,9,-999,9
49UP20160109,RF16-01,5633,1,-999,0,2,20160123,0516,2.4073,139.9923,4152,0.0,0,28.9450,34.9325,2,-999.,9,198.88,2,0.81,2,0.04,2,0.00,2,0.12,2,-999.,9,-999.,9,-999.,9,-999,9,-999,9
49UP20160109,RF16-01,5633,1,35,22112,2,20160123,0540,2.4073,139.9923,4152,10.3,10,28.9432,34.9318,2,-999.,9,198.89,2,0.73,2,0.04,2,0.00,2,0.12,2,-999.,9,-999.,9,-999.,9,-999,9,-999,9
49UP20160109,RF16-01,5633,1,36,22109,2,20160123,0540,2.4073,139.9923,4152,10.6,11,28.9401,34.9312,2,-999.,9,199.25,2,0.75,2,0.04,2,0.00,2,0.12,2,-999.,9,-999.,9,-999.,9,-999,9,-999,9
49UP20160109,RF16-01,5633,1,34,22094,2,20160123,0539,2.4073,139.9923,4152,26.3,26,28.5831,34.9153,2,-999.,9,200.54,2,0.88,2,0.00,2,0.00,2,0.14,2,-999.,9,-999.,9,-999.,9,-999,9,-999,9
49UP20160109,RF16-01,5633,1,30,22097,2,20160123,0537,2.4073,139.9923,4152,51.0,51,24.3556,34.7834,2,-999.,9,165.96,2,5.55,2,5.37,2,0.54,2,0.43,2,-999.,9,-999.,9,-999.,9,-999,9,-999,9
49UP20160109,RF16-01,5633,1,29,22102,2,20160123,0535,2.4073,139.9923,4152,75.8,75,22.7427,34.7889,2,-999.,9,159.18,2,7.20,2,6.81,2,0.13,2,0.52,2,-999.,9,-999.,9,-999.,9,-999,9,-999,9
49UP20160109,RF16-01,5633,1,28,22108,2,20160123,0529,2.4073,139.9923,4152,102.0,101,21.2193,34.8655,2,-999.,9,172.01,6,5.97,6,4.91,6,0.15,6,0.39,6,-999.,9,-999.,9,-999.,9,-999,9,-999,9
49UP20160109,RF16-01,5633,1,27,21998,2,20160123,0528,2.4073,139.9923,4152,125.6,125,20.4447,35.0177,2,-999.,9,156.63,2,6.60,2,8.11,2,0.04,2,0.63,2,-999.,9,-999.,9,-999.,9,-999,9,-999,9
49UP20160109,RF16-01,5633,1,26,22084,2,20160123,0527,2.4073,139.9923,4152,150.7,150,19.6107,34.9728,2,-999.,9,155.53,2,7.49,2,8.87,2,0.04,2,0.68,2,-999.,9,-999.,9,-999.,9,-999,9,-999,9
49UP20160109,RF16-01,5633,1,25,22098,2,20160123,0524,2.4073,139.9923,4152,202.8,202,14.7927,34.7674,2,-999.,9,141.07,2,18.01,2,16.28,2,0.01,2,1.18,2,-999.,9,-999.,9,-999.,9,-999,9,-999,9
49UP20160109,RF16-01,5633,1,22,22111,2,20160123,0523,2.4073,139.9923,4152,250.3,249,11.8348,34.5659,2,-999.,9,132.44,2,25.95,2,20.99,2,0.01,2,1.51,2,-999.,9,-999.,9,-999.,9,-999,9,-999,9
49UP20160109,RF16-01,5633,1,21,22078,2,20160123,0521,2.4073,139.9923,4152,303.7,302,10.7316,34.7392,2,-999.,9,135.24,2,21.22,2,23.05,2,0.01,2,1.64,2,-999.,9,-999.,9,-999.,9,-999,9,-999,9
49UP20160109,RF16-01,5633,1,20,22093,2,20160123,0519,2.4073,139.9923,4152,353.8,352,9.9645,34.7104,2,-999.,9,132.17,2,22.38,2,25.05,2,0.00,2,1.76,2,-999.,9,-999.,9,-999.,9,-999,9,-999,9
49UP20160109,RF16-01,5633,1,19,22092,2,20160123,0517,2.4073,139.9923,4152,404.9,402,9.5368,34.6904,2,-999.,9,131.14,2,22.69,2,26.22,2,0.00,2,1.83,2,-999.,9,-999.,9,-999.,9,-999,9,-999,9
49UP20160109,RF16-01,5633,1,18,22101,2,20160123,0516,2.4073,139.9923,4152,452.5,450,9.2102,34.6667,2,-999.,9,112.72,2,26.48,2,28.66,2,0.00,2,1.99,2,-999.,9,-999.,9,-999.,9,-999,9,-999,9
49UP20160109,RF16-01,5633,1,17,22090,2,20160123,0513,2.4073,139.9923,4152,506.3,503,8.8300,34.6393,2,-999.,9,122.20,2,27.10,2,28.41,2,0.00,2,1.97,2,-999.,9,-999.,9,-999.,9,-999,9,-999,9
49UP20160109,RF16-01,5633,1,16,22089,3,20160123,0510,2.4073,139.9923,4152,607.6,603,7.9508,34.5736,2,-999.,9,130.38,6,32.23,6,29.12,6,0.00,6,2.03,6,-999.,9,-999.,9,-999.,9,-999,9,-999,9
49UP20160109,RF16-01,5633,1,12,22074,3,20160123,0504,2.4073,139.9923,4152,705.6,701,6.8672,34.5455,2,-999.,9,102.02,2,45.68,2,33.96,2,0.00,2,2.38,2,-999.,9,-999.,9,-999.,9,-999,9,-999,9
49UP20160109,RF16-01,5633,1,11,24268,2,20160123,0502,2.4073,139.9923,4152,805.5,800,5.9572,34.5279,2,-999.,9,107.23,2,55.69,2,35.16,2,0.00,2,2.47,2,-999.,9,-999.,9,-999.,9,-999,9,-999,9
49UP20160109,RF16-01,5633,1,10,24267,3,20160123,0459,2.4073,139.9923,4152,908.0,901,5.1288,34.5407,2,-999.,9,95.92,2,73.48,2,37.23,2,0.00,2,2.63,2,-999.,9,-999.,9,-999.,9,-999,9,-999,9
49UP20160109,RF16-01,5633,1,9,23518,2,20160123,0456,2.4073,139.9923,4152,1007.0,999,4.7819,34.5475,2,-999.,9,95.68,2,80.55,2,37.61,2,0.00,2,2.66,2,-999.,9,-999.,9,-999.,9,-999,9,-999,9
49UP20160109,RF16-01,5633,1,8,22081,2,20160123,0456,2.4073,139.9923,4152,1007.1,999,4.7818,34.5472,2,-999.,9,95.61,2,80.67,2,37.62,2,0.00,2,2.66,2,-999.,9,-999.,9,-999.,9,-999,9,-999,9
49UP20160109,RF16-01,5633,1,7,23516,2,20160123,0452,2.4073,139.9923,4152,1210.4,1200,4.0603,34.5668,2,-999.,9,92.74,2,97.59,2,38.53,2,0.00,2,2.73,2,-999.,9,-999.,9,-999.,9,-999,9,-999,9
49UP20160109,RF16-01,5633,1,4,24471,2,20160123,0442,2.4073,139.9923,4152,1411.4,1399,3.4383,34.5853,2,-999.,9,96.40,2,110.72,2,38.83,2,0.00,2,2.74,2,-999.,9,-999.,9,-999.,9,-999,9,-999,9
49UP20160109,RF16-01,5633,1,3,22104,2,20160123,0438,2.4073,139.9923,4152,1616.1,1601,2.8399,34.6075,2,-999.,9,103.24,2,123.11,2,38.76,2,0.00,2,2.73,2,-999.,9,-999.,9,-999.,9,-999,9,-999,9
49UP20160109,RF16-01,5633,1,2,22075,2,20160123,0434,2.4073,139.9923,4152,1818.9,1801,2.5365,34.6209,2,-999.,9,107.85,2,130.06,2,38.63,2,0.00,2,2.71,2,-999.,9,-999.,9,-999.,9,-999,9,-999,9
49UP20160109,RF16-01,5633,1,1,21997,2,20160123,0427,2.4073,139.9923,4152,2022.3,2001,2.1965,34.6371,2,-999.,9,115.48,2,136.44,2,38.30,2,0.00,2,2.67,2,-999.,9,-999.,9,-999.,9,-999,9,-999,9
49UP20160109,RF16-01,5635,1,-999,0,2,20160203,0007,2.0018,141.99,2568,0.0,0,29.1277,34.8372,2,-999.0000,9,195.69,2,0.76,2,0.04,2,0.00,2,0.13,2,-999.,9,-999.,9,-999.,9,-999,9,-999,9
49UP20160109,RF16-01,5635,1,36,22109,2,20160203,0033,2.0018,141.99,2568,11.5,11,29.1139,34.8360,2,34.8349,2,195.46,6,0.73,6,0.04,6,0.00,6,0.12,6,-999.,9,-999.,9,-999.,9,-999,9,-999,9
49UP20160109,RF16-01,5635,1,35,22112,2,20160203,0031,2.0018,141.99,2568,25.4,25,28.8970,34.8561,2,34.8560,2,195.54,2,0.80,2,0.02,2,0.00,2,0.13,2,-999.,9,-999.,9,-999.,9,-999,9,-999,9
49UP20160109,RF16-01,5635,1,34,22094,2,20160203,0031,2.0018,141.99,2568,26.0,26,28.8577,34.8597,2,34.8640,2,195.65,2,0.77,2,0.02,2,0.00,2,0.15,2,-999.,9,-999.,9,-999.,9,-999,9,-999,9
49UP20160109,RF16-01,5635,1,30,22097,2,20160203,0028,2.0018,141.99,2568,50.1,50,25.0157,34.9486,2,-999.0000,9,168.62,2,3.08,2,3.84,2,0.37,2,0.38,2,-999.,9,-999.,9,-999.,9,-999,9,-999,9
49UP20160109,RF16-01,5635,1,29,22102,2,20160203,0027,2.0018,141.99,2568,75.4,75,23.2313,34.8531,2,34.8523,2,156.98,2,6.01,2,6.45,2,0.17,2,0.51,2,-999.,9,-999.,9,-999.,9,-999,9,-999,9
49UP20160109,RF16-01,5635,1,28,22108,2,20160203,0025,2.0018,141.99,2568,101.7,101,22.2454,35.0041,2,34.9972,2,152.86,2,5.97,2,7.53,2,0.06,2,0.60,2,-999.,9,-999.,9,-999.,9,-999,9,-999,9
49UP20160109,RF16-01,5635,1,27,21998,2,20160203,0024,2.0018,141.99,2568,126.8,126,22.0510,35.2465,2,-999.0000,9,142.26,2,4.37,2,8.66,2,0.04,2,0.69,2,-999.,9,-999.,9,-999.,9,-999,9,-999,9
49UP20160109,RF16-01,5635,1,26,22084,2,20160203,0023,2.0018,141.99,2568,153.0,152,20.6124,35.1345,2,35.1896,4,148.60,2,5.69,2,9.06,2,0.02,2,0.72,2,-999.,9,-999.,9,-999.,9,-999,9,-999,9
49UP20160109,RF16-01,5635,1,25,22098,2,20160203,0021,2.0018,141.99,2568,201.8,201,15.0019,34.7981,2,34.7804,4,138.79,2,17.52,2,16.20,2,0.01,2,1.19,2,-999.,9,-999.,9,-999.,9,-999,9,-999,9
49UP20160109,RF16-01,5635,1,22,22111,2,20160203,0020,2.0018,141.99,2568,254.2,253,11.4204,34.6003,2,-999.0000,9,127.95,2,27.58,2,22.37,2,0.00,2,1.61,2,-999.,9,-999.,9,-999.,9,-999,9,-999,9
49UP20160109,RF16-01,5635,1,21,22078,2,20160203,0018,2.0018,141.99,2568,303.6,302,10.5021,34.7375,2,34.7260,4,135.19,2,21.42,2,23.67,2,0.00,2,1.69,2,-999.,9,-999.,9,-999.,9,-999,9,-999,9
49UP20160109,RF16-01,5635,1,20,22093,2,20160203,0016,2.0018,141.99,2568,352.7,350,10.1580,34.7284,2,34.7287,2,134.49,2,20.73,2,24.48,2,0.01,2,1.74,2,-999.,9,-999.,9,-999.,9,-999,9,-999,9
49UP20160109,RF16-01,5635,1,19,22092,2,20160203,0014,2.0018,141.99,2568,403.8,401,9.4276,34.6642,2,34.6662,2,124.45,2,25.37,2,26.76,2,0.00,2,1.88,2,-999.,9,-999.,9,-999.,9,-999,9,-999,9
49UP20160109,RF16-01,5635,1,18,22101,2,20160203,0013,2.0018,141.99,2568,454.3,451,9.1077,34.6514,2,-999.0000,9,110.62,2,27.90,2,28.86,2,0.00,2,2.02,2,-999.,9,-999.,9,-999.,9,-999,9,-999,9
49UP20160109,RF16-01,5635,1,17,22090,2,20160203,0009,2.0018,141.99,2568,504.1,501,8.7707,34.6329,2,34.6349,2,121.79,2,27.22,2,28.42,2,0.00,2,1.99,2,-999.,9,-999.,9,-999.,9,-999,9,-999,9
49UP20160109,RF16-01,5635,1,16,22089,2,20160203,0006,2.0018,141.99,2568,607.0,603,7.2880,34.5564,2,34.5574,2,111.06,2,39.38,2,32.24,2,0.00,2,2.27,2,-999.,9,-999.,9,-999.,9,-999,9,-999,9
49UP20160109,RF16-01,5635,1,12,22074,2,20160203,0003,2.0018,141.99,2568,707.2,702,6.0495,34.5273,2,34.5272,2,117.77,2,51.64,2,33.95,2,0.00,2,2.39,2,-999.,9,-999.,9,-999.,9,-999,9,-999,9
49UP20160109,RF16-01,5635,1,10,24267,2,20160203,0000,2.0018,141.99,2568,806.2,800,5.0895,34.5359,2,34.5371,2,104.52,2,68.27,2,36.68,2,0.00,2,2.60,2,-999.,9,-999.,9,-999.,9,-999,9,-999,9
49UP20160109,RF16-01,5635,1,11,24268,2,20160203,0000,2.0018,141.99,2568,807.3,801,5.0805,34.5364,2,34.5361,2,104.36,2,68.34,2,36.75,2,0.00,2,2.60,2,-999.,9,-999.,9,-999.,9,-999,9,-999,9
49UP20160109,RF16-01,5635,1,9,23518,2,20160203,2357,2.0018,141.99,2568,908.3,901,4.8761,34.5450,2,-999.0000,9,91.90,2,75.17,2,38.20,2,0.00,2,2.71,2,-999.,9,-999.,9,-999.,9,-999,9,-999,9
49UP20160109,RF16-01,5635,1,8,22081,2,20160203,2355,2.0018,141.99,2568,1009.9,1002,4.6653,34.5501,2,34.5507,2,90.23,2,80.11,2,38.55,2,0.00,2,2.75,2,-999.,9,-999.,9,-999.,9,-999,9,-999,9
49UP20160109,RF16-01,5635,1,7,23516,2,20160203,2346,2.0018,141.99,2568,1212.4,1202,4.2143,34.5598,2,34.5607,2,103.19,2,89.41,2,37.61,2,0.00,2,2.67,2,-999.,9,-999.,9,-999.,9,-999,9,-999,9
49UP20160109,RF16-01,5635,1,4,24471,3,20160203,2342,2.0018,141.99,2568,1414.2,1402,3.4903,34.5833,2,34.5840,6,98.01,2,108.06,2,38.57,2,0.00,2,2.74,2,-999.,9,-999.,9,-999.,9,-999,9,-999,9
49UP20160109,RF16-01,5635,1,3,22104,2,20160203,2335,2.0018,141.99,2568,1615.5,1600,2.8735,34.6060,2,34.6064,2,102.71,6,122.21,6,38.73,6,0.00,6,2.74,6,-999.,9,-999.,9,-999.,9,-999,9,-999,9
49UP20160109,RF16-01,5635,1,2,22075,3,20160203,2330,2.0018,141.99,2568,1819.9,1802,2.4454,34.6248,2,34.6262,6,110.40,2,130.94,2,38.41,2,0.00,2,2.71,2,-999.,9,-999.,9,-999.,9,-999,9,-999,9
49UP20160109,RF16-01,5635,1,1,21997,2,20160203,2326,2.0018,141.99,2568,2019.8,1999,2.1826,34.6379,2,34.6391,2,115.93,2,136.38,2,38.19,2,0.00,2,2.69,2,-999.,9,-999.,9,-999.,9,-999,9,-999,9