BOTTLE,20171126JMAGEMD
EXPOCODE,SECT_ID,STNNBR,CASTNO,SAMPNO,BTLNBR,BTLNBR_FLAG_W,DATE,TIME,LATITUDE,LONGITUDE,DEPTH,CTDPRS,CTDDEP,CTDTMP,CTDSAL,CTDSAL_FLAG_W,SALNTY,SALNTY_FLAG_W,OXYGEN,OXYGEN_FLAG_W,SILCAT,SILCAT_FLAG_W,NO2+NO3,NO2+NO3_FLAG_W,NITRIT,NITRIT_FLAG_W,PHSPHT,PHSPHT_FLAG_W,TCARBN,TCARBN_FLAG_W,ALKALI,ALKALI_FLAG_W,PH_TOT,PH_TOT_FLAG_W,CFC-11,CFC-11_FLAG_W,CFC-12,CFC-12_FLAG_W
,,,,,,,UTC,UTC,,,METER,DBAR,METERS,ITS-90,PSS-78,,PSS-78,,UMOL/KG,,UMOL/KG,,UMOL/KG,,UMOL/KG,,UMOL/KG,,UMOL/KG,,UMOL/KG,,@25DEG-C,,PMOL/KG,,PMOL/KG,
49UP20160109,RF16-01,5650,1,-999,0,2,20160209,0727,8.98,149.339,4146,0.0,0,28.2028,34.6332,2,-999.0000,9,197.84,2,1.65,2,0.00,2,0.00,2,0.08,2,-999.,9,-999.,9,-999.,9,-999,9,-999,9
49UP20160109,RF16-01,5650,1,36,22109,3,20160209,0756,8.98,149.339,4146,11.0,11,28.2163,34.6329,2,34.6303,2,197.28,2,1.63,2,0.00,2,0.00,2,0.08,2,-999.,9,-999.,9,-999.,9,-999,9,-999,9
49UP20160109,RF16-01,5650,1,35,22112,2,20160209,0754,8.98,149.339,4146,24.3,24,28.2199,34.6331,2,34.6216,2,197.43,2,1.68,2,0.00,2,0.00,2,0.08,2,-999.,9,-999.,9,-999.,9,-999,9,-999,9
49UP20160109,RF16-01,5650,1,34,22094,2,20160209,0753,8.98,149.339,4146,51.8,52,28.2101,34.6416,2,34.6387,2,196.87,6,1.67,6,0.02,6,0.00,6,0.09,6,-999.,9,-999.,9,-999.,9,-999,9,-999,9
49UP20160109,RF16-01,5650,1,33,24469,2,20160209,0752,8.98,149.339,4146,77.3,77,27.4783,34.6423,2,-999.0000,9,192.88,2,2.05,2,0.43,2,0.02,2,0.13,2,-999.,9,-999.,9,-999.,9,-999,9,-999,9
49UP20160109,RF16-01,5650,1,32,22105,2,20160209,0748,8.98,149.339,4146,101.8,101,20.6691,34.7646,2,34.7713,2,164.43,2,6.94,2,6.03,2,0.35,2,0.58,2,-999.,9,-999.,9,-999.,9,-999,9,-999,9
49UP20160109,RF16-01,5650,1,31,23515,2,20160209,0747,8.98,149.339,4146,126.7,126,18.0124,34.7360,2,34.7499,2,146.05,2,9.27,2,9.96,2,0.29,2,0.81,2,-999.,9,-999.,9,-999.,9,-999,9,-999,9
49UP20160109,RF16-01,5650,1,30,22097,2,20160209,0746,8.98,149.339,4146,152.1,151,13.6345,34.5645,2,-999.0000,9,114.45,2,19.38,2,19.07,2,0.02,2,1.41,2,-999.,9,-999.,9,-999.,9,-999,9,-999,9
49UP20160109,RF16-01,5650,1,29,22102,2,20160209,0744,8.98,149.339,4146,203.5,202,10.8334,34.5098,2,34.5134,2,83.78,2,29.78,2,26.81,2,0.00,2,1.94,2,-999.,9,-999.,9,-999.,9,-999,9,-999,9
49UP20160109,RF16-01,5650,1,28,22108,2,20160209,0743,8.98,149.339,4146,252.4,251,9.5851,34.5107,2,34.5097,2,73.99,6,35.83,6,30.26,6,0.00,6,2.17,6,-999.,9,-999.,9,-999.,9,-999,9,-999,9
49UP20160109,RF16-01,5650,1,27,21998,2,20160209,0741,8.98,149.339,4146,301.8,300,9.0330,34.5473,2,34.5461,2,75.21,2,38.30,2,31.59,2,0.00,2,2.25,2,-999.,9,-999.,9,-999.,9,-999,9,-999,9
49UP20160109,RF16-01,5650,1,26,22084,2,20160209,0739,8.98,149.339,4146,353.2,351,8.5575,34.5446,2,-999.0000,9,77.46,2,40.57,2,32.32,2,0.00,2,2.30,2,-999.,9,-999.,9,-999.,9,-999,9,-999,9
49UP20160109,RF16-01,5650,1,25,22098,2,20160209,0737,8.98,149.339,4146,405.3,403,8.0719,34.5430,2,34.5428,2,81.40,2,42.98,2,32.93,2,0.00,2,2.33,2,-999.,9,-999.,9,-999.,9,-999,9,-999,9
49UP20160109,RF16-01,5650,1,24,22110,2,20160209,0733,8.98,149.339,4146,455.3,452,7.7643,34.5401,2,34.5396,2,85.09,2,44.69,2,33.22,2,0.00,2,2.35,2,-999.,9,-999.,9,-999.,9,-999,9,-999,9
49UP20160109,RF16-01,5650,1,23,22096,2,20160209,0730,8.98,149.339,4146,505.6,502,7.2452,34.5287,2,-999.0000,9,87.89,2,49.06,2,33.86,2,0.00,2,2.40,2,-999.,9,-999.,9,-999.,9,-999,9,-999,9
49UP20160109,RF16-01,5650,1,22,22111,2,20160209,0726,8.98,149.339,4146,605.2,601,6.5251,34.5223,2,34.5210,2,89.67,2,57.13,2,35.00,2,0.00,2,2.49,2,-999.,9,-999.,9,-999.,9,-999,9,-999,9
49UP20160109,RF16-01,5650,1,21,22078,2,20160209,0723,8.98,149.339,4146,707.2,702,5.9353,34.5277,2,34.5269,6,87.36,2,65.81,2,36.22,2,0.00,2,2.58,2,-999.,9,-999.,9,-999.,9,-999,9,-999,9
49UP20160109,RF16-01,5650,1,20,22093,2,20160209,0720,8.98,149.339,4146,807.7,802,5.4119,34.5349,2,34.5329,2,85.32,2,74.89,2,37.16,2,0.00,2,2.65,2,-999.,9,-999.,9,-999.,9,-999,9,-999,9
49UP20160109,RF16-01,5650,1,19,22092,2,20160209,0715,8.98,149.339,4146,908.8,902,5.0701,34.5408,2,-999.0000,9,85.04,2,81.21,2,37.68,2,0.00,2,2.69,2,-999.,9,-999.,9,-999.,9,-999,9,-999,9
49UP20160109,RF16-01,5650,1,18,22101,2,20160209,0711,8.98,149.339,4146,1010.3,1002,4.5954,34.5500,2,34.5503,2,86.42,2,90.24,2,38.15,2,0.00,2,2.72,2,-999.,9,-999.,9,-999.,9,-999,9,-999,9
49UP20160109,RF16-01,5650,1,17,22090,2,20160209,0706,8.98,149.339,4146,1213.0,1203,3.7435,34.5734,2,34.5754,2,90.30,2,107.03,2,38.72,2,0.00,2,2.75,2,-999.,9,-999.,9,-999.,9,-999,9,-999,9
49UP20160109,RF16-01,5650,1,16,22089,2,20160209,0701,8.98,149.339,4146,1414.4,1402,3.2305,34.5889,2,34.5889,2,95.78,2,117.66,2,38.78,2,0.00,2,2.75,2,-999.,9,-999.,9,-999.,9,-999,9,-999,9
49UP20160109,RF16-01,5650,1,15,22088,2,20160209,0654,8.98,149.339,4146,1616.9,1602,2.8283,34.6051,2,34.6042,2,101.21,2,125.80,2,38.69,2,0.00,2,2.73,2,-999.,9,-999.,9,-999.,9,-999,9,-999,9
49UP20160109,RF16-01,5650,1,14,21999,2,20160209,0650,8.98,149.339,4146,1819.0,1801,2.5420,34.6183,2,34.6185,2,106.21,2,131.79,2,38.58,2,0.00,2,2.71,2,-999.,9,-999.,9,-999.,9,-999,9,-999,9
49UP20160109,RF16-01,5650,1,13,22667,2,20160209,0646,8.98,149.339,4146,2019.2,1998,2.2713,34.6319,2,34.6310,2,109.64,2,137.80,2,38.62,2,0.00,2,2.71,2,-999.,9,-999.,9,-999.,9,-999,9,-999,9
49UP20160109,RF16-01,5650,1,12,22074,3,20160209,0640,8.98,149.339,4146,2272.5,2248,2.0552,34.6440,2,34.6438,2,116.12,2,141.46,2,38.20,2,0.00,2,2.67,2,-999.,9,-999.,9,-999.,9,-999,9,-999,9
49UP20160109,RF16-01,5650,1,11,24268,2,20160209,0635,8.98,149.339,4146,2528.1,2499,1.8926,34.6541,2,34.6543,2,122.34,2,144.59,2,37.89,2,0.00,2,2.64,2,-999.,9,-999.,9,-999.,9,-999,9,-999,9
49UP20160109,RF16-01,5650,1,10,24267,2,20160209,0629,8.98,149.339,4146,2782.7,2749,1.7380,34.6621,2,34.6617,2,129.94,6,145.98,6,37.37,6,0.00,6,2.60,6,-999.,9,-999.,9,-999.,9,-999,9,-999,9
49UP20160109,RF16-01,5650,1,9,23518,2,20160209,0623,8.98,149.339,4146,3038.9,3000,1.5977,34.6713,2,34.6712,2,138.78,2,146.17,2,36.85,2,0.00,2,2.55,2,-999.,9,-999.,9,-999.,9,-999,9,-999,9
49UP20160109,RF16-01,5650,1,8,22081,2,20160209,0618,8.98,149.339,4146,3294.5,3251,1.5415,34.6764,2,34.6762,2,145.04,2,144.93,2,36.43,2,0.00,2,2.52,2,-999.,9,-999.,9,-999.,9,-999,9,-999,9
49UP20160109,RF16-01,5650,1,7,23516,2,20160209,0612,8.98,149.339,4146,3549.5,3500,1.5084,34.6807,2,34.6805,2,149.74,2,143.61,2,36.13,2,0.00,2,2.50,2,-999.,9,-999.,9,-999.,9,-999,9,-999,9
49UP20160109,RF16-01,5650,1,6,22113,2,20160209,0607,8.98,149.339,4146,3804.3,3749,1.5057,34.6827,2,34.6833,6,152.72,6,142.90,6,35.93,6,0.00,6,2.49,6,-999.,9,-999.,9,-999.,9,-999,9,-999,9
49UP20160109,RF16-01,5650,1,5,24658,2,20160209,0601,8.98,149.339,4146,4061.4,4000,1.4711,34.6873,2,34.6850,4,157.61,4,139.86,2,35.50,2,0.00,2,2.46,2,-999.,9,-999.,9,-999.,9,-999,9,-999,9
49UP20160109,RF16-01,5650,1,4,24471,2,20160209,0600,8.98,149.339,4146,4061.7,4001,1.4709,34.6873,2,34.6873,2,158.93,2,140.24,2,35.47,2,0.00,2,2.45,2,-999.,9,-999.,9,-999.,9,-999,9,-999,9
49UP20160109,RF16-01,5650,1,3,22104,2,20160209,0557,8.98,149.339,4146,4216.9,4152,1.4411,34.6907,2,34.6906,2,164.01,2,137.83,2,35.14,2,0.00,2,2.42,2,-999.,9,-999.,9,-999.,9,-999,9,-999,9
49UP20160109,RF16-01,5650,1,2,22075,2,20160209,0557,8.98,149.339,4146,4217.5,4153,1.4417,34.6905,2,34.6909,2,164.41,2,137.71,2,35.11,2,0.00,2,2.42,2,-999.,9,-999.,9,-999.,9,-999,9,-999,9
49UP20160109,RF16-01,5651,1,-999,0,2,20160209,1628,9.9877,149.3313,5516,0.0,0,27.7170,34.6943,2,34.7073,2,199.09,2,1.55,2,0.00,2,0.00,2,0.10,2,1959.1,2,2281.8,2,8.0911,2,-999,9,-999,9
49UP20160109,RF16-01,5651,1,36,22109,2,20160209,1713,9.9877,149.3313,5516,10.5,10,27.7177,34.6946,2,34.6933,2,198.69,2,1.53,2,0.04,2,0.00,2,0.08,2,1957.7,2,2280.1,2,8.0934,2,-999,9,-999,9
49UP20160109,RF16-01,5651,1,35,22112,2,20160209,1712,9.9877,149.3313,5516,25.3,25,27.7275,34.6942,2,-999.0000,9,198.86,6,1.55,6,0.01,6,0.00,6,0.08,6,1958.9,2,2279.0,2,8.0921,2,-999,9,-999,9
49UP20160109,RF16-01,5651,1,34,22094,2,20160209,1711,9.9877,149.3313,5516,50.1,50,27.7291,34.6949,2,34.6935,2,198.84,2,1.51,2,0.00,2,0.00,2,0.08,2,1957.2,2,2278.0,2,8.0925,2,-999,9,-999,9
49UP20160109,RF16-01,5651,1,33,24469,3,20160209,1710,9.9877,149.3313,5516,75.7,75,27.1968,34.7235,2,34.7548,4,200.36,2,1.68,2,0.01,2,0.00,2,0.11,2,1971.6,2,2285.2,2,8.0787,3,-999,9,-999,9
49UP20160109,RF16-01,5651,1,32,22105,2,20160209,1709,9.9877,149.3313,5516,100.7,100,20.7541,35.0273,2,35.0279,2,183.95,2,3.16,2,1.39,2,0.11,2,0.30,2,2060.4,2,2309.7,2,7.9491,2,-999,9,-999,9
49UP20160109,RF16-01,5651,1,31,23515,2,20160209,1708,9.9877,149.3313,5516,126.1,125,18.0576,34.8135,2,-999.0000,9,173.38,2,5.01,2,6.01,2,0.06,2,0.51,2,2084.7,2,2293.1,2,7.8896,2,-999,9,-999,9
49UP20160109,RF16-01,5651,1,30,22097,2,20160209,1705,9.9877,149.3313,5516,149.7,149,14.7908,34.5153,2,34.5170,2,161.92,2,10.32,2,11.49,2,0.01,2,0.88,2,2103.7,6,2276.3,6,7.8033,2,-999,9,-999,9
49UP20160109,RF16-01,5651,1,29,22102,2,20160209,1703,9.9877,149.3313,5516,203.8,203,11.5293,34.3425,2,34.3463,2,125.39,2,21.66,2,20.49,2,0.00,2,1.53,2,2162.3,2,2274.2,2,7.6613,6,-999,9,-999,9
49UP20160109,RF16-01,5651,1,28,22108,2,20160209,1702,9.9877,149.3313,5516,252.4,251,10.3167,34.5142,2,-999.0000,9,68.84,2,32.07,2,29.45,2,0.00,2,2.12,2,2219.8,2,2295.6,2,7.5448,2,-999,9,-999,9
49UP20160109,RF16-01,5651,1,27,21998,2,20160209,1700,9.9877,149.3313,5516,303.6,302,9.1871,34.5390,2,34.5385,2,63.45,2,37.77,2,32.29,2,0.00,2,2.30,2,2236.2,2,2303.6,2,7.5150,2,-999,9,-999,9
49UP20160109,RF16-01,5651,1,26,22084,2,20160209,1658,9.9877,149.3313,5516,352.7,350,8.4428,34.5348,2,34.5347,2,67.92,2,41.89,2,33.33,2,0.00,2,2.36,2,2247.5,2,2308.6,2,7.5116,2,-999,9,-999,9
49UP20160109,RF16-01,5651,1,25,22098,3,20160209,1657,9.9877,149.3313,5516,403.9,401,7.7130,34.5120,2,34.5114,2,74.13,2,47.38,2,34.04,2,0.00,2,2.41,2,2250.6,2,2312.8,2,7.5115,2,-999,9,-999,9
49UP20160109,RF16-01,5651,1,24,22110,2,20160209,1655,9.9877,149.3313,5516,453.4,450,7.2716,34.5246,2,-999.0000,9,80.45,2,50.11,2,34.55,2,0.00,2,2.44,2,2252.7,2,2317.4,2,7.5141,2,-999,9,-999,9
49UP20160109,RF16-01,5651,1,23,22096,2,20160209,1652,9.9877,149.3313,5516,504.9,501,6.9228,34.5281,2,34.5268,6,81.50,2,53.37,2,35.13,2,0.00,2,2.49,2,2256.7,2,2320.9,2,7.5142,2,-999,9,-999,9
49UP20160109,RF16-01,5651,1,22,22111,2,20160209,1647,9.9877,149.3313,5516,605.1,601,6.2688,34.5286,2,34.5283,2,82.28,2,61.51,2,36.24,2,0.00,2,2.57,2,2264.8,2,2330.4,2,7.5073,2,-999,9,-999,9
49UP20160109,RF16-01,5651,1,21,22078,2,20160209,1644,9.9877,149.3313,5516,703.9,699,5.6758,34.5314,2,-999.0000,9,76.03,2,71.40,2,37.74,2,0.00,2,2.69,2,2283.0,2,2340.6,2,7.4909,2,-999,9,-999,9
49UP20160109,RF16-01,5651,1,20,22093,2,20160209,1641,9.9877,149.3313,5516,807.0,801,5.1072,34.5403,2,34.5395,2,76.16,2,80.91,2,38.58,2,0.00,2,2.74,2,2298.0,2,2351.1,2,7.4811,2,-999,9,-999,9
49UP20160109,RF16-01,5651,1,19,22092,2,20160209,1639,9.9877,149.3313,5516,907.0,900,4.6566,34.5464,2,34.5457,2,73.10,2,90.09,2,39.48,2,0.00,2,2.81,2,2307.9,2,2359.1,2,7.4711,2,-999,9,-999,9
49UP20160109,RF16-01,5651,1,18,22101,2,20160209,1635,9.9877,149.3313,5516,1007.8,1000,4.2349,34.5568,2,34.5561,2,87.24,2,97.29,2,38.50,2,0.00,2,2.73,2,2305.7,2,2369.4,2,7.4966,2,-999,9,-999,9
49UP20160109,RF16-01,5651,1,17,22090,2,20160209,1630,9.9877,149.3313,5516,1211.1,1201,3.4847,34.5764,2,34.5756,2,89.97,2,113.22,2,39.12,2,0.00,2,2.77,2,2324.3,6,2384.6,6,7.4934,2,-999,9,-999,9
49UP20160109,RF16-01,5651,1,16,22089,3,20160209,1625,9.9877,149.3313,5516,1413.5,1401,3.0536,34.5944,2,34.5912,4,96.49,2,120.91,2,38.87,2,0.00,2,2.75,2,2328.6,2,2395.1,2,7.5044,6,-999,9,-999,9
49UP20160109,RF16-01,5651,1,15,22088,2,20160209,1619,9.9877,149.3313,5516,1615.3,1600,2.7062,34.6083,2,34.6086,2,101.16,2,128.77,2,38.85,2,0.00,2,2.74,2,2337.2,2,2401.7,2,7.5063,2,-999,9,-999,9
49UP20160109,RF16-01,5651,1,14,21999,2,20160209,1613,9.9877,149.3313,5516,1817.3,1799,2.4180,34.6223,2,34.6217,2,105.89,2,134.79,2,38.85,2,0.00,2,2.72,2,2339.9,2,2407.6,2,7.5166,2,-999,9,-999,9
49UP20160109,RF16-01,5651,1,13,22667,2,20160209,1608,9.9877,149.3313,5516,2023.1,2002,2.2077,34.6358,2,34.6331,4,110.33,2,138.68,2,38.60,2,0.00,2,2.71,2,2342.7,2,2412.8,2,7.5221,2,-999,9,-999,9
49UP20160109,RF16-01,5651,1,12,22074,2,20160209,1601,9.9877,149.3313,5516,2274.5,2249,1.9968,34.6474,2,34.6465,2,115.94,2,143.64,2,38.49,2,0.00,2,2.72,2,2344.0,2,2419.4,2,7.5314,2,-999,9,-999,9
49UP20160109,RF16-01,5651,1,11,24268,2,20160209,1555,9.9877,149.3313,5516,2530.7,2501,1.8721,34.6558,2,34.6552,2,121.82,2,145.32,2,38.09,2,0.00,2,2.65,2,2345.5,2,2421.6,2,7.5351,2,-999,9,-999,9
49UP20160109,RF16-01,5651,1,10,24267,2,20160209,1549,9.9877,149.3313,5516,2784.0,2750,1.7565,34.6613,2,34.6615,2,129.10,2,146.04,2,37.60,2,0.00,2,2.61,2,2337.3,2,2419.5,2,7.5484,2,-999,9,-999,9
49UP20160109,RF16-01,5651,1,9,23518,2,20160209,1544,9.9877,149.3313,5516,3039.9,3001,1.6508,34.6686,2,34.6688,2,135.12,2,146.60,2,37.20,2,0.00,2,2.57,2,2338.2,2,2421.1,2,7.5567,2,-999,9,-999,9
49UP20160109,RF16-01,5651,1,8,22081,2,20160209,1538,9.9877,149.3313,5516,3294.1,3250,1.5882,34.6739,2,34.6739,6,141.13,2,145.99,2,36.86,2,0.00,2,2.54,2,2332.0,2,2420.2,2,7.5671,2,-999,9,-999,9
49UP20160109,RF16-01,5651,1,7,23516,2,20160209,1532,9.9877,149.3313,5516,3550.5,3501,1.5233,34.6803,2,34.6799,2,148.30,2,144.05,2,36.38,2,0.00,2,2.51,2,2329.5,2,2417.7,2,7.5741,2,-999,9,-999,9
49UP20160109,RF16-01,5651,1,6,22113,2,20160209,1527,9.9877,149.3313,5516,3805.0,3750,1.4923,34.6845,2,34.6857,2,154.25,6,141.99,6,35.95,6,0.00,6,2.47,6,2326.3,2,2417.8,2,7.5806,2,-999,9,-999,9
49UP20160109,RF16-01,5651,1,5,24658,2,20160209,1521,9.9877,149.3313,5516,4061.3,4000,1.4719,34.6880,2,34.6875,2,159.41,2,139.69,2,35.60,2,0.00,2,2.45,2,2323.3,6,2415.0,6,7.5906,2,-999,9,-999,9
49UP20160109,RF16-01,5651,1,4,24471,2,20160209,1511,9.9877,149.3313,5516,4575.5,4501,1.4676,34.6924,2,34.6920,2,166.85,2,136.53,2,35.04,2,0.00,2,2.41,2,2318.6,2,2412.3,2,7.6000,6,-999,9,-999,9
49UP20160109,RF16-01,5651,1,3,22104,2,20160209,1500,9.9877,149.3313,5516,5085.8,4998,1.4727,34.6960,2,34.6959,6,172.86,6,133.29,6,34.60,6,0.00,6,2.37,6,2319.6,3,2403.5,2,7.6018,2,-999,9,-999,9
49UP20160109,RF16-01,5651,1,2,22075,2,20160209,1455,9.9877,149.3313,5516,5346.2,5250,1.4904,34.6970,2,34.6975,2,175.05,2,132.06,2,34.42,2,0.00,2,2.36,2,2303.2,2,2404.3,2,7.6066,2,-999,9,-999,9
49UP20160109,RF16-01,5651,1,1,21997,2,20160209,1448,9.9877,149.3313,5516,5639.5,5535,1.5224,34.6976,2,34.6981,2,175.78,6,132.05,6,34.43,6,0.00,6,2.36,6,2304.0,2,2402.9,2,7.6053,2,-999,9,-999,9