BOTTLE,20171126JMAGEMD
EXPOCODE,SECT_ID,STNNBR,CASTNO,SAMPNO,BTLNBR,BTLNBR_FLAG_W,DATE,TIME,LATITUDE,LONGITUDE,DEPTH,CTDPRS,CTDDEP,CTDTMP,CTDSAL,CTDSAL_FLAG_W,SALNTY,SALNTY_FLAG_W,OXYGEN,OXYGEN_FLAG_W,SILCAT,SILCAT_FLAG_W,NO2+NO3,NO2+NO3_FLAG_W,NITRIT,NITRIT_FLAG_W,PHSPHT,PHSPHT_FLAG_W,TCARBN,TCARBN_FLAG_W,ALKALI,ALKALI_FLAG_W,PH_TOT,PH_TOT_FLAG_W,CFC-11,CFC-11_FLAG_W,CFC-12,CFC-12_FLAG_W
,,,,,,,UTC,UTC,,,METER,DBAR,METERS,ITS-90,PSS-78,,PSS-78,,UMOL/KG,,UMOL/KG,,UMOL/KG,,UMOL/KG,,UMOL/KG,,UMOL/KG,,UMOL/KG,,@25DEG-C,,PMOL/KG,,PMOL/KG,
49UP20160109,RF16-01,5637,1,-999,0,2,20160204,1225,-0.002,141.9993,3395,0.0,0,29.3413,34.5456,2,34.5573,2,199.16,2,0.76,2,0.04,2,0.01,2,0.09,2,1935.2,2,2275.1,2,8.1221,2,-999,9,-999,9
49UP20160109,RF16-01,5637,1,33,24469,2,20160204,1256,-0.002,141.9993,3395,10.5,10,29.3508,34.5437,2,-999.0000,9,199.02,2,0.72,2,0.04,2,0.00,2,0.09,2,1938.3,2,2276.4,2,8.1222,2,-999,9,-999,9
49UP20160109,RF16-01,5637,1,32,22105,2,20160204,1255,-0.002,141.9993,3395,25.4,25,29.0324,34.7835,2,-999.0000,9,184.74,2,1.43,2,1.65,2,0.16,2,0.24,2,1988.9,2,2295.4,2,8.0697,2,-999,9,-999,9
49UP20160109,RF16-01,5637,1,31,23515,2,20160204,1253,-0.002,141.9993,3395,50.4,50,24.7093,35.2416,2,-999.0000,9,149.95,2,2.80,2,6.62,2,0.18,2,0.56,2,2049.7,2,2312.8,2,7.9802,2,-999,9,-999,9
49UP20160109,RF16-01,5637,1,30,22097,2,20160204,1252,-0.002,141.9993,3395,75.8,75,22.9707,34.9968,2,-999.0000,9,151.85,6,5.33,6,7.17,6,0.08,6,0.57,6,2055.2,2,2297.6,2,7.9533,2,-999,9,-999,9
49UP20160109,RF16-01,5637,1,28,22108,2,20160204,1247,-0.002,141.9993,3395,106.0,105,21.5314,35.2539,2,-999.0000,9,144.14,2,5.96,2,9.02,2,0.03,2,0.71,2,2076.9,2,2309.6,2,7.9178,2,-999,9,-999,9
49UP20160109,RF16-01,5637,1,29,22102,3,20160204,1247,-0.002,141.9993,3395,106.7,106,21.5696,35.2821,2,-999.0000,9,143.93,2,5.70,2,9.04,2,0.04,2,0.71,2,2078.2,2,2310.8,2,7.9190,2,-999,9,-999,9
49UP20160109,RF16-01,5637,1,25,22098,2,20160204,1246,-0.002,141.9993,3395,125.9,125,20.0056,34.9005,2,-999.0000,9,146.88,2,9.04,2,9.69,2,0.02,2,0.75,2,2079.6,6,2298.5,6,7.8938,2,-999,9,-999,9
49UP20160109,RF16-01,5637,1,24,22110,2,20160204,1244,-0.002,141.9993,3395,150.6,150,19.4265,35.2443,2,-999.0000,9,143.44,2,6.21,2,10.60,2,0.02,2,0.84,2,2111.2,2,2317.3,2,7.8859,6,-999,9,-999,9
49UP20160109,RF16-01,5637,1,23,22096,2,20160204,1243,-0.002,141.9993,3395,200.4,199,15.5476,34.9878,2,-999.0000,9,144.91,2,12.38,2,14.42,2,0.01,2,1.08,2,2125.2,2,2306.1,2,7.8100,2,-999,9,-999,9
49UP20160109,RF16-01,5637,1,22,22111,2,20160204,1241,-0.002,141.9993,3395,251.8,250,11.3441,34.6864,2,-999.0000,9,130.17,2,23.60,2,22.11,2,0.01,2,1.60,2,2174.3,2,2301.9,2,7.6966,2,-999,9,-999,9
49UP20160109,RF16-01,5637,1,21,22078,2,20160204,1240,-0.002,141.9993,3395,301.0,299,10.6813,34.7255,2,-999.0000,9,125.87,2,22.54,2,24.10,2,0.01,2,1.72,2,2184.8,2,2302.3,2,7.6701,2,-999,9,-999,9
49UP20160109,RF16-01,5637,1,20,22093,2,20160204,1238,-0.002,141.9993,3395,352.3,350,10.2915,34.7405,2,-999.0000,9,94.26,2,24.42,2,28.29,2,0.00,2,1.99,2,2211.6,2,2303.6,2,7.6036,2,-999,9,-999,9
49UP20160109,RF16-01,5637,1,19,22092,2,20160204,1236,-0.002,141.9993,3395,403.6,401,9.7925,34.7054,2,-999.0000,9,83.20,2,27.57,2,30.35,2,0.01,2,2.12,2,2224.9,2,2302.2,2,7.5708,2,-999,9,-999,9
49UP20160109,RF16-01,5637,1,15,22088,2,20160204,1235,-0.002,141.9993,3395,452.9,450,9.2539,34.6723,2,-999.0000,9,99.37,2,27.54,2,29.87,2,0.00,2,2.09,2,2219.1,2,2301.6,2,7.5855,2,-999,9,-999,9
49UP20160109,RF16-01,5637,1,14,21999,2,20160204,1233,-0.002,141.9993,3395,504.5,501,8.6875,34.6344,2,-999.0000,9,113.83,6,28.23,6,29.58,6,0.01,6,2.06,6,2212.8,2,2304.9,2,7.5991,2,-999,9,-999,9
49UP20160109,RF16-01,5637,1,13,22667,2,20160204,1230,-0.002,141.9993,3395,605.8,602,7.0980,34.5601,2,-999.0000,9,108.89,2,38.97,2,33.28,2,0.00,2,2.33,2,2233.0,6,2309.8,6,7.5610,2,-999,9,-999,9
49UP20160109,RF16-01,5637,1,12,22074,2,20160204,1227,-0.002,141.9993,3395,705.5,700,6.3392,34.5422,2,-999.0000,9,100.01,2,48.78,2,35.65,2,0.00,2,2.51,2,2251.5,2,2319.2,2,7.5321,6,-999,9,-999,9
49UP20160109,RF16-01,5637,1,11,24268,2,20160204,1224,-0.002,141.9993,3395,806.5,801,5.5713,34.5305,2,-999.0000,9,108.55,2,58.18,2,35.92,2,0.00,2,2.53,2,2255.3,2,2329.5,2,7.5393,2,-999,9,-999,9
49UP20160109,RF16-01,5637,1,10,24267,2,20160204,1222,-0.002,141.9993,3395,907.0,900,5.0106,34.5413,2,-999.0000,9,95.33,2,72.42,2,37.75,2,0.00,2,2.68,2,2279.7,2,2343.8,2,7.5089,2,-999,9,-999,9
49UP20160109,RF16-01,5637,1,7,23516,2,20160204,1219,-0.002,141.9993,3395,1009.4,1001,4.6194,34.5510,2,-999.0000,9,90.69,2,81.60,2,38.58,2,0.00,2,2.75,2,2291.0,2,2352.7,2,7.4981,2,-999,9,-999,9
49UP20160109,RF16-01,5637,1,6,22113,2,20160204,1212,-0.002,141.9993,3395,1212.5,1202,3.8572,34.5677,2,-999.0000,9,103.01,2,95.60,2,38.09,2,0.00,2,2.70,2,2304.0,2,2368.2,2,7.5166,2,-999,9,-999,9
49UP20160109,RF16-01,5637,1,5,24658,2,20160204,1207,-0.002,141.9993,3395,1415.5,1403,3.2343,34.5909,2,-999.0000,9,105.17,2,109.90,2,38.35,2,0.00,2,2.73,2,2321.1,2,2383.5,2,7.5197,2,-999,9,-999,9
49UP20160109,RF16-01,5637,1,3,22104,2,20160204,1202,-0.002,141.9993,3395,1616.1,1601,2.7510,34.6113,2,-999.0000,9,109.29,2,122.03,2,38.33,2,0.00,2,2.71,2,2322.2,2,2396.7,2,7.5232,2,-999,9,-999,9
49UP20160109,RF16-01,5637,1,4,24471,2,20160204,1202,-0.002,141.9993,3395,1616.7,1602,2.7514,34.6110,2,-999.0000,9,109.42,2,122.09,2,38.33,2,0.00,2,2.71,2,2328.3,2,2398.1,2,7.5218,2,-999,9,-999,9
49UP20160109,RF16-01,5637,1,2,22075,2,20160204,1156,-0.002,141.9993,3395,1819.8,1802,2.4598,34.6252,2,-999.0000,9,115.15,2,127.58,2,38.05,2,0.00,2,2.69,2,2332.8,2,2402.8,2,7.5309,2,-999,9,-999,9
49UP20160109,RF16-01,5637,1,1,21997,2,20160204,1152,-0.002,141.9993,3395,2021.7,2001,2.2347,34.6364,2,-999.0000,9,118.97,2,132.95,2,37.95,2,0.00,2,2.67,2,2334.4,2,2408.5,2,7.5374,2,-999,9,-999,9
49UP20160109,RF16-01,5639,1,-999,0,2,20160205,0040,-2.0132,141.998,3612,0.0,0,29.0454,34.6978,2,-999.0000,9,199.38,2,1.37,2,0.02,2,0.00,2,0.13,2,-999.,9,-999.,9,-999.,9,-999,9,-999,9
49UP20160109,RF16-01,5639,1,33,24469,3,20160205,0105,-2.0132,141.998,3612,10.7,11,29.0127,34.6955,2,34.6956,2,199.84,2,1.34,2,0.01,2,0.00,2,0.12,2,-999.,9,-999.,9,-999.,9,-999,9,-999,9
49UP20160109,RF16-01,5639,1,32,22105,2,20160205,0103,-2.0132,141.998,3612,25.6,25,28.4259,34.8792,2,-999.0000,9,198.89,2,1.10,2,0.09,2,0.01,2,0.16,2,-999.,9,-999.,9,-999.,9,-999,9,-999,9
49UP20160109,RF16-01,5639,1,31,23515,2,20160205,0102,-2.0132,141.998,3612,51.6,51,26.8012,35.2098,2,35.2094,2,181.63,6,1.24,6,1.97,6,0.42,6,0.30,6,-999.,9,-999.,9,-999.,9,-999,9,-999,9
49UP20160109,RF16-01,5639,1,30,22097,2,20160205,0101,-2.0132,141.998,3612,76.7,76,24.5219,35.4665,2,-999.0000,9,151.74,2,2.02,2,6.18,2,0.09,2,0.56,2,-999.,9,-999.,9,-999.,9,-999,9,-999,9
49UP20160109,RF16-01,5639,1,29,22102,2,20160205,0058,-2.0132,141.998,3612,101.4,101,23.7691,35.5123,2,35.5144,2,151.61,2,2.11,2,6.44,2,0.06,2,0.58,2,-999.,9,-999.,9,-999.,9,-999,9,-999,9
49UP20160109,RF16-01,5639,1,28,22108,2,20160205,0056,-2.0132,141.998,3612,125.8,125,21.8660,35.5641,2,35.5650,2,142.68,2,2.79,2,8.47,2,0.03,2,0.72,2,-999.,9,-999.,9,-999.,9,-999,9,-999,9
49UP20160109,RF16-01,5639,1,25,22098,2,20160205,0055,-2.0132,141.998,3612,151.0,150,18.1598,35.4141,2,-999.0000,9,146.40,2,4.45,2,11.11,2,0.01,2,0.88,2,-999.,9,-999.,9,-999.,9,-999,9,-999,9
49UP20160109,RF16-01,5639,1,24,22110,2,20160205,0054,-2.0132,141.998,3612,201.4,200,16.5442,35.2930,2,35.2929,2,148.33,2,5.67,2,12.79,2,0.01,2,1.00,2,-999.,9,-999.,9,-999.,9,-999,9,-999,9
49UP20160109,RF16-01,5639,1,23,22096,2,20160205,0052,-2.0132,141.998,3612,251.1,250,12.9332,34.9827,2,34.9789,2,157.28,2,9.32,2,17.26,2,0.01,2,1.27,2,-999.,9,-999.,9,-999.,9,-999,9,-999,9
49UP20160109,RF16-01,5639,1,22,22111,2,20160205,0051,-2.0132,141.998,3612,302.6,301,10.7492,34.7776,2,34.7776,2,138.88,2,17.85,2,22.87,2,0.00,2,1.62,2,-999.,9,-999.,9,-999.,9,-999,9,-999,9
49UP20160109,RF16-01,5639,1,21,22078,2,20160205,0050,-2.0132,141.998,3612,352.0,350,10.3675,34.7465,2,-999.0000,9,106.13,2,22.98,2,26.85,2,0.00,2,1.88,2,-999.,9,-999.,9,-999.,9,-999,9,-999,9
49UP20160109,RF16-01,5639,1,19,22092,2,20160205,0048,-2.0132,141.998,3612,402.9,400,9.9443,34.7196,2,34.7197,2,107.14,2,23.74,2,27.68,2,0.00,2,1.93,2,-999.,9,-999.,9,-999.,9,-999,9,-999,9
49UP20160109,RF16-01,5639,1,20,22093,2,20160205,0048,-2.0132,141.998,3612,403.0,400,9.9442,34.7199,2,34.7203,2,107.12,2,23.74,2,27.63,2,0.01,2,1.93,2,-999.,9,-999.,9,-999.,9,-999,9,-999,9
49UP20160109,RF16-01,5639,1,15,22088,2,20160205,0046,-2.0132,141.998,3612,454.5,452,9.2537,34.6724,2,34.6741,6,148.08,2,19.90,2,25.13,2,0.01,2,1.76,2,-999.,9,-999.,9,-999.,9,-999,9,-999,9
49UP20160109,RF16-01,5639,1,14,21999,2,20160205,0044,-2.0132,141.998,3612,504.5,501,8.2222,34.6022,2,-999.0000,9,147.70,2,24.16,2,27.25,2,0.00,2,1.90,2,-999.,9,-999.,9,-999.,9,-999,9,-999,9
49UP20160109,RF16-01,5639,1,13,22667,2,20160205,0041,-2.0132,141.998,3612,605.5,601,6.9532,34.5313,2,34.5334,2,150.07,2,31.48,2,29.59,2,0.00,2,2.06,2,-999.,9,-999.,9,-999.,9,-999,9,-999,9
49UP20160109,RF16-01,5639,1,12,22074,2,20160205,0038,-2.0132,141.998,3612,707.0,702,6.1874,34.5127,2,34.5138,2,137.91,2,41.32,2,32.26,2,0.00,2,2.25,2,-999.,9,-999.,9,-999.,9,-999,9,-999,9
49UP20160109,RF16-01,5639,1,11,24268,2,20160205,0038,-2.0132,141.998,3612,707.0,702,6.1868,34.5127,2,34.5125,2,137.98,2,41.34,2,32.22,2,0.00,2,2.25,2,-999.,9,-999.,9,-999.,9,-999,9,-999,9
49UP20160109,RF16-01,5639,1,10,24267,2,20160205,0036,-2.0132,141.998,3612,807.7,802,5.3254,34.5148,2,34.5159,2,129.98,6,56.13,6,34.19,6,0.00,6,2.41,6,-999.,9,-999.,9,-999.,9,-999,9,-999,9
49UP20160109,RF16-01,5639,1,7,23516,2,20160205,0033,-2.0132,141.998,3612,907.7,901,4.9216,34.5340,2,34.5339,6,110.38,2,69.53,2,36.47,2,0.00,2,2.58,2,-999.,9,-999.,9,-999.,9,-999,9,-999,9
49UP20160109,RF16-01,5639,1,6,22113,2,20160205,0031,-2.0132,141.998,3612,1008.9,1001,4.6498,34.5488,2,34.5484,2,94.62,2,79.89,2,38.24,2,0.00,2,2.71,2,-999.,9,-999.,9,-999.,9,-999,9,-999,9
49UP20160109,RF16-01,5639,1,5,24658,2,20160205,0024,-2.0132,141.998,3612,1210.7,1201,4.1548,34.5561,2,34.5571,6,106.89,2,87.54,2,37.45,2,0.00,2,2.66,2,-999.,9,-999.,9,-999.,9,-999,9,-999,9
49UP20160109,RF16-01,5639,1,4,24471,2,20160205,0020,-2.0132,141.998,3612,1413.5,1401,3.3202,34.5879,2,34.5890,2,104.90,2,108.08,2,38.29,2,0.00,2,2.72,2,-999.,9,-999.,9,-999.,9,-999,9,-999,9
49UP20160109,RF16-01,5639,1,3,22104,2,20160205,0015,-2.0132,141.998,3612,1617.2,1602,2.8174,34.6087,2,34.6101,2,111.07,2,119.29,2,38.20,2,0.00,2,2.70,2,-999.,9,-999.,9,-999.,9,-999,9,-999,9
49UP20160109,RF16-01,5639,1,2,22075,3,20160205,0009,-2.0132,141.998,3612,1819.3,1801,2.4673,34.6247,2,34.6266,2,115.08,2,127.47,2,38.06,2,0.00,2,2.68,2,-999.,9,-999.,9,-999.,9,-999,9,-999,9
49UP20160109,RF16-01,5639,1,1,21997,2,20160205,0005,-2.0132,141.998,3612,2022.1,2001,2.2772,34.6350,2,34.6370,2,118.44,2,132.05,2,37.86,2,0.00,2,2.66,2,-999.,9,-999.,9,-999.,9,-999,9,-999,9
49UP20160109,RF16-01,5641,1,-999,0,2,20160206,0407,-0.0083,146.1462,3539,0.0,0,29.6701,34.4999,2,34.5159,2,203.41,2,0.52,2,0.00,2,0.00,2,0.04,2,1933.4,2,2275.8,2,8.1322,2,-999,9,-999,9
49UP20160109,RF16-01,5641,1,36,22109,2,20160206,0441,-0.0083,146.1462,3539,10.2,10,29.3488,34.4924,2,-999.0000,9,204.90,2,0.55,2,0.00,2,0.00,2,0.04,2,1927.6,2,2270.5,2,8.1383,2,-999,9,-999,9
49UP20160109,RF16-01,5641,1,35,22112,2,20160206,0440,-0.0083,146.1462,3539,25.4,25,29.0627,34.6820,2,-999.0000,9,201.65,6,0.69,6,0.00,6,0.00,6,0.08,6,1938.5,2,2278.9,2,8.1234,2,-999,9,-999,9
49UP20160109,RF16-01,5641,1,34,22094,2,20160206,0437,-0.0083,146.1462,3539,49.5,49,25.4404,35.2951,2,-999.0000,9,146.31,2,2.35,2,6.78,2,0.11,2,0.59,2,2046.4,2,2315.2,2,7.9820,2,-999,9,-999,9
49UP20160109,RF16-01,5641,1,30,22097,2,20160206,0436,-0.0083,146.1462,3539,75.0,75,22.5240,35.0110,2,-999.0000,9,155.39,2,5.47,2,6.77,2,0.06,2,0.55,2,2053.5,2,2301.2,2,7.9529,2,-999,9,-999,9
49UP20160109,RF16-01,5641,1,29,22102,2,20160206,0434,-0.0083,146.1462,3539,100.3,100,22.0400,35.1551,2,-999.0000,9,149.98,2,4.98,2,8.03,2,0.04,2,0.65,2,2067.3,6,2309.6,6,7.9376,2,-999,9,-999,9
49UP20160109,RF16-01,5641,1,28,22108,2,20160206,0433,-0.0083,146.1462,3539,126.1,125,20.8479,35.2946,2,-999.0000,9,139.77,2,5.43,2,9.77,2,0.03,2,0.77,2,2093.0,2,2318.0,2,7.9021,6,-999,9,-999,9
49UP20160109,RF16-01,5641,1,27,21998,2,20160206,0432,-0.0083,146.1462,3539,150.6,150,20.1149,35.3426,2,-999.0000,9,140.62,2,4.90,2,10.12,2,0.02,2,0.80,2,2100.3,2,2321.6,2,7.8980,2,-999,9,-999,9
49UP20160109,RF16-01,5641,1,26,22084,2,20160206,0430,-0.0083,146.1462,3539,203.7,202,17.7031,35.3468,2,-999.0000,9,144.34,2,5.39,2,11.97,2,0.01,2,0.94,2,2121.5,2,2325.3,2,7.8525,2,-999,9,-999,9
49UP20160109,RF16-01,5641,1,25,22098,2,20160206,0429,-0.0083,146.1462,3539,251.9,250,14.1938,35.0359,2,-999.0000,9,147.77,2,10.56,2,16.32,2,0.01,2,1.21,2,2142.4,2,2310.7,2,7.7857,2,-999,9,-999,9
49UP20160109,RF16-01,5641,1,22,22111,2,20160206,0427,-0.0083,146.1462,3539,300.7,299,11.7670,34.8172,2,-999.0000,9,128.00,2,18.69,2,22.06,2,0.01,2,1.58,2,2174.4,2,2305.3,2,7.6985,2,-999,9,-999,9
49UP20160109,RF16-01,5641,1,21,22078,2,20160206,0425,-0.0083,146.1462,3539,351.9,350,11.4349,34.8104,2,-999.0000,9,102.29,2,21.18,2,25.31,2,0.01,2,1.79,2,2192.8,2,2303.4,2,7.6415,2,-999,9,-999,9
49UP20160109,RF16-01,5641,1,20,22093,2,20160206,0425,-0.0083,146.1462,3539,352.4,350,11.4168,34.8092,2,-999.0000,9,102.28,2,21.12,2,25.29,2,0.01,2,1.79,2,2190.6,2,2304.7,2,7.6418,2,-999,9,-999,9
49UP20160109,RF16-01,5641,1,19,22092,2,20160206,0424,-0.0083,146.1462,3539,401.6,399,9.5965,34.6902,2,-999.0000,9,80.67,2,29.04,2,30.88,2,0.00,2,2.15,2,2225.9,2,2301.6,2,7.5590,2,-999,9,-999,9
49UP20160109,RF16-01,5641,1,18,22101,2,20160206,0422,-0.0083,146.1462,3539,452.4,449,9.1718,34.6617,2,-999.0000,9,92.44,2,29.67,2,30.58,2,0.00,2,2.13,2,2216.4,2,2304.7,2,7.5653,2,-999,9,-999,9
49UP20160109,RF16-01,5641,1,17,22090,2,20160206,0418,-0.0083,146.1462,3539,504.2,501,8.1511,34.6002,2,-999.0000,9,109.87,2,32.66,2,30.87,2,0.00,2,2.16,2,2222.4,2,2306.1,2,7.5851,2,-999,9,-999,9
49UP20160109,RF16-01,5641,1,16,22089,2,20160206,0414,-0.0083,146.1462,3539,605.1,601,7.2025,34.5679,2,-999.0000,9,100.43,2,39.63,2,33.77,2,0.00,2,2.36,2,2235.5,2,2310.3,2,7.5476,2,-999,9,-999,9
49UP20160109,RF16-01,5641,1,12,22074,2,20160206,0412,-0.0083,146.1462,3539,704.7,700,6.2398,34.5423,2,-999.0000,9,93.46,2,51.80,2,36.24,2,0.00,2,2.56,2,2254.4,6,2322.1,6,7.5176,2,-999,9,-999,9
49UP20160109,RF16-01,5641,1,11,24268,2,20160206,0409,-0.0083,146.1462,3539,805.3,799,5.4821,34.5285,2,-999.0000,9,111.70,2,60.08,2,35.59,2,0.00,2,2.51,2,2256.8,2,2331.7,2,7.5382,6,-999,9,-999,9
49UP20160109,RF16-01,5641,1,10,24267,3,20160206,0406,-0.0083,146.1462,3539,906.8,900,5.1115,34.5388,2,-999.0000,9,96.41,2,69.87,2,37.59,2,0.00,2,2.66,2,2277.7,2,2340.5,2,7.5067,2,-999,9,-999,9
49UP20160109,RF16-01,5641,1,9,23518,2,20160206,0403,-0.0083,146.1462,3539,1008.4,1000,4.4895,34.5531,2,-999.0000,9,93.11,2,84.08,2,38.39,2,0.00,2,2.73,2,2293.2,2,2356.6,2,7.5027,2,-999,9,-999,9
49UP20160109,RF16-01,5641,1,8,22081,2,20160206,0356,-0.0083,146.1462,3539,1211.1,1201,3.8576,34.5688,2,-999.0000,9,99.10,2,97.01,2,38.37,2,0.00,2,2.73,2,2305.6,2,2371.6,2,7.5074,2,-999,9,-999,9
49UP20160109,RF16-01,5641,1,7,23516,2,20160206,0351,-0.0083,146.1462,3539,1412.2,1400,3.2645,34.5902,2,-999.0000,9,103.43,6,110.84,6,38.45,6,0.00,6,2.73,6,2316.0,2,2384.0,2,7.5149,2,-999,9,-999,9
49UP20160109,RF16-01,5641,1,4,24471,2,20160206,0347,-0.0083,146.1462,3539,1614.8,1600,2.7695,34.6099,2,-999.0000,9,111.19,2,120.33,2,38.23,2,0.00,2,2.70,2,2323.3,2,2396.2,2,7.5255,2,-999,9,-999,9
49UP20160109,RF16-01,5641,1,3,22104,2,20160206,0339,-0.0083,146.1462,3539,1818.8,1801,2.4308,34.6263,2,-999.0000,9,113.40,4,128.02,2,38.19,2,0.00,2,2.69,2,2330.6,2,2401.8,2,7.5272,2,-999,9,-999,9
49UP20160109,RF16-01,5641,1,2,22075,2,20160206,0339,-0.0083,146.1462,3539,1818.8,1801,2.4307,34.6262,2,-999.0000,9,114.79,2,128.80,2,38.12,2,0.00,2,2.68,2,2326.6,2,2404.8,2,7.5266,2,-999,9,-999,9
49UP20160109,RF16-01,5641,1,1,21997,2,20160206,0335,-0.0083,146.1462,3539,2022.1,2001,2.1887,34.6385,2,-999.0000,9,119.54,2,134.23,2,37.94,2,0.00,2,2.66,2,2333.0,2,2411.0,2,7.5374,2,-999,9,-999,9