BOTTLE,20171117JMAGEMD
EXPOCODE,SECT_ID,STNNBR,CASTNO,SAMPNO,BTLNBR,BTLNBR_FLAG_W,DATE,TIME,LATITUDE,LONGITUDE,DEPTH,CTDPRS,CTDDEP,CTDTMP,CTDSAL,CTDSAL_FLAG_W,SALNTY,SALNTY_FLAG_W,OXYGEN,OXYGEN_FLAG_W,SILCAT,SILCAT_FLAG_W,NO2+NO3,NO2+NO3_FLAG_W,NITRIT,NITRIT_FLAG_W,PHSPHT,PHSPHT_FLAG_W,TCARBN,TCARBN_FLAG_W,ALKALI,ALKALI_FLAG_W,PH_TOT,PH_TOT_FLAG_W,CFC-11,CFC-11_FLAG_W,CFC-12,CFC-12_FLAG_W
,,,,,,,UTC,UTC,,,METER,DBAR,METERS,ITS-90,PSS-78,,PSS-78,,UMOL/KG,,UMOL/KG,,UMOL/KG,,UMOL/KG,,UMOL/KG,,UMOL/KG,,UMOL/KG,,@25DEG-C,,PMOL/KG,,PMOL/KG,
49UP20151115,RF15-09,5561,1,-999,0,2,20151119,0208,24.0017,136.996,3819,0.0,0,27.8630,34.8369,2,34.8739,2,199.42,2,1.24,2,0.01,2,0.01,2,0.02,2,1959.5,2,2289.8,2,8.1015,2,-999,9,-999,9
49UP20151115,RF15-09,5561,1,36,22109,2,20151119,0232,24.0017,136.996,3819,11.2,11,27.8129,34.8406,2,34.8401,2,200.39,2,1.15,2,0.00,2,0.00,2,0.01,2,1957.2,2,2288.2,2,8.1056,2,-999,9,-999,9
49UP20151115,RF15-09,5561,1,35,22112,2,20151119,0231,24.0017,136.996,3819,25.7,26,27.7721,34.8422,2,34.8409,2,200.37,2,1.15,2,0.00,2,0.00,2,0.00,2,1958.3,2,2287.5,2,8.1077,2,-999,9,-999,9
49UP20151115,RF15-09,5561,1,34,22094,2,20151119,0228,24.0017,136.996,3819,52.1,52,27.6037,34.8100,2,34.7905,4,204.48,2,1.26,2,0.00,2,0.00,2,0.01,2,1960.9,2,2284.3,2,8.0978,2,-999,9,-999,9
49UP20151115,RF15-09,5561,1,33,24469,2,20151119,0227,24.0017,136.996,3819,76.0,76,24.5426,34.8760,2,34.9104,4,210.64,2,1.31,2,0.00,2,0.01,2,0.02,2,1985.4,2,2293.0,2,8.0681,2,-999,9,-999,9
49UP20151115,RF15-09,5561,1,32,22105,2,20151119,0225,24.0017,136.996,3819,106.8,106,22.2662,34.9197,2,34.9191,2,203.85,2,1.61,2,0.30,2,0.11,2,0.05,2,2006.8,2,2292.3,2,8.0339,2,-999,9,-999,9
49UP20151115,RF15-09,5561,1,31,23515,2,20151119,0224,24.0017,136.996,3819,126.7,126,20.8608,34.9460,2,34.9549,4,198.71,2,1.87,2,1.14,2,0.03,2,0.09,2,2022.2,2,2293.8,2,8.0077,2,-999,9,-999,9
49UP20151115,RF15-09,5561,1,30,22097,2,20151119,0223,24.0017,136.996,3819,154.6,154,19.7693,34.9020,2,34.9009,2,199.67,2,2.22,2,1.93,2,0.02,2,0.14,2,2027.8,2,2289.9,2,7.9896,2,-999,9,-999,9
49UP20151115,RF15-09,5561,1,29,22102,2,20151119,0221,24.0017,136.996,3819,203.8,202,18.4299,34.8140,2,34.8102,2,204.10,2,2.89,2,3.07,2,0.01,2,0.20,2,2032.0,2,2284.1,2,7.9741,2,-999,9,-999,9
49UP20151115,RF15-09,5561,1,28,22108,2,20151119,0219,24.0017,136.996,3819,252.6,251,17.3903,34.7378,2,34.7329,2,202.72,2,3.99,2,4.78,2,0.01,2,0.31,2,2039.7,2,2282.3,2,7.9497,2,-999,9,-999,9
49UP20151115,RF15-09,5561,1,27,21998,2,20151119,0217,24.0017,136.996,3819,303.0,301,16.6799,34.6820,2,34.6775,2,199.69,6,5.46,6,6.21,6,0.01,6,0.41,6,2049.6,2,2277.9,2,7.9298,2,-999,9,-999,9
49UP20151115,RF15-09,5561,1,26,22084,2,20151119,0215,24.0017,136.996,3819,406.2,403,13.9654,34.4759,2,34.4762,2,185.27,2,12.49,2,11.57,2,0.01,2,0.79,2,2087.6,6,2273.2,6,7.8419,2,-999,9,-999,9
49UP20151115,RF15-09,5561,1,25,22098,2,20151119,0212,24.0017,136.996,3819,505.3,501,11.5281,34.3208,2,34.3153,2,171.90,2,23.40,2,17.21,2,0.00,2,1.19,2,2124.9,2,2273.4,2,7.7531,6,-999,9,-999,9
49UP20151115,RF15-09,5561,1,24,22110,2,20151119,0209,24.0017,136.996,3819,606.0,601,8.4192,34.1593,2,34.1559,2,143.06,2,43.39,2,25.26,2,0.01,2,1.80,2,2187.1,2,2286.0,2,7.6229,2,-999,9,-999,9
49UP20151115,RF15-09,5561,1,23,22096,2,20151119,0207,24.0017,136.996,3819,706.6,701,6.4347,34.1322,2,34.1312,2,107.84,6,65.42,6,31.90,6,0.01,6,2.29,6,2241.5,2,2300.8,2,7.5125,2,-999,9,-999,9
49UP20151115,RF15-09,5561,1,22,22111,2,20151119,0202,24.0017,136.996,3819,808.2,801,5.2314,34.1871,2,34.1886,2,78.47,2,85.86,2,36.60,2,0.00,2,2.63,2,2287.4,2,2320.6,2,7.4426,2,-999,9,-999,9
49UP20151115,RF15-09,5561,1,21,22078,2,20151119,0159,24.0017,136.996,3819,909.2,901,4.3769,34.2752,2,34.2747,2,61.81,6,104.32,6,39.17,6,0.00,6,2.81,6,2317.8,2,2345.2,2,7.4094,2,-999,9,-999,9
49UP20151115,RF15-09,5561,1,20,22093,2,20151119,0156,24.0017,136.996,3819,1009.5,1001,3.9488,34.3284,2,34.3279,2,56.08,2,113.89,2,40.18,2,0.00,2,2.87,2,2332.7,6,2355.1,6,7.4002,2,-999,9,-999,9
49UP20151115,RF15-09,5561,1,19,22092,2,20151119,0152,24.0017,136.996,3819,1213.1,1202,3.1479,34.4455,2,34.4474,2,59.74,2,131.44,2,41.04,2,0.01,2,2.93,2,2352.9,2,2379.9,2,7.4119,6,-999,9,-999,9
49UP20151115,RF15-09,5561,1,18,22101,2,20151119,0146,24.0017,136.996,3819,1414.5,1401,2.7196,34.5133,2,34.5135,2,75.38,2,138.04,2,40.31,2,0.00,2,2.86,2,2350.9,2,2392.8,2,7.4461,2,-999,9,-999,9
49UP20151115,RF15-09,5561,1,17,22090,2,20151119,0140,24.0017,136.996,3819,1618.0,1601,2.4280,34.5589,2,34.5584,2,90.57,2,140.37,2,39.46,2,0.00,2,2.78,2,2350.5,2,2397.9,2,7.4765,2,-999,9,-999,9
49UP20151115,RF15-09,5561,1,16,22089,2,20151119,0136,24.0017,136.996,3819,1819.6,1800,2.1888,34.5916,2,34.5932,2,103.55,2,141.83,2,38.78,2,0.00,2,2.73,2,2346.0,2,2402.4,2,7.4992,2,-999,9,-999,9
49UP20151115,RF15-09,5561,1,15,22088,2,20151119,0131,24.0017,136.996,3819,2024.5,2002,2.0151,34.6120,2,34.6128,6,112.41,2,142.62,2,38.31,2,0.00,2,2.69,2,2344.8,6,2407.5,6,7.5170,2,-999,9,-999,9
49UP20151115,RF15-09,5561,1,14,21999,2,20151119,0124,24.0017,136.996,3819,2278.3,2252,1.8303,34.6352,2,34.6346,2,123.83,2,143.17,2,37.65,2,0.00,2,2.64,2,2336.3,3,2411.3,2,7.5338,6,-999,9,-999,9
49UP20151115,RF15-09,5561,1,12,22074,2,20151119,0119,24.0017,136.996,3819,2531.3,2500,1.7490,34.6461,2,34.6482,4,130.49,2,143.03,2,37.28,2,0.00,2,2.60,2,2336.4,2,2410.2,2,7.5496,2,-999,9,-999,9
49UP20151115,RF15-09,5561,1,13,22667,2,20151119,0119,24.0017,136.996,3819,2531.6,2500,1.7492,34.6462,2,34.6461,2,130.03,2,143.35,2,37.31,2,0.00,2,2.60,2,2336.4,2,2411.4,2,7.5451,2,-999,9,-999,9
49UP20151115,RF15-09,5561,1,11,24268,2,20151119,0112,24.0017,136.996,3819,2788.3,2752,1.6588,34.6576,2,34.6578,6,137.17,6,142.89,6,36.89,6,0.00,6,2.57,6,2332.2,2,2413.9,2,7.5597,2,-999,9,-999,9
49UP20151115,RF15-09,5561,1,10,24267,2,20151119,0107,24.0017,136.996,3819,3043.6,3003,1.6096,34.6654,2,34.6652,2,142.15,2,142.55,2,36.58,2,0.00,2,2.55,2,2330.7,2,2410.3,3,7.5670,2,-999,9,-999,9
49UP20151115,RF15-09,5561,1,9,23518,2,20151119,0106,24.0017,136.996,3819,3043.8,3003,1.6097,34.6653,2,34.6658,2,142.07,2,142.55,2,36.59,2,0.00,2,2.54,2,2330.6,2,2412.3,2,7.5698,2,-999,9,-999,9
49UP20151115,RF15-09,5561,1,7,23516,2,20151119,0100,24.0017,136.996,3819,3297.6,3251,1.5694,34.6717,2,34.6714,2,146.51,2,142.24,2,36.33,2,0.00,2,2.52,2,2328.8,2,2413.4,2,7.5742,2,-999,9,-999,9
49UP20151115,RF15-09,5561,1,8,22081,2,20151119,0100,24.0017,136.996,3819,3298.0,3252,1.5698,34.6716,2,34.6720,2,146.51,2,142.24,2,36.35,2,0.00,2,2.52,2,-999.0,9,-999.0,9,-999.0000,9,-999,9,-999,9
49UP20151115,RF15-09,5561,1,5,24658,2,20151119,0053,24.0017,136.996,3819,3552.7,3501,1.5430,34.6768,2,34.6764,2,150.11,2,141.75,2,36.10,2,0.00,2,2.50,2,2326.2,2,2411.2,2,7.5789,2,-999,9,-999,9
49UP20151115,RF15-09,5561,1,6,22113,2,20151119,0054,24.0017,136.996,3819,3553.4,3501,1.5429,34.6768,2,34.6764,2,150.22,2,141.86,2,36.11,2,0.00,2,2.50,2,-999.0,9,-999.0,9,-999.0000,9,-999,9,-999,9
49UP20151115,RF15-09,5561,1,4,24471,2,20151119,0048,24.0017,136.996,3819,3808.9,3751,1.5234,34.6811,2,34.6809,2,154.12,2,140.94,2,35.88,2,0.00,2,2.48,2,2322.6,2,2415.4,2,7.5867,2,-999,9,-999,9
49UP20151115,RF15-09,5561,1,3,22104,2,20151119,0047,24.0017,136.996,3819,3809.5,3752,1.5227,34.6811,2,34.6810,2,153.84,2,141.06,2,35.89,2,0.00,2,2.48,2,2324.7,2,2412.4,2,7.5846,2,-999,9,-999,9
49UP20151115,RF15-09,5561,1,1,21997,2,20151119,0044,24.0017,136.996,3819,3860.6,3801,1.5086,34.6829,2,34.6829,2,155.42,2,140.81,2,35.78,2,0.00,2,2.47,2,2324.3,2,2412.3,2,7.5892,2,-999,9,-999,9
49UP20151115,RF15-09,5561,1,2,22075,2,20151119,0044,24.0017,136.996,3819,3860.9,3802,1.5085,34.6829,2,34.6830,2,155.58,2,140.69,2,35.74,2,0.00,2,2.47,2,-999.0,9,-999.0,9,-999.0000,9,-999,9,-999,9
49UP20151115,RF15-09,5562,1,-999,0,2,20151119,1002,24.2722,136.1562,4803,0.0,0,28.2444,34.8652,2,-999.,9,199.38,2,1.23,2,0.04,2,0.00,2,0.01,2,-999.,9,-999.,9,-999.,9,-999,9,-999,9
49UP20151115,RF15-09,5562,1,33,24469,4,20151119,1029,24.2722,136.1562,4803,11.8,12,28.0218,34.8497,2,-999.,9,-999.00,9,-999.00,9,-999.00,9,-999.00,9,-999.000,9,-999.,9,-999.,9,-999.,9,-999,9,-999,9
49UP20151115,RF15-09,5562,1,32,22105,2,20151119,1028,24.2722,136.1562,4803,26.9,27,27.9994,34.8461,2,-999.,9,199.91,2,1.21,2,0.02,2,0.00,2,0.01,2,-999.,9,-999.,9,-999.,9,-999,9,-999,9
49UP20151115,RF15-09,5562,1,31,23515,2,20151119,1024,24.2722,136.1562,4803,51.5,51,27.9834,34.8486,2,-999.,9,200.83,2,1.24,2,0.03,2,0.00,2,0.01,2,-999.,9,-999.,9,-999.,9,-999,9,-999,9
49UP20151115,RF15-09,5562,1,27,21998,2,20151119,1023,24.2722,136.1562,4803,76.8,76,25.3586,34.8120,2,-999.,9,209.73,2,1.41,2,0.03,2,0.00,2,0.02,2,-999.,9,-999.,9,-999.,9,-999,9,-999,9
49UP20151115,RF15-09,5562,1,26,22084,2,20151119,1021,24.2722,136.1562,4803,103.2,103,22.6245,34.8754,2,-999.,9,209.72,2,1.67,2,0.06,2,0.01,2,0.04,2,-999.,9,-999.,9,-999.,9,-999,9,-999,9
49UP20151115,RF15-09,5562,1,25,22098,2,20151119,1019,24.2722,136.1562,4803,127.0,126,20.8526,34.8814,2,-999.,9,199.42,6,2.17,6,1.49,6,0.04,6,0.12,6,-999.,9,-999.,9,-999.,9,-999,9,-999,9
49UP20151115,RF15-09,5562,1,20,22093,2,20151119,1017,24.2722,136.1562,4803,152.9,152,19.7681,34.8563,2,-999.,9,198.43,2,2.48,2,2.34,2,0.02,2,0.18,2,-999.,9,-999.,9,-999.,9,-999,9,-999,9
49UP20151115,RF15-09,5562,1,21,22078,2,20151119,1017,24.2722,136.1562,4803,154.4,153,19.7166,34.8558,2,-999.,9,198.64,2,2.39,2,2.30,2,0.02,2,0.17,2,-999.,9,-999.,9,-999.,9,-999,9,-999,9
49UP20151115,RF15-09,5562,1,19,22092,2,20151119,1015,24.2722,136.1562,4803,203.2,202,18.5002,34.8148,2,-999.,9,203.25,2,3.02,2,3.36,2,0.01,2,0.23,2,-999.,9,-999.,9,-999.,9,-999,9,-999,9
49UP20151115,RF15-09,5562,1,18,22101,2,20151119,1013,24.2722,136.1562,4803,255.3,254,17.7977,34.7677,2,-999.,9,202.60,2,3.63,2,4.20,2,0.01,2,0.28,2,-999.,9,-999.,9,-999.,9,-999,9,-999,9
49UP20151115,RF15-09,5562,1,17,22090,2,20151119,1011,24.2722,136.1562,4803,307.6,305,16.9489,34.7010,2,-999.,9,199.79,2,4.93,2,5.74,2,0.01,2,0.38,2,-999.,9,-999.,9,-999.,9,-999,9,-999,9
49UP20151115,RF15-09,5562,1,16,22089,2,20151119,1009,24.2722,136.1562,4803,405.9,403,14.4989,34.5208,2,-999.,9,183.92,2,12.01,2,11.06,2,0.00,2,0.75,2,-999.,9,-999.,9,-999.,9,-999,9,-999,9
49UP20151115,RF15-09,5562,1,15,22088,2,20151119,1006,24.2722,136.1562,4803,505.0,501,10.5955,34.2614,2,-999.,9,162.89,2,27.08,2,19.39,2,0.00,2,1.37,2,-999.,9,-999.,9,-999.,9,-999,9,-999,9
49UP20151115,RF15-09,5562,1,14,21999,2,20151119,1004,24.2722,136.1562,4803,606.4,602,7.8422,34.1381,2,-999.,9,139.34,2,49.11,2,26.46,2,0.00,2,1.89,2,-999.,9,-999.,9,-999.,9,-999,9,-999,9
49UP20151115,RF15-09,5562,1,13,22667,2,20151119,1001,24.2722,136.1562,4803,708.1,702,5.8708,34.1376,2,-999.,9,99.15,2,73.68,2,33.53,2,0.00,2,2.41,2,-999.,9,-999.,9,-999.,9,-999,9,-999,9
49UP20151115,RF15-09,5562,1,9,23518,2,20151119,0954,24.2722,136.1562,4803,809.2,802,5.0279,34.2058,2,-999.,9,74.25,2,89.82,2,37.09,2,0.00,2,2.66,2,-999.,9,-999.,9,-999.,9,-999,9,-999,9
49UP20151115,RF15-09,5562,1,8,22081,2,20151119,0951,24.2722,136.1562,4803,910.2,902,4.2662,34.2979,2,-999.,9,59.31,2,106.27,2,39.48,2,0.00,2,2.83,2,-999.,9,-999.,9,-999.,9,-999,9,-999,9
49UP20151115,RF15-09,5562,1,7,23516,2,20151119,0949,24.2722,136.1562,4803,1010.4,1002,3.8215,34.3566,2,-999.,9,56.08,6,116.56,6,40.42,6,0.00,6,2.89,6,-999.,9,-999.,9,-999.,9,-999,9,-999,9
49UP20151115,RF15-09,5562,1,6,22113,2,20151119,0944,24.2722,136.1562,4803,1212.9,1202,3.0796,34.4487,2,-999.,9,59.88,2,132.91,2,40.98,2,0.00,2,2.91,2,-999.,9,-999.,9,-999.,9,-999,9,-999,9
49UP20151115,RF15-09,5562,1,5,24658,2,20151119,0944,24.2722,136.1562,4803,1213.7,1202,3.0791,34.4486,2,-999.,9,59.99,2,133.01,2,40.94,2,0.00,2,2.92,2,-999.,9,-999.,9,-999.,9,-999,9,-999,9
49UP20151115,RF15-09,5562,1,4,24471,2,20151119,0939,24.2722,136.1562,4803,1417.5,1404,2.7281,34.5260,2,-999.,9,80.28,2,136.42,2,39.86,2,0.00,2,2.82,2,-999.,9,-999.,9,-999.,9,-999,9,-999,9
49UP20151115,RF15-09,5562,1,3,22104,2,20151119,0933,24.2722,136.1562,4803,1619.5,1603,2.4242,34.5633,2,-999.,9,92.76,2,140.07,2,39.26,2,0.00,2,2.77,2,-999.,9,-999.,9,-999.,9,-999,9,-999,9
49UP20151115,RF15-09,5562,1,2,22075,2,20151119,0929,24.2722,136.1562,4803,1823.6,1804,2.1861,34.5880,2,-999.,9,102.04,2,142.38,2,38.82,2,0.00,2,2.73,2,-999.,9,-999.,9,-999.,9,-999,9,-999,9
49UP20151115,RF15-09,5562,1,1,21997,2,20151119,0923,24.2722,136.1562,4803,2028.1,2005,2.0079,34.6122,2,-999.,9,112.84,2,142.72,2,38.27,2,0.00,2,2.68,2,-999.,9,-999.,9,-999.,9,-999,9,-999,9
49UP20151115,RF15-09,5564,1,-999,0,2,20151119,1855,24.2598,134.9958,5130,0.0,0,27.3221,34.8385,2,34.8433,2,201.31,2,1.14,2,0.04,2,0.00,2,0.01,2,1960.5,2,2285.5,2,8.1045,2,-999,9,-999,9
49UP20151115,RF15-09,5564,1,33,24469,2,20151119,1915,24.2598,134.9958,5130,12.1,12,27.3255,34.8384,2,-999.0000,9,201.92,2,1.20,2,0.02,2,0.00,2,0.01,2,1958.4,2,2288.0,2,8.1065,2,-999,9,-999,9
49UP20151115,RF15-09,5564,1,32,22105,2,20151119,1914,24.2598,134.9958,5130,26.4,26,27.3258,34.8389,2,-999.0000,9,201.86,2,1.16,2,0.06,2,0.00,2,0.02,2,1959.8,2,2285.7,2,8.1064,2,-999,9,-999,9
49UP20151115,RF15-09,5564,1,31,23515,2,20151119,1911,24.2598,134.9958,5130,52.6,52,26.6998,34.7591,2,-999.0000,9,205.99,2,1.29,2,0.01,2,0.00,2,0.01,2,1961.9,2,2283.6,2,8.0936,2,-999,9,-999,9
49UP20151115,RF15-09,5564,1,27,21998,2,20151119,1910,24.2598,134.9958,5130,77.7,77,22.9637,34.8564,2,-999.0000,9,212.35,2,1.63,2,0.04,2,0.02,2,0.03,2,1993.8,2,2286.9,2,8.0508,2,-999,9,-999,9
49UP20151115,RF15-09,5564,1,26,22084,2,20151119,1908,24.2598,134.9958,5130,103.3,103,20.9358,34.9391,2,-999.0000,9,196.17,2,1.93,2,1.60,2,0.04,2,0.12,2,2021.1,2,2292.7,2,8.0094,2,-999,9,-999,9
49UP20151115,RF15-09,5564,1,25,22098,2,20151119,1907,24.2598,134.9958,5130,127.9,127,19.9258,34.8638,2,-999.0000,9,197.37,2,2.39,2,2.40,2,0.01,2,0.18,2,2023.8,2,2288.1,2,7.9942,2,-999,9,-999,9
49UP20151115,RF15-09,5564,1,21,22078,2,20151119,1906,24.2598,134.9958,5130,153.2,152,19.1514,34.8333,2,-999.0000,9,203.12,2,2.73,2,2.60,2,0.02,2,0.19,2,2029.0,2,2287.4,2,7.9886,2,-999,9,-999,9
49UP20151115,RF15-09,5564,1,20,22093,2,20151119,1904,24.2598,134.9958,5130,204.4,203,18.0919,34.7887,2,-999.0000,9,202.16,2,3.38,2,3.93,2,0.01,2,0.27,2,2036.2,2,2285.8,2,7.9713,2,-999,9,-999,9
49UP20151115,RF15-09,5564,1,19,22092,2,20151119,1902,24.2598,134.9958,5130,254.4,253,17.2347,34.7204,2,-999.0000,9,198.82,2,4.64,2,5.36,2,0.01,2,0.36,2,2043.6,2,2276.2,2,7.9459,2,-999,9,-999,9
49UP20151115,RF15-09,5564,1,18,22101,2,20151119,1900,24.2598,134.9958,5130,305.2,303,16.2673,34.6523,2,-999.0000,9,195.88,2,6.57,2,7.10,2,0.00,2,0.47,2,2056.0,2,2274.9,2,7.9184,2,-999,9,-999,9
49UP20151115,RF15-09,5564,1,17,22090,2,20151119,1858,24.2598,134.9958,5130,405.1,402,13.6840,34.4664,2,-999.0000,9,179.67,6,14.78,6,12.69,6,0.00,6,0.87,6,2096.8,2,2275.3,2,7.8280,2,-999,9,-999,9
49UP20151115,RF15-09,5564,1,15,22088,2,20151119,1855,24.2598,134.9958,5130,506.2,502,10.8001,34.2841,2,-999.0000,9,162.92,2,27.78,2,19.15,2,0.00,2,1.34,2,2152.2,3,2276.1,2,7.7233,2,-999,9,-999,9
49UP20151115,RF15-09,5564,1,16,22089,2,20151119,1855,24.2598,134.9958,5130,507.8,504,10.6344,34.2779,2,-999.0000,9,163.23,2,27.68,2,19.11,2,0.00,2,1.34,2,2142.0,2,2275.8,2,7.7233,2,-999,9,-999,9
49UP20151115,RF15-09,5564,1,14,21999,2,20151119,1852,24.2598,134.9958,5130,608.0,603,7.5187,34.1488,2,-999.0000,9,128.69,2,53.31,2,27.95,2,0.00,2,1.99,2,2212.4,6,2292.7,6,7.5765,2,-999,9,-999,9
49UP20151115,RF15-09,5564,1,13,22667,2,20151119,1850,24.2598,134.9958,5130,707.1,701,5.7958,34.1569,2,-999.0000,9,95.12,2,75.14,2,33.80,2,0.00,2,2.42,2,2263.5,2,2311.4,2,7.4839,6,-999,9,-999,9
49UP20151115,RF15-09,5564,1,9,23518,2,20151119,1846,24.2598,134.9958,5130,807.7,801,4.8900,34.2133,2,-999.0000,9,73.68,2,92.47,2,37.22,2,0.00,2,2.67,2,2299.1,2,2328.6,2,7.4319,2,-999,9,-999,9
49UP20151115,RF15-09,5564,1,8,22081,2,20151119,1843,24.2598,134.9958,5130,907.8,900,4.3287,34.2838,2,-999.0000,9,60.89,6,104.82,6,39.18,6,0.00,6,2.80,6,2316.8,2,2343.3,2,7.4076,2,-999,9,-999,9
49UP20151115,RF15-09,5564,1,6,22113,2,20151119,1840,24.2598,134.9958,5130,1008.2,999,3.8098,34.3576,2,-999.0000,9,56.08,2,116.35,2,40.34,2,0.00,2,2.88,2,2338.7,2,2358.8,2,7.4027,2,-999,9,-999,9
49UP20151115,RF15-09,5564,1,7,23516,2,20151119,1840,24.2598,134.9958,5130,1008.3,999,3.8099,34.3577,2,-999.0000,9,56.18,2,116.11,2,40.34,2,0.00,2,2.88,2,2338.4,2,2358.4,2,7.3995,2,-999,9,-999,9
49UP20151115,RF15-09,5564,1,5,24658,2,20151119,1835,24.2598,134.9958,5130,1211.8,1201,3.1847,34.4553,2,-999.0000,9,63.09,2,129.31,2,40.56,2,0.00,2,2.88,2,2351.2,6,2379.9,6,7.4221,2,-999,9,-999,9
49UP20151115,RF15-09,5564,1,4,24471,2,20151119,1830,24.2598,134.9958,5130,1413.8,1400,2.7703,34.5219,2,-999.0000,9,78.98,2,135.45,2,39.84,2,0.00,2,2.82,2,2347.7,2,2390.7,2,7.4574,6,-999,9,-999,9
49UP20151115,RF15-09,5564,1,3,22104,2,20151119,1824,24.2598,134.9958,5130,1616.8,1600,2.3976,34.5610,2,-999.0000,9,91.46,2,140.12,2,39.30,2,0.00,2,2.77,2,2350.1,2,2399.8,2,7.4775,2,-999,9,-999,9
49UP20151115,RF15-09,5564,1,2,22075,2,20151119,1820,24.2598,134.9958,5130,1818.5,1799,2.1444,34.5933,2,-999.0000,9,104.53,2,141.65,2,38.60,2,0.00,2,2.71,2,2346.7,2,2403.6,2,-999.0000,5,-999,9,-999,9
49UP20151115,RF15-09,5564,1,1,21997,2,20151119,1800,24.2598,134.9958,5130,2033.0,2010,1.9299,34.6193,2,-999.0000,9,116.55,2,142.39,2,38.00,2,0.00,2,2.65,2,2345.2,2,2409.5,2,7.5237,3,-999,9,-999,9