BOTTLE,20171117JMAGEMD
EXPOCODE,SECT_ID,STNNBR,CASTNO,SAMPNO,BTLNBR,BTLNBR_FLAG_W,DATE,TIME,LATITUDE,LONGITUDE,DEPTH,CTDPRS,CTDDEP,CTDTMP,CTDSAL,CTDSAL_FLAG_W,SALNTY,SALNTY_FLAG_W,OXYGEN,OXYGEN_FLAG_W,SILCAT,SILCAT_FLAG_W,NO2+NO3,NO2+NO3_FLAG_W,NITRIT,NITRIT_FLAG_W,PHSPHT,PHSPHT_FLAG_W,TCARBN,TCARBN_FLAG_W,ALKALI,ALKALI_FLAG_W,PH_TOT,PH_TOT_FLAG_W,CFC-11,CFC-11_FLAG_W,CFC-12,CFC-12_FLAG_W
,,,,,,,UTC,UTC,,,METER,DBAR,METERS,ITS-90,PSS-78,,PSS-78,,UMOL/KG,,UMOL/KG,,UMOL/KG,,UMOL/KG,,UMOL/KG,,UMOL/KG,,UMOL/KG,,@25DEG-C,,PMOL/KG,,PMOL/KG,
49UP20151115,RF15-09,5566,1,-999,0,2,20151120,0450,24.2408,133.9872,4917,0.0,0,27.3851,34.8054,2,-999.0000,9,202.86,2,1.46,2,0.00,2,0.00,2,0.01,2,-999.,9,-999.,9,-999.,9,-999,9,-999,9
49UP20151115,RF15-09,5566,1,36,22109,2,20151120,0510,24.2408,133.9872,4917,10.6,11,27.4097,34.8040,2,34.8006,2,203.00,2,1.48,2,0.00,2,0.00,2,0.02,2,-999.,9,-999.,9,-999.,9,-999,9,-999,9
49UP20151115,RF15-09,5566,1,35,22112,2,20151120,0509,24.2408,133.9872,4917,26.3,26,27.2620,34.7993,2,34.7996,2,203.13,2,1.50,2,0.02,2,0.00,2,0.02,2,-999.,9,-999.,9,-999.,9,-999,9,-999,9
49UP20151115,RF15-09,5566,1,34,22094,2,20151120,0505,24.2408,133.9872,4917,50.2,50,27.2480,34.7933,2,34.7951,2,203.29,2,1.51,2,0.01,2,0.00,2,0.03,2,-999.,9,-999.,9,-999.,9,-999,9,-999,9
49UP20151115,RF15-09,5566,1,33,24469,2,20151120,0504,24.2408,133.9872,4917,75.7,75,23.1326,34.8345,2,34.8392,2,220.16,2,1.72,2,0.01,2,0.00,2,0.02,2,-999.,9,-999.,9,-999.,9,-999,9,-999,9
49UP20151115,RF15-09,5566,1,32,22105,2,20151120,0503,24.2408,133.9872,4917,100.4,100,21.5527,34.9357,2,34.9434,4,195.59,2,1.94,2,1.39,2,0.04,2,0.12,2,-999.,9,-999.,9,-999.,9,-999,9,-999,9
49UP20151115,RF15-09,5566,1,31,23515,2,20151120,0502,24.2408,133.9872,4917,125.3,124,20.0114,34.8589,2,34.8585,2,200.77,2,2.51,2,1.98,2,0.03,2,0.16,2,-999.,9,-999.,9,-999.,9,-999,9,-999,9
49UP20151115,RF15-09,5566,1,30,22097,2,20151120,0501,24.2408,133.9872,4917,150.8,150,19.0845,34.8330,2,34.8331,2,204.67,2,2.80,2,2.50,2,0.02,2,0.18,2,-999.,9,-999.,9,-999.,9,-999,9,-999,9
49UP20151115,RF15-09,5566,1,29,22102,2,20151120,0500,24.2408,133.9872,4917,202.5,201,18.1719,34.8050,2,34.8004,2,206.62,2,3.27,2,3.42,2,0.01,2,0.24,2,-999.,9,-999.,9,-999.,9,-999,9,-999,9
49UP20151115,RF15-09,5566,1,28,22108,2,20151120,0458,24.2408,133.9872,4917,251.3,250,17.3572,34.7319,2,34.7304,2,200.94,2,4.55,2,5.05,2,0.01,2,0.34,2,-999.,9,-999.,9,-999.,9,-999,9,-999,9
49UP20151115,RF15-09,5566,1,27,21998,2,20151120,0456,24.2408,133.9872,4917,303.7,302,16.5285,34.6708,2,34.6698,2,197.55,2,6.07,2,6.57,2,0.01,2,0.44,2,-999.,9,-999.,9,-999.,9,-999,9,-999,9
49UP20151115,RF15-09,5566,1,26,22084,2,20151120,0454,24.2408,133.9872,4917,404.0,401,13.3136,34.4452,2,34.4437,2,176.84,6,16.88,6,13.65,6,0.00,6,0.94,6,-999.,9,-999.,9,-999.,9,-999,9,-999,9
49UP20151115,RF15-09,5566,1,25,22098,3,20151120,0451,24.2408,133.9872,4917,503.8,500,10.2156,34.2616,2,34.2607,2,158.46,2,31.83,2,20.54,2,0.00,2,1.45,2,-999.,9,-999.,9,-999.,9,-999,9,-999,9
49UP20151115,RF15-09,5566,1,24,22110,2,20151120,0448,24.2408,133.9872,4917,604.9,600,7.8439,34.1595,2,34.1600,2,134.16,2,50.47,2,26.92,2,0.00,2,1.92,2,-999.,9,-999.,9,-999.,9,-999,9,-999,9
49UP20151115,RF15-09,5566,1,23,22096,2,20151120,0446,24.2408,133.9872,4917,707.1,701,6.0315,34.1564,2,34.1563,2,99.68,2,72.86,2,33.16,2,0.00,2,2.38,2,-999.,9,-999.,9,-999.,9,-999,9,-999,9
49UP20151115,RF15-09,5566,1,22,22111,2,20151120,0442,24.2408,133.9872,4917,808.2,801,4.8187,34.2302,2,34.2288,2,71.43,6,94.47,6,37.60,6,0.00,6,2.69,6,-999.,9,-999.,9,-999.,9,-999,9,-999,9
49UP20151115,RF15-09,5566,1,21,22078,2,20151120,0440,24.2408,133.9872,4917,907.2,899,4.2344,34.3032,2,34.3051,2,59.69,2,107.08,2,39.46,2,0.00,2,2.82,2,-999.,9,-999.,9,-999.,9,-999,9,-999,9
49UP20151115,RF15-09,5566,1,20,22093,2,20151120,0437,24.2408,133.9872,4917,1009.4,1001,3.7261,34.3791,2,34.3778,2,56.84,2,118.63,2,40.45,2,0.00,2,2.88,2,-999.,9,-999.,9,-999.,9,-999,9,-999,9
49UP20151115,RF15-09,5566,1,19,22092,2,20151120,0433,24.2408,133.9872,4917,1212.0,1201,3.0170,34.4667,2,34.4598,4,64.63,2,131.72,2,40.60,2,0.00,2,2.88,2,-999.,9,-999.,9,-999.,9,-999,9,-999,9
49UP20151115,RF15-09,5566,1,18,22101,2,20151120,0425,24.2408,133.9872,4917,1415.0,1401,2.5521,34.5304,2,34.5298,2,80.18,2,140.27,2,39.98,2,0.00,2,2.82,2,-999.,9,-999.,9,-999.,9,-999,9,-999,9
49UP20151115,RF15-09,5566,1,17,22090,2,20151120,0420,24.2408,133.9872,4917,1617.0,1600,2.2335,34.5751,2,34.5737,2,95.70,2,142.64,2,39.15,2,0.00,2,2.76,2,-999.,9,-999.,9,-999.,9,-999,9,-999,9
49UP20151115,RF15-09,5566,1,16,22089,2,20151120,0414,24.2408,133.9872,4917,1819.8,1800,2.0395,34.6036,2,34.6042,2,109.01,6,142.82,6,38.44,6,0.00,6,2.70,6,-999.,9,-999.,9,-999.,9,-999,9,-999,9
49UP20151115,RF15-09,5566,1,15,22088,2,20151120,0400,24.2408,133.9872,4917,2022.7,2000,1.8930,34.6230,2,34.6227,2,118.21,2,143.04,2,37.90,2,0.00,2,2.65,2,-999.,9,-999.,9,-999.,9,-999,9,-999,9
49UP20151115,RF15-09,5566,1,14,21999,2,20151120,0355,24.2408,133.9872,4917,2276.3,2250,1.7744,34.6409,2,34.6404,2,127.57,2,142.99,2,37.37,2,0.00,2,2.61,2,-999.,9,-999.,9,-999.,9,-999,9,-999,9
49UP20151115,RF15-09,5566,1,13,22667,4,20151120,0348,24.2408,133.9872,4917,2531.5,2500,1.6765,34.6528,2,34.6479,4,131.43,4,142.97,4,37.14,4,0.00,4,2.59,4,-999.,9,-999.,9,-999.,9,-999,9,-999,9
49UP20151115,RF15-09,5566,1,12,22074,2,20151120,0342,24.2408,133.9872,4917,2785.8,2750,1.6152,34.6616,2,34.6634,4,139.53,2,142.73,2,36.67,2,0.00,2,2.55,2,-999.,9,-999.,9,-999.,9,-999,9,-999,9
49UP20151115,RF15-09,5566,1,11,24268,2,20151120,0336,24.2408,133.9872,4917,3041.4,3000,1.5749,34.6684,2,34.6681,2,144.11,2,142.62,2,36.37,2,0.00,2,2.53,2,-999.,9,-999.,9,-999.,9,-999,9,-999,9
49UP20151115,RF15-09,5566,1,10,24267,2,20151120,0329,24.2408,133.9872,4917,3296.1,3250,1.5566,34.6729,2,34.6727,2,147.43,2,141.97,2,36.18,2,0.00,2,2.51,2,-999.,9,-999.,9,-999.,9,-999,9,-999,9
49UP20151115,RF15-09,5566,1,9,23518,2,20151120,0323,24.2408,133.9872,4917,3552.7,3501,1.5406,34.6770,2,34.6766,2,150.20,2,141.76,2,35.99,2,0.00,2,2.50,2,-999.,9,-999.,9,-999.,9,-999,9,-999,9
49UP20151115,RF15-09,5566,1,8,22081,2,20151120,0316,24.2408,133.9872,4917,3806.5,3749,1.5366,34.6800,2,34.6801,6,152.42,2,141.25,2,35.83,2,0.00,2,2.48,2,-999.,9,-999.,9,-999.,9,-999,9,-999,9
49UP20151115,RF15-09,5566,1,6,22113,2,20151120,0310,24.2408,133.9872,4917,4064.0,4000,1.5483,34.6815,2,34.6819,2,153.92,2,141.06,2,35.73,2,0.00,2,2.48,2,-999.,9,-999.,9,-999.,9,-999,9,-999,9
49UP20151115,RF15-09,5566,1,7,23516,2,20151120,0310,24.2408,133.9872,4917,4064.4,4000,1.5483,34.6815,2,34.6809,2,153.57,2,140.99,2,35.77,2,0.00,2,2.48,2,-999.,9,-999.,9,-999.,9,-999,9,-999,9
49UP20151115,RF15-09,5566,1,5,24658,2,20151120,0304,24.2408,133.9872,4917,4321.4,4251,1.5689,34.6822,2,34.6825,6,154.60,6,140.87,6,35.73,6,0.00,6,2.48,6,-999.,9,-999.,9,-999.,9,-999,9,-999,9
49UP20151115,RF15-09,5566,1,4,24471,2,20151120,0259,24.2408,133.9872,4917,4577.6,4500,1.5936,34.6828,2,34.6836,2,155.13,2,140.44,2,35.63,2,0.00,2,2.47,2,-999.,9,-999.,9,-999.,9,-999,9,-999,9
49UP20151115,RF15-09,5566,1,3,22104,2,20151120,0258,24.2408,133.9872,4917,4578.2,4501,1.5935,34.6827,2,34.6826,2,155.35,2,140.73,2,35.67,2,0.00,2,2.47,2,-999.,9,-999.,9,-999.,9,-999,9,-999,9
49UP20151115,RF15-09,5566,1,2,22075,2,20151120,0253,24.2408,133.9872,4917,4835.5,4751,1.6210,34.6831,2,34.6835,2,155.80,2,140.23,2,35.62,2,0.00,2,2.47,2,-999.,9,-999.,9,-999.,9,-999,9,-999,9
49UP20151115,RF15-09,5566,1,1,21997,2,20151120,0248,24.2408,133.9872,4917,5005.9,4916,1.6421,34.6830,2,34.6833,6,155.64,2,140.40,2,35.67,2,0.00,2,2.47,2,-999.,9,-999.,9,-999.,9,-999,9,-999,9
49UP20151115,RF15-09,5569,1,-999,0,2,20151120,1550,23.7288,132.997,4229,0.0,0,26.7584,34.9097,2,34.9135,2,203.55,2,1.15,2,0.00,2,0.00,2,0.02,2,1963.7,2,2289.7,2,-999.,9,-999,9,-999,9
49UP20151115,RF15-09,5569,1,33,24469,2,20151120,1602,23.7288,132.997,4229,10.6,11,26.7663,34.9100,2,34.9090,2,203.30,2,1.13,2,0.00,2,0.00,2,0.02,2,1963.4,2,2293.3,2,-999.,9,-999,9,-999,9
49UP20151115,RF15-09,5569,1,32,22105,2,20151120,1601,23.7288,132.997,4229,24.9,25,26.7611,34.9064,2,34.9069,2,203.28,2,1.15,2,0.00,2,0.00,2,0.02,2,1965.0,2,2290.7,2,-999.,9,-999,9,-999,9
49UP20151115,RF15-09,5569,1,31,23515,2,20151120,1557,23.7288,132.997,4229,52.3,52,26.4086,34.8726,2,34.8745,2,204.62,2,1.20,2,0.00,2,0.00,2,0.02,2,1964.9,2,2289.5,2,-999.,9,-999,9,-999,9
49UP20151115,RF15-09,5569,1,27,21998,2,20151120,1556,23.7288,132.997,4229,74.8,74,26.1488,34.8417,2,34.8418,2,204.02,2,1.28,2,0.00,2,0.00,2,0.02,2,1968.2,2,2288.6,2,-999.,9,-999,9,-999,9
49UP20151115,RF15-09,5569,1,26,22084,2,20151120,1555,23.7288,132.997,4229,100.5,100,23.4378,34.8652,2,34.8670,2,194.25,2,1.89,2,1.30,2,0.04,2,0.12,2,2000.3,2,2288.1,2,-999.,9,-999,9,-999,9
49UP20151115,RF15-09,5569,1,25,22098,2,20151120,1554,23.7288,132.997,4229,126.4,126,21.0611,34.8903,2,34.8890,2,194.32,2,2.32,2,2.10,2,0.02,2,0.17,2,2019.9,2,2290.1,2,-999.,9,-999,9,-999,9
49UP20151115,RF15-09,5569,1,21,22078,2,20151120,1553,23.7288,132.997,4229,151.7,151,19.8910,34.8533,2,34.8513,2,199.82,2,2.53,2,2.25,2,0.03,2,0.17,2,2024.8,2,2286.8,2,-999.,9,-999,9,-999,9
49UP20151115,RF15-09,5569,1,20,22093,2,20151120,1551,23.7288,132.997,4229,203.3,202,18.2942,34.8058,2,34.8050,2,206.32,2,3.29,2,3.25,2,0.01,2,0.23,2,2030.4,2,2282.8,2,-999.,9,-999,9,-999,9
49UP20151115,RF15-09,5569,1,19,22092,2,20151120,1549,23.7288,132.997,4229,254.5,253,17.3061,34.7485,2,34.7496,2,210.30,2,3.99,2,4.21,2,0.01,2,0.29,2,-999.0,9,-999.0,9,-999.,9,-999,9,-999,9
49UP20151115,RF15-09,5569,1,18,22101,2,20151120,1547,23.7288,132.997,4229,304.4,302,16.7723,34.7182,2,34.7201,2,214.18,6,4.46,6,4.60,6,0.01,6,0.33,6,-999.0,9,-999.0,9,-999.,9,-999,9,-999,9
49UP20151115,RF15-09,5569,1,16,22089,2,20151120,1544,23.7288,132.997,4229,404.4,401,14.6873,34.5367,2,34.5398,2,188.20,2,11.47,2,10.35,2,0.01,2,0.71,2,-999.0,9,-999.0,9,-999.,9,-999,9,-999,9
49UP20151115,RF15-09,5569,1,17,22090,2,20151120,1544,23.7288,132.997,4229,406.6,404,14.5789,34.5296,2,34.5351,2,187.91,2,11.56,2,10.43,2,0.01,2,0.72,2,-999.0,9,-999.0,9,-999.,9,-999,9,-999,9
49UP20151115,RF15-09,5569,1,15,22088,2,20151120,1541,23.7288,132.997,4229,505.2,501,11.1676,34.3096,2,34.3104,2,166.63,2,26.24,2,18.06,2,0.00,2,1.28,2,-999.0,9,-999.0,9,-999.,9,-999,9,-999,9
49UP20151115,RF15-09,5569,1,14,21999,2,20151120,1538,23.7288,132.997,4229,606.7,602,8.1961,34.1686,2,34.1687,2,138.51,2,46.94,2,25.84,2,0.00,2,1.86,2,-999.0,9,-999.0,9,-999.,9,-999,9,-999,9
49UP20151115,RF15-09,5569,1,13,22667,2,20151120,1534,23.7288,132.997,4229,706.1,700,6.4904,34.1417,2,34.1415,2,111.99,2,66.31,2,31.20,2,0.00,2,2.25,2,-999.0,9,-999.0,9,-999.,9,-999,9,-999,9
49UP20151115,RF15-09,5569,1,9,23518,2,20151120,1532,23.7288,132.997,4229,808.6,802,4.9170,34.2094,2,34.2084,2,76.36,6,92.72,6,36.94,6,0.00,6,2.66,6,-999.0,9,-999.0,9,-999.,9,-999,9,-999,9
49UP20151115,RF15-09,5569,1,7,23516,2,20151120,1529,23.7288,132.997,4229,908.9,901,4.3333,34.2688,2,34.2715,2,62.92,2,105.44,2,38.95,2,0.00,2,2.80,2,-999.0,9,-999.0,9,-999.,9,-999,9,-999,9
49UP20151115,RF15-09,5569,1,8,22081,2,20151120,1529,23.7288,132.997,4229,909.4,902,4.3316,34.2693,2,34.2714,2,63.06,2,105.49,2,38.95,2,0.00,2,2.79,2,-999.0,9,-999.0,9,-999.,9,-999,9,-999,9
49UP20151115,RF15-09,5569,1,6,22113,2,20151120,1526,23.7288,132.997,4229,1009.3,1000,3.7203,34.3517,2,34.3514,2,55.51,2,119.57,2,40.45,2,0.00,2,2.89,2,-999.0,9,-999.0,9,-999.,9,-999,9,-999,9
49UP20151115,RF15-09,5569,1,5,24658,2,20151120,1520,23.7288,132.997,4229,1211.5,1200,3.0149,34.4556,2,34.4574,6,61.09,2,134.82,2,40.91,2,0.00,2,2.91,2,-999.0,9,-999.0,9,-999.,9,-999,9,-999,9
49UP20151115,RF15-09,5569,1,4,24471,2,20151120,1514,23.7288,132.997,4229,1414.3,1401,2.5721,34.5263,2,34.5265,2,79.41,2,140.16,2,40.02,2,0.00,2,2.84,2,-999.0,9,-999.0,9,-999.,9,-999,9,-999,9
49UP20151115,RF15-09,5569,1,3,22104,2,20151120,1509,23.7288,132.997,4229,1618.1,1602,2.2454,34.5721,2,34.5724,2,95.40,2,143.22,2,39.22,2,0.00,2,2.77,2,-999.0,9,-999.0,9,-999.,9,-999,9,-999,9
49UP20151115,RF15-09,5569,1,2,22075,2,20151120,1502,23.7288,132.997,4229,1819.5,1800,2.0598,34.6007,2,34.6016,6,108.83,2,142.88,2,38.43,2,0.00,2,2.70,2,-999.0,9,-999.0,9,-999.,9,-999,9,-999,9
49UP20151115,RF15-09,5569,1,1,21997,2,20151120,1457,23.7288,132.997,4229,2023.6,2001,1.9057,34.6227,2,34.6229,2,118.64,2,143.25,2,37.93,2,0.00,2,2.65,2,-999.0,9,-999.0,9,-999.,9,-999,9,-999,9
49UP20151115,RF15-09,5571,1,-999,0,2,20151120,0000,23.7452,132.0002,3597,0.0,0,27.1594,34.8580,2,-999.,9,201.43,2,1.09,2,0.01,2,0.00,2,0.02,2,-999.,9,-999.,9,-999.,9,-999,9,-999,9
49UP20151115,RF15-09,5571,1,33,24469,2,20151120,0024,23.7452,132.0002,3597,11.4,11,27.1564,34.8577,2,-999.,9,201.32,2,1.09,2,0.01,2,0.00,2,0.01,2,-999.,9,-999.,9,-999.,9,-999,9,-999,9
49UP20151115,RF15-09,5571,1,32,22105,2,20151120,0023,23.7452,132.0002,3597,27.1,27,26.9883,34.8936,2,-999.,9,202.38,2,1.09,2,0.00,2,0.00,2,0.02,2,-999.,9,-999.,9,-999.,9,-999,9,-999,9
49UP20151115,RF15-09,5571,1,31,23515,2,20151120,0020,23.7452,132.0002,3597,51.8,51,26.8175,34.8902,2,-999.,9,202.42,2,1.11,2,0.02,2,0.00,2,0.02,2,-999.,9,-999.,9,-999.,9,-999,9,-999,9
49UP20151115,RF15-09,5571,1,27,21998,2,20151120,0018,23.7452,132.0002,3597,76.9,76,26.5327,34.8778,2,-999.,9,202.00,2,1.18,2,0.01,2,0.00,2,0.02,2,-999.,9,-999.,9,-999.,9,-999,9,-999,9
49UP20151115,RF15-09,5571,1,26,22084,2,20151120,0017,23.7452,132.0002,3597,104.2,104,25.7193,34.8452,2,-999.,9,199.42,2,1.35,2,0.15,2,0.06,2,0.03,2,-999.,9,-999.,9,-999.,9,-999,9,-999,9
49UP20151115,RF15-09,5571,1,25,22098,2,20151120,0015,23.7452,132.0002,3597,127.6,127,23.4180,34.9194,2,-999.,9,201.36,2,1.48,2,0.52,2,0.06,2,0.06,2,-999.,9,-999.,9,-999.,9,-999,9,-999,9
49UP20151115,RF15-09,5571,1,21,22078,2,20151120,0014,23.7452,132.0002,3597,151.0,150,21.3414,34.9058,2,-999.,9,192.18,2,2.36,2,2.18,2,0.02,2,0.17,2,-999.,9,-999.,9,-999.,9,-999,9,-999,9
49UP20151115,RF15-09,5571,1,20,22093,2,20151120,0012,23.7452,132.0002,3597,203.3,202,19.1872,34.8431,2,-999.,9,202.69,2,2.47,2,2.42,2,0.01,2,0.17,2,-999.,9,-999.,9,-999.,9,-999,9,-999,9
49UP20151115,RF15-09,5571,1,19,22092,2,20151120,0010,23.7452,132.0002,3597,254.3,253,18.2850,34.8138,2,-999.,9,207.07,6,3.00,6,3.16,6,0.01,6,0.22,6,-999.,9,-999.,9,-999.,9,-999,9,-999,9
49UP20151115,RF15-09,5571,1,18,22101,2,20151120,0008,23.7452,132.0002,3597,303.2,301,17.2114,34.7185,2,-999.,9,199.31,2,4.54,2,5.30,2,0.01,2,0.35,2,-999.,9,-999.,9,-999.,9,-999,9,-999,9
49UP20151115,RF15-09,5571,1,17,22090,2,20151120,0008,23.7452,132.0002,3597,304.2,302,17.1942,34.7169,2,-999.,9,199.50,2,4.61,2,5.33,2,0.00,2,0.36,2,-999.,9,-999.,9,-999.,9,-999,9,-999,9
49UP20151115,RF15-09,5571,1,16,22089,2,20151120,0005,23.7452,132.0002,3597,404.6,402,15.0379,34.5563,2,-999.,9,183.29,2,10.53,2,10.10,2,0.00,2,0.70,2,-999.,9,-999.,9,-999.,9,-999,9,-999,9
49UP20151115,RF15-09,5571,1,15,22088,2,20151120,0002,23.7452,132.0002,3597,506.1,502,11.4090,34.3193,2,-999.,9,166.07,2,23.74,2,17.63,2,0.00,2,1.24,2,-999.,9,-999.,9,-999.,9,-999,9,-999,9
49UP20151115,RF15-09,5571,1,14,21999,2,20151120,2359,23.7452,132.0002,3597,607.1,602,8.0298,34.1764,2,-999.,9,134.22,2,49.59,2,26.53,2,0.00,2,1.90,2,-999.,9,-999.,9,-999.,9,-999,9,-999,9
49UP20151115,RF15-09,5571,1,13,22667,2,20151120,2357,23.7452,132.0002,3597,705.3,700,6.4970,34.2207,2,-999.,9,98.92,2,70.02,2,32.41,2,0.00,2,2.33,2,-999.,9,-999.,9,-999.,9,-999,9,-999,9
49UP20151115,RF15-09,5571,1,12,22074,3,20151120,2352,23.7452,132.0002,3597,807.6,801,4.9682,34.2463,2,-999.,9,70.75,2,92.00,2,37.43,2,0.00,2,2.69,2,-999.,9,-999.,9,-999.,9,-999,9,-999,9
49UP20151115,RF15-09,5571,1,10,24267,2,20151120,2349,23.7452,132.0002,3597,907.7,900,4.3101,34.3283,2,-999.,9,63.24,2,106.55,2,39.06,2,0.00,2,2.80,2,-999.,9,-999.,9,-999.,9,-999,9,-999,9
49UP20151115,RF15-09,5571,1,11,24268,2,20151120,2349,23.7452,132.0002,3597,908.1,900,4.3098,34.3277,2,-999.,9,62.71,2,106.36,2,39.09,2,0.00,2,2.80,2,-999.,9,-999.,9,-999.,9,-999,9,-999,9
49UP20151115,RF15-09,5571,1,8,22081,2,20151120,2345,23.7452,132.0002,3597,1011.4,1003,3.8168,34.3764,2,-999.,9,59.88,2,116.65,2,40.07,2,0.00,2,2.86,2,-999.,9,-999.,9,-999.,9,-999,9,-999,9
49UP20151115,RF15-09,5571,1,9,23518,2,20151120,2346,23.7452,132.0002,3597,1012.1,1003,3.8102,34.3773,2,-999.,9,59.94,2,116.78,2,40.11,2,0.00,2,2.86,2,-999.,9,-999.,9,-999.,9,-999,9,-999,9
49UP20151115,RF15-09,5571,1,7,23516,2,20151120,2341,23.7452,132.0002,3597,1213.5,1202,3.0316,34.4665,2,-999.,9,66.60,2,132.82,2,40.52,2,0.00,2,2.88,2,-999.,9,-999.,9,-999.,9,-999,9,-999,9
49UP20151115,RF15-09,5571,1,6,22113,2,20151120,2335,23.7452,132.0002,3597,1414.4,1401,2.5736,34.5245,2,-999.,9,79.03,2,140.17,2,40.02,2,0.00,2,2.83,2,-999.,9,-999.,9,-999.,9,-999,9,-999,9
49UP20151115,RF15-09,5571,1,4,24471,2,20151120,2329,23.7452,132.0002,3597,1620.7,1604,2.2766,34.5673,2,-999.,9,94.06,2,142.61,2,39.27,2,0.00,2,2.77,2,-999.,9,-999.,9,-999.,9,-999,9,-999,9
49UP20151115,RF15-09,5571,1,5,24658,2,20151120,2329,23.7452,132.0002,3597,1622.1,1606,2.2764,34.5674,2,-999.,9,93.52,2,142.67,2,39.30,2,0.00,2,2.77,2,-999.,9,-999.,9,-999.,9,-999,9,-999,9
49UP20151115,RF15-09,5571,1,3,22104,2,20151120,2324,23.7452,132.0002,3597,1821.3,1802,2.0563,34.5983,2,-999.,9,106.67,6,143.75,6,38.60,6,0.00,6,2.71,6,-999.,9,-999.,9,-999.,9,-999,9,-999,9
49UP20151115,RF15-09,5571,1,1,21997,2,20151120,2319,23.7452,132.0002,3597,2024.6,2002,1.9044,34.6211,2,-999.,9,118.21,2,143.45,2,37.94,2,0.00,2,2.66,2,-999.,9,-999.,9,-999.,9,-999,9,-999,9
49UP20151115,RF15-09,5571,1,2,22075,2,20151120,2319,23.7452,132.0002,3597,2024.9,2002,1.9046,34.6212,2,-999.,9,118.07,2,143.33,2,37.91,2,0.00,2,2.66,2,-999.,9,-999.,9,-999.,9,-999,9,-999,9