BOTTLE,20171117JMAGEMD
EXPOCODE,SECT_ID,STNNBR,CASTNO,SAMPNO,BTLNBR,BTLNBR_FLAG_W,DATE,TIME,LATITUDE,LONGITUDE,DEPTH,CTDPRS,CTDDEP,CTDTMP,CTDSAL,CTDSAL_FLAG_W,SALNTY,SALNTY_FLAG_W,OXYGEN,OXYGEN_FLAG_W,SILCAT,SILCAT_FLAG_W,NO2+NO3,NO2+NO3_FLAG_W,NITRIT,NITRIT_FLAG_W,PHSPHT,PHSPHT_FLAG_W,TCARBN,TCARBN_FLAG_W,ALKALI,ALKALI_FLAG_W,PH_TOT,PH_TOT_FLAG_W,CFC-11,CFC-11_FLAG_W,CFC-12,CFC-12_FLAG_W
,,,,,,,UTC,UTC,,,METER,DBAR,METERS,ITS-90,PSS-78,,PSS-78,,UMOL/KG,,UMOL/KG,,UMOL/KG,,UMOL/KG,,UMOL/KG,,UMOL/KG,,UMOL/KG,,@25DEG-C,,PMOL/KG,,PMOL/KG,
49UP20151115,RF15-09,5588,1,-999,0,2,20151123,1655,27.4927,128.2462,1033,0.0,0,25.3033,34.8351,2,34.8453,2,206.27,2,1.35,2,0.02,2,0.00,2,0.02,2,1968.0,2,2283.4,2,8.0923,2,-999,9,-999,9
49UP20151115,RF15-09,5588,1,35,22112,2,20151123,1716,27.4927,128.2462,1033,10.6,11,25.3020,34.8353,2,34.8343,2,206.31,2,1.38,2,0.02,2,0.00,2,0.02,2,1969.2,2,2289.9,2,8.0880,2,-999,9,-999,9
49UP20151115,RF15-09,5588,1,34,22094,2,20151123,1714,27.4927,128.2462,1033,20.5,20,25.3156,34.8352,2,34.8376,2,206.42,2,1.38,2,0.02,2,0.00,2,0.02,2,1969.1,2,2287.6,2,8.0929,2,-999,9,-999,9
49UP20151115,RF15-09,5588,1,33,24469,2,20151123,1713,27.4927,128.2462,1033,30.8,31,25.3196,34.8369,2,34.8351,2,206.19,2,1.36,2,0.03,2,0.00,2,0.02,2,1967.0,2,2287.2,2,8.0891,2,-999,9,-999,9
49UP20151115,RF15-09,5588,1,32,22105,2,20151123,1710,27.4927,128.2462,1033,50.1,50,25.3012,34.8334,2,34.8328,2,206.04,2,1.34,2,0.02,2,0.00,2,0.02,2,1970.3,2,2287.0,2,8.0882,2,-999,9,-999,9
49UP20151115,RF15-09,5588,1,31,23515,2,20151123,1708,27.4927,128.2462,1033,75.0,74,25.2482,34.8274,2,34.8225,4,203.68,2,1.47,2,0.15,2,0.04,2,0.03,2,1973.3,2,2285.0,2,8.0771,2,-999,9,-999,9
49UP20151115,RF15-09,5588,1,30,22097,2,20151123,1707,27.4927,128.2462,1033,101.0,100,23.9803,34.8222,2,34.8245,2,197.45,2,1.94,2,1.09,2,0.09,2,0.09,2,1990.2,2,2286.6,2,8.0534,2,-999,9,-999,9
49UP20151115,RF15-09,5588,1,27,21998,2,20151123,1706,27.4927,128.2462,1033,125.2,124,22.8044,34.8170,2,34.8188,2,196.36,2,2.41,2,1.81,2,0.07,2,0.14,2,2002.0,2,2285.4,2,8.0332,2,-999,9,-999,9
49UP20151115,RF15-09,5588,1,26,22084,2,20151123,1704,27.4927,128.2462,1033,150.8,150,21.2170,34.8277,2,34.8271,2,194.15,2,2.95,2,2.70,2,0.03,2,0.20,2,2015.8,2,2285.2,2,8.0092,2,-999,9,-999,9
49UP20151115,RF15-09,5588,1,25,22098,2,20151123,1702,27.4927,128.2462,1033,202.2,201,19.0694,34.8283,2,34.8279,6,201.58,2,2.86,2,2.81,2,0.01,2,0.20,2,2026.5,6,2284.4,6,7.9827,2,-999,9,-999,9
49UP20151115,RF15-09,5588,1,21,22078,2,20151123,1700,27.4927,128.2462,1033,252.2,250,18.0588,34.7771,2,34.7765,2,199.09,2,3.93,2,4.31,2,0.01,2,0.29,2,2037.7,2,2282.9,2,7.9639,2,-999,9,-999,9
49UP20151115,RF15-09,5588,1,19,22092,2,20151123,1658,27.4927,128.2462,1033,302.3,300,17.1042,34.7069,2,34.7091,2,195.52,2,5.36,2,5.91,2,0.01,2,0.40,2,2049.7,2,2279.5,2,7.9298,3,-999,9,-999,9
49UP20151115,RF15-09,5588,1,20,22093,2,20151123,1658,27.4927,128.2462,1033,302.5,300,17.0727,34.7054,2,34.7116,2,195.47,2,5.37,2,5.86,2,0.00,2,0.40,2,2048.5,2,2280.7,2,7.9395,2,-999,9,-999,9
49UP20151115,RF15-09,5588,1,18,22101,2,20151123,1654,27.4927,128.2462,1033,403.8,401,14.5910,34.5337,2,34.5275,2,180.47,6,13.06,6,11.26,6,0.00,6,0.78,6,2088.1,2,2275.9,2,7.8519,2,-999,9,-999,9
49UP20151115,RF15-09,5588,1,17,22090,2,20151123,1651,27.4927,128.2462,1033,504.2,500,11.4248,34.3288,2,34.3346,2,162.25,2,25.60,2,18.01,2,0.00,2,1.27,2,2135.5,2,2276.5,2,7.7407,2,-999,9,-999,9
49UP20151115,RF15-09,5588,1,16,22089,2,20151123,1648,27.4927,128.2462,1033,604.8,600,8.6538,34.2329,2,34.2349,2,132.80,2,46.19,2,25.50,2,0.00,2,1.82,2,2195.4,6,2290.9,6,7.6208,2,-999,9,-999,9
49UP20151115,RF15-09,5588,1,15,22088,2,20151123,1644,27.4927,128.2462,1033,705.5,700,7.1584,34.3186,2,34.3187,2,104.48,6,71.01,6,30.55,6,0.00,6,2.19,6,2245.6,2,2320.3,2,7.5493,2,-999,9,-999,9
49UP20151115,RF15-09,5588,1,14,21999,2,20151123,1640,27.4927,128.2462,1033,806.3,799,6.5102,34.3359,2,34.3353,2,95.90,2,79.76,2,32.39,2,0.00,2,2.32,2,2264.1,2,2327.4,2,7.5253,2,-999,9,-999,9
49UP20151115,RF15-09,5588,1,13,22667,2,20151123,1637,27.4927,128.2462,1033,907.0,899,6.0056,34.3443,2,34.3455,6,90.42,2,85.95,2,33.77,2,0.00,2,2.41,2,2276.8,2,2337.3,2,7.5067,2,-999,9,-999,9
49UP20151115,RF15-09,5588,1,2,22075,2,20151123,1634,27.4927,128.2462,1033,1026.0,1017,5.6677,34.3519,2,34.3515,2,87.05,2,90.55,2,34.67,2,0.00,2,2.48,2,2283.5,2,2337.9,2,7.4932,2,-999,9,-999,9
49UP20151115,RF15-09,5588,1,3,22104,2,20151123,1634,27.4927,128.2462,1033,1026.1,1017,5.6676,34.3519,2,34.3514,2,86.86,2,90.60,2,34.68,2,0.00,2,2.48,2,2286.4,2,2340.0,2,7.4965,2,-999,9,-999,9