BOTTLE,20171117JMAGEMD
EXPOCODE,SECT_ID,STNNBR,CASTNO,SAMPNO,BTLNBR,BTLNBR_FLAG_W,DATE,TIME,LATITUDE,LONGITUDE,DEPTH,CTDPRS,CTDDEP,CTDTMP,CTDSAL,CTDSAL_FLAG_W,SALNTY,SALNTY_FLAG_W,OXYGEN,OXYGEN_FLAG_W,SILCAT,SILCAT_FLAG_W,NO2+NO3,NO2+NO3_FLAG_W,NITRIT,NITRIT_FLAG_W,PHSPHT,PHSPHT_FLAG_W,TCARBN,TCARBN_FLAG_W,ALKALI,ALKALI_FLAG_W,PH_TOT,PH_TOT_FLAG_W,CFC-11,CFC-11_FLAG_W,CFC-12,CFC-12_FLAG_W
,,,,,,,UTC,UTC,,,METER,DBAR,METERS,ITS-90,PSS-78,,PSS-78,,UMOL/KG,,UMOL/KG,,UMOL/KG,,UMOL/KG,,UMOL/KG,,UMOL/KG,,UMOL/KG,,@25DEG-C,,PMOL/KG,,PMOL/KG,
49UP20151115,RF15-09,5573,1,-999,0,2,20151121,0834,23.9858,130.9878,3394,0.0,0,27.0409,34.8838,2,34.8875,2,201.84,2,1.13,2,0.02,2,0.00,2,0.02,2,1958.8,2,2290.5,2,-999.,9,-999,9,-999,9
49UP20151115,RF15-09,5573,1,33,24469,2,20151121,0900,23.9858,130.9878,3394,11.5,11,27.0507,34.8832,2,34.8892,2,201.91,2,1.11,2,0.00,2,0.00,2,0.01,2,1959.0,2,2288.4,2,-999.,9,-999,9,-999,9
49UP20151115,RF15-09,5573,1,32,22105,2,20151121,0859,23.9858,130.9878,3394,27.0,27,27.0486,34.8834,2,34.8818,2,201.85,2,1.14,2,0.00,2,0.00,2,0.01,2,1960.2,2,2288.4,2,-999.,9,-999,9,-999,9
49UP20151115,RF15-09,5573,1,31,23515,2,20151121,0856,23.9858,130.9878,3394,52.6,52,27.0536,34.8817,2,34.8800,2,201.85,2,1.16,2,0.00,2,0.00,2,0.01,2,1960.8,2,2289.8,2,-999.,9,-999,9,-999,9
49UP20151115,RF15-09,5573,1,27,21998,2,20151121,0854,23.9858,130.9878,3394,76.5,76,27.0316,34.8792,2,34.8786,2,201.62,2,1.10,2,0.02,2,0.00,2,0.02,2,1958.9,2,2290.9,2,-999.,9,-999,9,-999,9
49UP20151115,RF15-09,5573,1,26,22084,2,20151121,0853,23.9858,130.9878,3394,103.1,102,26.6460,34.8780,2,34.8766,2,200.66,2,1.23,2,0.00,2,0.00,2,0.02,2,1966.6,2,2290.7,2,-999.,9,-999,9,-999,9
49UP20151115,RF15-09,5573,1,25,22098,2,20151121,0852,23.9858,130.9878,3394,127.9,127,24.7212,35.0297,2,35.0299,2,198.19,2,1.27,2,0.24,2,0.15,2,0.05,2,1993.4,2,2294.2,2,-999.,9,-999,9,-999,9
49UP20151115,RF15-09,5573,1,21,22078,2,20151121,0850,23.9858,130.9878,3394,153.6,153,22.9513,34.8879,2,34.8884,2,207.30,2,1.55,2,0.37,2,0.16,2,0.05,2,1995.1,2,2287.7,2,-999.,9,-999,9,-999,9
49UP20151115,RF15-09,5573,1,20,22093,2,20151121,0848,23.9858,130.9878,3394,205.6,204,19.4555,34.8525,2,34.8577,2,203.13,2,2.26,2,2.04,2,0.01,2,0.15,2,2025.3,2,2286.9,2,-999.,9,-999,9,-999,9
49UP20151115,RF15-09,5573,1,19,22092,2,20151121,0846,23.9858,130.9878,3394,255.2,253,18.4002,34.8187,2,34.8169,2,207.82,2,2.93,2,2.99,2,0.01,2,0.21,2,-999.0,9,-999.0,9,-999.,9,-999,9,-999,9
49UP20151115,RF15-09,5573,1,18,22101,2,20151121,0845,23.9858,130.9878,3394,306.2,304,17.4113,34.7347,2,34.7348,2,201.40,2,4.29,2,4.87,2,0.01,2,0.33,2,-999.0,9,-999.0,9,-999.,9,-999,9,-999,9
49UP20151115,RF15-09,5573,1,17,22090,2,20151121,0842,23.9858,130.9878,3394,405.5,403,15.2176,34.5686,2,34.5690,6,185.08,2,9.71,2,9.66,2,0.00,2,0.67,2,-999.0,9,-999.0,9,-999.,9,-999,9,-999,9
49UP20151115,RF15-09,5573,1,16,22089,2,20151121,0839,23.9858,130.9878,3394,505.2,501,11.8070,34.3391,2,34.3470,4,173.64,2,21.59,2,16.18,2,0.00,2,1.13,2,-999.0,9,-999.0,9,-999.,9,-999,9,-999,9
49UP20151115,RF15-09,5573,1,15,22088,2,20151121,0836,23.9858,130.9878,3394,607.5,603,8.9459,34.2773,2,34.2776,2,122.87,6,44.43,6,25.99,6,0.00,6,1.87,6,-999.0,9,-999.0,9,-999.,9,-999,9,-999,9
49UP20151115,RF15-09,5573,1,13,22667,2,20151121,0833,23.9858,130.9878,3394,708.0,702,6.7811,34.1939,2,34.1927,2,102.64,2,64.33,2,31.64,2,0.00,2,2.27,2,-999.0,9,-999.0,9,-999.,9,-999,9,-999,9
49UP20151115,RF15-09,5573,1,14,21999,2,20151121,0833,23.9858,130.9878,3394,709.4,704,6.7518,34.1936,2,34.1944,2,102.57,2,64.25,2,31.59,2,0.00,2,2.27,2,-999.0,9,-999.0,9,-999.,9,-999,9,-999,9
49UP20151115,RF15-09,5573,1,9,23518,2,20151121,0829,23.9858,130.9878,3394,809.6,803,5.4797,34.2287,2,34.2281,2,82.10,2,84.38,2,35.59,2,0.00,2,2.56,2,-999.0,9,-999.0,9,-999.,9,-999,9,-999,9
49UP20151115,RF15-09,5573,1,8,22081,2,20151121,0827,23.9858,130.9878,3394,911.0,903,4.7588,34.3566,2,34.3556,2,73.37,2,100.57,2,37.46,2,0.00,2,2.68,2,-999.0,9,-999.0,9,-999.,9,-999,9,-999,9
49UP20151115,RF15-09,5573,1,7,23516,2,20151121,0824,23.9858,130.9878,3394,1011.4,1003,4.0711,34.4187,2,34.4182,2,72.03,2,113.31,2,38.60,2,0.00,2,2.76,2,-999.0,9,-999.0,9,-999.,9,-999,9,-999,9
49UP20151115,RF15-09,5573,1,6,22113,2,20151121,0820,23.9858,130.9878,3394,1213.5,1202,3.1114,34.4832,2,34.4827,2,72.42,2,130.73,2,39.89,2,0.00,2,2.83,2,-999.0,9,-999.0,9,-999.,9,-999,9,-999,9
49UP20151115,RF15-09,5573,1,5,24658,2,20151121,0814,23.9858,130.9878,3394,1416.0,1402,2.6660,34.5246,2,34.5237,2,80.02,2,137.88,2,39.87,2,0.00,2,2.82,2,-999.0,9,-999.0,9,-999.,9,-999,9,-999,9
49UP20151115,RF15-09,5573,1,4,24471,2,20151121,0809,23.9858,130.9878,3394,1621.1,1605,2.3021,34.5686,2,34.5681,6,94.62,2,141.65,2,39.14,2,0.00,2,2.77,2,-999.0,9,-999.0,9,-999.,9,-999,9,-999,9
49UP20151115,RF15-09,5573,1,3,22104,2,20151121,0804,23.9858,130.9878,3394,1823.8,1804,2.0938,34.5994,2,34.6084,4,107.49,6,142.42,6,38.46,6,0.00,6,2.70,6,-999.0,9,-999.0,9,-999.,9,-999,9,-999,9
49UP20151115,RF15-09,5573,1,2,22075,2,20151121,0758,23.9858,130.9878,3394,2026.3,2004,1.9436,34.6185,2,34.6181,2,116.49,2,142.80,2,37.96,2,0.00,2,2.66,2,-999.0,9,-999.0,9,-999.,9,-999,9,-999,9
49UP20151115,RF15-09,5573,1,1,21997,2,20151121,0758,23.9858,130.9878,3394,2026.4,2004,1.9438,34.6187,2,34.6197,2,116.32,2,142.78,2,38.00,2,0.00,2,2.66,2,-999.0,9,-999.0,9,-999.,9,-999,9,-999,9
49UP20151115,RF15-09,5576,1,-999,0,2,20151121,1953,24.6632,129.9798,4204,0.0,0,27.2052,34.8108,2,34.8329,2,201.07,2,1.02,2,0.00,2,0.00,2,0.01,2,1954.0,2,2286.0,2,8.1137,2,-999,9,-999,9
49UP20151115,RF15-09,5576,1,33,24469,3,20151121,2024,24.6632,129.9798,4204,12.0,12,27.2088,34.8106,2,34.8094,2,200.68,2,0.99,2,0.03,2,0.00,2,0.01,2,1950.8,2,2284.3,2,8.1162,2,-999,9,-999,9
49UP20151115,RF15-09,5576,1,32,22105,2,20151121,2023,24.6632,129.9798,4204,26.9,27,27.0416,34.8619,2,34.8602,2,201.71,2,1.09,2,0.02,2,0.00,2,0.02,2,1958.1,2,2288.6,2,8.1123,2,-999,9,-999,9
49UP20151115,RF15-09,5576,1,31,23515,2,20151121,2021,24.6632,129.9798,4204,51.7,51,26.8277,34.8897,2,34.8888,2,202.79,2,1.15,2,0.00,2,0.00,2,0.01,2,1965.2,2,2291.0,2,8.1005,2,-999,9,-999,9
49UP20151115,RF15-09,5576,1,27,21998,2,20151121,2020,24.6632,129.9798,4204,78.8,78,26.6926,34.8932,2,34.8924,2,201.91,2,1.15,2,0.00,2,0.00,2,0.01,2,1965.0,2,2291.4,2,8.0985,2,-999,9,-999,9
49UP20151115,RF15-09,5576,1,26,22084,2,20151121,2016,24.6632,129.9798,4204,102.8,102,25.6318,34.8792,2,34.8764,2,198.36,2,1.35,2,0.11,2,0.07,2,0.03,2,1983.1,2,2288.8,2,8.0750,2,-999,9,-999,9
49UP20151115,RF15-09,5576,1,25,22098,2,20151121,2015,24.6632,129.9798,4204,127.2,126,22.6989,34.9186,2,34.9195,2,194.96,2,1.80,2,1.28,2,0.04,2,0.11,2,2007.9,2,2293.1,2,8.0317,2,-999,9,-999,9
49UP20151115,RF15-09,5576,1,21,22078,2,20151121,2014,24.6632,129.9798,4204,153.7,153,21.1762,34.9070,2,34.9064,2,196.25,2,1.93,2,1.77,2,0.02,2,0.13,2,2013.5,2,2289.7,2,8.0172,2,-999,9,-999,9
49UP20151115,RF15-09,5576,1,20,22093,2,20151121,2012,24.6632,129.9798,4204,204.9,203,19.3871,34.8539,2,34.8575,2,203.38,2,2.25,2,2.08,2,0.01,2,0.15,2,2021.7,2,2288.3,2,7.9959,2,-999,9,-999,9
49UP20151115,RF15-09,5576,1,19,22092,2,20151121,2010,24.6632,129.9798,4204,255.2,253,18.4662,34.8269,2,34.8276,2,209.09,2,2.71,2,2.80,2,0.01,2,0.19,2,2024.6,6,2284.5,6,7.9920,2,-999,9,-999,9
49UP20151115,RF15-09,5576,1,18,22101,2,20151121,2008,24.6632,129.9798,4204,305.8,304,18.0491,34.7964,2,34.8032,2,208.60,2,3.14,2,3.31,2,0.01,2,0.22,2,2028.0,2,2283.7,2,7.9818,6,-999,9,-999,9
49UP20151115,RF15-09,5576,1,17,22090,2,20151121,2005,24.6632,129.9798,4204,406.6,404,16.1148,34.6390,2,34.6404,2,195.26,2,6.96,2,7.38,2,0.00,2,0.49,2,2057.5,2,2277.5,2,7.9141,2,-999,9,-999,9
49UP20151115,RF15-09,5576,1,16,22089,2,20151121,2002,24.6632,129.9798,4204,506.1,502,13.0262,34.4147,2,34.4182,2,175.40,6,16.39,6,13.97,6,0.00,6,0.97,6,2105.3,2,2271.4,2,7.8023,2,-999,9,-999,9
49UP20151115,RF15-09,5576,1,14,21999,2,20151121,1959,24.6632,129.9798,4204,610.1,605,9.7819,34.2295,2,34.2328,2,152.30,2,32.61,2,21.69,2,0.00,2,1.54,2,2162.8,2,2277.0,2,7.6783,2,-999,9,-999,9
49UP20151115,RF15-09,5576,1,15,22088,2,20151121,1959,24.6632,129.9798,4204,611.1,606,9.6973,34.2252,2,34.2377,4,152.36,2,32.58,2,21.70,2,0.00,2,1.54,2,2161.2,2,2278.9,2,7.6766,2,-999,9,-999,9
49UP20151115,RF15-09,5576,1,13,22667,2,20151121,1955,24.6632,129.9798,4204,707.9,702,7.6158,34.1639,2,34.1643,2,121.35,2,51.62,2,28.40,2,0.00,2,2.03,2,2214.9,2,2290.9,2,7.5697,2,-999,9,-999,9
49UP20151115,RF15-09,5576,1,9,23518,2,20151121,1952,24.6632,129.9798,4204,809.7,803,6.5799,34.2822,2,34.2806,6,95.29,2,72.65,2,32.53,2,0.00,2,2.33,2,2257.2,2,2317.0,2,7.5194,2,-999,9,-999,9
49UP20151115,RF15-09,5576,1,8,22081,2,20151121,1949,24.6632,129.9798,4204,912.1,904,5.4091,34.3039,2,34.3051,2,79.45,2,88.75,2,35.89,2,0.00,2,2.57,2,2288.6,2,2332.4,2,7.4748,2,-999,9,-999,9
49UP20151115,RF15-09,5576,1,7,23516,2,20151121,1946,24.6632,129.9798,4204,1011.3,1002,4.3754,34.3599,2,34.3592,2,68.34,2,106.93,2,38.39,2,0.00,2,2.75,2,2321.0,6,2352.7,6,7.4406,2,-999,9,-999,9
49UP20151115,RF15-09,5576,1,6,22113,2,20151121,1940,24.6632,129.9798,4204,1212.4,1201,3.4618,34.4714,2,34.4731,2,75.07,2,124.68,2,39.18,2,0.00,2,2.79,2,2336.9,2,2378.3,2,7.4550,6,-999,9,-999,9
49UP20151115,RF15-09,5576,1,5,24658,2,20151121,1935,24.6632,129.9798,4204,1416.5,1403,2.7522,34.5099,2,34.5095,6,75.69,2,137.29,2,39.95,2,0.00,2,2.84,2,2350.3,2,2390.4,2,7.4472,2,-999,9,-999,9
49UP20151115,RF15-09,5576,1,4,24471,2,20151121,1930,24.6632,129.9798,4204,1618.7,1602,2.3774,34.5556,2,34.5560,2,89.18,6,141.81,6,39.39,6,0.00,6,2.78,6,2352.1,2,2398.8,2,7.4756,2,-999,9,-999,9
49UP20151115,RF15-09,5576,1,3,22104,2,20151121,1925,24.6632,129.9798,4204,1819.7,1800,2.1672,34.5866,2,34.5871,2,101.31,2,142.94,2,38.75,2,0.00,2,2.72,2,2348.0,2,2403.9,2,7.4958,2,-999,9,-999,9
49UP20151115,RF15-09,5576,1,2,22075,2,20151121,1924,24.6632,129.9798,4204,1822.4,1803,2.1669,34.5865,2,34.5860,2,101.55,2,142.42,2,38.67,2,0.00,2,2.72,2,2350.7,2,2402.1,2,7.4949,2,-999,9,-999,9
49UP20151115,RF15-09,5576,1,1,21997,2,20151121,1920,24.6632,129.9798,4204,2026.2,2004,2.0194,34.6108,2,34.6118,2,112.39,2,142.47,2,38.17,2,0.00,2,2.68,2,2344.2,2,2408.1,2,7.5167,2,-999,9,-999,9
49UP20151115,RF15-09,5578,1,-999,0,2,20151122,0328,24.9955,129.486,4006,0.0,0,27.4555,34.7753,2,-999.,9,200.40,2,-999.,9,-999.,9,-999.,9,-999.,9,-999.,9,-999.,9,-999.,9,-999,9,-999,9
49UP20151115,RF15-09,5578,1,33,24469,2,20151122,0345,24.9955,129.486,4006,10.3,10,27.4581,34.7750,2,-999.,9,200.36,2,-999.,9,-999.,9,-999.,9,-999.,9,-999.,9,-999.,9,-999.,9,-999,9,-999,9
49UP20151115,RF15-09,5578,1,32,22105,2,20151122,0343,24.9955,129.486,4006,26.3,26,27.4621,34.7746,2,-999.,9,200.38,2,-999.,9,-999.,9,-999.,9,-999.,9,-999.,9,-999.,9,-999.,9,-999,9,-999,9
49UP20151115,RF15-09,5578,1,31,23515,2,20151122,0342,24.9955,129.486,4006,51.4,51,27.4572,34.7785,2,-999.,9,200.68,2,-999.,9,-999.,9,-999.,9,-999.,9,-999.,9,-999.,9,-999.,9,-999,9,-999,9
49UP20151115,RF15-09,5578,1,27,21998,2,20151122,0340,24.9955,129.486,4006,75.8,75,27.2009,34.8296,2,-999.,9,201.21,2,-999.,9,-999.,9,-999.,9,-999.,9,-999.,9,-999.,9,-999.,9,-999,9,-999,9
49UP20151115,RF15-09,5578,1,26,22084,2,20151122,0336,24.9955,129.486,4006,100.0,99,25.5919,34.8644,2,-999.,9,205.23,2,-999.,9,-999.,9,-999.,9,-999.,9,-999.,9,-999.,9,-999.,9,-999,9,-999,9
49UP20151115,RF15-09,5578,1,25,22098,2,20151122,0335,24.9955,129.486,4006,125.9,125,23.7341,34.9203,2,-999.,9,197.70,2,-999.,9,-999.,9,-999.,9,-999.,9,-999.,9,-999.,9,-999.,9,-999,9,-999,9
49UP20151115,RF15-09,5578,1,21,22078,2,20151122,0334,24.9955,129.486,4006,151.1,150,22.2850,35.0664,2,-999.,9,190.57,2,-999.,9,-999.,9,-999.,9,-999.,9,-999.,9,-999.,9,-999.,9,-999,9,-999,9
49UP20151115,RF15-09,5578,1,20,22093,2,20151122,0332,24.9955,129.486,4006,200.8,199,19.9950,34.9219,2,-999.,9,192.72,2,-999.,9,-999.,9,-999.,9,-999.,9,-999.,9,-999.,9,-999.,9,-999,9,-999,9
49UP20151115,RF15-09,5578,1,19,22092,2,20151122,0330,24.9955,129.486,4006,252.9,251,18.6365,34.8216,2,-999.,9,203.20,2,-999.,9,-999.,9,-999.,9,-999.,9,-999.,9,-999.,9,-999.,9,-999,9,-999,9
49UP20151115,RF15-09,5578,1,18,22101,2,20151122,0328,24.9955,129.486,4006,304.8,303,17.6238,34.7490,2,-999.,9,196.16,2,-999.,9,-999.,9,-999.,9,-999.,9,-999.,9,-999.,9,-999.,9,-999,9,-999,9
49UP20151115,RF15-09,5578,1,17,22090,2,20151122,0324,24.9955,129.486,4006,404.6,402,15.6011,34.5929,2,-999.,9,191.34,6,-999.,9,-999.,9,-999.,9,-999.,9,-999.,9,-999.,9,-999.,9,-999,9,-999,9
49UP20151115,RF15-09,5578,1,15,22088,2,20151122,0320,24.9955,129.486,4006,504.7,501,12.9630,34.4123,2,-999.,9,174.96,2,-999.,9,-999.,9,-999.,9,-999.,9,-999.,9,-999.,9,-999.,9,-999,9,-999,9
49UP20151115,RF15-09,5578,1,16,22089,2,20151122,0320,24.9955,129.486,4006,506.9,503,12.8932,34.4095,2,-999.,9,174.82,2,-999.,9,-999.,9,-999.,9,-999.,9,-999.,9,-999.,9,-999.,9,-999,9,-999,9
49UP20151115,RF15-09,5578,1,14,21999,2,20151122,0315,24.9955,129.486,4006,606.0,601,9.5942,34.2160,2,-999.,9,155.95,2,-999.,9,-999.,9,-999.,9,-999.,9,-999.,9,-999.,9,-999.,9,-999,9,-999,9
49UP20151115,RF15-09,5578,1,13,22667,2,20151122,0311,24.9955,129.486,4006,706.4,701,7.3438,34.1910,2,-999.,9,113.39,2,-999.,9,-999.,9,-999.,9,-999.,9,-999.,9,-999.,9,-999.,9,-999,9,-999,9
49UP20151115,RF15-09,5578,1,9,23518,2,20151122,0308,24.9955,129.486,4006,807.7,801,6.0321,34.2254,2,-999.,9,86.58,2,-999.,9,-999.,9,-999.,9,-999.,9,-999.,9,-999.,9,-999.,9,-999,9,-999,9
49UP20151115,RF15-09,5578,1,8,22081,2,20151122,0304,24.9955,129.486,4006,906.5,899,4.9688,34.3399,2,-999.,9,73.94,2,-999.,9,-999.,9,-999.,9,-999.,9,-999.,9,-999.,9,-999.,9,-999,9,-999,9
49UP20151115,RF15-09,5578,1,7,23516,2,20151122,0301,24.9955,129.486,4006,1010.5,1002,4.2199,34.4224,2,-999.,9,74.50,2,-999.,9,-999.,9,-999.,9,-999.,9,-999.,9,-999.,9,-999.,9,-999,9,-999,9
49UP20151115,RF15-09,5578,1,6,22113,2,20151122,0255,24.9955,129.486,4006,1212.3,1201,3.0708,34.4634,2,-999.,9,66.00,2,-999.,9,-999.,9,-999.,9,-999.,9,-999.,9,-999.,9,-999.,9,-999,9,-999,9
49UP20151115,RF15-09,5578,1,5,24658,2,20151122,0250,24.9955,129.486,4006,1416.8,1403,2.6173,34.5239,2,-999.,9,79.17,6,-999.,9,-999.,9,-999.,9,-999.,9,-999.,9,-999.,9,-999.,9,-999,9,-999,9
49UP20151115,RF15-09,5578,1,4,24471,2,20151122,0245,24.9955,129.486,4006,1615.9,1599,2.3011,34.5632,2,-999.,9,92.08,2,-999.,9,-999.,9,-999.,9,-999.,9,-999.,9,-999.,9,-999.,9,-999,9,-999,9
49UP20151115,RF15-09,5578,1,3,22104,2,20151122,0244,24.9955,129.486,4006,1617.7,1601,2.2982,34.5635,2,-999.,9,91.92,2,-999.,9,-999.,9,-999.,9,-999.,9,-999.,9,-999.,9,-999.,9,-999,9,-999,9
49UP20151115,RF15-09,5578,1,2,22075,2,20151122,0238,24.9955,129.486,4006,1820.4,1801,2.0811,34.5959,2,-999.,9,105.51,2,-999.,9,-999.,9,-999.,9,-999.,9,-999.,9,-999.,9,-999.,9,-999,9,-999,9
49UP20151115,RF15-09,5578,1,1,21997,2,20151122,0233,24.9955,129.486,4006,2024.6,2002,1.9331,34.6193,2,-999.,9,117.00,2,-999.,9,-999.,9,-999.,9,-999.,9,-999.,9,-999.,9,-999.,9,-999,9,-999,9