BOTTLE,20171117JMAGEMD
EXPOCODE,SECT_ID,STNNBR,CASTNO,SAMPNO,BTLNBR,BTLNBR_FLAG_W,DATE,TIME,LATITUDE,LONGITUDE,DEPTH,CTDPRS,CTDDEP,CTDTMP,CTDSAL,CTDSAL_FLAG_W,SALNTY,SALNTY_FLAG_W,OXYGEN,OXYGEN_FLAG_W,SILCAT,SILCAT_FLAG_W,NO2+NO3,NO2+NO3_FLAG_W,NITRIT,NITRIT_FLAG_W,PHSPHT,PHSPHT_FLAG_W,TCARBN,TCARBN_FLAG_W,ALKALI,ALKALI_FLAG_W,PH_TOT,PH_TOT_FLAG_W,CFC-11,CFC-11_FLAG_W,CFC-12,CFC-12_FLAG_W
,,,,,,,UTC,UTC,,,METER,DBAR,METERS,ITS-90,PSS-78,,PSS-78,,UMOL/KG,,UMOL/KG,,UMOL/KG,,UMOL/KG,,UMOL/KG,,UMOL/KG,,UMOL/KG,,@25DEG-C,,PMOL/KG,,PMOL/KG,
49UP20151115,RF15-09,5553,1,-999,0,2,20151117,1105,24.2427,142.4235,2861,0.0,0,27.2149,35.0816,2,-999.0000,9,202.24,2,1.13,2,0.00,2,0.00,2,0.01,2,-999.,9,-999.,9,-999.,9,-999,9,-999,9
49UP20151115,RF15-09,5553,1,33,24469,2,20151117,1127,24.2427,142.4235,2861,11.2,11,27.2180,35.0811,2,35.0804,2,202.16,2,1.13,2,0.00,2,0.00,2,0.03,2,-999.,9,-999.,9,-999.,9,-999,9,-999,9
49UP20151115,RF15-09,5553,1,32,22105,2,20151117,1126,24.2427,142.4235,2861,27.0,27,27.1953,35.0755,2,35.0795,2,202.40,2,1.13,2,0.00,2,0.00,2,0.02,2,-999.,9,-999.,9,-999.,9,-999,9,-999,9
49UP20151115,RF15-09,5553,1,31,23515,2,20151117,1124,24.2427,142.4235,2861,52.2,52,27.1857,35.0798,2,35.0790,2,202.11,2,1.11,2,0.00,2,0.00,2,0.02,2,-999.,9,-999.,9,-999.,9,-999,9,-999,9
49UP20151115,RF15-09,5553,1,27,21998,2,20151117,1122,24.2427,142.4235,2861,77.5,77,26.8168,35.0900,2,35.0934,2,203.90,2,1.06,2,0.00,2,0.00,2,0.02,2,-999.,9,-999.,9,-999.,9,-999,9,-999,9
49UP20151115,RF15-09,5553,1,26,22084,2,20151117,1120,24.2427,142.4235,2861,102.5,102,25.6360,35.1353,2,35.1369,2,205.92,2,1.18,2,0.00,2,0.00,2,0.02,2,-999.,9,-999.,9,-999.,9,-999,9,-999,9
49UP20151115,RF15-09,5553,1,25,22098,2,20151117,1118,24.2427,142.4235,2861,127.9,127,22.6036,35.0799,2,35.0783,2,203.18,2,1.50,2,0.22,2,0.09,2,0.04,2,-999.,9,-999.,9,-999.,9,-999,9,-999,9
49UP20151115,RF15-09,5553,1,21,22078,2,20151117,1114,24.2427,142.4235,2861,153.2,152,21.3709,35.0026,2,35.0046,2,202.04,2,1.76,2,0.59,2,0.07,2,0.08,2,-999.,9,-999.,9,-999.,9,-999,9,-999,9
49UP20151115,RF15-09,5553,1,20,22093,2,20151117,1111,24.2427,142.4235,2861,203.3,202,18.4429,34.8273,2,34.8257,2,208.72,2,2.69,2,2.32,2,0.01,2,0.18,2,-999.,9,-999.,9,-999.,9,-999,9,-999,9
49UP20151115,RF15-09,5553,1,19,22092,2,20151117,1109,24.2427,142.4235,2861,253.6,252,17.1463,34.7409,2,34.7392,2,214.75,2,3.70,2,3.94,2,0.01,2,0.28,2,-999.,9,-999.,9,-999.,9,-999,9,-999,9
49UP20151115,RF15-09,5553,1,18,22101,2,20151117,1107,24.2427,142.4235,2861,304.8,303,16.8876,34.7375,2,34.7322,2,217.83,2,3.99,2,4.15,2,0.00,2,0.28,2,-999.,9,-999.,9,-999.,9,-999,9,-999,9
49UP20151115,RF15-09,5553,1,17,22090,2,20151117,1103,24.2427,142.4235,2861,407.7,405,15.4493,34.5873,2,34.5867,2,197.51,2,8.04,2,8.16,2,0.00,2,0.56,2,-999.,9,-999.,9,-999.,9,-999,9,-999,9
49UP20151115,RF15-09,5553,1,16,22089,2,20151117,1059,24.2427,142.4235,2861,508.3,504,12.4640,34.3686,2,34.3714,2,184.61,2,17.13,2,14.10,2,0.00,2,0.98,2,-999.,9,-999.,9,-999.,9,-999,9,-999,9
49UP20151115,RF15-09,5553,1,15,22088,2,20151117,1052,24.2427,142.4235,2861,610.8,606,9.0579,34.1515,2,34.1546,2,158.59,6,32.66,6,22.26,6,0.00,6,1.58,6,-999.,9,-999.,9,-999.,9,-999,9,-999,9
49UP20151115,RF15-09,5553,1,13,22667,2,20151117,1048,24.2427,142.4235,2861,709.1,703,6.8029,34.1055,2,34.1045,2,109.09,2,56.61,2,31.01,2,0.00,2,2.23,2,-999.,9,-999.,9,-999.,9,-999,9,-999,9
49UP20151115,RF15-09,5553,1,14,21999,2,20151117,1048,24.2427,142.4235,2861,710.1,704,6.7911,34.1058,2,34.1043,2,108.88,2,56.76,2,31.10,2,0.00,2,2.23,2,-999.,9,-999.,9,-999.,9,-999,9,-999,9
49UP20151115,RF15-09,5553,1,9,23518,2,20151117,1044,24.2427,142.4235,2861,810.2,803,5.5255,34.1570,2,34.1554,2,76.24,2,77.66,2,36.23,2,0.00,2,2.61,2,-999.,9,-999.,9,-999.,9,-999,9,-999,9
49UP20151115,RF15-09,5553,1,8,22081,2,20151117,1040,24.2427,142.4235,2861,911.9,904,4.6609,34.2238,2,34.2235,2,61.31,2,95.83,2,38.82,2,0.00,2,2.79,2,-999.,9,-999.,9,-999.,9,-999,9,-999,9
49UP20151115,RF15-09,5553,1,7,23516,2,20151117,1038,24.2427,142.4235,2861,1012.2,1003,4.0403,34.3067,2,34.3049,2,51.28,2,110.68,2,40.48,2,0.00,2,2.90,2,-999.,9,-999.,9,-999.,9,-999,9,-999,9
49UP20151115,RF15-09,5553,1,6,22113,2,20151117,1031,24.2427,142.4235,2861,1215.4,1204,3.1723,34.4327,2,34.4363,2,52.31,2,132.11,2,41.48,2,0.00,2,2.97,2,-999.,9,-999.,9,-999.,9,-999,9,-999,9
49UP20151115,RF15-09,5553,1,5,24658,2,20151117,1026,24.2427,142.4235,2861,1415.9,1402,2.7694,34.4909,2,34.4904,6,58.70,2,140.38,2,41.39,2,0.00,2,2.94,2,-999.,9,-999.,9,-999.,9,-999,9,-999,9
49UP20151115,RF15-09,5553,1,4,24471,2,20151117,1022,24.2427,142.4235,2861,1618.7,1602,2.4237,34.5424,2,34.5435,6,75.09,2,145.42,2,40.54,2,0.00,2,2.87,2,-999.,9,-999.,9,-999.,9,-999,9,-999,9
49UP20151115,RF15-09,5553,1,3,22104,2,20151117,1015,24.2427,142.4235,2861,1821.1,1802,2.1117,34.5804,2,34.5807,2,86.68,6,150.15,6,39.96,6,0.00,6,2.82,6,-999.,9,-999.,9,-999.,9,-999,9,-999,9
49UP20151115,RF15-09,5553,1,2,22075,2,20151117,1011,24.2427,142.4235,2861,2026.0,2003,1.9511,34.6074,2,34.6076,2,100.53,2,149.58,2,39.13,2,0.00,2,2.75,2,-999.,9,-999.,9,-999.,9,-999,9,-999,9
49UP20151115,RF15-09,5553,1,1,21997,2,20151117,1011,24.2427,142.4235,2861,2028.1,2005,1.9507,34.6074,2,34.6074,2,100.19,2,149.77,2,39.13,2,0.00,2,2.76,2,-999.,9,-999.,9,-999.,9,-999,9,-999,9
49UP20151115,RF15-09,5555,1,-999,0,2,20151117,1953,24.2475,141.1802,1893,0.0,0,27.2593,34.9918,2,-999.,9,201.66,2,1.40,2,0.01,2,0.01,2,0.00,2,-999.,9,-999.,9,-999.,9,-999,9,-999,9
49UP20151115,RF15-09,5555,1,33,24469,2,20151117,2017,24.2475,141.1802,1893,11.6,12,27.2684,34.9914,2,-999.,9,202.00,2,1.32,2,0.00,2,0.00,2,0.01,2,-999.,9,-999.,9,-999.,9,-999,9,-999,9
49UP20151115,RF15-09,5555,1,32,22105,2,20151117,2016,24.2475,141.1802,1893,26.8,27,27.2739,34.9914,2,-999.,9,201.82,2,1.32,2,0.01,2,0.00,2,0.01,2,-999.,9,-999.,9,-999.,9,-999,9,-999,9
49UP20151115,RF15-09,5555,1,31,23515,2,20151117,2012,24.2475,141.1802,1893,52.3,52,27.2783,34.9910,2,-999.,9,201.80,2,1.26,2,0.02,2,0.00,2,0.02,2,-999.,9,-999.,9,-999.,9,-999,9,-999,9
49UP20151115,RF15-09,5555,1,27,21998,2,20151117,2010,24.2475,141.1802,1893,77.0,76,26.9950,35.0800,2,-999.,9,203.20,2,1.23,2,0.02,2,0.00,2,0.02,2,-999.,9,-999.,9,-999.,9,-999,9,-999,9
49UP20151115,RF15-09,5555,1,26,22084,2,20151117,2009,24.2475,141.1802,1893,102.5,102,25.5408,35.0879,2,-999.,9,206.04,2,1.25,2,0.02,2,0.00,2,0.02,2,-999.,9,-999.,9,-999.,9,-999,9,-999,9
49UP20151115,RF15-09,5555,1,25,22098,2,20151117,2008,24.2475,141.1802,1893,128.5,128,24.2874,35.0935,2,-999.,9,207.24,2,1.42,2,0.02,2,0.00,2,0.02,2,-999.,9,-999.,9,-999.,9,-999,9,-999,9
49UP20151115,RF15-09,5555,1,21,22078,2,20151117,2006,24.2475,141.1802,1893,153.7,153,21.9633,35.0954,2,-999.,9,200.59,2,1.66,2,0.49,2,0.06,2,0.06,2,-999.,9,-999.,9,-999.,9,-999,9,-999,9
49UP20151115,RF15-09,5555,1,20,22093,2,20151117,2004,24.2475,141.1802,1893,203.5,202,19.3014,34.9080,2,-999.,9,205.38,6,2.34,6,1.70,6,0.02,6,0.14,6,-999.,9,-999.,9,-999.,9,-999,9,-999,9
49UP20151115,RF15-09,5555,1,18,22101,2,20151117,2002,24.2475,141.1802,1893,254.7,253,17.4699,34.7580,2,-999.,9,210.93,2,3.55,2,3.83,2,0.01,2,0.26,2,-999.,9,-999.,9,-999.,9,-999,9,-999,9
49UP20151115,RF15-09,5555,1,19,22092,2,20151117,2002,24.2475,141.1802,1893,255.8,254,17.4658,34.7580,2,-999.,9,210.58,2,3.58,2,3.82,2,0.01,2,0.26,2,-999.,9,-999.,9,-999.,9,-999,9,-999,9
49UP20151115,RF15-09,5555,1,17,22090,2,20151117,2000,24.2475,141.1802,1893,306.3,304,16.9443,34.7302,2,-999.,9,215.34,2,3.98,2,4.27,2,0.01,2,0.29,2,-999.,9,-999.,9,-999.,9,-999,9,-999,9
49UP20151115,RF15-09,5555,1,16,22089,2,20151117,1957,24.2475,141.1802,1893,404.8,402,15.2595,34.5730,2,-999.,9,198.83,2,8.30,2,8.30,2,0.00,2,0.56,2,-999.,9,-999.,9,-999.,9,-999,9,-999,9
49UP20151115,RF15-09,5555,1,15,22088,2,20151117,1954,24.2475,141.1802,1893,506.3,502,12.4998,34.3647,2,-999.,9,188.10,2,16.53,2,13.79,2,0.00,2,0.96,2,-999.,9,-999.,9,-999.,9,-999,9,-999,9
49UP20151115,RF15-09,5555,1,14,21999,2,20151117,1951,24.2475,141.1802,1893,606.8,602,9.6254,34.1891,2,-999.,9,165.84,2,31.45,2,20.85,2,0.00,2,1.47,2,-999.,9,-999.,9,-999.,9,-999,9,-999,9
49UP20151115,RF15-09,5555,1,13,22667,2,20151117,1946,24.2475,141.1802,1893,709.7,704,7.1738,34.1136,2,-999.,9,125.94,2,53.41,2,28.82,2,0.00,2,2.06,2,-999.,9,-999.,9,-999.,9,-999,9,-999,9
49UP20151115,RF15-09,5555,1,9,23518,2,20151117,1942,24.2475,141.1802,1893,811.1,804,5.1874,34.1724,2,-999.,9,81.13,2,84.89,2,36.20,2,0.00,2,2.59,2,-999.,9,-999.,9,-999.,9,-999,9,-999,9
49UP20151115,RF15-09,5555,1,8,22081,2,20151117,1939,24.2475,141.1802,1893,911.4,904,4.6138,34.2386,2,-999.,9,66.21,2,97.68,2,38.45,2,0.00,2,2.75,2,-999.,9,-999.,9,-999.,9,-999,9,-999,9
49UP20151115,RF15-09,5555,1,7,23516,2,20151117,1937,24.2475,141.1802,1893,1014.7,1006,4.0967,34.3171,2,-999.,9,57.33,2,109.80,2,39.95,2,0.00,2,2.85,2,-999.,9,-999.,9,-999.,9,-999,9,-999,9
49UP20151115,RF15-09,5555,1,6,22113,2,20151117,1932,24.2475,141.1802,1893,1214.4,1203,3.2737,34.4170,2,-999.,9,59.40,2,128.24,2,40.73,2,0.00,2,2.89,2,-999.,9,-999.,9,-999.,9,-999,9,-999,9
49UP20151115,RF15-09,5555,1,5,24658,2,20151117,1925,24.2475,141.1802,1893,1416.1,1402,2.8417,34.4895,2,-999.,9,68.52,2,136.31,2,40.57,2,0.00,2,2.87,2,-999.,9,-999.,9,-999.,9,-999,9,-999,9
49UP20151115,RF15-09,5555,1,4,24471,2,20151117,1921,24.2475,141.1802,1893,1618.2,1602,2.4872,34.5463,2,-999.,9,85.47,6,140.12,6,39.74,6,0.00,6,2.80,6,-999.,9,-999.,9,-999.,9,-999,9,-999,9
49UP20151115,RF15-09,5555,1,2,22075,2,20151117,1916,24.2475,141.1802,1893,1820.4,1801,2.2271,34.5867,2,-999.,9,100.71,2,141.52,2,38.90,2,0.00,2,2.73,2,-999.,9,-999.,9,-999.,9,-999,9,-999,9
49UP20151115,RF15-09,5555,1,3,22104,2,20151117,1917,24.2475,141.1802,1893,1820.8,1801,2.2266,34.5868,2,-999.,9,100.54,2,141.59,2,38.95,2,0.00,2,2.73,2,-999.,9,-999.,9,-999.,9,-999,9,-999,9
49UP20151115,RF15-09,5555,1,1,21997,2,20151117,1914,24.2475,141.1802,1893,1878.4,1858,2.1519,34.5964,2,-999.,9,104.65,2,141.91,2,38.73,2,0.00,2,2.71,2,-999.,9,-999.,9,-999.,9,-999,9,-999,9
49UP20151115,RF15-09,5557,1,-999,0,2,20151118,0330,24.2572,140.2573,4054,0.0,0,28.4177,34.9782,2,34.9809,2,198.26,2,0.93,2,0.01,2,0.01,2,0.01,2,1956.4,2,2296.8,2,8.1132,2,-999,9,-999,9
49UP20151115,RF15-09,5557,1,33,24469,2,20151118,0356,24.2572,140.2573,4054,10.2,10,28.3886,34.9764,2,34.9754,2,198.30,2,0.87,2,0.00,2,0.00,2,0.01,2,1955.6,2,2297.8,2,8.1165,2,-999,9,-999,9
49UP20151115,RF15-09,5557,1,32,22105,2,20151118,0355,24.2572,140.2573,4054,25.4,25,28.3309,34.9744,2,34.9735,2,198.54,2,0.95,2,0.01,2,0.00,2,0.01,2,1955.7,2,2298.1,2,8.1169,2,-999,9,-999,9
49UP20151115,RF15-09,5557,1,31,23515,2,20151118,0353,24.2572,140.2573,4054,50.5,50,28.3282,34.9750,2,34.9748,2,198.15,2,0.82,2,0.01,2,0.00,2,0.01,2,1956.2,2,2298.9,2,8.1167,2,-999,9,-999,9
49UP20151115,RF15-09,5557,1,27,21998,2,20151118,0352,24.2572,140.2573,4054,76.5,76,28.3210,34.9722,2,34.9742,2,198.39,2,0.97,2,0.03,2,0.00,2,0.02,2,1956.8,2,2296.2,2,8.1135,2,-999,9,-999,9
49UP20151115,RF15-09,5557,1,26,22084,2,20151118,0349,24.2572,140.2573,4054,100.2,100,25.9861,35.1707,2,35.1759,2,209.04,2,1.03,2,0.01,2,0.00,2,0.02,2,1985.3,2,2307.9,2,8.0964,2,-999,9,-999,9
49UP20151115,RF15-09,5557,1,25,22098,2,20151118,0347,24.2572,140.2573,4054,127.2,126,23.8582,35.1252,2,35.1413,4,207.12,2,1.21,2,0.03,2,0.02,2,0.03,2,1998.1,2,2308.7,2,8.0606,2,-999,9,-999,9
49UP20151115,RF15-09,5557,1,21,22078,2,20151118,0345,24.2572,140.2573,4054,151.0,150,22.0642,35.0301,2,35.0369,2,199.69,2,1.59,2,0.60,2,0.10,2,0.08,2,2016.1,2,2298.0,2,8.0221,2,-999,9,-999,9
49UP20151115,RF15-09,5557,1,20,22093,2,20151118,0343,24.2572,140.2573,4054,203.3,202,19.2357,34.8849,2,34.8885,2,194.93,2,2.56,2,2.86,2,0.01,2,0.21,2,2036.9,2,2290.7,2,7.9648,2,-999,9,-999,9
49UP20151115,RF15-09,5557,1,19,22092,2,20151118,0341,24.2572,140.2573,4054,251.5,250,18.0676,34.7889,2,34.7909,2,205.48,2,3.19,2,3.54,2,0.01,2,0.25,2,2032.4,6,2283.3,6,7.9651,2,-999,9,-999,9
49UP20151115,RF15-09,5557,1,18,22101,2,20151118,0339,24.2572,140.2573,4054,302.0,300,16.9561,34.6999,2,34.6987,2,200.63,2,4.63,2,5.49,2,0.00,2,0.37,2,2048.8,2,2278.7,2,7.9293,6,-999,9,-999,9
49UP20151115,RF15-09,5557,1,17,22090,2,20151118,0336,24.2572,140.2573,4054,403.4,400,13.9006,34.4655,2,34.4646,2,187.07,2,12.19,2,11.51,2,0.00,2,0.79,2,2089.7,2,2272.2,2,7.8318,2,-999,9,-999,9
49UP20151115,RF15-09,5557,1,16,22089,2,20151118,0334,24.2572,140.2573,4054,504.2,500,10.7457,34.2639,2,34.2641,2,171.79,6,25.82,6,18.35,6,0.00,6,1.28,6,2134.3,2,2275.3,2,7.7266,2,-999,9,-999,9
49UP20151115,RF15-09,5557,1,15,22088,2,20151118,0331,24.2572,140.2573,4054,605.4,601,8.3693,34.1494,2,34.1529,2,145.18,2,42.50,2,25.05,2,0.00,2,1.78,2,2195.7,3,2284.2,2,7.6190,2,-999,9,-999,9
49UP20151115,RF15-09,5557,1,14,21999,2,20151118,0331,24.2572,140.2573,4054,605.5,601,8.3692,34.1491,2,34.1557,2,145.28,2,42.54,2,25.05,2,0.00,2,1.78,2,2187.3,2,2282.8,2,7.6173,2,-999,9,-999,9
49UP20151115,RF15-09,5557,1,13,22667,3,20151118,0322,24.2572,140.2573,4054,706.0,700,6.5202,34.1420,2,34.1418,2,109.70,2,64.71,2,31.47,2,0.00,2,2.25,2,2241.6,2,2301.1,2,7.5155,2,-999,9,-999,9
49UP20151115,RF15-09,5557,1,9,23518,2,20151118,0318,24.2572,140.2573,4054,805.6,799,5.4509,34.1888,2,34.1907,2,83.25,2,81.95,2,35.63,2,0.00,2,2.54,2,2280.3,6,2320.4,6,7.4522,2,-999,9,-999,9
49UP20151115,RF15-09,5557,1,8,22081,2,20151118,0316,24.2572,140.2573,4054,907.9,900,4.6187,34.2564,2,34.2556,2,68.68,2,98.93,2,38.19,2,0.00,2,2.73,2,2314.5,2,2335.9,2,7.4154,6,-999,9,-999,9
49UP20151115,RF15-09,5557,1,7,23516,2,20151118,0313,24.2572,140.2573,4054,1009.0,1000,4.0851,34.3375,2,34.3369,2,60.53,2,110.01,2,39.75,2,0.00,2,2.83,2,2327.5,2,2355.0,2,7.4071,2,-999,9,-999,9
49UP20151115,RF15-09,5557,1,6,22113,2,20151118,0308,24.2572,140.2573,4054,1210.6,1199,3.3594,34.4357,2,34.4346,6,61.49,2,125.30,2,40.68,2,0.00,2,2.89,2,2346.6,2,2373.2,2,7.4090,2,-999,9,-999,9
49UP20151115,RF15-09,5557,1,5,24658,2,20151118,0259,24.2572,140.2573,4054,1414.1,1400,2.8325,34.4994,2,34.5006,2,70.90,6,135.98,6,40.59,6,0.00,6,2.88,6,2355.5,2,2390.2,2,7.4293,2,-999,9,-999,9
49UP20151115,RF15-09,5557,1,4,24471,2,20151118,0254,24.2572,140.2573,4054,1616.8,1600,2.5592,34.5409,2,34.5447,4,83.18,2,139.39,2,39.95,2,0.00,2,2.82,2,2351.9,2,2395.6,2,7.4540,2,-999,9,-999,9
49UP20151115,RF15-09,5557,1,3,22104,2,20151118,0254,24.2572,140.2573,4054,1617.4,1601,2.5576,34.5412,2,34.5387,2,82.70,2,139.40,2,39.93,2,0.00,2,2.82,2,2355.2,2,2396.1,2,7.4505,2,-999,9,-999,9
49UP20151115,RF15-09,5557,1,2,22075,2,20151118,0249,24.2572,140.2573,4054,1821.5,1802,2.2328,34.5858,2,34.6137,4,99.66,2,141.71,2,39.04,2,0.00,2,2.74,2,2352.0,2,2406.1,2,7.4872,2,-999,9,-999,9
49UP20151115,RF15-09,5557,1,1,21997,2,20151118,0242,24.2572,140.2573,4054,2021.9,1999,2.0524,34.6095,2,34.6100,6,110.24,2,142.47,2,38.45,2,0.00,2,2.69,2,2345.1,2,2405.4,2,7.5069,2,-999,9,-999,9
49UP20151115,RF15-09,5559,1,-999,0,2,20151118,1431,24.2483,138.5573,5004,0.0,0,27.5561,34.9143,2,-999.,9,201.32,2,1.13,2,0.01,2,0.00,2,0.02,2,-999.,9,-999.,9,-999.,9,-999,9,-999,9
49UP20151115,RF15-09,5559,1,33,24469,2,20151118,1457,24.2483,138.5573,5004,11.2,11,27.5667,34.9135,2,-999.,9,201.09,2,1.14,2,0.00,2,0.00,2,0.01,2,-999.,9,-999.,9,-999.,9,-999,9,-999,9
49UP20151115,RF15-09,5559,1,32,22105,2,20151118,1456,24.2483,138.5573,5004,26.8,27,27.5704,34.9169,2,-999.,9,201.40,2,1.14,2,0.00,2,0.00,2,0.02,2,-999.,9,-999.,9,-999.,9,-999,9,-999,9
49UP20151115,RF15-09,5559,1,31,23515,2,20151118,1452,24.2483,138.5573,5004,52.0,52,26.4421,34.9513,2,-999.,9,206.57,2,1.20,2,0.02,2,0.00,2,0.02,2,-999.,9,-999.,9,-999.,9,-999,9,-999,9
49UP20151115,RF15-09,5559,1,27,21998,2,20151118,1450,24.2483,138.5573,5004,77.1,77,23.4052,34.9908,2,-999.,9,210.98,2,1.46,2,0.02,2,0.00,2,0.03,2,-999.,9,-999.,9,-999.,9,-999,9,-999,9
49UP20151115,RF15-09,5559,1,26,22084,2,20151118,1449,24.2483,138.5573,5004,101.1,100,20.5371,34.9019,2,-999.,9,205.35,2,1.87,2,0.54,2,0.12,2,0.08,2,-999.,9,-999.,9,-999.,9,-999,9,-999,9
49UP20151115,RF15-09,5559,1,25,22098,2,20151118,1447,24.2483,138.5573,5004,127.2,126,19.1620,34.8477,2,-999.,9,201.43,2,2.48,2,2.42,2,0.02,2,0.17,2,-999.,9,-999.,9,-999.,9,-999,9,-999,9
49UP20151115,RF15-09,5559,1,21,22078,2,20151118,1446,24.2483,138.5573,5004,151.6,151,18.4965,34.8179,2,-999.,9,202.95,6,2.79,6,3.14,6,0.01,6,0.22,6,-999.,9,-999.,9,-999.,9,-999,9,-999,9
49UP20151115,RF15-09,5559,1,20,22093,2,20151118,1443,24.2483,138.5573,5004,201.0,200,17.6645,34.7590,2,-999.,9,203.42,2,3.64,2,4.30,2,0.01,2,0.29,2,-999.,9,-999.,9,-999.,9,-999,9,-999,9
49UP20151115,RF15-09,5559,1,19,22092,2,20151118,1443,24.2483,138.5573,5004,201.2,200,17.6640,34.7586,2,-999.,9,203.52,2,3.60,2,4.27,2,0.01,2,0.29,2,-999.,9,-999.,9,-999.,9,-999,9,-999,9
49UP20151115,RF15-09,5559,1,18,22101,2,20151118,1441,24.2483,138.5573,5004,252.6,251,16.8951,34.7037,2,-999.,9,204.12,2,4.63,2,5.38,2,0.01,2,0.36,2,-999.,9,-999.,9,-999.,9,-999,9,-999,9
49UP20151115,RF15-09,5559,1,17,22090,2,20151118,1439,24.2483,138.5573,5004,302.8,301,16.1359,34.6436,2,-999.,9,198.81,2,6.51,2,7.07,2,0.01,2,0.48,2,-999.,9,-999.,9,-999.,9,-999,9,-999,9
49UP20151115,RF15-09,5559,1,16,22089,2,20151118,1435,24.2483,138.5573,5004,405.5,403,13.2319,34.4141,2,-999.,9,184.34,2,13.66,2,12.68,2,0.00,2,0.88,2,-999.,9,-999.,9,-999.,9,-999,9,-999,9
49UP20151115,RF15-09,5559,1,15,22088,2,20151118,1432,24.2483,138.5573,5004,504.7,501,10.6931,34.2581,2,-999.,9,163.85,2,24.69,2,18.94,2,0.00,2,1.34,2,-999.,9,-999.,9,-999.,9,-999,9,-999,9
49UP20151115,RF15-09,5559,1,14,21999,2,20151118,1429,24.2483,138.5573,5004,607.5,603,7.9692,34.1504,2,-999.,9,127.44,2,45.73,2,27.32,2,0.00,2,1.95,2,-999.,9,-999.,9,-999.,9,-999,9,-999,9
49UP20151115,RF15-09,5559,1,13,22667,2,20151118,1424,24.2483,138.5573,5004,707.3,702,6.5629,34.1606,2,-999.,9,92.70,2,62.70,2,33.03,2,0.00,2,2.37,2,-999.,9,-999.,9,-999.,9,-999,9,-999,9
49UP20151115,RF15-09,5559,1,9,23518,2,20151118,1420,24.2483,138.5573,5004,809.5,803,5.1591,34.2149,2,-999.,9,71.56,2,86.87,2,37.22,2,0.00,2,2.67,2,-999.,9,-999.,9,-999.,9,-999,9,-999,9
49UP20151115,RF15-09,5559,1,8,22081,2,20151118,1416,24.2483,138.5573,5004,909.7,902,4.3770,34.3037,2,-999.,9,59.50,2,103.55,2,39.51,2,0.00,2,2.82,2,-999.,9,-999.,9,-999.,9,-999,9,-999,9
49UP20151115,RF15-09,5559,1,7,23516,2,20151118,1413,24.2483,138.5573,5004,1014.1,1005,3.8517,34.3659,2,-999.,9,56.47,2,115.31,2,40.42,2,0.00,2,2.89,2,-999.,9,-999.,9,-999.,9,-999,9,-999,9
49UP20151115,RF15-09,5559,1,6,22113,2,20151118,1407,24.2483,138.5573,5004,1214.6,1203,3.1704,34.4553,2,-999.,9,62.06,6,130.04,6,40.88,6,0.00,6,2.91,6,-999.,9,-999.,9,-999.,9,-999,9,-999,9
49UP20151115,RF15-09,5559,1,4,24471,2,20151118,1358,24.2483,138.5573,5004,1418.5,1405,2.7527,34.5144,2,-999.,9,75.54,2,137.00,2,40.30,2,0.00,2,2.84,2,-999.,9,-999.,9,-999.,9,-999,9,-999,9
49UP20151115,RF15-09,5559,1,5,24658,2,20151118,1358,24.2483,138.5573,5004,1419.9,1406,2.7524,34.5146,2,-999.,9,75.08,2,137.03,2,40.32,2,0.00,2,2.85,2,-999.,9,-999.,9,-999.,9,-999,9,-999,9
49UP20151115,RF15-09,5559,1,3,22104,2,20151118,1352,24.2483,138.5573,5004,1619.8,1603,2.4345,34.5587,2,-999.,9,89.96,2,140.36,2,39.54,2,0.00,2,2.78,2,-999.,9,-999.,9,-999.,9,-999,9,-999,9
49UP20151115,RF15-09,5559,1,2,22075,2,20151118,1345,24.2483,138.5573,5004,1822.4,1803,2.1596,34.5965,2,-999.,9,104.90,2,141.65,2,38.68,2,0.00,2,2.71,2,-999.,9,-999.,9,-999.,9,-999,9,-999,9
49UP20151115,RF15-09,5559,1,1,21997,2,20151118,1340,24.2483,138.5573,5004,2023.7,2001,1.9913,34.6184,2,-999.,9,114.66,2,142.59,2,38.20,2,0.00,2,2.67,2,-999.,9,-999.,9,-999.,9,-999,9,-999,9