BOTTLE,20171117JMAGEMD
EXPOCODE,SECT_ID,STNNBR,CASTNO,SAMPNO,BTLNBR,BTLNBR_FLAG_W,DATE,TIME,LATITUDE,LONGITUDE,DEPTH,CTDPRS,CTDDEP,CTDTMP,CTDSAL,CTDSAL_FLAG_W,SALNTY,SALNTY_FLAG_W,OXYGEN,OXYGEN_FLAG_W,SILCAT,SILCAT_FLAG_W,NO2+NO3,NO2+NO3_FLAG_W,NITRIT,NITRIT_FLAG_W,PHSPHT,PHSPHT_FLAG_W,TCARBN,TCARBN_FLAG_W,ALKALI,ALKALI_FLAG_W,PH_TOT,PH_TOT_FLAG_W,CFC-11,CFC-11_FLAG_W,CFC-12,CFC-12_FLAG_W
,,,,,,,UTC,UTC,,,METER,DBAR,METERS,ITS-90,PSS-78,,PSS-78,,UMOL/KG,,UMOL/KG,,UMOL/KG,,UMOL/KG,,UMOL/KG,,UMOL/KG,,UMOL/KG,,@25DEG-C,,PMOL/KG,,PMOL/KG,
49UP20151115,RF15-09,5581,1,-999,0,2,20151122,1610,25.4887,128.7297,7132,0.0,0,26.8913,34.7913,2,-999.0000,9,202.10,2,1.19,2,0.04,2,0.00,2,0.02,2,-999.,9,-999.,9,-999.,9,-999,9,-999,9
49UP20151115,RF15-09,5581,1,36,22109,2,20151122,1634,25.4887,128.7297,7132,10.8,11,26.8950,34.7913,2,34.7897,2,201.97,2,1.17,2,0.04,2,0.00,2,0.02,2,-999.,9,-999.,9,-999.,9,-999,9,-999,9
49UP20151115,RF15-09,5581,1,35,22112,2,20151122,1632,25.4887,128.7297,7132,26.5,26,26.9058,34.7908,2,34.7892,2,202.26,2,1.17,2,0.01,2,0.00,2,0.02,2,-999.,9,-999.,9,-999.,9,-999,9,-999,9
49UP20151115,RF15-09,5581,1,34,22094,2,20151122,1631,25.4887,128.7297,7132,51.2,51,26.9113,34.7913,2,34.7899,2,201.87,2,1.17,2,0.00,2,0.00,2,0.03,2,-999.,9,-999.,9,-999.,9,-999,9,-999,9
49UP20151115,RF15-09,5581,1,33,24469,2,20151122,1629,25.4887,128.7297,7132,75.7,75,26.8934,34.7943,2,34.7933,2,202.04,2,1.17,2,0.02,2,0.00,2,0.02,2,-999.,9,-999.,9,-999.,9,-999,9,-999,9
49UP20151115,RF15-09,5581,1,32,22105,2,20151122,1625,25.4887,128.7297,7132,102.6,102,25.4749,34.8936,2,34.8949,2,204.98,2,1.34,2,0.00,2,0.00,2,0.03,2,-999.,9,-999.,9,-999.,9,-999,9,-999,9
49UP20151115,RF15-09,5581,1,31,23515,2,20151122,1624,25.4887,128.7297,7132,126.5,126,22.7246,35.0514,2,35.0542,2,193.18,2,1.58,2,0.91,2,0.03,2,0.09,2,-999.,9,-999.,9,-999.,9,-999,9,-999,9
49UP20151115,RF15-09,5581,1,30,22097,2,20151122,1623,25.4887,128.7297,7132,151.7,151,21.2437,34.9801,2,34.9634,4,196.34,2,1.88,2,1.39,2,0.02,2,0.12,2,-999.,9,-999.,9,-999.,9,-999,9,-999,9
49UP20151115,RF15-09,5581,1,29,22102,2,20151122,1621,25.4887,128.7297,7132,202.0,201,19.0926,34.8397,2,34.8384,2,205.79,6,2.41,6,2.27,6,0.01,6,0.17,6,-999.,9,-999.,9,-999.,9,-999,9,-999,9
49UP20151115,RF15-09,5581,1,28,22108,2,20151122,1620,25.4887,128.7297,7132,252.7,251,18.4977,34.8250,2,34.8231,2,210.42,2,2.70,2,2.63,2,0.01,2,0.19,2,-999.,9,-999.,9,-999.,9,-999,9,-999,9
49UP20151115,RF15-09,5581,1,27,21998,2,20151122,1618,25.4887,128.7297,7132,304.2,302,17.8593,34.7739,2,34.7739,2,204.61,2,3.58,2,4.00,2,0.01,2,0.27,2,-999.,9,-999.,9,-999.,9,-999,9,-999,9
49UP20151115,RF15-09,5581,1,26,22084,2,20151122,1615,25.4887,128.7297,7132,403.5,401,15.6192,34.5976,2,34.5885,4,190.63,2,8.48,2,8.76,2,0.00,2,0.59,2,-999.,9,-999.,9,-999.,9,-999,9,-999,9
49UP20151115,RF15-09,5581,1,25,22098,2,20151122,1613,25.4887,128.7297,7132,502.9,499,13.0196,34.4127,2,34.4091,2,177.63,2,16.63,2,13.99,2,0.00,2,0.97,2,-999.,9,-999.,9,-999.,9,-999,9,-999,9
49UP20151115,RF15-09,5581,1,24,22110,2,20151122,1610,25.4887,128.7297,7132,606.1,601,10.0840,34.2567,2,34.2568,2,148.43,2,31.75,2,21.56,2,0.00,2,1.53,2,-999.,9,-999.,9,-999.,9,-999,9,-999,9
49UP20151115,RF15-09,5581,1,23,22096,2,20151122,1606,25.4887,128.7297,7132,705.1,699,7.2769,34.2418,2,34.2419,2,106.91,2,62.29,2,30.40,2,0.00,2,2.18,2,-999.,9,-999.,9,-999.,9,-999,9,-999,9
49UP20151115,RF15-09,5581,1,22,22111,3,20151122,1603,25.4887,128.7297,7132,807.4,801,5.8786,34.2874,2,34.2877,2,85.71,2,81.58,2,34.61,2,0.00,2,2.48,2,-999.,9,-999.,9,-999.,9,-999,9,-999,9
49UP20151115,RF15-09,5581,1,21,22078,2,20151122,1600,25.4887,128.7297,7132,907.5,900,4.5240,34.2970,2,34.2966,2,66.85,2,103.23,2,38.39,2,0.00,2,2.74,2,-999.,9,-999.,9,-999.,9,-999,9,-999,9
49UP20151115,RF15-09,5581,1,20,22093,2,20151122,1558,25.4887,128.7297,7132,1010.0,1001,3.9975,34.3948,2,34.3925,2,67.38,2,114.63,2,39.14,2,0.00,2,2.78,2,-999.,9,-999.,9,-999.,9,-999,9,-999,9
49UP20151115,RF15-09,5581,1,19,22092,2,20151122,1553,25.4887,128.7297,7132,1212.1,1201,3.0275,34.4626,2,34.4117,4,65.62,6,121.57,3,39.70,6,0.00,6,2.82,6,-999.,9,-999.,9,-999.,9,-999,9,-999,9
49UP20151115,RF15-09,5581,1,18,22101,2,20151122,1546,25.4887,128.7297,7132,1415.8,1402,2.6108,34.5168,2,34.5151,2,75.53,2,140.42,2,40.21,2,0.00,2,2.84,2,-999.,9,-999.,9,-999.,9,-999,9,-999,9
49UP20151115,RF15-09,5581,1,17,22090,2,20151122,1541,25.4887,128.7297,7132,1617.2,1601,2.3411,34.5587,2,34.5583,2,89.24,2,142.89,2,39.51,2,0.00,2,2.78,2,-999.,9,-999.,9,-999.,9,-999,9,-999,9
49UP20151115,RF15-09,5581,1,16,22089,3,20151122,1534,25.4887,128.7297,7132,1820.5,1801,2.1086,34.5934,2,34.5918,2,103.99,2,143.05,2,38.71,2,0.00,2,2.71,2,-999.,9,-999.,9,-999.,9,-999,9,-999,9
49UP20151115,RF15-09,5581,1,15,22088,2,20151122,1528,25.4887,128.7297,7132,2023.4,2001,1.9416,34.6188,2,34.6182,2,115.62,2,143.37,2,38.10,2,0.00,2,2.67,2,-999.,9,-999.,9,-999.,9,-999,9,-999,9
49UP20151115,RF15-09,5581,1,14,21999,2,20151122,1522,25.4887,128.7297,7132,2276.7,2250,1.7796,34.6419,2,34.6403,2,127.43,2,143.16,2,37.39,2,0.00,2,2.61,2,-999.,9,-999.,9,-999.,9,-999,9,-999,9
49UP20151115,RF15-09,5581,1,13,22667,2,20151122,1514,25.4887,128.7297,7132,2532.6,2501,1.6675,34.6559,2,34.6550,2,135.43,2,143.10,2,37.00,2,0.00,2,2.57,2,-999.,9,-999.,9,-999.,9,-999,9,-999,9
49UP20151115,RF15-09,5581,1,12,22074,2,20151122,1508,25.4887,128.7297,7132,2786.2,2750,1.6064,34.6642,2,34.6636,2,140.61,2,142.70,2,36.63,2,0.00,2,2.54,2,-999.,9,-999.,9,-999.,9,-999,9,-999,9
49UP20151115,RF15-09,5581,1,11,24268,2,20151122,1500,25.4887,128.7297,7132,3042.2,3001,1.5745,34.6697,2,34.6692,2,144.27,6,142.60,6,36.45,6,0.00,6,2.52,6,-999.,9,-999.,9,-999.,9,-999,9,-999,9
49UP20151115,RF15-09,5581,1,10,24267,3,20151122,1454,25.4887,128.7297,7132,3297.0,3250,1.5591,34.6734,2,34.6723,2,146.61,2,142.17,2,36.23,2,0.00,2,2.51,2,-999.,9,-999.,9,-999.,9,-999,9,-999,9
49UP20151115,RF15-09,5581,1,9,23518,2,20151122,1446,25.4887,128.7297,7132,3554.6,3502,1.5522,34.6764,2,34.6766,6,149.38,2,142.06,2,36.12,2,0.00,2,2.50,2,-999.,9,-999.,9,-999.,9,-999,9,-999,9
49UP20151115,RF15-09,5581,1,8,22081,2,20151122,1439,25.4887,128.7297,7132,3808.8,3750,1.5616,34.6781,2,34.6773,2,150.23,2,141.72,2,36.05,2,0.00,2,2.49,2,-999.,9,-999.,9,-999.,9,-999,9,-999,9
49UP20151115,RF15-09,5581,1,7,23516,2,20151122,1433,25.4887,128.7297,7132,4065.1,4001,1.5747,34.6795,2,34.6786,2,151.56,2,141.64,2,36.00,2,0.00,2,2.49,2,-999.,9,-999.,9,-999.,9,-999,9,-999,9
49UP20151115,RF15-09,5581,1,6,22113,2,20151122,1422,25.4887,128.7297,7132,4578.1,4500,1.6135,34.6814,2,34.6812,2,153.93,2,141.17,2,35.83,2,0.00,2,2.48,2,-999.,9,-999.,9,-999.,9,-999,9,-999,9
49UP20151115,RF15-09,5581,1,5,24658,2,20151122,1411,25.4887,128.7297,7132,5093.4,5001,1.6659,34.6824,2,34.6823,2,154.89,2,140.81,2,35.81,2,0.00,2,2.48,2,-999.,9,-999.,9,-999.,9,-999,9,-999,9
49UP20151115,RF15-09,5581,1,4,24471,2,20151122,1405,25.4887,128.7297,7132,5352.1,5252,1.6982,34.6824,2,34.6830,2,155.07,2,140.64,2,35.77,2,0.00,2,2.48,2,-999.,9,-999.,9,-999.,9,-999,9,-999,9
49UP20151115,RF15-09,5581,1,3,22104,2,20151122,1400,25.4887,128.7297,7132,5606.1,5498,1.7318,34.6825,2,34.6830,6,154.96,2,141.04,2,35.79,2,0.00,2,2.47,2,-999.,9,-999.,9,-999.,9,-999,9,-999,9
49UP20151115,RF15-09,5581,1,2,22075,2,20151122,1354,25.4887,128.7297,7132,5866.9,5751,1.7677,34.6823,2,34.6826,2,155.01,2,140.68,2,35.74,2,0.00,2,2.47,2,-999.,9,-999.,9,-999.,9,-999,9,-999,9
49UP20151115,RF15-09,5581,1,1,21997,2,20151122,1348,25.4887,128.7297,7132,6128.8,6004,1.8046,34.6822,2,34.6818,6,154.85,6,140.75,6,35.76,6,0.00,6,2.48,6,-999.,9,-999.,9,-999.,9,-999,9,-999,9
49UP20151115,RF15-09,5584,1,-999,0,2,20151123,0130,25.8667,128.1433,2142,0.0,0,26.7687,34.7764,2,-999.,9,202.24,2,-999.,9,-999.,9,-999.,9,-999.,9,-999.,9,-999.,9,-999.,9,-999,9,-999,9
49UP20151115,RF15-09,5584,1,33,24469,2,20151123,0155,25.8667,128.1433,2142,12.1,12,26.7713,34.7763,2,-999.,9,201.97,2,-999.,9,-999.,9,-999.,9,-999.,9,-999.,9,-999.,9,-999.,9,-999,9,-999,9
49UP20151115,RF15-09,5584,1,32,22105,2,20151123,0153,25.8667,128.1433,2142,26.4,26,26.7694,34.7757,2,-999.,9,202.15,2,-999.,9,-999.,9,-999.,9,-999.,9,-999.,9,-999.,9,-999.,9,-999,9,-999,9
49UP20151115,RF15-09,5584,1,31,23515,2,20151123,0152,25.8667,128.1433,2142,52.7,52,26.7734,34.7756,2,-999.,9,202.22,2,-999.,9,-999.,9,-999.,9,-999.,9,-999.,9,-999.,9,-999.,9,-999,9,-999,9
49UP20151115,RF15-09,5584,1,27,21998,2,20151123,0150,25.8667,128.1433,2142,77.5,77,26.7740,34.7745,2,-999.,9,202.07,2,-999.,9,-999.,9,-999.,9,-999.,9,-999.,9,-999.,9,-999.,9,-999,9,-999,9
49UP20151115,RF15-09,5584,1,26,22084,2,20151123,0147,25.8667,128.1433,2142,101.4,101,24.7557,34.8740,2,-999.,9,203.27,2,-999.,9,-999.,9,-999.,9,-999.,9,-999.,9,-999.,9,-999.,9,-999,9,-999,9
49UP20151115,RF15-09,5584,1,25,22098,2,20151123,0146,25.8667,128.1433,2142,126.4,126,22.6761,34.9031,2,-999.,9,197.50,2,-999.,9,-999.,9,-999.,9,-999.,9,-999.,9,-999.,9,-999.,9,-999,9,-999,9
49UP20151115,RF15-09,5584,1,21,22078,2,20151123,0144,25.8667,128.1433,2142,153.2,152,21.1623,34.8910,2,-999.,9,195.95,2,-999.,9,-999.,9,-999.,9,-999.,9,-999.,9,-999.,9,-999.,9,-999,9,-999,9
49UP20151115,RF15-09,5584,1,20,22093,2,20151123,0142,25.8667,128.1433,2142,202.6,201,18.7281,34.8216,2,-999.,9,201.04,2,-999.,9,-999.,9,-999.,9,-999.,9,-999.,9,-999.,9,-999.,9,-999,9,-999,9
49UP20151115,RF15-09,5584,1,19,22092,4,20151123,0141,25.8667,128.1433,2142,256.5,255,17.8142,34.7650,2,-999.,9,-999.00,9,-999.,9,-999.,9,-999.,9,-999.,9,-999.,9,-999.,9,-999.,9,-999,9,-999,9
49UP20151115,RF15-09,5584,1,18,22101,2,20151123,0139,25.8667,128.1433,2142,305.2,303,16.8831,34.6951,2,-999.,9,198.72,6,-999.,9,-999.,9,-999.,9,-999.,9,-999.,9,-999.,9,-999.,9,-999,9,-999,9
49UP20151115,RF15-09,5584,1,16,22089,2,20151123,0136,25.8667,128.1433,2142,405.3,402,14.5313,34.5158,2,-999.,9,184.63,2,-999.,9,-999.,9,-999.,9,-999.,9,-999.,9,-999.,9,-999.,9,-999,9,-999,9
49UP20151115,RF15-09,5584,1,17,22090,2,20151123,0136,25.8667,128.1433,2142,406.6,404,14.4850,34.5140,2,-999.,9,184.48,2,-999.,9,-999.,9,-999.,9,-999.,9,-999.,9,-999.,9,-999.,9,-999,9,-999,9
49UP20151115,RF15-09,5584,1,15,22088,2,20151123,0133,25.8667,128.1433,2142,506.9,503,11.5314,34.3378,2,-999.,9,161.79,2,-999.,9,-999.,9,-999.,9,-999.,9,-999.,9,-999.,9,-999.,9,-999,9,-999,9
49UP20151115,RF15-09,5584,1,14,21999,2,20151123,0131,25.8667,128.1433,2142,607.1,602,8.8915,34.2590,2,-999.,9,128.06,2,-999.,9,-999.,9,-999.,9,-999.,9,-999.,9,-999.,9,-999.,9,-999,9,-999,9
49UP20151115,RF15-09,5584,1,13,22667,2,20151123,0128,25.8667,128.1433,2142,707.0,701,6.8927,34.2429,2,-999.,9,100.87,2,-999.,9,-999.,9,-999.,9,-999.,9,-999.,9,-999.,9,-999.,9,-999,9,-999,9
49UP20151115,RF15-09,5584,1,9,23518,2,20151123,0124,25.8667,128.1433,2142,809.4,803,5.5611,34.3055,2,-999.,9,81.63,2,-999.,9,-999.,9,-999.,9,-999.,9,-999.,9,-999.,9,-999.,9,-999,9,-999,9
49UP20151115,RF15-09,5584,1,8,22081,2,20151123,0121,25.8667,128.1433,2142,910.7,903,4.3233,34.3482,2,-999.,9,66.33,2,-999.,9,-999.,9,-999.,9,-999.,9,-999.,9,-999.,9,-999.,9,-999,9,-999,9
49UP20151115,RF15-09,5584,1,7,23516,2,20151123,0118,25.8667,128.1433,2142,1011.3,1002,3.6399,34.4145,2,-999.,9,64.75,2,-999.,9,-999.,9,-999.,9,-999.,9,-999.,9,-999.,9,-999.,9,-999,9,-999,9
49UP20151115,RF15-09,5584,1,6,22113,2,20151123,0113,25.8667,128.1433,2142,1214.3,1203,2.9086,34.4766,2,-999.,9,67.33,6,-999.,9,-999.,9,-999.,9,-999.,9,-999.,9,-999.,9,-999.,9,-999,9,-999,9
49UP20151115,RF15-09,5584,1,5,24658,2,20151123,0105,25.8667,128.1433,2142,1417.6,1404,2.5182,34.5326,2,-999.,9,80.67,2,-999.,9,-999.,9,-999.,9,-999.,9,-999.,9,-999.,9,-999.,9,-999,9,-999,9
49UP20151115,RF15-09,5584,1,4,24471,2,20151123,0104,25.8667,128.1433,2142,1417.6,1404,2.5192,34.5317,2,-999.,9,80.93,2,-999.,9,-999.,9,-999.,9,-999.,9,-999.,9,-999.,9,-999.,9,-999,9,-999,9
49UP20151115,RF15-09,5584,1,3,22104,2,20151123,0059,25.8667,128.1433,2142,1620.0,1603,2.2686,34.5630,2,-999.,9,89.65,2,-999.,9,-999.,9,-999.,9,-999.,9,-999.,9,-999.,9,-999.,9,-999,9,-999,9
49UP20151115,RF15-09,5584,1,2,22075,2,20151123,0055,25.8667,128.1433,2142,1821.6,1802,2.1169,34.5852,2,-999.,9,98.81,2,-999.,9,-999.,9,-999.,9,-999.,9,-999.,9,-999.,9,-999.,9,-999,9,-999,9
49UP20151115,RF15-09,5584,1,1,21997,2,20151123,0048,25.8667,128.1433,2142,2024.5,2002,2.0180,34.6014,2,-999.,9,106.60,2,-999.,9,-999.,9,-999.,9,-999.,9,-999.,9,-999.,9,-999.,9,-999,9,-999,9
49UP20151115,RF15-09,5586,1,-999,0,2,20151123,0538,26.0625,127.9038,473,0.0,0,26.4526,34.8055,2,-999.0000,9,203.74,2,1.15,2,0.02,2,0.00,2,0.02,2,-999.,9,-999.,9,-999.,9,-999,9,-999,9
49UP20151115,RF15-09,5586,1,33,24469,2,20151123,0549,26.0625,127.9038,473,11.0,11,26.4523,34.8050,2,34.8053,2,203.53,2,1.11,2,0.00,2,0.00,2,0.01,2,-999.,9,-999.,9,-999.,9,-999,9,-999,9
49UP20151115,RF15-09,5586,1,32,22105,2,20151123,0548,26.0625,127.9038,473,26.4,26,26.4297,34.8034,2,34.8030,2,203.50,2,1.08,2,0.01,2,0.00,2,0.02,2,-999.,9,-999.,9,-999.,9,-999,9,-999,9
49UP20151115,RF15-09,5586,1,31,23515,2,20151123,0546,26.0625,127.9038,473,51.3,51,25.9288,34.8492,2,34.8483,2,203.26,2,1.20,2,0.01,2,0.00,2,0.02,2,-999.,9,-999.,9,-999.,9,-999,9,-999,9
49UP20151115,RF15-09,5586,1,27,21998,2,20151123,0545,26.0625,127.9038,473,76.4,76,25.5729,34.8584,2,34.8564,2,199.94,2,1.38,2,0.13,2,0.07,2,0.04,2,-999.,9,-999.,9,-999.,9,-999,9,-999,9
49UP20151115,RF15-09,5586,1,26,22084,2,20151123,0541,26.0625,127.9038,473,100.7,100,23.8835,34.8432,2,34.8448,2,193.89,2,1.81,2,1.29,2,0.09,2,0.11,2,-999.,9,-999.,9,-999.,9,-999,9,-999,9
49UP20151115,RF15-09,5586,1,25,22098,2,20151123,0540,26.0625,127.9038,473,126.2,125,22.5060,34.9140,2,34.9105,2,193.18,2,1.90,2,1.50,2,0.04,2,0.13,2,-999.,9,-999.,9,-999.,9,-999,9,-999,9
49UP20151115,RF15-09,5586,1,21,22078,2,20151123,0538,26.0625,127.9038,473,151.5,150,20.8601,34.9151,2,34.9130,2,193.44,6,2.20,6,2.10,6,0.02,6,0.17,6,-999.,9,-999.,9,-999.,9,-999,9,-999,9
49UP20151115,RF15-09,5586,1,20,22093,2,20151123,0536,26.0625,127.9038,473,202.7,201,19.1767,34.8274,2,34.8286,2,194.21,2,3.18,2,3.53,2,0.01,2,0.25,2,-999.,9,-999.,9,-999.,9,-999,9,-999,9
49UP20151115,RF15-09,5586,1,19,22092,2,20151123,0534,26.0625,127.9038,473,251.9,250,18.3711,34.7834,2,34.7831,2,194.52,2,4.06,2,4.44,2,0.01,2,0.31,2,-999.,9,-999.,9,-999.,9,-999,9,-999,9
49UP20151115,RF15-09,5586,1,18,22101,2,20151123,0534,26.0625,127.9038,473,252.3,251,18.3666,34.7829,2,34.7806,2,194.73,2,4.11,2,4.49,2,0.01,2,0.31,2,-999.,9,-999.,9,-999.,9,-999,9,-999,9
49UP20151115,RF15-09,5586,1,17,22090,2,20151123,0532,26.0625,127.9038,473,302.9,301,17.6202,34.7391,2,34.7382,6,195.19,2,4.97,2,5.37,2,0.01,2,0.36,2,-999.,9,-999.,9,-999.,9,-999,9,-999,9
49UP20151115,RF15-09,5586,1,16,22089,2,20151123,0529,26.0625,127.9038,473,405.4,402,14.0524,34.4974,2,34.4940,2,177.37,2,14.76,2,12.41,2,0.00,2,0.86,2,-999.,9,-999.,9,-999.,9,-999,9,-999,9
49UP20151115,RF15-09,5586,1,14,21999,2,20151123,0527,26.0625,127.9038,473,464.2,461,12.4553,34.3992,2,34.3971,2,167.47,2,20.97,2,15.87,2,0.01,2,1.11,2,-999.,9,-999.,9,-999.,9,-999,9,-999,9
49UP20151115,RF15-09,5586,1,15,22088,2,20151123,0527,26.0625,127.9038,473,464.7,461,12.4518,34.3991,2,34.3965,2,167.41,2,21.01,2,15.89,2,0.01,2,1.10,2,-999.,9,-999.,9,-999.,9,-999,9,-999,9
49UP20151115,RF15-09,5587,1,-999,0,2,20151123,1146,26.9908,127.5045,522,0.0,0,25.9010,34.8106,2,34.8171,2,205.74,2,1.24,2,0.02,2,0.00,2,0.02,2,1966.1,2,2284.1,2,8.0963,2,-999,9,-999,9
49UP20151115,RF15-09,5587,1,35,22112,2,20151123,1201,26.9908,127.5045,522,11.3,11,25.9169,34.8091,2,34.8080,2,204.95,2,1.20,2,0.00,2,0.00,2,0.01,2,1963.5,2,2283.8,2,8.0999,2,-999,9,-999,9
49UP20151115,RF15-09,5587,1,33,24469,2,20151123,1200,26.9908,127.5045,522,21.5,21,25.5014,34.8046,2,34.8027,2,206.49,2,1.28,2,0.00,2,0.00,2,0.01,2,1967.0,2,2281.8,2,8.0916,2,-999,9,-999,9
49UP20151115,RF15-09,5587,1,32,22105,2,20151123,1200,26.9908,127.5045,522,31.9,32,25.4141,34.8012,2,34.8009,2,206.63,2,1.31,2,0.00,2,0.00,2,0.01,2,1966.5,2,2282.4,2,8.0929,2,-999,9,-999,9
49UP20151115,RF15-09,5587,1,31,23515,2,20151123,1157,26.9908,127.5045,522,50.5,50,25.3393,34.7975,2,34.7972,2,206.84,2,1.37,2,0.01,2,0.00,2,0.01,2,1965.8,6,2283.9,6,8.0889,2,-999,9,-999,9
49UP20151115,RF15-09,5587,1,27,21998,2,20151123,1156,26.9908,127.5045,522,80.9,80,24.9290,34.8028,2,34.7999,2,204.40,2,1.46,2,0.10,2,0.02,2,0.02,2,1970.4,2,2282.8,2,8.0827,6,-999,9,-999,9
49UP20151115,RF15-09,5587,1,26,22084,2,20151123,1155,26.9908,127.5045,522,102.9,102,23.4679,34.8442,2,34.8492,2,193.94,6,1.95,6,1.41,6,0.04,6,0.11,6,1996.6,2,2286.2,2,8.0375,2,-999,9,-999,9
49UP20151115,RF15-09,5587,1,25,22098,2,20151123,1154,26.9908,127.5045,522,127.7,127,22.3927,34.8770,2,34.8737,2,193.40,2,2.14,2,1.84,2,0.03,2,0.14,2,2008.4,2,2289.1,2,8.0212,2,-999,9,-999,9
49UP20151115,RF15-09,5587,1,20,22093,2,20151123,1152,26.9908,127.5045,522,152.2,151,20.9435,34.8439,2,34.8456,2,195.36,2,2.77,2,2.50,2,0.03,2,0.18,2,2019.0,2,2286.6,2,8.0043,2,-999,9,-999,9
49UP20151115,RF15-09,5587,1,21,22078,2,20151123,1152,26.9908,127.5045,522,152.4,151,20.9429,34.8444,2,34.8419,2,194.81,2,2.78,2,2.51,2,0.03,2,0.18,2,2017.3,2,2285.5,2,8.0057,2,-999,9,-999,9
49UP20151115,RF15-09,5587,1,19,22092,2,20151123,1150,26.9908,127.5045,522,203.0,202,19.5338,34.8280,2,34.8278,2,196.84,2,3.15,2,3.14,2,0.02,2,0.22,2,2028.7,6,2287.2,6,7.9856,2,-999,9,-999,9
49UP20151115,RF15-09,5587,1,18,22101,2,20151123,1148,26.9908,127.5045,522,253.6,252,18.5576,34.8004,2,34.8003,6,200.21,2,3.47,2,3.69,2,0.01,2,0.25,2,2032.5,2,2282.5,2,7.9754,6,-999,9,-999,9
49UP20151115,RF15-09,5587,1,17,22090,2,20151123,1147,26.9908,127.5045,522,304.3,302,17.2909,34.7215,2,34.7228,2,196.37,2,5.34,2,5.62,2,0.01,2,0.38,2,2048.5,2,2278.0,2,7.9408,2,-999,9,-999,9
49UP20151115,RF15-09,5587,1,15,22088,2,20151123,1144,26.9908,127.5045,522,404.6,402,13.4856,34.4842,2,34.4828,2,168.02,2,19.86,2,14.18,2,0.00,2,0.99,2,2111.0,2,2279.1,2,7.8026,2,-999,9,-999,9
49UP20151115,RF15-09,5587,1,16,22089,2,20151123,1144,26.9908,127.5045,522,405.7,403,13.4535,34.4829,2,34.4832,2,168.42,2,19.83,2,14.18,2,0.00,2,0.99,2,2110.3,2,2279.6,2,7.8069,2,-999,9,-999,9
49UP20151115,RF15-09,5587,1,14,21999,2,20151123,1141,26.9908,127.5045,522,512.7,509,11.7214,34.4087,2,34.4084,2,152.20,6,30.89,6,18.64,6,0.00,6,1.31,6,2145.4,2,2285.6,2,7.7392,2,-999,9,-999,9