BOTTLE,20171117JMAGEMD
EXPOCODE,SECT_ID,STNNBR,CASTNO,SAMPNO,BTLNBR,BTLNBR_FLAG_W,DATE,TIME,LATITUDE,LONGITUDE,DEPTH,CTDPRS,CTDDEP,CTDTMP,CTDSAL,CTDSAL_FLAG_W,SALNTY,SALNTY_FLAG_W,OXYGEN,OXYGEN_FLAG_W,SILCAT,SILCAT_FLAG_W,NO2+NO3,NO2+NO3_FLAG_W,NITRIT,NITRIT_FLAG_W,PHSPHT,PHSPHT_FLAG_W,TCARBN,TCARBN_FLAG_W,ALKALI,ALKALI_FLAG_W,PH_TOT,PH_TOT_FLAG_W,CFC-11,CFC-11_FLAG_W,CFC-12,CFC-12_FLAG_W
,,,,,,,UTC,UTC,,,METER,DBAR,METERS,ITS-90,PSS-78,,PSS-78,,UMOL/KG,,UMOL/KG,,UMOL/KG,,UMOL/KG,,UMOL/KG,,UMOL/KG,,UMOL/KG,,@25DEG-C,,PMOL/KG,,PMOL/KG,
49UP20150228,RF15-02,5360,1,-999,0,2,20150305,0915,29.9943,147.405,6166,0.0,0,17.3767,34.6908,2,34.6963,2,242.03,2,2.67,2,1.43,2,0.10,2,0.15,2,2007.4,2,2278.8,2,8.0025,2,-999.,9,-999.,9
49UP20150228,RF15-02,5360,1,36,22109,2,20150305,0937,29.9943,147.405,6166,12.1,12,17.3795,34.7025,2,34.6960,4,241.42,2,2.70,2,1.43,2,0.10,2,0.13,2,2007.2,2,2280.2,2,8.0061,2,-999.,9,-999.,9
49UP20150228,RF15-02,5360,1,35,22112,2,20150305,0936,29.9943,147.405,6166,26.7,27,17.3345,34.7610,2,-999.0000,9,239.50,2,2.75,2,1.62,2,0.11,2,0.14,2,2011.9,6,2283.3,6,8.0135,2,-999.,9,-999.,9
49UP20150228,RF15-02,5360,1,34,22083,2,20150305,0933,29.9943,147.405,6166,52.0,52,17.2679,34.7635,2,-999.0000,9,236.58,2,2.86,2,1.86,2,0.15,2,0.16,2,2014.9,2,2283.8,2,7.9960,2,-999.,9,-999.,9
49UP20150228,RF15-02,5360,1,33,24469,2,20150305,0932,29.9943,147.405,6166,76.6,76,17.2666,34.7636,2,-999.0000,9,235.94,2,2.90,2,1.92,2,0.17,2,0.17,2,2014.0,2,2283.4,2,7.9953,2,-999.,9,-999.,9
49UP20150228,RF15-02,5360,1,32,22105,2,20150305,0930,29.9943,147.405,6166,101.8,101,17.2699,34.7645,2,34.7638,2,234.47,6,2.97,6,2.12,6,0.19,6,0.17,6,2016.0,2,2282.9,2,7.9936,2,-999.,9,-999.,9
49UP20150228,RF15-02,5360,1,31,23515,2,20150305,0929,29.9943,147.405,6166,126.7,126,17.2571,34.7637,2,-999.0000,9,231.80,2,3.08,2,2.38,2,0.17,2,0.19,2,2018.7,2,2284.9,2,7.9912,2,-999.,9,-999.,9
49UP20150228,RF15-02,5360,1,30,22097,2,20150305,0928,29.9943,147.405,6166,152.0,151,17.1603,34.7549,2,-999.0000,9,229.51,2,3.24,2,2.67,2,0.08,2,0.20,2,2020.0,2,2282.0,2,7.9872,6,-999.,9,-999.,9
49UP20150228,RF15-02,5360,1,29,22102,2,20150305,0926,29.9943,147.405,6166,202.0,201,17.1249,34.7522,2,34.7520,2,230.21,2,3.19,2,2.65,2,0.06,2,0.20,2,2021.9,2,2283.2,2,7.9932,2,-999.,9,-999.,9
49UP20150228,RF15-02,5360,1,28,22108,2,20150305,0925,29.9943,147.405,6166,252.3,250,17.1181,34.7518,2,-999.0000,9,230.10,2,3.24,2,2.71,2,0.05,2,0.21,2,2020.0,2,2284.0,2,7.9909,2,-999.,9,-999.,9
49UP20150228,RF15-02,5360,1,27,21998,2,20150305,0923,29.9943,147.405,6166,304.7,302,17.1036,34.7494,2,34.7511,6,229.95,2,3.24,2,2.72,2,0.05,2,0.21,2,2019.5,2,2282.4,2,7.9923,2,-999.,9,-999.,9
49UP20150228,RF15-02,5360,1,26,22084,2,20150305,0920,29.9943,147.405,6166,404.8,402,15.7649,34.6138,2,34.6108,4,200.07,2,7.95,2,7.76,2,0.01,2,0.53,2,2055.8,2,2277.2,2,7.9122,2,-999.,9,-999.,9
49UP20150228,RF15-02,5360,1,25,22098,2,20150305,0918,29.9943,147.405,6166,507.4,503,12.9802,34.4272,2,-999.0000,9,176.15,2,19.74,2,14.53,2,0.00,2,1.02,2,2108.5,6,2278.7,6,7.8058,2,-999.,9,-999.,9
49UP20150228,RF15-02,5360,1,24,22110,2,20150305,0915,29.9943,147.405,6166,609.0,604,8.8977,34.1329,2,34.1362,4,173.25,2,36.14,2,21.27,2,0.00,2,1.53,2,2152.4,2,2278.6,2,7.6850,2,-999.,9,-999.,9
49UP20150228,RF15-02,5360,1,23,22096,2,20150305,0912,29.9943,147.405,6166,708.9,703,6.3409,34.0271,2,-999.0000,9,139.22,2,58.97,2,29.25,2,0.00,2,2.12,2,2216.3,2,2291.4,2,7.5512,6,-999.,9,-999.,9
49UP20150228,RF15-02,5360,1,22,22111,2,20150305,0910,29.9943,147.405,6166,809.1,802,5.0711,34.0773,2,34.0781,2,95.65,2,81.48,2,35.32,2,0.00,2,2.55,2,2268.5,2,2310.1,2,7.4478,2,-999.,9,-999.,9
49UP20150228,RF15-02,5360,1,21,22078,2,20150305,0907,29.9943,147.405,6166,909.3,901,4.4378,34.1662,2,-999.0000,9,65.70,6,98.89,6,38.75,6,0.00,6,2.78,6,2309.9,2,2331.2,2,7.3901,2,-999.,9,-999.,9
49UP20150228,RF15-02,5360,1,20,22093,2,20150305,0905,29.9943,147.405,6166,1010.4,1001,4.0160,34.2483,2,34.2468,2,48.52,2,111.34,2,40.65,2,0.00,2,2.92,2,2333.3,2,2345.9,2,7.3696,2,-999.,9,-999.,9
49UP20150228,RF15-02,5360,1,19,22092,2,20150305,0900,29.9943,147.405,6166,1216.1,1204,3.2361,34.3862,2,34.3849,2,36.71,2,133.23,2,42.43,2,0.00,2,3.04,2,2370.3,2,2376.1,2,7.3645,2,-999.,9,-999.,9
49UP20150228,RF15-02,5360,1,18,22101,2,20150305,0856,29.9943,147.405,6166,1415.1,1401,2.7782,34.4634,2,34.4631,2,39.18,2,145.79,2,42.74,2,0.00,2,3.05,2,2376.3,2,2390.9,2,7.3659,2,-999.,9,-999.,9
49UP20150228,RF15-02,5360,1,17,22090,2,20150305,0851,29.9943,147.405,6166,1618.1,1601,2.4465,34.5200,2,34.5208,2,50.34,2,153.29,2,42.32,2,0.00,2,3.00,2,2374.8,2,2400.9,2,7.3931,6,-999.,9,-999.,9
49UP20150228,RF15-02,5360,1,16,22089,3,20150305,0846,29.9943,147.405,6166,1823.0,1803,2.1685,34.5644,2,34.5640,2,64.31,2,157.76,2,41.48,2,0.00,2,2.94,2,2377.1,2,2409.9,2,7.4217,2,-999.,9,-999.,9
49UP20150228,RF15-02,5360,1,15,22088,2,20150305,0842,29.9943,147.405,6166,2024.6,2001,1.9780,34.5970,2,34.5977,2,83.22,2,157.60,2,40.34,2,0.00,2,2.85,2,2367.4,2,2413.0,2,7.4602,2,-999.,9,-999.,9
49UP20150228,RF15-02,5360,1,14,21999,2,20150305,0837,29.9943,147.405,6166,2279.6,2252,1.8284,34.6223,2,34.6236,2,100.90,2,155.69,2,39.29,2,0.00,2,2.76,2,2355.1,2,2415.9,2,7.4964,2,-999.,9,-999.,9
49UP20150228,RF15-02,5360,1,13,22667,2,20150305,0831,29.9943,147.405,6166,2533.9,2502,1.7362,34.6375,2,34.6374,6,112.06,6,154.61,6,38.62,6,0.00,6,2.71,6,2359.2,3,2417.4,2,7.5161,2,-999.,9,-999.,9
49UP20150228,RF15-02,5360,1,12,22074,2,20150305,0826,29.9943,147.405,6166,2788.9,2752,1.6648,34.6496,2,34.6495,2,121.22,2,153.31,2,38.03,2,0.00,2,2.66,2,2347.4,2,2420.2,2,7.5327,2,-999.,9,-999.,9
49UP20150228,RF15-02,5360,1,11,24268,2,20150305,0820,29.9943,147.405,6166,3043.6,3001,1.6014,34.6599,2,34.6595,2,129.71,2,151.97,2,37.55,2,0.00,2,2.62,2,2344.4,2,2419.3,2,7.5471,2,-999.,9,-999.,9
49UP20150228,RF15-02,5360,1,10,24267,2,20150305,0815,29.9943,147.405,6166,3299.0,3251,1.5656,34.6665,2,34.6659,2,135.32,2,151.24,2,37.14,2,0.00,2,2.59,2,2339.2,2,2419.0,2,7.5579,2,-999.,9,-999.,9
49UP20150228,RF15-02,5360,1,9,23518,2,20150305,0810,29.9943,147.405,6166,3554.6,3501,1.5354,34.6717,2,34.6712,2,139.66,2,150.86,2,36.83,2,0.00,2,2.57,2,2334.0,6,2420.5,6,7.5644,2,-999.,9,-999.,9
49UP20150228,RF15-02,5360,1,8,22081,2,20150305,0805,29.9943,147.405,6166,3811.5,3752,1.5175,34.6763,2,34.6758,2,145.12,2,149.15,2,36.46,2,0.00,2,2.54,2,2330.8,2,2420.0,2,7.5739,3,-999.,9,-999.,9
49UP20150228,RF15-02,5360,1,7,23516,2,20150305,0759,29.9943,147.405,6166,4066.2,4000,1.5052,34.6799,2,34.6800,2,148.25,2,149.02,2,36.23,2,0.00,2,2.52,2,2331.2,2,2417.5,2,7.5758,2,-999.,9,-999.,9
49UP20150228,RF15-02,5360,1,6,22113,2,20150305,0749,29.9943,147.405,6166,4581.6,4502,1.5026,34.6856,2,34.6849,2,156.00,2,146.48,2,35.72,2,0.00,2,2.48,2,2320.7,2,2418.0,3,7.5887,2,-999.,9,-999.,9
49UP20150228,RF15-02,5360,1,5,22094,2,20150305,0739,29.9943,147.405,6166,5094.6,5000,1.5249,34.6894,2,34.6884,2,161.50,2,143.50,2,35.34,2,0.00,2,2.45,2,2316.5,2,2413.0,2,7.5924,2,-999.,9,-999.,9
49UP20150228,RF15-02,5360,1,4,22077,2,20150305,0734,29.9943,147.405,6166,5354.0,5252,1.5438,34.6908,2,34.6899,2,164.02,6,142.06,6,35.22,6,0.00,6,2.44,6,2311.5,2,2412.1,2,7.5983,2,-999.,9,-999.,9
49UP20150228,RF15-02,5360,1,3,22104,2,20150305,0728,29.9943,147.405,6166,5612.6,5502,1.5661,34.6917,2,34.6917,2,165.67,2,140.84,2,35.06,2,0.00,2,2.43,2,2310.9,2,2412.4,2,7.6006,2,-999.,9,-999.,9
49UP20150228,RF15-02,5360,1,2,22075,2,20150305,0723,29.9943,147.405,6166,5870.3,5752,1.5925,34.6924,2,34.6922,2,167.38,2,139.19,2,34.92,2,0.00,2,2.42,2,2314.0,2,2410.6,2,7.6039,2,-999.,9,-999.,9
49UP20150228,RF15-02,5360,1,1,21997,2,20150305,0717,29.9943,147.405,6166,6130.6,6003,1.6209,34.6932,2,34.6931,6,168.82,2,138.00,2,34.83,2,0.00,2,2.41,2,2308.6,2,2409.9,2,7.6045,2,-999.,9,-999.,9
49UP20150228,RF15-02,5362,1,-999,0,2,20150305,1913,30.9963,147.7105,6102,0.0,0,17.1807,34.6841,2,-999.0000,9,237.50,2,2.93,2,1.94,2,0.13,2,0.16,2,-999.,9,-999.,9,-999.,9,-999.,9,-999.,9
49UP20150228,RF15-02,5362,1,36,22109,2,20150305,1928,30.9963,147.7105,6102,11.5,11,17.1804,34.6840,2,34.6835,2,237.37,2,2.93,2,1.91,2,0.13,2,0.15,2,-999.,9,-999.,9,-999.,9,-999.,9,-999.,9
49UP20150228,RF15-02,5362,1,35,22112,2,20150305,1926,30.9963,147.7105,6102,27.2,27,17.2329,34.7331,2,-999.0000,9,236.35,2,2.89,2,1.95,2,0.14,2,0.15,2,-999.,9,-999.,9,-999.,9,-999.,9,-999.,9
49UP20150228,RF15-02,5362,1,34,22083,2,20150305,1924,30.9963,147.7105,6102,51.0,51,17.2382,34.7612,2,-999.0000,9,235.52,2,2.93,2,2.05,2,0.16,2,0.16,2,-999.,9,-999.,9,-999.,9,-999.,9,-999.,9
49UP20150228,RF15-02,5362,1,33,24469,2,20150305,1922,30.9963,147.7105,6102,76.0,75,17.2368,34.7618,2,-999.0000,9,234.72,2,3.02,2,2.10,2,0.17,2,0.16,2,-999.,9,-999.,9,-999.,9,-999.,9,-999.,9
49UP20150228,RF15-02,5362,1,32,22105,3,20150305,1921,30.9963,147.7105,6102,102.4,102,17.2410,34.7618,2,34.7609,2,234.80,2,2.93,2,2.09,2,0.17,2,0.16,2,-999.,9,-999.,9,-999.,9,-999.,9,-999.,9
49UP20150228,RF15-02,5362,1,31,23515,2,20150305,1920,30.9963,147.7105,6102,124.6,124,17.2411,34.7617,2,-999.0000,9,234.40,2,3.02,2,2.15,2,0.17,2,0.16,2,-999.,9,-999.,9,-999.,9,-999.,9,-999.,9
49UP20150228,RF15-02,5362,1,30,22097,2,20150305,1919,30.9963,147.7105,6102,151.7,151,17.2389,34.7615,2,-999.0000,9,233.50,2,3.02,2,2.21,2,0.18,2,0.17,2,-999.,9,-999.,9,-999.,9,-999.,9,-999.,9
49UP20150228,RF15-02,5362,1,29,22102,2,20150305,1917,30.9963,147.7105,6102,203.4,202,17.1730,34.7550,2,34.7539,2,229.64,2,3.26,2,2.62,2,0.08,2,0.19,2,-999.,9,-999.,9,-999.,9,-999.,9,-999.,9
49UP20150228,RF15-02,5362,1,28,22108,2,20150305,1915,30.9963,147.7105,6102,253.2,251,17.1332,34.7515,2,-999.0000,9,228.66,6,3.32,6,2.72,6,0.05,6,0.20,6,-999.,9,-999.,9,-999.,9,-999.,9,-999.,9
49UP20150228,RF15-02,5362,1,26,22084,2,20150305,1913,30.9963,147.7105,6102,303.6,301,16.6361,34.6848,2,34.6840,2,209.78,2,5.38,2,5.35,2,0.02,2,0.36,2,-999.,9,-999.,9,-999.,9,-999.,9,-999.,9
49UP20150228,RF15-02,5362,1,27,21998,2,20150305,1913,30.9963,147.7105,6102,305.8,303,16.6260,34.6843,2,34.6841,2,209.79,2,5.34,2,5.34,2,0.02,2,0.36,2,-999.,9,-999.,9,-999.,9,-999.,9,-999.,9
49UP20150228,RF15-02,5362,1,25,22098,2,20150305,1910,30.9963,147.7105,6102,405.4,402,14.6688,34.5329,2,34.5344,6,192.05,2,11.24,2,10.08,2,0.01,2,0.69,2,-999.,9,-999.,9,-999.,9,-999.,9,-999.,9
49UP20150228,RF15-02,5362,1,21,22078,2,20150305,1908,30.9963,147.7105,6102,504.6,501,11.9451,34.3559,2,-999.0000,9,174.52,2,23.31,2,16.21,2,0.00,2,1.14,2,-999.,9,-999.,9,-999.,9,-999.,9,-999.,9
49UP20150228,RF15-02,5362,1,20,22093,2,20150305,1905,30.9963,147.7105,6102,605.7,601,8.2186,34.1058,2,34.1061,2,163.84,2,42.24,2,23.46,2,0.00,2,1.69,2,-999.,9,-999.,9,-999.,9,-999.,9,-999.,9
49UP20150228,RF15-02,5362,1,19,22092,2,20150305,1902,30.9963,147.7105,6102,706.7,701,6.0578,34.0263,2,-999.0000,9,135.40,2,62.01,2,29.82,2,0.00,2,2.16,2,-999.,9,-999.,9,-999.,9,-999.,9,-999.,9
49UP20150228,RF15-02,5362,1,15,22088,2,20150305,1859,30.9963,147.7105,6102,807.1,800,4.7800,34.0982,2,34.0980,6,85.39,2,87.86,2,36.67,2,0.00,2,2.64,2,-999.,9,-999.,9,-999.,9,-999.,9,-999.,9
49UP20150228,RF15-02,5362,1,14,21999,2,20150305,1856,30.9963,147.7105,6102,908.8,901,4.2437,34.2113,2,-999.0000,9,59.30,2,105.58,2,39.46,2,0.00,2,2.83,2,-999.,9,-999.,9,-999.,9,-999.,9,-999.,9
49UP20150228,RF15-02,5362,1,13,22667,2,20150305,1853,30.9963,147.7105,6102,1011.4,1002,3.8282,34.2909,2,34.2885,2,49.48,2,117.22,2,40.72,2,0.00,2,2.92,2,-999.,9,-999.,9,-999.,9,-999.,9,-999.,9
49UP20150228,RF15-02,5362,1,9,23518,2,20150305,1848,30.9963,147.7105,6102,1214.7,1203,3.1577,34.3895,2,34.3880,2,37.54,6,135.71,6,42.44,6,0.00,6,3.03,6,-999.,9,-999.,9,-999.,9,-999.,9,-999.,9
49UP20150228,RF15-02,5362,1,8,22081,2,20150305,1843,30.9963,147.7105,6102,1417.4,1403,2.7054,34.4710,2,34.4720,2,40.13,2,148.07,2,42.81,2,0.00,2,3.04,2,-999.,9,-999.,9,-999.,9,-999.,9,-999.,9
49UP20150228,RF15-02,5362,1,7,23516,2,20150305,1842,30.9963,147.7105,6102,1417.5,1403,2.7064,34.4708,2,34.4711,2,39.96,2,148.06,2,42.84,2,0.00,2,3.04,2,-999.,9,-999.,9,-999.,9,-999.,9,-999.,9
49UP20150228,RF15-02,5362,1,6,22113,2,20150305,1837,30.9963,147.7105,6102,1619.1,1602,2.4268,34.5196,2,34.5203,2,48.31,2,154.59,2,42.52,2,0.00,2,3.01,2,-999.,9,-999.,9,-999.,9,-999.,9,-999.,9
49UP20150228,RF15-02,5362,1,5,22094,2,20150305,1832,30.9963,147.7105,6102,1822.9,1802,2.1725,34.5621,2,34.5629,2,62.50,2,158.76,2,41.75,2,0.00,2,2.95,2,-999.,9,-999.,9,-999.,9,-999.,9,-999.,9
49UP20150228,RF15-02,5362,1,4,22077,2,20150305,1827,30.9963,147.7105,6102,2024.4,2001,1.9793,34.5942,2,34.5944,2,78.57,2,159.81,2,40.78,2,0.00,2,2.87,2,-999.,9,-999.,9,-999.,9,-999.,9,-999.,9
49UP20150228,RF15-02,5364,1,-999,0,2,20150306,0348,31.9838,147.9333,5648,0.0,0,17.0524,34.7430,2,34.7404,2,238.19,2,3.30,2,2.36,2,0.11,2,0.19,2,2016.1,2,2284.1,2,7.9973,2,-999.,9,-999.,9
49UP20150228,RF15-02,5364,1,36,22109,2,20150306,0418,31.9838,147.9333,5648,11.6,12,17.0580,34.7449,2,-999.0000,9,237.38,2,3.24,2,2.33,2,0.12,2,0.17,2,2012.3,2,2284.2,2,8.0012,2,-999.,9,-999.,9
49UP20150228,RF15-02,5364,1,35,22112,2,20150306,0417,31.9838,147.9333,5648,26.5,26,17.0610,34.7453,2,-999.0000,9,237.50,2,3.24,2,2.32,2,0.12,2,0.17,2,2019.0,2,2283.1,2,7.9998,2,-999.,9,-999.,9
49UP20150228,RF15-02,5364,1,34,22083,2,20150306,0415,31.9838,147.9333,5648,54.2,54,17.0714,34.7472,2,-999.0000,9,236.52,2,3.26,2,2.36,2,0.12,2,0.18,2,2016.7,2,2284.1,2,7.9988,6,-999.,9,-999.,9
49UP20150228,RF15-02,5364,1,33,24469,2,20150306,0413,31.9838,147.9333,5648,76.9,76,17.0616,34.7504,2,-999.0000,9,236.13,2,3.30,2,2.42,2,0.13,2,0.18,2,2018.1,2,2285.1,2,8.0010,2,-999.,9,-999.,9
49UP20150228,RF15-02,5364,1,32,22105,2,20150306,0412,31.9838,147.9333,5648,103.8,103,16.9976,34.7499,2,-999.0000,9,234.85,2,3.37,2,2.51,2,0.13,2,0.19,2,2021.6,2,2285.1,2,7.9946,2,-999.,9,-999.,9
49UP20150228,RF15-02,5364,1,31,23515,2,20150306,0410,31.9838,147.9333,5648,126.8,126,16.9981,34.7505,2,-999.0000,9,234.50,2,3.37,2,2.54,2,0.13,2,0.19,2,2021.5,2,2282.9,6,7.9866,2,-999.,9,-999.,9
49UP20150228,RF15-02,5364,1,30,22097,2,20150306,0407,31.9838,147.9333,5648,151.1,150,17.0040,34.7526,2,-999.0000,9,233.99,2,3.37,2,2.60,2,0.13,2,0.20,2,2021.4,2,2283.8,2,7.9954,2,-999.,9,-999.,9
49UP20150228,RF15-02,5364,1,29,22102,2,20150306,0405,31.9838,147.9333,5648,204.8,203,16.8068,34.7331,2,-999.0000,9,228.20,6,3.97,6,3.32,6,0.03,6,0.24,6,2027.4,2,2281.5,2,7.9801,2,-999.,9,-999.,9
49UP20150228,RF15-02,5364,1,27,21998,2,20150306,0402,31.9838,147.9333,5648,254.0,252,16.6978,34.7248,2,-999.0000,9,226.84,2,4.21,2,3.63,2,0.03,2,0.26,2,2030.7,2,2281.8,2,7.9757,2,-999.,9,-999.,9
49UP20150228,RF15-02,5364,1,28,22108,2,20150306,0403,31.9838,147.9333,5648,255.2,253,16.6972,34.7248,2,-999.0000,9,226.84,2,4.19,2,3.63,2,0.03,2,0.27,2,2029.0,2,2279.1,2,7.9753,2,-999.,9,-999.,9
49UP20150228,RF15-02,5364,1,26,22084,2,20150306,0400,31.9838,147.9333,5648,305.1,303,15.9666,34.6305,2,-999.0000,9,200.29,2,7.92,2,7.33,2,0.01,2,0.50,2,2056.7,2,2281.1,2,7.9168,2,-999.,9,-999.,9
49UP20150228,RF15-02,5364,1,25,22098,2,20150306,0357,31.9838,147.9333,5648,409.8,407,13.6683,34.4649,2,-999.0000,9,190.05,2,14.54,2,11.95,2,0.01,2,0.83,2,2091.8,2,2277.3,2,7.8430,2,-999.,9,-999.,9
49UP20150228,RF15-02,5364,1,21,22078,2,20150306,0352,31.9838,147.9333,5648,504.1,500,10.9701,34.2611,2,-999.0000,9,189.79,2,23.57,2,16.28,2,0.00,2,1.15,2,2123.7,2,2276.0,2,7.7671,2,-999.,9,-999.,9
49UP20150228,RF15-02,5364,1,20,22093,2,20150306,0349,31.9838,147.9333,5648,603.5,598,8.6795,34.1170,2,-999.0000,9,172.83,2,37.54,2,21.78,2,0.00,2,1.57,2,2161.4,2,2280.4,2,7.6754,6,-999.,9,-999.,9
49UP20150228,RF15-02,5364,1,19,22092,2,20150306,0347,31.9838,147.9333,5648,704.2,698,6.0999,33.9878,2,-999.0000,9,144.29,2,59.03,2,29.26,2,0.00,2,2.13,2,2221.5,2,2291.5,2,7.5446,2,-999.,9,-999.,9
49UP20150228,RF15-02,5364,1,15,22088,2,20150306,0344,31.9838,147.9333,5648,809.9,803,4.9653,34.0708,2,-999.0000,9,98.43,2,82.41,2,35.14,2,0.00,2,2.55,2,2274.4,2,2312.9,2,7.4479,2,-999.,9,-999.,9
49UP20150228,RF15-02,5364,1,14,21999,2,20150306,0340,31.9838,147.9333,5648,912.2,904,4.3343,34.1868,2,-999.0000,9,63.63,2,102.39,2,39.06,2,0.00,2,2.81,2,2313.1,2,2336.3,2,7.3930,2,-999.,9,-999.,9
49UP20150228,RF15-02,5364,1,13,22667,2,20150306,0337,31.9838,147.9333,5648,1012.7,1003,3.8043,34.2615,2,-999.0000,9,47.85,6,117.48,6,40.82,6,0.00,6,2.94,6,2335.7,2,2350.0,2,7.3667,2,-999.,9,-999.,9
49UP20150228,RF15-02,5364,1,9,23518,2,20150306,0332,31.9838,147.9333,5648,1212.6,1201,3.1582,34.3855,2,-999.0000,9,41.07,2,135.72,2,42.07,2,0.00,2,3.00,2,2363.7,2,2376.2,2,7.3653,2,-999.,9,-999.,9
49UP20150228,RF15-02,5364,1,8,22081,2,20150306,0332,31.9838,147.9333,5648,1212.6,1201,3.1616,34.3846,2,-999.0000,9,40.89,2,135.62,2,42.04,2,0.00,2,3.00,2,2363.7,2,2374.9,2,7.3667,2,-999.,9,-999.,9
49UP20150228,RF15-02,5364,1,7,23516,2,20150306,0327,31.9838,147.9333,5648,1418.4,1404,2.7259,34.4536,2,-999.0000,9,37.23,2,148.26,2,42.87,2,0.00,2,3.05,2,2377.9,2,2389.9,2,7.3650,2,-999.,9,-999.,9
49UP20150228,RF15-02,5364,1,6,22113,2,20150306,0322,31.9838,147.9333,5648,1619.6,1602,2.4416,34.5050,2,-999.0000,9,43.11,2,156.05,2,42.77,2,0.00,2,3.03,2,2384.5,6,2399.8,6,7.3762,2,-999.,9,-999.,9
49UP20150228,RF15-02,5364,1,5,22094,2,20150306,0317,31.9838,147.9333,5648,1821.2,1801,2.2015,34.5490,2,-999.0000,9,54.33,2,160.50,2,42.20,2,0.00,2,2.97,2,2379.1,2,2407.6,2,7.4029,2,-999.,9,-999.,9
49UP20150228,RF15-02,5364,1,4,22077,2,20150306,0308,31.9838,147.9333,5648,2023.9,2000,1.9941,34.5862,2,-999.0000,9,70.04,2,162.82,2,41.29,2,0.00,2,2.90,2,2375.0,2,2413.4,2,7.4306,2,-999.,9,-999.,9