BOTTLE,20171117JMAGEMD
EXPOCODE,SECT_ID,STNNBR,CASTNO,SAMPNO,BTLNBR,BTLNBR_FLAG_W,DATE,TIME,LATITUDE,LONGITUDE,DEPTH,CTDPRS,CTDDEP,CTDTMP,CTDSAL,CTDSAL_FLAG_W,SALNTY,SALNTY_FLAG_W,OXYGEN,OXYGEN_FLAG_W,SILCAT,SILCAT_FLAG_W,NO2+NO3,NO2+NO3_FLAG_W,NITRIT,NITRIT_FLAG_W,PHSPHT,PHSPHT_FLAG_W,TCARBN,TCARBN_FLAG_W,ALKALI,ALKALI_FLAG_W,PH_TOT,PH_TOT_FLAG_W,CFC-11,CFC-11_FLAG_W,CFC-12,CFC-12_FLAG_W
,,,,,,,UTC,UTC,,,METER,DBAR,METERS,ITS-90,PSS-78,,PSS-78,,UMOL/KG,,UMOL/KG,,UMOL/KG,,UMOL/KG,,UMOL/KG,,UMOL/KG,,UMOL/KG,,@25DEG-C,,PMOL/KG,,PMOL/KG,
49UP20150228,RF15-02,5372,1,-999,0,2,20150307,1945,35.9905,149.2917,5905,0.0,0,15.1502,34.6703,2,34.6921,2,244.21,2,4.97,2,4.28,2,0.20,2,0.31,2,2034.9,2,2287.9,2,7.9721,2,-999.,9,-999.,9
49UP20150228,RF15-02,5372,1,33,24469,2,20150307,2007,35.9905,149.2917,5905,10.8,11,15.1385,34.6690,2,-999.0000,9,243.59,2,5.89,2,4.96,2,0.21,2,0.34,2,2039.7,2,2285.7,2,7.9634,2,-999.,9,-999.,9
49UP20150228,RF15-02,5372,1,32,22105,2,20150307,2006,35.9905,149.2917,5905,25.7,26,14.7656,34.6391,2,-999.0000,9,244.06,2,7.15,2,5.75,2,0.22,2,0.40,2,2045.6,2,2286.5,2,7.9459,2,-999.,9,-999.,9
49UP20150228,RF15-02,5372,1,31,23515,2,20150307,2004,35.9905,149.2917,5905,51.3,51,14.4983,34.6125,2,-999.0000,9,240.93,2,8.48,2,6.63,2,0.24,2,0.47,2,2052.0,2,2286.6,2,7.9334,6,-999.,9,-999.,9
49UP20150228,RF15-02,5372,1,27,21998,2,20150307,2003,35.9905,149.2917,5905,76.8,76,14.1214,34.5613,2,-999.0000,9,233.71,2,10.52,2,7.75,2,0.26,2,0.57,2,2059.5,2,2283.8,2,7.9103,2,-999.,9,-999.,9
49UP20150228,RF15-02,5372,1,26,22084,2,20150307,2001,35.9905,149.2917,5905,102.2,101,13.7386,34.5277,2,-999.0000,9,234.98,2,11.16,2,8.04,2,0.24,2,0.59,2,2063.3,2,2285.1,2,7.9049,2,-999.,9,-999.,9
49UP20150228,RF15-02,5372,1,25,22098,2,20150307,2000,35.9905,149.2917,5905,127.5,127,13.4385,34.4983,2,-999.0000,9,225.38,2,13.56,2,9.42,2,0.19,2,0.68,2,2081.5,2,2282.4,2,7.8830,2,-999.,9,-999.,9
49UP20150228,RF15-02,5372,1,24,22110,2,20150307,1958,35.9905,149.2917,5905,153.3,152,12.8766,34.4528,2,-999.0000,9,177.87,2,22.21,2,14.60,2,0.03,2,1.03,2,2108.9,6,2283.4,6,7.8081,2,-999.,9,-999.,9
49UP20150228,RF15-02,5372,1,23,22096,2,20150307,1955,35.9905,149.2917,5905,201.7,200,11.6840,34.3105,2,-999.0000,9,230.68,2,16.65,2,11.07,2,0.15,2,0.81,2,2087.6,2,2277.8,2,7.8501,2,-999.,9,-999.,9
49UP20150228,RF15-02,5372,1,22,22111,2,20150307,1954,35.9905,149.2917,5905,250.7,249,10.9259,34.2171,2,-999.0000,9,248.70,4,16.40,2,10.71,2,0.13,2,0.80,2,2080.5,2,2272.1,2,7.8440,2,-999.,9,-999.,9
49UP20150228,RF15-02,5372,1,18,22101,2,20150307,1952,35.9905,149.2917,5905,303.0,301,9.1303,34.0100,2,-999.0000,9,232.74,2,23.27,2,14.06,2,0.12,2,1.06,2,2109.5,2,2268.8,2,7.7799,2,-999.,9,-999.,9
49UP20150228,RF15-02,5372,1,17,22090,3,20150307,1949,35.9905,149.2917,5905,408.0,405,7.1662,33.9638,2,-999.0000,9,177.13,2,43.71,2,23.84,2,0.01,2,1.75,2,2179.3,2,2277.4,2,7.6335,2,-999.,9,-999.,9
49UP20150228,RF15-02,5372,1,16,22089,2,20150307,1947,35.9905,149.2917,5905,506.9,503,5.8189,33.9601,2,-999.0000,9,148.43,2,59.40,2,29.03,2,0.00,2,2.12,2,2219.4,6,2290.7,6,7.5457,2,-999.,9,-999.,9
49UP20150228,RF15-02,5372,1,15,22088,2,20150307,1944,35.9905,149.2917,5905,605.3,600,5.3198,34.1147,2,-999.0000,9,98.87,6,80.29,6,34.35,6,0.00,6,2.48,6,2267.2,2,2313.0,2,7.4648,2,-999.,9,-999.,9
49UP20150228,RF15-02,5372,1,13,22667,2,20150307,1941,35.9905,149.2917,5905,707.9,702,4.7166,34.2175,2,-999.0000,9,72.70,2,97.19,2,37.36,2,0.00,2,2.69,2,2299.7,2,2333.9,2,7.4264,2,-999.,9,-999.,9
49UP20150228,RF15-02,5372,1,14,21999,2,20150307,1941,35.9905,149.2917,5905,710.4,704,4.6818,34.2162,2,-999.0000,9,72.04,2,97.66,2,37.50,2,0.00,2,2.70,2,2300.8,2,2333.8,2,7.4227,2,-999.,9,-999.,9
49UP20150228,RF15-02,5372,1,9,23518,2,20150307,1938,35.9905,149.2917,5905,810.6,803,4.0216,34.2579,2,-999.0000,9,54.73,2,112.11,2,39.90,2,0.00,2,2.87,2,2323.7,2,2346.9,2,7.3814,2,-999.,9,-999.,9
49UP20150228,RF15-02,5372,1,8,22081,2,20150307,1936,35.9905,149.2917,5905,910.7,902,3.6464,34.3121,2,-999.0000,9,46.25,2,122.00,2,41.06,2,0.00,2,2.95,2,2343.2,2,2360.0,2,7.3726,2,-999.,9,-999.,9
49UP20150228,RF15-02,5372,1,7,23516,2,20150307,1933,35.9905,149.2917,5905,1012.4,1003,3.2478,34.3563,2,-999.0000,9,40.76,2,132.82,2,41.93,2,0.00,2,3.01,2,2361.3,2,2368.6,2,7.3603,6,-999.,9,-999.,9
49UP20150228,RF15-02,5372,1,6,22113,2,20150307,1928,35.9905,149.2917,5905,1213.7,1201,2.8034,34.4355,2,-999.0000,9,40.28,2,145.51,2,42.37,2,0.00,2,3.04,2,2374.8,2,2387.0,2,7.3689,2,-999.,9,-999.,9
49UP20150228,RF15-02,5372,1,5,22094,2,20150307,1924,35.9905,149.2917,5905,1417.1,1402,2.4799,34.4895,2,-999.0000,9,43.08,2,154.03,2,42.60,2,0.00,2,3.04,2,2378.6,2,2396.8,2,7.3762,2,-999.,9,-999.,9
49UP20150228,RF15-02,5372,1,4,22077,3,20150307,1919,35.9905,149.2917,5905,1621.5,1603,2.2666,34.5345,2,-999.0000,9,51.58,2,159.25,2,42.23,2,0.00,2,3.00,2,2383.0,2,2403.6,2,7.3917,2,-999.,9,-999.,9
49UP20150228,RF15-02,5372,1,3,22104,2,20150307,1914,35.9905,149.2917,5905,1823.7,1803,2.0825,34.5683,2,-999.0000,9,62.68,6,161.92,6,41.62,6,0.00,6,2.95,6,2375.0,2,2410.7,2,7.4168,2,-999.,9,-999.,9
49UP20150228,RF15-02,5372,1,2,22075,2,20150307,1910,35.9905,149.2917,5905,2024.5,2000,1.9316,34.5952,2,-999.0000,9,75.57,2,162.98,2,40.84,2,0.00,2,2.88,2,2375.1,2,2412.9,2,7.4426,2,-999.,9,-999.,9
49UP20150228,RF15-02,5372,1,1,21997,2,20150307,1909,35.9905,149.2917,5905,2024.5,2000,1.9320,34.5951,2,-999.0000,9,76.08,2,162.85,2,40.89,2,0.00,2,2.89,2,2374.6,2,2415.5,2,7.4453,2,-999.,9,-999.,9
49UP20150228,RF15-02,5374,1,-999,0,2,20150308,0727,36.9727,149.6732,5972,0.0,0,14.6249,34.6384,2,34.6464,2,256.25,2,4.55,2,4.70,2,0.22,2,0.34,2,2043.0,2,2285.1,2,7.9664,2,-999.,9,-999.,9
49UP20150228,RF15-02,5374,1,36,22109,2,20150308,0750,36.9727,149.6732,5972,10.8,11,14.6278,34.6386,2,34.6401,2,251.84,2,4.98,2,4.94,2,0.23,2,0.33,2,2044.9,2,2284.1,2,7.9584,2,-999.,9,-999.,9
49UP20150228,RF15-02,5374,1,35,22112,2,20150308,0749,36.9727,149.6732,5972,26.4,26,14.6375,34.6388,2,-999.0000,9,252.77,2,4.95,2,4.92,2,0.22,2,0.33,4,2042.7,2,2285.1,2,7.9613,6,-999.,9,-999.,9
49UP20150228,RF15-02,5374,1,34,22083,3,20150308,0748,36.9727,149.6732,5972,51.0,51,14.6403,34.6386,2,-999.0000,9,252.38,6,4.90,6,4.91,6,0.22,6,0.33,2,2043.8,2,2285.4,2,7.9580,2,-999.,9,-999.,9
49UP20150228,RF15-02,5374,1,33,24469,2,20150308,0747,36.9727,149.6732,5972,77.2,77,14.6360,34.6367,2,-999.0000,9,252.38,2,4.99,2,4.93,2,0.22,2,0.33,4,2043.5,6,2284.2,6,7.9607,2,-999.,9,-999.,9
49UP20150228,RF15-02,5374,1,32,22105,2,20150308,0744,36.9727,149.6732,5972,101.3,101,13.3816,34.4879,2,34.4885,2,239.02,2,11.10,2,8.17,2,0.14,2,0.59,4,2066.8,2,2277.1,2,7.9066,2,-999.,9,-999.,9
49UP20150228,RF15-02,5374,1,31,23515,2,20150308,0742,36.9727,149.6732,5972,126.8,126,12.5720,34.4049,2,-999.0000,9,244.41,2,12.54,2,8.73,2,0.03,2,0.63,2,2070.5,2,2274.6,2,7.8851,2,-999.,9,-999.,9
49UP20150228,RF15-02,5374,1,30,22097,2,20150308,0741,36.9727,149.6732,5972,152.4,151,12.4472,34.3933,2,-999.0000,9,246.99,2,12.24,2,8.54,2,0.02,2,0.62,2,2068.6,6,2274.3,6,7.8930,2,-999.,9,-999.,9
49UP20150228,RF15-02,5374,1,29,22102,2,20150308,0739,36.9727,149.6732,5972,206.7,205,12.2038,34.3704,2,34.3709,2,247.65,2,13.11,2,8.98,2,0.02,2,0.66,2,2073.0,2,2273.6,2,7.8851,2,-999.,9,-999.,9
49UP20150228,RF15-02,5374,1,28,22108,2,20150308,0737,36.9727,149.6732,5972,256.4,254,10.7344,34.1872,2,-999.0000,9,228.77,2,20.14,2,12.76,2,0.02,2,0.94,2,2104.1,2,2271.9,2,7.8201,2,-999.,9,-999.,9
49UP20150228,RF15-02,5374,1,27,21998,2,20150308,0735,36.9727,149.6732,5972,305.2,303,8.9850,34.0376,2,34.0395,2,203.23,2,31.33,2,18.07,2,0.01,2,1.33,2,2138.9,2,2273.1,2,7.7320,2,-999.,9,-999.,9
49UP20150228,RF15-02,5374,1,26,22084,2,20150308,0731,36.9727,149.6732,5972,407.2,404,6.1676,33.9045,2,33.9048,2,170.18,6,51.07,6,26.27,6,0.00,6,1.93,6,2200.0,2,2282.5,2,7.5920,2,-999.,9,-999.,9
49UP20150228,RF15-02,5374,1,25,22098,2,20150308,0727,36.9727,149.6732,5972,509.0,505,4.9674,34.0545,2,-999.0000,9,104.80,2,81.03,2,34.57,2,0.00,2,2.50,2,2268.5,2,2308.6,2,7.4604,2,-999.,9,-999.,9
49UP20150228,RF15-02,5374,1,24,22110,2,20150308,0724,36.9727,149.6732,5972,607.1,602,4.4839,34.1442,2,34.1494,4,72.04,2,96.50,2,38.13,2,0.00,2,2.74,2,2307.1,2,2326.8,2,7.4022,2,-999.,9,-999.,9
49UP20150228,RF15-02,5374,1,23,22096,2,20150308,0721,36.9727,149.6732,5972,710.5,704,4.0862,34.2222,2,-999.0000,9,55.43,2,108.99,2,39.95,2,0.00,2,2.87,2,2328.5,6,2341.4,6,7.3760,2,-999.,9,-999.,9
49UP20150228,RF15-02,5374,1,22,22111,2,20150308,0717,36.9727,149.6732,5972,807.5,800,3.6723,34.2857,2,34.2858,6,44.61,2,120.84,2,41.31,2,0.00,2,2.96,2,2346.7,2,2354.4,2,7.3639,2,-999.,9,-999.,9
49UP20150228,RF15-02,5374,1,21,22078,2,20150308,0714,36.9727,149.6732,5972,912.4,904,3.3420,34.3414,2,-999.0000,9,40.07,2,130.13,2,41.99,2,0.00,2,3.00,2,2358.2,2,2366.9,2,7.3595,2,-999.,9,-999.,9
49UP20150228,RF15-02,5374,1,20,22093,2,20150308,0711,36.9727,149.6732,5972,1008.9,999,3.1361,34.3773,2,34.3772,2,38.62,2,136.29,2,42.28,2,0.00,2,3.03,2,2366.6,2,2371.1,2,7.3582,2,-999.,9,-999.,9
49UP20150228,RF15-02,5374,1,19,22092,2,20150308,0706,36.9727,149.6732,5972,1211.9,1199,2.7015,34.4528,2,34.4523,2,39.48,2,148.81,2,42.75,2,0.00,2,3.04,2,2378.1,2,2389.1,2,7.3658,6,-999.,9,-999.,9
49UP20150228,RF15-02,5374,1,18,22101,2,20150308,0702,36.9727,149.6732,5972,1411.2,1396,2.4341,34.4999,2,34.5006,2,43.32,2,156.17,2,42.72,2,0.00,2,3.04,2,2381.9,2,2397.7,2,7.3724,2,-999.,9,-999.,9
49UP20150228,RF15-02,5374,1,17,22090,2,20150308,0657,36.9727,149.6732,5972,1615.6,1597,2.2012,34.5440,2,34.5451,2,53.56,6,160.95,6,42.28,6,0.00,6,2.99,6,2383.3,2,2404.1,2,7.3964,2,-999.,9,-999.,9
49UP20150228,RF15-02,5374,1,16,22089,3,20150308,0653,36.9727,149.6732,5972,1816.5,1795,2.0479,34.5727,2,34.5723,2,64.32,2,163.03,2,41.69,2,0.00,2,2.94,2,2384.5,2,2409.3,2,7.4156,2,-999.,9,-999.,9
49UP20150228,RF15-02,5374,1,15,22088,2,20150308,0647,36.9727,149.6732,5972,2022.7,1998,1.9138,34.5984,2,34.5994,2,77.68,2,163.15,2,40.80,2,0.00,2,2.88,2,2382.1,2,2414.0,2,7.4441,2,-999.,9,-999.,9
49UP20150228,RF15-02,5374,1,14,21999,2,20150308,0642,36.9727,149.6732,5972,2276.6,2248,1.7841,34.6213,2,34.6214,2,92.65,2,162.28,2,39.87,2,0.00,2,2.80,2,2367.3,2,2417.5,2,7.4736,2,-999.,9,-999.,9
49UP20150228,RF15-02,5374,1,13,22667,3,20150308,0637,36.9727,149.6732,5972,2543.1,2509,1.6780,34.6397,2,34.6400,2,106.66,2,160.87,2,39.02,2,0.00,2,2.74,2,2365.2,2,2416.6,2,7.4995,2,-999.,9,-999.,9
49UP20150228,RF15-02,5374,1,12,22074,2,20150308,0631,36.9727,149.6732,5972,2786.2,2747,1.5956,34.6534,2,34.6533,2,119.03,2,158.50,2,38.21,2,0.00,2,2.67,2,2356.5,2,2419.2,2,7.5200,2,-999.,9,-999.,9
49UP20150228,RF15-02,5374,1,11,24268,2,20150308,0625,36.9727,149.6732,5972,3039.2,2995,1.5522,34.6618,2,34.6623,6,127.63,2,156.84,2,37.62,2,0.00,2,2.64,2,2349.6,2,2419.6,2,7.5388,2,-999.,9,-999.,9
49UP20150228,RF15-02,5374,1,10,24267,2,20150308,0620,36.9727,149.6732,5972,3301.6,3252,1.5144,34.6693,2,34.6696,2,135.51,2,154.77,2,37.10,2,0.00,2,2.59,2,2346.2,2,2421.0,2,7.5519,2,-999.,9,-999.,9
49UP20150228,RF15-02,5374,1,9,23518,2,20150308,0615,36.9727,149.6732,5972,3557.3,3502,1.4881,34.6750,2,34.6748,2,142.17,2,152.78,2,36.65,2,0.00,2,2.56,2,2341.2,2,2418.7,2,7.5643,2,-999.,9,-999.,9
49UP20150228,RF15-02,5374,1,8,22081,2,20150308,0609,36.9727,149.6732,5972,3812.1,3750,1.4742,34.6793,2,34.6811,4,147.31,2,151.29,2,36.33,2,0.00,2,2.53,2,2338.0,2,2418.6,2,7.5752,2,-999.,9,-999.,9
49UP20150228,RF15-02,5374,1,7,23516,2,20150308,0604,36.9727,149.6732,5972,4064.7,3996,1.4706,34.6824,2,34.6819,2,150.53,2,150.54,2,36.03,2,0.00,2,2.51,2,2330.0,2,2410.5,3,7.5831,2,-999.,9,-999.,9
49UP20150228,RF15-02,5374,1,6,22113,2,20150308,0551,36.9727,149.6732,5972,4580.3,4498,1.4892,34.6864,2,34.6865,2,156.11,6,148.92,6,35.70,6,0.00,6,2.48,6,2327.8,2,2415.1,2,7.5870,2,-999.,9,-999.,9
49UP20150228,RF15-02,5374,1,5,22094,2,20150308,0542,36.9727,149.6732,5972,5099.6,5002,1.5209,34.6896,2,34.6896,6,161.10,2,145.36,2,35.36,2,0.00,2,2.45,2,2324.0,2,2414.8,2,7.5958,2,-999.,9,-999.,9
49UP20150228,RF15-02,5374,1,4,22077,2,20150308,0537,36.9727,149.6732,5972,5347.9,5243,1.5409,34.6907,2,34.6900,2,163.07,2,144.22,2,35.18,2,0.00,2,2.44,2,2318.5,2,2414.0,2,7.5955,2,-999.,9,-999.,9
49UP20150228,RF15-02,5374,1,3,22104,2,20150308,0531,36.9727,149.6732,5972,5619.8,5506,1.5689,34.6915,2,34.6912,2,164.17,2,143.17,2,35.14,2,0.00,2,2.44,2,2319.6,2,2413.7,2,7.5985,2,-999.,9,-999.,9
49UP20150228,RF15-02,5374,1,2,22075,2,20150308,0524,36.9727,149.6732,5972,5874.9,5753,1.5967,34.6921,2,34.6922,2,165.53,2,142.08,2,34.99,2,0.00,2,2.42,2,2317.9,2,2411.3,2,7.6017,2,-999.,9,-999.,9
49UP20150228,RF15-02,5374,1,1,21997,2,20150308,0520,36.9727,149.6732,5972,6101.0,5971,1.6233,34.6924,2,34.6923,2,166.59,2,141.26,2,34.99,2,0.00,2,2.42,2,2321.0,2,2411.7,2,7.6021,6,-999.,9,-999.,9