BOTTLE,20171117JMAGEMD
EXPOCODE,SECT_ID,STNNBR,CASTNO,SAMPNO,BTLNBR,BTLNBR_FLAG_W,DATE,TIME,LATITUDE,LONGITUDE,DEPTH,CTDPRS,CTDDEP,CTDTMP,CTDSAL,CTDSAL_FLAG_W,SALNTY,SALNTY_FLAG_W,OXYGEN,OXYGEN_FLAG_W,SILCAT,SILCAT_FLAG_W,NO2+NO3,NO2+NO3_FLAG_W,NITRIT,NITRIT_FLAG_W,PHSPHT,PHSPHT_FLAG_W,TCARBN,TCARBN_FLAG_W,ALKALI,ALKALI_FLAG_W,PH_TOT,PH_TOT_FLAG_W,CFC-11,CFC-11_FLAG_W,CFC-12,CFC-12_FLAG_W
,,,,,,,UTC,UTC,,,METER,DBAR,METERS,ITS-90,PSS-78,,PSS-78,,UMOL/KG,,UMOL/KG,,UMOL/KG,,UMOL/KG,,UMOL/KG,,UMOL/KG,,UMOL/KG,,@25DEG-C,,PMOL/KG,,PMOL/KG,
49UP20150228,RF15-02,5354,1,-999,0,2,20150303,2315,29.0065,146.0003,5927,0.0,0,18.8450,34.8696,2,-999.,9,233.50,2,1.69,2,0.04,2,0.01,2,0.05,2,-999.,9,-999.,9,-999.,9,-999.,9,-999.,9
49UP20150228,RF15-02,5354,1,36,22109,2,20150303,2336,29.0065,146.0003,5927,12.4,12,18.8396,34.8694,2,-999.,9,233.36,2,1.71,2,0.02,2,0.01,2,0.03,2,-999.,9,-999.,9,-999.,9,-999.,9,-999.,9
49UP20150228,RF15-02,5354,1,35,22112,2,20150303,2335,29.0065,146.0003,5927,27.7,28,18.8346,34.8699,2,-999.,9,233.27,2,1.67,2,0.05,2,0.01,2,0.03,2,-999.,9,-999.,9,-999.,9,-999.,9,-999.,9
49UP20150228,RF15-02,5354,1,34,22083,2,20150303,2331,29.0065,146.0003,5927,51.8,51,18.7895,34.8773,2,-999.,9,231.04,2,1.78,2,0.15,2,0.08,2,0.04,2,-999.,9,-999.,9,-999.,9,-999.,9,-999.,9
49UP20150228,RF15-02,5354,1,33,24469,2,20150303,2330,29.0065,146.0003,5927,77.4,77,18.6766,34.8605,2,-999.,9,228.06,2,1.98,2,0.60,2,0.26,2,0.06,2,-999.,9,-999.,9,-999.,9,-999.,9,-999.,9
49UP20150228,RF15-02,5354,1,32,22105,2,20150303,2328,29.0065,146.0003,5927,102.1,101,18.5782,34.8472,2,-999.,9,226.73,2,2.03,2,0.84,2,0.24,2,0.07,2,-999.,9,-999.,9,-999.,9,-999.,9,-999.,9
49UP20150228,RF15-02,5354,1,31,23515,2,20150303,2327,29.0065,146.0003,5927,128.4,127,18.4980,34.8358,2,-999.,9,226.08,2,2.12,2,0.99,2,0.20,2,0.08,2,-999.,9,-999.,9,-999.,9,-999.,9,-999.,9
49UP20150228,RF15-02,5354,1,30,22097,2,20150303,2326,29.0065,146.0003,5927,154.5,153,18.4576,34.8423,2,-999.,9,227.86,2,2.08,2,0.86,2,0.26,2,0.07,2,-999.,9,-999.,9,-999.,9,-999.,9,-999.,9
49UP20150228,RF15-02,5354,1,29,22102,2,20150303,2324,29.0065,146.0003,5927,206.3,205,18.3281,34.8220,2,-999.,9,226.46,2,2.20,2,1.12,2,0.18,2,0.09,2,-999.,9,-999.,9,-999.,9,-999.,9,-999.,9
49UP20150228,RF15-02,5354,1,28,22108,2,20150303,2322,29.0065,146.0003,5927,255.3,253,17.0253,34.7128,2,-999.,9,213.93,2,3.75,2,4.27,2,0.01,2,0.28,2,-999.,9,-999.,9,-999.,9,-999.,9,-999.,9
49UP20150228,RF15-02,5354,1,27,21998,2,20150303,2320,29.0065,146.0003,5927,306.6,304,16.5985,34.6898,2,-999.,9,221.06,2,4.06,2,4.29,2,0.01,2,0.29,2,-999.,9,-999.,9,-999.,9,-999.,9,-999.,9
49UP20150228,RF15-02,5354,1,26,22084,2,20150303,2317,29.0065,146.0003,5927,405.5,402,15.7564,34.6432,2,-999.,9,221.37,2,5.68,2,5.72,2,0.01,2,0.38,2,-999.,9,-999.,9,-999.,9,-999.,9,-999.,9
49UP20150228,RF15-02,5354,1,25,22098,2,20150303,2314,29.0065,146.0003,5927,505.8,502,14.6124,34.5409,2,-999.,9,220.22,6,8.30,6,7.57,6,0.01,6,0.52,6,-999.,9,-999.,9,-999.,9,-999.,9,-999.,9
49UP20150228,RF15-02,5354,1,20,22093,2,20150303,2311,29.0065,146.0003,5927,606.4,601,11.2030,34.2734,2,-999.,9,190.45,2,20.83,2,15.85,2,0.00,2,1.10,2,-999.,9,-999.,9,-999.,9,-999.,9,-999.,9
49UP20150228,RF15-02,5354,1,21,22078,2,20150303,2312,29.0065,146.0003,5927,606.5,602,11.2057,34.2740,2,-999.,9,190.54,2,20.72,2,15.83,2,0.00,2,1.11,2,-999.,9,-999.,9,-999.,9,-999.,9,-999.,9
49UP20150228,RF15-02,5354,1,19,22092,2,20150303,2309,29.0065,146.0003,5927,705.5,700,8.7259,34.1088,2,-999.,9,177.44,2,34.49,2,21.39,2,0.00,2,1.52,2,-999.,9,-999.,9,-999.,9,-999.,9,-999.,9
49UP20150228,RF15-02,5354,1,15,22088,2,20150303,2306,29.0065,146.0003,5927,808.5,801,6.1017,34.0288,2,-999.,9,127.60,2,61.70,2,30.84,2,0.00,2,2.22,2,-999.,9,-999.,9,-999.,9,-999.,9,-999.,9
49UP20150228,RF15-02,5354,1,14,21999,2,20150303,2304,29.0065,146.0003,5927,908.3,900,4.9084,34.1024,2,-999.,9,83.15,2,85.59,2,36.84,2,0.00,2,2.64,2,-999.,9,-999.,9,-999.,9,-999.,9,-999.,9
49UP20150228,RF15-02,5354,1,13,22667,2,20150303,2301,29.0065,146.0003,5927,1009.5,1000,4.2434,34.2055,2,-999.,9,55.79,2,104.44,2,39.97,2,0.00,2,2.86,2,-999.,9,-999.,9,-999.,9,-999.,9,-999.,9
49UP20150228,RF15-02,5354,1,9,23518,2,20150303,2257,29.0065,146.0003,5927,1211.2,1200,3.4727,34.3556,2,-999.,9,38.06,2,126.53,2,42.36,2,0.00,2,3.02,2,-999.,9,-999.,9,-999.,9,-999.,9,-999.,9
49UP20150228,RF15-02,5354,1,8,22081,2,20150303,2253,29.0065,146.0003,5927,1413.3,1399,3.0021,34.4465,2,-999.,9,42.61,2,138.62,2,42.50,2,0.00,2,3.01,2,-999.,9,-999.,9,-999.,9,-999.,9,-999.,9
49UP20150228,RF15-02,5354,1,7,23516,2,20150303,2249,29.0065,146.0003,5927,1621.0,1604,2.4989,34.5180,2,-999.,9,53.13,6,150.48,6,42.14,6,0.00,6,2.98,6,-999.,9,-999.,9,-999.,9,-999.,9,-999.,9
49UP20150228,RF15-02,5354,1,6,22113,2,20150303,2244,29.0065,146.0003,5927,1820.7,1801,2.2672,34.5596,2,-999.,9,73.17,2,151.39,2,40.98,2,0.00,2,2.88,2,-999.,9,-999.,9,-999.,9,-999.,9,-999.,9
49UP20150228,RF15-02,5354,1,5,22094,2,20150303,2244,29.0065,146.0003,5927,1820.7,1801,2.2676,34.5594,2,-999.,9,72.97,2,151.32,2,41.03,2,0.00,2,2.88,2,-999.,9,-999.,9,-999.,9,-999.,9,-999.,9
49UP20150228,RF15-02,5354,1,4,22077,2,20150303,2239,29.0065,146.0003,5927,2025.2,2002,2.0836,34.5868,2,-999.,9,85.92,2,152.41,2,40.14,2,0.00,2,2.82,2,-999.,9,-999.,9,-999.,9,-999.,9,-999.,9
49UP20150228,RF15-02,5356,1,-999,0,2,20150304,1237,27.9762,146.985,5763,0.0,0,19.1355,34.8793,2,34.8788,2,233.35,2,1.56,2,0.00,2,0.00,2,0.05,2,2004.4,2,2286.3,2,8.0223,2,-999.,9,-999.,9
49UP20150228,RF15-02,5356,1,36,22109,2,20150304,1254,27.9762,146.985,5763,10.6,11,19.1192,34.8787,2,34.8786,2,234.16,2,1.49,2,0.00,2,0.00,2,0.04,2,2008.2,2,2289.2,2,8.0311,2,-999.,9,-999.,9
49UP20150228,RF15-02,5356,1,35,22112,2,20150304,1253,27.9762,146.985,5763,27.1,27,18.8700,34.8724,2,-999.0000,9,235.05,2,1.44,2,0.01,2,0.00,2,0.03,2,2004.7,2,2288.5,2,8.0337,6,-999.,9,-999.,9
49UP20150228,RF15-02,5356,1,34,22083,3,20150304,1250,27.9762,146.985,5763,50.3,50,18.8213,34.8779,2,-999.0000,9,233.06,2,1.61,2,0.07,2,0.02,2,0.04,2,2003.9,2,2289.7,2,8.0333,2,-999.,9,-999.,9
49UP20150228,RF15-02,5356,1,33,24469,2,20150304,1249,27.9762,146.985,5763,75.4,75,18.7381,34.8713,2,-999.0000,9,230.90,2,1.83,2,0.25,2,0.12,2,0.06,2,2007.2,2,2287.2,2,8.0302,2,-999.,9,-999.,9
49UP20150228,RF15-02,5356,1,32,22105,2,20150304,1246,27.9762,146.985,5763,102.7,102,18.6075,34.8577,2,34.8561,4,227.39,2,1.92,2,0.71,2,0.27,2,0.08,2,2012.7,2,2286.5,2,8.0217,2,-999.,9,-999.,9
49UP20150228,RF15-02,5356,1,31,23515,2,20150304,1245,27.9762,146.985,5763,127.1,126,18.4932,34.8422,2,-999.0000,9,225.60,2,2.12,2,0.98,2,0.25,2,0.10,2,2015.7,2,2285.8,2,8.0125,2,-999.,9,-999.,9
49UP20150228,RF15-02,5356,1,30,22097,2,20150304,1244,27.9762,146.985,5763,152.4,151,18.4380,34.8427,2,-999.0000,9,227.65,2,2.07,2,0.84,2,0.26,2,0.09,2,2009.5,2,2286.9,2,8.0157,2,-999.,9,-999.,9
49UP20150228,RF15-02,5356,1,29,22102,2,20150304,1242,27.9762,146.985,5763,205.2,204,17.8658,34.7696,2,34.7707,6,219.54,6,2.83,6,2.50,6,0.05,6,0.20,6,2020.4,2,2282.7,2,7.9931,2,-999.,9,-999.,9
49UP20150228,RF15-02,5356,1,28,22108,2,20150304,1240,27.9762,146.985,5763,253.5,252,17.5996,34.7764,2,-999.0000,9,227.58,2,2.73,2,2.16,2,0.12,2,0.18,2,2019.0,2,2281.6,2,7.9983,2,-999.,9,-999.,9
49UP20150228,RF15-02,5356,1,27,21998,2,20150304,1238,27.9762,146.985,5763,303.7,301,16.8571,34.7078,2,34.7071,2,217.07,2,3.82,2,4.23,2,0.01,2,0.30,2,2030.4,2,2278.2,2,7.9603,2,-999.,9,-999.,9
49UP20150228,RF15-02,5356,1,26,22084,2,20150304,1235,27.9762,146.985,5763,404.8,402,16.1939,34.6451,2,34.6363,4,202.39,2,6.56,2,6.89,2,0.01,2,0.47,2,2049.2,2,2273.3,2,7.9210,2,-999.,9,-999.,9
49UP20150228,RF15-02,5356,1,25,22098,2,20150304,1232,27.9762,146.985,5763,507.1,503,13.3113,34.4347,2,-999.0000,9,187.69,2,15.29,2,12.64,2,0.00,2,0.89,2,2093.3,6,2273.2,6,7.8284,2,-999.,9,-999.,9
49UP20150228,RF15-02,5356,1,24,22110,2,20150304,1229,27.9762,146.985,5763,606.1,601,9.8690,34.1885,2,34.1879,2,179.39,6,28.57,6,19.10,6,0.00,6,1.37,6,2139.0,2,2274.5,2,7.7177,2,-999.,9,-999.,9
49UP20150228,RF15-02,5356,1,23,22096,2,20150304,1226,27.9762,146.985,5763,707.1,701,7.2713,34.0597,2,-999.0000,9,146.33,2,48.81,2,26.97,2,0.00,2,1.94,2,2199.0,2,2285.7,2,7.5913,2,-999.,9,-999.,9
49UP20150228,RF15-02,5356,1,22,22111,2,20150304,1223,27.9762,146.985,5763,808.9,802,5.6027,34.0547,2,34.0572,4,110.85,2,71.53,2,33.11,2,0.00,2,2.40,2,2251.6,2,2302.8,2,7.4870,2,-999.,9,-999.,9
49UP20150228,RF15-02,5356,1,21,22078,2,20150304,1220,27.9762,146.985,5763,911.4,903,4.5318,34.1547,2,-999.0000,9,67.94,2,95.73,2,38.43,2,0.00,2,2.77,2,2305.8,2,2327.0,2,7.4010,2,-999.,9,-999.,9
49UP20150228,RF15-02,5356,1,20,22093,2,20150304,1217,27.9762,146.985,5763,1010.5,1001,4.0311,34.2426,2,34.2424,2,49.49,2,111.24,2,40.44,2,0.00,2,2.92,2,2331.7,2,2344.5,2,7.3766,2,-999.,9,-999.,9
49UP20150228,RF15-02,5356,1,19,22092,2,20150304,1212,27.9762,146.985,5763,1212.8,1201,3.2228,34.3935,2,34.3924,2,36.71,6,134.01,6,42.36,6,0.00,6,3.05,6,2361.2,2,2375.3,2,7.3620,2,-999.,9,-999.,9
49UP20150228,RF15-02,5356,1,18,22101,2,20150304,1206,27.9762,146.985,5763,1414.7,1401,2.7606,34.4673,2,34.4675,2,40.31,2,146.95,2,42.64,2,0.00,2,3.05,2,2374.6,2,2391.4,2,7.3711,2,-999.,9,-999.,9
49UP20150228,RF15-02,5356,1,17,22090,2,20150304,1201,27.9762,146.985,5763,1620.4,1603,2.4112,34.5296,2,34.5290,2,56.32,2,153.12,2,41.84,2,0.00,2,2.98,2,2375.1,2,2403.0,2,7.4061,2,-999.,9,-999.,9
49UP20150228,RF15-02,5356,1,16,22089,2,20150304,1156,27.9762,146.985,5763,1821.0,1801,2.1335,34.5727,2,34.5725,2,72.65,2,156.84,2,40.91,2,0.00,2,2.91,2,2370.2,2,2408.2,2,7.4395,2,-999.,9,-999.,9
49UP20150228,RF15-02,5356,1,15,22088,2,20150304,1151,27.9762,146.985,5763,2024.1,2001,1.9925,34.5976,2,34.5974,2,86.40,2,156.37,2,40.17,2,0.00,2,2.84,2,2369.5,2,2411.5,2,7.4623,2,-999.,9,-999.,9
49UP20150228,RF15-02,5356,1,14,21999,2,20150304,1144,27.9762,146.985,5763,2277.7,2250,1.8268,34.6238,2,34.6238,2,104.07,2,154.93,2,39.04,2,0.00,2,2.75,2,2355.0,2,2415.4,2,7.4985,2,-999.,9,-999.,9
49UP20150228,RF15-02,5356,1,13,22667,2,20150304,1138,27.9762,146.985,5763,2534.5,2503,1.7234,34.6401,2,34.6405,2,115.17,2,154.25,2,38.30,2,0.00,2,2.70,2,2348.9,2,2416.0,2,7.5208,2,-999.,9,-999.,9
49UP20150228,RF15-02,5356,1,12,22074,2,20150304,1133,27.9762,146.985,5763,2788.6,2752,1.6283,34.6528,2,34.6521,2,124.06,2,153.86,2,37.77,2,0.00,2,2.65,2,2346.9,6,2416.4,6,7.5340,2,-999.,9,-999.,9
49UP20150228,RF15-02,5356,1,11,24268,2,20150304,1127,27.9762,146.985,5763,3042.6,3001,1.5575,34.6634,2,34.6645,2,132.80,2,152.34,2,37.25,2,0.00,2,2.61,2,2341.4,2,2416.4,2,7.5491,2,-999.,9,-999.,9
49UP20150228,RF15-02,5356,1,10,24267,2,20150304,1121,27.9762,146.985,5763,3299.5,3252,1.5281,34.6698,2,34.6699,2,138.74,2,150.93,2,36.92,2,0.00,2,2.58,2,2343.4,2,2416.4,2,7.5597,2,-999.,9,-999.,9
49UP20150228,RF15-02,5356,1,9,23518,2,20150304,1115,27.9762,146.985,5763,3553.6,3501,1.5307,34.6721,2,34.6719,2,140.61,2,150.57,2,36.80,2,0.00,2,2.57,2,2335.7,6,2417.3,6,7.5610,2,-999.,9,-999.,9
49UP20150228,RF15-02,5356,1,8,22081,2,20150304,1109,27.9762,146.985,5763,3809.9,3751,1.5068,34.6771,2,34.6774,2,145.61,2,149.73,2,36.40,2,0.00,2,2.54,2,2328.9,2,2417.1,2,7.5703,2,-999.,9,-999.,9
49UP20150228,RF15-02,5356,1,7,23516,2,20150304,1103,27.9762,146.985,5763,4066.6,4001,1.4933,34.6813,2,34.6808,6,149.99,2,148.36,2,36.11,2,0.00,2,2.52,2,2329.4,2,2416.0,2,7.5802,2,-999.,9,-999.,9
49UP20150228,RF15-02,5356,1,6,22113,2,20150304,1052,27.9762,146.985,5763,4581.7,4503,1.4922,34.6867,2,34.6859,2,157.58,2,146.09,2,35.65,2,0.00,2,2.48,2,2323.1,2,2414.7,2,7.5875,2,-999.,9,-999.,9
49UP20150228,RF15-02,5356,1,5,22094,2,20150304,1047,27.9762,146.985,5763,4837.0,4751,1.5046,34.6884,2,34.6893,2,159.52,2,145.15,2,35.50,2,0.00,2,2.47,2,2319.0,2,2413.7,2,7.5912,6,-999.,9,-999.,9
49UP20150228,RF15-02,5356,1,4,22077,2,20150304,1042,27.9762,146.985,5763,5094.1,5001,1.5200,34.6899,2,34.6893,2,161.86,2,143.78,2,35.26,2,0.00,2,2.46,2,2317.4,2,2413.8,2,7.5954,2,-999.,9,-999.,9
49UP20150228,RF15-02,5356,1,3,22104,2,20150304,1036,27.9762,146.985,5763,5352.9,5252,1.5439,34.6908,2,34.6900,2,163.21,6,143.09,6,35.24,6,0.00,6,2.45,6,2315.9,2,2411.8,2,7.5974,2,-999.,9,-999.,9
49UP20150228,RF15-02,5356,1,2,22075,2,20150304,1031,27.9762,146.985,5763,5611.1,5502,1.5705,34.6914,2,34.6928,2,164.75,2,141.66,2,35.11,2,0.00,2,2.44,2,2317.1,2,2411.6,2,7.5991,2,-999.,9,-999.,9
49UP20150228,RF15-02,5356,1,1,21997,2,20150304,1024,27.9762,146.985,5763,5906.4,5788,1.5991,34.6926,2,34.6931,2,167.51,2,139.32,2,34.91,2,0.00,2,2.43,2,2322.0,2,2408.8,2,7.6008,6,-999.,9,-999.,9
49UP20150228,RF15-02,5358,1,-999,0,2,20150304,2227,29.0078,147.226,6088,0.0,0,18.1687,34.8039,2,-999.,9,239.31,2,2.03,2,0.24,2,0.04,2,0.06,2,-999.,9,-999.,9,-999.,9,-999.,9,-999.,9
49UP20150228,RF15-02,5358,1,36,22109,3,20150304,2244,29.0078,147.226,6088,11.0,11,18.1736,34.8040,2,-999.,9,239.77,2,2.06,2,0.25,2,0.03,2,0.05,2,-999.,9,-999.,9,-999.,9,-999.,9,-999.,9
49UP20150228,RF15-02,5358,1,35,22112,2,20150304,2242,29.0078,147.226,6088,26.3,26,18.0608,34.8049,2,-999.,9,239.84,2,1.95,2,0.29,2,0.04,2,0.05,2,-999.,9,-999.,9,-999.,9,-999.,9,-999.,9
49UP20150228,RF15-02,5358,1,34,22083,2,20150304,2241,29.0078,147.226,6088,51.3,51,17.6618,34.7784,2,-999.,9,238.58,2,2.37,2,0.92,2,0.11,2,0.09,2,-999.,9,-999.,9,-999.,9,-999.,9,-999.,9
49UP20150228,RF15-02,5358,1,33,24469,2,20150304,2239,29.0078,147.226,6088,75.5,75,17.4339,34.7736,2,-999.,9,236.04,2,2.61,2,1.50,2,0.15,2,0.12,2,-999.,9,-999.,9,-999.,9,-999.,9,-999.,9
49UP20150228,RF15-02,5358,1,32,22105,2,20150304,2236,29.0078,147.226,6088,101.7,101,17.3579,34.7701,2,-999.,9,231.33,2,2.92,2,2.31,2,0.11,2,0.17,2,-999.,9,-999.,9,-999.,9,-999.,9,-999.,9
49UP20150228,RF15-02,5358,1,31,23515,2,20150304,2235,29.0078,147.226,6088,125.4,125,17.2610,34.7598,2,-999.,9,232.26,2,2.94,2,2.36,2,0.21,2,0.17,2,-999.,9,-999.,9,-999.,9,-999.,9,-999.,9
49UP20150228,RF15-02,5358,1,30,22097,2,20150304,2234,29.0078,147.226,6088,151.4,150,17.2045,34.7592,2,-999.,9,230.35,2,3.01,2,2.53,2,0.11,2,0.18,2,-999.,9,-999.,9,-999.,9,-999.,9,-999.,9
49UP20150228,RF15-02,5358,1,29,22102,2,20150304,2232,29.0078,147.226,6088,203.1,202,17.1027,34.7511,2,-999.,9,230.48,2,3.18,2,2.66,2,0.05,2,0.19,2,-999.,9,-999.,9,-999.,9,-999.,9,-999.,9
49UP20150228,RF15-02,5358,1,28,22108,2,20150304,2230,29.0078,147.226,6088,252.3,250,16.9890,34.7398,2,-999.,9,229.85,2,3.23,2,2.64,2,0.10,2,0.19,2,-999.,9,-999.,9,-999.,9,-999.,9,-999.,9
49UP20150228,RF15-02,5358,1,27,21998,2,20150304,2229,29.0078,147.226,6088,302.0,300,16.2211,34.6492,2,-999.,9,201.19,6,6.87,6,6.88,6,0.01,6,0.46,6,-999.,9,-999.,9,-999.,9,-999.,9,-999.,9
49UP20150228,RF15-02,5358,1,25,22098,2,20150304,2226,29.0078,147.226,6088,404.3,401,14.6742,34.5324,2,-999.,9,195.54,2,10.48,2,9.73,2,0.00,2,0.66,2,-999.,9,-999.,9,-999.,9,-999.,9,-999.,9
49UP20150228,RF15-02,5358,1,26,22084,2,20150304,2226,29.0078,147.226,6088,404.4,401,14.6689,34.5320,2,-999.,9,195.75,2,10.48,2,9.70,2,0.00,2,0.66,2,-999.,9,-999.,9,-999.,9,-999.,9,-999.,9
49UP20150228,RF15-02,5358,1,21,22078,2,20150304,2223,29.0078,147.226,6088,504.2,500,12.1608,34.3468,2,-999.,9,193.59,2,18.28,2,14.05,2,0.00,2,0.98,2,-999.,9,-999.,9,-999.,9,-999.,9,-999.,9
49UP20150228,RF15-02,5358,1,20,22093,2,20150304,2221,29.0078,147.226,6088,605.4,600,9.5741,34.1521,2,-999.,9,190.43,2,28.75,2,18.61,2,0.00,2,1.33,2,-999.,9,-999.,9,-999.,9,-999.,9,-999.,9
49UP20150228,RF15-02,5358,1,19,22092,2,20150304,2218,29.0078,147.226,6088,707.7,702,7.5103,34.0637,2,-999.,9,151.89,2,45.84,2,26.01,2,0.00,2,1.87,2,-999.,9,-999.,9,-999.,9,-999.,9,-999.,9
49UP20150228,RF15-02,5358,1,15,22088,2,20150304,2215,29.0078,147.226,6088,809.1,802,5.2773,34.0652,2,-999.,9,98.93,2,76.55,2,34.71,2,0.00,2,2.51,2,-999.,9,-999.,9,-999.,9,-999.,9,-999.,9
49UP20150228,RF15-02,5358,1,14,21999,2,20150304,2213,29.0078,147.226,6088,909.3,901,4.4461,34.1704,2,-999.,9,64.08,2,98.66,2,38.87,2,0.00,2,2.80,2,-999.,9,-999.,9,-999.,9,-999.,9,-999.,9
49UP20150228,RF15-02,5358,1,13,22667,2,20150304,2210,29.0078,147.226,6088,1012.8,1004,3.9322,34.2559,2,-999.,9,46.80,2,113.46,2,40.90,2,0.00,2,2.94,2,-999.,9,-999.,9,-999.,9,-999.,9,-999.,9
49UP20150228,RF15-02,5358,1,9,23518,2,20150304,2205,29.0078,147.226,6088,1213.3,1202,3.2689,34.3758,2,-999.,9,37.11,2,132.56,2,42.44,2,0.00,2,3.04,2,-999.,9,-999.,9,-999.,9,-999.,9,-999.,9
49UP20150228,RF15-02,5358,1,8,22081,2,20150304,2201,29.0078,147.226,6088,1417.6,1403,2.8491,34.4597,2,-999.,9,42.46,6,143.39,6,42.66,6,0.00,6,3.03,6,-999.,9,-999.,9,-999.,9,-999.,9,-999.,9
49UP20150228,RF15-02,5358,1,6,22113,2,20150304,2155,29.0078,147.226,6088,1618.0,1601,2.4981,34.5129,2,-999.,9,50.20,2,152.07,2,42.38,2,0.00,2,3.00,2,-999.,9,-999.,9,-999.,9,-999.,9,-999.,9
49UP20150228,RF15-02,5358,1,7,23516,2,20150304,2155,29.0078,147.226,6088,1619.2,1602,2.4987,34.5128,2,-999.,9,49.58,2,152.15,2,42.38,2,0.00,2,3.01,2,-999.,9,-999.,9,-999.,9,-999.,9,-999.,9
49UP20150228,RF15-02,5358,1,5,22094,2,20150304,2150,29.0078,147.226,6088,1822.1,1802,2.2161,34.5634,2,-999.,9,69.02,2,154.57,2,41.26,2,0.00,2,2.91,2,-999.,9,-999.,9,-999.,9,-999.,9,-999.,9
49UP20150228,RF15-02,5358,1,4,22077,2,20150304,2146,29.0078,147.226,6088,2024.1,2001,2.0122,34.5925,2,-999.,9,81.91,2,156.93,2,40.52,2,0.00,2,2.85,2,-999.,9,-999.,9,-999.,9,-999.,9,-999.,9