BOTTLE,20171117JMAGEMD
EXPOCODE,SECT_ID,STNNBR,CASTNO,SAMPNO,BTLNBR,BTLNBR_FLAG_W,DATE,TIME,LATITUDE,LONGITUDE,DEPTH,CTDPRS,CTDDEP,CTDTMP,CTDSAL,CTDSAL_FLAG_W,SALNTY,SALNTY_FLAG_W,OXYGEN,OXYGEN_FLAG_W,SILCAT,SILCAT_FLAG_W,NO2+NO3,NO2+NO3_FLAG_W,NITRIT,NITRIT_FLAG_W,PHSPHT,PHSPHT_FLAG_W,TCARBN,TCARBN_FLAG_W,ALKALI,ALKALI_FLAG_W,PH_TOT,PH_TOT_FLAG_W,CFC-11,CFC-11_FLAG_W,CFC-12,CFC-12_FLAG_W
,,,,,,,UTC,UTC,,,METER,DBAR,METERS,ITS-90,PSS-78,,PSS-78,,UMOL/KG,,UMOL/KG,,UMOL/KG,,UMOL/KG,,UMOL/KG,,UMOL/KG,,UMOL/KG,,@25DEG-C,,PMOL/KG,,PMOL/KG,
49UP20150228,RF15-02,5348,1,-999,0,2,20150302,1235,31.9883,143.0053,5684,0.0,0,17.5189,34.7962,2,34.8049,2,235.01,2,3.13,2,1.97,2,0.10,2,0.20,2,2018.3,2,2286.4,2,8.0093,2,-999.,9,-999.,9
49UP20150228,RF15-02,5348,1,36,22109,2,20150302,1257,31.9883,143.0053,5684,10.3,10,17.5232,34.7962,2,34.7958,6,235.26,2,3.14,2,1.93,2,0.10,2,0.16,2,2014.3,2,2285.1,2,8.0104,2,-999.,9,-999.,9
49UP20150228,RF15-02,5348,1,35,22112,2,20150302,1256,31.9883,143.0053,5684,26.7,27,17.5202,34.7953,2,-999.0000,9,235.19,2,3.16,2,1.96,2,0.10,2,0.16,2,2016.4,2,2286.7,2,8.0055,2,-999.,9,-999.,9
49UP20150228,RF15-02,5348,1,34,22083,2,20150302,1255,31.9883,143.0053,5684,50.8,50,17.5314,34.7962,2,-999.0000,9,235.19,2,3.14,2,1.93,2,0.10,2,0.16,2,2013.7,2,2284.6,2,8.0069,2,-999.,9,-999.,9
49UP20150228,RF15-02,5348,1,33,24469,2,20150302,1254,31.9883,143.0053,5684,78.0,77,17.4320,34.7821,2,-999.0000,9,233.17,2,3.29,2,2.17,2,0.12,2,0.18,2,2019.8,2,2284.2,2,8.0033,2,-999.,9,-999.,9
49UP20150228,RF15-02,5348,1,32,22105,2,20150302,1252,31.9883,143.0053,5684,102.8,102,17.2499,34.7667,2,34.7671,2,229.63,2,3.71,2,2.77,2,0.15,2,0.21,2,2022.3,2,2285.4,2,7.9946,2,-999.,9,-999.,9
49UP20150228,RF15-02,5348,1,31,23515,2,20150302,1251,31.9883,143.0053,5684,127.6,127,16.9890,34.7409,2,-999.0000,9,227.74,2,3.78,2,3.08,2,0.11,2,0.23,2,2024.4,2,2281.2,2,7.9857,2,-999.,9,-999.,9
49UP20150228,RF15-02,5348,1,30,22097,2,20150302,1249,31.9883,143.0053,5684,154.0,153,16.9210,34.7405,2,-999.0000,9,229.30,2,3.43,2,2.90,2,0.10,2,0.22,2,2026.1,2,2281.5,2,7.9836,6,-999.,9,-999.,9
49UP20150228,RF15-02,5348,1,29,22102,2,20150302,1245,31.9883,143.0053,5684,205.0,203,16.8887,34.7385,2,34.7400,2,229.63,2,3.47,2,2.93,2,0.09,2,0.23,2,2025.4,2,2281.7,2,7.9844,2,-999.,9,-999.,9
49UP20150228,RF15-02,5348,1,28,22108,2,20150302,1243,31.9883,143.0053,5684,253.9,252,16.7493,34.7154,2,-999.0000,9,223.23,2,4.51,2,3.83,2,0.06,2,0.29,2,2031.8,2,2279.3,2,7.9814,2,-999.,9,-999.,9
49UP20150228,RF15-02,5348,1,27,21998,2,20150302,1241,31.9883,143.0053,5684,303.4,301,15.9799,34.6294,2,34.6294,2,198.72,6,7.70,6,7.48,6,0.02,6,0.51,6,2057.7,2,2277.1,2,7.9193,2,-999.,9,-999.,9
49UP20150228,RF15-02,5348,1,26,22084,2,20150302,1239,31.9883,143.0053,5684,406.6,403,13.8334,34.4854,2,34.4884,4,180.38,2,15.90,2,12.57,2,0.01,2,0.88,2,2099.3,2,2276.6,2,7.8365,2,-999.,9,-999.,9
49UP20150228,RF15-02,5348,1,25,22098,2,20150302,1235,31.9883,143.0053,5684,506.5,502,11.3372,34.3256,2,-999.0000,9,169.93,2,26.98,2,17.57,2,0.00,2,1.24,2,2144.6,2,2280.5,2,7.7534,2,-999.,9,-999.,9
49UP20150228,RF15-02,5348,1,24,22110,2,20150302,1233,31.9883,143.0053,5684,606.0,601,8.7093,34.1735,2,34.1727,2,154.53,2,42.52,2,23.52,2,0.00,2,1.69,2,2188.4,2,2285.7,2,7.6569,2,-999.,9,-999.,9
49UP20150228,RF15-02,5348,1,23,22096,2,20150302,1230,31.9883,143.0053,5684,708.1,702,6.7592,34.1297,2,-999.0000,9,124.77,2,62.80,2,29.71,2,0.00,2,2.14,2,2233.9,2,2299.8,2,7.5506,2,-999.,9,-999.,9
49UP20150228,RF15-02,5348,1,22,22111,2,20150302,1227,31.9883,143.0053,5684,810.0,803,5.3562,34.1375,2,34.1376,2,95.58,6,81.93,6,34.79,6,0.00,6,2.51,6,2274.9,2,2314.0,2,7.4663,2,-999.,9,-999.,9
49UP20150228,RF15-02,5348,1,21,22078,2,20150302,1224,31.9883,143.0053,5684,911.1,903,4.3824,34.1624,2,-999.0000,9,65.62,2,99.76,2,38.96,2,0.00,2,2.80,2,2313.7,2,2330.0,2,7.3935,2,-999.,9,-999.,9
49UP20150228,RF15-02,5348,1,20,22093,2,20150302,1222,31.9883,143.0053,5684,1012.0,1003,4.0202,34.2621,2,34.2623,2,53.62,2,112.64,2,40.20,2,0.00,2,2.88,2,2331.3,2,2346.8,2,7.3803,6,-999.,9,-999.,9
49UP20150228,RF15-02,5348,1,19,22092,2,20150302,1217,31.9883,143.0053,5684,1216.1,1204,3.2825,34.3650,2,34.3650,2,41.55,2,132.35,2,41.97,2,0.00,2,3.01,2,2361.8,2,2369.6,2,7.3649,2,-999.,9,-999.,9
49UP20150228,RF15-02,5348,1,18,22101,2,20150302,1212,31.9883,143.0053,5684,1419.1,1404,2.7931,34.4482,2,34.4480,2,40.53,2,145.99,2,42.65,2,0.00,2,3.04,2,2375.2,2,2388.1,2,7.3677,2,-999.,9,-999.,9
49UP20150228,RF15-02,5348,1,17,22090,2,20150302,1207,31.9883,143.0053,5684,1620.2,1603,2.4339,34.5072,2,34.5072,2,45.68,2,155.72,2,42.63,2,0.00,2,3.03,2,2393.9,3,2399.1,2,7.3814,2,-999.,9,-999.,9
49UP20150228,RF15-02,5348,1,16,22089,2,20150302,1203,31.9883,143.0053,5684,1823.4,1803,2.2090,34.5491,2,34.5486,2,56.27,6,159.83,6,42.14,6,0.00,6,2.98,6,2382.4,2,2406.3,2,7.4036,2,-999.,9,-999.,9
49UP20150228,RF15-02,5348,1,15,22088,2,20150302,1158,31.9883,143.0053,5684,2027.6,2004,2.0332,34.5816,2,34.5829,2,69.56,2,161.73,2,41.43,2,0.00,2,2.93,2,2381.1,2,2410.0,2,7.4310,2,-999.,9,-999.,9
49UP20150228,RF15-02,5348,1,14,21999,2,20150302,1153,31.9883,143.0053,5684,2280.6,2252,1.8611,34.6118,2,34.6119,2,87.17,2,161.26,2,40.32,2,0.00,2,2.84,2,2374.9,6,2414.7,6,7.4632,2,-999.,9,-999.,9
49UP20150228,RF15-02,5348,1,13,22667,2,20150302,1148,31.9883,143.0053,5684,2536.4,2504,1.7143,34.6358,2,34.6352,2,104.20,2,160.08,2,39.27,2,0.00,2,2.76,2,2358.4,2,2416.5,2,7.4995,2,-999.,9,-999.,9
49UP20150228,RF15-02,5348,1,12,22074,2,20150302,1142,31.9883,143.0053,5684,2789.9,2752,1.6317,34.6497,2,34.6496,2,115.77,2,158.34,2,38.53,2,0.00,2,2.71,2,2354.3,2,2417.2,2,7.5207,2,-999.,9,-999.,9
49UP20150228,RF15-02,5348,1,11,24268,2,20150302,1137,31.9883,143.0053,5684,3044.9,3002,1.5552,34.6619,2,34.6626,6,127.49,2,156.15,2,37.77,2,0.00,2,2.64,2,2346.1,2,2418.0,2,7.5408,2,-999.,9,-999.,9
49UP20150228,RF15-02,5348,1,10,24267,2,20150302,1129,31.9883,143.0053,5684,3301.0,3253,1.5111,34.6700,2,34.6715,4,135.43,2,154.18,2,37.24,2,0.00,2,2.60,2,2341.8,2,2419.3,2,7.5563,2,-999.,9,-999.,9
49UP20150228,RF15-02,5348,1,9,23518,2,20150302,1122,31.9883,143.0053,5684,3556.8,3503,1.4777,34.6762,2,34.6763,2,142.71,2,152.51,2,36.80,2,0.00,2,2.56,2,2333.5,6,2418.2,6,7.5660,2,-999.,9,-999.,9
49UP20150228,RF15-02,5348,1,8,22081,2,20150302,1116,31.9883,143.0053,5684,3811.5,3751,1.4607,34.6806,2,34.6803,2,148.36,2,150.99,2,36.35,2,0.00,2,2.54,2,2330.6,2,2418.6,2,7.5736,2,-999.,9,-999.,9
49UP20150228,RF15-02,5348,1,7,23516,2,20150302,1111,31.9883,143.0053,5684,4068.8,4002,1.4496,34.6848,2,34.6853,2,154.14,2,148.37,2,35.97,2,0.00,2,2.50,2,2327.4,2,2416.5,2,7.5839,6,-999.,9,-999.,9
49UP20150228,RF15-02,5348,1,6,22113,2,20150302,1101,31.9883,143.0053,5684,4583.2,4503,1.4646,34.6890,2,34.6908,4,160.27,2,145.56,2,35.55,2,0.00,2,2.47,2,2322.6,2,2415.3,2,7.5920,2,-999.,9,-999.,9
49UP20150228,RF15-02,5348,1,5,22094,2,20150302,1056,31.9883,143.0053,5684,4838.0,4750,1.4810,34.6904,2,34.6904,2,162.30,2,144.10,2,35.42,2,0.00,2,2.45,2,2323.6,2,2412.5,2,7.5972,2,-999.,9,-999.,9
49UP20150228,RF15-02,5348,1,4,22077,2,20150302,1051,31.9883,143.0053,5684,5094.8,5000,1.5052,34.6911,2,34.6915,6,163.53,2,143.29,2,35.34,2,0.00,2,2.45,2,2320.0,2,2411.6,2,7.5965,2,-999.,9,-999.,9
49UP20150228,RF15-02,5348,1,3,22104,2,20150302,1045,31.9883,143.0053,5684,5354.0,5251,1.5336,34.6919,2,34.6955,4,164.23,2,142.57,2,35.35,2,0.00,2,2.45,2,2317.0,6,2410.9,6,7.5978,2,-999.,9,-999.,9
49UP20150228,RF15-02,5348,1,2,22075,2,20150302,1039,31.9883,143.0053,5684,5613.1,5502,1.5630,34.6923,2,34.6926,2,165.34,2,141.43,2,35.24,2,0.00,2,2.44,2,2316.0,2,2409.7,2,7.5973,2,-999.,9,-999.,9
49UP20150228,RF15-02,5348,1,1,21997,2,20150302,1034,31.9883,143.0053,5684,5836.6,5718,1.5910,34.6924,2,34.6965,4,166.25,6,140.76,6,35.14,6,0.00,6,2.44,6,2316.0,2,2409.0,2,7.6000,2,-999.,9,-999.,9
49UP20150228,RF15-02,5350,1,-999,0,2,20150302,2258,30.9787,144.0048,5761,0.0,0,17.3567,34.7823,2,-999.,9,235.64,2,3.03,2,2.02,2,0.10,2,0.18,2,-999.,9,-999.,9,-999.,9,-999.,9,-999.,9
49UP20150228,RF15-02,5350,1,36,22109,2,20150302,2320,30.9787,144.0048,5761,12.3,12,17.3581,34.7820,2,-999.,9,234.92,2,3.12,2,2.04,2,0.10,2,0.16,2,-999.,9,-999.,9,-999.,9,-999.,9,-999.,9
49UP20150228,RF15-02,5350,1,35,22112,2,20150302,2319,30.9787,144.0048,5761,26.9,27,17.3591,34.7823,2,-999.,9,234.82,2,3.08,2,2.04,2,0.10,2,0.16,2,-999.,9,-999.,9,-999.,9,-999.,9,-999.,9
49UP20150228,RF15-02,5350,1,34,22083,2,20150302,2317,30.9787,144.0048,5761,52.1,52,17.3572,34.7818,2,-999.,9,234.69,2,3.08,2,2.09,2,0.10,2,0.16,2,-999.,9,-999.,9,-999.,9,-999.,9,-999.,9
49UP20150228,RF15-02,5350,1,33,24469,2,20150302,2316,30.9787,144.0048,5761,76.9,76,17.3613,34.7821,2,-999.,9,234.53,2,3.13,2,2.05,2,0.10,2,0.16,2,-999.,9,-999.,9,-999.,9,-999.,9,-999.,9
49UP20150228,RF15-02,5350,1,32,22105,2,20150302,2313,30.9787,144.0048,5761,101.8,101,17.2842,34.7730,2,-999.,9,234.44,2,3.13,2,2.11,2,0.13,2,0.16,2,-999.,9,-999.,9,-999.,9,-999.,9,-999.,9
49UP20150228,RF15-02,5350,1,31,23515,2,20150302,2312,30.9787,144.0048,5761,128.1,127,17.0881,34.7562,2,-999.,9,234.90,2,3.17,2,2.19,2,0.17,2,0.17,2,-999.,9,-999.,9,-999.,9,-999.,9,-999.,9
49UP20150228,RF15-02,5350,1,30,22097,2,20150302,2310,30.9787,144.0048,5761,154.5,153,16.9558,34.7397,2,-999.,9,229.07,2,3.57,2,2.91,2,0.16,2,0.21,2,-999.,9,-999.,9,-999.,9,-999.,9,-999.,9
49UP20150228,RF15-02,5350,1,29,22102,2,20150302,2308,30.9787,144.0048,5761,201.6,200,16.8561,34.7381,2,-999.,9,230.79,2,3.37,2,2.73,2,0.16,2,0.20,2,-999.,9,-999.,9,-999.,9,-999.,9,-999.,9
49UP20150228,RF15-02,5350,1,28,22108,2,20150302,2307,30.9787,144.0048,5761,252.3,250,16.7657,34.7329,2,-999.,9,233.67,2,3.31,2,2.52,2,0.25,2,0.19,2,-999.,9,-999.,9,-999.,9,-999.,9,-999.,9
49UP20150228,RF15-02,5350,1,27,21998,2,20150302,2305,30.9787,144.0048,5761,303.3,301,16.6735,34.7260,2,-999.,9,233.65,2,3.34,2,2.59,2,0.26,2,0.19,2,-999.,9,-999.,9,-999.,9,-999.,9,-999.,9
49UP20150228,RF15-02,5350,1,26,22084,2,20150302,2302,30.9787,144.0048,5761,406.2,403,15.3751,34.5888,2,-999.,9,205.25,2,8.22,2,7.74,2,0.03,2,0.53,2,-999.,9,-999.,9,-999.,9,-999.,9,-999.,9
49UP20150228,RF15-02,5350,1,25,22098,2,20150302,2259,30.9787,144.0048,5761,506.7,503,12.2011,34.3638,2,-999.,9,196.10,4,20.46,2,14.86,2,0.00,2,1.04,2,-999.,9,-999.,9,-999.,9,-999.,9,-999.,9
49UP20150228,RF15-02,5350,1,21,22078,2,20150302,2256,30.9787,144.0048,5761,607.5,602,9.1609,34.1650,2,-999.,9,168.52,6,35.68,6,21.16,6,0.00,6,1.52,6,-999.,9,-999.,9,-999.,9,-999.,9,-999.,9
49UP20150228,RF15-02,5350,1,19,22092,2,20150302,2253,30.9787,144.0048,5761,710.2,704,6.7161,34.0498,2,-999.,9,142.97,2,55.56,2,28.08,2,0.00,2,2.03,2,-999.,9,-999.,9,-999.,9,-999.,9,-999.,9
49UP20150228,RF15-02,5350,1,20,22093,2,20150302,2253,30.9787,144.0048,5761,711.3,705,6.7147,34.0500,2,-999.,9,142.82,2,55.72,2,28.15,2,0.00,2,2.03,2,-999.,9,-999.,9,-999.,9,-999.,9,-999.,9
49UP20150228,RF15-02,5350,1,15,22088,2,20150302,2250,30.9787,144.0048,5761,811.7,805,5.2560,34.0738,2,-999.,9,104.34,2,77.78,2,34.22,2,0.00,2,2.47,2,-999.,9,-999.,9,-999.,9,-999.,9,-999.,9
49UP20150228,RF15-02,5350,1,14,21999,2,20150302,2247,30.9787,144.0048,5761,910.5,902,4.5276,34.1858,2,-999.,9,68.38,2,98.66,2,38.36,2,0.00,2,2.76,2,-999.,9,-999.,9,-999.,9,-999.,9,-999.,9
49UP20150228,RF15-02,5350,1,13,22667,2,20150302,2244,30.9787,144.0048,5761,1010.1,1001,3.9044,34.2690,2,-999.,9,48.72,2,114.82,2,40.77,2,0.00,2,2.92,2,-999.,9,-999.,9,-999.,9,-999.,9,-999.,9
49UP20150228,RF15-02,5350,1,9,23518,2,20150302,2239,30.9787,144.0048,5761,1214.4,1203,3.2036,34.3876,2,-999.,9,42.50,2,134.38,2,42.14,2,0.00,2,3.01,2,-999.,9,-999.,9,-999.,9,-999.,9,-999.,9
49UP20150228,RF15-02,5350,1,8,22081,2,20150302,2235,30.9787,144.0048,5761,1415.1,1401,2.7388,34.4583,2,-999.,9,42.52,2,147.20,2,42.54,2,0.00,2,3.03,2,-999.,9,-999.,9,-999.,9,-999.,9,-999.,9
49UP20150228,RF15-02,5350,1,7,23516,2,20150302,2231,30.9787,144.0048,5761,1617.3,1600,2.3993,34.5168,2,-999.,9,48.20,2,156.10,2,42.51,2,0.00,2,3.01,2,-999.,9,-999.,9,-999.,9,-999.,9,-999.,9
49UP20150228,RF15-02,5350,1,6,22113,2,20150302,2227,30.9787,144.0048,5761,1817.1,1797,2.1917,34.5545,2,-999.,9,60.12,6,159.47,6,41.98,6,0.00,6,2.96,6,-999.,9,-999.,9,-999.,9,-999.,9,-999.,9
49UP20150228,RF15-02,5350,1,5,22094,2,20150302,2223,30.9787,144.0048,5761,2022.9,1999,2.0019,34.5905,2,-999.,9,77.75,2,159.31,2,40.82,2,0.00,2,2.88,2,-999.,9,-999.,9,-999.,9,-999.,9,-999.,9
49UP20150228,RF15-02,5350,1,4,22077,2,20150302,2222,30.9787,144.0048,5761,2024.0,2000,2.0011,34.5907,2,-999.,9,78.25,2,159.35,2,40.83,2,0.00,2,2.87,2,-999.,9,-999.,9,-999.,9,-999.,9,-999.,9
49UP20150228,RF15-02,5352,1,-999,0,2,20150303,1233,29.9745,144.9573,5898,0.0,0,18.5217,34.8681,2,34.8639,2,233.78,2,2.01,2,0.21,2,0.05,2,0.08,2,2008.4,2,2287.6,2,8.0238,2,-999.,9,-999.,9
49UP20150228,RF15-02,5352,1,36,22109,2,20150303,1250,29.9745,144.9573,5898,14.0,14,18.5401,34.8670,2,34.8681,2,233.03,2,2.01,2,0.21,2,0.04,2,0.05,2,2008.4,2,2289.4,2,8.0287,2,-999.,9,-999.,9
49UP20150228,RF15-02,5352,1,35,22112,2,20150303,1249,29.9745,144.9573,5898,27.6,27,18.5363,34.8664,2,-999.0000,9,233.32,2,2.01,2,0.22,2,0.05,2,0.05,2,2015.2,2,2288.2,2,8.0203,2,-999.,9,-999.,9
49UP20150228,RF15-02,5352,1,34,22083,2,20150303,1248,29.9745,144.9573,5898,53.7,53,18.5090,34.8642,2,-999.0000,9,232.16,2,2.02,2,0.29,2,0.06,2,0.05,2,2011.7,2,2289.0,2,8.0174,2,-999.,9,-999.,9
49UP20150228,RF15-02,5352,1,33,24469,2,20150303,1246,29.9745,144.9573,5898,78.1,78,18.2830,34.8405,2,-999.0000,9,228.10,2,2.37,2,0.95,2,0.17,2,0.09,2,2015.5,2,2286.2,2,8.0136,2,-999.,9,-999.,9
49UP20150228,RF15-02,5352,1,32,22105,2,20150303,1243,29.9745,144.9573,5898,104.3,104,17.9132,34.8117,2,34.8113,6,226.17,2,2.59,2,1.64,2,0.24,2,0.13,2,2027.0,2,2284.2,2,7.9946,2,-999.,9,-999.,9
49UP20150228,RF15-02,5352,1,31,23515,2,20150303,1242,29.9745,144.9573,5898,127.9,127,17.7266,34.7855,2,-999.0000,9,222.27,2,2.92,2,2.31,2,0.16,2,0.17,2,2031.8,2,2283.4,2,7.9909,2,-999.,9,-999.,9
49UP20150228,RF15-02,5352,1,30,22097,2,20150303,1240,29.9745,144.9573,5898,154.4,153,17.3699,34.7407,2,-999.0000,9,217.04,2,3.42,2,3.49,2,0.04,2,0.24,2,2031.1,2,2279.1,2,7.9660,2,-999.,9,-999.,9
49UP20150228,RF15-02,5352,1,29,22102,2,20150303,1239,29.9745,144.9573,5898,205.5,204,16.8317,34.7012,2,34.7000,2,212.37,2,4.21,2,4.66,2,0.01,2,0.31,2,2039.3,2,2278.5,2,7.9511,2,-999.,9,-999.,9
49UP20150228,RF15-02,5352,1,28,22108,2,20150303,1237,29.9745,144.9573,5898,255.6,254,16.4807,34.6738,2,-999.0000,9,210.35,6,5.15,6,5.47,6,0.01,6,0.37,6,2043.3,2,2277.4,2,7.9408,2,-999.,9,-999.,9
49UP20150228,RF15-02,5352,1,27,21998,2,20150303,1236,29.9745,144.9573,5898,303.9,302,16.1187,34.6385,2,34.6374,2,205.32,2,6.18,2,6.50,2,0.01,2,0.44,2,2054.1,2,2276.4,2,7.9221,2,-999.,9,-999.,9
49UP20150228,RF15-02,5352,1,26,22084,2,20150303,1233,29.9745,144.9573,5898,408.7,406,14.1862,34.4902,2,34.4942,4,196.22,2,11.21,2,10.29,2,0.01,2,0.71,2,2081.0,2,2273.6,2,7.8626,2,-999.,9,-999.,9
49UP20150228,RF15-02,5352,1,25,22098,2,20150303,1230,29.9745,144.9573,5898,506.5,502,11.7921,34.3219,2,-999.0000,9,188.78,2,19.69,2,15.04,2,0.00,2,1.05,2,2115.1,2,2271.9,2,7.7855,2,-999.,9,-999.,9
49UP20150228,RF15-02,5352,1,24,22110,3,20150303,1228,29.9745,144.9573,5898,606.2,601,9.2958,34.1539,2,34.1529,2,175.73,2,32.56,2,20.55,2,0.00,2,1.47,2,2154.2,2,2276.9,2,7.6982,2,-999.,9,-999.,9
49UP20150228,RF15-02,5352,1,23,22096,2,20150303,1225,29.9745,144.9573,5898,709.1,703,6.6467,34.0203,2,-999.0000,9,148.83,6,54.24,6,27.79,6,0.00,6,2.02,6,2212.2,2,2288.2,2,7.5710,2,-999.,9,-999.,9
49UP20150228,RF15-02,5352,1,22,22111,2,20150303,1223,29.9745,144.9573,5898,809.2,802,5.3278,34.0712,2,34.0708,2,99.11,2,76.69,2,34.70,2,0.00,2,2.50,2,2267.0,2,2309.1,2,7.4602,2,-999.,9,-999.,9
49UP20150228,RF15-02,5352,1,21,22078,2,20150303,1220,29.9745,144.9573,5898,910.8,903,4.5435,34.1602,2,-999.0000,9,67.03,2,95.97,2,38.60,2,0.00,2,2.78,2,2317.0,2,2326.6,2,7.3983,6,-999.,9,-999.,9
49UP20150228,RF15-02,5352,1,20,22093,2,20150303,1218,29.9745,144.9573,5898,1014.8,1005,4.0585,34.2443,2,34.2441,2,49.53,2,110.03,2,40.68,2,0.00,2,2.92,2,2341.5,2,2345.4,2,7.3703,2,-999.,9,-999.,9
49UP20150228,RF15-02,5352,1,19,22092,2,20150303,1213,29.9745,144.9573,5898,1214.1,1202,3.3262,34.3902,2,34.3899,2,39.46,2,130.52,2,42.40,2,0.00,2,3.03,2,2366.1,2,2372.7,2,7.3654,2,-999.,9,-999.,9
49UP20150228,RF15-02,5352,1,18,22101,2,20150303,1208,29.9745,144.9573,5898,1417.9,1403,2.8475,34.4677,2,34.4673,2,46.50,6,142.31,6,42.32,6,0.00,6,3.02,6,2371.4,2,2387.9,2,7.3861,2,-999.,9,-999.,9
49UP20150228,RF15-02,5352,1,17,22090,2,20150303,1203,29.9745,144.9573,5898,1620.1,1603,2.5154,34.5193,2,34.5195,2,57.58,2,148.92,2,41.80,2,0.00,2,2.97,2,2372.5,2,2398.9,2,7.4086,2,-999.,9,-999.,9
49UP20150228,RF15-02,5352,1,16,22089,3,20150303,1158,29.9745,144.9573,5898,1823.4,1803,2.2223,34.5629,2,34.5647,4,73.36,2,152.69,2,40.93,2,0.00,2,2.90,2,2367.9,2,2407.4,2,7.4388,2,-999.,9,-999.,9
49UP20150228,RF15-02,5352,1,15,22088,2,20150303,1153,29.9745,144.9573,5898,2028.4,2005,2.0219,34.5927,2,34.5929,2,87.22,2,154.06,2,40.15,2,0.00,2,2.83,2,2365.0,2,2410.3,2,7.4649,2,-999.,9,-999.,9
49UP20150228,RF15-02,5352,1,14,21999,2,20150303,1146,29.9745,144.9573,5898,2281.8,2254,1.8844,34.6141,2,34.6159,2,98.19,2,154.66,2,39.47,2,0.00,2,2.78,2,2362.0,2,2411.6,3,7.4865,6,-999.,9,-999.,9
49UP20150228,RF15-02,5352,1,13,22667,2,20150303,1139,29.9745,144.9573,5898,2537.7,2505,1.7578,34.6331,2,34.6332,2,107.45,2,156.12,2,38.93,2,0.00,2,2.74,2,2357.0,2,2416.4,2,7.5053,2,-999.,9,-999.,9
49UP20150228,RF15-02,5352,1,12,22074,2,20150303,1132,29.9745,144.9573,5898,2792.0,2755,1.6572,34.6489,2,34.6504,4,119.33,2,154.58,2,38.19,2,0.00,2,2.67,2,2349.7,2,2416.2,2,7.5248,2,-999.,9,-999.,9
49UP20150228,RF15-02,5352,1,11,24268,2,20150303,1126,29.9745,144.9573,5898,3044.2,3002,1.5901,34.6596,2,34.6598,2,127.50,2,154.00,2,37.67,2,0.00,2,2.64,2,2345.9,2,2416.4,2,7.5368,2,-999.,9,-999.,9
49UP20150228,RF15-02,5352,1,10,24267,2,20150303,1119,29.9745,144.9573,5898,3303.1,3255,1.5474,34.6671,2,34.6667,2,134.03,2,153.33,2,37.26,2,0.00,2,2.61,2,2339.7,6,2418.7,6,7.5480,2,-999.,9,-999.,9
49UP20150228,RF15-02,5352,1,9,23518,2,20150303,1112,29.9745,144.9573,5898,3558.2,3505,1.5116,34.6732,2,34.6734,2,139.80,2,152.84,2,36.90,2,0.00,2,2.57,2,2338.5,2,2418.4,2,7.5611,2,-999.,9,-999.,9
49UP20150228,RF15-02,5352,1,8,22081,2,20150303,1105,29.9745,144.9573,5898,3811.8,3752,1.4947,34.6779,2,34.6780,2,145.49,2,150.75,2,36.48,2,0.00,2,2.54,2,2343.9,3,2418.2,2,7.5706,2,-999.,9,-999.,9
49UP20150228,RF15-02,5352,1,7,23516,2,20150303,1059,29.9745,144.9573,5898,4065.5,4000,1.4885,34.6811,2,34.6808,2,149.07,2,150.38,2,36.23,2,0.00,2,2.53,2,2336.0,6,2418.5,6,7.5745,2,-999.,9,-999.,9
49UP20150228,RF15-02,5352,1,6,22113,2,20150303,1048,29.9745,144.9573,5898,4581.8,4502,1.4911,34.6866,2,34.6869,2,156.48,2,147.58,2,35.73,2,0.00,2,2.49,2,2326.2,2,2416.3,2,7.5890,2,-999.,9,-999.,9
49UP20150228,RF15-02,5352,1,5,22094,2,20150303,1036,29.9745,144.9573,5898,5100.6,5006,1.5188,34.6901,2,34.6895,2,161.33,2,144.60,2,35.43,2,0.00,2,2.46,2,2325.9,2,2413.2,2,7.5928,2,-999.,9,-999.,9
49UP20150228,RF15-02,5352,1,4,22077,2,20150303,1030,29.9745,144.9573,5898,5353.8,5252,1.5414,34.6910,2,34.6910,2,163.21,2,143.37,2,35.27,2,0.00,2,2.45,2,2321.9,6,2412.9,6,7.5946,2,-999.,9,-999.,9
49UP20150228,RF15-02,5352,1,3,22104,2,20150303,1024,29.9745,144.9573,5898,5613.1,5503,1.5672,34.6918,2,34.6925,6,164.53,2,142.26,2,35.20,2,0.00,2,2.44,2,2318.6,2,2412.2,2,7.5951,2,-999.,9,-999.,9
49UP20150228,RF15-02,5352,1,2,22075,2,20150303,1018,29.9745,144.9573,5898,5871.6,5753,1.5995,34.6919,2,34.6929,2,165.46,6,141.50,6,35.13,6,0.00,6,2.43,6,2316.4,2,2410.9,2,7.5988,2,-999.,9,-999.,9
49UP20150228,RF15-02,5352,1,1,21997,2,20150303,1014,29.9745,144.9573,5898,6043.0,5919,1.6211,34.6921,2,34.6952,4,165.95,2,141.18,2,35.11,2,0.00,2,2.43,2,2314.0,2,2410.7,2,7.5983,6,-999.,9,-999.,9