BOTTLE,20171117JMAGEMD
EXPOCODE,SECT_ID,STNNBR,CASTNO,SAMPNO,BTLNBR,BTLNBR_FLAG_W,DATE,TIME,LATITUDE,LONGITUDE,DEPTH,CTDPRS,CTDDEP,CTDTMP,CTDSAL,CTDSAL_FLAG_W,SALNTY,SALNTY_FLAG_W,OXYGEN,OXYGEN_FLAG_W,SILCAT,SILCAT_FLAG_W,NO2+NO3,NO2+NO3_FLAG_W,NITRIT,NITRIT_FLAG_W,PHSPHT,PHSPHT_FLAG_W,TCARBN,TCARBN_FLAG_W,ALKALI,ALKALI_FLAG_W,PH_TOT,PH_TOT_FLAG_W,CFC-11,CFC-11_FLAG_W,CFC-12,CFC-12_FLAG_W
,,,,,,,UTC,UTC,,,METER,DBAR,METERS,ITS-90,PSS-78,,PSS-78,,UMOL/KG,,UMOL/KG,,UMOL/KG,,UMOL/KG,,UMOL/KG,,UMOL/KG,,UMOL/KG,,@25DEG-C,,PMOL/KG,,PMOL/KG,
49UP20150228,RF15-02,5366,1,-999,0,2,20150306,1326,32.9802,148.1605,5726,0.0,0,17.0526,34.7630,2,-999.,9,234.39,2,3.29,2,2.57,2,0.10,2,0.20,2,-999.,9,-999.,9,-999.,9,-999.,9,-999.,9
49UP20150228,RF15-02,5366,1,36,22109,2,20150306,1357,32.9802,148.1605,5726,11.9,12,17.0594,34.7631,2,-999.,9,233.84,2,3.31,2,2.60,2,0.10,2,0.19,2,-999.,9,-999.,9,-999.,9,-999.,9,-999.,9
49UP20150228,RF15-02,5366,1,35,22112,2,20150306,1355,32.9802,148.1605,5726,27.9,28,17.0644,34.7627,2,-999.,9,233.93,2,3.30,2,2.59,2,0.10,2,0.19,2,-999.,9,-999.,9,-999.,9,-999.,9,-999.,9
49UP20150228,RF15-02,5366,1,34,22083,2,20150306,1353,32.9802,148.1605,5726,53.8,53,17.0634,34.7617,2,-999.,9,233.50,2,3.30,2,2.58,2,0.10,2,0.19,2,-999.,9,-999.,9,-999.,9,-999.,9,-999.,9
49UP20150228,RF15-02,5366,1,33,24469,2,20150306,1351,32.9802,148.1605,5726,77.1,77,17.0653,34.7631,2,-999.,9,338.66,4,3.34,2,2.59,2,0.10,2,0.19,2,-999.,9,-999.,9,-999.,9,-999.,9,-999.,9
49UP20150228,RF15-02,5366,1,32,22105,2,20150306,1347,32.9802,148.1605,5726,103.1,102,17.0761,34.7635,2,-999.,9,259.83,4,3.30,2,2.59,2,0.10,2,0.19,2,-999.,9,-999.,9,-999.,9,-999.,9,-999.,9
49UP20150228,RF15-02,5366,1,31,23515,2,20150306,1346,32.9802,148.1605,5726,127.4,126,17.0570,34.7596,2,-999.,9,233.06,2,3.30,2,2.61,2,0.09,2,0.19,2,-999.,9,-999.,9,-999.,9,-999.,9,-999.,9
49UP20150228,RF15-02,5366,1,30,22097,2,20150306,1345,32.9802,148.1605,5726,153.0,152,16.8964,34.7408,2,-999.,9,230.95,6,3.29,6,2.77,6,0.03,6,0.20,6,-999.,9,-999.,9,-999.,9,-999.,9,-999.,9
49UP20150228,RF15-02,5366,1,28,22108,2,20150306,1342,32.9802,148.1605,5726,205.7,204,16.8546,34.7385,2,-999.,9,231.35,4,3.27,2,2.79,2,0.02,2,0.20,2,-999.,9,-999.,9,-999.,9,-999.,9,-999.,9
49UP20150228,RF15-02,5366,1,29,22102,2,20150306,1342,32.9802,148.1605,5726,206.5,205,16.8540,34.7384,2,-999.,9,231.35,2,3.27,2,2.81,2,0.02,2,0.20,2,-999.,9,-999.,9,-999.,9,-999.,9,-999.,9
49UP20150228,RF15-02,5366,1,27,21998,2,20150306,1340,32.9802,148.1605,5726,255.7,254,16.8320,34.7335,2,-999.,9,230.77,2,3.40,2,2.90,2,0.03,2,0.21,2,-999.,9,-999.,9,-999.,9,-999.,9,-999.,9
49UP20150228,RF15-02,5366,1,26,22084,2,20150306,1337,32.9802,148.1605,5726,306.8,304,16.7982,34.7294,2,-999.,9,231.69,2,3.43,2,2.89,2,0.05,2,0.21,2,-999.,9,-999.,9,-999.,9,-999.,9,-999.,9
49UP20150228,RF15-02,5366,1,25,22098,2,20150306,1333,32.9802,148.1605,5726,407.2,404,15.5182,34.5991,2,-999.,9,201.33,2,8.18,2,7.84,2,0.01,2,0.53,2,-999.,9,-999.,9,-999.,9,-999.,9,-999.,9
49UP20150228,RF15-02,5366,1,21,22078,2,20150306,1328,32.9802,148.1605,5726,509.3,505,12.8601,34.3995,2,-999.,9,192.01,2,16.09,2,12.87,2,0.00,2,0.90,2,-999.,9,-999.,9,-999.,9,-999.,9,-999.,9
49UP20150228,RF15-02,5366,1,20,22093,2,20150306,1324,32.9802,148.1605,5726,610.6,605,9.7357,34.1967,2,-999.,9,170.95,2,33.22,2,20.08,2,0.00,2,1.44,2,-999.,9,-999.,9,-999.,9,-999.,9,-999.,9
49UP20150228,RF15-02,5366,1,19,22092,2,20150306,1320,32.9802,148.1605,5726,710.2,704,7.5334,34.0610,2,-999.,9,161.41,2,46.16,2,24.84,2,0.00,2,1.80,2,-999.,9,-999.,9,-999.,9,-999.,9,-999.,9
49UP20150228,RF15-02,5366,1,15,22088,2,20150306,1316,32.9802,148.1605,5726,810.0,803,5.9097,34.0570,2,-999.,9,123.65,6,67.44,6,31.31,6,0.00,6,2.28,6,-999.,9,-999.,9,-999.,9,-999.,9,-999.,9
49UP20150228,RF15-02,5366,1,13,22667,2,20150306,1313,32.9802,148.1605,5726,912.6,904,5.0838,34.1262,2,-999.,9,88.46,2,85.46,2,35.77,2,0.00,2,2.58,2,-999.,9,-999.,9,-999.,9,-999.,9,-999.,9
49UP20150228,RF15-02,5366,1,14,21999,2,20150306,1313,32.9802,148.1605,5726,915.0,907,5.0597,34.1248,2,-999.,9,88.38,2,85.59,2,35.81,2,0.00,2,2.58,2,-999.,9,-999.,9,-999.,9,-999.,9,-999.,9
49UP20150228,RF15-02,5366,1,9,23518,2,20150306,1309,32.9802,148.1605,5726,1013.3,1004,4.3315,34.1859,2,-999.,9,62.12,2,102.28,2,39.19,2,0.00,2,2.81,2,-999.,9,-999.,9,-999.,9,-999.,9,-999.,9
49UP20150228,RF15-02,5366,1,8,22081,2,20150306,1305,32.9802,148.1605,5726,1214.5,1202,3.5170,34.3229,2,-999.,9,42.14,2,126.03,2,41.72,2,0.00,2,2.98,2,-999.,9,-999.,9,-999.,9,-999.,9,-999.,9
49UP20150228,RF15-02,5366,1,7,23516,2,20150306,1301,32.9802,148.1605,5726,1415.6,1401,2.8871,34.4260,2,-999.,9,38.23,2,143.96,2,42.74,2,0.00,2,3.05,2,-999.,9,-999.,9,-999.,9,-999.,9,-999.,9
49UP20150228,RF15-02,5366,1,6,22113,2,20150306,1257,32.9802,148.1605,5726,1612.6,1595,2.6103,34.4749,2,-999.,9,39.33,2,151.95,2,42.92,2,0.00,2,3.05,2,-999.,9,-999.,9,-999.,9,-999.,9,-999.,9
49UP20150228,RF15-02,5366,1,5,22094,2,20150306,1253,32.9802,148.1605,5726,1821.9,1801,2.3074,34.5301,2,-999.,9,47.62,2,159.14,2,42.62,2,0.00,2,3.01,2,-999.,9,-999.,9,-999.,9,-999.,9,-999.,9
49UP20150228,RF15-02,5366,1,1,21997,2,20150306,1248,32.9802,148.1605,5726,2029.6,2006,2.1017,34.5700,2,-999.,9,63.38,2,161.41,2,41.60,2,0.00,2,2.94,2,-999.,9,-999.,9,-999.,9,-999.,9,-999.,9
49UP20150228,RF15-02,5368,1,-999,0,2,20150306,0122,33.9745,148.5733,6155,0.0,0,16.6030,34.7250,2,34.7311,2,235.27,2,3.43,2,2.87,2,0.06,2,0.22,2,2025.1,2,2279.0,2,7.9814,2,-999.000,9,-999.000,9
49UP20150228,RF15-02,5368,1,36,22109,2,20150306,0141,33.9745,148.5733,6155,11.9,12,16.5984,34.7247,2,34.7237,2,234.70,2,3.43,2,2.88,2,0.06,2,0.21,2,2022.1,2,2278.7,2,7.9826,2,2.181,3,1.333,3
49UP20150228,RF15-02,5368,1,35,22112,2,20150306,0139,33.9745,148.5733,6155,27.3,27,16.5966,34.7244,2,-999.0000,9,235.20,2,3.41,2,2.87,2,0.06,2,0.20,2,2021.6,2,2279.3,2,7.9942,3,-999.000,9,-999.000,9
49UP20150228,RF15-02,5368,1,34,22083,2,20150306,0137,33.9745,148.5733,6155,53.8,53,16.5927,34.7241,2,-999.0000,9,234.54,2,3.43,2,2.89,2,0.06,2,0.20,2,2021.6,2,2279.3,2,7.9835,2,2.263,3,1.380,3
49UP20150228,RF15-02,5368,1,33,24469,2,20150306,0135,33.9745,148.5733,6155,77.8,77,16.5978,34.7242,2,-999.0000,9,234.75,6,3.44,6,2.89,6,0.06,6,0.21,6,2033.4,3,2279.0,2,7.9804,2,-999.000,9,-999.000,9
49UP20150228,RF15-02,5368,1,32,22105,2,20150306,0131,33.9745,148.5733,6155,103.8,103,16.5918,34.7235,2,34.7232,2,234.57,2,3.40,2,2.90,2,0.06,2,0.21,2,2027.0,2,2280.0,2,7.9800,2,2.316,3,1.392,3
49UP20150228,RF15-02,5368,1,31,23515,2,20150306,0130,33.9745,148.5733,6155,128.4,127,16.5921,34.7234,2,-999.0000,9,234.31,2,3.40,2,2.90,2,0.06,2,0.20,2,2021.4,2,2279.8,2,7.9817,2,-999.000,9,-999.000,9
49UP20150228,RF15-02,5368,1,30,22097,2,20150306,0129,33.9745,148.5733,6155,154.2,153,16.5949,34.7230,2,-999.0000,9,234.77,2,3.40,2,2.91,2,0.06,2,0.20,2,2022.4,2,2279.7,2,7.9844,2,2.322,6,1.340,6
49UP20150228,RF15-02,5368,1,29,22102,2,20150306,0127,33.9745,148.5733,6155,205.8,204,16.6024,34.7233,2,34.7222,2,235.01,2,3.42,2,2.90,2,0.06,2,0.21,2,2023.2,2,2278.4,2,7.9822,2,2.351,4,1.395,4
49UP20150228,RF15-02,5368,1,28,22108,3,20150306,0125,33.9745,148.5733,6155,255.2,253,16.5998,34.7228,2,-999.0000,9,234.86,2,3.41,2,2.90,2,0.06,2,0.21,2,2021.5,2,2278.6,2,7.9864,2,-999.000,9,-999.000,9
49UP20150228,RF15-02,5368,1,27,21998,2,20150306,0124,33.9745,148.5733,6155,306.0,304,16.6049,34.7229,2,34.7225,2,234.92,2,3.39,2,2.90,2,0.06,2,0.21,2,2023.8,2,2278.6,2,7.9875,2,2.255,3,1.341,3
49UP20150228,RF15-02,5368,1,26,22084,2,20150306,0121,33.9745,148.5733,6155,406.2,403,16.1354,34.6818,2,34.6814,2,225.70,2,4.72,2,4.58,2,0.02,2,0.32,2,2034.2,2,2278.3,2,7.9555,2,-999.000,9,-999.000,9
49UP20150228,RF15-02,5368,1,25,22098,2,20150306,0118,33.9745,148.5733,6155,507.6,503,15.4929,34.6627,2,-999.0000,9,232.24,2,4.95,2,4.97,2,0.01,2,0.34,2,2038.1,2,2279.0,2,7.9521,2,2.407,3,1.439,3
49UP20150228,RF15-02,5368,1,24,22110,2,20150306,0115,33.9745,148.5733,6155,607.0,602,12.0926,34.3404,2,34.3430,4,193.41,2,18.65,2,14.14,2,0.00,2,0.99,2,2099.9,2,2270.7,2,7.8050,2,-999.000,9,-999.000,9
49UP20150228,RF15-02,5368,1,23,22096,2,20150306,0112,33.9745,148.5733,6155,709.4,703,9.4918,34.1502,2,-999.0000,9,190.06,2,29.47,2,18.75,2,0.00,2,1.34,2,2134.7,2,2274.4,2,7.7276,2,2.832,2,1.507,2
49UP20150228,RF15-02,5368,1,22,22111,2,20150306,0109,33.9745,148.5733,6155,810.3,803,6.5799,34.0140,2,34.0174,4,151.84,6,53.69,6,27.49,6,0.00,6,1.99,6,2203.2,2,2285.3,2,7.5811,2,-999.000,9,-999.000,9
49UP20150228,RF15-02,5368,1,21,22078,2,20150306,0107,33.9745,148.5733,6155,912.4,904,5.1797,34.0490,2,-999.0000,9,104.45,2,77.37,2,34.39,2,0.00,2,2.49,2,2259.5,2,2305.0,2,7.4639,2,1.888,2,0.952,2
49UP20150228,RF15-02,5368,1,20,22093,2,20150306,0104,33.9745,148.5733,6155,1013.1,1003,4.6035,34.1230,2,34.1228,2,75.43,2,92.80,2,37.79,2,0.00,2,2.72,2,2293.5,2,2320.1,2,7.4109,2,-999.000,9,-999.000,9
49UP20150228,RF15-02,5368,1,19,22092,2,20150306,0059,33.9745,148.5733,6155,1215.2,1203,3.7090,34.2910,2,34.2911,2,44.31,2,120.43,2,41.38,2,0.00,2,2.96,2,2348.0,6,2353.3,6,7.3632,2,0.510,2,0.231,2
49UP20150228,RF15-02,5368,1,18,22101,2,20150306,0054,33.9745,148.5733,6155,1416.6,1402,3.1724,34.3811,2,34.3810,2,39.19,2,135.87,2,42.27,2,0.00,2,3.03,2,2361.8,2,2372.7,2,7.3612,2,-999.000,9,-999.000,9
49UP20150228,RF15-02,5368,1,17,22090,2,20150306,0050,33.9745,148.5733,6155,1618.9,1601,2.6835,34.4670,2,34.4671,2,39.33,2,149.90,2,42.86,2,0.00,2,3.05,2,2377.4,2,2391.6,2,7.3668,2,0.139,2,0.056,2
49UP20150228,RF15-02,5368,1,16,22089,2,20150306,0045,33.9745,148.5733,6155,1822.2,1801,2.3523,34.5258,2,34.5253,2,49.15,6,157.51,6,42.48,6,0.00,6,3.01,6,2379.8,2,2399.6,2,7.3905,3,-999.000,9,-999.000,9
49UP20150228,RF15-02,5368,1,15,22088,2,20150306,0041,33.9745,148.5733,6155,2025.6,2001,2.2267,34.5500,2,34.5502,2,56.96,2,159.74,2,42.09,2,0.00,2,2.98,2,2379.4,2,2404.7,2,7.4058,2,0.067,2,0.025,2
49UP20150228,RF15-02,5368,1,14,21999,2,20150306,0036,33.9745,148.5733,6155,2280.1,2252,1.9821,34.5927,2,34.5925,2,75.06,2,162.15,2,40.98,2,0.00,2,2.89,2,2372.5,2,2412.1,2,7.4393,2,-999.000,9,-999.000,9
49UP20150228,RF15-02,5368,1,13,22667,2,20150306,0031,33.9745,148.5733,6155,2535.5,2502,1.8105,34.6224,2,34.6232,2,94.55,2,160.97,2,39.83,2,0.00,2,2.80,2,2362.0,2,2414.1,2,7.4767,6,-999.000,9,-999.000,9
49UP20150228,RF15-02,5368,1,12,22074,2,20150306,0025,33.9745,148.5733,6155,2788.9,2751,1.7104,34.6398,2,34.6394,2,107.77,2,159.44,2,38.96,2,0.00,2,2.73,2,2354.7,2,2415.8,2,7.5034,2,-999.000,9,-999.000,9
49UP20150228,RF15-02,5368,1,11,24268,2,20150306,0020,33.9745,148.5733,6155,3045.4,3002,1.6570,34.6499,2,34.6540,4,116.35,2,158.17,2,38.42,2,0.00,2,2.70,2,2349.3,2,2416.8,2,7.5186,2,0.054,2,0.017,2
49UP20150228,RF15-02,5368,1,10,24267,2,20150306,0015,33.9745,148.5733,6155,3301.3,3252,1.5903,34.6612,2,34.6616,2,126.76,2,156.12,2,37.74,2,0.00,2,2.64,2,2350.0,3,2417.4,2,7.5403,6,-999.000,9,-999.000,9
49UP20150228,RF15-02,5368,1,9,23518,2,20150306,0010,33.9745,148.5733,6155,3556.0,3501,1.5659,34.6670,2,34.6673,2,132.48,2,155.06,2,37.38,2,0.00,2,2.60,2,2339.8,2,2415.8,2,7.5513,2,-999.000,9,-999.000,9
49UP20150228,RF15-02,5368,1,8,22081,2,20150306,0004,33.9745,148.5733,6155,3812.9,3752,1.5354,34.6733,2,34.6724,2,139.54,2,153.15,2,36.90,2,0.00,2,2.57,2,2333.8,6,2417.1,6,7.5588,2,-999.000,9,-999.000,9
49UP20150228,RF15-02,5368,1,7,23516,2,20150306,2359,33.9745,148.5733,6155,4067.9,4001,1.5237,34.6775,2,34.6765,2,144.04,2,151.98,2,36.56,2,0.00,2,2.55,2,2330.0,2,2416.6,2,7.5690,2,-999.000,9,-999.000,9
49UP20150228,RF15-02,5368,1,6,22113,2,20150306,2349,33.9745,148.5733,6155,4583.0,4502,1.5162,34.6841,2,34.6845,2,152.40,2,149.67,2,36.02,2,0.00,2,2.50,2,2328.6,2,2415.4,2,7.5821,6,-999.000,9,-999.000,9
49UP20150228,RF15-02,5368,1,5,22094,2,20150306,2339,33.9745,148.5733,6155,5097.1,5001,1.5376,34.6879,2,34.6872,2,157.68,6,147.26,6,35.67,6,0.00,6,2.47,6,2319.1,2,2412.6,2,7.5909,2,-999.000,9,-999.000,9
49UP20150228,RF15-02,5368,1,4,22077,2,20150306,2334,33.9745,148.5733,6155,5354.2,5250,1.5527,34.6898,2,34.6902,2,160.94,2,145.50,2,35.42,2,0.00,2,2.45,2,2322.8,2,2411.4,2,7.5917,2,-999.000,9,-999.000,9
49UP20150228,RF15-02,5368,1,3,22104,2,20150306,2328,33.9745,148.5733,6155,5615.1,5503,1.5735,34.6910,2,34.6907,2,163.22,2,143.48,2,35.29,2,0.00,2,2.44,2,2316.6,6,2410.6,6,7.5977,2,-999.000,9,-999.000,9
49UP20150228,RF15-02,5368,1,2,22075,2,20150306,2323,33.9745,148.5733,6155,5874.3,5754,1.5998,34.6920,2,34.6917,2,164.60,2,142.20,2,35.07,2,0.00,2,2.43,2,2311.8,2,2409.5,2,7.5986,2,-999.000,9,-999.000,9
49UP20150228,RF15-02,5368,1,1,21997,2,20150306,2316,33.9745,148.5733,6155,6136.8,6007,1.6302,34.6925,2,34.6924,6,165.65,2,141.46,2,35.03,2,0.00,2,2.43,2,2315.1,2,2409.3,2,7.6006,2,-999.000,9,-999.000,9
49UP20150228,RF15-02,5370,1,-999,0,2,20150307,1018,34.9838,148.9473,6058,0.0,0,17.3524,34.7951,2,-999.,9,234.71,2,3.27,2,2.33,2,0.12,2,0.18,2,-999.,9,-999.,9,-999.,9,-999.,9,-999.,9
49UP20150228,RF15-02,5370,1,33,24469,2,20150307,1036,34.9838,148.9473,6058,11.7,12,17.3497,34.7955,2,-999.,9,234.38,2,3.29,2,2.32,2,0.12,2,0.17,2,-999.,9,-999.,9,-999.,9,-999.,9,-999.,9
49UP20150228,RF15-02,5370,1,32,22105,2,20150307,1035,34.9838,148.9473,6058,27.2,27,17.3628,34.7948,2,-999.,9,234.24,2,3.25,2,2.32,2,0.12,2,0.17,2,-999.,9,-999.,9,-999.,9,-999.,9,-999.,9
49UP20150228,RF15-02,5370,1,31,23515,2,20150307,1034,34.9838,148.9473,6058,52.1,52,17.3593,34.7952,2,-999.,9,234.06,2,3.26,2,2.32,2,0.12,2,0.17,2,-999.,9,-999.,9,-999.,9,-999.,9,-999.,9
49UP20150228,RF15-02,5370,1,27,21998,2,20150307,1032,34.9838,148.9473,6058,76.7,76,17.3657,34.7948,2,-999.,9,233.85,2,3.30,2,2.35,2,0.12,2,0.18,2,-999.,9,-999.,9,-999.,9,-999.,9,-999.,9
49UP20150228,RF15-02,5370,1,26,22084,2,20150307,1031,34.9838,148.9473,6058,102.5,102,17.3632,34.7943,2,-999.,9,233.24,2,3.24,2,2.40,2,0.13,2,0.18,2,-999.,9,-999.,9,-999.,9,-999.,9,-999.,9
49UP20150228,RF15-02,5370,1,25,22098,2,20150307,1029,34.9838,148.9473,6058,127.7,127,17.3716,34.7947,2,-999.,9,233.41,6,3.24,6,2.37,6,0.13,6,0.17,6,-999.,9,-999.,9,-999.,9,-999.,9,-999.,9
49UP20150228,RF15-02,5370,1,23,22096,2,20150307,1028,34.9838,148.9473,6058,153.3,152,17.3495,34.7920,2,-999.,9,232.54,2,3.30,2,2.44,2,0.14,2,0.18,2,-999.,9,-999.,9,-999.,9,-999.,9,-999.,9
49UP20150228,RF15-02,5370,1,24,22110,2,20150307,1028,34.9838,148.9473,6058,154.1,153,17.3478,34.7918,2,-999.,9,232.51,2,3.28,2,2.41,2,0.14,2,0.18,2,-999.,9,-999.,9,-999.,9,-999.,9,-999.,9
49UP20150228,RF15-02,5370,1,22,22111,2,20150307,1026,34.9838,148.9473,6058,203.4,202,17.0947,34.7659,2,-999.,9,233.18,2,3.30,2,2.58,2,0.12,2,0.19,2,-999.,9,-999.,9,-999.,9,-999.,9,-999.,9
49UP20150228,RF15-02,5370,1,18,22101,2,20150307,1022,34.9838,148.9473,6058,252.9,251,17.0368,34.7597,2,-999.,9,233.81,2,3.37,2,2.58,2,0.13,2,0.19,2,-999.,9,-999.,9,-999.,9,-999.,9,-999.,9
49UP20150228,RF15-02,5370,1,17,22090,2,20150307,1020,34.9838,148.9473,6058,305.7,303,16.9883,34.7556,2,-999.,9,234.12,2,3.37,2,2.62,2,0.14,2,0.19,2,-999.,9,-999.,9,-999.,9,-999.,9,-999.,9
49UP20150228,RF15-02,5370,1,16,22089,2,20150307,1017,34.9838,148.9473,6058,405.0,402,16.6037,34.6954,2,-999.,9,215.56,2,5.65,2,5.05,2,0.02,2,0.35,2,-999.,9,-999.,9,-999.,9,-999.,9,-999.,9
49UP20150228,RF15-02,5370,1,15,22088,2,20150307,1014,34.9838,148.9473,6058,506.5,502,14.0737,34.5283,2,-999.,9,191.42,2,16.70,2,11.90,2,0.01,2,0.83,2,-999.,9,-999.,9,-999.,9,-999.,9,-999.,9
49UP20150228,RF15-02,5370,1,14,21999,2,20150307,1011,34.9838,148.9473,6058,607.5,602,8.8788,33.9790,2,-999.,9,233.85,2,23.12,2,14.02,2,0.08,2,1.04,2,-999.,9,-999.,9,-999.,9,-999.,9,-999.,9
49UP20150228,RF15-02,5370,1,13,22667,2,20150307,1008,34.9838,148.9473,6058,707.0,701,6.8400,33.9417,2,-999.,9,164.86,6,48.63,6,25.38,6,0.00,6,1.85,6,-999.,9,-999.,9,-999.,9,-999.,9,-999.,9
49UP20150228,RF15-02,5370,1,8,22081,2,20150307,1005,34.9838,148.9473,6058,809.3,802,3.2551,33.6683,2,-999.,9,152.19,2,73.43,2,33.64,2,0.00,2,2.50,2,-999.,9,-999.,9,-999.,9,-999.,9,-999.,9
49UP20150228,RF15-02,5370,1,9,23518,2,20150307,1005,34.9838,148.9473,6058,812.1,805,3.7214,33.7412,2,-999.,9,147.75,2,73.31,2,33.60,2,0.00,2,2.48,2,-999.,9,-999.,9,-999.,9,-999.,9,-999.,9
49UP20150228,RF15-02,5370,1,7,23516,2,20150307,1002,34.9838,148.9473,6058,910.1,902,4.8671,34.1351,2,-999.,9,83.66,2,89.58,2,36.61,2,0.00,2,2.64,2,-999.,9,-999.,9,-999.,9,-999.,9,-999.,9
49UP20150228,RF15-02,5370,1,6,22113,2,20150307,0958,34.9838,148.9473,6058,1015.4,1006,4.2147,34.2323,2,-999.,9,59.86,2,107.91,2,39.44,2,0.00,2,2.83,2,-999.,9,-999.,9,-999.,9,-999.,9,-999.,9
49UP20150228,RF15-02,5370,1,5,22094,2,20150307,0953,34.9838,148.9473,6058,1212.9,1201,3.4826,34.3568,2,-999.,9,47.85,2,127.22,2,41.29,2,0.00,2,2.95,2,-999.,9,-999.,9,-999.,9,-999.,9,-999.,9
49UP20150228,RF15-02,5370,1,4,22077,2,20150307,0948,34.9838,148.9473,6058,1417.8,1403,2.9202,34.4235,2,-999.,9,38.03,2,142.86,2,42.66,2,0.00,2,3.04,2,-999.,9,-999.,9,-999.,9,-999.,9,-999.,9
49UP20150228,RF15-02,5370,1,3,22104,2,20150307,0944,34.9838,148.9473,6058,1614.5,1597,2.5164,34.4892,2,-999.,9,43.74,2,154.15,2,42.67,2,0.00,2,3.04,2,-999.,9,-999.,9,-999.,9,-999.,9,-999.,9
49UP20150228,RF15-02,5370,1,2,22075,2,20150307,0939,34.9838,148.9473,6058,1826.6,1806,2.2857,34.5346,2,-999.,9,52.86,2,158.87,2,42.28,2,0.00,2,2.99,2,-999.,9,-999.,9,-999.,9,-999.,9,-999.,9
49UP20150228,RF15-02,5370,1,1,21997,2,20150307,0934,34.9838,148.9473,6058,2028.9,2005,2.1131,34.5672,2,-999.,9,63.17,2,161.46,2,41.70,2,0.00,2,2.95,2,-999.,9,-999.,9,-999.,9,-999.,9,-999.,9