BOTTLE,20171119JMAGEMD
EXPOCODE,SECT_ID,STNNBR,CASTNO,SAMPNO,BTLNBR,BTLNBR_FLAG_W,DATE,TIME,LATITUDE,LONGITUDE,DEPTH,CTDPRS,CTDDEP,CTDTMP,CTDSAL,CTDSAL_FLAG_W,SALNTY,SALNTY_FLAG_W,OXYGEN,OXYGEN_FLAG_W,SILCAT,SILCAT_FLAG_W,NO2+NO3,NO2+NO3_FLAG_W,NITRIT,NITRIT_FLAG_W,PHSPHT,PHSPHT_FLAG_W,TCARBN,TCARBN_FLAG_W,ALKALI,ALKALI_FLAG_W,PH_TOT,PH_TOT_FLAG_W,CFC-11,CFC-11_FLAG_W,CFC-12,CFC-12_FLAG_W
,,,,,,,UTC,UTC,,,METER,DBAR,METERS,ITS-90,PSS-78,,PSS-78,,UMOL/KG,,UMOL/KG,,UMOL/KG,,UMOL/KG,,UMOL/KG,,UMOL/KG,,UMOL/KG,,@25DEG-C,,PMOL/KG,,PMOL/KG,
49UP20130426,RF13-04,4699,1,-999,0,2,20130428,1740,31.967,143.0513,5689,0.0,0,19.7925,34.7255,2,34.7250,2,228.70,2,2.08,2,0.11,2,0.06,2,0.08,2,1989.6,2,2286.8,2,8.0348,2,-999,9,-999,9
49UP20130426,RF13-04,4699,1,36,22109,2,20130428,1809,31.967,143.0513,5689,11.5,11,19.8025,34.7253,2,34.7244,2,228.75,2,1.97,2,0.07,2,0.05,2,0.07,2,1987.5,2,2283.9,2,8.0351,2,-999,9,-999,9
49UP20130426,RF13-04,4699,1,35,22112,2,20130428,1808,31.967,143.0513,5689,27.0,27,19.8010,34.7253,2,-999.0000,9,228.55,2,1.98,2,0.06,2,0.05,2,0.07,2,1989.5,2,2281.8,2,8.0344,2,-999,9,-999,9
49UP20130426,RF13-04,4699,1,34,22083,2,20130428,1806,31.967,143.0513,5689,52.8,52,19.3244,34.7279,2,-999.0000,9,222.80,6,2.30,6,0.97,6,0.26,6,0.12,6,1995.4,2,2286.0,2,8.0184,2,-999,9,-999,9
49UP20130426,RF13-04,4699,1,33,22086,2,20130428,1805,31.967,143.0513,5689,77.4,77,19.2130,34.7369,2,-999.0000,9,224.14,2,2.05,2,0.78,2,0.18,2,0.10,2,1998.4,2,2287.1,2,8.0200,2,-999,9,-999,9
49UP20130426,RF13-04,4699,1,32,22105,2,20130428,1800,31.967,143.0513,5689,102.0,101,18.9685,34.7417,2,34.7420,2,225.27,2,1.86,2,0.74,2,0.14,2,0.10,2,1997.9,2,2284.6,2,8.0210,2,-999,9,-999,9
49UP20130426,RF13-04,4699,1,31,22076,2,20130428,1759,31.967,143.0513,5689,128.7,128,18.7737,34.7607,2,-999.0000,9,228.27,2,1.72,2,0.56,2,0.21,2,0.09,2,1996.6,2,2287.5,2,8.0068,2,-999,9,-999,9
49UP20130426,RF13-04,4699,1,30,22097,2,20130428,1758,31.967,143.0513,5689,151.4,150,18.5927,34.7699,2,-999.0000,9,223.15,2,2.14,2,1.34,2,0.10,2,0.12,2,2003.2,2,2284.0,2,8.0039,2,-999,9,-999,9
49UP20130426,RF13-04,4699,1,29,22102,2,20130428,1757,31.967,143.0513,5689,204.0,202,18.1288,34.7686,2,34.7629,4,218.84,2,2.75,2,2.46,2,0.01,2,0.19,2,2017.0,2,2282.6,2,7.9864,2,-999,9,-999,9
49UP20130426,RF13-04,4699,1,28,22091,2,20130428,1755,31.967,143.0513,5689,251.5,250,17.6227,34.7424,2,-999.0000,9,214.66,2,3.44,2,3.42,2,0.01,2,0.25,2,2021.7,2,2287.5,2,7.9687,2,-999,9,-999,9
49UP20130426,RF13-04,4699,1,27,21998,2,20130428,1753,31.967,143.0513,5689,304.1,302,17.1392,34.7168,2,-999.0000,9,219.28,2,3.76,2,3.72,2,0.00,2,0.27,2,2031.3,2,2283.9,2,7.9697,2,-999,9,-999,9
49UP20130426,RF13-04,4699,1,26,22084,2,20130428,1751,31.967,143.0513,5689,406.1,403,15.0812,34.5672,2,34.5708,6,182.65,2,11.21,2,10.26,2,0.00,2,0.72,2,2078.2,2,2275.4,2,7.8649,2,-999,9,-999,9
49UP20130426,RF13-04,4699,1,25,22098,2,20130428,1748,31.967,143.0513,5689,504.7,501,12.5687,34.4246,2,-999.0000,9,166.52,2,23.72,2,15.95,2,0.00,2,1.14,2,2125.2,6,2281.5,6,7.7753,2,-999,9,-999,9
49UP20130426,RF13-04,4699,1,24,22110,2,20130428,1746,31.967,143.0513,5689,605.9,601,10.1640,34.2795,2,34.2802,2,157.04,2,34.14,2,20.66,2,0.00,2,1.49,2,2157.6,2,2286.6,2,7.6995,6,-999,9,-999,9
49UP20130426,RF13-04,4699,1,23,22096,2,20130428,1743,31.967,143.0513,5689,707.3,701,6.7948,34.0996,2,-999.0000,9,139.81,6,58.54,6,28.29,6,0.00,6,2.09,6,2219.1,2,2294.8,2,7.5677,2,-999,9,-999,9
49UP20130426,RF13-04,4699,1,22,22111,2,20130428,1740,31.967,143.0513,5689,809.2,802,5.2893,34.1397,2,34.1458,4,94.90,2,81.81,2,34.58,2,0.00,2,2.52,2,2277.9,2,2317.9,2,7.4652,2,-999,9,-999,9
49UP20130426,RF13-04,4699,1,21,22078,2,20130428,1737,31.967,143.0513,5689,910.0,902,4.5340,34.2083,2,-999.0000,9,68.34,2,99.56,2,38.17,2,0.00,2,2.76,2,2311.6,2,2334.2,2,7.4073,2,-999,9,-999,9
49UP20130426,RF13-04,4699,1,20,22093,2,20130428,1734,31.967,143.0513,5689,1013.1,1004,3.9975,34.2908,2,34.2926,2,55.78,2,113.03,2,39.93,2,0.00,2,2.89,2,2328.0,2,2353.1,2,7.3895,2,-999,9,-999,9
49UP20130426,RF13-04,4699,1,19,22092,2,20130428,1729,31.967,143.0513,5689,1218.1,1206,3.1546,34.3801,2,34.3777,2,42.76,2,134.99,2,41.86,2,0.00,2,3.02,2,2365.9,2,2371.3,2,7.3616,2,-999,9,-999,9
49UP20130426,RF13-04,4699,1,18,22101,2,20130428,1724,31.967,143.0513,5689,1418.1,1403,2.7200,34.4560,2,34.4555,2,41.93,2,147.36,2,42.38,2,0.00,2,3.05,2,2375.7,6,2394.1,6,7.3643,2,-999,9,-999,9
49UP20130426,RF13-04,4699,1,17,22090,2,20130428,1720,31.967,143.0513,5689,1619.9,1602,2.3857,34.5153,2,34.5157,2,48.30,2,155.69,2,42.33,2,0.00,2,3.02,2,2377.8,2,2403.3,2,7.3809,6,-999,9,-999,9
49UP20130426,RF13-04,4699,1,16,22089,2,20130428,1716,31.967,143.0513,5689,1821.3,1801,2.1619,34.5581,2,34.5578,2,60.74,2,159.40,2,41.62,2,0.00,2,2.97,2,2379.5,2,2406.4,2,7.4074,2,-999,9,-999,9
49UP20130426,RF13-04,4699,1,15,22088,2,20130428,1711,31.967,143.0513,5689,2025.7,2002,1.9855,34.5902,2,34.5898,2,75.20,2,160.35,2,40.78,2,0.00,2,2.91,2,2375.9,2,2414.8,2,7.4334,2,-999,9,-999,9
49UP20130426,RF13-04,4699,1,14,21999,2,20130428,1706,31.967,143.0513,5689,2280.0,2252,1.7982,34.6235,2,-999.0000,9,97.95,2,158.09,2,39.39,2,0.00,2,2.80,2,2362.9,2,2416.4,2,7.4786,2,-999,9,-999,9
49UP20130426,RF13-04,4699,1,13,22667,3,20130428,1701,31.967,143.0513,5689,2534.6,2502,1.6962,34.6409,2,34.6425,2,111.00,2,155.90,2,38.54,2,0.00,2,2.73,2,2362.0,2,2418.2,2,7.5050,2,-999,9,-999,9
49UP20130426,RF13-04,4699,1,12,22074,2,20130428,1655,31.967,143.0513,5689,2790.3,2753,1.6094,34.6551,2,34.6551,6,124.38,2,153.49,2,37.73,2,0.00,2,2.66,2,2345.2,2,2419.4,2,7.5298,2,-999,9,-999,9
49UP20130426,RF13-04,4699,1,11,21996,4,20130428,1649,31.967,143.0513,5689,3044.5,3002,1.5680,34.6626,2,34.4551,4,41.94,4,146.92,4,42.43,4,0.00,4,3.05,4,2379.8,4,2384.0,4,7.3656,4,-999,9,-999,9
49UP20130426,RF13-04,4699,1,10,22107,2,20130428,1643,31.967,143.0513,5689,3303.4,3255,1.5250,34.6698,2,34.6694,6,137.12,2,151.41,2,36.92,2,0.00,2,2.61,2,2341.7,6,2420.4,6,7.5483,2,-999,9,-999,9
49UP20130426,RF13-04,4699,1,9,22108,2,20130428,1637,31.967,143.0513,5689,3555.2,3501,1.4944,34.6755,2,34.6756,2,142.49,2,150.27,2,36.55,2,0.00,2,2.57,2,2334.0,2,2420.4,2,7.5582,6,-999,9,-999,9
49UP20130426,RF13-04,4699,1,8,22081,2,20130428,1632,31.967,143.0513,5689,3810.4,3750,1.4710,34.6805,2,-999.0000,9,149.00,6,148.59,6,36.07,6,0.00,6,2.54,6,2328.3,2,2417.3,2,7.5688,2,-999,9,-999,9
49UP20130426,RF13-04,4699,1,7,22106,2,20130428,1626,31.967,143.0513,5689,4068.5,4002,1.4661,34.6835,2,34.6826,2,150.56,3,148.08,2,35.96,2,0.00,2,2.52,2,2331.0,2,2418.0,2,7.5731,2,-999,9,-999,9
49UP20130426,RF13-04,4699,1,6,22113,2,20130428,1621,31.967,143.0513,5689,4324.9,4252,1.4628,34.6865,2,34.6869,2,155.95,2,147.43,2,35.72,2,0.00,2,2.50,2,2327.0,2,2412.8,2,7.5805,2,-999,9,-999,9
49UP20130426,RF13-04,4699,1,5,22094,2,20130428,1615,31.967,143.0513,5689,4582.2,4502,1.4660,34.6890,2,34.6894,2,159.87,2,145.86,2,35.44,2,0.00,2,2.50,2,2321.4,2,2415.9,2,7.5852,2,-999,9,-999,9
49UP20130426,RF13-04,4699,1,4,22077,2,20130428,1610,31.967,143.0513,5689,4839.2,4752,1.4818,34.6904,2,34.6899,2,162.06,2,143.92,2,35.26,2,0.00,2,2.48,2,2319.2,2,2418.6,2,7.5911,2,-999,9,-999,9
49UP20130426,RF13-04,4699,1,3,22104,2,20130428,1604,31.967,143.0513,5689,5096.2,5001,1.5043,34.6915,2,34.6905,2,163.56,2,142.96,2,35.09,2,0.00,2,2.46,2,2317.7,2,2415.2,2,7.5905,2,-999,9,-999,9
49UP20130426,RF13-04,4699,1,2,22075,2,20130428,1553,31.967,143.0513,5689,5612.4,5501,1.5663,34.6919,2,34.6912,2,164.72,2,142.43,2,35.07,2,0.00,2,2.46,2,2317.0,2,2412.2,2,7.5938,2,-999,9,-999,9
49UP20130426,RF13-04,4699,1,1,21997,2,20130428,1549,31.967,143.0513,5689,5810.4,5693,1.5927,34.6919,2,34.6918,6,164.05,6,142.34,6,35.18,6,0.00,6,2.47,6,2320.2,2,2409.9,2,7.5922,2,-999,9,-999,9
49UP20130426,RF13-04,4701,1,-999,0,2,20130429,0237,30.9762,144.0075,5760,0.0,0,20.3457,34.7208,2,-999.,9,227.07,2,1.89,2,0.07,2,0.01,2,0.08,2,-999.,9,-999.,9,-999.,9,-999,9,-999,9
49UP20130426,RF13-04,4701,1,36,22109,2,20130429,0300,30.9762,144.0075,5760,11.7,12,20.3486,34.7232,2,-999.,9,225.72,2,1.88,2,0.05,2,0.01,2,0.06,2,-999.,9,-999.,9,-999.,9,-999,9,-999,9
49UP20130426,RF13-04,4701,1,35,22112,2,20130429,0259,30.9762,144.0075,5760,26.1,26,20.3234,34.7236,2,-999.,9,225.11,6,1.87,6,0.11,6,0.02,6,0.07,6,-999.,9,-999.,9,-999.,9,-999,9,-999,9
49UP20130426,RF13-04,4701,1,34,22083,2,20130429,0256,30.9762,144.0075,5760,49.4,49,20.1688,34.7263,2,-999.,9,223.91,2,1.87,2,0.25,2,0.05,2,0.07,2,-999.,9,-999.,9,-999.,9,-999,9,-999,9
49UP20130426,RF13-04,4701,1,30,22097,2,20130429,0255,30.9762,144.0075,5760,75.0,74,19.4120,34.7407,2,-999.,9,224.11,2,1.88,2,0.62,2,0.09,2,0.08,2,-999.,9,-999.,9,-999.,9,-999,9,-999,9
49UP20130426,RF13-04,4701,1,29,22102,2,20130429,0254,30.9762,144.0075,5760,101.2,100,18.9661,34.7492,2,-999.,9,230.10,2,1.41,2,0.18,2,0.08,2,0.06,2,-999.,9,-999.,9,-999.,9,-999,9,-999,9
49UP20130426,RF13-04,4701,1,28,22091,2,20130429,0252,30.9762,144.0075,5760,126.9,126,18.7639,34.7510,2,-999.,9,231.17,2,1.33,2,0.13,2,0.08,2,0.05,2,-999.,9,-999.,9,-999.,9,-999,9,-999,9
49UP20130426,RF13-04,4701,1,27,21998,2,20130429,0251,30.9762,144.0075,5760,151.3,150,18.7421,34.7530,2,-999.,9,230.61,2,1.42,2,0.30,2,0.15,2,0.07,2,-999.,9,-999.,9,-999.,9,-999,9,-999,9
49UP20130426,RF13-04,4701,1,26,22084,2,20130429,0249,30.9762,144.0075,5760,201.9,200,18.3798,34.7684,2,-999.,9,220.37,2,2.63,2,1.96,2,0.03,2,0.15,2,-999.,9,-999.,9,-999.,9,-999,9,-999,9
49UP20130426,RF13-04,4701,1,25,22098,2,20130429,0249,30.9762,144.0075,5760,201.9,200,18.3798,34.7684,2,-999.,9,220.34,2,2.64,2,1.94,2,0.04,2,0.15,2,-999.,9,-999.,9,-999.,9,-999,9,-999,9
49UP20130426,RF13-04,4701,1,24,22110,2,20130429,0247,30.9762,144.0075,5760,252.7,251,17.8457,34.7410,2,-999.,9,207.45,2,3.75,2,3.85,2,0.01,2,0.27,2,-999.,9,-999.,9,-999.,9,-999,9,-999,9
49UP20130426,RF13-04,4701,1,23,22096,2,20130429,0246,30.9762,144.0075,5760,302.5,300,16.6789,34.6519,2,-999.,9,191.38,2,8.00,2,7.22,2,0.01,2,0.51,2,-999.,9,-999.,9,-999.,9,-999,9,-999,9
49UP20130426,RF13-04,4701,1,22,22111,2,20130429,0242,30.9762,144.0075,5760,404.6,401,14.7198,34.5396,2,-999.,9,179.28,2,14.51,2,11.29,2,0.01,2,0.80,2,-999.,9,-999.,9,-999.,9,-999,9,-999,9
49UP20130426,RF13-04,4701,1,21,22078,2,20130429,0239,30.9762,144.0075,5760,505.3,501,11.8262,34.3837,2,-999.,9,163.99,2,26.63,2,17.31,2,0.00,2,1.24,2,-999.,9,-999.,9,-999.,9,-999,9,-999,9
49UP20130426,RF13-04,4701,1,20,22093,2,20130429,0236,30.9762,144.0075,5760,605.5,600,8.5610,34.1839,2,-999.,9,151.47,6,44.78,6,23.85,6,0.00,6,1.74,6,-999.,9,-999.,9,-999.,9,-999,9,-999,9
49UP20130426,RF13-04,4701,1,19,22092,2,20130429,0233,30.9762,144.0075,5760,709.4,703,5.5314,33.9835,2,-999.,9,137.58,2,65.12,2,30.71,2,0.00,2,2.26,2,-999.,9,-999.,9,-999.,9,-999,9,-999,9
49UP20130426,RF13-04,4701,1,14,21999,2,20130429,0229,30.9762,144.0075,5760,808.9,802,5.2356,34.1708,2,-999.,9,87.68,2,85.05,2,35.26,2,0.00,2,2.56,2,-999.,9,-999.,9,-999.,9,-999,9,-999,9
49UP20130426,RF13-04,4701,1,13,22667,2,20130429,0226,30.9762,144.0075,5760,909.3,901,4.4389,34.2206,2,-999.,9,65.87,2,101.71,2,38.46,2,0.00,2,2.79,2,-999.,9,-999.,9,-999.,9,-999,9,-999,9
49UP20130426,RF13-04,4701,1,12,22074,2,20130429,0223,30.9762,144.0075,5760,1010.6,1001,3.8599,34.2844,2,-999.,9,51.57,2,116.11,2,40.40,2,0.00,2,2.92,2,-999.,9,-999.,9,-999.,9,-999,9,-999,9
49UP20130426,RF13-04,4701,1,6,22113,2,20130429,0218,30.9762,144.0075,5760,1213.4,1202,3.1178,34.3912,2,-999.,9,41.87,2,135.93,2,41.97,2,0.00,2,3.02,2,-999.,9,-999.,9,-999.,9,-999,9,-999,9
49UP20130426,RF13-04,4701,1,5,22094,2,20130429,0213,30.9762,144.0075,5760,1415.5,1401,2.6717,34.4749,2,-999.,9,43.65,2,147.64,2,42.38,2,0.00,2,3.04,2,-999.,9,-999.,9,-999.,9,-999,9,-999,9
49UP20130426,RF13-04,4701,1,4,22077,2,20130429,0213,30.9762,144.0075,5760,1415.5,1401,2.6717,34.4749,2,-999.,9,44.02,2,147.65,2,42.44,2,0.00,2,3.04,2,-999.,9,-999.,9,-999.,9,-999,9,-999,9
49UP20130426,RF13-04,4701,1,3,22104,2,20130429,0208,30.9762,144.0075,5760,1615.8,1598,2.3887,34.5249,2,-999.,9,51.96,2,154.12,2,42.18,2,0.00,2,3.01,2,-999.,9,-999.,9,-999.,9,-999,9,-999,9
49UP20130426,RF13-04,4701,1,2,22075,2,20130429,0203,30.9762,144.0075,5760,1819.3,1799,2.1079,34.5666,2,-999.,9,63.77,2,160.59,2,41.58,2,0.00,2,2.96,2,-999.,9,-999.,9,-999.,9,-999,9,-999,9
49UP20130426,RF13-04,4701,1,11,21996,2,20130429,0158,30.9762,144.0075,5760,2022.5,1999,1.9642,34.5981,2,-999.,9,83.01,2,158.32,2,40.35,2,0.00,2,2.87,2,-999.,9,-999.,9,-999.,9,-999,9,-999,9
49UP20130426,RF13-04,4701,1,1,21997,2,20130429,0158,30.9762,144.0075,5760,2023.0,1999,1.9643,34.5981,2,-999.,9,83.38,2,157.50,2,40.27,2,0.00,2,2.86,2,-999.,9,-999.,9,-999.,9,-999,9,-999,9
49UP20130426,RF13-04,4703,1,-999,0,2,20130429,1505,30.0043,145.0795,5944,0.0,0,20.6207,34.8712,2,34.8746,2,225.95,2,1.66,2,0.02,2,0.00,2,0.04,2,1996.1,2,2290.4,2,8.0411,2,-999,9,-999,9
49UP20130426,RF13-04,4703,1,36,22109,2,20130429,1541,30.0043,145.0795,5944,12.5,12,20.6220,34.8680,2,34.8666,2,225.61,6,1.70,6,0.02,6,0.00,6,0.02,6,1999.9,2,2289.5,2,8.0408,2,-999,9,-999,9
49UP20130426,RF13-04,4703,1,35,22112,2,20130429,1540,30.0043,145.0795,5944,27.4,27,20.4683,34.8387,2,-999.0000,9,226.67,2,1.71,2,0.00,2,0.00,2,0.02,2,1991.0,2,2287.8,2,8.0370,2,-999,9,-999,9
49UP20130426,RF13-04,4703,1,34,22083,3,20130429,1539,30.0043,145.0795,5944,52.5,52,19.9861,34.8150,2,-999.0000,9,228.82,2,1.79,2,0.00,2,0.00,2,0.02,2,1996.9,2,2291.3,2,8.0353,2,-999,9,-999,9
49UP20130426,RF13-04,4703,1,33,22086,2,20130429,1537,30.0043,145.0795,5944,77.4,77,19.3575,34.8728,2,-999.0000,9,222.76,2,2.09,2,0.39,2,0.10,2,0.06,2,2014.9,2,2292.1,2,8.0204,2,-999,9,-999,9
49UP20130426,RF13-04,4703,1,32,22105,2,20130429,1518,30.0043,145.0795,5944,102.9,102,18.4508,34.7962,2,34.7934,2,215.77,2,2.60,2,2.06,2,0.04,2,0.15,2,2015.8,2,2283.6,2,7.9807,2,-999,9,-999,9
49UP20130426,RF13-04,4703,1,31,22076,2,20130429,1517,30.0043,145.0795,5944,125.2,124,18.1136,34.7734,2,-999.0000,9,217.41,2,2.77,2,2.31,2,0.02,2,0.17,2,2013.4,2,2283.7,2,7.9858,2,-999,9,-999,9
49UP20130426,RF13-04,4703,1,30,22097,2,20130429,1516,30.0043,145.0795,5944,152.5,151,17.9443,34.7572,2,-999.0000,9,219.78,2,2.88,2,2.44,2,0.02,2,0.18,2,2017.2,2,2282.5,2,7.9858,2,-999,9,-999,9
49UP20130426,RF13-04,4703,1,29,22102,2,20130429,1514,30.0043,145.0795,5944,203.1,202,17.5624,34.7408,2,34.7390,2,221.76,2,3.06,2,2.82,2,0.01,2,0.20,2,2015.2,2,2280.3,2,7.9852,2,-999,9,-999,9
49UP20130426,RF13-04,4703,1,28,22091,2,20130429,1513,30.0043,145.0795,5944,253.0,251,17.2312,34.7174,2,-999.0000,9,215.09,2,3.85,2,3.97,2,0.01,2,0.28,2,2028.3,2,2287.9,2,7.9680,2,-999,9,-999,9
49UP20130426,RF13-04,4703,1,27,21998,2,20130429,1511,30.0043,145.0795,5944,304.2,302,16.6574,34.6776,2,-999.0000,9,204.79,2,5.56,2,5.86,2,0.01,2,0.39,2,2034.9,2,2280.0,2,7.9359,2,-999,9,-999,9
49UP20130426,RF13-04,4703,1,26,22084,2,20130429,1509,30.0043,145.0795,5944,405.2,402,14.9232,34.5510,2,34.5529,2,187.71,2,11.04,2,10.05,2,0.00,2,0.69,2,2077.6,2,2285.5,2,7.8682,2,-999,9,-999,9
49UP20130426,RF13-04,4703,1,25,22098,2,20130429,1506,30.0043,145.0795,5944,505.5,501,12.2381,34.3910,2,-999.0000,9,171.89,2,22.70,2,15.94,2,0.00,2,1.13,2,2120.4,2,2281.2,2,7.7760,2,-999,9,-999,9
49UP20130426,RF13-04,4703,1,24,22110,2,20130429,1503,30.0043,145.0795,5944,606.7,602,8.9892,34.1669,2,34.1695,2,167.13,2,37.62,2,21.59,2,0.00,2,1.57,2,2165.2,6,2284.2,6,7.6782,2,-999,9,-999,9
49UP20130426,RF13-04,4703,1,23,22096,2,20130429,1501,30.0043,145.0795,5944,710.9,705,6.2382,34.0598,2,-999.0000,9,130.55,2,62.97,2,30.10,2,0.00,2,2.20,2,2229.6,2,2299.2,2,7.5361,6,-999,9,-999,9
49UP20130426,RF13-04,4703,1,22,22111,2,20130429,1459,30.0043,145.0795,5944,810.9,804,5.0725,34.0952,2,34.0931,2,94.31,2,82.39,2,35.30,2,0.00,2,2.56,2,2275.1,2,2312.1,2,7.4484,2,-999,9,-999,9
49UP20130426,RF13-04,4703,1,21,22078,2,20130429,1456,30.0043,145.0795,5944,910.9,903,4.4463,34.1853,2,-999.0000,9,66.94,6,99.48,6,38.46,6,0.00,6,2.78,6,2306.5,2,2331.2,2,7.3984,2,-999,9,-999,9
49UP20130426,RF13-04,4703,1,20,22093,2,20130429,1453,30.0043,145.0795,5944,1009.1,1000,3.8943,34.2635,2,34.2626,2,48.51,2,114.36,2,40.73,2,0.00,2,2.94,2,2335.6,2,2347.3,2,7.3701,2,-999,9,-999,9
49UP20130426,RF13-04,4703,1,19,22092,2,20130429,1448,30.0043,145.0795,5944,1211.1,1199,3.1789,34.3806,2,34.3799,2,40.00,2,134.54,2,42.22,2,0.00,2,3.04,2,2363.3,2,2373.1,2,7.3606,2,-999,9,-999,9
49UP20130426,RF13-04,4703,1,18,22101,2,20130429,1444,30.0043,145.0795,5944,1415.3,1401,2.7056,34.4629,2,34.4630,6,38.77,2,147.90,2,42.89,2,0.00,2,3.07,2,2381.7,2,2389.1,2,7.3628,2,-999,9,-999,9
49UP20130426,RF13-04,4703,1,17,22090,2,20130429,1439,30.0043,145.0795,5944,1616.9,1600,2.3793,34.5204,2,34.5155,4,47.44,2,156.02,2,42.45,2,0.00,2,3.04,2,2379.4,6,2402.6,6,7.3809,2,-999,9,-999,9
49UP20130426,RF13-04,4703,1,16,22089,2,20130429,1435,30.0043,145.0795,5944,1821.2,1801,2.1543,34.5640,2,34.5625,2,63.56,2,158.30,2,41.61,2,0.00,2,2.95,2,2383.1,2,2407.2,2,7.4132,6,-999,9,-999,9
49UP20130426,RF13-04,4703,1,15,22088,2,20130429,1430,30.0043,145.0795,5944,2023.1,2000,1.9622,34.5941,2,34.5941,2,76.12,2,161.06,2,40.98,2,0.00,2,2.90,2,2374.3,2,2415.4,2,7.4358,2,-999,9,-999,9
49UP20130426,RF13-04,4703,1,14,21999,2,20130429,1424,30.0043,145.0795,5944,2279.9,2252,1.8194,34.6193,2,34.6186,6,93.74,2,160.35,2,39.98,2,0.00,2,2.82,2,2365.2,2,2420.1,2,7.4681,2,-999,9,-999,9
49UP20130426,RF13-04,4703,1,13,22667,2,20130429,1419,30.0043,145.0795,5944,2532.7,2500,1.6974,34.6398,2,34.6388,2,108.62,2,158.02,2,38.90,2,0.00,2,2.74,2,2356.4,2,2419.5,2,7.4985,2,-999,9,-999,9
49UP20130426,RF13-04,4703,1,12,22074,2,20130429,1414,30.0043,145.0795,5944,2786.6,2749,1.6225,34.6523,2,-999.0000,9,120.80,2,155.81,2,38.19,2,0.00,2,2.68,2,2348.2,2,2420.8,2,7.5202,2,-999,9,-999,9
49UP20130426,RF13-04,4703,1,11,21996,2,20130429,1408,30.0043,145.0795,5944,3044.5,3002,1.5624,34.6626,2,34.6618,2,130.14,2,153.92,2,37.44,2,0.00,2,2.65,2,2341.6,2,2418.8,2,7.5361,2,-999,9,-999,9
49UP20130426,RF13-04,4703,1,10,22107,2,20130429,1402,30.0043,145.0795,5944,3298.1,3250,1.5286,34.6692,2,34.6679,2,135.37,2,153.20,2,37.20,2,0.00,2,2.60,2,2336.9,2,2416.5,2,7.5490,2,-999,9,-999,9
49UP20130426,RF13-04,4703,1,9,22108,2,20130429,1357,30.0043,145.0795,5944,3553.6,3500,1.4956,34.6752,2,34.6750,2,142.37,6,151.25,6,36.75,6,0.00,6,2.58,6,2336.7,2,2416.1,2,7.5607,2,-999,9,-999,9
49UP20130426,RF13-04,4703,1,8,22081,2,20130429,1351,30.0043,145.0795,5944,3810.1,3750,1.4828,34.6791,2,34.6797,2,146.88,2,150.36,2,36.48,2,0.00,2,2.55,2,2327.6,6,2419.3,6,7.5682,2,-999,9,-999,9
49UP20130426,RF13-04,4703,1,7,22106,2,20130429,1345,30.0043,145.0795,5944,4067.2,4001,1.4749,34.6827,2,34.6825,2,150.94,2,148.88,2,36.14,2,0.00,2,2.52,2,2330.1,2,2416.6,2,7.5763,6,-999,9,-999,9
49UP20130426,RF13-04,4703,1,6,22113,2,20130429,1339,30.0043,145.0795,5944,4321.1,4249,1.4752,34.6855,2,-999.0000,9,154.80,2,147.85,2,35.91,2,0.00,2,2.50,2,2328.2,2,2421.4,2,7.5795,2,-999,9,-999,9
49UP20130426,RF13-04,4703,1,5,22094,2,20130429,1334,30.0043,145.0795,5944,4578.4,4499,1.4831,34.6875,2,34.6882,2,157.25,2,146.49,2,35.71,2,0.00,2,2.48,2,2324.2,2,2421.0,2,7.5841,2,-999,9,-999,9
49UP20130426,RF13-04,4703,1,4,22077,2,20130429,1328,30.0043,145.0795,5944,4836.9,4750,1.4978,34.6891,2,34.6920,4,160.08,2,144.95,2,35.65,2,0.00,2,2.47,2,2320.1,2,2422.2,2,7.5869,2,-999,9,-999,9
49UP20130426,RF13-04,4703,1,3,22104,2,20130429,1322,30.0043,145.0795,5944,5094.7,5000,1.5129,34.6907,2,34.6907,6,162.62,2,143.64,2,35.39,2,0.00,2,2.48,2,2315.4,2,2413.1,2,7.5902,2,-999,9,-999,9
49UP20130426,RF13-04,4703,1,2,22075,3,20130429,1311,30.0043,145.0795,5944,5610.2,5500,1.5595,34.6926,2,34.6924,2,166.26,6,140.26,6,35.18,6,0.00,6,2.44,6,2317.0,2,2409.5,2,7.5923,2,-999,9,-999,9
49UP20130426,RF13-04,4703,1,1,21997,2,20130429,1302,30.0043,145.0795,5944,6049.1,5925,1.6087,34.6936,2,34.6940,2,168.16,2,138.34,2,35.03,2,0.00,2,2.44,2,2312.9,2,2397.3,2,7.5969,2,-999,9,-999,9