BOTTLE,20171119JMAGEMD
EXPOCODE,SECT_ID,STNNBR,CASTNO,SAMPNO,BTLNBR,BTLNBR_FLAG_W,DATE,TIME,LATITUDE,LONGITUDE,DEPTH,CTDPRS,CTDDEP,CTDTMP,CTDSAL,CTDSAL_FLAG_W,SALNTY,SALNTY_FLAG_W,OXYGEN,OXYGEN_FLAG_W,SILCAT,SILCAT_FLAG_W,NO2+NO3,NO2+NO3_FLAG_W,NITRIT,NITRIT_FLAG_W,PHSPHT,PHSPHT_FLAG_W,TCARBN,TCARBN_FLAG_W,ALKALI,ALKALI_FLAG_W,PH_TOT,PH_TOT_FLAG_W,CFC-11,CFC-11_FLAG_W,CFC-12,CFC-12_FLAG_W
,,,,,,,UTC,UTC,,,METER,DBAR,METERS,ITS-90,PSS-78,,PSS-78,,UMOL/KG,,UMOL/KG,,UMOL/KG,,UMOL/KG,,UMOL/KG,,UMOL/KG,,UMOL/KG,,@25DEG-C,,PMOL/KG,,PMOL/KG,
49UP20130426,RF13-04,4744,1,-999,0,2,20130517,0624,41.6533,146.5042,6080,0.0,0,11.6447,34.2574,2,34.2004,2,267.22,2,13.57,2,8.57,2,0.28,2,0.72,2,2065.3,2,2271.6,2,7.8651,2,-999,9,-999,9
49UP20130426,RF13-04,4744,1,36,22109,2,20130517,0651,41.6533,146.5042,6080,10.7,11,11.6390,34.2565,2,34.2553,2,262.35,2,14.14,2,8.95,2,0.31,2,0.72,2,2071.8,2,2274.1,2,7.8621,2,-999,9,-999,9
49UP20130426,RF13-04,4744,1,35,22112,2,20130517,0650,41.6533,146.5042,6080,27.2,27,11.6339,34.2550,2,-999.0000,9,261.78,2,14.13,2,8.97,2,0.31,2,0.73,2,2075.1,2,2275.3,2,7.8642,2,-999,9,-999,9
49UP20130426,RF13-04,4744,1,34,22083,2,20130517,0648,41.6533,146.5042,6080,52.7,52,11.5839,34.2535,2,-999.0000,9,260.67,2,14.17,2,9.10,2,0.31,2,0.74,2,2075.9,2,2276.9,2,7.8622,2,-999,9,-999,9
49UP20130426,RF13-04,4744,1,33,22086,2,20130517,0646,41.6533,146.5042,6080,77.5,77,7.8624,33.6524,2,-999.0000,9,295.42,2,10.42,2,7.64,2,0.19,2,0.78,2,2075.3,2,2261.8,2,7.8481,2,-999,9,-999,9
49UP20130426,RF13-04,4744,1,32,22105,2,20130517,0644,41.6533,146.5042,6080,102.1,101,6.2892,33.5419,2,33.5555,4,301.51,2,18.48,2,12.31,2,0.28,2,1.14,2,2092.3,2,2258.3,2,7.7769,2,-999,9,-999,9
49UP20130426,RF13-04,4744,1,31,22076,4,20130517,0642,41.6533,146.5042,6080,127.3,126,6.4397,33.7151,2,-999.0000,9,-999.00,9,-999.00,9,-999.00,9,-999.00,9,-999.000,9,-999.0,9,-999.0,9,-999.0000,9,-999,9,-999,9
49UP20130426,RF13-04,4744,1,30,22097,2,20130517,0640,41.6533,146.5042,6080,153.5,152,5.7792,33.6578,2,-999.0000,9,265.43,2,28.81,2,16.73,2,0.02,2,1.31,2,2127.8,6,2259.3,6,7.7072,2,-999,9,-999,9
49UP20130426,RF13-04,4744,1,29,22102,2,20130517,0635,41.6533,146.5042,6080,204.6,203,4.6907,33.6244,2,33.6253,2,253.67,2,38.86,2,21.27,2,0.02,2,1.65,2,2154.5,2,2260.3,2,7.6461,2,-999,9,-999,9
49UP20130426,RF13-04,4744,1,28,22091,2,20130517,0633,41.6533,146.5042,6080,256.8,255,4.2060,33.6394,2,-999.0000,9,243.15,2,45.76,2,24.03,2,0.02,2,1.85,2,2170.3,2,2262.9,2,7.5986,6,-999,9,-999,9
49UP20130426,RF13-04,4744,1,27,21998,2,20130517,0631,41.6533,146.5042,6080,304.8,302,3.6876,33.6511,2,-999.0000,9,195.20,6,59.41,6,29.13,6,0.01,6,2.21,6,2210.7,2,2272.3,2,7.5141,2,-999,9,-999,9
49UP20130426,RF13-04,4744,1,26,22084,2,20130517,0627,41.6533,146.5042,6080,406.9,403,3.7185,33.8280,2,33.8283,2,122.82,2,79.83,2,35.45,2,0.00,2,2.61,2,2286.6,2,2292.1,2,7.4091,2,-999,9,-999,9
49UP20130426,RF13-04,4744,1,25,22098,2,20130517,0624,41.6533,146.5042,6080,508.3,504,3.5138,33.9416,2,-999.0000,9,77.56,2,97.29,2,39.59,2,0.00,2,2.88,2,2317.1,2,2311.5,2,7.3385,2,-999,9,-999,9
49UP20130426,RF13-04,4744,1,24,22110,2,20130517,0620,41.6533,146.5042,6080,610.7,605,3.4408,34.0485,2,34.0461,2,57.51,2,108.93,2,41.18,2,0.00,2,2.98,2,2334.1,2,2322.9,2,7.3117,2,-999,9,-999,9
49UP20130426,RF13-04,4744,1,23,22096,2,20130517,0617,41.6533,146.5042,6080,709.7,703,3.3187,34.1308,2,-999.0000,9,42.32,2,118.80,2,42.16,2,0.00,2,3.04,2,2345.6,2,2337.9,2,7.3035,2,-999,9,-999,9
49UP20130426,RF13-04,4744,1,22,22111,2,20130517,0614,41.6533,146.5042,6080,809.4,802,3.2363,34.2340,2,34.2324,2,32.61,2,129.19,2,42.73,2,0.00,2,3.08,2,2358.5,2,2352.9,2,7.3067,2,-999,9,-999,9
49UP20130426,RF13-04,4744,1,21,22078,2,20130517,0611,41.6533,146.5042,6080,912.3,903,3.1839,34.3203,2,-999.0000,9,36.93,6,133.61,6,42.21,6,0.00,6,3.05,6,2371.2,2,2363.3,2,7.3286,2,-999,9,-999,9
49UP20130426,RF13-04,4744,1,20,22093,2,20130517,0608,41.6533,146.5042,6080,1013.7,1003,2.9629,34.3557,2,34.3548,2,35.23,2,140.33,2,42.65,2,0.00,2,3.08,2,2370.8,2,2372.2,2,7.3297,2,-999,9,-999,9
49UP20130426,RF13-04,4744,1,19,22092,2,20130517,0603,41.6533,146.5042,6080,1214.5,1202,2.6111,34.4234,2,34.4234,6,37.09,2,151.62,2,42.73,2,0.00,2,3.08,2,2382.9,6,2384.8,6,7.3395,2,-999,9,-999,9
49UP20130426,RF13-04,4744,1,18,22101,2,20130517,0558,41.6533,146.5042,6080,1419.1,1403,2.3779,34.4801,2,34.4789,2,42.83,2,158.05,2,42.46,2,0.00,2,3.05,2,2381.8,2,2396.7,2,7.3576,2,-999,9,-999,9
49UP20130426,RF13-04,4744,1,17,22090,2,20130517,0553,41.6533,146.5042,6080,1620.8,1602,2.2794,34.5226,2,34.5219,2,48.93,2,159.94,2,42.29,2,0.00,2,3.02,2,2383.7,2,2401.5,2,7.3754,6,-999,9,-999,9
49UP20130426,RF13-04,4744,1,16,22089,2,20130517,0548,41.6533,146.5042,6080,1824.1,1802,2.1343,34.5562,2,34.5564,2,58.39,2,162.05,2,41.78,2,0.00,2,2.98,2,2380.3,2,2408.6,2,7.3945,2,-999,9,-999,9
49UP20130426,RF13-04,4744,1,15,22088,2,20130517,0544,41.6533,146.5042,6080,2026.3,2001,2.0049,34.5832,2,34.5827,2,69.41,2,162.73,2,41.20,2,0.00,2,2.93,2,2377.7,2,2414.6,2,7.4150,2,-999,9,-999,9
49UP20130426,RF13-04,4744,1,14,21999,2,20130517,0538,41.6533,146.5042,6080,2281.3,2251,1.8507,34.6120,2,-999.0000,9,85.49,2,163.01,2,40.27,2,0.00,2,2.86,2,2367.9,2,2416.6,2,7.4460,2,-999,9,-999,9
49UP20130426,RF13-04,4744,1,13,22667,2,20130517,0533,41.6533,146.5042,6080,2535.5,2501,1.7188,34.6348,2,34.6335,2,102.10,2,161.33,2,39.26,2,0.00,2,2.78,2,2360.2,2,2415.7,2,7.4798,2,-999,9,-999,9
49UP20130426,RF13-04,4744,1,12,22074,2,20130517,0528,41.6533,146.5042,6080,2788.8,2749,1.6427,34.6482,2,34.6472,2,112.72,2,159.73,2,38.56,2,0.00,2,2.73,2,2355.3,2,2416.2,2,7.4933,2,-999,9,-999,9
49UP20130426,RF13-04,4744,1,11,21996,2,20130517,0523,41.6533,146.5042,6080,3045.8,3000,1.5887,34.6582,2,34.6570,6,122.02,2,158.05,2,38.01,2,0.00,2,2.68,2,2347.4,2,2417.4,2,7.5141,2,-999,9,-999,9
49UP20130426,RF13-04,4744,1,10,22107,2,20130517,0518,41.6533,146.5042,6080,3301.9,3251,1.5617,34.6647,2,34.6639,2,129.91,2,155.49,2,37.45,2,0.00,2,2.64,2,2349.4,6,2420.4,6,7.5287,2,-999,9,-999,9
49UP20130426,RF13-04,4744,1,9,22108,2,20130517,0513,41.6533,146.5042,6080,3558.1,3501,1.5212,34.6721,2,34.6709,2,137.63,2,153.50,2,36.92,2,0.00,2,2.60,2,2343.7,2,2419.3,2,7.5443,6,-999,9,-999,9
49UP20130426,RF13-04,4744,1,8,22081,2,20130517,0507,41.6533,146.5042,6080,3814.3,3751,1.5071,34.6764,2,-999.0000,9,143.34,6,152.92,6,36.62,6,0.00,6,2.58,6,2339.9,2,2418.6,2,7.5535,2,-999,9,-999,9
49UP20130426,RF13-04,4744,1,7,22106,2,20130517,0502,41.6533,146.5042,6080,4070.6,4000,1.5065,34.6792,2,34.6793,6,145.66,2,151.78,2,36.38,2,0.00,2,2.56,2,2340.8,2,2421.2,2,7.5547,2,-999,9,-999,9
49UP20130426,RF13-04,4744,1,6,22113,2,20130517,0456,41.6533,146.5042,6080,4326.9,4250,1.4997,34.6829,2,34.6829,2,152.21,3,150.60,2,36.05,2,0.00,2,2.53,2,2331.2,2,2419.7,2,7.5653,2,-999,9,-999,9
49UP20130426,RF13-04,4744,1,5,22094,2,20130517,0451,41.6533,146.5042,6080,4585.9,4502,1.4993,34.6858,2,34.6858,2,154.90,2,148.84,2,35.76,2,0.00,2,2.51,2,2322.7,2,2417.0,2,7.5751,2,-999,9,-999,9
49UP20130426,RF13-04,4744,1,4,22077,2,20130517,0445,41.6533,146.5042,6080,4842.7,4751,1.5169,34.6872,2,34.6868,6,156.48,2,148.19,2,35.66,2,0.00,2,2.50,2,2324.5,2,2415.8,2,7.5737,2,-999,9,-999,9
49UP20130426,RF13-04,4744,1,3,22104,2,20130517,0439,41.6533,146.5042,6080,5102.5,5003,1.5396,34.6881,2,34.6879,2,157.82,2,147.65,2,35.55,2,0.00,2,2.49,2,2328.4,2,2412.6,2,7.5777,2,-999,9,-999,9
49UP20130426,RF13-04,4744,1,2,22075,2,20130517,0427,41.6533,146.5042,6080,5622.1,5506,1.5798,34.6907,2,34.6902,6,162.09,2,144.46,2,35.16,2,0.00,2,2.47,2,2321.9,2,2413.5,2,7.5839,2,-999,9,-999,9
49UP20130426,RF13-04,4744,1,1,21997,2,20130517,0417,41.6533,146.5042,6080,6138.6,6005,1.6439,34.6910,2,34.6914,2,162.88,6,144.61,6,35.19,6,0.00,6,2.47,6,2321.3,2,2415.2,2,7.5826,2,-999,9,-999,9
49UP20130426,RF13-04,4747,1,-999,0,2,20130519,0248,40.6737,147.064,5313,0.0,0,3.5816,32.9233,2,-999.0000,9,378.26,2,32.05,2,15.71,2,0.20,2,1.36,2,-999.,9,-999.,9,-999.,9,-999,9,-999,9
49UP20130426,RF13-04,4747,1,36,22109,2,20130519,0330,40.6737,147.064,5313,11.4,11,3.0479,32.8983,2,32.9022,4,380.55,2,33.24,2,16.37,2,0.21,2,1.42,2,-999.,9,-999.,9,-999.,9,-999,9,-999,9
49UP20130426,RF13-04,4747,1,35,22112,2,20130519,0328,40.6737,147.064,5313,27.1,27,2.4163,32.9404,2,-999.0000,9,342.72,2,42.63,2,22.49,2,0.22,2,1.85,2,-999.,9,-999.,9,-999.,9,-999,9,-999,9
49UP20130426,RF13-04,4747,1,34,22083,3,20130519,0325,40.6737,147.064,5313,50.6,50,1.4336,32.9724,2,-999.0000,9,339.95,2,43.19,2,23.05,2,0.18,2,1.89,2,-999.,9,-999.,9,-999.,9,-999,9,-999,9
49UP20130426,RF13-04,4747,1,33,22086,2,20130519,0323,40.6737,147.064,5313,75.1,75,1.0598,33.0170,2,-999.0000,9,333.59,2,44.27,2,23.47,2,0.21,2,1.92,2,-999.,9,-999.,9,-999.,9,-999,9,-999,9
49UP20130426,RF13-04,4747,1,32,22105,3,20130519,0322,40.6737,147.064,5313,101.6,101,0.9754,33.1577,2,33.1676,4,303.10,2,52.51,2,26.47,2,0.24,2,2.11,2,-999.,9,-999.,9,-999.,9,-999,9,-999,9
49UP20130426,RF13-04,4747,1,31,22076,2,20130519,0320,40.6737,147.064,5313,125.4,124,0.8941,33.2072,2,-999.0000,9,285.89,2,55.65,2,27.57,2,0.13,2,2.17,2,-999.,9,-999.,9,-999.,9,-999,9,-999,9
49UP20130426,RF13-04,4747,1,30,22097,2,20130519,0319,40.6737,147.064,5313,151.2,150,1.3102,33.3110,2,-999.0000,9,261.29,2,61.94,2,29.66,2,0.07,2,2.30,2,-999.,9,-999.,9,-999.,9,-999,9,-999,9
49UP20130426,RF13-04,4747,1,29,22102,3,20130519,0317,40.6737,147.064,5313,203.5,202,1.6859,33.4435,2,33.4451,2,209.29,2,70.17,2,32.61,2,0.02,2,2.50,2,-999.,9,-999.,9,-999.,9,-999,9,-999,9
49UP20130426,RF13-04,4747,1,28,22091,2,20130519,0315,40.6737,147.064,5313,253.1,251,2.5381,33.6209,2,-999.0000,9,140.04,6,82.50,6,37.50,6,0.01,6,2.77,6,-999.,9,-999.,9,-999.,9,-999,9,-999,9
49UP20130426,RF13-04,4747,1,27,21998,2,20130519,0313,40.6737,147.064,5313,303.1,301,2.7808,33.7242,2,-999.0000,9,99.86,2,90.47,2,39.81,2,0.01,2,2.91,2,-999.,9,-999.,9,-999.,9,-999,9,-999,9
49UP20130426,RF13-04,4747,1,26,22084,2,20130519,0310,40.6737,147.064,5313,404.9,401,2.6972,33.8531,2,33.8610,4,85.87,2,101.16,2,39.80,2,0.00,2,2.93,2,-999.,9,-999.,9,-999.,9,-999,9,-999,9
49UP20130426,RF13-04,4747,1,25,22098,2,20130519,0308,40.6737,147.064,5313,506.0,501,3.3518,34.0815,2,-999.0000,9,31.67,2,116.99,2,43.39,2,0.00,2,3.11,2,-999.,9,-999.,9,-999.,9,-999,9,-999,9
49UP20130426,RF13-04,4747,1,24,22110,2,20130519,0305,40.6737,147.064,5313,607.7,602,3.4646,34.1772,2,34.1762,2,39.47,2,119.97,2,42.16,2,0.00,2,3.04,2,-999.,9,-999.,9,-999.,9,-999,9,-999,9
49UP20130426,RF13-04,4747,1,23,22096,2,20130519,0302,40.6737,147.064,5313,706.9,700,3.1754,34.2154,2,-999.0000,9,32.98,6,129.12,6,42.84,6,0.00,6,3.09,6,-999.,9,-999.,9,-999.,9,-999,9,-999,9
49UP20130426,RF13-04,4747,1,22,22111,3,20130519,0259,40.6737,147.064,5313,808.8,801,3.0487,34.2674,2,34.2670,2,30.53,2,135.60,2,43.00,2,0.00,2,3.10,2,-999.,9,-999.,9,-999.,9,-999,9,-999,9
49UP20130426,RF13-04,4747,1,21,22078,2,20130519,0258,40.6737,147.064,5313,808.8,801,3.0487,34.2674,2,34.2689,2,30.30,2,135.54,2,43.12,2,0.00,2,3.10,2,-999.,9,-999.,9,-999.,9,-999,9,-999,9
49UP20130426,RF13-04,4747,1,20,22093,3,20130519,0256,40.6737,147.064,5313,909.0,900,2.8541,34.3285,2,-999.0000,9,30.13,2,143.68,2,43.26,2,0.00,2,3.12,2,-999.,9,-999.,9,-999.,9,-999,9,-999,9
49UP20130426,RF13-04,4747,1,19,22092,2,20130519,0253,40.6737,147.064,5313,1009.8,1000,2.7198,34.3686,2,34.3690,2,32.56,2,148.26,2,43.16,2,0.00,2,3.11,2,-999.,9,-999.,9,-999.,9,-999,9,-999,9
49UP20130426,RF13-04,4747,1,18,22101,2,20130519,0248,40.6737,147.064,5313,1212.7,1200,2.5228,34.4523,2,34.4531,2,38.85,2,154.19,2,42.89,2,0.00,2,3.08,2,-999.,9,-999.,9,-999.,9,-999,9,-999,9
49UP20130426,RF13-04,4747,1,17,22090,2,20130519,0243,40.6737,147.064,5313,1416.0,1400,2.3341,34.5018,2,34.5065,4,45.44,2,158.84,2,42.56,2,0.00,2,3.05,2,-999.,9,-999.,9,-999.,9,-999,9,-999,9
49UP20130426,RF13-04,4747,1,16,22089,3,20130519,0238,40.6737,147.064,5313,1619.1,1600,2.1896,34.5405,2,34.5413,6,54.02,2,161.21,2,42.12,2,0.00,2,3.02,2,-999.,9,-999.,9,-999.,9,-999,9,-999,9
49UP20130426,RF13-04,4747,1,15,22088,2,20130519,0233,40.6737,147.064,5313,1822.8,1801,2.0195,34.5721,2,34.5736,2,63.64,2,164.59,2,41.63,2,0.00,2,2.97,2,-999.,9,-999.,9,-999.,9,-999,9,-999,9
49UP20130426,RF13-04,4747,1,14,21999,2,20130519,0228,40.6737,147.064,5313,2027.2,2002,1.9089,34.5958,2,34.5954,2,74.78,2,164.93,2,40.98,2,0.00,2,2.91,2,-999.,9,-999.,9,-999.,9,-999,9,-999,9
49UP20130426,RF13-04,4747,1,13,22667,2,20130519,0222,40.6737,147.064,5313,2280.4,2251,1.7893,34.6200,2,34.6191,2,90.40,2,163.36,2,40.08,2,0.00,2,2.84,2,-999.,9,-999.,9,-999.,9,-999,9,-999,9
49UP20130426,RF13-04,4747,1,12,22074,3,20130519,0216,40.6737,147.064,5313,2535.5,2501,1.6857,34.6386,2,34.6401,2,105.06,2,161.32,2,39.18,2,0.00,2,2.77,2,-999.,9,-999.,9,-999.,9,-999,9,-999,9
49UP20130426,RF13-04,4747,1,11,21996,2,20130519,0216,40.6737,147.064,5313,2535.5,2501,1.6857,34.6386,2,34.6386,2,104.57,2,161.53,2,39.18,2,0.00,2,2.79,2,-999.,9,-999.,9,-999.,9,-999,9,-999,9
49UP20130426,RF13-04,4747,1,10,22107,3,20130519,0211,40.6737,147.064,5313,2790.4,2751,1.6110,34.6526,2,34.6507,2,119.09,3,158.20,2,38.30,2,0.00,2,2.71,2,-999.,9,-999.,9,-999.,9,-999,9,-999,9
49UP20130426,RF13-04,4747,1,9,22108,2,20130519,0205,40.6737,147.064,5313,3045.3,3000,1.5431,34.6637,2,34.6627,2,128.62,6,155.97,6,37.65,6,0.00,6,2.66,6,-999.,9,-999.,9,-999.,9,-999,9,-999,9
49UP20130426,RF13-04,4747,1,8,22081,2,20130519,0200,40.6737,147.064,5313,3300.3,3249,1.5127,34.6699,2,34.6702,6,135.31,2,154.55,2,37.19,2,0.00,2,2.62,2,-999.,9,-999.,9,-999.,9,-999,9,-999,9
49UP20130426,RF13-04,4747,1,7,22106,3,20130519,0155,40.6737,147.064,5313,3556.3,3499,1.4857,34.6753,2,34.6751,2,140.82,2,153.99,2,36.74,2,0.00,2,2.60,2,-999.,9,-999.,9,-999.,9,-999,9,-999,9
49UP20130426,RF13-04,4747,1,6,22113,3,20130519,0149,40.6737,147.064,5313,3812.8,3750,1.4687,34.6799,2,-999.0000,9,146.54,2,151.96,2,36.49,2,0.00,2,2.56,2,-999.,9,-999.,9,-999.,9,-999,9,-999,9
49UP20130426,RF13-04,4747,1,5,22094,2,20130519,0144,40.6737,147.064,5313,4069.8,4000,1.4633,34.6832,2,34.6839,6,150.59,2,151.12,2,36.25,2,0.00,2,2.54,2,-999.,9,-999.,9,-999.,9,-999,9,-999,9
49UP20130426,RF13-04,4747,1,4,22077,2,20130519,0138,40.6737,147.064,5313,4326.9,4250,1.4674,34.6857,2,34.6861,2,153.74,2,150.51,2,36.06,2,0.00,2,2.53,2,-999.,9,-999.,9,-999.,9,-999,9,-999,9
49UP20130426,RF13-04,4747,1,3,22104,2,20130519,0133,40.6737,147.064,5313,4584.0,4500,1.4801,34.6875,2,34.6888,6,156.04,2,149.87,2,35.76,2,0.00,2,2.52,2,-999.,9,-999.,9,-999.,9,-999,9,-999,9
49UP20130426,RF13-04,4747,1,2,22075,2,20130519,0123,40.6737,147.064,5313,5098.9,5000,1.5200,34.6899,2,34.6921,2,159.28,6,149.37,6,35.61,6,0.00,6,2.51,6,-999.,9,-999.,9,-999.,9,-999,9,-999,9
49UP20130426,RF13-04,4747,1,1,21997,2,20130519,0116,40.6737,147.064,5313,5436.8,5327,1.5560,34.6904,2,34.6902,2,160.49,2,147.73,2,35.50,2,0.00,2,2.50,2,-999.,9,-999.,9,-999.,9,-999,9,-999,9