BOTTLE,20171119JMAGEMD
EXPOCODE,SECT_ID,STNNBR,CASTNO,SAMPNO,BTLNBR,BTLNBR_FLAG_W,DATE,TIME,LATITUDE,LONGITUDE,DEPTH,CTDPRS,CTDDEP,CTDTMP,CTDSAL,CTDSAL_FLAG_W,SALNTY,SALNTY_FLAG_W,OXYGEN,OXYGEN_FLAG_W,SILCAT,SILCAT_FLAG_W,NO2+NO3,NO2+NO3_FLAG_W,NITRIT,NITRIT_FLAG_W,PHSPHT,PHSPHT_FLAG_W,TCARBN,TCARBN_FLAG_W,ALKALI,ALKALI_FLAG_W,PH_TOT,PH_TOT_FLAG_W,CFC-11,CFC-11_FLAG_W,CFC-12,CFC-12_FLAG_W
,,,,,,,UTC,UTC,,,METER,DBAR,METERS,ITS-90,PSS-78,,PSS-78,,UMOL/KG,,UMOL/KG,,UMOL/KG,,UMOL/KG,,UMOL/KG,,UMOL/KG,,UMOL/KG,,@25DEG-C,,PMOL/KG,,PMOL/KG,
49UP20130426,RF13-04,4734,1,-999,0,2,20130515,0530,41.0002,143.9885,3816,0.0,0,4.7554,33.0630,2,-999.0000,9,335.75,2,-999.,9,-999.,9,-999.,9,-999.,9,-999.,9,-999.,9,-999.,9,-999,9,-999,9
49UP20130426,RF13-04,4734,1,33,22086,2,20130515,0551,41.0002,143.9885,3816,12.0,12,4.6517,33.0635,2,33.0659,2,337.39,2,-999.,9,-999.,9,-999.,9,-999.,9,-999.,9,-999.,9,-999.,9,-999,9,-999,9
49UP20130426,RF13-04,4734,1,32,22105,2,20130515,0549,41.0002,143.9885,3816,27.4,27,4.5332,33.1243,2,-999.0000,9,335.75,2,-999.,9,-999.,9,-999.,9,-999.,9,-999.,9,-999.,9,-999.,9,-999,9,-999,9
49UP20130426,RF13-04,4734,1,31,22076,2,20130515,0545,41.0002,143.9885,3816,52.0,52,2.6938,33.0999,2,-999.0000,9,335.32,6,-999.,9,-999.,9,-999.,9,-999.,9,-999.,9,-999.,9,-999.,9,-999,9,-999,9
49UP20130426,RF13-04,4734,1,30,22097,3,20130515,0544,41.0002,143.9885,3816,76.1,75,2.1146,33.1818,2,-999.0000,9,321.99,2,-999.,9,-999.,9,-999.,9,-999.,9,-999.,9,-999.,9,-999.,9,-999,9,-999,9
49UP20130426,RF13-04,4734,1,29,22102,3,20130515,0542,41.0002,143.9885,3816,102.1,101,2.1524,33.2563,2,33.2603,4,307.02,2,-999.,9,-999.,9,-999.,9,-999.,9,-999.,9,-999.,9,-999.,9,-999,9,-999,9
49UP20130426,RF13-04,4734,1,23,22096,3,20130515,0540,41.0002,143.9885,3816,125.7,125,2.1960,33.3289,2,-999.0000,9,276.10,2,-999.,9,-999.,9,-999.,9,-999.,9,-999.,9,-999.,9,-999.,9,-999,9,-999,9
49UP20130426,RF13-04,4734,1,22,22111,3,20130515,0539,41.0002,143.9885,3816,151.6,150,2.3684,33.4249,2,-999.0000,9,231.48,2,-999.,9,-999.,9,-999.,9,-999.,9,-999.,9,-999.,9,-999.,9,-999,9,-999,9
49UP20130426,RF13-04,4734,1,21,22078,2,20130515,0537,41.0002,143.9885,3816,203.3,202,2.3378,33.5223,2,33.5239,2,181.66,2,-999.,9,-999.,9,-999.,9,-999.,9,-999.,9,-999.,9,-999.,9,-999,9,-999,9
49UP20130426,RF13-04,4734,1,20,22093,2,20130515,0535,41.0002,143.9885,3816,251.7,250,2.6951,33.6416,2,-999.0000,9,145.22,2,-999.,9,-999.,9,-999.,9,-999.,9,-999.,9,-999.,9,-999.,9,-999,9,-999,9
49UP20130426,RF13-04,4734,1,19,22092,3,20130515,0533,41.0002,143.9885,3816,303.6,301,2.9077,33.7405,2,-999.0000,9,114.35,2,-999.,9,-999.,9,-999.,9,-999.,9,-999.,9,-999.,9,-999.,9,-999,9,-999,9
49UP20130426,RF13-04,4734,1,18,22101,2,20130515,0533,41.0002,143.9885,3816,303.6,301,2.9077,33.7405,2,-999.0000,9,114.27,2,-999.,9,-999.,9,-999.,9,-999.,9,-999.,9,-999.,9,-999.,9,-999,9,-999,9
49UP20130426,RF13-04,4734,1,17,22090,2,20130515,0531,41.0002,143.9885,3816,405.1,402,3.2069,33.9458,2,33.9508,4,63.16,2,-999.,9,-999.,9,-999.,9,-999.,9,-999.,9,-999.,9,-999.,9,-999,9,-999,9
49UP20130426,RF13-04,4734,1,16,22089,2,20130515,0528,41.0002,143.9885,3816,505.6,501,3.3100,34.0641,2,-999.0000,9,45.01,2,-999.,9,-999.,9,-999.,9,-999.,9,-999.,9,-999.,9,-999.,9,-999,9,-999,9
49UP20130426,RF13-04,4734,1,15,22088,2,20130515,0525,41.0002,143.9885,3816,608.3,603,3.3520,34.1652,2,34.1670,2,35.99,2,-999.,9,-999.,9,-999.,9,-999.,9,-999.,9,-999.,9,-999.,9,-999,9,-999,9
49UP20130426,RF13-04,4734,1,14,21999,3,20130515,0523,41.0002,143.9885,3816,707.9,701,3.1717,34.2372,2,-999.0000,9,32.04,2,-999.,9,-999.,9,-999.,9,-999.,9,-999.,9,-999.,9,-999.,9,-999,9,-999,9
49UP20130426,RF13-04,4734,1,13,22667,2,20130515,0520,41.0002,143.9885,3816,809.0,801,3.0365,34.2970,2,34.2970,2,32.49,2,-999.,9,-999.,9,-999.,9,-999.,9,-999.,9,-999.,9,-999.,9,-999,9,-999,9
49UP20130426,RF13-04,4734,1,12,22074,2,20130515,0517,41.0002,143.9885,3816,910.4,901,2.8625,34.3580,2,-999.0000,9,32.67,2,-999.,9,-999.,9,-999.,9,-999.,9,-999.,9,-999.,9,-999.,9,-999,9,-999,9
49UP20130426,RF13-04,4734,1,11,21996,2,20130515,0514,41.0002,143.9885,3816,1013.3,1003,2.7295,34.3985,2,34.3979,6,35.02,2,-999.,9,-999.,9,-999.,9,-999.,9,-999.,9,-999.,9,-999.,9,-999,9,-999,9
49UP20130426,RF13-04,4734,1,10,22107,2,20130515,0509,41.0002,143.9885,3816,1215.4,1202,2.5581,34.4641,2,34.4633,2,41.01,2,-999.,9,-999.,9,-999.,9,-999.,9,-999.,9,-999.,9,-999.,9,-999,9,-999,9
49UP20130426,RF13-04,4734,1,5,22094,2,20130515,0505,41.0002,143.9885,3816,1418.6,1403,2.3554,34.5126,2,34.5141,2,48.42,6,-999.,9,-999.,9,-999.,9,-999.,9,-999.,9,-999.,9,-999.,9,-999,9,-999,9
49UP20130426,RF13-04,4734,1,4,22077,2,20130515,0500,41.0002,143.9885,3816,1621.4,1603,2.1747,34.5425,2,34.5446,2,55.31,2,-999.,9,-999.,9,-999.,9,-999.,9,-999.,9,-999.,9,-999.,9,-999,9,-999,9
49UP20130426,RF13-04,4734,1,3,22104,2,20130515,0500,41.0002,143.9885,3816,1621.4,1603,2.1747,34.5425,2,34.5444,2,55.29,2,-999.,9,-999.,9,-999.,9,-999.,9,-999.,9,-999.,9,-999.,9,-999,9,-999,9
49UP20130426,RF13-04,4734,1,2,22075,2,20130515,0455,41.0002,143.9885,3816,1824.8,1803,2.0383,34.5728,2,34.5720,2,66.28,2,-999.,9,-999.,9,-999.,9,-999.,9,-999.,9,-999.,9,-999.,9,-999,9,-999,9
49UP20130426,RF13-04,4734,1,1,21997,2,20130515,0451,41.0002,143.9885,3816,2027.3,2002,1.9096,34.5995,2,34.6008,2,80.05,2,-999.,9,-999.,9,-999.,9,-999.,9,-999.,9,-999.,9,-999.,9,-999,9,-999,9
49UP20130426,RF13-04,4738,1,-999,0,2,20130515,2153,42.6067,145.1737,1626,0.0,0,3.7765,32.7174,2,-999.0000,9,370.87,4,-999.,9,-999.,9,-999.,9,-999.,9,-999.,9,-999.,9,-999.,9,-999,9,-999,9
49UP20130426,RF13-04,4738,1,33,22086,2,20130515,2207,42.6067,145.1737,1626,12.6,13,6.1516,33.4221,2,33.3926,4,317.70,2,-999.,9,-999.,9,-999.,9,-999.,9,-999.,9,-999.,9,-999.,9,-999,9,-999,9
49UP20130426,RF13-04,4738,1,32,22105,2,20130515,2206,42.6067,145.1737,1626,27.6,27,6.5315,33.5208,2,-999.0000,9,304.88,6,-999.,9,-999.,9,-999.,9,-999.,9,-999.,9,-999.,9,-999.,9,-999,9,-999,9
49UP20130426,RF13-04,4738,1,31,22076,2,20130515,2205,42.6067,145.1737,1626,54.5,54,5.5531,33.5549,2,-999.0000,9,285.89,2,-999.,9,-999.,9,-999.,9,-999.,9,-999.,9,-999.,9,-999.,9,-999,9,-999,9
49UP20130426,RF13-04,4738,1,30,22097,2,20130515,2204,42.6067,145.1737,1626,79.4,79,3.8255,33.3983,2,-999.0000,9,295.51,2,-999.,9,-999.,9,-999.,9,-999.,9,-999.,9,-999.,9,-999.,9,-999,9,-999,9
49UP20130426,RF13-04,4738,1,29,22102,2,20130515,2203,42.6067,145.1737,1626,104.6,104,3.4570,33.3833,2,33.3802,2,295.48,2,-999.,9,-999.,9,-999.,9,-999.,9,-999.,9,-999.,9,-999.,9,-999,9,-999,9
49UP20130426,RF13-04,4738,1,23,22096,3,20130515,2200,42.6067,145.1737,1626,129.0,128,3.2369,33.3959,2,-999.0000,9,291.30,2,-999.,9,-999.,9,-999.,9,-999.,9,-999.,9,-999.,9,-999.,9,-999,9,-999,9
49UP20130426,RF13-04,4738,1,22,22111,2,20130515,2158,42.6067,145.1737,1626,154.4,153,2.6455,33.3622,2,-999.0000,9,283.95,2,-999.,9,-999.,9,-999.,9,-999.,9,-999.,9,-999.,9,-999.,9,-999,9,-999,9
49UP20130426,RF13-04,4738,1,21,22078,2,20130515,2156,42.6067,145.1737,1626,203.9,202,2.8684,33.4909,2,33.4919,2,232.96,2,-999.,9,-999.,9,-999.,9,-999.,9,-999.,9,-999.,9,-999.,9,-999,9,-999,9
49UP20130426,RF13-04,4738,1,20,22093,2,20130515,2154,42.6067,145.1737,1626,255.5,253,3.2707,33.6307,2,-999.0000,9,182.81,2,-999.,9,-999.,9,-999.,9,-999.,9,-999.,9,-999.,9,-999.,9,-999,9,-999,9
49UP20130426,RF13-04,4738,1,19,22092,3,20130515,2154,42.6067,145.1737,1626,255.5,253,3.2707,33.6307,2,-999.0000,9,182.75,2,-999.,9,-999.,9,-999.,9,-999.,9,-999.,9,-999.,9,-999.,9,-999,9,-999,9
49UP20130426,RF13-04,4738,1,18,22101,2,20130515,2153,42.6067,145.1737,1626,308.2,306,2.5919,33.6115,2,-999.0000,9,160.75,2,-999.,9,-999.,9,-999.,9,-999.,9,-999.,9,-999.,9,-999.,9,-999,9,-999,9
49UP20130426,RF13-04,4738,1,17,22090,2,20130515,2150,42.6067,145.1737,1626,408.1,404,2.7573,33.7504,2,33.7509,2,107.62,2,-999.,9,-999.,9,-999.,9,-999.,9,-999.,9,-999.,9,-999.,9,-999,9,-999,9
49UP20130426,RF13-04,4738,1,16,22089,2,20130515,2147,42.6067,145.1737,1626,508.2,504,3.2125,33.9288,2,-999.0000,9,68.06,2,-999.,9,-999.,9,-999.,9,-999.,9,-999.,9,-999.,9,-999.,9,-999,9,-999,9
49UP20130426,RF13-04,4738,1,15,22088,2,20130515,2144,42.6067,145.1737,1626,610.4,605,3.4106,34.0814,2,34.0803,6,45.24,2,-999.,9,-999.,9,-999.,9,-999.,9,-999.,9,-999.,9,-999.,9,-999,9,-999,9
49UP20130426,RF13-04,4738,1,14,21999,3,20130515,2137,42.6067,145.1737,1626,710.8,704,3.2802,34.1819,2,-999.0000,9,34.99,2,-999.,9,-999.,9,-999.,9,-999.,9,-999.,9,-999.,9,-999.,9,-999,9,-999,9
49UP20130426,RF13-04,4738,1,13,22667,2,20130515,2134,42.6067,145.1737,1626,811.5,804,3.1709,34.2639,2,34.2626,2,31.97,2,-999.,9,-999.,9,-999.,9,-999.,9,-999.,9,-999.,9,-999.,9,-999,9,-999,9
49UP20130426,RF13-04,4738,1,12,22074,2,20130515,2131,42.6067,145.1737,1626,912.2,903,2.9950,34.3162,2,-999.0000,9,32.11,2,-999.,9,-999.,9,-999.,9,-999.,9,-999.,9,-999.,9,-999.,9,-999,9,-999,9
49UP20130426,RF13-04,4738,1,11,21996,2,20130515,2129,42.6067,145.1737,1626,1013.7,1003,2.8324,34.3670,2,34.3660,2,34.33,2,-999.,9,-999.,9,-999.,9,-999.,9,-999.,9,-999.,9,-999.,9,-999,9,-999,9
49UP20130426,RF13-04,4738,1,10,22107,3,20130515,2124,42.6067,145.1737,1626,1215.0,1202,2.6104,34.4418,2,34.4415,2,38.86,6,-999.,9,-999.,9,-999.,9,-999.,9,-999.,9,-999.,9,-999.,9,-999,9,-999,9
49UP20130426,RF13-04,4738,1,5,22094,2,20130515,2120,42.6067,145.1737,1626,1418.1,1402,2.4039,34.4928,2,34.4927,2,44.36,2,-999.,9,-999.,9,-999.,9,-999.,9,-999.,9,-999.,9,-999.,9,-999,9,-999,9
49UP20130426,RF13-04,4738,1,4,22077,2,20130515,2120,42.6067,145.1737,1626,1418.1,1402,2.4039,34.4928,2,34.4927,2,44.49,2,-999.,9,-999.,9,-999.,9,-999.,9,-999.,9,-999.,9,-999.,9,-999,9,-999,9
49UP20130426,RF13-04,4738,1,3,22104,2,20130515,2116,42.6067,145.1737,1626,1620.9,1602,2.2121,34.5218,2,34.5223,2,51.46,2,-999.,9,-999.,9,-999.,9,-999.,9,-999.,9,-999.,9,-999.,9,-999,9,-999,9
49UP20130426,RF13-04,4738,1,2,22075,2,20130515,2115,42.6067,145.1737,1626,1643.3,1624,2.2116,34.5224,2,34.5216,2,51.80,2,-999.,9,-999.,9,-999.,9,-999.,9,-999.,9,-999.,9,-999.,9,-999,9,-999,9
49UP20130426,RF13-04,4738,1,1,21997,2,20130515,2115,42.6067,145.1737,1626,1644.1,1625,2.2116,34.5225,2,34.5229,2,51.86,2,-999.,9,-999.,9,-999.,9,-999.,9,-999.,9,-999.,9,-999.,9,-999,9,-999,9
49UP20130426,RF13-04,4741,1,-999,0,2,20130516,0633,42.6408,145.652,2308,0.0,0,7.0062,33.4800,2,-999.0000,9,305.94,2,13.18,2,9.53,2,0.21,2,0.86,2,-999.,9,-999.,9,-999.,9,-999,9,-999,9
49UP20130426,RF13-04,4741,1,33,22086,2,20130516,0658,42.6408,145.652,2308,11.8,12,7.0137,33.4824,2,33.4881,4,303.48,6,13.71,6,9.68,6,0.21,6,0.88,6,-999.,9,-999.,9,-999.,9,-999,9,-999,9
49UP20130426,RF13-04,4741,1,32,22105,3,20130516,0657,42.6408,145.652,2308,26.8,27,7.0888,33.5409,2,-999.0000,9,300.70,2,14.01,2,9.74,2,0.21,2,0.89,2,-999.,9,-999.,9,-999.,9,-999,9,-999,9
49UP20130426,RF13-04,4741,1,31,22076,2,20130516,0653,42.6408,145.652,2308,51.7,51,6.8446,33.5566,2,-999.0000,9,300.26,2,14.06,2,10.07,2,0.23,2,0.92,2,-999.,9,-999.,9,-999.,9,-999,9,-999,9
49UP20130426,RF13-04,4741,1,30,22097,2,20130516,0652,42.6408,145.652,2308,77.1,76,6.1675,33.4672,2,-999.0000,9,307.85,2,12.65,2,10.06,2,0.22,2,0.94,2,-999.,9,-999.,9,-999.,9,-999,9,-999,9
49UP20130426,RF13-04,4741,1,29,22102,2,20130516,0651,42.6408,145.652,2308,102.0,101,5.5591,33.6054,2,33.6060,2,279.39,2,23.00,2,14.71,2,0.07,2,1.16,2,-999.,9,-999.,9,-999.,9,-999,9,-999,9
49UP20130426,RF13-04,4741,1,28,22091,2,20130516,0649,42.6408,145.652,2308,128.4,127,4.8575,33.5466,2,-999.0000,9,283.02,2,28.55,2,16.96,2,0.04,2,1.33,2,-999.,9,-999.,9,-999.,9,-999,9,-999,9
49UP20130426,RF13-04,4741,1,27,21998,2,20130516,0644,42.6408,145.652,2308,154.3,153,3.9545,33.4613,2,-999.0000,9,292.41,2,32.80,2,18.84,2,0.05,2,1.49,2,-999.,9,-999.,9,-999.,9,-999,9,-999,9
49UP20130426,RF13-04,4741,1,23,22096,3,20130516,0641,42.6408,145.652,2308,206.0,204,3.5085,33.4761,2,33.4773,2,266.89,2,41.94,2,22.68,2,0.03,2,1.77,2,-999.,9,-999.,9,-999.,9,-999,9,-999,9
49UP20130426,RF13-04,4741,1,22,22111,2,20130516,0639,42.6408,145.652,2308,255.1,253,3.5330,33.5895,2,-999.0000,9,204.65,2,57.88,2,28.89,2,0.02,2,2.20,2,-999.,9,-999.,9,-999.,9,-999,9,-999,9
49UP20130426,RF13-04,4741,1,21,22078,2,20130516,0636,42.6408,145.652,2308,305.5,303,3.4777,33.6815,2,-999.0000,9,166.62,2,69.30,2,32.59,2,0.02,2,2.44,2,-999.,9,-999.,9,-999.,9,-999,9,-999,9
49UP20130426,RF13-04,4741,1,20,22093,2,20130516,0636,42.6408,145.652,2308,305.5,303,3.4777,33.6815,2,-999.0000,9,166.62,2,69.25,2,32.56,2,0.02,2,2.44,2,-999.,9,-999.,9,-999.,9,-999,9,-999,9
49UP20130426,RF13-04,4741,1,19,22092,2,20130516,0633,42.6408,145.652,2308,405.7,402,3.4292,33.8162,2,33.8177,2,113.09,2,84.93,2,37.02,2,0.01,2,2.72,2,-999.,9,-999.,9,-999.,9,-999,9,-999,9
49UP20130426,RF13-04,4741,1,18,22101,2,20130516,0630,42.6408,145.652,2308,507.5,503,3.8189,34.0238,2,-999.0000,9,70.72,2,99.27,2,39.45,2,0.01,2,2.87,2,-999.,9,-999.,9,-999.,9,-999,9,-999,9
49UP20130426,RF13-04,4741,1,17,22090,2,20130516,0620,42.6408,145.652,2308,610.7,605,3.6741,34.1246,2,34.1252,2,49.36,2,111.04,2,41.14,2,0.01,2,2.97,2,-999.,9,-999.,9,-999.,9,-999,9,-999,9
49UP20130426,RF13-04,4741,1,16,22089,2,20130516,0616,42.6408,145.652,2308,708.3,702,3.6872,34.2294,2,-999.0000,9,45.33,2,117.43,2,41.21,2,0.00,2,2.97,2,-999.,9,-999.,9,-999.,9,-999,9,-999,9
49UP20130426,RF13-04,4741,1,15,22088,2,20130516,0613,42.6408,145.652,2308,809.7,802,3.1590,34.2578,2,34.2590,6,33.14,2,131.93,2,42.74,2,0.00,2,3.08,2,-999.,9,-999.,9,-999.,9,-999,9,-999,9
49UP20130426,RF13-04,4741,1,14,21999,3,20130516,0609,42.6408,145.652,2308,917.1,908,3.0307,34.2953,2,-999.0000,9,31.56,2,137.10,2,42.79,2,0.00,2,3.09,2,-999.,9,-999.,9,-999.,9,-999,9,-999,9
49UP20130426,RF13-04,4741,1,13,22667,2,20130516,0606,42.6408,145.652,2308,1013.7,1003,2.9085,34.3520,2,34.3512,2,33.68,2,142.02,6,42.77,6,0.00,6,3.08,6,-999.,9,-999.,9,-999.,9,-999,9,-999,9
49UP20130426,RF13-04,4741,1,12,22074,2,20130516,0600,42.6408,145.652,2308,1218.6,1205,2.6272,34.4281,2,34.4276,2,37.25,2,150.99,2,42.58,2,0.00,2,3.07,2,-999.,9,-999.,9,-999.,9,-999,9,-999,9
49UP20130426,RF13-04,4741,1,11,21996,2,20130516,0554,42.6408,145.652,2308,1418.8,1403,2.4354,34.4809,2,34.4813,2,42.64,2,156.01,2,42.44,2,0.00,2,3.05,2,-999.,9,-999.,9,-999.,9,-999,9,-999,9
49UP20130426,RF13-04,4741,1,10,22107,3,20130516,0554,42.6408,145.652,2308,1418.8,1403,2.4354,34.4809,2,34.4804,2,42.85,2,155.90,2,42.52,2,0.00,2,3.04,2,-999.,9,-999.,9,-999.,9,-999,9,-999,9
49UP20130426,RF13-04,4741,1,5,22094,2,20130516,0549,42.6408,145.652,2308,1620.8,1602,2.2956,34.5139,2,34.5139,2,48.35,2,159.25,2,42.29,2,0.00,2,3.02,2,-999.,9,-999.,9,-999.,9,-999,9,-999,9
49UP20130426,RF13-04,4741,1,4,22077,2,20130516,0545,42.6408,145.652,2308,1824.8,1803,2.1507,34.5556,2,34.5559,2,59.69,2,160.69,2,41.81,2,0.00,2,2.97,2,-999.,9,-999.,9,-999.,9,-999,9,-999,9
49UP20130426,RF13-04,4741,1,3,22104,2,20130516,0540,42.6408,145.652,2308,2028.1,2002,2.0103,34.5841,2,34.5858,2,71.37,2,161.30,2,41.01,2,0.00,2,2.92,2,-999.,9,-999.,9,-999.,9,-999,9,-999,9
49UP20130426,RF13-04,4741,1,2,22075,2,20130516,0527,42.6408,145.652,2308,2280.4,2250,1.8647,34.6071,2,34.6070,6,84.43,2,163.16,2,40.19,2,0.00,2,2.86,2,-999.,9,-999.,9,-999.,9,-999,9,-999,9
49UP20130426,RF13-04,4741,1,1,21997,2,20130516,0525,42.6408,145.652,2308,2347.5,2316,1.7919,34.6195,2,-999.0000,9,92.29,2,162.70,2,39.69,2,0.00,2,2.82,2,-999.,9,-999.,9,-999.,9,-999,9,-999,9