BOTTLE,20171119JMAGEMD
EXPOCODE,SECT_ID,STNNBR,CASTNO,SAMPNO,BTLNBR,BTLNBR_FLAG_W,DATE,TIME,LATITUDE,LONGITUDE,DEPTH,CTDPRS,CTDDEP,CTDTMP,CTDSAL,CTDSAL_FLAG_W,SALNTY,SALNTY_FLAG_W,OXYGEN,OXYGEN_FLAG_W,SILCAT,SILCAT_FLAG_W,NO2+NO3,NO2+NO3_FLAG_W,NITRIT,NITRIT_FLAG_W,PHSPHT,PHSPHT_FLAG_W,TCARBN,TCARBN_FLAG_W,ALKALI,ALKALI_FLAG_W,PH_TOT,PH_TOT_FLAG_W,CFC-11,CFC-11_FLAG_W,CFC-12,CFC-12_FLAG_W
,,,,,,,UTC,UTC,,,METER,DBAR,METERS,ITS-90,PSS-78,,PSS-78,,UMOL/KG,,UMOL/KG,,UMOL/KG,,UMOL/KG,,UMOL/KG,,UMOL/KG,,UMOL/KG,,@25DEG-C,,PMOL/KG,,PMOL/KG,
49UP20130426,RF13-04,4705,1,-999,0,2,20130430,0115,29.0098,145.99,5931,0.0,0,20.8584,34.8269,2,-999.,9,225.53,2,1.70,2,0.02,2,0.00,2,0.04,2,-999.,9,-999.,9,-999.,9,-999,9,-999,9
49UP20130426,RF13-04,4705,1,36,22109,2,20130430,0134,29.0098,145.99,5931,10.5,10,20.8534,34.8267,2,-999.,9,226.22,2,1.70,2,0.02,2,0.00,2,0.02,2,-999.,9,-999.,9,-999.,9,-999,9,-999,9
49UP20130426,RF13-04,4705,1,35,22112,2,20130430,0133,29.0098,145.99,5931,25.6,25,20.8469,34.8512,2,-999.,9,226.24,2,1.72,2,0.04,2,0.00,2,0.01,2,-999.,9,-999.,9,-999.,9,-999,9,-999,9
49UP20130426,RF13-04,4705,1,34,22083,2,20130430,0130,29.0098,145.99,5931,50.8,50,20.2056,34.8562,2,-999.,9,229.23,2,1.78,2,0.02,2,0.00,2,0.02,2,-999.,9,-999.,9,-999.,9,-999,9,-999,9
49UP20130426,RF13-04,4705,1,30,22097,2,20130430,0128,29.0098,145.99,5931,77.1,77,19.2190,34.8217,2,-999.,9,232.24,2,1.93,2,0.05,2,0.00,2,0.03,2,-999.,9,-999.,9,-999.,9,-999,9,-999,9
49UP20130426,RF13-04,4705,1,29,22102,2,20130430,0126,29.0098,145.99,5931,100.9,100,18.1510,34.7468,2,-999.,9,229.06,2,2.38,2,1.21,2,0.27,2,0.11,2,-999.,9,-999.,9,-999.,9,-999,9,-999,9
49UP20130426,RF13-04,4705,1,28,22091,2,20130430,0125,29.0098,145.99,5931,126.9,126,17.8191,34.7579,2,-999.,9,226.82,2,2.64,2,2.00,2,0.04,2,0.14,2,-999.,9,-999.,9,-999.,9,-999,9,-999,9
49UP20130426,RF13-04,4705,1,27,21998,3,20130430,0124,29.0098,145.99,5931,151.6,151,17.7131,34.7522,2,-999.,9,226.99,2,2.64,2,2.06,2,0.03,2,0.15,2,-999.,9,-999.,9,-999.,9,-999,9,-999,9
49UP20130426,RF13-04,4705,1,26,22084,2,20130430,0123,29.0098,145.99,5931,151.6,151,17.7131,34.7522,2,-999.,9,226.60,2,2.69,2,2.17,2,0.02,2,0.16,2,-999.,9,-999.,9,-999.,9,-999,9,-999,9
49UP20130426,RF13-04,4705,1,25,22098,2,20130430,0122,29.0098,145.99,5931,202.1,201,17.5170,34.7346,2,-999.,9,223.82,2,3.07,2,2.75,2,0.01,2,0.20,2,-999.,9,-999.,9,-999.,9,-999,9,-999,9
49UP20130426,RF13-04,4705,1,24,22110,2,20130430,0120,29.0098,145.99,5931,254.1,252,17.2166,34.7190,2,-999.,9,222.36,2,3.50,2,3.36,2,0.01,2,0.23,2,-999.,9,-999.,9,-999.,9,-999,9,-999,9
49UP20130426,RF13-04,4705,1,23,22096,2,20130430,0118,29.0098,145.99,5931,304.5,302,17.0496,34.7155,2,-999.,9,223.57,2,3.61,2,3.48,2,0.01,2,0.24,2,-999.,9,-999.,9,-999.,9,-999,9,-999,9
49UP20130426,RF13-04,4705,1,22,22111,2,20130430,0115,29.0098,145.99,5931,404.7,402,15.5567,34.5953,2,-999.,9,193.38,6,9.42,6,8.75,6,0.01,6,0.60,6,-999.,9,-999.,9,-999.,9,-999,9,-999,9
49UP20130426,RF13-04,4705,1,21,22078,2,20130430,0112,29.0098,145.99,5931,506.7,503,12.5150,34.3812,2,-999.,9,187.64,2,16.93,2,13.81,2,0.01,2,0.97,2,-999.,9,-999.,9,-999.,9,-999,9,-999,9
49UP20130426,RF13-04,4705,1,20,22093,2,20130430,0109,29.0098,145.99,5931,607.4,602,9.4917,34.1816,2,-999.,9,173.93,2,32.03,2,20.24,2,0.00,2,1.45,2,-999.,9,-999.,9,-999.,9,-999,9,-999,9
49UP20130426,RF13-04,4705,1,19,22092,2,20130430,0106,29.0098,145.99,5931,707.8,702,7.0586,34.0665,2,-999.,9,141.75,2,51.96,2,27.63,2,0.00,2,2.01,2,-999.,9,-999.,9,-999.,9,-999,9,-999,9
49UP20130426,RF13-04,4705,1,14,21999,2,20130430,0103,29.0098,145.99,5931,809.3,802,5.5210,34.0752,2,-999.,9,104.20,2,72.82,2,33.68,2,0.00,2,2.45,2,-999.,9,-999.,9,-999.,9,-999,9,-999,9
49UP20130426,RF13-04,4705,1,13,22667,2,20130430,0100,29.0098,145.99,5931,909.3,901,4.6194,34.1441,2,-999.,9,71.59,2,93.39,2,37.95,2,0.00,2,2.75,2,-999.,9,-999.,9,-999.,9,-999,9,-999,9
49UP20130426,RF13-04,4705,1,12,22074,2,20130430,0057,29.0098,145.99,5931,1009.4,1000,4.0074,34.2448,2,-999.,9,49.29,2,111.65,2,40.64,2,0.00,2,2.93,2,-999.,9,-999.,9,-999.,9,-999,9,-999,9
49UP20130426,RF13-04,4705,1,11,21996,2,20130430,0053,29.0098,145.99,5931,1212.4,1201,3.3036,34.3601,2,-999.,9,40.59,2,131.50,2,42.01,2,0.00,2,3.03,2,-999.,9,-999.,9,-999.,9,-999,9,-999,9
49UP20130426,RF13-04,4705,1,10,22107,2,20130430,0052,29.0098,145.99,5931,1212.4,1201,3.3036,34.3601,2,-999.,9,40.70,2,131.61,2,42.07,2,0.00,2,3.02,2,-999.,9,-999.,9,-999.,9,-999,9,-999,9
49UP20130426,RF13-04,4705,1,9,22108,2,20130430,0047,29.0098,145.99,5931,1414.3,1400,2.7237,34.4590,2,-999.,9,38.25,2,148.46,2,42.83,2,0.00,2,3.07,2,-999.,9,-999.,9,-999.,9,-999,9,-999,9
49UP20130426,RF13-04,4705,1,8,22081,2,20130430,0042,29.0098,145.99,5931,1617.2,1600,2.3971,34.5144,2,-999.,9,45.74,2,156.28,2,42.68,2,0.00,2,3.04,2,-999.,9,-999.,9,-999.,9,-999,9,-999,9
49UP20130426,RF13-04,4705,1,7,22106,2,20130430,0038,29.0098,145.99,5931,1819.8,1800,2.1738,34.5572,2,-999.,9,58.43,2,160.19,2,41.98,2,0.00,2,2.98,2,-999.,9,-999.,9,-999.,9,-999,9,-999,9
49UP20130426,RF13-04,4705,1,6,22113,2,20130430,0033,29.0098,145.99,5931,2022.6,1999,1.9819,34.5903,2,-999.,9,73.83,6,161.50,6,41.00,6,0.00,6,2.91,6,-999.,9,-999.,9,-999.,9,-999,9,-999,9
49UP20130426,RF13-04,4707,1,-999,0,2,20130430,1350,28.0043,146.9752,5814,0.0,0,20.4361,34.7789,2,34.7824,2,228.29,2,1.86,2,0.00,2,0.00,2,0.06,2,1998.2,2,2286.0,2,8.0238,2,-999,9,-999,9
49UP20130426,RF13-04,4707,1,36,22109,2,20130430,1430,28.0043,146.9752,5814,11.4,11,20.4388,34.7789,2,34.7774,6,229.15,2,1.86,2,0.00,2,0.00,2,0.02,2,2000.8,2,2283.3,2,8.0249,2,-999,9,-999,9
49UP20130426,RF13-04,4707,1,35,22112,2,20130430,1429,28.0043,146.9752,5814,26.8,27,20.4351,34.7783,2,-999.0000,9,229.40,2,1.88,2,0.00,2,0.00,2,0.02,2,2005.1,2,2283.6,2,8.0235,2,-999,9,-999,9
49UP20130426,RF13-04,4707,1,34,22083,2,20130430,1427,28.0043,146.9752,5814,51.3,51,19.0753,34.7799,2,-999.0000,9,236.76,2,2.07,2,0.00,2,0.00,2,0.04,2,2001.7,2,2285.9,2,8.0206,2,-999,9,-999,9
49UP20130426,RF13-04,4707,1,33,22086,2,20130430,1426,28.0043,146.9752,5814,75.3,75,18.0431,34.7675,2,-999.0000,9,229.45,2,2.54,2,1.26,2,0.10,2,0.12,2,2021.1,2,2284.8,2,8.0019,2,-999,9,-999,9
49UP20130426,RF13-04,4707,1,32,22105,2,20130430,1412,28.0043,146.9752,5814,98.9,98,17.6320,34.7409,2,34.7392,2,225.09,2,2.88,2,2.37,2,0.03,2,0.18,2,2020.4,2,2279.6,2,7.9850,2,-999,9,-999,9
49UP20130426,RF13-04,4707,1,31,22076,4,20130430,1410,28.0043,146.9752,5814,125.9,125,17.5483,34.7332,2,-999.0000,9,-999.00,9,-999.00,9,-999.00,9,-999.00,9,-999.000,9,-999.0,9,-999.0,9,-999.0000,9,-999,9,-999,9
49UP20130426,RF13-04,4707,1,30,22097,2,20130430,1409,28.0043,146.9752,5814,152.0,151,17.3186,34.7183,2,-999.0000,9,220.63,2,3.44,2,3.29,2,0.02,2,0.24,2,2032.1,2,2277.8,2,7.9749,2,-999,9,-999,9
49UP20130426,RF13-04,4707,1,29,22102,2,20130430,1407,28.0043,146.9752,5814,201.8,200,17.0045,34.7063,2,34.7067,2,214.49,2,4.25,2,4.39,2,0.01,2,0.31,2,2030.5,2,2278.3,2,7.9589,2,-999,9,-999,9
49UP20130426,RF13-04,4707,1,28,22091,2,20130430,1405,28.0043,146.9752,5814,252.2,250,16.5498,34.6711,2,-999.0000,9,205.95,2,5.74,2,5.90,2,0.01,2,0.41,2,2039.8,2,2277.0,2,7.9356,2,-999,9,-999,9
49UP20130426,RF13-04,4707,1,27,21998,2,20130430,1404,28.0043,146.9752,5814,302.3,300,16.0608,34.6323,2,-999.0000,9,197.80,6,7.49,6,7.44,6,0.01,6,0.52,6,2058.4,2,2279.3,2,7.9089,2,-999,9,-999,9
49UP20130426,RF13-04,4707,1,26,22084,2,20130430,1401,28.0043,146.9752,5814,403.6,401,13.8769,34.4815,2,34.4805,2,186.36,2,13.86,2,11.82,2,0.01,2,0.83,2,2091.5,2,2272.9,2,7.8353,2,-999,9,-999,9
49UP20130426,RF13-04,4707,1,25,22098,2,20130430,1358,28.0043,146.9752,5814,505.8,502,10.7931,34.2690,2,-999.0000,9,182.18,2,25.56,2,17.22,2,0.01,2,1.24,2,2130.2,2,2274.8,2,7.7463,2,-999,9,-999,9
49UP20130426,RF13-04,4707,1,24,22110,2,20130430,1355,28.0043,146.9752,5814,605.6,601,7.1372,34.0393,2,34.0409,2,155.42,2,49.14,2,26.28,2,0.00,2,1.93,2,2194.1,2,2286.0,2,7.5953,2,-999,9,-999,9
49UP20130426,RF13-04,4707,1,23,22096,2,20130430,1352,28.0043,146.9752,5814,705.9,700,5.3340,34.0396,2,-999.0000,9,112.06,2,73.61,2,33.38,2,0.00,2,2.45,2,2256.3,2,2303.7,2,7.4730,2,-999,9,-999,9
49UP20130426,RF13-04,4707,1,22,22111,2,20130430,1348,28.0043,146.9752,5814,808.7,802,4.5689,34.1390,2,34.1375,2,72.15,2,93.64,2,37.92,2,0.00,2,2.76,2,2298.7,6,2322.5,6,7.4007,2,-999,9,-999,9
49UP20130426,RF13-04,4707,1,21,22078,2,20130430,1346,28.0043,146.9752,5814,909.6,902,4.0945,34.2251,2,-999.0000,9,55.23,2,108.10,2,39.82,2,0.00,2,2.88,2,2325.7,2,2339.5,2,7.3741,6,-999,9,-999,9
49UP20130426,RF13-04,4707,1,20,22093,2,20130430,1343,28.0043,146.9752,5814,1009.5,1000,3.6836,34.2961,2,34.2972,2,44.25,2,120.32,2,41.20,2,0.00,2,2.98,2,2345.7,2,2353.5,2,7.3579,2,-999,9,-999,9
49UP20130426,RF13-04,4707,1,19,22092,2,20130430,1338,28.0043,146.9752,5814,1211.4,1200,3.0710,34.4161,2,34.4176,2,38.29,2,137.09,2,42.51,2,0.00,2,3.06,2,2368.7,2,2377.9,2,7.3563,2,-999,9,-999,9
49UP20130426,RF13-04,4707,1,18,22101,2,20130430,1334,28.0043,146.9752,5814,1414.7,1401,2.6057,34.4907,2,34.4927,2,43.80,2,149.39,2,42.56,2,0.00,2,3.05,2,2374.4,2,2393.9,2,7.3709,2,-999,9,-999,9
49UP20130426,RF13-04,4707,1,17,22090,2,20130430,1329,28.0043,146.9752,5814,1616.6,1600,2.3266,34.5404,2,34.5427,2,57.59,2,154.42,2,41.81,2,0.00,2,2.98,2,2373.9,2,2404.2,2,7.4004,2,-999,9,-999,9
49UP20130426,RF13-04,4707,1,16,22089,2,20130430,1324,28.0043,146.9752,5814,1820.3,1800,2.0669,34.5822,2,34.5845,2,73.70,6,157.04,6,40.90,6,0.00,6,2.92,6,2384.0,2,2412.0,2,7.4317,2,-999,9,-999,9
49UP20130426,RF13-04,4707,1,15,22088,2,20130430,1320,28.0043,146.9752,5814,2023.1,2000,1.8932,34.6122,2,34.6132,6,98.11,2,152.94,2,39.36,2,0.00,2,2.80,2,2365.5,2,2414.2,2,7.4781,2,-999,9,-999,9
49UP20130426,RF13-04,4707,1,14,21999,2,20130430,1314,28.0043,146.9752,5814,2276.7,2249,1.7589,34.6326,2,34.6332,2,111.18,2,152.39,2,38.55,2,0.00,2,2.73,2,2355.1,6,2413.5,6,7.5014,2,-999,9,-999,9
49UP20130426,RF13-04,4707,1,13,22667,2,20130430,1309,28.0043,146.9752,5814,2531.2,2499,1.6602,34.6480,2,34.6474,2,121.37,2,151.36,2,37.90,2,0.00,2,2.69,2,2351.4,2,2417.5,2,7.5220,6,-999,9,-999,9
49UP20130426,RF13-04,4707,1,12,22074,2,20130430,1303,28.0043,146.9752,5814,2785.9,2749,1.5987,34.6578,2,34.6576,2,128.78,2,150.87,2,37.48,2,0.00,2,2.64,2,2342.8,2,2419.5,2,7.5338,2,-999,9,-999,9
49UP20130426,RF13-04,4707,1,11,21996,2,20130430,1257,28.0043,146.9752,5814,3043.8,3002,1.5604,34.6646,2,34.6636,2,134.15,2,150.65,2,37.14,2,0.00,2,2.62,2,2340.5,2,2421.4,2,7.5457,2,-999,9,-999,9
49UP20130426,RF13-04,4707,1,10,22107,2,20130430,1252,28.0043,146.9752,5814,3298.8,3251,1.5237,34.6706,2,-999.0000,9,138.89,6,149.63,6,36.80,6,0.00,6,2.60,6,2333.7,2,2416.6,2,7.5528,2,-999,9,-999,9
49UP20130426,RF13-04,4707,1,9,22108,2,20130430,1246,28.0043,146.9752,5814,3554.6,3502,1.5041,34.6751,2,34.6752,2,143.37,2,149.62,2,36.42,2,0.00,2,2.57,2,2347.1,2,2416.4,2,7.5603,2,-999,9,-999,9
49UP20130426,RF13-04,4707,1,8,22081,2,20130430,1241,28.0043,146.9752,5814,3810.3,3751,1.4841,34.6793,2,34.6790,6,147.98,2,148.13,2,36.25,2,0.00,2,2.55,2,2333.9,2,2416.4,2,7.5647,2,-999,9,-999,9
49UP20130426,RF13-04,4707,1,7,22106,2,20130430,1235,28.0043,146.9752,5814,4065.8,4000,1.4777,34.6825,2,34.6856,4,151.25,2,148.22,2,36.02,2,0.00,2,2.53,2,2328.3,6,2415.7,6,7.5722,2,-999,9,-999,9
49UP20130426,RF13-04,4707,1,6,22113,2,20130430,1230,28.0043,146.9752,5814,4324.0,4252,1.4759,34.6854,2,34.6847,2,155.42,2,146.22,2,35.74,2,0.00,2,2.51,2,2331.8,2,2412.7,2,7.5784,6,-999,9,-999,9
49UP20130426,RF13-04,4707,1,5,22094,2,20130430,1224,28.0043,146.9752,5814,4580.1,4501,1.4805,34.6878,2,34.6873,2,158.97,2,144.74,2,35.50,2,0.00,2,2.48,2,2322.4,2,2418.4,2,7.5797,2,-999,9,-999,9
49UP20130426,RF13-04,4707,1,4,22077,2,20130430,1219,28.0043,146.9752,5814,4837.2,4751,1.4937,34.6895,2,-999.0000,9,161.53,2,143.14,2,35.29,2,0.00,2,2.47,2,2315.1,2,2411.3,2,7.5869,2,-999,9,-999,9
49UP20130426,RF13-04,4707,1,3,22104,2,20130430,1213,28.0043,146.9752,5814,5094.7,5001,1.5095,34.6911,2,34.6918,2,164.15,6,141.14,6,35.12,6,0.00,6,2.46,6,2311.8,2,2415.2,2,7.5913,2,-999,9,-999,9
49UP20130426,RF13-04,4707,1,2,22075,2,20130430,1203,28.0043,146.9752,5814,5609.8,5501,1.5585,34.6927,2,34.6921,2,168.18,3,138.98,2,34.93,2,0.00,2,2.44,2,2306.0,3,2408.2,2,7.5933,2,-999,9,-999,9
49UP20130426,RF13-04,4707,1,1,21997,2,20130430,1156,28.0043,146.9752,5814,5927.8,5808,1.5887,34.6938,2,34.6937,6,169.66,2,137.17,2,34.77,2,0.00,2,2.44,2,2313.0,2,2407.0,2,7.5955,2,-999,9,-999,9
49UP20130426,RF13-04,4709,1,-999,0,2,20130502,0125,28.9962,147.236,6084,0.0,0,19.6264,34.6898,2,-999.,9,231.49,2,2.01,2,0.00,2,0.00,2,0.05,2,-999.,9,-999.,9,-999.,9,-999,9,-999,9
49UP20130426,RF13-04,4709,1,36,22109,2,20130502,0147,28.9962,147.236,6084,11.1,11,19.6723,34.7320,2,-999.,9,231.76,2,1.95,2,0.00,2,0.00,2,0.03,2,-999.,9,-999.,9,-999.,9,-999,9,-999,9
49UP20130426,RF13-04,4709,1,35,22112,2,20130502,0145,28.9962,147.236,6084,25.7,26,19.4621,34.7329,2,-999.,9,235.30,2,2.04,2,0.00,2,0.00,2,0.04,2,-999.,9,-999.,9,-999.,9,-999,9,-999,9
49UP20130426,RF13-04,4709,1,34,22083,2,20130502,0142,28.9962,147.236,6084,51.6,51,18.2057,34.7162,2,-999.,9,236.95,2,2.22,2,0.16,2,0.11,2,0.07,2,-999.,9,-999.,9,-999.,9,-999,9,-999,9
49UP20130426,RF13-04,4709,1,30,22097,2,20130502,0141,28.9962,147.236,6084,76.6,76,17.7237,34.7341,2,-999.,9,230.92,2,2.52,2,1.49,2,0.21,2,0.14,2,-999.,9,-999.,9,-999.,9,-999,9,-999,9
49UP20130426,RF13-04,4709,1,29,22102,2,20130502,0140,28.9962,147.236,6084,102.2,101,17.6416,34.7356,2,-999.,9,226.33,2,2.87,2,2.14,2,0.11,2,0.17,2,-999.,9,-999.,9,-999.,9,-999,9,-999,9
49UP20130426,RF13-04,4709,1,28,22091,2,20130502,0138,28.9962,147.236,6084,127.2,126,17.4739,34.7273,2,-999.,9,227.00,2,3.04,2,2.40,2,0.05,2,0.18,2,-999.,9,-999.,9,-999.,9,-999,9,-999,9
49UP20130426,RF13-04,4709,1,27,21998,2,20130502,0138,28.9962,147.236,6084,127.2,126,17.4739,34.7273,2,-999.,9,226.95,2,3.05,2,2.42,2,0.05,2,0.18,2,-999.,9,-999.,9,-999.,9,-999,9,-999,9
49UP20130426,RF13-04,4709,1,26,22084,2,20130502,0136,28.9962,147.236,6084,152.8,152,17.3492,34.7239,2,-999.,9,225.65,2,3.30,2,2.76,2,0.02,2,0.21,2,-999.,9,-999.,9,-999.,9,-999,9,-999,9
49UP20130426,RF13-04,4709,1,25,22098,2,20130502,0135,28.9962,147.236,6084,202.5,201,17.1175,34.7240,2,-999.,9,225.91,2,3.59,2,3.19,2,0.01,2,0.23,2,-999.,9,-999.,9,-999.,9,-999,9,-999,9
49UP20130426,RF13-04,4709,1,24,22110,2,20130502,0133,28.9962,147.236,6084,252.7,251,16.9746,34.7155,2,-999.,9,225.52,6,3.82,6,3.41,6,0.01,6,0.25,6,-999.,9,-999.,9,-999.,9,-999,9,-999,9
49UP20130426,RF13-04,4709,1,23,22096,2,20130502,0131,28.9962,147.236,6084,302.8,301,16.7620,34.7031,2,-999.,9,223.16,2,4.44,2,4.01,2,0.01,2,0.29,2,-999.,9,-999.,9,-999.,9,-999,9,-999,9
49UP20130426,RF13-04,4709,1,22,22111,2,20130502,0128,28.9962,147.236,6084,403.8,401,14.4935,34.5288,2,-999.,9,186.73,2,13.21,2,10.93,2,0.01,2,0.78,2,-999.,9,-999.,9,-999.,9,-999,9,-999,9
49UP20130426,RF13-04,4709,1,21,22078,2,20130502,0125,28.9962,147.236,6084,504.4,500,11.8866,34.3502,2,-999.,9,183.94,2,21.40,2,15.10,2,0.01,2,1.10,2,-999.,9,-999.,9,-999.,9,-999,9,-999,9
49UP20130426,RF13-04,4709,1,20,22093,2,20130502,0123,28.9962,147.236,6084,605.6,601,9.0712,34.1513,2,-999.,9,176.63,2,34.67,2,20.48,2,0.01,2,1.51,2,-999.,9,-999.,9,-999.,9,-999,9,-999,9
49UP20130426,RF13-04,4709,1,19,22092,2,20130502,0120,28.9962,147.236,6084,707.1,701,6.5808,34.0169,2,-999.,9,145.58,2,54.83,2,28.13,2,0.00,2,2.07,2,-999.,9,-999.,9,-999.,9,-999,9,-999,9
49UP20130426,RF13-04,4709,1,14,21999,2,20130502,0117,28.9962,147.236,6084,808.0,801,4.9895,34.0717,2,-999.,9,92.08,2,82.47,2,35.61,2,0.00,2,2.60,2,-999.,9,-999.,9,-999.,9,-999,9,-999,9
49UP20130426,RF13-04,4709,1,13,22667,2,20130502,0114,28.9962,147.236,6084,908.7,901,4.4559,34.1548,2,-999.,9,66.26,2,97.97,2,38.51,2,0.00,2,2.80,2,-999.,9,-999.,9,-999.,9,-999,9,-999,9
49UP20130426,RF13-04,4709,1,12,22074,2,20130502,0111,28.9962,147.236,6084,1009.8,1001,3.8746,34.2628,2,-999.,9,46.28,2,114.88,2,40.77,2,0.00,2,2.95,2,-999.,9,-999.,9,-999.,9,-999,9,-999,9
49UP20130426,RF13-04,4709,1,11,21996,2,20130502,0111,28.9962,147.236,6084,1009.8,1001,3.8746,34.2628,2,-999.,9,46.30,2,114.91,2,40.81,2,0.00,2,2.95,2,-999.,9,-999.,9,-999.,9,-999,9,-999,9
49UP20130426,RF13-04,4709,1,10,22107,2,20130502,0107,28.9962,147.236,6084,1212.3,1201,3.2453,34.3848,2,-999.,9,37.01,2,132.97,2,42.20,2,0.00,2,3.05,2,-999.,9,-999.,9,-999.,9,-999,9,-999,9
49UP20130426,RF13-04,4709,1,9,22108,2,20130502,0102,28.9962,147.236,6084,1415.0,1401,2.7618,34.4757,2,-999.,9,43.68,2,144.61,2,42.35,2,0.00,2,3.04,2,-999.,9,-999.,9,-999.,9,-999,9,-999,9
49UP20130426,RF13-04,4709,1,8,22081,2,20130502,0058,28.9962,147.236,6084,1616.8,1600,2.3527,34.5270,2,-999.,9,48.94,6,155.88,6,42.35,6,0.00,6,3.03,6,-999.,9,-999.,9,-999.,9,-999,9,-999,9
49UP20130426,RF13-04,4709,1,7,22106,2,20130502,0053,28.9962,147.236,6084,1820.1,1800,2.1369,34.5676,2,-999.,9,64.79,2,158.44,2,41.41,2,0.00,2,2.95,2,-999.,9,-999.,9,-999.,9,-999,9,-999,9
49UP20130426,RF13-04,4709,1,6,22113,2,20130502,0048,28.9962,147.236,6084,2024.9,2002,1.9723,34.5979,2,-999.,9,84.43,2,156.81,2,40.20,2,0.00,2,2.86,2,-999.,9,-999.,9,-999.,9,-999,9,-999,9