BOTTLE,20171119JMAGEMD
EXPOCODE,SECT_ID,STNNBR,CASTNO,SAMPNO,BTLNBR,BTLNBR_FLAG_W,DATE,TIME,LATITUDE,LONGITUDE,DEPTH,CTDPRS,CTDDEP,CTDTMP,CTDSAL,CTDSAL_FLAG_W,SALNTY,SALNTY_FLAG_W,OXYGEN,OXYGEN_FLAG_W,SILCAT,SILCAT_FLAG_W,NO2+NO3,NO2+NO3_FLAG_W,NITRIT,NITRIT_FLAG_W,PHSPHT,PHSPHT_FLAG_W,TCARBN,TCARBN_FLAG_W,ALKALI,ALKALI_FLAG_W,PH_TOT,PH_TOT_FLAG_W,CFC-11,CFC-11_FLAG_W,CFC-12,CFC-12_FLAG_W
,,,,,,,UTC,UTC,,,METER,DBAR,METERS,ITS-90,PSS-78,,PSS-78,,UMOL/KG,,UMOL/KG,,UMOL/KG,,UMOL/KG,,UMOL/KG,,UMOL/KG,,UMOL/KG,,@25DEG-C,,PMOL/KG,,PMOL/KG,
49UP20130426,RF13-04,4749,1,-999,0,2,20130519,1824,39.6695,147.9168,5351,0.0,0,13.4268,34.2437,2,34.2468,2,277.82,2,11.22,2,4.26,2,0.09,2,0.40,2,2031.4,2,2274.5,2,7.9613,2,-999,9,-999,9
49UP20130426,RF13-04,4749,1,36,22109,2,20130519,1843,39.6695,147.9168,5351,11.2,11,10.1685,33.7976,2,33.5698,4,311.42,2,26.95,2,13.42,2,0.15,2,1.12,2,2081.1,2,2256.7,2,7.8241,2,-999,9,-999,9
49UP20130426,RF13-04,4749,1,35,22112,2,20130519,1841,39.6695,147.9168,5351,26.7,26,2.6519,32.9542,2,-999.0000,9,339.72,2,43.38,2,22.95,2,0.21,2,1.85,2,2125.7,2,2235.2,2,7.6545,2,-999,9,-999,9
49UP20130426,RF13-04,4749,1,34,22083,2,20130519,1837,39.6695,147.9168,5351,50.3,50,2.2770,32.9648,2,-999.0000,9,339.41,2,43.33,2,23.00,2,0.21,2,1.87,2,2136.1,2,2236.0,2,7.6494,2,-999,9,-999,9
49UP20130426,RF13-04,4749,1,33,22086,2,20130519,1836,39.6695,147.9168,5351,75.7,75,1.9024,32.9921,2,-999.0000,9,337.62,2,43.70,2,23.48,2,0.25,2,1.90,2,2135.9,2,2229.7,2,7.6383,2,-999,9,-999,9
49UP20130426,RF13-04,4749,1,32,22105,2,20130519,1834,39.6695,147.9168,5351,102.2,101,1.0646,33.0771,2,33.0775,2,330.00,2,45.52,2,24.89,2,0.39,2,1.99,2,2153.7,2,2242.3,2,7.6049,2,-999,9,-999,9
49UP20130426,RF13-04,4749,1,31,22076,2,20130519,1832,39.6695,147.9168,5351,127.1,126,0.9503,33.1495,2,-999.0000,9,310.73,2,49.72,2,26.34,2,0.11,2,2.08,2,2170.7,2,2248.8,2,7.5778,2,-999,9,-999,9
49UP20130426,RF13-04,4749,1,30,22097,2,20130519,1830,39.6695,147.9168,5351,150.9,150,0.8521,33.2275,2,-999.0000,9,287.67,2,53.82,2,27.11,2,0.03,2,2.14,2,2189.8,2,2253.2,2,7.5384,2,-999,9,-999,9
49UP20130426,RF13-04,4749,1,29,22102,2,20130519,1829,39.6695,147.9168,5351,204.3,203,1.3525,33.4004,2,33.4040,2,223.52,6,66.28,6,30.98,6,0.02,6,2.41,6,2233.8,2,2268.5,2,7.4577,2,-999,9,-999,9
49UP20130426,RF13-04,4749,1,28,22091,3,20130519,1827,39.6695,147.9168,5351,254.3,252,1.6424,33.5058,2,-999.0000,9,188.20,2,73.29,2,32.93,2,0.03,2,2.54,2,2248.6,2,2276.5,2,7.4150,2,-999,9,-999,9
49UP20130426,RF13-04,4749,1,27,21998,2,20130519,1825,39.6695,147.9168,5351,304.4,302,2.3623,33.6530,2,-999.0000,9,135.79,2,84.24,2,36.85,2,0.01,2,2.77,2,2281.0,2,2288.7,2,7.3574,2,-999,9,-999,9
49UP20130426,RF13-04,4749,1,26,22084,2,20130519,1823,39.6695,147.9168,5351,404.0,401,2.8783,33.8638,2,33.8632,2,80.11,2,100.52,2,40.26,2,0.00,2,2.96,2,2317.0,6,2306.5,6,7.3044,2,-999,9,-999,9
49UP20130426,RF13-04,4749,1,25,22098,2,20130519,1820,39.6695,147.9168,5351,504.7,500,3.0758,33.9576,2,-999.0000,9,57.90,2,108.09,2,41.64,2,0.00,2,3.02,2,2333.8,2,2317.5,2,7.2860,2,-999,9,-999,9
49UP20130426,RF13-04,4749,1,24,22110,2,20130519,1817,39.6695,147.9168,5351,604.8,599,3.3011,34.1011,2,34.1013,2,36.23,2,118.59,2,42.85,2,0.00,2,3.08,2,2349.3,2,2335.4,2,7.2816,6,-999,9,-999,9
49UP20130426,RF13-04,4749,1,23,22096,2,20130519,1814,39.6695,147.9168,5351,705.3,699,3.1784,34.2049,2,-999.0000,9,27.68,6,129.49,6,43.35,6,0.00,6,3.12,6,2364.6,2,2350.0,2,7.2825,2,-999,9,-999,9
49UP20130426,RF13-04,4749,1,22,22111,2,20130519,1811,39.6695,147.9168,5351,807.6,800,3.4130,34.3305,2,34.3297,2,43.57,2,127.68,2,41.45,2,0.00,2,3.00,2,2353.3,2,2360.6,2,7.3522,2,-999,9,-999,9
49UP20130426,RF13-04,4749,1,21,22078,2,20130519,1809,39.6695,147.9168,5351,909.2,900,2.9644,34.3457,2,-999.0000,9,33.91,2,140.46,2,42.61,2,0.00,2,3.08,2,2370.6,2,2368.3,2,7.3289,2,-999,9,-999,9
49UP20130426,RF13-04,4749,1,20,22093,2,20130519,1806,39.6695,147.9168,5351,1010.6,1000,2.8200,34.3929,2,34.3889,4,35.70,2,145.20,2,42.62,2,0.00,2,3.08,2,2372.3,2,2378.1,2,7.3390,2,-999,9,-999,9
49UP20130426,RF13-04,4749,1,19,22092,2,20130519,1800,39.6695,147.9168,5351,1214.5,1202,2.5177,34.4511,2,34.4484,4,38.79,2,154.33,2,42.78,2,0.00,2,3.07,2,2378.0,2,2389.2,2,7.3482,2,-999,9,-999,9
49UP20130426,RF13-04,4749,1,18,22101,2,20130519,1755,39.6695,147.9168,5351,1413.6,1398,2.3444,34.4990,2,34.4982,2,46.91,3,158.61,2,42.48,2,0.00,2,3.05,2,2381.4,2,2396.2,2,7.3657,2,-999,9,-999,9
49UP20130426,RF13-04,4749,1,17,22090,2,20130519,1749,39.6695,147.9168,5351,1622.6,1604,2.1901,34.5365,2,34.5362,2,52.97,2,161.88,2,42.03,2,0.00,2,3.01,2,2382.6,2,2401.7,2,7.3848,2,-999,9,-999,9
49UP20130426,RF13-04,4749,1,16,22089,2,20130519,1742,39.6695,147.9168,5351,1826.5,1805,2.0446,34.5713,2,34.5705,2,66.98,3,163.17,2,41.45,2,0.00,2,2.95,3,2379.9,6,2407.9,6,7.4062,2,-999,9,-999,9
49UP20130426,RF13-04,4749,1,15,22088,2,20130519,1737,39.6695,147.9168,5351,2020.7,1996,1.9139,34.5977,2,34.5980,6,77.46,2,163.06,2,40.71,2,0.00,2,2.89,2,2374.5,2,2412.8,2,7.4321,2,-999,9,-999,9
49UP20130426,RF13-04,4749,1,14,21999,2,20130519,1733,39.6695,147.9168,5351,2273.8,2244,1.7724,34.6237,2,34.6237,2,94.57,2,161.57,2,39.76,2,0.00,2,2.81,2,2360.3,2,2414.7,2,7.4646,6,-999,9,-999,9
49UP20130426,RF13-04,4749,1,13,22667,2,20130519,1728,39.6695,147.9168,5351,2535.1,2501,1.6626,34.6420,2,34.6423,2,108.56,2,160.06,2,38.82,2,0.00,2,2.74,2,2356.5,2,2417.7,2,7.4923,2,-999,9,-999,9
49UP20130426,RF13-04,4749,1,12,22074,2,20130519,1722,39.6695,147.9168,5351,2791.3,2752,1.5953,34.6543,2,34.6542,6,119.16,2,158.04,2,38.02,2,0.00,2,2.69,2,2344.5,2,2417.6,2,7.5121,2,-999,9,-999,9
49UP20130426,RF13-04,4749,1,11,21996,2,20130519,1715,39.6695,147.9168,5351,3051.0,3006,1.5396,34.6636,2,34.6639,2,128.18,2,156.80,2,37.67,2,0.00,2,2.65,2,2342.4,2,2417.8,2,7.5269,2,-999,9,-999,9
49UP20130426,RF13-04,4749,1,10,22107,2,20130519,1709,39.6695,147.9168,5351,3296.0,3246,1.5060,34.6702,2,-999.0000,9,135.13,6,154.83,6,37.14,6,0.00,6,2.61,6,2341.7,2,2419.4,2,7.5396,2,-999,9,-999,9
49UP20130426,RF13-04,4749,1,9,22108,2,20130519,1704,39.6695,147.9168,5351,3555.3,3499,1.4835,34.6755,2,34.7604,4,141.49,2,153.15,2,36.65,2,0.00,2,2.58,2,2332.8,2,2417.4,2,7.5516,2,-999,9,-999,9
49UP20130426,RF13-04,4749,1,8,22081,2,20130519,1659,39.6695,147.9168,5351,3811.8,3749,1.4644,34.6802,2,34.6813,6,147.23,2,151.85,2,36.37,2,0.00,2,2.55,2,2326.4,2,2419.5,2,7.5601,2,-999,9,-999,9
49UP20130426,RF13-04,4749,1,7,22106,2,20130519,1653,39.6695,147.9168,5351,4069.2,4000,1.4570,34.6836,2,34.6839,2,151.54,2,150.44,2,36.04,2,0.00,2,2.53,2,2331.2,6,2415.7,6,7.5693,2,-999,9,-999,9
49UP20130426,RF13-04,4749,1,6,22113,2,20130519,1648,39.6695,147.9168,5351,4327.2,4251,1.4611,34.6862,2,34.6866,6,155.26,2,149.64,2,35.86,2,0.00,2,2.51,2,2324.8,2,2416.6,2,7.5740,2,-999,9,-999,9
49UP20130426,RF13-04,4749,1,5,22094,2,20130519,1642,39.6695,147.9168,5351,4585.2,4502,1.4736,34.6879,2,34.6877,2,157.31,2,149.08,2,35.69,2,0.00,2,2.50,2,2320.6,2,2417.0,2,7.5798,6,-999,9,-999,9
49UP20130426,RF13-04,4749,1,4,22077,2,20130519,1637,39.6695,147.9168,5351,4842.5,4752,1.4928,34.6891,2,-999.0000,9,158.96,2,148.62,2,35.59,2,0.00,2,2.50,2,2322.9,2,2413.7,2,7.5826,2,-999,9,-999,9
49UP20130426,RF13-04,4749,1,3,22104,2,20130519,1631,39.6695,147.9168,5351,5097.9,4999,1.5155,34.6900,2,34.6906,2,160.13,6,147.72,6,35.50,6,0.00,6,2.48,6,2322.6,2,2411.1,2,7.5836,2,-999,9,-999,9
49UP20130426,RF13-04,4749,1,2,22075,2,20130519,1626,39.6695,147.9168,5351,5356.9,5250,1.5391,34.6908,2,34.6902,6,162.20,2,145.45,2,35.39,2,0.00,2,2.47,2,2316.6,2,2414.1,2,7.5840,2,-999,9,-999,9
49UP20130426,RF13-04,4749,1,1,21997,2,20130519,1623,39.6695,147.9168,5351,5454.8,5345,1.5491,34.6910,2,34.6920,2,162.51,2,144.83,2,35.23,2,0.00,2,2.47,2,2326.5,2,2411.5,2,7.5849,2,-999,9,-999,9
49UP20130426,RF13-04,4751,1,-999,0,2,20130520,0730,38.9742,148.2822,5062,0.0,0,16.6297,34.6371,2,-999.,9,253.47,2,6.43,2,1.12,2,0.09,2,0.17,3,-999.,9,-999.,9,-999.,9,-999,9,-999,9
49UP20130426,RF13-04,4751,1,36,22109,2,20130520,0744,38.9742,148.2822,5062,13.4,13,16.6238,34.6366,2,-999.,9,253.15,2,6.43,2,1.09,2,0.09,2,0.17,2,-999.,9,-999.,9,-999.,9,-999,9,-999,9
49UP20130426,RF13-04,4751,1,35,22112,2,20130520,0743,38.9742,148.2822,5062,28.0,28,15.9814,34.5882,2,-999.,9,235.89,2,8.05,2,3.57,2,0.20,2,0.31,2,-999.,9,-999.,9,-999.,9,-999,9,-999,9
49UP20130426,RF13-04,4751,1,34,22083,2,20130520,0741,38.9742,148.2822,5062,53.5,53,13.2609,34.4591,2,-999.,9,179.16,2,20.73,2,13.88,2,0.04,2,1.01,2,-999.,9,-999.,9,-999.,9,-999,9,-999,9
49UP20130426,RF13-04,4751,1,33,22086,2,20130520,0740,38.9742,148.2822,5062,79.0,78,11.6285,34.3286,2,-999.,9,215.04,2,18.88,2,13.08,2,0.01,2,0.96,2,-999.,9,-999.,9,-999.,9,-999,9,-999,9
49UP20130426,RF13-04,4751,1,32,22105,2,20130520,0739,38.9742,148.2822,5062,103.3,102,10.8333,34.2793,2,-999.,9,197.45,2,24.24,2,15.75,2,0.02,2,1.15,2,-999.,9,-999.,9,-999.,9,-999,9,-999,9
49UP20130426,RF13-04,4751,1,31,22076,2,20130520,0737,38.9742,148.2822,5062,129.6,129,9.7727,34.1524,2,-999.,9,205.93,2,25.70,2,16.33,2,0.06,2,1.21,2,-999.,9,-999.,9,-999.,9,-999,9,-999,9
49UP20130426,RF13-04,4751,1,30,22097,2,20130520,0734,38.9742,148.2822,5062,154.0,153,8.9295,34.0737,2,-999.,9,211.54,6,28.64,6,17.32,6,0.02,6,1.30,6,-999.,9,-999.,9,-999.,9,-999,9,-999,9
49UP20130426,RF13-04,4751,1,29,22102,2,20130520,0731,38.9742,148.2822,5062,204.2,203,7.0349,33.8588,2,-999.,9,243.54,2,29.72,2,17.57,2,0.02,2,1.35,2,-999.,9,-999.,9,-999.,9,-999,9,-999,9
49UP20130426,RF13-04,4751,1,28,22091,2,20130520,0729,38.9742,148.2822,5062,255.9,254,4.3503,33.5590,2,-999.,9,271.32,2,36.08,2,20.18,2,0.03,2,1.59,2,-999.,9,-999.,9,-999.,9,-999,9,-999,9
49UP20130426,RF13-04,4751,1,27,21998,2,20130520,0727,38.9742,148.2822,5062,305.2,303,4.2112,33.6258,2,-999.,9,250.19,2,41.76,2,22.46,2,0.01,2,1.74,2,-999.,9,-999.,9,-999.,9,-999,9,-999,9
49UP20130426,RF13-04,4751,1,26,22084,2,20130520,0724,38.9742,148.2822,5062,405.5,402,3.4798,33.7229,2,-999.,9,153.16,2,72.88,2,33.49,2,0.01,2,2.51,2,-999.,9,-999.,9,-999.,9,-999,9,-999,9
49UP20130426,RF13-04,4751,1,25,22098,2,20130520,0722,38.9742,148.2822,5062,506.2,502,2.3489,33.6952,2,-999.,9,127.92,2,87.70,2,37.10,2,0.00,2,2.77,2,-999.,9,-999.,9,-999.,9,-999,9,-999,9
49UP20130426,RF13-04,4751,1,24,22110,2,20130520,0718,38.9742,148.2822,5062,610.8,605,3.4597,33.9984,2,-999.,9,61.95,6,104.33,6,40.92,6,0.00,6,2.96,6,-999.,9,-999.,9,-999.,9,-999,9,-999,9
49UP20130426,RF13-04,4751,1,23,22096,2,20130520,0715,38.9742,148.2822,5062,712.3,706,3.4204,34.1214,2,-999.,9,42.67,2,116.32,2,42.13,2,0.00,2,3.04,2,-999.,9,-999.,9,-999.,9,-999,9,-999,9
49UP20130426,RF13-04,4751,1,22,22111,3,20130520,0712,38.9742,148.2822,5062,812.4,805,3.2706,34.2207,2,-999.,9,34.09,2,127.69,2,42.79,2,0.00,2,3.08,2,-999.,9,-999.,9,-999.,9,-999,9,-999,9
49UP20130426,RF13-04,4751,1,21,22078,2,20130520,0709,38.9742,148.2822,5062,915.0,906,3.0836,34.2967,2,-999.,9,33.21,2,135.18,2,42.80,2,0.00,2,3.08,2,-999.,9,-999.,9,-999.,9,-999,9,-999,9
49UP20130426,RF13-04,4751,1,20,22093,2,20130520,0706,38.9742,148.2822,5062,1013.7,1004,2.8623,34.3387,2,-999.,9,33.10,2,142.87,2,42.97,2,0.00,2,3.09,2,-999.,9,-999.,9,-999.,9,-999,9,-999,9
49UP20130426,RF13-04,4751,1,19,22092,2,20130520,0702,38.9742,148.2822,5062,1213.5,1201,2.6184,34.4132,2,-999.,9,36.97,2,151.29,2,42.90,2,0.00,2,3.09,2,-999.,9,-999.,9,-999.,9,-999,9,-999,9
49UP20130426,RF13-04,4751,1,18,22101,2,20130520,0657,38.9742,148.2822,5062,1418.2,1403,2.4535,34.4919,2,-999.,9,43.81,2,155.06,2,42.64,2,0.00,2,3.06,2,-999.,9,-999.,9,-999.,9,-999,9,-999,9
49UP20130426,RF13-04,4751,1,17,22090,2,20130520,0652,38.9742,148.2822,5062,1623.3,1605,2.2561,34.5334,2,-999.,9,51.68,2,159.11,2,42.34,2,0.00,2,3.02,2,-999.,9,-999.,9,-999.,9,-999,9,-999,9
49UP20130426,RF13-04,4751,1,16,22089,2,20130520,0646,38.9742,148.2822,5062,1823.3,1802,2.1066,34.5643,2,-999.,9,62.39,2,161.04,2,41.65,2,0.00,2,2.98,2,-999.,9,-999.,9,-999.,9,-999,9,-999,9
49UP20130426,RF13-04,4751,1,15,22088,2,20130520,0641,38.9742,148.2822,5062,2027.7,2003,1.9696,34.5895,2,-999.,9,73.09,2,162.79,2,41.15,2,0.00,2,2.92,2,-999.,9,-999.,9,-999.,9,-999,9,-999,9
49UP20130426,RF13-04,4751,1,14,21999,2,20130520,0634,38.9742,148.2822,5062,2281.7,2252,1.8401,34.6134,2,-999.,9,87.33,2,162.17,2,40.16,2,0.00,2,2.85,2,-999.,9,-999.,9,-999.,9,-999,9,-999,9
49UP20130426,RF13-04,4751,1,13,22667,2,20130520,0628,38.9742,148.2822,5062,2536.5,2502,1.7083,34.6357,2,-999.,9,103.29,2,160.61,2,39.10,2,0.00,2,2.78,2,-999.,9,-999.,9,-999.,9,-999,9,-999,9
49UP20130426,RF13-04,4751,1,12,22074,2,20130520,0621,38.9742,148.2822,5062,2791.7,2752,1.6263,34.6496,2,-999.,9,115.05,2,159.23,2,38.46,2,0.00,2,2.72,2,-999.,9,-999.,9,-999.,9,-999,9,-999,9
49UP20130426,RF13-04,4751,1,11,21996,2,20130520,0615,38.9742,148.2822,5062,3042.5,2998,1.5666,34.6599,2,-999.,9,120.90,3,158.10,3,37.97,3,0.00,3,2.69,3,-999.,9,-999.,9,-999.,9,-999,9,-999,9
49UP20130426,RF13-04,4751,1,10,22107,3,20130520,0609,38.9742,148.2822,5062,3299.9,3250,1.5217,34.6681,2,-999.,9,133.49,2,154.95,2,37.34,2,0.00,2,2.62,2,-999.,9,-999.,9,-999.,9,-999,9,-999,9
49UP20130426,RF13-04,4751,1,9,22108,2,20130520,0604,38.9742,148.2822,5062,3558.3,3502,1.4954,34.6739,2,-999.,9,140.34,2,153.34,2,36.87,2,0.00,2,2.59,2,-999.,9,-999.,9,-999.,9,-999,9,-999,9
49UP20130426,RF13-04,4751,1,8,22081,2,20130520,0558,38.9742,148.2822,5062,3813.2,3751,1.4778,34.6785,2,-999.,9,146.07,2,151.85,2,36.48,2,0.00,2,2.57,2,-999.,9,-999.,9,-999.,9,-999,9,-999,9
49UP20130426,RF13-04,4751,1,7,22106,2,20130520,0552,38.9742,148.2822,5062,4073.8,4005,1.4717,34.6820,2,-999.,9,150.22,2,150.95,2,36.23,2,0.00,2,2.54,2,-999.,9,-999.,9,-999.,9,-999,9,-999,9
49UP20130426,RF13-04,4751,1,6,22113,2,20130520,0546,38.9742,148.2822,5062,4328.4,4252,1.4714,34.6848,2,-999.,9,153.78,2,149.74,2,36.03,2,0.00,2,2.52,2,-999.,9,-999.,9,-999.,9,-999,9,-999,9
49UP20130426,RF13-04,4751,1,5,22094,2,20130520,0541,38.9742,148.2822,5062,4580.0,4497,1.4777,34.6871,2,-999.,9,156.71,2,148.71,2,35.78,2,0.00,2,2.50,2,-999.,9,-999.,9,-999.,9,-999,9,-999,9
49UP20130426,RF13-04,4751,1,4,22077,2,20130520,0536,38.9742,148.2822,5062,4838.1,4748,1.4947,34.6884,2,-999.,9,158.77,6,148.01,6,35.60,6,0.00,6,2.49,6,-999.,9,-999.,9,-999.,9,-999,9,-999,9
49UP20130426,RF13-04,4751,1,3,22104,2,20130520,0531,38.9742,148.2822,5062,5094.9,4997,1.5175,34.6894,2,-999.,9,160.32,2,147.17,2,35.50,2,0.00,2,2.49,2,-999.,9,-999.,9,-999.,9,-999,9,-999,9
49UP20130426,RF13-04,4751,1,2,22075,2,20130520,0526,38.9742,148.2822,5062,5356.3,5250,1.5429,34.6898,2,-999.,9,161.56,2,145.93,2,35.35,2,0.00,2,2.48,2,-999.,9,-999.,9,-999.,9,-999,9,-999,9
49UP20130426,RF13-04,4751,1,1,21997,2,20130520,0520,38.9742,148.2822,5062,5638.2,5523,1.5722,34.6906,2,-999.,9,163.23,2,144.40,2,35.27,2,0.00,2,2.47,2,-999.,9,-999.,9,-999.,9,-999,9,-999,9