BOTTLE,20171119JMAGEMD
EXPOCODE,SECT_ID,STNNBR,CASTNO,SAMPNO,BTLNBR,BTLNBR_FLAG_W,DATE,TIME,LATITUDE,LONGITUDE,DEPTH,CTDPRS,CTDDEP,CTDTMP,CTDSAL,CTDSAL_FLAG_W,SALNTY,SALNTY_FLAG_W,OXYGEN,OXYGEN_FLAG_W,SILCAT,SILCAT_FLAG_W,NO2+NO3,NO2+NO3_FLAG_W,NITRIT,NITRIT_FLAG_W,PHSPHT,PHSPHT_FLAG_W,TCARBN,TCARBN_FLAG_W,ALKALI,ALKALI_FLAG_W,PH_TOT,PH_TOT_FLAG_W,CFC-11,CFC-11_FLAG_W,CFC-12,CFC-12_FLAG_W
,,,,,,,UTC,UTC,,,METER,DBAR,METERS,ITS-90,PSS-78,,PSS-78,,UMOL/KG,,UMOL/KG,,UMOL/KG,,UMOL/KG,,UMOL/KG,,UMOL/KG,,UMOL/KG,,@25DEG-C,,PMOL/KG,,PMOL/KG,
49UP20130426,RF13-04,4723,1,-999,0,2,20130504,2332,36.0007,149.2663,5959,0.0,0,16.8272,34.6070,2,34.6129,2,236.77,2,7.27,2,4.24,2,0.17,2,0.35,2,2030.5,2,2283.5,2,7.9573,2,-999,9,-999,9
49UP20130426,RF13-04,4723,1,36,22109,2,20130504,0000,36.0007,149.2663,5959,11.2,11,16.6479,34.6048,2,-999.0000,9,235.97,2,7.26,2,4.25,2,0.17,2,0.34,2,2032.9,2,2285.1,2,7.9585,2,-999,9,-999,9
49UP20130426,RF13-04,4723,1,35,22112,2,20130504,2358,36.0007,149.2663,5959,26.8,27,16.5851,34.6001,2,-999.0000,9,233.21,6,7.50,6,4.58,6,0.18,6,0.36,6,2031.4,2,2283.7,2,7.9567,2,-999,9,-999,9
49UP20130426,RF13-04,4723,1,34,22083,2,20130504,2355,36.0007,149.2663,5959,49.6,49,16.2242,34.5765,2,-999.0000,9,230.69,2,7.93,2,5.32,2,0.24,2,0.41,2,2040.0,2,2284.8,2,7.9459,2,-999,9,-999,9
49UP20130426,RF13-04,4723,1,30,22097,2,20130504,2353,36.0007,149.2663,5959,76.2,76,15.7714,34.5590,2,-999.0000,9,-999.00,5,9.13,2,6.69,2,0.26,2,0.52,2,2052.4,2,2280.5,2,7.9213,2,-999,9,-999,9
49UP20130426,RF13-04,4723,1,29,22102,2,20130504,2352,36.0007,149.2663,5959,100.9,100,15.0781,34.5464,2,-999.0000,9,188.78,2,13.41,2,10.05,2,0.06,2,0.73,2,2071.4,2,2285.2,2,7.8710,2,-999,9,-999,9
49UP20130426,RF13-04,4723,1,28,22091,2,20130504,2350,36.0007,149.2663,5959,127.3,126,14.3711,34.5161,2,-999.0000,9,180.15,2,16.49,2,11.90,2,0.02,2,0.86,2,2086.9,2,2285.0,2,7.8418,2,-999,9,-999,9
49UP20130426,RF13-04,4723,1,27,21998,2,20130504,2348,36.0007,149.2663,5959,152.2,151,12.7736,34.4443,2,-999.0000,9,184.13,2,22.02,2,14.14,2,0.02,2,1.03,2,2107.2,2,2287.5,2,7.8057,2,-999,9,-999,9
49UP20130426,RF13-04,4723,1,26,22084,2,20130504,2347,36.0007,149.2663,5959,201.1,200,10.3833,34.2130,2,-999.0000,9,247.70,2,16.91,2,11.75,2,0.04,2,0.88,2,2085.8,2,2273.9,2,7.8183,2,-999,9,-999,9
49UP20130426,RF13-04,4723,1,25,22098,2,20130504,2345,36.0007,149.2663,5959,250.9,249,8.8776,34.0449,2,-999.0000,9,221.41,2,26.46,2,15.95,2,0.02,2,1.20,2,2119.4,6,2273.5,6,7.7502,2,-999,9,-999,9
49UP20130426,RF13-04,4723,1,24,22110,2,20130504,2343,36.0007,149.2663,5959,302.1,300,7.3686,33.9271,2,-999.0000,9,209.76,2,35.90,2,20.13,2,0.02,2,1.52,2,2148.9,2,2277.5,2,7.6818,6,-999,9,-999,9
49UP20130426,RF13-04,4723,1,23,22096,2,20130504,2340,36.0007,149.2663,5959,403.4,400,5.5160,33.8895,2,-999.0000,9,161.97,2,57.81,2,28.06,2,0.01,2,2.09,2,2206.4,2,2290.1,2,7.5561,2,-999,9,-999,9
49UP20130426,RF13-04,4723,1,22,22111,2,20130504,2340,36.0007,149.2663,5959,403.4,400,5.5160,33.8895,2,-999.0000,9,162.92,2,57.71,2,28.03,2,0.01,2,2.09,2,2213.6,2,2287.1,2,7.5568,2,-999,9,-999,9
49UP20130426,RF13-04,4723,1,21,22078,2,20130504,2337,36.0007,149.2663,5959,507.4,503,4.0848,33.8882,2,-999.0000,9,117.14,2,81.22,2,35.55,2,0.00,2,2.61,2,2272.3,2,2301.2,3,7.4198,2,-999,9,-999,9
49UP20130426,RF13-04,4723,1,20,22093,2,20130504,2334,36.0007,149.2663,5959,607.2,602,4.5361,34.1281,2,-999.0000,9,78.91,6,93.67,6,37.37,6,0.00,6,2.72,6,2292.5,2,2324.6,2,7.4043,2,-999,9,-999,9
49UP20130426,RF13-04,4723,1,19,22092,2,20130504,2331,36.0007,149.2663,5959,707.5,701,4.1645,34.2242,2,-999.0000,9,58.77,2,106.90,2,39.60,2,0.00,2,2.86,2,2322.6,2,2344.2,2,7.3805,2,-999,9,-999,9
49UP20130426,RF13-04,4723,1,14,21999,2,20130504,2329,36.0007,149.2663,5959,808.1,801,3.7645,34.2864,2,-999.0000,9,49.03,2,118.19,2,40.79,2,0.00,2,2.94,2,2344.1,2,2354.2,2,7.3626,2,-999,9,-999,9
49UP20130426,RF13-04,4723,1,13,22667,2,20130504,2326,36.0007,149.2663,5959,909.6,901,3.3533,34.3145,2,-999.0000,9,40.78,2,129.02,2,41.82,2,0.00,2,3.02,2,2355.0,6,2364.6,6,7.3455,2,-999,9,-999,9
49UP20130426,RF13-04,4723,1,12,22074,2,20130504,2323,36.0007,149.2663,5959,1010.8,1001,3.2239,34.3739,2,-999.0000,9,43.34,2,132.99,2,41.89,2,0.00,2,3.01,2,2359.0,2,2372.8,2,7.3587,6,-999,9,-999,9
49UP20130426,RF13-04,4723,1,11,21996,2,20130504,2319,36.0007,149.2663,5959,1214.7,1202,2.7696,34.4434,2,-999.0000,9,40.15,2,146.02,2,42.63,2,0.00,2,3.06,2,2377.5,2,2388.7,2,7.3553,2,-999,9,-999,9
49UP20130426,RF13-04,4723,1,10,22107,2,20130504,2314,36.0007,149.2663,5959,1416.6,1401,2.4441,34.5000,2,-999.0000,9,45.32,2,154.71,2,42.63,2,0.00,2,3.05,2,2380.5,2,2400.9,2,7.3690,2,-999,9,-999,9
49UP20130426,RF13-04,4723,1,9,22108,2,20130504,2309,36.0007,149.2663,5959,1619.0,1601,2.2377,34.5388,2,-999.0000,9,53.23,2,159.13,2,42.26,2,0.00,2,3.00,2,2387.1,2,2404.7,2,7.3861,2,-999,9,-999,9
49UP20130426,RF13-04,4723,1,8,22081,2,20130504,2305,36.0007,149.2663,5959,1822.0,1801,2.0532,34.5731,2,-999.0000,9,66.60,2,161.53,2,41.45,2,0.00,2,2.94,2,2377.9,2,2412.2,2,7.4140,2,-999,9,-999,9
49UP20130426,RF13-04,4723,1,7,22106,3,20130504,2300,36.0007,149.2663,5959,2027.1,2003,1.9167,34.5978,2,-999.0000,9,78.53,2,161.86,2,40.70,2,0.00,2,2.89,2,2374.0,2,2415.8,2,7.4378,2,-999,9,-999,9
49UP20130426,RF13-04,4723,1,6,22113,2,20130504,2300,36.0007,149.2663,5959,2027.1,2003,1.9167,34.5978,2,-999.0000,9,78.89,2,162.00,2,40.80,2,0.00,2,2.89,2,2376.2,2,2415.5,2,7.4404,2,-999,9,-999,9
49UP20130426,RF13-04,4725,1,-999,0,2,20130505,1115,36.9688,149.698,6021,0.0,0,16.3800,34.6686,2,34.6717,2,254.95,2,4.21,2,1.46,2,0.16,2,0.16,2,2012.5,2,2283.1,2,7.9910,2,-999,9,-999,9
49UP20130426,RF13-04,4725,1,36,22109,2,20130505,1144,36.9688,149.698,6021,10.7,11,16.3796,34.6680,2,34.6685,2,254.91,6,4.20,6,1.50,6,0.16,6,0.15,6,2013.3,2,2284.2,2,7.9900,2,-999,9,-999,9
49UP20130426,RF13-04,4725,1,35,22112,2,20130505,1142,36.9688,149.698,6021,26.7,27,16.1548,34.6690,2,-999.0000,9,244.61,2,4.37,2,2.86,2,0.33,2,0.22,2,2020.5,2,2281.6,2,7.9737,2,-999,9,-999,9
49UP20130426,RF13-04,4725,1,34,22083,2,20130505,1138,36.9688,149.698,6021,50.9,51,16.0306,34.6732,2,-999.0000,9,241.46,2,4.55,2,3.48,2,0.43,2,0.26,2,2024.8,2,2282.9,2,7.9626,2,-999,9,-999,9
49UP20130426,RF13-04,4725,1,33,22086,2,20130505,1137,36.9688,149.698,6021,76.4,76,16.0151,34.6769,2,-999.0000,9,240.67,2,4.53,2,3.66,2,0.49,2,0.27,2,2024.8,2,2284.2,2,7.9634,2,-999,9,-999,9
49UP20130426,RF13-04,4725,1,32,22105,2,20130505,1135,36.9688,149.698,6021,102.5,102,16.0166,34.6774,2,34.6774,6,239.69,2,4.57,2,3.74,2,0.52,2,0.27,2,2026.3,2,2281.1,2,7.9597,2,-999,9,-999,9
49UP20130426,RF13-04,4725,1,31,22076,2,20130505,1134,36.9688,149.698,6021,127.1,126,16.0197,34.6831,2,-999.0000,9,238.48,2,4.58,2,3.87,2,0.51,2,0.28,2,2030.4,2,2282.8,2,7.9576,2,-999,9,-999,9
49UP20130426,RF13-04,4725,1,30,22097,2,20130505,1132,36.9688,149.698,6021,153.1,152,16.0278,34.6877,2,-999.0000,9,237.26,2,4.52,2,3.87,2,0.51,2,0.28,2,2029.3,2,2285.2,2,7.9582,2,-999,9,-999,9
49UP20130426,RF13-04,4725,1,29,22102,2,20130505,1130,36.9688,149.698,6021,204.2,203,16.0249,34.6872,2,34.6875,2,237.97,2,4.64,2,3.92,2,0.44,2,0.29,2,2024.8,2,2282.4,2,7.9592,2,-999,9,-999,9
49UP20130426,RF13-04,4725,1,28,22091,2,20130505,1128,36.9688,149.698,6021,254.1,252,15.1092,34.6003,2,-999.0000,9,220.61,2,8.60,2,7.20,2,0.02,2,0.52,2,2052.5,2,2281.4,2,7.9136,2,-999,9,-999,9
49UP20130426,RF13-04,4725,1,27,21998,2,20130505,1127,36.9688,149.698,6021,305.1,303,13.1627,34.4544,2,-999.0000,9,194.02,2,17.24,2,12.73,2,0.01,2,0.90,2,2095.0,2,2279.7,2,7.8243,2,-999,9,-999,9
49UP20130426,RF13-04,4725,1,26,22084,2,20130505,1124,36.9688,149.698,6021,406.4,403,10.6377,34.2635,2,34.2634,2,256.73,2,14.47,2,10.30,2,0.01,2,0.76,2,2081.3,4,2274.1,2,7.8486,2,-999,9,-999,9
49UP20130426,RF13-04,4725,1,25,22098,2,20130505,1121,36.9688,149.698,6021,506.8,502,8.1610,34.0404,2,-999.0000,9,190.47,6,35.96,6,20.42,6,0.01,6,1.51,6,2148.3,2,2280.4,2,7.6824,2,-999,9,-999,9
49UP20130426,RF13-04,4725,1,24,22110,2,20130505,1118,36.9688,149.698,6021,607.3,602,5.4015,33.9069,2,33.9075,2,156.16,2,60.49,2,29.35,2,0.00,2,2.18,2,2221.3,6,2291.1,6,7.5318,2,-999,9,-999,9
49UP20130426,RF13-04,4725,1,23,22096,2,20130505,1116,36.9688,149.698,6021,708.5,702,4.6206,34.0529,2,-999.0000,9,93.11,2,85.88,2,36.07,2,0.00,2,2.64,2,2277.4,2,2316.2,2,7.4192,6,-999,9,-999,9
49UP20130426,RF13-04,4725,1,22,22111,2,20130505,1113,36.9688,149.698,6021,811.0,803,4.5097,34.1799,2,34.1782,6,71.48,2,97.95,2,38.16,2,0.00,2,2.77,2,2308.3,2,2333.7,2,7.4015,2,-999,9,-999,9
49UP20130426,RF13-04,4725,1,21,22078,2,20130505,1110,36.9688,149.698,6021,912.3,904,4.1036,34.2493,2,-999.0000,9,56.33,2,109.81,2,39.67,2,0.00,2,2.87,2,2328.0,2,2347.7,2,7.3794,2,-999,9,-999,9
49UP20130426,RF13-04,4725,1,20,22093,2,20130505,1107,36.9688,149.698,6021,1013.6,1004,3.6717,34.3017,2,34.2998,2,51.56,3,120.92,2,40.93,2,0.00,2,2.95,2,2345.1,2,2358.5,2,7.3637,2,-999,9,-999,9
49UP20130426,RF13-04,4725,1,19,22092,2,20130505,1101,36.9688,149.698,6021,1215.0,1203,3.0700,34.4003,2,34.3994,2,42.97,2,137.26,2,42.06,2,0.00,2,3.03,2,2360.6,2,2381.7,2,7.3606,2,-999,9,-999,9
49UP20130426,RF13-04,4725,1,18,22101,2,20130505,1056,36.9688,149.698,6021,1415.1,1400,2.7227,34.4547,2,34.4544,2,41.24,2,147.36,2,42.39,2,0.00,2,3.05,2,2370.4,2,2394.2,2,7.3612,2,-999,9,-999,9
49UP20130426,RF13-04,4725,1,17,22090,2,20130505,1051,36.9688,149.698,6021,1619.0,1601,2.3576,34.5173,2,34.5167,2,46.97,2,157.59,2,42.51,2,0.00,2,3.04,2,2374.2,2,2402.8,2,7.3730,2,-999,9,-999,9
49UP20130426,RF13-04,4725,1,16,22089,2,20130505,1047,36.9688,149.698,6021,1823.0,1802,2.1463,34.5570,2,34.5562,6,58.21,2,161.25,2,41.98,2,0.00,2,2.99,2,2380.4,2,2410.8,2,7.3975,2,-999,9,-999,9
49UP20130426,RF13-04,4725,1,15,22088,2,20130505,1043,36.9688,149.698,6021,2024.8,2000,1.9981,34.5855,2,34.5849,2,70.63,2,162.30,2,41.25,2,0.00,2,2.93,2,2373.5,6,2416.1,6,7.4234,2,-999,9,-999,9
49UP20130426,RF13-04,4725,1,14,21999,2,20130505,1037,36.9688,149.698,6021,2282.8,2254,1.8603,34.6102,2,34.6103,2,84.71,2,162.26,2,40.32,2,0.00,2,2.86,2,2372.5,2,2419.6,2,7.4506,6,-999,9,-999,9
49UP20130426,RF13-04,4725,1,13,22667,2,20130505,1031,36.9688,149.698,6021,2535.2,2501,1.7391,34.6318,2,34.6222,4,93.18,4,161.66,4,39.80,4,0.00,4,2.82,4,2363.6,3,2420.9,3,7.4680,3,-999,9,-999,9
49UP20130426,RF13-04,4725,1,12,22074,2,20130505,1025,36.9688,149.698,6021,2788.0,2749,1.6467,34.6476,2,-999.0000,9,114.18,2,158.28,2,38.35,2,0.00,2,2.72,2,2356.9,2,2421.0,2,7.5048,2,-999,9,-999,9
49UP20130426,RF13-04,4725,1,11,21996,2,20130505,1019,36.9688,149.698,6021,3045.8,3002,1.5897,34.6577,2,34.6573,6,123.21,2,156.59,2,37.77,2,0.00,2,2.67,2,2350.9,2,2422.8,2,7.5227,2,-999,9,-999,9
49UP20130426,RF13-04,4725,1,10,22107,2,20130505,1013,36.9688,149.698,6021,3301.0,3251,1.5495,34.6653,2,34.6653,2,131.40,2,154.41,2,37.31,2,0.00,2,2.63,2,2340.6,2,2423.0,2,7.5353,2,-999,9,-999,9
49UP20130426,RF13-04,4725,1,9,22108,2,20130505,1007,36.9688,149.698,6021,3555.3,3500,1.5300,34.6703,2,34.6694,2,135.92,2,153.74,2,37.06,2,0.00,2,2.61,2,2337.8,2,2422.9,2,7.5460,2,-999,9,-999,9
49UP20130426,RF13-04,4725,1,8,22081,2,20130505,1001,36.9688,149.698,6021,3813.5,3752,1.5085,34.6755,2,34.6762,2,142.20,2,152.28,2,36.56,2,0.00,2,2.58,2,2327.3,2,2424.0,2,7.5556,2,-999,9,-999,9
49UP20130426,RF13-04,4725,1,7,22106,2,20130505,0956,36.9688,149.698,6021,4068.3,4000,1.5003,34.6791,2,34.6794,2,146.26,2,151.36,2,36.39,2,0.00,2,2.56,2,2332.7,2,2422.3,2,7.5614,2,-999,9,-999,9
49UP20130426,RF13-04,4725,1,6,22113,2,20130505,0950,36.9688,149.698,6021,4326.3,4251,1.4945,34.6825,2,-999.0000,9,150.68,6,150.40,6,36.12,6,0.00,6,2.53,6,2330.7,2,2421.5,2,7.5694,2,-999,9,-999,9
49UP20130426,RF13-04,4725,1,5,22094,2,20130505,0944,36.9688,149.698,6021,4584.0,4502,1.5002,34.6851,2,34.6854,6,153.94,2,149.38,2,35.89,2,0.00,2,2.51,2,2316.4,2,2422.6,2,7.5756,2,-999,9,-999,9
49UP20130426,RF13-04,4725,1,4,22077,2,20130505,0939,36.9688,149.698,6021,4838.7,4749,1.5147,34.6866,2,34.6869,2,156.32,2,148.20,2,35.68,2,0.00,2,2.50,2,2323.4,6,2419.5,6,7.5790,2,-999,9,-999,9
49UP20130426,RF13-04,4725,1,3,22104,2,20130505,0933,36.9688,149.698,6021,5097.0,5000,1.5291,34.6883,2,34.6892,2,158.91,2,146.60,2,35.53,2,0.00,2,2.48,2,2323.1,2,2418.6,2,7.5821,6,-999,9,-999,9
49UP20130426,RF13-04,4725,1,2,22075,2,20130505,0923,36.9688,149.698,6021,5614.9,5501,1.5752,34.6905,2,34.6915,2,162.12,2,144.53,2,35.23,2,0.00,2,2.47,2,2316.4,2,2416.2,2,7.5860,2,-999,9,-999,9
49UP20130426,RF13-04,4725,1,1,21997,2,20130505,0912,36.9688,149.698,6021,6131.0,6000,1.6350,34.6913,2,34.6927,2,164.08,2,142.79,2,35.09,2,0.00,2,2.46,2,2316.7,2,2418.2,2,7.5904,2,-999,9,-999,9
49UP20130426,RF13-04,4728,1,-999,0,2,20130514,0922,41.6633,141.677,621,0.0,0,5.2606,32.8168,2,-999.0000,9,335.62,2,-999.,9,-999.,9,-999.,9,-999.,9,-999.,9,-999.,9,-999.,9,-999,9,-999,9
49UP20130426,RF13-04,4728,1,30,22097,2,20130514,0931,41.6633,141.677,621,12.1,12,7.1906,33.3348,2,33.3167,4,306.09,2,-999.,9,-999.,9,-999.,9,-999.,9,-999.,9,-999.,9,-999.,9,-999,9,-999,9
49UP20130426,RF13-04,4728,1,29,22102,2,20130514,0930,41.6633,141.677,621,27.7,27,8.3871,33.5956,2,-999.0000,9,289.91,2,-999.,9,-999.,9,-999.,9,-999.,9,-999.,9,-999.,9,-999.,9,-999,9,-999,9
49UP20130426,RF13-04,4728,1,28,22091,2,20130514,0929,41.6633,141.677,621,53.1,53,9.0257,33.7861,2,-999.0000,9,279.78,2,-999.,9,-999.,9,-999.,9,-999.,9,-999.,9,-999.,9,-999.,9,-999,9,-999,9
49UP20130426,RF13-04,4728,1,27,21998,2,20130514,0928,41.6633,141.677,621,77.8,77,9.1743,33.8497,2,-999.0000,9,276.66,2,-999.,9,-999.,9,-999.,9,-999.,9,-999.,9,-999.,9,-999.,9,-999,9,-999,9
49UP20130426,RF13-04,4728,1,26,22084,2,20130514,0926,41.6633,141.677,621,103.7,103,9.0663,33.8487,2,33.8495,2,276.66,6,-999.,9,-999.,9,-999.,9,-999.,9,-999.,9,-999.,9,-999.,9,-999,9,-999,9
49UP20130426,RF13-04,4728,1,18,22101,2,20130514,0925,41.6633,141.677,621,128.9,128,8.8527,33.8567,2,-999.0000,9,276.77,2,-999.,9,-999.,9,-999.,9,-999.,9,-999.,9,-999.,9,-999.,9,-999,9,-999,9
49UP20130426,RF13-04,4728,1,17,22090,2,20130514,0924,41.6633,141.677,621,154.7,153,8.4145,33.7931,2,-999.0000,9,279.97,2,-999.,9,-999.,9,-999.,9,-999.,9,-999.,9,-999.,9,-999.,9,-999,9,-999,9
49UP20130426,RF13-04,4728,1,16,22089,2,20130514,0924,41.6633,141.677,621,154.7,153,8.4145,33.7931,2,-999.0000,9,279.76,2,-999.,9,-999.,9,-999.,9,-999.,9,-999.,9,-999.,9,-999.,9,-999,9,-999,9
49UP20130426,RF13-04,4728,1,15,22088,2,20130514,0923,41.6633,141.677,621,205.2,203,5.3708,33.4274,2,33.3500,4,292.65,2,-999.,9,-999.,9,-999.,9,-999.,9,-999.,9,-999.,9,-999.,9,-999,9,-999,9
49UP20130426,RF13-04,4728,1,14,21999,2,20130514,0921,41.6633,141.677,621,256.2,254,4.0902,33.3348,2,-999.0000,9,283.81,2,-999.,9,-999.,9,-999.,9,-999.,9,-999.,9,-999.,9,-999.,9,-999,9,-999,9
49UP20130426,RF13-04,4728,1,13,22667,3,20130514,0919,41.6633,141.677,621,306.9,304,3.9333,33.4927,2,-999.0000,9,254.52,2,-999.,9,-999.,9,-999.,9,-999.,9,-999.,9,-999.,9,-999.,9,-999,9,-999,9
49UP20130426,RF13-04,4728,1,5,22094,2,20130514,0917,41.6633,141.677,621,408.0,404,2.6543,33.5976,2,33.5961,6,171.06,2,-999.,9,-999.,9,-999.,9,-999.,9,-999.,9,-999.,9,-999.,9,-999,9,-999,9
49UP20130426,RF13-04,4728,1,4,22077,2,20130514,0914,41.6633,141.677,621,508.3,504,3.0664,33.8141,2,-999.0000,9,102.82,6,-999.,9,-999.,9,-999.,9,-999.,9,-999.,9,-999.,9,-999.,9,-999,9,-999,9
49UP20130426,RF13-04,4728,1,3,22104,2,20130514,0912,41.6633,141.677,621,598.2,593,3.4219,33.9941,2,33.9943,2,61.53,2,-999.,9,-999.,9,-999.,9,-999.,9,-999.,9,-999.,9,-999.,9,-999,9,-999,9
49UP20130426,RF13-04,4728,1,2,22075,2,20130514,0911,41.6633,141.677,621,598.4,593,3.4233,33.9951,2,-999.0000,9,61.43,2,-999.,9,-999.,9,-999.,9,-999.,9,-999.,9,-999.,9,-999.,9,-999,9,-999,9
49UP20130426,RF13-04,4728,1,1,21997,2,20130514,0911,41.6633,141.677,621,598.4,593,3.4233,33.9951,2,-999.0000,9,61.38,2,-999.,9,-999.,9,-999.,9,-999.,9,-999.,9,-999.,9,-999.,9,-999,9,-999,9
49UP20130426,RF13-04,4730,1,-999,0,2,20130514,1440,41.0037,141.9788,824,0.0,0,8.4953,33.6712,2,-999.0000,9,292.87,2,-999.,9,-999.,9,-999.,9,-999.,9,-999.,9,-999.,9,-999.,9,-999,9,-999,9
49UP20130426,RF13-04,4730,1,30,22097,2,20130514,1502,41.0037,141.9788,824,11.5,11,8.8829,33.7618,2,33.7696,4,283.56,2,-999.,9,-999.,9,-999.,9,-999.,9,-999.,9,-999.,9,-999.,9,-999,9,-999,9
49UP20130426,RF13-04,4730,1,29,22102,2,20130514,1500,41.0037,141.9788,824,26.5,26,9.0659,33.8143,2,-999.0000,9,280.58,2,-999.,9,-999.,9,-999.,9,-999.,9,-999.,9,-999.,9,-999.,9,-999,9,-999,9
49UP20130426,RF13-04,4730,1,28,22091,2,20130514,1457,41.0037,141.9788,824,49.4,49,8.9796,33.8031,2,-999.0000,9,280.21,2,-999.,9,-999.,9,-999.,9,-999.,9,-999.,9,-999.,9,-999.,9,-999,9,-999,9
49UP20130426,RF13-04,4730,1,27,21998,2,20130514,1455,41.0037,141.9788,824,75.5,75,8.9722,33.8027,2,-999.0000,9,280.23,6,-999.,9,-999.,9,-999.,9,-999.,9,-999.,9,-999.,9,-999.,9,-999,9,-999,9
49UP20130426,RF13-04,4730,1,26,22084,2,20130514,1454,41.0037,141.9788,824,100.1,99,9.0717,33.8422,2,33.8426,6,277.11,2,-999.,9,-999.,9,-999.,9,-999.,9,-999.,9,-999.,9,-999.,9,-999,9,-999,9
49UP20130426,RF13-04,4730,1,20,22093,2,20130514,1452,41.0037,141.9788,824,126.2,125,8.6795,33.7844,2,-999.0000,9,280.51,2,-999.,9,-999.,9,-999.,9,-999.,9,-999.,9,-999.,9,-999.,9,-999,9,-999,9
49UP20130426,RF13-04,4730,1,19,22092,2,20130514,1451,41.0037,141.9788,824,150.2,149,8.6475,33.7981,2,-999.0000,9,279.72,2,-999.,9,-999.,9,-999.,9,-999.,9,-999.,9,-999.,9,-999.,9,-999,9,-999,9
49UP20130426,RF13-04,4730,1,18,22101,2,20130514,1448,41.0037,141.9788,824,202.5,201,8.5805,33.8251,2,33.8247,2,278.17,2,-999.,9,-999.,9,-999.,9,-999.,9,-999.,9,-999.,9,-999.,9,-999,9,-999,9
49UP20130426,RF13-04,4730,1,17,22090,2,20130514,1448,41.0037,141.9788,824,202.5,201,8.5805,33.8251,2,33.8249,2,278.02,2,-999.,9,-999.,9,-999.,9,-999.,9,-999.,9,-999.,9,-999.,9,-999,9,-999,9
49UP20130426,RF13-04,4730,1,16,22089,2,20130514,1446,41.0037,141.9788,824,251.5,249,8.4324,33.8629,2,-999.0000,9,277.22,2,-999.,9,-999.,9,-999.,9,-999.,9,-999.,9,-999.,9,-999.,9,-999,9,-999,9
49UP20130426,RF13-04,4730,1,15,22088,2,20130514,1444,41.0037,141.9788,824,302.1,300,7.1272,33.7549,2,-999.0000,9,270.93,2,-999.,9,-999.,9,-999.,9,-999.,9,-999.,9,-999.,9,-999.,9,-999,9,-999,9
49UP20130426,RF13-04,4730,1,14,21999,2,20130514,1441,41.0037,141.9788,824,403.6,400,1.1231,33.2167,2,33.2177,2,290.33,6,-999.,9,-999.,9,-999.,9,-999.,9,-999.,9,-999.,9,-999.,9,-999,9,-999,9
49UP20130426,RF13-04,4730,1,13,22667,3,20130514,1438,41.0037,141.9788,824,506.7,502,2.0021,33.4639,2,-999.0000,9,209.35,6,-999.,9,-999.,9,-999.,9,-999.,9,-999.,9,-999.,9,-999.,9,-999,9,-999,9
49UP20130426,RF13-04,4730,1,5,22094,2,20130514,1435,41.0037,141.9788,824,607.8,602,2.2768,33.5687,2,33.5668,2,172.01,2,-999.,9,-999.,9,-999.,9,-999.,9,-999.,9,-999.,9,-999.,9,-999,9,-999,9
49UP20130426,RF13-04,4730,1,4,22077,2,20130514,1432,41.0037,141.9788,824,707.9,701,3.2606,33.9748,2,-999.0000,9,69.09,2,-999.,9,-999.,9,-999.,9,-999.,9,-999.,9,-999.,9,-999.,9,-999,9,-999,9
49UP20130426,RF13-04,4730,1,3,22104,2,20130514,1429,41.0037,141.9788,824,814.1,806,3.3012,34.2348,2,34.2339,2,32.20,2,-999.,9,-999.,9,-999.,9,-999.,9,-999.,9,-999.,9,-999.,9,-999,9,-999,9
49UP20130426,RF13-04,4730,1,2,22075,2,20130514,1429,41.0037,141.9788,824,814.1,806,3.3012,34.2348,2,34.2340,2,33.02,2,-999.,9,-999.,9,-999.,9,-999.,9,-999.,9,-999.,9,-999.,9,-999,9,-999,9
49UP20130426,RF13-04,4730,1,1,21997,2,20130514,1429,41.0037,141.9788,824,814.5,807,3.3019,34.2346,2,-999.0000,9,32.62,2,-999.,9,-999.,9,-999.,9,-999.,9,-999.,9,-999.,9,-999.,9,-999,9,-999,9