BOTTLE,20171119JMAGEMD
EXPOCODE,SECT_ID,STNNBR,CASTNO,SAMPNO,BTLNBR,BTLNBR_FLAG_W,DATE,TIME,LATITUDE,LONGITUDE,DEPTH,CTDPRS,CTDDEP,CTDTMP,CTDSAL,CTDSAL_FLAG_W,SALNTY,SALNTY_FLAG_W,OXYGEN,OXYGEN_FLAG_W,SILCAT,SILCAT_FLAG_W,NO2+NO3,NO2+NO3_FLAG_W,NITRIT,NITRIT_FLAG_W,PHSPHT,PHSPHT_FLAG_W,TCARBN,TCARBN_FLAG_W,ALKALI,ALKALI_FLAG_W,PH_TOT,PH_TOT_FLAG_W,CFC-11,CFC-11_FLAG_W,CFC-12,CFC-12_FLAG_W
,,,,,,,UTC,UTC,,,METER,DBAR,METERS,ITS-90,PSS-78,,PSS-78,,UMOL/KG,,UMOL/KG,,UMOL/KG,,UMOL/KG,,UMOL/KG,,UMOL/KG,,UMOL/KG,,@25DEG-C,,PMOL/KG,,PMOL/KG,
49UP20130426,RF13-04,4691,1,-999,0,2,20130427,0436,34.9423,140.2342,2122,0.0,0,16.5521,34.5623,2,-999.0000,9,236.57,2,8.01,2,4.21,2,0.14,2,0.38,2,-999.,9,-999.,9,-999.,9,-999,9,-999,9
49UP20130426,RF13-04,4691,1,36,22109,2,20130427,0450,34.9423,140.2342,2122,11.5,11,16.5172,34.5603,2,34.5603,2,234.43,2,8.01,2,4.31,2,0.15,2,0.37,2,-999.,9,-999.,9,-999.,9,-999,9,-999,9
49UP20130426,RF13-04,4691,1,35,22112,2,20130427,0449,34.9423,140.2342,2122,25.3,25,16.0913,34.5468,2,-999.0000,9,216.91,2,9.13,2,5.91,2,0.20,2,0.48,2,-999.,9,-999.,9,-999.,9,-999,9,-999,9
49UP20130426,RF13-04,4691,1,34,22083,2,20130427,0447,34.9423,140.2342,2122,54.0,54,14.0053,34.4952,2,-999.0000,9,180.21,2,18.31,2,12.48,2,0.06,2,0.91,2,-999.,9,-999.,9,-999.,9,-999,9,-999,9
49UP20130426,RF13-04,4691,1,30,22097,2,20130427,0445,34.9423,140.2342,2122,77.8,77,12.7895,34.4362,2,-999.0000,9,165.98,2,24.49,2,15.65,2,0.01,2,1.14,2,-999.,9,-999.,9,-999.,9,-999,9,-999,9
49UP20130426,RF13-04,4691,1,29,22102,2,20130427,0442,34.9423,140.2342,2122,102.4,102,12.1880,34.4107,2,34.4082,2,162.41,2,26.96,2,16.96,2,0.00,2,1.24,2,-999.,9,-999.,9,-999.,9,-999,9,-999,9
49UP20130426,RF13-04,4691,1,28,22091,2,20130427,0441,34.9423,140.2342,2122,126.8,126,11.6379,34.3869,2,-999.0000,9,158.85,6,29.91,6,18.12,6,0.00,6,1.33,6,-999.,9,-999.,9,-999.,9,-999,9,-999,9
49UP20130426,RF13-04,4691,1,27,21998,2,20130427,0440,34.9423,140.2342,2122,151.4,150,11.1875,34.3681,2,-999.0000,9,155.61,2,32.36,2,19.11,2,0.00,2,1.40,2,-999.,9,-999.,9,-999.,9,-999,9,-999,9
49UP20130426,RF13-04,4691,1,26,22084,2,20130427,0438,34.9423,140.2342,2122,203.1,202,10.5536,34.3381,2,34.3389,2,150.29,2,36.19,2,20.67,2,0.00,2,1.51,2,-999.,9,-999.,9,-999.,9,-999,9,-999,9
49UP20130426,RF13-04,4691,1,25,22098,2,20130427,0436,34.9423,140.2342,2122,254.9,253,10.2590,34.3320,2,-999.0000,9,146.57,2,38.95,2,21.53,2,0.00,2,1.57,2,-999.,9,-999.,9,-999.,9,-999,9,-999,9
49UP20130426,RF13-04,4691,1,24,22110,2,20130427,0435,34.9423,140.2342,2122,303.5,301,9.1859,34.3028,2,-999.0000,9,133.25,2,48.47,2,24.54,2,0.00,2,1.80,2,-999.,9,-999.,9,-999.,9,-999,9,-999,9
49UP20130426,RF13-04,4691,1,23,22096,2,20130427,0432,34.9423,140.2342,2122,405.7,402,8.1223,34.2778,2,34.2795,2,120.90,2,58.41,2,27.40,2,0.00,2,2.01,2,-999.,9,-999.,9,-999.,9,-999,9,-999,9
49UP20130426,RF13-04,4691,1,22,22111,2,20130427,0432,34.9423,140.2342,2122,405.7,402,8.1223,34.2778,2,34.2779,2,120.78,2,58.40,2,27.40,2,0.00,2,2.01,2,-999.,9,-999.,9,-999.,9,-999,9,-999,9
49UP20130426,RF13-04,4691,1,21,22078,2,20130427,0430,34.9423,140.2342,2122,507.9,504,5.8771,34.2580,2,-999.0000,9,92.03,2,82.27,2,33.69,2,0.00,2,2.45,2,-999.,9,-999.,9,-999.,9,-999,9,-999,9
49UP20130426,RF13-04,4691,1,20,22093,2,20130427,0427,34.9423,140.2342,2122,609.7,604,4.5574,34.3140,2,34.3127,2,70.51,2,103.61,2,37.67,2,0.00,2,2.74,2,-999.,9,-999.,9,-999.,9,-999,9,-999,9
49UP20130426,RF13-04,4691,1,19,22092,2,20130427,0424,34.9423,140.2342,2122,707.3,701,4.1806,34.3435,2,-999.0000,9,66.25,2,111.02,2,38.59,2,0.00,2,2.80,2,-999.,9,-999.,9,-999.,9,-999,9,-999,9
49UP20130426,RF13-04,4691,1,14,21999,2,20130427,0422,34.9423,140.2342,2122,807.0,800,3.8143,34.3728,2,34.3726,2,62.39,2,118.08,2,39.43,2,0.00,2,2.85,2,-999.,9,-999.,9,-999.,9,-999,9,-999,9
49UP20130426,RF13-04,4691,1,13,22667,2,20130427,0419,34.9423,140.2342,2122,910.0,901,3.5645,34.3944,2,-999.0000,9,60.59,2,123.92,2,39.91,2,0.00,2,2.89,2,-999.,9,-999.,9,-999.,9,-999,9,-999,9
49UP20130426,RF13-04,4691,1,12,22074,2,20130427,0417,34.9423,140.2342,2122,1011.7,1002,3.3194,34.4133,2,34.4131,2,57.29,6,129.38,6,40.50,6,0.00,6,2.93,6,-999.,9,-999.,9,-999.,9,-999,9,-999,9
49UP20130426,RF13-04,4691,1,11,21996,2,20130427,0412,34.9423,140.2342,2122,1214.9,1203,2.6858,34.4722,2,34.4712,2,49.94,2,145.90,2,41.79,2,0.00,2,3.00,2,-999.,9,-999.,9,-999.,9,-999,9,-999,9
49UP20130426,RF13-04,4691,1,10,22107,2,20130427,0408,34.9423,140.2342,2122,1416.5,1402,2.3487,34.5223,2,34.5218,6,56.06,2,154.02,2,41.72,2,0.00,2,2.99,2,-999.,9,-999.,9,-999.,9,-999,9,-999,9
49UP20130426,RF13-04,4691,1,9,22108,2,20130427,0403,34.9423,140.2342,2122,1619.8,1602,2.1001,34.5647,2,34.5661,2,71.46,2,156.36,2,40.87,2,0.00,2,2.92,2,-999.,9,-999.,9,-999.,9,-999,9,-999,9
49UP20130426,RF13-04,4691,1,8,22081,2,20130427,0359,34.9423,140.2342,2122,1822.1,1801,1.9830,34.5855,2,34.5874,2,79.02,2,157.72,2,40.44,2,0.00,2,2.89,2,-999.,9,-999.,9,-999.,9,-999,9,-999,9
49UP20130426,RF13-04,4691,1,7,22106,2,20130427,0354,34.9423,140.2342,2122,2026.8,2002,1.9484,34.5934,2,34.5957,4,83.21,2,157.62,2,40.23,2,0.00,2,2.87,2,-999.,9,-999.,9,-999.,9,-999,9,-999,9
49UP20130426,RF13-04,4691,1,6,22113,2,20130427,0354,34.9423,140.2342,2122,2026.8,2002,1.9484,34.5934,2,34.5933,2,83.65,2,157.91,2,40.28,2,0.00,2,2.90,2,-999.,9,-999.,9,-999.,9,-999,9,-999,9
49UP20130426,RF13-04,4694,1,-999,0,2,20130427,1615,34.219,141.041,4437,0.0,0,20.0581,34.7408,2,-999.,9,225.42,2,2.04,2,0.37,2,0.01,2,0.10,2,-999.,9,-999.,9,-999.,9,-999,9,-999,9
49UP20130426,RF13-04,4694,1,36,22109,2,20130427,1643,34.219,141.041,4437,10.1,10,20.0622,34.7407,2,-999.,9,224.08,2,2.04,2,0.38,2,0.01,2,0.08,2,-999.,9,-999.,9,-999.,9,-999,9,-999,9
49UP20130426,RF13-04,4694,1,35,22112,2,20130427,1642,34.219,141.041,4437,27.2,27,20.0681,34.7403,2,-999.,9,224.23,2,2.08,2,0.42,2,0.01,2,0.08,2,-999.,9,-999.,9,-999.,9,-999,9,-999,9
49UP20130426,RF13-04,4694,1,34,22083,2,20130427,1640,34.219,141.041,4437,52.0,52,19.4858,34.7269,2,-999.,9,213.44,2,3.10,2,1.90,2,0.04,2,0.17,2,-999.,9,-999.,9,-999.,9,-999,9,-999,9
49UP20130426,RF13-04,4694,1,30,22097,2,20130427,1638,34.219,141.041,4437,77.2,77,18.5979,34.7168,2,-999.,9,207.22,2,4.58,2,3.42,2,0.04,2,0.26,2,-999.,9,-999.,9,-999.,9,-999,9,-999,9
49UP20130426,RF13-04,4694,1,29,22102,2,20130427,1637,34.219,141.041,4437,103.2,102,18.1269,34.7193,2,-999.,9,206.00,6,4.86,6,3.94,6,0.02,6,0.29,6,-999.,9,-999.,9,-999.,9,-999,9,-999,9
49UP20130426,RF13-04,4694,1,28,22091,2,20130427,1635,34.219,141.041,4437,129.7,129,17.8701,34.7130,2,-999.,9,204.20,2,5.17,2,4.36,2,0.02,2,0.32,2,-999.,9,-999.,9,-999.,9,-999,9,-999,9
49UP20130426,RF13-04,4694,1,27,21998,2,20130427,1633,34.219,141.041,4437,155.3,154,17.5300,34.7095,2,-999.,9,202.37,2,5.12,2,4.79,2,0.00,2,0.34,2,-999.,9,-999.,9,-999.,9,-999,9,-999,9
49UP20130426,RF13-04,4694,1,26,22084,2,20130427,1629,34.219,141.041,4437,200.3,199,16.8015,34.6701,2,-999.,9,195.55,2,7.55,2,6.59,2,0.00,2,0.47,2,-999.,9,-999.,9,-999.,9,-999,9,-999,9
49UP20130426,RF13-04,4694,1,25,22098,2,20130427,1627,34.219,141.041,4437,252.9,251,15.8229,34.6085,2,-999.,9,186.03,2,10.05,2,8.99,2,0.00,2,0.65,2,-999.,9,-999.,9,-999.,9,-999,9,-999,9
49UP20130426,RF13-04,4694,1,24,22110,2,20130427,1626,34.219,141.041,4437,302.4,300,14.7099,34.5466,2,-999.,9,179.19,2,14.15,2,11.20,2,0.00,2,0.81,2,-999.,9,-999.,9,-999.,9,-999,9,-999,9
49UP20130426,RF13-04,4694,1,23,22096,2,20130427,1626,34.219,141.041,4437,302.4,300,14.7099,34.5466,2,-999.,9,179.18,2,14.08,2,11.26,2,0.00,2,0.81,2,-999.,9,-999.,9,-999.,9,-999,9,-999,9
49UP20130426,RF13-04,4694,1,22,22111,2,20130427,1623,34.219,141.041,4437,406.1,403,13.7115,34.4890,2,-999.,9,173.60,2,18.13,2,13.35,2,0.00,2,0.97,2,-999.,9,-999.,9,-999.,9,-999,9,-999,9
49UP20130426,RF13-04,4694,1,21,22078,2,20130427,1620,34.219,141.041,4437,506.9,503,11.0439,34.3474,2,-999.,9,157.70,2,31.34,2,18.94,2,0.00,2,1.38,2,-999.,9,-999.,9,-999.,9,-999,9,-999,9
49UP20130426,RF13-04,4694,1,20,22093,2,20130427,1617,34.219,141.041,4437,605.2,600,7.7214,34.2583,2,-999.,9,119.38,2,60.82,2,28.13,2,0.00,2,2.06,2,-999.,9,-999.,9,-999.,9,-999,9,-999,9
49UP20130426,RF13-04,4694,1,19,22092,2,20130427,1614,34.219,141.041,4437,708.7,702,6.5042,34.2601,2,-999.,9,100.11,2,74.86,2,32.00,2,0.00,2,2.34,2,-999.,9,-999.,9,-999.,9,-999,9,-999,9
49UP20130426,RF13-04,4694,1,14,21999,2,20130427,1611,34.219,141.041,4437,809.9,803,5.3808,34.2514,2,-999.,9,84.37,2,89.06,2,35.38,2,0.00,2,2.57,2,-999.,9,-999.,9,-999.,9,-999,9,-999,9
49UP20130426,RF13-04,4694,1,13,22667,3,20130427,1608,34.219,141.041,4437,911.3,903,4.3788,34.3365,2,-999.,9,68.21,6,107.26,6,38.22,6,0.00,6,2.78,6,-999.,9,-999.,9,-999.,9,-999,9,-999,9
49UP20130426,RF13-04,4694,1,12,22074,2,20130427,1605,34.219,141.041,4437,1012.2,1003,3.9050,34.3732,2,-999.,9,64.80,2,116.96,2,39.30,2,0.00,2,2.84,2,-999.,9,-999.,9,-999.,9,-999,9,-999,9
49UP20130426,RF13-04,4694,1,11,21996,3,20130427,1559,34.219,141.041,4437,1214.1,1202,3.3055,34.4215,2,-999.,9,60.59,2,130.07,2,40.41,2,0.00,2,2.92,2,-999.,9,-999.,9,-999.,9,-999,9,-999,9
49UP20130426,RF13-04,4694,1,10,22107,2,20130427,1551,34.219,141.041,4437,1418.0,1403,2.7164,34.4700,2,-999.,9,49.63,2,146.32,2,42.04,2,0.00,2,3.01,2,-999.,9,-999.,9,-999.,9,-999,9,-999,9
49UP20130426,RF13-04,4694,1,9,22108,2,20130427,1544,34.219,141.041,4437,1621.3,1603,2.3717,34.5198,2,-999.,9,52.88,2,155.89,2,42.03,2,0.00,2,3.01,2,-999.,9,-999.,9,-999.,9,-999,9,-999,9
49UP20130426,RF13-04,4694,1,8,22081,2,20130427,1539,34.219,141.041,4437,1824.3,1803,2.1590,34.5608,2,-999.,9,63.21,2,159.38,2,41.61,2,0.00,2,2.97,2,-999.,9,-999.,9,-999.,9,-999,9,-999,9
49UP20130426,RF13-04,4694,1,7,22106,2,20130427,1538,34.219,141.041,4437,1824.3,1803,2.1590,34.5608,2,-999.,9,62.82,2,159.08,2,41.63,2,0.00,2,2.97,2,-999.,9,-999.,9,-999.,9,-999,9,-999,9
49UP20130426,RF13-04,4694,1,6,22113,2,20130427,1534,34.219,141.041,4437,2027.9,2004,1.9961,34.5873,2,-999.,9,77.63,2,159.68,2,40.81,2,0.00,2,2.90,2,-999.,9,-999.,9,-999.,9,-999,9,-999,9
49UP20130426,RF13-04,4696,1,-999,0,2,20130427,0020,33.4995,141.5002,5812,0.0,0,19.6920,34.7550,2,34.7635,2,229.71,2,1.72,2,0.03,2,0.00,2,0.20,4,1962.9,2,2288.1,2,8.0346,2,-999,9,-999,9
49UP20130426,RF13-04,4696,1,36,22109,2,20130427,0055,33.4995,141.5002,5812,11.0,11,19.5664,34.7551,2,34.7543,2,230.17,2,1.51,2,0.00,2,0.00,2,0.14,4,1961.7,2,2285.9,2,8.0398,2,-999,9,-999,9
49UP20130426,RF13-04,4696,1,35,22112,2,20130427,0053,33.4995,141.5002,5812,25.8,26,18.7774,34.7644,2,-999.0000,9,232.97,2,1.81,2,0.19,2,0.07,2,0.15,4,1971.9,2,2284.2,2,8.0257,2,-999,9,-999,9
49UP20130426,RF13-04,4696,1,34,22083,2,20130427,0042,33.4995,141.5002,5812,52.2,52,18.7578,34.7626,2,-999.0000,9,232.17,2,1.58,2,0.16,2,0.08,2,0.15,4,1978.7,2,2290.2,2,8.0226,2,-999,9,-999,9
49UP20130426,RF13-04,4696,1,30,22097,2,20130427,0040,33.4995,141.5002,5812,76.5,76,18.7453,34.7610,2,-999.0000,9,231.64,6,1.83,6,0.26,6,0.09,6,0.15,4,1998.1,2,2284.9,2,8.0243,2,-999,9,-999,9
49UP20130426,RF13-04,4696,1,29,22102,2,20130427,0037,33.4995,141.5002,5812,100.1,99,18.6948,34.7618,2,34.7620,6,223.79,2,2.19,2,1.16,2,0.08,2,0.20,4,2003.2,2,2287.2,2,8.0125,2,-999,9,-999,9
49UP20130426,RF13-04,4696,1,28,22091,2,20130427,0035,33.4995,141.5002,5812,124.2,123,18.5050,34.7668,2,-999.0000,9,217.80,2,2.62,2,1.97,2,0.03,2,0.23,4,2011.1,2,2287.6,2,7.9984,2,-999,9,-999,9
49UP20130426,RF13-04,4696,1,27,21998,2,20130427,0033,33.4995,141.5002,5812,151.2,150,18.3432,34.7625,2,-999.0000,9,213.08,2,3.09,2,2.71,2,0.02,2,0.27,4,1990.6,2,2284.7,2,7.9863,2,-999,9,-999,9
49UP20130426,RF13-04,4696,1,26,22084,2,20130427,0031,33.4995,141.5002,5812,201.3,200,18.0023,34.7589,2,34.7611,2,220.44,2,2.89,2,2.49,2,0.02,2,0.28,4,1986.5,2,2286.0,2,7.9898,2,-999,9,-999,9
49UP20130426,RF13-04,4696,1,25,22098,2,20130427,0028,33.4995,141.5002,5812,251.7,250,17.5448,34.7352,2,-999.0000,9,216.07,2,3.74,2,3.52,2,0.01,2,0.32,4,1994.0,2,2283.9,2,7.9717,2,-999,9,-999,9
49UP20130426,RF13-04,4696,1,24,22110,2,20130427,0028,33.4995,141.5002,5812,251.7,250,17.5448,34.7352,2,-999.0000,9,216.13,2,3.69,2,3.49,2,0.01,2,0.33,4,1996.7,2,2283.9,2,7.9729,2,-999,9,-999,9
49UP20130426,RF13-04,4696,1,23,22096,2,20130427,0026,33.4995,141.5002,5812,303.5,301,17.3063,34.7221,2,-999.0000,9,217.75,2,3.93,2,3.66,2,0.01,2,0.33,4,2023.4,2,2285.0,2,7.9702,2,-999,9,-999,9
49UP20130426,RF13-04,4696,1,22,22111,2,20130427,0023,33.4995,141.5002,5812,406.0,403,15.9324,34.6213,2,34.6215,2,192.12,2,8.92,2,8.21,2,0.01,2,0.64,4,2043.1,6,2279.6,6,7.8981,2,-999,9,-999,9
49UP20130426,RF13-04,4696,1,21,22078,2,20130427,0020,33.4995,141.5002,5812,505.1,501,12.9826,34.4323,2,-999.0000,9,176.56,2,18.80,2,14.26,2,0.00,2,1.07,4,2069.9,2,2278.6,2,7.7997,6,-999,9,-999,9
49UP20130426,RF13-04,4696,1,20,22093,2,20130427,0017,33.4995,141.5002,5812,605.4,600,9.9522,34.3059,2,34.3055,2,145.42,2,39.93,2,22.22,2,0.00,2,1.66,4,2160.0,2,2291.8,2,7.6753,2,-999,9,-999,9
49UP20130426,RF13-04,4696,1,19,22092,2,20130427,0014,33.4995,141.5002,5812,707.8,702,8.4946,34.2658,2,-999.0000,9,128.38,2,52.49,2,26.29,2,0.00,2,1.96,4,2174.0,2,2300.0,2,7.6138,2,-999,9,-999,9
49UP20130426,RF13-04,4696,1,14,21999,2,20130427,0011,33.4995,141.5002,5812,808.9,802,6.3758,34.2377,2,34.2376,2,100.80,6,75.30,6,32.33,6,0.00,6,2.39,4,2219.2,2,2318.7,2,7.5127,2,-999,9,-999,9
49UP20130426,RF13-04,4696,1,13,22667,2,20130427,0008,33.4995,141.5002,5812,910.9,902,4.9639,34.2943,2,-999.0000,9,77.43,2,97.04,2,36.67,2,0.00,2,2.68,4,2293.2,2,2345.6,2,7.4531,2,-999,9,-999,9
49UP20130426,RF13-04,4696,1,12,22074,2,20130427,0005,33.4995,141.5002,5812,1010.8,1001,4.1941,34.3499,2,34.3493,2,66.82,2,111.87,2,38.71,2,0.00,2,2.82,4,2293.9,6,2358.6,6,7.4265,2,-999,9,-999,9
49UP20130426,RF13-04,4696,1,11,21996,4,20130427,0000,33.4995,141.5002,5812,1212.5,1200,3.3985,34.4015,2,34.3048,4,74.56,4,100.08,4,37.15,4,0.00,4,2.72,4,2298.5,4,2351.5,4,7.4443,4,-999,9,-999,9
49UP20130426,RF13-04,4696,1,10,22107,2,20130427,2354,33.4995,141.5002,5812,1415.6,1401,2.7720,34.4630,2,34.4639,2,48.31,2,145.05,2,42.13,2,0.00,2,3.04,4,2369.5,2,2388.9,2,7.3814,2,-999,9,-999,9
49UP20130426,RF13-04,4696,1,9,22108,2,20130427,2349,33.4995,141.5002,5812,1618.3,1601,2.3985,34.5176,2,34.5177,2,50.78,2,154.94,2,42.27,2,0.00,2,3.04,4,2380.8,2,2401.4,2,7.3856,2,-999,9,-999,9
49UP20130426,RF13-04,4696,1,8,22081,2,20130427,2349,33.4995,141.5002,5812,1618.3,1601,2.3985,34.5176,2,34.5189,2,50.40,2,154.91,2,42.44,2,0.00,2,3.05,4,2380.5,2,2401.2,2,7.3848,2,-999,9,-999,9
49UP20130426,RF13-04,4696,1,7,22106,2,20130427,2344,33.4995,141.5002,5812,1821.0,1800,2.1917,34.5538,2,34.5554,2,59.11,2,159.24,2,41.93,2,0.00,2,2.99,4,2382.3,2,2408.5,2,7.4038,2,-999,9,-999,9
49UP20130426,RF13-04,4696,1,6,22113,2,20130427,2339,33.4995,141.5002,5812,2024.3,2000,1.9976,34.5892,2,34.5906,2,76.61,2,160.39,2,40.89,2,0.00,2,2.93,4,2371.4,2,2413.4,2,7.4442,2,-999,9,-999,9