BOTTLE,20171119JMAGEMD
EXPOCODE,SECT_ID,STNNBR,CASTNO,SAMPNO,BTLNBR,BTLNBR_FLAG_W,DATE,TIME,LATITUDE,LONGITUDE,DEPTH,CTDPRS,CTDDEP,CTDTMP,CTDSAL,CTDSAL_FLAG_W,SALNTY,SALNTY_FLAG_W,OXYGEN,OXYGEN_FLAG_W,SILCAT,SILCAT_FLAG_W,NO2+NO3,NO2+NO3_FLAG_W,NITRIT,NITRIT_FLAG_W,PHSPHT,PHSPHT_FLAG_W,TCARBN,TCARBN_FLAG_W,ALKALI,ALKALI_FLAG_W,PH_TOT,PH_TOT_FLAG_W,CFC-11,CFC-11_FLAG_W,CFC-12,CFC-12_FLAG_W
,,,,,,,UTC,UTC,,,METER,DBAR,METERS,ITS-90,PSS-78,,PSS-78,,UMOL/KG,,UMOL/KG,,UMOL/KG,,UMOL/KG,,UMOL/KG,,UMOL/KG,,UMOL/KG,,@25DEG-C,,PMOL/KG,,PMOL/KG,
49UP20130426,RF13-04,4711,1,-999,0,2,20130502,1218,30.0135,147.4735,6210,0.0,0,19.6157,34.7847,2,34.7899,2,232.18,2,2.13,2,0.02,2,0.00,2,0.04,2,1999.7,2,2283.1,2,8.0171,2,-999,9,-999,9
49UP20130426,RF13-04,4711,1,36,22109,2,20130502,1248,30.0135,147.4735,6210,10.7,11,19.6174,34.7846,2,34.7840,2,230.88,2,2.02,2,0.01,2,0.01,2,0.04,2,2010.1,2,2283.7,2,8.0179,2,-999,9,-999,9
49UP20130426,RF13-04,4711,1,35,22112,2,20130502,1247,30.0135,147.4735,6210,26.9,27,19.5920,34.7829,2,-999.0000,9,232.38,2,2.07,2,0.06,2,0.01,2,0.04,2,2000.3,2,2285.1,2,8.0186,2,-999,9,-999,9
49UP20130426,RF13-04,4711,1,34,22083,2,20130502,1245,30.0135,147.4735,6210,51.7,51,18.9163,34.7745,2,-999.0000,9,235.80,2,2.11,2,0.03,2,0.00,2,0.04,2,1999.3,2,2284.9,2,8.0160,2,-999,9,-999,9
49UP20130426,RF13-04,4711,1,33,22086,2,20130502,1243,30.0135,147.4735,6210,77.4,77,18.0739,34.7515,2,-999.0000,9,232.26,2,2.44,2,0.77,2,0.25,2,0.09,2,2010.7,2,2281.6,2,7.9996,2,-999,9,-999,9
49UP20130426,RF13-04,4711,1,32,22105,2,20130502,1242,30.0135,147.4735,6210,103.0,102,17.5985,34.7332,2,34.7363,2,226.09,2,2.87,2,2.29,2,0.08,2,0.18,2,2030.4,2,2282.2,2,7.9847,2,-999,9,-999,9
49UP20130426,RF13-04,4711,1,31,22076,4,20130502,1240,30.0135,147.4735,6210,126.9,126,17.4083,34.7183,2,-999.0000,9,-999.00,9,-999.00,9,-999.00,9,-999.00,9,-999.000,9,-999.0,9,-999.0,9,-999.0000,9,-999,9,-999,9
49UP20130426,RF13-04,4711,1,30,22097,2,20130502,1238,30.0135,147.4735,6210,153.9,153,17.2782,34.7130,2,-999.0000,9,221.79,2,3.53,2,3.39,2,0.03,2,0.24,2,2029.4,2,2279.0,2,7.9694,2,-999,9,-999,9
49UP20130426,RF13-04,4711,1,29,22102,2,20130502,1234,30.0135,147.4735,6210,203.6,202,16.9544,34.6973,2,34.6971,2,219.18,6,3.90,6,4.14,6,0.02,6,0.29,6,2032.1,2,2279.5,2,7.9587,2,-999,9,-999,9
49UP20130426,RF13-04,4711,1,28,22091,2,20130502,1232,30.0135,147.4735,6210,252.4,251,16.7090,34.6844,2,-999.0000,9,219.60,2,4.40,2,4.54,2,0.02,2,0.31,2,2034.0,2,2277.5,2,7.9553,2,-999,9,-999,9
49UP20130426,RF13-04,4711,1,27,21998,2,20130502,1231,30.0135,147.4735,6210,302.5,300,16.3417,34.6502,2,-999.0000,9,208.99,2,5.81,2,6.07,2,0.01,2,0.42,2,2045.9,2,2276.1,2,7.9331,2,-999,9,-999,9
49UP20130426,RF13-04,4711,1,26,22084,2,20130502,1228,30.0135,147.4735,6210,403.7,401,14.4196,34.5147,2,34.5156,2,191.62,2,12.18,2,10.71,2,0.01,2,0.74,2,2080.3,2,2277.6,2,7.8565,2,-999,9,-999,9
49UP20130426,RF13-04,4711,1,25,22098,2,20130502,1225,30.0135,147.4735,6210,503.9,500,11.5291,34.3205,2,-999.0000,9,184.30,2,22.42,2,16.01,2,0.01,2,1.14,2,2119.7,2,2281.2,2,7.7670,2,-999,9,-999,9
49UP20130426,RF13-04,4711,1,24,22110,2,20130502,1222,30.0135,147.4735,6210,605.0,600,8.5038,34.1066,2,34.1113,4,177.09,2,37.17,2,21.81,2,0.01,2,1.59,2,2161.9,2,2280.8,2,7.6693,2,-999,9,-999,9
49UP20130426,RF13-04,4711,1,23,22096,2,20130502,1220,30.0135,147.4735,6210,706.9,701,6.1543,34.0104,2,-999.0000,9,137.83,2,60.42,2,29.98,2,0.01,2,2.19,2,2219.5,2,2292.0,2,7.5352,2,-999,9,-999,9
49UP20130426,RF13-04,4711,1,22,22111,2,20130502,1217,30.0135,147.4735,6210,807.8,801,4.9687,34.0732,2,34.0722,2,94.01,2,82.25,2,35.70,2,0.01,2,2.60,2,2279.6,6,2311.2,6,7.4387,2,-999,9,-999,9
49UP20130426,RF13-04,4711,1,21,22078,2,20130502,1214,30.0135,147.4735,6210,908.5,900,4.3165,34.1849,2,-999.0000,9,60.52,2,102.13,2,39.43,2,0.00,2,2.85,2,2340.3,2,2350.4,2,7.3768,6,-999,9,-999,9
49UP20130426,RF13-04,4711,1,20,22093,2,20130502,1211,30.0135,147.4735,6210,1008.5,999,3.8395,34.2772,2,34.2791,2,42.46,2,115.98,2,41.54,2,0.00,2,3.00,2,2320.4,2,2332.3,2,7.3529,2,-999,9,-999,9
49UP20130426,RF13-04,4711,1,19,22092,2,20130502,1206,30.0135,147.4735,6210,1211.9,1200,3.2219,34.3907,2,34.3902,6,37.60,2,133.41,2,42.54,2,0.01,2,3.06,2,2371.3,2,2374.1,2,7.3531,2,-999,9,-999,9
49UP20130426,RF13-04,4711,1,18,22101,2,20130502,1202,30.0135,147.4735,6210,1415.2,1401,2.7840,34.4709,2,34.4721,2,44.93,6,145.05,6,42.65,6,0.00,6,3.05,6,2381.9,2,2390.3,2,7.3668,2,-999,9,-999,9
49UP20130426,RF13-04,4711,1,17,22090,2,20130502,1158,30.0135,147.4735,6210,1619.0,1602,2.3975,34.5221,2,34.5212,2,47.42,2,156.39,2,42.71,2,0.01,2,3.04,2,2380.8,2,2398.4,2,7.3757,2,-999,9,-999,9
49UP20130426,RF13-04,4711,1,16,22089,2,20130502,1153,30.0135,147.4735,6210,1820.6,1800,2.1635,34.5619,2,34.5616,6,60.21,2,159.72,2,41.95,2,0.00,2,2.98,2,2377.3,2,2406.1,2,7.4014,2,-999,9,-999,9
49UP20130426,RF13-04,4711,1,15,22088,2,20130502,1149,30.0135,147.4735,6210,2024.8,2001,1.9826,34.5933,2,34.5936,2,77.89,3,161.05,2,41.03,2,0.01,2,2.91,2,2373.9,6,2412.4,6,7.4341,2,-999,9,-999,9
49UP20130426,RF13-04,4711,1,14,21999,2,20130502,1144,30.0135,147.4735,6210,2277.6,2250,1.8042,34.6247,2,34.6250,2,99.97,2,157.48,2,39.50,2,0.00,2,2.79,2,2361.1,2,2416.7,2,7.4791,6,-999,9,-999,9
49UP20130426,RF13-04,4711,1,13,22667,2,20130502,1138,30.0135,147.4735,6210,2532.2,2500,1.7061,34.6411,2,34.6414,2,112.27,2,155.57,2,38.68,2,0.00,2,2.73,2,2349.9,2,2415.7,2,7.5018,2,-999,9,-999,9
49UP20130426,RF13-04,4711,1,12,22074,2,20130502,1133,30.0135,147.4735,6210,2788.3,2751,1.6386,34.6525,2,34.6527,2,122.45,2,153.78,2,38.05,2,0.00,2,2.68,2,2348.4,2,2417.2,2,7.5195,2,-999,9,-999,9
49UP20130426,RF13-04,4711,1,11,21996,2,20130502,1127,30.0135,147.4735,6210,3045.0,3003,1.5851,34.6618,2,34.6608,2,130.15,6,152.67,6,37.55,6,0.00,6,2.64,6,2336.2,2,2415.7,2,7.5344,2,-999,9,-999,9
49UP20130426,RF13-04,4711,1,10,22107,2,20130502,1122,30.0135,147.4735,6210,3298.9,3251,1.5406,34.6689,2,34.6686,2,137.03,2,151.71,2,37.10,2,0.01,2,2.61,2,2338.1,2,2416.1,2,7.5448,2,-999,9,-999,9
49UP20130426,RF13-04,4711,1,9,22108,2,20130502,1116,30.0135,147.4735,6210,3555.7,3502,1.5191,34.6738,2,34.6739,2,141.39,2,150.34,2,36.84,2,0.01,2,2.59,2,2334.6,2,2417.3,2,7.5530,2,-999,9,-999,9
49UP20130426,RF13-04,4711,1,8,22081,2,20130502,1111,30.0135,147.4735,6210,3810.8,3751,1.5060,34.6774,2,-999.0000,9,145.77,2,149.18,2,36.51,2,0.01,2,2.56,2,2333.5,2,2424.9,2,7.5600,2,-999,9,-999,9
49UP20130426,RF13-04,4711,1,7,22106,2,20130502,1106,30.0135,147.4735,6210,4065.5,4000,1.4951,34.6811,2,34.6804,6,149.57,2,148.56,2,36.30,2,0.01,2,2.55,2,2330.6,2,2416.2,2,7.5664,2,-999,9,-999,9
49UP20130426,RF13-04,4711,1,6,22113,2,20130502,1100,30.0135,147.4735,6210,4322.3,4250,1.4904,34.6843,2,34.6852,2,153.94,2,147.12,2,35.93,2,0.01,2,2.52,2,2325.1,6,2412.7,6,7.5752,2,-999,9,-999,9
49UP20130426,RF13-04,4711,1,5,22094,2,20130502,1055,30.0135,147.4735,6210,4578.3,4499,1.4946,34.6864,2,34.6861,2,158.29,2,146.22,2,35.72,2,0.00,2,2.50,2,2321.1,2,2414.2,2,7.5784,6,-999,9,-999,9
49UP20130426,RF13-04,4711,1,4,22077,2,20130502,1050,30.0135,147.4735,6210,4836.3,4750,1.5046,34.6885,2,34.6879,2,160.13,6,144.59,6,35.58,6,0.01,6,2.49,6,2318.3,2,2414.6,2,7.5815,2,-999,9,-999,9
49UP20130426,RF13-04,4711,1,3,22104,2,20130502,1045,30.0135,147.4735,6210,5095.1,5001,1.5212,34.6899,2,34.6908,2,162.34,2,143.51,2,35.37,2,0.01,2,2.47,2,2314.4,2,2411.5,2,7.5844,2,-999,9,-999,9
49UP20130426,RF13-04,4711,1,2,22075,2,20130502,1034,30.0135,147.4735,6210,5611.4,5501,1.5642,34.6921,2,34.6918,6,166.11,2,140.58,2,35.13,2,0.01,2,2.45,2,2314.4,2,2407.9,2,7.5888,2,-999,9,-999,9
49UP20130426,RF13-04,4711,1,1,21997,2,20130502,1024,30.0135,147.4735,6210,6130.1,6003,1.6158,34.6937,2,34.6935,2,169.14,2,137.64,2,34.81,2,0.00,2,2.44,2,2312.4,2,2402.8,2,7.5931,2,-999,9,-999,9
49UP20130426,RF13-04,4713,1,-999,0,2,20130502,2208,31.0013,147.709,6087,0.0,0,18.3930,34.7361,2,-999.0000,9,237.63,2,1.45,2,0.01,2,0.00,2,0.04,2,-999.,9,-999.,9,-999.,9,-999,9,-999,9
49UP20130426,RF13-04,4713,1,36,22109,2,20130502,2227,31.0013,147.709,6087,10.5,10,18.3026,34.7319,2,34.7339,2,238.43,2,1.37,2,0.01,2,0.00,2,0.04,2,-999.,9,-999.,9,-999.,9,-999,9,-999,9
49UP20130426,RF13-04,4713,1,35,22112,2,20130502,2226,31.0013,147.709,6087,25.4,25,18.1456,34.7381,2,-999.0000,9,239.80,2,1.38,2,0.06,2,0.00,2,0.04,2,-999.,9,-999.,9,-999.,9,-999,9,-999,9
49UP20130426,RF13-04,4713,1,34,22083,2,20130502,2223,31.0013,147.709,6087,50.1,50,18.0053,34.7420,2,-999.0000,9,238.74,2,1.41,2,0.08,2,0.02,2,0.05,2,-999.,9,-999.,9,-999.,9,-999,9,-999,9
49UP20130426,RF13-04,4713,1,30,22097,2,20130502,2222,31.0013,147.709,6087,75.8,75,17.7878,34.7491,2,-999.0000,9,230.09,2,2.42,2,1.45,2,0.16,2,0.12,2,-999.,9,-999.,9,-999.,9,-999,9,-999,9
49UP20130426,RF13-04,4713,1,29,22102,2,20130502,2220,31.0013,147.709,6087,99.7,99,17.6941,34.7528,2,34.7510,2,225.83,2,2.89,2,2.30,2,0.04,2,0.17,2,-999.,9,-999.,9,-999.,9,-999,9,-999,9
49UP20130426,RF13-04,4713,1,28,22091,2,20130502,2220,31.0013,147.709,6087,99.7,99,17.6941,34.7528,2,34.7510,2,225.21,2,2.90,2,2.31,2,0.05,2,0.17,2,-999.,9,-999.,9,-999.,9,-999,9,-999,9
49UP20130426,RF13-04,4713,1,27,21998,2,20130502,2219,31.0013,147.709,6087,125.5,125,17.5462,34.7424,2,-999.0000,9,228.23,2,2.91,2,2.10,2,0.15,2,0.16,2,-999.,9,-999.,9,-999.,9,-999,9,-999,9
49UP20130426,RF13-04,4713,1,26,22084,2,20130502,2217,31.0013,147.709,6087,151.1,150,17.4103,34.7226,2,-999.0000,9,231.84,6,2.75,6,1.76,6,0.32,6,0.15,6,-999.,9,-999.,9,-999.,9,-999,9,-999,9
49UP20130426,RF13-04,4713,1,25,22098,2,20130502,2216,31.0013,147.709,6087,201.6,200,17.1963,34.7226,2,34.7224,2,223.22,2,3.49,2,3.32,2,0.01,2,0.23,2,-999.,9,-999.,9,-999.,9,-999,9,-999,9
49UP20130426,RF13-04,4713,1,24,22110,2,20130502,2214,31.0013,147.709,6087,252.1,250,16.9982,34.7120,2,-999.0000,9,221.16,2,3.88,2,3.87,2,0.01,2,0.27,2,-999.,9,-999.,9,-999.,9,-999,9,-999,9
49UP20130426,RF13-04,4713,1,23,22096,2,20130502,2212,31.0013,147.709,6087,302.4,300,16.7442,34.6883,2,-999.0000,9,211.65,2,4.95,2,5.14,2,0.01,2,0.35,2,-999.,9,-999.,9,-999.,9,-999,9,-999,9
49UP20130426,RF13-04,4713,1,22,22111,2,20130502,2209,31.0013,147.709,6087,404.4,401,15.1143,34.5658,2,34.5670,2,188.36,2,10.66,2,9.79,2,0.01,2,0.68,2,-999.,9,-999.,9,-999.,9,-999,9,-999,9
49UP20130426,RF13-04,4713,1,21,22078,2,20130502,2206,31.0013,147.709,6087,504.0,500,12.3687,34.3833,2,-999.0000,9,186.57,2,19.58,2,14.26,2,0.00,2,1.02,2,-999.,9,-999.,9,-999.,9,-999,9,-999,9
49UP20130426,RF13-04,4713,1,20,22093,3,20130502,2203,31.0013,147.709,6087,609.9,605,9.3128,34.1610,2,34.1632,6,181.15,2,31.60,2,19.69,2,0.00,2,1.43,2,-999.,9,-999.,9,-999.,9,-999,9,-999,9
49UP20130426,RF13-04,4713,1,19,22092,2,20130502,2200,31.0013,147.709,6087,704.9,699,6.6703,34.0186,2,-999.0000,9,148.52,2,52.89,2,27.84,2,0.00,2,2.04,2,-999.,9,-999.,9,-999.,9,-999,9,-999,9
49UP20130426,RF13-04,4713,1,14,21999,2,20130502,2157,31.0013,147.709,6087,808.1,801,5.2461,34.0539,2,34.0506,2,103.65,2,75.73,2,34.33,2,0.00,2,2.51,2,-999.,9,-999.,9,-999.,9,-999,9,-999,9
49UP20130426,RF13-04,4713,1,13,22667,2,20130502,2154,31.0013,147.709,6087,909.2,901,4.5211,34.1462,2,-999.0000,9,70.95,2,94.83,2,38.17,2,0.00,2,2.76,2,-999.,9,-999.,9,-999.,9,-999,9,-999,9
49UP20130426,RF13-04,4713,1,12,22074,2,20130502,2154,31.0013,147.709,6087,909.2,901,4.5211,34.1462,2,-999.0000,9,70.87,2,94.82,2,38.14,2,0.00,2,2.77,2,-999.,9,-999.,9,-999.,9,-999,9,-999,9
49UP20130426,RF13-04,4713,1,11,21996,3,20130502,2151,31.0013,147.709,6087,1010.6,1001,4.0371,34.2267,2,34.2267,2,52.61,2,109.78,2,40.17,2,0.00,2,2.91,2,-999.,9,-999.,9,-999.,9,-999,9,-999,9
49UP20130426,RF13-04,4713,1,10,22107,2,20130502,2147,31.0013,147.709,6087,1213.4,1202,3.3094,34.3603,2,34.3598,2,38.06,6,131.08,6,42.29,6,0.00,6,3.04,6,-999.,9,-999.,9,-999.,9,-999,9,-999,9
49UP20130426,RF13-04,4713,1,9,22108,2,20130502,2142,31.0013,147.709,6087,1416.0,1401,2.8086,34.4435,2,34.4435,2,37.41,2,144.91,2,42.86,2,0.00,2,3.07,2,-999.,9,-999.,9,-999.,9,-999,9,-999,9
49UP20130426,RF13-04,4713,1,8,22081,2,20130502,2137,31.0013,147.709,6087,1619.4,1602,2.5022,34.5032,2,34.5037,6,42.75,2,153.63,2,42.85,2,0.00,2,3.06,2,-999.,9,-999.,9,-999.,9,-999,9,-999,9
49UP20130426,RF13-04,4713,1,7,22106,2,20130502,2132,31.0013,147.709,6087,1820.6,1800,2.2320,34.5509,2,34.5510,2,55.93,2,158.27,2,42.16,2,0.00,2,3.00,2,-999.,9,-999.,9,-999.,9,-999,9,-999,9
49UP20130426,RF13-04,4713,1,6,22113,2,20130502,2127,31.0013,147.709,6087,2026.1,2002,2.0455,34.5821,2,34.5890,4,70.33,2,160.44,2,41.37,2,0.00,2,2.93,2,-999.,9,-999.,9,-999.,9,-999,9,-999,9
49UP20130426,RF13-04,4715,1,-999,0,2,20130503,0750,31.9888,147.9402,5629,0.0,0,18.8990,34.7498,2,34.7527,2,239.18,2,2.48,2,0.22,2,0.04,2,0.07,2,872.0,4,2280.8,2,8.0268,2,-999,9,-999,9
49UP20130426,RF13-04,4715,1,36,22109,2,20130503,0811,31.9888,147.9402,5629,10.6,11,18.8649,34.7480,2,-999.0000,9,238.64,2,2.48,2,0.24,2,0.04,2,0.07,2,1111.3,4,2283.0,2,8.0253,2,-999,9,-999,9
49UP20130426,RF13-04,4715,1,35,22112,2,20130503,0809,31.9888,147.9402,5629,25.7,26,18.6248,34.7431,2,-999.0000,9,236.89,2,2.44,2,0.25,2,0.06,2,0.06,2,1152.8,4,2282.8,2,8.0265,2,-999,9,-999,9
49UP20130426,RF13-04,4715,1,34,22083,2,20130503,0808,31.9888,147.9402,5629,51.1,51,18.5756,34.7420,2,-999.0000,9,231.87,2,2.48,2,0.61,2,0.12,2,0.09,2,2007.9,2,2284.2,2,8.0148,2,-999,9,-999,9
49UP20130426,RF13-04,4715,1,30,22097,2,20130503,0807,31.9888,147.9402,5629,76.1,76,18.4203,34.7400,2,-999.0000,9,230.48,2,2.49,2,0.81,2,0.17,2,0.10,2,2006.9,2,2285.3,2,8.0137,2,-999,9,-999,9
49UP20130426,RF13-04,4715,1,29,22102,2,20130503,0807,31.9888,147.9402,5629,76.1,76,18.4203,34.7400,2,-999.0000,9,230.81,2,2.53,2,0.80,2,0.17,2,0.10,2,2011.7,2,2282.7,2,8.0128,2,-999,9,-999,9
49UP20130426,RF13-04,4715,1,28,22091,2,20130503,0803,31.9888,147.9402,5629,100.7,100,17.8287,34.7439,2,-999.0000,9,232.16,2,2.17,2,0.95,2,0.31,2,0.10,2,2015.5,2,2282.9,2,8.0013,2,-999,9,-999,9
49UP20130426,RF13-04,4715,1,27,21998,2,20130503,0802,31.9888,147.9402,5629,126.8,126,17.6825,34.7431,2,-999.0000,9,232.59,6,2.27,6,1.01,6,0.33,6,0.11,6,2014.8,2,2280.9,2,8.0011,2,-999,9,-999,9
49UP20130426,RF13-04,4715,1,26,22084,2,20130503,0801,31.9888,147.9402,5629,150.8,150,17.6146,34.7457,2,-999.0000,9,233.37,2,2.45,2,1.05,2,0.40,2,0.11,2,2012.0,2,2280.6,2,8.0037,2,-999,9,-999,9
49UP20130426,RF13-04,4715,1,25,22098,2,20130503,0759,31.9888,147.9402,5629,200.9,199,17.3874,34.7369,2,-999.0000,9,225.27,2,3.27,2,2.81,2,0.02,2,0.21,2,2023.5,6,2280.2,6,7.9813,2,-999,9,-999,9
49UP20130426,RF13-04,4715,1,24,22110,2,20130503,0757,31.9888,147.9402,5629,251.5,250,17.1451,34.7223,2,-999.0000,9,225.04,2,3.52,2,3.19,2,0.01,2,0.23,2,2020.3,2,2279.4,2,7.9723,6,-999,9,-999,9
49UP20130426,RF13-04,4715,1,23,22096,3,20130503,0755,31.9888,147.9402,5629,303.5,301,16.8488,34.6961,2,-999.0000,9,213.73,2,4.42,2,4.69,2,0.01,2,0.32,2,2034.6,2,2279.0,2,7.9534,2,-999,9,-999,9
49UP20130426,RF13-04,4715,1,22,22111,2,20130503,0753,31.9888,147.9402,5629,404.8,402,14.7564,34.5396,2,-999.0000,9,189.00,2,13.22,2,10.54,2,0.01,2,0.75,2,2082.5,2,2276.8,2,7.8574,2,-999,9,-999,9
49UP20130426,RF13-04,4715,1,21,22078,2,20130503,0750,31.9888,147.9402,5629,504.9,501,12.3647,34.3928,2,-999.0000,9,174.65,2,21.05,2,15.40,2,0.00,2,1.09,2,2120.3,2,2281.2,2,7.7779,2,-999,9,-999,9
49UP20130426,RF13-04,4715,1,20,22093,2,20130503,0747,31.9888,147.9402,5629,605.0,600,9.8956,34.2055,2,-999.0000,9,180.72,2,29.86,2,18.83,2,0.00,2,1.37,2,2143.2,2,2273.7,2,7.7192,2,-999,9,-999,9
49UP20130426,RF13-04,4715,1,19,22092,2,20130503,0744,31.9888,147.9402,5629,706.3,700,7.5155,34.0491,2,-999.0000,9,163.55,2,44.85,2,24.71,2,0.00,2,1.81,2,2184.3,2,2281.6,2,7.6185,2,-999,9,-999,9
49UP20130426,RF13-04,4715,1,14,21999,2,20130503,0741,31.9888,147.9402,5629,806.4,799,5.4424,34.0338,2,-999.0000,9,113.02,2,71.86,2,33.13,2,0.00,2,2.42,2,2259.5,2,2303.6,2,7.4782,2,-999,9,-999,9
49UP20130426,RF13-04,4715,1,13,22667,2,20130503,0741,31.9888,147.9402,5629,806.4,799,5.4424,34.0338,2,-999.0000,9,112.75,2,71.94,2,33.07,2,0.00,2,2.42,2,2254.4,2,2299.8,2,7.4758,2,-999,9,-999,9
49UP20130426,RF13-04,4715,1,12,22074,2,20130503,0737,31.9888,147.9402,5629,908.4,900,4.7632,34.1197,2,-999.0000,9,81.62,2,89.56,2,36.87,2,0.00,2,2.68,2,2289.2,2,2318.5,2,7.4192,2,-999,9,-999,9
49UP20130426,RF13-04,4715,1,11,21996,2,20130503,0734,31.9888,147.9402,5629,1010.9,1001,4.2104,34.2168,2,-999.0000,9,58.70,6,105.92,6,39.42,6,0.00,6,2.86,6,2324.2,2,2335.9,2,7.3801,2,-999,9,-999,9
49UP20130426,RF13-04,4715,1,10,22107,2,20130503,0730,31.9888,147.9402,5629,1212.8,1201,3.4513,34.3284,2,-999.0000,9,44.08,2,127.53,2,41.48,2,0.00,2,2.99,2,2354.5,6,2363.5,6,7.3596,2,-999,9,-999,9
49UP20130426,RF13-04,4715,1,9,22108,2,20130503,0725,31.9888,147.9402,5629,1415.7,1401,2.9027,34.4259,2,-999.0000,9,41.84,2,142.57,2,42.34,2,0.00,2,3.05,2,2369.7,2,2382.3,2,7.3600,6,-999,9,-999,9
49UP20130426,RF13-04,4715,1,8,22081,2,20130503,0720,31.9888,147.9402,5629,1617.8,1600,2.5287,34.4887,2,-999.0000,9,42.92,2,153.32,2,42.60,2,0.00,2,3.05,2,2385.2,2,2392.6,2,7.3664,2,-999,9,-999,9
49UP20130426,RF13-04,4715,1,7,22106,2,20130503,0715,31.9888,147.9402,5629,1820.3,1800,2.2992,34.5315,2,-999.0000,9,52.42,2,158.34,2,42.21,2,0.00,2,3.01,2,2380.6,2,2403.3,2,7.3853,2,-999,9,-999,9
49UP20130426,RF13-04,4715,1,6,22113,2,20130503,0710,31.9888,147.9402,5629,2023.7,2000,2.0669,34.5745,2,-999.0000,9,68.01,2,161.43,2,41.39,2,0.00,2,2.96,2,2380.6,2,2410.0,2,7.4192,2,-999,9,-999,9