BOTTLE,20171119JMAGEMD
EXPOCODE,SECT_ID,STNNBR,CASTNO,SAMPNO,BTLNBR,BTLNBR_FLAG_W,DATE,TIME,LATITUDE,LONGITUDE,DEPTH,CTDPRS,CTDDEP,CTDTMP,CTDSAL,CTDSAL_FLAG_W,SALNTY,SALNTY_FLAG_W,OXYGEN,OXYGEN_FLAG_W,SILCAT,SILCAT_FLAG_W,NO2+NO3,NO2+NO3_FLAG_W,NITRIT,NITRIT_FLAG_W,PHSPHT,PHSPHT_FLAG_W,TCARBN,TCARBN_FLAG_W,ALKALI,ALKALI_FLAG_W,PH_TOT,PH_TOT_FLAG_W,CFC-11,CFC-11_FLAG_W,CFC-12,CFC-12_FLAG_W
,,,,,,,UTC,UTC,,,METER,DBAR,METERS,ITS-90,PSS-78,,PSS-78,,UMOL/KG,,UMOL/KG,,UMOL/KG,,UMOL/KG,,UMOL/KG,,UMOL/KG,,UMOL/KG,,@25DEG-C,,PMOL/KG,,PMOL/KG,
49UP20130426,RF13-04,4717,1,-999,0,2,20130503,1645,32.9893,148.1813,5705,0.0,0,18.7783,34.7488,2,-999.,9,236.25,2,2.24,2,0.07,2,0.03,2,0.06,2,-999.,9,-999.,9,-999.,9,-999,9,-999,9
49UP20130426,RF13-04,4717,1,36,22109,2,20130503,1721,32.9893,148.1813,5705,12.4,12,18.7638,34.7460,2,-999.,9,237.37,2,2.13,2,0.07,2,0.04,2,0.05,2,-999.,9,-999.,9,-999.,9,-999,9,-999,9
49UP20130426,RF13-04,4717,1,35,22112,2,20130503,1720,32.9893,148.1813,5705,27.6,27,18.6858,34.7440,2,-999.,9,236.23,2,2.13,2,0.13,2,0.06,2,0.05,2,-999.,9,-999.,9,-999.,9,-999,9,-999,9
49UP20130426,RF13-04,4717,1,34,22083,2,20130503,1720,32.9893,148.1813,5705,27.6,27,18.6858,34.7440,2,-999.,9,236.15,2,2.18,2,0.13,2,0.06,2,0.05,2,-999.,9,-999.,9,-999.,9,-999,9,-999,9
49UP20130426,RF13-04,4717,1,30,22097,2,20130503,1718,32.9893,148.1813,5705,53.7,53,18.4486,34.7441,2,-999.,9,230.26,2,2.39,2,0.77,2,0.28,2,0.09,2,-999.,9,-999.,9,-999.,9,-999,9,-999,9
49UP20130426,RF13-04,4717,1,29,22102,2,20130503,1717,32.9893,148.1813,5705,78.8,78,18.3028,34.7269,2,-999.,9,220.28,2,3.41,2,2.31,2,0.18,2,0.18,2,-999.,9,-999.,9,-999.,9,-999,9,-999,9
49UP20130426,RF13-04,4717,1,28,22091,2,20130503,1658,32.9893,148.1813,5705,102.4,102,17.7095,34.6992,2,-999.,9,207.85,6,4.97,6,4.32,6,0.02,6,0.31,6,-999.,9,-999.,9,-999.,9,-999,9,-999,9
49UP20130426,RF13-04,4717,1,27,21998,2,20130503,1658,32.9893,148.1813,5705,127.4,126,17.6565,34.7452,2,-999.,9,224.45,2,3.05,2,2.38,2,0.04,2,0.18,2,-999.,9,-999.,9,-999.,9,-999,9,-999,9
49UP20130426,RF13-04,4717,1,26,22084,2,20130503,1656,32.9893,148.1813,5705,153.2,152,17.4830,34.7356,2,-999.,9,221.40,2,3.33,2,3.03,2,0.02,2,0.21,2,-999.,9,-999.,9,-999.,9,-999,9,-999,9
49UP20130426,RF13-04,4717,1,25,22098,2,20130503,1655,32.9893,148.1813,5705,203.2,202,17.2065,34.7277,2,-999.,9,225.46,2,3.41,2,3.01,2,0.01,2,0.22,2,-999.,9,-999.,9,-999.,9,-999,9,-999,9
49UP20130426,RF13-04,4717,1,24,22110,2,20130503,1653,32.9893,148.1813,5705,256.2,254,16.9703,34.7053,2,-999.,9,217.96,2,4.34,2,4.09,2,0.01,2,0.29,2,-999.,9,-999.,9,-999.,9,-999,9,-999,9
49UP20130426,RF13-04,4717,1,23,22096,2,20130503,1652,32.9893,148.1813,5705,306.7,304,16.5154,34.6661,2,-999.,9,205.48,2,5.80,2,5.92,2,0.01,2,0.41,2,-999.,9,-999.,9,-999.,9,-999,9,-999,9
49UP20130426,RF13-04,4717,1,22,22111,2,20130503,1649,32.9893,148.1813,5705,406.1,403,14.6109,34.5337,2,-999.,9,182.30,2,13.07,2,11.10,2,0.00,2,0.78,2,-999.,9,-999.,9,-999.,9,-999,9,-999,9
49UP20130426,RF13-04,4717,1,21,22078,2,20130503,1647,32.9893,148.1813,5705,505.7,502,11.8252,34.3733,2,-999.,9,168.32,2,25.31,2,16.89,2,0.00,2,1.21,2,-999.,9,-999.,9,-999.,9,-999,9,-999,9
49UP20130426,RF13-04,4717,1,20,22093,2,20130503,1644,32.9893,148.1813,5705,606.5,601,9.0959,34.1579,2,-999.,9,171.12,2,35.24,2,21.01,2,0.00,2,1.53,2,-999.,9,-999.,9,-999.,9,-999,9,-999,9
49UP20130426,RF13-04,4717,1,19,22092,2,20130503,1644,32.9893,148.1813,5705,606.5,601,9.0959,34.1579,2,-999.,9,171.15,2,35.32,2,21.04,2,0.00,2,1.54,2,-999.,9,-999.,9,-999.,9,-999,9,-999,9
49UP20130426,RF13-04,4717,1,14,21999,2,20130503,1642,32.9893,148.1813,5705,709.8,704,6.2337,34.0390,2,-999.,9,136.33,2,60.96,2,29.49,2,0.00,2,2.17,2,-999.,9,-999.,9,-999.,9,-999,9,-999,9
49UP20130426,RF13-04,4717,1,13,22667,2,20130503,1638,32.9893,148.1813,5705,811.1,804,4.6672,34.0189,2,-999.,9,101.66,2,82.39,2,35.37,2,0.00,2,2.59,2,-999.,9,-999.,9,-999.,9,-999,9,-999,9
49UP20130426,RF13-04,4717,1,12,22074,2,20130503,1636,32.9893,148.1813,5705,911.6,903,4.4100,34.1637,2,-999.,9,68.49,6,99.30,6,38.35,6,0.00,6,2.79,6,-999.,9,-999.,9,-999.,9,-999,9,-999,9
49UP20130426,RF13-04,4717,1,11,21996,2,20130503,1633,32.9893,148.1813,5705,1013.9,1004,3.8843,34.2590,2,-999.,9,50.97,2,114.65,2,40.33,2,0.00,2,2.92,2,-999.,9,-999.,9,-999.,9,-999,9,-999,9
49UP20130426,RF13-04,4717,1,10,22107,2,20130503,1628,32.9893,148.1813,5705,1215.6,1204,3.1795,34.3546,2,-999.,9,40.52,2,134.36,2,42.00,2,0.00,2,3.03,2,-999.,9,-999.,9,-999.,9,-999,9,-999,9
49UP20130426,RF13-04,4717,1,9,22108,2,20130503,1624,32.9893,148.1813,5705,1416.7,1402,2.8017,34.4437,2,-999.,9,42.02,2,144.78,2,42.28,2,0.00,2,3.04,2,-999.,9,-999.,9,-999.,9,-999,9,-999,9
49UP20130426,RF13-04,4717,1,8,22081,2,20130503,1620,32.9893,148.1813,5705,1620.0,1602,2.4682,34.4983,2,-999.,9,46.01,2,153.82,2,42.36,2,0.00,2,3.03,2,-999.,9,-999.,9,-999.,9,-999,9,-999,9
49UP20130426,RF13-04,4717,1,7,22106,2,20130503,1615,32.9893,148.1813,5705,1822.0,1801,2.2277,34.5437,2,-999.,9,55.26,2,158.73,2,41.98,2,0.00,2,2.99,2,-999.,9,-999.,9,-999.,9,-999,9,-999,9
49UP20130426,RF13-04,4717,1,6,22113,2,20130503,1611,32.9893,148.1813,5705,2027.5,2003,2.0411,34.5779,2,-999.,9,67.45,2,161.32,2,41.31,2,0.00,2,2.94,2,-999.,9,-999.,9,-999.,9,-999,9,-999,9
49UP20130426,RF13-04,4719,1,-999,0,2,20130504,0430,33.9902,148.5575,6199,0.0,0,19.1197,34.7317,2,34.7331,2,229.22,2,2.58,2,0.66,2,0.12,2,0.12,2,1998.1,2,2283.8,2,8.0176,2,-999,9,-999,9
49UP20130426,RF13-04,4719,1,36,22109,2,20130504,0456,33.9902,148.5575,6199,12.9,13,19.0426,34.7289,2,34.7297,2,228.96,2,2.60,2,0.65,2,0.12,2,0.11,2,1996.3,2,2286.4,2,8.0215,2,-999,9,-999,9
49UP20130426,RF13-04,4719,1,35,22112,2,20130504,0455,33.9902,148.5575,6199,27.5,27,18.8931,34.7286,2,-999.0000,9,228.63,2,2.65,2,0.84,2,0.12,2,0.11,2,1995.6,2,2284.8,2,8.0156,2,-999,9,-999,9
49UP20130426,RF13-04,4719,1,34,22083,2,20130504,0454,33.9902,148.5575,6199,53.4,53,18.7988,34.7455,2,-999.0000,9,224.59,2,2.46,2,1.19,2,0.18,2,0.11,2,1999.7,2,2281.8,2,8.0158,2,-999,9,-999,9
49UP20130426,RF13-04,4719,1,33,22086,2,20130504,0452,33.9902,148.5575,6199,79.1,79,18.6232,34.7713,2,-999.0000,9,221.33,6,2.40,6,1.63,6,0.05,6,0.12,6,2011.0,2,2284.4,2,8.0088,2,-999,9,-999,9
49UP20130426,RF13-04,4719,1,32,22105,4,20130504,0449,33.9902,148.5575,6199,102.3,102,18.4661,34.7681,2,34.7670,4,218.38,4,2.62,4,2.02,4,0.04,4,0.15,4,2007.5,4,2282.9,4,7.9995,4,-999,9,-999,9
49UP20130426,RF13-04,4719,1,31,22076,2,20130504,0448,33.9902,148.5575,6199,127.8,127,18.1174,34.7430,2,-999.0000,9,223.18,2,2.72,2,1.97,2,0.20,2,0.16,2,2013.7,2,2280.8,2,7.9960,2,-999,9,-999,9
49UP20130426,RF13-04,4719,1,30,22097,2,20130504,0447,33.9902,148.5575,6199,153.0,152,17.9596,34.7428,2,-999.0000,9,221.95,2,3.00,2,2.35,2,0.08,2,0.17,2,2009.2,2,2279.2,2,7.9926,2,-999,9,-999,9
49UP20130426,RF13-04,4719,1,29,22102,2,20130504,0445,33.9902,148.5575,6199,204.4,203,17.6939,34.7322,2,34.7316,6,215.57,2,3.82,2,3.51,2,0.01,2,0.25,2,2018.3,2,2281.8,2,7.9746,2,-999,9,-999,9
49UP20130426,RF13-04,4719,1,28,22091,2,20130504,0443,33.9902,148.5575,6199,254.9,253,17.2068,34.7067,2,-999.0000,9,214.89,2,4.50,2,4.23,2,0.01,2,0.30,2,2026.7,2,2281.3,2,7.9648,2,-999,9,-999,9
49UP20130426,RF13-04,4719,1,27,21998,2,20130504,0442,33.9902,148.5575,6199,304.2,302,16.6877,34.6580,2,-999.0000,9,206.98,2,6.60,2,6.01,2,0.01,2,0.42,2,2037.6,2,2280.7,2,7.9390,2,-999,9,-999,9
49UP20130426,RF13-04,4719,1,26,22084,2,20130504,0439,33.9902,148.5575,6199,405.6,402,14.8528,34.5483,2,34.5530,4,183.32,2,12.00,2,10.68,2,0.00,2,0.75,2,2081.6,2,2278.0,2,7.8581,2,-999,9,-999,9
49UP20130426,RF13-04,4719,1,25,22098,2,20130504,0436,33.9902,148.5575,6199,506.6,502,12.1698,34.3757,2,-999.0000,9,175.35,2,21.97,2,15.79,2,0.00,2,1.12,2,2120.3,6,2278.0,6,7.7783,2,-999,9,-999,9
49UP20130426,RF13-04,4719,1,24,22110,2,20130504,0434,33.9902,148.5575,6199,608.6,603,9.1361,34.1255,2,34.1087,4,193.61,2,30.80,2,18.43,2,0.00,2,1.35,2,2140.5,2,2277.0,2,7.7204,6,-999,9,-999,9
49UP20130426,RF13-04,4719,1,23,22096,3,20130504,0431,33.9902,148.5575,6199,709.6,703,6.2031,33.9558,2,-999.0000,9,162.22,2,54.01,2,27.37,2,0.00,2,2.02,2,2211.3,2,2289.6,2,7.5768,2,-999,9,-999,9
49UP20130426,RF13-04,4719,1,22,22111,2,20130504,0428,33.9902,148.5575,6199,811.1,804,4.9981,34.0073,2,34.0024,4,115.20,6,75.70,6,33.81,6,0.00,6,2.47,6,2256.5,2,2302.4,2,7.4624,2,-999,9,-999,9
49UP20130426,RF13-04,4719,1,21,22078,2,20130504,0426,33.9902,148.5575,6199,909.8,901,4.4872,34.1034,2,-999.0000,9,77.62,2,93.20,2,37.69,2,0.00,2,2.73,2,2297.4,2,2321.9,2,7.3974,2,-999,9,-999,9
49UP20130426,RF13-04,4719,1,20,22093,2,20130504,0423,33.9902,148.5575,6199,1011.7,1002,4.1308,34.2323,2,34.2321,6,56.65,2,108.17,2,39.79,2,0.00,2,2.87,2,2324.4,2,2341.8,2,7.3773,2,-999,9,-999,9
49UP20130426,RF13-04,4719,1,19,22092,2,20130504,0419,33.9902,148.5575,6199,1214.7,1203,3.3793,34.3478,2,34.3454,2,44.50,2,128.65,2,41.58,2,0.00,2,2.99,2,2354.0,2,2370.7,2,7.3612,2,-999,9,-999,9
49UP20130426,RF13-04,4719,1,18,22101,2,20130504,0415,33.9902,148.5575,6199,1416.4,1402,2.8885,34.4234,2,34.4236,2,40.99,2,142.56,2,42.19,2,0.00,2,3.04,2,2370.1,2,2381.0,2,7.3570,2,-999,9,-999,9
49UP20130426,RF13-04,4719,1,17,22090,2,20130504,0410,33.9902,148.5575,6199,1620.3,1603,2.5503,34.4848,2,34.4849,2,42.40,2,152.16,2,42.66,2,0.00,2,3.04,2,2379.6,6,2395.4,6,7.3651,2,-999,9,-999,9
49UP20130426,RF13-04,4719,1,16,22089,2,20130504,0406,33.9902,148.5575,6199,1823.9,1803,2.3102,34.5297,2,34.5301,2,51.00,2,157.21,2,42.33,2,0.00,2,3.01,2,2379.4,2,2399.9,2,7.3822,6,-999,9,-999,9
49UP20130426,RF13-04,4719,1,15,22088,2,20130504,0401,33.9902,148.5575,6199,2027.7,2004,2.1020,34.5691,2,34.5689,6,63.70,2,160.28,2,41.65,2,0.00,2,2.95,2,2377.2,2,2410.3,2,7.4068,2,-999,9,-999,9
49UP20130426,RF13-04,4719,1,14,21999,3,20130504,0356,33.9902,148.5575,6199,2281.2,2253,1.9191,34.6029,2,-999.0000,9,81.71,2,160.77,2,40.51,2,0.00,2,2.87,2,2369.2,2,2413.1,2,7.4432,2,-999,9,-999,9
49UP20130426,RF13-04,4719,1,13,22667,2,20130504,0350,33.9902,148.5575,6199,2536.0,2503,1.7833,34.6262,2,34.6257,6,97.37,2,159.64,2,39.57,2,0.00,2,2.79,2,2361.5,2,2415.7,2,7.4734,2,-999,9,-999,9
49UP20130426,RF13-04,4719,1,12,22074,2,20130504,0345,33.9902,148.5575,6199,2790.7,2753,1.6833,34.6435,2,34.6441,2,111.43,6,157.44,6,38.63,6,0.00,6,2.73,6,2350.0,3,2418.7,2,7.4994,2,-999,9,-999,9
49UP20130426,RF13-04,4719,1,11,21996,2,20130504,0340,33.9902,148.5575,6199,3045.0,3002,1.6104,34.6560,2,34.6565,2,121.98,2,155.96,2,38.00,2,0.00,2,2.68,2,2340.9,2,2417.9,2,7.5211,2,-999,9,-999,9
49UP20130426,RF13-04,4719,1,10,22107,2,20130504,0334,33.9902,148.5575,6199,3299.6,3251,1.5665,34.6637,2,-999.0000,9,129.95,2,154.12,2,37.47,2,0.00,2,2.63,2,2341.5,2,2418.9,2,7.5330,2,-999,9,-999,9
49UP20130426,RF13-04,4719,1,9,22108,2,20130504,0329,33.9902,148.5575,6199,3557.4,3503,1.5383,34.6699,2,34.6691,2,136.01,2,153.07,2,37.13,2,0.00,2,2.60,2,2338.6,2,2417.7,2,7.5452,2,-999,9,-999,9
49UP20130426,RF13-04,4719,1,8,22081,2,20130504,0324,33.9902,148.5575,6199,3814.0,3753,1.5117,34.6755,2,34.6752,2,142.27,2,150.82,2,36.60,2,0.00,2,2.57,2,2331.6,6,2416.3,6,7.5597,2,-999,9,-999,9
49UP20130426,RF13-04,4719,1,7,22106,2,20130504,0318,33.9902,148.5575,6199,4069.5,4002,1.4998,34.6795,2,34.6806,2,147.76,2,150.04,2,36.27,2,0.00,2,2.54,2,2330.1,2,2415.4,2,7.5639,6,-999,9,-999,9
49UP20130426,RF13-04,4719,1,6,22113,2,20130504,0313,33.9902,148.5575,6199,4326.0,4252,1.4925,34.6830,2,34.6834,6,151.84,2,148.90,2,36.06,2,0.00,2,2.52,2,2330.8,2,2416.7,2,7.5705,2,-999,9,-999,9
49UP20130426,RF13-04,4719,1,5,22094,2,20130504,0308,33.9902,148.5575,6199,4583.6,4502,1.4996,34.6853,2,34.6829,4,152.15,4,148.58,4,36.00,4,0.00,4,2.51,4,2322.2,2,2417.2,2,7.5726,2,-999,9,-999,9
49UP20130426,RF13-04,4719,1,4,22077,2,20130504,0303,33.9902,148.5575,6199,4837.4,4749,1.5123,34.6869,2,-999.0000,9,157.10,2,146.27,2,35.61,2,0.00,2,2.49,2,2322.8,2,2417.5,2,7.5810,2,-999,9,-999,9
49UP20130426,RF13-04,4719,1,3,22104,2,20130504,0257,33.9902,148.5575,6199,5098.9,5003,1.5262,34.6887,2,34.6887,2,159.94,2,144.97,2,35.40,2,0.00,2,2.47,2,2327.6,2,2417.4,2,7.5833,2,-999,9,-999,9
49UP20130426,RF13-04,4719,1,2,22075,2,20130504,0246,33.9902,148.5575,6199,5612.0,5500,1.5708,34.6910,2,34.6909,2,163.56,2,142.43,2,35.16,2,0.00,2,2.45,2,2318.7,2,2411.0,2,7.5871,2,-999,9,-999,9
49UP20130426,RF13-04,4719,1,1,21997,2,20130504,0234,33.9902,148.5575,6199,6131.2,6002,1.6247,34.6923,2,34.6925,6,166.63,2,139.38,2,34.92,2,0.00,2,2.44,2,2319.0,2,2409.1,2,7.5913,2,-999,9,-999,9
49UP20130426,RF13-04,4721,1,-999,0,2,20130504,1515,35.0197,148.992,6065,0.0,0,19.1084,34.6895,2,-999.,9,230.45,2,2.93,2,0.73,2,0.11,2,0.12,2,-999.,9,-999.,9,-999.,9,-999,9,-999,9
49UP20130426,RF13-04,4721,1,36,22109,2,20130504,1533,35.0197,148.992,6065,12.4,12,19.1096,34.6913,2,-999.,9,230.07,2,2.80,2,0.69,2,0.11,2,0.11,2,-999.,9,-999.,9,-999.,9,-999,9,-999,9
49UP20130426,RF13-04,4721,1,35,22112,2,20130504,1533,35.0197,148.992,6065,12.4,12,19.1096,34.6913,2,-999.,9,230.09,2,2.88,2,0.71,2,0.11,2,0.11,2,-999.,9,-999.,9,-999.,9,-999,9,-999,9
49UP20130426,RF13-04,4721,1,34,22083,2,20130504,1532,35.0197,148.992,6065,27.8,28,19.0622,34.6921,2,-999.,9,229.34,2,2.73,2,0.73,2,0.12,2,0.11,2,-999.,9,-999.,9,-999.,9,-999,9,-999,9
49UP20130426,RF13-04,4721,1,30,22097,2,20130504,1530,35.0197,148.992,6065,53.2,53,19.0081,34.6945,2,-999.,9,227.71,6,2.79,6,0.84,6,0.16,6,0.12,6,-999.,9,-999.,9,-999.,9,-999,9,-999,9
49UP20130426,RF13-04,4721,1,29,22102,2,20130504,1529,35.0197,148.992,6065,77.4,77,18.8365,34.7087,2,-999.,9,222.16,2,3.09,2,1.84,2,0.41,2,0.16,2,-999.,9,-999.,9,-999.,9,-999,9,-999,9
49UP20130426,RF13-04,4721,1,28,22091,2,20130504,1525,35.0197,148.992,6065,102.8,102,18.5895,34.7639,2,-999.,9,217.60,2,2.56,2,2.07,2,0.08,2,0.15,2,-999.,9,-999.,9,-999.,9,-999,9,-999,9
49UP20130426,RF13-04,4721,1,27,21998,2,20130504,1524,35.0197,148.992,6065,127.5,127,18.3750,34.7609,2,-999.,9,215.76,2,2.81,2,2.49,2,0.04,2,0.18,2,-999.,9,-999.,9,-999.,9,-999,9,-999,9
49UP20130426,RF13-04,4721,1,26,22084,2,20130504,1523,35.0197,148.992,6065,152.2,151,18.1694,34.7490,2,-999.,9,216.68,2,3.31,2,2.86,2,0.05,2,0.21,2,-999.,9,-999.,9,-999.,9,-999,9,-999,9
49UP20130426,RF13-04,4721,1,25,22098,2,20130504,1522,35.0197,148.992,6065,203.8,202,17.4159,34.7183,2,-999.,9,211.50,2,4.40,2,4.28,2,0.02,2,0.30,2,-999.,9,-999.,9,-999.,9,-999,9,-999,9
49UP20130426,RF13-04,4721,1,24,22110,2,20130504,1521,35.0197,148.992,6065,255.3,253,16.9671,34.6983,2,-999.,9,209.18,2,4.98,2,5.03,2,0.02,2,0.34,2,-999.,9,-999.,9,-999.,9,-999,9,-999,9
49UP20130426,RF13-04,4721,1,23,22096,2,20130504,1519,35.0197,148.992,6065,304.1,302,16.1066,34.6293,2,-999.,9,190.55,2,8.64,2,8.25,2,0.01,2,0.56,2,-999.,9,-999.,9,-999.,9,-999,9,-999,9
49UP20130426,RF13-04,4721,1,22,22111,2,20130504,1516,35.0197,148.992,6065,404.9,402,12.7468,34.4248,2,-999.,9,172.92,2,21.13,2,15.21,2,0.01,2,1.07,2,-999.,9,-999.,9,-999.,9,-999,9,-999,9
49UP20130426,RF13-04,4721,1,21,22078,2,20130504,1513,35.0197,148.992,6065,505.9,502,9.6204,34.2503,2,-999.,9,155.54,2,38.34,2,21.72,2,0.01,2,1.56,2,-999.,9,-999.,9,-999.,9,-999,9,-999,9
49UP20130426,RF13-04,4721,1,20,22093,2,20130504,1513,35.0197,148.992,6065,505.9,502,9.6204,34.2503,2,-999.,9,155.45,2,38.32,2,21.69,2,0.01,2,1.56,2,-999.,9,-999.,9,-999.,9,-999,9,-999,9
49UP20130426,RF13-04,4721,1,19,22092,2,20130504,1510,35.0197,148.992,6065,606.9,602,7.0904,34.1531,2,-999.,9,134.64,2,59.09,2,28.04,2,0.01,2,2.04,2,-999.,9,-999.,9,-999.,9,-999,9,-999,9
49UP20130426,RF13-04,4721,1,14,21999,2,20130504,1508,35.0197,148.992,6065,707.6,701,5.8344,34.2193,2,-999.,9,93.12,6,81.40,6,34.04,6,0.02,6,2.47,6,-999.,9,-999.,9,-999.,9,-999,9,-999,9
49UP20130426,RF13-04,4721,1,13,22667,2,20130504,1506,35.0197,148.992,6065,811.1,804,4.5320,34.2183,2,-999.,9,67.18,2,99.89,2,38.38,2,0.00,2,2.77,2,-999.,9,-999.,9,-999.,9,-999,9,-999,9
49UP20130426,RF13-04,4721,1,12,22074,2,20130504,1503,35.0197,148.992,6065,911.8,903,4.0737,34.2821,2,-999.,9,59.13,2,111.10,2,39.48,2,0.00,2,2.85,2,-999.,9,-999.,9,-999.,9,-999,9,-999,9
49UP20130426,RF13-04,4721,1,11,21996,2,20130504,1500,35.0197,148.992,6065,1015.7,1006,3.6491,34.3390,2,-999.,9,51.61,2,122.16,2,40.73,2,0.00,2,2.93,2,-999.,9,-999.,9,-999.,9,-999,9,-999,9
49UP20130426,RF13-04,4721,1,10,22107,2,20130504,1454,35.0197,148.992,6065,1221.8,1209,3.0982,34.4045,2,-999.,9,44.08,2,136.32,2,42.04,2,0.00,2,3.02,2,-999.,9,-999.,9,-999.,9,-999,9,-999,9
49UP20130426,RF13-04,4721,1,9,22108,2,20130504,1446,35.0197,148.992,6065,1420.3,1405,2.6665,34.4595,2,-999.,9,41.53,2,149.15,2,42.68,2,0.00,2,3.05,2,-999.,9,-999.,9,-999.,9,-999,9,-999,9
49UP20130426,RF13-04,4721,1,8,22081,2,20130504,1436,35.0197,148.992,6065,1625.7,1608,2.4066,34.5097,2,-999.,9,46.40,2,155.87,2,42.59,2,0.00,2,3.03,2,-999.,9,-999.,9,-999.,9,-999,9,-999,9
49UP20130426,RF13-04,4721,1,7,22106,2,20130504,1422,35.0197,148.992,6065,1822.0,1801,2.2075,34.5490,2,-999.,9,57.73,2,159.05,2,42.00,2,0.00,2,2.99,2,-999.,9,-999.,9,-999.,9,-999,9,-999,9
49UP20130426,RF13-04,4721,1,6,22113,2,20130504,1419,35.0197,148.992,6065,2019.9,1996,2.0268,34.5801,2,-999.,9,68.29,2,161.98,2,41.45,2,0.00,2,2.93,2,-999.,9,-999.,9,-999.,9,-999,9,-999,9