BOTTLE,20171119JMAGEMD
EXPOCODE,SECT_ID,STNNBR,CASTNO,SAMPNO,BTLNBR,BTLNBR_FLAG_W,DATE,TIME,LATITUDE,LONGITUDE,DEPTH,CTDPRS,CTDDEP,CTDTMP,CTDSAL,CTDSAL_FLAG_W,SALNTY,SALNTY_FLAG_W,OXYGEN,OXYGEN_FLAG_W,SILCAT,SILCAT_FLAG_W,NO2+NO3,NO2+NO3_FLAG_W,NITRIT,NITRIT_FLAG_W,PHSPHT,PHSPHT_FLAG_W,TCARBN,TCARBN_FLAG_W,ALKALI,ALKALI_FLAG_W,PH_TOT,PH_TOT_FLAG_W,CFC-11,CFC-11_FLAG_W,CFC-12,CFC-12_FLAG_W
,,,,,,,UTC,UTC,,,METER,DBAR,METERS,ITS-90,PSS-78,,PSS-78,,UMOL/KG,,UMOL/KG,,UMOL/KG,,UMOL/KG,,UMOL/KG,,UMOL/KG,,UMOL/KG,,@25DEG-C,,PMOL/KG,,PMOL/KG,
49UP20130426,RF13-04,4754,1,-999,0,2,20130521,0412,38.0302,149.0438,5807,0.0,0,16.4299,34.5679,2,34.5926,2,260.98,2,3.66,2,0.08,2,0.01,2,0.10,2,1997.6,2,2283.0,2,8.0196,2,-999,9,-999,9
49UP20130426,RF13-04,4754,1,36,22109,2,20130521,0437,38.0302,149.0438,5807,12.9,13,16.4043,34.5649,2,34.5682,4,261.50,2,4.11,2,0.30,2,0.03,2,0.11,2,2002.0,2,2282.8,2,8.0159,2,-999,9,-999,9
49UP20130426,RF13-04,4754,1,35,22112,2,20130521,0435,38.0302,149.0438,5807,26.2,26,15.3037,34.4876,2,-999.0000,9,259.21,2,7.71,2,2.32,2,0.16,2,0.27,2,2028.1,2,2281.5,2,7.9722,2,-999,9,-999,9
49UP20130426,RF13-04,4754,1,34,22083,2,20130521,0434,38.0302,149.0438,5807,53.4,53,14.2923,34.4603,2,-999.0000,9,242.55,2,9.95,2,5.59,2,0.39,2,0.54,2,2050.1,2,2278.8,2,7.9177,2,-999,9,-999,9
49UP20130426,RF13-04,4754,1,33,22086,2,20130521,0432,38.0302,149.0438,5807,77.3,77,12.7959,34.3737,2,-999.0000,9,229.66,2,14.44,2,10.14,2,0.49,2,0.79,2,2078.1,2,2277.9,2,7.8588,2,-999,9,-999,9
49UP20130426,RF13-04,4754,1,32,22105,2,20130521,0430,38.0302,149.0438,5807,103.0,102,11.4593,34.2758,2,34.2807,4,241.77,2,15.28,2,11.03,2,0.42,2,0.84,2,2080.9,2,2273.2,2,7.8382,2,-999,9,-999,9
49UP20130426,RF13-04,4754,1,31,22076,2,20130521,0428,38.0302,149.0438,5807,127.8,127,10.6800,34.2323,2,-999.0000,9,221.30,6,21.01,6,14.03,6,0.04,6,1.06,6,2113.8,2,2273.4,2,7.7924,2,-999,9,-999,9
49UP20130426,RF13-04,4754,1,30,22097,2,20130521,0424,38.0302,149.0438,5807,150.5,149,10.0884,34.1967,2,-999.0000,9,203.41,2,25.55,2,16.32,2,0.03,2,1.21,2,2120.9,2,2275.2,2,7.7572,2,-999,9,-999,9
49UP20130426,RF13-04,4754,1,29,22102,2,20130521,0422,38.0302,149.0438,5807,200.7,199,8.4311,34.0109,2,34.0132,2,238.94,2,24.69,2,15.77,2,0.03,2,1.20,2,2117.1,2,2269.1,2,7.7544,2,-999,9,-999,9
49UP20130426,RF13-04,4754,1,28,22091,2,20130521,0420,38.0302,149.0438,5807,254.0,252,6.6538,33.8142,2,-999.0000,9,234.57,2,32.95,2,19.02,2,0.03,2,1.46,2,2142.4,2,2266.5,2,7.6920,2,-999,9,-999,9
49UP20130426,RF13-04,4754,1,27,21998,2,20130521,0418,38.0302,149.0438,5807,304.8,302,6.0327,33.8237,2,-999.0000,9,210.39,2,42.13,2,22.37,2,0.01,2,1.71,2,2165.5,2,2273.7,2,7.6420,2,-999,9,-999,9
49UP20130426,RF13-04,4754,1,26,22084,2,20130521,0415,38.0302,149.0438,5807,403.6,400,5.1857,33.9393,2,33.9394,2,139.54,2,66.38,2,31.43,2,0.01,2,2.33,2,2230.0,2,2292.8,2,7.5039,2,-999,9,-999,9
49UP20130426,RF13-04,4754,1,25,22098,2,20130521,0412,38.0302,149.0438,5807,508.1,504,4.8050,34.0445,2,-999.0000,9,101.11,2,81.87,2,35.33,2,0.00,2,2.59,2,2273.8,2,2307.6,2,7.4393,2,-999,9,-999,9
49UP20130426,RF13-04,4754,1,24,22110,2,20130521,0409,38.0302,149.0438,5807,606.4,601,4.1230,34.0870,2,34.0821,4,70.39,2,98.52,2,39.00,2,0.00,2,2.84,2,2311.8,6,2322.2,6,7.3693,2,-999,9,-999,9
49UP20130426,RF13-04,4754,1,23,22096,2,20130521,0406,38.0302,149.0438,5807,707.0,701,4.2023,34.2259,2,-999.0000,9,61.34,2,106.24,2,39.56,2,0.00,2,2.86,2,2314.2,2,2340.8,2,7.3838,2,-999,9,-999,9
49UP20130426,RF13-04,4754,1,22,22111,2,20130521,0403,38.0302,149.0438,5807,809.5,802,3.8359,34.2845,2,34.2843,2,50.51,2,116.22,2,40.62,2,0.01,2,2.94,2,2333.8,2,2350.6,2,7.3718,6,-999,9,-999,9
49UP20130426,RF13-04,4754,1,21,22078,2,20130521,0401,38.0302,149.0438,5807,909.3,901,3.4648,34.3348,2,-999.0000,9,44.24,2,126.02,2,41.56,2,0.00,2,3.00,2,2350.2,2,2362.7,2,7.3600,2,-999,9,-999,9
49UP20130426,RF13-04,4754,1,20,22093,2,20130521,0358,38.0302,149.0438,5807,1011.2,1001,3.1594,34.3680,2,34.3678,6,39.56,2,134.61,2,42.16,2,0.00,2,3.04,2,2363.8,2,2370.3,2,7.3501,2,-999,9,-999,9
49UP20130426,RF13-04,4754,1,19,22092,2,20130521,0353,38.0302,149.0438,5807,1213.5,1201,2.8011,34.4318,2,34.4313,2,37.69,2,145.14,2,42.82,2,0.00,2,3.08,2,2376.5,2,2384.4,2,7.3506,2,-999,9,-999,9
49UP20130426,RF13-04,4754,1,18,22101,2,20130521,0348,38.0302,149.0438,5807,1415.5,1400,2.4940,34.4913,2,34.4917,2,43.21,2,153.44,2,42.73,2,0.00,2,3.06,2,2383.9,2,2396.8,2,7.3672,2,-999,9,-999,9
49UP20130426,RF13-04,4754,1,17,22090,2,20130521,0344,38.0302,149.0438,5807,1621.8,1603,2.2792,34.5317,2,34.5312,2,50.24,2,158.10,2,42.45,2,0.00,2,3.03,2,2383.9,2,2396.3,2,7.3812,2,-999,9,-999,9
49UP20130426,RF13-04,4754,1,16,22089,2,20130521,0339,38.0302,149.0438,5807,1825.7,1804,2.0822,34.5681,2,34.5682,2,62.81,6,161.34,6,41.82,6,0.00,6,2.98,6,2379.1,2,2409.8,2,7.4065,2,-999,9,-999,9
49UP20130426,RF13-04,4754,1,15,22088,2,20130521,0334,38.0302,149.0438,5807,2027.3,2002,1.9353,34.5945,2,34.5949,2,75.17,2,162.47,2,41.10,2,0.00,2,2.92,2,2372.2,2,2413.4,2,7.4313,2,-999,9,-999,9
49UP20130426,RF13-04,4754,1,14,21999,2,20130521,0328,38.0302,149.0438,5807,2281.5,2252,1.8049,34.6178,2,34.6182,2,89.50,2,162.14,2,40.22,2,0.00,2,2.85,2,2365.9,6,2416.2,6,7.4591,2,-999,9,-999,9
49UP20130426,RF13-04,4754,1,13,22667,2,20130521,0322,38.0302,149.0438,5807,2538.8,2505,1.7008,34.6363,2,34.6358,2,103.30,6,160.25,6,39.18,6,0.00,6,2.78,6,2369.4,2,2416.5,2,7.4857,2,-999,9,-999,9
49UP20130426,RF13-04,4754,1,12,22074,3,20130521,0316,38.0302,149.0438,5807,2791.3,2752,1.6149,34.6509,2,34.6505,2,115.80,2,158.23,2,38.31,2,0.00,2,2.72,2,2357.0,2,2417.0,2,7.5082,6,-999,9,-999,9
49UP20130426,RF13-04,4754,1,11,21996,2,20130521,0310,38.0302,149.0438,5807,3046.9,3002,1.5568,34.6611,2,34.6603,2,125.44,2,156.08,2,37.91,2,0.00,2,2.67,2,2346.8,2,2417.3,2,7.5265,2,-999,9,-999,9
49UP20130426,RF13-04,4754,1,10,22107,3,20130521,0305,38.0302,149.0438,5807,3299.6,3250,1.5168,34.6686,2,34.6668,2,133.35,2,154.10,2,37.21,2,0.00,2,2.63,2,2343.1,2,2418.1,2,7.5413,2,-999,9,-999,9
49UP20130426,RF13-04,4754,1,9,22108,2,20130521,0259,38.0302,149.0438,5807,3556.2,3500,1.4864,34.6747,2,34.6721,6,139.80,3,152.61,2,36.92,2,0.00,2,2.59,2,2341.5,2,2418.7,2,7.5510,2,-999,9,-999,9
49UP20130426,RF13-04,4754,1,8,22081,2,20130521,0254,38.0302,149.0438,5807,3812.3,3750,1.4734,34.6789,2,-999.0000,9,146.10,2,150.76,2,36.44,2,0.00,2,2.56,2,2334.6,2,2417.6,2,7.5631,2,-999,9,-999,9
49UP20130426,RF13-04,4754,1,7,22106,2,20130521,0248,38.0302,149.0438,5807,4066.3,3998,1.4660,34.6824,2,34.6807,2,149.59,3,150.09,2,36.16,2,0.00,2,2.54,2,2327.3,2,2417.4,2,7.5702,2,-999,9,-999,9
49UP20130426,RF13-04,4754,1,6,22113,2,20130521,0243,38.0302,149.0438,5807,4325.2,4250,1.4677,34.6852,2,34.6850,2,154.27,6,148.56,6,35.91,6,0.00,6,2.52,6,2320.6,2,2416.0,2,7.5776,2,-999,9,-999,9
49UP20130426,RF13-04,4754,1,5,22094,2,20130521,0237,38.0302,149.0438,5807,4583.3,4501,1.4837,34.6864,2,34.6866,2,157.25,2,147.78,2,35.77,2,0.00,2,2.51,2,2326.5,6,2415.7,6,7.5795,2,-999,9,-999,9
49UP20130426,RF13-04,4754,1,4,22077,2,20130521,0231,38.0302,149.0438,5807,4839.4,4749,1.4981,34.6880,2,34.6883,2,160.47,3,146.53,2,35.60,2,0.00,2,2.50,2,2325.5,2,2414.2,2,7.5815,2,-999,9,-999,9
49UP20130426,RF13-04,4754,1,3,22104,2,20130521,0225,38.0302,149.0438,5807,5097.6,5000,1.5175,34.6893,2,34.6895,6,160.57,2,145.33,2,35.53,2,0.00,2,2.49,2,2321.4,2,2415.5,2,7.5842,6,-999,9,-999,9
49UP20130426,RF13-04,4754,1,2,22075,2,20130521,0216,38.0302,149.0438,5807,5613.8,5500,1.5702,34.6904,2,34.6915,2,163.42,2,143.11,2,35.24,2,0.00,2,2.47,2,2318.9,2,2412.0,2,7.5896,2,-999,9,-999,9
49UP20130426,RF13-04,4754,1,1,21997,2,20130521,0209,38.0302,149.0438,5807,5929.9,5806,1.6078,34.6907,2,34.6918,6,164.92,2,142.98,2,35.28,2,0.00,2,2.47,2,2316.4,2,2413.2,2,7.5888,2,-999,9,-999,9