BOTTLE,20171117JMAGEMD
EXPOCODE,SECT_ID,STNNBR,CASTNO,SAMPNO,BTLNBR,BTLNBR_FLAG_W,DATE,TIME,LATITUDE,LONGITUDE,DEPTH,CTDPRS,CTDDEP,CTDTMP,CTDSAL,CTDSAL_FLAG_W,SALNTY,SALNTY_FLAG_W,OXYGEN,OXYGEN_FLAG_W,SILCAT,SILCAT_FLAG_W,NO2+NO3,NO2+NO3_FLAG_W,NITRIT,NITRIT_FLAG_W,PHSPHT,PHSPHT_FLAG_W,TCARBN,TCARBN_FLAG_W,ALKALI,ALKALI_FLAG_W,PH_TOT,PH_TOT_FLAG_W,CFC-11,CFC-11_FLAG_W,CFC-12,CFC-12_FLAG_W
,,,,,,,UTC,UTC,,,METER,DBAR,METERS,ITS-90,PSS-78,,PSS-78,,UMOL/KG,,UMOL/KG,,UMOL/KG,,UMOL/KG,,UMOL/KG,,UMOL/KG,,UMOL/KG,,@25DEG-C,,PMOL/KG,,PMOL/KG,
49UF20170502,KS17-04,5121,1,-999,0,2,20170507,0250,39.9977,154.3343,5531,0.0,0,11.9987,34.2930,2,34.2934,2,278.13,2,13.94,2,7.25,2,0.18,2,0.59,2,2063.9,2,2270.5,2,7.8901,2,-999,9,-999,9
49UF20170502,KS17-04,5121,1,36,25270,2,20170507,0325,39.9977,154.3343,5531,9.4,9,11.9422,34.2922,2,34.2922,6,278.98,2,13.88,2,7.16,2,0.18,2,0.58,2,2065.8,2,2272.1,2,7.8912,2,-999,9,-999,9
49UF20170502,KS17-04,5121,1,35,25269,2,20170507,0323,39.9977,154.3343,5531,25.1,25,11.2578,34.3175,2,-999.0000,9,279.25,2,13.96,2,7.55,2,0.20,2,0.60,2,2070.9,2,2273.7,2,7.8884,2,-999,9,-999,9
49UF20170502,KS17-04,5121,1,34,25268,2,20170507,0318,39.9977,154.3343,5531,49.1,49,10.9147,34.3398,2,-999.0000,9,269.04,2,14.30,2,8.75,2,0.28,2,0.67,2,2079.0,2,2272.9,2,7.8680,2,-999,9,-999,9
49UF20170502,KS17-04,5121,1,33,25267,2,20170507,0317,39.9977,154.3343,5531,74.5,74,10.7441,34.3271,2,-999.0000,9,266.26,6,14.12,6,9.33,6,0.48,6,0.69,6,2080.8,2,2271.0,2,7.8596,2,-999,9,-999,9
49UF20170502,KS17-04,5121,1,32,25266,2,20170507,0315,39.9977,154.3343,5531,99.4,99,10.6641,34.3150,2,34.3144,2,267.09,2,14.09,2,9.30,2,0.46,2,0.68,2,2080.1,2,2271.1,2,7.8614,2,-999,9,-999,9
49UF20170502,KS17-04,5121,1,31,25265,2,20170507,0314,39.9977,154.3343,5531,124.9,124,10.6126,34.3093,2,-999.0000,9,265.54,2,14.41,2,9.60,2,0.38,2,0.70,2,2083.2,2,2271.8,2,7.8569,2,-999,9,-999,9
49UF20170502,KS17-04,5121,1,30,25264,2,20170507,0313,39.9977,154.3343,5531,150.8,150,10.5963,34.3090,2,-999.0000,9,264.74,2,14.58,2,9.72,2,0.27,2,0.71,2,2084.0,2,2272.4,2,7.8560,2,-999,9,-999,9
49UF20170502,KS17-04,5121,1,29,25263,2,20170507,0311,39.9977,154.3343,5531,200.8,199,10.5743,34.3221,2,34.3209,6,259.76,2,15.41,2,10.41,2,0.04,2,0.75,2,2089.1,2,2271.9,2,7.8489,2,-999,9,-999,9
49UF20170502,KS17-04,5121,1,28,25262,2,20170507,0310,39.9977,154.3343,5531,251.6,250,10.3322,34.2895,2,-999.0000,9,257.85,2,16.56,2,11.06,2,0.04,2,0.80,2,2091.9,2,2270.3,2,7.8388,2,-999,9,-999,9
49UF20170502,KS17-04,5121,1,27,25261,2,20170507,0308,39.9977,154.3343,5531,303.1,301,9.7532,34.2012,2,-999.0000,9,252.01,2,19.17,2,12.52,2,0.02,2,0.92,2,2101.9,2,2270.4,2,7.8160,2,-999,9,-999,9
49UF20170502,KS17-04,5121,1,26,25260,2,20170507,0305,39.9977,154.3343,5531,403.7,400,7.4394,33.9273,2,33.9265,6,209.38,2,35.72,2,20.65,2,0.01,2,1.52,2,2155.3,2,2270.2,2,7.6844,2,-999,9,-999,9
49UF20170502,KS17-04,5121,1,25,25259,2,20170507,0302,39.9977,154.3343,5531,504.8,500,5.7525,33.8945,2,33.8950,2,152.08,2,58.19,2,29.08,2,0.00,2,2.13,2,2217.4,2,2282.2,2,7.5423,2,-999,9,-999,9
49UF20170502,KS17-04,5121,1,24,25258,2,20170507,0300,39.9977,154.3343,5531,606.0,600,4.9840,33.9995,2,33.9988,2,106.95,2,76.83,2,34.43,2,0.00,2,2.50,2,2258.8,2,2299.5,2,7.4559,2,-999,9,-999,9
49UF20170502,KS17-04,5121,1,23,25257,2,20170507,0257,39.9977,154.3343,5531,707.2,701,4.8552,34.1516,2,34.1503,6,78.83,6,90.72,6,36.88,6,0.00,6,2.66,6,2286.9,2,2321.2,2,7.4271,2,-999,9,-999,9
49UF20170502,KS17-04,5121,1,22,25256,2,20170507,0254,39.9977,154.3343,5531,808.5,801,4.1731,34.2004,2,34.1999,2,56.92,2,106.21,2,39.84,2,0.00,2,2.86,2,2321.7,2,2335.5,2,7.3794,2,-999,9,-999,9
49UF20170502,KS17-04,5121,1,21,25255,2,20170507,0251,39.9977,154.3343,5531,909.7,901,3.7532,34.2731,2,34.2722,6,44.88,2,118.47,2,41.40,2,0.00,2,2.96,2,2341.1,2,2349.9,2,7.3631,2,-999,9,-999,9
49UF20170502,KS17-04,5121,1,20,24270,2,20170507,0248,39.9977,154.3343,5531,1010.7,1001,3.4408,34.3230,2,34.3221,2,40.00,2,127.47,2,41.82,2,0.00,2,3.02,2,2349.8,6,2359.9,6,7.3564,2,-999,9,-999,9
49UF20170502,KS17-04,5121,1,19,25253,2,20170507,0244,39.9977,154.3343,5531,1211.9,1199,2.9888,34.3968,2,34.3958,2,37.63,2,140.49,2,42.55,2,0.00,2,3.05,2,2368.3,2,2375.5,2,7.3605,2,-999,9,-999,9
49UF20170502,KS17-04,5121,1,18,25252,2,20170507,0239,39.9977,154.3343,5531,1415.6,1400,2.5899,34.4598,2,34.4595,2,38.62,2,152.31,2,42.76,2,0.00,2,3.06,2,2377.9,2,2386.5,2,7.3658,2,-999,9,-999,9
49UF20170502,KS17-04,5121,1,17,25251,2,20170507,0235,39.9977,154.3343,5531,1617.4,1599,2.3636,34.5061,2,34.5058,6,44.22,2,158.36,2,42.63,2,0.00,2,3.04,2,2382.0,2,2398.4,2,7.3760,2,-999,9,-999,9
49UF20170502,KS17-04,5121,1,16,25250,3,20170507,0230,39.9977,154.3343,5531,1819.9,1798,2.1807,34.5467,2,34.5458,2,54.25,2,161.78,2,42.25,2,0.00,2,2.99,2,2377.9,2,2403.4,2,7.3981,2,-999,9,-999,9
49UF20170502,KS17-04,5121,1,15,25249,2,20170507,0226,39.9977,154.3343,5531,2024.6,1999,2.0296,34.5778,2,34.5771,2,66.26,6,163.25,6,41.52,6,0.00,6,2.94,6,2378.8,2,2409.8,2,7.4243,2,-999,9,-999,9
49UF20170502,KS17-04,5121,1,14,25248,2,20170507,0221,39.9977,154.3343,5531,2278.7,2249,1.8662,34.6087,2,34.6086,2,82.41,2,163.22,2,40.51,2,0.00,2,2.86,2,2369.4,2,2413.9,2,7.4602,6,-999,9,-999,9
49UF20170502,KS17-04,5121,1,13,25247,2,20170507,0215,39.9977,154.3343,5531,2534.4,2500,1.7454,34.6301,2,34.6300,6,97.21,2,162.14,2,39.54,2,0.00,2,2.81,2,2356.5,2,2417.0,2,7.4878,2,-999,9,-999,9
49UF20170502,KS17-04,5121,1,12,25246,3,20170507,0209,39.9977,154.3343,5531,2788.3,2749,1.6465,34.6472,2,34.6469,6,112.20,2,159.69,2,38.66,2,0.00,2,2.72,2,2350.5,2,2417.0,2,7.5148,2,-999,9,-999,9
49UF20170502,KS17-04,5121,1,11,25245,2,20170507,0204,39.9977,154.3343,5531,3043.2,2998,1.5864,34.6579,2,34.6574,2,122.27,2,157.76,2,38.04,2,0.00,2,2.66,2,2348.0,2,2417.7,2,7.5325,2,-999,9,-999,9
49UF20170502,KS17-04,5121,1,10,25244,2,20170507,0157,39.9977,154.3343,5531,3299.1,3248,1.5400,34.6664,2,34.6663,6,130.88,2,155.80,2,37.40,2,0.00,2,2.62,2,2341.7,2,2418.4,2,7.5504,2,-999,9,-999,9
49UF20170502,KS17-04,5121,1,9,25243,2,20170507,0152,39.9977,154.3343,5531,3555.1,3498,1.5014,34.6733,2,34.6730,2,138.67,2,154.02,2,36.93,2,0.00,2,2.58,2,2336.1,6,2417.5,6,7.5630,2,-999,9,-999,9
49UF20170502,KS17-04,5121,1,8,25242,2,20170507,0146,39.9977,154.3343,5531,3810.6,3748,1.4812,34.6785,2,34.6788,2,144.67,2,152.43,2,36.57,2,0.00,2,2.54,2,2331.1,2,2414.9,2,7.5736,6,-999,9,-999,9
49UF20170502,KS17-04,5121,1,7,25241,2,20170507,0141,39.9977,154.3343,5531,4066.9,3997,1.4753,34.6819,2,34.6816,6,148.93,2,151.47,2,36.31,2,0.00,2,2.53,2,2329.8,2,2416.4,2,7.5783,2,-999,9,-999,9
49UF20170502,KS17-04,5121,1,6,25240,2,20170507,0135,39.9977,154.3343,5531,4323.9,4248,1.4781,34.6847,2,34.6838,2,152.69,2,150.54,2,36.00,2,0.00,2,2.51,2,2325.9,2,2414.3,2,7.5862,2,-999,9,-999,9
49UF20170502,KS17-04,5121,1,5,25239,2,20170507,0130,39.9977,154.3343,5531,4582.0,4499,1.4863,34.6866,2,34.6860,2,155.31,6,149.35,6,35.91,6,0.00,6,2.49,6,2323.1,2,2413.1,2,7.5926,2,-999,9,-999,9
49UF20170502,KS17-04,5121,1,4,25238,2,20170507,0124,39.9977,154.3343,5531,4839.1,4748,1.5011,34.6885,2,34.6883,2,157.82,2,149.39,2,35.58,2,0.00,2,2.48,2,2323.7,2,2414.7,2,7.5946,2,-999,9,-999,9
49UF20170502,KS17-04,5121,1,3,25237,2,20170507,0119,39.9977,154.3343,5531,5098.0,4999,1.5216,34.6898,2,34.6892,6,159.22,2,148.43,2,35.57,2,0.00,2,2.47,2,2321.5,2,2410.9,2,7.5972,2,-999,9,-999,9
49UF20170502,KS17-04,5121,1,2,25236,2,20170507,0112,39.9977,154.3343,5531,5354.3,5248,1.5441,34.6908,2,34.6891,4,162.02,2,146.12,2,35.47,2,0.00,2,2.45,2,2320.2,6,2412.6,6,7.6000,2,-999,9,-999,9
49UF20170502,KS17-04,5121,1,1,25235,2,20170507,0105,39.9977,154.3343,5531,5655.3,5539,1.5757,34.6916,2,34.6911,2,162.90,2,144.55,2,35.24,2,0.00,2,2.44,2,2318.9,2,2411.9,2,7.6005,6,-999,9,-999,9
49UF20170502,KS17-04,5123,1,-999,0,2,20170509,0255,40.0055,159.6723,5483,0.0,0,9.0460,33.8270,2,33.8373,2,293.99,2,18.23,2,10.89,2,0.24,2,0.92,2,2084.4,2,2255.9,2,7.8193,3,-999,9,-999,9
49UF20170502,KS17-04,5123,1,36,25270,2,20170509,0332,40.0055,159.6723,5483,10.5,10,8.9745,33.8276,2,33.8284,2,295.72,2,18.21,2,10.89,2,0.24,2,0.89,2,2086.3,2,2255.5,2,7.8248,2,-999,9,-999,9
49UF20170502,KS17-04,5123,1,35,25269,2,20170509,0331,40.0055,159.6723,5483,25.3,25,8.7882,33.8287,2,-999.0000,9,296.67,2,18.23,2,10.93,2,0.24,2,0.89,2,2086.7,2,2257.9,2,7.8233,2,-999,9,-999,9
49UF20170502,KS17-04,5123,1,34,25268,2,20170509,0329,40.0055,159.6723,5483,52.4,52,8.1832,33.8192,2,-999.0000,9,295.01,6,18.59,6,11.46,6,0.25,6,0.94,6,2094.2,2,2256.3,2,7.8114,2,-999,9,-999,9
49UF20170502,KS17-04,5123,1,33,25267,2,20170509,0328,40.0055,159.6723,5483,75.7,75,7.9259,33.8321,2,-999.0000,9,290.69,2,19.12,2,11.97,2,0.29,2,0.96,2,2098.4,2,2257.7,2,7.7993,2,-999,9,-999,9
49UF20170502,KS17-04,5123,1,32,25266,3,20170509,0326,40.0055,159.6723,5483,101.1,100,8.5158,33.9824,2,33.9815,2,285.76,2,19.09,2,11.87,2,0.25,2,0.95,2,2102.0,2,2266.2,2,7.8100,2,-999,9,-999,9
49UF20170502,KS17-04,5123,1,31,25265,2,20170509,0325,40.0055,159.6723,5483,127.4,126,7.9788,33.9014,2,-999.0000,9,283.97,2,19.77,2,12.79,2,0.24,2,1.00,2,2103.7,2,2259.8,2,7.7981,2,-999,9,-999,9
49UF20170502,KS17-04,5123,1,30,25264,2,20170509,0321,40.0055,159.6723,5483,149.0,148,7.5879,33.8595,2,-999.0000,9,278.38,2,20.95,2,13.74,2,0.05,2,1.05,2,2107.0,2,2258.1,2,7.7788,2,-999,9,-999,9
49UF20170502,KS17-04,5123,1,29,25263,2,20170509,0319,40.0055,159.6723,5483,202.8,201,6.7971,33.7853,2,33.7862,2,245.71,2,29.40,2,18.05,2,0.01,2,1.36,2,2136.6,2,2258.9,2,7.7154,2,-999,9,-999,9
49UF20170502,KS17-04,5123,1,28,25262,2,20170509,0318,40.0055,159.6723,5483,251.3,249,5.5772,33.7548,2,-999.0000,9,185.91,2,48.08,2,26.30,2,0.01,2,1.94,2,2192.5,6,2268.7,6,7.5830,2,-999,9,-999,9
49UF20170502,KS17-04,5123,1,27,25261,2,20170509,0316,40.0055,159.6723,5483,303.6,301,5.4212,33.8564,2,-999.0000,9,152.18,2,58.23,2,29.65,2,0.01,2,2.17,2,2221.1,2,2279.5,2,7.5281,6,-999,9,-999,9
49UF20170502,KS17-04,5123,1,26,25260,2,20170509,0314,40.0055,159.6723,5483,403.7,400,4.9020,33.9540,2,33.9542,6,113.66,2,74.17,2,34.11,2,0.00,2,2.49,2,2257.1,2,2296.8,2,7.4574,2,-999,9,-999,9
49UF20170502,KS17-04,5123,1,25,25259,2,20170509,0311,40.0055,159.6723,5483,503.0,499,4.4300,34.0562,2,34.0563,2,77.75,2,91.09,2,38.08,2,0.00,2,2.74,2,2298.0,2,2312.0,2,7.3990,2,-999,9,-999,9
49UF20170502,KS17-04,5123,1,24,25258,3,20170509,0309,40.0055,159.6723,5483,605.1,600,4.0281,34.1624,2,34.1619,6,53.70,6,106.55,6,40.41,6,0.00,6,2.90,6,2323.2,2,2330.6,2,7.3636,2,-999,9,-999,9
49UF20170502,KS17-04,5123,1,23,25257,2,20170509,0306,40.0055,159.6723,5483,706.5,700,3.8177,34.2422,2,34.2419,2,45.58,2,115.63,2,41.14,2,0.00,2,2.95,2,2338.8,2,2343.9,2,7.3594,2,-999,9,-999,9
49UF20170502,KS17-04,5123,1,22,25256,3,20170509,0304,40.0055,159.6723,5483,807.6,800,3.4307,34.2880,2,34.2886,2,37.65,2,126.57,2,42.20,2,0.00,2,3.02,2,2353.3,6,2355.3,6,7.3451,2,-999,9,-999,9
49UF20170502,KS17-04,5123,1,21,25255,2,20170509,0301,40.0055,159.6723,5483,910.1,901,3.2714,34.3496,2,34.3477,6,37.69,2,131.54,2,42.47,2,0.00,2,3.04,2,2357.6,2,2365.6,2,7.3581,2,-999,9,-999,9
49UF20170502,KS17-04,5123,1,20,24270,2,20170509,0258,40.0055,159.6723,5483,1011.1,1001,2.9821,34.3750,2,34.3748,2,35.27,2,140.44,2,42.95,2,0.00,2,3.06,2,2370.9,2,2372.6,2,7.3479,2,-999,9,-999,9
49UF20170502,KS17-04,5123,1,19,25253,2,20170509,0253,40.0055,159.6723,5483,1214.2,1201,2.6447,34.4429,2,34.4423,6,36.54,2,150.53,2,43.02,2,0.00,2,3.07,2,2375.9,2,2386.5,2,7.3618,2,-999,9,-999,9
49UF20170502,KS17-04,5123,1,18,25252,2,20170509,0249,40.0055,159.6723,5483,1416.1,1400,2.4010,34.4939,2,34.4931,6,42.45,2,157.31,2,43.01,2,0.00,2,3.05,2,2384.8,2,2395.6,2,7.3725,2,-999,9,-999,9
49UF20170502,KS17-04,5123,1,17,25251,2,20170509,0244,40.0055,159.6723,5483,1618.4,1600,2.2058,34.5355,2,34.5349,2,50.49,2,161.55,2,42.48,2,0.00,2,3.01,2,2379.1,2,2401.0,2,7.3938,6,-999,9,-999,9
49UF20170502,KS17-04,5123,1,16,25250,2,20170509,0239,40.0055,159.6723,5483,1821.5,1800,2.0512,34.5691,2,34.5696,6,61.89,6,163.53,6,41.91,6,0.00,6,2.96,6,2381.2,2,2408.5,2,7.4197,2,-999,9,-999,9
49UF20170502,KS17-04,5123,1,15,25249,2,20170509,0235,40.0055,159.6723,5483,2024.2,1999,1.9373,34.5924,2,34.5929,2,73.28,2,164.19,2,41.33,2,0.00,2,2.90,2,2372.3,2,2411.8,2,7.4421,2,-999,9,-999,9
49UF20170502,KS17-04,5123,1,14,25248,2,20170509,0230,40.0055,159.6723,5483,2279.4,2250,1.7881,34.6203,2,34.6211,2,90.86,2,162.96,2,40.18,2,0.00,2,2.83,2,2366.6,2,2414.1,2,7.4763,2,-999,9,-999,9
49UF20170502,KS17-04,5123,1,13,25247,2,20170509,0224,40.0055,159.6723,5483,2533.5,2499,1.6881,34.6380,2,34.6410,4,104.51,2,161.34,2,39.24,2,0.00,2,2.76,2,2359.6,6,2416.4,6,7.4993,2,-999,9,-999,9
49UF20170502,KS17-04,5123,1,12,25246,2,20170509,0218,40.0055,159.6723,5483,2789.1,2750,1.6051,34.6521,2,34.6535,4,116.37,2,159.42,2,38.56,2,0.00,2,2.70,2,2350.6,2,2419.1,2,7.5233,2,-999,9,-999,9
49UF20170502,KS17-04,5123,1,11,25245,2,20170509,0213,40.0055,159.6723,5483,3044.1,2999,1.5546,34.6616,2,34.6625,2,125.25,2,157.65,2,37.96,2,0.00,2,2.65,2,2346.4,2,2416.6,2,7.5430,2,-999,9,-999,9
49UF20170502,KS17-04,5123,1,10,25244,2,20170509,0206,40.0055,159.6723,5483,3299.8,3249,1.5089,34.6694,2,34.6698,2,134.15,2,155.31,2,37.44,2,0.00,2,2.60,2,2337.8,2,2418.9,2,7.5578,2,-999,9,-999,9
49UF20170502,KS17-04,5123,1,9,25243,2,20170509,0201,40.0055,159.6723,5483,3555.5,3499,1.4825,34.6750,2,34.6792,4,140.82,2,153.80,2,36.98,2,0.00,2,2.57,2,2334.8,2,2417.1,2,7.5667,2,-999,9,-999,9
49UF20170502,KS17-04,5123,1,8,25242,3,20170509,0155,40.0055,159.6723,5483,3811.3,3748,1.4718,34.6792,2,34.6793,2,145.94,2,152.44,2,36.51,2,0.00,2,2.54,2,2332.1,2,2416.9,2,7.5789,3,-999,9,-999,9
49UF20170502,KS17-04,5123,1,7,25241,3,20170509,0150,40.0055,159.6723,5483,4067.9,3998,1.4656,34.6827,2,34.6823,2,150.19,2,151.20,2,36.37,2,0.00,2,2.52,2,2329.8,2,2418.3,2,7.5815,6,-999,9,-999,9
49UF20170502,KS17-04,5123,1,6,25240,2,20170509,0143,40.0055,159.6723,5483,4323.5,4247,1.4694,34.6853,2,34.6844,2,153.61,6,150.33,6,36.09,6,0.00,6,2.50,6,2325.8,2,2417.0,2,7.5892,2,-999,9,-999,9
49UF20170502,KS17-04,5123,1,5,25239,2,20170509,0138,40.0055,159.6723,5483,4582.3,4499,1.4807,34.6871,2,34.6874,6,156.24,2,149.63,2,35.85,2,0.00,2,2.49,2,2324.5,2,2416.2,2,7.6014,4,-999,9,-999,9
49UF20170502,KS17-04,5123,1,4,25238,2,20170509,0132,40.0055,159.6723,5483,4838.4,4748,1.4989,34.6886,2,34.6883,6,157.94,2,149.66,2,35.78,2,0.00,2,2.48,2,2326.7,2,2416.3,2,7.5938,2,-999,9,-999,9
49UF20170502,KS17-04,5123,1,3,25237,2,20170509,0127,40.0055,159.6723,5483,5097.3,4999,1.5188,34.6899,2,34.6918,4,158.96,2,148.66,2,35.76,2,0.00,2,2.47,2,2321.3,2,2415.5,2,7.5976,2,-999,9,-999,9
49UF20170502,KS17-04,5123,1,2,25236,2,20170509,0120,40.0055,159.6723,5483,5356.0,5249,1.5442,34.6907,2,34.6914,6,160.79,2,146.83,2,35.61,2,0.00,2,2.46,2,2319.9,2,2416.2,2,7.5988,2,-999,9,-999,9
49UF20170502,KS17-04,5123,1,1,25235,2,20170509,0115,40.0055,159.6723,5483,5591.0,5477,1.5710,34.6912,2,34.6921,2,161.28,2,146.51,2,35.55,2,0.00,2,2.46,2,2319.3,2,2415.4,2,7.6013,2,-999,9,-999,9