BOTTLE,20171117JMAGEMD
EXPOCODE,SECT_ID,STNNBR,CASTNO,SAMPNO,BTLNBR,BTLNBR_FLAG_W,DATE,TIME,LATITUDE,LONGITUDE,DEPTH,CTDPRS,CTDDEP,CTDTMP,CTDSAL,CTDSAL_FLAG_W,SALNTY,SALNTY_FLAG_W,OXYGEN,OXYGEN_FLAG_W,SILCAT,SILCAT_FLAG_W,NO2+NO3,NO2+NO3_FLAG_W,NITRIT,NITRIT_FLAG_W,PHSPHT,PHSPHT_FLAG_W,TCARBN,TCARBN_FLAG_W,ALKALI,ALKALI_FLAG_W,PH_TOT,PH_TOT_FLAG_W,CFC-11,CFC-11_FLAG_W,CFC-12,CFC-12_FLAG_W
,,,,,,,UTC,UTC,,,METER,DBAR,METERS,ITS-90,PSS-78,,PSS-78,,UMOL/KG,,UMOL/KG,,UMOL/KG,,UMOL/KG,,UMOL/KG,,UMOL/KG,,UMOL/KG,,@25DEG-C,,PMOL/KG,,PMOL/KG,
49UF20170502,KS17-04,5125,1,-999,0,2,20170511,0252,40.0088,165.0028,5468,0.0,0,8.4316,33.5604,2,33.5469,2,299.33,2,17.92,2,10.73,2,0.19,2,0.96,2,2084.1,2,2247.6,2,7.8085,2,-999,9,-999,9
49UF20170502,KS17-04,5125,1,36,25270,3,20170511,0324,40.0088,165.0028,5468,9.8,10,8.3311,33.5649,2,33.5643,6,299.43,2,17.84,2,10.64,2,0.19,2,0.94,2,2086.1,2,2247.6,2,7.8110,2,-999,9,-999,9
49UF20170502,KS17-04,5125,1,35,25269,2,20170511,0322,40.0088,165.0028,5468,24.2,24,8.2351,33.5935,2,-999.0000,9,298.87,2,17.72,2,10.59,2,0.19,2,0.93,2,2084.1,2,2249.7,2,7.8135,2,-999,9,-999,9
49UF20170502,KS17-04,5125,1,34,25268,2,20170511,0320,40.0088,165.0028,5468,50.8,50,8.0487,33.5826,2,-999.0000,9,299.38,2,17.78,2,10.68,2,0.19,2,0.95,2,2084.0,2,2246.8,2,7.8108,2,-999,9,-999,9
49UF20170502,KS17-04,5125,1,33,25267,2,20170511,0318,40.0088,165.0028,5468,75.7,75,7.3033,33.6113,2,-999.0000,9,295.22,2,18.51,2,11.58,2,0.26,2,1.00,2,2092.6,6,2248.1,6,7.7956,2,-999,9,-999,9
49UF20170502,KS17-04,5125,1,32,25266,2,20170511,0313,40.0088,165.0028,5468,99.2,98,7.8529,33.7880,2,33.7863,6,284.71,2,18.66,2,12.25,2,0.31,2,0.98,2,2095.3,2,2253.3,2,7.7979,2,-999,9,-999,9
49UF20170502,KS17-04,5125,1,31,25265,2,20170511,0311,40.0088,165.0028,5468,125.9,125,7.4850,33.7672,2,-999.0000,9,282.64,2,19.30,2,12.94,2,0.05,2,1.02,2,2095.9,2,2254.4,2,7.7856,6,-999,9,-999,9
49UF20170502,KS17-04,5125,1,30,25264,2,20170511,0310,40.0088,165.0028,5468,151.6,150,7.4135,33.7730,2,-999.0000,9,280.34,2,19.76,2,13.27,2,0.02,2,1.03,2,2102.7,2,2253.0,2,7.7826,2,-999,9,-999,9
49UF20170502,KS17-04,5125,1,29,25263,2,20170511,0309,40.0088,165.0028,5468,199.7,198,7.3356,33.8154,2,33.8133,2,252.48,2,25.69,2,16.28,2,0.02,2,1.23,2,2122.8,2,2257.2,2,7.7363,2,-999,9,-999,9
49UF20170502,KS17-04,5125,1,28,25262,2,20170511,0307,40.0088,165.0028,5468,251.1,249,5.8915,33.7331,2,-999.0000,9,206.73,6,41.35,6,23.75,6,0.01,6,1.76,6,2173.0,2,2265.1,2,7.6217,2,-999,9,-999,9
49UF20170502,KS17-04,5125,1,27,25261,2,20170511,0306,40.0088,165.0028,5468,301.1,299,5.2479,33.8087,2,-999.0000,9,161.01,6,56.54,6,29.28,6,0.00,6,2.14,6,2216.4,2,2277.5,2,7.5319,2,-999,9,-999,9
49UF20170502,KS17-04,5125,1,26,25260,2,20170511,0303,40.0088,165.0028,5468,403.1,400,4.6176,33.9425,2,33.9437,2,106.46,2,78.38,2,35.45,2,0.00,2,2.57,2,2268.2,2,2299.3,2,7.4320,2,-999,9,-999,9
49UF20170502,KS17-04,5125,1,25,25259,2,20170511,0301,40.0088,165.0028,5468,505.0,501,4.1076,34.0286,2,34.0277,6,71.26,2,94.57,2,39.11,2,0.00,2,2.81,2,2302.2,2,2312.7,2,7.3697,2,-999,9,-999,9
49UF20170502,KS17-04,5125,1,24,25258,2,20170511,0258,40.0088,165.0028,5468,606.4,601,4.0029,34.1494,2,34.1476,2,53.95,2,106.28,2,40.53,2,0.00,2,2.90,2,2327.6,2,2330.9,2,7.3548,2,-999,9,-999,9
49UF20170502,KS17-04,5125,1,23,25257,2,20170511,0256,40.0088,165.0028,5468,705.0,698,3.7255,34.2247,2,34.2250,6,42.33,2,116.99,2,41.59,2,0.00,2,2.98,2,2338.2,2,2342.2,2,7.3503,2,-999,9,-999,9
49UF20170502,KS17-04,5125,1,22,25256,3,20170511,0253,40.0088,165.0028,5468,808.7,801,3.4917,34.2937,2,34.2939,6,38.07,2,125.28,2,42.17,2,0.00,2,3.01,2,2350.8,2,2357.5,2,7.3536,2,-999,9,-999,9
49UF20170502,KS17-04,5125,1,21,25255,2,20170511,0251,40.0088,165.0028,5468,909.1,900,3.2486,34.3374,2,34.3364,2,35.24,2,132.64,2,42.52,2,0.00,2,3.05,2,2362.7,2,2364.9,2,7.3480,6,-999,9,-999,9
49UF20170502,KS17-04,5125,1,20,24270,2,20170511,0248,40.0088,165.0028,5468,1010.1,1000,3.0802,34.3777,2,34.3767,2,32.86,2,138.08,2,43.08,2,0.00,2,3.07,2,2362.4,2,2372.3,2,7.3540,2,-999,9,-999,9
49UF20170502,KS17-04,5125,1,19,25253,2,20170511,0243,40.0088,165.0028,5468,1212.4,1200,2.6604,34.4360,2,34.4361,2,33.67,2,151.05,2,43.31,2,0.00,2,3.08,2,2381.5,2,2387.2,2,7.3511,2,-999,9,-999,9
49UF20170502,KS17-04,5125,1,18,25252,2,20170511,0239,40.0088,165.0028,5468,1416.1,1400,2.3858,34.4890,2,34.4884,2,38.55,2,159.14,2,43.05,2,0.00,2,3.06,2,2384.3,2,2393.8,2,7.3625,2,-999,9,-999,9
49UF20170502,KS17-04,5125,1,17,25251,2,20170511,0234,40.0088,165.0028,5468,1617.5,1599,2.1825,34.5345,2,34.5337,6,48.21,6,163.69,6,42.65,6,0.00,6,3.02,6,2384.6,2,2403.4,2,7.3881,2,-999,9,-999,9
49UF20170502,KS17-04,5125,1,16,25250,2,20170511,0229,40.0088,165.0028,5468,1821.2,1799,2.0461,34.5669,2,34.5674,2,59.22,2,165.14,2,41.94,2,0.00,2,2.97,2,2381.3,2,2409.3,2,7.4118,2,-999,9,-999,9
49UF20170502,KS17-04,5125,1,15,25249,2,20170511,0225,40.0088,165.0028,5468,2025.8,2001,1.8991,34.5960,2,34.5963,6,72.76,2,166.30,2,41.24,2,0.00,2,2.90,2,2377.4,2,2414.2,2,7.4410,2,-999,9,-999,9
49UF20170502,KS17-04,5125,1,14,25248,2,20170511,0220,40.0088,165.0028,5468,2278.6,2249,1.7691,34.6199,2,34.6218,4,88.16,2,165.66,2,40.27,2,0.00,2,2.83,2,2368.0,2,2416.8,2,7.4702,2,-999,9,-999,9
49UF20170502,KS17-04,5125,1,13,25247,2,20170511,0214,40.0088,165.0028,5468,2532.5,2498,1.6632,34.6394,2,34.6392,2,103.01,2,163.72,2,39.33,2,0.00,2,2.76,2,2355.6,2,2416.5,2,7.4959,2,-999,9,-999,9
49UF20170502,KS17-04,5125,1,12,25246,2,20170511,0208,40.0088,165.0028,5468,2789.9,2750,1.5935,34.6523,2,34.6530,2,115.31,2,161.32,2,38.50,2,0.00,2,2.70,2,2352.6,6,2418.0,6,7.5174,2,-999,9,-999,9
49UF20170502,KS17-04,5125,1,11,25245,2,20170511,0203,40.0088,165.0028,5468,3043.1,2998,1.5369,34.6625,2,34.6630,2,126.01,6,158.94,6,37.87,6,0.00,6,2.65,6,2340.3,2,2417.2,2,7.5395,2,-999,9,-999,9
49UF20170502,KS17-04,5125,1,10,25244,2,20170511,0156,40.0088,165.0028,5468,3299.9,3249,1.5029,34.6696,2,34.6700,2,133.99,2,156.95,2,37.31,2,0.00,2,2.60,2,2338.5,2,2419.0,2,7.5542,2,-999,9,-999,9
49UF20170502,KS17-04,5125,1,9,25243,2,20170511,0151,40.0088,165.0028,5468,3555.4,3499,1.4766,34.6757,2,34.6755,2,140.76,2,155.11,2,36.85,2,0.00,2,2.57,2,2333.8,2,2417.6,2,7.5665,2,-999,9,-999,9
49UF20170502,KS17-04,5125,1,8,25242,2,20170511,0144,40.0088,165.0028,5468,3812.7,3750,1.4676,34.6796,2,34.6796,2,145.34,2,153.87,2,36.67,2,0.00,2,2.54,2,2330.0,2,2417.8,2,7.5757,2,-999,9,-999,9
49UF20170502,KS17-04,5125,1,7,25241,2,20170511,0138,40.0088,165.0028,5468,4067.9,3998,1.4676,34.6825,2,34.6837,2,149.18,2,153.00,2,36.32,2,0.00,2,2.52,2,2330.7,2,2418.5,2,7.5828,2,-999,9,-999,9
49UF20170502,KS17-04,5125,1,6,25240,2,20170511,0132,40.0088,165.0028,5468,4326.4,4250,1.4735,34.6851,2,34.6862,4,152.17,2,152.03,2,36.06,2,0.00,2,2.51,2,2326.9,2,2418.6,2,7.5860,2,-999,9,-999,9
49UF20170502,KS17-04,5125,1,5,25239,2,20170511,0126,40.0088,165.0028,5468,4582.4,4499,1.4866,34.6867,2,34.6865,2,154.25,2,151.85,2,36.07,2,0.00,2,2.50,2,2325.7,2,2419.1,2,7.5897,2,-999,9,-999,9
49UF20170502,KS17-04,5125,1,4,25238,2,20170511,0120,40.0088,165.0028,5468,4838.9,4748,1.5056,34.6881,2,34.6881,2,156.22,2,151.85,2,35.81,2,0.00,2,2.49,2,2325.0,2,2418.1,2,7.5952,6,-999,9,-999,9
49UF20170502,KS17-04,5125,1,3,25237,2,20170511,0114,40.0088,165.0028,5468,5097.7,4999,1.5303,34.6892,2,34.6892,2,156.92,2,152.22,2,35.86,2,0.00,2,2.48,2,2324.3,6,2417.0,6,7.5959,2,-999,9,-999,9
49UF20170502,KS17-04,5125,1,2,25236,2,20170511,0109,40.0088,165.0028,5468,5354.2,5248,1.5594,34.6896,2,34.6894,2,157.55,2,152.64,2,35.85,2,0.00,2,2.47,2,2324.2,2,2416.3,2,7.5960,2,-999,9,-999,9
49UF20170502,KS17-04,5125,1,1,25235,2,20170511,0103,40.0088,165.0028,5468,5565.8,5452,1.5860,34.6899,2,34.6896,2,157.50,2,152.72,2,35.71,2,0.00,2,2.48,2,2320.9,2,2418.4,2,7.5984,2,-999,9,-999,9