BOTTLE,20171117JMAGEMD
EXPOCODE,SECT_ID,STNNBR,CASTNO,SAMPNO,BTLNBR,BTLNBR_FLAG_W,DATE,TIME,LATITUDE,LONGITUDE,DEPTH,CTDPRS,CTDDEP,CTDTMP,CTDSAL,CTDSAL_FLAG_W,SALNTY,SALNTY_FLAG_W,OXYGEN,OXYGEN_FLAG_W,SILCAT,SILCAT_FLAG_W,NO2+NO3,NO2+NO3_FLAG_W,NITRIT,NITRIT_FLAG_W,PHSPHT,PHSPHT_FLAG_W,TCARBN,TCARBN_FLAG_W,ALKALI,ALKALI_FLAG_W,PH_TOT,PH_TOT_FLAG_W,CFC-11,CFC-11_FLAG_W,CFC-12,CFC-12_FLAG_W
,,,,,,,UTC,UTC,,,METER,DBAR,METERS,ITS-90,PSS-78,,PSS-78,,UMOL/KG,,UMOL/KG,,UMOL/KG,,UMOL/KG,,UMOL/KG,,UMOL/KG,,UMOL/KG,,@25DEG-C,,PMOL/KG,,PMOL/KG,
49UF20170502,KS17-04,5116,1,-999,0,2,20170503,2348,39.9965,142.3368,560,0.0,0,5.9765,32.6997,2,32.7002,2,347.43,2,0.54,2,1.62,2,0.07,2,0.47,2,-999.,9,-999.,9,-999.,9,-999,9,-999,9
49UF20170502,KS17-04,5116,1,36,25270,2,20170503,0001,39.9965,142.3368,560,10.1,10,5.6113,32.7065,2,32.7185,2,356.85,2,0.52,2,1.40,2,0.07,2,0.45,2,-999.,9,-999.,9,-999.,9,-999,9,-999,9
49UF20170502,KS17-04,5116,1,35,25269,2,20170503,2359,39.9965,142.3368,560,24.7,25,4.4857,32.7715,2,-999.0000,9,357.12,2,0.85,2,2.33,2,0.09,2,0.54,2,-999.,9,-999.,9,-999.,9,-999,9,-999,9
49UF20170502,KS17-04,5116,1,32,25266,2,20170503,2355,39.9965,142.3368,560,48.2,48,4.0367,32.9854,2,-999.0000,9,338.35,2,1.89,2,3.92,2,0.11,2,0.66,2,-999.,9,-999.,9,-999.,9,-999,9,-999,9
49UF20170502,KS17-04,5116,1,31,25265,2,20170503,2353,39.9965,142.3368,560,74.3,74,5.0765,33.3716,2,-999.0000,9,299.44,6,10.13,6,8.56,6,0.17,6,0.90,6,-999.,9,-999.,9,-999.,9,-999,9,-999,9
49UF20170502,KS17-04,5116,1,29,25263,2,20170503,2352,39.9965,142.3368,560,99.5,99,5.3321,33.5162,2,33.5155,2,285.19,2,17.74,2,12.11,2,0.18,2,1.04,2,-999.,9,-999.,9,-999.,9,-999,9,-999,9
49UF20170502,KS17-04,5116,1,21,25255,2,20170503,2350,39.9965,142.3368,560,124.0,123,4.2419,33.4203,2,33.4242,2,294.36,2,24.51,2,14.89,2,0.22,2,1.24,2,-999.,9,-999.,9,-999.,9,-999,9,-999,9
49UF20170502,KS17-04,5116,1,28,25262,2,20170503,2350,39.9965,142.3368,560,126.7,126,4.2332,33.4219,2,33.4224,2,294.31,2,24.49,2,14.90,2,0.22,2,1.25,2,-999.,9,-999.,9,-999.,9,-999,9,-999,9
49UF20170502,KS17-04,5116,1,20,24270,2,20170503,2349,39.9965,142.3368,560,148.7,148,4.2567,33.4632,2,-999.0000,9,292.97,2,26.45,2,15.64,2,0.21,2,1.27,2,-999.,9,-999.,9,-999.,9,-999,9,-999,9
49UF20170502,KS17-04,5116,1,19,25253,3,20170503,2347,39.9965,142.3368,560,200.4,199,3.6914,33.4290,2,33.4306,2,287.79,2,32.58,2,18.35,2,0.16,2,1.45,2,-999.,9,-999.,9,-999.,9,-999,9,-999,9
49UF20170502,KS17-04,5116,1,12,25246,2,20170503,2345,39.9965,142.3368,560,251.0,249,3.5589,33.4648,2,-999.0000,9,269.11,2,38.72,2,20.77,2,0.12,2,1.62,2,-999.,9,-999.,9,-999.,9,-999,9,-999,9
49UF20170502,KS17-04,5116,1,11,25245,2,20170503,2344,39.9965,142.3368,560,302.5,300,3.4467,33.5070,2,-999.0000,9,237.60,2,48.10,2,24.48,2,0.10,2,1.88,2,-999.,9,-999.,9,-999.,9,-999,9,-999,9
49UF20170502,KS17-04,5116,1,9,25243,2,20170503,2341,39.9965,142.3368,560,402.0,399,3.9555,33.7449,2,33.7490,2,151.71,6,69.75,6,31.02,6,0.06,6,2.32,6,-999.,9,-999.,9,-999.,9,-999,9,-999,9
49UF20170502,KS17-04,5116,1,8,25242,2,20170503,2338,39.9965,142.3368,560,503.5,499,3.4467,33.8687,2,33.8690,6,79.28,2,94.98,2,39.73,2,0.02,2,2.88,2,-999.,9,-999.,9,-999.,9,-999,9,-999,9
49UF20170502,KS17-04,5116,1,5,25239,2,20170503,2336,39.9965,142.3368,560,538.6,534,3.5501,33.9286,2,33.9217,2,69.21,2,98.93,2,40.23,2,0.02,2,2.93,2,-999.,9,-999.,9,-999.,9,-999,9,-999,9
49UF20170502,KS17-04,5116,1,4,25238,2,20170503,2336,39.9965,142.3368,560,538.6,534,3.5429,33.9242,2,33.9106,2,71.64,2,97.98,2,40.10,2,0.02,2,2.91,2,-999.,9,-999.,9,-999.,9,-999,9,-999,9
49UF20170502,KS17-04,5118,1,-999,0,2,20170505,0313,39.9987,144.9857,5609,0.0,0,11.5352,34.0852,2,34.1223,2,291.33,2,4.85,2,4.34,2,0.16,2,0.35,2,2050.1,2,2270.4,2,7.9289,2,-999,9,-999,9
49UF20170502,KS17-04,5118,1,36,25270,3,20170505,0347,39.9987,144.9857,5609,9.4,9,11.4742,34.0821,2,34.0817,2,294.46,2,4.52,2,4.13,2,0.16,2,0.33,2,2046.8,6,2270.3,6,7.9316,2,-999,9,-999,9
49UF20170502,KS17-04,5118,1,35,25269,2,20170505,0345,39.9987,144.9857,5609,24.7,25,11.1749,34.2069,2,-999.0000,9,285.57,2,8.08,2,5.46,2,0.18,2,0.45,2,2063.0,2,2271.6,2,7.9104,6,-999,9,-999,9
49UF20170502,KS17-04,5118,1,34,25268,2,20170505,0342,39.9987,144.9857,5609,49.6,49,10.6219,34.1549,2,-999.0000,9,276.42,2,9.78,2,6.53,2,0.24,2,0.57,2,2072.6,2,2269.7,2,7.8837,2,-999,9,-999,9
49UF20170502,KS17-04,5118,1,33,25267,2,20170505,0340,39.9987,144.9857,5609,74.0,73,9.1983,33.9980,2,-999.0000,9,273.50,2,10.59,2,7.78,2,0.29,2,0.67,2,2080.6,2,2265.9,2,7.8556,2,-999,9,-999,9
49UF20170502,KS17-04,5118,1,32,25266,2,20170505,0339,39.9987,144.9857,5609,99.8,99,8.4522,33.8933,2,33.8849,2,276.05,2,10.99,2,8.08,2,0.24,2,0.71,2,2084.8,2,2264.0,2,7.8434,2,-999,9,-999,9
49UF20170502,KS17-04,5118,1,31,25265,2,20170505,0338,39.9987,144.9857,5609,125.2,124,7.6082,33.8045,2,-999.0000,9,275.16,6,13.26,6,9.64,6,0.23,6,0.79,6,2090.7,2,2259.7,2,7.8197,2,-999,9,-999,9
49UF20170502,KS17-04,5118,1,30,25264,2,20170505,0337,39.9987,144.9857,5609,150.0,149,6.9695,33.7251,2,-999.0000,9,277.88,2,15.53,2,10.94,2,0.20,2,0.89,2,2100.4,2,2256.7,2,7.7978,2,-999,9,-999,9
49UF20170502,KS17-04,5118,1,29,25263,2,20170505,0336,39.9987,144.9857,5609,200.7,199,6.2515,33.6605,2,33.6572,6,277.05,2,19.77,2,12.75,2,0.06,2,1.00,2,2109.1,2,2253.7,2,7.7675,2,-999,9,-999,9
49UF20170502,KS17-04,5118,1,28,25262,2,20170505,0334,39.9987,144.9857,5609,251.2,249,4.5630,33.4913,2,-999.0000,9,270.59,2,33.23,2,18.78,2,0.04,2,1.47,2,2141.0,2,2250.7,2,7.6812,2,-999,9,-999,9
49UF20170502,KS17-04,5118,1,27,25261,2,20170505,0333,39.9987,144.9857,5609,301.4,299,4.2959,33.5836,2,-999.0000,9,216.54,2,49.03,2,25.48,2,0.04,2,1.94,2,2186.3,2,2262.6,2,7.5838,2,-999,9,-999,9
49UF20170502,KS17-04,5118,1,26,25260,2,20170505,0330,39.9987,144.9857,5609,401.6,398,4.9983,33.9133,2,33.9047,2,125.11,2,71.09,2,32.94,2,0.01,2,2.41,2,2247.5,2,2290.8,2,7.4701,2,-999,9,-999,9
49UF20170502,KS17-04,5118,1,25,25259,2,20170505,0328,39.9987,144.9857,5609,503.5,499,4.0197,33.9629,2,33.9665,2,79.54,2,91.88,2,38.31,2,0.00,2,2.79,2,2294.8,2,2306.8,2,7.3712,2,-999,9,-999,9
49UF20170502,KS17-04,5118,1,24,25258,2,20170505,0325,39.9987,144.9857,5609,604.7,599,4.3597,34.1636,2,34.1724,6,64.22,2,100.40,2,38.79,2,0.00,2,2.80,2,2313.1,2,2328.1,2,7.3934,2,-999,9,-999,9
49UF20170502,KS17-04,5118,1,23,25257,2,20170505,0323,39.9987,144.9857,5609,705.5,699,3.9156,34.2360,2,34.2399,2,49.42,2,113.44,2,40.55,2,0.00,2,2.91,2,2335.7,2,2343.2,2,7.3682,2,-999,9,-999,9
49UF20170502,KS17-04,5118,1,22,25256,2,20170505,0321,39.9987,144.9857,5609,806.5,799,3.5218,34.2972,2,34.2997,6,41.82,2,124.98,2,41.46,2,0.00,2,2.98,2,2346.8,2,2355.7,2,7.3574,2,-999,9,-999,9
49UF20170502,KS17-04,5118,1,21,25255,2,20170505,0318,39.9987,144.9857,5609,908.3,899,3.3439,34.3551,2,34.3544,2,44.80,6,129.82,6,41.45,6,0.00,6,2.98,6,2349.2,2,2364.0,2,7.3753,2,-999,9,-999,9
49UF20170502,KS17-04,5118,1,20,24270,2,20170505,0315,39.9987,144.9857,5609,1010.2,1000,3.1079,34.3881,2,34.3881,6,42.14,2,136.40,2,41.94,2,0.00,2,3.01,2,2358.9,2,2371.1,2,7.3688,2,-999,9,-999,9
49UF20170502,KS17-04,5118,1,19,25253,2,20170505,0311,39.9987,144.9857,5609,1211.8,1199,2.7312,34.4519,2,34.4545,6,41.48,2,147.22,2,42.39,2,0.00,2,3.03,2,2376.7,2,2387.4,2,7.3740,2,-999,9,-999,9
49UF20170502,KS17-04,5118,1,18,25252,2,20170505,0307,39.9987,144.9857,5609,1414.4,1399,2.4467,34.4989,2,34.4982,2,44.09,2,154.94,2,42.50,2,0.00,2,3.03,2,2382.0,2,2395.4,2,7.3815,2,-999,9,-999,9
49UF20170502,KS17-04,5118,1,17,25251,2,20170505,0302,39.9987,144.9857,5609,1618.0,1599,2.2304,34.5395,2,34.5401,6,52.46,2,159.63,2,42.16,2,0.00,2,2.99,2,2381.5,2,2401.9,2,7.3970,2,-999,9,-999,9
49UF20170502,KS17-04,5118,1,16,25250,2,20170505,0258,39.9987,144.9857,5609,1820.3,1799,2.0837,34.5672,2,34.5672,2,62.32,2,162.19,2,41.61,2,0.00,2,2.95,2,2377.0,2,2407.7,2,7.4202,2,-999,9,-999,9
49UF20170502,KS17-04,5118,1,15,25249,2,20170505,0253,39.9987,144.9857,5609,2024.8,2000,1.9334,34.5954,2,34.5963,2,75.74,2,162.81,2,40.82,2,0.00,2,2.88,2,2373.6,2,2411.3,2,7.4465,2,-999,9,-999,9
49UF20170502,KS17-04,5118,1,14,25248,2,20170505,0248,39.9987,144.9857,5609,2280.1,2250,1.7978,34.6199,2,34.6210,2,91.06,2,161.94,2,39.79,2,0.00,2,2.81,2,2364.6,6,2413.6,6,7.4744,2,-999,9,-999,9
49UF20170502,KS17-04,5118,1,13,25247,2,20170505,0243,39.9987,144.9857,5609,2534.1,2500,1.6834,34.6394,2,34.6413,4,105.83,6,160.54,6,38.98,6,0.00,6,2.75,6,2359.9,2,2416.7,2,7.5014,2,-999,9,-999,9
49UF20170502,KS17-04,5118,1,12,25246,2,20170505,0234,39.9987,144.9857,5609,2787.9,2748,1.6135,34.6517,2,34.6541,4,116.58,2,158.99,2,38.28,2,0.00,2,2.69,2,2353.2,2,2417.4,2,7.5230,6,-999,9,-999,9
49UF20170502,KS17-04,5118,1,11,25245,2,20170505,0229,39.9987,144.9857,5609,3043.9,2999,1.5557,34.6618,2,34.6624,6,126.44,2,156.67,2,37.64,2,0.00,2,2.64,2,2342.2,2,2417.7,2,7.5398,2,-999,9,-999,9
49UF20170502,KS17-04,5118,1,10,25244,2,20170505,0222,39.9987,144.9857,5609,3300.2,3250,1.5184,34.6690,2,34.8453,4,134.14,2,154.98,2,37.18,2,0.00,2,2.60,2,2339.6,2,2418.1,2,7.5549,2,-999,9,-999,9
49UF20170502,KS17-04,5118,1,9,25243,2,20170505,0217,39.9987,144.9857,5609,3554.9,3498,1.4922,34.6746,2,34.6775,4,140.27,2,153.45,2,36.72,2,0.00,2,2.57,2,2334.2,2,2417.6,2,7.5663,2,-999,9,-999,9
49UF20170502,KS17-04,5118,1,8,25242,2,20170505,0210,39.9987,144.9857,5609,3813.4,3750,1.4809,34.6786,2,34.6793,2,145.41,2,152.00,2,36.46,2,0.00,2,2.54,2,2331.8,2,2417.9,2,7.5735,2,-999,9,-999,9
49UF20170502,KS17-04,5118,1,7,25241,2,20170505,0205,39.9987,144.9857,5609,4068.7,3999,1.4732,34.6822,2,34.6834,6,149.77,2,150.79,2,36.11,2,0.00,2,2.52,2,2330.4,2,2416.3,2,7.5801,2,-999,9,-999,9
49UF20170502,KS17-04,5118,1,6,25240,2,20170505,0158,39.9987,144.9857,5609,4326.5,4250,1.4722,34.6853,2,34.6850,2,153.67,2,149.57,2,35.88,2,0.00,2,2.49,2,2327.2,6,2414.4,6,7.5861,2,-999,9,-999,9
49UF20170502,KS17-04,5118,1,5,25239,2,20170505,0153,39.9987,144.9857,5609,4582.9,4499,1.4828,34.6873,2,34.6870,2,156.20,2,149.04,2,35.64,2,0.00,2,2.48,2,2325.5,2,2413.7,2,7.5901,6,-999,9,-999,9
49UF20170502,KS17-04,5118,1,4,25238,2,20170505,0142,39.9987,144.9857,5609,5097.8,4999,1.5197,34.6900,2,34.6908,6,159.98,2,146.89,2,35.42,2,0.00,2,2.46,2,2320.8,2,2412.9,2,7.5962,2,-999,9,-999,9
49UF20170502,KS17-04,5118,1,3,25237,2,20170505,0134,39.9987,144.9857,5609,5355.3,5249,1.5440,34.6910,2,34.6911,2,161.68,6,145.57,6,35.27,6,0.00,6,2.45,6,2316.6,2,2411.2,2,7.5964,2,-999,9,-999,9
49UF20170502,KS17-04,5118,1,2,25236,2,20170505,0127,39.9987,144.9857,5609,5613.8,5499,1.5720,34.6915,2,34.6916,2,162.86,2,144.15,2,35.27,2,0.00,2,2.44,2,2319.6,2,2410.1,2,7.5998,2,-999,9,-999,9
49UF20170502,KS17-04,5118,1,1,25235,2,20170505,0124,39.9987,144.9857,5609,5722.8,5604,1.5867,34.6916,2,34.6911,2,163.22,2,144.62,2,35.13,2,0.00,2,2.45,2,2319.4,2,2410.6,2,7.6004,2,-999,9,-999,9
49UF20170502,KS17-04,5120,1,-999,0,2,20170506,0258,40.0233,148.988,5519,0.0,0,13.8425,34.5263,2,34.5188,2,266.97,2,10.91,2,5.30,2,0.18,2,0.41,2,2054.5,2,2284.1,2,7.9364,2,-999,9,-999,9
49UF20170502,KS17-04,5120,1,36,25270,3,20170506,0331,40.0233,148.988,5519,9.6,10,13.8317,34.5262,2,34.5277,2,267.53,2,10.78,2,5.10,2,0.17,2,0.39,2,2053.3,2,2283.6,2,7.9378,2,-999,9,-999,9
49UF20170502,KS17-04,5120,1,35,25269,2,20170506,0329,40.0233,148.988,5519,24.9,25,12.7007,34.4334,2,-999.0000,9,281.10,2,11.99,2,5.21,2,0.14,2,0.43,2,2053.0,2,2280.2,2,7.9318,2,-999,9,-999,9
49UF20170502,KS17-04,5120,1,34,25268,2,20170506,0324,40.0233,148.988,5519,47.6,47,11.9384,34.4161,2,-999.0000,9,255.62,2,13.10,2,8.72,2,0.28,2,0.63,2,2076.1,2,2277.1,2,7.8787,2,-999,9,-999,9
49UF20170502,KS17-04,5120,1,33,25267,2,20170506,0323,40.0233,148.988,5519,76.6,76,11.7021,34.3981,2,-999.0000,9,251.64,2,13.84,2,9.37,2,0.08,2,0.67,2,2077.7,2,2276.4,2,7.8694,2,-999,9,-999,9
49UF20170502,KS17-04,5120,1,32,25266,2,20170506,0322,40.0233,148.988,5519,101.4,101,11.2732,34.3562,2,34.3608,6,250.84,6,14.66,6,9.98,6,0.04,6,0.71,6,2086.4,2,2275.4,2,7.8576,2,-999,9,-999,9
49UF20170502,KS17-04,5120,1,31,25265,2,20170506,0321,40.0233,148.988,5519,124.7,124,11.0968,34.3533,2,-999.0000,9,257.07,2,14.17,2,9.74,2,0.03,2,0.70,2,2081.8,2,2275.6,2,7.8609,2,-999,9,-999,9
49UF20170502,KS17-04,5120,1,30,25264,2,20170506,0320,40.0233,148.988,5519,150.6,149,10.8530,34.3327,2,-999.0000,9,254.04,2,14.91,2,10.38,2,0.02,2,0.75,2,2086.6,2,2274.8,2,7.8532,2,-999,9,-999,9
49UF20170502,KS17-04,5120,1,29,25263,2,20170506,0318,40.0233,148.988,5519,199.9,198,10.3034,34.2688,2,34.2685,2,250.66,2,16.82,2,11.46,2,0.01,2,0.83,2,2094.4,2,2271.9,2,7.8317,2,-999,9,-999,9
49UF20170502,KS17-04,5120,1,28,25262,2,20170506,0316,40.0233,148.988,5519,251.6,250,8.6557,34.0344,2,-999.0000,9,222.33,2,27.62,2,16.86,2,0.02,2,1.24,2,2130.7,2,2272.2,2,7.7450,2,-999,9,-999,9
49UF20170502,KS17-04,5120,1,27,25261,2,20170506,0314,40.0233,148.988,5519,303.3,301,7.6410,34.0053,2,-999.0000,9,173.22,2,42.39,2,23.60,2,0.01,2,1.72,2,2177.2,2,2278.7,2,7.6400,2,-999,9,-999,9
49UF20170502,KS17-04,5120,1,26,25260,2,20170506,0312,40.0233,148.988,5519,404.4,401,5.5902,33.9943,2,33.9967,2,124.46,2,67.28,2,31.79,2,0.01,2,2.31,2,2236.5,2,2296.0,2,7.5034,2,-999,9,-999,9
49UF20170502,KS17-04,5120,1,25,25259,2,20170506,0309,40.0233,148.988,5519,504.2,500,4.5987,34.0500,2,34.0498,2,85.81,2,87.18,2,36.93,2,0.00,2,2.66,2,2288.0,6,2312.8,6,7.4164,2,-999,9,-999,9
49UF20170502,KS17-04,5120,1,24,25258,2,20170506,0306,40.0233,148.988,5519,604.7,599,4.3979,34.1884,2,34.1876,2,63.80,2,101.12,2,38.99,2,0.00,2,2.80,2,2313.2,2,2333.1,2,7.3982,6,-999,9,-999,9
49UF20170502,KS17-04,5120,1,23,25257,2,20170506,0304,40.0233,148.988,5519,704.8,698,3.9123,34.2386,2,34.2393,2,49.45,2,113.50,2,40.67,2,0.00,2,2.92,2,2334.3,2,2345.3,2,7.3718,2,-999,9,-999,9
49UF20170502,KS17-04,5120,1,22,25256,2,20170506,0302,40.0233,148.988,5519,805.0,797,3.6100,34.3021,2,34.3018,2,44.62,6,122.57,6,41.45,6,0.00,6,2.97,6,2345.9,2,2358.0,2,7.3678,2,-999,9,-999,9
49UF20170502,KS17-04,5120,1,21,25255,2,20170506,0259,40.0233,148.988,5519,907.1,898,3.2802,34.3496,2,34.3507,2,40.70,2,131.67,2,42.11,2,0.00,2,3.01,2,2353.5,2,2366.5,2,7.3616,2,-999,9,-999,9
49UF20170502,KS17-04,5120,1,20,24270,2,20170506,0257,40.0233,148.988,5519,1008.4,998,3.0142,34.3894,2,34.3903,6,38.41,2,139.24,2,42.42,2,0.00,2,3.04,2,2367.0,2,2375.9,2,7.3618,2,-999,9,-999,9
49UF20170502,KS17-04,5120,1,19,25253,2,20170506,0253,40.0233,148.988,5519,1210.5,1198,2.6808,34.4509,2,34.4513,2,38.96,2,148.97,2,42.88,2,0.00,2,3.06,2,2382.6,2,2389.8,2,7.3698,3,-999,9,-999,9
49UF20170502,KS17-04,5120,1,18,25252,4,20170506,0248,40.0233,148.988,5519,1414.7,1399,2.4056,34.5003,2,-999.0000,9,-999.00,9,-999.00,9,-999.00,9,-999.00,9,-999.000,9,-999.0,9,-999.0,9,-999.0000,9,-999,9,-999,9
49UF20170502,KS17-04,5120,1,17,25251,2,20170506,0243,40.0233,148.988,5519,1618.2,1600,2.2074,34.5455,2,34.5435,4,54.91,2,159.65,2,42.26,2,0.00,2,2.99,2,2383.2,6,2405.6,6,7.4036,2,-999,9,-999,9
49UF20170502,KS17-04,5120,1,16,25250,2,20170506,0238,40.0233,148.988,5519,1822.6,1801,2.0621,34.5742,2,34.5745,6,66.18,2,161.40,2,41.49,2,0.00,2,2.93,2,2377.2,2,2411.1,2,7.4260,2,-999,9,-999,9
49UF20170502,KS17-04,5120,1,15,25249,2,20170506,0233,40.0233,148.988,5519,2026.4,2001,1.9399,34.5951,2,34.5946,2,75.10,2,162.49,2,41.08,2,0.00,2,2.89,2,2374.3,2,2414.9,2,7.4477,2,-999,9,-999,9
49UF20170502,KS17-04,5120,1,14,25248,2,20170506,0226,40.0233,148.988,5519,2282.1,2252,1.8015,34.6192,2,34.6189,6,90.05,6,162.20,6,40.09,6,0.00,6,2.82,6,2362.9,2,2416.0,2,7.4715,2,-999,9,-999,9
49UF20170502,KS17-04,5120,1,13,25247,2,20170506,0219,40.0233,148.988,5519,2533.0,2499,1.7010,34.6368,2,34.6372,6,103.56,2,160.74,2,39.28,2,0.00,2,2.75,2,2357.0,2,2416.8,2,7.4994,2,-999,9,-999,9
49UF20170502,KS17-04,5120,1,12,25246,2,20170506,0213,40.0233,148.988,5519,2792.1,2752,1.6367,34.6488,2,34.6486,2,113.48,2,159.21,2,38.54,2,0.00,2,2.71,2,2353.7,2,2417.9,2,7.5151,2,-999,9,-999,9
49UF20170502,KS17-04,5120,1,11,25245,2,20170506,0206,40.0233,148.988,5519,3042.8,2998,1.5762,34.6591,2,34.6616,4,123.20,2,157.87,2,37.98,2,0.00,2,2.66,2,2345.5,6,2417.4,6,7.5345,2,-999,9,-999,9
49UF20170502,KS17-04,5120,1,10,25244,2,20170506,0201,40.0233,148.988,5519,3299.3,3249,1.5361,34.6669,2,34.6682,4,131.94,2,155.36,2,37.44,2,0.00,2,2.61,2,2340.2,2,2418.2,2,7.5498,6,-999,9,-999,9
49UF20170502,KS17-04,5120,1,9,25243,2,20170506,0155,40.0233,148.988,5519,3554.9,3498,1.5030,34.6734,2,34.6733,6,138.79,2,153.70,2,36.88,2,0.00,2,2.58,2,2336.7,2,2416.2,2,7.5627,2,-999,9,-999,9
49UF20170502,KS17-04,5120,1,8,25242,2,20170506,0150,40.0233,148.988,5519,3812.4,3749,1.4878,34.6779,2,34.6775,6,143.85,2,152.66,2,36.59,2,0.00,2,2.56,2,2330.6,2,2418.4,2,7.5739,2,-999,9,-999,9
49UF20170502,KS17-04,5120,1,7,25241,2,20170506,0144,40.0233,148.988,5519,4067.5,3998,1.4782,34.6817,2,34.6818,2,148.77,2,150.93,2,36.37,2,0.00,2,2.52,2,2331.1,2,2416.3,2,7.5793,2,-999,9,-999,9
49UF20170502,KS17-04,5120,1,6,25240,2,20170506,0139,40.0233,148.988,5519,4324.2,4248,1.4796,34.6846,2,34.6844,6,152.16,2,150.48,2,36.07,2,0.00,2,2.51,2,2328.8,2,2416.7,2,7.5851,2,-999,9,-999,9
49UF20170502,KS17-04,5120,1,5,25239,2,20170506,0133,40.0233,148.988,5519,4581.8,4498,1.4884,34.6866,2,34.6865,6,154.96,2,149.64,2,36.00,2,0.00,2,2.49,2,2325.2,2,2416.1,2,7.5896,2,-999,9,-999,9
49UF20170502,KS17-04,5120,1,4,25238,2,20170506,0128,40.0233,148.988,5519,4838.7,4748,1.5044,34.6881,2,34.6884,2,157.18,2,149.59,2,35.87,2,0.00,2,2.49,2,2325.0,2,2415.7,2,7.5924,2,-999,9,-999,9
49UF20170502,KS17-04,5120,1,3,25237,2,20170506,0122,40.0233,148.988,5519,5096.2,4998,1.5265,34.6895,2,34.6893,2,158.10,6,149.53,6,35.70,6,0.00,6,2.48,6,2322.2,2,2414.3,2,7.5956,2,-999,9,-999,9
49UF20170502,KS17-04,5120,1,2,25236,2,20170506,0117,40.0233,148.988,5519,5354.7,5248,1.5514,34.6901,2,34.6902,2,159.51,2,148.12,2,35.66,2,0.00,2,2.46,2,2321.1,2,2414.5,2,7.5974,2,-999,9,-999,9
49UF20170502,KS17-04,5120,1,1,25235,2,20170506,0110,40.0233,148.988,5519,5634.6,5519,1.5812,34.6910,2,34.6906,6,160.68,2,146.84,2,35.42,2,0.00,2,2.46,2,2322.4,2,2414.1,2,7.6005,2,-999,9,-999,9