BOTTLE,20171117JMAGEMD
EXPOCODE,SECT_ID,STNNBR,CASTNO,SAMPNO,BTLNBR,BTLNBR_FLAG_W,DATE,TIME,LATITUDE,LONGITUDE,DEPTH,CTDPRS,CTDDEP,CTDTMP,CTDSAL,CTDSAL_FLAG_W,SALNTY,SALNTY_FLAG_W,OXYGEN,OXYGEN_FLAG_W,SILCAT,SILCAT_FLAG_W,NO2+NO3,NO2+NO3_FLAG_W,NITRIT,NITRIT_FLAG_W,PHSPHT,PHSPHT_FLAG_W,TCARBN,TCARBN_FLAG_W,ALKALI,ALKALI_FLAG_W,PH_TOT,PH_TOT_FLAG_W,CFC-11,CFC-11_FLAG_W,CFC-12,CFC-12_FLAG_W
,,,,,,,UTC,UTC,,,METER,DBAR,METERS,ITS-90,PSS-78,,PSS-78,,UMOL/KG,,UMOL/KG,,UMOL/KG,,UMOL/KG,,UMOL/KG,,UMOL/KG,,UMOL/KG,,@25DEG-C,,PMOL/KG,,PMOL/KG,
49UF20170228,KS17-02,5067,1,-999,0,2,20170311,0413,39.001,148.3293,5517,0.0,0,12.0616,34.4417,2,-999.,9,253.23,2,13.84,2,9.02,2,0.19,2,0.65,2,-999.,9,-999.,9,-999.,9,-999,9,-999,9
49UF20170228,KS17-02,5067,1,36,25270,2,20170311,0432,39.001,148.3293,5517,11.7,12,12.0613,34.4420,2,-999.,9,250.78,2,13.94,2,9.08,2,0.19,2,0.66,2,-999.,9,-999.,9,-999.,9,-999,9,-999,9
49UF20170228,KS17-02,5067,1,35,25269,2,20170311,0431,39.001,148.3293,5517,27.2,27,12.0631,34.4416,2,-999.,9,250.52,2,13.89,2,9.09,2,0.19,2,0.65,2,-999.,9,-999.,9,-999.,9,-999,9,-999,9
49UF20170228,KS17-02,5067,1,34,25268,2,20170311,0430,39.001,148.3293,5517,52.4,52,11.9712,34.4228,2,-999.,9,250.47,2,13.93,2,9.23,2,0.19,2,0.66,2,-999.,9,-999.,9,-999.,9,-999,9,-999,9
49UF20170228,KS17-02,5067,1,33,25267,2,20170311,0429,39.001,148.3293,5517,76.5,76,11.7490,34.3827,2,-999.,9,250.91,6,14.07,6,9.47,6,0.20,6,0.68,6,-999.,9,-999.,9,-999.,9,-999,9,-999,9
49UF20170228,KS17-02,5067,1,31,25265,3,20170311,0426,39.001,148.3293,5517,102.7,102,11.5938,34.3646,2,-999.,9,250.21,2,14.39,2,9.73,2,0.18,2,0.70,2,-999.,9,-999.,9,-999.,9,-999,9,-999,9
49UF20170228,KS17-02,5067,1,32,25266,3,20170311,0427,39.001,148.3293,5517,102.8,102,11.5932,34.3646,2,-999.,9,250.97,2,14.30,2,9.72,2,0.19,2,0.69,2,-999.,9,-999.,9,-999.,9,-999,9,-999,9
49UF20170228,KS17-02,5067,1,27,25261,2,20170311,0425,39.001,148.3293,5517,127.2,126,11.3380,34.3258,2,-999.,9,241.89,2,15.84,2,10.67,2,0.12,2,0.76,2,-999.,9,-999.,9,-999.,9,-999,9,-999,9
49UF20170228,KS17-02,5067,1,26,25260,2,20170311,0424,39.001,148.3293,5517,153.0,152,10.9011,34.2859,2,-999.,9,244.51,2,16.31,2,10.91,2,0.09,2,0.79,2,-999.,9,-999.,9,-999.,9,-999,9,-999,9
49UF20170228,KS17-02,5067,1,25,25259,2,20170311,0422,39.001,148.3293,5517,202.5,201,10.3762,34.2223,2,-999.,9,232.39,2,19.47,2,12.66,2,0.03,2,0.91,2,-999.,9,-999.,9,-999.,9,-999,9,-999,9
49UF20170228,KS17-02,5067,1,24,25258,2,20170311,0420,39.001,148.3293,5517,257.4,255,9.0688,34.1203,2,-999.,9,179.92,2,34.43,2,19.91,2,0.01,2,1.43,2,-999.,9,-999.,9,-999.,9,-999,9,-999,9
49UF20170228,KS17-02,5067,1,23,25257,2,20170311,0418,39.001,148.3293,5517,304.8,302,7.6831,34.0821,2,-999.,9,151.53,2,47.89,2,25.46,2,0.01,2,1.84,2,-999.,9,-999.,9,-999.,9,-999,9,-999,9
49UF20170228,KS17-02,5067,1,22,25256,3,20170311,0416,39.001,148.3293,5517,405.5,402,5.3697,33.9642,2,-999.,9,126.52,2,67.87,2,32.06,2,0.00,2,2.32,2,-999.,9,-999.,9,-999.,9,-999,9,-999,9
49UF20170228,KS17-02,5067,1,18,25252,2,20170311,0413,39.001,148.3293,5517,506.1,502,5.0197,34.1101,2,-999.,9,88.90,2,84.92,2,35.85,2,0.00,2,2.58,2,-999.,9,-999.,9,-999.,9,-999,9,-999,9
49UF20170228,KS17-02,5067,1,16,25250,2,20170311,0410,39.001,148.3293,5517,609.5,604,4.2124,34.1789,2,-999.,9,59.47,2,104.04,2,39.27,2,0.00,2,2.83,2,-999.,9,-999.,9,-999.,9,-999,9,-999,9
49UF20170228,KS17-02,5067,1,17,25251,2,20170311,0411,39.001,148.3293,5517,611.0,605,4.1630,34.1766,2,-999.,9,59.75,2,104.17,2,39.54,2,0.00,2,2.83,2,-999.,9,-999.,9,-999.,9,-999,9,-999,9
49UF20170228,KS17-02,5067,1,15,25249,2,20170311,0408,39.001,148.3293,5517,708.5,702,3.7931,34.2471,2,-999.,9,46.91,2,116.60,2,40.90,2,0.00,2,2.93,2,-999.,9,-999.,9,-999.,9,-999,9,-999,9
49UF20170228,KS17-02,5067,1,14,25248,2,20170311,0405,39.001,148.3293,5517,810.2,802,3.5119,34.2955,2,-999.,9,41.39,6,124.88,6,41.71,6,0.00,6,2.98,6,-999.,9,-999.,9,-999.,9,-999,9,-999,9
49UF20170228,KS17-02,5067,1,13,25247,2,20170311,0403,39.001,148.3293,5517,910.3,901,3.2712,34.3399,2,-999.,9,39.18,2,132.18,2,42.16,2,0.00,2,3.02,2,-999.,9,-999.,9,-999.,9,-999,9,-999,9
49UF20170228,KS17-02,5067,1,9,25243,2,20170311,0401,39.001,148.3293,5517,1011.0,1001,3.0623,34.3871,2,-999.,9,39.16,2,138.38,2,42.33,2,0.00,2,3.03,2,-999.,9,-999.,9,-999.,9,-999,9,-999,9
49UF20170228,KS17-02,5067,1,8,25242,3,20170311,0356,39.001,148.3293,5517,1214.6,1202,2.6987,34.4567,2,-999.,9,40.51,2,148.88,2,42.73,2,0.00,2,3.04,2,-999.,9,-999.,9,-999.,9,-999,9,-999,9
49UF20170228,KS17-02,5067,1,7,25241,3,20170311,0352,39.001,148.3293,5517,1417.3,1402,2.4297,34.5021,2,-999.,9,43.51,2,155.96,2,42.71,2,0.00,2,3.04,2,-999.,9,-999.,9,-999.,9,-999,9,-999,9
49UF20170228,KS17-02,5067,1,6,25240,2,20170311,0347,39.001,148.3293,5517,1621.1,1603,2.2456,34.5379,2,-999.,9,52.43,2,160.35,2,42.48,2,0.00,2,3.00,2,-999.,9,-999.,9,-999.,9,-999,9,-999,9
49UF20170228,KS17-02,5067,1,5,25239,2,20170311,0342,39.001,148.3293,5517,1824.4,1803,2.0799,34.5685,2,-999.,9,63.16,2,162.51,2,41.64,2,0.00,2,2.95,2,-999.,9,-999.,9,-999.,9,-999,9,-999,9
49UF20170228,KS17-02,5067,1,4,25238,2,20170311,0337,39.001,148.3293,5517,2024.9,2000,1.9377,34.5941,2,-999.,9,76.05,3,163.45,2,40.92,2,0.00,2,2.89,2,-999.,9,-999.,9,-999.,9,-999,9,-999,9
49UF20170228,KS17-02,5069,1,-999,0,2,20170311,1400,39.6562,147.8828,5337,0.0,0,10.9018,34.3285,2,34.3263,2,261.57,2,14.42,2,9.59,2,0.15,2,0.69,2,2075.3,2,2275.4,2,7.8631,2,-999,9,-999,9
49UF20170228,KS17-02,5069,1,36,25270,2,20170311,1432,39.6562,147.8828,5337,11.7,12,10.9137,34.3280,2,34.3278,2,260.32,2,14.50,2,9.61,2,0.16,2,0.69,2,2077.3,2,2275.2,2,7.8640,2,-999,9,-999,9
49UF20170228,KS17-02,5069,1,35,25269,2,20170311,1431,39.6562,147.8828,5337,25.6,25,10.9061,34.3258,2,-999.0000,9,260.70,6,14.52,6,9.64,6,0.15,6,0.69,6,2079.7,2,2274.6,2,7.8630,2,-999,9,-999,9
49UF20170228,KS17-02,5069,1,34,25268,2,20170311,1430,39.6562,147.8828,5337,53.3,53,10.8844,34.3186,2,-999.0000,9,260.34,2,14.51,2,9.67,2,0.15,2,0.69,2,2087.0,2,2274.7,2,7.8630,2,-999,9,-999,9
49UF20170228,KS17-02,5069,1,33,25267,2,20170311,1428,39.6562,147.8828,5337,77.9,77,10.8487,34.3095,2,-999.0000,9,260.20,2,14.58,2,9.79,2,0.15,2,0.70,2,2083.7,2,2273.8,2,7.8606,2,-999,9,-999,9
49UF20170228,KS17-02,5069,1,32,25266,2,20170311,1424,39.6562,147.8828,5337,103.1,102,10.8122,34.3049,2,34.3083,2,259.30,2,14.86,2,9.96,2,0.17,2,0.71,2,2083.0,2,2272.7,2,7.8592,2,-999,9,-999,9
49UF20170228,KS17-02,5069,1,31,25265,2,20170311,1423,39.6562,147.8828,5337,128.5,127,10.7545,34.3002,2,-999.0000,9,258.81,2,14.86,2,10.03,2,0.15,2,0.71,2,2081.7,2,2273.8,2,7.8550,2,-999,9,-999,9
49UF20170228,KS17-02,5069,1,30,25264,3,20170311,1422,39.6562,147.8828,5337,153.4,152,10.6921,34.2912,2,-999.0000,9,257.77,2,15.06,2,10.22,2,0.14,2,0.73,2,2084.4,2,2276.0,2,7.8545,2,-999,9,-999,9
49UF20170228,KS17-02,5069,1,29,25263,2,20170311,1420,39.6562,147.8828,5337,205.4,204,9.7536,34.1675,2,34.1694,6,213.57,2,25.17,2,15.87,2,0.03,2,1.13,2,2122.8,2,2275.6,2,7.7686,2,-999,9,-999,9
49UF20170228,KS17-02,5069,1,28,25262,2,20170311,1418,39.6562,147.8828,5337,255.1,253,7.9812,34.0092,2,-999.0000,9,178.09,2,38.85,2,22.33,2,0.01,2,1.61,2,2167.8,2,2275.9,2,7.6620,2,-999,9,-999,9
49UF20170228,KS17-02,5069,1,27,25261,2,20170311,1416,39.6562,147.8828,5337,306.1,304,6.8049,33.9593,2,-999.0000,9,164.86,6,48.55,6,25.91,6,0.01,6,1.88,6,2191.6,2,2279.4,2,7.6013,2,-999,9,-999,9
49UF20170228,KS17-02,5069,1,26,25260,2,20170311,1413,39.6562,147.8828,5337,405.0,402,5.7989,34.0540,2,34.0560,6,118.07,2,69.08,2,31.94,2,0.00,2,2.30,2,2241.6,2,2300.3,2,7.5055,2,-999,9,-999,9
49UF20170228,KS17-02,5069,1,25,25259,2,20170311,1410,39.6562,147.8828,5337,507.6,503,4.7516,34.1116,2,34.1089,2,81.56,2,89.23,2,37.05,2,0.00,2,2.64,2,2286.8,2,2316.4,2,7.4247,2,-999,9,-999,9
49UF20170228,KS17-02,5069,1,24,25258,2,20170311,1407,39.6562,147.8828,5337,608.7,603,4.2394,34.1907,2,34.1888,6,60.21,2,103.74,2,39.28,2,0.00,2,2.81,2,2313.0,2,2333.8,2,7.3864,2,-999,9,-999,9
49UF20170228,KS17-02,5069,1,23,25257,2,20170311,1404,39.6562,147.8828,5337,710.0,703,3.7903,34.2395,2,34.2366,2,46.09,2,116.26,2,41.20,2,0.00,2,2.94,2,2335.4,6,2345.3,6,7.3606,2,-999,9,-999,9
49UF20170228,KS17-02,5069,1,22,25256,3,20170311,1401,39.6562,147.8828,5337,810.1,802,3.3676,34.2944,2,34.2919,2,37.42,2,128.48,2,41.94,2,0.00,2,3.01,2,2352.0,2,2357.1,2,7.3469,6,-999,9,-999,9
49UF20170228,KS17-02,5069,1,21,25255,2,20170311,1359,39.6562,147.8828,5337,909.5,901,3.1004,34.3384,2,34.3351,6,34.50,2,136.84,2,42.70,2,0.00,2,3.05,2,2365.9,2,2365.2,2,7.3430,2,-999,9,-999,9
49UF20170228,KS17-02,5069,1,20,24270,2,20170311,1356,39.6562,147.8828,5337,1009.7,1000,2.9321,34.3806,2,34.3778,2,34.97,2,141.71,2,42.74,2,0.00,2,3.05,2,2370.1,2,2373.9,2,7.3474,2,-999,9,-999,9
49UF20170228,KS17-02,5069,1,19,25253,2,20170311,1352,39.6562,147.8828,5337,1215.2,1202,2.6063,34.4560,2,34.4540,2,39.13,2,151.47,2,42.77,2,0.00,2,3.04,2,2377.0,2,2388.5,2,7.3671,2,-999,9,-999,9
49UF20170228,KS17-02,5069,1,18,25252,2,20170311,1348,39.6562,147.8828,5337,1416.8,1401,2.3537,34.5101,2,34.5075,2,45.64,2,157.85,2,42.68,2,0.00,2,3.02,2,2380.4,2,2397.1,2,7.3851,2,-999,9,-999,9
49UF20170228,KS17-02,5069,1,17,25251,2,20170311,1343,39.6562,147.8828,5337,1621.8,1603,2.1735,34.5447,2,34.5429,2,55.01,2,160.91,2,42.08,2,0.00,2,2.98,2,2386.1,2,2404.1,2,7.4024,2,-999,9,-999,9
49UF20170228,KS17-02,5069,1,16,25250,3,20170311,1338,39.6562,147.8828,5337,1821.8,1800,2.0265,34.5769,2,34.5753,2,67.43,2,162.49,2,41.52,2,0.00,2,2.92,2,2376.4,2,2408.2,2,7.4246,2,-999,9,-999,9
49UF20170228,KS17-02,5069,1,15,25249,2,20170311,1334,39.6562,147.8828,5337,2025.6,2000,1.9150,34.5985,2,34.5985,2,77.48,2,162.61,2,40.74,2,0.00,2,2.87,2,2369.3,6,2412.1,6,7.4495,2,-999,9,-999,9
49UF20170228,KS17-02,5069,1,14,25248,2,20170311,1329,39.6562,147.8828,5337,2280.2,2251,1.7990,34.6197,2,34.6178,2,91.27,2,162.26,2,40.05,2,0.00,2,2.80,2,2370.3,2,2414.2,2,7.4756,6,-999,9,-999,9
49UF20170228,KS17-02,5069,1,13,25247,2,20170311,1322,39.6562,147.8828,5337,2535.3,2501,1.6944,34.6376,2,34.6357,2,104.39,2,161.04,2,39.11,2,0.00,2,2.74,2,2358.8,2,2416.5,2,7.5016,2,-999,9,-999,9
49UF20170228,KS17-02,5069,1,12,25246,3,20170311,1317,39.6562,147.8828,5337,2789.9,2750,1.6148,34.6512,2,34.6502,6,116.51,2,158.36,2,38.40,2,0.00,2,2.67,2,2349.9,2,2416.5,2,7.5243,2,-999,9,-999,9
49UF20170228,KS17-02,5069,1,11,25245,2,20170311,1312,39.6562,147.8828,5337,3045.4,3000,1.5603,34.6608,2,34.6616,2,125.83,2,156.82,2,37.72,2,0.00,2,2.63,2,2345.4,2,2415.5,2,7.5379,2,-999,9,-999,9
49UF20170228,KS17-02,5069,1,10,25244,2,20170311,1305,39.6562,147.8828,5337,3302.2,3252,1.5199,34.6685,2,34.6676,2,134.51,2,154.56,2,37.29,2,0.00,2,2.58,2,2337.4,2,2416.2,2,7.5528,2,-999,9,-999,9
49UF20170228,KS17-02,5069,1,9,25243,2,20170311,1259,39.6562,147.8828,5337,3556.5,3500,1.4965,34.6737,2,34.6726,6,139.65,2,153.39,2,36.91,2,0.00,2,2.56,2,2336.5,2,2417.7,2,7.5635,2,-999,9,-999,9
49UF20170228,KS17-02,5069,1,8,25242,2,20170311,1254,39.6562,147.8828,5337,3813.5,3751,1.4834,34.6778,2,34.6782,2,144.72,6,152.25,6,36.62,6,0.00,6,2.53,6,2323.2,3,2416.0,2,7.5736,2,-999,9,-999,9
49UF20170228,KS17-02,5069,1,7,25241,2,20170311,1248,39.6562,147.8828,5337,4070.7,4001,1.4759,34.6815,2,34.6814,2,149.58,2,151.44,2,36.35,2,0.00,2,2.51,2,2330.3,2,2417.0,2,7.5784,2,-999,9,-999,9
49UF20170228,KS17-02,5069,1,6,25240,2,20170311,1242,39.6562,147.8828,5337,4327.1,4251,1.4777,34.6843,2,34.6830,2,152.85,2,150.44,2,35.96,2,0.00,2,2.48,2,2329.4,2,2415.7,2,7.5871,2,-999,9,-999,9
49UF20170228,KS17-02,5069,1,5,25239,2,20170311,1236,39.6562,147.8828,5337,4583.7,4500,1.4834,34.6868,2,34.6859,2,155.67,2,149.74,2,35.88,2,0.00,2,2.47,2,2322.5,2,2414.7,2,7.5943,2,-999,9,-999,9
49UF20170228,KS17-02,5069,1,4,25238,2,20170311,1231,39.6562,147.8828,5337,4839.9,4749,1.4997,34.6884,2,34.6871,2,158.04,6,149.07,6,35.67,6,0.00,6,2.46,6,2321.4,2,2415.1,2,7.5962,2,-999,9,-999,9
49UF20170228,KS17-02,5069,1,3,25237,2,20170311,1225,39.6562,147.8828,5337,5097.8,4999,1.5202,34.6895,2,34.6893,2,159.60,2,147.70,2,35.56,2,0.00,2,2.45,2,2319.0,6,2412.0,6,7.5954,2,-999,9,-999,9
49UF20170228,KS17-02,5069,1,2,25236,2,20170311,1219,39.6562,147.8828,5337,5358.3,5252,1.5443,34.6905,2,34.6901,2,161.22,2,146.96,2,35.42,2,0.00,2,2.44,2,2318.5,2,2411.8,2,7.5991,6,-999,9,-999,9
49UF20170228,KS17-02,5069,1,1,25235,2,20170311,1217,39.6562,147.8828,5337,5426.8,5318,1.5527,34.6906,2,34.6889,4,160.75,2,147.62,2,35.42,2,0.00,2,2.45,2,2325.1,2,2411.7,2,7.5963,2,-999,9,-999,9