BOTTLE,20171117JMAGEMD
EXPOCODE,SECT_ID,STNNBR,CASTNO,SAMPNO,BTLNBR,BTLNBR_FLAG_W,DATE,TIME,LATITUDE,LONGITUDE,DEPTH,CTDPRS,CTDDEP,CTDTMP,CTDSAL,CTDSAL_FLAG_W,SALNTY,SALNTY_FLAG_W,OXYGEN,OXYGEN_FLAG_W,SILCAT,SILCAT_FLAG_W,NO2+NO3,NO2+NO3_FLAG_W,NITRIT,NITRIT_FLAG_W,PHSPHT,PHSPHT_FLAG_W,TCARBN,TCARBN_FLAG_W,ALKALI,ALKALI_FLAG_W,PH_TOT,PH_TOT_FLAG_W,CFC-11,CFC-11_FLAG_W,CFC-12,CFC-12_FLAG_W
,,,,,,,UTC,UTC,,,METER,DBAR,METERS,ITS-90,PSS-78,,PSS-78,,UMOL/KG,,UMOL/KG,,UMOL/KG,,UMOL/KG,,UMOL/KG,,UMOL/KG,,UMOL/KG,,@25DEG-C,,PMOL/KG,,PMOL/KG,
49UF20170228,KS17-02,5035,1,-999,0,2,20170303,1452,32.0127,143.0232,5645,0.0,0,18.3491,34.8800,2,34.8842,2,228.13,2,2.78,2,1.90,2,0.14,2,0.16,2,2019.5,2,2291.5,2,8.0112,2,-999,9,-999,9
49UF20170228,KS17-02,5035,1,36,25270,2,20170303,1523,32.0127,143.0232,5645,13.4,13,18.3551,34.8787,2,34.8775,6,227.23,2,2.75,2,1.89,2,0.14,2,0.14,2,2018.8,2,2291.1,2,8.0158,2,-999,9,-999,9
49UF20170228,KS17-02,5035,1,35,25269,2,20170303,1522,32.0127,143.0232,5645,26.0,26,18.3607,34.8790,2,-999.0000,9,227.23,2,2.76,2,1.89,2,0.14,2,0.14,2,2017.9,2,2291.1,2,8.0170,2,-999,9,-999,9
49UF20170228,KS17-02,5035,1,34,25268,2,20170303,1521,32.0127,143.0232,5645,53.7,53,18.3600,34.8791,2,-999.0000,9,227.38,2,2.78,2,1.89,2,0.14,2,0.14,2,2018.3,2,2291.7,2,8.0164,2,-999,9,-999,9
49UF20170228,KS17-02,5035,1,33,25267,2,20170303,1520,32.0127,143.0232,5645,79.9,79,18.3660,34.8786,2,-999.0000,9,227.25,2,2.77,2,1.88,2,0.14,2,0.14,2,2016.6,2,2292.0,2,8.0165,2,-999,9,-999,9
49UF20170228,KS17-02,5035,1,32,25266,2,20170303,1517,32.0127,143.0232,5645,104.6,104,18.3677,34.8792,2,34.8797,6,227.26,6,2.77,6,1.88,6,0.14,6,0.14,6,2022.3,2,2292.5,2,8.0156,2,-999,9,-999,9
49UF20170228,KS17-02,5035,1,31,25265,2,20170303,1515,32.0127,143.0232,5645,127.3,126,18.3709,34.8794,2,-999.0000,9,227.07,2,2.77,2,1.89,2,0.14,2,0.14,2,2017.7,2,2291.5,2,8.0152,2,-999,9,-999,9
49UF20170228,KS17-02,5035,1,30,25264,2,20170303,1514,32.0127,143.0232,5645,155.5,154,18.3729,34.8794,2,-999.0000,9,227.54,2,2.77,2,1.87,2,0.14,2,0.14,2,2017.7,2,2290.6,2,8.0155,2,-999,9,-999,9
49UF20170228,KS17-02,5035,1,29,25263,2,20170303,1513,32.0127,143.0232,5645,202.6,201,18.3890,34.8792,2,34.8779,2,227.47,2,2.78,2,1.85,2,0.14,2,0.14,2,2020.0,2,2290.2,2,8.0153,2,-999,9,-999,9
49UF20170228,KS17-02,5035,1,28,25262,2,20170303,1511,32.0127,143.0232,5645,253.0,251,18.3420,34.8706,2,-999.0000,9,227.90,2,2.83,2,1.88,2,0.18,2,0.14,2,2018.0,2,2290.9,2,8.0151,2,-999,9,-999,9
49UF20170228,KS17-02,5035,1,27,25261,2,20170303,1509,32.0127,143.0232,5645,302.7,300,18.2152,34.8479,2,-999.0000,9,223.18,2,3.20,2,2.40,2,0.10,2,0.18,2,2025.9,2,2289.4,2,8.0033,2,-999,9,-999,9
49UF20170228,KS17-02,5035,1,26,25260,2,20170303,1505,32.0127,143.0232,5645,404.8,402,16.2604,34.6607,2,34.6589,2,195.35,2,7.68,2,7.46,2,0.01,2,0.50,2,2060.9,2,2278.2,2,7.9162,2,-999,9,-999,9
49UF20170228,KS17-02,5035,1,25,25259,2,20170303,1502,32.0127,143.0232,5645,506.1,502,13.7738,34.4817,2,34.4837,6,178.56,2,16.47,2,12.93,2,0.00,2,0.89,2,2100.3,2,2277.9,2,7.8292,2,-999,9,-999,9
49UF20170228,KS17-02,5035,1,24,25258,2,20170303,1459,32.0127,143.0232,5645,608.8,604,10.5181,34.2594,2,34.2653,2,174.98,2,28.94,2,18.45,2,0.00,2,1.30,2,2142.0,6,2278.8,6,7.7388,2,-999,9,-999,9
49UF20170228,KS17-02,5035,1,23,25257,2,20170303,1456,32.0127,143.0232,5645,709.2,703,7.6616,34.1173,2,34.1174,2,143.92,2,50.68,2,26.41,2,0.00,2,1.90,2,2201.3,2,2289.3,2,7.6066,6,-999,9,-999,9
49UF20170228,KS17-02,5035,1,22,25256,2,20170303,1453,32.0127,143.0232,5645,811.1,804,5.8722,34.1061,2,34.1179,4,109.36,2,71.61,2,32.52,2,0.00,2,2.34,2,2256.5,2,2304.9,2,7.5094,2,-999,9,-999,9
49UF20170228,KS17-02,5035,1,21,25255,2,20170303,1450,32.0127,143.0232,5645,908.7,900,4.8844,34.1629,2,34.1624,2,77.63,2,91.47,2,36.93,2,0.00,2,2.66,2,2296.5,2,2323.5,2,7.4291,2,-999,9,-999,9
49UF20170228,KS17-02,5035,1,20,24270,2,20170303,1446,32.0127,143.0232,5645,1012.7,1003,4.1481,34.2376,2,34.2367,6,55.71,2,108.72,2,39.84,2,0.00,2,2.85,2,2329.0,2,2341.3,2,7.3898,2,-999,9,-999,9
49UF20170228,KS17-02,5035,1,19,25253,2,20170303,1440,32.0127,143.0232,5645,1214.6,1203,3.3861,34.3547,2,34.3550,2,42.68,6,129.51,6,41.81,6,0.00,6,3.00,6,2355.9,2,2367.6,2,7.3706,2,-999,9,-999,9
49UF20170228,KS17-02,5035,1,18,25252,2,20170303,1434,32.0127,143.0232,5645,1419.5,1405,2.8701,34.4422,2,34.4404,6,40.43,2,143.37,2,42.56,2,0.00,2,3.03,2,2375.0,2,2386.7,2,7.3766,2,-999,9,-999,9
49UF20170228,KS17-02,5035,1,17,25251,2,20170303,1429,32.0127,143.0232,5645,1619.6,1602,2.5095,34.5018,2,34.5007,2,44.78,2,153.26,2,42.71,2,0.00,2,3.03,2,2381.1,6,2397.5,6,7.3880,2,-999,9,-999,9
49UF20170228,KS17-02,5035,1,16,25250,3,20170303,1423,32.0127,143.0232,5645,1824.5,1804,2.2420,34.5469,2,34.5942,4,56.91,2,158.31,2,42.11,2,0.00,2,2.98,2,2381.7,2,2405.8,2,7.4100,6,-999,9,-999,9
49UF20170228,KS17-02,5035,1,15,25249,2,20170303,1418,32.0127,143.0232,5645,2027.0,2003,2.0477,34.5813,2,34.5805,2,70.79,2,160.47,2,41.36,2,0.00,2,2.91,2,2376.4,2,2411.4,2,7.4376,2,-999,9,-999,9
49UF20170228,KS17-02,5035,1,14,25248,2,20170303,1412,32.0127,143.0232,5645,2280.0,2252,1.8781,34.6109,2,34.6117,2,88.24,2,160.41,2,40.26,2,0.00,2,2.83,2,2368.0,2,2415.3,2,7.4739,2,-999,9,-999,9
49UF20170228,KS17-02,5035,1,13,25247,2,20170303,1405,32.0127,143.0232,5645,2536.0,2503,1.7422,34.6331,2,34.6334,2,103.76,2,159.30,2,39.44,2,0.00,2,2.76,2,2361.2,2,2417.9,2,7.5022,2,-999,9,-999,9
49UF20170228,KS17-02,5035,1,12,25246,2,20170303,1359,32.0127,143.0232,5645,2791.0,2753,1.6525,34.6488,2,34.6485,2,117.56,2,155.96,2,38.37,2,0.00,2,2.68,2,2351.5,2,2419.4,2,7.5280,2,-999,9,-999,9
49UF20170228,KS17-02,5035,1,11,25245,2,20170303,1352,32.0127,143.0232,5645,3045.6,3003,1.5918,34.6588,2,34.6631,4,126.83,2,154.74,2,37.89,2,0.00,2,2.64,2,2345.0,2,2419.6,2,7.5454,2,-999,9,-999,9
49UF20170228,KS17-02,5035,1,10,25244,2,20170303,1346,32.0127,143.0232,5645,3302.0,3254,1.5418,34.6674,2,34.6681,2,134.72,6,153.32,6,37.39,6,0.00,6,2.60,6,2340.9,6,2418.1,6,7.5547,2,-999,9,-999,9
49UF20170228,KS17-02,5035,1,9,25243,2,20170303,1340,32.0127,143.0232,5645,3555.7,3501,1.5089,34.6734,2,34.6725,2,140.35,2,152.15,2,36.99,2,0.00,2,2.56,2,2336.6,2,2419.4,2,7.5660,6,-999,9,-999,9
49UF20170228,KS17-02,5035,1,8,25242,2,20170303,1334,32.0127,143.0232,5645,3812.7,3752,1.4917,34.6777,2,34.6781,6,146.08,2,150.75,2,36.67,2,0.00,2,2.54,2,2336.8,2,2417.1,2,7.5761,2,-999,9,-999,9
49UF20170228,KS17-02,5035,1,7,25241,2,20170303,1328,32.0127,143.0232,5645,4070.4,4004,1.4807,34.6815,2,34.6804,2,150.70,2,150.23,2,36.33,2,0.00,2,2.52,2,2330.0,2,2417.9,2,7.5837,2,-999,9,-999,9
49UF20170228,KS17-02,5035,1,6,25240,2,20170303,1319,32.0127,143.0232,5645,4585.7,4505,1.4827,34.6870,2,34.7052,4,157.65,2,147.24,2,35.72,2,0.00,2,2.47,2,2322.4,2,2415.6,2,7.5952,2,-999,9,-999,9
49UF20170228,KS17-02,5035,1,5,25239,2,20170303,1313,32.0127,143.0232,5645,4835.4,4748,1.4922,34.6890,2,34.6887,6,160.47,2,145.97,2,35.65,2,0.00,2,2.46,2,2322.8,2,2411.9,2,7.5985,2,-999,9,-999,9
49UF20170228,KS17-02,5035,1,4,25238,2,20170303,1307,32.0127,143.0232,5645,5094.7,5000,1.5131,34.6900,2,34.6901,6,162.80,2,144.36,2,35.60,2,0.00,2,2.45,2,2319.0,2,2412.0,2,7.6011,2,-999,9,-999,9
49UF20170228,KS17-02,5035,1,3,25237,2,20170303,1302,32.0127,143.0232,5645,5351.2,5248,1.5381,34.6909,2,34.6894,4,162.64,6,143.75,6,35.46,6,0.00,6,2.45,6,2323.5,2,2411.2,2,7.6021,2,-999,9,-999,9
49UF20170228,KS17-02,5035,1,2,25236,2,20170303,1255,32.0127,143.0232,5645,5610.5,5500,1.5676,34.6915,2,34.6920,2,165.05,2,142.67,2,35.40,2,0.00,2,2.44,2,2316.3,2,2411.9,2,7.6057,2,-999,9,-999,9
49UF20170228,KS17-02,5035,1,1,25235,2,20170303,1251,32.0127,143.0232,5645,5807.1,5690,1.5929,34.6915,2,34.6915,6,164.60,2,142.69,2,35.30,2,0.00,2,2.44,2,2316.6,2,2411.5,2,7.6041,2,-999,9,-999,9
49UF20170228,KS17-02,5037,1,-999,0,2,20170304,0030,30.9882,143.9925,5766,0.0,0,18.9289,34.9600,2,-999.,9,226.78,2,2.24,2,0.74,2,0.13,2,0.08,2,-999.,9,-999.,9,-999.,9,-999,9,-999,9
49UF20170228,KS17-02,5037,1,36,25270,2,20170304,0101,30.9882,143.9925,5766,11.9,12,18.9299,34.9601,2,-999.,9,227.64,2,2.18,2,0.59,2,0.12,2,0.06,2,-999.,9,-999.,9,-999.,9,-999,9,-999,9
49UF20170228,KS17-02,5037,1,35,25269,2,20170304,0100,30.9882,143.9925,5766,27.0,27,18.9284,34.9596,2,-999.,9,227.93,2,2.20,2,0.59,2,0.12,2,0.06,2,-999.,9,-999.,9,-999.,9,-999,9,-999,9
49UF20170228,KS17-02,5037,1,34,25268,2,20170304,0059,30.9882,143.9925,5766,52.1,52,18.9248,34.9591,2,-999.,9,227.44,2,2.20,2,0.60,2,0.12,2,0.07,2,-999.,9,-999.,9,-999.,9,-999,9,-999,9
49UF20170228,KS17-02,5037,1,33,25267,2,20170304,0057,30.9882,143.9925,5766,77.5,77,18.9208,34.9584,2,-999.,9,227.71,2,2.19,6,0.61,6,0.13,6,0.07,6,-999.,9,-999.,9,-999.,9,-999,9,-999,9
49UF20170228,KS17-02,5037,1,32,25266,2,20170304,0056,30.9882,143.9925,5766,102.7,102,18.8460,34.9441,2,-999.,9,226.23,2,2.29,2,0.85,2,0.15,2,0.08,2,-999.,9,-999.,9,-999.,9,-999,9,-999,9
49UF20170228,KS17-02,5037,1,31,25265,2,20170304,0054,30.9882,143.9925,5766,128.0,127,18.1474,34.8361,2,-999.,9,207.71,2,3.36,2,3.33,2,0.05,2,0.23,2,-999.,9,-999.,9,-999.,9,-999,9,-999,9
49UF20170228,KS17-02,5037,1,27,25261,2,20170304,0053,30.9882,143.9925,5766,155.2,154,17.7248,34.7923,2,-999.,9,204.62,2,3.83,2,4.16,2,0.02,2,0.28,2,-999.,9,-999.,9,-999.,9,-999,9,-999,9
49UF20170228,KS17-02,5037,1,26,25260,2,20170304,0049,30.9882,143.9925,5766,204.9,203,17.1924,34.7477,2,-999.,9,203.38,2,4.55,2,5.07,2,0.01,2,0.34,2,-999.,9,-999.,9,-999.,9,-999,9,-999,9
49UF20170228,KS17-02,5037,1,25,25259,2,20170304,0047,30.9882,143.9925,5766,254.3,252,16.7463,34.7117,2,-999.,9,203.87,2,5.24,2,5.75,2,0.01,2,0.38,2,-999.,9,-999.,9,-999.,9,-999,9,-999,9
49UF20170228,KS17-02,5037,1,24,25258,2,20170304,0045,30.9882,143.9925,5766,302.9,301,15.9642,34.6424,2,-999.,9,201.85,2,6.89,2,7.10,2,0.01,2,0.47,2,-999.,9,-999.,9,-999.,9,-999,9,-999,9
49UF20170228,KS17-02,5037,1,23,25257,2,20170304,0042,30.9882,143.9925,5766,405.2,402,13.0875,34.4303,2,-999.,9,178.59,2,18.40,2,14.06,2,0.00,2,0.97,2,-999.,9,-999.,9,-999.,9,-999,9,-999,9
49UF20170228,KS17-02,5037,1,22,25256,2,20170304,0039,30.9882,143.9925,5766,506.1,502,10.0141,34.2071,2,-999.,9,175.64,2,30.63,2,19.14,2,0.00,2,1.36,2,-999.,9,-999.,9,-999.,9,-999,9,-999,9
49UF20170228,KS17-02,5037,1,18,25252,2,20170304,0036,30.9882,143.9925,5766,606.9,602,6.9641,34.0175,2,-999.,9,154.00,2,51.57,2,26.75,2,0.00,2,1.94,2,-999.,9,-999.,9,-999.,9,-999,9,-999,9
49UF20170228,KS17-02,5037,1,16,25250,3,20170304,0033,30.9882,143.9925,5766,708.8,703,5.2609,34.0483,2,-999.,9,104.18,2,75.87,2,34.29,2,0.00,2,2.48,2,-999.,9,-999.,9,-999.,9,-999,9,-999,9
49UF20170228,KS17-02,5037,1,17,25251,2,20170304,0034,30.9882,143.9925,5766,711.0,705,5.2175,34.0543,2,-999.,9,103.14,2,76.38,2,34.46,2,0.00,2,2.49,2,-999.,9,-999.,9,-999.,9,-999,9,-999,9
49UF20170228,KS17-02,5037,1,15,25249,2,20170304,0031,30.9882,143.9925,5766,809.0,802,4.5485,34.1609,2,-999.,9,69.93,2,96.53,2,38.36,2,0.00,2,2.76,2,-999.,9,-999.,9,-999.,9,-999,9,-999,9
49UF20170228,KS17-02,5037,1,14,25248,2,20170304,0028,30.9882,143.9925,5766,910.7,902,4.0503,34.2435,2,-999.,9,52.47,2,110.85,2,40.32,2,0.00,2,2.90,2,-999.,9,-999.,9,-999.,9,-999,9,-999,9
49UF20170228,KS17-02,5037,1,13,25247,2,20170304,0025,30.9882,143.9925,5766,1011.7,1002,3.5802,34.3168,2,-999.,9,42.06,6,123.93,6,41.73,6,0.00,6,3.00,6,-999.,9,-999.,9,-999.,9,-999,9,-999,9
49UF20170228,KS17-02,5037,1,9,25243,2,20170304,0020,30.9882,143.9925,5766,1215.9,1204,3.0539,34.4075,2,-999.,9,41.62,2,138.54,2,42.41,2,0.00,2,3.03,2,-999.,9,-999.,9,-999.,9,-999,9,-999,9
49UF20170228,KS17-02,5037,1,7,25241,2,20170304,0015,30.9882,143.9925,5766,1418.2,1404,2.5800,34.4860,2,-999.,9,43.15,2,151.08,2,42.73,2,0.00,2,3.04,2,-999.,9,-999.,9,-999.,9,-999,9,-999,9
49UF20170228,KS17-02,5037,1,8,25242,3,20170304,0015,30.9882,143.9925,5766,1418.9,1404,2.5797,34.4860,2,-999.,9,43.33,2,151.17,2,42.69,2,0.00,2,3.07,2,-999.,9,-999.,9,-999.,9,-999,9,-999,9
49UF20170228,KS17-02,5037,1,6,25240,2,20170304,0010,30.9882,143.9925,5766,1619.6,1602,2.3291,34.5393,2,-999.,9,57.83,2,154.93,2,42.05,2,0.00,2,2.98,2,-999.,9,-999.,9,-999.,9,-999,9,-999,9
49UF20170228,KS17-02,5037,1,5,25239,2,20170304,0006,30.9882,143.9925,5766,1821.2,1801,2.1334,34.5735,2,-999.,9,72.42,2,156.46,2,41.15,2,0.00,2,2.91,2,-999.,9,-999.,9,-999.,9,-999,9,-999,9
49UF20170228,KS17-02,5037,1,4,25238,2,20170304,0001,30.9882,143.9925,5766,2027.1,2003,1.9464,34.5979,2,-999.,9,79.80,2,161.21,2,40.88,2,0.00,2,2.88,2,-999.,9,-999.,9,-999.,9,-999,9,-999,9
49UF20170228,KS17-02,5039,1,-999,0,2,20170304,1310,30.0143,145.0363,5920,0.0,0,18.5477,34.8938,2,34.8983,2,230.13,2,2.76,2,1.42,2,0.14,2,0.12,2,2011.9,2,2292.9,2,8.0213,2,-999,9,-999,9
49UF20170228,KS17-02,5039,1,36,25270,2,20170304,1344,30.0143,145.0363,5920,11.0,11,18.5455,34.8929,2,34.8918,2,230.30,2,2.74,2,1.37,2,0.13,2,0.11,2,2013.8,2,2292.2,2,8.0232,2,-999,9,-999,9
49UF20170228,KS17-02,5039,1,35,25269,2,20170304,1343,30.0143,145.0363,5920,26.0,26,18.5586,34.8922,2,-999.0000,9,230.21,2,2.76,2,1.39,2,0.14,2,0.12,2,2020.1,2,2291.1,2,8.0248,2,-999,9,-999,9
49UF20170228,KS17-02,5039,1,34,25268,2,20170304,1341,30.0143,145.0363,5920,51.9,52,18.5296,34.8875,2,-999.0000,9,226.91,6,2.80,6,1.67,6,0.15,6,0.13,6,2016.6,2,2291.0,2,8.0186,2,-999,9,-999,9
49UF20170228,KS17-02,5039,1,33,25267,2,20170304,1340,30.0143,145.0363,5920,77.1,77,18.5085,34.8875,2,-999.0000,9,226.81,2,2.75,2,1.62,2,0.18,2,0.12,2,2015.8,2,2292.4,2,8.0220,2,-999,9,-999,9
49UF20170228,KS17-02,5039,1,32,25266,3,20170304,1338,30.0143,145.0363,5920,102.7,102,18.4893,34.8868,2,34.8856,2,228.47,2,2.72,2,1.52,2,0.18,2,0.12,2,2018.6,2,2292.5,2,8.0218,2,-999,9,-999,9
49UF20170228,KS17-02,5039,1,31,25265,2,20170304,1337,30.0143,145.0363,5920,128.4,127,18.4714,34.8851,2,-999.0000,9,229.33,2,2.73,2,1.48,2,0.17,2,0.12,2,2017.5,2,2291.7,2,8.0226,2,-999,9,-999,9
49UF20170228,KS17-02,5039,1,30,25264,2,20170304,1336,30.0143,145.0363,5920,151.9,151,18.4454,34.8817,2,-999.0000,9,229.27,2,2.76,2,1.54,2,0.18,2,0.12,2,2022.9,2,2290.5,2,8.0193,2,-999,9,-999,9
49UF20170228,KS17-02,5039,1,29,25263,2,20170304,1331,30.0143,145.0363,5920,204.8,203,18.4243,34.8781,2,34.8778,6,228.38,2,2.81,2,1.65,2,0.18,2,0.13,2,2020.4,2,2290.4,2,8.0169,2,-999,9,-999,9
49UF20170228,KS17-02,5039,1,28,25262,2,20170304,1330,30.0143,145.0363,5920,253.9,252,17.9875,34.8452,2,-999.0000,9,224.89,2,3.36,2,2.39,2,0.04,2,0.18,2,2029.6,2,2289.1,2,8.0037,2,-999,9,-999,9
49UF20170228,KS17-02,5039,1,27,25261,2,20170304,1328,30.0143,145.0363,5920,304.9,303,17.0262,34.7232,2,-999.0000,9,200.72,2,5.59,2,5.79,2,0.01,2,0.39,2,2052.4,2,2281.6,2,7.9437,2,-999,9,-999,9
49UF20170228,KS17-02,5039,1,26,25260,2,20170304,1325,30.0143,145.0363,5920,405.4,402,14.3836,34.5194,2,34.5181,6,186.54,2,13.14,2,11.14,2,0.01,2,0.76,2,2089.0,2,2275.5,2,7.8589,2,-999,9,-999,9
49UF20170228,KS17-02,5039,1,25,25259,2,20170304,1323,30.0143,145.0363,5920,507.1,503,11.3424,34.3091,2,34.3127,2,178.77,2,24.61,2,16.68,2,0.01,2,1.16,2,2126.7,2,2276.5,2,7.7690,2,-999,9,-999,9
49UF20170228,KS17-02,5039,1,24,25258,2,20170304,1320,30.0143,145.0363,5920,605.5,601,8.1445,34.1213,2,34.1206,2,152.26,2,45.43,2,24.79,2,0.00,2,1.78,2,2187.7,2,2283.7,2,7.6341,2,-999,9,-999,9
49UF20170228,KS17-02,5039,1,23,25257,2,20170304,1318,30.0143,145.0363,5920,707.4,701,6.1318,34.1255,2,34.1252,6,109.75,2,70.62,2,32.23,2,0.00,2,2.31,2,2249.1,6,2305.3,6,7.5160,2,-999,9,-999,9
49UF20170228,KS17-02,5039,1,22,25256,3,20170304,1315,30.0143,145.0363,5920,809.5,802,5.1242,34.1913,2,34.1868,2,82.68,2,89.55,2,36.49,2,0.00,2,2.61,2,2288.9,2,2323.8,2,7.4480,6,-999,9,-999,9
49UF20170228,KS17-02,5039,1,21,25255,2,20170304,1312,30.0143,145.0363,5920,909.6,901,4.1786,34.2394,2,34.2394,2,56.35,6,108.42,6,39.98,6,0.00,6,2.86,6,2322.8,2,2341.7,2,7.3907,2,-999,9,-999,9
49UF20170228,KS17-02,5039,1,20,24270,2,20170304,1309,30.0143,145.0363,5920,1013.4,1004,3.6620,34.3052,2,34.3033,2,44.56,3,121.69,2,41.43,2,0.00,2,2.96,2,2348.4,2,2357.1,2,7.3718,2,-999,9,-999,9
49UF20170228,KS17-02,5039,1,19,25253,2,20170304,1305,30.0143,145.0363,5920,1213.1,1201,3.0625,34.4112,2,34.4104,6,38.22,2,138.46,2,42.81,2,0.00,2,3.05,2,2370.1,2,2377.6,2,7.3681,2,-999,9,-999,9
49UF20170228,KS17-02,5039,1,18,25252,2,20170304,1300,30.0143,145.0363,5920,1415.9,1401,2.6635,34.4780,2,34.4782,2,41.21,2,149.21,2,42.81,2,0.00,2,3.05,2,2375.5,2,2391.9,2,7.3796,2,-999,9,-999,9
49UF20170228,KS17-02,5039,1,17,25251,2,20170304,1255,30.0143,145.0363,5920,1620.3,1603,2.4054,34.5240,2,34.5236,6,51.07,2,154.60,2,42.50,2,0.00,2,3.01,2,2379.0,2,2400.2,2,7.4013,2,-999,9,-999,9
49UF20170228,KS17-02,5039,1,16,25250,2,20170304,1251,30.0143,145.0363,5920,1823.4,1803,2.1266,34.5709,2,34.5709,2,69.76,2,157.62,2,41.38,2,0.00,2,2.92,2,2372.8,6,2408.3,6,7.4352,2,-999,9,-999,9
49UF20170228,KS17-02,5039,1,15,25249,2,20170304,1246,30.0143,145.0363,5920,2025.1,2002,1.9438,34.6021,2,34.6023,2,90.52,2,155.53,2,40.09,2,0.00,2,2.82,2,2359.1,2,2409.1,2,7.4774,6,-999,9,-999,9
49UF20170228,KS17-02,5039,1,14,25248,2,20170304,1240,30.0143,145.0363,5920,2279.1,2251,1.8084,34.6232,2,34.6243,2,102.14,2,156.25,2,39.39,2,0.00,2,2.75,2,2354.6,2,2414.4,2,7.4990,2,-999,9,-999,9
49UF20170228,KS17-02,5039,1,13,25247,2,20170304,1234,30.0143,145.0363,5920,2532.5,2500,1.7058,34.6396,2,34.6396,6,111.43,2,156.67,2,38.85,2,0.00,2,2.71,2,2349.6,2,2415.8,2,7.5167,2,-999,9,-999,9
49UF20170228,KS17-02,5039,1,12,25246,2,20170304,1226,30.0143,145.0363,5920,2788.8,2752,1.6345,34.6513,2,34.6516,2,121.97,2,154.50,2,38.03,2,0.00,2,2.66,2,2344.4,2,2415.0,2,7.5365,2,-999,9,-999,9
49UF20170228,KS17-02,5039,1,11,25245,2,20170304,1220,30.0143,145.0363,5920,3044.3,3002,1.5797,34.6606,2,34.6608,2,129.09,2,153.55,2,37.68,2,0.00,2,2.62,2,2345.4,2,2417.1,2,7.5500,2,-999,9,-999,9
49UF20170228,KS17-02,5039,1,10,25244,2,20170304,1213,30.0143,145.0363,5920,3299.9,3252,1.5410,34.6678,2,34.6682,6,135.88,2,152.34,2,37.23,2,0.00,2,2.58,2,2336.0,2,2416.3,2,7.5602,2,-999,9,-999,9
49UF20170228,KS17-02,5039,1,9,25243,2,20170304,1207,30.0143,145.0363,5920,3555.5,3502,1.5156,34.6730,2,34.6731,2,140.75,2,151.73,2,36.92,2,0.00,2,2.56,2,2337.6,6,2417.5,6,7.5699,2,-999,9,-999,9
49UF20170228,KS17-02,5039,1,8,25242,2,20170304,1159,30.0143,145.0363,5920,3811.3,3752,1.4971,34.6773,2,34.6776,2,145.47,2,150.30,6,36.59,6,0.00,6,2.53,6,2330.5,2,2417.3,2,7.5764,6,-999,9,-999,9
49UF20170228,KS17-02,5039,1,7,25241,3,20170304,1153,30.0143,145.0363,5920,4068.6,4003,1.4870,34.6809,2,34.6815,6,149.51,2,149.66,2,36.39,2,0.00,2,2.52,2,2328.3,2,2417.0,2,7.5832,2,-999,9,-999,9
49UF20170228,KS17-02,5039,1,6,25240,2,20170304,1142,30.0143,145.0363,5920,4579.7,4500,1.4967,34.6857,2,34.6857,6,155.94,2,148.04,2,35.95,2,0.00,2,2.48,2,2323.5,2,2414.1,2,7.5924,2,-999,9,-999,9
49UF20170228,KS17-02,5039,1,5,25239,2,20170304,1130,30.0143,145.0363,5920,5096.1,5002,1.5313,34.6883,2,34.6884,2,159.48,6,145.60,6,35.64,6,0.00,6,2.46,6,2326.6,2,2413.2,2,7.5989,2,-999,9,-999,9
49UF20170228,KS17-02,5039,1,4,25238,2,20170304,1124,30.0143,145.0363,5920,5352.3,5250,1.5484,34.6900,2,34.6907,2,162.90,2,144.02,2,35.41,2,0.00,2,2.45,2,2317.8,2,2413.4,2,7.6012,2,-999,9,-999,9
49UF20170228,KS17-02,5039,1,3,25237,2,20170304,1118,30.0143,145.0363,5920,5611.0,5501,1.5732,34.6908,2,34.6912,6,164.08,2,143.08,2,35.33,2,0.00,2,2.44,2,2315.0,2,2410.5,2,7.6014,2,-999,9,-999,9
49UF20170228,KS17-02,5039,1,2,25236,2,20170304,1111,30.0143,145.0363,5920,5869.6,5751,1.5989,34.6918,2,34.6922,2,165.93,2,141.06,2,35.09,2,0.00,2,2.43,2,2314.5,2,2408.5,2,7.6069,2,-999,9,-999,9
49UF20170228,KS17-02,5039,1,1,25235,2,20170304,1106,30.0143,145.0363,5920,6089.7,5964,1.6249,34.6922,2,34.6919,6,166.40,2,140.93,2,35.11,2,0.00,2,2.43,2,2316.4,2,2408.7,2,7.6043,2,-999,9,-999,9