BOTTLE,20171117JMAGEMD
EXPOCODE,SECT_ID,STNNBR,CASTNO,SAMPNO,BTLNBR,BTLNBR_FLAG_W,DATE,TIME,LATITUDE,LONGITUDE,DEPTH,CTDPRS,CTDDEP,CTDTMP,CTDSAL,CTDSAL_FLAG_W,SALNTY,SALNTY_FLAG_W,OXYGEN,OXYGEN_FLAG_W,SILCAT,SILCAT_FLAG_W,NO2+NO3,NO2+NO3_FLAG_W,NITRIT,NITRIT_FLAG_W,PHSPHT,PHSPHT_FLAG_W,TCARBN,TCARBN_FLAG_W,ALKALI,ALKALI_FLAG_W,PH_TOT,PH_TOT_FLAG_W,CFC-11,CFC-11_FLAG_W,CFC-12,CFC-12_FLAG_W
,,,,,,,UTC,UTC,,,METER,DBAR,METERS,ITS-90,PSS-78,,PSS-78,,UMOL/KG,,UMOL/KG,,UMOL/KG,,UMOL/KG,,UMOL/KG,,UMOL/KG,,UMOL/KG,,@25DEG-C,,PMOL/KG,,PMOL/KG,
49UF20170228,KS17-02,5027,1,-999,0,2,20170228,1455,34.9285,140.237,2225,0.0,0,17.0501,34.8332,2,-999.0000,9,233.66,2,3.77,2,2.87,2,0.18,2,0.21,2,-999.,9,-999.,9,-999.,9,-999,9,-999,9
49UF20170228,KS17-02,5027,1,36,25270,2,20170228,1520,34.9285,140.237,2225,12.4,12,17.0746,34.8340,2,34.8330,6,232.76,2,3.68,2,2.72,2,0.18,2,0.20,2,-999.,9,-999.,9,-999.,9,-999,9,-999,9
49UF20170228,KS17-02,5027,1,35,25269,2,20170228,1519,34.9285,140.237,2225,25.6,25,17.0615,34.8338,2,-999.0000,9,233.50,2,3.69,2,2.72,2,0.18,2,0.20,2,-999.,9,-999.,9,-999.,9,-999,9,-999,9
49UF20170228,KS17-02,5027,1,34,25268,2,20170228,1518,34.9285,140.237,2225,53.1,53,17.0315,34.8274,2,-999.0000,9,232.82,2,3.80,2,2.84,2,0.18,2,0.21,2,-999.,9,-999.,9,-999.,9,-999,9,-999,9
49UF20170228,KS17-02,5027,1,33,25267,2,20170228,1517,34.9285,140.237,2225,77.7,77,17.0348,34.8269,2,-999.0000,9,232.65,2,3.80,2,2.84,2,0.19,2,0.21,2,-999.,9,-999.,9,-999.,9,-999,9,-999,9
49UF20170228,KS17-02,5027,1,32,25266,2,20170228,1516,34.9285,140.237,2225,102.4,102,16.2205,34.6899,2,34.6916,2,210.64,2,6.49,2,6.03,2,0.07,2,0.41,2,-999.,9,-999.,9,-999.,9,-999,9,-999,9
49UF20170228,KS17-02,5027,1,31,25265,2,20170228,1515,34.9285,140.237,2225,127.1,126,15.5862,34.6287,2,-999.0000,9,211.78,2,8.05,2,6.98,2,0.03,2,0.48,2,-999.,9,-999.,9,-999.,9,-999,9,-999,9
49UF20170228,KS17-02,5027,1,27,25261,3,20170228,1512,34.9285,140.237,2225,153.2,152,15.2857,34.6063,2,-999.0000,9,219.96,2,8.32,2,6.71,2,0.03,2,0.47,2,-999.,9,-999.,9,-999.,9,-999,9,-999,9
49UF20170228,KS17-02,5027,1,26,25260,2,20170228,1510,34.9285,140.237,2225,204.8,203,13.6965,34.5161,2,34.5154,2,178.19,6,20.67,6,13.50,6,0.01,6,0.95,6,-999.,9,-999.,9,-999.,9,-999,9,-999,9
49UF20170228,KS17-02,5027,1,25,25259,2,20170228,1508,34.9285,140.237,2225,253.9,252,12.0389,34.3946,2,-999.0000,9,161.01,2,27.95,2,17.61,2,0.01,2,1.24,2,-999.,9,-999.,9,-999.,9,-999,9,-999,9
49UF20170228,KS17-02,5027,1,24,25258,2,20170228,1507,34.9285,140.237,2225,304.8,302,10.0063,34.2509,2,-999.0000,9,159.17,2,34.85,2,20.89,2,0.00,2,1.48,2,-999.,9,-999.,9,-999.,9,-999,9,-999,9
49UF20170228,KS17-02,5027,1,23,25257,2,20170228,1504,34.9285,140.237,2225,403.3,400,8.3051,34.2345,2,34.2338,2,128.13,2,52.68,2,26.70,2,0.01,2,1.91,2,-999.,9,-999.,9,-999.,9,-999,9,-999,9
49UF20170228,KS17-02,5027,1,22,25256,2,20170228,1502,34.9285,140.237,2225,504.6,500,6.1503,34.2271,2,34.2272,2,96.26,2,78.53,2,33.22,2,0.00,2,2.38,2,-999.,9,-999.,9,-999.,9,-999,9,-999,9
49UF20170228,KS17-02,5027,1,18,25252,2,20170228,1459,34.9285,140.237,2225,606.9,602,4.8935,34.2619,2,34.2623,6,73.89,2,96.99,2,37.17,2,0.00,2,2.66,2,-999.,9,-999.,9,-999.,9,-999,9,-999,9
49UF20170228,KS17-02,5027,1,17,25251,2,20170228,1457,34.9285,140.237,2225,708.0,702,4.3529,34.2895,2,34.2881,2,64.75,2,106.27,2,38.78,2,0.00,2,2.78,2,-999.,9,-999.,9,-999.,9,-999,9,-999,9
49UF20170228,KS17-02,5027,1,16,25250,2,20170228,1454,34.9285,140.237,2225,807.8,800,3.6681,34.2974,2,34.2960,2,48.09,2,121.56,2,40.96,2,0.00,2,2.94,2,-999.,9,-999.,9,-999.,9,-999,9,-999,9
49UF20170228,KS17-02,5027,1,15,25249,2,20170228,1451,34.9285,140.237,2225,908.7,900,3.5641,34.3480,2,34.3478,2,51.07,2,124.57,2,40.92,2,0.00,2,2.93,2,-999.,9,-999.,9,-999.,9,-999,9,-999,9
49UF20170228,KS17-02,5027,1,14,25248,2,20170228,1449,34.9285,140.237,2225,1013.0,1003,3.1800,34.3986,2,34.3986,2,47.97,2,134.63,2,41.70,2,0.00,2,2.97,2,-999.,9,-999.,9,-999.,9,-999,9,-999,9
49UF20170228,KS17-02,5027,1,13,25247,2,20170228,1449,34.9285,140.237,2225,1013.6,1004,3.1804,34.3979,2,34.4008,2,48.10,2,134.35,2,41.53,2,0.00,2,2.98,2,-999.,9,-999.,9,-999.,9,-999,9,-999,9
49UF20170228,KS17-02,5027,1,9,25243,2,20170228,1444,34.9285,140.237,2225,1215.9,1204,2.7079,34.4524,2,34.4524,2,42.64,2,147.84,2,42.65,2,0.00,2,3.03,2,-999.,9,-999.,9,-999.,9,-999,9,-999,9
49UF20170228,KS17-02,5027,1,8,25242,2,20170228,1440,34.9285,140.237,2225,1416.1,1401,2.4730,34.4995,2,34.4995,2,49.79,2,153.20,2,42.17,2,0.00,2,3.00,2,-999.,9,-999.,9,-999.,9,-999,9,-999,9
49UF20170228,KS17-02,5027,1,7,25241,2,20170228,1436,34.9285,140.237,2225,1620.5,1603,2.2908,34.5320,2,34.5313,2,55.48,2,157.32,2,42.14,2,0.00,2,2.98,2,-999.,9,-999.,9,-999.,9,-999,9,-999,9
49UF20170228,KS17-02,5027,1,6,25240,2,20170228,1431,34.9285,140.237,2225,1823.5,1802,2.1786,34.5562,2,34.5559,6,66.20,6,157.51,6,41.45,6,0.00,6,2.93,6,-999.,9,-999.,9,-999.,9,-999,9,-999,9
49UF20170228,KS17-02,5027,1,5,25239,2,20170228,1427,34.9285,140.237,2225,2026.9,2003,2.0861,34.5728,2,34.5740,2,71.38,2,159.20,2,41.14,2,0.00,2,2.91,2,-999.,9,-999.,9,-999.,9,-999,9,-999,9
49UF20170228,KS17-02,5027,1,4,25238,2,20170228,1426,34.9285,140.237,2225,2027.5,2003,2.0852,34.5728,2,34.5746,2,72.05,2,159.20,2,41.26,2,0.00,2,2.91,2,-999.,9,-999.,9,-999.,9,-999,9,-999,9
49UF20170228,KS17-02,5030,1,-999,0,2,20170301,0120,34.1932,141.0022,4642,0.0,0,15.2045,34.6811,2,-999.,9,244.45,2,6.85,2,4.77,2,0.22,2,0.35,2,-999.,9,-999.,9,-999.,9,-999,9,-999,9
49UF20170228,KS17-02,5030,1,36,25270,2,20170301,0151,34.1932,141.0022,4642,12.0,12,15.1664,34.6809,2,-999.,9,244.13,2,6.77,2,4.66,2,0.21,2,0.34,2,-999.,9,-999.,9,-999.,9,-999,9,-999,9
49UF20170228,KS17-02,5030,1,35,25269,2,20170301,0150,34.1932,141.0022,4642,26.4,26,15.1398,34.6779,2,-999.,9,243.52,2,6.82,2,4.73,2,0.21,2,0.35,2,-999.,9,-999.,9,-999.,9,-999,9,-999,9
49UF20170228,KS17-02,5030,1,34,25268,2,20170301,0147,34.1932,141.0022,4642,51.2,51,15.0629,34.6639,2,-999.,9,242.04,2,7.12,2,4.99,2,0.23,2,0.36,2,-999.,9,-999.,9,-999.,9,-999,9,-999,9
49UF20170228,KS17-02,5030,1,33,25267,2,20170301,0146,34.1932,141.0022,4642,77.2,77,14.4564,34.5821,2,-999.,9,246.81,2,7.87,2,5.49,2,0.29,2,0.40,2,-999.,9,-999.,9,-999.,9,-999,9,-999,9
49UF20170228,KS17-02,5030,1,32,25266,3,20170301,0144,34.1932,141.0022,4642,101.9,101,14.2159,34.5417,2,-999.,9,245.56,2,8.45,2,6.04,2,0.39,2,0.44,2,-999.,9,-999.,9,-999.,9,-999,9,-999,9
49UF20170228,KS17-02,5030,1,31,25265,2,20170301,0143,34.1932,141.0022,4642,127.2,126,13.8853,34.4978,2,-999.,9,245.98,2,9.10,2,6.47,2,0.36,2,0.47,2,-999.,9,-999.,9,-999.,9,-999,9,-999,9
49UF20170228,KS17-02,5030,1,27,25261,2,20170301,0141,34.1932,141.0022,4642,153.6,152,12.4993,34.2802,2,-999.,9,237.36,6,12.81,6,9.14,6,0.18,6,0.67,6,-999.,9,-999.,9,-999.,9,-999,9,-999,9
49UF20170228,KS17-02,5030,1,26,25260,2,20170301,0139,34.1932,141.0022,4642,202.4,201,11.3216,34.2747,2,-999.,9,181.56,2,24.86,2,16.40,2,0.01,2,1.17,2,-999.,9,-999.,9,-999.,9,-999,9,-999,9
49UF20170228,KS17-02,5030,1,25,25259,2,20170301,0137,34.1932,141.0022,4642,255.7,254,9.9005,34.1986,2,-999.,9,175.66,2,31.53,2,19.36,2,0.01,2,1.38,2,-999.,9,-999.,9,-999.,9,-999,9,-999,9
49UF20170228,KS17-02,5030,1,24,25258,2,20170301,0135,34.1932,141.0022,4642,305.6,303,8.8125,34.1294,2,-999.,9,167.05,2,38.73,2,22.13,2,0.01,2,1.60,2,-999.,9,-999.,9,-999.,9,-999,9,-999,9
49UF20170228,KS17-02,5030,1,23,25257,2,20170301,0132,34.1932,141.0022,4642,407.4,404,5.2883,33.8369,2,-999.,9,158.12,2,58.48,2,29.34,2,0.01,2,2.16,2,-999.,9,-999.,9,-999.,9,-999,9,-999,9
49UF20170228,KS17-02,5030,1,22,25256,2,20170301,0129,34.1932,141.0022,4642,506.3,502,4.9630,34.0070,2,-999.,9,106.52,2,78.10,2,34.75,2,0.00,2,2.52,2,-999.,9,-999.,9,-999.,9,-999,9,-999,9
49UF20170228,KS17-02,5030,1,18,25252,2,20170301,0125,34.1932,141.0022,4642,606.9,602,4.7290,34.1597,2,-999.,9,74.67,2,92.88,2,37.63,2,0.00,2,2.70,2,-999.,9,-999.,9,-999.,9,-999,9,-999,9
49UF20170228,KS17-02,5030,1,17,25251,2,20170301,0122,34.1932,141.0022,4642,708.7,702,3.9723,34.2198,2,-999.,9,51.65,2,111.63,2,40.52,2,0.00,2,2.91,2,-999.,9,-999.,9,-999.,9,-999,9,-999,9
49UF20170228,KS17-02,5030,1,16,25250,2,20170301,0119,34.1932,141.0022,4642,810.1,803,3.6774,34.3109,2,-999.,9,49.47,2,121.03,2,41.09,2,0.00,2,2.93,2,-999.,9,-999.,9,-999.,9,-999,9,-999,9
49UF20170228,KS17-02,5030,1,15,25249,2,20170301,0116,34.1932,141.0022,4642,911.0,903,3.3160,34.3724,2,-999.,9,45.86,2,130.32,2,41.77,2,0.00,2,2.98,2,-999.,9,-999.,9,-999.,9,-999,9,-999,9
49UF20170228,KS17-02,5030,1,14,25248,2,20170301,0116,34.1932,141.0022,4642,912.5,904,3.3155,34.3727,2,-999.,9,46.13,2,130.60,2,41.72,2,0.00,2,2.98,2,-999.,9,-999.,9,-999.,9,-999,9,-999,9
49UF20170228,KS17-02,5030,1,13,25247,2,20170301,0113,34.1932,141.0022,4642,1011.6,1002,3.0551,34.4072,2,-999.,9,42.73,2,137.71,2,42.26,2,0.00,2,3.02,2,-999.,9,-999.,9,-999.,9,-999,9,-999,9
49UF20170228,KS17-02,5030,1,9,25243,2,20170301,0108,34.1932,141.0022,4642,1214.7,1203,2.6860,34.4714,2,-999.,9,46.08,2,146.71,2,42.47,2,0.00,2,3.02,2,-999.,9,-999.,9,-999.,9,-999,9,-999,9
49UF20170228,KS17-02,5030,1,8,25242,3,20170301,0104,34.1932,141.0022,4642,1415.2,1400,2.3940,34.5153,2,-999.,9,48.54,2,155.58,2,42.61,2,0.00,2,3.02,2,-999.,9,-999.,9,-999.,9,-999,9,-999,9
49UF20170228,KS17-02,5030,1,7,25241,2,20170301,0100,34.1932,141.0022,4642,1616.6,1599,2.1798,34.5541,2,-999.,9,59.95,6,158.96,6,42.00,6,0.00,6,2.97,6,-999.,9,-999.,9,-999.,9,-999,9,-999,9
49UF20170228,KS17-02,5030,1,6,25240,2,20170301,0056,34.1932,141.0022,4642,1819.6,1799,2.0176,34.5825,2,-999.,9,71.85,2,160.79,2,41.24,2,0.00,2,2.92,2,-999.,9,-999.,9,-999.,9,-999,9,-999,9
49UF20170228,KS17-02,5030,1,5,25239,2,20170301,0055,34.1932,141.0022,4642,1819.8,1799,2.0175,34.5824,2,-999.,9,71.67,2,160.60,2,41.32,2,0.00,2,2.92,2,-999.,9,-999.,9,-999.,9,-999,9,-999,9
49UF20170228,KS17-02,5030,1,4,25238,2,20170301,0051,34.1932,141.0022,4642,2024.4,2000,1.8652,34.6082,2,-999.,9,86.29,2,160.43,2,40.26,2,0.00,2,2.84,2,-999.,9,-999.,9,-999.,9,-999,9,-999,9
49UF20170228,KS17-02,5032,1,-999,0,2,20170301,0845,33.5093,141.4923,5637,0.0,0,16.5026,34.7498,2,34.7546,2,243.32,2,6.26,2,3.88,2,0.20,2,0.30,2,2041.1,2,2290.2,2,7.9773,2,-999,9,-999,9
49UF20170228,KS17-02,5032,1,36,25270,2,20170301,0918,33.5093,141.4923,5637,12.3,12,16.5125,34.7501,2,34.7499,2,243.06,2,6.28,2,3.90,2,0.20,2,0.30,2,2039.9,2,2288.7,2,7.9810,2,-999,9,-999,9
49UF20170228,KS17-02,5032,1,35,25269,2,20170301,0917,33.5093,141.4923,5637,26.5,26,16.1757,34.7277,2,-999.0000,9,239.45,2,6.98,2,4.67,2,0.26,2,0.35,2,2049.0,2,2288.5,2,7.9640,3,-999,9,-999,9
49UF20170228,KS17-02,5032,1,34,25268,2,20170301,0915,33.5093,141.4923,5637,53.9,54,15.9721,34.7276,2,-999.0000,9,234.35,2,7.63,2,5.43,2,0.33,2,0.39,2,2053.8,2,2289.5,2,7.9533,2,-999,9,-999,9
49UF20170228,KS17-02,5032,1,33,25267,2,20170301,0914,33.5093,141.4923,5637,80.5,80,15.4271,34.6684,2,-999.0000,9,214.94,2,11.07,2,7.80,2,0.23,2,0.55,2,2069.6,2,2286.7,2,7.9168,2,-999,9,-999,9
49UF20170228,KS17-02,5032,1,32,25266,2,20170301,0912,33.5093,141.4923,5637,103.0,102,15.3125,34.6560,2,34.6492,2,208.52,2,12.46,2,8.68,2,0.17,2,0.61,2,2074.9,2,2286.5,2,7.9025,2,-999,9,-999,9
49UF20170228,KS17-02,5032,1,31,25265,2,20170301,0911,33.5093,141.4923,5637,129.0,128,14.5563,34.5775,2,-999.0000,9,189.65,6,16.71,6,11.32,6,0.03,6,0.80,6,2091.7,2,2285.3,2,7.8623,2,-999,9,-999,9
49UF20170228,KS17-02,5032,1,27,25261,3,20170301,0907,33.5093,141.4923,5637,152.0,151,13.5907,34.5036,2,-999.0000,9,173.59,2,21.70,2,14.14,2,0.01,2,0.99,2,2118.3,2,2282.7,2,7.8147,2,-999,9,-999,9
49UF20170228,KS17-02,5032,1,26,25260,2,20170301,0905,33.5093,141.4923,5637,205.0,203,11.9385,34.3992,2,34.4034,6,162.00,2,28.05,2,17.56,2,0.01,2,1.24,2,2137.2,2,2283.4,2,7.7592,2,-999,9,-999,9
49UF20170228,KS17-02,5032,1,25,25259,2,20170301,0903,33.5093,141.4923,5637,257.8,256,10.8834,34.3556,2,-999.0000,9,149.96,2,35.62,2,20.34,2,0.01,2,1.45,2,2161.3,2,2288.4,2,7.7131,2,-999,9,-999,9
49UF20170228,KS17-02,5032,1,24,25258,2,20170301,0901,33.5093,141.4923,5637,306.2,304,9.8543,34.3101,2,-999.0000,9,141.64,2,42.20,2,22.75,2,0.00,2,1.62,2,2180.1,2,2291.4,2,7.6736,2,-999,9,-999,9
49UF20170228,KS17-02,5032,1,23,25257,2,20170301,0858,33.5093,141.4923,5637,407.8,405,7.8394,34.2504,2,34.2509,2,118.12,2,58.89,2,28.20,2,0.00,2,2.03,2,2225.9,2,2302.2,2,7.5852,2,-999,9,-999,9
49UF20170228,KS17-02,5032,1,22,25256,2,20170301,0855,33.5093,141.4923,5637,508.2,504,5.7195,34.2173,2,34.2185,2,90.00,2,82.27,2,34.47,2,0.00,2,2.48,2,2278.1,6,2322.0,6,7.4849,2,-999,9,-999,9
49UF20170228,KS17-02,5032,1,18,25252,2,20170301,0852,33.5093,141.4923,5637,608.9,604,4.7572,34.2640,2,34.2631,2,70.93,2,98.73,2,37.64,2,0.00,2,2.70,2,2306.8,2,2338.1,2,7.4398,6,-999,9,-999,9
49UF20170228,KS17-02,5032,1,17,25251,2,20170301,0849,33.5093,141.4923,5637,708.1,702,4.2618,34.3173,2,34.3169,2,64.12,2,109.50,2,38.89,2,0.00,2,2.79,2,2324.3,2,2351.6,2,7.4245,2,-999,9,-999,9
49UF20170228,KS17-02,5032,1,16,25250,2,20170301,0845,33.5093,141.4923,5637,812.0,805,3.6537,34.3688,2,34.3682,2,56.97,2,122.27,2,40.32,2,0.00,2,2.89,2,2344.6,2,2363.7,2,7.4059,2,-999,9,-999,9
49UF20170228,KS17-02,5032,1,15,25249,2,20170301,0845,33.5093,141.4923,5637,813.1,806,3.6528,34.3689,2,34.3687,2,57.09,2,122.17,2,40.34,2,0.00,2,2.89,2,2344.6,2,2365.1,2,7.4085,2,-999,9,-999,9
49UF20170228,KS17-02,5032,1,14,25248,2,20170301,0842,33.5093,141.4923,5637,912.9,904,3.3218,34.4060,2,34.4042,2,55.39,2,129.04,2,40.81,2,0.00,2,2.92,2,2349.2,2,2373.2,2,7.4068,2,-999,9,-999,9
49UF20170228,KS17-02,5032,1,13,25247,2,20170301,0839,33.5093,141.4923,5637,1013.6,1004,3.0737,34.4307,2,34.4308,2,52.87,2,135.67,2,41.37,2,0.00,2,2.95,2,2356.7,2,2379.7,2,7.3997,2,-999,9,-999,9
49UF20170228,KS17-02,5032,1,9,25243,2,20170301,0834,33.5093,141.4923,5637,1215.2,1203,2.6048,34.4832,2,34.4832,6,48.24,2,149.13,2,42.23,2,0.00,2,3.01,2,2378.0,6,2393.3,6,7.3915,2,-999,9,-999,9
49UF20170228,KS17-02,5032,1,8,25242,2,20170301,0829,33.5093,141.4923,5637,1417.8,1403,2.3261,34.5270,2,34.5279,2,53.99,6,155.99,6,42.11,6,0.00,6,2.99,6,2383.8,2,2400.5,2,7.4021,6,-999,9,-999,9
49UF20170228,KS17-02,5032,1,6,25240,2,20170301,0824,33.5093,141.4923,5637,1620.5,1603,2.1195,34.5639,2,34.5639,2,67.51,2,158.38,2,41.33,2,0.00,2,2.93,2,2378.5,2,2409.2,2,7.4300,2,-999,9,-999,9
49UF20170228,KS17-02,5032,1,7,25241,2,20170301,0825,33.5093,141.4923,5637,1623.0,1605,2.1176,34.5643,2,34.5645,2,67.82,2,158.46,2,41.39,2,0.00,2,2.93,2,2377.8,2,2408.6,2,7.4319,2,-999,9,-999,9
49UF20170228,KS17-02,5032,1,5,25239,2,20170301,0819,33.5093,141.4923,5637,1825.7,1805,1.9704,34.5904,2,34.5907,2,78.31,2,159.66,2,40.82,2,0.00,2,2.88,2,2373.0,2,2412.9,2,7.4523,2,-999,9,-999,9
49UF20170228,KS17-02,5032,1,4,25238,2,20170301,0815,33.5093,141.4923,5637,2025.8,2002,1.8443,34.6110,2,34.6119,6,88.12,2,161.28,2,40.35,2,0.00,2,2.84,2,2371.1,2,2415.2,2,7.4694,2,-999,9,-999,9