BOTTLE,20171117JMAGEMD
EXPOCODE,SECT_ID,STNNBR,CASTNO,SAMPNO,BTLNBR,BTLNBR_FLAG_W,DATE,TIME,LATITUDE,LONGITUDE,DEPTH,CTDPRS,CTDDEP,CTDTMP,CTDSAL,CTDSAL_FLAG_W,SALNTY,SALNTY_FLAG_W,OXYGEN,OXYGEN_FLAG_W,SILCAT,SILCAT_FLAG_W,NO2+NO3,NO2+NO3_FLAG_W,NITRIT,NITRIT_FLAG_W,PHSPHT,PHSPHT_FLAG_W,TCARBN,TCARBN_FLAG_W,ALKALI,ALKALI_FLAG_W,PH_TOT,PH_TOT_FLAG_W,CFC-11,CFC-11_FLAG_W,CFC-12,CFC-12_FLAG_W
,,,,,,,UTC,UTC,,,METER,DBAR,METERS,ITS-90,PSS-78,,PSS-78,,UMOL/KG,,UMOL/KG,,UMOL/KG,,UMOL/KG,,UMOL/KG,,UMOL/KG,,UMOL/KG,,@25DEG-C,,PMOL/KG,,PMOL/KG,
49UF20170228,KS17-02,5059,1,-999,0,2,20170309,1900,36.0032,149.2918,5944,0.0,0,13.9435,34.5610,2,34.5677,2,246.96,2,10.19,2,6.24,2,0.19,2,0.46,2,2056.4,2,2281.4,2,7.9290,2,-999,9,-999,9
49UF20170228,KS17-02,5059,1,36,25270,2,20170309,1928,36.0032,149.2918,5944,12.3,12,13.8811,34.5507,2,-999.0000,9,246.45,2,10.29,2,6.31,2,0.18,2,0.46,2,2057.1,2,2282.0,2,7.9300,2,-999,9,-999,9
49UF20170228,KS17-02,5059,1,35,25269,2,20170309,1927,36.0032,149.2918,5944,28.1,28,13.6910,34.5332,2,-999.0000,9,245.14,2,11.14,2,6.87,2,0.20,2,0.50,2,2057.9,2,2280.7,2,7.9242,2,-999,9,-999,9
49UF20170228,KS17-02,5059,1,34,25268,2,20170309,1923,36.0032,149.2918,5944,52.4,52,12.6001,34.4386,2,-999.0000,9,249.87,2,12.16,2,8.08,2,0.29,2,0.59,2,2070.8,2,2277.2,2,7.8963,2,-999,9,-999,9
49UF20170228,KS17-02,5059,1,33,25267,2,20170309,1922,36.0032,149.2918,5944,77.7,77,11.9319,34.3911,2,-999.0000,9,232.41,2,16.56,2,10.59,2,0.27,2,0.77,2,2090.7,2,2278.9,2,7.8552,2,-999,9,-999,9
49UF20170228,KS17-02,5059,1,32,25266,2,20170309,1920,36.0032,149.2918,5944,102.9,102,10.5520,34.2075,2,-999.0000,9,224.78,2,20.29,2,12.73,2,0.12,2,0.92,2,2104.3,2,2272.8,2,7.8106,2,-999,9,-999,9
49UF20170228,KS17-02,5059,1,31,25265,2,20170309,1919,36.0032,149.2918,5944,127.6,127,9.7293,34.0884,2,-999.0000,9,239.38,2,19.11,2,12.04,2,0.07,2,0.89,2,2102.1,2,2269.3,2,7.8128,2,-999,9,-999,9
49UF20170228,KS17-02,5059,1,26,25260,3,20170309,1917,36.0032,149.2918,5944,151.7,151,8.9702,34.0069,2,-999.0000,9,236.32,2,23.62,2,14.42,2,0.05,2,1.07,2,2114.2,2,2269.0,2,7.7775,2,-999,9,-999,9
49UF20170228,KS17-02,5059,1,27,25261,2,20170309,1918,36.0032,149.2918,5944,152.8,152,9.0258,34.0147,2,-999.0000,9,237.11,2,23.51,2,14.36,2,0.06,2,1.07,2,2114.8,2,2268.2,2,7.7785,2,-999,9,-999,9
49UF20170228,KS17-02,5059,1,25,25259,2,20170309,1915,36.0032,149.2918,5944,204.2,203,7.7062,33.8865,2,-999.0000,9,221.99,6,31.56,6,18.03,6,0.04,6,1.35,6,2139.0,2,2268.7,2,7.7213,2,-999,9,-999,9
49UF20170228,KS17-02,5059,1,24,25258,2,20170309,1914,36.0032,149.2918,5944,253.5,251,7.6394,34.0310,2,-999.0000,9,165.18,2,44.59,2,23.87,2,0.01,2,1.74,2,2187.1,2,2280.4,2,7.6371,2,-999,9,-999,9
49UF20170228,KS17-02,5059,1,23,25257,2,20170309,1912,36.0032,149.2918,5944,303.9,301,7.5018,34.1534,2,-999.0000,9,130.91,2,55.11,2,27.72,2,0.00,2,2.00,2,2219.3,2,2294.7,2,7.5845,2,-999,9,-999,9
49UF20170228,KS17-02,5059,1,22,25256,2,20170309,1909,36.0032,149.2918,5944,405.2,402,5.3726,34.0364,2,-999.0000,9,110.07,2,73.59,2,33.23,2,0.00,2,2.41,2,2258.8,2,2300.5,2,7.4812,2,-999,9,-999,9
49UF20170228,KS17-02,5059,1,18,25252,2,20170309,1906,36.0032,149.2918,5944,505.9,502,5.1730,34.1974,2,-999.0000,9,82.38,2,88.39,2,35.94,2,0.00,2,2.59,2,2284.7,2,2322.8,2,7.4522,2,-999,9,-999,9
49UF20170228,KS17-02,5059,1,17,25251,2,20170309,1904,36.0032,149.2918,5944,607.7,602,4.4091,34.2397,2,-999.0000,9,63.48,2,103.51,2,38.72,2,0.00,2,2.78,2,2316.0,6,2337.2,6,7.4085,2,-999,9,-999,9
49UF20170228,KS17-02,5059,1,16,25250,2,20170309,1901,36.0032,149.2918,5944,708.2,702,3.8206,34.2630,2,-999.0000,9,49.29,2,116.52,2,40.82,2,0.00,2,2.92,2,2340.3,2,2347.1,2,7.3702,6,-999,9,-999,9
49UF20170228,KS17-02,5059,1,15,25249,2,20170309,1858,36.0032,149.2918,5944,809.2,802,3.4621,34.3101,2,-999.0000,9,41.71,2,126.10,2,41.69,2,0.00,2,2.98,2,2354.6,2,2358.6,2,7.3582,2,-999,9,-999,9
49UF20170228,KS17-02,5059,1,14,25248,2,20170309,1855,36.0032,149.2918,5944,910.8,902,3.2459,34.3697,2,-999.0000,9,41.75,2,132.58,2,41.89,2,0.00,2,3.00,2,2356.8,2,2367.9,2,7.3703,2,-999,9,-999,9
49UF20170228,KS17-02,5059,1,13,25247,2,20170309,1852,36.0032,149.2918,5944,1011.1,1001,2.9996,34.4038,2,-999.0000,9,39.97,2,139.20,2,42.36,2,0.00,2,3.02,2,2367.8,2,2377.3,2,7.3661,2,-999,9,-999,9
49UF20170228,KS17-02,5059,1,9,25243,2,20170309,1848,36.0032,149.2918,5944,1216.1,1204,2.6407,34.4601,2,-999.0000,9,40.53,2,149.69,2,42.75,2,0.00,2,3.04,2,2376.1,2,2388.6,2,7.3703,2,-999,9,-999,9
49UF20170228,KS17-02,5059,1,8,25242,2,20170309,1843,36.0032,149.2918,5944,1418.0,1403,2.4068,34.5060,2,-999.0000,9,45.53,6,155.74,6,42.56,6,0.00,6,3.02,6,2384.0,6,2397.9,6,7.3863,2,-999,9,-999,9
49UF20170228,KS17-02,5059,1,7,25241,2,20170309,1838,36.0032,149.2918,5944,1619.8,1602,2.1769,34.5493,2,-999.0000,9,56.43,2,160.53,2,42.10,2,0.00,2,2.97,2,2385.6,2,2409.7,2,7.4071,6,-999,9,-999,9
49UF20170228,KS17-02,5059,1,6,25240,2,20170309,1834,36.0032,149.2918,5944,1822.5,1801,2.0241,34.5788,2,-999.0000,9,68.30,2,161.67,2,41.37,2,0.00,2,2.92,2,2377.2,2,2410.4,2,7.4313,2,-999,9,-999,9
49UF20170228,KS17-02,5059,1,5,25239,2,20170309,1833,36.0032,149.2918,5944,1823.0,1802,2.0247,34.5786,2,-999.0000,9,68.36,2,161.79,2,41.31,2,0.00,2,2.91,2,2377.7,2,2412.5,2,7.4308,2,-999,9,-999,9
49UF20170228,KS17-02,5059,1,4,25238,2,20170309,1829,36.0032,149.2918,5944,2026.4,2002,1.8861,34.6038,2,-999.0000,9,82.72,2,161.63,2,40.51,2,0.00,2,2.85,2,2371.8,2,2412.8,2,7.4626,2,-999,9,-999,9
49UF20170228,KS17-02,5061,1,-999,0,2,20170310,0603,36.986,149.6723,5970,0.0,0,12.7250,34.4392,2,34.4768,2,251.19,2,12.30,2,8.32,2,0.13,2,0.60,2,2071.1,2,2279.3,2,7.8903,2,-999,9,-999,9
49UF20170228,KS17-02,5061,1,36,25270,2,20170310,0624,36.986,149.6723,5970,12.0,12,12.4350,34.4310,2,34.4332,2,251.53,2,12.17,2,8.26,2,0.12,2,0.60,2,2070.8,2,2277.2,2,7.8928,2,-999,9,-999,9
49UF20170228,KS17-02,5061,1,35,25269,2,20170310,0623,36.986,149.6723,5970,27.8,28,12.3936,34.4268,2,-999.0000,9,247.65,2,12.53,2,8.55,2,0.10,2,0.62,2,2071.8,2,2275.6,2,7.8868,2,-999,9,-999,9
49UF20170228,KS17-02,5061,1,34,25268,3,20170310,0621,36.986,149.6723,5970,52.5,52,12.0845,34.3756,2,-999.0000,9,241.26,2,13.58,2,9.49,2,0.03,2,0.68,2,2075.5,2,2276.5,2,7.8690,2,-999,9,-999,9
49UF20170228,KS17-02,5061,1,33,25267,2,20170310,0619,36.986,149.6723,5970,77.2,77,11.9426,34.3596,2,-999.0000,9,239.50,2,13.91,2,9.70,2,0.03,2,0.70,2,2077.7,2,2274.3,2,7.8650,2,-999,9,-999,9
49UF20170228,KS17-02,5061,1,32,25266,2,20170310,0618,36.986,149.6723,5970,102.1,101,11.7483,34.3442,2,34.3438,2,234.92,2,15.35,2,10.49,2,0.03,2,0.75,2,2085.0,2,2274.7,2,7.8500,2,-999,9,-999,9
49UF20170228,KS17-02,5061,1,31,25265,2,20170310,0617,36.986,149.6723,5970,127.5,127,11.4403,34.3145,2,-999.0000,9,237.61,2,15.62,2,10.58,2,0.04,2,0.77,2,2084.6,2,2273.8,2,7.8499,2,-999,9,-999,9
49UF20170228,KS17-02,5061,1,30,25264,2,20170310,0616,36.986,149.6723,5970,152.1,151,11.2533,34.3028,2,-999.0000,9,245.44,6,14.37,6,9.96,6,0.04,6,0.72,6,2080.5,2,2272.6,2,7.8558,2,-999,9,-999,9
49UF20170228,KS17-02,5061,1,29,25263,2,20170310,0615,36.986,149.6723,5970,203.1,201,10.7101,34.2570,2,34.2535,2,220.11,2,20.80,2,13.34,2,0.02,2,0.96,2,2104.5,2,2275.6,2,7.8081,2,-999,9,-999,9
49UF20170228,KS17-02,5061,1,28,25262,2,20170310,0613,36.986,149.6723,5970,252.9,251,9.6148,34.1547,2,-999.0000,9,181.64,2,31.74,2,18.75,2,0.01,2,1.35,2,2143.0,2,2278.4,2,7.7212,2,-999,9,-999,9
49UF20170228,KS17-02,5061,1,27,25261,2,20170310,0612,36.986,149.6723,5970,303.7,301,8.4405,34.1309,2,-999.0000,9,154.39,2,43.45,2,23.81,2,0.01,2,1.72,2,2179.9,2,2283.8,2,7.6441,2,-999,9,-999,9
49UF20170228,KS17-02,5061,1,26,25260,3,20170310,0609,36.986,149.6723,5970,404.4,401,6.1824,34.0455,2,34.0464,2,126.41,6,63.88,6,30.42,6,0.00,6,2.21,6,2233.0,2,2296.4,2,7.5315,2,-999,9,-999,9
49UF20170228,KS17-02,5061,1,25,25259,2,20170310,0607,36.986,149.6723,5970,505.4,501,5.5539,34.2099,2,34.2079,6,86.66,2,84.49,2,35.00,2,0.00,2,2.52,2,2269.7,2,2322.2,2,7.4693,2,-999,9,-999,9
49UF20170228,KS17-02,5061,1,24,25258,2,20170310,0605,36.986,149.6723,5970,607.6,602,4.6894,34.2504,2,34.2508,2,69.83,2,99.65,2,37.83,2,0.00,2,2.71,2,2307.6,6,2334.7,6,7.4292,2,-999,9,-999,9
49UF20170228,KS17-02,5061,1,23,25257,2,20170310,0602,36.986,149.6723,5970,707.5,701,4.0964,34.3058,2,34.3062,2,59.21,2,112.36,2,39.43,2,0.00,2,2.83,2,2325.4,2,2351.4,2,7.4085,6,-999,9,-999,9
49UF20170228,KS17-02,5061,1,22,25256,2,20170310,0600,36.986,149.6723,5970,808.9,801,3.4137,34.3310,2,34.3336,6,41.95,2,127.98,2,41.79,2,0.00,2,2.98,2,2349.1,2,2364.2,2,7.3663,2,-999,9,-999,9
49UF20170228,KS17-02,5061,1,21,25255,3,20170310,0557,36.986,149.6723,5970,909.6,901,3.1764,34.3705,2,34.3711,2,40.17,2,134.60,2,42.07,2,0.00,2,3.01,2,2358.1,2,2368.7,2,7.3630,2,-999,9,-999,9
49UF20170228,KS17-02,5061,1,20,24270,3,20170310,0555,36.986,149.6723,5970,1014.4,1004,2.9960,34.4054,2,34.4058,2,40.23,2,139.67,2,42.27,2,0.00,2,3.02,2,2365.9,2,2377.7,2,7.3653,2,-999,9,-999,9
49UF20170228,KS17-02,5061,1,19,25253,2,20170310,0551,36.986,149.6723,5970,1214.9,1202,2.6456,34.4642,2,34.4642,2,39.50,6,149.54,6,42.86,6,0.00,6,3.04,6,2376.6,2,2389.7,2,7.3690,2,-999,9,-999,9
49UF20170228,KS17-02,5061,1,18,25252,2,20170310,0546,36.986,149.6723,5970,1416.9,1402,2.3705,34.5151,2,34.5160,2,46.67,2,156.31,2,42.63,2,0.00,2,3.02,2,2377.8,2,2400.2,2,7.3863,2,-999,9,-999,9
49UF20170228,KS17-02,5061,1,17,25251,2,20170310,0542,36.986,149.6723,5970,1620.0,1602,2.1816,34.5508,2,34.5526,6,56.96,2,159.58,2,42.12,2,0.00,2,2.97,2,2379.5,2,2408.1,2,7.4058,2,-999,9,-999,9
49UF20170228,KS17-02,5061,1,16,25250,2,20170310,0538,36.986,149.6723,5970,1822.8,1801,1.9908,34.5845,2,34.5859,2,70.76,2,161.85,2,41.29,2,0.00,2,2.91,2,2375.5,6,2410.9,6,7.4384,2,-999,9,-999,9
49UF20170228,KS17-02,5061,1,15,25249,2,20170310,0533,36.986,149.6723,5970,2028.4,2004,1.8625,34.6067,2,34.6072,2,82.58,2,162.62,2,40.47,2,0.00,2,2.85,2,2367.4,2,2413.2,2,7.4583,6,-999,9,-999,9
49UF20170228,KS17-02,5061,1,14,25248,2,20170310,0528,36.986,149.6723,5970,2280.6,2251,1.7340,34.6291,2,34.6293,2,98.66,2,161.26,2,39.52,2,0.00,2,2.77,2,2359.4,2,2415.9,2,7.4899,2,-999,9,-999,9
49UF20170228,KS17-02,5061,1,13,25247,2,20170310,0523,36.986,149.6723,5970,2534.3,2500,1.6470,34.6443,2,34.6453,2,110.86,2,159.16,2,38.64,2,0.00,2,2.71,2,2359.5,2,2415.9,2,7.5136,2,-999,9,-999,9
49UF20170228,KS17-02,5061,1,12,25246,2,20170310,0516,36.986,149.6723,5970,2789.8,2751,1.5783,34.6563,2,34.6569,6,122.42,2,156.71,2,37.94,2,0.00,2,2.65,2,2347.0,2,2416.7,2,7.5362,2,-999,9,-999,9
49UF20170228,KS17-02,5061,1,11,25245,2,20170310,0511,36.986,149.6723,5970,3049.1,3005,1.5347,34.6642,2,34.6652,2,130.73,2,154.68,2,37.44,2,0.00,2,2.61,2,2341.9,2,2416.0,2,7.5514,2,-999,9,-999,9
49UF20170228,KS17-02,5061,1,10,25244,2,20170310,0504,36.986,149.6723,5970,3301.3,3251,1.5007,34.6707,2,34.6719,6,137.52,2,153.08,2,36.87,2,0.00,2,2.58,2,2336.6,2,2415.8,2,7.5636,2,-999,9,-999,9
49UF20170228,KS17-02,5061,1,9,25243,3,20170310,0459,36.986,149.6723,5970,3557.1,3501,1.4828,34.6752,2,34.6770,4,142.27,2,152.15,2,36.62,2,0.00,2,2.55,2,2329.5,2,2415.6,2,7.5695,2,-999,9,-999,9
49UF20170228,KS17-02,5061,1,8,25242,2,20170310,0453,36.986,149.6723,5970,3812.5,3751,1.4734,34.6790,2,34.6793,6,147.09,2,150.74,2,36.32,2,0.00,2,2.52,2,2330.7,2,2416.5,2,7.5802,2,-999,9,-999,9
49UF20170228,KS17-02,5061,1,7,25241,3,20170310,0447,36.986,149.6723,5970,4072.3,4004,1.4670,34.6825,2,34.6853,4,151.09,6,149.85,6,36.03,6,0.00,6,2.50,6,2326.9,6,2416.6,6,7.5844,2,-999,9,-999,9
49UF20170228,KS17-02,5061,1,6,25240,2,20170310,0436,36.986,149.6723,5970,4585.0,4503,1.4803,34.6870,2,34.6893,4,157.94,2,147.27,2,35.59,2,0.00,2,2.47,2,2319.9,2,2414.4,2,7.5967,6,-999,9,-999,9
49UF20170228,KS17-02,5061,1,5,25239,2,20170310,0424,36.986,149.6723,5970,5099.7,5002,1.5186,34.6895,2,34.6902,2,161.34,2,144.94,2,35.38,2,0.00,2,2.45,2,2318.0,2,2412.1,2,7.6008,2,-999,9,-999,9
49UF20170228,KS17-02,5061,1,4,25238,2,20170310,0419,36.986,149.6723,5970,5356.0,5251,1.5393,34.6907,2,34.6911,2,163.69,2,143.45,2,35.11,2,0.00,2,2.44,2,2316.3,2,2411.5,2,7.6025,2,-999,9,-999,9
49UF20170228,KS17-02,5061,1,3,25237,2,20170310,0413,36.986,149.6723,5970,5613.4,5500,1.5665,34.6914,2,34.6910,6,164.85,2,142.68,2,35.11,2,0.00,2,2.43,2,2316.7,2,2411.1,2,7.6068,2,-999,9,-999,9
49UF20170228,KS17-02,5061,1,2,25236,2,20170310,0407,36.986,149.6723,5970,5874.5,5753,1.5978,34.6918,2,34.6914,2,166.02,2,141.10,2,34.98,2,0.00,2,2.42,2,2314.3,2,2408.3,2,7.6055,2,-999,9,-999,9
49UF20170228,KS17-02,5061,1,1,25235,2,20170310,0401,36.986,149.6723,5970,6118.7,5988,1.6303,34.6920,2,34.6922,2,165.93,2,141.13,2,34.97,2,0.00,2,2.42,2,2309.8,2,2410.0,2,7.6066,2,-999,9,-999,9
49UF20170228,KS17-02,5064,1,-999,0,2,20170310,1715,38.0107,148.998,5796,0.0,0,13.9739,34.6189,2,34.6272,2,250.65,2,9.80,2,6.26,2,0.23,2,0.46,2,2053.6,2,2284.4,2,7.9330,2,-999,9,-999,9
49UF20170228,KS17-02,5064,1,36,25270,2,20170310,1733,38.0107,148.998,5796,10.4,10,13.9849,34.6190,2,34.6199,2,249.28,2,9.74,2,6.22,2,0.22,2,0.45,2,2055.2,2,2283.9,2,7.9325,2,-999,9,-999,9
49UF20170228,KS17-02,5064,1,35,25269,2,20170310,1732,38.0107,148.998,5796,26.8,27,13.9901,34.6203,2,-999.0000,9,249.78,2,9.75,2,6.25,2,0.23,2,0.45,2,2058.3,2,2283.1,2,7.9355,2,-999,9,-999,9
49UF20170228,KS17-02,5064,1,34,25268,3,20170310,1731,38.0107,148.998,5796,53.4,53,13.9481,34.6137,2,-999.0000,9,248.22,2,10.02,2,6.49,2,0.25,2,0.47,2,2056.8,2,2282.3,2,7.9282,2,-999,9,-999,9
49UF20170228,KS17-02,5064,1,33,25267,2,20170310,1730,38.0107,148.998,5796,78.4,78,13.9057,34.6070,2,-999.0000,9,247.71,2,10.12,2,6.58,2,0.25,2,0.47,2,2057.2,2,2284.4,2,7.9273,2,-999,9,-999,9
49UF20170228,KS17-02,5064,1,32,25266,2,20170310,1727,38.0107,148.998,5796,104.0,103,12.9794,34.5014,2,34.5035,2,244.76,2,12.78,2,8.60,2,0.29,2,0.61,2,2074.4,2,2281.5,2,7.8935,2,-999,9,-999,9
49UF20170228,KS17-02,5064,1,27,25261,2,20170310,1725,38.0107,148.998,5796,127.7,127,12.3678,34.4244,2,34.4309,2,240.83,2,13.94,2,9.38,2,0.20,2,0.67,2,2085.0,2,2279.7,2,7.8771,2,-999,9,-999,9
49UF20170228,KS17-02,5064,1,31,25265,2,20170310,1726,38.0107,148.998,5796,128.6,128,12.3632,34.4238,2,34.4295,2,240.86,2,13.95,2,9.39,2,0.20,2,0.67,2,2082.8,2,2278.8,2,7.8773,2,-999,9,-999,9
49UF20170228,KS17-02,5064,1,26,25260,2,20170310,1724,38.0107,148.998,5796,152.7,152,11.7749,34.3430,2,-999.0000,9,231.49,2,16.17,2,10.70,2,0.06,2,0.76,2,2090.7,2,2277.7,2,7.8532,2,-999,9,-999,9
49UF20170228,KS17-02,5064,1,25,25259,2,20170310,1722,38.0107,148.998,5796,207.4,206,9.5075,34.0792,2,34.1205,4,211.33,6,23.87,6,14.79,6,0.02,6,1.07,6,2118.1,2,2274.1,2,7.7764,2,-999,9,-999,9
49UF20170228,KS17-02,5064,1,24,25258,2,20170310,1719,38.0107,148.998,5796,258.2,256,8.8250,34.0960,2,-999.0000,9,189.27,2,33.38,2,19.23,2,0.02,2,1.40,2,2146.0,2,2276.6,2,7.7112,2,-999,9,-999,9
49UF20170228,KS17-02,5064,1,23,25257,2,20170310,1718,38.0107,148.998,5796,301.2,299,7.7753,34.0570,2,-999.0000,9,159.23,2,45.48,2,24.37,2,0.01,2,1.77,2,2184.3,2,2282.7,2,7.6305,2,-999,9,-999,9
49UF20170228,KS17-02,5064,1,22,25256,2,20170310,1714,38.0107,148.998,5796,405.9,402,6.0224,34.0530,2,34.0519,2,124.36,2,65.31,2,30.79,2,0.01,2,2.23,2,2233.0,2,2297.5,2,7.5251,2,-999,9,-999,9
49UF20170228,KS17-02,5064,1,18,25252,2,20170310,1712,38.0107,148.998,5796,505.4,501,5.2018,34.1427,2,34.1425,2,88.17,2,84.68,2,35.43,2,0.00,2,2.55,2,2281.2,2,2317.3,2,7.4506,2,-999,9,-999,9
49UF20170228,KS17-02,5064,1,17,25251,2,20170310,1710,38.0107,148.998,5796,607.5,602,4.3731,34.1641,2,34.1643,2,64.97,2,99.56,2,38.78,2,0.00,2,2.78,2,2311.6,2,2330.1,2,7.3930,2,-999,9,-999,9
49UF20170228,KS17-02,5064,1,16,25250,2,20170310,1706,38.0107,148.998,5796,708.9,702,4.0988,34.2598,2,34.2609,2,56.78,2,110.27,2,39.71,2,0.00,2,2.84,2,2325.7,6,2344.7,6,7.3952,2,-999,9,-999,9
49UF20170228,KS17-02,5064,1,15,25249,2,20170310,1704,38.0107,148.998,5796,808.3,801,3.7256,34.3137,2,34.3137,2,49.92,2,120.36,2,40.79,2,0.00,2,2.92,2,2340.1,2,2357.2,2,7.3835,6,-999,9,-999,9
49UF20170228,KS17-02,5064,1,14,25248,2,20170310,1702,38.0107,148.998,5796,906.5,898,3.3329,34.3467,2,34.3467,2,40.92,2,130.22,2,41.88,2,0.00,2,3.00,2,2354.9,2,2366.1,2,7.3645,2,-999,9,-999,9
49UF20170228,KS17-02,5064,1,13,25247,2,20170310,1700,38.0107,148.998,5796,1008.5,999,3.1120,34.3900,2,34.3907,6,40.26,6,136.29,6,42.13,6,0.00,6,3.02,6,2363.7,2,2374.8,2,7.3685,2,-999,9,-999,9
49UF20170228,KS17-02,5064,1,9,25243,2,20170310,1657,38.0107,148.998,5796,1212.7,1200,2.7292,34.4575,2,34.4577,2,43.76,2,146.36,2,42.28,2,0.00,2,3.02,2,2372.3,2,2388.4,2,7.3783,2,-999,9,-999,9
49UF20170228,KS17-02,5064,1,8,25242,2,20170310,1653,38.0107,148.998,5796,1415.1,1400,2.4369,34.5042,2,34.5064,2,46.36,2,154.18,2,42.46,2,0.00,2,3.01,2,2379.0,2,2396.7,2,7.3867,2,-999,9,-999,9
49UF20170228,KS17-02,5064,1,6,25240,2,20170310,1649,38.0107,148.998,5796,1620.4,1602,2.2228,34.5418,2,34.5424,2,54.63,2,159.61,2,42.16,2,0.00,2,2.98,2,2378.3,2,2405.0,2,7.4020,2,-999,9,-999,9
49UF20170228,KS17-02,5064,1,7,25241,2,20170310,1649,38.0107,148.998,5796,1621.3,1603,2.2218,34.5419,2,34.5411,2,54.68,2,159.44,2,42.13,2,0.00,2,2.98,2,2377.5,2,2403.8,2,7.4028,2,-999,9,-999,9
49UF20170228,KS17-02,5064,1,5,25239,2,20170310,1645,38.0107,148.998,5796,1822.7,1801,2.0585,34.5721,2,34.5713,2,64.29,2,162.35,2,41.46,2,0.00,2,2.94,2,2379.4,6,2409.1,6,7.4205,2,-999,9,-999,9
49UF20170228,KS17-02,5064,1,4,25238,2,20170310,1640,38.0107,148.998,5796,2026.2,2001,1.9254,34.5960,2,34.5967,2,76.55,2,162.75,2,40.74,2,0.00,2,2.88,2,2372.5,2,2412.7,2,7.4460,6,-999,9,-999,9