BOTTLE,20171117JMAGEMD
EXPOCODE,SECT_ID,STNNBR,CASTNO,SAMPNO,BTLNBR,BTLNBR_FLAG_W,DATE,TIME,LATITUDE,LONGITUDE,DEPTH,CTDPRS,CTDDEP,CTDTMP,CTDSAL,CTDSAL_FLAG_W,SALNTY,SALNTY_FLAG_W,OXYGEN,OXYGEN_FLAG_W,SILCAT,SILCAT_FLAG_W,NO2+NO3,NO2+NO3_FLAG_W,NITRIT,NITRIT_FLAG_W,PHSPHT,PHSPHT_FLAG_W,TCARBN,TCARBN_FLAG_W,ALKALI,ALKALI_FLAG_W,PH_TOT,PH_TOT_FLAG_W,CFC-11,CFC-11_FLAG_W,CFC-12,CFC-12_FLAG_W
,,,,,,,UTC,UTC,,,METER,DBAR,METERS,ITS-90,PSS-78,,PSS-78,,UMOL/KG,,UMOL/KG,,UMOL/KG,,UMOL/KG,,UMOL/KG,,UMOL/KG,,UMOL/KG,,@25DEG-C,,PMOL/KG,,PMOL/KG,
49UF20170228,KS17-02,5041,1,-999,0,2,20170304,2255,28.9958,145.9988,5934,0.0,0,20.3428,35.0544,2,-999.,9,223.50,2,1.73,2,0.03,2,0.01,2,0.02,2,-999.,9,-999.,9,-999.,9,-999,9,-999,9
49UF20170228,KS17-02,5041,1,36,25270,2,20170304,2326,28.9958,145.9988,5934,12.0,12,20.3295,35.0528,2,-999.,9,223.53,2,1.71,2,0.00,2,0.00,2,0.02,2,-999.,9,-999.,9,-999.,9,-999,9,-999,9
49UF20170228,KS17-02,5041,1,35,25269,2,20170304,2325,28.9958,145.9988,5934,26.4,26,20.3321,35.0528,2,-999.,9,223.71,2,1.70,2,0.00,2,0.00,2,0.02,2,-999.,9,-999.,9,-999.,9,-999,9,-999,9
49UF20170228,KS17-02,5041,1,34,25268,2,20170304,2324,28.9958,145.9988,5934,51.5,51,20.2891,35.0478,2,-999.,9,223.34,6,1.73,6,0.02,6,0.01,6,0.02,6,-999.,9,-999.,9,-999.,9,-999,9,-999,9
49UF20170228,KS17-02,5041,1,33,25267,2,20170304,2322,28.9958,145.9988,5934,76.4,76,19.5801,34.9435,2,-999.,9,217.90,2,2.16,2,0.96,2,0.14,2,0.08,2,-999.,9,-999.,9,-999.,9,-999,9,-999,9
49UF20170228,KS17-02,5041,1,32,25266,2,20170304,2321,28.9958,145.9988,5934,102.0,101,18.8829,34.8660,2,-999.,9,212.77,2,2.69,2,2.14,2,0.09,2,0.15,2,-999.,9,-999.,9,-999.,9,-999,9,-999,9
49UF20170228,KS17-02,5041,1,31,25265,2,20170304,2319,28.9958,145.9988,5934,127.6,127,18.6834,34.8907,2,-999.,9,225.89,2,2.53,2,1.52,2,0.22,2,0.12,2,-999.,9,-999.,9,-999.,9,-999,9,-999,9
49UF20170228,KS17-02,5041,1,27,25261,2,20170304,2318,28.9958,145.9988,5934,151.4,150,18.6149,34.8886,2,-999.,9,227.06,2,2.60,2,1.45,2,0.26,2,0.12,2,-999.,9,-999.,9,-999.,9,-999,9,-999,9
49UF20170228,KS17-02,5041,1,26,25260,2,20170304,2314,28.9958,145.9988,5934,203.3,202,18.2641,34.8707,2,-999.,9,226.71,2,2.82,2,1.87,2,0.23,2,0.15,2,-999.,9,-999.,9,-999.,9,-999,9,-999,9
49UF20170228,KS17-02,5041,1,25,25259,2,20170304,2312,28.9958,145.9988,5934,253.4,252,18.0440,34.8537,2,-999.,9,227.75,2,2.99,2,1.99,2,0.25,2,0.15,2,-999.,9,-999.,9,-999.,9,-999,9,-999,9
49UF20170228,KS17-02,5041,1,24,25258,2,20170304,2310,28.9958,145.9988,5934,303.6,301,17.8004,34.8158,2,-999.,9,221.01,2,3.62,2,2.87,2,0.07,2,0.21,2,-999.,9,-999.,9,-999.,9,-999,9,-999,9
49UF20170228,KS17-02,5041,1,23,25257,2,20170304,2307,28.9958,145.9988,5934,405.9,403,15.5952,34.6041,2,-999.,9,197.31,2,7.63,2,7.80,2,0.00,2,0.53,2,-999.,9,-999.,9,-999.,9,-999,9,-999,9
49UF20170228,KS17-02,5041,1,22,25256,2,20170304,2304,28.9958,145.9988,5934,505.0,501,12.7864,34.3879,2,-999.,9,186.34,2,16.42,2,13.50,2,0.00,2,0.94,2,-999.,9,-999.,9,-999.,9,-999,9,-999,9
49UF20170228,KS17-02,5041,1,17,25251,2,20170304,2301,28.9958,145.9988,5934,606.6,602,10.0069,34.1963,2,-999.,9,175.18,2,28.28,2,19.27,2,0.00,2,1.36,2,-999.,9,-999.,9,-999.,9,-999,9,-999,9
49UF20170228,KS17-02,5041,1,18,25252,2,20170304,2301,28.9958,145.9988,5934,607.9,603,9.9988,34.1964,2,-999.,9,175.02,2,28.19,2,19.25,2,0.00,2,1.36,2,-999.,9,-999.,9,-999.,9,-999,9,-999,9
49UF20170228,KS17-02,5041,1,16,25250,2,20170304,2259,28.9958,145.9988,5934,708.6,703,7.4734,34.0774,2,-999.,9,146.61,2,48.85,2,26.39,2,0.00,2,1.90,2,-999.,9,-999.,9,-999.,9,-999,9,-999,9
49UF20170228,KS17-02,5041,1,15,25249,2,20170304,2256,28.9958,145.9988,5934,808.9,802,5.5954,34.0840,2,-999.,9,97.31,6,73.47,6,34.14,6,0.00,6,2.47,6,-999.,9,-999.,9,-999.,9,-999,9,-999,9
49UF20170228,KS17-02,5041,1,14,25248,2,20170304,2253,28.9958,145.9988,5934,908.7,901,4.6981,34.1534,2,-999.,9,71.56,2,92.98,2,37.72,2,0.00,2,2.73,2,-999.,9,-999.,9,-999.,9,-999,9,-999,9
49UF20170228,KS17-02,5041,1,13,25247,2,20170304,2250,28.9958,145.9988,5934,1010.1,1001,4.0204,34.2613,2,-999.,9,47.05,2,111.52,2,40.85,2,0.00,2,2.93,2,-999.,9,-999.,9,-999.,9,-999,9,-999,9
49UF20170228,KS17-02,5041,1,9,25243,2,20170304,2245,28.9958,145.9988,5934,1215.4,1204,3.2764,34.3992,2,-999.,9,41.46,2,131.80,2,42.20,2,0.00,2,3.01,2,-999.,9,-999.,9,-999.,9,-999,9,-999,9
49UF20170228,KS17-02,5041,1,8,25242,2,20170304,2245,28.9958,145.9988,5934,1216.2,1204,3.2738,34.3997,2,-999.,9,41.25,2,131.66,2,42.15,2,0.00,2,3.01,2,-999.,9,-999.,9,-999.,9,-999,9,-999,9
49UF20170228,KS17-02,5041,1,7,25241,2,20170304,2240,28.9958,145.9988,5934,1417.0,1403,2.8356,34.4689,2,-999.,9,46.53,2,142.82,2,42.20,2,0.00,2,3.02,2,-999.,9,-999.,9,-999.,9,-999,9,-999,9
49UF20170228,KS17-02,5041,1,6,25240,2,20170304,2235,28.9958,145.9988,5934,1621.6,1604,2.4903,34.5215,2,-999.,9,57.40,2,150.33,2,41.67,2,0.00,2,2.97,2,-999.,9,-999.,9,-999.,9,-999,9,-999,9
49UF20170228,KS17-02,5041,1,5,25239,2,20170304,2231,28.9958,145.9988,5934,1823.7,1804,2.2020,34.5622,2,-999.,9,68.01,2,155.73,2,41.32,2,0.00,2,2.92,2,-999.,9,-999.,9,-999.,9,-999,9,-999,9
49UF20170228,KS17-02,5041,1,4,25238,2,20170304,2226,28.9958,145.9988,5934,2026.3,2003,2.0096,34.5913,2,-999.,9,80.42,2,158.14,2,40.64,2,0.00,2,2.88,2,-999.,9,-999.,9,-999.,9,-999,9,-999,9
49UF20170228,KS17-02,5043,1,-999,0,2,20170305,1115,27.975,146.9927,5761,0.0,0,19.8380,35.0132,2,35.0149,2,228.23,2,1.97,2,0.05,2,0.00,2,0.03,2,2005.1,2,2298.9,2,8.0445,2,-999,9,-999,9
49UF20170228,KS17-02,5043,1,36,25270,2,20170305,1146,27.975,146.9927,5761,13.6,14,19.8367,35.0124,2,35.0106,2,227.91,2,1.95,2,0.04,2,0.00,2,0.02,2,2009.0,2,2299.5,2,8.0446,2,-999,9,-999,9
49UF20170228,KS17-02,5043,1,35,25269,2,20170305,1145,27.975,146.9927,5761,26.5,26,19.7839,35.0108,2,-999.0000,9,227.89,6,1.95,6,0.04,6,0.01,6,0.03,6,2008.7,2,2296.9,2,8.0446,2,-999,9,-999,9
49UF20170228,KS17-02,5043,1,34,25268,2,20170305,1143,27.975,146.9927,5761,51.5,51,19.5284,34.9733,2,-999.0000,9,223.64,2,2.05,2,0.54,2,0.22,2,0.05,2,2014.5,2,2296.0,2,8.0363,2,-999,9,-999,9
49UF20170228,KS17-02,5043,1,33,25267,2,20170305,1142,27.975,146.9927,5761,76.4,76,19.4338,34.9749,2,-999.0000,9,225.91,2,1.96,2,0.25,2,0.14,2,0.04,2,2014.9,2,2297.8,2,8.0389,2,-999,9,-999,9
49UF20170228,KS17-02,5043,1,32,25266,2,20170305,1139,27.975,146.9927,5761,102.7,102,19.0174,34.9158,2,34.9149,2,218.66,2,2.37,2,1.27,2,0.16,2,0.10,2,2019.2,2,2293.5,2,8.0184,2,-999,9,-999,9
49UF20170228,KS17-02,5043,1,31,25265,2,20170305,1137,27.975,146.9927,5761,128.1,127,18.5440,34.8520,2,-999.0000,9,206.71,2,3.04,2,2.76,2,0.05,2,0.19,2,2031.2,2,2286.8,2,7.9836,2,-999,9,-999,9
49UF20170228,KS17-02,5043,1,30,25264,2,20170305,1136,27.975,146.9927,5761,151.7,151,18.2037,34.8337,2,-999.0000,9,209.84,2,3.19,2,2.95,2,0.03,2,0.20,2,2032.0,2,2286.7,2,7.9829,2,-999,9,-999,9
49UF20170228,KS17-02,5043,1,29,25263,2,20170305,1134,27.975,146.9927,5761,201.7,200,17.9851,34.8249,2,34.8242,2,215.43,2,3.20,2,2.81,2,0.03,2,0.20,2,2030.2,2,2283.3,2,7.9889,2,-999,9,-999,9
49UF20170228,KS17-02,5043,1,28,25262,2,20170305,1132,27.975,146.9927,5761,254.3,252,17.3218,34.7570,2,-999.0000,9,204.45,2,4.49,2,4.83,2,0.01,2,0.32,2,2043.2,2,2281.1,2,7.9527,2,-999,9,-999,9
49UF20170228,KS17-02,5043,1,27,25261,2,20170305,1130,27.975,146.9927,5761,304.1,302,16.4568,34.6857,2,-999.0000,9,203.75,2,5.71,2,6.06,2,0.01,2,0.40,2,2052.7,2,2279.1,2,7.9360,2,-999,9,-999,9
49UF20170228,KS17-02,5043,1,26,25260,3,20170305,1127,27.975,146.9927,5761,404.5,401,14.9725,34.5567,2,34.5580,6,194.08,2,9.96,2,9.27,2,0.00,2,0.63,2,2076.2,2,2272.7,2,7.8885,2,-999,9,-999,9
49UF20170228,KS17-02,5043,1,25,25259,2,20170305,1124,27.975,146.9927,5761,504.8,501,12.3789,34.3548,2,34.3550,2,190.50,6,17.02,6,13.70,6,0.00,6,0.95,6,2106.8,2,2270.7,2,7.8070,2,-999,9,-999,9
49UF20170228,KS17-02,5043,1,24,25258,2,20170305,1122,27.975,146.9927,5761,606.0,601,9.5631,34.1690,2,34.1685,6,170.19,2,31.14,2,20.41,2,0.00,2,1.45,2,2153.3,2,2275.1,2,7.7008,2,-999,9,-999,9
49UF20170228,KS17-02,5043,1,23,25257,2,20170305,1119,27.975,146.9927,5761,707.6,702,6.5564,34.0369,2,34.0386,2,136.64,2,57.50,2,28.91,2,0.00,2,2.09,2,2226.1,2,2290.6,2,7.5593,2,-999,9,-999,9
49UF20170228,KS17-02,5043,1,22,25256,2,20170305,1116,27.975,146.9927,5761,808.0,801,5.1981,34.0797,2,34.0811,6,92.63,2,79.41,2,35.25,2,0.00,2,2.54,2,2272.7,2,2308.2,2,7.4561,2,-999,9,-999,9
49UF20170228,KS17-02,5043,1,21,25255,2,20170305,1113,27.975,146.9927,5761,909.6,902,4.5449,34.1645,2,34.1646,6,64.02,2,96.17,2,38.75,2,0.00,2,2.78,2,2313.6,2,2326.5,2,7.3991,2,-999,9,-999,9
49UF20170228,KS17-02,5043,1,20,24270,2,20170305,1110,27.975,146.9927,5761,1012.1,1003,4.0181,34.2606,2,34.2613,2,46.17,2,111.24,2,40.92,2,0.00,2,2.93,2,2338.1,6,2345.7,6,7.3761,2,-999,9,-999,9
49UF20170228,KS17-02,5043,1,19,25253,2,20170305,1105,27.975,146.9927,5761,1213.9,1202,3.2704,34.3921,2,34.3925,2,39.07,2,132.24,2,42.28,2,0.00,2,3.02,2,2361.7,2,2372.3,2,7.3718,6,-999,9,-999,9
49UF20170228,KS17-02,5043,1,18,25252,2,20170305,1100,27.975,146.9927,5761,1416.4,1402,2.7902,34.4749,2,34.4739,2,46.36,2,144.15,2,42.28,2,0.00,2,3.01,2,2369.7,2,2388.0,2,7.3910,2,-999,9,-999,9
49UF20170228,KS17-02,5043,1,17,25251,2,20170305,1055,27.975,146.9927,5761,1621.0,1604,2.4150,34.5336,2,34.5336,6,61.06,2,150.92,2,41.56,2,0.00,2,2.95,2,2372.2,2,2399.8,2,7.4217,2,-999,9,-999,9
49UF20170228,KS17-02,5043,1,16,25250,3,20170305,1050,27.975,146.9927,5761,1823.6,1804,2.1941,34.5720,2,34.5727,2,79.85,2,151.21,2,40.41,2,0.00,2,2.85,2,2362.9,2,2404.4,2,7.4559,2,-999,9,-999,9
49UF20170228,KS17-02,5043,1,15,25249,2,20170305,1045,27.975,146.9927,5761,2024.3,2001,2.0214,34.5980,2,34.5977,2,91.91,2,152.01,2,39.61,2,0.00,2,2.79,2,2357.9,2,2410.2,2,7.4826,2,-999,9,-999,9
49UF20170228,KS17-02,5043,1,14,25248,2,20170305,1040,27.975,146.9927,5761,2279.4,2252,1.8480,34.6234,2,34.6241,2,106.00,2,152.03,2,38.83,2,0.00,2,2.73,2,2352.3,6,2412.5,6,7.5074,2,-999,9,-999,9
49UF20170228,KS17-02,5043,1,13,25247,2,20170305,1034,27.975,146.9927,5761,2534.4,2502,1.7347,34.6402,2,34.6394,2,115.89,6,151.57,6,38.18,6,0.00,6,2.68,6,2347.1,2,2413.6,2,7.5268,6,-999,9,-999,9
49UF20170228,KS17-02,5043,1,12,25246,2,20170305,1027,27.975,146.9927,5761,2786.1,2749,1.6658,34.6505,2,34.6510,6,123.40,2,151.56,2,37.78,2,0.00,2,2.64,2,2344.8,2,2417.5,2,7.5419,2,-999,9,-999,9
49UF20170228,KS17-02,5043,1,11,25245,2,20170305,1021,27.975,146.9927,5761,3042.7,3001,1.6114,34.6593,2,34.6594,2,129.14,3,151.00,2,37.44,2,0.00,2,2.62,2,2348.7,3,2414.9,2,7.5506,2,-999,9,-999,9
49UF20170228,KS17-02,5043,1,10,25244,2,20170305,1014,27.975,146.9927,5761,3299.5,3252,1.5682,34.6659,2,34.6669,2,135.42,2,150.77,2,37.11,2,0.00,2,2.59,2,2336.9,2,2416.3,2,7.5583,2,-999,9,-999,9
49UF20170228,KS17-02,5043,1,9,25243,2,20170305,1008,27.975,146.9927,5761,3555.0,3502,1.5351,34.6712,2,34.6719,2,139.44,2,150.62,2,36.77,2,0.00,2,2.56,2,2334.2,2,2417.2,2,7.5663,2,-999,9,-999,9
49UF20170228,KS17-02,5043,1,8,25242,2,20170305,1001,27.975,146.9927,5761,3811.3,3752,1.5212,34.6754,2,34.6762,6,143.98,2,149.40,2,36.48,2,0.00,2,2.54,2,2335.2,6,2417.0,6,7.5753,2,-999,9,-999,9
49UF20170228,KS17-02,5043,1,7,25241,2,20170305,0955,27.975,146.9927,5761,4067.7,4002,1.5046,34.6795,2,34.6799,2,148.58,2,148.87,2,36.17,2,0.00,2,2.52,2,2332.0,2,2417.1,2,7.5823,6,-999,9,-999,9
49UF20170228,KS17-02,5043,1,6,25240,2,20170305,0942,27.975,146.9927,5761,4581.5,4503,1.4861,34.6868,2,34.6872,2,158.24,6,145.10,6,35.39,6,0.00,6,2.47,6,2325.8,2,2413.3,2,7.5949,2,-999,9,-999,9
49UF20170228,KS17-02,5043,1,5,25239,2,20170305,0930,27.975,146.9927,5761,5095.9,5002,1.5248,34.6890,2,34.6886,6,160.42,3,143.34,2,35.29,2,0.00,2,2.45,2,2319.9,2,2411.1,2,7.5997,2,-999,9,-999,9
49UF20170228,KS17-02,5043,1,4,25238,2,20170305,0924,27.975,146.9927,5761,5353.8,5253,1.5477,34.6901,2,34.6909,2,163.64,2,141.83,2,35.04,2,0.00,2,2.44,2,2320.3,2,2410.0,2,7.6007,2,-999,9,-999,9
49UF20170228,KS17-02,5043,1,3,25237,2,20170305,0918,27.975,146.9927,5761,5610.3,5501,1.5695,34.6910,2,34.6904,6,164.18,3,140.81,2,34.98,2,0.00,2,2.43,2,2317.7,2,2407.1,2,7.6040,2,-999,9,-999,9
49UF20170228,KS17-02,5043,1,2,25236,2,20170305,0912,27.975,146.9927,5761,5869.5,5752,1.5920,34.6923,2,34.6926,2,167.81,2,138.66,2,34.85,2,0.00,2,2.41,2,2312.2,2,2406.8,2,7.6052,2,-999,9,-999,9
49UF20170228,KS17-02,5043,1,1,25235,2,20170305,0910,27.975,146.9927,5761,5927.3,5808,1.5980,34.6924,2,34.6926,6,168.39,2,138.56,2,34.87,2,0.00,2,2.41,2,2311.6,2,2406.9,2,7.6067,2,-999,9,-999,9
49UF20170228,KS17-02,5045,1,-999,0,2,20170305,2112,28.9878,147.2225,6092,0.0,0,19.0083,34.9333,2,-999.,9,231.15,2,2.04,2,0.26,2,0.05,2,0.04,2,-999.,9,-999.,9,-999.,9,-999,9,-999,9
49UF20170228,KS17-02,5045,1,36,25270,2,20170305,2139,28.9878,147.2225,6092,12.5,12,19.0106,34.9335,2,-999.,9,230.73,6,2.05,6,0.24,6,0.05,6,0.04,6,-999.,9,-999.,9,-999.,9,-999,9,-999,9
49UF20170228,KS17-02,5045,1,35,25269,2,20170305,2138,28.9878,147.2225,6092,26.8,27,18.9897,34.9313,2,-999.,9,231.60,2,2.06,2,0.21,2,0.05,2,0.04,2,-999.,9,-999.,9,-999.,9,-999,9,-999,9
49UF20170228,KS17-02,5045,1,34,25268,2,20170305,2135,28.9878,147.2225,6092,50.3,50,18.8985,34.9226,2,-999.,9,231.85,2,2.11,2,0.32,2,0.08,2,0.05,2,-999.,9,-999.,9,-999.,9,-999,9,-999,9
49UF20170228,KS17-02,5045,1,33,25267,2,20170305,2133,28.9878,147.2225,6092,77.4,77,18.6531,34.8872,2,-999.,9,223.23,2,2.40,2,1.30,2,0.14,2,0.10,2,-999.,9,-999.,9,-999.,9,-999,9,-999,9
49UF20170228,KS17-02,5045,1,32,25266,2,20170305,2132,28.9878,147.2225,6092,102.3,102,18.2998,34.8531,2,-999.,9,215.80,2,2.85,2,2.41,2,0.12,2,0.17,2,-999.,9,-999.,9,-999.,9,-999,9,-999,9
49UF20170228,KS17-02,5045,1,31,25265,2,20170305,2131,28.9878,147.2225,6092,127.4,127,18.0015,34.8195,2,-999.,9,211.26,2,3.29,2,3.18,2,0.05,2,0.22,2,-999.,9,-999.,9,-999.,9,-999,9,-999,9
49UF20170228,KS17-02,5045,1,27,25261,2,20170305,2129,28.9878,147.2225,6092,152.3,151,18.0725,34.8571,2,-999.,9,227.38,2,2.56,2,1.73,2,0.16,2,0.13,2,-999.,9,-999.,9,-999.,9,-999,9,-999,9
49UF20170228,KS17-02,5045,1,26,25260,2,20170305,2127,28.9878,147.2225,6092,202.4,201,17.7741,34.8115,2,-999.,9,214.39,2,3.44,2,3.28,2,0.04,2,0.22,2,-999.,9,-999.,9,-999.,9,-999,9,-999,9
49UF20170228,KS17-02,5045,1,25,25259,2,20170305,2125,28.9878,147.2225,6092,254.1,252,17.3295,34.7629,2,-999.,9,205.37,2,4.42,2,4.79,2,0.02,2,0.32,2,-999.,9,-999.,9,-999.,9,-999,9,-999,9
49UF20170228,KS17-02,5045,1,24,25258,2,20170305,2124,28.9878,147.2225,6092,304.7,302,16.3717,34.6738,2,-999.,9,198.01,2,6.60,2,6.82,2,0.01,2,0.45,2,-999.,9,-999.,9,-999.,9,-999,9,-999,9
49UF20170228,KS17-02,5045,1,23,25257,2,20170305,2121,28.9878,147.2225,6092,407.0,404,14.1948,34.5003,2,-999.,9,188.82,6,12.42,6,10.97,6,0.01,6,0.75,6,-999.,9,-999.,9,-999.,9,-999,9,-999,9
49UF20170228,KS17-02,5045,1,18,25252,2,20170305,2118,28.9878,147.2225,6092,506.2,502,11.7932,34.3220,2,-999.,9,183.19,2,20.50,2,15.45,2,0.01,2,1.08,2,-999.,9,-999.,9,-999.,9,-999,9,-999,9
49UF20170228,KS17-02,5045,1,22,25256,2,20170305,2118,28.9878,147.2225,6092,508.0,504,11.7419,34.3241,2,-999.,9,183.34,2,20.42,2,15.47,2,0.01,2,1.08,2,-999.,9,-999.,9,-999.,9,-999,9,-999,9
49UF20170228,KS17-02,5045,1,17,25251,2,20170305,2115,28.9878,147.2225,6092,608.5,604,9.1931,34.1401,2,-999.,9,172.70,2,31.39,2,20.87,2,0.00,2,1.48,2,-999.,9,-999.,9,-999.,9,-999,9,-999,9
49UF20170228,KS17-02,5045,1,16,25250,3,20170305,2112,28.9878,147.2225,6092,708.0,702,7.0205,34.0562,2,-999.,9,137.22,2,51.84,2,28.17,2,0.00,2,2.02,2,-999.,9,-999.,9,-999.,9,-999,9,-999,9
49UF20170228,KS17-02,5045,1,15,25249,4,20170305,2109,28.9878,147.2225,6092,809.1,802,5.3264,34.0920,2,-999.,9,90.51,4,75.94,4,34.78,4,0.00,4,2.50,4,-999.,9,-999.,9,-999.,9,-999,9,-999,9
49UF20170228,KS17-02,5045,1,14,25248,4,20170305,2107,28.9878,147.2225,6092,912.9,905,4.5497,34.1856,2,-999.,9,55.21,4,144.66,4,41.62,4,0.00,4,2.95,4,-999.,9,-999.,9,-999.,9,-999,9,-999,9
49UF20170228,KS17-02,5045,1,9,25243,2,20170305,2103,28.9878,147.2225,6092,1011.2,1002,4.1096,34.2538,2,-999.,9,47.86,2,108.74,2,40.81,2,0.00,2,2.93,2,-999.,9,-999.,9,-999.,9,-999,9,-999,9
49UF20170228,KS17-02,5045,1,13,25247,2,20170305,2104,28.9878,147.2225,6092,1013.0,1004,4.1042,34.2545,2,-999.,9,47.11,2,109.04,2,40.73,2,0.00,2,2.93,2,-999.,9,-999.,9,-999.,9,-999,9,-999,9
49UF20170228,KS17-02,5045,1,8,25242,2,20170305,2059,28.9878,147.2225,6092,1213.9,1202,3.2325,34.3772,2,-999.,9,36.71,2,133.40,2,42.53,2,0.00,2,3.04,2,-999.,9,-999.,9,-999.,9,-999,9,-999,9
49UF20170228,KS17-02,5045,1,7,25241,2,20170305,2054,28.9878,147.2225,6092,1414.8,1401,2.7841,34.4542,2,-999.,9,36.89,2,146.48,2,43.00,2,0.00,2,3.06,2,-999.,9,-999.,9,-999.,9,-999,9,-999,9
49UF20170228,KS17-02,5045,1,6,25240,2,20170305,2049,28.9878,147.2225,6092,1622.2,1605,2.4112,34.5242,2,-999.,9,49.82,2,154.90,2,42.51,2,0.00,2,3.01,2,-999.,9,-999.,9,-999.,9,-999,9,-999,9
49UF20170228,KS17-02,5045,1,5,25239,2,20170305,2044,28.9878,147.2225,6092,1823.3,1803,2.1800,34.5664,2,-999.,9,68.11,2,156.54,2,41.40,2,0.00,2,2.92,2,-999.,9,-999.,9,-999.,9,-999,9,-999,9
49UF20170228,KS17-02,5045,1,4,25238,2,20170305,2039,28.9878,147.2225,6092,2023.0,2000,2.0198,34.5931,2,-999.,9,83.40,2,156.28,2,40.39,2,0.00,2,2.85,2,-999.,9,-999.,9,-999.,9,-999,9,-999,9