BOTTLE,20171117JMAGEMD
EXPOCODE,SECT_ID,STNNBR,CASTNO,SAMPNO,BTLNBR,BTLNBR_FLAG_W,DATE,TIME,LATITUDE,LONGITUDE,DEPTH,CTDPRS,CTDDEP,CTDTMP,CTDSAL,CTDSAL_FLAG_W,SALNTY,SALNTY_FLAG_W,OXYGEN,OXYGEN_FLAG_W,SILCAT,SILCAT_FLAG_W,NO2+NO3,NO2+NO3_FLAG_W,NITRIT,NITRIT_FLAG_W,PHSPHT,PHSPHT_FLAG_W,TCARBN,TCARBN_FLAG_W,ALKALI,ALKALI_FLAG_W,PH_TOT,PH_TOT_FLAG_W,CFC-11,CFC-11_FLAG_W,CFC-12,CFC-12_FLAG_W
,,,,,,,UTC,UTC,,,METER,DBAR,METERS,ITS-90,PSS-78,,PSS-78,,UMOL/KG,,UMOL/KG,,UMOL/KG,,UMOL/KG,,UMOL/KG,,UMOL/KG,,UMOL/KG,,@25DEG-C,,PMOL/KG,,PMOL/KG,
49UF20170228,KS17-02,5053,1,-999,0,2,20170308,1320,33.0017,148.1752,5761,0.0,0,17.5024,34.8236,2,-999.,9,230.59,2,3.19,2,2.42,2,0.07,2,0.18,2,-999.,9,-999.,9,-999.,9,-999,9,-999,9
49UF20170228,KS17-02,5053,1,36,25270,2,20170308,1345,33.0017,148.1752,5761,12.4,12,17.5048,34.8253,2,-999.,9,230.41,2,3.19,2,2.43,2,0.07,2,0.18,2,-999.,9,-999.,9,-999.,9,-999,9,-999,9
49UF20170228,KS17-02,5053,1,35,25269,2,20170308,1344,33.0017,148.1752,5761,27.1,27,17.5000,34.8233,2,-999.,9,230.40,2,3.21,2,2.43,2,0.07,2,0.17,2,-999.,9,-999.,9,-999.,9,-999,9,-999,9
49UF20170228,KS17-02,5053,1,34,25268,2,20170308,1342,33.0017,148.1752,5761,51.5,51,17.5272,34.8329,2,-999.,9,230.42,2,3.23,2,2.44,2,0.07,2,0.18,2,-999.,9,-999.,9,-999.,9,-999,9,-999,9
49UF20170228,KS17-02,5053,1,33,25267,2,20170308,1341,33.0017,148.1752,5761,77.5,77,17.5171,34.8329,2,-999.,9,230.58,2,3.26,2,2.46,2,0.07,2,0.18,2,-999.,9,-999.,9,-999.,9,-999,9,-999,9
49UF20170228,KS17-02,5053,1,32,25266,2,20170308,1338,33.0017,148.1752,5761,102.4,102,17.5079,34.8321,2,-999.,9,230.63,6,3.29,6,2.49,6,0.07,6,0.18,6,-999.,9,-999.,9,-999.,9,-999,9,-999,9
49UF20170228,KS17-02,5053,1,31,25265,2,20170308,1336,33.0017,148.1752,5761,126.0,125,17.4974,34.8320,2,-999.,9,230.59,2,3.32,2,2.51,2,0.06,2,0.18,2,-999.,9,-999.,9,-999.,9,-999,9,-999,9
49UF20170228,KS17-02,5053,1,27,25261,2,20170308,1335,33.0017,148.1752,5761,153.7,153,17.5007,34.8324,2,-999.,9,230.29,2,3.29,2,2.51,2,0.06,2,0.18,2,-999.,9,-999.,9,-999.,9,-999,9,-999,9
49UF20170228,KS17-02,5053,1,26,25260,2,20170308,1334,33.0017,148.1752,5761,203.1,202,17.5007,34.8311,2,-999.,9,230.76,2,3.34,2,2.52,2,0.07,2,0.18,2,-999.,9,-999.,9,-999.,9,-999,9,-999,9
49UF20170228,KS17-02,5053,1,24,25258,2,20170308,1332,33.0017,148.1752,5761,253.3,251,17.4685,34.8242,2,-999.,9,228.90,2,3.49,2,2.76,2,0.05,2,0.20,2,-999.,9,-999.,9,-999.,9,-999,9,-999,9
49UF20170228,KS17-02,5053,1,25,25259,2,20170308,1332,33.0017,148.1752,5761,253.6,252,17.4680,34.8242,2,-999.,9,230.56,2,3.48,2,2.76,2,0.05,2,0.20,2,-999.,9,-999.,9,-999.,9,-999,9,-999,9
49UF20170228,KS17-02,5053,1,23,25257,2,20170308,1330,33.0017,148.1752,5761,305.0,303,17.1352,34.7718,2,-999.,9,215.70,2,4.79,2,4.41,2,0.02,2,0.30,2,-999.,9,-999.,9,-999.,9,-999,9,-999,9
49UF20170228,KS17-02,5053,1,22,25256,3,20170308,1328,33.0017,148.1752,5761,406.7,403,14.6362,34.5452,2,-999.,9,191.49,2,11.64,2,10.19,2,0.01,2,0.69,2,-999.,9,-999.,9,-999.,9,-999,9,-999,9
49UF20170228,KS17-02,5053,1,18,25252,2,20170308,1325,33.0017,148.1752,5761,505.4,501,10.5487,34.0770,2,-999.,9,250.07,2,12.06,2,8.29,2,0.01,2,0.60,2,-999.,9,-999.,9,-999.,9,-999,9,-999,9
49UF20170228,KS17-02,5053,1,17,25251,2,20170308,1323,33.0017,148.1752,5761,606.9,602,9.8864,34.1193,2,-999.,9,238.88,2,18.66,2,12.45,2,0.01,2,0.91,2,-999.,9,-999.,9,-999.,9,-999,9,-999,9
49UF20170228,KS17-02,5053,1,15,25249,2,20170308,1320,33.0017,148.1752,5761,706.6,700,7.9283,34.1327,2,-999.,9,144.62,2,49.03,2,25.79,2,0.00,2,1.85,2,-999.,9,-999.,9,-999.,9,-999,9,-999,9
49UF20170228,KS17-02,5053,1,16,25250,2,20170308,1320,33.0017,148.1752,5761,707.2,701,7.9012,34.1289,2,-999.,9,145.09,2,49.16,2,25.73,2,0.00,2,1.85,2,-999.,9,-999.,9,-999.,9,-999,9,-999,9
49UF20170228,KS17-02,5053,1,14,25248,2,20170308,1318,33.0017,148.1752,5761,810.7,803,6.7072,34.1938,2,-999.,9,108.44,2,68.39,2,31.10,2,0.00,2,2.23,2,-999.,9,-999.,9,-999.,9,-999,9,-999,9
49UF20170228,KS17-02,5053,1,13,25247,2,20170308,1315,33.0017,148.1752,5761,912.2,904,5.7503,34.1596,2,-999.,9,96.67,2,78.01,2,33.91,2,0.00,2,2.43,2,-999.,9,-999.,9,-999.,9,-999,9,-999,9
49UF20170228,KS17-02,5053,1,9,25243,2,20170308,1313,33.0017,148.1752,5761,1011.6,1002,4.7606,34.1731,2,-999.,9,73.71,2,93.98,2,37.55,2,0.00,2,2.69,2,-999.,9,-999.,9,-999.,9,-999,9,-999,9
49UF20170228,KS17-02,5053,1,8,25242,2,20170308,1308,33.0017,148.1752,5761,1215.7,1204,3.7650,34.3039,2,-999.,9,48.41,2,119.50,2,40.88,2,0.00,2,2.93,2,-999.,9,-999.,9,-999.,9,-999,9,-999,9
49UF20170228,KS17-02,5053,1,7,25241,2,20170308,1304,33.0017,148.1752,5761,1417.2,1402,2.9861,34.4144,2,-999.,9,39.33,2,140.68,2,42.51,2,0.00,2,3.03,2,-999.,9,-999.,9,-999.,9,-999,9,-999,9
49UF20170228,KS17-02,5053,1,6,25240,2,20170308,1300,33.0017,148.1752,5761,1617.8,1600,2.6443,34.4778,2,-999.,9,42.99,2,150.04,2,42.55,2,0.00,2,3.03,2,-999.,9,-999.,9,-999.,9,-999,9,-999,9
49UF20170228,KS17-02,5053,1,5,25239,2,20170308,1256,33.0017,148.1752,5761,1823.8,1803,2.3315,34.5313,2,-999.,9,51.53,6,157.14,6,42.41,6,0.00,6,3.00,6,-999.,9,-999.,9,-999.,9,-999,9,-999,9
49UF20170228,KS17-02,5053,1,4,25238,2,20170308,1251,33.0017,148.1752,5761,2024.6,2001,2.0990,34.5722,2,-999.,9,66.73,2,160.11,2,41.51,2,0.00,2,2.93,2,-999.,9,-999.,9,-999.,9,-999,9,-999,9
49UF20170228,KS17-02,5055,1,-999,0,2,20170308,0200,33.9862,148.5717,6144,0.0,0,17.8864,34.8577,2,34.8642,2,229.49,2,3.02,2,2.20,2,0.11,2,0.16,2,2018.5,2,2289.6,2,8.0009,2,-999,9,-999,9
49UF20170228,KS17-02,5055,1,36,25270,2,20170308,0241,33.9862,148.5717,6144,10.8,11,17.8658,34.8554,2,34.8565,6,229.17,2,3.02,2,2.18,2,0.11,2,0.16,2,2027.6,2,2288.9,2,8.0044,2,-999,9,-999,9
49UF20170228,KS17-02,5055,1,35,25269,2,20170308,0240,33.9862,148.5717,6144,26.9,27,17.8324,34.8552,2,-999.0000,9,229.37,2,3.02,2,2.17,2,0.11,2,0.16,2,2022.3,2,2288.2,2,8.0041,2,-999,9,-999,9
49UF20170228,KS17-02,5055,1,34,25268,2,20170308,0238,33.9862,148.5717,6144,52.9,53,17.8198,34.8553,2,-999.0000,9,229.19,2,3.06,2,2.22,2,0.11,2,0.16,2,2028.7,2,2289.4,2,8.0048,2,-999,9,-999,9
49UF20170228,KS17-02,5055,1,33,25267,2,20170308,0237,33.9862,148.5717,6144,77.8,77,17.8044,34.8545,2,-999.0000,9,228.75,2,3.10,2,2.25,2,0.12,2,0.16,2,2023.0,2,2288.5,2,8.0017,2,-999,9,-999,9
49UF20170228,KS17-02,5055,1,32,25266,2,20170308,0236,33.9862,148.5717,6144,101.9,101,17.7971,34.8540,2,34.8532,2,228.52,6,3.09,6,2.25,6,0.12,6,0.16,6,2024.1,2,2288.8,2,8.0026,2,-999,9,-999,9
49UF20170228,KS17-02,5055,1,31,25265,2,20170308,0234,33.9862,148.5717,6144,128.0,127,17.7773,34.8525,2,-999.0000,9,228.94,2,3.05,2,2.20,2,0.12,2,0.16,2,2024.0,2,2289.0,2,8.0014,2,-999,9,-999,9
49UF20170228,KS17-02,5055,1,30,25264,2,20170308,0233,33.9862,148.5717,6144,153.1,152,17.7617,34.8504,2,-999.0000,9,228.72,2,3.07,2,2.22,2,0.12,2,0.16,2,2023.3,2,2289.3,2,8.0007,2,-999,9,-999,9
49UF20170228,KS17-02,5055,1,29,25263,2,20170308,0231,33.9862,148.5717,6144,203.4,202,17.7713,34.8505,2,34.8489,2,228.64,2,3.09,2,2.23,2,0.12,2,0.16,2,2023.5,2,2289.1,2,8.0001,2,-999,9,-999,9
49UF20170228,KS17-02,5055,1,28,25262,2,20170308,0228,33.9862,148.5717,6144,254.2,252,17.7733,34.8488,2,-999.0000,9,228.35,2,3.10,2,2.28,2,0.12,2,0.16,2,2024.8,2,2288.3,2,7.9994,2,-999,9,-999,9
49UF20170228,KS17-02,5055,1,27,25261,2,20170308,0226,33.9862,148.5717,6144,306.3,304,17.0513,34.7366,2,-999.0000,9,203.77,2,5.27,2,5.39,2,0.02,2,0.36,2,2046.4,2,2281.8,2,7.9487,2,-999,9,-999,9
49UF20170228,KS17-02,5055,1,26,25260,2,20170308,0222,33.9862,148.5717,6144,407.6,404,15.2875,34.5867,2,34.5883,2,187.36,2,10.84,2,9.63,2,0.01,2,0.65,2,2076.6,2,2278.1,2,7.8785,2,-999,9,-999,9
49UF20170228,KS17-02,5055,1,25,25259,2,20170308,0215,33.9862,148.5717,6144,508.6,504,12.1118,34.3556,2,34.3602,2,180.25,2,21.03,2,15.32,2,0.00,2,1.07,2,2115.2,2,2274.5,2,7.7860,2,-999,9,-999,9
49UF20170228,KS17-02,5055,1,24,25258,2,20170308,0211,33.9862,148.5717,6144,607.9,603,9.7186,34.2366,2,34.2377,2,157.05,2,37.15,2,21.47,2,0.00,2,1.53,2,2164.4,2,2283.7,2,7.6872,2,-999,9,-999,9
49UF20170228,KS17-02,5055,1,23,25257,2,20170308,0208,33.9862,148.5717,6144,709.4,703,6.7929,34.0740,2,34.0757,6,134.38,2,58.18,2,28.71,2,0.00,2,2.08,2,2215.8,2,2292.8,2,7.5664,2,-999,9,-999,9
49UF20170228,KS17-02,5055,1,22,25256,2,20170308,0204,33.9862,148.5717,6144,811.8,804,5.2546,34.0723,2,34.0722,2,99.20,2,78.94,2,34.50,2,0.00,2,2.49,2,2266.3,2,2307.1,2,7.4646,2,-999,9,-999,9
49UF20170228,KS17-02,5055,1,21,25255,2,20170308,0201,33.9862,148.5717,6144,912.6,904,4.5304,34.1611,2,34.1575,2,69.75,2,96.14,2,38.03,2,0.00,2,2.74,2,2303.1,2,2324.4,2,7.4067,2,-999,9,-999,9
49UF20170228,KS17-02,5055,1,20,24270,2,20170308,0157,33.9862,148.5717,6144,1013.1,1003,4.1242,34.2406,2,34.2388,2,55.14,6,109.61,6,39.96,6,0.00,6,2.87,6,2325.0,6,2340.9,6,7.3859,2,-999,9,-999,9
49UF20170228,KS17-02,5055,1,19,25253,2,20170308,0151,33.9862,148.5717,6144,1216.2,1204,3.3516,34.3571,2,34.3560,2,42.33,2,130.95,2,41.94,2,0.00,2,3.00,2,2352.4,2,2366.2,2,7.3697,6,-999,9,-999,9
49UF20170228,KS17-02,5055,1,18,25252,2,20170308,0145,33.9862,148.5717,6144,1416.5,1402,2.8793,34.4292,2,34.4289,6,38.24,2,144.05,2,42.75,2,0.00,2,3.05,2,2370.8,2,2381.6,2,7.3680,2,-999,9,-999,9
49UF20170228,KS17-02,5055,1,17,25251,2,20170308,0140,33.9862,148.5717,6144,1619.7,1602,2.5479,34.4866,2,34.4860,2,41.63,2,153.12,2,42.80,2,0.00,2,3.05,2,2380.6,2,2392.9,2,7.3779,2,-999,9,-999,9
49UF20170228,KS17-02,5055,1,16,25250,3,20170308,0135,33.9862,148.5717,6144,1821.8,1801,2.2892,34.5352,2,34.5228,4,50.40,2,157.13,2,42.52,2,0.00,2,3.01,2,2381.8,2,2400.0,2,7.3936,2,-999,9,-999,9
49UF20170228,KS17-02,5055,1,15,25249,2,20170308,0129,33.9862,148.5717,6144,2025.1,2001,2.0992,34.5710,2,34.5706,6,64.70,2,161.42,2,41.71,2,0.00,2,2.94,2,2377.1,2,2407.9,2,7.4239,2,-999,9,-999,9
49UF20170228,KS17-02,5055,1,14,25248,3,20170308,0123,33.9862,148.5717,6144,2280.8,2252,1.9071,34.6041,2,34.6051,2,81.58,2,162.42,2,40.64,2,0.00,2,2.87,2,2369.6,2,2413.4,2,7.4594,2,-999,9,-999,9
49UF20170228,KS17-02,5055,1,13,25247,2,20170308,0117,33.9862,148.5717,6144,2536.1,2503,1.7795,34.6262,2,34.6272,6,95.92,2,162.07,2,39.78,2,0.00,2,2.79,2,2361.2,6,2416.1,6,7.4873,2,-999,9,-999,9
49UF20170228,KS17-02,5055,1,12,25246,2,20170308,0111,33.9862,148.5717,6144,2787.3,2749,1.6993,34.6405,2,34.6408,2,107.88,2,160.19,2,38.96,2,0.00,2,2.74,2,2353.1,2,2416.3,2,7.5078,6,-999,9,-999,9
49UF20170228,KS17-02,5055,1,11,25245,2,20170308,0105,33.9862,148.5717,6144,3043.7,3000,1.6155,34.6545,2,34.6546,6,119.70,6,157.93,6,38.23,6,0.00,6,2.68,6,2346.3,2,2417.2,2,7.5292,2,-999,9,-999,9
49UF20170228,KS17-02,5055,1,10,25244,2,20170308,0100,33.9862,148.5717,6144,3298.7,3250,1.5614,34.6639,2,34.6640,2,129.41,2,155.84,2,37.62,2,0.00,2,2.63,2,2342.6,2,2417.2,2,7.5495,2,-999,9,-999,9
49UF20170228,KS17-02,5055,1,9,25243,2,20170308,0054,33.9862,148.5717,6144,3555.2,3500,1.5322,34.6701,2,34.6712,2,135.87,2,154.25,2,37.14,2,0.00,2,2.59,2,2339.4,2,2417.3,2,7.5596,2,-999,9,-999,9
49UF20170228,KS17-02,5055,1,8,25242,2,20170308,0048,33.9862,148.5717,6144,3811.0,3750,1.5136,34.6752,2,34.6740,2,141.45,2,152.39,2,36.81,2,0.00,2,2.56,2,2334.0,2,2416.0,2,7.5704,2,-999,9,-999,9
49UF20170228,KS17-02,5055,1,7,25241,2,20170308,0042,33.9862,148.5717,6144,4067.8,4000,1.5009,34.6791,2,34.6796,2,146.16,2,151.78,2,36.36,2,0.00,2,2.54,2,2330.7,2,2415.9,2,7.5757,2,-999,9,-999,9
49UF20170228,KS17-02,5055,1,6,25240,2,20170308,0032,33.9862,148.5717,6144,4580.2,4499,1.5013,34.6851,2,34.6843,2,154.75,2,148.65,2,35.85,2,0.00,2,2.49,2,2325.3,2,2414.6,2,7.5901,2,-999,9,-999,9
49UF20170228,KS17-02,5055,1,5,25239,2,20170308,0022,33.9862,148.5717,6144,5096.1,5000,1.5287,34.6884,2,34.6873,6,159.40,6,146.71,6,35.62,6,0.00,6,2.47,6,2321.8,2,2412.9,2,7.5939,2,-999,9,-999,9
49UF20170228,KS17-02,5055,1,4,25238,2,20170308,0017,33.9862,148.5717,6144,5353.5,5250,1.5506,34.6896,2,34.6902,2,161.69,2,145.46,2,35.56,2,0.00,2,2.46,2,2317.8,6,2412.2,6,7.6005,2,-999,9,-999,9
49UF20170228,KS17-02,5055,1,3,25237,2,20170308,0011,33.9862,148.5717,6144,5613.5,5502,1.5734,34.6907,2,34.6907,2,163.14,2,144.09,2,35.45,2,0.00,2,2.45,2,2316.2,2,2410.6,2,7.6022,6,-999,9,-999,9
49UF20170228,KS17-02,5055,1,2,25236,2,20170308,0006,33.9862,148.5717,6144,5871.8,5751,1.6012,34.6914,2,34.6921,2,164.90,2,141.89,2,35.27,2,0.00,2,2.43,2,2314.7,2,2410.0,2,7.6024,2,-999,9,-999,9
49UF20170228,KS17-02,5055,1,1,25235,2,20170308,2359,33.9862,148.5717,6144,6130.5,6001,1.6334,34.6919,2,34.6929,4,166.21,2,141.61,2,35.06,2,0.00,2,2.43,2,2312.3,2,2409.3,2,7.6054,2,-999,9,-999,9
49UF20170228,KS17-02,5057,1,-999,0,2,20170309,1100,35.0043,148.9265,6056,0.0,0,17.7239,34.8354,2,-999.,9,230.58,2,3.10,2,2.23,2,0.12,2,0.17,2,-999.,9,-999.,9,-999.,9,-999,9,-999,9
49UF20170228,KS17-02,5057,1,36,25270,2,20170309,1130,35.0043,148.9265,6056,10.7,11,17.7321,34.8366,2,-999.,9,230.63,2,3.09,2,2.20,2,0.12,2,0.16,2,-999.,9,-999.,9,-999.,9,-999,9,-999,9
49UF20170228,KS17-02,5057,1,35,25269,2,20170309,1129,35.0043,148.9265,6056,26.4,26,17.7638,34.8457,2,-999.,9,229.93,2,3.10,2,2.22,2,0.12,2,0.16,2,-999.,9,-999.,9,-999.,9,-999,9,-999,9
49UF20170228,KS17-02,5057,1,34,25268,2,20170309,1128,35.0043,148.9265,6056,52.4,52,17.7721,34.8474,2,-999.,9,229.92,2,3.11,2,2.23,2,0.12,2,0.16,2,-999.,9,-999.,9,-999.,9,-999,9,-999,9
49UF20170228,KS17-02,5057,1,33,25267,2,20170309,1126,35.0043,148.9265,6056,76.8,76,17.7710,34.8472,2,-999.,9,229.51,2,3.14,2,2.23,2,0.13,2,0.16,2,-999.,9,-999.,9,-999.,9,-999,9,-999,9
49UF20170228,KS17-02,5057,1,32,25266,2,20170309,1125,35.0043,148.9265,6056,102.7,102,17.7650,34.8474,2,-999.,9,229.05,2,3.13,2,2.30,2,0.12,2,0.17,2,-999.,9,-999.,9,-999.,9,-999,9,-999,9
49UF20170228,KS17-02,5057,1,31,25265,2,20170309,1123,35.0043,148.9265,6056,127.2,126,17.7627,34.8474,2,-999.,9,229.07,6,3.15,6,2.31,6,0.12,6,0.17,6,-999.,9,-999.,9,-999.,9,-999,9,-999,9
49UF20170228,KS17-02,5057,1,27,25261,2,20170309,1120,35.0043,148.9265,6056,152.2,151,17.7594,34.8471,2,-999.,9,228.81,2,3.16,2,2.33,2,0.12,2,0.17,2,-999.,9,-999.,9,-999.,9,-999,9,-999,9
49UF20170228,KS17-02,5057,1,26,25260,2,20170309,1118,35.0043,148.9265,6056,202.5,201,17.6839,34.8424,2,-999.,9,227.61,2,3.24,2,2.52,2,0.08,2,0.18,2,-999.,9,-999.,9,-999.,9,-999,9,-999,9
49UF20170228,KS17-02,5057,1,25,25259,2,20170309,1118,35.0043,148.9265,6056,202.5,201,17.6857,34.8425,2,-999.,9,227.80,2,3.24,2,2.51,2,0.08,2,0.18,2,-999.,9,-999.,9,-999.,9,-999,9,-999,9
49UF20170228,KS17-02,5057,1,24,25258,2,20170309,1116,35.0043,148.9265,6056,253.2,251,17.5612,34.8332,2,-999.,9,227.13,2,3.41,2,2.75,2,0.03,2,0.20,2,-999.,9,-999.,9,-999.,9,-999,9,-999,9
49UF20170228,KS17-02,5057,1,23,25257,2,20170309,1114,35.0043,148.9265,6056,303.8,301,17.5199,34.8297,2,-999.,9,227.02,2,3.48,2,2.83,2,0.02,2,0.20,2,-999.,9,-999.,9,-999.,9,-999,9,-999,9
49UF20170228,KS17-02,5057,1,22,25256,2,20170309,1111,35.0043,148.9265,6056,404.7,401,16.4573,34.6909,2,-999.,9,203.17,2,6.69,2,6.43,2,0.01,2,0.43,2,-999.,9,-999.,9,-999.,9,-999,9,-999,9
49UF20170228,KS17-02,5057,1,18,25252,2,20170309,1108,35.0043,148.9265,6056,505.1,501,13.0186,34.4234,2,-999.,9,177.72,2,18.46,2,14.13,2,0.00,2,0.98,2,-999.,9,-999.,9,-999.,9,-999,9,-999,9
49UF20170228,KS17-02,5057,1,17,25251,2,20170309,1105,35.0043,148.9265,6056,607.2,602,9.8212,34.2381,2,-999.,9,156.93,2,35.68,2,21.30,2,0.00,2,1.51,2,-999.,9,-999.,9,-999.,9,-999,9,-999,9
49UF20170228,KS17-02,5057,1,16,25250,2,20170309,1102,35.0043,148.9265,6056,707.8,701,7.5134,34.2180,2,-999.,9,117.02,2,60.94,2,29.07,2,0.00,2,2.09,2,-999.,9,-999.,9,-999.,9,-999,9,-999,9
49UF20170228,KS17-02,5057,1,15,25249,2,20170309,1100,35.0043,148.9265,6056,811.0,804,5.4981,34.1198,2,-999.,9,97.40,2,78.94,2,34.22,2,0.00,2,2.47,2,-999.,9,-999.,9,-999.,9,-999,9,-999,9
49UF20170228,KS17-02,5057,1,14,25248,2,20170309,1057,35.0043,148.9265,6056,910.5,902,4.3861,34.1788,2,-999.,9,64.62,2,101.50,2,38.71,2,0.00,2,2.79,2,-999.,9,-999.,9,-999.,9,-999,9,-999,9
49UF20170228,KS17-02,5057,1,13,25247,2,20170309,1054,35.0043,148.9265,6056,1013.2,1003,4.0703,34.2733,2,-999.,9,55.55,2,112.53,2,39.86,2,0.00,2,2.86,2,-999.,9,-999.,9,-999.,9,-999,9,-999,9
49UF20170228,KS17-02,5057,1,9,25243,2,20170309,1049,35.0043,148.9265,6056,1215.2,1203,3.2413,34.3659,2,-999.,9,41.48,2,133.36,2,41.78,2,0.00,2,3.00,2,-999.,9,-999.,9,-999.,9,-999,9,-999,9
49UF20170228,KS17-02,5057,1,8,25242,2,20170309,1045,35.0043,148.9265,6056,1419.9,1405,2.8780,34.4367,2,-999.,9,42.52,2,143.38,2,42.20,2,0.00,2,3.03,2,-999.,9,-999.,9,-999.,9,-999,9,-999,9
49UF20170228,KS17-02,5057,1,7,25241,2,20170309,1040,35.0043,148.9265,6056,1620.5,1603,2.5312,34.4910,2,-999.,9,44.75,6,152.76,6,42.49,6,0.00,6,3.04,6,-999.,9,-999.,9,-999.,9,-999,9,-999,9
49UF20170228,KS17-02,5057,1,6,25240,2,20170309,1036,35.0043,148.9265,6056,1824.0,1803,2.2645,34.5388,2,-999.,9,54.07,2,158.97,2,42.13,2,0.00,2,2.99,2,-999.,9,-999.,9,-999.,9,-999,9,-999,9
49UF20170228,KS17-02,5057,1,5,25239,2,20170309,1031,35.0043,148.9265,6056,2027.9,2004,2.0790,34.5744,2,-999.,9,67.90,2,160.85,2,41.39,2,0.00,2,2.93,2,-999.,9,-999.,9,-999.,9,-999,9,-999,9
49UF20170228,KS17-02,5057,1,4,25238,2,20170309,1031,35.0043,148.9265,6056,2028.3,2004,2.0781,34.5744,2,-999.,9,67.91,2,161.02,2,41.44,2,0.00,2,2.93,2,-999.,9,-999.,9,-999.,9,-999,9,-999,9