BOTTLE,20171117JMAGEMD
EXPOCODE,SECT_ID,STNNBR,CASTNO,SAMPNO,BTLNBR,BTLNBR_FLAG_W,DATE,TIME,LATITUDE,LONGITUDE,DEPTH,CTDPRS,CTDDEP,CTDTMP,CTDSAL,CTDSAL_FLAG_W,SALNTY,SALNTY_FLAG_W,OXYGEN,OXYGEN_FLAG_W,SILCAT,SILCAT_FLAG_W,NO2+NO3,NO2+NO3_FLAG_W,NITRIT,NITRIT_FLAG_W,PHSPHT,PHSPHT_FLAG_W,TCARBN,TCARBN_FLAG_W,ALKALI,ALKALI_FLAG_W,PH_TOT,PH_TOT_FLAG_W,CFC-11,CFC-11_FLAG_W,CFC-12,CFC-12_FLAG_W
,,,,,,,UTC,UTC,,,METER,DBAR,METERS,ITS-90,PSS-78,,PSS-78,,UMOL/KG,,UMOL/KG,,UMOL/KG,,UMOL/KG,,UMOL/KG,,UMOL/KG,,UMOL/KG,,@25DEG-C,,PMOL/KG,,PMOL/KG,
49UF20170228,KS17-02,5047,1,-999,0,2,20170306,0758,30.0027,147.472,6169,0.0,0,18.7770,34.9083,2,34.9352,2,233.97,2,2.22,2,0.25,2,0.05,2,0.05,2,2007.7,2,2294.8,2,8.0347,2,-999,9,-999,9
49UF20170228,KS17-02,5047,1,36,25270,2,20170306,0832,30.0027,147.472,6169,12.4,12,18.7607,34.9063,2,34.9069,2,233.19,2,2.37,2,0.52,2,0.10,2,0.06,2,2011.6,2,2294.2,2,8.0267,2,-999,9,-999,9
49UF20170228,KS17-02,5047,1,35,25269,2,20170306,0831,30.0027,147.472,6169,27.6,27,18.7446,34.9039,2,-999.0000,9,232.87,6,2.37,6,0.61,6,0.11,6,0.06,6,2017.7,2,2290.3,2,8.0270,2,-999,9,-999,9
49UF20170228,KS17-02,5047,1,34,25268,3,20170306,0829,30.0027,147.472,6169,53.1,53,18.5728,34.8925,2,-999.0000,9,229.19,2,2.48,2,1.03,2,0.16,2,0.09,2,2016.2,2,2289.4,2,8.0176,2,-999,9,-999,9
49UF20170228,KS17-02,5047,1,33,25267,2,20170306,0828,30.0027,147.472,6169,77.5,77,18.4678,34.8771,2,-999.0000,9,226.39,2,2.58,2,1.29,2,0.17,2,0.10,2,2020.5,2,2289.7,2,8.0171,2,-999,9,-999,9
49UF20170228,KS17-02,5047,1,32,25266,3,20170306,0825,30.0027,147.472,6169,103.0,102,18.3052,34.8670,2,34.8657,6,227.30,2,2.62,2,1.49,2,0.23,2,0.11,2,2022.1,2,2290.1,2,8.0143,2,-999,9,-999,9
49UF20170228,KS17-02,5047,1,31,25265,2,20170306,0823,30.0027,147.472,6169,128.2,127,18.1172,34.8538,2,-999.0000,9,227.64,2,2.66,2,1.70,2,0.21,2,0.13,2,2019.5,2,2290.1,2,8.0093,2,-999,9,-999,9
49UF20170228,KS17-02,5047,1,30,25264,2,20170306,0822,30.0027,147.472,6169,154.9,154,18.0933,34.8529,2,-999.0000,9,228.14,2,2.65,2,1.70,2,0.19,2,0.12,2,2020.3,2,2288.2,2,8.0087,2,-999,9,-999,9
49UF20170228,KS17-02,5047,1,29,25263,2,20170306,0819,30.0027,147.472,6169,204.7,203,18.0583,34.8529,2,34.8515,2,227.70,2,2.71,2,1.82,2,0.11,2,0.13,2,2026.5,2,2288.8,2,8.0053,2,-999,9,-999,9
49UF20170228,KS17-02,5047,1,28,25262,2,20170306,0817,30.0027,147.472,6169,255.7,254,18.0351,34.8522,2,-999.0000,9,227.58,2,2.73,2,1.84,2,0.10,2,0.13,2,2025.0,2,2288.2,2,8.0053,2,-999,9,-999,9
49UF20170228,KS17-02,5047,1,27,25261,2,20170306,0815,30.0027,147.472,6169,304.6,302,17.8885,34.8370,2,-999.0000,9,224.11,6,3.01,6,2.30,6,0.05,6,0.16,6,2025.0,2,2287.4,2,7.9993,2,-999,9,-999,9
49UF20170228,KS17-02,5047,1,26,25260,2,20170306,0812,30.0027,147.472,6169,406.3,403,15.7641,34.6218,2,34.6237,2,195.52,2,8.16,2,7.99,2,0.01,2,0.53,2,2065.9,2,2277.8,2,7.9056,2,-999,9,-999,9
49UF20170228,KS17-02,5047,1,25,25259,2,20170306,0809,30.0027,147.472,6169,505.6,502,12.9622,34.3983,2,34.4003,6,193.64,2,14.84,2,12.47,2,0.00,2,0.86,2,2097.8,2,2271.0,2,7.8282,2,-999,9,-999,9
49UF20170228,KS17-02,5047,1,24,25258,2,20170306,0805,30.0027,147.472,6169,607.7,603,10.0330,34.1878,2,34.1883,2,180.06,2,26.15,2,18.79,2,0.00,2,1.31,2,2139.1,2,2271.2,2,7.7236,2,-999,9,-999,9
49UF20170228,KS17-02,5047,1,23,25257,2,20170306,0802,30.0027,147.472,6169,709.5,703,7.7635,34.0819,2,34.0829,6,150.52,2,44.76,2,25.57,2,0.00,2,1.82,2,2197.1,2,2283.0,2,7.6135,2,-999,9,-999,9
49UF20170228,KS17-02,5047,1,22,25256,3,20170306,0759,30.0027,147.472,6169,810.4,803,6.0067,34.0412,2,34.0414,6,121.20,2,64.41,2,31.27,2,0.00,2,2.26,2,2237.6,2,2294.7,2,7.5200,2,-999,9,-999,9
49UF20170228,KS17-02,5047,1,21,25255,3,20170306,0756,30.0027,147.472,6169,911.3,903,4.8379,34.1246,2,34.1250,2,79.27,2,88.37,2,36.96,2,0.00,2,2.66,2,2289.4,6,2319.5,6,7.4268,2,-999,9,-999,9
49UF20170228,KS17-02,5047,1,20,24270,2,20170306,0753,30.0027,147.472,6169,1012.3,1003,4.2129,34.2179,2,34.2165,6,54.53,2,105.84,2,40.03,2,0.00,2,2.86,2,2320.7,2,2337.7,2,7.3853,6,-999,9,-999,9
49UF20170228,KS17-02,5047,1,19,25253,2,20170306,0748,30.0027,147.472,6169,1214.0,1202,3.4126,34.3615,2,34.3609,2,39.31,2,128.80,2,42.09,2,0.00,2,3.01,2,2356.3,2,2366.3,2,7.3690,2,-999,9,-999,9
49UF20170228,KS17-02,5047,1,18,25252,2,20170306,0743,30.0027,147.472,6169,1417.5,1403,2.8461,34.4422,2,34.4421,6,36.94,2,145.51,2,42.93,2,0.00,2,3.05,2,2377.6,2,2385.5,2,7.3670,2,-999,9,-999,9
49UF20170228,KS17-02,5047,1,17,25251,2,20170306,0738,30.0027,147.472,6169,1621.7,1604,2.4925,34.5160,2,34.5132,2,50.72,2,151.95,2,42.19,2,0.00,2,2.99,2,2376.0,2,2396.7,2,7.3993,2,-999,9,-999,9
49UF20170228,KS17-02,5047,1,16,25250,3,20170306,0734,30.0027,147.472,6169,1822.9,1803,2.1907,34.5610,2,34.5594,2,63.02,2,157.98,2,41.67,2,0.00,2,2.94,2,2378.7,2,2404.9,2,7.4228,2,-999,9,-999,9
49UF20170228,KS17-02,5047,1,15,25249,3,20170306,0729,30.0027,147.472,6169,2026.5,2003,2.0309,34.5918,2,34.5910,2,82.31,2,155.91,2,40.26,2,0.00,2,2.84,2,2369.4,2,2409.4,2,7.4613,2,-999,9,-999,9
49UF20170228,KS17-02,5047,1,14,25248,2,20170306,0724,30.0027,147.472,6169,2281.9,2254,1.8479,34.6201,2,34.6198,6,100.01,6,155.10,6,39.25,6,0.00,6,2.76,6,2357.3,2,2410.5,2,7.4948,2,-999,9,-999,9
49UF20170228,KS17-02,5047,1,13,25247,2,20170306,0717,30.0027,147.472,6169,2536.7,2504,1.7481,34.6368,2,34.6367,2,111.45,2,154.28,2,38.54,2,0.00,2,2.70,2,2351.4,6,2414.9,6,7.5192,2,-999,9,-999,9
49UF20170228,KS17-02,5047,1,12,25246,3,20170306,0711,30.0027,147.472,6169,2791.6,2754,1.6626,34.6502,2,34.6507,2,122.18,2,153.29,2,37.96,2,0.00,2,2.65,2,2345.5,2,2415.3,2,7.5374,6,-999,9,-999,9
49UF20170228,KS17-02,5047,1,11,25245,2,20170306,0705,30.0027,147.472,6169,3046.3,3004,1.6069,34.6595,2,34.6600,6,129.68,2,151.93,2,37.37,2,0.00,2,2.61,2,2343.8,2,2415.9,2,7.5498,2,-999,9,-999,9
49UF20170228,KS17-02,5047,1,10,25244,2,20170306,0700,30.0027,147.472,6169,3299.3,3251,1.5672,34.6661,2,34.6675,2,135.39,2,151.51,2,37.01,2,0.00,2,2.58,2,2346.7,3,2416.8,2,7.5612,2,-999,9,-999,9
49UF20170228,KS17-02,5047,1,9,25243,2,20170306,0655,30.0027,147.472,6169,3555.4,3502,1.5403,34.6709,2,34.6712,6,139.30,2,150.88,2,36.84,2,0.00,2,2.56,2,2336.8,2,2416.3,2,7.5661,2,-999,9,-999,9
49UF20170228,KS17-02,5047,1,8,25242,2,20170306,0649,30.0027,147.472,6169,3810.0,3750,1.5198,34.6755,2,34.6756,2,144.02,6,149.61,6,36.52,6,0.00,6,2.54,6,2331.0,2,2415.6,2,7.5754,2,-999,9,-999,9
49UF20170228,KS17-02,5047,1,7,25241,3,20170306,0644,30.0027,147.472,6169,4066.3,4000,1.5084,34.6792,2,34.6797,2,148.43,2,148.82,2,36.28,2,0.00,2,2.51,2,2328.0,6,2414.8,6,7.5816,2,-999,9,-999,9
49UF20170228,KS17-02,5047,1,6,25240,2,20170306,0634,30.0027,147.472,6169,4580.4,4501,1.5009,34.6854,2,34.6864,2,156.20,2,146.13,2,35.66,2,0.00,2,2.47,2,2319.9,2,2414.4,2,7.5929,6,-999,9,-999,9
49UF20170228,KS17-02,5047,1,5,25239,2,20170306,0623,30.0027,147.472,6169,5093.6,4999,1.5270,34.6887,2,34.6882,2,160.10,3,143.79,2,35.42,2,0.00,2,2.45,2,2317.2,2,2412.3,2,7.5983,2,-999,9,-999,9
49UF20170228,KS17-02,5047,1,4,25238,2,20170306,0618,30.0027,147.472,6169,5351.8,5250,1.5437,34.6903,2,34.6910,6,163.87,2,142.26,2,35.16,2,0.00,2,2.43,2,2313.3,2,2410.2,2,7.5993,2,-999,9,-999,9
49UF20170228,KS17-02,5047,1,3,25237,2,20170306,0613,30.0027,147.472,6169,5609.3,5499,1.5679,34.6912,2,34.6905,2,164.33,3,141.15,2,35.05,2,0.00,2,2.43,2,2315.5,2,2410.3,2,7.6049,2,-999,9,-999,9
49UF20170228,KS17-02,5047,1,2,25236,2,20170306,0608,30.0027,147.472,6169,5869.4,5751,1.5932,34.6922,2,34.6916,2,167.30,2,139.29,2,34.87,2,0.00,2,2.41,2,2314.0,2,2409.2,2,7.6080,2,-999,9,-999,9
49UF20170228,KS17-02,5047,1,1,25235,2,20170306,0602,30.0027,147.472,6169,6127.8,6001,1.6187,34.6931,2,34.6928,2,169.25,2,137.27,2,34.75,2,0.00,2,2.40,2,2310.2,2,2406.3,2,7.6094,2,-999,9,-999,9
49UF20170228,KS17-02,5049,1,-999,0,2,20170307,0302,31.004,147.7083,6082,0.0,0,18.3820,34.8967,2,-999.,9,232.96,2,2.46,2,0.77,2,0.11,2,0.09,2,-999.,9,-999.,9,-999.,9,-999,9,-999,9
49UF20170228,KS17-02,5049,1,36,25270,2,20170307,0328,31.004,147.7083,6082,10.7,11,18.3814,34.8968,2,-999.,9,233.61,3,2.45,2,0.76,2,0.10,2,0.08,2,-999.,9,-999.,9,-999.,9,-999,9,-999,9
49UF20170228,KS17-02,5049,1,35,25269,2,20170307,0327,31.004,147.7083,6082,25.6,25,18.3264,34.8948,2,-999.,9,232.01,2,2.48,2,0.95,2,0.15,2,0.09,2,-999.,9,-999.,9,-999.,9,-999,9,-999,9
49UF20170228,KS17-02,5049,1,34,25268,2,20170307,0326,31.004,147.7083,6082,51.8,51,18.3395,34.8946,2,-999.,9,232.20,6,2.47,6,0.93,6,0.14,6,0.09,6,-999.,9,-999.,9,-999.,9,-999,9,-999,9
49UF20170228,KS17-02,5049,1,33,25267,2,20170307,0325,31.004,147.7083,6082,75.3,75,18.2827,34.8905,2,-999.,9,232.09,2,2.50,2,0.99,2,0.15,2,0.09,2,-999.,9,-999.,9,-999.,9,-999,9,-999,9
49UF20170228,KS17-02,5049,1,32,25266,2,20170307,0323,31.004,147.7083,6082,101.1,100,18.1796,34.8781,2,-999.,9,229.96,2,2.56,2,1.36,2,0.22,2,0.11,2,-999.,9,-999.,9,-999.,9,-999,9,-999,9
49UF20170228,KS17-02,5049,1,31,25265,2,20170307,0322,31.004,147.7083,6082,126.8,126,18.1393,34.8751,2,-999.,9,228.91,2,2.61,2,1.49,2,0.26,2,0.12,2,-999.,9,-999.,9,-999.,9,-999,9,-999,9
49UF20170228,KS17-02,5049,1,27,25261,2,20170307,0320,31.004,147.7083,6082,153.8,153,18.0758,34.8645,2,-999.,9,225.44,3,2.77,2,1.93,2,0.17,2,0.14,2,-999.,9,-999.,9,-999.,9,-999,9,-999,9
49UF20170228,KS17-02,5049,1,26,25260,3,20170307,0319,31.004,147.7083,6082,203.8,202,17.5974,34.7902,2,-999.,9,210.35,2,3.94,2,4.01,2,0.03,2,0.27,2,-999.,9,-999.,9,-999.,9,-999,9,-999,9
49UF20170228,KS17-02,5049,1,25,25259,2,20170307,0317,31.004,147.7083,6082,256.0,254,16.9910,34.7275,2,-999.,9,202.66,6,5.15,6,5.62,6,0.01,6,0.37,6,-999.,9,-999.,9,-999.,9,-999,9,-999,9
49UF20170228,KS17-02,5049,1,24,25258,3,20170307,0316,31.004,147.7083,6082,304.4,302,16.4208,34.6798,2,-999.,9,200.53,2,6.34,2,6.68,2,0.01,2,0.44,2,-999.,9,-999.,9,-999.,9,-999,9,-999,9
49UF20170228,KS17-02,5049,1,22,25256,2,20170307,0313,31.004,147.7083,6082,406.7,404,14.6262,34.5380,2,-999.,9,187.99,2,12.18,2,10.60,2,0.01,2,0.72,2,-999.,9,-999.,9,-999.,9,-999,9,-999,9
49UF20170228,KS17-02,5049,1,23,25257,2,20170307,0313,31.004,147.7083,6082,407.4,404,14.5979,34.5361,2,-999.,9,187.23,2,12.28,2,10.66,2,0.01,2,0.72,2,-999.,9,-999.,9,-999.,9,-999,9,-999,9
49UF20170228,KS17-02,5049,1,18,25252,2,20170307,0310,31.004,147.7083,6082,509.2,505,12.0841,34.3759,2,-999.,9,168.65,2,23.74,2,16.47,2,0.00,2,1.15,2,-999.,9,-999.,9,-999.,9,-999,9,-999,9
49UF20170228,KS17-02,5049,1,17,25251,2,20170307,0308,31.004,147.7083,6082,606.9,602,9.4434,34.1605,2,-999.,9,175.58,2,33.46,2,20.19,2,0.00,2,1.45,2,-999.,9,-999.,9,-999.,9,-999,9,-999,9
49UF20170228,KS17-02,5049,1,16,25250,2,20170307,0305,31.004,147.7083,6082,708.3,702,6.3292,34.0178,2,-999.,9,136.76,2,58.45,2,29.52,2,0.00,2,2.13,2,-999.,9,-999.,9,-999.,9,-999,9,-999,9
49UF20170228,KS17-02,5049,1,15,25249,2,20170307,0303,31.004,147.7083,6082,809.1,802,5.0386,34.0701,2,-999.,9,93.86,2,81.54,2,35.84,2,0.00,2,2.58,2,-999.,9,-999.,9,-999.,9,-999,9,-999,9
49UF20170228,KS17-02,5049,1,13,25247,2,20170307,0300,31.004,147.7083,6082,912.0,904,4.4615,34.1657,2,-999.,9,66.42,2,98.74,2,38.83,2,0.00,2,2.79,2,-999.,9,-999.,9,-999.,9,-999,9,-999,9
49UF20170228,KS17-02,5049,1,14,25248,2,20170307,0300,31.004,147.7083,6082,913.7,905,4.4578,34.1665,2,-999.,9,66.41,2,98.80,2,38.87,2,0.00,2,2.79,2,-999.,9,-999.,9,-999.,9,-999,9,-999,9
49UF20170228,KS17-02,5049,1,9,25243,2,20170307,0257,31.004,147.7083,6082,1010.8,1001,3.9659,34.2492,2,-999.,9,48.09,2,113.07,2,40.89,2,0.00,2,2.93,2,-999.,9,-999.,9,-999.,9,-999,9,-999,9
49UF20170228,KS17-02,5049,1,8,25242,2,20170307,0253,31.004,147.7083,6082,1213.0,1201,3.2837,34.3682,2,-999.,9,35.04,2,132.47,2,42.84,2,0.00,2,3.05,2,-999.,9,-999.,9,-999.,9,-999,9,-999,9
49UF20170228,KS17-02,5049,1,7,25241,2,20170307,0249,31.004,147.7083,6082,1417.8,1403,2.7698,34.4537,2,-999.,9,38.41,2,146.50,2,43.02,2,0.00,2,3.06,2,-999.,9,-999.,9,-999.,9,-999,9,-999,9
49UF20170228,KS17-02,5049,1,6,25240,2,20170307,0245,31.004,147.7083,6082,1620.4,1603,2.4640,34.5025,2,-999.,9,43.56,2,154.95,2,42.93,2,0.00,2,3.05,2,-999.,9,-999.,9,-999.,9,-999,9,-999,9
49UF20170228,KS17-02,5049,1,5,25239,2,20170307,0241,31.004,147.7083,6082,1821.6,1801,2.2092,34.5514,2,-999.,9,55.95,2,160.05,2,42.37,2,0.00,2,2.98,2,-999.,9,-999.,9,-999.,9,-999,9,-999,9
49UF20170228,KS17-02,5049,1,4,25238,2,20170307,0236,31.004,147.7083,6082,2025.7,2002,2.0032,34.5886,2,-999.,9,73.14,2,161.92,2,41.31,2,0.00,2,2.90,2,-999.,9,-999.,9,-999.,9,-999,9,-999,9
49UF20170228,KS17-02,5051,1,-999,0,2,20170307,1135,32.0015,147.9248,5688,0.0,0,17.5249,34.8261,2,34.8336,2,231.98,2,3.25,2,2.39,2,0.09,2,0.18,2,2023.1,2,2288.2,2,7.9980,2,-999,9,-999,9
49UF20170228,KS17-02,5051,1,36,25270,2,20170307,1211,32.0015,147.9248,5688,12.0,12,17.5273,34.8262,2,34.8248,2,232.06,2,3.22,2,2.37,2,0.09,2,0.17,2,2023.4,2,2287.8,2,7.9980,2,-999,9,-999,9
49UF20170228,KS17-02,5051,1,35,25269,2,20170307,1210,32.0015,147.9248,5688,27.3,27,17.5327,34.8260,2,-999.0000,9,232.06,2,3.23,2,2.36,2,0.09,2,0.17,2,2022.6,2,2286.6,2,7.9993,2,-999,9,-999,9
49UF20170228,KS17-02,5051,1,34,25268,2,20170307,1209,32.0015,147.9248,5688,53.3,53,17.5315,34.8264,2,-999.0000,9,232.02,2,3.22,2,2.37,2,0.09,2,0.17,2,2021.7,2,2287.4,2,7.9988,2,-999,9,-999,9
49UF20170228,KS17-02,5051,1,33,25267,2,20170307,1207,32.0015,147.9248,5688,77.6,77,17.5411,34.8261,2,-999.0000,9,231.57,6,3.23,6,2.39,6,0.09,6,0.18,6,2022.2,2,2287.5,2,7.9978,2,-999,9,-999,9
49UF20170228,KS17-02,5051,1,32,25266,2,20170307,1206,32.0015,147.9248,5688,103.5,103,17.5397,34.8265,2,34.8250,2,230.77,2,3.27,2,2.47,2,0.09,2,0.18,2,2023.4,2,2287.8,2,7.9959,2,-999,9,-999,9
49UF20170228,KS17-02,5051,1,31,25265,2,20170307,1205,32.0015,147.9248,5688,128.8,128,17.5416,34.8265,2,-999.0000,9,230.72,2,3.28,2,2.48,2,0.09,2,0.18,2,2023.6,2,2288.0,2,7.9980,2,-999,9,-999,9
49UF20170228,KS17-02,5051,1,27,25261,2,20170307,1203,32.0015,147.9248,5688,154.4,153,17.5254,34.8270,2,-999.0000,9,229.45,2,3.33,2,2.55,2,0.10,2,0.18,2,2025.4,2,2287.5,2,7.9967,2,-999,9,-999,9
49UF20170228,KS17-02,5051,1,26,25260,2,20170307,1159,32.0015,147.9248,5688,203.9,202,17.5094,34.8268,2,34.8253,2,229.78,2,3.35,2,2.61,2,0.09,2,0.19,2,2025.2,2,2287.2,2,7.9984,2,-999,9,-999,9
49UF20170228,KS17-02,5051,1,25,25259,2,20170307,1157,32.0015,147.9248,5688,253.4,251,17.5067,34.8257,2,-999.0000,9,229.06,2,3.32,2,2.61,2,0.11,2,0.19,2,2029.4,2,2287.9,2,7.9963,2,-999,9,-999,9
49UF20170228,KS17-02,5051,1,23,25257,2,20170307,1155,32.0015,147.9248,5688,302.9,301,17.4631,34.8215,2,34.8206,2,229.20,2,3.19,2,2.57,2,0.11,2,0.19,2,2028.3,2,2288.0,2,7.9918,2,-999,9,-999,9
49UF20170228,KS17-02,5051,1,24,25258,2,20170307,1155,32.0015,147.9248,5688,303.2,301,17.4627,34.8216,2,34.8214,2,229.12,2,3.20,2,2.57,2,0.11,2,0.18,2,2028.5,2,2287.4,2,7.9943,2,-999,9,-999,9
49UF20170228,KS17-02,5051,1,22,25256,2,20170307,1152,32.0015,147.9248,5688,405.5,402,15.2064,34.5779,2,34.5767,2,192.12,2,9.95,2,9.26,2,0.02,2,0.62,2,2073.1,2,2276.1,2,7.8839,2,-999,9,-999,9
49UF20170228,KS17-02,5051,1,18,25252,2,20170307,1149,32.0015,147.9248,5688,506.4,502,12.8382,34.4145,2,34.4142,2,180.04,2,19.02,2,14.23,2,0.02,2,0.98,2,2108.3,6,2275.6,6,7.8070,2,-999,9,-999,9
49UF20170228,KS17-02,5051,1,17,25251,2,20170307,1146,32.0015,147.9248,5688,606.3,601,9.3636,34.1524,2,34.1530,2,175.29,2,33.61,2,20.27,2,0.02,2,1.45,2,2154.5,2,2278.2,2,7.7008,6,-999,9,-999,9
49UF20170228,KS17-02,5051,1,16,25250,3,20170307,1143,32.0015,147.9248,5688,706.3,700,6.8651,34.0578,2,34.0589,2,141.28,2,56.11,2,27.94,2,0.02,2,2.02,2,2211.8,2,2290.5,2,7.5768,2,-999,9,-999,9
49UF20170228,KS17-02,5051,1,14,25248,2,20170307,1140,32.0015,147.9248,5688,810.9,804,5.5116,34.0741,2,34.0738,2,106.67,3,75.25,2,33.53,2,0.01,2,2.42,2,2259.5,2,2304.9,2,7.4819,2,-999,9,-999,9
49UF20170228,KS17-02,5051,1,15,25249,2,20170307,1140,32.0015,147.9248,5688,812.5,805,5.4961,34.0759,2,34.0738,2,106.27,2,75.40,2,33.46,2,0.02,2,2.41,2,2258.4,2,2305.0,2,7.4822,2,-999,9,-999,9
49UF20170228,KS17-02,5051,1,13,25247,2,20170307,1137,32.0015,147.9248,5688,910.1,902,4.5249,34.1700,2,34.1675,2,70.02,2,97.45,2,38.35,2,0.01,2,2.75,2,2302.0,2,2325.9,2,7.4090,2,-999,9,-999,9
49UF20170228,KS17-02,5051,1,9,25243,2,20170307,1134,32.0015,147.9248,5688,1013.6,1004,4.0066,34.2486,2,34.2480,2,52.43,2,112.13,2,40.46,2,0.01,2,2.89,2,2329.1,2,2344.2,2,7.3820,2,-999,9,-999,9
49UF20170228,KS17-02,5051,1,8,25242,2,20170307,1129,32.0015,147.9248,5688,1213.6,1202,3.2737,34.3669,2,34.3672,6,40.47,2,132.69,2,42.16,2,0.01,2,3.01,2,2357.2,2,2369.0,2,7.3707,2,-999,9,-999,9
49UF20170228,KS17-02,5051,1,7,25241,2,20170307,1124,32.0015,147.9248,5688,1415.3,1401,2.7974,34.4480,2,34.4470,2,38.81,2,146.27,2,42.79,2,0.02,2,3.05,2,2372.4,6,2385.8,6,7.3657,2,-999,9,-999,9
49UF20170228,KS17-02,5051,1,6,25240,2,20170307,1119,32.0015,147.9248,5688,1618.6,1601,2.4608,34.5060,2,34.5065,2,45.90,2,154.71,2,42.61,2,0.01,2,3.03,2,2377.0,2,2396.8,2,7.3864,6,-999,9,-999,9
49UF20170228,KS17-02,5051,1,5,25239,2,20170307,1114,32.0015,147.9248,5688,1822.3,1802,2.2131,34.5508,2,34.5509,6,58.05,2,159.07,2,42.00,2,0.01,2,2.97,2,2376.5,2,2403.5,2,7.4140,2,-999,9,-999,9
49UF20170228,KS17-02,5051,1,4,25238,2,20170307,1109,32.0015,147.9248,5688,2026.3,2002,2.0049,34.5870,2,34.5873,2,74.18,6,160.74,6,40.99,6,0.01,6,2.90,6,2371.8,2,2409.8,2,7.4447,2,-999,9,-999,9