BOTTLE,20171210JMAGEMD
EXPOCODE,SECT_ID,STNNBR,CASTNO,SAMPNO,BTLNBR,BTLNBR_FLAG_W,DATE,TIME,LATITUDE,LONGITUDE,DEPTH,CTDPRS,CTDDEP,CTDTMP,CTDSAL,CTDSAL_FLAG_W,SALNTY,SALNTY_FLAG_W,OXYGEN,OXYGEN_FLAG_W,SILCAT,SILCAT_FLAG_W,NO2+NO3,NO2+NO3_FLAG_W,NITRIT,NITRIT_FLAG_W,PHSPHT,PHSPHT_FLAG_W,TCARBN,TCARBN_FLAG_W,ALKALI,ALKALI_FLAG_W,PH_TOT,PH_TOT_FLAG_W,CFC-11,CFC-11_FLAG_W,CFC-12,CFC-12_FLAG_W
,,,,,,,UTC,UTC,,,METER,DBAR,METERS,ITS-90,PSS-78,,PSS-78,,UMOL/KG,,UMOL/KG,,UMOL/KG,,UMOL/KG,,UMOL/KG,,UMOL/KG,,UMOL/KG,,@25DEG-C,,PMOL/KG,,PMOL/KG,
49UF20160407,KS16-04,4749,1,-999,0,2,20160414,2128,23.9888,131.0422,3474,0.0,0,24.8498,35.0175,2,-999.0000,9,210.08,2,1.10,2,0.00,2,0.00,2,0.01,2,-999.,9,-999.,9,-999.,9,-999,9,-999,9
49UF20160407,KS16-04,4749,1,36,25270,2,20160414,2146,23.9888,131.0422,3474,12.1,12,24.8471,35.0174,2,35.0178,6,210.23,2,1.05,2,0.00,2,0.00,2,0.00,2,-999.,9,-999.,9,-999.,9,-999,9,-999,9
49UF20160407,KS16-04,4749,1,35,25269,2,20160414,2144,23.9888,131.0422,3474,27.2,27,24.6052,35.0179,2,-999.0000,9,210.71,2,1.01,2,0.00,2,0.00,2,0.00,2,-999.,9,-999.,9,-999.,9,-999,9,-999,9
49UF20160407,KS16-04,4749,1,34,25268,2,20160414,2140,23.9888,131.0422,3474,53.5,53,23.8440,35.0236,2,-999.0000,9,212.70,2,1.07,2,0.00,2,0.00,2,0.01,2,-999.,9,-999.,9,-999.,9,-999,9,-999,9
49UF20160407,KS16-04,4749,1,30,25264,2,20160414,2139,23.9888,131.0422,3474,77.7,77,23.7819,35.0201,2,-999.0000,9,210.88,2,1.03,2,0.00,2,0.00,2,0.01,2,-999.,9,-999.,9,-999.,9,-999,9,-999,9
49UF20160407,KS16-04,4749,1,29,25263,2,20160414,2138,23.9888,131.0422,3474,107.4,107,23.7481,35.0249,2,35.0247,2,209.78,2,1.05,2,0.00,2,0.01,2,0.02,2,-999.,9,-999.,9,-999.,9,-999,9,-999,9
49UF20160407,KS16-04,4749,1,28,25262,2,20160414,2137,23.9888,131.0422,3474,131.4,131,23.7061,35.0195,2,-999.0000,9,208.26,2,1.01,2,0.04,2,0.07,2,0.01,2,-999.,9,-999.,9,-999.,9,-999,9,-999,9
49UF20160407,KS16-04,4749,1,24,25258,2,20160414,2136,23.9888,131.0422,3474,154.1,153,23.6539,35.0211,2,-999.0000,9,210.26,2,1.05,2,0.00,2,0.02,2,0.01,2,-999.,9,-999.,9,-999.,9,-999,9,-999,9
49UF20160407,KS16-04,4749,1,23,25257,2,20160414,2134,23.9888,131.0422,3474,205.2,204,22.5405,34.9821,2,34.9829,2,202.67,2,1.32,2,0.58,2,0.04,2,0.05,2,-999.,9,-999.,9,-999.,9,-999,9,-999,9
49UF20160407,KS16-04,4749,1,22,25256,2,20160414,2133,23.9888,131.0422,3474,258.6,257,20.8167,34.8958,2,-999.0000,9,211.55,2,1.64,2,0.69,2,0.01,2,0.06,2,-999.,9,-999.,9,-999.,9,-999,9,-999,9
49UF20160407,KS16-04,4749,1,18,25252,2,20160414,2131,23.9888,131.0422,3474,303.7,302,18.5272,34.8205,2,-999.0000,9,199.72,2,2.97,2,3.44,2,0.01,2,0.23,2,-999.,9,-999.,9,-999.,9,-999,9,-999,9
49UF20160407,KS16-04,4749,1,17,25251,2,20160414,2128,23.9888,131.0422,3474,405.1,402,16.6157,34.6755,2,34.6758,2,197.93,2,5.47,2,6.34,2,0.00,2,0.41,2,-999.,9,-999.,9,-999.,9,-999,9,-999,9
49UF20160407,KS16-04,4749,1,16,25250,2,20160414,2126,23.9888,131.0422,3474,506.0,502,14.2159,34.4848,2,34.4910,2,185.81,2,11.57,2,11.16,2,0.00,2,0.76,2,-999.,9,-999.,9,-999.,9,-999,9,-999,9
49UF20160407,KS16-04,4749,1,15,25249,2,20160414,2123,23.9888,131.0422,3474,608.7,604,10.0712,34.2261,2,34.2272,2,159.04,6,29.38,6,20.66,6,0.00,6,1.45,6,-999.,9,-999.,9,-999.,9,-999,9,-999,9
49UF20160407,KS16-04,4749,1,14,25248,2,20160414,2121,23.9888,131.0422,3474,707.6,702,7.6647,34.1717,2,-999.0000,9,122.18,2,52.43,2,28.36,2,0.00,2,2.02,2,-999.,9,-999.,9,-999.,9,-999,9,-999,9
49UF20160407,KS16-04,4749,1,13,25247,2,20160414,2121,23.9888,131.0422,3474,708.0,702,7.6644,34.1708,2,-999.0000,9,122.03,2,52.46,2,28.42,2,0.00,2,2.02,2,-999.,9,-999.,9,-999.,9,-999,9,-999,9
49UF20160407,KS16-04,4749,1,12,25246,2,20160414,2118,23.9888,131.0422,3474,809.0,802,5.9120,34.1722,2,34.1868,4,82.10,2,73.00,2,35.10,2,0.00,2,2.51,2,-999.,9,-999.,9,-999.,9,-999,9,-999,9
49UF20160407,KS16-04,4749,1,11,25245,2,20160414,2116,23.9888,131.0422,3474,911.4,904,5.1694,34.2477,2,-999.0000,9,64.77,2,87.05,2,37.90,2,0.00,2,2.71,2,-999.,9,-999.,9,-999.,9,-999,9,-999,9
49UF20160407,KS16-04,4749,1,10,25244,2,20160414,2113,23.9888,131.0422,3474,1010.9,1002,4.4281,34.3242,2,34.3249,6,62.51,2,103.75,2,39.12,2,0.00,2,2.78,2,-999.,9,-999.,9,-999.,9,-999,9,-999,9
49UF20160407,KS16-04,4749,1,6,25240,2,20160414,2109,23.9888,131.0422,3474,1214.0,1203,3.5066,34.4467,2,34.4470,2,68.88,2,123.44,2,39.79,2,0.00,2,2.81,2,-999.,9,-999.,9,-999.,9,-999,9,-999,9
49UF20160407,KS16-04,4749,1,5,25239,2,20160414,2104,23.9888,131.0422,3474,1416.5,1403,2.8400,34.5064,2,34.5064,2,75.78,2,135.17,2,40.00,2,0.00,2,2.82,2,-999.,9,-999.,9,-999.,9,-999,9,-999,9
49UF20160407,KS16-04,4749,1,4,25238,2,20160414,2100,23.9888,131.0422,3474,1618.9,1602,2.5145,34.5460,2,34.5464,2,87.56,2,139.46,2,39.60,2,0.00,2,2.78,2,-999.,9,-999.,9,-999.,9,-999,9,-999,9
49UF20160407,KS16-04,4749,1,3,25237,2,20160414,2055,23.9888,131.0422,3474,1823.2,1804,2.3003,34.5854,2,34.5853,2,101.37,6,140.10,6,38.81,6,0.00,6,2.72,6,-999.,9,-999.,9,-999.,9,-999,9,-999,9
49UF20160407,KS16-04,4749,1,1,25235,2,20160414,2051,23.9888,131.0422,3474,2024.1,2002,2.0731,34.6061,2,34.6065,2,110.63,2,142.05,2,38.36,2,0.00,2,2.68,2,-999.,9,-999.,9,-999.,9,-999,9,-999,9
49UF20160407,KS16-04,4749,1,2,25236,2,20160414,2051,23.9888,131.0422,3474,2024.7,2002,2.0732,34.6062,2,34.6075,2,110.62,2,141.98,2,38.33,2,0.00,2,2.68,2,-999.,9,-999.,9,-999.,9,-999,9,-999,9
49UF20160407,KS16-04,4752,1,-999,0,2,20160415,0750,24.6645,130.0057,4194,0.0,0,23.4190,34.8106,2,34.8209,2,217.78,2,1.34,2,0.01,2,0.00,2,0.01,2,1984.4,2,2285.6,2,8.0506,2,-999,9,-999,9
49UF20160407,KS16-04,4752,1,36,25270,2,20160415,0816,24.6645,130.0057,4194,11.7,12,23.2223,34.7892,2,34.8080,4,219.55,2,1.34,2,0.02,2,0.00,2,0.00,2,1988.1,2,2283.9,2,8.0506,2,-999,9,-999,9
49UF20160407,KS16-04,4752,1,35,25269,2,20160415,0815,24.6645,130.0057,4194,28.2,28,20.6174,34.9094,2,-999.0000,9,230.78,2,1.56,2,0.01,2,0.00,2,0.00,2,1993.9,2,2289.6,2,8.0438,2,-999,9,-999,9
49UF20160407,KS16-04,4752,1,34,25268,2,20160415,0811,24.6645,130.0057,4194,51.1,51,19.8528,34.9092,2,34.9112,2,228.03,2,1.65,2,0.01,2,0.00,2,0.01,2,2000.6,2,2291.3,2,8.0410,2,-999,9,-999,9
49UF20160407,KS16-04,4752,1,30,25264,2,20160415,0810,24.6645,130.0057,4194,76.3,76,19.6938,34.9041,2,-999.0000,9,227.59,2,1.70,2,0.05,2,0.02,2,0.02,2,2008.5,2,2291.0,2,8.0344,2,-999,9,-999,9
49UF20160407,KS16-04,4752,1,29,25263,2,20160415,0809,24.6645,130.0057,4194,103.1,102,19.0744,34.8381,2,34.8370,6,198.85,2,2.76,2,3.11,2,0.02,2,0.20,2,2027.2,2,2284.2,2,7.9777,2,-999,9,-999,9
49UF20160407,KS16-04,4752,1,28,25262,2,20160415,0807,24.6645,130.0057,4194,126.7,126,18.5907,34.8159,2,-999.0000,9,199.28,2,3.07,2,3.56,2,0.02,2,0.23,2,2031.5,2,2283.3,2,7.9719,2,-999,9,-999,9
49UF20160407,KS16-04,4752,1,24,25258,2,20160415,0806,24.6645,130.0057,4194,153.2,152,18.1147,34.7914,2,-999.0000,9,199.86,2,3.31,2,3.99,2,0.01,2,0.25,2,2040.7,2,2282.3,2,7.9649,2,-999,9,-999,9
49UF20160407,KS16-04,4752,1,23,25257,2,20160415,0804,24.6645,130.0057,4194,202.2,201,17.5109,34.7497,2,34.7475,2,201.76,2,4.02,2,4.69,2,0.01,2,0.30,2,2044.4,2,2278.2,2,7.9519,2,-999,9,-999,9
49UF20160407,KS16-04,4752,1,22,25256,2,20160415,0802,24.6645,130.0057,4194,253.0,251,16.8591,34.7049,2,-999.0000,9,202.38,2,4.93,2,5.65,2,0.01,2,0.36,2,2048.7,2,2277.3,2,7.9387,2,-999,9,-999,9
49UF20160407,KS16-04,4752,1,18,25252,2,20160415,0800,24.6645,130.0057,4194,305.0,303,15.5386,34.6002,2,-999.0000,9,191.44,2,8.80,2,8.69,2,0.01,2,0.57,2,2064.0,6,2275.4,6,7.8909,2,-999,9,-999,9
49UF20160407,KS16-04,4752,1,17,25251,2,20160415,0758,24.6645,130.0057,4194,405.6,403,12.8221,34.4083,2,34.4059,2,177.89,2,18.51,2,14.49,2,0.00,2,0.99,2,2103.3,2,2273.4,2,7.7975,6,-999,9,-999,9
49UF20160407,KS16-04,4752,1,16,25250,2,20160415,0755,24.6645,130.0057,4194,506.0,502,9.9284,34.2464,2,-999.0000,9,148.48,6,32.95,6,21.91,6,0.00,6,1.54,6,2163.4,2,2278.8,2,7.6766,2,-999,9,-999,9
49UF20160407,KS16-04,4752,1,15,25249,2,20160415,0753,24.6645,130.0057,4194,605.8,601,7.9858,34.1858,2,34.1856,2,125.64,2,49.70,2,27.46,2,0.00,2,1.95,2,2205.8,2,2288.9,2,7.5919,3,-999,9,-999,9
49UF20160407,KS16-04,4752,1,14,25248,2,20160415,0753,24.6645,130.0057,4194,606.7,602,7.9670,34.1854,2,34.1850,2,124.98,2,50.51,2,27.64,2,0.00,2,1.96,2,2204.6,2,2290.7,2,7.5866,2,-999,9,-999,9
49UF20160407,KS16-04,4752,1,13,25247,2,20160415,0750,24.6645,130.0057,4194,707.2,701,6.1916,34.1838,2,-999.0000,9,90.60,2,70.46,2,33.82,2,0.00,2,2.41,2,2253.7,2,2307.1,2,7.4879,2,-999,9,-999,9
49UF20160407,KS16-04,4752,1,12,25246,2,20160415,0748,24.6645,130.0057,4194,807.4,801,5.2280,34.2267,2,34.2303,2,77.51,2,87.84,2,36.46,2,0.00,2,2.60,2,2287.3,2,2324.7,2,7.4506,2,-999,9,-999,9
49UF20160407,KS16-04,4752,1,11,25245,2,20160415,0746,24.6645,130.0057,4194,908.7,901,4.5449,34.3218,2,34.3218,2,66.42,2,102.32,2,38.56,2,0.00,2,2.74,2,2308.8,2,2343.3,2,7.4350,2,-999,9,-999,9
49UF20160407,KS16-04,4752,1,10,25244,2,20160415,0743,24.6645,130.0057,4194,1011.1,1002,4.0539,34.3695,2,34.3704,2,63.26,2,112.30,2,39.58,2,0.00,2,2.80,2,2328.7,2,2357.1,2,7.4280,2,-999,9,-999,9
49UF20160407,KS16-04,4752,1,6,25240,2,20160415,0739,24.6645,130.0057,4194,1214.6,1203,3.1519,34.4744,2,34.4744,6,69.92,2,129.87,2,40.14,2,0.00,2,2.83,2,2344.7,6,2379.2,6,7.4408,2,-999,9,-999,9
49UF20160407,KS16-04,4752,1,5,25239,2,20160415,0734,24.6645,130.0057,4194,1416.3,1402,2.6386,34.5197,2,-999.0000,9,78.27,2,138.70,2,40.13,2,0.00,2,2.81,2,2349.0,2,2391.4,2,7.4543,6,-999,9,-999,9
49UF20160407,KS16-04,4752,1,4,25238,2,20160415,0729,24.6645,130.0057,4194,1619.2,1603,2.3335,34.5605,2,34.5604,2,91.41,2,141.93,6,39.43,6,0.00,6,2.76,6,2346.3,2,2398.5,2,7.4794,2,-999,9,-999,9
49UF20160407,KS16-04,4752,1,2,25236,2,20160415,0725,24.6645,130.0057,4194,1821.5,1802,2.1367,34.5897,2,34.5898,2,103.73,2,142.46,2,38.80,2,0.00,2,2.71,2,2340.7,2,2401.9,2,7.5026,2,-999,9,-999,9
49UF20160407,KS16-04,4752,1,3,25237,2,20160415,0725,24.6645,130.0057,4194,1821.7,1802,2.1372,34.5897,2,34.5890,2,103.40,2,142.79,2,38.76,2,0.00,2,2.71,2,2340.8,2,2401.3,2,7.4994,2,-999,9,-999,9
49UF20160407,KS16-04,4752,1,1,25235,2,20160415,0720,24.6645,130.0057,4194,2023.3,2001,1.9558,34.6154,2,34.6185,2,115.60,2,142.82,2,38.14,2,0.00,2,2.66,2,2336.3,2,2406.5,2,7.5225,2,-999,9,-999,9
49UF20160407,KS16-04,4754,1,-999,0,2,20160415,1505,24.9958,129.4978,4075,0.0,0,22.8754,34.7861,2,-999.,9,218.49,2,-999.,9,-999.,9,-999.,9,-999.,9,-999.,9,-999.,9,-999.,9,-999,9,-999,9
49UF20160407,KS16-04,4754,1,36,25270,2,20160415,1535,24.9958,129.4978,4075,12.1,12,22.7803,34.8278,2,-999.,9,219.97,2,-999.,9,-999.,9,-999.,9,-999.,9,-999.,9,-999.,9,-999.,9,-999,9,-999,9
49UF20160407,KS16-04,4754,1,35,25269,2,20160415,1534,24.9958,129.4978,4075,27.6,27,22.1373,34.9259,2,-999.,9,221.59,2,-999.,9,-999.,9,-999.,9,-999.,9,-999.,9,-999.,9,-999.,9,-999,9,-999,9
49UF20160407,KS16-04,4754,1,34,25268,2,20160415,1530,24.9958,129.4978,4075,51.7,51,21.2888,34.9282,2,-999.,9,222.12,2,-999.,9,-999.,9,-999.,9,-999.,9,-999.,9,-999.,9,-999.,9,-999,9,-999,9
49UF20160407,KS16-04,4754,1,30,25264,2,20160415,1528,24.9958,129.4978,4075,77.8,77,20.5909,34.9081,2,-999.,9,212.59,2,-999.,9,-999.,9,-999.,9,-999.,9,-999.,9,-999.,9,-999.,9,-999,9,-999,9
49UF20160407,KS16-04,4754,1,29,25263,2,20160415,1527,24.9958,129.4978,4075,106.3,106,19.8975,34.8860,2,-999.,9,205.50,2,-999.,9,-999.,9,-999.,9,-999.,9,-999.,9,-999.,9,-999.,9,-999,9,-999,9
49UF20160407,KS16-04,4754,1,28,25262,2,20160415,1525,24.9958,129.4978,4075,127.3,126,19.2463,34.8577,2,-999.,9,202.54,2,-999.,9,-999.,9,-999.,9,-999.,9,-999.,9,-999.,9,-999.,9,-999,9,-999,9
49UF20160407,KS16-04,4754,1,24,25258,2,20160415,1524,24.9958,129.4978,4075,154.6,154,18.5058,34.8077,2,-999.,9,199.23,2,-999.,9,-999.,9,-999.,9,-999.,9,-999.,9,-999.,9,-999.,9,-999,9,-999,9
49UF20160407,KS16-04,4754,1,23,25257,2,20160415,1522,24.9958,129.4978,4075,204.6,203,17.1942,34.7309,2,-999.,9,202.62,2,-999.,9,-999.,9,-999.,9,-999.,9,-999.,9,-999.,9,-999.,9,-999,9,-999,9
49UF20160407,KS16-04,4754,1,22,25256,2,20160415,1520,24.9958,129.4978,4075,253.2,251,15.9967,34.6292,2,-999.,9,191.50,2,-999.,9,-999.,9,-999.,9,-999.,9,-999.,9,-999.,9,-999.,9,-999,9,-999,9
49UF20160407,KS16-04,4754,1,18,25252,2,20160415,1517,24.9958,129.4978,4075,304.5,302,15.0698,34.5568,2,-999.,9,185.31,2,-999.,9,-999.,9,-999.,9,-999.,9,-999.,9,-999.,9,-999.,9,-999,9,-999,9
49UF20160407,KS16-04,4754,1,17,25251,2,20160415,1514,24.9958,129.4978,4075,404.9,402,11.6591,34.3301,2,-999.,9,166.51,6,-999.,9,-999.,9,-999.,9,-999.,9,-999.,9,-999.,9,-999.,9,-999,9,-999,9
49UF20160407,KS16-04,4754,1,15,25249,2,20160415,1511,24.9958,129.4978,4075,506.5,503,8.9319,34.2021,2,-999.,9,139.10,2,-999.,9,-999.,9,-999.,9,-999.,9,-999.,9,-999.,9,-999.,9,-999,9,-999,9
49UF20160407,KS16-04,4754,1,16,25250,2,20160415,1511,24.9958,129.4978,4075,508.3,504,8.9027,34.2007,2,-999.,9,139.17,2,-999.,9,-999.,9,-999.,9,-999.,9,-999.,9,-999.,9,-999.,9,-999,9,-999,9
49UF20160407,KS16-04,4754,1,14,25248,2,20160415,1508,24.9958,129.4978,4075,607.4,603,7.0702,34.1776,2,-999.,9,109.76,2,-999.,9,-999.,9,-999.,9,-999.,9,-999.,9,-999.,9,-999.,9,-999,9,-999,9
49UF20160407,KS16-04,4754,1,13,25247,2,20160415,1505,24.9958,129.4978,4075,707.0,701,5.4273,34.1919,2,-999.,9,84.96,2,-999.,9,-999.,9,-999.,9,-999.,9,-999.,9,-999.,9,-999.,9,-999,9,-999,9
49UF20160407,KS16-04,4754,1,12,25246,2,20160415,1502,24.9958,129.4978,4075,807.8,801,4.6670,34.2747,2,-999.,9,67.94,2,-999.,9,-999.,9,-999.,9,-999.,9,-999.,9,-999.,9,-999.,9,-999,9,-999,9
49UF20160407,KS16-04,4754,1,11,25245,2,20160415,1459,24.9958,129.4978,4075,912.6,905,4.2906,34.3561,2,-999.,9,65.59,2,-999.,9,-999.,9,-999.,9,-999.,9,-999.,9,-999.,9,-999.,9,-999,9,-999,9
49UF20160407,KS16-04,4754,1,10,25244,2,20160415,1456,24.9958,129.4978,4075,1013.6,1005,3.7182,34.4015,2,-999.,9,62.53,2,-999.,9,-999.,9,-999.,9,-999.,9,-999.,9,-999.,9,-999.,9,-999,9,-999,9
49UF20160407,KS16-04,4754,1,6,25240,2,20160415,1451,24.9958,129.4978,4075,1212.8,1201,2.9217,34.4807,2,-999.,9,68.60,2,-999.,9,-999.,9,-999.,9,-999.,9,-999.,9,-999.,9,-999.,9,-999,9,-999,9
49UF20160407,KS16-04,4754,1,5,25239,2,20160415,1446,24.9958,129.4978,4075,1414.7,1401,2.5281,34.5384,2,-999.,9,84.50,6,-999.,9,-999.,9,-999.,9,-999.,9,-999.,9,-999.,9,-999.,9,-999,9,-999,9
49UF20160407,KS16-04,4754,1,3,25237,2,20160415,1442,24.9958,129.4978,4075,1620.6,1604,2.2531,34.5752,2,-999.,9,97.57,2,-999.,9,-999.,9,-999.,9,-999.,9,-999.,9,-999.,9,-999.,9,-999,9,-999,9
49UF20160407,KS16-04,4754,1,4,25238,2,20160415,1442,24.9958,129.4978,4075,1622.4,1606,2.2533,34.5751,2,-999.,9,98.20,2,-999.,9,-999.,9,-999.,9,-999.,9,-999.,9,-999.,9,-999.,9,-999,9,-999,9
49UF20160407,KS16-04,4754,1,2,25236,2,20160415,1437,24.9958,129.4978,4075,1823.1,1804,2.0579,34.6016,2,-999.,9,108.90,2,-999.,9,-999.,9,-999.,9,-999.,9,-999.,9,-999.,9,-999.,9,-999,9,-999,9
49UF20160407,KS16-04,4754,1,1,25235,2,20160415,1433,24.9958,129.4978,4075,2025.4,2003,1.9186,34.6218,2,-999.,9,117.91,2,-999.,9,-999.,9,-999.,9,-999.,9,-999.,9,-999.,9,-999.,9,-999,9,-999,9