BOTTLE,20171210JMAGEMD
EXPOCODE,SECT_ID,STNNBR,CASTNO,SAMPNO,BTLNBR,BTLNBR_FLAG_W,DATE,TIME,LATITUDE,LONGITUDE,DEPTH,CTDPRS,CTDDEP,CTDTMP,CTDSAL,CTDSAL_FLAG_W,SALNTY,SALNTY_FLAG_W,OXYGEN,OXYGEN_FLAG_W,SILCAT,SILCAT_FLAG_W,NO2+NO3,NO2+NO3_FLAG_W,NITRIT,NITRIT_FLAG_W,PHSPHT,PHSPHT_FLAG_W,TCARBN,TCARBN_FLAG_W,ALKALI,ALKALI_FLAG_W,PH_TOT,PH_TOT_FLAG_W,CFC-11,CFC-11_FLAG_W,CFC-12,CFC-12_FLAG_W
,,,,,,,UTC,UTC,,,METER,DBAR,METERS,ITS-90,PSS-78,,PSS-78,,UMOL/KG,,UMOL/KG,,UMOL/KG,,UMOL/KG,,UMOL/KG,,UMOL/KG,,UMOL/KG,,@25DEG-C,,PMOL/KG,,PMOL/KG,
49UF20160407,KS16-04,4764,1,-999,0,2,20160417,0423,27.4828,128.247,1034,0.0,0,24.1574,34.8490,2,34.8441,2,211.31,2,1.34,2,0.03,2,0.00,2,0.03,2,1978.2,2,2285.4,2,8.0793,2,-999,9,-999,9
49UF20160407,KS16-04,4764,1,36,25270,2,20160417,0459,27.4828,128.247,1034,10.9,11,24.0554,34.8453,2,34.8455,6,211.00,2,1.31,2,0.03,2,0.00,2,0.02,2,1976.4,2,2287.3,2,8.0771,2,-999,9,-999,9
49UF20160407,KS16-04,4764,1,35,25269,2,20160417,0457,27.4828,128.247,1034,21.9,22,24.0029,34.8456,2,-999.0000,9,211.07,2,1.28,2,0.01,2,0.00,2,0.02,2,1973.6,2,2286.6,2,8.0797,2,-999,9,-999,9
49UF20160407,KS16-04,4764,1,34,25268,2,20160417,0456,27.4828,128.247,1034,32.1,32,23.9141,34.8424,2,-999.0000,9,211.25,2,1.28,2,0.01,2,0.00,2,0.02,2,1976.3,2,2285.1,2,8.0790,2,-999,9,-999,9
49UF20160407,KS16-04,4764,1,33,25267,2,20160417,0454,27.4828,128.247,1034,48.2,48,23.5485,34.8423,2,34.8418,2,213.14,2,1.33,2,0.00,2,0.00,2,0.02,2,1975.5,2,2286.3,2,8.0804,2,-999,9,-999,9
49UF20160407,KS16-04,4764,1,32,25266,2,20160417,0452,27.4828,128.247,1034,76.6,76,21.3940,34.8746,2,-999.0000,9,220.78,2,1.57,2,0.02,2,0.02,2,0.03,2,1995.4,2,2288.6,2,8.0561,2,-999,9,-999,9
49UF20160407,KS16-04,4764,1,31,25265,2,20160417,0450,27.4828,128.247,1034,102.3,102,20.5036,34.8950,2,34.8982,6,212.75,2,2.01,2,1.12,2,0.16,2,0.09,2,2007.9,2,2289.2,2,8.0298,2,-999,9,-999,9
49UF20160407,KS16-04,4764,1,27,25261,2,20160417,0449,27.4828,128.247,1034,127.6,127,19.8977,34.8659,2,-999.0000,9,191.55,2,3.23,2,3.28,2,0.02,2,0.23,2,2029.5,2,2286.0,2,7.9811,2,-999,9,-999,9
49UF20160407,KS16-04,4764,1,26,25260,2,20160417,0444,27.4828,128.247,1034,151.2,150,19.5740,34.8520,2,-999.0000,9,192.96,2,3.36,2,3.41,2,0.02,2,0.24,2,2038.5,2,2286.0,2,7.9784,2,-999,9,-999,9
49UF20160407,KS16-04,4764,1,25,25259,2,20160417,0442,27.4828,128.247,1034,204.8,203,18.8382,34.8251,2,34.8252,6,201.34,2,3.40,2,3.33,2,0.01,2,0.23,2,2026.1,2,2282.8,2,7.9794,2,-999,9,-999,9
49UF20160407,KS16-04,4764,1,21,25255,2,20160417,0439,27.4828,128.247,1034,253.3,251,18.2219,34.7910,2,-999.0000,9,200.05,2,3.98,2,4.09,2,0.01,2,0.27,2,2033.1,2,2282.4,2,7.9679,2,-999,9,-999,9
49UF20160407,KS16-04,4764,1,20,25254,2,20160417,0437,27.4828,128.247,1034,302.8,301,17.5134,34.7437,2,34.7429,2,198.34,2,4.89,2,5.13,2,0.01,2,0.34,2,2042.5,2,2280.8,2,7.9483,2,-999,9,-999,9
49UF20160407,KS16-04,4764,1,19,25253,2,20160417,0437,27.4828,128.247,1034,302.9,301,17.5112,34.7433,2,34.7424,2,198.29,2,4.86,2,5.14,2,0.01,2,0.34,2,2041.9,2,2280.1,2,7.9476,2,-999,9,-999,9
49UF20160407,KS16-04,4764,1,18,25252,2,20160417,0434,27.4828,128.247,1034,407.0,404,15.1340,34.5736,2,34.5794,2,183.88,6,11.29,6,9.89,6,0.00,6,0.67,6,2080.6,2,2275.4,2,7.8700,2,-999,9,-999,9
49UF20160407,KS16-04,4764,1,17,25251,2,20160417,0431,27.4828,128.247,1034,504.4,500,11.3342,34.3755,2,-999.0000,9,155.81,2,31.19,2,18.77,2,0.00,2,1.32,2,2148.9,2,2282.7,2,7.7378,2,-999,9,-999,9
49UF20160407,KS16-04,4764,1,16,25250,2,20160417,0427,27.4828,128.247,1034,609.0,604,8.9267,34.2977,2,34.2972,2,129.89,2,49.28,2,25.37,2,0.00,2,1.79,2,2193.4,2,2296.9,2,7.6327,2,-999,9,-999,9
49UF20160407,KS16-04,4764,1,15,25249,2,20160417,0423,27.4828,128.247,1034,709.0,703,7.7026,34.2899,2,-999.0000,9,112.22,6,62.00,6,29.10,6,0.00,6,2.07,6,2232.9,2,2307.5,2,7.5726,2,-999,9,-999,9
49UF20160407,KS16-04,4764,1,14,25248,2,20160417,0420,27.4828,128.247,1034,809.4,802,6.7057,34.3188,2,34.3184,6,99.20,2,75.97,2,31.96,2,0.00,2,2.27,2,2257.3,2,2322.4,6,7.5359,2,-999,9,-999,9
49UF20160407,KS16-04,4764,1,13,25247,2,20160417,0417,27.4828,128.247,1034,912.1,904,6.3393,34.3211,2,-999.0000,9,94.54,2,80.54,2,33.03,2,0.00,2,2.34,2,2265.3,2,2324.6,2,7.5198,6,-999,9,-999,9
49UF20160407,KS16-04,4764,1,8,25242,2,20160417,0414,27.4828,128.247,1034,1025.0,1016,5.9814,34.3196,2,34.3198,2,89.98,2,84.97,2,34.17,2,0.00,2,2.43,2,2275.9,6,2330.0,6,7.5061,6,-999,9,-999,9
49UF20160407,KS16-04,4764,1,9,25243,2,20160417,0414,27.4828,128.247,1034,1025.6,1016,5.9745,34.3198,2,34.3191,2,89.43,2,84.97,2,34.07,2,0.00,2,2.43,2,2277.4,2,2331.3,2,7.5040,2,-999,9,-999,9