BOTTLE,20171210JMAGEMD
EXPOCODE,SECT_ID,STNNBR,CASTNO,SAMPNO,BTLNBR,BTLNBR_FLAG_W,DATE,TIME,LATITUDE,LONGITUDE,DEPTH,CTDPRS,CTDDEP,CTDTMP,CTDSAL,CTDSAL_FLAG_W,SALNTY,SALNTY_FLAG_W,OXYGEN,OXYGEN_FLAG_W,SILCAT,SILCAT_FLAG_W,NO2+NO3,NO2+NO3_FLAG_W,NITRIT,NITRIT_FLAG_W,PHSPHT,PHSPHT_FLAG_W,TCARBN,TCARBN_FLAG_W,ALKALI,ALKALI_FLAG_W,PH_TOT,PH_TOT_FLAG_W,CFC-11,CFC-11_FLAG_W,CFC-12,CFC-12_FLAG_W
,,,,,,,UTC,UTC,,,METER,DBAR,METERS,ITS-90,PSS-78,,PSS-78,,UMOL/KG,,UMOL/KG,,UMOL/KG,,UMOL/KG,,UMOL/KG,,UMOL/KG,,UMOL/KG,,@25DEG-C,,PMOL/KG,,PMOL/KG,
49UF20160407,KS16-04,4733,1,-999,0,2,20160411,1110,24.2493,140.2858,3982,0.0,0,26.3528,35.1400,2,35.1422,2,206.39,2,0.95,2,0.07,2,0.02,2,0.02,2,1974.2,2,2303.8,2,8.0986,2,-999,9,-999,9
49UF20160407,KS16-04,4733,1,33,25267,2,20160411,1140,24.2493,140.2858,3982,11.1,11,26.3564,35.1401,2,35.1384,2,206.01,2,0.91,2,0.01,2,0.00,2,0.01,2,1977.2,2,2305.0,2,8.1033,2,-999,9,-999,9
49UF20160407,KS16-04,4733,1,32,25266,2,20160411,1138,24.2493,140.2858,3982,27.1,27,26.2987,35.1340,2,-999.0000,9,206.23,2,0.92,2,0.00,2,0.00,2,0.01,2,1973.0,2,2305.5,2,8.1002,2,-999,9,-999,9
49UF20160407,KS16-04,4733,1,31,25265,2,20160411,1134,24.2493,140.2858,3982,51.6,51,25.9254,35.1393,2,35.1384,2,207.76,2,0.92,2,0.02,2,0.00,2,0.01,2,1977.2,2,2304.2,2,8.1025,2,-999,9,-999,9
49UF20160407,KS16-04,4733,1,27,25261,2,20160411,1132,24.2493,140.2858,3982,76.8,76,25.8159,35.1303,2,-999.0000,9,207.18,2,0.92,2,0.00,2,0.00,2,0.01,2,1976.2,2,2302.5,2,8.1006,2,-999,9,-999,9
49UF20160407,KS16-04,4733,1,26,25260,2,20160411,1131,24.2493,140.2858,3982,102.5,102,25.5474,35.1051,2,35.1045,6,207.49,2,0.93,2,0.01,2,0.00,2,0.01,2,1973.6,2,2302.6,2,8.1010,2,-999,9,-999,9
49UF20160407,KS16-04,4733,1,25,25259,2,20160411,1130,24.2493,140.2858,3982,126.9,126,24.7216,35.0648,2,-999.0000,9,205.21,2,1.07,2,0.00,2,0.00,2,0.02,2,1988.1,2,2298.5,2,8.0785,2,-999,9,-999,9
49UF20160407,KS16-04,4733,1,21,25255,2,20160411,1129,24.2493,140.2858,3982,152.8,152,23.7282,35.1123,2,35.1133,2,196.87,2,1.25,2,0.28,2,0.09,2,0.05,2,2008.1,2,2303.3,2,8.0440,2,-999,9,-999,9
49UF20160407,KS16-04,4733,1,20,25254,2,20160411,1127,24.2493,140.2858,3982,202.8,201,20.6295,34.9100,2,34.9123,6,197.05,2,2.05,2,1.35,2,0.03,2,0.12,2,2024.2,2,2287.9,2,7.9980,2,-999,9,-999,9
49UF20160407,KS16-04,4733,1,19,25253,2,20160411,1125,24.2493,140.2858,3982,253.8,252,18.4981,34.8397,2,-999.0000,9,197.82,2,3.09,2,3.53,2,0.01,2,0.25,2,2038.8,2,2282.4,2,7.9582,2,-999,9,-999,9
49UF20160407,KS16-04,4733,1,18,25252,2,20160411,1124,24.2493,140.2858,3982,304.2,302,17.2789,34.7382,2,34.7368,2,205.37,2,3.91,2,4.61,2,0.01,2,0.31,2,2039.6,6,2277.4,6,7.9441,2,-999,9,-999,9
49UF20160407,KS16-04,4733,1,17,25251,2,20160411,1121,24.2493,140.2858,3982,405.2,402,14.7775,34.5354,2,34.5329,2,192.53,2,10.18,2,9.73,2,0.00,2,0.66,2,2077.8,2,2270.6,2,7.8647,6,-999,9,-999,9
49UF20160407,KS16-04,4733,1,16,25250,2,20160411,1118,24.2493,140.2858,3982,506.4,503,11.4544,34.2997,2,-999.0000,9,178.19,6,22.11,6,16.57,6,0.00,6,1.16,6,2120.7,2,2268.1,2,7.7585,2,-999,9,-999,9
49UF20160407,KS16-04,4733,1,14,25248,2,20160411,1115,24.2493,140.2858,3982,607.6,603,8.4499,34.1479,2,34.1648,4,147.77,2,42.06,2,24.58,2,0.00,2,1.75,2,2177.7,2,2277.5,2,7.6304,2,-999,9,-999,9
49UF20160407,KS16-04,4733,1,15,25249,2,20160411,1115,24.2493,140.2858,3982,608.7,604,8.4452,34.1487,2,34.1477,2,148.12,2,42.10,2,24.57,2,0.00,2,1.75,2,2179.9,2,2278.5,2,7.6286,2,-999,9,-999,9
49UF20160407,KS16-04,4733,1,13,25247,2,20160411,1112,24.2493,140.2858,3982,709.0,703,6.3460,34.1184,2,-999.0000,9,108.48,2,65.53,2,31.89,2,0.00,2,2.29,2,2238.3,2,2296.4,2,7.5117,2,-999,9,-999,9
49UF20160407,KS16-04,4733,1,9,25243,2,20160411,1109,24.2493,140.2858,3982,810.4,804,5.0843,34.1621,2,34.1612,2,76.38,2,86.11,2,36.82,2,0.00,2,2.64,2,2284.8,2,2315.3,2,7.4346,2,-999,9,-999,9
49UF20160407,KS16-04,4733,1,8,25242,2,20160411,1106,24.2493,140.2858,3982,911.1,903,4.2621,34.2609,2,34.2592,2,54.75,2,105.05,2,39.88,2,0.00,2,2.85,2,2318.8,2,2339.8,2,7.3940,2,-999,9,-999,9
49UF20160407,KS16-04,4733,1,7,25241,2,20160411,1103,24.2493,140.2858,3982,1010.6,1002,3.8857,34.3410,2,34.3416,2,56.13,2,114.54,2,40.29,2,0.00,2,2.87,2,2330.6,2,2353.4,2,7.4030,2,-999,9,-999,9
49UF20160407,KS16-04,4733,1,6,25240,2,20160411,1059,24.2493,140.2858,3982,1212.9,1202,3.2008,34.4335,2,34.4329,2,57.79,2,130.51,2,40.99,2,0.00,2,2.91,2,2352.2,2,2371.8,2,7.4112,2,-999,9,-999,9
49UF20160407,KS16-04,4733,1,5,25239,2,20160411,1054,24.2493,140.2858,3982,1417.5,1404,2.6773,34.5080,2,-999.0000,9,70.34,2,140.00,2,40.65,2,0.00,2,2.87,2,2352.0,2,2387.7,6,7.4324,2,-999,9,-999,9
49UF20160407,KS16-04,4733,1,4,25238,2,20160411,1049,24.2493,140.2858,3982,1618.0,1601,2.3780,34.5547,2,34.5537,2,85.71,2,143.01,2,39.82,2,0.00,2,2.80,2,2349.3,2,2395.1,2,7.4657,6,-999,9,-999,9
49UF20160407,KS16-04,4733,1,3,25237,2,20160411,1044,24.2493,140.2858,3982,1821.5,1802,2.1429,34.5824,2,34.7794,4,93.76,6,146.62,6,39.45,6,0.00,6,2.77,6,2356.4,2,2402.2,2,7.4782,2,-999,9,-999,9
49UF20160407,KS16-04,4733,1,2,25236,2,20160411,1040,24.2493,140.2858,3982,2024.5,2002,1.9815,34.6127,2,34.6122,2,110.45,2,144.54,2,38.38,2,0.00,2,2.69,2,2343.2,2,2403.9,2,7.5147,2,-999,9,-999,9
49UF20160407,KS16-04,4733,1,1,25235,2,20160411,1039,24.2493,140.2858,3982,2024.7,2002,1.9815,34.6127,2,34.6123,2,110.44,2,144.53,2,38.47,2,0.00,2,2.69,2,2346.6,2,2403.7,2,7.5105,2,-999,9,-999,9
49UF20160407,KS16-04,4734,1,1,25235,2,20160411,1922,24.2362,139.4035,4771,4577.9,4500,1.5639,34.6849,2,34.6878,4,157.66,2,-999.,9,-999.,9,-999.,9,-999.,9,-999.,9,-999.,9,-999.,9,-999,9,-999,9
49UF20160407,KS16-04,4734,1,5,25239,2,20160411,1923,24.2362,139.4035,4771,4578.1,4501,1.5638,34.6851,2,34.6852,2,157.67,2,-999.,9,-999.,9,-999.,9,-999.,9,-999.,9,-999.,9,-999.,9,-999,9,-999,9
49UF20160407,KS16-04,4734,1,6,25240,2,20160411,1923,24.2362,139.4035,4771,4578.2,4501,1.5639,34.6850,2,34.6845,2,157.62,2,-999.,9,-999.,9,-999.,9,-999.,9,-999.,9,-999.,9,-999.,9,-999,9,-999,9
49UF20160407,KS16-04,4734,1,10,25244,2,20160411,1924,24.2362,139.4035,4771,4578.3,4501,1.5638,34.6851,2,34.6859,2,157.68,2,-999.,9,-999.,9,-999.,9,-999.,9,-999.,9,-999.,9,-999.,9,-999,9,-999,9
49UF20160407,KS16-04,4734,1,7,25241,2,20160411,1923,24.2362,139.4035,4771,4578.4,4501,1.5638,34.6851,2,34.6858,2,157.68,2,-999.,9,-999.,9,-999.,9,-999.,9,-999.,9,-999.,9,-999.,9,-999,9,-999,9
49UF20160407,KS16-04,4734,1,4,25238,2,20160411,1923,24.2362,139.4035,4771,4578.4,4501,1.5639,34.6850,2,34.6990,4,157.81,2,-999.,9,-999.,9,-999.,9,-999.,9,-999.,9,-999.,9,-999.,9,-999,9,-999,9
49UF20160407,KS16-04,4734,1,2,25236,2,20160411,1923,24.2362,139.4035,4771,4578.4,4501,1.5639,34.6850,2,34.6850,2,157.72,6,-999.,9,-999.,9,-999.,9,-999.,9,-999.,9,-999.,9,-999.,9,-999,9,-999,9
49UF20160407,KS16-04,4734,1,13,25247,2,20160411,1925,24.2362,139.4035,4771,4578.4,4501,1.5640,34.6850,2,34.6854,6,157.80,6,-999.,9,-999.,9,-999.,9,-999.,9,-999.,9,-999.,9,-999.,9,-999,9,-999,9
49UF20160407,KS16-04,4734,1,26,25260,2,20160411,1927,24.2362,139.4035,4771,4578.5,4501,1.5640,34.6850,2,34.6835,2,157.80,2,-999.,9,-999.,9,-999.,9,-999.,9,-999.,9,-999.,9,-999.,9,-999,9,-999,9
49UF20160407,KS16-04,4734,1,3,25237,2,20160411,1923,24.2362,139.4035,4771,4578.5,4501,1.5640,34.6850,2,34.6849,2,157.52,2,-999.,9,-999.,9,-999.,9,-999.,9,-999.,9,-999.,9,-999.,9,-999,9,-999,9
49UF20160407,KS16-04,4734,1,16,25250,2,20160411,1925,24.2362,139.4035,4771,4578.6,4501,1.5641,34.6849,2,34.6849,2,157.86,2,-999.,9,-999.,9,-999.,9,-999.,9,-999.,9,-999.,9,-999.,9,-999,9,-999,9
49UF20160407,KS16-04,4734,1,11,25245,2,20160411,1924,24.2362,139.4035,4771,4578.6,4501,1.5637,34.6852,2,34.6847,2,157.81,2,-999.,9,-999.,9,-999.,9,-999.,9,-999.,9,-999.,9,-999.,9,-999,9,-999,9
49UF20160407,KS16-04,4734,1,12,25246,2,20160411,1924,24.2362,139.4035,4771,4578.7,4501,1.5642,34.6849,2,34.6846,2,157.86,2,-999.,9,-999.,9,-999.,9,-999.,9,-999.,9,-999.,9,-999.,9,-999,9,-999,9
49UF20160407,KS16-04,4734,1,9,25243,2,20160411,1924,24.2362,139.4035,4771,4578.8,4501,1.5642,34.6849,2,34.6846,2,157.61,2,-999.,9,-999.,9,-999.,9,-999.,9,-999.,9,-999.,9,-999.,9,-999,9,-999,9
49UF20160407,KS16-04,4734,1,25,25259,2,20160411,1927,24.2362,139.4035,4771,4578.8,4501,1.5642,34.6850,2,34.6838,2,157.74,2,-999.,9,-999.,9,-999.,9,-999.,9,-999.,9,-999.,9,-999.,9,-999,9,-999,9
49UF20160407,KS16-04,4734,1,17,25251,2,20160411,1925,24.2362,139.4035,4771,4578.9,4501,1.5638,34.6851,2,34.6848,2,157.67,2,-999.,9,-999.,9,-999.,9,-999.,9,-999.,9,-999.,9,-999.,9,-999,9,-999,9
49UF20160407,KS16-04,4734,1,23,25257,2,20160411,1926,24.2362,139.4035,4771,4578.9,4501,1.5642,34.6849,2,34.6866,2,157.89,2,-999.,9,-999.,9,-999.,9,-999.,9,-999.,9,-999.,9,-999.,9,-999,9,-999,9
49UF20160407,KS16-04,4734,1,14,25248,2,20160411,1925,24.2362,139.4035,4771,4578.9,4501,1.5639,34.6851,2,34.6849,2,157.82,2,-999.,9,-999.,9,-999.,9,-999.,9,-999.,9,-999.,9,-999.,9,-999,9,-999,9
49UF20160407,KS16-04,4734,1,8,25242,2,20160411,1924,24.2362,139.4035,4771,4579.1,4502,1.5640,34.6850,2,34.6850,2,157.67,2,-999.,9,-999.,9,-999.,9,-999.,9,-999.,9,-999.,9,-999.,9,-999,9,-999,9
49UF20160407,KS16-04,4734,1,19,25253,2,20160411,1926,24.2362,139.4035,4771,4579.1,4502,1.5640,34.6850,2,34.6855,2,157.54,2,-999.,9,-999.,9,-999.,9,-999.,9,-999.,9,-999.,9,-999.,9,-999,9,-999,9
49UF20160407,KS16-04,4734,1,24,25258,2,20160411,1926,24.2362,139.4035,4771,4579.1,4502,1.5641,34.6850,2,34.6834,2,157.90,2,-999.,9,-999.,9,-999.,9,-999.,9,-999.,9,-999.,9,-999.,9,-999,9,-999,9
49UF20160407,KS16-04,4734,1,36,25270,2,20160411,1929,24.2362,139.4035,4771,4579.1,4502,1.5642,34.6850,2,34.6852,2,157.76,2,-999.,9,-999.,9,-999.,9,-999.,9,-999.,9,-999.,9,-999.,9,-999,9,-999,9
49UF20160407,KS16-04,4734,1,21,25255,2,20160411,1926,24.2362,139.4035,4771,4579.2,4502,1.5640,34.6850,2,34.6846,2,157.59,2,-999.,9,-999.,9,-999.,9,-999.,9,-999.,9,-999.,9,-999.,9,-999,9,-999,9
49UF20160407,KS16-04,4734,1,22,25256,2,20160411,1926,24.2362,139.4035,4771,4579.2,4502,1.5642,34.6848,2,34.6855,2,157.64,6,-999.,9,-999.,9,-999.,9,-999.,9,-999.,9,-999.,9,-999.,9,-999,9,-999,9
49UF20160407,KS16-04,4734,1,20,25254,2,20160411,1926,24.2362,139.4035,4771,4579.3,4502,1.5641,34.6849,2,34.7133,4,157.70,2,-999.,9,-999.,9,-999.,9,-999.,9,-999.,9,-999.,9,-999.,9,-999,9,-999,9
49UF20160407,KS16-04,4734,1,27,25261,2,20160411,1927,24.2362,139.4035,4771,4579.4,4502,1.5641,34.6850,2,34.6980,4,157.77,2,-999.,9,-999.,9,-999.,9,-999.,9,-999.,9,-999.,9,-999.,9,-999,9,-999,9
49UF20160407,KS16-04,4734,1,18,25252,2,20160411,1925,24.2362,139.4035,4771,4579.4,4502,1.5640,34.6850,2,34.6847,2,157.54,2,-999.,9,-999.,9,-999.,9,-999.,9,-999.,9,-999.,9,-999.,9,-999,9,-999,9
49UF20160407,KS16-04,4734,1,15,25249,2,20160411,1925,24.2362,139.4035,4771,4579.5,4502,1.5641,34.6849,2,34.6850,2,157.74,2,-999.,9,-999.,9,-999.,9,-999.,9,-999.,9,-999.,9,-999.,9,-999,9,-999,9
49UF20160407,KS16-04,4734,1,33,25267,2,20160411,1928,24.2362,139.4035,4771,4579.6,4502,1.5641,34.6850,2,34.6886,4,157.41,2,-999.,9,-999.,9,-999.,9,-999.,9,-999.,9,-999.,9,-999.,9,-999,9,-999,9
49UF20160407,KS16-04,4734,1,35,25269,2,20160411,1928,24.2362,139.4035,4771,4579.7,4502,1.5643,34.6848,2,34.6844,2,157.81,2,-999.,9,-999.,9,-999.,9,-999.,9,-999.,9,-999.,9,-999.,9,-999,9,-999,9
49UF20160407,KS16-04,4734,1,32,25266,2,20160411,1928,24.2362,139.4035,4771,4579.7,4502,1.5642,34.6850,2,34.6885,4,157.89,2,-999.,9,-999.,9,-999.,9,-999.,9,-999.,9,-999.,9,-999.,9,-999,9,-999,9
49UF20160407,KS16-04,4734,1,29,25263,2,20160411,1927,24.2362,139.4035,4771,4579.7,4502,1.5644,34.6848,2,34.7083,4,158.02,2,-999.,9,-999.,9,-999.,9,-999.,9,-999.,9,-999.,9,-999.,9,-999,9,-999,9
49UF20160407,KS16-04,4734,1,31,25265,2,20160411,1928,24.2362,139.4035,4771,4579.9,4502,1.5642,34.6849,2,34.6854,6,157.70,6,-999.,9,-999.,9,-999.,9,-999.,9,-999.,9,-999.,9,-999.,9,-999,9,-999,9
49UF20160407,KS16-04,4734,1,28,25262,2,20160411,1927,24.2362,139.4035,4771,4580.0,4502,1.5642,34.6850,2,34.6837,2,157.34,2,-999.,9,-999.,9,-999.,9,-999.,9,-999.,9,-999.,9,-999.,9,-999,9,-999,9
49UF20160407,KS16-04,4734,1,30,25264,2,20160411,1928,24.2362,139.4035,4771,4580.0,4502,1.5642,34.6849,2,34.6841,2,158.02,2,-999.,9,-999.,9,-999.,9,-999.,9,-999.,9,-999.,9,-999.,9,-999,9,-999,9
49UF20160407,KS16-04,4734,1,34,25268,2,20160411,1928,24.2362,139.4035,4771,4580.1,4503,1.5642,34.6850,2,34.6845,2,158.03,2,-999.,9,-999.,9,-999.,9,-999.,9,-999.,9,-999.,9,-999.,9,-999,9,-999,9
49UF20160407,KS16-04,4735,1,-999,0,2,20160412,0152,24.2427,138.5825,4939,0.0,0,26.2523,35.0052,2,-999.,9,206.58,2,1.01,2,0.06,2,0.01,2,0.02,2,-999.,9,-999.,9,-999.,9,-999,9,-999,9
49UF20160407,KS16-04,4735,1,33,25267,2,20160412,0209,24.2427,138.5825,4939,12.5,12,26.2547,35.0934,2,-999.,9,206.61,2,0.94,2,0.00,2,0.00,2,0.01,2,-999.,9,-999.,9,-999.,9,-999,9,-999,9
49UF20160407,KS16-04,4735,1,32,25266,2,20160412,0208,24.2427,138.5825,4939,27.7,28,25.5842,35.0630,2,-999.,9,210.51,2,0.99,2,0.01,2,0.00,2,0.01,2,-999.,9,-999.,9,-999.,9,-999,9,-999,9
49UF20160407,KS16-04,4735,1,31,25265,2,20160412,0206,24.2427,138.5825,4939,53.2,53,24.6986,35.0698,2,-999.,9,212.75,2,1.02,2,0.00,2,0.00,2,0.01,2,-999.,9,-999.,9,-999.,9,-999,9,-999,9
49UF20160407,KS16-04,4735,1,27,25261,2,20160412,0204,24.2427,138.5825,4939,78.0,77,23.7012,35.0563,2,-999.,9,209.87,2,1.16,2,0.05,2,0.00,2,0.03,2,-999.,9,-999.,9,-999.,9,-999,9,-999,9
49UF20160407,KS16-04,4735,1,26,25260,2,20160412,0203,24.2427,138.5825,4939,103.6,103,22.7587,34.9857,2,-999.,9,213.91,2,1.34,2,0.01,2,0.00,2,0.01,2,-999.,9,-999.,9,-999.,9,-999,9,-999,9
49UF20160407,KS16-04,4735,1,25,25259,2,20160412,0202,24.2427,138.5825,4939,128.0,127,21.6328,34.9814,2,-999.,9,198.09,2,1.66,2,0.48,2,0.08,2,0.07,2,-999.,9,-999.,9,-999.,9,-999,9,-999,9
49UF20160407,KS16-04,4735,1,21,25255,2,20160412,0158,24.2427,138.5825,4939,153.8,153,19.8785,34.9296,2,-999.,9,193.24,2,2.31,2,2.47,2,0.02,2,0.18,2,-999.,9,-999.,9,-999.,9,-999,9,-999,9
49UF20160407,KS16-04,4735,1,19,25253,2,20160412,0156,24.2427,138.5825,4939,203.2,202,18.0987,34.8122,2,-999.,9,197.76,2,3.31,2,4.00,2,0.01,2,0.28,2,-999.,9,-999.,9,-999.,9,-999,9,-999,9
49UF20160407,KS16-04,4735,1,20,25254,2,20160412,0156,24.2427,138.5825,4939,204.1,203,18.0927,34.8122,2,-999.,9,197.45,2,3.36,2,4.00,2,0.01,2,0.28,2,-999.,9,-999.,9,-999.,9,-999,9,-999,9
49UF20160407,KS16-04,4735,1,18,25252,2,20160412,0154,24.2427,138.5825,4939,257.7,256,16.8968,34.7093,2,-999.,9,204.60,6,4.37,6,5.17,6,0.00,6,0.35,6,-999.,9,-999.,9,-999.,9,-999,9,-999,9
49UF20160407,KS16-04,4735,1,17,25251,2,20160412,0153,24.2427,138.5825,4939,302.9,301,16.0347,34.6370,2,-999.,9,199.80,2,6.42,2,6.99,2,0.00,2,0.47,2,-999.,9,-999.,9,-999.,9,-999,9,-999,9
49UF20160407,KS16-04,4735,1,16,25250,2,20160412,0150,24.2427,138.5825,4939,405.5,403,13.4960,34.4393,2,-999.,9,188.45,2,13.53,2,12.06,2,0.00,2,0.83,2,-999.,9,-999.,9,-999.,9,-999,9,-999,9
49UF20160407,KS16-04,4735,1,15,25249,2,20160412,0148,24.2427,138.5825,4939,506.5,503,10.8664,34.2609,2,-999.,9,175.75,2,24.29,2,17.66,2,0.00,2,1.24,2,-999.,9,-999.,9,-999.,9,-999,9,-999,9
49UF20160407,KS16-04,4735,1,14,25248,2,20160412,0145,24.2427,138.5825,4939,607.1,602,8.0935,34.1129,2,-999.,9,148.41,2,43.00,2,25.16,2,0.00,2,1.79,2,-999.,9,-999.,9,-999.,9,-999,9,-999,9
49UF20160407,KS16-04,4735,1,13,25247,2,20160412,0142,24.2427,138.5825,4939,708.3,703,6.2058,34.1084,2,-999.,9,107.24,2,66.77,2,32.21,2,0.00,2,2.31,2,-999.,9,-999.,9,-999.,9,-999,9,-999,9
49UF20160407,KS16-04,4735,1,9,25243,2,20160412,0140,24.2427,138.5825,4939,808.5,802,4.9824,34.2018,2,-999.,9,76.78,2,90.75,2,36.87,2,0.00,2,2.63,2,-999.,9,-999.,9,-999.,9,-999,9,-999,9
49UF20160407,KS16-04,4735,1,8,25242,2,20160412,0137,24.2427,138.5825,4939,909.7,902,4.2438,34.2855,2,-999.,9,62.47,2,106.97,2,39.24,2,0.00,2,2.80,2,-999.,9,-999.,9,-999.,9,-999,9,-999,9
49UF20160407,KS16-04,4735,1,7,25241,2,20160412,0134,24.2427,138.5825,4939,1011.6,1003,3.7874,34.3474,2,-999.,9,55.09,2,117.17,2,40.37,2,0.00,2,2.88,2,-999.,9,-999.,9,-999.,9,-999,9,-999,9
49UF20160407,KS16-04,4735,1,6,25240,2,20160412,0130,24.2427,138.5825,4939,1212.7,1201,3.1250,34.4525,2,-999.,9,61.24,2,131.39,6,40.84,6,0.00,6,2.89,6,-999.,9,-999.,9,-999.,9,-999,9,-999,9
49UF20160407,KS16-04,4735,1,4,25238,2,20160412,0125,24.2427,138.5825,4939,1417.0,1403,2.7413,34.5114,2,-999.,9,74.57,2,137.60,2,40.30,2,0.00,2,2.84,2,-999.,9,-999.,9,-999.,9,-999,9,-999,9
49UF20160407,KS16-04,4735,1,5,25239,2,20160412,0125,24.2427,138.5825,4939,1417.2,1403,2.7413,34.5114,2,-999.,9,74.53,2,137.39,2,40.25,2,0.00,2,2.84,2,-999.,9,-999.,9,-999.,9,-999,9,-999,9
49UF20160407,KS16-04,4735,1,3,25237,2,20160412,0120,24.2427,138.5825,4939,1618.4,1602,2.3767,34.5615,2,-999.,9,90.56,2,141.48,2,39.45,2,0.00,2,2.77,2,-999.,9,-999.,9,-999.,9,-999,9,-999,9
49UF20160407,KS16-04,4735,1,2,25236,2,20160412,0116,24.2427,138.5825,4939,1823.5,1804,2.1505,34.5931,2,-999.,9,102.93,2,143.20,2,38.75,2,0.00,2,2.72,2,-999.,9,-999.,9,-999.,9,-999,9,-999,9
49UF20160407,KS16-04,4735,1,1,25235,2,20160412,0112,24.2427,138.5825,4939,2026.2,2004,1.9958,34.6149,2,-999.,9,113.10,2,143.12,2,38.27,2,0.00,2,2.67,2,-999.,9,-999.,9,-999.,9,-999,9,-999,9