BOTTLE,20171210JMAGEMD
EXPOCODE,SECT_ID,STNNBR,CASTNO,SAMPNO,BTLNBR,BTLNBR_FLAG_W,DATE,TIME,LATITUDE,LONGITUDE,DEPTH,CTDPRS,CTDDEP,CTDTMP,CTDSAL,CTDSAL_FLAG_W,SALNTY,SALNTY_FLAG_W,OXYGEN,OXYGEN_FLAG_W,SILCAT,SILCAT_FLAG_W,NO2+NO3,NO2+NO3_FLAG_W,NITRIT,NITRIT_FLAG_W,PHSPHT,PHSPHT_FLAG_W,TCARBN,TCARBN_FLAG_W,ALKALI,ALKALI_FLAG_W,PH_TOT,PH_TOT_FLAG_W,CFC-11,CFC-11_FLAG_W,CFC-12,CFC-12_FLAG_W
,,,,,,,UTC,UTC,,,METER,DBAR,METERS,ITS-90,PSS-78,,PSS-78,,UMOL/KG,,UMOL/KG,,UMOL/KG,,UMOL/KG,,UMOL/KG,,UMOL/KG,,UMOL/KG,,@25DEG-C,,PMOL/KG,,PMOL/KG,
49UF20160407,KS16-04,4728,1,36,25270,2,20160409,1944,28.0128,141.4995,4154,4059.0,3994,1.4994,34.6802,2,34.6864,4,147.78,2,150.39,2,36.23,2,0.00,2,2.51,2,-999.,9,-999.,9,-999.,9,-999,9,-999,9
49UF20160407,KS16-04,4728,1,35,25269,2,20160409,1943,28.0128,141.4995,4154,4059.5,3994,1.4993,34.6803,2,34.6807,2,147.15,2,150.18,2,36.23,2,0.00,2,2.51,2,-999.,9,-999.,9,-999.,9,-999,9,-999,9
49UF20160407,KS16-04,4728,1,34,25268,2,20160409,1943,28.0128,141.4995,4154,4059.8,3995,1.4993,34.6803,2,34.6803,2,147.72,2,150.17,2,36.24,2,0.00,2,2.51,2,-999.,9,-999.,9,-999.,9,-999,9,-999,9
49UF20160407,KS16-04,4728,1,31,25265,2,20160409,1943,28.0128,141.4995,4154,4060.1,3995,1.4992,34.6804,2,34.6885,4,147.32,2,150.25,2,36.27,2,0.00,2,2.52,2,-999.,9,-999.,9,-999.,9,-999,9,-999,9
49UF20160407,KS16-04,4728,1,33,25267,2,20160409,1943,28.0128,141.4995,4154,4060.3,3995,1.4994,34.6803,2,34.6810,2,147.49,2,150.34,2,36.26,2,0.00,2,2.51,2,-999.,9,-999.,9,-999.,9,-999,9,-999,9
49UF20160407,KS16-04,4728,1,32,25266,2,20160409,1943,28.0128,141.4995,4154,4060.5,3995,1.4992,34.6803,2,34.6805,2,146.87,2,150.33,2,36.26,2,0.00,2,2.51,2,-999.,9,-999.,9,-999.,9,-999,9,-999,9
49UF20160407,KS16-04,4728,1,30,25264,2,20160409,1943,28.0128,141.4995,4154,4060.6,3995,1.4994,34.6803,2,34.6859,4,147.65,6,150.23,6,36.27,6,0.00,6,2.51,6,-999.,9,-999.,9,-999.,9,-999,9,-999,9
49UF20160407,KS16-04,4728,1,29,25263,2,20160409,1942,28.0128,141.4995,4154,4060.7,3995,1.4991,34.6804,2,34.6813,2,147.82,2,150.23,2,36.24,2,0.00,2,2.52,2,-999.,9,-999.,9,-999.,9,-999,9,-999,9
49UF20160407,KS16-04,4728,1,28,25262,2,20160409,1942,28.0128,141.4995,4154,4061.1,3996,1.4991,34.6804,2,34.6815,2,148.30,2,150.17,2,36.36,2,0.00,2,2.52,2,-999.,9,-999.,9,-999.,9,-999,9,-999,9
49UF20160407,KS16-04,4728,1,27,25261,2,20160409,1942,28.0128,141.4995,4154,4061.6,3996,1.4992,34.6805,2,34.7172,4,147.22,2,150.32,2,36.29,2,0.00,2,2.52,2,-999.,9,-999.,9,-999.,9,-999,9,-999,9
49UF20160407,KS16-04,4728,1,26,25260,2,20160409,1942,28.0128,141.4995,4154,4061.9,3997,1.4991,34.6805,2,34.7039,4,147.52,2,150.33,2,36.36,2,0.00,2,2.51,2,-999.,9,-999.,9,-999.,9,-999,9,-999,9
49UF20160407,KS16-04,4728,1,25,25259,2,20160409,1942,28.0128,141.4995,4154,4062.0,3997,1.4993,34.6804,2,34.6800,2,147.28,2,150.22,2,36.29,2,0.00,2,2.52,2,-999.,9,-999.,9,-999.,9,-999,9,-999,9
49UF20160407,KS16-04,4728,1,24,25258,2,20160409,1942,28.0128,141.4995,4154,4062.3,3997,1.4993,34.6803,2,34.6803,2,147.23,2,150.12,2,36.33,2,0.00,2,2.52,2,-999.,9,-999.,9,-999.,9,-999,9,-999,9
49UF20160407,KS16-04,4728,1,23,25257,2,20160409,1941,28.0128,141.4995,4154,4062.3,3997,1.4993,34.6804,2,34.6794,2,147.24,2,150.13,2,36.28,2,0.00,2,2.51,2,-999.,9,-999.,9,-999.,9,-999,9,-999,9
49UF20160407,KS16-04,4728,1,20,25254,2,20160409,1941,28.0128,141.4995,4154,4062.7,3997,1.4991,34.6804,2,34.6795,2,146.99,2,150.03,2,36.30,2,0.00,2,2.51,2,-999.,9,-999.,9,-999.,9,-999,9,-999,9
49UF20160407,KS16-04,4728,1,22,25256,2,20160409,1941,28.0128,141.4995,4154,4062.8,3998,1.4994,34.6803,2,34.6903,4,147.20,2,150.00,2,36.29,2,0.00,2,2.51,2,-999.,9,-999.,9,-999.,9,-999,9,-999,9
49UF20160407,KS16-04,4728,1,19,25253,2,20160409,1941,28.0128,141.4995,4154,4063.0,3998,1.4994,34.6804,2,34.6942,4,147.29,2,149.94,2,36.20,2,0.00,2,2.51,2,-999.,9,-999.,9,-999.,9,-999,9,-999,9
49UF20160407,KS16-04,4728,1,21,25255,2,20160409,1941,28.0128,141.4995,4154,4063.4,3998,1.4994,34.6804,2,34.6800,6,147.04,6,149.96,6,36.33,6,0.00,6,2.51,6,-999.,9,-999.,9,-999.,9,-999,9,-999,9
49UF20160407,KS16-04,4728,1,18,25252,2,20160409,1941,28.0128,141.4995,4154,4063.6,3998,1.4995,34.6804,2,34.6965,4,147.38,2,149.88,2,36.30,2,0.00,2,2.52,2,-999.,9,-999.,9,-999.,9,-999,9,-999,9
49UF20160407,KS16-04,4728,1,15,25249,2,20160409,1940,28.0128,141.4995,4154,4063.9,3999,1.5002,34.6802,2,34.6864,4,147.18,2,149.60,2,36.32,2,0.00,2,2.52,2,-999.,9,-999.,9,-999.,9,-999,9,-999,9
49UF20160407,KS16-04,4728,1,16,25250,2,20160409,1940,28.0128,141.4995,4154,4064.2,3999,1.4998,34.6804,2,34.6872,4,147.28,2,150.07,2,36.30,2,0.00,2,2.51,2,-999.,9,-999.,9,-999.,9,-999,9,-999,9
49UF20160407,KS16-04,4728,1,17,25251,2,20160409,1941,28.0128,141.4995,4154,4064.3,3999,1.4994,34.6805,2,34.6795,2,147.20,2,149.96,2,36.27,2,0.00,2,2.51,2,-999.,9,-999.,9,-999.,9,-999,9,-999,9
49UF20160407,KS16-04,4728,1,10,25244,2,20160409,1939,28.0128,141.4995,4154,4064.6,3999,1.5000,34.6803,2,34.6803,2,147.35,2,150.01,2,36.33,2,0.00,2,2.52,2,-999.,9,-999.,9,-999.,9,-999,9,-999,9
49UF20160407,KS16-04,4728,1,13,25247,2,20160409,1940,28.0128,141.4995,4154,4064.8,3999,1.5001,34.6803,2,34.6864,4,147.36,2,149.98,2,36.29,2,0.00,2,2.52,2,-999.,9,-999.,9,-999.,9,-999,9,-999,9
49UF20160407,KS16-04,4728,1,14,25248,2,20160409,1940,28.0128,141.4995,4154,4064.9,4000,1.5000,34.6804,2,34.6801,2,147.27,2,150.09,2,36.38,2,0.00,2,2.52,2,-999.,9,-999.,9,-999.,9,-999,9,-999,9
49UF20160407,KS16-04,4728,1,9,25243,2,20160409,1939,28.0128,141.4995,4154,4065.0,4000,1.5002,34.6801,2,34.6798,2,147.87,2,150.42,2,36.33,2,0.00,2,2.51,2,-999.,9,-999.,9,-999.,9,-999,9,-999,9
49UF20160407,KS16-04,4728,1,8,25242,2,20160409,1939,28.0128,141.4995,4154,4065.1,4000,1.4996,34.6804,2,34.6803,2,147.61,2,150.76,2,36.42,2,0.00,2,2.52,2,-999.,9,-999.,9,-999.,9,-999,9,-999,9
49UF20160407,KS16-04,4728,1,11,25245,2,20160409,1940,28.0128,141.4995,4154,4065.3,4000,1.5001,34.6805,2,34.6878,4,147.44,2,150.03,2,36.31,2,0.00,2,2.52,2,-999.,9,-999.,9,-999.,9,-999,9,-999,9
49UF20160407,KS16-04,4728,1,12,25246,2,20160409,1940,28.0128,141.4995,4154,4065.4,4000,1.5002,34.6803,2,34.6800,2,147.28,6,149.94,6,36.38,6,0.00,6,2.52,6,-999.,9,-999.,9,-999.,9,-999,9,-999,9
49UF20160407,KS16-04,4728,1,7,25241,2,20160409,1939,28.0128,141.4995,4154,4065.4,4000,1.4997,34.6804,2,34.6801,2,147.97,2,150.27,2,36.31,2,0.00,2,2.52,2,-999.,9,-999.,9,-999.,9,-999,9,-999,9
49UF20160407,KS16-04,4728,1,6,25240,2,20160409,1939,28.0128,141.4995,4154,4065.7,4000,1.4997,34.6804,2,34.6802,2,147.28,2,150.14,2,36.29,2,0.00,2,2.51,2,-999.,9,-999.,9,-999.,9,-999,9,-999,9
49UF20160407,KS16-04,4728,1,4,25238,2,20160409,1938,28.0128,141.4995,4154,4065.8,4000,1.4996,34.6804,2,34.6803,2,147.28,2,150.32,2,36.33,2,0.00,2,2.51,2,-999.,9,-999.,9,-999.,9,-999,9,-999,9
49UF20160407,KS16-04,4728,1,5,25239,2,20160409,1939,28.0128,141.4995,4154,4066.1,4001,1.4997,34.6805,2,34.6803,2,146.98,2,150.24,2,36.32,2,0.00,2,2.52,2,-999.,9,-999.,9,-999.,9,-999,9,-999,9
49UF20160407,KS16-04,4728,1,3,25237,2,20160409,1938,28.0128,141.4995,4154,4066.2,4001,1.4996,34.6803,2,34.6801,2,147.27,2,150.26,2,36.32,2,0.00,2,2.52,2,-999.,9,-999.,9,-999.,9,-999,9,-999,9
49UF20160407,KS16-04,4728,1,1,25235,2,20160409,1938,28.0128,141.4995,4154,4066.3,4001,1.4994,34.6804,2,34.6804,6,147.33,6,149.84,6,36.32,6,0.00,6,2.51,6,-999.,9,-999.,9,-999.,9,-999,9,-999,9
49UF20160407,KS16-04,4728,1,2,25236,2,20160409,1938,28.0128,141.4995,4154,4067.0,4002,1.4994,34.6805,2,34.6807,2,147.35,2,150.36,2,36.31,2,0.00,2,2.52,2,-999.,9,-999.,9,-999.,9,-999,9,-999,9
49UF20160407,KS16-04,4729,1,-999,0,2,20160410,1639,24.2557,142.4527,2938,0.0,0,24.3881,35.0774,2,-999.0000,9,212.44,2,1.25,2,0.05,2,0.01,2,0.02,2,-999.,9,-999.,9,-999.,9,-999,9,-999,9
49UF20160407,KS16-04,4729,1,33,25267,2,20160410,1707,24.2557,142.4527,2938,10.3,10,24.3871,35.0766,2,35.0762,6,212.42,2,1.25,2,0.00,2,0.00,2,0.01,2,-999.,9,-999.,9,-999.,9,-999,9,-999,9
49UF20160407,KS16-04,4729,1,32,25266,2,20160410,1706,24.2557,142.4527,2938,26.4,26,23.3274,35.0409,2,-999.0000,9,215.62,2,1.34,2,0.00,2,0.00,2,0.01,2,-999.,9,-999.,9,-999.,9,-999,9,-999,9
49UF20160407,KS16-04,4729,1,31,25265,2,20160410,1702,24.2557,142.4527,2938,49.6,49,22.4234,35.0141,2,-999.0000,9,218.56,2,1.50,2,0.00,2,0.00,2,0.01,2,-999.,9,-999.,9,-999.,9,-999,9,-999,9
49UF20160407,KS16-04,4729,1,27,25261,2,20160410,1701,24.2557,142.4527,2938,76.9,76,21.5535,34.9778,2,-999.0000,9,214.58,2,1.71,2,0.08,2,0.01,2,0.03,2,-999.,9,-999.,9,-999.,9,-999,9,-999,9
49UF20160407,KS16-04,4729,1,26,25260,2,20160410,1659,24.2557,142.4527,2938,102.6,102,20.6780,34.9274,2,34.9239,2,203.00,2,2.12,2,1.27,2,0.05,2,0.10,2,-999.,9,-999.,9,-999.,9,-999,9,-999,9
49UF20160407,KS16-04,4729,1,25,25259,2,20160410,1658,24.2557,142.4527,2938,125.5,125,20.1026,34.9019,2,-999.0000,9,203.54,2,2.34,2,1.74,2,0.04,2,0.13,2,-999.,9,-999.,9,-999.,9,-999,9,-999,9
49UF20160407,KS16-04,4729,1,21,25255,2,20160410,1656,24.2557,142.4527,2938,151.1,150,19.5503,34.8743,2,-999.0000,9,201.83,2,2.80,2,2.54,2,0.03,2,0.19,2,-999.,9,-999.,9,-999.,9,-999,9,-999,9
49UF20160407,KS16-04,4729,1,20,25254,2,20160410,1653,24.2557,142.4527,2938,203.2,202,17.5457,34.7611,2,34.7596,2,204.52,2,3.77,2,4.24,2,0.01,2,0.29,2,-999.,9,-999.,9,-999.,9,-999,9,-999,9
49UF20160407,KS16-04,4729,1,19,25253,2,20160410,1651,24.2557,142.4527,2938,252.1,250,16.7471,34.6985,2,34.6953,2,204.07,2,4.88,2,5.50,2,0.01,2,0.37,2,-999.,9,-999.,9,-999.,9,-999,9,-999,9
49UF20160407,KS16-04,4729,1,18,25252,2,20160410,1649,24.2557,142.4527,2938,304.1,302,15.7144,34.6106,2,-999.0000,9,196.72,2,7.73,2,7.78,2,0.01,2,0.53,2,-999.,9,-999.,9,-999.,9,-999,9,-999,9
49UF20160407,KS16-04,4729,1,17,25251,2,20160410,1646,24.2557,142.4527,2938,401.8,399,13.2920,34.4281,2,34.4284,2,186.17,2,14.90,2,12.61,2,0.00,2,0.87,2,-999.,9,-999.,9,-999.,9,-999,9,-999,9
49UF20160407,KS16-04,4729,1,16,25250,2,20160410,1643,24.2557,142.4527,2938,505.6,502,10.3917,34.2311,2,34.2308,2,168.15,2,26.79,2,19.22,2,0.00,2,1.36,2,-999.,9,-999.,9,-999.,9,-999,9,-999,9
49UF20160407,KS16-04,4729,1,15,25249,2,20160410,1640,24.2557,142.4527,2938,605.8,601,7.6002,34.1255,2,34.1260,2,128.79,6,49.54,6,27.83,6,0.00,6,1.99,6,-999.,9,-999.,9,-999.,9,-999,9,-999,9
49UF20160407,KS16-04,4729,1,13,25247,2,20160410,1637,24.2557,142.4527,2938,707.1,701,5.8633,34.1462,2,34.1454,2,85.63,2,72.27,2,34.87,2,0.00,2,2.51,2,-999.,9,-999.,9,-999.,9,-999,9,-999,9
49UF20160407,KS16-04,4729,1,14,25248,2,20160410,1637,24.2557,142.4527,2938,707.7,702,5.8657,34.1460,2,34.1457,2,86.10,2,72.34,2,34.89,2,0.00,2,2.51,2,-999.,9,-999.,9,-999.,9,-999,9,-999,9
49UF20160407,KS16-04,4729,1,9,25243,2,20160410,1634,24.2557,142.4527,2938,808.2,801,5.1302,34.1952,2,34.1951,2,73.08,2,86.74,2,37.11,2,0.00,2,2.66,2,-999.,9,-999.,9,-999.,9,-999,9,-999,9
49UF20160407,KS16-04,4729,1,8,25242,2,20160410,1630,24.2557,142.4527,2938,908.8,901,4.6584,34.2915,2,-999.0000,9,58.37,2,97.49,2,39.21,2,0.00,2,2.81,2,-999.,9,-999.,9,-999.,9,-999,9,-999,9
49UF20160407,KS16-04,4729,1,7,25241,2,20160410,1627,24.2557,142.4527,2938,1009.9,1001,3.9510,34.3631,2,34.3631,6,55.07,2,113.45,2,40.48,2,0.00,2,2.88,2,-999.,9,-999.,9,-999.,9,-999,9,-999,9
49UF20160407,KS16-04,4729,1,6,25240,2,20160410,1622,24.2557,142.4527,2938,1213.1,1202,3.1371,34.4473,2,34.4473,2,54.76,2,132.58,2,41.38,2,0.00,2,2.93,2,-999.,9,-999.,9,-999.,9,-999,9,-999,9
49UF20160407,KS16-04,4729,1,5,25239,2,20160410,1617,24.2557,142.4527,2938,1415.1,1401,2.6814,34.5052,2,34.5045,2,63.21,2,142.04,2,41.14,2,0.00,2,2.91,2,-999.,9,-999.,9,-999.,9,-999,9,-999,9
49UF20160407,KS16-04,4729,1,4,25238,2,20160410,1612,24.2557,142.4527,2938,1618.8,1602,2.3622,34.5526,2,34.5526,2,79.00,2,146.23,2,40.34,2,0.00,2,2.84,2,-999.,9,-999.,9,-999.,9,-999,9,-999,9
49UF20160407,KS16-04,4729,1,3,25237,2,20160410,1612,24.2557,142.4527,2938,1619.1,1603,2.3623,34.5526,2,34.5610,4,79.00,2,146.31,2,40.31,2,0.00,2,2.84,2,-999.,9,-999.,9,-999.,9,-999,9,-999,9
49UF20160407,KS16-04,4729,1,2,25236,2,20160410,1607,24.2557,142.4527,2938,1823.5,1804,2.0567,34.5924,2,34.5921,2,92.55,2,150.07,2,39.69,2,0.00,2,2.78,2,-999.,9,-999.,9,-999.,9,-999,9,-999,9
49UF20160407,KS16-04,4729,1,1,25235,2,20160410,1602,24.2557,142.4527,2938,2024.2,2002,1.9193,34.6112,2,34.6124,6,102.11,6,150.78,6,39.12,6,0.00,6,2.74,6,-999.,9,-999.,9,-999.,9,-999,9,-999,9
49UF20160407,KS16-04,4731,1,-999,0,2,20160411,0159,24.2493,141.212,1811,0.0,0,24.1236,35.0694,2,-999.,9,215.91,2,1.41,2,0.08,2,0.03,2,0.01,2,-999.,9,-999.,9,-999.,9,-999,9,-999,9
49UF20160407,KS16-04,4731,1,33,25267,2,20160411,0217,24.2493,141.212,1811,12.2,12,23.8897,35.0701,2,-999.,9,217.44,2,1.36,2,0.00,2,0.00,2,0.01,2,-999.,9,-999.,9,-999.,9,-999,9,-999,9
49UF20160407,KS16-04,4731,1,32,25266,2,20160411,0216,24.2493,141.212,1811,26.7,27,22.1436,35.0594,2,-999.,9,223.05,2,1.47,2,0.00,2,0.00,2,0.01,2,-999.,9,-999.,9,-999.,9,-999,9,-999,9
49UF20160407,KS16-04,4731,1,31,25265,2,20160411,0212,24.2493,141.212,1811,51.9,52,21.4010,35.0066,2,-999.,9,223.90,2,1.56,2,0.00,2,0.00,2,0.01,2,-999.,9,-999.,9,-999.,9,-999,9,-999,9
49UF20160407,KS16-04,4731,1,27,25261,2,20160411,0210,24.2493,141.212,1811,77.1,77,20.2318,34.9021,2,-999.,9,225.59,2,1.75,2,0.02,2,0.00,2,0.02,2,-999.,9,-999.,9,-999.,9,-999,9,-999,9
49UF20160407,KS16-04,4731,1,26,25260,2,20160411,0209,24.2493,141.212,1811,103.5,103,19.6308,34.8774,2,-999.,9,216.41,2,2.20,2,1.14,2,0.08,2,0.09,2,-999.,9,-999.,9,-999.,9,-999,9,-999,9
49UF20160407,KS16-04,4731,1,25,25259,2,20160411,0208,24.2493,141.212,1811,128.7,128,18.9725,34.8395,2,-999.,9,211.32,2,2.56,2,2.15,2,0.05,2,0.15,3,-999.,9,-999.,9,-999.,9,-999,9,-999,9
49UF20160407,KS16-04,4731,1,21,25255,2,20160411,0206,24.2493,141.212,1811,155.1,154,18.1414,34.7979,2,-999.,9,205.08,2,3.36,2,3.51,2,0.02,2,0.24,2,-999.,9,-999.,9,-999.,9,-999,9,-999,9
49UF20160407,KS16-04,4731,1,20,25254,2,20160411,0205,24.2493,141.212,1811,203.0,202,17.0986,34.7263,2,-999.,9,206.25,6,4.84,6,4.99,6,0.02,6,0.34,6,-999.,9,-999.,9,-999.,9,-999,9,-999,9
49UF20160407,KS16-04,4731,1,19,25253,2,20160411,0203,24.2493,141.212,1811,253.6,252,16.8065,34.7060,2,-999.,9,206.30,2,5.10,2,5.38,2,0.01,2,0.37,2,-999.,9,-999.,9,-999.,9,-999,9,-999,9
49UF20160407,KS16-04,4731,1,18,25252,2,20160411,0202,24.2493,141.212,1811,254.0,252,16.8001,34.7055,2,-999.,9,205.86,2,5.10,2,5.39,2,0.01,2,0.37,2,-999.,9,-999.,9,-999.,9,-999,9,-999,9
49UF20160407,KS16-04,4731,1,17,25251,2,20160411,0201,24.2493,141.212,1811,305.0,303,15.8962,34.6339,2,-999.,9,201.87,2,7.09,2,7.16,2,0.01,2,0.50,2,-999.,9,-999.,9,-999.,9,-999,9,-999,9
49UF20160407,KS16-04,4731,1,16,25250,2,20160411,0158,24.2493,141.212,1811,404.1,401,12.9122,34.3976,2,-999.,9,185.05,2,15.82,2,13.32,2,0.00,2,0.93,2,-999.,9,-999.,9,-999.,9,-999,9,-999,9
49UF20160407,KS16-04,4731,1,15,25249,2,20160411,0155,24.2493,141.212,1811,504.0,500,10.4165,34.2390,2,-999.,9,169.99,2,27.45,2,19.01,2,0.00,2,1.35,2,-999.,9,-999.,9,-999.,9,-999,9,-999,9
49UF20160407,KS16-04,4731,1,14,25248,2,20160411,0152,24.2493,141.212,1811,608.0,603,7.8250,34.1336,2,-999.,9,137.73,2,48.48,2,26.61,2,0.00,2,1.91,2,-999.,9,-999.,9,-999.,9,-999,9,-999,9
49UF20160407,KS16-04,4731,1,13,25247,2,20160411,0149,24.2493,141.212,1811,709.8,704,6.4843,34.1480,2,-999.,9,109.74,2,66.78,2,31.49,2,0.00,2,2.26,2,-999.,9,-999.,9,-999.,9,-999,9,-999,9
49UF20160407,KS16-04,4731,1,9,25243,2,20160411,0146,24.2493,141.212,1811,810.2,803,5.3591,34.1869,2,-999.,9,85.21,2,84.60,2,35.46,2,0.00,2,2.55,2,-999.,9,-999.,9,-999.,9,-999,9,-999,9
49UF20160407,KS16-04,4731,1,8,25242,2,20160411,0144,24.2493,141.212,1811,908.4,901,4.3420,34.2739,2,-999.,9,63.12,2,104.90,2,38.96,2,0.00,2,2.79,2,-999.,9,-999.,9,-999.,9,-999,9,-999,9
49UF20160407,KS16-04,4731,1,7,25241,2,20160411,0141,24.2493,141.212,1811,1010.9,1002,3.7894,34.3440,2,-999.,9,58.03,2,117.10,2,40.14,2,0.00,2,2.87,2,-999.,9,-999.,9,-999.,9,-999,9,-999,9
49UF20160407,KS16-04,4731,1,5,25239,2,20160411,0136,24.2493,141.212,1811,1214.4,1203,3.1687,34.4281,2,-999.,9,58.92,2,131.05,2,40.86,2,0.00,2,2.91,2,-999.,9,-999.,9,-999.,9,-999,9,-999,9
49UF20160407,KS16-04,4731,1,6,25240,2,20160411,0136,24.2493,141.212,1811,1214.6,1203,3.1682,34.4282,2,-999.,9,58.55,2,131.17,2,40.92,2,0.00,2,2.90,2,-999.,9,-999.,9,-999.,9,-999,9,-999,9
49UF20160407,KS16-04,4731,1,4,25238,2,20160411,0131,24.2493,141.212,1811,1416.6,1403,2.7373,34.4988,2,-999.,9,69.62,6,138.58,6,40.56,6,0.00,6,2.87,6,-999.,9,-999.,9,-999.,9,-999,9,-999,9
49UF20160407,KS16-04,4731,1,3,25237,2,20160411,0126,24.2493,141.212,1811,1620.0,1603,2.4153,34.5514,2,-999.,9,86.24,2,141.69,2,39.76,2,0.00,2,2.80,2,-999.,9,-999.,9,-999.,9,-999,9,-999,9
49UF20160407,KS16-04,4731,1,2,25236,2,20160411,0122,24.2493,141.212,1811,1808.6,1789,2.2001,34.5878,2,-999.,9,101.52,2,142.09,2,38.80,2,0.00,2,2.73,2,-999.,9,-999.,9,-999.,9,-999,9,-999,9
49UF20160407,KS16-04,4731,1,1,25235,2,20160411,0122,24.2493,141.212,1811,1810.3,1791,2.2012,34.5876,2,-999.,9,101.58,2,142.22,2,38.86,2,0.00,2,2.73,2,-999.,9,-999.,9,-999.,9,-999,9,-999,9