BOTTLE,20171210JMAGEMD
EXPOCODE,SECT_ID,STNNBR,CASTNO,SAMPNO,BTLNBR,BTLNBR_FLAG_W,DATE,TIME,LATITUDE,LONGITUDE,DEPTH,CTDPRS,CTDDEP,CTDTMP,CTDSAL,CTDSAL_FLAG_W,SALNTY,SALNTY_FLAG_W,OXYGEN,OXYGEN_FLAG_W,SILCAT,SILCAT_FLAG_W,NO2+NO3,NO2+NO3_FLAG_W,NITRIT,NITRIT_FLAG_W,PHSPHT,PHSPHT_FLAG_W,TCARBN,TCARBN_FLAG_W,ALKALI,ALKALI_FLAG_W,PH_TOT,PH_TOT_FLAG_W,CFC-11,CFC-11_FLAG_W,CFC-12,CFC-12_FLAG_W
,,,,,,,UTC,UTC,,,METER,DBAR,METERS,ITS-90,PSS-78,,PSS-78,,UMOL/KG,,UMOL/KG,,UMOL/KG,,UMOL/KG,,UMOL/KG,,UMOL/KG,,UMOL/KG,,@25DEG-C,,PMOL/KG,,PMOL/KG,
49UF20160407,KS16-04,4737,1,-999,0,2,20160412,1337,23.992,136.9855,4022,0.0,0,25.3180,35.0348,2,35.0284,2,209.99,2,1.10,2,0.05,2,0.01,2,0.02,2,1981.9,2,2297.2,2,8.0781,2,-999,9,-999,9
49UF20160407,KS16-04,4737,1,36,25270,2,20160412,1358,23.992,136.9855,4022,13.9,14,23.7783,35.0627,2,35.0625,2,215.46,2,1.06,2,0.02,2,0.00,2,0.01,2,1984.5,2,2300.0,2,8.0759,2,-999,9,-999,9
49UF20160407,KS16-04,4737,1,35,25269,2,20160412,1357,23.992,136.9855,4022,27.9,28,23.5553,35.0590,2,-999.0000,9,216.51,2,1.10,2,0.00,2,0.00,2,0.01,2,1985.1,2,2299.0,2,8.0751,2,-999,9,-999,9
49UF20160407,KS16-04,4737,1,34,25268,2,20160412,1355,23.992,136.9855,4022,53.8,53,23.0120,35.0148,2,35.0203,2,216.53,2,1.24,2,0.01,2,0.00,2,0.01,2,1986.6,2,2297.0,2,8.0612,2,-999,9,-999,9
49UF20160407,KS16-04,4737,1,33,25267,2,20160412,1354,23.992,136.9855,4022,76.9,76,21.2825,34.9200,2,-999.0000,9,215.57,2,1.61,2,0.00,2,0.00,2,0.03,2,2003.5,2,2290.3,2,8.0364,2,-999,9,-999,9
49UF20160407,KS16-04,4737,1,32,25266,2,20160412,1352,23.992,136.9855,4022,103.7,103,19.9208,34.8766,2,34.8758,2,201.03,2,2.28,2,1.91,2,0.07,2,0.14,2,2025.3,2,2285.5,2,7.9875,2,-999,9,-999,9
49UF20160407,KS16-04,4737,1,31,25265,2,20160412,1351,23.992,136.9855,4022,129.4,129,19.0280,34.8433,2,-999.0000,9,199.33,2,2.55,2,2.77,2,0.03,2,0.20,2,2029.2,2,2284.2,2,7.9727,2,-999,9,-999,9
49UF20160407,KS16-04,4737,1,30,25264,2,20160412,1350,23.992,136.9855,4022,153.9,153,18.2162,34.7952,2,-999.0000,9,201.73,2,3.07,2,3.67,2,0.01,2,0.25,2,2031.2,2,2279.8,2,7.9602,2,-999,9,-999,9
49UF20160407,KS16-04,4737,1,29,25263,2,20160412,1345,23.992,136.9855,4022,205.4,204,17.2596,34.7338,2,34.7359,2,202.97,2,4.09,2,4.87,2,0.01,2,0.32,2,2038.1,2,2275.6,2,7.9490,2,-999,9,-999,9
49UF20160407,KS16-04,4737,1,28,25262,2,20160412,1344,23.992,136.9855,4022,253.5,252,16.7689,34.7016,2,-999.0000,9,203.93,2,5.01,2,5.63,2,0.00,2,0.37,2,2040.0,2,2276.3,2,7.9349,2,-999,9,-999,9
49UF20160407,KS16-04,4737,1,27,25261,2,20160412,1342,23.992,136.9855,4022,305.2,303,16.1267,34.6480,2,-999.0000,9,196.92,6,6.99,6,7.32,6,0.00,6,0.49,6,2056.5,2,2274.6,2,7.9120,2,-999,9,-999,9
49UF20160407,KS16-04,4737,1,26,25260,2,20160412,1339,23.992,136.9855,4022,407.7,405,13.5999,34.4563,2,34.4572,6,183.85,2,14.40,2,12.44,2,0.00,2,0.85,2,2093.0,2,2270.9,2,7.8283,2,-999,9,-999,9
49UF20160407,KS16-04,4737,1,25,25259,2,20160412,1336,23.992,136.9855,4022,507.6,504,10.4726,34.2528,2,34.2501,2,166.75,2,28.55,2,19.33,2,0.00,2,1.36,2,2141.2,6,2272.4,6,7.7181,2,-999,9,-999,9
49UF20160407,KS16-04,4737,1,24,25258,2,20160412,1334,23.992,136.9855,4022,606.9,602,7.6898,34.1366,2,34.1371,2,127.75,2,49.26,2,27.74,2,0.00,2,1.99,2,2205.0,2,2283.9,2,7.5806,6,-999,9,-999,9
49UF20160407,KS16-04,4737,1,23,25257,2,20160412,1331,23.992,136.9855,4022,708.5,703,6.2140,34.1425,2,-999.0000,9,96.64,6,67.14,6,33.10,6,0.00,6,2.37,6,2253.6,2,2300.4,2,7.4959,2,-999,9,-999,9
49UF20160407,KS16-04,4737,1,22,25256,2,20160412,1329,23.992,136.9855,4022,806.6,800,5.1779,34.2232,2,34.2239,2,68.42,2,86.45,2,37.47,2,0.00,2,2.69,2,2291.8,2,2321.4,2,7.4318,2,-999,9,-999,9
49UF20160407,KS16-04,4737,1,21,25255,2,20160412,1326,23.992,136.9855,4022,909.4,902,4.5928,34.2987,2,34.3005,2,58.81,6,98.61,6,39.20,6,0.00,6,2.81,6,2311.0,2,2338.4,2,7.4166,2,-999,9,-999,9
49UF20160407,KS16-04,4737,1,20,25254,2,20160412,1323,23.992,136.9855,4022,1013.9,1005,3.8182,34.3590,2,34.3610,6,56.11,2,116.19,2,40.29,2,0.00,2,2.87,2,2331.6,2,2357.0,2,7.4089,2,-999,9,-999,9
49UF20160407,KS16-04,4737,1,19,25253,2,20160412,1319,23.992,136.9855,4022,1214.5,1203,3.1338,34.4628,2,34.4627,2,63.66,2,130.07,2,40.59,2,0.00,2,2.88,2,2345.0,2,2375.1,2,7.4267,2,-999,9,-999,9
49UF20160407,KS16-04,4737,1,18,25252,2,20160412,1314,23.992,136.9855,4022,1416.1,1402,2.6897,34.5323,2,-999.0000,9,82.25,2,136.75,2,39.68,2,0.00,2,2.80,2,2342.1,2,2391.6,2,7.4657,2,-999,9,-999,9
49UF20160407,KS16-04,4737,1,17,25251,2,20160412,1310,23.992,136.9855,4022,1619.9,1603,2.4137,34.5659,2,34.5651,2,93.47,2,139.31,2,39.06,2,0.00,2,2.75,2,2342.7,2,2397.1,2,7.4855,2,-999,9,-999,9
49UF20160407,KS16-04,4737,1,16,25250,2,20160412,1306,23.992,136.9855,4022,1820.9,1801,2.1486,34.5966,2,34.6752,4,105.98,2,141.53,2,38.53,2,0.00,2,2.70,2,2338.3,2,2401.1,6,7.5073,2,-999,9,-999,9
49UF20160407,KS16-04,4737,1,15,25249,2,20160412,1301,23.992,136.9855,4022,2025.1,2003,1.9480,34.6205,2,34.6276,4,117.12,2,142.25,2,37.96,2,0.00,2,2.65,2,2340.3,2,2404.5,2,7.5282,6,-999,9,-999,9
49UF20160407,KS16-04,4737,1,14,25248,2,20160412,1256,23.992,136.9855,4022,2277.3,2251,1.8119,34.6370,2,34.6623,4,125.58,2,142.74,2,37.47,2,0.00,2,2.62,2,2334.7,2,2406.0,2,7.5412,2,-999,9,-999,9
49UF20160407,KS16-04,4737,1,12,25246,2,20160412,1250,23.992,136.9855,4022,2533.4,2502,1.7153,34.6495,2,34.6494,2,132.72,2,142.75,2,37.06,2,0.00,2,2.58,2,2333.4,2,2409.6,2,7.5531,2,-999,9,-999,9
49UF20160407,KS16-04,4737,1,13,25247,2,20160412,1250,23.992,136.9855,4022,2533.8,2503,1.7154,34.6494,2,34.6528,2,132.46,2,142.44,2,37.09,2,0.00,2,2.58,2,2335.6,2,2410.9,2,7.5548,2,-999,9,-999,9
49UF20160407,KS16-04,4737,1,11,25245,2,20160412,1245,23.992,136.9855,4022,2787.7,2752,1.6498,34.6585,2,34.6586,2,137.89,6,142.40,6,36.75,6,0.00,6,2.56,6,2331.4,2,2410.3,2,7.5618,2,-999,9,-999,9
49UF20160407,KS16-04,4737,1,9,25243,2,20160412,1239,23.992,136.9855,4022,3043.7,3003,1.5904,34.6666,2,34.6676,2,143.19,2,142.16,2,36.47,2,0.00,2,2.53,2,2324.7,2,2411.9,2,7.5680,2,-999,9,-999,9
49UF20160407,KS16-04,4737,1,10,25244,2,20160412,1240,23.992,136.9855,4022,3045.3,3004,1.5904,34.6666,2,34.6670,2,143.60,2,142.20,2,36.48,2,0.00,2,2.53,2,2327.3,2,2411.0,2,7.5727,2,-999,9,-999,9
49UF20160407,KS16-04,4737,1,7,25241,2,20160412,1234,23.992,136.9855,4022,3298.6,3252,1.5673,34.6713,2,34.6729,2,146.57,2,141.74,2,36.24,2,0.00,2,2.52,2,2322.7,2,2411.0,2,7.5779,2,-999,9,-999,9
49UF20160407,KS16-04,4737,1,8,25242,2,20160412,1234,23.992,136.9855,4022,3300.0,3254,1.5678,34.6713,2,34.6713,2,147.31,2,142.05,2,36.22,2,0.00,2,2.51,2,2323.2,2,2411.2,2,7.5755,2,-999,9,-999,9
49UF20160407,KS16-04,4737,1,5,25239,2,20160412,1228,23.992,136.9855,4022,3554.8,3503,1.5371,34.6771,2,34.6774,2,150.95,2,141.69,2,36.03,2,0.00,2,2.50,2,2318.5,2,2410.4,2,7.5798,2,-999,9,-999,9
49UF20160407,KS16-04,4737,1,6,25240,2,20160412,1228,23.992,136.9855,4022,3556.0,3504,1.5371,34.6771,2,34.6783,2,151.11,2,141.63,2,35.94,2,0.00,2,2.49,2,2320.4,6,2410.7,6,7.5817,2,-999,9,-999,9
49UF20160407,KS16-04,4737,1,4,25238,2,20160412,1223,23.992,136.9855,4022,3808.3,3750,1.5299,34.6801,2,34.6803,2,153.74,2,141.01,2,35.96,2,0.00,2,2.49,2,2323.1,2,2410.8,2,7.5860,6,-999,9,-999,9
49UF20160407,KS16-04,4737,1,3,25237,2,20160412,1217,23.992,136.9855,4022,4065.9,4002,1.5412,34.6817,2,34.6818,2,154.82,2,140.54,2,35.79,2,0.00,2,2.48,2,2321.2,2,2410.2,2,7.5883,2,-999,9,-999,9
49UF20160407,KS16-04,4737,1,1,25235,2,20160412,1216,23.992,136.9855,4022,4078.2,4014,1.5425,34.6817,2,34.6817,2,154.57,2,140.63,2,35.78,2,0.00,2,2.47,2,2317.9,2,2409.8,2,7.5863,2,-999,9,-999,9
49UF20160407,KS16-04,4737,1,2,25236,2,20160412,1216,23.992,136.9855,4022,4078.8,4014,1.5426,34.6815,2,34.6813,2,154.70,2,140.67,2,35.71,2,0.00,2,2.47,2,2318.3,2,2409.8,2,7.5888,2,-999,9,-999,9
49UF20160407,KS16-04,4738,1,-999,0,2,20160412,2306,24.2417,136.1992,3712,0.0,0,24.5135,34.9287,2,-999.,9,211.72,2,1.25,2,0.08,2,0.01,2,0.01,2,-999.,9,-999.,9,-999.,9,-999,9,-999,9
49UF20160407,KS16-04,4738,1,33,25267,2,20160412,2328,24.2417,136.1992,3712,12.3,12,23.7263,35.0257,2,-999.,9,214.31,2,1.22,2,0.00,2,0.00,2,0.01,2,-999.,9,-999.,9,-999.,9,-999,9,-999,9
49UF20160407,KS16-04,4738,1,32,25266,2,20160412,2326,24.2417,136.1992,3712,27.4,27,22.7233,35.0455,2,-999.,9,218.23,2,1.27,2,0.00,2,0.00,2,0.01,2,-999.,9,-999.,9,-999.,9,-999,9,-999,9
49UF20160407,KS16-04,4738,1,31,25265,2,20160412,2322,24.2417,136.1992,3712,53.9,54,21.7928,34.9644,2,-999.,9,220.57,2,1.40,2,0.00,2,0.00,2,0.01,2,-999.,9,-999.,9,-999.,9,-999,9,-999,9
49UF20160407,KS16-04,4738,1,27,25261,2,20160412,2321,24.2417,136.1992,3712,76.6,76,21.0082,34.9382,2,-999.,9,220.98,2,1.54,2,0.00,2,0.00,2,0.01,2,-999.,9,-999.,9,-999.,9,-999,9,-999,9
49UF20160407,KS16-04,4738,1,26,25260,2,20160412,2320,24.2417,136.1992,3712,101.8,101,19.8718,34.8852,2,-999.,9,214.85,2,1.90,2,0.99,2,0.11,2,0.08,2,-999.,9,-999.,9,-999.,9,-999,9,-999,9
49UF20160407,KS16-04,4738,1,25,25259,2,20160412,2318,24.2417,136.1992,3712,128.4,128,19.4028,34.8795,2,-999.,9,215.92,6,2.09,6,1.44,6,0.03,6,0.10,6,-999.,9,-999.,9,-999.,9,-999,9,-999,9
49UF20160407,KS16-04,4738,1,20,25254,2,20160412,2317,24.2417,136.1992,3712,154.8,154,18.6450,34.8206,2,-999.,9,202.91,2,2.96,2,3.12,2,0.02,2,0.21,2,-999.,9,-999.,9,-999.,9,-999,9,-999,9
49UF20160407,KS16-04,4738,1,21,25255,2,20160412,2317,24.2417,136.1992,3712,156.2,155,18.6285,34.8201,2,-999.,9,203.20,2,2.95,2,3.11,2,0.02,2,0.21,2,-999.,9,-999.,9,-999.,9,-999,9,-999,9
49UF20160407,KS16-04,4738,1,19,25253,2,20160412,2315,24.2417,136.1992,3712,202.4,201,17.4261,34.7447,2,-999.,9,202.15,2,4.13,2,4.80,2,0.01,2,0.31,2,-999.,9,-999.,9,-999.,9,-999,9,-999,9
49UF20160407,KS16-04,4738,1,18,25252,2,20160412,2313,24.2417,136.1992,3712,253.0,251,16.7596,34.6987,2,-999.,9,202.67,2,5.16,2,5.73,2,0.01,2,0.37,2,-999.,9,-999.,9,-999.,9,-999,9,-999,9
49UF20160407,KS16-04,4738,1,17,25251,2,20160412,2312,24.2417,136.1992,3712,303.8,302,15.9876,34.6367,2,-999.,9,199.73,2,6.95,2,7.17,2,0.00,2,0.48,2,-999.,9,-999.,9,-999.,9,-999,9,-999,9
49UF20160407,KS16-04,4738,1,16,25250,2,20160412,2309,24.2417,136.1992,3712,405.0,402,13.4263,34.4417,2,-999.,9,187.84,2,14.61,2,12.39,2,0.00,2,0.85,2,-999.,9,-999.,9,-999.,9,-999,9,-999,9
49UF20160407,KS16-04,4738,1,15,25249,2,20160412,2306,24.2417,136.1992,3712,508.6,505,10.4108,34.2452,2,-999.,9,171.36,2,27.98,2,18.81,2,0.00,2,1.32,2,-999.,9,-999.,9,-999.,9,-999,9,-999,9
49UF20160407,KS16-04,4738,1,14,25248,2,20160412,2303,24.2417,136.1992,3712,608.0,603,8.4972,34.1592,2,-999.,9,144.86,2,41.90,2,24.66,2,0.00,2,1.75,2,-999.,9,-999.,9,-999.,9,-999,9,-999,9
49UF20160407,KS16-04,4738,1,13,25247,2,20160412,2300,24.2417,136.1992,3712,708.0,702,6.0367,34.1408,2,-999.,9,98.99,2,70.94,2,33.23,2,0.00,2,2.38,2,-999.,9,-999.,9,-999.,9,-999,9,-999,9
49UF20160407,KS16-04,4738,1,9,25243,2,20160412,2258,24.2417,136.1992,3712,808.7,802,5.0333,34.2113,2,-999.,9,72.64,2,89.23,2,37.14,2,0.00,2,2.66,2,-999.,9,-999.,9,-999.,9,-999,9,-999,9
49UF20160407,KS16-04,4738,1,8,25242,2,20160412,2255,24.2417,136.1992,3712,909.3,902,4.3997,34.2768,2,-999.,9,61.62,2,103.16,2,38.98,2,0.00,2,2.79,2,-999.,9,-999.,9,-999.,9,-999,9,-999,9
49UF20160407,KS16-04,4738,1,7,25241,2,20160412,2252,24.2417,136.1992,3712,1012.9,1004,3.8963,34.3406,2,-999.,9,57.15,6,114.70,6,40.22,6,0.00,6,2.86,6,-999.,9,-999.,9,-999.,9,-999,9,-999,9
49UF20160407,KS16-04,4738,1,6,25240,2,20160412,2248,24.2417,136.1992,3712,1213.2,1202,3.1357,34.4396,2,-999.,9,58.44,2,131.83,2,40.94,2,0.00,2,2.90,2,-999.,9,-999.,9,-999.,9,-999,9,-999,9
49UF20160407,KS16-04,4738,1,5,25239,2,20160412,2248,24.2417,136.1992,3712,1213.3,1202,3.1360,34.4394,2,-999.,9,58.56,2,131.63,2,40.93,2,0.00,2,2.90,2,-999.,9,-999.,9,-999.,9,-999,9,-999,9
49UF20160407,KS16-04,4738,1,4,25238,2,20160412,2243,24.2417,136.1992,3712,1416.5,1403,2.7090,34.5030,2,-999.,9,70.57,2,139.03,2,40.55,2,0.00,2,2.86,2,-999.,9,-999.,9,-999.,9,-999,9,-999,9
49UF20160407,KS16-04,4738,1,3,25237,2,20160412,2239,24.2417,136.1992,3712,1619.1,1603,2.3714,34.5577,2,-999.,9,89.11,2,141.78,2,39.53,2,0.00,2,2.78,2,-999.,9,-999.,9,-999.,9,-999,9,-999,9
49UF20160407,KS16-04,4738,1,2,25236,2,20160412,2234,24.2417,136.1992,3712,1821.3,1802,2.1713,34.5883,2,-999.,9,102.28,2,142.41,2,38.81,2,0.00,2,2.72,2,-999.,9,-999.,9,-999.,9,-999,9,-999,9
49UF20160407,KS16-04,4738,1,1,25235,2,20160412,2230,24.2417,136.1992,3712,2023.5,2001,1.9906,34.6144,2,-999.,9,113.57,2,142.66,2,38.15,2,0.00,2,2.66,2,-999.,9,-999.,9,-999.,9,-999,9,-999,9
49UF20160407,KS16-04,4740,1,-999,0,2,20160413,0747,24.256,135.0007,5138,0.0,0,24.8611,34.9111,2,34.9003,2,211.45,2,1.28,2,0.02,2,0.01,2,0.01,2,1979.8,2,2291.2,2,8.0726,2,-999,9,-999,9
49UF20160407,KS16-04,4740,1,33,25267,2,20160413,0804,24.256,135.0007,5138,12.7,13,24.4444,34.9865,2,-999.0000,9,213.20,2,1.21,2,0.00,2,0.00,2,0.00,2,1979.2,2,2293.3,2,8.0731,2,-999,9,-999,9
49UF20160407,KS16-04,4740,1,32,25266,2,20160413,0802,24.256,135.0007,5138,27.4,27,23.6480,35.0323,2,-999.0000,9,217.50,2,1.19,2,0.00,2,0.00,2,0.00,2,1989.3,2,2299.3,2,8.0707,2,-999,9,-999,9
49UF20160407,KS16-04,4740,1,31,25265,2,20160413,0759,24.256,135.0007,5138,52.2,52,22.2900,34.9741,2,-999.0000,9,219.38,2,1.36,2,0.00,2,0.00,2,0.00,2,1988.5,2,2294.5,2,8.0608,2,-999,9,-999,9
49UF20160407,KS16-04,4740,1,27,25261,2,20160413,0757,24.256,135.0007,5138,76.6,76,21.4810,34.9386,2,-999.0000,9,217.83,2,1.52,2,0.00,2,0.00,2,0.01,2,1999.9,2,2291.1,2,8.0464,2,-999,9,-999,9
49UF20160407,KS16-04,4740,1,26,25260,2,20160413,0756,24.256,135.0007,5138,102.0,101,20.4786,34.8875,2,-999.0000,9,207.77,2,1.95,2,1.06,2,0.15,2,0.08,2,2013.0,2,2287.0,2,8.0181,2,-999,9,-999,9
49UF20160407,KS16-04,4740,1,25,25259,2,20160413,0755,24.256,135.0007,5138,127.5,127,19.7402,34.8517,2,-999.0000,9,201.63,2,2.40,2,2.30,2,0.04,2,0.15,2,2022.8,2,2283.2,2,7.9904,4,-999,9,-999,9
49UF20160407,KS16-04,4740,1,21,25255,2,20160413,0754,24.256,135.0007,5138,153.0,152,18.9855,34.8293,2,-999.0000,9,199.32,2,2.80,2,3.10,2,0.02,2,0.20,2,2031.5,2,2282.7,2,7.9743,4,-999,9,-999,9
49UF20160407,KS16-04,4740,1,20,25254,2,20160413,0752,24.256,135.0007,5138,203.8,202,18.0132,34.7863,2,-999.0000,9,202.46,2,3.45,2,3.93,2,0.01,2,0.26,2,2035.9,2,2279.8,2,7.9638,4,-999,9,-999,9
49UF20160407,KS16-04,4740,1,19,25253,2,20160413,0750,24.256,135.0007,5138,253.9,252,17.0988,34.7239,2,-999.0000,9,203.42,2,4.64,2,5.20,2,0.01,2,0.34,2,2045.4,2,2276.2,2,7.9457,2,-999,9,-999,9
49UF20160407,KS16-04,4740,1,18,25252,2,20160413,0748,24.256,135.0007,5138,303.2,301,16.3810,34.6677,2,-999.0000,9,199.08,2,6.35,2,6.70,2,0.00,2,0.44,2,2056.3,2,2277.8,2,7.9227,2,-999,9,-999,9
49UF20160407,KS16-04,4740,1,17,25251,2,20160413,0745,24.256,135.0007,5138,404.3,401,14.1727,34.5009,2,-999.0000,9,182.57,6,13.68,6,11.79,6,0.00,6,0.80,6,2089.6,2,2273.9,2,7.8404,2,-999,9,-999,9
49UF20160407,KS16-04,4740,1,16,25250,2,20160413,0743,24.256,135.0007,5138,505.5,502,11.1277,34.2977,2,-999.0000,9,171.51,2,25.84,2,17.77,2,0.00,2,1.24,2,2129.4,2,2273.2,2,7.7414,2,-999,9,-999,9
49UF20160407,KS16-04,4740,1,15,25249,2,20160413,0743,24.256,135.0007,5138,505.5,502,11.1225,34.2973,2,-999.0000,9,171.23,2,25.90,2,17.79,2,0.00,2,1.24,2,2130.7,2,2274.1,2,7.7464,2,-999,9,-999,9
49UF20160407,KS16-04,4740,1,14,25248,2,20160413,0740,24.256,135.0007,5138,606.7,602,7.7047,34.1381,2,-999.0000,9,133.20,2,50.34,2,27.23,2,0.00,2,1.94,2,2202.0,6,2286.6,6,7.5895,2,-999,9,-999,9
49UF20160407,KS16-04,4740,1,13,25247,2,20160413,0737,24.256,135.0007,5138,709.0,703,6.3541,34.1274,2,-999.0000,9,110.11,2,66.21,2,31.65,2,0.00,2,2.26,2,2240.2,2,2299.9,2,7.5177,6,-999,9,-999,9
49UF20160407,KS16-04,4740,1,9,25243,2,20160413,0734,24.256,135.0007,5138,806.8,800,5.1055,34.2009,2,-999.0000,9,75.71,2,88.22,2,36.91,2,0.00,2,2.64,2,2292.5,2,2322.7,2,7.4409,2,-999,9,-999,9
49UF20160407,KS16-04,4740,1,8,25242,2,20160413,0732,24.256,135.0007,5138,910.3,903,4.3433,34.2762,2,-999.0000,9,61.05,6,104.96,6,39.22,6,0.00,6,2.80,6,2318.5,2,2341.8,2,7.4096,2,-999,9,-999,9
49UF20160407,KS16-04,4740,1,6,25240,2,20160413,0729,24.256,135.0007,5138,1011.1,1002,3.8539,34.3450,2,-999.0000,9,55.90,2,116.19,2,40.35,2,0.00,2,2.87,2,2331.9,2,2356.9,2,7.4039,2,-999,9,-999,9
49UF20160407,KS16-04,4740,1,7,25241,2,20160413,0729,24.256,135.0007,5138,1011.6,1003,3.8527,34.3456,2,-999.0000,9,55.77,2,116.10,2,40.38,2,0.00,2,2.87,2,2330.1,2,2355.0,2,7.4030,2,-999,9,-999,9
49UF20160407,KS16-04,4740,1,5,25239,2,20160413,0725,24.256,135.0007,5138,1213.7,1202,3.1764,34.4555,2,-999.0000,9,63.00,2,130.27,2,40.73,2,0.00,2,2.88,2,2342.5,2,2376.0,2,7.4240,2,-999,9,-999,9
49UF20160407,KS16-04,4740,1,4,25238,2,20160413,0720,24.256,135.0007,5138,1415.7,1402,2.8014,34.5205,2,-999.0000,9,78.86,2,135.72,2,39.92,2,0.00,2,2.82,2,2350.9,2,2389.8,2,7.4587,2,-999,9,-999,9
49UF20160407,KS16-04,4740,1,3,25237,2,20160413,0716,24.256,135.0007,5138,1618.1,1602,2.4522,34.5508,2,-999.0000,9,86.99,2,141.08,2,39.59,2,0.00,2,2.78,2,2349.7,6,2395.2,6,7.4703,3,-999,9,-999,9
49UF20160407,KS16-04,4740,1,2,25236,2,20160413,0711,24.256,135.0007,5138,1822.6,1803,2.1999,34.5872,2,-999.0000,9,102.02,2,141.93,2,38.78,2,0.00,2,2.72,2,2340.2,2,2399.1,2,7.4980,6,-999,9,-999,9
49UF20160407,KS16-04,4740,1,1,25235,2,20160413,0707,24.256,135.0007,5138,2024.8,2002,2.0036,34.6101,2,-999.0000,9,112.10,2,143.19,2,38.19,2,0.00,2,2.67,2,2342.6,2,2403.5,2,7.5184,2,-999,9,-999,9