BOTTLE,20171210JMAGEMD
EXPOCODE,SECT_ID,STNNBR,CASTNO,SAMPNO,BTLNBR,BTLNBR_FLAG_W,DATE,TIME,LATITUDE,LONGITUDE,DEPTH,CTDPRS,CTDDEP,CTDTMP,CTDSAL,CTDSAL_FLAG_W,SALNTY,SALNTY_FLAG_W,OXYGEN,OXYGEN_FLAG_W,SILCAT,SILCAT_FLAG_W,NO2+NO3,NO2+NO3_FLAG_W,NITRIT,NITRIT_FLAG_W,PHSPHT,PHSPHT_FLAG_W,TCARBN,TCARBN_FLAG_W,ALKALI,ALKALI_FLAG_W,PH_TOT,PH_TOT_FLAG_W,CFC-11,CFC-11_FLAG_W,CFC-12,CFC-12_FLAG_W
,,,,,,,UTC,UTC,,,METER,DBAR,METERS,ITS-90,PSS-78,,PSS-78,,UMOL/KG,,UMOL/KG,,UMOL/KG,,UMOL/KG,,UMOL/KG,,UMOL/KG,,UMOL/KG,,@25DEG-C,,PMOL/KG,,PMOL/KG,
49UF20160407,KS16-04,4757,1,-999,0,2,20160416,0308,25.5052,128.7388,7151,0.0,0,22.5299,34.5681,2,-999.0000,9,221.38,2,1.16,2,0.07,2,0.00,2,0.01,2,-999.,9,-999.,9,-999.,9,-999,9,-999,9
49UF20160407,KS16-04,4757,1,36,25270,2,20160416,0337,25.5052,128.7388,7151,11.3,11,22.4396,34.5554,2,34.5574,2,222.39,2,1.16,2,0.03,2,0.00,2,0.00,2,-999.,9,-999.,9,-999.,9,-999,9,-999,9
49UF20160407,KS16-04,4757,1,35,25269,2,20160416,0335,25.5052,128.7388,7151,26.9,27,21.3153,34.8706,2,-999.0000,9,225.76,2,1.38,2,0.02,2,0.00,2,0.01,2,-999.,9,-999.,9,-999.,9,-999,9,-999,9
49UF20160407,KS16-04,4757,1,34,25268,2,20160416,0330,25.5052,128.7388,7151,51.6,51,20.6460,34.9141,2,-999.0000,9,217.42,2,1.62,2,0.25,2,0.07,2,0.04,2,-999.,9,-999.,9,-999.,9,-999,9,-999,9
49UF20160407,KS16-04,4757,1,33,25267,2,20160416,0329,25.5052,128.7388,7151,79.9,79,20.1726,34.9180,2,34.9165,2,220.51,2,1.60,2,0.39,2,0.13,2,0.04,2,-999.,9,-999.,9,-999.,9,-999,9,-999,9
49UF20160407,KS16-04,4757,1,32,25266,2,20160416,0327,25.5052,128.7388,7151,102.2,102,19.6275,34.8686,2,34.8683,2,205.95,2,2.26,2,1.99,2,0.02,2,0.13,2,-999.,9,-999.,9,-999.,9,-999,9,-999,9
49UF20160407,KS16-04,4757,1,31,25265,2,20160416,0326,25.5052,128.7388,7151,126.6,126,18.9229,34.8303,2,34.8274,2,199.15,2,2.70,2,2.90,2,0.02,2,0.19,2,-999.,9,-999.,9,-999.,9,-999,9,-999,9
49UF20160407,KS16-04,4757,1,30,25264,2,20160416,0324,25.5052,128.7388,7151,153.9,153,18.2719,34.8014,2,-999.0000,9,202.32,2,3.18,2,3.63,2,0.01,2,0.24,2,-999.,9,-999.,9,-999.,9,-999,9,-999,9
49UF20160407,KS16-04,4757,1,29,25263,2,20160416,0322,25.5052,128.7388,7151,206.0,205,17.6255,34.7590,2,34.7596,6,202.42,2,3.81,2,4.45,2,0.01,2,0.29,2,-999.,9,-999.,9,-999.,9,-999,9,-999,9
49UF20160407,KS16-04,4757,1,28,25262,2,20160416,0320,25.5052,128.7388,7151,253.7,252,16.8935,34.7094,2,34.7067,2,202.88,2,4.94,2,5.56,2,0.00,2,0.36,2,-999.,9,-999.,9,-999.,9,-999,9,-999,9
49UF20160407,KS16-04,4757,1,27,25261,2,20160416,0317,25.5052,128.7388,7151,308.1,306,16.0324,34.6405,2,-999.0000,9,195.33,2,7.23,2,7.49,2,0.00,2,0.49,2,-999.,9,-999.,9,-999.,9,-999,9,-999,9
49UF20160407,KS16-04,4757,1,26,25260,2,20160416,0314,25.5052,128.7388,7151,405.9,403,13.8143,34.4763,2,34.4717,6,181.93,2,14.75,2,12.52,2,0.00,2,0.85,2,-999.,9,-999.,9,-999.,9,-999,9,-999,9
49UF20160407,KS16-04,4757,1,25,25259,2,20160416,0311,25.5052,128.7388,7151,507.3,503,10.7200,34.2892,2,34.2863,2,153.82,2,28.22,2,20.03,2,0.00,2,1.41,2,-999.,9,-999.,9,-999.,9,-999,9,-999,9
49UF20160407,KS16-04,4757,1,24,25258,2,20160416,0308,25.5052,128.7388,7151,606.5,602,7.6932,34.1822,2,34.1815,2,121.05,2,52.37,2,28.47,2,0.00,2,2.02,2,-999.,9,-999.,9,-999.,9,-999,9,-999,9
49UF20160407,KS16-04,4757,1,23,25257,2,20160416,0305,25.5052,128.7388,7151,707.9,702,6.0942,34.2258,2,-999.0000,9,85.94,6,73.89,6,34.49,6,0.00,6,2.46,6,-999.,9,-999.,9,-999.,9,-999,9,-999,9
49UF20160407,KS16-04,4757,1,22,25256,2,20160416,0301,25.5052,128.7388,7151,808.7,802,5.2706,34.2702,2,34.2702,2,74.77,2,87.52,2,36.96,2,0.00,2,2.63,2,-999.,9,-999.,9,-999.,9,-999,9,-999,9
49UF20160407,KS16-04,4757,1,21,25255,2,20160416,0258,25.5052,128.7388,7151,910.7,903,4.9104,34.3584,2,-999.0000,9,76.19,2,99.23,2,37.02,2,0.00,2,2.63,2,-999.,9,-999.,9,-999.,9,-999,9,-999,9
49UF20160407,KS16-04,4757,1,20,25254,2,20160416,0255,25.5052,128.7388,7151,1012.0,1003,4.1432,34.3847,2,34.3835,2,67.01,2,110.67,2,39.20,2,0.00,2,2.77,2,-999.,9,-999.,9,-999.,9,-999,9,-999,9
49UF20160407,KS16-04,4757,1,19,25253,2,20160416,0251,25.5052,128.7388,7151,1214.3,1203,3.3679,34.4938,2,34.4936,2,79.93,6,125.29,6,39.17,6,0.00,6,2.76,6,-999.,9,-999.,9,-999.,9,-999,9,-999,9
49UF20160407,KS16-04,4757,1,18,25252,2,20160416,0246,25.5052,128.7388,7151,1415.6,1402,2.5928,34.5251,2,34.5242,2,80.17,2,139.43,2,40.15,2,0.00,2,2.81,2,-999.,9,-999.,9,-999.,9,-999,9,-999,9
49UF20160407,KS16-04,4757,1,17,25251,2,20160416,0241,25.5052,128.7388,7151,1618.0,1601,2.3011,34.5616,2,34.5603,2,90.57,2,142.77,2,39.55,2,0.00,2,2.77,2,-999.,9,-999.,9,-999.,9,-999,9,-999,9
49UF20160407,KS16-04,4757,1,16,25250,2,20160416,0237,25.5052,128.7388,7151,1821.9,1802,2.0949,34.5919,2,-999.0000,9,103.09,2,143.45,2,38.90,2,0.00,2,2.71,2,-999.,9,-999.,9,-999.,9,-999,9,-999,9
49UF20160407,KS16-04,4757,1,15,25249,2,20160416,0232,25.5052,128.7388,7151,2024.2,2001,1.9543,34.6134,2,34.6120,2,112.90,2,143.49,2,38.32,2,0.00,2,2.67,2,-999.,9,-999.,9,-999.,9,-999,9,-999,9
49UF20160407,KS16-04,4757,1,14,25248,2,20160416,0227,25.5052,128.7388,7151,2278.1,2251,1.7985,34.6416,2,34.6409,2,127.32,2,142.31,2,37.54,2,0.00,2,2.60,2,-999.,9,-999.,9,-999.,9,-999,9,-999,9
49UF20160407,KS16-04,4757,1,13,25247,2,20160416,0221,25.5052,128.7388,7151,2533.8,2502,1.7006,34.6542,2,34.6523,2,134.24,2,142.26,2,37.11,2,0.00,2,2.57,2,-999.,9,-999.,9,-999.,9,-999,9,-999,9
49UF20160407,KS16-04,4757,1,12,25246,2,20160416,0216,25.5052,128.7388,7151,2789.8,2753,1.6251,34.6627,2,34.6621,2,139.91,2,142.32,2,36.88,2,0.00,2,2.54,2,-999.,9,-999.,9,-999.,9,-999,9,-999,9
49UF20160407,KS16-04,4757,1,11,25245,2,20160416,0211,25.5052,128.7388,7151,3046.4,3005,1.5880,34.6685,2,34.6679,6,143.63,6,142.07,6,36.54,6,0.00,6,2.52,6,-999.,9,-999.,9,-999.,9,-999,9,-999,9
49UF20160407,KS16-04,4757,1,10,25244,2,20160416,0205,25.5052,128.7388,7151,3299.6,3253,1.5653,34.6728,2,34.6719,2,146.91,2,141.89,2,36.41,2,0.00,2,2.50,2,-999.,9,-999.,9,-999.,9,-999,9,-999,9
49UF20160407,KS16-04,4757,1,9,25243,2,20160416,0200,25.5052,128.7388,7151,3554.1,3502,1.5645,34.6752,2,34.6742,2,148.74,2,141.50,2,36.20,2,0.00,2,2.49,2,-999.,9,-999.,9,-999.,9,-999,9,-999,9
49UF20160407,KS16-04,4757,1,8,25242,2,20160416,0155,25.5052,128.7388,7151,3810.3,3752,1.5671,34.6775,2,34.6767,2,150.30,2,141.08,2,36.14,2,0.00,2,2.49,2,-999.,9,-999.,9,-999.,9,-999,9,-999,9
49UF20160407,KS16-04,4757,1,7,25241,2,20160416,0149,25.5052,128.7388,7151,4067.2,4003,1.5806,34.6788,2,34.6783,2,151.88,2,141.08,2,36.07,2,0.00,2,2.48,2,-999.,9,-999.,9,-999.,9,-999,9,-999,9
49UF20160407,KS16-04,4757,1,6,25240,2,20160416,0139,25.5052,128.7388,7151,4580.9,4503,1.6158,34.6810,2,34.6808,2,153.88,2,140.91,2,35.87,2,0.00,2,2.47,2,-999.,9,-999.,9,-999.,9,-999,9,-999,9
49UF20160407,KS16-04,4757,1,5,25239,2,20160416,0129,25.5052,128.7388,7151,5094.4,5002,1.6692,34.6819,2,34.6819,6,154.52,2,140.52,2,35.87,2,0.00,2,2.46,2,-999.,9,-999.,9,-999.,9,-999,9,-999,9
49UF20160407,KS16-04,4757,1,4,25238,2,20160416,0123,25.5052,128.7388,7151,5353.4,5253,1.6990,34.6821,2,34.6819,2,154.98,2,140.47,2,35.92,2,0.00,2,2.46,2,-999.,9,-999.,9,-999.,9,-999,9,-999,9
49UF20160407,KS16-04,4757,1,3,25237,2,20160416,0118,25.5052,128.7388,7151,5609.9,5502,1.7315,34.6820,2,34.6824,2,155.03,2,140.49,2,35.90,2,0.00,2,2.46,2,-999.,9,-999.,9,-999.,9,-999,9,-999,9
49UF20160407,KS16-04,4757,1,2,25236,2,20160416,0112,25.5052,128.7388,7151,5868.8,5752,1.7662,34.6820,2,34.6822,2,154.94,2,140.51,2,35.73,2,0.00,2,2.46,2,-999.,9,-999.,9,-999.,9,-999,9,-999,9
49UF20160407,KS16-04,4757,1,1,25235,2,20160416,0107,25.5052,128.7388,7151,6126.7,6002,1.8024,34.6819,2,34.6824,6,154.95,6,140.31,6,35.84,6,0.00,6,2.46,6,-999.,9,-999.,9,-999.,9,-999,9,-999,9
49UF20160407,KS16-04,4760,1,-999,0,2,20160416,1237,25.9022,128.1393,2073,0.0,0,22.7340,34.7887,2,-999.,9,220.01,2,-999.,9,-999.,9,-999.,9,-999.,9,-999.,9,-999.,9,-999.,9,-999,9,-999,9
49UF20160407,KS16-04,4760,1,33,25267,2,20160416,1253,25.9022,128.1393,2073,13.3,13,22.6944,34.7999,2,-999.,9,220.40,2,-999.,9,-999.,9,-999.,9,-999.,9,-999.,9,-999.,9,-999.,9,-999,9,-999,9
49UF20160407,KS16-04,4760,1,32,25266,2,20160416,1252,25.9022,128.1393,2073,27.5,27,21.8779,34.9396,2,-999.,9,223.15,2,-999.,9,-999.,9,-999.,9,-999.,9,-999.,9,-999.,9,-999.,9,-999,9,-999,9
49UF20160407,KS16-04,4760,1,31,25265,2,20160416,1250,25.9022,128.1393,2073,53.3,53,20.1600,34.9005,2,-999.,9,227.57,2,-999.,9,-999.,9,-999.,9,-999.,9,-999.,9,-999.,9,-999.,9,-999,9,-999,9
49UF20160407,KS16-04,4760,1,27,25261,2,20160416,1249,25.9022,128.1393,2073,79.8,79,19.6669,34.8956,2,-999.,9,223.31,2,-999.,9,-999.,9,-999.,9,-999.,9,-999.,9,-999.,9,-999.,9,-999,9,-999,9
49UF20160407,KS16-04,4760,1,26,25260,2,20160416,1248,25.9022,128.1393,2073,104.3,104,19.4932,34.8923,2,-999.,9,219.90,2,-999.,9,-999.,9,-999.,9,-999.,9,-999.,9,-999.,9,-999.,9,-999,9,-999,9
49UF20160407,KS16-04,4760,1,25,25259,2,20160416,1246,25.9022,128.1393,2073,129.0,128,19.3858,34.8877,2,-999.,9,219.55,2,-999.,9,-999.,9,-999.,9,-999.,9,-999.,9,-999.,9,-999.,9,-999,9,-999,9
49UF20160407,KS16-04,4760,1,21,25255,2,20160416,1243,25.9022,128.1393,2073,152.7,152,19.2136,34.8742,2,-999.,9,215.05,2,-999.,9,-999.,9,-999.,9,-999.,9,-999.,9,-999.,9,-999.,9,-999,9,-999,9
49UF20160407,KS16-04,4760,1,20,25254,2,20160416,1241,25.9022,128.1393,2073,203.1,202,18.3945,34.8109,2,-999.,9,202.28,2,-999.,9,-999.,9,-999.,9,-999.,9,-999.,9,-999.,9,-999.,9,-999,9,-999,9
49UF20160407,KS16-04,4760,1,19,25253,2,20160416,1240,25.9022,128.1393,2073,259.6,258,17.5215,34.7516,2,-999.,9,202.55,2,-999.,9,-999.,9,-999.,9,-999.,9,-999.,9,-999.,9,-999.,9,-999,9,-999,9
49UF20160407,KS16-04,4760,1,18,25252,2,20160416,1238,25.9022,128.1393,2073,305.1,303,16.9825,34.7153,2,-999.,9,203.79,6,-999.,9,-999.,9,-999.,9,-999.,9,-999.,9,-999.,9,-999.,9,-999,9,-999,9
49UF20160407,KS16-04,4760,1,16,25250,2,20160416,1235,25.9022,128.1393,2073,404.7,402,15.0119,34.5596,2,-999.,9,187.80,2,-999.,9,-999.,9,-999.,9,-999.,9,-999.,9,-999.,9,-999.,9,-999,9,-999,9
49UF20160407,KS16-04,4760,1,17,25251,2,20160416,1235,25.9022,128.1393,2073,405.2,402,15.0095,34.5599,2,-999.,9,187.88,2,-999.,9,-999.,9,-999.,9,-999.,9,-999.,9,-999.,9,-999.,9,-999,9,-999,9
49UF20160407,KS16-04,4760,1,15,25249,2,20160416,1232,25.9022,128.1393,2073,505.7,502,11.8355,34.3453,2,-999.,9,173.51,2,-999.,9,-999.,9,-999.,9,-999.,9,-999.,9,-999.,9,-999.,9,-999,9,-999,9
49UF20160407,KS16-04,4760,1,14,25248,2,20160416,1230,25.9022,128.1393,2073,606.7,602,9.0137,34.2304,2,-999.,9,132.34,2,-999.,9,-999.,9,-999.,9,-999.,9,-999.,9,-999.,9,-999.,9,-999,9,-999,9
49UF20160407,KS16-04,4760,1,13,25247,2,20160416,1227,25.9022,128.1393,2073,707.7,702,7.1307,34.2047,2,-999.,9,105.17,2,-999.,9,-999.,9,-999.,9,-999.,9,-999.,9,-999.,9,-999.,9,-999,9,-999,9
49UF20160407,KS16-04,4760,1,9,25243,2,20160416,1225,25.9022,128.1393,2073,810.8,804,5.3026,34.2681,2,-999.,9,75.80,2,-999.,9,-999.,9,-999.,9,-999.,9,-999.,9,-999.,9,-999.,9,-999,9,-999,9
49UF20160407,KS16-04,4760,1,8,25242,2,20160416,1222,25.9022,128.1393,2073,910.0,902,4.4674,34.3665,2,-999.,9,69.68,2,-999.,9,-999.,9,-999.,9,-999.,9,-999.,9,-999.,9,-999.,9,-999,9,-999,9
49UF20160407,KS16-04,4760,1,7,25241,2,20160416,1219,25.9022,128.1393,2073,1010.2,1001,3.7153,34.4477,2,-999.,9,72.95,2,-999.,9,-999.,9,-999.,9,-999.,9,-999.,9,-999.,9,-999.,9,-999,9,-999,9
49UF20160407,KS16-04,4760,1,6,25240,2,20160416,1215,25.9022,128.1393,2073,1215.1,1204,3.1503,34.5036,2,-999.,9,80.81,6,-999.,9,-999.,9,-999.,9,-999.,9,-999.,9,-999.,9,-999.,9,-999,9,-999,9
49UF20160407,KS16-04,4760,1,5,25239,2,20160416,1210,25.9022,128.1393,2073,1416.2,1402,2.5817,34.5321,2,-999.,9,82.72,2,-999.,9,-999.,9,-999.,9,-999.,9,-999.,9,-999.,9,-999.,9,-999,9,-999,9
49UF20160407,KS16-04,4760,1,4,25238,2,20160416,1210,25.9022,128.1393,2073,1416.2,1402,2.5818,34.5320,2,-999.,9,82.61,2,-999.,9,-999.,9,-999.,9,-999.,9,-999.,9,-999.,9,-999.,9,-999,9,-999,9
49UF20160407,KS16-04,4760,1,3,25237,2,20160416,1205,25.9022,128.1393,2073,1617.9,1601,2.3114,34.5590,2,-999.,9,89.28,2,-999.,9,-999.,9,-999.,9,-999.,9,-999.,9,-999.,9,-999.,9,-999,9,-999,9
49UF20160407,KS16-04,4760,1,2,25236,2,20160416,1201,25.9022,128.1393,2073,1822.8,1803,2.1116,34.5896,2,-999.,9,102.30,2,-999.,9,-999.,9,-999.,9,-999.,9,-999.,9,-999.,9,-999.,9,-999,9,-999,9
49UF20160407,KS16-04,4760,1,1,25235,2,20160416,1156,25.9022,128.1393,2073,2026.8,2004,1.9562,34.6179,2,-999.,9,115.58,2,-999.,9,-999.,9,-999.,9,-999.,9,-999.,9,-999.,9,-999.,9,-999,9,-999,9
49UF20160407,KS16-04,4762,1,-999,0,2,20160416,1627,26.0627,127.8927,442,0.0,0,22.1706,34.7911,2,-999.0000,9,221.02,2,1.35,2,0.04,2,0.00,2,0.01,2,-999.,9,-999.,9,-999.,9,-999,9,-999,9
49UF20160407,KS16-04,4762,1,33,25267,2,20160416,1652,26.0627,127.8927,442,11.3,11,22.1739,34.7906,2,34.7901,2,221.10,2,1.26,2,0.00,2,0.00,2,0.01,2,-999.,9,-999.,9,-999.,9,-999,9,-999,9
49UF20160407,KS16-04,4762,1,32,25266,2,20160416,1650,26.0627,127.8927,442,27.7,28,22.0918,34.7758,2,-999.0000,9,220.76,2,1.30,2,0.00,2,0.00,2,0.01,2,-999.,9,-999.,9,-999.,9,-999,9,-999,9
49UF20160407,KS16-04,4762,1,31,25265,2,20160416,1648,26.0627,127.8927,442,52.4,52,20.4756,34.9090,2,34.9087,2,224.62,2,1.44,2,0.02,2,0.01,2,0.02,2,-999.,9,-999.,9,-999.,9,-999,9,-999,9
49UF20160407,KS16-04,4762,1,27,25261,2,20160416,1647,26.0627,127.8927,442,78.0,77,19.8041,34.9050,2,-999.0000,9,220.35,2,1.70,2,0.68,2,0.08,2,0.06,2,-999.,9,-999.,9,-999.,9,-999,9,-999,9
49UF20160407,KS16-04,4762,1,26,25260,2,20160416,1643,26.0627,127.8927,442,101.3,101,19.5682,34.8946,2,34.8937,2,220.87,2,1.79,2,0.82,2,0.04,2,0.07,2,-999.,9,-999.,9,-999.,9,-999,9,-999,9
49UF20160407,KS16-04,4762,1,25,25259,2,20160416,1642,26.0627,127.8927,442,127.4,127,19.4218,34.8864,2,-999.0000,9,217.54,2,1.93,2,1.21,2,0.03,2,0.09,2,-999.,9,-999.,9,-999.,9,-999,9,-999,9
49UF20160407,KS16-04,4762,1,21,25255,2,20160416,1640,26.0627,127.8927,442,153.8,153,19.3089,34.8840,2,34.8840,2,216.03,6,2.06,6,1.50,6,0.02,6,0.10,6,-999.,9,-999.,9,-999.,9,-999,9,-999,9
49UF20160407,KS16-04,4762,1,20,25254,2,20160416,1638,26.0627,127.8927,442,206.5,205,18.4245,34.8142,2,34.8149,2,204.98,2,3.11,2,3.31,2,0.02,2,0.22,2,-999.,9,-999.,9,-999.,9,-999,9,-999,9
49UF20160407,KS16-04,4762,1,19,25253,2,20160416,1636,26.0627,127.8927,442,252.8,251,17.3717,34.7396,2,34.7395,2,201.10,2,4.45,2,5.02,2,0.01,2,0.33,2,-999.,9,-999.,9,-999.,9,-999,9,-999,9
49UF20160407,KS16-04,4762,1,18,25252,2,20160416,1636,26.0627,127.8927,442,253.2,251,17.3590,34.7388,2,34.7379,2,201.11,2,4.41,2,5.00,2,0.01,2,0.33,2,-999.,9,-999.,9,-999.,9,-999,9,-999,9
49UF20160407,KS16-04,4762,1,17,25251,2,20160416,1634,26.0627,127.8927,442,304.1,302,16.3598,34.6647,2,-999.0000,9,196.71,2,6.50,2,6.83,2,0.01,2,0.45,2,-999.,9,-999.,9,-999.,9,-999,9,-999,9
49UF20160407,KS16-04,4762,1,16,25250,2,20160416,1630,26.0627,127.8927,442,408.4,405,14.1175,34.4991,2,34.4999,6,180.87,2,13.56,2,11.84,2,0.01,2,0.81,2,-999.,9,-999.,9,-999.,9,-999,9,-999,9
49UF20160407,KS16-04,4762,1,14,25248,2,20160416,1628,26.0627,127.8927,442,437.2,434,12.6692,34.4034,2,34.4029,2,170.99,2,19.17,2,15.14,2,0.01,2,1.05,2,-999.,9,-999.,9,-999.,9,-999,9,-999,9
49UF20160407,KS16-04,4762,1,15,25249,2,20160416,1628,26.0627,127.8927,442,437.6,434,12.6795,34.4040,2,34.4025,2,171.06,2,19.19,2,15.11,2,0.01,2,1.04,2,-999.,9,-999.,9,-999.,9,-999,9,-999,9
49UF20160407,KS16-04,4763,1,-999,0,2,20160416,2243,26.9967,127.5068,504,0.0,0,22.3270,34.8433,2,34.8423,2,217.66,2,1.35,2,0.03,2,0.00,2,0.02,2,1981.1,2,2286.1,2,8.0586,2,-999,9,-999,9
49UF20160407,KS16-04,4763,1,36,25270,2,20160416,2304,26.9967,127.5068,504,12.0,12,22.3290,34.8438,2,34.8432,6,217.28,2,1.35,2,0.04,2,0.00,2,0.01,2,1986.3,2,2286.4,2,8.0595,2,-999,9,-999,9
49UF20160407,KS16-04,4763,1,33,25267,2,20160416,2303,26.9967,127.5068,504,22.6,22,22.3045,34.8477,2,-999.0000,9,217.56,2,1.37,2,0.05,2,0.01,2,0.02,2,1988.3,2,2286.4,2,8.0611,2,-999,9,-999,9
49UF20160407,KS16-04,4763,1,32,25266,2,20160416,2302,26.9967,127.5068,504,32.7,32,22.1810,34.8874,2,-999.0000,9,216.88,2,1.37,2,0.03,2,0.02,2,0.02,2,1988.6,2,2289.7,2,8.0615,2,-999,9,-999,9
49UF20160407,KS16-04,4763,1,31,25265,2,20160416,2301,26.9967,127.5068,504,53.7,53,21.7693,34.8917,2,34.8917,2,216.04,2,1.46,2,0.25,2,0.10,2,0.03,2,1995.1,2,2289.1,2,8.0578,2,-999,9,-999,9
49UF20160407,KS16-04,4763,1,27,25261,2,20160416,2259,26.9967,127.5068,504,78.4,78,20.9575,34.9072,2,-999.0000,9,195.01,2,2.47,2,2.28,2,0.04,2,0.16,2,2018.8,2,2289.6,2,8.0111,2,-999,9,-999,9
49UF20160407,KS16-04,4763,1,26,25260,2,20160416,2256,26.9967,127.5068,504,106.9,106,20.4194,34.9080,2,34.9085,6,216.95,6,1.77,6,0.85,6,0.29,6,0.08,6,2002.4,2,2290.7,2,8.0379,2,-999,9,-999,9
49UF20160407,KS16-04,4763,1,25,25259,2,20160416,2255,26.9967,127.5068,504,126.9,126,20.1327,34.9015,2,34.8980,2,214.55,2,2.06,2,1.24,2,0.09,2,0.10,2,2009.9,2,2288.8,2,8.0278,2,-999,9,-999,9
49UF20160407,KS16-04,4763,1,21,25255,2,20160416,2254,26.9967,127.5068,504,152.7,152,19.2976,34.8556,2,34.8545,2,206.14,2,2.90,2,2.56,2,0.02,2,0.17,2,2021.5,2,2287.8,2,7.9962,2,-999,9,-999,9
49UF20160407,KS16-04,4763,1,20,25254,2,20160416,2254,26.9967,127.5068,504,152.8,152,19.2958,34.8553,2,34.8541,2,206.30,2,2.87,2,2.56,2,0.02,2,0.18,2,2018.6,2,2286.6,2,7.9976,2,-999,9,-999,9
49UF20160407,KS16-04,4763,1,19,25253,2,20160416,2252,26.9967,127.5068,504,203.4,202,18.8857,34.8293,2,34.8283,6,202.70,2,3.33,2,3.25,2,0.02,2,0.22,2,2030.8,2,2283.7,2,7.9830,2,-999,9,-999,9
49UF20160407,KS16-04,4763,1,18,25252,2,20160416,2250,26.9967,127.5068,504,253.6,252,18.3210,34.7951,2,34.7938,2,200.66,2,3.86,2,4.01,2,0.01,2,0.27,2,2036.2,2,2282.6,2,7.9654,2,-999,9,-999,9
49UF20160407,KS16-04,4763,1,17,25251,2,20160416,2249,26.9967,127.5068,504,304.7,302,17.3954,34.7385,2,-999.0000,9,200.44,2,4.63,2,5.02,2,0.01,2,0.33,2,2044.6,2,2279.2,2,7.9476,2,-999,9,-999,9
49UF20160407,KS16-04,4763,1,15,25249,2,20160416,2246,26.9967,127.5068,504,406.1,403,14.7398,34.5446,2,34.5441,2,181.45,2,12.62,2,10.87,2,0.01,2,0.75,2,2083.6,2,2275.8,2,7.8543,2,-999,9,-999,9
49UF20160407,KS16-04,4763,1,16,25250,2,20160416,2246,26.9967,127.5068,504,406.5,403,14.7349,34.5448,2,34.5445,2,181.55,2,12.72,2,10.85,2,0.01,2,0.74,2,2087.3,2,2274.8,2,7.8562,2,-999,9,-999,9
49UF20160407,KS16-04,4763,1,13,25247,2,20160416,2243,26.9967,127.5068,504,497.4,494,11.6743,34.3790,2,34.3789,6,157.32,2,27.68,2,18.16,2,0.01,2,1.27,2,2141.3,2,2279.4,2,7.7392,6,-999,9,-999,9
49UF20160407,KS16-04,4763,1,14,25248,2,20160416,2244,26.9967,127.5068,504,497.7,494,11.6660,34.3787,2,34.3790,2,157.24,6,27.64,6,18.12,6,0.01,6,1.27,6,2140.9,6,2278.7,6,7.7430,2,-999,9,-999,9