BOTTLE,20171210JMAGEMD
EXPOCODE,SECT_ID,STNNBR,CASTNO,SAMPNO,BTLNBR,BTLNBR_FLAG_W,DATE,TIME,LATITUDE,LONGITUDE,DEPTH,CTDPRS,CTDDEP,CTDTMP,CTDSAL,CTDSAL_FLAG_W,SALNTY,SALNTY_FLAG_W,OXYGEN,OXYGEN_FLAG_W,SILCAT,SILCAT_FLAG_W,NO2+NO3,NO2+NO3_FLAG_W,NITRIT,NITRIT_FLAG_W,PHSPHT,PHSPHT_FLAG_W,TCARBN,TCARBN_FLAG_W,ALKALI,ALKALI_FLAG_W,PH_TOT,PH_TOT_FLAG_W,CFC-11,CFC-11_FLAG_W,CFC-12,CFC-12_FLAG_W
,,,,,,,UTC,UTC,,,METER,DBAR,METERS,ITS-90,PSS-78,,PSS-78,,UMOL/KG,,UMOL/KG,,UMOL/KG,,UMOL/KG,,UMOL/KG,,UMOL/KG,,UMOL/KG,,@25DEG-C,,PMOL/KG,,PMOL/KG,
49UF20160407,KS16-04,4742,1,-999,0,2,20160413,1727,24.2527,133.9793,4917,0.0,0,24.6890,35.0044,2,-999.0000,9,211.76,2,1.22,2,0.01,2,0.00,2,0.01,2,-999.,9,-999.,9,-999.,9,-999,9,-999,9
49UF20160407,KS16-04,4742,1,36,25270,2,20160413,1752,24.2527,133.9793,4917,11.8,12,24.6439,35.0035,2,35.0110,2,212.62,2,1.20,2,0.00,2,0.00,2,0.00,2,-999.,9,-999.,9,-999.,9,-999,9,-999,9
49UF20160407,KS16-04,4742,1,35,25269,2,20160413,1751,24.2527,133.9793,4917,25.7,26,22.9687,35.0124,2,-999.0000,9,219.63,2,1.27,2,0.00,2,0.00,2,0.00,2,-999.,9,-999.,9,-999.,9,-999,9,-999,9
49UF20160407,KS16-04,4742,1,34,25268,2,20160413,1749,24.2527,133.9793,4917,52.3,52,21.8307,34.9451,2,34.9505,2,223.50,2,1.44,2,0.00,2,0.00,2,0.00,2,-999.,9,-999.,9,-999.,9,-999,9,-999,9
49UF20160407,KS16-04,4742,1,33,25267,2,20160413,1748,24.2527,133.9793,4917,76.5,76,21.5143,34.9353,2,-999.0000,9,222.01,2,1.47,2,0.00,2,0.00,2,0.00,2,-999.,9,-999.,9,-999.,9,-999,9,-999,9
49UF20160407,KS16-04,4742,1,32,25266,2,20160413,1746,24.2527,133.9793,4917,103.6,103,20.4915,34.8761,2,34.8800,2,210.83,2,1.80,2,0.52,2,0.09,2,0.05,2,-999.,9,-999.,9,-999.,9,-999,9,-999,9
49UF20160407,KS16-04,4742,1,31,25265,2,20160413,1745,24.2527,133.9793,4917,128.0,127,20.0455,34.8609,2,-999.0000,9,205.54,2,2.14,2,1.62,2,0.09,2,0.11,2,-999.,9,-999.,9,-999.,9,-999,9,-999,9
49UF20160407,KS16-04,4742,1,30,25264,2,20160413,1741,24.2527,133.9793,4917,152.7,152,19.4935,34.8443,2,-999.0000,9,201.45,2,2.47,2,2.45,2,0.04,2,0.16,2,-999.,9,-999.,9,-999.,9,-999,9,-999,9
49UF20160407,KS16-04,4742,1,29,25263,2,20160413,1739,24.2527,133.9793,4917,202.1,201,18.2390,34.7979,2,34.8026,2,201.52,2,3.18,2,3.67,2,0.01,2,0.24,2,-999.,9,-999.,9,-999.,9,-999,9,-999,9
49UF20160407,KS16-04,4742,1,28,25262,2,20160413,1738,24.2527,133.9793,4917,252.8,251,17.3573,34.7405,2,-999.0000,9,203.24,2,4.29,2,4.79,2,0.01,2,0.31,2,-999.,9,-999.,9,-999.,9,-999,9,-999,9
49UF20160407,KS16-04,4742,1,27,25261,2,20160413,1736,24.2527,133.9793,4917,304.7,303,16.6754,34.6946,2,-999.0000,9,202.69,2,5.39,2,5.86,2,0.00,2,0.38,2,-999.,9,-999.,9,-999.,9,-999,9,-999,9
49UF20160407,KS16-04,4742,1,26,25260,2,20160413,1733,24.2527,133.9793,4917,405.1,402,14.8015,34.5472,2,34.5382,2,183.55,6,12.36,6,10.89,6,0.00,6,0.73,6,-999.,9,-999.,9,-999.,9,-999,9,-999,9
49UF20160407,KS16-04,4742,1,25,25259,2,20160413,1730,24.2527,133.9793,4917,505.6,502,10.8148,34.2791,2,34.2872,2,169.37,2,27.60,2,18.50,2,0.00,2,1.29,2,-999.,9,-999.,9,-999.,9,-999,9,-999,9
49UF20160407,KS16-04,4742,1,24,25258,2,20160413,1727,24.2527,133.9793,4917,608.2,603,7.8111,34.1398,2,34.1417,6,139.24,2,49.53,2,26.50,2,0.00,2,1.88,2,-999.,9,-999.,9,-999.,9,-999,9,-999,9
49UF20160407,KS16-04,4742,1,23,25257,2,20160413,1724,24.2527,133.9793,4917,706.5,701,5.9622,34.1336,2,-999.0000,9,102.86,2,72.44,2,33.04,2,0.00,2,2.35,2,-999.,9,-999.,9,-999.,9,-999,9,-999,9
49UF20160407,KS16-04,4742,1,22,25256,2,20160413,1721,24.2527,133.9793,4917,808.1,801,5.1776,34.1786,2,34.1789,2,81.47,6,86.72,6,36.24,6,0.00,6,2.59,6,-999.,9,-999.,9,-999.,9,-999,9,-999,9
49UF20160407,KS16-04,4742,1,21,25255,2,20160413,1718,24.2527,133.9793,4917,908.2,900,4.5387,34.2485,2,-999.0000,9,65.82,2,100.21,2,38.62,2,0.00,2,2.74,2,-999.,9,-999.,9,-999.,9,-999,9,-999,9
49UF20160407,KS16-04,4742,1,20,25254,2,20160413,1716,24.2527,133.9793,4917,1010.4,1002,3.9984,34.3359,2,34.3358,2,57.02,2,112.46,2,40.08,2,0.00,2,2.84,2,-999.,9,-999.,9,-999.,9,-999,9,-999,9
49UF20160407,KS16-04,4742,1,19,25253,2,20160413,1712,24.2527,133.9793,4917,1214.1,1203,3.1871,34.4474,2,34.4480,6,62.25,2,129.85,2,40.72,2,0.00,2,2.88,2,-999.,9,-999.,9,-999.,9,-999,9,-999,9
49UF20160407,KS16-04,4742,1,18,25252,2,20160413,1708,24.2527,133.9793,4917,1414.1,1400,2.7246,34.5148,2,34.5156,2,76.75,2,137.03,2,40.15,2,0.00,2,2.82,2,-999.,9,-999.,9,-999.,9,-999,9,-999,9
49UF20160407,KS16-04,4742,1,17,25251,2,20160413,1704,24.2527,133.9793,4917,1618.6,1602,2.3403,34.5623,2,34.5615,2,91.96,2,141.80,2,39.44,2,0.00,2,2.76,2,-999.,9,-999.,9,-999.,9,-999,9,-999,9
49UF20160407,KS16-04,4742,1,16,25250,2,20160413,1659,24.2527,133.9793,4917,1821.8,1802,2.1032,34.5926,2,-999.0000,9,103.69,6,143.46,6,38.86,6,0.00,6,2.71,6,-999.,9,-999.,9,-999.,9,-999,9,-999,9
49UF20160407,KS16-04,4742,1,15,25249,2,20160413,1654,24.2527,133.9793,4917,2027.6,2005,1.9506,34.6145,2,34.6155,2,113.92,2,143.60,2,38.24,2,0.00,2,2.66,2,-999.,9,-999.,9,-999.,9,-999,9,-999,9
49UF20160407,KS16-04,4742,1,14,25248,2,20160413,1647,24.2527,133.9793,4917,2283.0,2256,1.8077,34.6354,2,34.6655,4,124.67,2,143.43,2,37.67,2,0.00,2,2.61,2,-999.,9,-999.,9,-999.,9,-999,9,-999,9
49UF20160407,KS16-04,4742,1,13,25247,2,20160413,1639,24.2527,133.9793,4917,2537.4,2506,1.7026,34.6504,2,34.6527,2,132.93,2,143.02,2,37.17,2,0.00,2,2.57,2,-999.,9,-999.,9,-999.,9,-999,9,-999,9
49UF20160407,KS16-04,4742,1,12,25246,2,20160413,1633,24.2527,133.9793,4917,2786.4,2750,1.6200,34.6610,2,34.6704,4,139.48,2,142.84,2,36.84,2,0.00,2,2.54,2,-999.,9,-999.,9,-999.,9,-999,9,-999,9
49UF20160407,KS16-04,4742,1,11,25245,2,20160413,1629,24.2527,133.9793,4917,3037.2,2996,1.5856,34.6672,2,34.6668,2,143.25,2,142.52,2,36.53,2,0.00,2,2.52,2,-999.,9,-999.,9,-999.,9,-999,9,-999,9
49UF20160407,KS16-04,4742,1,10,25244,2,20160413,1623,24.2527,133.9793,4917,3296.0,3250,1.5559,34.6728,2,34.6723,2,146.76,2,142.25,2,36.30,2,0.00,2,2.50,2,-999.,9,-999.,9,-999.,9,-999,9,-999,9
49UF20160407,KS16-04,4742,1,9,25243,2,20160413,1617,24.2527,133.9793,4917,3551.3,3499,1.5494,34.6757,2,34.6757,2,149.29,2,141.95,2,36.11,2,0.00,2,2.49,2,-999.,9,-999.,9,-999.,9,-999,9,-999,9
49UF20160407,KS16-04,4742,1,8,25242,2,20160413,1612,24.2527,133.9793,4917,3806.8,3749,1.5565,34.6778,2,34.7065,4,150.95,2,141.60,2,36.07,2,0.00,2,2.48,2,-999.,9,-999.,9,-999.,9,-999,9,-999,9
49UF20160407,KS16-04,4742,1,7,25241,2,20160413,1607,24.2527,133.9793,4917,4062.0,3998,1.5673,34.6795,2,34.6791,2,152.09,2,141.55,2,35.94,2,0.00,2,2.47,2,-999.,9,-999.,9,-999.,9,-999,9,-999,9
49UF20160407,KS16-04,4742,1,6,25240,2,20160413,1606,24.2527,133.9793,4917,4062.9,3999,1.5673,34.6794,2,34.6804,2,152.24,2,141.44,2,35.95,2,0.00,2,2.48,2,-999.,9,-999.,9,-999.,9,-999,9,-999,9
49UF20160407,KS16-04,4742,1,5,25239,2,20160413,1601,24.2527,133.9793,4917,4320.0,4249,1.5810,34.6810,2,34.6802,2,153.23,6,141.10,6,35.88,6,0.00,6,2.47,6,-999.,9,-999.,9,-999.,9,-999,9,-999,9
49UF20160407,KS16-04,4742,1,3,25237,2,20160413,1555,24.2527,133.9793,4917,4581.1,4503,1.6007,34.6819,2,34.8597,4,154.50,2,141.06,2,35.75,2,0.00,2,2.46,2,-999.,9,-999.,9,-999.,9,-999,9,-999,9
49UF20160407,KS16-04,4742,1,4,25238,2,20160413,1555,24.2527,133.9793,4917,4582.3,4505,1.6009,34.6820,2,34.6814,2,154.55,2,140.94,2,35.77,2,0.00,2,2.46,2,-999.,9,-999.,9,-999.,9,-999,9,-999,9
49UF20160407,KS16-04,4742,1,2,25236,2,20160413,1549,24.2527,133.9793,4917,4837.8,4753,1.6258,34.6822,2,34.6840,2,155.33,2,140.84,2,35.73,2,0.00,2,2.46,2,-999.,9,-999.,9,-999.,9,-999,9,-999,9
49UF20160407,KS16-04,4742,1,1,25235,2,20160413,1544,24.2527,133.9793,4917,5003.9,4914,1.6435,34.6828,2,34.6827,6,154.88,2,140.90,2,35.77,2,0.00,2,2.46,2,-999.,9,-999.,9,-999.,9,-999,9,-999,9
49UF20160407,KS16-04,4745,1,-999,0,2,20160414,0449,23.7512,132.9925,3195,0.0,0,23.9170,35.0095,2,-999.0000,9,214.88,2,1.41,2,0.04,2,0.00,2,0.01,2,-999.,9,-999.,9,-999.,9,-999,9,-999,9
49UF20160407,KS16-04,4745,1,36,25270,2,20160414,0519,23.7512,132.9925,3195,12.1,12,22.8871,35.0204,2,35.0094,2,217.20,2,1.37,2,0.00,2,0.00,2,0.00,2,-999.,9,-999.,9,-999.,9,-999,9,-999,9
49UF20160407,KS16-04,4745,1,35,25269,2,20160414,0518,23.7512,132.9925,3195,27.4,27,22.4040,34.9927,2,-999.0000,9,218.55,2,1.37,2,0.00,2,0.00,2,0.01,2,-999.,9,-999.,9,-999.,9,-999,9,-999,9
49UF20160407,KS16-04,4745,1,34,25268,2,20160414,0516,23.7512,132.9925,3195,53.4,53,21.9518,34.9739,2,-999.0000,9,219.20,2,1.63,2,0.01,2,0.00,2,0.01,2,-999.,9,-999.,9,-999.,9,-999,9,-999,9
49UF20160407,KS16-04,4745,1,30,25264,2,20160414,0514,23.7512,132.9925,3195,75.4,75,21.2018,34.9219,2,-999.0000,9,219.21,2,1.66,2,0.01,2,0.00,2,0.02,2,-999.,9,-999.,9,-999.,9,-999,9,-999,9
49UF20160407,KS16-04,4745,1,29,25263,2,20160414,0510,23.7512,132.9925,3195,102.4,102,19.9794,34.8595,2,34.8598,6,204.84,2,2.21,2,1.71,2,0.08,2,0.12,2,-999.,9,-999.,9,-999.,9,-999,9,-999,9
49UF20160407,KS16-04,4745,1,28,25262,2,20160414,0508,23.7512,132.9925,3195,128.4,128,19.1072,34.8483,2,-999.0000,9,205.63,2,2.59,2,2.48,2,0.03,2,0.17,2,-999.,9,-999.,9,-999.,9,-999,9,-999,9
49UF20160407,KS16-04,4745,1,24,25258,2,20160414,0506,23.7512,132.9925,3195,151.6,151,18.2430,34.7955,2,34.7946,2,202.03,2,3.27,2,3.58,2,0.02,2,0.24,2,-999.,9,-999.,9,-999.,9,-999,9,-999,9
49UF20160407,KS16-04,4745,1,23,25257,2,20160414,0504,23.7512,132.9925,3195,204.0,203,17.3552,34.7437,2,34.7431,2,204.32,2,4.12,2,4.57,2,0.01,2,0.30,2,-999.,9,-999.,9,-999.,9,-999,9,-999,9
49UF20160407,KS16-04,4745,1,22,25256,2,20160414,0502,23.7512,132.9925,3195,252.3,251,16.7246,34.6984,2,-999.0000,9,203.77,2,5.15,2,5.62,2,0.01,2,0.37,2,-999.,9,-999.,9,-999.,9,-999,9,-999,9
49UF20160407,KS16-04,4745,1,18,25252,2,20160414,0500,23.7512,132.9925,3195,305.5,303,15.5564,34.5982,2,-999.0000,9,193.18,6,8.28,6,8.42,6,0.01,6,0.56,6,-999.,9,-999.,9,-999.,9,-999,9,-999,9
49UF20160407,KS16-04,4745,1,16,25250,2,20160414,0456,23.7512,132.9925,3195,405.2,402,13.4499,34.4405,2,34.4414,2,180.45,2,14.71,2,12.84,2,0.00,2,0.88,2,-999.,9,-999.,9,-999.,9,-999,9,-999,9
49UF20160407,KS16-04,4745,1,17,25251,2,20160414,0457,23.7512,132.9925,3195,405.3,402,13.4470,34.4408,2,34.4417,2,180.26,2,14.75,2,12.85,2,0.00,2,0.88,2,-999.,9,-999.,9,-999.,9,-999,9,-999,9
49UF20160407,KS16-04,4745,1,15,25249,2,20160414,0453,23.7512,132.9925,3195,508.4,505,10.4923,34.2524,2,-999.0000,9,164.01,2,27.60,2,19.38,2,0.00,2,1.36,2,-999.,9,-999.,9,-999.,9,-999,9,-999,9
49UF20160407,KS16-04,4745,1,14,25248,2,20160414,0450,23.7512,132.9925,3195,606.9,602,7.8684,34.1479,2,34.1474,2,129.01,2,47.68,2,27.27,2,0.00,2,1.94,2,-999.,9,-999.,9,-999.,9,-999,9,-999,9
49UF20160407,KS16-04,4745,1,13,25247,2,20160414,0447,23.7512,132.9925,3195,706.7,701,6.3129,34.1518,2,-999.0000,9,95.58,2,67.08,2,33.07,2,0.00,2,2.37,2,-999.,9,-999.,9,-999.,9,-999,9,-999,9
49UF20160407,KS16-04,4745,1,12,25246,2,20160414,0444,23.7512,132.9925,3195,808.0,801,5.2209,34.2109,2,34.2099,2,74.27,6,86.25,6,36.80,6,0.00,6,2.63,6,-999.,9,-999.,9,-999.,9,-999,9,-999,9
49UF20160407,KS16-04,4745,1,11,25245,2,20160414,0442,23.7512,132.9925,3195,908.7,901,4.3718,34.3073,2,34.3072,2,62.24,2,104.60,2,39.19,2,0.00,2,2.79,2,-999.,9,-999.,9,-999.,9,-999,9,-999,9
49UF20160407,KS16-04,4745,1,10,25244,2,20160414,0442,23.7512,132.9925,3195,908.9,901,4.3681,34.3074,2,34.3080,2,61.84,2,104.64,2,39.18,2,0.00,2,2.79,2,-999.,9,-999.,9,-999.,9,-999,9,-999,9
49UF20160407,KS16-04,4745,1,6,25240,2,20160414,0439,23.7512,132.9925,3195,1008.7,1000,3.8424,34.3773,2,34.4102,4,59.48,2,116.08,2,40.06,2,0.00,2,2.85,2,-999.,9,-999.,9,-999.,9,-999,9,-999,9
49UF20160407,KS16-04,4745,1,5,25239,2,20160414,0435,23.7512,132.9925,3195,1210.9,1200,3.1722,34.4585,2,34.4571,2,65.71,2,129.56,2,40.38,2,0.00,2,2.86,2,-999.,9,-999.,9,-999.,9,-999,9,-999,9
49UF20160407,KS16-04,4745,1,4,25238,2,20160414,0430,23.7512,132.9925,3195,1413.8,1400,2.8038,34.5119,2,-999.0000,9,77.12,2,136.05,2,39.88,2,0.00,2,2.82,2,-999.,9,-999.,9,-999.,9,-999,9,-999,9
49UF20160407,KS16-04,4745,1,3,25237,2,20160414,0426,23.7512,132.9925,3195,1615.2,1599,2.2976,34.5739,2,34.5733,6,96.73,2,141.56,2,39.02,2,0.00,2,2.74,2,-999.,9,-999.,9,-999.,9,-999,9,-999,9
49UF20160407,KS16-04,4745,1,2,25236,2,20160414,0422,23.7512,132.9925,3195,1822.6,1803,2.0598,34.6020,2,34.6058,2,108.26,2,142.91,2,38.47,2,0.00,2,2.69,2,-999.,9,-999.,9,-999.,9,-999,9,-999,9
49UF20160407,KS16-04,4745,1,1,25235,2,20160414,0416,23.7512,132.9925,3195,2032.3,2010,1.9075,34.6210,2,34.6210,2,117.46,2,143.36,2,37.95,2,0.00,2,2.64,2,-999.,9,-999.,9,-999.,9,-999,9,-999,9
49UF20160407,KS16-04,4747,1,-999,0,2,20160414,1338,23.74,132.0032,3646,0.0,0,25.0268,34.8752,2,-999.,9,210.04,2,1.04,2,0.02,2,0.00,2,0.01,2,-999.,9,-999.,9,-999.,9,-999,9,-999,9
49UF20160407,KS16-04,4747,1,36,25270,2,20160414,1404,23.74,132.0032,3646,11.7,12,25.0308,34.8754,2,-999.,9,209.56,2,0.98,2,0.00,2,0.00,2,0.00,2,-999.,9,-999.,9,-999.,9,-999,9,-999,9
49UF20160407,KS16-04,4747,1,35,25269,2,20160414,1403,23.74,132.0032,3646,27.5,27,25.0106,34.8796,2,-999.,9,209.92,2,1.02,2,0.00,2,0.00,2,0.00,2,-999.,9,-999.,9,-999.,9,-999,9,-999,9
49UF20160407,KS16-04,4747,1,34,25268,2,20160414,1401,23.74,132.0032,3646,53.3,53,23.8696,35.0058,2,-999.,9,214.16,2,1.02,2,0.00,2,0.00,2,0.00,2,-999.,9,-999.,9,-999.,9,-999,9,-999,9
49UF20160407,KS16-04,4747,1,30,25264,2,20160414,1400,23.74,132.0032,3646,78.0,77,23.6100,35.0041,2,-999.,9,213.72,2,1.05,2,0.01,2,0.00,2,0.00,2,-999.,9,-999.,9,-999.,9,-999,9,-999,9
49UF20160407,KS16-04,4747,1,29,25263,2,20160414,1358,23.74,132.0032,3646,103.4,103,23.1203,34.9458,2,-999.,9,212.73,2,1.14,2,0.00,2,0.00,2,0.01,2,-999.,9,-999.,9,-999.,9,-999,9,-999,9
49UF20160407,KS16-04,4747,1,28,25262,2,20160414,1357,23.74,132.0032,3646,129.4,129,22.5518,34.9429,2,-999.,9,208.52,2,1.27,2,0.24,2,0.11,2,0.03,2,-999.,9,-999.,9,-999.,9,-999,9,-999,9
49UF20160407,KS16-04,4747,1,24,25258,2,20160414,1356,23.74,132.0032,3646,153.8,153,21.3653,34.9277,2,-999.,9,205.76,2,1.63,2,0.90,2,0.04,2,0.06,2,-999.,9,-999.,9,-999.,9,-999,9,-999,9
49UF20160407,KS16-04,4747,1,23,25257,2,20160414,1352,23.74,132.0032,3646,202.8,201,19.9734,34.8864,2,-999.,9,191.68,2,2.41,2,2.85,2,0.01,2,0.20,2,-999.,9,-999.,9,-999.,9,-999,9,-999,9
49UF20160407,KS16-04,4747,1,22,25256,2,20160414,1350,23.74,132.0032,3646,253.7,252,18.5952,34.8265,2,-999.,9,201.70,6,2.78,6,3.18,6,0.01,6,0.21,6,-999.,9,-999.,9,-999.,9,-999,9,-999,9
49UF20160407,KS16-04,4747,1,18,25252,2,20160414,1348,23.74,132.0032,3646,304.1,302,17.3815,34.7426,2,-999.,9,204.15,2,3.90,2,4.66,2,0.01,2,0.30,2,-999.,9,-999.,9,-999.,9,-999,9,-999,9
49UF20160407,KS16-04,4747,1,17,25251,2,20160414,1348,23.74,132.0032,3646,304.3,302,17.3824,34.7419,2,-999.,9,204.09,2,3.93,2,4.70,2,0.00,2,0.30,2,-999.,9,-999.,9,-999.,9,-999,9,-999,9
49UF20160407,KS16-04,4747,1,16,25250,2,20160414,1346,23.74,132.0032,3646,404.5,402,15.6611,34.6055,2,-999.,9,196.47,2,7.59,2,8.03,2,0.00,2,0.53,2,-999.,9,-999.,9,-999.,9,-999,9,-999,9
49UF20160407,KS16-04,4747,1,15,25249,2,20160414,1343,23.74,132.0032,3646,505.2,501,12.4488,34.3628,2,-999.,9,180.23,2,17.35,2,14.55,2,0.00,2,1.00,2,-999.,9,-999.,9,-999.,9,-999,9,-999,9
49UF20160407,KS16-04,4747,1,14,25248,2,20160414,1340,23.74,132.0032,3646,608.2,603,9.1247,34.1830,2,-999.,9,146.77,2,35.79,2,23.52,2,0.00,2,1.66,2,-999.,9,-999.,9,-999.,9,-999,9,-999,9
49UF20160407,KS16-04,4747,1,13,25247,2,20160414,1338,23.74,132.0032,3646,707.5,702,7.3434,34.1541,2,-999.,9,114.49,2,53.83,2,29.58,2,0.00,2,2.11,2,-999.,9,-999.,9,-999.,9,-999,9,-999,9
49UF20160407,KS16-04,4747,1,12,25246,2,20160414,1335,23.74,132.0032,3646,809.1,802,5.5745,34.1945,2,-999.,9,77.13,2,78.98,2,36.08,2,0.00,2,2.58,2,-999.,9,-999.,9,-999.,9,-999,9,-999,9
49UF20160407,KS16-04,4747,1,11,25245,2,20160414,1335,23.74,132.0032,3646,809.2,803,5.5781,34.1945,2,-999.,9,77.70,2,79.09,2,36.08,2,0.00,2,2.58,2,-999.,9,-999.,9,-999.,9,-999,9,-999,9
49UF20160407,KS16-04,4747,1,10,25244,2,20160414,1333,23.74,132.0032,3646,910.2,902,4.8184,34.2724,2,-999.,9,62.95,2,94.35,2,38.57,2,0.00,2,2.75,2,-999.,9,-999.,9,-999.,9,-999,9,-999,9
49UF20160407,KS16-04,4747,1,6,25240,2,20160414,1330,23.74,132.0032,3646,1010.2,1001,4.2852,34.3470,2,-999.,9,57.82,2,105.72,2,39.82,2,0.00,2,2.84,2,-999.,9,-999.,9,-999.,9,-999,9,-999,9
49UF20160407,KS16-04,4747,1,5,25239,2,20160414,1326,23.74,132.0032,3646,1212.3,1201,3.4301,34.4571,2,-999.,9,64.31,2,123.89,2,40.33,2,0.00,2,2.86,2,-999.,9,-999.,9,-999.,9,-999,9,-999,9
49UF20160407,KS16-04,4747,1,4,25238,2,20160414,1321,23.74,132.0032,3646,1418.2,1404,3.0046,34.5092,2,-999.,9,76.71,2,131.97,2,39.82,2,0.00,2,2.81,2,-999.,9,-999.,9,-999.,9,-999,9,-999,9
49UF20160407,KS16-04,4747,1,3,25237,2,20160414,1317,23.74,132.0032,3646,1619.6,1603,2.5796,34.5551,2,-999.,9,90.63,2,137.82,2,39.23,2,0.00,2,2.75,2,-999.,9,-999.,9,-999.,9,-999,9,-999,9
49UF20160407,KS16-04,4747,1,2,25236,2,20160414,1312,23.74,132.0032,3646,1820.4,1801,2.3325,34.5785,2,-999.,9,99.18,2,140.57,2,38.88,2,0.00,2,2.72,2,-999.,9,-999.,9,-999.,9,-999,9,-999,9
49UF20160407,KS16-04,4747,1,1,25235,2,20160414,1308,23.74,132.0032,3646,2024.9,2002,2.1084,34.6054,2,-999.,9,110.16,6,141.67,6,38.32,6,0.00,6,2.68,6,-999.,9,-999.,9,-999.,9,-999,9,-999,9