BOTTLE,20171119JMAGEMD
EXPOCODE,SECT_ID,STNNBR,CASTNO,SAMPNO,BTLNBR,BTLNBR_FLAG_W,DATE,TIME,LATITUDE,LONGITUDE,DEPTH,CTDPRS,CTDDEP,CTDTMP,CTDSAL,CTDSAL_FLAG_W,SALNTY,SALNTY_FLAG_W,OXYGEN,OXYGEN_FLAG_W,SILCAT,SILCAT_FLAG_W,NO2+NO3,NO2+NO3_FLAG_W,NITRIT,NITRIT_FLAG_W,PHSPHT,PHSPHT_FLAG_W,TCARBN,TCARBN_FLAG_W,ALKALI,ALKALI_FLAG_W,PH_TOT,PH_TOT_FLAG_W,CFC-11,CFC-11_FLAG_W,CFC-12,CFC-12_FLAG_W
,,,,,,,UTC,UTC,,,METER,DBAR,METERS,ITS-90,PSS-78,,PSS-78,,UMOL/KG,,UMOL/KG,,UMOL/KG,,UMOL/KG,,UMOL/KG,,UMOL/KG,,UMOL/KG,,@25DEG-C,,PMOL/KG,,PMOL/KG,
49UF20151021,KS15-08,4628,1,-999,0,2,20151112,1055,42.1582,137.9865,3689,0.0,0,12.8161,33.9182,2,-999.0000,9,265.06,2,4.57,2,1.01,2,0.09,2,0.14,2,-999.,9,-999.,9,-999.,9,-999.,9,-999.,9
49UF20151021,KS15-08,4628,1,36,21995,2,20151112,1122,42.1582,137.9865,3689,12.7,13,12.8204,33.9174,2,-999.0000,9,264.21,2,4.54,2,0.99,2,0.09,2,0.14,2,-999.,9,-999.,9,-999.,9,-999.,9,-999.,9
49UF20151021,KS15-08,4628,1,35,22087,2,20151112,1121,42.1582,137.9865,3689,27.7,27,12.8126,33.9167,2,-999.0000,9,262.26,2,4.54,2,1.07,2,0.11,2,0.14,2,-999.,9,-999.,9,-999.,9,-999.,9,-999.,9
49UF20151021,KS15-08,4628,1,34,22666,2,20151112,1117,42.1582,137.9865,3689,52.8,52,12.1808,33.9691,2,-999.0000,9,253.44,2,6.81,2,4.68,2,0.17,2,0.37,2,-999.,9,-999.,9,-999.,9,-999.,9,-999.,9
49UF20151021,KS15-08,4628,1,33,21992,2,20151112,1115,42.1582,137.9865,3689,77.9,77,6.1211,34.1047,2,-999.0000,9,268.60,2,12.30,2,10.32,2,0.03,2,0.77,2,-999.,9,-999.,9,-999.,9,-999.,9,-999.,9
49UF20151021,KS15-08,4628,1,32,21991,2,20151112,1113,42.1582,137.9865,3689,103.2,102,4.0800,34.0548,2,-999.0000,9,279.42,2,14.73,2,11.90,2,0.01,2,0.90,2,-999.,9,-999.,9,-999.,9,-999.,9,-999.,9
49UF20151021,KS15-08,4628,1,31,24270,2,20151112,1112,42.1582,137.9865,3689,128.3,127,2.6662,34.0233,2,-999.0000,9,286.98,2,17.63,2,13.50,2,0.01,2,1.01,2,-999.,9,-999.,9,-999.,9,-999.,9,-999.,9
49UF20151021,KS15-08,4628,1,30,21962,2,20151112,1111,42.1582,137.9865,3689,153.8,153,2.0875,34.0394,2,-999.0000,9,284.45,2,20.03,2,14.68,2,0.01,2,1.10,2,-999.,9,-999.,9,-999.,9,-999.,9,-999.,9
49UF20151021,KS15-08,4628,1,29,21988,2,20151112,1109,42.1582,137.9865,3689,204.0,202,1.6299,34.0394,2,-999.0000,9,272.47,2,24.53,2,16.77,2,0.01,2,1.26,2,-999.,9,-999.,9,-999.,9,-999.,9,-999.,9
49UF20151021,KS15-08,4628,1,28,21987,2,20151112,1107,42.1582,137.9865,3689,254.1,252,1.3077,34.0497,2,-999.0000,9,251.85,2,30.88,2,19.40,2,0.01,2,1.47,2,-999.,9,-999.,9,-999.,9,-999.,9,-999.,9
49UF20151021,KS15-08,4628,1,27,21986,2,20151112,1105,42.1582,137.9865,3689,304.0,301,1.0636,34.0531,2,-999.0000,9,250.14,2,32.06,2,20.23,2,0.01,2,1.53,2,-999.,9,-999.,9,-999.,9,-999.,9,-999.,9
49UF20151021,KS15-08,4628,1,26,24271,2,20151112,1102,42.1582,137.9865,3689,405.4,402,0.8222,34.0605,2,-999.0000,9,250.30,2,32.60,2,21.03,2,0.01,2,1.59,2,-999.,9,-999.,9,-999.,9,-999.,9,-999.,9
49UF20151021,KS15-08,4628,1,25,21984,2,20151112,1058,42.1582,137.9865,3689,507.1,502,0.7063,34.0692,2,-999.0000,9,219.24,2,42.44,2,23.90,2,0.00,2,1.85,2,-999.,9,-999.,9,-999.,9,-999.,9,-999.,9
49UF20151021,KS15-08,4628,1,24,21983,2,20151112,1055,42.1582,137.9865,3689,608.6,603,0.6046,34.0717,2,-999.0000,9,209.16,2,48.93,2,24.82,2,0.00,2,1.92,2,-999.,9,-999.,9,-999.,9,-999.,9,-999.,9
49UF20151021,KS15-08,4628,1,23,22095,2,20151112,1052,42.1582,137.9865,3689,707.1,700,0.5393,34.0728,2,-999.0000,9,207.52,6,51.62,6,25.02,6,0.00,6,1.94,6,-999.,9,-999.,9,-999.,9,-999.,9,-999.,9
49UF20151021,KS15-08,4628,1,22,22665,2,20151112,1050,42.1582,137.9865,3689,808.5,801,0.4475,34.0723,2,-999.0000,9,204.12,2,57.06,2,25.23,2,0.00,2,1.95,2,-999.,9,-999.,9,-999.,9,-999.,9,-999.,9
49UF20151021,KS15-08,4628,1,21,21980,2,20151112,1049,42.1582,137.9865,3689,808.6,801,0.4473,34.0724,2,-999.0000,9,204.32,2,57.06,2,25.27,2,0.00,2,1.95,2,-999.,9,-999.,9,-999.,9,-999.,9,-999.,9
49UF20151021,KS15-08,4628,1,20,21979,2,20151112,1047,42.1582,137.9865,3689,909.7,901,0.3767,34.0716,2,-999.0000,9,201.75,2,61.77,2,25.39,2,0.00,2,1.97,2,-999.,9,-999.,9,-999.,9,-999.,9,-999.,9
49UF20151021,KS15-08,4628,1,19,21964,2,20151112,1044,42.1582,137.9865,3689,1011.2,1001,0.3326,34.0709,2,-999.0000,9,201.49,2,64.99,2,25.45,2,0.00,2,1.97,2,-999.,9,-999.,9,-999.,9,-999.,9,-999.,9
49UF20151021,KS15-08,4628,1,18,21977,2,20151112,1038,42.1582,137.9865,3689,1213.1,1200,0.2796,34.0697,2,-999.0000,9,201.38,6,69.09,6,25.46,6,0.00,6,1.98,6,-999.,9,-999.,9,-999.,9,-999.,9,-999.,9
49UF20151021,KS15-08,4628,1,17,23679,2,20151112,1033,42.1582,137.9865,3689,1415.3,1399,0.2495,34.0691,2,-999.0000,9,201.83,2,73.06,2,25.45,2,0.00,2,1.98,2,-999.,9,-999.,9,-999.,9,-999.,9,-999.,9
49UF20151021,KS15-08,4628,1,16,21975,2,20151112,1033,42.1582,137.9865,3689,1415.3,1399,0.2491,34.0690,2,-999.0000,9,201.56,2,73.15,2,25.48,2,0.00,2,1.98,2,-999.,9,-999.,9,-999.,9,-999.,9,-999.,9
49UF20151021,KS15-08,4628,1,15,21974,2,20151112,1024,42.1582,137.9865,3689,1619.3,1600,0.2371,34.0687,2,-999.0000,9,201.67,2,75.67,2,25.49,2,0.00,2,1.98,2,-999.,9,-999.,9,-999.,9,-999.,9,-999.,9
49UF20151021,KS15-08,4628,1,14,21973,2,20151112,1020,42.1582,137.9865,3689,1822.6,1800,0.2299,34.0686,2,-999.0000,9,202.37,2,78.29,2,25.50,2,0.00,2,1.99,2,-999.,9,-999.,9,-999.,9,-999.,9,-999.,9
49UF20151021,KS15-08,4628,1,13,21972,2,20151112,1015,42.1582,137.9865,3689,2025.9,2000,0.2279,34.0684,2,-999.0000,9,202.24,2,80.26,2,25.55,2,0.00,2,1.99,2,-999.,9,-999.,9,-999.,9,-999.,9,-999.,9
49UF20151021,KS15-08,4628,1,12,21994,2,20151112,1010,42.1582,137.9865,3689,2279.5,2249,0.2327,34.0684,2,-999.0000,9,202.84,2,83.20,2,25.61,2,0.00,2,2.00,2,-999.,9,-999.,9,-999.,9,-999.,9,-999.,9
49UF20151021,KS15-08,4628,1,11,21970,2,20151112,1005,42.1582,137.9865,3689,2535.5,2500,0.2420,34.0684,2,-999.0000,9,203.51,2,85.54,2,25.65,2,0.00,2,2.00,2,-999.,9,-999.,9,-999.,9,-999.,9,-999.,9
49UF20151021,KS15-08,4628,1,10,21969,2,20151112,0959,42.1582,137.9865,3689,2791.3,2751,0.2592,34.0684,2,-999.0000,9,203.32,2,86.27,2,25.69,2,0.00,2,2.00,2,-999.,9,-999.,9,-999.,9,-999.,9,-999.,9
49UF20151021,KS15-08,4628,1,8,21982,2,20151112,0954,42.1582,137.9865,3689,3046.0,3000,0.2813,34.0684,2,-999.0000,9,202.90,2,86.53,2,25.69,2,0.00,2,2.00,2,-999.,9,-999.,9,-999.,9,-999.,9,-999.,9
49UF20151021,KS15-08,4628,1,7,21966,2,20151112,0949,42.1582,137.9865,3689,3301.6,3250,0.3044,34.0684,2,34.0680,2,203.09,6,86.40,6,25.66,6,0.00,6,2.00,6,-999.,9,-999.,9,-999.,9,-999.,9,-999.,9
49UF20151021,KS15-08,4628,1,5,24272,2,20151112,0943,42.1582,137.9865,3689,3558.5,3501,0.3290,34.0682,2,-999.0000,9,202.85,2,86.49,2,25.69,2,0.00,2,2.00,2,-999.,9,-999.,9,-999.,9,-999.,9,-999.,9
49UF20151021,KS15-08,4628,1,6,24474,2,20151112,0943,42.1582,137.9865,3689,3558.6,3501,0.3290,34.0683,2,-999.0000,9,202.91,2,86.66,2,25.66,2,0.00,2,2.01,2,-999.,9,-999.,9,-999.,9,-999.,9,-999.,9
49UF20151021,KS15-08,4628,1,4,21963,2,20151112,0940,42.1582,137.9865,3689,3682.1,3622,0.3413,34.0683,2,34.0681,2,202.91,2,86.40,2,25.66,2,0.00,2,2.00,2,-999.,9,-999.,9,-999.,9,-999.,9,-999.,9
49UF20151021,KS15-08,4630,1,-999,0,2,20151112,2055,41.4912,137.9965,3692,0.0,0,12.2123,33.9092,2,-999.0000,9,268.25,2,3.15,2,0.04,2,0.01,2,0.09,2,-999.,9,-999.,9,-999.,9,-999.,9,-999.,9
49UF20151021,KS15-08,4630,1,36,21995,2,20151112,2110,41.4912,137.9965,3692,11.5,11,12.2153,33.9093,2,33.9064,2,266.59,2,3.04,2,0.04,2,0.01,2,0.08,2,-999.,9,-999.,9,-999.,9,-999.,9,-999.,9
49UF20151021,KS15-08,4630,1,35,22087,2,20151112,2109,41.4912,137.9965,3692,26.6,26,12.2235,33.9085,2,33.9054,2,266.58,2,3.02,2,0.02,2,0.01,2,0.08,2,-999.,9,-999.,9,-999.,9,-999.,9,-999.,9
49UF20151021,KS15-08,4630,1,34,22666,2,20151112,2106,41.4912,137.9965,3692,51.3,51,11.6373,33.9081,2,33.9474,4,269.62,6,4.85,6,2.47,6,0.13,6,0.26,6,-999.,9,-999.,9,-999.,9,-999.,9,-999.,9
49UF20151021,KS15-08,4630,1,33,21992,2,20151112,2105,41.4912,137.9965,3692,76.6,76,3.1826,34.0938,2,34.0937,2,303.58,2,11.13,2,9.73,2,0.02,2,0.72,2,-999.,9,-999.,9,-999.,9,-999.,9,-999.,9
49UF20151021,KS15-08,4630,1,32,21991,2,20151112,2105,41.4912,137.9965,3692,76.6,76,3.1778,34.0942,2,34.0939,2,303.62,2,11.17,2,9.76,2,0.02,2,0.72,2,-999.,9,-999.,9,-999.,9,-999.,9,-999.,9
49UF20151021,KS15-08,4630,1,31,24270,2,20151112,2104,41.4912,137.9965,3692,101.9,101,2.7114,34.0933,2,34.0917,2,305.95,2,12.27,2,10.28,2,0.01,2,0.76,2,-999.,9,-999.,9,-999.,9,-999.,9,-999.,9
49UF20151021,KS15-08,4630,1,30,21962,2,20151112,2103,41.4912,137.9965,3692,126.5,125,2.4922,34.0891,2,34.0874,2,306.69,2,12.98,2,10.66,2,0.01,2,0.79,2,-999.,9,-999.,9,-999.,9,-999.,9,-999.,9
49UF20151021,KS15-08,4630,1,29,21988,2,20151112,2102,41.4912,137.9965,3692,152.6,151,2.3708,34.0854,2,34.0842,2,307.31,2,13.41,2,10.93,2,0.01,2,0.81,2,-999.,9,-999.,9,-999.,9,-999.,9,-999.,9
49UF20151021,KS15-08,4630,1,28,21987,2,20151112,2100,41.4912,137.9965,3692,202.3,201,2.0886,34.0792,2,34.0785,2,307.51,2,14.65,2,11.70,2,0.01,2,0.87,2,-999.,9,-999.,9,-999.,9,-999.,9,-999.,9
49UF20151021,KS15-08,4630,1,27,21986,2,20151112,2059,41.4912,137.9965,3692,253.2,251,1.8080,34.0700,2,34.0689,2,306.43,2,16.21,2,12.62,2,0.01,2,0.94,2,-999.,9,-999.,9,-999.,9,-999.,9,-999.,9
49UF20151021,KS15-08,4630,1,26,24271,2,20151112,2057,41.4912,137.9965,3692,303.4,301,1.3429,34.0537,2,34.0537,2,287.91,2,21.08,2,15.69,2,0.01,2,1.16,2,-999.,9,-999.,9,-999.,9,-999.,9,-999.,9
49UF20151021,KS15-08,4630,1,25,21984,2,20151112,2055,41.4912,137.9965,3692,404.7,401,0.9028,34.0560,2,34.0556,2,261.79,2,29.15,2,19.78,2,0.00,2,1.48,2,-999.,9,-999.,9,-999.,9,-999.,9,-999.,9
49UF20151021,KS15-08,4630,1,24,21983,2,20151112,2051,41.4912,137.9965,3692,505.8,501,0.7732,34.0647,2,34.0641,2,237.33,2,36.20,2,22.28,2,0.00,2,1.70,2,-999.,9,-999.,9,-999.,9,-999.,9,-999.,9
49UF20151021,KS15-08,4630,1,23,22095,2,20151112,2048,41.4912,137.9965,3692,606.6,601,0.6835,34.0695,2,34.0689,2,217.61,2,43.30,2,24.06,2,0.00,2,1.86,2,-999.,9,-999.,9,-999.,9,-999.,9,-999.,9
49UF20151021,KS15-08,4630,1,22,22665,2,20151112,2046,41.4912,137.9965,3692,708.3,702,0.5694,34.0722,2,34.0722,2,208.63,2,49.94,2,24.92,2,0.00,2,1.93,2,-999.,9,-999.,9,-999.,9,-999.,9,-999.,9
49UF20151021,KS15-08,4630,1,21,21980,4,20151112,2043,41.4912,137.9965,3692,809.5,802,0.5003,34.0723,2,33.9054,4,267.07,4,3.01,4,0.05,4,0.01,4,0.09,4,-999.,9,-999.,9,-999.,9,-999.,9,-999.,9
49UF20151021,KS15-08,4630,1,19,21964,2,20151112,2040,41.4912,137.9965,3692,909.8,901,0.4058,34.0713,2,34.0713,2,202.89,2,59.85,2,25.30,2,0.00,2,1.96,2,-999.,9,-999.,9,-999.,9,-999.,9,-999.,9
49UF20151021,KS15-08,4630,1,18,21977,2,20151112,2038,41.4912,137.9965,3692,1011.4,1001,0.3524,34.0708,2,34.0707,2,201.92,2,63.03,2,25.38,2,0.00,2,1.96,2,-999.,9,-999.,9,-999.,9,-999.,9,-999.,9
49UF20151021,KS15-08,4630,1,17,23679,2,20151112,2032,41.4912,137.9965,3692,1213.9,1201,0.2919,34.0698,2,34.0696,6,201.96,2,67.60,2,25.36,2,0.00,2,1.97,2,-999.,9,-999.,9,-999.,9,-999.,9,-999.,9
49UF20151021,KS15-08,4630,1,16,21975,2,20151112,2028,41.4912,137.9965,3692,1415.7,1400,0.2564,34.0690,2,34.0691,2,202.33,2,71.39,2,25.38,2,0.00,2,1.97,2,-999.,9,-999.,9,-999.,9,-999.,9,-999.,9
49UF20151021,KS15-08,4630,1,15,21974,2,20151112,2018,41.4912,137.9965,3692,1619.8,1601,0.2369,34.0685,2,34.0681,2,202.63,6,74.72,6,25.45,6,0.00,6,1.98,6,-999.,9,-999.,9,-999.,9,-999.,9,-999.,9
49UF20151021,KS15-08,4630,1,13,21972,2,20151112,2014,41.4912,137.9965,3692,1822.8,1801,0.2254,34.0683,2,34.0678,2,202.17,2,77.93,2,25.44,2,0.00,2,1.99,2,-999.,9,-999.,9,-999.,9,-999.,9,-999.,9
49UF20151021,KS15-08,4630,1,14,21973,2,20151112,2014,41.4912,137.9965,3692,1822.9,1801,0.2250,34.0683,2,34.0683,2,202.21,2,77.77,2,25.40,2,0.00,2,1.99,2,-999.,9,-999.,9,-999.,9,-999.,9,-999.,9
49UF20151021,KS15-08,4630,1,12,21994,3,20151112,2010,41.4912,137.9965,3692,2027.2,2002,0.2228,34.0681,2,34.0679,2,202.32,2,80.47,2,25.49,2,0.00,2,1.99,2,-999.,9,-999.,9,-999.,9,-999.,9,-999.,9
49UF20151021,KS15-08,4630,1,11,21970,2,20151112,2005,41.4912,137.9965,3692,2281.1,2251,0.2301,34.0682,2,34.0679,2,202.95,2,83.08,2,25.54,2,0.00,2,2.00,2,-999.,9,-999.,9,-999.,9,-999.,9,-999.,9
49UF20151021,KS15-08,4630,1,10,21969,3,20151112,1959,41.4912,137.9965,3692,2538.2,2503,0.2376,34.0683,2,34.0682,2,203.81,2,86.30,2,25.66,2,0.00,2,2.00,2,-999.,9,-999.,9,-999.,9,-999.,9,-999.,9
49UF20151021,KS15-08,4630,1,9,21968,2,20151112,1954,41.4912,137.9965,3692,2791.3,2751,0.2583,34.0684,2,34.0679,6,203.34,2,86.21,2,25.61,2,0.00,2,2.00,2,-999.,9,-999.,9,-999.,9,-999.,9,-999.,9
49UF20151021,KS15-08,4630,1,8,21982,2,20151112,1949,41.4912,137.9965,3692,3045.2,3000,0.2804,34.0683,2,34.0678,2,203.46,2,86.34,2,25.69,2,0.00,2,2.00,2,-999.,9,-999.,9,-999.,9,-999.,9,-999.,9
49UF20151021,KS15-08,4630,1,7,21966,2,20151112,1943,41.4912,137.9965,3692,3304.3,3253,0.3039,34.0684,2,34.0689,6,203.70,2,86.25,2,25.64,2,0.00,2,2.00,2,-999.,9,-999.,9,-999.,9,-999.,9,-999.,9
49UF20151021,KS15-08,4630,1,6,24474,2,20151112,1938,41.4912,137.9965,3692,3558.8,3502,0.3283,34.0682,2,34.0685,2,203.77,6,86.32,6,25.64,6,0.00,6,2.00,6,-999.,9,-999.,9,-999.,9,-999.,9,-999.,9
49UF20151021,KS15-08,4630,1,4,21963,2,20151112,1934,41.4912,137.9965,3692,3686.4,3626,0.3412,34.0681,2,34.0679,2,203.56,2,86.36,2,25.66,2,0.00,2,2.00,2,-999.,9,-999.,9,-999.,9,-999.,9,-999.,9
49UF20151021,KS15-08,4630,1,5,24272,2,20151112,1934,41.4912,137.9965,3692,3686.7,3626,0.3412,34.0682,2,34.0683,2,203.48,2,86.39,2,25.66,2,0.00,2,2.00,2,-999.,9,-999.,9,-999.,9,-999.,9,-999.,9
49UF20151021,KS15-08,4632,1,-999,0,2,20151113,0602,40.8223,137.9858,3630,0.0,0,16.2064,33.4538,2,33.4574,2,248.18,2,2.45,2,0.00,2,0.00,2,0.03,2,1988.4,2,2251.3,2,8.0106,2,-999.,9,-999.,9
49UF20151021,KS15-08,4632,1,36,21995,2,20151113,0635,40.8223,137.9858,3630,10.7,11,16.2048,33.4549,2,-999.0000,9,250.07,2,2.59,2,0.03,2,0.00,2,0.03,2,1990.2,2,2252.5,2,8.0026,2,-999.,9,-999.,9
49UF20151021,KS15-08,4632,1,35,22087,2,20151113,0634,40.8223,137.9858,3630,25.3,25,14.4869,33.8548,2,-999.0000,9,240.51,2,5.14,2,2.10,2,0.11,2,0.19,2,2038.6,2,2266.8,2,7.9351,2,-999.,9,-999.,9
49UF20151021,KS15-08,4632,1,34,22666,2,20151113,0631,40.8223,137.9858,3630,50.4,50,11.7730,34.1670,2,-999.0000,9,241.22,2,8.76,2,6.48,2,0.08,2,0.50,2,2079.8,2,2268.4,2,7.8466,2,-999.,9,-999.,9
49UF20151021,KS15-08,4632,1,33,21992,2,20151113,0630,40.8223,137.9858,3630,76.1,75,4.6642,33.9831,2,-999.0000,9,299.24,2,11.19,2,9.68,2,0.15,2,0.76,2,2126.2,2,2259.2,2,7.7203,2,-999.,9,-999.,9
49UF20151021,KS15-08,4632,1,32,21991,2,20151113,0628,40.8223,137.9858,3630,101.4,101,2.1368,34.0236,2,-999.0000,9,301.11,6,16.08,6,13.09,6,0.02,6,0.98,6,2153.6,2,2258.8,2,7.6473,2,-999.,9,-999.,9
49UF20151021,KS15-08,4632,1,30,21962,2,20151113,0627,40.8223,137.9858,3630,125.9,125,1.3556,34.0168,2,-999.0000,9,306.24,2,18.76,2,14.25,2,0.01,2,1.07,2,2161.2,2,2258.5,2,7.6227,2,-999.,9,-999.,9
49UF20151021,KS15-08,4632,1,31,24270,2,20151113,0627,40.8223,137.9858,3630,126.0,125,1.3548,34.0170,2,-999.0000,9,306.04,2,18.73,2,14.21,2,0.01,2,1.07,2,2160.6,2,2258.5,2,7.6231,2,-999.,9,-999.,9
49UF20151021,KS15-08,4632,1,29,21988,2,20151113,0626,40.8223,137.9858,3630,151.7,150,1.2333,34.0256,2,-999.0000,9,301.55,2,20.21,2,15.00,2,0.01,2,1.12,2,2168.2,2,2258.8,2,7.6111,6,-999.,9,-999.,9
49UF20151021,KS15-08,4632,1,28,21987,2,20151113,0624,40.8223,137.9858,3630,203.9,202,1.0214,34.0377,2,-999.0000,9,285.83,2,24.22,2,17.06,2,0.01,2,1.28,2,2179.2,6,2259.9,6,7.5694,2,-999.,9,-999.,9
49UF20151021,KS15-08,4632,1,27,21986,2,20151113,0623,40.8223,137.9858,3630,252.1,250,0.8809,34.0494,2,-999.0000,9,267.08,2,28.59,2,19.23,2,0.01,2,1.45,2,2195.3,2,2259.5,2,7.5310,2,-999.,9,-999.,9
49UF20151021,KS15-08,4632,1,26,24271,2,20151113,0622,40.8223,137.9858,3630,300.2,298,0.8374,34.0573,2,-999.0000,9,253.98,2,31.72,2,20.61,2,0.01,2,1.56,2,2204.6,2,2259.3,2,7.5017,2,-999.,9,-999.,9
49UF20151021,KS15-08,4632,1,25,21984,2,20151113,0619,40.8223,137.9858,3630,405.5,402,0.7234,34.0665,2,-999.0000,9,226.78,2,39.47,2,23.24,2,0.01,2,1.79,2,2223.4,2,2260.9,2,7.4506,2,-999.,9,-999.,9
49UF20151021,KS15-08,4632,1,24,21983,2,20151113,0615,40.8223,137.9858,3630,504.0,499,0.6291,34.0709,2,-999.0000,9,211.16,2,46.61,2,24.69,2,0.00,2,1.91,2,2235.1,2,2264.7,2,7.4207,2,-999.,9,-999.,9
49UF20151021,KS15-08,4632,1,23,22095,2,20151113,0612,40.8223,137.9858,3630,605.6,600,0.5378,34.0721,2,-999.0000,9,206.86,2,51.71,2,25.04,2,0.00,2,1.94,2,2239.1,2,2265.2,2,7.4178,2,-999.,9,-999.,9
49UF20151021,KS15-08,4632,1,22,22665,2,20151113,0609,40.8223,137.9858,3630,707.2,701,0.4543,34.0719,2,-999.0000,9,203.95,2,56.65,2,25.26,2,0.00,2,1.96,2,2242.2,2,2265.1,2,7.4104,2,-999.,9,-999.,9
49UF20151021,KS15-08,4632,1,20,21979,2,20151113,0607,40.8223,137.9858,3630,806.5,799,0.4064,34.0715,2,-999.0000,9,203.34,2,58.79,2,25.29,2,0.00,2,1.96,2,2241.1,2,2268.5,2,7.4171,6,-999.,9,-999.,9
49UF20151021,KS15-08,4632,1,19,21964,2,20151113,0604,40.8223,137.9858,3630,909.4,900,0.3615,34.0708,2,-999.0000,9,202.69,2,61.88,2,25.31,2,0.00,2,1.96,2,2242.3,6,2269.9,6,7.4172,2,-999.,9,-999.,9
49UF20151021,KS15-08,4632,1,18,21977,2,20151113,0602,40.8223,137.9858,3630,1010.5,1000,0.3180,34.0702,2,-999.0000,9,201.80,2,64.96,2,25.36,2,0.00,2,1.97,2,2242.3,2,2269.3,2,7.4182,2,-999.,9,-999.,9
49UF20151021,KS15-08,4632,1,17,23679,2,20151113,0556,40.8223,137.9858,3630,1213.8,1201,0.2678,34.0690,2,-999.0000,9,201.61,6,69.97,6,25.44,6,0.00,6,1.98,6,2241.1,2,2272.9,2,7.4215,2,-999.,9,-999.,9
49UF20151021,KS15-08,4632,1,15,21974,2,20151113,0551,40.8223,137.9858,3630,1416.0,1400,0.2413,34.0686,2,-999.0000,9,202.08,2,73.15,2,25.45,2,0.00,2,1.98,2,2246.0,2,2276.7,2,7.4214,3,-999.,9,-999.,9
49UF20151021,KS15-08,4632,1,16,21975,2,20151113,0551,40.8223,137.9858,3630,1417.5,1402,0.2408,34.0686,2,-999.0000,9,202.28,2,73.28,2,25.44,2,0.00,2,1.98,2,2244.4,2,2276.3,2,7.4268,2,-999.,9,-999.,9
49UF20151021,KS15-08,4632,1,14,21973,2,20151113,0543,40.8223,137.9858,3630,1618.8,1600,0.2264,34.0681,2,-999.0000,9,202.09,2,76.22,2,25.42,2,0.00,2,1.99,2,2246.8,2,2278.6,2,7.4276,2,-999.,9,-999.,9
49UF20151021,KS15-08,4632,1,13,21972,2,20151113,0538,40.8223,137.9858,3630,1823.0,1801,0.2195,34.0679,2,-999.0000,9,202.13,6,78.82,6,25.51,6,0.00,6,1.99,6,2248.8,2,2278.4,2,7.4353,2,-999.,9,-999.,9
49UF20151021,KS15-08,4632,1,12,21994,3,20151113,0533,40.8223,137.9858,3630,2025.6,2000,0.2216,34.0679,2,-999.0000,9,202.26,2,81.07,2,25.50,2,0.00,2,1.99,2,2247.2,2,2281.1,2,7.4327,2,-999.,9,-999.,9
49UF20151021,KS15-08,4632,1,11,21970,2,20151113,0533,40.8223,137.9858,3630,2025.8,2000,0.2215,34.0679,2,-999.0000,9,202.50,2,81.20,2,25.60,2,0.00,2,2.01,2,2246.9,2,2282.4,2,7.4369,2,-999.,9,-999.,9
49UF20151021,KS15-08,4632,1,10,21969,2,20151113,0528,40.8223,137.9858,3630,2280.5,2251,0.2279,34.0679,2,-999.0000,9,202.62,2,83.58,2,25.60,2,0.00,2,2.00,2,2255.2,3,2283.0,2,7.4432,2,-999.,9,-999.,9
49UF20151021,KS15-08,4632,1,9,21968,2,20151113,0522,40.8223,137.9858,3630,2535.2,2500,0.2377,34.0681,2,-999.0000,9,203.21,2,86.31,2,25.70,2,0.00,2,2.01,2,2248.5,2,2285.3,2,7.4430,6,-999.,9,-999.,9
49UF20151021,KS15-08,4632,1,8,21982,2,20151113,0517,40.8223,137.9858,3630,2789.8,2750,0.2584,34.0682,2,-999.0000,9,203.20,2,86.39,2,25.69,2,0.00,2,2.00,2,2249.3,2,2285.3,6,7.4404,2,-999.,9,-999.,9
49UF20151021,KS15-08,4632,1,7,21966,2,20151113,0512,40.8223,137.9858,3630,3046.0,3001,0.2806,34.0681,2,-999.0000,9,203.18,2,86.29,2,25.74,2,0.00,2,2.01,2,2251.5,2,2286.0,2,7.4427,2,-999.,9,-999.,9
49UF20151021,KS15-08,4632,1,6,24474,2,20151113,0506,40.8223,137.9858,3630,3301.5,3251,0.3040,34.0681,2,34.0680,2,203.31,2,86.34,2,25.69,2,0.00,2,2.01,2,2248.3,2,2286.0,2,7.4424,2,-999.,9,-999.,9
49UF20151021,KS15-08,4632,1,5,24272,2,20151113,0501,40.8223,137.9858,3630,3558.4,3501,0.3287,34.0680,2,34.0690,2,203.19,2,86.39,2,25.71,2,0.00,2,2.01,2,2251.6,2,2286.8,2,7.4405,2,-999.,9,-999.,9
49UF20151021,KS15-08,4632,1,4,21963,2,20151113,0459,40.8223,137.9858,3630,3627.0,3568,0.3356,34.0680,2,34.0674,2,203.16,2,86.45,2,25.68,2,0.00,2,2.01,2,2255.0,2,2287.2,2,7.4429,2,-999.,9,-999.,9