BOTTLE,20171119JMAGEMD
EXPOCODE,SECT_ID,STNNBR,CASTNO,SAMPNO,BTLNBR,BTLNBR_FLAG_W,DATE,TIME,LATITUDE,LONGITUDE,DEPTH,CTDPRS,CTDDEP,CTDTMP,CTDSAL,CTDSAL_FLAG_W,SALNTY,SALNTY_FLAG_W,OXYGEN,OXYGEN_FLAG_W,SILCAT,SILCAT_FLAG_W,NO2+NO3,NO2+NO3_FLAG_W,NITRIT,NITRIT_FLAG_W,PHSPHT,PHSPHT_FLAG_W,TCARBN,TCARBN_FLAG_W,ALKALI,ALKALI_FLAG_W,PH_TOT,PH_TOT_FLAG_W,CFC-11,CFC-11_FLAG_W,CFC-12,CFC-12_FLAG_W
,,,,,,,UTC,UTC,,,METER,DBAR,METERS,ITS-90,PSS-78,,PSS-78,,UMOL/KG,,UMOL/KG,,UMOL/KG,,UMOL/KG,,UMOL/KG,,UMOL/KG,,UMOL/KG,,@25DEG-C,,PMOL/KG,,PMOL/KG,
49UF20151021,KS15-08,4611,1,-999,0,2,20151102,0625,39.508,137.5155,2606,0.0,0,16.7139,33.5025,2,-999.0000,9,245.71,2,2.74,2,0.00,2,0.00,2,0.02,2,-999.,9,-999.,9,-999.,9,-999.,9,-999.,9
49UF20151021,KS15-08,4611,1,36,21995,2,20151102,0638,39.508,137.5155,2606,11.2,11,16.2702,33.5909,2,33.5980,2,247.14,2,2.95,2,0.00,2,0.01,2,0.04,2,-999.,9,-999.,9,-999.,9,-999.,9,-999.,9
49UF20151021,KS15-08,4611,1,35,22087,2,20151102,0636,39.508,137.5155,2606,26.8,27,14.7130,33.7937,2,33.8242,4,255.32,2,3.07,2,0.00,2,0.00,2,0.05,2,-999.,9,-999.,9,-999.,9,-999.,9,-999.,9
49UF20151021,KS15-08,4611,1,33,21992,2,20151102,0633,39.508,137.5155,2606,51.7,51,14.0884,33.8493,2,33.8720,4,255.35,2,3.66,2,0.55,2,0.04,2,0.09,2,-999.,9,-999.,9,-999.,9,-999.,9,-999.,9
49UF20151021,KS15-08,4611,1,34,22666,2,20151102,0633,39.508,137.5155,2606,51.9,51,14.0880,33.8506,2,33.8536,2,256.06,2,3.35,2,0.13,2,0.02,2,0.06,2,-999.,9,-999.,9,-999.,9,-999.,9,-999.,9
49UF20151021,KS15-08,4611,1,32,21991,3,20151102,0632,39.508,137.5155,2606,77.3,77,8.0141,34.1314,2,34.1390,2,259.34,2,9.36,2,8.20,2,0.04,2,0.62,2,-999.,9,-999.,9,-999.,9,-999.,9,-999.,9
49UF20151021,KS15-08,4611,1,31,24270,2,20151102,0630,39.508,137.5155,2606,102.7,102,4.9539,34.0555,2,34.0556,2,271.84,2,13.06,2,10.88,2,0.02,2,0.81,2,-999.,9,-999.,9,-999.,9,-999.,9,-999.,9
49UF20151021,KS15-08,4611,1,27,21986,2,20151102,0629,39.508,137.5155,2606,129.0,128,3.4279,34.0226,2,34.0213,2,276.25,2,15.74,2,12.73,2,0.01,2,0.94,2,-999.,9,-999.,9,-999.,9,-999.,9,-999.,9
49UF20151021,KS15-08,4611,1,26,24271,3,20151102,0628,39.508,137.5155,2606,155.6,154,2.5502,34.0149,2,34.0142,2,276.51,2,18.30,2,14.15,2,0.01,2,1.05,2,-999.,9,-999.,9,-999.,9,-999.,9,-999.,9
49UF20151021,KS15-08,4611,1,25,21984,2,20151102,0626,39.508,137.5155,2606,204.2,203,1.7233,34.0331,2,34.0328,2,256.96,2,26.27,2,17.84,2,0.00,2,1.34,2,-999.,9,-999.,9,-999.,9,-999.,9,-999.,9
49UF20151021,KS15-08,4611,1,23,22095,2,20151102,0624,39.508,137.5155,2606,254.8,253,1.1764,34.0516,2,34.0512,2,231.27,2,35.62,2,21.58,2,0.00,2,1.63,2,-999.,9,-999.,9,-999.,9,-999.,9,-999.,9
49UF20151021,KS15-08,4611,1,22,22665,2,20151102,0622,39.508,137.5155,2606,305.3,303,0.9079,34.0602,2,34.0605,2,217.87,2,41.68,2,23.38,2,0.00,2,1.79,2,-999.,9,-999.,9,-999.,9,-999.,9,-999.,9
49UF20151021,KS15-08,4611,1,21,21980,2,20151102,0618,39.508,137.5155,2606,405.3,402,0.7165,34.0629,2,34.0672,2,210.41,2,46.89,2,24.43,2,0.00,2,1.87,2,-999.,9,-999.,9,-999.,9,-999.,9,-999.,9
49UF20151021,KS15-08,4611,1,20,21979,2,20151102,0610,39.508,137.5155,2606,507.9,503,0.6163,34.0694,2,34.0692,2,206.24,6,50.51,6,24.93,6,0.00,6,1.92,6,-999.,9,-999.,9,-999.,9,-999.,9,-999.,9
49UF20151021,KS15-08,4611,1,19,21964,2,20151102,0607,39.508,137.5155,2606,608.4,603,0.5244,34.0706,2,34.0709,2,203.19,2,54.82,2,25.24,2,0.00,2,1.94,2,-999.,9,-999.,9,-999.,9,-999.,9,-999.,9
49UF20151021,KS15-08,4611,1,14,21973,2,20151102,0602,39.508,137.5155,2606,708.8,702,0.4362,34.0703,2,34.0707,2,202.31,2,59.86,2,25.30,2,0.00,2,1.95,2,-999.,9,-999.,9,-999.,9,-999.,9,-999.,9
49UF20151021,KS15-08,4611,1,15,21974,2,20151102,0602,39.508,137.5155,2606,710.0,703,0.4351,34.0705,2,34.0708,2,202.13,2,59.80,2,25.29,2,0.00,2,1.95,2,-999.,9,-999.,9,-999.,9,-999.,9,-999.,9
49UF20151021,KS15-08,4611,1,13,21972,2,20151102,0559,39.508,137.5155,2606,810.0,802,0.3786,34.0704,2,34.0703,2,202.38,2,63.17,2,25.36,2,0.00,2,1.96,2,-999.,9,-999.,9,-999.,9,-999.,9,-999.,9
49UF20151021,KS15-08,4611,1,12,21994,3,20151102,0555,39.508,137.5155,2606,910.7,902,0.3304,34.0697,2,34.0711,2,201.15,2,66.51,2,25.36,2,0.00,2,1.96,2,-999.,9,-999.,9,-999.,9,-999.,9,-999.,9
49UF20151021,KS15-08,4611,1,11,21970,2,20151102,0552,39.508,137.5155,2606,1011.2,1001,0.3029,34.0694,2,34.0693,2,200.63,2,69.07,2,25.46,2,0.00,2,1.97,2,-999.,9,-999.,9,-999.,9,-999.,9,-999.,9
49UF20151021,KS15-08,4611,1,10,21969,2,20151102,0548,39.508,137.5155,2606,1212.8,1200,0.2647,34.0690,2,34.0693,6,200.26,2,73.39,2,25.44,2,0.00,2,1.98,2,-999.,9,-999.,9,-999.,9,-999.,9,-999.,9
49UF20151021,KS15-08,4611,1,9,21968,2,20151102,0544,39.508,137.5155,2606,1415.2,1400,0.2387,34.0687,2,34.0691,2,200.17,2,77.19,2,25.53,2,0.00,2,1.99,2,-999.,9,-999.,9,-999.,9,-999.,9,-999.,9
49UF20151021,KS15-08,4611,1,8,21982,2,20151102,0538,39.508,137.5155,2606,1618.1,1600,0.2237,34.0684,2,34.0690,2,200.33,2,79.72,2,25.56,2,0.00,2,1.99,2,-999.,9,-999.,9,-999.,9,-999.,9,-999.,9
49UF20151021,KS15-08,4611,1,7,21966,3,20151102,0534,39.508,137.5155,2606,1821.7,1800,0.2213,34.0683,2,34.0682,2,200.24,2,82.09,2,25.61,2,0.00,2,1.99,2,-999.,9,-999.,9,-999.,9,-999.,9,-999.,9
49UF20151021,KS15-08,4611,1,6,24474,2,20151102,0531,39.508,137.5155,2606,2025.3,2000,0.2247,34.0683,2,34.0687,2,199.74,2,84.21,2,25.66,2,0.00,2,2.00,2,-999.,9,-999.,9,-999.,9,-999.,9,-999.,9
49UF20151021,KS15-08,4611,1,5,24272,3,20151102,0522,39.508,137.5155,2606,2278.7,2249,0.2349,34.0682,2,34.0684,2,199.99,2,85.94,2,25.74,2,0.00,2,2.00,2,-999.,9,-999.,9,-999.,9,-999.,9,-999.,9
49UF20151021,KS15-08,4611,1,4,21963,2,20151102,0516,39.508,137.5155,2606,2570.8,2536,0.2485,34.0681,2,34.0684,6,201.21,6,87.19,6,25.76,6,0.00,6,2.00,6,-999.,9,-999.,9,-999.,9,-999.,9,-999.,9
49UF20151021,KS15-08,4612,1,-999,0,2,20151102,1645,40.335,136.0137,2553,0.0,0,12.4095,33.9314,2,-999.0000,9,269.30,2,3.29,2,0.00,2,0.00,2,0.08,2,-999.,9,-999.,9,-999.,9,-999.,9,-999.,9
49UF20151021,KS15-08,4612,1,36,21995,2,20151102,1708,40.335,136.0137,2553,11.6,12,12.4121,33.9310,2,33.9285,2,268.89,2,3.24,2,0.00,2,0.00,2,0.06,2,-999.,9,-999.,9,-999.,9,-999.,9,-999.,9
49UF20151021,KS15-08,4612,1,35,22087,2,20151102,1707,40.335,136.0137,2553,26.6,26,12.4054,33.9256,2,-999.0000,9,268.46,2,3.29,2,0.01,2,0.00,2,0.07,2,-999.,9,-999.,9,-999.,9,-999.,9,-999.,9
49UF20151021,KS15-08,4612,1,34,22666,2,20151102,1701,40.335,136.0137,2553,51.4,51,4.7782,34.0223,2,34.0223,2,282.57,6,11.15,6,9.86,6,0.04,6,0.75,6,-999.,9,-999.,9,-999.,9,-999.,9,-999.,9
49UF20151021,KS15-08,4612,1,32,21991,2,20151102,1700,40.335,136.0137,2553,76.8,76,3.4239,33.9924,2,33.9921,2,285.40,2,13.44,2,11.42,2,0.01,2,0.86,2,-999.,9,-999.,9,-999.,9,-999.,9,-999.,9
49UF20151021,KS15-08,4612,1,33,21992,2,20151102,1700,40.335,136.0137,2553,77.0,76,3.4220,33.9932,2,33.9919,2,285.33,2,13.44,2,11.44,2,0.01,2,0.86,2,-999.,9,-999.,9,-999.,9,-999.,9,-999.,9
49UF20151021,KS15-08,4612,1,31,24270,2,20151102,1659,40.335,136.0137,2553,102.4,102,2.3919,33.9979,2,34.0034,2,284.46,2,17.33,2,13.66,2,0.01,2,1.02,2,-999.,9,-999.,9,-999.,9,-999.,9,-999.,9
49UF20151021,KS15-08,4612,1,30,21962,2,20151102,1657,40.335,136.0137,2553,128.5,127,1.9529,34.0099,2,-999.0000,9,293.48,2,17.74,2,13.70,2,0.00,2,1.02,2,-999.,9,-999.,9,-999.,9,-999.,9,-999.,9
49UF20151021,KS15-08,4612,1,29,21988,2,20151102,1656,40.335,136.0137,2553,153.3,152,1.6148,34.0146,2,34.0160,2,297.74,2,18.81,2,14.20,2,0.00,2,1.06,2,-999.,9,-999.,9,-999.,9,-999.,9,-999.,9
49UF20151021,KS15-08,4612,1,28,21987,2,20151102,1654,40.335,136.0137,2553,203.5,202,1.2645,34.0318,2,34.0315,2,290.07,2,22.32,2,15.95,2,0.00,2,1.19,2,-999.,9,-999.,9,-999.,9,-999.,9,-999.,9
49UF20151021,KS15-08,4612,1,24,21983,2,20151102,1653,40.335,136.0137,2553,253.7,252,0.9769,34.0382,2,-999.0000,9,281.34,2,25.00,2,17.48,2,0.00,2,1.31,2,-999.,9,-999.,9,-999.,9,-999.,9,-999.,9
49UF20151021,KS15-08,4612,1,23,22095,2,20151102,1651,40.335,136.0137,2553,304.7,302,0.8863,34.0476,2,34.0477,2,269.91,2,28.00,2,18.89,2,0.00,2,1.41,2,-999.,9,-999.,9,-999.,9,-999.,9,-999.,9
49UF20151021,KS15-08,4612,1,22,22665,2,20151102,1648,40.335,136.0137,2553,405.1,402,0.7603,34.0629,2,34.0649,6,229.63,2,38.83,2,22.88,2,0.00,2,1.74,2,-999.,9,-999.,9,-999.,9,-999.,9,-999.,9
49UF20151021,KS15-08,4612,1,18,21977,2,20151102,1637,40.335,136.0137,2553,507.5,503,0.6729,34.0680,2,34.0683,2,216.34,2,44.23,2,24.16,2,0.00,2,1.85,2,-999.,9,-999.,9,-999.,9,-999.,9,-999.,9
49UF20151021,KS15-08,4612,1,17,23679,2,20151102,1634,40.335,136.0137,2553,607.9,602,0.5732,34.0704,2,34.0702,2,208.64,2,50.22,2,24.81,2,0.00,2,1.91,2,-999.,9,-999.,9,-999.,9,-999.,9,-999.,9
49UF20151021,KS15-08,4612,1,16,21975,2,20151102,1631,40.335,136.0137,2553,708.9,702,0.4730,34.0709,2,34.0714,2,204.45,2,56.47,2,25.17,2,0.00,2,1.94,2,-999.,9,-999.,9,-999.,9,-999.,9,-999.,9
49UF20151021,KS15-08,4612,1,15,21974,2,20151102,1628,40.335,136.0137,2553,809.7,802,0.4222,34.0708,2,34.0708,2,202.87,2,59.97,2,25.25,2,0.00,2,1.95,2,-999.,9,-999.,9,-999.,9,-999.,9,-999.,9
49UF20151021,KS15-08,4612,1,14,21973,2,20151102,1625,40.335,136.0137,2553,910.4,901,0.3710,34.0704,2,34.0714,2,201.57,6,63.78,6,25.32,6,0.00,6,1.96,6,-999.,9,-999.,9,-999.,9,-999.,9,-999.,9
49UF20151021,KS15-08,4612,1,13,21972,2,20151102,1621,40.335,136.0137,2553,1011.0,1001,0.3398,34.0700,2,34.0700,2,200.82,2,66.39,2,25.37,2,0.00,2,1.96,2,-999.,9,-999.,9,-999.,9,-999.,9,-999.,9
49UF20151021,KS15-08,4612,1,12,21994,3,20151102,1621,40.335,136.0137,2553,1011.1,1001,0.3397,34.0698,2,34.0700,2,200.94,2,66.36,2,25.35,2,0.00,2,1.96,2,-999.,9,-999.,9,-999.,9,-999.,9,-999.,9
49UF20151021,KS15-08,4612,1,11,21970,2,20151102,1617,40.335,136.0137,2553,1212.8,1200,0.2831,34.0692,2,34.0691,2,200.49,2,71.23,2,25.40,2,0.00,2,1.97,2,-999.,9,-999.,9,-999.,9,-999.,9,-999.,9
49UF20151021,KS15-08,4612,1,10,21969,2,20151102,1613,40.335,136.0137,2553,1415.7,1400,0.2521,34.0690,2,34.0689,2,198.79,2,77.16,2,25.48,2,0.00,2,1.99,2,-999.,9,-999.,9,-999.,9,-999.,9,-999.,9
49UF20151021,KS15-08,4612,1,8,21982,3,20151102,1605,40.335,136.0137,2553,1619.8,1601,0.2325,34.0684,2,34.0682,2,198.93,2,80.16,2,25.55,2,0.00,2,2.00,2,-999.,9,-999.,9,-999.,9,-999.,9,-999.,9
49UF20151021,KS15-08,4612,1,7,21966,3,20151102,1601,40.335,136.0137,2553,1821.2,1799,0.2181,34.0683,2,34.0679,2,200.20,2,82.38,2,25.53,2,0.00,2,2.00,2,-999.,9,-999.,9,-999.,9,-999.,9,-999.,9
49UF20151021,KS15-08,4612,1,6,24474,2,20151102,1557,40.335,136.0137,2553,2025.1,2000,0.2136,34.0680,2,34.0684,2,201.34,2,85.13,2,25.63,2,0.00,2,2.00,2,-999.,9,-999.,9,-999.,9,-999.,9,-999.,9
49UF20151021,KS15-08,4612,1,5,24272,2,20151102,1548,40.335,136.0137,2553,2280.1,2250,0.2218,34.0681,2,34.0684,2,202.37,2,86.71,2,25.67,2,0.00,2,2.00,2,-999.,9,-999.,9,-999.,9,-999.,9,-999.,9
49UF20151021,KS15-08,4612,1,4,21963,3,20151102,1542,40.335,136.0137,2553,2530.4,2496,0.2411,34.0681,2,34.0691,2,202.44,2,86.77,2,25.68,2,0.00,2,1.99,2,-999.,9,-999.,9,-999.,9,-999.,9,-999.,9
49UF20151021,KS15-08,4616,1,-999,0,2,20151103,0755,39.0368,137.0248,2292,0.0,0,18.7148,33.3499,2,-999.0000,9,235.99,2,1.74,2,0.09,2,0.03,2,0.03,2,-999.,9,-999.,9,-999.,9,-999.,9,-999.,9
49UF20151021,KS15-08,4616,1,36,21995,2,20151103,0820,39.0368,137.0248,2292,12.8,13,18.7260,33.3547,2,-999.0000,9,233.92,6,1.82,6,0.14,6,0.04,6,0.03,6,-999.,9,-999.,9,-999.,9,-999.,9,-999.,9
49UF20151021,KS15-08,4616,1,34,22666,2,20151103,0818,39.0368,137.0248,2292,27.9,28,18.8307,33.5249,2,-999.0000,9,229.52,2,2.59,2,0.31,2,0.12,2,0.05,2,-999.,9,-999.,9,-999.,9,-999.,9,-999.,9
49UF20151021,KS15-08,4616,1,35,22087,2,20151103,0818,39.0368,137.0248,2292,28.2,28,18.8280,33.5239,2,-999.0000,9,230.51,2,2.59,2,0.30,2,0.12,2,0.05,2,-999.,9,-999.,9,-999.,9,-999.,9,-999.,9
49UF20151021,KS15-08,4616,1,33,21992,2,20151103,0814,39.0368,137.0248,2292,50.5,50,18.2617,33.9650,2,-999.0000,9,200.70,2,6.75,2,4.58,2,0.09,2,0.32,2,-999.,9,-999.,9,-999.,9,-999.,9,-999.,9
49UF20151021,KS15-08,4616,1,32,21991,2,20151103,0813,39.0368,137.0248,2292,76.4,76,15.4909,34.3706,2,-999.0000,9,185.58,2,12.75,2,8.67,2,0.03,2,0.61,2,-999.,9,-999.,9,-999.,9,-999.,9,-999.,9
49UF20151021,KS15-08,4616,1,31,24270,2,20151103,0812,39.0368,137.0248,2292,102.1,101,12.7392,34.3685,2,-999.0000,9,222.08,2,9.08,2,7.31,2,0.03,2,0.53,2,-999.,9,-999.,9,-999.,9,-999.,9,-999.,9
49UF20151021,KS15-08,4616,1,30,21962,2,20151103,0811,39.0368,137.0248,2292,128.3,127,10.0026,34.2575,2,-999.0000,9,247.90,2,8.30,2,7.90,2,0.03,2,0.57,2,-999.,9,-999.,9,-999.,9,-999.,9,-999.,9
49UF20151021,KS15-08,4616,1,29,21988,2,20151103,0810,39.0368,137.0248,2292,152.0,151,7.1606,34.1439,2,-999.0000,9,258.83,2,11.51,2,9.93,2,0.02,2,0.73,2,-999.,9,-999.,9,-999.,9,-999.,9,-999.,9
49UF20151021,KS15-08,4616,1,28,21987,2,20151103,0808,39.0368,137.0248,2292,205.8,204,2.9709,34.0231,2,-999.0000,9,276.32,2,17.28,2,13.57,2,0.01,2,1.01,2,-999.,9,-999.,9,-999.,9,-999.,9,-999.,9
49UF20151021,KS15-08,4616,1,24,21983,2,20151103,0806,39.0368,137.0248,2292,254.2,252,1.6900,34.0297,2,-999.0000,9,265.18,2,24.51,2,17.27,2,0.00,2,1.29,2,-999.,9,-999.,9,-999.,9,-999.,9,-999.,9
49UF20151021,KS15-08,4616,1,23,22095,2,20151103,0804,39.0368,137.0248,2292,304.8,302,1.3257,34.0433,2,-999.0000,9,246.02,2,30.82,2,19.84,2,0.00,2,1.50,2,-999.,9,-999.,9,-999.,9,-999.,9,-999.,9
49UF20151021,KS15-08,4616,1,22,22665,2,20151103,0801,39.0368,137.0248,2292,409.0,406,0.8869,34.0612,2,-999.0000,9,217.69,2,42.38,2,23.52,2,0.00,2,1.80,2,-999.,9,-999.,9,-999.,9,-999.,9,-999.,9
49UF20151021,KS15-08,4616,1,18,21977,2,20151103,0757,39.0368,137.0248,2292,506.2,502,0.7231,34.0660,2,-999.0000,9,209.89,2,47.78,2,24.49,2,0.00,2,1.88,2,-999.,9,-999.,9,-999.,9,-999.,9,-999.,9
49UF20151021,KS15-08,4616,1,17,23679,2,20151103,0753,39.0368,137.0248,2292,607.6,602,0.5622,34.0693,2,-999.0000,9,205.05,2,54.40,2,25.08,2,0.00,2,1.94,2,-999.,9,-999.,9,-999.,9,-999.,9,-999.,9
49UF20151021,KS15-08,4616,1,16,21975,2,20151103,0750,39.0368,137.0248,2292,711.0,704,0.4767,34.0703,2,-999.0000,9,202.90,2,58.15,6,25.25,6,0.00,6,1.95,6,-999.,9,-999.,9,-999.,9,-999.,9,-999.,9
49UF20151021,KS15-08,4616,1,14,21973,2,20151103,0746,39.0368,137.0248,2292,811.8,804,0.4156,34.0704,2,-999.0000,9,201.88,2,61.08,2,25.26,2,0.00,2,1.96,2,-999.,9,-999.,9,-999.,9,-999.,9,-999.,9
49UF20151021,KS15-08,4616,1,15,21974,2,20151103,0746,39.0368,137.0248,2292,813.1,805,0.4148,34.0705,2,-999.0000,9,201.59,2,61.14,2,25.36,2,0.00,2,1.96,2,-999.,9,-999.,9,-999.,9,-999.,9,-999.,9
49UF20151021,KS15-08,4616,1,13,21972,2,20151103,0743,39.0368,137.0248,2292,911.7,903,0.3640,34.0701,2,-999.0000,9,201.16,2,64.54,2,25.37,2,0.00,2,1.97,2,-999.,9,-999.,9,-999.,9,-999.,9,-999.,9
49UF20151021,KS15-08,4616,1,12,21994,2,20151103,0739,39.0368,137.0248,2292,1014.5,1004,0.3264,34.0698,2,-999.0000,9,200.66,2,67.39,2,25.38,2,0.00,2,1.97,2,-999.,9,-999.,9,-999.,9,-999.,9,-999.,9
49UF20151021,KS15-08,4616,1,11,21970,2,20151103,0735,39.0368,137.0248,2292,1216.6,1204,0.2645,34.0691,2,-999.0000,9,200.44,2,73.63,2,25.47,2,0.00,2,1.98,2,-999.,9,-999.,9,-999.,9,-999.,9,-999.,9
49UF20151021,KS15-08,4616,1,10,21969,3,20151103,0730,39.0368,137.0248,2292,1417.8,1402,0.2365,34.0686,2,-999.0000,9,199.66,2,77.72,2,25.57,2,0.00,2,1.99,2,-999.,9,-999.,9,-999.,9,-999.,9,-999.,9
49UF20151021,KS15-08,4616,1,8,21982,2,20151103,0724,39.0368,137.0248,2292,1620.6,1602,0.2267,34.0686,2,-999.0000,9,200.00,2,80.40,2,25.61,2,0.00,2,1.99,2,-999.,9,-999.,9,-999.,9,-999.,9,-999.,9
49UF20151021,KS15-08,4616,1,7,21966,2,20151103,0719,39.0368,137.0248,2292,1824.3,1803,0.2217,34.0684,2,-999.0000,9,199.28,2,83.23,2,25.61,2,0.00,2,2.01,2,-999.,9,-999.,9,-999.,9,-999.,9,-999.,9
49UF20151021,KS15-08,4616,1,6,24474,2,20151103,0713,39.0368,137.0248,2292,2027.2,2002,0.2239,34.0682,2,-999.0000,9,199.08,2,85.51,2,25.71,2,0.00,2,2.01,2,-999.,9,-999.,9,-999.,9,-999.,9,-999.,9
49UF20151021,KS15-08,4616,1,5,24272,2,20151103,0708,39.0368,137.0248,2292,2280.9,2251,0.2313,34.0681,2,34.0684,2,200.02,2,86.74,2,25.72,2,0.00,2,2.01,2,-999.,9,-999.,9,-999.,9,-999.,9,-999.,9
49UF20151021,KS15-08,4616,1,4,21963,2,20151103,0706,39.0368,137.0248,2292,2330.9,2300,0.2342,34.0682,2,34.0686,2,200.00,2,86.85,2,25.73,2,0.00,2,2.00,2,-999.,9,-999.,9,-999.,9,-999.,9,-999.,9