BOTTLE,20171119JMAGEMD
EXPOCODE,SECT_ID,STNNBR,CASTNO,SAMPNO,BTLNBR,BTLNBR_FLAG_W,DATE,TIME,LATITUDE,LONGITUDE,DEPTH,CTDPRS,CTDDEP,CTDTMP,CTDSAL,CTDSAL_FLAG_W,SALNTY,SALNTY_FLAG_W,OXYGEN,OXYGEN_FLAG_W,SILCAT,SILCAT_FLAG_W,NO2+NO3,NO2+NO3_FLAG_W,NITRIT,NITRIT_FLAG_W,PHSPHT,PHSPHT_FLAG_W,TCARBN,TCARBN_FLAG_W,ALKALI,ALKALI_FLAG_W,PH_TOT,PH_TOT_FLAG_W,CFC-11,CFC-11_FLAG_W,CFC-12,CFC-12_FLAG_W
,,,,,,,UTC,UTC,,,METER,DBAR,METERS,ITS-90,PSS-78,,PSS-78,,UMOL/KG,,UMOL/KG,,UMOL/KG,,UMOL/KG,,UMOL/KG,,UMOL/KG,,UMOL/KG,,@25DEG-C,,PMOL/KG,,PMOL/KG,
49UF20151021,KS15-08,4618,1,-999,0,2,20151109,1850,39.7362,137.2552,2613,0.0,0,17.5912,33.4487,2,-999.0000,9,237.38,2,2.49,3,0.31,2,0.07,3,0.06,2,-999.,9,-999.,9,-999.,9,-999.,9,-999.,9
49UF20151021,KS15-08,4618,1,36,21995,2,20151109,1916,39.7362,137.2552,2613,11.4,11,17.5967,33.4479,2,33.4450,2,235.23,2,2.62,3,0.42,2,0.10,3,0.06,2,-999.,9,-999.,9,-999.,9,-999.,9,-999.,9
49UF20151021,KS15-08,4618,1,35,22087,2,20151109,1914,39.7362,137.2552,2613,25.7,26,17.6030,33.4444,2,33.4506,2,234.98,2,2.60,3,0.46,2,0.10,3,0.07,2,-999.,9,-999.,9,-999.,9,-999.,9,-999.,9
49UF20151021,KS15-08,4618,1,34,22666,2,20151109,1913,39.7362,137.2552,2613,52.9,52,14.3430,33.8251,2,33.8256,2,252.70,2,2.58,3,0.06,2,0.02,3,0.06,2,-999.,9,-999.,9,-999.,9,-999.,9,-999.,9
49UF20151021,KS15-08,4618,1,33,21992,2,20151109,1911,39.7362,137.2552,2613,77.2,77,10.9934,34.2005,2,34.2045,2,234.34,6,8.29,3,7.80,6,0.04,3,0.57,6,-999.,9,-999.,9,-999.,9,-999.,9,-999.,9
49UF20151021,KS15-08,4618,1,32,21991,2,20151109,1908,39.7362,137.2552,2613,101.6,101,7.0062,34.1279,2,34.1281,2,259.98,2,10.31,3,9.41,2,0.03,3,0.70,2,-999.,9,-999.,9,-999.,9,-999.,9,-999.,9
49UF20151021,KS15-08,4618,1,31,24270,2,20151109,1908,39.7362,137.2552,2613,101.7,101,6.9938,34.1139,2,34.1233,2,260.72,2,10.35,3,9.51,2,0.03,3,0.71,2,-999.,9,-999.,9,-999.,9,-999.,9,-999.,9
49UF20151021,KS15-08,4618,1,30,21962,2,20151109,1907,39.7362,137.2552,2613,128.8,128,4.0422,34.0439,2,34.0442,2,273.55,2,14.98,3,12.19,2,0.02,3,0.91,2,-999.,9,-999.,9,-999.,9,-999.,9,-999.,9
49UF20151021,KS15-08,4618,1,29,21988,2,20151109,1906,39.7362,137.2552,2613,153.7,152,2.9295,34.0190,2,34.0201,2,283.82,2,16.34,3,12.86,2,0.01,3,0.97,2,-999.,9,-999.,9,-999.,9,-999.,9,-999.,9
49UF20151021,KS15-08,4618,1,28,21987,3,20151109,1904,39.7362,137.2552,2613,204.1,202,1.7751,34.0182,2,34.0176,2,294.68,2,18.31,3,13.98,2,0.01,3,1.05,2,-999.,9,-999.,9,-999.,9,-999.,9,-999.,9
49UF20151021,KS15-08,4618,1,26,24271,2,20151109,1902,39.7362,137.2552,2613,254.9,253,1.3901,34.0298,2,34.0293,2,303.08,2,18.89,3,14.26,2,0.01,3,1.06,2,-999.,9,-999.,9,-999.,9,-999.,9,-999.,9
49UF20151021,KS15-08,4618,1,25,21984,2,20151109,1900,39.7362,137.2552,2613,305.8,303,1.1996,34.0394,2,34.0392,2,290.83,2,21.71,3,15.74,2,0.01,3,1.18,2,-999.,9,-999.,9,-999.,9,-999.,9,-999.,9
49UF20151021,KS15-08,4618,1,24,21983,2,20151109,1857,39.7362,137.2552,2613,406.3,403,0.8917,34.0500,2,34.0497,2,265.13,2,28.83,3,19.29,2,0.01,3,1.44,2,-999.,9,-999.,9,-999.,9,-999.,9,-999.,9
49UF20151021,KS15-08,4618,1,23,22095,3,20151109,1852,39.7362,137.2552,2613,507.9,503,0.7418,34.0646,2,34.0645,2,231.51,2,37.82,3,22.71,2,0.00,3,1.74,2,-999.,9,-999.,9,-999.,9,-999.,9,-999.,9
49UF20151021,KS15-08,4618,1,22,22665,2,20151109,1849,39.7362,137.2552,2613,608.1,603,0.6483,34.0697,2,34.0695,6,214.29,2,45.04,3,24.26,2,0.01,3,1.87,2,-999.,9,-999.,9,-999.,9,-999.,9,-999.,9
49UF20151021,KS15-08,4618,1,18,21977,2,20151109,1846,39.7362,137.2552,2613,710.1,703,0.5341,34.0716,2,34.0709,2,205.85,6,52.42,3,25.01,6,0.00,3,1.94,6,-999.,9,-999.,9,-999.,9,-999.,9,-999.,9
49UF20151021,KS15-08,4618,1,16,21975,2,20151109,1843,39.7362,137.2552,2613,809.0,801,0.4430,34.0712,2,34.0713,2,202.29,2,58.78,3,25.23,2,0.00,3,1.96,2,-999.,9,-999.,9,-999.,9,-999.,9,-999.,9
49UF20151021,KS15-08,4618,1,17,23679,2,20151109,1843,39.7362,137.2552,2613,809.5,802,0.4426,34.0710,2,34.0738,4,202.18,2,58.72,3,25.28,2,0.00,3,1.96,2,-999.,9,-999.,9,-999.,9,-999.,9,-999.,9
49UF20151021,KS15-08,4618,1,15,21974,2,20151109,1840,39.7362,137.2552,2613,909.2,900,0.3901,34.0708,2,34.0711,2,200.98,2,62.28,3,25.32,2,0.00,3,1.96,2,-999.,9,-999.,9,-999.,9,-999.,9,-999.,9
49UF20151021,KS15-08,4618,1,14,21973,2,20151109,1836,39.7362,137.2552,2613,1009.8,1000,0.3481,34.0702,2,34.0708,2,200.83,2,65.53,3,25.39,2,0.00,3,1.97,2,-999.,9,-999.,9,-999.,9,-999.,9,-999.,9
49UF20151021,KS15-08,4618,1,13,21972,2,20151109,1832,39.7362,137.2552,2613,1212.9,1200,0.2794,34.0693,2,34.0725,4,200.71,6,71.78,3,25.44,6,0.00,3,1.98,6,-999.,9,-999.,9,-999.,9,-999.,9,-999.,9
49UF20151021,KS15-08,4618,1,12,21994,3,20151109,1827,39.7362,137.2552,2613,1414.7,1399,0.2511,34.0688,2,34.2837,4,200.08,2,75.55,3,25.41,2,0.00,3,1.98,2,-999.,9,-999.,9,-999.,9,-999.,9,-999.,9
49UF20151021,KS15-08,4618,1,11,21970,2,20151109,1827,39.7362,137.2552,2613,1414.9,1399,0.2511,34.0689,2,34.0843,4,199.92,2,75.87,3,25.42,2,0.00,3,1.99,2,-999.,9,-999.,9,-999.,9,-999.,9,-999.,9
49UF20151021,KS15-08,4618,1,10,21969,2,20151109,1819,39.7362,137.2552,2613,1618.5,1600,0.2333,34.0686,2,34.0693,2,199.78,3,78.78,3,25.55,2,0.00,3,1.99,2,-999.,9,-999.,9,-999.,9,-999.,9,-999.,9
49UF20151021,KS15-08,4618,1,9,21968,2,20151109,1815,39.7362,137.2552,2613,1821.1,1799,0.2299,34.0682,2,34.0692,2,199.41,2,81.11,3,25.64,2,0.00,3,2.00,2,-999.,9,-999.,9,-999.,9,-999.,9,-999.,9
49UF20151021,KS15-08,4618,1,7,21966,2,20151109,1811,39.7362,137.2552,2613,2025.1,2000,0.2319,34.0684,2,34.0691,2,199.48,2,83.43,3,25.66,2,0.00,3,2.00,2,-999.,9,-999.,9,-999.,9,-999.,9,-999.,9
49UF20151021,KS15-08,4618,1,6,24474,2,20151109,1806,39.7362,137.2552,2613,2280.4,2251,0.2411,34.0681,2,34.0755,4,199.53,2,85.00,3,25.68,2,0.00,3,2.01,2,-999.,9,-999.,9,-999.,9,-999.,9,-999.,9
49UF20151021,KS15-08,4618,1,5,24272,2,20151109,1801,39.7362,137.2552,2613,2535.0,2501,0.2509,34.0682,2,34.0691,2,199.85,2,86.51,3,25.71,2,0.00,3,2.01,2,-999.,9,-999.,9,-999.,9,-999.,9,-999.,9
49UF20151021,KS15-08,4618,1,4,21963,2,20151109,1759,39.7362,137.2552,2613,2593.6,2558,0.2566,34.0682,2,34.0727,4,199.48,2,86.61,3,25.78,2,0.00,3,2.01,2,-999.,9,-999.,9,-999.,9,-999.,9,-999.,9
49UF20151021,KS15-08,4620,1,-999,0,2,20151110,0940,40.8145,136.5455,3262,0.0,0,11.8834,33.9344,2,-999.0000,9,269.59,2,3.04,2,0.12,2,0.01,2,0.07,2,-999.,9,-999.,9,-999.,9,-999.,9,-999.,9
49UF20151021,KS15-08,4620,1,36,21995,2,20151110,1000,40.8145,136.5455,3262,11.6,12,11.8890,33.9341,2,-999.0000,9,269.37,2,3.03,2,0.08,2,0.00,2,0.07,2,-999.,9,-999.,9,-999.,9,-999.,9,-999.,9
49UF20151021,KS15-08,4620,1,35,22087,2,20151110,0959,40.8145,136.5455,3262,26.3,26,11.8892,33.9340,2,-999.0000,9,269.17,2,3.01,2,0.11,2,0.00,2,0.07,2,-999.,9,-999.,9,-999.,9,-999.,9,-999.,9
49UF20151021,KS15-08,4620,1,34,22666,2,20151110,0958,40.8145,136.5455,3262,51.3,51,11.8933,33.9245,2,-999.0000,9,271.11,2,3.25,2,0.36,2,0.01,2,0.09,2,-999.,9,-999.,9,-999.,9,-999.,9,-999.,9
49UF20151021,KS15-08,4620,1,32,21991,2,20151110,0956,40.8145,136.5455,3262,76.6,76,2.4173,34.0210,2,-999.0000,9,297.84,2,14.46,2,12.31,2,0.03,2,0.92,2,-999.,9,-999.,9,-999.,9,-999.,9,-999.,9
49UF20151021,KS15-08,4620,1,31,24270,2,20151110,0953,40.8145,136.5455,3262,100.3,99,1.8897,34.0305,2,-999.0000,9,297.74,2,17.10,2,13.41,2,0.01,2,1.00,2,-999.,9,-999.,9,-999.,9,-999.,9,-999.,9
49UF20151021,KS15-08,4620,1,30,21962,2,20151110,0952,40.8145,136.5455,3262,129.6,129,1.7042,34.0400,2,-999.0000,9,296.93,6,18.22,6,13.83,6,0.01,6,1.03,6,-999.,9,-999.,9,-999.,9,-999.,9,-999.,9
49UF20151021,KS15-08,4620,1,28,21987,2,20151110,0950,40.8145,136.5455,3262,152.0,151,1.5046,34.0452,2,-999.0000,9,281.09,2,21.90,2,15.75,2,0.00,2,1.18,2,-999.,9,-999.,9,-999.,9,-999.,9,-999.,9
49UF20151021,KS15-08,4620,1,29,21988,2,20151110,0951,40.8145,136.5455,3262,154.7,153,1.4924,34.0446,2,-999.0000,9,280.32,2,22.03,2,15.81,2,0.00,2,1.18,2,-999.,9,-999.,9,-999.,9,-999.,9,-999.,9
49UF20151021,KS15-08,4620,1,27,21986,2,20151110,0949,40.8145,136.5455,3262,204.3,203,1.1938,34.0451,2,-999.0000,9,273.78,2,24.98,2,17.37,2,0.00,2,1.30,2,-999.,9,-999.,9,-999.,9,-999.,9,-999.,9
49UF20151021,KS15-08,4620,1,26,24271,2,20151110,0947,40.8145,136.5455,3262,252.4,250,0.9833,34.0516,2,-999.0000,9,260.67,2,29.12,2,19.44,2,0.00,2,1.46,2,-999.,9,-999.,9,-999.,9,-999.,9,-999.,9
49UF20151021,KS15-08,4620,1,25,21984,2,20151110,0946,40.8145,136.5455,3262,304.7,302,0.8807,34.0564,2,-999.0000,9,254.79,2,31.31,2,20.36,2,0.00,2,1.53,2,-999.,9,-999.,9,-999.,9,-999.,9,-999.,9
49UF20151021,KS15-08,4620,1,24,21983,2,20151110,0943,40.8145,136.5455,3262,404.6,401,0.7533,34.0646,2,-999.0000,9,232.74,6,37.78,6,22.66,6,0.00,6,1.74,6,-999.,9,-999.,9,-999.,9,-999.,9,-999.,9
49UF20151021,KS15-08,4620,1,22,22665,2,20151110,0939,40.8145,136.5455,3262,507.4,503,0.6579,34.0697,2,-999.0000,9,214.26,2,44.94,2,24.34,2,0.00,2,1.89,2,-999.,9,-999.,9,-999.,9,-999.,9,-999.,9
49UF20151021,KS15-08,4620,1,23,22095,3,20151110,0939,40.8145,136.5455,3262,507.7,503,0.6569,34.0701,2,-999.0000,9,214.38,2,44.90,2,24.40,2,0.00,2,1.88,2,-999.,9,-999.,9,-999.,9,-999.,9,-999.,9
49UF20151021,KS15-08,4620,1,18,21977,2,20151110,0936,40.8145,136.5455,3262,608.7,603,0.5521,34.0717,2,-999.0000,9,208.01,2,51.10,2,24.99,2,0.00,2,1.93,2,-999.,9,-999.,9,-999.,9,-999.,9,-999.,9
49UF20151021,KS15-08,4620,1,17,23679,2,20151110,0933,40.8145,136.5455,3262,708.4,702,0.4756,34.0718,2,-999.0000,9,204.48,2,55.68,2,25.22,2,0.00,2,1.95,2,-999.,9,-999.,9,-999.,9,-999.,9,-999.,9
49UF20151021,KS15-08,4620,1,16,21975,2,20151110,0931,40.8145,136.5455,3262,810.7,803,0.4048,34.0713,2,-999.0000,9,202.47,2,59.94,2,25.36,2,0.00,2,1.97,2,-999.,9,-999.,9,-999.,9,-999.,9,-999.,9
49UF20151021,KS15-08,4620,1,15,21974,2,20151110,0928,40.8145,136.5455,3262,911.1,902,0.3640,34.0708,2,-999.0000,9,201.53,2,62.79,2,25.41,2,0.00,2,1.97,2,-999.,9,-999.,9,-999.,9,-999.,9,-999.,9
49UF20151021,KS15-08,4620,1,14,21973,2,20151110,0923,40.8145,136.5455,3262,1014.8,1004,0.3257,34.0702,2,-999.0000,9,200.96,2,65.62,2,25.42,2,0.00,2,1.98,2,-999.,9,-999.,9,-999.,9,-999.,9,-999.,9
49UF20151021,KS15-08,4620,1,13,21972,2,20151110,0918,40.8145,136.5455,3262,1216.7,1204,0.2709,34.0692,2,-999.0000,9,201.22,2,70.75,2,25.46,2,0.00,2,1.98,2,-999.,9,-999.,9,-999.,9,-999.,9,-999.,9
49UF20151021,KS15-08,4620,1,12,21994,3,20151110,0913,40.8145,136.5455,3262,1418.1,1402,0.2378,34.0687,2,-999.0000,9,201.03,2,75.36,2,25.44,2,0.00,2,1.99,2,-999.,9,-999.,9,-999.,9,-999.,9,-999.,9
49UF20151021,KS15-08,4620,1,11,21970,2,20151110,0904,40.8145,136.5455,3262,1619.9,1601,0.2227,34.0685,2,-999.0000,9,200.99,2,78.37,2,25.51,2,0.00,2,1.99,2,-999.,9,-999.,9,-999.,9,-999.,9,-999.,9
49UF20151021,KS15-08,4620,1,10,21969,2,20151110,0859,40.8145,136.5455,3262,1825.6,1804,0.2198,34.0683,2,-999.0000,9,201.36,2,80.35,2,25.52,2,0.00,2,2.00,2,-999.,9,-999.,9,-999.,9,-999.,9,-999.,9
49UF20151021,KS15-08,4620,1,9,21968,2,20151110,0855,40.8145,136.5455,3262,2026.9,2002,0.2231,34.0682,2,-999.0000,9,201.74,2,82.12,2,25.60,2,0.00,2,2.00,2,-999.,9,-999.,9,-999.,9,-999.,9,-999.,9
49UF20151021,KS15-08,4620,1,8,21982,2,20151110,0850,40.8145,136.5455,3262,2281.3,2251,0.2287,34.0683,2,-999.0000,9,202.32,2,84.77,2,25.63,2,0.00,2,2.00,2,-999.,9,-999.,9,-999.,9,-999.,9,-999.,9
49UF20151021,KS15-08,4620,1,7,21966,2,20151110,0845,40.8145,136.5455,3262,2536.1,2501,0.2410,34.0681,2,-999.0000,9,202.30,2,86.86,2,25.71,2,0.00,2,2.01,2,-999.,9,-999.,9,-999.,9,-999.,9,-999.,9
49UF20151021,KS15-08,4620,1,6,24474,2,20151110,0839,40.8145,136.5455,3262,2790.6,2751,0.2604,34.0681,2,-999.0000,9,202.66,2,87.03,2,25.72,2,0.00,2,2.00,2,-999.,9,-999.,9,-999.,9,-999.,9,-999.,9
49UF20151021,KS15-08,4620,1,5,24272,3,20151110,0834,40.8145,136.5455,3262,3045.2,3000,0.2827,34.0681,2,34.0689,2,203.29,2,86.98,2,25.73,2,0.00,2,2.01,2,-999.,9,-999.,9,-999.,9,-999.,9,-999.,9
49UF20151021,KS15-08,4620,1,4,21963,2,20151110,0830,40.8145,136.5455,3262,3246.2,3197,0.3008,34.0683,2,34.0693,2,202.78,2,87.08,2,25.66,2,0.00,2,2.00,2,-999.,9,-999.,9,-999.,9,-999.,9,-999.,9
49UF20151021,KS15-08,4622,1,-999,0,2,20151110,1945,41.4788,136.991,3586,0.0,0,11.4012,33.9764,2,33.9813,2,271.09,2,2.78,2,0.07,2,0.01,2,0.09,2,2044.3,2,2268.9,2,7.9198,2,-999.000,9,-999.000,9
49UF20151021,KS15-08,4622,1,36,21995,2,20151110,2013,41.4788,136.991,3586,11.9,12,11.4076,33.9761,2,33.9739,2,270.69,2,2.84,2,0.04,2,0.01,2,0.08,2,2048.5,2,2267.4,2,7.9195,2,-999.000,1,-999.000,1
49UF20151021,KS15-08,4622,1,35,22087,2,20151110,2011,41.4788,136.991,3586,26.8,27,11.4098,33.9740,2,33.9727,2,270.59,2,2.79,2,0.06,2,0.01,2,0.09,2,2049.1,2,2268.0,2,7.9153,2,-999.000,9,-999.000,9
49UF20151021,KS15-08,4622,1,34,22666,2,20151110,2008,41.4788,136.991,3586,51.5,51,5.4233,34.0413,2,34.0258,4,289.58,2,8.15,2,7.87,2,0.21,2,0.66,2,2112.9,2,2261.7,2,7.7602,2,-999.000,1,-999.000,1
49UF20151021,KS15-08,4622,1,33,21992,2,20151110,2007,41.4788,136.991,3586,75.7,75,2.7438,34.0332,2,34.0307,2,294.61,2,13.77,2,11.83,2,0.02,2,0.89,2,2143.9,2,2260.7,2,7.6777,2,-999.000,9,-999.000,9
49UF20151021,KS15-08,4622,1,32,21991,2,20151110,2005,41.4788,136.991,3586,103.2,102,1.9065,34.0320,2,34.0302,2,307.30,2,15.52,2,12.29,2,0.01,2,0.92,2,2153.3,2,2258.6,2,7.6644,2,-999.000,1,-999.000,1
49UF20151021,KS15-08,4622,1,31,24270,2,20151110,2004,41.4788,136.991,3586,126.3,125,1.7654,34.0418,2,34.0400,2,309.64,2,15.99,2,12.40,2,0.01,2,0.94,2,2152.8,2,2261.8,2,7.6620,2,-999.000,9,-999.000,9
49UF20151021,KS15-08,4622,1,30,21962,2,20151110,2002,41.4788,136.991,3586,152.6,151,1.6472,34.0450,2,34.0453,2,309.22,2,16.61,2,12.71,2,0.01,2,0.96,2,2152.6,2,2261.9,2,7.6589,2,-999.000,9,-999.000,9
49UF20151021,KS15-08,4622,1,29,21988,2,20151110,2000,41.4788,136.991,3586,202.1,200,1.4078,34.0454,2,34.0449,2,302.92,6,18.82,6,13.95,6,0.01,6,1.06,6,2157.8,2,2260.3,2,7.6315,2,-999.000,1,-999.000,1
49UF20151021,KS15-08,4622,1,28,21987,2,20151110,1959,41.4788,136.991,3586,252.7,251,1.2087,34.0447,2,34.0460,2,288.64,2,22.27,2,15.95,2,0.01,2,1.20,2,2175.0,2,2262.4,2,7.5929,2,-999.000,9,-999.000,9
49UF20151021,KS15-08,4622,1,27,21986,2,20151110,1959,41.4788,136.991,3586,253.1,251,1.2095,34.0443,2,34.0441,2,288.52,2,22.43,2,15.95,2,0.01,2,1.20,2,2172.9,2,2259.6,2,7.5980,2,-999.000,9,-999.000,9
49UF20151021,KS15-08,4622,1,26,24271,2,20151110,1957,41.4788,136.991,3586,304.0,301,1.0098,34.0478,2,34.0476,2,270.73,2,26.73,2,18.37,2,0.01,2,1.38,2,2189.3,2,2262.6,2,7.5468,6,-999.000,1,-999.000,1
49UF20151021,KS15-08,4622,1,25,21984,2,20151110,1954,41.4788,136.991,3586,404.5,401,0.8105,34.0604,2,34.0606,2,247.46,2,33.51,2,21.23,2,0.01,2,1.61,2,2209.8,6,2261.6,6,7.4939,2,-999.000,9,-999.000,9
49UF20151021,KS15-08,4622,1,24,21983,2,20151110,1950,41.4788,136.991,3586,504.2,500,0.7215,34.0679,2,34.0679,2,222.83,2,41.07,2,23.59,2,0.00,2,1.82,2,2224.2,2,2263.6,2,7.4447,2,-999.000,1,-999.000,1
49UF20151021,KS15-08,4622,1,23,22095,2,20151110,1947,41.4788,136.991,3586,606.5,601,0.6289,34.0710,2,34.0708,2,210.75,2,47.30,2,24.70,2,0.00,2,1.91,2,2242.9,2,2265.0,2,7.4233,2,-999.000,9,-999.000,9
49UF20151021,KS15-08,4622,1,22,22665,2,20151110,1944,41.4788,136.991,3586,708.8,702,0.5348,34.0723,2,34.0756,4,206.26,2,52.25,2,25.04,2,0.00,2,1.94,2,2237.6,2,2265.3,2,7.4158,2,-999.000,1,-999.000,1
49UF20151021,KS15-08,4622,1,21,21980,2,20151110,1942,41.4788,136.991,3586,809.3,801,0.4551,34.0717,2,34.0717,2,203.65,6,57.05,6,25.23,6,0.00,6,1.96,6,2242.6,2,2269.3,2,7.4111,2,-999.000,9,-999.000,9
49UF20151021,KS15-08,4622,1,19,21964,2,20151110,1939,41.4788,136.991,3586,910.2,901,0.3905,34.0711,2,34.0715,2,202.33,2,61.04,2,25.34,2,0.00,2,1.96,2,2247.9,2,2270.6,2,7.4158,2,-999.000,9,-999.000,9
49UF20151021,KS15-08,4622,1,20,21979,2,20151110,1939,41.4788,136.991,3586,911.6,903,0.3905,34.0712,2,34.0714,2,202.53,2,60.90,2,25.34,2,0.00,2,1.97,2,2244.9,2,2270.3,2,7.4106,2,-999.000,9,-999.000,9
49UF20151021,KS15-08,4622,1,18,21977,2,20151110,1935,41.4788,136.991,3586,1013.1,1003,0.3360,34.0704,2,34.0725,4,201.53,2,64.63,2,25.39,2,0.00,2,1.98,2,2247.8,2,2271.5,2,7.4159,6,-999.000,1,-999.000,1
49UF20151021,KS15-08,4622,1,17,23679,2,20151110,1929,41.4788,136.991,3586,1215.1,1202,0.2770,34.0694,2,34.0708,4,201.49,2,69.66,2,25.40,2,0.00,2,1.98,2,2244.8,6,2275.4,6,7.4204,2,-999.000,9,-999.000,9
49UF20151021,KS15-08,4622,1,16,21975,2,20151110,1925,41.4788,136.991,3586,1416.0,1400,0.2419,34.0688,2,34.0691,2,202.15,2,73.67,2,25.42,2,0.00,2,1.98,2,2245.8,2,2276.5,2,7.4281,2,-999.000,1,-999.000,1
49UF20151021,KS15-08,4622,1,15,21974,2,20151110,1916,41.4788,136.991,3586,1620.8,1602,0.2299,34.0685,2,34.0678,2,201.85,2,76.09,2,25.46,2,0.00,2,1.98,2,2246.2,2,2279.0,2,7.4299,2,-999.000,9,-999.000,9
49UF20151021,KS15-08,4622,1,14,21973,2,20151110,1911,41.4788,136.991,3586,1823.8,1802,0.2246,34.0681,2,34.0681,2,201.90,2,78.31,2,25.44,2,0.00,2,1.98,2,2257.3,3,2280.9,2,7.4318,2,-999.000,9,-999.000,9
49UF20151021,KS15-08,4622,1,13,21972,2,20151110,1907,41.4788,136.991,3586,2027.2,2002,0.2240,34.0683,2,34.0723,4,201.90,2,81.22,2,25.55,2,0.00,2,2.00,2,2249.7,2,2282.1,2,7.4357,2,-999.000,1,-999.000,1
49UF20151021,KS15-08,4622,1,12,21994,2,20151110,1901,41.4788,136.991,3586,2280.7,2251,0.2329,34.0683,2,34.0688,2,202.31,2,83.09,2,25.56,2,0.00,2,2.00,2,2250.4,2,2282.7,2,7.4351,2,-999.000,9,-999.000,9
49UF20151021,KS15-08,4622,1,11,21970,2,20151110,1856,41.4788,136.991,3586,2535.4,2501,0.2389,34.0683,2,-999.0000,5,203.02,2,86.20,2,25.66,2,0.00,2,2.00,2,2247.8,2,2287.8,2,7.4441,2,-999.000,1,-999.000,1
49UF20151021,KS15-08,4622,1,9,21968,2,20151110,1850,41.4788,136.991,3586,2790.1,2750,0.2591,34.0680,2,34.0711,4,203.08,2,86.59,2,25.67,2,0.00,2,2.01,2,2252.2,2,2288.5,2,7.4429,2,-999.000,9,-999.000,9
49UF20151021,KS15-08,4622,1,10,21969,2,20151110,1850,41.4788,136.991,3586,2791.5,2751,0.2590,34.0682,2,34.0700,2,202.95,2,86.40,2,25.63,2,0.00,2,2.00,2,2249.4,2,2287.2,2,7.4441,2,-999.000,9,-999.000,9
49UF20151021,KS15-08,4622,1,7,21966,2,20151110,1845,41.4788,136.991,3586,3046.6,3001,0.2811,34.0682,2,34.0685,2,203.39,2,86.57,2,25.63,2,0.00,2,2.00,2,2251.0,2,2287.7,2,7.4419,2,-999.000,1,-999.000,1
49UF20151021,KS15-08,4622,1,6,24474,2,20151110,1840,41.4788,136.991,3586,3302.6,3251,0.3045,34.0683,2,34.0681,6,203.37,2,86.50,2,25.66,2,0.00,2,2.00,2,2249.8,2,2288.2,2,7.4452,6,-999.000,1,-999.000,1
49UF20151021,KS15-08,4622,1,5,24272,3,20151110,1834,41.4788,136.991,3586,3574.4,3517,0.3310,34.0683,2,34.0691,2,203.74,2,86.55,2,25.67,2,0.00,2,2.00,2,2248.2,2,2287.9,6,7.4440,2,-999.000,1,-999.000,1