BOTTLE,20171119JMAGEMD
EXPOCODE,SECT_ID,STNNBR,CASTNO,SAMPNO,BTLNBR,BTLNBR_FLAG_W,DATE,TIME,LATITUDE,LONGITUDE,DEPTH,CTDPRS,CTDDEP,CTDTMP,CTDSAL,CTDSAL_FLAG_W,SALNTY,SALNTY_FLAG_W,OXYGEN,OXYGEN_FLAG_W,SILCAT,SILCAT_FLAG_W,NO2+NO3,NO2+NO3_FLAG_W,NITRIT,NITRIT_FLAG_W,PHSPHT,PHSPHT_FLAG_W,TCARBN,TCARBN_FLAG_W,ALKALI,ALKALI_FLAG_W,PH_TOT,PH_TOT_FLAG_W,CFC-11,CFC-11_FLAG_W,CFC-12,CFC-12_FLAG_W
,,,,,,,UTC,UTC,,,METER,DBAR,METERS,ITS-90,PSS-78,,PSS-78,,UMOL/KG,,UMOL/KG,,UMOL/KG,,UMOL/KG,,UMOL/KG,,UMOL/KG,,UMOL/KG,,@25DEG-C,,PMOL/KG,,PMOL/KG,
49UF20151021,KS15-08,4589,1,-999,0,2,20151028,0350,37.7188,134.7283,2976,0.0,0,20.4816,33.4510,2,33.4653,2,222.50,2,2.29,2,0.43,2,0.05,2,0.06,2,1968.6,2,2244.1,2,8.0330,2,-999.000,9,-999.000,9
49UF20151021,KS15-08,4589,1,36,21995,2,20151028,0431,37.7188,134.7283,2976,11.4,11,20.4804,33.4513,2,33.4520,2,223.87,2,2.11,2,0.28,2,0.04,2,0.05,2,1966.7,2,2243.7,2,8.0121,3,-999.000,1,-999.000,1
49UF20151021,KS15-08,4589,1,35,22087,2,20151028,0429,37.7188,134.7283,2976,25.8,26,20.4844,33.4505,2,33.4501,2,223.12,2,2.09,2,0.28,2,0.04,2,0.04,2,1969.1,2,2244.5,2,8.0379,2,-999.000,9,-999.000,9
49UF20151021,KS15-08,4589,1,34,22666,2,20151028,0428,37.7188,134.7283,2976,51.2,51,20.4802,33.4578,2,33.4885,4,218.82,2,2.58,2,0.73,2,0.05,2,0.07,2,1976.3,2,2245.1,2,8.0283,2,-999.000,1,-999.000,1
49UF20151021,KS15-08,4589,1,33,21992,2,20151028,0426,37.7188,134.7283,2976,79.1,78,17.2504,34.2724,2,34.2530,4,157.91,2,13.10,2,10.28,2,0.04,2,0.66,2,2075.7,2,2274.3,2,7.8656,2,-999.000,9,-999.000,9
49UF20151021,KS15-08,4589,1,32,21991,2,20151028,0424,37.7188,134.7283,2976,102.1,101,16.9512,34.4056,2,34.4022,2,159.84,6,14.38,6,10.56,6,0.02,6,0.72,6,2077.8,2,2276.1,2,7.8635,2,-999.000,1,-999.000,1
49UF20151021,KS15-08,4589,1,30,21962,2,20151028,0422,37.7188,134.7283,2976,127.7,127,16.5889,34.4498,2,34.4493,2,162.17,2,15.56,2,10.86,2,0.02,2,0.76,2,2083.1,2,2279.3,2,7.8575,2,-999.000,9,-999.000,9
49UF20151021,KS15-08,4589,1,31,24270,2,20151028,0423,37.7188,134.7283,2976,129.0,128,16.5813,34.4496,2,34.4494,2,161.50,2,15.48,2,10.85,2,0.01,2,0.76,2,2080.4,2,2279.2,2,7.8575,2,-999.000,9,-999.000,9
49UF20151021,KS15-08,4589,1,29,21988,2,20151028,0421,37.7188,134.7283,2976,154.2,153,14.4082,34.3746,2,34.3808,4,173.25,2,17.71,2,11.40,2,0.02,2,0.83,2,2098.1,2,2278.2,2,7.8253,2,-999.000,9,-999.000,9
49UF20151021,KS15-08,4589,1,28,21987,2,20151028,0416,37.7188,134.7283,2976,203.9,202,8.1627,34.1837,2,34.1907,4,251.54,2,10.77,2,9.09,2,0.01,2,0.67,2,2100.0,2,2271.0,2,7.8095,2,-999.000,1,-999.000,1
49UF20151021,KS15-08,4589,1,25,21984,2,20151028,0414,37.7188,134.7283,2976,253.1,251,3.1654,34.0407,2,34.0410,2,257.18,2,21.02,2,15.13,2,0.00,2,1.14,2,2167.3,6,2265.0,6,7.6224,2,-999.000,1,-999.000,1
49UF20151021,KS15-08,4589,1,24,21983,2,20151028,0412,37.7188,134.7283,2976,303.7,301,1.5888,34.0384,2,34.0393,2,247.58,2,29.04,2,19.06,2,0.00,2,1.43,2,2195.3,2,2264.5,2,7.5339,6,-999.000,1,-999.000,1
49UF20151021,KS15-08,4589,1,23,22095,2,20151028,0409,37.7188,134.7283,2976,406.2,403,0.8934,34.0586,2,34.0595,2,233.73,2,36.43,2,22.22,2,0.01,2,1.67,2,2217.5,2,2264.2,2,7.4726,2,-999.000,9,-999.000,9
49UF20151021,KS15-08,4589,1,22,22665,2,20151028,0406,37.7188,134.7283,2976,504.6,500,0.7020,34.0677,2,34.0678,2,212.90,2,44.92,2,24.35,2,0.00,2,1.86,2,2232.0,2,2265.5,2,7.4284,2,-999.000,1,-999.000,1
49UF20151021,KS15-08,4589,1,21,21980,2,20151028,0359,37.7188,134.7283,2976,606.0,601,0.5833,34.0700,2,34.0707,2,206.70,2,50.76,2,24.98,2,0.00,2,1.92,2,2238.7,2,2266.8,2,7.4185,2,-999.000,9,-999.000,9
49UF20151021,KS15-08,4589,1,20,21979,2,20151028,0356,37.7188,134.7283,2976,710.5,704,0.4946,34.0707,2,34.0710,2,203.48,2,55.69,2,25.24,2,0.00,2,1.94,2,2242.0,2,2270.3,2,7.4119,2,-999.000,1,-999.000,1
49UF20151021,KS15-08,4589,1,19,21964,2,20151028,0353,37.7188,134.7283,2976,810.4,803,0.4327,34.0705,2,34.0710,6,202.55,6,59.55,6,25.31,6,0.00,6,1.95,6,2246.5,2,2272.2,2,7.4131,2,-999.000,9,-999.000,9
49UF20151021,KS15-08,4589,1,14,21973,2,20151028,0349,37.7188,134.7283,2976,909.8,901,0.3800,34.0703,2,34.0705,2,201.50,2,62.80,2,25.35,2,0.00,2,1.96,2,2246.0,2,2272.2,2,7.4154,2,-999.000,9,-999.000,9
49UF20151021,KS15-08,4589,1,15,21974,2,20151028,0349,37.7188,134.7283,2976,911.2,902,0.3783,34.0704,2,34.0709,2,201.65,2,62.90,2,25.34,2,0.00,2,1.96,2,2242.7,2,2272.2,2,7.4138,2,-999.000,9,-999.000,9
49UF20151021,KS15-08,4589,1,13,21972,2,20151028,0346,37.7188,134.7283,2976,1011.0,1001,0.3304,34.0699,2,34.0699,2,200.79,2,66.81,2,25.37,2,0.00,2,1.97,2,2244.5,2,2274.2,2,7.4145,2,-999.000,1,-999.000,1
49UF20151021,KS15-08,4589,1,12,21994,2,20151028,0339,37.7188,134.7283,2976,1214.7,1202,0.2754,34.0691,2,34.0695,2,200.46,2,71.77,2,25.43,2,0.00,2,1.97,2,2250.3,2,2278.1,2,7.4223,2,-999.000,9,-999.000,9
49UF20151021,KS15-08,4589,1,11,21970,3,20151028,0335,37.7188,134.7283,2976,1418.8,1403,0.2453,34.0683,2,34.0683,2,200.24,2,76.01,2,25.45,2,0.00,2,1.98,2,2249.7,2,2280.3,2,7.4252,2,-999.000,1,-999.000,1
49UF20151021,KS15-08,4589,1,10,21969,2,20151028,0329,37.7188,134.7283,2976,1619.0,1601,0.2318,34.0683,2,34.0681,2,199.86,2,78.91,2,25.56,2,0.00,2,1.99,2,2249.7,2,2281.8,2,7.4256,2,-999.000,9,-999.000,9
49UF20151021,KS15-08,4589,1,9,21968,2,20151028,0324,37.7188,134.7283,2976,1825.4,1804,0.2282,34.0683,2,34.0682,6,199.79,2,81.30,2,25.64,2,0.00,2,1.99,2,2248.9,2,2283.6,2,7.4259,2,-999.000,9,-999.000,9
49UF20151021,KS15-08,4589,1,8,21982,2,20151028,0319,37.7188,134.7283,2976,2027.6,2003,0.2317,34.0679,2,34.0687,2,199.41,2,83.61,2,25.68,2,0.00,2,2.00,2,2252.2,2,2285.4,2,7.4271,2,-999.000,1,-999.000,1
49UF20151021,KS15-08,4589,1,7,21966,2,20151028,0307,37.7188,134.7283,2976,2280.9,2252,0.2434,34.0680,2,34.0688,2,199.48,2,84.85,2,25.69,2,0.00,2,2.00,2,2250.8,6,2285.5,6,7.4309,2,-999.000,9,-999.000,9
49UF20151021,KS15-08,4589,1,6,24474,2,20151028,0302,37.7188,134.7283,2976,2535.9,2502,0.2602,34.0681,2,34.0703,4,198.73,2,86.52,2,25.74,2,0.00,2,2.01,2,2252.1,2,2287.1,2,7.4295,6,-999.000,1,-999.000,1
49UF20151021,KS15-08,4589,1,5,24272,2,20151028,0256,37.7188,134.7283,2976,2791.6,2753,0.2813,34.0679,2,34.0699,4,198.55,2,86.30,2,25.72,2,0.00,2,2.01,2,2253.1,2,2285.7,2,7.4277,2,-999.000,1,-999.000,1
49UF20151021,KS15-08,4589,1,4,21963,2,20151028,0252,37.7188,134.7283,2976,2954.4,2912,0.2955,34.0679,2,34.0686,2,198.51,2,86.70,2,25.77,2,0.00,2,2.01,2,2254.1,2,2288.3,2,7.4303,2,-999.000,1,-999.000,1
49UF20151021,KS15-08,4591,1,-999,0,2,20151028,1225,37.2832,135.0367,1010,0.0,0,19.9514,33.3923,2,-999.,9,226.35,2,2.25,2,0.14,2,0.02,2,0.04,2,-999.,9,-999.,9,-999.,9,-999.,9,-999.,9
49UF20151021,KS15-08,4591,1,36,21995,2,20151028,1258,37.2832,135.0367,1010,10.8,11,19.9778,33.3911,2,-999.,9,225.76,2,2.26,2,0.13,2,0.02,2,0.03,2,-999.,9,-999.,9,-999.,9,-999.,9,-999.,9
49UF20151021,KS15-08,4591,1,35,22087,2,20151028,1256,37.2832,135.0367,1010,25.6,25,19.9743,33.3916,2,-999.,9,225.46,2,2.28,2,0.13,2,0.02,2,0.04,2,-999.,9,-999.,9,-999.,9,-999.,9,-999.,9
49UF20151021,KS15-08,4591,1,34,22666,2,20151028,1255,37.2832,135.0367,1010,51.3,51,19.9793,33.3963,2,-999.,9,225.12,6,2.31,6,0.18,6,0.02,6,0.04,6,-999.,9,-999.,9,-999.,9,-999.,9,-999.,9
49UF20151021,KS15-08,4591,1,26,24271,2,20151028,1254,37.2832,135.0367,1010,76.7,76,17.8559,34.1797,2,-999.,9,179.64,2,9.64,2,7.14,2,0.04,2,0.47,2,-999.,9,-999.,9,-999.,9,-999.,9,-999.,9
49UF20151021,KS15-08,4591,1,27,21986,2,20151028,1254,37.2832,135.0367,1010,76.8,76,17.8927,34.1734,2,-999.,9,180.17,2,9.62,2,7.14,2,0.04,2,0.47,2,-999.,9,-999.,9,-999.,9,-999.,9,-999.,9
49UF20151021,KS15-08,4591,1,25,21984,2,20151028,1250,37.2832,135.0367,1010,100.6,100,16.4324,34.3102,2,-999.,9,173.19,2,13.28,2,9.31,2,0.03,2,0.64,2,-999.,9,-999.,9,-999.,9,-999.,9,-999.,9
49UF20151021,KS15-08,4591,1,20,21979,2,20151028,1249,37.2832,135.0367,1010,127.2,126,13.8454,34.3406,2,-999.,9,184.30,2,16.49,2,10.93,2,0.03,2,0.81,2,-999.,9,-999.,9,-999.,9,-999.,9,-999.,9
49UF20151021,KS15-08,4591,1,19,21964,2,20151028,1248,37.2832,135.0367,1010,149.6,148,11.3819,34.3160,2,-999.,9,237.76,2,8.12,2,7.28,2,0.02,2,0.53,2,-999.,9,-999.,9,-999.,9,-999.,9,-999.,9
49UF20151021,KS15-08,4591,1,18,21977,2,20151028,1246,37.2832,135.0367,1010,203.1,201,4.3558,34.0607,2,-999.,9,267.41,2,15.14,2,12.06,2,0.01,2,0.89,2,-999.,9,-999.,9,-999.,9,-999.,9,-999.,9
49UF20151021,KS15-08,4591,1,17,23679,2,20151028,1244,37.2832,135.0367,1010,250.6,249,2.2285,34.0271,2,-999.,9,261.08,2,22.82,2,16.34,2,0.00,2,1.22,2,-999.,9,-999.,9,-999.,9,-999.,9,-999.,9
49UF20151021,KS15-08,4591,1,16,21975,2,20151028,1242,37.2832,135.0367,1010,303.8,301,1.2982,34.0462,2,-999.,9,235.99,2,32.74,2,20.69,2,0.00,2,1.56,2,-999.,9,-999.,9,-999.,9,-999.,9,-999.,9
49UF20151021,KS15-08,4591,1,12,21994,2,20151028,1240,37.2832,135.0367,1010,403.7,400,0.8301,34.0640,2,-999.,9,213.57,2,42.38,2,24.04,2,0.00,2,1.83,2,-999.,9,-999.,9,-999.,9,-999.,9,-999.,9
49UF20151021,KS15-08,4591,1,11,21970,2,20151028,1231,37.2832,135.0367,1010,507.7,503,0.6805,34.0672,2,-999.,9,209.28,2,47.43,2,24.64,2,0.00,2,1.89,2,-999.,9,-999.,9,-999.,9,-999.,9,-999.,9
49UF20151021,KS15-08,4591,1,10,21969,3,20151028,1224,37.2832,135.0367,1010,606.7,601,0.5733,34.0691,2,-999.,9,205.25,2,52.61,2,24.89,2,0.00,2,1.92,2,-999.,9,-999.,9,-999.,9,-999.,9,-999.,9
49UF20151021,KS15-08,4591,1,9,21968,2,20151028,1222,37.2832,135.0367,1010,705.3,699,0.4953,34.0698,2,-999.,9,203.38,2,56.84,2,25.09,2,0.00,2,1.94,2,-999.,9,-999.,9,-999.,9,-999.,9,-999.,9
49UF20151021,KS15-08,4591,1,8,21982,2,20151028,1219,37.2832,135.0367,1010,806.3,799,0.4026,34.0699,2,-999.,9,201.09,2,62.86,2,25.29,2,0.00,2,1.96,2,-999.,9,-999.,9,-999.,9,-999.,9,-999.,9
49UF20151021,KS15-08,4591,1,7,21966,2,20151028,1216,37.2832,135.0367,1010,909.4,901,0.3359,34.0698,2,-999.,9,199.92,6,67.73,6,25.33,6,0.00,6,1.97,6,-999.,9,-999.,9,-999.,9,-999.,9,-999.,9
49UF20151021,KS15-08,4591,1,6,24474,2,20151028,1214,37.2832,135.0367,1010,989.6,980,0.2559,34.0691,2,-999.,9,198.11,2,75.22,2,25.53,2,0.00,2,1.99,2,-999.,9,-999.,9,-999.,9,-999.,9,-999.,9
49UF20151021,KS15-08,4591,1,5,24272,2,20151028,1214,37.2832,135.0367,1010,989.7,980,0.2561,34.0690,2,-999.,9,197.97,2,75.33,2,25.50,2,0.00,2,2.00,2,-999.,9,-999.,9,-999.,9,-999.,9,-999.,9
49UF20151021,KS15-08,4593,1,-999,0,2,20151028,1920,36.846,135.3468,1688,0.0,0,20.0951,33.6400,2,-999.0000,9,227.45,2,2.79,2,0.05,2,0.01,2,0.03,2,-999.,9,-999.,9,-999.,9,-999.,9,-999.,9
49UF20151021,KS15-08,4593,1,36,21995,2,20151028,1953,36.846,135.3468,1688,13.2,13,20.1124,33.6386,2,33.6386,6,226.98,2,2.79,2,0.06,2,0.01,2,0.02,2,-999.,9,-999.,9,-999.,9,-999.,9,-999.,9
49UF20151021,KS15-08,4593,1,35,22087,2,20151028,1951,36.846,135.3468,1688,27.3,27,20.1180,33.6411,2,33.6402,2,226.69,2,2.83,2,0.06,2,0.01,2,0.03,2,-999.,9,-999.,9,-999.,9,-999.,9,-999.,9
49UF20151021,KS15-08,4593,1,34,22666,2,20151028,1949,36.846,135.3468,1688,52.3,52,20.1192,33.6437,2,33.6499,2,226.32,2,2.81,2,0.08,2,0.01,2,0.03,2,-999.,9,-999.,9,-999.,9,-999.,9,-999.,9
49UF20151021,KS15-08,4593,1,27,21986,2,20151028,1948,36.846,135.3468,1688,77.7,77,16.2631,34.3226,2,34.3223,2,195.54,6,9.72,6,6.69,6,0.03,6,0.46,6,-999.,9,-999.,9,-999.,9,-999.,9,-999.,9
49UF20151021,KS15-08,4593,1,25,21984,2,20151028,1946,36.846,135.3468,1688,102.2,101,14.4519,34.3935,2,34.3929,2,208.11,2,10.28,2,6.81,2,0.02,2,0.49,2,-999.,9,-999.,9,-999.,9,-999.,9,-999.,9
49UF20151021,KS15-08,4593,1,26,24271,2,20151028,1946,36.846,135.3468,1688,104.4,104,14.3613,34.3978,2,34.3926,2,207.92,2,10.27,2,6.78,2,0.02,2,0.49,2,-999.,9,-999.,9,-999.,9,-999.,9,-999.,9
49UF20151021,KS15-08,4593,1,21,21980,2,20151028,1943,36.846,135.3468,1688,129.9,129,11.2692,34.3099,2,34.3092,2,237.16,2,8.42,2,7.09,2,0.02,2,0.52,2,-999.,9,-999.,9,-999.,9,-999.,9,-999.,9
49UF20151021,KS15-08,4593,1,20,21979,2,20151028,1941,36.846,135.3468,1688,152.7,152,7.4929,34.1594,2,34.1622,2,255.80,2,11.24,2,9.63,2,0.01,2,0.70,2,-999.,9,-999.,9,-999.,9,-999.,9,-999.,9
49UF20151021,KS15-08,4593,1,19,21964,2,20151028,1936,36.846,135.3468,1688,202.6,201,3.4699,34.0305,2,34.0359,2,269.97,2,16.96,2,13.21,2,0.01,2,0.98,2,-999.,9,-999.,9,-999.,9,-999.,9,-999.,9
49UF20151021,KS15-08,4593,1,18,21977,2,20151028,1934,36.846,135.3468,1688,251.8,250,1.7440,34.0360,2,34.0365,2,246.65,2,28.22,2,18.73,2,0.00,2,1.41,2,-999.,9,-999.,9,-999.,9,-999.,9,-999.,9
49UF20151021,KS15-08,4593,1,17,23679,2,20151028,1932,36.846,135.3468,1688,305.9,303,1.1562,34.0511,2,34.0510,2,224.67,2,36.42,2,22.08,2,0.00,2,1.68,2,-999.,9,-999.,9,-999.,9,-999.,9,-999.,9
49UF20151021,KS15-08,4593,1,16,21975,2,20151028,1930,36.846,135.3468,1688,409.6,406,0.7997,34.0642,2,34.0642,2,211.71,2,44.97,2,24.11,2,0.00,2,1.84,2,-999.,9,-999.,9,-999.,9,-999.,9,-999.,9
49UF20151021,KS15-08,4593,1,12,21994,3,20151028,1927,36.846,135.3468,1688,507.0,503,0.6347,34.0684,2,34.0685,2,206.18,2,50.52,2,24.72,2,0.00,2,1.90,2,-999.,9,-999.,9,-999.,9,-999.,9,-999.,9
49UF20151021,KS15-08,4593,1,11,21970,2,20151028,1919,36.846,135.3468,1688,608.4,603,0.5016,34.0699,2,34.0708,2,203.32,2,56.75,2,25.05,2,0.00,2,1.94,2,-999.,9,-999.,9,-999.,9,-999.,9,-999.,9
49UF20151021,KS15-08,4593,1,10,21969,3,20151028,1917,36.846,135.3468,1688,710.6,704,0.4383,34.0697,2,34.0702,2,201.84,2,61.43,2,25.13,2,0.00,2,1.95,2,-999.,9,-999.,9,-999.,9,-999.,9,-999.,9
49UF20151021,KS15-08,4593,1,9,21968,2,20151028,1913,36.846,135.3468,1688,811.7,804,0.3853,34.0702,2,34.0702,2,201.16,2,64.15,2,25.16,2,0.00,2,1.96,2,-999.,9,-999.,9,-999.,9,-999.,9,-999.,9
49UF20151021,KS15-08,4593,1,8,21982,2,20151028,1911,36.846,135.3468,1688,912.6,904,0.3378,34.0700,2,34.0696,2,200.42,2,67.67,2,25.25,2,0.01,2,1.96,2,-999.,9,-999.,9,-999.,9,-999.,9,-999.,9
49UF20151021,KS15-08,4593,1,7,21966,2,20151028,1908,36.846,135.3468,1688,1013.2,1003,0.3022,34.0695,2,34.0699,2,199.93,2,70.75,2,25.36,2,0.01,2,1.97,2,-999.,9,-999.,9,-999.,9,-999.,9,-999.,9
49UF20151021,KS15-08,4593,1,6,24474,2,20151028,1902,36.846,135.3468,1688,1217.1,1205,0.2611,34.0690,2,34.0695,2,198.80,2,75.47,2,25.35,2,0.01,2,1.99,2,-999.,9,-999.,9,-999.,9,-999.,9,-999.,9
49UF20151021,KS15-08,4593,1,5,24272,2,20151028,1857,36.846,135.3468,1688,1417.6,1402,0.2448,34.0689,2,34.0685,6,198.12,2,78.56,2,25.55,2,0.00,2,2.00,2,-999.,9,-999.,9,-999.,9,-999.,9,-999.,9
49UF20151021,KS15-08,4593,1,4,21963,2,20151028,1852,36.846,135.3468,1688,1620.7,1603,0.2328,34.0686,2,34.0689,2,195.56,6,83.81,6,25.63,6,0.01,6,2.02,6,-999.,9,-999.,9,-999.,9,-999.,9,-999.,9
49UF20151021,KS15-08,4593,1,2,21961,2,20151028,1849,36.846,135.3468,1688,1662.5,1644,0.2310,34.0685,2,34.0687,2,195.07,2,84.84,2,25.64,2,0.01,2,2.02,2,-999.,9,-999.,9,-999.,9,-999.,9,-999.,9
49UF20151021,KS15-08,4593,1,1,21960,2,20151028,1849,36.846,135.3468,1688,1663.1,1644,0.2303,34.0685,2,34.0693,2,194.96,2,85.02,2,25.70,2,0.01,2,2.02,2,-999.,9,-999.,9,-999.,9,-999.,9,-999.,9
49UF20151021,KS15-08,4595,1,-999,0,2,20151029,0130,36.4298,135.6602,642,0.0,0,20.4405,33.5127,2,-999.,9,225.14,2,2.54,2,0.13,2,0.04,2,0.04,2,-999.,9,-999.,9,-999.,9,-999.,9,-999.,9
49UF20151021,KS15-08,4595,1,30,21962,2,20151029,0212,36.4298,135.6602,642,10.7,11,20.4421,33.5129,2,-999.,9,224.86,6,2.40,6,0.08,6,0.04,6,0.03,6,-999.,9,-999.,9,-999.,9,-999.,9,-999.,9
49UF20151021,KS15-08,4595,1,28,21987,3,20151029,0210,36.4298,135.6602,642,26.1,26,20.4399,33.5244,2,-999.,9,224.42,2,2.41,2,0.10,2,0.04,2,0.02,2,-999.,9,-999.,9,-999.,9,-999.,9,-999.,9
49UF20151021,KS15-08,4595,1,29,21988,2,20151029,0210,36.4298,135.6602,642,26.2,26,20.4415,33.5216,2,-999.,9,224.19,2,2.41,2,0.10,2,0.04,2,0.02,2,-999.,9,-999.,9,-999.,9,-999.,9,-999.,9
49UF20151021,KS15-08,4595,1,21,21980,2,20151029,0205,36.4298,135.6602,642,56.2,56,20.2534,33.6294,2,-999.,9,221.92,2,2.74,2,0.38,2,0.03,2,0.05,2,-999.,9,-999.,9,-999.,9,-999.,9,-999.,9
49UF20151021,KS15-08,4595,1,20,21979,2,20151029,0204,36.4298,135.6602,642,79.7,79,17.5659,34.2169,2,-999.,9,188.63,2,8.72,2,6.07,2,0.05,2,0.41,2,-999.,9,-999.,9,-999.,9,-999.,9,-999.,9
49UF20151021,KS15-08,4595,1,19,21964,2,20151029,0203,36.4298,135.6602,642,103.4,103,15.2950,34.3766,2,-999.,9,201.61,2,9.91,2,6.61,2,0.03,2,0.47,2,-999.,9,-999.,9,-999.,9,-999.,9,-999.,9
49UF20151021,KS15-08,4595,1,18,21977,2,20151029,0201,36.4298,135.6602,642,129.1,128,12.3523,34.3372,2,-999.,9,217.10,2,10.91,2,8.02,2,0.04,2,0.57,2,-999.,9,-999.,9,-999.,9,-999.,9,-999.,9
49UF20151021,KS15-08,4595,1,17,23679,2,20151029,0200,36.4298,135.6602,642,152.5,151,7.6083,34.1667,2,-999.,9,250.26,2,12.40,2,10.03,2,0.01,2,0.73,2,-999.,9,-999.,9,-999.,9,-999.,9,-999.,9
49UF20151021,KS15-08,4595,1,16,21975,2,20151029,0158,36.4298,135.6602,642,202.7,201,4.9280,34.0678,2,-999.,9,267.18,2,13.87,2,11.38,2,0.01,2,0.84,2,-999.,9,-999.,9,-999.,9,-999.,9,-999.,9
49UF20151021,KS15-08,4595,1,9,21968,2,20151029,0157,36.4298,135.6602,642,255.3,253,2.5757,34.0347,2,-999.,9,249.58,6,24.39,6,16.89,6,0.00,6,1.27,6,-999.,9,-999.,9,-999.,9,-999.,9,-999.,9
49UF20151021,KS15-08,4595,1,7,21966,2,20151029,0154,36.4298,135.6602,642,305.6,303,2.1552,34.0370,2,-999.,9,243.95,2,27.11,2,18.04,2,0.00,2,1.37,2,-999.,9,-999.,9,-999.,9,-999.,9,-999.,9
49UF20151021,KS15-08,4595,1,8,21982,2,20151029,0155,36.4298,135.6602,642,307.6,305,2.1539,34.0370,2,-999.,9,243.34,2,27.34,2,18.09,2,0.00,2,1.37,2,-999.,9,-999.,9,-999.,9,-999.,9,-999.,9
49UF20151021,KS15-08,4595,1,6,24474,2,20151029,0152,36.4298,135.6602,642,403.1,400,1.1264,34.0505,2,-999.,9,221.10,2,41.68,2,22.12,2,0.01,2,1.71,2,-999.,9,-999.,9,-999.,9,-999.,9,-999.,9
49UF20151021,KS15-08,4595,1,5,24272,2,20151029,0146,36.4298,135.6602,642,504.1,500,0.7931,34.0611,2,-999.,9,211.09,2,48.02,2,23.75,2,0.02,2,1.84,2,-999.,9,-999.,9,-999.,9,-999.,9,-999.,9
49UF20151021,KS15-08,4595,1,4,21963,3,20151029,0139,36.4298,135.6602,642,623.4,618,0.7016,34.0639,2,-999.,9,207.88,2,52.10,2,24.19,2,0.02,2,1.89,2,-999.,9,-999.,9,-999.,9,-999.,9,-999.,9
49UF20151021,KS15-08,4596,1,-999,0,2,20151029,0420,36.152,135.8425,231,0.0,0,20.6981,33.4754,2,-999.,9,223.28,2,2.57,2,0.22,2,0.06,2,0.03,2,-999.,9,-999.,9,-999.,9,-999.,9,-999.,9
49UF20151021,KS15-08,4596,1,29,21988,2,20151029,0427,36.152,135.8425,231,12.2,12,20.6992,33.4773,2,-999.,9,222.87,2,2.51,2,0.22,2,0.07,2,0.03,2,-999.,9,-999.,9,-999.,9,-999.,9,-999.,9
49UF20151021,KS15-08,4596,1,28,21987,2,20151029,0426,36.152,135.8425,231,27.4,27,20.6999,33.4763,2,-999.,9,222.59,6,2.54,6,0.22,6,0.07,6,0.03,6,-999.,9,-999.,9,-999.,9,-999.,9,-999.,9
49UF20151021,KS15-08,4596,1,20,21979,2,20151029,0424,36.152,135.8425,231,51.6,51,20.6584,33.4744,2,-999.,9,222.62,2,2.50,2,0.21,2,0.07,2,0.03,2,-999.,9,-999.,9,-999.,9,-999.,9,-999.,9
49UF20151021,KS15-08,4596,1,21,21980,2,20151029,0424,36.152,135.8425,231,53.1,53,20.6590,33.4745,2,-999.,9,222.48,2,2.45,2,0.21,2,0.07,2,0.04,4,-999.,9,-999.,9,-999.,9,-999.,9,-999.,9
49UF20151021,KS15-08,4596,1,19,21964,2,20151029,0423,36.152,135.8425,231,77.6,77,18.8004,34.0535,2,-999.,9,183.56,2,8.86,2,5.61,2,0.15,2,0.38,2,-999.,9,-999.,9,-999.,9,-999.,9,-999.,9
49UF20151021,KS15-08,4596,1,11,21970,2,20151029,0421,36.152,135.8425,231,103.4,103,15.7713,34.3595,2,-999.,9,195.77,2,10.33,2,6.98,2,0.03,2,0.49,2,-999.,9,-999.,9,-999.,9,-999.,9,-999.,9
49UF20151021,KS15-08,4596,1,10,21969,2,20151029,0419,36.152,135.8425,231,127.5,127,14.2917,34.4368,2,-999.,9,205.92,2,9.57,2,6.65,2,0.03,2,0.48,2,-999.,9,-999.,9,-999.,9,-999.,9,-999.,9
49UF20151021,KS15-08,4596,1,6,24474,2,20151029,0418,36.152,135.8425,231,153.3,152,7.1028,34.1561,2,-999.,9,249.57,2,13.97,2,10.74,2,0.01,2,0.79,2,-999.,9,-999.,9,-999.,9,-999.,9,-999.,9
49UF20151021,KS15-08,4596,1,5,24272,2,20151029,0415,36.152,135.8425,231,217.1,215,2.0380,34.0426,2,-999.,9,231.69,2,32.78,2,18.99,2,0.02,2,1.50,2,-999.,9,-999.,9,-999.,9,-999.,9,-999.,9