BOTTLE,20171119JMAGEMD
EXPOCODE,SECT_ID,STNNBR,CASTNO,SAMPNO,BTLNBR,BTLNBR_FLAG_W,DATE,TIME,LATITUDE,LONGITUDE,DEPTH,CTDPRS,CTDDEP,CTDTMP,CTDSAL,CTDSAL_FLAG_W,SALNTY,SALNTY_FLAG_W,OXYGEN,OXYGEN_FLAG_W,SILCAT,SILCAT_FLAG_W,NO2+NO3,NO2+NO3_FLAG_W,NITRIT,NITRIT_FLAG_W,PHSPHT,PHSPHT_FLAG_W,TCARBN,TCARBN_FLAG_W,ALKALI,ALKALI_FLAG_W,PH_TOT,PH_TOT_FLAG_W,CFC-11,CFC-11_FLAG_W,CFC-12,CFC-12_FLAG_W
,,,,,,,UTC,UTC,,,METER,DBAR,METERS,ITS-90,PSS-78,,PSS-78,,UMOL/KG,,UMOL/KG,,UMOL/KG,,UMOL/KG,,UMOL/KG,,UMOL/KG,,UMOL/KG,,@25DEG-C,,PMOL/KG,,PMOL/KG,
49UF20151021,KS15-08,4582,1,-999,0,2,20151026,0355,39.5503,134.4868,2066,0.0,0,14.9972,33.7812,2,33.7660,2,260.79,2,2.94,2,0.01,2,0.00,2,0.04,2,2017.5,2,2259.8,2,7.9680,2,-999.000,9,-999.000,9
49UF20151021,KS15-08,4582,1,36,21995,2,20151026,0437,39.5503,134.4868,2066,11.1,11,14.8766,33.7777,2,33.7751,2,261.68,2,2.82,2,0.01,2,0.00,2,0.03,2,2018.8,2,2262.3,2,7.9726,2,-999.000,1,-999.000,1
49UF20151021,KS15-08,4582,1,35,22087,2,20151026,0436,39.5503,134.4868,2066,27.3,27,14.8320,33.7737,2,33.7725,2,260.41,2,2.84,2,0.01,2,0.00,2,0.03,2,2018.2,2,2262.4,2,7.9669,2,-999.000,9,-999.000,9
49UF20151021,KS15-08,4582,1,34,22666,2,20151026,0432,39.5503,134.4868,2066,49.6,49,8.2417,33.9022,2,33.8996,2,312.26,2,5.71,2,3.23,2,0.08,2,0.35,2,2076.0,2,2263.8,2,7.8475,2,-999.000,1,-999.000,1
49UF20151021,KS15-08,4582,1,30,21962,2,20151026,0430,39.5503,134.4868,2066,75.6,75,2.6427,33.9918,2,33.9905,2,298.20,2,15.01,2,12.52,2,0.03,2,0.93,2,2153.5,2,2261.5,2,7.6539,2,-999.000,9,-999.000,9
49UF20151021,KS15-08,4582,1,29,21988,2,20151026,0429,39.5503,134.4868,2066,101.3,101,1.9377,34.0064,2,34.0074,2,291.71,2,18.16,2,14.09,2,0.01,2,1.05,2,2161.4,2,2259.7,2,7.6238,2,-999.000,1,-999.000,1
49UF20151021,KS15-08,4582,1,28,21987,2,20151026,0428,39.5503,134.4868,2066,126.8,126,1.5469,34.0168,2,34.0165,6,295.87,2,19.30,2,14.63,2,0.01,2,1.09,2,2168.7,2,2260.8,2,7.6122,2,-999.000,9,-999.000,9
49UF20151021,KS15-08,4582,1,27,21986,2,20151026,0427,39.5503,134.4868,2066,151.9,151,1.3448,34.0258,2,34.0246,2,288.03,2,21.51,2,15.80,2,0.01,2,1.17,2,2177.8,2,2259.4,2,7.5910,2,-999.000,9,-999.000,9
49UF20151021,KS15-08,4582,1,26,24271,2,20151026,0425,39.5503,134.4868,2066,202.9,201,1.1023,34.0374,2,34.0384,2,275.82,2,25.04,2,17.53,2,0.00,2,1.31,2,2185.8,2,2262.0,2,7.5582,2,-999.000,1,-999.000,1
49UF20151021,KS15-08,4582,1,25,21984,2,20151026,0423,39.5503,134.4868,2066,252.7,251,0.9460,34.0446,2,34.0451,2,267.60,6,27.73,6,18.88,6,0.00,6,1.41,6,2196.1,2,2260.9,2,7.5378,2,-999.000,9,-999.000,9
49UF20151021,KS15-08,4582,1,20,21979,2,20151026,0421,39.5503,134.4868,2066,304.6,302,0.8425,34.0546,2,34.0540,2,252.52,2,31.78,2,20.57,2,0.01,2,1.55,2,2207.5,2,2263.3,2,7.4988,2,-999.000,1,-999.000,1
49UF20151021,KS15-08,4582,1,21,21980,2,20151026,0421,39.5503,134.4868,2066,305.7,303,0.8420,34.0549,2,34.0574,2,252.49,2,31.86,2,20.61,2,0.01,2,1.55,2,2206.1,2,2262.3,2,7.5016,2,-999.000,9,-999.000,9
49UF20151021,KS15-08,4582,1,19,21964,2,20151026,0418,39.5503,134.4868,2066,403.9,400,0.7359,34.0644,2,34.0639,2,228.22,2,39.15,2,23.00,2,0.01,2,1.75,2,2223.4,6,2262.6,6,7.4519,2,-999.000,1,-999.000,1
49UF20151021,KS15-08,4582,1,18,21977,2,20151026,0414,39.5503,134.4868,2066,506.2,502,0.6133,34.0698,2,34.0688,2,211.23,2,47.48,2,24.53,2,0.00,2,1.88,2,2234.2,2,2265.2,2,7.4609,3,-999.000,1,-999.000,1
49UF20151021,KS15-08,4582,1,17,23679,2,20151026,0405,39.5503,134.4868,2066,606.5,601,0.5175,34.0712,2,34.0704,2,205.23,2,53.33,2,25.01,2,0.00,2,1.93,2,2241.3,2,2270.5,2,7.4090,2,-999.000,9,-999.000,9
49UF20151021,KS15-08,4582,1,16,21975,2,20151026,0402,39.5503,134.4868,2066,708.0,701,0.4410,34.0711,2,34.1569,4,203.31,2,58.28,2,25.19,2,0.00,2,1.94,2,2243.8,2,2269.7,2,7.4133,2,-999.000,1,-999.000,1
49UF20151021,KS15-08,4582,1,12,21994,2,20151026,0359,39.5503,134.4868,2066,811.9,804,0.3860,34.0709,2,34.0703,2,201.79,2,61.75,2,25.27,2,0.00,2,1.95,2,2245.7,2,2272.8,2,7.4166,2,-999.000,9,-999.000,9
49UF20151021,KS15-08,4582,1,11,21970,2,20151026,0357,39.5503,134.4868,2066,909.9,901,0.3477,34.0705,2,34.0699,2,200.39,2,65.65,2,25.35,2,0.00,2,1.96,2,2247.8,2,2273.3,2,7.4152,2,-999.000,9,-999.000,9
49UF20151021,KS15-08,4582,1,10,21969,2,20151026,0354,39.5503,134.4868,2066,1013.0,1003,0.3232,34.0704,2,34.0700,2,199.91,2,67.76,2,25.36,2,0.00,2,1.97,2,2251.1,2,2276.3,2,7.4150,2,-999.000,1,-999.000,1
49UF20151021,KS15-08,4582,1,9,21968,2,20151026,0348,39.5503,134.4868,2066,1216.1,1203,0.2901,34.0699,2,34.0700,2,199.33,2,71.80,2,25.42,2,0.00,2,1.97,2,2250.8,2,2278.5,2,7.4179,2,-999.000,9,-999.000,9
49UF20151021,KS15-08,4582,1,8,21982,2,20151026,0343,39.5503,134.4868,2066,1416.2,1401,0.2508,34.0694,2,34.0691,2,198.76,2,76.81,2,25.47,2,0.00,2,1.99,2,2248.6,2,2282.9,2,7.4197,2,-999.000,1,-999.000,1
49UF20151021,KS15-08,4582,1,7,21966,3,20151026,0338,39.5503,134.4868,2066,1620.9,1602,0.2318,34.0691,2,34.0684,2,196.44,6,81.87,6,25.59,6,0.00,6,2.00,6,2254.5,2,2283.1,2,7.4214,2,-999.000,9,-999.000,9
49UF20151021,KS15-08,4582,1,3,24269,4,20151026,0332,39.5503,134.4868,2066,1822.6,1801,0.2332,34.0689,2,34.0701,4,200.31,4,65.50,4,25.29,4,0.00,4,1.96,4,2245.2,4,2274.3,4,7.4134,4,-999.000,1,-999.000,1
49UF20151021,KS15-08,4582,1,4,21963,2,20151026,0333,39.5503,134.4868,2066,1824.2,1802,0.2335,34.0690,2,34.0684,2,191.29,2,88.18,2,25.95,2,0.00,2,2.04,2,2260.0,2,2287.3,2,7.4103,2,-999.000,9,-999.000,9
49UF20151021,KS15-08,4582,1,2,21961,2,20151026,0328,39.5503,134.4868,2066,2034.2,2009,0.2474,34.0690,2,34.0684,2,191.25,2,88.75,2,25.95,2,0.00,2,2.04,2,2261.7,6,2288.1,6,7.4105,2,-999.000,1,-999.000,1
49UF20151021,KS15-08,4582,1,1,21960,2,20151026,0327,39.5503,134.4868,2066,2034.2,2009,0.2475,34.0690,2,34.0682,2,191.33,2,88.76,2,25.87,2,0.00,2,2.04,2,2262.8,2,2288.7,2,7.4112,6,-999.000,1,-999.000,1
49UF20151021,KS15-08,4583,1,-999,0,2,20151026,1056,39.2897,134.4658,719,0.0,0,18.2873,33.3618,2,-999.,9,238.39,2,2.83,2,0.10,2,0.02,2,0.03,2,-999.,9,-999.,9,-999.,9,-999.,9,-999.,9
49UF20151021,KS15-08,4583,1,36,21995,2,20151026,1125,39.2897,134.4658,719,10.9,11,17.8696,33.4885,2,-999.,9,240.10,2,3.10,2,0.05,2,0.01,2,0.03,2,-999.,9,-999.,9,-999.,9,-999.,9,-999.,9
49UF20151021,KS15-08,4583,1,35,22087,2,20151026,1124,39.2897,134.4658,719,26.2,26,16.9229,33.7059,2,-999.,9,243.06,2,4.28,2,1.21,2,0.10,2,0.10,2,-999.,9,-999.,9,-999.,9,-999.,9,-999.,9
49UF20151021,KS15-08,4583,1,34,22666,2,20151026,1121,39.2897,134.4658,719,49.9,50,8.3893,34.1226,2,-999.,9,258.68,2,9.52,2,8.02,2,0.03,2,0.60,2,-999.,9,-999.,9,-999.,9,-999.,9,-999.,9
49UF20151021,KS15-08,4583,1,27,21986,2,20151026,1120,39.2897,134.4658,719,75.3,75,6.4959,34.0904,2,-999.,9,259.94,2,12.70,2,10.20,2,0.01,2,0.76,2,-999.,9,-999.,9,-999.,9,-999.,9,-999.,9
49UF20151021,KS15-08,4583,1,26,24271,2,20151026,1119,39.2897,134.4658,719,100.7,100,4.5778,34.0580,2,-999.,9,268.00,2,14.63,2,11.87,2,0.01,2,0.88,2,-999.,9,-999.,9,-999.,9,-999.,9,-999.,9
49UF20151021,KS15-08,4583,1,25,21984,2,20151026,1118,39.2897,134.4658,719,126.3,125,2.3696,33.9466,2,-999.,9,298.17,2,13.12,2,11.00,2,0.01,2,0.82,2,-999.,9,-999.,9,-999.,9,-999.,9,-999.,9
49UF20151021,KS15-08,4583,1,20,21979,2,20151026,1117,39.2897,134.4658,719,151.5,150,2.1402,33.9933,2,-999.,9,276.22,2,18.15,2,14.40,2,0.01,2,1.07,2,-999.,9,-999.,9,-999.,9,-999.,9,-999.,9
49UF20151021,KS15-08,4583,1,19,21964,2,20151026,1115,39.2897,134.4658,719,204.3,203,1.4524,34.0361,2,-999.,9,250.26,6,28.01,6,19.06,6,0.00,6,1.43,6,-999.,9,-999.,9,-999.,9,-999.,9,-999.,9
49UF20151021,KS15-08,4583,1,17,23679,2,20151026,1113,39.2897,134.4658,719,253.8,252,1.0488,34.0465,2,-999.,9,242.91,2,31.36,2,20.68,2,0.00,2,1.55,2,-999.,9,-999.,9,-999.,9,-999.,9,-999.,9
49UF20151021,KS15-08,4583,1,18,21977,2,20151026,1113,39.2897,134.4658,719,254.4,252,1.0516,34.0466,2,-999.,9,244.15,2,31.27,2,20.60,2,0.00,2,1.54,2,-999.,9,-999.,9,-999.,9,-999.,9,-999.,9
49UF20151021,KS15-08,4583,1,16,21975,2,20151026,1111,39.2897,134.4658,719,303.3,301,0.9359,34.0543,2,-999.,9,245.18,2,33.22,2,20.97,2,0.00,2,1.57,2,-999.,9,-999.,9,-999.,9,-999.,9,-999.,9
49UF20151021,KS15-08,4583,1,12,21994,3,20151026,1109,39.2897,134.4658,719,404.0,401,0.7472,34.0650,2,-999.,9,222.72,2,41.02,2,23.49,2,0.00,2,1.78,2,-999.,9,-999.,9,-999.,9,-999.,9,-999.,9
49UF20151021,KS15-08,4583,1,11,21970,2,20151026,1106,39.2897,134.4658,719,505.1,501,0.6203,34.0692,2,-999.,9,209.12,2,48.68,2,24.71,2,0.00,2,1.89,2,-999.,9,-999.,9,-999.,9,-999.,9,-999.,9
49UF20151021,KS15-08,4583,1,10,21969,2,20151026,1058,39.2897,134.4658,719,605.5,600,0.5593,34.0704,2,-999.,9,206.25,6,52.16,6,25.02,6,0.00,6,1.92,6,-999.,9,-999.,9,-999.,9,-999.,9,-999.,9
49UF20151021,KS15-08,4583,1,8,21982,2,20151026,1055,39.2897,134.4658,719,696.3,690,0.4457,34.0712,2,-999.,9,201.88,2,59.37,2,25.25,2,0.00,2,1.95,2,-999.,9,-999.,9,-999.,9,-999.,9,-999.,9
49UF20151021,KS15-08,4583,1,9,21968,2,20151026,1055,39.2897,134.4658,719,696.5,690,0.4448,34.0714,2,-999.,9,201.58,2,59.22,2,25.27,2,0.00,2,1.95,2,-999.,9,-999.,9,-999.,9,-999.,9,-999.,9
49UF20151021,KS15-08,4585,1,-999,0,2,20151026,1745,38.7253,134.4255,2320,0.0,0,20.4141,33.3065,2,-999.0000,9,224.17,2,1.68,2,0.33,2,0.03,2,0.04,2,-999.,9,-999.,9,-999.,9,-999.,9,-999.,9
49UF20151021,KS15-08,4585,1,36,21995,2,20151026,1825,38.7253,134.4255,2320,11.2,11,20.4214,33.3065,2,33.3059,2,224.06,2,1.51,2,0.28,2,0.04,2,0.03,3,-999.,9,-999.,9,-999.,9,-999.,9,-999.,9
49UF20151021,KS15-08,4585,1,35,22087,2,20151026,1824,38.7253,134.4255,2320,26.3,26,20.4271,33.3057,2,33.3065,2,223.70,2,1.52,2,0.29,2,0.04,2,0.03,3,-999.,9,-999.,9,-999.,9,-999.,9,-999.,9
49UF20151021,KS15-08,4585,1,34,22666,2,20151026,1820,38.7253,134.4255,2320,52.1,52,19.8266,33.3559,2,33.4069,4,209.86,2,4.28,2,2.32,2,0.11,2,0.16,2,-999.,9,-999.,9,-999.,9,-999.,9,-999.,9
49UF20151021,KS15-08,4585,1,30,21962,2,20151026,1818,38.7253,134.4255,2320,76.8,76,13.9748,34.2373,2,34.2480,4,187.03,2,14.96,2,10.15,2,0.03,2,0.72,2,-999.,9,-999.,9,-999.,9,-999.,9,-999.,9
49UF20151021,KS15-08,4585,1,29,21988,2,20151026,1817,38.7253,134.4255,2320,102.5,102,9.6613,34.1478,2,34.1550,2,245.06,2,11.09,2,8.25,2,0.03,2,0.62,2,-999.,9,-999.,9,-999.,9,-999.,9,-999.,9
49UF20151021,KS15-08,4585,1,28,21987,2,20151026,1816,38.7253,134.4255,2320,127.2,126,6.8579,34.1120,2,34.1143,2,255.99,2,13.09,2,10.32,2,0.01,2,0.77,2,-999.,9,-999.,9,-999.,9,-999.,9,-999.,9
49UF20151021,KS15-08,4585,1,27,21986,2,20151026,1813,38.7253,134.4255,2320,152.9,152,4.1009,34.0482,2,34.0465,2,261.57,6,17.06,6,12.99,6,0.01,6,0.98,6,-999.,9,-999.,9,-999.,9,-999.,9,-999.,9
49UF20151021,KS15-08,4585,1,25,21984,2,20151026,1810,38.7253,134.4255,2320,203.9,202,2.3530,34.0304,2,34.0278,2,258.88,2,22.66,2,16.26,2,0.00,2,1.22,2,-999.,9,-999.,9,-999.,9,-999.,9,-999.,9
49UF20151021,KS15-08,4585,1,26,24271,2,20151026,1810,38.7253,134.4255,2320,204.9,203,2.3340,34.0303,2,34.0286,2,257.91,2,22.94,2,16.39,2,0.00,2,1.22,2,-999.,9,-999.,9,-999.,9,-999.,9,-999.,9
49UF20151021,KS15-08,4585,1,24,21983,2,20151026,1808,38.7253,134.4255,2320,253.6,252,1.3667,34.0394,2,34.0376,2,252.23,2,28.08,2,19.03,2,0.00,2,1.42,2,-999.,9,-999.,9,-999.,9,-999.,9,-999.,9
49UF20151021,KS15-08,4585,1,23,22095,2,20151026,1806,38.7253,134.4255,2320,305.3,303,1.0920,34.0502,2,34.0493,2,237.91,2,32.82,2,21.20,2,0.00,2,1.59,2,-999.,9,-999.,9,-999.,9,-999.,9,-999.,9
49UF20151021,KS15-08,4585,1,21,21980,2,20151026,1756,38.7253,134.4255,2320,406.5,403,0.7986,34.0633,2,34.0627,2,222.61,2,40.13,2,23.36,2,0.00,2,1.77,2,-999.,9,-999.,9,-999.,9,-999.,9,-999.,9
49UF20151021,KS15-08,4585,1,20,21979,2,20151026,1752,38.7253,134.4255,2320,508.3,504,0.6676,34.0684,2,34.0674,2,214.07,2,45.35,2,24.28,2,0.00,2,1.86,2,-999.,9,-999.,9,-999.,9,-999.,9,-999.,9
49UF20151021,KS15-08,4585,1,19,21964,2,20151026,1749,38.7253,134.4255,2320,607.9,602,0.5587,34.0707,2,34.0706,2,206.46,2,51.55,2,24.96,2,0.00,2,1.92,2,-999.,9,-999.,9,-999.,9,-999.,9,-999.,9
49UF20151021,KS15-08,4585,1,18,21977,2,20151026,1746,38.7253,134.4255,2320,710.8,704,0.4733,34.0711,2,34.0701,2,202.63,2,57.15,2,25.30,2,0.00,2,1.94,2,-999.,9,-999.,9,-999.,9,-999.,9,-999.,9
49UF20151021,KS15-08,4585,1,17,23679,2,20151026,1742,38.7253,134.4255,2320,809.4,802,0.4173,34.0708,2,34.0707,2,201.96,2,60.35,2,25.39,2,0.00,2,1.95,2,-999.,9,-999.,9,-999.,9,-999.,9,-999.,9
49UF20151021,KS15-08,4585,1,16,21975,2,20151026,1739,38.7253,134.4255,2320,910.5,902,0.3656,34.0705,2,34.0723,4,201.12,2,63.93,2,25.38,2,0.00,2,1.96,2,-999.,9,-999.,9,-999.,9,-999.,9,-999.,9
49UF20151021,KS15-08,4585,1,12,21994,4,20151026,1737,38.7253,134.4255,2320,1011.6,1002,0.3205,34.0701,2,34.0274,4,257.82,4,24.22,4,17.14,4,0.00,4,1.27,4,-999.,9,-999.,9,-999.,9,-999.,9,-999.,9
49UF20151021,KS15-08,4585,1,11,21970,2,20151026,1733,38.7253,134.4255,2320,1211.6,1199,0.2684,34.0693,2,34.0686,2,200.25,2,72.50,2,25.48,2,0.00,2,1.97,2,-999.,9,-999.,9,-999.,9,-999.,9,-999.,9
49UF20151021,KS15-08,4585,1,10,21969,2,20151026,1733,38.7253,134.4255,2320,1213.2,1201,0.2687,34.0694,2,34.0691,2,200.55,2,72.54,2,25.48,2,0.00,2,1.97,2,-999.,9,-999.,9,-999.,9,-999.,9,-999.,9
49UF20151021,KS15-08,4585,1,9,21968,2,20151026,1729,38.7253,134.4255,2320,1414.2,1399,0.2450,34.0692,2,34.0684,2,200.20,2,76.22,2,25.50,2,0.00,2,1.98,2,-999.,9,-999.,9,-999.,9,-999.,9,-999.,9
49UF20151021,KS15-08,4585,1,8,21982,2,20151026,1725,38.7253,134.4255,2320,1616.1,1598,0.2299,34.0688,2,34.0684,6,199.59,2,79.59,2,25.58,2,0.00,2,1.99,2,-999.,9,-999.,9,-999.,9,-999.,9,-999.,9
49UF20151021,KS15-08,4585,1,7,21966,3,20151026,1721,38.7253,134.4255,2320,1821.5,1800,0.2250,34.0688,2,34.0674,2,199.47,2,81.84,2,25.63,2,0.00,2,1.99,2,-999.,9,-999.,9,-999.,9,-999.,9,-999.,9
49UF20151021,KS15-08,4585,1,6,24474,2,20151026,1717,38.7253,134.4255,2320,2026.5,2002,0.2277,34.0687,2,34.0682,2,199.30,2,84.46,2,25.75,2,0.00,2,2.00,2,-999.,9,-999.,9,-999.,9,-999.,9,-999.,9
49UF20151021,KS15-08,4585,1,1,21960,2,20151026,1659,38.7253,134.4255,2320,2300.7,2271,0.2435,34.0686,2,34.0685,6,198.87,2,85.80,2,25.80,2,0.00,2,2.00,2,-999.,9,-999.,9,-999.,9,-999.,9,-999.,9
49UF20151021,KS15-08,4585,1,2,21961,2,20151026,1659,38.7253,134.4255,2320,2301.9,2272,0.2436,34.0687,2,34.0679,2,198.97,2,85.75,2,25.77,2,0.00,2,2.01,2,-999.,9,-999.,9,-999.,9,-999.,9,-999.,9
49UF20151021,KS15-08,4587,1,-999,0,2,20151027,0237,38.1723,134.4003,1197,0.0,0,20.1380,33.1739,2,-999.,9,226.02,2,1.60,2,0.01,2,0.02,2,0.02,2,-999.,9,-999.,9,-999.,9,-999.,9,-999.,9
49UF20151021,KS15-08,4587,1,36,21995,2,20151027,0256,38.1723,134.4003,1197,11.0,11,20.1430,33.1735,2,-999.,9,226.03,2,1.60,2,0.00,2,0.02,2,0.02,2,-999.,9,-999.,9,-999.,9,-999.,9,-999.,9
49UF20151021,KS15-08,4587,1,35,22087,2,20151027,0254,38.1723,134.4003,1197,28.1,28,20.1466,33.1730,2,-999.,9,226.01,2,1.65,2,0.00,2,0.02,2,0.02,2,-999.,9,-999.,9,-999.,9,-999.,9,-999.,9
49UF20151021,KS15-08,4587,1,34,22666,2,20151027,0253,38.1723,134.4003,1197,51.7,51,20.1053,33.1902,2,-999.,9,224.17,2,1.82,2,0.21,2,0.04,2,0.03,2,-999.,9,-999.,9,-999.,9,-999.,9,-999.,9
49UF20151021,KS15-08,4587,1,27,21986,2,20151027,0252,38.1723,134.4003,1197,77.3,77,15.5592,34.2022,2,-999.,9,165.70,2,16.97,2,10.92,2,0.03,2,0.77,2,-999.,9,-999.,9,-999.,9,-999.,9,-999.,9
49UF20151021,KS15-08,4587,1,26,24271,2,20151027,0248,38.1723,134.4003,1197,102.1,101,11.1854,34.1814,2,-999.,9,223.21,2,12.99,2,8.95,2,0.03,2,0.66,2,-999.,9,-999.,9,-999.,9,-999.,9,-999.,9
49UF20151021,KS15-08,4587,1,25,21984,2,20151027,0247,38.1723,134.4003,1197,130.3,129,7.7433,34.1645,2,-999.,9,253.90,6,11.17,6,9.39,6,0.01,6,0.69,6,-999.,9,-999.,9,-999.,9,-999.,9,-999.,9
49UF20151021,KS15-08,4587,1,20,21979,2,20151027,0245,38.1723,134.4003,1197,157.9,157,4.8419,34.0765,2,-999.,9,260.14,2,15.44,2,11.97,2,0.01,2,0.89,2,-999.,9,-999.,9,-999.,9,-999.,9,-999.,9
49UF20151021,KS15-08,4587,1,21,21980,2,20151027,0245,38.1723,134.4003,1197,159.4,158,4.5474,34.0677,2,-999.,9,262.46,2,15.84,2,12.26,2,0.01,2,0.92,2,-999.,9,-999.,9,-999.,9,-999.,9,-999.,9
49UF20151021,KS15-08,4587,1,19,21964,2,20151027,0243,38.1723,134.4003,1197,206.1,204,2.3063,34.0299,2,-999.,9,252.38,2,24.41,2,16.95,2,0.00,2,1.28,2,-999.,9,-999.,9,-999.,9,-999.,9,-999.,9
49UF20151021,KS15-08,4587,1,18,21977,2,20151027,0241,38.1723,134.4003,1197,256.6,255,1.3742,34.0416,2,-999.,9,239.43,2,30.97,2,20.15,2,0.01,2,1.52,2,-999.,9,-999.,9,-999.,9,-999.,9,-999.,9
49UF20151021,KS15-08,4587,1,17,23679,2,20151027,0239,38.1723,134.4003,1197,304.0,301,1.0001,34.0541,2,-999.,9,228.86,2,36.16,2,22.22,2,0.01,2,1.68,2,-999.,9,-999.,9,-999.,9,-999.,9,-999.,9
49UF20151021,KS15-08,4587,1,16,21975,2,20151027,0236,38.1723,134.4003,1197,403.7,400,0.7491,34.0654,2,-999.,9,210.50,2,46.23,2,24.28,2,0.01,2,1.87,2,-999.,9,-999.,9,-999.,9,-999.,9,-999.,9
49UF20151021,KS15-08,4587,1,11,21970,2,20151027,0229,38.1723,134.4003,1197,501.2,497,0.5774,34.0690,2,-999.,9,205.57,6,51.92,6,24.94,6,0.01,6,1.92,6,-999.,9,-999.,9,-999.,9,-999.,9,-999.,9
49UF20151021,KS15-08,4587,1,10,21969,2,20151027,0226,38.1723,134.4003,1197,603.7,598,0.5035,34.0699,2,-999.,9,204.08,2,55.20,2,25.13,2,0.00,2,1.94,2,-999.,9,-999.,9,-999.,9,-999.,9,-999.,9
49UF20151021,KS15-08,4587,1,9,21968,2,20151027,0226,38.1723,134.4003,1197,604.2,599,0.5053,34.0698,2,-999.,9,204.06,2,54.96,2,25.16,2,0.00,2,1.94,2,-999.,9,-999.,9,-999.,9,-999.,9,-999.,9
49UF20151021,KS15-08,4587,1,8,21982,2,20151027,0224,38.1723,134.4003,1197,708.4,702,0.4505,34.0700,2,-999.,9,202.26,2,58.72,2,25.22,2,0.01,2,1.95,2,-999.,9,-999.,9,-999.,9,-999.,9,-999.,9
49UF20151021,KS15-08,4587,1,7,21966,3,20151027,0220,38.1723,134.4003,1197,808.6,801,0.3413,34.0692,2,-999.,9,199.91,2,67.05,2,25.35,2,0.01,2,1.97,2,-999.,9,-999.,9,-999.,9,-999.,9,-999.,9
49UF20151021,KS15-08,4587,1,6,24474,2,20151027,0217,38.1723,134.4003,1197,910.0,901,0.2730,34.0687,2,-999.,9,198.79,2,73.09,2,25.45,2,0.01,2,1.98,2,-999.,9,-999.,9,-999.,9,-999.,9,-999.,9
49UF20151021,KS15-08,4587,1,5,24272,2,20151027,0212,38.1723,134.4003,1197,1014.4,1004,0.2542,34.0684,2,-999.,9,198.39,2,75.38,2,25.47,2,0.01,2,1.99,2,-999.,9,-999.,9,-999.,9,-999.,9,-999.,9
49UF20151021,KS15-08,4587,1,4,21963,3,20151027,0209,38.1723,134.4003,1197,1157.1,1145,0.2294,34.0682,2,-999.,9,198.15,2,78.45,2,25.52,2,0.01,2,1.99,2,-999.,9,-999.,9,-999.,9,-999.,9,-999.,9