BOTTLE,20171119JMAGEMD
EXPOCODE,SECT_ID,STNNBR,CASTNO,SAMPNO,BTLNBR,BTLNBR_FLAG_W,DATE,TIME,LATITUDE,LONGITUDE,DEPTH,CTDPRS,CTDDEP,CTDTMP,CTDSAL,CTDSAL_FLAG_W,SALNTY,SALNTY_FLAG_W,OXYGEN,OXYGEN_FLAG_W,SILCAT,SILCAT_FLAG_W,NO2+NO3,NO2+NO3_FLAG_W,NITRIT,NITRIT_FLAG_W,PHSPHT,PHSPHT_FLAG_W,TCARBN,TCARBN_FLAG_W,ALKALI,ALKALI_FLAG_W,PH_TOT,PH_TOT_FLAG_W,CFC-11,CFC-11_FLAG_W,CFC-12,CFC-12_FLAG_W
,,,,,,,UTC,UTC,,,METER,DBAR,METERS,ITS-90,PSS-78,,PSS-78,,UMOL/KG,,UMOL/KG,,UMOL/KG,,UMOL/KG,,UMOL/KG,,UMOL/KG,,UMOL/KG,,@25DEG-C,,PMOL/KG,,PMOL/KG,
49UF20151021,KS15-08,4606,1,-999,0,2,20151101,0505,39.4815,136.6837,2669,0.0,0,16.2649,33.6075,2,33.6130,2,246.93,2,3.16,2,0.00,2,0.00,2,0.04,2,2003.0,2,2259.8,2,8.0032,2,-999.,9,-999.,9
49UF20151021,KS15-08,4606,1,36,21995,2,20151101,0537,39.4815,136.6837,2669,11.5,11,16.2705,33.6083,2,33.6059,2,246.80,2,3.18,2,0.00,2,0.00,2,0.03,2,2001.2,2,2258.8,2,7.9990,2,-999.,9,-999.,9
49UF20151021,KS15-08,4606,1,35,22087,2,20151101,0536,39.4815,136.6837,2669,26.7,26,16.1222,33.6106,2,33.6108,2,245.03,6,3.17,6,0.10,2,0.02,6,0.04,6,2004.8,2,2258.4,2,7.9983,2,-999.,9,-999.,9
49UF20151021,KS15-08,4606,1,33,21992,2,20151101,0532,39.4815,136.6837,2669,50.5,50,11.0358,34.1059,2,34.1130,2,249.26,2,8.54,2,6.60,2,0.07,2,0.52,2,2084.5,2,2267.8,2,7.8419,2,-999.,9,-999.,9
49UF20151021,KS15-08,4606,1,34,22666,2,20151101,0532,39.4815,136.6837,2669,50.7,50,11.0284,34.1078,2,34.1128,2,247.49,2,8.42,2,6.48,2,0.07,2,0.50,2,2080.9,2,2269.9,2,7.8448,2,-999.,9,-999.,9
49UF20151021,KS15-08,4606,1,32,21991,2,20151101,0531,39.4815,136.6837,2669,75.9,75,5.9121,34.0815,2,34.0788,2,267.07,2,12.33,2,10.44,2,0.02,2,0.77,2,2126.1,6,2264.2,6,7.7346,2,-999.,9,-999.,9
49UF20151021,KS15-08,4606,1,31,24270,2,20151101,0530,39.4815,136.6837,2669,101.3,101,3.5846,34.0229,2,34.0219,2,274.74,2,15.60,2,12.56,2,0.01,2,0.93,2,2146.7,2,2262.3,2,7.6677,6,-999.,9,-999.,9
49UF20151021,KS15-08,4606,1,30,21962,2,20151101,0529,39.4815,136.6837,2669,126.3,125,2.6574,34.0116,2,34.0113,2,276.37,2,17.98,2,13.94,2,0.01,2,1.03,2,2161.2,2,2262.9,2,7.6327,2,-999.,9,-999.,9
49UF20151021,KS15-08,4606,1,29,21988,2,20151101,0527,39.4815,136.6837,2669,151.6,150,2.1337,34.0178,2,34.0176,2,271.83,2,20.73,2,15.48,2,0.01,2,1.15,2,2166.1,2,2262.8,2,7.6038,2,-999.,9,-999.,9
49UF20151021,KS15-08,4606,1,28,21987,2,20151101,0526,39.4815,136.6837,2669,202.9,201,1.4064,34.0369,2,34.0365,2,259.60,2,26.90,2,18.37,2,0.00,2,1.37,2,2198.4,2,2263.7,2,7.5460,2,-999.,9,-999.,9
49UF20151021,KS15-08,4606,1,24,21983,2,20151101,0524,39.4815,136.6837,2669,252.2,250,1.1425,34.0467,2,34.0462,2,245.88,2,31.10,2,20.31,2,0.00,2,1.52,2,2203.2,2,2262.6,2,7.5077,2,-999.,9,-999.,9
49UF20151021,KS15-08,4606,1,23,22095,2,20151101,0522,39.4815,136.6837,2669,305.5,303,0.9125,34.0568,2,34.0562,2,235.34,2,35.32,2,21.88,2,0.00,2,1.65,2,2218.6,2,2261.5,2,7.4763,2,-999.,9,-999.,9
49UF20151021,KS15-08,4606,1,22,22665,2,20151101,0519,39.4815,136.6837,2669,405.3,402,0.7347,34.0667,2,34.0669,2,214.10,2,44.14,2,24.21,2,0.00,2,1.85,2,2233.6,2,2263.9,2,7.4310,2,-999.,9,-999.,9
49UF20151021,KS15-08,4606,1,18,21977,2,20151101,0515,39.4815,136.6837,2669,505.3,501,0.5881,34.0703,2,34.0701,6,206.21,2,50.58,2,24.97,2,0.00,2,1.92,2,2240.5,2,2266.9,2,7.4159,2,-999.,9,-999.,9
49UF20151021,KS15-08,4606,1,17,23679,2,20151101,0508,39.4815,136.6837,2669,608.9,603,0.4758,34.0707,2,34.0736,4,202.97,2,56.69,2,25.24,2,0.00,2,1.94,2,2247.1,2,2270.0,2,7.4118,2,-999.,9,-999.,9
49UF20151021,KS15-08,4606,1,16,21975,2,20151101,0505,39.4815,136.6837,2669,708.4,702,0.3925,34.0705,2,34.0706,2,201.97,2,61.65,2,25.29,2,0.00,2,1.95,2,2244.9,2,2271.8,2,7.4139,2,-999.,9,-999.,9
49UF20151021,KS15-08,4606,1,15,21974,2,20151101,0502,39.4815,136.6837,2669,807.8,800,0.3587,34.0703,2,34.0703,2,201.34,6,64.10,6,25.35,6,0.00,6,1.96,6,2252.7,2,2273.0,2,7.4116,2,-999.,9,-999.,9
49UF20151021,KS15-08,4606,1,14,21973,2,20151101,0459,39.4815,136.6837,2669,909.0,900,0.3173,34.0698,2,34.0697,2,200.94,2,67.27,2,25.37,2,0.00,2,1.96,2,2246.4,2,2274.5,2,7.4159,2,-999.,9,-999.,9
49UF20151021,KS15-08,4606,1,13,21972,2,20151101,0459,39.4815,136.6837,2669,909.0,900,0.3183,34.0697,2,34.0698,2,200.93,2,67.21,2,25.37,2,0.00,2,1.96,2,2247.6,2,2274.9,2,7.4140,2,-999.,9,-999.,9
49UF20151021,KS15-08,4606,1,12,21994,2,20151101,0456,39.4815,136.6837,2669,1010.7,1001,0.2857,34.0693,2,34.0742,4,200.50,2,70.16,2,25.39,2,0.00,2,1.97,2,2249.5,6,2276.7,6,7.4201,2,-999.,9,-999.,9
49UF20151021,KS15-08,4606,1,11,21970,2,20151101,0450,39.4815,136.6837,2669,1214.3,1202,0.2480,34.0688,2,34.0686,2,200.52,2,74.66,2,25.41,2,0.00,2,1.97,2,2251.5,2,2279.9,2,7.4225,6,-999.,9,-999.,9
49UF20151021,KS15-08,4606,1,10,21969,3,20151101,0445,39.4815,136.6837,2669,1416.8,1401,0.2279,34.0685,2,34.0699,2,200.31,2,78.09,2,25.45,2,0.00,2,1.98,2,2248.4,2,2280.7,2,7.4263,2,-999.,9,-999.,9
49UF20151021,KS15-08,4606,1,9,21968,2,20151101,0440,39.4815,136.6837,2669,1619.4,1601,0.2210,34.0685,2,34.0682,2,199.84,2,80.79,2,25.54,2,0.00,2,2.00,2,2251.0,2,2282.3,2,7.4291,2,-999.,9,-999.,9
49UF20151021,KS15-08,4606,1,8,21982,2,20151101,0434,39.4815,136.6837,2669,1823.7,1802,0.2216,34.0684,2,34.0676,2,199.97,2,82.66,2,25.56,2,0.00,2,1.99,2,2252.8,2,2285.5,2,7.4288,2,-999.,9,-999.,9
49UF20151021,KS15-08,4606,1,6,24474,2,20151101,0430,39.4815,136.6837,2669,2025.9,2001,0.2246,34.0684,2,34.0703,4,199.56,2,85.24,2,25.68,2,0.00,2,2.00,2,2253.7,2,2285.6,2,7.4287,2,-999.,9,-999.,9
49UF20151021,KS15-08,4606,1,7,21966,2,20151101,0430,39.4815,136.6837,2669,2026.1,2001,0.2246,34.0684,2,34.0676,2,199.26,2,85.33,2,25.67,2,0.00,2,2.01,2,2253.6,2,2286.1,2,7.4273,2,-999.,9,-999.,9
49UF20151021,KS15-08,4606,1,5,24272,2,20151101,0419,39.4815,136.6837,2669,2281.4,2252,0.2407,34.0684,2,34.0729,4,199.21,2,86.03,2,25.72,2,0.00,2,2.00,2,2254.1,2,2286.5,2,7.4277,2,-999.,9,-999.,9
49UF20151021,KS15-08,4606,1,4,21963,2,20151101,0414,39.4815,136.6837,2669,2534.7,2500,0.2591,34.0682,2,34.0690,6,199.24,2,86.27,2,25.69,2,0.00,2,2.00,2,2253.6,2,2286.2,2,7.4274,2,-999.,9,-999.,9
49UF20151021,KS15-08,4606,1,1,21960,2,20151101,0411,39.4815,136.6837,2669,2638.8,2602,0.2666,34.0683,2,34.0686,2,199.00,2,86.76,2,25.73,2,0.00,2,2.00,2,2257.8,3,2285.3,2,7.4261,2,-999.,9,-999.,9
49UF20151021,KS15-08,4608,1,-999,0,2,20151101,1410,39.7535,137.2357,2616,0.0,0,14.3007,33.8210,2,-999.0000,9,257.31,2,3.16,2,0.00,2,0.00,2,0.05,2,-999.,9,-999.,9,-999.,9,-999.,9,-999.,9
49UF20151021,KS15-08,4608,1,34,22666,2,20151101,1436,39.7535,137.2357,2616,10.6,11,14.3289,33.8200,2,33.8192,2,257.40,2,3.03,2,0.00,2,0.00,2,0.05,2,-999.,9,-999.,9,-999.,9,-999.,9,-999.,9
49UF20151021,KS15-08,4608,1,33,21992,2,20151101,1435,39.7535,137.2357,2616,25.7,26,14.1454,33.8194,2,33.8311,4,258.32,6,3.41,6,0.00,6,0.01,6,0.05,6,-999.,9,-999.,9,-999.,9,-999.,9,-999.,9
49UF20151021,KS15-08,4608,1,31,24270,2,20151101,1432,39.7535,137.2357,2616,50.5,50,10.7766,34.1375,2,34.1613,4,249.31,2,8.86,2,7.65,2,0.05,2,0.57,2,-999.,9,-999.,9,-999.,9,-999.,9,-999.,9
49UF20151021,KS15-08,4608,1,32,21991,2,20151101,1432,39.7535,137.2357,2616,51.5,51,10.6311,34.1435,2,34.1408,2,248.73,2,8.37,2,6.90,2,0.07,2,0.53,2,-999.,9,-999.,9,-999.,9,-999.,9,-999.,9
49UF20151021,KS15-08,4608,1,30,21962,2,20151101,1431,39.7535,137.2357,2616,76.1,76,6.0333,34.0884,2,34.0820,2,267.24,2,12.11,2,10.50,2,0.02,2,0.78,2,-999.,9,-999.,9,-999.,9,-999.,9,-999.,9
49UF20151021,KS15-08,4608,1,29,21988,2,20151101,1429,39.7535,137.2357,2616,102.1,101,4.2055,34.0474,2,34.0405,2,275.70,2,14.95,2,12.08,2,0.01,2,0.90,2,-999.,9,-999.,9,-999.,9,-999.,9,-999.,9
49UF20151021,KS15-08,4608,1,28,21987,3,20151101,1428,39.7535,137.2357,2616,126.8,126,2.9182,34.0073,2,34.0066,2,287.48,2,15.31,2,12.50,2,0.01,2,0.93,2,-999.,9,-999.,9,-999.,9,-999.,9,-999.,9
49UF20151021,KS15-08,4608,1,27,21986,2,20151101,1427,39.7535,137.2357,2616,151.6,150,2.1384,34.0180,2,34.0187,2,283.15,2,19.58,2,14.51,2,0.01,2,1.08,2,-999.,9,-999.,9,-999.,9,-999.,9,-999.,9
49UF20151021,KS15-08,4608,1,26,24271,2,20151101,1425,39.7535,137.2357,2616,202.3,201,1.4657,34.0248,2,34.0279,2,302.96,2,18.81,2,14.08,2,0.01,2,1.05,2,-999.,9,-999.,9,-999.,9,-999.,9,-999.,9
49UF20151021,KS15-08,4608,1,25,21984,2,20151101,1423,39.7535,137.2357,2616,252.3,250,1.2595,34.0336,2,34.0358,2,295.02,2,21.33,2,15.36,2,0.01,2,1.14,2,-999.,9,-999.,9,-999.,9,-999.,9,-999.,9
49UF20151021,KS15-08,4608,1,21,21980,4,20151101,1422,39.7535,137.2357,2616,303.1,301,0.9945,34.0406,2,34.0333,4,296.32,4,21.13,4,15.25,4,0.01,4,1.14,4,-999.,9,-999.,9,-999.,9,-999.,9,-999.,9
49UF20151021,KS15-08,4608,1,20,21979,2,20151101,1419,39.7535,137.2357,2616,404.4,401,0.8121,34.0572,2,34.0588,2,250.47,2,32.75,2,20.91,2,0.00,2,1.58,2,-999.,9,-999.,9,-999.,9,-999.,9,-999.,9
49UF20151021,KS15-08,4608,1,19,21964,2,20151101,1416,39.7535,137.2357,2616,505.5,501,0.7019,34.0671,2,34.0676,2,221.41,2,41.67,2,23.60,2,0.00,2,1.82,2,-999.,9,-999.,9,-999.,9,-999.,9,-999.,9
49UF20151021,KS15-08,4608,1,17,23679,2,20151101,1409,39.7535,137.2357,2616,606.2,601,0.6087,34.0704,2,34.0708,6,210.48,2,47.92,2,24.62,2,0.00,2,1.90,2,-999.,9,-999.,9,-999.,9,-999.,9,-999.,9
49UF20151021,KS15-08,4608,1,16,21975,2,20151101,1406,39.7535,137.2357,2616,707.1,701,0.5193,34.0713,2,34.0720,2,206.04,2,52.96,2,25.00,2,0.00,2,1.93,2,-999.,9,-999.,9,-999.,9,-999.,9,-999.,9
49UF20151021,KS15-08,4608,1,15,21974,2,20151101,1404,39.7535,137.2357,2616,807.9,800,0.4524,34.0712,2,34.0698,2,203.37,2,57.10,2,25.17,2,0.00,2,1.96,2,-999.,9,-999.,9,-999.,9,-999.,9,-999.,9
49UF20151021,KS15-08,4608,1,14,21973,2,20151101,1402,39.7535,137.2357,2616,909.6,901,0.3964,34.0708,2,34.0700,2,202.36,2,60.73,2,25.23,2,0.00,2,1.95,2,-999.,9,-999.,9,-999.,9,-999.,9,-999.,9
49UF20151021,KS15-08,4608,1,13,21972,2,20151101,1359,39.7535,137.2357,2616,1011.1,1001,0.3564,34.0702,2,34.0705,2,201.20,2,64.05,2,25.29,2,0.00,2,1.96,2,-999.,9,-999.,9,-999.,9,-999.,9,-999.,9
49UF20151021,KS15-08,4608,1,12,21994,2,20151101,1353,39.7535,137.2357,2616,1213.5,1201,0.2917,34.0693,2,34.0698,2,200.75,6,70.12,6,25.32,6,0.00,6,1.98,6,-999.,9,-999.,9,-999.,9,-999.,9,-999.,9
49UF20151021,KS15-08,4608,1,11,21970,2,20151101,1349,39.7535,137.2357,2616,1414.6,1399,0.2573,34.0687,2,34.0708,4,200.26,2,74.45,2,25.39,2,0.00,2,1.98,2,-999.,9,-999.,9,-999.,9,-999.,9,-999.,9
49UF20151021,KS15-08,4608,1,10,21969,2,20151101,1349,39.7535,137.2357,2616,1414.9,1399,0.2572,34.0688,2,34.0704,4,200.53,2,74.44,2,25.36,2,0.00,2,1.98,2,-999.,9,-999.,9,-999.,9,-999.,9,-999.,9
49UF20151021,KS15-08,4608,1,9,21968,2,20151101,1344,39.7535,137.2357,2616,1619.5,1601,0.2359,34.0684,2,34.0692,2,200.63,2,77.74,2,25.38,2,0.00,2,1.98,2,-999.,9,-999.,9,-999.,9,-999.,9,-999.,9
49UF20151021,KS15-08,4608,1,8,21982,2,20151101,1338,39.7535,137.2357,2616,1822.3,1801,0.2305,34.0682,2,34.0685,6,199.94,2,80.78,2,25.41,2,0.00,2,1.99,2,-999.,9,-999.,9,-999.,9,-999.,9,-999.,9
49UF20151021,KS15-08,4608,1,7,21966,3,20151101,1333,39.7535,137.2357,2616,2025.1,2000,0.2320,34.0682,2,34.0684,2,200.17,2,82.96,2,25.48,2,0.00,2,1.99,2,-999.,9,-999.,9,-999.,9,-999.,9,-999.,9
49UF20151021,KS15-08,4608,1,6,24474,2,20151101,1323,39.7535,137.2357,2616,2279.8,2250,0.2384,34.0680,2,34.0681,2,200.47,2,85.31,2,25.53,2,0.00,2,2.00,2,-999.,9,-999.,9,-999.,9,-999.,9,-999.,9
49UF20151021,KS15-08,4608,1,5,24272,2,20151101,1318,39.7535,137.2357,2616,2534.2,2500,0.2474,34.0680,2,34.0683,2,200.92,2,87.10,2,25.57,2,0.00,2,2.00,2,-999.,9,-999.,9,-999.,9,-999.,9,-999.,9
49UF20151021,KS15-08,4608,1,4,21963,2,20151101,1316,39.7535,137.2357,2616,2589.3,2554,0.2513,34.0679,2,34.0684,2,200.92,2,87.21,2,25.57,2,0.00,2,2.00,2,-999.,9,-999.,9,-999.,9,-999.,9,-999.,9
49UF20151021,KS15-08,4609,1,-999,0,2,20151101,2125,39.505,138.3502,2268,0.0,0,18.9445,33.5958,2,-999.0000,9,229.28,2,2.77,2,0.35,2,0.09,2,0.06,2,-999.,9,-999.,9,-999.,9,-999.,9,-999.,9
49UF20151021,KS15-08,4609,1,35,22087,2,20151101,2154,39.505,138.3502,2268,11.4,11,18.9554,33.5959,2,-999.0000,9,228.89,2,2.74,2,0.32,2,0.09,2,0.05,2,-999.,9,-999.,9,-999.,9,-999.,9,-999.,9
49UF20151021,KS15-08,4609,1,36,21995,2,20151101,2155,39.505,138.3502,2268,11.6,12,18.9528,33.5961,2,-999.0000,9,228.70,2,2.74,2,0.32,2,0.09,2,0.05,2,-999.,9,-999.,9,-999.,9,-999.,9,-999.,9
49UF20151021,KS15-08,4609,1,34,22666,2,20151101,2153,39.505,138.3502,2268,27.3,27,18.9457,33.5937,2,-999.0000,9,229.09,2,2.75,2,0.29,2,0.09,2,0.05,2,-999.,9,-999.,9,-999.,9,-999.,9,-999.,9
49UF20151021,KS15-08,4609,1,33,21992,2,20151101,2149,39.505,138.3502,2268,52.0,52,18.9171,33.5885,2,-999.0000,9,227.71,2,3.02,2,0.53,2,0.09,2,0.07,2,-999.,9,-999.,9,-999.,9,-999.,9,-999.,9
49UF20151021,KS15-08,4609,1,32,21991,2,20151101,2148,39.505,138.3502,2268,77.7,77,15.7202,34.3047,2,-999.0000,9,192.44,2,10.77,2,7.45,2,0.04,2,0.53,2,-999.,9,-999.,9,-999.,9,-999.,9,-999.,9
49UF20151021,KS15-08,4609,1,31,24270,2,20151101,2147,39.505,138.3502,2268,103.2,102,13.8818,34.3894,2,-999.0000,9,210.07,2,9.98,2,7.18,2,0.02,2,0.53,2,-999.,9,-999.,9,-999.,9,-999.,9,-999.,9
49UF20151021,KS15-08,4609,1,30,21962,2,20151101,2146,39.505,138.3502,2268,128.4,127,11.0238,34.3028,2,-999.0000,9,241.13,2,8.14,2,7.41,2,0.02,2,0.54,2,-999.,9,-999.,9,-999.,9,-999.,9,-999.,9
49UF20151021,KS15-08,4609,1,29,21988,2,20151101,2144,39.505,138.3502,2268,153.5,152,8.0839,34.1766,2,-999.0000,9,256.97,2,10.36,2,9.04,2,0.01,2,0.66,2,-999.,9,-999.,9,-999.,9,-999.,9,-999.,9
49UF20151021,KS15-08,4609,1,28,21987,2,20151101,2143,39.505,138.3502,2268,204.2,203,3.9540,34.0502,2,-999.0000,9,270.59,2,16.50,2,12.83,2,0.01,2,0.95,2,-999.,9,-999.,9,-999.,9,-999.,9,-999.,9
49UF20151021,KS15-08,4609,1,24,21983,2,20151101,2141,39.505,138.3502,2268,255.5,253,1.7973,34.0301,2,-999.0000,9,274.21,2,22.88,2,16.15,2,0.00,2,1.21,2,-999.,9,-999.,9,-999.,9,-999.,9,-999.,9
49UF20151021,KS15-08,4609,1,23,22095,2,20151101,2139,39.505,138.3502,2268,304.8,302,1.3468,34.0419,2,-999.0000,9,260.25,2,28.10,2,18.54,2,0.00,2,1.39,2,-999.,9,-999.,9,-999.,9,-999.,9,-999.,9
49UF20151021,KS15-08,4609,1,22,22665,2,20151101,2136,39.505,138.3502,2268,406.1,403,0.9307,34.0612,2,-999.0000,9,218.89,2,41.26,2,23.34,2,0.00,2,1.78,2,-999.,9,-999.,9,-999.,9,-999.,9,-999.,9
49UF20151021,KS15-08,4609,1,18,21977,2,20151101,2134,39.505,138.3502,2268,507.8,503,0.7047,34.0675,2,-999.0000,9,206.24,2,49.37,2,24.77,2,0.00,2,1.91,2,-999.,9,-999.,9,-999.,9,-999.,9,-999.,9
49UF20151021,KS15-08,4609,1,17,23679,2,20151101,2130,39.505,138.3502,2268,607.2,602,0.5957,34.0700,2,-999.0000,9,204.57,6,52.14,6,25.10,6,0.00,6,1.94,6,-999.,9,-999.,9,-999.,9,-999.,9,-999.,9
49UF20151021,KS15-08,4609,1,16,21975,2,20151101,2128,39.505,138.3502,2268,706.5,700,0.5100,34.0704,2,-999.0000,9,203.14,2,56.40,2,25.23,2,0.00,2,1.95,2,-999.,9,-999.,9,-999.,9,-999.,9,-999.,9
49UF20151021,KS15-08,4609,1,15,21974,2,20151101,2128,39.505,138.3502,2268,707.3,701,0.5095,34.0703,2,-999.0000,9,202.45,2,56.48,2,25.19,2,0.00,2,1.95,2,-999.,9,-999.,9,-999.,9,-999.,9,-999.,9
49UF20151021,KS15-08,4609,1,14,21973,2,20151101,2125,39.505,138.3502,2268,809.0,801,0.4409,34.0704,2,-999.0000,9,201.92,2,60.29,2,25.24,2,0.00,2,1.96,2,-999.,9,-999.,9,-999.,9,-999.,9,-999.,9
49UF20151021,KS15-08,4609,1,13,21972,2,20151101,2122,39.505,138.3502,2268,909.2,900,0.3900,34.0701,2,-999.0000,9,200.70,2,63.83,2,25.25,2,0.00,2,1.96,2,-999.,9,-999.,9,-999.,9,-999.,9,-999.,9
49UF20151021,KS15-08,4609,1,12,21994,2,20151101,2119,39.505,138.3502,2268,1012.5,1002,0.3290,34.0696,2,-999.0000,9,199.75,2,68.26,2,25.35,2,0.00,2,1.97,2,-999.,9,-999.,9,-999.,9,-999.,9,-999.,9
49UF20151021,KS15-08,4609,1,11,21970,2,20151101,2113,39.505,138.3502,2268,1214.6,1202,0.2787,34.0691,2,-999.0000,9,199.26,2,73.22,2,25.41,2,0.00,2,1.98,2,-999.,9,-999.,9,-999.,9,-999.,9,-999.,9
49UF20151021,KS15-08,4609,1,10,21969,2,20151101,2107,39.505,138.3502,2268,1420.8,1405,0.2425,34.0687,2,-999.0000,9,199.06,2,77.82,2,25.50,2,0.00,2,1.99,2,-999.,9,-999.,9,-999.,9,-999.,9,-999.,9
49UF20151021,KS15-08,4609,1,7,21966,3,20151101,2101,39.505,138.3502,2268,1619.8,1601,0.2297,34.0684,2,-999.0000,9,198.81,2,80.86,2,25.56,2,0.00,2,2.00,2,-999.,9,-999.,9,-999.,9,-999.,9,-999.,9
49UF20151021,KS15-08,4609,1,6,24474,2,20151101,2056,39.505,138.3502,2268,1823.7,1802,0.2226,34.0679,2,-999.0000,9,198.41,2,84.30,2,25.69,2,0.00,2,2.01,2,-999.,9,-999.,9,-999.,9,-999.,9,-999.,9
49UF20151021,KS15-08,4609,1,5,24272,2,20151101,2051,39.505,138.3502,2268,2027.0,2002,0.2269,34.0680,2,34.0683,2,198.72,2,85.22,2,25.66,2,0.00,2,2.01,2,-999.,9,-999.,9,-999.,9,-999.,9,-999.,9
49UF20151021,KS15-08,4609,1,4,21963,2,20151101,2043,39.505,138.3502,2268,2310.3,2280,0.2248,34.0680,2,34.0685,2,201.90,6,86.97,6,25.68,6,0.00,6,2.00,6,-999.,9,-999.,9,-999.,9,-999.,9,-999.,9