BOTTLE,20171119JMAGEMD
EXPOCODE,SECT_ID,STNNBR,CASTNO,SAMPNO,BTLNBR,BTLNBR_FLAG_W,DATE,TIME,LATITUDE,LONGITUDE,DEPTH,CTDPRS,CTDDEP,CTDTMP,CTDSAL,CTDSAL_FLAG_W,SALNTY,SALNTY_FLAG_W,OXYGEN,OXYGEN_FLAG_W,SILCAT,SILCAT_FLAG_W,NO2+NO3,NO2+NO3_FLAG_W,NITRIT,NITRIT_FLAG_W,PHSPHT,PHSPHT_FLAG_W,TCARBN,TCARBN_FLAG_W,ALKALI,ALKALI_FLAG_W,PH_TOT,PH_TOT_FLAG_W,CFC-11,CFC-11_FLAG_W,CFC-12,CFC-12_FLAG_W
,,,,,,,UTC,UTC,,,METER,DBAR,METERS,ITS-90,PSS-78,,PSS-78,,UMOL/KG,,UMOL/KG,,UMOL/KG,,UMOL/KG,,UMOL/KG,,UMOL/KG,,UMOL/KG,,@25DEG-C,,PMOL/KG,,PMOL/KG,
49UF20151021,KS15-08,4624,1,-999,0,2,20151111,0740,42.1562,137.4387,3685,0.0,0,11.5826,33.9775,2,-999.0000,9,270.81,2,2.83,2,0.09,2,0.01,2,0.09,2,-999.,9,-999.,9,-999.,9,-999.,9,-999.,9
49UF20151021,KS15-08,4624,1,36,21995,2,20151111,0755,42.1562,137.4387,3685,10.8,11,11.5920,33.9773,2,-999.0000,9,270.52,2,2.81,2,0.06,2,0.01,2,0.08,2,-999.,9,-999.,9,-999.,9,-999.,9,-999.,9
49UF20151021,KS15-08,4624,1,35,22087,2,20151111,0754,42.1562,137.4387,3685,26.0,26,11.5955,33.9763,2,-999.0000,9,270.49,2,2.81,2,0.07,2,0.01,2,0.08,2,-999.,9,-999.,9,-999.,9,-999.,9,-999.,9
49UF20151021,KS15-08,4624,1,34,22666,2,20151111,0751,42.1562,137.4387,3685,50.7,50,10.0768,33.9914,2,-999.0000,9,273.65,2,3.61,2,2.07,2,0.14,2,0.24,2,-999.,9,-999.,9,-999.,9,-999.,9,-999.,9
49UF20151021,KS15-08,4624,1,33,21992,2,20151111,0749,42.1562,137.4387,3685,77.3,77,3.3180,34.0379,2,-999.0000,9,287.52,2,14.30,2,12.06,2,0.02,2,0.90,2,-999.,9,-999.,9,-999.,9,-999.,9,-999.,9
49UF20151021,KS15-08,4624,1,32,21991,2,20151111,0748,42.1562,137.4387,3685,100.6,100,2.3417,34.0440,2,-999.0000,9,294.65,2,16.63,2,13.05,2,0.01,2,0.98,2,-999.,9,-999.,9,-999.,9,-999.,9,-999.,9
49UF20151021,KS15-08,4624,1,31,24270,2,20151111,0746,42.1562,137.4387,3685,127.5,126,1.9688,34.0543,2,-999.0000,9,305.27,2,15.79,2,12.44,2,0.01,2,0.93,2,-999.,9,-999.,9,-999.,9,-999.,9,-999.,9
49UF20151021,KS15-08,4624,1,30,21962,2,20151111,0745,42.1562,137.4387,3685,151.6,150,1.7720,34.0546,2,-999.0000,9,306.26,2,16.48,2,12.76,2,0.01,2,0.96,2,-999.,9,-999.,9,-999.,9,-999.,9,-999.,9
49UF20151021,KS15-08,4624,1,29,21988,2,20151111,0743,42.1562,137.4387,3685,202.6,201,1.4824,34.0538,2,-999.0000,9,301.34,2,18.38,2,13.84,2,0.01,2,1.04,2,-999.,9,-999.,9,-999.,9,-999.,9,-999.,9
49UF20151021,KS15-08,4624,1,28,21987,2,20151111,0741,42.1562,137.4387,3685,251.7,250,1.2000,34.0502,2,-999.0000,9,280.59,6,23.20,6,16.80,6,0.01,6,1.25,6,-999.,9,-999.,9,-999.,9,-999.,9,-999.,9
49UF20151021,KS15-08,4624,1,26,24271,2,20151111,0739,42.1562,137.4387,3685,303.7,301,0.9935,34.0528,2,-999.0000,9,267.61,2,27.14,2,18.88,2,0.01,2,1.41,2,-999.,9,-999.,9,-999.,9,-999.,9,-999.,9
49UF20151021,KS15-08,4624,1,27,21986,2,20151111,0740,42.1562,137.4387,3685,304.1,301,0.9918,34.0531,2,-999.0000,9,267.44,2,27.12,2,18.85,2,0.01,2,1.41,2,-999.,9,-999.,9,-999.,9,-999.,9,-999.,9
49UF20151021,KS15-08,4624,1,25,21984,2,20151111,0737,42.1562,137.4387,3685,404.2,401,0.7938,34.0630,2,-999.0000,9,246.15,2,33.69,2,21.50,2,0.01,2,1.63,2,-999.,9,-999.,9,-999.,9,-999.,9,-999.,9
49UF20151021,KS15-08,4624,1,24,21983,2,20151111,0733,42.1562,137.4387,3685,505.6,501,0.6895,34.0697,2,-999.0000,9,219.55,2,42.35,2,23.93,2,0.00,2,1.85,2,-999.,9,-999.,9,-999.,9,-999.,9,-999.,9
49UF20151021,KS15-08,4624,1,23,22095,2,20151111,0730,42.1562,137.4387,3685,605.8,600,0.5986,34.0721,2,-999.0000,9,210.33,2,48.16,2,24.79,2,0.00,2,1.92,2,-999.,9,-999.,9,-999.,9,-999.,9,-999.,9
49UF20151021,KS15-08,4624,1,22,22665,2,20151111,0727,42.1562,137.4387,3685,707.5,701,0.5170,34.0727,2,-999.0000,9,206.93,2,52.49,2,25.03,2,0.00,2,1.94,2,-999.,9,-999.,9,-999.,9,-999.,9,-999.,9
49UF20151021,KS15-08,4624,1,21,21980,2,20151111,0725,42.1562,137.4387,3685,808.8,801,0.4382,34.0720,2,-999.0000,9,204.27,2,57.11,2,25.21,2,0.00,2,1.95,2,-999.,9,-999.,9,-999.,9,-999.,9,-999.,9
49UF20151021,KS15-08,4624,1,20,21979,2,20151111,0722,42.1562,137.4387,3685,910.7,902,0.3848,34.0714,2,-999.0000,9,202.85,6,60.59,6,25.34,6,0.00,6,1.96,6,-999.,9,-999.,9,-999.,9,-999.,9,-999.,9
49UF20151021,KS15-08,4624,1,18,21977,2,20151111,0719,42.1562,137.4387,3685,1011.8,1001,0.3418,34.0707,2,-999.0000,9,201.93,2,63.63,2,25.40,2,0.00,2,1.97,2,-999.,9,-999.,9,-999.,9,-999.,9,-999.,9
49UF20151021,KS15-08,4624,1,19,21964,2,20151111,0719,42.1562,137.4387,3685,1013.1,1003,0.3406,34.0707,2,-999.0000,9,202.14,2,63.43,2,25.37,2,0.00,2,1.97,2,-999.,9,-999.,9,-999.,9,-999.,9,-999.,9
49UF20151021,KS15-08,4624,1,17,23679,2,20151111,0714,42.1562,137.4387,3685,1214.8,1202,0.2811,34.0695,2,-999.0000,9,202.16,2,68.68,2,25.43,2,0.00,2,1.97,2,-999.,9,-999.,9,-999.,9,-999.,9,-999.,9
49UF20151021,KS15-08,4624,1,16,21975,2,20151111,0709,42.1562,137.4387,3685,1417.7,1402,0.2493,34.0687,2,-999.0000,9,202.34,2,72.42,2,25.40,2,0.00,2,1.98,2,-999.,9,-999.,9,-999.,9,-999.,9,-999.,9
49UF20151021,KS15-08,4624,1,15,21974,2,20151111,0700,42.1562,137.4387,3685,1620.9,1602,0.2291,34.0685,2,-999.0000,9,202.16,2,75.90,2,25.46,2,0.00,2,1.98,2,-999.,9,-999.,9,-999.,9,-999.,9,-999.,9
49UF20151021,KS15-08,4624,1,14,21973,2,20151111,0656,42.1562,137.4387,3685,1822.1,1800,0.2256,34.0683,2,-999.0000,9,201.89,2,78.12,2,25.51,2,0.00,2,1.99,2,-999.,9,-999.,9,-999.,9,-999.,9,-999.,9
49UF20151021,KS15-08,4624,1,13,21972,2,20151111,0652,42.1562,137.4387,3685,2027.1,2001,0.2243,34.0683,2,-999.0000,9,202.34,2,80.63,2,25.50,2,0.00,2,1.99,2,-999.,9,-999.,9,-999.,9,-999.,9,-999.,9
49UF20151021,KS15-08,4624,1,12,21994,2,20151111,0647,42.1562,137.4387,3685,2280.9,2251,0.2292,34.0682,2,-999.0000,9,202.89,2,83.25,2,25.55,2,0.00,2,2.00,2,-999.,9,-999.,9,-999.,9,-999.,9,-999.,9
49UF20151021,KS15-08,4624,1,11,21970,2,20151111,0641,42.1562,137.4387,3685,2535.3,2500,0.2373,34.0683,2,-999.0000,9,203.16,2,86.17,2,25.64,2,0.00,2,2.00,2,-999.,9,-999.,9,-999.,9,-999.,9,-999.,9
49UF20151021,KS15-08,4624,1,10,21969,2,20151111,0636,42.1562,137.4387,3685,2792.2,2752,0.2587,34.0682,2,-999.0000,9,203.41,6,86.21,6,25.68,6,0.00,6,2.00,6,-999.,9,-999.,9,-999.,9,-999.,9,-999.,9
49UF20151021,KS15-08,4624,1,8,21982,3,20151111,0631,42.1562,137.4387,3685,3046.1,3000,0.2807,34.0683,2,-999.0000,9,203.56,2,86.36,2,25.68,2,0.00,2,2.00,2,-999.,9,-999.,9,-999.,9,-999.,9,-999.,9
49UF20151021,KS15-08,4624,1,7,21966,2,20151111,0631,42.1562,137.4387,3685,3046.2,3001,0.2810,34.0681,2,-999.0000,9,203.71,2,86.28,2,25.67,2,0.00,2,2.00,2,-999.,9,-999.,9,-999.,9,-999.,9,-999.,9
49UF20151021,KS15-08,4624,1,6,24474,2,20151111,0625,42.1562,137.4387,3685,3302.3,3251,0.3038,34.0684,2,-999.0000,9,203.54,2,86.31,2,25.69,2,0.00,2,2.00,2,-999.,9,-999.,9,-999.,9,-999.,9,-999.,9
49UF20151021,KS15-08,4624,1,5,24272,2,20151111,0620,42.1562,137.4387,3685,3557.7,3500,0.3284,34.0681,2,34.0682,2,203.30,2,86.38,2,25.67,2,0.00,2,2.00,2,-999.,9,-999.,9,-999.,9,-999.,9,-999.,9
49UF20151021,KS15-08,4624,1,4,21963,2,20151111,0617,42.1562,137.4387,3685,3680.6,3620,0.3406,34.0682,2,34.0678,2,203.58,2,86.23,2,25.67,2,0.00,2,2.00,2,-999.,9,-999.,9,-999.,9,-999.,9,-999.,9
49UF20151021,KS15-08,4626,1,-999,0,2,20151111,1745,42.821,137.9978,3673,0.0,0,11.2580,33.9975,2,-999.0000,9,272.28,2,3.02,2,0.30,2,0.02,2,0.11,2,-999.,9,-999.,9,-999.,9,-999.,9,-999.,9
49UF20151021,KS15-08,4626,1,36,21995,2,20151111,1815,42.821,137.9978,3673,10.1,10,11.2659,33.9943,2,-999.0000,9,271.35,2,3.02,2,0.31,2,0.03,2,0.11,2,-999.,9,-999.,9,-999.,9,-999.,9,-999.,9
49UF20151021,KS15-08,4626,1,35,22087,2,20151111,1813,42.821,137.9978,3673,25.6,25,11.2666,33.9932,2,-999.0000,9,271.20,2,3.04,2,0.30,2,0.03,2,0.11,3,-999.,9,-999.,9,-999.,9,-999.,9,-999.,9
49UF20151021,KS15-08,4626,1,34,22666,2,20151111,1810,42.821,137.9978,3673,50.6,50,6.2141,34.0420,2,-999.0000,9,284.99,2,9.78,2,8.84,2,0.19,2,0.70,2,-999.,9,-999.,9,-999.,9,-999.,9,-999.,9
49UF20151021,KS15-08,4626,1,33,21992,2,20151111,1808,42.821,137.9978,3673,75.7,75,3.1407,34.0470,2,-999.0000,9,294.54,2,14.41,2,12.09,2,0.02,2,0.90,2,-999.,9,-999.,9,-999.,9,-999.,9,-999.,9
49UF20151021,KS15-08,4626,1,32,21991,2,20151111,1807,42.821,137.9978,3673,100.5,100,2.2717,34.0459,2,-999.0000,9,295.23,2,16.99,2,13.23,2,0.01,2,0.98,2,-999.,9,-999.,9,-999.,9,-999.,9,-999.,9
49UF20151021,KS15-08,4626,1,31,24270,2,20151111,1806,42.821,137.9978,3673,126.9,126,1.7574,34.0420,2,-999.0000,9,295.84,2,18.87,2,14.05,2,0.01,2,1.05,2,-999.,9,-999.,9,-999.,9,-999.,9,-999.,9
49UF20151021,KS15-08,4626,1,30,21962,2,20151111,1804,42.821,137.9978,3673,151.7,150,1.6547,34.0512,2,-999.0000,9,303.19,2,17.70,2,13.49,2,0.01,2,1.00,2,-999.,9,-999.,9,-999.,9,-999.,9,-999.,9
49UF20151021,KS15-08,4626,1,29,21988,2,20151111,1803,42.821,137.9978,3673,202.9,201,1.3535,34.0466,2,-999.0000,9,295.92,2,20.23,2,14.89,2,0.01,2,1.11,2,-999.,9,-999.,9,-999.,9,-999.,9,-999.,9
49UF20151021,KS15-08,4626,1,28,21987,2,20151111,1801,42.821,137.9978,3673,252.4,250,1.0514,34.0467,2,-999.0000,9,276.31,2,25.17,2,17.69,2,0.01,2,1.32,2,-999.,9,-999.,9,-999.,9,-999.,9,-999.,9
49UF20151021,KS15-08,4626,1,27,21986,2,20151111,1759,42.821,137.9978,3673,303.5,301,0.9112,34.0535,2,-999.0000,9,264.72,2,28.39,2,19.34,2,0.01,2,1.44,2,-999.,9,-999.,9,-999.,9,-999.,9,-999.,9
49UF20151021,KS15-08,4626,1,26,24271,2,20151111,1756,42.821,137.9978,3673,403.8,400,0.7872,34.0631,2,-999.0000,9,243.87,6,34.17,6,21.68,6,0.01,6,1.64,6,-999.,9,-999.,9,-999.,9,-999.,9,-999.,9
49UF20151021,KS15-08,4626,1,24,21983,2,20151111,1752,42.821,137.9978,3673,504.9,500,0.6924,34.0696,2,-999.0000,9,218.93,2,42.32,2,23.97,2,0.00,2,1.85,2,-999.,9,-999.,9,-999.,9,-999.,9,-999.,9
49UF20151021,KS15-08,4626,1,25,21984,2,20151111,1752,42.821,137.9978,3673,505.7,501,0.6919,34.0698,2,-999.0000,9,218.79,2,42.34,2,23.95,2,0.00,2,1.85,2,-999.,9,-999.,9,-999.,9,-999.,9,-999.,9
49UF20151021,KS15-08,4626,1,23,22095,2,20151111,1749,42.821,137.9978,3673,607.4,602,0.5894,34.0721,2,-999.0000,9,209.94,2,48.38,2,24.79,2,0.00,2,1.93,2,-999.,9,-999.,9,-999.,9,-999.,9,-999.,9
49UF20151021,KS15-08,4626,1,22,22665,2,20151111,1746,42.821,137.9978,3673,708.1,701,0.5059,34.0726,2,-999.0000,9,206.84,2,52.88,2,25.04,2,0.00,2,1.94,2,-999.,9,-999.,9,-999.,9,-999.,9,-999.,9
49UF20151021,KS15-08,4626,1,21,21980,2,20151111,1743,42.821,137.9978,3673,809.2,801,0.4412,34.0719,2,-999.0000,9,204.31,2,56.66,2,25.22,2,0.00,2,1.95,2,-999.,9,-999.,9,-999.,9,-999.,9,-999.,9
49UF20151021,KS15-08,4626,1,20,21979,2,20151111,1740,42.821,137.9978,3673,910.9,902,0.3861,34.0716,2,-999.0000,9,202.77,2,60.10,2,25.34,2,0.00,2,1.96,2,-999.,9,-999.,9,-999.,9,-999.,9,-999.,9
49UF20151021,KS15-08,4626,1,19,21964,2,20151111,1736,42.821,137.9978,3673,1012.3,1002,0.3399,34.0708,2,-999.0000,9,202.03,6,63.41,6,25.38,6,0.00,6,1.96,6,-999.,9,-999.,9,-999.,9,-999.,9,-999.,9
49UF20151021,KS15-08,4626,1,17,23679,2,20151111,1731,42.821,137.9978,3673,1215.9,1203,0.2854,34.0698,2,-999.0000,9,201.89,2,67.76,2,25.39,2,0.00,2,1.97,2,-999.,9,-999.,9,-999.,9,-999.,9,-999.,9
49UF20151021,KS15-08,4626,1,18,21977,2,20151111,1731,42.821,137.9978,3673,1216.8,1204,0.2848,34.0698,2,-999.0000,9,201.82,2,67.84,2,25.40,2,0.00,2,1.97,2,-999.,9,-999.,9,-999.,9,-999.,9,-999.,9
49UF20151021,KS15-08,4626,1,16,21975,2,20151111,1726,42.821,137.9978,3673,1415.8,1400,0.2496,34.0691,2,-999.0000,9,202.45,2,71.88,2,25.38,2,0.00,2,1.97,2,-999.,9,-999.,9,-999.,9,-999.,9,-999.,9
49UF20151021,KS15-08,4626,1,15,21974,2,20151111,1718,42.821,137.9978,3673,1619.4,1600,0.2319,34.0686,2,-999.0000,9,202.29,2,75.16,2,25.44,2,0.00,2,1.98,2,-999.,9,-999.,9,-999.,9,-999.,9,-999.,9
49UF20151021,KS15-08,4626,1,14,21973,2,20151111,1713,42.821,137.9978,3673,1822.3,1800,0.2219,34.0684,2,-999.0000,9,201.86,2,78.64,2,25.47,2,0.00,2,1.99,2,-999.,9,-999.,9,-999.,9,-999.,9,-999.,9
49UF20151021,KS15-08,4626,1,13,21972,2,20151111,1708,42.821,137.9978,3673,2025.2,1999,0.2239,34.0685,2,-999.0000,9,202.10,2,80.58,2,25.48,2,0.00,2,1.99,2,-999.,9,-999.,9,-999.,9,-999.,9,-999.,9
49UF20151021,KS15-08,4626,1,12,21994,3,20151111,1703,42.821,137.9978,3673,2279.6,2249,0.2274,34.0683,2,-999.0000,9,202.62,2,83.24,2,25.60,2,0.00,2,2.00,2,-999.,9,-999.,9,-999.,9,-999.,9,-999.,9
49UF20151021,KS15-08,4626,1,11,21970,2,20151111,1657,42.821,137.9978,3673,2535.7,2501,0.2379,34.0683,2,-999.0000,9,203.13,2,86.32,2,25.66,2,0.00,2,2.01,2,-999.,9,-999.,9,-999.,9,-999.,9,-999.,9
49UF20151021,KS15-08,4626,1,9,21968,2,20151111,1652,42.821,137.9978,3673,2790.8,2750,0.2583,34.0685,2,-999.0000,9,203.04,6,86.12,6,25.67,6,0.00,6,2.00,6,-999.,9,-999.,9,-999.,9,-999.,9,-999.,9
49UF20151021,KS15-08,4626,1,8,21982,2,20151111,1646,42.821,137.9978,3673,3045.4,3000,0.2804,34.0685,2,-999.0000,9,203.22,2,85.99,2,25.70,2,0.00,2,2.00,2,-999.,9,-999.,9,-999.,9,-999.,9,-999.,9
49UF20151021,KS15-08,4626,1,7,21966,2,20151111,1646,42.821,137.9978,3673,3045.7,3000,0.2804,34.0685,2,-999.0000,9,203.14,2,86.39,2,25.68,2,0.00,2,2.00,2,-999.,9,-999.,9,-999.,9,-999.,9,-999.,9
49UF20151021,KS15-08,4626,1,6,24474,2,20151111,1641,42.821,137.9978,3673,3301.2,3250,0.3035,34.0686,2,-999.0000,9,203.31,2,86.21,2,25.67,2,0.00,2,2.00,2,-999.,9,-999.,9,-999.,9,-999.,9,-999.,9
49UF20151021,KS15-08,4626,1,5,24272,3,20151111,1636,42.821,137.9978,3673,3557.2,3500,0.3284,34.0684,2,34.0685,2,203.19,2,86.18,2,25.66,2,0.00,2,2.00,2,-999.,9,-999.,9,-999.,9,-999.,9,-999.,9
49UF20151021,KS15-08,4626,1,4,21963,2,20151111,1633,42.821,137.9978,3673,3665.3,3605,0.3394,34.0683,2,34.0681,2,203.19,2,86.28,2,25.68,2,0.00,2,2.00,2,-999.,9,-999.,9,-999.,9,-999.,9,-999.,9
49UF20151021,KS15-08,4627,1,-999,0,2,20151112,0232,42.4958,137.9982,3692,0.0,0,12.2528,33.9815,2,33.9841,2,267.66,2,3.99,2,0.70,2,0.06,2,0.12,2,2036.2,2,2268.4,2,7.9511,2,-999.,9,-999.,9
49UF20151021,KS15-08,4627,1,36,21995,2,20151112,0253,42.4958,137.9982,3692,10.6,11,12.1967,33.9789,2,33.9758,2,266.71,2,3.99,2,0.69,2,0.07,2,0.12,2,2034.5,2,2268.5,2,7.9458,2,-999.,9,-999.,9
49UF20151021,KS15-08,4627,1,35,22087,2,20151112,0252,42.4958,137.9982,3692,25.5,25,12.1754,33.9792,2,33.9767,2,266.20,2,4.00,2,0.71,2,0.07,2,0.12,2,2036.1,2,2269.1,2,7.9436,2,-999.,9,-999.,9
49UF20151021,KS15-08,4627,1,34,22666,2,20151112,0249,42.4958,137.9982,3692,50.0,50,11.8970,33.9797,2,33.9989,4,265.76,2,5.32,2,2.70,2,0.11,2,0.26,2,2051.0,2,2267.5,2,7.9038,2,-999.,9,-999.,9
49UF20151021,KS15-08,4627,1,33,21992,2,20151112,0247,42.4958,137.9982,3692,74.9,74,4.0115,34.0440,2,34.0470,2,280.68,2,15.01,2,11.95,2,0.02,2,0.90,2,2145.3,2,2263.5,2,7.6920,2,-999.,9,-999.,9
49UF20151021,KS15-08,4627,1,32,21991,2,20151112,0246,42.4958,137.9982,3692,101.1,100,2.8246,34.0267,2,34.0344,2,284.23,2,17.29,2,13.41,2,0.02,2,1.00,2,2155.4,2,2259.0,2,7.6484,2,-999.,9,-999.,9
49UF20151021,KS15-08,4627,1,31,24270,2,20151112,0245,42.4958,137.9982,3692,126.1,125,2.2801,34.0432,2,34.0445,2,298.18,2,15.98,2,12.74,2,0.01,2,0.95,2,2148.7,2,2259.1,2,7.6559,2,-999.,9,-999.,9
49UF20151021,KS15-08,4627,1,30,21962,2,20151112,0243,42.4958,137.9982,3692,150.5,149,1.8792,34.0496,2,34.0497,2,299.79,2,17.66,2,13.45,2,0.01,2,1.00,2,2155.4,2,2262.0,2,7.6425,2,-999.,9,-999.,9
49UF20151021,KS15-08,4627,1,29,21988,2,20151112,0242,42.4958,137.9982,3692,203.1,201,1.3922,34.0436,2,34.0432,6,299.04,2,19.84,2,14.56,2,0.01,2,1.09,2,2165.0,2,2260.5,2,7.6201,2,-999.,9,-999.,9
49UF20151021,KS15-08,4627,1,28,21987,2,20151112,0240,42.4958,137.9982,3692,254.4,252,1.1717,34.0449,2,34.0485,2,283.39,2,23.64,2,16.73,2,0.01,2,1.25,2,2177.7,2,2259.6,2,7.5771,6,-999.,9,-999.,9
49UF20151021,KS15-08,4627,1,27,21986,2,20151112,0238,42.4958,137.9982,3692,304.2,302,0.9650,34.0512,2,34.0518,2,265.83,2,27.73,2,19.09,2,0.01,2,1.42,2,2194.2,6,2258.5,6,7.5369,2,-999.,9,-999.,9
49UF20151021,KS15-08,4627,1,26,24271,2,20151112,0235,42.4958,137.9982,3692,405.3,402,0.8131,34.0609,2,34.0604,2,246.32,2,33.58,2,21.34,2,0.01,2,1.62,2,2216.3,2,2260.9,2,7.4869,2,-999.,9,-999.,9
49UF20151021,KS15-08,4627,1,25,21984,2,20151112,0232,42.4958,137.9982,3692,507.4,503,0.7109,34.0686,2,34.0689,2,220.51,6,41.80,6,23.73,6,0.00,6,1.83,6,2225.1,2,2263.7,2,7.4407,2,-999.,9,-999.,9
49UF20151021,KS15-08,4627,1,23,22095,2,20151112,0228,42.4958,137.9982,3692,607.8,602,0.6025,34.0719,2,34.0706,2,209.50,2,48.15,2,24.74,2,0.00,2,1.92,2,2234.1,2,2263.0,2,7.4205,2,-999.,9,-999.,9
49UF20151021,KS15-08,4627,1,24,21983,2,20151112,0229,42.4958,137.9982,3692,607.9,602,0.6027,34.0721,2,34.0709,2,209.59,2,48.09,2,24.76,2,0.00,2,1.92,2,2234.4,2,2263.9,2,7.4215,2,-999.,9,-999.,9
49UF20151021,KS15-08,4627,1,22,22665,2,20151112,0226,42.4958,137.9982,3692,709.6,703,0.5050,34.0724,2,34.0866,4,205.66,2,53.48,2,25.10,2,0.00,2,1.94,2,2237.9,2,2266.5,2,7.4178,2,-999.,9,-999.,9
49UF20151021,KS15-08,4627,1,20,21979,2,20151112,0223,42.4958,137.9982,3692,810.1,802,0.4506,34.0722,2,34.0715,2,204.44,2,56.70,2,25.21,2,0.00,2,1.95,2,2239.3,2,2265.4,2,7.4128,2,-999.,9,-999.,9
49UF20151021,KS15-08,4627,1,19,21964,2,20151112,0220,42.4958,137.9982,3692,911.7,903,0.3865,34.0715,2,34.0720,2,202.14,2,60.84,2,25.35,2,0.00,2,1.96,2,2242.5,2,2268.5,2,7.4172,2,-999.,9,-999.,9
49UF20151021,KS15-08,4627,1,18,21977,2,20151112,0217,42.4958,137.9982,3692,1014.0,1004,0.3451,34.0709,2,34.0707,2,201.25,2,63.76,2,25.42,2,0.00,2,1.97,2,2245.2,2,2271.2,2,7.4145,2,-999.,9,-999.,9
49UF20151021,KS15-08,4627,1,17,23679,2,20151112,0211,42.4958,137.9982,3692,1215.8,1203,0.2812,34.0698,2,34.0716,4,201.46,2,68.57,2,25.43,2,0.00,2,1.97,2,2242.5,2,2274.7,2,7.4237,2,-999.,9,-999.,9
49UF20151021,KS15-08,4627,1,16,21975,2,20151112,0206,42.4958,137.9982,3692,1421.9,1406,0.2458,34.0691,2,34.0691,2,202.32,2,72.74,2,25.44,2,0.00,2,1.98,2,2244.1,2,2275.4,2,7.4264,6,-999.,9,-999.,9
49UF20151021,KS15-08,4627,1,15,21974,2,20151112,0157,42.4958,137.9982,3692,1618.7,1600,0.2286,34.0687,2,34.0686,2,202.13,2,75.96,2,25.45,2,0.00,2,1.98,2,2247.0,6,2278.1,6,7.4297,2,-999.,9,-999.,9
49UF20151021,KS15-08,4627,1,14,21973,2,20151112,0152,42.4958,137.9982,3692,1824.8,1803,0.2266,34.0685,2,34.0693,2,201.89,6,77.92,6,25.47,6,0.00,6,1.99,6,2246.4,2,2279.3,2,7.4275,2,-999.,9,-999.,9
49UF20151021,KS15-08,4627,1,12,21994,2,20151112,0147,42.4958,137.9982,3692,2029.7,2004,0.2236,34.0684,2,34.0682,2,201.99,2,80.46,2,25.53,2,0.00,2,2.00,2,2255.9,3,2280.7,2,7.4316,2,-999.,9,-999.,9
49UF20151021,KS15-08,4627,1,13,21972,2,20151112,0147,42.4958,137.9982,3692,2030.5,2005,0.2236,34.0684,2,34.0683,2,202.27,2,80.42,2,25.54,2,0.00,2,1.99,2,2247.6,2,2281.2,2,7.4290,2,-999.,9,-999.,9
49UF20151021,KS15-08,4627,1,11,21970,2,20151112,0141,42.4958,137.9982,3692,2282.6,2252,0.2293,34.0685,2,34.0683,6,202.50,2,83.04,2,25.56,2,0.00,2,2.00,2,2249.3,2,2283.3,2,7.4360,2,-999.,9,-999.,9
49UF20151021,KS15-08,4627,1,10,21969,2,20151112,0136,42.4958,137.9982,3692,2538.3,2503,0.2379,34.0684,2,34.0683,2,203.04,2,86.19,2,25.62,2,0.00,2,2.00,2,2254.8,3,2285.2,2,7.4431,2,-999.,9,-999.,9
49UF20151021,KS15-08,4627,1,9,21968,2,20151112,0130,42.4958,137.9982,3692,2793.0,2753,0.2586,34.0685,2,34.0682,2,203.09,2,86.22,2,25.56,2,0.00,2,2.00,2,2252.5,2,2286.2,2,7.4414,2,-999.,9,-999.,9
49UF20151021,KS15-08,4627,1,8,21982,2,20151112,0125,42.4958,137.9982,3692,3048.1,3002,0.2806,34.0685,2,34.0676,6,203.22,6,86.36,6,25.67,6,0.00,6,2.00,6,2247.6,2,2286.4,2,7.4440,2,-999.,9,-999.,9
49UF20151021,KS15-08,4627,1,7,21966,2,20151112,0119,42.4958,137.9982,3692,3302.3,3251,0.3039,34.0684,2,34.0678,2,203.32,2,86.45,2,25.71,2,0.00,2,2.00,2,2245.9,2,2286.4,2,7.4431,2,-999.,9,-999.,9
49UF20151021,KS15-08,4627,1,6,24474,2,20151112,0119,42.4958,137.9982,3692,3302.7,3251,0.3040,34.0683,2,34.0684,2,203.36,2,86.47,2,25.69,2,0.00,2,2.00,2,2248.9,2,2287.1,2,7.4434,2,-999.,9,-999.,9
49UF20151021,KS15-08,4627,1,5,24272,2,20151112,0114,42.4958,137.9982,3692,3559.8,3502,0.3286,34.0683,2,34.0684,2,203.05,2,86.48,2,25.69,2,0.00,2,2.00,2,2249.5,2,2286.9,2,7.4422,6,-999.,9,-999.,9
49UF20151021,KS15-08,4627,1,4,21963,2,20151112,0111,42.4958,137.9982,3692,3681.1,3621,0.3407,34.0682,2,34.0684,2,202.96,2,86.21,2,25.72,2,0.00,2,2.00,2,2249.2,6,2285.9,6,7.4392,2,-999.,9,-999.,9