BOTTLE,20171119JMAGEMD
EXPOCODE,SECT_ID,STNNBR,CASTNO,SAMPNO,BTLNBR,BTLNBR_FLAG_W,DATE,TIME,LATITUDE,LONGITUDE,DEPTH,CTDPRS,CTDDEP,CTDTMP,CTDSAL,CTDSAL_FLAG_W,SALNTY,SALNTY_FLAG_W,OXYGEN,OXYGEN_FLAG_W,SILCAT,SILCAT_FLAG_W,NO2+NO3,NO2+NO3_FLAG_W,NITRIT,NITRIT_FLAG_W,PHSPHT,PHSPHT_FLAG_W,TCARBN,TCARBN_FLAG_W,ALKALI,ALKALI_FLAG_W,PH_TOT,PH_TOT_FLAG_W,CFC-11,CFC-11_FLAG_W,CFC-12,CFC-12_FLAG_W
,,,,,,,UTC,UTC,,,METER,DBAR,METERS,ITS-90,PSS-78,,PSS-78,,UMOL/KG,,UMOL/KG,,UMOL/KG,,UMOL/KG,,UMOL/KG,,UMOL/KG,,UMOL/KG,,@25DEG-C,,PMOL/KG,,PMOL/KG,
49UF20151021,KS15-08,4597,1,-999,0,2,20151029,1450,37.3333,134.349,2594,0.0,0,20.3355,33.4739,2,-999.0000,9,223.03,2,2.23,2,0.39,2,0.05,2,0.05,2,-999.,9,-999.,9,-999.,9,-999.,9,-999.,9
49UF20151021,KS15-08,4597,1,36,21995,2,20151029,1520,37.3333,134.349,2594,11.2,11,20.3485,33.4735,2,-999.0000,9,222.35,2,2.21,2,0.36,2,0.05,2,0.05,2,-999.,9,-999.,9,-999.,9,-999.,9,-999.,9
49UF20151021,KS15-08,4597,1,35,22087,2,20151029,1519,37.3333,134.349,2594,26.6,26,20.3484,33.4736,2,-999.0000,9,221.93,2,2.24,2,0.34,2,0.05,2,0.06,2,-999.,9,-999.,9,-999.,9,-999.,9,-999.,9
49UF20151021,KS15-08,4597,1,34,22666,2,20151029,1518,37.3333,134.349,2594,51.9,52,20.3490,33.4784,2,-999.0000,9,221.99,6,2.27,6,0.41,6,0.05,6,0.05,6,-999.,9,-999.,9,-999.,9,-999.,9,-999.,9
49UF20151021,KS15-08,4597,1,29,21988,2,20151029,1516,37.3333,134.349,2594,77.4,77,18.0083,34.1849,2,-999.0000,9,182.68,2,9.33,2,6.73,2,0.05,2,0.45,2,-999.,9,-999.,9,-999.,9,-999.,9,-999.,9
49UF20151021,KS15-08,4597,1,30,21962,2,20151029,1516,37.3333,134.349,2594,77.8,77,18.0540,34.1828,2,-999.0000,9,182.97,2,9.38,2,6.73,2,0.05,2,0.45,2,-999.,9,-999.,9,-999.,9,-999.,9,-999.,9
49UF20151021,KS15-08,4597,1,28,21987,2,20151029,1513,37.3333,134.349,2594,102.8,102,16.5367,34.3145,2,-999.0000,9,178.00,2,12.53,2,8.73,2,0.04,2,0.59,2,-999.,9,-999.,9,-999.,9,-999.,9,-999.,9
49UF20151021,KS15-08,4597,1,27,21986,2,20151029,1511,37.3333,134.349,2594,127.1,126,15.2075,34.3916,2,-999.0000,9,194.99,2,11.19,2,7.44,2,0.04,2,0.53,2,-999.,9,-999.,9,-999.,9,-999.,9,-999.,9
49UF20151021,KS15-08,4597,1,26,24271,2,20151029,1510,37.3333,134.349,2594,151.8,151,11.6194,34.3134,2,-999.0000,9,226.62,2,10.81,2,8.13,2,0.02,2,0.59,2,-999.,9,-999.,9,-999.,9,-999.,9,-999.,9
49UF20151021,KS15-08,4597,1,25,21984,2,20151029,1508,37.3333,134.349,2594,202.1,201,4.2551,34.0406,2,-999.0000,9,267.39,2,16.25,2,12.29,2,0.01,2,0.93,2,-999.,9,-999.,9,-999.,9,-999.,9,-999.,9
49UF20151021,KS15-08,4597,1,24,21983,2,20151029,1506,37.3333,134.349,2594,252.1,250,1.8526,34.0303,2,-999.0000,9,245.21,2,27.00,2,18.52,2,0.00,2,1.39,2,-999.,9,-999.,9,-999.,9,-999.,9,-999.,9
49UF20151021,KS15-08,4597,1,23,22095,2,20151029,1504,37.3333,134.349,2594,302.4,300,1.3070,34.0460,2,-999.0000,9,232.75,2,33.09,2,21.08,2,0.00,2,1.59,2,-999.,9,-999.,9,-999.,9,-999.,9,-999.,9
49UF20151021,KS15-08,4597,1,22,22665,2,20151029,1501,37.3333,134.349,2594,405.2,402,0.7900,34.0647,2,-999.0000,9,215.49,2,42.44,2,24.03,2,0.00,2,1.82,2,-999.,9,-999.,9,-999.,9,-999.,9,-999.,9
49UF20151021,KS15-08,4597,1,21,21980,2,20151029,1458,37.3333,134.349,2594,505.0,501,0.6315,34.0697,2,-999.0000,9,206.60,2,48.25,2,24.91,2,0.00,2,1.91,2,-999.,9,-999.,9,-999.,9,-999.,9,-999.,9
49UF20151021,KS15-08,4597,1,20,21979,2,20151029,1451,37.3333,134.349,2594,605.2,600,0.5405,34.0707,2,-999.0000,9,204.34,2,53.24,2,25.12,2,0.00,2,1.93,2,-999.,9,-999.,9,-999.,9,-999.,9,-999.,9
49UF20151021,KS15-08,4597,1,19,21964,2,20151029,1448,37.3333,134.349,2594,710.8,704,0.4466,34.0707,2,-999.0000,9,202.44,2,58.32,2,25.27,2,0.00,2,1.94,2,-999.,9,-999.,9,-999.,9,-999.,9,-999.,9
49UF20151021,KS15-08,4597,1,15,21974,2,20151029,1445,37.3333,134.349,2594,811.1,804,0.3930,34.0704,2,-999.0000,9,201.75,2,61.76,2,25.34,2,0.00,2,1.95,2,-999.,9,-999.,9,-999.,9,-999.,9,-999.,9
49UF20151021,KS15-08,4597,1,14,21973,2,20151029,1442,37.3333,134.349,2594,910.6,902,0.3447,34.0699,2,-999.0000,9,201.60,2,64.93,2,25.35,2,0.00,2,1.95,2,-999.,9,-999.,9,-999.,9,-999.,9,-999.,9
49UF20151021,KS15-08,4597,1,13,21972,2,20151029,1440,37.3333,134.349,2594,1011.5,1002,0.3054,34.0697,2,-999.0000,9,201.02,2,68.29,2,25.37,2,0.00,2,1.96,2,-999.,9,-999.,9,-999.,9,-999.,9,-999.,9
49UF20151021,KS15-08,4597,1,12,21994,3,20151029,1433,37.3333,134.349,2594,1216.9,1204,0.2603,34.0689,2,-999.0000,9,200.67,6,73.32,6,25.42,6,0.00,6,1.97,6,-999.,9,-999.,9,-999.,9,-999.,9,-999.,9
49UF20151021,KS15-08,4597,1,10,21969,2,20151029,1428,37.3333,134.349,2594,1416.5,1401,0.2378,34.0685,2,-999.0000,9,200.33,2,76.88,2,25.44,2,0.00,2,1.98,2,-999.,9,-999.,9,-999.,9,-999.,9,-999.,9
49UF20151021,KS15-08,4597,1,11,21970,2,20151029,1429,37.3333,134.349,2594,1417.8,1403,0.2375,34.0685,2,-999.0000,9,200.50,2,76.98,2,25.51,2,0.00,2,1.97,2,-999.,9,-999.,9,-999.,9,-999.,9,-999.,9
49UF20151021,KS15-08,4597,1,9,21968,2,20151029,1423,37.3333,134.349,2594,1619.7,1601,0.2232,34.0684,2,-999.0000,9,200.02,2,79.29,2,25.56,2,0.00,2,1.98,2,-999.,9,-999.,9,-999.,9,-999.,9,-999.,9
49UF20151021,KS15-08,4597,1,8,21982,2,20151029,1418,37.3333,134.349,2594,1822.3,1801,0.2206,34.0682,2,-999.0000,9,200.01,2,82.30,2,25.58,2,0.00,2,1.98,2,-999.,9,-999.,9,-999.,9,-999.,9,-999.,9
49UF20151021,KS15-08,4597,1,7,21966,2,20151029,1414,37.3333,134.349,2594,2024.5,2000,0.2264,34.0682,2,-999.0000,9,199.61,2,84.34,2,25.70,2,0.00,2,1.99,2,-999.,9,-999.,9,-999.,9,-999.,9,-999.,9
49UF20151021,KS15-08,4597,1,6,24474,2,20151029,1404,37.3333,134.349,2594,2279.1,2250,0.2409,34.0679,2,34.0684,2,198.65,2,86.53,2,25.75,2,0.00,2,2.00,2,-999.,9,-999.,9,-999.,9,-999.,9,-999.,9
49UF20151021,KS15-08,4597,1,5,24272,2,20151029,1358,37.3333,134.349,2594,2562.1,2528,0.2630,34.0680,2,34.0687,2,198.55,2,86.87,2,25.76,2,0.00,2,2.00,2,-999.,9,-999.,9,-999.,9,-999.,9,-999.,9
49UF20151021,KS15-08,4599,1,-999,0,2,20151030,0700,38.4922,135.1902,3009,0.0,0,19.2783,33.5834,2,-999.0000,9,227.83,2,3.27,2,0.57,2,0.08,2,0.07,2,-999.,9,-999.,9,-999.,9,-999.,9,-999.,9
49UF20151021,KS15-08,4599,1,36,21995,2,20151030,0746,38.4922,135.1902,3009,12.2,12,19.2913,33.5835,2,33.5829,2,227.67,2,3.30,2,0.58,2,0.08,2,0.06,2,-999.,9,-999.,9,-999.,9,-999.,9,-999.,9
49UF20151021,KS15-08,4599,1,35,22087,2,20151030,0745,38.4922,135.1902,3009,27.0,27,19.2957,33.5839,2,33.5840,2,227.29,2,3.34,2,0.57,2,0.08,2,0.07,2,-999.,9,-999.,9,-999.,9,-999.,9,-999.,9
49UF20151021,KS15-08,4599,1,34,22666,2,20151030,0743,38.4922,135.1902,3009,52.2,52,19.2997,33.5838,2,33.5841,2,227.00,2,3.32,2,0.61,2,0.08,2,0.07,2,-999.,9,-999.,9,-999.,9,-999.,9,-999.,9
49UF20151021,KS15-08,4599,1,33,21992,2,20151030,0741,38.4922,135.1902,3009,76.1,76,16.5983,34.2843,2,34.2837,2,176.15,2,12.15,2,8.68,2,0.05,2,0.59,2,-999.,9,-999.,9,-999.,9,-999.,9,-999.,9
49UF20151021,KS15-08,4599,1,32,21991,2,20151030,0739,38.4922,135.1902,3009,104.7,104,15.5404,34.4075,2,34.3953,4,194.03,2,10.64,2,7.19,2,0.03,2,0.51,2,-999.,9,-999.,9,-999.,9,-999.,9,-999.,9
49UF20151021,KS15-08,4599,1,31,24270,2,20151030,0737,38.4922,135.1902,3009,128.2,127,14.2750,34.4745,2,34.4716,2,207.80,2,8.76,2,6.21,2,0.03,2,0.45,2,-999.,9,-999.,9,-999.,9,-999.,9,-999.,9
49UF20151021,KS15-08,4599,1,30,21962,2,20151030,0735,38.4922,135.1902,3009,155.2,154,12.2632,34.3845,2,34.3805,2,233.96,2,6.39,2,6.05,2,0.02,2,0.44,2,-999.,9,-999.,9,-999.,9,-999.,9,-999.,9
49UF20151021,KS15-08,4599,1,29,21988,2,20151030,0730,38.4922,135.1902,3009,203.8,202,10.1835,34.2738,2,34.2765,2,248.04,2,7.48,2,7.38,2,0.02,2,0.53,2,-999.,9,-999.,9,-999.,9,-999.,9,-999.,9
49UF20151021,KS15-08,4599,1,28,21987,2,20151030,0728,38.4922,135.1902,3009,253.5,251,6.4428,34.1200,2,34.1227,2,260.96,2,11.87,2,10.10,2,0.01,2,0.75,2,-999.,9,-999.,9,-999.,9,-999.,9,-999.,9
49UF20151021,KS15-08,4599,1,27,21986,2,20151030,0726,38.4922,135.1902,3009,303.4,301,2.7271,34.0224,2,34.0208,2,270.29,2,19.04,2,14.43,2,0.00,2,1.09,2,-999.,9,-999.,9,-999.,9,-999.,9,-999.,9
49UF20151021,KS15-08,4599,1,26,24271,2,20151030,0723,38.4922,135.1902,3009,407.3,404,1.1666,34.0485,2,34.0477,6,244.65,6,31.72,6,20.43,6,0.01,6,1.54,6,-999.,9,-999.,9,-999.,9,-999.,9,-999.,9
49UF20151021,KS15-08,4599,1,24,21983,4,20151030,0715,38.4922,135.1902,3009,504.9,500,0.8577,34.0620,2,-999.0000,9,-999.00,9,-999.00,9,-999.00,9,-999.00,9,-999.000,9,-999.,9,-999.,9,-999.,9,-999.,9,-999.,9
49UF20151021,KS15-08,4599,1,25,21984,2,20151030,0715,38.4922,135.1902,3009,507.3,503,0.8565,34.0621,2,34.0617,2,223.06,2,39.51,2,23.26,2,0.00,2,1.76,2,-999.,9,-999.,9,-999.,9,-999.,9,-999.,9
49UF20151021,KS15-08,4599,1,23,22095,2,20151030,0712,38.4922,135.1902,3009,608.5,603,0.6770,34.0685,2,34.0686,2,211.19,2,46.45,2,24.55,2,0.00,2,1.88,2,-999.,9,-999.,9,-999.,9,-999.,9,-999.,9
49UF20151021,KS15-08,4599,1,21,21980,2,20151030,0707,38.4922,135.1902,3009,713.3,707,0.5495,34.0707,2,34.0706,2,204.60,2,53.01,2,25.16,2,0.00,2,1.93,2,-999.,9,-999.,9,-999.,9,-999.,9,-999.,9
49UF20151021,KS15-08,4599,1,20,21979,2,20151030,0704,38.4922,135.1902,3009,811.6,804,0.4543,34.0707,2,34.0709,2,201.88,2,58.40,2,25.20,2,0.00,2,1.95,2,-999.,9,-999.,9,-999.,9,-999.,9,-999.,9
49UF20151021,KS15-08,4599,1,19,21964,2,20151030,0659,38.4922,135.1902,3009,913.5,905,0.3929,34.0705,2,34.0708,2,202.14,2,61.98,2,25.37,2,0.00,2,1.96,2,-999.,9,-999.,9,-999.,9,-999.,9,-999.,9
49UF20151021,KS15-08,4599,1,15,21974,2,20151030,0656,38.4922,135.1902,3009,1013.1,1003,0.3461,34.0701,2,34.0704,6,201.41,2,65.60,2,25.38,2,0.00,2,1.97,2,-999.,9,-999.,9,-999.,9,-999.,9,-999.,9
49UF20151021,KS15-08,4599,1,14,21973,2,20151030,0651,38.4922,135.1902,3009,1215.2,1203,0.2853,34.0693,2,34.0694,2,200.66,2,71.15,2,25.43,2,0.00,2,1.97,2,-999.,9,-999.,9,-999.,9,-999.,9,-999.,9
49UF20151021,KS15-08,4599,1,13,21972,2,20151030,0644,38.4922,135.1902,3009,1414.7,1399,0.2555,34.0687,2,34.0695,2,200.20,2,74.81,2,25.48,2,0.00,2,1.98,2,-999.,9,-999.,9,-999.,9,-999.,9,-999.,9
49UF20151021,KS15-08,4599,1,12,21994,2,20151030,0639,38.4922,135.1902,3009,1620.0,1602,0.2349,34.0685,2,34.0678,2,199.91,2,78.76,2,25.52,2,0.00,2,1.99,2,-999.,9,-999.,9,-999.,9,-999.,9,-999.,9
49UF20151021,KS15-08,4599,1,11,21970,2,20151030,0635,38.4922,135.1902,3009,1821.1,1800,0.2309,34.0684,2,34.0680,2,199.77,2,81.23,2,25.64,2,0.00,2,1.99,2,-999.,9,-999.,9,-999.,9,-999.,9,-999.,9
49UF20151021,KS15-08,4599,1,10,21969,2,20151030,0625,38.4922,135.1902,3009,2024.0,1999,0.2340,34.0684,2,34.0681,2,199.47,6,82.88,6,25.61,6,0.00,6,1.99,6,-999.,9,-999.,9,-999.,9,-999.,9,-999.,9
49UF20151021,KS15-08,4599,1,9,21968,2,20151030,0620,38.4922,135.1902,3009,2280.4,2251,0.2434,34.0684,2,34.0681,2,198.97,2,85.04,2,25.70,2,0.00,2,2.00,2,-999.,9,-999.,9,-999.,9,-999.,9,-999.,9
49UF20151021,KS15-08,4599,1,8,21982,2,20151030,0620,38.4922,135.1902,3009,2281.5,2252,0.2436,34.0684,2,34.0678,2,199.36,2,85.12,2,25.72,2,0.00,2,2.00,2,-999.,9,-999.,9,-999.,9,-999.,9,-999.,9
49UF20151021,KS15-08,4599,1,7,21966,2,20151030,0614,38.4922,135.1902,3009,2533.2,2499,0.2603,34.0681,2,34.0680,6,198.64,2,86.16,2,25.76,2,0.00,2,2.01,2,-999.,9,-999.,9,-999.,9,-999.,9,-999.,9
49UF20151021,KS15-08,4599,1,2,21961,2,20151030,0609,38.4922,135.1902,3009,2785.6,2746,0.2803,34.0682,2,34.0682,2,199.04,2,86.20,2,25.71,2,0.00,2,2.00,2,-999.,9,-999.,9,-999.,9,-999.,9,-999.,9
49UF20151021,KS15-08,4599,1,1,21960,2,20151030,0604,38.4922,135.1902,3009,2995.3,2952,0.2982,34.0683,2,34.0683,2,199.45,2,86.28,2,25.71,2,0.00,2,2.00,2,-999.,9,-999.,9,-999.,9,-999.,9,-999.,9
49UF20151021,KS15-08,4602,1,-999,0,2,20151030,2255,38.287,135.862,2813,0.0,0,19.6021,33.4994,2,-999.0000,9,225.47,2,2.34,2,0.41,2,0.06,2,0.06,2,-999.,9,-999.,9,-999.,9,-999.,9,-999.,9
49UF20151021,KS15-08,4602,1,36,21995,2,20151030,2340,38.287,135.862,2813,10.6,11,19.6107,33.5026,2,-999.0000,9,224.40,2,2.44,2,0.50,2,0.06,2,0.06,2,-999.,9,-999.,9,-999.,9,-999.,9,-999.,9
49UF20151021,KS15-08,4602,1,35,22087,2,20151030,2339,38.287,135.862,2813,25.3,25,19.6086,33.5016,2,-999.0000,9,224.41,2,2.45,2,0.48,3,0.06,2,0.06,2,-999.,9,-999.,9,-999.,9,-999.,9,-999.,9
49UF20151021,KS15-08,4602,1,34,22666,2,20151030,2335,38.287,135.862,2813,50.8,50,19.6216,33.4973,2,-999.0000,9,221.46,2,2.87,2,0.93,2,0.06,2,0.08,2,-999.,9,-999.,9,-999.,9,-999.,9,-999.,9
49UF20151021,KS15-08,4602,1,30,21962,2,20151030,2334,38.287,135.862,2813,76.1,76,16.8541,34.2733,2,-999.0000,9,188.28,2,10.18,2,7.11,2,0.04,2,0.50,2,-999.,9,-999.,9,-999.,9,-999.,9,-999.,9
49UF20151021,KS15-08,4602,1,29,21988,2,20151030,2333,38.287,135.862,2813,98.9,98,15.5284,34.3714,2,-999.0000,9,168.32,2,16.37,2,10.81,2,0.02,2,0.76,2,-999.,9,-999.,9,-999.,9,-999.,9,-999.,9
49UF20151021,KS15-08,4602,1,28,21987,2,20151030,2332,38.287,135.862,2813,126.7,126,11.6370,34.2468,2,-999.0000,9,212.05,2,13.29,2,9.69,2,0.02,2,0.72,2,-999.,9,-999.,9,-999.,9,-999.,9,-999.,9
49UF20151021,KS15-08,4602,1,27,21986,2,20151030,2330,38.287,135.862,2813,154.7,153,8.8208,34.2107,2,-999.0000,9,250.47,2,9.63,2,8.54,2,0.01,2,0.62,2,-999.,9,-999.,9,-999.,9,-999.,9,-999.,9
49UF20151021,KS15-08,4602,1,26,24271,2,20151030,2328,38.287,135.862,2813,206.7,205,3.8904,34.0518,2,-999.0000,9,264.35,2,16.87,2,13.06,2,0.01,2,0.97,2,-999.,9,-999.,9,-999.,9,-999.,9,-999.,9
49UF20151021,KS15-08,4602,1,25,21984,2,20151030,2326,38.287,135.862,2813,255.2,253,2.0622,34.0219,2,-999.0000,9,270.20,2,21.33,2,15.66,2,0.00,2,1.16,2,-999.,9,-999.,9,-999.,9,-999.,9,-999.,9
49UF20151021,KS15-08,4602,1,24,21983,2,20151030,2324,38.287,135.862,2813,303.0,301,1.3533,34.0417,2,-999.0000,9,250.93,2,28.73,2,19.23,2,0.00,2,1.44,2,-999.,9,-999.,9,-999.,9,-999.,9,-999.,9
49UF20151021,KS15-08,4602,1,23,22095,2,20151030,2313,38.287,135.862,2813,407.5,404,0.9103,34.0594,2,-999.0000,9,227.99,2,37.80,2,22.58,2,0.00,2,1.71,2,-999.,9,-999.,9,-999.,9,-999.,9,-999.,9
49UF20151021,KS15-08,4602,1,22,22665,2,20151030,2309,38.287,135.862,2813,508.9,504,0.7365,34.0669,2,-999.0000,9,214.38,6,43.94,6,24.20,6,0.00,6,1.85,6,-999.,9,-999.,9,-999.,9,-999.,9,-999.,9
49UF20151021,KS15-08,4602,1,20,21979,2,20151030,2304,38.287,135.862,2813,609.7,604,0.5948,34.0703,2,-999.0000,9,205.76,2,50.47,2,25.02,2,0.00,2,1.93,2,-999.,9,-999.,9,-999.,9,-999.,9,-999.,9
49UF20151021,KS15-08,4602,1,21,21980,2,20151030,2305,38.287,135.862,2813,610.0,605,0.5941,34.0702,2,-999.0000,9,205.99,2,50.62,2,24.97,2,0.00,2,1.92,2,-999.,9,-999.,9,-999.,9,-999.,9,-999.,9
49UF20151021,KS15-08,4602,1,19,21964,2,20151030,2301,38.287,135.862,2813,707.4,701,0.4829,34.0709,2,-999.0000,9,203.30,2,56.27,2,25.25,2,0.00,2,1.94,2,-999.,9,-999.,9,-999.,9,-999.,9,-999.,9
49UF20151021,KS15-08,4602,1,15,21974,2,20151030,2255,38.287,135.862,2813,809.6,802,0.4025,34.0705,2,-999.0000,9,201.91,2,61.17,2,25.30,2,0.00,2,1.95,2,-999.,9,-999.,9,-999.,9,-999.,9,-999.,9
49UF20151021,KS15-08,4602,1,14,21973,2,20151030,2252,38.287,135.862,2813,908.7,900,0.3488,34.0702,2,-999.0000,9,201.09,2,64.94,2,25.39,2,0.00,2,1.96,2,-999.,9,-999.,9,-999.,9,-999.,9,-999.,9
49UF20151021,KS15-08,4602,1,13,21972,2,20151030,2249,38.287,135.862,2813,1011.8,1002,0.3057,34.0696,2,-999.0000,9,200.57,2,68.53,2,25.43,2,0.00,2,1.97,2,-999.,9,-999.,9,-999.,9,-999.,9,-999.,9
49UF20151021,KS15-08,4602,1,12,21994,2,20151030,2245,38.287,135.862,2813,1213.5,1201,0.2600,34.0690,2,-999.0000,9,200.49,2,73.39,2,25.47,2,0.00,2,1.97,2,-999.,9,-999.,9,-999.,9,-999.,9,-999.,9
49UF20151021,KS15-08,4602,1,11,21970,2,20151030,2239,38.287,135.862,2813,1416.7,1401,0.2360,34.0687,2,-999.0000,9,200.10,2,77.07,2,25.48,2,0.00,2,1.98,2,-999.,9,-999.,9,-999.,9,-999.,9,-999.,9
49UF20151021,KS15-08,4602,1,10,21969,2,20151030,2235,38.287,135.862,2813,1618.8,1600,0.2260,34.0684,2,-999.0000,9,200.54,2,79.87,2,25.56,2,0.00,2,1.99,2,-999.,9,-999.,9,-999.,9,-999.,9,-999.,9
49UF20151021,KS15-08,4602,1,9,21968,2,20151030,2231,38.287,135.862,2813,1823.0,1801,0.2231,34.0683,2,-999.0000,9,199.48,2,82.28,2,25.61,2,0.00,2,1.99,2,-999.,9,-999.,9,-999.,9,-999.,9,-999.,9
49UF20151021,KS15-08,4602,1,8,21982,2,20151030,2223,38.287,135.862,2813,2027.4,2002,0.2277,34.0683,2,-999.0000,9,199.48,2,84.40,2,25.69,2,0.00,2,2.00,2,-999.,9,-999.,9,-999.,9,-999.,9,-999.,9
49UF20151021,KS15-08,4602,1,7,21966,2,20151030,2217,38.287,135.862,2813,2281.4,2252,0.2405,34.0682,2,34.0683,2,198.89,2,86.19,6,25.77,6,0.00,6,2.00,6,-999.,9,-999.,9,-999.,9,-999.,9,-999.,9
49UF20151021,KS15-08,4602,1,6,24474,2,20151030,2213,38.287,135.862,2813,2531.3,2497,0.2599,34.0683,2,-999.0000,9,198.81,2,86.47,2,25.78,2,0.00,2,2.00,2,-999.,9,-999.,9,-999.,9,-999.,9,-999.,9
49UF20151021,KS15-08,4602,1,5,24272,2,20151030,2212,38.287,135.862,2813,2533.6,2499,0.2599,34.0683,2,-999.0000,9,198.77,2,86.40,2,25.78,2,0.00,2,2.01,2,-999.,9,-999.,9,-999.,9,-999.,9,-999.,9
49UF20151021,KS15-08,4602,1,4,21963,2,20151030,2207,38.287,135.862,2813,2782.6,2744,0.2809,34.0683,2,34.0684,2,198.74,2,86.52,2,25.80,2,0.00,2,2.00,2,-999.,9,-999.,9,-999.,9,-999.,9,-999.,9