BOTTLE,20171119JMAGEMD
EXPOCODE,SECT_ID,STNNBR,CASTNO,SAMPNO,BTLNBR,BTLNBR_FLAG_W,DATE,TIME,LATITUDE,LONGITUDE,DEPTH,CTDPRS,CTDDEP,CTDTMP,CTDSAL,CTDSAL_FLAG_W,SALNTY,SALNTY_FLAG_W,OXYGEN,OXYGEN_FLAG_W,SILCAT,SILCAT_FLAG_W,NO2+NO3,NO2+NO3_FLAG_W,NITRIT,NITRIT_FLAG_W,PHSPHT,PHSPHT_FLAG_W,TCARBN,TCARBN_FLAG_W,ALKALI,ALKALI_FLAG_W,PH_TOT,PH_TOT_FLAG_W,CFC-11,CFC-11_FLAG_W,CFC-12,CFC-12_FLAG_W
,,,,,,,UTC,UTC,,,METER,DBAR,METERS,ITS-90,PSS-78,,PSS-78,,UMOL/KG,,UMOL/KG,,UMOL/KG,,UMOL/KG,,UMOL/KG,,UMOL/KG,,UMOL/KG,,@25DEG-C,,PMOL/KG,,PMOL/KG,
49UF20151021,KS15-08,4603,1,-999,0,2,20151031,0703,38.6487,136.3463,2717,0.0,0,16.2526,33.6041,2,-999.0000,9,248.58,2,2.30,2,0.02,2,0.00,2,0.02,2,-999.,9,-999.,9,-999.,9,-999.,9,-999.,9
49UF20151021,KS15-08,4603,1,36,21995,2,20151031,0717,38.6487,136.3463,2717,12.9,13,16.2645,33.6036,2,-999.0000,9,248.59,2,2.30,2,0.02,2,0.01,2,0.02,2,-999.,9,-999.,9,-999.,9,-999.,9,-999.,9
49UF20151021,KS15-08,4603,1,35,22087,2,20151031,0716,38.6487,136.3463,2717,28.1,28,16.2641,33.6044,2,-999.0000,9,248.03,2,2.36,2,0.04,2,0.01,2,0.02,2,-999.,9,-999.,9,-999.,9,-999.,9,-999.,9
49UF20151021,KS15-08,4603,1,34,22666,2,20151031,0712,38.6487,136.3463,2717,53.0,53,16.1253,33.6376,2,-999.0000,9,245.18,2,2.81,2,0.25,2,0.04,2,0.05,4,-999.,9,-999.,9,-999.,9,-999.,9,-999.,9
49UF20151021,KS15-08,4603,1,33,21992,2,20151031,0711,38.6487,136.3463,2717,78.3,78,8.8473,34.1647,2,-999.0000,9,253.94,2,9.29,2,8.11,2,0.04,2,0.60,2,-999.,9,-999.,9,-999.,9,-999.,9,-999.,9
49UF20151021,KS15-08,4603,1,32,21991,2,20151031,0710,38.6487,136.3463,2717,104.1,103,6.2325,34.0980,2,-999.0000,9,265.91,2,11.48,2,9.83,2,0.02,2,0.73,2,-999.,9,-999.,9,-999.,9,-999.,9,-999.,9
49UF20151021,KS15-08,4603,1,31,24270,2,20151031,0708,38.6487,136.3463,2717,128.5,127,3.8752,34.0254,2,-999.0000,9,281.56,2,14.20,2,11.61,2,0.01,2,0.87,2,-999.,9,-999.,9,-999.,9,-999.,9,-999.,9
49UF20151021,KS15-08,4603,1,27,21986,2,20151031,0707,38.6487,136.3463,2717,155.4,154,2.6844,34.0290,2,-999.0000,9,270.54,2,19.72,2,14.60,2,0.01,2,1.09,2,-999.,9,-999.,9,-999.,9,-999.,9,-999.,9
49UF20151021,KS15-08,4603,1,26,24271,2,20151031,0705,38.6487,136.3463,2717,206.8,205,1.7005,34.0316,2,-999.0000,9,268.73,6,23.63,6,16.67,6,0.00,6,1.24,6,-999.,9,-999.,9,-999.,9,-999.,9,-999.,9
49UF20151021,KS15-08,4603,1,25,21984,2,20151031,0703,38.6487,136.3463,2717,256.1,254,1.1956,34.0492,2,-999.0000,9,239.91,2,32.72,2,20.78,2,0.00,2,1.56,2,-999.,9,-999.,9,-999.,9,-999.,9,-999.,9
49UF20151021,KS15-08,4603,1,24,21983,2,20151031,0702,38.6487,136.3463,2717,305.3,303,0.9718,34.0575,2,-999.0000,9,231.21,2,36.83,2,22.20,2,0.00,2,1.67,2,-999.,9,-999.,9,-999.,9,-999.,9,-999.,9
49UF20151021,KS15-08,4603,1,23,22095,2,20151031,0659,38.6487,136.3463,2717,407.5,404,0.7273,34.0675,2,-999.0000,9,213.22,2,44.64,2,24.32,2,0.00,2,1.86,2,-999.,9,-999.,9,-999.,9,-999.,9,-999.,9
49UF20151021,KS15-08,4603,1,21,21980,2,20151031,0651,38.6487,136.3463,2717,507.6,503,0.5928,34.0703,2,-999.0000,9,206.87,2,50.66,2,24.93,2,0.00,2,1.92,2,-999.,9,-999.,9,-999.,9,-999.,9,-999.,9
49UF20151021,KS15-08,4603,1,22,22665,2,20151031,0651,38.6487,136.3463,2717,508.7,504,0.5925,34.0703,2,-999.0000,9,206.46,2,50.70,2,24.96,2,0.00,2,1.91,2,-999.,9,-999.,9,-999.,9,-999.,9,-999.,9
49UF20151021,KS15-08,4603,1,20,21979,2,20151031,0648,38.6487,136.3463,2717,608.3,603,0.5207,34.0710,2,-999.0000,9,203.96,2,54.64,2,25.21,2,0.00,2,1.94,2,-999.,9,-999.,9,-999.,9,-999.,9,-999.,9
49UF20151021,KS15-08,4603,1,19,21964,2,20151031,0644,38.6487,136.3463,2717,708.3,702,0.4470,34.0711,2,-999.0000,9,202.91,2,58.61,2,25.30,2,0.00,2,1.98,4,-999.,9,-999.,9,-999.,9,-999.,9,-999.,9
49UF20151021,KS15-08,4603,1,15,21974,2,20151031,0641,38.6487,136.3463,2717,809.4,802,0.3848,34.0709,2,-999.0000,9,201.73,2,62.21,2,25.36,2,0.00,2,1.96,2,-999.,9,-999.,9,-999.,9,-999.,9,-999.,9
49UF20151021,KS15-08,4603,1,14,21973,2,20151031,0638,38.6487,136.3463,2717,911.2,902,0.3345,34.0700,2,-999.0000,9,201.00,2,66.18,2,25.35,2,0.00,2,1.96,2,-999.,9,-999.,9,-999.,9,-999.,9,-999.,9
49UF20151021,KS15-08,4603,1,13,21972,2,20151031,0634,38.6487,136.3463,2717,1011.5,1001,0.3050,34.0699,2,-999.0000,9,201.07,2,68.29,2,25.36,2,0.00,2,1.96,2,-999.,9,-999.,9,-999.,9,-999.,9,-999.,9
49UF20151021,KS15-08,4603,1,12,21994,2,20151031,0629,38.6487,136.3463,2717,1215.4,1203,0.2554,34.0693,2,-999.0000,9,200.52,2,73.67,2,25.41,2,0.00,2,1.98,2,-999.,9,-999.,9,-999.,9,-999.,9,-999.,9
49UF20151021,KS15-08,4603,1,11,21970,2,20151031,0623,38.6487,136.3463,2717,1416.5,1401,0.2365,34.0689,2,-999.0000,9,199.97,2,77.19,2,25.47,2,0.00,2,1.98,2,-999.,9,-999.,9,-999.,9,-999.,9,-999.,9
49UF20151021,KS15-08,4603,1,10,21969,2,20151031,0618,38.6487,136.3463,2717,1620.1,1602,0.2219,34.0687,2,-999.0000,9,199.82,6,80.71,2,25.53,6,0.00,6,1.99,6,-999.,9,-999.,9,-999.,9,-999.,9,-999.,9
49UF20151021,KS15-08,4603,1,9,21968,2,20151031,0613,38.6487,136.3463,2717,1822.3,1801,0.2202,34.0686,2,-999.0000,9,199.78,2,83.12,2,25.61,2,0.00,2,1.99,2,-999.,9,-999.,9,-999.,9,-999.,9,-999.,9
49UF20151021,KS15-08,4603,1,8,21982,2,20151031,0603,38.6487,136.3463,2717,2026.9,2002,0.2269,34.0686,2,-999.0000,9,199.57,2,84.60,2,25.67,2,0.00,2,1.99,2,-999.,9,-999.,9,-999.,9,-999.,9,-999.,9
49UF20151021,KS15-08,4603,1,7,21966,2,20151031,0557,38.6487,136.3463,2717,2281.0,2252,0.2410,34.0684,2,-999.0000,9,199.25,2,86.07,2,25.70,2,0.00,2,2.00,2,-999.,9,-999.,9,-999.,9,-999.,9,-999.,9
49UF20151021,KS15-08,4603,1,6,24474,2,20151031,0552,38.6487,136.3463,2717,2535.7,2501,0.2581,34.0684,2,34.0680,2,199.61,2,86.33,2,25.68,2,0.00,2,2.00,2,-999.,9,-999.,9,-999.,9,-999.,9,-999.,9
49UF20151021,KS15-08,4603,1,5,24272,2,20151031,0549,38.6487,136.3463,2717,2680.0,2643,0.2655,34.0683,2,34.0681,2,199.68,2,86.70,2,25.71,2,0.00,2,2.00,2,-999.,9,-999.,9,-999.,9,-999.,9,-999.,9
49UF20151021,KS15-08,4603,1,4,21963,3,20151031,0548,38.6487,136.3463,2717,2680.0,2643,0.2656,34.0684,2,34.0683,2,199.69,2,86.83,2,25.68,2,0.00,2,2.00,2,-999.,9,-999.,9,-999.,9,-999.,9,-999.,9
49UF20151021,KS15-08,4604,1,-999,0,2,20151031,1405,39.0747,136.0135,2588,0.0,0,15.6242,33.6727,2,-999.0000,9,249.07,2,3.22,2,0.01,2,0.00,2,0.04,2,-999.,9,-999.,9,-999.,9,-999.,9,-999.,9
49UF20151021,KS15-08,4604,1,36,21995,2,20151031,1445,39.0747,136.0135,2588,10.6,11,15.6253,33.6726,2,33.6700,2,249.19,2,3.22,2,0.00,2,0.00,2,0.04,2,-999.,9,-999.,9,-999.,9,-999.,9,-999.,9
49UF20151021,KS15-08,4604,1,35,22087,2,20151031,1445,39.0747,136.0135,2588,10.7,11,15.6306,33.6722,2,33.6702,2,248.82,2,3.17,2,0.00,2,0.00,2,0.04,2,-999.,9,-999.,9,-999.,9,-999.,9,-999.,9
49UF20151021,KS15-08,4604,1,34,22666,2,20151031,1443,39.0747,136.0135,2588,26.4,26,15.6200,33.6722,2,33.6740,2,249.25,2,3.17,2,0.00,2,0.00,2,0.04,2,-999.,9,-999.,9,-999.,9,-999.,9,-999.,9
49UF20151021,KS15-08,4604,1,33,21992,2,20151031,1442,39.0747,136.0135,2588,51.7,51,9.6586,34.1467,2,34.1474,2,254.24,2,8.25,2,6.99,2,0.11,2,0.54,2,-999.,9,-999.,9,-999.,9,-999.,9,-999.,9
49UF20151021,KS15-08,4604,1,32,21991,2,20151031,1441,39.0747,136.0135,2588,77.0,76,5.3817,34.0701,2,34.0693,2,269.41,2,12.39,2,10.61,2,0.02,2,0.78,2,-999.,9,-999.,9,-999.,9,-999.,9,-999.,9
49UF20151021,KS15-08,4604,1,31,24270,2,20151031,1437,39.0747,136.0135,2588,100.3,100,3.6436,34.0380,2,34.0355,2,269.79,2,16.77,2,13.05,2,0.01,2,0.97,2,-999.,9,-999.,9,-999.,9,-999.,9,-999.,9
49UF20151021,KS15-08,4604,1,27,21986,2,20151031,1435,39.0747,136.0135,2588,127.5,126,2.9863,34.0310,2,34.0304,2,270.78,2,18.60,2,13.98,2,0.01,2,1.04,2,-999.,9,-999.,9,-999.,9,-999.,9,-999.,9
49UF20151021,KS15-08,4604,1,26,24271,2,20151031,1434,39.0747,136.0135,2588,152.2,151,2.1289,34.0288,2,34.0276,2,266.78,2,22.59,2,16.03,2,0.01,2,1.20,2,-999.,9,-999.,9,-999.,9,-999.,9,-999.,9
49UF20151021,KS15-08,4604,1,25,21984,2,20151031,1432,39.0747,136.0135,2588,202.9,201,1.2818,34.0450,2,34.0450,2,245.01,2,31.07,2,20.03,2,0.00,2,1.51,2,-999.,9,-999.,9,-999.,9,-999.,9,-999.,9
49UF20151021,KS15-08,4604,1,24,21983,2,20151031,1431,39.0747,136.0135,2588,252.8,251,0.9933,34.0559,2,34.0551,2,232.16,6,35.87,6,21.97,6,0.00,6,1.66,6,-999.,9,-999.,9,-999.,9,-999.,9,-999.,9
49UF20151021,KS15-08,4604,1,22,22665,2,20151031,1429,39.0747,136.0135,2588,306.0,303,0.8414,34.0629,2,34.0615,2,221.56,2,40.47,2,23.35,2,0.00,2,1.77,2,-999.,9,-999.,9,-999.,9,-999.,9,-999.,9
49UF20151021,KS15-08,4604,1,23,22095,2,20151031,1429,39.0747,136.0135,2588,307.4,305,0.8410,34.0628,2,34.0617,2,221.53,2,40.40,2,23.34,2,0.00,2,1.77,2,-999.,9,-999.,9,-999.,9,-999.,9,-999.,9
49UF20151021,KS15-08,4604,1,21,21980,2,20151031,1426,39.0747,136.0135,2588,404.6,401,0.6944,34.0681,2,34.0681,2,209.94,2,46.80,2,24.53,2,0.00,2,1.88,2,-999.,9,-999.,9,-999.,9,-999.,9,-999.,9
49UF20151021,KS15-08,4604,1,20,21979,2,20151031,1421,39.0747,136.0135,2588,505.9,501,0.5634,34.0705,2,34.0704,2,204.47,2,52.61,2,25.10,2,0.00,2,1.93,2,-999.,9,-999.,9,-999.,9,-999.,9,-999.,9
49UF20151021,KS15-08,4604,1,19,21964,2,20151031,1413,39.0747,136.0135,2588,608.7,603,0.4693,34.0707,2,34.0705,2,202.84,2,57.18,2,25.23,2,0.00,2,1.95,2,-999.,9,-999.,9,-999.,9,-999.,9,-999.,9
49UF20151021,KS15-08,4604,1,15,21974,2,20151031,1410,39.0747,136.0135,2588,705.5,699,0.3933,34.0705,2,34.0703,2,201.66,2,61.86,2,25.32,2,0.00,2,1.96,2,-999.,9,-999.,9,-999.,9,-999.,9,-999.,9
49UF20151021,KS15-08,4604,1,14,21973,2,20151031,1407,39.0747,136.0135,2588,809.9,802,0.3570,34.0703,2,34.0708,2,201.21,2,64.33,2,25.35,2,0.00,2,1.96,2,-999.,9,-999.,9,-999.,9,-999.,9,-999.,9
49UF20151021,KS15-08,4604,1,13,21972,2,20151031,1404,39.0747,136.0135,2588,910.5,902,0.3206,34.0698,2,34.0699,2,201.12,2,67.32,2,25.38,2,0.00,2,1.96,2,-999.,9,-999.,9,-999.,9,-999.,9,-999.,9
49UF20151021,KS15-08,4604,1,12,21994,2,20151031,1401,39.0747,136.0135,2588,1011.3,1001,0.2906,34.0695,2,34.0693,2,201.23,2,69.98,2,25.35,2,0.00,2,1.97,2,-999.,9,-999.,9,-999.,9,-999.,9,-999.,9
49UF20151021,KS15-08,4604,1,11,21970,2,20151031,1355,39.0747,136.0135,2588,1214.1,1201,0.2502,34.0689,2,34.0692,2,200.56,2,74.72,2,25.39,2,0.00,2,1.98,2,-999.,9,-999.,9,-999.,9,-999.,9,-999.,9
49UF20151021,KS15-08,4604,1,10,21969,2,20151031,1351,39.0747,136.0135,2588,1415.0,1400,0.2280,34.0687,2,34.0687,2,200.42,2,78.29,2,25.48,2,0.00,2,1.98,2,-999.,9,-999.,9,-999.,9,-999.,9,-999.,9
49UF20151021,KS15-08,4604,1,9,21968,2,20151031,1344,39.0747,136.0135,2588,1619.5,1601,0.2205,34.0685,2,34.0685,2,200.09,2,80.88,2,25.50,2,0.00,2,1.99,2,-999.,9,-999.,9,-999.,9,-999.,9,-999.,9
49UF20151021,KS15-08,4604,1,8,21982,2,20151031,1340,39.0747,136.0135,2588,1821.6,1800,0.2189,34.0684,2,34.0682,6,200.08,6,82.91,6,25.59,6,0.00,6,2.00,6,-999.,9,-999.,9,-999.,9,-999.,9,-999.,9
49UF20151021,KS15-08,4604,1,7,21966,2,20151031,1335,39.0747,136.0135,2588,2025.6,2001,0.2251,34.0683,2,34.0684,2,199.43,2,85.27,2,25.69,2,0.00,2,2.00,2,-999.,9,-999.,9,-999.,9,-999.,9,-999.,9
49UF20151021,KS15-08,4604,1,6,24474,2,20151031,1325,39.0747,136.0135,2588,2277.6,2248,0.2387,34.0683,2,34.0689,2,200.15,4,86.33,2,25.73,2,0.00,2,2.00,2,-999.,9,-999.,9,-999.,9,-999.,9,-999.,9
49UF20151021,KS15-08,4604,1,5,24272,2,20151031,1320,39.0747,136.0135,2588,2534.6,2500,0.2489,34.0684,2,34.0639,4,200.13,2,87.06,2,25.73,2,0.00,2,2.00,2,-999.,9,-999.,9,-999.,9,-999.,9,-999.,9
49UF20151021,KS15-08,4604,1,4,21963,2,20151031,1319,39.0747,136.0135,2588,2568.1,2533,0.2515,34.0684,2,34.0685,6,200.50,2,86.88,2,25.66,2,0.00,2,2.00,2,-999.,9,-999.,9,-999.,9,-999.,9,-999.,9
49UF20151021,KS15-08,4605,1,-999,0,2,20151031,2132,39.4803,136.1833,2189,0.0,0,15.1140,33.7268,2,-999.0000,9,251.07,2,3.24,2,0.02,2,0.00,2,0.05,2,-999.,9,-999.,9,-999.,9,-999.,9,-999.,9
49UF20151021,KS15-08,4605,1,36,21995,2,20151031,2200,39.4803,136.1833,2189,11.5,11,15.1091,33.7252,2,-999.0000,9,251.24,2,3.26,2,0.00,2,0.00,2,0.05,2,-999.,9,-999.,9,-999.,9,-999.,9,-999.,9
49UF20151021,KS15-08,4605,1,34,22666,2,20151031,2159,39.4803,136.1833,2189,26.1,26,14.9416,33.7603,2,-999.0000,9,251.93,2,3.25,2,0.07,3,0.01,2,0.06,2,-999.,9,-999.,9,-999.,9,-999.,9,-999.,9
49UF20151021,KS15-08,4605,1,35,22087,2,20151031,2159,39.4803,136.1833,2189,26.4,26,14.9416,33.7640,2,-999.0000,9,252.15,2,3.25,2,0.04,2,0.01,2,0.06,2,-999.,9,-999.,9,-999.,9,-999.,9,-999.,9
49UF20151021,KS15-08,4605,1,33,21992,2,20151031,2155,39.4803,136.1833,2189,50.9,51,8.7973,34.1752,2,-999.0000,9,253.42,2,9.36,2,8.37,2,0.03,2,0.61,2,-999.,9,-999.,9,-999.,9,-999.,9,-999.,9
49UF20151021,KS15-08,4605,1,32,21991,2,20151031,2153,39.4803,136.1833,2189,79.7,79,5.0944,34.0630,2,-999.0000,9,269.55,2,12.68,2,10.75,2,0.02,2,0.80,2,-999.,9,-999.,9,-999.,9,-999.,9,-999.,9
49UF20151021,KS15-08,4605,1,31,24270,2,20151031,2152,39.4803,136.1833,2189,106.8,106,3.2478,34.0192,2,-999.0000,9,272.03,2,16.32,2,13.02,2,0.01,2,0.96,2,-999.,9,-999.,9,-999.,9,-999.,9,-999.,9
49UF20151021,KS15-08,4605,1,27,21986,2,20151031,2151,39.4803,136.1833,2189,129.1,128,2.3618,34.0182,2,-999.0000,9,276.36,2,19.18,2,14.51,2,0.01,2,1.07,2,-999.,9,-999.,9,-999.,9,-999.,9,-999.,9
49UF20151021,KS15-08,4605,1,26,24271,2,20151031,2150,39.4803,136.1833,2189,151.9,151,1.9451,34.0229,2,-999.0000,9,277.32,2,21.04,2,15.46,2,0.01,2,1.15,2,-999.,9,-999.,9,-999.,9,-999.,9,-999.,9
49UF20151021,KS15-08,4605,1,25,21984,2,20151031,2148,39.4803,136.1833,2189,203.8,202,1.4421,34.0394,2,-999.0000,9,254.20,2,28.06,2,18.84,2,0.00,2,1.41,2,-999.,9,-999.,9,-999.,9,-999.,9,-999.,9
49UF20151021,KS15-08,4605,1,22,22665,2,20151031,2146,39.4803,136.1833,2189,253.9,252,1.0946,34.0529,2,-999.0000,9,235.20,2,34.60,2,21.48,2,0.00,2,1.62,2,-999.,9,-999.,9,-999.,9,-999.,9,-999.,9
49UF20151021,KS15-08,4605,1,21,21980,2,20151031,2144,39.4803,136.1833,2189,305.6,303,0.9393,34.0591,2,-999.0000,9,227.80,6,37.91,6,22.62,6,0.00,6,1.71,6,-999.,9,-999.,9,-999.,9,-999.,9,-999.,9
49UF20151021,KS15-08,4605,1,20,21979,2,20151031,2142,39.4803,136.1833,2189,407.2,404,0.7417,34.0666,2,-999.0000,9,213.80,2,44.32,2,24.24,2,0.00,2,1.85,2,-999.,9,-999.,9,-999.,9,-999.,9,-999.,9
49UF20151021,KS15-08,4605,1,19,21964,2,20151031,2141,39.4803,136.1833,2189,407.2,404,0.7414,34.0666,2,-999.0000,9,213.83,2,44.39,2,24.24,2,0.00,2,1.85,2,-999.,9,-999.,9,-999.,9,-999.,9,-999.,9
49UF20151021,KS15-08,4605,1,15,21974,2,20151031,2134,39.4803,136.1833,2189,511.1,507,0.6039,34.0699,2,-999.0000,9,205.20,2,50.90,2,25.04,2,0.00,2,1.92,2,-999.,9,-999.,9,-999.,9,-999.,9,-999.,9
49UF20151021,KS15-08,4605,1,14,21973,2,20151031,2131,39.4803,136.1833,2189,609.2,604,0.5118,34.0710,2,-999.0000,9,203.38,2,55.20,2,25.23,2,0.00,2,1.94,2,-999.,9,-999.,9,-999.,9,-999.,9,-999.,9
49UF20151021,KS15-08,4605,1,13,21972,2,20151031,2116,39.4803,136.1833,2189,711.3,705,0.4343,34.0709,2,-999.0000,9,202.05,2,59.33,2,25.35,2,0.00,2,1.95,2,-999.,9,-999.,9,-999.,9,-999.,9,-999.,9
49UF20151021,KS15-08,4605,1,12,21994,2,20151031,2113,39.4803,136.1833,2189,811.8,804,0.3732,34.0707,2,-999.0000,9,201.38,2,63.16,2,25.35,2,0.00,2,1.96,2,-999.,9,-999.,9,-999.,9,-999.,9,-999.,9
49UF20151021,KS15-08,4605,1,11,21970,2,20151031,2110,39.4803,136.1833,2189,911.6,903,0.3191,34.0702,2,-999.0000,9,200.76,2,67.33,2,25.43,2,0.00,2,1.97,2,-999.,9,-999.,9,-999.,9,-999.,9,-999.,9
49UF20151021,KS15-08,4605,1,10,21969,2,20151031,2105,39.4803,136.1833,2189,1013.0,1003,0.2962,34.0696,2,-999.0000,9,200.34,2,69.58,2,25.40,2,0.00,2,1.97,2,-999.,9,-999.,9,-999.,9,-999.,9,-999.,9
49UF20151021,KS15-08,4605,1,9,21968,2,20151031,2100,39.4803,136.1833,2189,1216.2,1203,0.2484,34.0690,2,-999.0000,9,200.19,2,74.86,2,25.47,2,0.00,2,1.98,2,-999.,9,-999.,9,-999.,9,-999.,9,-999.,9
49UF20151021,KS15-08,4605,1,8,21982,2,20151031,2054,39.4803,136.1833,2189,1418.4,1403,0.2263,34.0687,2,-999.0000,9,200.51,2,78.44,2,25.54,2,0.00,2,1.98,2,-999.,9,-999.,9,-999.,9,-999.,9,-999.,9
49UF20151021,KS15-08,4605,1,7,21966,2,20151031,2049,39.4803,136.1833,2189,1620.8,1602,0.2207,34.0686,2,-999.0000,9,199.78,2,80.62,2,25.58,2,0.00,2,1.99,2,-999.,9,-999.,9,-999.,9,-999.,9,-999.,9
49UF20151021,KS15-08,4605,1,6,24474,2,20151031,2045,39.4803,136.1833,2189,1823.8,1802,0.2217,34.0685,2,-999.0000,9,199.99,2,82.73,2,25.64,2,0.00,2,1.99,2,-999.,9,-999.,9,-999.,9,-999.,9,-999.,9
49UF20151021,KS15-08,4605,1,5,24272,2,20151031,2039,39.4803,136.1833,2189,2028.0,2003,0.2231,34.0684,2,34.0682,2,199.21,6,85.65,6,25.74,6,0.00,6,2.00,6,-999.,9,-999.,9,-999.,9,-999.,9,-999.,9
49UF20151021,KS15-08,4605,1,4,21963,2,20151031,2038,39.4803,136.1833,2189,2040.0,2015,0.2239,34.0684,2,34.0684,2,199.15,2,85.71,2,25.73,2,0.00,2,2.00,2,-999.,9,-999.,9,-999.,9,-999.,9,-999.,9