BOTTLE,20171117JMAGEMD
EXPOCODE,SECT_ID,STNNBR,CASTNO,SAMPNO,BTLNBR,BTLNBR_FLAG_W,DATE,TIME,LATITUDE,LONGITUDE,DEPTH,CTDPRS,CTDDEP,CTDTMP,CTDSAL,CTDSAL_FLAG_W,SALNTY,SALNTY_FLAG_W,OXYGEN,OXYGEN_FLAG_W,SILCAT,SILCAT_FLAG_W,NO2+NO3,NO2+NO3_FLAG_W,NITRIT,NITRIT_FLAG_W,PHSPHT,PHSPHT_FLAG_W,TCARBN,TCARBN_FLAG_W,ALKALI,ALKALI_FLAG_W,PH_TOT,PH_TOT_FLAG_W,CFC-11,CFC-11_FLAG_W,CFC-12,CFC-12_FLAG_W
,,,,,,,UTC,UTC,,,METER,DBAR,METERS,ITS-90,PSS-78,,PSS-78,,UMOL/KG,,UMOL/KG,,UMOL/KG,,UMOL/KG,,UMOL/KG,,UMOL/KG,,UMOL/KG,,@25DEG-C,,PMOL/KG,,PMOL/KG,
49UF20150202,KS15-02,4419,1,-999,0,2,20150302,1015,34.2243,141.017,4840,0.0,0,18.8255,34.8296,2,-999.0000,9,224.13,2,3.56,2,2.16,2,0.24,2,0.16,2,-999.,9,-999.,9,-999.,9,-999,9,-999,9
49UF20150202,KS15-02,4419,1,33,21992,2,20150302,1035,34.2243,141.017,4840,10.1,10,18.8259,34.8290,2,34.8287,2,223.38,2,3.59,2,2.13,2,0.23,2,0.15,2,-999.,9,-999.,9,-999.,9,-999,9,-999,9
49UF20150202,KS15-02,4419,1,32,21991,2,20150302,1033,34.2243,141.017,4840,26.1,26,18.8236,34.8291,2,-999.0000,9,222.99,2,3.45,2,2.12,2,0.23,2,0.15,2,-999.,9,-999.,9,-999.,9,-999,9,-999,9
49UF20150202,KS15-02,4419,1,31,24270,2,20150302,1032,34.2243,141.017,4840,50.6,50,18.8268,34.8272,2,34.8259,2,222.34,2,3.66,2,2.21,2,0.24,2,0.15,2,-999.,9,-999.,9,-999.,9,-999,9,-999,9
49UF20150202,KS15-02,4419,1,30,21989,2,20150302,1031,34.2243,141.017,4840,76.1,76,18.8246,34.8270,2,-999.0000,9,220.60,2,3.80,2,2.45,2,0.24,2,0.17,2,-999.,9,-999.,9,-999.,9,-999,9,-999,9
49UF20150202,KS15-02,4419,1,29,21988,2,20150302,1030,34.2243,141.017,4840,101.8,101,18.7209,34.8089,2,34.8077,2,218.24,2,4.06,2,2.79,2,0.24,2,0.20,2,-999.,9,-999.,9,-999.,9,-999,9,-999,9
49UF20150202,KS15-02,4419,1,28,21987,2,20150302,1029,34.2243,141.017,4840,126.1,125,18.5715,34.7898,2,34.7870,6,214.17,2,4.48,2,3.32,2,0.23,2,0.22,2,-999.,9,-999.,9,-999.,9,-999,9,-999,9
49UF20150202,KS15-02,4419,1,24,21983,2,20150302,1025,34.2243,141.017,4840,151.5,150,18.0904,34.7663,2,-999.0000,9,209.52,2,5.01,2,4.00,2,0.13,2,0.26,2,-999.,9,-999.,9,-999.,9,-999,9,-999,9
49UF20150202,KS15-02,4419,1,23,22095,2,20150302,1023,34.2243,141.017,4840,199.6,198,17.0937,34.6987,2,34.6978,2,198.30,2,7.03,2,6.00,2,0.04,2,0.40,2,-999.,9,-999.,9,-999.,9,-999,9,-999,9
49UF20150202,KS15-02,4419,1,22,22665,2,20150302,1021,34.2243,141.017,4840,250.4,248,15.6675,34.6091,2,-999.0000,9,188.45,2,10.74,2,9.00,2,0.02,2,0.60,2,-999.,9,-999.,9,-999.,9,-999,9,-999,9
49UF20150202,KS15-02,4419,1,21,21980,2,20150302,1020,34.2243,141.017,4840,303.3,301,14.2390,34.5280,2,-999.0000,9,181.68,2,16.82,2,11.98,2,0.04,2,0.82,2,-999.,9,-999.,9,-999.,9,-999,9,-999,9
49UF20150202,KS15-02,4419,1,20,21979,2,20150302,1017,34.2243,141.017,4840,403.6,400,10.5208,34.3154,2,34.3170,2,152.14,6,34.83,6,20.57,6,0.01,6,1.44,6,-999.,9,-999.,9,-999.,9,-999,9,-999,9
49UF20150202,KS15-02,4419,1,15,21974,3,20150302,1015,34.2243,141.017,4840,503.2,499,7.7468,34.2286,2,34.2295,2,120.66,2,58.11,2,28.18,2,0.00,2,2.00,2,-999.,9,-999.,9,-999.,9,-999,9,-999,9
49UF20150202,KS15-02,4419,1,19,21978,2,20150302,1015,34.2243,141.017,4840,504.8,501,7.7374,34.2287,2,34.2290,2,120.45,2,58.12,2,28.22,2,0.00,2,2.00,2,-999.,9,-999.,9,-999.,9,-999,9,-999,9
49UF20150202,KS15-02,4419,1,14,21973,2,20150302,1012,34.2243,141.017,4840,609.5,604,6.9253,34.2116,2,34.2150,2,109.79,2,66.45,2,30.60,2,0.00,2,2.18,2,-999.,9,-999.,9,-999.,9,-999,9,-999,9
49UF20150202,KS15-02,4419,1,13,21972,2,20150302,1010,34.2243,141.017,4840,709.9,704,5.4832,34.2381,2,-999.0000,9,85.31,2,85.44,2,35.04,2,0.00,2,2.51,2,-999.,9,-999.,9,-999.,9,-999,9,-999,9
49UF20150202,KS15-02,4419,1,12,21994,2,20150302,1007,34.2243,141.017,4840,809.7,802,4.2401,34.2342,2,34.2350,2,61.01,2,106.57,2,39.13,2,0.00,2,2.79,2,-999.,9,-999.,9,-999.,9,-999,9,-999,9
49UF20150202,KS15-02,4419,1,11,21970,2,20150302,1004,34.2243,141.017,4840,912.6,904,3.7942,34.3179,2,-999.0000,9,54.64,2,117.96,2,40.21,2,0.00,2,2.86,2,-999.,9,-999.,9,-999.,9,-999,9,-999,9
49UF20150202,KS15-02,4419,1,10,21969,2,20150302,1002,34.2243,141.017,4840,1011.9,1002,3.5828,34.3736,2,34.3744,2,57.44,2,124.10,2,40.27,2,0.00,2,2.86,2,-999.,9,-999.,9,-999.,9,-999,9,-999,9
49UF20150202,KS15-02,4419,1,6,24474,2,20150302,0958,34.2243,141.017,4840,1211.4,1199,2.9284,34.4249,2,34.4245,6,41.27,2,141.65,2,42.28,2,0.00,2,3.01,2,-999.,9,-999.,9,-999.,9,-999,9,-999,9
49UF20150202,KS15-02,4419,1,4,21963,2,20150302,0954,34.2243,141.017,4840,1415.0,1400,2.5952,34.4774,2,34.4774,2,43.32,2,150.62,2,42.58,2,0.00,2,3.01,2,-999.,9,-999.,9,-999.,9,-999,9,-999,9
49UF20150202,KS15-02,4419,1,5,24272,2,20150302,0954,34.2243,141.017,4840,1415.5,1401,2.5940,34.4775,2,34.4771,2,43.46,2,151.11,2,42.59,2,0.00,2,3.01,2,-999.,9,-999.,9,-999.,9,-999,9,-999,9
49UF20150202,KS15-02,4419,1,3,24269,4,20150302,0949,34.2243,141.017,4840,1620.5,1603,2.3225,34.5256,2,34.5022,4,46.35,4,154.90,4,42.59,4,0.00,4,3.01,4,-999.,9,-999.,9,-999.,9,-999,9,-999,9
49UF20150202,KS15-02,4419,1,2,21961,2,20150302,0945,34.2243,141.017,4840,1823.4,1802,2.1462,34.5584,2,34.5584,6,60.47,2,160.44,2,41.82,2,0.00,2,2.94,2,-999.,9,-999.,9,-999.,9,-999,9,-999,9
49UF20150202,KS15-02,4419,1,1,21960,2,20150302,0941,34.2243,141.017,4840,2026.7,2003,1.9684,34.5901,2,34.5906,2,75.26,2,161.70,2,40.99,2,0.00,2,2.86,2,-999.,9,-999.,9,-999.,9,-999,9,-999,9
49UF20150202,KS15-02,4422,1,-999,0,2,20150302,2110,34.8988,140.2215,2418,0.0,0,15.7695,34.6910,2,-999.0000,9,239.30,2,6.26,2,4.80,2,0.27,2,0.32,4,-999.,9,-999.,9,-999.,9,-999,9,-999,9
49UF20150202,KS15-02,4422,1,33,21992,2,20150302,2135,34.8988,140.2215,2418,11.4,11,15.7721,34.6907,2,34.6906,2,236.07,2,6.33,2,4.76,2,0.27,2,0.31,2,-999.,9,-999.,9,-999.,9,-999,9,-999,9
49UF20150202,KS15-02,4422,1,32,21991,2,20150302,2133,34.8988,140.2215,2418,25.5,25,15.7665,34.6904,2,34.6901,2,235.81,2,6.34,2,4.79,2,0.27,2,0.31,2,-999.,9,-999.,9,-999.,9,-999,9,-999,9
49UF20150202,KS15-02,4422,1,31,24270,2,20150302,2130,34.8988,140.2215,2418,50.0,50,15.7010,34.6792,2,-999.0000,9,234.53,2,6.67,2,5.09,2,0.28,2,0.33,4,-999.,9,-999.,9,-999.,9,-999,9,-999,9
49UF20150202,KS15-02,4422,1,30,21989,2,20150302,2129,34.8988,140.2215,2418,75.4,75,15.4472,34.6594,2,-999.0000,9,233.85,2,7.14,2,5.54,2,0.28,2,0.36,2,-999.,9,-999.,9,-999.,9,-999,9,-999,9
49UF20150202,KS15-02,4422,1,29,21988,2,20150302,2128,34.8988,140.2215,2418,101.1,100,14.9897,34.6375,2,34.6335,2,229.78,2,8.30,2,6.60,2,0.30,2,0.43,2,-999.,9,-999.,9,-999.,9,-999,9,-999,9
49UF20150202,KS15-02,4422,1,28,21987,3,20150302,2127,34.8988,140.2215,2418,126.4,125,13.4908,34.5102,2,-999.0000,9,187.57,2,19.62,2,13.05,2,0.21,2,0.90,2,-999.,9,-999.,9,-999.,9,-999,9,-999,9
49UF20150202,KS15-02,4422,1,24,21983,2,20150302,2126,34.8988,140.2215,2418,151.7,151,12.1887,34.4200,2,34.4200,6,161.36,2,28.41,2,17.34,2,0.02,2,1.21,2,-999.,9,-999.,9,-999.,9,-999,9,-999,9
49UF20150202,KS15-02,4422,1,23,22095,2,20150302,2125,34.8988,140.2215,2418,204.7,203,10.8139,34.3569,2,34.3624,2,148.08,2,36.76,2,20.59,2,0.01,2,1.44,2,-999.,9,-999.,9,-999.,9,-999,9,-999,9
49UF20150202,KS15-02,4422,1,22,22665,2,20150302,2123,34.8988,140.2215,2418,252.5,251,9.4213,34.2790,2,34.2836,2,142.21,2,43.75,2,23.19,2,0.02,2,1.64,2,-999.,9,-999.,9,-999.,9,-999,9,-999,9
49UF20150202,KS15-02,4422,1,21,21980,2,20150302,2121,34.8988,140.2215,2418,302.4,300,8.4928,34.2044,2,-999.0000,9,138.26,2,49.49,2,25.15,2,0.02,2,1.78,2,-999.,9,-999.,9,-999.,9,-999,9,-999,9
49UF20150202,KS15-02,4422,1,20,21979,2,20150302,2118,34.8988,140.2215,2418,404.1,401,7.1045,34.2247,2,34.2256,2,112.22,2,65.10,2,29.98,2,0.01,2,2.13,2,-999.,9,-999.,9,-999.,9,-999,9,-999,9
49UF20150202,KS15-02,4422,1,19,21978,2,20150302,2115,34.8988,140.2215,2418,507.7,503,5.9134,34.1987,2,-999.0000,9,97.86,2,78.49,2,33.35,2,0.00,2,2.38,2,-999.,9,-999.,9,-999.,9,-999,9,-999,9
49UF20150202,KS15-02,4422,1,14,21973,2,20150302,2112,34.8988,140.2215,2418,603.4,598,5.3098,34.2166,2,34.2166,2,84.99,2,88.48,2,35.61,2,0.00,2,2.54,2,-999.,9,-999.,9,-999.,9,-999,9,-999,9
49UF20150202,KS15-02,4422,1,15,21974,2,20150302,2112,34.8988,140.2215,2418,606.8,602,5.3103,34.2179,2,34.2154,2,84.79,2,88.61,2,35.57,2,0.00,2,2.53,2,-999.,9,-999.,9,-999.,9,-999,9,-999,9
49UF20150202,KS15-02,4422,1,13,21972,2,20150302,2109,34.8988,140.2215,2418,707.7,701,4.4778,34.2097,2,-999.0000,9,68.63,6,101.03,6,38.26,6,0.00,6,2.73,6,-999.,9,-999.,9,-999.,9,-999,9,-999,9
49UF20150202,KS15-02,4422,1,12,21994,2,20150302,2105,34.8988,140.2215,2418,810.4,803,4.1645,34.2885,2,34.2860,2,61.22,2,110.49,2,39.25,2,0.00,2,2.79,2,-999.,9,-999.,9,-999.,9,-999,9,-999,9
49UF20150202,KS15-02,4422,1,11,21970,2,20150302,2101,34.8988,140.2215,2418,911.1,903,3.7212,34.3297,2,-999.0000,9,52.39,2,120.63,2,40.63,2,0.00,2,2.89,2,-999.,9,-999.,9,-999.,9,-999,9,-999,9
49UF20150202,KS15-02,4422,1,10,21969,2,20150302,2058,34.8988,140.2215,2418,1011.6,1002,3.3109,34.3682,2,34.3656,6,45.63,2,131.10,2,41.55,2,0.00,2,2.95,2,-999.,9,-999.,9,-999.,9,-999,9,-999,9
49UF20150202,KS15-02,4422,1,5,24272,2,20150302,2052,34.8988,140.2215,2418,1217.3,1205,2.8716,34.4220,2,34.4215,2,41.35,2,143.53,2,42.26,2,0.00,2,3.00,2,-999.,9,-999.,9,-999.,9,-999,9,-999,9
49UF20150202,KS15-02,4422,1,6,24474,2,20150302,2052,34.8988,140.2215,2418,1219.7,1207,2.8565,34.4238,2,34.4202,2,41.84,2,143.66,2,42.22,2,0.00,2,3.00,2,-999.,9,-999.,9,-999.,9,-999,9,-999,9
49UF20150202,KS15-02,4422,1,4,21963,2,20150302,2047,34.8988,140.2215,2418,1416.4,1401,2.6467,34.4740,2,34.4739,2,48.94,6,148.91,6,42.03,6,0.00,6,2.98,6,-999.,9,-999.,9,-999.,9,-999,9,-999,9
49UF20150202,KS15-02,4422,1,3,24269,2,20150302,2042,34.8988,140.2215,2418,1618.6,1601,2.4054,34.5057,2,34.5062,2,49.56,2,156.43,2,42.19,2,0.00,2,2.98,2,-999.,9,-999.,9,-999.,9,-999,9,-999,9
49UF20150202,KS15-02,4422,1,2,21961,2,20150302,2039,34.8988,140.2215,2418,1822.4,1801,2.1166,34.5626,2,34.5628,2,68.36,2,158.84,2,41.27,2,0.00,2,2.90,2,-999.,9,-999.,9,-999.,9,-999,9,-999,9
49UF20150202,KS15-02,4422,1,1,21960,2,20150302,2035,34.8988,140.2215,2418,2026.6,2002,2.0692,34.5726,2,34.5735,6,73.41,2,159.03,2,40.87,2,0.00,2,2.87,2,-999.,9,-999.,9,-999.,9,-999,9,-999,9