BOTTLE,20171117JMAGEMD
EXPOCODE,SECT_ID,STNNBR,CASTNO,SAMPNO,BTLNBR,BTLNBR_FLAG_W,DATE,TIME,LATITUDE,LONGITUDE,DEPTH,CTDPRS,CTDDEP,CTDTMP,CTDSAL,CTDSAL_FLAG_W,SALNTY,SALNTY_FLAG_W,OXYGEN,OXYGEN_FLAG_W,SILCAT,SILCAT_FLAG_W,NO2+NO3,NO2+NO3_FLAG_W,NITRIT,NITRIT_FLAG_W,PHSPHT,PHSPHT_FLAG_W,TCARBN,TCARBN_FLAG_W,ALKALI,ALKALI_FLAG_W,PH_TOT,PH_TOT_FLAG_W,CFC-11,CFC-11_FLAG_W,CFC-12,CFC-12_FLAG_W
,,,,,,,UTC,UTC,,,METER,DBAR,METERS,ITS-90,PSS-78,,PSS-78,,UMOL/KG,,UMOL/KG,,UMOL/KG,,UMOL/KG,,UMOL/KG,,UMOL/KG,,UMOL/KG,,@25DEG-C,,PMOL/KG,,PMOL/KG,
49UF20150202,KS15-02,4413,1,-999,0,2,20150217,0855,24.0223,137.0055,4100,0.0,0,22.6733,34.9890,2,34.9965,4,215.28,2,1.13,2,0.00,2,0.00,2,0.01,2,1980.4,2,2294.5,2,8.0813,2,-999,9,-999,9
49UF20150202,KS15-02,4413,1,36,21995,2,20150217,0922,24.0223,137.0055,4100,10.7,11,22.6736,34.9906,2,34.9897,2,215.10,2,1.12,2,0.00,2,0.00,2,0.01,2,1975.4,2,2295.1,2,8.0825,2,-999,9,-999,9
49UF20150202,KS15-02,4413,1,35,22087,2,20150217,0920,24.0223,137.0055,4100,26.2,26,22.6741,34.9904,2,34.9898,2,214.97,2,1.15,2,0.00,2,0.00,2,0.01,2,1977.1,2,2295.6,2,8.0811,2,-999,9,-999,9
49UF20150202,KS15-02,4413,1,34,22666,2,20150217,0916,24.0223,137.0055,4100,50.0,50,22.6657,34.9886,2,34.9877,2,214.88,2,1.14,2,0.00,2,0.00,2,0.01,2,1975.5,2,2295.6,2,8.0843,2,-999,9,-999,9
49UF20150202,KS15-02,4413,1,33,21992,2,20150217,0915,24.0223,137.0055,4100,76.5,76,21.8576,34.9079,2,34.9091,2,215.75,2,1.38,2,0.00,2,0.00,2,0.02,2,1987.6,2,2291.2,2,8.0620,2,-999,9,-999,9
49UF20150202,KS15-02,4413,1,32,21991,2,20150217,0914,24.0223,137.0055,4100,103.2,103,21.0431,34.8347,2,34.8465,2,212.04,2,1.64,2,0.41,2,0.11,2,0.04,2,1997.5,2,2285.0,2,8.0343,2,-999,9,-999,9
49UF20150202,KS15-02,4413,1,31,24270,2,20150217,0913,24.0223,137.0055,4100,127.0,126,20.6337,34.8313,2,34.8311,2,218.51,2,1.60,2,0.28,2,0.15,2,0.03,2,1993.4,2,2286.5,2,8.0414,2,-999,9,-999,9
49UF20150202,KS15-02,4413,1,27,21986,2,20150217,0912,24.0223,137.0055,4100,151.1,150,20.2002,34.8160,2,34.8151,2,217.82,2,1.74,2,0.51,2,0.15,2,0.05,2,1999.9,2,2283.9,2,8.0330,2,-999,9,-999,9
49UF20150202,KS15-02,4413,1,26,24271,2,20150217,0910,24.0223,137.0055,4100,202.7,201,18.7601,34.7845,2,34.7836,2,203.71,2,2.76,2,2.71,2,0.02,2,0.19,2,2024.7,2,2283.3,2,7.9814,2,-999,9,-999,9
49UF20150202,KS15-02,4413,1,25,21984,2,20150217,0908,24.0223,137.0055,4100,253.0,251,17.6253,34.7393,2,34.7386,2,199.98,2,3.84,2,4.61,2,0.01,2,0.31,2,2039.7,2,2279.9,2,7.9482,2,-999,9,-999,9
49UF20150202,KS15-02,4413,1,24,21983,2,20150217,0906,24.0223,137.0055,4100,303.5,301,16.4755,34.6573,2,34.6586,2,199.57,2,5.39,2,6.32,2,0.01,2,0.43,2,2049.6,2,2274.8,2,7.9208,2,-999,9,-999,9
49UF20150202,KS15-02,4413,1,23,22095,2,20150217,0904,24.0223,137.0055,4100,408.2,405,13.5321,34.4403,2,34.4549,4,186.28,2,12.74,2,11.80,2,0.00,2,0.81,2,2087.9,2,2270.0,2,7.8315,2,-999,9,-999,9
49UF20150202,KS15-02,4413,1,22,22665,2,20150217,0901,24.0223,137.0055,4100,507.1,503,10.8748,34.2775,2,34.2811,2,172.25,2,25.51,2,17.97,2,0.00,2,1.26,2,2129.1,2,2273.6,2,7.7369,2,-999,9,-999,9
49UF20150202,KS15-02,4413,1,21,21980,2,20150217,0858,24.0223,137.0055,4100,607.4,603,8.9326,34.1755,2,34.1762,2,153.19,2,38.70,2,23.27,2,0.00,2,1.65,2,2170.3,2,2278.6,2,7.6524,6,-999,9,-999,9
49UF20150202,KS15-02,4413,1,20,21979,2,20150217,0855,24.0223,137.0055,4100,707.1,701,6.5417,34.1244,2,34.1251,2,113.11,2,63.74,2,31.06,2,0.00,2,2.23,2,2233.6,6,2298.9,6,7.5247,2,-999,9,-999,9
49UF20150202,KS15-02,4413,1,19,21978,2,20150217,0852,24.0223,137.0055,4100,808.5,802,5.2507,34.1837,2,34.1831,2,80.58,2,85.18,2,36.20,2,0.00,2,2.61,2,2280.9,2,2319.5,2,7.4458,2,-999,9,-999,9
49UF20150202,KS15-02,4413,1,18,21977,2,20150217,0850,24.0223,137.0055,4100,910.2,902,4.4423,34.2611,2,34.2612,2,63.09,2,102.78,2,38.86,2,0.00,2,2.78,2,2311.6,2,2340.1,2,7.4140,2,-999,9,-999,9
49UF20150202,KS15-02,4413,1,17,23679,2,20150217,0847,24.0223,137.0055,4100,1010.0,1001,3.8528,34.3391,2,34.3399,6,55.29,2,116.13,2,40.34,2,0.00,2,2.89,2,2331.3,2,2356.8,2,7.4001,2,-999,9,-999,9
49UF20150202,KS15-02,4413,1,16,21975,2,20150217,0842,24.0223,137.0055,4100,1213.1,1202,3.0568,34.4571,2,34.4574,2,62.12,2,132.97,2,40.81,2,0.00,2,2.90,2,2349.4,2,2379.2,2,7.4176,2,-999,9,-999,9
49UF20150202,KS15-02,4413,1,14,21973,2,20150217,0837,24.0223,137.0055,4100,1415.5,1402,2.6393,34.5196,2,34.5205,2,77.49,2,139.34,2,40.20,2,0.00,2,2.85,2,2350.0,2,2392.1,2,7.4501,2,-999,9,-999,9
49UF20150202,KS15-02,4413,1,15,21974,2,20150217,0838,24.0223,137.0055,4100,1416.6,1403,2.6331,34.5192,2,34.5201,2,77.01,2,139.66,2,40.13,2,0.00,2,2.85,2,2348.9,2,2392.0,2,7.4509,2,-999,9,-999,9
49UF20150202,KS15-02,4413,1,13,21972,2,20150217,0833,24.0223,137.0055,4100,1617.5,1601,2.3997,34.5611,2,34.5618,2,92.49,6,140.83,6,39.24,6,0.00,6,2.78,6,2347.5,2,2398.4,2,7.4805,2,-999,9,-999,9
49UF20150202,KS15-02,4413,1,12,21994,2,20150217,0828,24.0223,137.0055,4100,1821.1,1802,2.1333,34.5980,2,34.5985,2,107.49,2,141.75,2,38.45,2,0.00,2,2.71,2,2339.6,2,2404.6,2,7.5071,6,-999,9,-999,9
49UF20150202,KS15-02,4413,1,11,21970,2,20150217,0824,24.0223,137.0055,4100,2023.2,2001,1.9890,34.6154,2,34.6164,2,115.42,2,142.53,2,38.09,2,0.00,2,2.68,2,2339.3,6,2408.3,6,7.5196,2,-999,9,-999,9
49UF20150202,KS15-02,4413,1,10,21969,2,20150217,0819,24.0223,137.0055,4100,2278.1,2251,1.8461,34.6316,2,34.6316,6,123.54,6,143.24,6,37.55,6,0.00,6,2.64,6,2334.9,2,2409.9,2,7.5363,2,-999,9,-999,9
49UF20150202,KS15-02,4413,1,8,21982,2,20150217,0814,24.0223,137.0055,4100,2533.6,2502,1.7445,34.6452,2,34.6446,2,130.92,2,143.16,2,37.22,2,0.00,2,2.60,2,2331.9,2,2411.4,2,7.5479,2,-999,9,-999,9
49UF20150202,KS15-02,4413,1,9,21968,2,20150217,0814,24.0223,137.0055,4100,2534.0,2503,1.7435,34.6453,2,34.6451,2,130.64,2,143.22,2,37.20,2,0.00,2,2.60,2,2332.7,2,2413.3,2,7.5441,2,-999,9,-999,9
49UF20150202,KS15-02,4413,1,7,21966,2,20150217,0808,24.0223,137.0055,4100,2786.6,2751,1.6659,34.6553,2,34.6550,2,136.64,2,143.29,2,36.84,2,0.00,2,2.57,2,2330.4,2,2412.5,2,7.5551,2,-999,9,-999,9
49UF20150202,KS15-02,4413,1,6,24474,2,20150217,0803,24.0223,137.0055,4100,3041.5,3000,1.6105,34.6628,2,34.6626,2,141.97,2,142.67,2,36.52,2,0.00,2,2.55,2,2327.2,2,2413.4,2,7.5655,6,-999,9,-999,9
49UF20150202,KS15-02,4413,1,5,24272,2,20150217,0758,24.0223,137.0055,4100,3297.5,3251,1.5598,34.6698,2,34.6700,2,147.06,2,142.12,2,36.21,2,0.00,2,2.52,2,2328.9,6,2412.7,6,7.5721,2,-999,9,-999,9
49UF20150202,KS15-02,4413,1,4,21963,2,20150217,0752,24.0223,137.0055,4100,3553.4,3501,1.5262,34.6755,2,34.6743,2,151.52,2,141.46,2,35.94,2,0.00,2,2.50,2,2327.3,2,2411.8,2,7.5799,2,-999,9,-999,9
49UF20150202,KS15-02,4413,1,3,24269,4,20150217,0747,24.0223,137.0055,4100,3809.3,3751,1.5079,34.6797,2,34.6751,4,151.35,4,141.44,4,35.96,4,0.00,4,2.50,4,2325.2,4,2412.2,4,7.5790,4,-999,9,-999,9
49UF20150202,KS15-02,4413,1,2,21961,2,20150217,0741,24.0223,137.0055,4100,4099.4,4034,1.5221,34.6811,2,34.6813,2,156.54,2,140.57,2,35.68,2,0.00,2,2.47,2,2318.2,2,2411.6,2,7.5871,2,-999,9,-999,9
49UF20150202,KS15-02,4413,1,1,21960,2,20150217,0740,24.0223,137.0055,4100,4100.1,4035,1.5197,34.6813,2,34.6824,2,156.64,2,140.46,2,35.61,2,0.00,2,2.47,2,2322.0,2,2410.5,2,7.5876,2,-999,9,-999,9
49UF20150202,KS15-02,4414,1,-999,0,2,20150228,0610,31.9747,143.006,5693,0.0,0,17.5350,34.7892,2,34.8065,4,236.72,2,3.35,2,1.74,2,0.10,2,0.13,2,2008.8,2,2283.3,2,8.0094,2,-999,9,-999,9
49UF20150202,KS15-02,4414,1,36,21995,3,20150228,0645,31.9747,143.006,5693,11.2,11,17.5351,34.7893,2,34.7888,2,237.06,2,3.54,2,1.72,2,0.08,2,0.12,2,2010.7,2,2283.7,2,8.0153,2,-999,9,-999,9
49UF20150202,KS15-02,4414,1,35,22087,2,20150228,0644,31.9747,143.006,5693,25.6,25,17.5326,34.7888,2,-999.0000,9,236.70,2,3.31,2,1.71,2,0.08,2,0.12,2,2014.2,2,2284.3,2,8.0118,2,-999,9,-999,9
49UF20150202,KS15-02,4414,1,34,22666,2,20150228,0642,31.9747,143.006,5693,51.5,51,17.5254,34.7875,2,34.7867,2,236.24,2,3.25,2,1.76,2,0.09,2,0.13,2,2010.7,2,2286.4,3,8.0130,2,-999,9,-999,9
49UF20150202,KS15-02,4414,1,33,21992,2,20150228,0641,31.9747,143.006,5693,79.1,79,17.4544,34.7775,2,34.7778,2,235.06,2,3.21,2,1.85,2,0.11,2,0.13,2,2014.9,2,2279.1,2,8.0051,2,-999,9,-999,9
49UF20150202,KS15-02,4414,1,32,21991,2,20150228,0639,31.9747,143.006,5693,103.3,103,17.2128,34.7588,2,34.7574,2,228.75,2,3.58,2,2.67,2,0.13,2,0.18,2,2018.8,2,2280.5,2,7.9947,2,-999,9,-999,9
49UF20150202,KS15-02,4414,1,31,24270,2,20150228,0638,31.9747,143.006,5693,126.0,125,17.0864,34.7476,2,34.7467,2,228.02,2,3.76,2,2.82,2,0.10,2,0.19,2,2021.4,2,2281.4,2,7.9900,2,-999,9,-999,9
49UF20150202,KS15-02,4414,1,30,21989,2,20150228,0637,31.9747,143.006,5693,152.9,152,17.0128,34.7457,2,34.7455,2,230.22,2,3.61,2,2.71,2,0.15,2,0.18,2,2019.3,2,2280.1,2,7.9881,2,-999,9,-999,9
49UF20150202,KS15-02,4414,1,29,21988,2,20150228,0632,31.9747,143.006,5693,204.2,203,16.9135,34.7393,2,34.7401,2,231.53,2,3.66,2,2.64,2,0.18,2,0.18,2,2020.3,2,2277.6,2,7.9924,2,-999,9,-999,9
49UF20150202,KS15-02,4414,1,28,21987,2,20150228,0630,31.9747,143.006,5693,253.7,252,16.8264,34.7347,2,34.7343,2,231.56,2,3.52,2,2.72,2,0.18,2,0.19,2,2023.6,2,2279.0,2,7.9865,2,-999,9,-999,9
49UF20150202,KS15-02,4414,1,27,21986,2,20150228,0629,31.9747,143.006,5693,304.8,302,16.3248,34.6575,2,34.6607,2,203.63,2,6.72,2,6.29,2,0.01,2,0.41,2,2047.6,2,2275.4,2,7.9088,3,-999,9,-999,9
49UF20150202,KS15-02,4414,1,26,24271,2,20150228,0626,31.9747,143.006,5693,404.8,402,14.4074,34.5153,2,34.5185,2,193.56,2,12.18,2,10.27,2,0.01,2,0.69,2,2073.8,2,2273.6,2,7.8718,2,-999,9,-999,9
49UF20150202,KS15-02,4414,1,25,21984,2,20150228,0623,31.9747,143.006,5693,506.0,502,11.3579,34.2925,2,34.2942,6,185.86,2,22.89,2,15.76,2,0.01,2,1.10,2,2118.4,2,2273.3,2,7.7775,2,-999,9,-999,9
49UF20150202,KS15-02,4414,1,24,21983,2,20150228,0620,31.9747,143.006,5693,608.9,604,8.6411,34.1542,2,34.1680,4,159.19,2,40.51,2,22.66,2,0.00,2,1.61,2,2172.7,2,2282.5,2,7.6639,2,-999,9,-999,9
49UF20150202,KS15-02,4414,1,23,22095,2,20150228,0617,31.9747,143.006,5693,710.4,704,6.1701,34.0005,2,34.0009,2,145.51,2,58.28,2,28.66,2,0.00,2,2.07,2,2214.1,2,2288.1,2,7.5533,2,-999,9,-999,9
49UF20150202,KS15-02,4414,1,22,22665,2,20150228,0614,31.9747,143.006,5693,810.6,803,5.3786,34.1564,2,34.1474,4,94.04,2,82.78,2,34.67,2,0.00,2,2.49,2,2272.5,2,2314.3,2,7.4646,2,-999,9,-999,9
49UF20150202,KS15-02,4414,1,21,21980,2,20150228,0612,31.9747,143.006,5693,911.8,903,4.6245,34.2137,2,34.2139,2,71.28,2,98.51,2,37.73,2,0.00,2,2.69,2,2301.8,2,2330.2,2,7.4187,6,-999,9,-999,9
49UF20150202,KS15-02,4414,1,20,21979,2,20150228,0609,31.9747,143.006,5693,1013.2,1004,4.1265,34.2716,2,34.2704,2,58.09,2,110.58,2,39.52,2,0.00,2,2.82,2,2323.8,6,2346.3,6,7.3925,2,-999,9,-999,9
49UF20150202,KS15-02,4414,1,19,21978,2,20150228,0604,31.9747,143.006,5693,1217.2,1205,3.2446,34.3754,2,34.3712,2,43.96,2,132.80,2,41.76,2,0.00,2,2.97,2,2356.4,2,2367.7,2,7.3685,2,-999,9,-999,9
49UF20150202,KS15-02,4414,1,18,21977,2,20150228,0600,31.9747,143.006,5693,1419.6,1405,2.7833,34.4481,2,34.4481,2,40.93,2,146.54,2,42.52,2,0.00,2,3.01,2,2374.5,2,2385.1,2,7.3702,2,-999,9,-999,9
49UF20150202,KS15-02,4414,1,17,23679,2,20150228,0554,31.9747,143.006,5693,1621.7,1604,2.4428,34.5048,2,34.5052,6,46.24,2,155.39,2,42.47,2,0.00,2,3.00,2,2380.7,2,2396.0,2,7.3818,2,-999,9,-999,9
49UF20150202,KS15-02,4414,1,16,21975,2,20150228,0549,31.9747,143.006,5693,1821.1,1801,2.1959,34.5501,2,34.5490,2,58.08,2,159.52,2,41.88,2,0.00,2,2.95,2,2379.9,2,2404.6,2,7.4078,2,-999,9,-999,9
49UF20150202,KS15-02,4414,1,15,21974,2,20150228,0544,31.9747,143.006,5693,2028.2,2004,2.0276,34.5808,2,34.5794,2,70.83,6,160.77,6,41.08,6,0.00,6,2.89,6,2374.6,2,2409.5,2,7.4309,2,-999,9,-999,9
49UF20150202,KS15-02,4414,1,14,21973,2,20150228,0539,31.9747,143.006,5693,2281.0,2253,1.8541,34.6110,2,34.6078,4,87.37,2,161.34,2,40.09,2,0.00,2,2.81,2,2362.2,2,2413.3,2,7.4652,6,-999,9,-999,9
49UF20150202,KS15-02,4414,1,13,21972,2,20150228,0532,31.9747,143.006,5693,2535.9,2503,1.7176,34.6338,2,34.6317,2,104.13,2,159.26,2,39.07,2,0.00,2,2.73,2,2356.6,6,2416.0,6,7.4951,2,-999,9,-999,9
49UF20150202,KS15-02,4414,1,12,21994,2,20150228,0527,31.9747,143.006,5693,2790.1,2752,1.6179,34.6496,2,34.6477,6,116.95,2,157.95,2,38.25,2,0.00,2,2.66,2,2350.6,2,2416.5,2,7.5182,2,-999,9,-999,9
49UF20150202,KS15-02,4414,1,11,21970,2,20150228,0521,31.9747,143.006,5693,3046.1,3003,1.5602,34.6596,2,34.6577,2,126.73,6,156.05,6,37.57,6,0.00,6,2.61,6,2344.5,2,2417.6,2,7.5359,2,-999,9,-999,9
49UF20150202,KS15-02,4414,1,10,21969,2,20150228,0515,31.9747,143.006,5693,3300.0,3252,1.5077,34.6684,2,34.6655,4,135.95,2,153.67,2,36.87,2,0.00,2,2.56,2,2335.9,2,2417.7,2,7.5541,2,-999,9,-999,9
49UF20150202,KS15-02,4414,1,9,21968,2,20150228,0510,31.9747,143.006,5693,3557.8,3504,1.4832,34.6740,2,34.6734,2,141.76,2,152.36,2,36.61,2,0.00,2,2.53,2,2336.7,2,2416.0,2,7.5642,2,-999,9,-999,9
49UF20150202,KS15-02,4414,1,8,21982,2,20150228,0504,31.9747,143.006,5693,3813.8,3753,1.4606,34.6789,2,34.6791,2,148.15,2,150.33,2,36.14,2,0.00,2,2.50,2,2329.1,2,2415.7,2,7.5754,2,-999,9,-999,9
49UF20150202,KS15-02,4414,1,7,21966,2,20150228,0459,31.9747,143.006,5693,4070.0,4003,1.4507,34.6825,2,34.6790,4,152.98,2,149.27,2,35.85,2,0.00,2,2.48,2,2327.9,2,2414.0,2,7.5843,6,-999,9,-999,9
49UF20150202,KS15-02,4414,1,6,24474,2,20150228,0448,31.9747,143.006,5693,4581.3,4501,1.4616,34.6872,2,34.6845,4,160.35,2,144.61,2,35.30,2,0.00,2,2.44,2,2319.4,6,2411.7,6,7.5921,2,-999,9,-999,9
49UF20150202,KS15-02,4414,1,5,24272,2,20150228,0443,31.9747,143.006,5693,4841.6,4754,1.4824,34.6879,2,34.6878,2,161.70,2,144.57,2,35.23,2,0.00,2,2.43,2,2318.5,2,2411.8,2,7.5946,2,-999,9,-999,9
49UF20150202,KS15-02,4414,1,4,21963,2,20150228,0437,31.9747,143.006,5693,5097.4,5002,1.5054,34.6888,2,34.6899,2,163.10,6,143.03,6,35.09,6,0.00,6,2.42,6,2317.4,2,2411.6,2,7.5965,2,-999,9,-999,9
49UF20150202,KS15-02,4414,1,3,24269,2,20150228,0432,31.9747,143.006,5693,5355.2,5252,1.5332,34.6892,2,34.6877,2,162.67,2,142.86,2,35.14,2,0.00,2,2.42,2,2317.3,2,2410.3,2,7.5931,2,-999,9,-999,9
49UF20150202,KS15-02,4414,1,2,21961,2,20150228,0427,31.9747,143.006,5693,5614.0,5503,1.5661,34.6894,2,34.6885,2,164.16,2,142.31,2,35.05,2,0.00,2,2.42,2,2317.7,2,2410.2,2,7.5941,2,-999,9,-999,9
49UF20150202,KS15-02,4414,1,1,21960,2,20150228,0422,31.9747,143.006,5693,5836.1,5718,1.5908,34.6898,2,34.6882,6,165.45,2,140.94,2,34.90,2,0.00,2,2.41,2,2315.7,2,2407.7,2,7.6250,3,-999,9,-999,9
49UF20150202,KS15-02,4417,1,-999,0,2,20150228,2115,33.4992,141.4985,5804,0.0,0,17.4683,34.7843,2,34.7891,4,230.54,2,3.22,2,2.55,2,0.09,2,0.17,2,2018.6,2,2283.2,2,7.9953,2,-999,9,-999,9
49UF20150202,KS15-02,4417,1,32,21991,2,20150228,2134,33.4992,141.4985,5804,10.7,11,17.4767,34.7846,2,34.7845,2,229.81,2,3.14,2,2.34,2,0.10,2,0.15,2,2016.8,2,2281.9,2,8.0041,2,-999,9,-999,9
49UF20150202,KS15-02,4417,1,33,21992,2,20150228,2134,33.4992,141.4985,5804,11.0,11,17.4699,34.7841,2,34.7844,2,229.43,2,3.13,2,2.35,2,0.10,2,0.15,2,2018.2,2,2285.1,3,7.9983,2,-999,9,-999,9
49UF20150202,KS15-02,4417,1,31,24270,2,20150228,2133,33.4992,141.4985,5804,26.7,27,17.4769,34.7844,2,34.7849,2,229.86,6,3.13,6,2.33,6,0.10,6,0.14,6,2015.4,2,2282.8,2,8.0004,2,-999,9,-999,9
49UF20150202,KS15-02,4417,1,30,21989,2,20150228,2130,33.4992,141.4985,5804,52.5,52,17.4867,34.7859,2,-999.0000,9,230.42,2,3.13,2,2.25,2,0.11,2,0.14,2,2016.0,2,2283.3,2,8.0031,2,-999,9,-999,9
49UF20150202,KS15-02,4417,1,29,21988,2,20150228,2128,33.4992,141.4985,5804,74.1,74,17.4312,34.7703,2,34.7701,2,225.93,2,3.35,2,2.81,2,0.07,2,0.17,2,2021.2,2,2280.8,2,7.9945,2,-999,9,-999,9
49UF20150202,KS15-02,4417,1,28,21987,3,20150228,2127,33.4992,141.4985,5804,101.6,101,17.4120,34.7657,2,34.7662,6,225.91,2,3.33,2,2.83,2,0.07,2,0.18,2,2021.7,2,2282.4,2,7.9900,2,-999,9,-999,9
49UF20150202,KS15-02,4417,1,24,21983,2,20150228,2126,33.4992,141.4985,5804,125.1,124,17.4082,34.7643,2,-999.0000,9,224.80,2,3.50,2,2.91,2,0.07,2,0.18,2,2021.9,2,2280.8,2,8.0118,3,-999,9,-999,9
49UF20150202,KS15-02,4417,1,23,22095,2,20150228,2125,33.4992,141.4985,5804,151.3,150,17.3897,34.7632,2,-999.0000,9,224.52,2,3.51,2,2.98,2,0.07,2,0.18,2,2022.1,2,2280.6,2,7.9926,2,-999,9,-999,9
49UF20150202,KS15-02,4417,1,22,22665,2,20150228,2124,33.4992,141.4985,5804,202.7,201,17.2668,34.7421,2,34.7418,2,217.86,2,4.02,2,3.76,2,0.05,2,0.23,2,2031.0,2,2277.9,2,7.9765,2,-999,9,-999,9
49UF20150202,KS15-02,4417,1,21,21980,2,20150228,2123,33.4992,141.4985,5804,251.5,250,16.7806,34.6915,2,-999.0000,9,205.85,2,5.50,2,5.57,2,0.02,2,0.35,2,2041.6,2,2276.8,2,7.9441,2,-999,9,-999,9
49UF20150202,KS15-02,4417,1,20,21979,2,20150228,2121,33.4992,141.4985,5804,302.2,300,16.2394,34.6473,2,34.6469,2,197.35,2,7.44,2,7.17,2,0.01,2,0.46,2,2052.9,2,2275.1,2,7.9092,2,-999,9,-999,9
49UF20150202,KS15-02,4417,1,19,21978,2,20150228,2118,33.4992,141.4985,5804,405.8,403,14.6519,34.5353,2,34.5402,2,184.05,2,12.90,2,10.89,2,0.01,2,0.73,2,2082.3,2,2276.1,2,7.8622,6,-999,9,-999,9
49UF20150202,KS15-02,4417,1,15,21974,2,20150228,2116,33.4992,141.4985,5804,505.9,502,11.9277,34.3708,2,-999.0000,9,167.39,2,23.70,2,16.30,2,0.00,2,1.13,2,2123.1,6,2275.8,6,7.7675,2,-999,9,-999,9
49UF20150202,KS15-02,4417,1,14,21973,2,20150228,2114,33.4992,141.4985,5804,605.6,600,9.4943,34.3049,2,34.3076,6,137.07,2,46.35,2,23.82,2,0.01,2,1.68,2,2184.9,2,2294.8,2,7.6555,2,-999,9,-999,9
49UF20150202,KS15-02,4417,1,13,21972,2,20150228,2111,33.4992,141.4985,5804,707.2,701,7.5058,34.2132,2,-999.0000,9,121.27,2,60.80,2,28.48,2,0.01,2,2.02,2,2219.6,2,2302.8,2,7.5777,2,-999,9,-999,9
49UF20150202,KS15-02,4417,1,12,21994,2,20150228,2109,33.4992,141.4985,5804,808.3,801,6.3743,34.2173,2,34.2191,2,99.99,2,74.07,2,32.37,2,0.00,2,2.31,2,2253.6,2,2313.2,2,7.5137,2,-999,9,-999,9
49UF20150202,KS15-02,4417,1,11,21970,2,20150228,2106,33.4992,141.4985,5804,908.6,900,5.2830,34.2403,2,-999.0000,9,81.04,2,90.20,2,35.83,2,0.00,2,2.56,2,2285.0,2,2326.5,2,7.4574,2,-999,9,-999,9
49UF20150202,KS15-02,4417,1,9,21968,2,20150228,2103,33.4992,141.4985,5804,1010.6,1001,4.3075,34.2657,2,-999.0000,9,-999.00,9,-999.00,9,-999.00,9,-999.00,9,-999.000,9,-999.0,9,-999.0,9,-999.0000,9,-999,9,-999,9
49UF20150202,KS15-02,4417,1,10,21969,3,20150228,2103,33.4992,141.4985,5804,1011.7,1002,4.3057,34.2662,2,34.2721,4,62.58,2,108.04,2,38.84,2,0.00,2,2.77,2,2318.9,2,2342.2,2,7.4053,2,-999,9,-999,9
49UF20150202,KS15-02,4417,1,6,24474,2,20150228,2059,33.4992,141.4985,5804,1212.3,1200,3.3445,34.3671,2,34.3678,6,43.66,2,130.75,2,41.63,2,0.00,2,2.97,2,2355.1,2,2366.1,2,7.3729,6,-999,9,-999,9
49UF20150202,KS15-02,4417,1,5,24272,2,20150228,2054,33.4992,141.4985,5804,1416.5,1402,2.8205,34.4432,2,34.4438,2,40.69,2,145.11,2,42.49,2,0.00,2,3.01,2,2372.7,6,2384.5,6,7.3714,2,-999,9,-999,9
49UF20150202,KS15-02,4417,1,3,24269,4,20150228,2050,33.4992,141.4985,5804,1618.7,1601,2.4753,34.4994,2,34.2699,4,130.00,4,51.91,4,25.82,4,0.00,4,1.83,4,2200.6,4,2292.4,4,7.6177,4,-999,9,-999,9
49UF20150202,KS15-02,4417,1,4,21963,2,20150228,2050,33.4992,141.4985,5804,1620.2,1602,2.4746,34.4996,2,34.4993,2,44.99,2,154.55,2,42.64,2,0.00,2,3.00,2,2381.8,2,2396.2,2,7.3821,2,-999,9,-999,9
49UF20150202,KS15-02,4417,1,2,21961,2,20150228,2046,33.4992,141.4985,5804,1823.1,1802,2.2521,34.5422,2,34.5439,2,57.69,6,158.40,6,41.89,6,0.00,6,2.95,6,2376.0,2,2402.1,2,7.4043,2,-999,9,-999,9
49UF20150202,KS15-02,4417,1,1,21960,2,20150228,2042,33.4992,141.4985,5804,2025.7,2002,2.0730,34.5740,2,34.5792,4,70.04,2,160.35,2,41.11,2,0.00,2,2.88,2,2373.5,2,2408.4,2,7.4305,2,-999,9,-999,9