BOTTLE,20171117JMAGEMD
EXPOCODE,SECT_ID,STNNBR,CASTNO,SAMPNO,BTLNBR,BTLNBR_FLAG_W,DATE,TIME,LATITUDE,LONGITUDE,DEPTH,CTDPRS,CTDDEP,CTDTMP,CTDSAL,CTDSAL_FLAG_W,SALNTY,SALNTY_FLAG_W,OXYGEN,OXYGEN_FLAG_W,SILCAT,SILCAT_FLAG_W,NO2+NO3,NO2+NO3_FLAG_W,NITRIT,NITRIT_FLAG_W,PHSPHT,PHSPHT_FLAG_W,TCARBN,TCARBN_FLAG_W,ALKALI,ALKALI_FLAG_W,PH_TOT,PH_TOT_FLAG_W,CFC-11,CFC-11_FLAG_W,CFC-12,CFC-12_FLAG_W
,,,,,,,UTC,UTC,,,METER,DBAR,METERS,ITS-90,PSS-78,,PSS-78,,UMOL/KG,,UMOL/KG,,UMOL/KG,,UMOL/KG,,UMOL/KG,,UMOL/KG,,UMOL/KG,,@25DEG-C,,PMOL/KG,,PMOL/KG,
49UF20150202,KS15-02,4392,1,-999,0,2,20150211,1315,24.286,150.5218,5136,0.0,0,21.9044,35.0608,2,-999.,9,217.96,2,1.37,2,0.14,2,0.00,2,0.01,2,-999.,9,-999.,9,-999.,9,-999,9,-999,9
49UF20150202,KS15-02,4392,1,33,21992,2,20150211,1330,24.286,150.5218,5136,12.1,12,21.9146,35.0603,2,-999.,9,217.70,2,1.35,2,0.15,2,0.00,2,0.01,2,-999.,9,-999.,9,-999.,9,-999,9,-999,9
49UF20150202,KS15-02,4392,1,32,21991,2,20150211,1329,24.286,150.5218,5136,27.4,27,21.1113,34.9754,2,-999.,9,217.55,2,1.61,2,0.30,2,0.01,2,0.02,2,-999.,9,-999.,9,-999.,9,-999,9,-999,9
49UF20150202,KS15-02,4392,1,31,24270,2,20150211,1327,24.286,150.5218,5136,51.6,51,20.2781,34.8918,2,-999.,9,223.34,2,1.86,2,0.14,2,0.01,2,0.02,2,-999.,9,-999.,9,-999.,9,-999,9,-999,9
49UF20150202,KS15-02,4392,1,30,21989,2,20150211,1326,24.286,150.5218,5136,78.2,78,19.7178,34.8401,2,-999.,9,220.37,2,2.03,2,0.55,2,0.14,2,0.05,2,-999.,9,-999.,9,-999.,9,-999,9,-999,9
49UF20150202,KS15-02,4392,1,29,21988,2,20150211,1322,24.286,150.5218,5136,102.0,101,19.2949,34.8159,2,-999.,9,219.62,2,2.20,2,0.94,2,0.20,2,0.07,2,-999.,9,-999.,9,-999.,9,-999,9,-999,9
49UF20150202,KS15-02,4392,1,28,21987,2,20150211,1321,24.286,150.5218,5136,128.4,128,18.1049,34.7612,2,-999.,9,206.71,6,2.98,6,2.53,6,0.03,6,0.18,6,-999.,9,-999.,9,-999.,9,-999,9,-999,9
49UF20150202,KS15-02,4392,1,24,21983,2,20150211,1320,24.286,150.5218,5136,153.4,152,17.5431,34.7312,2,-999.,9,206.00,2,3.58,2,4.12,2,0.01,2,0.27,2,-999.,9,-999.,9,-999.,9,-999,9,-999,9
49UF20150202,KS15-02,4392,1,22,22665,2,20150211,1317,24.286,150.5218,5136,203.7,202,16.9084,34.7048,2,-999.,9,212.26,2,4.29,2,4.71,2,0.01,2,0.30,2,-999.,9,-999.,9,-999.,9,-999,9,-999,9
49UF20150202,KS15-02,4392,1,23,22095,2,20150211,1317,24.286,150.5218,5136,206.2,205,16.8850,34.7036,2,-999.,9,212.57,2,4.40,2,4.75,2,0.01,2,0.31,2,-999.,9,-999.,9,-999.,9,-999,9,-999,9
49UF20150202,KS15-02,4392,1,21,21980,2,20150211,1315,24.286,150.5218,5136,256.3,255,16.3275,34.6562,2,-999.,9,206.13,2,5.81,2,6.20,2,0.01,2,0.41,2,-999.,9,-999.,9,-999.,9,-999,9,-999,9
49UF20150202,KS15-02,4392,1,20,21979,2,20150211,1313,24.286,150.5218,5136,306.0,304,15.6638,34.6025,2,-999.,9,200.25,2,7.57,2,7.76,2,0.01,2,0.51,2,-999.,9,-999.,9,-999.,9,-999,9,-999,9
49UF20150202,KS15-02,4392,1,19,21978,2,20150211,1310,24.286,150.5218,5136,407.8,405,13.3042,34.4218,2,-999.,9,189.95,2,13.81,2,12.26,2,0.00,2,0.84,2,-999.,9,-999.,9,-999.,9,-999,9,-999,9
49UF20150202,KS15-02,4392,1,15,21974,2,20150211,1307,24.286,150.5218,5136,507.6,504,10.3662,34.2202,2,-999.,9,177.64,2,24.76,2,18.31,2,0.00,2,1.29,2,-999.,9,-999.,9,-999.,9,-999,9,-999,9
49UF20150202,KS15-02,4392,1,14,21973,2,20150211,1305,24.286,150.5218,5136,607.9,603,8.1667,34.1100,2,-999.,9,148.56,2,40.47,2,24.97,2,0.00,2,1.78,2,-999.,9,-999.,9,-999.,9,-999,9,-999,9
49UF20150202,KS15-02,4392,1,13,21972,2,20150211,1302,24.286,150.5218,5136,707.1,701,5.8475,34.1048,2,-999.,9,92.72,2,70.59,2,34.31,2,0.00,2,2.47,2,-999.,9,-999.,9,-999.,9,-999,9,-999,9
49UF20150202,KS15-02,4392,1,12,21994,2,20150211,1259,24.286,150.5218,5136,807.7,801,4.7685,34.1926,2,-999.,9,60.64,2,92.51,2,38.93,2,0.00,2,2.80,2,-999.,9,-999.,9,-999.,9,-999,9,-999,9
49UF20150202,KS15-02,4392,1,11,21970,2,20150211,1257,24.286,150.5218,5136,909.4,902,4.2085,34.2687,2,-999.,9,46.42,2,106.57,2,40.93,2,0.00,2,2.93,2,-999.,9,-999.,9,-999.,9,-999,9,-999,9
49UF20150202,KS15-02,4392,1,10,21969,2,20150211,1254,24.286,150.5218,5136,1011.4,1003,3.7459,34.3570,2,-999.,9,42.47,6,118.88,6,41.84,6,0.00,6,2.99,6,-999.,9,-999.,9,-999.,9,-999,9,-999,9
49UF20150202,KS15-02,4392,1,6,24474,2,20150211,1250,24.286,150.5218,5136,1213.1,1202,3.1998,34.4584,2,-999.,9,52.76,2,131.49,2,41.64,2,0.00,2,2.97,2,-999.,9,-999.,9,-999.,9,-999,9,-999,9
49UF20150202,KS15-02,4392,1,5,24272,2,20150211,1245,24.286,150.5218,5136,1416.6,1403,2.6375,34.5213,2,-999.,9,63.91,2,143.58,2,41.39,2,0.00,2,2.93,2,-999.,9,-999.,9,-999.,9,-999,9,-999,9
49UF20150202,KS15-02,4392,1,4,21963,2,20150211,1240,24.286,150.5218,5136,1618.0,1601,2.3348,34.5599,2,-999.,9,76.98,2,147.94,2,40.62,2,0.00,2,2.86,2,-999.,9,-999.,9,-999.,9,-999,9,-999,9
49UF20150202,KS15-02,4392,1,2,21961,2,20150211,1236,24.286,150.5218,5136,1819.9,1800,2.0526,34.5928,2,-999.,9,89.13,2,152.00,2,39.95,2,0.00,2,2.81,2,-999.,9,-999.,9,-999.,9,-999,9,-999,9
49UF20150202,KS15-02,4392,1,3,24269,2,20150211,1236,24.286,150.5218,5136,1820.4,1801,2.0521,34.5930,2,-999.,9,89.35,2,152.04,2,39.82,2,0.00,2,2.81,2,-999.,9,-999.,9,-999.,9,-999,9,-999,9
49UF20150202,KS15-02,4392,1,1,21960,2,20150211,1231,24.286,150.5218,5136,2024.0,2001,1.9196,34.6122,2,-999.,9,99.77,2,152.41,2,39.31,2,0.00,2,2.76,2,-999.,9,-999.,9,-999.,9,-999,9,-999,9
49UF20150202,KS15-02,4394,1,-999,0,2,20150211,0130,24.2368,149.018,5742,0.0,0,22.3450,35.0553,2,35.0529,4,216.45,2,1.31,2,0.16,2,0.00,2,0.01,2,1986.7,2,2299.2,2,8.0669,2,-999,9,-999,9
49UF20150202,KS15-02,4394,1,36,21995,2,20150211,0155,24.2368,149.018,5742,11.5,11,22.3375,35.0563,2,35.0560,6,215.81,2,1.36,2,0.17,2,0.00,2,0.01,2,1985.0,2,2301.4,2,8.0808,2,-999,9,-999,9
49UF20150202,KS15-02,4394,1,35,22087,2,20150211,0154,24.2368,149.018,5742,24.8,25,22.3167,35.0603,2,35.0606,2,215.76,2,1.34,2,0.20,2,0.00,2,0.02,2,1985.3,2,2299.9,2,8.0800,2,-999,9,-999,9
49UF20150202,KS15-02,4394,1,34,22666,2,20150211,0153,24.2368,149.018,5742,51.3,51,22.2676,35.0506,2,35.0506,2,215.80,2,1.32,2,0.09,2,0.00,2,0.01,2,1983.2,2,2300.0,2,8.0823,2,-999,9,-999,9
49UF20150202,KS15-02,4394,1,33,21992,2,20150211,0151,24.2368,149.018,5742,76.6,76,22.2286,35.0459,2,35.0445,2,216.12,2,1.30,2,0.18,2,0.00,2,0.01,2,1984.6,2,2297.8,2,8.1117,4,-999,9,-999,9
49UF20150202,KS15-02,4394,1,32,21991,2,20150211,0148,24.2368,149.018,5742,105.1,104,22.1594,35.0381,2,35.0371,2,215.98,2,1.35,2,0.12,2,0.00,2,0.02,2,1985.8,2,2299.2,2,8.0832,2,-999,9,-999,9
49UF20150202,KS15-02,4394,1,31,24270,2,20150211,0146,24.2368,149.018,5742,128.1,127,20.7252,34.9075,2,34.9245,4,219.67,2,1.70,2,0.21,2,0.03,2,0.02,2,1992.7,2,2291.9,2,8.0515,2,-999,9,-999,9
49UF20150202,KS15-02,4394,1,30,21989,2,20150211,0145,24.2368,149.018,5742,153.3,152,20.3332,34.8688,2,34.8694,2,220.70,6,1.80,6,0.31,6,0.15,6,0.03,6,1995.8,2,2288.9,2,8.0453,2,-999,9,-999,9
49UF20150202,KS15-02,4394,1,29,21988,2,20150211,0144,24.2368,149.018,5742,204.4,203,18.7883,34.7973,2,34.7980,2,210.46,2,2.57,2,1.64,2,0.03,2,0.13,2,2020.5,2,2283.7,2,7.9881,2,-999,9,-999,9
49UF20150202,KS15-02,4394,1,28,21987,2,20150211,0142,24.2368,149.018,5742,254.3,253,17.2997,34.7189,2,34.7199,2,213.25,2,3.56,2,3.90,2,0.01,2,0.26,2,2029.1,2,2276.9,2,7.9596,3,-999,9,-999,9
49UF20150202,KS15-02,4394,1,27,21986,2,20150211,0140,24.2368,149.018,5742,305.5,303,16.8796,34.7094,2,34.7087,2,217.98,2,3.99,2,4.20,2,0.01,2,0.30,2,2032.6,2,2278.2,2,7.9647,2,-999,9,-999,9
49UF20150202,KS15-02,4394,1,26,24271,2,20150211,0137,24.2368,149.018,5742,405.7,403,15.5772,34.5927,2,34.5950,2,201.59,2,7.64,2,7.76,2,0.00,2,0.52,2,2056.9,2,2273.1,2,7.9042,2,-999,9,-999,9
49UF20150202,KS15-02,4394,1,25,21984,2,20150211,0133,24.2368,149.018,5742,507.5,504,12.9834,34.4005,2,34.4038,2,193.60,2,14.32,2,12.48,2,0.00,2,0.86,2,2092.8,2,2268.7,2,7.8287,2,-999,9,-999,9
49UF20150202,KS15-02,4394,1,24,21983,2,20150211,0130,24.2368,149.018,5742,607.0,602,9.6948,34.1801,2,34.1822,2,173.58,2,28.80,2,19.90,2,0.00,2,1.41,2,2141.5,2,2272.4,2,7.7049,2,-999,9,-999,9
49UF20150202,KS15-02,4394,1,23,22095,2,20150211,0127,24.2368,149.018,5742,710.8,705,6.9087,34.0721,2,34.0676,4,131.13,2,53.09,2,28.99,2,0.00,2,2.07,2,2210.1,2,2286.0,2,7.5575,6,-999,9,-999,9
49UF20150202,KS15-02,4394,1,22,22665,2,20150211,0123,24.2368,149.018,5742,809.4,803,5.3714,34.1368,2,34.1366,2,77.42,2,78.71,2,36.55,2,0.00,2,2.62,2,2277.5,6,2310.1,6,7.4351,2,-999,9,-999,9
49UF20150202,KS15-02,4394,1,21,21980,2,20150211,0120,24.2368,149.018,5742,910.8,903,4.6993,34.2140,2,34.2158,2,57.43,2,94.76,2,39.36,2,0.00,2,2.83,2,2309.1,2,2330.4,2,7.3965,2,-999,9,-999,9
49UF20150202,KS15-02,4394,1,20,21979,2,20150211,0116,24.2368,149.018,5742,1013.5,1005,4.0462,34.3263,2,34.3238,2,45.94,2,110.74,2,41.31,2,0.00,2,2.96,2,2332.2,2,2350.2,2,7.3833,2,-999,9,-999,9
49UF20150202,KS15-02,4394,1,19,21978,2,20150211,0110,24.2368,149.018,5742,1213.4,1202,3.3671,34.4148,2,34.4147,2,47.48,2,128.05,2,41.79,2,0.00,2,3.01,2,2351.9,2,2371.2,2,7.3954,2,-999,9,-999,9
49UF20150202,KS15-02,4394,1,18,21977,2,20150211,0105,24.2368,149.018,5742,1421.2,1407,2.8078,34.5022,2,34.5031,6,65.74,2,138.13,2,40.92,2,0.00,2,2.91,2,2355.5,2,2388.9,2,7.4258,2,-999,9,-999,9
49UF20150202,KS15-02,4394,1,17,23679,2,20150211,0100,24.2368,149.018,5742,1622.1,1606,2.4206,34.5453,2,34.5457,2,75.57,6,145.52,6,40.68,6,0.00,6,2.87,6,2359.2,2,2399.6,2,7.4429,2,-999,9,-999,9
49UF20150202,KS15-02,4394,1,16,21975,2,20150211,0055,24.2368,149.018,5742,1823.2,1804,2.1296,34.5854,2,34.5849,6,90.47,2,148.57,2,39.99,2,0.00,2,2.81,2,2356.4,2,2405.4,2,7.4726,2,-999,9,-999,9
49UF20150202,KS15-02,4394,1,15,21974,2,20150211,0051,24.2368,149.018,5742,2024.3,2002,1.9782,34.6069,2,34.6075,2,101.50,2,149.07,2,39.28,2,0.00,2,2.75,2,2349.7,2,2408.6,2,7.4922,2,-999,9,-999,9
49UF20150202,KS15-02,4394,1,14,21973,2,20150211,0045,24.2368,149.018,5742,2279.4,2253,1.8210,34.6290,2,34.6279,2,112.55,2,150.01,2,38.57,2,0.00,2,2.71,2,2346.2,2,2412.1,2,7.5137,2,-999,9,-999,9
49UF20150202,KS15-02,4394,1,13,21972,2,20150211,0040,24.2368,149.018,5742,2533.5,2502,1.7346,34.6414,2,34.6407,2,119.57,2,150.33,2,38.19,2,0.00,2,2.67,2,2343.7,2,2415.1,2,7.5252,6,-999,9,-999,9
49UF20150202,KS15-02,4394,1,12,21994,2,20150211,0035,24.2368,149.018,5742,2788.3,2752,1.6573,34.6532,2,34.6532,2,127.19,2,149.92,2,37.74,2,0.00,2,2.63,2,2340.9,6,2416.3,6,7.5353,2,-999,9,-999,9
49UF20150202,KS15-02,4394,1,11,21970,2,20150211,0029,24.2368,149.018,5742,3042.1,3001,1.6105,34.6604,2,34.6599,2,132.35,2,149.53,2,37.34,2,0.00,2,2.60,2,2338.3,2,2414.7,2,7.5478,2,-999,9,-999,9
49UF20150202,KS15-02,4394,1,10,21969,2,20150211,0024,24.2368,149.018,5742,3300.2,3254,1.5697,34.6665,2,34.6659,2,137.54,2,149.07,2,37.07,2,0.00,2,2.57,2,2335.4,2,2416.9,2,7.5579,2,-999,9,-999,9
49UF20150202,KS15-02,4394,1,9,21968,2,20150211,0019,24.2368,149.018,5742,3555.1,3503,1.5415,34.6715,2,34.6708,2,142.14,2,148.49,2,36.68,2,0.00,2,2.56,2,2331.1,2,2415.0,2,7.5614,2,-999,9,-999,9
49UF20150202,KS15-02,4394,1,8,21982,2,20150211,0014,24.2368,149.018,5742,3811.5,3753,1.5137,34.6763,2,34.6779,2,147.55,2,147.12,2,36.52,2,0.00,2,2.52,2,2327.5,2,2415.7,2,7.5708,2,-999,9,-999,9
49UF20150202,KS15-02,4394,1,7,21966,2,20150211,0009,24.2368,149.018,5742,4067.6,4003,1.5038,34.6797,2,34.6788,2,151.39,2,145.85,2,36.17,2,0.00,2,2.51,2,2326.3,2,2413.5,2,7.5775,2,-999,9,-999,9
49UF20150202,KS15-02,4394,1,6,24474,2,20150211,0001,24.2368,149.018,5742,4579.1,4502,1.4934,34.6857,2,34.6859,2,160.13,2,142.14,2,35.55,2,0.00,2,2.46,2,2315.1,2,2409.8,2,7.5905,2,-999,9,-999,9
49UF20150202,KS15-02,4394,1,5,24272,2,20150211,2357,24.2368,149.018,5742,4833.5,4749,1.4995,34.6876,2,34.6861,2,162.49,2,140.71,2,35.40,2,0.00,2,2.45,2,2316.2,2,2409.1,2,7.5910,2,-999,9,-999,9
49UF20150202,KS15-02,4394,1,4,21963,2,20150211,2352,24.2368,149.018,5742,5089.6,4998,1.5111,34.6893,2,34.6888,2,165.51,6,138.81,6,35.20,6,0.00,6,2.43,6,2313.7,2,2408.1,2,7.5936,2,-999,9,-999,9
49UF20150202,KS15-02,4394,1,3,24269,4,20150211,2348,24.2368,149.018,5742,5349.2,5250,1.5272,34.6906,2,34.6473,4,123.24,4,149.99,4,38.02,4,0.00,4,2.65,4,2340.8,4,2415.5,4,7.5349,4,-999,9,-999,9
49UF20150202,KS15-02,4394,1,2,21961,2,20150211,2343,24.2368,149.018,5742,5607.2,5500,1.5454,34.6920,2,34.6927,6,170.83,2,135.79,2,34.83,2,0.00,2,2.39,2,2305.8,6,2403.0,6,7.5976,2,-999,9,-999,9
49UF20150202,KS15-02,4394,1,1,21960,4,20150211,2339,24.2368,149.018,5742,5881.6,5765,1.5591,34.6935,2,34.6908,4,167.01,4,138.06,4,35.15,4,0.00,4,2.41,4,2309.7,4,2406.2,4,7.5957,4,-999,9,-999,9
49UF20150202,KS15-02,4397,1,-999,0,2,20150212,1430,24.2373,147.2715,5803,0.0,0,23.5076,35.0204,2,-999.,9,211.32,2,1.29,2,0.20,2,0.00,2,0.01,2,-999.,9,-999.,9,-999.,9,-999,9,-999,9
49UF20150202,KS15-02,4397,1,33,21992,2,20150212,1452,24.2373,147.2715,5803,11.7,12,23.5055,35.0203,2,-999.,9,211.03,2,1.23,2,0.17,2,0.00,2,0.01,2,-999.,9,-999.,9,-999.,9,-999,9,-999,9
49UF20150202,KS15-02,4397,1,32,21991,2,20150212,1451,24.2373,147.2715,5803,27.0,27,23.4977,35.0164,2,-999.,9,211.12,2,1.30,2,0.14,2,0.00,2,0.01,2,-999.,9,-999.,9,-999.,9,-999,9,-999,9
49UF20150202,KS15-02,4397,1,31,24270,2,20150212,1450,24.2373,147.2715,5803,52.5,52,23.3818,34.9953,2,-999.,9,211.26,2,1.28,2,0.18,2,0.00,2,0.01,2,-999.,9,-999.,9,-999.,9,-999,9,-999,9
49UF20150202,KS15-02,4397,1,30,21989,2,20150212,1448,24.2373,147.2715,5803,77.8,77,23.2086,34.9883,2,-999.,9,212.39,2,1.33,2,0.17,2,0.00,2,0.01,2,-999.,9,-999.,9,-999.,9,-999,9,-999,9
49UF20150202,KS15-02,4397,1,29,21988,2,20150212,1445,24.2373,147.2715,5803,100.5,100,23.1204,34.9867,2,-999.,9,212.38,2,1.34,2,0.18,2,0.00,2,0.01,2,-999.,9,-999.,9,-999.,9,-999,9,-999,9
49UF20150202,KS15-02,4397,1,28,21987,2,20150212,1443,24.2373,147.2715,5803,127.3,126,23.0689,34.9841,2,-999.,9,212.48,2,1.33,2,0.12,2,0.00,2,0.01,2,-999.,9,-999.,9,-999.,9,-999,9,-999,9
49UF20150202,KS15-02,4397,1,24,21983,2,20150212,1441,24.2373,147.2715,5803,152.2,151,22.6832,34.9615,2,-999.,9,211.16,2,1.48,2,0.24,2,0.03,2,0.02,2,-999.,9,-999.,9,-999.,9,-999,9,-999,9
49UF20150202,KS15-02,4397,1,23,22095,2,20150212,1439,24.2373,147.2715,5803,203.8,202,19.3255,34.8538,2,-999.,9,196.56,2,2.74,2,2.32,2,0.01,2,0.18,2,-999.,9,-999.,9,-999.,9,-999,9,-999,9
49UF20150202,KS15-02,4397,1,22,22665,2,20150212,1436,24.2373,147.2715,5803,255.3,254,17.6871,34.7411,2,-999.,9,204.19,6,3.61,6,3.96,6,0.01,6,0.27,6,-999.,9,-999.,9,-999.,9,-999,9,-999,9
49UF20150202,KS15-02,4397,1,21,21980,2,20150212,1434,24.2373,147.2715,5803,304.1,302,16.7341,34.6845,2,-999.,9,205.00,2,4.81,2,5.51,2,0.01,2,0.36,2,-999.,9,-999.,9,-999.,9,-999,9,-999,9
49UF20150202,KS15-02,4397,1,19,21978,2,20150212,1430,24.2373,147.2715,5803,409.5,406,14.0426,34.4680,2,-999.,9,190.17,2,11.26,2,10.90,2,0.00,2,0.75,2,-999.,9,-999.,9,-999.,9,-999,9,-999,9
49UF20150202,KS15-02,4397,1,20,21979,2,20150212,1430,24.2373,147.2715,5803,410.5,407,14.0408,34.4678,2,-999.,9,189.91,2,11.30,2,10.94,2,0.00,2,0.75,2,-999.,9,-999.,9,-999.,9,-999,9,-999,9
49UF20150202,KS15-02,4397,1,15,21974,2,20150212,1426,24.2373,147.2715,5803,506.6,503,10.5187,34.2285,2,-999.,9,172.37,2,24.24,2,18.55,2,0.00,2,1.31,2,-999.,9,-999.,9,-999.,9,-999,9,-999,9
49UF20150202,KS15-02,4397,1,14,21973,2,20150212,1424,24.2373,147.2715,5803,607.5,603,7.7496,34.1180,2,-999.,9,128.45,2,45.77,2,27.62,2,0.00,2,1.97,2,-999.,9,-999.,9,-999.,9,-999,9,-999,9
49UF20150202,KS15-02,4397,1,13,21972,3,20150212,1421,24.2373,147.2715,5803,709.4,704,5.8071,34.1079,2,-999.,9,94.09,2,71.05,2,34.26,2,0.00,2,2.46,2,-999.,9,-999.,9,-999.,9,-999,9,-999,9
49UF20150202,KS15-02,4397,1,12,21994,2,20150212,1418,24.2373,147.2715,5803,810.4,804,5.0478,34.1851,2,-999.,9,66.08,2,87.30,2,38.05,2,0.00,2,2.73,2,-999.,9,-999.,9,-999.,9,-999,9,-999,9
49UF20150202,KS15-02,4397,1,11,21970,2,20150212,1416,24.2373,147.2715,5803,909.8,902,4.3741,34.2733,2,-999.,9,51.70,2,103.03,2,40.26,2,0.00,2,2.89,2,-999.,9,-999.,9,-999.,9,-999,9,-999,9
49UF20150202,KS15-02,4397,1,10,21969,2,20150212,1415,24.2373,147.2715,5803,910.3,903,4.3722,34.2742,2,-999.,9,52.14,2,102.69,2,40.20,2,0.00,2,2.88,2,-999.,9,-999.,9,-999.,9,-999,9,-999,9
49UF20150202,KS15-02,4397,1,6,24474,2,20150212,1413,24.2373,147.2715,5803,1010.1,1001,3.9469,34.3449,2,-999.,9,48.97,2,113.79,2,41.11,2,0.00,2,2.94,2,-999.,9,-999.,9,-999.,9,-999,9,-999,9
49UF20150202,KS15-02,4397,1,5,24272,2,20150212,1409,24.2373,147.2715,5803,1215.6,1204,3.2839,34.4482,2,-999.,9,56.64,2,128.87,2,41.34,2,0.00,2,2.94,2,-999.,9,-999.,9,-999.,9,-999,9,-999,9
49UF20150202,KS15-02,4397,1,4,21963,2,20150212,1404,24.2373,147.2715,5803,1417.7,1404,2.7452,34.5095,2,-999.,9,67.85,6,139.67,6,40.98,6,0.00,6,2.90,6,-999.,9,-999.,9,-999.,9,-999,9,-999,9
49UF20150202,KS15-02,4397,1,3,24269,2,20150212,1400,24.2373,147.2715,5803,1618.3,1602,2.3794,34.5544,2,-999.,9,81.63,2,145.15,2,40.24,2,0.00,2,2.84,2,-999.,9,-999.,9,-999.,9,-999,9,-999,9
49UF20150202,KS15-02,4397,1,2,21961,2,20150212,1356,24.2373,147.2715,5803,1820.0,1801,2.1228,34.5837,2,-999.,9,90.97,2,148.88,2,39.75,2,0.00,2,2.80,2,-999.,9,-999.,9,-999.,9,-999,9,-999,9
49UF20150202,KS15-02,4397,1,1,21960,2,20150212,1352,24.2373,147.2715,5803,2023.3,2001,1.9489,34.6078,2,-999.,9,105.10,4,150.06,2,39.19,2,0.00,2,2.75,2,-999.,9,-999.,9,-999.,9,-999,9,-999,9