BOTTLE,20171117JMAGEMD
EXPOCODE,SECT_ID,STNNBR,CASTNO,SAMPNO,BTLNBR,BTLNBR_FLAG_W,DATE,TIME,LATITUDE,LONGITUDE,DEPTH,CTDPRS,CTDDEP,CTDTMP,CTDSAL,CTDSAL_FLAG_W,SALNTY,SALNTY_FLAG_W,OXYGEN,OXYGEN_FLAG_W,SILCAT,SILCAT_FLAG_W,NO2+NO3,NO2+NO3_FLAG_W,NITRIT,NITRIT_FLAG_W,PHSPHT,PHSPHT_FLAG_W,TCARBN,TCARBN_FLAG_W,ALKALI,ALKALI_FLAG_W,PH_TOT,PH_TOT_FLAG_W,CFC-11,CFC-11_FLAG_W,CFC-12,CFC-12_FLAG_W
,,,,,,,UTC,UTC,,,METER,DBAR,METERS,ITS-90,PSS-78,,PSS-78,,UMOL/KG,,UMOL/KG,,UMOL/KG,,UMOL/KG,,UMOL/KG,,UMOL/KG,,UMOL/KG,,@25DEG-C,,PMOL/KG,,PMOL/KG,
49UF20150202,KS15-02,4405,1,-999,0,2,20150215,1455,24.2568,142.4625,2953,0.0,0,20.9337,34.9146,2,-999.0000,9,222.26,2,1.62,2,0.04,2,0.00,2,0.02,2,-999.,9,-999.,9,-999.,9,-999,9,-999,9
49UF20150202,KS15-02,4405,1,33,21992,2,20150215,1519,24.2568,142.4625,2953,10.0,10,20.9427,34.9148,2,34.9142,2,221.98,2,1.64,2,0.03,2,0.00,2,0.02,2,-999.,9,-999.,9,-999.,9,-999,9,-999,9
49UF20150202,KS15-02,4405,1,32,21991,2,20150215,1518,24.2568,142.4625,2953,26.4,26,20.9249,34.9118,2,-999.0000,9,221.78,2,1.60,2,0.00,2,0.00,2,0.02,2,-999.,9,-999.,9,-999.,9,-999,9,-999,9
49UF20150202,KS15-02,4405,1,31,24270,2,20150215,1515,24.2568,142.4625,2953,51.2,51,20.8497,34.9053,2,-999.0000,9,222.28,2,1.65,2,0.02,2,0.00,2,0.01,2,-999.,9,-999.,9,-999.,9,-999,9,-999,9
49UF20150202,KS15-02,4405,1,27,21986,2,20150215,1514,24.2568,142.4625,2953,76.0,76,20.8051,34.9057,2,-999.0000,9,222.17,2,1.72,2,0.04,2,0.00,2,0.02,2,-999.,9,-999.,9,-999.,9,-999,9,-999,9
49UF20150202,KS15-02,4405,1,26,24271,2,20150215,1512,24.2568,142.4625,2953,101.1,100,20.2524,34.8537,2,34.8534,6,222.87,2,1.92,2,0.13,2,0.02,2,0.03,2,-999.,9,-999.,9,-999.,9,-999,9,-999,9
49UF20150202,KS15-02,4405,1,25,21984,2,20150215,1511,24.2568,142.4625,2953,125.4,125,19.0603,34.7698,2,-999.0000,9,208.25,2,2.74,2,2.12,2,0.04,2,0.16,2,-999.,9,-999.,9,-999.,9,-999,9,-999,9
49UF20150202,KS15-02,4405,1,24,21983,2,20150215,1510,24.2568,142.4625,2953,150.3,149,18.4527,34.7692,2,-999.0000,9,203.16,2,3.18,2,3.11,2,0.02,2,0.22,2,-999.,9,-999.,9,-999.,9,-999,9,-999,9
49UF20150202,KS15-02,4405,1,23,22095,2,20150215,1507,24.2568,142.4625,2953,201.2,200,17.3270,34.7249,2,34.7246,2,210.38,2,3.90,2,4.08,2,0.01,2,0.27,2,-999.,9,-999.,9,-999.,9,-999,9,-999,9
49UF20150202,KS15-02,4405,1,22,22665,3,20150215,1505,24.2568,142.4625,2953,251.3,250,16.7800,34.7014,2,-999.0000,9,213.24,2,4.52,2,4.76,2,0.01,2,0.32,2,-999.,9,-999.,9,-999.,9,-999,9,-999,9
49UF20150202,KS15-02,4405,1,21,21980,2,20150215,1503,24.2568,142.4625,2953,304.0,302,15.9023,34.6251,2,-999.0000,9,200.22,2,7.35,2,7.30,2,0.01,2,0.50,2,-999.,9,-999.,9,-999.,9,-999,9,-999,9
49UF20150202,KS15-02,4405,1,20,21979,2,20150215,1459,24.2568,142.4625,2953,403.6,401,13.7187,34.4695,2,34.4702,2,184.27,2,15.20,2,12.38,2,0.00,2,0.85,2,-999.,9,-999.,9,-999.,9,-999,9,-999,9
49UF20150202,KS15-02,4405,1,19,21978,2,20150215,1456,24.2568,142.4625,2953,504.3,500,10.7509,34.2622,2,-999.0000,9,176.88,2,26.87,2,17.89,2,0.00,2,1.26,2,-999.,9,-999.,9,-999.,9,-999,9,-999,9
49UF20150202,KS15-02,4405,1,15,21974,2,20150215,1452,24.2568,142.4625,2953,606.6,602,7.8599,34.0963,2,34.0970,6,154.66,6,45.16,6,24.90,6,0.00,6,1.79,6,-999.,9,-999.,9,-999.,9,-999,9,-999,9
49UF20150202,KS15-02,4405,1,14,21973,2,20150215,1449,24.2568,142.4625,2953,708.3,703,6.4453,34.1210,2,34.1215,2,111.40,2,65.02,2,31.43,2,0.00,2,2.25,2,-999.,9,-999.,9,-999.,9,-999,9,-999,9
49UF20150202,KS15-02,4405,1,13,21972,2,20150215,1449,24.2568,142.4625,2953,709.4,704,6.4250,34.1211,2,34.1219,2,111.93,2,64.82,2,31.38,2,0.00,2,2.26,2,-999.,9,-999.,9,-999.,9,-999,9,-999,9
49UF20150202,KS15-02,4405,1,12,21994,2,20150215,1446,24.2568,142.4625,2953,809.7,803,4.9635,34.1876,2,34.1881,2,71.18,2,89.54,2,37.55,2,0.00,2,2.70,2,-999.,9,-999.,9,-999.,9,-999,9,-999,9
49UF20150202,KS15-02,4405,1,11,21970,2,20150215,1443,24.2568,142.4625,2953,912.1,904,4.3327,34.2945,2,-999.0000,9,53.67,2,104.12,2,40.11,2,0.00,2,2.88,2,-999.,9,-999.,9,-999.,9,-999,9,-999,9
49UF20150202,KS15-02,4405,1,10,21969,2,20150215,1441,24.2568,142.4625,2953,1012.0,1003,3.9206,34.3638,2,34.3636,6,51.80,2,113.74,2,40.82,2,0.00,2,2.92,2,-999.,9,-999.,9,-999.,9,-999,9,-999,9
49UF20150202,KS15-02,4405,1,6,24474,2,20150215,1435,24.2568,142.4625,2953,1214.5,1203,3.2657,34.4323,2,34.4324,2,55.92,6,129.17,6,41.18,6,0.00,6,2.93,6,-999.,9,-999.,9,-999.,9,-999,9,-999,9
49UF20150202,KS15-02,4405,1,4,21963,2,20150215,1431,24.2568,142.4625,2953,1414.8,1401,2.7675,34.5006,2,34.5032,2,67.94,2,139.01,2,40.80,2,0.00,2,2.89,2,-999.,9,-999.,9,-999.,9,-999,9,-999,9
49UF20150202,KS15-02,4405,1,5,24272,2,20150215,1431,24.2568,142.4625,2953,1419.4,1406,2.7635,34.5036,2,34.5029,2,67.86,2,139.01,2,40.92,2,0.00,2,2.89,2,-999.,9,-999.,9,-999.,9,-999,9,-999,9
49UF20150202,KS15-02,4405,1,3,24269,2,20150215,1426,24.2568,142.4625,2953,1621.3,1605,2.3908,34.5480,2,34.5470,6,79.73,2,145.15,2,40.34,2,0.00,2,2.85,2,-999.,9,-999.,9,-999.,9,-999,9,-999,9
49UF20150202,KS15-02,4405,1,2,21961,2,20150215,1422,24.2568,142.4625,2953,1825.6,1806,2.1092,34.5817,2,34.5821,2,90.40,2,149.67,2,39.79,2,0.00,2,2.80,2,-999.,9,-999.,9,-999.,9,-999,9,-999,9
49UF20150202,KS15-02,4405,1,1,21960,2,20150215,1417,24.2568,142.4625,2953,2026.6,2004,1.9287,34.6062,2,34.6077,2,101.80,2,150.91,2,39.12,2,0.00,2,2.74,2,-999.,9,-999.,9,-999.,9,-999,9,-999,9
49UF20150202,KS15-02,4407,1,-999,0,2,20150215,1036,24.2383,141.2148,1803,0.0,0,20.0809,34.8384,2,-999.,9,224.66,2,1.76,2,0.00,2,0.02,2,0.02,2,-999.,9,-999.,9,-999.,9,-999,9,-999,9
49UF20150202,KS15-02,4407,1,32,22105,2,20150215,0046,24.2383,141.2148,1803,12.5,12,20.0810,34.8384,2,-999.,9,224.30,2,1.81,2,0.09,2,0.04,2,0.02,2,-999.,9,-999.,9,-999.,9,-999,9,-999,9
49UF20150202,KS15-02,4407,1,31,22104,2,20150215,0043,24.2383,141.2148,1803,51.3,51,19.9513,34.8212,2,-999.,9,222.78,2,1.87,2,0.28,2,0.11,2,0.03,2,-999.,9,-999.,9,-999.,9,-999,9,-999,9
49UF20150202,KS15-02,4407,1,27,22100,2,20150215,0041,24.2383,141.2148,1803,75.8,75,19.8382,34.8191,2,-999.,9,222.26,2,1.87,2,0.39,2,0.14,2,0.04,2,-999.,9,-999.,9,-999.,9,-999,9,-999,9
49UF20150202,KS15-02,4407,1,26,22099,2,20150215,0038,24.2383,141.2148,1803,102.8,102,19.5682,34.8016,2,-999.,9,220.76,2,1.97,2,0.67,2,0.16,2,0.06,2,-999.,9,-999.,9,-999.,9,-999,9,-999,9
49UF20150202,KS15-02,4407,1,25,22098,2,20150215,0036,24.2383,141.2148,1803,127.4,127,18.9423,34.7711,2,-999.,9,210.62,2,2.65,2,2.06,2,0.05,2,0.15,2,-999.,9,-999.,9,-999.,9,-999,9,-999,9
49UF20150202,KS15-02,4407,1,24,22097,2,20150215,0035,24.2383,141.2148,1803,154.4,153,18.5146,34.7629,2,-999.,9,206.07,2,2.97,2,2.81,2,0.02,2,0.20,2,-999.,9,-999.,9,-999.,9,-999,9,-999,9
49UF20150202,KS15-02,4407,1,23,22096,2,20150215,0033,24.2383,141.2148,1803,203.7,202,17.8534,34.7376,2,-999.,9,206.92,2,3.56,2,3.71,2,0.02,2,0.25,2,-999.,9,-999.,9,-999.,9,-999,9,-999,9
49UF20150202,KS15-02,4407,1,22,22095,2,20150215,0031,24.2383,141.2148,1803,255.6,254,17.1453,34.7107,2,-999.,9,208.44,2,4.29,2,4.62,2,0.01,2,0.31,2,-999.,9,-999.,9,-999.,9,-999,9,-999,9
49UF20150202,KS15-02,4407,1,21,22094,2,20150215,0029,24.2383,141.2148,1803,304.2,302,16.6812,34.6858,2,-999.,9,208.70,2,5.12,2,5.31,2,0.01,2,0.35,2,-999.,9,-999.,9,-999.,9,-999,9,-999,9
49UF20150202,KS15-02,4407,1,20,22093,2,20150215,0026,24.2383,141.2148,1803,404.7,402,14.2906,34.5066,2,-999.,9,186.44,2,12.93,2,11.15,2,0.01,2,0.76,2,-999.,9,-999.,9,-999.,9,-999,9,-999,9
49UF20150202,KS15-02,4407,1,19,22092,2,20150215,0023,24.2383,141.2148,1803,507.9,504,11.2692,34.3245,2,-999.,9,170.26,2,28.06,2,17.61,2,0.00,2,1.24,2,-999.,9,-999.,9,-999.,9,-999,9,-999,9
49UF20150202,KS15-02,4407,1,15,22088,2,20150215,0020,24.2383,141.2148,1803,609.7,605,8.2147,34.1487,2,-999.,9,148.28,2,45.30,2,24.73,2,0.00,2,1.78,2,-999.,9,-999.,9,-999.,9,-999,9,-999,9
49UF20150202,KS15-02,4407,1,14,22087,2,20150215,0017,24.2383,141.2148,1803,709.6,704,6.1960,34.1315,2,-999.,9,106.31,6,69.24,6,32.23,6,0.00,6,2.32,6,-999.,9,-999.,9,-999.,9,-999,9,-999,9
49UF20150202,KS15-02,4407,1,12,22074,2,20150215,0014,24.2383,141.2148,1803,810.7,804,4.9983,34.2079,2,-999.,9,75.03,2,89.93,2,36.86,2,0.00,2,2.66,2,-999.,9,-999.,9,-999.,9,-999,9,-999,9
49UF20150202,KS15-02,4407,1,13,22086,2,20150215,0014,24.2383,141.2148,1803,812.0,805,4.9602,34.2126,2,-999.,9,74.81,2,90.38,2,36.91,2,0.00,2,2.66,2,-999.,9,-999.,9,-999.,9,-999,9,-999,9
49UF20150202,KS15-02,4407,1,11,22110,2,20150215,0011,24.2383,141.2148,1803,910.0,902,4.2510,34.2730,2,-999.,9,63.86,2,107.64,2,38.94,2,0.00,2,2.79,2,-999.,9,-999.,9,-999.,9,-999,9,-999,9
49UF20150202,KS15-02,4407,1,10,22083,2,20150215,0008,24.2383,141.2148,1803,1015.1,1006,3.9038,34.3126,2,-999.,9,58.67,2,115.27,2,39.79,2,0.00,2,2.85,2,-999.,9,-999.,9,-999.,9,-999,9,-999,9
49UF20150202,KS15-02,4407,1,6,22079,2,20150215,0003,24.2383,141.2148,1803,1214.3,1203,3.1003,34.4369,2,-999.,9,60.20,2,132.42,2,40.81,2,0.00,2,2.91,2,-999.,9,-999.,9,-999.,9,-999,9,-999,9
49UF20150202,KS15-02,4407,1,5,22078,2,20150215,2359,24.2383,141.2148,1803,1416.1,1402,2.7068,34.5021,2,-999.,9,70.17,6,139.73,6,40.55,6,0.00,6,2.88,6,-999.,9,-999.,9,-999.,9,-999,9,-999,9
49UF20150202,KS15-02,4407,1,3,22076,2,20150215,2354,24.2383,141.2148,1803,1618.3,1602,2.3630,34.5551,2,-999.,9,88.52,2,142.47,2,39.58,2,0.00,2,2.80,2,-999.,9,-999.,9,-999.,9,-999,9,-999,9
49UF20150202,KS15-02,4407,1,4,22077,2,20150215,2354,24.2383,141.2148,1803,1618.5,1602,2.3623,34.5553,2,-999.,9,88.75,2,142.56,2,39.55,2,0.00,2,2.80,2,-999.,9,-999.,9,-999.,9,-999,9,-999,9
49UF20150202,KS15-02,4407,1,2,22075,2,20150215,2350,24.2383,141.2148,1803,1806.9,1788,2.1166,34.5933,2,-999.,9,104.00,2,143.72,2,38.72,2,0.00,2,2.73,2,-999.,9,-999.,9,-999.,9,-999,9,-999,9
49UF20150202,KS15-02,4409,1,-999,0,2,20150216,0902,24.2345,140.2908,4016,0.0,0,22.2263,34.9562,2,34.9581,4,216.49,2,1.34,2,0.00,2,0.01,2,0.03,2,1981.8,2,2294.8,2,8.0720,2,-999,9,-999,9
49UF20150202,KS15-02,4409,1,33,21992,2,20150216,0935,24.2345,140.2908,4016,11.6,12,22.2288,34.9548,2,34.9472,6,216.20,2,1.32,2,0.00,2,0.00,2,0.02,2,1981.8,2,2293.1,2,8.0669,2,-999,9,-999,9
49UF20150202,KS15-02,4409,1,32,21991,2,20150216,0933,24.2345,140.2908,4016,27.0,27,21.6160,34.9226,2,-999.0000,9,218.43,2,1.41,2,0.00,2,0.00,2,0.02,2,1984.9,2,2292.0,2,8.0687,2,-999,9,-999,9
49UF20150202,KS15-02,4409,1,31,24270,2,20150216,0929,24.2345,140.2908,4016,51.2,51,20.6749,34.8865,2,-999.0000,9,223.49,2,1.56,2,0.00,2,0.01,2,0.02,2,1987.2,2,2290.6,2,8.0559,2,-999,9,-999,9
49UF20150202,KS15-02,4409,1,27,21986,2,20150216,0928,24.2345,140.2908,4016,76.6,76,19.8260,34.8380,2,-999.0000,9,226.64,2,1.82,2,0.04,2,0.05,2,0.03,2,1995.4,2,2286.1,2,8.0375,2,-999,9,-999,9
49UF20150202,KS15-02,4409,1,26,24271,2,20150216,0927,24.2345,140.2908,4016,102.4,102,19.4768,34.8102,2,34.8105,2,226.03,2,1.96,2,0.27,2,0.18,2,0.04,2,1999.4,2,2286.3,2,8.0344,2,-999,9,-999,9
49UF20150202,KS15-02,4409,1,25,21984,2,20150216,0925,24.2345,140.2908,4016,127.6,127,19.3767,34.8024,2,-999.0000,9,225.96,2,1.97,2,0.35,2,0.23,2,0.04,2,1999.1,2,2283.4,2,8.0288,2,-999,9,-999,9
49UF20150202,KS15-02,4409,1,24,21983,2,20150216,0924,24.2345,140.2908,4016,151.9,151,19.3666,34.8099,2,-999.0000,9,226.71,2,1.92,2,0.19,2,0.14,2,0.04,2,1997.1,2,2283.3,2,8.0331,2,-999,9,-999,9
49UF20150202,KS15-02,4409,1,23,22095,2,20150216,0922,24.2345,140.2908,4016,204.4,203,18.4083,34.7505,2,34.7515,6,208.06,2,3.14,2,2.86,2,0.03,2,0.21,2,2021.8,2,2279.3,2,7.9813,2,-999,9,-999,9
49UF20150202,KS15-02,4409,1,22,22665,2,20150216,0919,24.2345,140.2908,4016,254.5,253,17.4327,34.7267,2,-999.0000,9,208.09,2,3.79,2,4.07,2,0.01,2,0.28,2,2031.6,2,2278.8,2,7.9613,2,-999,9,-999,9
49UF20150202,KS15-02,4409,1,21,21980,3,20150216,0917,24.2345,140.2908,4016,306.4,304,16.7913,34.6933,2,-999.0000,9,208.89,2,4.84,2,5.05,2,0.01,2,0.34,2,2037.6,2,2277.2,2,7.9461,2,-999,9,-999,9
49UF20150202,KS15-02,4409,1,20,21979,2,20150216,0913,24.2345,140.2908,4016,406.5,404,15.0128,34.5585,2,34.5602,2,191.35,2,10.58,2,9.53,2,0.00,2,0.65,2,2069.7,2,2273.4,2,7.8756,6,-999,9,-999,9
49UF20150202,KS15-02,4409,1,19,21978,2,20150216,0910,24.2345,140.2908,4016,507.4,504,11.6997,34.3242,2,-999.0000,9,180.94,2,21.43,2,15.73,2,0.00,2,1.10,2,2116.9,6,2273.8,6,7.7758,2,-999,9,-999,9
49UF20150202,KS15-02,4409,1,15,21974,2,20150216,0907,24.2345,140.2908,4016,608.8,604,7.8756,34.0921,2,34.0947,2,154.47,2,44.10,2,24.84,2,0.00,2,1.78,2,2184.0,2,2280.1,2,7.6236,2,-999,9,-999,9
49UF20150202,KS15-02,4409,1,14,21973,2,20150216,0903,24.2345,140.2908,4016,710.5,705,6.1698,34.0976,2,-999.0000,9,115.50,2,67.47,2,31.52,2,0.00,2,2.27,2,2240.7,2,2301.1,2,7.5202,2,-999,9,-999,9
49UF20150202,KS15-02,4409,1,13,21972,2,20150216,0900,24.2345,140.2908,4016,810.1,803,4.8595,34.2076,2,34.2064,6,73.78,6,93.06,6,37.39,6,0.00,6,2.68,6,2294.1,2,2328.1,2,7.4330,2,-999,9,-999,9
49UF20150202,KS15-02,4409,1,11,21970,2,20150216,0857,24.2345,140.2908,4016,909.9,902,4.2319,34.2777,2,34.2769,2,58.56,2,107.12,2,39.61,2,0.00,2,2.84,2,2321.4,2,2344.4,2,7.4025,2,-999,9,-999,9
49UF20150202,KS15-02,4409,1,12,21994,2,20150216,0857,24.2345,140.2908,4016,911.5,904,4.2315,34.2784,2,34.2780,2,58.80,2,107.37,2,39.63,2,0.00,2,2.84,2,2320.1,2,2344.3,2,7.4039,2,-999,9,-999,9
49UF20150202,KS15-02,4409,1,10,21969,3,20150216,0853,24.2345,140.2908,4016,1010.8,1002,3.7462,34.3380,2,34.3379,2,54.37,2,118.78,2,40.59,2,0.00,2,2.90,2,2336.5,2,2358.6,2,7.4034,2,-999,9,-999,9
49UF20150202,KS15-02,4409,1,6,24474,2,20150216,0848,24.2345,140.2908,4016,1214.8,1204,3.0636,34.4296,2,34.4303,6,51.55,2,135.79,2,41.72,2,0.00,2,2.97,2,2358.3,2,2378.3,2,7.3969,2,-999,9,-999,9
49UF20150202,KS15-02,4409,1,5,24272,2,20150216,0843,24.2345,140.2908,4016,1418.0,1404,2.6443,34.5101,2,34.5105,2,71.81,6,140.95,6,40.68,6,0.00,6,2.88,6,2354.7,2,2391.7,2,7.4335,2,-999,9,-999,9
49UF20150202,KS15-02,4409,1,4,21963,2,20150216,0837,24.2345,140.2908,4016,1619.9,1603,2.3433,34.5601,2,34.5618,2,89.41,2,143.32,2,39.75,2,0.00,2,2.80,2,2348.9,2,2398.9,2,7.4713,6,-999,9,-999,9
49UF20150202,KS15-02,4409,1,3,24269,2,20150216,0833,24.2345,140.2908,4016,1820.6,1801,2.1605,34.5903,2,34.5917,2,101.99,2,143.59,2,39.01,2,0.00,2,2.74,2,2345.2,2,2404.5,2,7.4967,2,-999,9,-999,9
49UF20150202,KS15-02,4409,1,2,21961,2,20150216,0833,24.2345,140.2908,4016,1820.7,1801,2.1608,34.5904,2,34.5910,2,102.19,2,143.60,2,38.96,2,0.00,2,2.74,2,2347.1,2,2403.7,2,7.4980,2,-999,9,-999,9
49UF20150202,KS15-02,4409,1,1,21960,2,20150216,0828,24.2345,140.2908,4016,2023.3,2001,1.9789,34.6157,2,34.6174,2,114.16,2,143.79,2,38.34,2,0.00,2,2.68,2,2340.4,6,2408.1,6,7.5217,2,-999,9,-999,9
49UF20150202,KS15-02,4411,1,-999,0,2,20150216,2025,24.248,138.5885,4931,0.0,0,20.9124,34.9191,2,-999.,9,222.16,2,1.57,2,0.03,2,0.00,2,0.02,2,-999.,9,-999.,9,-999.,9,-999,9,-999,9
49UF20150202,KS15-02,4411,1,33,21992,2,20150216,2049,24.248,138.5885,4931,11.6,12,20.9187,34.9181,2,-999.,9,221.68,2,1.57,2,0.00,2,0.00,2,0.01,2,-999.,9,-999.,9,-999.,9,-999,9,-999,9
49UF20150202,KS15-02,4411,1,32,21991,2,20150216,2048,24.248,138.5885,4931,26.5,26,20.6419,34.8856,2,-999.,9,221.38,2,1.68,2,0.07,2,0.01,2,0.02,2,-999.,9,-999.,9,-999.,9,-999,9,-999,9
49UF20150202,KS15-02,4411,1,31,24270,2,20150216,2047,24.248,138.5885,4931,51.3,51,20.3731,34.8620,2,-999.,9,221.59,2,1.71,2,0.19,2,0.05,2,0.02,2,-999.,9,-999.,9,-999.,9,-999,9,-999,9
49UF20150202,KS15-02,4411,1,27,21986,2,20150216,2045,24.248,138.5885,4931,77.6,77,19.9055,34.8543,2,-999.,9,199.09,2,2.29,2,1.91,2,0.02,2,0.14,2,-999.,9,-999.,9,-999.,9,-999,9,-999,9
49UF20150202,KS15-02,4411,1,26,24271,2,20150216,2044,24.248,138.5885,4931,101.7,101,19.1262,34.8074,2,-999.,9,201.72,2,2.61,2,2.54,2,0.02,2,0.17,2,-999.,9,-999.,9,-999.,9,-999,9,-999,9
49UF20150202,KS15-02,4411,1,25,21984,2,20150216,2039,24.248,138.5885,4931,130.5,130,18.4307,34.7645,2,-999.,9,205.73,2,3.03,2,3.07,2,0.02,2,0.21,2,-999.,9,-999.,9,-999.,9,-999,9,-999,9
49UF20150202,KS15-02,4411,1,24,21983,2,20150216,2038,24.248,138.5885,4931,151.5,150,18.0767,34.7555,2,-999.,9,204.08,2,3.35,2,3.69,2,0.01,2,0.24,2,-999.,9,-999.,9,-999.,9,-999,9,-999,9
49UF20150202,KS15-02,4411,1,23,22095,2,20150216,2036,24.248,138.5885,4931,203.5,202,17.4630,34.7267,2,-999.,9,204.15,2,3.96,2,4.57,2,0.01,2,0.29,2,-999.,9,-999.,9,-999.,9,-999,9,-999,9
49UF20150202,KS15-02,4411,1,22,22665,2,20150216,2034,24.248,138.5885,4931,253.6,252,16.9511,34.6972,2,-999.,9,203.50,2,4.85,2,5.47,2,0.01,2,0.35,2,-999.,9,-999.,9,-999.,9,-999,9,-999,9
49UF20150202,KS15-02,4411,1,21,21980,2,20150216,2032,24.248,138.5885,4931,307.1,305,16.1171,34.6367,2,-999.,9,196.74,2,6.83,2,7.28,2,0.00,2,0.48,2,-999.,9,-999.,9,-999.,9,-999,9,-999,9
49UF20150202,KS15-02,4411,1,20,21979,2,20150216,2030,24.248,138.5885,4931,403.0,400,14.1006,34.4901,2,-999.,9,185.21,2,12.95,2,11.61,2,0.00,2,0.79,2,-999.,9,-999.,9,-999.,9,-999,9,-999,9
49UF20150202,KS15-02,4411,1,19,21978,2,20150216,2027,24.248,138.5885,4931,507.2,503,10.9897,34.2890,2,-999.,9,170.97,2,25.97,2,18.09,2,0.00,2,1.26,2,-999.,9,-999.,9,-999.,9,-999,9,-999,9
49UF20150202,KS15-02,4411,1,15,21974,2,20150216,2024,24.248,138.5885,4931,605.0,600,7.8181,34.1354,2,-999.,9,139.40,2,48.98,2,26.52,2,0.00,2,1.89,2,-999.,9,-999.,9,-999.,9,-999,9,-999,9
49UF20150202,KS15-02,4411,1,14,21973,2,20150216,2021,24.248,138.5885,4931,709.8,704,6.0907,34.1226,2,-999.,9,106.06,2,69.65,2,32.58,2,0.00,2,2.34,2,-999.,9,-999.,9,-999.,9,-999,9,-999,9
49UF20150202,KS15-02,4411,1,13,21972,2,20150216,2019,24.248,138.5885,4931,808.7,802,4.9303,34.1905,2,-999.,9,76.36,2,91.38,2,37.07,2,0.00,2,2.66,2,-999.,9,-999.,9,-999.,9,-999,9,-999,9
49UF20150202,KS15-02,4411,1,12,21994,2,20150216,2016,24.248,138.5885,4931,909.3,902,4.2712,34.2684,2,-999.,9,61.15,6,106.43,6,39.28,6,0.00,6,2.81,6,-999.,9,-999.,9,-999.,9,-999,9,-999,9
49UF20150202,KS15-02,4411,1,10,21969,2,20150216,2013,24.248,138.5885,4931,1012.0,1003,3.7610,34.3322,2,-999.,9,53.23,2,118.20,2,40.64,2,0.00,2,2.90,2,-999.,9,-999.,9,-999.,9,-999,9,-999,9
49UF20150202,KS15-02,4411,1,11,21970,2,20150216,2014,24.248,138.5885,4931,1012.5,1004,3.7601,34.3321,2,-999.,9,53.06,2,118.43,2,40.64,2,0.00,2,2.90,2,-999.,9,-999.,9,-999.,9,-999,9,-999,9
49UF20150202,KS15-02,4411,1,6,24474,2,20150216,2009,24.248,138.5885,4931,1214.3,1203,3.0378,34.4378,2,-999.,9,52.94,2,135.69,2,41.58,2,0.00,2,2.96,2,-999.,9,-999.,9,-999.,9,-999,9,-999,9
49UF20150202,KS15-02,4411,1,5,24272,2,20150216,2004,24.248,138.5885,4931,1415.0,1401,2.5991,34.5030,2,-999.,9,63.95,2,144.26,2,41.21,2,0.00,2,2.92,2,-999.,9,-999.,9,-999.,9,-999,9,-999,9
49UF20150202,KS15-02,4411,1,4,21963,2,20150216,2000,24.248,138.5885,4931,1619.4,1603,2.2658,34.5577,2,-999.,9,83.11,6,146.98,6,40.18,6,0.00,6,2.84,6,-999.,9,-999.,9,-999.,9,-999,9,-999,9
49UF20150202,KS15-02,4411,1,3,24269,2,20150216,1955,24.248,138.5885,4931,1823.2,1804,2.0402,34.5940,2,-999.,9,100.03,2,146.99,2,39.20,2,0.00,2,2.76,2,-999.,9,-999.,9,-999.,9,-999,9,-999,9
49UF20150202,KS15-02,4411,1,2,21961,2,20150216,1951,24.248,138.5885,4931,2024.4,2002,1.8711,34.6237,2,-999.,9,117.63,2,144.53,2,38.08,2,0.00,2,2.67,2,-999.,9,-999.,9,-999.,9,-999,9,-999,9
49UF20150202,KS15-02,4411,1,1,21960,2,20150216,1950,24.248,138.5885,4931,2024.5,2002,1.8710,34.6236,2,-999.,9,117.77,2,144.53,2,38.08,2,0.00,2,2.66,2,-999.,9,-999.,9,-999.,9,-999,9,-999,9