BOTTLE,20171117JMAGEMD
EXPOCODE,SECT_ID,STNNBR,CASTNO,SAMPNO,BTLNBR,BTLNBR_FLAG_W,DATE,TIME,LATITUDE,LONGITUDE,DEPTH,CTDPRS,CTDDEP,CTDTMP,CTDSAL,CTDSAL_FLAG_W,SALNTY,SALNTY_FLAG_W,OXYGEN,OXYGEN_FLAG_W,SILCAT,SILCAT_FLAG_W,NO2+NO3,NO2+NO3_FLAG_W,NITRIT,NITRIT_FLAG_W,PHSPHT,PHSPHT_FLAG_W,TCARBN,TCARBN_FLAG_W,ALKALI,ALKALI_FLAG_W,PH_TOT,PH_TOT_FLAG_W,CFC-11,CFC-11_FLAG_W,CFC-12,CFC-12_FLAG_W
,,,,,,,UTC,UTC,,,METER,DBAR,METERS,ITS-90,PSS-78,,PSS-78,,UMOL/KG,,UMOL/KG,,UMOL/KG,,UMOL/KG,,UMOL/KG,,UMOL/KG,,UMOL/KG,,@25DEG-C,,PMOL/KG,,PMOL/KG,
49UF20150202,KS15-02,4399,1,-999,0,2,20150212,2335,24.2603,146.0582,5700,0.0,0,23.0774,34.9798,2,-999.,9,213.31,2,1.33,2,0.06,2,0.00,2,0.02,2,-999.,9,-999.,9,-999.,9,-999,9,-999,9
49UF20150202,KS15-02,4399,1,33,21992,2,20150212,2357,24.2603,146.0582,5700,11.8,12,23.0766,34.9792,2,-999.,9,213.02,2,1.29,2,0.02,2,0.00,2,0.02,2,-999.,9,-999.,9,-999.,9,-999,9,-999,9
49UF20150202,KS15-02,4399,1,32,21991,2,20150212,2356,24.2603,146.0582,5700,27.0,27,23.0791,34.9795,2,-999.,9,213.25,2,1.31,2,0.18,2,0.00,2,0.02,2,-999.,9,-999.,9,-999.,9,-999,9,-999,9
49UF20150202,KS15-02,4399,1,31,24270,2,20150212,2353,24.2603,146.0582,5700,53.3,53,22.8158,34.9770,2,-999.,9,214.25,2,1.38,2,0.07,2,0.00,2,0.02,2,-999.,9,-999.,9,-999.,9,-999,9,-999,9
49UF20150202,KS15-02,4399,1,30,21989,2,20150212,2351,24.2603,146.0582,5700,75.8,75,22.5477,34.9681,2,-999.,9,214.81,2,1.38,2,0.12,2,0.00,2,0.01,2,-999.,9,-999.,9,-999.,9,-999,9,-999,9
49UF20150202,KS15-02,4399,1,29,21988,2,20150212,2350,24.2603,146.0582,5700,102.1,101,22.2836,34.9581,2,-999.,9,211.97,2,1.56,2,0.05,2,0.01,2,0.03,2,-999.,9,-999.,9,-999.,9,-999,9,-999,9
49UF20150202,KS15-02,4399,1,28,21987,2,20150212,2349,24.2603,146.0582,5700,127.6,127,21.2492,34.8741,2,-999.,9,209.14,2,1.87,2,0.51,2,0.08,2,0.05,2,-999.,9,-999.,9,-999.,9,-999,9,-999,9
49UF20150202,KS15-02,4399,1,24,21983,2,20150212,2347,24.2603,146.0582,5700,152.0,151,19.9562,34.8488,2,-999.,9,199.01,2,2.46,2,1.98,2,0.03,2,0.15,2,-999.,9,-999.,9,-999.,9,-999,9,-999,9
49UF20150202,KS15-02,4399,1,23,22095,2,20150212,2346,24.2603,146.0582,5700,200.8,199,17.8421,34.7506,2,-999.,9,204.94,2,3.43,2,3.81,2,0.01,2,0.26,2,-999.,9,-999.,9,-999.,9,-999,9,-999,9
49UF20150202,KS15-02,4399,1,22,22665,2,20150212,2344,24.2603,146.0582,5700,252.7,251,17.0531,34.7141,2,-999.,9,213.61,2,4.02,2,4.32,2,0.01,2,0.29,2,-999.,9,-999.,9,-999.,9,-999,9,-999,9
49UF20150202,KS15-02,4399,1,21,21980,2,20150212,2342,24.2603,146.0582,5700,307.1,305,16.5715,34.6808,2,-999.,9,209.30,6,5.18,6,5.46,6,0.00,6,0.37,6,-999.,9,-999.,9,-999.,9,-999,9,-999,9
49UF20150202,KS15-02,4399,1,20,21979,2,20150212,2340,24.2603,146.0582,5700,403.5,401,14.0662,34.4780,2,-999.,9,188.24,2,11.99,2,11.14,2,0.00,2,0.77,2,-999.,9,-999.,9,-999.,9,-999,9,-999,9
49UF20150202,KS15-02,4399,1,15,21974,2,20150212,2336,24.2603,146.0582,5700,504.9,501,10.6528,34.2551,2,-999.,9,176.29,2,26.17,2,18.08,2,0.00,2,1.27,2,-999.,9,-999.,9,-999.,9,-999,9,-999,9
49UF20150202,KS15-02,4399,1,19,21978,2,20150212,2337,24.2603,146.0582,5700,505.2,501,10.6388,34.2544,2,-999.,9,175.91,2,26.09,2,18.07,2,0.00,2,1.27,2,-999.,9,-999.,9,-999.,9,-999,9,-999,9
49UF20150202,KS15-02,4399,1,14,21973,2,20150212,2334,24.2603,146.0582,5700,606.5,602,8.0190,34.0968,2,-999.,9,156.87,2,42.96,2,24.63,2,0.00,2,1.76,2,-999.,9,-999.,9,-999.,9,-999,9,-999,9
49UF20150202,KS15-02,4399,1,13,21972,3,20150212,2331,24.2603,146.0582,5700,707.8,702,5.7186,34.0905,2,-999.,9,102.32,2,72.40,2,33.62,2,0.00,2,2.42,2,-999.,9,-999.,9,-999.,9,-999,9,-999,9
49UF20150202,KS15-02,4399,1,12,21994,2,20150212,2329,24.2603,146.0582,5700,809.1,802,4.7183,34.1900,2,-999.,9,66.91,2,93.60,2,38.16,2,0.00,2,2.75,2,-999.,9,-999.,9,-999.,9,-999,9,-999,9
49UF20150202,KS15-02,4399,1,11,21970,2,20150212,2326,24.2603,146.0582,5700,910.0,902,4.2126,34.2723,2,-999.,9,52.32,2,107.00,2,40.28,2,0.00,2,2.89,2,-999.,9,-999.,9,-999.,9,-999,9,-999,9
49UF20150202,KS15-02,4399,1,6,24474,2,20150212,2323,24.2603,146.0582,5700,1010.8,1002,3.6769,34.3573,2,-999.,9,46.82,2,120.50,2,41.39,2,0.00,2,2.96,2,-999.,9,-999.,9,-999.,9,-999,9,-999,9
49UF20150202,KS15-02,4399,1,10,21969,2,20150212,2323,24.2603,146.0582,5700,1010.9,1002,3.6739,34.3579,2,-999.,9,47.58,2,120.32,2,41.41,2,0.00,2,2.96,2,-999.,9,-999.,9,-999.,9,-999,9,-999,9
49UF20150202,KS15-02,4399,1,5,24272,2,20150212,2319,24.2603,146.0582,5700,1213.5,1202,3.0463,34.4467,2,-999.,9,51.36,2,135.71,2,41.65,2,0.00,2,2.97,2,-999.,9,-999.,9,-999.,9,-999,9,-999,9
49UF20150202,KS15-02,4399,1,4,21963,2,20150212,2314,24.2603,146.0582,5700,1415.9,1402,2.6856,34.5019,2,-999.,9,61.64,2,142.56,2,41.32,2,0.00,2,2.93,2,-999.,9,-999.,9,-999.,9,-999,9,-999,9
49UF20150202,KS15-02,4399,1,3,24269,2,20150212,2310,24.2603,146.0582,5700,1618.1,1602,2.3629,34.5442,2,-999.,9,72.73,6,148.56,6,40.89,6,0.00,6,2.90,6,-999.,9,-999.,9,-999.,9,-999,9,-999,9
49UF20150202,KS15-02,4399,1,2,21961,2,20150212,2306,24.2603,146.0582,5700,1823.2,1804,2.0922,34.5821,2,-999.,9,87.30,2,151.49,2,40.11,2,0.00,2,2.82,2,-999.,9,-999.,9,-999.,9,-999,9,-999,9
49UF20150202,KS15-02,4399,1,1,21960,2,20150212,2301,24.2603,146.0582,5700,2026.0,2003,1.8963,34.6110,2,-999.,9,102.10,2,152.03,2,39.17,2,0.00,2,2.75,2,-999.,9,-999.,9,-999.,9,-999,9,-999,9
49UF20150202,KS15-02,4401,1,-999,0,2,20150213,1145,24.2453,144.8712,5290,0.0,0,21.9692,34.9525,2,34.9676,4,217.93,2,1.47,2,0.00,2,0.00,2,0.01,2,1985.3,2,2293.8,2,8.0751,2,-999,9,-999,9
49UF20150202,KS15-02,4401,1,36,21995,2,20150213,1215,24.2453,144.8712,5290,11.0,11,21.9805,34.9512,2,34.9500,2,217.55,2,1.48,2,0.00,2,0.00,2,0.01,2,1985.4,2,2293.7,2,8.0641,2,-999,9,-999,9
49UF20150202,KS15-02,4401,1,35,22087,2,20150213,1214,24.2453,144.8712,5290,27.6,27,21.9802,34.9507,2,34.9510,2,217.65,2,1.42,2,0.00,2,0.00,2,0.02,2,1984.3,2,2295.0,2,8.0741,2,-999,9,-999,9
49UF20150202,KS15-02,4401,1,34,22666,2,20150213,1213,24.2453,144.8712,5290,51.1,51,21.7973,34.9377,2,34.9453,2,217.65,2,1.52,2,0.00,2,0.00,2,0.01,2,1981.3,2,2295.4,2,8.0665,2,-999,9,-999,9
49UF20150202,KS15-02,4401,1,33,21992,2,20150213,1211,24.2453,144.8712,5290,76.3,76,20.8534,34.8414,2,34.8415,2,218.35,2,1.85,2,0.07,2,0.04,2,0.03,2,1992.9,2,2286.7,2,8.0418,2,-999,9,-999,9
49UF20150202,KS15-02,4401,1,32,21991,2,20150213,1208,24.2453,144.8712,5290,101.0,100,19.7715,34.8287,2,34.8288,2,201.71,2,2.45,2,1.86,2,0.05,2,0.15,2,2023.0,2,2284.9,2,7.9953,2,-999,9,-999,9
49UF20150202,KS15-02,4401,1,31,24270,2,20150213,1206,24.2453,144.8712,5290,125.9,125,19.0412,34.7978,2,34.7998,2,202.29,2,2.80,2,2.52,2,0.03,2,0.18,2,2026.0,2,2284.2,2,7.9810,2,-999,9,-999,9
49UF20150202,KS15-02,4401,1,30,21989,3,20150213,1205,24.2453,144.8712,5290,151.2,150,18.2959,34.7718,2,34.7720,2,199.97,2,3.32,2,3.58,2,0.01,2,0.25,2,2035.1,2,2281.2,2,7.9669,2,-999,9,-999,9
49UF20150202,KS15-02,4401,1,29,21988,2,20150213,1202,24.2453,144.8712,5290,203.4,202,17.4031,34.7244,2,34.7236,2,199.20,2,4.27,2,4.96,2,0.01,2,0.34,2,2042.6,2,2278.0,2,7.9443,2,-999,9,-999,9
49UF20150202,KS15-02,4401,1,28,21987,3,20150213,1201,24.2453,144.8712,5290,254.8,253,16.8812,34.6928,2,34.6925,2,203.07,2,4.84,2,5.45,2,0.01,2,0.37,2,2043.5,2,2276.5,2,7.9403,6,-999,9,-999,9
49UF20150202,KS15-02,4401,1,27,21986,2,20150213,1159,24.2453,144.8712,5290,304.8,303,16.0076,34.6261,2,34.6273,2,196.05,2,7.10,2,7.51,2,0.00,2,0.51,2,2058.5,6,2276.2,6,7.9068,2,-999,9,-999,9
49UF20150202,KS15-02,4401,1,26,24271,2,20150213,1155,24.2453,144.8712,5290,405.9,403,12.7096,34.3849,2,34.3881,2,182.22,6,16.33,6,13.84,6,0.00,6,0.96,6,2102.9,2,2270.1,2,7.8009,2,-999,9,-999,9
49UF20150202,KS15-02,4401,1,25,21984,2,20150213,1152,24.2453,144.8712,5290,505.9,502,10.3386,34.2351,2,34.2380,2,171.91,2,27.55,2,18.91,2,0.00,2,1.34,2,2140.3,2,2275.2,2,7.7215,2,-999,9,-999,9
49UF20150202,KS15-02,4401,1,24,21983,2,20150213,1149,24.2453,144.8712,5290,607.1,602,7.8695,34.1310,2,34.1326,2,142.18,2,47.79,2,26.15,2,0.00,2,1.87,2,2197.1,2,2287.1,2,7.6051,2,-999,9,-999,9
49UF20150202,KS15-02,4401,1,23,22095,2,20150213,1146,24.2453,144.8712,5290,708.3,703,6.0125,34.1216,2,34.1205,2,105.22,2,70.79,2,32.73,2,0.00,2,2.35,2,2251.6,2,2305.8,2,7.5003,2,-999,9,-999,9
49UF20150202,KS15-02,4401,1,22,22665,2,20150213,1143,24.2453,144.8712,5290,809.2,802,4.7401,34.2060,2,34.2050,2,69.15,2,94.63,2,37.99,2,0.00,2,2.73,2,2302.7,2,2330.5,2,7.4239,2,-999,9,-999,9
49UF20150202,KS15-02,4401,1,21,21980,2,20150213,1140,24.2453,144.8712,5290,910.3,903,4.0998,34.2993,2,34.2985,2,53.78,2,110.23,2,40.22,2,0.00,2,2.88,2,2330.7,2,2347.1,2,7.3943,2,-999,9,-999,9
49UF20150202,KS15-02,4401,1,20,21979,2,20150213,1137,24.2453,144.8712,5290,1010.9,1002,3.7653,34.3773,2,34.3760,2,51.67,2,117.72,2,41.05,2,0.00,2,2.93,2,2341.7,2,2360.0,2,7.3992,2,-999,9,-999,9
49UF20150202,KS15-02,4401,1,19,21978,2,20150213,1132,24.2453,144.8712,5290,1214.0,1203,3.1414,34.4544,2,34.4530,2,57.82,2,132.03,2,41.28,2,0.00,2,2.93,2,2354.1,2,2377.4,2,7.4094,2,-999,9,-999,9
49UF20150202,KS15-02,4401,1,18,21977,2,20150213,1126,24.2453,144.8712,5290,1416.3,1402,2.6976,34.5137,2,34.5130,2,69.85,2,140.17,2,40.77,2,0.00,2,2.89,2,2355.9,3,2390.0,2,7.4358,6,-999,9,-999,9
49UF20150202,KS15-02,4401,1,17,23679,2,20150213,1121,24.2453,144.8712,5290,1618.3,1602,2.3842,34.5508,2,34.5514,2,80.21,2,145.79,2,40.40,2,0.00,2,2.85,2,2357.6,6,2398.3,6,7.4539,2,-999,9,-999,9
49UF20150202,KS15-02,4401,1,16,21975,2,20150213,1116,24.2453,144.8712,5290,1819.8,1800,2.1279,34.5820,2,34.5825,2,90.52,2,149.27,2,39.81,2,0.00,2,2.80,2,2356.0,2,2402.4,2,7.4733,2,-999,9,-999,9
49UF20150202,KS15-02,4401,1,15,21974,2,20150213,1110,24.2453,144.8712,5290,2024.3,2002,1.9209,34.6100,2,34.6109,6,102.93,2,150.76,2,39.17,2,0.00,2,2.75,2,2355.2,2,2408.0,2,7.4955,2,-999,9,-999,9
49UF20150202,KS15-02,4401,1,14,21973,2,20150213,1104,24.2453,144.8712,5290,2278.0,2251,1.8022,34.6287,2,34.6298,2,113.41,2,150.44,2,38.50,2,0.00,2,2.70,2,2348.2,2,2411.6,2,7.5144,2,-999,9,-999,9
49UF20150202,KS15-02,4401,1,13,21972,3,20150213,1057,24.2453,144.8712,5290,2534.1,2503,1.7122,34.6420,2,34.6435,2,120.70,2,150.77,2,38.16,2,0.00,2,2.66,2,2345.5,2,2412.5,2,7.5258,2,-999,9,-999,9
49UF20150202,KS15-02,4401,1,12,21994,2,20150213,1051,24.2453,144.8712,5290,2787.1,2751,1.6175,34.6557,2,34.6569,2,130.49,2,150.31,2,37.50,2,0.00,2,2.61,2,2340.3,2,2413.7,2,7.5446,2,-999,9,-999,9
49UF20150202,KS15-02,4401,1,11,21970,2,20150213,1045,24.2453,144.8712,5290,3043.6,3003,1.5592,34.6646,2,34.6651,2,136.90,2,149.40,2,37.09,2,0.00,2,2.58,2,2336.4,2,2413.6,2,7.5548,2,-999,9,-999,9
49UF20150202,KS15-02,4401,1,10,21969,2,20150213,1040,24.2453,144.8712,5290,3298.8,3252,1.5303,34.6694,2,34.6677,2,140.61,6,148.61,6,36.88,6,0.00,6,2.56,6,2331.7,2,2413.6,2,7.5610,2,-999,9,-999,9
49UF20150202,KS15-02,4401,1,9,21968,2,20150213,1034,24.2453,144.8712,5290,3554.5,3502,1.4901,34.6757,2,34.6759,6,147.53,2,147.18,2,36.26,2,0.00,2,2.52,2,2332.0,3,2412.9,2,7.5719,2,-999,9,-999,9
49UF20150202,KS15-02,4401,1,8,21982,2,20150213,1028,24.2453,144.8712,5290,3809.5,3751,1.4715,34.6798,2,34.6800,2,151.92,2,146.04,2,36.02,2,0.00,2,2.50,2,2326.6,2,2412.8,2,7.5773,6,-999,9,-999,9
49UF20150202,KS15-02,4401,1,7,21966,2,20150213,1022,24.2453,144.8712,5290,4066.0,4002,1.4699,34.6824,2,34.6816,2,155.03,2,144.56,2,35.84,2,0.00,2,2.49,2,2325.1,6,2412.1,6,7.5844,2,-999,9,-999,9
49UF20150202,KS15-02,4401,1,6,24474,2,20150213,1016,24.2453,144.8712,5290,4322.0,4251,1.4708,34.6848,2,34.6846,2,158.87,2,142.89,2,35.39,2,0.00,2,2.46,2,2321.1,2,2410.2,2,7.5891,2,-999,9,-999,9
49UF20150202,KS15-02,4401,1,5,24272,2,20150213,1011,24.2453,144.8712,5290,4579.4,4502,1.4737,34.6871,2,34.6896,4,162.27,2,141.36,2,35.35,2,0.00,2,2.45,2,2317.8,2,2409.0,2,7.5917,2,-999,9,-999,9
49UF20150202,KS15-02,4401,1,4,21963,3,20150213,1005,24.2453,144.8712,5290,4835.3,4751,1.4797,34.6893,2,34.6896,2,166.03,2,139.03,2,35.09,2,0.00,2,2.43,2,2311.5,2,2405.9,2,7.5994,2,-999,9,-999,9
49UF20150202,KS15-02,4401,1,3,24269,2,20150213,1000,24.2453,144.8712,5290,5093.2,5001,1.4871,34.6912,2,34.6917,6,169.23,2,136.99,2,34.83,2,0.00,2,2.41,2,2309.4,2,2403.8,2,7.6028,2,-999,9,-999,9
49UF20150202,KS15-02,4401,1,2,21961,2,20150213,0954,24.2453,144.8712,5290,5350.2,5251,1.5029,34.6926,2,34.6923,2,171.23,6,135.43,6,34.65,6,0.00,6,2.39,6,2307.6,2,2402.0,2,7.6036,2,-999,9,-999,9
49UF20150202,KS15-02,4401,1,1,21960,2,20150213,0953,24.2453,144.8712,5290,5394.1,5293,1.5072,34.6928,2,34.6932,6,172.40,2,135.00,2,34.48,2,0.00,2,2.39,2,2308.9,2,2402.6,2,7.6064,2,-999,9,-999,9
49UF20150202,KS15-02,4403,1,-999,0,2,20150215,0537,24.2485,143.6397,8503,0.0,0,22.5296,35.0029,2,-999.,9,215.92,2,1.35,2,0.00,2,0.00,2,0.02,2,-999.,9,-999.,9,-999.,9,-999,9,-999,9
49UF20150202,KS15-02,4403,1,33,21992,2,20150215,0558,24.2485,143.6397,8503,10.6,11,22.5357,35.0037,2,-999.,9,215.04,2,1.38,2,0.00,2,0.00,2,0.02,2,-999.,9,-999.,9,-999.,9,-999,9,-999,9
49UF20150202,KS15-02,4403,1,32,21991,2,20150215,0557,24.2485,143.6397,8503,26.6,26,22.5353,35.0039,2,-999.,9,215.00,2,1.36,2,0.00,2,0.00,2,0.02,2,-999.,9,-999.,9,-999.,9,-999,9,-999,9
49UF20150202,KS15-02,4403,1,31,24270,2,20150215,0554,24.2485,143.6397,8503,51.1,51,22.3642,34.9982,2,-999.,9,215.84,2,1.47,2,0.00,2,0.00,2,0.01,2,-999.,9,-999.,9,-999.,9,-999,9,-999,9
49UF20150202,KS15-02,4403,1,27,21986,2,20150215,0552,24.2485,143.6397,8503,76.3,76,22.2616,35.0003,2,-999.,9,216.34,2,1.37,2,0.00,2,0.00,2,0.02,2,-999.,9,-999.,9,-999.,9,-999,9,-999,9
49UF20150202,KS15-02,4403,1,26,24271,2,20150215,0551,24.2485,143.6397,8503,101.5,101,20.9480,34.8979,2,-999.,9,221.41,2,1.76,2,0.00,2,0.00,2,0.01,2,-999.,9,-999.,9,-999.,9,-999,9,-999,9
49UF20150202,KS15-02,4403,1,25,21984,2,20150215,0550,24.2485,143.6397,8503,124.4,124,20.1037,34.8450,2,-999.,9,223.07,2,1.95,2,0.07,2,0.07,2,0.03,2,-999.,9,-999.,9,-999.,9,-999,9,-999,9
49UF20150202,KS15-02,4403,1,24,21983,2,20150215,0549,24.2485,143.6397,8503,151.0,150,19.1869,34.8216,2,-999.,9,199.55,2,2.75,2,2.48,2,0.02,2,0.19,2,-999.,9,-999.,9,-999.,9,-999,9,-999,9
49UF20150202,KS15-02,4403,1,23,22095,2,20150215,0547,24.2485,143.6397,8503,201.7,200,17.9716,34.7484,2,-999.,9,206.34,2,3.46,2,3.21,2,0.01,2,0.24,2,-999.,9,-999.,9,-999.,9,-999,9,-999,9
49UF20150202,KS15-02,4403,1,22,22665,2,20150215,0545,24.2485,143.6397,8503,253.9,252,17.1013,34.7109,2,-999.,9,209.22,2,4.22,2,4.46,2,0.00,2,0.31,2,-999.,9,-999.,9,-999.,9,-999,9,-999,9
49UF20150202,KS15-02,4403,1,21,21980,2,20150215,0543,24.2485,143.6397,8503,303.1,301,16.2088,34.6398,2,-999.,9,197.58,2,6.62,2,6.88,2,0.00,2,0.48,2,-999.,9,-999.,9,-999.,9,-999,9,-999,9
49UF20150202,KS15-02,4403,1,20,21979,2,20150215,0540,24.2485,143.6397,8503,403.1,400,13.8842,34.4754,2,-999.,9,188.25,2,13.61,2,11.53,2,0.00,2,0.80,2,-999.,9,-999.,9,-999.,9,-999,9,-999,9
49UF20150202,KS15-02,4403,1,19,21978,2,20150215,0537,24.2485,143.6397,8503,503.7,500,10.6583,34.2560,2,-999.,9,176.65,6,25.95,6,17.75,6,0.00,6,1.27,6,-999.,9,-999.,9,-999.,9,-999,9,-999,9
49UF20150202,KS15-02,4403,1,15,21974,2,20150215,0534,24.2485,143.6397,8503,605.0,600,7.5572,34.1159,2,-999.,9,136.47,2,50.13,2,26.99,2,0.00,2,1.95,2,-999.,9,-999.,9,-999.,9,-999,9,-999,9
49UF20150202,KS15-02,4403,1,14,21973,2,20150215,0534,24.2485,143.6397,8503,605.1,600,7.5568,34.1157,2,-999.,9,136.26,2,50.26,2,26.99,2,0.00,2,1.95,2,-999.,9,-999.,9,-999.,9,-999,9,-999,9
49UF20150202,KS15-02,4403,1,13,21972,2,20150215,0531,24.2485,143.6397,8503,706.8,701,5.8929,34.1291,2,-999.,9,94.92,2,72.06,2,33.74,2,0.00,2,2.44,2,-999.,9,-999.,9,-999.,9,-999,9,-999,9
49UF20150202,KS15-02,4403,1,12,21994,2,20150215,0528,24.2485,143.6397,8503,808.1,801,4.9556,34.1996,2,-999.,9,69.40,2,89.60,2,37.51,2,0.00,2,2.71,2,-999.,9,-999.,9,-999.,9,-999,9,-999,9
49UF20150202,KS15-02,4403,1,11,21970,2,20150215,0525,24.2485,143.6397,8503,908.7,901,4.3194,34.2944,2,-999.,9,53.58,2,104.33,2,39.88,2,0.00,2,2.88,2,-999.,9,-999.,9,-999.,9,-999,9,-999,9
49UF20150202,KS15-02,4403,1,10,21969,3,20150215,0522,24.2485,143.6397,8503,1009.1,1000,3.8417,34.3724,2,-999.,9,51.68,6,115.40,6,40.70,6,0.00,6,2.93,6,-999.,9,-999.,9,-999.,9,-999,9,-999,9
49UF20150202,KS15-02,4403,1,5,24272,2,20150215,0517,24.2485,143.6397,8503,1212.3,1201,3.1735,34.4573,2,-999.,9,58.46,2,130.65,2,40.97,2,0.00,2,2.93,2,-999.,9,-999.,9,-999.,9,-999,9,-999,9
49UF20150202,KS15-02,4403,1,6,24474,2,20150215,0517,24.2485,143.6397,8503,1213.6,1202,3.1698,34.4576,2,-999.,9,58.36,2,130.86,2,40.97,2,0.00,2,2.93,2,-999.,9,-999.,9,-999.,9,-999,9,-999,9
49UF20150202,KS15-02,4403,1,4,21963,2,20150215,0512,24.2485,143.6397,8503,1414.2,1400,2.7113,34.5076,2,-999.,9,67.38,2,140.57,2,40.74,2,0.00,2,2.90,2,-999.,9,-999.,9,-999.,9,-999,9,-999,9
49UF20150202,KS15-02,4403,1,3,24269,2,20150215,0508,24.2485,143.6397,8503,1617.6,1601,2.3780,34.5471,2,-999.,9,77.44,2,146.44,2,40.39,2,0.00,2,2.86,2,-999.,9,-999.,9,-999.,9,-999,9,-999,9
49UF20150202,KS15-02,4403,1,2,21961,2,20150215,0503,24.2485,143.6397,8503,1821.6,1802,2.1252,34.5836,2,-999.,9,92.03,2,148.38,2,39.58,2,0.00,2,2.79,2,-999.,9,-999.,9,-999.,9,-999,9,-999,9
49UF20150202,KS15-02,4403,1,1,21960,3,20150215,0458,24.2485,143.6397,8503,2027.1,2004,1.9537,34.6077,2,-999.,9,103.02,2,149.13,2,38.90,2,0.00,2,2.74,2,-999.,9,-999.,9,-999.,9,-999,9,-999,9