BOTTLE,20171117JMAGEMD
EXPOCODE,SECT_ID,STNNBR,CASTNO,SAMPNO,BTLNBR,BTLNBR_FLAG_W,DATE,TIME,LATITUDE,LONGITUDE,DEPTH,CTDPRS,CTDDEP,CTDTMP,CTDSAL,CTDSAL_FLAG_W,SALNTY,SALNTY_FLAG_W,OXYGEN,OXYGEN_FLAG_W,SILCAT,SILCAT_FLAG_W,NO2+NO3,NO2+NO3_FLAG_W,NITRIT,NITRIT_FLAG_W,PHSPHT,PHSPHT_FLAG_W,TCARBN,TCARBN_FLAG_W,ALKALI,ALKALI_FLAG_W,PH_TOT,PH_TOT_FLAG_W,CFC-11,CFC-11_FLAG_W,CFC-12,CFC-12_FLAG_W
,,,,,,,UTC,UTC,,,METER,DBAR,METERS,ITS-90,PSS-78,,PSS-78,,UMOL/KG,,UMOL/KG,,UMOL/KG,,UMOL/KG,,UMOL/KG,,UMOL/KG,,UMOL/KG,,@25DEG-C,,PMOL/KG,,PMOL/KG,
49UF20150202,KS15-02,4374,1,-999,0,2,20150206,0153,24.265,158.4327,5794,0.0,0,23.0669,35.2605,2,-999.0000,9,214.64,2,0.84,2,0.09,2,0.00,2,0.01,2,-999.,9,-999.,9,-999.,9,-999,9,-999,9
49UF20150202,KS15-02,4374,1,33,21992,2,20150206,0219,24.265,158.4327,5794,10.4,10,23.0482,35.2594,2,35.2583,2,214.51,2,0.86,2,0.04,2,0.00,2,0.01,2,-999.,9,-999.,9,-999.,9,-999,9,-999,9
49UF20150202,KS15-02,4374,1,32,21991,2,20150206,0217,24.265,158.4327,5794,25.4,25,23.0087,35.2585,2,-999.0000,9,214.25,2,0.83,2,0.03,2,0.00,2,0.01,2,-999.,9,-999.,9,-999.,9,-999,9,-999,9
49UF20150202,KS15-02,4374,1,31,24270,2,20150206,0213,24.265,158.4327,5794,49.4,49,22.9967,35.2567,2,-999.0000,9,213.98,6,0.83,6,0.03,6,0.00,6,0.01,6,-999.,9,-999.,9,-999.,9,-999,9,-999,9
49UF20150202,KS15-02,4374,1,30,21989,2,20150206,0211,24.265,158.4327,5794,75.7,75,22.9668,35.2471,2,35.2467,2,214.24,2,0.78,2,0.12,2,0.00,2,0.01,2,-999.,9,-999.,9,-999.,9,-999,9,-999,9
49UF20150202,KS15-02,4374,1,29,21988,2,20150206,0211,24.265,158.4327,5794,76.0,76,22.9699,35.2477,2,35.2461,2,214.19,2,0.87,2,0.00,2,0.00,2,0.01,2,-999.,9,-999.,9,-999.,9,-999,9,-999,9
49UF20150202,KS15-02,4374,1,28,21987,3,20150206,0210,24.265,158.4327,5794,100.3,100,21.6850,35.0450,2,35.0555,2,214.04,2,1.16,2,0.18,2,0.03,2,0.03,2,-999.,9,-999.,9,-999.,9,-999,9,-999,9
49UF20150202,KS15-02,4374,1,24,21983,2,20150206,0209,24.265,158.4327,5794,125.7,125,18.5510,34.8018,2,-999.0000,9,205.08,2,2.23,2,2.07,2,0.03,2,0.16,2,-999.,9,-999.,9,-999.,9,-999,9,-999,9
49UF20150202,KS15-02,4374,1,23,22095,2,20150206,0207,24.265,158.4327,5794,152.5,151,17.7114,34.7389,2,-999.0000,9,207.09,2,2.70,2,3.38,2,0.02,2,0.23,2,-999.,9,-999.,9,-999.,9,-999,9,-999,9
49UF20150202,KS15-02,4374,1,22,22665,2,20150206,0206,24.265,158.4327,5794,203.0,202,16.9771,34.7074,2,34.7054,2,213.44,2,3.41,2,4.35,2,0.01,2,0.29,2,-999.,9,-999.,9,-999.,9,-999,9,-999,9
49UF20150202,KS15-02,4374,1,21,21980,4,20150206,0204,24.265,158.4327,5794,251.8,250,16.5966,34.6838,2,-999.0000,9,214.28,4,0.65,4,0.00,4,0.00,4,0.01,4,-999.,9,-999.,9,-999.,9,-999,9,-999,9
49UF20150202,KS15-02,4374,1,20,21979,2,20150206,0202,24.265,158.4327,5794,302.7,301,15.5645,34.5929,2,-999.0000,9,199.73,2,7.13,2,7.83,2,0.00,2,0.53,2,-999.,9,-999.,9,-999.,9,-999,9,-999,9
49UF20150202,KS15-02,4374,1,19,21978,2,20150206,0159,24.265,158.4327,5794,405.0,402,13.2939,34.4212,2,34.4216,6,193.58,2,12.76,2,11.89,2,0.00,2,0.82,2,-999.,9,-999.,9,-999.,9,-999,9,-999,9
49UF20150202,KS15-02,4374,1,15,21974,2,20150206,0156,24.265,158.4327,5794,507.4,504,10.0715,34.1979,2,-999.0000,9,183.80,2,25.33,2,18.32,2,0.00,2,1.28,2,-999.,9,-999.,9,-999.,9,-999,9,-999,9
49UF20150202,KS15-02,4374,1,14,21973,2,20150206,0153,24.265,158.4327,5794,606.8,602,7.1254,34.0665,2,34.0670,2,134.97,2,49.78,2,28.27,2,0.00,2,2.02,2,-999.,9,-999.,9,-999.,9,-999,9,-999,9
49UF20150202,KS15-02,4374,1,13,21972,2,20150206,0150,24.265,158.4327,5794,708.4,703,5.5243,34.0940,2,34.0945,2,88.02,2,74.09,2,35.36,2,0.00,2,2.53,2,-999.,9,-999.,9,-999.,9,-999,9,-999,9
49UF20150202,KS15-02,4374,1,12,21994,2,20150206,0147,24.265,158.4327,5794,809.8,803,4.5565,34.1922,2,34.1928,6,55.84,2,95.95,2,39.64,2,0.00,2,2.84,2,-999.,9,-999.,9,-999.,9,-999,9,-999,9
49UF20150202,KS15-02,4374,1,11,21970,2,20150206,0144,24.265,158.4327,5794,909.9,902,4.0125,34.2951,2,-999.0000,9,41.95,2,110.88,2,41.65,2,0.00,2,2.97,2,-999.,9,-999.,9,-999.,9,-999,9,-999,9
49UF20150202,KS15-02,4374,1,6,24474,2,20150206,0141,24.265,158.4327,5794,1011.9,1003,3.7692,34.3582,2,34.3578,2,41.61,2,117.59,2,41.98,2,0.00,2,2.99,2,-999.,9,-999.,9,-999.,9,-999,9,-999,9
49UF20150202,KS15-02,4374,1,10,21969,2,20150206,0141,24.265,158.4327,5794,1013.0,1004,3.7689,34.3582,2,34.3585,2,42.18,2,117.52,2,41.94,2,0.00,2,2.99,2,-999.,9,-999.,9,-999.,9,-999,9,-999,9
49UF20150202,KS15-02,4374,1,5,24272,2,20150206,0136,24.265,158.4327,5794,1213.5,1202,3.2550,34.4666,2,34.4676,2,54.76,2,128.59,2,41.63,2,0.00,2,2.95,2,-999.,9,-999.,9,-999.,9,-999,9,-999,9
49UF20150202,KS15-02,4374,1,4,21963,2,20150206,0131,24.265,158.4327,5794,1416.0,1402,2.6906,34.5310,2,34.5310,6,71.65,2,138.99,2,40.84,2,0.00,2,2.88,2,-999.,9,-999.,9,-999.,9,-999,9,-999,9
49UF20150202,KS15-02,4374,1,3,24269,4,20150206,0127,24.265,158.4327,5794,1619.2,1603,2.3294,34.5732,2,34.4656,4,54.70,4,128.49,4,41.60,4,0.00,4,2.95,4,-999.,9,-999.,9,-999.,9,-999,9,-999,9
49UF20150202,KS15-02,4374,1,2,21961,2,20150206,0122,24.265,158.4327,5794,1818.8,1799,2.0913,34.5999,2,34.6002,2,97.00,2,147.60,2,39.67,2,0.00,2,2.77,2,-999.,9,-999.,9,-999.,9,-999,9,-999,9
49UF20150202,KS15-02,4374,1,1,21960,2,20150206,0118,24.265,158.4327,5794,2024.1,2002,1.9477,34.6161,2,34.6165,6,104.38,6,149.36,6,39.23,6,0.00,6,2.74,6,-999.,9,-999.,9,-999.,9,-999,9,-999,9
49UF20150202,KS15-02,4376,1,-999,0,2,20150206,1456,24.2648,160.0488,5478,0.0,0,23.0987,35.2943,2,35.3041,4,213.78,2,1.07,2,0.00,2,0.00,2,0.02,2,1993.0,2,2314.0,2,8.0774,2,-999,9,-999,9
49UF20150202,KS15-02,4376,1,36,21995,2,20150206,1527,24.2648,160.0488,5478,10.4,10,23.1023,35.2936,2,35.2922,2,213.00,2,1.04,2,0.00,2,0.00,2,0.01,2,1994.8,2,2312.7,2,8.0813,2,-999,9,-999,9
49UF20150202,KS15-02,4376,1,35,22087,2,20150206,1526,24.2648,160.0488,5478,25.9,26,23.0948,35.2915,2,35.2917,2,213.23,2,1.08,2,0.00,2,0.00,2,0.02,2,1992.1,2,2316.4,2,8.0880,2,-999,9,-999,9
49UF20150202,KS15-02,4376,1,34,22666,2,20150206,1522,24.2648,160.0488,5478,50.5,50,23.0678,35.2863,2,35.2848,2,213.15,2,1.11,2,0.00,2,0.00,2,0.02,2,1994.6,2,2315.6,2,8.0759,2,-999,9,-999,9
49UF20150202,KS15-02,4376,1,33,21992,2,20150206,1521,24.2648,160.0488,5478,75.0,75,22.5449,35.2113,2,35.2130,2,214.51,2,1.18,2,0.00,2,0.00,2,0.02,2,1997.6,2,2312.3,2,8.0725,2,-999,9,-999,9
49UF20150202,KS15-02,4376,1,32,21991,2,20150206,1519,24.2648,160.0488,5478,100.8,100,22.1241,35.2334,2,35.2329,2,216.28,6,1.23,6,0.00,6,0.00,6,0.02,6,2003.5,2,2313.8,2,8.0650,2,-999,9,-999,9
49UF20150202,KS15-02,4376,1,31,24270,2,20150206,1518,24.2648,160.0488,5478,126.1,125,21.6503,35.1936,2,35.1937,2,215.87,2,1.33,2,0.00,2,0.01,2,0.02,2,2014.6,2,2310.6,2,8.0591,2,-999,9,-999,9
49UF20150202,KS15-02,4376,1,30,21989,2,20150206,1516,24.2648,160.0488,5478,151.8,151,19.7136,34.9379,2,34.9602,4,201.02,2,2.01,2,1.04,2,0.03,2,0.12,2,2035.3,2,2294.4,2,7.9872,2,-999,9,-999,9
49UF20150202,KS15-02,4376,1,29,21988,2,20150206,1515,24.2648,160.0488,5478,203.4,202,17.6553,34.7507,2,34.7493,2,203.31,2,3.28,2,3.73,2,0.01,2,0.28,2,2044.9,2,2285.3,2,7.9477,2,-999,9,-999,9
49UF20150202,KS15-02,4376,1,28,21987,2,20150206,1512,24.2648,160.0488,5478,252.4,251,16.4921,34.6646,2,34.6642,2,209.77,2,4.63,2,5.24,2,0.00,2,0.37,2,2046.3,2,2276.8,2,7.9393,2,-999,9,-999,9
49UF20150202,KS15-02,4376,1,27,21986,2,20150206,1510,24.2648,160.0488,5478,301.9,300,15.3960,34.5672,2,34.5648,2,201.10,2,7.01,2,7.59,2,0.00,2,0.54,2,2063.6,2,2270.8,2,7.8961,2,-999,9,-999,9
49UF20150202,KS15-02,4376,1,26,24271,2,20150206,1507,24.2648,160.0488,5478,403.5,401,12.8055,34.3621,2,34.3637,2,193.76,2,12.93,2,12.18,2,0.00,2,0.87,2,2095.6,2,2267.9,2,7.8096,2,-999,9,-999,9
49UF20150202,KS15-02,4376,1,25,21984,3,20150206,1504,24.2648,160.0488,5478,505.2,501,9.2742,34.1481,2,34.1480,2,160.64,2,30.12,2,21.74,2,0.00,2,1.56,2,2159.5,2,2270.9,2,7.6643,6,-999,9,-999,9
49UF20150202,KS15-02,4376,1,24,21983,2,20150206,1501,24.2648,160.0488,5478,605.8,601,7.1328,34.0925,2,34.0925,2,117.87,2,51.40,2,29.63,2,0.00,2,2.14,2,2225.6,6,2286.8,6,7.5330,2,-999,9,-999,9
49UF20150202,KS15-02,4376,1,23,22095,2,20150206,1458,24.2648,160.0488,5478,705.6,700,5.7687,34.1276,2,34.1276,2,79.13,2,72.09,2,35.63,2,0.00,2,2.57,2,2272.4,2,2308.6,2,7.4439,2,-999,9,-999,9
49UF20150202,KS15-02,4376,1,22,22665,2,20150206,1455,24.2648,160.0488,5478,807.0,800,4.9172,34.2220,2,34.2199,6,54.01,2,89.74,2,39.27,2,0.00,2,2.84,2,2311.0,2,2328.6,2,7.3968,2,-999,9,-999,9
49UF20150202,KS15-02,4376,1,21,21980,2,20150206,1452,24.2648,160.0488,5478,909.7,902,4.4985,34.3467,2,34.3481,2,47.23,2,99.81,2,40.61,2,0.00,2,2.93,2,2329.0,2,2347.8,2,7.3964,2,-999,9,-999,9
49UF20150202,KS15-02,4376,1,20,21979,2,20150206,1448,24.2648,160.0488,5478,1011.0,1002,4.1738,34.4103,2,34.4096,2,51.01,2,106.49,2,40.77,2,0.00,2,2.93,2,2335.1,2,2361.3,2,7.4111,2,-999,9,-999,9
49UF20150202,KS15-02,4376,1,19,21978,2,20150206,1443,24.2648,160.0488,5478,1214.6,1203,3.3548,34.4814,2,34.4821,2,60.07,2,124.77,2,40.97,2,0.00,2,2.93,2,2352.6,2,2380.1,2,7.4213,2,-999,9,-999,9
49UF20150202,KS15-02,4376,1,18,21977,4,20150206,1438,24.2648,160.0488,5478,1415.5,1402,2.8107,34.5311,2,34.4811,4,60.27,4,125.02,4,40.94,4,0.00,4,2.93,4,2353.8,4,2380.2,4,7.4230,4,-999,9,-999,9
49UF20150202,KS15-02,4376,1,17,23679,2,20150206,1433,24.2648,160.0488,5478,1618.4,1602,2.4826,34.5600,2,34.5597,6,81.41,2,141.69,2,40.17,2,0.00,2,2.85,2,2357.9,2,2401.1,2,7.4572,2,-999,9,-999,9
49UF20150202,KS15-02,4376,1,16,21975,2,20150206,1429,24.2648,160.0488,5478,1821.3,1802,2.1498,34.5912,2,34.5910,2,91.84,6,147.60,6,39.69,6,0.00,6,2.80,6,2356.9,2,2407.7,2,7.4777,2,-999,9,-999,9
49UF20150202,KS15-02,4376,1,15,21974,2,20150206,1424,24.2648,160.0488,5478,2023.9,2001,1.9363,34.6158,2,34.6173,2,102.62,2,150.01,2,39.15,2,0.00,2,2.75,2,2356.6,2,2411.4,2,7.4965,6,-999,9,-999,9
49UF20150202,KS15-02,4376,1,14,21973,3,20150206,1419,24.2648,160.0488,5478,2279.4,2253,1.7887,34.6341,2,34.6354,2,112.86,2,150.94,2,38.56,2,0.00,2,2.70,2,2350.4,6,2413.9,6,7.5197,2,-999,9,-999,9
49UF20150202,KS15-02,4376,1,13,21972,2,20150206,1413,24.2648,160.0488,5478,2533.5,2502,1.6904,34.6481,2,34.6485,2,121.76,2,150.96,2,38.01,2,0.00,2,2.66,2,2346.3,2,2415.7,2,7.5277,2,-999,9,-999,9
49UF20150202,KS15-02,4376,1,12,21994,2,20150206,1407,24.2648,160.0488,5478,2786.5,2751,1.6274,34.6565,2,34.6571,2,127.89,2,151.00,2,37.61,2,0.00,2,2.64,2,2344.6,2,2417.4,2,7.5405,2,-999,9,-999,9
49UF20150202,KS15-02,4376,1,11,21970,3,20150206,1402,24.2648,160.0488,5478,3042.3,3001,1.5597,34.6651,2,34.6647,2,134.81,2,150.50,2,37.14,2,0.00,2,2.59,2,2341.2,2,2417.7,2,7.5523,2,-999,9,-999,9
49UF20150202,KS15-02,4376,1,10,21969,2,20150206,1357,24.2648,160.0488,5478,3297.8,3251,1.5365,34.6694,2,34.6696,2,138.87,2,149.98,2,36.90,2,0.00,2,2.57,2,2344.0,2,2417.2,2,7.5559,2,-999,9,-999,9
49UF20150202,KS15-02,4376,1,9,21968,2,20150206,1351,24.2648,160.0488,5478,3554.2,3502,1.4933,34.6754,2,34.6755,2,145.43,2,148.80,2,36.47,2,0.00,2,2.56,2,2338.0,2,2417.0,2,7.5671,2,-999,9,-999,9
49UF20150202,KS15-02,4376,1,8,21982,2,20150206,1346,24.2648,160.0488,5478,3809.4,3751,1.4743,34.6794,2,34.6794,2,150.39,2,147.19,2,36.25,2,0.00,2,2.51,2,2332.4,2,2414.8,2,7.5729,2,-999,9,-999,9
49UF20150202,KS15-02,4376,1,7,21966,2,20150206,1340,24.2648,160.0488,5478,4064.9,4001,1.4585,34.6832,2,34.6842,2,154.79,2,145.51,2,35.88,2,0.00,2,2.50,2,2327.5,2,2413.9,2,7.5816,2,-999,9,-999,9
49UF20150202,KS15-02,4376,1,6,24474,2,20150206,1335,24.2648,160.0488,5478,4321.3,4251,1.4556,34.6858,2,34.6861,2,159.27,2,143.63,2,35.61,2,0.00,2,2.48,2,2323.8,2,2411.9,2,7.5864,2,-999,9,-999,9
49UF20150202,KS15-02,4376,1,5,24272,2,20150206,1330,24.2648,160.0488,5478,4578.2,4501,1.4594,34.6882,2,34.6885,2,163.19,2,141.74,2,35.36,2,0.00,2,2.45,2,2319.1,2,2410.3,2,7.5921,6,-999,9,-999,9
49UF20150202,KS15-02,4376,1,4,21963,2,20150206,1324,24.2648,160.0488,5478,4835.2,4751,1.4686,34.6902,2,34.6907,6,166.37,2,139.67,2,35.12,2,0.00,2,2.43,2,2315.1,6,2407.5,6,7.5959,2,-999,9,-999,9
49UF20150202,KS15-02,4376,1,3,24269,2,20150206,1319,24.2648,160.0488,5478,5091.4,4999,1.4865,34.6913,2,34.6906,2,167.34,2,138.65,2,35.07,2,0.00,2,2.43,2,2315.0,2,2406.3,2,7.5981,2,-999,9,-999,9
49UF20150202,KS15-02,4376,1,2,21961,2,20150206,1314,24.2648,160.0488,5478,5349.6,5250,1.5117,34.6919,2,34.6922,2,169.65,6,137.26,6,34.87,6,0.00,6,2.41,6,2312.4,2,2405.2,2,7.5976,2,-999,9,-999,9
49UF20150202,KS15-02,4376,1,1,21960,2,20150206,1309,24.2648,160.0488,5478,5599.5,5492,1.5389,34.6926,2,34.6940,2,171.05,2,136.64,2,34.75,2,0.00,2,2.41,2,2308.2,2,2405.2,2,7.5973,2,-999,9,-999,9
49UF20150202,KS15-02,4378,1,-999,0,2,20150207,0143,24.2658,161.6352,2736,0.0,0,22.1110,35.2473,2,-999.,9,216.33,2,1.44,2,0.10,2,0.00,2,0.02,2,-999.,9,-999.,9,-999.,9,-999,9,-999,9
49UF20150202,KS15-02,4378,1,33,21992,2,20150207,0209,24.2658,161.6352,2736,11.6,12,22.1128,35.2482,2,-999.,9,217.20,2,1.40,2,0.00,2,0.00,2,0.01,2,-999.,9,-999.,9,-999.,9,-999,9,-999,9
49UF20150202,KS15-02,4378,1,32,21991,2,20150207,0208,24.2658,161.6352,2736,27.6,27,22.0806,35.2482,2,-999.,9,217.34,6,1.41,6,0.03,6,0.00,6,0.01,6,-999.,9,-999.,9,-999.,9,-999,9,-999,9
49UF20150202,KS15-02,4378,1,30,21989,2,20150207,0204,24.2658,161.6352,2736,52.9,53,21.7803,35.2411,2,-999.,9,218.44,2,1.46,2,0.01,2,0.00,2,0.02,2,-999.,9,-999.,9,-999.,9,-999,9,-999,9
49UF20150202,KS15-02,4378,1,31,24270,2,20150207,0205,24.2658,161.6352,2736,53.4,53,21.7755,35.2423,2,-999.,9,218.48,2,1.46,2,0.04,2,0.00,2,0.01,2,-999.,9,-999.,9,-999.,9,-999,9,-999,9
49UF20150202,KS15-02,4378,1,29,21988,2,20150207,0203,24.2658,161.6352,2736,75.6,75,21.6293,35.2527,2,-999.,9,218.27,2,1.47,2,0.01,2,0.00,2,0.01,2,-999.,9,-999.,9,-999.,9,-999,9,-999,9
49UF20150202,KS15-02,4378,1,28,21987,2,20150207,0202,24.2658,161.6352,2736,100.4,100,21.5344,35.2359,2,-999.,9,217.16,2,1.51,2,0.00,2,0.01,2,0.02,2,-999.,9,-999.,9,-999.,9,-999,9,-999,9
49UF20150202,KS15-02,4378,1,24,21983,2,20150207,0200,24.2658,161.6352,2736,125.7,125,19.3963,34.9490,2,-999.,9,211.18,2,2.20,2,0.64,2,0.05,2,0.10,2,-999.,9,-999.,9,-999.,9,-999,9,-999,9
49UF20150202,KS15-02,4378,1,23,22095,2,20150207,0159,24.2658,161.6352,2736,148.3,147,17.8113,34.7834,2,-999.,9,206.15,2,3.18,2,2.84,2,0.02,2,0.22,2,-999.,9,-999.,9,-999.,9,-999,9,-999,9
49UF20150202,KS15-02,4378,1,22,22665,2,20150207,0157,24.2658,161.6352,2736,204.9,203,16.4260,34.6649,2,-999.,9,213.51,2,4.72,2,4.95,2,0.01,2,0.34,2,-999.,9,-999.,9,-999.,9,-999,9,-999,9
49UF20150202,KS15-02,4378,1,21,21980,2,20150207,0155,24.2658,161.6352,2736,255.1,253,15.6122,34.5933,2,-999.,9,207.46,2,6.46,2,6.68,2,0.00,2,0.46,2,-999.,9,-999.,9,-999.,9,-999,9,-999,9
49UF20150202,KS15-02,4378,1,20,21979,2,20150207,0152,24.2658,161.6352,2736,305.5,303,14.6548,34.5141,2,-999.,9,202.46,2,8.69,2,8.55,2,0.00,2,0.60,2,-999.,9,-999.,9,-999.,9,-999,9,-999,9
49UF20150202,KS15-02,4378,1,19,21978,2,20150207,0149,24.2658,161.6352,2736,404.6,402,11.8950,34.3028,2,-999.,9,189.31,2,16.20,2,14.07,2,0.00,2,1.01,2,-999.,9,-999.,9,-999.,9,-999,9,-999,9
49UF20150202,KS15-02,4378,1,15,21974,2,20150207,0146,24.2658,161.6352,2736,505.2,501,9.3157,34.1536,2,-999.,9,165.40,2,30.25,2,21.10,2,0.00,2,1.52,2,-999.,9,-999.,9,-999.,9,-999,9,-999,9
49UF20150202,KS15-02,4378,1,14,21973,3,20150207,0143,24.2658,161.6352,2736,608.6,604,7.0317,34.0819,2,-999.,9,123.81,2,52.11,2,29.07,2,0.00,2,2.10,2,-999.,9,-999.,9,-999.,9,-999,9,-999,9
49UF20150202,KS15-02,4378,1,13,21972,2,20150207,0139,24.2658,161.6352,2736,709.7,704,5.4745,34.1208,2,-999.,9,80.81,2,76.37,2,35.86,2,0.00,2,2.59,2,-999.,9,-999.,9,-999.,9,-999,9,-999,9
49UF20150202,KS15-02,4378,1,12,21994,2,20150207,0136,24.2658,161.6352,2736,810.9,804,4.7128,34.1994,2,-999.,9,54.99,2,93.73,2,39.30,2,0.00,2,2.83,2,-999.,9,-999.,9,-999.,9,-999,9,-999,9
49UF20150202,KS15-02,4378,1,11,21970,2,20150207,0133,24.2658,161.6352,2736,909.0,901,4.1239,34.2941,2,-999.,9,42.94,2,108.60,2,41.14,2,0.00,2,2.96,2,-999.,9,-999.,9,-999.,9,-999,9,-999,9
49UF20150202,KS15-02,4378,1,10,21969,2,20150207,0130,24.2658,161.6352,2736,1012.9,1004,3.6787,34.3654,2,-999.,9,39.91,2,119.42,2,41.97,2,0.00,2,3.01,2,-999.,9,-999.,9,-999.,9,-999,9,-999,9
49UF20150202,KS15-02,4378,1,6,24474,2,20150207,0125,24.2658,161.6352,2736,1213.3,1202,3.0942,34.4674,2,-999.,9,50.49,2,134.13,2,41.83,2,0.00,2,2.99,2,-999.,9,-999.,9,-999.,9,-999,9,-999,9
49UF20150202,KS15-02,4378,1,5,24272,2,20150207,0121,24.2658,161.6352,2736,1414.6,1401,2.6582,34.5234,2,-999.,9,62.71,3,142.88,2,41.35,2,0.00,2,2.94,2,-999.,9,-999.,9,-999.,9,-999,9,-999,9
49UF20150202,KS15-02,4378,1,4,21963,2,20150207,0116,24.2658,161.6352,2736,1616.9,1600,2.2838,34.5670,2,-999.,9,76.25,2,149.67,2,40.65,2,0.00,2,2.88,2,-999.,9,-999.,9,-999.,9,-999,9,-999,9
49UF20150202,KS15-02,4378,1,3,24269,2,20150207,0112,24.2658,161.6352,2736,1818.9,1799,2.0683,34.5977,2,-999.,9,92.82,6,149.85,6,39.61,6,0.00,6,2.80,6,-999.,9,-999.,9,-999.,9,-999,9,-999,9
49UF20150202,KS15-02,4378,1,2,21961,2,20150207,0108,24.2658,161.6352,2736,2019.6,1997,1.8937,34.6205,2,-999.,9,105.07,2,150.58,2,38.86,2,0.00,2,2.74,2,-999.,9,-999.,9,-999.,9,-999,9,-999,9
49UF20150202,KS15-02,4378,1,1,21960,2,20150207,0108,24.2658,161.6352,2736,2020.4,1998,1.8937,34.6204,2,-999.,9,104.90,2,150.62,2,38.88,2,0.00,2,2.73,2,-999.,9,-999.,9,-999.,9,-999,9,-999,9