BOTTLE,20171117JMAGEMD
EXPOCODE,SECT_ID,STNNBR,CASTNO,SAMPNO,BTLNBR,BTLNBR_FLAG_W,DATE,TIME,LATITUDE,LONGITUDE,DEPTH,CTDPRS,CTDDEP,CTDTMP,CTDSAL,CTDSAL_FLAG_W,SALNTY,SALNTY_FLAG_W,OXYGEN,OXYGEN_FLAG_W,SILCAT,SILCAT_FLAG_W,NO2+NO3,NO2+NO3_FLAG_W,NITRIT,NITRIT_FLAG_W,PHSPHT,PHSPHT_FLAG_W,TCARBN,TCARBN_FLAG_W,ALKALI,ALKALI_FLAG_W,PH_TOT,PH_TOT_FLAG_W,CFC-11,CFC-11_FLAG_W,CFC-12,CFC-12_FLAG_W
,,,,,,,UTC,UTC,,,METER,DBAR,METERS,ITS-90,PSS-78,,PSS-78,,UMOL/KG,,UMOL/KG,,UMOL/KG,,UMOL/KG,,UMOL/KG,,UMOL/KG,,UMOL/KG,,@25DEG-C,,PMOL/KG,,PMOL/KG,
49UF20150202,KS15-02,4386,1,-999,0,2,20150210,0545,24.253,155.22,5534,0.0,0,23.6837,35.2925,2,35.3006,4,211.75,2,0.99,2,0.00,2,0.00,2,0.02,2,1991.0,2,2316.6,2,8.0923,2,-999,9,-999,9
49UF20150202,KS15-02,4386,1,36,21995,2,20150210,0619,24.253,155.22,5534,10.6,11,23.6935,35.2921,2,35.2903,2,211.13,2,1.05,2,0.00,2,0.00,2,0.01,2,1989.6,2,2317.3,2,8.0933,2,-999,9,-999,9
49UF20150202,KS15-02,4386,1,35,22087,2,20150210,0618,24.253,155.22,5534,25.8,26,23.6942,35.2923,2,35.2908,2,210.98,2,1.00,2,0.05,2,0.00,2,0.01,2,1987.2,2,2315.2,2,8.0948,2,-999,9,-999,9
49UF20150202,KS15-02,4386,1,34,22666,2,20150210,0616,24.253,155.22,5534,50.0,50,23.2701,35.2314,2,35.2306,2,212.32,2,1.10,2,0.00,2,0.00,2,0.01,2,1987.9,2,2312.4,2,8.0852,2,-999,9,-999,9
49UF20150202,KS15-02,4386,1,33,21992,2,20150210,0615,24.253,155.22,5534,75.1,75,23.0358,35.2270,2,35.2257,2,213.17,2,1.10,2,0.04,2,0.00,2,0.01,2,1987.9,2,2311.2,2,8.0832,2,-999,9,-999,9
49UF20150202,KS15-02,4386,1,32,21991,2,20150210,0614,24.253,155.22,5534,100.7,100,22.5964,35.1373,2,35.1255,2,214.34,2,1.22,2,0.03,2,0.00,2,0.02,2,1994.5,2,2303.0,2,8.0709,2,-999,9,-999,9
49UF20150202,KS15-02,4386,1,31,24270,2,20150210,0613,24.253,155.22,5534,126.0,125,22.1233,35.0250,2,35.0129,2,215.68,6,1.35,6,0.04,6,0.01,6,0.01,6,1988.2,2,2297.5,2,8.0654,2,-999,9,-999,9
49UF20150202,KS15-02,4386,1,30,21989,2,20150210,0612,24.253,155.22,5534,151.3,150,21.1579,34.9540,2,34.9536,2,210.73,2,1.67,2,0.36,2,0.08,2,0.04,2,2008.2,2,2292.4,2,8.0305,6,-999,9,-999,9
49UF20150202,KS15-02,4386,1,29,21988,2,20150210,0608,24.253,155.22,5534,200.6,199,18.8797,34.8064,2,34.8004,2,204.83,2,2.62,2,2.11,2,0.03,2,0.17,2,2029.7,6,2284.3,6,7.9767,2,-999,9,-999,9
49UF20150202,KS15-02,4386,1,28,21987,2,20150210,0606,24.253,155.22,5534,250.8,249,17.3920,34.7241,2,34.7196,2,208.72,2,3.65,2,4.25,2,0.01,2,0.28,2,2037.6,2,2277.8,2,7.9501,2,-999,9,-999,9
49UF20150202,KS15-02,4386,1,27,21986,2,20150210,0604,24.253,155.22,5534,302.8,301,16.3625,34.6472,2,34.6465,2,202.86,2,5.18,2,6.00,3,0.00,2,0.41,2,2049.4,2,2275.2,2,7.9181,2,-999,9,-999,9
49UF20150202,KS15-02,4386,1,26,24271,2,20150210,0601,24.253,155.22,5534,403.9,401,13.9478,34.4453,2,34.4478,2,196.05,2,10.00,2,10.10,2,0.00,2,0.70,2,2077.9,2,2270.3,2,7.8489,2,-999,9,-999,9
49UF20150202,KS15-02,4386,1,25,21984,2,20150210,0559,24.253,155.22,5534,505.1,501,11.0730,34.2522,2,34.2535,2,183.07,2,20.08,2,16.38,2,0.00,2,1.15,2,2121.1,2,2267.5,2,7.7495,2,-999,9,-999,9
49UF20150202,KS15-02,4386,1,24,21983,2,20150210,0556,24.253,155.22,5534,604.0,599,8.4897,34.1163,2,34.1167,6,154.50,3,37.13,2,23.79,2,0.00,2,1.70,2,2172.7,2,2276.3,2,7.6353,2,-999,9,-999,9
49UF20150202,KS15-02,4386,1,23,22095,2,20150210,0554,24.253,155.22,5534,702.8,697,6.3488,34.0886,2,34.0904,2,105.10,2,62.05,2,31.99,2,0.00,2,2.32,2,2241.8,2,2294.2,2,7.5011,2,-999,9,-999,9
49UF20150202,KS15-02,4386,1,22,22665,2,20150210,0551,24.253,155.22,5534,804.4,798,5.0994,34.2111,2,34.2111,2,57.06,2,86.55,2,38.25,2,0.00,2,2.79,2,2302.7,2,2324.1,2,7.4012,2,-999,9,-999,9
49UF20150202,KS15-02,4386,1,21,21980,2,20150210,0548,24.253,155.22,5534,905.4,898,4.4468,34.2805,2,34.2745,4,49.13,2,99.73,2,39.96,2,0.00,2,2.90,2,2321.8,2,2339.1,2,7.3896,2,-999,9,-999,9
49UF20150202,KS15-02,4386,1,20,21979,2,20150210,0545,24.253,155.22,5534,1009.6,1001,3.8780,34.3555,2,34.3571,6,43.59,2,115.07,2,41.13,2,0.00,2,2.98,2,2345.4,2,2359.1,2,7.3851,2,-999,9,-999,9
49UF20150202,KS15-02,4386,1,19,21978,2,20150210,0541,24.253,155.22,5534,1212.2,1201,3.2955,34.4596,2,34.4579,2,55.30,2,128.12,2,40.94,2,0.00,2,2.95,2,2354.1,6,2377.8,6,7.4044,2,-999,9,-999,9
49UF20150202,KS15-02,4386,1,18,21977,2,20150210,0536,24.253,155.22,5534,1415.3,1402,2.7495,34.5149,2,34.5136,2,62.26,2,140.37,2,40.95,2,0.00,2,2.93,2,2365.8,2,2390.5,2,7.4211,2,-999,9,-999,9
49UF20150202,KS15-02,4386,1,17,23679,2,20150210,0531,24.253,155.22,5534,1616.5,1600,2.3679,34.5615,2,34.5629,2,80.31,2,145.66,2,40.07,2,0.00,2,2.84,2,2356.5,2,2400.5,2,7.4514,2,-999,9,-999,9
49UF20150202,KS15-02,4386,1,16,21975,2,20150210,0526,24.253,155.22,5534,1818.2,1799,2.1548,34.5877,2,34.5875,2,89.35,2,148.98,2,39.52,2,0.00,2,2.81,2,2358.0,2,2407.5,2,7.4728,2,-999,9,-999,9
49UF20150202,KS15-02,4386,1,15,21974,2,20150210,0521,24.253,155.22,5534,2023.3,2001,1.9631,34.6099,2,34.6146,4,99.19,2,151.16,2,38.99,2,0.00,2,2.76,2,2355.3,2,2411.0,2,7.4882,2,-999,9,-999,9
49UF20150202,KS15-02,4386,1,14,21973,2,20150210,0515,24.253,155.22,5534,2277.0,2250,1.7991,34.6304,2,34.6298,2,109.96,2,152.26,2,38.33,2,0.00,2,2.71,2,2357.2,2,2413.6,2,7.5067,2,-999,9,-999,9
49UF20150202,KS15-02,4386,1,13,21972,2,20150210,0510,24.253,155.22,5534,2533.9,2503,1.6935,34.6446,2,34.6445,2,119.74,6,152.21,6,37.83,6,0.00,6,2.66,6,2346.8,2,2415.6,2,7.5224,2,-999,9,-999,9
49UF20150202,KS15-02,4386,1,12,21994,2,20150210,0504,24.253,155.22,5534,2786.4,2750,1.6032,34.6570,2,34.6566,2,128.54,2,151.51,2,37.25,2,0.00,2,2.61,2,2341.0,2,2418.6,2,7.5416,2,-999,9,-999,9
49UF20150202,KS15-02,4386,1,11,21970,2,20150210,0458,24.253,155.22,5534,3040.8,3000,1.5561,34.6644,2,34.6645,2,134.43,2,150.67,2,36.83,2,0.00,2,2.59,2,2338.1,2,2417.8,2,7.5476,2,-999,9,-999,9
49UF20150202,KS15-02,4386,1,10,21969,2,20150210,0452,24.253,155.22,5534,3297.7,3251,1.5112,34.6711,2,34.6708,2,140.61,2,149.65,2,36.41,2,0.00,2,2.55,2,2334.7,2,2417.6,2,7.5618,6,-999,9,-999,9
49UF20150202,KS15-02,4386,1,9,21968,2,20150210,0446,24.253,155.22,5534,3552.1,3500,1.4812,34.6764,2,34.6762,2,146.04,2,148.33,2,36.22,2,0.00,2,2.52,2,2332.3,6,2416.5,6,7.5657,2,-999,9,-999,9
49UF20150202,KS15-02,4386,1,8,21982,2,20150210,0440,24.253,155.22,5534,3809.6,3752,1.4675,34.6800,2,34.6808,2,151.02,2,147.30,2,35.81,2,0.00,2,2.49,2,2327.5,2,2415.4,2,7.5751,2,-999,9,-999,9
49UF20150202,KS15-02,4386,1,7,21966,3,20150210,0435,24.253,155.22,5534,4064.8,4001,1.4557,34.6834,2,34.6842,2,154.52,2,145.63,2,35.53,2,0.00,2,2.47,2,2326.5,2,2413.6,2,7.5806,2,-999,9,-999,9
49UF20150202,KS15-02,4386,1,6,24474,2,20150210,0424,24.253,155.22,5534,4578.4,4501,1.4630,34.6879,2,34.6881,6,161.51,2,142.62,2,35.12,2,0.00,2,2.44,2,2317.6,2,2410.9,2,7.5902,2,-999,9,-999,9
49UF20150202,KS15-02,4386,1,5,24272,2,20150210,0418,24.253,155.22,5534,4836.1,4751,1.4761,34.6896,2,34.6908,2,164.73,2,140.82,2,34.88,2,0.00,2,2.42,2,2314.6,2,2408.7,2,7.5952,2,-999,9,-999,9
49UF20150202,KS15-02,4386,1,4,21963,3,20150210,0412,24.253,155.22,5534,5094.1,5002,1.4944,34.6908,2,34.6930,4,167.48,6,138.80,6,34.70,6,0.00,6,2.41,6,2313.3,2,2406.0,2,7.5933,2,-999,9,-999,9
49UF20150202,KS15-02,4386,1,3,24269,2,20150210,0406,24.253,155.22,5534,5350.2,5251,1.5155,34.6915,2,34.6920,2,169.28,2,137.63,2,34.50,2,0.00,2,2.40,2,2312.3,2,2405.7,2,7.5974,2,-999,9,-999,9
49UF20150202,KS15-02,4386,1,2,21961,2,20150210,0400,24.253,155.22,5534,5607.0,5499,1.5379,34.6926,2,34.6926,2,171.03,2,136.12,2,34.55,2,0.00,2,2.39,2,2309.6,2,2405.3,2,7.6110,3,-999,9,-999,9
49UF20150202,KS15-02,4386,1,1,21960,2,20150210,0358,24.253,155.22,5534,5662.5,5553,1.5451,34.6929,2,34.6933,2,171.54,2,136.07,2,34.45,2,0.00,2,2.38,2,2306.0,2,2403.2,2,7.6031,2,-999,9,-999,9
49UF20150202,KS15-02,4388,1,-999,0,2,20150210,1640,24.2432,153.5715,5394,0.0,0,24.2742,35.3255,2,-999.,9,208.37,2,1.12,2,0.06,2,0.00,2,0.02,2,-999.,9,-999.,9,-999.,9,-999,9,-999,9
49UF20150202,KS15-02,4388,1,33,21992,2,20150210,1700,24.2432,153.5715,5394,9.7,10,24.2780,35.3217,2,-999.,9,207.99,2,1.08,2,0.04,2,0.00,2,0.02,2,-999.,9,-999.,9,-999.,9,-999,9,-999,9
49UF20150202,KS15-02,4388,1,32,21991,2,20150210,1658,24.2432,153.5715,5394,26.1,26,24.3083,35.3363,2,-999.,9,208.06,2,1.12,2,0.02,2,0.00,2,0.01,2,-999.,9,-999.,9,-999.,9,-999,9,-999,9
49UF20150202,KS15-02,4388,1,31,24270,2,20150210,1655,24.2432,153.5715,5394,51.4,51,24.3009,35.3425,2,-999.,9,208.49,2,1.08,2,0.05,2,0.00,2,0.01,2,-999.,9,-999.,9,-999.,9,-999,9,-999,9
49UF20150202,KS15-02,4388,1,30,21989,2,20150210,1654,24.2432,153.5715,5394,76.8,76,24.2494,35.3335,2,-999.,9,208.39,6,1.07,6,0.00,6,0.00,6,0.01,6,-999.,9,-999.,9,-999.,9,-999,9,-999,9
49UF20150202,KS15-02,4388,1,29,21988,2,20150210,1653,24.2432,153.5715,5394,100.4,100,24.1619,35.3197,2,-999.,9,207.76,2,1.13,2,0.01,2,0.01,2,0.02,2,-999.,9,-999.,9,-999.,9,-999,9,-999,9
49UF20150202,KS15-02,4388,1,24,21983,2,20150210,1651,24.2432,153.5715,5394,126.2,125,22.3303,35.1506,2,-999.,9,204.61,2,1.54,2,0.13,2,0.10,2,0.04,2,-999.,9,-999.,9,-999.,9,-999,9,-999,9
49UF20150202,KS15-02,4388,1,28,21987,2,20150210,1652,24.2432,153.5715,5394,126.8,126,22.0154,35.1373,2,-999.,9,204.18,2,1.54,2,0.16,2,0.10,2,0.05,2,-999.,9,-999.,9,-999.,9,-999,9,-999,9
49UF20150202,KS15-02,4388,1,23,22095,2,20150210,1650,24.2432,153.5715,5394,151.1,150,21.0157,35.0734,2,-999.,9,202.14,3,1.88,2,0.79,2,0.04,2,0.10,2,-999.,9,-999.,9,-999.,9,-999,9,-999,9
49UF20150202,KS15-02,4388,1,22,22665,2,20150210,1649,24.2432,153.5715,5394,202.5,201,18.5552,34.8113,2,-999.,9,202.47,2,2.76,2,2.29,2,0.02,2,0.18,2,-999.,9,-999.,9,-999.,9,-999,9,-999,9
49UF20150202,KS15-02,4388,1,21,21980,2,20150210,1647,24.2432,153.5715,5394,253.0,251,17.1943,34.7136,2,-999.,9,212.09,3,3.91,2,4.25,2,0.01,2,0.29,2,-999.,9,-999.,9,-999.,9,-999,9,-999,9
49UF20150202,KS15-02,4388,1,20,21979,2,20150210,1645,24.2432,153.5715,5394,302.3,300,16.6289,34.6815,2,-999.,9,210.06,2,4.73,2,5.09,2,0.01,2,0.35,2,-999.,9,-999.,9,-999.,9,-999,9,-999,9
49UF20150202,KS15-02,4388,1,19,21978,2,20150210,1642,24.2432,153.5715,5394,403.6,401,14.6219,34.5156,2,-999.,9,194.09,2,9.79,2,9.49,2,0.00,2,0.66,2,-999.,9,-999.,9,-999.,9,-999,9,-999,9
49UF20150202,KS15-02,4388,1,15,21974,2,20150210,1639,24.2432,153.5715,5394,505.2,501,11.6852,34.3021,2,-999.,9,189.22,2,18.12,2,14.77,2,0.00,2,1.05,2,-999.,9,-999.,9,-999.,9,-999,9,-999,9
49UF20150202,KS15-02,4388,1,14,21973,2,20150210,1636,24.2432,153.5715,5394,605.5,601,8.4641,34.1193,2,-999.,9,154.57,2,38.10,2,23.82,2,0.00,2,1.71,2,-999.,9,-999.,9,-999.,9,-999,9,-999,9
49UF20150202,KS15-02,4388,1,13,21972,2,20150210,1634,24.2432,153.5715,5394,707.4,702,6.1738,34.0945,2,-999.,9,100.24,2,64.91,2,32.98,2,0.00,2,2.38,2,-999.,9,-999.,9,-999.,9,-999,9,-999,9
49UF20150202,KS15-02,4388,1,12,21994,2,20150210,1631,24.2432,153.5715,5394,806.7,800,5.1660,34.1487,2,-999.,9,71.48,6,83.30,6,37.34,6,0.00,6,2.69,6,-999.,9,-999.,9,-999.,9,-999,9,-999,9
49UF20150202,KS15-02,4388,1,11,21970,2,20150210,1628,24.2432,153.5715,5394,908.5,901,4.4165,34.2777,2,-999.,9,49.01,2,101.61,2,40.39,2,0.00,2,2.90,2,-999.,9,-999.,9,-999.,9,-999,9,-999,9
49UF20150202,KS15-02,4388,1,10,21969,2,20150210,1625,24.2432,153.5715,5394,1010.1,1001,4.0170,34.3495,2,-999.,9,47.27,2,111.24,2,41.13,2,0.00,2,2.95,2,-999.,9,-999.,9,-999.,9,-999,9,-999,9
49UF20150202,KS15-02,4388,1,6,24474,2,20150210,1620,24.2432,153.5715,5394,1211.2,1200,3.3445,34.4460,2,-999.,9,53.36,2,127.28,2,41.41,2,0.00,2,2.96,2,-999.,9,-999.,9,-999.,9,-999,9,-999,9
49UF20150202,KS15-02,4388,1,5,24272,2,20150210,1615,24.2432,153.5715,5394,1414.2,1400,2.7699,34.5043,2,-999.,9,60.12,2,140.56,2,41.30,2,0.00,2,2.95,2,-999.,9,-999.,9,-999.,9,-999,9,-999,9
49UF20150202,KS15-02,4388,1,4,21963,2,20150210,1615,24.2432,153.5715,5394,1414.3,1401,2.7707,34.5043,2,-999.,9,60.52,2,140.29,2,41.19,2,0.00,2,2.94,2,-999.,9,-999.,9,-999.,9,-999,9,-999,9
49UF20150202,KS15-02,4388,1,3,24269,2,20150210,1611,24.2432,153.5715,5394,1616.3,1600,2.3385,34.5514,2,-999.,9,69.23,2,149.71,2,41.03,2,0.00,2,2.91,2,-999.,9,-999.,9,-999.,9,-999,9,-999,9
49UF20150202,KS15-02,4388,1,2,21961,2,20150210,1606,24.2432,153.5715,5394,1819.8,1800,2.0618,34.5893,2,-999.,9,85.78,2,152.67,2,40.12,2,0.00,2,2.83,2,-999.,9,-999.,9,-999.,9,-999,9,-999,9
49UF20150202,KS15-02,4388,1,1,21960,2,20150210,1601,24.2432,153.5715,5394,2024.8,2002,1.8716,34.6154,2,-999.,9,100.49,2,153.05,2,39.15,2,0.00,2,2.76,2,-999.,9,-999.,9,-999.,9,-999,9,-999,9
49UF20150202,KS15-02,4390,1,-999,0,2,20150211,0256,24.2312,152.0633,5454,0.0,0,21.7896,35.0467,2,-999.0000,9,218.91,2,1.29,2,0.00,2,0.00,2,0.01,2,-999.,9,-999.,9,-999.,9,-999,9,-999,9
49UF20150202,KS15-02,4390,1,33,21992,2,20150211,0314,24.2312,152.0633,5454,10.5,10,21.7917,35.0461,2,35.0466,2,218.65,2,1.36,2,0.00,2,0.00,2,0.02,2,-999.,9,-999.,9,-999.,9,-999,9,-999,9
49UF20150202,KS15-02,4390,1,32,21991,2,20150211,0313,24.2312,152.0633,5454,25.4,25,21.7483,35.0439,2,-999.0000,9,218.91,2,1.30,2,0.00,2,0.00,2,0.02,2,-999.,9,-999.,9,-999.,9,-999,9,-999,9
49UF20150202,KS15-02,4390,1,31,24270,2,20150211,0312,24.2312,152.0633,5454,50.9,51,21.7165,35.0431,2,-999.0000,9,219.06,2,1.31,2,0.00,2,0.00,2,0.01,2,-999.,9,-999.,9,-999.,9,-999,9,-999,9
49UF20150202,KS15-02,4390,1,30,21989,2,20150211,0311,24.2312,152.0633,5454,75.8,75,21.6964,35.0416,2,-999.0000,9,219.06,2,1.29,2,0.00,2,0.00,2,0.02,2,-999.,9,-999.,9,-999.,9,-999,9,-999,9
49UF20150202,KS15-02,4390,1,29,21988,2,20150211,0308,24.2312,152.0633,5454,102.6,102,21.2103,34.9760,2,34.9802,2,220.95,6,1.43,6,0.00,6,0.00,6,0.01,6,-999.,9,-999.,9,-999.,9,-999,9,-999,9
49UF20150202,KS15-02,4390,1,28,21987,2,20150211,0306,24.2312,152.0633,5454,125.8,125,20.7583,34.9224,2,-999.0000,9,222.24,2,1.59,2,0.00,2,0.00,2,0.02,2,-999.,9,-999.,9,-999.,9,-999,9,-999,9
49UF20150202,KS15-02,4390,1,23,22095,2,20150211,0305,24.2312,152.0633,5454,153.3,152,19.7058,34.8213,2,34.8259,2,211.83,2,2.08,2,0.82,2,0.07,2,0.09,2,-999.,9,-999.,9,-999.,9,-999,9,-999,9
49UF20150202,KS15-02,4390,1,24,21983,2,20150211,0305,24.2312,152.0633,5454,153.4,152,19.6996,34.8213,2,34.8227,2,211.09,2,2.10,2,0.87,2,0.06,2,0.09,2,-999.,9,-999.,9,-999.,9,-999,9,-999,9
49UF20150202,KS15-02,4390,1,22,22665,2,20150211,0303,24.2312,152.0633,5454,203.7,202,17.4698,34.7272,2,34.7268,6,210.49,2,3.37,2,3.63,2,0.01,2,0.25,2,-999.,9,-999.,9,-999.,9,-999,9,-999,9
49UF20150202,KS15-02,4390,1,21,21980,2,20150211,0301,24.2312,152.0633,5454,253.7,252,16.9143,34.7094,2,-999.0000,9,218.70,2,3.58,2,3.82,2,0.01,2,0.27,2,-999.,9,-999.,9,-999.,9,-999,9,-999,9
49UF20150202,KS15-02,4390,1,20,21979,2,20150211,0259,24.2312,152.0633,5454,304.9,303,16.6212,34.6889,2,-999.0000,9,216.56,2,4.40,2,4.49,2,0.01,2,0.32,2,-999.,9,-999.,9,-999.,9,-999,9,-999,9
49UF20150202,KS15-02,4390,1,19,21978,2,20150211,0256,24.2312,152.0633,5454,402.5,400,13.9229,34.4670,2,34.4670,2,194.56,2,11.68,2,10.64,2,0.00,2,0.74,2,-999.,9,-999.,9,-999.,9,-999,9,-999,9
49UF20150202,KS15-02,4390,1,15,21974,2,20150211,0253,24.2312,152.0633,5454,504.7,501,10.7104,34.2404,2,-999.0000,9,179.04,2,22.91,2,17.34,2,0.00,2,1.24,2,-999.,9,-999.,9,-999.,9,-999,9,-999,9
49UF20150202,KS15-02,4390,1,14,21973,2,20150211,0250,24.2312,152.0633,5454,605.3,601,7.8172,34.1060,2,34.1086,2,135.52,2,43.53,2,26.43,2,0.00,2,1.91,2,-999.,9,-999.,9,-999.,9,-999,9,-999,9
49UF20150202,KS15-02,4390,1,13,21972,2,20150211,0247,24.2312,152.0633,5454,710.1,704,6.0372,34.1027,2,-999.0000,9,94.38,2,66.77,2,33.56,2,0.00,2,2.43,2,-999.,9,-999.,9,-999.,9,-999,9,-999,9
49UF20150202,KS15-02,4390,1,12,21994,2,20150211,0244,24.2312,152.0633,5454,809.3,803,5.2658,34.2047,2,34.2044,6,62.13,2,83.19,2,37.76,2,0.00,2,2.74,2,-999.,9,-999.,9,-999.,9,-999,9,-999,9
49UF20150202,KS15-02,4390,1,11,21970,2,20150211,0241,24.2312,152.0633,5454,910.8,903,4.7367,34.3207,2,34.3208,2,51.70,6,95.14,6,39.62,6,0.00,6,2.87,6,-999.,9,-999.,9,-999.,9,-999,9,-999,9
49UF20150202,KS15-02,4390,1,10,21969,2,20150211,0239,24.2312,152.0633,5454,1011.0,1002,4.1422,34.3679,2,34.3662,2,51.15,2,108.39,2,40.44,2,0.00,2,2.92,2,-999.,9,-999.,9,-999.,9,-999,9,-999,9
49UF20150202,KS15-02,4390,1,6,24474,2,20150211,0234,24.2312,152.0633,5454,1213.6,1202,3.3132,34.4648,2,34.4653,2,58.12,2,127.17,2,40.93,2,0.00,2,2.93,2,-999.,9,-999.,9,-999.,9,-999,9,-999,9
49UF20150202,KS15-02,4390,1,5,24272,2,20150211,0229,24.2312,152.0633,5454,1418.3,1404,2.8458,34.5109,2,34.5086,2,65.45,2,137.68,2,40.83,2,0.00,2,2.91,2,-999.,9,-999.,9,-999.,9,-999,9,-999,9
49UF20150202,KS15-02,4390,1,3,24269,2,20150211,0224,24.2312,152.0633,5454,1618.9,1602,2.4027,34.5597,2,34.5576,2,82.00,2,143.68,2,39.91,2,0.00,2,2.84,2,-999.,9,-999.,9,-999.,9,-999,9,-999,9
49UF20150202,KS15-02,4390,1,4,21963,2,20150211,0224,24.2312,152.0633,5454,1621.0,1604,2.4025,34.5598,2,34.5606,2,82.44,2,143.95,2,39.97,2,0.00,2,2.84,2,-999.,9,-999.,9,-999.,9,-999,9,-999,9
49UF20150202,KS15-02,4390,1,2,21961,2,20150211,0220,24.2312,152.0633,5454,1822.7,1803,2.1016,34.5917,2,34.5917,6,93.78,2,148.47,2,39.48,2,0.00,2,2.78,2,-999.,9,-999.,9,-999.,9,-999,9,-999,9
49UF20150202,KS15-02,4390,1,1,21960,2,20150211,0215,24.2312,152.0633,5454,2025.1,2002,1.9713,34.6065,2,34.6067,6,98.93,2,150.70,2,39.18,2,0.00,2,2.76,2,-999.,9,-999.,9,-999.,9,-999,9,-999,9