BOTTLE,20171117JMAGEMD
EXPOCODE,SECT_ID,STNNBR,CASTNO,SAMPNO,BTLNBR,BTLNBR_FLAG_W,DATE,TIME,LATITUDE,LONGITUDE,DEPTH,CTDPRS,CTDDEP,CTDTMP,CTDSAL,CTDSAL_FLAG_W,SALNTY,SALNTY_FLAG_W,OXYGEN,OXYGEN_FLAG_W,SILCAT,SILCAT_FLAG_W,NO2+NO3,NO2+NO3_FLAG_W,NITRIT,NITRIT_FLAG_W,PHSPHT,PHSPHT_FLAG_W,TCARBN,TCARBN_FLAG_W,ALKALI,ALKALI_FLAG_W,PH_TOT,PH_TOT_FLAG_W,CFC-11,CFC-11_FLAG_W,CFC-12,CFC-12_FLAG_W
,,,,,,,UTC,UTC,,,METER,DBAR,METERS,ITS-90,PSS-78,,PSS-78,,UMOL/KG,,UMOL/KG,,UMOL/KG,,UMOL/KG,,UMOL/KG,,UMOL/KG,,UMOL/KG,,@25DEG-C,,PMOL/KG,,PMOL/KG,
49UF20150202,KS15-02,4380,1,-999,0,2,20150207,1150,24.2407,163.2757,5673,0.0,0,22.2402,35.2690,2,-999.,9,217.33,2,1.39,2,0.17,2,0.00,2,0.01,2,-999.,9,-999.,9,-999.,9,-999,9,-999,9
49UF20150202,KS15-02,4380,1,33,21992,2,20150207,1211,24.2407,163.2757,5673,12.6,13,22.2400,35.2689,2,-999.,9,217.37,6,1.42,6,0.13,6,0.00,6,0.01,6,-999.,9,-999.,9,-999.,9,-999,9,-999,9
49UF20150202,KS15-02,4380,1,31,24270,2,20150207,1210,24.2407,163.2757,5673,26.7,27,22.2496,35.2688,2,-999.,9,217.23,2,1.44,2,0.20,2,0.00,2,0.01,2,-999.,9,-999.,9,-999.,9,-999,9,-999,9
49UF20150202,KS15-02,4380,1,32,21991,2,20150207,1210,24.2407,163.2757,5673,26.9,27,22.2511,35.2686,2,-999.,9,217.22,2,1.45,2,0.14,2,0.00,2,0.01,2,-999.,9,-999.,9,-999.,9,-999,9,-999,9
49UF20150202,KS15-02,4380,1,30,21989,2,20150207,1209,24.2407,163.2757,5673,51.0,51,22.2276,35.2761,2,-999.,9,217.39,2,1.44,2,0.14,2,0.00,2,0.01,2,-999.,9,-999.,9,-999.,9,-999,9,-999,9
49UF20150202,KS15-02,4380,1,29,21988,2,20150207,1207,24.2407,163.2757,5673,75.5,75,22.1768,35.2811,2,-999.,9,217.36,2,1.46,2,0.13,2,0.00,2,0.01,2,-999.,9,-999.,9,-999.,9,-999,9,-999,9
49UF20150202,KS15-02,4380,1,28,21987,2,20150207,1204,24.2407,163.2757,5673,100.7,100,21.1018,35.1118,2,-999.,9,216.99,2,1.80,2,0.23,2,0.02,2,0.03,2,-999.,9,-999.,9,-999.,9,-999,9,-999,9
49UF20150202,KS15-02,4380,1,24,21983,3,20150207,1203,24.2407,163.2757,5673,124.8,124,19.4899,34.9493,2,-999.,9,212.86,2,2.29,2,0.48,2,0.08,2,0.08,2,-999.,9,-999.,9,-999.,9,-999,9,-999,9
49UF20150202,KS15-02,4380,1,23,22095,2,20150207,1202,24.2407,163.2757,5673,151.4,150,18.3008,34.8365,2,-999.,9,204.93,2,2.90,2,2.01,2,0.03,2,0.17,2,-999.,9,-999.,9,-999.,9,-999,9,-999,9
49UF20150202,KS15-02,4380,1,22,22665,2,20150207,1200,24.2407,163.2757,5673,199.0,198,17.0073,34.7068,2,-999.,9,205.02,2,4.07,2,4.62,2,0.01,2,0.32,2,-999.,9,-999.,9,-999.,9,-999,9,-999,9
49UF20150202,KS15-02,4380,1,21,21980,2,20150207,1158,24.2407,163.2757,5673,252.2,250,15.7272,34.6021,2,-999.,9,212.65,2,5.83,2,6.07,2,0.01,2,0.41,2,-999.,9,-999.,9,-999.,9,-999,9,-999,9
49UF20150202,KS15-02,4380,1,20,21979,2,20150207,1156,24.2407,163.2757,5673,304.2,302,14.7494,34.5144,2,-999.,9,207.31,2,7.98,2,8.10,2,0.00,2,0.55,2,-999.,9,-999.,9,-999.,9,-999,9,-999,9
49UF20150202,KS15-02,4380,1,19,21978,2,20150207,1154,24.2407,163.2757,5673,406.0,403,11.8474,34.3046,2,-999.,9,199.14,2,16.21,2,13.73,2,0.00,2,0.96,2,-999.,9,-999.,9,-999.,9,-999,9,-999,9
49UF20150202,KS15-02,4380,1,15,21974,2,20150207,1151,24.2407,163.2757,5673,505.2,501,9.1274,34.1408,2,-999.,9,164.26,2,31.59,2,21.76,2,0.00,2,1.54,2,-999.,9,-999.,9,-999.,9,-999,9,-999,9
49UF20150202,KS15-02,4380,1,14,21973,2,20150207,1148,24.2407,163.2757,5673,607.6,603,6.8690,34.0745,2,-999.,9,121.27,2,53.91,2,29.83,2,0.00,2,2.14,2,-999.,9,-999.,9,-999.,9,-999,9,-999,9
49UF20150202,KS15-02,4380,1,13,21972,2,20150207,1145,24.2407,163.2757,5673,708.5,703,5.5466,34.1393,2,-999.,9,74.69,2,76.15,2,36.25,2,0.00,2,2.61,2,-999.,9,-999.,9,-999.,9,-999,9,-999,9
49UF20150202,KS15-02,4380,1,12,21994,2,20150207,1142,24.2407,163.2757,5673,808.7,802,4.6796,34.2370,2,-999.,9,50.34,2,95.16,2,39.80,2,0.00,2,2.87,2,-999.,9,-999.,9,-999.,9,-999,9,-999,9
49UF20150202,KS15-02,4380,1,11,21970,2,20150207,1140,24.2407,163.2757,5673,912.7,905,4.2983,34.2983,2,-999.,9,44.34,2,104.61,2,40.87,2,0.00,2,2.94,2,-999.,9,-999.,9,-999.,9,-999,9,-999,9
49UF20150202,KS15-02,4380,1,10,21969,2,20150207,1137,24.2407,163.2757,5673,1013.6,1005,3.8069,34.3835,2,-999.,9,44.99,2,116.17,2,41.37,2,0.00,2,2.97,2,-999.,9,-999.,9,-999.,9,-999,9,-999,9
49UF20150202,KS15-02,4380,1,6,24474,2,20150207,1132,24.2407,163.2757,5673,1213.6,1202,3.2340,34.4780,2,-999.,9,59.23,2,128.53,2,41.11,2,0.00,2,2.94,2,-999.,9,-999.,9,-999.,9,-999,9,-999,9
49UF20150202,KS15-02,4380,1,5,24272,2,20150207,1127,24.2407,163.2757,5673,1416.6,1403,2.8634,34.5240,2,-999.,9,69.82,2,135.53,2,40.68,2,0.00,2,2.90,2,-999.,9,-999.,9,-999.,9,-999,9,-999,9
49UF20150202,KS15-02,4380,1,4,21963,2,20150207,1123,24.2407,163.2757,5673,1618.3,1602,2.4433,34.5687,2,-999.,9,83.63,6,142.19,6,39.97,6,0.00,2,2.84,6,-999.,9,-999.,9,-999.,9,-999,9,-999,9
49UF20150202,KS15-02,4380,1,2,21961,2,20150207,1118,24.2407,163.2757,5673,1821.1,1802,2.1579,34.5951,2,-999.,9,93.37,2,147.19,2,39.46,2,0.00,2,2.78,2,-999.,9,-999.,9,-999.,9,-999,9,-999,9
49UF20150202,KS15-02,4380,1,3,24269,2,20150207,1118,24.2407,163.2757,5673,1821.6,1802,2.1583,34.5949,2,-999.,9,93.17,2,147.37,2,39.65,3,0.29,4,2.79,2,-999.,9,-999.,9,-999.,9,-999,9,-999,9
49UF20150202,KS15-02,4380,1,1,21960,2,20150207,1113,24.2407,163.2757,5673,2022.2,2000,1.9874,34.6117,2,-999.,9,100.23,2,149.95,2,39.16,2,0.00,2,2.76,2,-999.,9,-999.,9,-999.,9,-999,9,-999,9
49UF20150202,KS15-02,4382,1,-999,0,2,20150208,0457,23.9863,165.0168,6056,0.0,0,23.8115,35.3957,2,35.4082,4,211.26,2,1.11,2,0.09,2,0.00,2,0.02,2,1995.3,2,2321.1,2,8.0907,2,-999,9,-999,9
49UF20150202,KS15-02,4382,1,36,21995,2,20150208,0537,23.9863,165.0168,6056,10.3,10,23.8147,35.3958,2,35.3954,2,211.36,2,1.10,2,0.13,2,0.00,2,0.01,2,1995.9,2,2324.4,2,8.0904,2,-999,9,-999,9
49UF20150202,KS15-02,4382,1,35,22087,2,20150208,0536,23.9863,165.0168,6056,26.3,26,23.8252,35.3954,2,35.3954,2,211.37,2,1.09,2,0.05,2,0.00,2,0.01,2,1994.5,2,2323.1,2,8.0889,2,-999,9,-999,9
49UF20150202,KS15-02,4382,1,34,22666,2,20150208,0535,23.9863,165.0168,6056,50.8,50,23.8156,35.3936,2,35.3919,2,210.91,2,1.22,2,0.09,2,0.01,2,0.01,2,1996.2,2,2323.4,2,8.0901,2,-999,9,-999,9
49UF20150202,KS15-02,4382,1,33,21992,2,20150208,0533,23.9863,165.0168,6056,77.1,77,23.7602,35.3809,2,35.3801,2,211.06,2,1.20,2,0.00,2,0.00,2,0.02,2,1995.4,2,2321.5,2,8.0895,2,-999,9,-999,9
49UF20150202,KS15-02,4382,1,32,21991,2,20150208,0530,23.9863,165.0168,6056,101.9,101,23.5288,35.3304,2,35.3265,2,210.96,2,1.40,2,0.07,2,0.00,2,0.02,2,1999.1,2,2317.4,2,8.0835,2,-999,9,-999,9
49UF20150202,KS15-02,4382,1,31,24270,2,20150208,0529,23.9863,165.0168,6056,125.2,124,21.3508,35.1369,2,35.1310,2,204.78,2,1.99,2,0.42,2,0.11,2,0.07,2,2029.4,2,2307.5,2,8.0105,2,-999,9,-999,9
49UF20150202,KS15-02,4382,1,30,21989,2,20150208,0527,23.9863,165.0168,6056,151.1,150,19.5693,34.9771,2,34.9782,2,199.91,2,2.47,2,1.75,2,0.03,2,0.16,2,2042.6,2,2296.5,2,7.9761,2,-999,9,-999,9
49UF20150202,KS15-02,4382,1,29,21988,2,20150208,0525,23.9863,165.0168,6056,204.1,203,17.1826,34.7214,2,34.7216,2,206.60,2,3.87,2,4.17,2,0.01,2,0.29,2,2041.1,2,2278.9,2,7.9467,2,-999,9,-999,9
49UF20150202,KS15-02,4382,1,28,21987,3,20150208,0524,23.9863,165.0168,6056,252.7,251,16.2093,34.6360,2,34.6374,2,208.43,2,5.55,2,5.78,2,0.00,2,0.40,2,2049.3,2,2274.1,2,7.9221,2,-999,9,-999,9
49UF20150202,KS15-02,4382,1,27,21986,2,20150208,0522,23.9863,165.0168,6056,303.5,301,14.7722,34.5186,2,34.5238,2,203.09,6,8.32,6,8.38,6,0.00,6,0.57,6,2066.6,2,2271.7,2,7.8852,2,-999,9,-999,9
49UF20150202,KS15-02,4382,1,26,24271,2,20150208,0518,23.9863,165.0168,6056,403.8,401,11.5824,34.2880,2,34.2918,2,196.68,2,17.21,2,14.23,2,0.00,2,0.99,2,2104.2,2,2266.9,2,7.7853,6,-999,9,-999,9
49UF20150202,KS15-02,4382,1,25,21984,2,20150208,0515,23.9863,165.0168,6056,507.0,503,8.8794,34.1225,2,34.1259,2,167.26,2,32.63,2,21.87,2,0.00,2,1.56,2,2158.2,6,2271.9,6,7.6679,2,-999,9,-999,9
49UF20150202,KS15-02,4382,1,24,21983,2,20150208,0513,23.9863,165.0168,6056,602.7,598,6.6316,34.0641,2,34.0637,2,117.07,2,57.03,2,30.59,2,0.00,2,2.20,2,2228.4,2,2290.3,2,7.5249,2,-999,9,-999,9
49UF20150202,KS15-02,4382,1,23,22095,2,20150208,0509,23.9863,165.0168,6056,708.7,703,5.2399,34.1405,2,34.1346,4,69.25,2,81.07,2,37.04,2,0.00,2,2.68,2,2286.1,2,2313.3,2,7.4223,2,-999,9,-999,9
49UF20150202,KS15-02,4382,1,22,22665,2,20150208,0506,23.9863,165.0168,6056,810.0,803,4.5853,34.2348,2,34.2380,2,46.97,2,96.52,2,39.87,2,0.01,2,2.90,2,2321.0,2,2334.3,2,7.3801,2,-999,9,-999,9
49UF20150202,KS15-02,4382,1,21,21980,2,20150208,0503,23.9863,165.0168,6056,907.0,899,4.1555,34.3462,2,34.3454,2,43.80,2,108.12,2,41.05,2,0.00,2,2.97,2,2336.7,2,2353.2,2,7.3861,2,-999,9,-999,9
49UF20150202,KS15-02,4382,1,20,21979,2,20150208,0501,23.9863,165.0168,6056,1010.0,1001,3.8597,34.4050,2,34.4049,2,47.59,2,115.59,2,41.17,2,0.01,2,2.96,2,2340.9,2,2364.1,2,7.3993,2,-999,9,-999,9
49UF20150202,KS15-02,4382,1,19,21978,3,20150208,0456,23.9863,165.0168,6056,1213.3,1202,3.2892,34.4982,2,34.4978,6,64.10,2,126.14,2,40.48,2,0.00,2,2.90,2,2346.7,2,2381.9,2,7.4284,2,-999,9,-999,9
49UF20150202,KS15-02,4382,1,18,21977,2,20150208,0451,23.9863,165.0168,6056,1414.2,1400,2.7580,34.5432,2,34.5426,2,75.53,2,136.64,2,39.96,2,0.00,2,2.86,2,2353.7,2,2396.2,2,7.4511,2,-999,9,-999,9
49UF20150202,KS15-02,4382,1,17,23679,2,20150208,0446,23.9863,165.0168,6056,1618.7,1602,2.4433,34.5708,2,34.5681,2,84.04,2,143.02,2,39.83,2,0.00,2,2.83,2,2356.6,2,2402.6,2,7.4659,2,-999,9,-999,9
49UF20150202,KS15-02,4382,1,16,21975,2,20150208,0442,23.9863,165.0168,6056,1820.9,1801,2.1891,34.6012,2,34.6000,6,96.39,2,145.20,2,39.25,2,0.00,2,2.78,2,2353.6,2,2408.9,2,7.4899,6,-999,9,-999,9
49UF20150202,KS15-02,4382,1,15,21974,2,20150208,0437,23.9863,165.0168,6056,2027.1,2004,2.0103,34.6187,2,34.6172,2,103.78,2,148.51,2,38.88,2,0.00,2,2.75,2,2348.8,6,2412.9,6,7.5045,2,-999,9,-999,9
49UF20150202,KS15-02,4382,1,14,21973,2,20150208,0432,23.9863,165.0168,6056,2277.5,2251,1.8459,34.6349,2,34.6350,2,112.16,2,150.18,2,38.31,2,0.00,2,2.70,2,2350.9,2,2420.3,2,7.5148,2,-999,9,-999,9
49UF20150202,KS15-02,4382,1,13,21972,2,20150208,0427,23.9863,165.0168,6056,2535.1,2504,1.7385,34.6480,2,34.6470,2,119.43,6,151.59,6,37.83,6,0.00,6,2.66,6,2347.8,2,2417.8,2,7.5292,2,-999,9,-999,9
49UF20150202,KS15-02,4382,1,12,21994,2,20150208,0421,23.9863,165.0168,6056,2785.3,2749,1.6632,34.6559,2,34.6543,2,125.27,3,151.51,2,37.40,2,0.00,2,2.64,2,2346.7,2,2416.5,2,7.5386,2,-999,9,-999,9
49UF20150202,KS15-02,4382,1,11,21970,2,20150208,0416,23.9863,165.0168,6056,3043.1,3002,1.6043,34.6631,2,34.6630,6,131.35,3,151.46,2,37.22,2,0.00,2,2.60,2,2341.2,2,2419.1,2,7.5495,2,-999,9,-999,9
49UF20150202,KS15-02,4382,1,10,21969,2,20150208,0411,23.9863,165.0168,6056,3300.3,3254,1.5634,34.6687,2,34.6649,4,136.18,3,150.57,2,36.79,2,0.00,2,2.58,2,2338.1,2,2417.7,2,7.5568,2,-999,9,-999,9
49UF20150202,KS15-02,4382,1,9,21968,2,20150208,0405,23.9863,165.0168,6056,3554.4,3502,1.5308,34.6732,2,34.6715,2,141.29,2,150.92,2,36.42,2,0.00,2,2.55,2,2335.0,2,2419.2,2,7.5628,2,-999,9,-999,9
49UF20150202,KS15-02,4382,1,8,21982,2,20150208,0400,23.9863,165.0168,6056,3807.4,3749,1.5073,34.6771,2,34.6764,2,146.44,3,149.33,2,36.25,2,0.00,2,2.53,2,2329.9,2,2418.0,2,7.5713,2,-999,9,-999,9
49UF20150202,KS15-02,4382,1,7,21966,3,20150208,0355,23.9863,165.0168,6056,4065.5,4001,1.4900,34.6808,2,34.6788,2,150.03,2,147.39,2,35.94,2,0.00,2,2.50,2,2328.3,2,2416.2,2,7.5711,3,-999,9,-999,9
49UF20150202,KS15-02,4382,1,6,24474,2,20150208,0344,23.9863,165.0168,6056,4580.0,4502,1.4762,34.6866,2,34.6857,2,160.49,2,143.07,2,35.15,2,0.00,2,2.45,2,2319.3,2,2411.4,2,7.5879,6,-999,9,-999,9
49UF20150202,KS15-02,4382,1,5,24272,2,20150208,0334,23.9863,165.0168,6056,5092.0,5000,1.4718,34.6918,2,34.6915,2,169.80,3,136.73,2,34.56,2,0.00,2,2.40,2,2309.9,6,2406.1,6,7.5972,2,-999,9,-999,9
49UF20150202,KS15-02,4382,1,4,21963,2,20150208,0328,23.9863,165.0168,6056,5349.0,5249,1.4784,34.6936,2,34.6945,2,173.06,3,135.06,6,34.29,6,0.00,6,2.38,6,2303.6,2,2400.3,2,7.6036,2,-999,9,-999,9
49UF20150202,KS15-02,4382,1,3,24269,2,20150208,0322,23.9863,165.0168,6056,5608.1,5501,1.4943,34.6949,2,34.6924,4,174.12,2,134.13,2,34.14,2,0.01,2,2.37,2,2300.2,2,2401.3,2,7.6034,2,-999,9,-999,9
49UF20150202,KS15-02,4382,1,2,21961,2,20150208,0317,23.9863,165.0168,6056,5868.0,5752,1.5164,34.6957,2,34.6953,2,176.49,2,132.71,2,34.02,2,0.00,2,2.36,2,2300.0,2,2399.7,2,7.6068,2,-999,9,-999,9
49UF20150202,KS15-02,4382,1,1,21960,2,20150208,0311,23.9863,165.0168,6056,6128.1,6004,1.5490,34.6958,2,34.6959,6,177.56,2,132.41,2,33.92,2,0.00,2,2.36,2,2300.4,2,2398.4,2,7.6060,2,-999,9,-999,9
49UF20150202,KS15-02,4384,1,-999,0,2,20150209,1710,24.2372,156.8213,5668,0.0,0,22.4582,35.1573,2,-999.,9,216.59,2,1.40,2,0.10,2,0.00,2,0.02,2,-999.,9,-999.,9,-999.,9,-999,9,-999,9
49UF20150202,KS15-02,4384,1,33,21992,2,20150209,1738,24.2372,156.8213,5668,9.7,10,22.4588,35.1569,2,-999.,9,215.07,2,1.40,2,0.14,2,0.00,2,0.01,2,-999.,9,-999.,9,-999.,9,-999,9,-999,9
49UF20150202,KS15-02,4384,1,32,21991,2,20150209,1737,24.2372,156.8213,5668,24.9,25,22.4577,35.1568,2,-999.,9,215.17,2,1.40,2,0.12,2,0.00,2,0.01,2,-999.,9,-999.,9,-999.,9,-999,9,-999,9
49UF20150202,KS15-02,4384,1,31,24270,2,20150209,1736,24.2372,156.8213,5668,51.0,51,21.7407,35.1684,2,-999.,9,217.99,2,1.51,2,0.15,2,0.00,2,0.01,2,-999.,9,-999.,9,-999.,9,-999,9,-999,9
49UF20150202,KS15-02,4384,1,30,21989,2,20150209,1734,24.2372,156.8213,5668,77.7,77,21.5926,35.1561,2,-999.,9,218.39,6,1.55,6,0.11,6,0.00,6,0.01,6,-999.,9,-999.,9,-999.,9,-999,9,-999,9
49UF20150202,KS15-02,4384,1,28,21987,2,20150209,1731,24.2372,156.8213,5668,101.5,101,21.6029,35.1720,2,-999.,9,218.32,2,1.57,2,0.17,2,0.00,2,0.02,2,-999.,9,-999.,9,-999.,9,-999,9,-999,9
49UF20150202,KS15-02,4384,1,29,21988,2,20150209,1731,24.2372,156.8213,5668,102.3,102,21.6056,35.1731,2,-999.,9,218.81,2,1.55,2,0.17,2,0.00,2,0.02,2,-999.,9,-999.,9,-999.,9,-999,9,-999,9
49UF20150202,KS15-02,4384,1,24,21983,2,20150209,1730,24.2372,156.8213,5668,127.7,127,21.4560,35.1315,2,-999.,9,217.98,2,1.58,2,0.17,2,0.01,2,0.02,2,-999.,9,-999.,9,-999.,9,-999,9,-999,9
49UF20150202,KS15-02,4384,1,23,22095,2,20150209,1728,24.2372,156.8213,5668,151.6,151,18.4686,34.7993,2,-999.,9,205.46,2,2.94,2,2.27,2,0.02,2,0.17,2,-999.,9,-999.,9,-999.,9,-999,9,-999,9
49UF20150202,KS15-02,4384,1,22,22665,2,20150209,1726,24.2372,156.8213,5668,203.1,202,17.0724,34.7041,2,-999.,9,207.33,2,4.10,2,4.72,2,0.01,2,0.31,2,-999.,9,-999.,9,-999.,9,-999,9,-999,9
49UF20150202,KS15-02,4384,1,21,21980,2,20150209,1725,24.2372,156.8213,5668,251.5,250,16.5200,34.6747,2,-999.,9,204.96,3,3.74,2,4.15,2,0.01,2,0.28,2,-999.,9,-999.,9,-999.,9,-999,9,-999,9
49UF20150202,KS15-02,4384,1,20,21979,2,20150209,1723,24.2372,156.8213,5668,302.9,301,15.4224,34.5732,2,-999.,9,201.54,2,7.45,2,7.80,2,0.00,2,0.53,2,-999.,9,-999.,9,-999.,9,-999,9,-999,9
49UF20150202,KS15-02,4384,1,19,21978,2,20150209,1720,24.2372,156.8213,5668,405.3,402,12.4561,34.3515,2,-999.,9,193.20,2,15.04,2,13.12,2,0.00,2,0.91,2,-999.,9,-999.,9,-999.,9,-999,9,-999,9
49UF20150202,KS15-02,4384,1,15,21974,2,20150209,1717,24.2372,156.8213,5668,504.7,501,9.7073,34.1725,2,-999.,9,169.51,2,27.86,2,20.16,2,0.00,2,1.43,2,-999.,9,-999.,9,-999.,9,-999,9,-999,9
49UF20150202,KS15-02,4384,1,14,21973,3,20150209,1714,24.2372,156.8213,5668,606.5,602,7.7170,34.0950,2,-999.,9,136.83,2,44.92,2,26.81,2,0.00,2,1.92,2,-999.,9,-999.,9,-999.,9,-999,9,-999,9
49UF20150202,KS15-02,4384,1,13,21972,2,20150209,1711,24.2372,156.8213,5668,706.2,701,5.9977,34.0990,2,-999.,9,94.50,6,67.56,6,33.76,6,0.00,6,2.44,6,-999.,9,-999.,9,-999.,9,-999,9,-999,9
49UF20150202,KS15-02,4384,1,12,21994,2,20150209,1708,24.2372,156.8213,5668,806.3,800,4.9463,34.1681,2,-999.,9,63.32,2,88.42,2,38.16,2,0.00,2,2.76,2,-999.,9,-999.,9,-999.,9,-999,9,-999,9
49UF20150202,KS15-02,4384,1,11,21970,2,20150209,1706,24.2372,156.8213,5668,911.7,904,4.2205,34.2811,2,-999.,9,44.55,2,106.62,2,40.85,2,0.00,2,2.95,2,-999.,9,-999.,9,-999.,9,-999,9,-999,9
49UF20150202,KS15-02,4384,1,10,21969,2,20150209,1703,24.2372,156.8213,5668,1011.1,1002,3.8689,34.3716,2,-999.,9,45.36,2,115.54,2,41.17,2,0.00,2,2.97,2,-999.,9,-999.,9,-999.,9,-999,9,-999,9
49UF20150202,KS15-02,4384,1,5,24272,2,20150209,1658,24.2372,156.8213,5668,1213.3,1202,3.2080,34.4890,2,-999.,9,63.26,2,128.40,2,40.61,2,0.00,2,2.91,2,-999.,9,-999.,9,-999.,9,-999,9,-999,9
49UF20150202,KS15-02,4384,1,6,24474,2,20150209,1658,24.2372,156.8213,5668,1213.9,1203,3.2081,34.4889,2,-999.,9,63.34,2,128.48,2,40.73,2,0.00,2,2.91,2,-999.,9,-999.,9,-999.,9,-999,9,-999,9
49UF20150202,KS15-02,4384,1,4,21963,2,20150209,1653,24.2372,156.8213,5668,1416.0,1402,2.7036,34.5357,2,-999.,9,74.64,2,138.53,2,40.29,2,0.00,2,2.87,2,-999.,9,-999.,9,-999.,9,-999,9,-999,9
49UF20150202,KS15-02,4384,1,3,24269,2,20150209,1649,24.2372,156.8213,5668,1616.8,1600,2.4659,34.5605,2,-999.,9,83.12,2,141.53,2,39.86,2,0.00,2,2.84,2,-999.,9,-999.,9,-999.,9,-999,9,-999,9
49UF20150202,KS15-02,4384,1,2,21961,2,20150209,1645,24.2372,156.8213,5668,1819.3,1800,2.1837,34.5885,2,-999.,9,92.61,2,146.75,2,39.38,2,0.00,2,2.79,2,-999.,9,-999.,9,-999.,9,-999,9,-999,9
49UF20150202,KS15-02,4384,1,1,21960,2,20150209,1640,24.2372,156.8213,5668,2025.6,2003,1.9822,34.6108,2,-999.,9,101.68,2,149.44,2,38.88,2,0.00,2,2.75,2,-999.,9,-999.,9,-999.,9,-999,9,-999,9