BOTTLE,20171119JMAGEMD
EXPOCODE,SECT_ID,STNNBR,CASTNO,SAMPNO,BTLNBR,BTLNBR_FLAG_W,DATE,TIME,LATITUDE,LONGITUDE,DEPTH,CTDPRS,CTDDEP,CTDTMP,CTDSAL,CTDSAL_FLAG_W,SALNTY,SALNTY_FLAG_W,OXYGEN,OXYGEN_FLAG_W,SILCAT,SILCAT_FLAG_W,NO2+NO3,NO2+NO3_FLAG_W,NITRIT,NITRIT_FLAG_W,PHSPHT,PHSPHT_FLAG_W,TCARBN,TCARBN_FLAG_W,ALKALI,ALKALI_FLAG_W,PH_TOT,PH_TOT_FLAG_W,CFC-11,CFC-11_FLAG_W,CFC-12,CFC-12_FLAG_W
,,,,,,,UTC,UTC,,,METER,DBAR,METERS,ITS-90,PSS-78,,PSS-78,,UMOL/KG,,UMOL/KG,,UMOL/KG,,UMOL/KG,,UMOL/KG,,UMOL/KG,,UMOL/KG,,@25DEG-C,,PMOL/KG,,PMOL/KG,
49UF20140623,KS14-05,4211,1,-999,0,2,20140701,0710,15.9818,136.9662,5227,0.0,0,31.1329,34.7504,2,-999.,9,192.46,2,0.88,2,0.05,2,0.01,2,0.01,2,-999.,9,-999.,9,-999.,9,-999,9,-999,9
49UF20140623,KS14-05,4211,1,36,21995,2,20140701,0730,15.9818,136.9662,5227,11.6,12,31.1384,34.7497,2,-999.,9,193.32,2,0.89,2,0.03,2,0.01,2,0.01,2,-999.,9,-999.,9,-999.,9,-999,9,-999,9
49UF20140623,KS14-05,4211,1,35,22087,2,20140701,0729,15.9818,136.9662,5227,26.6,26,30.8951,34.7361,2,-999.,9,195.35,2,0.89,2,0.03,2,0.01,2,0.02,2,-999.,9,-999.,9,-999.,9,-999,9,-999,9
49UF20140623,KS14-05,4211,1,34,22666,2,20140701,0728,15.9818,136.9662,5227,51.7,51,28.6085,34.9169,2,-999.,9,209.94,2,0.83,2,0.02,2,0.01,2,0.01,2,-999.,9,-999.,9,-999.,9,-999,9,-999,9
49UF20140623,KS14-05,4211,1,33,21992,2,20140701,0727,15.9818,136.9662,5227,77.0,77,27.1513,35.0100,2,-999.,9,208.55,2,0.86,2,0.03,2,0.01,2,0.02,2,-999.,9,-999.,9,-999.,9,-999,9,-999,9
49UF20140623,KS14-05,4211,1,32,21991,2,20140701,0725,15.9818,136.9662,5227,102.1,101,26.2375,35.0376,2,-999.,9,204.36,2,0.90,2,0.02,2,0.01,2,0.03,2,-999.,9,-999.,9,-999.,9,-999,9,-999,9
49UF20140623,KS14-05,4211,1,31,21990,2,20140701,0724,15.9818,136.9662,5227,127.6,127,25.5006,35.0537,2,-999.,9,196.74,2,1.05,2,0.04,2,0.01,2,0.05,2,-999.,9,-999.,9,-999.,9,-999,9,-999,9
49UF20140623,KS14-05,4211,1,30,21989,2,20140701,0722,15.9818,136.9662,5227,153.4,152,24.0912,35.0082,2,-999.,9,201.44,2,1.18,2,0.17,2,0.13,2,0.04,2,-999.,9,-999.,9,-999.,9,-999,9,-999,9
49UF20140623,KS14-05,4211,1,29,21988,2,20140701,0720,15.9818,136.9662,5227,203.8,202,20.9489,34.9692,2,-999.,9,183.59,2,2.24,2,2.32,2,0.02,2,0.19,2,-999.,9,-999.,9,-999.,9,-999,9,-999,9
49UF20140623,KS14-05,4211,1,28,21987,2,20140701,0719,15.9818,136.9662,5227,254.9,253,17.7667,34.7610,2,-999.,9,192.81,2,4.03,2,4.88,2,0.01,2,0.34,2,-999.,9,-999.,9,-999.,9,-999,9,-999,9
49UF20140623,KS14-05,4211,1,27,21986,2,20140701,0717,15.9818,136.9662,5227,304.7,303,16.1013,34.6291,2,-999.,9,195.99,2,6.37,2,7.14,2,0.01,2,0.49,2,-999.,9,-999.,9,-999.,9,-999,9,-999,9
49UF20140623,KS14-05,4211,1,26,21985,2,20140701,0715,15.9818,136.9662,5227,355.5,353,14.0360,34.4684,2,-999.,9,185.47,2,11.22,2,11.14,2,0.01,2,0.78,2,-999.,9,-999.,9,-999.,9,-999,9,-999,9
49UF20140623,KS14-05,4211,1,25,21984,2,20140701,0714,15.9818,136.9662,5227,404.5,402,11.8963,34.3215,2,-999.,9,174.97,6,18.27,6,15.67,6,0.01,6,1.12,6,-999.,9,-999.,9,-999.,9,-999,9,-999,9
49UF20140623,KS14-05,4211,1,24,21983,2,20140701,0712,15.9818,136.9662,5227,455.6,452,9.8406,34.2385,2,-999.,9,139.03,2,30.24,2,22.60,2,0.01,2,1.65,2,-999.,9,-999.,9,-999.,9,-999,9,-999,9
49UF20140623,KS14-05,4211,1,23,22095,2,20140701,0710,15.9818,136.9662,5227,506.6,503,8.4941,34.2232,2,-999.,9,111.28,2,41.91,2,27.83,2,0.01,2,2.04,2,-999.,9,-999.,9,-999.,9,-999,9,-999,9
49UF20140623,KS14-05,4211,1,22,22665,2,20140701,0708,15.9818,136.9662,5227,606.5,602,6.7488,34.2979,2,-999.,9,73.41,2,63.24,2,34.80,2,0.01,2,2.54,2,-999.,9,-999.,9,-999.,9,-999,9,-999,9
49UF20140623,KS14-05,4211,1,21,21980,2,20140701,0706,15.9818,136.9662,5227,709.4,704,5.8637,34.4012,2,-999.,9,64.09,6,73.15,6,37.18,6,0.00,6,2.70,6,-999.,9,-999.,9,-999.,9,-999,9,-999,9
49UF20140623,KS14-05,4211,1,20,21979,2,20140701,0703,15.9818,136.9662,5227,808.7,802,5.3026,34.4555,2,-999.,9,67.23,2,83.72,2,38.31,2,0.00,2,2.77,2,-999.,9,-999.,9,-999.,9,-999,9,-999,9
49UF20140623,KS14-05,4211,1,19,21978,2,20140701,0700,15.9818,136.9662,5227,907.7,900,4.7716,34.4965,2,-999.,9,74.92,2,92.31,2,38.59,2,0.00,2,2.78,2,-999.,9,-999.,9,-999.,9,-999,9,-999,9
49UF20140623,KS14-05,4211,1,18,21977,2,20140701,0658,15.9818,136.9662,5227,1014.2,1006,4.3478,34.5187,2,-999.,9,78.65,2,100.16,2,38.88,2,0.00,2,2.79,2,-999.,9,-999.,9,-999.,9,-999,9,-999,9
49UF20140623,KS14-05,4211,1,17,23679,2,20140701,0652,15.9818,136.9662,5227,1211.6,1201,3.6079,34.5504,2,-999.,9,86.57,2,114.74,2,38.96,2,0.00,2,2.79,2,-999.,9,-999.,9,-999.,9,-999,9,-999,9
49UF20140623,KS14-05,4211,1,16,21975,2,20140701,0647,15.9818,136.9662,5227,1416.2,1403,3.1166,34.5687,2,-999.,9,93.18,2,124.84,2,38.87,2,0.00,2,2.77,2,-999.,9,-999.,9,-999.,9,-999,9,-999,9
49UF20140623,KS14-05,4211,1,15,21974,2,20140701,0642,15.9818,136.9662,5227,1618.5,1603,2.6268,34.5906,2,-999.,9,99.73,2,134.00,2,38.87,2,0.00,2,2.76,2,-999.,9,-999.,9,-999.,9,-999,9,-999,9
49UF20140623,KS14-05,4211,1,14,21973,2,20140701,0638,15.9818,136.9662,5227,1822.2,1804,2.3162,34.6082,2,-999.,9,105.78,2,139.25,2,38.76,2,0.00,2,2.74,2,-999.,9,-999.,9,-999.,9,-999,9,-999,9
49UF20140623,KS14-05,4211,1,13,21972,2,20140701,0633,15.9818,136.9662,5227,2028.4,2007,2.0901,34.6248,2,-999.,9,112.81,2,142.21,2,38.43,2,0.00,2,2.71,2,-999.,9,-999.,9,-999.,9,-999,9,-999,9
49UF20140623,KS14-05,4211,1,12,21994,2,20140701,0627,15.9818,136.9662,5227,2278.0,2252,1.8859,34.6413,2,-999.,9,121.52,2,144.90,2,38.02,2,0.00,2,2.68,2,-999.,9,-999.,9,-999.,9,-999,9,-999,9
49UF20140623,KS14-05,4211,1,11,21970,2,20140701,0619,15.9818,136.9662,5227,2534.3,2504,1.7741,34.6518,2,-999.,9,127.72,6,145.52,6,37.62,6,0.00,6,2.64,6,-999.,9,-999.,9,-999.,9,-999,9,-999,9
49UF20140623,KS14-05,4211,1,10,21969,2,20140701,0612,15.9818,136.9662,5227,2787.3,2753,1.7131,34.6583,2,-999.,9,131.87,2,145.47,2,37.29,2,0.00,2,2.62,2,-999.,9,-999.,9,-999.,9,-999,9,-999,9
49UF20140623,KS14-05,4211,1,9,21968,2,20140701,0607,15.9818,136.9662,5227,3042.5,3003,1.6520,34.6651,2,-999.,9,137.45,2,145.06,2,36.94,2,0.00,2,2.58,2,-999.,9,-999.,9,-999.,9,-999,9,-999,9
49UF20140623,KS14-05,4211,1,8,21982,2,20140701,0602,15.9818,136.9662,5227,3298.1,3253,1.5987,34.6708,2,-999.,9,143.09,2,144.54,2,36.66,2,0.00,2,2.56,2,-999.,9,-999.,9,-999.,9,-999,9,-999,9
49UF20140623,KS14-05,4211,1,7,21966,2,20140701,0556,15.9818,136.9662,5227,3552.6,3502,1.5687,34.6749,2,-999.,9,147.35,2,143.62,2,36.40,2,0.00,2,2.54,2,-999.,9,-999.,9,-999.,9,-999,9,-999,9
49UF20140623,KS14-05,4211,1,6,21965,2,20140701,0551,15.9818,136.9662,5227,3807.1,3751,1.5394,34.6789,2,-999.,9,151.52,2,142.71,2,36.14,2,0.00,2,2.52,2,-999.,9,-999.,9,-999.,9,-999,9,-999,9
49UF20140623,KS14-05,4211,1,5,22085,2,20140701,0546,15.9818,136.9662,5227,4065.0,4003,1.5138,34.6824,2,-999.,9,154.00,2,140.42,2,35.80,2,0.00,2,2.50,2,-999.,9,-999.,9,-999.,9,-999,9,-999,9
49UF20140623,KS14-05,4211,1,4,21963,2,20140701,0540,15.9818,136.9662,5227,4320.5,4252,1.5023,34.6853,2,-999.,9,159.82,2,139.94,2,35.55,2,0.00,2,2.47,2,-999.,9,-999.,9,-999.,9,-999,9,-999,9
49UF20140623,KS14-05,4211,1,3,22079,2,20140701,0535,15.9818,136.9662,5227,4576.9,4502,1.5161,34.6866,2,-999.,9,160.39,6,139.40,6,35.53,6,0.00,6,2.47,6,-999.,9,-999.,9,-999.,9,-999,9,-999,9
49UF20140623,KS14-05,4211,1,2,21961,2,20140701,0525,15.9818,136.9662,5227,5088.8,4999,1.5730,34.6868,2,-999.,9,161.80,2,139.23,2,35.46,2,0.00,2,2.46,2,-999.,9,-999.,9,-999.,9,-999,9,-999,9
49UF20140623,KS14-05,4211,1,1,21960,2,20140701,0521,15.9818,136.9662,5227,5250.1,5156,1.5913,34.6872,2,-999.,9,161.82,2,139.37,2,35.50,2,0.00,2,2.46,2,-999.,9,-999.,9,-999.,9,-999,9,-999,9
49UF20140623,KS14-05,4212,1,-999,0,2,20140701,1550,15.0133,136.9887,5556,0.0,0,30.8522,34.2601,2,34.2561,2,191.22,2,1.03,2,0.00,2,0.00,2,0.02,2,1910.4,2,2247.1,2,8.1276,2,-999,9,-999,9
49UF20140623,KS14-05,4212,1,36,21995,2,20140701,1614,15.0133,136.9887,5556,12.3,12,30.8580,34.2665,2,34.2666,6,191.56,2,0.97,2,0.00,2,0.00,2,0.02,2,1911.5,2,2247.1,2,8.1305,2,-999,9,-999,9
49UF20140623,KS14-05,4212,1,35,22087,2,20140701,1613,15.0133,136.9887,5556,27.0,27,30.6721,34.3076,2,-999.0000,9,196.50,2,0.95,2,0.00,2,0.00,2,0.02,2,1914.0,2,2252.3,2,8.1255,2,-999,9,-999,9
49UF20140623,KS14-05,4212,1,34,22666,2,20140701,1610,15.0133,136.9887,5556,52.8,52,28.9256,34.6875,2,-999.0000,9,204.63,2,0.85,2,0.00,2,0.00,2,0.05,2,1936.3,2,2279.8,2,8.1223,2,-999,9,-999,9
49UF20140623,KS14-05,4212,1,33,21992,2,20140701,1609,15.0133,136.9887,5556,76.8,76,28.0655,34.9119,2,-999.0000,9,205.37,2,0.87,2,0.00,2,0.00,2,0.05,2,1948.6,2,2292.1,2,8.1119,2,-999,9,-999,9
49UF20140623,KS14-05,4212,1,32,21991,2,20140701,1608,15.0133,136.9887,5556,102.5,102,27.5067,35.0217,2,35.0376,4,199.54,2,0.91,2,0.00,2,0.00,2,0.08,2,1969.5,2,2301.8,2,8.1098,2,-999,9,-999,9
49UF20140623,KS14-05,4212,1,31,21990,2,20140701,1607,15.0133,136.9887,5556,127.6,127,26.1918,35.1524,2,-999.0000,9,190.17,2,1.01,2,0.06,2,0.05,2,0.09,2,1995.1,2,2308.3,2,8.0730,2,-999,9,-999,9
49UF20140623,KS14-05,4212,1,30,21989,2,20140701,1606,15.0133,136.9887,5556,153.1,152,24.8384,35.0674,2,-999.0000,9,189.79,2,1.13,2,0.32,2,0.10,2,0.08,2,1998.8,2,2302.2,2,8.0612,2,-999,9,-999,9
49UF20140623,KS14-05,4212,1,29,21988,2,20140701,1604,15.0133,136.9887,5556,203.1,202,21.7764,35.0537,2,35.0392,4,177.93,2,2.07,2,2.22,2,0.02,2,0.22,2,2039.6,2,2299.3,2,7.9766,2,-999,9,-999,9
49UF20140623,KS14-05,4212,1,28,21987,2,20140701,1603,15.0133,136.9887,5556,254.1,252,17.7816,34.7707,2,-999.0000,9,182.35,6,4.74,6,5.82,6,0.01,6,0.45,6,2062.0,2,2285.9,2,7.9120,2,-999,9,-999,9
49UF20140623,KS14-05,4212,1,27,21986,2,20140701,1601,15.0133,136.9887,5556,303.9,302,15.5664,34.5855,2,-999.0000,9,192.63,2,7.59,2,8.22,2,0.00,2,0.58,2,2065.3,2,2272.5,2,7.8934,2,-999,9,-999,9
49UF20140623,KS14-05,4212,1,26,21985,2,20140701,1600,15.0133,136.9887,5556,353.2,351,12.7518,34.3774,2,-999.0000,9,179.65,2,15.40,2,13.90,2,0.00,2,0.99,2,2105.7,2,2268.0,2,7.7803,6,-999,9,-999,9
49UF20140623,KS14-05,4212,1,25,21984,2,20140701,1558,15.0133,136.9887,5556,403.6,401,10.6329,34.2747,2,34.2730,2,142.80,2,26.42,2,20.96,2,0.00,2,1.54,2,2155.2,2,2273.3,2,7.6719,2,-999,9,-999,9
49UF20140623,KS14-05,4212,1,24,21983,2,20140701,1557,15.0133,136.9887,5556,454.8,452,9.2206,34.2216,2,-999.0000,9,125.90,2,35.24,2,24.97,2,0.00,2,1.83,2,2186.9,2,2279.8,2,7.6064,2,-999,9,-999,9
49UF20140623,KS14-05,4212,1,23,22095,2,20140701,1555,15.0133,136.9887,5556,506.0,502,7.8994,34.2310,2,-999.0000,9,96.09,2,47.86,2,30.24,2,0.00,2,2.22,2,2233.9,2,2291.1,2,7.5256,2,-999,9,-999,9
49UF20140623,KS14-05,4212,1,22,22665,2,20140701,1552,15.0133,136.9887,5556,606.5,602,6.3571,34.3491,2,34.3503,2,67.02,6,68.22,6,36.11,6,0.00,6,2.64,6,2275.8,2,2318.5,2,7.4595,2,-999,9,-999,9
49UF20140623,KS14-05,4212,1,21,21980,4,20140701,1550,15.0133,136.9887,5556,705.6,700,5.6271,34.4370,2,-999.0000,9,132.18,4,30.30,4,22.98,4,0.00,4,1.69,4,2172.5,4,2275.8,4,7.6373,4,-999,9,-999,9
49UF20140623,KS14-05,4212,1,20,21979,2,20140701,1548,15.0133,136.9887,5556,806.8,801,5.0307,34.4884,2,34.4903,2,76.54,2,86.80,2,38.01,2,0.00,2,2.74,2,2300.0,2,2349.6,2,7.4790,2,-999,9,-999,9
49UF20140623,KS14-05,4212,1,19,21978,2,20140701,1545,15.0133,136.9887,5556,908.5,901,4.6291,34.5159,2,-999.0000,9,80.85,2,93.08,2,38.23,2,0.00,2,2.75,2,2306.8,2,2358.2,2,7.4813,2,-999,9,-999,9
49UF20140623,KS14-05,4212,1,18,21977,2,20140701,1543,15.0133,136.9887,5556,1010.4,1002,4.2713,34.5362,2,34.5354,2,84.23,2,99.58,2,38.44,2,0.00,2,2.76,2,2312.0,6,2366.5,6,7.4849,2,-999,9,-999,9
49UF20140623,KS14-05,4212,1,17,23679,2,20140701,1538,15.0133,136.9887,5556,1211.9,1201,3.6033,34.5596,2,34.5602,2,89.89,2,112.88,2,38.69,2,0.00,2,2.78,2,2326.9,2,2378.9,2,7.4907,2,-999,9,-999,9
49UF20140623,KS14-05,4212,1,16,21975,2,20140701,1534,15.0133,136.9887,5556,1415.1,1402,3.0699,34.5756,2,34.5767,2,95.20,2,124.62,2,38.77,2,0.00,2,2.77,2,2335.1,2,2392.0,2,7.4980,2,-999,9,-999,9
49UF20140623,KS14-05,4212,1,15,21974,2,20140701,1529,15.0133,136.9887,5556,1617.5,1602,2.6716,34.5926,2,34.5922,6,100.58,2,132.23,2,38.72,2,0.00,2,2.76,2,2337.6,2,2399.8,2,7.5017,2,-999,9,-999,9
49UF20140623,KS14-05,4212,1,14,21973,2,20140701,1525,15.0133,136.9887,5556,1819.6,1801,2.3225,34.6122,2,34.6134,2,107.18,2,137.94,2,38.53,2,0.00,2,2.73,2,2342.3,2,2407.3,2,7.5139,2,-999,9,-999,9
49UF20140623,KS14-05,4212,1,13,21972,2,20140701,1521,15.0133,136.9887,5556,2023.3,2002,2.0723,34.6285,2,34.6298,2,114.31,2,141.83,2,38.26,2,0.00,2,2.70,2,2342.9,2,2410.6,2,7.5172,2,-999,9,-999,9
49UF20140623,KS14-05,4212,1,12,21994,2,20140701,1516,15.0133,136.9887,5556,2277.2,2252,1.8937,34.6437,2,34.6434,2,122.30,6,143.95,6,37.81,6,0.00,6,2.67,6,2342.5,2,2413.3,2,7.5369,2,-999,9,-999,9
49UF20140623,KS14-05,4212,1,11,21970,2,20140701,1511,15.0133,136.9887,5556,2532.0,2502,1.7926,34.6528,2,34.6529,2,127.34,2,145.25,2,37.55,2,0.00,2,2.64,2,2340.3,2,2415.2,2,7.5441,2,-999,9,-999,9
49UF20140623,KS14-05,4212,1,10,21969,2,20140701,1505,15.0133,136.9887,5556,2787.2,2753,1.7107,34.6601,2,34.6601,2,132.60,2,145.55,2,37.18,2,0.00,2,2.61,2,2337.5,2,2416.5,2,7.5496,2,-999,9,-999,9
49UF20140623,KS14-05,4212,1,9,21968,2,20140701,1500,15.0133,136.9887,5556,3042.1,3003,1.6509,34.6658,2,34.6656,2,136.91,2,145.28,2,36.91,2,0.00,2,2.59,2,2333.9,2,2417.3,2,7.5548,2,-999,9,-999,9
49UF20140623,KS14-05,4212,1,8,21982,2,20140701,1455,15.0133,136.9887,5556,3297.7,3253,1.6024,34.6708,2,34.6711,2,142.69,2,144.43,2,36.60,2,0.00,2,2.56,2,2330.1,2,2417.0,2,7.5659,2,-999,9,-999,9
49UF20140623,KS14-05,4212,1,7,21966,2,20140701,1450,15.0133,136.9887,5556,3551.5,3501,1.5664,34.6752,2,34.6749,2,147.26,2,143.45,2,36.31,2,0.00,2,2.54,2,2329.1,2,2414.3,2,7.5704,6,-999,9,-999,9
49UF20140623,KS14-05,4212,1,6,21965,2,20140701,1440,15.0133,136.9887,5556,4063.9,4002,1.5146,34.6827,2,34.6829,2,156.23,2,140.94,2,35.64,2,0.00,2,2.49,2,2321.3,6,2412.4,6,7.5850,2,-999,9,-999,9
49UF20140623,KS14-05,4212,1,5,22085,2,20140701,1435,15.0133,136.9887,5556,4319.4,4251,1.5061,34.6852,2,34.6826,4,158.37,6,139.34,6,35.48,6,0.00,6,2.48,6,2321.7,2,2411.8,2,7.5850,2,-999,9,-999,9
49UF20140623,KS14-05,4212,1,4,21963,2,20140701,1430,15.0133,136.9887,5556,4576.8,4502,1.5166,34.6868,2,34.6867,6,161.42,2,138.97,2,35.32,2,0.00,2,2.46,2,2316.8,2,2410.2,2,7.5910,2,-999,9,-999,9
49UF20140623,KS14-05,4212,1,3,22079,4,20140701,1420,15.0133,136.9887,5556,5090.4,5001,1.5731,34.6873,2,34.6162,4,109.23,4,139.17,4,38.42,4,0.00,4,2.72,4,2340.6,4,2406.6,4,7.5146,4,-999,9,-999,9
49UF20140623,KS14-05,4212,1,2,21961,2,20140701,1415,15.0133,136.9887,5556,5348.9,5252,1.6053,34.6871,2,34.6871,2,162.21,2,138.74,2,35.27,2,0.00,2,2.46,2,2314.8,6,2409.7,6,7.5893,2,-999,9,-999,9
49UF20140623,KS14-05,4212,1,1,21960,2,20140701,1407,15.0133,136.9887,5556,5672.8,5566,1.6469,34.6873,2,34.6874,2,162.11,2,138.53,2,35.26,2,0.00,2,2.45,2,2316.0,2,2409.6,2,7.5913,2,-999,9,-999,9