BOTTLE,20171119JMAGEMD
EXPOCODE,SECT_ID,STNNBR,CASTNO,SAMPNO,BTLNBR,BTLNBR_FLAG_W,DATE,TIME,LATITUDE,LONGITUDE,DEPTH,CTDPRS,CTDDEP,CTDTMP,CTDSAL,CTDSAL_FLAG_W,SALNTY,SALNTY_FLAG_W,OXYGEN,OXYGEN_FLAG_W,SILCAT,SILCAT_FLAG_W,NO2+NO3,NO2+NO3_FLAG_W,NITRIT,NITRIT_FLAG_W,PHSPHT,PHSPHT_FLAG_W,TCARBN,TCARBN_FLAG_W,ALKALI,ALKALI_FLAG_W,PH_TOT,PH_TOT_FLAG_W,CFC-11,CFC-11_FLAG_W,CFC-12,CFC-12_FLAG_W
,,,,,,,UTC,UTC,,,METER,DBAR,METERS,ITS-90,PSS-78,,PSS-78,,UMOL/KG,,UMOL/KG,,UMOL/KG,,UMOL/KG,,UMOL/KG,,UMOL/KG,,UMOL/KG,,@25DEG-C,,PMOL/KG,,PMOL/KG,
49UF20140623,KS14-05,4206,1,-999,0,2,20140628,2330,21.001,136.9925,4804,0.0,0,31.1820,34.7639,2,-999.,9,190.40,2,0.84,2,0.00,2,0.00,2,0.02,2,-999.,9,-999.,9,-999.,9,-999,9,-999,9
49UF20140623,KS14-05,4206,1,36,21995,2,20140628,2356,21.001,136.9925,4804,10.9,11,31.1051,34.8542,2,-999.,9,193.86,2,0.88,2,0.02,2,0.00,2,0.02,2,-999.,9,-999.,9,-999.,9,-999,9,-999,9
49UF20140623,KS14-05,4206,1,35,22087,2,20140628,2355,21.001,136.9925,4804,25.8,26,28.1043,35.0824,2,-999.,9,208.52,2,0.88,2,0.02,2,0.00,2,0.01,2,-999.,9,-999.,9,-999.,9,-999,9,-999,9
49UF20140623,KS14-05,4206,1,34,22666,2,20140628,2352,21.001,136.9925,4804,51.3,51,25.8351,35.1161,2,-999.,9,215.32,2,0.94,2,0.01,2,0.00,2,0.01,2,-999.,9,-999.,9,-999.,9,-999,9,-999,9
49UF20140623,KS14-05,4206,1,33,21992,2,20140628,2350,21.001,136.9925,4804,75.8,75,24.4208,35.0819,2,-999.,9,214.99,2,1.07,2,0.00,2,0.00,2,0.02,2,-999.,9,-999.,9,-999.,9,-999,9,-999,9
49UF20140623,KS14-05,4206,1,32,21991,2,20140628,2349,21.001,136.9925,4804,101.9,101,23.6136,35.0453,2,-999.,9,205.47,2,1.21,2,0.00,2,0.00,2,0.04,2,-999.,9,-999.,9,-999.,9,-999,9,-999,9
49UF20140623,KS14-05,4206,1,31,21990,2,20140628,2347,21.001,136.9925,4804,126.6,126,22.3144,34.9914,2,-999.,9,210.96,2,1.38,2,0.03,2,0.00,2,0.03,2,-999.,9,-999.,9,-999.,9,-999,9,-999,9
49UF20140623,KS14-05,4206,1,27,21986,2,20140628,2346,21.001,136.9925,4804,151.7,151,21.2196,34.9405,2,-999.,9,204.35,2,1.65,2,0.45,2,0.11,2,0.06,2,-999.,9,-999.,9,-999.,9,-999,9,-999,9
49UF20140623,KS14-05,4206,1,26,21985,2,20140628,2344,21.001,136.9925,4804,201.7,200,19.0461,34.8180,2,-999.,9,200.87,2,2.70,2,2.67,2,0.02,2,0.20,2,-999.,9,-999.,9,-999.,9,-999,9,-999,9
49UF20140623,KS14-05,4206,1,25,21984,2,20140628,2341,21.001,136.9925,4804,253.2,251,17.6138,34.7325,2,-999.,9,203.35,2,3.69,2,4.25,2,0.01,2,0.29,2,-999.,9,-999.,9,-999.,9,-999,9,-999,9
49UF20140623,KS14-05,4206,1,21,21980,2,20140628,2339,21.001,136.9925,4804,302.6,301,16.3698,34.6537,2,-999.,9,199.74,2,5.57,2,6.34,2,0.01,2,0.44,2,-999.,9,-999.,9,-999.,9,-999,9,-999,9
49UF20140623,KS14-05,4206,1,20,21979,2,20140628,2336,21.001,136.9925,4804,403.5,401,13.8882,34.4592,2,-999.,9,188.95,2,11.81,2,11.23,2,0.00,2,0.79,2,-999.,9,-999.,9,-999.,9,-999,9,-999,9
49UF20140623,KS14-05,4206,1,19,21978,3,20140628,2333,21.001,136.9925,4804,505.4,502,10.3569,34.2303,2,-999.,9,169.08,6,26.52,6,19.13,6,0.00,6,1.37,6,-999.,9,-999.,9,-999.,9,-999,9,-999,9
49UF20140623,KS14-05,4206,1,18,21977,2,20140628,2331,21.001,136.9925,4804,605.3,601,7.1603,34.1279,2,-999.,9,116.50,2,54.02,2,29.59,2,0.00,2,2.15,2,-999.,9,-999.,9,-999.,9,-999,9,-999,9
49UF20140623,KS14-05,4206,1,17,23679,2,20140628,2331,21.001,136.9925,4804,605.3,601,7.1603,34.1279,2,-999.,9,116.76,2,54.05,2,29.59,2,0.00,2,2.14,2,-999.,9,-999.,9,-999.,9,-999,9,-999,9
49UF20140623,KS14-05,4206,1,16,21975,2,20140628,2327,21.001,136.9925,4804,705.8,700,5.8420,34.1650,2,-999.,9,81.93,2,74.03,2,35.15,2,0.00,2,2.56,2,-999.,9,-999.,9,-999.,9,-999,9,-999,9
49UF20140623,KS14-05,4206,1,15,21974,2,20140628,2324,21.001,136.9925,4804,807.0,800,4.8507,34.2643,2,-999.,9,58.94,2,92.75,2,38.69,2,0.00,2,2.82,2,-999.,9,-999.,9,-999.,9,-999,9,-999,9
49UF20140623,KS14-05,4206,1,14,21973,2,20140628,2322,21.001,136.9925,4804,908.6,901,4.2326,34.3659,2,-999.,9,56.81,2,106.13,2,39.88,2,0.00,2,2.88,2,-999.,9,-999.,9,-999.,9,-999,9,-999,9
49UF20140623,KS14-05,4206,1,13,21972,2,20140628,2319,21.001,136.9925,4804,1009.8,1001,3.7253,34.4210,2,-999.,9,59.65,6,117.21,6,40.17,6,0.00,6,2.90,6,-999.,9,-999.,9,-999.,9,-999,9,-999,9
49UF20140623,KS14-05,4206,1,6,21965,2,20140628,2314,21.001,136.9925,4804,1211.8,1201,3.0575,34.4963,2,-999.,9,70.65,2,130.89,2,40.11,2,0.00,2,2.88,2,-999.,9,-999.,9,-999.,9,-999,9,-999,9
49UF20140623,KS14-05,4206,1,5,22085,2,20140628,2314,21.001,136.9925,4804,1211.8,1201,3.0575,34.4963,2,-999.,9,70.43,2,130.76,2,40.11,2,0.00,2,2.88,2,-999.,9,-999.,9,-999.,9,-999,9,-999,9
49UF20140623,KS14-05,4206,1,4,21963,2,20140628,2309,21.001,136.9925,4804,1413.8,1400,2.7235,34.5560,2,-999.,9,90.32,2,134.50,2,39.03,2,0.00,2,2.79,2,-999.,9,-999.,9,-999.,9,-999,9,-999,9
49UF20140623,KS14-05,4206,1,3,22079,2,20140628,2304,21.001,136.9925,4804,1617.3,1601,2.4520,34.5864,2,-999.,9,101.50,2,137.34,2,38.42,2,0.00,2,2.75,2,-999.,9,-999.,9,-999.,9,-999,9,-999,9
49UF20140623,KS14-05,4206,1,2,21961,2,20140628,2259,21.001,136.9925,4804,1820.8,1802,2.2480,34.6070,2,-999.,9,109.15,2,139.20,2,38.16,2,0.00,2,2.72,2,-999.,9,-999.,9,-999.,9,-999,9,-999,9
49UF20140623,KS14-05,4206,1,1,21960,2,20140628,2254,21.001,136.9925,4804,2024.7,2003,2.0448,34.6238,2,-999.,9,116.36,2,141.30,2,37.89,2,0.00,2,2.69,2,-999.,9,-999.,9,-999.,9,-999,9,-999,9
49UF20140623,KS14-05,4207,1,-999,0,2,20140629,0745,20.0075,136.9855,4742,0.0,0,31.2543,34.9516,2,34.9539,2,190.48,2,0.86,2,0.08,2,0.00,2,0.01,2,1953.7,2,2294.8,2,8.1098,2,-999,9,-999,9
49UF20140623,KS14-05,4207,1,36,21995,2,20140629,0810,20.0075,136.9855,4742,12.1,12,30.5184,34.9526,2,34.9560,2,195.74,2,0.86,2,0.06,2,0.00,2,0.01,2,1955.6,2,2294.5,2,8.1058,2,-999,9,-999,9
49UF20140623,KS14-05,4207,1,35,22087,2,20140629,0808,20.0075,136.9855,4742,26.8,27,27.5168,35.1074,2,-999.0000,9,211.32,2,0.89,2,0.07,2,0.00,2,0.01,2,1970.1,2,2302.9,2,8.0987,2,-999,9,-999,9
49UF20140623,KS14-05,4207,1,34,22666,2,20140629,0806,20.0075,136.9855,4742,51.4,51,25.2529,35.0920,2,-999.0000,9,218.18,2,0.97,2,0.06,2,0.00,2,0.01,2,1973.4,2,2302.0,2,8.0873,2,-999,9,-999,9
49UF20140623,KS14-05,4207,1,33,21992,2,20140629,0805,20.0075,136.9855,4742,77.0,77,23.4460,34.9975,2,-999.0000,9,217.15,2,1.21,2,0.09,2,0.00,2,0.01,2,1983.2,2,2297.0,2,8.0765,2,-999,9,-999,9
49UF20140623,KS14-05,4207,1,32,21991,2,20140629,0804,20.0075,136.9855,4742,102.0,101,22.1797,34.9551,2,34.9513,6,207.80,2,1.49,2,0.09,2,0.00,2,0.02,2,2002.5,6,2293.2,6,8.0183,2,-999,9,-999,9
49UF20140623,KS14-05,4207,1,31,21990,2,20140629,0803,20.0075,136.9855,4742,127.1,126,21.0342,34.9199,2,-999.0000,9,197.96,2,1.84,2,0.72,2,0.06,2,0.07,2,2018.3,2,2290.9,2,7.9982,2,-999,9,-999,9
49UF20140623,KS14-05,4207,1,30,21989,2,20140629,0802,20.0075,136.9855,4742,152.2,151,20.1298,34.8790,2,-999.0000,9,195.90,2,2.26,2,1.95,2,0.03,2,0.15,2,2025.1,2,2288.8,2,7.9810,2,-999,9,-999,9
49UF20140623,KS14-05,4207,1,29,21988,2,20140629,0800,20.0075,136.9855,4742,203.1,202,18.3289,34.7857,2,34.7814,2,196.48,6,3.26,6,3.90,6,0.01,6,0.27,6,2037.4,2,2282.2,2,7.9512,2,-999,9,-999,9
49UF20140623,KS14-05,4207,1,28,21987,2,20140629,0759,20.0075,136.9855,4742,253.2,251,16.8513,34.6910,2,-999.0000,9,195.04,2,5.02,2,5.99,2,0.01,2,0.42,2,2051.8,2,2277.9,2,7.9140,2,-999,9,-999,9
49UF20140623,KS14-05,4207,1,27,21986,2,20140629,0757,20.0075,136.9855,4742,303.7,302,15.2190,34.5667,2,-999.0000,9,191.72,2,9.05,2,9.03,2,0.00,2,0.62,2,2068.0,2,2274.2,2,7.8680,2,-999,9,-999,9
49UF20140623,KS14-05,4207,1,26,21985,2,20140629,0755,20.0075,136.9855,4742,355.0,353,13.5659,34.4488,2,-999.0000,9,184.65,2,13.90,2,12.28,2,0.00,2,0.86,2,2093.0,2,2269.6,2,7.8146,2,-999,9,-999,9
49UF20140623,KS14-05,4207,1,25,21984,2,20140629,0754,20.0075,136.9855,4742,405.2,402,11.8707,34.3368,2,34.3391,2,177.41,2,20.39,2,15.75,2,0.00,2,1.12,2,2117.9,2,2272.8,2,7.7462,2,-999,9,-999,9
49UF20140623,KS14-05,4207,1,24,21983,2,20140629,0752,20.0075,136.9855,4742,455.6,452,10.3269,34.2483,2,-999.0000,9,166.53,2,28.80,2,19.44,2,0.00,2,1.39,2,2142.4,2,2274.2,2,7.6960,2,-999,9,-999,9
49UF20140623,KS14-05,4207,1,23,22095,2,20140629,0751,20.0075,136.9855,4742,506.0,502,8.5544,34.1554,2,-999.0000,9,146.90,2,40.48,2,24.31,2,0.00,2,1.76,2,2180.9,6,2280.8,6,7.6241,2,-999,9,-999,9
49UF20140623,KS14-05,4207,1,22,22665,2,20140629,0748,20.0075,136.9855,4742,606.5,602,6.3301,34.1322,2,34.1320,2,96.30,2,65.23,2,32.92,2,0.00,2,2.40,2,2250.7,2,2300.7,2,7.4838,2,-999,9,-999,9
49UF20140623,KS14-05,4207,1,21,21980,2,20140629,0746,20.0075,136.9855,4742,707.6,702,5.3615,34.2184,2,-999.0000,9,67.44,2,82.52,2,37.35,2,0.00,2,2.72,2,2290.0,2,2320.8,2,7.4244,2,-999,9,-999,9
49UF20140623,KS14-05,4207,1,20,21979,2,20140629,0743,20.0075,136.9855,4742,808.8,802,4.5997,34.3187,2,34.3198,2,56.45,2,98.69,2,39.45,2,0.00,2,2.87,2,2315.9,2,2343.5,2,7.4054,2,-999,9,-999,9
49UF20140623,KS14-05,4207,1,19,21978,2,20140629,0741,20.0075,136.9855,4742,910.5,903,4.0258,34.3994,2,-999.0000,9,59.23,6,111.14,6,39.96,2,0.00,6,2.90,6,2330.8,2,2358.8,2,7.4160,2,-999,9,-999,9
49UF20140623,KS14-05,4207,1,18,21977,2,20140629,0738,20.0075,136.9855,4742,1011.4,1003,3.5821,34.4559,2,34.4554,6,64.34,2,120.56,2,40.10,2,0.00,2,2.90,2,2338.2,2,2371.1,2,7.4252,2,-999,9,-999,9
49UF20140623,KS14-05,4207,1,17,23679,2,20140629,0734,20.0075,136.9855,4742,1213.0,1202,3.1445,34.5314,2,34.5310,2,82.06,2,127.48,2,39.16,2,0.00,2,2.83,2,2336.3,2,2384.1,2,7.4638,6,-999,9,-999,9
49UF20140623,KS14-05,4207,1,16,21975,2,20140629,0730,20.0075,136.9855,4742,1415.6,1402,2.6926,34.5689,2,34.5690,2,94.49,2,134.85,2,38.73,2,0.00,2,2.78,2,2341.1,2,2397.3,2,7.4876,2,-999,9,-999,9
49UF20140623,KS14-05,4207,1,15,21974,2,20140629,0725,20.0075,136.9855,4742,1617.7,1602,2.4199,34.5948,2,34.5940,2,102.82,2,137.65,2,38.31,2,0.00,2,2.74,2,2341.5,2,2400.5,2,7.5013,2,-999,9,-999,9
49UF20140623,KS14-05,4207,1,14,21973,2,20140629,0721,20.0075,136.9855,4742,1821.0,1802,2.2480,34.6086,2,34.6095,2,108.24,2,139.89,2,38.10,2,0.00,2,2.73,2,2340.6,2,2405.1,2,7.5099,2,-999,9,-999,9
49UF20140623,KS14-05,4207,1,13,21972,2,20140629,0717,20.0075,136.9855,4742,2024.6,2003,2.0441,34.6248,2,34.6243,2,115.60,6,142.21,6,37.80,6,0.00,6,2.70,2,2339.7,2,2409.6,2,7.5019,3,-999,9,-999,9
49UF20140623,KS14-05,4207,1,12,21994,2,20140629,0712,20.0075,136.9855,4742,2278.6,2252,1.8613,34.6397,2,34.6399,6,123.56,2,144.10,2,37.39,2,0.00,2,2.66,4,2339.0,2,2412.5,2,7.5253,2,-999,9,-999,9
49UF20140623,KS14-05,4207,1,11,21970,2,20140629,0707,20.0075,136.9855,4742,2531.8,2501,1.7663,34.6491,2,34.6489,2,128.90,2,144.35,2,37.11,2,0.00,2,2.63,2,2336.0,2,2414.0,2,7.5403,2,-999,9,-999,9
49UF20140623,KS14-05,4207,1,10,21969,2,20140629,0702,20.0075,136.9855,4742,2787.1,2752,1.6928,34.6574,2,34.6574,2,134.39,2,144.32,2,36.74,2,0.00,2,2.61,2,2336.6,2,2413.3,2,7.5469,2,-999,9,-999,9
49UF20140623,KS14-05,4207,1,9,21968,2,20140629,0657,20.0075,136.9855,4742,3040.9,3001,1.6342,34.6647,2,34.6642,2,139.68,2,145.26,2,36.82,2,0.01,2,2.60,2,2332.9,6,2414.9,6,7.5526,2,-999,9,-999,9
49UF20140623,KS14-05,4207,1,8,21982,2,20140629,0652,20.0075,136.9855,4742,3296.5,3251,1.5916,34.6701,2,34.6706,2,144.50,2,144.78,2,36.48,2,0.01,2,2.58,2,2328.8,2,2414.4,2,7.5644,2,-999,9,-999,9
49UF20140623,KS14-05,4207,1,7,21966,2,20140629,0646,20.0075,136.9855,4742,3552.8,3502,1.5598,34.6751,2,34.6754,2,148.41,2,143.91,2,36.16,2,0.01,2,2.55,2,2325.9,2,2413.9,2,7.5661,6,-999,9,-999,9
49UF20140623,KS14-05,4207,1,6,21965,2,20140629,0641,20.0075,136.9855,4742,3808.4,3751,1.5321,34.6794,2,34.6799,6,152.78,2,143.20,2,35.97,2,0.01,2,2.54,2,2324.4,2,2413.9,2,7.5771,2,-999,9,-999,9
49UF20140623,KS14-05,4207,1,5,22085,2,20140629,0635,20.0075,136.9855,4742,4064.7,4002,1.5188,34.6823,2,34.6807,4,154.77,2,141.80,2,35.73,2,0.01,2,2.52,2,2321.6,2,2410.8,2,7.5793,2,-999,9,-999,9
49UF20140623,KS14-05,4207,1,4,21963,2,20140629,0630,20.0075,136.9855,4742,4320.9,4251,1.5200,34.6844,2,34.6845,2,158.27,6,141.44,6,35.58,6,0.01,6,2.50,6,2318.7,2,2410.5,2,7.5841,2,-999,9,-999,9
49UF20140623,KS14-05,4207,1,3,22079,2,20140629,0624,20.0075,136.9855,4742,4578.9,4503,1.5415,34.6850,2,34.6843,4,158.29,2,141.30,2,35.63,2,0.01,2,2.50,2,2317.9,2,2410.3,2,7.5823,2,-999,9,-999,9
49UF20140623,KS14-05,4207,1,2,21961,2,20140629,0624,20.0075,136.9855,4742,4578.9,4503,1.5415,34.6850,2,34.6863,4,159.05,2,141.50,2,35.57,2,0.01,2,2.50,2,2319.8,2,2409.9,2,7.5832,2,-999,9,-999,9
49UF20140623,KS14-05,4207,1,1,21960,2,20140629,0618,20.0075,136.9855,4742,4841.5,4758,1.5709,34.6852,2,34.6869,4,158.98,2,141.24,2,35.58,2,0.01,2,2.49,2,2325.4,2,2412.1,2,7.5842,2,-999,9,-999,9
49UF20140623,KS14-05,4208,1,-999,0,2,20140630,0355,18.9858,137.0175,4758,0.0,0,31.0506,34.9473,2,-999.,9,190.52,2,0.93,2,0.06,2,0.00,2,0.01,2,-999.,9,-999.,9,-999.,9,-999,9,-999,9
49UF20140623,KS14-05,4208,1,36,21995,2,20140630,0412,18.9858,137.0175,4758,11.9,12,30.8273,34.9417,2,-999.,9,191.59,2,0.92,2,0.05,2,0.00,2,0.01,2,-999.,9,-999.,9,-999.,9,-999,9,-999,9
49UF20140623,KS14-05,4208,1,35,22087,2,20140630,0410,18.9858,137.0175,4758,27.2,27,27.4697,35.0448,2,-999.,9,212.35,2,0.93,2,0.05,2,0.00,2,0.00,2,-999.,9,-999.,9,-999.,9,-999,9,-999,9
49UF20140623,KS14-05,4208,1,34,22666,2,20140630,0407,18.9858,137.0175,4758,52.6,52,25.5214,35.0271,2,-999.,9,215.85,2,1.03,2,0.03,2,0.00,2,0.01,2,-999.,9,-999.,9,-999.,9,-999,9,-999,9
49UF20140623,KS14-05,4208,1,33,21992,2,20140630,0406,18.9858,137.0175,4758,77.7,77,23.7083,34.9860,2,-999.,9,210.25,2,1.18,2,0.04,2,0.00,2,0.01,2,-999.,9,-999.,9,-999.,9,-999,9,-999,9
49UF20140623,KS14-05,4208,1,32,21991,2,20140630,0405,18.9858,137.0175,4758,101.9,101,22.8046,34.9770,2,-999.,9,204.72,2,1.32,2,0.04,2,0.00,2,0.03,2,-999.,9,-999.,9,-999.,9,-999,9,-999,9
49UF20140623,KS14-05,4208,1,31,21990,2,20140630,0404,18.9858,137.0175,4758,127.8,127,21.7044,35.0142,2,-999.,9,179.84,2,2.04,2,2.17,2,0.01,2,0.19,2,-999.,9,-999.,9,-999.,9,-999,9,-999,9
49UF20140623,KS14-05,4208,1,30,21989,2,20140630,0402,18.9858,137.0175,4758,153.9,153,20.5728,34.9667,2,-999.,9,179.44,2,2.56,2,3.12,2,0.01,2,0.25,2,-999.,9,-999.,9,-999.,9,-999,9,-999,9
49UF20140623,KS14-05,4208,1,29,21988,2,20140630,0400,18.9858,137.0175,4758,204.2,203,18.0050,34.7825,2,-999.,9,189.44,2,3.99,2,4.98,2,0.01,2,0.35,2,-999.,9,-999.,9,-999.,9,-999,9,-999,9
49UF20140623,KS14-05,4208,1,28,21987,2,20140630,0358,18.9858,137.0175,4758,254.4,253,16.6420,34.6728,2,-999.,9,201.17,2,5.44,2,6.12,2,0.00,2,0.40,2,-999.,9,-999.,9,-999.,9,-999,9,-999,9
49UF20140623,KS14-05,4208,1,27,21986,2,20140630,0356,18.9858,137.0175,4758,304.1,302,14.8334,34.5378,2,-999.,9,189.88,2,9.89,2,9.78,2,0.00,2,0.67,2,-999.,9,-999.,9,-999.,9,-999,9,-999,9
49UF20140623,KS14-05,4208,1,26,21985,2,20140630,0355,18.9858,137.0175,4758,355.3,353,13.0684,34.4211,2,-999.,9,181.57,6,15.88,6,13.42,6,0.00,6,0.93,6,-999.,9,-999.,9,-999.,9,-999,9,-999,9
49UF20140623,KS14-05,4208,1,25,21984,2,20140630,0353,18.9858,137.0175,4758,405.2,402,11.6083,34.3123,2,-999.,9,177.79,2,20.19,2,16.14,2,0.00,2,1.14,2,-999.,9,-999.,9,-999.,9,-999,9,-999,9
49UF20140623,KS14-05,4208,1,24,21983,2,20140630,0351,18.9858,137.0175,4758,455.5,452,9.8971,34.2121,2,-999.,9,162.66,2,29.17,2,20.58,2,0.00,2,1.47,2,-999.,9,-999.,9,-999.,9,-999,9,-999,9
49UF20140623,KS14-05,4208,1,23,22095,2,20140630,0349,18.9858,137.0175,4758,507.1,503,8.4294,34.1547,2,-999.,9,140.88,2,40.93,2,25.23,2,0.00,2,1.81,2,-999.,9,-999.,9,-999.,9,-999,9,-999,9
49UF20140623,KS14-05,4208,1,22,22665,2,20140630,0346,18.9858,137.0175,4758,607.5,603,6.5159,34.1644,2,-999.,9,91.37,6,63.41,6,33.33,6,0.00,6,2.41,6,-999.,9,-999.,9,-999.,9,-999,9,-999,9
49UF20140623,KS14-05,4208,1,21,21980,2,20140630,0344,18.9858,137.0175,4758,708.7,703,5.5822,34.2933,2,-999.,9,66.76,2,80.34,2,37.37,2,0.00,2,2.71,2,-999.,9,-999.,9,-999.,9,-999,9,-999,9
49UF20140623,KS14-05,4208,1,20,21979,2,20140630,0341,18.9858,137.0175,4758,810.2,804,4.7291,34.3829,2,-999.,9,62.19,2,96.43,2,39.15,2,0.00,2,2.83,2,-999.,9,-999.,9,-999.,9,-999,9,-999,9
49UF20140623,KS14-05,4208,1,19,21978,2,20140630,0338,18.9858,137.0175,4758,910.0,903,4.2074,34.4499,2,-999.,9,67.89,2,106.53,2,39.54,2,0.00,2,2.84,2,-999.,9,-999.,9,-999.,9,-999,9,-999,9
49UF20140623,KS14-05,4208,1,18,21977,2,20140630,0335,18.9858,137.0175,4758,1010.8,1002,3.8234,34.4918,2,-999.,9,75.41,2,113.87,2,39.41,2,0.00,2,2.82,2,-999.,9,-999.,9,-999.,9,-999,9,-999,9
49UF20140623,KS14-05,4208,1,17,23679,2,20140630,0331,18.9858,137.0175,4758,1212.7,1202,3.1599,34.5317,2,-999.,9,82.02,2,126.64,2,39.60,2,0.00,2,2.82,2,-999.,9,-999.,9,-999.,9,-999,9,-999,9
49UF20140623,KS14-05,4208,1,16,21975,2,20140630,0326,18.9858,137.0175,4758,1415.6,1402,2.7344,34.5697,2,-999.,9,94.04,2,133.44,2,39.16,2,0.00,2,2.78,2,-999.,9,-999.,9,-999.,9,-999,9,-999,9
49UF20140623,KS14-05,4208,1,15,21974,2,20140630,0322,18.9858,137.0175,4758,1618.8,1603,2.4510,34.5914,2,-999.,9,102.32,2,137.37,2,38.87,2,0.00,2,2.75,2,-999.,9,-999.,9,-999.,9,-999,9,-999,9
49UF20140623,KS14-05,4208,1,14,21973,2,20140630,0318,18.9858,137.0175,4758,1820.7,1802,2.2062,34.6119,2,-999.,9,109.22,6,140.58,6,38.68,6,0.00,6,2.73,6,-999.,9,-999.,9,-999.,9,-999,9,-999,9
49UF20140623,KS14-05,4208,1,13,21972,2,20140630,0313,18.9858,137.0175,4758,2024.3,2002,2.0324,34.6256,2,-999.,9,115.04,2,142.64,2,38.35,2,0.00,2,2.70,2,-999.,9,-999.,9,-999.,9,-999,9,-999,9
49UF20140623,KS14-05,4208,1,12,21994,2,20140630,0308,18.9858,137.0175,4758,2278.2,2252,1.8810,34.6389,2,-999.,9,121.66,2,144.48,2,38.09,2,0.00,2,2.67,2,-999.,9,-999.,9,-999.,9,-999,9,-999,9
49UF20140623,KS14-05,4208,1,11,21970,2,20140630,0303,18.9858,137.0175,4758,2532.4,2502,1.7693,34.6501,2,-999.,9,128.07,2,144.85,2,37.53,2,0.00,2,2.63,2,-999.,9,-999.,9,-999.,9,-999,9,-999,9
49UF20140623,KS14-05,4208,1,10,21969,2,20140630,0257,18.9858,137.0175,4758,2787.0,2752,1.6822,34.6590,2,-999.,9,134.26,2,144.32,2,37.15,2,0.00,2,2.60,2,-999.,9,-999.,9,-999.,9,-999,9,-999,9
49UF20140623,KS14-05,4208,1,9,21968,2,20140630,0250,18.9858,137.0175,4758,3042.2,3002,1.6336,34.6648,2,-999.,9,139.26,2,144.00,2,36.89,2,0.00,2,2.57,2,-999.,9,-999.,9,-999.,9,-999,9,-999,9
49UF20140623,KS14-05,4208,1,8,21982,2,20140630,0245,18.9858,137.0175,4758,3297.0,3252,1.5746,34.6717,2,-999.,9,145.37,2,143.24,2,36.51,2,0.00,2,2.54,2,-999.,9,-999.,9,-999.,9,-999,9,-999,9
49UF20140623,KS14-05,4208,1,7,21966,2,20140630,0239,18.9858,137.0175,4758,3552.4,3502,1.5471,34.6761,2,-999.,9,148.78,2,142.83,2,36.30,2,0.00,2,2.52,2,-999.,9,-999.,9,-999.,9,-999,9,-999,9
49UF20140623,KS14-05,4208,1,6,21965,2,20140630,0235,18.9858,137.0175,4758,3807.5,3751,1.5228,34.6798,2,-999.,9,153.08,6,141.86,6,36.05,6,0.00,6,2.51,6,-999.,9,-999.,9,-999.,9,-999,9,-999,9
49UF20140623,KS14-05,4208,1,5,22085,4,20140630,0230,18.9858,137.0175,4758,4063.9,4001,1.5157,34.6824,2,-999.,9,154.50,4,140.68,4,35.85,4,0.00,4,2.50,4,-999.,9,-999.,9,-999.,9,-999,9,-999,9
49UF20140623,KS14-05,4208,1,4,21963,2,20140630,0230,18.9858,137.0175,4758,4063.9,4001,1.5157,34.6824,2,-999.,9,156.16,2,141.14,2,35.87,2,0.00,2,2.49,2,-999.,9,-999.,9,-999.,9,-999,9,-999,9
49UF20140623,KS14-05,4208,1,3,22079,2,20140630,0225,18.9858,137.0175,4758,4320.0,4251,1.5143,34.6845,2,-999.,9,157.24,3,139.99,2,35.68,2,0.00,2,2.48,2,-999.,9,-999.,9,-999.,9,-999,9,-999,9
49UF20140623,KS14-05,4208,1,2,21961,2,20140630,0220,18.9858,137.0175,4758,4577.0,4501,1.5313,34.6855,2,-999.,9,159.78,2,139.73,2,35.59,2,0.00,2,2.47,2,-999.,9,-999.,9,-999.,9,-999,9,-999,9
49UF20140623,KS14-05,4208,1,1,21960,2,20140630,0215,18.9858,137.0175,4758,4817.8,4735,1.5596,34.6855,2,-999.,9,159.45,2,139.88,2,35.65,2,0.00,2,2.47,2,-999.,9,-999.,9,-999.,9,-999,9,-999,9