BOTTLE,20171119JMAGEMD
EXPOCODE,SECT_ID,STNNBR,CASTNO,SAMPNO,BTLNBR,BTLNBR_FLAG_W,DATE,TIME,LATITUDE,LONGITUDE,DEPTH,CTDPRS,CTDDEP,CTDTMP,CTDSAL,CTDSAL_FLAG_W,SALNTY,SALNTY_FLAG_W,OXYGEN,OXYGEN_FLAG_W,SILCAT,SILCAT_FLAG_W,NO2+NO3,NO2+NO3_FLAG_W,NITRIT,NITRIT_FLAG_W,PHSPHT,PHSPHT_FLAG_W,TCARBN,TCARBN_FLAG_W,ALKALI,ALKALI_FLAG_W,PH_TOT,PH_TOT_FLAG_W,CFC-11,CFC-11_FLAG_W,CFC-12,CFC-12_FLAG_W
,,,,,,,UTC,UTC,,,METER,DBAR,METERS,ITS-90,PSS-78,,PSS-78,,UMOL/KG,,UMOL/KG,,UMOL/KG,,UMOL/KG,,UMOL/KG,,UMOL/KG,,UMOL/KG,,@25DEG-C,,PMOL/KG,,PMOL/KG,
49UF20140623,KS14-05,4266,1,-999,0,2,20140812,0055,23.002,164.9927,5803,0.0,0,29.8153,35.4930,2,-999.,9,193.93,2,0.89,2,0.02,2,0.00,2,0.02,2,-999.,9,-999.,9,-999.,9,-999,9,-999,9
49UF20140623,KS14-05,4266,1,36,21995,2,20140812,0113,23.002,164.9927,5803,11.8,12,29.5030,35.5056,2,-999.,9,194.74,2,0.91,2,0.00,2,0.00,2,0.02,2,-999.,9,-999.,9,-999.,9,-999,9,-999,9
49UF20140623,KS14-05,4266,1,35,22087,2,20140812,0111,23.002,164.9927,5803,28.5,28,29.1223,35.4622,2,-999.,9,199.80,6,0.95,6,0.01,6,0.00,6,0.02,6,-999.,9,-999.,9,-999.,9,-999,9,-999,9
49UF20140623,KS14-05,4266,1,34,22666,2,20140812,0109,23.002,164.9927,5803,51.5,51,24.4579,35.2240,2,-999.,9,224.78,2,1.21,2,0.02,2,0.00,2,0.02,2,-999.,9,-999.,9,-999.,9,-999,9,-999,9
49UF20140623,KS14-05,4266,1,33,21992,2,20140812,0109,23.002,164.9927,5803,51.5,51,24.4579,35.2240,2,-999.,9,224.87,2,1.18,2,0.00,2,0.00,2,0.02,2,-999.,9,-999.,9,-999.,9,-999,9,-999,9
49UF20140623,KS14-05,4266,1,32,21991,2,20140812,0107,23.002,164.9927,5803,77.5,77,22.7399,35.2158,2,-999.,9,216.50,2,1.37,2,0.00,2,0.00,2,0.02,2,-999.,9,-999.,9,-999.,9,-999,9,-999,9
49UF20140623,KS14-05,4266,1,31,21990,2,20140812,0106,23.002,164.9927,5803,102.5,102,20.7541,34.9746,2,-999.,9,222.81,2,1.84,2,0.00,2,0.00,2,0.03,2,-999.,9,-999.,9,-999.,9,-999,9,-999,9
49UF20140623,KS14-05,4266,1,30,21989,2,20140812,0105,23.002,164.9927,5803,127.7,127,19.2591,34.8540,2,-999.,9,224.30,2,2.06,2,0.21,2,0.03,2,0.06,2,-999.,9,-999.,9,-999.,9,-999,9,-999,9
49UF20140623,KS14-05,4266,1,29,21988,2,20140812,0104,23.002,164.9927,5803,152.8,152,18.5623,34.8274,2,-999.,9,202.26,2,2.92,2,2.53,2,0.02,2,0.22,2,-999.,9,-999.,9,-999.,9,-999,9,-999,9
49UF20140623,KS14-05,4266,1,28,21987,2,20140812,0102,23.002,164.9927,5803,204.3,203,16.9101,34.6857,2,-999.,9,203.20,2,4.38,2,5.02,2,0.01,2,0.36,2,-999.,9,-999.,9,-999.,9,-999,9,-999,9
49UF20140623,KS14-05,4266,1,27,21986,2,20140812,0100,23.002,164.9927,5803,252.9,251,15.6344,34.5881,2,-999.,9,204.41,2,6.68,2,7.06,2,0.00,2,0.50,2,-999.,9,-999.,9,-999.,9,-999,9,-999,9
49UF20140623,KS14-05,4266,1,26,21985,2,20140812,0058,23.002,164.9927,5803,305.0,303,14.4133,34.4924,2,-999.,9,201.28,2,9.44,2,9.26,2,0.00,2,0.65,2,-999.,9,-999.,9,-999.,9,-999,9,-999,9
49UF20140623,KS14-05,4266,1,25,21984,2,20140812,0055,23.002,164.9927,5803,404.9,402,11.7587,34.2934,2,-999.,9,195.02,2,16.35,2,14.08,2,0.00,2,1.00,2,-999.,9,-999.,9,-999.,9,-999,9,-999,9
49UF20140623,KS14-05,4266,1,24,21983,2,20140812,0052,23.002,164.9927,5803,507.7,504,9.2352,34.1435,2,-999.,9,167.41,2,30.04,2,21.25,2,0.00,2,1.53,2,-999.,9,-999.,9,-999.,9,-999,9,-999,9
49UF20140623,KS14-05,4266,1,23,22095,2,20140812,0052,23.002,164.9927,5803,507.7,504,9.2352,34.1435,2,-999.,9,167.23,2,29.99,2,21.27,2,0.00,2,1.53,2,-999.,9,-999.,9,-999.,9,-999,9,-999,9
49UF20140623,KS14-05,4266,1,22,22665,2,20140812,0050,23.002,164.9927,5803,607.9,603,6.7682,34.0913,2,-999.,9,106.76,2,56.52,2,31.50,2,0.00,2,2.28,2,-999.,9,-999.,9,-999.,9,-999,9,-999,9
49UF20140623,KS14-05,4266,1,21,21980,2,20140812,0047,23.002,164.9927,5803,708.9,703,5.4997,34.1648,2,-999.,9,64.06,2,78.06,2,37.40,2,0.00,2,2.72,2,-999.,9,-999.,9,-999.,9,-999,9,-999,9
49UF20140623,KS14-05,4266,1,20,21979,2,20140812,0044,23.002,164.9927,5803,809.3,803,4.7652,34.2585,2,-999.,9,46.37,2,93.54,2,40.14,2,0.00,2,2.92,2,-999.,9,-999.,9,-999.,9,-999,9,-999,9
49UF20140623,KS14-05,4266,1,19,21978,2,20140812,0041,23.002,164.9927,5803,910.8,903,4.3042,34.3312,2,-999.,9,43.54,6,104.80,6,41.16,6,0.00,6,2.99,6,-999.,9,-999.,9,-999.,9,-999,9,-999,9
49UF20140623,KS14-05,4266,1,9,21968,2,20140812,0038,23.002,164.9927,5803,1012.3,1003,3.8857,34.4074,2,-999.,9,46.98,2,114.07,2,41.44,2,0.00,2,2.99,2,-999.,9,-999.,9,-999.,9,-999,9,-999,9
49UF20140623,KS14-05,4266,1,8,21982,2,20140812,0034,23.002,164.9927,5803,1212.4,1201,3.4122,34.5107,2,-999.,9,66.29,2,122.01,2,40.60,2,0.00,2,2.92,2,-999.,9,-999.,9,-999.,9,-999,9,-999,9
49UF20140623,KS14-05,4266,1,7,21966,2,20140812,0029,23.002,164.9927,5803,1414.9,1401,2.9520,34.5479,2,-999.,9,76.27,2,131.16,2,40.27,2,0.00,2,2.89,2,-999.,9,-999.,9,-999.,9,-999,9,-999,9
49UF20140623,KS14-05,4266,1,6,21965,2,20140812,0024,23.002,164.9927,5803,1619.1,1603,2.5046,34.5780,2,-999.,9,86.11,2,139.78,2,39.94,2,0.00,2,2.85,2,-999.,9,-999.,9,-999.,9,-999,9,-999,9
49UF20140623,KS14-05,4266,1,5,24272,2,20140812,0020,23.002,164.9927,5803,1820.9,1802,2.2428,34.5975,2,-999.,9,94.11,2,144.50,2,39.58,2,0.00,2,2.81,2,-999.,9,-999.,9,-999.,9,-999,9,-999,9
49UF20140623,KS14-05,4266,1,4,21963,2,20140812,0015,23.002,164.9927,5803,2025.4,2003,2.0166,34.6178,2,-999.,9,103.12,2,148.09,2,39.17,2,0.00,2,2.78,2,-999.,9,-999.,9,-999.,9,-999,9,-999,9
49UF20140623,KS14-05,4267,1,-999,0,2,20140812,1003,23.9887,164.9803,6050,0.0,0,28.9656,35.4162,2,35.4141,2,196.96,2,0.97,2,0.01,2,0.00,2,0.03,2,1985.4,2,2323.1,2,8.0984,2,-999,9,-999,9
49UF20140623,KS14-05,4267,1,36,21995,2,20140812,1037,23.9887,164.9803,6050,11.7,12,28.6803,35.4018,2,35.4010,2,198.24,2,0.95,2,0.00,2,0.00,2,0.02,2,1985.1,2,2322.9,2,8.1020,2,-999,9,-999,9
49UF20140623,KS14-05,4267,1,35,22087,2,20140812,1036,23.9887,164.9803,6050,26.7,27,28.4825,35.3779,2,-999.0000,9,200.07,2,0.97,2,0.01,2,0.00,2,0.03,2,1987.4,2,2322.2,2,8.0961,2,-999,9,-999,9
49UF20140623,KS14-05,4267,1,34,22666,2,20140812,1033,23.9887,164.9803,6050,52.7,52,24.4716,35.2448,2,-999.0000,9,221.56,2,1.15,2,0.00,2,0.00,2,0.03,2,1991.7,2,2314.9,2,8.0814,2,-999,9,-999,9
49UF20140623,KS14-05,4267,1,33,21992,2,20140812,1032,23.9887,164.9803,6050,77.0,76,23.6472,35.2981,2,-999.0000,9,220.72,2,1.22,2,0.00,2,0.00,2,0.03,2,2002.3,2,2315.7,2,8.0698,2,-999,9,-999,9
49UF20140623,KS14-05,4267,1,32,21991,2,20140812,1031,23.9887,164.9803,6050,103.7,103,21.6704,35.0910,2,35.0951,2,214.91,2,1.62,2,0.00,2,0.00,2,0.04,2,2012.5,2,2302.8,2,8.0376,2,-999,9,-999,9
49UF20140623,KS14-05,4267,1,31,21990,2,20140812,1030,23.9887,164.9803,6050,125.8,125,20.1394,34.9701,2,-999.0000,9,204.76,2,2.72,2,2.25,2,0.01,2,0.20,2,2027.7,2,2295.1,2,7.9960,2,-999,9,-999,9
49UF20140623,KS14-05,4267,1,30,21989,2,20140812,1028,23.9887,164.9803,6050,153.4,152,18.9084,34.8672,2,-999.0000,9,199.52,2,2.72,2,2.25,2,0.01,2,0.20,2,2039.1,2,2288.9,2,7.9657,2,-999,9,-999,9
49UF20140623,KS14-05,4267,1,29,21988,2,20140812,1027,23.9887,164.9803,6050,204.7,203,17.4674,34.7321,2,34.7329,6,205.17,2,3.65,2,3.97,2,0.01,2,0.30,2,2038.9,2,2279.4,2,7.9483,2,-999,9,-999,9
49UF20140623,KS14-05,4267,1,28,21987,2,20140812,1025,23.9887,164.9803,6050,254.8,253,16.2683,34.6375,2,-999.0000,9,206.05,2,5.26,2,5.82,2,0.00,2,0.41,2,2050.8,2,2276.5,2,7.9200,2,-999,9,-999,9
49UF20140623,KS14-05,4267,1,27,21986,2,20140812,1023,23.9887,164.9803,6050,306.4,304,15.2229,34.5558,2,-999.0000,9,204.35,2,7.52,2,7.66,2,0.00,2,0.54,2,2061.0,2,2271.5,2,7.8960,2,-999,9,-999,9
49UF20140623,KS14-05,4267,1,26,21985,2,20140812,1020,23.9887,164.9803,6050,406.8,404,11.9879,34.3128,2,34.3174,4,193.76,6,15.73,6,13.70,6,0.00,6,0.98,6,2102.3,2,2267.1,2,7.7958,2,-999,9,-999,9
49UF20140623,KS14-05,4267,1,25,21984,2,20140812,1017,23.9887,164.9803,6050,508.8,505,9.4361,34.1548,2,-999.0000,9,168.67,2,28.29,2,20.60,2,0.00,2,1.49,2,2154.9,2,2269.7,2,7.6832,2,-999,9,-999,9
49UF20140623,KS14-05,4267,1,24,21983,2,20140812,1015,23.9887,164.9803,6050,609.1,604,7.1458,34.0751,2,34.0766,2,128.49,6,49.81,6,28.61,6,0.00,6,2.08,6,2209.7,2,2282.7,2,7.5554,2,-999,9,-999,9
49UF20140623,KS14-05,4267,1,23,22095,2,20140812,1012,23.9887,164.9803,6050,709.6,704,5.5929,34.1048,2,-999.0000,9,81.81,2,73.79,2,35.58,2,0.00,2,2.59,2,2269.6,2,2303.7,2,7.4409,2,-999,9,-999,9
49UF20140623,KS14-05,4267,1,22,22665,2,20140812,1009,23.9887,164.9803,6050,809.5,803,4.7510,34.2140,2,34.2126,2,50.41,2,93.05,2,39.70,2,0.00,2,2.89,2,2313.4,2,2327.0,2,7.3799,2,-999,9,-999,9
49UF20140623,KS14-05,4267,1,21,21980,2,20140812,1006,23.9887,164.9803,6050,909.9,902,4.2507,34.3140,2,-999.0000,9,42.24,2,105.61,2,41.35,2,0.00,2,3.00,2,2336.1,2,2346.6,2,7.3704,2,-999,9,-999,9
49UF20140623,KS14-05,4267,1,20,21979,2,20140812,1004,23.9887,164.9803,6050,1012.8,1004,3.8425,34.3855,2,34.3857,2,42.92,6,115.40,6,41.67,6,0.00,6,3.02,6,2346.3,2,2360.6,2,7.3796,2,-999,9,-999,9
49UF20140623,KS14-05,4267,1,19,21978,2,20140812,0959,23.9887,164.9803,6050,1214.9,1204,3.2108,34.4689,2,34.4682,2,51.74,2,129.99,2,41.63,2,0.00,2,3.00,2,2359.0,6,2378.7,6,7.4028,2,-999,9,-999,9
49UF20140623,KS14-05,4267,1,18,21977,2,20140812,0955,23.9887,164.9803,6050,1415.4,1402,2.8011,34.5253,2,34.5254,2,66.23,2,137.70,2,40.94,2,0.00,2,2.94,2,2359.6,2,2389.0,2,7.4300,2,-999,9,-999,9
49UF20140623,KS14-05,4267,1,17,23679,2,20140812,0951,23.9887,164.9803,6050,1619.7,1603,2.4273,34.5738,2,34.5732,2,83.87,2,142.23,2,40.01,2,0.00,2,2.86,2,2358.9,2,2400.3,2,7.4642,2,-999,9,-999,9
49UF20140623,KS14-05,4267,1,16,21975,2,20140812,0947,23.9887,164.9803,6050,1820.0,1801,2.1650,34.5964,2,34.5964,2,92.29,2,147.27,2,39.65,2,0.00,2,2.83,2,2357.6,2,2406.4,2,7.4753,6,-999,9,-999,9
49UF20140623,KS14-05,4267,1,15,21974,2,20140812,0943,23.9887,164.9803,6050,2025.7,2003,2.0071,34.6166,2,34.6158,2,101.94,2,148.29,2,39.07,2,0.00,2,2.78,2,2354.9,2,2410.6,2,-999.0000,5,-999,9,-999,9
49UF20140623,KS14-05,4267,1,14,21973,2,20140812,0938,23.9887,164.9803,6050,2278.5,2252,1.8562,34.6362,2,34.6358,2,111.46,2,150.00,2,38.59,2,0.00,2,2.73,2,2352.3,2,2414.3,2,7.5137,2,-999,9,-999,9
49UF20140623,KS14-05,4267,1,13,21972,2,20140812,0933,23.9887,164.9803,6050,2533.3,2502,1.7482,34.6483,2,34.6484,6,119.09,2,151.01,2,38.17,2,0.00,2,2.69,2,2347.3,2,2415.0,2,7.5303,2,-999,9,-999,9
49UF20140623,KS14-05,4267,1,12,21994,2,20140812,0928,23.9887,164.9803,6050,2787.1,2751,1.6616,34.6561,2,34.6566,2,125.38,2,150.79,2,37.68,2,0.00,2,2.66,2,2344.3,2,2413.7,3,7.5396,2,-999,9,-999,9
49UF20140623,KS14-05,4267,1,11,21970,2,20140812,0923,23.9887,164.9803,6050,3043.6,3003,1.6098,34.6630,2,34.6628,2,130.93,2,150.72,2,37.38,2,0.00,2,2.63,2,2343.3,2,2417.7,2,7.5458,2,-999,9,-999,9
49UF20140623,KS14-05,4267,1,10,21969,2,20140812,0918,23.9887,164.9803,6050,3296.7,3250,1.5622,34.6691,2,34.6681,2,136.27,2,150.03,2,37.00,2,0.00,2,2.60,2,2337.7,2,2415.5,2,7.5549,2,-999,9,-999,9
49UF20140623,KS14-05,4267,1,9,21968,2,20140812,0913,23.9887,164.9803,6050,3556.0,3504,1.5314,34.6740,2,34.6750,4,140.85,2,149.47,2,36.66,2,0.00,2,2.58,2,2335.8,2,2415.1,2,7.5600,2,-999,9,-999,9
49UF20140623,KS14-05,4267,1,8,21982,2,20140812,0908,23.9887,164.9803,6050,3810.1,3752,1.5110,34.6781,2,34.6789,4,146.05,2,148.14,2,36.37,2,0.00,2,2.56,2,2333.4,6,2415.0,6,7.5699,2,-999,9,-999,9
49UF20140623,KS14-05,4267,1,7,21966,2,20140812,0903,23.9887,164.9803,6050,4065.8,4002,1.4931,34.6816,2,34.6811,6,150.22,6,146.84,6,36.07,6,0.00,6,2.53,6,2330.6,2,2412.1,2,7.5784,2,-999,9,-999,9
49UF20140623,KS14-05,4267,1,6,21965,2,20140812,0858,23.9887,164.9803,6050,4323.5,4253,1.4820,34.6848,2,34.6844,2,155.26,2,144.68,2,35.73,2,0.00,2,2.50,2,2323.2,2,2410.3,2,7.5812,2,-999,9,-999,9
49UF20140623,KS14-05,4267,1,5,24272,2,20140812,0852,23.9887,164.9803,6050,4578.3,4501,1.4746,34.6877,2,34.6875,2,159.09,2,142.45,2,35.40,2,0.00,2,2.48,2,2316.2,2,2410.7,3,7.5899,6,-999,9,-999,9
49UF20140623,KS14-05,4267,1,4,21963,2,20140812,0842,23.9887,164.9803,6050,5094.9,5003,1.4738,34.6929,2,34.6939,6,168.78,2,137.15,2,34.76,2,0.00,2,2.43,2,2312.7,2,2403.1,2,7.5969,2,-999,9,-999,9
49UF20140623,KS14-05,4267,1,3,24269,2,20140812,0837,23.9887,164.9803,6050,5350.9,5251,1.4787,34.6950,2,34.6945,2,172.04,2,135.01,2,34.52,2,0.00,2,2.41,2,2309.6,2,2400.6,2,7.6041,6,-999,9,-999,9
49UF20140623,KS14-05,4267,1,2,21961,2,20140812,0831,23.9887,164.9803,6050,5609.8,5502,1.4921,34.6962,2,34.6962,2,175.36,2,133.14,2,34.27,2,0.00,2,2.39,2,2306.5,6,2398.7,6,7.6049,2,-999,9,-999,9
49UF20140623,KS14-05,4267,1,1,21960,2,20140812,0821,23.9887,164.9803,6050,6127.9,6004,1.5488,34.6973,2,34.6966,6,176.99,2,132.05,2,34.18,2,0.00,2,2.38,2,2303.8,2,2396.4,2,7.6057,2,-999,9,-999,9
49UF20140623,KS14-05,4268,1,-999,0,2,20140812,2043,24.984,164.9962,5906,0.0,0,28.8395,35.4712,2,35.4648,2,197.14,2,0.97,2,0.00,2,0.00,2,0.02,2,1989.3,2,2328.9,2,8.1032,2,-999,9,-999,9
49UF20140623,KS14-05,4268,1,36,21995,2,20140812,2101,24.984,164.9962,5906,11.1,11,28.8389,35.4706,2,-999.0000,9,196.53,2,0.94,2,0.01,2,0.00,2,0.02,2,-999.0,9,-999.0,9,-999.0000,9,-999,9,-999,9
49UF20140623,KS14-05,4268,1,35,22087,2,20140812,2100,24.984,164.9962,5906,26.5,26,28.7798,35.4652,2,-999.0000,9,197.39,2,0.95,2,0.00,2,0.00,2,0.02,2,-999.0,9,-999.0,9,-999.0000,9,-999,9,-999,9
49UF20140623,KS14-05,4268,1,34,22666,2,20140812,2057,24.984,164.9962,5906,51.5,51,25.5059,35.3616,2,-999.0000,9,221.52,2,1.01,2,0.00,2,0.00,2,0.02,2,-999.0,9,-999.0,9,-999.0000,9,-999,9,-999,9
49UF20140623,KS14-05,4268,1,33,21992,2,20140812,2056,24.984,164.9962,5906,77.3,77,23.8720,35.2966,2,-999.0000,9,220.72,2,1.18,2,0.00,2,0.00,2,0.02,2,-999.0,9,-999.0,9,-999.0000,9,-999,9,-999,9
49UF20140623,KS14-05,4268,1,32,21991,2,20140812,2055,24.984,164.9962,5906,102.2,102,21.7643,35.0944,2,-999.0000,9,209.59,2,1.57,2,0.00,2,0.00,2,0.03,2,-999.0,9,-999.0,9,-999.0000,9,-999,9,-999,9
49UF20140623,KS14-05,4268,1,31,21990,2,20140812,2054,24.984,164.9962,5906,127.5,127,21.1030,35.1688,2,-999.0000,9,206.42,2,1.58,2,0.23,2,0.08,2,0.06,2,-999.0,9,-999.0,9,-999.0000,9,-999,9,-999,9
49UF20140623,KS14-05,4268,1,30,21989,2,20140812,2053,24.984,164.9962,5906,153.8,153,19.5250,34.9584,2,-999.0000,9,200.10,2,2.37,2,1.76,2,0.02,2,0.16,2,-999.0,9,-999.0,9,-999.0000,9,-999,9,-999,9
49UF20140623,KS14-05,4268,1,29,21988,2,20140812,2051,24.984,164.9962,5906,204.6,203,17.5451,34.7370,2,-999.0000,9,205.71,2,3.54,2,3.78,2,0.01,2,0.28,2,-999.0,9,-999.0,9,-999.0000,9,-999,9,-999,9
49UF20140623,KS14-05,4268,1,28,21987,2,20140812,2049,24.984,164.9962,5906,254.3,253,16.4601,34.6557,2,-999.0000,9,207.62,2,4.96,2,5.52,2,0.00,2,0.39,2,-999.0,9,-999.0,9,-999.0000,9,-999,9,-999,9
49UF20140623,KS14-05,4268,1,27,21986,2,20140812,2048,24.984,164.9962,5906,305.1,303,15.4630,34.5762,2,-999.0000,9,203.51,2,7.11,2,7.40,2,0.00,2,0.52,2,-999.0,9,-999.0,9,-999.0000,9,-999,9,-999,9
49UF20140623,KS14-05,4268,1,26,21985,2,20140812,2045,24.984,164.9962,5906,406.2,403,12.8643,34.3881,2,-999.0000,9,198.55,2,13.54,2,11.93,2,0.00,2,0.85,2,-999.0,9,-999.0,9,-999.0000,9,-999,9,-999,9
49UF20140623,KS14-05,4268,1,25,21984,2,20140812,2043,24.984,164.9962,5906,506.1,502,10.2485,34.1980,2,-999.0000,9,180.74,2,23.58,2,18.12,2,0.00,2,1.30,2,-999.0,9,-999.0,9,-999.0000,9,-999,9,-999,9
49UF20140623,KS14-05,4268,1,24,21983,2,20140812,2040,24.984,164.9962,5906,608.2,603,7.6172,34.0825,2,-999.0000,9,138.37,2,44.78,2,26.93,2,0.00,2,1.95,2,-999.0,9,-999.0,9,-999.0000,9,-999,9,-999,9
49UF20140623,KS14-05,4268,1,23,22095,2,20140812,2038,24.984,164.9962,5906,705.9,700,6.0875,34.1152,2,-999.0000,9,85.02,2,66.92,2,34.41,2,0.00,2,2.51,2,-999.0,9,-999.0,9,-999.0000,9,-999,9,-999,9
49UF20140623,KS14-05,4268,1,22,22665,2,20140812,2035,24.984,164.9962,5906,809.9,803,4.9486,34.1811,2,-999.0000,9,55.05,2,88.57,2,38.94,2,0.00,2,2.84,2,-999.0,9,-999.0,9,-999.0000,9,-999,9,-999,9
49UF20140623,KS14-05,4268,1,21,21980,2,20140812,2033,24.984,164.9962,5906,909.0,901,4.4510,34.2493,2,-999.0000,9,44.64,6,100.36,6,40.64,6,0.00,6,2.95,6,-999.0,9,-999.0,9,-999.0000,9,-999,9,-999,9
49UF20140623,KS14-05,4268,1,20,21979,2,20140812,2030,24.984,164.9962,5906,1012.4,1003,3.9458,34.3505,2,-999.0000,9,39.41,2,113.66,2,41.77,2,0.00,2,3.03,2,-999.0,9,-999.0,9,-999.0000,9,-999,9,-999,9
49UF20140623,KS14-05,4268,1,19,21978,2,20140812,2030,24.984,164.9962,5906,1012.4,1003,3.9458,34.3505,2,-999.0000,9,39.56,2,113.45,2,41.75,2,0.00,2,3.03,2,-999.0,9,-999.0,9,-999.0000,9,-999,9,-999,9
49UF20140623,KS14-05,4268,1,9,21968,2,20140812,2026,24.984,164.9962,5906,1213.3,1202,3.2840,34.4538,2,-999.0000,9,46.36,2,129.34,2,41.97,2,0.00,2,3.03,2,-999.0,9,-999.0,9,-999.0000,9,-999,9,-999,9
49UF20140623,KS14-05,4268,1,8,21982,2,20140812,2021,24.984,164.9962,5906,1415.2,1401,2.7867,34.5132,2,-999.0000,9,54.46,2,141.09,2,41.76,2,0.00,2,3.00,2,-999.0,9,-999.0,9,-999.0000,9,-999,9,-999,9
49UF20140623,KS14-05,4268,1,7,21966,2,20140812,2017,24.984,164.9962,5906,1617.3,1601,2.4725,34.5621,2,-999.0000,9,75.45,2,144.16,2,40.55,2,0.00,2,2.90,2,-999.0,9,-999.0,9,-999.0000,9,-999,9,-999,9
49UF20140623,KS14-05,4268,1,6,21965,2,20140812,2013,24.984,164.9962,5906,1821.2,1802,2.1862,34.5900,2,-999.0000,9,86.76,6,148.56,6,39.95,6,0.00,6,2.85,6,-999.0,9,-999.0,9,-999.0000,9,-999,9,-999,9
49UF20140623,KS14-05,4268,1,5,24272,2,20140812,2009,24.984,164.9962,5906,2026.0,2003,2.0076,34.6098,2,-999.0000,9,94.47,2,151.28,2,39.56,2,0.00,2,2.81,2,-999.0,9,-999.0,9,-999.0000,9,-999,9,-999,9
49UF20140623,KS14-05,4268,1,4,21963,2,20140812,2009,24.984,164.9962,5906,2026.0,2003,2.0076,34.6098,2,-999.0000,9,94.63,2,151.32,2,39.57,2,0.00,2,2.81,2,-999.0,9,-999.0,9,-999.0000,9,-999,9,-999,9