BOTTLE,20171119JMAGEMD
EXPOCODE,SECT_ID,STNNBR,CASTNO,SAMPNO,BTLNBR,BTLNBR_FLAG_W,DATE,TIME,LATITUDE,LONGITUDE,DEPTH,CTDPRS,CTDDEP,CTDTMP,CTDSAL,CTDSAL_FLAG_W,SALNTY,SALNTY_FLAG_W,OXYGEN,OXYGEN_FLAG_W,SILCAT,SILCAT_FLAG_W,NO2+NO3,NO2+NO3_FLAG_W,NITRIT,NITRIT_FLAG_W,PHSPHT,PHSPHT_FLAG_W,TCARBN,TCARBN_FLAG_W,ALKALI,ALKALI_FLAG_W,PH_TOT,PH_TOT_FLAG_W,CFC-11,CFC-11_FLAG_W,CFC-12,CFC-12_FLAG_W
,,,,,,,UTC,UTC,,,METER,DBAR,METERS,ITS-90,PSS-78,,PSS-78,,UMOL/KG,,UMOL/KG,,UMOL/KG,,UMOL/KG,,UMOL/KG,,UMOL/KG,,UMOL/KG,,@25DEG-C,,PMOL/KG,,PMOL/KG,
49UF20140623,KS14-05,4223,1,-999,0,2,20140715,1232,5.0075,137.0118,5148,0.0,0,29.4407,33.8962,2,33.9046,2,195.60,2,1.13,2,0.02,2,0.00,2,0.02,2,1897.4,2,2227.0,2,8.1241,2,-999,9,-999,9
49UF20140623,KS14-05,4223,1,36,21995,2,20140715,1313,5.0075,137.0118,5148,11.6,12,29.4373,33.8949,2,33.8937,6,195.66,2,1.11,2,0.00,2,0.00,2,0.03,2,1898.4,2,2225.7,2,8.1240,2,-999,9,-999,9
49UF20140623,KS14-05,4223,1,35,22087,2,20140715,1312,5.0075,137.0118,5148,27.1,27,29.1772,33.9231,2,-999.0000,9,196.40,2,1.13,2,0.00,2,0.00,2,0.03,2,1900.9,2,2228.2,2,8.1233,2,-999,9,-999,9
49UF20140623,KS14-05,4223,1,34,22666,2,20140715,1310,5.0075,137.0118,5148,52.6,52,26.4462,34.7988,2,-999.0000,9,196.54,2,1.46,2,0.01,2,0.00,2,0.14,2,1991.5,2,2292.1,2,8.0536,2,-999,9,-999,9
49UF20140623,KS14-05,4223,1,33,21992,2,20140715,1308,5.0075,137.0118,5148,77.7,77,22.5925,34.9076,2,-999.0000,9,166.73,2,3.81,2,1.88,2,0.18,2,0.38,2,2056.0,2,2299.6,2,7.9558,2,-999,9,-999,9
49UF20140623,KS14-05,4223,1,32,21991,2,20140715,1307,5.0075,137.0118,5148,103.5,103,18.7735,34.7791,2,34.7651,4,141.26,2,8.75,2,10.38,2,0.05,2,0.83,2,2100.2,2,2290.3,2,7.8452,2,-999,9,-999,9
49UF20140623,KS14-05,4223,1,31,21990,2,20140715,1306,5.0075,137.0118,5148,127.8,127,16.2177,34.6581,2,-999.0000,9,131.99,2,13.23,2,14.36,2,0.01,2,1.09,2,2123.4,2,2285.9,2,7.7837,2,-999,9,-999,9
49UF20140623,KS14-05,4223,1,30,21989,2,20140715,1305,5.0075,137.0118,5148,154.4,153,12.9120,34.4924,2,-999.0000,9,123.74,2,20.91,2,19.53,2,0.01,2,1.44,2,2155.5,2,2284.1,2,7.7024,2,-999,9,-999,9
49UF20140623,KS14-05,4223,1,29,21988,2,20140715,1303,5.0075,137.0118,5148,205.9,205,10.0221,34.5212,2,34.5197,2,87.41,2,33.67,2,28.46,2,0.00,2,2.04,2,2214.6,2,2298.1,2,7.5813,2,-999,9,-999,9
49UF20140623,KS14-05,4223,1,28,21987,2,20140715,1301,5.0075,137.0118,5148,256.4,255,9.3645,34.5885,2,-999.0000,9,113.11,2,35.42,2,27.75,2,0.00,2,1.98,2,2207.7,2,2305.1,2,7.6171,6,-999,9,-999,9
49UF20140623,KS14-05,4223,1,27,21986,2,20140715,1300,5.0075,137.0118,5148,306.3,304,8.5457,34.5630,2,-999.0000,9,92.17,6,38.08,6,31.25,6,0.00,6,2.21,6,2230.6,2,2305.8,2,7.5614,2,-999,9,-999,9
49UF20140623,KS14-05,4223,1,26,21985,2,20140715,1258,5.0075,137.0118,5148,356.3,354,8.0917,34.5694,2,-999.0000,9,90.31,2,39.22,2,32.43,2,0.00,2,2.29,2,2233.7,2,2308.6,2,7.5489,2,-999,9,-999,9
49UF20140623,KS14-05,4223,1,25,21984,2,20140715,1256,5.0075,137.0118,5148,407.3,405,7.7865,34.5679,2,34.5677,2,110.41,2,37.44,2,31.32,2,0.00,2,2.21,2,2224.5,2,2308.0,2,7.5765,2,-999,9,-999,9
49UF20140623,KS14-05,4223,1,24,21983,2,20140715,1254,5.0075,137.0118,5148,458.8,456,7.5705,34.5639,2,-999.0000,9,112.76,2,37.87,2,31.53,2,0.00,2,2.22,2,2228.0,2,2310.0,2,7.5776,2,-999,9,-999,9
49UF20140623,KS14-05,4223,1,23,22095,2,20140715,1253,5.0075,137.0118,5148,509.1,506,7.1873,34.5536,2,-999.0000,9,102.15,2,42.47,2,33.30,2,0.00,2,2.35,2,2238.4,2,2312.8,2,7.5518,2,-999,9,-999,9
49UF20140623,KS14-05,4223,1,22,22665,2,20140715,1250,5.0075,137.0118,5148,607.8,604,6.5818,34.5372,2,34.5372,2,104.16,2,48.54,2,34.26,2,0.00,2,2.43,2,2248.5,6,2317.9,6,7.5467,2,-999,9,-999,9
49UF20140623,KS14-05,4223,1,21,21980,2,20140715,1247,5.0075,137.0118,5148,711.0,706,5.9514,34.5365,2,-999.0000,9,85.61,2,61.02,2,37.02,2,0.00,2,2.64,2,2270.3,2,2330.4,2,7.5057,2,-999,9,-999,9
49UF20140623,KS14-05,4223,1,20,21979,2,20140715,1245,5.0075,137.0118,5148,811.0,805,5.4835,34.5369,2,34.5374,6,90.00,6,67.12,6,37.36,6,0.00,6,2.66,6,2278.7,2,2336.2,2,7.5066,2,-999,9,-999,9
49UF20140623,KS14-05,4223,1,19,21978,2,20140715,1242,5.0075,137.0118,5148,911.3,904,4.9665,34.5434,2,-999.0000,9,90.83,2,78.67,2,37.79,2,0.00,2,2.69,2,2290.0,2,2349.5,2,7.5042,2,-999,9,-999,9
49UF20140623,KS14-05,4223,1,18,21977,4,20140715,1239,5.0075,137.0118,5148,1012.6,1005,4.6184,34.5513,2,34.5436,4,90.65,4,78.62,4,37.77,4,0.00,4,2.70,4,2289.6,4,2351.0,4,7.5033,4,-999,9,-999,9
49UF20140623,KS14-05,4223,1,17,23679,2,20140715,1235,5.0075,137.0118,5148,1213.6,1203,3.7961,34.5719,2,34.5724,2,93.82,2,104.35,2,38.66,2,0.00,2,2.76,2,2316.2,2,2375.9,2,7.5060,2,-999,9,-999,9
49UF20140623,KS14-05,4223,1,16,21975,2,20140715,1231,5.0075,137.0118,5148,1416.4,1404,3.2841,34.5893,2,34.5886,2,98.06,2,113.92,2,38.84,2,0.00,2,2.77,2,2325.9,2,2384.9,2,7.5087,2,-999,9,-999,9
49UF20140623,KS14-05,4223,1,15,21974,2,20140715,1226,5.0075,137.0118,5148,1618.9,1604,2.8143,34.6064,2,34.6072,2,103.11,2,124.61,2,38.78,2,0.00,2,2.75,2,2332.8,2,2395.8,2,7.5147,2,-999,9,-999,9
49UF20140623,KS14-05,4223,1,14,21973,2,20140715,1222,5.0075,137.0118,5148,1821.5,1804,2.4291,34.6238,2,34.6243,2,108.79,2,133.17,2,38.59,2,0.00,2,2.73,2,2340.9,2,2403.6,2,7.5203,2,-999,9,-999,9
49UF20140623,KS14-05,4223,1,13,21972,2,20140715,1218,5.0075,137.0118,5148,2023.2,2002,2.1512,34.6384,2,34.6401,4,115.62,2,138.12,2,38.32,2,0.00,2,2.70,2,2348.0,3,2410.0,2,7.5318,2,-999,9,-999,9
49UF20140623,KS14-05,4223,1,12,21994,2,20140715,1213,5.0075,137.0118,5148,2277.3,2252,1.9869,34.6477,2,34.6479,6,121.57,6,140.56,6,37.99,6,0.00,6,2.67,6,2342.0,2,2411.7,2,7.5429,2,-999,9,-999,9
49UF20140623,KS14-05,4223,1,11,21970,2,20140715,1208,5.0075,137.0118,5148,2530.3,2501,1.8043,34.6575,2,34.6582,2,130.10,2,142.27,2,37.47,2,0.00,2,2.62,2,2339.1,2,2415.0,2,7.5549,2,-999,9,-999,9
49UF20140623,KS14-05,4223,1,10,21969,2,20140715,1203,5.0075,137.0118,5148,2784.3,2751,1.6426,34.6674,2,34.6668,2,139.18,2,142.81,2,36.89,2,0.00,2,2.57,2,2334.4,6,2415.7,6,7.5664,2,-999,9,-999,9
49UF20140623,KS14-05,4223,1,9,21968,2,20140715,1159,5.0075,137.0118,5148,3040.0,3002,1.5934,34.6714,2,34.6718,6,143.31,2,142.99,2,36.67,2,0.00,2,2.55,2,2334.2,2,2416.0,2,7.5736,2,-999,9,-999,9
49UF20140623,KS14-05,4223,1,8,21982,2,20140715,1154,5.0075,137.0118,5148,3294.8,3251,1.5633,34.6748,2,34.6752,2,146.40,2,142.77,2,36.42,2,0.00,2,2.53,2,2331.0,2,2416.3,2,7.5767,6,-999,9,-999,9
49UF20140623,KS14-05,4223,1,7,21966,2,20140715,1149,5.0075,137.0118,5148,3548.6,3500,1.5498,34.6774,2,34.6792,4,148.74,2,142.41,2,36.25,2,0.00,2,2.52,2,2328.1,2,2417.4,2,7.5818,2,-999,9,-999,9
49UF20140623,KS14-05,4223,1,6,21965,3,20140715,1145,5.0075,137.0118,5148,3804.0,3749,1.5300,34.6808,2,34.6786,4,151.60,2,141.37,2,36.02,2,0.00,2,2.50,2,2328.5,2,2418.1,2,7.5892,2,-999,9,-999,9
49UF20140623,KS14-05,4223,1,5,24272,2,20140715,1140,5.0075,137.0118,5148,4060.7,4000,1.5292,34.6828,2,34.6836,2,153.83,6,141.43,6,35.90,6,0.00,6,2.50,6,2325.7,2,2416.1,2,7.5869,2,-999,9,-999,9
49UF20140623,KS14-05,4223,1,4,21963,2,20140715,1135,5.0075,137.0118,5148,4316.7,4250,1.5242,34.6852,2,34.6851,2,157.46,2,140.86,2,35.71,2,0.00,2,2.48,2,2324.5,2,2416.0,2,7.5927,2,-999,9,-999,9
49UF20140623,KS14-05,4223,1,3,24269,4,20140715,1130,5.0075,137.0118,5148,4574.1,4500,1.5204,34.6870,2,34.6844,4,156.35,4,140.62,4,35.70,4,0.00,4,2.48,4,2323.2,4,2415.6,4,7.5913,4,-999,9,-999,9
49UF20140623,KS14-05,4223,1,2,21961,2,20140715,1121,5.0075,137.0118,5148,5089.0,5001,1.5736,34.6872,2,34.6872,2,161.43,2,139.14,2,35.42,2,0.00,2,2.46,2,2319.8,2,2411.5,2,7.5938,6,-999,9,-999,9
49UF20140623,KS14-05,4223,1,1,21960,2,20140715,1117,5.0075,137.0118,5148,5252.9,5161,1.5921,34.6872,2,34.6872,2,161.41,2,139.32,2,35.40,2,0.00,2,2.46,2,2318.5,2,2412.1,2,7.5958,2,-999,9,-999,9
49UF20140623,KS14-05,4224,1,-999,0,2,20140715,2140,4.0087,137.023,4677,0.0,0,29.1171,34.1544,2,-999.,9,195.47,2,1.31,2,0.00,2,0.00,2,0.05,2,-999.,9,-999.,9,-999.,9,-999,9,-999,9
49UF20140623,KS14-05,4224,1,36,21995,2,20140715,2206,4.0087,137.023,4677,12.2,12,29.1205,34.1572,2,-999.,9,195.75,2,1.36,2,0.00,2,0.00,2,0.05,2,-999.,9,-999.,9,-999.,9,-999,9,-999,9
49UF20140623,KS14-05,4224,1,35,22087,2,20140715,2205,4.0087,137.023,4677,26.6,26,28.6582,34.3063,2,-999.,9,196.10,2,1.49,2,0.00,2,0.00,2,0.06,2,-999.,9,-999.,9,-999.,9,-999,9,-999,9
49UF20140623,KS14-05,4224,1,34,22666,4,20140715,2203,4.0087,137.023,4677,52.6,52,28.0445,34.4614,2,-999.,9,154.56,4,3.47,4,5.44,4,0.13,4,0.47,4,-999.,9,-999.,9,-999.,9,-999,9,-999,9
49UF20140623,KS14-05,4224,1,33,21992,2,20140715,2202,4.0087,137.023,4677,76.8,76,26.0901,34.9208,2,-999.,9,154.57,2,3.49,2,5.46,2,0.13,2,0.48,2,-999.,9,-999.,9,-999.,9,-999,9,-999,9
49UF20140623,KS14-05,4224,1,32,21991,2,20140715,2159,4.0087,137.023,4677,104.0,103,24.2262,34.7807,2,-999.,9,157.93,2,5.21,2,5.55,2,0.12,2,0.49,2,-999.,9,-999.,9,-999.,9,-999,9,-999,9
49UF20140623,KS14-05,4224,1,31,21990,2,20140715,2157,4.0087,137.023,4677,127.9,127,21.2065,34.7979,2,-999.,9,154.84,2,6.89,2,6.71,2,0.05,2,0.59,2,-999.,9,-999.,9,-999.,9,-999,9,-999,9
49UF20140623,KS14-05,4224,1,30,21989,2,20140715,2156,4.0087,137.023,4677,155.4,154,17.5071,34.7233,2,-999.,9,143.54,2,9.90,2,10.99,2,0.02,2,0.86,2,-999.,9,-999.,9,-999.,9,-999,9,-999,9
49UF20140623,KS14-05,4224,1,29,21988,2,20140715,2154,4.0087,137.023,4677,201.7,200,10.2625,34.4281,2,-999.,9,97.03,2,32.71,2,26.71,2,0.00,2,1.94,2,-999.,9,-999.,9,-999.,9,-999,9,-999,9
49UF20140623,KS14-05,4224,1,28,21987,2,20140715,2153,4.0087,137.023,4677,253.3,252,9.2094,34.5545,2,-999.,9,94.73,6,36.40,6,29.62,6,0.00,6,2.11,6,-999.,9,-999.,9,-999.,9,-999,9,-999,9
49UF20140623,KS14-05,4224,1,26,21985,2,20140715,2151,4.0087,137.023,4677,303.7,302,8.6105,34.5813,2,-999.,9,106.59,2,35.74,2,29.82,2,0.00,2,2.11,2,-999.,9,-999.,9,-999.,9,-999,9,-999,9
49UF20140623,KS14-05,4224,1,25,21984,2,20140715,2151,4.0087,137.023,4677,303.7,302,8.6105,34.5813,2,-999.,9,106.27,2,35.73,2,29.82,2,0.00,2,2.11,2,-999.,9,-999.,9,-999.,9,-999,9,-999,9
49UF20140623,KS14-05,4224,1,24,21983,2,20140715,2149,4.0087,137.023,4677,354.7,352,8.1305,34.5856,2,-999.,9,120.78,2,33.34,2,29.68,2,0.00,2,2.09,2,-999.,9,-999.,9,-999.,9,-999,9,-999,9
49UF20140623,KS14-05,4224,1,23,22095,2,20140715,2147,4.0087,137.023,4677,404.3,402,7.7789,34.5677,2,-999.,9,112.58,2,37.14,2,31.11,2,0.00,2,2.19,2,-999.,9,-999.,9,-999.,9,-999,9,-999,9
49UF20140623,KS14-05,4224,1,22,22665,2,20140715,2145,4.0087,137.023,4677,455.8,453,7.4365,34.5570,2,-999.,9,109.52,2,39.74,2,32.04,2,0.00,2,2.26,2,-999.,9,-999.,9,-999.,9,-999,9,-999,9
49UF20140623,KS14-05,4224,1,21,21980,2,20140715,2143,4.0087,137.023,4677,505.7,502,7.2240,34.5536,2,-999.,9,106.32,6,41.63,6,32.78,6,0.00,6,2.32,6,-999.,9,-999.,9,-999.,9,-999,9,-999,9
49UF20140623,KS14-05,4224,1,20,21979,2,20140715,2141,4.0087,137.023,4677,607.7,603,6.7777,34.5464,2,-999.,9,88.37,2,49.19,2,35.30,2,0.00,2,2.51,2,-999.,9,-999.,9,-999.,9,-999,9,-999,9
49UF20140623,KS14-05,4224,1,19,21978,2,20140715,2141,4.0087,137.023,4677,607.7,603,6.7777,34.5464,2,-999.,9,88.51,2,49.20,2,35.29,2,0.00,2,2.51,2,-999.,9,-999.,9,-999.,9,-999,9,-999,9
49UF20140623,KS14-05,4224,1,12,21994,2,20140715,2138,4.0087,137.023,4677,708.4,703,5.9912,34.5371,2,-999.,9,82.75,2,61.06,2,37.17,2,0.00,2,2.65,2,-999.,9,-999.,9,-999.,9,-999,9,-999,9
49UF20140623,KS14-05,4224,1,11,21970,2,20140715,2135,4.0087,137.023,4677,810.8,805,5.4673,34.5368,2,-999.,9,88.60,2,69.13,2,37.29,2,0.00,2,2.66,2,-999.,9,-999.,9,-999.,9,-999,9,-999,9
49UF20140623,KS14-05,4224,1,10,21969,2,20140715,2132,4.0087,137.023,4677,909.9,903,4.9287,34.5442,2,-999.,9,91.02,2,78.28,2,37.80,2,0.00,2,2.70,2,-999.,9,-999.,9,-999.,9,-999,9,-999,9
49UF20140623,KS14-05,4224,1,9,21968,2,20140715,2129,4.0087,137.023,4677,1009.5,1001,4.5531,34.5524,2,-999.,9,92.04,2,85.78,2,38.19,2,0.00,2,2.73,2,-999.,9,-999.,9,-999.,9,-999,9,-999,9
49UF20140623,KS14-05,4224,1,8,21982,2,20140715,2125,4.0087,137.023,4677,1209.5,1199,3.8717,34.5709,2,-999.,9,94.05,2,101.24,2,38.61,2,0.00,2,2.76,2,-999.,9,-999.,9,-999.,9,-999,9,-999,9
49UF20140623,KS14-05,4224,1,7,21966,2,20140715,2121,4.0087,137.023,4677,1415.1,1403,3.2194,34.5916,2,-999.,9,99.33,2,114.87,2,38.77,2,0.00,2,2.76,2,-999.,9,-999.,9,-999.,9,-999,9,-999,9
49UF20140623,KS14-05,4224,1,3,24269,2,20140715,2116,4.0087,137.023,4677,1617.0,1602,2.8239,34.6071,2,-999.,9,103.70,2,123.60,2,38.79,2,0.00,2,2.76,2,-999.,9,-999.,9,-999.,9,-999,9,-999,9
49UF20140623,KS14-05,4224,1,2,21961,2,20140715,2111,4.0087,137.023,4677,1821.3,1803,2.4356,34.6245,2,-999.,9,109.34,2,132.11,2,38.60,2,0.00,2,2.73,2,-999.,9,-999.,9,-999.,9,-999,9,-999,9
49UF20140623,KS14-05,4224,1,1,21960,2,20140715,2107,4.0087,137.023,4677,2023.6,2003,2.1853,34.6370,2,-999.,9,116.54,2,136.85,2,38.26,2,0.00,2,2.69,2,-999.,9,-999.,9,-999.,9,-999,9,-999,9
49UF20140623,KS14-05,4225,2,-999,0,2,20140716,0955,3.0233,137.008,4530,0.0,0,28.7645,33.9139,2,-999.0000,9,197.92,2,1.89,2,0.00,2,0.00,2,0.05,2,-999.,9,-999.,9,-999.,9,-999,9,-999,9
49UF20140623,KS14-05,4225,2,36,21995,2,20140716,1017,3.0233,137.008,4530,13.1,13,28.7748,33.9147,2,33.9173,2,198.16,2,1.87,2,0.00,2,0.00,2,0.04,2,-999.,9,-999.,9,-999.,9,-999,9,-999,9
49UF20140623,KS14-05,4225,2,35,22087,2,20140716,1015,3.0233,137.008,4530,27.1,27,28.7788,33.9197,2,-999.0000,9,197.81,2,1.87,2,0.00,2,0.00,2,0.04,2,-999.,9,-999.,9,-999.,9,-999,9,-999,9
49UF20140623,KS14-05,4225,2,34,22666,2,20140716,1012,3.0233,137.008,4530,53.2,53,28.8404,34.1896,2,-999.0000,9,193.35,2,1.44,2,0.27,2,0.11,2,0.08,2,-999.,9,-999.,9,-999.,9,-999,9,-999,9
49UF20140623,KS14-05,4225,2,33,21992,2,20140716,1011,3.0233,137.008,4530,77.9,77,26.5489,34.7546,2,-999.0000,9,151.91,6,2.76,6,5.18,6,0.07,6,0.44,6,-999.,9,-999.,9,-999.,9,-999,9,-999,9
49UF20140623,KS14-05,4225,2,32,21991,2,20140716,1010,3.0233,137.008,4530,103.2,103,25.1078,35.0212,2,35.0586,4,142.19,2,3.60,2,7.08,2,0.04,2,0.58,2,-999.,9,-999.,9,-999.,9,-999,9,-999,9
49UF20140623,KS14-05,4225,2,31,21990,2,20140716,1008,3.0233,137.008,4530,127.6,127,24.6154,35.1468,2,-999.0000,9,138.73,2,3.86,2,7.75,2,0.03,2,0.63,2,-999.,9,-999.,9,-999.,9,-999,9,-999,9
49UF20140623,KS14-05,4225,2,30,21989,2,20140716,1007,3.0233,137.008,4530,153.7,153,20.2602,34.9273,2,-999.0000,9,144.54,2,8.47,2,9.70,2,0.02,2,0.76,2,-999.,9,-999.,9,-999.,9,-999,9,-999,9
49UF20140623,KS14-05,4225,2,29,21988,2,20140716,1005,3.0233,137.008,4530,205.0,204,14.5676,34.5862,2,34.5798,4,129.69,2,18.03,2,16.91,2,0.01,2,1.25,2,-999.,9,-999.,9,-999.,9,-999,9,-999,9
49UF20140623,KS14-05,4225,2,28,21987,3,20140716,1003,3.0233,137.008,4530,254.2,253,10.2394,34.5952,2,-999.0000,9,118.32,2,31.27,2,25.56,2,0.00,2,1.83,2,-999.,9,-999.,9,-999.,9,-999,9,-999,9
49UF20140623,KS14-05,4225,2,27,21986,2,20140716,1001,3.0233,137.008,4530,304.6,303,9.0041,34.6273,2,-999.0000,9,122.41,2,29.54,2,27.88,2,0.00,2,1.96,2,-999.,9,-999.,9,-999.,9,-999,9,-999,9
49UF20140623,KS14-05,4225,2,26,21985,2,20140716,1000,3.0233,137.008,4530,355.7,353,8.7441,34.6203,2,-999.0000,9,117.15,2,30.51,2,28.93,2,0.00,2,2.03,2,-999.,9,-999.,9,-999.,9,-999,9,-999,9
49UF20140623,KS14-05,4225,2,25,21984,2,20140716,0958,3.0233,137.008,4530,405.1,402,8.3107,34.6037,2,34.6055,2,117.98,2,31.69,2,29.79,2,0.00,2,2.08,2,-999.,9,-999.,9,-999.,9,-999,9,-999,9
49UF20140623,KS14-05,4225,2,24,21983,2,20140716,0956,3.0233,137.008,4530,455.9,453,8.1091,34.5930,2,-999.0000,9,114.81,2,33.17,2,30.50,2,0.00,2,2.13,2,-999.,9,-999.,9,-999.,9,-999,9,-999,9
49UF20140623,KS14-05,4225,2,23,22095,3,20140716,0954,3.0233,137.008,4530,507.4,504,7.5668,34.5623,2,-999.0000,9,124.41,2,35.45,2,30.54,2,0.00,2,2.14,2,-999.,9,-999.,9,-999.,9,-999,9,-999,9
49UF20140623,KS14-05,4225,2,22,22665,2,20140716,0951,3.0233,137.008,4530,606.5,602,6.9000,34.5494,2,34.5502,2,93.86,6,46.40,6,34.84,6,0.00,6,2.46,6,-999.,9,-999.,9,-999.,9,-999,9,-999,9
49UF20140623,KS14-05,4225,2,21,21980,2,20140716,0949,3.0233,137.008,4530,708.7,704,6.2709,34.5383,2,-999.0000,9,82.19,2,57.67,2,36.94,2,0.00,2,2.62,2,-999.,9,-999.,9,-999.,9,-999,9,-999,9
49UF20140623,KS14-05,4225,2,20,21979,2,20140716,0946,3.0233,137.008,4530,807.8,802,5.4931,34.5360,2,34.5372,2,89.82,2,68.38,2,37.31,2,0.00,2,2.65,2,-999.,9,-999.,9,-999.,9,-999,9,-999,9
49UF20140623,KS14-05,4225,2,19,21978,2,20140716,0944,3.0233,137.008,4530,908.7,902,4.9026,34.5445,2,-999.0000,9,91.47,2,79.00,2,37.91,2,0.00,2,2.69,2,-999.,9,-999.,9,-999.,9,-999,9,-999,9
49UF20140623,KS14-05,4225,2,18,21977,2,20140716,0941,3.0233,137.008,4530,1011.0,1003,4.3134,34.5583,2,34.5586,6,92.22,6,91.79,6,38.38,6,0.00,6,2.73,6,-999.,9,-999.,9,-999.,9,-999,9,-999,9
49UF20140623,KS14-05,4225,2,17,23679,2,20140716,0937,3.0233,137.008,4530,1214.5,1204,3.7507,34.5743,2,34.5752,2,94.71,2,103.66,2,38.67,2,0.00,2,2.75,2,-999.,9,-999.,9,-999.,9,-999,9,-999,9
49UF20140623,KS14-05,4225,2,16,21975,2,20140716,0933,3.0233,137.008,4530,1415.2,1403,3.2035,34.5920,2,34.5922,2,99.19,2,115.17,2,38.86,2,0.00,2,2.75,2,-999.,9,-999.,9,-999.,9,-999,9,-999,9
49UF20140623,KS14-05,4225,2,15,21974,2,20140716,0928,3.0233,137.008,4530,1616.2,1601,2.6658,34.6133,2,34.6134,2,104.69,2,127.16,2,38.78,2,0.00,2,2.74,2,-999.,9,-999.,9,-999.,9,-999,9,-999,9
49UF20140623,KS14-05,4225,2,14,21973,3,20140716,0924,3.0233,137.008,4530,1820.9,1803,2.3541,34.6277,2,34.6287,2,111.78,2,133.25,2,38.42,2,0.00,2,2.71,2,-999.,9,-999.,9,-999.,9,-999,9,-999,9
49UF20140623,KS14-05,4225,2,13,21972,2,20140716,0919,3.0233,137.008,4530,2024.4,2004,2.1388,34.6391,2,34.6393,2,117.33,2,137.42,2,38.19,2,0.00,2,2.68,2,-999.,9,-999.,9,-999.,9,-999,9,-999,9
49UF20140623,KS14-05,4225,2,12,21994,2,20140716,0914,3.0233,137.008,4530,2277.8,2253,1.9102,34.6517,2,34.6521,6,123.70,2,141.60,2,37.84,2,0.00,2,2.65,2,-999.,9,-999.,9,-999.,9,-999,9,-999,9
49UF20140623,KS14-05,4225,2,11,21970,2,20140716,0908,3.0233,137.008,4530,2533.8,2505,1.7648,34.6594,2,34.6597,2,131.98,2,142.24,2,37.31,2,0.00,2,2.60,2,-999.,9,-999.,9,-999.,9,-999,9,-999,9
49UF20140623,KS14-05,4225,2,10,21969,2,20140716,0903,3.0233,137.008,4530,2786.1,2753,1.6615,34.6656,2,34.6663,2,138.78,2,142.51,2,36.87,2,0.00,2,2.57,2,-999.,9,-999.,9,-999.,9,-999,9,-999,9
49UF20140623,KS14-05,4225,2,9,21968,2,20140716,0858,3.0233,137.008,4530,3041.2,3003,1.5961,34.6707,2,34.6695,2,142.97,2,142.81,2,36.60,2,0.00,2,2.54,2,-999.,9,-999.,9,-999.,9,-999,9,-999,9
49UF20140623,KS14-05,4225,2,8,21982,2,20140716,0852,3.0233,137.008,4530,3296.3,3253,1.5721,34.6737,2,34.6736,2,145.59,2,142.57,2,36.34,2,0.00,2,2.53,2,-999.,9,-999.,9,-999.,9,-999,9,-999,9
49UF20140623,KS14-05,4225,2,6,21965,2,20140716,0846,3.0233,137.008,4530,3552.8,3504,1.5583,34.6766,2,-999.0000,9,147.88,2,142.35,2,36.26,2,0.00,2,2.52,2,-999.,9,-999.,9,-999.,9,-999,9,-999,9
49UF20140623,KS14-05,4225,2,5,24272,2,20140716,0846,3.0233,137.008,4530,3552.8,3504,1.5583,34.6766,2,-999.0000,9,147.87,2,142.41,2,36.25,2,0.00,2,2.52,2,-999.,9,-999.,9,-999.,9,-999,9,-999,9
49UF20140623,KS14-05,4225,2,7,21966,2,20140716,0847,3.0233,137.008,4530,3552.9,3504,1.5583,34.6766,2,34.6766,6,147.61,6,142.48,6,36.26,6,0.00,6,2.52,6,-999.,9,-999.,9,-999.,9,-999,9,-999,9
49UF20140623,KS14-05,4225,2,4,21963,2,20140716,0846,3.0233,137.008,4530,3553.3,3504,1.5583,34.6765,2,-999.0000,9,148.11,2,142.54,2,36.25,2,0.00,2,2.52,2,-999.,9,-999.,9,-999.,9,-999,9,-999,9
49UF20140623,KS14-05,4225,2,3,24269,2,20140716,0846,3.0233,137.008,4530,3553.3,3504,1.5583,34.6765,2,-999.0000,9,148.17,2,142.79,2,36.31,2,0.00,2,2.52,2,-999.,9,-999.,9,-999.,9,-999,9,-999,9