BOTTLE,20171119JMAGEMD
EXPOCODE,SECT_ID,STNNBR,CASTNO,SAMPNO,BTLNBR,BTLNBR_FLAG_W,DATE,TIME,LATITUDE,LONGITUDE,DEPTH,CTDPRS,CTDDEP,CTDTMP,CTDSAL,CTDSAL_FLAG_W,SALNTY,SALNTY_FLAG_W,OXYGEN,OXYGEN_FLAG_W,SILCAT,SILCAT_FLAG_W,NO2+NO3,NO2+NO3_FLAG_W,NITRIT,NITRIT_FLAG_W,PHSPHT,PHSPHT_FLAG_W,TCARBN,TCARBN_FLAG_W,ALKALI,ALKALI_FLAG_W,PH_TOT,PH_TOT_FLAG_W,CFC-11,CFC-11_FLAG_W,CFC-12,CFC-12_FLAG_W
,,,,,,,UTC,UTC,,,METER,DBAR,METERS,ITS-90,PSS-78,,PSS-78,,UMOL/KG,,UMOL/KG,,UMOL/KG,,UMOL/KG,,UMOL/KG,,UMOL/KG,,UMOL/KG,,@25DEG-C,,PMOL/KG,,PMOL/KG,
49UF20140623,KS14-05,4258,1,-999,0,2,20140809,2125,14.9995,164.9912,5216,0.0,0,29.6080,34.7835,2,34.7820,2,194.45,2,0.94,2,0.00,2,0.00,2,0.12,2,1948.9,2,2288.1,2,8.1113,2,-999,9,-999,9
49UF20140623,KS14-05,4258,1,36,21995,2,20140809,2155,14.9995,164.9912,5216,12.8,13,29.5311,34.7847,2,34.7834,6,194.27,2,0.90,2,0.00,2,0.00,2,0.13,2,1951.4,2,2288.3,2,8.1081,2,-999,9,-999,9
49UF20140623,KS14-05,4258,1,35,22087,2,20140809,2154,14.9995,164.9912,5216,25.3,25,29.5225,34.7852,2,-999.0000,9,194.65,2,0.95,2,0.00,2,0.00,2,0.12,2,1949.9,2,2286.8,2,8.1133,2,-999,9,-999,9
49UF20140623,KS14-05,4258,1,34,22666,2,20140809,2152,14.9995,164.9912,5216,52.7,52,28.7943,34.9663,2,-999.0000,9,205.36,2,0.96,2,0.00,2,0.00,2,0.14,2,1966.8,2,2301.5,2,8.1085,2,-999,9,-999,9
49UF20140623,KS14-05,4258,1,33,21992,2,20140809,2151,14.9995,164.9912,5216,77.0,77,27.6672,35.1164,2,-999.0000,9,209.88,2,0.91,2,0.00,2,0.00,2,0.14,2,1977.6,2,2310.6,2,8.1013,2,-999,9,-999,9
49UF20140623,KS14-05,4258,1,32,21991,2,20140809,2150,14.9995,164.9912,5216,104.1,103,26.4835,35.2207,2,35.2414,4,206.53,2,1.05,2,0.00,2,0.00,2,0.13,2,1988.5,2,2318.7,2,8.0928,2,-999,9,-999,9
49UF20140623,KS14-05,4258,1,31,21990,2,20140809,2148,14.9995,164.9912,5216,127.9,127,25.3429,35.3528,2,-999.0000,9,198.96,2,1.04,2,0.02,2,0.02,2,0.11,2,2008.0,2,2325.5,2,8.0723,2,-999,9,-999,9
49UF20140623,KS14-05,4258,1,30,21989,2,20140809,2146,14.9995,164.9912,5216,153.0,152,23.6662,35.3061,2,-999.0000,9,186.50,2,1.33,2,0.60,2,0.12,2,0.17,2,2044.9,2,2321.8,2,8.0179,2,-999,9,-999,9
49UF20140623,KS14-05,4258,1,29,21988,2,20140809,2144,14.9995,164.9912,5216,205.5,204,19.6984,34.9614,2,34.9900,4,177.98,6,2.96,6,3.56,6,0.01,6,0.37,6,2068.3,2,2303.2,2,7.9308,2,-999,9,-999,9
49UF20140623,KS14-05,4258,1,28,21987,2,20140809,2142,14.9995,164.9912,5216,250.9,249,15.6895,34.5727,2,-999.0000,9,184.21,2,-999.00,9,-999.00,9,-999.00,9,-999.000,9,2078.6,2,2275.7,2,7.8597,2,-999,9,-999,9
49UF20140623,KS14-05,4258,1,27,21986,2,20140809,2141,14.9995,164.9912,5216,305.9,304,12.2486,34.3068,2,-999.0000,9,172.53,2,15.43,2,14.70,2,0.00,2,1.10,2,2115.9,6,2265.3,6,7.7597,2,-999,9,-999,9
49UF20140623,KS14-05,4258,1,26,21985,2,20140809,2139,14.9995,164.9912,5216,357.1,355,10.6446,34.3011,2,-999.0000,9,105.01,2,26.43,2,23.55,2,0.00,2,1.85,2,2187.6,2,2274.6,2,7.5926,2,-999,9,-999,9
49UF20140623,KS14-05,4258,1,25,21984,2,20140809,2138,14.9995,164.9912,5216,405.2,402,9.2083,34.3484,2,34.3469,2,72.90,2,37.10,2,29.76,2,0.00,2,2.25,2,2228.4,2,2286.7,2,7.5064,2,-999,9,-999,9
49UF20140623,KS14-05,4258,1,24,21983,2,20140809,2136,14.9995,164.9912,5216,455.2,452,8.3050,34.3570,2,-999.0000,9,58.03,2,45.26,2,33.01,2,0.00,2,2.47,2,2252.7,2,2293.2,2,7.4679,6,-999,9,-999,9
49UF20140623,KS14-05,4258,1,23,22095,2,20140809,2135,14.9995,164.9912,5216,507.9,504,7.5112,34.3862,2,-999.0000,9,52.73,6,53.88,6,35.37,6,0.00,6,2.62,6,2268.9,2,2307.2,2,7.4477,2,-999,9,-999,9
49UF20140623,KS14-05,4258,1,22,22665,2,20140809,2132,14.9995,164.9912,5216,609.3,605,6.4551,34.4504,2,34.4466,4,56.15,2,65.30,2,37.41,2,0.00,2,2.74,2,2282.6,2,2322.1,2,7.4527,2,-999,9,-999,9
49UF20140623,KS14-05,4258,1,21,21980,2,20140809,2130,14.9995,164.9912,5216,707.7,702,5.7928,34.4797,2,-999.0000,9,58.80,2,71.73,2,38.27,2,0.00,2,2.78,2,2286.8,2,2331.6,2,7.4542,2,-999,9,-999,9
49UF20140623,KS14-05,4258,1,20,21979,2,20140809,2127,14.9995,164.9912,5216,808.4,802,5.2648,34.5040,2,34.5047,2,63.69,2,82.06,2,39.14,2,0.00,2,2.83,2,2301.8,2,2344.7,2,7.4578,2,-999,9,-999,9
49UF20140623,KS14-05,4258,1,19,21978,2,20140809,2125,14.9995,164.9912,5216,910.4,903,4.8917,34.5238,2,-999.0000,9,56.12,2,89.29,2,40.64,2,0.00,2,2.94,2,2318.1,2,2353.0,2,7.4380,2,-999,9,-999,9
49UF20140623,KS14-05,4258,1,18,21977,2,20140809,2122,14.9995,164.9912,5216,1012.9,1005,4.4763,34.5366,2,34.5358,6,57.52,2,96.85,2,41.14,2,0.00,2,2.98,2,2327.6,2,2360.9,2,7.4381,2,-999,9,-999,9
49UF20140623,KS14-05,4258,1,17,23679,2,20140809,2118,14.9995,164.9912,5216,1213.0,1202,3.8034,34.5586,2,34.5596,2,69.43,2,109.97,2,40.59,2,0.00,2,2.94,2,2335.5,2,2376.8,2,7.4542,2,-999,9,-999,9
49UF20140623,KS14-05,4258,1,16,21975,2,20140809,2114,14.9995,164.9912,5216,1416.0,1403,3.1982,34.5796,2,34.5794,2,79.26,2,122.56,2,40.39,2,0.00,2,2.90,2,2342.2,6,2388.5,6,7.4682,2,-999,9,-999,9
49UF20140623,KS14-05,4258,1,15,21974,2,20140809,2110,14.9995,164.9912,5216,1617.0,1601,2.7707,34.5954,2,34.5952,2,86.46,2,131.81,2,40.04,2,0.00,2,2.86,2,2349.2,2,2398.1,2,7.4789,2,-999,9,-999,9
49UF20140623,KS14-05,4258,1,14,21973,2,20140809,2106,14.9995,164.9912,5216,1823.0,1804,2.3840,34.6171,2,34.6193,2,96.69,6,139.52,6,39.52,6,0.00,6,2.82,6,2349.0,2,2406.5,2,7.4943,3,-999,9,-999,9
49UF20140623,KS14-05,4258,1,13,21972,2,20140809,2102,14.9995,164.9912,5216,2026.5,2005,2.1029,34.6339,2,34.6342,2,106.08,2,144.81,2,39.04,2,0.00,2,2.77,2,2350.3,2,2412.4,2,7.5100,3,-999,9,-999,9
49UF20140623,KS14-05,4258,1,12,21994,2,20140809,2057,14.9995,164.9912,5216,2276.0,2250,1.9035,34.6480,2,34.6481,6,114.21,2,147.70,2,38.56,2,0.00,2,2.72,2,2350.0,2,2417.8,2,7.5248,2,-999,9,-999,9
49UF20140623,KS14-05,4258,1,11,21970,2,20140809,2052,14.9995,164.9912,5216,2532.9,2503,1.7843,34.6573,2,34.6575,2,120.39,2,149.34,2,38.14,2,0.00,2,2.69,2,2347.5,2,2418.9,2,7.5354,2,-999,9,-999,9
49UF20140623,KS14-05,4258,1,10,21969,2,20140809,2047,14.9995,164.9912,5216,2788.5,2754,1.6902,34.6641,2,34.6641,2,126.17,2,150.58,2,37.85,2,0.00,2,2.66,2,2353.0,3,2421.0,2,7.5441,2,-999,9,-999,9
49UF20140623,KS14-05,4258,1,9,21968,2,20140809,2041,14.9995,164.9912,5216,3042.7,3003,1.6170,34.6702,2,34.6701,2,133.07,2,150.01,2,37.33,2,0.00,2,2.62,2,2345.5,2,2421.4,2,7.5540,2,-999,9,-999,9
49UF20140623,KS14-05,4258,1,8,21982,2,20140809,2036,14.9995,164.9912,5216,3297.2,3253,1.5623,34.6754,2,34.6755,2,139.41,2,149.31,2,37.01,2,0.00,2,2.59,2,2335.9,2,2418.5,2,7.5629,2,-999,9,-999,9
49UF20140623,KS14-05,4258,1,7,21966,2,20140809,2031,14.9995,164.9912,5216,3554.0,3504,1.5128,34.6793,2,34.6789,2,143.75,2,148.93,2,36.65,2,0.00,2,2.57,2,2332.9,2,2418.1,2,7.5688,6,-999,9,-999,9
49UF20140623,KS14-05,4258,1,6,21965,2,20140809,2026,14.9995,164.9912,5216,3809.0,3753,1.4785,34.6831,2,34.6830,2,150.07,2,147.20,2,36.23,2,0.00,2,2.53,2,2331.5,2,2415.9,2,7.5772,2,-999,9,-999,9
49UF20140623,KS14-05,4258,1,5,24272,2,20140809,2021,14.9995,164.9912,5216,4066.4,4004,1.4463,34.6870,2,34.6871,2,156.71,6,143.52,6,35.78,6,0.00,6,2.50,6,2322.2,2,2412.6,2,7.5850,2,-999,9,-999,9
49UF20140623,KS14-05,4258,1,4,21963,2,20140809,2015,14.9995,164.9912,5216,4322.6,4254,1.4225,34.6907,2,34.6922,4,164.22,2,139.28,2,35.21,2,0.00,2,2.46,2,2317.2,2,2406.6,2,7.5932,2,-999,9,-999,9
49UF20140623,KS14-05,4258,1,3,24269,2,20140809,2010,14.9995,164.9912,5216,4577.3,4502,1.4078,34.6939,2,34.6953,4,169.68,2,135.63,2,34.75,2,0.00,2,2.43,2,2311.8,2,2402.9,2,7.5973,2,-999,9,-999,9
49UF20140623,KS14-05,4258,1,2,21961,2,20140809,1959,14.9995,164.9912,5216,5091.7,5002,1.4023,34.6980,2,34.6981,2,178.21,2,130.98,2,34.12,2,0.00,2,2.38,2,2298.4,6,2396.6,6,7.6074,2,-999,9,-999,9
49UF20140623,KS14-05,4258,1,1,21960,2,20140809,1955,14.9995,164.9912,5216,5316.7,5221,1.4044,34.6993,2,34.6990,2,180.94,2,129.74,2,33.91,2,0.00,2,2.36,2,2294.3,2,2393.2,2,7.6093,2,-999,9,-999,9
49UF20140623,KS14-05,4261,1,-999,0,2,20140810,1636,17.9957,165.0018,5442,0.0,0,29.7513,35.2938,2,-999.,9,194.20,2,0.67,2,0.00,2,0.00,2,0.05,2,-999.,9,-999.,9,-999.,9,-999,9,-999,9
49UF20140623,KS14-05,4261,1,36,21995,2,20140810,1652,17.9957,165.0018,5442,11.5,11,29.7490,35.2942,2,-999.,9,194.75,2,0.63,2,0.00,2,0.00,2,0.06,2,-999.,9,-999.,9,-999.,9,-999,9,-999,9
49UF20140623,KS14-05,4261,1,35,22087,2,20140810,1650,17.9957,165.0018,5442,27.8,28,29.5803,35.2890,2,-999.,9,195.04,2,0.66,2,0.00,2,0.00,2,0.06,2,-999.,9,-999.,9,-999.,9,-999,9,-999,9
49UF20140623,KS14-05,4261,1,34,22666,2,20140810,1648,17.9957,165.0018,5442,52.3,52,27.5488,35.2331,2,-999.,9,212.80,2,0.87,2,0.00,2,0.00,2,0.03,2,-999.,9,-999.,9,-999.,9,-999,9,-999,9
49UF20140623,KS14-05,4261,1,33,21992,2,20140810,1647,17.9957,165.0018,5442,77.3,77,25.9873,35.2962,2,-999.,9,208.14,2,0.95,2,0.00,2,0.00,2,0.04,2,-999.,9,-999.,9,-999.,9,-999,9,-999,9
49UF20140623,KS14-05,4261,1,32,21991,2,20140810,1646,17.9957,165.0018,5442,103.7,103,25.1788,35.2998,2,-999.,9,205.03,2,1.01,2,0.00,2,0.00,2,0.04,2,-999.,9,-999.,9,-999.,9,-999,9,-999,9
49UF20140623,KS14-05,4261,1,31,21990,2,20140810,1645,17.9957,165.0018,5442,129.1,128,24.1090,35.3100,2,-999.,9,202.92,2,1.12,2,0.00,2,0.00,2,0.04,2,-999.,9,-999.,9,-999.,9,-999,9,-999,9
49UF20140623,KS14-05,4261,1,30,21989,2,20140810,1644,17.9957,165.0018,5442,153.3,152,22.9269,35.2422,2,-999.,9,197.49,2,1.31,2,0.26,2,0.19,2,0.07,2,-999.,9,-999.,9,-999.,9,-999,9,-999,9
49UF20140623,KS14-05,4261,1,29,21988,2,20140810,1642,17.9957,165.0018,5442,203.4,202,19.9385,34.9738,2,-999.,9,188.58,2,2.49,2,2.37,2,0.01,2,0.21,2,-999.,9,-999.,9,-999.,9,-999,9,-999,9
49UF20140623,KS14-05,4261,1,28,21987,2,20140810,1641,17.9957,165.0018,5442,254.8,253,16.9906,34.6954,2,-999.,9,195.62,2,4.64,2,5.40,2,0.01,2,0.40,2,-999.,9,-999.,9,-999.,9,-999,9,-999,9
49UF20140623,KS14-05,4261,1,27,21986,2,20140810,1639,17.9957,165.0018,5442,303.7,302,14.6442,34.4927,2,-999.,9,194.02,2,8.50,2,9.00,2,0.00,2,0.65,2,-999.,9,-999.,9,-999.,9,-999,9,-999,9
49UF20140623,KS14-05,4261,1,26,21985,2,20140810,1638,17.9957,165.0018,5442,354.8,352,12.3455,34.3137,2,-999.,9,173.93,6,15.02,6,14.37,6,0.00,6,1.07,6,-999.,9,-999.,9,-999.,9,-999,9,-999,9
49UF20140623,KS14-05,4261,1,25,21984,2,20140810,1636,17.9957,165.0018,5442,405.9,403,9.9218,34.2032,2,-999.,9,144.26,2,27.50,2,21.66,2,0.00,2,1.61,2,-999.,9,-999.,9,-999.,9,-999,9,-999,9
49UF20140623,KS14-05,4261,1,24,21983,2,20140810,1636,17.9957,165.0018,5442,405.9,403,9.9218,34.2032,2,-999.,9,144.34,2,27.51,2,21.63,2,0.00,2,1.60,2,-999.,9,-999.,9,-999.,9,-999,9,-999,9
49UF20140623,KS14-05,4261,1,23,22095,2,20140810,1634,17.9957,165.0018,5442,456.2,453,8.6560,34.1770,2,-999.,9,118.83,2,37.80,2,26.45,2,0.00,2,1.95,2,-999.,9,-999.,9,-999.,9,-999,9,-999,9
49UF20140623,KS14-05,4261,1,22,22665,2,20140810,1633,17.9957,165.0018,5442,505.9,502,7.6901,34.2018,2,-999.,9,88.43,2,48.87,2,31.05,2,0.00,2,2.30,2,-999.,9,-999.,9,-999.,9,-999,9,-999,9
49UF20140623,KS14-05,4261,1,21,21980,2,20140810,1630,17.9957,165.0018,5442,607.4,603,6.0766,34.2353,2,-999.,9,63.45,6,70.26,6,36.53,6,0.00,6,2.67,6,-999.,9,-999.,9,-999.,9,-999,9,-999,9
49UF20140623,KS14-05,4261,1,20,21979,2,20140810,1628,17.9957,165.0018,5442,708.5,703,5.3145,34.3488,2,-999.,9,56.47,2,84.24,2,38.70,2,0.00,2,2.82,2,-999.,9,-999.,9,-999.,9,-999,9,-999,9
49UF20140623,KS14-05,4261,1,19,21978,2,20140810,1628,17.9957,165.0018,5442,708.5,703,5.3145,34.3488,2,-999.,9,56.40,2,84.09,2,38.73,2,0.00,2,2.82,2,-999.,9,-999.,9,-999.,9,-999,9,-999,9
49UF20140623,KS14-05,4261,1,18,21977,2,20140810,1626,17.9957,165.0018,5442,810.0,804,4.8527,34.4258,2,-999.,9,63.38,2,92.77,2,38.97,2,0.00,2,2.82,2,-999.,9,-999.,9,-999.,9,-999,9,-999,9
49UF20140623,KS14-05,4261,1,17,23679,2,20140810,1623,17.9957,165.0018,5442,910.2,903,4.3996,34.4805,2,-999.,9,71.86,2,100.81,2,38.94,2,0.00,2,2.81,2,-999.,9,-999.,9,-999.,9,-999,9,-999,9
49UF20140623,KS14-05,4261,1,9,21968,2,20140810,1621,17.9957,165.0018,5442,1012.0,1003,4.0584,34.5093,2,-999.,9,76.45,2,107.02,2,39.03,2,0.00,2,2.81,2,-999.,9,-999.,9,-999.,9,-999,9,-999,9
49UF20140623,KS14-05,4261,1,8,21982,2,20140810,1617,17.9957,165.0018,5442,1214.5,1204,3.4147,34.5535,2,-999.,9,80.30,2,118.79,2,39.54,2,0.00,2,2.85,2,-999.,9,-999.,9,-999.,9,-999,9,-999,9
49UF20140623,KS14-05,4261,1,7,21966,2,20140810,1613,17.9957,165.0018,5442,1415.7,1402,2.9891,34.5735,2,-999.,9,82.83,2,128.09,2,40.02,2,0.00,2,2.86,2,-999.,9,-999.,9,-999.,9,-999,9,-999,9
49UF20140623,KS14-05,4261,1,6,21965,2,20140810,1609,17.9957,165.0018,5442,1616.8,1601,2.5965,34.5926,2,-999.,9,90.11,2,135.96,2,39.78,2,0.00,2,2.84,2,-999.,9,-999.,9,-999.,9,-999,9,-999,9
49UF20140623,KS14-05,4261,1,5,24272,2,20140810,1605,17.9957,165.0018,5442,1822.5,1804,2.3093,34.6088,2,-999.,9,96.13,2,142.01,2,39.54,2,0.00,2,2.81,2,-999.,9,-999.,9,-999.,9,-999,9,-999,9
49UF20140623,KS14-05,4261,1,4,21963,2,20140810,1601,17.9957,165.0018,5442,2024.0,2002,2.0953,34.6238,2,-999.,9,103.75,2,146.08,2,39.03,2,0.00,2,2.77,2,-999.,9,-999.,9,-999.,9,-999,9,-999,9
49UF20140623,KS14-05,4263,1,-999,0,2,20140811,0655,20.0163,164.9962,5365,0.0,0,30.1556,35.3129,2,35.3447,2,192.62,2,0.83,2,0.00,2,0.00,2,0.04,2,1969.8,2,2320.7,2,8.1237,2,-999,9,-999,9
49UF20140623,KS14-05,4263,1,36,21995,2,20140811,0720,20.0163,164.9962,5365,11.1,11,29.9895,35.3053,2,35.3038,2,195.12,2,0.81,2,0.00,2,0.00,2,0.04,2,1976.4,2,2317.8,2,8.1225,2,-999,9,-999,9
49UF20140623,KS14-05,4263,1,35,22087,2,20140811,0719,20.0163,164.9962,5365,26.4,26,29.9230,35.3029,2,-999.0000,9,195.18,2,0.82,2,0.00,2,0.00,2,0.04,2,1973.0,2,2320.3,2,8.1188,2,-999,9,-999,9
49UF20140623,KS14-05,4263,1,34,22666,2,20140811,0717,20.0163,164.9962,5365,50.9,51,27.3364,35.2682,2,-999.0000,9,214.51,2,0.90,2,0.00,2,0.00,2,0.02,2,1975.8,2,2315.7,2,8.1108,2,-999,9,-999,9
49UF20140623,KS14-05,4263,1,33,21992,2,20140811,0715,20.0163,164.9962,5365,77.0,77,25.5866,35.2798,2,-999.0000,9,214.76,2,0.98,2,0.00,2,0.00,2,0.02,2,1982.9,2,2315.6,2,8.0957,2,-999,9,-999,9
49UF20140623,KS14-05,4263,1,32,21991,2,20140811,0714,20.0163,164.9962,5365,101.5,101,24.3509,35.2451,2,35.2414,4,205.48,2,1.11,2,0.00,2,0.00,2,0.03,2,1998.4,2,2314.1,2,8.0725,2,-999,9,-999,9
49UF20140623,KS14-05,4263,1,31,21990,2,20140811,0713,20.0163,164.9962,5365,127.2,126,22.9481,35.1581,2,-999.0000,9,195.88,2,1.42,2,0.15,2,0.06,2,0.06,2,2012.8,2,2307.3,2,8.0344,2,-999,9,-999,9
49UF20140623,KS14-05,4263,1,30,21989,2,20140811,0712,20.0163,164.9962,5365,152.8,152,21.5394,35.0614,2,-999.0000,9,185.28,6,1.90,6,1.41,6,0.03,6,0.15,6,2033.7,2,2300.0,2,7.9902,2,-999,9,-999,9
49UF20140623,KS14-05,4263,1,29,21988,2,20140811,0710,20.0163,164.9962,5365,204.4,203,18.0410,34.7895,2,34.7869,2,192.07,2,3.68,2,4.34,2,0.01,2,0.33,2,2051.7,2,2284.5,2,7.9335,2,-999,9,-999,9
49UF20140623,KS14-05,4263,1,28,21987,2,20140811,0709,20.0163,164.9962,5365,251.3,250,16.1367,34.6262,2,-999.0000,9,198.60,2,5.85,2,6.64,2,0.00,2,0.48,2,2058.6,2,2275.5,2,7.9066,2,-999,9,-999,9
49UF20140623,KS14-05,4263,1,27,21986,2,20140811,0707,20.0163,164.9962,5365,303.9,302,14.3419,34.4752,2,-999.0000,9,188.98,2,9.58,2,10.04,2,0.00,2,0.73,2,2083.8,2,2269.3,2,7.8385,2,-999,9,-999,9
49UF20140623,KS14-05,4263,1,26,21985,2,20140811,0705,20.0163,164.9962,5365,353.4,351,12.3713,34.3285,2,-999.0000,9,188.69,2,14.44,2,13.33,2,0.00,2,0.97,2,2103.2,2,2267.5,2,7.7899,2,-999,9,-999,9
49UF20140623,KS14-05,4263,1,25,21984,2,20140811,0704,20.0163,164.9962,5365,404.3,401,10.4872,34.2112,2,34.2103,2,178.38,2,22.56,2,17.86,2,0.00,2,1.29,2,2129.9,2,2266.8,2,7.7245,2,-999,9,-999,9
49UF20140623,KS14-05,4263,1,24,21983,2,20140811,0702,20.0163,164.9962,5365,454.4,451,8.8510,34.1305,2,-999.0000,9,152.89,6,33.64,6,23.25,6,0.00,6,1.69,6,2170.1,2,2273.8,2,7.6368,2,-999,9,-999,9
49UF20140623,KS14-05,4263,1,23,22095,2,20140811,0700,20.0163,164.9962,5365,506.7,503,7.7421,34.1075,2,-999.0000,9,124.37,2,45.09,2,27.88,2,0.00,2,2.04,2,2205.9,2,2281.1,2,7.5603,2,-999,9,-999,9
49UF20140623,KS14-05,4263,1,22,22665,2,20140811,0658,20.0163,164.9962,5365,606.4,602,6.0194,34.1414,2,34.1418,2,77.10,2,69.29,2,35.33,2,0.00,2,2.58,2,2269.8,2,2303.6,2,7.4429,2,-999,9,-999,9
49UF20140623,KS14-05,4263,1,21,21980,2,20140811,0655,20.0163,164.9962,5365,707.8,702,5.2079,34.2686,2,-999.0000,9,50.04,2,85.46,2,39.17,2,0.00,2,2.86,2,2307.3,2,2327.6,2,7.4000,2,-999,9,-999,9
49UF20140623,KS14-05,4263,1,20,21979,2,20140811,0653,20.0163,164.9962,5365,809.0,802,4.7441,34.3630,2,34.3624,2,48.93,2,95.17,2,40.23,2,0.00,2,2.93,2,2322.8,2,2345.0,2,7.4025,2,-999,9,-999,9
49UF20140623,KS14-05,4263,1,19,21978,2,20140811,0651,20.0163,164.9962,5365,909.4,902,4.3574,34.4385,2,-999.0000,9,56.29,2,102.66,2,40.21,2,0.00,2,2.92,2,2325.8,2,2357.3,2,7.4232,2,-999,9,-999,9
49UF20140623,KS14-05,4263,1,18,21977,2,20140811,0648,20.0163,164.9962,5365,1011.4,1003,3.9548,34.4838,2,34.4840,2,61.60,2,110.56,2,40.39,2,0.00,2,2.92,2,2333.8,2,2369.5,2,7.4306,2,-999,9,-999,9
49UF20140623,KS14-05,4263,1,17,23679,2,20140811,0644,20.0163,164.9962,5365,1213.0,1202,3.2315,34.5348,2,34.5344,6,72.81,2,125.03,2,40.25,2,0.00,2,2.90,2,2344.8,2,2385.4,2,7.4546,6,-999,9,-999,9
49UF20140623,KS14-05,4263,1,16,21975,2,20140811,0640,20.0163,164.9962,5365,1415.0,1402,2.8077,34.5658,2,34.5660,2,82.77,2,133.06,2,39.86,2,0.00,2,2.86,2,2349.7,2,2395.5,2,7.4675,2,-999,9,-999,9
49UF20140623,KS14-05,4263,1,15,21974,2,20140811,0635,20.0163,164.9962,5365,1618.6,1602,2.4088,34.5897,2,34.5897,2,90.27,6,141.02,6,39.68,6,0.00,6,2.84,6,2352.1,6,2403.5,6,7.4785,2,-999,9,-999,9
49UF20140623,KS14-05,4263,1,14,21973,2,20140811,0631,20.0163,164.9962,5365,1819.7,1801,2.1364,34.6128,2,34.6131,2,100.54,2,145.61,2,39.21,2,0.00,2,2.80,2,2350.5,2,2408.0,2,7.4955,2,-999,9,-999,9
49UF20140623,KS14-05,4263,1,13,21972,2,20140811,0627,20.0163,164.9962,5365,2023.6,2002,1.9711,34.6282,2,34.6268,2,107.30,2,148.02,2,38.82,2,0.00,2,2.76,2,2352.2,2,2414.1,2,7.5061,2,-999,9,-999,9
49UF20140623,KS14-05,4263,1,12,21994,2,20140811,0622,20.0163,164.9962,5365,2276.6,2250,1.8169,34.6424,2,34.6440,2,115.76,2,149.87,2,38.30,2,0.00,2,2.71,2,2351.0,2,2417.0,2,7.5224,2,-999,9,-999,9
49UF20140623,KS14-05,4263,1,11,21970,2,20140811,0617,20.0163,164.9962,5365,2533.0,2502,1.7213,34.6523,2,34.6520,6,121.64,2,150.98,2,37.97,2,0.00,2,2.68,2,2343.1,2,2415.7,2,7.5313,3,-999,9,-999,9
49UF20140623,KS14-05,4263,1,10,21969,2,20140811,0612,20.0163,164.9962,5365,2787.3,2752,1.6183,34.6629,2,34.6621,2,129.40,2,150.77,2,37.47,2,0.00,2,2.64,2,2340.9,2,2417.3,2,7.5467,2,-999,9,-999,9
49UF20140623,KS14-05,4263,1,9,21968,2,20140811,0607,20.0163,164.9962,5365,3043.4,3003,1.5599,34.6693,2,34.6681,4,135.38,2,150.68,2,37.06,2,0.00,2,2.60,2,2339.7,2,2420.3,2,7.5583,2,-999,9,-999,9
49UF20140623,KS14-05,4263,1,8,21982,2,20140811,0602,20.0163,164.9962,5365,3299.6,3254,1.5230,34.6741,2,34.6739,2,140.91,2,149.86,2,36.73,2,0.00,2,2.59,2,2337.1,6,2418.6,6,7.5630,2,-999,9,-999,9
49UF20140623,KS14-05,4263,1,7,21966,2,20140811,0556,20.0163,164.9962,5365,3553.7,3503,1.4982,34.6780,2,34.6768,2,144.74,2,148.31,2,36.53,2,0.00,2,2.56,2,2332.9,2,2416.6,2,7.5667,2,-999,9,-999,9
49UF20140623,KS14-05,4263,1,6,21965,2,20140811,0547,20.0163,164.9962,5365,4066.0,4003,1.4450,34.6862,2,34.6867,2,157.49,6,143.54,6,35.62,6,0.00,6,2.49,6,2323.3,2,2414.4,2,7.5850,2,-999,9,-999,9
49UF20140623,KS14-05,4263,1,5,24272,2,20140811,0542,20.0163,164.9962,5365,4322.2,4253,1.4282,34.6897,2,34.6901,2,162.87,2,140.70,2,35.19,2,0.00,2,2.47,2,2315.1,3,2411.8,2,7.5877,2,-999,9,-999,9
49UF20140623,KS14-05,4263,1,4,21963,2,20140811,0536,20.0163,164.9962,5365,4579.4,4503,1.4222,34.6926,2,34.6918,2,167.91,2,137.43,2,34.84,2,0.00,2,2.44,2,2319.4,2,2406.0,2,7.5943,2,-999,9,-999,9
49UF20140623,KS14-05,4263,1,3,24269,2,20140811,0526,20.0163,164.9962,5365,5093.5,5003,1.4216,34.6970,2,34.6978,2,175.88,2,132.69,2,34.25,2,0.00,2,2.39,2,2304.4,2,2399.7,2,7.6070,6,-999,9,-999,9
49UF20140623,KS14-05,4263,1,2,21961,2,20140811,0521,20.0163,164.9962,5365,5349.8,5252,1.4466,34.6973,2,34.6971,2,177.32,2,131.94,2,34.12,2,0.00,2,2.38,2,2299.4,6,2398.6,6,7.6066,2,-999,9,-999,9
49UF20140623,KS14-05,4263,1,1,21960,2,20140811,0517,20.0163,164.9962,5365,5455.4,5354,1.4559,34.6976,2,34.6978,2,178.18,2,131.94,2,34.12,2,0.00,2,2.38,2,2302.3,2,2399.0,2,7.6073,2,-999,9,-999,9