BOTTLE,20171119JMAGEMD
EXPOCODE,SECT_ID,STNNBR,CASTNO,SAMPNO,BTLNBR,BTLNBR_FLAG_W,DATE,TIME,LATITUDE,LONGITUDE,DEPTH,CTDPRS,CTDDEP,CTDTMP,CTDSAL,CTDSAL_FLAG_W,SALNTY,SALNTY_FLAG_W,OXYGEN,OXYGEN_FLAG_W,SILCAT,SILCAT_FLAG_W,NO2+NO3,NO2+NO3_FLAG_W,NITRIT,NITRIT_FLAG_W,PHSPHT,PHSPHT_FLAG_W,TCARBN,TCARBN_FLAG_W,ALKALI,ALKALI_FLAG_W,PH_TOT,PH_TOT_FLAG_W,CFC-11,CFC-11_FLAG_W,CFC-12,CFC-12_FLAG_W
,,,,,,,UTC,UTC,,,METER,DBAR,METERS,ITS-90,PSS-78,,PSS-78,,UMOL/KG,,UMOL/KG,,UMOL/KG,,UMOL/KG,,UMOL/KG,,UMOL/KG,,UMOL/KG,,@25DEG-C,,PMOL/KG,,PMOL/KG,
49UF20140623,KS14-05,4251,1,-999,0,2,20140807,1128,7.9855,163.9842,5137,0.0,0,29.9329,33.7450,2,-999.0000,9,194.52,2,1.13,2,0.02,2,0.00,2,0.08,2,-999.,9,-999.,9,-999.,9,-999,9,-999,9
49UF20140623,KS14-05,4251,1,36,21995,2,20140807,1155,7.9855,163.9842,5137,11.8,12,29.9033,33.7704,2,33.7620,4,194.87,2,1.12,2,0.01,2,0.00,2,0.09,2,-999.,9,-999.,9,-999.,9,-999,9,-999,9
49UF20140623,KS14-05,4251,1,35,22087,2,20140807,1154,7.9855,163.9842,5137,27.0,27,29.9276,33.8729,2,-999.0000,9,194.97,2,1.10,2,0.01,2,0.00,2,0.10,2,-999.,9,-999.,9,-999.,9,-999,9,-999,9
49UF20140623,KS14-05,4251,1,34,22666,2,20140807,1151,7.9855,163.9842,5137,52.2,52,28.4518,34.7315,2,-999.0000,9,204.07,6,1.14,6,0.03,6,0.00,6,0.14,6,-999.,9,-999.,9,-999.,9,-999,9,-999,9
49UF20140623,KS14-05,4251,1,33,21992,2,20140807,1150,7.9855,163.9842,5137,76.8,76,26.9067,34.9046,2,-999.0000,9,204.90,2,1.25,2,0.03,2,0.00,2,0.15,2,-999.,9,-999.,9,-999.,9,-999,9,-999,9
49UF20140623,KS14-05,4251,1,32,21991,2,20140807,1148,7.9855,163.9842,5137,101.3,101,24.3338,34.9902,2,34.9894,2,182.46,2,2.33,2,0.85,2,0.04,2,0.28,2,-999.,9,-999.,9,-999.,9,-999,9,-999,9
49UF20140623,KS14-05,4251,1,31,21990,2,20140807,1147,7.9855,163.9842,5137,126.5,126,19.6270,34.8619,2,-999.0000,9,153.45,2,5.55,2,7.31,2,0.15,2,0.66,2,-999.,9,-999.,9,-999.,9,-999,9,-999,9
49UF20140623,KS14-05,4251,1,30,21989,2,20140807,1146,7.9855,163.9842,5137,153.0,152,16.1198,34.6394,2,-999.0000,9,124.18,2,12.34,2,14.68,2,0.02,2,1.14,2,-999.,9,-999.,9,-999.,9,-999,9,-999,9
49UF20140623,KS14-05,4251,1,29,21988,2,20140807,1144,7.9855,163.9842,5137,202.7,201,11.0225,34.5594,2,34.5599,2,50.15,6,29.20,6,29.96,6,0.00,6,2.22,6,-999.,9,-999.,9,-999.,9,-999,9,-999,9
49UF20140623,KS14-05,4251,1,28,21987,2,20140807,1143,7.9855,163.9842,5137,253.6,252,9.9355,34.6220,2,-999.0000,9,38.55,2,33.54,2,33.50,2,0.00,2,2.41,2,-999.,9,-999.,9,-999.,9,-999,9,-999,9
49UF20140623,KS14-05,4251,1,27,21986,2,20140807,1141,7.9855,163.9842,5137,304.1,302,9.3286,34.6266,2,-999.0000,9,35.97,2,36.39,2,34.87,2,0.00,2,2.51,2,-999.,9,-999.,9,-999.,9,-999,9,-999,9
49UF20140623,KS14-05,4251,1,26,21985,2,20140807,1139,7.9855,163.9842,5137,352.9,351,8.9965,34.6162,2,-999.0000,9,49.39,2,37.04,2,34.44,2,0.00,2,2.46,2,-999.,9,-999.,9,-999.,9,-999,9,-999,9
49UF20140623,KS14-05,4251,1,25,21984,2,20140807,1137,7.9855,163.9842,5137,403.9,401,8.4643,34.6077,2,34.6066,2,63.74,2,38.11,2,34.38,2,0.00,2,2.44,2,-999.,9,-999.,9,-999.,9,-999,9,-999,9
49UF20140623,KS14-05,4251,1,24,21983,2,20140807,1136,7.9855,163.9842,5137,455.4,452,8.1776,34.5919,2,-999.0000,9,61.79,2,40.81,2,35.09,2,0.00,2,2.50,2,-999.,9,-999.,9,-999.,9,-999,9,-999,9
49UF20140623,KS14-05,4251,1,23,22095,2,20140807,1134,7.9855,163.9842,5137,503.9,500,7.7643,34.5733,2,-999.0000,9,59.50,2,44.85,2,35.91,2,0.00,2,2.57,2,-999.,9,-999.,9,-999.,9,-999,9,-999,9
49UF20140623,KS14-05,4251,1,22,22665,2,20140807,1132,7.9855,163.9842,5137,605.2,601,6.7995,34.5407,2,34.5399,2,60.92,2,56.44,2,37.48,2,0.00,2,2.70,2,-999.,9,-999.,9,-999.,9,-999,9,-999,9
49UF20140623,KS14-05,4251,1,21,21980,2,20140807,1129,7.9855,163.9842,5137,706.8,702,6.1906,34.5336,2,-999.0000,9,61.44,2,64.50,2,38.52,2,0.00,2,2.78,2,-999.,9,-999.,9,-999.,9,-999,9,-999,9
49UF20140623,KS14-05,4251,1,20,21979,2,20140807,1127,7.9855,163.9842,5137,808.4,802,5.4026,34.5380,2,34.5378,2,66.05,2,76.26,2,39.35,2,0.00,2,2.84,2,-999.,9,-999.,9,-999.,9,-999,9,-999,9
49UF20140623,KS14-05,4251,1,19,21978,2,20140807,1124,7.9855,163.9842,5137,909.1,902,5.0236,34.5439,2,-999.0000,9,70.58,2,82.48,2,39.44,2,0.00,2,2.84,2,-999.,9,-999.,9,-999.,9,-999,9,-999,9
49UF20140623,KS14-05,4251,1,18,21977,2,20140807,1122,7.9855,163.9842,5137,1010.9,1003,4.5839,34.5514,2,34.5506,6,75.02,2,90.69,2,39.59,2,0.00,2,2.85,2,-999.,9,-999.,9,-999.,9,-999,9,-999,9
49UF20140623,KS14-05,4251,1,17,23679,2,20140807,1117,7.9855,163.9842,5137,1211.9,1202,3.8873,34.5687,2,34.5746,4,85.07,6,104.44,6,39.27,6,0.00,6,2.82,6,-999.,9,-999.,9,-999.,9,-999,9,-999,9
49UF20140623,KS14-05,4251,1,16,21975,2,20140807,1113,7.9855,163.9842,5137,1414.8,1402,3.2439,34.5894,2,34.5886,2,88.69,2,118.41,2,39.67,2,0.00,2,2.85,2,-999.,9,-999.,9,-999.,9,-999,9,-999,9
49UF20140623,KS14-05,4251,1,15,21974,2,20140807,1109,7.9855,163.9842,5137,1617.9,1603,2.7826,34.6067,2,34.6058,2,93.24,2,128.97,2,39.67,2,0.00,2,2.84,2,-999.,9,-999.,9,-999.,9,-999,9,-999,9
49UF20140623,KS14-05,4251,1,14,21973,2,20140807,1105,7.9855,163.9842,5137,1820.0,1802,2.4579,34.6218,2,34.6215,2,98.80,2,136.28,2,39.35,2,0.00,2,2.81,2,-999.,9,-999.,9,-999.,9,-999,9,-999,9
49UF20140623,KS14-05,4251,1,13,21972,2,20140807,1100,7.9855,163.9842,5137,2022.3,2001,2.1860,34.6375,2,34.6381,2,106.19,2,141.87,2,39.08,2,0.00,2,2.77,2,-999.,9,-999.,9,-999.,9,-999,9,-999,9
49UF20140623,KS14-05,4251,1,12,21994,2,20140807,1055,7.9855,163.9842,5137,2277.2,2252,1.9854,34.6497,2,34.6505,2,113.93,2,145.25,2,38.62,2,0.00,2,2.73,2,-999.,9,-999.,9,-999.,9,-999,9,-999,9
49UF20140623,KS14-05,4251,1,11,21970,3,20140807,1050,7.9855,163.9842,5137,2532.5,2503,1.8394,34.6582,2,34.6589,6,121.07,2,147.32,2,38.15,2,0.00,2,2.69,2,-999.,9,-999.,9,-999.,9,-999,9,-999,9
49UF20140623,KS14-05,4251,1,10,21969,3,20140807,1046,7.9855,163.9842,5137,2784.5,2751,1.7304,34.6651,2,34.6651,2,128.58,2,146.72,2,37.58,2,0.00,2,2.64,2,-999.,9,-999.,9,-999.,9,-999,9,-999,9
49UF20140623,KS14-05,4251,1,9,21968,2,20140807,1041,7.9855,163.9842,5137,3039.3,3001,1.6476,34.6710,2,34.6710,2,134.58,2,147.30,2,37.22,2,0.00,2,2.61,2,-999.,9,-999.,9,-999.,9,-999,9,-999,9
49UF20140623,KS14-05,4251,1,8,21982,2,20140807,1036,7.9855,163.9842,5137,3295.1,3251,1.5917,34.6752,2,34.6751,2,140.18,6,146.87,6,36.87,6,0.00,6,2.58,6,-999.,9,-999.,9,-999.,9,-999,9,-999,9
49UF20140623,KS14-05,4251,1,7,21966,2,20140807,1031,7.9855,163.9842,5137,3551.4,3502,1.5254,34.6805,2,34.6794,2,146.78,2,144.88,2,36.34,2,0.00,2,2.54,2,-999.,9,-999.,9,-999.,9,-999,9,-999,9
49UF20140623,KS14-05,4251,1,6,21965,2,20140807,1026,7.9855,163.9842,5137,3805.8,3751,1.4762,34.6851,2,34.6848,2,154.67,2,142.50,2,35.87,2,0.00,2,2.50,2,-999.,9,-999.,9,-999.,9,-999,9,-999,9
49UF20140623,KS14-05,4251,1,5,24272,2,20140807,1021,7.9855,163.9842,5137,4061.5,4001,1.4324,34.6898,2,34.6897,2,161.97,2,138.53,2,35.32,2,0.00,2,2.47,2,-999.,9,-999.,9,-999.,9,-999,9,-999,9
49UF20140623,KS14-05,4251,1,4,21963,2,20140807,1015,7.9855,163.9842,5137,4318.2,4251,1.4074,34.6937,2,34.6943,2,170.44,2,134.05,2,34.72,2,0.00,2,2.41,2,-999.,9,-999.,9,-999.,9,-999,9,-999,9
49UF20140623,KS14-05,4251,1,3,24269,2,20140807,1010,7.9855,163.9842,5137,4574.6,4501,1.3969,34.6962,2,34.6966,2,174.66,2,131.64,2,34.37,2,0.00,2,2.39,2,-999.,9,-999.,9,-999.,9,-999,9,-999,9
49UF20140623,KS14-05,4251,1,2,21961,2,20140807,0959,7.9855,163.9842,5137,5089.4,5001,1.3901,34.7002,2,34.7001,2,182.49,2,127.63,2,33.75,2,0.00,2,2.35,2,-999.,9,-999.,9,-999.,9,-999,9,-999,9
49UF20140623,KS14-05,4251,1,1,21960,2,20140807,0956,7.9855,163.9842,5137,5222.9,5131,1.3958,34.7010,2,34.7010,6,183.46,2,127.17,2,33.73,2,0.00,2,2.34,2,-999.,9,-999.,9,-999.,9,-999,9,-999,9
49UF20140623,KS14-05,4252,1,-999,0,2,20140807,1958,8.9988,163.9933,5204,0.0,0,29.9283,33.9101,2,-999.0000,9,194.27,2,1.04,2,0.00,2,0.00,2,0.09,2,-999.,9,-999.,9,-999.,9,-999,9,-999,9
49UF20140623,KS14-05,4252,1,36,21995,2,20140807,2023,8.9988,163.9933,5204,12.3,12,29.9433,33.9259,2,33.9280,2,194.15,2,1.04,2,0.00,2,0.00,2,0.11,2,-999.,9,-999.,9,-999.,9,-999,9,-999,9
49UF20140623,KS14-05,4252,1,35,22087,2,20140807,2022,8.9988,163.9933,5204,26.2,26,29.7259,34.0416,2,-999.0000,9,196.99,2,1.04,2,0.00,2,0.00,2,0.12,2,-999.,9,-999.,9,-999.,9,-999,9,-999,9
49UF20140623,KS14-05,4252,1,34,22666,2,20140807,2019,8.9988,163.9933,5204,52.6,52,28.4819,34.6448,2,-999.0000,9,203.84,2,1.06,2,0.00,2,0.00,2,0.13,2,-999.,9,-999.,9,-999.,9,-999,9,-999,9
49UF20140623,KS14-05,4252,1,33,21992,2,20140807,2018,8.9988,163.9933,5204,77.7,77,26.6760,34.9968,2,-999.0000,9,204.11,2,1.21,2,0.00,2,0.00,2,0.16,2,-999.,9,-999.,9,-999.,9,-999,9,-999,9
49UF20140623,KS14-05,4252,1,32,21991,2,20140807,2017,8.9988,163.9933,5204,101.9,101,23.1019,35.0059,2,35.0069,6,173.73,2,2.62,2,1.57,2,0.11,2,0.35,2,-999.,9,-999.,9,-999.,9,-999,9,-999,9
49UF20140623,KS14-05,4252,1,31,21990,2,20140807,2015,8.9988,163.9933,5204,129.7,129,20.0445,34.9071,2,-999.0000,9,167.20,2,4.02,2,4.79,2,0.31,2,0.51,2,-999.,9,-999.,9,-999.,9,-999,9,-999,9
49UF20140623,KS14-05,4252,1,30,21989,2,20140807,2014,8.9988,163.9933,5204,154.3,153,16.0007,34.6311,2,-999.0000,9,133.35,6,10.22,6,12.77,6,0.02,6,1.02,6,-999.,9,-999.,9,-999.,9,-999,9,-999,9
49UF20140623,KS14-05,4252,1,29,21988,2,20140807,2012,8.9988,163.9933,5204,201.3,200,12.4344,34.4629,2,34.4651,2,94.40,2,21.20,2,22.44,2,0.00,2,1.71,2,-999.,9,-999.,9,-999.,9,-999,9,-999,9
49UF20140623,KS14-05,4252,1,28,21987,3,20140807,2010,8.9988,163.9933,5204,252.0,250,10.4782,34.5592,2,-999.0000,9,52.63,2,31.00,2,30.74,2,0.00,2,2.25,2,-999.,9,-999.,9,-999.,9,-999,9,-999,9
49UF20140623,KS14-05,4252,1,27,21986,2,20140807,2009,8.9988,163.9933,5204,301.7,300,9.4388,34.5883,2,-999.0000,9,45.54,2,36.22,2,33.71,2,0.00,2,2.42,2,-999.,9,-999.,9,-999.,9,-999,9,-999,9
49UF20140623,KS14-05,4252,1,26,21985,2,20140807,2007,8.9988,163.9933,5204,351.8,350,8.7763,34.5858,2,-999.0000,9,52.95,2,39.37,2,34.42,2,0.00,2,2.47,2,-999.,9,-999.,9,-999.,9,-999,9,-999,9
49UF20140623,KS14-05,4252,1,25,21984,2,20140807,2006,8.9988,163.9933,5204,400.9,398,8.2783,34.5650,2,34.5654,2,58.74,2,42.80,2,34.77,2,0.00,2,2.49,2,-999.,9,-999.,9,-999.,9,-999,9,-999,9
49UF20140623,KS14-05,4252,1,24,21983,2,20140807,2004,8.9988,163.9933,5204,452.6,450,7.8182,34.5602,2,-999.0000,9,60.32,2,45.88,2,35.56,2,0.00,2,2.55,2,-999.,9,-999.,9,-999.,9,-999,9,-999,9
49UF20140623,KS14-05,4252,1,23,22095,2,20140807,2003,8.9988,163.9933,5204,504.1,501,7.4537,34.5419,2,-999.0000,9,62.34,6,49.88,6,35.99,6,0.00,6,2.58,6,-999.,9,-999.,9,-999.,9,-999,9,-999,9
49UF20140623,KS14-05,4252,1,22,22665,2,20140807,1959,8.9988,163.9933,5204,611.4,607,6.6333,34.5352,2,34.5355,2,60.95,2,58.40,2,37.61,2,0.00,2,2.71,2,-999.,9,-999.,9,-999.,9,-999,9,-999,9
49UF20140623,KS14-05,4252,1,21,21980,2,20140807,1956,8.9988,163.9933,5204,707.9,703,6.0590,34.5327,2,-999.0000,9,60.94,2,66.56,2,38.67,2,0.00,2,2.79,2,-999.,9,-999.,9,-999.,9,-999,9,-999,9
49UF20140623,KS14-05,4252,1,20,21979,2,20140807,1953,8.9988,163.9933,5204,809.0,803,5.4914,34.5345,2,34.5344,2,65.66,2,75.30,2,39.15,2,0.00,2,2.83,2,-999.,9,-999.,9,-999.,9,-999,9,-999,9
49UF20140623,KS14-05,4252,1,19,21978,2,20140807,1950,8.9988,163.9933,5204,909.1,902,4.9899,34.5418,2,-999.0000,9,69.59,2,83.74,2,39.44,2,0.00,2,2.84,2,-999.,9,-999.,9,-999.,9,-999,9,-999,9
49UF20140623,KS14-05,4252,1,18,21977,2,20140807,1948,8.9988,163.9933,5204,1010.8,1003,4.4937,34.5517,2,34.5529,4,74.82,6,93.15,6,39.59,6,0.00,6,2.86,6,-999.,9,-999.,9,-999.,9,-999,9,-999,9
49UF20140623,KS14-05,4252,1,17,23679,2,20140807,1944,8.9988,163.9933,5204,1211.8,1201,3.7587,34.5724,2,34.5726,6,83.73,2,107.28,2,39.55,2,0.00,2,2.85,2,-999.,9,-999.,9,-999.,9,-999,9,-999,9
49UF20140623,KS14-05,4252,1,16,21975,2,20140807,1940,8.9988,163.9933,5204,1413.9,1401,3.1962,34.5895,2,34.5897,2,87.51,2,119.98,2,39.74,2,0.00,2,2.85,2,-999.,9,-999.,9,-999.,9,-999,9,-999,9
49UF20140623,KS14-05,4252,1,15,21974,2,20140807,1936,8.9988,163.9933,5204,1615.9,1601,2.7757,34.6072,2,34.6089,2,93.68,2,128.85,2,39.62,2,0.00,2,2.83,2,-999.,9,-999.,9,-999.,9,-999,9,-999,9
49UF20140623,KS14-05,4252,1,14,21973,2,20140807,1931,8.9988,163.9933,5204,1818.5,1800,2.5199,34.6193,2,34.6199,2,98.15,2,134.71,2,39.41,2,0.00,2,2.81,2,-999.,9,-999.,9,-999.,9,-999,9,-999,9
49UF20140623,KS14-05,4252,1,13,21972,2,20140807,1928,8.9988,163.9933,5204,2021.5,2000,2.3165,34.6286,2,34.6276,2,102.36,2,139.61,2,39.20,2,0.00,2,2.79,2,-999.,9,-999.,9,-999.,9,-999,9,-999,9
49UF20140623,KS14-05,4252,1,12,21994,2,20140807,1923,8.9988,163.9933,5204,2275.7,2251,2.0449,34.6456,2,34.6458,2,111.72,4,144.17,2,38.76,2,0.00,2,2.74,2,-999.,9,-999.,9,-999.,9,-999,9,-999,9
49UF20140623,KS14-05,4252,1,11,21970,2,20140807,1918,8.9988,163.9933,5204,2529.9,2501,1.8804,34.6560,2,34.6564,2,118.96,2,146.94,2,38.27,2,0.00,2,2.70,2,-999.,9,-999.,9,-999.,9,-999,9,-999,9
49UF20140623,KS14-05,4252,1,10,21969,2,20140807,1913,8.9988,163.9933,5204,2786.2,2752,1.7579,34.6638,2,34.6647,2,125.98,2,147.95,2,37.80,2,0.00,2,2.66,2,-999.,9,-999.,9,-999.,9,-999,9,-999,9
49UF20140623,KS14-05,4252,1,9,21968,2,20140807,1908,8.9988,163.9933,5204,3040.1,3001,1.6477,34.6706,2,34.6713,2,133.39,6,148.63,6,37.35,6,0.00,6,2.62,6,-999.,9,-999.,9,-999.,9,-999,9,-999,9
49UF20140623,KS14-05,4252,1,8,21982,2,20140807,1903,8.9988,163.9933,5204,3294.9,3251,1.5704,34.6761,2,34.6763,2,140.64,2,147.50,2,36.83,2,0.00,2,2.58,2,-999.,9,-999.,9,-999.,9,-999,9,-999,9
49UF20140623,KS14-05,4252,1,7,21966,2,20140807,1858,8.9988,163.9933,5204,3550.7,3501,1.4891,34.6822,2,34.6820,2,148.92,2,144.60,2,36.17,2,0.00,2,2.54,2,-999.,9,-999.,9,-999.,9,-999,9,-999,9
49UF20140623,KS14-05,4252,1,6,21965,2,20140807,1853,8.9988,163.9933,5204,3807.6,3752,1.4425,34.6869,2,34.6869,2,157.78,2,141.48,2,35.51,2,0.00,2,2.49,2,-999.,9,-999.,9,-999.,9,-999,9,-999,9
49UF20140623,KS14-05,4252,1,5,24272,2,20140807,1848,8.9988,163.9933,5204,4064.2,4003,1.4036,34.6916,2,34.6912,2,165.61,2,136.66,2,35.04,2,0.00,2,2.44,2,-999.,9,-999.,9,-999.,9,-999,9,-999,9
49UF20140623,KS14-05,4252,1,4,21963,2,20140807,1843,8.9988,163.9933,5204,4319.4,4252,1.3987,34.6939,2,34.6945,2,171.22,2,133.94,2,34.59,2,0.00,2,2.42,2,-999.,9,-999.,9,-999.,9,-999,9,-999,9
49UF20140623,KS14-05,4252,1,3,24269,2,20140807,1838,8.9988,163.9933,5204,4575.6,4502,1.3864,34.6968,2,34.6975,2,176.53,2,130.91,2,34.22,2,0.00,2,2.39,2,-999.,9,-999.,9,-999.,9,-999,9,-999,9
49UF20140623,KS14-05,4252,1,2,21961,2,20140807,1827,8.9988,163.9933,5204,5090.6,5002,1.3939,34.6999,2,34.7011,6,182.76,2,127.86,2,33.77,2,0.00,2,2.35,2,-999.,9,-999.,9,-999.,9,-999,9,-999,9
49UF20140623,KS14-05,4252,1,1,21960,2,20140807,1823,8.9988,163.9933,5204,5291.3,5197,1.4110,34.7005,2,34.7010,2,183.42,2,127.36,2,33.74,2,0.00,2,2.35,2,-999.,9,-999.,9,-999.,9,-999,9,-999,9