BOTTLE,20171119JMAGEMD
EXPOCODE,SECT_ID,STNNBR,CASTNO,SAMPNO,BTLNBR,BTLNBR_FLAG_W,DATE,TIME,LATITUDE,LONGITUDE,DEPTH,CTDPRS,CTDDEP,CTDTMP,CTDSAL,CTDSAL_FLAG_W,SALNTY,SALNTY_FLAG_W,OXYGEN,OXYGEN_FLAG_W,SILCAT,SILCAT_FLAG_W,NO2+NO3,NO2+NO3_FLAG_W,NITRIT,NITRIT_FLAG_W,PHSPHT,PHSPHT_FLAG_W,TCARBN,TCARBN_FLAG_W,ALKALI,ALKALI_FLAG_W,PH_TOT,PH_TOT_FLAG_W,CFC-11,CFC-11_FLAG_W,CFC-12,CFC-12_FLAG_W
,,,,,,,UTC,UTC,,,METER,DBAR,METERS,ITS-90,PSS-78,,PSS-78,,UMOL/KG,,UMOL/KG,,UMOL/KG,,UMOL/KG,,UMOL/KG,,UMOL/KG,,UMOL/KG,,@25DEG-C,,PMOL/KG,,PMOL/KG,
49UF20140623,KS14-05,4203,1,-999,0,2,20140627,2320,24.0007,136.9975,3903,0.0,0,29.8950,34.6695,2,34.6544,2,194.82,2,1.09,2,0.02,2,0.00,2,0.01,2,1959.0,2,2275.6,2,8.0877,2,-999,9,-999,9
49UF20140623,KS14-05,4203,1,36,21995,2,20140627,2356,24.0007,136.9975,3903,11.3,11,27.7989,34.6771,2,34.6938,4,206.83,2,1.05,2,0.00,2,0.00,2,0.01,2,1957.3,2,2273.8,2,8.0818,2,-999,9,-999,9
49UF20140623,KS14-05,4203,1,35,22087,2,20140627,2355,24.0007,136.9975,3903,25.9,26,25.1090,34.8118,2,-999.0000,9,217.85,2,1.11,2,0.00,2,0.00,2,0.00,2,1966.6,2,2282.6,2,8.0790,2,-999,9,-999,9
49UF20140623,KS14-05,4203,1,34,22666,2,20140627,2352,24.0007,136.9975,3903,51.0,51,22.6853,34.8498,2,-999.0000,9,222.22,2,1.32,2,0.00,2,0.00,2,0.01,2,1979.2,2,2284.3,2,8.0648,2,-999,9,-999,9
49UF20140623,KS14-05,4203,1,33,21992,2,20140627,2350,24.0007,136.9975,3903,76.0,76,21.1524,34.8088,2,-999.0000,9,221.15,2,1.54,2,0.00,2,0.00,2,0.02,2,1990.5,2,2281.2,2,8.0533,2,-999,9,-999,9
49UF20140623,KS14-05,4203,1,32,21991,2,20140627,2349,24.0007,136.9975,3903,101.5,101,20.6146,34.7945,2,34.7926,2,218.10,2,1.73,2,0.00,2,0.00,2,0.04,2,1995.0,6,2281.4,6,8.0407,2,-999,9,-999,9
49UF20140623,KS14-05,4203,1,31,21990,2,20140627,2347,24.0007,136.9975,3903,127.0,126,20.2515,34.7882,2,-999.0000,9,211.35,2,1.96,2,1.07,2,0.10,2,0.09,2,2000.0,2,2280.8,2,8.0190,2,-999,9,-999,9
49UF20140623,KS14-05,4203,1,29,21988,2,20140627,2346,24.0007,136.9975,3903,152.2,151,19.5751,34.8044,2,-999.0000,9,211.03,2,2.15,2,1.64,2,0.02,2,0.12,2,2011.4,2,2281.6,2,8.0000,2,-999,9,-999,9
49UF20140623,KS14-05,4203,1,28,21987,2,20140627,2344,24.0007,136.9975,3903,202.1,201,18.3992,34.7635,2,34.7609,6,197.90,2,3.42,2,3.98,2,0.01,2,0.26,2,2031.1,2,2279.2,2,7.9620,6,-999,9,-999,9
49UF20140623,KS14-05,4203,1,27,21986,2,20140627,2342,24.0007,136.9975,3903,252.3,251,17.6191,34.7336,2,-999.0000,9,199.22,2,3.92,2,4.75,2,0.01,2,0.32,2,2036.9,2,2277.8,2,7.9404,2,-999,9,-999,9
49UF20140623,KS14-05,4203,1,26,21985,2,20140627,2340,24.0007,136.9975,3903,302.9,301,17.0416,34.6982,2,-999.0000,9,199.45,2,4.92,2,5.67,2,0.00,2,0.38,2,2043.0,2,2280.8,2,7.9320,2,-999,9,-999,9
49UF20140623,KS14-05,4203,1,25,21984,2,20140627,2337,24.0007,136.9975,3903,404.0,401,14.8048,34.5380,2,34.5350,2,185.84,2,10.75,2,10.30,2,0.00,2,0.70,2,2078.2,2,2274.2,2,7.8554,2,-999,9,-999,9
49UF20140623,KS14-05,4203,1,24,21983,2,20140627,2334,24.0007,136.9975,3903,503.9,500,11.7674,34.3326,2,-999.0000,9,175.72,6,20.98,6,16.23,6,0.00,6,1.14,6,2118.8,2,2272.8,2,7.7594,2,-999,9,-999,9
49UF20140623,KS14-05,4203,1,23,22095,2,20140627,2331,24.0007,136.9975,3903,605.3,601,8.6463,34.1814,2,34.1782,2,142.64,2,42.70,2,24.86,2,0.00,2,1.79,2,2185.5,2,2283.7,2,7.6226,6,-999,9,-999,9
49UF20140623,KS14-05,4203,1,22,22665,2,20140627,2328,24.0007,136.9975,3903,706.9,701,6.4174,34.1382,2,-999.0000,9,104.99,2,66.36,2,32.10,2,0.00,2,2.31,2,2242.5,2,2300.4,2,7.5058,2,-999,9,-999,9
49UF20140623,KS14-05,4203,1,21,21980,2,20140627,2328,24.0007,136.9975,3903,706.9,701,6.4174,34.1382,2,-999.0000,9,104.92,2,66.62,2,32.16,2,0.00,2,2.32,2,2245.8,2,2301.6,2,7.5010,2,-999,9,-999,9
49UF20140623,KS14-05,4203,1,20,21979,2,20140627,2325,24.0007,136.9975,3903,807.2,801,5.2461,34.1937,2,34.1946,2,77.90,2,85.52,2,36.44,2,0.00,2,2.63,2,2287.0,2,2322.2,2,7.4412,2,-999,9,-999,9
49UF20140623,KS14-05,4203,1,19,21978,2,20140627,2322,24.0007,136.9975,3903,908.0,900,4.2993,34.2900,2,-999.0000,9,61.36,2,105.57,2,39.16,2,0.00,2,2.82,2,2319.7,6,2344.6,6,7.4113,2,-999,9,-999,9
49UF20140623,KS14-05,4203,1,18,21977,2,20140627,2319,24.0007,136.9975,3903,1009.1,1000,3.8545,34.3469,2,34.3466,2,57.44,6,115.90,6,40.12,6,0.00,6,2.88,6,2335.0,2,2358.2,2,7.4041,2,-999,9,-999,9
49UF20140623,KS14-05,4203,1,17,23679,2,20140627,2315,24.0007,136.9975,3903,1211.5,1200,3.2019,34.4446,2,34.4446,2,61.04,2,129.53,2,40.81,2,0.00,2,2.91,2,2349.0,2,2378.0,2,7.4157,6,-999,9,-999,9
49UF20140623,KS14-05,4203,1,16,21975,2,20140627,2310,24.0007,136.9975,3903,1414.4,1401,2.7751,34.5079,2,34.5075,6,73.64,2,136.47,2,40.25,2,0.00,2,2.87,2,2351.1,2,2390.3,2,7.4418,2,-999,9,-999,9
49UF20140623,KS14-05,4203,1,15,21974,2,20140627,2306,24.0007,136.9975,3903,1617.3,1601,2.4480,34.5606,2,34.5601,2,91.71,2,139.32,2,39.30,2,0.00,2,2.79,2,2348.1,2,2397.5,2,7.4729,2,-999,9,-999,9
49UF20140623,KS14-05,4203,1,14,21973,2,20140627,2301,24.0007,136.9975,3903,1820.1,1801,2.2638,34.5857,2,34.5856,2,101.33,2,140.73,2,38.84,2,0.00,2,2.75,2,2345.0,6,2402.3,6,7.4943,2,-999,9,-999,9
49UF20140623,KS14-05,4203,1,13,21972,2,20140627,2256,24.0007,136.9975,3903,2023.5,2001,2.0360,34.6122,2,34.6122,6,112.94,2,141.94,2,38.21,2,0.00,2,2.70,2,2338.2,2,2405.4,2,7.5119,2,-999,9,-999,9
49UF20140623,KS14-05,4203,1,12,21994,2,20140627,2251,24.0007,136.9975,3903,2277.1,2250,1.8774,34.6280,2,34.6281,2,121.39,2,142.82,2,37.68,2,0.00,2,2.66,2,2341.0,2,2409.4,2,7.5246,2,-999,9,-999,9
49UF20140623,KS14-05,4203,1,11,21970,2,20140627,2245,24.0007,136.9975,3903,2531.9,2501,1.7612,34.6436,2,34.6431,6,129.53,2,142.89,2,37.24,2,0.00,2,2.62,2,2336.3,2,2411.0,2,7.5416,2,-999,9,-999,9
49UF20140623,KS14-05,4203,1,10,21969,2,20140627,2240,24.0007,136.9975,3903,2788.4,2752,1.6926,34.6533,2,34.6496,4,135.22,2,142.61,2,36.92,2,0.00,2,2.59,2,2331.0,2,2411.3,2,7.5473,2,-999,9,-999,9
49UF20140623,KS14-05,4203,1,9,21968,2,20140627,2234,24.0007,136.9975,3903,3043.0,3002,1.6498,34.6597,2,34.6569,4,139.19,2,142.57,2,36.68,2,0.00,2,2.57,2,2331.5,2,2411.0,2,7.5522,2,-999,9,-999,9
49UF20140623,KS14-05,4203,1,8,21982,2,20140627,2234,24.0007,136.9975,3903,3043.0,3002,1.6498,34.6597,2,34.6593,2,139.37,2,142.59,2,36.70,2,0.00,2,2.57,2,2331.7,2,2412.0,2,7.5527,2,-999,9,-999,9
49UF20140623,KS14-05,4203,1,7,21966,2,20140627,2229,24.0007,136.9975,3903,3297.7,3251,1.5958,34.6675,2,34.6656,4,143.70,2,142.13,2,36.40,2,0.00,2,2.54,2,2328.5,2,2412.2,2,7.5661,2,-999,9,-999,9
49UF20140623,KS14-05,4203,1,6,21965,2,20140627,2229,24.0007,136.9975,3903,3297.7,3251,1.5958,34.6675,2,34.6661,4,144.60,2,142.29,2,36.38,2,0.00,2,2.54,2,2327.1,2,2413.3,2,7.5638,2,-999,9,-999,9
49UF20140623,KS14-05,4203,1,5,22085,2,20140627,2224,24.0007,136.9975,3903,3553.7,3502,1.5409,34.6754,2,34.6723,4,149.44,2,141.48,2,36.06,2,0.00,2,2.52,2,2324.5,2,2412.4,2,7.5692,3,-999,9,-999,9
49UF20140623,KS14-05,4203,1,4,21963,2,20140627,2224,24.0007,136.9975,3903,3553.7,3502,1.5409,34.6754,2,34.6748,2,150.44,2,141.51,2,36.01,2,0.00,2,2.51,2,2326.1,2,2412.7,2,7.5624,2,-999,9,-999,9
49UF20140623,KS14-05,4203,1,3,22079,2,20140627,2218,24.0007,136.9975,3903,3809.7,3752,1.5195,34.6798,2,34.6793,2,153.65,2,140.82,2,35.88,2,0.00,2,2.49,2,2324.6,2,2411.3,2,7.5751,2,-999,9,-999,9
49UF20140623,KS14-05,4203,1,2,21961,2,20140627,2218,24.0007,136.9975,3903,3809.7,3752,1.5195,34.6798,2,34.6797,2,153.89,2,141.10,2,35.71,2,0.00,2,2.50,2,2324.0,2,2412.2,2,7.5879,3,-999,9,-999,9
49UF20140623,KS14-05,4203,1,1,21960,2,20140627,2215,24.0007,136.9975,3903,3912.4,3852,1.5118,34.6815,2,34.6807,2,155.53,2,140.70,2,35.70,2,0.00,2,2.49,2,2321.4,2,2412.1,2,7.5690,2,-999,9,-999,9
49UF20140623,KS14-05,4204,1,-999,0,2,20140628,0908,22.993,136.9917,2606,0.0,0,29.8253,34.7225,2,-999.,9,195.02,2,1.12,2,0.00,2,0.00,2,0.01,2,-999.,9,-999.,9,-999.,9,-999,9,-999,9
49UF20140623,KS14-05,4204,1,36,21995,2,20140628,0926,22.993,136.9917,2606,11.7,12,27.8720,34.7019,2,-999.,9,204.48,2,1.12,2,0.00,2,0.00,2,0.00,2,-999.,9,-999.,9,-999.,9,-999,9,-999,9
49UF20140623,KS14-05,4204,1,35,22087,2,20140628,0925,22.993,136.9917,2606,26.8,27,24.9470,34.7624,2,-999.,9,218.54,6,1.20,6,0.00,6,0.00,6,0.00,6,-999.,9,-999.,9,-999.,9,-999,9,-999,9
49UF20140623,KS14-05,4204,1,34,22666,2,20140628,0923,22.993,136.9917,2606,52.4,52,23.2643,34.8158,2,-999.,9,223.51,2,1.32,2,0.00,2,0.00,2,0.01,2,-999.,9,-999.,9,-999.,9,-999,9,-999,9
49UF20140623,KS14-05,4204,1,33,21992,2,20140628,0923,22.993,136.9917,2606,52.4,52,23.2643,34.8158,2,-999.,9,223.77,2,1.32,2,0.00,2,0.00,2,0.01,2,-999.,9,-999.,9,-999.,9,-999,9,-999,9
49UF20140623,KS14-05,4204,1,32,21991,2,20140628,0922,22.993,136.9917,2606,76.1,76,22.1545,34.8535,2,-999.,9,219.56,2,1.48,2,0.00,2,0.00,2,0.02,2,-999.,9,-999.,9,-999.,9,-999,9,-999,9
49UF20140623,KS14-05,4204,1,31,21990,2,20140628,0921,22.993,136.9917,2606,102.9,102,21.1881,34.8213,2,-999.,9,217.90,2,1.62,2,0.00,2,0.00,2,0.02,2,-999.,9,-999.,9,-999.,9,-999,9,-999,9
49UF20140623,KS14-05,4204,1,27,21986,2,20140628,0919,22.993,136.9917,2606,127.6,127,20.6059,34.8110,2,-999.,9,209.89,2,1.82,2,0.72,2,0.07,2,0.07,2,-999.,9,-999.,9,-999.,9,-999,9,-999,9
49UF20140623,KS14-05,4204,1,26,21985,2,20140628,0918,22.993,136.9917,2606,152.9,152,20.1373,34.8006,2,-999.,9,207.04,2,2.10,2,1.46,2,0.05,2,0.12,2,-999.,9,-999.,9,-999.,9,-999,9,-999,9
49UF20140623,KS14-05,4204,1,25,21984,2,20140628,0917,22.993,136.9917,2606,203.0,202,19.0804,34.7863,2,-999.,9,202.73,2,2.73,2,2.74,2,0.01,2,0.19,2,-999.,9,-999.,9,-999.,9,-999,9,-999,9
49UF20140623,KS14-05,4204,1,21,21980,2,20140628,0915,22.993,136.9917,2606,253.6,252,17.9300,34.7504,2,-999.,9,199.26,2,3.69,2,4.29,2,0.01,2,0.29,2,-999.,9,-999.,9,-999.,9,-999,9,-999,9
49UF20140623,KS14-05,4204,1,20,21979,2,20140628,0914,22.993,136.9917,2606,304.3,302,16.8609,34.6865,2,-999.,9,199.31,2,5.19,2,5.91,2,0.01,2,0.39,2,-999.,9,-999.,9,-999.,9,-999,9,-999,9
49UF20140623,KS14-05,4204,1,19,21978,2,20140628,0911,22.993,136.9917,2606,404.1,401,14.6712,34.5289,2,-999.,9,185.50,2,11.21,2,10.54,2,0.00,2,0.72,2,-999.,9,-999.,9,-999.,9,-999,9,-999,9
49UF20140623,KS14-05,4204,1,18,21977,2,20140628,0909,22.993,136.9917,2606,505.6,502,11.4482,34.3183,2,-999.,9,171.15,2,23.04,2,17.15,2,0.00,2,1.21,2,-999.,9,-999.,9,-999.,9,-999,9,-999,9
49UF20140623,KS14-05,4204,1,17,23679,2,20140628,0906,22.993,136.9917,2606,606.9,602,8.5614,34.1594,2,-999.,9,147.99,2,40.09,2,24.17,2,0.00,2,1.74,2,-999.,9,-999.,9,-999.,9,-999,9,-999,9
49UF20140623,KS14-05,4204,1,16,21975,2,20140628,0903,22.993,136.9917,2606,706.9,701,6.2183,34.1327,2,-999.,9,103.52,2,68.30,2,32.50,2,0.00,2,2.35,2,-999.,9,-999.,9,-999.,9,-999,9,-999,9
49UF20140623,KS14-05,4204,1,15,21974,2,20140628,0901,22.993,136.9917,2606,807.4,801,5.1050,34.1984,2,-999.,9,74.71,2,87.71,2,36.87,2,0.00,2,2.67,2,-999.,9,-999.,9,-999.,9,-999,9,-999,9
49UF20140623,KS14-05,4204,1,14,21973,2,20140628,0859,22.993,136.9917,2606,908.8,901,4.4208,34.2746,2,-999.,9,60.24,2,102.37,2,39.15,2,0.00,2,2.83,2,-999.,9,-999.,9,-999.,9,-999,9,-999,9
49UF20140623,KS14-05,4204,1,13,21972,2,20140628,0856,22.993,136.9917,2606,1010.8,1002,3.9235,34.3541,2,-999.,9,54.77,2,113.60,2,40.38,2,0.00,2,2.91,2,-999.,9,-999.,9,-999.,9,-999,9,-999,9
49UF20140623,KS14-05,4204,1,6,21965,2,20140628,0852,22.993,136.9917,2606,1212.9,1202,3.2288,34.4585,2,-999.,9,61.67,2,128.14,2,40.68,2,0.00,2,2.92,2,-999.,9,-999.,9,-999.,9,-999,9,-999,9
49UF20140623,KS14-05,4204,1,5,22085,2,20140628,0848,22.993,136.9917,2606,1414.0,1400,2.7626,34.5293,2,-999.,9,80.24,2,135.26,2,39.72,2,0.00,2,2.83,2,-999.,9,-999.,9,-999.,9,-999,9,-999,9
49UF20140623,KS14-05,4204,1,4,21963,2,20140628,0843,22.993,136.9917,2606,1618.9,1602,2.4464,34.5698,2,-999.,9,94.80,2,138.97,2,39.04,2,0.00,2,2.78,2,-999.,9,-999.,9,-999.,9,-999,9,-999,9
49UF20140623,KS14-05,4204,1,3,22079,2,20140628,0839,22.993,136.9917,2606,1822.2,1803,2.2355,34.5993,2,-999.,9,106.79,6,139.91,6,38.44,6,0.00,6,2.72,6,-999.,9,-999.,9,-999.,9,-999,9,-999,9
49UF20140623,KS14-05,4204,1,2,21961,2,20140628,0834,22.993,136.9917,2606,2025.9,2003,2.0242,34.6211,2,-999.,9,115.61,2,141.61,2,38.01,2,0.00,2,2.69,2,-999.,9,-999.,9,-999.,9,-999,9,-999,9
49UF20140623,KS14-05,4204,1,1,21960,2,20140628,0834,22.993,136.9917,2606,2025.9,2003,2.0242,34.6211,2,-999.,9,115.50,2,141.80,2,38.07,2,0.00,2,2.69,2,-999.,9,-999.,9,-999.,9,-999,9,-999,9
49UF20140623,KS14-05,4205,1,-999,0,2,20140628,1620,21.9965,136.9827,4339,0.0,0,30.5573,34.8737,2,-999.,9,192.50,2,1.04,2,0.00,2,0.00,2,0.01,2,-999.,9,-999.,9,-999.,9,-999,9,-999,9
49UF20140623,KS14-05,4205,1,36,21995,2,20140628,1636,21.9965,136.9827,4339,11.8,12,30.3488,34.8497,2,-999.,9,195.10,2,1.05,2,0.00,2,0.00,2,0.01,2,-999.,9,-999.,9,-999.,9,-999,9,-999,9
49UF20140623,KS14-05,4205,1,35,22087,2,20140628,1634,21.9965,136.9827,4339,26.4,26,27.0846,34.8737,2,-999.,9,211.26,2,1.08,2,0.00,2,0.00,2,0.01,2,-999.,9,-999.,9,-999.,9,-999,9,-999,9
49UF20140623,KS14-05,4205,1,34,22666,2,20140628,1631,21.9965,136.9827,4339,51.1,51,23.7152,34.8307,2,-999.,9,222.04,2,1.24,2,0.00,2,0.00,2,0.01,2,-999.,9,-999.,9,-999.,9,-999,9,-999,9
49UF20140623,KS14-05,4205,1,33,21992,2,20140628,1630,21.9965,136.9827,4339,76.5,76,23.0902,34.8814,2,-999.,9,221.31,2,1.26,2,0.00,2,0.00,2,0.01,2,-999.,9,-999.,9,-999.,9,-999,9,-999,9
49UF20140623,KS14-05,4205,1,32,21991,2,20140628,1629,21.9965,136.9827,4339,101.7,101,22.1285,34.8781,2,-999.,9,217.78,2,1.34,2,0.00,2,0.00,2,0.01,2,-999.,9,-999.,9,-999.,9,-999,9,-999,9
49UF20140623,KS14-05,4205,1,31,21990,2,20140628,1628,21.9965,136.9827,4339,126.7,126,21.0485,34.8151,2,-999.,9,216.81,2,1.59,2,0.00,2,0.00,2,0.03,2,-999.,9,-999.,9,-999.,9,-999,9,-999,9
49UF20140623,KS14-05,4205,1,27,21986,2,20140628,1627,21.9965,136.9827,4339,151.9,151,20.2310,34.7891,2,-999.,9,211.98,2,1.83,2,0.93,2,0.05,2,0.08,2,-999.,9,-999.,9,-999.,9,-999,9,-999,9
49UF20140623,KS14-05,4205,1,26,21985,2,20140628,1626,21.9965,136.9827,4339,201.8,200,19.2316,34.8043,2,-999.,9,200.04,2,2.63,2,2.62,2,0.01,2,0.19,2,-999.,9,-999.,9,-999.,9,-999,9,-999,9
49UF20140623,KS14-05,4205,1,25,21984,2,20140628,1624,21.9965,136.9827,4339,253.0,251,17.8025,34.7418,2,-999.,9,200.08,2,3.79,2,4.39,2,0.00,2,0.30,2,-999.,9,-999.,9,-999.,9,-999,9,-999,9
49UF20140623,KS14-05,4205,1,21,21980,2,20140628,1623,21.9965,136.9827,4339,304.7,303,17.0165,34.6967,2,-999.,9,200.08,6,4.88,6,5.56,6,0.00,6,0.37,6,-999.,9,-999.,9,-999.,9,-999,9,-999,9
49UF20140623,KS14-05,4205,1,20,21979,2,20140628,1620,21.9965,136.9827,4339,404.3,401,14.4222,34.5107,2,-999.,9,184.67,2,11.61,2,10.82,2,0.00,2,0.75,2,-999.,9,-999.,9,-999.,9,-999,9,-999,9
49UF20140623,KS14-05,4205,1,19,21978,3,20140628,1620,21.9965,136.9827,4339,404.3,401,14.4222,34.5107,2,-999.,9,184.85,2,11.59,2,10.80,2,0.00,2,0.75,2,-999.,9,-999.,9,-999.,9,-999,9,-999,9
49UF20140623,KS14-05,4205,1,18,21977,2,20140628,1618,21.9965,136.9827,4339,506.3,503,10.9092,34.2741,2,-999.,9,171.80,2,24.18,2,17.78,2,0.00,2,1.27,2,-999.,9,-999.,9,-999.,9,-999,9,-999,9
49UF20140623,KS14-05,4205,1,17,23679,2,20140628,1615,21.9965,136.9827,4339,606.8,602,8.1447,34.1606,2,-999.,9,129.42,2,43.51,2,26.56,2,0.00,2,1.93,2,-999.,9,-999.,9,-999.,9,-999,9,-999,9
49UF20140623,KS14-05,4205,1,16,21975,2,20140628,1613,21.9965,136.9827,4339,707.2,702,6.2909,34.1693,2,-999.,9,88.18,2,66.39,2,33.72,2,0.00,2,2.45,2,-999.,9,-999.,9,-999.,9,-999,9,-999,9
49UF20140623,KS14-05,4205,1,15,21974,2,20140628,1613,21.9965,136.9827,4339,707.2,702,6.2909,34.1693,2,-999.,9,87.85,2,66.46,2,33.74,2,0.00,2,2.45,2,-999.,9,-999.,9,-999.,9,-999,9,-999,9
49UF20140623,KS14-05,4205,1,14,21973,3,20140628,1610,21.9965,136.9827,4339,809.7,803,5.0317,34.2395,2,-999.,9,63.64,6,88.63,6,38.05,6,0.00,6,2.76,6,-999.,9,-999.,9,-999.,9,-999,9,-999,9
49UF20140623,KS14-05,4205,1,13,21972,2,20140628,1608,21.9965,136.9827,4339,910.9,903,4.5073,34.3221,2,-999.,9,57.17,2,99.96,2,39.36,2,0.00,2,2.85,2,-999.,9,-999.,9,-999.,9,-999,9,-999,9
49UF20140623,KS14-05,4205,1,6,21965,2,20140628,1605,21.9965,136.9827,4339,1011.5,1003,3.9034,34.3887,2,-999.,9,56.44,2,113.12,2,40.18,2,0.00,2,2.90,2,-999.,9,-999.,9,-999.,9,-999,9,-999,9
49UF20140623,KS14-05,4205,1,5,22085,2,20140628,1601,21.9965,136.9827,4339,1213.7,1203,3.2406,34.4667,2,-999.,9,64.71,2,127.61,2,40.33,2,0.00,2,2.91,2,-999.,9,-999.,9,-999.,9,-999,9,-999,9
49UF20140623,KS14-05,4205,1,4,21963,2,20140628,1556,21.9965,136.9827,4339,1415.8,1402,2.7458,34.5399,2,-999.,9,84.86,2,135.14,2,39.34,2,0.00,2,2.81,2,-999.,9,-999.,9,-999.,9,-999,9,-999,9
49UF20140623,KS14-05,4205,1,3,22079,2,20140628,1551,21.9965,136.9827,4339,1619.9,1604,2.4883,34.5791,2,-999.,9,98.61,2,137.22,2,38.54,2,0.00,2,2.75,2,-999.,9,-999.,9,-999.,9,-999,9,-999,9
49UF20140623,KS14-05,4205,1,2,21961,2,20140628,1547,21.9965,136.9827,4339,1821.8,1803,2.2562,34.6028,2,-999.,9,108.45,2,139.24,2,38.12,2,0.00,2,2.72,2,-999.,9,-999.,9,-999.,9,-999,9,-999,9
49UF20140623,KS14-05,4205,1,1,21960,2,20140628,1542,21.9965,136.9827,4339,2024.1,2002,2.0784,34.6198,2,-999.,9,114.75,2,141.02,2,37.84,2,0.00,2,2.69,2,-999.,9,-999.,9,-999.,9,-999,9,-999,9