BOTTLE,20171119JMAGEMD
EXPOCODE,SECT_ID,STNNBR,CASTNO,SAMPNO,BTLNBR,BTLNBR_FLAG_W,DATE,TIME,LATITUDE,LONGITUDE,DEPTH,CTDPRS,CTDDEP,CTDTMP,CTDSAL,CTDSAL_FLAG_W,SALNTY,SALNTY_FLAG_W,OXYGEN,OXYGEN_FLAG_W,SILCAT,SILCAT_FLAG_W,NO2+NO3,NO2+NO3_FLAG_W,NITRIT,NITRIT_FLAG_W,PHSPHT,PHSPHT_FLAG_W,TCARBN,TCARBN_FLAG_W,ALKALI,ALKALI_FLAG_W,PH_TOT,PH_TOT_FLAG_W,CFC-11,CFC-11_FLAG_W,CFC-12,CFC-12_FLAG_W
,,,,,,,UTC,UTC,,,METER,DBAR,METERS,ITS-90,PSS-78,,PSS-78,,UMOL/KG,,UMOL/KG,,UMOL/KG,,UMOL/KG,,UMOL/KG,,UMOL/KG,,UMOL/KG,,@25DEG-C,,PMOL/KG,,PMOL/KG,
49UF20140623,KS14-05,4247,1,-999,0,2,20140727,0342,5.006,165.0083,4762,0.0,0,29.7936,33.6494,2,33.6722,2,195.52,2,1.20,2,0.02,2,0.00,2,0.02,2,1886.5,2,2213.0,2,8.1235,2,-999,9,-999,9
49UF20140623,KS14-05,4247,1,36,21995,2,20140727,0420,5.006,165.0083,4762,11.5,11,29.5861,33.6490,2,33.6533,2,196.67,2,1.18,2,0.02,2,0.00,2,0.03,2,1886.1,2,2211.9,2,8.1259,2,-999,9,-999,9
49UF20140623,KS14-05,4247,1,35,22087,2,20140727,0418,5.006,165.0083,4762,26.1,26,29.6531,33.8256,2,-999.0000,9,198.85,2,1.18,2,0.01,2,0.00,2,0.04,2,1899.1,6,2229.6,6,8.1265,2,-999,9,-999,9
49UF20140623,KS14-05,4247,1,34,22666,2,20140727,0416,5.006,165.0083,4762,52.0,52,29.2317,34.4064,2,-999.0000,9,201.54,2,1.20,2,0.01,2,0.00,2,0.06,2,1935.2,2,2261.2,2,8.1066,6,-999,9,-999,9
49UF20140623,KS14-05,4247,1,33,21992,2,20140727,0415,5.006,165.0083,4762,76.0,76,27.7573,34.6221,2,-999.0000,9,191.67,2,1.53,2,0.02,2,0.00,2,0.12,2,1965.6,2,2275.3,2,8.0799,2,-999,9,-999,9
49UF20140623,KS14-05,4247,1,32,21991,2,20140727,0413,5.006,165.0083,4762,100.9,100,25.9058,34.7205,2,34.7214,2,175.47,2,2.38,2,1.03,2,0.15,2,0.24,2,1999.3,2,2285.1,2,8.0248,2,-999,9,-999,9
49UF20140623,KS14-05,4247,1,31,21990,2,20140727,0412,5.006,165.0083,4762,126.0,125,24.9984,34.9181,2,-999.0000,9,173.01,2,2.43,2,1.70,2,0.22,2,0.30,2,2025.0,2,2296.6,2,8.0064,2,-999,9,-999,9
49UF20140623,KS14-05,4247,1,30,21989,2,20140727,0411,5.006,165.0083,4762,151.6,151,19.6549,34.8091,2,-999.0000,9,140.97,6,7.14,6,9.25,6,0.02,6,0.76,6,2089.8,2,2291.6,2,7.8671,2,-999,9,-999,9
49UF20140623,KS14-05,4247,1,29,21988,2,20140727,0409,5.006,165.0083,4762,202.4,201,11.8880,34.5367,2,34.5365,2,82.12,2,26.18,2,25.69,2,0.00,2,1.89,2,2196.3,2,2287.9,2,7.6032,2,-999,9,-999,9
49UF20140623,KS14-05,4247,1,28,21987,2,20140727,0407,5.006,165.0083,4762,252.5,251,9.8043,34.5987,2,-999.0000,9,64.29,2,33.78,2,31.52,2,0.00,2,2.26,2,2234.4,2,2301.0,2,7.5326,2,-999,9,-999,9
49UF20140623,KS14-05,4247,1,27,21986,2,20140727,0405,5.006,165.0083,4762,302.6,301,9.2684,34.6274,2,-999.0000,9,60.13,2,34.82,2,33.08,2,0.00,2,2.35,2,2240.8,2,2304.7,2,7.5126,2,-999,9,-999,9
49UF20140623,KS14-05,4247,1,26,21985,2,20140727,0403,5.006,165.0083,4762,352.7,350,8.7885,34.6143,2,-999.0000,9,73.34,2,35.66,2,32.93,2,0.00,2,2.32,2,2241.9,2,2306.6,2,7.5248,2,-999,9,-999,9
49UF20140623,KS14-05,4247,1,25,21984,2,20140727,0401,5.006,165.0083,4762,402.7,400,8.5113,34.6085,2,34.6072,6,92.71,6,34.78,6,31.85,6,0.00,6,2.24,6,2228.7,2,2306.7,2,7.5559,2,-999,9,-999,9
49UF20140623,KS14-05,4247,1,24,21983,2,20140727,0400,5.006,165.0083,4762,454.0,451,8.1598,34.5977,2,-999.0000,9,69.79,2,39.51,2,34.58,2,0.00,2,2.45,2,2250.5,2,2310.0,2,7.5099,2,-999,9,-999,9
49UF20140623,KS14-05,4247,1,23,22095,2,20140727,0358,5.006,165.0083,4762,504.9,501,7.8286,34.5806,2,-999.0000,9,51.96,2,45.02,2,36.70,2,0.00,2,2.63,2,2266.9,2,2310.6,2,7.4677,2,-999,9,-999,9
49UF20140623,KS14-05,4247,1,22,22665,2,20140727,0355,5.006,165.0083,4762,607.3,603,7.0184,34.5575,2,34.5571,2,48.54,2,53.47,2,38.56,2,0.00,2,2.78,2,2282.6,2,2319.8,2,7.4481,2,-999,9,-999,9
49UF20140623,KS14-05,4247,1,21,21980,2,20140727,0352,5.006,165.0083,4762,707.5,702,6.3501,34.5460,2,-999.0000,9,49.39,2,61.32,2,39.85,2,0.00,2,2.87,2,2289.4,2,2327.4,2,7.4424,2,-999,9,-999,9
49UF20140623,KS14-05,4247,1,20,21979,2,20140727,0349,5.006,165.0083,4762,808.0,802,5.5823,34.5413,2,34.5406,2,59.58,2,71.85,2,40.13,2,0.00,2,2.88,2,2297.8,2,2339.7,2,7.4517,2,-999,9,-999,9
49UF20140623,KS14-05,4247,1,19,21978,2,20140727,0346,5.006,165.0083,4762,909.4,902,5.0637,34.5464,2,-999.0000,9,65.02,2,79.95,2,40.50,2,0.00,2,2.89,2,2304.2,6,2349.6,6,7.4548,2,-999,9,-999,9
49UF20140623,KS14-05,4247,1,18,21977,2,20140727,0343,5.006,165.0083,4762,1008.5,1000,4.6576,34.5551,2,34.5549,2,62.14,2,88.35,2,41.28,2,0.00,2,2.96,2,2317.4,2,2356.1,2,7.4470,2,-999,9,-999,9
49UF20140623,KS14-05,4247,1,17,23679,2,20140727,0339,5.006,165.0083,4762,1211.8,1202,3.9335,34.5705,2,34.5701,2,78.80,2,101.87,2,40.28,2,0.00,2,2.89,2,2323.6,2,2372.3,2,7.4764,2,-999,9,-999,9
49UF20140623,KS14-05,4247,1,16,21975,2,20140727,0334,5.006,165.0083,4762,1412.4,1400,3.3479,34.5890,2,-999.0000,5,85.37,2,114.76,2,40.20,2,0.00,2,2.87,2,2335.2,2,2386.5,2,7.4810,6,-999,9,-999,9
49UF20140623,KS14-05,4247,1,15,21974,2,20140727,0329,5.006,165.0083,4762,1617.2,1602,2.8942,34.6058,2,34.6066,2,93.20,2,124.80,2,39.83,2,0.00,2,2.84,2,2339.6,2,2398.5,2,7.4928,2,-999,9,-999,9
49UF20140623,KS14-05,4247,1,14,21973,2,20140727,0324,5.006,165.0083,4762,1819.1,1801,2.4791,34.6243,2,34.6243,2,102.47,2,133.48,2,39.31,2,0.00,2,2.78,2,2345.1,2,2406.1,2,7.5075,2,-999,9,-999,9
49UF20140623,KS14-05,4247,1,13,21972,2,20140727,0319,5.006,165.0083,4762,2022.6,2002,2.1757,34.6395,2,34.6397,6,107.66,6,141.54,6,39.12,6,0.00,6,2.76,6,2350.5,2,2415.1,2,7.5176,2,-999,9,-999,9
49UF20140623,KS14-05,4247,1,12,21994,2,20140727,0313,5.006,165.0083,4762,2275.3,2250,1.9619,34.6525,2,34.6522,2,116.18,2,144.84,2,38.58,2,0.00,2,2.71,2,2349.7,2,2420.5,2,7.5263,2,-999,9,-999,9
49UF20140623,KS14-05,4247,1,11,21970,2,20140727,0307,5.006,165.0083,4762,2531.7,2503,1.8272,34.6599,2,34.6595,2,123.04,2,145.89,2,38.05,2,0.00,2,2.68,2,2345.0,2,2421.2,2,7.5421,2,-999,9,-999,9
49UF20140623,KS14-05,4247,1,10,21969,2,20140727,0301,5.006,165.0083,4762,2784.2,2751,1.7384,34.6648,2,34.6645,2,128.65,2,145.92,2,37.72,2,0.00,2,2.64,2,2343.0,2,2421.4,2,7.5488,2,-999,9,-999,9
49UF20140623,KS14-05,4247,1,9,21968,2,20140727,0256,5.006,165.0083,4762,3040.5,3002,1.6589,34.6697,2,34.6690,2,135.43,2,146.16,2,37.30,2,0.00,2,2.60,2,2340.7,2,2420.6,2,7.5585,2,-999,9,-999,9
49UF20140623,KS14-05,4247,1,8,21982,2,20140727,0250,5.006,165.0083,4762,3294.4,3251,1.5868,34.6750,2,34.6725,4,141.95,2,145.90,2,36.91,2,0.00,2,2.57,2,2335.8,2,2419.7,2,7.5692,2,-999,9,-999,9
49UF20140623,KS14-05,4247,1,7,21966,2,20140727,0245,5.006,165.0083,4762,3550.6,3502,1.5221,34.6800,2,34.6793,2,149.12,2,143.74,2,36.37,2,0.00,2,2.53,2,2330.5,2,2417.6,2,7.5785,6,-999,9,-999,9
49UF20140623,KS14-05,4247,1,6,21965,2,20140727,0240,5.006,165.0083,4762,3804.7,3750,1.4814,34.6843,2,34.6836,2,155.51,2,141.14,2,35.87,2,0.00,2,2.49,2,2324.3,2,2414.8,2,7.5865,2,-999,9,-999,9
49UF20140623,KS14-05,4247,1,5,24272,4,20140727,0235,5.006,165.0083,4762,4061.1,4000,1.4637,34.6872,2,34.6835,4,158.45,4,139.14,4,35.61,4,0.00,4,2.47,4,2320.0,4,2412.4,4,7.5882,4,-999,9,-999,9
49UF20140623,KS14-05,4247,1,4,21963,2,20140727,0234,5.006,165.0083,4762,4061.5,4001,1.4637,34.6871,2,34.6868,2,160.03,2,139.54,2,35.57,2,0.00,2,2.47,2,2318.3,2,2411.7,2,7.5873,2,-999,9,-999,9
49UF20140623,KS14-05,4247,1,3,24269,2,20140727,0229,5.006,165.0083,4762,4319.6,4253,1.4466,34.6904,2,34.6908,2,166.05,6,136.40,6,35.13,6,0.00,6,2.44,6,2315.1,2,2408.8,2,7.5998,2,-999,9,-999,9
49UF20140623,KS14-05,4247,1,2,21961,2,20140727,0224,5.006,165.0083,4762,4575.3,4502,1.4018,34.6952,2,34.6928,4,175.17,2,131.73,2,34.48,2,0.00,2,2.39,2,2305.4,6,2401.9,6,7.6048,2,-999,9,-999,9
49UF20140623,KS14-05,4247,1,1,21960,2,20140727,0219,5.006,165.0083,4762,4834.7,4754,1.3810,34.6983,2,34.6988,2,180.37,2,129.13,2,34.07,2,0.00,2,2.36,2,2300.9,2,2398.6,2,7.6109,2,-999,9,-999,9
49UF20140623,KS14-05,4248,1,-999,0,2,20140727,1410,6.0092,165.008,4988,0.0,0,29.9569,33.9559,2,-999.,9,194.36,2,1.07,2,0.00,2,0.00,2,0.07,2,-999.,9,-999.,9,-999.,9,-999,9,-999,9
49UF20140623,KS14-05,4248,1,36,21995,2,20140727,1431,6.0092,165.008,4988,11.4,11,29.8646,33.9456,2,-999.,9,194.48,2,1.06,2,0.00,2,0.00,2,0.07,2,-999.,9,-999.,9,-999.,9,-999,9,-999,9
49UF20140623,KS14-05,4248,1,35,22087,2,20140727,1429,6.0092,165.008,4988,27.8,28,29.8240,33.9425,2,-999.,9,194.72,2,1.05,2,0.00,2,0.00,2,0.07,2,-999.,9,-999.,9,-999.,9,-999,9,-999,9
49UF20140623,KS14-05,4248,1,34,22666,2,20140727,1427,6.0092,165.008,4988,52.1,52,29.8085,34.0199,2,-999.,9,195.65,2,1.07,2,0.00,2,0.00,2,0.07,2,-999.,9,-999.,9,-999.,9,-999,9,-999,9
49UF20140623,KS14-05,4248,1,33,21992,2,20140727,1426,6.0092,165.008,4988,76.5,76,28.3352,34.6051,2,-999.,9,197.15,2,1.29,2,0.00,2,0.00,2,0.11,2,-999.,9,-999.,9,-999.,9,-999,9,-999,9
49UF20140623,KS14-05,4248,1,32,21991,2,20140727,1424,6.0092,165.008,4988,103.0,102,25.3967,34.9262,2,-999.,9,182.07,2,2.05,2,0.87,2,0.06,2,0.24,2,-999.,9,-999.,9,-999.,9,-999,9,-999,9
49UF20140623,KS14-05,4248,1,31,21990,2,20140727,1423,6.0092,165.008,4988,128.3,128,20.3453,34.8605,2,-999.,9,147.09,6,6.14,6,7.87,6,0.02,6,0.68,6,-999.,9,-999.,9,-999.,9,-999,9,-999,9
49UF20140623,KS14-05,4248,1,30,21989,2,20140727,1422,6.0092,165.008,4988,154.1,153,16.2142,34.6310,2,-999.,9,146.87,4,6.14,4,7.86,4,0.02,4,0.68,4,-999.,9,-999.,9,-999.,9,-999,9,-999,9
49UF20140623,KS14-05,4248,1,29,21988,2,20140727,1421,6.0092,165.008,4988,205.5,204,11.4647,34.5399,2,-999.,9,135.43,4,9.91,4,12.39,4,0.01,4,0.99,4,-999.,9,-999.,9,-999.,9,-999,9,-999,9
49UF20140623,KS14-05,4248,1,28,21987,2,20140727,1419,6.0092,165.008,4988,254.3,253,10.0977,34.6379,2,-999.,9,73.00,4,27.30,4,26.97,4,0.00,4,1.99,4,-999.,9,-999.,9,-999.,9,-999,9,-999,9
49UF20140623,KS14-05,4248,1,27,21986,2,20140727,1417,6.0092,165.008,4988,303.6,302,9.4278,34.6311,2,-999.,9,35.94,4,33.01,4,33.41,4,0.00,4,2.40,4,-999.,9,-999.,9,-999.,9,-999,9,-999,9
49UF20140623,KS14-05,4248,1,26,21985,2,20140727,1416,6.0092,165.008,4988,355.6,353,8.9207,34.6199,2,-999.,9,51.53,4,34.59,4,33.41,4,0.00,4,2.38,4,-999.,9,-999.,9,-999.,9,-999,9,-999,9
49UF20140623,KS14-05,4248,1,25,21984,2,20140727,1414,6.0092,165.008,4988,405.6,403,8.5072,34.6061,2,-999.,9,51.80,4,36.87,4,34.43,4,0.00,4,2.45,4,-999.,9,-999.,9,-999.,9,-999,9,-999,9
49UF20140623,KS14-05,4248,1,24,21983,2,20140727,1412,6.0092,165.008,4988,455.7,453,8.1241,34.5942,2,-999.,9,70.76,2,39.53,2,34.48,2,0.00,2,2.44,2,-999.,9,-999.,9,-999.,9,-999,9,-999,9
49UF20140623,KS14-05,4248,1,23,22095,2,20140727,1411,6.0092,165.008,4988,505.0,502,7.8975,34.5838,2,-999.,9,58.93,2,43.18,2,35.93,2,0.00,2,2.56,2,-999.,9,-999.,9,-999.,9,-999,9,-999,9
49UF20140623,KS14-05,4248,1,22,22665,2,20140727,1408,6.0092,165.008,4988,606.5,602,6.6751,34.5460,2,-999.,9,57.64,2,56.33,2,38.20,2,0.00,2,2.74,2,-999.,9,-999.,9,-999.,9,-999,9,-999,9
49UF20140623,KS14-05,4248,1,21,21980,4,20140727,1406,6.0092,165.008,4988,707.3,702,6.0009,34.5425,2,-999.,9,70.25,4,39.54,4,34.51,4,0.00,4,2.44,4,-999.,9,-999.,9,-999.,9,-999,9,-999,9
49UF20140623,KS14-05,4248,1,20,21979,2,20140727,1404,6.0092,165.008,4988,808.2,802,5.5422,34.5425,2,-999.,9,55.63,2,72.36,2,40.59,2,0.00,2,2.91,2,-999.,9,-999.,9,-999.,9,-999,9,-999,9
49UF20140623,KS14-05,4248,1,19,21978,2,20140727,1401,6.0092,165.008,4988,908.7,902,4.9584,34.5489,2,-999.,9,61.63,2,82.06,2,40.95,2,0.00,2,2.93,2,-999.,9,-999.,9,-999.,9,-999,9,-999,9
49UF20140623,KS14-05,4248,1,18,21977,2,20140727,1359,6.0092,165.008,4988,1011.8,1004,4.4317,34.5591,2,-999.,9,66.95,2,92.48,2,40.95,2,0.00,2,2.94,2,-999.,9,-999.,9,-999.,9,-999,9,-999,9
49UF20140623,KS14-05,4248,1,17,23679,2,20140727,1355,6.0092,165.008,4988,1212.5,1202,3.7802,34.5758,2,-999.,9,76.63,2,105.40,2,40.61,2,0.00,2,2.91,2,-999.,9,-999.,9,-999.,9,-999,9,-999,9
49UF20140623,KS14-05,4248,1,16,21975,2,20140727,1351,6.0092,165.008,4988,1416.2,1404,3.2949,34.5910,2,-999.,9,85.20,2,115.80,2,40.25,2,0.00,2,2.88,2,-999.,9,-999.,9,-999.,9,-999,9,-999,9
49UF20140623,KS14-05,4248,1,15,21974,2,20140727,1347,6.0092,165.008,4988,1617.6,1602,2.8523,34.6067,2,-999.,9,93.91,2,125.76,2,39.77,2,0.00,2,2.83,2,-999.,9,-999.,9,-999.,9,-999,9,-999,9
49UF20140623,KS14-05,4248,1,14,21973,2,20140727,1342,6.0092,165.008,4988,1821.0,1803,2.5218,34.6222,2,-999.,9,101.33,6,132.53,6,39.39,6,0.00,6,2.79,6,-999.,9,-999.,9,-999.,9,-999,9,-999,9
49UF20140623,KS14-05,4248,1,13,21972,2,20140727,1339,6.0092,165.008,4988,2022.4,2001,2.2180,34.6368,2,-999.,9,104.01,2,141.35,2,39.32,2,0.00,2,2.77,2,-999.,9,-999.,9,-999.,9,-999,9,-999,9
49UF20140623,KS14-05,4248,1,12,21994,2,20140727,1333,6.0092,165.008,4988,2277.0,2252,1.9690,34.6519,2,-999.,9,114.25,2,145.60,2,38.73,2,0.00,2,2.72,2,-999.,9,-999.,9,-999.,9,-999,9,-999,9
49UF20140623,KS14-05,4248,1,11,21970,2,20140727,1328,6.0092,165.008,4988,2530.6,2501,1.8541,34.6588,2,-999.,9,120.36,2,147.12,2,38.34,2,0.00,2,2.69,2,-999.,9,-999.,9,-999.,9,-999,9,-999,9
49UF20140623,KS14-05,4248,1,10,21969,2,20140727,1323,6.0092,165.008,4988,2782.9,2749,1.7420,34.6650,2,-999.,9,128.25,2,146.91,2,37.80,2,0.00,2,2.64,2,-999.,9,-999.,9,-999.,9,-999,9,-999,9
49UF20140623,KS14-05,4248,1,9,21968,2,20140727,1318,6.0092,165.008,4988,3041.2,3003,1.6582,34.6702,2,-999.,9,134.43,2,147.35,2,37.39,2,0.00,2,2.61,2,-999.,9,-999.,9,-999.,9,-999,9,-999,9
49UF20140623,KS14-05,4248,1,8,21982,2,20140727,1313,6.0092,165.008,4988,3295.5,3252,1.5749,34.6757,2,-999.,9,142.48,2,145.83,2,36.80,2,0.00,2,2.56,2,-999.,9,-999.,9,-999.,9,-999,9,-999,9
49UF20140623,KS14-05,4248,1,7,21966,2,20140727,1308,6.0092,165.008,4988,3550.1,3501,1.5142,34.6804,2,-999.,9,149.09,2,143.97,2,36.36,2,0.00,2,2.52,2,-999.,9,-999.,9,-999.,9,-999,9,-999,9
49UF20140623,KS14-05,4248,1,6,21965,2,20140727,1303,6.0092,165.008,4988,3806.4,3752,1.4596,34.6855,2,-999.,9,156.83,2,141.55,2,35.87,2,0.00,2,2.48,2,-999.,9,-999.,9,-999.,9,-999,9,-999,9
49UF20140623,KS14-05,4248,1,5,24272,2,20140727,1258,6.0092,165.008,4988,4062.3,4001,1.4322,34.6892,2,-999.,9,162.60,6,137.69,6,35.35,6,0.00,6,2.45,6,-999.,9,-999.,9,-999.,9,-999,9,-999,9
49UF20140623,KS14-05,4248,1,4,21963,2,20140727,1252,6.0092,165.008,4988,4318.7,4252,1.4139,34.6923,2,-999.,9,169.09,2,135.15,2,34.96,2,0.00,2,2.41,2,-999.,9,-999.,9,-999.,9,-999,9,-999,9
49UF20140623,KS14-05,4248,1,3,24269,2,20140727,1247,6.0092,165.008,4988,4575.2,4501,1.3975,34.6953,2,-999.,9,175.25,2,131.69,2,34.51,2,0.00,2,2.38,2,-999.,9,-999.,9,-999.,9,-999,9,-999,9
49UF20140623,KS14-05,4248,1,2,21961,2,20140727,1242,6.0092,165.008,4988,4833.1,4752,1.3705,34.6985,2,-999.,9,182.10,2,128.48,2,34.06,2,0.00,2,2.35,2,-999.,9,-999.,9,-999.,9,-999,9,-999,9
49UF20140623,KS14-05,4248,1,1,21960,2,20140727,1236,6.0092,165.008,4988,5073.0,4986,1.3801,34.6996,2,-999.,9,183.82,2,127.40,2,33.89,2,0.00,2,2.34,2,-999.,9,-999.,9,-999.,9,-999,9,-999,9