BOTTLE,20171119JMAGEMD
EXPOCODE,SECT_ID,STNNBR,CASTNO,SAMPNO,BTLNBR,BTLNBR_FLAG_W,DATE,TIME,LATITUDE,LONGITUDE,DEPTH,CTDPRS,CTDDEP,CTDTMP,CTDSAL,CTDSAL_FLAG_W,SALNTY,SALNTY_FLAG_W,OXYGEN,OXYGEN_FLAG_W,SILCAT,SILCAT_FLAG_W,NO2+NO3,NO2+NO3_FLAG_W,NITRIT,NITRIT_FLAG_W,PHSPHT,PHSPHT_FLAG_W,TCARBN,TCARBN_FLAG_W,ALKALI,ALKALI_FLAG_W,PH_TOT,PH_TOT_FLAG_W,CFC-11,CFC-11_FLAG_W,CFC-12,CFC-12_FLAG_W
,,,,,,,UTC,UTC,,,METER,DBAR,METERS,ITS-90,PSS-78,,PSS-78,,UMOL/KG,,UMOL/KG,,UMOL/KG,,UMOL/KG,,UMOL/KG,,UMOL/KG,,UMOL/KG,,@25DEG-C,,PMOL/KG,,PMOL/KG,
49UF20140623,KS14-05,4225,1,6,21965,2,20140716,0550,3.0233,137.008,4530,3806.5,3752,1.5452,34.6800,2,34.6802,2,149.99,2,142.78,2,36.19,2,0.00,2,2.51,2,-999.,9,-999.,9,-999.,9,-999,9,-999,9
49UF20140623,KS14-05,4225,1,5,24272,2,20140716,0550,3.0233,137.008,4530,3806.5,3752,1.5452,34.6800,2,34.6812,4,149.48,2,142.55,2,36.23,2,0.00,2,2.51,2,-999.,9,-999.,9,-999.,9,-999,9,-999,9
49UF20140623,KS14-05,4225,1,4,21963,2,20140716,0545,3.0233,137.008,4530,4060.5,4000,1.5287,34.6832,2,34.6851,4,153.11,2,142.36,2,36.00,2,0.00,2,2.49,2,-999.,9,-999.,9,-999.,9,-999,9,-999,9
49UF20140623,KS14-05,4225,1,3,24269,2,20140716,0545,3.0233,137.008,4530,4060.5,4000,1.5287,34.6832,2,34.6850,4,153.20,2,142.20,2,35.99,2,0.00,2,2.49,2,-999.,9,-999.,9,-999.,9,-999,9,-999,9
49UF20140623,KS14-05,4225,1,2,21961,2,20140716,0541,3.0233,137.008,4530,4317.4,4250,1.5153,34.6859,2,34.6864,2,157.43,2,141.03,2,35.70,2,0.00,2,2.47,2,-999.,9,-999.,9,-999.,9,-999,9,-999,9
49UF20140623,KS14-05,4225,1,1,21960,2,20140716,0535,3.0233,137.008,4530,4595.7,4522,1.5319,34.6867,2,34.6873,2,158.76,2,140.54,2,35.58,2,0.00,2,2.46,2,-999.,9,-999.,9,-999.,9,-999,9,-999,9
49UF20140623,KS14-05,4228,1,-999,0,2,20140717,0310,2.4068,140.0085,4131,0.0,0,29.2013,33.9382,2,-999.,9,196.33,2,1.31,2,0.00,2,0.00,2,0.02,2,-999.,9,-999.,9,-999.,9,-999,9,-999,9
49UF20140623,KS14-05,4228,1,36,21995,2,20140717,0342,2.4068,140.0085,4131,11.5,11,29.1942,33.9372,2,-999.,9,196.31,2,1.31,2,0.00,2,0.00,2,0.02,2,-999.,9,-999.,9,-999.,9,-999,9,-999,9
49UF20140623,KS14-05,4228,1,35,22087,2,20140717,0341,2.4068,140.0085,4131,26.5,26,29.1679,33.9369,2,-999.,9,196.40,2,1.31,2,0.00,2,0.00,2,0.01,2,-999.,9,-999.,9,-999.,9,-999,9,-999,9
49UF20140623,KS14-05,4228,1,34,22666,2,20140717,0338,2.4068,140.0085,4131,51.9,52,28.9167,34.4640,2,-999.,9,192.69,2,1.38,2,0.06,2,0.04,2,0.11,2,-999.,9,-999.,9,-999.,9,-999,9,-999,9
49UF20140623,KS14-05,4228,1,33,21992,2,20140717,0337,2.4068,140.0085,4131,76.9,76,28.4207,35.1628,2,-999.,9,170.86,2,1.72,2,3.00,2,0.64,2,0.40,2,-999.,9,-999.,9,-999.,9,-999,9,-999,9
49UF20140623,KS14-05,4228,1,32,21991,2,20140717,0336,2.4068,140.0085,4131,102.2,102,27.1622,35.1529,2,-999.,9,153.34,2,2.47,2,5.72,2,0.04,2,0.53,2,-999.,9,-999.,9,-999.,9,-999,9,-999,9
49UF20140623,KS14-05,4228,1,31,21990,2,20140717,0335,2.4068,140.0085,4131,127.3,127,23.2135,34.9930,2,-999.,9,138.44,2,5.83,2,8.14,2,0.02,2,0.66,2,-999.,9,-999.,9,-999.,9,-999,9,-999,9
49UF20140623,KS14-05,4228,1,30,21989,2,20140717,0334,2.4068,140.0085,4131,152.4,152,22.2468,35.1514,2,-999.,9,136.80,6,6.31,6,9.12,6,0.01,6,0.73,6,-999.,9,-999.,9,-999.,9,-999,9,-999,9
49UF20140623,KS14-05,4228,1,29,21988,2,20140717,0332,2.4068,140.0085,4131,203.0,202,18.0729,34.9380,2,-999.,9,139.82,2,11.68,2,12.51,2,0.01,2,0.95,2,-999.,9,-999.,9,-999.,9,-999,9,-999,9
49UF20140623,KS14-05,4228,1,28,21987,2,20140717,0332,2.4068,140.0085,4131,203.0,202,18.0729,34.9380,2,-999.,9,139.90,2,11.74,2,12.52,2,0.01,2,0.95,2,-999.,9,-999.,9,-999.,9,-999,9,-999,9
49UF20140623,KS14-05,4228,1,26,21985,2,20140717,0331,2.4068,140.0085,4131,253.2,252,11.6111,34.6392,2,-999.,9,124.31,2,27.64,2,22.64,2,0.00,2,1.64,2,-999.,9,-999.,9,-999.,9,-999,9,-999,9
49UF20140623,KS14-05,4228,1,25,21984,2,20140717,0329,2.4068,140.0085,4131,303.5,302,9.8303,34.7100,2,-999.,9,112.55,2,24.03,2,27.38,2,0.00,2,1.92,2,-999.,9,-999.,9,-999.,9,-999,9,-999,9
49UF20140623,KS14-05,4228,1,24,21983,2,20140717,0327,2.4068,140.0085,4131,353.9,352,9.3881,34.6721,2,-999.,9,115.83,2,26.46,2,27.91,2,0.00,2,1.96,2,-999.,9,-999.,9,-999.,9,-999,9,-999,9
49UF20140623,KS14-05,4228,1,23,22095,2,20140717,0326,2.4068,140.0085,4131,404.3,402,9.0529,34.6539,2,-999.,9,110.46,2,27.84,2,29.08,2,0.00,2,2.04,2,-999.,9,-999.,9,-999.,9,-999,9,-999,9
49UF20140623,KS14-05,4228,1,22,22665,2,20140717,0324,2.4068,140.0085,4131,454.5,452,8.8221,34.6346,2,-999.,9,106.39,2,30.25,2,29.88,2,0.00,2,2.09,2,-999.,9,-999.,9,-999.,9,-999,9,-999,9
49UF20140623,KS14-05,4228,1,21,21980,2,20140717,0323,2.4068,140.0085,4131,505.2,502,8.2665,34.6006,2,-999.,9,115.88,2,32.28,2,30.01,2,0.00,2,2.11,2,-999.,9,-999.,9,-999.,9,-999,9,-999,9
49UF20140623,KS14-05,4228,1,20,21979,2,20140717,0320,2.4068,140.0085,4131,605.7,601,7.0647,34.5513,2,-999.,9,99.65,2,43.97,2,33.83,2,0.00,2,2.39,2,-999.,9,-999.,9,-999.,9,-999,9,-999,9
49UF20140623,KS14-05,4228,1,19,21978,2,20140717,0318,2.4068,140.0085,4131,706.8,702,6.0084,34.5339,2,-999.,9,86.84,2,61.20,2,36.63,2,0.00,2,2.61,2,-999.,9,-999.,9,-999.,9,-999,9,-999,9
49UF20140623,KS14-05,4228,1,12,21994,2,20140717,0315,2.4068,140.0085,4131,807.9,802,5.1624,34.5392,2,-999.,9,95.98,2,72.00,2,37.18,2,0.00,2,2.65,2,-999.,9,-999.,9,-999.,9,-999,9,-999,9
49UF20140623,KS14-05,4228,1,11,21970,2,20140717,0313,2.4068,140.0085,4131,909.2,902,4.7053,34.5489,2,-999.,9,91.65,2,82.32,2,38.03,2,0.00,2,2.72,2,-999.,9,-999.,9,-999.,9,-999,9,-999,9
49UF20140623,KS14-05,4228,1,10,21969,2,20140717,0310,2.4068,140.0085,4131,1009.4,1001,4.2766,34.5593,2,-999.,9,91.76,2,91.97,2,38.49,2,0.00,2,2.76,2,-999.,9,-999.,9,-999.,9,-999,9,-999,9
49UF20140623,KS14-05,4228,1,9,21968,2,20140717,0306,2.4068,140.0085,4131,1211.7,1202,3.6876,34.5763,2,-999.,9,93.16,2,104.89,2,38.93,2,0.00,2,2.78,2,-999.,9,-999.,9,-999.,9,-999,9,-999,9
49UF20140623,KS14-05,4228,1,8,21982,2,20140717,0302,2.4068,140.0085,4131,1414.0,1401,3.1625,34.5936,2,-999.,9,100.02,2,115.79,2,38.73,2,0.00,2,2.76,2,-999.,9,-999.,9,-999.,9,-999,9,-999,9
49UF20140623,KS14-05,4228,1,7,21966,2,20140717,0258,2.4068,140.0085,4131,1618.2,1603,2.7399,34.6105,2,-999.,9,103.47,2,125.27,2,38.83,2,0.00,2,2.75,2,-999.,9,-999.,9,-999.,9,-999,9,-999,9
49UF20140623,KS14-05,4228,1,3,24269,2,20140717,0253,2.4068,140.0085,4131,1819.8,1802,2.3986,34.6260,2,-999.,9,110.62,6,132.48,6,38.50,6,0.00,6,2.73,6,-999.,9,-999.,9,-999.,9,-999,9,-999,9
49UF20140623,KS14-05,4228,1,2,21961,2,20140717,0250,2.4068,140.0085,4131,2022.4,2002,2.1027,34.6406,2,-999.,9,118.55,2,137.65,2,38.06,2,0.00,2,2.68,2,-999.,9,-999.,9,-999.,9,-999,9,-999,9
49UF20140623,KS14-05,4228,1,1,21960,2,20140717,0250,2.4068,140.0085,4131,2022.4,2002,2.1027,34.6406,2,-999.,9,118.64,2,137.69,2,38.15,2,0.00,2,2.68,2,-999.,9,-999.,9,-999.,9,-999,9,-999,9
49UF20140623,KS14-05,4230,1,-999,0,2,20140717,1447,1.9998,142.0148,2583,0.0,0,29.3411,33.7083,2,-999.0000,9,196.35,2,1.18,2,0.01,2,0.00,2,0.02,2,-999.,9,-999.,9,-999.,9,-999,9,-999,9
49UF20140623,KS14-05,4230,1,36,21995,2,20140717,1516,1.9998,142.0148,2583,11.4,11,29.3481,33.7092,2,33.7146,2,196.29,2,1.19,2,0.01,2,0.00,2,0.03,2,-999.,9,-999.,9,-999.,9,-999,9,-999,9
49UF20140623,KS14-05,4230,1,35,22087,2,20140717,1514,1.9998,142.0148,2583,26.1,26,29.3787,33.8198,2,-999.0000,9,196.55,6,1.15,6,0.00,6,0.00,6,0.02,6,-999.,9,-999.,9,-999.,9,-999,9,-999,9
49UF20140623,KS14-05,4230,1,34,22666,2,20140717,1512,1.9998,142.0148,2583,51.7,51,29.4281,34.1683,2,-999.0000,9,196.38,2,1.17,2,0.00,2,0.00,2,0.03,2,-999.,9,-999.,9,-999.,9,-999,9,-999,9
49UF20140623,KS14-05,4230,1,33,21992,2,20140717,1512,1.9998,142.0148,2583,51.7,51,29.4281,34.1683,2,-999.0000,9,196.33,2,1.23,2,0.01,2,0.00,2,0.04,2,-999.,9,-999.,9,-999.,9,-999,9,-999,9
49UF20140623,KS14-05,4230,1,32,21991,2,20140717,1510,1.9998,142.0148,2583,76.7,76,27.3789,34.5185,2,-999.0000,9,179.68,2,1.62,2,0.55,2,0.22,2,0.20,2,-999.,9,-999.,9,-999.,9,-999,9,-999,9
49UF20140623,KS14-05,4230,1,31,21990,2,20140717,1509,1.9998,142.0148,2583,101.7,101,26.8932,35.0040,2,35.0040,2,156.34,2,2.34,2,4.94,2,0.06,2,0.47,2,-999.,9,-999.,9,-999.,9,-999,9,-999,9
49UF20140623,KS14-05,4230,1,30,21989,2,20140717,1508,1.9998,142.0148,2583,127.3,127,24.0030,35.0209,2,-999.0000,9,140.06,2,4.75,2,7.50,2,0.03,2,0.62,2,-999.,9,-999.,9,-999.,9,-999,9,-999,9
49UF20140623,KS14-05,4230,1,29,21988,2,20140717,1507,1.9998,142.0148,2583,152.2,151,22.3909,35.0865,2,-999.0000,9,139.51,2,6.18,2,8.74,2,0.02,2,0.71,2,-999.,9,-999.,9,-999.,9,-999,9,-999,9
49UF20140623,KS14-05,4230,1,28,21987,2,20140717,1505,1.9998,142.0148,2583,203.4,202,16.6271,34.8613,2,34.8579,6,140.91,2,12.75,2,13.38,2,0.01,2,1.01,2,-999.,9,-999.,9,-999.,9,-999,9,-999,9
49UF20140623,KS14-05,4230,1,26,21985,2,20140717,1502,1.9998,142.0148,2583,255.0,253,13.4850,34.6532,2,-999.0000,9,132.82,2,20.58,2,18.43,2,0.00,2,1.35,2,-999.,9,-999.,9,-999.,9,-999,9,-999,9
49UF20140623,KS14-05,4230,1,25,21984,2,20140717,1500,1.9998,142.0148,2583,304.1,302,9.8411,34.5373,2,-999.0000,9,72.76,2,34.64,2,30.29,2,0.00,2,2.18,2,-999.,9,-999.,9,-999.,9,-999,9,-999,9
49UF20140623,KS14-05,4230,1,24,21983,2,20140717,1458,1.9998,142.0148,2583,357.1,355,9.1247,34.6269,2,-999.0000,9,122.61,6,30.34,6,27.48,6,0.00,6,1.95,6,-999.,9,-999.,9,-999.,9,-999,9,-999,9
49UF20140623,KS14-05,4230,1,23,22095,2,20140717,1455,1.9998,142.0148,2583,405.1,402,8.8803,34.6397,2,34.6398,2,103.78,2,30.16,2,30.01,2,0.00,2,2.11,2,-999.,9,-999.,9,-999.,9,-999,9,-999,9
49UF20140623,KS14-05,4230,1,22,22665,2,20140717,1455,1.9998,142.0148,2583,405.1,402,8.8803,34.6397,2,34.6407,2,103.45,2,30.13,2,30.04,2,0.00,2,2.10,2,-999.,9,-999.,9,-999.,9,-999,9,-999,9
49UF20140623,KS14-05,4230,1,21,21980,2,20140717,1453,1.9998,142.0148,2583,461.1,458,8.5032,34.6153,2,-999.0000,9,112.52,2,31.28,2,29.90,2,0.00,2,2.10,2,-999.,9,-999.,9,-999.,9,-999,9,-999,9
49UF20140623,KS14-05,4230,1,20,21979,2,20140717,1450,1.9998,142.0148,2583,508.0,505,7.9217,34.5837,2,-999.0000,9,109.91,2,35.17,2,31.12,2,0.00,2,2.20,2,-999.,9,-999.,9,-999.,9,-999,9,-999,9
49UF20140623,KS14-05,4230,1,19,21978,2,20140717,1447,1.9998,142.0148,2583,607.7,603,6.9694,34.5453,2,34.5473,2,115.23,2,41.55,2,32.59,2,0.00,2,2.30,2,-999.,9,-999.,9,-999.,9,-999,9,-999,9
49UF20140623,KS14-05,4230,1,12,21994,3,20140717,1444,1.9998,142.0148,2583,707.0,702,6.3516,34.5361,2,-999.0000,9,91.76,2,54.58,2,35.62,2,0.00,2,2.54,2,-999.,9,-999.,9,-999.,9,-999,9,-999,9
49UF20140623,KS14-05,4230,1,11,21970,2,20140717,1441,1.9998,142.0148,2583,806.4,800,5.6493,34.5346,2,34.5349,2,91.42,2,65.44,2,36.90,2,0.00,2,2.63,2,-999.,9,-999.,9,-999.,9,-999,9,-999,9
49UF20140623,KS14-05,4230,1,10,21969,2,20140717,1439,1.9998,142.0148,2583,908.5,902,4.9630,34.5433,2,-999.0000,9,91.53,2,77.44,2,37.79,2,0.00,2,2.70,2,-999.,9,-999.,9,-999.,9,-999,9,-999,9
49UF20140623,KS14-05,4230,1,9,21968,2,20140717,1437,1.9998,142.0148,2583,1009.9,1002,4.5880,34.5499,2,34.5514,2,102.91,2,83.39,2,37.07,2,0.00,2,2.65,2,-999.,9,-999.,9,-999.,9,-999,9,-999,9
49UF20140623,KS14-05,4230,1,8,21982,2,20140717,1433,1.9998,142.0148,2583,1209.9,1200,3.8600,34.5711,2,34.5719,2,96.15,2,100.82,2,38.42,2,0.00,2,2.74,2,-999.,9,-999.,9,-999.,9,-999,9,-999,9
49UF20140623,KS14-05,4230,1,7,21966,2,20140717,1429,1.9998,142.0148,2583,1412.1,1400,3.2309,34.5910,2,34.5911,2,99.35,2,114.27,2,38.75,2,0.00,2,2.76,2,-999.,9,-999.,9,-999.,9,-999,9,-999,9
49UF20140623,KS14-05,4230,1,3,24269,2,20140717,1425,1.9998,142.0148,2583,1615.7,1601,2.7650,34.6096,2,34.6098,2,108.05,2,122.67,2,38.42,2,0.00,2,2.73,2,-999.,9,-999.,9,-999.,9,-999,9,-999,9
49UF20140623,KS14-05,4230,1,2,21961,2,20140717,1421,1.9998,142.0148,2583,1817.3,1799,2.5360,34.6200,2,34.6198,6,111.33,2,128.55,2,38.38,2,0.00,2,2.72,2,-999.,9,-999.,9,-999.,9,-999,9,-999,9
49UF20140623,KS14-05,4230,1,1,21960,2,20140717,1417,1.9998,142.0148,2583,2022.4,2002,2.2329,34.6351,2,34.6352,2,117.89,2,133.89,2,38.05,2,0.00,2,2.69,2,-999.,9,-999.,9,-999.,9,-999,9,-999,9
49UF20140623,KS14-05,4231,1,-999,0,2,20140722,0408,-7.9758,161.0252,3175,0.0,0,28.9132,34.3422,2,-999.0000,9,194.63,2,0.98,2,0.01,2,0.00,2,0.16,2,-999.,9,-999.,9,-999.,9,-999,9,-999,9
49UF20140623,KS14-05,4231,1,36,21995,2,20140722,0441,-7.9758,161.0252,3175,11.7,12,28.9300,34.3526,2,34.3519,2,194.36,2,0.96,2,0.01,2,0.00,2,0.14,2,-999.,9,-999.,9,-999.,9,-999,9,-999,9
49UF20140623,KS14-05,4231,1,35,22087,2,20140722,0439,-7.9758,161.0252,3175,27.2,27,28.9346,34.3508,2,-999.0000,9,194.26,2,0.96,2,0.01,2,0.00,2,0.14,2,-999.,9,-999.,9,-999.,9,-999,9,-999,9
49UF20140623,KS14-05,4231,1,34,22666,2,20140722,0438,-7.9758,161.0252,3175,53.0,53,29.0085,34.4392,2,-999.0000,9,193.56,2,0.95,2,0.01,2,0.00,2,0.14,2,-999.,9,-999.,9,-999.,9,-999,9,-999,9
49UF20140623,KS14-05,4231,1,33,21992,2,20140722,0436,-7.9758,161.0252,3175,76.6,76,29.4325,35.3651,2,-999.0000,9,184.21,2,1.34,2,1.52,2,0.22,2,0.34,2,-999.,9,-999.,9,-999.,9,-999,9,-999,9
49UF20140623,KS14-05,4231,1,32,21991,2,20140722,0434,-7.9758,161.0252,3175,102.0,101,27.9974,35.4070,2,35.4054,2,159.03,2,1.64,2,5.31,2,0.33,2,0.52,2,-999.,9,-999.,9,-999.,9,-999,9,-999,9
49UF20140623,KS14-05,4231,1,31,21990,2,20140722,0432,-7.9758,161.0252,3175,127.5,127,26.2344,35.7963,2,-999.0000,9,132.26,2,2.00,2,8.54,2,0.02,2,0.76,2,-999.,9,-999.,9,-999.,9,-999,9,-999,9
49UF20140623,KS14-05,4231,1,30,21989,2,20140722,0431,-7.9758,161.0252,3175,152.7,152,24.8250,35.9217,2,-999.0000,9,129.92,2,2.02,2,8.79,2,0.01,2,0.80,2,-999.,9,-999.,9,-999.,9,-999,9,-999,9
49UF20140623,KS14-05,4231,1,29,21988,2,20140722,0429,-7.9758,161.0252,3175,202.4,201,20.4976,35.7472,2,35.7449,2,126.82,2,3.13,2,10.89,2,0.01,2,0.97,2,-999.,9,-999.,9,-999.,9,-999,9,-999,9
49UF20140623,KS14-05,4231,1,28,21987,2,20140722,0427,-7.9758,161.0252,3175,253.3,252,16.1050,35.2562,2,-999.0000,9,104.53,2,7.90,2,17.06,2,0.01,2,1.42,2,-999.,9,-999.,9,-999.,9,-999,9,-999,9
49UF20140623,KS14-05,4231,1,26,21985,2,20140722,0425,-7.9758,161.0252,3175,304.7,303,12.3054,34.9000,2,-999.0000,9,88.67,2,15.37,2,24.25,2,0.00,2,1.86,2,-999.,9,-999.,9,-999.,9,-999,9,-999,9
49UF20140623,KS14-05,4231,1,25,21984,2,20140722,0423,-7.9758,161.0252,3175,354.2,352,10.5551,34.7731,2,-999.0000,9,99.52,2,19.71,2,27.02,2,0.00,2,1.97,2,-999.,9,-999.,9,-999.,9,-999,9,-999,9
49UF20140623,KS14-05,4231,1,24,21983,2,20140722,0421,-7.9758,161.0252,3175,403.9,401,9.0538,34.6689,2,34.6665,2,119.67,2,23.52,2,28.38,2,0.00,2,2.01,2,-999.,9,-999.,9,-999.,9,-999,9,-999,9
49UF20140623,KS14-05,4231,1,23,22095,2,20140722,0419,-7.9758,161.0252,3175,454.2,451,8.1906,34.6170,2,-999.0000,9,114.07,2,28.11,2,30.75,2,0.00,2,2.15,2,-999.,9,-999.,9,-999.,9,-999,9,-999,9
49UF20140623,KS14-05,4231,1,22,22665,2,20140722,0417,-7.9758,161.0252,3175,504.2,501,7.5658,34.5805,2,-999.0000,9,116.44,2,31.65,2,31.81,2,0.00,2,2.22,2,-999.,9,-999.,9,-999.,9,-999,9,-999,9
49UF20140623,KS14-05,4231,1,21,21980,2,20140722,0414,-7.9758,161.0252,3175,607.6,603,6.6812,34.5364,2,34.5361,6,124.73,6,38.21,6,32.85,6,0.00,6,2.30,6,-999.,9,-999.,9,-999.,9,-999,9,-999,9
49UF20140623,KS14-05,4231,1,20,21979,2,20140722,0410,-7.9758,161.0252,3175,709.0,704,6.0535,34.5196,2,-999.0000,9,123.14,2,45.17,2,34.10,2,0.00,2,2.40,2,-999.,9,-999.,9,-999.,9,-999,9,-999,9
49UF20140623,KS14-05,4231,1,19,21978,2,20140722,0410,-7.9758,161.0252,3175,709.0,704,6.0535,34.5196,2,-999.0000,9,123.13,2,45.04,2,34.00,2,0.00,2,2.39,2,-999.,9,-999.,9,-999.,9,-999,9,-999,9
49UF20140623,KS14-05,4231,1,12,21994,2,20140722,0406,-7.9758,161.0252,3175,807.2,801,5.4836,34.5171,2,34.5172,2,118.86,2,54.14,2,35.38,2,0.00,2,2.50,2,-999.,9,-999.,9,-999.,9,-999,9,-999,9
49UF20140623,KS14-05,4231,1,11,21970,2,20140722,0402,-7.9758,161.0252,3175,909.7,903,5.0645,34.5187,2,-999.0000,9,119.24,2,60.79,2,35.87,2,0.00,2,2.54,2,-999.,9,-999.,9,-999.,9,-999,9,-999,9
49UF20140623,KS14-05,4231,1,10,21969,2,20140722,0359,-7.9758,161.0252,3175,1008.6,1001,4.5997,34.5284,2,34.5348,4,118.59,2,70.62,2,36.48,2,0.00,2,2.59,2,-999.,9,-999.,9,-999.,9,-999,9,-999,9
49UF20140623,KS14-05,4231,1,9,21968,2,20140722,0353,-7.9758,161.0252,3175,1211.9,1202,3.8473,34.5485,2,34.5495,6,123.13,6,84.96,6,36.67,6,0.00,6,2.60,6,-999.,9,-999.,9,-999.,9,-999,9,-999,9
49UF20140623,KS14-05,4231,1,8,21982,2,20140722,0348,-7.9758,161.0252,3175,1415.2,1403,3.2712,34.5740,2,34.5744,2,124.53,2,98.12,2,37.06,2,0.00,2,2.62,2,-999.,9,-999.,9,-999.,9,-999,9,-999,9
49UF20140623,KS14-05,4231,1,7,21966,2,20140722,0348,-7.9758,161.0252,3175,1415.2,1403,3.2712,34.5740,2,34.5739,2,124.60,2,98.13,2,37.07,2,0.00,2,2.63,2,-999.,9,-999.,9,-999.,9,-999,9,-999,9
49UF20140623,KS14-05,4231,1,3,24269,2,20140722,0343,-7.9758,161.0252,3175,1615.4,1600,2.8526,34.5986,2,34.5962,2,122.01,2,110.88,2,37.56,2,0.00,2,2.66,2,-999.,9,-999.,9,-999.,9,-999,9,-999,9
49UF20140623,KS14-05,4231,1,2,21961,2,20140722,0338,-7.9758,161.0252,3175,1818.9,1801,2.4794,34.6155,2,34.6155,2,136.44,2,114.92,2,36.61,2,0.00,2,2.58,2,-999.,9,-999.,9,-999.,9,-999,9,-999,9
49UF20140623,KS14-05,4231,1,1,21960,2,20140722,0334,-7.9758,161.0252,3175,2020.8,2000,2.2040,34.6352,2,34.6321,4,134.45,2,124.67,2,36.88,2,0.00,2,2.60,2,-999.,9,-999.,9,-999.,9,-999,9,-999,9