BOTTLE,20171119JMAGEMD
EXPOCODE,SECT_ID,STNNBR,CASTNO,SAMPNO,BTLNBR,BTLNBR_FLAG_W,DATE,TIME,LATITUDE,LONGITUDE,DEPTH,CTDPRS,CTDDEP,CTDTMP,CTDSAL,CTDSAL_FLAG_W,SALNTY,SALNTY_FLAG_W,OXYGEN,OXYGEN_FLAG_W,SILCAT,SILCAT_FLAG_W,NO2+NO3,NO2+NO3_FLAG_W,NITRIT,NITRIT_FLAG_W,PHSPHT,PHSPHT_FLAG_W,TCARBN,TCARBN_FLAG_W,ALKALI,ALKALI_FLAG_W,PH_TOT,PH_TOT_FLAG_W,CFC-11,CFC-11_FLAG_W,CFC-12,CFC-12_FLAG_W
,,,,,,,UTC,UTC,,,METER,DBAR,METERS,ITS-90,PSS-78,,PSS-78,,UMOL/KG,,UMOL/KG,,UMOL/KG,,UMOL/KG,,UMOL/KG,,UMOL/KG,,UMOL/KG,,@25DEG-C,,PMOL/KG,,PMOL/KG,
49UF20140623,KS14-05,4186,1,-999,0,2,20140624,0440,34.007,136.9847,1037,0.0,0,22.2009,34.1472,2,34.1472,2,228.46,2,0.36,2,0.00,2,0.01,2,0.04,2,1958.5,2,2254.8,2,8.0628,2,-999,9,-999,9
49UF20140623,KS14-05,4186,1,32,21991,2,20140624,0527,34.007,136.9847,1037,11.4,11,21.1081,34.2614,2,34.2737,4,238.39,2,0.64,2,0.00,2,0.00,2,0.03,2,1970.9,6,2265.0,6,8.0298,2,-999,9,-999,9
49UF20140623,KS14-05,4186,1,31,21990,2,20140624,0526,34.007,136.9847,1037,26.7,27,18.5399,34.3771,2,-999.0000,9,220.55,2,4.18,2,2.58,2,0.29,2,0.24,2,2011.4,2,2270.6,2,7.9929,2,-999,9,-999,9
49UF20140623,KS14-05,4186,1,27,21986,2,20140624,0455,34.007,136.9847,1037,52.3,52,15.8008,34.5073,2,-999.0000,9,189.02,2,13.70,2,9.41,2,0.04,2,0.68,2,2071.6,2,2279.1,2,7.8902,2,-999,9,-999,9
49UF20140623,KS14-05,4186,1,26,21985,2,20140624,0454,34.007,136.9847,1037,77.3,77,14.1970,34.4948,2,-999.0000,9,177.66,2,19.68,2,12.74,2,0.02,2,0.92,2,2096.8,2,2279.6,2,7.8354,2,-999,9,-999,9
49UF20140623,KS14-05,4186,1,25,21984,2,20140624,0453,34.007,136.9847,1037,102.3,102,13.4059,34.4669,2,34.4655,2,170.07,2,23.16,2,14.51,2,0.01,2,1.04,2,2113.3,2,2282.3,2,7.7982,2,-999,9,-999,9
49UF20140623,KS14-05,4186,1,21,21980,2,20140624,0451,34.007,136.9847,1037,130.7,130,12.5906,34.4301,2,-999.0000,9,164.98,2,26.69,2,16.06,2,0.01,2,1.15,2,2124.4,2,2284.0,2,7.7809,2,-999,9,-999,9
49UF20140623,KS14-05,4186,1,20,21979,2,20140624,0450,34.007,136.9847,1037,153.2,152,11.5714,34.3862,2,-999.0000,9,154.61,2,32.80,2,18.76,2,0.01,2,1.35,2,2146.8,2,2286.1,2,7.7378,2,-999,9,-999,9
49UF20140623,KS14-05,4186,1,19,21978,2,20140624,0448,34.007,136.9847,1037,204.2,203,10.1237,34.3250,2,34.3248,2,141.50,2,41.86,2,22.30,2,0.01,2,1.62,2,2172.3,2,2289.8,2,7.6781,2,-999,9,-999,9
49UF20140623,KS14-05,4186,1,15,21974,2,20140624,0446,34.007,136.9847,1037,255.1,253,9.0949,34.2829,2,-999.0000,9,132.53,2,48.78,2,24.80,2,0.01,2,1.80,2,2193.6,2,2293.3,2,7.6336,2,-999,9,-999,9
49UF20140623,KS14-05,4186,1,14,21973,2,20140624,0444,34.007,136.9847,1037,308.8,306,8.4191,34.2580,2,-999.0000,9,127.33,2,53.34,2,26.25,2,0.01,2,1.91,2,2207.7,2,2295.9,2,7.6093,2,-999,9,-999,9
49UF20140623,KS14-05,4186,1,13,21972,2,20140624,0442,34.007,136.9847,1037,407.7,404,7.4966,34.2397,2,34.2399,6,115.63,2,62.76,2,28.93,2,0.00,2,2.10,2,2229.2,2,2304.5,2,7.5676,2,-999,9,-999,9
49UF20140623,KS14-05,4186,1,12,21994,2,20140624,0439,34.007,136.9847,1037,509.2,505,6.3855,34.2352,2,-999.0000,9,99.50,6,75.54,6,32.25,6,0.01,6,2.35,6,2258.1,2,2315.8,2,7.5083,2,-999,9,-999,9
49UF20140623,KS14-05,4186,1,11,21970,2,20140624,0436,34.007,136.9847,1037,608.5,603,5.2313,34.2640,2,34.2646,2,79.98,2,92.36,2,35.85,2,0.00,2,2.62,2,2291.8,2,2331.4,2,7.4557,2,-999,9,-999,9
49UF20140623,KS14-05,4186,1,10,21969,2,20140624,0436,34.007,136.9847,1037,608.5,603,5.2313,34.2640,2,34.2637,2,80.02,2,92.56,2,35.85,2,0.00,2,2.61,2,2292.4,2,2330.8,2,7.4576,2,-999,9,-999,9
49UF20140623,KS14-05,4186,1,6,21965,2,20140624,0433,34.007,136.9847,1037,709.7,703,4.4965,34.3081,2,-999.0000,9,68.76,2,105.29,2,37.91,2,0.00,2,2.75,2,2318.8,6,2347.7,6,7.4322,2,-999,9,-999,9
49UF20140623,KS14-05,4186,1,5,22085,2,20140624,0430,34.007,136.9847,1037,810.6,803,3.9642,34.3545,2,34.3543,2,63.03,2,115.60,2,39.10,2,0.00,2,2.83,2,2333.8,2,2360.0,2,7.4198,6,-999,9,-999,9
49UF20140623,KS14-05,4186,1,4,21963,2,20140624,0428,34.007,136.9847,1037,911.8,903,3.5691,34.3926,2,-999.0000,9,61.02,2,124.01,2,39.88,2,0.00,2,2.88,2,2346.0,2,2368.4,2,7.4097,2,-999,9,-999,9
49UF20140623,KS14-05,4186,1,3,22079,2,20140624,0425,34.007,136.9847,1037,1016.3,1007,3.3222,34.4214,2,34.4232,2,61.96,6,128.66,6,40.10,6,0.00,6,2.89,6,2349.9,2,2374.6,2,7.4091,2,-999,9,-999,9
49UF20140623,KS14-05,4186,1,2,21961,2,20140624,0423,34.007,136.9847,1037,1038.8,1029,3.2990,34.4243,2,34.4240,2,61.75,2,129.29,2,40.18,2,0.00,2,2.89,2,2349.6,2,2375.4,2,7.4052,2,-999,9,-999,9
49UF20140623,KS14-05,4186,1,1,21960,2,20140624,0423,34.007,136.9847,1037,1038.8,1029,3.2990,34.4243,2,34.4254,2,62.05,2,129.32,2,40.22,2,0.00,2,2.89,2,2345.9,2,2375.4,2,7.4115,2,-999,9,-999,9
49UF20140623,KS14-05,4189,1,-999,0,2,20140624,1605,33.0047,137.0407,4287,0.0,0,23.3863,34.4880,2,-999.,9,215.51,2,1.56,2,0.00,2,0.01,2,0.02,2,-999.,9,-999.,9,-999.,9,-999,9,-999,9
49UF20140623,KS14-05,4189,1,36,21995,2,20140624,1620,33.0047,137.0407,4287,12.5,12,23.3936,34.4904,2,-999.,9,215.49,2,1.55,2,0.00,2,0.00,2,0.01,2,-999.,9,-999.,9,-999.,9,-999,9,-999,9
49UF20140623,KS14-05,4189,1,35,22087,2,20140624,1619,33.0047,137.0407,4287,27.1,27,23.3352,34.5145,2,-999.,9,215.52,2,1.55,2,0.00,2,0.00,2,0.02,2,-999.,9,-999.,9,-999.,9,-999,9,-999,9
49UF20140623,KS14-05,4189,1,34,22666,2,20140624,1616,33.0047,137.0407,4287,52.7,52,22.3839,34.7012,2,-999.,9,221.92,2,1.67,2,0.00,2,0.00,2,0.04,2,-999.,9,-999.,9,-999.,9,-999,9,-999,9
49UF20140623,KS14-05,4189,1,33,21992,2,20140624,1615,33.0047,137.0407,4287,76.9,76,20.6583,34.7862,2,-999.,9,223.57,2,1.81,2,0.13,2,0.08,2,0.03,2,-999.,9,-999.,9,-999.,9,-999,9,-999,9
49UF20140623,KS14-05,4189,1,32,21991,2,20140624,1613,33.0047,137.0407,4287,102.6,102,19.6301,34.7971,2,-999.,9,220.47,2,2.21,2,0.78,2,0.17,2,0.07,2,-999.,9,-999.,9,-999.,9,-999,9,-999,9
49UF20140623,KS14-05,4189,1,31,21990,2,20140624,1612,33.0047,137.0407,4287,126.7,126,19.0605,34.7658,2,-999.,9,197.26,2,3.76,2,3.62,2,0.01,2,0.25,2,-999.,9,-999.,9,-999.,9,-999,9,-999,9
49UF20140623,KS14-05,4189,1,27,21986,2,20140624,1611,33.0047,137.0407,4287,152.6,151,18.7576,34.7625,2,-999.,9,203.47,2,3.55,2,3.20,2,0.02,2,0.22,2,-999.,9,-999.,9,-999.,9,-999,9,-999,9
49UF20140623,KS14-05,4189,1,26,21985,2,20140624,1609,33.0047,137.0407,4287,203.1,202,18.0786,34.7541,2,-999.,9,208.84,2,3.33,2,3.26,2,0.01,2,0.22,2,-999.,9,-999.,9,-999.,9,-999,9,-999,9
49UF20140623,KS14-05,4189,1,25,21984,2,20140624,1608,33.0047,137.0407,4287,253.4,251,17.1758,34.6885,2,-999.,9,189.42,2,7.08,2,6.70,2,0.01,2,0.46,2,-999.,9,-999.,9,-999.,9,-999,9,-999,9
49UF20140623,KS14-05,4189,1,21,21980,2,20140624,1606,33.0047,137.0407,4287,304.4,302,16.3210,34.6432,2,-999.,9,190.28,6,8.25,6,7.86,6,0.01,6,0.55,6,-999.,9,-999.,9,-999.,9,-999,9,-999,9
49UF20140623,KS14-05,4189,1,20,21979,2,20140624,1604,33.0047,137.0407,4287,404.2,401,12.8466,34.4497,2,-999.,9,160.35,2,24.88,2,16.07,2,0.00,2,1.14,2,-999.,9,-999.,9,-999.,9,-999,9,-999,9
49UF20140623,KS14-05,4189,1,19,21978,2,20140624,1604,33.0047,137.0407,4287,404.2,401,12.8466,34.4497,2,-999.,9,160.37,2,24.91,2,16.11,2,0.01,2,1.15,2,-999.,9,-999.,9,-999.,9,-999,9,-999,9
49UF20140623,KS14-05,4189,1,15,21974,2,20140624,1559,33.0047,137.0407,4287,506.0,502,9.8281,34.3215,2,-999.,9,138.60,2,42.84,2,22.95,2,0.00,2,1.65,2,-999.,9,-999.,9,-999.,9,-999,9,-999,9
49UF20140623,KS14-05,4189,1,14,21973,2,20140624,1557,33.0047,137.0407,4287,607.8,603,7.1656,34.1778,2,-999.,9,120.14,6,60.64,6,29.21,6,0.00,6,2.12,6,-999.,9,-999.,9,-999.,9,-999,9,-999,9
49UF20140623,KS14-05,4189,1,13,21972,2,20140624,1554,33.0047,137.0407,4287,708.4,702,5.8491,34.1977,2,-999.,9,96.08,2,79.17,2,33.62,2,0.00,2,2.44,2,-999.,9,-999.,9,-999.,9,-999,9,-999,9
49UF20140623,KS14-05,4189,1,12,21994,2,20140624,1554,33.0047,137.0407,4287,708.4,702,5.8491,34.1977,2,-999.,9,95.68,2,79.27,2,33.66,2,0.00,2,2.44,2,-999.,9,-999.,9,-999.,9,-999,9,-999,9
49UF20140623,KS14-05,4189,1,11,21970,2,20140624,1551,33.0047,137.0407,4287,811.5,804,4.8758,34.2722,2,-999.,9,74.24,2,97.30,2,36.99,2,0.00,2,2.68,2,-999.,9,-999.,9,-999.,9,-999,9,-999,9
49UF20140623,KS14-05,4189,1,10,21969,2,20140624,1549,33.0047,137.0407,4287,912.0,904,4.1689,34.3284,2,-999.,9,63.24,2,110.92,2,39.05,2,0.00,2,2.82,2,-999.,9,-999.,9,-999.,9,-999,9,-999,9
49UF20140623,KS14-05,4189,1,6,21965,2,20140624,1546,33.0047,137.0407,4287,1011.1,1002,3.7117,34.3758,2,-999.,9,59.34,2,120.16,2,39.95,2,0.00,2,2.88,2,-999.,9,-999.,9,-999.,9,-999,9,-999,9
49UF20140623,KS14-05,4189,1,5,22085,2,20140624,1542,33.0047,137.0407,4287,1215.3,1203,3.0332,34.4569,2,-999.,9,63.49,2,134.31,2,40.51,2,0.00,2,2.91,2,-999.,9,-999.,9,-999.,9,-999,9,-999,9
49UF20140623,KS14-05,4189,1,4,21963,2,20140624,1537,33.0047,137.0407,4287,1419.2,1404,2.6363,34.5086,2,-999.,9,72.07,2,141.32,2,40.39,2,0.00,2,2.89,2,-999.,9,-999.,9,-999.,9,-999,9,-999,9
49UF20140623,KS14-05,4189,1,3,22079,2,20140624,1533,33.0047,137.0407,4287,1620.5,1603,2.3627,34.5463,2,-999.,9,82.21,2,144.75,2,39.93,2,0.00,2,2.85,2,-999.,9,-999.,9,-999.,9,-999,9,-999,9
49UF20140623,KS14-05,4189,1,2,21961,2,20140624,1528,33.0047,137.0407,4287,1823.4,1803,2.1597,34.5758,2,-999.,9,93.64,2,146.38,2,39.35,2,0.00,2,2.80,2,-999.,9,-999.,9,-999.,9,-999,9,-999,9
49UF20140623,KS14-05,4189,1,1,21960,2,20140624,1524,33.0047,137.0407,4287,2026.8,2003,1.9710,34.6038,2,-999.,9,105.95,2,146.91,2,38.64,2,0.00,2,2.74,2,-999.,9,-999.,9,-999.,9,-999,9,-999,9
49UF20140623,KS14-05,4192,1,-999,0,2,20140625,0400,32.0103,137.0403,4145,0.0,0,23.1073,34.3944,2,-999.0000,9,218.14,2,1.72,2,0.00,2,0.00,2,0.01,2,-999.,9,-999.,9,-999.,9,-999,9,-999,9
49UF20140623,KS14-05,4192,1,36,21995,3,20140625,0418,32.0103,137.0403,4145,11.9,12,22.6331,34.4936,2,34.5107,4,221.12,2,1.71,2,0.00,2,0.00,2,0.01,2,-999.,9,-999.,9,-999.,9,-999,9,-999,9
49UF20140623,KS14-05,4192,1,35,22087,2,20140625,0417,32.0103,137.0403,4145,26.9,27,20.9000,34.6967,2,-999.0000,9,235.89,2,1.75,2,0.00,2,0.00,2,0.01,2,-999.,9,-999.,9,-999.,9,-999,9,-999,9
49UF20140623,KS14-05,4192,1,34,22666,2,20140625,0414,32.0103,137.0403,4145,52.3,52,19.3039,34.7632,2,-999.0000,9,236.29,2,1.78,2,0.00,2,0.00,2,0.02,2,-999.,9,-999.,9,-999.,9,-999,9,-999,9
49UF20140623,KS14-05,4192,1,33,21992,2,20140625,0413,32.0103,137.0403,4145,76.9,76,18.6644,34.7779,2,-999.0000,9,227.78,2,1.89,2,0.40,2,0.17,2,0.06,2,-999.,9,-999.,9,-999.,9,-999,9,-999,9
49UF20140623,KS14-05,4192,1,32,21991,2,20140625,0411,32.0103,137.0403,4145,102.5,102,18.5126,34.7782,2,34.7787,2,219.58,2,2.17,2,1.74,2,0.03,2,0.13,2,-999.,9,-999.,9,-999.,9,-999,9,-999,9
49UF20140623,KS14-05,4192,1,31,21990,2,20140625,0410,32.0103,137.0403,4145,127.9,127,18.4588,34.7780,2,-999.0000,9,219.71,2,2.27,2,1.80,2,0.02,2,0.13,2,-999.,9,-999.,9,-999.,9,-999,9,-999,9
49UF20140623,KS14-05,4192,1,27,21986,2,20140625,0408,32.0103,137.0403,4145,152.7,152,18.4203,34.7773,2,-999.0000,9,220.76,2,2.31,2,1.76,2,0.01,2,0.13,2,-999.,9,-999.,9,-999.,9,-999,9,-999,9
49UF20140623,KS14-05,4192,1,26,21985,2,20140625,0406,32.0103,137.0403,4145,203.5,202,18.3565,34.7738,2,34.7741,2,220.81,2,2.43,2,1.83,2,0.01,2,0.14,2,-999.,9,-999.,9,-999.,9,-999,9,-999,9
49UF20140623,KS14-05,4192,1,25,21984,2,20140625,0405,32.0103,137.0403,4145,254.8,253,18.2865,34.7715,2,-999.0000,9,221.53,6,2.44,6,1.88,6,0.01,6,0.14,6,-999.,9,-999.,9,-999.,9,-999,9,-999,9
49UF20140623,KS14-05,4192,1,21,21980,3,20140625,0403,32.0103,137.0403,4145,303.6,301,18.1935,34.7657,2,-999.0000,9,219.39,2,2.55,2,2.14,2,0.01,2,0.15,2,-999.,9,-999.,9,-999.,9,-999,9,-999,9
49UF20140623,KS14-05,4192,1,20,21979,2,20140625,0403,32.0103,137.0403,4145,303.6,301,18.1935,34.7657,2,-999.0000,9,219.36,2,2.54,2,2.10,2,0.01,2,0.15,2,-999.,9,-999.,9,-999.,9,-999,9,-999,9
49UF20140623,KS14-05,4192,1,19,21978,2,20140625,0400,32.0103,137.0403,4145,405.1,402,17.5980,34.7300,2,34.7295,2,208.00,2,3.87,2,4.01,2,0.01,2,0.27,2,-999.,9,-999.,9,-999.,9,-999,9,-999,9
49UF20140623,KS14-05,4192,1,15,21974,2,20140625,0358,32.0103,137.0403,4145,506.5,502,16.0916,34.6300,2,-999.0000,9,189.25,2,8.17,2,8.12,2,0.00,2,0.55,2,-999.,9,-999.,9,-999.,9,-999,9,-999,9
49UF20140623,KS14-05,4192,1,14,21973,2,20140625,0355,32.0103,137.0403,4145,606.9,602,13.4086,34.4568,2,34.4603,2,174.95,2,17.13,2,13.59,2,0.00,2,0.96,2,-999.,9,-999.,9,-999.,9,-999,9,-999,9
49UF20140623,KS14-05,4192,1,13,21972,2,20140625,0352,32.0103,137.0403,4145,707.9,702,10.5947,34.2819,2,-999.0000,9,164.62,2,30.45,2,19.20,2,0.00,2,1.38,2,-999.,9,-999.,9,-999.,9,-999,9,-999,9
49UF20140623,KS14-05,4192,1,12,21994,2,20140625,0349,32.0103,137.0403,4145,809.1,802,7.8238,34.1751,2,34.1758,6,132.22,2,52.52,2,26.93,2,0.00,2,1.96,2,-999.,9,-999.,9,-999.,9,-999,9,-999,9
49UF20140623,KS14-05,4192,1,11,21970,2,20140625,0346,32.0103,137.0403,4145,911.0,903,6.3220,34.1855,2,-999.0000,9,103.61,2,71.97,2,32.14,2,0.00,2,2.34,2,-999.,9,-999.,9,-999.,9,-999,9,-999,9
49UF20140623,KS14-05,4192,1,10,21969,2,20140625,0343,32.0103,137.0403,4145,1012.8,1003,5.2239,34.2330,2,34.2329,2,80.99,2,90.44,2,35.94,2,0.00,2,2.61,2,-999.,9,-999.,9,-999.,9,-999,9,-999,9
49UF20140623,KS14-05,4192,1,6,21965,2,20140625,0339,32.0103,137.0403,4145,1215.7,1204,3.8447,34.3670,2,34.3677,2,60.38,2,118.10,2,39.70,2,0.00,2,2.87,2,-999.,9,-999.,9,-999.,9,-999,9,-999,9
49UF20140623,KS14-05,4192,1,5,22085,3,20140625,0334,32.0103,137.0403,4145,1419.0,1404,3.1044,34.4518,2,34.4508,2,62.77,6,133.18,6,40.45,6,0.00,6,2.91,6,-999.,9,-999.,9,-999.,9,-999,9,-999,9
49UF20140623,KS14-05,4192,1,4,21963,2,20140625,0329,32.0103,137.0403,4145,1619.8,1602,2.7239,34.4985,2,34.4980,2,69.60,2,140.33,2,40.40,2,0.00,2,2.90,2,-999.,9,-999.,9,-999.,9,-999,9,-999,9
49UF20140623,KS14-05,4192,1,3,22079,2,20140625,0329,32.0103,137.0403,4145,1619.8,1602,2.7239,34.4985,2,34.4986,2,69.78,2,140.28,2,40.40,2,0.00,2,2.90,2,-999.,9,-999.,9,-999.,9,-999,9,-999,9
49UF20140623,KS14-05,4192,1,2,21961,2,20140625,0325,32.0103,137.0403,4145,1824.0,1803,2.4256,34.5393,2,34.5398,2,79.44,2,144.71,2,39.99,2,0.00,2,2.86,2,-999.,9,-999.,9,-999.,9,-999,9,-999,9
49UF20140623,KS14-05,4192,1,1,21960,2,20140625,0321,32.0103,137.0403,4145,2026.9,2003,2.1695,34.5777,2,34.5779,2,94.27,2,145.97,2,39.15,2,0.00,2,2.80,2,-999.,9,-999.,9,-999.,9,-999,9,-999,9
49UF20140623,KS14-05,4195,1,-999,0,2,20140625,1401,30.9908,136.9727,4378,0.0,0,23.0874,34.1730,2,-999.,9,218.40,2,1.75,2,0.00,2,0.00,2,0.02,2,-999.,9,-999.,9,-999.,9,-999,9,-999,9
49UF20140623,KS14-05,4195,1,36,21995,2,20140625,1441,30.9908,136.9727,4378,10.9,11,23.0049,34.1875,2,-999.,9,219.90,2,1.73,2,0.00,2,0.00,2,0.01,2,-999.,9,-999.,9,-999.,9,-999,9,-999,9
49UF20140623,KS14-05,4195,1,35,22087,2,20140625,1440,30.9908,136.9727,4378,25.8,26,22.3432,34.4739,2,-999.,9,224.07,2,1.73,2,0.00,2,0.00,2,0.01,2,-999.,9,-999.,9,-999.,9,-999,9,-999,9
49UF20140623,KS14-05,4195,1,34,22666,2,20140625,1437,30.9908,136.9727,4378,51.4,51,19.6241,34.7565,2,-999.,9,235.55,2,1.78,2,0.00,2,0.00,2,0.02,2,-999.,9,-999.,9,-999.,9,-999,9,-999,9
49UF20140623,KS14-05,4195,1,33,21992,2,20140625,1436,30.9908,136.9727,4378,76.5,76,18.8680,34.7791,2,-999.,9,228.79,2,1.77,2,0.22,2,0.10,2,0.05,2,-999.,9,-999.,9,-999.,9,-999,9,-999,9
49UF20140623,KS14-05,4195,1,32,21991,2,20140625,1435,30.9908,136.9727,4378,102.1,101,18.6290,34.7786,2,-999.,9,219.00,2,2.16,2,1.64,2,0.03,2,0.12,2,-999.,9,-999.,9,-999.,9,-999,9,-999,9
49UF20140623,KS14-05,4195,1,31,21990,2,20140625,1433,30.9908,136.9727,4378,126.5,126,18.5362,34.7784,2,-999.,9,219.15,2,2.29,2,1.79,2,0.02,2,0.13,2,-999.,9,-999.,9,-999.,9,-999,9,-999,9
49UF20140623,KS14-05,4195,1,27,21986,2,20140625,1432,30.9908,136.9727,4378,151.8,151,18.4780,34.7755,2,-999.,9,219.15,6,2.37,6,1.88,6,0.01,6,0.14,6,-999.,9,-999.,9,-999.,9,-999,9,-999,9
49UF20140623,KS14-05,4195,1,26,21985,2,20140625,1429,30.9908,136.9727,4378,202.5,201,18.3981,34.7733,2,-999.,9,219.53,2,2.48,2,1.96,2,0.01,2,0.14,2,-999.,9,-999.,9,-999.,9,-999,9,-999,9
49UF20140623,KS14-05,4195,1,25,21984,2,20140625,1429,30.9908,136.9727,4378,202.5,201,18.3981,34.7733,2,-999.,9,219.82,2,2.46,2,1.95,2,0.01,2,0.14,2,-999.,9,-999.,9,-999.,9,-999,9,-999,9
49UF20140623,KS14-05,4195,1,21,21980,2,20140625,1427,30.9908,136.9727,4378,253.6,252,18.3062,34.7674,2,-999.,9,218.59,2,2.61,2,2.13,2,0.01,2,0.15,2,-999.,9,-999.,9,-999.,9,-999,9,-999,9
49UF20140623,KS14-05,4195,1,20,21979,2,20140625,1425,30.9908,136.9727,4378,303.5,301,18.1918,34.7623,2,-999.,9,216.78,2,2.80,2,2.41,2,0.01,2,0.17,2,-999.,9,-999.,9,-999.,9,-999,9,-999,9
49UF20140623,KS14-05,4195,1,19,21978,3,20140625,1421,30.9908,136.9727,4378,404.6,401,17.5743,34.7288,2,-999.,9,208.13,2,3.90,2,4.04,2,0.01,2,0.27,2,-999.,9,-999.,9,-999.,9,-999,9,-999,9
49UF20140623,KS14-05,4195,1,15,21974,2,20140625,1418,30.9908,136.9727,4378,506.8,503,16.2594,34.6426,2,-999.,9,191.42,6,7.55,6,7.67,6,0.00,6,0.52,6,-999.,9,-999.,9,-999.,9,-999,9,-999,9
49UF20140623,KS14-05,4195,1,14,21973,3,20140625,1414,30.9908,136.9727,4378,607.3,602,14.0005,34.4937,2,-999.,9,176.91,2,15.17,2,12.55,2,0.00,2,0.88,2,-999.,9,-999.,9,-999.,9,-999,9,-999,9
49UF20140623,KS14-05,4195,1,13,21972,2,20140625,1414,30.9908,136.9727,4378,607.3,602,14.0005,34.4937,2,-999.,9,176.95,2,15.20,2,12.56,2,0.00,2,0.88,2,-999.,9,-999.,9,-999.,9,-999,9,-999,9
49UF20140623,KS14-05,4195,1,12,21994,2,20140625,1410,30.9908,136.9727,4378,708.1,702,11.2349,34.3279,2,-999.,9,163.54,2,27.58,2,18.33,2,0.00,2,1.31,2,-999.,9,-999.,9,-999.,9,-999,9,-999,9
49UF20140623,KS14-05,4195,1,11,21970,2,20140625,1407,30.9908,136.9727,4378,808.7,802,8.8677,34.2062,2,-999.,9,145.88,2,42.92,2,23.94,2,0.00,2,1.73,2,-999.,9,-999.,9,-999.,9,-999,9,-999,9
49UF20140623,KS14-05,4195,1,10,21969,3,20140625,1404,30.9908,136.9727,4378,911.1,903,6.7361,34.1513,2,-999.,9,116.34,2,64.23,2,30.34,2,0.00,2,2.21,2,-999.,9,-999.,9,-999.,9,-999,9,-999,9
49UF20140623,KS14-05,4195,1,6,21965,2,20140625,1400,30.9908,136.9727,4378,1012.4,1003,5.5070,34.2168,2,-999.,9,86.39,2,84.67,2,34.97,2,0.00,2,2.55,2,-999.,9,-999.,9,-999.,9,-999,9,-999,9
49UF20140623,KS14-05,4195,1,5,22085,2,20140625,1354,30.9908,136.9727,4378,1213.1,1201,3.9109,34.3539,2,-999.,9,61.42,2,116.51,2,39.44,2,0.00,2,2.86,2,-999.,9,-999.,9,-999.,9,-999,9,-999,9
49UF20140623,KS14-05,4195,1,4,21963,2,20140625,1349,30.9908,136.9727,4378,1415.5,1401,3.3085,34.4276,2,-999.,9,62.06,2,129.39,2,40.19,2,0.00,2,2.90,2,-999.,9,-999.,9,-999.,9,-999,9,-999,9
49UF20140623,KS14-05,4195,1,3,22079,2,20140625,1344,30.9908,136.9727,4378,1618.7,1601,2.7533,34.4958,2,-999.,9,70.66,2,139.64,2,40.22,2,0.00,2,2.89,2,-999.,9,-999.,9,-999.,9,-999,9,-999,9
49UF20140623,KS14-05,4195,1,2,21961,2,20140625,1340,30.9908,136.9727,4378,1821.1,1801,2.4138,34.5422,2,-999.,9,82.52,2,144.06,2,39.70,2,0.00,2,2.85,2,-999.,9,-999.,9,-999.,9,-999,9,-999,9
49UF20140623,KS14-05,4195,1,1,21960,2,20140625,1335,30.9908,136.9727,4378,2022.3,1999,2.1487,34.5807,2,-999.,9,97.46,2,145.64,2,38.92,2,0.00,2,2.78,2,-999.,9,-999.,9,-999.,9,-999,9,-999,9