BOTTLE,20171119JMAGEMD
EXPOCODE,SECT_ID,STNNBR,CASTNO,SAMPNO,BTLNBR,BTLNBR_FLAG_W,DATE,TIME,LATITUDE,LONGITUDE,DEPTH,CTDPRS,CTDDEP,CTDTMP,CTDSAL,CTDSAL_FLAG_W,SALNTY,SALNTY_FLAG_W,OXYGEN,OXYGEN_FLAG_W,SILCAT,SILCAT_FLAG_W,NO2+NO3,NO2+NO3_FLAG_W,NITRIT,NITRIT_FLAG_W,PHSPHT,PHSPHT_FLAG_W,TCARBN,TCARBN_FLAG_W,ALKALI,ALKALI_FLAG_W,PH_TOT,PH_TOT_FLAG_W,CFC-11,CFC-11_FLAG_W,CFC-12,CFC-12_FLAG_W
,,,,,,,UTC,UTC,,,METER,DBAR,METERS,ITS-90,PSS-78,,PSS-78,,UMOL/KG,,UMOL/KG,,UMOL/KG,,UMOL/KG,,UMOL/KG,,UMOL/KG,,UMOL/KG,,@25DEG-C,,PMOL/KG,,PMOL/KG,
49UF20140623,KS14-05,4233,1,-999,0,2,20140722,1216,-7.4307,161.7382,1430,0.0,0,29.2068,34.2620,2,-999.,9,194.33,2,0.97,2,0.00,2,0.00,2,0.14,2,-999.,9,-999.,9,-999.,9,-999,9,-999,9
49UF20140623,KS14-05,4233,1,36,21995,2,20140722,1240,-7.4307,161.7382,1430,12.3,12,29.2782,34.3527,2,-999.,9,193.94,2,0.96,2,0.00,2,0.00,2,0.14,2,-999.,9,-999.,9,-999.,9,-999,9,-999,9
49UF20140623,KS14-05,4233,1,35,22087,2,20140722,1239,-7.4307,161.7382,1430,27.0,27,29.4127,34.4424,2,-999.,9,193.48,2,0.97,2,0.00,2,0.00,2,0.14,2,-999.,9,-999.,9,-999.,9,-999,9,-999,9
49UF20140623,KS14-05,4233,1,34,22666,2,20140722,1237,-7.4307,161.7382,1430,53.2,53,29.5612,34.5429,2,-999.,9,193.21,2,0.96,2,0.00,2,0.00,2,0.14,2,-999.,9,-999.,9,-999.,9,-999,9,-999,9
49UF20140623,KS14-05,4233,1,33,21992,2,20140722,1236,-7.4307,161.7382,1430,77.9,77,29.7340,35.4956,2,-999.,9,189.70,2,1.37,2,0.79,2,0.10,2,0.33,2,-999.,9,-999.,9,-999.,9,-999,9,-999,9
49UF20140623,KS14-05,4233,1,32,21991,2,20140722,1233,-7.4307,161.7382,1430,104.4,104,28.4288,35.5538,2,-999.,9,149.83,2,1.91,2,6.80,2,0.55,2,0.65,2,-999.,9,-999.,9,-999.,9,-999,9,-999,9
49UF20140623,KS14-05,4233,1,31,21990,2,20140722,1232,-7.4307,161.7382,1430,127.2,126,27.4518,35.6268,2,-999.,9,161.35,2,2.15,2,7.61,2,0.28,2,0.71,2,-999.,9,-999.,9,-999.,9,-999,9,-999,9
49UF20140623,KS14-05,4233,1,30,21989,2,20140722,1231,-7.4307,161.7382,1430,152.4,151,25.5158,35.8778,2,-999.,9,133.91,2,1.99,2,8.66,2,0.02,2,0.79,2,-999.,9,-999.,9,-999.,9,-999,9,-999,9
49UF20140623,KS14-05,4233,1,29,21988,2,20140722,1229,-7.4307,161.7382,1430,204.1,203,19.1880,35.6059,2,-999.,9,126.27,2,3.77,2,11.71,2,0.01,2,1.05,2,-999.,9,-999.,9,-999.,9,-999,9,-999,9
49UF20140623,KS14-05,4233,1,28,21987,2,20140722,1228,-7.4307,161.7382,1430,255.2,254,15.2734,35.1650,2,-999.,9,98.29,2,8.89,2,18.27,2,0.00,2,1.52,2,-999.,9,-999.,9,-999.,9,-999,9,-999,9
49UF20140623,KS14-05,4233,1,26,21985,2,20140722,1226,-7.4307,161.7382,1430,305.7,304,12.2890,34.8939,2,-999.,9,83.99,2,15.28,2,24.40,2,0.00,2,1.88,2,-999.,9,-999.,9,-999.,9,-999,9,-999,9
49UF20140623,KS14-05,4233,1,25,21984,2,20140722,1224,-7.4307,161.7382,1430,356.1,354,10.2673,34.7541,2,-999.,9,96.16,2,20.25,2,27.56,2,0.00,2,2.00,2,-999.,9,-999.,9,-999.,9,-999,9,-999,9
49UF20140623,KS14-05,4233,1,24,21983,2,20140722,1223,-7.4307,161.7382,1430,406.0,403,9.1381,34.6779,2,-999.,9,107.45,2,23.73,2,29.14,2,0.00,2,2.07,2,-999.,9,-999.,9,-999.,9,-999,9,-999,9
49UF20140623,KS14-05,4233,1,23,22095,2,20140722,1221,-7.4307,161.7382,1430,456.8,454,8.1327,34.6105,2,-999.,9,120.12,2,27.38,2,30.22,2,0.00,2,2.12,2,-999.,9,-999.,9,-999.,9,-999,9,-999,9
49UF20140623,KS14-05,4233,1,22,22665,2,20140722,1219,-7.4307,161.7382,1430,506.4,503,7.6119,34.5798,2,-999.,9,121.46,6,30.39,6,31.17,6,0.00,6,2.18,6,-999.,9,-999.,9,-999.,9,-999,9,-999,9
49UF20140623,KS14-05,4233,1,21,21980,2,20140722,1216,-7.4307,161.7382,1430,608.1,604,6.5176,34.5331,2,-999.,9,120.71,2,39.51,2,33.45,2,0.00,2,2.34,2,-999.,9,-999.,9,-999.,9,-999,9,-999,9
49UF20140623,KS14-05,4233,1,20,21979,2,20140722,1216,-7.4307,161.7382,1430,608.1,604,6.5176,34.5331,2,-999.,9,120.53,2,39.54,2,33.43,2,0.00,2,2.34,2,-999.,9,-999.,9,-999.,9,-999,9,-999,9
49UF20140623,KS14-05,4233,1,19,21978,2,20140722,1214,-7.4307,161.7382,1430,708.0,703,5.7510,34.5178,2,-999.,9,119.19,2,49.85,2,34.97,2,0.00,2,2.46,2,-999.,9,-999.,9,-999.,9,-999,9,-999,9
49UF20140623,KS14-05,4233,1,12,21994,2,20140722,1211,-7.4307,161.7382,1430,809.5,803,5.3037,34.5161,2,-999.,9,119.45,2,56.17,2,35.58,2,0.00,2,2.51,2,-999.,9,-999.,9,-999.,9,-999,9,-999,9
49UF20140623,KS14-05,4233,1,11,21970,2,20140722,1209,-7.4307,161.7382,1430,909.5,902,4.7491,34.5222,2,-999.,9,121.09,6,66.24,6,36.08,6,0.00,6,2.55,6,-999.,9,-999.,9,-999.,9,-999,9,-999,9
49UF20140623,KS14-05,4233,1,10,21969,2,20140722,1206,-7.4307,161.7382,1430,1010.8,1003,4.4331,34.5325,2,-999.,9,118.95,2,73.43,2,36.61,2,0.00,2,2.59,2,-999.,9,-999.,9,-999.,9,-999,9,-999,9
49UF20140623,KS14-05,4233,1,9,21968,2,20140722,1206,-7.4307,161.7382,1430,1010.8,1003,4.4331,34.5325,2,-999.,9,118.82,2,73.51,2,36.60,2,0.00,2,2.59,2,-999.,9,-999.,9,-999.,9,-999,9,-999,9
49UF20140623,KS14-05,4233,1,8,21982,2,20140722,1202,-7.4307,161.7382,1430,1211.8,1202,3.9214,34.5489,2,-999.,9,118.65,2,84.48,2,37.10,2,0.00,2,2.63,2,-999.,9,-999.,9,-999.,9,-999,9,-999,9
49UF20140623,KS14-05,4233,1,7,21966,2,20140722,1158,-7.4307,161.7382,1430,1415.1,1402,3.2506,34.5774,2,-999.,9,121.17,2,100.15,2,37.36,2,0.00,2,2.65,2,-999.,9,-999.,9,-999.,9,-999,9,-999,9
49UF20140623,KS14-05,4233,1,1,21960,2,20140722,1158,-7.4307,161.7382,1430,1415.1,1402,3.2512,34.5774,2,-999.,9,121.44,2,100.04,2,37.35,2,0.00,2,2.66,2,-999.,9,-999.,9,-999.,9,-999,9,-999,9
49UF20140623,KS14-05,4235,1,-999,0,2,20140722,2325,-6.497,162.9907,3509,0.0,0,29.6564,34.8976,2,-999.0000,9,194.07,2,0.98,2,0.01,2,0.00,2,0.17,2,-999.,9,-999.,9,-999.,9,-999,9,-999,9
49UF20140623,KS14-05,4235,1,36,21995,2,20140722,2346,-6.497,162.9907,3509,12.5,12,29.6558,34.8966,2,34.8950,2,193.90,2,0.96,2,0.00,2,0.00,2,0.17,2,-999.,9,-999.,9,-999.,9,-999,9,-999,9
49UF20140623,KS14-05,4235,1,35,22087,2,20140722,2345,-6.497,162.9907,3509,27.3,27,29.6622,34.8969,2,-999.0000,9,193.97,2,1.00,2,0.02,2,0.00,2,0.18,2,-999.,9,-999.,9,-999.,9,-999,9,-999,9
49UF20140623,KS14-05,4235,1,34,22666,2,20140722,2343,-6.497,162.9907,3509,52.5,52,29.8287,35.0435,2,-999.0000,9,195.50,2,1.05,2,0.13,2,0.01,2,0.20,2,-999.,9,-999.,9,-999.,9,-999,9,-999,9
49UF20140623,KS14-05,4235,1,33,21992,2,20140722,2341,-6.497,162.9907,3509,77.2,77,29.2285,35.5659,2,-999.0000,9,171.32,2,1.71,2,3.97,2,0.81,2,0.50,2,-999.,9,-999.,9,-999.,9,-999,9,-999,9
49UF20140623,KS14-05,4235,1,32,21991,2,20140722,2340,-6.497,162.9907,3509,103.0,102,28.6704,35.6269,2,35.6067,4,158.33,2,1.94,2,6.64,2,1.32,2,0.65,2,-999.,9,-999.,9,-999.,9,-999,9,-999,9
49UF20140623,KS14-05,4235,1,31,21990,2,20140722,2339,-6.497,162.9907,3509,126.8,126,27.4802,35.7002,2,-999.0000,9,141.14,2,2.03,2,8.15,2,0.06,2,0.74,2,-999.,9,-999.,9,-999.,9,-999,9,-999,9
49UF20140623,KS14-05,4235,1,30,21989,2,20140722,2338,-6.497,162.9907,3509,151.7,151,26.1323,35.8804,2,-999.0000,9,131.89,2,1.89,2,8.30,2,0.02,2,0.76,2,-999.,9,-999.,9,-999.,9,-999,9,-999,9
49UF20140623,KS14-05,4235,1,29,21988,2,20140722,2336,-6.497,162.9907,3509,203.8,203,21.2662,35.8485,2,35.8580,4,133.44,2,2.44,2,9.64,2,0.01,2,0.90,2,-999.,9,-999.,9,-999.,9,-999,9,-999,9
49UF20140623,KS14-05,4235,1,28,21987,2,20140722,2334,-6.497,162.9907,3509,255.0,253,15.2725,35.1715,2,-999.0000,9,97.60,2,9.16,2,18.57,2,0.00,2,1.54,2,-999.,9,-999.,9,-999.,9,-999,9,-999,9
49UF20140623,KS14-05,4235,1,26,21985,2,20140722,2333,-6.497,162.9907,3509,305.0,303,11.3551,34.8415,2,-999.0000,9,124.24,2,14.95,2,22.85,2,0.00,2,1.70,2,-999.,9,-999.,9,-999.,9,-999,9,-999,9
49UF20140623,KS14-05,4235,1,25,21984,2,20140722,2331,-6.497,162.9907,3509,354.8,353,9.9972,34.7330,2,-999.0000,9,134.65,2,18.30,2,24.81,2,0.00,2,1.78,2,-999.,9,-999.,9,-999.,9,-999,9,-999,9
49UF20140623,KS14-05,4235,1,24,21983,2,20140722,2330,-6.497,162.9907,3509,405.5,403,8.8733,34.6495,2,34.6520,6,139.80,6,21.92,6,26.66,6,0.00,6,1.88,6,-999.,9,-999.,9,-999.,9,-999,9,-999,9
49UF20140623,KS14-05,4235,1,23,22095,2,20140722,2328,-6.497,162.9907,3509,454.5,451,8.1661,34.6048,2,-999.0000,9,135.77,2,25.33,2,28.60,2,0.00,2,2.01,2,-999.,9,-999.,9,-999.,9,-999,9,-999,9
49UF20140623,KS14-05,4235,1,22,22665,2,20140722,2328,-6.497,162.9907,3509,454.5,451,8.1661,34.6048,2,-999.0000,9,136.02,2,25.31,2,28.59,2,0.00,2,2.01,2,-999.,9,-999.,9,-999.,9,-999,9,-999,9
49UF20140623,KS14-05,4235,1,21,21980,2,20140722,2326,-6.497,162.9907,3509,505.3,502,7.7279,34.5856,2,-999.0000,9,124.89,2,29.29,2,30.71,2,0.00,2,2.15,2,-999.,9,-999.,9,-999.,9,-999,9,-999,9
49UF20140623,KS14-05,4235,1,20,21979,2,20140722,2324,-6.497,162.9907,3509,605.3,601,6.7345,34.5366,2,34.5365,2,124.51,2,37.39,2,32.77,2,0.00,2,2.30,2,-999.,9,-999.,9,-999.,9,-999,9,-999,9
49UF20140623,KS14-05,4235,1,19,21978,2,20140722,2321,-6.497,162.9907,3509,705.9,701,6.1208,34.5229,2,-999.0000,9,120.25,2,44.74,2,34.28,2,0.00,2,2.42,2,-999.,9,-999.,9,-999.,9,-999,9,-999,9
49UF20140623,KS14-05,4235,1,12,21994,2,20140722,2319,-6.497,162.9907,3509,808.2,802,5.5063,34.5180,2,34.5183,6,117.53,6,54.11,6,35.47,6,0.00,6,2.51,6,-999.,9,-999.,9,-999.,9,-999,9,-999,9
49UF20140623,KS14-05,4235,1,11,21970,2,20140722,2316,-6.497,162.9907,3509,910.8,904,4.9249,34.5244,2,-999.0000,9,115.27,2,64.93,2,36.44,2,0.00,2,2.58,2,-999.,9,-999.,9,-999.,9,-999,9,-999,9
49UF20140623,KS14-05,4235,1,10,21969,2,20140722,2316,-6.497,162.9907,3509,910.8,904,4.9249,34.5244,2,-999.0000,9,115.40,2,64.96,2,36.38,2,0.00,2,2.58,2,-999.,9,-999.,9,-999.,9,-999,9,-999,9
49UF20140623,KS14-05,4235,1,9,21968,2,20140722,2313,-6.497,162.9907,3509,1010.3,1002,4.4746,34.5314,2,34.5329,2,119.05,2,72.80,2,36.48,2,0.00,2,2.59,2,-999.,9,-999.,9,-999.,9,-999,9,-999,9
49UF20140623,KS14-05,4235,1,8,21982,2,20140722,2309,-6.497,162.9907,3509,1212.7,1202,3.7130,34.5563,2,34.5579,2,119.39,2,88.94,2,37.19,2,0.00,2,2.64,2,-999.,9,-999.,9,-999.,9,-999,9,-999,9
49UF20140623,KS14-05,4235,1,7,21966,2,20140722,2305,-6.497,162.9907,3509,1414.7,1402,3.0973,34.5855,2,34.5866,2,119.34,2,104.13,2,37.64,2,0.00,2,2.68,2,-999.,9,-999.,9,-999.,9,-999,9,-999,9
49UF20140623,KS14-05,4235,1,3,24269,2,20140722,2300,-6.497,162.9907,3509,1617.2,1602,2.7588,34.6031,2,34.6003,2,123.23,2,112.34,2,37.55,2,0.00,2,2.66,2,-999.,9,-999.,9,-999.,9,-999,9,-999,9
49UF20140623,KS14-05,4235,1,2,21961,2,20140722,2256,-6.497,162.9907,3509,1821.1,1803,2.4986,34.6194,2,34.6186,2,123.25,2,120.82,2,37.67,2,0.00,2,2.67,2,-999.,9,-999.,9,-999.,9,-999,9,-999,9
49UF20140623,KS14-05,4235,1,1,21960,2,20140722,2252,-6.497,162.9907,3509,2023.8,2003,2.2831,34.6329,2,34.6329,2,125.32,2,127.08,2,37.61,2,0.00,2,2.66,2,-999.,9,-999.,9,-999.,9,-999,9,-999,9
49UF20140623,KS14-05,4237,1,-999,0,2,20140723,1655,-5.0035,164.975,2336,0.0,0,29.8710,34.9110,2,34.9051,2,193.03,2,0.85,2,0.03,2,0.00,2,0.17,2,1943.1,2,2297.3,2,8.1365,2,-999,9,-999,9
49UF20140623,KS14-05,4237,1,36,21995,2,20140723,1726,-5.0035,164.975,2336,11.6,12,29.8799,34.9101,2,34.9094,2,193.33,6,0.83,6,0.02,6,0.00,6,0.17,6,1944.4,2,2296.8,2,8.1366,2,-999,9,-999,9
49UF20140623,KS14-05,4237,1,35,22087,2,20140723,1725,-5.0035,164.975,2336,26.5,26,29.9068,34.9260,2,-999.0000,9,193.26,2,0.82,2,0.02,2,0.00,2,0.17,2,1946.6,2,2297.2,2,8.1350,2,-999,9,-999,9
49UF20140623,KS14-05,4237,1,34,22666,2,20140723,1725,-5.0035,164.975,2336,26.5,26,29.9068,34.9260,2,-999.0000,9,193.30,2,0.83,2,0.02,2,0.00,2,0.17,2,1947.5,2,2295.0,2,8.1321,2,-999,9,-999,9
49UF20140623,KS14-05,4237,1,33,21992,2,20140723,1722,-5.0035,164.975,2336,51.6,51,29.9757,35.3652,2,-999.0000,9,193.73,2,1.20,2,0.88,2,0.10,2,0.31,2,1993.9,6,2332.1,6,8.0992,2,-999,9,-999,9
49UF20140623,KS14-05,4237,1,32,21991,2,20140723,1721,-5.0035,164.975,2336,76.5,76,28.6935,35.6366,2,-999.0000,9,173.91,2,1.81,2,5.35,2,1.79,2,0.59,2,2040.2,2,2340.2,2,8.0354,2,-999,9,-999,9
49UF20140623,KS14-05,4237,1,31,21990,2,20140723,1719,-5.0035,164.975,2336,102.9,102,28.2752,35.6321,2,35.6314,2,168.01,2,1.92,2,6.75,2,2.17,2,0.66,2,2048.6,2,2339.5,2,8.0181,2,-999,9,-999,9
49UF20140623,KS14-05,4237,1,30,21989,2,20140723,1718,-5.0035,164.975,2336,128.3,128,27.5483,35.6706,2,-999.0000,9,156.85,2,2.02,2,7.68,2,0.36,2,0.72,2,2061.2,2,2341.8,2,7.9999,6,-999,9,-999,9
49UF20140623,KS14-05,4237,1,29,21988,2,20140723,1716,-5.0035,164.975,2336,152.5,152,26.3250,35.7711,2,-999.0000,9,145.30,2,2.13,2,8.72,2,0.06,2,0.80,2,2083.4,2,2349.1,2,7.9712,2,-999,9,-999,9
49UF20140623,KS14-05,4237,1,28,21987,2,20140723,1714,-5.0035,164.975,2336,202.9,202,20.2442,35.6488,2,35.6600,4,123.78,2,4.17,2,12.45,2,0.01,2,1.10,2,2141.5,2,2345.9,2,7.8511,2,-999,9,-999,9
49UF20140623,KS14-05,4237,1,26,21985,2,20140723,1712,-5.0035,164.975,2336,254.6,253,12.2040,34.9008,2,-999.0000,9,93.54,2,14.95,2,23.75,2,0.00,2,1.82,2,2195.4,2,2307.2,2,7.6447,2,-999,9,-999,9
49UF20140623,KS14-05,4237,1,25,21984,2,20140723,1709,-5.0035,164.975,2336,305.5,304,9.5358,34.7021,2,-999.0000,9,109.35,6,23.45,6,28.23,6,0.00,6,1.99,6,2202.7,2,2300.9,2,7.6129,2,-999,9,-999,9
49UF20140623,KS14-05,4237,1,24,21983,2,20140723,1706,-5.0035,164.975,2336,356.6,354,8.9330,34.6612,2,-999.0000,9,99.57,2,26.90,2,30.52,2,0.00,2,2.14,2,2216.9,2,2301.5,2,7.5814,2,-999,9,-999,9
49UF20140623,KS14-05,4237,1,23,22095,2,20140723,1706,-5.0035,164.975,2336,356.6,354,8.9330,34.6612,2,-999.0000,9,99.51,2,26.90,2,30.50,2,0.00,2,2.14,2,2215.6,2,2301.6,2,7.5804,2,-999,9,-999,9
49UF20140623,KS14-05,4237,1,22,22665,2,20140723,1704,-5.0035,164.975,2336,405.2,403,8.5094,34.6264,2,34.6274,2,126.29,2,25.08,2,28.84,2,0.00,2,2.02,2,2204.9,2,2302.2,2,7.6134,2,-999,9,-999,9
49UF20140623,KS14-05,4237,1,21,21980,2,20140723,1702,-5.0035,164.975,2336,455.9,453,8.1301,34.6064,2,-999.0000,9,116.50,2,28.32,2,30.70,2,0.00,2,2.15,2,2214.3,2,2303.0,2,7.5871,2,-999,9,-999,9
49UF20140623,KS14-05,4237,1,20,21979,2,20140723,1700,-5.0035,164.975,2336,509.1,506,7.5828,34.5745,2,-999.0000,9,121.29,2,31.07,2,31.34,2,0.00,2,2.19,2,2217.6,2,2304.3,2,7.5808,2,-999,9,-999,9
49UF20140623,KS14-05,4237,1,19,21978,2,20140723,1655,-5.0035,164.975,2336,607.2,603,6.8476,34.5468,2,34.5468,2,110.66,2,39.20,2,33.91,2,0.00,2,2.38,2,2234.2,2,2312.0,2,7.5506,2,-999,9,-999,9
49UF20140623,KS14-05,4237,1,12,21994,2,20140723,1652,-5.0035,164.975,2336,709.2,704,6.0921,34.5216,2,-999.0000,9,119.24,2,45.44,2,34.39,2,0.00,2,2.42,2,2238.1,2,2316.7,2,7.5538,2,-999,9,-999,9
49UF20140623,KS14-05,4237,1,11,21970,2,20140723,1648,-5.0035,164.975,2336,808.9,803,5.5772,34.5285,2,34.5282,2,101.45,2,57.07,2,36.95,2,0.00,2,2.61,2,2260.5,2,2325.7,2,7.5232,2,-999,9,-999,9
49UF20140623,KS14-05,4237,1,10,21969,2,20140723,1645,-5.0035,164.975,2336,910.5,903,5.0235,34.5278,2,-999.0000,9,109.54,2,64.97,2,36.82,2,0.00,2,2.61,2,2265.1,2,2336.2,2,7.5267,6,-999,9,-999,9
49UF20140623,KS14-05,4237,1,9,21968,2,20140723,1641,-5.0035,164.975,2336,1012.2,1004,4.6290,34.5292,2,34.5290,2,118.03,2,70.50,2,36.46,2,0.00,2,2.58,2,2269.8,6,2343.2,6,7.5403,2,-999,9,-999,9
49UF20140623,KS14-05,4237,1,8,21982,2,20140723,1637,-5.0035,164.975,2336,1213.9,1204,3.7835,34.5550,2,34.5548,2,118.59,2,88.44,2,37.16,2,0.00,2,2.64,2,2289.3,2,2359.7,2,7.5351,2,-999,9,-999,9
49UF20140623,KS14-05,4237,1,7,21966,2,20140723,1632,-5.0035,164.975,2336,1416.1,1403,3.1144,34.5877,2,34.5867,6,113.34,6,106.40,6,38.14,6,0.00,6,2.71,6,2313.1,2,2379.7,2,7.5258,2,-999,9,-999,9
49UF20140623,KS14-05,4237,1,6,21965,2,20140723,1628,-5.0035,164.975,2336,1618.3,1603,2.6445,34.6120,2,34.6105,2,118.96,2,118.10,2,37.96,2,0.00,2,2.69,2,2320.3,2,2393.0,2,7.5323,2,-999,9,-999,9
49UF20140623,KS14-05,4237,1,5,24272,2,20140723,1628,-5.0035,164.975,2336,1618.3,1603,2.6445,34.6120,2,34.6123,2,118.86,2,117.85,2,37.89,2,0.00,2,2.69,2,2319.0,2,2393.3,2,7.5331,2,-999,9,-999,9
49UF20140623,KS14-05,4237,1,4,21963,2,20140723,1624,-5.0035,164.975,2336,1821.0,1803,2.4153,34.6255,2,34.6260,2,121.76,2,123.90,2,37.77,2,0.00,2,2.67,2,2324.0,2,2400.6,2,7.5372,2,-999,9,-999,9
49UF20140623,KS14-05,4237,1,3,24269,2,20140723,1620,-5.0035,164.975,2336,2023.8,2003,2.1970,34.6386,2,34.6379,2,124.45,2,129.97,2,37.70,2,0.00,2,2.67,2,2330.4,2,2405.6,2,7.5438,2,-999,9,-999,9
49UF20140623,KS14-05,4237,1,2,21961,2,20140723,1615,-5.0035,164.975,2336,2276.9,2252,2.0225,34.6485,2,34.6486,2,129.16,2,134.35,2,37.43,2,0.00,2,2.64,2,2331.3,2,2409.8,2,7.5501,2,-999,9,-999,9
49UF20140623,KS14-05,4237,1,1,21960,2,20140723,1613,-5.0035,164.975,2336,2314.2,2289,1.9834,34.6507,2,34.6506,2,129.55,2,135.43,2,37.44,2,0.00,2,2.64,2,2330.6,2,2409.8,2,7.5517,2,-999,9,-999,9