BOTTLE,20171119JMAGEMD
EXPOCODE,SECT_ID,STNNBR,CASTNO,SAMPNO,BTLNBR,BTLNBR_FLAG_W,DATE,TIME,LATITUDE,LONGITUDE,DEPTH,CTDPRS,CTDDEP,CTDTMP,CTDSAL,CTDSAL_FLAG_W,SALNTY,SALNTY_FLAG_W,OXYGEN,OXYGEN_FLAG_W,SILCAT,SILCAT_FLAG_W,NO2+NO3,NO2+NO3_FLAG_W,NITRIT,NITRIT_FLAG_W,PHSPHT,PHSPHT_FLAG_W,TCARBN,TCARBN_FLAG_W,ALKALI,ALKALI_FLAG_W,PH_TOT,PH_TOT_FLAG_W,CFC-11,CFC-11_FLAG_W,CFC-12,CFC-12_FLAG_W
,,,,,,,UTC,UTC,,,METER,DBAR,METERS,ITS-90,PSS-78,,PSS-78,,UMOL/KG,,UMOL/KG,,UMOL/KG,,UMOL/KG,,UMOL/KG,,UMOL/KG,,UMOL/KG,,@25DEG-C,,PMOL/KG,,PMOL/KG,
49UF20140623,KS14-05,4271,1,-999,0,2,20140813,1600,27.9988,164.9978,5516,0.0,0,27.2622,34.6042,2,-999.,9,203.24,2,1.74,2,0.00,2,0.00,2,0.01,2,-999.,9,-999.,9,-999.,9,-999,9,-999,9
49UF20140623,KS14-05,4271,1,36,21995,2,20140813,1618,27.9988,164.9978,5516,11.6,12,27.2255,34.5948,2,-999.,9,204.40,2,1.76,2,0.00,2,0.00,2,0.03,2,-999.,9,-999.,9,-999.,9,-999,9,-999,9
49UF20140623,KS14-05,4271,1,35,22087,2,20140813,1617,27.9988,164.9978,5516,27.3,27,21.5326,34.6416,2,-999.,9,251.37,2,2.03,2,0.00,2,0.00,2,0.02,2,-999.,9,-999.,9,-999.,9,-999,9,-999,9
49UF20140623,KS14-05,4271,1,34,22666,2,20140813,1614,27.9988,164.9978,5516,53.0,53,18.6226,34.6718,2,-999.,9,258.61,2,2.22,2,0.00,2,0.00,2,0.04,2,-999.,9,-999.,9,-999.,9,-999,9,-999,9
49UF20140623,KS14-05,4271,1,33,21992,2,20140813,1613,27.9988,164.9978,5516,77.2,77,17.8110,34.7221,2,-999.,9,241.26,2,2.44,2,0.02,2,0.00,2,0.06,2,-999.,9,-999.,9,-999.,9,-999,9,-999,9
49UF20140623,KS14-05,4271,1,32,21991,2,20140813,1612,27.9988,164.9978,5516,104.5,104,17.0540,34.6884,2,-999.,9,225.90,2,3.16,2,2.06,2,0.34,2,0.19,2,-999.,9,-999.,9,-999.,9,-999,9,-999,9
49UF20140623,KS14-05,4271,1,31,21990,2,20140813,1611,27.9988,164.9978,5516,128.1,127,16.6596,34.6703,2,-999.,9,216.66,2,4.11,2,4.31,2,0.03,2,0.30,2,-999.,9,-999.,9,-999.,9,-999,9,-999,9
49UF20140623,KS14-05,4271,1,30,21989,2,20140813,1611,27.9988,164.9978,5516,154.0,153,16.4250,34.6614,2,-999.,9,219.92,2,4.46,2,4.53,2,0.01,2,0.32,2,-999.,9,-999.,9,-999.,9,-999,9,-999,9
49UF20140623,KS14-05,4271,1,29,21988,2,20140813,1609,27.9988,164.9978,5516,203.8,202,15.9610,34.6361,2,-999.,9,222.56,2,5.20,2,4.97,2,0.01,2,0.35,2,-999.,9,-999.,9,-999.,9,-999,9,-999,9
49UF20140623,KS14-05,4271,1,28,21987,3,20140813,1608,27.9988,164.9978,5516,253.5,252,15.1642,34.5658,2,-999.,9,215.73,2,7.41,2,6.92,2,0.00,2,0.49,2,-999.,9,-999.,9,-999.,9,-999,9,-999,9
49UF20140623,KS14-05,4271,1,27,21986,2,20140813,1606,27.9988,164.9978,5516,305.4,303,14.2498,34.4962,2,-999.,9,216.69,2,9.44,2,8.31,2,0.00,2,0.59,2,-999.,9,-999.,9,-999.,9,-999,9,-999,9
49UF20140623,KS14-05,4271,1,26,21985,2,20140813,1604,27.9988,164.9978,5516,405.9,403,11.8021,34.3166,2,-999.,9,201.13,2,17.16,2,13.71,2,0.00,2,0.97,2,-999.,9,-999.,9,-999.,9,-999,9,-999,9
49UF20140623,KS14-05,4271,1,25,21984,2,20140813,1601,27.9988,164.9978,5516,507.2,503,9.4184,34.1488,2,-999.,9,184.87,6,28.58,6,19.39,6,0.00,6,1.40,6,-999.,9,-999.,9,-999.,9,-999,9,-999,9
49UF20140623,KS14-05,4271,1,24,21983,2,20140813,1559,27.9988,164.9978,5516,607.4,602,6.6320,33.9960,2,-999.,9,155.94,2,51.24,2,27.15,2,0.00,2,1.99,2,-999.,9,-999.,9,-999.,9,-999,9,-999,9
49UF20140623,KS14-05,4271,1,23,22095,2,20140813,1559,27.9988,164.9978,5516,607.4,602,6.6320,33.9960,2,-999.,9,155.76,2,51.26,2,27.18,2,0.00,2,1.99,2,-999.,9,-999.,9,-999.,9,-999,9,-999,9
49UF20140623,KS14-05,4271,1,22,22665,2,20140813,1557,27.9988,164.9978,5516,708.5,703,5.2346,34.0514,2,-999.,9,95.63,2,76.75,2,34.96,2,0.00,2,2.55,2,-999.,9,-999.,9,-999.,9,-999,9,-999,9
49UF20140623,KS14-05,4271,1,21,21980,2,20140813,1554,27.9988,164.9978,5516,809.3,802,4.5584,34.1478,2,-999.,9,62.22,2,94.42,2,38.83,2,0.00,2,2.82,2,-999.,9,-999.,9,-999.,9,-999,9,-999,9
49UF20140623,KS14-05,4271,1,20,21979,2,20140813,1552,27.9988,164.9978,5516,910.2,902,3.9619,34.2419,2,-999.,9,40.35,2,111.64,2,41.42,2,0.00,2,2.99,2,-999.,9,-999.,9,-999.,9,-999,9,-999,9
49UF20140623,KS14-05,4271,1,19,21978,2,20140813,1550,27.9988,164.9978,5516,1009.6,1000,3.5939,34.3075,2,-999.,9,31.48,2,122.75,2,42.52,2,0.00,2,3.07,2,-999.,9,-999.,9,-999.,9,-999,9,-999,9
49UF20140623,KS14-05,4271,1,9,21968,2,20140813,1545,27.9988,164.9978,5516,1212.7,1201,2.9826,34.4287,2,-999.,9,32.17,2,140.30,2,43.12,2,0.00,2,3.11,2,-999.,9,-999.,9,-999.,9,-999,9,-999,9
49UF20140623,KS14-05,4271,1,8,21982,2,20140813,1541,27.9988,164.9978,5516,1417.8,1404,2.5377,34.4949,2,-999.,9,39.10,2,152.55,2,43.01,2,0.00,2,3.08,2,-999.,9,-999.,9,-999.,9,-999,9,-999,9
49UF20140623,KS14-05,4271,1,7,21966,2,20140813,1537,27.9988,164.9978,5516,1618.7,1602,2.2427,34.5507,2,-999.,9,54.62,6,157.92,6,42.18,6,0.00,6,3.01,6,-999.,9,-999.,9,-999.,9,-999,9,-999,9
49UF20140623,KS14-05,4271,1,6,21965,2,20140813,1533,27.9988,164.9978,5516,1822.2,1802,2.0407,34.5880,2,-999.,9,74.04,2,158.07,2,40.96,2,0.00,2,2.92,2,-999.,9,-999.,9,-999.,9,-999,9,-999,9
49UF20140623,KS14-05,4271,1,5,24272,2,20140813,1533,27.9988,164.9978,5516,1822.2,1802,2.0407,34.5880,2,-999.,9,73.76,2,158.04,2,40.98,2,0.00,2,2.92,2,-999.,9,-999.,9,-999.,9,-999,9,-999,9
49UF20140623,KS14-05,4271,1,4,21963,2,20140813,1529,27.9988,164.9978,5516,2025.2,2002,1.8743,34.6162,2,-999.,9,93.75,2,156.10,2,39.74,2,0.00,2,2.82,2,-999.,9,-999.,9,-999.,9,-999,9,-999,9
49UF20140623,KS14-05,4273,1,-999,0,2,20140814,0800,29.986,164.9693,5766,0.0,0,27.0481,34.9112,2,34.9051,2,205.30,2,1.44,2,0.00,2,0.00,2,0.03,2,1986.3,2,2292.5,2,8.0624,2,-999,9,-999,9
49UF20140623,KS14-05,4273,1,36,21995,2,20140814,0829,29.986,164.9693,5766,11.4,11,26.4621,34.9202,2,34.9187,2,205.94,2,1.38,2,0.00,2,0.00,2,0.02,2,1986.0,2,2293.4,2,8.0623,2,-999,9,-999,9
49UF20140623,KS14-05,4273,1,35,22087,2,20140814,0827,29.986,164.9693,5766,26.1,26,26.2139,34.9119,2,-999.0000,9,216.00,2,1.46,2,0.00,2,0.00,2,0.02,2,1988.5,2,2294.9,2,8.0613,2,-999,9,-999,9
49UF20140623,KS14-05,4273,1,34,22666,2,20140814,0826,29.986,164.9693,5766,52.8,52,20.7275,34.9349,2,-999.0000,9,233.93,2,1.82,2,0.00,2,0.00,2,0.03,2,2004.5,2,2294.9,2,8.0308,2,-999,9,-999,9
49UF20140623,KS14-05,4273,1,33,21992,2,20140814,0824,29.986,164.9693,5766,76.7,76,19.2281,34.8434,2,-999.0000,9,232.40,2,1.85,2,0.00,2,0.00,2,0.04,2,2010.0,2,2289.3,2,8.0140,2,-999,9,-999,9
49UF20140623,KS14-05,4273,1,32,21991,2,20140814,0822,29.986,164.9693,5766,103.6,103,18.3285,34.8056,2,34.8052,2,227.51,2,2.14,2,0.03,2,0.02,2,0.07,2,2017.5,2,2288.6,2,8.0002,2,-999,9,-999,9
49UF20140623,KS14-05,4273,1,31,21990,2,20140814,0821,29.986,164.9693,5766,127.2,126,17.8217,34.7816,2,-999.0000,9,223.00,2,2.60,2,1.44,2,0.04,2,0.14,2,2026.4,2,2284.6,2,7.9825,2,-999,9,-999,9
49UF20140623,KS14-05,4273,1,30,21989,2,20140814,0819,29.986,164.9693,5766,153.6,152,17.5309,34.7722,2,-999.0000,9,221.22,2,2.96,2,2.33,2,0.02,2,0.18,2,2027.8,2,2283.2,2,7.9720,2,-999,9,-999,9
49UF20140623,KS14-05,4273,1,29,21988,2,20140814,0818,29.986,164.9693,5766,204.2,203,17.0412,34.7135,2,34.7124,2,223.37,2,3.36,2,2.85,2,0.01,2,0.22,2,2028.2,2,2280.8,2,7.9682,2,-999,9,-999,9
49UF20140623,KS14-05,4273,1,28,21987,2,20140814,0816,29.986,164.9693,5766,253.4,252,16.6804,34.6811,2,-999.0000,9,224.43,2,3.80,2,3.43,2,0.01,2,0.25,2,2032.8,2,2277.7,2,7.9563,2,-999,9,-999,9
49UF20140623,KS14-05,4273,1,27,21986,2,20140814,0815,29.986,164.9693,5766,304.9,303,16.4548,34.6751,2,-999.0000,9,225.74,2,4.33,2,4.04,2,0.01,2,0.29,2,2034.8,2,2279.4,2,7.9543,2,-999,9,-999,9
49UF20140623,KS14-05,4273,1,26,21985,2,20140814,0812,29.986,164.9693,5766,406.8,404,14.7157,34.5266,2,34.5290,2,207.20,6,8.97,6,8.42,6,0.00,6,0.59,6,2066.3,2,2275.5,2,7.8851,2,-999,9,-999,9
49UF20140623,KS14-05,4273,1,25,21984,2,20140814,0810,29.986,164.9693,5766,506.3,502,12.6373,34.3751,2,-999.0000,9,201.72,2,14.67,2,12.31,2,0.00,2,0.87,2,2095.8,2,2272.1,2,7.8195,2,-999,9,-999,9
49UF20140623,KS14-05,4273,1,24,21983,2,20140814,0807,29.986,164.9693,5766,607.5,602,9.7070,34.1667,2,34.1675,2,187.38,2,26.85,2,18.73,2,0.00,2,1.34,2,2139.5,2,2274.6,2,7.7172,2,-999,9,-999,9
49UF20140623,KS14-05,4273,1,23,22095,2,20140814,0805,29.986,164.9693,5766,707.8,702,6.8088,34.0128,2,-999.0000,9,153.05,2,50.25,2,27.15,2,0.00,2,1.98,2,2205.2,2,2285.4,2,7.5829,2,-999,9,-999,9
49UF20140623,KS14-05,4273,1,22,22665,2,20140814,0803,29.986,164.9693,5766,810.1,803,5.5139,34.0407,2,34.0416,2,105.76,2,71.45,2,33.75,2,0.00,2,2.46,2,2257.6,2,2302.5,2,7.4681,2,-999,9,-999,9
49UF20140623,KS14-05,4273,1,21,21980,2,20140814,0800,29.986,164.9693,5766,910.4,902,4.6066,34.1326,2,-999.0000,9,66.13,2,92.58,2,38.55,2,0.00,2,2.80,2,2304.0,2,2322.7,2,7.3957,2,-999,9,-999,9
49UF20140623,KS14-05,4273,1,20,21979,2,20140814,0757,29.986,164.9693,5766,1011.6,1002,4.0499,34.2256,2,34.2250,2,47.24,2,109.29,2,40.82,2,0.00,2,2.96,2,2332.6,2,2344.2,2,7.3630,2,-999,9,-999,9
49UF20140623,KS14-05,4273,1,19,21978,2,20140814,0753,29.986,164.9693,5766,1213.7,1202,3.3512,34.3652,2,34.3644,2,33.45,6,130.00,6,42.73,6,0.00,6,3.08,6,2365.7,2,2362.6,2,7.3548,2,-999,9,-999,9
49UF20140623,KS14-05,4273,1,18,21977,2,20140814,0749,29.986,164.9693,5766,1417.2,1403,2.7799,34.4524,2,34.4525,2,28.77,2,147.87,2,43.63,2,0.00,2,3.13,2,2386.7,2,2391.3,2,7.3488,6,-999,9,-999,9
49UF20140623,KS14-05,4273,1,17,23679,2,20140814,0745,29.986,164.9693,5766,1619.1,1602,2.4313,34.5172,2,34.5181,2,41.07,2,156.21,2,43.06,2,0.00,2,3.08,2,2396.9,3,2404.1,2,7.3778,2,-999,9,-999,9
49UF20140623,KS14-05,4273,1,16,21975,2,20140814,0740,29.986,164.9693,5766,1822.4,1802,2.1725,34.5605,2,34.5605,6,55.68,2,160.91,2,42.25,2,0.00,2,3.01,2,2385.2,2,2408.4,2,7.4023,2,-999,9,-999,9
49UF20140623,KS14-05,4273,1,15,21974,2,20140814,0736,29.986,164.9693,5766,2025.3,2002,1.9795,34.5918,2,34.5915,2,71.29,2,162.72,2,41.27,2,0.00,2,2.93,2,2379.8,2,2415.0,2,7.4321,2,-999,9,-999,9
49UF20140623,KS14-05,4273,1,14,21973,3,20140814,0731,29.986,164.9693,5766,2281.9,2254,1.8023,34.6218,2,34.6213,2,91.38,2,161.38,2,39.99,2,0.00,2,2.83,2,2368.2,2,2418.2,2,7.4725,2,-999,9,-999,9
49UF20140623,KS14-05,4273,1,13,21972,2,20140814,0725,29.986,164.9693,5766,2536.8,2504,1.6931,34.6398,2,34.6394,2,106.32,2,159.25,2,38.99,2,0.00,2,2.76,2,2359.4,6,2419.2,6,7.5012,2,-999,9,-999,9
49UF20140623,KS14-05,4273,1,12,21994,3,20140814,0719,29.986,164.9693,5766,2791.5,2754,1.6161,34.6527,2,34.6526,2,117.58,2,157.02,2,38.22,2,0.00,2,2.70,2,2353.7,2,2421.9,2,7.5183,3,-999,9,-999,9
49UF20140623,KS14-05,4273,1,11,21970,2,20140814,0714,29.986,164.9693,5766,3043.7,3001,1.5682,34.6611,2,34.6614,6,126.21,2,155.32,2,37.69,2,0.00,2,2.66,2,2348.8,2,2419.6,2,-999.0000,5,-999,9,-999,9
49UF20140623,KS14-05,4273,1,10,21969,2,20140814,0709,29.986,164.9693,5766,3299.5,3252,1.5213,34.6694,2,34.6688,2,135.24,6,153.40,6,37.13,6,0.00,6,2.62,6,2341.1,2,2420.2,2,7.5495,2,-999,9,-999,9
49UF20140623,KS14-05,4273,1,9,21968,2,20140814,0703,29.986,164.9693,5766,3558.7,3505,1.4979,34.6746,2,34.6745,2,141.34,2,151.61,2,36.72,2,0.00,2,2.58,2,2337.7,2,2419.8,2,7.5573,2,-999,9,-999,9
49UF20140623,KS14-05,4273,1,8,21982,2,20140814,0653,29.986,164.9693,5766,4066.4,4000,1.4725,34.6823,2,34.6818,6,150.60,2,148.97,2,36.10,2,0.00,2,2.53,2,2332.7,2,2417.9,2,7.5738,2,-999,9,-999,9
49UF20140623,KS14-05,4273,1,7,21966,2,20140814,0648,29.986,164.9693,5766,4322.1,4250,1.4774,34.6847,2,34.6791,4,152.91,2,147.80,2,35.93,2,0.00,2,2.52,2,2332.6,2,2417.1,2,7.5802,2,-999,9,-999,9
49UF20140623,KS14-05,4273,1,6,21965,2,20140814,0643,29.986,164.9693,5766,4578.3,4499,1.4743,34.6876,2,34.6861,2,158.57,2,145.33,2,35.53,2,0.00,2,2.49,2,2323.2,2,2415.5,2,7.5859,2,-999,9,-999,9
49UF20140623,KS14-05,4273,1,5,24272,2,20140814,0633,29.986,164.9693,5766,5096.0,5002,1.4930,34.6916,2,34.6906,6,164.78,2,140.62,2,35.08,2,0.00,2,2.46,2,2317.4,6,2412.6,6,7.5927,2,-999,9,-999,9
49UF20140623,KS14-05,4273,1,4,21963,2,20140814,0628,29.986,164.9693,5766,5354.0,5252,1.5004,34.6936,2,34.6937,2,169.96,2,137.22,2,34.75,2,0.00,2,2.43,2,2321.0,3,2408.4,2,7.5977,6,-999,9,-999,9
49UF20140623,KS14-05,4273,1,3,24269,2,20140814,0623,29.986,164.9693,5766,5611.1,5501,1.5204,34.6946,2,34.6938,6,170.38,2,136.31,2,34.65,2,0.00,2,2.42,2,2310.4,2,2407.5,2,7.5994,2,-999,9,-999,9
49UF20140623,KS14-05,4273,1,2,21961,2,20140814,0618,29.986,164.9693,5766,5869.5,5751,1.5456,34.6952,2,34.6959,2,172.88,2,134.92,2,34.48,2,0.00,2,2.41,2,2314.8,2,2405.7,2,7.6031,6,-999,9,-999,9
49UF20140623,KS14-05,4273,1,1,21960,2,20140814,0615,29.986,164.9693,5766,6021.8,5898,1.5658,34.6955,2,34.6958,6,172.49,6,135.34,6,34.52,6,0.00,6,2.41,6,2310.8,6,2407.2,6,7.6016,2,-999,9,-999,9
49UF20140623,KS14-05,4276,1,-999,0,2,20140815,0308,33.0023,165.0073,6208,0.0,0,26.0059,34.3890,2,-999.,9,209.85,2,1.85,2,0.00,2,0.00,2,0.02,2,-999.,9,-999.,9,-999.,9,-999,9,-999,9
49UF20140623,KS14-05,4276,1,36,21995,3,20140815,0326,33.0023,165.0073,6208,11.4,11,25.0928,34.3806,2,-999.,9,211.88,2,1.84,2,0.00,2,0.00,2,0.02,2,-999.,9,-999.,9,-999.,9,-999,9,-999,9
49UF20140623,KS14-05,4276,1,35,22087,2,20140815,0325,33.0023,165.0073,6208,26.8,27,22.8671,34.4955,2,-999.,9,237.03,2,1.87,2,0.00,2,0.00,2,0.02,2,-999.,9,-999.,9,-999.,9,-999,9,-999,9
49UF20140623,KS14-05,4276,1,34,22666,2,20140815,0322,33.0023,165.0073,6208,51.6,51,18.2751,34.7195,2,-999.,9,241.25,2,2.09,2,0.02,2,0.01,2,0.06,2,-999.,9,-999.,9,-999.,9,-999,9,-999,9
49UF20140623,KS14-05,4276,1,33,21992,2,20140815,0321,33.0023,165.0073,6208,77.0,76,17.4469,34.7197,2,-999.,9,227.45,2,2.79,2,0.58,2,0.08,2,0.13,2,-999.,9,-999.,9,-999.,9,-999,9,-999,9
49UF20140623,KS14-05,4276,1,32,21991,2,20140815,0320,33.0023,165.0073,6208,103.8,103,16.8851,34.6923,2,-999.,9,219.76,2,3.88,2,3.72,2,0.03,2,0.27,2,-999.,9,-999.,9,-999.,9,-999,9,-999,9
49UF20140623,KS14-05,4276,1,31,21990,2,20140815,0319,33.0023,165.0073,6208,126.8,126,16.6319,34.6848,2,-999.,9,218.89,2,4.48,2,4.33,2,0.02,2,0.30,2,-999.,9,-999.,9,-999.,9,-999,9,-999,9
49UF20140623,KS14-05,4276,1,30,21989,2,20140815,0318,33.0023,165.0073,6208,152.5,151,16.4014,34.6687,2,-999.,9,222.05,2,4.59,2,4.43,2,0.01,2,0.31,2,-999.,9,-999.,9,-999.,9,-999,9,-999,9
49UF20140623,KS14-05,4276,1,29,21988,2,20140815,0316,33.0023,165.0073,6208,203.8,202,15.7697,34.6151,2,-999.,9,215.77,6,6.30,6,6.09,6,0.01,6,0.43,6,-999.,9,-999.,9,-999.,9,-999,9,-999,9
49UF20140623,KS14-05,4276,1,28,21987,2,20140815,0315,33.0023,165.0073,6208,254.9,253,14.7751,34.5409,2,-999.,9,211.47,2,8.76,2,7.99,2,0.00,2,0.57,2,-999.,9,-999.,9,-999.,9,-999,9,-999,9
49UF20140623,KS14-05,4276,1,27,21986,2,20140815,0315,33.0023,165.0073,6208,254.9,253,14.7751,34.5409,2,-999.,9,211.53,2,8.74,2,7.98,2,0.00,2,0.57,2,-999.,9,-999.,9,-999.,9,-999,9,-999,9
49UF20140623,KS14-05,4276,1,26,21985,2,20140815,0314,33.0023,165.0073,6208,303.1,301,13.8428,34.4651,2,-999.,9,218.46,2,10.01,2,8.71,2,0.00,2,0.63,2,-999.,9,-999.,9,-999.,9,-999,9,-999,9
49UF20140623,KS14-05,4276,1,25,21984,2,20140815,0311,33.0023,165.0073,6208,404.0,401,11.4114,34.2937,2,-999.,9,204.39,2,18.80,2,14.07,2,0.00,2,1.01,2,-999.,9,-999.,9,-999.,9,-999,9,-999,9
49UF20140623,KS14-05,4276,1,24,21983,2,20140815,0309,33.0023,165.0073,6208,505.7,502,8.8866,34.1023,2,-999.,9,191.49,2,31.47,2,19.84,2,0.00,2,1.45,2,-999.,9,-999.,9,-999.,9,-999,9,-999,9
49UF20140623,KS14-05,4276,1,23,22095,2,20140815,0307,33.0023,165.0073,6208,607.5,602,6.6321,33.9814,2,-999.,9,163.45,6,49.66,6,26.47,6,0.00,6,1.95,6,-999.,9,-999.,9,-999.,9,-999,9,-999,9
49UF20140623,KS14-05,4276,1,22,22665,2,20140815,0304,33.0023,165.0073,6208,708.2,702,5.1377,34.0132,2,-999.,9,110.74,2,75.02,2,33.91,2,0.00,2,2.49,2,-999.,9,-999.,9,-999.,9,-999,9,-999,9
49UF20140623,KS14-05,4276,1,21,21980,2,20140815,0304,33.0023,165.0073,6208,708.2,702,5.1377,34.0132,2,-999.,9,110.70,2,75.00,2,33.95,2,0.00,2,2.48,2,-999.,9,-999.,9,-999.,9,-999,9,-999,9
49UF20140623,KS14-05,4276,1,20,21979,2,20140815,0302,33.0023,165.0073,6208,809.5,802,4.4315,34.1043,2,-999.,9,72.38,2,94.73,2,38.28,2,0.00,2,2.78,2,-999.,9,-999.,9,-999.,9,-999,9,-999,9
49UF20140623,KS14-05,4276,1,19,21978,2,20140815,0300,33.0023,165.0073,6208,911.3,903,4.0292,34.2167,2,-999.,9,51.73,2,109.86,2,40.38,2,0.00,2,2.92,2,-999.,9,-999.,9,-999.,9,-999,9,-999,9
49UF20140623,KS14-05,4276,1,9,21968,2,20140815,0257,33.0023,165.0073,6208,1012.2,1003,3.6257,34.2882,2,-999.,9,37.98,2,121.66,2,41.98,2,0.00,2,3.03,2,-999.,9,-999.,9,-999.,9,-999,9,-999,9
49UF20140623,KS14-05,4276,1,8,21982,2,20140815,0253,33.0023,165.0073,6208,1215.0,1203,3.0715,34.3875,2,-999.,9,30.68,2,138.68,2,43.11,2,0.00,2,3.11,2,-999.,9,-999.,9,-999.,9,-999,9,-999,9
49UF20140623,KS14-05,4276,1,7,21966,2,20140815,0249,33.0023,165.0073,6208,1417.7,1403,2.6703,34.4632,2,-999.,9,32.99,2,150.76,2,43.42,2,0.00,2,3.11,2,-999.,9,-999.,9,-999.,9,-999,9,-999,9
49UF20140623,KS14-05,4276,1,6,21965,2,20140815,0244,33.0023,165.0073,6208,1621.0,1603,2.3958,34.5234,2,-999.,9,44.87,2,156.44,2,42.87,2,0.00,2,3.05,2,-999.,9,-999.,9,-999.,9,-999,9,-999,9
49UF20140623,KS14-05,4276,1,5,24272,2,20140815,0240,33.0023,165.0073,6208,1823.5,1803,2.1534,34.5629,2,-999.,9,57.08,2,161.04,2,42.15,2,0.00,2,3.00,2,-999.,9,-999.,9,-999.,9,-999,9,-999,9
49UF20140623,KS14-05,4276,1,4,21963,3,20140815,0235,33.0023,165.0073,6208,2026.6,2003,1.9782,34.5921,2,-999.,9,71.32,2,162.95,2,41.27,2,0.00,2,2.93,2,-999.,9,-999.,9,-999.,9,-999,9,-999,9