BOTTLE,20171119JMAGEMD
EXPOCODE,SECT_ID,STNNBR,CASTNO,SAMPNO,BTLNBR,BTLNBR_FLAG_W,DATE,TIME,LATITUDE,LONGITUDE,DEPTH,CTDPRS,CTDDEP,CTDTMP,CTDSAL,CTDSAL_FLAG_W,SALNTY,SALNTY_FLAG_W,OXYGEN,OXYGEN_FLAG_W,SILCAT,SILCAT_FLAG_W,NO2+NO3,NO2+NO3_FLAG_W,NITRIT,NITRIT_FLAG_W,PHSPHT,PHSPHT_FLAG_W,TCARBN,TCARBN_FLAG_W,ALKALI,ALKALI_FLAG_W,PH_TOT,PH_TOT_FLAG_W,CFC-11,CFC-11_FLAG_W,CFC-12,CFC-12_FLAG_W
,,,,,,,UTC,UTC,,,METER,DBAR,METERS,ITS-90,PSS-78,,PSS-78,,UMOL/KG,,UMOL/KG,,UMOL/KG,,UMOL/KG,,UMOL/KG,,UMOL/KG,,UMOL/KG,,@25DEG-C,,PMOL/KG,,PMOL/KG,
49UF20140623,KS14-05,4253,1,-999,0,2,20140808,0414,9.9957,163.9915,4976,0.0,0,30.2165,34.0746,2,34.0673,2,194.50,2,1.05,2,0.00,2,0.00,2,0.10,2,1908.2,2,2237.8,2,8.1230,2,-999,9,-999,9
49UF20140623,KS14-05,4253,1,36,21995,2,20140808,0433,9.9957,163.9915,4976,12.6,13,29.8272,34.0861,2,34.0852,2,194.56,2,1.04,2,0.00,2,0.00,2,0.10,2,1910.9,2,2240.1,2,8.1220,2,-999,9,-999,9
49UF20140623,KS14-05,4253,1,35,22087,2,20140808,0432,9.9957,163.9915,4976,26.6,26,29.7194,34.0894,2,-999.0000,9,195.29,2,1.05,2,0.00,2,0.00,2,0.10,2,1909.7,2,2241.2,2,8.1228,2,-999,9,-999,9
49UF20140623,KS14-05,4253,1,34,22666,2,20140808,0429,9.9957,163.9915,4976,51.8,52,29.6158,34.1440,2,-999.0000,9,195.63,2,1.06,2,0.00,2,0.00,2,0.11,2,1911.6,2,2242.6,2,8.1205,2,-999,9,-999,9
49UF20140623,KS14-05,4253,1,33,21992,2,20140808,0428,9.9957,163.9915,4976,75.9,75,28.6164,34.6816,2,-999.0000,9,204.16,2,1.07,2,0.00,2,0.00,2,0.13,2,1951.7,6,2285.0,6,8.1075,2,-999,9,-999,9
49UF20140623,KS14-05,4253,1,32,21991,2,20140808,0427,9.9957,163.9915,4976,102.7,102,25.2927,34.9880,2,34.9806,4,202.53,2,1.48,2,0.00,2,0.00,2,0.17,2,2006.4,2,2307.3,2,8.0531,2,-999,9,-999,9
49UF20140623,KS14-05,4253,1,31,21990,2,20140808,0425,9.9957,163.9915,4976,127.7,127,20.5109,34.9299,2,-999.0000,9,183.47,2,3.01,2,2.22,2,0.18,2,0.38,2,2069.3,2,2308.4,2,7.9402,2,-999,9,-999,9
49UF20140623,KS14-05,4253,1,30,21989,2,20140808,0424,9.9957,163.9915,4976,154.0,153,17.5379,34.7190,2,-999.0000,9,167.59,2,5.55,2,6.94,2,0.03,2,0.61,2,2091.8,2,2292.4,2,7.8657,6,-999,9,-999,9
49UF20140623,KS14-05,4253,1,29,21988,2,20140808,0422,9.9957,163.9915,4976,205.4,204,12.3356,34.4743,2,34.4762,6,91.37,2,21.46,2,22.70,2,0.00,2,1.73,2,2184.1,2,2283.0,2,7.6263,2,-999,9,-999,9
49UF20140623,KS14-05,4253,1,28,21987,2,20140808,0420,9.9957,163.9915,4976,255.5,254,10.2327,34.4481,2,-999.0000,9,70.84,2,31.23,2,28.61,2,0.00,2,2.13,2,2223.5,2,2290.7,2,7.5354,2,-999,9,-999,9
49UF20140623,KS14-05,4253,1,27,21986,2,20140808,0419,9.9957,163.9915,4976,304.6,303,9.3334,34.5112,2,-999.0000,9,54.10,2,37.41,2,32.35,2,0.00,2,2.37,2,2245.1,2,2299.0,2,7.4966,2,-999,9,-999,9
49UF20140623,KS14-05,4253,1,26,21985,2,20140808,0417,9.9957,163.9915,4976,357.4,355,8.4231,34.5426,2,-999.0000,9,59.08,2,43.64,2,34.05,2,0.00,2,2.46,2,2257.2,2,2309.1,2,7.4890,2,-999,9,-999,9
49UF20140623,KS14-05,4253,1,25,21984,2,20140808,0415,9.9957,163.9915,4976,407.1,404,7.9043,34.5291,2,34.5277,2,67.83,2,46.24,2,34.27,2,0.00,2,2.47,2,2255.5,2,2312.6,2,7.4994,2,-999,9,-999,9
49UF20140623,KS14-05,4253,1,24,21983,2,20140808,0413,9.9957,163.9915,4976,459.1,456,7.5476,34.5301,2,-999.0000,9,70.07,6,48.52,6,34.71,6,0.00,6,2.51,6,2256.9,2,2316.5,2,7.5034,2,-999,9,-999,9
49UF20140623,KS14-05,4253,1,23,22095,2,20140808,0411,9.9957,163.9915,4976,508.6,505,7.2961,34.5337,2,-999.0000,9,68.15,2,51.13,2,35.52,2,0.00,2,2.56,2,2265.3,2,2319.0,2,7.4953,2,-999,9,-999,9
49UF20140623,KS14-05,4253,1,22,22665,2,20140808,0408,9.9957,163.9915,4976,608.2,604,6.5939,34.5221,2,34.5238,2,68.87,2,58.87,2,36.63,2,0.00,2,2.66,2,2275.7,2,2327.0,2,7.4857,2,-999,9,-999,9
49UF20140623,KS14-05,4253,1,21,21980,2,20140808,0405,9.9957,163.9915,4976,710.7,705,5.9749,34.5299,2,-999.0000,9,65.05,2,67.78,2,38.21,2,0.00,2,2.77,2,2291.2,2,2336.8,2,7.4703,2,-999,9,-999,9
49UF20140623,KS14-05,4253,1,20,21979,2,20140808,0402,9.9957,163.9915,4976,811.9,806,5.3889,34.5339,2,34.5336,2,66.14,2,77.17,2,39.00,2,0.00,2,2.82,2,2301.2,2,2347.6,2,7.4639,2,-999,9,-999,9
49UF20140623,KS14-05,4253,1,19,21978,2,20140808,0359,9.9957,163.9915,4976,911.0,904,4.8704,34.5440,2,-999.0000,9,70.55,6,86.04,6,39.36,6,0.00,6,2.85,6,2310.2,2,2356.1,2,7.4656,2,-999,9,-999,9
49UF20140623,KS14-05,4253,1,18,21977,2,20140808,0356,9.9957,163.9915,4976,1012.6,1004,4.4404,34.5533,2,34.5527,2,74.82,2,93.98,2,39.54,2,0.00,2,2.85,2,2317.6,2,2365.4,2,7.4719,2,-999,9,-999,9
49UF20140623,KS14-05,4253,1,17,23679,2,20140808,0352,9.9957,163.9915,4976,1214.0,1204,3.6493,34.5722,2,34.5725,2,78.18,2,111.22,2,39.99,2,0.00,2,2.88,2,2335.8,6,2382.0,6,7.4692,2,-999,9,-999,9
49UF20140623,KS14-05,4253,1,16,21975,2,20140808,0347,9.9957,163.9915,4976,1415.4,1403,3.0267,34.5956,2,34.5956,2,89.22,2,123.66,2,39.60,2,0.00,2,2.84,2,2341.3,2,2396.4,2,7.4849,2,-999,9,-999,9
49UF20140623,KS14-05,4253,1,15,21974,2,20140808,0343,9.9957,163.9915,4976,1616.6,1601,2.7026,34.6096,2,34.6099,2,94.72,2,130.69,2,39.43,2,0.00,2,2.82,2,2345.5,2,2403.9,2,7.4955,6,-999,9,-999,9
49UF20140623,KS14-05,4253,1,14,21973,2,20140808,0339,9.9957,163.9915,4976,1820.3,1802,2.4336,34.6233,2,34.6235,2,100.63,2,136.34,2,39.20,2,0.00,2,2.79,2,2349.6,2,2410.1,2,7.5034,2,-999,9,-999,9
49UF20140623,KS14-05,4253,1,13,21972,2,20140808,0336,9.9957,163.9915,4976,2021.7,2001,2.2050,34.6351,2,34.6354,2,105.32,2,141.54,2,39.00,2,0.00,2,2.77,2,2353.8,2,2415.1,2,7.5136,2,-999,9,-999,9
49UF20140623,KS14-05,4253,1,12,21994,2,20140808,0331,9.9957,163.9915,4976,2275.4,2250,2.0141,34.6454,2,34.6454,2,112.21,2,145.17,2,38.54,2,0.00,2,2.73,2,2353.9,2,2421.7,2,7.5193,2,-999,9,-999,9
49UF20140623,KS14-05,4253,1,11,21970,2,20140808,0326,9.9957,163.9915,4976,2530.7,2501,1.8675,34.6564,2,34.6570,2,119.77,2,147.24,2,38.15,2,0.00,2,2.70,2,2352.2,2,2422.9,2,7.5314,2,-999,9,-999,9
49UF20140623,KS14-05,4253,1,10,21969,2,20140808,0322,9.9957,163.9915,4976,2785.4,2751,1.7650,34.6631,2,34.6636,2,125.56,6,147.92,6,37.71,6,0.00,6,2.66,6,2346.7,2,2425.0,2,7.5448,2,-999,9,-999,9
49UF20140623,KS14-05,4253,1,9,21968,2,20140808,0317,9.9957,163.9915,4976,3039.2,3000,1.6335,34.6710,2,34.6713,6,133.57,2,148.86,2,37.19,2,0.00,2,2.61,2,2340.8,2,2423.2,2,7.5554,2,-999,9,-999,9
49UF20140623,KS14-05,4253,1,8,21982,2,20140808,0312,9.9957,163.9915,4976,3295.7,3252,1.5530,34.6767,2,34.6773,2,141.22,2,148.18,2,36.72,2,0.00,2,2.57,2,2341.0,2,2421.6,2,7.5674,2,-999,9,-999,9
49UF20140623,KS14-05,4253,1,7,21966,2,20140808,0308,9.9957,163.9915,4976,3550.5,3501,1.4929,34.6817,2,34.6820,2,149.15,2,145.80,2,36.24,2,0.00,2,2.53,2,2332.5,2,2417.8,2,7.5728,2,-999,9,-999,9
49UF20140623,KS14-05,4253,1,6,21965,2,20140808,0303,9.9957,163.9915,4976,3806.7,3751,1.4447,34.6866,2,34.6866,2,157.62,2,141.29,2,35.52,2,0.00,2,2.48,2,2326.1,2,2414.4,2,7.5860,2,-999,9,-999,9
49UF20140623,KS14-05,4253,1,5,24272,2,20140808,0258,9.9957,163.9915,4976,4062.0,4001,1.4353,34.6891,2,34.6880,2,160.68,2,138.97,2,35.25,2,0.00,2,2.46,2,2320.7,2,2410.1,2,7.5932,2,-999,9,-999,9
49UF20140623,KS14-05,4253,1,4,21963,2,20140808,0253,9.9957,163.9915,4976,4319.2,4252,1.4243,34.6920,2,34.6923,2,167.32,2,136.19,2,34.86,2,0.00,2,2.43,2,2322.2,3,2409.0,2,7.5975,6,-999,9,-999,9
49UF20140623,KS14-05,4253,1,3,24269,2,20140808,0249,9.9957,163.9915,4976,4576.4,4502,1.4161,34.6946,2,34.6931,2,170.73,2,133.60,2,34.62,2,0.00,2,2.42,2,2311.7,6,2404.8,6,7.6017,2,-999,9,-999,9
49UF20140623,KS14-05,4253,1,2,21961,2,20140808,0243,9.9957,163.9915,4976,4833.2,4752,1.3764,34.6991,2,34.6997,6,181.12,2,128.53,2,33.82,2,0.00,2,2.35,2,2295.2,3,2396.7,2,7.6104,2,-999,9,-999,9
49UF20140623,KS14-05,4253,1,1,21960,2,20140808,0238,9.9957,163.9915,4976,5062.3,4975,1.3827,34.7005,2,34.6992,2,181.71,6,127.63,6,33.76,6,0.00,6,2.35,6,2298.8,2,2394.8,2,7.6074,2,-999,9,-999,9
49UF20140623,KS14-05,4254,1,-999,0,2,20140808,1325,10.9937,163.9892,4808,0.0,0,29.8630,34.0668,2,-999.0000,9,194.49,2,1.16,2,0.00,2,0.00,2,0.11,2,-999.,9,-999.,9,-999.,9,-999,9,-999,9
49UF20140623,KS14-05,4254,1,36,21995,2,20140808,1352,10.9937,163.9892,4808,12.0,12,29.8665,34.0661,2,34.0660,2,194.59,2,1.13,2,0.00,2,0.00,2,0.11,2,-999.,9,-999.,9,-999.,9,-999,9,-999,9
49UF20140623,KS14-05,4254,1,35,22087,2,20140808,1351,10.9937,163.9892,4808,27.4,27,29.7237,34.0990,2,-999.0000,9,195.93,2,1.12,2,0.00,2,0.00,2,0.11,2,-999.,9,-999.,9,-999.,9,-999,9,-999,9
49UF20140623,KS14-05,4254,1,34,22666,2,20140808,1348,10.9937,163.9892,4808,52.0,52,28.9475,34.5768,2,-999.0000,9,201.52,2,1.12,2,0.00,2,0.00,2,0.11,2,-999.,9,-999.,9,-999.,9,-999,9,-999,9
49UF20140623,KS14-05,4254,1,33,21992,2,20140808,1347,10.9937,163.9892,4808,77.6,77,27.6606,34.8244,2,-999.0000,9,205.39,2,1.13,2,0.00,2,0.00,2,0.15,2,-999.,9,-999.,9,-999.,9,-999,9,-999,9
49UF20140623,KS14-05,4254,1,32,21991,2,20140808,1346,10.9937,163.9892,4808,102.6,102,26.7447,34.9758,2,34.9761,2,206.33,2,1.23,2,0.00,2,0.00,2,0.16,2,-999.,9,-999.,9,-999.,9,-999,9,-999,9
49UF20140623,KS14-05,4254,1,31,21990,2,20140808,1344,10.9937,163.9892,4808,128.6,128,22.0948,35.0672,2,-999.0000,9,196.30,2,2.06,2,0.26,2,0.07,2,0.25,2,-999.,9,-999.,9,-999.,9,-999,9,-999,9
49UF20140623,KS14-05,4254,1,30,21989,2,20140808,1343,10.9937,163.9892,4808,153.1,152,20.2650,34.9603,2,-999.0000,9,180.15,2,3.12,2,2.78,2,0.10,2,0.39,2,-999.,9,-999.,9,-999.,9,-999,9,-999,9
49UF20140623,KS14-05,4254,1,29,21988,2,20140808,1340,10.9937,163.9892,4808,202.8,202,13.5916,34.4191,2,34.4185,2,141.37,2,14.39,2,15.29,2,0.01,2,1.21,2,-999.,9,-999.,9,-999.,9,-999,9,-999,9
49UF20140623,KS14-05,4254,1,28,21987,2,20140808,1338,10.9937,163.9892,4808,253.9,252,11.1656,34.4971,2,-999.0000,9,69.37,2,27.25,2,27.34,2,0.00,2,2.05,2,-999.,9,-999.,9,-999.,9,-999,9,-999,9
49UF20140623,KS14-05,4254,1,27,21986,2,20140808,1336,10.9937,163.9892,4808,304.3,302,9.8615,34.5258,2,-999.0000,9,52.22,2,34.41,2,31.69,2,0.00,2,2.33,2,-999.,9,-999.,9,-999.,9,-999,9,-999,9
49UF20140623,KS14-05,4254,1,26,21985,2,20140808,1334,10.9937,163.9892,4808,355.1,353,8.8884,34.5545,2,-999.0000,9,53.94,6,39.84,6,33.74,6,0.00,6,2.44,6,-999.,9,-999.,9,-999.,9,-999,9,-999,9
49UF20140623,KS14-05,4254,1,25,21984,2,20140808,1332,10.9937,163.9892,4808,404.9,402,8.3802,34.5388,2,34.5380,6,55.23,2,43.48,2,34.52,2,0.00,2,2.50,2,-999.,9,-999.,9,-999.,9,-999,9,-999,9
49UF20140623,KS14-05,4254,1,24,21983,2,20140808,1330,10.9937,163.9892,4808,454.4,451,7.9102,34.5220,2,-999.0000,9,63.43,2,46.90,2,34.66,2,0.00,2,2.51,2,-999.,9,-999.,9,-999.,9,-999,9,-999,9
49UF20140623,KS14-05,4254,1,23,22095,2,20140808,1328,10.9937,163.9892,4808,506.5,503,7.2808,34.5133,2,-999.0000,9,58.15,2,53.34,2,36.23,2,0.00,2,2.63,2,-999.,9,-999.,9,-999.,9,-999,9,-999,9
49UF20140623,KS14-05,4254,1,22,22665,2,20140808,1325,10.9937,163.9892,4808,607.0,603,6.6772,34.5190,2,34.5176,2,67.16,2,58.80,2,36.74,2,0.00,2,2.66,2,-999.,9,-999.,9,-999.,9,-999,9,-999,9
49UF20140623,KS14-05,4254,1,21,21980,2,20140808,1322,10.9937,163.9892,4808,709.0,704,6.0246,34.5196,2,-999.0000,9,61.36,2,68.31,2,38.42,2,0.00,2,2.79,2,-999.,9,-999.,9,-999.,9,-999,9,-999,9
49UF20140623,KS14-05,4254,1,20,21979,2,20140808,1318,10.9937,163.9892,4808,809.0,803,5.3758,34.5302,2,34.5291,2,57.70,6,78.61,6,39.94,6,0.00,6,2.90,6,-999.,9,-999.,9,-999.,9,-999,9,-999,9
49UF20140623,KS14-05,4254,1,19,21978,2,20140808,1315,10.9937,163.9892,4808,910.1,903,4.9571,34.5367,2,-999.0000,9,59.89,2,86.34,2,40.34,2,0.00,2,2.93,2,-999.,9,-999.,9,-999.,9,-999,9,-999,9
49UF20140623,KS14-05,4254,1,18,21977,2,20140808,1312,10.9937,163.9892,4808,1011.9,1004,4.6159,34.5492,2,34.5468,4,65.18,2,91.45,2,40.39,2,0.00,2,2.92,2,-999.,9,-999.,9,-999.,9,-999,9,-999,9
49UF20140623,KS14-05,4254,1,17,23679,2,20140808,1307,10.9937,163.9892,4808,1212.8,1202,3.8551,34.5656,2,34.5649,2,72.19,2,107.87,2,40.46,2,0.00,2,2.93,2,-999.,9,-999.,9,-999.,9,-999,9,-999,9
49UF20140623,KS14-05,4254,1,16,21975,2,20140808,1302,10.9937,163.9892,4808,1416.1,1403,3.1613,34.5880,2,34.5956,4,84.67,2,121.78,2,39.94,2,0.00,2,2.87,2,-999.,9,-999.,9,-999.,9,-999,9,-999,9
49UF20140623,KS14-05,4254,1,15,21974,2,20140808,1257,10.9937,163.9892,4808,1617.6,1602,2.7215,34.6054,2,34.6059,6,91.70,2,131.73,2,39.72,2,0.00,2,2.84,2,-999.,9,-999.,9,-999.,9,-999,9,-999,9
49UF20140623,KS14-05,4254,1,14,21973,2,20140808,1252,10.9937,163.9892,4808,1821.5,1803,2.3897,34.6228,2,34.6234,2,99.60,2,138.57,2,39.42,2,0.00,2,2.81,2,-999.,9,-999.,9,-999.,9,-999,9,-999,9
49UF20140623,KS14-05,4254,1,13,21972,2,20140808,1247,10.9937,163.9892,4808,2024.4,2003,2.1984,34.6337,2,34.6342,2,105.19,2,142.31,2,39.10,2,0.00,2,2.79,2,-999.,9,-999.,9,-999.,9,-999,9,-999,9
49UF20140623,KS14-05,4254,1,12,21994,2,20140808,1241,10.9937,163.9892,4808,2276.7,2252,2.0137,34.6457,2,34.6457,2,111.83,2,145.85,2,38.71,2,0.00,2,2.74,2,-999.,9,-999.,9,-999.,9,-999,9,-999,9
49UF20140623,KS14-05,4254,1,11,21970,2,20140808,1235,10.9937,163.9892,4808,2531.0,2502,1.8674,34.6556,2,34.6533,4,118.22,6,148.35,6,38.31,6,0.00,6,2.71,6,-999.,9,-999.,9,-999.,9,-999,9,-999,9
49UF20140623,KS14-05,4254,1,10,21969,2,20140808,1230,10.9937,163.9892,4808,2786.0,2752,1.7601,34.6630,2,34.6627,2,124.48,2,148.57,2,37.85,2,0.00,2,2.67,2,-999.,9,-999.,9,-999.,9,-999,9,-999,9
49UF20140623,KS14-05,4254,1,9,21968,2,20140808,1225,10.9937,163.9892,4808,3040.9,3002,1.6610,34.6695,2,34.6689,2,132.17,2,149.53,2,37.40,2,0.00,2,2.63,2,-999.,9,-999.,9,-999.,9,-999,9,-999,9
49UF20140623,KS14-05,4254,1,8,21982,2,20140808,1220,10.9937,163.9892,4808,3295.0,3251,1.5913,34.6745,2,34.6753,2,138.30,2,149.33,2,37.04,2,0.00,2,2.60,2,-999.,9,-999.,9,-999.,9,-999,9,-999,9
49UF20140623,KS14-05,4254,1,7,21966,2,20140808,1215,10.9937,163.9892,4808,3553.1,3503,1.5269,34.6798,2,34.6798,2,145.66,2,146.91,2,36.50,2,0.00,2,2.56,2,-999.,9,-999.,9,-999.,9,-999,9,-999,9
49UF20140623,KS14-05,4254,1,6,21965,2,20140808,1210,10.9937,163.9892,4808,3808.7,3753,1.4726,34.6848,2,34.6850,2,154.68,2,143.73,2,35.91,2,0.00,2,2.51,2,-999.,9,-999.,9,-999.,9,-999,9,-999,9
49UF20140623,KS14-05,4254,1,5,24272,2,20140808,1205,10.9937,163.9892,4808,4064.2,4003,1.4461,34.6884,2,34.6876,2,159.96,2,140.39,2,35.45,2,0.00,2,2.48,2,-999.,9,-999.,9,-999.,9,-999,9,-999,9
49UF20140623,KS14-05,4254,1,4,21963,2,20140808,1200,10.9937,163.9892,4808,4319.8,4252,1.4325,34.6913,2,34.6922,2,166.53,2,137.35,2,35.04,2,0.00,2,2.46,2,-999.,9,-999.,9,-999.,9,-999,9,-999,9
49UF20140623,KS14-05,4254,1,3,24269,2,20140808,1155,10.9937,163.9892,4808,4576.5,4502,1.4288,34.6936,2,34.6936,6,169.50,2,134.96,2,34.77,2,0.00,2,2.43,2,-999.,9,-999.,9,-999.,9,-999,9,-999,9
49UF20140623,KS14-05,4254,1,2,21961,2,20140808,1150,10.9937,163.9892,4808,4832.8,4752,1.4219,34.6962,2,34.6971,2,174.77,6,132.04,6,34.36,6,0.00,6,2.40,6,-999.,9,-999.,9,-999.,9,-999,9,-999,9
49UF20140623,KS14-05,4254,1,1,21960,2,20140808,1148,10.9937,163.9892,4808,4884.0,4801,1.3970,34.6983,2,34.6993,2,178.83,2,130.16,2,34.11,2,0.00,2,2.38,2,-999.,9,-999.,9,-999.,9,-999,9,-999,9