BOTTLE,20171119JMAGEMD
EXPOCODE,SECT_ID,STNNBR,CASTNO,SAMPNO,BTLNBR,BTLNBR_FLAG_W,DATE,TIME,LATITUDE,LONGITUDE,DEPTH,CTDPRS,CTDDEP,CTDTMP,CTDSAL,CTDSAL_FLAG_W,SALNTY,SALNTY_FLAG_W,OXYGEN,OXYGEN_FLAG_W,SILCAT,SILCAT_FLAG_W,NO2+NO3,NO2+NO3_FLAG_W,NITRIT,NITRIT_FLAG_W,PHSPHT,PHSPHT_FLAG_W,TCARBN,TCARBN_FLAG_W,ALKALI,ALKALI_FLAG_W,PH_TOT,PH_TOT_FLAG_W,CFC-11,CFC-11_FLAG_W,CFC-12,CFC-12_FLAG_W
,,,,,,,UTC,UTC,,,METER,DBAR,METERS,ITS-90,PSS-78,,PSS-78,,UMOL/KG,,UMOL/KG,,UMOL/KG,,UMOL/KG,,UMOL/KG,,UMOL/KG,,UMOL/KG,,@25DEG-C,,PMOL/KG,,PMOL/KG,
49UF20140623,KS14-05,4278,1,-999,0,2,20140815,1915,35.0345,165.0283,5889,0.0,0,25.7987,34.4397,2,34.4452,2,207.79,2,1.45,2,0.00,2,0.00,2,0.02,2,1961.8,2,2264.2,2,8.0732,2,-999,9,-999,9
49UF20140623,KS14-05,4278,1,36,21995,2,20140815,1949,35.0345,165.0283,5889,11.4,11,25.7917,34.4400,2,34.4387,2,207.46,2,1.46,2,0.00,2,0.00,2,0.02,2,1966.0,2,2263.4,2,8.0669,2,-999,9,-999,9
49UF20140623,KS14-05,4278,1,35,22087,2,20140815,1948,35.0345,165.0283,5889,26.7,27,25.0723,34.4810,2,-999.0000,9,212.01,2,1.65,2,0.00,2,0.00,2,0.02,2,1973.7,2,2266.4,2,8.0509,2,-999,9,-999,9
49UF20140623,KS14-05,4278,1,34,22666,2,20140815,1947,35.0345,165.0283,5889,52.2,52,20.5470,34.6771,2,-999.0000,9,241.27,6,1.92,6,0.00,6,0.00,6,0.03,6,1992.3,2,2280.1,2,8.0358,2,-999,9,-999,9
49UF20140623,KS14-05,4278,1,33,21992,2,20140815,1945,35.0345,165.0283,5889,76.9,76,18.5811,34.6607,2,-999.0000,9,196.51,2,5.39,2,4.58,2,0.12,2,0.33,2,2031.6,2,2281.4,2,7.9667,2,-999,9,-999,9
49UF20140623,KS14-05,4278,1,32,21991,3,20140815,1943,35.0345,165.0283,5889,102.1,101,17.6909,34.7136,2,34.7124,2,235.89,2,2.40,2,0.38,2,0.09,2,0.10,2,2014.0,2,2283.9,2,7.9989,2,-999,9,-999,9
49UF20140623,KS14-05,4278,1,31,21990,2,20140815,1942,35.0345,165.0283,5889,126.8,126,17.0004,34.7066,2,-999.0000,9,220.62,2,3.55,2,3.50,2,0.02,2,0.25,2,2030.0,2,2280.1,2,7.9620,2,-999,9,-999,9
49UF20140623,KS14-05,4278,1,30,21989,2,20140815,1940,35.0345,165.0283,5889,152.3,151,16.7907,34.7019,2,-999.0000,9,219.94,2,4.01,2,3.98,2,0.01,2,0.29,2,2035.3,2,2281.1,2,7.9602,2,-999,9,-999,9
49UF20140623,KS14-05,4278,1,29,21988,2,20140815,1939,35.0345,165.0283,5889,203.0,201,16.2156,34.6432,2,34.6430,2,213.49,2,5.21,2,5.43,2,0.01,2,0.38,2,2045.2,2,2278.6,2,7.9362,2,-999,9,-999,9
49UF20140623,KS14-05,4278,1,28,21987,2,20140815,1937,35.0345,165.0283,5889,253.8,252,15.5492,34.6085,2,-999.0000,9,209.25,2,7.43,2,7.04,2,0.01,2,0.50,2,2055.8,2,2278.0,2,7.9146,2,-999,9,-999,9
49UF20140623,KS14-05,4278,1,27,21986,2,20140815,1935,35.0345,165.0283,5889,303.1,301,14.5864,34.5374,2,-999.0000,9,200.25,2,11.17,2,9.53,2,0.00,2,0.68,2,2074.1,2,2278.2,2,7.8785,2,-999,9,-999,9
49UF20140623,KS14-05,4278,1,26,21985,2,20140815,1933,35.0345,165.0283,5889,405.5,402,11.2806,34.2626,2,34.2681,4,206.59,2,20.10,2,14.05,2,0.00,2,1.02,2,2114.3,2,2275.5,2,7.7944,2,-999,9,-999,9
49UF20140623,KS14-05,4278,1,25,21984,2,20140815,1931,35.0345,165.0283,5889,505.6,501,8.3892,34.0535,2,-999.0000,9,200.47,2,32.35,2,19.69,2,0.00,2,1.45,2,2150.3,2,2274.1,2,7.7021,2,-999,9,-999,9
49UF20140623,KS14-05,4278,1,24,21983,2,20140815,1928,35.0345,165.0283,5889,606.8,602,6.0852,33.9786,2,33.9809,4,146.34,6,57.65,6,29.03,6,0.00,6,2.14,6,2219.4,2,2290.0,2,7.5473,2,-999,9,-999,9
49UF20140623,KS14-05,4278,1,23,22095,2,20140815,1926,35.0345,165.0283,5889,707.4,701,4.9360,34.0442,2,-999.0000,9,96.06,2,80.80,2,35.43,2,0.00,2,2.59,2,2277.5,2,2311.6,2,7.4411,2,-999,9,-999,9
49UF20140623,KS14-05,4278,1,22,22665,2,20140815,1924,35.0345,165.0283,5889,808.9,801,4.3960,34.1453,2,34.1459,2,64.97,2,97.79,2,38.80,2,0.00,2,2.82,2,2310.4,2,2328.5,2,7.3905,2,-999,9,-999,9
49UF20140623,KS14-05,4278,1,21,21980,2,20140815,1921,35.0345,165.0283,5889,910.6,902,3.8582,34.2444,2,-999.0000,9,43.65,2,114.11,2,41.19,2,0.00,2,2.99,2,2340.8,2,2349.1,2,7.3553,2,-999,9,-999,9
49UF20140623,KS14-05,4278,1,20,21979,2,20140815,1919,35.0345,165.0283,5889,1012.2,1002,3.5140,34.3121,2,34.3107,6,38.00,2,124.80,2,41.89,2,0.00,2,3.04,2,2353.4,2,2360.9,2,7.3495,2,-999,9,-999,9
49UF20140623,KS14-05,4278,1,19,21978,2,20140815,1914,35.0345,165.0283,5889,1214.7,1202,3.0366,34.3998,2,34.3986,2,38.47,2,138.67,2,42.40,2,0.00,2,3.07,2,2369.6,2,2377.5,2,7.3572,2,-999,9,-999,9
49UF20140623,KS14-05,4278,1,18,21977,2,20140815,1909,35.0345,165.0283,5889,1417.7,1403,2.6410,34.4656,2,34.4644,2,37.13,2,150.33,2,42.88,2,0.00,2,3.09,2,2384.5,2,2392.2,2,7.3625,2,-999,9,-999,9
49UF20140623,KS14-05,4278,1,17,23679,2,20140815,1904,35.0345,165.0283,5889,1618.9,1601,2.3576,34.5150,2,34.5136,2,43.64,2,157.93,2,42.75,2,0.00,2,3.06,2,2388.0,2,2401.6,2,7.3743,2,-999,9,-999,9
49UF20140623,KS14-05,4278,1,16,21975,2,20140815,1853,35.0345,165.0283,5889,1832.6,1811,2.1427,34.5591,2,34.5571,4,54.94,2,162.32,2,42.13,2,0.00,2,3.01,2,2385.9,6,2410.0,6,7.4006,2,-999,9,-999,9
49UF20140623,KS14-05,4278,1,15,21974,2,20140815,1847,35.0345,165.0283,5889,2027.7,2003,1.9899,34.5857,2,34.5855,6,67.85,2,163.54,2,41.35,2,0.00,2,2.95,2,2378.4,6,2412.4,2,7.4217,2,-999,9,-999,9
49UF20140623,KS14-05,4278,1,14,21973,2,20140815,1840,35.0345,165.0283,5889,2283.6,2255,1.8247,34.6146,2,34.6143,2,85.01,2,163.66,2,40.22,2,0.00,2,2.87,2,2373.6,2,2417.9,2,7.4539,2,-999,9,-999,9
49UF20140623,KS14-05,4278,1,13,21972,2,20140815,1835,35.0345,165.0283,5889,2538.8,2505,1.6967,34.6367,2,34.6386,4,102.42,3,161.39,2,39.16,2,0.00,2,2.78,2,2362.8,2,2418.2,2,7.4914,6,-999,9,-999,9
49UF20140623,KS14-05,4278,1,12,21994,2,20140815,1829,35.0345,165.0283,5889,2791.6,2753,1.6117,34.6509,2,34.6505,2,114.92,2,159.19,2,38.31,2,0.00,2,2.71,2,2355.3,2,2420.0,2,7.5151,2,-999,9,-999,9
49UF20140623,KS14-05,4278,1,11,21970,2,20140815,1824,35.0345,165.0283,5889,3045.4,3002,1.5563,34.6607,2,34.6604,2,124.77,6,157.16,6,37.68,6,0.00,6,2.66,6,2346.8,2,2420.2,2,7.5355,2,-999,9,-999,9
49UF20140623,KS14-05,4278,1,10,21969,2,20140815,1819,35.0345,165.0283,5889,3303.1,3254,1.5197,34.6687,2,34.6681,6,133.62,2,154.52,2,37.16,2,0.00,2,2.62,2,2341.0,2,2421.8,2,7.5470,2,-999,9,-999,9
49UF20140623,KS14-05,4278,1,9,21968,2,20140815,1814,35.0345,165.0283,5889,3558.3,3503,1.5003,34.6736,2,34.6728,2,139.37,2,153.11,2,36.80,2,0.00,2,2.59,2,2338.0,2,2420.7,2,7.5599,2,-999,9,-999,9
49UF20140623,KS14-05,4278,1,8,21982,2,20140815,1804,35.0345,165.0283,5889,4068.7,4001,1.4793,34.6813,2,34.6807,2,148.83,2,150.79,2,36.18,2,0.00,2,2.54,2,2333.7,2,2418.7,2,7.5729,2,-999,9,-999,9
49UF20140623,KS14-05,4278,1,7,21966,2,20140815,1759,35.0345,165.0283,5889,4326.1,4252,1.4808,34.6839,2,34.6827,4,150.95,2,149.71,2,35.96,2,0.00,2,2.53,2,2331.3,2,2419.5,3,7.5779,2,-999,9,-999,9
49UF20140623,KS14-05,4278,1,6,21965,2,20140815,1754,35.0345,165.0283,5889,4582.4,4501,1.4892,34.6860,2,34.6862,6,154.98,2,148.95,2,35.75,2,0.00,2,2.51,2,2328.7,2,2416.0,2,7.5817,2,-999,9,-999,9
49UF20140623,KS14-05,4278,1,5,24272,2,20140815,1745,35.0345,165.0283,5889,5097.5,5001,1.5150,34.6895,2,34.6887,2,160.17,2,145.17,2,35.30,2,0.00,2,2.48,2,2322.2,6,2413.6,6,7.5894,2,-999,9,-999,9
49UF20140623,KS14-05,4278,1,4,21963,2,20140815,1740,35.0345,165.0283,5889,5356.0,5252,1.5225,34.6916,2,34.6923,2,165.36,2,141.09,2,34.99,2,0.00,2,2.44,2,2318.3,2,2409.6,2,7.5964,6,-999,9,-999,9
49UF20140623,KS14-05,4278,1,3,24269,2,20140815,1735,35.0345,165.0283,5889,5613.5,5501,1.5374,34.6932,2,34.6934,6,168.18,2,138.64,2,34.78,2,0.00,2,2.44,2,2318.5,2,2408.0,2,7.5974,2,-999,9,-999,9
49UF20140623,KS14-05,4278,1,2,21961,2,20140815,1731,35.0345,165.0283,5889,5866.8,5746,1.5575,34.6943,2,34.6946,2,170.62,6,136.92,6,34.61,6,0.00,6,2.42,6,2311.7,6,2407.5,6,7.6018,2,-999,9,-999,9
49UF20140623,KS14-05,4278,1,1,21960,2,20140815,1728,35.0345,165.0283,5889,6010.0,5884,1.5674,34.6953,2,34.6954,6,171.52,2,136.39,2,34.57,2,0.00,2,2.41,2,2311.4,2,2406.0,2,7.6008,6,-999,9,-999,9