BOTTLE,20171119JMAGEMD
EXPOCODE,SECT_ID,STNNBR,CASTNO,SAMPNO,BTLNBR,BTLNBR_FLAG_W,DATE,TIME,LATITUDE,LONGITUDE,DEPTH,CTDPRS,CTDDEP,CTDTMP,CTDSAL,CTDSAL_FLAG_W,SALNTY,SALNTY_FLAG_W,OXYGEN,OXYGEN_FLAG_W,SILCAT,SILCAT_FLAG_W,NO2+NO3,NO2+NO3_FLAG_W,NITRIT,NITRIT_FLAG_W,PHSPHT,PHSPHT_FLAG_W,TCARBN,TCARBN_FLAG_W,ALKALI,ALKALI_FLAG_W,PH_TOT,PH_TOT_FLAG_W,CFC-11,CFC-11_FLAG_W,CFC-12,CFC-12_FLAG_W
,,,,,,,UTC,UTC,,,METER,DBAR,METERS,ITS-90,PSS-78,,PSS-78,,UMOL/KG,,UMOL/KG,,UMOL/KG,,UMOL/KG,,UMOL/KG,,UMOL/KG,,UMOL/KG,,@25DEG-C,,PMOL/KG,,PMOL/KG,
49UF20140623,KS14-05,4197,1,-999,0,2,20140625,0009,29.9985,136.9713,4311,0.0,0,22.9786,34.2038,2,34.2335,2,217.32,2,1.71,2,0.01,2,0.00,2,0.02,4,1958.6,2,2250.9,2,8.0512,2,-999,9,-999,9
49UF20140623,KS14-05,4197,1,36,21995,2,20140625,0049,29.9985,136.9713,4311,11.1,11,23.0039,34.5205,2,34.5085,4,217.85,2,1.73,2,0.00,2,0.00,2,0.01,4,1973.9,2,2266.8,2,8.0438,2,-999,9,-999,9
49UF20140623,KS14-05,4197,1,35,22087,2,20140625,0048,29.9985,136.9713,4311,26.5,26,22.1931,34.5541,2,-999.0000,9,221.89,2,1.68,2,0.00,2,0.00,2,0.01,4,1980.1,2,2270.6,2,8.0410,6,-999,9,-999,9
49UF20140623,KS14-05,4197,1,34,22666,2,20140625,0045,29.9985,136.9713,4311,51.3,51,20.5173,34.6753,2,-999.0000,9,227.97,2,1.74,2,0.00,2,0.00,2,0.01,4,1994.1,2,2278.5,2,8.0256,2,-999,9,-999,9
49UF20140623,KS14-05,4197,1,33,21992,2,20140625,0044,29.9985,136.9713,4311,76.5,76,19.3947,34.7653,2,-999.0000,9,229.87,2,1.86,2,0.04,2,0.05,2,0.03,4,2003.8,2,2285.2,2,8.0229,2,-999,9,-999,9
49UF20140623,KS14-05,4197,1,32,21991,2,20140625,0043,29.9985,136.9713,4311,101.2,100,18.4298,34.7805,2,34.7815,2,222.06,2,2.35,2,1.35,2,0.12,2,0.10,4,2014.7,6,2284.2,6,7.9713,2,-999,9,-999,9
49UF20140623,KS14-05,4197,1,31,21990,2,20140625,0041,29.9985,136.9713,4311,126.7,126,18.1968,34.7699,2,-999.0000,9,218.39,2,2.72,2,2.06,2,0.03,2,0.14,4,2019.5,2,2284.8,2,7.9889,2,-999,9,-999,9
49UF20140623,KS14-05,4197,1,30,21989,2,20140625,0040,29.9985,136.9713,4311,151.9,151,18.0171,34.7656,2,-999.0000,9,217.62,2,2.93,2,2.43,2,0.02,2,0.17,4,2022.9,2,2284.8,2,7.9827,2,-999,9,-999,9
49UF20140623,KS14-05,4197,1,29,21988,2,20140625,0038,29.9985,136.9713,4311,202.5,201,17.5116,34.7449,2,34.7435,2,218.81,2,3.30,2,2.91,2,0.01,2,0.20,4,2030.0,2,2281.8,2,7.9679,2,-999,9,-999,9
49UF20140623,KS14-05,4197,1,28,21987,2,20140625,0036,29.9985,136.9713,4311,252.6,251,17.2154,34.7343,2,-999.0000,9,220.54,2,3.62,2,3.24,2,0.01,2,0.22,4,2025.4,2,2281.4,2,7.9726,2,-999,9,-999,9
49UF20140623,KS14-05,4197,1,27,21986,2,20140625,0034,29.9985,136.9713,4311,303.9,302,16.9320,34.7146,2,-999.0000,9,216.97,2,4.23,2,4.11,2,0.01,2,0.28,4,2031.9,2,2281.7,2,7.9612,2,-999,9,-999,9
49UF20140623,KS14-05,4197,1,26,21985,2,20140625,0030,29.9985,136.9713,4311,404.2,401,15.4386,34.5883,2,34.5874,2,186.57,2,10.13,2,9.39,2,0.00,2,0.64,4,2071.7,2,2279.6,2,7.8802,2,-999,9,-999,9
49UF20140623,KS14-05,4197,1,25,21984,2,20140625,0028,29.9985,136.9713,4311,505.7,502,14.1517,34.5035,2,-999.0000,9,179.51,2,14.55,2,12.08,2,0.00,2,0.84,4,2093.1,2,2277.4,2,7.8344,2,-999,9,-999,9
49UF20140623,KS14-05,4197,1,24,21983,2,20140625,0025,29.9985,136.9713,4311,605.7,601,10.6678,34.2921,2,34.2926,6,162.14,2,30.43,2,19.34,2,0.00,2,1.38,4,2147.6,2,2281.7,2,7.7112,2,-999,9,-999,9
49UF20140623,KS14-05,4197,1,23,22095,2,20140625,0022,29.9985,136.9713,4311,707.2,701,7.9680,34.1940,2,-999.0000,9,130.88,6,52.84,6,26.91,6,0.00,6,1.94,4,2206.9,2,2296.8,2,7.5967,2,-999,9,-999,9
49UF20140623,KS14-05,4197,1,22,22665,2,20140625,0018,29.9985,136.9713,4311,808.7,802,6.4811,34.1976,2,34.1984,2,104.82,2,71.23,2,31.80,2,0.00,2,2.30,4,2249.8,2,2313.5,2,7.5169,2,-999,9,-999,9
49UF20140623,KS14-05,4197,1,21,21980,2,20140625,0015,29.9985,136.9713,4311,909.3,901,4.9814,34.2094,2,-999.0000,9,78.48,2,92.04,2,36.57,2,0.00,2,2.64,4,2294.7,2,2327.8,2,7.4480,3,-999,9,-999,9
49UF20140623,KS14-05,4197,1,20,21979,2,20140625,0015,29.9985,136.9713,4311,909.3,901,4.9814,34.2094,2,-999.0000,9,78.27,2,92.09,2,36.56,2,0.00,2,2.64,4,2293.6,2,2330.0,2,7.4389,2,-999,9,-999,9
49UF20140623,KS14-05,4197,1,19,21978,2,20140625,0011,29.9985,136.9713,4311,1010.5,1001,4.3560,34.3063,2,34.3074,6,65.01,2,107.10,2,38.65,2,0.00,2,2.78,4,2316.9,2,2349.0,2,7.4188,6,-999,9,-999,9
49UF20140623,KS14-05,4197,1,18,21977,2,20140625,0007,29.9985,136.9713,4311,1212.4,1201,3.4443,34.4094,2,34.4094,2,60.16,2,126.13,2,40.26,2,0.00,2,2.89,4,2328.1,3,-999.0,5,7.4067,2,-999,9,-999,9
49UF20140623,KS14-05,4197,1,17,23679,2,20140625,0001,29.9985,136.9713,4311,1417.6,1403,2.8919,34.4762,2,34.4762,2,66.42,2,137.17,2,40.48,2,0.00,2,2.89,4,-999.0,5,2387.5,2,7.4181,2,-999,9,-999,9
49UF20140623,KS14-05,4197,1,16,21975,2,20140625,2355,29.9985,136.9713,4311,1619.8,1603,2.5075,34.5262,2,34.5257,2,75.89,2,143.58,2,40.25,2,0.00,2,2.86,4,-999.0,5,2400.7,2,7.4397,2,-999,9,-999,9
49UF20140623,KS14-05,4197,1,15,21974,2,20140625,2350,29.9985,136.9713,4311,1822.2,1802,2.2522,34.5638,2,34.5641,2,88.64,6,145.61,6,39.59,6,0.00,6,2.81,4,-999.0,5,2348.7,4,-999.0000,5,-999,9,-999,9
49UF20140623,KS14-05,4197,1,14,21973,2,20140625,2345,29.9985,136.9713,4311,2025.1,2002,2.0441,34.5951,2,34.5961,6,103.15,2,145.92,2,38.74,2,0.00,2,2.74,4,2351.1,3,2408.9,2,7.4944,2,-999,9,-999,9
49UF20140623,KS14-05,4197,1,13,21972,2,20140625,2339,29.9985,136.9713,4311,2277.9,2250,1.8637,34.6209,2,34.6208,2,114.31,2,146.51,2,38.14,2,0.00,2,2.69,4,2346.4,2,2412.1,2,7.5139,2,-999,9,-999,9
49UF20140623,KS14-05,4197,1,12,21994,2,20140625,2332,29.9985,136.9713,4311,2532.6,2500,1.7496,34.6393,2,34.6390,2,125.67,2,145.38,2,37.48,2,0.00,2,2.63,4,2340.8,2,2416.4,2,7.5352,2,-999,9,-999,9
49UF20140623,KS14-05,4197,1,11,21970,2,20140625,2325,29.9985,136.9713,4311,2787.5,2750,1.6738,34.6516,2,34.6514,2,133.83,2,144.11,2,36.97,2,0.00,2,2.59,4,2336.8,6,2415.7,6,7.5436,3,-999,9,-999,9
49UF20140623,KS14-05,4197,1,10,21969,2,20140625,2319,29.9985,136.9713,4311,3043.8,3001,1.6026,34.6627,2,34.6624,6,141.07,2,143.31,2,36.53,2,0.00,2,2.55,4,2331.4,2,2417.7,2,7.5606,2,-999,9,-999,9
49UF20140623,KS14-05,4197,1,9,21968,2,20140625,2313,29.9985,136.9713,4311,3299.1,3251,1.5535,34.6708,2,34.6705,2,146.88,2,142.63,2,36.21,2,0.00,2,2.53,4,2329.7,2,2415.7,2,7.5703,6,-999,9,-999,9
49UF20140623,KS14-05,4197,1,8,21982,2,20140625,2306,29.9985,136.9713,4311,3554.8,3501,1.5311,34.6761,2,34.6764,6,150.58,6,142.10,6,35.95,6,0.00,6,2.51,4,2327.2,2,2421.3,2,7.5748,2,-999,9,-999,9
49UF20140623,KS14-05,4197,1,7,21966,2,20140625,2301,29.9985,136.9713,4311,3809.5,3750,1.5328,34.6787,2,34.6786,2,152.61,2,141.85,2,35.84,2,0.00,2,2.50,4,2332.3,2,2418.5,2,7.5786,2,-999,9,-999,9
49UF20140623,KS14-05,4197,1,6,21965,2,20140625,2255,29.9985,136.9713,4311,4067.1,4001,1.5502,34.6799,2,34.6796,2,153.47,2,141.77,2,35.78,2,0.00,2,2.49,4,2325.4,2,2419.7,2,7.5783,2,-999,9,-999,9
49UF20140623,KS14-05,4197,1,5,22085,2,20140625,2255,29.9985,136.9713,4311,4067.1,4001,1.5502,34.6799,2,34.6786,4,152.84,2,141.84,2,35.82,2,0.00,2,2.50,4,2325.6,2,2418.7,2,7.5832,2,-999,9,-999,9
49UF20140623,KS14-05,4197,1,4,21963,2,20140625,2250,29.9985,136.9713,4311,4324.2,4252,1.5741,34.6802,2,34.6802,2,153.84,2,141.51,2,35.77,2,0.00,2,2.49,4,2327.7,6,2416.2,6,7.5816,2,-999,9,-999,9
49UF20140623,KS14-05,4197,1,3,22079,2,20140625,2244,29.9985,136.9713,4311,4578.9,4499,1.5989,34.6809,2,34.6802,4,153.83,2,141.30,2,35.73,2,0.00,2,2.49,4,2326.0,2,2414.6,2,7.5657,3,-999,9,-999,9
49UF20140623,KS14-05,4197,1,2,21961,2,20140625,2244,29.9985,136.9713,4311,4578.9,4499,1.5989,34.6809,2,34.6824,4,154.22,2,141.38,2,35.75,2,0.00,2,2.49,4,2329.1,2,2415.6,2,7.5837,2,-999,9,-999,9
49UF20140623,KS14-05,4197,1,1,21960,2,20140625,2243,29.9985,136.9713,4311,4596.2,4516,1.6009,34.6809,2,34.6810,2,154.20,2,141.49,2,35.75,2,0.00,2,2.50,4,2325.3,2,2416.9,2,7.5837,2,-999,9,-999,9
49UF20140623,KS14-05,4198,1,-999,0,2,20140626,1021,28.9958,137.0122,4480,0.0,0,24.7640,34.3885,2,-999.,9,210.38,2,1.30,2,0.00,2,0.00,2,0.02,2,-999.,9,-999.,9,-999.,9,-999,9,-999,9
49UF20140623,KS14-05,4198,1,36,21995,2,20140626,1038,28.9958,137.0122,4480,11.9,12,24.7725,34.4619,2,-999.,9,210.16,2,1.32,2,0.01,2,0.00,2,0.01,2,-999.,9,-999.,9,-999.,9,-999,9,-999,9
49UF20140623,KS14-05,4198,1,35,22087,2,20140626,1037,28.9958,137.0122,4480,26.8,27,24.7599,34.6858,2,-999.,9,211.45,2,1.31,2,0.00,2,0.00,2,0.01,2,-999.,9,-999.,9,-999.,9,-999,9,-999,9
49UF20140623,KS14-05,4198,1,34,22666,2,20140626,1035,28.9958,137.0122,4480,51.3,51,22.2068,34.9045,2,-999.,9,227.44,2,1.46,2,0.00,2,0.00,2,0.01,2,-999.,9,-999.,9,-999.,9,-999,9,-999,9
49UF20140623,KS14-05,4198,1,33,21992,2,20140626,1033,28.9958,137.0122,4480,76.9,76,20.8538,34.8385,2,-999.,9,223.99,6,1.63,6,0.00,6,0.00,6,0.02,6,-999.,9,-999.,9,-999.,9,-999,9,-999,9
49UF20140623,KS14-05,4198,1,32,21991,2,20140626,1032,28.9958,137.0122,4480,102.1,101,20.5453,34.8288,2,-999.,9,221.51,2,1.72,2,0.00,2,0.01,2,0.03,2,-999.,9,-999.,9,-999.,9,-999,9,-999,9
49UF20140623,KS14-05,4198,1,31,21990,2,20140626,1032,28.9958,137.0122,4480,102.1,101,20.5453,34.8288,2,-999.,9,221.45,2,1.71,2,0.01,2,0.01,2,0.03,2,-999.,9,-999.,9,-999.,9,-999,9,-999,9
49UF20140623,KS14-05,4198,1,27,21986,2,20140626,1031,28.9958,137.0122,4480,128.0,127,19.9557,34.8224,2,-999.,9,211.98,2,1.98,2,0.54,2,0.14,2,0.07,2,-999.,9,-999.,9,-999.,9,-999,9,-999,9
49UF20140623,KS14-05,4198,1,26,21985,2,20140626,1030,28.9958,137.0122,4480,152.3,151,19.4404,34.8194,2,-999.,9,210.85,2,2.26,2,1.56,2,0.03,2,0.12,2,-999.,9,-999.,9,-999.,9,-999,9,-999,9
49UF20140623,KS14-05,4198,1,25,21984,2,20140626,1029,28.9958,137.0122,4480,203.0,202,18.5429,34.7800,2,-999.,9,207.46,2,2.91,2,2.77,2,0.01,2,0.19,2,-999.,9,-999.,9,-999.,9,-999,9,-999,9
49UF20140623,KS14-05,4198,1,21,21980,2,20140626,1027,28.9958,137.0122,4480,254.7,253,17.6900,34.7396,2,-999.,9,206.98,2,3.64,2,3.86,2,0.01,2,0.26,2,-999.,9,-999.,9,-999.,9,-999,9,-999,9
49UF20140623,KS14-05,4198,1,20,21979,2,20140626,1025,28.9958,137.0122,4480,303.8,302,16.8118,34.6837,2,-999.,9,200.26,2,5.49,2,5.95,2,0.00,2,0.40,2,-999.,9,-999.,9,-999.,9,-999,9,-999,9
49UF20140623,KS14-05,4198,1,19,21978,2,20140626,1023,28.9958,137.0122,4480,406.2,403,15.3191,34.5799,2,-999.,9,188.25,6,9.92,6,9.38,6,0.00,6,0.64,6,-999.,9,-999.,9,-999.,9,-999,9,-999,9
49UF20140623,KS14-05,4198,1,15,21974,2,20140626,1020,28.9958,137.0122,4480,506.3,502,13.0344,34.4297,2,-999.,9,177.17,2,18.40,2,14.12,2,0.00,2,1.00,2,-999.,9,-999.,9,-999.,9,-999,9,-999,9
49UF20140623,KS14-05,4198,1,14,21973,2,20140626,1020,28.9958,137.0122,4480,506.3,502,13.0344,34.4297,2,-999.,9,176.83,2,18.43,2,14.12,2,0.00,2,0.99,2,-999.,9,-999.,9,-999.,9,-999,9,-999,9
49UF20140623,KS14-05,4198,1,13,21972,2,20140626,1018,28.9958,137.0122,4480,606.9,602,10.2459,34.2606,2,-999.,9,163.53,2,32.22,2,19.96,2,0.00,2,1.43,2,-999.,9,-999.,9,-999.,9,-999,9,-999,9
49UF20140623,KS14-05,4198,1,12,21994,2,20140626,1015,28.9958,137.0122,4480,708.2,702,7.8005,34.1779,2,-999.,9,133.32,2,53.29,2,26.98,2,0.00,2,1.96,2,-999.,9,-999.,9,-999.,9,-999,9,-999,9
49UF20140623,KS14-05,4198,1,11,21970,2,20140626,1013,28.9958,137.0122,4480,810.9,804,5.8527,34.1585,2,-999.,9,100.54,2,76.08,2,33.25,2,0.00,2,2.42,2,-999.,9,-999.,9,-999.,9,-999,9,-999,9
49UF20140623,KS14-05,4198,1,10,21969,2,20140626,1010,28.9958,137.0122,4480,911.1,903,5.0188,34.2543,2,-999.,9,76.31,2,94.23,2,36.68,2,0.00,2,2.66,2,-999.,9,-999.,9,-999.,9,-999,9,-999,9
49UF20140623,KS14-05,4198,1,6,21965,2,20140626,1008,28.9958,137.0122,4480,1011.9,1003,4.2318,34.3067,2,-999.,9,62.40,2,109.31,2,39.05,2,0.00,2,2.83,2,-999.,9,-999.,9,-999.,9,-999,9,-999,9
49UF20140623,KS14-05,4198,1,5,22085,2,20140626,1003,28.9958,137.0122,4480,1215.8,1204,3.2629,34.4026,2,-999.,9,51.07,2,131.07,2,41.29,2,0.00,2,2.97,2,-999.,9,-999.,9,-999.,9,-999,9,-999,9
49UF20140623,KS14-05,4198,1,4,21963,2,20140626,0959,28.9958,137.0122,4480,1416.5,1402,2.7841,34.4707,2,-999.,9,55.00,2,142.16,2,41.58,2,0.00,2,2.98,2,-999.,9,-999.,9,-999.,9,-999,9,-999,9
49UF20140623,KS14-05,4198,1,3,22079,2,20140626,0955,28.9958,137.0122,4480,1619.3,1602,2.4317,34.5288,2,-999.,9,70.41,2,147.29,2,40.77,2,0.00,2,2.91,2,-999.,9,-999.,9,-999.,9,-999,9,-999,9
49UF20140623,KS14-05,4198,1,2,21961,2,20140626,0951,28.9958,137.0122,4480,1821.2,1801,2.1800,34.5675,2,-999.,9,84.56,4,149.56,2,40.12,2,0.00,2,2.85,2,-999.,9,-999.,9,-999.,9,-999,9,-999,9
49UF20140623,KS14-05,4198,1,1,21960,2,20140626,0947,28.9958,137.0122,4480,2026.6,2003,1.9960,34.5990,2,-999.,9,100.40,2,148.44,2,39.07,2,0.00,2,2.77,2,-999.,9,-999.,9,-999.,9,-999,9,-999,9
49UF20140623,KS14-05,4199,1,-999,0,2,20140626,1730,28.0097,137.0027,4164,0.0,0,24.5357,34.5106,2,-999.,9,212.14,2,1.40,2,0.00,2,0.00,2,0.01,2,-999.,9,-999.,9,-999.,9,-999,9,-999,9
49UF20140623,KS14-05,4199,1,36,21995,2,20140626,1746,28.0097,137.0027,4164,11.1,11,24.3775,34.5150,2,-999.,9,214.44,2,1.37,2,0.00,2,0.00,2,0.01,2,-999.,9,-999.,9,-999.,9,-999,9,-999,9
49UF20140623,KS14-05,4199,1,35,22087,2,20140626,1745,28.0097,137.0027,4164,26.9,27,22.4734,34.5666,2,-999.,9,222.12,2,1.46,2,0.00,2,0.00,2,0.01,2,-999.,9,-999.,9,-999.,9,-999,9,-999,9
49UF20140623,KS14-05,4199,1,34,22666,2,20140626,1742,28.0097,137.0027,4164,51.8,51,20.8323,34.8403,2,-999.,9,227.76,2,1.59,2,0.00,2,0.00,2,0.01,2,-999.,9,-999.,9,-999.,9,-999,9,-999,9
49UF20140623,KS14-05,4199,1,33,21992,2,20140626,1741,28.0097,137.0027,4164,77.3,77,19.7407,34.8320,2,-999.,9,223.53,2,1.81,2,0.28,2,0.05,2,0.04,2,-999.,9,-999.,9,-999.,9,-999,9,-999,9
49UF20140623,KS14-05,4199,1,32,21991,2,20140626,1740,28.0097,137.0027,4164,102.1,101,19.1362,34.8109,2,-999.,9,221.35,2,1.96,2,0.86,2,0.14,2,0.07,2,-999.,9,-999.,9,-999.,9,-999,9,-999,9
49UF20140623,KS14-05,4199,1,31,21990,2,20140626,1738,28.0097,137.0027,4164,127.8,127,18.7485,34.7967,2,-999.,9,216.72,6,2.31,6,1.61,6,0.04,6,0.12,6,-999.,9,-999.,9,-999.,9,-999,9,-999,9
49UF20140623,KS14-05,4199,1,27,21986,2,20140626,1737,28.0097,137.0027,4164,152.6,152,18.5302,34.7856,2,-999.,9,216.12,2,2.49,2,1.96,2,0.02,2,0.15,2,-999.,9,-999.,9,-999.,9,-999,9,-999,9
49UF20140623,KS14-05,4199,1,26,21985,2,20140626,1737,28.0097,137.0027,4164,152.6,152,18.5302,34.7856,2,-999.,9,215.82,2,2.49,2,1.96,2,0.03,2,0.15,2,-999.,9,-999.,9,-999.,9,-999,9,-999,9
49UF20140623,KS14-05,4199,1,25,21984,2,20140626,1735,28.0097,137.0027,4164,202.3,201,17.9569,34.7587,2,-999.,9,213.91,2,3.07,2,2.84,2,0.01,2,0.20,2,-999.,9,-999.,9,-999.,9,-999,9,-999,9
49UF20140623,KS14-05,4199,1,21,21980,2,20140626,1733,28.0097,137.0027,4164,253.8,252,17.4158,34.7367,2,-999.,9,215.64,2,3.47,2,3.37,2,0.01,2,0.23,2,-999.,9,-999.,9,-999.,9,-999,9,-999,9
49UF20140623,KS14-05,4199,1,20,21979,2,20140626,1732,28.0097,137.0027,4164,304.1,302,17.0466,34.7103,2,-999.,9,211.48,2,4.25,2,4.46,2,0.01,2,0.30,2,-999.,9,-999.,9,-999.,9,-999,9,-999,9
49UF20140623,KS14-05,4199,1,19,21978,2,20140626,1729,28.0097,137.0027,4164,405.5,402,15.8625,34.6175,2,-999.,9,196.10,2,7.86,2,7.79,2,0.00,2,0.53,2,-999.,9,-999.,9,-999.,9,-999,9,-999,9
49UF20140623,KS14-05,4199,1,15,21974,2,20140626,1726,28.0097,137.0027,4164,506.0,502,12.7821,34.4074,2,-999.,9,183.42,2,17.83,2,13.85,2,0.00,2,0.97,2,-999.,9,-999.,9,-999.,9,-999,9,-999,9
49UF20140623,KS14-05,4199,1,14,21973,2,20140626,1724,28.0097,137.0027,4164,606.8,602,10.5625,34.2555,2,-999.,9,175.15,2,27.59,2,18.33,2,0.00,2,1.30,2,-999.,9,-999.,9,-999.,9,-999,9,-999,9
49UF20140623,KS14-05,4199,1,13,21972,2,20140626,1721,28.0097,137.0027,4164,708.2,702,7.9514,34.1680,2,-999.,9,135.71,2,50.90,2,26.49,2,0.00,2,1.91,2,-999.,9,-999.,9,-999.,9,-999,9,-999,9
49UF20140623,KS14-05,4199,1,12,21994,2,20140626,1719,28.0097,137.0027,4164,808.4,801,6.2997,34.1373,2,-999.,9,108.78,2,68.44,2,31.86,2,0.00,2,2.31,2,-999.,9,-999.,9,-999.,9,-999,9,-999,9
49UF20140623,KS14-05,4199,1,11,21970,2,20140626,1716,28.0097,137.0027,4164,910.7,903,5.1363,34.1838,2,-999.,9,79.22,2,87.62,2,36.35,2,0.00,2,2.64,2,-999.,9,-999.,9,-999.,9,-999,9,-999,9
49UF20140623,KS14-05,4199,1,10,21969,2,20140626,1713,28.0097,137.0027,4164,1011.9,1003,4.3462,34.2648,2,-999.,9,62.30,6,104.97,6,39.00,6,0.00,6,2.82,6,-999.,9,-999.,9,-999.,9,-999,9,-999,9
49UF20140623,KS14-05,4199,1,6,21965,2,20140626,1709,28.0097,137.0027,4164,1214.9,1203,3.4432,34.3759,2,-999.,9,50.76,2,126.83,2,41.10,2,0.00,2,2.96,2,-999.,9,-999.,9,-999.,9,-999,9,-999,9
49UF20140623,KS14-05,4199,1,5,22085,2,20140626,1709,28.0097,137.0027,4164,1214.9,1203,3.4432,34.3759,2,-999.,9,51.49,2,126.60,2,41.07,2,0.00,2,2.96,2,-999.,9,-999.,9,-999.,9,-999,9,-999,9
49UF20140623,KS14-05,4199,1,4,21963,2,20140626,1705,28.0097,137.0027,4164,1417.2,1403,2.8585,34.4614,2,-999.,9,54.84,2,140.28,2,41.54,2,0.00,2,2.97,2,-999.,9,-999.,9,-999.,9,-999,9,-999,9
49UF20140623,KS14-05,4199,1,3,22079,2,20140626,1700,28.0097,137.0027,4164,1620.0,1603,2.4851,34.5194,2,-999.,9,66.13,2,147.24,2,41.07,2,0.00,2,2.93,2,-999.,9,-999.,9,-999.,9,-999,9,-999,9
49UF20140623,KS14-05,4199,1,2,21961,2,20140626,1656,28.0097,137.0027,4164,1823.3,1803,2.2012,34.5641,2,-999.,9,82.01,2,149.61,2,40.25,2,0.00,2,2.86,2,-999.,9,-999.,9,-999.,9,-999,9,-999,9
49UF20140623,KS14-05,4199,1,1,21960,2,20140626,1651,28.0097,137.0027,4164,2027.3,2004,2.0205,34.5952,2,-999.,9,98.04,2,148.73,2,39.22,2,0.00,2,2.78,2,-999.,9,-999.,9,-999.,9,-999,9,-999,9