BOTTLE,20171119JMAGEMD
EXPOCODE,SECT_ID,STNNBR,CASTNO,SAMPNO,BTLNBR,BTLNBR_FLAG_W,DATE,TIME,LATITUDE,LONGITUDE,DEPTH,CTDPRS,CTDDEP,CTDTMP,CTDSAL,CTDSAL_FLAG_W,SALNTY,SALNTY_FLAG_W,OXYGEN,OXYGEN_FLAG_W,SILCAT,SILCAT_FLAG_W,NO2+NO3,NO2+NO3_FLAG_W,NITRIT,NITRIT_FLAG_W,PHSPHT,PHSPHT_FLAG_W,TCARBN,TCARBN_FLAG_W,ALKALI,ALKALI_FLAG_W,PH_TOT,PH_TOT_FLAG_W,CFC-11,CFC-11_FLAG_W,CFC-12,CFC-12_FLAG_W
,,,,,,,UTC,UTC,,,METER,DBAR,METERS,ITS-90,PSS-78,,PSS-78,,UMOL/KG,,UMOL/KG,,UMOL/KG,,UMOL/KG,,UMOL/KG,,UMOL/KG,,UMOL/KG,,@25DEG-C,,PMOL/KG,,PMOL/KG,
49UF20140623,KS14-05,4249,1,-999,0,2,20140727,2316,7.0175,164.4987,5088,0.0,0,29.8775,33.9427,2,-999.,9,194.85,2,1.04,2,0.00,2,0.00,2,0.07,2,-999.,9,-999.,9,-999.,9,-999,9,-999,9
49UF20140623,KS14-05,4249,1,36,21995,2,20140727,2337,7.0175,164.4987,5088,12.1,12,29.8659,33.9477,2,-999.,9,194.85,2,1.04,2,0.00,2,0.00,2,0.07,2,-999.,9,-999.,9,-999.,9,-999,9,-999,9
49UF20140623,KS14-05,4249,1,35,22087,2,20140727,2336,7.0175,164.4987,5088,26.0,26,29.8443,33.9935,2,-999.,9,195.80,2,1.04,2,0.00,2,0.00,2,0.07,2,-999.,9,-999.,9,-999.,9,-999,9,-999,9
49UF20140623,KS14-05,4249,1,34,22666,2,20140727,2334,7.0175,164.4987,5088,51.9,52,29.7453,34.1831,2,-999.,9,197.39,2,1.07,2,0.01,2,0.00,2,0.08,2,-999.,9,-999.,9,-999.,9,-999,9,-999,9
49UF20140623,KS14-05,4249,1,33,21992,2,20140727,2333,7.0175,164.4987,5088,77.6,77,26.7895,34.8143,2,-999.,9,188.06,2,1.65,2,0.03,2,0.00,2,0.17,2,-999.,9,-999.,9,-999.,9,-999,9,-999,9
49UF20140623,KS14-05,4249,1,32,21991,2,20140727,2332,7.0175,164.4987,5088,103.1,102,22.0749,34.9332,2,-999.,9,158.49,6,3.73,6,4.64,6,0.32,6,0.50,6,-999.,9,-999.,9,-999.,9,-999,9,-999,9
49UF20140623,KS14-05,4249,1,31,21990,2,20140727,2331,7.0175,164.4987,5088,127.3,127,18.2319,34.7547,2,-999.,9,128.96,2,9.31,2,12.04,2,0.06,2,0.94,2,-999.,9,-999.,9,-999.,9,-999,9,-999,9
49UF20140623,KS14-05,4249,1,30,21989,2,20140727,2330,7.0175,164.4987,5088,154.1,153,14.9576,34.6013,2,-999.,9,113.39,2,15.93,2,17.59,2,0.01,2,1.33,2,-999.,9,-999.,9,-999.,9,-999,9,-999,9
49UF20140623,KS14-05,4249,1,29,21988,2,20140727,2328,7.0175,164.4987,5088,204.0,203,10.7877,34.5658,2,-999.,9,65.91,2,30.42,2,29.13,2,0.00,2,2.12,2,-999.,9,-999.,9,-999.,9,-999,9,-999,9
49UF20140623,KS14-05,4249,1,28,21987,2,20140727,2326,7.0175,164.4987,5088,254.3,253,9.8632,34.6260,2,-999.,9,37.50,2,33.76,2,33.68,2,0.00,2,2.41,2,-999.,9,-999.,9,-999.,9,-999,9,-999,9
49UF20140623,KS14-05,4249,1,27,21986,2,20140727,2325,7.0175,164.4987,5088,305.8,304,9.3427,34.6349,2,-999.,9,39.68,6,35.68,6,34.60,6,0.00,6,2.47,6,-999.,9,-999.,9,-999.,9,-999,9,-999,9
49UF20140623,KS14-05,4249,1,26,21985,2,20140727,2323,7.0175,164.4987,5088,354.3,352,8.9771,34.6223,2,-999.,9,48.74,2,36.88,2,34.58,2,0.00,2,2.46,2,-999.,9,-999.,9,-999.,9,-999,9,-999,9
49UF20140623,KS14-05,4249,1,25,21984,2,20140727,2321,7.0175,164.4987,5088,406.2,404,8.5993,34.6104,2,-999.,9,55.73,2,38.28,2,34.67,2,0.00,2,2.47,2,-999.,9,-999.,9,-999.,9,-999,9,-999,9
49UF20140623,KS14-05,4249,1,24,21983,2,20140727,2320,7.0175,164.4987,5088,456.8,454,8.2056,34.5969,2,-999.,9,54.02,2,41.02,2,35.60,2,0.00,2,2.53,2,-999.,9,-999.,9,-999.,9,-999,9,-999,9
49UF20140623,KS14-05,4249,1,23,22095,2,20140727,2318,7.0175,164.4987,5088,507.2,504,7.8607,34.5832,2,-999.,9,53.63,2,44.05,2,36.29,2,0.00,2,2.59,2,-999.,9,-999.,9,-999.,9,-999,9,-999,9
49UF20140623,KS14-05,4249,1,22,22665,2,20140727,2316,7.0175,164.4987,5088,605.6,601,6.9344,34.5507,2,-999.,9,48.81,2,55.06,2,38.47,2,0.00,2,2.77,2,-999.,9,-999.,9,-999.,9,-999,9,-999,9
49UF20140623,KS14-05,4249,1,21,21980,2,20140727,2313,7.0175,164.4987,5088,706.4,701,6.1039,34.5344,2,-999.,9,61.47,2,65.32,2,38.68,2,0.00,2,2.78,2,-999.,9,-999.,9,-999.,9,-999,9,-999,9
49UF20140623,KS14-05,4249,1,20,21979,2,20140727,2311,7.0175,164.4987,5088,805.9,800,5.3963,34.5391,2,-999.,9,67.08,2,75.40,2,39.28,2,0.00,2,2.82,2,-999.,9,-999.,9,-999.,9,-999,9,-999,9
49UF20140623,KS14-05,4249,1,19,21978,2,20140727,2308,7.0175,164.4987,5088,909.8,903,4.8237,34.5477,2,-999.,9,73.08,2,84.96,2,39.63,2,0.00,2,2.83,2,-999.,9,-999.,9,-999.,9,-999,9,-999,9
49UF20140623,KS14-05,4249,1,18,21977,2,20140727,2306,7.0175,164.4987,5088,1010.4,1002,4.3550,34.5573,2,-999.,9,77.37,2,94.29,2,39.62,2,0.00,2,2.84,2,-999.,9,-999.,9,-999.,9,-999,9,-999,9
49UF20140623,KS14-05,4249,1,17,23679,2,20140727,2302,7.0175,164.4987,5088,1212.9,1203,3.7133,34.5761,2,-999.,9,80.87,2,107.02,2,40.01,2,0.00,2,2.87,2,-999.,9,-999.,9,-999.,9,-999,9,-999,9
49UF20140623,KS14-05,4249,1,16,21975,2,20140727,2258,7.0175,164.4987,5088,1416.9,1404,3.2081,34.5926,2,-999.,9,86.47,2,118.38,2,39.99,2,0.00,2,2.86,2,-999.,9,-999.,9,-999.,9,-999,9,-999,9
49UF20140623,KS14-05,4249,1,15,21974,2,20140727,2253,7.0175,164.4987,5088,1619.9,1605,2.8396,34.6054,2,-999.,9,92.72,6,127.01,6,39.69,6,0.00,6,2.83,6,-999.,9,-999.,9,-999.,9,-999,9,-999,9
49UF20140623,KS14-05,4249,1,14,21973,2,20140727,2249,7.0175,164.4987,5088,1819.7,1802,2.4880,34.6222,2,-999.,9,98.56,2,135.12,2,39.45,2,0.00,2,2.80,2,-999.,9,-999.,9,-999.,9,-999,9,-999,9
49UF20140623,KS14-05,4249,1,13,21972,2,20140727,2244,7.0175,164.4987,5088,2025.2,2004,2.2328,34.6365,2,-999.,9,104.99,2,140.59,2,39.08,2,0.00,2,2.77,2,-999.,9,-999.,9,-999.,9,-999,9,-999,9
49UF20140623,KS14-05,4249,1,12,21994,3,20140727,2238,7.0175,164.4987,5088,2277.5,2253,2.0153,34.6493,2,-999.,9,112.60,2,145.06,2,38.62,2,0.00,2,2.73,2,-999.,9,-999.,9,-999.,9,-999,9,-999,9
49UF20140623,KS14-05,4249,1,11,21970,2,20140727,2233,7.0175,164.4987,5088,2531.8,2503,1.8800,34.6578,2,-999.,9,119.31,2,146.88,2,38.15,2,0.00,2,2.69,2,-999.,9,-999.,9,-999.,9,-999,9,-999,9
49UF20140623,KS14-05,4249,1,10,21969,2,20140727,2228,7.0175,164.4987,5088,2787.8,2754,1.7627,34.6642,2,-999.,9,126.51,2,147.46,2,37.61,2,0.00,2,2.65,2,-999.,9,-999.,9,-999.,9,-999,9,-999,9
49UF20140623,KS14-05,4249,1,9,21968,2,20140727,2222,7.0175,164.4987,5088,3041.5,3003,1.6841,34.6689,2,-999.,9,132.30,2,147.73,2,37.29,2,0.00,2,2.61,2,-999.,9,-999.,9,-999.,9,-999,9,-999,9
49UF20140623,KS14-05,4249,1,8,21982,2,20140727,2217,7.0175,164.4987,5088,3296.0,3252,1.6011,34.6742,2,-999.,9,139.25,2,147.48,2,36.87,2,0.00,2,2.57,2,-999.,9,-999.,9,-999.,9,-999,9,-999,9
49UF20140623,KS14-05,4249,1,7,21966,2,20140727,2212,7.0175,164.4987,5088,3553.9,3505,1.5284,34.6797,2,-999.,9,147.69,2,145.29,2,36.37,2,0.00,2,2.53,2,-999.,9,-999.,9,-999.,9,-999,9,-999,9
49UF20140623,KS14-05,4249,1,6,21965,2,20140727,2207,7.0175,164.4987,5088,3806.8,3752,1.4834,34.6841,2,-999.,9,154.35,6,142.60,6,35.84,6,0.00,6,2.50,6,-999.,9,-999.,9,-999.,9,-999,9,-999,9
49UF20140623,KS14-05,4249,1,5,24272,2,20140727,2202,7.0175,164.4987,5088,4062.2,4001,1.4439,34.6881,2,-999.,9,159.21,2,138.91,2,35.48,2,0.00,2,2.46,2,-999.,9,-999.,9,-999.,9,-999,9,-999,9
49UF20140623,KS14-05,4249,1,4,21963,2,20140727,2157,7.0175,164.4987,5088,4319.6,4252,1.4190,34.6920,2,-999.,9,169.12,2,135.22,2,34.83,2,0.00,2,2.41,2,-999.,9,-999.,9,-999.,9,-999,9,-999,9
49UF20140623,KS14-05,4249,1,3,24269,2,20140727,2152,7.0175,164.4987,5088,4573.3,4500,1.4072,34.6946,2,-999.,9,173.11,2,132.62,2,34.38,2,0.00,2,2.39,2,-999.,9,-999.,9,-999.,9,-999,9,-999,9
49UF20140623,KS14-05,4249,1,2,21961,2,20140727,2142,7.0175,164.4987,5088,5088.8,5001,1.3826,34.6993,2,-999.,9,184.12,2,127.09,2,33.68,2,0.00,2,2.33,2,-999.,9,-999.,9,-999.,9,-999,9,-999,9
49UF20140623,KS14-05,4249,1,1,21960,2,20140727,2140,7.0175,164.4987,5088,5176.4,5086,1.3868,34.6998,2,-999.,9,183.16,2,126.90,2,33.68,2,0.00,2,2.33,2,-999.,9,-999.,9,-999.,9,-999,9,-999,9
49UF20140623,KS14-05,4250,1,-999,0,2,20140728,0810,8.0042,164.0008,5139,0.0,0,29.9776,33.7567,2,-999.0000,9,194.62,2,1.03,2,0.05,2,0.00,2,0.08,2,-999.,9,-999.,9,-999.,9,-999,9,-999,9
49UF20140623,KS14-05,4250,1,36,21995,2,20140728,0837,8.0042,164.0008,5139,12.1,12,29.7984,33.9298,2,33.9286,2,195.35,2,1.06,2,0.03,2,0.00,2,0.08,2,-999.,9,-999.,9,-999.,9,-999,9,-999,9
49UF20140623,KS14-05,4250,1,35,22087,2,20140728,0836,8.0042,164.0008,5139,27.8,28,29.8235,34.0183,2,-999.0000,9,195.48,2,1.05,2,0.01,2,0.00,2,0.08,2,-999.,9,-999.,9,-999.,9,-999,9,-999,9
49UF20140623,KS14-05,4250,1,34,22666,2,20140728,0833,8.0042,164.0008,5139,52.8,52,29.0928,34.5100,2,-999.0000,9,197.44,2,1.25,2,0.00,2,0.00,2,0.13,2,-999.,9,-999.,9,-999.,9,-999,9,-999,9
49UF20140623,KS14-05,4250,1,33,21992,2,20140728,0832,8.0042,164.0008,5139,77.7,77,26.4051,34.9202,2,-999.0000,9,185.48,6,1.67,6,0.02,6,0.00,6,0.20,6,-999.,9,-999.,9,-999.,9,-999,9,-999,9
49UF20140623,KS14-05,4250,1,32,21991,2,20140728,0830,8.0042,164.0008,5139,102.7,102,22.3317,34.9645,2,34.9642,2,163.77,2,3.45,2,3.88,2,0.27,2,0.45,2,-999.,9,-999.,9,-999.,9,-999,9,-999,9
49UF20140623,KS14-05,4250,1,31,21990,2,20140728,0828,8.0042,164.0008,5139,129.4,129,17.6265,34.7244,2,-999.0000,9,126.75,2,10.56,2,13.11,2,0.02,2,1.01,2,-999.,9,-999.,9,-999.,9,-999,9,-999,9
49UF20140623,KS14-05,4250,1,30,21989,2,20140728,0826,8.0042,164.0008,5139,154.2,153,14.4910,34.5695,2,-999.0000,9,110.94,2,16.34,2,18.16,2,0.01,2,1.38,2,-999.,9,-999.,9,-999.,9,-999,9,-999,9
49UF20140623,KS14-05,4250,1,29,21988,2,20140728,0824,8.0042,164.0008,5139,203.4,202,11.0948,34.5762,2,34.5756,2,47.66,2,28.98,2,30.11,2,0.00,2,2.22,2,-999.,9,-999.,9,-999.,9,-999,9,-999,9
49UF20140623,KS14-05,4250,1,28,21987,2,20140728,0822,8.0042,164.0008,5139,254.0,252,9.9103,34.6243,2,-999.0000,9,38.03,6,33.65,6,33.63,6,0.00,6,2.41,6,-999.,9,-999.,9,-999.,9,-999,9,-999,9
49UF20140623,KS14-05,4250,1,27,21986,2,20140728,0820,8.0042,164.0008,5139,305.1,303,9.3731,34.6260,2,-999.0000,9,41.99,2,35.65,2,34.34,2,0.00,2,2.45,2,-999.,9,-999.,9,-999.,9,-999,9,-999,9
49UF20140623,KS14-05,4250,1,26,21985,2,20140728,0819,8.0042,164.0008,5139,356.6,354,8.9698,34.6171,2,34.6156,2,53.36,2,36.69,2,34.10,2,0.00,2,2.42,2,-999.,9,-999.,9,-999.,9,-999,9,-999,9
49UF20140623,KS14-05,4250,1,25,21984,2,20140728,0817,8.0042,164.0008,5139,404.9,402,8.7212,34.6148,2,-999.0000,9,61.56,2,37.07,2,34.06,2,0.00,2,2.41,2,-999.,9,-999.,9,-999.,9,-999,9,-999,9
49UF20140623,KS14-05,4250,1,24,21983,2,20140728,0814,8.0042,164.0008,5139,456.5,453,8.3508,34.6001,2,34.5988,2,63.23,2,39.23,2,34.63,2,0.00,2,2.45,2,-999.,9,-999.,9,-999.,9,-999,9,-999,9
49UF20140623,KS14-05,4250,1,23,22095,2,20140728,0812,8.0042,164.0008,5139,506.1,503,7.9434,34.5811,2,-999.0000,9,59.35,2,43.18,2,35.69,2,0.00,2,2.54,2,-999.,9,-999.,9,-999.,9,-999,9,-999,9
49UF20140623,KS14-05,4250,1,22,22665,2,20140728,0810,8.0042,164.0008,5139,607.0,603,7.1223,34.5470,2,34.5463,6,59.53,2,52.67,2,37.02,2,0.00,2,2.66,2,-999.,9,-999.,9,-999.,9,-999,9,-999,9
49UF20140623,KS14-05,4250,1,21,21980,2,20140728,0807,8.0042,164.0008,5139,708.2,703,6.4008,34.5368,2,-999.0000,9,64.16,2,60.97,2,37.95,2,0.00,2,2.73,2,-999.,9,-999.,9,-999.,9,-999,9,-999,9
49UF20140623,KS14-05,4250,1,20,21979,2,20140728,0804,8.0042,164.0008,5139,807.9,802,5.7224,34.5346,2,34.5343,2,63.65,2,71.38,2,39.06,2,0.00,2,2.80,2,-999.,9,-999.,9,-999.,9,-999,9,-999,9
49UF20140623,KS14-05,4250,1,19,21978,2,20140728,0802,8.0042,164.0008,5139,908.9,902,5.0976,34.5430,2,-999.0000,9,70.78,2,80.83,2,39.32,2,0.00,2,2.82,2,-999.,9,-999.,9,-999.,9,-999,9,-999,9
49UF20140623,KS14-05,4250,1,18,21977,2,20140728,0759,8.0042,164.0008,5139,1009.8,1002,4.6565,34.5495,2,34.5494,2,74.55,2,89.31,2,39.51,2,0.00,2,2.84,2,-999.,9,-999.,9,-999.,9,-999,9,-999,9
49UF20140623,KS14-05,4250,1,17,23679,2,20140728,0755,8.0042,164.0008,5139,1213.1,1203,3.9355,34.5665,2,34.5663,2,83.94,2,103.81,2,39.31,2,0.00,2,2.82,2,-999.,9,-999.,9,-999.,9,-999,9,-999,9
49UF20140623,KS14-05,4250,1,16,21975,2,20140728,0750,8.0042,164.0008,5139,1415.1,1402,3.2555,34.5879,2,34.5854,2,88.16,6,118.34,6,39.73,6,0.00,6,2.83,6,-999.,9,-999.,9,-999.,9,-999,9,-999,9
49UF20140623,KS14-05,4250,1,15,21974,2,20140728,0745,8.0042,164.0008,5139,1617.7,1602,2.8019,34.6071,2,34.6071,2,95.52,2,127.30,2,39.58,2,0.00,2,2.81,2,-999.,9,-999.,9,-999.,9,-999,9,-999,9
49UF20140623,KS14-05,4250,1,14,21973,2,20140728,0741,8.0042,164.0008,5139,1820.5,1802,2.4922,34.6210,2,34.6220,6,100.96,2,134.59,2,39.39,2,0.00,2,2.79,2,-999.,9,-999.,9,-999.,9,-999,9,-999,9
49UF20140623,KS14-05,4250,1,13,21972,2,20140728,0736,8.0042,164.0008,5139,2025.3,2004,2.2479,34.6333,2,34.6332,2,105.08,2,140.58,2,39.21,2,0.00,2,2.76,2,-999.,9,-999.,9,-999.,9,-999,9,-999,9
49UF20140623,KS14-05,4250,1,12,21994,2,20140728,0731,8.0042,164.0008,5139,2278.1,2253,2.0161,34.6475,2,34.6474,2,112.59,2,145.10,2,38.85,2,0.00,2,2.73,2,-999.,9,-999.,9,-999.,9,-999,9,-999,9
49UF20140623,KS14-05,4250,1,11,21970,2,20140728,0726,8.0042,164.0008,5139,2530.9,2502,1.8761,34.6562,2,34.6563,2,119.70,2,146.47,2,38.30,2,0.00,2,2.68,2,-999.,9,-999.,9,-999.,9,-999,9,-999,9
49UF20140623,KS14-05,4250,1,10,21969,2,20140728,0720,8.0042,164.0008,5139,2787.3,2753,1.7668,34.6630,2,34.6639,2,126.47,2,147.36,2,37.92,2,0.00,2,2.65,2,-999.,9,-999.,9,-999.,9,-999,9,-999,9
49UF20140623,KS14-05,4250,1,9,21968,2,20140728,0715,8.0042,164.0008,5139,3042.6,3004,1.6734,34.6689,2,34.6690,6,133.37,2,147.48,2,37.48,2,0.00,2,2.61,2,-999.,9,-999.,9,-999.,9,-999,9,-999,9
49UF20140623,KS14-05,4250,1,8,21982,2,20140728,0710,8.0042,164.0008,5139,3296.5,3253,1.5925,34.6745,2,34.6735,2,140.48,2,146.97,2,36.98,2,0.00,2,2.58,2,-999.,9,-999.,9,-999.,9,-999,9,-999,9
49UF20140623,KS14-05,4250,1,7,21966,2,20140728,0705,8.0042,164.0008,5139,3550.5,3501,1.5259,34.6797,2,34.6792,2,146.75,6,144.70,6,36.48,6,0.00,6,2.54,6,-999.,9,-999.,9,-999.,9,-999,9,-999,9
49UF20140623,KS14-05,4250,1,6,21965,2,20140728,0700,8.0042,164.0008,5139,3808.3,3753,1.4725,34.6846,2,34.6843,2,155.08,2,142.36,2,35.89,2,0.00,2,2.49,2,-999.,9,-999.,9,-999.,9,-999,9,-999,9
49UF20140623,KS14-05,4250,1,5,24272,2,20140728,0655,8.0042,164.0008,5139,4061.8,4001,1.4327,34.6887,2,34.6880,2,162.80,2,139.04,2,35.41,2,0.00,2,2.46,2,-999.,9,-999.,9,-999.,9,-999,9,-999,9
49UF20140623,KS14-05,4250,1,4,21963,2,20140728,0650,8.0042,164.0008,5139,4319.1,4252,1.4052,34.6926,2,34.6926,2,170.26,2,134.37,2,34.80,2,0.00,2,2.41,2,-999.,9,-999.,9,-999.,9,-999,9,-999,9
49UF20140623,KS14-05,4250,1,3,24269,2,20140728,0645,8.0042,164.0008,5139,4574.9,4501,1.3951,34.6952,2,34.6948,6,175.74,2,131.60,2,34.44,2,0.00,2,2.39,2,-999.,9,-999.,9,-999.,9,-999,9,-999,9
49UF20140623,KS14-05,4250,1,2,21961,2,20140728,0634,8.0042,164.0008,5139,5090.0,5002,1.3913,34.6987,2,34.6982,2,183.19,2,127.74,2,33.88,2,0.00,2,2.34,2,-999.,9,-999.,9,-999.,9,-999,9,-999,9
49UF20140623,KS14-05,4250,1,1,21960,2,20140728,0630,8.0042,164.0008,5139,5225.1,5133,1.3966,34.6995,2,34.6971,4,184.24,2,127.32,2,33.82,2,0.00,2,2.33,2,-999.,9,-999.,9,-999.,9,-999,9,-999,9