BOTTLE,20171119JMAGEMD
EXPOCODE,SECT_ID,STNNBR,CASTNO,SAMPNO,BTLNBR,BTLNBR_FLAG_W,DATE,TIME,LATITUDE,LONGITUDE,DEPTH,CTDPRS,CTDDEP,CTDTMP,CTDSAL,CTDSAL_FLAG_W,SALNTY,SALNTY_FLAG_W,OXYGEN,OXYGEN_FLAG_W,SILCAT,SILCAT_FLAG_W,NO2+NO3,NO2+NO3_FLAG_W,NITRIT,NITRIT_FLAG_W,PHSPHT,PHSPHT_FLAG_W,TCARBN,TCARBN_FLAG_W,ALKALI,ALKALI_FLAG_W,PH_TOT,PH_TOT_FLAG_W,CFC-11,CFC-11_FLAG_W,CFC-12,CFC-12_FLAG_W
,,,,,,,UTC,UTC,,,METER,DBAR,METERS,ITS-90,PSS-78,,PSS-78,,UMOL/KG,,UMOL/KG,,UMOL/KG,,UMOL/KG,,UMOL/KG,,UMOL/KG,,UMOL/KG,,@25DEG-C,,PMOL/KG,,PMOL/KG,
49UF20140623,KS14-05,4239,1,-999,0,2,20140724,0610,-3.0013,164.9852,4107,0.0,0,30.2230,34.8208,2,-999.,9,192.93,2,1.01,2,0.02,2,0.00,2,0.15,2,-999.,9,-999.,9,-999.,9,-999,9,-999,9
49UF20140623,KS14-05,4239,1,36,21995,3,20140724,0638,-3.0013,164.9852,4107,12.1,12,30.2233,34.8203,2,-999.,9,193.61,2,0.98,2,0.02,2,0.00,2,0.15,2,-999.,9,-999.,9,-999.,9,-999,9,-999,9
49UF20140623,KS14-05,4239,1,35,22087,2,20140724,0637,-3.0013,164.9852,4107,26.4,26,30.1515,34.8214,2,-999.,9,193.70,2,0.98,2,0.00,2,0.00,2,0.15,2,-999.,9,-999.,9,-999.,9,-999,9,-999,9
49UF20140623,KS14-05,4239,1,34,22666,2,20140724,0634,-3.0013,164.9852,4107,51.8,52,30.1511,34.8267,2,-999.,9,193.71,2,0.95,2,0.00,2,0.00,2,0.15,2,-999.,9,-999.,9,-999.,9,-999,9,-999,9
49UF20140623,KS14-05,4239,1,33,21992,2,20140724,0632,-3.0013,164.9852,4107,77.2,77,30.1372,34.8937,2,-999.,9,193.82,2,0.95,2,0.00,2,0.00,2,0.15,2,-999.,9,-999.,9,-999.,9,-999,9,-999,9
49UF20140623,KS14-05,4239,1,32,21991,2,20140724,0631,-3.0013,164.9852,4107,102.9,102,29.1504,35.5876,2,-999.,9,184.98,2,1.59,2,3.05,2,0.37,2,0.46,2,-999.,9,-999.,9,-999.,9,-999,9,-999,9
49UF20140623,KS14-05,4239,1,31,21990,2,20140724,0630,-3.0013,164.9852,4107,127.1,126,27.9935,35.6231,2,-999.,9,167.34,2,2.01,2,7.06,2,1.58,2,0.67,2,-999.,9,-999.,9,-999.,9,-999,9,-999,9
49UF20140623,KS14-05,4239,1,30,21989,2,20140724,0628,-3.0013,164.9852,4107,153.3,152,26.7174,35.6510,2,-999.,9,155.91,2,2.21,2,8.40,2,0.11,2,0.76,2,-999.,9,-999.,9,-999.,9,-999,9,-999,9
49UF20140623,KS14-05,4239,1,29,21988,2,20140724,0626,-3.0013,164.9852,4107,203.6,202,16.4265,35.3033,2,-999.,9,108.20,2,7.79,2,16.95,2,0.01,2,1.38,2,-999.,9,-999.,9,-999.,9,-999,9,-999,9
49UF20140623,KS14-05,4239,1,28,21987,2,20140724,0624,-3.0013,164.9852,4107,253.3,252,11.9566,34.9026,2,-999.,9,120.75,6,14.45,6,22.42,6,0.00,6,1.65,6,-999.,9,-999.,9,-999.,9,-999,9,-999,9
49UF20140623,KS14-05,4239,1,26,21985,2,20140724,0622,-3.0013,164.9852,4107,303.2,301,9.9962,34.7325,2,-999.,9,128.93,2,19.75,2,25.46,2,0.00,2,1.80,2,-999.,9,-999.,9,-999.,9,-999,9,-999,9
49UF20140623,KS14-05,4239,1,25,21984,2,20140724,0622,-3.0013,164.9852,4107,303.2,301,9.9962,34.7325,2,-999.,9,129.42,2,19.65,2,25.37,2,0.00,2,1.80,2,-999.,9,-999.,9,-999.,9,-999,9,-999,9
49UF20140623,KS14-05,4239,1,24,21983,2,20140724,0619,-3.0013,164.9852,4107,354.6,352,9.5481,34.7030,2,-999.,9,111.71,2,23.00,2,28.05,2,0.00,2,1.97,2,-999.,9,-999.,9,-999.,9,-999,9,-999,9
49UF20140623,KS14-05,4239,1,23,22095,2,20140724,0617,-3.0013,164.9852,4107,405.5,403,8.9624,34.6618,2,-999.,9,107.34,2,25.62,2,29.77,2,0.00,2,2.08,2,-999.,9,-999.,9,-999.,9,-999,9,-999,9
49UF20140623,KS14-05,4239,1,22,22665,2,20140724,0616,-3.0013,164.9852,4107,455.0,452,8.4475,34.6352,2,-999.,9,81.85,2,31.76,2,33.42,2,0.00,2,2.33,2,-999.,9,-999.,9,-999.,9,-999,9,-999,9
49UF20140623,KS14-05,4239,1,21,21980,2,20140724,0614,-3.0013,164.9852,4107,504.7,501,8.0319,34.6133,2,-999.,9,76.82,2,35.43,2,34.87,2,0.00,2,2.43,2,-999.,9,-999.,9,-999.,9,-999,9,-999,9
49UF20140623,KS14-05,4239,1,20,21979,2,20140724,0611,-3.0013,164.9852,4107,606.9,603,7.0663,34.5707,2,-999.,9,77.35,2,42.69,2,36.88,2,0.00,2,2.58,2,-999.,9,-999.,9,-999.,9,-999,9,-999,9
49UF20140623,KS14-05,4239,1,19,21978,3,20140724,0608,-3.0013,164.9852,4107,706.5,701,6.2146,34.5465,2,-999.,9,79.85,6,51.59,6,38.28,6,0.00,6,2.70,6,-999.,9,-999.,9,-999.,9,-999,9,-999,9
49UF20140623,KS14-05,4239,1,12,21994,3,20140724,0605,-3.0013,164.9852,4107,808.4,802,5.5424,34.5371,2,-999.,9,86.68,2,60.43,2,38.57,2,0.00,2,2.72,2,-999.,9,-999.,9,-999.,9,-999,9,-999,9
49UF20140623,KS14-05,4239,1,11,21970,2,20140724,0605,-3.0013,164.9852,4107,808.4,802,5.5424,34.5371,2,-999.,9,87.14,2,60.48,2,38.62,2,0.00,2,2.73,2,-999.,9,-999.,9,-999.,9,-999,9,-999,9
49UF20140623,KS14-05,4239,1,10,21969,2,20140724,0602,-3.0013,164.9852,4107,909.4,902,4.9415,34.5311,2,-999.,9,105.22,2,67.69,2,37.42,2,0.00,2,2.66,2,-999.,9,-999.,9,-999.,9,-999,9,-999,9
49UF20140623,KS14-05,4239,1,9,21968,2,20140724,0559,-3.0013,164.9852,4107,1012.2,1004,4.4327,34.5434,2,-999.,9,103.37,2,79.07,2,38.00,2,0.00,2,2.70,2,-999.,9,-999.,9,-999.,9,-999,9,-999,9
49UF20140623,KS14-05,4239,1,8,21982,2,20140724,0554,-3.0013,164.9852,4107,1213.8,1204,3.7443,34.5655,2,-999.,9,105.49,2,94.96,2,38.34,2,0.00,2,2.73,2,-999.,9,-999.,9,-999.,9,-999,9,-999,9
49UF20140623,KS14-05,4239,1,7,21966,2,20140724,0549,-3.0013,164.9852,4107,1416.1,1404,3.2797,34.5862,2,-999.,9,105.07,2,107.39,2,38.60,2,0.00,2,2.74,2,-999.,9,-999.,9,-999.,9,-999,9,-999,9
49UF20140623,KS14-05,4239,1,3,24269,2,20140724,0544,-3.0013,164.9852,4107,1617.7,1603,2.7806,34.6082,2,-999.,9,110.04,2,119.09,2,38.52,2,0.00,2,2.73,2,-999.,9,-999.,9,-999.,9,-999,9,-999,9
49UF20140623,KS14-05,4239,1,2,21961,2,20140724,0539,-3.0013,164.9852,4107,1821.9,1804,2.4363,34.6246,2,-999.,9,118.54,2,125.91,2,38.11,2,0.00,2,2.69,2,-999.,9,-999.,9,-999.,9,-999,9,-999,9
49UF20140623,KS14-05,4239,1,1,21960,2,20140724,0534,-3.0013,164.9852,4107,2022.1,2001,2.1795,34.6396,2,-999.,9,120.99,2,133.34,2,38.01,2,0.00,2,2.68,2,-999.,9,-999.,9,-999.,9,-999,9,-999,9
49UF20140623,KS14-05,4240,1,-999,0,2,20140724,1413,-1.973,164.9877,4462,0.0,0,30.1026,34.5932,2,-999.,9,193.98,2,1.05,2,0.00,2,0.00,2,0.12,2,-999.,9,-999.,9,-999.,9,-999,9,-999,9
49UF20140623,KS14-05,4240,1,36,21995,2,20140724,1433,-1.973,164.9877,4462,11.3,11,30.1058,34.5933,2,-999.,9,194.01,2,1.04,2,0.00,2,0.00,2,0.12,2,-999.,9,-999.,9,-999.,9,-999,9,-999,9
49UF20140623,KS14-05,4240,1,35,22087,2,20140724,1432,-1.973,164.9877,4462,27.1,27,30.1116,34.5935,2,-999.,9,193.98,2,1.03,2,0.00,2,0.00,2,0.12,2,-999.,9,-999.,9,-999.,9,-999,9,-999,9
49UF20140623,KS14-05,4240,1,34,22666,2,20140724,1429,-1.973,164.9877,4462,51.9,52,30.1023,34.6018,2,-999.,9,194.61,2,1.02,2,0.00,2,0.00,2,0.13,2,-999.,9,-999.,9,-999.,9,-999,9,-999,9
49UF20140623,KS14-05,4240,1,33,21992,2,20140724,1428,-1.973,164.9877,4462,76.8,76,30.0884,34.8563,2,-999.,9,198.66,2,1.04,2,0.00,2,0.00,2,0.16,2,-999.,9,-999.,9,-999.,9,-999,9,-999,9
49UF20140623,KS14-05,4240,1,32,21991,2,20140724,1427,-1.973,164.9877,4462,102.4,102,28.5812,35.6500,2,-999.,9,178.59,2,1.84,2,5.12,2,1.24,2,0.58,2,-999.,9,-999.,9,-999.,9,-999,9,-999,9
49UF20140623,KS14-05,4240,1,31,21990,2,20140724,1426,-1.973,164.9877,4462,128.6,128,25.5512,35.5713,2,-999.,9,149.80,2,2.79,2,8.94,2,0.05,2,0.78,2,-999.,9,-999.,9,-999.,9,-999,9,-999,9
49UF20140623,KS14-05,4240,1,30,21989,2,20140724,1425,-1.973,164.9877,4462,154.8,154,22.2214,35.5181,2,-999.,9,129.79,6,3.78,6,10.16,6,0.02,6,0.83,6,-999.,9,-999.,9,-999.,9,-999,9,-999,9
49UF20140623,KS14-05,4240,1,29,21988,2,20140724,1423,-1.973,164.9877,4462,203.9,203,14.5952,35.1329,2,-999.,9,124.59,2,9.68,2,17.93,2,0.01,2,1.38,2,-999.,9,-999.,9,-999.,9,-999,9,-999,9
49UF20140623,KS14-05,4240,1,28,21987,2,20140724,1423,-1.973,164.9877,4462,203.9,203,14.5952,35.1329,2,-999.,9,124.14,2,9.62,2,17.95,2,0.01,2,1.38,2,-999.,9,-999.,9,-999.,9,-999,9,-999,9
49UF20140623,KS14-05,4240,1,26,21985,2,20140724,1421,-1.973,164.9877,4462,254.1,253,12.1903,34.8983,2,-999.,9,142.90,2,14.00,2,19.85,2,0.00,2,1.45,2,-999.,9,-999.,9,-999.,9,-999,9,-999,9
49UF20140623,KS14-05,4240,1,25,21984,2,20140724,1419,-1.973,164.9877,4462,304.5,303,10.9709,34.7976,2,-999.,9,119.70,2,19.68,2,24.45,2,0.00,2,1.74,2,-999.,9,-999.,9,-999.,9,-999,9,-999,9
49UF20140623,KS14-05,4240,1,24,21983,2,20140724,1418,-1.973,164.9877,4462,355.7,353,10.1934,34.7381,2,-999.,9,110.42,2,22.57,2,26.87,2,0.00,2,1.90,2,-999.,9,-999.,9,-999.,9,-999,9,-999,9
49UF20140623,KS14-05,4240,1,23,22095,2,20140724,1416,-1.973,164.9877,4462,406.6,404,9.4914,34.6924,2,-999.,9,108.24,2,24.59,2,28.57,2,0.00,2,2.00,2,-999.,9,-999.,9,-999.,9,-999,9,-999,9
49UF20140623,KS14-05,4240,1,22,22665,2,20140724,1414,-1.973,164.9877,4462,456.3,453,8.7580,34.6448,2,-999.,9,89.84,2,30.88,2,31.84,2,0.00,2,2.23,2,-999.,9,-999.,9,-999.,9,-999,9,-999,9
49UF20140623,KS14-05,4240,1,21,21980,2,20140724,1412,-1.973,164.9877,4462,507.1,504,8.1305,34.6037,2,-999.,9,126.25,2,27.74,2,29.62,2,0.00,2,2.07,2,-999.,9,-999.,9,-999.,9,-999,9,-999,9
49UF20140623,KS14-05,4240,1,20,21979,2,20140724,1409,-1.973,164.9877,4462,607.7,603,6.8730,34.5518,2,-999.,9,105.44,2,40.73,2,34.36,2,0.00,2,2.41,2,-999.,9,-999.,9,-999.,9,-999,9,-999,9
49UF20140623,KS14-05,4240,1,19,21978,2,20140724,1406,-1.973,164.9877,4462,707.5,702,6.1542,34.5365,2,-999.,9,99.36,2,50.15,2,36.12,2,0.00,2,2.55,2,-999.,9,-999.,9,-999.,9,-999,9,-999,9
49UF20140623,KS14-05,4240,1,12,21994,3,20140724,1404,-1.973,164.9877,4462,807.5,801,5.3836,34.5316,2,-999.,9,98.99,2,61.85,2,37.35,2,0.00,2,2.65,2,-999.,9,-999.,9,-999.,9,-999,9,-999,9
49UF20140623,KS14-05,4240,1,11,21970,2,20140724,1401,-1.973,164.9877,4462,909.5,903,4.9722,34.5341,2,-999.,9,100.13,2,69.17,2,37.81,2,0.00,2,2.68,2,-999.,9,-999.,9,-999.,9,-999,9,-999,9
49UF20140623,KS14-05,4240,1,10,21969,2,20140724,1359,-1.973,164.9877,4462,1009.5,1002,4.5010,34.5425,2,-999.,9,103.78,2,78.36,2,37.83,2,0.00,2,2.70,2,-999.,9,-999.,9,-999.,9,-999,9,-999,9
49UF20140623,KS14-05,4240,1,9,21968,2,20140724,1355,-1.973,164.9877,4462,1212.1,1202,3.7422,34.5710,2,-999.,9,98.53,2,99.28,2,38.83,2,0.00,2,2.77,2,-999.,9,-999.,9,-999.,9,-999,9,-999,9
49UF20140623,KS14-05,4240,1,8,21982,2,20140724,1350,-1.973,164.9877,4462,1415.1,1403,3.4270,34.5839,2,-999.,9,97.75,2,108.00,2,39.09,2,0.00,2,2.79,2,-999.,9,-999.,9,-999.,9,-999,9,-999,9
49UF20140623,KS14-05,4240,1,7,21966,2,20140724,1346,-1.973,164.9877,4462,1617.0,1602,2.8846,34.6046,2,-999.,9,107.95,2,117.93,2,38.52,2,0.00,2,2.74,2,-999.,9,-999.,9,-999.,9,-999,9,-999,9
49UF20140623,KS14-05,4240,1,3,24269,2,20140724,1342,-1.973,164.9877,4462,1819.0,1801,2.5741,34.6192,2,-999.,9,111.20,6,125.67,6,38.46,6,0.00,6,2.72,6,-999.,9,-999.,9,-999.,9,-999,9,-999,9
49UF20140623,KS14-05,4240,1,2,21961,2,20140724,1338,-1.973,164.9877,4462,2024.2,2003,2.2404,34.6368,2,-999.,9,118.23,2,132.92,2,38.21,2,0.00,2,2.69,2,-999.,9,-999.,9,-999.,9,-999,9,-999,9
49UF20140623,KS14-05,4240,1,1,21960,2,20140724,1338,-1.973,164.9877,4462,2024.2,2003,2.2404,34.6368,2,-999.,9,118.66,2,132.82,2,38.25,2,0.00,2,2.70,2,-999.,9,-999.,9,-999.,9,-999,9,-999,9
49UF20140623,KS14-05,4242,1,-999,0,2,20140725,0525,0.0498,165.005,4404,0.0,0,30.0037,34.3205,2,34.2943,2,194.56,2,1.05,2,0.00,2,0.00,2,0.11,2,1917.8,2,2254.4,2,8.1032,3,-999,9,-999,9
49UF20140623,KS14-05,4242,1,36,21995,2,20140725,0603,0.0498,165.005,4404,11.4,11,30.0122,34.3228,2,34.3229,2,194.96,2,1.05,2,0.00,2,0.00,2,0.10,2,1920.1,2,2256.0,2,8.1246,2,-999,9,-999,9
49UF20140623,KS14-05,4242,1,35,22087,2,20140725,0601,0.0498,165.005,4404,26.8,27,30.0272,34.3384,2,-999.0000,9,194.66,2,1.04,2,0.00,2,0.00,2,0.10,2,1921.8,2,2255.2,2,8.1251,6,-999,9,-999,9
49UF20140623,KS14-05,4242,1,34,22666,2,20140725,0600,0.0498,165.005,4404,52.2,52,30.2384,34.7236,2,-999.0000,9,198.07,2,1.06,2,0.00,2,0.00,2,0.14,2,1942.9,2,2283.2,2,8.1225,2,-999,9,-999,9
49UF20140623,KS14-05,4242,1,33,21992,2,20140725,0558,0.0498,165.005,4404,77.3,77,29.5986,35.2063,2,-999.0000,9,195.67,2,1.34,2,0.00,2,0.00,2,0.24,2,1986.9,6,2314.4,6,8.0958,2,-999,9,-999,9
49UF20140623,KS14-05,4242,1,32,21991,2,20140725,0556,0.0498,165.005,4404,101.6,101,29.0607,35.3016,2,35.3064,4,188.31,2,1.55,2,1.16,2,0.15,2,0.33,2,2005.5,2,2321.7,2,8.0779,2,-999,9,-999,9
49UF20140623,KS14-05,4242,1,31,21990,2,20140725,0555,0.0498,165.005,4404,126.8,126,27.4847,35.4749,2,-999.0000,9,158.58,2,2.42,2,6.74,2,0.35,2,0.63,2,2048.6,2,2325.1,2,8.0004,2,-999,9,-999,9
49UF20140623,KS14-05,4242,1,30,21989,2,20140725,0553,0.0498,165.005,4404,154.5,154,24.3185,35.2054,2,-999.0000,9,137.43,2,4.01,2,8.14,2,0.02,2,0.68,2,2065.0,2,2312.2,2,7.9517,2,-999,9,-999,9
49UF20140623,KS14-05,4242,1,29,21988,2,20140725,0551,0.0498,165.005,4404,204.1,203,17.8871,35.2566,2,35.2722,4,140.70,6,6.93,6,11.82,6,0.01,6,0.93,6,2120.2,2,2321.5,2,7.8534,2,-999,9,-999,9
49UF20140623,KS14-05,4242,1,28,21987,2,20140725,0549,0.0498,165.005,4404,254.3,253,13.3116,34.9208,2,-999.0000,9,140.26,2,15.10,2,18.28,2,0.00,2,1.35,2,2153.5,2,2307.4,2,7.7552,2,-999,9,-999,9
49UF20140623,KS14-05,4242,1,27,21986,2,20140725,0546,0.0498,165.005,4404,304.9,303,11.7385,34.8274,2,-999.0000,9,113.02,2,19.80,2,23.81,2,0.00,2,1.70,2,2188.0,2,2306.1,2,7.6735,2,-999,9,-999,9
49UF20140623,KS14-05,4242,1,26,21985,2,20140725,0543,0.0498,165.005,4404,355.0,353,10.7711,34.7669,2,-999.0000,9,89.02,2,23.86,2,27.91,2,0.00,2,1.97,2,2212.8,2,2304.0,2,7.6038,2,-999,9,-999,9
49UF20140623,KS14-05,4242,1,25,21984,2,20140725,0541,0.0498,165.005,4404,405.1,402,9.4049,34.6827,2,34.6867,2,85.93,2,28.16,2,30.87,2,0.00,2,2.16,2,2230.8,2,2304.4,2,7.5669,2,-999,9,-999,9
49UF20140623,KS14-05,4242,1,24,21983,2,20140725,0539,0.0498,165.005,4404,455.1,452,8.7164,34.6409,2,-999.0000,9,84.04,2,32.38,2,32.48,2,0.00,2,2.27,2,2235.2,6,2305.9,6,7.5487,2,-999,9,-999,9
49UF20140623,KS14-05,4242,1,23,22095,2,20140725,0536,0.0498,165.005,4404,506.1,503,8.1752,34.6093,2,-999.0000,9,90.45,2,34.42,2,32.73,2,0.00,2,2.29,2,2235.4,2,2308.0,2,7.5492,2,-999,9,-999,9
49UF20140623,KS14-05,4242,1,22,22665,2,20140725,0532,0.0498,165.005,4404,607.2,603,7.2113,34.5574,2,34.5580,2,111.26,2,38.59,2,32.76,2,0.00,2,2.31,2,2234.5,2,2311.1,2,7.5602,2,-999,9,-999,9
49UF20140623,KS14-05,4242,1,21,21980,2,20140725,0528,0.0498,165.005,4404,707.2,702,6.0804,34.5383,2,-999.0000,9,96.32,2,53.21,2,36.45,2,0.00,2,2.58,2,2259.6,2,2322.9,2,7.5210,6,-999,9,-999,9
49UF20140623,KS14-05,4242,1,20,21979,2,20140725,0525,0.0498,165.005,4404,807.2,801,5.5313,34.5326,2,34.5287,2,101.64,2,60.63,2,36.61,2,0.00,2,2.61,2,2266.6,2,2331.6,2,7.5263,2,-999,9,-999,9
49UF20140623,KS14-05,4242,1,19,21978,2,20140725,0525,0.0498,165.005,4404,807.2,801,5.5313,34.5326,2,34.5298,2,101.87,2,60.76,2,36.67,2,0.00,2,2.61,2,2269.3,2,2331.4,2,7.5205,3,-999,9,-999,9
49UF20140623,KS14-05,4242,1,18,21977,2,20140725,0521,0.0498,165.005,4404,908.4,901,4.9173,34.5396,2,-999.0000,9,97.93,2,73.11,2,37.78,2,0.00,2,2.69,2,2284.8,2,2343.2,2,7.5082,2,-999,9,-999,9
49UF20140623,KS14-05,4242,1,17,23679,2,20140725,0518,0.0498,165.005,4404,1009.5,1002,4.3830,34.5546,2,34.5564,6,92.92,6,86.40,6,38.65,6,0.00,6,2.77,6,2301.8,2,2357.7,2,7.5034,2,-999,9,-999,9
49UF20140623,KS14-05,4242,1,16,21975,2,20140725,0513,0.0498,165.005,4404,1211.6,1201,3.8615,34.5694,2,34.5693,2,94.94,2,97.93,2,38.98,2,0.00,2,2.79,2,2313.9,2,2370.9,2,7.4991,2,-999,9,-999,9
49UF20140623,KS14-05,4242,1,15,21974,2,20140725,0508,0.0498,165.005,4404,1414.2,1402,3.1926,34.5923,2,34.5913,2,100.77,2,112.82,2,38.94,2,0.00,2,2.78,2,2328.6,2,2386.1,2,7.5091,2,-999,9,-999,9
49UF20140623,KS14-05,4242,1,14,21973,2,20140725,0503,0.0498,165.005,4404,1617.6,1602,2.8891,34.6054,2,34.6054,2,103.90,2,120.07,2,38.89,2,0.00,2,2.77,2,2332.5,2,2394.1,2,7.5102,2,-999,9,-999,9
49UF20140623,KS14-05,4242,1,13,21972,2,20140725,0458,0.0498,165.005,4404,1820.0,1802,2.5558,34.6212,2,34.6217,2,108.70,2,127.66,2,38.71,2,0.00,2,2.75,2,2340.4,2,2405.1,2,7.5229,2,-999,9,-999,9
49UF20140623,KS14-05,4242,1,12,21994,2,20140725,0453,0.0498,165.005,4404,2020.2,1999,2.2377,34.6369,2,34.6370,2,115.37,2,134.49,2,38.35,2,0.00,2,2.71,2,2342.8,2,2410.0,2,7.5323,2,-999,9,-999,9
49UF20140623,KS14-05,4242,1,11,21970,2,20140725,0447,0.0498,165.005,4404,2274.4,2250,2.0151,34.6493,2,34.6473,4,121.00,2,139.56,2,38.10,2,0.00,2,2.68,2,2344.3,2,2415.5,2,7.5361,2,-999,9,-999,9
49UF20140623,KS14-05,4242,1,10,21969,2,20140725,0441,0.0498,165.005,4404,2530.2,2501,1.8486,34.6585,2,34.6580,2,125.74,2,142.72,2,37.82,2,0.00,2,2.65,2,2345.9,2,2419.3,2,7.5463,2,-999,9,-999,9
49UF20140623,KS14-05,4242,1,9,21968,2,20140725,0435,0.0498,165.005,4404,2785.2,2752,1.7221,34.6652,2,34.6657,2,132.00,2,144.60,2,37.46,2,0.00,2,2.62,2,2343.3,6,2421.0,6,7.5534,2,-999,9,-999,9
49UF20140623,KS14-05,4242,1,8,21982,2,20140725,0430,0.0498,165.005,4404,3036.7,2998,1.6677,34.6687,2,34.6687,2,136.27,2,144.82,2,37.08,2,0.00,2,2.59,2,2338.1,2,2421.0,2,7.5602,2,-999,9,-999,9
49UF20140623,KS14-05,4242,1,7,21966,2,20140725,0424,0.0498,165.005,4404,3295.6,3252,1.5994,34.6736,2,34.6738,6,141.80,6,143.72,6,36.76,6,0.00,6,2.56,6,2334.4,2,2419.2,2,7.5710,2,-999,9,-999,9
49UF20140623,KS14-05,4242,1,6,21965,2,20140725,0419,0.0498,165.005,4404,3552.6,3504,1.5270,34.6794,2,34.6793,2,149.25,2,142.67,2,36.24,2,0.00,2,2.52,2,2333.3,2,2421.0,2,7.5758,6,-999,9,-999,9
49UF20140623,KS14-05,4242,1,5,24272,2,20140725,0414,0.0498,165.005,4404,3808.4,3754,1.4642,34.6856,2,34.6850,2,157.10,2,139.38,2,35.70,2,0.00,2,2.48,2,2325.8,2,2414.1,2,7.5872,2,-999,9,-999,9
49UF20140623,KS14-05,4242,1,4,21963,2,20140725,0414,0.0498,165.005,4404,3808.4,3754,1.4642,34.6856,2,34.6861,2,157.38,2,139.52,2,35.69,2,0.00,2,2.47,2,2326.5,2,2414.2,2,7.5901,2,-999,9,-999,9
49UF20140623,KS14-05,4242,1,3,24269,2,20140725,0410,0.0498,165.005,4404,4062.5,4002,1.4153,34.6906,2,34.6911,2,166.22,2,135.97,2,35.06,2,0.00,2,2.43,2,2314.9,2,2407.6,2,7.5979,6,-999,9,-999,9
49UF20140623,KS14-05,4242,1,2,21961,2,20140725,0405,0.0498,165.005,4404,4319.9,4253,1.3655,34.6954,2,34.6966,4,175.95,2,131.20,2,34.38,2,0.00,2,2.37,2,2303.8,6,2398.9,6,7.6063,2,-999,9,-999,9
49UF20140623,KS14-05,4242,1,1,21960,2,20140725,0401,0.0498,165.005,4404,4455.6,4385,1.3415,34.6977,2,34.6983,2,180.03,6,128.87,6,34.05,6,0.00,6,2.36,6,2299.4,2,2395.4,2,7.6090,2,-999,9,-999,9