BOTTLE,20171119JMAGEMD
EXPOCODE,SECT_ID,STNNBR,CASTNO,SAMPNO,BTLNBR,BTLNBR_FLAG_W,DATE,TIME,LATITUDE,LONGITUDE,DEPTH,CTDPRS,CTDDEP,CTDTMP,CTDSAL,CTDSAL_FLAG_W,SALNTY,SALNTY_FLAG_W,OXYGEN,OXYGEN_FLAG_W,SILCAT,SILCAT_FLAG_W,NO2+NO3,NO2+NO3_FLAG_W,NITRIT,NITRIT_FLAG_W,PHSPHT,PHSPHT_FLAG_W,TCARBN,TCARBN_FLAG_W,ALKALI,ALKALI_FLAG_W,PH_TOT,PH_TOT_FLAG_W,CFC-11,CFC-11_FLAG_W,CFC-12,CFC-12_FLAG_W
,,,,,,,UTC,UTC,,,METER,DBAR,METERS,ITS-90,PSS-78,,PSS-78,,UMOL/KG,,UMOL/KG,,UMOL/KG,,UMOL/KG,,UMOL/KG,,UMOL/KG,,UMOL/KG,,@25DEG-C,,PMOL/KG,,PMOL/KG,
49UF20140623,KS14-05,4255,1,-999,0,2,20140808,2205,11.9848,164.4805,4656,0.0,0,29.7107,34.1668,2,-999.0000,9,194.08,2,1.11,2,0.00,2,0.00,2,0.11,2,-999.,9,-999.,9,-999.,9,-999,9,-999,9
49UF20140623,KS14-05,4255,1,36,21995,2,20140808,2232,11.9848,164.4805,4656,11.4,11,29.6618,34.1648,2,34.1647,2,194.26,2,1.07,2,0.00,2,0.00,2,0.10,2,-999.,9,-999.,9,-999.,9,-999,9,-999,9
49UF20140623,KS14-05,4255,1,35,22087,2,20140808,2231,11.9848,164.4805,4656,26.3,26,29.6543,34.1651,2,-999.0000,9,194.57,2,1.12,2,0.00,2,0.00,2,0.10,2,-999.,9,-999.,9,-999.,9,-999,9,-999,9
49UF20140623,KS14-05,4255,1,34,22666,2,20140808,2230,11.9848,164.4805,4656,51.2,51,28.7643,34.8055,2,-999.0000,9,204.02,2,1.07,2,0.00,2,0.00,2,0.13,2,-999.,9,-999.,9,-999.,9,-999,9,-999,9
49UF20140623,KS14-05,4255,1,33,21992,2,20140808,2228,11.9848,164.4805,4656,77.6,77,27.4526,35.0402,2,-999.0000,9,209.04,2,1.12,2,0.00,2,0.00,2,0.14,2,-999.,9,-999.,9,-999.,9,-999,9,-999,9
49UF20140623,KS14-05,4255,1,32,21991,2,20140808,2226,11.9848,164.4805,4656,102.8,102,25.7535,35.1579,2,35.1579,2,208.87,2,1.23,2,0.00,2,0.00,2,0.15,2,-999.,9,-999.,9,-999.,9,-999,9,-999,9
49UF20140623,KS14-05,4255,1,31,21990,2,20140808,2225,11.9848,164.4805,4656,127.4,127,23.5258,35.1753,2,-999.0000,9,199.53,2,1.56,2,0.07,2,0.03,2,0.18,2,-999.,9,-999.,9,-999.,9,-999,9,-999,9
49UF20140623,KS14-05,4255,1,30,21989,2,20140808,2224,11.9848,164.4805,4656,153.7,153,21.2658,35.0629,2,-999.0000,9,184.73,2,2.40,2,1.61,2,0.16,2,0.30,2,-999.,9,-999.,9,-999.,9,-999,9,-999,9
49UF20140623,KS14-05,4255,1,29,21988,2,20140808,2222,11.9848,164.4805,4656,204.8,204,15.9015,34.5717,2,34.5954,4,167.51,2,7.27,2,8.78,2,0.01,2,0.72,2,-999.,9,-999.,9,-999.,9,-999,9,-999,9
49UF20140623,KS14-05,4255,1,28,21987,2,20140808,2220,11.9848,164.4805,4656,254.2,253,11.2249,34.3457,2,-999.0000,9,108.00,2,23.86,2,22.60,2,0.00,2,1.73,2,-999.,9,-999.,9,-999.,9,-999,9,-999,9
49UF20140623,KS14-05,4255,1,27,21986,2,20140808,2219,11.9848,164.4805,4656,305.0,303,9.8133,34.4116,2,-999.0000,9,66.20,6,33.72,6,29.53,6,0.00,6,2.23,6,-999.,9,-999.,9,-999.,9,-999,9,-999,9
49UF20140623,KS14-05,4255,1,26,21985,2,20140808,2217,11.9848,164.4805,4656,355.1,353,9.0626,34.5248,2,-999.0000,9,45.09,2,39.15,2,33.76,2,0.00,2,2.47,2,-999.,9,-999.,9,-999.,9,-999,9,-999,9
49UF20140623,KS14-05,4255,1,25,21984,2,20140808,2215,11.9848,164.4805,4656,406.4,404,8.3104,34.5385,2,34.5393,2,50.53,2,43.87,2,34.95,2,0.00,2,2.54,2,-999.,9,-999.,9,-999.,9,-999,9,-999,9
49UF20140623,KS14-05,4255,1,24,21983,2,20140808,2213,11.9848,164.4805,4656,456.6,453,7.6937,34.5221,2,-999.0000,9,60.49,2,48.64,2,35.32,2,0.00,2,2.56,2,-999.,9,-999.,9,-999.,9,-999,9,-999,9
49UF20140623,KS14-05,4255,1,23,22095,2,20140808,2212,11.9848,164.4805,4656,507.0,503,7.2359,34.5258,2,-999.0000,9,58.70,2,53.08,2,36.44,2,0.00,2,2.64,2,-999.,9,-999.,9,-999.,9,-999,9,-999,9
49UF20140623,KS14-05,4255,1,22,22665,2,20140808,2209,11.9848,164.4805,4656,608.6,604,6.4621,34.5134,2,34.5134,6,58.79,2,62.51,2,37.81,2,0.00,2,2.74,2,-999.,9,-999.,9,-999.,9,-999,9,-999,9
49UF20140623,KS14-05,4255,1,21,21980,2,20140808,2206,11.9848,164.4805,4656,707.9,703,5.7984,34.5174,2,-999.0000,9,61.30,6,71.83,6,38.82,6,0.00,6,2.81,6,-999.,9,-999.,9,-999.,9,-999,9,-999,9
49UF20140623,KS14-05,4255,1,20,21979,2,20140808,2204,11.9848,164.4805,4656,808.8,803,5.2419,34.5287,2,34.5290,2,62.79,2,80.74,2,39.62,2,0.00,2,2.86,2,-999.,9,-999.,9,-999.,9,-999,9,-999,9
49UF20140623,KS14-05,4255,1,19,21978,2,20140808,2201,11.9848,164.4805,4656,910.3,903,4.9483,34.5358,2,-999.0000,9,62.57,2,86.01,2,40.07,2,0.00,2,2.90,2,-999.,9,-999.,9,-999.,9,-999,9,-999,9
49UF20140623,KS14-05,4255,1,18,21977,2,20140808,2159,11.9848,164.4805,4656,1011.9,1004,4.5470,34.5454,2,34.5458,2,66.19,2,93.55,2,40.33,2,0.00,2,2.91,2,-999.,9,-999.,9,-999.,9,-999,9,-999,9
49UF20140623,KS14-05,4255,1,17,23679,2,20140808,2154,11.9848,164.4805,4656,1213.6,1203,3.7790,34.5668,2,34.5693,4,74.29,2,108.91,2,40.35,2,0.00,2,2.91,2,-999.,9,-999.,9,-999.,9,-999,9,-999,9
49UF20140623,KS14-05,4255,1,16,21975,2,20140808,2150,11.9848,164.4805,4656,1416.2,1403,3.1666,34.5862,2,34.5847,2,83.78,2,122.15,2,40.11,2,0.00,2,2.88,2,-999.,9,-999.,9,-999.,9,-999,9,-999,9
49UF20140623,KS14-05,4255,1,15,21974,2,20140808,2145,11.9848,164.4805,4656,1617.1,1602,2.6947,34.6043,2,34.6046,2,90.90,2,132.48,2,39.82,2,0.00,2,2.84,2,-999.,9,-999.,9,-999.,9,-999,9,-999,9
49UF20140623,KS14-05,4255,1,14,21973,2,20140808,2141,11.9848,164.4805,4656,1822.0,1804,2.3971,34.6194,2,34.6206,2,98.77,2,138.59,2,39.44,2,0.00,2,2.81,2,-999.,9,-999.,9,-999.,9,-999,9,-999,9
49UF20140623,KS14-05,4255,1,13,21972,2,20140808,2136,11.9848,164.4805,4656,2024.6,2003,2.1869,34.6332,2,34.6340,2,105.13,2,142.45,2,39.13,2,0.00,2,2.77,2,-999.,9,-999.,9,-999.,9,-999,9,-999,9
49UF20140623,KS14-05,4255,1,12,21994,2,20140808,2131,11.9848,164.4805,4656,2277.1,2252,1.9910,34.6471,2,34.6473,2,112.47,6,145.21,6,38.65,6,0.00,6,2.73,6,-999.,9,-999.,9,-999.,9,-999,9,-999,9
49UF20140623,KS14-05,4255,1,11,21970,2,20140808,2126,11.9848,164.4805,4656,2533.3,2504,1.8688,34.6554,2,34.6565,2,118.60,2,147.57,2,38.33,2,0.00,2,2.70,2,-999.,9,-999.,9,-999.,9,-999,9,-999,9
49UF20140623,KS14-05,4255,1,10,21969,2,20140808,2121,11.9848,164.4805,4656,2785.6,2751,1.7630,34.6627,2,34.6631,2,124.68,2,148.29,2,37.95,2,0.00,2,2.67,2,-999.,9,-999.,9,-999.,9,-999,9,-999,9
49UF20140623,KS14-05,4255,1,9,21968,2,20140808,2115,11.9848,164.4805,4656,3040.9,3002,1.6726,34.6687,2,34.6691,2,130.45,2,148.60,2,37.52,2,0.00,2,2.64,2,-999.,9,-999.,9,-999.,9,-999,9,-999,9
49UF20140623,KS14-05,4255,1,8,21982,2,20140808,2110,11.9848,164.4805,4656,3297.7,3253,1.5837,34.6749,2,34.6747,2,138.45,2,148.97,2,37.01,2,0.00,2,2.59,2,-999.,9,-999.,9,-999.,9,-999,9,-999,9
49UF20140623,KS14-05,4255,1,7,21966,2,20140808,2105,11.9848,164.4805,4656,3551.4,3502,1.5145,34.6803,2,34.6799,6,146.27,2,146.88,2,36.47,2,0.00,2,2.55,2,-999.,9,-999.,9,-999.,9,-999,9,-999,9
49UF20140623,KS14-05,4255,1,6,21965,2,20140808,2100,11.9848,164.4805,4656,3806.8,3751,1.4714,34.6846,2,34.6829,4,153.31,2,144.31,2,36.00,2,0.00,2,2.51,2,-999.,9,-999.,9,-999.,9,-999,9,-999,9
49UF20140623,KS14-05,4255,1,5,24272,2,20140808,2100,11.9848,164.4805,4656,3806.8,3751,1.4714,34.6846,2,34.6840,2,152.44,2,144.25,2,36.02,2,0.00,2,2.52,2,-999.,9,-999.,9,-999.,9,-999,9,-999,9
49UF20140623,KS14-05,4255,1,4,21963,2,20140808,2055,11.9848,164.4805,4656,4064.8,4003,1.4321,34.6892,2,34.6906,4,162.24,2,139.08,2,35.29,2,0.00,2,2.46,2,-999.,9,-999.,9,-999.,9,-999,9,-999,9
49UF20140623,KS14-05,4255,1,3,24269,2,20140808,2050,11.9848,164.4805,4656,4319.7,4252,1.3911,34.6943,2,34.6947,2,170.81,6,133.88,6,34.69,6,0.00,6,2.42,6,-999.,9,-999.,9,-999.,9,-999,9,-999,9
49UF20140623,KS14-05,4255,1,2,21961,2,20140808,2044,11.9848,164.4805,4656,4575.6,4501,1.3726,34.6973,2,34.6978,2,177.75,2,130.18,2,34.12,2,0.00,2,2.37,2,-999.,9,-999.,9,-999.,9,-999,9,-999,9
49UF20140623,KS14-05,4255,1,1,21960,2,20140808,2041,11.9848,164.4805,4656,4731.3,4653,1.3773,34.6982,2,34.6977,2,178.65,2,129.67,2,34.09,2,0.00,2,2.37,2,-999.,9,-999.,9,-999.,9,-999,9,-999,9
49UF20140623,KS14-05,4256,1,-999,0,2,20140809,0724,12.9948,164.977,5198,0.0,0,29.9834,34.2533,2,-999.0000,9,194.42,2,1.04,2,0.00,2,0.00,2,0.16,2,-999.,9,-999.,9,-999.,9,-999,9,-999,9
49UF20140623,KS14-05,4256,1,36,21995,2,20140809,0750,12.9948,164.977,5198,11.8,12,29.5787,34.2412,2,34.2416,2,194.43,2,1.03,2,0.00,2,0.00,2,0.11,2,-999.,9,-999.,9,-999.,9,-999,9,-999,9
49UF20140623,KS14-05,4256,1,35,22087,2,20140809,0749,12.9948,164.977,5198,27.4,27,29.5182,34.2698,2,-999.0000,9,195.09,2,1.02,2,0.00,2,0.00,2,0.11,2,-999.,9,-999.,9,-999.,9,-999,9,-999,9
49UF20140623,KS14-05,4256,1,34,22666,2,20140809,0747,12.9948,164.977,5198,51.4,51,29.2760,34.4967,2,-999.0000,9,199.63,2,1.03,2,0.00,2,0.00,2,0.12,2,-999.,9,-999.,9,-999.,9,-999,9,-999,9
49UF20140623,KS14-05,4256,1,33,21992,2,20140809,0746,12.9948,164.977,5198,79.2,79,27.5127,34.9564,2,-999.0000,9,208.58,2,1.06,2,0.00,2,0.00,2,0.14,2,-999.,9,-999.,9,-999.,9,-999,9,-999,9
49UF20140623,KS14-05,4256,1,32,21991,2,20140809,0744,12.9948,164.977,5198,102.7,102,25.6628,35.1096,2,35.1125,2,210.67,2,1.27,2,0.00,2,0.00,2,0.16,2,-999.,9,-999.,9,-999.,9,-999,9,-999,9
49UF20140623,KS14-05,4256,1,31,21990,2,20140809,0742,12.9948,164.977,5198,127.6,127,24.0793,35.1692,2,-999.0000,9,204.08,2,1.40,2,0.00,2,0.00,2,0.17,2,-999.,9,-999.,9,-999.,9,-999,9,-999,9
49UF20140623,KS14-05,4256,1,30,21989,2,20140809,0741,12.9948,164.977,5198,153.6,153,22.1668,35.1773,2,-999.0000,9,186.95,2,1.86,2,0.86,2,0.20,2,0.24,2,-999.,9,-999.,9,-999.,9,-999,9,-999,9
49UF20140623,KS14-05,4256,1,29,21988,2,20140809,0740,12.9948,164.977,5198,204.7,203,16.6597,34.6314,2,34.6331,2,168.13,2,6.47,2,8.01,2,0.01,2,0.71,2,-999.,9,-999.,9,-999.,9,-999,9,-999,9
49UF20140623,KS14-05,4256,1,28,21987,2,20140809,0738,12.9948,164.977,5198,252.2,251,12.5860,34.3242,2,-999.0000,9,168.05,6,14.82,6,14.55,6,0.00,6,1.12,6,-999.,9,-999.,9,-999.,9,-999,9,-999,9
49UF20140623,KS14-05,4256,1,27,21986,2,20140809,0736,12.9948,164.977,5198,301.8,300,10.1297,34.3186,2,-999.0000,9,85.99,2,30.59,2,26.29,2,0.00,2,2.06,2,-999.,9,-999.,9,-999.,9,-999,9,-999,9
49UF20140623,KS14-05,4256,1,26,21985,2,20140809,0735,12.9948,164.977,5198,354.5,352,9.6094,34.5204,2,-999.0000,9,44.70,2,35.96,2,32.66,2,0.00,2,2.42,2,-999.,9,-999.,9,-999.,9,-999,9,-999,9
49UF20140623,KS14-05,4256,1,25,21984,2,20140809,0733,12.9948,164.977,5198,406.2,403,8.7894,34.5116,2,34.5095,4,47.77,2,41.34,2,34.02,2,0.00,2,2.50,2,-999.,9,-999.,9,-999.,9,-999,9,-999,9
49UF20140623,KS14-05,4256,1,24,21983,2,20140809,0732,12.9948,164.977,5198,455.6,452,8.0955,34.5114,2,-999.0000,9,54.04,2,46.30,2,34.95,2,0.00,2,2.55,2,-999.,9,-999.,9,-999.,9,-999,9,-999,9
49UF20140623,KS14-05,4256,1,23,22095,2,20140809,0730,12.9948,164.977,5198,505.7,502,7.7231,34.5141,2,-999.0000,9,57.93,2,49.09,2,35.36,2,0.00,2,2.57,2,-999.,9,-999.,9,-999.,9,-999,9,-999,9
49UF20140623,KS14-05,4256,1,22,22665,2,20140809,0728,12.9948,164.977,5198,608.2,604,6.7412,34.5061,2,34.5060,2,57.20,6,59.32,6,37.24,6,0.00,6,2.72,6,-999.,9,-999.,9,-999.,9,-999,9,-999,9
49UF20140623,KS14-05,4256,1,21,21980,2,20140809,0725,12.9948,164.977,5198,708.5,703,6.0596,34.5125,2,-999.0000,9,56.23,2,68.89,2,38.77,2,0.00,2,2.82,2,-999.,9,-999.,9,-999.,9,-999,9,-999,9
49UF20140623,KS14-05,4256,1,20,21979,2,20140809,0723,12.9948,164.977,5198,809.0,803,5.4892,34.5174,2,34.5175,6,57.01,2,77.63,2,39.59,2,0.00,2,2.88,2,-999.,9,-999.,9,-999.,9,-999,9,-999,9
49UF20140623,KS14-05,4256,1,19,21978,2,20140809,0720,12.9948,164.977,5198,911.0,904,4.9842,34.5332,2,-999.0000,9,59.93,2,85.71,2,40.20,2,0.00,2,2.92,2,-999.,9,-999.,9,-999.,9,-999,9,-999,9
49UF20140623,KS14-05,4256,1,18,21977,2,20140809,0718,12.9948,164.977,5198,1010.2,1002,4.5071,34.5404,2,34.5403,2,60.60,2,95.57,2,40.73,2,0.00,2,2.96,2,-999.,9,-999.,9,-999.,9,-999,9,-999,9
49UF20140623,KS14-05,4256,1,17,23679,2,20140809,0713,12.9948,164.977,5198,1211.8,1201,3.7987,34.5613,2,34.5608,2,67.70,2,110.03,2,40.87,2,0.00,2,2.96,2,-999.,9,-999.,9,-999.,9,-999,9,-999,9
49UF20140623,KS14-05,4256,1,16,21975,2,20140809,0709,12.9948,164.977,5198,1415.9,1403,3.1894,34.5801,2,34.5798,2,76.95,2,123.39,2,40.56,2,0.00,2,2.92,2,-999.,9,-999.,9,-999.,9,-999,9,-999,9
49UF20140623,KS14-05,4256,1,15,21974,2,20140809,0704,12.9948,164.977,5198,1616.1,1601,2.7471,34.6000,2,34.6000,2,87.13,2,132.27,2,40.00,2,0.00,2,2.87,2,-999.,9,-999.,9,-999.,9,-999,9,-999,9
49UF20140623,KS14-05,4256,1,14,21973,2,20140809,0700,12.9948,164.977,5198,1820.5,1802,2.3978,34.6183,2,34.6199,2,96.60,2,139.00,2,39.50,2,0.00,2,2.82,2,-999.,9,-999.,9,-999.,9,-999,9,-999,9
49UF20140623,KS14-05,4256,1,13,21972,2,20140809,0656,12.9948,164.977,5198,2022.7,2001,2.1561,34.6317,2,34.6333,6,104.33,6,143.83,6,39.09,6,0.00,6,2.79,6,-999.,9,-999.,9,-999.,9,-999,9,-999,9
49UF20140623,KS14-05,4256,1,12,21994,2,20140809,0651,12.9948,164.977,5198,2278.8,2253,1.9574,34.6467,2,34.6478,2,111.91,2,147.32,2,38.63,2,0.00,2,2.74,2,-999.,9,-999.,9,-999.,9,-999,9,-999,9
49UF20140623,KS14-05,4256,1,11,21970,2,20140809,0646,12.9948,164.977,5198,2532.3,2503,1.8045,34.6578,2,34.6576,2,120.12,2,149.22,2,38.21,2,0.00,2,2.71,2,-999.,9,-999.,9,-999.,9,-999,9,-999,9
49UF20140623,KS14-05,4256,1,10,21969,3,20140809,0641,12.9948,164.977,5198,2787.7,2753,1.7115,34.6642,2,34.6633,2,125.47,2,149.76,2,37.78,2,0.00,2,2.67,2,-999.,9,-999.,9,-999.,9,-999,9,-999,9
49UF20140623,KS14-05,4256,1,9,21968,2,20140809,0636,12.9948,164.977,5198,3041.8,3003,1.6108,34.6705,2,34.6712,2,132.62,2,151.02,2,37.36,2,0.00,2,2.63,2,-999.,9,-999.,9,-999.,9,-999,9,-999,9
49UF20140623,KS14-05,4256,1,8,21982,2,20140809,0631,12.9948,164.977,5198,3297.7,3253,1.5584,34.6751,2,34.6744,6,138.81,2,150.15,2,36.97,2,0.00,2,2.59,2,-999.,9,-999.,9,-999.,9,-999,9,-999,9
49UF20140623,KS14-05,4256,1,7,21966,2,20140809,0625,12.9948,164.977,5198,3551.7,3502,1.5062,34.6797,2,34.6761,4,144.05,2,148.58,2,36.53,2,0.00,2,2.57,2,-999.,9,-999.,9,-999.,9,-999,9,-999,9
49UF20140623,KS14-05,4256,1,6,21965,2,20140809,0620,12.9948,164.977,5198,3807.7,3752,1.4720,34.6835,2,34.6839,2,150.63,2,147.05,2,36.07,2,0.00,2,2.53,2,-999.,9,-999.,9,-999.,9,-999,9,-999,9
49UF20140623,KS14-05,4256,1,5,24272,2,20140809,0614,12.9948,164.977,5198,4064.5,4003,1.4482,34.6868,2,34.6874,2,156.59,2,143.94,2,35.74,2,0.00,2,2.50,2,-999.,9,-999.,9,-999.,9,-999,9,-999,9
49UF20140623,KS14-05,4256,1,4,21963,2,20140809,0609,12.9948,164.977,5198,4320.4,4252,1.4207,34.6909,2,34.6912,6,164.16,6,139.26,6,35.17,6,0.00,6,2.46,6,-999.,9,-999.,9,-999.,9,-999,9,-999,9
49UF20140623,KS14-05,4256,1,3,24269,2,20140809,0604,12.9948,164.977,5198,4576.3,4502,1.4095,34.6940,2,34.6928,2,169.03,2,135.82,2,34.75,2,0.00,2,2.43,2,-999.,9,-999.,9,-999.,9,-999,9,-999,9
49UF20140623,KS14-05,4256,1,2,21961,2,20140809,0554,12.9948,164.977,5198,5091.5,5003,1.4118,34.6973,2,34.6987,2,177.33,2,131.84,2,34.19,2,0.00,2,2.38,2,-999.,9,-999.,9,-999.,9,-999,9,-999,9
49UF20140623,KS14-05,4256,1,1,21960,2,20140809,0549,12.9948,164.977,5198,5275.9,5182,1.3934,34.6997,2,34.7013,4,182.08,2,129.64,2,33.90,2,0.00,2,2.36,2,-999.,9,-999.,9,-999.,9,-999,9,-999,9