BOTTLE,20171119JMAGEMD
EXPOCODE,SECT_ID,STNNBR,CASTNO,SAMPNO,BTLNBR,BTLNBR_FLAG_W,DATE,TIME,LATITUDE,LONGITUDE,DEPTH,CTDPRS,CTDDEP,CTDTMP,CTDSAL,CTDSAL_FLAG_W,SALNTY,SALNTY_FLAG_W,OXYGEN,OXYGEN_FLAG_W,SILCAT,SILCAT_FLAG_W,NO2+NO3,NO2+NO3_FLAG_W,NITRIT,NITRIT_FLAG_W,PHSPHT,PHSPHT_FLAG_W,TCARBN,TCARBN_FLAG_W,ALKALI,ALKALI_FLAG_W,PH_TOT,PH_TOT_FLAG_W,CFC-11,CFC-11_FLAG_W,CFC-12,CFC-12_FLAG_W
,,,,,,,UTC,UTC,,,METER,DBAR,METERS,ITS-90,PSS-78,,PSS-78,,UMOL/KG,,UMOL/KG,,UMOL/KG,,UMOL/KG,,UMOL/KG,,UMOL/KG,,UMOL/KG,,@25DEG-C,,PMOL/KG,,PMOL/KG,
49UF20140623,KS14-05,4221,1,-999,0,2,20140706,0745,10.0297,136.9878,4809,0.0,0,29.6398,34.0951,2,34.0917,2,195.12,2,1.05,2,0.01,2,0.00,2,0.07,2,1905.0,2,2238.5,2,8.1236,2,-999,9,-999,9
49UF20140623,KS14-05,4221,1,36,21995,2,20140706,0828,10.0297,136.9878,4809,11.6,12,29.6381,34.0952,2,34.0937,2,194.85,2,1.05,2,0.06,2,0.00,2,0.06,2,1904.5,2,2238.6,2,8.1133,2,-999,9,-999,9
49UF20140623,KS14-05,4221,1,35,22087,2,20140706,0827,10.0297,136.9878,4809,27.0,27,29.5102,34.0874,2,-999.0000,9,195.19,2,0.99,2,0.01,2,0.00,2,0.05,2,1904.1,2,2238.6,2,8.1215,2,-999,9,-999,9
49UF20140623,KS14-05,4221,1,34,22666,2,20140706,0825,10.0297,136.9878,4809,52.7,52,29.4887,34.0886,2,-999.0000,9,194.95,2,1.02,2,0.00,2,0.00,2,0.05,2,1902.6,2,2240.1,2,8.1210,6,-999,9,-999,9
49UF20140623,KS14-05,4221,1,33,21992,2,20140706,0823,10.0297,136.9878,4809,78.0,78,29.2400,34.2716,2,-999.0000,9,197.87,2,1.03,2,0.04,2,0.00,2,0.07,2,1920.8,2,2252.9,2,8.1181,2,-999,9,-999,9
49UF20140623,KS14-05,4221,1,32,21991,2,20140706,0822,10.0297,136.9878,4809,103.5,103,26.3985,34.8968,2,34.9034,2,187.20,2,1.62,2,0.35,2,0.05,2,0.18,2,1994.7,2,2297.1,2,8.0522,2,-999,9,-999,9
49UF20140623,KS14-05,4221,1,31,21990,2,20140706,0820,10.0297,136.9878,4809,130.1,129,23.2050,35.1402,2,-999.0000,9,174.00,2,1.85,2,1.43,2,0.21,2,0.26,2,2044.9,6,2314.2,6,7.9904,2,-999,9,-999,9
49UF20140623,KS14-05,4221,1,30,21989,2,20140706,0819,10.0297,136.9878,4809,153.3,152,21.0999,34.9982,2,-999.0000,9,165.24,2,3.30,2,4.22,2,0.04,2,0.43,2,2068.9,2,2304.7,2,7.9356,2,-999,9,-999,9
49UF20140623,KS14-05,4221,1,29,21988,2,20140706,0815,10.0297,136.9878,4809,205.0,204,14.3825,34.4983,2,34.5019,2,165.39,2,11.27,2,12.03,2,0.01,2,0.91,2,2100.7,2,2276.7,2,7.8092,2,-999,9,-999,9
49UF20140623,KS14-05,4221,1,28,21987,2,20140706,0813,10.0297,136.9878,4809,253.0,251,11.4561,34.4044,2,-999.0000,9,118.10,2,23.91,2,21.74,2,0.00,2,1.62,2,2167.7,2,2281.3,2,7.6587,2,-999,9,-999,9
49UF20140623,KS14-05,4221,1,27,21986,2,20140706,0811,10.0297,136.9878,4809,305.6,304,9.2886,34.4726,2,-999.0000,9,74.88,6,37.82,6,30.66,6,0.00,6,2.23,6,2229.1,2,2299.8,2,7.5374,2,-999,9,-999,9
49UF20140623,KS14-05,4221,1,26,21985,2,20140706,0809,10.0297,136.9878,4809,355.1,353,8.4151,34.4648,2,-999.0000,9,69.48,2,44.09,2,32.83,2,0.00,2,2.38,2,2246.1,2,2305.7,2,7.4988,2,-999,9,-999,9
49UF20140623,KS14-05,4221,1,25,21984,2,20140706,0807,10.0297,136.9878,4809,403.5,401,7.7433,34.4707,2,34.4701,6,78.39,2,48.65,2,33.47,2,0.00,2,2.40,2,2247.1,2,2313.2,2,7.5150,2,-999,9,-999,9
49UF20140623,KS14-05,4221,1,24,21983,2,20140706,0805,10.0297,136.9878,4809,457.7,455,7.3047,34.4724,2,-999.0000,9,81.85,2,51.99,2,33.99,2,0.00,2,2.44,2,2251.2,2,2316.0,2,7.5159,2,-999,9,-999,9
49UF20140623,KS14-05,4221,1,23,22095,2,20140706,0803,10.0297,136.9878,4809,508.1,505,6.8813,34.4776,2,-999.0000,9,84.85,2,55.46,2,34.49,2,0.00,2,2.47,2,2257.4,2,2320.1,2,7.5144,2,-999,9,-999,9
49UF20140623,KS14-05,4221,1,22,22665,2,20140706,0800,10.0297,136.9878,4809,606.6,602,6.1041,34.5051,2,34.5042,2,86.71,2,63.85,2,36.03,2,0.00,2,2.58,2,2268.6,2,2331.6,2,7.5107,2,-999,9,-999,9
49UF20140623,KS14-05,4221,1,21,21980,2,20140706,0756,10.0297,136.9878,4809,708.2,703,5.6726,34.5171,2,-999.0000,9,83.25,2,71.25,2,37.03,2,0.00,2,2.66,2,2281.2,2,2339.9,2,7.5013,2,-999,9,-999,9
49UF20140623,KS14-05,4221,1,20,21979,2,20140706,0753,10.0297,136.9878,4809,807.5,801,5.2589,34.5254,2,34.5247,2,82.49,2,78.69,2,37.75,2,0.00,2,2.71,2,2290.9,2,2347.4,2,7.4933,2,-999,9,-999,9
49UF20140623,KS14-05,4221,1,19,21978,2,20140706,0750,10.0297,136.9878,4809,910.5,903,4.8276,34.5361,2,-999.0000,9,83.97,2,86.65,2,38.17,2,0.00,2,2.74,2,2299.6,2,2354.5,2,7.4969,2,-999,9,-999,9
49UF20140623,KS14-05,4221,1,18,21977,2,20140706,0747,10.0297,136.9878,4809,1009.6,1001,4.4536,34.5471,2,34.5467,2,86.96,2,93.84,2,38.40,2,0.00,2,2.75,2,2304.7,2,2364.3,2,7.4968,2,-999,9,-999,9
49UF20140623,KS14-05,4221,1,17,23679,2,20140706,0742,10.0297,136.9878,4809,1212.7,1202,3.7623,34.5691,2,34.5687,6,91.33,6,106.68,6,38.77,6,0.00,6,2.78,6,2319.1,2,2376.9,2,7.4987,2,-999,9,-999,9
49UF20140623,KS14-05,4221,1,16,21975,2,20140706,0738,10.0297,136.9878,4809,1413.1,1400,3.1565,34.5866,2,34.5863,2,96.00,2,119.92,2,39.03,2,0.00,2,2.79,2,2330.6,2,2391.4,2,7.5032,2,-999,9,-999,9
49UF20140623,KS14-05,4221,1,15,21974,2,20140706,0734,10.0297,136.9878,4809,1617.1,1602,2.6917,34.6065,2,34.6064,2,103.01,2,128.85,2,38.83,2,0.00,2,2.76,2,2336.7,6,2401.0,6,7.5120,2,-999,9,-999,9
49UF20140623,KS14-05,4221,1,14,21973,2,20140706,0730,10.0297,136.9878,4809,1819.6,1801,2.3889,34.6208,2,34.6209,2,108.84,2,134.74,2,38.60,2,0.00,2,2.73,2,2336.0,3,2408.0,2,7.5205,2,-999,9,-999,9
49UF20140623,KS14-05,4221,1,13,21972,2,20140706,0725,10.0297,136.9878,4809,2021.7,2001,2.1977,34.6308,2,34.6319,2,113.97,2,138.04,2,38.36,2,0.00,2,2.71,2,2341.5,2,2412.0,2,7.5251,2,-999,9,-999,9
49UF20140623,KS14-05,4221,1,12,21994,3,20140706,0720,10.0297,136.9878,4809,2275.2,2250,1.9597,34.6447,2,34.6451,2,122.00,2,141.42,2,37.92,2,0.00,2,2.67,2,2341.0,2,2414.7,2,7.5389,2,-999,9,-999,9
49UF20140623,KS14-05,4221,1,11,21970,2,20140706,0715,10.0297,136.9878,4809,2531.6,2502,1.7894,34.6545,2,34.6549,6,128.18,2,144.03,2,37.54,2,0.00,2,2.64,2,2339.7,2,2417.0,2,7.5462,2,-999,9,-999,9
49UF20140623,KS14-05,4221,1,10,21969,2,20140706,0709,10.0297,136.9878,4809,2791.1,2757,1.6702,34.6637,2,34.6607,4,136.29,6,142.72,6,36.96,6,0.00,6,2.59,6,2330.3,2,2415.7,2,7.5592,2,-999,9,-999,9
49UF20140623,KS14-05,4221,1,9,21968,2,20140706,0703,10.0297,136.9878,4809,3037.4,2999,1.6117,34.6686,2,34.6687,2,141.38,2,143.19,2,36.68,2,0.00,2,2.57,2,2332.7,2,2417.1,2,7.5674,2,-999,9,-999,9
49UF20140623,KS14-05,4221,1,8,21982,2,20140706,0659,10.0297,136.9878,4809,3293.3,3249,1.5688,34.6728,2,34.6728,2,146.23,2,142.61,2,36.39,2,0.00,2,2.55,2,2330.8,2,2416.7,2,7.5747,2,-999,9,-999,9
49UF20140623,KS14-05,4221,1,7,21966,2,20140706,0654,10.0297,136.9878,4809,3551.0,3502,1.5437,34.6763,2,34.6759,2,149.58,2,141.58,2,36.07,2,0.00,2,2.52,2,2329.9,2,2417.5,2,7.5765,6,-999,9,-999,9
49UF20140623,KS14-05,4221,1,6,21965,2,20140706,0649,10.0297,136.9878,4809,3808.4,3753,1.5486,34.6779,2,34.6776,2,152.01,2,141.08,2,36.01,2,0.00,2,2.51,2,2326.4,2,2415.2,2,7.5818,2,-999,9,-999,9
49UF20140623,KS14-05,4221,1,5,22085,2,20140706,0643,10.0297,136.9878,4809,4062.9,4002,1.5454,34.6800,2,34.6756,4,152.46,2,139.57,2,35.90,2,0.00,2,2.51,2,2321.1,2,2412.6,2,7.5828,2,-999,9,-999,9
49UF20140623,KS14-05,4221,1,4,21963,2,20140706,0637,10.0297,136.9878,4809,4320.3,4253,1.5348,34.6829,2,34.6836,2,158.21,6,139.32,6,35.55,6,0.00,6,2.48,6,2320.2,2,2412.2,2,7.5967,3,-999,9,-999,9
49UF20140623,KS14-05,4221,1,3,22079,2,20140706,0631,10.0297,136.9878,4809,4576.5,4502,1.5523,34.6840,2,34.6808,4,157.69,2,138.84,2,35.56,2,0.00,2,2.48,2,2320.1,6,2411.4,6,7.5931,2,-999,9,-999,9
49UF20140623,KS14-05,4221,1,2,21961,2,20140706,0625,10.0297,136.9878,4809,4834.0,4753,1.5635,34.6852,2,34.6836,4,160.81,2,138.69,2,35.42,2,0.00,2,2.47,2,2315.9,2,2412.0,2,7.5931,2,-999,9,-999,9
49UF20140623,KS14-05,4221,1,1,21960,2,20140706,0624,10.0297,136.9878,4809,4844.1,4763,1.5647,34.6852,2,34.6851,2,160.76,2,138.86,2,35.46,2,0.00,2,2.47,2,2318.0,2,2410.5,2,7.5910,2,-999,9,-999,9
49UF20140623,KS14-05,4222,1,-999,0,2,20140714,1853,6.0043,136.9977,4169,0.0,0,29.3154,33.8295,2,-999.0000,9,195.86,2,1.19,2,0.00,2,0.00,2,0.02,2,-999.,9,-999.,9,-999.,9,-999,9,-999,9
49UF20140623,KS14-05,4222,1,36,21995,3,20140714,1920,6.0043,136.9977,4169,11.2,11,29.3200,33.8302,2,33.8304,6,195.63,2,1.17,2,0.00,2,0.00,2,0.04,2,-999.,9,-999.,9,-999.,9,-999,9,-999,9
49UF20140623,KS14-05,4222,1,35,22087,2,20140714,1919,6.0043,136.9977,4169,26.2,26,29.2810,33.8334,2,-999.0000,9,195.73,2,1.18,2,0.00,2,0.00,2,0.04,2,-999.,9,-999.,9,-999.,9,-999,9,-999,9
49UF20140623,KS14-05,4222,1,34,22666,2,20140714,1916,6.0043,136.9977,4169,51.7,51,26.3228,34.7965,2,-999.0000,9,192.05,2,1.61,2,0.00,2,0.00,2,0.17,2,-999.,9,-999.,9,-999.,9,-999,9,-999,9
49UF20140623,KS14-05,4222,1,33,21992,2,20140714,1914,6.0043,136.9977,4169,77.1,77,21.3564,34.8659,2,-999.0000,9,151.30,2,5.72,2,6.50,2,0.03,2,0.62,2,-999.,9,-999.,9,-999.,9,-999,9,-999,9
49UF20140623,KS14-05,4222,1,32,21991,2,20140714,1913,6.0043,136.9977,4169,102.7,102,16.1044,34.6415,2,34.6417,2,134.68,2,13.55,2,14.18,2,0.01,2,1.08,2,-999.,9,-999.,9,-999.,9,-999,9,-999,9
49UF20140623,KS14-05,4222,1,31,21990,2,20140714,1911,6.0043,136.9977,4169,127.3,127,12.9780,34.5316,2,-999.0000,9,125.07,2,21.89,2,19.54,2,0.00,2,1.44,2,-999.,9,-999.,9,-999.,9,-999,9,-999,9
49UF20140623,KS14-05,4222,1,30,21989,3,20140714,1909,6.0043,136.9977,4169,152.9,152,11.6931,34.4952,2,-999.0000,9,111.21,2,26.87,2,23.17,2,0.00,2,1.69,2,-999.,9,-999.,9,-999.,9,-999,9,-999,9
49UF20140623,KS14-05,4222,1,29,21988,2,20140714,1908,6.0043,136.9977,4169,203.0,202,10.2425,34.5624,2,34.5609,2,106.59,2,32.42,2,26.44,2,0.00,2,1.91,2,-999.,9,-999.,9,-999.,9,-999,9,-999,9
49UF20140623,KS14-05,4222,1,28,21987,3,20140714,1906,6.0043,136.9977,4169,253.5,252,8.9650,34.5329,2,-999.0000,9,84.99,2,38.04,2,30.77,2,0.00,2,2.20,2,-999.,9,-999.,9,-999.,9,-999,9,-999,9
49UF20140623,KS14-05,4222,1,26,21985,2,20140714,1904,6.0043,136.9977,4169,303.4,301,8.6046,34.5714,2,-999.0000,9,80.71,6,38.07,6,32.04,6,0.00,6,2.28,6,-999.,9,-999.,9,-999.,9,-999,9,-999,9
49UF20140623,KS14-05,4222,1,25,21984,2,20140714,1902,6.0043,136.9977,4169,354.4,352,8.1927,34.5682,2,-999.0000,9,96.78,2,37.93,2,31.55,2,0.00,2,2.24,2,-999.,9,-999.,9,-999.,9,-999,9,-999,9
49UF20140623,KS14-05,4222,1,24,21983,2,20140714,1902,6.0043,136.9977,4169,354.4,352,8.1927,34.5682,2,-999.0000,9,97.01,2,37.90,2,31.54,2,0.00,2,2.23,2,-999.,9,-999.,9,-999.,9,-999,9,-999,9
49UF20140623,KS14-05,4222,1,23,22095,2,20140714,1900,6.0043,136.9977,4169,404.6,402,7.8631,34.5690,2,34.5696,2,104.11,2,38.14,2,31.65,2,0.00,2,2.23,2,-999.,9,-999.,9,-999.,9,-999,9,-999,9
49UF20140623,KS14-05,4222,1,22,22665,2,20140714,1858,6.0043,136.9977,4169,454.8,452,7.4847,34.5505,2,-999.0000,9,113.73,2,40.15,2,31.43,2,0.00,2,2.22,2,-999.,9,-999.,9,-999.,9,-999,9,-999,9
49UF20140623,KS14-05,4222,1,21,21980,2,20140714,1856,6.0043,136.9977,4169,505.8,502,7.2067,34.5388,2,-999.0000,9,105.87,2,44.46,2,32.62,2,0.00,2,2.31,2,-999.,9,-999.,9,-999.,9,-999,9,-999,9
49UF20140623,KS14-05,4222,1,20,21979,2,20140714,1853,6.0043,136.9977,4169,607.1,603,6.7356,34.5255,2,34.5260,2,101.89,2,50.77,2,33.80,2,0.00,2,2.40,2,-999.,9,-999.,9,-999.,9,-999,9,-999,9
49UF20140623,KS14-05,4222,1,19,21978,2,20140714,1851,6.0043,136.9977,4169,707.8,703,6.2852,34.5273,2,-999.0000,9,98.71,6,56.20,6,35.04,6,0.00,6,2.49,6,-999.,9,-999.,9,-999.,9,-999,9,-999,9
49UF20140623,KS14-05,4222,1,12,21994,3,20140714,1848,6.0043,136.9977,4169,807.5,801,5.6285,34.5293,2,34.5311,2,88.77,2,69.78,2,36.70,2,0.00,2,2.62,2,-999.,9,-999.,9,-999.,9,-999,9,-999,9
49UF20140623,KS14-05,4222,1,11,21970,2,20140714,1848,6.0043,136.9977,4169,807.5,801,5.6285,34.5293,2,34.5301,2,88.79,2,69.69,2,36.70,2,0.00,2,2.62,2,-999.,9,-999.,9,-999.,9,-999,9,-999,9
49UF20140623,KS14-05,4222,1,10,21969,2,20140714,1845,6.0043,136.9977,4169,908.7,902,4.9710,34.5408,2,-999.0000,9,86.96,2,82.47,2,37.77,2,0.00,2,2.70,2,-999.,9,-999.,9,-999.,9,-999,9,-999,9
49UF20140623,KS14-05,4222,1,9,21968,2,20140714,1842,6.0043,136.9977,4169,1009.3,1001,4.3310,34.5559,2,34.5570,2,90.42,2,93.76,2,38.24,2,0.00,2,2.74,2,-999.,9,-999.,9,-999.,9,-999,9,-999,9
49UF20140623,KS14-05,4222,1,8,21982,2,20140714,1838,6.0043,136.9977,4169,1211.5,1201,3.5106,34.5796,2,34.5792,2,93.90,2,110.75,2,38.79,2,0.00,2,2.77,2,-999.,9,-999.,9,-999.,9,-999,9,-999,9
49UF20140623,KS14-05,4222,1,6,21965,2,20140714,1833,6.0043,136.9977,4169,1413.8,1401,3.0505,34.5959,2,-999.0000,9,98.37,2,120.51,2,38.83,2,0.00,2,2.77,2,-999.,9,-999.,9,-999.,9,-999,9,-999,9
49UF20140623,KS14-05,4222,1,5,24272,2,20140714,1833,6.0043,136.9977,4169,1413.8,1401,3.0505,34.5959,2,34.5957,2,98.38,2,120.27,2,38.82,2,0.00,2,2.76,2,-999.,9,-999.,9,-999.,9,-999,9,-999,9
49UF20140623,KS14-05,4222,1,4,21963,2,20140714,1828,6.0043,136.9977,4169,1615.7,1601,2.6776,34.6114,2,-999.0000,9,103.50,2,128.01,2,38.76,2,0.00,2,2.75,2,-999.,9,-999.,9,-999.,9,-999,9,-999,9
49UF20140623,KS14-05,4222,1,3,24269,2,20140714,1828,6.0043,136.9977,4169,1615.7,1601,2.6776,34.6114,2,34.6104,2,103.67,2,127.63,2,38.68,2,0.00,2,2.74,2,-999.,9,-999.,9,-999.,9,-999,9,-999,9
49UF20140623,KS14-05,4222,1,2,21961,2,20140714,1823,6.0043,136.9977,4169,1819.0,1801,2.3325,34.6283,2,34.6286,6,110.77,2,134.92,2,38.48,2,0.00,2,2.72,2,-999.,9,-999.,9,-999.,9,-999,9,-999,9
49UF20140623,KS14-05,4222,1,1,21960,2,20140714,1819,6.0043,136.9977,4169,2022.2,2001,2.1910,34.6362,2,34.6351,2,114.55,2,137.32,2,38.31,2,0.00,2,2.70,2,-999.,9,-999.,9,-999.,9,-999,9,-999,9