BOTTLE,20171119JMAGEMD
EXPOCODE,SECT_ID,STNNBR,CASTNO,SAMPNO,BTLNBR,BTLNBR_FLAG_W,DATE,TIME,LATITUDE,LONGITUDE,DEPTH,CTDPRS,CTDDEP,CTDTMP,CTDSAL,CTDSAL_FLAG_W,SALNTY,SALNTY_FLAG_W,OXYGEN,OXYGEN_FLAG_W,SILCAT,SILCAT_FLAG_W,NO2+NO3,NO2+NO3_FLAG_W,NITRIT,NITRIT_FLAG_W,PHSPHT,PHSPHT_FLAG_W,TCARBN,TCARBN_FLAG_W,ALKALI,ALKALI_FLAG_W,PH_TOT,PH_TOT_FLAG_W,CFC-11,CFC-11_FLAG_W,CFC-12,CFC-12_FLAG_W
,,,,,,,UTC,UTC,,,METER,DBAR,METERS,ITS-90,PSS-78,,PSS-78,,UMOL/KG,,UMOL/KG,,UMOL/KG,,UMOL/KG,,UMOL/KG,,UMOL/KG,,UMOL/KG,,@25DEG-C,,PMOL/KG,,PMOL/KG,
49UF20140623,KS14-05,4215,1,-999,0,2,20140702,1936,12.0108,136.9767,-999,0.0,0,30.5008,34.0689,2,-999.,9,192.07,2,1.05,2,0.02,2,0.00,2,0.04,2,-999.,9,-999.,9,-999.,9,-999,9,-999,9
49UF20140623,KS14-05,4215,1,36,21995,2,20140702,2000,12.0108,136.9767,-999,11.8,12,30.5128,34.0684,2,-999.,9,192.89,2,1.01,2,0.01,2,0.00,2,0.04,2,-999.,9,-999.,9,-999.,9,-999,9,-999,9
49UF20140623,KS14-05,4215,1,35,22087,2,20140702,1959,12.0108,136.9767,-999,27.3,27,30.3579,34.0460,2,-999.,9,193.87,2,1.00,2,0.02,2,0.00,2,0.04,2,-999.,9,-999.,9,-999.,9,-999,9,-999,9
49UF20140623,KS14-05,4215,1,34,22666,2,20140702,1957,12.0108,136.9767,-999,51.4,51,29.9256,34.0964,2,-999.,9,197.36,2,1.03,2,0.00,2,0.00,2,0.04,2,-999.,9,-999.,9,-999.,9,-999,9,-999,9
49UF20140623,KS14-05,4215,1,33,21992,2,20140702,1955,12.0108,136.9767,-999,76.9,76,29.0309,34.3796,2,-999.,9,201.72,2,0.90,2,0.02,2,0.00,2,0.05,2,-999.,9,-999.,9,-999.,9,-999,9,-999,9
49UF20140623,KS14-05,4215,1,32,21991,2,20140702,1954,12.0108,136.9767,-999,103.7,103,28.0276,35.0102,2,-999.,9,201.89,2,0.90,2,0.03,2,0.00,2,0.09,2,-999.,9,-999.,9,-999.,9,-999,9,-999,9
49UF20140623,KS14-05,4215,1,31,21990,2,20140702,1952,12.0108,136.9767,-999,127.3,127,26.4073,35.0203,2,-999.,9,190.01,2,1.34,2,0.03,2,0.00,2,0.15,2,-999.,9,-999.,9,-999.,9,-999,9,-999,9
49UF20140623,KS14-05,4215,1,30,21989,2,20140702,1951,12.0108,136.9767,-999,152.2,151,24.5426,35.1414,2,-999.,9,176.67,2,1.65,2,0.83,2,0.20,2,0.22,2,-999.,9,-999.,9,-999.,9,-999,9,-999,9
49UF20140623,KS14-05,4215,1,29,21988,2,20140702,1949,12.0108,136.9767,-999,202.9,202,18.7621,34.8495,2,-999.,9,166.58,2,4.68,2,6.15,2,0.01,2,0.52,2,-999.,9,-999.,9,-999.,9,-999,9,-999,9
49UF20140623,KS14-05,4215,1,28,21987,2,20140702,1948,12.0108,136.9767,-999,252.8,251,14.3655,34.4966,2,-999.,9,175.73,2,10.88,2,11.29,2,0.00,2,0.82,2,-999.,9,-999.,9,-999.,9,-999,9,-999,9
49UF20140623,KS14-05,4215,1,27,21986,2,20140702,1945,12.0108,136.9767,-999,304.2,302,11.8371,34.4569,2,-999.,9,105.92,2,24.42,2,22.72,2,0.00,2,1.69,2,-999.,9,-999.,9,-999.,9,-999,9,-999,9
49UF20140623,KS14-05,4215,1,26,21985,2,20140702,1944,12.0108,136.9767,-999,355.9,354,10.4155,34.4765,2,-999.,9,84.94,2,31.82,2,27.58,2,0.00,2,2.01,2,-999.,9,-999.,9,-999.,9,-999,9,-999,9
49UF20140623,KS14-05,4215,1,25,21984,2,20140702,1942,12.0108,136.9767,-999,406.4,404,8.9360,34.4585,2,-999.,9,76.77,6,40.51,6,31.14,6,0.00,6,2.25,6,-999.,9,-999.,9,-999.,9,-999,9,-999,9
49UF20140623,KS14-05,4215,1,24,21983,2,20140702,1940,12.0108,136.9767,-999,455.7,453,8.2085,34.4585,2,-999.,9,69.47,2,45.69,2,33.10,2,0.00,2,2.39,2,-999.,9,-999.,9,-999.,9,-999,9,-999,9
49UF20140623,KS14-05,4215,1,23,22095,2,20140702,1938,12.0108,136.9767,-999,506.2,503,7.5616,34.4646,2,-999.,9,70.32,2,51.02,2,34.32,2,0.00,2,2.47,2,-999.,9,-999.,9,-999.,9,-999,9,-999,9
49UF20140623,KS14-05,4215,1,22,22665,2,20140702,1934,12.0108,136.9767,-999,606.9,603,6.3767,34.4566,2,-999.,9,78.09,2,64.10,2,35.82,2,0.00,2,2.57,2,-999.,9,-999.,9,-999.,9,-999,9,-999,9
49UF20140623,KS14-05,4215,1,21,21980,2,20140702,1931,12.0108,136.9767,-999,712.5,707,5.7103,34.5010,2,-999.,9,82.29,2,71.63,2,36.86,2,0.00,2,2.64,2,-999.,9,-999.,9,-999.,9,-999,9,-999,9
49UF20140623,KS14-05,4215,1,20,21979,2,20140702,1927,12.0108,136.9767,-999,812.8,807,5.1293,34.5196,2,-999.,9,82.34,2,81.30,2,37.69,2,0.00,2,2.70,2,-999.,9,-999.,9,-999.,9,-999,9,-999,9
49UF20140623,KS14-05,4215,1,19,21978,2,20140702,1923,12.0108,136.9767,-999,916.4,909,4.6633,34.5337,2,-999.,9,81.89,2,90.13,2,38.30,2,0.00,2,2.75,2,-999.,9,-999.,9,-999.,9,-999,9,-999,9
49UF20140623,KS14-05,4215,1,18,21977,2,20140702,1920,12.0108,136.9767,-999,1012.4,1004,4.3335,34.5427,2,-999.,9,83.75,2,97.22,2,38.57,2,0.00,2,2.76,2,-999.,9,-999.,9,-999.,9,-999,9,-999,9
49UF20140623,KS14-05,4215,1,17,23679,4,20140702,1915,12.0108,136.9767,-999,1213.0,1203,3.5580,34.5658,2,-999.,9,92.79,4,123.41,4,39.08,4,0.00,4,2.78,4,-999.,9,-999.,9,-999.,9,-999,9,-999,9
49UF20140623,KS14-05,4215,1,16,21975,2,20140702,1911,12.0108,136.9767,-999,1413.2,1400,3.0635,34.5834,2,-999.,9,92.66,2,123.71,2,39.14,2,0.00,2,2.79,2,-999.,9,-999.,9,-999.,9,-999,9,-999,9
49UF20140623,KS14-05,4215,1,15,21974,2,20140702,1907,12.0108,136.9767,-999,1614.2,1599,2.6195,34.6022,2,-999.,9,102.46,6,131.54,6,38.67,6,0.00,6,2.74,6,-999.,9,-999.,9,-999.,9,-999,9,-999,9
49UF20140623,KS14-05,4215,1,14,21973,2,20140702,1903,12.0108,136.9767,-999,1818.8,1801,2.3703,34.6183,2,-999.,9,108.13,2,135.73,2,38.51,2,0.00,2,2.72,2,-999.,9,-999.,9,-999.,9,-999,9,-999,9
49UF20140623,KS14-05,4215,1,13,21972,2,20140702,1859,12.0108,136.9767,-999,2023.5,2002,2.1315,34.6328,2,-999.,9,114.95,2,139.57,2,38.21,2,0.00,2,2.69,2,-999.,9,-999.,9,-999.,9,-999,9,-999,9
49UF20140623,KS14-05,4215,1,12,21994,2,20140702,1854,12.0108,136.9767,-999,2275.6,2250,1.8946,34.6458,2,-999.,9,122.75,2,143.06,2,37.76,2,0.00,2,2.65,2,-999.,9,-999.,9,-999.,9,-999,9,-999,9
49UF20140623,KS14-05,4215,1,11,21970,2,20140702,1849,12.0108,136.9767,-999,2529.4,2500,1.7553,34.6563,2,-999.,9,129.93,2,144.74,2,37.42,2,0.00,2,2.62,2,-999.,9,-999.,9,-999.,9,-999,9,-999,9
49UF20140623,KS14-05,4215,1,10,21969,2,20140702,1844,12.0108,136.9767,-999,2785.7,2752,1.6703,34.6633,2,-999.,9,135.41,2,144.17,2,36.97,2,0.00,2,2.59,2,-999.,9,-999.,9,-999.,9,-999,9,-999,9
49UF20140623,KS14-05,4215,1,9,21968,2,20140702,1838,12.0108,136.9767,-999,3041.2,3002,1.5944,34.6698,2,-999.,9,141.93,2,143.84,2,36.61,2,0.00,2,2.56,2,-999.,9,-999.,9,-999.,9,-999,9,-999,9
49UF20140623,KS14-05,4215,1,8,21982,2,20140702,1833,12.0108,136.9767,-999,3297.0,3253,1.5684,34.6731,2,-999.,9,146.00,6,143.07,6,36.36,6,0.00,6,2.54,6,-999.,9,-999.,9,-999.,9,-999,9,-999,9
49UF20140623,KS14-05,4215,1,7,21966,2,20140702,1828,12.0108,136.9767,-999,3552.2,3502,1.5493,34.6765,2,-999.,9,149.39,2,142.16,2,36.13,2,0.00,2,2.52,2,-999.,9,-999.,9,-999.,9,-999,9,-999,9
49UF20140623,KS14-05,4215,1,6,21965,2,20140702,1822,12.0108,136.9767,-999,3806.2,3751,1.5211,34.6802,2,-999.,9,153.89,2,141.00,2,35.83,2,0.00,2,2.50,2,-999.,9,-999.,9,-999.,9,-999,9,-999,9
49UF20140623,KS14-05,4215,1,5,22085,2,20140702,1817,12.0108,136.9767,-999,4062.0,4000,1.5102,34.6830,2,-999.,9,156.62,2,139.85,2,35.56,2,0.00,2,2.48,2,-999.,9,-999.,9,-999.,9,-999,9,-999,9
49UF20140623,KS14-05,4215,1,4,21963,2,20140702,1812,12.0108,136.9767,-999,4318.9,4251,1.5016,34.6857,2,-999.,9,160.47,2,138.93,2,35.35,2,0.00,2,2.46,2,-999.,9,-999.,9,-999.,9,-999,9,-999,9
49UF20140623,KS14-05,4215,1,3,22079,2,20140702,1806,12.0108,136.9767,-999,4575.7,4501,1.5173,34.6866,2,-999.,9,160.59,2,138.28,2,35.30,2,0.00,2,2.46,2,-999.,9,-999.,9,-999.,9,-999,9,-999,9
49UF20140623,KS14-05,4215,1,2,21961,2,20140702,1754,12.0108,136.9767,-999,5092.4,5004,1.5600,34.6879,2,-999.,9,163.46,2,137.46,2,35.16,2,0.00,2,2.44,2,-999.,9,-999.,9,-999.,9,-999,9,-999,9
49UF20140623,KS14-05,4215,1,1,21960,2,20140702,1751,12.0108,136.9767,-999,5154.0,5064,1.5668,34.6879,2,-999.,9,163.75,6,137.68,6,35.13,6,0.00,6,2.44,6,-999.,9,-999.,9,-999.,9,-999,9,-999,9
49UF20140623,KS14-05,4216,1,-999,0,2,20140703,0420,11.0052,137.0062,4798,0.0,0,30.2731,33.9343,2,-999.,9,193.01,2,1.11,2,0.02,2,0.00,2,0.04,2,-999.,9,-999.,9,-999.,9,-999,9,-999,9
49UF20140623,KS14-05,4216,1,36,21995,2,20140703,0444,11.0052,137.0062,4798,12.0,12,30.2784,33.9357,2,-999.,9,193.02,2,1.08,2,0.00,2,0.00,2,0.04,2,-999.,9,-999.,9,-999.,9,-999,9,-999,9
49UF20140623,KS14-05,4216,1,35,22087,2,20140703,0442,11.0052,137.0062,4798,27.1,27,30.2558,33.9801,2,-999.,9,194.61,2,1.01,2,0.00,2,0.00,2,0.04,2,-999.,9,-999.,9,-999.,9,-999,9,-999,9
49UF20140623,KS14-05,4216,1,34,22666,2,20140703,0440,11.0052,137.0062,4798,53.5,53,29.0154,34.2929,2,-999.,9,202.37,6,1.00,6,0.02,6,0.00,6,0.06,6,-999.,9,-999.,9,-999.,9,-999,9,-999,9
49UF20140623,KS14-05,4216,1,33,21992,2,20140703,0439,11.0052,137.0062,4798,76.9,76,28.3652,34.8382,2,-999.,9,203.21,2,1.01,2,0.05,2,0.00,2,0.09,2,-999.,9,-999.,9,-999.,9,-999,9,-999,9
49UF20140623,KS14-05,4216,1,32,21991,2,20140703,0437,11.0052,137.0062,4798,102.9,102,27.0488,35.1716,2,-999.,9,200.41,2,0.99,2,0.03,2,0.00,2,0.10,2,-999.,9,-999.,9,-999.,9,-999,9,-999,9
49UF20140623,KS14-05,4216,1,31,21990,2,20140703,0435,11.0052,137.0062,4798,130.2,129,24.9505,35.2255,2,-999.,9,184.01,2,1.24,2,0.05,2,0.02,2,0.14,2,-999.,9,-999.,9,-999.,9,-999,9,-999,9
49UF20140623,KS14-05,4216,1,30,21989,2,20140703,0432,11.0052,137.0062,4798,157.2,156,21.1163,34.9484,2,-999.,9,161.92,2,3.86,2,4.91,2,0.02,2,0.49,2,-999.,9,-999.,9,-999.,9,-999,9,-999,9
49UF20140623,KS14-05,4216,1,29,21988,2,20140703,0430,11.0052,137.0062,4798,205.0,204,16.6677,34.6788,2,-999.,9,168.88,2,7.33,2,8.46,2,0.00,2,0.66,2,-999.,9,-999.,9,-999.,9,-999,9,-999,9
49UF20140623,KS14-05,4216,1,28,21987,2,20140703,0428,11.0052,137.0062,4798,255.7,254,12.2896,34.3883,2,-999.,9,142.76,2,19.26,2,17.72,2,0.00,2,1.33,2,-999.,9,-999.,9,-999.,9,-999,9,-999,9
49UF20140623,KS14-05,4216,1,27,21986,2,20140703,0426,11.0052,137.0062,4798,304.2,302,10.5642,34.4851,2,-999.,9,84.80,2,31.50,2,27.42,2,0.00,2,2.01,2,-999.,9,-999.,9,-999.,9,-999,9,-999,9
49UF20140623,KS14-05,4216,1,26,21985,2,20140703,0424,11.0052,137.0062,4798,354.4,352,9.2409,34.5080,2,-999.,9,74.99,6,37.93,6,30.97,6,0.00,6,2.24,6,-999.,9,-999.,9,-999.,9,-999,9,-999,9
49UF20140623,KS14-05,4216,1,25,21984,2,20140703,0422,11.0052,137.0062,4798,407.3,405,8.2890,34.4863,2,-999.,9,77.68,2,44.00,2,32.42,2,0.00,2,2.33,2,-999.,9,-999.,9,-999.,9,-999,9,-999,9
49UF20140623,KS14-05,4216,1,24,21983,2,20140703,0420,11.0052,137.0062,4798,457.5,454,7.6878,34.4594,2,-999.,9,67.96,2,49.96,2,34.03,2,0.00,2,2.47,2,-999.,9,-999.,9,-999.,9,-999,9,-999,9
49UF20140623,KS14-05,4216,1,23,22095,2,20140703,0418,11.0052,137.0062,4798,507.0,504,7.1540,34.4714,2,-999.,9,70.79,2,54.67,2,34.92,2,0.00,2,2.53,2,-999.,9,-999.,9,-999.,9,-999,9,-999,9
49UF20140623,KS14-05,4216,1,22,22665,2,20140703,0416,11.0052,137.0062,4798,607.2,603,6.5695,34.4949,2,-999.,9,84.04,2,58.70,2,35.11,2,0.00,2,2.53,2,-999.,9,-999.,9,-999.,9,-999,9,-999,9
49UF20140623,KS14-05,4216,1,21,21980,2,20140703,0413,11.0052,137.0062,4798,706.8,702,6.0088,34.5076,2,-999.,9,86.02,2,65.57,2,36.12,2,0.00,2,2.60,2,-999.,9,-999.,9,-999.,9,-999,9,-999,9
49UF20140623,KS14-05,4216,1,20,21979,2,20140703,0410,11.0052,137.0062,4798,810.1,804,5.4271,34.5226,2,-999.,9,84.88,2,74.99,2,37.11,2,0.00,2,2.67,2,-999.,9,-999.,9,-999.,9,-999,9,-999,9
49UF20140623,KS14-05,4216,1,19,21978,2,20140703,0408,11.0052,137.0062,4798,911.6,904,4.9115,34.5343,2,-999.,9,84.23,2,84.73,2,37.84,2,0.00,2,2.73,2,-999.,9,-999.,9,-999.,9,-999,9,-999,9
49UF20140623,KS14-05,4216,1,18,21977,2,20140703,0405,11.0052,137.0062,4798,1008.8,1001,4.4513,34.5450,2,-999.,9,82.11,2,94.58,2,38.60,2,0.00,2,2.78,2,-999.,9,-999.,9,-999.,9,-999,9,-999,9
49UF20140623,KS14-05,4216,1,17,23679,2,20140703,0401,11.0052,137.0062,4798,1212.2,1202,3.6112,34.5685,2,-999.,9,89.14,2,111.43,2,38.90,2,0.00,2,2.79,2,-999.,9,-999.,9,-999.,9,-999,9,-999,9
49UF20140623,KS14-05,4216,1,16,21975,2,20140703,0357,11.0052,137.0062,4798,1413.7,1401,3.0391,34.5884,2,-999.,9,94.95,6,122.76,6,38.91,6,0.00,6,2.78,6,-999.,9,-999.,9,-999.,9,-999,9,-999,9
49UF20140623,KS14-05,4216,1,15,21974,2,20140703,0353,11.0052,137.0062,4798,1617.1,1602,2.5826,34.6116,2,-999.,9,104.81,2,130.81,2,38.55,2,0.00,2,2.75,2,-999.,9,-999.,9,-999.,9,-999,9,-999,9
49UF20140623,KS14-05,4216,1,14,21973,2,20140703,0348,11.0052,137.0062,4798,1818.7,1801,2.3178,34.6239,2,-999.,9,109.59,2,136.00,2,38.30,2,0.00,2,2.73,2,-999.,9,-999.,9,-999.,9,-999,9,-999,9
49UF20140623,KS14-05,4216,1,13,21972,2,20140703,0344,11.0052,137.0062,4798,2022.7,2002,2.1267,34.6358,2,-999.,9,116.58,2,138.87,2,38.01,2,0.00,2,2.70,2,-999.,9,-999.,9,-999.,9,-999,9,-999,9
49UF20140623,KS14-05,4216,1,12,21994,2,20140703,0339,11.0052,137.0062,4798,2276.4,2251,1.9038,34.6482,2,-999.,9,124.15,2,141.57,2,37.56,2,0.00,2,2.65,2,-999.,9,-999.,9,-999.,9,-999,9,-999,9
49UF20140623,KS14-05,4216,1,11,21970,2,20140703,0334,11.0052,137.0062,4798,2531.5,2502,1.8021,34.6546,2,-999.,9,128.57,2,143.39,2,37.34,2,0.00,2,2.63,2,-999.,9,-999.,9,-999.,9,-999,9,-999,9
49UF20140623,KS14-05,4216,1,10,21969,2,20140703,0329,11.0052,137.0062,4798,2786.5,2752,1.6943,34.6620,2,-999.,9,134.30,2,142.93,2,36.95,2,0.00,2,2.60,2,-999.,9,-999.,9,-999.,9,-999,9,-999,9
49UF20140623,KS14-05,4216,1,9,21968,2,20140703,0323,11.0052,137.0062,4798,3040.5,3002,1.6129,34.6689,2,-999.,9,141.39,6,143.00,6,36.58,6,0.00,6,2.56,6,-999.,9,-999.,9,-999.,9,-999,9,-999,9
49UF20140623,KS14-05,4216,1,8,21982,2,20140703,0318,11.0052,137.0062,4798,3296.7,3253,1.5742,34.6730,2,-999.,9,145.77,2,142.45,2,36.25,2,0.00,2,2.54,2,-999.,9,-999.,9,-999.,9,-999,9,-999,9
49UF20140623,KS14-05,4216,1,7,21966,2,20140703,0313,11.0052,137.0062,4798,3550.9,3501,1.5508,34.6762,2,-999.,9,148.63,2,141.33,2,36.10,2,0.00,2,2.53,2,-999.,9,-999.,9,-999.,9,-999,9,-999,9
49UF20140623,KS14-05,4216,1,6,21965,2,20140703,0307,11.0052,137.0062,4798,3808.3,3753,1.5434,34.6788,2,-999.,9,152.25,2,141.10,2,35.80,2,0.00,2,2.51,2,-999.,9,-999.,9,-999.,9,-999,9,-999,9
49UF20140623,KS14-05,4216,1,5,22085,2,20140703,0302,11.0052,137.0062,4798,4062.8,4001,1.5330,34.6815,2,-999.,9,153.37,2,139.49,2,35.62,2,0.00,2,2.49,2,-999.,9,-999.,9,-999.,9,-999,9,-999,9
49UF20140623,KS14-05,4216,1,4,21963,2,20140703,0257,11.0052,137.0062,4798,4319.5,4252,1.5405,34.6830,2,-999.,9,157.22,2,139.26,2,35.43,2,0.00,2,2.48,2,-999.,9,-999.,9,-999.,9,-999,9,-999,9
49UF20140623,KS14-05,4216,1,3,22079,2,20140703,0251,11.0052,137.0062,4798,4576.5,4502,1.5420,34.6850,2,-999.,9,158.85,2,138.57,2,35.35,2,0.00,2,2.47,2,-999.,9,-999.,9,-999.,9,-999,9,-999,9
49UF20140623,KS14-05,4216,1,2,21961,2,20140703,0244,11.0052,137.0062,4798,4858.6,4777,1.5566,34.6863,2,-999.,9,161.60,2,138.19,2,35.20,2,0.00,2,2.46,2,-999.,9,-999.,9,-999.,9,-999,9,-999,9
49UF20140623,KS14-05,4217,1,-999,0,2,20140704,0920,6.0088,137.0138,4221,0.0,0,29.0586,33.9104,2,-999.0000,9,196.26,2,1.16,2,0.01,2,0.00,2,0.02,2,-999.,9,-999.,9,-999.,9,-999,9,-999,9
49UF20140623,KS14-05,4217,1,36,21995,2,20140704,0940,6.0088,137.0138,4221,13.3,13,29.0613,33.9114,2,33.9100,2,196.31,2,1.12,2,0.01,2,0.00,2,0.03,2,-999.,9,-999.,9,-999.,9,-999,9,-999,9
49UF20140623,KS14-05,4217,1,35,22087,2,20140704,0939,6.0088,137.0138,4221,26.8,27,29.0838,33.9263,2,-999.0000,9,196.06,2,1.15,2,0.01,2,0.00,2,0.03,2,-999.,9,-999.,9,-999.,9,-999,9,-999,9
49UF20140623,KS14-05,4217,1,34,22666,2,20140704,0938,6.0088,137.0138,4221,54.0,54,26.4447,34.9878,2,-999.0000,9,193.83,2,1.33,2,0.02,2,0.00,2,0.13,2,-999.,9,-999.,9,-999.,9,-999,9,-999,9
49UF20140623,KS14-05,4217,1,33,21992,2,20140704,0936,6.0088,137.0138,4221,78.4,78,22.8038,34.9101,2,-999.0000,9,165.22,2,3.38,2,2.84,2,0.50,2,0.40,2,-999.,9,-999.,9,-999.,9,-999,9,-999,9
49UF20140623,KS14-05,4217,1,32,21991,2,20140704,0935,6.0088,137.0138,4221,103.6,103,18.8843,34.7883,2,34.7927,2,143.83,2,8.11,2,9.71,2,0.03,2,0.78,2,-999.,9,-999.,9,-999.,9,-999,9,-999,9
49UF20140623,KS14-05,4217,1,31,21990,2,20140704,0933,6.0088,137.0138,4221,127.2,126,15.6098,34.6302,2,-999.0000,9,128.34,2,13.75,2,15.08,2,0.01,2,1.15,2,-999.,9,-999.,9,-999.,9,-999,9,-999,9
49UF20140623,KS14-05,4217,1,30,21989,2,20140704,0932,6.0088,137.0138,4221,151.9,151,12.5964,34.5038,2,-999.0000,9,120.00,2,22.36,2,20.44,2,0.01,2,1.50,2,-999.,9,-999.,9,-999.,9,-999,9,-999,9
49UF20140623,KS14-05,4217,1,29,21988,2,20140704,0929,6.0088,137.0138,4221,203.8,203,10.4211,34.5040,2,34.5079,6,107.06,2,31.64,2,25.85,2,0.00,2,1.87,2,-999.,9,-999.,9,-999.,9,-999,9,-999,9
49UF20140623,KS14-05,4217,1,28,21987,2,20140704,0926,6.0088,137.0138,4221,254.5,253,9.3694,34.5359,2,-999.0000,9,74.77,6,36.72,6,31.08,6,0.00,6,2.23,6,-999.,9,-999.,9,-999.,9,-999,9,-999,9
49UF20140623,KS14-05,4217,1,26,21985,2,20140704,0924,6.0088,137.0138,4221,305.8,304,8.6202,34.5609,2,-999.0000,9,92.63,2,37.67,2,31.01,2,0.00,2,2.21,2,-999.,9,-999.,9,-999.,9,-999,9,-999,9
49UF20140623,KS14-05,4217,1,25,21984,2,20140704,0923,6.0088,137.0138,4221,353.6,351,8.3845,34.5831,2,-999.0000,9,90.00,2,37.26,2,31.99,2,0.00,2,2.26,2,-999.,9,-999.,9,-999.,9,-999,9,-999,9
49UF20140623,KS14-05,4217,1,24,21983,2,20140704,0921,6.0088,137.0138,4221,404.9,402,8.0229,34.5753,2,34.5741,2,95.44,2,38.43,2,32.26,2,0.00,2,2.28,2,-999.,9,-999.,9,-999.,9,-999,9,-999,9
49UF20140623,KS14-05,4217,1,23,22095,2,20140704,0920,6.0088,137.0138,4221,455.4,452,7.6563,34.5384,2,-999.0000,9,96.64,2,43.19,2,32.50,2,0.00,2,2.31,2,-999.,9,-999.,9,-999.,9,-999,9,-999,9
49UF20140623,KS14-05,4217,1,22,22665,2,20140704,0920,6.0088,137.0138,4221,455.4,452,7.6563,34.5384,2,-999.0000,9,96.22,2,43.22,2,32.55,2,0.00,2,2.31,2,-999.,9,-999.,9,-999.,9,-999,9,-999,9
49UF20140623,KS14-05,4217,1,21,21980,2,20140704,0918,6.0088,137.0138,4221,506.6,503,7.5115,34.5377,2,-999.0000,9,93.73,2,38.44,2,32.29,2,0.00,2,2.28,2,-999.,9,-999.,9,-999.,9,-999,9,-999,9
49UF20140623,KS14-05,4217,1,20,21979,2,20140704,0916,6.0088,137.0138,4221,608.1,604,6.8496,34.5288,2,34.5275,2,99.74,2,49.89,2,33.83,2,0.00,2,2.41,2,-999.,9,-999.,9,-999.,9,-999,9,-999,9
49UF20140623,KS14-05,4217,1,19,21978,2,20140704,0913,6.0088,137.0138,4221,707.6,702,6.2983,34.5234,2,-999.0000,9,96.81,2,57.55,2,35.12,2,0.00,2,2.50,2,-999.,9,-999.,9,-999.,9,-999,9,-999,9
49UF20140623,KS14-05,4217,1,12,21994,2,20140704,0910,6.0088,137.0138,4221,810.2,804,5.5431,34.5320,2,34.5311,2,87.32,2,71.50,2,37.10,2,0.00,2,2.65,2,-999.,9,-999.,9,-999.,9,-999,9,-999,9
49UF20140623,KS14-05,4217,1,11,21970,2,20140704,0908,6.0088,137.0138,4221,907.8,901,5.0219,34.5406,2,-999.0000,9,86.58,2,81.17,2,37.76,2,0.00,2,2.71,2,-999.,9,-999.,9,-999.,9,-999,9,-999,9
49UF20140623,KS14-05,4217,1,10,21969,3,20140704,0906,6.0088,137.0138,4221,1011.1,1003,4.3901,34.5564,2,34.5547,2,90.15,2,92.11,2,38.22,2,0.00,2,2.74,2,-999.,9,-999.,9,-999.,9,-999,9,-999,9
49UF20140623,KS14-05,4217,1,9,21968,2,20140704,0901,6.0088,137.0138,4221,1213.2,1203,3.6397,34.5769,2,34.5757,2,94.71,6,107.76,6,38.67,6,0.00,6,2.76,6,-999.,9,-999.,9,-999.,9,-999,9,-999,9
49UF20140623,KS14-05,4217,1,8,21982,2,20140704,0857,6.0088,137.0138,4221,1415.0,1402,3.1266,34.5940,2,34.5932,2,97.71,2,118.74,2,39.03,2,0.00,2,2.78,2,-999.,9,-999.,9,-999.,9,-999,9,-999,9
49UF20140623,KS14-05,4217,1,7,21966,2,20140704,0857,6.0088,137.0138,4221,1415.0,1402,3.1266,34.5940,2,34.5934,2,97.44,2,118.72,2,39.02,2,0.00,2,2.77,2,-999.,9,-999.,9,-999.,9,-999,9,-999,9
49UF20140623,KS14-05,4217,1,3,22079,2,20140704,0853,6.0088,137.0138,4221,1616.4,1601,2.7176,34.6106,2,34.6113,6,103.18,2,126.96,2,38.83,2,0.00,2,2.75,2,-999.,9,-999.,9,-999.,9,-999,9,-999,9
49UF20140623,KS14-05,4217,1,2,21961,2,20140704,0848,6.0088,137.0138,4221,1820.0,1802,2.4008,34.6247,2,34.6251,2,109.38,2,133.71,2,38.62,2,0.00,2,2.73,2,-999.,9,-999.,9,-999.,9,-999,9,-999,9
49UF20140623,KS14-05,4217,1,1,21960,2,20140704,0844,6.0088,137.0138,4221,2025.3,2004,2.2179,34.6351,2,34.6339,2,114.01,2,137.02,2,38.47,2,0.00,2,2.71,2,-999.,9,-999.,9,-999.,9,-999,9,-999,9