BOTTLE,20171117JMAGEMD
EXPOCODE,SECT_ID,STNNBR,CASTNO,SAMPNO,BTLNBR,BTLNBR_FLAG_W,DATE,TIME,LATITUDE,LONGITUDE,DEPTH,CTDPRS,CTDDEP,CTDTMP,CTDSAL,CTDSAL_FLAG_W,SALNTY,SALNTY_FLAG_W,OXYGEN,OXYGEN_FLAG_W,SILCAT,SILCAT_FLAG_W,NO2+NO3,NO2+NO3_FLAG_W,NITRIT,NITRIT_FLAG_W,PHSPHT,PHSPHT_FLAG_W,TCARBN,TCARBN_FLAG_W,ALKALI,ALKALI_FLAG_W,PH_TOT,PH_TOT_FLAG_W,CFC-11,CFC-11_FLAG_W,CFC-12,CFC-12_FLAG_W
,,,,,,,UTC,UTC,,,METER,DBAR,METERS,ITS-90,PSS-78,,PSS-78,,UMOL/KG,,UMOL/KG,,UMOL/KG,,UMOL/KG,,UMOL/KG,,UMOL/KG,,UMOL/KG,,@25DEG-C,,PMOL/KG,,PMOL/KG,
49UF20140512,KS14-04,4165,1,10,21969,2,20140514,0109,38.7088,150.3168,5457,5094.8,4997,1.5197,34.6900,2,34.6858,4,158.83,2,148.60,2,35.53,2,0.00,2,2.47,2,-999.0,9,-999.0,9,-999.0000,9,-999,9,-999,9
49UF20140512,KS14-04,4165,1,9,21968,2,20140514,0109,38.7088,150.3168,5457,5095.4,4997,1.5203,34.6899,2,34.6896,6,159.35,2,148.49,6,35.50,6,0.00,6,2.47,6,-999.0,9,-999.0,9,-999.0000,9,-999,9,-999,9
49UF20140512,KS14-04,4165,1,3,22079,2,20140514,0107,38.7088,150.3168,5457,5096.3,4998,1.5210,34.6900,2,34.6903,6,159.36,6,148.48,6,35.49,6,0.00,6,2.47,6,-999.0,9,-999.0,9,-999.0000,9,-999,9,-999,9
49UF20140512,KS14-04,4165,1,6,21965,2,20140514,0108,38.7088,150.3168,5457,5096.9,4999,1.5203,34.6901,2,34.6885,2,159.20,2,148.29,2,35.54,2,0.00,2,2.47,2,-999.0,9,-999.0,9,-999.0000,9,-999,9,-999,9
49UF20140512,KS14-04,4165,1,7,21966,2,20140514,0108,38.7088,150.3168,5457,5097.0,4999,1.5205,34.6899,2,34.6891,6,158.70,6,148.59,6,35.51,6,0.00,6,2.47,6,-999.0,9,-999.0,9,-999.0000,9,-999,9,-999,9
49UF20140512,KS14-04,4165,1,1,21960,2,20140514,0107,38.7088,150.3168,5457,5097.0,4999,1.5205,34.6900,2,34.6896,2,159.27,6,148.79,6,35.52,6,0.00,6,2.47,6,-999.0,9,-999.0,9,-999.0000,9,-999,9,-999,9
49UF20140512,KS14-04,4165,1,8,21982,2,20140514,0108,38.7088,150.3168,5457,5097.7,5000,1.5204,34.6900,2,34.6895,2,159.34,2,148.80,2,35.47,2,0.00,2,2.47,2,-999.0,9,-999.0,9,-999.0000,9,-999,9,-999,9
49UF20140512,KS14-04,4165,1,4,21963,2,20140514,0107,38.7088,150.3168,5457,5098.0,5000,1.5210,34.6899,2,34.6906,2,159.38,2,148.54,2,35.50,2,0.00,2,2.47,2,-999.0,9,-999.0,9,-999.0000,9,-999,9,-999,9
49UF20140512,KS14-04,4165,1,5,22085,2,20140514,0108,38.7088,150.3168,5457,5098.2,5000,1.5206,34.6900,2,34.6872,4,157.21,6,148.85,6,35.62,6,0.00,6,2.48,6,-999.0,9,-999.0,9,-999.0000,9,-999,9,-999,9
49UF20140512,KS14-04,4165,1,2,21961,2,20140514,0107,38.7088,150.3168,5457,5099.0,5001,1.5214,34.6901,2,34.6897,2,159.64,2,148.23,2,35.50,2,0.00,2,2.47,2,-999.0,9,-999.0,9,-999.0000,9,-999,9,-999,9
49UF20140512,KS14-04,4165,1,24,21983,2,20140514,0113,38.7088,150.3168,5457,5099.6,5001,1.5202,34.6901,2,34.6889,2,159.93,2,148.24,2,35.53,2,0.00,2,2.47,2,-999.0,9,-999.0,9,7.5957,2,-999,9,-999,9
49UF20140512,KS14-04,4165,1,29,21988,2,20140514,0114,38.7088,150.3168,5457,5099.7,5002,1.5207,34.6900,2,34.6881,2,158.38,2,148.62,2,35.56,2,0.00,2,2.47,2,2320.6,2,2412.5,2,-999.0000,9,-999,9,-999,9
49UF20140512,KS14-04,4165,1,30,21989,2,20140514,0114,38.7088,150.3168,5457,5099.7,5002,1.5204,34.6901,2,34.6888,2,158.84,2,148.68,2,35.52,2,0.00,2,2.47,2,2321.9,2,2411.1,2,-999.0000,9,-999,9,-999,9
49UF20140512,KS14-04,4165,1,17,23679,2,20140514,0111,38.7088,150.3168,5457,5100.0,5002,1.5205,34.6900,2,34.6865,4,157.99,2,148.86,2,35.58,2,0.00,2,2.48,2,-999.0,9,-999.0,9,7.5918,2,-999,9,-999,9
49UF20140512,KS14-04,4165,1,19,21978,2,20140514,0112,38.7088,150.3168,5457,5100.4,5002,1.5207,34.6901,2,34.6873,4,158.27,2,148.66,2,35.63,2,0.00,2,2.47,2,-999.0,9,-999.0,9,7.5889,2,-999,9,-999,9
49UF20140512,KS14-04,4165,1,26,21985,2,20140514,0113,38.7088,150.3168,5457,5100.5,5002,1.5204,34.6900,2,34.6893,2,159.64,2,148.60,2,35.46,2,0.00,2,2.46,2,-999.0,9,-999.0,9,7.5917,2,-999,9,-999,9
49UF20140512,KS14-04,4165,1,16,21975,2,20140514,0111,38.7088,150.3168,5457,5100.8,5003,1.5206,34.6901,2,34.6895,2,159.51,2,148.44,2,35.53,2,0.00,2,2.47,2,-999.0,9,-999.0,9,-999.0000,9,-999,9,-999,9
49UF20140512,KS14-04,4165,1,14,21973,2,20140514,0111,38.7088,150.3168,5457,5100.8,5003,1.5206,34.6901,2,34.6896,2,159.24,2,148.66,2,35.51,2,0.00,2,2.47,2,-999.0,9,-999.0,9,-999.0000,9,-999,9,-999,9
49UF20140512,KS14-04,4165,1,25,21984,2,20140514,0113,38.7088,150.3168,5457,5100.8,5003,1.5205,34.6900,2,34.6895,2,159.42,2,148.06,2,35.54,2,0.00,2,2.47,2,-999.0,9,-999.0,9,7.5967,2,-999,9,-999,9
49UF20140512,KS14-04,4165,1,32,21991,2,20140514,0115,38.7088,150.3168,5457,5100.8,5003,1.5206,34.6901,2,34.6898,2,159.70,2,147.97,2,35.49,2,0.00,2,2.47,2,2321.4,2,2414.0,2,-999.0000,9,-999,9,-999,9
49UF20140512,KS14-04,4165,1,23,22095,2,20140514,0113,38.7088,150.3168,5457,5100.9,5003,1.5207,34.6901,2,34.6887,2,159.29,2,148.55,2,35.54,2,0.00,2,2.47,2,-999.0,9,-999.0,9,7.5912,2,-999,9,-999,9
49UF20140512,KS14-04,4165,1,28,21987,3,20140514,0114,38.7088,150.3168,5457,5101.0,5003,1.5205,34.6901,2,34.6890,2,159.51,2,148.55,2,35.54,2,0.00,2,2.47,2,2321.4,2,2413.7,2,-999.0000,9,-999,9,-999,9
49UF20140512,KS14-04,4165,1,27,21986,2,20140514,0113,38.7088,150.3168,5457,5101.1,5003,1.5205,34.6901,2,34.6892,2,159.07,2,148.65,2,35.47,2,0.00,2,2.47,2,2322.4,2,2413.5,2,-999.0000,9,-999,9,-999,9
49UF20140512,KS14-04,4165,1,21,21980,2,20140514,0112,38.7088,150.3168,5457,5101.5,5003,1.5205,34.6901,2,34.6869,4,159.03,2,148.31,2,35.53,2,0.00,2,2.48,2,-999.0,9,-999.0,9,7.5960,2,-999,9,-999,9
49UF20140512,KS14-04,4165,1,34,22666,2,20140514,0115,38.7088,150.3168,5457,5101.8,5004,1.5206,34.6902,2,34.6894,2,160.67,2,148.05,2,35.43,2,0.00,2,2.46,2,2319.3,2,2413.7,2,-999.0000,9,-999,9,-999,9
49UF20140512,KS14-04,4165,1,15,21974,2,20140514,0111,38.7088,150.3168,5457,5101.9,5004,1.5206,34.6902,2,34.6895,2,159.20,2,148.51,2,35.46,2,0.00,2,2.47,2,-999.0,9,-999.0,9,-999.0000,9,-999,9,-999,9
49UF20140512,KS14-04,4165,1,20,21979,2,20140514,0112,38.7088,150.3168,5457,5102.0,5004,1.5207,34.6902,2,34.6891,2,159.80,2,148.39,2,35.50,2,0.00,2,2.47,2,-999.0,9,-999.0,9,7.5889,2,-999,9,-999,9
49UF20140512,KS14-04,4165,1,22,22665,2,20140514,0112,38.7088,150.3168,5457,5102.0,5004,1.5204,34.6902,2,-999.0000,5,159.50,2,148.31,2,35.52,2,0.00,2,2.47,2,-999.0,9,-999.0,9,7.5936,2,-999,9,-999,9
49UF20140512,KS14-04,4165,1,35,22087,2,20140514,0115,38.7088,150.3168,5457,5102.1,5004,1.5208,34.6901,2,34.6888,2,160.26,2,148.20,2,35.48,2,0.00,2,2.46,2,2320.8,2,2412.2,2,-999.0000,9,-999,9,-999,9
49UF20140512,KS14-04,4165,1,33,21992,2,20140514,0115,38.7088,150.3168,5457,5102.3,5004,1.5207,34.6900,2,34.6894,2,159.50,2,148.25,2,35.56,2,0.00,2,2.46,2,2319.1,2,2411.2,2,-999.0000,9,-999,9,-999,9
49UF20140512,KS14-04,4165,1,31,21990,2,20140514,0114,38.7088,150.3168,5457,5102.4,5004,1.5206,34.6902,2,34.6894,2,159.81,2,148.32,2,35.56,2,0.00,2,2.46,2,2323.3,2,2412.4,2,-999.0000,9,-999,9,-999,9
49UF20140512,KS14-04,4165,1,12,21994,2,20140514,0110,38.7088,150.3168,5457,5102.5,5004,1.5207,34.6900,2,34.6891,2,159.22,2,148.78,2,35.48,2,0.00,2,2.47,2,-999.0,9,-999.0,9,-999.0000,9,-999,9,-999,9
49UF20140512,KS14-04,4165,1,13,21972,2,20140514,0110,38.7088,150.3168,5457,5102.6,5004,1.5208,34.6901,2,34.6895,2,159.54,2,148.96,2,35.53,2,0.00,2,2.48,2,-999.0,9,-999.0,9,-999.0000,9,-999,9,-999,9
49UF20140512,KS14-04,4165,1,36,21995,2,20140514,0116,38.7088,150.3168,5457,5102.7,5005,1.5210,34.6901,2,34.6889,2,159.66,2,147.95,2,35.52,2,0.00,2,2.46,2,2322.9,2,2410.9,2,-999.0000,9,-999,9,-999,9
49UF20140512,KS14-04,4165,1,18,21977,2,20140514,0112,38.7088,150.3168,5457,5102.7,5005,1.5210,34.6902,2,34.6904,2,159.26,2,148.49,2,35.50,2,0.00,2,2.48,2,-999.0,9,-999.0,9,7.5952,2,-999,9,-999,9
49UF20140512,KS14-04,4165,1,11,21970,3,20140514,0110,38.7088,150.3168,5457,5103.0,5005,1.5205,34.6901,2,34.6894,2,159.10,2,148.76,2,35.48,2,0.00,2,2.47,2,-999.0,9,-999.0,9,-999.0000,9,-999,9,-999,9
49UF20140512,KS14-04,4166,1,-999,0,2,20140514,2216,40.0133,154.3177,5534,0.0,0,11.4203,34.2229,2,34.2238,2,276.57,2,15.27,2,7.65,2,0.19,2,0.62,2,2065.9,2,2270.9,2,7.9002,2,-999,9,-999,9
49UF20140512,KS14-04,4166,1,36,21995,2,20140514,2243,40.0133,154.3177,5534,10.1,10,11.4212,34.2226,2,34.2232,2,276.78,2,15.25,2,7.65,2,0.19,2,0.62,2,2065.4,2,2270.5,2,7.8883,2,-999,9,-999,9
49UF20140512,KS14-04,4166,1,35,22087,2,20140514,2241,40.0133,154.3177,5534,25.6,25,11.3492,34.2235,2,-999.0000,9,276.80,2,15.25,2,7.69,2,0.19,2,0.63,2,2066.1,2,2271.0,2,7.9018,2,-999,9,-999,9
49UF20140512,KS14-04,4166,1,34,22666,2,20140514,2239,40.0133,154.3177,5534,50.6,50,10.0872,34.1835,2,-999.0000,9,261.44,2,18.19,2,11.42,2,0.21,2,0.85,2,2092.2,2,2268.4,2,7.8334,2,-999,9,-999,9
49UF20140512,KS14-04,4166,1,33,21992,2,20140514,2237,40.0133,154.3177,5534,75.3,75,9.1405,34.0979,2,-999.0000,9,258.89,2,21.02,2,13.33,2,0.10,2,0.98,2,2107.2,2,2265.6,2,7.7996,2,-999,9,-999,9
49UF20140512,KS14-04,4166,1,32,21991,2,20140514,2233,40.0133,154.3177,5534,101.7,101,8.4887,34.0219,2,34.0212,6,253.10,2,24.11,2,15.01,2,0.04,2,1.11,2,2116.1,2,2266.4,2,7.7733,2,-999,9,-999,9
49UF20140512,KS14-04,4166,1,31,21990,2,20140514,2232,40.0133,154.3177,5534,125.9,125,8.2086,34.0094,2,-999.0000,9,261.83,2,23.21,2,14.65,2,0.04,2,1.09,2,2112.4,2,2263.7,2,7.7804,2,-999,9,-999,9
49UF20140512,KS14-04,4166,1,30,21989,2,20140514,2231,40.0133,154.3177,5534,149.1,148,7.7842,33.9575,2,-999.0000,9,260.14,2,25.16,2,15.62,2,0.04,2,1.17,2,2115.3,2,2263.3,2,7.7607,2,-999,9,-999,9
49UF20140512,KS14-04,4166,1,29,21988,2,20140514,2229,40.0133,154.3177,5534,199.3,198,7.1122,33.8710,2,33.8677,2,271.03,2,26.79,2,16.19,2,0.01,2,1.22,2,2115.5,2,2261.4,2,7.7568,2,-999,9,-999,9
49UF20140512,KS14-04,4166,1,28,21987,3,20140514,2228,40.0133,154.3177,5534,252.6,251,6.6889,33.9234,2,-999.0000,9,197.08,6,41.60,6,23.14,6,0.01,6,1.70,6,2172.8,2,2273.4,2,7.6448,2,-999,9,-999,9
49UF20140512,KS14-04,4166,1,27,21986,2,20140514,2226,40.0133,154.3177,5534,302.6,300,5.8740,33.9137,2,-999.0000,9,170.12,2,52.65,2,27.03,2,0.00,2,1.99,2,2202.0,2,2282.9,2,7.5797,2,-999,9,-999,9
49UF20140512,KS14-04,4166,1,26,21985,2,20140514,2223,40.0133,154.3177,5534,403.1,400,5.0364,33.9722,2,33.9716,2,124.67,2,71.62,2,32.78,2,0.01,2,2.39,2,2249.3,2,2295.6,2,7.4817,2,-999,9,-999,9
49UF20140512,KS14-04,4166,1,25,21984,2,20140514,2219,40.0133,154.3177,5534,508.5,504,4.1314,34.0183,2,-999.0000,9,82.11,2,91.92,2,37.91,2,0.00,2,2.74,2,2297.9,2,2312.3,2,7.3851,2,-999,9,-999,9
49UF20140512,KS14-04,4166,1,24,21983,2,20140514,2216,40.0133,154.3177,5534,605.0,599,3.8780,34.1157,2,34.1168,2,56.29,2,106.05,2,40.32,2,0.00,2,2.90,2,2323.1,2,2328.9,2,7.3551,2,-999,9,-999,9
49UF20140512,KS14-04,4166,1,23,22095,2,20140514,2213,40.0133,154.3177,5534,705.0,698,3.7900,34.2125,2,-999.0000,9,47.81,2,114.59,2,40.95,2,0.00,2,2.94,2,2336.2,2,2340.5,2,7.3543,2,-999,9,-999,9
49UF20140512,KS14-04,4166,1,22,22665,2,20140514,2210,40.0133,154.3177,5534,810.2,802,3.5417,34.2756,2,34.2753,2,41.98,2,123.32,2,41.58,2,0.00,2,2.98,2,2346.9,2,2353.8,2,7.3526,2,-999,9,-999,9
49UF20140512,KS14-04,4166,1,21,21980,2,20140514,2207,40.0133,154.3177,5534,909.6,901,3.2480,34.3285,2,-999.0000,9,37.56,2,132.17,2,42.14,2,0.00,2,3.03,2,2360.1,2,2362.5,2,7.3540,2,-999,9,-999,9
49UF20140512,KS14-04,4166,1,20,21979,2,20140514,2204,40.0133,154.3177,5534,1013.7,1003,3.0362,34.3824,2,34.3829,2,37.70,2,138.66,2,42.36,2,0.00,2,3.04,2,2367.3,2,2372.6,2,7.3583,2,-999,9,-999,9
49UF20140512,KS14-04,4166,1,19,21978,2,20140514,2159,40.0133,154.3177,5534,1213.9,1201,2.7059,34.4427,2,34.4419,2,38.60,6,148.53,6,42.70,6,0.00,6,3.06,6,2376.7,2,2385.7,2,7.3652,2,-999,9,-999,9
49UF20140512,KS14-04,4166,1,18,21977,2,20140514,2154,40.0133,154.3177,5534,1417.5,1402,2.4289,34.4982,2,34.4982,2,43.46,2,156.09,2,42.69,2,0.00,2,3.04,2,2383.9,2,2394.7,2,7.3759,2,-999,9,-999,9
49UF20140512,KS14-04,4166,1,17,23679,2,20140514,2150,40.0133,154.3177,5534,1618.6,1600,2.2463,34.5330,2,34.5337,6,50.72,2,160.06,2,42.29,2,0.00,2,3.00,2,2383.6,2,2401.2,2,7.3936,2,-999,9,-999,9
49UF20140512,KS14-04,4166,1,16,21975,2,20140514,2145,40.0133,154.3177,5534,1823.7,1802,2.0876,34.5653,2,34.5655,2,61.25,2,162.58,2,41.75,2,0.00,2,2.96,2,2380.0,2,2408.1,2,7.4154,2,-999,9,-999,9
49UF20140512,KS14-04,4166,1,15,21974,2,20140514,2140,40.0133,154.3177,5534,2024.1,1999,1.9533,34.5912,2,34.5952,4,71.93,4,163.74,2,41.04,2,0.00,2,2.90,2,2377.7,2,2411.3,2,7.4363,2,-999,9,-999,9
49UF20140512,KS14-04,4166,1,14,21973,2,20140514,2135,40.0133,154.3177,5534,2279.2,2250,1.8151,34.6164,2,34.6177,2,87.36,2,163.63,2,40.14,2,0.00,2,2.83,2,2367.6,2,2414.2,2,7.4657,2,-999,9,-999,9
49UF20140512,KS14-04,4166,1,13,21972,3,20140514,2129,40.0133,154.3177,5534,2534.9,2500,1.7091,34.6357,2,34.6363,2,102.08,2,161.71,2,39.16,2,0.00,2,2.76,2,2360.8,2,2415.9,2,7.4961,2,-999,9,-999,9
49UF20140512,KS14-04,4166,1,12,21994,2,20140514,2124,40.0133,154.3177,5534,2788.1,2749,1.6282,34.6499,2,34.6511,2,114.40,2,159.74,2,38.49,2,0.00,2,2.70,2,2353.9,2,2418.5,2,7.5181,2,-999,9,-999,9
49UF20140512,KS14-04,4166,1,11,21970,3,20140514,2119,40.0133,154.3177,5534,3043.3,2998,1.5739,34.6599,2,34.6583,2,123.24,2,157.49,2,37.83,2,0.00,2,2.66,2,2346.2,2,2416.0,2,7.5328,2,-999,9,-999,9
49UF20140512,KS14-04,4166,1,10,21969,2,20140514,2114,40.0133,154.3177,5534,3298.0,3247,1.5305,34.6678,2,34.6675,2,132.22,6,156.43,6,37.29,6,0.00,6,2.62,6,2341.2,2,2418.6,2,7.5483,2,-999,9,-999,9
49UF20140512,KS14-04,4166,1,9,21968,2,20140514,2108,40.0133,154.3177,5534,3553.8,3497,1.4909,34.6748,2,34.6753,2,139.75,2,154.72,2,36.76,2,0.00,2,2.57,2,2336.8,2,2417.4,2,7.5609,2,-999,9,-999,9
49UF20140512,KS14-04,4166,1,8,21982,2,20140514,2103,40.0133,154.3177,5534,3811.8,3749,1.4775,34.6792,2,34.6793,2,144.87,2,153.11,2,36.44,2,0.00,2,2.55,2,2332.3,2,2416.5,2,7.5712,2,-999,9,-999,9
49UF20140512,KS14-04,4166,1,7,21966,2,20140514,2058,40.0133,154.3177,5534,4066.1,3997,1.4683,34.6831,2,34.6828,6,149.43,2,151.43,2,36.15,2,0.00,2,2.52,2,2330.6,2,2416.0,2,7.5793,2,-999,9,-999,9
49UF20140512,KS14-04,4166,1,6,21965,2,20140514,2053,40.0133,154.3177,5534,4324.7,4248,1.4719,34.6857,2,34.6853,2,153.72,2,150.42,2,35.82,2,0.00,2,2.50,2,2325.7,2,2415.4,2,7.5865,2,-999,9,-999,9
49UF20140512,KS14-04,4166,1,5,22085,2,20140514,2048,40.0133,154.3177,5534,4580.7,4497,1.4824,34.6877,2,34.6864,2,155.44,6,149.30,6,35.73,6,0.00,6,2.49,6,2324.7,2,2415.0,2,7.5869,2,-999,9,-999,9
49UF20140512,KS14-04,4166,1,4,21963,2,20140514,2042,40.0133,154.3177,5534,4837.9,4747,1.4978,34.6891,2,34.6895,2,158.77,2,147.97,2,35.49,2,0.00,2,2.47,2,2323.5,2,2414.4,2,7.5922,2,-999,9,-999,9
49UF20140512,KS14-04,4166,1,3,22079,4,20140514,2037,40.0133,154.3177,5534,5097.0,4998,1.5206,34.6903,2,34.6875,4,158.23,4,149.03,4,35.54,4,0.00,4,2.47,4,2321.0,4,2413.1,4,7.5901,4,-999,9,-999,9
49UF20140512,KS14-04,4166,1,2,21961,2,20140514,2026,40.0133,154.3177,5534,5615.8,5501,1.5701,34.6919,2,34.6910,2,162.77,2,145.71,2,35.15,2,0.00,2,2.44,2,2316.0,2,2412.7,2,7.5977,2,-999,9,-999,9
49UF20140512,KS14-04,4166,1,1,21960,2,20140514,2025,40.0133,154.3177,5534,5648.7,5533,1.5745,34.6920,2,34.6918,6,162.66,2,145.63,2,35.14,2,0.00,2,2.45,2,2320.9,3,2412.6,2,7.6005,2,-999,9,-999,9