BOTTLE,20171117JMAGEMD
EXPOCODE,SECT_ID,STNNBR,CASTNO,SAMPNO,BTLNBR,BTLNBR_FLAG_W,DATE,TIME,LATITUDE,LONGITUDE,DEPTH,CTDPRS,CTDDEP,CTDTMP,CTDSAL,CTDSAL_FLAG_W,SALNTY,SALNTY_FLAG_W,OXYGEN,OXYGEN_FLAG_W,SILCAT,SILCAT_FLAG_W,NO2+NO3,NO2+NO3_FLAG_W,NITRIT,NITRIT_FLAG_W,PHSPHT,PHSPHT_FLAG_W,TCARBN,TCARBN_FLAG_W,ALKALI,ALKALI_FLAG_W,PH_TOT,PH_TOT_FLAG_W,CFC-11,CFC-11_FLAG_W,CFC-12,CFC-12_FLAG_W
,,,,,,,UTC,UTC,,,METER,DBAR,METERS,ITS-90,PSS-78,,PSS-78,,UMOL/KG,,UMOL/KG,,UMOL/KG,,UMOL/KG,,UMOL/KG,,UMOL/KG,,UMOL/KG,,@25DEG-C,,PMOL/KG,,PMOL/KG,
49UF20140512,KS14-04,4177,1,-999,0,2,20140520,0832,43.007,165.0035,5396,0.0,0,6.7375,32.9330,2,-999.,9,322.10,2,25.38,2,14.69,2,0.17,2,1.31,2,-999.,9,-999.,9,-999.,9,-999,9,-999,9
49UF20140512,KS14-04,4177,1,36,21995,3,20140520,0846,43.007,165.0035,5396,9.4,9,6.3573,32.9280,2,-999.,9,324.85,2,25.35,2,14.64,2,0.16,2,1.30,2,-999.,9,-999.,9,-999.,9,-999,9,-999,9
49UF20140512,KS14-04,4177,1,35,22087,2,20140520,0845,43.007,165.0035,5396,25.0,25,5.1955,32.9426,2,-999.,9,330.48,2,25.31,2,14.44,2,0.16,2,1.29,2,-999.,9,-999.,9,-999.,9,-999,9,-999,9
49UF20140512,KS14-04,4177,1,34,22666,2,20140520,0843,43.007,165.0035,5396,51.1,51,4.2124,33.0284,2,-999.,9,324.39,2,25.94,2,16.03,2,0.21,2,1.39,2,-999.,9,-999.,9,-999.,9,-999,9,-999,9
49UF20140512,KS14-04,4177,1,30,21989,2,20140520,0842,43.007,165.0035,5396,75.7,75,4.0157,33.0585,2,-999.,9,321.45,2,25.87,2,16.27,2,0.25,2,1.40,2,-999.,9,-999.,9,-999.,9,-999,9,-999,9
49UF20140512,KS14-04,4177,1,29,21988,2,20140520,0838,43.007,165.0035,5396,102.1,101,3.7605,33.1130,2,-999.,9,311.66,2,28.11,2,17.85,2,0.26,2,1.47,2,-999.,9,-999.,9,-999.,9,-999,9,-999,9
49UF20140512,KS14-04,4177,1,28,21987,2,20140520,0837,43.007,165.0035,5396,126.0,125,3.9605,33.3725,2,-999.,9,271.65,2,36.39,2,21.59,2,0.01,2,1.67,2,-999.,9,-999.,9,-999.,9,-999,9,-999,9
49UF20140512,KS14-04,4177,1,27,21986,2,20140520,0836,43.007,165.0035,5396,151.8,151,3.9575,33.5418,2,-999.,9,234.63,2,46.04,2,25.49,2,0.01,2,1.91,2,-999.,9,-999.,9,-999.,9,-999,9,-999,9
49UF20140512,KS14-04,4177,1,26,21985,2,20140520,0834,43.007,165.0035,5396,200.4,199,3.7191,33.6682,2,-999.,9,177.78,6,62.43,6,31.05,6,0.00,6,2.30,6,-999.,9,-999.,9,-999.,9,-999,9,-999,9
49UF20140512,KS14-04,4177,1,25,21984,2,20140520,0832,43.007,165.0035,5396,251.5,249,3.5749,33.7299,2,-999.,9,144.02,2,72.53,2,34.48,2,0.00,2,2.52,2,-999.,9,-999.,9,-999.,9,-999,9,-999,9
49UF20140512,KS14-04,4177,1,21,21980,2,20140520,0831,43.007,165.0035,5396,301.5,299,3.5525,33.7956,2,-999.,9,116.83,2,81.42,2,36.82,2,0.00,2,2.67,2,-999.,9,-999.,9,-999.,9,-999,9,-999,9
49UF20140512,KS14-04,4177,1,20,21979,2,20140520,0831,43.007,165.0035,5396,301.5,299,3.5525,33.7956,2,-999.,9,116.87,2,81.06,2,36.85,2,0.00,2,2.67,2,-999.,9,-999.,9,-999.,9,-999,9,-999,9
49UF20140512,KS14-04,4177,1,19,21978,2,20140520,0828,43.007,165.0035,5396,404.1,401,3.5417,33.9543,2,-999.,9,63.46,2,99.57,2,41.04,2,0.00,2,2.94,2,-999.,9,-999.,9,-999.,9,-999,9,-999,9
49UF20140512,KS14-04,4177,1,18,21977,2,20140520,0826,43.007,165.0035,5396,504.3,500,3.6799,34.1182,2,-999.,9,45.64,2,110.93,2,41.78,2,0.00,2,2.98,2,-999.,9,-999.,9,-999.,9,-999,9,-999,9
49UF20140512,KS14-04,4177,1,17,23679,2,20140520,0823,43.007,165.0035,5396,605.6,600,3.5483,34.1926,2,-999.,9,38.25,2,119.38,2,42.34,2,0.00,2,3.01,2,-999.,9,-999.,9,-999.,9,-999,9,-999,9
49UF20140512,KS14-04,4177,1,16,21975,2,20140520,0821,43.007,165.0035,5396,707.3,700,3.3191,34.2547,2,-999.,9,32.52,2,128.53,2,42.84,2,0.00,2,3.06,2,-999.,9,-999.,9,-999.,9,-999,9,-999,9
49UF20140512,KS14-04,4177,1,12,21994,3,20140520,0818,43.007,165.0035,5396,808.0,800,3.1056,34.3140,2,-999.,9,31.17,2,135.61,2,43.14,2,0.00,2,3.07,2,-999.,9,-999.,9,-999.,9,-999,9,-999,9
49UF20140512,KS14-04,4177,1,11,21970,2,20140520,0816,43.007,165.0035,5396,909.0,900,2.9570,34.3518,2,-999.,9,31.53,2,140.59,2,43.23,2,0.00,2,3.07,2,-999.,9,-999.,9,-999.,9,-999,9,-999,9
49UF20140512,KS14-04,4177,1,10,21969,2,20140520,0813,43.007,165.0035,5396,1010.2,1000,2.7540,34.3989,2,-999.,9,33.09,2,147.73,2,43.30,2,0.00,2,3.08,2,-999.,9,-999.,9,-999.,9,-999,9,-999,9
49UF20140512,KS14-04,4177,1,9,21968,2,20140520,0809,43.007,165.0035,5396,1213.8,1201,2.5015,34.4584,2,-999.,9,37.47,2,155.20,2,43.18,2,0.00,2,3.06,2,-999.,9,-999.,9,-999.,9,-999,9,-999,9
49UF20140512,KS14-04,4177,1,8,21982,2,20140520,0804,43.007,165.0035,5396,1414.9,1399,2.3187,34.5057,2,-999.,9,42.20,6,160.05,6,43.19,6,0.00,6,3.05,6,-999.,9,-999.,9,-999.,9,-999,9,-999,9
49UF20140512,KS14-04,4177,1,7,21966,3,20140520,0759,43.007,165.0035,5396,1618.9,1600,2.1456,34.5429,2,-999.,9,51.35,2,164.28,2,42.69,2,0.00,2,3.01,2,-999.,9,-999.,9,-999.,9,-999,9,-999,9
49UF20140512,KS14-04,4177,1,3,22079,2,20140520,0755,43.007,165.0035,5396,1823.1,1801,2.0036,34.5735,2,-999.,9,62.61,2,165.72,2,42.00,2,0.00,2,2.95,2,-999.,9,-999.,9,-999.,9,-999,9,-999,9
49UF20140512,KS14-04,4177,1,2,21961,2,20140520,0755,43.007,165.0035,5396,1823.1,1801,2.0036,34.5735,2,-999.,9,62.53,2,165.24,2,42.04,2,0.00,2,2.95,2,-999.,9,-999.,9,-999.,9,-999,9,-999,9
49UF20140512,KS14-04,4177,1,1,21960,2,20140520,0751,43.007,165.0035,5396,2029.1,2003,1.8932,34.5960,2,-999.,9,73.63,2,166.65,2,41.31,2,0.00,2,2.90,2,-999.,9,-999.,9,-999.,9,-999,9,-999,9
49UF20140512,KS14-04,4179,1,-999,0,2,20140520,2348,45.0247,164.9882,5971,0.0,0,5.1858,33.0753,2,33.1084,2,320.94,2,24.53,2,14.33,2,0.22,2,1.26,2,2085.1,2,2229.4,2,7.7702,2,-999,9,-999,9
49UF20140512,KS14-04,4179,1,36,21995,2,20140520,0015,45.0247,164.9882,5971,9.3,9,5.1863,33.0763,2,-999.0000,9,323.54,2,24.59,2,14.58,2,0.22,2,1.27,2,2087.1,2,2228.5,2,7.7639,2,-999,9,-999,9
49UF20140512,KS14-04,4179,1,35,22087,3,20140520,0014,45.0247,164.9882,5971,23.6,23,4.5582,33.0658,2,33.0682,2,328.47,2,24.79,2,14.72,2,0.22,2,1.28,2,2085.5,2,2229.1,2,7.7656,2,-999,9,-999,9
49UF20140512,KS14-04,4179,1,34,22666,2,20140520,0010,45.0247,164.9882,5971,47.2,47,4.4586,33.0662,2,-999.0000,9,323.22,2,25.04,2,15.28,2,0.23,2,1.32,2,2087.9,2,2229.1,2,7.7475,2,-999,9,-999,9
49UF20140512,KS14-04,4179,1,33,21992,2,20140520,0009,45.0247,164.9882,5971,74.0,73,4.1749,33.1833,2,33.1845,2,316.53,6,25.23,6,15.67,6,0.35,6,1.33,6,2097.8,2,2233.1,2,7.7347,2,-999,9,-999,9
49UF20140512,KS14-04,4179,1,32,21991,2,20140520,0007,45.0247,164.9882,5971,99.7,99,4.1494,33.1998,2,33.1995,2,314.52,2,25.50,2,15.92,2,0.40,2,1.33,2,2101.1,2,2232.7,2,7.7341,2,-999,9,-999,9
49UF20140512,KS14-04,4179,1,31,21990,2,20140520,0006,45.0247,164.9882,5971,124.3,123,4.2516,33.2495,2,33.2499,2,309.29,2,25.89,2,16.44,2,0.34,2,1.34,2,2106.0,2,2234.1,2,7.7296,2,-999,9,-999,9
49UF20140512,KS14-04,4179,1,30,21989,2,20140520,0004,45.0247,164.9882,5971,150.5,149,4.6862,33.5193,2,33.5230,2,258.50,2,36.11,2,21.36,2,0.01,2,1.63,2,2150.5,2,2251.5,2,7.6562,2,-999,9,-999,9
49UF20140512,KS14-04,4179,1,29,21988,2,20140520,0002,45.0247,164.9882,5971,201.1,199,4.1246,33.6400,2,-999.0000,9,213.53,2,50.13,2,26.88,2,0.00,2,2.00,2,2191.9,2,2263.2,2,7.5810,2,-999,9,-999,9
49UF20140512,KS14-04,4179,1,28,21987,2,20140520,0000,45.0247,164.9882,5971,251.6,249,3.7513,33.6817,2,33.6823,2,172.60,2,63.41,2,31.29,2,0.00,2,2.32,2,2228.8,2,2273.5,2,7.4873,2,-999,9,-999,9
49UF20140512,KS14-04,4179,1,27,21986,2,20140520,2358,45.0247,164.9882,5971,303.1,300,3.6611,33.7645,2,-999.0000,9,133.36,2,75.22,2,35.07,2,0.00,2,2.56,2,2262.8,2,2283.1,2,7.4226,2,-999,9,-999,9
49UF20140512,KS14-04,4179,1,26,21985,2,20140520,2355,45.0247,164.9882,5971,401.6,398,3.8175,33.9321,2,33.9331,2,84.69,2,90.25,2,38.67,2,0.00,2,2.79,2,2296.4,2,2301.9,2,7.3649,2,-999,9,-999,9
49UF20140512,KS14-04,4179,1,25,21984,2,20140520,2352,45.0247,164.9882,5971,504.9,500,3.8292,34.0641,2,34.0643,6,57.14,2,103.30,2,40.53,2,0.00,2,2.91,2,2322.3,2,2319.3,2,7.3377,2,-999,9,-999,9
49UF20140512,KS14-04,4179,1,24,21983,2,20140520,2349,45.0247,164.9882,5971,604.7,599,3.6294,34.1613,2,34.1626,2,40.92,6,115.36,6,41.85,6,0.00,6,2.99,6,2342.2,2,2334.7,2,7.3278,2,-999,9,-999,9
49UF20140512,KS14-04,4179,1,23,22095,2,20140520,2346,45.0247,164.9882,5971,707.0,700,3.3803,34.2266,2,34.2268,2,32.02,2,125.91,2,42.63,2,0.00,2,3.04,2,2356.5,6,2345.8,6,7.3175,2,-999,9,-999,9
49UF20140512,KS14-04,4179,1,22,22665,2,20140520,2343,45.0247,164.9882,5971,809.3,801,3.1886,34.2956,2,34.2943,2,31.67,2,133.64,2,42.74,2,0.00,2,3.06,2,2364.7,2,2358.5,2,7.3305,6,-999,9,-999,9
49UF20140512,KS14-04,4179,1,21,21980,2,20140520,2340,45.0247,164.9882,5971,908.3,899,3.0004,34.3349,2,34.3342,2,30.07,2,139.92,2,43.02,2,0.00,2,3.08,2,2370.8,2,2367.6,2,7.3262,2,-999,9,-999,9
49UF20140512,KS14-04,4179,1,20,21979,2,20140520,2337,45.0247,164.9882,5971,1010.2,1000,2.8645,34.3765,2,34.3761,2,33.09,2,144.03,2,42.92,2,0.00,2,3.06,2,2373.1,2,2372.2,2,7.3398,2,-999,9,-999,9
49UF20140512,KS14-04,4179,1,19,21978,2,20140520,2332,45.0247,164.9882,5971,1213.3,1200,2.5770,34.4373,2,34.4371,2,35.22,2,153.04,2,43.03,2,0.00,2,3.06,2,2380.0,2,2385.1,2,7.3480,2,-999,9,-999,9
49UF20140512,KS14-04,4179,1,18,21977,2,20140520,2327,45.0247,164.9882,5971,1415.9,1400,2.3589,34.4861,2,34.4864,2,38.88,2,160.33,2,42.81,2,0.00,2,3.05,2,2386.0,2,2394.2,2,7.3629,2,-999,9,-999,9
49UF20140512,KS14-04,4179,1,17,23679,2,20140520,2322,45.0247,164.9882,5971,1618.7,1599,2.1869,34.5283,2,34.5294,2,46.65,2,164.36,2,42.33,2,0.00,2,3.01,2,2388.1,2,2399.2,2,7.3833,2,-999,9,-999,9
49UF20140512,KS14-04,4179,1,16,21975,2,20140520,2317,45.0247,164.9882,5971,1821.6,1799,2.0611,34.5607,2,34.5606,2,57.30,2,165.90,2,41.87,2,0.00,2,2.96,2,2382.6,2,2404.9,2,7.4044,2,-999,9,-999,9
49UF20140512,KS14-04,4179,1,15,21974,2,20140520,2312,45.0247,164.9882,5971,2025.6,1999,1.9377,34.5877,2,34.5886,2,68.10,6,166.96,6,41.21,6,0.00,6,2.91,6,2377.0,2,2408.3,2,7.4224,2,-999,9,-999,9
49UF20140512,KS14-04,4179,1,14,21973,2,20140520,2307,45.0247,164.9882,5971,2278.9,2248,1.8052,34.6154,2,-999.0000,9,85.09,2,165.60,2,40.28,2,0.00,2,2.83,2,2369.0,2,2410.8,2,7.4535,2,-999,9,-999,9
49UF20140512,KS14-04,4179,1,13,21972,2,20140520,2301,45.0247,164.9882,5971,2534.7,2499,1.7040,34.6341,2,34.6340,2,98.48,2,164.55,2,39.35,2,0.00,2,2.77,2,2363.6,6,2413.4,6,7.4693,2,-999,9,-999,9
49UF20140512,KS14-04,4179,1,12,21994,2,20140520,2256,45.0247,164.9882,5971,2790.4,2750,1.6262,34.6488,2,34.6486,2,110.92,2,161.52,2,38.66,2,0.00,2,2.71,2,2354.3,2,2416.5,2,7.5111,6,-999,9,-999,9
49UF20140512,KS14-04,4179,1,11,21970,2,20140520,2250,45.0247,164.9882,5971,3045.2,2999,1.5738,34.6586,2,34.6595,2,121.44,2,159.76,2,37.97,2,0.00,2,2.65,2,2349.2,2,2415.6,2,7.5284,2,-999,9,-999,9
49UF20140512,KS14-04,4179,1,10,21969,2,20140520,2245,45.0247,164.9882,5971,3300.4,3248,1.5296,34.6671,2,34.6682,2,130.34,2,157.46,2,37.23,2,0.00,2,2.61,2,2340.8,2,2417.2,2,7.5406,2,-999,9,-999,9
49UF20140512,KS14-04,4179,1,9,21968,2,20140520,2240,45.0247,164.9882,5971,3556.9,3499,1.5082,34.6724,2,34.6721,6,136.85,2,156.32,2,36.96,2,0.00,2,2.58,2,2336.2,2,2414.4,2,7.5544,2,-999,9,-999,9
49UF20140512,KS14-04,4179,1,8,21982,2,20140520,2235,45.0247,164.9882,5971,3814.5,3750,1.4991,34.6764,2,34.6759,2,141.54,2,154.32,2,36.75,2,0.00,2,2.55,2,2333.5,2,2414.1,2,7.5630,2,-999,9,-999,9
49UF20140512,KS14-04,4179,1,7,21966,2,20140520,2230,45.0247,164.9882,5971,4071.5,4000,1.4947,34.6799,2,34.6797,2,146.03,2,153.25,2,36.38,2,0.00,2,2.53,2,2331.1,2,2413.7,2,7.5723,2,-999,9,-999,9
49UF20140512,KS14-04,4179,1,6,21965,2,20140520,2225,45.0247,164.9882,5971,4329.3,4251,1.4949,34.6829,2,34.6828,6,150.40,6,152.22,6,36.18,6,0.00,6,2.51,6,2328.4,2,2414.2,2,7.5780,2,-999,9,-999,9
49UF20140512,KS14-04,4179,1,5,22085,3,20140520,2220,45.0247,164.9882,5971,4585.6,4500,1.5015,34.6854,2,34.6853,2,152.20,2,151.19,2,35.93,2,0.00,2,2.50,2,2326.4,2,2415.0,2,7.5818,2,-999,9,-999,9
49UF20140512,KS14-04,4179,1,4,21963,2,20140520,2215,45.0247,164.9882,5971,4841.8,4749,1.5147,34.6872,2,34.6865,2,155.39,2,150.61,2,35.79,2,0.00,2,2.48,2,2324.0,2,2415.7,2,7.5870,2,-999,9,-999,9
49UF20140512,KS14-04,4179,1,3,22079,2,20140520,2209,45.0247,164.9882,5971,5100.6,5000,1.5344,34.6883,2,34.6888,2,157.02,2,151.11,2,35.64,2,0.00,2,2.47,2,2324.6,2,2414.6,6,7.5887,2,-999,9,-999,9
49UF20140512,KS14-04,4179,1,2,21961,2,20140520,2159,45.0247,164.9882,5971,5616.5,5499,1.5939,34.6895,2,34.6908,2,158.05,2,152.34,2,35.61,2,0.00,2,2.47,2,2324.3,2,2413.1,2,7.5919,6,-999,9,-999,9
49UF20140512,KS14-04,4179,1,1,21960,2,20140520,2150,45.0247,164.9882,5971,6093.6,5960,1.6553,34.6899,2,34.6925,4,158.37,2,152.03,2,35.64,2,0.00,2,2.46,2,2324.0,2,2412.0,2,7.5938,2,-999,9,-999,9
49UF20140512,KS14-04,4181,1,-999,0,2,20140521,1452,47.0217,164.9873,5872,0.0,0,4.4134,32.9652,2,32.9681,2,327.02,2,27.09,2,16.47,2,0.19,2,1.43,2,2093.1,2,2225.5,2,7.7431,2,-999,9,-999,9
49UF20140512,KS14-04,4181,1,36,21995,2,20140521,1515,47.0217,164.9873,5872,9.9,10,4.4137,32.9646,2,32.9677,2,327.41,2,27.17,2,16.55,2,0.19,2,1.44,2,2093.2,2,2227.2,2,7.7397,2,-999,9,-999,9
49UF20140512,KS14-04,4181,1,35,22087,3,20140521,1514,47.0217,164.9873,5872,25.0,25,3.6762,32.9171,2,32.9166,2,331.75,2,28.02,2,17.43,2,0.19,2,1.51,2,2093.6,2,2225.6,2,7.7330,2,-999,9,-999,9
49UF20140512,KS14-04,4181,1,34,22666,2,20140521,1510,47.0217,164.9873,5872,50.4,50,3.7325,32.9977,2,32.9961,2,326.08,6,27.79,6,17.18,6,0.21,6,1.49,6,2100.6,2,2226.3,2,7.7267,2,-999,9,-999,9
49UF20140512,KS14-04,4181,1,33,21992,2,20140521,1509,47.0217,164.9873,5872,74.8,74,3.7700,33.1353,2,33.1493,4,317.91,2,27.77,2,16.93,2,0.29,2,1.44,2,2106.7,2,2233.8,2,7.7270,2,-999,9,-999,9
49UF20140512,KS14-04,4181,1,32,21991,2,20140521,1508,47.0217,164.9873,5872,100.5,100,4.0592,33.3678,2,33.3809,4,282.36,2,35.52,2,20.71,2,0.01,2,1.63,2,2136.2,2,2245.3,2,7.6740,2,-999,9,-999,9
49UF20140512,KS14-04,4181,1,31,21990,2,20140521,1507,47.0217,164.9873,5872,126.4,125,3.3942,33.4521,2,33.4498,2,231.78,2,51.62,2,27.30,2,0.01,2,2.07,2,2184.6,2,2255.2,2,7.5584,2,-999,9,-999,9
49UF20140512,KS14-04,4181,1,30,21989,2,20140521,1506,47.0217,164.9873,5872,152.3,151,3.2378,33.5346,2,33.5442,4,199.21,2,59.91,2,30.12,2,0.01,2,2.26,2,2217.8,2,2263.7,2,7.5042,2,-999,9,-999,9
49UF20140512,KS14-04,4181,1,29,21988,2,20140521,1504,47.0217,164.9873,5872,202.6,201,2.6513,33.5691,2,33.5785,4,148.54,2,76.37,2,36.49,2,0.00,2,2.68,2,2261.8,2,2272.8,2,7.3885,2,-999,9,-999,9
49UF20140512,KS14-04,4181,1,28,21987,2,20140521,1503,47.0217,164.9873,5872,252.5,250,3.1093,33.7311,2,33.7318,2,113.34,2,84.33,2,38.12,2,0.00,2,2.78,2,2282.5,2,2285.7,2,7.3550,2,-999,9,-999,9
49UF20140512,KS14-04,4181,1,27,21986,2,20140521,1501,47.0217,164.9873,5872,303.0,300,3.4388,33.8668,2,33.8649,2,77.06,2,93.60,2,40.48,2,0.00,2,2.91,2,2307.0,2,2299.5,2,7.3186,2,-999,9,-999,9
49UF20140512,KS14-04,4181,1,26,21985,2,20140521,1459,47.0217,164.9873,5872,403.8,400,3.4871,34.0296,2,34.0310,6,28.80,2,111.83,2,44.08,2,0.00,2,3.14,2,2345.0,2,2317.1,2,7.2637,2,-999,9,-999,9
49UF20140512,KS14-04,4181,1,25,21984,2,20140521,1456,47.0217,164.9873,5872,506.1,501,3.4107,34.1282,2,34.1277,2,19.78,6,121.52,6,44.16,6,0.00,6,3.14,6,2357.5,2,2332.7,2,7.2698,2,-999,9,-999,9
49UF20140512,KS14-04,4181,1,24,21983,2,20140521,1454,47.0217,164.9873,5872,606.7,601,3.3056,34.2070,2,34.2064,2,15.08,2,129.82,2,44.30,2,0.00,2,3.15,2,2369.3,2,2343.6,2,7.2790,2,-999,9,-999,9
49UF20140512,KS14-04,4181,1,23,22095,2,20140521,1451,47.0217,164.9873,5872,706.4,699,3.1007,34.2788,2,34.2790,2,20.94,2,137.11,2,43.77,2,0.00,2,3.13,2,2371.6,2,2355.5,2,7.2993,2,-999,9,-999,9
49UF20140512,KS14-04,4181,1,22,22665,2,20140521,1449,47.0217,164.9873,5872,808.8,801,2.9381,34.3274,2,34.3284,2,22.14,2,143.13,2,43.65,2,0.00,2,3.13,2,2381.8,2,2367.4,2,7.3095,2,-999,9,-999,9
49UF20140512,KS14-04,4181,1,21,21980,2,20140521,1446,47.0217,164.9873,5872,907.8,898,2.8372,34.3630,2,34.3620,2,23.29,2,147.51,2,43.75,2,0.00,2,3.12,2,2382.5,2,2372.5,2,7.3153,2,-999,9,-999,9
49UF20140512,KS14-04,4181,1,20,21979,2,20140521,1444,47.0217,164.9873,5872,1010.4,1000,2.7139,34.3963,2,34.3947,2,20.17,2,153.64,2,44.17,2,0.00,2,3.15,2,2389.3,2,2391.9,3,7.3131,2,-999,9,-999,9
49UF20140512,KS14-04,4181,1,19,21978,2,20140521,1439,47.0217,164.9873,5872,1212.6,1199,2.4573,34.4565,2,34.4572,6,32.33,2,159.19,2,43.36,2,0.00,2,3.09,2,2389.0,6,2386.0,6,7.3443,2,-999,9,-999,9
49UF20140512,KS14-04,4181,1,18,21977,2,20140521,1434,47.0217,164.9873,5872,1415.8,1399,2.2649,34.5020,2,34.5018,2,34.86,2,166.25,2,43.18,2,0.00,2,3.07,2,2392.6,2,2395.8,2,7.3512,6,-999,9,-999,9
49UF20140512,KS14-04,4181,1,17,23679,2,20140521,1430,47.0217,164.9873,5872,1618.1,1598,2.1120,34.5411,2,34.5400,2,45.60,2,168.71,2,42.65,2,0.00,2,3.02,2,2388.7,2,2403.6,2,7.3740,2,-999,9,-999,9
49UF20140512,KS14-04,4181,1,16,21975,2,20140521,1425,47.0217,164.9873,5872,1822.9,1800,1.9681,34.5742,2,34.5760,2,58.23,6,170.33,6,41.85,6,0.00,6,2.97,6,2383.5,2,2405.8,2,7.4029,2,-999,9,-999,9
49UF20140512,KS14-04,4181,1,15,21974,2,20140521,1420,47.0217,164.9873,5872,2026.3,2000,1.8710,34.5981,2,34.5973,2,72.23,2,169.16,2,41.01,2,0.00,2,2.91,2,2380.5,2,2410.6,2,7.4321,2,-999,9,-999,9
49UF20140512,KS14-04,4181,1,14,21973,3,20140521,1414,47.0217,164.9873,5872,2280.1,2249,1.7583,34.6212,2,34.6207,2,87.41,2,167.93,2,40.07,2,0.00,2,2.83,2,2372.5,2,2412.4,2,7.4630,2,-999,9,-999,9
49UF20140512,KS14-04,4181,1,13,21972,2,20140521,1408,47.0217,164.9873,5872,2534.2,2498,1.6674,34.6384,2,34.6381,2,101.08,2,165.72,2,39.22,2,0.00,2,2.77,2,2362.3,2,2416.2,2,7.4888,2,-999,9,-999,9
49UF20140512,KS14-04,4181,1,12,21994,2,20140521,1402,47.0217,164.9873,5872,2791.4,2750,1.6056,34.6508,2,34.6505,2,113.24,2,162.83,2,38.53,2,0.00,2,2.71,2,2353.4,2,2415.2,2,7.5114,2,-999,9,-999,9
49UF20140512,KS14-04,4181,1,11,21970,2,20140521,1357,47.0217,164.9873,5872,3046.6,3000,1.5603,34.6601,2,34.6602,2,123.07,2,159.82,2,37.96,2,0.00,2,2.66,2,2349.4,6,2414.4,6,7.5296,2,-999,9,-999,9
49UF20140512,KS14-04,4181,1,10,21969,2,20140521,1351,47.0217,164.9873,5872,3301.8,3249,1.5172,34.6684,2,34.6678,2,131.90,2,157.71,2,37.32,2,0.00,2,2.61,2,2345.6,2,2415.0,2,7.5456,6,-999,9,-999,9
49UF20140512,KS14-04,4181,1,9,21968,2,20140521,1346,47.0217,164.9873,5872,3557.4,3498,1.4995,34.6734,2,34.6731,2,138.14,2,156.52,2,36.93,2,0.00,2,2.58,2,2342.9,2,2415.8,2,7.5576,2,-999,9,-999,9
49UF20140512,KS14-04,4181,1,8,21982,2,20140521,1340,47.0217,164.9873,5872,3813.8,3748,1.4863,34.6776,2,34.6771,2,143.66,2,154.69,2,36.62,2,0.00,2,2.56,2,2339.3,2,2414.3,2,7.5809,3,-999,9,-999,9
49UF20140512,KS14-04,4181,1,7,21966,2,20140521,1334,47.0217,164.9873,5872,4069.9,3998,1.4837,34.6810,2,34.6813,2,147.18,6,153.47,6,36.36,6,0.00,6,2.54,6,2333.7,2,2416.6,2,7.5741,2,-999,9,-999,9
49UF20140512,KS14-04,4181,1,6,21965,2,20140521,1329,47.0217,164.9873,5872,4328.1,4249,1.4890,34.6836,2,34.6838,2,150.63,2,152.24,2,36.17,2,0.00,2,2.52,2,2329.6,2,2412.7,2,7.5817,2,-999,9,-999,9
49UF20140512,KS14-04,4181,1,5,22085,2,20140521,1323,47.0217,164.9873,5872,4584.5,4498,1.4978,34.6856,2,34.6859,6,154.60,2,151.53,2,35.95,2,0.00,2,2.50,2,2328.9,2,2415.2,2,7.5820,3,-999,9,-999,9
49UF20140512,KS14-04,4181,1,4,21963,2,20140521,1318,47.0217,164.9873,5872,4843.3,4749,1.5143,34.6873,2,34.6871,2,155.53,2,151.46,2,35.80,2,0.00,2,2.49,2,2327.4,2,2414.5,2,7.5894,2,-999,9,-999,9
49UF20140512,KS14-04,4181,1,3,22079,2,20140521,1312,47.0217,164.9873,5872,5099.9,4998,1.5351,34.6884,2,34.6882,2,156.63,2,151.35,2,35.74,2,0.00,2,2.48,2,2323.8,2,2412.8,2,7.5897,2,-999,9,-999,9
49UF20140512,KS14-04,4181,1,2,21961,2,20140521,1302,47.0217,164.9873,5872,5617.4,5499,1.5944,34.6895,2,34.6900,2,157.37,2,153.37,2,35.66,2,0.00,2,2.48,2,2323.7,6,2414.6,6,7.5896,2,-999,9,-999,9
49UF20140512,KS14-04,4181,1,1,21960,2,20140521,1255,47.0217,164.9873,5872,5991.5,5860,1.6459,34.6896,2,34.6900,6,157.41,2,153.22,2,35.68,2,0.00,2,2.48,2,2327.9,3,2412.7,2,7.5911,6,-999,9,-999,9