BOTTLE,20171117JMAGEMD
EXPOCODE,SECT_ID,STNNBR,CASTNO,SAMPNO,BTLNBR,BTLNBR_FLAG_W,DATE,TIME,LATITUDE,LONGITUDE,DEPTH,CTDPRS,CTDDEP,CTDTMP,CTDSAL,CTDSAL_FLAG_W,SALNTY,SALNTY_FLAG_W,OXYGEN,OXYGEN_FLAG_W,SILCAT,SILCAT_FLAG_W,NO2+NO3,NO2+NO3_FLAG_W,NITRIT,NITRIT_FLAG_W,PHSPHT,PHSPHT_FLAG_W,TCARBN,TCARBN_FLAG_W,ALKALI,ALKALI_FLAG_W,PH_TOT,PH_TOT_FLAG_W,CFC-11,CFC-11_FLAG_W,CFC-12,CFC-12_FLAG_W
,,,,,,,UTC,UTC,,,METER,DBAR,METERS,ITS-90,PSS-78,,PSS-78,,UMOL/KG,,UMOL/KG,,UMOL/KG,,UMOL/KG,,UMOL/KG,,UMOL/KG,,UMOL/KG,,@25DEG-C,,PMOL/KG,,PMOL/KG,
49UF20140512,KS14-04,4169,1,-999,0,2,20140517,0136,35.035,165.0112,5912,0.0,0,15.5539,34.4500,2,34.4457,2,257.39,2,8.07,2,4.01,2,0.11,2,0.32,2,2033.2,2,2274.4,2,7.9589,2,-999,9,-999,9
49UF20140512,KS14-04,4169,1,36,21995,2,20140517,0205,35.035,165.0112,5912,9.5,9,15.5535,34.4500,2,34.4520,2,257.47,2,8.12,2,3.96,2,0.11,2,0.32,2,2036.7,2,2276.4,2,7.9601,2,-999,9,-999,9
49UF20140512,KS14-04,4169,1,35,22087,2,20140517,0204,35.035,165.0112,5912,25.1,25,14.6649,34.4383,2,-999.0000,9,263.95,2,8.52,2,4.23,2,0.11,2,0.33,2,2036.4,2,2274.5,2,7.9571,2,-999,9,-999,9
49UF20140512,KS14-04,4169,1,34,22666,2,20140517,0200,35.035,165.0112,5912,49.2,49,13.5191,34.4409,2,-999.0000,9,258.29,2,9.65,2,5.85,2,0.26,2,0.46,2,2049.6,2,2275.5,2,7.9156,2,-999,9,-999,9
49UF20140512,KS14-04,4169,1,33,21992,2,20140517,0159,35.035,165.0112,5912,74.7,74,12.9533,34.3830,2,-999.0000,9,255.67,2,10.44,2,6.32,2,0.38,2,0.50,2,2056.1,2,2272.0,2,7.9074,2,-999,9,-999,9
49UF20140512,KS14-04,4169,1,32,21991,2,20140517,0157,35.035,165.0112,5912,98.8,98,12.3850,34.3455,2,34.3450,2,244.99,2,12.35,2,8.62,2,0.07,2,0.63,2,2073.8,2,2270.2,2,7.8833,2,-999,9,-999,9
49UF20140512,KS14-04,4169,1,31,21990,2,20140517,0156,35.035,165.0112,5912,124.5,124,11.5468,34.2890,2,-999.0000,9,238.47,2,15.09,2,10.62,2,0.03,2,0.77,2,2081.1,2,2271.0,2,7.8625,2,-999,9,-999,9
49UF20140512,KS14-04,4169,1,30,21989,2,20140517,0154,35.035,165.0112,5912,150.1,149,11.2209,34.2737,2,-999.0000,9,250.57,6,14.37,6,9.87,6,0.05,6,0.73,6,2081.0,2,2269.6,2,7.8613,2,-999,9,-999,9
49UF20140512,KS14-04,4169,1,29,21988,2,20140517,0152,35.035,165.0112,5912,200.8,199,10.3921,34.2122,2,34.2122,2,231.12,2,19.83,2,13.24,2,0.02,2,0.96,2,2101.3,2,2272.2,2,7.8149,2,-999,9,-999,9
49UF20140512,KS14-04,4169,1,28,21987,2,20140517,0150,35.035,165.0112,5912,250.7,249,9.3218,34.1299,2,-999.0000,9,224.37,2,24.57,2,15.74,2,0.02,2,1.15,2,2124.5,2,2264.4,2,7.7703,2,-999,9,-999,9
49UF20140512,KS14-04,4169,1,27,21986,2,20140517,0148,35.035,165.0112,5912,301.2,299,8.0118,34.0227,2,34.0236,2,203.83,2,34.04,2,19.94,2,0.02,2,1.46,2,2150.2,2,2266.8,2,7.7028,2,-999,9,-999,9
49UF20140512,KS14-04,4169,1,26,21985,2,20140517,0145,35.035,165.0112,5912,401.5,398,6.0203,33.9588,2,33.9590,2,156.95,2,56.38,2,28.09,2,0.01,2,2.06,2,2211.3,2,2284.0,2,7.5669,2,-999,9,-999,9
49UF20140512,KS14-04,4169,1,25,21984,2,20140517,0141,35.035,165.0112,5912,502.7,498,4.9919,34.0121,2,-999.0000,9,112.97,2,75.97,2,33.84,2,0.00,2,2.47,2,2260.6,2,2301.7,2,7.4716,2,-999,9,-999,9
49UF20140512,KS14-04,4169,1,24,21983,2,20140517,0138,35.035,165.0112,5912,605.5,600,4.5724,34.1168,2,34.1168,2,78.45,2,92.46,2,37.40,2,0.00,2,2.71,2,2293.7,2,2321.0,2,7.4126,2,-999,9,-999,9
49UF20140512,KS14-04,4169,1,23,22095,2,20140517,0135,35.035,165.0112,5912,704.1,698,4.1943,34.2000,2,34.2010,2,59.13,2,105.59,2,39.45,2,0.00,2,2.84,2,2320.7,2,2335.4,2,7.3900,2,-999,9,-999,9
49UF20140512,KS14-04,4169,1,22,22665,2,20140517,0131,35.035,165.0112,5912,804.6,797,3.8372,34.2644,2,-999.0000,9,48.49,2,116.00,2,40.74,2,0.00,2,2.93,2,2338.2,2,2347.7,2,7.3755,2,-999,9,-999,9
49UF20140512,KS14-04,4169,1,21,21980,2,20140517,0128,35.035,165.0112,5912,907.4,899,3.4970,34.3211,2,34.3214,2,42.35,2,125.26,6,41.54,6,0.00,6,2.99,6,2350.5,2,2361.7,2,7.3674,2,-999,9,-999,9
49UF20140512,KS14-04,4169,1,20,21979,2,20140517,0124,35.035,165.0112,5912,1009.5,1000,3.2211,34.3669,2,34.3659,2,40.56,2,133.15,2,42.15,2,0.00,2,3.02,2,2359.0,2,2371.4,2,7.3648,2,-999,9,-999,9
49UF20140512,KS14-04,4169,1,19,21978,2,20140517,0119,35.035,165.0112,5912,1211.6,1199,2.7142,34.4329,2,34.4327,2,35.48,2,148.43,2,42.74,2,0.00,2,3.07,2,2378.5,2,2385.5,2,7.3558,2,-999,9,-999,9
49UF20140512,KS14-04,4169,1,18,21977,2,20140517,0114,35.035,165.0112,5912,1414.0,1399,2.4444,34.4880,2,34.4882,2,39.05,2,157.45,2,42.86,2,0.00,2,3.06,2,2386.2,2,2398.7,2,7.3657,2,-999,9,-999,9
49UF20140512,KS14-04,4169,1,17,23679,2,20140517,0109,35.035,165.0112,5912,1616.1,1598,2.2481,34.5348,2,34.5344,2,48.25,2,161.03,2,42.50,2,0.00,2,3.02,2,2384.8,6,2403.0,6,7.3911,2,-999,9,-999,9
49UF20140512,KS14-04,4169,1,16,21975,2,20140517,0104,35.035,165.0112,5912,1820.0,1799,2.0776,34.5709,2,34.5708,2,60.24,2,163.22,2,41.84,2,0.00,2,2.96,2,2383.3,2,2410.0,2,7.4149,6,-999,9,-999,9
49UF20140512,KS14-04,4169,1,15,21974,2,20140517,0059,35.035,165.0112,5912,2023.4,1999,1.9181,34.5991,2,34.5992,2,75.94,2,163.94,2,40.94,2,0.00,2,2.89,2,2375.4,2,2414.5,2,7.4448,2,-999,9,-999,9
49UF20140512,KS14-04,4169,1,14,21973,2,20140517,0052,35.035,165.0112,5912,2278.3,2250,1.7815,34.6223,2,34.6230,2,90.99,2,163.98,2,39.99,2,0.00,2,2.82,2,2368.6,2,2417.2,2,7.4742,2,-999,9,-999,9
49UF20140512,KS14-04,4169,1,13,21972,2,20140517,0046,35.035,165.0112,5912,2534.0,2501,1.6833,34.6399,2,34.6400,2,106.80,2,161.18,2,39.05,2,0.00,2,2.74,2,2357.1,2,2418.2,2,7.5046,2,-999,9,-999,9
49UF20140512,KS14-04,4169,1,12,21994,3,20140517,0040,35.035,165.0112,5912,2786.9,2749,1.6108,34.6520,2,34.6523,6,116.59,6,159.28,6,38.20,6,0.00,6,2.69,6,2351.2,2,2419.6,2,7.5208,2,-999,9,-999,9
49UF20140512,KS14-04,4169,1,11,21970,3,20140517,0034,35.035,165.0112,5912,3041.7,2998,1.5510,34.6627,2,34.6617,2,126.52,2,157.43,2,37.66,2,0.00,2,2.64,2,2343.5,2,2419.3,6,7.5425,2,-999,9,-999,9
49UF20140512,KS14-04,4169,1,10,21969,3,20140517,0028,35.035,165.0112,5912,3299.2,3250,1.5083,34.6697,2,34.6688,2,133.72,2,156.03,2,37.23,2,0.00,2,2.60,2,2341.4,2,2420.0,2,7.5531,2,-999,9,-999,9
49UF20140512,KS14-04,4169,1,9,21968,2,20140517,0022,35.035,165.0112,5912,3554.7,3500,1.4849,34.6753,2,34.6740,2,140.35,2,154.23,2,36.83,2,0.00,2,2.57,2,2337.8,2,2419.2,2,7.5593,2,-999,9,-999,9
49UF20140512,KS14-04,4169,1,8,21982,2,20140517,0016,35.035,165.0112,5912,3811.3,3750,1.4790,34.6791,2,34.6795,2,145.03,2,152.21,2,36.47,2,0.00,2,2.54,2,2333.8,2,2417.9,2,7.5704,2,-999,9,-999,9
49UF20140512,KS14-04,4169,1,7,21966,2,20140517,0011,35.035,165.0112,5912,4068.0,4000,1.4739,34.6827,2,34.6821,2,149.24,2,151.57,2,36.26,2,0.00,2,2.52,2,2330.0,6,2417.9,6,7.5824,2,-999,9,-999,9
49UF20140512,KS14-04,4169,1,6,21965,2,20140517,0005,35.035,165.0112,5912,4323.2,4249,1.4742,34.6854,2,34.6851,6,154.35,2,150.23,2,35.95,2,0.00,2,2.50,2,2325.7,2,2417.6,2,7.5886,6,-999,9,-999,9
49UF20140512,KS14-04,4169,1,5,22085,2,20140517,2359,35.035,165.0112,5912,4580.5,4499,1.4803,34.6877,2,34.6858,2,156.54,2,149.29,2,35.86,2,0.00,2,2.49,2,2331.3,3,2418.3,2,7.5880,2,-999,9,-999,9
49UF20140512,KS14-04,4169,1,4,21963,2,20140517,2353,35.035,165.0112,5912,4837.6,4749,1.4902,34.6896,2,34.6896,2,160.65,2,144.07,2,35.43,2,0.00,2,2.46,2,2320.8,2,2416.5,2,7.5915,2,-999,9,-999,9
49UF20140512,KS14-04,4169,1,3,22079,2,20140517,2348,35.035,165.0112,5912,5094.6,4998,1.4981,34.6917,2,34.6906,2,164.00,6,142.14,6,35.12,6,0.00,6,2.44,6,2316.6,2,2412.4,2,7.5965,2,-999,9,-999,9
49UF20140512,KS14-04,4169,1,2,21961,2,20140517,2338,35.035,165.0112,5912,5610.5,5498,1.5270,34.6949,2,34.6949,2,170.78,2,138.01,2,34.75,2,0.00,2,2.40,2,2310.5,2,2406.2,2,7.6065,2,-999,9,-999,9
49UF20140512,KS14-04,4169,1,1,21960,2,20140517,2330,35.035,165.0112,5912,6024.0,5898,1.5650,34.6963,2,34.6966,2,173.23,2,135.45,2,34.54,2,0.00,2,2.39,2,2307.1,2,2405.8,2,7.6077,2,-999,9,-999,9
49UF20140512,KS14-04,4172,1,-999,0,2,20140518,2138,37.9895,165.013,5432,0.0,0,13.3119,34.2972,2,-999.,9,268.50,2,9.84,2,4.54,2,0.12,2,0.36,2,-999.,9,-999.,9,-999.,9,-999,9,-999,9
49UF20140512,KS14-04,4172,1,36,21995,2,20140518,2151,37.9895,165.013,5432,10.9,11,13.2847,34.3085,2,-999.,9,268.81,2,9.88,2,4.56,2,0.12,2,0.38,2,-999.,9,-999.,9,-999.,9,-999,9,-999,9
49UF20140512,KS14-04,4172,1,35,22087,2,20140518,2150,37.9895,165.013,5432,25.2,25,13.2045,34.3260,2,-999.,9,268.89,2,9.90,2,4.73,2,0.13,2,0.38,2,-999.,9,-999.,9,-999.,9,-999,9,-999,9
49UF20140512,KS14-04,4172,1,34,22666,2,20140518,2146,37.9895,165.013,5432,50.1,50,12.2429,34.3446,2,-999.,9,263.03,2,11.21,2,6.99,2,0.31,2,0.53,2,-999.,9,-999.,9,-999.,9,-999,9,-999,9
49UF20140512,KS14-04,4172,1,30,21989,2,20140518,2145,37.9895,165.013,5432,75.4,75,11.9250,34.3162,2,-999.,9,263.82,2,12.32,2,7.46,2,0.21,2,0.57,2,-999.,9,-999.,9,-999.,9,-999,9,-999,9
49UF20140512,KS14-04,4172,1,29,21988,2,20140518,2144,37.9895,165.013,5432,101.3,101,11.7839,34.2999,2,-999.,9,263.49,2,12.80,2,7.77,2,0.22,2,0.60,2,-999.,9,-999.,9,-999.,9,-999,9,-999,9
49UF20140512,KS14-04,4172,1,28,21987,2,20140518,2143,37.9895,165.013,5432,126.7,126,11.5277,34.2719,2,-999.,9,265.00,2,13.78,2,8.31,2,0.22,2,0.64,2,-999.,9,-999.,9,-999.,9,-999,9,-999,9
49UF20140512,KS14-04,4172,1,27,21986,2,20140518,2142,37.9895,165.013,5432,151.0,150,11.3559,34.2900,2,-999.,9,250.60,2,13.37,2,9.70,2,0.03,2,0.70,2,-999.,9,-999.,9,-999.,9,-999,9,-999,9
49UF20140512,KS14-04,4172,1,26,21985,2,20140518,2140,37.9895,165.013,5432,203.2,202,10.7271,34.2342,2,-999.,9,246.27,2,16.14,2,11.24,2,0.02,2,0.81,2,-999.,9,-999.,9,-999.,9,-999,9,-999,9
49UF20140512,KS14-04,4172,1,25,21984,2,20140518,2139,37.9895,165.013,5432,251.9,250,10.0411,34.1662,2,-999.,9,247.05,6,18.29,6,12.40,6,0.01,6,0.90,6,-999.,9,-999.,9,-999.,9,-999,9,-999,9
49UF20140512,KS14-04,4172,1,21,21980,2,20140518,2137,37.9895,165.013,5432,301.9,299,8.8192,34.0428,2,-999.,9,225.40,2,25.81,2,16.49,2,0.01,2,1.20,2,-999.,9,-999.,9,-999.,9,-999,9,-999,9
49UF20140512,KS14-04,4172,1,20,21979,2,20140518,2135,37.9895,165.013,5432,404.4,401,6.6998,33.9174,2,-999.,9,202.84,2,40.45,2,22.61,2,0.00,2,1.66,2,-999.,9,-999.,9,-999.,9,-999,9,-999,9
49UF20140512,KS14-04,4172,1,19,21978,2,20140518,2135,37.9895,165.013,5432,404.4,401,6.6998,33.9174,2,-999.,9,202.46,2,40.46,2,22.72,2,0.00,2,1.67,2,-999.,9,-999.,9,-999.,9,-999,9,-999,9
49UF20140512,KS14-04,4172,1,18,21977,2,20140518,2132,37.9895,165.013,5432,503.8,499,5.0685,33.9453,2,-999.,9,130.92,2,69.17,2,32.38,2,0.00,2,2.35,2,-999.,9,-999.,9,-999.,9,-999,9,-999,9
49UF20140512,KS14-04,4172,1,17,23679,2,20140518,2130,37.9895,165.013,5432,605.5,600,4.5410,34.0620,2,-999.,9,87.00,2,88.69,2,37.13,2,0.00,2,2.68,2,-999.,9,-999.,9,-999.,9,-999,9,-999,9
49UF20140512,KS14-04,4172,1,16,21975,2,20140518,2127,37.9895,165.013,5432,706.2,700,4.2441,34.1364,2,-999.,9,65.63,2,100.74,2,39.31,2,0.00,2,2.82,2,-999.,9,-999.,9,-999.,9,-999,9,-999,9
49UF20140512,KS14-04,4172,1,13,21972,2,20140518,2125,37.9895,165.013,5432,808.3,801,3.9266,34.2304,2,-999.,9,51.51,2,112.62,2,40.68,2,0.00,2,2.92,2,-999.,9,-999.,9,-999.,9,-999,9,-999,9
49UF20140512,KS14-04,4172,1,12,21994,3,20140518,2122,37.9895,165.013,5432,908.3,900,3.5571,34.2816,2,-999.,9,40.62,2,123.35,2,41.89,2,0.00,2,2.99,2,-999.,9,-999.,9,-999.,9,-999,9,-999,9
49UF20140512,KS14-04,4172,1,10,21969,3,20140518,2120,37.9895,165.013,5432,1009.7,1000,3.2860,34.3280,2,-999.,9,37.19,2,131.56,2,42.40,2,0.00,2,3.03,2,-999.,9,-999.,9,-999.,9,-999,9,-999,9
49UF20140512,KS14-04,4172,1,9,21968,2,20140518,2115,37.9895,165.013,5432,1212.8,1200,2.8439,34.4179,2,-999.,9,34.69,2,145.21,2,42.95,2,0.00,2,3.07,2,-999.,9,-999.,9,-999.,9,-999,9,-999,9
49UF20140512,KS14-04,4172,1,8,21982,2,20140518,2111,37.9895,165.013,5432,1415.1,1400,2.4989,34.4752,2,-999.,9,36.86,2,155.42,2,43.18,2,0.00,2,3.07,2,-999.,9,-999.,9,-999.,9,-999,9,-999,9
49UF20140512,KS14-04,4172,1,7,21966,2,20140518,2106,37.9895,165.013,5432,1619.0,1601,2.2795,34.5201,2,-999.,9,46.72,6,160.56,6,42.73,6,0.00,6,3.02,6,-999.,9,-999.,9,-999.,9,-999,9,-999,9
49UF20140512,KS14-04,4172,1,3,22079,2,20140518,2102,37.9895,165.013,5432,1822.9,1801,2.1149,34.5558,2,-999.,9,56.00,2,-999.00,5,-999.00,5,-999.00,5,-999.000,5,-999.,9,-999.,9,-999.,9,-999,9,-999,9
49UF20140512,KS14-04,4172,1,2,21961,2,20140518,2057,37.9895,165.013,5432,2026.7,2002,1.9733,34.5846,2,-999.,9,68.18,2,-999.00,5,-999.00,5,-999.00,5,-999.000,5,-999.,9,-999.,9,-999.,9,-999,9,-999,9
49UF20140512,KS14-04,4172,1,1,21960,2,20140518,2057,37.9895,165.013,5432,2026.7,2002,1.9733,34.5846,2,-999.,9,68.41,2,-999.00,5,-999.00,5,-999.00,5,-999.000,5,-999.,9,-999.,9,-999.,9,-999,9,-999,9
49UF20140512,KS14-04,4174,1,-999,0,2,20140519,1252,40.0167,165.0088,5490,0.0,0,13.7993,34.3940,2,34.3964,2,262.40,2,9.12,2,5.29,2,0.10,2,0.40,2,2041.7,2,2273.8,2,7.9301,2,-999,9,-999,9
49UF20140512,KS14-04,4174,1,36,21995,3,20140519,1315,40.0167,165.0088,5490,9.4,9,13.7539,34.3852,2,34.3947,4,260.13,2,9.14,2,5.24,2,0.10,2,0.40,2,2043.2,2,2271.8,2,7.9321,2,-999,9,-999,9
49UF20140512,KS14-04,4174,1,35,22087,2,20140519,1313,40.0167,165.0088,5490,24.8,25,13.3765,34.3856,2,-999.0000,9,264.58,2,9.12,2,5.28,2,0.11,2,0.40,2,2040.6,2,2272.0,2,7.9186,2,-999,9,-999,9
49UF20140512,KS14-04,4174,1,34,22666,2,20140519,1309,40.0167,165.0088,5490,50.3,50,11.4074,34.2305,2,-999.0000,9,267.78,2,12.61,2,7.65,2,0.21,2,0.60,2,2060.5,2,2268.3,2,7.8889,2,-999,9,-999,9
49UF20140512,KS14-04,4174,1,33,21992,2,20140519,1308,40.0167,165.0088,5490,75.0,74,10.4123,34.1548,2,-999.0000,9,269.51,2,15.56,2,9.87,2,0.36,2,0.77,2,2084.0,2,2267.3,2,7.8509,2,-999,9,-999,9
49UF20140512,KS14-04,4174,1,32,21991,3,20140519,1307,40.0167,165.0088,5490,99.3,99,10.3853,34.1922,2,34.1892,2,251.21,2,17.02,2,11.65,2,0.07,2,0.86,2,2088.5,2,2269.9,2,7.8341,2,-999,9,-999,9
49UF20140512,KS14-04,4174,1,31,21990,2,20140519,1306,40.0167,165.0088,5490,123.3,122,10.1047,34.1866,2,-999.0000,9,217.76,6,21.60,6,15.20,6,0.01,6,1.09,6,2117.4,2,2271.4,2,7.7783,2,-999,9,-999,9
49UF20140512,KS14-04,4174,1,30,21989,2,20140519,1304,40.0167,165.0088,5490,151.3,150,9.2771,34.0983,2,-999.0000,9,213.82,2,25.42,2,16.79,2,0.01,2,1.21,2,2125.1,2,2270.1,2,7.7543,2,-999,9,-999,9
49UF20140512,KS14-04,4174,1,29,21988,2,20140519,1303,40.0167,165.0088,5490,200.2,199,8.2688,34.0322,2,34.0314,2,204.12,2,31.70,2,19.46,2,0.00,2,1.42,2,2145.2,2,2270.8,2,7.7015,2,-999,9,-999,9
49UF20140512,KS14-04,4174,1,28,21987,2,20140519,1301,40.0167,165.0088,5490,251.3,249,6.8914,33.9299,2,-999.0000,9,204.55,2,38.56,2,22.26,2,0.01,2,1.63,2,2163.5,2,2271.3,2,7.6576,2,-999,9,-999,9
49UF20140512,KS14-04,4174,1,27,21986,2,20140519,1259,40.0167,165.0088,5490,302.5,300,6.1032,33.9363,2,-999.0000,9,169.24,2,51.67,2,26.87,2,0.00,2,1.97,2,2199.0,2,2282.1,2,7.5837,2,-999,9,-999,9
49UF20140512,KS14-04,4174,1,26,21985,2,20140519,1257,40.0167,165.0088,5490,402.9,399,4.9665,33.9543,2,33.9561,2,123.83,4,71.40,2,33.03,2,0.00,2,2.41,2,2250.0,2,2295.2,2,7.4748,2,-999,9,-999,9
49UF20140512,KS14-04,4174,1,25,21984,2,20140519,1254,40.0167,165.0088,5490,505.3,501,4.6261,34.0666,2,-999.0000,9,87.44,2,87.12,2,36.64,2,0.00,2,2.65,2,2285.1,2,2313.2,2,7.4221,2,-999,9,-999,9
49UF20140512,KS14-04,4174,1,24,21983,2,20140519,1251,40.0167,165.0088,5490,605.4,600,4.3173,34.1698,2,34.1705,2,63.65,2,100.87,2,38.69,2,0.00,2,2.81,2,2311.8,2,2330.3,2,7.3879,2,-999,9,-999,9
49UF20140512,KS14-04,4174,1,23,22095,2,20140519,1249,40.0167,165.0088,5490,705.4,699,3.9462,34.2366,2,-999.0000,9,50.32,2,112.09,2,40.51,2,0.00,2,2.91,2,2333.5,2,2343.4,2,7.3704,2,-999,9,-999,9
49UF20140512,KS14-04,4174,1,22,22665,2,20140519,1246,40.0167,165.0088,5490,807.5,800,3.5351,34.2953,2,34.2951,6,38.97,6,123.77,6,41.75,6,0.00,6,3.00,6,2350.5,2,2357.7,2,7.3522,2,-999,9,-999,9
49UF20140512,KS14-04,4174,1,21,21980,2,20140519,1244,40.0167,165.0088,5490,907.3,898,3.3378,34.3316,2,-999.0000,9,35.73,2,130.06,2,42.14,2,0.00,2,3.03,2,2360.4,6,2364.4,6,7.3557,2,-999,9,-999,9
49UF20140512,KS14-04,4174,1,20,21979,2,20140519,1241,40.0167,165.0088,5490,1008.3,998,3.1130,34.3679,2,34.3682,2,32.92,2,136.89,2,42.73,2,0.00,2,3.06,2,2367.7,2,2371.9,2,7.3467,6,-999,9,-999,9
49UF20140512,KS14-04,4174,1,19,21978,2,20140519,1236,40.0167,165.0088,5490,1212.1,1199,2.7199,34.4336,2,34.4341,2,35.45,2,148.42,2,42.89,2,0.00,2,3.07,2,2376.1,2,2386.1,2,7.3531,2,-999,9,-999,9
49UF20140512,KS14-04,4174,1,18,21977,2,20140519,1232,40.0167,165.0088,5490,1414.5,1399,2.4147,34.4912,2,34.4913,2,38.80,2,157.85,2,42.84,2,0.00,2,3.06,2,2392.9,3,2397.4,2,7.3656,2,-999,9,-999,9
49UF20140512,KS14-04,4174,1,17,23679,2,20140519,1227,40.0167,165.0088,5490,1619.8,1601,2.2243,34.5296,2,34.5296,2,46.86,2,162.29,2,42.55,2,0.00,2,3.02,2,2385.9,2,2404.4,2,7.3859,2,-999,9,-999,9
49UF20140512,KS14-04,4174,1,16,21975,2,20140519,1222,40.0167,165.0088,5490,1821.6,1800,2.0585,34.5640,2,34.5639,6,58.16,2,165.19,2,41.90,2,0.00,2,2.97,2,2382.7,2,2408.5,2,7.4062,2,-999,9,-999,9
49UF20140512,KS14-04,4174,1,15,21974,2,20140519,1218,40.0167,165.0088,5490,2024.7,2000,1.9270,34.5904,2,34.5905,2,69.76,2,166.48,2,41.16,2,0.00,2,2.91,2,2378.1,6,2412.6,6,7.4329,2,-999,9,-999,9
49UF20140512,KS14-04,4174,1,14,21973,2,20140519,1212,40.0167,165.0088,5490,2280.2,2250,1.7674,34.6206,2,-999.0000,9,88.06,2,165.74,2,40.09,2,0.00,2,2.83,2,2374.9,2,2416.5,2,7.4676,6,-999,9,-999,9
49UF20140512,KS14-04,4174,1,13,21972,2,20140519,1207,40.0167,165.0088,5490,2532.2,2498,1.6650,34.6393,2,34.6398,6,103.29,6,163.65,6,39.10,6,0.00,6,2.76,6,2359.9,2,2417.0,2,7.4927,2,-999,9,-999,9
49UF20140512,KS14-04,4174,1,12,21994,2,20140519,1201,40.0167,165.0088,5490,2788.6,2749,1.5912,34.6527,2,-999.0000,9,115.87,2,160.84,2,38.29,2,0.00,2,2.69,2,2351.6,2,2417.5,2,7.5188,2,-999,9,-999,9
49UF20140512,KS14-04,4174,1,11,21970,2,20140519,1156,40.0167,165.0088,5490,3043.9,2999,1.5413,34.6621,2,34.6667,4,125.25,2,158.44,2,37.68,2,0.00,2,2.64,2,2344.6,2,2419.5,2,7.5332,2,-999,9,-999,9
49UF20140512,KS14-04,4174,1,10,21969,2,20140519,1151,40.0167,165.0088,5490,3299.1,3248,1.5019,34.6699,2,-999.0000,9,134.15,2,156.68,2,37.18,2,0.00,2,2.60,2,2337.8,2,2416.4,2,7.5442,2,-999,9,-999,9
49UF20140512,KS14-04,4174,1,9,21968,2,20140519,1145,40.0167,165.0088,5490,3557.1,3500,1.4790,34.6755,2,34.6748,2,140.81,2,154.70,2,36.52,2,0.00,2,2.57,2,2336.2,2,2417.2,2,7.5596,2,-999,9,-999,9
49UF20140512,KS14-04,4174,1,8,21982,2,20140519,1140,40.0167,165.0088,5490,3810.2,3747,1.4689,34.6794,2,-999.0000,9,145.74,2,153.10,2,36.28,2,0.00,2,2.54,2,2332.6,2,2418.0,2,7.5732,2,-999,9,-999,9
49UF20140512,KS14-04,4174,1,7,21966,2,20140519,1135,40.0167,165.0088,5490,4068.9,3999,1.4684,34.6826,2,34.6814,2,148.42,2,152.59,2,35.99,2,0.00,2,2.52,2,2330.4,2,2415.7,2,7.5760,2,-999,9,-999,9
49UF20140512,KS14-04,4174,1,6,21965,2,20140519,1129,40.0167,165.0088,5490,4326.8,4250,1.4719,34.6852,2,34.6846,2,152.80,2,151.67,2,35.93,2,0.00,2,2.50,2,2326.4,2,2416.5,2,7.5840,2,-999,9,-999,9
49UF20140512,KS14-04,4174,1,5,22085,3,20140519,1129,40.0167,165.0088,5490,4326.8,4250,1.4719,34.6852,2,34.6837,2,152.12,2,151.90,2,35.95,2,0.00,2,2.50,2,2327.2,2,2416.4,2,7.5824,2,-999,9,-999,9
49UF20140512,KS14-04,4174,1,4,21963,2,20140519,1124,40.0167,165.0088,5490,4582.3,4499,1.4861,34.6870,2,34.6862,6,154.75,6,151.37,6,35.78,6,0.00,6,2.49,6,2325.6,2,2417.7,2,7.5848,2,-999,9,-999,9
49UF20140512,KS14-04,4174,1,3,22079,2,20140519,1118,40.0167,165.0088,5490,4838.8,4748,1.5046,34.6883,2,-999.0000,9,155.91,2,151.46,2,35.53,2,0.00,2,2.48,2,2324.1,6,2416.3,6,7.5864,2,-999,9,-999,9
49UF20140512,KS14-04,4174,1,2,21961,2,20140519,1113,40.0167,165.0088,5490,5097.8,4999,1.5301,34.6891,2,34.6886,2,157.08,2,151.88,2,35.46,2,0.00,2,2.47,2,2324.1,2,2419.0,2,7.5855,2,-999,9,-999,9
49UF20140512,KS14-04,4174,1,1,21960,2,20140519,1103,40.0167,165.0088,5490,5584.4,5470,1.5895,34.6897,2,34.6886,2,157.48,2,152.81,2,35.52,2,0.00,2,2.48,2,2329.8,3,2417.3,2,7.5940,2,-999,9,-999,9