BOTTLE,20171117JMAGEMD
EXPOCODE,SECT_ID,STNNBR,CASTNO,SAMPNO,BTLNBR,BTLNBR_FLAG_W,DATE,TIME,LATITUDE,LONGITUDE,DEPTH,CTDPRS,CTDDEP,CTDTMP,CTDSAL,CTDSAL_FLAG_W,SALNTY,SALNTY_FLAG_W,OXYGEN,OXYGEN_FLAG_W,SILCAT,SILCAT_FLAG_W,NO2+NO3,NO2+NO3_FLAG_W,NITRIT,NITRIT_FLAG_W,PHSPHT,PHSPHT_FLAG_W,TCARBN,TCARBN_FLAG_W,ALKALI,ALKALI_FLAG_W,PH_TOT,PH_TOT_FLAG_W,CFC-11,CFC-11_FLAG_W,CFC-12,CFC-12_FLAG_W
,,,,,,,UTC,UTC,,,METER,DBAR,METERS,ITS-90,PSS-78,,PSS-78,,UMOL/KG,,UMOL/KG,,UMOL/KG,,UMOL/KG,,UMOL/KG,,UMOL/KG,,UMOL/KG,,@25DEG-C,,PMOL/KG,,PMOL/KG,
49UF20140512,KS14-04,4167,1,-999,0,2,20140515,2058,40.0253,159.6832,5485,0.0,0,8.4762,33.6741,2,33.6734,2,299.41,2,22.42,2,11.67,2,0.18,2,1.04,2,2083.1,2,2259.7,2,7.8212,2,-999,9,-999,9
49UF20140512,KS14-04,4167,1,36,21995,2,20140515,2120,40.0253,159.6832,5485,10.3,10,8.3884,33.6655,2,33.6658,2,301.58,2,22.62,2,11.69,2,0.18,2,1.04,2,2084.6,2,2255.6,2,7.8240,2,-999,9,-999,9
49UF20140512,KS14-04,4167,1,35,22087,2,20140515,2118,40.0253,159.6832,5485,25.0,25,7.8702,33.6110,2,-999.0000,9,305.35,2,23.99,2,12.38,2,0.19,2,1.10,2,2086.7,2,2255.1,2,7.8107,2,-999,9,-999,9
49UF20140512,KS14-04,4167,1,34,22666,2,20140515,2117,40.0253,159.6832,5485,50.3,50,6.1008,33.6096,2,-999.0000,9,304.80,2,26.48,2,15.15,2,0.27,2,1.26,2,2108.2,2,2255.9,2,7.7706,2,-999,9,-999,9
49UF20140512,KS14-04,4167,1,33,21992,2,20140515,2115,40.0253,159.6832,5485,75.4,75,6.1856,33.6479,2,-999.0000,9,299.71,2,26.36,2,15.45,2,0.28,2,1.25,2,2109.0,2,2256.1,2,7.7612,2,-999,9,-999,9
49UF20140512,KS14-04,4167,1,32,21991,2,20140515,2111,40.0253,159.6832,5485,101.0,100,6.2516,33.6793,2,33.6785,2,294.87,2,26.94,2,15.94,2,0.25,2,1.26,2,2117.7,2,2257.1,2,7.7549,2,-999,9,-999,9
49UF20140512,KS14-04,4167,1,31,21990,2,20140515,2110,40.0253,159.6832,5485,125.8,125,6.3533,33.7222,2,-999.0000,9,286.89,2,27.67,2,16.56,2,0.13,2,1.27,2,2115.5,2,2257.4,2,7.7522,2,-999,9,-999,9
49UF20140512,KS14-04,4167,1,30,21989,2,20140515,2109,40.0253,159.6832,5485,151.0,150,6.1798,33.7163,2,-999.0000,9,283.29,6,28.90,6,17.05,6,0.09,6,1.31,6,2118.9,2,2258.4,2,7.7368,2,-999,9,-999,9
49UF20140512,KS14-04,4167,1,29,21988,2,20140515,2108,40.0253,159.6832,5485,200.7,199,6.0416,33.7287,2,33.7297,6,269.97,2,32.05,2,18.48,2,0.04,2,1.40,2,2131.6,2,2260.1,2,7.7189,2,-999,9,-999,9
49UF20140512,KS14-04,4167,1,28,21987,2,20140515,2105,40.0253,159.6832,5485,252.9,251,5.9648,33.8187,2,-999.0000,9,209.95,2,43.16,2,23.45,2,0.02,2,1.74,2,2171.6,2,2270.7,2,7.6344,2,-999,9,-999,9
49UF20140512,KS14-04,4167,1,27,21986,2,20140515,2104,40.0253,159.6832,5485,303.0,300,4.8834,33.7828,2,-999.0000,9,181.16,2,55.66,2,27.99,2,0.00,2,2.08,2,2206.0,2,2277.7,2,7.5534,2,-999,9,-999,9
49UF20140512,KS14-04,4167,1,26,21985,2,20140515,2101,40.0253,159.6832,5485,404.7,401,3.9001,33.8516,2,33.8513,2,118.34,2,79.77,2,35.65,2,0.00,2,2.60,2,2271.4,2,2293.8,2,7.4196,2,-999,9,-999,9
49UF20140512,KS14-04,4167,1,25,21984,2,20140515,2058,40.0253,159.6832,5485,506.4,502,3.8627,34.0074,2,-999.0000,9,74.17,2,96.67,2,39.19,2,0.00,2,2.83,2,2307.3,2,2313.2,2,7.3596,2,-999,9,-999,9
49UF20140512,KS14-04,4167,1,24,21983,2,20140515,2055,40.0253,159.6832,5485,607.6,602,3.9292,34.1323,2,34.1340,2,60.93,2,105.94,2,40.25,2,0.00,2,2.89,2,2321.8,2,2330.6,2,7.3574,2,-999,9,-999,9
49UF20140512,KS14-04,4167,1,23,22095,2,20140515,2053,40.0253,159.6832,5485,708.8,702,3.8046,34.2480,2,-999.0000,9,47.32,2,115.44,2,40.91,2,0.00,2,2.94,2,2337.8,2,2348.6,2,7.3654,2,-999,9,-999,9
49UF20140512,KS14-04,4167,1,22,22665,2,20140515,2050,40.0253,159.6832,5485,808.7,801,3.4806,34.2991,2,34.2977,2,41.79,2,125.36,2,41.71,2,0.00,2,2.99,2,2348.5,2,2357.7,2,7.3545,2,-999,9,-999,9
49UF20140512,KS14-04,4167,1,21,21980,2,20140515,2047,40.0253,159.6832,5485,910.3,901,3.2216,34.3459,2,-999.0000,9,40.82,4,133.03,2,42.13,2,0.00,2,3.03,2,2361.4,2,2366.4,2,7.3536,2,-999,9,-999,9
49UF20140512,KS14-04,4167,1,20,21979,2,20140515,2044,40.0253,159.6832,5485,1012.7,1002,2.9919,34.3775,2,34.3750,2,37.02,6,139.71,6,42.55,6,0.00,6,3.05,6,2368.3,2,2374.7,2,7.3490,2,-999,9,-999,9
49UF20140512,KS14-04,4167,1,19,21978,2,20140515,2040,40.0253,159.6832,5485,1213.1,1200,2.6031,34.4497,2,34.4486,2,37.78,2,151.66,2,42.84,2,0.00,2,3.06,2,2380.5,2,2388.7,2,7.3600,2,-999,9,-999,9
49UF20140512,KS14-04,4167,1,18,21977,2,20140515,2035,40.0253,159.6832,5485,1416.3,1401,2.4049,34.4926,2,34.4923,2,43.19,2,157.15,2,42.65,2,0.00,2,3.04,2,2383.1,2,2396.7,2,7.3766,2,-999,9,-999,9
49UF20140512,KS14-04,4167,1,17,23679,2,20140515,2030,40.0253,159.6832,5485,1618.1,1599,2.2196,34.5309,2,34.5318,2,50.32,2,161.33,2,42.32,2,0.00,2,3.01,2,2382.2,2,2402.9,2,7.3905,2,-999,9,-999,9
49UF20140512,KS14-04,4167,1,16,21975,2,20140515,2026,40.0253,159.6832,5485,1820.9,1799,2.0845,34.5622,2,34.5623,6,60.98,2,163.43,2,41.84,2,0.00,2,2.96,2,2378.3,2,2408.7,2,7.4103,2,-999,9,-999,9
49UF20140512,KS14-04,4167,1,15,21974,2,20140515,2021,40.0253,159.6832,5485,2027.4,2002,1.9513,34.5887,2,34.5883,2,72.39,4,164.70,2,41.14,2,0.00,2,2.91,2,2376.5,2,2412.0,2,7.4330,2,-999,9,-999,9
49UF20140512,KS14-04,4167,1,14,21973,3,20140515,2016,40.0253,159.6832,5485,2279.8,2250,1.8081,34.6162,2,34.6161,2,86.36,2,164.88,2,40.16,2,0.00,2,2.84,2,2366.6,2,2415.6,2,7.4649,2,-999,9,-999,9
49UF20140512,KS14-04,4167,1,13,21972,2,20140515,2010,40.0253,159.6832,5485,2533.4,2499,1.6893,34.6376,2,34.6372,2,102.71,2,163.07,2,39.25,2,0.00,2,2.76,2,2361.5,2,2417.5,2,7.4909,2,-999,9,-999,9
49UF20140512,KS14-04,4167,1,12,21994,3,20140515,2005,40.0253,159.6832,5485,2789.6,2750,1.6130,34.6512,2,34.6513,2,114.97,2,160.91,2,38.49,2,0.00,2,2.70,2,2353.5,2,2420.2,2,7.5176,2,-999,9,-999,9
49UF20140512,KS14-04,4167,1,11,21970,2,20140515,2000,40.0253,159.6832,5485,3043.6,2999,1.5498,34.6623,2,34.6622,6,126.02,6,157.80,6,37.75,6,0.00,6,2.64,6,2345.0,2,2418.5,2,7.5353,2,-999,9,-999,9
49UF20140512,KS14-04,4167,1,10,21969,2,20140515,1955,40.0253,159.6832,5485,3300.4,3250,1.5117,34.6699,2,34.6695,2,133.72,2,155.98,2,37.25,2,0.00,2,2.60,2,2339.9,2,2417.7,2,7.5489,2,-999,9,-999,9
49UF20140512,KS14-04,4167,1,9,21968,2,20140515,1949,40.0253,159.6832,5485,3556.7,3500,1.4891,34.6751,2,34.6754,2,139.64,4,154.34,2,36.83,2,0.00,2,2.57,2,2337.3,2,2415.8,2,7.5597,2,-999,9,-999,9
49UF20140512,KS14-04,4167,1,8,21982,2,20140515,1944,40.0253,159.6832,5485,3813.1,3750,1.4719,34.6799,2,34.6793,2,145.75,2,152.65,2,36.44,2,0.00,2,2.54,2,2330.3,2,2418.0,2,7.5726,2,-999,9,-999,9
49UF20140512,KS14-04,4167,1,7,21966,2,20140515,1938,40.0253,159.6832,5485,4070.5,4001,1.4675,34.6832,2,34.6832,2,150.11,2,151.53,2,36.20,2,0.00,2,2.51,2,2333.7,3,2417.3,2,7.5809,2,-999,9,-999,9
49UF20140512,KS14-04,4167,1,6,21965,2,20140515,1933,40.0253,159.6832,5485,4327.3,4251,1.4704,34.6860,2,34.6869,2,153.67,2,150.37,2,35.98,2,0.00,2,2.50,2,2328.7,2,2419.4,2,7.5856,2,-999,9,-999,9
49UF20140512,KS14-04,4167,1,5,22085,3,20140515,1927,40.0253,159.6832,5485,4584.7,4501,1.4812,34.6879,2,34.6926,4,-999.00,5,149.68,2,35.84,2,0.00,2,2.49,2,2326.7,2,2416.8,2,7.5861,2,-999,9,-999,9
49UF20140512,KS14-04,4167,1,4,21963,2,20140515,1921,40.0253,159.6832,5485,4841.2,4750,1.5011,34.6892,2,34.6888,2,157.55,2,150.07,2,35.68,2,0.00,2,2.48,2,2325.0,2,2415.5,2,7.5893,2,-999,9,-999,9
49UF20140512,KS14-04,4167,1,3,22079,2,20140515,1916,40.0253,159.6832,5485,5098.8,5000,1.5241,34.6901,2,34.6888,2,158.40,2,150.26,2,35.58,2,0.00,2,2.47,2,2324.8,2,2417.8,2,7.5945,2,-999,9,-999,9
49UF20140512,KS14-04,4167,1,2,21961,2,20140515,1910,40.0253,159.6832,5485,5355.9,5249,1.5496,34.6909,2,34.6906,2,159.84,6,149.48,6,35.50,6,0.00,6,2.46,6,2323.3,2,2415.5,2,7.5958,2,-999,9,-999,9
49UF20140512,KS14-04,4167,1,1,21960,2,20140515,1905,40.0253,159.6832,5485,5598.0,5484,1.5782,34.6914,2,34.6914,6,161.30,2,149.86,2,35.48,2,0.00,2,2.45,2,2323.3,2,2417.1,2,7.5974,2,-999,9,-999,9
49UF20140512,KS14-04,4168,1,-999,0,2,20140517,0500,38.011,167.399,5070,0.0,0,14.1957,34.4748,2,34.4604,2,262.54,2,8.17,2,5.10,2,0.13,2,0.39,2,2045.9,2,2275.0,2,7.9413,2,-999,9,-999,9
49UF20140512,KS14-04,4168,1,36,21995,3,20140517,0512,38.011,167.399,5070,10.1,10,14.1408,34.4704,2,34.4676,2,258.44,2,7.80,2,5.02,2,0.14,2,0.38,2,2047.4,2,2275.3,2,7.9413,2,-999,9,-999,9
49UF20140512,KS14-04,4168,1,35,22087,2,20140517,0511,38.011,167.399,5070,24.6,24,13.8181,34.4567,2,-999.0000,9,262.87,2,8.39,2,5.04,2,0.14,2,0.38,2,2047.2,2,2273.6,2,7.9419,2,-999,9,-999,9
49UF20140512,KS14-04,4168,1,34,22666,2,20140517,0451,38.011,167.399,5070,50.8,50,13.4504,34.4208,2,-999.0000,9,268.30,2,9.16,2,5.01,2,0.16,2,0.39,2,2047.6,2,2275.5,2,7.9395,2,-999,9,-999,9
49UF20140512,KS14-04,4168,1,33,21992,2,20140517,0450,38.011,167.399,5070,75.4,75,12.9787,34.4152,2,-999.0000,9,264.01,2,9.47,2,5.57,2,0.21,2,0.43,2,2050.7,2,2273.0,2,7.9270,2,-999,9,-999,9
49UF20140512,KS14-04,4168,1,32,21991,2,20140517,0449,38.011,167.399,5070,101.0,100,12.6191,34.3997,2,-999.0000,9,259.44,6,10.07,6,6.43,6,0.30,6,0.49,6,2057.8,2,2272.4,2,7.9072,2,-999,9,-999,9
49UF20140512,KS14-04,4168,1,31,21990,2,20140517,0448,38.011,167.399,5070,126.6,126,12.4087,34.3828,2,34.3814,2,254.58,2,10.78,2,7.42,2,0.32,2,0.55,2,2063.1,2,2271.3,2,7.8963,2,-999,9,-999,9
49UF20140512,KS14-04,4168,1,30,21989,2,20140517,0447,38.011,167.399,5070,151.5,150,11.9211,34.3510,2,-999.0000,9,260.52,2,11.01,2,7.60,2,0.52,2,0.57,2,2063.2,2,2268.9,2,7.8869,2,-999,9,-999,9
49UF20140512,KS14-04,4168,1,29,21988,2,20140517,0446,38.011,167.399,5070,201.5,200,11.5156,34.3268,2,-999.0000,9,259.84,2,11.42,2,8.18,2,0.04,2,0.60,2,2072.9,2,2267.6,2,7.8801,2,-999,9,-999,9
49UF20140512,KS14-04,4168,1,28,21987,2,20140517,0444,38.011,167.399,5070,252.5,250,11.2654,34.3137,2,34.3151,2,260.93,2,11.64,2,8.57,2,0.01,2,0.63,2,2073.0,2,2267.0,2,7.8747,2,-999,9,-999,9
49UF20140512,KS14-04,4168,1,27,21986,2,20140517,0443,38.011,167.399,5070,302.8,300,11.1250,34.2972,2,-999.0000,9,259.48,2,12.27,2,9.04,2,0.01,2,0.67,2,2073.1,2,2268.6,2,7.8651,2,-999,9,-999,9
49UF20140512,KS14-04,4168,1,26,21985,2,20140517,0440,38.011,167.399,5070,402.4,399,8.8131,34.0425,2,34.0446,6,221.27,2,26.31,2,17.05,2,0.01,2,1.24,2,2127.1,2,2271.9,2,7.7461,2,-999,9,-999,9
49UF20140512,KS14-04,4168,1,25,21984,2,20140517,0438,38.011,167.399,5070,503.6,499,6.3209,33.9079,2,-999.0000,9,192.61,2,45.16,2,24.62,2,0.00,2,1.80,2,2182.4,2,2275.6,2,7.6233,2,-999,9,-999,9
49UF20140512,KS14-04,4168,1,24,21983,2,20140517,0435,38.011,167.399,5070,604.6,599,5.2920,33.9649,2,-999.0000,9,127.83,2,68.24,2,32.22,2,0.00,2,2.34,2,2244.7,2,2293.7,2,7.4944,2,-999,9,-999,9
49UF20140512,KS14-04,4168,1,23,22095,2,20140517,0433,38.011,167.399,5070,706.6,700,4.6902,34.0672,2,34.0710,2,85.62,6,87.51,6,36.89,6,0.00,6,2.67,6,2288.2,2,2313.4,2,7.4214,2,-999,9,-999,9
49UF20140512,KS14-04,4168,1,22,22665,2,20140517,0430,38.011,167.399,5070,806.8,799,4.1479,34.1710,2,-999.0000,9,59.48,2,104.61,2,39.72,2,0.00,2,2.86,2,2319.0,2,2332.4,2,7.3771,2,-999,9,-999,9
49UF20140512,KS14-04,4168,1,21,21980,2,20140517,0428,38.011,167.399,5070,908.5,900,3.7061,34.2604,2,34.2604,2,44.36,2,118.91,2,41.42,2,0.00,2,2.97,2,2343.3,2,2348.0,2,7.3609,2,-999,9,-999,9
49UF20140512,KS14-04,4168,1,20,21979,2,20140517,0425,38.011,167.399,5070,1010.3,1000,3.4316,34.3130,2,34.3125,2,38.87,2,127.64,2,41.90,2,0.00,2,3.02,2,2353.5,2,2361.1,2,7.3537,2,-999,9,-999,9
49UF20140512,KS14-04,4168,1,19,21978,2,20140517,0421,38.011,167.399,5070,1213.5,1201,2.9618,34.3978,2,34.3958,2,32.95,2,142.20,2,43.09,2,0.00,2,3.08,2,2377.0,2,2378.0,2,7.3501,2,-999,9,-999,9
49UF20140512,KS14-04,4168,1,18,21977,2,20140517,0416,38.011,167.399,5070,1416.1,1401,2.6406,34.4580,2,34.4576,2,34.20,2,151.59,2,43.27,2,0.00,2,3.08,2,2383.7,2,2390.2,2,7.3590,2,-999,9,-999,9
49UF20140512,KS14-04,4168,1,17,23679,2,20140517,0411,38.011,167.399,5070,1618.9,1601,2.3834,34.5054,2,34.5044,2,40.70,2,159.06,2,43.05,2,0.00,2,3.06,2,2384.9,2,2396.7,2,7.3702,2,-999,9,-999,9
49UF20140512,KS14-04,4168,1,16,21975,2,20140517,0407,38.011,167.399,5070,1821.9,1800,2.1468,34.5490,2,34.5494,2,53.50,2,163.78,2,42.38,2,0.00,2,3.00,2,2383.6,2,2407.3,2,7.3954,2,-999,9,-999,9
49UF20140512,KS14-04,4168,1,15,21974,2,20140517,0402,38.011,167.399,5070,2025.2,2000,1.9995,34.5793,2,34.5783,6,63.94,2,165.92,2,41.68,2,0.00,2,2.95,2,2382.2,2,2410.7,2,7.4197,2,-999,9,-999,9
49UF20140512,KS14-04,4168,1,14,21973,2,20140517,0356,38.011,167.399,5070,2279.8,2250,1.8302,34.6104,2,34.6107,2,81.10,6,166.33,6,40.63,6,0.00,6,2.87,6,2374.9,2,2413.5,2,7.4537,2,-999,9,-999,9
49UF20140512,KS14-04,4168,1,13,21972,2,20140517,0350,38.011,167.399,5070,2535.0,2501,1.6972,34.6343,2,34.6340,2,98.79,2,164.55,2,39.53,2,0.00,2,2.78,2,2364.7,2,2416.3,2,7.4893,2,-999,9,-999,9
49UF20140512,KS14-04,4168,1,12,21994,2,20140517,0345,38.011,167.399,5070,2789.7,2751,1.6133,34.6502,2,34.6499,2,113.14,2,161.21,2,38.62,2,0.00,2,2.71,2,2358.0,2,2417.3,2,7.5164,2,-999,9,-999,9
49UF20140512,KS14-04,4168,1,11,21970,3,20140517,0340,38.011,167.399,5070,3043.8,2999,1.5447,34.6621,2,34.6627,2,124.96,2,158.66,2,37.80,2,0.00,2,2.65,2,2347.4,2,2416.5,2,7.5369,2,-999,9,-999,9
49UF20140512,KS14-04,4168,1,10,21969,2,20140517,0334,38.011,167.399,5070,3300.6,3250,1.5007,34.6704,2,34.6700,2,134.34,2,156.34,2,37.26,2,0.00,2,2.60,2,2346.7,3,2420.2,2,7.5543,2,-999,9,-999,9
49UF20140512,KS14-04,4168,1,9,21968,2,20140517,0329,38.011,167.399,5070,3557.5,3501,1.4745,34.6761,2,34.6761,6,141.41,2,154.17,2,36.76,2,0.00,2,2.57,2,2336.1,6,2417.5,6,7.5682,2,-999,9,-999,9
49UF20140512,KS14-04,4168,1,8,21982,2,20140517,0323,38.011,167.399,5070,3813.3,3751,1.4585,34.6809,2,34.6830,2,147.18,2,152.95,2,36.38,2,0.00,2,2.54,2,2332.8,2,2419.4,2,7.5752,6,-999,9,-999,9
49UF20140512,KS14-04,4168,1,7,21966,2,20140517,0318,38.011,167.399,5070,4070.3,4001,1.4555,34.6842,2,34.6842,2,150.99,2,152.26,2,36.13,2,0.00,2,2.52,2,2330.4,6,2416.5,6,7.5819,2,-999,9,-999,9
49UF20140512,KS14-04,4168,1,6,21965,2,20140517,0313,38.011,167.399,5070,4326.7,4251,1.4614,34.6866,2,34.6878,2,154.13,2,151.49,2,35.92,2,0.00,2,2.50,2,2328.9,2,2417.1,2,7.5876,6,-999,9,-999,9
49UF20140512,KS14-04,4168,1,5,22085,2,20140517,0307,38.011,167.399,5070,4584.0,4501,1.4779,34.6881,2,34.6892,2,155.80,2,151.43,2,35.83,2,0.00,2,2.49,2,2325.2,2,2416.6,2,7.5899,2,-999,9,-999,9
49UF20140512,KS14-04,4168,1,4,21963,2,20140517,0307,38.011,167.399,5070,4584.0,4501,1.4779,34.6881,2,34.6891,2,156.00,2,151.50,2,35.78,2,0.00,2,2.49,2,2332.7,3,2416.3,2,7.5913,2,-999,9,-999,9
49UF20140512,KS14-04,4168,1,3,22079,2,20140517,0302,38.011,167.399,5070,4841.2,4751,1.5005,34.6891,2,34.6896,2,156.23,2,151.98,2,35.79,2,0.00,2,2.49,2,2325.5,6,2417.0,6,7.5920,2,-999,9,-999,9
49UF20140512,KS14-04,4168,1,2,21961,2,20140517,0257,38.011,167.399,5070,5098.8,5001,1.5262,34.6896,2,34.6896,2,157.72,2,151.04,2,35.68,2,0.00,2,2.48,2,2325.3,2,2418.7,2,7.5907,2,-999,9,-999,9
49UF20140512,KS14-04,4168,1,1,21960,3,20140517,0254,38.011,167.399,5070,5172.0,5072,1.5332,34.6898,2,34.6905,6,158.10,6,150.55,6,35.68,6,0.00,6,2.48,6,2326.8,2,2417.2,2,7.5885,2,-999,9,-999,9