BOTTLE,20171117JMAGEMD
EXPOCODE,SECT_ID,STNNBR,CASTNO,SAMPNO,BTLNBR,BTLNBR_FLAG_W,DATE,TIME,LATITUDE,LONGITUDE,DEPTH,CTDPRS,CTDDEP,CTDTMP,CTDSAL,CTDSAL_FLAG_W,SALNTY,SALNTY_FLAG_W,OXYGEN,OXYGEN_FLAG_W,SILCAT,SILCAT_FLAG_W,NO2+NO3,NO2+NO3_FLAG_W,NITRIT,NITRIT_FLAG_W,PHSPHT,PHSPHT_FLAG_W,TCARBN,TCARBN_FLAG_W,ALKALI,ALKALI_FLAG_W,PH_TOT,PH_TOT_FLAG_W,CFC-11,CFC-11_FLAG_W,CFC-12,CFC-12_FLAG_W
,,,,,,,UTC,UTC,,,METER,DBAR,METERS,ITS-90,PSS-78,,PSS-78,,UMOL/KG,,UMOL/KG,,UMOL/KG,,UMOL/KG,,UMOL/KG,,UMOL/KG,,UMOL/KG,,@25DEG-C,,PMOL/KG,,PMOL/KG,
49UF20140512,KS14-04,4182,1,-999,0,2,20140522,0956,47.0968,160.0873,5180,0.0,0,4.1067,32.8759,2,32.8750,2,332.10,2,33.17,2,20.61,2,0.23,2,1.71,2,2102.3,2,2222.5,2,7.7091,2,-999,9,-999,9
49UF20140512,KS14-04,4182,1,36,21995,2,20140522,1008,47.0968,160.0873,5180,9.9,10,3.6826,32.8787,2,32.8785,2,333.90,6,33.12,6,20.57,6,0.22,6,1.71,6,2101.9,2,2224.7,2,7.7105,2,-999,9,-999,9
49UF20140512,KS14-04,4182,1,35,22087,2,20140522,1006,47.0968,160.0873,5180,24.9,25,3.2911,32.8776,2,32.8844,2,336.63,2,32.96,2,20.52,2,0.21,2,1.70,2,2101.6,2,2224.3,2,7.7051,2,-999,9,-999,9
49UF20140512,KS14-04,4182,1,34,22666,2,20140522,1002,47.0968,160.0873,5180,51.0,51,2.5754,32.9016,2,32.9039,2,334.99,2,33.56,2,21.11,2,0.22,2,1.75,2,2108.3,2,2225.6,2,7.6888,2,-999,9,-999,9
49UF20140512,KS14-04,4182,1,33,21992,2,20140522,1001,47.0968,160.0873,5180,75.7,75,2.1313,32.9146,2,32.9170,2,334.77,2,34.27,2,21.58,2,0.23,2,1.79,2,2112.5,2,2226.8,2,7.6780,2,-999,9,-999,9
49UF20140512,KS14-04,4182,1,32,21991,2,20140522,1000,47.0968,160.0873,5180,101.3,100,1.6560,32.9441,2,32.9360,2,327.58,2,37.13,2,22.83,2,0.28,2,1.86,2,2121.5,2,2227.4,2,7.6569,2,-999,9,-999,9
49UF20140512,KS14-04,4182,1,31,21990,2,20140522,0959,47.0968,160.0873,5180,125.6,125,2.8235,33.5023,2,33.5719,4,129.14,2,77.02,2,38.71,2,0.00,2,2.79,2,2268.3,2,2269.4,2,7.3601,2,-999,9,-999,9
49UF20140512,KS14-04,4182,1,30,21989,2,20140522,0958,47.0968,160.0873,5180,151.9,151,3.3739,33.7158,2,33.7249,4,81.39,2,86.72,2,41.89,2,0.00,2,2.98,2,2302.1,2,2280.9,2,7.2989,2,-999,9,-999,9
49UF20140512,KS14-04,4182,1,29,21988,2,20140522,0956,47.0968,160.0873,5180,203.6,202,3.6477,33.8829,2,33.8819,2,33.79,2,97.70,2,44.77,2,0.00,2,3.15,2,2334.9,2,2296.3,2,7.2415,2,-999,9,-999,9
49UF20140512,KS14-04,4182,1,28,21987,2,20140522,0955,47.0968,160.0873,5180,252.7,250,3.6260,33.9641,2,33.9667,2,22.28,2,105.17,2,45.24,2,0.00,2,3.19,2,2346.4,2,2307.8,2,7.2368,2,-999,9,-999,9
49UF20140512,KS14-04,4182,1,27,21986,2,20140522,0953,47.0968,160.0873,5180,303.5,301,3.6244,34.0343,2,34.0345,2,18.01,6,110.68,6,45.09,6,0.00,6,3.20,6,2350.8,2,2319.5,2,7.2415,2,-999,9,-999,9
49UF20140512,KS14-04,4182,1,26,21985,2,20140522,0951,47.0968,160.0873,5180,404.1,400,3.4554,34.1448,2,34.1453,2,15.41,2,122.55,2,44.72,2,0.00,2,3.16,2,2361.3,2,2334.8,2,7.2629,2,-999,9,-999,9
49UF20140512,KS14-04,4182,1,25,21984,2,20140522,0948,47.0968,160.0873,5180,505.7,501,3.3130,34.2180,2,34.2170,2,13.15,2,130.12,2,44.65,2,0.00,2,3.16,2,2369.5,2,2346.0,2,7.2767,2,-999,9,-999,9
49UF20140512,KS14-04,4182,1,24,21983,2,20140522,0946,47.0968,160.0873,5180,606.8,601,3.1426,34.2807,2,34.2820,6,14.18,2,137.33,2,44.49,2,0.00,2,3.16,2,2375.6,2,2359.0,2,7.2855,2,-999,9,-999,9
49UF20140512,KS14-04,4182,1,23,22095,3,20140522,0943,47.0968,160.0873,5180,707.9,701,2.9791,34.3347,2,34.3349,2,15.40,2,143.60,2,44.36,2,0.00,2,3.15,2,2380.9,6,2366.2,6,7.3006,2,-999,9,-999,9
49UF20140512,KS14-04,4182,1,22,22665,2,20140522,0941,47.0968,160.0873,5180,809.1,801,2.8146,34.3743,2,34.3738,2,17.73,2,148.94,2,44.36,2,0.00,2,3.15,2,2386.3,2,2375.2,2,7.3074,6,-999,9,-999,9
49UF20140512,KS14-04,4182,1,21,21980,2,20140522,0938,47.0968,160.0873,5180,910.8,901,2.6615,34.4086,2,34.4100,2,19.84,2,154.39,2,44.18,2,0.00,2,3.14,2,2386.9,2,2384.5,2,7.3191,2,-999,9,-999,9
49UF20140512,KS14-04,4182,1,20,21979,2,20140522,0936,47.0968,160.0873,5180,1011.1,1000,2.5088,34.4437,2,34.4442,2,22.75,2,159.35,2,44.02,2,0.00,2,3.12,2,2398.9,3,2385.7,2,7.3231,2,-999,9,-999,9
49UF20140512,KS14-04,4182,1,19,21978,2,20140522,0931,47.0968,160.0873,5180,1214.9,1201,2.2698,34.4977,2,34.4983,2,33.30,2,165.62,2,43.45,2,0.00,2,3.08,2,2393.2,2,2395.6,2,7.3495,2,-999,9,-999,9
49UF20140512,KS14-04,4182,1,18,21977,2,20140522,0927,47.0968,160.0873,5180,1417.6,1401,2.0951,34.5395,2,34.5396,2,44.97,6,169.41,6,42.75,6,0.00,6,3.03,6,2390.1,2,2403.4,2,7.3758,2,-999,9,-999,9
49UF20140512,KS14-04,4182,1,17,23679,2,20140522,0922,47.0968,160.0873,5180,1620.3,1601,1.9682,34.5704,2,34.5702,6,56.34,2,170.72,2,42.11,2,0.00,2,2.97,2,2384.7,2,2406.6,2,7.4027,2,-999,9,-999,9
49UF20140512,KS14-04,4182,1,16,21975,2,20140522,0918,47.0968,160.0873,5180,1823.7,1801,1.8543,34.5973,2,34.5972,2,72.34,2,169.32,2,41.06,2,0.00,2,2.90,2,2376.5,2,2413.3,2,7.4312,2,-999,9,-999,9
49UF20140512,KS14-04,4182,1,15,21974,2,20140522,0914,47.0968,160.0873,5180,2026.6,2000,1.7570,34.6193,2,34.6203,2,88.08,2,165.87,2,40.13,2,0.00,2,2.83,2,2366.0,2,2412.8,2,7.4663,2,-999,9,-999,9
49UF20140512,KS14-04,4182,1,14,21973,2,20140522,0908,47.0968,160.0873,5180,2281.7,2250,1.6568,34.6388,2,34.6397,2,104.28,2,162.38,2,39.20,2,0.00,2,2.75,2,2355.7,6,2414.0,6,7.4945,2,-999,9,-999,9
49UF20140512,KS14-04,4182,1,13,21972,2,20140522,0903,47.0968,160.0873,5180,2536.7,2501,1.5868,34.6507,2,34.6514,2,114.39,2,161.53,2,38.56,2,0.00,2,2.70,2,2351.6,2,2415.4,2,7.5151,6,-999,9,-999,9
49UF20140512,KS14-04,4182,1,12,21994,3,20140522,0858,47.0968,160.0873,5180,2791.6,2750,1.5294,34.6613,2,34.6612,2,125.10,2,158.44,2,37.91,2,0.00,2,2.65,2,2346.7,2,2416.1,2,7.5325,2,-999,9,-999,9
49UF20140512,KS14-04,4182,1,11,21970,2,20140522,0852,47.0968,160.0873,5180,3045.4,2998,1.4904,34.6690,2,34.6692,6,133.34,2,155.95,2,37.21,2,0.00,2,2.60,2,2340.4,2,2418.2,2,7.5478,2,-999,9,-999,9
49UF20140512,KS14-04,4182,1,10,21969,2,20140522,0847,47.0968,160.0873,5180,3302.8,3250,1.4688,34.6742,2,34.6741,2,139.61,2,154.81,2,36.99,2,0.00,2,2.57,2,2339.5,2,2416.6,2,7.5605,2,-999,9,-999,9
49UF20140512,KS14-04,4182,1,9,21968,2,20140522,0842,47.0968,160.0873,5180,3558.2,3499,1.4565,34.6782,2,34.6780,2,144.33,6,153.33,6,36.72,6,0.00,6,2.56,6,2332.8,2,2416.2,2,7.5688,2,-999,9,-999,9
49UF20140512,KS14-04,4182,1,8,21982,2,20140522,0836,47.0968,160.0873,5180,3814.5,3749,1.4489,34.6818,2,34.6828,2,148.76,2,152.01,2,36.35,2,0.00,2,2.52,2,2330.7,2,2414.5,2,7.5699,3,-999,9,-999,9
49UF20140512,KS14-04,4182,1,7,21966,2,20140522,0836,47.0968,160.0873,5180,3814.5,3749,1.4489,34.6818,2,34.6808,2,148.55,2,151.85,2,36.39,2,0.00,2,2.52,2,2329.3,2,2414.7,2,7.5775,2,-999,9,-999,9
49UF20140512,KS14-04,4182,1,6,21965,2,20140522,0831,47.0968,160.0873,5180,4072.4,4000,1.4482,34.6849,2,34.6849,2,152.70,2,151.05,2,36.09,2,0.00,2,2.50,2,2327.4,2,2414.1,2,7.5789,3,-999,9,-999,9
49UF20140512,KS14-04,4182,1,5,22085,2,20140522,0825,47.0968,160.0873,5180,4329.2,4250,1.4578,34.6869,2,34.6866,2,154.64,2,151.16,2,35.96,2,0.00,2,2.49,2,2324.5,2,2414.0,2,7.5864,2,-999,9,-999,9
49UF20140512,KS14-04,4182,1,4,21963,2,20140522,0820,47.0968,160.0873,5180,4586.6,4500,1.4768,34.6880,2,34.6869,2,156.19,2,151.15,2,35.86,2,0.00,2,2.48,2,2322.4,6,2413.0,6,7.5888,2,-999,9,-999,9
49UF20140512,KS14-04,4182,1,3,22079,2,20140522,0815,47.0968,160.0873,5180,4844.0,4750,1.4991,34.6891,2,34.6885,2,157.06,2,151.11,2,35.77,2,0.00,2,2.48,2,2323.4,2,2413.4,2,7.5906,6,-999,9,-999,9
49UF20140512,KS14-04,4182,1,2,21961,2,20140522,0809,47.0968,160.0873,5180,5102.5,5000,1.5244,34.6896,2,34.6902,6,158.18,2,150.33,2,35.71,2,0.00,2,2.47,2,2320.3,2,2411.3,2,7.5905,2,-999,9,-999,9
49UF20140512,KS14-04,4182,1,1,21960,2,20140522,0805,47.0968,160.0873,5180,5295.8,5188,1.5437,34.6903,2,34.6904,2,159.29,2,150.14,2,35.63,2,0.00,2,2.47,2,2320.6,2,2412.8,2,7.5938,2,-999,9,-999,9
49UF20140512,KS14-04,4183,1,-999,0,2,20140525,2025,39.656,147.8585,5331,0.0,0,5.7403,32.8308,2,32.8314,2,324.40,2,11.25,2,10.82,2,0.19,2,1.22,2,2063.1,2,2237.8,2,7.8309,3,-999,9,-999,9
49UF20140512,KS14-04,4183,1,36,21995,2,20140525,2042,39.656,147.8585,5331,10.6,11,5.6582,32.8318,2,32.8313,2,324.67,2,11.26,2,10.85,2,0.19,2,1.22,2,2066.2,2,2237.9,2,7.8298,2,-999,9,-999,9
49UF20140512,KS14-04,4183,1,35,22087,2,20140525,2041,39.656,147.8585,5331,26.5,26,5.0881,32.8495,2,-999.0000,9,329.96,2,10.96,2,11.03,2,0.20,2,1.22,2,2064.9,2,2238.7,2,7.8290,3,-999,9,-999,9
49UF20140512,KS14-04,4183,1,34,22666,2,20140525,2037,39.656,147.8585,5331,52.5,52,2.8821,33.1672,2,-999.0000,9,313.19,6,34.19,6,19.76,6,0.22,6,1.68,6,2130.7,2,2243.1,2,7.6647,3,-999,9,-999,9
49UF20140512,KS14-04,4183,1,33,21992,2,20140525,2035,39.656,147.8585,5331,77.0,76,3.8033,33.3191,2,-999.0000,9,297.45,2,33.72,2,19.53,2,0.13,2,1.56,2,2131.8,2,2244.7,2,7.6783,2,-999,9,-999,9
49UF20140512,KS14-04,4183,1,32,21991,2,20140525,2034,39.656,147.8585,5331,103.0,102,2.4157,33.2164,2,33.2086,2,297.25,2,43.02,2,23.28,2,0.16,2,1.84,2,2149.9,2,2245.7,2,7.6266,2,-999,9,-999,9
49UF20140512,KS14-04,4183,1,31,21990,2,20140525,2033,39.656,147.8585,5331,127.8,127,1.2148,33.1947,2,-999.0000,9,272.04,2,54.19,2,27.31,2,0.02,2,2.14,2,2184.3,2,2252.7,2,7.5442,2,-999,9,-999,9
49UF20140512,KS14-04,4183,1,30,21989,2,20140525,2032,39.656,147.8585,5331,153.1,152,1.5567,33.3141,2,-999.0000,9,236.49,2,61.35,2,29.78,2,0.01,2,2.30,2,2207.4,2,2259.6,2,7.4987,2,-999,9,-999,9
49UF20140512,KS14-04,4183,1,29,21988,2,20140525,2030,39.656,147.8585,5331,203.4,202,2.6317,33.5718,2,33.5707,2,174.38,2,71.18,2,32.77,2,0.02,2,2.47,2,2241.8,2,2277.7,2,7.4425,2,-999,9,-999,9
49UF20140512,KS14-04,4183,1,28,21987,2,20140525,2029,39.656,147.8585,5331,253.6,252,2.5556,33.6443,2,-999.0000,9,127.35,2,84.36,2,37.45,2,0.01,2,2.77,2,2279.0,2,2285.4,2,7.3586,2,-999,9,-999,9
49UF20140512,KS14-04,4183,1,27,21986,2,20140525,2027,39.656,147.8585,5331,303.2,301,2.7981,33.7635,2,-999.0000,9,95.53,4,93.30,2,39.51,2,0.01,2,2.89,2,2300.7,2,2296.5,2,7.3236,2,-999,9,-999,9
49UF20140512,KS14-04,4183,1,26,21985,2,20140525,2025,39.656,147.8585,5331,403.4,400,3.4717,33.9773,2,33.9733,2,68.67,2,101.50,2,40.20,2,0.00,2,2.91,2,2314.5,2,2314.6,2,7.3289,2,-999,9,-999,9
49UF20140512,KS14-04,4183,1,25,21984,2,20140525,2022,39.656,147.8585,5331,506.8,502,3.2753,34.0794,2,-999.0000,9,43.37,2,116.36,6,42.26,6,0.00,6,3.04,6,2348.0,2,2334.5,2,7.2979,2,-999,9,-999,9
49UF20140512,KS14-04,4183,1,24,21983,2,20140525,2019,39.656,147.8585,5331,606.0,600,3.1472,34.1742,2,34.1731,2,30.99,2,127.60,2,43.04,2,0.00,2,3.09,2,2356.8,2,2344.6,2,7.3003,2,-999,9,-999,9
49UF20140512,KS14-04,4183,1,23,22095,3,20140525,2017,39.656,147.8585,5331,708.5,702,2.9876,34.2440,2,-999.0000,9,28.32,2,135.78,2,43.25,2,0.00,2,3.11,2,2367.0,2,2356.0,2,7.3072,2,-999,9,-999,9
49UF20140512,KS14-04,4183,1,22,22665,2,20140525,2014,39.656,147.8585,5331,810.0,802,2.8421,34.2970,2,34.2960,2,27.11,2,142.59,2,43.25,2,0.00,2,3.11,2,2374.6,2,2365.0,2,7.3134,2,-999,9,-999,9
49UF20140512,KS14-04,4183,1,21,21980,2,20140525,2012,39.656,147.8585,5331,909.6,901,2.6895,34.3501,2,-999.0000,9,30.18,2,148.72,2,43.15,2,0.00,2,3.10,2,2378.1,2,2374.4,2,7.3260,2,-999,9,-999,9
49UF20140512,KS14-04,4183,1,20,21979,2,20140525,2009,39.656,147.8585,5331,1011.8,1002,2.7744,34.4233,2,34.4229,6,38.77,2,146.10,2,42.60,2,0.00,2,3.06,2,2376.8,2,2386.9,2,7.3591,2,-999,9,-999,9
49UF20140512,KS14-04,4183,1,19,21978,2,20140525,2005,39.656,147.8585,5331,1213.4,1201,2.4661,34.4712,2,34.4713,2,41.55,2,155.12,2,42.63,2,0.00,2,3.05,2,2383.0,2,2393.6,2,7.3672,2,-999,9,-999,9
49UF20140512,KS14-04,4183,1,18,21977,2,20140525,2001,39.656,147.8585,5331,1417.2,1402,2.2961,34.5093,2,34.5085,2,47.07,2,159.63,2,42.32,2,0.00,2,3.03,2,2383.0,2,2403.1,2,7.3819,2,-999,9,-999,9
49UF20140512,KS14-04,4183,1,17,23679,2,20140525,1956,39.656,147.8585,5331,1619.9,1601,2.1510,34.5480,2,34.5475,2,56.47,2,161.38,2,41.93,2,0.00,2,2.98,2,2380.9,2,2406.5,2,7.4059,2,-999,9,-999,9
49UF20140512,KS14-04,4183,1,16,21975,2,20140525,1951,39.656,147.8585,5331,1823.5,1802,2.0026,34.5798,2,34.5792,2,68.10,6,162.90,6,41.34,6,0.00,6,2.93,6,2378.3,2,2411.9,2,7.4296,2,-999,9,-999,9
49UF20140512,KS14-04,4183,1,15,21974,2,20140525,1947,39.656,147.8585,5331,2027.0,2002,1.8806,34.6032,2,34.6048,6,80.34,2,163.02,2,40.63,2,0.00,2,2.87,2,2371.9,2,2414.5,2,7.4526,2,-999,9,-999,9
49UF20140512,KS14-04,4183,1,14,21973,2,20140525,1942,39.656,147.8585,5331,2280.6,2251,1.7394,34.6282,2,-999.0000,9,97.17,2,161.87,2,39.60,2,0.00,2,2.79,2,2364.3,6,2418.1,6,7.4856,2,-999,9,-999,9
49UF20140512,KS14-04,4183,1,13,21972,2,20140525,1936,39.656,147.8585,5331,2535.5,2501,1.6447,34.6446,2,34.6443,2,110.44,2,159.59,2,38.72,2,0.00,2,2.73,2,2355.1,2,2419.4,2,7.5103,6,-999,9,-999,9
49UF20140512,KS14-04,4183,1,12,21994,2,20140525,1931,39.656,147.8585,5331,2791.4,2752,1.5775,34.6562,2,-999.0000,9,121.37,2,157.30,2,38.08,2,0.00,2,2.67,2,2350.3,2,2420.2,2,7.5321,2,-999,9,-999,9
49UF20140512,KS14-04,4183,1,11,21970,2,20140525,1925,39.656,147.8585,5331,3045.9,3001,1.5306,34.6645,2,34.6659,6,128.61,2,156.68,2,37.61,2,0.00,2,2.63,2,2344.1,2,2420.9,2,7.5451,2,-999,9,-999,9
49UF20140512,KS14-04,4183,1,10,21969,2,20140525,1920,39.656,147.8585,5331,3301.2,3251,1.4947,34.6713,2,34.6714,2,136.62,2,154.54,2,37.07,2,0.00,2,2.60,2,2338.3,2,2419.7,2,7.5587,2,-999,9,-999,9
49UF20140512,KS14-04,4183,1,9,21968,2,20140525,1914,39.656,147.8585,5331,3558.2,3502,1.4719,34.6767,2,34.6778,2,142.88,2,152.79,2,36.69,2,0.00,2,2.56,2,2335.6,6,2419.0,6,7.5692,2,-999,9,-999,9
49UF20140512,KS14-04,4183,1,8,21982,2,20140525,1909,39.656,147.8585,5331,3813.7,3751,1.4623,34.6804,2,-999.0000,9,147.46,2,152.13,2,36.32,2,0.00,2,2.54,2,2331.8,2,2419.2,2,7.5760,6,-999,9,-999,9
49UF20140512,KS14-04,4183,1,7,21966,2,20140525,1904,39.656,147.8585,5331,4069.6,4000,1.4559,34.6839,2,34.6850,2,151.49,6,150.69,6,36.01,6,0.00,6,2.52,6,2334.6,3,2418.6,2,7.5852,2,-999,9,-999,9
49UF20140512,KS14-04,4183,1,6,21965,2,20140525,1858,39.656,147.8585,5331,4328.1,4252,1.4585,34.6866,2,-999.0000,9,154.83,2,149.58,2,35.76,2,0.00,2,2.50,2,2326.9,2,2417.9,2,7.5906,2,-999,9,-999,9
49UF20140512,KS14-04,4183,1,5,22085,2,20140525,1853,39.656,147.8585,5331,4582.9,4500,1.4716,34.6883,2,34.6903,2,158.89,4,149.35,2,35.65,2,0.00,2,2.48,2,2323.2,2,2417.6,2,7.5911,2,-999,9,-999,9
49UF20140512,KS14-04,4183,1,4,21963,2,20140525,1848,39.656,147.8585,5331,4840.5,4750,1.4923,34.6893,2,-999.0000,9,158.86,2,148.62,2,35.52,2,0.00,2,2.47,2,2321.9,2,2415.8,2,7.5941,2,-999,9,-999,9
49UF20140512,KS14-04,4183,1,3,22079,2,20140525,1842,39.656,147.8585,5331,5098.3,5000,1.5157,34.6903,2,34.6917,2,160.24,2,147.68,2,35.46,2,0.00,2,2.47,2,2323.6,6,2415.7,6,7.5947,2,-999,9,-999,9
49UF20140512,KS14-04,4183,1,2,21961,2,20140525,1837,39.656,147.8585,5331,5355.1,5249,1.5387,34.6911,2,34.6922,2,162.00,2,146.15,2,35.18,2,0.00,2,2.45,2,2320.4,2,2414.9,2,7.6004,6,-999,9,-999,9
49UF20140512,KS14-04,4183,1,1,21960,2,20140525,1835,39.656,147.8585,5331,5423.6,5315,1.5435,34.6915,2,34.6918,6,162.35,2,145.39,2,35.24,2,0.00,2,2.46,2,2319.6,2,2416.5,2,7.5978,2,-999,9,-999,9