BOTTLE,20171117JMAGEMD
EXPOCODE,SECT_ID,STNNBR,CASTNO,SAMPNO,BTLNBR,BTLNBR_FLAG_W,DATE,TIME,LATITUDE,LONGITUDE,DEPTH,CTDPRS,CTDDEP,CTDTMP,CTDSAL,CTDSAL_FLAG_W,SALNTY,SALNTY_FLAG_W,OXYGEN,OXYGEN_FLAG_W,SILCAT,SILCAT_FLAG_W,NO2+NO3,NO2+NO3_FLAG_W,NITRIT,NITRIT_FLAG_W,PHSPHT,PHSPHT_FLAG_W,TCARBN,TCARBN_FLAG_W,ALKALI,ALKALI_FLAG_W,PH_TOT,PH_TOT_FLAG_W,CFC-11,CFC-11_FLAG_W,CFC-12,CFC-12_FLAG_W
,,,,,,,UTC,UTC,,,METER,DBAR,METERS,ITS-90,PSS-78,,PSS-78,,UMOL/KG,,UMOL/KG,,UMOL/KG,,UMOL/KG,,UMOL/KG,,UMOL/KG,,UMOL/KG,,@25DEG-C,,PMOL/KG,,PMOL/KG,
49UF20140206,KS14-02,4117,1,-999,0,2,20140222,1219,9.4915,157.985,5276,0.0,0,28.7026,34.0417,2,-999.0000,9,196.71,2,1.08,2,0.00,2,0.00,2,0.05,2,-999.,9,-999.,9,-999.,9,-999,9,-999,9
49UF20140206,KS14-02,4117,1,36,21995,2,20140222,1250,9.4915,157.985,5276,10.8,11,28.7089,34.0415,2,34.0411,2,196.33,2,1.06,2,0.00,2,0.00,2,0.04,2,-999.,9,-999.,9,-999.,9,-999,9,-999,9
49UF20140206,KS14-02,4117,1,35,22087,2,20140222,1249,9.4915,157.985,5276,26.4,26,28.7117,34.0405,2,-999.0000,9,196.88,2,1.06,2,0.00,2,0.00,2,0.05,2,-999.,9,-999.,9,-999.,9,-999,9,-999,9
49UF20140206,KS14-02,4117,1,34,22666,2,20140222,1248,9.4915,157.985,5276,51.1,51,28.5202,34.1110,2,-999.0000,9,197.77,2,1.04,2,0.00,2,0.00,2,0.05,2,-999.,9,-999.,9,-999.,9,-999,9,-999,9
49UF20140206,KS14-02,4117,1,33,21992,2,20140222,1246,9.4915,157.985,5276,75.5,75,28.0141,34.7948,2,-999.0000,9,202.66,2,0.99,2,0.00,2,0.00,2,0.10,2,-999.,9,-999.,9,-999.,9,-999,9,-999,9
49UF20140206,KS14-02,4117,1,32,21991,2,20140222,1245,9.4915,157.985,5276,100.6,100,25.6076,35.1839,2,35.1888,4,199.38,2,1.15,2,0.00,2,0.00,2,0.12,2,-999.,9,-999.,9,-999.,9,-999,9,-999,9
49UF20140206,KS14-02,4117,1,31,21990,2,20140222,1243,9.4915,157.985,5276,126.4,126,24.5148,35.1732,2,-999.0000,9,187.51,2,1.56,2,0.44,2,0.10,2,0.19,2,-999.,9,-999.,9,-999.,9,-999,9,-999,9
49UF20140206,KS14-02,4117,1,27,21986,2,20140222,1242,9.4915,157.985,5276,152.1,151,20.3720,34.9715,2,-999.0000,9,170.23,2,3.45,2,4.43,2,0.03,2,0.41,2,-999.,9,-999.,9,-999.,9,-999,9,-999,9
49UF20140206,KS14-02,4117,1,26,21985,2,20140222,1239,9.4915,157.985,5276,202.7,201,14.6927,34.5365,2,34.5351,6,131.97,6,13.22,6,15.14,6,0.00,6,1.15,6,-999.,9,-999.,9,-999.,9,-999,9,-999,9
49UF20140206,KS14-02,4117,1,25,21984,2,20140222,1235,9.4915,157.985,5276,250.8,249,11.7993,34.4202,2,-999.0000,9,101.12,2,22.69,2,22.77,2,0.00,2,1.69,2,-999.,9,-999.,9,-999.,9,-999,9,-999,9
49UF20140206,KS14-02,4117,1,21,21980,2,20140222,1233,9.4915,157.985,5276,303.3,301,9.8402,34.5161,2,-999.0000,9,57.55,2,34.24,2,31.35,2,0.00,2,2.25,2,-999.,9,-999.,9,-999.,9,-999,9,-999,9
49UF20140206,KS14-02,4117,1,20,21979,2,20140222,1230,9.4915,157.985,5276,402.7,400,8.5144,34.5823,2,34.5820,2,57.27,2,40.47,2,34.42,2,0.00,2,2.43,2,-999.,9,-999.,9,-999.,9,-999,9,-999,9
49UF20140206,KS14-02,4117,1,19,21978,2,20140222,1230,9.4915,157.985,5276,402.7,400,8.5144,34.5823,2,34.5811,2,57.61,2,40.51,2,34.49,2,0.00,2,2.43,2,-999.,9,-999.,9,-999.,9,-999,9,-999,9
49UF20140206,KS14-02,4117,1,15,21974,2,20140222,1227,9.4915,157.985,5276,505.2,502,7.7272,34.5619,2,-999.0000,9,61.42,2,46.21,2,35.61,2,0.00,2,2.52,2,-999.,9,-999.,9,-999.,9,-999,9,-999,9
49UF20140206,KS14-02,4117,1,14,21973,2,20140222,1225,9.4915,157.985,5276,605.4,601,7.0346,34.5423,2,34.5435,2,57.69,2,54.04,2,37.05,2,0.00,2,2.65,2,-999.,9,-999.,9,-999.,9,-999,9,-999,9
49UF20140206,KS14-02,4117,1,13,21972,2,20140222,1222,9.4915,157.985,5276,705.0,700,6.3172,34.5283,2,-999.0000,9,70.56,2,62.22,2,37.09,2,0.00,2,2.64,2,-999.,9,-999.,9,-999.,9,-999,9,-999,9
49UF20140206,KS14-02,4117,1,12,21994,2,20140222,1219,9.4915,157.985,5276,808.6,802,5.6981,34.5341,2,34.5341,2,68.93,2,71.44,2,38.47,2,0.00,2,2.74,2,-999.,9,-999.,9,-999.,9,-999,9,-999,9
49UF20140206,KS14-02,4117,1,11,21970,2,20140222,1217,9.4915,157.985,5276,908.4,901,5.2583,34.5357,2,-999.0000,9,72.68,2,78.96,2,38.67,2,0.00,2,2.75,2,-999.,9,-999.,9,-999.,9,-999,9,-999,9
49UF20140206,KS14-02,4117,1,10,21969,2,20140222,1214,9.4915,157.985,5276,1009.7,1002,4.7072,34.5432,2,34.5426,2,71.71,2,89.63,2,39.48,2,0.00,2,2.81,2,-999.,9,-999.,9,-999.,9,-999,9,-999,9
49UF20140206,KS14-02,4117,1,6,21965,2,20140222,1210,9.4915,157.985,5276,1209.8,1199,3.7197,34.5694,2,34.5693,2,81.69,2,109.05,2,39.70,2,0.00,2,2.82,2,-999.,9,-999.,9,-999.,9,-999,9,-999,9
49UF20140206,KS14-02,4117,1,5,21964,2,20140222,1206,9.4915,157.985,5276,1412.0,1399,3.0179,34.5945,2,34.5953,2,91.83,2,123.20,2,39.50,2,0.00,2,2.78,2,-999.,9,-999.,9,-999.,9,-999,9,-999,9
49UF20140206,KS14-02,4117,1,4,21963,2,20140222,1201,9.4915,157.985,5276,1616.1,1601,2.6700,34.6082,2,34.6084,2,95.27,2,131.47,2,39.47,2,0.00,2,2.78,2,-999.,9,-999.,9,-999.,9,-999,9,-999,9
49UF20140206,KS14-02,4117,1,3,22079,2,20140222,1157,9.4915,157.985,5276,1817.7,1800,2.4297,34.6214,2,34.6215,6,100.39,6,136.70,6,39.35,6,0.00,6,2.76,6,-999.,9,-999.,9,-999.,9,-999,9,-999,9
49UF20140206,KS14-02,4117,1,2,21961,2,20140222,1152,9.4915,157.985,5276,2021.4,2000,2.2116,34.6335,2,34.6327,2,105.44,2,141.64,2,39.19,2,0.00,2,2.74,2,-999.,9,-999.,9,-999.,9,-999,9,-999,9
49UF20140206,KS14-02,4117,1,1,21960,2,20140222,1152,9.4915,157.985,5276,2021.4,2000,2.2116,34.6335,2,34.6314,2,105.47,2,141.77,2,39.08,2,0.00,2,2.74,2,-999.,9,-999.,9,-999.,9,-999,9,-999,9
49UF20140206,KS14-02,4118,1,-999,0,2,20140302,0920,9.5188,157.9832,5265,0.0,0,28.6309,33.9782,2,-999.0000,9,196.47,2,1.11,2,0.00,2,0.00,2,0.06,2,-999.,9,-999.,9,-999.,9,-999,9,-999,9
49UF20140206,KS14-02,4118,1,36,21995,2,20140302,0938,9.5188,157.9832,5265,12.0,12,28.6306,33.9779,2,33.9751,4,196.52,2,1.09,2,0.00,2,0.00,2,0.05,2,-999.,9,-999.,9,-999.,9,-999,9,-999,9
49UF20140206,KS14-02,4118,1,35,22087,2,20140302,0936,9.5188,157.9832,5265,26.7,27,28.6317,33.9774,2,-999.0000,9,196.27,2,1.12,2,0.00,2,0.00,2,0.05,2,-999.,9,-999.,9,-999.,9,-999,9,-999,9
49UF20140206,KS14-02,4118,1,34,22666,2,20140302,0935,9.5188,157.9832,5265,52.0,52,28.6384,33.9935,2,-999.0000,9,196.59,2,1.10,2,0.00,2,0.00,2,0.05,2,-999.,9,-999.,9,-999.,9,-999,9,-999,9
49UF20140206,KS14-02,4118,1,33,21992,2,20140302,0933,9.5188,157.9832,5265,79.4,79,28.2637,34.4440,2,-999.0000,9,199.29,2,0.99,2,0.00,2,0.00,2,0.09,2,-999.,9,-999.,9,-999.,9,-999,9,-999,9
49UF20140206,KS14-02,4118,1,32,21991,2,20140302,0932,9.5188,157.9832,5265,105.5,105,26.3783,35.2130,2,35.2093,4,203.16,2,1.05,2,0.00,2,0.00,2,0.10,2,-999.,9,-999.,9,-999.,9,-999,9,-999,9
49UF20140206,KS14-02,4118,1,31,21990,2,20140302,0930,9.5188,157.9832,5265,130.1,129,23.8383,35.1818,2,-999.0000,9,186.48,2,1.47,2,0.23,2,0.08,2,0.17,2,-999.,9,-999.,9,-999.,9,-999,9,-999,9
49UF20140206,KS14-02,4118,1,27,21986,2,20140302,0928,9.5188,157.9832,5265,153.5,153,20.3990,34.9718,2,-999.0000,9,170.15,2,3.42,2,4.38,2,0.04,2,0.42,2,-999.,9,-999.,9,-999.,9,-999,9,-999,9
49UF20140206,KS14-02,4118,1,26,21985,2,20140302,0924,9.5188,157.9832,5265,205.3,204,14.9135,34.5463,2,34.5491,6,146.07,6,11.63,6,13.14,6,0.01,6,1.01,6,-999.,9,-999.,9,-999.,9,-999,9,-999,9
49UF20140206,KS14-02,4118,1,25,21984,2,20140302,0922,9.5188,157.9832,5265,253.9,252,11.1729,34.4272,2,-999.0000,9,87.64,2,25.95,2,25.04,2,0.00,2,1.88,2,-999.,9,-999.,9,-999.,9,-999,9,-999,9
49UF20140206,KS14-02,4118,1,21,21980,2,20140302,0920,9.5188,157.9832,5265,304.6,303,9.7701,34.5694,2,-999.0000,9,45.80,2,34.72,2,32.71,2,0.00,2,2.35,2,-999.,9,-999.,9,-999.,9,-999,9,-999,9
49UF20140206,KS14-02,4118,1,20,21979,2,20140302,0917,9.5188,157.9832,5265,406.3,404,8.6353,34.5830,2,34.5823,2,57.43,2,39.80,2,34.16,2,0.00,2,2.41,2,-999.,9,-999.,9,-999.,9,-999,9,-999,9
49UF20140206,KS14-02,4118,1,19,21978,2,20140302,0917,9.5188,157.9832,5265,406.3,404,8.6353,34.5830,2,34.5824,2,57.57,2,39.83,2,34.24,2,0.00,2,2.42,2,-999.,9,-999.,9,-999.,9,-999,9,-999,9
49UF20140206,KS14-02,4118,1,15,21974,2,20140302,0915,9.5188,157.9832,5265,505.9,502,7.9224,34.5668,2,-999.0000,9,61.33,2,44.56,2,35.24,2,0.00,2,2.50,2,-999.,9,-999.,9,-999.,9,-999,9,-999,9
49UF20140206,KS14-02,4118,1,14,21973,2,20140302,0912,9.5188,157.9832,5265,605.9,602,7.2117,34.5471,2,34.5459,2,58.90,2,52.05,2,36.79,2,0.00,2,2.63,2,-999.,9,-999.,9,-999.,9,-999,9,-999,9
49UF20140206,KS14-02,4118,1,13,21972,2,20140302,0909,9.5188,157.9832,5265,707.9,703,6.4022,34.5316,2,-999.0000,9,67.28,2,61.33,2,37.40,2,0.00,2,2.67,2,-999.,9,-999.,9,-999.,9,-999,9,-999,9
49UF20140206,KS14-02,4118,1,12,21994,2,20140302,0907,9.5188,157.9832,5265,808.9,803,5.8983,34.5343,2,34.5338,2,66.88,2,68.40,2,38.24,2,0.00,2,2.74,2,-999.,9,-999.,9,-999.,9,-999,9,-999,9
49UF20140206,KS14-02,4118,1,11,21970,2,20140302,0904,9.5188,157.9832,5265,908.8,902,5.3344,34.5360,2,-999.0000,9,72.40,2,77.65,2,38.55,2,0.00,2,2.76,2,-999.,9,-999.,9,-999.,9,-999,9,-999,9
49UF20140206,KS14-02,4118,1,10,21969,2,20140302,0902,9.5188,157.9832,5265,1008.8,1001,4.8933,34.5402,2,34.5400,2,71.34,2,86.18,2,39.24,2,0.00,2,2.81,2,-999.,9,-999.,9,-999.,9,-999,9,-999,9
49UF20140206,KS14-02,4118,1,6,21965,2,20140302,0857,9.5188,157.9832,5265,1213.3,1203,3.7479,34.5692,2,34.5701,2,79.40,2,108.68,2,39.74,2,0.00,2,2.84,2,-999.,9,-999.,9,-999.,9,-999,9,-999,9
49UF20140206,KS14-02,4118,1,5,21964,2,20140302,0853,9.5188,157.9832,5265,1415.9,1403,3.1474,34.5914,2,34.5911,2,90.63,2,120.50,2,39.48,2,0.00,2,2.80,2,-999.,9,-999.,9,-999.,9,-999,9,-999,9
49UF20140206,KS14-02,4118,1,4,21963,2,20140302,0849,9.5188,157.9832,5265,1615.1,1600,2.7382,34.6076,2,34.6089,2,95.03,2,129.61,2,39.34,2,0.00,2,2.79,2,-999.,9,-999.,9,-999.,9,-999,9,-999,9
49UF20140206,KS14-02,4118,1,3,22079,2,20140302,0844,9.5188,157.9832,5265,1819.5,1801,2.4354,34.6215,2,34.6211,6,99.33,6,136.89,6,39.18,6,0.00,6,2.77,6,-999.,9,-999.,9,-999.,9,-999,9,-999,9
49UF20140206,KS14-02,4118,1,2,21961,2,20140302,0840,9.5188,157.9832,5265,2022.5,2001,2.2023,34.6346,2,34.6343,2,105.36,2,141.86,2,38.94,2,0.00,2,2.75,2,-999.,9,-999.,9,-999.,9,-999,9,-999,9
49UF20140206,KS14-02,4118,1,1,21960,2,20140302,0840,9.5188,157.9832,5265,2022.5,2001,2.2023,34.6346,2,34.6340,2,105.47,2,141.95,2,39.01,2,0.00,2,2.76,2,-999.,9,-999.,9,-999.,9,-999,9,-999,9
49UF20140206,KS14-02,4121,1,-999,0,2,20140303,1245,9.525,154.9893,5382,0.0,0,28.3920,34.0286,2,34.0268,2,197.24,2,1.06,2,0.00,2,0.00,2,0.05,2,1902.3,2,2234.8,2,8.1299,2,-999,9,-999,9
49UF20140206,KS14-02,4121,1,36,21995,2,20140303,1315,9.525,154.9893,5382,11.1,11,28.3978,34.0289,2,34.0273,2,196.86,2,1.05,2,0.00,2,0.00,2,0.04,2,1902.2,2,2235.6,2,8.1227,2,-999,9,-999,9
49UF20140206,KS14-02,4121,1,35,22087,2,20140303,1314,9.525,154.9893,5382,26.7,27,28.3899,34.0333,2,-999.0000,9,196.94,2,1.06,2,0.00,2,0.00,2,0.04,2,1905.3,2,2237.6,2,8.1338,2,-999,9,-999,9
49UF20140206,KS14-02,4121,1,34,22666,2,20140303,1313,9.525,154.9893,5382,49.2,49,28.2355,34.1115,2,-999.0000,9,196.94,2,1.02,2,0.00,2,0.00,2,0.05,2,1911.3,2,2241.6,2,8.1210,2,-999,9,-999,9
49UF20140206,KS14-02,4121,1,33,21992,2,20140303,1311,9.525,154.9893,5382,76.5,76,28.1678,34.4092,2,-999.0000,9,198.89,2,0.98,2,0.00,2,0.00,2,0.07,2,1925.3,2,2262.0,2,8.1188,2,-999,9,-999,9
49UF20140206,KS14-02,4121,1,32,21991,2,20140303,1310,9.525,154.9893,5382,101.2,101,27.9811,34.9836,2,34.9849,2,200.46,2,0.94,2,0.00,2,0.00,2,0.10,2,1960.3,2,2299.8,2,8.1162,2,-999,9,-999,9
49UF20140206,KS14-02,4121,1,31,21990,2,20140303,1308,9.525,154.9893,5382,127.2,126,25.5066,35.2892,2,-999.0000,9,196.13,2,1.08,2,0.03,2,0.00,2,0.09,2,2007.7,2,2320.2,2,8.0681,2,-999,9,-999,9
49UF20140206,KS14-02,4121,1,30,21989,2,20140303,1307,9.525,154.9893,5382,151.0,150,22.3748,35.1098,2,-999.0000,9,175.49,6,2.16,6,2.02,6,0.16,6,0.28,6,2053.2,2,2313.9,2,7.9780,2,-999,9,-999,9
49UF20140206,KS14-02,4121,1,29,21988,2,20140303,1305,9.525,154.9893,5382,201.5,200,14.8330,34.5313,2,34.5231,4,152.69,2,11.40,2,12.66,2,0.00,2,0.97,2,2114.3,2,2278.7,2,7.7904,2,-999,9,-999,9
49UF20140206,KS14-02,4121,1,28,21987,2,20140303,1303,9.525,154.9893,5382,253.1,252,11.1647,34.4562,2,-999.0000,9,79.97,2,26.79,2,26.15,2,0.00,2,1.93,2,2203.1,2,2283.7,2,7.5755,2,-999,9,-999,9
49UF20140206,KS14-02,4121,1,27,21986,2,20140303,1248,9.525,154.9893,5382,301.8,300,10.1463,34.5331,2,-999.0000,9,54.35,2,32.84,2,31.04,2,0.00,2,2.24,2,2235.5,2,2295.6,2,7.5166,2,-999,9,-999,9
49UF20140206,KS14-02,4121,1,26,21985,2,20140303,1245,9.525,154.9893,5382,404.0,401,8.2568,34.5412,2,34.5414,2,68.33,2,43.20,2,33.75,2,0.00,2,2.39,2,2249.8,2,2308.6,2,7.5094,2,-999,9,-999,9
49UF20140206,KS14-02,4121,1,25,21984,2,20140303,1242,9.525,154.9893,5382,503.6,500,7.5795,34.5506,2,-999.0000,9,67.67,2,47.87,2,35.24,2,0.00,2,2.50,2,2257.7,6,2316.1,6,7.4982,2,-999,9,-999,9
49UF20140206,KS14-02,4121,1,24,21983,2,20140303,1239,9.525,154.9893,5382,604.6,600,6.9665,34.5388,2,34.5372,2,68.93,2,54.28,2,36.25,2,0.00,2,2.58,2,2267.0,2,2320.6,2,7.4918,6,-999,9,-999,9
49UF20140206,KS14-02,4121,1,23,22095,2,20140303,1237,9.525,154.9893,5382,704.7,700,6.2709,34.5332,2,-999.0000,9,69.54,2,63.14,2,37.35,2,0.00,2,2.67,2,2277.8,2,2330.1,2,7.4825,2,-999,9,-999,9
49UF20140206,KS14-02,4121,1,22,22665,2,20140303,1234,9.525,154.9893,5382,808.7,803,5.7634,34.5361,2,34.5354,2,71.42,2,70.69,2,38.04,2,0.00,2,2.71,2,2288.5,2,2337.7,2,7.4785,2,-999,9,-999,9
49UF20140206,KS14-02,4121,1,21,21980,2,20140303,1231,9.525,154.9893,5382,908.9,902,5.1255,34.5388,2,-999.0000,9,76.48,2,81.14,2,38.52,2,0.00,2,2.75,2,2297.3,2,2347.8,2,7.4833,2,-999,9,-999,9
49UF20140206,KS14-02,4121,1,20,21979,2,20140303,1228,9.525,154.9893,5382,1009.4,1001,4.6621,34.5487,2,34.5467,2,77.39,2,89.25,2,39.04,2,0.00,2,2.79,2,2305.4,2,2360.1,2,7.4764,2,-999,9,-999,9
49UF20140206,KS14-02,4121,1,19,21978,2,20140303,1223,9.525,154.9893,5382,1210.8,1200,3.7235,34.5714,2,34.5712,2,83.89,2,108.26,2,39.44,2,0.00,2,2.81,2,2324.7,2,2378.9,2,7.4813,2,-999,9,-999,9
49UF20140206,KS14-02,4121,1,18,21977,2,20140303,1219,9.525,154.9893,5382,1412.9,1400,3.0945,34.5929,2,34.5922,2,91.52,2,121.51,2,39.39,2,0.00,2,2.79,2,2334.8,2,2391.6,2,7.4921,2,-999,9,-999,9
49UF20140206,KS14-02,4121,1,17,23679,2,20140303,1214,9.525,154.9893,5382,1615.7,1600,2.7049,34.6097,2,34.6089,6,97.70,6,129.46,6,39.24,6,0.00,6,2.77,6,2338.0,2,2399.8,2,7.4978,2,-999,9,-999,9
49UF20140206,KS14-02,4121,1,16,21975,2,20140303,1209,9.525,154.9893,5382,1818.3,1800,2.4257,34.6225,2,34.6218,2,101.17,2,136.55,2,39.28,2,0.00,2,2.76,2,2345.8,2,2407.2,2,7.5061,2,-999,9,-999,9
49UF20140206,KS14-02,4121,1,15,21974,3,20140303,1205,9.525,154.9893,5382,2022.2,2001,2.1918,34.6358,2,34.6356,2,107.21,2,141.04,2,38.87,2,0.00,2,2.73,2,2345.4,2,2413.2,2,7.5160,2,-999,9,-999,9
49UF20140206,KS14-02,4121,1,14,21973,3,20140303,1159,9.525,154.9893,5382,2276.4,2251,1.9929,34.6481,2,34.6479,2,114.10,2,144.57,2,38.47,2,0.00,2,2.69,2,2355.2,2,2417.1,2,7.5255,2,-999,9,-999,9
49UF20140206,KS14-02,4121,1,13,21972,2,20140303,1154,9.525,154.9893,5382,2530.8,2501,1.8449,34.6569,2,34.6566,2,121.12,2,146.41,2,38.02,2,0.00,2,2.65,2,2349.3,2,2420.2,2,7.5379,2,-999,9,-999,9
49UF20140206,KS14-02,4121,1,12,21994,2,20140303,1148,9.525,154.9893,5382,2783.9,2750,1.7433,34.6638,2,34.6636,2,127.79,2,147.35,2,37.61,2,0.00,2,2.62,2,2343.8,6,2421.8,6,7.5489,2,-999,9,-999,9
49UF20140206,KS14-02,4121,1,11,21970,2,20140303,1143,9.525,154.9893,5382,3037.2,2998,1.6514,34.6699,2,34.6692,2,134.53,2,147.49,2,37.27,2,0.00,2,2.59,2,2338.4,2,2421.1,2,7.5601,2,-999,9,-999,9
49UF20140206,KS14-02,4121,1,10,21969,2,20140303,1137,9.525,154.9893,5382,3295.5,3252,1.5708,34.6759,2,34.6741,2,141.18,2,145.66,2,36.66,2,0.00,2,2.54,2,2333.2,2,2419.5,2,7.5680,2,-999,9,-999,9
49UF20140206,KS14-02,4121,1,9,21968,2,20140303,1132,9.525,154.9893,5382,3548.2,3499,1.5183,34.6804,2,34.6799,6,148.28,6,144.35,6,36.28,6,0.00,6,2.51,6,2329.3,2,2418.3,2,7.5711,2,-999,9,-999,9
49UF20140206,KS14-02,4121,1,8,21982,2,20140303,1127,9.525,154.9893,5382,3806.0,3751,1.4873,34.6841,2,34.6839,2,154.98,2,141.32,2,35.85,2,0.00,2,2.47,2,2323.6,2,2415.1,2,7.5882,2,-999,9,-999,9
49UF20140206,KS14-02,4121,1,7,21966,2,20140303,1121,9.525,154.9893,5382,4060.2,3999,1.4709,34.6870,2,34.6868,2,159.23,2,139.57,2,35.40,2,0.00,2,2.45,2,2319.6,2,2413.4,2,7.5932,2,-999,9,-999,9
49UF20140206,KS14-02,4121,1,6,21965,2,20140303,1116,9.525,154.9893,5382,4316.9,4249,1.4581,34.6898,2,34.6899,2,164.10,2,137.57,2,35.05,2,0.00,2,2.42,2,2313.2,2,2409.7,2,7.5955,2,-999,9,-999,9
49UF20140206,KS14-02,4121,1,5,21964,2,20140303,1110,9.525,154.9893,5382,4574.7,4501,1.4562,34.6918,2,34.6909,2,167.16,2,135.84,2,34.89,2,0.00,2,2.41,2,2312.2,6,2408.1,6,7.6012,2,-999,9,-999,9
49UF20140206,KS14-02,4121,1,4,21963,2,20140303,1105,9.525,154.9893,5382,4829.3,4748,1.4605,34.6933,2,34.6941,2,170.80,2,134.43,2,34.65,2,0.00,2,2.39,2,2309.5,2,2406.0,2,7.6049,6,-999,9,-999,9
49UF20140206,KS14-02,4121,1,3,22079,2,20140303,1100,9.525,154.9893,5382,5088.5,5000,1.4713,34.6948,2,34.6951,2,173.49,2,133.09,2,34.38,2,0.00,2,2.37,2,2306.5,2,2403.7,2,7.6022,2,-999,9,-999,9
49UF20140206,KS14-02,4121,1,2,21961,2,20140303,1054,9.525,154.9893,5382,5346.2,5251,1.4966,34.6953,2,34.6961,2,174.28,2,132.57,2,34.40,2,0.00,2,2.37,2,2303.2,2,2402.0,2,7.6051,2,-999,9,-999,9
49UF20140206,KS14-02,4121,1,1,21960,2,20140303,1051,9.525,154.9893,5382,5472.5,5373,1.5125,34.6953,2,34.6953,6,173.48,6,132.71,6,34.33,6,0.00,6,2.37,6,2304.8,2,2403.1,2,7.6077,2,-999,9,-999,9