BOTTLE,20171117JMAGEMD
EXPOCODE,SECT_ID,STNNBR,CASTNO,SAMPNO,BTLNBR,BTLNBR_FLAG_W,DATE,TIME,LATITUDE,LONGITUDE,DEPTH,CTDPRS,CTDDEP,CTDTMP,CTDSAL,CTDSAL_FLAG_W,SALNTY,SALNTY_FLAG_W,OXYGEN,OXYGEN_FLAG_W,SILCAT,SILCAT_FLAG_W,NO2+NO3,NO2+NO3_FLAG_W,NITRIT,NITRIT_FLAG_W,PHSPHT,PHSPHT_FLAG_W,TCARBN,TCARBN_FLAG_W,ALKALI,ALKALI_FLAG_W,PH_TOT,PH_TOT_FLAG_W,CFC-11,CFC-11_FLAG_W,CFC-12,CFC-12_FLAG_W
,,,,,,,UTC,UTC,,,METER,DBAR,METERS,ITS-90,PSS-78,,PSS-78,,UMOL/KG,,UMOL/KG,,UMOL/KG,,UMOL/KG,,UMOL/KG,,UMOL/KG,,UMOL/KG,,@25DEG-C,,PMOL/KG,,PMOL/KG,
49UF20140206,KS14-02,4123,1,-999,0,2,20140304,0450,9.5097,152.9872,5285,0.0,0,28.4831,33.9311,2,-999.,9,197.29,2,1.03,2,0.00,2,0.00,2,0.05,2,-999.,9,-999.,9,-999.,9,-999,9,-999,9
49UF20140206,KS14-02,4123,1,36,21995,2,20140304,0514,9.5097,152.9872,5285,11.8,12,28.4462,33.9297,2,-999.,9,197.13,2,1.01,2,0.00,2,0.00,2,0.04,2,-999.,9,-999.,9,-999.,9,-999,9,-999,9
49UF20140206,KS14-02,4123,1,35,22087,2,20140304,0513,9.5097,152.9872,5285,25.9,26,28.3719,33.9279,2,-999.,9,197.45,2,1.00,2,0.00,2,0.00,2,0.04,2,-999.,9,-999.,9,-999.,9,-999,9,-999,9
49UF20140206,KS14-02,4123,1,34,22666,2,20140304,0511,9.5097,152.9872,5285,51.8,52,28.3601,33.9333,2,-999.,9,197.38,2,1.00,2,0.00,2,0.00,2,0.04,2,-999.,9,-999.,9,-999.,9,-999,9,-999,9
49UF20140206,KS14-02,4123,1,33,21992,2,20140304,0510,9.5097,152.9872,5285,77.2,77,27.1074,35.1628,2,-999.,9,200.34,2,1.04,2,0.01,2,0.00,2,0.10,2,-999.,9,-999.,9,-999.,9,-999,9,-999,9
49UF20140206,KS14-02,4123,1,32,21991,2,20140304,0508,9.5097,152.9872,5285,101.8,101,25.3773,35.3441,2,-999.,9,200.05,2,0.96,2,0.00,2,0.00,2,0.08,2,-999.,9,-999.,9,-999.,9,-999,9,-999,9
49UF20140206,KS14-02,4123,1,31,21990,2,20140304,0507,9.5097,152.9872,5285,127.6,127,24.4580,35.4015,2,-999.,9,187.05,6,1.11,6,0.38,6,0.19,6,0.11,6,-999.,9,-999.,9,-999.,9,-999,9,-999,9
49UF20140206,KS14-02,4123,1,27,21986,2,20140304,0505,9.5097,152.9872,5285,152.2,151,20.9027,35.0129,2,-999.,9,165.01,2,4.06,2,5.21,2,0.02,2,0.48,2,-999.,9,-999.,9,-999.,9,-999,9,-999,9
49UF20140206,KS14-02,4123,1,26,21985,2,20140304,0501,9.5097,152.9872,5285,201.7,200,12.6885,34.4557,2,-999.,9,106.76,2,19.64,2,20.62,2,0.00,2,1.55,2,-999.,9,-999.,9,-999.,9,-999,9,-999,9
49UF20140206,KS14-02,4123,1,25,21984,2,20140304,0500,9.5097,152.9872,5285,254.2,253,10.2690,34.5317,2,-999.,9,55.12,2,32.23,2,30.66,2,0.00,2,2.22,2,-999.,9,-999.,9,-999.,9,-999,9,-999,9
49UF20140206,KS14-02,4123,1,21,21980,2,20140304,0457,9.5097,152.9872,5285,304.7,303,9.1832,34.5446,2,-999.,9,61.13,2,38.02,2,32.53,2,0.00,2,2.32,2,-999.,9,-999.,9,-999.,9,-999,9,-999,9
49UF20140206,KS14-02,4123,1,20,21979,2,20140304,0457,9.5097,152.9872,5285,304.7,303,9.1832,34.5446,2,-999.,9,61.21,2,38.03,2,32.46,2,0.00,2,2.32,2,-999.,9,-999.,9,-999.,9,-999,9,-999,9
49UF20140206,KS14-02,4123,1,19,21978,3,20140304,0454,9.5097,152.9872,5285,404.6,402,8.3862,34.5721,2,-999.,9,62.19,2,41.43,2,34.09,2,0.00,2,2.42,2,-999.,9,-999.,9,-999.,9,-999,9,-999,9
49UF20140206,KS14-02,4123,1,15,21974,3,20140304,0451,9.5097,152.9872,5285,503.7,500,7.5856,34.5504,2,-999.,9,67.39,2,47.78,2,35.16,2,0.00,2,2.49,2,-999.,9,-999.,9,-999.,9,-999,9,-999,9
49UF20140206,KS14-02,4123,1,14,21973,3,20140304,0449,9.5097,152.9872,5285,604.7,600,6.7993,34.5370,2,-999.,9,68.13,2,56.14,2,36.54,2,0.00,2,2.60,2,-999.,9,-999.,9,-999.,9,-999,9,-999,9
49UF20140206,KS14-02,4123,1,13,21972,3,20140304,0446,9.5097,152.9872,5285,705.9,701,6.2243,34.5339,2,-999.,9,69.56,2,63.87,2,37.36,2,0.00,2,2.67,2,-999.,9,-999.,9,-999.,9,-999,9,-999,9
49UF20140206,KS14-02,4123,1,12,21994,2,20140304,0443,9.5097,152.9872,5285,808.2,802,5.7372,34.5342,2,-999.,9,73.55,2,71.14,2,37.87,2,0.00,2,2.70,2,-999.,9,-999.,9,-999.,9,-999,9,-999,9
49UF20140206,KS14-02,4123,1,11,21970,2,20140304,0440,9.5097,152.9872,5285,906.6,900,5.1627,34.5390,2,-999.,9,78.40,2,80.40,2,38.15,2,0.00,2,2.72,2,-999.,9,-999.,9,-999.,9,-999,9,-999,9
49UF20140206,KS14-02,4123,1,10,21969,2,20140304,0437,9.5097,152.9872,5285,1010.4,1002,4.6962,34.5483,2,-999.,9,80.73,2,88.99,2,38.57,2,0.00,2,2.75,2,-999.,9,-999.,9,-999.,9,-999,9,-999,9
49UF20140206,KS14-02,4123,1,6,21965,2,20140304,0433,9.5097,152.9872,5285,1210.7,1200,3.9204,34.5641,2,-999.,9,83.02,2,104.90,2,39.10,2,0.00,2,2.79,2,-999.,9,-999.,9,-999.,9,-999,9,-999,9
49UF20140206,KS14-02,4123,1,5,21964,2,20140304,0428,9.5097,152.9872,5285,1412.5,1400,3.1682,34.5905,2,-999.,9,93.58,6,119.57,6,39.10,6,0.00,6,2.77,6,-999.,9,-999.,9,-999.,9,-999,9,-999,9
49UF20140206,KS14-02,4123,1,4,21963,2,20140304,0424,9.5097,152.9872,5285,1616.0,1601,2.7487,34.6047,2,-999.,9,96.65,2,129.33,2,39.15,2,0.00,2,2.77,2,-999.,9,-999.,9,-999.,9,-999,9,-999,9
49UF20140206,KS14-02,4123,1,3,22079,3,20140304,0419,9.5097,152.9872,5285,1818.0,1800,2.4473,34.6203,2,-999.,9,93.55,4,108.88,4,37.95,4,0.00,4,2.68,4,-999.,9,-999.,9,-999.,9,-999,9,-999,9
49UF20140206,KS14-02,4123,1,2,21961,2,20140304,0419,9.5097,152.9872,5285,1818.0,1800,2.4473,34.6203,2,-999.,9,101.95,2,135.71,2,38.98,2,0.00,2,2.75,2,-999.,9,-999.,9,-999.,9,-999,9,-999,9
49UF20140206,KS14-02,4123,1,1,21960,2,20140304,0415,9.5097,152.9872,5285,2022.3,2001,2.1921,34.6339,2,-999.,9,108.06,2,140.94,2,38.74,2,0.00,2,2.73,2,-999.,9,-999.,9,-999.,9,-999,9,-999,9
49UF20140206,KS14-02,4126,1,-999,0,2,20140305,0354,9.5187,149.9905,4947,0.0,0,28.3310,34.0475,2,34.0373,2,197.42,2,1.05,2,0.00,2,0.00,2,0.06,2,1906.7,2,2229.9,2,8.1152,2,-999,9,-999,9
49UF20140206,KS14-02,4126,1,36,21995,2,20140305,0414,9.5187,149.9905,4947,10.8,11,28.0366,34.2528,2,34.2443,4,198.20,2,0.98,2,0.00,2,0.00,2,0.07,2,1918.2,2,2248.4,2,8.1207,2,-999,9,-999,9
49UF20140206,KS14-02,4126,1,35,22087,2,20140305,0413,9.5187,149.9905,4947,27.5,27,27.8784,34.3188,2,-999.0000,9,199.02,2,0.98,2,0.00,2,0.00,2,0.07,2,1924.8,2,2254.5,2,8.1179,2,-999,9,-999,9
49UF20140206,KS14-02,4126,1,34,22666,2,20140305,0411,9.5187,149.9905,4947,50.2,50,27.8131,34.3597,2,-999.0000,9,198.90,2,0.98,2,0.00,2,0.00,2,0.08,2,1928.4,2,2257.4,2,8.1154,2,-999,9,-999,9
49UF20140206,KS14-02,4126,1,33,21992,2,20140305,0410,9.5187,149.9905,4947,75.6,75,27.5386,34.5603,2,-999.0000,9,195.88,2,1.15,2,0.06,2,0.03,2,0.11,2,1948.9,2,2272.3,2,8.0990,2,-999,9,-999,9
49UF20140206,KS14-02,4126,1,32,21991,2,20140305,0406,9.5187,149.9905,4947,101.1,101,25.0032,34.9924,2,34.9952,6,181.33,6,1.96,6,1.29,6,0.21,6,0.25,6,2017.2,2,2304.1,2,8.0231,2,-999,9,-999,9
49UF20140206,KS14-02,4126,1,31,21990,2,20140305,0405,9.5187,149.9905,4947,126.2,125,21.3860,34.9112,2,-999.0000,9,161.53,2,4.30,2,5.27,2,0.05,2,0.51,2,2066.6,2,2298.6,2,7.9344,2,-999,9,-999,9
49UF20140206,KS14-02,4126,1,27,21986,2,20140305,0404,9.5187,149.9905,4947,150.2,149,16.6156,34.6619,2,-999.0000,9,139.52,2,10.12,2,12.15,2,0.01,2,0.95,2,2115.6,2,2286.0,2,7.7992,2,-999,9,-999,9
49UF20140206,KS14-02,4126,1,26,21985,2,20140305,0402,9.5187,149.9905,4947,201.7,200,11.6752,34.4156,2,34.4149,2,102.41,2,23.29,2,22.63,2,0.00,2,1.70,2,2179.5,2,2278.7,2,7.6286,2,-999,9,-999,9
49UF20140206,KS14-02,4126,1,25,21984,2,20140305,0402,9.5187,149.9905,4947,201.7,200,11.6752,34.4156,2,34.4153,2,102.76,2,23.32,2,22.71,2,0.00,2,1.69,2,2180.3,2,2277.8,2,7.6239,2,-999,9,-999,9
49UF20140206,KS14-02,4126,1,21,21980,2,20140305,0401,9.5187,149.9905,4947,251.0,249,10.9234,34.4809,2,-999.0000,9,75.82,2,28.55,2,27.23,2,0.00,2,2.00,2,2207.9,2,2287.7,2,7.5881,2,-999,9,-999,9
49UF20140206,KS14-02,4126,1,20,21979,2,20140305,0359,9.5187,149.9905,4947,302.2,300,9.8832,34.5579,2,-999.0000,9,58.22,2,33.96,2,31.37,2,0.00,2,2.25,2,2234.8,2,2298.3,2,7.5185,2,-999,9,-999,9
49UF20140206,KS14-02,4126,1,19,21978,2,20140305,0357,9.5187,149.9905,4947,402.6,400,8.5487,34.5712,2,34.5716,2,63.71,2,40.74,2,33.78,2,0.00,2,2.39,2,2248.6,2,2306.3,2,7.5058,2,-999,9,-999,9
49UF20140206,KS14-02,4126,1,15,21974,2,20140305,0354,9.5187,149.9905,4947,504.7,501,7.5111,34.5490,2,-999.0000,9,70.40,2,48.40,2,35.10,2,0.00,2,2.48,2,2257.8,2,2315.5,2,7.5002,2,-999,9,-999,9
49UF20140206,KS14-02,4126,1,14,21973,2,20140305,0351,9.5187,149.9905,4947,605.9,602,6.5251,34.5187,2,34.5180,2,77.86,2,59.21,2,35.88,2,0.00,2,2.56,2,2270.3,2,2325.9,2,7.4994,2,-999,9,-999,9
49UF20140206,KS14-02,4126,1,13,21972,2,20140305,0349,9.5187,149.9905,4947,706.4,701,5.9902,34.5316,2,-999.0000,9,73.96,2,67.06,2,37.34,2,0.00,2,2.66,2,2280.2,6,2335.1,6,7.4851,2,-999,9,-999,9
49UF20140206,KS14-02,4126,1,12,21994,2,20140305,0346,9.5187,149.9905,4947,809.2,803,5.5566,34.5358,2,34.5355,2,75.88,2,73.93,2,37.92,2,0.00,2,2.70,2,2291.0,2,2340.9,2,7.4864,6,-999,9,-999,9
49UF20140206,KS14-02,4126,1,11,21970,2,20140305,0344,9.5187,149.9905,4947,909.0,902,4.9354,34.5404,2,-999.0000,9,80.26,2,84.58,2,38.23,2,0.00,2,2.72,2,2300.4,2,2352.4,2,7.4874,2,-999,9,-999,9
49UF20140206,KS14-02,4126,1,10,21969,2,20140305,0341,9.5187,149.9905,4947,1010.4,1002,4.4297,34.5531,2,34.5526,2,83.32,2,93.97,2,38.63,2,0.00,2,2.75,2,2319.7,3,2365.1,2,7.4852,2,-999,9,-999,9
49UF20140206,KS14-02,4126,1,6,21965,2,20140305,0336,9.5187,149.9905,4947,1211.8,1201,3.8212,34.5692,2,34.5682,2,88.25,6,106.12,6,38.82,6,0.00,6,2.76,6,2321.8,2,2377.3,2,7.4864,2,-999,9,-999,9
49UF20140206,KS14-02,4126,1,5,21964,2,20140305,0332,9.5187,149.9905,4947,1413.4,1401,3.1692,34.5905,2,34.5893,2,94.84,2,119.19,2,38.97,2,0.00,2,2.76,2,2331.5,2,2390.3,2,7.4981,2,-999,9,-999,9
49UF20140206,KS14-02,4126,1,4,21963,2,20140305,0327,9.5187,149.9905,4947,1615.5,1600,2.7620,34.6049,2,34.6044,2,98.49,2,128.26,2,39.12,2,0.00,2,2.75,2,2338.0,2,2398.3,2,7.5025,2,-999,9,-999,9
49UF20140206,KS14-02,4126,1,3,22079,2,20140305,0327,9.5187,149.9905,4947,1615.5,1600,2.7620,34.6049,2,34.6054,2,98.66,2,128.19,2,39.07,2,0.00,2,2.75,2,2338.8,2,2400.3,2,7.5002,2,-999,9,-999,9
49UF20140206,KS14-02,4126,1,2,21961,2,20140305,0323,9.5187,149.9905,4947,1818.5,1800,2.3598,34.6259,2,34.6250,2,106.81,2,135.92,2,38.67,2,0.00,2,2.72,2,2341.5,6,2409.0,6,7.5113,2,-999,9,-999,9
49UF20140206,KS14-02,4126,1,1,21960,2,20140305,0319,9.5187,149.9905,4947,2022.0,2001,2.1690,34.6358,2,34.6356,2,111.11,2,139.95,2,38.57,2,0.00,2,2.70,2,2343.3,2,2412.1,2,7.5195,6,-999,9,-999,9
49UF20140206,KS14-02,4128,1,-999,0,2,20140305,1628,9.5005,148.0025,2845,0.0,0,27.8311,34.1164,2,-999.,9,198.62,2,0.93,2,0.00,2,0.00,2,0.07,2,-999.,9,-999.,9,-999.,9,-999,9,-999,9
49UF20140206,KS14-02,4128,1,36,21995,2,20140305,1648,9.5005,148.0025,2845,11.8,12,27.8364,34.1161,2,-999.,9,198.08,2,0.91,2,0.00,2,0.00,2,0.07,2,-999.,9,-999.,9,-999.,9,-999,9,-999,9
49UF20140206,KS14-02,4128,1,35,22087,2,20140305,1647,9.5005,148.0025,2845,26.1,26,27.8408,34.1233,2,-999.,9,197.98,2,0.95,2,0.00,2,0.00,2,0.07,2,-999.,9,-999.,9,-999.,9,-999,9,-999,9
49UF20140206,KS14-02,4128,1,34,22666,2,20140305,1645,9.5005,148.0025,2845,50.7,50,27.8585,34.4989,2,-999.,9,198.61,2,0.91,2,0.00,2,0.00,2,0.08,2,-999.,9,-999.,9,-999.,9,-999,9,-999,9
49UF20140206,KS14-02,4128,1,33,21992,2,20140305,1644,9.5005,148.0025,2845,75.8,75,26.2069,35.2314,2,-999.,9,193.09,6,1.02,6,0.00,6,0.00,6,0.10,6,-999.,9,-999.,9,-999.,9,-999,9,-999,9
49UF20140206,KS14-02,4128,1,32,21991,2,20140305,1640,9.5005,148.0025,2845,99.7,99,24.2558,35.1627,2,-999.,9,179.63,2,1.71,2,1.08,2,0.28,2,0.23,2,-999.,9,-999.,9,-999.,9,-999,9,-999,9
49UF20140206,KS14-02,4128,1,31,21990,2,20140305,1639,9.5005,148.0025,2845,124.7,124,21.7551,35.0122,2,-999.,9,168.48,2,2.96,2,3.92,2,0.07,2,0.41,2,-999.,9,-999.,9,-999.,9,-999,9,-999,9
49UF20140206,KS14-02,4128,1,27,21986,2,20140305,1638,9.5005,148.0025,2845,149.7,149,18.5580,34.7982,2,-999.,9,151.32,2,6.54,2,8.38,2,0.01,2,0.70,2,-999.,9,-999.,9,-999.,9,-999,9,-999,9
49UF20140206,KS14-02,4128,1,26,21985,2,20140305,1638,9.5005,148.0025,2845,149.7,149,18.5580,34.7982,2,-999.,9,151.55,2,6.58,2,8.46,2,0.02,2,0.71,2,-999.,9,-999.,9,-999.,9,-999,9,-999,9
49UF20140206,KS14-02,4128,1,25,21984,2,20140305,1636,9.5005,148.0025,2845,202.3,201,13.7427,34.4707,2,-999.,9,133.32,2,15.03,2,16.09,2,0.00,2,1.23,2,-999.,9,-999.,9,-999.,9,-999,9,-999,9
49UF20140206,KS14-02,4128,1,21,21980,2,20140305,1634,9.5005,148.0025,2845,251.3,250,11.4519,34.4576,2,-999.,9,87.20,2,26.75,2,25.39,2,0.00,2,1.87,2,-999.,9,-999.,9,-999.,9,-999,9,-999,9
49UF20140206,KS14-02,4128,1,20,21979,2,20140305,1633,9.5005,148.0025,2845,303.0,301,9.6751,34.5318,2,-999.,9,67.31,2,35.43,2,30.82,2,0.00,2,2.21,2,-999.,9,-999.,9,-999.,9,-999,9,-999,9
49UF20140206,KS14-02,4128,1,19,21978,2,20140305,1630,9.5005,148.0025,2845,404.0,401,8.1525,34.5442,2,-999.,9,72.13,2,43.61,2,33.43,2,0.00,2,2.38,2,-999.,9,-999.,9,-999.,9,-999,9,-999,9
49UF20140206,KS14-02,4128,1,15,21974,2,20140305,1627,9.5005,148.0025,2845,505.1,502,7.3150,34.5374,2,-999.,9,76.10,2,50.13,2,34.73,2,0.00,2,2.47,2,-999.,9,-999.,9,-999.,9,-999,9,-999,9
49UF20140206,KS14-02,4128,1,14,21973,2,20140305,1625,9.5005,148.0025,2845,604.3,600,6.6525,34.5297,2,-999.,9,76.77,2,57.78,2,35.79,2,0.00,2,2.55,2,-999.,9,-999.,9,-999.,9,-999,9,-999,9
49UF20140206,KS14-02,4128,1,13,21972,2,20140305,1622,9.5005,148.0025,2845,707.0,702,6.4105,34.5258,2,-999.,9,79.24,2,60.69,2,36.02,2,0.00,2,2.57,2,-999.,9,-999.,9,-999.,9,-999,9,-999,9
49UF20140206,KS14-02,4128,1,12,21994,2,20140305,1620,9.5005,148.0025,2845,805.7,800,5.5803,34.5333,2,-999.,9,79.29,2,73.16,2,37.40,2,0.00,2,2.67,2,-999.,9,-999.,9,-999.,9,-999,9,-999,9
49UF20140206,KS14-02,4128,1,11,21970,2,20140305,1617,9.5005,148.0025,2845,906.5,899,4.9903,34.5382,2,-999.,9,81.62,2,83.14,2,38.04,2,0.00,2,2.71,2,-999.,9,-999.,9,-999.,9,-999,9,-999,9
49UF20140206,KS14-02,4128,1,10,21969,2,20140305,1615,9.5005,148.0025,2845,1008.7,1001,4.5910,34.5485,2,-999.,9,83.50,6,90.60,6,38.27,2,0.00,6,2.73,6,-999.,9,-999.,9,-999.,9,-999,9,-999,9
49UF20140206,KS14-02,4128,1,6,21965,2,20140305,1610,9.5005,148.0025,2845,1210.6,1200,3.6913,34.5697,2,-999.,9,86.70,2,109.36,2,38.97,2,0.00,2,2.78,2,-999.,9,-999.,9,-999.,9,-999,9,-999,9
49UF20140206,KS14-02,4128,1,5,21964,2,20140305,1606,9.5005,148.0025,2845,1415.1,1402,3.0845,34.5913,2,-999.,9,95.08,2,121.16,2,38.73,2,0.00,2,2.76,2,-999.,9,-999.,9,-999.,9,-999,9,-999,9
49UF20140206,KS14-02,4128,1,4,21963,2,20140305,1606,9.5005,148.0025,2845,1415.1,1402,3.0845,34.5913,2,-999.,9,95.19,2,121.08,2,38.71,2,0.00,2,2.76,2,-999.,9,-999.,9,-999.,9,-999,9,-999,9
49UF20140206,KS14-02,4128,1,3,22079,2,20140305,1602,9.5005,148.0025,2845,1616.2,1601,2.6403,34.6105,2,-999.,9,102.61,2,130.08,2,38.55,2,0.00,2,2.73,2,-999.,9,-999.,9,-999.,9,-999,9,-999,9
49UF20140206,KS14-02,4128,1,2,21961,2,20140305,1557,9.5005,148.0025,2845,1817.9,1800,2.4058,34.6224,2,-999.,9,107.75,2,134.32,2,38.45,2,0.00,2,2.71,2,-999.,9,-999.,9,-999.,9,-999,9,-999,9
49UF20140206,KS14-02,4128,1,1,21960,2,20140305,1553,9.5005,148.0025,2845,2022.6,2002,2.2440,34.6309,2,-999.,9,111.21,2,138.00,2,38.33,2,0.00,2,2.70,2,-999.,9,-999.,9,-999.,9,-999,9,-999,9
49UF20140206,KS14-02,4131,1,-999,0,2,20140306,1100,9.4915,144.9975,4268,0.0,0,28.5645,34.0237,2,34.0226,2,196.85,2,1.11,2,0.00,2,0.00,2,0.05,2,1899.2,2,2230.7,2,8.1196,2,-999,9,-999,9
49UF20140206,KS14-02,4131,1,36,21995,2,20140306,1129,9.4915,144.9975,4268,10.4,10,28.5709,34.0219,2,34.0198,2,196.31,2,1.10,2,0.00,2,0.00,2,0.04,2,1900.4,2,2232.5,2,8.1272,2,-999,9,-999,9
49UF20140206,KS14-02,4131,1,35,22087,2,20140306,1127,9.4915,144.9975,4268,27.8,28,28.5739,34.0222,2,-999.0000,9,196.51,2,1.11,2,0.00,2,0.00,2,0.04,2,1901.7,2,2231.0,2,8.1368,2,-999,9,-999,9
49UF20140206,KS14-02,4131,1,34,22666,2,20140306,1126,9.4915,144.9975,4268,50.0,50,28.5404,34.0181,2,-999.0000,9,196.50,6,1.10,6,0.00,6,0.00,6,0.04,6,1902.8,2,2232.2,2,8.1226,2,-999,9,-999,9
49UF20140206,KS14-02,4131,1,33,21992,2,20140306,1124,9.4915,144.9975,4268,76.9,76,28.5398,34.0196,2,-999.0000,9,196.36,2,1.10,2,0.00,2,0.00,2,0.04,2,1901.8,2,2232.8,2,8.1260,2,-999,9,-999,9
49UF20140206,KS14-02,4131,1,32,21991,2,20140306,1123,9.4915,144.9975,4268,100.3,100,27.6123,34.8373,2,34.8423,4,194.99,2,1.35,2,0.00,2,0.00,2,0.14,2,1975.3,2,2290.6,2,8.0899,2,-999,9,-999,9
49UF20140206,KS14-02,4131,1,31,21990,2,20140306,1123,9.4915,144.9975,4268,100.3,100,27.6123,34.8373,2,34.8403,2,194.96,2,1.37,2,0.00,2,0.00,2,0.14,2,1972.3,2,2290.5,2,8.0778,2,-999,9,-999,9
49UF20140206,KS14-02,4131,1,27,21986,2,20140306,1121,9.4915,144.9975,4268,126.4,126,23.8735,35.0029,2,-999.0000,9,173.48,2,2.62,2,2.20,2,0.26,2,0.32,2,2033.4,2,2304.0,2,7.9990,2,-999,9,-999,9
49UF20140206,KS14-02,4131,1,26,21985,2,20140306,1119,9.4915,144.9975,4268,151.4,150,19.5421,34.8219,2,-999.0000,9,151.86,2,6.86,2,8.04,2,0.02,2,0.69,2,2093.0,2,2295.1,2,7.8904,2,-999,9,-999,9
49UF20140206,KS14-02,4131,1,25,21984,2,20140306,1115,9.4915,144.9975,4268,202.5,201,15.2528,34.6041,2,34.6082,4,131.56,2,13.58,2,14.59,2,0.01,2,1.13,2,2129.5,2,2284.2,2,7.7713,2,-999,9,-999,9
49UF20140206,KS14-02,4131,1,21,21980,2,20140306,1113,9.4915,144.9975,4268,249.8,248,11.1294,34.4958,2,-999.0000,9,83.56,2,28.19,2,26.24,2,0.00,2,1.92,2,2200.7,6,2289.9,6,7.5917,2,-999,9,-999,9
49UF20140206,KS14-02,4131,1,20,21979,2,20140306,1111,9.4915,144.9975,4268,303.1,301,9.4581,34.5000,2,-999.0000,9,70.90,2,36.62,2,30.67,2,0.00,2,2.20,2,2238.0,2,2298.3,2,7.5371,6,-999,9,-999,9
49UF20140206,KS14-02,4131,1,19,21978,2,20140306,1108,9.4915,144.9975,4268,401.7,399,7.8675,34.5173,2,34.5166,2,79.40,2,45.88,2,33.40,2,0.00,2,2.36,2,2245.5,2,2309.1,2,7.5258,2,-999,9,-999,9
49UF20140206,KS14-02,4131,1,15,21974,2,20140306,1106,9.4915,144.9975,4268,502.2,499,7.2968,34.5170,2,-999.0000,9,86.09,2,49.53,2,33.74,2,0.00,2,2.40,2,2251.4,2,2313.7,2,7.5238,2,-999,9,-999,9
49UF20140206,KS14-02,4131,1,14,21973,2,20140306,1103,9.4915,144.9975,4268,604.7,600,6.7047,34.5178,2,34.5176,2,87.70,2,55.50,2,34.77,2,0.00,2,2.47,2,2256.2,2,2323.0,2,7.5223,2,-999,9,-999,9
49UF20140206,KS14-02,4131,1,13,21972,2,20140306,1100,9.4915,144.9975,4268,706.0,701,6.2047,34.5189,2,-999.0000,9,86.96,2,62.36,2,35.84,2,0.00,2,2.54,2,2268.6,2,2329.2,2,7.5145,2,-999,9,-999,9
49UF20140206,KS14-02,4131,1,12,21994,2,20140306,1057,9.4915,144.9975,4268,807.2,801,5.6404,34.5323,2,34.5317,2,80.55,2,71.97,2,37.39,2,0.00,2,2.66,2,2283.8,2,2339.9,2,7.4967,2,-999,9,-999,9
49UF20140206,KS14-02,4131,1,11,21970,2,20140306,1054,9.4915,144.9975,4268,909.6,902,5.0867,34.5396,2,-999.0000,9,81.77,6,81.49,6,37.93,6,0.00,6,2.70,6,2292.4,2,2350.9,2,7.4935,2,-999,9,-999,9
49UF20140206,KS14-02,4131,1,10,21969,2,20140306,1051,9.4915,144.9975,4268,1011.1,1003,4.5732,34.5471,2,34.5470,2,85.55,2,90.93,2,38.17,2,0.00,2,2.72,2,2304.2,2,2360.8,2,7.4937,2,-999,9,-999,9
49UF20140206,KS14-02,4131,1,6,21965,2,20140306,1046,9.4915,144.9975,4268,1213.8,1203,3.7303,34.5683,2,34.5676,2,88.56,2,108.38,2,38.96,2,0.00,2,2.76,2,2322.0,2,2378.4,2,7.4949,2,-999,9,-999,9
49UF20140206,KS14-02,4131,1,5,21964,2,20140306,1046,9.4915,144.9975,4268,1213.8,1203,3.7303,34.5683,2,34.5684,2,88.40,2,108.51,2,38.83,2,0.00,2,2.76,2,2332.5,3,2379.1,2,7.4915,2,-999,9,-999,9
49UF20140206,KS14-02,4131,1,4,21963,2,20140306,1042,9.4915,144.9975,4268,1415.6,1403,3.1581,34.5866,2,34.5885,2,93.82,2,120.48,2,39.07,2,0.00,2,2.76,2,2332.8,6,2390.3,6,7.4990,2,-999,9,-999,9
49UF20140206,KS14-02,4131,1,3,22079,2,20140306,1037,9.4915,144.9975,4268,1620.4,1605,2.7132,34.6048,2,34.6040,2,100.43,2,129.02,2,38.94,2,0.00,2,2.74,2,2338.6,2,2398.9,2,7.5068,6,-999,9,-999,9
49UF20140206,KS14-02,4131,1,2,21961,2,20140306,1032,9.4915,144.9975,4268,1822.8,1805,2.3581,34.6246,2,34.6252,2,109.93,2,134.82,2,38.43,2,0.00,2,2.70,2,2341.1,2,2404.7,2,7.5226,2,-999,9,-999,9
49UF20140206,KS14-02,4131,1,1,21960,2,20140306,1028,9.4915,144.9975,4268,2022.0,2001,2.1521,34.6349,2,34.6361,2,113.88,2,139.40,2,38.32,2,0.00,2,2.69,2,2343.2,2,2412.3,2,7.5245,2,-999,9,-999,9