BOTTLE,20171117JMAGEMD
EXPOCODE,SECT_ID,STNNBR,CASTNO,SAMPNO,BTLNBR,BTLNBR_FLAG_W,DATE,TIME,LATITUDE,LONGITUDE,DEPTH,CTDPRS,CTDDEP,CTDTMP,CTDSAL,CTDSAL_FLAG_W,SALNTY,SALNTY_FLAG_W,OXYGEN,OXYGEN_FLAG_W,SILCAT,SILCAT_FLAG_W,NO2+NO3,NO2+NO3_FLAG_W,NITRIT,NITRIT_FLAG_W,PHSPHT,PHSPHT_FLAG_W,TCARBN,TCARBN_FLAG_W,ALKALI,ALKALI_FLAG_W,PH_TOT,PH_TOT_FLAG_W,CFC-11,CFC-11_FLAG_W,CFC-12,CFC-12_FLAG_W
,,,,,,,UTC,UTC,,,METER,DBAR,METERS,ITS-90,PSS-78,,PSS-78,,UMOL/KG,,UMOL/KG,,UMOL/KG,,UMOL/KG,,UMOL/KG,,UMOL/KG,,UMOL/KG,,@25DEG-C,,PMOL/KG,,PMOL/KG,
49UF20140206,KS14-02,4097,1,-999,0,2,20140216,2115,23.9993,164.9765,6046,0.0,0,24.1526,35.3629,2,35.3692,2,209.06,2,1.07,2,0.00,2,0.00,2,0.02,2,1992.7,2,2322.8,2,8.0900,2,-999,9,-999,9
49UF20140206,KS14-02,4097,1,36,21995,2,20140216,2153,23.9993,164.9765,6046,10.0,10,24.1534,35.3628,2,35.3642,2,208.65,2,1.05,2,0.00,2,0.00,2,0.00,2,1992.1,2,2322.2,2,8.0883,2,-999,9,-999,9
49UF20140206,KS14-02,4097,1,35,22087,2,20140216,2151,23.9993,164.9765,6046,25.9,26,24.1555,35.3629,2,35.3622,6,208.67,6,1.05,6,0.00,6,0.00,6,0.00,6,1993.6,2,2320.8,2,8.0984,2,-999,9,-999,9
49UF20140206,KS14-02,4097,1,34,22666,2,20140216,2150,23.9993,164.9765,6046,50.3,50,24.1380,35.3660,2,35.3671,2,208.10,2,1.06,2,0.00,2,0.00,2,0.00,2,1993.5,2,2322.2,2,8.1327,3,-999,9,-999,9
49UF20140206,KS14-02,4097,1,33,21992,2,20140216,2148,23.9993,164.9765,6046,76.8,76,24.0416,35.3809,2,35.3812,2,208.95,2,1.06,2,0.00,2,0.00,2,0.00,2,1993.6,2,2322.5,2,8.0932,2,-999,9,-999,9
49UF20140206,KS14-02,4097,1,32,21991,2,20140216,2147,23.9993,164.9765,6046,101.3,101,23.9921,35.3729,2,35.3732,2,208.88,2,1.08,2,0.00,2,0.00,2,0.00,2,1995.8,6,2322.7,6,8.0867,2,-999,9,-999,9
49UF20140206,KS14-02,4097,1,31,21990,2,20140216,2145,23.9993,164.9765,6046,125.4,125,23.9081,35.3693,2,35.3712,2,209.07,2,1.08,2,0.00,2,0.00,2,0.00,2,1997.7,2,2322.2,2,8.0861,6,-999,9,-999,9
49UF20140206,KS14-02,4097,1,30,21989,2,20140216,2144,23.9993,164.9765,6046,151.3,150,23.6556,35.3320,2,35.3256,4,205.31,2,1.21,2,0.04,2,0.03,2,0.01,2,2001.1,2,2320.0,2,8.0673,2,-999,9,-999,9
49UF20140206,KS14-02,4097,1,29,21988,2,20140216,2128,23.9993,164.9765,6046,200.5,199,20.0280,34.9734,2,34.9590,4,194.39,2,2.44,2,1.64,2,0.01,2,0.15,2,2039.7,2,2295.4,2,7.9772,2,-999,9,-999,9
49UF20140206,KS14-02,4097,1,28,21987,2,20140216,2126,23.9993,164.9765,6046,251.7,250,17.1622,34.7133,2,34.7137,2,198.73,2,4.35,2,5.03,2,0.00,2,0.34,2,2047.5,2,2278.3,2,7.9346,2,-999,9,-999,9
49UF20140206,KS14-02,4097,1,27,21986,2,20140216,2124,23.9993,164.9765,6046,305.2,303,16.1196,34.6324,2,34.6366,4,211.57,2,5.42,2,5.64,2,0.00,2,0.37,2,2046.5,2,2274.7,2,7.9324,2,-999,9,-999,9
49UF20140206,KS14-02,4097,1,26,21985,2,20140216,2120,23.9993,164.9765,6046,406.7,404,13.3630,34.4036,2,34.4096,4,196.28,2,11.35,2,10.90,2,0.00,2,0.75,2,2085.4,2,2268.6,2,7.8344,2,-999,9,-999,9
49UF20140206,KS14-02,4097,1,25,21984,2,20140216,2117,23.9993,164.9765,6046,501.0,497,10.6861,34.2180,2,34.2219,2,182.84,2,20.86,2,17.02,2,0.00,2,1.19,2,2125.1,2,2266.4,2,7.7361,2,-999,9,-999,9
49UF20140206,KS14-02,4097,1,24,21983,2,20140216,2114,23.9993,164.9765,6046,605.7,601,7.7981,34.0951,2,34.0998,4,135.03,2,43.07,2,26.83,2,0.00,2,1.90,2,2197.2,6,2279.9,6,7.5832,2,-999,9,-999,9
49UF20140206,KS14-02,4097,1,23,22095,2,20140216,2111,23.9993,164.9765,6046,705.3,700,5.7703,34.0938,2,34.0954,2,90.12,2,69.65,2,34.59,2,0.00,2,2.47,2,2264.5,2,2300.6,2,7.4599,6,-999,9,-999,9
49UF20140206,KS14-02,4097,1,22,22665,2,20140216,2108,23.9993,164.9765,6046,804.7,798,4.8184,34.1848,2,34.1868,2,53.91,2,90.72,2,39.46,2,0.00,2,2.82,2,2310.1,2,2325.6,2,7.3881,2,-999,9,-999,9
49UF20140206,KS14-02,4097,1,21,21980,2,20140216,2106,23.9993,164.9765,6046,906.8,899,4.2115,34.2778,2,34.2782,6,40.36,6,106.00,6,41.29,6,0.00,6,2.96,6,2338.7,2,2343.2,2,7.3680,2,-999,9,-999,9
49UF20140206,KS14-02,4097,1,20,21979,2,20140216,2103,23.9993,164.9765,6046,1009.6,1001,3.9471,34.3620,2,34.3629,2,41.28,2,112.86,2,41.71,2,0.00,2,2.99,2,2343.2,2,2357.7,2,7.3775,2,-999,9,-999,9
49UF20140206,KS14-02,4097,1,19,21978,2,20140216,2059,23.9993,164.9765,6046,1211.6,1200,3.2707,34.4706,2,34.4695,2,52.48,2,127.68,2,41.51,2,0.00,2,2.96,2,2360.4,2,2378.5,2,7.4063,2,-999,9,-999,9
49UF20140206,KS14-02,4097,1,18,21977,2,20140216,2054,23.9993,164.9765,6046,1415.1,1401,2.8040,34.5316,2,34.5342,2,68.25,2,136.27,2,40.81,2,0.00,2,2.89,2,2356.9,2,2392.6,2,7.4355,2,-999,9,-999,9
49UF20140206,KS14-02,4097,1,17,23679,2,20140216,2050,23.9993,164.9765,6046,1616.5,1600,2.4173,34.5699,2,34.5733,2,80.41,2,143.33,2,40.40,2,0.00,2,2.84,2,2358.4,2,2401.4,2,7.4563,2,-999,9,-999,9
49UF20140206,KS14-02,4097,1,16,21975,2,20140216,2046,23.9993,164.9765,6046,1818.8,1799,2.1693,34.5952,2,34.5953,2,90.77,2,147.11,2,39.88,2,0.00,2,2.80,2,2356.8,2,2406.5,2,7.4706,2,-999,9,-999,9
49UF20140206,KS14-02,4097,1,15,21974,2,20140216,2042,23.9993,164.9765,6046,2023.1,2001,2.0044,34.6161,2,34.6183,2,100.34,2,148.57,2,39.10,2,0.00,2,2.75,2,2355.2,2,2411.1,2,7.4921,2,-999,9,-999,9
49UF20140206,KS14-02,4097,1,14,21973,2,20140216,2036,23.9993,164.9765,6046,2277.2,2250,1.8575,34.6350,2,34.6352,2,110.26,2,150.27,2,38.76,2,0.00,2,2.70,2,2350.6,6,2414.6,6,7.5143,2,-999,9,-999,9
49UF20140206,KS14-02,4097,1,13,21972,2,20140216,2031,23.9993,164.9765,6046,2530.3,2499,1.7348,34.6484,2,34.6500,2,118.74,2,151.04,2,38.27,2,0.00,2,2.66,2,2345.2,2,2417.3,2,7.5243,6,-999,9,-999,9
49UF20140206,KS14-02,4097,1,12,21994,2,20140216,2026,23.9993,164.9765,6046,2784.4,2748,1.6609,34.6569,2,34.6564,2,125.05,2,151.15,2,37.65,2,0.00,2,2.62,2,2345.4,2,2417.4,2,7.5406,2,-999,9,-999,9
49UF20140206,KS14-02,4097,1,11,21970,2,20140216,2021,23.9993,164.9765,6046,3039.4,2998,1.6051,34.6636,2,34.6650,2,131.12,2,150.68,2,37.48,2,0.00,2,2.59,2,2344.3,2,2417.9,2,7.5447,2,-999,9,-999,9
49UF20140206,KS14-02,4097,1,10,21969,2,20140216,2011,23.9993,164.9765,6046,3550.2,3498,1.5378,34.6732,2,34.6729,6,140.42,6,148.88,6,36.76,6,0.00,6,2.54,6,2343.4,2,2417.4,2,7.5603,2,-999,9,-999,9
49UF20140206,KS14-02,4097,1,9,21968,2,20140216,2001,23.9993,164.9765,6046,4063.9,4000,1.4913,34.6817,2,34.6834,2,151.00,2,146.04,2,36.01,2,0.00,2,2.48,2,2331.2,2,2415.7,2,7.5787,2,-999,9,-999,9
49UF20140206,KS14-02,4097,1,8,21982,2,20140216,1956,23.9993,164.9765,6046,4319.1,4248,1.4798,34.6849,2,34.6856,2,155.63,2,144.19,2,35.62,2,0.00,2,2.46,2,2326.7,2,2413.2,2,7.5814,2,-999,9,-999,9
49UF20140206,KS14-02,4097,1,7,21966,2,20140216,1951,23.9993,164.9765,6046,4576.7,4499,1.4704,34.6883,2,34.6894,2,159.65,2,141.55,2,35.44,2,0.00,2,2.44,2,2319.0,2,2410.2,2,7.5888,2,-999,9,-999,9
49UF20140206,KS14-02,4097,1,6,21965,2,20140216,1945,23.9993,164.9765,6046,4832.4,4748,1.4642,34.6913,2,34.6916,2,166.03,2,138.40,2,34.96,2,0.00,2,2.40,2,2312.0,2,2409.6,2,7.5940,2,-999,9,-999,9
49UF20140206,KS14-02,4097,1,5,21964,2,20140216,1939,23.9993,164.9765,6046,5091.9,5000,1.4627,34.6938,2,34.6920,6,169.30,4,135.93,6,34.68,6,0.00,6,2.39,6,2309.1,2,2403.3,2,7.5996,2,-999,9,-999,9
49UF20140206,KS14-02,4097,1,4,21963,2,20140216,1933,23.9993,164.9765,6046,5351.4,5252,1.4707,34.6956,2,34.6959,2,174.26,2,133.44,2,34.35,2,0.00,2,2.36,2,2305.4,2,2401.1,2,7.6017,2,-999,9,-999,9
49UF20140206,KS14-02,4097,1,3,22079,2,20140216,1927,23.9993,164.9765,6046,5607.4,5500,1.4865,34.6967,2,34.6989,2,176.54,2,132.00,2,34.11,2,0.00,2,2.36,2,2300.1,2,2398.1,2,7.6043,2,-999,9,-999,9
49UF20140206,KS14-02,4097,1,2,21961,2,20140216,1921,23.9993,164.9765,6046,5865.2,5749,1.5136,34.6973,2,34.6965,2,177.63,2,131.47,2,34.07,2,0.00,2,2.35,2,2300.5,2,2396.9,2,7.6081,2,-999,9,-999,9
49UF20140206,KS14-02,4097,1,1,21960,2,20140216,1915,23.9993,164.9765,6046,6128.8,6004,1.5463,34.6976,2,34.6987,2,177.67,2,131.42,2,34.12,2,0.00,2,2.35,2,2301.4,2,2396.2,2,7.6061,2,-999,9,-999,9
49UF20140206,KS14-02,4099,1,-999,0,2,20140217,1030,22.0005,164.9935,5486,0.0,0,24.5075,35.4075,2,-999.,9,208.71,2,1.02,2,0.01,2,0.00,2,0.02,2,-999.,9,-999.,9,-999.,9,-999,9,-999,9
49UF20140206,KS14-02,4099,1,36,21995,2,20140217,1053,22.0005,164.9935,5486,10.4,10,24.5050,35.4075,2,-999.,9,208.43,6,1.01,6,0.01,6,0.00,6,0.01,6,-999.,9,-999.,9,-999.,9,-999,9,-999,9
49UF20140206,KS14-02,4099,1,35,22087,2,20140217,1051,22.0005,164.9935,5486,25.3,25,24.2847,35.4079,2,-999.,9,208.91,2,1.03,2,0.00,2,0.00,2,0.01,2,-999.,9,-999.,9,-999.,9,-999,9,-999,9
49UF20140206,KS14-02,4099,1,34,22666,2,20140217,1050,22.0005,164.9935,5486,50.5,50,24.2701,35.4084,2,-999.,9,208.82,2,1.06,2,0.00,2,0.00,2,0.01,2,-999.,9,-999.,9,-999.,9,-999,9,-999,9
49UF20140206,KS14-02,4099,1,33,21992,2,20140217,1048,22.0005,164.9935,5486,76.4,76,24.2694,35.4079,2,-999.,9,208.89,2,1.02,2,0.00,2,0.00,2,0.01,2,-999.,9,-999.,9,-999.,9,-999,9,-999,9
49UF20140206,KS14-02,4099,1,32,21991,3,20140217,1046,22.0005,164.9935,5486,100.8,100,24.2652,35.4066,2,-999.,9,209.03,2,1.07,2,0.00,2,0.00,2,0.01,2,-999.,9,-999.,9,-999.,9,-999,9,-999,9
49UF20140206,KS14-02,4099,1,31,21990,2,20140217,1045,22.0005,164.9935,5486,127.0,126,24.0539,35.3718,2,-999.,9,208.18,2,1.07,2,0.02,2,0.00,2,0.01,2,-999.,9,-999.,9,-999.,9,-999,9,-999,9
49UF20140206,KS14-02,4099,1,27,21986,2,20140217,1040,22.0005,164.9935,5486,152.4,151,22.0456,35.1534,2,-999.,9,194.66,2,1.74,2,0.63,2,0.08,2,0.10,2,-999.,9,-999.,9,-999.,9,-999,9,-999,9
49UF20140206,KS14-02,4099,1,26,21985,2,20140217,1039,22.0005,164.9935,5486,201.1,200,19.1203,34.8914,2,-999.,9,184.29,2,3.35,2,3.72,2,0.01,2,0.32,2,-999.,9,-999.,9,-999.,9,-999,9,-999,9
49UF20140206,KS14-02,4099,1,25,21984,2,20140217,1037,22.0005,164.9935,5486,250.8,249,16.4716,34.6147,2,-999.,9,171.32,2,6.49,2,7.96,2,0.00,2,0.64,2,-999.,9,-999.,9,-999.,9,-999,9,-999,9
49UF20140206,KS14-02,4099,1,21,21980,2,20140217,1034,22.0005,164.9935,5486,303.9,302,14.3346,34.4350,2,-999.,9,173.29,2,9.86,2,10.89,2,0.00,2,0.83,2,-999.,9,-999.,9,-999.,9,-999,9,-999,9
49UF20140206,KS14-02,4099,1,20,21979,2,20140217,1031,22.0005,164.9935,5486,403.7,401,11.3080,34.2583,2,-999.,9,183.04,2,18.03,2,15.50,2,0.00,2,1.12,2,-999.,9,-999.,9,-999.,9,-999,9,-999,9
49UF20140206,KS14-02,4099,1,19,21978,2,20140217,1028,22.0005,164.9935,5486,504.4,501,8.7787,34.1272,2,-999.,9,150.35,2,34.05,2,23.41,2,0.00,2,1.68,2,-999.,9,-999.,9,-999.,9,-999,9,-999,9
49UF20140206,KS14-02,4099,1,15,21974,2,20140217,1025,22.0005,164.9935,5486,603.3,599,6.5496,34.1125,2,-999.,9,92.74,2,59.88,2,32.61,2,0.00,2,2.36,2,-999.,9,-999.,9,-999.,9,-999,9,-999,9
49UF20140206,KS14-02,4099,1,14,21973,3,20140217,1025,22.0005,164.9935,5486,603.3,599,6.5496,34.1125,2,-999.,9,92.89,2,59.88,2,32.59,2,0.00,2,2.36,2,-999.,9,-999.,9,-999.,9,-999,9,-999,9
49UF20140206,KS14-02,4099,1,13,21972,2,20140217,1023,22.0005,164.9935,5486,705.1,700,5.3439,34.1586,2,-999.,9,65.11,2,80.25,2,37.40,2,0.00,2,2.70,2,-999.,9,-999.,9,-999.,9,-999,9,-999,9
49UF20140206,KS14-02,4099,1,12,21994,2,20140217,1020,22.0005,164.9935,5486,809.0,802,4.7641,34.2602,2,-999.,9,45.87,6,93.70,6,40.02,6,0.00,6,2.90,6,-999.,9,-999.,9,-999.,9,-999,9,-999,9
49UF20140206,KS14-02,4099,1,11,21970,2,20140217,1018,22.0005,164.9935,5486,908.8,901,4.1742,34.3482,2,-999.,9,43.44,2,107.19,2,41.05,2,0.00,2,2.96,2,-999.,9,-999.,9,-999.,9,-999,9,-999,9
49UF20140206,KS14-02,4099,1,10,21969,2,20140217,1015,22.0005,164.9935,5486,1009.0,1000,3.7327,34.4182,2,-999.,9,47.97,2,117.10,2,41.14,2,0.00,2,2.97,2,-999.,9,-999.,9,-999.,9,-999,9,-999,9
49UF20140206,KS14-02,4099,1,6,21965,2,20140217,1010,22.0005,164.9935,5486,1213.7,1203,3.2208,34.5063,2,-999.,9,65.27,2,126.91,2,40.47,2,0.00,2,2.90,2,-999.,9,-999.,9,-999.,9,-999,9,-999,9
49UF20140206,KS14-02,4099,1,5,21964,2,20140217,1010,22.0005,164.9935,5486,1213.7,1203,3.2208,34.5063,2,-999.,9,65.62,2,126.84,2,40.51,4,0.00,2,2.90,2,-999.,9,-999.,9,-999.,9,-999,9,-999,9
49UF20140206,KS14-02,4099,1,4,21963,2,20140217,1005,22.0005,164.9935,5486,1415.8,1402,2.8032,34.5534,2,-999.,9,79.60,2,133.64,2,39.64,3,0.00,2,2.84,2,-999.,9,-999.,9,-999.,9,-999,9,-999,9
49UF20140206,KS14-02,4099,1,3,22079,2,20140217,1001,22.0005,164.9935,5486,1616.5,1600,2.3881,34.5826,2,-999.,9,88.85,2,141.47,2,39.54,2,0.00,2,2.80,2,-999.,9,-999.,9,-999.,9,-999,9,-999,9
49UF20140206,KS14-02,4099,1,2,21961,2,20140217,0957,22.0005,164.9935,5486,1819.5,1800,2.1445,34.6082,2,-999.,9,98.73,2,145.20,2,39.14,2,0.00,2,2.76,2,-999.,9,-999.,9,-999.,9,-999,9,-999,9
49UF20140206,KS14-02,4099,1,1,21960,2,20140217,0952,22.0005,164.9935,5486,2023.2,2001,1.9648,34.6227,2,-999.,9,105.86,2,148.18,2,38.58,2,0.00,2,2.73,2,-999.,9,-999.,9,-999.,9,-999,9,-999,9
49UF20140206,KS14-02,4101,1,-999,0,2,20140217,0124,19.9983,164.9718,5345,0.0,0,25.2923,35.3947,2,35.3969,2,207.45,2,0.99,2,0.03,2,0.00,2,0.02,2,1990.5,2,2324.5,2,8.0953,2,-999,9,-999,9
49UF20140206,KS14-02,4101,1,36,21995,2,20140217,0205,19.9983,164.9718,5345,10.7,11,25.1221,35.3926,2,35.3932,2,207.50,2,0.97,2,0.01,2,0.00,2,0.01,2,1991.9,2,2323.5,2,8.0962,2,-999,9,-999,9
49UF20140206,KS14-02,4101,1,35,22087,2,20140217,0204,19.9983,164.9718,5345,25.3,25,25.0567,35.3945,2,35.3953,2,207.61,2,0.96,2,0.03,2,0.00,2,0.01,2,1986.8,2,2322.1,2,8.0992,2,-999,9,-999,9
49UF20140206,KS14-02,4101,1,34,22666,2,20140217,0202,19.9983,164.9718,5345,51.8,51,25.0326,35.3923,2,35.3920,2,207.51,2,0.96,2,0.02,2,0.00,2,0.01,2,1989.5,2,2322.8,2,8.1027,2,-999,9,-999,9
49UF20140206,KS14-02,4101,1,33,21992,2,20140217,0201,19.9983,164.9718,5345,76.5,76,25.0104,35.3874,2,35.3888,2,207.86,2,0.94,2,0.00,2,0.00,2,0.01,2,1990.6,2,2322.6,2,8.0927,2,-999,9,-999,9
49UF20140206,KS14-02,4101,1,32,21991,2,20140217,0159,19.9983,164.9718,5345,102.0,101,24.5445,35.3553,2,35.3589,2,206.14,2,1.08,2,0.01,2,0.00,2,0.02,2,2004.9,2,2321.4,2,8.0828,2,-999,9,-999,9
49UF20140206,KS14-02,4101,1,31,21990,2,20140217,0158,19.9983,164.9718,5345,127.1,126,22.0609,35.1683,2,35.1678,2,203.80,2,1.67,2,0.15,2,0.04,2,0.06,2,2026.6,2,2309.4,2,8.0235,2,-999,9,-999,9
49UF20140206,KS14-02,4101,1,30,21989,2,20140217,0156,19.9983,164.9718,5345,152.0,151,20.6743,35.0209,2,35.0403,4,207.80,2,1.97,2,0.25,2,0.09,2,0.06,2,2027.8,2,2301.4,2,8.0059,2,-999,9,-999,9
49UF20140206,KS14-02,4101,1,29,21988,2,20140217,0143,19.9983,164.9718,5345,200.5,199,17.3796,34.7212,2,34.7212,2,204.90,2,3.73,2,4.09,2,0.01,2,0.29,2,2040.2,2,2278.8,2,7.9445,2,-999,9,-999,9
49UF20140206,KS14-02,4101,1,28,21987,2,20140217,0141,19.9983,164.9718,5345,252.2,251,16.2629,34.6350,2,34.6349,6,204.52,6,5.41,6,6.00,6,0.00,6,0.41,6,2051.0,2,2275.0,2,7.9182,2,-999,9,-999,9
49UF20140206,KS14-02,4101,1,27,21986,2,20140217,0139,19.9983,164.9718,5345,303.1,301,14.6517,34.5023,2,34.5027,2,198.55,2,8.52,2,8.76,2,0.00,2,0.61,2,2073.3,6,2270.7,6,7.8685,2,-999,9,-999,9
49UF20140206,KS14-02,4101,1,26,21985,2,20140217,0136,19.9983,164.9718,5345,404.3,401,10.5669,34.2117,2,34.2138,2,171.41,2,21.75,2,17.98,2,0.00,2,1.29,2,2134.9,2,2267.6,2,7.7185,6,-999,9,-999,9
49UF20140206,KS14-02,4101,1,25,21984,2,20140217,0133,19.9983,164.9718,5345,502.3,499,8.1418,34.1144,2,34.1179,2,133.62,2,40.39,2,26.33,2,0.00,2,1.88,2,2191.9,2,2278.2,2,7.5884,2,-999,9,-999,9
49UF20140206,KS14-02,4101,1,24,21983,2,20140217,0130,19.9983,164.9718,5345,605.0,600,6.1080,34.1371,2,34.1380,2,79.34,2,67.03,2,34.96,2,0.00,2,2.52,2,2263.1,2,2302.4,2,7.4519,2,-999,9,-999,9
49UF20140206,KS14-02,4101,1,23,22095,2,20140217,0127,19.9983,164.9718,5345,705.9,700,5.2811,34.2724,2,34.2737,6,52.30,6,83.67,6,38.98,6,0.00,6,2.82,6,2304.2,2,2326.8,2,7.4068,2,-999,9,-999,9
49UF20140206,KS14-02,4101,1,22,22665,2,20140217,0124,19.9983,164.9718,5345,805.5,799,4.7388,34.3825,2,34.3842,2,52.81,2,94.67,2,39.91,2,0.00,2,2.87,2,2319.0,2,2344.6,2,7.4154,2,-999,9,-999,9
49UF20140206,KS14-02,4101,1,21,21980,2,20140217,0122,19.9983,164.9718,5345,911.3,904,4.3435,34.4508,2,34.4522,2,60.98,2,102.11,2,40.10,2,0.00,2,2.86,2,2324.8,6,2358.3,6,7.4332,2,-999,9,-999,9
49UF20140206,KS14-02,4101,1,20,21979,2,20140217,0119,19.9983,164.9718,5345,1009.0,1000,3.9190,34.4888,2,34.4895,2,64.88,2,110.54,2,40.30,2,0.00,2,2.88,2,2332.9,2,2370.0,2,7.4392,6,-999,9,-999,9
49UF20140206,KS14-02,4101,1,19,21978,2,20140217,0114,19.9983,164.9718,5345,1211.0,1200,3.3453,34.5310,2,34.5308,2,73.13,2,121.92,2,40.36,2,0.00,2,2.86,2,2340.7,2,2383.5,2,7.4528,2,-999,9,-999,9
49UF20140206,KS14-02,4101,1,18,21977,2,20140217,0110,19.9983,164.9718,5345,1415.9,1402,2.8108,34.5637,2,34.5643,2,81.67,2,132.65,2,40.06,2,0.00,2,2.84,2,2349.9,2,2393.7,2,7.4628,2,-999,9,-999,9
49UF20140206,KS14-02,4101,1,17,23679,2,20140217,0105,19.9983,164.9718,5345,1616.7,1601,2.4124,34.5897,2,34.5897,2,90.69,2,140.27,2,39.53,2,0.00,2,2.80,2,2352.2,2,2403.3,2,7.4766,2,-999,9,-999,9
49UF20140206,KS14-02,4101,1,16,21975,2,20140217,0101,19.9983,164.9718,5345,1819.9,1801,2.1790,34.6099,2,34.6095,2,98.78,2,144.31,2,39.36,2,0.00,2,2.77,2,2353.5,2,2407.8,2,7.4939,2,-999,9,-999,9
49UF20140206,KS14-02,4101,1,15,21974,2,20140217,0056,19.9983,164.9718,5345,2025.1,2003,1.9951,34.6260,2,34.6254,2,105.73,2,147.16,2,38.86,2,0.00,2,2.73,2,2349.9,2,2412.4,2,7.5002,2,-999,9,-999,9
49UF20140206,KS14-02,4101,1,14,21973,2,20140217,0051,19.9983,164.9718,5345,2277.6,2251,1.8102,34.6427,2,34.6422,2,115.68,2,149.83,2,38.67,2,0.00,2,2.69,2,2350.8,2,2416.3,2,7.5197,2,-999,9,-999,9
49UF20140206,KS14-02,4101,1,13,21972,2,20140217,0046,19.9983,164.9718,5345,2531.4,2501,1.6974,34.6542,2,34.6545,2,123.02,2,150.79,2,37.89,2,0.00,2,2.65,2,2347.2,2,2417.8,2,7.5322,2,-999,9,-999,9
49UF20140206,KS14-02,4101,1,12,21994,2,20140217,0040,19.9983,164.9718,5345,2786.6,2751,1.6269,34.6615,2,34.6601,2,129.10,6,150.97,6,37.55,6,0.00,6,2.62,6,2343.2,2,2418.9,2,7.5409,2,-999,9,-999,9
49UF20140206,KS14-02,4101,1,11,21970,2,20140217,0035,19.9983,164.9718,5345,3042.4,3002,1.5779,34.6674,2,34.6675,2,134.27,2,150.45,2,37.12,2,0.00,2,2.59,2,2340.4,2,2418.4,2,7.5520,2,-999,9,-999,9
49UF20140206,KS14-02,4101,1,10,21969,2,20140217,0029,19.9983,164.9718,5345,3294.2,3249,1.5365,34.6725,2,34.6695,4,139.74,2,148.83,2,36.75,2,0.00,2,2.56,2,2335.3,2,2417.2,2,7.5588,2,-999,9,-999,9
49UF20140206,KS14-02,4101,1,9,21968,2,20140217,0024,19.9983,164.9718,5345,3553.1,3502,1.4978,34.6779,2,34.6763,2,146.39,2,147.16,2,36.24,2,0.00,2,2.53,2,2332.0,6,2417.6,6,7.5680,2,-999,9,-999,9
49UF20140206,KS14-02,4101,1,8,21982,2,20140217,0019,19.9983,164.9718,5345,3808.1,3751,1.4671,34.6822,2,34.6821,2,152.13,2,145.31,2,35.91,2,0.00,2,2.49,2,2327.1,2,2413.7,2,7.5778,6,-999,9,-999,9
49UF20140206,KS14-02,4101,1,7,21966,2,20140217,0013,19.9983,164.9718,5345,4064.2,4001,1.4428,34.6862,2,34.6857,2,157.93,2,142.29,2,35.63,2,0.00,2,2.46,2,2320.1,2,2410.9,2,7.5870,2,-999,9,-999,9
49UF20140206,KS14-02,4101,1,6,21965,2,20140217,0007,19.9983,164.9718,5345,4320.7,4251,1.4261,34.6895,2,34.6889,2,163.96,2,139.44,2,35.15,2,0.00,2,2.43,2,2314.5,2,2408.1,2,7.5927,2,-999,9,-999,9
49UF20140206,KS14-02,4101,1,5,21964,2,20140217,0002,19.9983,164.9718,5345,4577.9,4502,1.4272,34.6917,2,34.6909,2,166.42,4,137.93,4,34.83,4,0.00,4,2.41,4,2319.9,3,2406.5,2,7.5936,2,-999,9,-999,9
49UF20140206,KS14-02,4101,1,4,21963,2,20140217,2356,19.9983,164.9718,5345,4835.1,4752,1.4294,34.6940,2,34.6946,6,172.05,6,134.79,6,34.71,6,0.00,6,2.39,6,2310.1,2,2402.2,2,7.5966,2,-999,9,-999,9
49UF20140206,KS14-02,4101,1,3,22079,2,20140217,2350,19.9983,164.9718,5345,5091.6,5001,1.4252,34.6965,2,34.6963,2,175.29,2,132.61,2,34.38,2,0.00,2,2.37,2,2304.3,2,2399.1,2,7.6042,2,-999,9,-999,9
49UF20140206,KS14-02,4101,1,2,21961,2,20140217,2344,19.9983,164.9718,5345,5349.5,5251,1.4467,34.6971,2,34.6980,2,177.61,2,131.36,2,34.24,2,0.00,2,2.35,2,2301.4,2,2397.6,2,7.6055,2,-999,9,-999,9
49UF20140206,KS14-02,4101,1,1,21960,2,20140217,2340,19.9983,164.9718,5345,5447.8,5347,1.4508,34.6974,2,34.6982,2,178.83,2,131.04,2,34.15,2,0.00,2,2.35,2,2301.1,2,2397.3,2,7.6045,2,-999,9,-999,9