BOTTLE,20171117JMAGEMD
EXPOCODE,SECT_ID,STNNBR,CASTNO,SAMPNO,BTLNBR,BTLNBR_FLAG_W,DATE,TIME,LATITUDE,LONGITUDE,DEPTH,CTDPRS,CTDDEP,CTDTMP,CTDSAL,CTDSAL_FLAG_W,SALNTY,SALNTY_FLAG_W,OXYGEN,OXYGEN_FLAG_W,SILCAT,SILCAT_FLAG_W,NO2+NO3,NO2+NO3_FLAG_W,NITRIT,NITRIT_FLAG_W,PHSPHT,PHSPHT_FLAG_W,TCARBN,TCARBN_FLAG_W,ALKALI,ALKALI_FLAG_W,PH_TOT,PH_TOT_FLAG_W,CFC-11,CFC-11_FLAG_W,CFC-12,CFC-12_FLAG_W
,,,,,,,UTC,UTC,,,METER,DBAR,METERS,ITS-90,PSS-78,,PSS-78,,UMOL/KG,,UMOL/KG,,UMOL/KG,,UMOL/KG,,UMOL/KG,,UMOL/KG,,UMOL/KG,,@25DEG-C,,PMOL/KG,,PMOL/KG,
49UF20140206,KS14-02,4132,1,-999,0,2,20140306,1832,9.4058,143.9952,4631,0.0,0,28.6054,34.0385,2,-999.,9,196.44,2,1.09,2,0.00,2,0.00,2,0.03,2,-999.,9,-999.,9,-999.,9,-999,9,-999,9
49UF20140206,KS14-02,4132,1,36,21995,4,20140306,1853,9.4058,143.9952,4631,13.3,13,28.6113,34.0391,2,-999.,9,-999.00,9,-999.00,9,-999.00,9,-999.00,9,-999.000,9,-999.,9,-999.,9,-999.,9,-999,9,-999,9
49UF20140206,KS14-02,4132,1,35,22087,2,20140306,1852,9.4058,143.9952,4631,27.2,27,28.6232,34.0431,2,-999.,9,196.50,6,1.08,6,0.00,6,0.00,6,0.03,6,-999.,9,-999.,9,-999.,9,-999,9,-999,9
49UF20140206,KS14-02,4132,1,34,22666,2,20140306,1851,9.4058,143.9952,4631,52.7,52,28.6322,34.1534,2,-999.,9,197.31,4,1.03,2,0.00,2,0.00,2,0.04,2,-999.,9,-999.,9,-999.,9,-999,9,-999,9
49UF20140206,KS14-02,4132,1,33,21992,2,20140306,1849,9.4058,143.9952,4631,76.9,76,28.6511,34.1728,2,-999.,9,196.69,2,1.04,2,0.00,2,0.00,2,0.05,2,-999.,9,-999.,9,-999.,9,-999,9,-999,9
49UF20140206,KS14-02,4132,1,32,21991,3,20140306,1849,9.4058,143.9952,4631,76.9,76,28.6511,34.1728,2,-999.,9,196.36,2,1.05,2,0.00,2,0.00,2,0.05,2,-999.,9,-999.,9,-999.,9,-999,9,-999,9
49UF20140206,KS14-02,4132,1,31,21990,2,20140306,1848,9.4058,143.9952,4631,103.5,103,27.2628,35.1070,2,-999.,9,201.72,2,1.05,2,0.00,2,0.00,2,0.11,2,-999.,9,-999.,9,-999.,9,-999,9,-999,9
49UF20140206,KS14-02,4132,1,27,21986,2,20140306,1846,9.4058,143.9952,4631,124.6,124,23.6227,35.0133,2,-999.,9,172.35,2,2.65,2,2.43,2,0.23,2,0.34,2,-999.,9,-999.,9,-999.,9,-999,9,-999,9
49UF20140206,KS14-02,4132,1,26,21985,2,20140306,1845,9.4058,143.9952,4631,151.1,150,20.7786,34.9210,2,-999.,9,162.97,2,4.28,2,5.22,2,0.03,2,0.50,2,-999.,9,-999.,9,-999.,9,-999,9,-999,9
49UF20140206,KS14-02,4132,1,25,21984,2,20140306,1841,9.4058,143.9952,4631,200.7,199,14.2773,34.5603,2,-999.,9,118.88,2,17.00,2,17.71,2,0.01,2,1.34,2,-999.,9,-999.,9,-999.,9,-999,9,-999,9
49UF20140206,KS14-02,4132,1,21,21980,2,20140306,1839,9.4058,143.9952,4631,254.5,253,10.7933,34.4644,2,-999.,9,87.24,2,29.44,2,26.44,2,0.00,2,1.93,2,-999.,9,-999.,9,-999.,9,-999,9,-999,9
49UF20140206,KS14-02,4132,1,20,21979,2,20140306,1837,9.4058,143.9952,4631,303.4,301,9.0877,34.4996,2,-999.,9,73.78,2,39.02,2,31.21,2,0.00,2,2.23,2,-999.,9,-999.,9,-999.,9,-999,9,-999,9
49UF20140206,KS14-02,4132,1,19,21978,2,20140306,1834,9.4058,143.9952,4631,405.7,403,7.8886,34.5166,2,-999.,9,80.45,2,45.64,2,33.11,2,0.00,2,2.35,2,-999.,9,-999.,9,-999.,9,-999,9,-999,9
49UF20140206,KS14-02,4132,1,15,21974,2,20140306,1831,9.4058,143.9952,4631,503.9,500,7.1304,34.5170,2,-999.,9,88.44,2,50.72,2,33.93,2,0.00,2,2.41,2,-999.,9,-999.,9,-999.,9,-999,9,-999,9
49UF20140206,KS14-02,4132,1,14,21973,2,20140306,1828,9.4058,143.9952,4631,608.9,605,6.5735,34.5210,2,-999.,9,85.90,2,57.31,2,35.12,2,0.00,2,2.51,2,-999.,9,-999.,9,-999.,9,-999,9,-999,9
49UF20140206,KS14-02,4132,1,13,21972,2,20140306,1826,9.4058,143.9952,4631,705.3,700,6.1168,34.5296,2,-999.,9,80.78,2,64.32,2,36.56,2,0.00,2,2.60,2,-999.,9,-999.,9,-999.,9,-999,9,-999,9
49UF20140206,KS14-02,4132,1,12,21994,2,20140306,1823,9.4058,143.9952,4631,806.9,801,5.5798,34.5327,2,-999.,9,80.79,6,72.84,6,37.38,6,0.00,6,2.66,6,-999.,9,-999.,9,-999.,9,-999,9,-999,9
49UF20140206,KS14-02,4132,1,11,21970,2,20140306,1821,9.4058,143.9952,4631,906.7,900,4.9650,34.5412,2,-999.,9,84.86,2,82.96,2,37.88,2,0.00,2,2.70,2,-999.,9,-999.,9,-999.,9,-999,9,-999,9
49UF20140206,KS14-02,4132,1,10,21969,2,20140306,1821,9.4058,143.9952,4631,906.7,900,4.9650,34.5412,2,-999.,9,84.75,2,82.92,2,37.78,2,0.00,2,2.69,2,-999.,9,-999.,9,-999.,9,-999,9,-999,9
49UF20140206,KS14-02,4132,1,6,21965,2,20140306,1818,9.4058,143.9952,4631,1010.2,1002,4.5066,34.5498,2,-999.,9,85.63,2,92.08,2,38.30,2,0.00,2,2.73,2,-999.,9,-999.,9,-999.,9,-999,9,-999,9
49UF20140206,KS14-02,4132,1,5,21964,2,20140306,1813,9.4058,143.9952,4631,1212.3,1202,3.7374,34.5684,2,-999.,9,89.80,2,107.52,2,38.71,2,0.00,2,2.75,2,-999.,9,-999.,9,-999.,9,-999,9,-999,9
49UF20140206,KS14-02,4132,1,4,21963,2,20140306,1809,9.4058,143.9952,4631,1413.9,1401,3.1872,34.5886,2,-999.,9,95.94,2,118.66,2,38.76,2,0.00,2,2.75,2,-999.,9,-999.,9,-999.,9,-999,9,-999,9
49UF20140206,KS14-02,4132,1,3,22079,2,20140306,1805,9.4058,143.9952,4631,1615.3,1600,2.7331,34.6049,2,-999.,9,101.85,2,128.04,2,38.64,2,0.00,2,2.73,2,-999.,9,-999.,9,-999.,9,-999,9,-999,9
49UF20140206,KS14-02,4132,1,2,21961,3,20140306,1800,9.4058,143.9952,4631,1818.7,1801,2.3969,34.6192,2,-999.,9,107.49,2,134.88,2,38.54,2,0.00,2,2.71,2,-999.,9,-999.,9,-999.,9,-999,9,-999,9
49UF20140206,KS14-02,4132,1,1,21960,2,20140306,1755,9.4058,143.9952,4631,2024.1,2003,2.1134,34.6346,2,-999.,9,115.26,2,139.92,2,38.14,2,0.00,2,2.68,2,-999.,9,-999.,9,-999.,9,-999,9,-999,9
49UF20140206,KS14-02,4133,1,-999,0,2,20140307,0200,9.3042,142.9997,3983,0.0,0,28.6967,34.1669,2,-999.0000,9,196.75,2,1.06,2,0.00,2,0.00,2,0.05,2,-999.,9,-999.,9,-999.,9,-999,9,-999,9
49UF20140206,KS14-02,4133,1,36,21995,2,20140307,0223,9.3042,142.9997,3983,11.6,12,28.5735,34.1623,2,34.1607,6,196.71,6,1.04,6,0.00,6,0.00,6,0.04,6,-999.,9,-999.,9,-999.,9,-999,9,-999,9
49UF20140206,KS14-02,4133,1,35,22087,2,20140307,0221,9.3042,142.9997,3983,25.9,26,28.5582,34.1622,2,-999.0000,9,196.52,2,1.03,2,0.00,2,0.00,2,0.04,2,-999.,9,-999.,9,-999.,9,-999,9,-999,9
49UF20140206,KS14-02,4133,1,34,22666,2,20140307,0219,9.3042,142.9997,3983,54.2,54,28.5640,34.1672,2,-999.0000,9,196.71,2,1.01,2,0.00,2,0.00,2,0.04,2,-999.,9,-999.,9,-999.,9,-999,9,-999,9
49UF20140206,KS14-02,4133,1,33,21992,2,20140307,0219,9.3042,142.9997,3983,54.2,54,28.5640,34.1672,2,-999.0000,9,196.78,2,1.04,2,0.00,2,0.00,2,0.05,2,-999.,9,-999.,9,-999.,9,-999,9,-999,9
49UF20140206,KS14-02,4133,1,32,21991,2,20140307,0218,9.3042,142.9997,3983,76.6,76,27.8628,35.0373,2,-999.0000,9,202.10,2,0.99,2,0.00,2,0.00,2,0.10,2,-999.,9,-999.,9,-999.,9,-999,9,-999,9
49UF20140206,KS14-02,4133,1,31,21990,2,20140307,0216,9.3042,142.9997,3983,100.8,100,25.5754,34.9893,2,34.9944,4,185.32,2,1.86,2,0.41,4,0.08,2,0.21,2,-999.,9,-999.,9,-999.,9,-999,9,-999,9
49UF20140206,KS14-02,4133,1,27,21986,2,20140307,0214,9.3042,142.9997,3983,127.7,127,21.4720,34.9869,2,-999.0000,9,167.87,2,3.26,2,3.69,2,0.09,2,0.41,2,-999.,9,-999.,9,-999.,9,-999,9,-999,9
49UF20140206,KS14-02,4133,1,26,21985,2,20140307,0213,9.3042,142.9997,3983,150.3,149,18.0529,34.7649,2,-999.0000,9,153.43,2,7.16,2,8.73,2,0.01,2,0.72,2,-999.,9,-999.,9,-999.,9,-999,9,-999,9
49UF20140206,KS14-02,4133,1,25,21984,2,20140307,0208,9.3042,142.9997,3983,201.3,200,11.9003,34.3903,2,34.3871,4,119.61,2,21.80,2,20.72,2,0.00,2,1.55,2,-999.,9,-999.,9,-999.,9,-999,9,-999,9
49UF20140206,KS14-02,4133,1,21,21980,2,20140307,0207,9.3042,142.9997,3983,252.3,251,9.7619,34.3836,2,-999.0000,9,80.73,2,33.71,2,28.20,2,0.00,2,2.09,2,-999.,9,-999.,9,-999.,9,-999,9,-999,9
49UF20140206,KS14-02,4133,1,20,21979,2,20140307,0204,9.3042,142.9997,3983,304.4,302,9.0553,34.4977,2,-999.0000,9,75.15,2,39.30,2,31.14,2,0.00,2,2.23,2,-999.,9,-999.,9,-999.,9,-999,9,-999,9
49UF20140206,KS14-02,4133,1,19,21978,2,20140307,0202,9.3042,142.9997,3983,403.8,401,7.7669,34.5056,2,34.5073,2,81.02,2,46.99,2,33.20,2,0.00,2,2.36,2,-999.,9,-999.,9,-999.,9,-999,9,-999,9
49UF20140206,KS14-02,4133,1,15,21974,2,20140307,0159,9.3042,142.9997,3983,503.1,500,7.1174,34.5201,2,-999.0000,9,89.58,2,50.48,2,33.87,2,0.00,2,2.41,2,-999.,9,-999.,9,-999.,9,-999,9,-999,9
49UF20140206,KS14-02,4133,1,14,21973,2,20140307,0156,9.3042,142.9997,3983,606.4,602,6.6071,34.5163,2,34.5150,2,87.66,2,57.11,2,34.96,2,0.00,2,2.49,2,-999.,9,-999.,9,-999.,9,-999,9,-999,9
49UF20140206,KS14-02,4133,1,13,21972,2,20140307,0153,9.3042,142.9997,3983,705.7,701,6.0625,34.5207,2,-999.0000,9,86.46,6,64.47,6,36.04,6,0.00,6,2.57,6,-999.,9,-999.,9,-999.,9,-999,9,-999,9
49UF20140206,KS14-02,4133,1,12,21994,2,20140307,0151,9.3042,142.9997,3983,804.6,799,5.5047,34.5241,2,34.5236,2,85.20,2,74.10,2,36.96,2,0.00,2,2.64,2,-999.,9,-999.,9,-999.,9,-999,9,-999,9
49UF20140206,KS14-02,4133,1,11,21970,2,20140307,0151,9.3042,142.9997,3983,804.6,799,5.5047,34.5241,2,34.5239,2,85.15,2,74.11,2,36.90,2,0.00,2,2.64,2,-999.,9,-999.,9,-999.,9,-999,9,-999,9
49UF20140206,KS14-02,4133,1,10,21969,2,20140307,0148,9.3042,142.9997,3983,907.7,901,5.0498,34.5357,2,-999.0000,9,84.54,2,82.32,2,37.67,2,0.00,2,2.69,2,-999.,9,-999.,9,-999.,9,-999,9,-999,9
49UF20140206,KS14-02,4133,1,6,21965,2,20140307,0145,9.3042,142.9997,3983,1008.5,1000,4.5990,34.5485,2,34.5500,2,84.97,2,90.45,2,38.22,2,0.00,2,2.73,2,-999.,9,-999.,9,-999.,9,-999,9,-999,9
49UF20140206,KS14-02,4133,1,5,21964,2,20140307,0140,9.3042,142.9997,3983,1210.3,1200,3.7438,34.5704,2,34.5712,6,89.97,2,107.66,2,38.73,2,0.00,2,2.76,2,-999.,9,-999.,9,-999.,9,-999,9,-999,9
49UF20140206,KS14-02,4133,1,4,21963,2,20140307,0136,9.3042,142.9997,3983,1413.0,1400,3.1725,34.5897,2,34.5922,2,96.44,2,119.32,2,38.70,2,0.00,2,2.75,2,-999.,9,-999.,9,-999.,9,-999,9,-999,9
49UF20140206,KS14-02,4133,1,3,22079,2,20140307,0132,9.3042,142.9997,3983,1613.5,1598,2.7521,34.6041,2,34.6037,2,100.92,2,128.20,2,38.64,2,0.00,2,2.74,2,-999.,9,-999.,9,-999.,9,-999,9,-999,9
49UF20140206,KS14-02,4133,1,2,21961,2,20140307,0127,9.3042,142.9997,3983,1817.3,1799,2.3658,34.6236,2,34.6239,2,109.81,2,134.60,2,38.30,2,0.00,2,2.70,2,-999.,9,-999.,9,-999.,9,-999,9,-999,9
49UF20140206,KS14-02,4133,1,1,21960,2,20140307,0122,9.3042,142.9997,3983,2023.3,2002,2.1086,34.6369,2,34.6382,6,117.20,2,139.13,2,37.94,2,0.00,2,2.67,2,-999.,9,-999.,9,-999.,9,-999,9,-999,9
49UF20140206,KS14-02,4134,1,-999,0,2,20140307,0927,9.2177,141.9913,2762,0.0,0,28.7981,34.0224,2,-999.,9,196.57,2,1.12,2,0.00,2,0.00,2,0.02,2,-999.,9,-999.,9,-999.,9,-999,9,-999,9
49UF20140206,KS14-02,4134,1,36,21995,4,20140307,0942,9.2177,141.9913,2762,11.6,12,28.8000,34.0222,2,-999.,9,-999.00,9,-999.00,9,-999.00,9,-999.00,9,-999.000,9,-999.,9,-999.,9,-999.,9,-999,9,-999,9
49UF20140206,KS14-02,4134,1,35,22087,2,20140307,0941,9.2177,141.9913,2762,27.5,27,28.7901,34.0206,2,-999.,9,196.70,6,1.13,6,0.00,6,0.00,6,0.02,6,-999.,9,-999.,9,-999.,9,-999,9,-999,9
49UF20140206,KS14-02,4134,1,34,22666,2,20140307,0940,9.2177,141.9913,2762,51.8,52,28.7644,34.0202,2,-999.,9,196.98,2,1.12,2,0.00,2,0.00,2,0.01,2,-999.,9,-999.,9,-999.,9,-999,9,-999,9
49UF20140206,KS14-02,4134,1,33,21992,2,20140307,0938,9.2177,141.9913,2762,78.4,78,28.7562,34.0195,2,-999.,9,196.97,2,1.11,2,0.00,2,0.00,2,0.02,2,-999.,9,-999.,9,-999.,9,-999,9,-999,9
49UF20140206,KS14-02,4134,1,32,21991,2,20140307,0937,9.2177,141.9913,2762,105.5,105,27.4283,35.0439,2,-999.,9,199.96,2,1.11,2,0.00,2,0.00,2,0.11,2,-999.,9,-999.,9,-999.,9,-999,9,-999,9
49UF20140206,KS14-02,4134,1,31,21990,2,20140307,0936,9.2177,141.9913,2762,129.1,128,22.3315,35.0372,2,-999.,9,170.79,2,2.65,2,2.82,2,0.09,2,0.34,2,-999.,9,-999.,9,-999.,9,-999,9,-999,9
49UF20140206,KS14-02,4134,1,27,21986,2,20140307,0934,9.2177,141.9913,2762,156.5,156,19.4823,34.8589,2,-999.,9,160.77,2,5.08,2,6.37,2,0.02,2,0.57,2,-999.,9,-999.,9,-999.,9,-999,9,-999,9
49UF20140206,KS14-02,4134,1,26,21985,2,20140307,0931,9.2177,141.9913,2762,203.3,202,15.0560,34.5441,2,-999.,9,161.19,2,10.08,2,11.25,2,0.01,2,0.86,2,-999.,9,-999.,9,-999.,9,-999,9,-999,9
49UF20140206,KS14-02,4134,1,25,21984,2,20140307,0929,9.2177,141.9913,2762,253.1,252,11.1480,34.3677,2,-999.,9,115.41,2,24.00,2,22.19,2,0.00,2,1.65,2,-999.,9,-999.,9,-999.,9,-999,9,-999,9
49UF20140206,KS14-02,4134,1,21,21980,2,20140307,0927,9.2177,141.9913,2762,305.7,304,9.7385,34.5189,2,-999.,9,74.16,2,35.37,2,30.18,2,0.00,2,2.15,2,-999.,9,-999.,9,-999.,9,-999,9,-999,9
49UF20140206,KS14-02,4134,1,20,21979,2,20140307,0924,9.2177,141.9913,2762,405.2,403,8.4798,34.5388,2,-999.,9,75.26,2,41.40,2,32.53,2,0.00,2,2.31,2,-999.,9,-999.,9,-999.,9,-999,9,-999,9
49UF20140206,KS14-02,4134,1,19,21978,2,20140307,0921,9.2177,141.9913,2762,507.8,504,7.5130,34.5123,2,-999.,9,86.98,2,47.69,2,33.36,2,0.00,2,2.36,2,-999.,9,-999.,9,-999.,9,-999,9,-999,9
49UF20140206,KS14-02,4134,1,15,21974,4,20140307,0918,9.2177,141.9913,2762,606.4,602,6.8606,34.5173,2,-999.,9,-999.00,9,-999.00,9,-999.00,9,-999.00,9,-999.000,9,-999.,9,-999.,9,-999.,9,-999,9,-999,9
49UF20140206,KS14-02,4134,1,14,21973,2,20140307,0914,9.2177,141.9913,2762,708.5,703,6.3265,34.5188,2,-999.,9,88.37,6,60.32,6,35.61,6,0.00,6,2.52,6,-999.,9,-999.,9,-999.,9,-999,9,-999,9
49UF20140206,KS14-02,4134,1,13,21972,2,20140307,0912,9.2177,141.9913,2762,811.4,805,5.7013,34.5235,2,-999.,9,86.45,2,70.29,2,36.77,2,0.00,2,2.61,2,-999.,9,-999.,9,-999.,9,-999,9,-999,9
49UF20140206,KS14-02,4134,1,12,21994,2,20140307,0909,9.2177,141.9913,2762,910.6,903,5.2005,34.5350,2,-999.,9,84.19,2,86.16,2,37.98,2,0.00,2,2.70,2,-999.,9,-999.,9,-999.,9,-999,9,-999,9
49UF20140206,KS14-02,4134,1,11,21970,2,20140307,0906,9.2177,141.9913,2762,1010.2,1002,4.7719,34.5399,2,-999.,9,84.00,2,88.01,2,38.19,2,0.00,2,2.71,2,-999.,9,-999.,9,-999.,9,-999,9,-999,9
49UF20140206,KS14-02,4134,1,10,21969,2,20140307,0906,9.2177,141.9913,2762,1010.2,1002,4.7719,34.5399,2,-999.,9,84.10,2,87.90,2,38.17,2,0.00,2,2.71,2,-999.,9,-999.,9,-999.,9,-999,9,-999,9
49UF20140206,KS14-02,4134,1,6,21965,2,20140307,0902,9.2177,141.9913,2762,1213.7,1203,3.8352,34.5648,2,-999.,9,87.83,2,105.93,2,38.88,2,0.00,2,2.76,2,-999.,9,-999.,9,-999.,9,-999,9,-999,9
49UF20140206,KS14-02,4134,1,5,21964,2,20140307,0857,9.2177,141.9913,2762,1414.8,1402,3.0935,34.5896,2,-999.,9,95.71,2,121.53,2,38.90,2,0.00,2,2.75,2,-999.,9,-999.,9,-999.,9,-999,9,-999,9
49UF20140206,KS14-02,4134,1,4,21963,2,20140307,0853,9.2177,141.9913,2762,1615.9,1601,2.7671,34.6021,2,-999.,9,100.16,2,128.06,2,38.77,2,0.00,2,2.74,2,-999.,9,-999.,9,-999.,9,-999,9,-999,9
49UF20140206,KS14-02,4134,1,3,22079,2,20140307,0849,9.2177,141.9913,2762,1820.6,1802,2.4130,34.6209,2,-999.,9,108.85,2,134.14,2,38.58,2,0.00,2,2.71,2,-999.,9,-999.,9,-999.,9,-999,9,-999,9
49UF20140206,KS14-02,4134,1,2,21961,2,20140307,0845,9.2177,141.9913,2762,2023.0,2002,2.2174,34.6311,2,-999.,9,114.04,2,137.73,2,38.33,2,0.00,2,2.68,2,-999.,9,-999.,9,-999.,9,-999,9,-999,9
49UF20140206,KS14-02,4134,1,1,21960,2,20140307,0845,9.2177,141.9913,2762,2023.0,2002,2.2174,34.6311,2,-999.,9,113.95,2,137.94,2,38.38,2,0.00,2,2.68,2,-999.,9,-999.,9,-999.,9,-999,9,-999,9
49UF20140206,KS14-02,4136,1,-999,0,2,20140307,2135,8.9912,139.9927,3717,0.0,0,28.9202,33.9961,2,33.9974,2,195.52,2,1.30,2,0.00,2,0.00,2,0.02,2,1898.7,2,2236.9,2,8.1302,2,-999,9,-999,9
49UF20140206,KS14-02,4136,1,33,21992,2,20140307,2204,8.9912,139.9927,3717,11.6,12,28.9173,33.9956,2,33.9937,2,195.29,2,1.30,2,0.00,2,0.00,2,0.01,2,1901.8,2,2236.7,2,8.1303,2,-999,9,-999,9
49UF20140206,KS14-02,4136,1,32,21991,2,20140307,2203,8.9912,139.9927,3717,27.0,27,28.9267,33.9958,2,-999.0000,9,195.52,2,1.31,2,0.00,2,0.00,2,0.01,2,1900.4,2,2236.4,2,8.1332,2,-999,9,-999,9
49UF20140206,KS14-02,4136,1,31,21990,2,20140307,2202,8.9912,139.9927,3717,51.5,51,28.9267,33.9937,2,33.9942,6,195.34,6,1.29,6,0.00,6,0.00,6,0.01,6,1901.6,2,2236.5,2,8.1326,2,-999,9,-999,9
49UF20140206,KS14-02,4136,1,30,21989,2,20140307,2200,8.9912,139.9927,3717,77.7,77,28.1243,34.4697,2,-999.0000,9,192.51,2,1.43,2,0.00,2,0.00,2,0.09,2,1947.8,2,2266.1,2,8.0901,2,-999,9,-999,9
49UF20140206,KS14-02,4136,1,29,21988,2,20140307,2159,8.9912,139.9927,3717,103.7,103,25.4509,34.9918,2,34.9783,4,184.07,2,1.87,2,0.17,2,0.05,2,0.19,2,2008.9,2,2304.1,2,8.0394,2,-999,9,-999,9
49UF20140206,KS14-02,4136,1,28,21987,2,20140307,2157,8.9912,139.9927,3717,129.5,129,22.7538,34.9417,2,-999.0000,9,163.91,2,3.75,2,3.87,2,0.14,2,0.43,2,2051.3,2,2303.4,2,7.9652,2,-999,9,-999,9
49UF20140206,KS14-02,4136,1,27,21986,2,20140307,2156,8.9912,139.9927,3717,153.0,152,21.1864,34.8345,2,-999.0000,9,149.06,2,6.05,2,7.16,2,0.03,2,0.64,2,2073.2,2,2293.5,2,7.9113,2,-999,9,-999,9
49UF20140206,KS14-02,4136,1,26,21985,2,20140307,2152,8.9912,139.9927,3717,204.0,203,14.2228,34.5951,2,34.6006,4,108.06,2,18.42,2,19.17,2,0.01,2,1.43,2,2156.4,2,2288.8,2,7.7055,2,-999,9,-999,9
49UF20140206,KS14-02,4136,1,25,21984,2,20140307,2150,8.9912,139.9927,3717,254.2,253,11.0741,34.5185,2,-999.0000,9,81.60,2,29.02,2,26.64,2,0.00,2,1.94,2,2206.1,2,2292.3,2,7.5824,2,-999,9,-999,9
49UF20140206,KS14-02,4136,1,21,21980,2,20140307,2148,8.9912,139.9927,3717,304.8,303,9.5895,34.5308,2,-999.0000,9,73.87,2,36.00,2,30.50,2,0.00,2,2.18,2,2226.2,2,2299.7,2,7.5446,2,-999,9,-999,9
49UF20140206,KS14-02,4136,1,20,21979,2,20140307,2145,8.9912,139.9927,3717,406.8,404,8.2493,34.5157,2,34.5148,2,79.19,2,43.01,2,32.33,2,0.00,2,2.31,2,2238.5,2,2308.6,2,7.5278,2,-999,9,-999,9
49UF20140206,KS14-02,4136,1,19,21978,2,20140307,2143,8.9912,139.9927,3717,506.1,503,7.5352,34.5163,2,34.5169,6,87.63,6,47.41,6,33.16,6,0.00,6,2.36,6,2244.2,2,2312.5,2,7.5291,2,-999,9,-999,9
49UF20140206,KS14-02,4136,1,18,21977,2,20140307,2140,8.9912,139.9927,3717,607.0,603,7.0112,34.5180,2,34.5191,2,89.45,2,51.80,2,34.20,2,0.00,2,2.43,2,2252.1,2,2319.4,2,7.5258,2,-999,9,-999,9
49UF20140206,KS14-02,4136,1,17,23679,2,20140307,2137,8.9912,139.9927,3717,706.8,702,6.4082,34.5191,2,-999.0000,9,89.19,2,58.88,2,35.29,2,0.00,2,2.51,2,2264.3,6,2326.2,2,7.5142,2,-999,9,-999,9
49UF20140206,KS14-02,4136,1,16,21975,2,20140307,2134,8.9912,139.9927,3717,809.0,803,5.7784,34.5200,2,34.5202,2,87.03,2,68.91,2,36.54,2,0.00,2,2.60,2,2277.8,2,2335.6,2,7.5052,6,-999,9,-999,9
49UF20140206,KS14-02,4136,1,12,21994,2,20140307,2132,8.9912,139.9927,3717,910.4,903,5.3487,34.5297,2,34.5293,2,84.56,2,76.70,2,37.30,2,0.00,2,2.66,2,2290.3,2,2343.9,2,7.4965,2,-999,9,-999,9
49UF20140206,KS14-02,4136,1,11,21970,2,20140307,2132,8.9912,139.9927,3717,910.4,903,5.3487,34.5297,2,34.5288,2,84.47,2,76.59,2,37.32,2,0.00,2,2.66,2,2289.0,2,2345.9,2,7.4965,2,-999,9,-999,9
49UF20140206,KS14-02,4136,1,10,21969,2,20140307,2129,8.9912,139.9927,3717,1008.8,1001,4.9307,34.5345,2,34.5357,2,84.23,2,84.83,2,37.89,2,0.00,2,2.70,2,2299.1,2,2351.8,2,7.4930,2,-999,9,-999,9
49UF20140206,KS14-02,4136,1,6,21965,2,20140307,2125,8.9912,139.9927,3717,1211.2,1201,3.9407,34.5623,2,34.5624,2,89.60,2,103.99,2,38.63,2,0.00,2,2.75,2,2316.4,6,2372.5,6,7.4936,2,-999,9,-999,9
49UF20140206,KS14-02,4136,1,5,21964,2,20140307,2120,8.9912,139.9927,3717,1415.1,1402,3.1854,34.5856,2,34.5855,2,95.20,2,119.52,2,38.87,2,0.00,2,2.76,2,2331.9,2,2388.2,2,7.4984,2,-999,9,-999,9
49UF20140206,KS14-02,4136,1,4,21963,2,20140307,2116,8.9912,139.9927,3717,1616.8,1602,2.8131,34.6025,2,34.6021,6,101.35,2,126.34,2,38.52,2,0.00,2,2.73,2,2333.4,2,2395.9,2,7.5139,2,-999,9,-999,9
49UF20140206,KS14-02,4136,1,3,22079,2,20140307,2111,8.9912,139.9927,3717,1820.3,1802,2.4348,34.6199,2,34.6217,2,108.95,2,133.48,2,38.36,2,0.00,2,2.70,2,2336.3,2,2403.4,2,7.5209,2,-999,9,-999,9
49UF20140206,KS14-02,4136,1,2,21961,2,20140307,2111,8.9912,139.9927,3717,1820.3,1802,2.4348,34.6199,2,34.6213,2,109.19,2,133.44,2,38.41,2,0.00,2,2.71,2,2338.1,2,2403.4,2,7.5187,2,-999,9,-999,9
49UF20140206,KS14-02,4136,1,1,21960,2,20140307,2107,8.9912,139.9927,3717,2023.2,2002,2.2231,34.6321,2,34.6331,2,115.16,2,137.04,2,38.20,2,0.00,2,2.68,2,2343.5,2,2409.0,2,7.5273,2,-999,9,-999,9