BOTTLE,20171117JMAGEMD
EXPOCODE,SECT_ID,STNNBR,CASTNO,SAMPNO,BTLNBR,BTLNBR_FLAG_W,DATE,TIME,LATITUDE,LONGITUDE,DEPTH,CTDPRS,CTDDEP,CTDTMP,CTDSAL,CTDSAL_FLAG_W,SALNTY,SALNTY_FLAG_W,OXYGEN,OXYGEN_FLAG_W,SILCAT,SILCAT_FLAG_W,NO2+NO3,NO2+NO3_FLAG_W,NITRIT,NITRIT_FLAG_W,PHSPHT,PHSPHT_FLAG_W,TCARBN,TCARBN_FLAG_W,ALKALI,ALKALI_FLAG_W,PH_TOT,PH_TOT_FLAG_W,CFC-11,CFC-11_FLAG_W,CFC-12,CFC-12_FLAG_W
,,,,,,,UTC,UTC,,,METER,DBAR,METERS,ITS-90,PSS-78,,PSS-78,,UMOL/KG,,UMOL/KG,,UMOL/KG,,UMOL/KG,,UMOL/KG,,UMOL/KG,,UMOL/KG,,@25DEG-C,,PMOL/KG,,PMOL/KG,
49UF20140206,KS14-02,4111,1,-999,0,2,20140220,2055,9.9947,163.9912,4975,0.0,0,28.0423,34.2587,2,34.2615,2,198.24,2,1.13,2,0.00,2,0.00,2,0.07,2,1917.5,2,2251.1,2,8.1180,2,-999,9,-999,9
49UF20140206,KS14-02,4111,1,36,21995,2,20140220,2132,9.9947,163.9912,4975,10.6,11,28.0463,34.2592,2,34.2581,2,198.26,2,1.11,2,0.00,2,0.00,2,0.06,2,1917.1,2,2250.5,2,8.1253,2,-999,9,-999,9
49UF20140206,KS14-02,4111,1,35,22087,2,20140220,2131,9.9947,163.9912,4975,24.5,24,28.0506,34.2591,2,34.2590,2,198.08,2,1.12,2,0.00,2,0.00,2,0.06,2,1916.5,2,2250.9,2,8.1246,2,-999,9,-999,9
49UF20140206,KS14-02,4111,1,34,22666,2,20140220,2129,9.9947,163.9912,4975,50.5,50,28.0527,34.2600,2,34.2597,2,198.22,2,1.11,2,0.00,2,0.00,2,0.06,2,1916.3,2,2249.7,2,8.1181,4,-999,9,-999,9
49UF20140206,KS14-02,4111,1,33,21992,2,20140220,2128,9.9947,163.9912,4975,75.5,75,27.8893,34.4226,2,34.4203,4,199.82,2,1.07,2,0.00,2,0.00,2,0.08,2,1928.0,2,2261.4,2,8.1197,2,-999,9,-999,9
49UF20140206,KS14-02,4111,1,32,21991,2,20140220,2113,9.9947,163.9912,4975,100.7,100,27.7415,34.6064,2,34.5346,4,199.63,2,1.07,2,0.00,2,0.00,2,0.10,2,1934.9,2,2269.0,2,8.1157,2,-999,9,-999,9
49UF20140206,KS14-02,4111,1,31,21990,2,20140220,2112,9.9947,163.9912,4975,125.4,125,25.6496,35.1190,2,35.1279,4,209.78,6,1.27,6,0.00,6,0.00,6,0.13,6,2000.5,2,2313.2,2,8.0671,2,-999,9,-999,9
49UF20140206,KS14-02,4111,1,30,21989,2,20140220,2111,9.9947,163.9912,4975,150.8,150,21.0845,35.0206,2,35.0091,4,173.46,2,2.98,2,3.19,2,0.16,2,0.37,2,2066.3,2,2306.8,2,7.9420,2,-999,9,-999,9
49UF20140206,KS14-02,4111,1,29,21988,2,20140220,2110,9.9947,163.9912,4975,200.7,199,15.3956,34.5649,2,34.5628,2,134.38,2,11.60,2,13.83,2,0.01,2,1.08,2,2122.6,2,2282.0,2,7.7636,2,-999,9,-999,9
49UF20140206,KS14-02,4111,1,28,21987,2,20140220,2108,9.9947,163.9912,4975,252.1,251,11.0004,34.5069,2,34.5056,2,60.04,2,28.26,2,28.59,2,0.00,2,2.11,2,2216.9,2,2287.8,2,7.5353,2,-999,9,-999,9
49UF20140206,KS14-02,4111,1,27,21986,2,20140220,2105,9.9947,163.9912,4975,303.6,302,9.5417,34.5242,2,34.5228,6,50.81,6,35.99,6,32.20,6,0.00,6,2.33,6,2243.9,2,2297.5,2,7.4978,2,-999,9,-999,9
49UF20140206,KS14-02,4111,1,26,21985,2,20140220,2102,9.9947,163.9912,4975,403.0,400,7.9442,34.5226,2,34.5223,2,70.08,2,46.03,2,34.03,2,0.00,2,2.41,2,2251.3,6,2310.2,6,7.5070,2,-999,9,-999,9
49UF20140206,KS14-02,4111,1,25,21984,2,20140220,2059,9.9947,163.9912,4975,507.1,504,7.2939,34.5213,2,34.5222,2,75.25,2,51.05,2,34.90,2,0.00,2,2.47,2,2255.4,2,2317.0,2,7.5044,6,-999,9,-999,9
49UF20140206,KS14-02,4111,1,24,21983,2,20140220,2057,9.9947,163.9912,4975,606.9,603,6.5905,34.5177,2,34.5186,2,75.98,2,58.58,2,36.07,2,0.00,2,2.56,2,2266.1,2,2324.3,2,7.4956,2,-999,9,-999,9
49UF20140206,KS14-02,4111,1,23,22095,2,20140220,2054,9.9947,163.9912,4975,705.5,700,5.9330,34.5291,2,34.5297,2,64.56,2,68.42,2,38.50,2,0.00,2,2.73,2,2285.9,2,2335.0,2,7.4704,2,-999,9,-999,9
49UF20140206,KS14-02,4111,1,22,22665,2,20140220,2051,9.9947,163.9912,4975,807.5,801,5.4969,34.5301,2,34.5322,2,65.96,2,75.57,2,39.04,2,0.00,2,2.78,2,2295.0,2,2342.9,2,7.4658,2,-999,9,-999,9
49UF20140206,KS14-02,4111,1,21,21980,2,20140220,2048,9.9947,163.9912,4975,909.3,902,4.9676,34.5384,2,34.5384,2,65.69,2,85.02,2,39.70,2,0.00,2,2.83,2,2305.7,6,2352.0,6,7.4600,2,-999,9,-999,9
49UF20140206,KS14-02,4111,1,20,21979,2,20140220,2046,9.9947,163.9912,4975,1009.6,1001,4.5093,34.5497,2,34.5505,2,71.96,2,93.26,2,39.77,2,0.00,2,2.83,2,2311.1,2,2362.4,2,7.4694,6,-999,9,-999,9
49UF20140206,KS14-02,4111,1,19,21978,2,20140220,2041,9.9947,163.9912,4975,1210.9,1201,3.7305,34.5681,2,34.5691,2,73.96,2,110.45,2,40.25,2,0.00,2,2.88,2,2330.5,2,2378.1,2,7.4672,2,-999,9,-999,9
49UF20140206,KS14-02,4111,1,18,21977,2,20140220,2037,9.9947,163.9912,4975,1409.6,1397,3.2502,34.5858,2,34.5864,2,84.42,2,119.69,2,39.96,2,0.00,2,2.83,2,2335.6,2,2391.1,2,7.4810,2,-999,9,-999,9
49UF20140206,KS14-02,4111,1,17,23679,2,20140220,2033,9.9947,163.9912,4975,1614.8,1599,2.8213,34.6025,2,34.6033,2,90.53,2,129.22,2,39.84,2,0.00,2,2.81,2,2342.2,2,2400.3,2,7.4900,2,-999,9,-999,9
49UF20140206,KS14-02,4111,1,16,21975,2,20140220,2029,9.9947,163.9912,4975,1815.9,1798,2.4060,34.6227,2,34.6206,2,98.40,2,138.25,2,39.55,2,0.00,2,2.77,2,2345.9,2,2409.7,2,7.4955,2,-999,9,-999,9
49UF20140206,KS14-02,4111,1,15,21974,2,20140220,2025,9.9947,163.9912,4975,2016.4,1995,2.1897,34.6350,2,34.6346,2,104.63,2,142.55,2,39.19,2,0.00,2,2.74,2,2346.8,2,2414.0,2,7.5109,2,-999,9,-999,9
49UF20140206,KS14-02,4111,1,14,21973,3,20140220,2021,9.9947,163.9912,4975,2272.3,2247,1.9932,34.6473,2,34.6483,6,112.19,6,146.06,6,38.64,6,0.00,6,2.70,6,2345.0,2,2419.7,2,7.5245,2,-999,9,-999,9
49UF20140206,KS14-02,4111,1,13,21972,2,20140220,2016,9.9947,163.9912,4975,2527.6,2498,1.8711,34.6556,2,34.6559,2,118.62,2,148.09,2,38.33,2,0.00,2,2.67,2,2347.7,2,2420.8,2,7.5332,2,-999,9,-999,9
49UF20140206,KS14-02,4111,1,12,21994,2,20140220,2011,9.9947,163.9912,4975,2781.9,2748,1.7733,34.6619,2,34.6633,2,124.36,2,149.05,2,37.80,2,0.00,2,2.64,2,2342.0,2,2421.8,2,7.5423,2,-999,9,-999,9
49UF20140206,KS14-02,4111,1,11,21970,2,20140220,2006,9.9947,163.9912,4975,3036.5,2998,1.6695,34.6684,2,34.6688,2,130.68,2,150.20,2,37.46,2,0.00,2,2.60,2,2343.2,2,2421.7,2,7.5538,2,-999,9,-999,9
49UF20140206,KS14-02,4111,1,10,21969,2,20140220,2001,9.9947,163.9912,4975,3296.6,3253,1.6093,34.6736,2,34.6737,2,137.39,2,148.73,2,36.93,2,0.00,2,2.57,2,2337.0,2,2421.5,6,7.5608,2,-999,9,-999,9
49UF20140206,KS14-02,4111,1,9,21968,2,20140220,1955,9.9947,163.9912,4975,3551.9,3502,1.5364,34.6791,2,34.6786,2,145.10,2,146.91,2,36.58,2,0.00,2,2.52,2,2332.0,2,2418.7,2,7.5717,6,-999,9,-999,9
49UF20140206,KS14-02,4111,1,8,21982,2,20140220,1950,9.9947,163.9912,4975,3804.6,3749,1.4909,34.6834,2,34.6801,4,152.41,2,144.18,2,36.00,2,0.00,2,2.49,2,2325.4,2,2417.0,2,7.5782,2,-999,9,-999,9
49UF20140206,KS14-02,4111,1,7,21966,2,20140220,1945,9.9947,163.9912,4975,4062.3,4001,1.4479,34.6882,2,34.6887,2,160.41,2,140.25,2,35.47,2,0.00,2,2.44,2,2317.8,2,2411.5,2,7.5918,2,-999,9,-999,9
49UF20140206,KS14-02,4111,1,6,21965,2,20140220,1940,9.9947,163.9912,4975,4318.9,4251,1.4397,34.6908,2,34.6926,6,165.81,6,137.27,6,35.07,6,0.00,6,2.42,6,2312.9,2,2408.1,2,7.5896,3,-999,9,-999,9
49UF20140206,KS14-02,4111,1,5,21964,2,20140220,1934,9.9947,163.9912,4975,4573.7,4500,1.4079,34.6952,2,34.6952,2,173.11,2,132.80,2,34.58,2,0.00,2,2.37,2,2304.0,2,2402.4,2,7.6018,2,-999,9,-999,9
49UF20140206,KS14-02,4111,1,4,21963,2,20140220,1929,9.9947,163.9912,4975,4830.7,4750,1.3692,34.6995,2,34.7012,2,182.09,2,128.53,2,33.94,2,0.00,2,2.32,2,2296.5,2,2394.9,2,7.6096,2,-999,9,-999,9
49UF20140206,KS14-02,4111,1,2,21961,2,20140220,1923,9.9947,163.9912,4975,5053.7,4966,1.3798,34.7004,2,34.7009,2,183.61,2,127.62,2,33.66,2,0.00,2,2.31,2,2292.2,2,2392.5,2,7.6094,2,-999,9,-999,9
49UF20140206,KS14-02,4111,1,3,22079,2,20140220,1923,9.9947,163.9912,4975,5053.7,4966,1.3798,34.7004,2,34.7010,2,182.05,4,127.98,4,33.81,4,0.00,4,2.32,4,2291.2,2,2393.7,2,7.6091,2,-999,9,-999,9
49UF20140206,KS14-02,4113,1,-999,0,2,20140221,0930,9.492,161.9913,4762,0.0,0,28.0782,34.3182,2,-999.,9,198.83,2,1.06,2,0.00,2,0.00,2,0.07,2,-999.,9,-999.,9,-999.,9,-999,9,-999,9
49UF20140206,KS14-02,4113,1,36,21995,2,20140221,0953,9.492,161.9913,4762,10.5,10,28.0862,34.3174,2,-999.,9,198.33,2,1.05,2,0.00,2,0.00,2,0.06,2,-999.,9,-999.,9,-999.,9,-999,9,-999,9
49UF20140206,KS14-02,4113,1,35,22087,2,20140221,0952,9.492,161.9913,4762,22.8,23,28.0852,34.3178,2,-999.,9,198.50,2,1.05,2,0.00,2,0.00,2,0.06,2,-999.,9,-999.,9,-999.,9,-999,9,-999,9
49UF20140206,KS14-02,4113,1,34,22666,2,20140221,0951,9.492,161.9913,4762,51.4,51,28.0769,34.3143,2,-999.,9,198.42,2,1.05,2,0.00,2,0.00,2,0.06,2,-999.,9,-999.,9,-999.,9,-999,9,-999,9
49UF20140206,KS14-02,4113,1,33,21992,2,20140221,0949,9.492,161.9913,4762,77.7,77,26.9359,35.0634,2,-999.,9,207.17,2,1.08,2,0.00,2,0.00,2,0.11,2,-999.,9,-999.,9,-999.,9,-999,9,-999,9
49UF20140206,KS14-02,4113,1,32,21991,2,20140221,0946,9.492,161.9913,4762,99.3,99,26.1307,35.1812,2,-999.,9,207.62,2,1.10,2,0.00,2,0.00,2,0.10,2,-999.,9,-999.,9,-999.,9,-999,9,-999,9
49UF20140206,KS14-02,4113,1,31,21990,2,20140221,0944,9.492,161.9913,4762,126.3,126,24.0839,35.1936,2,-999.,9,194.79,2,1.42,2,0.03,2,0.00,2,0.15,2,-999.,9,-999.,9,-999.,9,-999,9,-999,9
49UF20140206,KS14-02,4113,1,27,21986,2,20140221,0943,9.492,161.9913,4762,149.6,149,22.0163,35.0813,2,-999.,9,179.78,6,2.21,6,1.72,6,0.16,6,0.29,6,-999.,9,-999.,9,-999.,9,-999,9,-999,9
49UF20140206,KS14-02,4113,1,26,21985,2,20140221,0942,9.492,161.9913,4762,200.4,199,16.2508,34.6271,2,-999.,9,152.24,2,9.01,2,10.76,2,0.01,2,0.85,2,-999.,9,-999.,9,-999.,9,-999,9,-999,9
49UF20140206,KS14-02,4113,1,25,21984,2,20140221,0941,9.492,161.9913,4762,200.4,199,16.2508,34.6271,2,-999.,9,151.98,2,9.03,2,10.78,2,0.01,2,0.85,2,-999.,9,-999.,9,-999.,9,-999,9,-999,9
49UF20140206,KS14-02,4113,1,21,21980,2,20140221,0940,9.492,161.9913,4762,250.9,249,11.4938,34.4370,2,-999.,9,88.51,6,25.18,6,24.78,6,0.00,6,1.84,6,-999.,9,-999.,9,-999.,9,-999,9,-999,9
49UF20140206,KS14-02,4113,1,20,21979,2,20140221,0938,9.492,161.9913,4762,303.2,301,9.6041,34.5370,2,-999.,9,52.01,2,35.81,2,32.30,2,0.00,2,2.32,2,-999.,9,-999.,9,-999.,9,-999,9,-999,9
49UF20140206,KS14-02,4113,1,19,21978,3,20140221,0935,9.492,161.9913,4762,401.6,399,8.4047,34.5496,2,-999.,9,62.02,2,42.34,2,34.11,2,0.00,2,2.41,2,-999.,9,-999.,9,-999.,9,-999,9,-999,9
49UF20140206,KS14-02,4113,1,18,21977,2,20140221,0933,9.492,161.9913,4762,504.3,501,7.6390,34.5433,2,-999.,9,60.84,2,48.41,2,35.53,2,0.00,2,2.53,2,-999.,9,-999.,9,-999.,9,-999,9,-999,9
49UF20140206,KS14-02,4113,1,17,23679,2,20140221,0930,9.492,161.9913,4762,606.3,602,6.8281,34.5315,2,-999.,9,56.11,2,56.99,2,37.41,2,0.00,2,2.68,2,-999.,9,-999.,9,-999.,9,-999,9,-999,9
49UF20140206,KS14-02,4113,1,16,21975,2,20140221,0927,9.492,161.9913,4762,704.6,699,5.9706,34.5249,2,-999.,9,63.93,2,68.03,2,38.22,2,0.00,2,2.74,2,-999.,9,-999.,9,-999.,9,-999,9,-999,9
49UF20140206,KS14-02,4113,1,12,21994,2,20140221,0924,9.492,161.9913,4762,806.5,800,5.4792,34.5322,2,-999.,9,63.17,2,75.78,2,39.28,2,0.00,2,2.81,2,-999.,9,-999.,9,-999.,9,-999,9,-999,9
49UF20140206,KS14-02,4113,1,11,21970,2,20140221,0922,9.492,161.9913,4762,907.5,900,4.9694,34.5396,2,-999.,9,66.51,2,84.64,2,39.73,2,0.00,2,2.83,2,-999.,9,-999.,9,-999.,9,-999,9,-999,9
49UF20140206,KS14-02,4113,1,10,21969,3,20140221,0919,9.492,161.9913,4762,1011.2,1003,4.5546,34.5503,2,-999.,9,69.63,2,92.10,2,40.16,2,0.00,2,2.85,2,-999.,9,-999.,9,-999.,9,-999,9,-999,9
49UF20140206,KS14-02,4113,1,9,21968,2,20140221,0919,9.492,161.9913,4762,1011.2,1003,4.5546,34.5503,2,-999.,9,69.38,2,91.98,2,40.00,2,0.00,2,2.85,2,-999.,9,-999.,9,-999.,9,-999,9,-999,9
49UF20140206,KS14-02,4113,1,8,21982,2,20140221,0914,9.492,161.9913,4762,1208.4,1198,3.6723,34.5714,2,-999.,9,77.80,2,110.73,2,40.01,2,0.00,2,2.85,2,-999.,9,-999.,9,-999.,9,-999,9,-999,9
49UF20140206,KS14-02,4113,1,7,21966,2,20140221,0910,9.492,161.9913,4762,1412.0,1399,3.0738,34.5930,2,-999.,9,89.20,2,122.49,2,39.61,2,0.00,2,2.81,2,-999.,9,-999.,9,-999.,9,-999,9,-999,9
49UF20140206,KS14-02,4113,1,3,22079,2,20140221,0906,9.492,161.9913,4762,1615.7,1600,2.7929,34.6045,2,-999.,9,93.10,2,128.78,2,39.54,2,0.00,2,2.80,2,-999.,9,-999.,9,-999.,9,-999,9,-999,9
49UF20140206,KS14-02,4113,1,2,21961,2,20140221,0901,9.492,161.9913,4762,1818.0,1800,2.4386,34.6210,2,-999.,9,99.17,2,136.78,2,39.30,2,0.00,2,2.77,2,-999.,9,-999.,9,-999.,9,-999,9,-999,9
49UF20140206,KS14-02,4113,1,1,21960,2,20140221,0857,9.492,161.9913,4762,2023.1,2002,2.1745,34.6357,2,-999.,9,106.28,2,142.21,2,38.96,2,0.00,2,2.73,2,-999.,9,-999.,9,-999.,9,-999,9,-999,9
49UF20140206,KS14-02,4115,1,-999,0,2,20140221,2348,9.4847,159.9748,5244,0.0,0,28.4417,34.0190,2,34.0249,2,197.61,2,1.00,2,0.01,2,0.00,2,0.04,2,1902.1,2,2235.3,2,8.1302,2,-999,9,-999,9
49UF20140206,KS14-02,4115,1,36,21995,2,20140221,0029,9.4847,159.9748,5244,11.0,11,28.4418,34.0187,2,34.0188,2,197.22,2,1.01,2,0.01,2,0.00,2,0.04,2,1901.9,2,2233.5,2,8.1311,2,-999,9,-999,9
49UF20140206,KS14-02,4115,1,35,22087,2,20140221,0028,9.4847,159.9748,5244,26.1,26,28.4446,34.0183,2,-999.0000,9,197.18,2,0.99,2,0.01,2,0.00,2,0.04,2,1903.3,2,2234.4,2,8.1220,2,-999,9,-999,9
49UF20140206,KS14-02,4115,1,34,22666,2,20140221,0026,9.4847,159.9748,5244,51.5,51,28.4462,34.0177,2,-999.0000,9,197.15,2,0.99,2,0.01,2,0.00,2,0.04,2,1900.4,2,2235.3,2,8.1289,2,-999,9,-999,9
49UF20140206,KS14-02,4115,1,33,21992,2,20140221,0025,9.4847,159.9748,5244,79.0,79,28.3631,34.6746,2,-999.0000,9,200.61,2,0.89,2,0.00,2,0.00,2,0.09,2,1943.6,2,2277.7,2,8.1164,2,-999,9,-999,9
49UF20140206,KS14-02,4115,1,32,21991,2,20140221,0023,9.4847,159.9748,5244,100.7,100,26.9129,35.0473,2,35.0524,4,202.66,2,1.01,2,0.00,2,0.00,2,0.11,2,1982.8,2,2306.1,2,8.0898,2,-999,9,-999,9
49UF20140206,KS14-02,4115,1,31,21990,2,20140221,0021,9.4847,159.9748,5244,127.4,127,25.1826,35.1652,2,-999.0000,9,195.14,2,1.26,2,0.09,2,0.01,2,0.15,2,2012.4,2,2317.2,2,8.0464,2,-999,9,-999,9
49UF20140206,KS14-02,4115,1,30,21989,2,20140221,0020,9.4847,159.9748,5244,152.2,151,20.5288,34.9367,2,-999.0000,9,170.58,2,3.67,2,4.41,2,0.10,2,0.44,2,2064.7,2,2304.6,2,7.9366,2,-999,9,-999,9
49UF20140206,KS14-02,4115,1,29,21988,2,20140221,0006,9.4847,159.9748,5244,201.7,200,14.1107,34.4908,2,34.4913,6,148.82,6,13.17,6,14.02,6,0.00,6,1.07,6,2120.6,2,2270.0,2,7.7674,2,-999,9,-999,9
49UF20140206,KS14-02,4115,1,28,21987,2,20140221,0005,9.4847,159.9748,5244,251.3,250,11.6175,34.4494,2,-999.0000,9,87.69,2,24.28,2,24.49,2,0.00,2,1.82,2,2191.6,2,2281.7,2,7.6013,2,-999,9,-999,9
49UF20140206,KS14-02,4115,1,27,21986,2,20140221,0003,9.4847,159.9748,5244,302.8,301,9.7350,34.5119,2,-999.0000,9,54.91,2,35.07,2,31.64,2,0.00,2,2.28,2,2237.8,2,2295.2,2,7.5078,2,-999,9,-999,9
49UF20140206,KS14-02,4115,1,26,21985,2,20140221,0000,9.4847,159.9748,5244,404.0,401,8.3253,34.5528,2,34.5511,2,65.85,2,42.56,2,33.90,2,0.00,2,2.40,2,2249.8,2,2308.7,2,7.5074,2,-999,9,-999,9
49UF20140206,KS14-02,4115,1,25,21984,2,20140221,2357,9.4847,159.9748,5244,503.8,500,7.5170,34.5336,2,-999.0000,9,70.97,2,48.67,2,34.88,2,0.00,2,2.47,2,2256.6,2,2314.6,2,7.5037,2,-999,9,-999,9
49UF20140206,KS14-02,4115,1,24,21983,2,20140221,2354,9.4847,159.9748,5244,606.1,602,6.8760,34.5352,2,34.5349,2,63.01,2,55.67,2,37.04,2,0.00,2,2.63,2,2271.6,2,2320.3,2,7.4809,2,-999,9,-999,9
49UF20140206,KS14-02,4115,1,23,22095,2,20140221,2351,9.4847,159.9748,5244,706.3,701,6.1642,34.5297,2,-999.0000,9,67.49,2,64.52,2,37.94,2,0.00,2,2.69,2,2280.4,2,2331.9,2,7.4787,2,-999,9,-999,9
49UF20140206,KS14-02,4115,1,22,22665,2,20140221,2348,9.4847,159.9748,5244,808.4,802,5.5340,34.5346,2,34.5340,2,69.35,2,73.97,2,38.56,2,0.00,2,2.75,2,2293.5,6,2342.2,6,7.4752,2,-999,9,-999,9
49UF20140206,KS14-02,4115,1,21,21980,2,20140221,2345,9.4847,159.9748,5244,908.1,901,4.9506,34.5417,2,-999.0000,9,71.85,2,84.43,2,39.16,2,0.00,2,2.79,2,2302.5,2,2351.3,2,7.4735,6,-999,9,-999,9
49UF20140206,KS14-02,4115,1,20,21979,2,20140221,2342,9.4847,159.9748,5244,1010.5,1002,4.5729,34.5506,2,34.5510,6,75.83,6,90.97,6,39.22,6,0.00,6,2.80,6,2310.5,2,2359.9,2,7.4761,2,-999,9,-999,9
49UF20140206,KS14-02,4115,1,19,21978,2,20140221,2338,9.4847,159.9748,5244,1212.7,1202,3.8883,34.5665,2,34.5669,2,83.12,2,104.89,2,39.42,2,0.00,2,2.80,2,2319.2,2,2375.0,2,7.4804,2,-999,9,-999,9
49UF20140206,KS14-02,4115,1,18,21977,2,20140221,2333,9.4847,159.9748,5244,1414.7,1402,3.1928,34.5896,2,34.5899,2,91.58,6,119.06,2,39.21,2,0.00,2,2.79,2,2328.3,2,2392.6,2,7.4931,2,-999,9,-999,9
49UF20140206,KS14-02,4115,1,17,23679,2,20140221,2328,9.4847,159.9748,5244,1616.9,1602,2.7641,34.6070,2,34.6073,2,97.08,2,128.27,2,39.11,2,0.00,2,2.77,2,2336.7,2,2402.8,2,7.5007,2,-999,9,-999,9
49UF20140206,KS14-02,4115,1,16,21975,2,20140221,2323,9.4847,159.9748,5244,1818.6,1801,2.4380,34.6221,2,34.6212,2,101.18,2,135.77,2,39.01,2,0.00,2,2.76,2,2340.8,2,2410.7,2,7.5060,2,-999,9,-999,9
49UF20140206,KS14-02,4115,1,15,21974,2,20140221,2318,9.4847,159.9748,5244,2021.3,2000,2.2164,34.6335,2,34.6336,6,105.28,6,141.11,2,38.97,6,0.00,6,2.74,6,2349.8,2,2415.0,2,7.5127,2,-999,9,-999,9
49UF20140206,KS14-02,4115,1,14,21973,2,20140221,2313,9.4847,159.9748,5244,2277.0,2252,2.0019,34.6473,2,34.6478,2,112.77,2,144.81,2,38.44,3,0.00,2,2.70,2,2349.4,2,2421.2,2,7.5259,2,-999,9,-999,9
49UF20140206,KS14-02,4115,1,13,21972,2,20140221,2307,9.4847,159.9748,5244,2530.7,2501,1.8468,34.6570,2,34.6563,2,120.80,2,146.81,2,38.03,2,0.00,2,2.65,2,2346.4,6,2421.7,6,7.5389,2,-999,9,-999,9
49UF20140206,KS14-02,4115,1,12,21994,2,20140221,2301,9.4847,159.9748,5244,2784.1,2750,1.7265,34.6646,2,34.6643,2,128.48,2,147.42,2,37.57,2,0.00,2,2.61,2,2343.0,2,2425.1,2,7.5480,6,-999,9,-999,9
49UF20140206,KS14-02,4115,1,11,21970,2,20140221,2256,9.4847,159.9748,5244,3040.8,3002,1.6351,34.6710,2,34.6703,2,135.55,2,147.44,2,37.19,2,0.00,2,2.58,2,2338.2,2,2422.5,2,7.5577,2,-999,9,-999,9
49UF20140206,KS14-02,4115,1,10,21969,2,20140221,2250,9.4847,159.9748,5244,3293.7,3250,1.5643,34.6762,2,34.6761,2,142.44,2,146.05,2,36.62,2,0.00,2,2.54,2,2333.6,2,2420.5,2,7.5680,2,-999,9,-999,9
49UF20140206,KS14-02,4115,1,9,21968,2,20140221,2245,9.4847,159.9748,5244,3549.7,3500,1.5122,34.6810,2,34.6804,2,149.45,2,143.49,2,36.06,2,0.00,2,2.50,2,2327.5,2,2418.5,2,7.5736,2,-999,9,-999,9
49UF20140206,KS14-02,4115,1,8,21982,2,20140221,2239,9.4847,159.9748,5244,3805.8,3751,1.4656,34.6857,2,34.6855,2,156.92,2,140.68,2,35.51,2,0.00,2,2.46,2,2322.2,2,2414.4,2,7.5851,2,-999,9,-999,9
49UF20140206,KS14-02,4115,1,7,21966,2,20140221,2234,9.4847,159.9748,5244,4061.9,4001,1.4452,34.6891,2,34.6875,6,162.37,6,138.31,6,35.09,6,0.00,6,2.43,6,2318.2,2,2411.5,2,7.5913,2,-999,9,-999,9
49UF20140206,KS14-02,4115,1,6,21965,2,20140221,2229,9.4847,159.9748,5244,4318.1,4251,1.4409,34.6914,2,34.6884,4,166.68,2,136.12,2,34.97,2,0.00,2,2.41,2,2313.1,2,2409.5,2,7.6004,2,-999,9,-999,9
49UF20140206,KS14-02,4115,1,5,21964,2,20140221,2223,9.4847,159.9748,5244,4574.5,4500,1.4391,34.6934,2,34.6933,2,170.16,2,133.93,2,34.61,2,0.00,2,2.39,2,2306.1,2,2405.1,2,7.6034,2,-999,9,-999,9
49UF20140206,KS14-02,4115,1,4,21963,2,20140221,2217,9.4847,159.9748,5244,4829.7,4749,1.4406,34.6954,2,34.6954,2,174.03,2,132.24,2,34.42,2,0.00,2,2.37,2,2303.5,2,2404.4,2,7.6077,2,-999,9,-999,9
49UF20140206,KS14-02,4115,1,3,22079,2,20140221,2212,9.4847,159.9748,5244,5086.3,4998,1.4397,34.6974,2,34.6971,2,177.71,2,130.30,2,34.06,2,0.00,2,2.35,2,2301.4,6,2400.7,6,7.6081,2,-999,9,-999,9
49UF20140206,KS14-02,4115,1,1,21960,2,20140221,2207,9.4847,159.9748,5244,5322.6,5228,1.4660,34.6976,2,34.6965,2,177.29,2,130.16,2,34.11,2,0.00,2,2.35,2,2299.6,2,2399.7,2,7.6094,6,-999,9,-999,9