BOTTLE,20171117JMAGEMD
EXPOCODE,SECT_ID,STNNBR,CASTNO,SAMPNO,BTLNBR,BTLNBR_FLAG_W,DATE,TIME,LATITUDE,LONGITUDE,DEPTH,CTDPRS,CTDDEP,CTDTMP,CTDSAL,CTDSAL_FLAG_W,SALNTY,SALNTY_FLAG_W,OXYGEN,OXYGEN_FLAG_W,SILCAT,SILCAT_FLAG_W,NO2+NO3,NO2+NO3_FLAG_W,NITRIT,NITRIT_FLAG_W,PHSPHT,PHSPHT_FLAG_W,TCARBN,TCARBN_FLAG_W,ALKALI,ALKALI_FLAG_W,PH_TOT,PH_TOT_FLAG_W,CFC-11,CFC-11_FLAG_W,CFC-12,CFC-12_FLAG_W
,,,,,,,UTC,UTC,,,METER,DBAR,METERS,ITS-90,PSS-78,,PSS-78,,UMOL/KG,,UMOL/KG,,UMOL/KG,,UMOL/KG,,UMOL/KG,,UMOL/KG,,UMOL/KG,,@25DEG-C,,PMOL/KG,,PMOL/KG,
49UF20140206,KS14-02,4092,1,-999,0,2,20140211,0043,37.0043,164.979,4324,0.0,0,14.4830,34.4912,2,-999.0000,9,249.84,2,6.30,2,4.58,2,0.11,2,0.34,2,-999.,9,-999.,9,-999.,9,-999,9,-999,9
49UF20140206,KS14-02,4092,1,36,21995,2,20140211,0111,37.0043,164.979,4324,10.4,10,14.3954,34.4935,2,34.4944,2,248.49,2,6.07,2,4.44,2,0.10,2,0.33,2,-999.,9,-999.,9,-999.,9,-999,9,-999,9
49UF20140206,KS14-02,4092,1,35,22087,2,20140211,0109,37.0043,164.979,4324,26.7,27,14.3739,34.4952,2,-999.0000,9,247.96,2,6.07,2,4.47,2,0.11,2,0.33,2,-999.,9,-999.,9,-999.,9,-999,9,-999,9
49UF20140206,KS14-02,4092,1,34,22666,2,20140211,0108,37.0043,164.979,4324,52.0,52,14.3380,34.4971,2,-999.0000,9,245.90,2,6.10,2,4.57,2,0.11,2,0.33,2,-999.,9,-999.,9,-999.,9,-999,9,-999,9
49UF20140206,KS14-02,4092,1,33,21992,2,20140211,0107,37.0043,164.979,4324,78.1,78,14.3346,34.4970,2,-999.0000,9,246.35,2,6.10,2,4.56,2,0.10,2,0.34,2,-999.,9,-999.,9,-999.,9,-999,9,-999,9
49UF20140206,KS14-02,4092,1,32,21991,2,20140211,0103,37.0043,164.979,4324,103.7,103,14.3069,34.4969,2,34.4962,2,246.08,2,6.14,2,4.64,2,0.10,2,0.34,2,-999.,9,-999.,9,-999.,9,-999,9,-999,9
49UF20140206,KS14-02,4092,1,31,21990,2,20140211,0102,37.0043,164.979,4324,127.2,126,14.2940,34.4970,2,-999.0000,9,245.44,2,6.12,2,4.66,2,0.10,2,0.34,2,-999.,9,-999.,9,-999.,9,-999,9,-999,9
49UF20140206,KS14-02,4092,1,27,21986,2,20140211,0100,37.0043,164.979,4324,152.4,151,14.2552,34.4995,2,-999.0000,9,247.29,2,5.87,2,4.48,2,0.11,2,0.33,2,-999.,9,-999.,9,-999.,9,-999,9,-999,9
49UF20140206,KS14-02,4092,1,26,21985,2,20140211,0059,37.0043,164.979,4324,203.2,202,14.1858,34.4971,2,34.4976,6,243.16,6,6.44,6,5.12,6,0.08,6,0.37,6,-999.,9,-999.,9,-999.,9,-999,9,-999,9
49UF20140206,KS14-02,4092,1,25,21984,2,20140211,0057,37.0043,164.979,4324,253.5,251,13.0036,34.4132,2,-999.0000,9,222.97,2,11.99,2,9.78,2,0.01,2,0.68,2,-999.,9,-999.,9,-999.,9,-999,9,-999,9
49UF20140206,KS14-02,4092,1,21,21980,2,20140211,0054,37.0043,164.979,4324,304.1,302,12.1231,34.3639,2,-999.0000,9,236.82,2,12.53,2,9.92,2,0.01,2,0.70,2,-999.,9,-999.,9,-999.,9,-999,9,-999,9
49UF20140206,KS14-02,4092,1,20,21979,2,20140211,0052,37.0043,164.979,4324,407.8,404,11.1200,34.2854,2,34.2880,2,232.31,2,16.17,2,11.97,2,0.01,2,0.85,2,-999.,9,-999.,9,-999.,9,-999,9,-999,9
49UF20140206,KS14-02,4092,1,19,21978,2,20140211,0049,37.0043,164.979,4324,508.9,505,9.0942,34.1096,2,-999.0000,9,222.02,2,25.40,2,16.56,2,0.00,2,1.19,2,-999.,9,-999.,9,-999.,9,-999,9,-999,9
49UF20140206,KS14-02,4092,1,15,21974,2,20140211,0045,37.0043,164.979,4324,610.1,605,6.6739,33.9705,2,33.9706,2,171.13,2,47.57,2,25.63,2,0.00,2,1.86,2,-999.,9,-999.,9,-999.,9,-999,9,-999,9
49UF20140206,KS14-02,4092,1,14,21973,2,20140211,0043,37.0043,164.979,4324,711.4,705,5.2071,33.9975,2,-999.0000,9,117.83,2,71.63,2,33.04,2,0.00,2,2.40,2,-999.,9,-999.,9,-999.,9,-999,9,-999,9
49UF20140206,KS14-02,4092,1,13,21972,2,20140211,0040,37.0043,164.979,4324,813.3,806,4.6298,34.0796,2,34.0794,2,82.03,2,88.48,2,37.29,2,0.00,2,2.67,2,-999.,9,-999.,9,-999.,9,-999,9,-999,9
49UF20140206,KS14-02,4092,1,12,21994,2,20140211,0037,37.0043,164.979,4324,912.1,903,4.0605,34.1788,2,-999.0000,9,54.52,2,106.38,2,40.14,2,0.00,2,2.87,2,-999.,9,-999.,9,-999.,9,-999,9,-999,9
49UF20140206,KS14-02,4092,1,11,21970,2,20140211,0033,37.0043,164.979,4324,1015.7,1006,3.7370,34.2595,2,34.2583,2,41.94,2,117.65,2,41.38,2,0.00,2,2.96,2,-999.,9,-999.,9,-999.,9,-999,9,-999,9
49UF20140206,KS14-02,4092,1,10,21969,2,20140211,0033,37.0043,164.979,4324,1015.7,1006,3.7370,34.2595,2,34.2577,2,42.24,2,117.64,2,41.48,2,0.00,2,2.96,2,-999.,9,-999.,9,-999.,9,-999,9,-999,9
49UF20140206,KS14-02,4092,1,6,21965,2,20140211,0028,37.0043,164.979,4324,1215.3,1203,3.1873,34.3623,2,34.3612,2,33.28,2,134.56,2,42.88,2,0.00,2,3.04,2,-999.,9,-999.,9,-999.,9,-999,9,-999,9
49UF20140206,KS14-02,4092,1,5,21964,2,20140211,0024,37.0043,164.979,4324,1418.3,1403,2.8381,34.4212,2,34.4205,2,31.34,2,145.49,2,43.29,3,0.00,2,3.07,2,-999.,9,-999.,9,-999.,9,-999,9,-999,9
49UF20140206,KS14-02,4092,1,4,21963,2,20140211,0019,37.0043,164.979,4324,1621.2,1603,2.4900,34.4863,2,34.4865,2,38.55,2,155.20,2,43.06,2,0.00,2,3.04,2,-999.,9,-999.,9,-999.,9,-999,9,-999,9
49UF20140206,KS14-02,4092,1,3,22079,2,20140211,0015,37.0043,164.979,4324,1823.5,1802,2.2418,34.5359,2,34.5308,4,45.50,6,160.93,6,42.69,6,0.00,6,3.01,6,-999.,9,-999.,9,-999.,9,-999,9,-999,9
49UF20140206,KS14-02,4092,1,2,21961,2,20140211,0009,37.0043,164.979,4324,2032.2,2007,2.0559,34.5714,2,34.5712,2,58.71,2,164.62,2,41.94,2,0.00,2,2.96,2,-999.,9,-999.,9,-999.,9,-999,9,-999,9
49UF20140206,KS14-02,4092,1,1,21960,2,20140211,0009,37.0043,164.979,4324,2032.2,2007,2.0559,34.5714,2,34.5707,2,58.55,2,164.72,2,41.84,2,0.00,2,2.96,2,-999.,9,-999.,9,-999.,9,-999,9,-999,9
49UF20140206,KS14-02,4094,1,-999,0,2,20140211,1650,35.0288,164.9897,5894,0.0,0,17.4037,34.6738,2,34.6718,2,233.66,2,3.05,2,1.98,2,0.18,2,0.15,2,2012.0,2,2279.2,2,8.0011,2,-999,9,-999,9
49UF20140206,KS14-02,4094,1,36,21995,2,20140211,1722,35.0288,164.9897,5894,11.4,11,17.4098,34.6739,2,34.6721,2,233.55,2,3.06,2,1.91,2,0.17,2,0.14,2,2009.4,2,2279.6,2,8.0024,2,-999,9,-999,9
49UF20140206,KS14-02,4094,1,35,22087,2,20140211,1720,35.0288,164.9897,5894,27.3,27,17.4147,34.6740,2,34.6726,2,233.65,2,3.05,2,1.95,2,0.17,2,0.15,2,2010.0,2,2279.4,2,8.0003,2,-999,9,-999,9
49UF20140206,KS14-02,4094,1,34,22666,2,20140211,1719,35.0288,164.9897,5894,52.7,52,17.3966,34.6712,2,34.6695,2,233.20,2,3.04,2,2.03,2,0.19,2,0.15,2,2010.5,2,2278.9,2,7.9935,2,-999,9,-999,9
49UF20140206,KS14-02,4094,1,33,21992,2,20140211,1717,35.0288,164.9897,5894,77.1,77,17.3759,34.6708,2,34.6701,2,233.35,2,3.03,2,1.99,2,0.19,2,0.15,2,2011.7,6,2279.3,6,8.0038,2,-999,9,-999,9
49UF20140206,KS14-02,4094,1,32,21991,2,20140211,1715,35.0288,164.9897,5894,102.6,102,17.3403,34.6743,2,34.6727,2,233.27,2,3.02,2,1.91,2,0.20,2,0.14,2,2010.8,2,2279.4,2,7.9961,6,-999,9,-999,9
49UF20140206,KS14-02,4094,1,31,21990,2,20140211,1713,35.0288,164.9897,5894,128.4,127,17.3057,34.6740,2,34.6745,2,234.10,2,3.03,2,1.89,2,0.21,2,0.14,2,2013.3,2,2279.0,2,8.0004,2,-999,9,-999,9
49UF20140206,KS14-02,4094,1,30,21989,2,20140211,1711,35.0288,164.9897,5894,155.0,154,17.2775,34.6728,2,34.6726,6,233.24,6,3.06,6,1.99,6,0.21,6,0.15,6,2009.0,2,2279.6,2,7.9942,2,-999,9,-999,9
49UF20140206,KS14-02,4094,1,29,21988,2,20140211,1709,35.0288,164.9897,5894,204.3,203,16.7186,34.6585,2,34.6575,2,227.06,2,4.52,2,3.75,2,0.04,2,0.26,2,2024.0,2,2278.9,2,7.9702,2,-999,9,-999,9
49UF20140206,KS14-02,4094,1,28,21987,2,20140211,1706,35.0288,164.9897,5894,253.9,252,16.5478,34.6456,2,34.6447,2,229.32,2,4.66,2,3.90,2,0.05,2,0.27,2,2024.0,2,2279.6,2,7.9726,2,-999,9,-999,9
49UF20140206,KS14-02,4094,1,27,21986,2,20140211,1701,35.0288,164.9897,5894,306.0,304,16.0991,34.6230,2,34.6311,4,214.33,2,6.05,2,5.68,2,0.02,2,0.39,2,2041.7,2,2278.4,2,7.9366,2,-999,9,-999,9
49UF20140206,KS14-02,4094,1,26,21985,2,20140211,1658,35.0288,164.9897,5894,407.0,404,14.5602,34.4974,2,34.4895,4,196.25,2,11.97,2,9.85,2,0.01,2,0.68,2,2072.6,2,2277.0,2,7.8738,2,-999,9,-999,9
49UF20140206,KS14-02,4094,1,25,21984,2,20140211,1655,35.0288,164.9897,5894,508.8,505,11.3001,34.3104,2,34.3141,2,182.44,2,23.92,2,16.27,2,0.00,2,1.15,2,2122.2,2,2279.1,2,7.7681,2,-999,9,-999,9
49UF20140206,KS14-02,4094,1,24,21983,2,20140211,1652,35.0288,164.9897,5894,609.6,604,7.7249,34.0443,2,34.0490,4,175.74,2,41.07,2,23.15,2,0.00,2,1.67,2,2172.7,2,2282.7,2,7.6487,2,-999,9,-999,9
49UF20140206,KS14-02,4094,1,23,22095,2,20140211,1650,35.0288,164.9897,5894,709.2,703,5.3870,33.9673,2,33.9692,2,133.45,2,66.17,2,31.58,2,0.00,2,2.28,2,2237.6,2,2296.6,2,7.5064,2,-999,9,-999,9
49UF20140206,KS14-02,4094,1,22,22665,2,20140211,1647,35.0288,164.9897,5894,810.6,803,4.7161,34.0696,2,34.0684,2,88.04,2,86.07,2,36.52,2,0.00,2,2.63,2,2283.1,2,2314.8,2,7.4203,2,-999,9,-999,9
49UF20140206,KS14-02,4094,1,21,21980,2,20140211,1644,35.0288,164.9897,5894,913.0,904,4.3312,34.1656,2,34.1643,2,65.29,2,99.81,2,38.96,2,0.00,2,2.79,2,2312.5,2,2331.8,2,7.3915,2,-999,9,-999,9
49UF20140206,KS14-02,4094,1,20,21979,2,20140211,1641,35.0288,164.9897,5894,1013.1,1003,3.8737,34.2504,2,34.2493,2,48.29,2,113.88,2,40.67,2,0.00,2,2.91,2,2335.2,2,2351.8,2,7.3666,2,-999,9,-999,9
49UF20140206,KS14-02,4094,1,19,21978,3,20140211,1637,35.0288,164.9897,5894,1215.7,1203,3.2241,34.3663,2,34.3641,2,37.90,2,132.90,2,42.30,2,0.00,2,3.02,2,2359.6,6,2372.1,6,7.3544,2,-999,9,-999,9
49UF20140206,KS14-02,4094,1,18,21977,2,20140211,1632,35.0288,164.9897,5894,1419.7,1405,2.7823,34.4430,2,34.4411,2,34.49,2,146.14,2,43.05,2,0.00,2,3.06,2,2377.5,2,2391.2,2,7.3534,6,-999,9,-999,9
49UF20140206,KS14-02,4094,1,17,23679,2,20140211,1627,35.0288,164.9897,5894,1620.9,1603,2.4822,34.4972,2,34.4964,6,42.99,6,153.61,6,42.63,6,0.00,6,3.03,6,2380.1,2,2398.1,2,7.3736,2,-999,9,-999,9
49UF20140206,KS14-02,4094,1,16,21975,2,20140211,1623,35.0288,164.9897,5894,1823.5,1802,2.2200,34.5364,2,34.5353,2,50.83,2,160.55,2,42.28,2,0.00,2,2.99,2,2383.8,2,2406.5,2,7.3891,2,-999,9,-999,9
49UF20140206,KS14-02,4094,1,15,21974,2,20140211,1619,35.0288,164.9897,5894,2025.5,2001,2.0336,34.5762,2,34.5745,2,62.83,2,163.33,2,41.68,2,0.00,2,2.94,2,2380.7,2,2413.0,2,7.4147,2,-999,9,-999,9
49UF20140206,KS14-02,4094,1,14,21973,2,20140211,1613,35.0288,164.9897,5894,2281.4,2253,1.8592,34.6125,2,34.6117,2,83.50,2,162.18,2,40.36,2,0.00,2,2.84,2,2367.6,2,2417.5,2,7.4571,2,-999,9,-999,9
49UF20140206,KS14-02,4094,1,13,21972,2,20140211,1608,35.0288,164.9897,5894,2536.3,2503,1.7404,34.6344,2,34.6335,2,101.21,2,159.40,2,39.21,2,0.00,2,2.76,2,2358.0,2,2418.8,2,7.4900,2,-999,9,-999,9
49UF20140206,KS14-02,4094,1,12,21994,2,20140211,1603,35.0288,164.9897,5894,2790.0,2752,1.6470,34.6487,2,34.6479,2,113.87,2,157.79,2,38.39,2,0.00,2,2.69,2,2350.5,2,2420.4,2,7.5120,2,-999,9,-999,9
49UF20140206,KS14-02,4094,1,11,21970,2,20140211,1557,35.0288,164.9897,5894,3044.2,3001,1.5877,34.6588,2,34.6537,4,121.61,2,155.82,2,38.11,2,0.00,2,2.65,2,2346.2,2,2420.3,2,7.5266,2,-999,9,-999,9
49UF20140206,KS14-02,4094,1,10,21969,2,20140211,1548,35.0288,164.9897,5894,3557.7,3503,1.5176,34.6724,2,34.6711,2,137.28,2,153.02,2,36.73,2,0.00,2,2.57,2,2337.4,2,2422.0,2,7.5532,2,-999,9,-999,9
49UF20140206,KS14-02,4094,1,9,21968,2,20140211,1538,35.0288,164.9897,5894,4070.4,4003,1.4875,34.6812,2,34.6805,2,147.63,2,151.06,2,36.25,2,0.00,2,2.52,2,2328.7,2,2419.9,2,7.5736,2,-999,9,-999,9
49UF20140206,KS14-02,4094,1,8,21982,2,20140211,1533,35.0288,164.9897,5894,4326.8,4252,1.4825,34.6846,2,34.6843,2,152.54,2,149.75,2,35.82,2,0.00,2,2.50,2,2326.0,2,2418.5,2,7.5745,2,-999,9,-999,9
49UF20140206,KS14-02,4094,1,7,21966,2,20140211,1527,35.0288,164.9897,5894,4583.5,4502,1.4893,34.6870,2,34.6864,6,154.91,6,148.38,6,35.70,6,0.00,6,2.48,6,2324.1,2,2418.4,2,7.5818,2,-999,9,-999,9
49UF20140206,KS14-02,4094,1,6,21965,2,20140211,1521,35.0288,164.9897,5894,4840.9,4752,1.5018,34.6889,2,34.6885,2,157.92,2,147.29,2,35.53,2,0.00,2,2.46,2,2322.5,2,2419.9,2,7.5870,2,-999,9,-999,9
49UF20140206,KS14-02,4094,1,5,21964,2,20140211,1515,35.0288,164.9897,5894,5098.9,5002,1.5094,34.6910,2,34.6889,2,161.13,2,143.98,2,35.19,2,0.00,2,2.45,2,2318.4,2,2414.8,2,7.5911,2,-999,9,-999,9
49UF20140206,KS14-02,4094,1,4,21963,2,20140211,1509,35.0288,164.9897,5894,5356.0,5252,1.5182,34.6930,2,34.6900,4,167.00,4,139.88,4,35.00,4,0.00,4,2.41,4,2315.5,6,2411.1,6,7.5968,2,-999,9,-999,9
49UF20140206,KS14-02,4094,1,3,22079,2,20140211,1503,35.0288,164.9897,5894,5615.0,5502,1.5324,34.6944,2,34.6940,2,170.02,2,137.08,2,34.51,2,0.00,2,2.39,2,2311.0,2,2409.2,2,7.5984,6,-999,9,-999,9
49UF20140206,KS14-02,4094,1,2,21961,2,20140211,1457,35.0288,164.9897,5894,5874.6,5754,1.5527,34.6955,2,34.6941,2,172.17,2,135.43,2,34.54,2,0.00,2,2.38,2,2307.7,2,2406.6,2,7.5993,2,-999,9,-999,9
49UF20140206,KS14-02,4094,1,1,21960,2,20140211,1453,35.0288,164.9897,5894,6040.6,5914,1.5707,34.6959,2,34.6953,6,172.70,6,135.20,6,34.46,6,0.00,6,2.38,6,2307.6,2,2406.9,2,7.6039,2,-999,9,-999,9
49UF20140206,KS14-02,4096,1,-999,0,2,20140212,0655,32.9893,164.97,6200,0.0,0,16.9239,34.6713,2,34.6769,2,242.25,2,3.42,2,1.56,2,0.10,2,0.15,2,-999.,9,-999.,9,-999.,9,-999,9,-999,9
49UF20140206,KS14-02,4096,1,36,21995,2,20140212,0721,32.9893,164.97,6200,11.3,11,16.9276,34.6718,2,34.6706,2,240.64,2,3.48,2,1.73,2,0.11,2,0.14,2,-999.,9,-999.,9,-999.,9,-999,9,-999,9
49UF20140206,KS14-02,4096,1,35,22087,2,20140212,0720,32.9893,164.97,6200,25.2,25,16.9158,34.6695,2,34.6694,2,240.44,2,3.49,2,1.76,2,0.11,2,0.14,2,-999.,9,-999.,9,-999.,9,-999,9,-999,9
49UF20140206,KS14-02,4096,1,34,22666,2,20140212,0719,32.9893,164.97,6200,50.8,50,16.8753,34.6650,2,34.6639,2,239.90,2,3.58,2,1.87,2,0.11,2,0.15,2,-999.,9,-999.,9,-999.,9,-999,9,-999,9
49UF20140206,KS14-02,4096,1,33,21992,2,20140212,0717,32.9893,164.97,6200,76.2,76,16.7718,34.6552,2,34.6549,2,240.78,2,3.68,2,1.74,2,0.11,2,0.15,2,-999.,9,-999.,9,-999.,9,-999,9,-999,9
49UF20140206,KS14-02,4096,1,32,21991,2,20140212,0716,32.9893,164.97,6200,100.1,99,16.4630,34.6185,2,34.6173,2,240.56,2,4.03,2,2.24,2,0.18,2,0.18,2,-999.,9,-999.,9,-999.,9,-999,9,-999,9
49UF20140206,KS14-02,4096,1,31,21990,2,20140212,0714,32.9893,164.97,6200,127.7,127,16.3487,34.6078,2,34.6077,6,239.07,6,4.12,6,2.59,6,0.20,6,0.20,6,-999.,9,-999.,9,-999.,9,-999,9,-999,9
49UF20140206,KS14-02,4096,1,27,21986,2,20140212,0712,32.9893,164.97,6200,152.0,151,16.1292,34.5761,2,34.5791,2,237.12,2,4.43,2,3.08,2,0.16,2,0.23,2,-999.,9,-999.,9,-999.,9,-999,9,-999,9
49UF20140206,KS14-02,4096,1,26,21985,2,20140212,0710,32.9893,164.97,6200,202.6,201,15.6544,34.5038,2,34.5028,2,238.78,2,5.01,2,3.52,2,0.16,2,0.27,2,-999.,9,-999.,9,-999.,9,-999,9,-999,9
49UF20140206,KS14-02,4096,1,25,21984,2,20140212,0707,32.9893,164.97,6200,256.3,254,15.2118,34.4854,2,34.4836,2,220.36,2,7.65,2,6.07,2,0.02,2,0.44,2,-999.,9,-999.,9,-999.,9,-999,9,-999,9
49UF20140206,KS14-02,4096,1,21,21980,2,20140212,0701,32.9893,164.97,6200,306.8,304,14.6542,34.5249,2,34.5268,2,208.30,2,9.00,2,8.24,2,0.01,2,0.57,2,-999.,9,-999.,9,-999.,9,-999,9,-999,9
49UF20140206,KS14-02,4096,1,20,21979,2,20140212,0657,32.9893,164.97,6200,407.4,404,11.1636,34.2780,2,34.2844,4,202.30,2,20.09,2,14.60,2,0.00,2,1.03,2,-999.,9,-999.,9,-999.,9,-999,9,-999,9
49UF20140206,KS14-02,4096,1,19,21978,3,20140212,0654,32.9893,164.97,6200,508.1,504,8.7486,34.0790,2,34.0853,4,200.58,2,29.92,2,18.84,2,0.00,2,1.35,2,-999.,9,-999.,9,-999.,9,-999,9,-999,9
49UF20140206,KS14-02,4096,1,15,21974,2,20140212,0650,32.9893,164.97,6200,608.9,604,6.2479,33.9356,2,33.9381,2,174.26,2,49.18,2,26.22,2,0.00,2,1.91,2,-999.,9,-999.,9,-999.,9,-999,9,-999,9
49UF20140206,KS14-02,4096,1,14,21973,2,20140212,0647,32.9893,164.97,6200,712.0,706,5.0664,33.9689,2,33.9684,2,118.21,2,72.14,2,33.53,2,0.00,2,2.42,2,-999.,9,-999.,9,-999.,9,-999,9,-999,9
49UF20140206,KS14-02,4096,1,13,21972,2,20140212,0644,32.9893,164.97,6200,811.5,804,4.5144,34.1295,2,34.1262,2,72.10,2,94.05,2,38.07,2,0.00,2,2.73,2,-999.,9,-999.,9,-999.,9,-999,9,-999,9
49UF20140206,KS14-02,4096,1,12,21994,2,20140212,0640,32.9893,164.97,6200,913.9,905,4.0556,34.1976,2,34.1967,2,52.37,2,107.61,2,40.22,2,0.00,2,2.88,2,-999.,9,-999.,9,-999.,9,-999,9,-999,9
49UF20140206,KS14-02,4096,1,11,21970,2,20140212,0640,32.9893,164.97,6200,913.9,905,4.0556,34.1976,2,34.1978,2,52.10,2,107.87,2,40.18,2,0.00,2,2.88,2,-999.,9,-999.,9,-999.,9,-999,9,-999,9
49UF20140206,KS14-02,4096,1,10,21969,2,20140212,0637,32.9893,164.97,6200,1014.1,1004,3.7156,34.2709,2,34.2701,2,43.11,2,118.58,2,41.36,2,0.00,2,2.96,2,-999.,9,-999.,9,-999.,9,-999,9,-999,9
49UF20140206,KS14-02,4096,1,6,21965,2,20140212,0632,32.9893,164.97,6200,1213.4,1201,3.1095,34.3786,2,34.3789,2,33.26,2,137.00,2,42.52,2,0.00,2,3.05,2,-999.,9,-999.,9,-999.,9,-999,9,-999,9
49UF20140206,KS14-02,4096,1,5,21964,2,20140212,0628,32.9893,164.97,6200,1417.7,1403,2.6513,34.4575,2,34.4570,2,33.69,2,150.57,2,43.24,2,0.00,2,3.07,2,-999.,9,-999.,9,-999.,9,-999,9,-999,9
49UF20140206,KS14-02,4096,1,4,21963,2,20140212,0624,32.9893,164.97,6200,1615.7,1598,2.3977,34.5046,2,34.5057,6,39.98,6,157.61,6,43.00,6,0.00,6,3.04,6,-999.,9,-999.,9,-999.,9,-999,9,-999,9
49UF20140206,KS14-02,4096,1,3,22079,2,20140212,0620,32.9893,164.97,6200,1822.6,1802,2.1861,34.5453,2,34.5425,2,50.32,2,162.15,2,42.59,2,0.00,2,2.99,2,-999.,9,-999.,9,-999.,9,-999,9,-999,9
49UF20140206,KS14-02,4096,1,2,21961,2,20140212,0620,32.9893,164.97,6200,1822.6,1802,2.1861,34.5453,2,34.5451,2,50.44,2,162.27,2,42.37,2,0.00,2,3.00,2,-999.,9,-999.,9,-999.,9,-999,9,-999,9
49UF20140206,KS14-02,4096,1,1,21960,2,20140212,0616,32.9893,164.97,6200,2020.6,1997,2.0241,34.5808,2,34.5811,2,64.55,2,163.89,2,41.69,2,0.00,2,2.93,2,-999.,9,-999.,9,-999.,9,-999,9,-999,9