BOTTLE,20171117JMAGEMD
EXPOCODE,SECT_ID,STNNBR,CASTNO,SAMPNO,BTLNBR,BTLNBR_FLAG_W,DATE,TIME,LATITUDE,LONGITUDE,DEPTH,CTDPRS,CTDDEP,CTDTMP,CTDSAL,CTDSAL_FLAG_W,SALNTY,SALNTY_FLAG_W,OXYGEN,OXYGEN_FLAG_W,SILCAT,SILCAT_FLAG_W,NO2+NO3,NO2+NO3_FLAG_W,NITRIT,NITRIT_FLAG_W,PHSPHT,PHSPHT_FLAG_W,TCARBN,TCARBN_FLAG_W,ALKALI,ALKALI_FLAG_W,PH_TOT,PH_TOT_FLAG_W,CFC-11,CFC-11_FLAG_W,CFC-12,CFC-12_FLAG_W
,,,,,,,UTC,UTC,,,METER,DBAR,METERS,ITS-90,PSS-78,,PSS-78,,UMOL/KG,,UMOL/KG,,UMOL/KG,,UMOL/KG,,UMOL/KG,,UMOL/KG,,UMOL/KG,,@25DEG-C,,PMOL/KG,,PMOL/KG,
49UF20140206,KS14-02,4103,1,-999,0,2,20140218,1358,18.0042,164.9888,5433,0.0,0,26.7159,35.2214,2,-999.,9,201.66,2,0.90,2,0.04,2,0.00,2,0.05,2,-999.,9,-999.,9,-999.,9,-999,9,-999,9
49UF20140206,KS14-02,4103,1,36,21995,2,20140218,1426,18.0042,164.9888,5433,10.9,11,26.7174,35.2218,2,-999.,9,201.71,2,0.87,2,0.00,2,0.00,2,0.04,2,-999.,9,-999.,9,-999.,9,-999,9,-999,9
49UF20140206,KS14-02,4103,1,35,22087,2,20140218,1425,18.0042,164.9888,5433,26.1,26,26.7328,35.2213,2,-999.,9,201.98,2,0.87,2,0.00,2,0.00,2,0.04,2,-999.,9,-999.,9,-999.,9,-999,9,-999,9
49UF20140206,KS14-02,4103,1,34,22666,2,20140218,1423,18.0042,164.9888,5433,50.8,50,26.5532,35.2341,2,-999.,9,202.76,6,0.88,6,0.03,6,0.00,6,0.03,6,-999.,9,-999.,9,-999.,9,-999,9,-999,9
49UF20140206,KS14-02,4103,1,33,21992,2,20140218,1422,18.0042,164.9888,5433,76.5,76,25.6534,35.2882,2,-999.,9,204.81,2,0.98,2,0.05,2,0.00,2,0.02,2,-999.,9,-999.,9,-999.,9,-999,9,-999,9
49UF20140206,KS14-02,4103,1,32,21991,2,20140218,1420,18.0042,164.9888,5433,101.9,101,25.4741,35.3526,2,-999.,9,205.93,2,0.92,2,0.05,2,0.00,2,0.01,2,-999.,9,-999.,9,-999.,9,-999,9,-999,9
49UF20140206,KS14-02,4103,1,31,21990,2,20140218,1418,18.0042,164.9888,5433,127.4,127,24.9862,35.3439,2,-999.,9,203.48,2,1.04,2,0.03,2,0.00,2,0.02,2,-999.,9,-999.,9,-999.,9,-999,9,-999,9
49UF20140206,KS14-02,4103,1,27,21986,2,20140218,1417,18.0042,164.9888,5433,151.1,150,22.9676,35.2433,2,-999.,9,191.00,2,1.50,2,0.66,2,0.07,2,0.09,2,-999.,9,-999.,9,-999.,9,-999,9,-999,9
49UF20140206,KS14-02,4103,1,26,21985,2,20140218,1412,18.0042,164.9888,5433,201.4,200,19.8418,34.9668,2,-999.,9,193.92,2,2.47,2,2.10,2,0.01,2,0.18,2,-999.,9,-999.,9,-999.,9,-999,9,-999,9
49UF20140206,KS14-02,4103,1,25,21984,2,20140218,1410,18.0042,164.9888,5433,253.7,252,17.1646,34.7080,2,-999.,9,199.08,2,4.31,2,4.89,2,0.01,2,0.35,2,-999.,9,-999.,9,-999.,9,-999,9,-999,9
49UF20140206,KS14-02,4103,1,21,21980,2,20140218,1408,18.0042,164.9888,5433,302.6,301,14.5966,34.4949,2,-999.,9,198.48,2,8.42,2,8.69,2,0.00,2,0.61,2,-999.,9,-999.,9,-999.,9,-999,9,-999,9
49UF20140206,KS14-02,4103,1,20,21979,2,20140218,1405,18.0042,164.9888,5433,402.9,400,10.7179,34.2287,2,-999.,9,155.76,2,22.40,2,19.05,2,0.00,2,1.40,2,-999.,9,-999.,9,-999.,9,-999,9,-999,9
49UF20140206,KS14-02,4103,1,19,21978,2,20140218,1405,18.0042,164.9888,5433,402.9,400,10.7179,34.2287,2,-999.,9,156.02,2,22.39,2,18.98,2,0.00,2,1.40,2,-999.,9,-999.,9,-999.,9,-999,9,-999,9
49UF20140206,KS14-02,4103,1,15,21974,2,20140218,1402,18.0042,164.9888,5433,504.0,500,8.1235,34.1370,2,-999.,9,123.45,2,41.67,2,27.08,2,0.00,2,1.96,2,-999.,9,-999.,9,-999.,9,-999,9,-999,9
49UF20140206,KS14-02,4103,1,14,21973,2,20140218,1359,18.0042,164.9888,5433,604.9,600,6.4478,34.2025,2,-999.,9,71.48,6,64.31,6,35.05,6,0.00,6,2.54,6,-999.,9,-999.,9,-999.,9,-999,9,-999,9
49UF20140206,KS14-02,4103,1,13,21972,2,20140218,1356,18.0042,164.9888,5433,703.6,698,5.4642,34.3443,2,-999.,9,56.73,2,81.36,2,38.36,2,0.00,2,2.77,2,-999.,9,-999.,9,-999.,9,-999,9,-999,9
49UF20140206,KS14-02,4103,1,12,21994,2,20140218,1353,18.0042,164.9888,5433,807.5,801,4.8046,34.4330,2,-999.,9,63.91,2,93.23,2,38.94,2,0.00,2,2.80,2,-999.,9,-999.,9,-999.,9,-999,9,-999,9
49UF20140206,KS14-02,4103,1,11,21970,2,20140218,1350,18.0042,164.9888,5433,906.9,899,4.4510,34.4833,2,-999.,9,71.40,2,99.24,2,38.87,2,0.00,2,2.78,2,-999.,9,-999.,9,-999.,9,-999,9,-999,9
49UF20140206,KS14-02,4103,1,10,21969,2,20140218,1350,18.0042,164.9888,5433,906.9,899,4.4510,34.4833,2,-999.,9,72.66,3,99.28,2,38.80,2,0.00,2,2.79,2,-999.,9,-999.,9,-999.,9,-999,9,-999,9
49UF20140206,KS14-02,4103,1,6,21965,2,20140218,1346,18.0042,164.9888,5433,1007.3,999,4.0606,34.5201,2,-999.,9,76.99,2,106.25,2,38.98,2,0.00,2,2.79,2,-999.,9,-999.,9,-999.,9,-999,9,-999,9
49UF20140206,KS14-02,4103,1,5,21964,2,20140218,1341,18.0042,164.9888,5433,1212.7,1202,3.4283,34.5493,2,-999.,9,82.03,2,118.44,2,39.36,2,0.00,2,2.80,2,-999.,9,-999.,9,-999.,9,-999,9,-999,9
49UF20140206,KS14-02,4103,1,4,21963,2,20140218,1336,18.0042,164.9888,5433,1414.8,1402,2.9152,34.5815,2,-999.,9,85.26,2,128.76,2,39.79,2,0.00,2,2.83,2,-999.,9,-999.,9,-999.,9,-999,9,-999,9
49UF20140206,KS14-02,4103,1,3,22079,2,20140218,1331,18.0042,164.9888,5433,1616.3,1600,2.5715,34.5915,2,-999.,9,90.08,2,136.53,2,39.47,2,0.00,2,2.80,2,-999.,9,-999.,9,-999.,9,-999,9,-999,9
49UF20140206,KS14-02,4103,1,2,21961,2,20140218,1326,18.0042,164.9888,5433,1820.0,1801,2.3322,34.6061,2,-999.,9,96.04,2,141.36,2,39.50,2,0.00,2,2.78,2,-999.,9,-999.,9,-999.,9,-999,9,-999,9
49UF20140206,KS14-02,4103,1,1,21960,2,20140218,1321,18.0042,164.9888,5433,2023.4,2002,2.1207,34.6210,2,-999.,9,103.03,2,145.22,2,39.03,2,0.00,2,2.74,2,-999.,9,-999.,9,-999.,9,-999,9,-999,9
49UF20140206,KS14-02,4106,1,-999,0,2,20140219,1104,14.9973,164.982,5205,0.0,0,26.9861,35.1926,2,35.1964,2,201.01,2,1.02,2,0.00,2,0.00,2,0.11,2,1975.6,2,2315.9,2,8.0827,2,-999,9,-999,9
49UF20140206,KS14-02,4106,1,36,21995,2,20140219,1150,14.9973,164.982,5205,10.6,11,26.9938,35.1919,2,35.1916,2,201.03,2,1.00,2,0.00,2,0.00,2,0.10,2,1976.9,2,2313.8,2,8.1112,2,-999,9,-999,9
49UF20140206,KS14-02,4106,1,35,22087,2,20140219,1149,14.9973,164.982,5205,25.9,26,26.9882,35.1923,2,35.1911,2,201.11,2,0.99,2,0.00,2,0.00,2,0.10,2,1979.3,2,2312.8,2,8.0943,2,-999,9,-999,9
49UF20140206,KS14-02,4106,1,34,22666,2,20140219,1148,14.9973,164.982,5205,50.8,50,26.9662,35.1952,2,35.1944,2,201.44,2,1.01,2,0.01,2,0.00,2,0.11,2,1977.6,2,2313.1,2,8.1022,2,-999,9,-999,9
49UF20140206,KS14-02,4106,1,33,21992,2,20140219,1146,14.9973,164.982,5205,77.3,77,26.9716,35.1968,2,35.1963,6,201.23,6,0.98,6,0.00,6,0.00,6,0.10,6,1977.9,2,2315.5,2,8.1047,2,-999,9,-999,9
49UF20140206,KS14-02,4106,1,32,21991,3,20140219,1144,14.9973,164.982,5205,100.6,100,26.9670,35.2001,2,35.2000,2,201.13,2,0.99,2,0.00,2,0.00,2,0.10,2,1975.9,2,2315.0,2,8.1054,2,-999,9,-999,9
49UF20140206,KS14-02,4106,1,31,21990,2,20140219,1143,14.9973,164.982,5205,128.8,128,25.5233,35.3227,2,35.3194,4,203.65,2,1.10,2,0.00,2,0.00,2,0.07,2,2004.2,2,2323.2,2,8.0772,2,-999,9,-999,9
49UF20140206,KS14-02,4106,1,30,21989,2,20140219,1141,14.9973,164.982,5205,150.4,149,23.7153,35.3214,2,35.3127,4,188.97,2,1.39,2,0.38,2,0.12,2,0.11,2,2031.3,2,2322.0,2,8.0309,2,-999,9,-999,9
49UF20140206,KS14-02,4106,1,29,21988,2,20140219,1127,14.9973,164.982,5205,202.3,201,19.5518,34.9443,2,34.9651,4,179.21,2,3.14,2,3.66,2,0.01,2,0.33,2,2062.2,2,2300.3,2,7.9384,2,-999,9,-999,9
49UF20140206,KS14-02,4106,1,28,21987,3,20140219,1125,14.9973,164.982,5205,253.6,252,15.1245,34.5000,2,34.5083,4,162.44,2,9.02,2,10.51,2,0.00,2,0.83,2,2104.6,2,2277.0,2,7.8091,2,-999,9,-999,9
49UF20140206,KS14-02,4106,1,27,21986,2,20140219,1123,14.9973,164.982,5205,303.9,302,12.0838,34.3324,2,34.3348,2,131.50,2,19.20,2,18.72,2,0.00,2,1.43,2,2147.3,2,2271.2,2,7.6813,2,-999,9,-999,9
49UF20140206,KS14-02,4106,1,26,21985,2,20140219,1120,14.9973,164.982,5205,405.3,403,8.8834,34.3531,2,34.3529,2,69.30,2,40.18,2,30.83,2,0.00,2,2.28,2,2234.0,2,2294.1,2,7.5019,2,-999,9,-999,9
49UF20140206,KS14-02,4106,1,25,21984,2,20140219,1116,14.9973,164.982,5205,505.6,502,7.3426,34.4158,2,34.4128,6,48.31,6,55.10,6,35.95,6,0.00,6,2.63,6,2273.1,2,2310.6,2,7.4479,2,-999,9,-999,9
49UF20140206,KS14-02,4106,1,24,21983,2,20140219,1113,14.9973,164.982,5205,607.5,603,6.6746,34.4472,2,34.4467,2,52.34,2,62.79,2,37.22,2,0.00,2,2.70,2,2282.3,2,2318.6,2,7.4475,2,-999,9,-999,9
49UF20140206,KS14-02,4106,1,23,22095,2,20140219,1109,14.9973,164.982,5205,706.1,701,6.0955,34.4858,2,34.4854,2,48.72,2,70.41,2,38.98,2,0.00,2,2.82,2,2297.4,6,2330.6,6,7.4381,2,-999,9,-999,9
49UF20140206,KS14-02,4106,1,22,22665,2,20140219,1106,14.9973,164.982,5205,809.3,803,5.4678,34.5049,2,34.5046,2,49.64,2,79.74,2,40.08,2,0.00,2,2.89,2,2309.5,2,2342.6,2,7.4351,6,-999,9,-999,9
49UF20140206,KS14-02,4106,1,21,21980,2,20140219,1103,14.9973,164.982,5205,905.9,899,4.9433,34.5103,2,34.5102,2,67.92,2,87.88,2,39.20,2,0.00,2,2.80,2,2304.7,2,2351.8,2,7.4609,2,-999,9,-999,9
49UF20140206,KS14-02,4106,1,20,21979,2,20140219,1100,14.9973,164.982,5205,1008.7,1000,4.5976,34.5235,2,34.5240,2,68.59,2,94.38,2,39.56,2,0.00,2,2.84,2,2311.5,2,2359.5,2,7.4611,2,-999,9,-999,9
49UF20140206,KS14-02,4106,1,19,21978,3,20140219,1055,14.9973,164.982,5205,1211.9,1201,3.8496,34.5536,2,34.5537,2,69.69,2,109.46,2,40.59,2,0.00,2,2.89,2,2332.2,2,2376.1,2,7.4598,2,-999,9,-999,9
49UF20140206,KS14-02,4106,1,18,21977,2,20140219,1051,14.9973,164.982,5205,1410.5,1398,3.2359,34.5759,2,34.5759,2,76.72,2,122.64,2,40.55,2,0.00,2,2.89,2,2344.0,2,2388.7,2,7.4665,2,-999,9,-999,9
49UF20140206,KS14-02,4106,1,17,23679,2,20140219,1046,14.9973,164.982,5205,1615.7,1600,2.7716,34.5938,2,34.5939,2,87.26,2,131.97,2,39.88,2,0.00,2,2.83,2,2343.9,6,2398.7,6,7.4806,2,-999,9,-999,9
49UF20140206,KS14-02,4106,1,16,21975,2,20140219,1041,14.9973,164.982,5205,1819.1,1801,2.4488,34.6128,2,34.6124,2,94.77,2,138.89,2,39.59,2,0.00,2,2.80,2,2352.9,2,2407.3,2,7.4919,6,-999,9,-999,9
49UF20140206,KS14-02,4106,1,15,21974,2,20140219,1037,14.9973,164.982,5205,2021.5,2000,2.1857,34.6280,2,34.6278,2,102.62,2,143.98,2,39.26,2,0.00,2,2.75,2,2352.5,2,2413.1,2,7.5048,2,-999,9,-999,9
49UF20140206,KS14-02,4106,1,14,21973,2,20140219,1032,14.9973,164.982,5205,2275.6,2250,1.9512,34.6447,2,34.6455,2,112.07,2,147.84,2,38.70,2,0.00,2,2.71,2,2351.0,2,2417.2,2,7.5193,2,-999,9,-999,9
49UF20140206,KS14-02,4106,1,13,21972,2,20140219,1027,14.9973,164.982,5205,2528.5,2499,1.8072,34.6534,2,34.6539,6,119.93,6,149.93,6,38.28,6,0.00,6,2.67,6,2349.1,2,2420.0,2,7.5363,2,-999,9,-999,9
49UF20140206,KS14-02,4106,1,12,21994,2,20140219,1022,14.9973,164.982,5205,2782.5,2748,1.6929,34.6626,2,34.6641,2,126.52,2,151.22,2,37.84,2,0.00,2,2.63,2,2347.8,2,2422.2,2,7.5471,2,-999,9,-999,9
49UF20140206,KS14-02,4106,1,11,21970,2,20140219,1017,14.9973,164.982,5205,3039.0,3000,1.6164,34.6689,2,34.6692,2,132.46,2,151.62,2,37.27,2,0.00,2,2.60,2,2343.1,2,2421.4,2,7.5528,2,-999,9,-999,9
49UF20140206,KS14-02,4106,1,10,21969,2,20140219,1012,14.9973,164.982,5205,3290.9,3246,1.5600,34.6739,2,34.6734,2,137.74,2,150.51,2,37.07,2,0.00,2,2.57,2,2338.1,2,2420.5,2,7.5637,2,-999,9,-999,9
49UF20140206,KS14-02,4106,1,9,21968,2,20140219,1007,14.9973,164.982,5205,3546.8,3497,1.5186,34.6780,2,34.6783,2,143.60,2,150.10,2,36.54,2,0.00,2,2.54,2,2335.6,2,2418.8,2,7.5679,2,-999,9,-999,9
49UF20140206,KS14-02,4106,1,8,21982,2,20140219,1002,14.9973,164.982,5205,3802.0,3746,1.4893,34.6820,2,34.6820,2,149.21,2,147.69,2,36.41,2,0.00,2,2.51,2,2332.4,2,2417.9,2,7.5934,3,-999,9,-999,9
49UF20140206,KS14-02,4106,1,7,21966,2,20140219,0957,14.9973,164.982,5205,4060.3,3998,1.4518,34.6864,2,34.6853,2,155.75,2,144.21,2,35.78,2,0.00,2,2.47,2,2324.8,6,2412.0,6,7.5830,2,-999,9,-999,9
49UF20140206,KS14-02,4106,1,6,21965,2,20140219,0952,14.9973,164.982,5205,4315.4,4247,1.4266,34.6901,2,34.6917,2,163.49,2,140.48,2,35.13,2,0.00,2,2.43,2,2316.4,2,2408.4,2,7.5858,2,-999,9,-999,9
49UF20140206,KS14-02,4106,1,5,21964,2,20140219,0947,14.9973,164.982,5205,4574.9,4500,1.4007,34.6940,2,34.6944,6,170.68,6,135.65,6,34.70,6,0.00,6,2.39,6,2304.7,2,2401.6,2,7.6023,2,-999,9,-999,9
49UF20140206,KS14-02,4106,1,4,21963,2,20140219,0941,14.9973,164.982,5205,4832.3,4750,1.3949,34.6963,2,34.6969,2,175.79,2,132.94,2,34.17,3,0.00,2,2.36,2,2302.3,2,2399.3,2,7.6057,2,-999,9,-999,9
49UF20140206,KS14-02,4106,1,3,22079,2,20140219,0934,14.9973,164.982,5205,5090.3,5001,1.3982,34.6979,2,34.6984,2,179.38,2,131.15,2,33.95,2,0.00,2,2.35,2,2299.1,2,2396.1,2,7.6084,2,-999,9,-999,9
49UF20140206,KS14-02,4106,1,1,21960,2,20140219,0929,14.9973,164.982,5205,5302.4,5207,1.4107,34.6987,2,34.6994,2,181.09,2,130.57,2,33.89,2,0.00,2,2.34,2,2297.4,2,2396.3,2,7.6105,2,-999,9,-999,9
49UF20140206,KS14-02,4106,1,2,21961,2,20140219,0929,14.9973,164.982,5205,5304.2,5209,1.4106,34.6988,2,34.7006,2,181.03,2,130.11,2,33.86,2,0.00,2,2.34,2,2297.4,2,2395.2,2,7.6092,2,-999,9,-999,9
49UF20140206,KS14-02,4108,1,-999,0,2,20140219,2353,12.9937,164.9877,5202,0.0,0,27.3771,34.9596,2,-999.,9,200.13,2,1.10,2,0.00,2,0.00,2,0.13,2,-999.,9,-999.,9,-999.,9,-999,9,-999,9
49UF20140206,KS14-02,4108,1,36,21995,2,20140219,0025,12.9937,164.9877,5202,11.1,11,27.3395,34.9595,2,-999.,9,200.51,2,1.11,2,0.00,2,0.00,2,0.13,2,-999.,9,-999.,9,-999.,9,-999,9,-999,9
49UF20140206,KS14-02,4108,1,35,22087,2,20140219,0024,12.9937,164.9877,5202,25.8,26,27.2955,34.9702,2,-999.,9,200.32,2,1.10,2,0.00,2,0.00,2,0.12,2,-999.,9,-999.,9,-999.,9,-999,9,-999,9
49UF20140206,KS14-02,4108,1,34,22666,2,20140219,0022,12.9937,164.9877,5202,50.5,50,27.2905,34.9767,2,-999.,9,200.29,2,1.09,2,0.00,2,0.00,2,0.12,2,-999.,9,-999.,9,-999.,9,-999,9,-999,9
49UF20140206,KS14-02,4108,1,33,21992,2,20140219,0021,12.9937,164.9877,5202,75.8,75,27.1630,35.1035,2,-999.,9,200.99,2,1.08,2,0.00,2,0.00,2,0.12,2,-999.,9,-999.,9,-999.,9,-999,9,-999,9
49UF20140206,KS14-02,4108,1,32,21991,2,20140219,0017,12.9937,164.9877,5202,100.9,100,26.1750,35.2395,2,-999.,9,204.28,6,1.13,6,0.00,6,0.00,6,0.09,6,-999.,9,-999.,9,-999.,9,-999,9,-999,9
49UF20140206,KS14-02,4108,1,31,21990,2,20140219,0016,12.9937,164.9877,5202,125.7,125,23.3518,35.2719,2,-999.,9,189.56,2,1.47,2,0.35,2,0.10,2,0.14,2,-999.,9,-999.,9,-999.,9,-999,9,-999,9
49UF20140206,KS14-02,4108,1,27,21986,2,20140219,0014,12.9937,164.9877,5202,152.8,152,22.1667,35.1801,2,-999.,9,183.64,2,1.79,2,1.15,2,0.07,2,0.21,2,-999.,9,-999.,9,-999.,9,-999,9,-999,9
49UF20140206,KS14-02,4108,1,26,21985,2,20140219,0013,12.9937,164.9877,5202,202.1,201,17.5998,34.7339,2,-999.,9,167.69,2,5.52,2,6.90,2,0.01,2,0.58,2,-999.,9,-999.,9,-999.,9,-999,9,-999,9
49UF20140206,KS14-02,4108,1,25,21984,2,20140219,0010,12.9937,164.9877,5202,253.3,252,12.7489,34.3575,2,-999.,9,138.70,2,16.41,2,16.79,2,0.00,2,1.28,2,-999.,9,-999.,9,-999.,9,-999,9,-999,9
49UF20140206,KS14-02,4108,1,24,21983,2,20140219,0007,12.9937,164.9877,5202,302.2,300,10.6673,34.3873,2,-999.,9,85.06,2,28.20,2,26.18,2,0.00,2,1.95,2,-999.,9,-999.,9,-999.,9,-999,9,-999,9
49UF20140206,KS14-02,4108,1,23,22095,2,20140219,0007,12.9937,164.9877,5202,302.2,300,10.6673,34.3873,2,-999.,9,84.97,2,28.19,2,26.18,2,0.00,2,1.95,2,-999.,9,-999.,9,-999.,9,-999,9,-999,9
49UF20140206,KS14-02,4108,1,22,22665,2,20140219,0004,12.9937,164.9877,5202,405.8,403,8.7888,34.4578,2,-999.,9,52.48,6,41.49,6,33.16,6,0.00,6,2.41,6,-999.,9,-999.,9,-999.,9,-999,9,-999,9
49UF20140206,KS14-02,4108,1,15,21974,2,20140219,0001,12.9937,164.9877,5202,503.4,500,7.5176,34.4749,2,-999.,9,52.77,2,52.56,2,35.79,2,0.00,2,2.57,2,-999.,9,-999.,9,-999.,9,-999,9,-999,9
49UF20140206,KS14-02,4108,1,14,21973,2,20140219,2358,12.9937,164.9877,5202,606.8,602,6.5960,34.4929,2,-999.,9,55.31,2,62.35,2,37.58,2,0.00,2,2.70,2,-999.,9,-999.,9,-999.,9,-999,9,-999,9
49UF20140206,KS14-02,4108,1,13,21972,2,20140219,2355,12.9937,164.9877,5202,705.4,700,5.7350,34.5014,2,-999.,9,61.77,2,74.13,2,38.45,2,0.00,2,2.76,2,-999.,9,-999.,9,-999.,9,-999,9,-999,9
49UF20140206,KS14-02,4108,1,12,21994,2,20140219,2352,12.9937,164.9877,5202,806.2,800,5.2730,34.5210,2,-999.,9,60.20,2,81.05,2,39.74,2,0.00,2,2.84,2,-999.,9,-999.,9,-999.,9,-999,9,-999,9
49UF20140206,KS14-02,4108,1,11,21970,2,20140219,2352,12.9937,164.9877,5202,806.2,800,5.2730,34.5210,2,-999.,9,60.30,2,80.85,2,39.59,2,0.00,2,2.83,2,-999.,9,-999.,9,-999.,9,-999,9,-999,9
49UF20140206,KS14-02,4108,1,10,21969,2,20140219,2349,12.9937,164.9877,5202,908.7,901,4.7864,34.5296,2,-999.,9,55.14,2,90.82,2,40.82,2,0.00,2,2.92,2,-999.,9,-999.,9,-999.,9,-999,9,-999,9
49UF20140206,KS14-02,4108,1,6,21965,2,20140219,2346,12.9937,164.9877,5202,1009.9,1002,4.4002,34.5408,2,-999.,9,59.03,2,98.05,2,40.87,2,0.00,2,2.93,2,-999.,9,-999.,9,-999.,9,-999,9,-999,9
49UF20140206,KS14-02,4108,1,5,21964,2,20140219,2341,12.9937,164.9877,5202,1210.9,1200,3.5524,34.5680,2,-999.,9,71.36,2,115.18,2,40.83,2,0.00,2,2.90,2,-999.,9,-999.,9,-999.,9,-999,9,-999,9
49UF20140206,KS14-02,4108,1,4,21963,2,20140219,2337,12.9937,164.9877,5202,1414.6,1402,3.0077,34.5910,2,-999.,9,82.25,2,126.29,2,40.32,2,0.00,2,2.85,2,-999.,9,-999.,9,-999.,9,-999,9,-999,9
49UF20140206,KS14-02,4108,1,3,22079,2,20140219,2332,12.9937,164.9877,5202,1615.8,1600,2.6415,34.6033,2,-999.,9,89.60,2,134.48,2,39.80,2,0.00,2,2.82,2,-999.,9,-999.,9,-999.,9,-999,9,-999,9
49UF20140206,KS14-02,4108,1,2,21961,2,20140219,2328,12.9937,164.9877,5202,1817.4,1799,2.3595,34.6195,2,-999.,9,99.07,2,139.50,2,39.50,3,0.00,2,2.77,2,-999.,9,-999.,9,-999.,9,-999,9,-999,9
49UF20140206,KS14-02,4108,1,1,21960,2,20140219,2323,12.9937,164.9877,5202,2022.0,2001,2.1133,34.6339,2,-999.,9,105.68,2,144.65,2,38.83,2,0.00,2,2.73,2,-999.,9,-999.,9,-999.,9,-999,9,-999,9