BOTTLE,20171117JMAGEMD
EXPOCODE,SECT_ID,STNNBR,CASTNO,SAMPNO,BTLNBR,BTLNBR_FLAG_W,DATE,TIME,LATITUDE,LONGITUDE,DEPTH,CTDPRS,CTDDEP,CTDTMP,CTDSAL,CTDSAL_FLAG_W,SALNTY,SALNTY_FLAG_W,OXYGEN,OXYGEN_FLAG_W,SILCAT,SILCAT_FLAG_W,NO2+NO3,NO2+NO3_FLAG_W,NITRIT,NITRIT_FLAG_W,PHSPHT,PHSPHT_FLAG_W,TCARBN,TCARBN_FLAG_W,ALKALI,ALKALI_FLAG_W,PH_TOT,PH_TOT_FLAG_W,CFC-11,CFC-11_FLAG_W,CFC-12,CFC-12_FLAG_W
,,,,,,,UTC,UTC,,,METER,DBAR,METERS,ITS-90,PSS-78,,PSS-78,,UMOL/KG,,UMOL/KG,,UMOL/KG,,UMOL/KG,,UMOL/KG,,UMOL/KG,,UMOL/KG,,@25DEG-C,,PMOL/KG,,PMOL/KG,
49UF20140206,KS14-02,4138,1,-999,0,2,20140308,1014,8.9862,137.9842,2869,0.0,0,28.9697,34.0845,2,-999.,9,196.33,2,1.17,2,0.00,2,0.00,2,0.01,2,-999.,9,-999.,9,-999.,9,-999,9,-999,9
49UF20140206,KS14-02,4138,1,33,21992,2,20140308,1034,8.9862,137.9842,2869,11.7,12,28.9744,34.0839,2,-999.,9,196.06,2,1.08,2,0.00,2,0.00,2,0.01,2,-999.,9,-999.,9,-999.,9,-999,9,-999,9
49UF20140206,KS14-02,4138,1,32,21991,2,20140308,1033,8.9862,137.9842,2869,27.4,27,28.9803,34.0840,2,-999.,9,196.30,2,1.12,2,0.00,2,0.00,2,0.01,2,-999.,9,-999.,9,-999.,9,-999,9,-999,9
49UF20140206,KS14-02,4138,1,31,21990,2,20140308,1031,8.9862,137.9842,2869,51.7,51,28.9415,34.0832,2,-999.,9,196.32,2,1.12,2,0.00,2,0.00,2,0.01,2,-999.,9,-999.,9,-999.,9,-999,9,-999,9
49UF20140206,KS14-02,4138,1,30,21989,2,20140308,1029,8.9862,137.9842,2869,77.6,77,28.7150,34.2669,2,-999.,9,196.97,6,1.16,6,0.00,6,0.00,6,0.03,6,-999.,9,-999.,9,-999.,9,-999,9,-999,9
49UF20140206,KS14-02,4138,1,29,21988,2,20140308,1027,8.9862,137.9842,2869,104.8,104,26.6031,34.8867,2,-999.,9,181.15,2,1.60,2,0.20,2,0.11,2,0.17,2,-999.,9,-999.,9,-999.,9,-999,9,-999,9
49UF20140206,KS14-02,4138,1,28,21987,3,20140308,1025,8.9862,137.9842,2869,128.2,127,22.2530,34.9106,2,-999.,9,154.49,2,4.38,2,5.39,2,0.04,2,0.51,2,-999.,9,-999.,9,-999.,9,-999,9,-999,9
49UF20140206,KS14-02,4138,1,27,21986,2,20140308,1023,8.9862,137.9842,2869,152.8,152,19.2102,34.8016,2,-999.,9,138.18,2,8.02,2,10.04,2,0.02,2,0.80,2,-999.,9,-999.,9,-999.,9,-999,9,-999,9
49UF20140206,KS14-02,4138,1,26,21985,2,20140308,1019,8.9862,137.9842,2869,202.5,201,13.8503,34.5510,2,-999.,9,117.94,2,18.11,2,18.30,2,0.00,2,1.37,2,-999.,9,-999.,9,-999.,9,-999,9,-999,9
49UF20140206,KS14-02,4138,1,25,21984,2,20140308,1016,8.9862,137.9842,2869,252.3,251,10.7154,34.4992,2,-999.,9,83.44,2,30.67,2,27.25,2,0.00,2,1.97,2,-999.,9,-999.,9,-999.,9,-999,9,-999,9
49UF20140206,KS14-02,4138,1,21,21980,2,20140308,1014,8.9862,137.9842,2869,304.1,302,9.8317,34.5437,2,-999.,9,69.54,2,34.58,2,30.53,2,0.00,2,2.19,2,-999.,9,-999.,9,-999.,9,-999,9,-999,9
49UF20140206,KS14-02,4138,1,20,21979,2,20140308,1011,8.9862,137.9842,2869,405.0,402,8.1386,34.5399,2,-999.,9,83.26,2,42.25,2,32.60,2,0.00,2,2.30,2,-999.,9,-999.,9,-999.,9,-999,9,-999,9
49UF20140206,KS14-02,4138,1,19,21978,3,20140308,1008,8.9862,137.9842,2869,506.6,503,7.3044,34.5197,2,-999.,9,91.36,2,48.27,2,33.35,2,0.00,2,2.36,2,-999.,9,-999.,9,-999.,9,-999,9,-999,9
49UF20140206,KS14-02,4138,1,18,21977,2,20140308,1005,8.9862,137.9842,2869,606.5,602,6.7097,34.5222,2,-999.,9,94.32,2,53.79,2,34.27,2,0.00,2,2.43,2,-999.,9,-999.,9,-999.,9,-999,9,-999,9
49UF20140206,KS14-02,4138,1,17,23679,2,20140308,1002,8.9862,137.9842,2869,707.4,702,6.1390,34.5210,2,-999.,9,88.36,2,62.88,2,35.78,2,0.00,2,2.54,2,-999.,9,-999.,9,-999.,9,-999,9,-999,9
49UF20140206,KS14-02,4138,1,16,21975,2,20140308,1002,8.9862,137.9842,2869,707.4,702,6.1390,34.5210,2,-999.,9,88.53,2,62.89,2,35.78,2,0.00,2,2.54,2,-999.,9,-999.,9,-999.,9,-999,9,-999,9
49UF20140206,KS14-02,4138,1,12,21994,2,20140308,0959,8.9862,137.9842,2869,809.7,804,5.6972,34.5268,2,-999.,9,86.99,2,70.02,2,36.58,2,0.00,2,2.60,2,-999.,9,-999.,9,-999.,9,-999,9,-999,9
49UF20140206,KS14-02,4138,1,11,21970,2,20140308,0956,8.9862,137.9842,2869,909.2,902,5.1774,34.5341,2,-999.,9,86.46,2,79.44,2,37.38,2,0.00,2,2.66,2,-999.,9,-999.,9,-999.,9,-999,9,-999,9
49UF20140206,KS14-02,4138,1,10,21969,2,20140308,0953,8.9862,137.9842,2869,1010.5,1002,4.6298,34.5469,2,-999.,9,86.76,6,89.71,6,38.01,6,0.00,6,2.71,6,-999.,9,-999.,9,-999.,9,-999,9,-999,9
49UF20140206,KS14-02,4138,1,6,21965,2,20140308,0948,8.9862,137.9842,2869,1215.3,1205,3.8710,34.5667,2,-999.,9,91.03,2,104.99,2,38.50,2,0.00,2,2.74,2,-999.,9,-999.,9,-999.,9,-999,9,-999,9
49UF20140206,KS14-02,4138,1,5,21964,2,20140308,0943,8.9862,137.9842,2869,1415.2,1402,3.2584,34.5856,2,-999.,9,96.08,2,117.67,2,38.71,2,0.00,2,2.75,2,-999.,9,-999.,9,-999.,9,-999,9,-999,9
49UF20140206,KS14-02,4138,1,4,21963,3,20140308,0939,8.9862,137.9842,2869,1616.9,1602,2.7857,34.6044,2,-999.,9,102.71,2,126.71,2,38.56,2,0.00,2,2.73,2,-999.,9,-999.,9,-999.,9,-999,9,-999,9
49UF20140206,KS14-02,4138,1,3,22079,2,20140308,0939,8.9862,137.9842,2869,1616.9,1602,2.7857,34.6044,2,-999.,9,102.48,2,126.08,2,38.59,2,0.00,2,2.72,2,-999.,9,-999.,9,-999.,9,-999,9,-999,9
49UF20140206,KS14-02,4138,1,2,21961,2,20140308,0934,8.9862,137.9842,2869,1820.6,1803,2.4004,34.6218,2,-999.,9,110.31,2,134.01,2,38.35,2,0.00,2,2.70,2,-999.,9,-999.,9,-999.,9,-999,9,-999,9
49UF20140206,KS14-02,4138,1,1,21960,2,20140308,0929,8.9862,137.9842,2869,2022.2,2001,2.2122,34.6307,2,-999.,9,114.60,2,137.69,2,38.11,2,0.00,2,2.68,2,-999.,9,-999.,9,-999.,9,-999,9,-999,9
49UF20140206,KS14-02,4139,1,-999,0,2,20140308,1717,8.9877,136.9892,3723,0.0,0,28.6260,34.0296,2,-999.0000,9,197.39,2,1.16,2,0.00,2,0.00,2,0.01,2,-999.,9,-999.,9,-999.,9,-999,9,-999,9
49UF20140206,KS14-02,4139,1,33,21992,2,20140308,1743,8.9877,136.9892,3723,12.5,12,28.6241,34.0294,2,34.0277,2,196.85,2,1.17,2,0.00,2,0.00,2,0.01,2,-999.,9,-999.,9,-999.,9,-999,9,-999,9
49UF20140206,KS14-02,4139,1,32,21991,2,20140308,1742,8.9877,136.9892,3723,25.8,26,28.6304,34.0284,2,-999.0000,9,196.91,2,1.14,2,0.00,2,0.00,2,0.01,2,-999.,9,-999.,9,-999.,9,-999,9,-999,9
49UF20140206,KS14-02,4139,1,31,21990,2,20140308,1741,8.9877,136.9892,3723,51.7,51,28.6095,34.0861,2,-999.0000,9,196.47,2,1.18,2,0.00,2,0.00,2,0.03,2,-999.,9,-999.,9,-999.,9,-999,9,-999,9
49UF20140206,KS14-02,4139,1,30,21989,2,20140308,1739,8.9877,136.9892,3723,76.5,76,27.0195,34.7735,2,-999.0000,9,189.98,2,1.58,2,0.00,2,0.00,2,0.15,2,-999.,9,-999.,9,-999.,9,-999,9,-999,9
49UF20140206,KS14-02,4139,1,29,21988,2,20140308,1738,8.9877,136.9892,3723,101.6,101,24.0722,34.9777,2,34.9826,4,169.65,6,2.82,6,2.30,6,0.28,6,0.34,6,-999.,9,-999.,9,-999.,9,-999,9,-999,9
49UF20140206,KS14-02,4139,1,28,21987,2,20140308,1736,8.9877,136.9892,3723,127.5,127,19.6517,34.8724,2,-999.0000,9,159.13,2,5.39,2,6.45,2,0.04,2,0.58,2,-999.,9,-999.,9,-999.,9,-999,9,-999,9
49UF20140206,KS14-02,4139,1,27,21986,2,20140308,1735,8.9877,136.9892,3723,152.1,151,17.2370,34.7193,2,-999.0000,9,145.66,2,9.50,2,10.78,2,0.01,2,0.87,2,-999.,9,-999.,9,-999.,9,-999,9,-999,9
49UF20140206,KS14-02,4139,1,26,21985,2,20140308,1733,8.9877,136.9892,3723,202.3,201,12.3058,34.4854,2,34.4858,2,108.46,2,23.18,2,21.64,2,0.00,2,1.60,2,-999.,9,-999.,9,-999.,9,-999,9,-999,9
49UF20140206,KS14-02,4139,1,25,21984,2,20140308,1729,8.9877,136.9892,3723,250.9,249,10.9689,34.4878,2,-999.0000,9,87.71,2,29.39,2,26.33,2,0.00,2,1.92,2,-999.,9,-999.,9,-999.,9,-999,9,-999,9
49UF20140206,KS14-02,4139,1,21,21980,2,20140308,1727,8.9877,136.9892,3723,303.9,302,9.6083,34.5391,2,-999.0000,9,71.34,2,35.53,2,30.66,2,0.00,2,2.20,2,-999.,9,-999.,9,-999.,9,-999,9,-999,9
49UF20140206,KS14-02,4139,1,20,21979,2,20140308,1724,8.9877,136.9892,3723,405.8,403,8.2998,34.5715,2,34.5708,2,85.41,2,39.10,2,32.25,2,0.00,2,2.28,2,-999.,9,-999.,9,-999.,9,-999,9,-999,9
49UF20140206,KS14-02,4139,1,19,21978,2,20140308,1721,8.9877,136.9892,3723,505.3,502,7.6824,34.5492,2,-999.0000,9,98.71,2,41.87,2,32.25,2,0.00,2,2.28,2,-999.,9,-999.,9,-999.,9,-999,9,-999,9
49UF20140206,KS14-02,4139,1,18,21977,2,20140308,1718,8.9877,136.9892,3723,604.6,600,7.0245,34.5257,2,34.5252,2,97.96,2,48.92,2,33.39,2,0.00,2,2.37,2,-999.,9,-999.,9,-999.,9,-999,9,-999,9
49UF20140206,KS14-02,4139,1,17,23679,2,20140308,1718,8.9877,136.9892,3723,604.6,600,7.0245,34.5257,2,34.5253,2,98.09,2,48.98,2,33.43,2,0.00,2,2.37,2,-999.,9,-999.,9,-999.,9,-999,9,-999,9
49UF20140206,KS14-02,4139,1,16,21975,2,20140308,1716,8.9877,136.9892,3723,706.0,701,6.2929,34.5188,2,34.5191,2,92.58,2,59.26,2,35.11,2,0.00,2,2.50,2,-999.,9,-999.,9,-999.,9,-999,9,-999,9
49UF20140206,KS14-02,4139,1,12,21994,2,20140308,1713,8.9877,136.9892,3723,807.3,801,5.6117,34.5257,2,34.5257,2,90.53,2,70.30,2,36.42,2,0.00,2,2.59,2,-999.,9,-999.,9,-999.,9,-999,9,-999,9
49UF20140206,KS14-02,4139,1,11,21970,2,20140308,1710,8.9877,136.9892,3723,909.5,902,4.9170,34.5393,2,-999.0000,9,86.43,2,84.21,2,37.69,2,0.00,2,2.69,2,-999.,9,-999.,9,-999.,9,-999,9,-999,9
49UF20140206,KS14-02,4139,1,10,21969,2,20140308,1707,8.9877,136.9892,3723,1011.5,1003,4.4211,34.5512,2,34.5509,2,88.08,2,93.29,2,38.09,2,0.00,2,2.72,2,-999.,9,-999.,9,-999.,9,-999,9,-999,9
49UF20140206,KS14-02,4139,1,6,21965,2,20140308,1702,8.9877,136.9892,3723,1211.7,1201,3.8628,34.5676,2,34.5683,6,91.45,6,104.41,6,38.43,6,0.00,6,2.74,6,-999.,9,-999.,9,-999.,9,-999,9,-999,9
49UF20140206,KS14-02,4139,1,5,21964,2,20140308,1657,8.9877,136.9892,3723,1414.0,1401,3.2377,34.5872,2,34.5878,2,96.80,2,117.54,2,38.64,2,0.00,2,2.75,2,-999.,9,-999.,9,-999.,9,-999,9,-999,9
49UF20140206,KS14-02,4139,1,4,21963,2,20140308,1657,8.9877,136.9892,3723,1414.0,1401,3.2377,34.5872,2,34.5873,2,97.31,2,117.13,2,38.67,2,0.00,2,2.75,2,-999.,9,-999.,9,-999.,9,-999,9,-999,9
49UF20140206,KS14-02,4139,1,3,22079,2,20140308,1653,8.9877,136.9892,3723,1618.4,1603,2.7670,34.6048,2,34.6050,2,102.85,2,126.83,2,38.56,2,0.00,2,2.73,2,-999.,9,-999.,9,-999.,9,-999,9,-999,9
49UF20140206,KS14-02,4139,1,2,21961,2,20140308,1649,8.9877,136.9892,3723,1821.1,1803,2.4549,34.6187,2,34.6190,6,108.74,2,132.85,2,38.42,2,0.00,2,2.71,2,-999.,9,-999.,9,-999.,9,-999,9,-999,9
49UF20140206,KS14-02,4139,1,1,21960,2,20140308,1644,8.9877,136.9892,3723,2019.0,1998,2.2010,34.6318,2,34.6308,2,115.12,2,137.36,2,38.20,2,0.00,2,2.68,2,-999.,9,-999.,9,-999.,9,-999,9,-999,9