BOTTLE,20171117JMAGEMD
EXPOCODE,SECT_ID,STNNBR,CASTNO,SAMPNO,BTLNBR,BTLNBR_FLAG_W,DATE,TIME,LATITUDE,LONGITUDE,DEPTH,CTDPRS,CTDDEP,CTDTMP,CTDSAL,CTDSAL_FLAG_W,SALNTY,SALNTY_FLAG_W,OXYGEN,OXYGEN_FLAG_W,SILCAT,SILCAT_FLAG_W,NO2+NO3,NO2+NO3_FLAG_W,NITRIT,NITRIT_FLAG_W,PHSPHT,PHSPHT_FLAG_W,TCARBN,TCARBN_FLAG_W,ALKALI,ALKALI_FLAG_W,PH_TOT,PH_TOT_FLAG_W,CFC-11,CFC-11_FLAG_W,CFC-12,CFC-12_FLAG_W
,,,,,,,UTC,UTC,,,METER,DBAR,METERS,ITS-90,PSS-78,,PSS-78,,UMOL/KG,,UMOL/KG,,UMOL/KG,,UMOL/KG,,UMOL/KG,,UMOL/KG,,UMOL/KG,,@25DEG-C,,PMOL/KG,,PMOL/KG,
49UF20140107,KS14-01,4071,1,-999,0,2,20140111,2152,25.4877,128.723,7040,0.0,0,23.4761,34.7290,2,-999.0000,9,211.00,2,1.27,2,0.02,2,0.00,2,0.02,2,-999.,9,-999.,9,-999.,9,-999,9,-999,9
49UF20140107,KS14-01,4071,1,36,21995,2,20140111,2210,25.4877,128.723,7040,9.7,10,23.4857,34.7297,2,34.7277,2,210.20,2,1.23,2,0.00,2,0.00,2,0.02,2,-999.,9,-999.,9,-999.,9,-999,9,-999,9
49UF20140107,KS14-01,4071,1,35,22087,2,20140111,2206,25.4877,128.723,7040,49.6,49,23.5035,34.7285,2,-999.0000,9,210.16,6,1.23,6,0.00,6,0.00,6,0.01,6,-999.,9,-999.,9,-999.,9,-999,9,-999,9
49UF20140107,KS14-01,4071,1,34,22666,2,20140111,2205,25.4877,128.723,7040,75.7,75,23.4472,34.7374,2,-999.0000,9,210.56,2,1.23,2,0.00,2,0.00,2,0.01,2,-999.,9,-999.,9,-999.,9,-999,9,-999,9
49UF20140107,KS14-01,4071,1,33,21992,2,20140111,2204,25.4877,128.723,7040,100.9,100,23.0244,34.7883,2,34.7906,2,202.19,2,1.48,2,0.42,2,0.07,2,0.05,2,-999.,9,-999.,9,-999.,9,-999,9,-999,9
49UF20140107,KS14-01,4071,1,32,21991,2,20140111,2203,25.4877,128.723,7040,125.2,124,21.3553,34.9040,2,-999.0000,9,193.82,2,1.86,2,1.12,2,0.02,2,0.10,2,-999.,9,-999.,9,-999.,9,-999,9,-999,9
49UF20140107,KS14-01,4071,1,31,21990,2,20140111,2201,25.4877,128.723,7040,151.4,150,20.3719,34.7995,2,-999.0000,9,199.75,2,2.27,2,1.86,2,0.02,2,0.14,2,-999.,9,-999.,9,-999.,9,-999,9,-999,9
49UF20140107,KS14-01,4071,1,30,21989,2,20140111,2200,25.4877,128.723,7040,201.5,200,18.5434,34.7709,2,34.7695,2,202.53,2,2.96,2,3.29,2,0.01,2,0.22,2,-999.,9,-999.,9,-999.,9,-999,9,-999,9
49UF20140107,KS14-01,4071,1,29,21988,2,20140111,2158,25.4877,128.723,7040,251.4,250,17.9214,34.7503,2,-999.0000,9,199.84,2,3.57,2,4.30,2,0.00,2,0.28,2,-999.,9,-999.,9,-999.,9,-999,9,-999,9
49UF20140107,KS14-01,4071,1,28,21987,2,20140111,2156,25.4877,128.723,7040,302.1,300,17.2087,34.7097,2,-999.0000,9,204.02,2,4.46,2,5.04,2,0.00,2,0.33,2,-999.,9,-999.,9,-999.,9,-999,9,-999,9
49UF20140107,KS14-01,4071,1,27,21986,2,20140111,2152,25.4877,128.723,7040,403.3,400,15.1382,34.5682,2,34.5688,6,184.25,2,10.82,2,10.12,2,0.00,2,0.69,2,-999.,9,-999.,9,-999.,9,-999,9,-999,9
49UF20140107,KS14-01,4071,1,26,21985,2,20140111,2149,25.4877,128.723,7040,505.4,502,12.1986,34.3782,2,-999.0000,9,172.29,2,21.00,2,15.84,2,0.00,2,1.10,2,-999.,9,-999.,9,-999.,9,-999,9,-999,9
49UF20140107,KS14-01,4071,1,25,21984,2,20140111,2146,25.4877,128.723,7040,607.2,602,9.1016,34.2074,2,34.2098,2,150.23,2,38.78,2,23.11,2,0.00,2,1.64,2,-999.,9,-999.,9,-999.,9,-999,9,-999,9
49UF20140107,KS14-01,4071,1,24,21983,2,20140111,2141,25.4877,128.723,7040,707.8,702,6.8890,34.1659,2,-999.0000,9,116.32,2,62.37,2,30.12,2,0.00,2,2.16,2,-999.,9,-999.,9,-999.,9,-999,9,-999,9
49UF20140107,KS14-01,4071,1,23,22095,2,20140111,2138,25.4877,128.723,7040,810.4,804,5.3520,34.2235,2,34.2183,2,82.76,2,85.83,2,35.64,2,0.00,2,2.56,2,-999.,9,-999.,9,-999.,9,-999,9,-999,9
49UF20140107,KS14-01,4071,1,22,22665,2,20140111,2134,25.4877,128.723,7040,908.2,900,4.4187,34.2841,2,-999.0000,9,64.77,2,103.97,2,38.67,2,0.00,2,2.77,2,-999.,9,-999.,9,-999.,9,-999,9,-999,9
49UF20140107,KS14-01,4071,1,21,21980,2,20140111,2131,25.4877,128.723,7040,1008.9,1000,3.9102,34.3577,2,34.3566,6,59.43,2,114.84,2,39.92,2,0.00,2,2.86,2,-999.,9,-999.,9,-999.,9,-999,9,-999,9
49UF20140107,KS14-01,4071,1,20,21979,2,20140111,2121,25.4877,128.723,7040,1263.5,1252,3.0993,34.4728,2,34.4716,2,69.72,2,131.01,2,40.11,2,0.00,2,2.86,2,-999.,9,-999.,9,-999.,9,-999,9,-999,9
49UF20140107,KS14-01,4071,1,19,21978,2,20140111,2115,25.4877,128.723,7040,1515.5,1500,2.5554,34.5259,2,34.5247,2,78.70,2,140.76,2,40.00,2,0.00,2,2.84,2,-999.,9,-999.,9,-999.,9,-999,9,-999,9
49UF20140107,KS14-01,4071,1,18,21977,2,20140111,2105,25.4877,128.723,7040,1770.1,1751,2.2071,34.5802,2,34.5796,2,99.18,6,142.48,6,38.97,6,0.00,6,2.75,6,-999.,9,-999.,9,-999.,9,-999,9,-999,9
49UF20140107,KS14-01,4071,1,17,23679,2,20140111,2059,25.4877,128.723,7040,2022.5,2000,1.9932,34.6125,2,34.6124,2,113.65,2,142.71,2,38.16,2,0.00,2,2.68,2,-999.,9,-999.,9,-999.,9,-999,9,-999,9
49UF20140107,KS14-01,4071,1,16,21975,2,20140111,2052,25.4877,128.723,7040,2277.0,2250,1.8556,34.6345,2,34.6342,2,124.17,2,142.62,2,37.62,2,0.00,2,2.64,2,-999.,9,-999.,9,-999.,9,-999,9,-999,9
49UF20140107,KS14-01,4071,1,15,21974,2,20140111,2047,25.4877,128.723,7040,2531.1,2500,1.7526,34.6464,2,34.6464,2,130.87,2,142.89,2,37.18,2,0.00,2,2.60,2,-999.,9,-999.,9,-999.,9,-999,9,-999,9
49UF20140107,KS14-01,4071,1,14,21973,2,20140111,2040,25.4877,128.723,7040,2785.3,2749,1.6784,34.6563,2,34.6567,2,136.57,2,142.65,2,36.89,2,0.00,2,2.57,2,-999.,9,-999.,9,-999.,9,-999,9,-999,9
49UF20140107,KS14-01,4071,1,13,21972,2,20140111,2035,25.4877,128.723,7040,3039.9,2999,1.6220,34.6637,2,34.6640,6,141.61,2,142.51,2,36.61,2,0.00,2,2.55,2,-999.,9,-999.,9,-999.,9,-999,9,-999,9
49UF20140107,KS14-01,4071,1,12,21994,2,20140111,2029,25.4877,128.723,7040,3293.8,3247,1.5978,34.6683,2,34.6680,2,144.46,6,142.26,6,36.43,6,0.00,6,2.54,6,-999.,9,-999.,9,-999.,9,-999,9,-999,9
49UF20140107,KS14-01,4071,1,11,21970,2,20140111,2025,25.4877,128.723,7040,3548.7,3496,1.5776,34.6726,2,34.6734,2,147.87,2,142.23,2,36.24,2,0.00,2,2.52,2,-999.,9,-999.,9,-999.,9,-999,9,-999,9
49UF20140107,KS14-01,4071,1,10,21969,2,20140111,2019,25.4877,128.723,7040,3804.6,3746,1.5779,34.6750,2,34.6747,2,149.67,2,141.67,2,36.09,2,0.00,2,2.51,2,-999.,9,-999.,9,-999.,9,-999,9,-999,9
49UF20140107,KS14-01,4071,1,9,21968,2,20140111,2014,25.4877,128.723,7040,4061.2,3997,1.5884,34.6767,2,34.6764,6,150.92,2,141.78,2,36.03,2,0.00,2,2.50,2,-999.,9,-999.,9,-999.,9,-999,9,-999,9
49UF20140107,KS14-01,4071,1,8,21982,2,20140111,2008,25.4877,128.723,7040,4319.3,4248,1.6017,34.6784,2,34.6785,2,152.49,2,141.45,2,35.95,2,0.00,2,2.49,2,-999.,9,-999.,9,-999.,9,-999,9,-999,9
49UF20140107,KS14-01,4071,1,7,21966,2,20140111,2004,25.4877,128.723,7040,4574.9,4497,1.6222,34.6794,2,34.6792,2,152.69,2,141.14,2,35.90,2,0.00,2,2.49,2,-999.,9,-999.,9,-999.,9,-999,9,-999,9
49UF20140107,KS14-01,4071,1,6,21965,2,20140111,1958,25.4877,128.723,7040,4834.0,4749,1.6458,34.6801,2,34.6812,2,153.78,2,141.15,2,35.85,2,0.00,2,2.49,2,-999.,9,-999.,9,-999.,9,-999,9,-999,9
49UF20140107,KS14-01,4071,1,5,21964,2,20140111,1952,25.4877,128.723,7040,5092.1,5000,1.6705,34.6809,2,34.6808,6,154.23,2,141.08,2,35.80,2,0.00,2,2.48,2,-999.,9,-999.,9,-999.,9,-999,9,-999,9
49UF20140107,KS14-01,4071,1,4,21963,2,20140111,1945,25.4877,128.723,7040,5349.6,5249,1.7008,34.6813,2,34.6812,2,155.00,2,140.96,2,35.77,2,0.00,2,2.48,2,-999.,9,-999.,9,-999.,9,-999,9,-999,9
49UF20140107,KS14-01,4071,1,3,22079,2,20140111,1939,25.4877,128.723,7040,5606.9,5499,1.7322,34.6814,2,34.6801,2,154.25,6,140.76,6,35.79,6,0.00,6,2.48,6,-999.,9,-999.,9,-999.,9,-999,9,-999,9
49UF20140107,KS14-01,4071,1,2,21961,3,20140111,1932,25.4877,128.723,7040,5866.6,5750,1.7668,34.6816,2,34.6818,2,155.00,2,140.80,2,35.71,2,0.00,2,2.48,2,-999.,9,-999.,9,-999.,9,-999,9,-999,9
49UF20140107,KS14-01,4071,1,1,21960,2,20140111,1925,25.4877,128.723,7040,6143.6,6018,1.8060,34.6816,2,34.6820,6,154.93,2,140.76,2,35.75,2,0.00,2,2.48,2,-999.,9,-999.,9,-999.,9,-999,9,-999,9
49UF20140107,KS14-01,4074,1,-999,0,2,20140112,0745,25.9288,128.1535,2053,0.0,0,22.6273,34.6608,2,-999.,9,216.35,2,-999.,9,-999.,9,-999.,9,-999.,9,-999.,9,-999.,9,-999.,9,-999,9,-999,9
49UF20140107,KS14-01,4074,1,36,21995,3,20140112,0801,25.9288,128.1535,2053,10.4,10,22.5787,34.6591,2,-999.,9,216.74,2,-999.,9,-999.,9,-999.,9,-999.,9,-999.,9,-999.,9,-999.,9,-999,9,-999,9
49UF20140107,KS14-01,4074,1,35,22087,2,20140112,0800,25.9288,128.1535,2053,24.8,25,22.5160,34.6603,2,-999.,9,216.64,2,-999.,9,-999.,9,-999.,9,-999.,9,-999.,9,-999.,9,-999.,9,-999,9,-999,9
49UF20140107,KS14-01,4074,1,34,22666,2,20140112,0755,25.9288,128.1535,2053,50.7,50,22.4635,34.6613,2,-999.,9,213.79,2,-999.,9,-999.,9,-999.,9,-999.,9,-999.,9,-999.,9,-999.,9,-999,9,-999,9
49UF20140107,KS14-01,4074,1,30,21989,2,20140112,0754,25.9288,128.1535,2053,74.1,74,22.2937,34.7135,2,-999.,9,214.95,6,-999.,9,-999.,9,-999.,9,-999.,9,-999.,9,-999.,9,-999.,9,-999,9,-999,9
49UF20140107,KS14-01,4074,1,29,21988,2,20140112,0753,25.9288,128.1535,2053,99.8,99,22.2507,34.7284,2,-999.,9,214.55,2,-999.,9,-999.,9,-999.,9,-999.,9,-999.,9,-999.,9,-999.,9,-999,9,-999,9
49UF20140107,KS14-01,4074,1,28,21987,3,20140112,0751,25.9288,128.1535,2053,124.9,124,21.0789,34.7750,2,-999.,9,201.06,2,-999.,9,-999.,9,-999.,9,-999.,9,-999.,9,-999.,9,-999.,9,-999,9,-999,9
49UF20140107,KS14-01,4074,1,27,21986,2,20140112,0750,25.9288,128.1535,2053,149.8,149,19.7528,34.8083,2,-999.,9,198.46,2,-999.,9,-999.,9,-999.,9,-999.,9,-999.,9,-999.,9,-999.,9,-999,9,-999,9
49UF20140107,KS14-01,4074,1,26,21985,2,20140112,0749,25.9288,128.1535,2053,200.6,199,18.5055,34.7749,2,-999.,9,200.51,2,-999.,9,-999.,9,-999.,9,-999.,9,-999.,9,-999.,9,-999.,9,-999,9,-999,9
49UF20140107,KS14-01,4074,1,25,21984,2,20140112,0747,25.9288,128.1535,2053,251.7,250,17.4310,34.7212,2,-999.,9,201.67,2,-999.,9,-999.,9,-999.,9,-999.,9,-999.,9,-999.,9,-999.,9,-999,9,-999,9
49UF20140107,KS14-01,4074,1,24,21983,2,20140112,0746,25.9288,128.1535,2053,302.3,300,16.7647,34.6790,2,-999.,9,198.64,2,-999.,9,-999.,9,-999.,9,-999.,9,-999.,9,-999.,9,-999.,9,-999,9,-999,9
49UF20140107,KS14-01,4074,1,23,22095,2,20140112,0743,25.9288,128.1535,2053,402.0,399,14.6350,34.5292,2,-999.,9,181.68,2,-999.,9,-999.,9,-999.,9,-999.,9,-999.,9,-999.,9,-999.,9,-999,9,-999,9
49UF20140107,KS14-01,4074,1,22,22665,2,20140112,0741,25.9288,128.1535,2053,503.6,500,11.1165,34.2949,2,-999.,9,171.31,2,-999.,9,-999.,9,-999.,9,-999.,9,-999.,9,-999.,9,-999.,9,-999,9,-999,9
49UF20140107,KS14-01,4074,1,18,21977,2,20140112,0738,25.9288,128.1535,2053,603.9,599,8.8495,34.2333,2,-999.,9,130.50,2,-999.,9,-999.,9,-999.,9,-999.,9,-999.,9,-999.,9,-999.,9,-999,9,-999,9
49UF20140107,KS14-01,4074,1,17,23679,2,20140112,0736,25.9288,128.1535,2053,705.5,700,6.6603,34.2237,2,-999.,9,95.70,2,-999.,9,-999.,9,-999.,9,-999.,9,-999.,9,-999.,9,-999.,9,-999,9,-999,9
49UF20140107,KS14-01,4074,1,16,21975,2,20140112,0733,25.9288,128.1535,2053,806.8,800,5.5198,34.2842,2,-999.,9,79.09,6,-999.,9,-999.,9,-999.,9,-999.,9,-999.,9,-999.,9,-999.,9,-999,9,-999,9
49UF20140107,KS14-01,4074,1,15,21974,2,20140112,0731,25.9288,128.1535,2053,907.5,900,4.9595,34.3243,2,-999.,9,72.75,2,-999.,9,-999.,9,-999.,9,-999.,9,-999.,9,-999.,9,-999.,9,-999,9,-999,9
49UF20140107,KS14-01,4074,1,14,21973,2,20140112,0730,25.9288,128.1535,2053,907.5,900,4.9595,34.3243,2,-999.,9,72.48,2,-999.,9,-999.,9,-999.,9,-999.,9,-999.,9,-999.,9,-999.,9,-999,9,-999,9
49UF20140107,KS14-01,4074,1,13,21972,2,20140112,0728,25.9288,128.1535,2053,1009.7,1001,4.0688,34.3945,2,-999.,9,63.76,2,-999.,9,-999.,9,-999.,9,-999.,9,-999.,9,-999.,9,-999.,9,-999,9,-999,9
49UF20140107,KS14-01,4074,1,9,21968,2,20140112,0724,25.9288,128.1535,2053,1211.7,1200,3.1913,34.4610,2,-999.,9,66.95,2,-999.,9,-999.,9,-999.,9,-999.,9,-999.,9,-999.,9,-999.,9,-999,9,-999,9
49UF20140107,KS14-01,4074,1,8,21982,2,20140112,0723,25.9288,128.1535,2053,1211.7,1200,3.1913,34.4610,2,-999.,9,67.19,2,-999.,9,-999.,9,-999.,9,-999.,9,-999.,9,-999.,9,-999.,9,-999,9,-999,9
49UF20140107,KS14-01,4074,1,7,21966,2,20140112,0719,25.9288,128.1535,2053,1414.3,1400,2.7830,34.5133,2,-999.,9,78.79,2,-999.,9,-999.,9,-999.,9,-999.,9,-999.,9,-999.,9,-999.,9,-999,9,-999,9
49UF20140107,KS14-01,4074,1,6,21965,2,20140112,0714,25.9288,128.1535,2053,1615.9,1599,2.4027,34.5495,2,-999.,9,88.18,2,-999.,9,-999.,9,-999.,9,-999.,9,-999.,9,-999.,9,-999.,9,-999,9,-999,9
49UF20140107,KS14-01,4074,1,5,21964,2,20140112,0710,25.9288,128.1535,2053,1817.9,1798,2.1956,34.5779,2,-999.,9,98.50,2,-999.,9,-999.,9,-999.,9,-999.,9,-999.,9,-999.,9,-999.,9,-999,9,-999,9
49UF20140107,KS14-01,4074,1,4,21963,3,20140112,0706,25.9288,128.1535,2053,2020.1,1997,2.0126,34.6039,2,-999.,9,109.67,2,-999.,9,-999.,9,-999.,9,-999.,9,-999.,9,-999.,9,-999.,9,-999,9,-999,9
49UF20140107,KS14-01,4076,1,-999,0,2,20140112,1655,26.0705,127.895,401,0.0,0,22.4364,34.6586,2,-999.0000,9,215.65,2,1.21,2,0.12,2,0.03,2,0.05,2,-999.,9,-999.,9,-999.,9,-999,9,-999,9
49UF20140107,KS14-01,4076,1,36,21995,2,20140112,1720,26.0705,127.895,401,11.0,11,22.4460,34.6590,2,34.6571,2,215.40,2,1.13,2,0.07,2,0.03,2,0.04,2,-999.,9,-999.,9,-999.,9,-999,9,-999,9
49UF20140107,KS14-01,4076,1,35,22087,2,20140112,1718,26.0705,127.895,401,26.7,27,22.4409,34.6640,2,-999.0000,9,212.38,2,1.38,2,0.33,2,0.08,2,0.05,2,-999.,9,-999.,9,-999.,9,-999,9,-999,9
49UF20140107,KS14-01,4076,1,34,22666,2,20140112,1715,26.0705,127.895,401,51.9,52,22.1812,34.6808,2,-999.0000,9,215.73,2,1.33,2,0.10,2,0.05,2,0.03,2,-999.,9,-999.,9,-999.,9,-999,9,-999,9
49UF20140107,KS14-01,4076,1,27,21986,2,20140112,1713,26.0705,127.895,401,76.2,76,22.0594,34.6924,2,-999.0000,9,212.98,2,1.47,2,0.32,2,0.14,2,0.05,2,-999.,9,-999.,9,-999.,9,-999,9,-999,9
49UF20140107,KS14-01,4076,1,26,21985,2,20140112,1712,26.0705,127.895,401,102.1,101,21.7042,34.7431,2,34.7410,6,209.05,2,1.78,2,0.71,2,0.17,2,0.06,2,-999.,9,-999.,9,-999.,9,-999,9,-999,9
49UF20140107,KS14-01,4076,1,25,21984,2,20140112,1711,26.0705,127.895,401,127.5,127,21.4263,34.7395,2,-999.0000,9,211.07,6,1.82,6,0.81,6,0.24,6,0.07,6,-999.,9,-999.,9,-999.,9,-999,9,-999,9
49UF20140107,KS14-01,4076,1,16,21975,2,20140112,1709,26.0705,127.895,401,152.2,151,21.3337,34.7488,2,-999.0000,9,209.59,2,1.90,2,0.96,2,0.18,2,0.08,2,-999.,9,-999.,9,-999.,9,-999,9,-999,9
49UF20140107,KS14-01,4076,1,15,21974,2,20140112,1709,26.0705,127.895,401,152.2,151,21.3337,34.7488,2,-999.0000,9,209.36,2,1.90,2,0.95,2,0.18,2,0.08,2,-999.,9,-999.,9,-999.,9,-999,9,-999,9
49UF20140107,KS14-01,4076,1,14,21973,2,20140112,1707,26.0705,127.895,401,202.8,201,19.3856,34.8058,2,34.8049,6,185.13,2,3.85,2,4.27,2,0.01,2,0.30,2,-999.,9,-999.,9,-999.,9,-999,9,-999,9
49UF20140107,KS14-01,4076,1,13,21972,2,20140112,1706,26.0705,127.895,401,252.5,251,18.2676,34.7683,2,-999.0000,9,187.76,6,4.35,6,5.18,6,0.01,6,0.35,6,-999.,9,-999.,9,-999.,9,-999,9,-999,9
49UF20140107,KS14-01,4076,1,7,21966,2,20140112,1704,26.0705,127.895,401,303.0,301,17.1996,34.7032,2,-999.0000,9,188.85,2,5.79,2,6.50,2,0.01,2,0.44,2,-999.,9,-999.,9,-999.,9,-999,9,-999,9
49UF20140107,KS14-01,4076,1,6,21965,2,20140112,1704,26.0705,127.895,401,303.0,301,17.1996,34.7032,2,-999.0000,9,188.56,2,5.79,2,6.49,2,0.01,2,0.44,2,-999.,9,-999.,9,-999.,9,-999,9,-999,9
49UF20140107,KS14-01,4076,1,5,21964,2,20140112,1701,26.0705,127.895,401,402.5,399,14.4749,34.5226,2,34.5205,6,176.20,2,12.62,2,11.68,2,0.00,2,0.81,2,-999.,9,-999.,9,-999.,9,-999,9,-999,9
49UF20140107,KS14-01,4077,1,-999,0,2,20140117,0100,28.6988,126.4498,130,0.0,0,21.4643,34.6403,2,34.6569,4,219.08,2,2.06,2,0.86,2,0.28,2,0.11,2,1975.2,2,2273.5,2,8.0651,2,-999,9,-999,9
49UF20140107,KS14-01,4077,1,36,21995,2,20140117,0113,28.6988,126.4498,130,11.0,11,21.4614,34.6419,2,34.6412,2,219.14,2,2.02,2,0.84,2,0.28,2,0.09,2,-999.0,9,-999.0,9,-999.0000,9,-999,9,-999,9
49UF20140107,KS14-01,4077,1,35,22087,2,20140117,0112,28.6988,126.4498,130,21.0,21,21.4816,34.6407,2,-999.0000,9,218.68,2,2.02,2,0.84,2,0.28,2,0.09,2,-999.0,9,-999.0,9,-999.0000,9,-999,9,-999,9
49UF20140107,KS14-01,4077,1,34,22666,2,20140117,0111,28.6988,126.4498,130,31.7,31,21.4791,34.6397,2,-999.0000,9,218.44,2,2.02,2,0.84,2,0.28,2,0.10,2,-999.0,9,-999.0,9,-999.0000,9,-999,9,-999,9
49UF20140107,KS14-01,4077,1,27,21986,2,20140117,0109,28.6988,126.4498,130,52.7,52,20.4344,34.5585,2,-999.0000,9,204.28,2,4.99,2,3.36,2,0.19,2,0.25,2,-999.0,9,-999.0,9,-999.0000,9,-999,9,-999,9
49UF20140107,KS14-01,4077,1,26,21985,2,20140117,0107,28.6988,126.4498,130,77.1,77,19.5932,34.5635,2,-999.0000,9,221.75,6,3.72,6,1.95,6,0.72,6,0.17,6,-999.0,9,-999.0,9,-999.0000,9,-999,9,-999,9
49UF20140107,KS14-01,4077,1,25,21984,2,20140117,0106,28.6988,126.4498,130,101.7,101,19.5371,34.5598,2,34.5604,2,221.38,2,3.95,2,1.99,2,0.73,2,0.17,2,-999.0,9,-999.0,9,-999.0000,9,-999,9,-999,9
49UF20140107,KS14-01,4077,1,6,21965,2,20140117,0104,28.6988,126.4498,130,123.3,122,19.5390,34.5599,2,-999.0000,9,221.11,2,3.99,2,1.99,2,0.73,2,0.17,2,-999.0,9,-999.0,9,-999.0000,9,-999,9,-999,9
49UF20140107,KS14-01,4077,1,5,21964,2,20140117,0104,28.6988,126.4498,130,123.5,123,19.5390,34.5598,2,34.5597,2,221.65,2,3.98,2,2.00,2,0.73,2,0.18,2,-999.0,9,-999.0,9,-999.0000,9,-999,9,-999,9
49UF20140107,KS14-01,4077,1,4,21963,2,20140117,0103,28.6988,126.4498,130,123.5,123,19.5390,34.5598,2,34.5592,2,221.38,2,4.03,2,2.00,2,0.73,2,0.18,2,-999.0,9,-999.0,9,-999.0000,9,-999,9,-999,9
49UF20140107,KS14-01,4079,1,-999,0,2,20140117,0310,28.5533,126.685,155,0.0,0,22.2890,34.6246,2,-999.0000,9,216.10,2,1.96,2,0.83,2,0.29,2,0.10,2,-999.,9,-999.,9,-999.,9,-999,9,-999,9
49UF20140107,KS14-01,4079,1,36,21995,2,20140117,0326,28.5533,126.685,155,11.0,11,22.2907,34.6244,2,34.6250,6,213.92,2,1.96,2,0.85,2,0.29,2,0.10,2,-999.,9,-999.,9,-999.,9,-999,9,-999,9
49UF20140107,KS14-01,4079,1,35,22087,2,20140117,0325,28.5533,126.685,155,21.0,21,22.2924,34.6236,2,-999.0000,9,214.33,2,1.96,2,0.84,2,0.30,2,0.09,2,-999.,9,-999.,9,-999.,9,-999,9,-999,9
49UF20140107,KS14-01,4079,1,34,22666,2,20140117,0324,28.5533,126.685,155,31.6,31,22.2885,34.6236,2,-999.0000,9,214.10,6,1.95,6,0.83,6,0.30,6,0.09,6,-999.,9,-999.,9,-999.,9,-999,9,-999,9
49UF20140107,KS14-01,4079,1,27,21986,2,20140117,0323,28.5533,126.685,155,52.3,52,22.0733,34.6130,2,-999.0000,9,214.19,2,2.04,2,0.99,2,0.38,2,0.10,2,-999.,9,-999.,9,-999.,9,-999,9,-999,9
49UF20140107,KS14-01,4079,1,26,21985,2,20140117,0322,28.5533,126.685,155,52.3,52,22.0733,34.6130,2,-999.0000,9,214.09,2,2.00,2,1.01,2,0.37,2,0.10,2,-999.,9,-999.,9,-999.,9,-999,9,-999,9
49UF20140107,KS14-01,4079,1,25,21984,2,20140117,0321,28.5533,126.685,155,75.4,75,21.8900,34.6150,2,-999.0000,9,215.47,2,2.08,2,1.02,2,0.39,2,0.15,2,-999.,9,-999.,9,-999.,9,-999,9,-999,9
49UF20140107,KS14-01,4079,1,19,21978,2,20140117,0319,28.5533,126.685,155,101.9,101,21.7266,34.6145,2,34.6147,2,215.62,2,2.12,2,1.11,2,0.38,2,0.11,2,-999.,9,-999.,9,-999.,9,-999,9,-999,9
49UF20140107,KS14-01,4079,1,6,21965,2,20140117,0317,28.5533,126.685,155,126.8,126,19.7036,34.5942,2,-999.0000,9,221.77,2,2.90,2,1.83,2,0.65,2,0.16,2,-999.,9,-999.,9,-999.,9,-999,9,-999,9
49UF20140107,KS14-01,4079,1,5,21964,2,20140117,0316,28.5533,126.685,155,147.0,146,18.8182,34.5746,2,-999.0000,9,202.22,2,7.17,2,4.71,2,0.31,2,0.35,2,-999.,9,-999.,9,-999.,9,-999,9,-999,9
49UF20140107,KS14-01,4079,1,4,21963,2,20140117,0315,28.5533,126.685,155,147.2,146,18.7835,34.5731,2,34.5740,2,201.87,2,7.24,2,4.75,2,0.31,2,0.35,2,-999.,9,-999.,9,-999.,9,-999,9,-999,9