BOTTLE,20171117JMAGEMD
EXPOCODE,SECT_ID,STNNBR,CASTNO,SAMPNO,BTLNBR,BTLNBR_FLAG_W,DATE,TIME,LATITUDE,LONGITUDE,DEPTH,CTDPRS,CTDDEP,CTDTMP,CTDSAL,CTDSAL_FLAG_W,SALNTY,SALNTY_FLAG_W,OXYGEN,OXYGEN_FLAG_W,SILCAT,SILCAT_FLAG_W,NO2+NO3,NO2+NO3_FLAG_W,NITRIT,NITRIT_FLAG_W,PHSPHT,PHSPHT_FLAG_W,TCARBN,TCARBN_FLAG_W,ALKALI,ALKALI_FLAG_W,PH_TOT,PH_TOT_FLAG_W,CFC-11,CFC-11_FLAG_W,CFC-12,CFC-12_FLAG_W
,,,,,,,UTC,UTC,,,METER,DBAR,METERS,ITS-90,PSS-78,,PSS-78,,UMOL/KG,,UMOL/KG,,UMOL/KG,,UMOL/KG,,UMOL/KG,,UMOL/KG,,UMOL/KG,,@25DEG-C,,PMOL/KG,,PMOL/KG,
49UF20140107,KS14-01,4063,1,-999,0,2,20140110,0931,23.9998,130.9902,3311,0.0,0,23.2559,34.7591,2,-999.0000,9,211.87,2,1.44,2,0.06,2,0.00,2,0.03,2,-999.,9,-999.,9,-999.,9,-999,9,-999,9
49UF20140107,KS14-01,4063,1,36,21995,2,20140110,0949,23.9998,130.9902,3311,9.4,9,23.2691,34.7585,2,34.7571,2,211.05,2,1.39,2,0.01,2,0.00,2,0.02,2,-999.,9,-999.,9,-999.,9,-999,9,-999,9
49UF20140107,KS14-01,4063,1,35,22087,2,20140110,0948,23.9998,130.9902,3311,25.1,25,23.2708,34.7582,2,-999.0000,9,211.21,2,1.40,2,0.03,2,0.01,2,0.02,2,-999.,9,-999.,9,-999.,9,-999,9,-999,9
49UF20140107,KS14-01,4063,1,34,22666,2,20140110,0946,23.9998,130.9902,3311,50.6,50,23.2725,34.7584,2,-999.0000,9,-999.00,5,1.43,2,0.02,2,0.00,2,0.02,2,-999.,9,-999.,9,-999.,9,-999,9,-999,9
49UF20140107,KS14-01,4063,1,30,21989,2,20140110,0945,23.9998,130.9902,3311,76.0,76,23.2736,34.7588,2,-999.0000,9,211.16,2,1.33,2,0.02,2,0.00,2,0.02,2,-999.,9,-999.,9,-999.,9,-999,9,-999,9
49UF20140107,KS14-01,4063,1,29,21988,2,20140110,0941,23.9998,130.9902,3311,100.7,100,23.2811,34.7587,2,34.7569,2,211.20,2,1.41,2,0.02,2,0.00,2,0.02,2,-999.,9,-999.,9,-999.,9,-999,9,-999,9
49UF20140107,KS14-01,4063,1,28,21987,2,20140110,0939,23.9998,130.9902,3311,126.2,125,23.2884,34.7578,2,-999.0000,9,211.27,2,1.41,2,0.02,2,0.00,2,0.02,2,-999.,9,-999.,9,-999.,9,-999,9,-999,9
49UF20140107,KS14-01,4063,1,27,21986,2,20140110,0938,23.9998,130.9902,3311,149.4,148,22.5170,34.7072,2,-999.0000,9,211.34,2,1.71,2,0.20,2,0.17,2,0.03,2,-999.,9,-999.,9,-999.,9,-999,9,-999,9
49UF20140107,KS14-01,4063,1,26,21985,2,20140110,0935,23.9998,130.9902,3311,199.3,198,20.1873,34.8522,2,34.8500,6,200.75,2,2.29,2,1.39,2,0.02,2,0.11,2,-999.,9,-999.,9,-999.,9,-999,9,-999,9
49UF20140107,KS14-01,4063,1,25,21984,2,20140110,0934,23.9998,130.9902,3311,251.5,250,18.2134,34.7547,2,-999.0000,9,204.53,2,3.45,2,3.56,2,0.01,2,0.25,2,-999.,9,-999.,9,-999.,9,-999,9,-999,9
49UF20140107,KS14-01,4063,1,24,21983,2,20140110,0932,23.9998,130.9902,3311,301.9,300,17.3670,34.7201,2,-999.0000,9,206.82,2,4.16,2,4.56,2,0.01,2,0.31,2,-999.,9,-999.,9,-999.,9,-999,9,-999,9
49UF20140107,KS14-01,4063,1,23,22095,2,20140110,0930,23.9998,130.9902,3311,401.3,398,15.2658,34.5720,2,34.5717,2,187.45,2,10.02,2,9.56,2,0.00,2,0.65,2,-999.,9,-999.,9,-999.,9,-999,9,-999,9
49UF20140107,KS14-01,4063,1,22,22665,2,20140110,0927,23.9998,130.9902,3311,502.5,499,11.1722,34.2935,2,-999.0000,9,172.32,2,22.85,6,17.42,6,0.00,6,1.23,6,-999.,9,-999.,9,-999.,9,-999,9,-999,9
49UF20140107,KS14-01,4063,1,18,21977,2,20140110,0925,23.9998,130.9902,3311,603.9,599,8.3273,34.1531,2,34.1510,2,141.03,2,43.02,2,25.44,2,0.00,2,1.82,2,-999.,9,-999.,9,-999.,9,-999,9,-999,9
49UF20140107,KS14-01,4063,1,17,23679,2,20140110,0924,23.9998,130.9902,3311,603.9,599,8.3273,34.1531,2,34.1513,2,141.60,2,43.00,2,25.48,2,0.00,2,1.82,2,-999.,9,-999.,9,-999.,9,-999,9,-999,9
49UF20140107,KS14-01,4063,1,16,21975,2,20140110,0922,23.9998,130.9902,3311,705.0,699,6.2549,34.1309,2,-999.0000,9,104.66,2,67.36,2,32.35,2,0.00,2,2.33,2,-999.,9,-999.,9,-999.,9,-999,9,-999,9
49UF20140107,KS14-01,4063,1,15,21974,2,20140110,0917,23.9998,130.9902,3311,805.2,799,5.1204,34.2030,2,34.2013,2,73.09,2,87.02,2,37.05,2,0.00,2,2.67,2,-999.,9,-999.,9,-999.,9,-999,9,-999,9
49UF20140107,KS14-01,4063,1,14,21973,3,20140110,0914,23.9998,130.9902,3311,908.8,901,4.4765,34.2843,2,-999.0000,9,57.80,2,100.91,2,39.25,2,0.00,2,2.83,2,-999.,9,-999.,9,-999.,9,-999,9,-999,9
49UF20140107,KS14-01,4063,1,13,21972,2,20140110,0912,23.9998,130.9902,3311,1009.4,1001,4.0340,34.3598,2,34.3586,2,55.86,2,111.21,2,40.18,2,0.00,2,2.89,2,-999.,9,-999.,9,-999.,9,-999,9,-999,9
49UF20140107,KS14-01,4063,1,9,21968,2,20140110,0907,23.9998,130.9902,3311,1210.1,1199,3.2689,34.4524,2,34.4516,2,62.78,2,127.81,2,40.55,2,0.00,2,2.90,2,-999.,9,-999.,9,-999.,9,-999,9,-999,9
49UF20140107,KS14-01,4063,1,8,21982,2,20140110,0901,23.9998,130.9902,3311,1414.5,1401,2.8102,34.5057,2,34.5042,6,74.31,2,135.83,2,40.15,2,0.00,2,2.86,2,-999.,9,-999.,9,-999.,9,-999,9,-999,9
49UF20140107,KS14-01,4063,1,7,21966,2,20140110,0856,23.9998,130.9902,3311,1616.2,1600,2.4413,34.5518,2,34.5490,2,88.29,6,140.30,6,39.39,6,0.00,6,2.80,6,-999.,9,-999.,9,-999.,9,-999,9,-999,9
49UF20140107,KS14-01,4063,1,6,21965,2,20140110,0852,23.9998,130.9902,3311,1819.1,1800,2.1851,34.5841,2,34.5838,2,101.38,2,142.15,2,38.60,2,0.00,2,2.74,2,-999.,9,-999.,9,-999.,9,-999,9,-999,9
49UF20140107,KS14-01,4063,1,5,21964,2,20140110,0852,23.9998,130.9902,3311,1819.1,1800,2.1851,34.5841,2,34.5837,2,100.99,2,142.18,2,38.61,2,0.00,2,2.74,2,-999.,9,-999.,9,-999.,9,-999,9,-999,9
49UF20140107,KS14-01,4063,1,4,21963,2,20140110,0845,23.9998,130.9902,3311,2024.9,2002,2.0138,34.6077,2,34.6074,2,112.22,2,142.26,2,38.05,2,0.00,2,2.69,2,-999.,9,-999.,9,-999.,9,-999,9,-999,9
49UF20140107,KS14-01,4066,1,-999,0,2,20140110,2350,24.6017,129.9515,4189,0.0,0,22.2378,34.7450,2,34.7479,4,215.99,2,1.66,2,0.08,2,0.01,2,0.02,2,1975.0,2,2280.9,2,8.0464,2,-999,9,-999,9
49UF20140107,KS14-01,4066,1,36,21995,2,20140110,0015,24.6017,129.9515,4189,9.6,10,22.2376,34.7452,2,34.7439,6,215.63,6,1.64,6,0.07,6,0.01,6,0.02,6,1975.3,2,2280.4,2,8.0578,2,-999,9,-999,9
49UF20140107,KS14-01,4066,1,35,22087,2,20140110,0014,24.6017,129.9515,4189,24.5,24,22.2381,34.7427,2,-999.0000,9,215.41,2,1.53,2,0.07,2,0.01,2,0.02,2,1975.6,2,2280.7,2,8.0629,2,-999,9,-999,9
49UF20140107,KS14-01,4066,1,34,22666,2,20140110,0013,24.6017,129.9515,4189,48.7,48,22.2449,34.7447,2,-999.0000,9,215.43,2,1.48,2,0.07,2,0.01,2,0.02,2,1975.9,2,2280.2,2,8.0662,2,-999,9,-999,9
49UF20140107,KS14-01,4066,1,30,21989,2,20140110,0011,24.6017,129.9515,4189,74.9,74,22.2090,34.7372,2,-999.0000,9,215.63,2,1.61,2,0.07,2,0.02,2,0.02,2,1976.1,2,2280.5,2,8.0550,2,-999,9,-999,9
49UF20140107,KS14-01,4066,1,29,21988,2,20140110,0009,24.6017,129.9515,4189,101.7,101,21.8706,34.7158,2,34.7148,2,213.20,2,1.74,2,0.26,2,0.10,2,0.03,2,1982.0,2,2279.0,2,8.0496,2,-999,9,-999,9
49UF20140107,KS14-01,4066,1,28,21987,2,20140110,0008,24.6017,129.9515,4189,124.4,124,21.3341,34.7683,2,-999.0000,9,207.83,2,1.99,2,0.79,2,0.08,2,0.07,2,2000.6,2,2281.2,2,8.0293,2,-999,9,-999,9
49UF20140107,KS14-01,4066,1,27,21986,2,20140110,0003,24.6017,129.9515,4189,151.9,151,20.5925,34.8259,2,-999.0000,9,201.50,2,2.19,2,1.37,2,0.03,2,0.11,2,2010.7,2,2285.5,2,8.0060,2,-999,9,-999,9
49UF20140107,KS14-01,4066,1,26,21985,2,20140110,0001,24.6017,129.9515,4189,200.9,200,18.7044,34.7929,2,34.7933,2,199.60,2,2.98,2,3.21,2,0.01,2,0.22,2,2026.9,2,2282.9,2,7.9766,2,-999,9,-999,9
49UF20140107,KS14-01,4066,1,25,21984,2,20140110,2359,24.6017,129.9515,4189,255.4,254,17.6828,34.7397,2,-999.0000,9,205.89,2,3.63,2,4.03,2,0.01,2,0.27,2,2031.6,2,2280.6,2,7.9718,2,-999,9,-999,9
49UF20140107,KS14-01,4066,1,24,21983,2,20140110,2357,24.6017,129.9515,4189,306.1,304,16.8431,34.6863,2,-999.0000,9,203.31,2,4.98,2,5.59,2,0.01,2,0.37,2,2042.0,2,2278.0,2,7.9393,2,-999,9,-999,9
49UF20140107,KS14-01,4066,1,23,22095,2,20140110,2353,24.6017,129.9515,4189,404.6,402,14.4639,34.5063,2,34.5100,6,189.33,2,10.49,2,10.32,2,0.01,2,0.71,2,2077.0,2,2272.1,2,7.8537,2,-999,9,-999,9
49UF20140107,KS14-01,4066,1,22,22665,2,20140110,2349,24.6017,129.9515,4189,506.8,503,11.5709,34.3222,2,-999.0000,9,173.02,2,21.45,2,16.79,2,0.00,2,1.18,2,2121.5,2,2272.5,2,7.7548,2,-999,9,-999,9
49UF20140107,KS14-01,4066,1,18,21977,2,20140110,2343,24.6017,129.9515,4189,608.3,604,8.6169,34.1797,2,34.1799,2,143.80,2,41.94,2,24.64,2,0.00,2,1.76,2,2180.2,2,2282.8,2,7.6440,2,-999,9,-999,9
49UF20140107,KS14-01,4066,1,17,23679,2,20140110,2341,24.6017,129.9515,4189,706.7,701,6.6173,34.1502,2,-999.0000,9,108.80,2,63.61,2,31.33,2,0.00,2,2.25,2,2236.3,2,2299.5,2,7.5235,2,-999,9,-999,9
49UF20140107,KS14-01,4066,1,16,21975,2,20140110,2341,24.6017,129.9515,4189,706.7,701,6.6173,34.1502,2,-999.0000,9,109.06,2,63.63,2,31.30,2,0.00,2,2.25,2,2235.2,2,2299.7,2,7.5263,2,-999,9,-999,9
49UF20140107,KS14-01,4066,1,15,21974,2,20140110,2338,24.6017,129.9515,4189,808.8,802,5.4315,34.2017,2,34.2023,2,82.55,6,83.27,6,35.69,6,0.00,6,2.57,6,2275.5,2,2322.0,2,7.4605,2,-999,9,-999,9
49UF20140107,KS14-01,4066,1,14,21973,2,20140110,2335,24.6017,129.9515,4189,910.1,902,4.7110,34.2505,2,-999.0000,9,64.83,2,96.06,2,38.54,2,0.00,2,2.77,2,2304.5,6,2335.1,6,7.4188,2,-999,9,-999,9
49UF20140107,KS14-01,4066,1,13,21972,2,20140110,2333,24.6017,129.9515,4189,1008.8,1000,4.0276,34.3395,2,34.3394,2,57.14,2,111.74,2,40.08,2,0.00,2,2.88,2,2329.9,2,2354.3,2,7.4026,6,-999,9,-999,9
49UF20140107,KS14-01,4066,1,9,21968,2,20140110,2327,24.6017,129.9515,4189,1211.1,1200,3.2529,34.4515,2,34.4512,6,67.40,2,128.48,2,40.27,2,0.00,2,2.87,2,2345.3,2,2377.0,2,7.4236,2,-999,9,-999,9
49UF20140107,KS14-01,4066,1,8,21982,2,20140110,2323,24.6017,129.9515,4189,1412.7,1399,2.7221,34.5072,2,34.5091,2,75.09,2,137.97,2,40.23,2,0.00,2,2.86,2,2350.2,2,2389.4,2,7.4432,2,-999,9,-999,9
49UF20140107,KS14-01,4066,1,7,21966,2,20140110,2319,24.6017,129.9515,4189,1611.3,1595,2.3658,34.5549,2,34.5547,2,90.87,2,141.96,2,39.48,2,0.00,2,2.80,2,2346.9,6,2397.9,6,7.4722,2,-999,9,-999,9
49UF20140107,KS14-01,4066,1,6,21965,2,20140110,2315,24.6017,129.9515,4189,1815.5,1796,2.1656,34.5861,2,34.5888,2,102.35,2,142.32,2,38.77,2,0.00,2,2.74,2,2343.8,2,2401.4,2,7.4937,6,-999,9,-999,9
49UF20140107,KS14-01,4066,1,2,21961,2,20140110,2308,24.6017,129.9515,4189,2036.6,2014,1.9669,34.6146,2,34.6157,2,115.42,2,142.58,2,38.11,2,0.00,2,2.68,2,2341.5,2,2405.9,2,7.5192,2,-999,9,-999,9
49UF20140107,KS14-01,4066,1,1,21960,2,20140110,2308,24.6017,129.9515,4189,2037.5,2015,1.9665,34.6145,2,34.6154,2,115.12,2,142.60,2,38.02,2,0.00,2,2.68,2,2340.6,2,2406.4,2,7.5189,2,-999,9,-999,9
49UF20140107,KS14-01,4068,1,-999,0,2,20140111,0825,25.0147,129.4757,3610,0.0,0,24.0061,34.6862,2,-999.,9,210.79,2,-999.,9,-999.,9,-999.,9,-999.,9,-999.,9,-999.,9,-999.,9,-999,9,-999,9
49UF20140107,KS14-01,4068,1,33,21992,2,20140111,0845,25.0147,129.4757,3610,9.2,9,24.0219,34.6834,2,-999.,9,209.89,2,-999.,9,-999.,9,-999.,9,-999.,9,-999.,9,-999.,9,-999.,9,-999,9,-999,9
49UF20140107,KS14-01,4068,1,32,21991,2,20140111,0844,25.0147,129.4757,3610,25.4,25,24.0191,34.6830,2,-999.,9,209.75,2,-999.,9,-999.,9,-999.,9,-999.,9,-999.,9,-999.,9,-999.,9,-999,9,-999,9
49UF20140107,KS14-01,4068,1,31,21990,2,20140111,0843,25.0147,129.4757,3610,50.8,50,24.0070,34.6818,2,-999.,9,209.87,2,-999.,9,-999.,9,-999.,9,-999.,9,-999.,9,-999.,9,-999.,9,-999,9,-999,9
49UF20140107,KS14-01,4068,1,30,21989,2,20140111,0841,25.0147,129.4757,3610,74.8,74,23.8015,34.6945,2,-999.,9,209.63,2,-999.,9,-999.,9,-999.,9,-999.,9,-999.,9,-999.,9,-999.,9,-999,9,-999,9
49UF20140107,KS14-01,4068,1,29,21988,2,20140111,0838,25.0147,129.4757,3610,100.3,100,23.7632,34.7011,2,-999.,9,209.25,2,-999.,9,-999.,9,-999.,9,-999.,9,-999.,9,-999.,9,-999.,9,-999,9,-999,9
49UF20140107,KS14-01,4068,1,28,21987,2,20140111,0837,25.0147,129.4757,3610,125.3,124,22.4352,34.8306,2,-999.,9,201.17,2,-999.,9,-999.,9,-999.,9,-999.,9,-999.,9,-999.,9,-999.,9,-999,9,-999,9
49UF20140107,KS14-01,4068,1,24,21983,2,20140111,0835,25.0147,129.4757,3610,150.8,150,20.8232,34.8941,2,-999.,9,196.18,2,-999.,9,-999.,9,-999.,9,-999.,9,-999.,9,-999.,9,-999.,9,-999,9,-999,9
49UF20140107,KS14-01,4068,1,23,22095,2,20140111,0834,25.0147,129.4757,3610,200.8,199,19.0970,34.8349,2,-999.,9,194.47,2,-999.,9,-999.,9,-999.,9,-999.,9,-999.,9,-999.,9,-999.,9,-999,9,-999,9
49UF20140107,KS14-01,4068,1,22,22665,2,20140111,0832,25.0147,129.4757,3610,251.5,250,17.8875,34.7570,2,-999.,9,197.66,2,-999.,9,-999.,9,-999.,9,-999.,9,-999.,9,-999.,9,-999.,9,-999,9,-999,9
49UF20140107,KS14-01,4068,1,21,21980,2,20140111,0832,25.0147,129.4757,3610,251.5,250,17.8875,34.7570,2,-999.,9,197.79,2,-999.,9,-999.,9,-999.,9,-999.,9,-999.,9,-999.,9,-999.,9,-999,9,-999,9
49UF20140107,KS14-01,4068,1,20,21979,2,20140111,0830,25.0147,129.4757,3610,303.0,301,16.6859,34.6714,2,-999.,9,196.10,2,-999.,9,-999.,9,-999.,9,-999.,9,-999.,9,-999.,9,-999.,9,-999,9,-999,9
49UF20140107,KS14-01,4068,1,19,21978,2,20140111,0827,25.0147,129.4757,3610,402.2,399,14.5136,34.5185,2,-999.,9,183.11,2,-999.,9,-999.,9,-999.,9,-999.,9,-999.,9,-999.,9,-999.,9,-999,9,-999,9
49UF20140107,KS14-01,4068,1,18,21977,2,20140111,0825,25.0147,129.4757,3610,504.3,500,12.1371,34.3764,2,-999.,9,171.58,2,-999.,9,-999.,9,-999.,9,-999.,9,-999.,9,-999.,9,-999.,9,-999,9,-999,9
49UF20140107,KS14-01,4068,1,17,23679,2,20140111,0822,25.0147,129.4757,3610,605.4,601,9.0776,34.2070,2,-999.,9,147.85,6,-999.,9,-999.,9,-999.,9,-999.,9,-999.,9,-999.,9,-999.,9,-999,9,-999,9
49UF20140107,KS14-01,4068,1,16,21975,2,20140111,0817,25.0147,129.4757,3610,705.3,700,6.8591,34.1595,2,-999.,9,115.48,2,-999.,9,-999.,9,-999.,9,-999.,9,-999.,9,-999.,9,-999.,9,-999,9,-999,9
49UF20140107,KS14-01,4068,1,12,21994,2,20140111,0814,25.0147,129.4757,3610,807.0,800,5.3278,34.2033,2,-999.,9,82.87,2,-999.,9,-999.,9,-999.,9,-999.,9,-999.,9,-999.,9,-999.,9,-999,9,-999,9
49UF20140107,KS14-01,4068,1,11,21970,2,20140111,0811,25.0147,129.4757,3610,909.0,901,4.6076,34.2883,2,-999.,9,67.13,2,-999.,9,-999.,9,-999.,9,-999.,9,-999.,9,-999.,9,-999.,9,-999,9,-999,9
49UF20140107,KS14-01,4068,1,10,21969,2,20140111,0808,25.0147,129.4757,3610,1010.7,1002,3.9276,34.3607,2,-999.,9,60.87,2,-999.,9,-999.,9,-999.,9,-999.,9,-999.,9,-999.,9,-999.,9,-999,9,-999,9
49UF20140107,KS14-01,4068,1,9,21968,2,20140111,0808,25.0147,129.4757,3610,1010.7,1002,3.9276,34.3607,2,-999.,9,60.55,2,-999.,9,-999.,9,-999.,9,-999.,9,-999.,9,-999.,9,-999.,9,-999,9,-999,9
49UF20140107,KS14-01,4068,1,8,21982,2,20140111,0801,25.0147,129.4757,3610,1210.4,1199,3.1568,34.4551,2,-999.,9,65.26,2,-999.,9,-999.,9,-999.,9,-999.,9,-999.,9,-999.,9,-999.,9,-999,9,-999,9
49UF20140107,KS14-01,4068,1,7,21966,2,20140111,0757,25.0147,129.4757,3610,1413.0,1399,2.6853,34.5127,2,-999.,9,76.72,2,-999.,9,-999.,9,-999.,9,-999.,9,-999.,9,-999.,9,-999.,9,-999,9,-999,9
49UF20140107,KS14-01,4068,1,3,22079,2,20140111,0752,25.0147,129.4757,3610,1613.6,1597,2.3597,34.5549,2,-999.,9,89.53,2,-999.,9,-999.,9,-999.,9,-999.,9,-999.,9,-999.,9,-999.,9,-999,9,-999,9
49UF20140107,KS14-01,4068,1,2,21961,2,20140111,0746,25.0147,129.4757,3610,1818.3,1799,2.1158,34.5895,2,-999.,9,103.38,2,-999.,9,-999.,9,-999.,9,-999.,9,-999.,9,-999.,9,-999.,9,-999,9,-999,9
49UF20140107,KS14-01,4068,1,1,21960,2,20140111,0742,25.0147,129.4757,3610,2022.3,2000,1.9540,34.6137,2,-999.,9,114.54,6,-999.,9,-999.,9,-999.,9,-999.,9,-999.,9,-999.,9,-999.,9,-999,9,-999,9