BOTTLE,20171117JMAGEMD
EXPOCODE,SECT_ID,STNNBR,CASTNO,SAMPNO,BTLNBR,BTLNBR_FLAG_W,DATE,TIME,LATITUDE,LONGITUDE,DEPTH,CTDPRS,CTDDEP,CTDTMP,CTDSAL,CTDSAL_FLAG_W,SALNTY,SALNTY_FLAG_W,OXYGEN,OXYGEN_FLAG_W,SILCAT,SILCAT_FLAG_W,NO2+NO3,NO2+NO3_FLAG_W,NITRIT,NITRIT_FLAG_W,PHSPHT,PHSPHT_FLAG_W,TCARBN,TCARBN_FLAG_W,ALKALI,ALKALI_FLAG_W,PH_TOT,PH_TOT_FLAG_W,CFC-11,CFC-11_FLAG_W,CFC-12,CFC-12_FLAG_W
,,,,,,,UTC,UTC,,,METER,DBAR,METERS,ITS-90,PSS-78,,PSS-78,,UMOL/KG,,UMOL/KG,,UMOL/KG,,UMOL/KG,,UMOL/KG,,UMOL/KG,,UMOL/KG,,@25DEG-C,,PMOL/KG,,PMOL/KG,
49UF20140107,KS14-01,4081,1,-999,0,2,20140117,0527,28.4058,126.9027,278,0.0,0,22.6979,34.6270,2,-999.0000,9,213.47,2,1.89,2,0.74,2,0.22,2,0.10,2,-999.,9,-999.,9,-999.,9,-999,9,-999,9
49UF20140107,KS14-01,4081,1,36,21995,2,20140117,0547,28.4058,126.9027,278,11.2,11,22.6920,34.6257,2,34.6273,2,212.46,6,1.96,6,0.79,6,0.23,6,0.09,6,-999.,9,-999.,9,-999.,9,-999,9,-999,9
49UF20140107,KS14-01,4081,1,35,22087,2,20140117,0546,28.4058,126.9027,278,21.2,21,22.6914,34.6276,2,-999.0000,9,212.62,2,1.87,2,0.76,2,0.22,2,0.09,2,-999.,9,-999.,9,-999.,9,-999,9,-999,9
49UF20140107,KS14-01,4081,1,34,22666,2,20140117,0546,28.4058,126.9027,278,21.2,21,22.6914,34.6276,2,-999.0000,9,212.25,2,1.96,2,0.78,2,0.22,2,0.09,2,-999.,9,-999.,9,-999.,9,-999,9,-999,9
49UF20140107,KS14-01,4081,1,27,21986,2,20140117,0545,28.4058,126.9027,278,31.6,31,22.6963,34.6272,2,-999.0000,9,212.45,2,1.86,2,0.77,2,0.23,2,0.09,2,-999.,9,-999.,9,-999.,9,-999,9,-999,9
49UF20140107,KS14-01,4081,1,26,21985,2,20140117,0544,28.4058,126.9027,278,50.8,50,22.6820,34.6237,2,-999.0000,9,211.55,2,1.94,2,0.85,2,0.25,2,0.09,2,-999.,9,-999.,9,-999.,9,-999,9,-999,9
49UF20140107,KS14-01,4081,1,25,21984,2,20140117,0542,28.4058,126.9027,278,76.5,76,22.5412,34.6165,2,-999.0000,9,211.09,2,2.03,2,1.11,2,0.31,2,0.11,2,-999.,9,-999.,9,-999.,9,-999,9,-999,9
49UF20140107,KS14-01,4081,1,18,21977,2,20140117,0540,28.4058,126.9027,278,102.4,102,22.5070,34.6221,2,34.6244,6,211.83,2,2.06,2,1.02,2,0.28,2,0.11,2,-999.,9,-999.,9,-999.,9,-999,9,-999,9
49UF20140107,KS14-01,4081,1,17,23679,2,20140117,0539,28.4058,126.9027,278,127.2,126,21.2456,34.6085,2,-999.0000,9,216.31,2,2.23,2,1.35,2,0.39,2,0.13,2,-999.,9,-999.,9,-999.,9,-999,9,-999,9
49UF20140107,KS14-01,4081,1,16,21975,2,20140117,0537,28.4058,126.9027,278,152.0,151,20.5696,34.6179,2,-999.0000,9,221.12,2,2.23,2,1.24,2,0.33,2,0.13,2,-999.,9,-999.,9,-999.,9,-999,9,-999,9
49UF20140107,KS14-01,4081,1,6,21965,2,20140117,0535,28.4058,126.9027,278,201.6,200,18.7981,34.6736,2,34.6557,4,176.00,2,8.81,2,7.14,2,0.03,2,0.51,2,-999.,9,-999.,9,-999.,9,-999,9,-999,9
49UF20140107,KS14-01,4081,1,5,21964,2,20140117,0533,28.4058,126.9027,278,252.4,251,10.9944,34.3604,2,-999.0000,9,147.38,2,33.47,2,20.16,2,0.02,2,1.44,2,-999.,9,-999.,9,-999.,9,-999,9,-999,9
49UF20140107,KS14-01,4081,1,4,21963,2,20140117,0532,28.4058,126.9027,278,271.3,269,10.9546,34.3588,2,34.3585,6,147.69,2,33.70,2,20.25,2,0.02,2,1.45,2,-999.,9,-999.,9,-999.,9,-999,9,-999,9
49UF20140107,KS14-01,4083,1,-999,0,2,20140117,0848,28.2607,127.154,990,0.0,0,22.7243,34.6224,2,-999.0000,9,211.73,2,1.96,2,0.95,2,0.32,2,0.11,2,-999.,9,-999.,9,-999.,9,-999,9,-999,9
49UF20140107,KS14-01,4083,1,36,21995,3,20140117,0906,28.2607,127.154,990,11.0,11,22.7356,34.6225,2,34.6225,2,210.62,2,1.96,2,0.93,2,0.31,2,0.11,2,-999.,9,-999.,9,-999.,9,-999,9,-999,9
49UF20140107,KS14-01,4083,1,35,22087,2,20140117,0905,28.2607,127.154,990,20.9,21,22.7200,34.6236,2,-999.0000,9,210.97,2,1.96,2,0.92,2,0.31,2,0.11,2,-999.,9,-999.,9,-999.,9,-999,9,-999,9
49UF20140107,KS14-01,4083,1,34,22666,2,20140117,0904,28.2607,127.154,990,30.5,30,22.7371,34.6229,2,-999.0000,9,210.49,2,1.96,2,0.95,2,0.31,2,0.11,2,-999.,9,-999.,9,-999.,9,-999,9,-999,9
49UF20140107,KS14-01,4083,1,33,21992,2,20140117,0901,28.2607,127.154,990,50.4,50,22.7494,34.6226,2,-999.0000,9,210.27,2,1.94,2,0.92,2,0.31,2,0.11,2,-999.,9,-999.,9,-999.,9,-999,9,-999,9
49UF20140107,KS14-01,4083,1,27,21986,2,20140117,0900,28.2607,127.154,990,75.8,75,22.7505,34.6225,2,-999.0000,9,210.45,6,1.95,6,0.92,6,0.31,6,0.11,6,-999.,9,-999.,9,-999.,9,-999,9,-999,9
49UF20140107,KS14-01,4083,1,26,21985,2,20140117,0859,28.2607,127.154,990,101.4,101,22.7625,34.6218,2,34.6225,2,210.47,2,1.93,2,0.93,2,0.32,2,0.11,2,-999.,9,-999.,9,-999.,9,-999,9,-999,9
49UF20140107,KS14-01,4083,1,25,21984,2,20140117,0859,28.2607,127.154,990,101.4,101,22.7625,34.6218,2,34.6229,2,210.31,2,1.93,2,0.93,2,0.32,2,0.10,2,-999.,9,-999.,9,-999.,9,-999,9,-999,9
49UF20140107,KS14-01,4083,1,24,21983,2,20140117,0857,28.2607,127.154,990,127.8,127,22.7597,34.6249,2,-999.0000,9,209.07,2,1.97,2,1.03,2,0.33,2,0.11,2,-999.,9,-999.,9,-999.,9,-999,9,-999,9
49UF20140107,KS14-01,4083,1,23,22095,2,20140117,0856,28.2607,127.154,990,152.0,151,22.6780,34.6372,2,-999.0000,9,203.80,2,2.24,2,1.44,2,0.29,2,0.14,2,-999.,9,-999.,9,-999.,9,-999,9,-999,9
49UF20140107,KS14-01,4083,1,22,22665,2,20140117,0855,28.2607,127.154,990,202.2,201,18.6088,34.7105,2,34.7131,2,176.26,2,7.78,2,6.77,2,0.01,2,0.49,2,-999.,9,-999.,9,-999.,9,-999,9,-999,9
49UF20140107,KS14-01,4083,1,18,21977,2,20140117,0853,28.2607,127.154,990,253.1,251,16.5908,34.6470,2,-999.0000,9,177.06,2,10.18,2,8.85,2,0.01,2,0.63,2,-999.,9,-999.,9,-999.,9,-999,9,-999,9
49UF20140107,KS14-01,4083,1,17,23679,2,20140117,0851,28.2607,127.154,990,303.7,301,14.3651,34.5181,2,-999.0000,9,165.40,2,17.98,2,13.31,2,0.01,2,0.95,2,-999.,9,-999.,9,-999.,9,-999,9,-999,9
49UF20140107,KS14-01,4083,1,16,21975,2,20140117,0849,28.2607,127.154,990,403.4,400,10.8092,34.3290,2,34.3307,2,151.62,2,31.33,2,20.14,2,0.00,2,1.44,2,-999.,9,-999.,9,-999.,9,-999,9,-999,9
49UF20140107,KS14-01,4083,1,12,21994,2,20140117,0845,28.2607,127.154,990,506.0,502,7.7433,34.2296,2,-999.0000,9,118.17,2,55.83,2,28.43,2,0.00,2,2.05,2,-999.,9,-999.,9,-999.,9,-999,9,-999,9
49UF20140107,KS14-01,4083,1,11,21970,2,20140117,0842,28.2607,127.154,990,607.5,603,6.3985,34.2974,2,34.2983,2,95.78,2,76.98,2,32.68,2,0.00,2,2.35,2,-999.,9,-999.,9,-999.,9,-999,9,-999,9
49UF20140107,KS14-01,4083,1,10,21969,2,20140117,0839,28.2607,127.154,990,705.8,700,5.4569,34.3128,2,-999.0000,9,84.28,2,90.21,2,35.37,2,0.00,2,2.54,2,-999.,9,-999.,9,-999.,9,-999,9,-999,9
49UF20140107,KS14-01,4083,1,6,21965,2,20140117,0836,28.2607,127.154,990,809.3,802,5.0957,34.3591,2,34.3602,6,79.14,2,98.79,2,36.26,2,0.00,2,2.61,2,-999.,9,-999.,9,-999.,9,-999,9,-999,9
49UF20140107,KS14-01,4083,1,5,21964,2,20140117,0834,28.2607,127.154,990,908.8,901,4.7795,34.3778,2,-999.0000,9,76.27,2,104.05,2,36.96,2,0.00,2,2.66,2,-999.,9,-999.,9,-999.,9,-999,9,-999,9
49UF20140107,KS14-01,4083,1,4,21963,2,20140117,0832,28.2607,127.154,990,971.4,963,4.6476,34.3857,2,34.3857,2,74.92,2,106.32,2,37.28,2,0.00,2,2.68,2,-999.,9,-999.,9,-999.,9,-999,9,-999,9
49UF20140107,KS14-01,4085,1,-999,0,2,20140117,1225,28.1007,127.3498,1037,0.0,0,22.5410,34.6539,2,-999.0000,9,213.23,2,1.84,2,0.80,2,0.25,2,0.10,2,-999.,9,-999.,9,-999.,9,-999,9,-999,9
49UF20140107,KS14-01,4085,1,36,21995,2,20140117,1250,28.1007,127.3498,1037,10.9,11,22.5531,34.6536,2,34.6544,2,212.76,2,1.78,2,0.78,2,0.24,2,0.09,2,-999.,9,-999.,9,-999.,9,-999,9,-999,9
49UF20140107,KS14-01,4085,1,35,22087,2,20140117,1250,28.1007,127.3498,1037,10.9,11,22.5531,34.6536,2,34.6530,2,212.94,2,1.78,2,0.75,2,0.24,2,0.09,2,-999.,9,-999.,9,-999.,9,-999,9,-999,9
49UF20140107,KS14-01,4085,1,34,22666,2,20140117,1249,28.1007,127.3498,1037,21.1,21,22.5564,34.6537,2,-999.0000,9,212.85,2,1.78,2,0.79,2,0.24,2,0.09,2,-999.,9,-999.,9,-999.,9,-999,9,-999,9
49UF20140107,KS14-01,4085,1,30,21989,2,20140117,1248,28.1007,127.3498,1037,31.2,31,22.5645,34.6532,2,-999.0000,9,213.13,2,1.78,2,0.76,2,0.24,2,0.08,2,-999.,9,-999.,9,-999.,9,-999,9,-999,9
49UF20140107,KS14-01,4085,1,29,21988,2,20140117,1245,28.1007,127.3498,1037,51.1,51,22.2768,34.6488,2,-999.0000,9,214.55,2,1.74,2,0.72,2,0.25,2,0.08,2,-999.,9,-999.,9,-999.,9,-999,9,-999,9
49UF20140107,KS14-01,4085,1,28,21987,2,20140117,1244,28.1007,127.3498,1037,75.7,75,22.1344,34.6463,2,-999.0000,9,214.34,2,1.78,2,0.80,2,0.28,2,0.08,2,-999.,9,-999.,9,-999.,9,-999,9,-999,9
49UF20140107,KS14-01,4085,1,24,21983,2,20140117,1242,28.1007,127.3498,1037,100.6,100,21.7806,34.6568,2,34.6570,2,214.61,2,1.74,2,0.83,2,0.36,2,0.08,2,-999.,9,-999.,9,-999.,9,-999,9,-999,9
49UF20140107,KS14-01,4085,1,23,22095,2,20140117,1241,28.1007,127.3498,1037,125.4,125,21.5895,34.6719,2,-999.0000,9,214.14,2,1.74,2,0.85,2,0.34,2,0.08,2,-999.,9,-999.,9,-999.,9,-999,9,-999,9
49UF20140107,KS14-01,4085,1,22,22665,2,20140117,1240,28.1007,127.3498,1037,151.9,151,21.5017,34.6730,2,-999.0000,9,214.84,6,1.75,6,0.86,6,0.34,6,0.08,6,-999.,9,-999.,9,-999.,9,-999,9,-999,9
49UF20140107,KS14-01,4085,1,18,21977,2,20140117,1238,28.1007,127.3498,1037,201.4,200,20.7516,34.7768,2,34.7787,2,189.07,2,3.10,2,3.14,2,0.04,2,0.22,2,-999.,9,-999.,9,-999.,9,-999,9,-999,9
49UF20140107,KS14-01,4085,1,17,23679,2,20140117,1237,28.1007,127.3498,1037,253.4,252,18.0416,34.7414,2,-999.0000,9,189.54,2,4.87,2,5.50,2,0.01,2,0.37,2,-999.,9,-999.,9,-999.,9,-999,9,-999,9
49UF20140107,KS14-01,4085,1,16,21975,2,20140117,1235,28.1007,127.3498,1037,302.2,300,16.6133,34.6599,2,-999.0000,9,186.68,2,7.34,2,7.67,2,0.01,2,0.52,2,-999.,9,-999.,9,-999.,9,-999,9,-999,9
49UF20140107,KS14-01,4085,1,15,21974,2,20140117,1233,28.1007,127.3498,1037,402.4,399,13.6637,34.4886,2,34.4909,2,170.40,2,18.47,2,13.81,2,0.01,2,0.96,2,-999.,9,-999.,9,-999.,9,-999,9,-999,9
49UF20140107,KS14-01,4085,1,14,21973,2,20140117,1230,28.1007,127.3498,1037,505.3,501,11.0381,34.3349,2,-999.0000,9,153.40,2,29.33,2,19.67,2,0.01,2,1.39,2,-999.,9,-999.,9,-999.,9,-999,9,-999,9
49UF20140107,KS14-01,4085,1,13,21972,2,20140117,1227,28.1007,127.3498,1037,603.9,599,7.6808,34.2376,2,34.2361,2,116.83,2,58.01,2,28.93,2,0.00,2,2.07,2,-999.,9,-999.,9,-999.,9,-999,9,-999,9
49UF20140107,KS14-01,4085,1,9,21968,2,20140117,1225,28.1007,127.3498,1037,706.1,700,6.2762,34.2821,2,-999.0000,9,94.52,6,78.10,6,33.19,6,0.00,6,2.38,6,-999.,9,-999.,9,-999.,9,-999,9,-999,9
49UF20140107,KS14-01,4085,1,8,21982,2,20140117,1222,28.1007,127.3498,1037,807.5,801,5.1922,34.3326,2,34.3330,2,80.64,2,95.33,2,36.11,2,0.00,2,2.59,2,-999.,9,-999.,9,-999.,9,-999,9,-999,9
49UF20140107,KS14-01,4085,1,7,21966,3,20140117,1220,28.1007,127.3498,1037,908.2,900,4.7250,34.3657,2,-999.0000,9,75.39,2,103.40,2,37.20,2,0.00,2,2.67,2,-999.,9,-999.,9,-999.,9,-999,9,-999,9
49UF20140107,KS14-01,4085,1,6,21965,2,20140117,1217,28.1007,127.3498,1037,1010.2,1001,4.4172,34.3847,2,34.3849,2,72.57,2,108.89,2,37.95,2,0.00,2,2.72,2,-999.,9,-999.,9,-999.,9,-999,9,-999,9
49UF20140107,KS14-01,4085,1,5,21964,2,20140117,1217,28.1007,127.3498,1037,1010.2,1001,4.4172,34.3847,2,34.3850,2,72.09,2,108.68,2,37.93,2,0.00,2,2.72,2,-999.,9,-999.,9,-999.,9,-999,9,-999,9
49UF20140107,KS14-01,4085,1,4,21963,2,20140117,1216,28.1007,127.3498,1037,1032.8,1023,4.3132,34.3916,2,34.3918,6,71.54,2,110.52,2,38.22,2,0.00,2,2.73,2,-999.,9,-999.,9,-999.,9,-999,9,-999,9
49UF20140107,KS14-01,4088,1,-999,0,2,20140117,1835,27.7927,127.8092,857,0.0,0,20.7971,34.7274,2,34.7329,4,217.42,2,1.93,2,0.87,2,0.26,2,0.08,2,1986.0,2,2278.9,2,8.0356,2,-999,9,-999,9
49UF20140107,KS14-01,4088,1,36,21995,3,20140117,1904,27.7927,127.8092,857,11.3,11,20.7994,34.7270,2,34.7263,2,216.85,2,1.87,2,0.85,2,0.27,2,0.07,2,-999.0,9,-999.0,9,-999.0000,9,-999,9,-999,9
49UF20140107,KS14-01,4088,1,35,22087,2,20140117,1903,27.7927,127.8092,857,21.2,21,20.8127,34.7263,2,-999.0000,9,217.06,2,1.91,2,0.84,2,0.28,2,0.07,2,-999.0,9,-999.0,9,-999.0000,9,-999,9,-999,9
49UF20140107,KS14-01,4088,1,34,22666,2,20140117,1902,27.7927,127.8092,857,31.8,32,20.8162,34.7261,2,-999.0000,9,216.89,2,1.89,2,0.84,2,0.27,2,0.07,2,-999.0,9,-999.0,9,-999.0000,9,-999,9,-999,9
49UF20140107,KS14-01,4088,1,30,21989,2,20140117,1858,27.7927,127.8092,857,51.7,51,20.8056,34.7275,2,-999.0000,9,216.91,2,1.87,2,0.83,2,0.26,2,0.07,2,-999.0,9,-999.0,9,-999.0000,9,-999,9,-999,9
49UF20140107,KS14-01,4088,1,29,21988,2,20140117,1856,27.7927,127.8092,857,75.6,75,20.8193,34.7269,2,-999.0000,9,216.99,2,1.87,2,0.83,2,0.26,2,0.07,2,-999.0,9,-999.0,9,-999.0000,9,-999,9,-999,9
49UF20140107,KS14-01,4088,1,28,21987,2,20140117,1855,27.7927,127.8092,857,101.5,101,20.8093,34.7254,2,34.7251,2,215.61,2,1.89,2,0.95,2,0.30,2,0.09,2,-999.0,9,-999.0,9,-999.0000,9,-999,9,-999,9
49UF20140107,KS14-01,4088,1,24,21983,2,20140117,1853,27.7927,127.8092,857,127.3,126,20.7788,34.7266,2,-999.0000,9,214.72,2,1.95,2,1.00,2,0.32,2,0.09,2,-999.0,9,-999.0,9,-999.0000,9,-999,9,-999,9
49UF20140107,KS14-01,4088,1,23,22095,2,20140117,1852,27.7927,127.8092,857,151.9,151,20.4740,34.7408,2,-999.0000,9,205.08,2,2.61,2,2.09,2,0.18,2,0.15,2,-999.0,9,-999.0,9,-999.0000,9,-999,9,-999,9
49UF20140107,KS14-01,4088,1,22,22665,2,20140117,1850,27.7927,127.8092,857,202.6,201,18.9454,34.7590,2,34.7613,2,189.79,2,4.36,2,4.54,2,0.04,2,0.32,2,-999.0,9,-999.0,9,-999.0000,9,-999,9,-999,9
49UF20140107,KS14-01,4088,1,15,21974,2,20140117,1848,27.7927,127.8092,857,252.4,251,17.8304,34.7208,2,-999.0000,9,185.15,6,6.10,6,6.26,6,0.01,6,0.43,6,-999.0,9,-999.0,9,-999.0000,9,-999,9,-999,9
49UF20140107,KS14-01,4088,1,14,21973,2,20140117,1846,27.7927,127.8092,857,303.4,301,16.8494,34.6713,2,-999.0000,9,186.63,2,7.31,2,7.33,2,0.01,2,0.50,2,-999.0,9,-999.0,9,-999.0000,9,-999,9,-999,9
49UF20140107,KS14-01,4088,1,13,21972,2,20140117,1846,27.7927,127.8092,857,303.4,301,16.8494,34.6713,2,-999.0000,9,186.69,2,7.33,2,7.33,2,0.01,2,0.50,2,-999.0,9,-999.0,9,-999.0000,9,-999,9,-999,9
49UF20140107,KS14-01,4088,1,9,21968,2,20140117,1843,27.7927,127.8092,857,403.7,401,14.4955,34.5290,2,34.5299,6,176.32,2,13.94,2,11.83,2,0.00,2,0.82,2,-999.0,9,-999.0,9,-999.0000,9,-999,9,-999,9
49UF20140107,KS14-01,4088,1,8,21982,2,20140117,1840,27.7927,127.8092,857,505.6,502,11.4398,34.3495,2,-999.0000,9,159.99,2,26.41,2,18.27,2,0.00,2,1.29,2,-999.0,9,-999.0,9,-999.0000,9,-999,9,-999,9
49UF20140107,KS14-01,4088,1,7,21966,3,20140117,1838,27.7927,127.8092,857,606.8,602,9.6317,34.2826,2,34.2849,2,141.88,2,39.82,2,23.09,2,0.00,2,1.64,2,-999.0,9,-999.0,9,-999.0000,9,-999,9,-999,9
49UF20140107,KS14-01,4088,1,6,21965,2,20140117,1835,27.7927,127.8092,857,707.7,702,6.7352,34.2845,2,-999.0000,9,100.75,2,72.67,2,31.72,2,0.00,2,2.27,2,-999.0,9,-999.0,9,-999.0000,9,-999,9,-999,9
49UF20140107,KS14-01,4088,1,5,21964,2,20140117,1832,27.7927,127.8092,857,808.4,801,5.5331,34.3179,2,34.3179,2,85.01,2,90.29,2,35.10,2,0.00,2,2.51,2,-999.0,9,-999.0,9,-999.0000,9,-999,9,-999,9
49UF20140107,KS14-01,4088,1,4,21963,2,20140117,1830,27.7927,127.8092,857,846.4,839,4.9409,34.3483,2,34.3482,2,78.44,2,99.52,2,36.58,2,0.00,2,2.62,2,-999.0,9,-999.0,9,-999.0000,9,-999,9,-999,9
49UF20140107,KS14-01,4090,1,-999,0,2,20140117,2325,27.4927,128.2667,1056,0.0,0,21.3485,34.6736,2,-999.0000,9,217.76,2,1.78,2,0.69,2,0.27,2,0.08,2,-999.,9,-999.,9,-999.,9,-999,9,-999,9
49UF20140107,KS14-01,4090,1,36,21995,2,20140117,2346,27.4927,128.2667,1056,11.3,11,21.3544,34.6737,2,34.6734,6,217.09,2,1.76,2,0.68,2,0.26,2,0.07,2,-999.,9,-999.,9,-999.,9,-999,9,-999,9
49UF20140107,KS14-01,4090,1,35,22087,2,20140117,2345,27.4927,128.2667,1056,21.8,22,21.3743,34.6732,2,-999.0000,9,216.67,2,1.74,2,0.72,2,0.27,2,0.07,2,-999.,9,-999.,9,-999.,9,-999,9,-999,9
49UF20140107,KS14-01,4090,1,34,22666,2,20140117,2344,27.4927,128.2667,1056,31.7,31,21.3655,34.6726,2,-999.0000,9,217.24,2,1.76,2,0.69,2,0.26,2,0.07,2,-999.,9,-999.,9,-999.,9,-999,9,-999,9
49UF20140107,KS14-01,4090,1,30,21989,2,20140117,2343,27.4927,128.2667,1056,51.1,51,21.3711,34.6724,2,-999.0000,9,217.34,2,1.74,2,0.69,2,0.27,2,0.07,2,-999.,9,-999.,9,-999.,9,-999,9,-999,9
49UF20140107,KS14-01,4090,1,29,21988,2,20140117,2342,27.4927,128.2667,1056,75.7,75,21.3698,34.6739,2,-999.0000,9,216.56,2,1.80,2,0.76,2,0.27,2,0.07,2,-999.,9,-999.,9,-999.,9,-999,9,-999,9
49UF20140107,KS14-01,4090,1,28,21987,2,20140117,2337,27.4927,128.2667,1056,101.9,101,20.9861,34.7261,2,34.7233,2,207.03,2,2.29,2,1.62,2,0.25,2,0.12,2,-999.,9,-999.,9,-999.,9,-999,9,-999,9
49UF20140107,KS14-01,4090,1,24,21983,2,20140117,2336,27.4927,128.2667,1056,127.5,127,20.6373,34.7291,2,-999.0000,9,212.79,2,2.05,2,1.28,2,0.32,2,0.10,2,-999.,9,-999.,9,-999.,9,-999,9,-999,9
49UF20140107,KS14-01,4090,1,23,22095,2,20140117,2335,27.4927,128.2667,1056,153.8,153,19.9299,34.7709,2,-999.0000,9,191.89,2,3.40,2,3.41,2,0.04,2,0.24,2,-999.,9,-999.,9,-999.,9,-999,9,-999,9
49UF20140107,KS14-01,4090,1,22,22665,2,20140117,2333,27.4927,128.2667,1056,205.5,204,18.6732,34.7583,2,34.7603,6,185.96,2,4.83,2,5.10,2,0.01,2,0.35,2,-999.,9,-999.,9,-999.,9,-999,9,-999,9
49UF20140107,KS14-01,4090,1,18,21977,2,20140117,2331,27.4927,128.2667,1056,253.1,251,17.8876,34.7272,2,-999.0000,9,189.84,6,5.27,6,5.64,6,0.01,6,0.38,6,-999.,9,-999.,9,-999.,9,-999,9,-999,9
49UF20140107,KS14-01,4090,1,17,23679,2,20140117,2328,27.4927,128.2667,1056,307.4,305,16.8763,34.6720,2,-999.0000,9,188.17,2,7.30,2,7.17,2,0.01,2,0.49,2,-999.,9,-999.,9,-999.,9,-999,9,-999,9
49UF20140107,KS14-01,4090,1,16,21975,2,20140117,2328,27.4927,128.2667,1056,307.4,305,16.8763,34.6720,2,-999.0000,9,188.48,2,7.34,2,7.19,2,0.01,2,0.49,2,-999.,9,-999.,9,-999.,9,-999,9,-999,9
49UF20140107,KS14-01,4090,1,15,21974,2,20140117,2325,27.4927,128.2667,1056,405.3,402,13.7935,34.4952,2,34.4966,2,171.88,2,18.03,2,13.37,2,0.01,2,0.94,2,-999.,9,-999.,9,-999.,9,-999,9,-999,9
49UF20140107,KS14-01,4090,1,14,21973,2,20140117,2322,27.4927,128.2667,1056,505.7,502,11.4431,34.3800,2,-999.0000,9,154.19,2,30.01,2,18.82,2,0.01,2,1.34,2,-999.,9,-999.,9,-999.,9,-999,9,-999,9
49UF20140107,KS14-01,4090,1,13,21972,2,20140117,2319,27.4927,128.2667,1056,603.2,598,8.7340,34.3297,2,34.3295,2,123.27,2,55.38,2,26.26,2,0.00,2,1.88,2,-999.,9,-999.,9,-999.,9,-999,9,-999,9
49UF20140107,KS14-01,4090,1,10,21969,2,20140117,2316,27.4927,128.2667,1056,705.9,700,7.2491,34.3122,2,-999.0000,9,106.69,2,70.35,2,30.30,2,0.00,2,2.17,2,-999.,9,-999.,9,-999.,9,-999,9,-999,9
49UF20140107,KS14-01,4090,1,9,21968,2,20140117,2314,27.4927,128.2667,1056,807.8,801,6.5809,34.3097,2,34.3106,6,98.08,2,77.80,2,32.17,2,0.00,2,2.31,2,-999.,9,-999.,9,-999.,9,-999,9,-999,9
49UF20140107,KS14-01,4090,1,8,21982,2,20140117,2311,27.4927,128.2667,1056,906.8,899,6.0939,34.3141,2,-999.0000,9,92.25,2,84.29,2,33.52,2,0.00,2,2.40,2,-999.,9,-999.,9,-999.,9,-999,9,-999,9
49UF20140107,KS14-01,4090,1,7,21966,2,20140117,2309,27.4927,128.2667,1056,1007.9,999,5.6355,34.3193,2,-999.0000,9,-999.00,9,-999.00,9,-999.00,9,-999.00,9,-999.000,9,-999.,9,-999.,9,-999.,9,-999,9,-999,9
49UF20140107,KS14-01,4090,1,6,21965,2,20140117,2308,27.4927,128.2667,1056,1008.8,1000,5.6349,34.3193,2,34.3196,2,86.75,6,90.32,6,34.76,6,0.00,6,2.49,6,-999.,9,-999.,9,-999.,9,-999,9,-999,9
49UF20140107,KS14-01,4090,1,5,21964,2,20140117,2307,27.4927,128.2667,1056,1049.3,1040,5.5729,34.3205,2,34.3214,2,86.13,2,91.39,2,34.90,2,0.00,2,2.50,2,-999.,9,-999.,9,-999.,9,-999,9,-999,9
49UF20140107,KS14-01,4090,1,4,21963,2,20140117,2307,27.4927,128.2667,1056,1049.3,1040,5.5729,34.3205,2,34.3213,2,86.17,2,91.38,2,34.88,2,0.00,2,2.50,2,-999.,9,-999.,9,-999.,9,-999,9,-999,9