BOTTLE,20171117JMAGEMD
EXPOCODE,SECT_ID,STNNBR,CASTNO,SAMPNO,BTLNBR,BTLNBR_FLAG_W,DATE,TIME,LATITUDE,LONGITUDE,DEPTH,CTDPRS,CTDDEP,CTDTMP,CTDSAL,CTDSAL_FLAG_W,SALNTY,SALNTY_FLAG_W,OXYGEN,OXYGEN_FLAG_W,SILCAT,SILCAT_FLAG_W,NO2+NO3,NO2+NO3_FLAG_W,NITRIT,NITRIT_FLAG_W,PHSPHT,PHSPHT_FLAG_W,TCARBN,TCARBN_FLAG_W,ALKALI,ALKALI_FLAG_W,PH_TOT,PH_TOT_FLAG_W,CFC-11,CFC-11_FLAG_W,CFC-12,CFC-12_FLAG_W
,,,,,,,UTC,UTC,,,METER,DBAR,METERS,ITS-90,PSS-78,,PSS-78,,UMOL/KG,,UMOL/KG,,UMOL/KG,,UMOL/KG,,UMOL/KG,,UMOL/KG,,UMOL/KG,,@25DEG-C,,PMOL/KG,,PMOL/KG,
49UF20101002,KS10-07,2829,1,-999,0,2,20101028,1025,37.3222,134.0028,2051,0.0,0,20.2350,32.9314,2,-999.,9,225.41,2,1.74,2,0.43,2,0.05,2,0.02,2,-999.,9,-999.,9,-999.,9,-999,9,-999,9
49UF20101002,KS10-07,2829,1,33,21993,2,20101028,1043,37.3222,134.0028,2051,12.3,12,20.2376,32.9303,2,-999.,9,223.96,2,1.70,2,0.42,2,0.05,2,0.01,2,-999.,9,-999.,9,-999.,9,-999,9,-999,9
49UF20101002,KS10-07,2829,1,32,21992,2,20101028,1042,37.3222,134.0028,2051,27.0,27,20.2498,32.9365,2,-999.,9,223.85,6,1.59,6,0.42,6,0.06,6,0.02,6,-999.,9,-999.,9,-999.,9,-999,9,-999,9
49UF20101002,KS10-07,2829,1,31,21991,2,20101028,1038,37.3222,134.0028,2051,52.7,52,18.7283,34.0401,2,-999.,9,173.46,2,9.60,2,7.54,2,0.03,2,0.44,2,-999.,9,-999.,9,-999.,9,-999,9,-999,9
49UF20101002,KS10-07,2829,1,30,21990,2,20101028,1037,37.3222,134.0028,2051,77.4,77,16.6121,34.2192,2,-999.,9,175.63,2,12.24,2,9.22,2,0.03,2,0.59,2,-999.,9,-999.,9,-999.,9,-999,9,-999,9
49UF20101002,KS10-07,2829,1,29,21989,2,20101028,1036,37.3222,134.0028,2051,103.8,103,15.3667,34.3225,2,-999.,9,189.88,2,12.09,2,8.61,2,0.02,2,0.60,2,-999.,9,-999.,9,-999.,9,-999,9,-999,9
49UF20101002,KS10-07,2829,1,28,21988,2,20101028,1034,37.3222,134.0028,2051,130.1,129,12.4132,34.3104,2,-999.,9,231.16,2,6.75,2,5.47,2,0.02,2,0.42,2,-999.,9,-999.,9,-999.,9,-999,9,-999,9
49UF20101002,KS10-07,2829,1,24,21984,2,20101028,1033,37.3222,134.0028,2051,152.5,151,10.5458,34.1701,2,-999.,9,252.41,2,4.99,2,5.83,2,0.01,2,0.39,2,-999.,9,-999.,9,-999.,9,-999,9,-999,9
49UF20101002,KS10-07,2829,1,23,21983,2,20101028,1031,37.3222,134.0028,2051,203.4,202,9.4670,34.1873,2,-999.,9,249.09,2,9.49,2,8.28,2,0.01,2,0.59,2,-999.,9,-999.,9,-999.,9,-999,9,-999,9
49UF20101002,KS10-07,2829,1,22,21982,2,20101028,1029,37.3222,134.0028,2051,253.0,251,4.4118,34.0688,2,-999.,9,250.89,2,20.75,2,14.68,2,0.00,2,1.11,2,-999.,9,-999.,9,-999.,9,-999,9,-999,9
49UF20101002,KS10-07,2829,1,21,21981,2,20101028,1028,37.3222,134.0028,2051,304.6,302,2.1136,34.0672,2,-999.,9,234.39,2,32.05,2,20.03,2,0.00,2,1.52,2,-999.,9,-999.,9,-999.,9,-999,9,-999,9
49UF20101002,KS10-07,2829,1,20,21980,2,20101028,1025,37.3222,134.0028,2051,405.6,402,0.9041,34.0680,2,-999.,9,217.12,2,42.94,2,23.81,2,0.00,2,1.81,2,-999.,9,-999.,9,-999.,9,-999,9,-999,9
49UF20101002,KS10-07,2829,1,19,21978,2,20101028,1022,37.3222,134.0028,2051,506.4,502,0.6501,34.0695,2,-999.,9,212.11,2,48.35,2,24.62,2,0.00,2,1.88,2,-999.,9,-999.,9,-999.,9,-999,9,-999,9
49UF20101002,KS10-07,2829,1,15,21974,2,20101028,1020,37.3222,134.0028,2051,607.1,602,0.5077,34.0699,2,-999.,9,209.53,6,53.61,6,25.05,6,0.00,6,1.92,6,-999.,9,-999.,9,-999.,9,-999,9,-999,9
49UF20101002,KS10-07,2829,1,14,21973,4,20101028,1017,37.3222,134.0028,2051,709.3,703,0.4180,34.0697,2,-999.,9,-999.00,9,-999.00,9,-999.00,9,-999.00,9,-999.000,9,-999.,9,-999.,9,-999.,9,-999,9,-999,9
49UF20101002,KS10-07,2829,1,13,21972,2,20101028,1014,37.3222,134.0028,2051,809.7,802,0.3688,34.0694,2,-999.,9,207.89,2,61.24,2,25.14,2,0.00,2,1.92,2,-999.,9,-999.,9,-999.,9,-999,9,-999,9
49UF20101002,KS10-07,2829,1,12,21971,2,20101028,1014,37.3222,134.0028,2051,809.7,802,0.3688,34.0694,2,-999.,9,208.06,2,61.38,2,24.83,2,0.00,2,1.93,2,-999.,9,-999.,9,-999.,9,-999,9,-999,9
49UF20101002,KS10-07,2829,1,11,21970,2,20101028,1011,37.3222,134.0028,2051,909.5,901,0.3217,34.0689,2,-999.,9,206.62,2,64.71,2,25.03,2,0.00,2,1.93,2,-999.,9,-999.,9,-999.,9,-999,9,-999,9
49UF20101002,KS10-07,2829,1,10,21969,2,20101028,1011,37.3222,134.0028,2051,909.5,901,0.3217,34.0689,2,-999.,9,206.30,2,64.83,2,25.11,2,0.00,2,1.93,2,-999.,9,-999.,9,-999.,9,-999,9,-999,9
49UF20101002,KS10-07,2829,1,6,21965,2,20101028,1009,37.3222,134.0028,2051,1012.5,1003,0.2905,34.0685,2,-999.,9,205.71,2,68.05,2,25.28,2,0.00,2,1.94,2,-999.,9,-999.,9,-999.,9,-999,9,-999,9
49UF20101002,KS10-07,2829,1,5,21964,2,20101028,1004,37.3222,134.0028,2051,1214.8,1202,0.2493,34.0677,2,-999.,9,203.66,2,74.04,2,25.23,2,0.00,2,1.96,2,-999.,9,-999.,9,-999.,9,-999,9,-999,9
49UF20101002,KS10-07,2829,1,4,21963,2,20101028,0959,37.3222,134.0028,2051,1416.6,1401,0.2297,34.0674,2,-999.,9,202.91,2,77.30,2,25.55,2,0.00,2,1.97,2,-999.,9,-999.,9,-999.,9,-999,9,-999,9
49UF20101002,KS10-07,2829,1,3,21962,2,20101028,0955,37.3222,134.0028,2051,1619.6,1601,0.2208,34.0671,2,-999.,9,202.69,2,79.81,2,25.66,2,0.00,2,1.98,2,-999.,9,-999.,9,-999.,9,-999,9,-999,9
49UF20101002,KS10-07,2829,1,2,21961,2,20101028,0950,37.3222,134.0028,2051,1824.2,1803,0.2176,34.0669,2,-999.,9,202.79,2,81.74,2,25.90,2,0.00,2,1.98,2,-999.,9,-999.,9,-999.,9,-999,9,-999,9
49UF20101002,KS10-07,2829,1,1,21960,2,20101028,0945,37.3222,134.0028,2051,2010.2,1986,0.2204,34.0668,2,-999.,9,201.45,2,84.91,2,26.01,2,0.00,2,1.99,2,-999.,9,-999.,9,-999.,9,-999,9,-999,9
49UF20101002,KS10-07,2830,1,-999,0,2,20101028,1338,36.9917,133.9908,1834,0.0,0,20.0081,32.7933,2,-999.0000,9,227.86,2,0.49,4,0.24,2,0.03,2,0.04,2,-999.,9,-999.,9,-999.,9,-999,9,-999,9
49UF20101002,KS10-07,2830,1,32,21992,2,20101028,1357,36.9917,133.9908,1834,12.4,12,20.0091,32.7925,2,32.7951,2,226.91,2,0.27,4,0.19,2,0.03,2,0.00,2,-999.,9,-999.,9,-999.,9,-999,9,-999,9
49UF20101002,KS10-07,2830,1,31,21991,2,20101028,1355,36.9917,133.9908,1834,26.7,27,20.0119,32.7893,2,-999.0000,9,226.69,2,0.16,4,0.24,2,0.04,2,0.01,2,-999.,9,-999.,9,-999.,9,-999,9,-999,9
49UF20101002,KS10-07,2830,1,30,21990,2,20101028,1351,36.9917,133.9908,1834,52.2,52,16.5197,34.2284,2,-999.0000,9,182.93,6,11.40,4,8.62,6,0.06,6,0.55,6,-999.,9,-999.,9,-999.,9,-999,9,-999,9
49UF20101002,KS10-07,2830,1,29,21989,2,20101028,1350,36.9917,133.9908,1834,78.2,78,14.4519,34.3311,2,-999.0000,9,206.68,2,10.72,4,7.32,2,0.02,2,0.52,2,-999.,9,-999.,9,-999.,9,-999,9,-999,9
49UF20101002,KS10-07,2830,1,28,21988,2,20101028,1348,36.9917,133.9908,1834,102.0,101,11.3717,34.2004,2,34.1972,2,250.37,2,0.63,4,1.81,2,0.02,2,0.19,2,-999.,9,-999.,9,-999.,9,-999,9,-999,9
49UF20101002,KS10-07,2830,1,24,21984,2,20101028,1346,36.9917,133.9908,1834,127.8,127,10.4232,34.1365,2,-999.0000,9,238.06,2,2.01,4,4.42,2,0.01,2,0.26,2,-999.,9,-999.,9,-999.,9,-999,9,-999,9
49UF20101002,KS10-07,2830,1,23,21983,2,20101028,1345,36.9917,133.9908,1834,152.3,151,10.2612,34.1317,2,-999.0000,9,254.53,2,5.57,4,6.79,2,0.00,2,0.44,2,-999.,9,-999.,9,-999.,9,-999,9,-999,9
49UF20101002,KS10-07,2830,1,22,21982,2,20101028,1343,36.9917,133.9908,1834,203.8,202,10.2351,34.1360,2,34.1375,2,262.05,2,6.23,4,6.60,2,0.01,2,0.44,2,-999.,9,-999.,9,-999.,9,-999,9,-999,9
49UF20101002,KS10-07,2830,1,21,21981,2,20101028,1341,36.9917,133.9908,1834,252.8,251,10.0314,34.1550,2,-999.0000,9,261.38,2,6.81,4,6.67,2,0.00,2,0.45,2,-999.,9,-999.,9,-999.,9,-999,9,-999,9
49UF20101002,KS10-07,2830,1,20,21980,3,20101028,1339,36.9917,133.9908,1834,304.8,302,6.4202,34.1103,2,-999.0000,9,253.39,2,14.77,4,11.44,2,0.01,2,0.83,2,-999.,9,-999.,9,-999.,9,-999,9,-999,9
49UF20101002,KS10-07,2830,1,19,21978,2,20101028,1336,36.9917,133.9908,1834,405.1,402,1.6139,34.0637,2,34.0659,2,233.80,2,34.04,4,21.05,2,0.00,2,1.57,2,-999.,9,-999.,9,-999.,9,-999,9,-999,9
49UF20101002,KS10-07,2830,1,15,21974,2,20101028,1333,36.9917,133.9908,1834,506.9,503,0.7842,34.0685,2,-999.0000,9,213.90,2,52.41,4,24.43,2,0.00,2,1.85,2,-999.,9,-999.,9,-999.,9,-999,9,-999,9
49UF20101002,KS10-07,2830,1,14,21973,2,20101028,1330,36.9917,133.9908,1834,607.5,602,0.5665,34.0699,2,34.0711,6,209.70,2,55.32,4,25.01,2,0.00,2,1.91,2,-999.,9,-999.,9,-999.,9,-999,9,-999,9
49UF20101002,KS10-07,2830,1,13,21972,2,20101028,1327,36.9917,133.9908,1834,709.0,703,0.4698,34.0698,2,-999.0000,9,209.09,6,59.86,4,25.04,6,0.00,6,1.91,6,-999.,9,-999.,9,-999.,9,-999,9,-999,9
49UF20101002,KS10-07,2830,1,12,21971,2,20101028,1324,36.9917,133.9908,1834,809.4,802,0.4100,34.0694,2,34.0694,6,208.18,2,63.03,4,25.08,2,0.00,2,1.92,2,-999.,9,-999.,9,-999.,9,-999,9,-999,9
49UF20101002,KS10-07,2830,1,11,21970,2,20101028,1322,36.9917,133.9908,1834,908.8,900,0.3456,34.0690,2,-999.0000,9,206.57,2,67.78,4,25.30,2,0.00,2,1.94,2,-999.,9,-999.,9,-999.,9,-999,9,-999,9
49UF20101002,KS10-07,2830,1,10,21969,2,20101028,1319,36.9917,133.9908,1834,1011.2,1001,0.2913,34.0685,2,-999.0000,9,205.96,2,71.01,4,25.34,2,0.00,2,1.94,2,-999.,9,-999.,9,-999.,9,-999,9,-999,9
49UF20101002,KS10-07,2830,1,9,21968,2,20101028,1319,36.9917,133.9908,1834,1011.2,1001,0.2913,34.0685,2,34.0695,2,205.93,2,70.85,4,25.23,2,0.00,2,1.93,2,-999.,9,-999.,9,-999.,9,-999,9,-999,9
49UF20101002,KS10-07,2830,1,5,21964,2,20101028,1314,36.9917,133.9908,1834,1214.1,1202,0.2479,34.0676,2,-999.0000,9,203.84,2,76.24,4,25.33,2,0.00,2,1.94,2,-999.,9,-999.,9,-999.,9,-999,9,-999,9
49UF20101002,KS10-07,2830,1,4,21963,2,20101028,1314,36.9917,133.9908,1834,1214.1,1202,0.2479,34.0676,2,34.0693,2,205.25,2,76.54,4,25.31,2,0.00,2,1.95,2,-999.,9,-999.,9,-999.,9,-999,9,-999,9
49UF20101002,KS10-07,2830,1,3,21962,2,20101028,1309,36.9917,133.9908,1834,1416.4,1401,0.2233,34.0673,2,34.0688,2,203.57,2,78.95,4,25.41,2,0.00,2,1.96,2,-999.,9,-999.,9,-999.,9,-999,9,-999,9
49UF20101002,KS10-07,2830,1,2,21961,2,20101028,1304,36.9917,133.9908,1834,1619.1,1601,0.2092,34.0669,2,34.0678,2,202.95,2,83.64,4,25.50,2,0.00,2,1.97,2,-999.,9,-999.,9,-999.,9,-999,9,-999,9
49UF20101002,KS10-07,2830,1,1,21960,2,20101028,1300,36.9917,133.9908,1834,1804.3,1783,0.2069,34.0668,2,34.0682,2,201.56,2,87.04,4,25.61,2,0.00,2,1.98,2,-999.,9,-999.,9,-999.,9,-999,9,-999,9
49UF20101002,KS10-07,2831,1,-999,0,2,20101028,2225,36.1403,135.8192,251,0.0,0,20.5863,32.7867,2,-999.,9,218.61,2,4.22,2,1.74,2,0.18,2,0.12,2,-999.,9,-999.,9,-999.,9,-999,9,-999,9
49UF20101002,KS10-07,2831,1,33,21993,2,20101028,2243,36.1403,135.8192,251,11.5,11,20.6251,32.8024,2,-999.,9,216.07,2,4.46,2,1.88,2,0.18,2,0.11,2,-999.,9,-999.,9,-999.,9,-999,9,-999,9
49UF20101002,KS10-07,2831,1,28,21988,2,20101028,2241,36.1403,135.8192,251,27.0,27,20.6683,32.8256,2,-999.,9,208.30,2,4.92,2,2.44,2,0.17,2,0.14,2,-999.,9,-999.,9,-999.,9,-999,9,-999,9
49UF20101002,KS10-07,2831,1,24,21984,2,20101028,2239,36.1403,135.8192,251,54.0,54,19.4293,34.0828,2,-999.,9,180.77,2,8.48,2,5.70,2,0.04,2,0.34,2,-999.,9,-999.,9,-999.,9,-999,9,-999,9
49UF20101002,KS10-07,2831,1,19,21978,3,20101028,2237,36.1403,135.8192,251,77.2,77,16.3399,34.2541,2,-999.,9,188.26,6,10.93,6,7.65,6,0.02,6,0.51,6,-999.,9,-999.,9,-999.,9,-999,9,-999,9
49UF20101002,KS10-07,2831,1,15,21974,2,20101028,2235,36.1403,135.8192,251,102.4,102,12.9264,34.3063,2,-999.,9,221.58,2,9.14,2,6.79,2,0.02,2,0.48,2,-999.,9,-999.,9,-999.,9,-999,9,-999,9
49UF20101002,KS10-07,2831,1,10,21969,2,20101028,2234,36.1403,135.8192,251,127.1,126,8.5554,34.1771,2,-999.,9,241.33,2,13.73,2,9.98,2,0.01,2,0.75,2,-999.,9,-999.,9,-999.,9,-999,9,-999,9
49UF20101002,KS10-07,2831,1,6,21965,2,20101028,2232,36.1403,135.8192,251,153.2,152,5.1516,34.0980,2,-999.,9,238.86,2,22.69,2,14.87,2,0.01,2,1.14,2,-999.,9,-999.,9,-999.,9,-999,9,-999,9
49UF20101002,KS10-07,2831,1,1,21960,2,20101028,2229,36.1403,135.8192,251,218.2,216,0.8198,34.0692,2,-999.,9,208.07,6,50.93,6,23.62,6,0.01,6,1.86,6,-999.,9,-999.,9,-999.,9,-999,9,-999,9