BOTTLE,20171117JMAGEMD
EXPOCODE,SECT_ID,STNNBR,CASTNO,SAMPNO,BTLNBR,BTLNBR_FLAG_W,DATE,TIME,LATITUDE,LONGITUDE,DEPTH,CTDPRS,CTDDEP,CTDTMP,CTDSAL,CTDSAL_FLAG_W,SALNTY,SALNTY_FLAG_W,OXYGEN,OXYGEN_FLAG_W,SILCAT,SILCAT_FLAG_W,NO2+NO3,NO2+NO3_FLAG_W,NITRIT,NITRIT_FLAG_W,PHSPHT,PHSPHT_FLAG_W,TCARBN,TCARBN_FLAG_W,ALKALI,ALKALI_FLAG_W,PH_TOT,PH_TOT_FLAG_W,CFC-11,CFC-11_FLAG_W,CFC-12,CFC-12_FLAG_W
,,,,,,,UTC,UTC,,,METER,DBAR,METERS,ITS-90,PSS-78,,PSS-78,,UMOL/KG,,UMOL/KG,,UMOL/KG,,UMOL/KG,,UMOL/KG,,UMOL/KG,,UMOL/KG,,@25DEG-C,,PMOL/KG,,PMOL/KG,
49UF20101002,KS10-07,2740,1,-999,0,2,20101002,1555,34.9262,140.2428,2211,0.0,0,25.8813,34.0215,2,-999.0000,9,207.42,2,2.59,2,0.09,2,0.01,2,0.07,2,-999.,9,-999.,9,-999.,9,-999,9,-999,9
49UF20101002,KS10-07,2740,1,33,21993,2,20101002,1615,34.9262,140.2428,2211,12.6,13,25.9021,34.0217,2,34.0199,6,206.12,6,2.52,2,0.00,2,0.00,2,0.03,2,-999.,9,-999.,9,-999.,9,-999,9,-999,9
49UF20101002,KS10-07,2740,1,32,21992,2,20101002,1613,34.9262,140.2428,2211,27.5,27,25.8904,34.0196,2,-999.0000,9,205.80,2,2.50,2,0.00,2,0.00,2,0.02,2,-999.,9,-999.,9,-999.,9,-999,9,-999,9
49UF20101002,KS10-07,2740,1,31,21991,2,20101002,1606,34.9262,140.2428,2211,51.2,51,26.0007,34.2936,2,-999.0000,9,199.31,2,2.63,2,0.48,2,0.06,2,0.05,2,-999.,9,-999.,9,-999.,9,-999,9,-999,9
49UF20101002,KS10-07,2740,1,30,21990,2,20101002,1605,34.9262,140.2428,2211,75.4,75,23.6302,34.5002,2,-999.0000,9,190.09,2,4.20,2,2.71,2,0.14,2,0.20,2,-999.,9,-999.,9,-999.,9,-999,9,-999,9
49UF20101002,KS10-07,2740,1,29,21989,2,20101002,1604,34.9262,140.2428,2211,100.3,100,20.0368,34.7358,2,34.7324,6,184.44,2,4.80,2,4.23,2,0.02,2,0.29,2,-999.,9,-999.,9,-999.,9,-999,9,-999,9
49UF20101002,KS10-07,2740,1,28,21988,2,20101002,1602,34.9262,140.2428,2211,126.6,126,16.6111,34.6531,2,-999.0000,9,179.12,2,10.66,2,8.71,2,0.01,2,0.59,2,-999.,9,-999.,9,-999.,9,-999,9,-999,9
49UF20101002,KS10-07,2740,1,24,21984,2,20101002,1600,34.9262,140.2428,2211,151.8,151,14.6976,34.5628,2,-999.0000,9,169.28,2,17.34,2,12.31,2,0.00,2,0.85,2,-999.,9,-999.,9,-999.,9,-999,9,-999,9
49UF20101002,KS10-07,2740,1,23,21983,2,20101002,1559,34.9262,140.2428,2211,202.6,201,13.4685,34.4981,2,34.4915,2,162.31,2,23.49,2,15.10,2,0.00,2,1.05,2,-999.,9,-999.,9,-999.,9,-999,9,-999,9
49UF20101002,KS10-07,2740,1,22,21982,2,20101002,1557,34.9262,140.2428,2211,252.7,251,10.4825,34.3719,2,-999.0000,9,141.53,2,39.77,2,21.73,2,0.00,2,1.54,2,-999.,9,-999.,9,-999.,9,-999,9,-999,9
49UF20101002,KS10-07,2740,1,21,21981,2,20101002,1555,34.9262,140.2428,2211,303.7,301,8.0460,34.2350,2,-999.0000,9,127.46,2,53.13,2,27.17,2,0.00,2,1.94,2,-999.,9,-999.,9,-999.,9,-999,9,-999,9
49UF20101002,KS10-07,2740,1,20,21980,2,20101002,1552,34.9262,140.2428,2211,403.7,400,6.8585,34.2255,2,34.2226,2,109.22,2,67.06,2,30.79,2,0.00,2,2.22,2,-999.,9,-999.,9,-999.,9,-999,9,-999,9
49UF20101002,KS10-07,2740,1,19,21978,2,20101002,1549,34.9262,140.2428,2211,504.3,500,6.5428,34.2631,2,-999.0000,9,100.38,6,74.42,2,32.29,2,0.00,2,2.32,2,-999.,9,-999.,9,-999.,9,-999,9,-999,9
49UF20101002,KS10-07,2740,1,15,21974,2,20101002,1546,34.9262,140.2428,2211,606.3,601,5.5026,34.2721,2,34.2689,2,85.79,2,86.05,4,35.11,4,0.00,4,2.53,4,-999.,9,-999.,9,-999.,9,-999,9,-999,9
49UF20101002,KS10-07,2740,1,14,21973,2,20101002,1546,34.9262,140.2428,2211,606.3,601,5.5026,34.2721,2,-999.0000,9,84.66,2,88.64,2,35.47,2,0.00,2,2.55,2,-999.,9,-999.,9,-999.,9,-999,9,-999,9
49UF20101002,KS10-07,2740,1,13,21972,2,20101002,1543,34.9262,140.2428,2211,707.3,701,4.8758,34.2931,2,-999.0000,9,74.79,2,95.72,4,36.81,4,0.00,4,2.66,4,-999.,9,-999.,9,-999.,9,-999,9,-999,9
49UF20101002,KS10-07,2740,1,12,21971,2,20101002,1542,34.9262,140.2428,2211,707.3,701,4.8758,34.2931,2,-999.0000,9,75.19,2,98.70,2,37.49,2,0.00,2,2.68,2,-999.,9,-999.,9,-999.,9,-999,9,-999,9
49UF20101002,KS10-07,2740,1,11,21970,2,20101002,1540,34.9262,140.2428,2211,809.8,802,4.2431,34.3371,2,34.3308,2,65.94,2,109.50,2,39.21,2,0.00,2,2.79,2,-999.,9,-999.,9,-999.,9,-999,9,-999,9
49UF20101002,KS10-07,2740,1,10,21969,2,20101002,1537,34.9262,140.2428,2211,910.4,902,3.7963,34.3575,2,-999.0000,9,58.95,2,119.24,2,40.37,2,0.00,2,2.88,2,-999.,9,-999.,9,-999.,9,-999,9,-999,9
49UF20101002,KS10-07,2740,1,6,21965,2,20101002,1534,34.9262,140.2428,2211,1012.2,1002,3.5134,34.3982,2,34.3946,2,59.63,2,125.16,2,40.67,2,0.00,2,2.93,2,-999.,9,-999.,9,-999.,9,-999,9,-999,9
49UF20101002,KS10-07,2740,1,5,21964,2,20101002,1529,34.9262,140.2428,2211,1214.5,1202,2.9383,34.4569,2,34.4529,2,54.91,4,138.20,2,41.90,2,0.00,2,2.95,2,-999.,9,-999.,9,-999.,9,-999,9,-999,9
49UF20101002,KS10-07,2740,1,4,21963,2,20101002,1524,34.9262,140.2428,2211,1419.0,1404,2.6110,34.4882,2,34.4840,2,51.05,2,144.98,4,41.59,4,0.00,4,2.99,4,-999.,9,-999.,9,-999.,9,-999,9,-999,9
49UF20101002,KS10-07,2740,1,3,21962,2,20101002,1520,34.9262,140.2428,2211,1618.4,1601,2.2957,34.5394,2,34.4967,4,51.75,3,147.09,4,41.68,4,0.00,4,2.98,4,-999.,9,-999.,9,-999.,9,-999,9,-999,9
49UF20101002,KS10-07,2740,1,2,21961,2,20101002,1515,34.9262,140.2428,2211,1822.4,1801,2.1009,34.5729,2,34.5684,2,73.06,2,153.31,4,40.86,4,0.00,4,2.90,4,-999.,9,-999.,9,-999.,9,-999,9,-999,9
49UF20101002,KS10-07,2740,1,1,21960,2,20101002,1510,34.9262,140.2428,2211,2027.0,2003,1.9578,34.5987,2,34.5944,2,83.01,2,154.32,4,40.21,4,0.01,4,2.85,4,-999.,9,-999.,9,-999.,9,-999,9,-999,9
49UF20101002,KS10-07,2743,1,-999,0,2,20101003,0250,34.2177,140.9597,4434,0.0,0,26.8734,34.4493,2,-999.,9,202.97,2,1.67,2,0.06,2,0.01,2,0.01,2,-999.,9,-999.,9,-999.,9,-999,9,-999,9
49UF20101002,KS10-07,2743,1,33,21993,2,20101003,0307,34.2177,140.9597,4434,13.3,13,26.8470,34.4476,2,-999.,9,204.26,2,1.62,2,0.00,2,0.00,2,0.00,2,-999.,9,-999.,9,-999.,9,-999,9,-999,9
49UF20101002,KS10-07,2743,1,32,21992,2,20101003,0306,34.2177,140.9597,4434,27.6,27,26.6267,34.4501,2,-999.,9,205.00,6,1.60,6,0.02,6,0.01,6,0.00,6,-999.,9,-999.,9,-999.,9,-999,9,-999,9
49UF20101002,KS10-07,2743,1,31,21991,2,20101003,0302,34.2177,140.9597,4434,50.4,50,26.0040,34.4277,2,-999.,9,207.92,2,1.62,2,0.00,2,0.01,2,0.00,2,-999.,9,-999.,9,-999.,9,-999,9,-999,9
49UF20101002,KS10-07,2743,1,30,21990,2,20101003,0300,34.2177,140.9597,4434,74.8,74,24.7154,34.6662,2,-999.,9,200.76,2,2.11,2,0.89,2,0.19,2,0.06,2,-999.,9,-999.,9,-999.,9,-999,9,-999,9
49UF20101002,KS10-07,2743,1,29,21989,4,20101003,0259,34.2177,140.9597,4434,101.7,101,21.1244,34.7130,2,-999.,9,-999.00,9,-999.00,9,-999.00,9,-999.00,9,-999.000,9,-999.,9,-999.,9,-999.,9,-999,9,-999,9
49UF20101002,KS10-07,2743,1,28,21988,2,20101003,0257,34.2177,140.9597,4434,126.8,126,19.7083,34.7207,2,-999.,9,208.10,2,2.93,2,1.94,2,0.03,2,0.13,2,-999.,9,-999.,9,-999.,9,-999,9,-999,9
49UF20101002,KS10-07,2743,1,24,21984,2,20101003,0256,34.2177,140.9597,4434,153.4,152,18.9248,34.7139,2,-999.,9,210.29,2,2.68,2,2.32,2,0.02,2,0.15,2,-999.,9,-999.,9,-999.,9,-999,9,-999,9
49UF20101002,KS10-07,2743,1,23,21983,2,20101003,0254,34.2177,140.9597,4434,202.6,201,18.4627,34.7105,2,-999.,9,206.79,2,3.36,2,3.20,2,0.02,2,0.20,2,-999.,9,-999.,9,-999.,9,-999,9,-999,9
49UF20101002,KS10-07,2743,1,22,21982,2,20101003,0252,34.2177,140.9597,4434,251.6,250,17.8766,34.7032,2,-999.,9,205.51,2,4.04,2,4.19,2,0.01,2,0.26,2,-999.,9,-999.,9,-999.,9,-999,9,-999,9
49UF20101002,KS10-07,2743,1,21,21981,2,20101003,0250,34.2177,140.9597,4434,303.6,301,17.2218,34.7024,2,-999.,9,194.24,2,5.91,2,6.19,2,0.01,2,0.40,2,-999.,9,-999.,9,-999.,9,-999,9,-999,9
49UF20101002,KS10-07,2743,1,20,21980,2,20101003,0247,34.2177,140.9597,4434,404.5,401,15.0530,34.5876,2,-999.,9,179.98,2,12.25,2,10.61,2,0.00,2,0.72,2,-999.,9,-999.,9,-999.,9,-999,9,-999,9
49UF20101002,KS10-07,2743,1,19,21978,2,20101003,0245,34.2177,140.9597,4434,503.0,499,11.4037,34.3522,2,-999.,9,167.58,2,27.28,2,17.66,2,0.00,2,1.24,2,-999.,9,-999.,9,-999.,9,-999,9,-999,9
49UF20101002,KS10-07,2743,1,15,21974,2,20101003,0242,34.2177,140.9597,4434,605.4,600,8.4284,34.1724,2,-999.,9,154.79,6,44.50,6,23.54,6,0.00,6,1.71,6,-999.,9,-999.,9,-999.,9,-999,9,-999,9
49UF20101002,KS10-07,2743,1,14,21973,2,20101003,0238,34.2177,140.9597,4434,709.8,704,6.0418,34.0802,2,-999.,9,125.44,2,66.79,2,30.72,2,0.00,2,2.24,2,-999.,9,-999.,9,-999.,9,-999,9,-999,9
49UF20101002,KS10-07,2743,1,13,21972,2,20101003,0235,34.2177,140.9597,4434,809.5,802,4.9538,34.1587,2,-999.,9,85.10,2,88.59,2,35.86,2,0.00,2,2.61,2,-999.,9,-999.,9,-999.,9,-999,9,-999,9
49UF20101002,KS10-07,2743,1,12,21971,2,20101003,0235,34.2177,140.9597,4434,809.5,802,4.9538,34.1587,2,-999.,9,84.77,2,88.98,2,36.03,2,0.00,2,2.60,2,-999.,9,-999.,9,-999.,9,-999,9,-999,9
49UF20101002,KS10-07,2743,1,11,21970,2,20101003,0232,34.2177,140.9597,4434,911.5,903,4.4348,34.2333,2,-999.,9,66.31,2,102.30,2,38.22,2,0.00,2,2.76,2,-999.,9,-999.,9,-999.,9,-999,9,-999,9
49UF20101002,KS10-07,2743,1,10,21969,2,20101003,0231,34.2177,140.9597,4434,911.5,903,4.4348,34.2333,2,-999.,9,66.43,2,102.31,2,38.27,2,0.00,2,2.76,2,-999.,9,-999.,9,-999.,9,-999,9,-999,9
49UF20101002,KS10-07,2743,1,6,21965,2,20101003,0228,34.2177,140.9597,4434,1013.4,1004,3.9391,34.2938,2,-999.,9,55.12,2,114.64,2,39.76,2,0.00,2,2.86,2,-999.,9,-999.,9,-999.,9,-999,9,-999,9
49UF20101002,KS10-07,2743,1,5,21964,2,20101003,0223,34.2177,140.9597,4434,1213.9,1202,3.2099,34.3931,2,-999.,9,42.59,2,132.93,2,41.83,2,0.00,2,3.00,2,-999.,9,-999.,9,-999.,9,-999,9,-999,9
49UF20101002,KS10-07,2743,1,4,21963,2,20101003,0217,34.2177,140.9597,4434,1416.4,1402,2.7210,34.4621,2,-999.,9,42.59,2,146.98,2,41.99,2,0.00,2,3.01,2,-999.,9,-999.,9,-999.,9,-999,9,-999,9
49UF20101002,KS10-07,2743,1,3,21962,2,20101003,0212,34.2177,140.9597,4434,1618.4,1601,2.4109,34.5228,2,-999.,9,51.80,2,153.44,2,41.84,2,0.00,2,2.99,2,-999.,9,-999.,9,-999.,9,-999,9,-999,9
49UF20101002,KS10-07,2743,1,2,21961,2,20101003,0207,34.2177,140.9597,4434,1821.5,1801,2.2065,34.5570,2,-999.,9,62.07,3,157.24,2,41.23,2,0.00,2,2.94,2,-999.,9,-999.,9,-999.,9,-999,9,-999,9
49UF20101002,KS10-07,2743,1,1,21960,2,20101003,0203,34.2177,140.9597,4434,2025.1,2001,2.0324,34.5872,2,-999.,9,76.24,2,158.09,2,40.53,2,0.00,2,2.87,2,-999.,9,-999.,9,-999.,9,-999,9,-999,9
49UF20101002,KS10-07,2745,1,-999,0,2,20101003,1131,33.5035,141.4983,5757,0.0,0,27.4334,34.3422,2,-999.0000,9,202.51,2,1.61,2,0.08,2,0.01,2,0.00,2,-999.0,9,-999.0,9,-999.0000,9,-999,9,-999,9
49UF20101002,KS10-07,2745,1,33,21993,2,20101003,1156,33.5035,141.4983,5757,10.7,11,27.3457,34.4363,2,34.4340,2,203.92,2,1.56,2,0.04,2,0.00,2,0.00,2,1933.7,2,2244.6,2,7.7697,4,-999,9,-999,9
49UF20101002,KS10-07,2745,1,32,21992,3,20101003,1154,33.5035,141.4983,5757,26.7,27,27.1253,34.4442,2,-999.0000,9,203.80,2,1.57,2,0.02,2,0.00,2,0.00,2,1937.4,2,2246.8,2,8.0938,2,-999,9,-999,9
49UF20101002,KS10-07,2745,1,31,21991,2,20101003,1149,33.5035,141.4983,5757,51.3,51,25.7262,34.5497,2,-999.0000,9,212.12,6,1.60,6,0.00,6,0.00,6,0.00,6,1948.6,2,2257.9,2,8.0742,2,-999,9,-999,9
49UF20101002,KS10-07,2745,1,30,21990,2,20101003,1148,33.5035,141.4983,5757,76.2,76,23.3315,34.7372,2,-999.0000,9,193.78,2,2.51,2,1.62,2,0.08,2,0.12,2,1986.2,2,2271.1,2,8.0267,2,-999,9,-999,9
49UF20101002,KS10-07,2745,1,29,21989,4,20101003,1146,33.5035,141.4983,5757,101.4,101,21.9580,34.7665,2,-999.0000,9,-999.00,9,-999.00,9,-999.00,9,-999.00,9,-999.000,9,-999.0,9,-999.0,9,-999.0000,9,-999,9,-999,9
49UF20101002,KS10-07,2745,1,28,21988,2,20101003,1145,33.5035,141.4983,5757,126.9,126,21.0138,34.7356,2,34.7328,2,213.16,2,2.32,2,0.91,2,0.14,2,0.06,2,1995.8,2,2263.4,2,8.0165,2,-999,9,-999,9
49UF20101002,KS10-07,2745,1,24,21984,2,20101003,1143,33.5035,141.4983,5757,151.4,150,19.7827,34.7254,2,-999.0000,9,208.45,2,2.53,2,1.69,2,0.03,2,0.11,2,2004.7,2,2265.8,2,8.0010,2,-999,9,-999,9
49UF20101002,KS10-07,2745,1,23,21983,3,20101003,1140,33.5035,141.4983,5757,201.6,200,18.5539,34.7231,2,34.7209,6,201.69,2,3.50,2,3.50,2,0.01,2,0.22,2,2022.5,2,2265.0,2,7.9717,2,-999,9,-999,9
49UF20101002,KS10-07,2745,1,22,21982,2,20101003,1138,33.5035,141.4983,5757,252.5,251,17.7393,34.7102,2,-999.0000,9,189.32,2,6.02,2,5.93,2,0.01,2,0.39,2,2044.6,2,2266.6,2,7.9346,2,-999,9,-999,9
49UF20101002,KS10-07,2745,1,21,21981,2,20101003,1136,33.5035,141.4983,5757,303.8,301,16.8666,34.6866,2,-999.0000,9,186.06,2,7.61,2,7.36,2,0.01,2,0.49,2,2055.1,2,2267.6,2,7.9086,2,-999,9,-999,9
49UF20101002,KS10-07,2745,1,20,21980,2,20101003,1133,33.5035,141.4983,5757,403.6,400,14.6645,34.5625,2,34.5592,6,177.67,2,14.02,2,11.44,2,0.00,2,0.78,2,2084.5,6,2263.3,4,7.8440,6,-999,9,-999,9
49UF20101002,KS10-07,2745,1,19,21978,2,20101003,1130,33.5035,141.4983,5757,504.6,500,11.1139,34.3482,2,-999.0000,9,159.76,2,30.60,2,18.79,2,0.00,2,1.34,2,2137.7,2,2269.8,4,7.7172,2,-999,9,-999,9
49UF20101002,KS10-07,2745,1,15,21974,2,20101003,1127,33.5035,141.4983,5757,605.9,601,7.8772,34.1526,2,34.1525,2,147.46,2,49.49,2,25.26,2,0.00,2,1.83,2,2184.3,2,2275.6,4,7.6141,2,-999,9,-999,9
49UF20101002,KS10-07,2745,1,14,21973,2,20101003,1124,33.5035,141.4983,5757,706.7,700,5.4878,34.0528,2,-999.0000,9,118.37,6,72.48,6,32.52,6,0.00,6,2.36,6,2251.2,2,2288.4,4,7.4763,2,-999,9,-999,9
49UF20101002,KS10-07,2745,1,13,21972,2,20101003,1121,33.5035,141.4983,5757,808.3,801,4.8252,34.1438,2,34.1517,4,82.27,4,91.02,2,36.63,2,0.00,2,2.64,2,2294.1,6,2303.8,4,7.4193,6,-999,9,-999,9
49UF20101002,KS10-07,2745,1,12,21971,2,20101003,1118,33.5035,141.4983,5757,909.4,901,4.3344,34.2499,2,-999.0000,9,62.60,2,105.25,2,38.87,2,0.00,2,2.79,2,2341.9,2,2333.6,4,7.3871,2,-999,9,-999,9
49UF20101002,KS10-07,2745,1,11,21970,2,20101003,1115,33.5035,141.4983,5757,1010.2,1001,3.8534,34.3027,2,-999.0000,9,54.04,2,117.39,2,40.26,2,0.00,2,2.89,2,2320.4,2,2316.7,4,7.3782,2,-999,9,-999,9
49UF20101002,KS10-07,2745,1,10,21969,2,20101003,1115,33.5035,141.4983,5757,1010.2,1001,3.8534,34.3027,2,34.3013,2,53.15,2,116.75,2,40.29,2,0.00,2,2.88,2,2339.9,2,2328.6,4,7.3714,2,-999,9,-999,9
49UF20101002,KS10-07,2745,1,6,21965,2,20101003,1110,33.5035,141.4983,5757,1213.0,1201,3.1997,34.3935,2,-999.0000,9,44.09,2,134.05,2,41.83,2,0.00,2,2.99,2,2366.0,2,2347.5,4,7.3582,2,-999,9,-999,9
49UF20101002,KS10-07,2745,1,5,21964,2,20101003,1110,33.5035,141.4983,5757,1213.0,1201,3.1997,34.3935,2,34.3918,2,50.02,3,134.26,2,41.84,2,0.00,2,2.99,2,2358.0,2,2351.1,4,7.3649,2,-999,9,-999,9
49UF20101002,KS10-07,2745,1,4,21963,2,20101003,1105,33.5035,141.4983,5757,1415.3,1401,2.7106,34.4660,2,34.4639,2,42.91,2,147.34,2,42.37,2,0.00,2,3.02,2,2383.1,2,2365.9,4,7.3625,2,-999,9,-999,9
49UF20101002,KS10-07,2745,1,3,21962,2,20101003,1100,33.5035,141.4983,5757,1618.1,1600,2.4197,34.5151,2,34.5132,2,49.48,2,154.91,2,42.13,2,0.00,2,3.01,2,2381.9,2,2376.5,4,7.3737,2,-999,9,-999,9
49UF20101002,KS10-07,2745,1,2,21961,2,20101003,1056,33.5035,141.4983,5757,1820.2,1799,2.2020,34.5542,2,34.5527,2,59.92,2,159.28,2,41.73,2,0.00,2,2.95,2,2387.4,2,2382.3,4,7.3953,2,-999,9,-999,9
49UF20101002,KS10-07,2745,1,1,21960,2,20101003,1051,33.5035,141.4983,5757,2023.4,1999,2.0343,34.5851,2,34.5825,2,71.84,2,160.55,2,41.04,2,0.00,2,2.89,2,2380.3,2,2383.2,4,7.4192,2,-999,9,-999,9
49UF20101002,KS10-07,2748,1,-999,0,2,20101004,0630,32.0387,143.0163,5652,0.0,0,27.3483,34.3708,2,-999.,9,204.71,2,1.40,2,0.04,2,-999.00,5,0.03,2,-999.,9,-999.,9,-999.,9,-999,9,-999,9
49UF20101002,KS10-07,2748,1,33,21993,2,20101004,0701,32.0387,143.0163,5652,10.4,10,27.3506,34.3707,2,-999.,9,205.61,2,1.37,2,0.00,2,-999.00,5,0.00,2,-999.,9,-999.,9,-999.,9,-999,9,-999,9
49UF20101002,KS10-07,2748,1,32,21992,2,20101004,0700,32.0387,143.0163,5652,26.5,26,27.3548,34.3704,2,-999.,9,203.40,2,1.35,2,0.00,2,-999.00,5,0.00,2,-999.,9,-999.,9,-999.,9,-999,9,-999,9
49UF20101002,KS10-07,2748,1,31,21991,2,20101004,0655,32.0387,143.0163,5652,50.3,50,26.7150,34.4891,2,-999.,9,207.98,2,1.49,2,0.00,2,-999.00,5,0.00,2,-999.,9,-999.,9,-999.,9,-999,9,-999,9
49UF20101002,KS10-07,2748,1,30,21990,2,20101004,0654,32.0387,143.0163,5652,75.7,75,24.4899,34.5251,2,-999.,9,217.28,6,1.91,6,0.02,6,0.01,2,0.00,6,-999.,9,-999.,9,-999.,9,-999,9,-999,9
49UF20101002,KS10-07,2748,1,29,21989,2,20101004,0653,32.0387,143.0163,5652,100.5,100,21.4495,34.6270,2,-999.,9,196.43,2,3.57,2,0.85,2,-999.00,5,0.11,2,-999.,9,-999.,9,-999.,9,-999,9,-999,9
49UF20101002,KS10-07,2748,1,28,21988,2,20101004,0651,32.0387,143.0163,5652,125.4,124,20.0819,34.6676,2,-999.,9,182.46,2,5.29,2,4.97,2,-999.00,5,0.32,2,-999.,9,-999.,9,-999.,9,-999,9,-999,9
49UF20101002,KS10-07,2748,1,24,21984,2,20101004,0650,32.0387,143.0163,5652,151.5,150,18.7954,34.6666,2,-999.,9,180.41,2,6.97,2,6.29,2,-999.00,5,0.42,2,-999.,9,-999.,9,-999.,9,-999,9,-999,9
49UF20101002,KS10-07,2748,1,23,21983,2,20101004,0648,32.0387,143.0163,5652,202.9,201,16.3401,34.6057,2,-999.,9,177.38,2,11.33,2,9.46,2,-999.00,5,0.64,2,-999.,9,-999.,9,-999.,9,-999,9,-999,9
49UF20101002,KS10-07,2748,1,22,21982,2,20101004,0646,32.0387,143.0163,5652,253.3,251,14.0866,34.5175,2,-999.,9,170.08,2,17.88,2,13.25,2,0.01,2,0.92,2,-999.,9,-999.,9,-999.,9,-999,9,-999,9
49UF20101002,KS10-07,2748,1,21,21981,2,20101004,0644,32.0387,143.0163,5652,302.5,300,12.4701,34.4155,2,-999.,9,166.76,2,23.92,2,16.07,2,0.01,2,1.13,2,-999.,9,-999.,9,-999.,9,-999,9,-999,9
49UF20101002,KS10-07,2748,1,20,21980,2,20101004,0639,32.0387,143.0163,5652,405.4,402,8.5210,34.0865,2,-999.,9,177.36,2,37.25,2,21.10,2,0.01,2,1.54,2,-999.,9,-999.,9,-999.,9,-999,9,-999,9
49UF20101002,KS10-07,2748,1,19,21978,2,20101004,0636,32.0387,143.0163,5652,506.2,502,6.8649,34.0939,2,-999.,9,141.43,2,57.00,2,27.86,2,0.00,2,2.03,2,-999.,9,-999.,9,-999.,9,-999,9,-999,9
49UF20101002,KS10-07,2748,1,15,21974,2,20101004,0632,32.0387,143.0163,5652,607.3,602,5.4185,34.0659,2,-999.,9,114.15,2,74.19,2,32.89,2,0.01,2,2.39,2,-999.,9,-999.,9,-999.,9,-999,9,-999,9
49UF20101002,KS10-07,2748,1,14,21973,2,20101004,0627,32.0387,143.0163,5652,708.8,703,4.9307,34.1290,2,-999.,9,90.07,2,87.04,2,35.67,2,0.00,2,2.59,2,-999.,9,-999.,9,-999.,9,-999,9,-999,9
49UF20101002,KS10-07,2748,1,13,21972,2,20101004,0624,32.0387,143.0163,5652,810.9,804,4.3739,34.2360,2,-999.,9,65.57,6,103.48,6,38.54,6,0.00,6,2.78,6,-999.,9,-999.,9,-999.,9,-999,9,-999,9
49UF20101002,KS10-07,2748,1,12,21971,2,20101004,0621,32.0387,143.0163,5652,911.1,903,3.8105,34.3133,2,-999.,9,53.21,2,117.91,2,40.09,2,0.00,2,2.89,2,-999.,9,-999.,9,-999.,9,-999,9,-999,9
49UF20101002,KS10-07,2748,1,11,21970,2,20101004,0619,32.0387,143.0163,5652,1011.6,1002,3.4553,34.3540,2,-999.,9,47.88,2,126.73,2,41.02,2,0.00,2,2.95,2,-999.,9,-999.,9,-999.,9,-999,9,-999,9
49UF20101002,KS10-07,2748,1,10,21969,2,20101004,0615,32.0387,143.0163,5652,1213.8,1202,2.9006,34.4390,2,-999.,9,40.71,2,142.04,2,42.32,2,0.00,2,3.03,2,-999.,9,-999.,9,-999.,9,-999,9,-999,9
49UF20101002,KS10-07,2748,1,6,21965,2,20101004,0611,32.0387,143.0163,5652,1415.9,1401,2.5290,34.4884,2,-999.,9,45.27,2,153.48,2,42.18,2,0.00,2,3.03,2,-999.,9,-999.,9,-999.,9,-999,9,-999,9
49UF20101002,KS10-07,2748,1,5,21964,2,20101004,0611,32.0387,143.0163,5652,1415.9,1401,2.5290,34.4884,2,-999.,9,45.26,2,153.09,2,42.22,2,0.01,2,3.02,2,-999.,9,-999.,9,-999.,9,-999,9,-999,9
49UF20101002,KS10-07,2748,1,4,21963,2,20101004,0608,32.0387,143.0163,5652,1608.3,1591,2.3045,34.5337,2,-999.,9,53.54,2,157.73,2,41.76,2,0.00,2,2.99,2,-999.,9,-999.,9,-999.,9,-999,9,-999,9
49UF20101002,KS10-07,2748,1,3,21962,2,20101004,0608,32.0387,143.0163,5652,1608.3,1591,2.3045,34.5337,2,-999.,9,53.64,2,157.39,2,41.89,2,0.00,2,2.99,2,-999.,9,-999.,9,-999.,9,-999,9,-999,9
49UF20101002,KS10-07,2748,1,2,21961,2,20101004,0604,32.0387,143.0163,5652,1820.6,1800,2.1031,34.5728,2,-999.,9,67.69,2,160.02,2,41.25,2,0.00,2,2.92,2,-999.,9,-999.,9,-999.,9,-999,9,-999,9
49UF20101002,KS10-07,2748,1,1,21960,2,20101004,0600,32.0387,143.0163,5652,2024.4,2001,1.9583,34.5961,2,-999.,9,78.77,2,161.01,2,40.55,2,0.00,2,2.87,2,-999.,9,-999.,9,-999.,9,-999,9,-999,9