BOTTLE,20171117JMAGEMD
EXPOCODE,SECT_ID,STNNBR,CASTNO,SAMPNO,BTLNBR,BTLNBR_FLAG_W,DATE,TIME,LATITUDE,LONGITUDE,DEPTH,CTDPRS,CTDDEP,CTDTMP,CTDSAL,CTDSAL_FLAG_W,SALNTY,SALNTY_FLAG_W,OXYGEN,OXYGEN_FLAG_W,SILCAT,SILCAT_FLAG_W,NO2+NO3,NO2+NO3_FLAG_W,NITRIT,NITRIT_FLAG_W,PHSPHT,PHSPHT_FLAG_W,TCARBN,TCARBN_FLAG_W,ALKALI,ALKALI_FLAG_W,PH_TOT,PH_TOT_FLAG_W,CFC-11,CFC-11_FLAG_W,CFC-12,CFC-12_FLAG_W
,,,,,,,UTC,UTC,,,METER,DBAR,METERS,ITS-90,PSS-78,,PSS-78,,UMOL/KG,,UMOL/KG,,UMOL/KG,,UMOL/KG,,UMOL/KG,,UMOL/KG,,UMOL/KG,,@25DEG-C,,PMOL/KG,,PMOL/KG,
49UF20101002,KS10-07,2774,1,-999,0,2,20101009,1042,37.1503,149.6138,5913,0.0,0,25.9238,34.4438,2,-999.0000,9,205.88,2,1.69,2,0.08,2,0.00,2,0.01,2,-999.,9,-999.,9,-999.,9,-999,9,-999,9
49UF20101002,KS10-07,2774,1,33,21993,2,20101009,1106,37.1503,149.6138,5913,10.8,11,25.9242,34.4436,2,34.4470,6,204.35,2,1.65,2,0.05,2,0.00,2,0.00,2,-999.,9,-999.,9,-999.,9,-999,9,-999,9
49UF20101002,KS10-07,2774,1,32,21992,2,20101009,1105,37.1503,149.6138,5913,26.6,26,25.9392,34.4436,2,-999.0000,9,204.12,2,1.65,2,0.06,2,0.00,2,0.00,2,-999.,9,-999.,9,-999.,9,-999,9,-999,9
49UF20101002,KS10-07,2774,1,31,21991,2,20101009,1103,37.1503,149.6138,5913,52.0,52,25.9443,34.4404,2,-999.0000,9,204.85,2,1.77,2,0.08,2,0.01,2,0.00,2,-999.,9,-999.,9,-999.,9,-999,9,-999,9
49UF20101002,KS10-07,2774,1,30,21990,2,20101009,1101,37.1503,149.6138,5913,75.4,75,21.3812,34.6438,2,-999.0000,9,186.57,2,5.08,2,3.88,2,0.09,2,0.27,2,-999.,9,-999.,9,-999.,9,-999,9,-999,9
49UF20101002,KS10-07,2774,1,29,21989,2,20101009,1057,37.1503,149.6138,5913,99.9,99,19.7144,34.7474,2,34.7516,6,190.08,2,3.74,2,3.61,2,0.02,2,0.24,2,-999.,9,-999.,9,-999.,9,-999,9,-999,9
49UF20101002,KS10-07,2774,1,28,21988,2,20101009,1056,37.1503,149.6138,5913,124.7,124,18.7224,34.6959,2,-999.0000,9,183.09,6,7.00,2,6.01,2,0.02,6,0.40,2,-999.,9,-999.,9,-999.,9,-999,9,-999,9
49UF20101002,KS10-07,2774,1,24,21984,2,20101009,1054,37.1503,149.6138,5913,152.6,151,16.4982,34.5889,2,-999.0000,9,171.56,2,13.77,2,10.32,3,0.01,2,0.69,2,-999.,9,-999.,9,-999.,9,-999,9,-999,9
49UF20101002,KS10-07,2774,1,23,21983,2,20101009,1052,37.1503,149.6138,5913,201.5,200,14.1460,34.5190,2,34.5163,2,173.66,3,20.81,2,14.23,3,0.00,2,0.98,2,-999.,9,-999.,9,-999.,9,-999,9,-999,9
49UF20101002,KS10-07,2774,1,22,21982,2,20101009,1050,37.1503,149.6138,5913,252.5,250,11.7957,34.4170,2,-999.0000,9,146.79,2,34.12,2,19.59,3,0.00,2,1.37,2,-999.,9,-999.,9,-999.,9,-999,9,-999,9
49UF20101002,KS10-07,2774,1,21,21981,2,20101009,1048,37.1503,149.6138,5913,303.5,301,9.8019,34.2505,2,-999.0000,9,160.14,2,37.35,2,21.24,3,0.00,2,1.50,2,-999.,9,-999.,9,-999.,9,-999,9,-999,9
49UF20101002,KS10-07,2774,1,20,21980,2,20101009,1041,37.1503,149.6138,5913,405.5,402,4.1222,33.6642,2,33.6672,2,200.23,2,54.13,2,27.94,3,0.00,2,2.07,2,-999.,9,-999.,9,-999.,9,-999,9,-999,9
49UF20101002,KS10-07,2774,1,19,21978,2,20101009,1038,37.1503,149.6138,5913,508.1,504,4.9412,33.9966,2,-999.0000,9,116.26,2,76.47,2,34.08,3,0.00,2,2.46,2,-999.,9,-999.,9,-999.,9,-999,9,-999,9
49UF20101002,KS10-07,2774,1,15,21974,2,20101009,1032,37.1503,149.6138,5913,609.7,604,4.8059,34.1367,2,34.1169,4,86.61,2,89.82,2,37.20,3,0.00,2,2.65,2,-999.,9,-999.,9,-999.,9,-999,9,-999,9
49UF20101002,KS10-07,2774,1,14,21973,2,20101009,1028,37.1503,149.6138,5913,709.6,703,4.0093,34.1958,2,-999.0000,9,58.84,2,109.07,2,40.28,3,0.00,2,2.85,2,-999.,9,-999.,9,-999.,9,-999,9,-999,9
49UF20101002,KS10-07,2774,1,13,21972,3,20101009,1024,37.1503,149.6138,5913,810.2,803,3.6127,34.2583,2,-999.0000,9,48.74,2,120.85,3,41.52,3,0.00,2,2.94,3,-999.,9,-999.,9,-999.,9,-999,9,-999,9
49UF20101002,KS10-07,2774,1,12,21971,2,20101009,1024,37.1503,149.6138,5913,810.2,803,3.6127,34.2583,2,34.2593,2,48.99,2,121.09,2,41.65,3,0.00,2,2.96,2,-999.,9,-999.,9,-999.,9,-999,9,-999,9
49UF20101002,KS10-07,2774,1,11,21970,2,20101009,1021,37.1503,149.6138,5913,916.4,908,3.4731,34.3208,2,-999.0000,9,46.03,2,125.53,3,41.82,3,0.00,2,2.95,3,-999.,9,-999.,9,-999.,9,-999,9,-999,9
49UF20101002,KS10-07,2774,1,10,21969,2,20101009,1021,37.1503,149.6138,5913,916.4,908,3.4731,34.3208,2,-999.0000,9,46.17,2,126.52,2,41.92,3,0.00,2,2.97,2,-999.,9,-999.,9,-999.,9,-999,9,-999,9
49UF20101002,KS10-07,2774,1,6,21965,2,20101009,1017,37.1503,149.6138,5913,1010.5,1001,3.2641,34.3858,2,34.3827,2,48.36,6,131.80,2,42.20,3,0.00,6,2.97,2,-999.,9,-999.,9,-999.,9,-999,9,-999,9
49UF20101002,KS10-07,2774,1,5,21964,2,20101009,1011,37.1503,149.6138,5913,1211.7,1199,2.8972,34.4456,2,34.4487,2,49.04,2,141.26,2,42.60,3,0.00,2,2.99,2,-999.,9,-999.,9,-999.,9,-999,9,-999,9
49UF20101002,KS10-07,2774,1,4,21963,2,20101009,1005,37.1503,149.6138,5913,1420.6,1405,2.5320,34.4918,2,34.4918,2,46.39,2,150.83,3,42.99,3,0.00,2,3.02,3,-999.,9,-999.,9,-999.,9,-999,9,-999,9
49UF20101002,KS10-07,2774,1,3,21962,2,20101009,1000,37.1503,149.6138,5913,1621.6,1603,2.2980,34.5297,2,34.5297,2,51.11,2,157.25,3,42.20,3,0.00,2,2.98,3,-999.,9,-999.,9,-999.,9,-999,9,-999,9
49UF20101002,KS10-07,2774,1,2,21961,2,20101009,0956,37.1503,149.6138,5913,1823.4,1802,2.1334,34.5613,2,34.5616,2,61.72,2,159.43,3,41.69,3,0.00,2,2.93,3,-999.,9,-999.,9,-999.,9,-999,9,-999,9
49UF20101002,KS10-07,2774,1,1,21960,2,20101009,0952,37.1503,149.6138,5913,2021.1,1996,1.9914,34.5873,2,34.5879,2,73.93,2,161.25,3,41.21,3,0.00,2,2.88,3,-999.,9,-999.,9,-999.,9,-999,9,-999,9
49UF20101002,KS10-07,2777,1,-999,0,2,20101009,2141,38.0037,148.9713,5791,0.0,0,19.8457,34.2107,2,-999.,9,241.72,2,0.02,3,0.03,3,0.00,2,0.02,4,-999.,9,-999.,9,-999.,9,-999,9,-999,9
49UF20101002,KS10-07,2777,1,33,21993,2,20101009,2155,38.0037,148.9713,5791,10.2,10,19.8468,34.2107,2,-999.,9,243.07,2,0.00,3,0.04,3,0.01,2,0.01,4,-999.,9,-999.,9,-999.,9,-999,9,-999,9
49UF20101002,KS10-07,2777,1,32,21992,2,20101009,2154,38.0037,148.9713,5791,26.7,26,19.8448,34.2139,2,-999.,9,242.77,2,0.00,3,0.11,3,0.01,2,0.02,4,-999.,9,-999.,9,-999.,9,-999,9,-999,9
49UF20101002,KS10-07,2777,1,31,21991,2,20101009,2150,38.0037,148.9713,5791,50.3,50,19.5975,34.2060,2,-999.,9,225.90,2,3.05,4,0.05,3,0.18,2,0.15,4,-999.,9,-999.,9,-999.,9,-999,9,-999,9
49UF20101002,KS10-07,2777,1,30,21990,2,20101009,2148,38.0037,148.9713,5791,74.6,74,17.6390,34.3084,2,-999.,9,197.24,4,9.66,3,6.29,3,0.08,2,0.45,3,-999.,9,-999.,9,-999.,9,-999,9,-999,9
49UF20101002,KS10-07,2777,1,29,21989,2,20101009,2147,38.0037,148.9713,5791,100.5,100,13.9043,34.4256,2,-999.,9,174.76,2,17.92,3,12.60,3,0.01,2,0.87,3,-999.,9,-999.,9,-999.,9,-999,9,-999,9
49UF20101002,KS10-07,2777,1,28,21988,2,20101009,2146,38.0037,148.9713,5791,127.2,126,12.6799,34.3847,2,-999.,9,172.81,2,21.73,3,14.59,3,0.01,2,1.01,3,-999.,9,-999.,9,-999.,9,-999,9,-999,9
49UF20101002,KS10-07,2777,1,24,21984,2,20101009,2144,38.0037,148.9713,5791,151.8,151,11.6686,34.2891,2,-999.,9,181.29,6,23.03,3,14.75,3,0.01,6,1.02,3,-999.,9,-999.,9,-999.,9,-999,9,-999,9
49UF20101002,KS10-07,2777,1,23,21983,2,20101009,2143,38.0037,148.9713,5791,202.1,200,9.5806,34.1582,2,-999.,9,180.02,2,31.38,3,18.12,3,0.00,2,1.31,3,-999.,9,-999.,9,-999.,9,-999,9,-999,9
49UF20101002,KS10-07,2777,1,22,21982,2,20101009,2141,38.0037,148.9713,5791,253.1,251,7.9239,34.0786,2,-999.,9,165.40,2,43.24,3,22.98,3,0.00,2,1.65,3,-999.,9,-999.,9,-999.,9,-999,9,-999,9
49UF20101002,KS10-07,2777,1,21,21981,2,20101009,2139,38.0037,148.9713,5791,302.6,300,7.1232,34.0743,2,-999.,9,152.37,2,52.75,3,26.21,3,0.00,2,1.90,3,-999.,9,-999.,9,-999.,9,-999,9,-999,9
49UF20101002,KS10-07,2777,1,20,21980,2,20101009,2136,38.0037,148.9713,5791,403.6,400,5.7143,34.1050,2,-999.,9,112.53,2,73.95,3,32.57,3,0.00,2,2.34,3,-999.,9,-999.,9,-999.,9,-999,9,-999,9
49UF20101002,KS10-07,2777,1,19,21978,2,20101009,2133,38.0037,148.9713,5791,507.7,503,4.7803,34.1662,2,-999.,9,80.53,2,92.04,3,36.73,3,0.00,2,2.63,3,-999.,9,-999.,9,-999.,9,-999,9,-999,9
49UF20101002,KS10-07,2777,1,15,21974,2,20101009,2130,38.0037,148.9713,5791,607.3,602,4.2260,34.2234,2,-999.,9,62.23,2,107.36,3,39.80,3,0.00,2,2.82,3,-999.,9,-999.,9,-999.,9,-999,9,-999,9
49UF20101002,KS10-07,2777,1,14,21973,2,20101009,2127,38.0037,148.9713,5791,709.9,703,3.8098,34.2786,2,-999.,9,53.85,2,115.91,3,40.67,3,0.00,2,2.87,3,-999.,9,-999.,9,-999.,9,-999,9,-999,9
49UF20101002,KS10-07,2777,1,13,21972,2,20101009,2124,38.0037,148.9713,5791,809.3,802,3.5686,34.3370,2,-999.,9,50.33,2,123.90,3,41.36,3,0.00,2,2.91,3,-999.,9,-999.,9,-999.,9,-999,9,-999,9
49UF20101002,KS10-07,2777,1,12,21971,2,20101009,2121,38.0037,148.9713,5791,910.1,901,3.2768,34.3685,2,-999.,9,45.37,2,132.04,3,42.09,3,0.00,2,2.97,3,-999.,9,-999.,9,-999.,9,-999,9,-999,9
49UF20101002,KS10-07,2777,1,11,21970,2,20101009,2118,38.0037,148.9713,5791,1012.8,1003,3.0081,34.4082,2,-999.,9,44.53,2,140.36,3,42.98,3,0.00,2,3.03,3,-999.,9,-999.,9,-999.,9,-999,9,-999,9
49UF20101002,KS10-07,2777,1,10,21969,2,20101009,2118,38.0037,148.9713,5791,1012.8,1003,3.0081,34.4082,2,-999.,9,43.53,2,139.66,3,42.76,3,0.00,2,2.99,3,-999.,9,-999.,9,-999.,9,-999,9,-999,9
49UF20101002,KS10-07,2777,1,6,21965,2,20101009,2113,38.0037,148.9713,5791,1214.1,1202,2.6731,34.4593,2,-999.,9,41.31,2,148.75,3,43.20,3,0.00,2,3.01,3,-999.,9,-999.,9,-999.,9,-999,9,-999,9
49UF20101002,KS10-07,2777,1,5,21964,2,20101009,2113,38.0037,148.9713,5791,1214.1,1202,2.6731,34.4593,2,-999.,9,41.19,6,149.12,3,43.15,3,0.00,6,3.03,3,-999.,9,-999.,9,-999.,9,-999,9,-999,9
49UF20101002,KS10-07,2777,1,4,21963,2,20101009,2108,38.0037,148.9713,5791,1415.5,1400,2.3787,34.5050,2,-999.,9,43.94,2,158.22,3,43.25,3,0.00,2,3.02,3,-999.,9,-999.,9,-999.,9,-999,9,-999,9
49UF20101002,KS10-07,2777,1,3,21962,2,20101009,2103,38.0037,148.9713,5791,1616.6,1598,2.1904,34.5442,2,-999.,9,54.08,2,162.13,3,42.89,3,0.00,2,2.97,3,-999.,9,-999.,9,-999.,9,-999,9,-999,9
49UF20101002,KS10-07,2777,1,2,21961,2,20101009,2059,38.0037,148.9713,5791,1819.8,1798,2.0529,34.5732,2,-999.,9,64.42,2,163.66,3,42.14,3,0.00,2,2.93,3,-999.,9,-999.,9,-999.,9,-999,9,-999,9
49UF20101002,KS10-07,2777,1,1,21960,2,20101009,2054,38.0037,148.9713,5791,2024.5,2000,1.9225,34.5970,2,-999.,9,77.00,2,163.55,3,41.22,3,0.00,2,2.85,3,-999.,9,-999.,9,-999.,9,-999,9,-999,9
49UF20101002,KS10-07,2780,1,-999,0,2,20101010,0830,39.0127,148.329,5508,0.0,0,19.4563,34.0921,2,-999.0000,9,233.65,2,3.97,4,0.81,2,0.03,2,0.09,2,-999.,9,-999.,9,-999.,9,-999,9,-999,9
49UF20101002,KS10-07,2780,1,33,21993,2,20101010,0851,39.0127,148.329,5508,11.2,11,18.7686,34.1095,2,34.1060,2,237.39,2,4.85,4,1.29,2,0.04,2,0.13,2,-999.,9,-999.,9,-999.,9,-999,9,-999,9
49UF20101002,KS10-07,2780,1,32,21992,2,20101010,0850,39.0127,148.329,5508,25.4,25,17.5621,34.1636,2,-999.0000,9,243.79,2,7.29,4,2.47,2,0.06,2,0.21,2,-999.,9,-999.,9,-999.,9,-999,9,-999,9
49UF20101002,KS10-07,2780,1,31,21991,2,20101010,0848,39.0127,148.329,5508,51.6,51,16.6048,34.2683,2,-999.0000,9,231.80,2,8.15,4,4.90,2,0.20,2,0.37,2,-999.,9,-999.,9,-999.,9,-999,9,-999,9
49UF20101002,KS10-07,2780,1,30,21990,2,20101010,0846,39.0127,148.329,5508,76.9,76,15.3025,34.2692,2,-999.0000,9,232.36,2,9.96,4,6.77,2,0.18,2,0.49,2,-999.,9,-999.,9,-999.,9,-999,9,-999,9
49UF20101002,KS10-07,2780,1,29,21989,2,20101010,0842,39.0127,148.329,5508,101.1,100,14.3307,34.2781,2,34.2842,4,230.77,2,11.40,4,8.21,2,0.10,2,0.58,2,-999.,9,-999.,9,-999.,9,-999,9,-999,9
49UF20101002,KS10-07,2780,1,28,21988,2,20101010,0841,39.0127,148.329,5508,125.1,124,12.3710,34.3054,2,-999.0000,9,228.00,2,14.58,4,10.86,2,0.04,2,0.75,2,-999.,9,-999.,9,-999.,9,-999,9,-999,9
49UF20101002,KS10-07,2780,1,24,21984,2,20101010,0839,39.0127,148.329,5508,150.3,149,11.2761,34.2722,2,-999.0000,9,237.58,2,16.72,4,11.70,2,0.02,2,0.81,2,-999.,9,-999.,9,-999.,9,-999,9,-999,9
49UF20101002,KS10-07,2780,1,23,21983,2,20101010,0837,39.0127,148.329,5508,202.2,201,10.5154,34.2024,2,34.2058,6,238.68,6,18.33,4,12.77,6,0.02,6,0.89,6,-999.,9,-999.,9,-999.,9,-999,9,-999,9
49UF20101002,KS10-07,2780,1,22,21982,2,20101010,0835,39.0127,148.329,5508,253.1,251,9.5859,34.0995,2,-999.0000,9,228.25,2,23.31,4,15.23,2,0.01,2,1.08,2,-999.,9,-999.,9,-999.,9,-999,9,-999,9
49UF20101002,KS10-07,2780,1,21,21981,2,20101010,0832,39.0127,148.329,5508,304.7,302,7.5403,33.9128,2,-999.0000,9,212.96,2,34.70,4,20.36,2,0.01,2,1.48,2,-999.,9,-999.,9,-999.,9,-999,9,-999,9
49UF20101002,KS10-07,2780,1,20,21980,2,20101010,0829,39.0127,148.329,5508,404.7,401,5.4717,33.8455,2,33.8481,6,177.54,2,54.92,4,27.62,2,0.01,2,2.02,2,-999.,9,-999.,9,-999.,9,-999,9,-999,9
49UF20101002,KS10-07,2780,1,19,21978,2,20101010,0826,39.0127,148.329,5508,506.5,502,4.2930,33.8566,2,-999.0000,9,139.35,2,74.12,4,33.35,3,0.01,2,2.43,3,-999.,9,-999.,9,-999.,9,-999,9,-999,9
49UF20101002,KS10-07,2780,1,15,21974,2,20101010,0822,39.0127,148.329,5508,605.6,600,4.2917,34.0253,2,34.0264,2,91.30,2,90.77,4,37.28,3,0.00,2,2.68,3,-999.,9,-999.,9,-999.,9,-999,9,-999,9
49UF20101002,KS10-07,2780,1,14,21973,2,20101010,0819,39.0127,148.329,5508,705.5,699,4.1315,34.1585,2,-999.0000,9,72.15,3,164.59,4,41.42,3,0.00,2,2.89,3,-999.,9,-999.,9,-999.,9,-999,9,-999,9
49UF20101002,KS10-07,2780,1,13,21972,2,20101010,0816,39.0127,148.329,5508,809.8,802,3.8511,34.2294,2,34.2292,2,52.61,2,164.33,4,41.58,3,0.00,2,2.90,3,-999.,9,-999.,9,-999.,9,-999,9,-999,9
49UF20101002,KS10-07,2780,1,12,21971,2,20101010,0813,39.0127,148.329,5508,913.8,905,3.5826,34.2999,2,-999.0000,9,45.17,2,125.26,4,41.76,3,0.00,2,2.96,3,-999.,9,-999.,9,-999.,9,-999,9,-999,9
49UF20101002,KS10-07,2780,1,11,21970,2,20101010,0809,39.0127,148.329,5508,1012.0,1002,3.3071,34.3519,2,34.3514,2,41.32,2,133.62,4,42.32,3,0.01,2,3.01,3,-999.,9,-999.,9,-999.,9,-999,9,-999,9
49UF20101002,KS10-07,2780,1,10,21969,2,20101010,0804,39.0127,148.329,5508,1210.7,1198,2.8166,34.4175,2,34.4178,2,38.51,2,147.28,4,42.97,3,0.01,2,3.05,3,-999.,9,-999.,9,-999.,9,-999,9,-999,9
49UF20101002,KS10-07,2780,1,6,21965,2,20101010,0759,39.0127,148.329,5508,1412.8,1397,2.5776,34.4792,2,-999.0000,9,44.15,4,153.06,4,42.70,3,0.00,2,3.03,3,-999.,9,-999.,9,-999.,9,-999,9,-999,9
49UF20101002,KS10-07,2780,1,5,21964,2,20101010,0759,39.0127,148.329,5508,1412.8,1397,2.5776,34.4792,2,34.4799,2,43.46,6,153.50,4,43.05,3,0.00,6,3.04,3,-999.,9,-999.,9,-999.,9,-999,9,-999,9
49UF20101002,KS10-07,2780,1,4,21963,2,20101010,0754,39.0127,148.329,5508,1615.5,1597,2.3123,34.5227,2,-999.0000,9,48.68,2,160.30,4,42.90,3,0.00,2,3.02,3,-999.,9,-999.,9,-999.,9,-999,9,-999,9
49UF20101002,KS10-07,2780,1,3,21962,2,20101010,0754,39.0127,148.329,5508,1615.5,1597,2.3123,34.5227,2,34.5236,2,49.27,2,160.58,4,42.87,3,0.00,2,3.01,3,-999.,9,-999.,9,-999.,9,-999,9,-999,9
49UF20101002,KS10-07,2780,1,2,21961,2,20101010,0750,39.0127,148.329,5508,1821.4,1800,2.1247,34.5577,2,34.5581,2,60.33,2,164.70,4,42.15,3,0.00,2,2.96,3,-999.,9,-999.,9,-999.,9,-999,9,-999,9
49UF20101002,KS10-07,2780,1,1,21960,2,20101010,0745,39.0127,148.329,5508,2024.9,2000,1.9934,34.5864,2,34.5871,2,72.74,2,164.70,4,41.60,3,0.00,2,2.90,3,-999.,9,-999.,9,-999.,9,-999,9,-999,9
49UF20101002,KS10-07,2783,1,-999,0,2,20101010,2035,40.007,147.6573,5269,0.0,0,15.8935,32.7823,2,-999.,9,254.53,2,5.75,2,0.51,2,0.02,2,0.33,2,-999.,9,-999.,9,-999.,9,-999,9,-999,9
49UF20101002,KS10-07,2783,1,33,21993,2,20101010,2057,40.007,147.6573,5269,11.3,11,15.9015,32.7847,2,-999.,9,256.15,2,5.84,2,0.49,2,0.02,2,0.29,2,-999.,9,-999.,9,-999.,9,-999,9,-999,9
49UF20101002,KS10-07,2783,1,32,21992,2,20101010,2055,40.007,147.6573,5269,26.4,26,15.5245,32.8334,2,-999.,9,262.02,2,6.55,2,0.96,2,0.03,2,0.32,2,-999.,9,-999.,9,-999.,9,-999,9,-999,9
49UF20101002,KS10-07,2783,1,31,21991,2,20101010,2051,40.007,147.6573,5269,50.0,50,9.5603,32.9366,2,-999.,9,297.53,2,14.63,2,8.45,2,0.31,2,0.93,2,-999.,9,-999.,9,-999.,9,-999,9,-999,9
49UF20101002,KS10-07,2783,1,30,21990,2,20101010,2050,40.007,147.6573,5269,75.1,75,2.2510,33.0534,2,-999.,9,312.05,2,34.88,2,22.96,2,0.03,2,1.86,2,-999.,9,-999.,9,-999.,9,-999,9,-999,9
49UF20101002,KS10-07,2783,1,29,21989,2,20101010,2048,40.007,147.6573,5269,99.9,99,1.7564,33.1310,2,-999.,9,295.87,2,41.35,2,24.64,2,0.01,2,1.96,2,-999.,9,-999.,9,-999.,9,-999,9,-999,9
49UF20101002,KS10-07,2783,1,28,21988,2,20101010,2047,40.007,147.6573,5269,126.1,125,1.9677,33.2247,2,-999.,9,273.54,2,47.42,2,25.84,2,0.01,2,2.03,2,-999.,9,-999.,9,-999.,9,-999,9,-999,9
49UF20101002,KS10-07,2783,1,24,21984,2,20101010,2045,40.007,147.6573,5269,152.1,151,1.6251,33.2573,2,-999.,9,257.55,2,54.42,2,27.98,2,0.01,2,2.17,2,-999.,9,-999.,9,-999.,9,-999,9,-999,9
49UF20101002,KS10-07,2783,1,23,21983,2,20101010,2043,40.007,147.6573,5269,201.8,200,1.7786,33.3879,2,-999.,9,171.22,4,64.17,2,31.02,2,0.01,2,2.37,2,-999.,9,-999.,9,-999.,9,-999,9,-999,9
49UF20101002,KS10-07,2783,1,22,21982,2,20101010,2040,40.007,147.6573,5269,252.8,251,2.2331,33.5377,2,-999.,9,170.41,6,74.99,6,34.64,6,0.01,6,2.59,6,-999.,9,-999.,9,-999.,9,-999,9,-999,9
49UF20101002,KS10-07,2783,1,21,21981,2,20101010,2038,40.007,147.6573,5269,303.6,301,2.5202,33.6702,2,-999.,9,129.04,2,86.03,2,37.39,2,0.01,2,2.75,2,-999.,9,-999.,9,-999.,9,-999,9,-999,9
49UF20101002,KS10-07,2783,1,20,21980,2,20101010,2034,40.007,147.6573,5269,405.2,402,2.9921,33.8908,2,-999.,9,71.83,2,103.58,2,41.12,2,0.00,2,2.97,2,-999.,9,-999.,9,-999.,9,-999,9,-999,9
49UF20101002,KS10-07,2783,1,19,21978,2,20101010,2030,40.007,147.6573,5269,506.3,502,3.2005,34.0446,2,-999.,9,40.61,2,115.78,2,42.81,2,0.00,2,3.07,2,-999.,9,-999.,9,-999.,9,-999,9,-999,9
49UF20101002,KS10-07,2783,1,15,21974,2,20101010,2026,40.007,147.6573,5269,609.0,603,3.1918,34.1509,2,-999.,9,35.20,2,124.83,2,43.06,2,0.00,2,3.08,2,-999.,9,-999.,9,-999.,9,-999,9,-999,9
49UF20101002,KS10-07,2783,1,14,21973,2,20101010,2022,40.007,147.6573,5269,708.5,702,2.9942,34.2181,2,-999.,9,34.79,2,133.48,2,42.59,2,0.00,2,3.08,2,-999.,9,-999.,9,-999.,9,-999,9,-999,9
49UF20101002,KS10-07,2783,1,13,21972,2,20101010,2018,40.007,147.6573,5269,812.2,804,2.8890,34.2928,2,-999.,9,34.15,2,140.87,2,42.53,2,0.00,2,3.08,2,-999.,9,-999.,9,-999.,9,-999,9,-999,9
49UF20101002,KS10-07,2783,1,12,21971,2,20101010,2014,40.007,147.6573,5269,911.0,902,2.7450,34.3492,2,-999.,9,34.47,2,146.11,2,42.82,2,0.00,2,3.07,2,-999.,9,-999.,9,-999.,9,-999,9,-999,9
49UF20101002,KS10-07,2783,1,11,21970,2,20101010,2011,40.007,147.6573,5269,1011.1,1001,2.6433,34.3976,2,-999.,9,37.45,2,150.32,2,42.29,2,0.00,2,3.06,2,-999.,9,-999.,9,-999.,9,-999,9,-999,9
49UF20101002,KS10-07,2783,1,10,21969,2,20101010,2007,40.007,147.6573,5269,1212.6,1200,2.4685,34.4653,2,-999.,9,43.26,2,155.72,2,42.44,2,0.00,2,3.04,2,-999.,9,-999.,9,-999.,9,-999,9,-999,9
49UF20101002,KS10-07,2783,1,6,21965,2,20101010,2002,40.007,147.6573,5269,1415.7,1400,2.3159,34.5166,2,-999.,9,49.72,2,158.68,2,42.20,2,0.00,2,3.01,2,-999.,9,-999.,9,-999.,9,-999,9,-999,9
49UF20101002,KS10-07,2783,1,5,21964,2,20101010,1958,40.007,147.6573,5269,1619.3,1601,2.1522,34.5515,2,-999.,9,58.93,6,161.42,6,41.76,6,0.00,6,2.96,6,-999.,9,-999.,9,-999.,9,-999,9,-999,9
49UF20101002,KS10-07,2783,1,4,21963,2,20101010,1954,40.007,147.6573,5269,1818.0,1796,2.0230,34.5778,2,-999.,9,70.05,2,162.18,2,41.04,2,0.00,2,2.91,2,-999.,9,-999.,9,-999.,9,-999,9,-999,9
49UF20101002,KS10-07,2783,1,3,21962,2,20101010,1954,40.007,147.6573,5269,1818.0,1796,2.0230,34.5778,2,-999.,9,70.21,2,162.55,2,41.27,2,0.00,2,2.92,2,-999.,9,-999.,9,-999.,9,-999,9,-999,9
49UF20101002,KS10-07,2783,1,2,21961,2,20101010,1950,40.007,147.6573,5269,2023.2,1998,1.9149,34.5966,2,-999.,9,80.27,2,163.30,2,40.66,2,0.00,2,2.87,2,-999.,9,-999.,9,-999.,9,-999,9,-999,9
49UF20101002,KS10-07,2783,1,1,21960,2,20101010,1950,40.007,147.6573,5269,2023.2,1998,1.9149,34.5966,2,-999.,9,79.93,2,162.58,2,40.63,2,0.00,2,2.86,2,-999.,9,-999.,9,-999.,9,-999,9,-999,9