BOTTLE,20171117JMAGEMD
EXPOCODE,SECT_ID,STNNBR,CASTNO,SAMPNO,BTLNBR,BTLNBR_FLAG_W,DATE,TIME,LATITUDE,LONGITUDE,DEPTH,CTDPRS,CTDDEP,CTDTMP,CTDSAL,CTDSAL_FLAG_W,SALNTY,SALNTY_FLAG_W,OXYGEN,OXYGEN_FLAG_W,SILCAT,SILCAT_FLAG_W,NO2+NO3,NO2+NO3_FLAG_W,NITRIT,NITRIT_FLAG_W,PHSPHT,PHSPHT_FLAG_W,TCARBN,TCARBN_FLAG_W,ALKALI,ALKALI_FLAG_W,PH_TOT,PH_TOT_FLAG_W,CFC-11,CFC-11_FLAG_W,CFC-12,CFC-12_FLAG_W
,,,,,,,UTC,UTC,,,METER,DBAR,METERS,ITS-90,PSS-78,,PSS-78,,UMOL/KG,,UMOL/KG,,UMOL/KG,,UMOL/KG,,UMOL/KG,,UMOL/KG,,UMOL/KG,,@25DEG-C,,PMOL/KG,,PMOL/KG,
49UF20101002,KS10-07,2766,1,-999,0,2,20101007,2048,32.9822,148.1497,5758,0.0,0,26.8362,34.3076,2,-999.,9,204.93,2,1.69,2,0.00,2,0.00,2,0.00,2,-999.,9,-999.,9,-999.,9,-999,9,-999,9
49UF20101002,KS10-07,2766,1,33,21993,2,20101007,2109,32.9822,148.1497,5758,11.2,11,26.8387,34.3068,2,-999.,9,204.86,2,1.65,2,0.00,2,0.00,2,0.00,2,-999.,9,-999.,9,-999.,9,-999,9,-999,9
49UF20101002,KS10-07,2766,1,32,21992,2,20101007,2107,32.9822,148.1497,5758,26.3,26,26.6903,34.3871,2,-999.,9,207.21,6,1.66,6,0.00,6,0.00,6,0.00,6,-999.,9,-999.,9,-999.,9,-999,9,-999,9
49UF20101002,KS10-07,2766,1,31,21991,2,20101007,2103,32.9822,148.1497,5758,50.8,50,25.2861,34.4977,2,-999.,9,214.32,2,1.72,2,0.00,2,0.00,2,0.00,2,-999.,9,-999.,9,-999.,9,-999,9,-999,9
49UF20101002,KS10-07,2766,1,30,21990,2,20101007,2101,32.9822,148.1497,5758,74.3,74,22.2149,34.7111,2,-999.,9,213.00,2,2.03,2,0.10,2,0.04,2,0.02,2,-999.,9,-999.,9,-999.,9,-999,9,-999,9
49UF20101002,KS10-07,2766,1,29,21989,2,20101007,2100,32.9822,148.1497,5758,101.7,101,21.0126,34.7571,2,-999.,9,202.50,2,2.79,2,1.88,2,0.08,2,0.12,2,-999.,9,-999.,9,-999.,9,-999,9,-999,9
49UF20101002,KS10-07,2766,1,28,21988,2,20101007,2058,32.9822,148.1497,5758,127.4,126,19.9841,34.7907,2,-999.,9,223.46,2,2.09,2,0.00,2,0.01,2,0.01,2,-999.,9,-999.,9,-999.,9,-999,9,-999,9
49UF20101002,KS10-07,2766,1,24,21984,2,20101007,2056,32.9822,148.1497,5758,150.5,149,19.1454,34.7357,2,-999.,9,218.97,2,2.27,2,0.30,2,0.20,2,0.03,2,-999.,9,-999.,9,-999.,9,-999,9,-999,9
49UF20101002,KS10-07,2766,1,23,21983,2,20101007,2054,32.9822,148.1497,5758,200.9,199,18.1604,34.6946,2,-999.,9,210.46,2,2.96,2,2.43,2,0.01,2,0.16,2,-999.,9,-999.,9,-999.,9,-999,9,-999,9
49UF20101002,KS10-07,2766,1,22,21982,2,20101007,2052,32.9822,148.1497,5758,251.2,249,17.5932,34.6818,2,-999.,9,210.75,2,3.66,2,3.85,2,0.01,2,0.24,2,-999.,9,-999.,9,-999.,9,-999,9,-999,9
49UF20101002,KS10-07,2766,1,21,21981,2,20101007,2049,32.9822,148.1497,5758,303.7,301,17.0840,34.6797,2,-999.,9,205.42,2,4.96,2,5.29,2,0.00,2,0.33,2,-999.,9,-999.,9,-999.,9,-999,9,-999,9
49UF20101002,KS10-07,2766,1,20,21980,2,20101007,2046,32.9822,148.1497,5758,403.4,400,14.9276,34.5758,2,-999.,9,180.81,2,12.81,2,10.93,2,0.00,2,0.73,2,-999.,9,-999.,9,-999.,9,-999,9,-999,9
49UF20101002,KS10-07,2766,1,19,21978,2,20101007,2042,32.9822,148.1497,5758,505.6,501,12.0254,34.3797,2,-999.,9,174.98,2,23.54,2,15.98,2,0.00,2,1.11,2,-999.,9,-999.,9,-999.,9,-999,9,-999,9
49UF20101002,KS10-07,2766,1,15,21974,2,20101007,2039,32.9822,148.1497,5758,608.7,604,8.7810,34.1184,2,-999.,9,175.25,6,36.60,6,21.21,6,0.00,6,1.52,6,-999.,9,-999.,9,-999.,9,-999,9,-999,9
49UF20101002,KS10-07,2766,1,14,21973,2,20101007,2036,32.9822,148.1497,5758,707.6,701,6.0447,33.9910,2,-999.,9,147.48,2,59.02,2,28.99,2,0.00,2,2.10,2,-999.,9,-999.,9,-999.,9,-999,9,-999,9
49UF20101002,KS10-07,2766,1,13,21972,2,20101007,2032,32.9822,148.1497,5758,808.3,801,4.8912,34.0443,2,-999.,9,102.65,2,80.35,2,34.94,2,0.00,2,2.51,2,-999.,9,-999.,9,-999.,9,-999,9,-999,9
49UF20101002,KS10-07,2766,1,12,21971,2,20101007,2029,32.9822,148.1497,5758,909.2,901,4.4420,34.1595,2,-999.,9,69.37,2,97.43,2,38.77,2,0.00,2,2.74,2,-999.,9,-999.,9,-999.,9,-999,9,-999,9
49UF20101002,KS10-07,2766,1,11,21970,2,20101007,2025,32.9822,148.1497,5758,1013.9,1004,3.9685,34.2438,2,-999.,9,51.43,2,112.23,2,41.00,2,0.00,2,2.88,2,-999.,9,-999.,9,-999.,9,-999,9,-999,9
49UF20101002,KS10-07,2766,1,10,21969,2,20101007,2025,32.9822,148.1497,5758,1013.9,1004,3.9685,34.2438,2,-999.,9,52.27,2,111.85,2,41.11,2,0.00,2,2.88,2,-999.,9,-999.,9,-999.,9,-999,9,-999,9
49UF20101002,KS10-07,2766,1,6,21965,2,20101007,2019,32.9822,148.1497,5758,1212.8,1201,3.3264,34.3590,2,-999.,9,45.13,2,130.84,2,42.23,2,0.00,2,2.97,2,-999.,9,-999.,9,-999.,9,-999,9,-999,9
49UF20101002,KS10-07,2766,1,5,21964,2,20101007,2019,32.9822,148.1497,5758,1212.8,1201,3.3264,34.3590,2,-999.,9,44.93,2,130.44,2,42.19,2,0.00,2,2.96,2,-999.,9,-999.,9,-999.,9,-999,9,-999,9
49UF20101002,KS10-07,2766,1,4,21963,3,20101007,2014,32.9822,148.1497,5758,1414.6,1400,2.8719,34.4345,2,-999.,9,42.90,2,143.38,2,42.87,2,0.00,2,3.00,2,-999.,9,-999.,9,-999.,9,-999,9,-999,9
49UF20101002,KS10-07,2766,1,3,21962,2,20101007,2008,32.9822,148.1497,5758,1617.8,1600,2.4819,34.5001,2,-999.,9,45.65,2,154.55,2,43.48,2,0.00,2,3.01,2,-999.,9,-999.,9,-999.,9,-999,9,-999,9
49UF20101002,KS10-07,2766,1,2,21961,2,20101007,2004,32.9822,148.1497,5758,1819.8,1799,2.2574,34.5414,2,-999.,9,54.39,2,159.62,2,43.24,2,0.00,2,2.97,2,-999.,9,-999.,9,-999.,9,-999,9,-999,9
49UF20101002,KS10-07,2766,1,1,21960,2,20101007,1959,32.9822,148.1497,5758,2021.4,1997,2.0339,34.5819,2,-999.,9,71.09,2,161.35,2,42.20,2,0.00,2,2.90,2,-999.,9,-999.,9,-999.,9,-999,9,-999,9
49UF20101002,KS10-07,2768,1,-999,0,2,20101008,0635,33.982,148.5477,6152,0.0,0,26.2651,34.2840,2,-999.0000,9,207.95,2,1.66,2,0.08,2,0.00,2,0.00,2,-999.,9,-999.,9,-999.,9,-999,9,-999,9
49UF20101002,KS10-07,2768,1,33,21993,2,20101008,0649,33.982,148.5477,6152,12.3,12,26.2725,34.2847,2,34.2857,2,207.50,2,1.59,2,0.00,2,0.00,2,0.00,2,-999.,9,-999.,9,-999.,9,-999,9,-999,9
49UF20101002,KS10-07,2768,1,32,21992,3,20101008,0647,33.982,148.5477,6152,26.4,26,26.2458,34.3132,2,-999.0000,9,208.03,2,1.66,2,0.03,2,0.00,2,0.00,2,-999.,9,-999.,9,-999.,9,-999,9,-999,9
49UF20101002,KS10-07,2768,1,31,21991,2,20101008,0643,33.982,148.5477,6152,53.2,53,26.0844,34.3961,2,-999.0000,9,210.13,6,1.43,6,0.30,6,0.00,6,0.00,6,-999.,9,-999.,9,-999.,9,-999,9,-999,9
49UF20101002,KS10-07,2768,1,30,21990,2,20101008,0642,33.982,148.5477,6152,78.4,78,21.2734,34.6765,2,-999.0000,9,232.92,2,1.75,2,0.10,2,0.00,2,0.00,2,-999.,9,-999.,9,-999.,9,-999,9,-999,9
49UF20101002,KS10-07,2768,1,29,21989,2,20101008,0641,33.982,148.5477,6152,102.8,102,20.4662,34.6990,2,34.7023,2,224.10,2,2.12,2,0.53,2,0.15,2,0.01,2,-999.,9,-999.,9,-999.,9,-999,9,-999,9
49UF20101002,KS10-07,2768,1,28,21988,2,20101008,0640,33.982,148.5477,6152,128.3,127,19.4390,34.7210,2,-999.0000,9,205.88,2,2.99,2,2.36,2,0.02,2,0.12,2,-999.,9,-999.,9,-999.,9,-999,9,-999,9
49UF20101002,KS10-07,2768,1,24,21984,2,20101008,0639,33.982,148.5477,6152,155.7,155,18.7488,34.7075,2,-999.0000,9,208.04,2,2.92,2,2.68,2,0.01,2,0.13,2,-999.,9,-999.,9,-999.,9,-999,9,-999,9
49UF20101002,KS10-07,2768,1,23,21983,2,20101008,0637,33.982,148.5477,6152,202.9,201,18.2958,34.6975,2,34.6970,2,210.52,2,3.26,2,3.29,2,0.01,2,0.16,2,-999.,9,-999.,9,-999.,9,-999,9,-999,9
49UF20101002,KS10-07,2768,1,22,21982,2,20101008,0635,33.982,148.5477,6152,254.7,253,17.8028,34.6986,2,-999.0000,9,205.19,2,3.84,2,4.54,2,0.00,2,0.25,2,-999.,9,-999.,9,-999.,9,-999,9,-999,9
49UF20101002,KS10-07,2768,1,21,21981,2,20101008,0634,33.982,148.5477,6152,307.3,305,17.3766,34.6909,2,-999.0000,9,204.33,2,4.86,2,5.20,2,0.00,2,0.29,2,-999.,9,-999.,9,-999.,9,-999,9,-999,9
49UF20101002,KS10-07,2768,1,20,21980,2,20101008,0631,33.982,148.5477,6152,406.2,403,15.7877,34.6253,2,34.6281,2,186.13,2,9.68,2,9.23,2,0.00,2,0.57,2,-999.,9,-999.,9,-999.,9,-999,9,-999,9
49UF20101002,KS10-07,2768,1,19,21978,2,20101008,0628,33.982,148.5477,6152,505.3,501,12.9888,34.4527,2,-999.0000,9,173.58,2,20.17,2,14.84,2,0.00,2,0.97,2,-999.,9,-999.,9,-999.,9,-999,9,-999,9
49UF20101002,KS10-07,2768,1,15,21974,2,20101008,0625,33.982,148.5477,6152,609.5,604,9.7514,34.1816,2,34.1831,2,181.52,2,31.27,2,19.26,2,0.00,2,1.33,2,-999.,9,-999.,9,-999.,9,-999,9,-999,9
49UF20101002,KS10-07,2768,1,14,21973,2,20101008,0622,33.982,148.5477,6152,710.6,704,6.6672,33.9849,2,-999.0000,9,166.31,6,51.14,6,26.29,6,0.00,6,1.88,6,-999.,9,-999.,9,-999.,9,-999,9,-999,9
49UF20101002,KS10-07,2768,1,13,21972,2,20101008,0620,33.982,148.5477,6152,810.1,803,5.0874,34.0055,2,34.0054,2,120.58,2,74.34,2,33.47,2,0.00,2,2.38,2,-999.,9,-999.,9,-999.,9,-999,9,-999,9
49UF20101002,KS10-07,2768,1,12,21971,2,20101008,0617,33.982,148.5477,6152,911.8,903,4.6316,34.1083,2,-999.0000,9,84.67,2,90.03,2,37.24,2,0.00,2,2.61,2,-999.,9,-999.,9,-999.,9,-999,9,-999,9
49UF20101002,KS10-07,2768,1,11,21970,2,20101008,0615,33.982,148.5477,6152,1010.0,1000,4.2259,34.2195,2,34.2246,2,62.20,2,105.80,2,39.57,2,0.00,2,2.78,2,-999.,9,-999.,9,-999.,9,-999,9,-999,9
49UF20101002,KS10-07,2768,1,10,21969,2,20101008,0610,33.982,148.5477,6152,1213.2,1201,3.4495,34.3244,2,34.3248,2,45.82,2,126.65,2,42.04,2,0.00,2,2.95,2,-999.,9,-999.,9,-999.,9,-999,9,-999,9
49UF20101002,KS10-07,2768,1,6,21965,2,20101008,0606,33.982,148.5477,6152,1414.6,1400,2.9876,34.4147,2,-999.0000,9,42.73,2,138.65,2,42.52,2,0.00,2,2.99,2,-999.,9,-999.,9,-999.,9,-999,9,-999,9
49UF20101002,KS10-07,2768,1,5,21964,2,20101008,0606,33.982,148.5477,6152,1414.6,1400,2.9876,34.4147,2,34.4153,2,42.98,2,140.36,2,42.83,2,0.00,2,2.98,2,-999.,9,-999.,9,-999.,9,-999,9,-999,9
49UF20101002,KS10-07,2768,1,4,21963,2,20101008,0601,33.982,148.5477,6152,1619.2,1601,2.5961,34.4796,2,-999.0000,9,43.87,2,151.84,2,43.42,2,0.00,2,3.01,2,-999.,9,-999.,9,-999.,9,-999,9,-999,9
49UF20101002,KS10-07,2768,1,3,21962,2,20101008,0601,33.982,148.5477,6152,1619.2,1601,2.5961,34.4796,2,34.4823,2,43.95,2,152.19,2,43.25,2,0.00,2,3.01,2,-999.,9,-999.,9,-999.,9,-999,9,-999,9
49UF20101002,KS10-07,2768,1,2,21961,2,20101008,0557,33.982,148.5477,6152,1823.8,1803,2.3147,34.5310,2,34.5311,6,51.31,2,158.88,2,42.91,2,0.00,2,2.98,2,-999.,9,-999.,9,-999.,9,-999,9,-999,9
49UF20101002,KS10-07,2768,1,1,21960,2,20101008,0552,33.982,148.5477,6152,2024.1,2000,2.1193,34.5667,2,34.5665,6,61.83,2,162.50,2,42.48,2,0.00,2,2.93,2,-999.,9,-999.,9,-999.,9,-999,9,-999,9
49UF20101002,KS10-07,2770,1,-999,0,2,20101008,1555,35.0032,148.896,6057,0.0,0,26.1938,34.3542,2,-999.,9,206.09,2,1.63,2,0.05,2,0.00,2,0.00,2,-999.,9,-999.,9,-999.,9,-999,9,-999,9
49UF20101002,KS10-07,2770,1,33,21993,2,20101008,1613,35.0032,148.896,6057,12.0,12,26.2100,34.3537,2,-999.,9,206.68,2,1.21,2,0.05,2,0.00,2,0.00,2,-999.,9,-999.,9,-999.,9,-999,9,-999,9
49UF20101002,KS10-07,2770,1,32,21992,2,20101008,1611,35.0032,148.896,6057,27.9,28,26.2165,34.3536,2,-999.,9,205.79,2,1.59,2,0.07,2,0.00,2,0.00,2,-999.,9,-999.,9,-999.,9,-999,9,-999,9
49UF20101002,KS10-07,2770,1,31,21991,2,20101008,1607,35.0032,148.896,6057,53.5,53,26.0944,34.4531,2,-999.,9,208.54,2,1.59,2,0.10,2,0.00,2,0.00,2,-999.,9,-999.,9,-999.,9,-999,9,-999,9
49UF20101002,KS10-07,2770,1,30,21990,2,20101008,1606,35.0032,148.896,6057,77.1,77,23.6344,34.6727,2,-999.,9,200.57,2,2.12,6,1.07,6,0.21,6,0.08,6,-999.,9,-999.,9,-999.,9,-999,9,-999,9
49UF20101002,KS10-07,2770,1,29,21989,2,20101008,1605,35.0032,148.896,6057,102.6,102,21.6908,34.6992,2,-999.,9,186.22,2,3.68,2,3.45,2,0.05,2,0.23,2,-999.,9,-999.,9,-999.,9,-999,9,-999,9
49UF20101002,KS10-07,2770,1,28,21988,2,20101008,1604,35.0032,148.896,6057,127.0,126,20.3098,34.7190,2,-999.,9,201.34,2,3.42,2,2.52,2,0.06,2,0.17,2,-999.,9,-999.,9,-999.,9,-999,9,-999,9
49UF20101002,KS10-07,2770,1,24,21984,2,20101008,1603,35.0032,148.896,6057,154.8,154,19.6705,34.7033,2,-999.,9,189.54,2,5.04,2,4.29,2,0.02,2,0.29,2,-999.,9,-999.,9,-999.,9,-999,9,-999,9
49UF20101002,KS10-07,2770,1,23,21983,2,20101008,1602,35.0032,148.896,6057,203.8,202,18.8604,34.7178,2,-999.,9,201.10,2,3.41,2,3.30,2,0.01,2,0.21,2,-999.,9,-999.,9,-999.,9,-999,9,-999,9
49UF20101002,KS10-07,2770,1,22,21982,2,20101008,1600,35.0032,148.896,6057,255.1,253,18.2809,34.7067,2,-999.,9,202.71,2,3.96,2,3.94,2,0.01,2,0.25,2,-999.,9,-999.,9,-999.,9,-999,9,-999,9
49UF20101002,KS10-07,2770,1,21,21981,2,20101008,1559,35.0032,148.896,6057,304.9,302,17.7078,34.7038,2,-999.,9,195.38,2,5.24,2,5.44,2,0.01,2,0.35,2,-999.,9,-999.,9,-999.,9,-999,9,-999,9
49UF20101002,KS10-07,2770,1,20,21980,2,20101008,1556,35.0032,148.896,6057,406.7,403,15.8509,34.6302,2,-999.,9,183.06,2,10.02,2,9.20,2,0.01,2,0.62,2,-999.,9,-999.,9,-999.,9,-999,9,-999,9
49UF20101002,KS10-07,2770,1,19,21978,2,20101008,1553,35.0032,148.896,6057,508.1,504,12.9216,34.4511,2,-999.,9,172.20,2,19.77,2,14.63,2,0.00,2,1.02,2,-999.,9,-999.,9,-999.,9,-999,9,-999,9
49UF20101002,KS10-07,2770,1,15,21974,2,20101008,1551,35.0032,148.896,6057,607.5,602,10.0134,34.2651,2,-999.,9,159.69,2,35.18,2,20.40,2,0.00,2,1.47,2,-999.,9,-999.,9,-999.,9,-999,9,-999,9
49UF20101002,KS10-07,2770,1,14,21973,2,20101008,1548,35.0032,148.896,6057,707.9,702,7.1780,34.1308,2,-999.,9,137.87,2,56.45,2,27.16,2,0.00,2,1.98,2,-999.,9,-999.,9,-999.,9,-999,9,-999,9
49UF20101002,KS10-07,2770,1,13,21972,2,20101008,1546,35.0032,148.896,6057,809.3,802,5.6663,34.1650,2,-999.,9,100.86,6,79.11,6,33.35,6,0.00,6,2.42,6,-999.,9,-999.,9,-999.,9,-999,9,-999,9
49UF20101002,KS10-07,2770,1,12,21971,2,20101008,1543,35.0032,148.896,6057,910.5,902,4.7597,34.2243,2,-999.,9,73.72,2,96.50,2,37.09,2,0.00,2,2.67,2,-999.,9,-999.,9,-999.,9,-999,9,-999,9
49UF20101002,KS10-07,2770,1,11,21970,2,20101008,1541,35.0032,148.896,6057,1012.2,1002,4.0278,34.2394,2,-999.,9,56.86,2,111.09,2,39.65,2,0.00,2,2.86,2,-999.,9,-999.,9,-999.,9,-999,9,-999,9
49UF20101002,KS10-07,2770,1,10,21969,2,20101008,1536,35.0032,148.896,6057,1216.1,1204,3.2924,34.3399,2,-999.,9,40.50,2,131.22,2,42.05,2,0.00,2,3.00,2,-999.,9,-999.,9,-999.,9,-999,9,-999,9
49UF20101002,KS10-07,2770,1,6,21965,2,20101008,1532,35.0032,148.896,6057,1416.1,1401,2.9260,34.4231,2,-999.,9,41.67,2,141.78,2,42.00,2,0.00,2,3.01,2,-999.,9,-999.,9,-999.,9,-999,9,-999,9
49UF20101002,KS10-07,2770,1,5,21964,2,20101008,1527,35.0032,148.896,6057,1620.1,1602,2.5845,34.4784,2,-999.,9,44.09,2,150.96,2,42.25,2,0.00,2,3.02,2,-999.,9,-999.,9,-999.,9,-999,9,-999,9
49UF20101002,KS10-07,2770,1,4,21963,2,20101008,1523,35.0032,148.896,6057,1823.4,1802,2.3142,34.5308,2,-999.,9,52.25,2,157.62,2,42.03,2,0.00,2,2.98,2,-999.,9,-999.,9,-999.,9,-999,9,-999,9
49UF20101002,KS10-07,2770,1,3,21962,2,20101008,1523,35.0032,148.896,6057,1823.4,1802,2.3142,34.5308,2,-999.,9,52.42,2,157.85,2,42.03,2,0.00,2,2.95,2,-999.,9,-999.,9,-999.,9,-999,9,-999,9
49UF20101002,KS10-07,2770,1,2,21961,2,20101008,1518,35.0032,148.896,6057,2029.2,2005,2.0853,34.5730,2,-999.,9,66.92,2,160.79,2,41.47,2,0.00,2,2.91,2,-999.,9,-999.,9,-999.,9,-999,9,-999,9
49UF20101002,KS10-07,2770,1,1,21960,2,20101008,1518,35.0032,148.896,6057,2029.2,2005,2.0853,34.5730,2,-999.,9,66.03,2,149.80,4,36.04,4,0.00,4,2.68,4,-999.,9,-999.,9,-999.,9,-999,9,-999,9
49UF20101002,KS10-07,2772,1,-999,0,2,20101008,0029,36.01,149.2757,5985,0.0,0,26.1718,34.3872,2,-999.,9,206.00,2,1.76,2,0.00,2,0.00,2,0.00,2,-999.,9,-999.,9,-999.,9,-999,9,-999,9
49UF20101002,KS10-07,2772,1,33,21993,2,20101008,0051,36.01,149.2757,5985,10.8,11,26.1613,34.3864,2,-999.,9,204.35,2,1.68,2,0.00,2,0.00,2,0.00,2,-999.,9,-999.,9,-999.,9,-999,9,-999,9
49UF20101002,KS10-07,2772,1,32,21992,2,20101008,0049,36.01,149.2757,5985,27.5,27,26.0371,34.3743,2,-999.,9,205.02,2,1.72,2,0.07,2,0.00,2,0.00,2,-999.,9,-999.,9,-999.,9,-999,9,-999,9
49UF20101002,KS10-07,2772,1,31,21991,2,20101008,0045,36.01,149.2757,5985,50.3,50,25.9924,34.3771,2,-999.,9,204.60,2,1.76,2,0.00,2,0.00,2,0.00,2,-999.,9,-999.,9,-999.,9,-999,9,-999,9
49UF20101002,KS10-07,2772,1,30,21990,2,20101008,0043,36.01,149.2757,5985,75.7,75,23.5231,34.6520,2,-999.,9,201.85,2,2.27,2,1.04,2,0.23,2,0.07,2,-999.,9,-999.,9,-999.,9,-999,9,-999,9
49UF20101002,KS10-07,2772,1,29,21989,2,20101008,0042,36.01,149.2757,5985,101.1,100,21.4048,34.7233,2,-999.,9,201.62,6,2.74,6,1.82,6,0.08,6,0.12,6,-999.,9,-999.,9,-999.,9,-999,9,-999,9
49UF20101002,KS10-07,2772,1,28,21988,2,20101008,0040,36.01,149.2757,5985,126.4,125,20.2654,34.7450,2,-999.,9,197.26,2,2.92,2,2.42,2,0.03,2,0.15,2,-999.,9,-999.,9,-999.,9,-999,9,-999,9
49UF20101002,KS10-07,2772,1,24,21984,2,20101008,0039,36.01,149.2757,5985,150.4,149,19.2930,34.7166,2,-999.,9,204.17,2,3.13,2,2.62,2,0.03,2,0.17,2,-999.,9,-999.,9,-999.,9,-999,9,-999,9
49UF20101002,KS10-07,2772,1,23,21983,2,20101008,0037,36.01,149.2757,5985,202.5,201,18.5227,34.7070,2,-999.,9,201.75,2,3.98,2,3.73,2,0.02,2,0.24,2,-999.,9,-999.,9,-999.,9,-999,9,-999,9
49UF20101002,KS10-07,2772,1,22,21982,2,20101008,0035,36.01,149.2757,5985,253.1,251,18.1089,34.7047,2,-999.,9,200.76,2,4.28,2,4.22,2,0.02,2,0.28,2,-999.,9,-999.,9,-999.,9,-999,9,-999,9
49UF20101002,KS10-07,2772,1,21,21981,2,20101008,0034,36.01,149.2757,5985,302.6,300,17.3892,34.6836,2,-999.,9,210.45,2,4.45,2,4.48,2,0.02,2,0.29,2,-999.,9,-999.,9,-999.,9,-999,9,-999,9
49UF20101002,KS10-07,2772,1,20,21980,2,20101008,0031,36.01,149.2757,5985,405.2,402,15.2255,34.5931,2,-999.,9,179.97,2,11.99,2,10.48,2,0.01,2,0.69,2,-999.,9,-999.,9,-999.,9,-999,9,-999,9
49UF20101002,KS10-07,2772,1,19,21978,2,20101008,0028,36.01,149.2757,5985,502.6,498,12.2602,34.4196,2,-999.,9,163.87,2,25.27,2,16.65,2,0.01,2,1.17,2,-999.,9,-999.,9,-999.,9,-999,9,-999,9
49UF20101002,KS10-07,2772,1,15,21974,2,20101008,0025,36.01,149.2757,5985,606.0,601,9.7613,34.2339,2,-999.,9,162.12,2,35.60,2,20.56,2,0.01,2,1.47,2,-999.,9,-999.,9,-999.,9,-999,9,-999,9
49UF20101002,KS10-07,2772,1,14,21973,2,20101008,0025,36.01,149.2757,5985,606.0,601,9.7613,34.2339,2,-999.,9,161.98,2,35.63,2,20.52,2,0.01,2,1.48,2,-999.,9,-999.,9,-999.,9,-999,9,-999,9
49UF20101002,KS10-07,2772,1,13,21972,3,20101008,0022,36.01,149.2757,5985,706.1,700,6.8544,34.0898,2,-999.,9,142.68,2,56.93,2,27.60,2,0.01,2,2.02,2,-999.,9,-999.,9,-999.,9,-999,9,-999,9
49UF20101002,KS10-07,2772,1,12,21971,3,20101008,0022,36.01,149.2757,5985,706.1,700,6.8544,34.0898,2,-999.,9,142.07,2,57.05,2,27.53,2,0.01,2,2.02,2,-999.,9,-999.,9,-999.,9,-999,9,-999,9
49UF20101002,KS10-07,2772,1,11,21970,2,20101008,0020,36.01,149.2757,5985,807.3,800,5.3427,34.0951,2,-999.,9,105.16,2,78.78,2,33.78,2,0.01,2,2.46,2,-999.,9,-999.,9,-999.,9,-999,9,-999,9
49UF20101002,KS10-07,2772,1,10,21969,2,20101008,0017,36.01,149.2757,5985,910.6,902,4.7791,34.1463,2,-999.,9,82.43,2,91.56,6,36.60,6,0.01,6,2.65,6,-999.,9,-999.,9,-999.,9,-999,9,-999,9
49UF20101002,KS10-07,2772,1,6,21965,2,20101008,0014,36.01,149.2757,5985,1012.4,1003,4.2151,34.2351,2,-999.,9,61.84,2,107.78,2,39.18,2,0.01,2,2.82,2,-999.,9,-999.,9,-999.,9,-999,9,-999,9
49UF20101002,KS10-07,2772,1,5,21964,2,20101008,0010,36.01,149.2757,5985,1212.2,1200,3.5283,34.3392,2,-999.,9,47.82,2,125.77,2,41.19,2,0.01,2,2.95,2,-999.,9,-999.,9,-999.,9,-999,9,-999,9
49UF20101002,KS10-07,2772,1,4,21963,2,20101008,0005,36.01,149.2757,5985,1416.9,1402,2.9848,34.4297,2,-999.,9,45.96,2,140.07,2,41.94,2,0.01,2,2.99,2,-999.,9,-999.,9,-999.,9,-999,9,-999,9
49UF20101002,KS10-07,2772,1,3,21962,2,20101008,0000,36.01,149.2757,5985,1618.7,1601,2.5515,34.4859,2,-999.,9,44.85,2,152.60,2,42.48,2,0.01,2,3.03,2,-999.,9,-999.,9,-999.,9,-999,9,-999,9
49UF20101002,KS10-07,2772,1,2,21961,2,20101008,2356,36.01,149.2757,5985,1822.2,1801,2.3152,34.5294,2,-999.,9,51.53,2,158.68,2,42.41,2,0.01,2,3.00,2,-999.,9,-999.,9,-999.,9,-999,9,-999,9
49UF20101002,KS10-07,2772,1,1,21960,2,20101008,2351,36.01,149.2757,5985,2024.8,2000,2.1282,34.5639,2,-999.,9,61.79,2,161.96,2,41.81,2,0.01,2,2.95,2,-999.,9,-999.,9,-999.,9,-999,9,-999,9