BOTTLE,20171117JMAGEMD
EXPOCODE,SECT_ID,STNNBR,CASTNO,SAMPNO,BTLNBR,BTLNBR_FLAG_W,DATE,TIME,LATITUDE,LONGITUDE,DEPTH,CTDPRS,CTDDEP,CTDTMP,CTDSAL,CTDSAL_FLAG_W,SALNTY,SALNTY_FLAG_W,OXYGEN,OXYGEN_FLAG_W,SILCAT,SILCAT_FLAG_W,NO2+NO3,NO2+NO3_FLAG_W,NITRIT,NITRIT_FLAG_W,PHSPHT,PHSPHT_FLAG_W,TCARBN,TCARBN_FLAG_W,ALKALI,ALKALI_FLAG_W,PH_TOT,PH_TOT_FLAG_W,CFC-11,CFC-11_FLAG_W,CFC-12,CFC-12_FLAG_W
,,,,,,,UTC,UTC,,,METER,DBAR,METERS,ITS-90,PSS-78,,PSS-78,,UMOL/KG,,UMOL/KG,,UMOL/KG,,UMOL/KG,,UMOL/KG,,UMOL/KG,,UMOL/KG,,@25DEG-C,,PMOL/KG,,PMOL/KG,
49UF20101002,KS10-07,2817,1,-999,0,2,20101024,0420,40.4963,137.6758,3117,0.0,0,17.6592,33.5121,2,-999.,9,241.73,2,2.49,2,0.06,2,0.00,2,0.00,2,-999.0,9,-999.0,9,-999.0000,9,-999,9,-999,9
49UF20101002,KS10-07,2817,1,34,21994,2,20101024,0437,40.4963,137.6758,3117,12.8,13,17.3791,33.5224,2,-999.,9,244.24,2,2.27,2,0.06,2,0.00,2,0.00,2,1984.3,2,2241.2,2,7.9837,2,-999,9,-999,9
49UF20101002,KS10-07,2817,1,33,21993,2,20101024,0436,40.4963,137.6758,3117,26.9,27,17.2799,33.4994,2,-999.,9,259.87,2,2.36,2,0.03,2,0.00,2,0.00,2,1991.5,2,2243.4,2,7.9756,2,-999,9,-999,9
49UF20101002,KS10-07,2817,1,32,21992,2,20101024,0432,40.4963,137.6758,3117,53.0,53,6.3898,33.9521,2,-999.,9,343.92,2,2.90,2,0.64,2,0.04,2,0.25,2,2069.2,2,2269.5,2,7.8761,2,-999,9,-999,9
49UF20101002,KS10-07,2817,1,31,21991,2,20101024,0431,40.4963,137.6758,3117,78.4,78,2.5425,34.0177,2,-999.,9,285.92,2,16.05,2,13.95,2,0.03,2,1.00,2,2162.3,2,2262.4,2,7.6397,2,-999,9,-999,9
49UF20101002,KS10-07,2817,1,30,21990,2,20101024,0430,40.4963,137.6758,3117,106.7,106,1.9648,34.0578,2,-999.,9,280.40,2,21.12,2,15.65,2,0.01,2,1.14,2,2169.3,2,2259.9,2,7.6089,2,-999,9,-999,9
49UF20101002,KS10-07,2817,1,28,21988,2,20101024,0429,40.4963,137.6758,3117,128.0,127,1.7511,34.0604,2,-999.,9,273.77,2,23.72,2,16.81,2,0.01,2,1.23,2,-999.0,9,-999.0,9,-999.0000,9,-999,9,-999,9
49UF20101002,KS10-07,2817,1,27,21987,2,20101024,0428,40.4963,137.6758,3117,155.2,154,1.5385,34.0596,2,-999.,9,295.96,2,20.03,2,14.40,2,0.01,2,1.05,2,2162.6,2,2261.7,2,7.6289,2,-999,9,-999,9
49UF20101002,KS10-07,2817,1,26,21986,2,20101024,0426,40.4963,137.6758,3117,207.3,206,1.2054,34.0650,2,-999.,9,262.69,2,28.31,2,19.03,2,0.00,2,1.40,2,2193.9,2,2262.8,2,7.5407,2,-999,9,-999,9
49UF20101002,KS10-07,2817,1,25,21985,2,20101024,0424,40.4963,137.6758,3117,256.0,254,1.0121,34.0684,2,-999.,9,260.02,2,30.24,2,19.67,2,0.00,2,1.45,2,-999.0,9,-999.0,9,-999.0000,9,-999,9,-999,9
49UF20101002,KS10-07,2817,1,24,21984,2,20101024,0422,40.4963,137.6758,3117,306.8,304,0.8884,34.0714,2,-999.,9,252.77,2,32.96,2,20.70,2,0.00,2,1.54,2,-999.0,9,-999.0,9,-999.0000,9,-999,9,-999,9
49UF20101002,KS10-07,2817,1,23,21983,2,20101024,0420,40.4963,137.6758,3117,409.6,406,0.7177,34.0735,2,-999.,9,238.37,2,38.59,2,22.32,2,0.01,2,1.70,2,2219.4,6,2261.0,6,7.4685,6,-999,9,-999,9
49UF20101002,KS10-07,2817,1,20,21980,2,20101024,0417,40.4963,137.6758,3117,508.5,504,0.6058,34.0744,2,-999.,9,229.55,2,43.73,2,23.34,2,0.00,2,1.78,2,-999.0,9,-999.0,9,-999.0000,9,-999,9,-999,9
49UF20101002,KS10-07,2817,1,19,21978,2,20101024,0414,40.4963,137.6758,3117,610.1,605,0.5071,34.0736,2,-999.,9,220.17,2,49.57,2,24.05,2,0.00,2,1.83,2,2231.6,2,2261.2,2,7.4342,2,-999,9,-999,9
49UF20101002,KS10-07,2817,1,18,21977,2,20101024,0411,40.4963,137.6758,3117,711.1,704,0.4298,34.0728,2,-999.,9,215.12,2,54.41,2,24.46,2,0.00,2,1.87,2,-999.0,9,-999.0,9,-999.0000,9,-999,9,-999,9
49UF20101002,KS10-07,2817,1,17,21976,2,20101024,0408,40.4963,137.6758,3117,812.2,804,0.3721,34.0718,2,-999.,9,211.45,2,58.20,2,24.79,2,0.00,2,1.89,2,2239.7,2,2268.6,2,7.4295,2,-999,9,-999,9
49UF20101002,KS10-07,2817,1,16,21975,2,20101024,0408,40.4963,137.6758,3117,812.2,804,0.3721,34.0718,2,-999.,9,211.35,6,58.19,6,24.77,6,0.00,6,1.89,6,2240.3,2,2270.0,2,7.4236,2,-999,9,-999,9
49UF20101002,KS10-07,2817,1,15,21974,2,20101024,0406,40.4963,137.6758,3117,913.5,904,0.3246,34.0709,2,-999.,9,209.56,2,61.48,2,24.84,2,0.00,2,1.89,2,2241.4,2,2270.1,2,7.4237,2,-999,9,-999,9
49UF20101002,KS10-07,2817,1,13,21972,2,20101024,0403,40.4963,137.6758,3117,1013.9,1004,0.2967,34.0703,2,-999.,9,208.59,2,63.92,2,24.92,2,0.00,2,1.90,2,2242.6,6,2273.8,6,7.4228,6,-999,9,-999,9
49UF20101002,KS10-07,2817,1,12,21971,2,20101024,0359,40.4963,137.6758,3117,1216.9,1204,0.2483,34.0693,2,-999.,9,209.70,4,69.76,2,25.05,2,0.00,2,1.92,2,2244.9,2,2275.8,2,7.4222,2,-999,9,-999,9
49UF20101002,KS10-07,2817,1,11,21970,2,20101024,0354,40.4963,137.6758,3117,1421.4,1406,0.2254,34.0689,2,-999.,9,205.30,2,74.40,2,25.19,2,0.00,2,1.93,2,2251.8,2,2275.1,2,7.4230,2,-999,9,-999,9
49UF20101002,KS10-07,2817,1,10,21969,2,20101024,0349,40.4963,137.6758,3117,1625.4,1607,0.2148,34.0686,2,-999.,9,203.91,2,78.06,2,25.33,2,0.00,2,1.94,2,2254.1,2,2276.0,2,7.4270,2,-999,9,-999,9
49UF20101002,KS10-07,2817,1,9,21968,2,20101024,0345,40.4963,137.6758,3117,1827.0,1805,0.2097,34.0685,2,-999.,9,204.75,2,79.45,2,25.37,2,0.00,2,1.95,2,2254.2,2,2274.7,2,7.4314,2,-999,9,-999,9
49UF20101002,KS10-07,2817,1,6,21965,2,20101024,0340,40.4963,137.6758,3117,2028.0,2003,0.2117,34.0685,2,-999.,9,204.53,2,81.62,2,25.41,2,0.00,2,1.95,2,2251.2,2,2278.9,2,7.4295,2,-999,9,-999,9
49UF20101002,KS10-07,2817,1,5,21964,2,20101024,0340,40.4963,137.6758,3117,2028.0,2003,0.2117,34.0685,2,-999.,9,204.72,6,81.80,6,25.44,6,0.00,6,1.96,6,2254.8,2,2279.4,2,7.4336,2,-999,9,-999,9
49UF20101002,KS10-07,2817,1,4,21963,2,20101024,0335,40.4963,137.6758,3117,2281.9,2252,0.2184,34.0685,2,-999.,9,204.99,2,84.53,2,25.52,2,0.00,2,1.96,2,2253.9,2,2283.0,2,7.4377,2,-999,9,-999,9
49UF20101002,KS10-07,2817,1,3,21962,2,20101024,0330,40.4963,137.6758,3117,2537.8,2503,0.2334,34.0685,2,-999.,9,205.32,2,85.58,2,25.64,2,0.00,2,1.96,2,2251.6,2,2288.1,2,7.4367,2,-999,9,-999,9
49UF20101002,KS10-07,2817,1,2,21961,2,20101024,0325,40.4963,137.6758,3117,2793.4,2754,0.2541,34.0685,2,-999.,9,205.44,2,85.65,2,25.61,2,0.00,2,1.96,2,2254.6,2,2284.8,2,7.4365,2,-999,9,-999,9
49UF20101002,KS10-07,2817,1,1,21960,2,20101024,0319,40.4963,137.6758,3117,3089.3,3043,0.2804,34.0682,2,-999.,9,205.49,2,85.67,2,25.59,2,0.00,2,1.96,2,2258.5,2,2287.0,2,7.4356,2,-999,9,-999,9
49UF20101002,KS10-07,2818,1,-999,0,2,20101024,0920,40.0183,138.1785,2790,0.0,0,19.5325,32.8372,2,-999.0000,9,232.93,2,1.43,2,0.00,2,0.00,2,0.02,2,-999.,9,-999.,9,-999.,9,-999,9,-999,9
49UF20101002,KS10-07,2818,1,35,21995,2,20101024,0944,40.0183,138.1785,2790,11.9,12,19.4302,32.8417,2,32.8453,4,233.15,2,1.30,2,0.00,2,0.00,2,0.00,2,-999.,9,-999.,9,-999.,9,-999,9,-999,9
49UF20101002,KS10-07,2818,1,34,21994,2,20101024,0943,40.0183,138.1785,2790,27.6,27,18.8997,32.8949,2,-999.0000,9,221.12,6,3.59,6,1.73,6,0.11,6,0.08,6,-999.,9,-999.,9,-999.,9,-999,9,-999,9
49UF20101002,KS10-07,2818,1,33,21993,2,20101024,0939,40.0183,138.1785,2790,51.9,51,13.9385,34.2456,2,-999.0000,9,181.30,2,14.15,2,10.48,2,0.02,2,0.74,2,-999.,9,-999.,9,-999.,9,-999,9,-999,9
49UF20101002,KS10-07,2818,1,32,21992,3,20101024,0938,40.0183,138.1785,2790,76.9,76,10.8373,34.2322,2,-999.0000,9,229.46,2,10.64,2,8.57,2,0.01,2,0.64,2,-999.,9,-999.,9,-999.,9,-999,9,-999,9
49UF20101002,KS10-07,2818,1,29,21989,2,20101024,0936,40.0183,138.1785,2790,102.8,102,7.2904,34.1074,2,34.1060,2,262.71,2,11.10,2,9.24,2,0.01,2,0.69,2,-999.,9,-999.,9,-999.,9,-999,9,-999,9
49UF20101002,KS10-07,2818,1,28,21988,2,20101024,0935,40.0183,138.1785,2790,127.4,126,5.6056,34.0885,2,-999.0000,9,256.06,2,16.13,2,12.51,2,0.00,2,0.93,2,-999.,9,-999.,9,-999.,9,-999,9,-999,9
49UF20101002,KS10-07,2818,1,27,21987,2,20101024,0933,40.0183,138.1785,2790,153.4,152,3.9160,34.0762,2,-999.0000,9,254.84,2,20.93,2,14.99,2,0.00,2,1.13,2,-999.,9,-999.,9,-999.,9,-999,9,-999,9
49UF20101002,KS10-07,2818,1,26,21986,2,20101024,0931,40.0183,138.1785,2790,204.0,202,2.2068,34.0562,2,34.0567,2,301.29,2,16.72,2,13.29,2,0.00,2,0.99,2,-999.,9,-999.,9,-999.,9,-999,9,-999,9
49UF20101002,KS10-07,2818,1,25,21985,2,20101024,0929,40.0183,138.1785,2790,253.9,252,1.6226,34.0671,2,-999.0000,9,269.55,2,26.51,2,17.14,2,0.00,2,1.30,2,-999.,9,-999.,9,-999.,9,-999,9,-999,9
49UF20101002,KS10-07,2818,1,22,21982,2,20101024,0926,40.0183,138.1785,2790,304.7,302,1.2729,34.0695,2,-999.0000,9,249.46,2,32.17,2,19.82,2,0.00,2,1.49,2,-999.,9,-999.,9,-999.,9,-999,9,-999,9
49UF20101002,KS10-07,2818,1,21,21981,2,20101024,0923,40.0183,138.1785,2790,406.0,402,0.8808,34.0710,2,34.0788,4,219.74,2,43.21,2,23.34,2,0.00,2,1.79,2,-999.,9,-999.,9,-999.,9,-999,9,-999,9
49UF20101002,KS10-07,2818,1,20,21980,3,20101024,0920,40.0183,138.1785,2790,507.4,503,0.6606,34.0714,2,-999.0000,9,211.30,2,49.59,2,24.29,2,0.00,2,1.88,2,-999.,9,-999.,9,-999.,9,-999,9,-999,9
49UF20101002,KS10-07,2818,1,19,21978,3,20101024,0917,40.0183,138.1785,2790,607.7,602,0.5548,34.0722,2,34.0718,2,213.63,2,50.74,2,24.29,2,0.00,2,1.88,2,-999.,9,-999.,9,-999.,9,-999,9,-999,9
49UF20101002,KS10-07,2818,1,18,21977,2,20101024,0914,40.0183,138.1785,2790,708.7,702,0.4648,34.0718,2,-999.0000,9,209.84,2,55.43,2,24.62,2,0.00,2,1.90,2,-999.,9,-999.,9,-999.,9,-999,9,-999,9
49UF20101002,KS10-07,2818,1,17,21976,2,20101024,0911,40.0183,138.1785,2790,810.0,802,0.3869,34.0711,2,34.0713,2,207.73,2,60.01,2,24.73,2,0.00,2,1.92,2,-999.,9,-999.,9,-999.,9,-999,9,-999,9
49UF20101002,KS10-07,2818,1,14,21973,3,20101024,0908,40.0183,138.1785,2790,911.3,902,0.3467,34.0708,2,-999.0000,9,208.55,2,61.79,2,24.80,2,0.00,2,1.92,2,-999.,9,-999.,9,-999.,9,-999,9,-999,9
49UF20101002,KS10-07,2818,1,13,21972,2,20101024,0905,40.0183,138.1785,2790,1012.1,1002,0.3096,34.0701,2,34.0701,2,206.71,6,65.28,6,24.96,6,0.00,6,1.93,6,-999.,9,-999.,9,-999.,9,-999,9,-999,9
49UF20101002,KS10-07,2818,1,12,21971,3,20101024,0901,40.0183,138.1785,2790,1215.1,1202,0.2603,34.0695,2,34.0697,2,207.21,2,69.16,2,24.84,2,0.00,2,1.93,2,-999.,9,-999.,9,-999.,9,-999,9,-999,9
49UF20101002,KS10-07,2818,1,11,21970,2,20101024,0856,40.0183,138.1785,2790,1417.7,1402,0.2334,34.0689,2,-999.0000,9,205.55,2,74.12,2,25.08,2,0.00,2,1.94,2,-999.,9,-999.,9,-999.,9,-999,9,-999,9
49UF20101002,KS10-07,2818,1,10,21969,2,20101024,0856,40.0183,138.1785,2790,1417.7,1402,0.2334,34.0689,2,34.0697,6,205.98,2,74.06,2,25.09,2,0.00,2,1.95,2,-999.,9,-999.,9,-999.,9,-999,9,-999,9
49UF20101002,KS10-07,2818,1,7,21966,2,20101024,0852,40.0183,138.1785,2790,1620.6,1602,0.2208,34.0688,2,-999.0000,9,203.56,2,78.60,2,25.26,2,0.00,2,1.96,2,-999.,9,-999.,9,-999.,9,-999,9,-999,9
49UF20101002,KS10-07,2818,1,6,21965,2,20101024,0852,40.0183,138.1785,2790,1620.6,1602,0.2208,34.0688,2,34.0678,6,203.67,2,78.70,2,25.24,2,0.00,2,1.96,2,-999.,9,-999.,9,-999.,9,-999,9,-999,9
49UF20101002,KS10-07,2818,1,5,21964,2,20101024,0847,40.0183,138.1785,2790,1823.7,1802,0.2158,34.0685,2,34.0668,2,203.82,2,80.54,2,25.28,2,0.00,2,1.97,2,-999.,9,-999.,9,-999.,9,-999,9,-999,9
49UF20101002,KS10-07,2818,1,4,21963,2,20101024,0842,40.0183,138.1785,2790,2027.2,2002,0.2166,34.0685,2,34.0673,2,204.45,2,81.76,2,25.24,2,0.00,2,1.97,2,-999.,9,-999.,9,-999.,9,-999,9,-999,9
49UF20101002,KS10-07,2818,1,3,21962,2,20101024,0837,40.0183,138.1785,2790,2281.7,2252,0.2227,34.0684,2,-999.0000,9,204.76,2,84.02,2,25.33,2,0.00,2,1.97,2,-999.,9,-999.,9,-999.,9,-999,9,-999,9
49UF20101002,KS10-07,2818,1,2,21961,2,20101024,0831,40.0183,138.1785,2790,2535.7,2501,0.2343,34.0682,2,34.0675,2,205.75,2,85.50,2,25.44,2,0.00,2,1.97,2,-999.,9,-999.,9,-999.,9,-999,9,-999,9
49UF20101002,KS10-07,2818,1,1,21960,2,20101024,0826,40.0183,138.1785,2790,2753.8,2715,0.2514,34.0680,2,34.0680,2,205.41,2,85.72,2,25.51,2,0.00,2,1.96,2,-999.,9,-999.,9,-999.,9,-999,9,-999,9
49UF20101002,KS10-07,2819,1,-999,0,2,20101024,1330,40.0122,137.7643,2738,0.0,0,18.6635,32.7308,2,-999.,9,235.86,2,1.74,2,0.07,2,0.00,2,0.02,2,-999.,9,-999.,9,-999.,9,-999,9,-999,9
49UF20101002,KS10-07,2819,1,35,21995,2,20101024,1346,40.0122,137.7643,2738,12.6,13,18.5428,32.7780,2,-999.,9,237.01,2,1.61,2,0.00,2,0.00,2,0.00,2,-999.,9,-999.,9,-999.,9,-999,9,-999,9
49UF20101002,KS10-07,2819,1,34,21994,2,20101024,1344,40.0122,137.7643,2738,27.1,27,18.5075,32.8888,2,-999.,9,229.17,2,3.13,2,1.09,2,0.05,2,0.07,2,-999.,9,-999.,9,-999.,9,-999,9,-999,9
49UF20101002,KS10-07,2819,1,33,21993,2,20101024,1340,40.0122,137.7643,2738,51.4,51,13.0680,34.2852,2,-999.,9,207.68,6,11.14,6,8.65,6,0.03,6,0.62,6,-999.,9,-999.,9,-999.,9,-999,9,-999,9
49UF20101002,KS10-07,2819,1,32,21992,2,20101024,1338,40.0122,137.7643,2738,77.1,76,8.5539,34.1515,2,-999.,9,259.57,2,8.90,2,8.37,2,0.02,2,0.59,2,-999.,9,-999.,9,-999.,9,-999,9,-999,9
49UF20101002,KS10-07,2819,1,29,21989,2,20101024,1337,40.0122,137.7643,2738,103.1,102,6.2462,34.0955,2,-999.,9,255.56,2,14.12,2,11.67,2,0.01,2,0.83,2,-999.,9,-999.,9,-999.,9,-999,9,-999,9
49UF20101002,KS10-07,2819,1,28,21988,2,20101024,1336,40.0122,137.7643,2738,127.8,127,4.5142,34.0657,2,-999.,9,260.28,2,17.38,2,13.85,2,0.00,2,1.00,2,-999.,9,-999.,9,-999.,9,-999,9,-999,9
49UF20101002,KS10-07,2819,1,27,21987,2,20101024,1334,40.0122,137.7643,2738,153.6,152,3.1954,34.0710,2,-999.,9,249.22,2,24.31,2,17.08,2,0.00,2,1.25,2,-999.,9,-999.,9,-999.,9,-999,9,-999,9
49UF20101002,KS10-07,2819,1,26,21986,2,20101024,1333,40.0122,137.7643,2738,204.1,202,1.8867,34.0651,2,-999.,9,286.21,2,21.67,2,15.43,2,0.00,2,1.12,2,-999.,9,-999.,9,-999.,9,-999,9,-999,9
49UF20101002,KS10-07,2819,1,25,21985,2,20101024,1331,40.0122,137.7643,2738,254.9,253,1.4052,34.0693,2,-999.,9,261.17,2,28.79,2,18.76,2,0.00,2,1.38,2,-999.,9,-999.,9,-999.,9,-999,9,-999,9
49UF20101002,KS10-07,2819,1,22,21982,2,20101024,1329,40.0122,137.7643,2738,304.7,302,1.1364,34.0687,2,-999.,9,260.56,2,29.75,2,19.49,2,0.00,2,1.42,2,-999.,9,-999.,9,-999.,9,-999,9,-999,9
49UF20101002,KS10-07,2819,1,21,21981,2,20101024,1326,40.0122,137.7643,2738,407.0,403,0.8296,34.0716,2,-999.,9,238.32,2,37.34,2,22.27,2,0.00,2,1.67,2,-999.,9,-999.,9,-999.,9,-999,9,-999,9
49UF20101002,KS10-07,2819,1,20,21980,3,20101024,1323,40.0122,137.7643,2738,506.7,502,0.6397,34.0727,2,-999.,9,225.43,2,43.72,2,23.73,2,0.00,2,1.80,2,-999.,9,-999.,9,-999.,9,-999,9,-999,9
49UF20101002,KS10-07,2819,1,19,21978,2,20101024,1320,40.0122,137.7643,2738,608.9,603,0.5319,34.0729,2,-999.,9,220.59,2,48.50,2,24.29,2,0.00,2,1.84,2,-999.,9,-999.,9,-999.,9,-999,9,-999,9
49UF20101002,KS10-07,2819,1,18,21977,2,20101024,1317,40.0122,137.7643,2738,710.0,703,0.4529,34.0724,2,-999.,9,215.72,2,53.19,2,24.57,2,0.00,2,1.87,2,-999.,9,-999.,9,-999.,9,-999,9,-999,9
49UF20101002,KS10-07,2819,1,17,21976,2,20101024,1314,40.0122,137.7643,2738,810.8,803,0.3803,34.0712,2,-999.,9,211.23,2,58.10,2,24.97,2,0.00,2,1.89,2,-999.,9,-999.,9,-999.,9,-999,9,-999,9
49UF20101002,KS10-07,2819,1,14,21973,2,20101024,1311,40.0122,137.7643,2738,911.1,902,0.3376,34.0705,2,-999.,9,209.28,2,61.36,2,25.13,2,0.00,2,1.90,2,-999.,9,-999.,9,-999.,9,-999,9,-999,9
49UF20101002,KS10-07,2819,1,13,21972,2,20101024,1308,40.0122,137.7643,2738,1013.7,1003,0.3002,34.0698,2,-999.,9,207.73,2,64.81,2,25.03,2,0.00,2,1.91,2,-999.,9,-999.,9,-999.,9,-999,9,-999,9
49UF20101002,KS10-07,2819,1,12,21971,2,20101024,1308,40.0122,137.7643,2738,1013.7,1003,0.3002,34.0698,2,-999.,9,207.89,2,64.77,2,25.21,2,0.00,2,1.91,2,-999.,9,-999.,9,-999.,9,-999,9,-999,9
49UF20101002,KS10-07,2819,1,11,21970,2,20101024,1302,40.0122,137.7643,2738,1215.2,1202,0.2537,34.0688,2,-999.,9,206.20,2,70.31,2,25.21,2,0.00,2,1.93,2,-999.,9,-999.,9,-999.,9,-999,9,-999,9
49UF20101002,KS10-07,2819,1,10,21969,3,20101024,1302,40.0122,137.7643,2738,1215.2,1202,0.2537,34.0688,2,-999.,9,206.07,6,70.30,6,25.29,6,0.00,6,1.93,6,-999.,9,-999.,9,-999.,9,-999,9,-999,9
49UF20101002,KS10-07,2819,1,9,21968,2,20101024,1257,40.0122,137.7643,2738,1418.5,1403,0.2303,34.0684,2,-999.,9,204.83,2,74.67,2,25.46,2,0.00,2,1.94,2,-999.,9,-999.,9,-999.,9,-999,9,-999,9
49UF20101002,KS10-07,2819,1,6,21965,2,20101024,1252,40.0122,137.7643,2738,1621.0,1602,0.2187,34.0681,2,-999.,9,204.05,2,77.80,2,25.55,2,0.00,2,1.95,2,-999.,9,-999.,9,-999.,9,-999,9,-999,9
49UF20101002,KS10-07,2819,1,5,21964,2,20101024,1247,40.0122,137.7643,2738,1824.7,1803,0.2124,34.0680,2,-999.,9,203.66,2,80.43,2,25.62,2,0.00,2,1.96,2,-999.,9,-999.,9,-999.,9,-999,9,-999,9
49UF20101002,KS10-07,2819,1,4,21963,2,20101024,1243,40.0122,137.7643,2738,2027.8,2003,0.2160,34.0678,2,-999.,9,203.83,2,82.20,2,25.62,2,0.00,2,1.96,2,-999.,9,-999.,9,-999.,9,-999,9,-999,9
49UF20101002,KS10-07,2819,1,3,21962,2,20101024,1237,40.0122,137.7643,2738,2280.7,2251,0.2225,34.0678,2,-999.,9,203.95,2,84.66,2,25.68,2,0.00,2,1.97,2,-999.,9,-999.,9,-999.,9,-999,9,-999,9
49UF20101002,KS10-07,2819,1,2,21961,2,20101024,1232,40.0122,137.7643,2738,2536.1,2502,0.2354,34.0677,2,-999.,9,204.65,2,85.67,2,25.65,2,0.00,2,1.96,2,-999.,9,-999.,9,-999.,9,-999,9,-999,9
49UF20101002,KS10-07,2819,1,1,21960,2,20101024,1228,40.0122,137.7643,2738,2698.5,2661,0.2483,34.0676,2,-999.,9,204.75,2,85.78,2,25.61,2,0.00,2,1.96,2,-999.,9,-999.,9,-999.,9,-999,9,-999,9