BOTTLE,20171117JMAGEMD
EXPOCODE,SECT_ID,STNNBR,CASTNO,SAMPNO,BTLNBR,BTLNBR_FLAG_W,DATE,TIME,LATITUDE,LONGITUDE,DEPTH,CTDPRS,CTDDEP,CTDTMP,CTDSAL,CTDSAL_FLAG_W,SALNTY,SALNTY_FLAG_W,OXYGEN,OXYGEN_FLAG_W,SILCAT,SILCAT_FLAG_W,NO2+NO3,NO2+NO3_FLAG_W,NITRIT,NITRIT_FLAG_W,PHSPHT,PHSPHT_FLAG_W,TCARBN,TCARBN_FLAG_W,ALKALI,ALKALI_FLAG_W,PH_TOT,PH_TOT_FLAG_W,CFC-11,CFC-11_FLAG_W,CFC-12,CFC-12_FLAG_W
,,,,,,,UTC,UTC,,,METER,DBAR,METERS,ITS-90,PSS-78,,PSS-78,,UMOL/KG,,UMOL/KG,,UMOL/KG,,UMOL/KG,,UMOL/KG,,UMOL/KG,,UMOL/KG,,@25DEG-C,,PMOL/KG,,PMOL/KG,
49UF20101002,KS10-07,2786,1,-999,0,2,20101011,0905,40.9712,146.9195,4868,0.0,0,12.9182,32.4568,2,-999.0000,9,274.84,2,10.01,2,4.42,2,0.09,2,0.62,2,-999.,9,-999.,9,-999.,9,-999,9,-999,9
49UF20101002,KS10-07,2786,1,33,21993,2,20101011,0921,40.9712,146.9195,4868,11.6,12,12.8660,32.4544,2,32.4600,2,276.04,2,10.92,2,5.09,2,0.10,2,0.67,2,-999.,9,-999.,9,-999.,9,-999,9,-999,9
49UF20101002,KS10-07,2786,1,32,21992,2,20101011,0919,40.9712,146.9195,4868,26.2,26,10.2513,32.5949,2,-999.0000,9,287.11,2,18.93,2,10.76,2,0.19,2,1.09,2,-999.,9,-999.,9,-999.,9,-999,9,-999,9
49UF20101002,KS10-07,2786,1,31,21991,2,20101011,0915,40.9712,146.9195,4868,49.7,49,3.5898,32.9962,2,-999.0000,9,297.62,2,36.33,2,22.47,2,0.12,2,1.83,2,-999.,9,-999.,9,-999.,9,-999,9,-999,9
49UF20101002,KS10-07,2786,1,30,21990,2,20101011,0914,40.9712,146.9195,4868,74.7,74,1.9578,33.0855,2,-999.0000,9,299.83,2,42.73,2,25.67,2,0.02,2,2.02,2,-999.,9,-999.,9,-999.,9,-999,9,-999,9
49UF20101002,KS10-07,2786,1,29,21989,2,20101011,0913,40.9712,146.9195,4868,99.4,99,1.4852,33.1597,2,33.1643,2,290.06,2,48.77,2,27.82,2,0.01,2,2.16,2,-999.,9,-999.,9,-999.,9,-999,9,-999,9
49UF20101002,KS10-07,2786,1,28,21988,2,20101011,0912,40.9712,146.9195,4868,124.8,124,1.7575,33.2728,2,-999.0000,9,253.40,2,58.52,2,29.55,2,0.01,2,2.27,2,-999.,9,-999.,9,-999.,9,-999,9,-999,9
49UF20101002,KS10-07,2786,1,24,21984,2,20101011,0910,40.9712,146.9195,4868,150.4,149,1.8282,33.3477,2,-999.0000,9,227.64,2,63.81,2,32.04,2,0.01,2,2.40,2,-999.,9,-999.,9,-999.,9,-999,9,-999,9
49UF20101002,KS10-07,2786,1,23,21983,2,20101011,0908,40.9712,146.9195,4868,201.2,200,2.2131,33.4917,2,33.4957,2,177.74,2,74.26,2,34.67,2,0.01,2,2.57,2,-999.,9,-999.,9,-999.,9,-999,9,-999,9
49UF20101002,KS10-07,2786,1,22,21982,2,20101011,0906,40.9712,146.9195,4868,251.6,249,2.4402,33.6232,2,-999.0000,9,141.99,2,84.23,2,36.51,2,0.01,2,2.70,2,-999.,9,-999.,9,-999.,9,-999,9,-999,9
49UF20101002,KS10-07,2786,1,21,21981,2,20101011,0905,40.9712,146.9195,4868,301.6,299,2.4436,33.6980,2,-999.0000,9,126.61,6,90.56,6,37.39,6,0.02,6,2.76,6,-999.,9,-999.,9,-999.,9,-999,9,-999,9
49UF20101002,KS10-07,2786,1,20,21980,2,20101011,0902,40.9712,146.9195,4868,403.4,400,2.9637,33.9249,2,33.9280,2,65.91,2,107.02,2,41.41,2,0.00,2,2.99,2,-999.,9,-999.,9,-999.,9,-999,9,-999,9
49UF20101002,KS10-07,2786,1,19,21978,2,20101011,0859,40.9712,146.9195,4868,504.3,500,3.0412,34.0461,2,-999.0000,9,48.55,2,117.49,2,42.21,2,0.00,2,3.03,2,-999.,9,-999.,9,-999.,9,-999,9,-999,9
49UF20101002,KS10-07,2786,1,15,21974,2,20101011,0856,40.9712,146.9195,4868,606.2,601,3.1103,34.1683,2,-999.0000,9,30.59,2,128.05,2,43.49,2,0.00,2,3.09,2,-999.,9,-999.,9,-999.,9,-999,9,-999,9
49UF20101002,KS10-07,2786,1,14,21973,2,20101011,0856,40.9712,146.9195,4868,606.2,601,3.1103,34.1683,2,34.1703,2,30.89,2,127.91,2,43.29,2,0.00,2,3.09,2,-999.,9,-999.,9,-999.,9,-999,9,-999,9
49UF20101002,KS10-07,2786,1,13,21972,2,20101011,0852,40.9712,146.9195,4868,708.9,702,3.0277,34.2531,2,-999.0000,9,33.97,2,134.07,2,42.79,2,0.00,2,3.06,2,-999.,9,-999.,9,-999.,9,-999,9,-999,9
49UF20101002,KS10-07,2786,1,12,21971,3,20101011,0852,40.9712,146.9195,4868,708.9,702,3.0277,34.2531,2,-999.0000,9,34.67,2,134.36,2,42.54,2,0.00,2,3.06,2,-999.,9,-999.,9,-999.,9,-999,9,-999,9
49UF20101002,KS10-07,2786,1,11,21970,2,20101011,0849,40.9712,146.9195,4868,810.1,802,2.8573,34.2917,2,34.2923,6,32.89,2,140.66,2,43.09,2,0.00,2,3.07,2,-999.,9,-999.,9,-999.,9,-999,9,-999,9
49UF20101002,KS10-07,2786,1,10,21969,2,20101011,0846,40.9712,146.9195,4868,910.5,901,2.7261,34.3382,2,-999.0000,9,30.51,2,146.52,2,43.31,2,0.00,2,3.08,2,-999.,9,-999.,9,-999.,9,-999,9,-999,9
49UF20101002,KS10-07,2786,1,6,21965,2,20101011,0843,40.9712,146.9195,4868,1009.8,1000,2.5752,34.3792,2,34.3813,2,34.88,2,151.63,2,42.98,2,0.00,2,3.06,2,-999.,9,-999.,9,-999.,9,-999,9,-999,9
49UF20101002,KS10-07,2786,1,5,21964,2,20101011,0839,40.9712,146.9195,4868,1210.1,1197,2.4418,34.4714,2,34.4732,2,43.14,2,154.69,2,42.27,2,0.00,2,3.02,2,-999.,9,-999.,9,-999.,9,-999,9,-999,9
49UF20101002,KS10-07,2786,1,4,21963,2,20101011,0834,40.9712,146.9195,4868,1416.5,1401,2.2370,34.5054,2,34.5055,2,47.92,2,161.47,2,42.50,2,0.00,2,3.00,2,-999.,9,-999.,9,-999.,9,-999,9,-999,9
49UF20101002,KS10-07,2786,1,3,21962,2,20101011,0829,40.9712,146.9195,4868,1618.9,1600,2.1260,34.5559,2,34.5576,2,60.33,2,160.40,2,41.63,2,0.00,2,2.95,2,-999.,9,-999.,9,-999.,9,-999,9,-999,9
49UF20101002,KS10-07,2786,1,2,21961,2,20101011,0824,40.9712,146.9195,4868,1823.8,1802,2.0008,34.5814,2,34.5834,2,71.17,6,161.18,6,41.02,6,0.00,6,2.90,6,-999.,9,-999.,9,-999.,9,-999,9,-999,9
49UF20101002,KS10-07,2786,1,1,21960,2,20101011,0818,40.9712,146.9195,4868,2029.2,2004,1.8638,34.6048,2,34.6043,2,83.51,2,162.74,2,40.60,2,0.00,2,2.84,2,-999.,9,-999.,9,-999.,9,-999,9,-999,9
49UF20101002,KS10-07,2788,1,-999,0,2,20101011,1730,41.6662,146.4633,6344,0.0,0,14.8934,33.2404,2,-999.,9,259.50,2,6.70,2,1.28,2,0.06,2,0.30,2,-999.0,9,-999.0,9,-999.0000,9,-999,9,-999,9
49UF20101002,KS10-07,2788,1,33,21993,2,20101011,1732,41.6662,146.4633,6344,12.4,12,14.6352,33.2037,2,-999.,9,267.42,3,9.46,2,2.95,2,0.08,2,0.44,2,2011.3,2,2237.0,2,7.9268,2,-999,9,-999,9
49UF20101002,KS10-07,2788,1,32,21992,3,20101011,1731,41.6662,146.4633,6344,27.1,27,7.8288,32.7657,2,-999.,9,293.44,2,23.01,2,13.40,2,0.18,2,1.25,2,2062.5,2,2229.1,2,7.7809,2,-999,9,-999,9
49UF20101002,KS10-07,2788,1,31,21991,2,20101011,1727,41.6662,146.4633,6344,51.7,51,6.2363,33.2669,2,-999.,9,255.43,2,34.87,2,18.30,2,0.15,2,1.52,2,2133.3,2,2253.3,2,7.6737,3,-999,9,-999,9
49UF20101002,KS10-07,2788,1,30,21990,2,20101011,1726,41.6662,146.4633,6344,77.0,76,5.8133,33.4984,2,-999.,9,257.84,2,29.24,2,17.69,2,0.03,2,1.41,2,2131.4,2,2256.1,2,7.6863,2,-999,9,-999,9
49UF20101002,KS10-07,2788,1,29,21989,2,20101011,1724,41.6662,146.4633,6344,103.3,102,3.9152,33.4090,2,-999.,9,260.75,2,37.86,2,22.16,2,0.02,2,1.72,2,2156.4,2,2250.5,2,7.6411,2,-999,9,-999,9
49UF20101002,KS10-07,2788,1,28,21988,2,20101011,1723,41.6662,146.4633,6344,128.1,127,4.2713,33.5611,2,-999.,9,260.50,2,37.88,2,22.09,2,0.02,2,1.72,2,2146.1,2,2254.0,2,7.6171,2,-999,9,-999,9
49UF20101002,KS10-07,2788,1,24,21984,2,20101011,1722,41.6662,146.4633,6344,153.8,153,3.7606,33.5601,2,-999.,9,225.44,2,49.22,2,25.57,2,0.01,2,1.93,2,2195.6,2,2262.9,2,7.5595,2,-999,9,-999,9
49UF20101002,KS10-07,2788,1,23,21983,2,20101011,1721,41.6662,146.4633,6344,203.7,202,2.0561,33.4595,2,-999.,9,205.38,2,65.80,2,31.48,2,0.00,2,2.38,2,2233.6,2,2269.3,2,7.4615,2,-999,9,-999,9
49UF20101002,KS10-07,2788,1,22,21982,2,20101011,1720,41.6662,146.4633,6344,253.6,251,2.8360,33.6291,2,-999.,9,166.25,2,72.55,2,33.19,2,0.00,2,2.46,2,2247.0,2,2281.7,2,7.4335,2,-999,9,-999,9
49UF20101002,KS10-07,2788,1,21,21981,2,20101011,1718,41.6662,146.4633,6344,304.4,302,3.1356,33.7319,2,-999.,9,140.13,2,80.02,2,35.22,2,0.00,2,2.59,2,2263.5,2,2290.9,2,7.3990,2,-999,9,-999,9
49UF20101002,KS10-07,2788,1,20,21980,2,20101011,1716,41.6662,146.4633,6344,405.2,402,3.0964,33.8875,2,-999.,9,76.25,6,100.01,6,40.58,6,0.00,6,2.92,6,2317.8,6,2308.2,6,7.3170,6,-999,9,-999,9
49UF20101002,KS10-07,2788,1,19,21978,2,20101011,1714,41.6662,146.4633,6344,506.7,502,3.1932,34.0326,2,-999.,9,46.12,2,114.23,2,42.57,2,0.00,2,3.05,2,2348.4,2,2328.7,2,7.2817,2,-999,9,-999,9
49UF20101002,KS10-07,2788,1,15,21974,2,20101011,1711,41.6662,146.4633,6344,606.6,601,3.1776,34.1411,2,-999.,9,36.05,2,123.75,2,42.93,2,0.00,2,3.06,2,2348.8,2,2339.7,2,7.2949,2,-999,9,-999,9
49UF20101002,KS10-07,2788,1,14,21973,2,20101011,1709,41.6662,146.4633,6344,708.8,702,3.3099,34.2651,2,-999.,9,41.77,2,127.13,2,41.94,2,0.00,2,2.99,2,2354.1,6,2354.8,6,7.3319,6,-999,9,-999,9
49UF20101002,KS10-07,2788,1,13,21972,2,20101011,1706,41.6662,146.4633,6344,811.1,803,3.0807,34.3052,2,-999.,9,38.10,2,135.40,2,42.14,2,0.00,2,3.02,2,2361.3,2,2361.5,2,7.3302,2,-999,9,-999,9
49UF20101002,KS10-07,2788,1,12,21971,2,20101011,1706,41.6662,146.4633,6344,811.1,803,3.0807,34.3052,2,-999.,9,39.41,2,135.36,2,42.06,2,0.00,2,3.03,2,2363.8,2,2360.7,2,7.3334,2,-999,9,-999,9
49UF20101002,KS10-07,2788,1,11,21970,2,20101011,1704,41.6662,146.4633,6344,910.7,902,2.9368,34.3485,2,-999.,9,37.98,2,140.24,2,42.40,2,0.00,2,3.03,2,2370.0,2,2366.8,2,7.3384,2,-999,9,-999,9
49UF20101002,KS10-07,2788,1,10,21969,2,20101011,1704,41.6662,146.4633,6344,910.7,902,2.9368,34.3485,2,-999.,9,38.64,2,140.30,2,42.31,2,0.00,2,3.03,2,2368.1,2,2370.0,2,7.3379,2,-999,9,-999,9
49UF20101002,KS10-07,2788,1,6,21965,2,20101011,1701,41.6662,146.4633,6344,1014.5,1004,2.8284,34.3953,2,-999.,9,44.29,4,143.88,2,42.35,2,0.00,2,3.03,2,2377.1,2,2377.1,2,7.3454,2,-999,9,-999,9
49UF20101002,KS10-07,2788,1,5,21964,2,20101011,1657,41.6662,146.4633,6344,1215.7,1203,2.5195,34.4585,2,-999.,9,42.82,2,153.07,2,42.58,2,0.00,2,3.04,2,2385.1,2,2394.8,2,7.3569,2,-999,9,-999,9
49UF20101002,KS10-07,2788,1,4,21963,2,20101011,1652,41.6662,146.4633,6344,1419.2,1403,2.3598,34.5072,2,-999.,9,47.92,2,157.05,2,42.40,2,0.00,2,3.00,2,2380.0,2,2396.6,2,7.3735,2,-999,9,-999,9
49UF20101002,KS10-07,2788,1,3,21962,2,20101011,1648,41.6662,146.4633,6344,1621.8,1603,2.2107,34.5406,2,-999.,9,56.47,2,159.77,2,41.97,2,0.00,2,2.97,2,2383.8,2,2401.0,2,7.3932,2,-999,9,-999,9
49UF20101002,KS10-07,2788,1,2,21961,2,20101011,1644,41.6662,146.4633,6344,1823.9,1802,2.0537,34.5674,2,-999.,9,65.54,2,162.34,2,41.44,2,0.00,2,2.92,2,2382.6,2,2409.0,2,7.4105,2,-999,9,-999,9
49UF20101002,KS10-07,2788,1,1,21960,2,20101011,1639,41.6662,146.4633,6344,2028.4,2003,1.9354,34.5918,2,-999.,9,76.84,6,162.33,6,40.87,6,0.00,6,2.87,6,2377.3,2,2414.1,2,7.4317,2,-999,9,-999,9
49UF20101002,KS10-07,2789,1,-999,0,2,20101011,2115,42.006,146.1927,5774,0.0,0,13.1951,32.4460,2,-999.,9,272.06,2,9.42,2,3.94,2,0.07,2,0.61,2,-999.,9,-999.,9,-999.,9,-999,9,-999,9
49UF20101002,KS10-07,2789,1,33,21993,2,20101011,2127,42.006,146.1927,5774,11.2,11,12.9596,32.4641,2,-999.,9,277.11,6,10.22,6,4.12,6,0.07,6,0.61,6,-999.,9,-999.,9,-999.,9,-999,9,-999,9
49UF20101002,KS10-07,2789,1,32,21992,2,20101011,2125,42.006,146.1927,5774,25.1,25,7.8927,32.7714,2,-999.,9,314.83,2,20.74,2,12.50,2,0.25,2,1.28,2,-999.,9,-999.,9,-999.,9,-999,9,-999,9
49UF20101002,KS10-07,2789,1,31,21991,2,20101011,2121,42.006,146.1927,5774,49.8,49,2.4517,33.0082,2,-999.,9,322.48,2,34.61,2,22.57,2,0.29,2,1.83,2,-999.,9,-999.,9,-999.,9,-999,9,-999,9
49UF20101002,KS10-07,2789,1,30,21990,2,20101011,2120,42.006,146.1927,5774,77.5,77,1.6758,33.0613,2,-999.,9,314.54,2,40.48,2,24.95,2,0.01,2,1.96,2,-999.,9,-999.,9,-999.,9,-999,9,-999,9
49UF20101002,KS10-07,2789,1,29,21989,2,20101011,2118,42.006,146.1927,5774,100.6,100,1.3473,33.1137,2,-999.,9,300.25,2,45.61,2,26.77,2,0.01,2,2.08,2,-999.,9,-999.,9,-999.,9,-999,9,-999,9
49UF20101002,KS10-07,2789,1,28,21988,2,20101011,2117,42.006,146.1927,5774,124.5,123,1.6250,33.2644,2,-999.,9,252.55,2,56.80,2,30.28,2,0.01,2,2.29,2,-999.,9,-999.,9,-999.,9,-999,9,-999,9
49UF20101002,KS10-07,2789,1,24,21984,2,20101011,2115,42.006,146.1927,5774,150.9,150,1.9971,33.3909,2,-999.,9,208.16,2,65.46,2,33.13,2,0.01,2,2.46,2,-999.,9,-999.,9,-999.,9,-999,9,-999,9
49UF20101002,KS10-07,2789,1,23,21983,2,20101011,2113,42.006,146.1927,5774,201.7,200,2.5882,33.5944,2,-999.,9,137.97,2,80.22,2,37.81,2,0.01,2,2.74,2,-999.,9,-999.,9,-999.,9,-999,9,-999,9
49UF20101002,KS10-07,2789,1,22,21982,2,20101011,2111,42.006,146.1927,5774,253.6,251,3.0179,33.7512,2,-999.,9,88.89,2,90.74,2,40.97,2,0.00,2,2.94,2,-999.,9,-999.,9,-999.,9,-999,9,-999,9
49UF20101002,KS10-07,2789,1,21,21981,2,20101011,2109,42.006,146.1927,5774,303.9,301,3.1399,33.8554,2,-999.,9,63.48,2,98.85,2,42.11,2,0.01,2,3.01,2,-999.,9,-999.,9,-999.,9,-999,9,-999,9
49UF20101002,KS10-07,2789,1,20,21980,2,20101011,2106,42.006,146.1927,5774,403.0,399,3.1118,33.9843,2,-999.,9,51.74,2,110.18,2,42.21,2,0.00,2,3.03,2,-999.,9,-999.,9,-999.,9,-999,9,-999,9
49UF20101002,KS10-07,2789,1,19,21978,2,20101011,2104,42.006,146.1927,5774,503.7,499,3.1576,34.1029,2,-999.,9,34.69,6,120.81,6,43.30,6,0.01,6,3.09,6,-999.,9,-999.,9,-999.,9,-999,9,-999,9
49UF20101002,KS10-07,2789,1,15,21974,2,20101011,2101,42.006,146.1927,5774,605.0,599,3.0774,34.1967,2,-999.,9,30.94,2,129.52,2,43.02,2,0.00,2,3.09,2,-999.,9,-999.,9,-999.,9,-999,9,-999,9
49UF20101002,KS10-07,2789,1,14,21973,2,20101011,2058,42.006,146.1927,5774,708.5,702,2.9603,34.2715,2,-999.,9,31.24,2,136.50,2,43.12,2,0.00,2,3.07,2,-999.,9,-999.,9,-999.,9,-999,9,-999,9
49UF20101002,KS10-07,2789,1,13,21972,2,20101011,2055,42.006,146.1927,5774,806.6,799,2.9010,34.3306,2,-999.,9,37.71,2,140.31,2,42.63,2,0.00,2,3.05,2,-999.,9,-999.,9,-999.,9,-999,9,-999,9
49UF20101002,KS10-07,2789,1,12,21971,2,20101011,2052,42.006,146.1927,5774,909.2,900,2.8234,34.3906,2,-999.,9,40.36,2,143.16,2,42.52,2,0.00,2,3.03,2,-999.,9,-999.,9,-999.,9,-999,9,-999,9
49UF20101002,KS10-07,2789,1,11,21970,2,20101011,2050,42.006,146.1927,5774,1010.6,1000,2.6639,34.4177,2,-999.,9,39.92,2,148.31,2,42.63,2,0.00,2,3.04,2,-999.,9,-999.,9,-999.,9,-999,9,-999,9
49UF20101002,KS10-07,2789,1,10,21969,2,20101011,2050,42.006,146.1927,5774,1010.6,1000,2.6639,34.4177,2,-999.,9,40.88,2,148.13,2,42.57,2,0.00,2,3.04,2,-999.,9,-999.,9,-999.,9,-999,9,-999,9
49UF20101002,KS10-07,2789,1,6,21965,2,20101011,2045,42.006,146.1927,5774,1213.7,1201,2.4210,34.4680,2,-999.,9,43.57,2,154.38,2,42.59,2,0.00,2,3.02,2,-999.,9,-999.,9,-999.,9,-999,9,-999,9
49UF20101002,KS10-07,2789,1,5,21964,2,20101011,2045,42.006,146.1927,5774,1213.7,1201,2.4210,34.4680,2,-999.,9,43.79,2,155.25,2,42.52,2,0.00,2,3.02,2,-999.,9,-999.,9,-999.,9,-999,9,-999,9
49UF20101002,KS10-07,2789,1,4,21963,2,20101011,2040,42.006,146.1927,5774,1415.8,1400,2.2883,34.5185,2,-999.,9,49.88,2,158.34,2,42.22,2,0.00,2,3.00,2,-999.,9,-999.,9,-999.,9,-999,9,-999,9
49UF20101002,KS10-07,2789,1,3,21962,2,20101011,2036,42.006,146.1927,5774,1619.8,1601,2.1498,34.5485,2,-999.,9,58.16,2,159.63,2,41.70,2,0.00,2,2.96,2,-999.,9,-999.,9,-999.,9,-999,9,-999,9
49UF20101002,KS10-07,2789,1,2,21961,2,20101011,2032,42.006,146.1927,5774,1821.6,1799,2.0192,34.5760,2,-999.,9,68.41,2,161.22,2,41.30,2,0.00,2,2.91,2,-999.,9,-999.,9,-999.,9,-999,9,-999,9
49UF20101002,KS10-07,2789,1,1,21960,2,20101011,2027,42.006,146.1927,5774,2025.4,2000,1.8986,34.5995,2,-999.,9,80.43,2,160.96,2,40.74,2,0.00,2,2.85,2,-999.,9,-999.,9,-999.,9,-999,9,-999,9
49UF20101002,KS10-07,2794,1,-999,0,2,20101012,1138,42.6748,145.7155,2309,0.0,0,13.5665,32.3504,2,-999.0000,9,268.69,2,9.69,2,4.42,2,0.08,2,0.61,2,-999.,9,-999.,9,-999.,9,-999,9,-999,9
49UF20101002,KS10-07,2794,1,33,21993,2,20101012,1206,42.6748,145.7155,2309,11.7,12,13.5159,32.3492,2,32.3682,4,271.76,2,10.67,2,4.90,2,0.09,2,0.66,2,-999.,9,-999.,9,-999.,9,-999,9,-999,9
49UF20101002,KS10-07,2794,1,32,21992,2,20101012,1205,42.6748,145.7155,2309,26.3,26,9.8579,32.5871,2,-999.0000,9,292.28,6,18.29,6,10.71,6,0.17,6,1.06,6,-999.,9,-999.,9,-999.,9,-999,9,-999,9
49UF20101002,KS10-07,2794,1,31,21991,2,20101012,1200,42.6748,145.7155,2309,51.8,51,4.5228,32.9174,2,-999.0000,9,291.84,2,33.38,2,20.51,2,0.12,2,1.71,2,-999.,9,-999.,9,-999.,9,-999,9,-999,9
49UF20101002,KS10-07,2794,1,30,21990,2,20101012,1158,42.6748,145.7155,2309,75.7,75,1.5539,33.1017,2,-999.0000,9,297.30,2,44.53,2,26.01,2,0.01,2,2.05,2,-999.,9,-999.,9,-999.,9,-999,9,-999,9
49UF20101002,KS10-07,2794,1,29,21989,2,20101012,1157,42.6748,145.7155,2309,102.5,102,1.2275,33.1721,2,33.1743,2,281.42,2,50.64,2,27.76,2,0.01,2,2.16,2,-999.,9,-999.,9,-999.,9,-999,9,-999,9
49UF20101002,KS10-07,2794,1,28,21988,2,20101012,1155,42.6748,145.7155,2309,127.8,127,1.3084,33.2493,2,-999.0000,9,259.59,2,56.89,2,29.41,2,0.01,2,2.26,2,-999.,9,-999.,9,-999.,9,-999,9,-999,9
49UF20101002,KS10-07,2794,1,24,21984,2,20101012,1154,42.6748,145.7155,2309,152.6,151,1.4928,33.3365,2,-999.0000,9,228.64,2,63.35,2,31.00,2,0.01,2,2.36,2,-999.,9,-999.,9,-999.,9,-999,9,-999,9
49UF20101002,KS10-07,2794,1,23,21983,2,20101012,1152,42.6748,145.7155,2309,202.3,201,1.9852,33.4813,2,33.4836,2,186.10,2,74.29,2,33.58,2,0.01,2,2.52,2,-999.,9,-999.,9,-999.,9,-999,9,-999,9
49UF20101002,KS10-07,2794,1,22,21982,2,20101012,1150,42.6748,145.7155,2309,253.2,251,2.3992,33.6092,2,-999.0000,9,143.98,2,82.78,2,36.56,2,0.01,2,2.70,2,-999.,9,-999.,9,-999.,9,-999,9,-999,9
49UF20101002,KS10-07,2794,1,21,21981,2,20101012,1148,42.6748,145.7155,2309,302.5,300,2.6304,33.7250,2,-999.0000,9,110.82,2,91.43,2,38.47,2,0.01,2,2.82,2,-999.,9,-999.,9,-999.,9,-999,9,-999,9
49UF20101002,KS10-07,2794,1,20,21980,3,20101012,1145,42.6748,145.7155,2309,405.8,402,3.0902,33.9046,2,33.9024,2,69.42,4,103.38,2,41.40,2,0.00,2,2.98,2,-999.,9,-999.,9,-999.,9,-999,9,-999,9
49UF20101002,KS10-07,2794,1,19,21978,3,20101012,1142,42.6748,145.7155,2309,506.2,502,3.1278,34.0225,2,-999.0000,9,47.88,2,114.13,2,42.24,2,0.00,2,3.03,2,-999.,9,-999.,9,-999.,9,-999,9,-999,9
49UF20101002,KS10-07,2794,1,15,21974,2,20101012,1139,42.6748,145.7155,2309,607.5,602,3.5534,34.1956,2,34.2029,4,45.56,6,117.78,6,41.19,6,0.00,6,2.96,6,-999.,9,-999.,9,-999.,9,-999,9,-999,9
49UF20101002,KS10-07,2794,1,14,21973,3,20101012,1136,42.6748,145.7155,2309,707.8,701,3.0617,34.2099,2,-999.0000,9,31.15,2,131.86,2,43.05,2,0.00,2,3.07,2,-999.,9,-999.,9,-999.,9,-999,9,-999,9
49UF20101002,KS10-07,2794,1,13,21972,2,20101012,1133,42.6748,145.7155,2309,808.9,801,2.9272,34.2799,2,34.2826,2,28.97,2,139.67,2,43.17,2,0.00,2,3.08,2,-999.,9,-999.,9,-999.,9,-999,9,-999,9
49UF20101002,KS10-07,2794,1,12,21971,2,20101012,1130,42.6748,145.7155,2309,910.8,902,2.7470,34.3267,2,-999.0000,9,32.74,2,145.08,2,42.80,2,0.00,2,3.06,2,-999.,9,-999.,9,-999.,9,-999,9,-999,9
49UF20101002,KS10-07,2794,1,11,21970,2,20101012,1127,42.6748,145.7155,2309,1010.6,1000,2.6150,34.3521,2,34.3540,6,35.61,2,149.50,2,42.65,2,0.00,2,3.05,2,-999.,9,-999.,9,-999.,9,-999,9,-999,9
49UF20101002,KS10-07,2794,1,10,21969,2,20101012,1122,42.6748,145.7155,2309,1213.1,1200,2.4671,34.4317,2,34.4334,6,39.28,2,155.80,2,42.54,2,0.00,2,3.04,2,-999.,9,-999.,9,-999.,9,-999,9,-999,9
49UF20101002,KS10-07,2794,1,6,21965,2,20101012,1118,42.6748,145.7155,2309,1416.3,1400,2.3337,34.4832,2,-999.0000,9,46.76,2,159.43,2,42.19,2,0.00,2,3.00,2,-999.,9,-999.,9,-999.,9,-999,9,-999,9
49UF20101002,KS10-07,2794,1,5,21964,2,20101012,1118,42.6748,145.7155,2309,1416.3,1400,2.3337,34.4832,2,34.4846,2,46.51,2,159.31,2,42.29,2,0.00,2,3.01,2,-999.,9,-999.,9,-999.,9,-999,9,-999,9
49UF20101002,KS10-07,2794,1,4,21963,2,20101012,1113,42.6748,145.7155,2309,1619.9,1601,2.2181,34.5312,2,-999.0000,9,53.92,2,161.09,2,41.97,2,0.00,2,2.97,2,-999.,9,-999.,9,-999.,9,-999,9,-999,9
49UF20101002,KS10-07,2794,1,3,21962,2,20101012,1113,42.6748,145.7155,2309,1619.9,1601,2.2181,34.5312,2,34.5326,2,54.32,2,161.26,2,41.97,2,0.00,2,2.98,2,-999.,9,-999.,9,-999.,9,-999,9,-999,9
49UF20101002,KS10-07,2794,1,2,21961,2,20101012,1108,42.6748,145.7155,2309,1821.1,1799,2.0952,34.5623,2,34.5645,2,62.78,2,162.54,2,41.47,2,0.00,2,2.93,2,-999.,9,-999.,9,-999.,9,-999,9,-999,9
49UF20101002,KS10-07,2794,1,1,21960,2,20101012,1104,42.6748,145.7155,2309,2025.5,2000,1.9668,34.5884,2,34.5901,2,74.90,2,162.69,2,40.80,2,0.00,2,2.88,2,-999.,9,-999.,9,-999.,9,-999,9,-999,9