BOTTLE,20171117JMAGEMD
EXPOCODE,SECT_ID,STNNBR,CASTNO,SAMPNO,BTLNBR,BTLNBR_FLAG_W,DATE,TIME,LATITUDE,LONGITUDE,DEPTH,CTDPRS,CTDDEP,CTDTMP,CTDSAL,CTDSAL_FLAG_W,SALNTY,SALNTY_FLAG_W,OXYGEN,OXYGEN_FLAG_W,SILCAT,SILCAT_FLAG_W,NO2+NO3,NO2+NO3_FLAG_W,NITRIT,NITRIT_FLAG_W,PHSPHT,PHSPHT_FLAG_W,TCARBN,TCARBN_FLAG_W,ALKALI,ALKALI_FLAG_W,PH_TOT,PH_TOT_FLAG_W,CFC-11,CFC-11_FLAG_W,CFC-12,CFC-12_FLAG_W
,,,,,,,UTC,UTC,,,METER,DBAR,METERS,ITS-90,PSS-78,,PSS-78,,UMOL/KG,,UMOL/KG,,UMOL/KG,,UMOL/KG,,UMOL/KG,,UMOL/KG,,UMOL/KG,,@25DEG-C,,PMOL/KG,,PMOL/KG,
49UF20101002,KS10-07,2802,1,-999,0,2,20101021,0325,40.3255,136.0008,2399,0.0,0,17.7541,33.5980,2,-999.0000,9,241.66,2,2.57,2,0.02,2,0.00,2,0.00,2,-999.,9,-999.,9,-999.,9,-999,9,-999,9
49UF20101002,KS10-07,2802,1,34,21994,2,20101021,0349,40.3255,136.0008,2399,12.7,13,17.7545,33.5983,2,33.5970,6,242.28,6,2.60,6,0.01,6,0.00,6,0.00,6,-999.,9,-999.,9,-999.,9,-999,9,-999,9
49UF20101002,KS10-07,2802,1,33,21993,2,20101021,0347,40.3255,136.0008,2399,27.7,27,17.7538,33.5905,2,-999.0000,9,255.50,2,2.64,2,0.01,2,0.00,2,0.02,2,-999.,9,-999.,9,-999.,9,-999,9,-999,9
49UF20101002,KS10-07,2802,1,30,21990,2,20101021,0343,40.3255,136.0008,2399,52.1,52,5.9516,33.9837,2,-999.0000,9,327.62,2,4.81,2,2.57,2,0.23,2,0.38,2,-999.,9,-999.,9,-999.,9,-999,9,-999,9
49UF20101002,KS10-07,2802,1,29,21989,2,20101021,0342,40.3255,136.0008,2399,77.6,77,3.3519,34.0370,2,-999.0000,9,279.19,2,15.99,2,13.53,2,0.03,2,1.00,2,-999.,9,-999.,9,-999.,9,-999,9,-999,9
49UF20101002,KS10-07,2802,1,28,21988,2,20101021,0341,40.3255,136.0008,2399,104.3,103,2.3451,34.0536,2,34.0525,6,272.30,2,21.00,2,15.83,2,0.01,2,1.16,2,-999.,9,-999.,9,-999.,9,-999,9,-999,9
49UF20101002,KS10-07,2802,1,27,21987,2,20101021,0339,40.3255,136.0008,2399,128.5,127,1.9726,34.0549,2,-999.0000,9,265.60,2,24.01,2,17.29,2,0.01,2,1.29,2,-999.,9,-999.,9,-999.,9,-999,9,-999,9
49UF20101002,KS10-07,2802,1,26,21986,2,20101021,0338,40.3255,136.0008,2399,156.2,155,1.6442,34.0582,2,-999.0000,9,260.25,2,26.29,2,18.37,2,0.00,2,1.37,2,-999.,9,-999.,9,-999.,9,-999,9,-999,9
49UF20101002,KS10-07,2802,1,25,21985,2,20101021,0336,40.3255,136.0008,2399,206.0,204,1.2317,34.0666,2,34.0659,2,248.87,2,30.98,2,20.23,2,0.00,2,1.52,2,-999.,9,-999.,9,-999.,9,-999,9,-999,9
49UF20101002,KS10-07,2802,1,22,21982,2,20101021,0334,40.3255,136.0008,2399,257.4,255,1.0082,34.0685,2,-999.0000,9,244.86,2,32.93,2,21.10,2,0.00,2,1.59,2,-999.,9,-999.,9,-999.,9,-999,9,-999,9
49UF20101002,KS10-07,2802,1,21,21981,2,20101021,0332,40.3255,136.0008,2399,307.8,305,0.8693,34.0708,2,-999.0000,9,238.14,2,35.67,2,22.03,2,0.00,2,1.67,2,-999.,9,-999.,9,-999.,9,-999,9,-999,9
49UF20101002,KS10-07,2802,1,20,21980,2,20101021,0329,40.3255,136.0008,2399,408.5,405,0.6657,34.0736,2,34.0725,2,228.01,2,41.47,2,23.30,2,0.00,2,1.79,2,-999.,9,-999.,9,-999.,9,-999,9,-999,9
49UF20101002,KS10-07,2802,1,19,21978,2,20101021,0326,40.3255,136.0008,2399,509.7,505,0.5675,34.0740,2,-999.0000,9,222.17,6,46.19,6,23.87,6,0.00,6,1.85,6,-999.,9,-999.,9,-999.,9,-999,9,-999,9
49UF20101002,KS10-07,2802,1,18,21977,2,20101021,0323,40.3255,136.0008,2399,610.8,605,0.4772,34.0737,2,-999.0000,9,218.35,2,50.69,2,24.14,2,0.00,2,1.86,2,-999.,9,-999.,9,-999.,9,-999,9,-999,9
49UF20101002,KS10-07,2802,1,17,21976,2,20101021,0323,40.3255,136.0008,2399,610.8,605,0.4772,34.0737,2,34.0730,2,218.75,2,50.67,2,24.17,2,0.00,2,1.87,2,-999.,9,-999.,9,-999.,9,-999,9,-999,9
49UF20101002,KS10-07,2802,1,14,21973,2,20101021,0320,40.3255,136.0008,2399,709.8,703,0.4052,34.0730,2,-999.0000,9,214.55,2,55.24,2,24.43,2,0.00,2,1.88,2,-999.,9,-999.,9,-999.,9,-999,9,-999,9
49UF20101002,KS10-07,2802,1,13,21972,2,20101021,0320,40.3255,136.0008,2399,709.8,703,0.4052,34.0730,2,-999.0000,9,215.21,2,55.18,2,24.49,2,0.00,2,1.89,2,-999.,9,-999.,9,-999.,9,-999,9,-999,9
49UF20101002,KS10-07,2802,1,12,21971,2,20101021,0318,40.3255,136.0008,2399,810.7,803,0.3654,34.0722,2,34.0713,2,212.07,2,58.27,2,24.64,2,0.00,2,1.90,2,-999.,9,-999.,9,-999.,9,-999,9,-999,9
49UF20101002,KS10-07,2802,1,11,21970,2,20101021,0315,40.3255,136.0008,2399,913.4,904,0.3174,34.0716,2,-999.0000,9,209.65,2,62.78,2,24.85,2,0.00,2,1.92,2,-999.,9,-999.,9,-999.,9,-999,9,-999,9
49UF20101002,KS10-07,2802,1,10,21969,2,20101021,0312,40.3255,136.0008,2399,1014.4,1004,0.2773,34.0708,2,34.0707,2,209.03,2,67.47,2,24.98,2,0.00,2,1.94,2,-999.,9,-999.,9,-999.,9,-999,9,-999,9
49UF20101002,KS10-07,2802,1,9,21968,2,20101021,0308,40.3255,136.0008,2399,1216.0,1203,0.2518,34.0703,2,34.0691,2,205.78,2,72.23,2,25.15,2,0.00,2,1.96,2,-999.,9,-999.,9,-999.,9,-999,9,-999,9
49UF20101002,KS10-07,2802,1,6,21965,2,20101021,0303,40.3255,136.0008,2399,1419.4,1404,0.2372,34.0698,2,34.0697,2,204.29,2,75.64,2,25.20,2,0.00,2,1.97,2,-999.,9,-999.,9,-999.,9,-999,9,-999,9
49UF20101002,KS10-07,2802,1,5,21964,2,20101021,0259,40.3255,136.0008,2399,1619.7,1601,0.2271,34.0695,2,34.0685,2,203.54,2,78.02,2,25.23,2,0.00,2,1.97,2,-999.,9,-999.,9,-999.,9,-999,9,-999,9
49UF20101002,KS10-07,2802,1,4,21963,2,20101021,0255,40.3255,136.0008,2399,1822.8,1801,0.2185,34.0694,2,34.0684,2,203.69,2,80.17,2,25.19,2,0.00,2,1.97,2,-999.,9,-999.,9,-999.,9,-999,9,-999,9
49UF20101002,KS10-07,2802,1,3,21962,2,20101021,0251,40.3255,136.0008,2399,2026.1,2001,0.2163,34.0692,2,34.0686,2,203.77,2,83.59,2,25.38,2,0.00,2,1.99,2,-999.,9,-999.,9,-999.,9,-999,9,-999,9
49UF20101002,KS10-07,2802,1,2,21961,2,20101021,0245,40.3255,136.0008,2399,2280.6,2251,0.2162,34.0691,2,-999.0000,5,205.15,2,85.52,2,25.49,2,0.00,2,1.98,2,-999.,9,-999.,9,-999.,9,-999,9,-999,9
49UF20101002,KS10-07,2802,1,1,21960,2,20101021,0244,40.3255,136.0008,2399,2341.5,2311,0.2200,34.0692,2,34.0677,2,205.50,2,85.56,2,25.43,2,0.00,2,1.98,2,-999.,9,-999.,9,-999.,9,-999,9,-999,9
49UF20101002,KS10-07,2803,1,-999,0,2,20101021,1030,40.4742,136.29,3031,0.0,0,17.4722,33.5833,2,-999.,9,243.58,2,2.61,2,0.00,2,0.00,2,0.01,2,-999.,9,-999.,9,-999.,9,-999,9,-999,9
49UF20101002,KS10-07,2803,1,35,21995,2,20101021,1047,40.4742,136.29,3031,12.2,12,17.4714,33.5828,2,-999.,9,243.04,2,2.57,2,0.00,2,0.00,2,0.00,2,-999.,9,-999.,9,-999.,9,-999,9,-999,9
49UF20101002,KS10-07,2803,1,34,21994,2,20101021,1046,40.4742,136.29,3031,26.8,27,17.3897,33.5616,2,-999.,9,269.78,6,3.10,6,0.01,6,0.00,6,0.03,6,-999.,9,-999.,9,-999.,9,-999,9,-999,9
49UF20101002,KS10-07,2803,1,33,21993,2,20101021,1041,40.4742,136.29,3031,52.3,52,6.0049,34.0223,2,-999.,9,305.06,2,7.09,2,5.68,2,0.42,2,0.54,2,-999.,9,-999.,9,-999.,9,-999,9,-999,9
49UF20101002,KS10-07,2803,1,32,21992,2,20101021,1040,40.4742,136.29,3031,76.7,76,3.5032,34.0233,2,-999.,9,287.35,2,13.49,2,12.37,2,0.05,2,0.91,2,-999.,9,-999.,9,-999.,9,-999,9,-999,9
49UF20101002,KS10-07,2803,1,30,21990,2,20101021,1038,40.4742,136.29,3031,101.9,101,2.2133,34.0323,2,-999.,9,299.11,2,15.32,2,13.08,2,0.01,2,0.97,2,-999.,9,-999.,9,-999.,9,-999,9,-999,9
49UF20101002,KS10-07,2803,1,29,21989,2,20101021,1037,40.4742,136.29,3031,127.9,127,1.8890,34.0431,2,-999.,9,304.24,2,16.60,2,13.12,2,0.01,2,0.97,2,-999.,9,-999.,9,-999.,9,-999,9,-999,9
49UF20101002,KS10-07,2803,1,28,21988,2,20101021,1036,40.4742,136.29,3031,152.8,152,1.7574,34.0570,2,-999.,9,304.84,2,17.46,2,13.11,2,0.00,2,0.97,2,-999.,9,-999.,9,-999.,9,-999,9,-999,9
49UF20101002,KS10-07,2803,1,27,21987,2,20101021,1034,40.4742,136.29,3031,204.3,203,1.4841,34.0629,2,-999.,9,297.78,2,20.49,2,14.52,2,0.00,2,1.08,2,-999.,9,-999.,9,-999.,9,-999,9,-999,9
49UF20101002,KS10-07,2803,1,26,21986,2,20101021,1033,40.4742,136.29,3031,254.6,252,1.2012,34.0682,2,-999.,9,276.36,2,26.01,2,17.46,2,0.00,2,1.30,2,-999.,9,-999.,9,-999.,9,-999,9,-999,9
49UF20101002,KS10-07,2803,1,25,21985,2,20101021,1031,40.4742,136.29,3031,304.8,302,1.0276,34.0692,2,-999.,9,268.14,2,28.83,2,18.78,2,0.00,2,1.40,2,-999.,9,-999.,9,-999.,9,-999,9,-999,9
49UF20101002,KS10-07,2803,1,22,21982,2,20101021,1029,40.4742,136.29,3031,404.4,401,0.7973,34.0726,2,-999.,9,240.11,2,36.47,2,22.08,2,0.00,2,1.68,2,-999.,9,-999.,9,-999.,9,-999,9,-999,9
49UF20101002,KS10-07,2803,1,21,21981,2,20101021,1026,40.4742,136.29,3031,506.3,502,0.6565,34.0747,2,-999.,9,232.53,2,41.85,2,22.82,2,0.01,2,1.78,2,-999.,9,-999.,9,-999.,9,-999,9,-999,9
49UF20101002,KS10-07,2803,1,20,21980,3,20101021,1023,40.4742,136.29,3031,607.4,602,0.5560,34.0745,2,-999.,9,229.34,6,45.58,6,23.28,6,0.00,6,1.81,6,-999.,9,-999.,9,-999.,9,-999,9,-999,9
49UF20101002,KS10-07,2803,1,19,21978,2,20101021,1021,40.4742,136.29,3031,708.0,701,0.4575,34.0737,2,-999.,9,216.51,2,52.66,2,24.35,2,0.00,2,1.88,2,-999.,9,-999.,9,-999.,9,-999,9,-999,9
49UF20101002,KS10-07,2803,1,18,21977,2,20101021,1018,40.4742,136.29,3031,809.7,802,0.4017,34.0726,2,-999.,9,212.94,2,56.17,2,24.58,2,0.00,2,1.90,2,-999.,9,-999.,9,-999.,9,-999,9,-999,9
49UF20101002,KS10-07,2803,1,17,21976,2,20101021,1018,40.4742,136.29,3031,809.7,802,0.4017,34.0726,2,-999.,9,212.98,2,56.03,2,24.64,2,0.00,2,1.89,2,-999.,9,-999.,9,-999.,9,-999,9,-999,9
49UF20101002,KS10-07,2803,1,14,21973,2,20101021,1015,40.4742,136.29,3031,909.9,901,0.3537,34.0718,2,-999.,9,210.79,2,59.52,2,24.75,2,0.00,2,1.91,2,-999.,9,-999.,9,-999.,9,-999,9,-999,9
49UF20101002,KS10-07,2803,1,13,21972,2,20101021,1015,40.4742,136.29,3031,909.9,901,0.3537,34.0718,2,-999.,9,210.98,2,59.56,2,24.80,2,0.00,2,1.92,2,-999.,9,-999.,9,-999.,9,-999,9,-999,9
49UF20101002,KS10-07,2803,1,12,21971,2,20101021,1013,40.4742,136.29,3031,1011.7,1001,0.3122,34.0712,2,-999.,9,209.18,2,62.91,2,24.96,2,0.00,2,1.92,2,-999.,9,-999.,9,-999.,9,-999,9,-999,9
49UF20101002,KS10-07,2803,1,11,21970,2,20101021,1008,40.4742,136.29,3031,1214.6,1202,0.2644,34.0702,2,-999.,9,207.84,2,68.11,2,25.09,2,0.00,2,1.94,2,-999.,9,-999.,9,-999.,9,-999,9,-999,9
49UF20101002,KS10-07,2803,1,10,21969,2,20101021,1004,40.4742,136.29,3031,1417.2,1402,0.2348,34.0696,2,-999.,9,206.51,2,72.63,2,25.19,2,0.00,2,1.95,2,-999.,9,-999.,9,-999.,9,-999,9,-999,9
49UF20101002,KS10-07,2803,1,9,21968,3,20101021,0959,40.4742,136.29,3031,1620.1,1601,0.2207,34.0693,2,-999.,9,205.94,2,75.74,2,25.13,2,0.00,2,1.95,2,-999.,9,-999.,9,-999.,9,-999,9,-999,9
49UF20101002,KS10-07,2803,1,6,21965,2,20101021,0955,40.4742,136.29,3031,1823.3,1801,0.2151,34.0692,2,-999.,9,204.94,2,79.12,2,25.38,2,0.00,2,1.98,2,-999.,9,-999.,9,-999.,9,-999,9,-999,9
49UF20101002,KS10-07,2803,1,5,21964,2,20101021,0950,40.4742,136.29,3031,2026.3,2001,0.2148,34.0692,2,-999.,9,204.67,2,81.70,2,25.43,2,0.00,2,1.98,2,-999.,9,-999.,9,-999.,9,-999,9,-999,9
49UF20101002,KS10-07,2803,1,4,21963,3,20101021,0944,40.4742,136.29,3031,2281.2,2251,0.2215,34.0692,2,-999.,9,204.96,2,84.29,2,25.51,2,0.00,2,1.99,2,-999.,9,-999.,9,-999.,9,-999,9,-999,9
49UF20101002,KS10-07,2803,1,3,21962,2,20101021,0939,40.4742,136.29,3031,2538.5,2504,0.2343,34.0691,2,-999.,9,205.26,2,85.69,2,25.59,2,0.00,2,1.98,2,-999.,9,-999.,9,-999.,9,-999,9,-999,9
49UF20101002,KS10-07,2803,1,2,21961,2,20101021,0933,40.4742,136.29,3031,2792.6,2753,0.2548,34.0690,2,-999.,9,204.98,2,85.60,2,25.54,2,0.00,2,1.98,2,-999.,9,-999.,9,-999.,9,-999,9,-999,9
49UF20101002,KS10-07,2803,1,1,21960,2,20101021,0928,40.4742,136.29,3031,3028.2,2983,0.2753,34.0689,2,-999.,9,205.37,2,85.93,2,25.51,2,0.00,2,1.98,2,-999.,9,-999.,9,-999.,9,-999,9,-999,9
49UF20101002,KS10-07,2804,1,-999,0,2,20101021,1520,40.8385,136.5612,3286,0.0,0,16.8898,33.5186,2,-999.,9,245.82,2,2.61,2,0.03,2,0.00,2,0.00,2,-999.,9,-999.,9,-999.,9,-999,9,-999,9
49UF20101002,KS10-07,2804,1,35,21995,2,20101021,1534,40.8385,136.5612,3286,12.5,12,16.8801,33.5160,2,-999.,9,246.04,2,2.48,2,0.01,2,0.00,2,0.00,2,-999.,9,-999.,9,-999.,9,-999,9,-999,9
49UF20101002,KS10-07,2804,1,34,21994,2,20101021,1533,40.8385,136.5612,3286,27.5,27,13.4194,33.7393,2,-999.,9,350.69,2,2.35,2,0.01,2,0.00,2,0.09,2,-999.,9,-999.,9,-999.,9,-999,9,-999,9
49UF20101002,KS10-07,2804,1,33,21993,2,20101021,1530,40.8385,136.5612,3286,53.0,53,4.8249,34.0049,2,-999.,9,318.18,6,7.04,6,5.98,6,0.46,6,0.55,6,-999.,9,-999.,9,-999.,9,-999,9,-999,9
49UF20101002,KS10-07,2804,1,32,21992,2,20101021,1529,40.8385,136.5612,3286,77.9,77,2.7172,34.0215,2,-999.,9,287.03,2,15.19,2,13.33,2,0.02,2,0.97,2,-999.,9,-999.,9,-999.,9,-999,9,-999,9
49UF20101002,KS10-07,2804,1,30,21990,2,20101021,1528,40.8385,136.5612,3286,104.2,103,2.0155,34.0437,2,-999.,9,285.97,2,19.23,2,14.65,2,0.01,2,1.09,2,-999.,9,-999.,9,-999.,9,-999,9,-999,9
49UF20101002,KS10-07,2804,1,29,21989,2,20101021,1527,40.8385,136.5612,3286,128.6,128,1.7174,34.0486,2,-999.,9,292.18,2,19.80,2,14.59,2,0.01,2,1.08,2,-999.,9,-999.,9,-999.,9,-999,9,-999,9
49UF20101002,KS10-07,2804,1,28,21988,2,20101021,1525,40.8385,136.5612,3286,155.4,154,1.5923,34.0590,2,-999.,9,302.13,2,19.14,2,13.80,2,0.00,2,1.03,2,-999.,9,-999.,9,-999.,9,-999,9,-999,9
49UF20101002,KS10-07,2804,1,27,21987,2,20101021,1524,40.8385,136.5612,3286,204.5,203,1.2561,34.0598,2,-999.,9,282.10,2,24.18,2,16.43,2,0.00,2,1.23,2,-999.,9,-999.,9,-999.,9,-999,9,-999,9
49UF20101002,KS10-07,2804,1,26,21986,2,20101021,1522,40.8385,136.5612,3286,256.1,254,1.1135,34.0691,2,-999.,9,272.17,2,27.52,2,18.07,2,0.00,2,1.35,2,-999.,9,-999.,9,-999.,9,-999,9,-999,9
49UF20101002,KS10-07,2804,1,25,21985,2,20101021,1520,40.8385,136.5612,3286,307.5,305,0.9645,34.0709,2,-999.,9,263.09,2,30.43,2,19.34,2,0.00,2,1.45,2,-999.,9,-999.,9,-999.,9,-999,9,-999,9
49UF20101002,KS10-07,2804,1,22,21982,2,20101021,1517,40.8385,136.5612,3286,407.4,404,0.7810,34.0740,2,-999.,9,246.00,2,36.19,2,21.42,2,0.00,2,1.64,2,-999.,9,-999.,9,-999.,9,-999,9,-999,9
49UF20101002,KS10-07,2804,1,21,21981,2,20101021,1515,40.8385,136.5612,3286,509.0,504,0.6299,34.0746,2,-999.,9,240.98,2,40.53,2,22.14,2,0.00,2,1.71,2,-999.,9,-999.,9,-999.,9,-999,9,-999,9
49UF20101002,KS10-07,2804,1,20,21980,2,20101021,1512,40.8385,136.5612,3286,609.4,604,0.5329,34.0744,2,-999.,9,223.90,2,47.82,2,23.71,2,0.00,2,1.83,2,-999.,9,-999.,9,-999.,9,-999,9,-999,9
49UF20101002,KS10-07,2804,1,19,21978,2,20101021,1509,40.8385,136.5612,3286,709.7,703,0.4492,34.0736,2,-999.,9,217.44,6,52.33,6,24.21,6,0.00,6,1.87,6,-999.,9,-999.,9,-999.,9,-999,9,-999,9
49UF20101002,KS10-07,2804,1,18,21977,2,20101021,1506,40.8385,136.5612,3286,812.5,805,0.3924,34.0727,2,-999.,9,213.91,2,56.26,2,24.40,2,0.00,2,1.88,2,-999.,9,-999.,9,-999.,9,-999,9,-999,9
49UF20101002,KS10-07,2804,1,17,21976,2,20101021,1503,40.8385,136.5612,3286,912.4,903,0.3409,34.0719,2,-999.,9,210.73,2,60.30,2,24.65,2,0.00,2,1.90,2,-999.,9,-999.,9,-999.,9,-999,9,-999,9
49UF20101002,KS10-07,2804,1,14,21973,2,20101021,1501,40.8385,136.5612,3286,1014.7,1004,0.3080,34.0712,2,-999.,9,208.95,2,63.12,2,24.90,2,0.00,2,1.91,2,-999.,9,-999.,9,-999.,9,-999,9,-999,9
49UF20101002,KS10-07,2804,1,13,21972,4,20101021,1501,40.8385,136.5612,3286,1014.7,1004,0.3080,34.0712,2,-999.,9,290.39,4,19.21,4,10.71,4,0.14,4,0.86,4,-999.,9,-999.,9,-999.,9,-999,9,-999,9
49UF20101002,KS10-07,2804,1,12,21971,2,20101021,1456,40.8385,136.5612,3286,1215.6,1203,0.2526,34.0702,2,-999.,9,207.81,2,68.80,2,25.08,2,0.00,2,1.93,2,-999.,9,-999.,9,-999.,9,-999,9,-999,9
49UF20101002,KS10-07,2804,1,11,21970,2,20101021,1456,40.8385,136.5612,3286,1215.6,1203,0.2526,34.0702,2,-999.,9,207.85,2,68.83,2,24.95,2,0.00,2,1.93,2,-999.,9,-999.,9,-999.,9,-999,9,-999,9
49UF20101002,KS10-07,2804,1,10,21969,2,20101021,1451,40.8385,136.5612,3286,1417.4,1402,0.2278,34.0695,2,-999.,9,207.06,2,73.05,2,24.99,2,0.00,2,1.94,2,-999.,9,-999.,9,-999.,9,-999,9,-999,9
49UF20101002,KS10-07,2804,1,9,21968,2,20101021,1446,40.8385,136.5612,3286,1620.2,1601,0.2152,34.0691,2,-999.,9,205.81,2,75.98,2,25.06,2,0.00,2,1.94,2,-999.,9,-999.,9,-999.,9,-999,9,-999,9
49UF20101002,KS10-07,2804,1,8,21967,2,20101021,1442,40.8385,136.5612,3286,1823.1,1801,0.2102,34.0691,2,-999.,9,205.68,2,76.18,3,25.14,3,0.00,3,1.95,3,-999.,9,-999.,9,-999.,9,-999,9,-999,9
49UF20101002,KS10-07,2804,1,7,21966,2,20101021,1437,40.8385,136.5612,3286,2280.4,2251,0.2201,34.0692,2,-999.,9,205.60,2,78.91,2,25.16,2,0.00,2,1.96,2,-999.,9,-999.,9,-999.,9,-999,9,-999,9
49UF20101002,KS10-07,2804,1,5,21964,2,20101021,1432,40.8385,136.5612,3286,2280.4,2251,0.2201,34.0692,2,-999.,9,206.22,2,80.91,2,25.24,2,0.00,2,1.96,2,-999.,9,-999.,9,-999.,9,-999,9,-999,9
49UF20101002,KS10-07,2804,1,4,21963,2,20101021,1426,40.8385,136.5612,3286,2536.1,2501,0.2322,34.0691,2,-999.,9,206.90,2,83.25,2,25.29,2,0.00,2,1.97,2,-999.,9,-999.,9,-999.,9,-999,9,-999,9
49UF20101002,KS10-07,2804,1,3,21962,2,20101021,1421,40.8385,136.5612,3286,2790.6,2751,0.2522,34.0691,2,-999.,9,206.91,2,85.07,2,25.37,2,0.00,2,1.96,2,-999.,9,-999.,9,-999.,9,-999,9,-999,9
49UF20101002,KS10-07,2804,1,2,21961,2,20101021,1416,40.8385,136.5612,3286,3046.1,3001,0.2744,34.0690,2,-999.,9,206.18,2,85.46,2,25.48,2,0.00,2,1.97,2,-999.,9,-999.,9,-999.,9,-999,9,-999,9
49UF20101002,KS10-07,2804,1,1,21960,2,20101021,1411,40.8385,136.5612,3286,3275.4,3225,0.2957,34.0689,2,-999.,9,206.03,2,85.57,2,25.47,2,0.00,2,1.97,2,-999.,9,-999.,9,-999.,9,-999,9,-999,9