BOTTLE,20171117JMAGEMD
EXPOCODE,SECT_ID,STNNBR,CASTNO,SAMPNO,BTLNBR,BTLNBR_FLAG_W,DATE,TIME,LATITUDE,LONGITUDE,DEPTH,CTDPRS,CTDDEP,CTDTMP,CTDSAL,CTDSAL_FLAG_W,SALNTY,SALNTY_FLAG_W,OXYGEN,OXYGEN_FLAG_W,SILCAT,SILCAT_FLAG_W,NO2+NO3,NO2+NO3_FLAG_W,NITRIT,NITRIT_FLAG_W,PHSPHT,PHSPHT_FLAG_W,TCARBN,TCARBN_FLAG_W,ALKALI,ALKALI_FLAG_W,PH_TOT,PH_TOT_FLAG_W,CFC-11,CFC-11_FLAG_W,CFC-12,CFC-12_FLAG_W
,,,,,,,UTC,UTC,,,METER,DBAR,METERS,ITS-90,PSS-78,,PSS-78,,UMOL/KG,,UMOL/KG,,UMOL/KG,,UMOL/KG,,UMOL/KG,,UMOL/KG,,UMOL/KG,,@25DEG-C,,PMOL/KG,,PMOL/KG,
49UF20101002,KS10-07,2814,1,-999,0,2,20101023,1420,41.5025,137.9927,3692,0.0,0,17.1564,33.8898,2,-999.0000,9,243.84,2,2.40,2,0.13,3,0.00,3,0.03,2,-999.,9,-999.,9,-999.,9,-999,9,-999,9
49UF20101002,KS10-07,2814,1,35,21995,2,20101023,1436,41.5025,137.9927,3692,12.1,12,17.1656,33.8891,2,33.8920,4,245.86,2,2.31,2,0.01,3,0.00,3,0.00,2,-999.,9,-999.,9,-999.,9,-999,9,-999,9
49UF20101002,KS10-07,2814,1,34,21994,2,20101023,1434,41.5025,137.9927,3692,27.1,27,17.1629,33.8865,2,-999.0000,9,255.29,2,2.26,2,0.00,3,0.00,3,0.01,2,-999.,9,-999.,9,-999.,9,-999,9,-999,9
49UF20101002,KS10-07,2814,1,33,21993,2,20101023,1429,41.5025,137.9927,3692,52.6,52,5.2560,34.0559,2,-999.0000,9,299.01,2,9.70,2,8.68,3,0.35,3,0.70,2,-999.,9,-999.,9,-999.,9,-999,9,-999,9
49UF20101002,KS10-07,2814,1,32,21992,3,20101023,1428,41.5025,137.9927,3692,77.8,77,3.4269,34.0729,2,-999.0000,9,274.24,2,18.38,2,14.27,4,0.02,4,1.05,2,-999.,9,-999.,9,-999.,9,-999,9,-999,9
49UF20101002,KS10-07,2814,1,31,21991,2,20101023,1426,41.5025,137.9927,3692,102.9,102,2.5815,34.0696,2,34.0715,2,300.98,2,15.98,2,12.79,3,0.01,3,0.93,2,-999.,9,-999.,9,-999.,9,-999,9,-999,9
49UF20101002,KS10-07,2814,1,30,21990,2,20101023,1425,41.5025,137.9927,3692,128.5,127,2.1892,34.0616,2,-999.0000,9,304.90,2,16.63,2,12.94,3,0.01,3,0.95,2,-999.,9,-999.,9,-999.,9,-999,9,-999,9
49UF20101002,KS10-07,2814,1,29,21989,2,20101023,1424,41.5025,137.9927,3692,153.8,153,2.0141,34.0755,2,-999.0000,9,305.09,2,17.64,2,12.97,3,0.01,3,0.95,2,-999.,9,-999.,9,-999.,9,-999,9,-999,9
49UF20101002,KS10-07,2814,1,27,21987,2,20101023,1422,41.5025,137.9927,3692,204.7,203,1.6820,34.0743,2,34.0741,2,296.63,2,20.33,2,14.40,3,0.00,3,1.06,2,-999.,9,-999.,9,-999.,9,-999,9,-999,9
49UF20101002,KS10-07,2814,1,26,21986,2,20101023,1421,41.5025,137.9927,3692,254.0,252,1.3802,34.0743,2,-999.0000,9,280.43,2,24.46,2,16.71,3,0.00,3,1.23,2,-999.,9,-999.,9,-999.,9,-999,9,-999,9
49UF20101002,KS10-07,2814,1,25,21985,2,20101023,1419,41.5025,137.9927,3692,305.2,303,1.1945,34.0744,2,-999.0000,9,268.31,2,27.48,2,18.42,3,0.00,3,1.35,2,-999.,9,-999.,9,-999.,9,-999,9,-999,9
49UF20101002,KS10-07,2814,1,24,21984,2,20101023,1416,41.5025,137.9927,3692,405.8,402,0.8988,34.0743,2,34.0730,2,247.52,2,33.60,2,21.19,3,0.00,3,1.59,2,-999.,9,-999.,9,-999.,9,-999,9,-999,9
49UF20101002,KS10-07,2814,1,23,21983,2,20101023,1414,41.5025,137.9927,3692,506.9,502,0.7225,34.0744,2,-999.0000,9,230.93,2,40.28,2,22.98,3,0.00,3,1.76,2,-999.,9,-999.,9,-999.,9,-999,9,-999,9
49UF20101002,KS10-07,2814,1,22,21982,2,20101023,1411,41.5025,137.9927,3692,607.8,602,0.6096,34.0746,2,34.0743,2,225.44,6,44.56,6,23.59,3,0.00,3,1.81,6,-999.,9,-999.,9,-999.,9,-999,9,-999,9
49UF20101002,KS10-07,2814,1,20,21980,2,20101023,1409,41.5025,137.9927,3692,708.9,702,0.5108,34.0739,2,-999.0000,9,219.31,2,50.06,2,24.11,3,0.00,3,1.85,2,-999.,9,-999.,9,-999.,9,-999,9,-999,9
49UF20101002,KS10-07,2814,1,19,21978,2,20101023,1406,41.5025,137.9927,3692,809.6,802,0.4443,34.0732,2,34.0799,4,215.99,2,53.10,2,24.42,3,0.00,3,1.86,2,-999.,9,-999.,9,-999.,9,-999,9,-999,9
49UF20101002,KS10-07,2814,1,18,21977,2,20101023,1404,41.5025,137.9927,3692,910.6,902,0.3838,34.0722,2,-999.0000,9,213.21,2,57.20,2,24.72,3,0.00,3,1.89,2,-999.,9,-999.,9,-999.,9,-999,9,-999,9
49UF20101002,KS10-07,2814,1,17,21976,2,20101023,1401,41.5025,137.9927,3692,1012.3,1002,0.3412,34.0715,2,34.0699,6,211.34,2,59.98,2,24.86,3,0.00,3,1.90,2,-999.,9,-999.,9,-999.,9,-999,9,-999,9
49UF20101002,KS10-07,2814,1,16,21975,2,20101023,1357,41.5025,137.9927,3692,1214.5,1202,0.2743,34.0700,2,34.0719,6,208.74,2,65.81,2,25.02,3,0.00,3,1.91,2,-999.,9,-999.,9,-999.,9,-999,9,-999,9
49UF20101002,KS10-07,2814,1,15,21974,2,20101023,1352,41.5025,137.9927,3692,1417.6,1402,0.2371,34.0691,2,34.0682,2,208.39,2,70.64,2,25.12,3,0.00,3,1.93,2,-999.,9,-999.,9,-999.,9,-999,9,-999,9
49UF20101002,KS10-07,2814,1,13,21972,2,20101023,1348,41.5025,137.9927,3692,1620.5,1602,0.2224,34.0688,2,34.0715,2,207.81,2,73.82,2,25.17,3,0.00,3,1.93,2,-999.,9,-999.,9,-999.,9,-999,9,-999,9
49UF20101002,KS10-07,2814,1,12,21971,2,20101023,1344,41.5025,137.9927,3692,1824.0,1802,0.2139,34.0687,2,-999.0000,9,206.00,2,77.22,2,25.35,3,0.00,3,1.95,2,-999.,9,-999.,9,-999.,9,-999,9,-999,9
49UF20101002,KS10-07,2814,1,11,21970,2,20101023,1344,41.5025,137.9927,3692,1824.0,1802,0.2139,34.0687,2,34.0679,2,206.71,2,77.18,2,25.26,3,0.00,3,1.95,2,-999.,9,-999.,9,-999.,9,-999,9,-999,9
49UF20101002,KS10-07,2814,1,10,21969,2,20101023,1339,41.5025,137.9927,3692,2027.2,2002,0.2137,34.0684,2,-999.0000,9,205.73,2,79.63,2,25.34,3,0.00,3,1.95,2,-999.,9,-999.,9,-999.,9,-999,9,-999,9
49UF20101002,KS10-07,2814,1,9,21968,2,20101023,1339,41.5025,137.9927,3692,2027.2,2002,0.2137,34.0684,2,34.0691,2,206.77,2,79.49,2,25.28,3,0.00,3,1.95,2,-999.,9,-999.,9,-999.,9,-999,9,-999,9
49UF20101002,KS10-07,2814,1,8,21967,2,20101023,1334,41.5025,137.9927,3692,2282.1,2252,0.2211,34.0687,2,-999.0000,9,206.57,2,82.18,2,25.41,3,0.00,3,1.96,2,-999.,9,-999.,9,-999.,9,-999,9,-999,9
49UF20101002,KS10-07,2814,1,6,21965,2,20101023,1328,41.5025,137.9927,3692,2536.5,2502,0.2308,34.0687,2,34.0682,2,206.79,6,84.79,6,25.44,3,0.00,3,1.97,6,-999.,9,-999.,9,-999.,9,-999,9,-999,9
49UF20101002,KS10-07,2814,1,5,21964,2,20101023,1323,41.5025,137.9927,3692,2792.1,2752,0.2509,34.0687,2,-999.0000,9,206.33,2,85.01,2,25.55,3,0.00,3,1.96,2,-999.,9,-999.,9,-999.,9,-999,9,-999,9
49UF20101002,KS10-07,2814,1,4,21963,2,20101023,1317,41.5025,137.9927,3692,3047.4,3002,0.2728,34.0688,2,34.0685,2,206.67,2,84.97,2,25.46,3,0.00,3,1.96,2,-999.,9,-999.,9,-999.,9,-999,9,-999,9
49UF20101002,KS10-07,2814,1,3,21962,2,20101023,1311,41.5025,137.9927,3692,3303.1,3252,0.2962,34.0687,2,-999.0000,9,207.00,2,85.09,2,25.49,3,0.00,3,1.96,2,-999.,9,-999.,9,-999.,9,-999,9,-999,9
49UF20101002,KS10-07,2814,1,2,21961,2,20101023,1306,41.5025,137.9927,3692,3558.6,3501,0.3208,34.0684,2,34.0673,2,206.35,2,85.14,2,25.50,3,0.00,3,1.97,2,-999.,9,-999.,9,-999.,9,-999,9,-999,9
49UF20101002,KS10-07,2814,1,1,21960,2,20101023,1302,41.5025,137.9927,3692,3682.7,3622,0.3331,34.0683,2,34.0683,2,206.47,2,85.18,2,25.54,3,0.00,3,1.97,2,-999.,9,-999.,9,-999.,9,-999,9,-999,9
49UF20101002,KS10-07,2815,1,-999,0,2,20101023,1910,41.1865,138.0245,3691,0.0,0,18.0610,33.4285,2,-999.,9,238.19,2,2.62,2,0.00,3,0.00,3,0.01,2,-999.,9,-999.,9,-999.,9,-999,9,-999,9
49UF20101002,KS10-07,2815,1,35,21995,3,20101023,1932,41.1865,138.0245,3691,11.4,11,18.0729,33.4320,2,-999.,9,238.32,2,2.49,2,0.00,4,0.00,4,0.00,2,-999.,9,-999.,9,-999.,9,-999,9,-999,9
49UF20101002,KS10-07,2815,1,34,21994,2,20101023,1931,41.1865,138.0245,3691,26.3,26,17.6922,33.7574,2,-999.,9,258.36,2,1.90,2,0.00,3,0.00,3,0.01,2,-999.,9,-999.,9,-999.,9,-999,9,-999,9
49UF20101002,KS10-07,2815,1,33,21993,2,20101023,1926,41.1865,138.0245,3691,51.8,51,4.9872,34.0624,2,-999.,9,303.37,2,9.60,2,8.30,3,0.46,3,0.68,2,-999.,9,-999.,9,-999.,9,-999,9,-999,9
49UF20101002,KS10-07,2815,1,32,21992,3,20101023,1925,41.1865,138.0245,3691,77.1,76,3.4733,34.0701,2,-999.,9,282.22,2,16.37,2,13.28,4,0.04,4,0.98,2,-999.,9,-999.,9,-999.,9,-999,9,-999,9
49UF20101002,KS10-07,2815,1,31,21991,2,20101023,1924,41.1865,138.0245,3691,102.5,102,2.7384,34.0726,2,-999.,9,288.69,2,17.70,2,13.54,3,0.01,3,0.99,2,-999.,9,-999.,9,-999.,9,-999,9,-999,9
49UF20101002,KS10-07,2815,1,30,21990,2,20101023,1922,41.1865,138.0245,3691,127.7,127,2.4238,34.0733,2,-999.,9,303.80,2,16.51,2,12.63,3,0.01,3,0.93,2,-999.,9,-999.,9,-999.,9,-999,9,-999,9
49UF20101002,KS10-07,2815,1,29,21989,2,20101023,1921,41.1865,138.0245,3691,152.6,151,2.1693,34.0736,2,-999.,9,305.44,2,17.18,2,12.78,3,0.01,3,0.94,2,-999.,9,-999.,9,-999.,9,-999,9,-999,9
49UF20101002,KS10-07,2815,1,27,21987,2,20101023,1919,41.1865,138.0245,3691,203.9,202,1.7899,34.0763,2,-999.,9,302.93,2,18.94,2,13.57,3,0.01,3,1.00,2,-999.,9,-999.,9,-999.,9,-999,9,-999,9
49UF20101002,KS10-07,2815,1,26,21986,2,20101023,1916,41.1865,138.0245,3691,254.5,252,1.4627,34.0718,2,-999.,9,290.09,2,22.28,2,15.48,3,0.01,3,1.14,2,-999.,9,-999.,9,-999.,9,-999,9,-999,9
49UF20101002,KS10-07,2815,1,25,21985,2,20101023,1914,41.1865,138.0245,3691,304.9,302,1.2177,34.0699,2,-999.,9,276.61,2,26.05,2,17.49,3,0.01,3,1.29,2,-999.,9,-999.,9,-999.,9,-999,9,-999,9
49UF20101002,KS10-07,2815,1,24,21984,2,20101023,1911,41.1865,138.0245,3691,405.7,402,0.9133,34.0721,2,-999.,9,256.13,2,32.29,2,20.31,3,0.01,3,1.52,2,-999.,9,-999.,9,-999.,9,-999,9,-999,9
49UF20101002,KS10-07,2815,1,23,21983,2,20101023,1908,41.1865,138.0245,3691,506.5,502,0.7421,34.0661,2,-999.,9,235.64,2,38.86,2,22.55,3,0.01,3,1.72,2,-999.,9,-999.,9,-999.,9,-999,9,-999,9
49UF20101002,KS10-07,2815,1,22,21982,2,20101023,1905,41.1865,138.0245,3691,608.6,603,0.6149,34.0745,2,-999.,9,229.42,2,43.63,2,23.29,3,0.00,3,1.79,2,-999.,9,-999.,9,-999.,9,-999,9,-999,9
49UF20101002,KS10-07,2815,1,20,21980,3,20101023,1902,41.1865,138.0245,3691,710.5,704,0.5233,34.0740,2,-999.,9,221.23,6,48.71,6,23.96,4,0.00,4,1.84,6,-999.,9,-999.,9,-999.,9,-999,9,-999,9
49UF20101002,KS10-07,2815,1,19,21978,3,20101023,1859,41.1865,138.0245,3691,812.9,805,0.4494,34.0733,2,-999.,9,216.28,2,53.06,2,24.44,4,0.00,4,1.87,2,-999.,9,-999.,9,-999.,9,-999,9,-999,9
49UF20101002,KS10-07,2815,1,18,21977,3,20101023,1856,41.1865,138.0245,3691,914.1,905,0.3918,34.0723,2,-999.,9,212.55,2,56.89,2,24.68,4,0.00,4,1.89,2,-999.,9,-999.,9,-999.,9,-999,9,-999,9
49UF20101002,KS10-07,2815,1,17,21976,2,20101023,1853,41.1865,138.0245,3691,1013.9,1004,0.3436,34.0714,2,-999.,9,210.54,2,60.10,2,24.81,3,0.00,3,1.90,2,-999.,9,-999.,9,-999.,9,-999,9,-999,9
49UF20101002,KS10-07,2815,1,16,21975,2,20101023,1848,41.1865,138.0245,3691,1217.8,1205,0.2801,34.0700,2,-999.,9,208.34,2,65.90,2,25.00,3,0.00,3,1.93,2,-999.,9,-999.,9,-999.,9,-999,9,-999,9
49UF20101002,KS10-07,2815,1,14,21973,2,20101023,1843,41.1865,138.0245,3691,1418.4,1403,0.2438,34.0691,2,-999.,9,207.78,2,70.14,2,25.16,3,0.00,3,1.92,2,-999.,9,-999.,9,-999.,9,-999,9,-999,9
49UF20101002,KS10-07,2815,1,13,21972,2,20101023,1838,41.1865,138.0245,3691,1622.4,1604,0.2248,34.0690,2,-999.,9,206.79,2,74.01,2,25.20,3,0.00,3,1.94,2,-999.,9,-999.,9,-999.,9,-999,9,-999,9
49UF20101002,KS10-07,2815,1,12,21971,3,20101023,1834,41.1865,138.0245,3691,1824.6,1803,0.2173,34.0686,2,-999.,9,206.05,2,76.85,2,25.31,4,0.00,4,1.95,2,-999.,9,-999.,9,-999.,9,-999,9,-999,9
49UF20101002,KS10-07,2815,1,11,21970,2,20101023,1830,41.1865,138.0245,3691,2026.6,2001,0.2170,34.0686,2,-999.,9,205.69,2,79.30,2,25.35,3,0.00,3,1.96,2,-999.,9,-999.,9,-999.,9,-999,9,-999,9
49UF20101002,KS10-07,2815,1,10,21969,3,20101023,1824,41.1865,138.0245,3691,2283.9,2254,0.2221,34.0686,2,-999.,9,205.83,2,82.27,2,25.34,4,0.00,4,1.96,2,-999.,9,-999.,9,-999.,9,-999,9,-999,9
49UF20101002,KS10-07,2815,1,9,21968,3,20101023,1824,41.1865,138.0245,3691,2283.9,2254,0.2221,34.0686,2,-999.,9,205.86,2,82.22,2,25.39,4,0.00,4,1.96,2,-999.,9,-999.,9,-999.,9,-999,9,-999,9
49UF20101002,KS10-07,2815,1,7,21966,2,20101023,1819,41.1865,138.0245,3691,2539.7,2505,0.2307,34.0687,2,-999.,9,206.16,2,85.04,2,25.45,3,0.00,3,1.97,2,-999.,9,-999.,9,-999.,9,-999,9,-999,9
49UF20101002,KS10-07,2815,1,6,21965,2,20101023,1819,41.1865,138.0245,3691,2539.7,2505,0.2307,34.0687,2,-999.,9,206.28,2,85.30,2,25.53,3,0.00,3,1.97,2,-999.,9,-999.,9,-999.,9,-999,9,-999,9
49UF20101002,KS10-07,2815,1,5,21964,3,20101023,1813,41.1865,138.0245,3691,2793.2,2753,0.2510,34.0687,2,-999.,9,206.59,6,85.33,6,25.48,4,0.00,4,1.97,6,-999.,9,-999.,9,-999.,9,-999,9,-999,9
49UF20101002,KS10-07,2815,1,4,21963,3,20101023,1808,41.1865,138.0245,3691,3048.8,3003,0.2732,34.0686,2,-999.,9,206.72,2,85.39,2,25.51,4,0.00,4,1.97,2,-999.,9,-999.,9,-999.,9,-999,9,-999,9
49UF20101002,KS10-07,2815,1,3,21962,2,20101023,1802,41.1865,138.0245,3691,3304.7,3254,0.2966,34.0685,2,-999.,9,206.81,2,85.40,2,25.55,3,0.00,3,1.97,2,-999.,9,-999.,9,-999.,9,-999,9,-999,9
49UF20101002,KS10-07,2815,1,2,21961,2,20101023,1757,41.1865,138.0245,3691,3560.6,3503,0.3210,34.0683,2,-999.,9,206.46,2,85.40,2,25.54,3,0.00,3,1.97,2,-999.,9,-999.,9,-999.,9,-999,9,-999,9
49UF20101002,KS10-07,2815,1,1,21960,3,20101023,1754,41.1865,138.0245,3691,3663.0,3603,0.3311,34.0682,2,-999.,9,206.49,2,85.44,2,25.54,4,0.00,4,1.97,2,-999.,9,-999.,9,-999.,9,-999,9,-999,9
49UF20101002,KS10-07,2816,1,-999,0,2,20101023,2355,40.8368,138.0218,3656,0.0,0,17.7029,33.5917,2,-999.,9,240.89,2,2.59,2,0.00,2,0.00,2,0.00,2,-999.0,9,-999.0,9,-999.0000,9,-999,9,-999,9
49UF20101002,KS10-07,2816,1,35,21995,2,20101023,0009,40.8368,138.0218,3656,11.9,12,17.7003,33.5984,2,-999.,9,241.40,2,2.50,2,0.00,2,0.00,2,0.00,2,1980.4,2,2251.4,2,7.9930,2,-999,9,-999,9
49UF20101002,KS10-07,2816,1,34,21994,2,20101023,0008,40.8368,138.0218,3656,27.2,27,17.5939,33.7767,2,-999.,9,319.34,2,3.13,2,0.00,2,0.00,2,0.05,2,2023.3,2,2263.9,2,7.9450,2,-999,9,-999,9
49UF20101002,KS10-07,2816,1,33,21993,2,20101023,0003,40.8368,138.0218,3656,52.7,52,5.1999,34.0605,2,-999.,9,268.36,2,13.80,2,11.56,2,0.06,2,0.85,2,2130.7,2,2264.4,2,7.7093,2,-999,9,-999,9
49UF20101002,KS10-07,2816,1,32,21992,2,20101023,0002,40.8368,138.0218,3656,77.2,77,3.4646,34.0538,2,-999.,9,267.61,2,18.43,2,14.27,2,0.01,2,1.05,2,2158.9,2,2263.5,2,7.6416,2,-999,9,-999,9
49UF20101002,KS10-07,2816,1,31,21991,2,20101023,0001,40.8368,138.0218,3656,102.9,102,2.4229,34.0378,2,-999.,9,297.64,2,15.08,2,12.83,2,0.01,2,0.95,2,2155.1,2,2263.4,2,7.6518,2,-999,9,-999,9
49UF20101002,KS10-07,2816,1,30,21990,2,20101023,0000,40.8368,138.0218,3656,125.7,125,2.0160,34.0490,2,-999.,9,305.14,2,16.42,2,12.75,2,0.00,2,0.95,2,-999.0,9,-999.0,9,-999.0000,9,-999,9,-999,9
49UF20101002,KS10-07,2816,1,29,21989,2,20101023,2359,40.8368,138.0218,3656,153.0,152,1.7704,34.0560,2,-999.,9,305.26,2,17.39,2,12.85,2,0.00,2,0.96,2,-999.0,9,-999.0,9,-999.0000,9,-999,9,-999,9
49UF20101002,KS10-07,2816,1,27,21987,2,20101023,2357,40.8368,138.0218,3656,203.4,202,1.5298,34.0661,2,-999.,9,296.94,2,20.85,2,14.45,2,0.00,2,1.08,2,2164.7,2,2256.4,2,7.6225,2,-999,9,-999,9
49UF20101002,KS10-07,2816,1,26,21986,2,20101023,2355,40.8368,138.0218,3656,254.0,252,1.2117,34.0687,2,-999.,9,274.25,2,26.45,2,17.42,2,0.00,2,1.30,2,-999.0,9,-999.0,9,-999.0000,9,-999,9,-999,9
49UF20101002,KS10-07,2816,1,25,21985,2,20101023,2354,40.8368,138.0218,3656,304.6,302,1.0357,34.0709,2,-999.,9,263.26,2,29.82,2,18.91,2,0.00,2,1.42,2,-999.0,9,-999.0,9,-999.0000,9,-999,9,-999,9
49UF20101002,KS10-07,2816,1,24,21984,2,20101023,2351,40.8368,138.0218,3656,405.4,402,0.7946,34.0727,2,-999.,9,248.84,2,35.30,2,21.01,2,0.00,2,1.59,2,2210.9,6,2260.8,6,7.4927,6,-999,9,-999,9
49UF20101002,KS10-07,2816,1,23,21983,2,20101023,2349,40.8368,138.0218,3656,506.7,502,0.6558,34.0739,2,-999.,9,236.05,2,40.89,2,22.46,2,0.00,2,1.72,2,-999.0,9,-999.0,9,-999.0000,9,-999,9,-999,9
49UF20101002,KS10-07,2816,1,22,21982,2,20101023,2346,40.8368,138.0218,3656,607.4,602,0.5610,34.0739,2,-999.,9,225.06,2,46.38,2,23.50,2,0.00,2,1.81,2,2226.9,2,2262.0,2,7.4484,2,-999,9,-999,9
49UF20101002,KS10-07,2816,1,20,21980,2,20101023,2343,40.8368,138.0218,3656,708.8,702,0.4749,34.0732,2,-999.,9,-999.00,5,52.77,2,24.27,2,0.00,2,1.86,2,-999.0,9,-999.0,9,-999.0000,9,-999,9,-999,9
49UF20101002,KS10-07,2816,1,19,21978,2,20101023,2341,40.8368,138.0218,3656,810.1,802,0.4046,34.0723,2,-999.,9,212.95,6,55.96,6,24.51,6,0.00,6,1.87,6,2233.6,2,2266.4,2,7.4277,2,-999,9,-999,9
49UF20101002,KS10-07,2816,1,18,21977,2,20101023,2338,40.8368,138.0218,3656,911.1,902,0.3519,34.0714,2,-999.,9,211.48,2,59.05,2,24.70,2,0.00,2,1.89,2,-999.0,9,-999.0,9,-999.0000,9,-999,9,-999,9
49UF20101002,KS10-07,2816,1,17,21976,2,20101023,2336,40.8368,138.0218,3656,1012.2,1002,0.3257,34.0708,2,-999.,9,209.86,2,61.47,2,24.73,2,0.00,2,1.89,2,2238.9,6,2266.7,6,7.4227,6,-999,9,-999,9
49UF20101002,KS10-07,2816,1,16,21975,2,20101023,2331,40.8368,138.0218,3656,1214.6,1202,0.2616,34.0695,2,-999.,9,208.50,2,67.09,2,24.86,2,0.00,2,1.91,2,2242.8,2,2269.6,2,7.4260,2,-999,9,-999,9
49UF20101002,KS10-07,2816,1,15,21974,2,20101023,2327,40.8368,138.0218,3656,1417.4,1402,0.2330,34.0688,2,-999.,9,208.04,2,71.16,2,25.01,2,0.00,2,1.92,2,2244.6,2,2271.5,2,7.4299,2,-999,9,-999,9
49UF20101002,KS10-07,2816,1,13,21972,2,20101023,2323,40.8368,138.0218,3656,1620.2,1601,0.2201,34.0685,2,-999.,9,206.56,2,74.91,2,25.14,2,0.00,2,1.93,2,2248.1,2,2274.5,2,7.4261,2,-999,9,-999,9
49UF20101002,KS10-07,2816,1,12,21971,2,20101023,2318,40.8368,138.0218,3656,1824.0,1802,0.2134,34.0684,2,-999.,9,206.42,2,77.80,2,25.21,2,0.00,2,1.94,2,2251.3,2,2279.5,2,7.4289,2,-999,9,-999,9
49UF20101002,KS10-07,2816,1,11,21970,2,20101023,2313,40.8368,138.0218,3656,2027.8,2002,0.2141,34.0685,2,-999.,9,205.73,2,80.11,2,25.27,2,0.00,2,1.95,2,2253.4,2,2283.2,2,7.4313,2,-999,9,-999,9
49UF20101002,KS10-07,2816,1,10,21969,2,20101023,2308,40.8368,138.0218,3656,2281.7,2252,0.2207,34.0685,2,-999.,9,205.99,2,82.80,2,25.37,2,0.00,2,1.95,2,2254.7,2,2285.4,2,7.4356,2,-999,9,-999,9
49UF20101002,KS10-07,2816,1,9,21968,2,20101023,2303,40.8368,138.0218,3656,2537.2,2502,0.2312,34.0684,2,-999.,9,206.49,2,84.93,2,25.33,2,0.00,2,1.95,2,2256.0,2,2284.8,2,7.4384,2,-999,9,-999,9
49UF20101002,KS10-07,2816,1,7,21966,2,20101023,2257,40.8368,138.0218,3656,2792.3,2752,0.2511,34.0685,2,-999.,9,206.19,2,85.13,2,25.32,2,0.00,2,1.95,2,2252.7,2,2292.5,3,7.4449,2,-999,9,-999,9
49UF20101002,KS10-07,2816,1,6,21965,2,20101023,2257,40.8368,138.0218,3656,2792.3,2752,0.2511,34.0685,2,-999.,9,206.45,2,85.32,2,25.35,2,0.00,2,1.95,2,2253.4,2,2283.1,2,7.4394,2,-999,9,-999,9
49UF20101002,KS10-07,2816,1,5,21964,2,20101023,2252,40.8368,138.0218,3656,3047.4,3002,0.2734,34.0683,2,-999.,9,206.16,2,85.39,2,25.43,2,0.00,2,1.96,2,2252.2,2,2284.1,2,7.4401,2,-999,9,-999,9
49UF20101002,KS10-07,2816,1,4,21963,2,20101023,2252,40.8368,138.0218,3656,3047.4,3002,0.2734,34.0683,2,-999.,9,206.67,6,85.30,6,25.43,6,0.00,6,1.95,6,2250.5,2,2283.8,2,7.4386,2,-999,9,-999,9
49UF20101002,KS10-07,2816,1,3,21962,2,20101023,2246,40.8368,138.0218,3656,3302.9,3252,0.2962,34.0683,2,-999.,9,206.88,2,85.24,2,25.38,2,0.00,2,1.95,2,2253.8,2,2284.9,2,7.4406,2,-999,9,-999,9
49UF20101002,KS10-07,2816,1,2,21961,2,20101023,2241,40.8368,138.0218,3656,3557.8,3501,0.3207,34.0680,2,-999.,9,206.66,2,85.23,2,25.48,2,0.00,2,1.95,2,2254.9,2,2286.4,2,7.4385,2,-999,9,-999,9
49UF20101002,KS10-07,2816,1,1,21960,2,20101023,2238,40.8368,138.0218,3656,3641.4,3582,0.3290,34.0681,2,-999.,9,206.43,2,85.18,2,25.39,2,0.00,2,1.95,2,2251.7,2,2293.8,3,7.4375,2,-999,9,-999,9