BOTTLE,20171117JMAGEMD
EXPOCODE,SECT_ID,STNNBR,CASTNO,SAMPNO,BTLNBR,BTLNBR_FLAG_W,DATE,TIME,LATITUDE,LONGITUDE,DEPTH,CTDPRS,CTDDEP,CTDTMP,CTDSAL,CTDSAL_FLAG_W,SALNTY,SALNTY_FLAG_W,OXYGEN,OXYGEN_FLAG_W,SILCAT,SILCAT_FLAG_W,NO2+NO3,NO2+NO3_FLAG_W,NITRIT,NITRIT_FLAG_W,PHSPHT,PHSPHT_FLAG_W,TCARBN,TCARBN_FLAG_W,ALKALI,ALKALI_FLAG_W,PH_TOT,PH_TOT_FLAG_W,CFC-11,CFC-11_FLAG_W,CFC-12,CFC-12_FLAG_W
,,,,,,,UTC,UTC,,,METER,DBAR,METERS,ITS-90,PSS-78,,PSS-78,,UMOL/KG,,UMOL/KG,,UMOL/KG,,UMOL/KG,,UMOL/KG,,UMOL/KG,,UMOL/KG,,@25DEG-C,,PMOL/KG,,PMOL/KG,
49UF20101002,KS10-07,2805,1,-999,0,2,20101021,1950,41.1417,136.7893,3336,0.0,0,16.2349,33.5250,2,-999.,9,248.96,2,1.75,2,0.02,2,0.00,2,0.06,2,-999.,9,-999.,9,-999.,9,-999,9,-999,9
49UF20101002,KS10-07,2805,1,34,21994,2,20101021,2014,41.1417,136.7893,3336,11.6,12,16.2386,33.5246,2,-999.,9,249.06,2,1.66,2,0.00,2,0.00,2,0.00,2,-999.,9,-999.,9,-999.,9,-999,9,-999,9
49UF20101002,KS10-07,2805,1,33,21993,2,20101021,2013,41.1417,136.7893,3336,26.8,27,15.7318,33.5490,2,-999.,9,277.68,2,1.97,2,0.00,2,0.00,2,0.03,2,-999.,9,-999.,9,-999.,9,-999,9,-999,9
49UF20101002,KS10-07,2805,1,32,21992,2,20101021,2007,41.1417,136.7893,3336,51.6,51,4.4360,34.0242,2,-999.,9,301.88,2,9.22,2,8.20,2,0.26,2,0.68,2,-999.,9,-999.,9,-999.,9,-999,9,-999,9
49UF20101002,KS10-07,2805,1,31,21991,2,20101021,2006,41.1417,136.7893,3336,77.0,76,2.5069,34.0255,2,-999.,9,288.00,6,15.57,6,13.44,6,0.01,6,0.99,6,-999.,9,-999.,9,-999.,9,-999,9,-999,9
49UF20101002,KS10-07,2805,1,30,21990,2,20101021,2004,41.1417,136.7893,3336,102.1,101,2.0571,34.0355,2,-999.,9,296.86,2,16.34,2,13.52,2,0.00,2,0.99,2,-999.,9,-999.,9,-999.,9,-999,9,-999,9
49UF20101002,KS10-07,2805,1,29,21989,2,20101021,2003,41.1417,136.7893,3336,127.7,127,1.7369,34.0431,2,-999.,9,301.55,2,17.14,2,13.37,2,0.00,2,0.98,2,-999.,9,-999.,9,-999.,9,-999,9,-999,9
49UF20101002,KS10-07,2805,1,27,21987,2,20101021,2001,41.1417,136.7893,3336,153.2,152,1.6764,34.0591,2,-999.,9,297.72,2,18.90,2,14.07,2,0.00,2,1.04,2,-999.,9,-999.,9,-999.,9,-999,9,-999,9
49UF20101002,KS10-07,2805,1,26,21986,2,20101021,1959,41.1417,136.7893,3336,203.4,202,1.3697,34.0627,2,-999.,9,282.98,2,23.39,2,16.38,2,0.00,2,1.21,2,-999.,9,-999.,9,-999.,9,-999,9,-999,9
49UF20101002,KS10-07,2805,1,25,21985,2,20101021,1958,41.1417,136.7893,3336,253.5,251,1.0850,34.0633,2,-999.,9,277.40,2,25.96,2,17.45,2,0.00,2,1.30,2,-999.,9,-999.,9,-999.,9,-999,9,-999,9
49UF20101002,KS10-07,2805,1,24,21984,2,20101021,1956,41.1417,136.7893,3336,304.6,302,0.9395,34.0666,2,-999.,9,272.61,2,28.31,2,18.54,2,0.00,2,1.39,2,-999.,9,-999.,9,-999.,9,-999,9,-999,9
49UF20101002,KS10-07,2805,1,23,21983,2,20101021,1953,41.1417,136.7893,3336,405.2,402,0.7618,34.0723,2,-999.,9,253.65,2,34.28,2,20.93,2,0.00,2,1.58,2,-999.,9,-999.,9,-999.,9,-999,9,-999,9
49UF20101002,KS10-07,2805,1,22,21982,2,20101021,1951,41.1417,136.7893,3336,506.1,502,0.6506,34.0747,2,-999.,9,225.25,2,43.14,2,23.52,2,0.00,2,1.81,2,-999.,9,-999.,9,-999.,9,-999,9,-999,9
49UF20101002,KS10-07,2805,1,20,21980,2,20101021,1948,41.1417,136.7893,3336,607.4,602,0.5424,34.0748,2,-999.,9,222.96,2,46.95,2,23.88,2,0.00,2,1.84,2,-999.,9,-999.,9,-999.,9,-999,9,-999,9
49UF20101002,KS10-07,2805,1,19,21978,2,20101021,1945,41.1417,136.7893,3336,709.6,703,0.4640,34.0742,2,-999.,9,217.02,2,51.71,2,24.34,2,0.00,2,1.87,2,-999.,9,-999.,9,-999.,9,-999,9,-999,9
49UF20101002,KS10-07,2805,1,18,21977,2,20101021,1942,41.1417,136.7893,3336,809.9,802,0.3866,34.0728,2,-999.,9,211.87,6,56.82,6,24.67,6,0.00,6,1.90,6,-999.,9,-999.,9,-999.,9,-999,9,-999,9
49UF20101002,KS10-07,2805,1,17,21976,2,20101021,1939,41.1417,136.7893,3336,911.4,902,0.3362,34.0720,2,-999.,9,209.99,2,60.15,2,24.89,2,0.00,2,1.91,2,-999.,9,-999.,9,-999.,9,-999,9,-999,9
49UF20101002,KS10-07,2805,1,16,21975,2,20101021,1936,41.1417,136.7893,3336,1012.2,1002,0.2981,34.0712,2,-999.,9,208.72,2,63.45,2,24.93,2,0.00,2,1.92,2,-999.,9,-999.,9,-999.,9,-999,9,-999,9
49UF20101002,KS10-07,2805,1,15,21974,2,20101021,1932,41.1417,136.7893,3336,1217.7,1205,0.2506,34.0702,2,-999.,9,207.40,2,68.48,2,25.06,2,0.00,2,1.93,2,-999.,9,-999.,9,-999.,9,-999,9,-999,9
49UF20101002,KS10-07,2805,1,13,21972,4,20101021,1927,41.1417,136.7893,3336,1419.1,1403,0.2235,34.0695,2,-999.,9,-999.00,9,-999.00,9,-999.00,9,-999.00,9,-999.000,9,-999.,9,-999.,9,-999.,9,-999,9,-999,9
49UF20101002,KS10-07,2805,1,12,21971,2,20101021,1927,41.1417,136.7893,3336,1419.1,1403,0.2235,34.0695,2,-999.,9,206.27,2,72.91,2,25.19,2,0.00,2,1.95,2,-999.,9,-999.,9,-999.,9,-999,9,-999,9
49UF20101002,KS10-07,2805,1,11,21970,4,20101021,1922,41.1417,136.7893,3336,1621.7,1603,0.2094,34.0691,2,-999.,9,-999.00,9,-999.00,9,-999.00,9,-999.00,9,-999.000,9,-999.,9,-999.,9,-999.,9,-999,9,-999,9
49UF20101002,KS10-07,2805,1,10,21969,2,20101021,1922,41.1417,136.7893,3336,1621.7,1603,0.2094,34.0691,2,-999.,9,205.52,2,76.41,2,25.23,2,0.00,2,1.95,2,-999.,9,-999.,9,-999.,9,-999,9,-999,9
49UF20101002,KS10-07,2805,1,9,21968,2,20101021,1918,41.1417,136.7893,3336,1824.7,1803,0.2068,34.0691,2,-999.,9,205.43,2,78.80,2,25.37,2,0.00,2,1.96,2,-999.,9,-999.,9,-999.,9,-999,9,-999,9
49UF20101002,KS10-07,2805,1,8,21967,2,20101021,1914,41.1417,136.7893,3336,2026.9,2001,0.2095,34.0690,2,-999.,9,205.09,2,81.14,2,25.40,2,0.00,2,1.97,2,-999.,9,-999.,9,-999.,9,-999,9,-999,9
49UF20101002,KS10-07,2805,1,6,21965,2,20101021,1909,41.1417,136.7893,3336,2281.4,2251,0.2153,34.0692,2,-999.,9,205.71,2,83.94,2,25.53,2,0.00,2,1.97,2,-999.,9,-999.,9,-999.,9,-999,9,-999,9
49UF20101002,KS10-07,2805,1,5,21964,2,20101021,1904,41.1417,136.7893,3336,2536.6,2502,0.2307,34.0692,2,-999.,9,206.06,2,84.96,2,25.56,2,0.00,2,1.97,2,-999.,9,-999.,9,-999.,9,-999,9,-999,9
49UF20101002,KS10-07,2805,1,4,21963,2,20101021,1859,41.1417,136.7893,3336,2790.3,2750,0.2513,34.0691,2,-999.,9,206.27,2,84.84,2,25.44,2,0.00,2,1.96,2,-999.,9,-999.,9,-999.,9,-999,9,-999,9
49UF20101002,KS10-07,2805,1,3,21962,2,20101021,1853,41.1417,136.7893,3336,3048.9,3003,0.2738,34.0690,2,-999.,9,206.36,2,85.28,2,25.55,2,0.00,2,1.97,2,-999.,9,-999.,9,-999.,9,-999,9,-999,9
49UF20101002,KS10-07,2805,1,2,21961,2,20101021,1848,41.1417,136.7893,3336,3301.7,3251,0.2970,34.0688,2,-999.,9,206.30,2,85.16,2,25.55,2,0.00,2,1.98,2,-999.,9,-999.,9,-999.,9,-999,9,-999,9
49UF20101002,KS10-07,2805,1,1,21960,2,20101021,1847,41.1417,136.7893,3336,3314.3,3263,0.2981,34.0689,2,-999.,9,206.18,2,85.05,2,25.47,2,0.00,2,1.96,2,-999.,9,-999.,9,-999.,9,-999,9,-999,9
49UF20101002,KS10-07,2806,1,-999,0,2,20101021,0110,41.4822,136.9717,3581,0.0,0,16.9268,33.7189,2,-999.0000,9,244.74,2,1.74,2,0.00,2,0.00,2,0.06,2,-999.,9,-999.,9,-999.,9,-999,9,-999,9
49UF20101002,KS10-07,2806,1,35,21995,2,20101021,0133,41.4822,136.9717,3581,11.8,12,16.8555,33.7122,2,33.7024,4,245.30,2,1.57,2,0.00,2,0.00,2,0.00,2,-999.,9,-999.,9,-999.,9,-999,9,-999,9
49UF20101002,KS10-07,2806,1,34,21994,2,20101021,0131,41.4822,136.9717,3581,27.9,28,16.3786,33.6694,2,-999.0000,9,251.66,2,1.45,2,0.00,2,0.00,2,0.00,2,-999.,9,-999.,9,-999.,9,-999,9,-999,9
49UF20101002,KS10-07,2806,1,33,21993,2,20101021,0126,41.4822,136.9717,3581,52.8,52,4.2784,34.0180,2,-999.0000,9,343.26,2,3.73,2,3.69,2,0.24,2,0.53,2,-999.,9,-999.,9,-999.,9,-999,9,-999,9
49UF20101002,KS10-07,2806,1,32,21992,2,20101021,0125,41.4822,136.9717,3581,76.9,76,2.6792,34.0607,2,-999.0000,9,301.97,2,14.19,2,12.19,2,0.03,2,0.90,2,-999.,9,-999.,9,-999.,9,-999,9,-999,9
49UF20101002,KS10-07,2806,1,31,21991,2,20101021,0124,41.4822,136.9717,3581,102.5,102,2.2516,34.0719,2,34.0717,2,288.26,6,18.87,6,14.17,6,0.01,6,1.03,6,-999.,9,-999.,9,-999.,9,-999,9,-999,9
49UF20101002,KS10-07,2806,1,30,21990,2,20101021,0122,41.4822,136.9717,3581,127.2,126,1.8986,34.0762,2,-999.0000,9,279.67,2,22.16,2,15.48,2,0.00,2,1.15,2,-999.,9,-999.,9,-999.,9,-999,9,-999,9
49UF20101002,KS10-07,2806,1,29,21989,2,20101021,0121,41.4822,136.9717,3581,152.8,152,1.7178,34.0770,2,-999.0000,9,285.92,2,22.07,2,15.26,2,0.00,2,1.13,2,-999.,9,-999.,9,-999.,9,-999,9,-999,9
49UF20101002,KS10-07,2806,1,27,21987,2,20101021,0119,41.4822,136.9717,3581,204.0,202,1.3621,34.0741,2,34.0731,6,269.83,2,26.92,2,17.64,2,0.00,2,1.32,2,-999.,9,-999.,9,-999.,9,-999,9,-999,9
49UF20101002,KS10-07,2806,1,26,21986,2,20101021,0118,41.4822,136.9717,3581,254.1,252,1.1199,34.0738,2,-999.0000,9,259.74,2,29.87,2,19.17,2,0.00,2,1.43,2,-999.,9,-999.,9,-999.,9,-999,9,-999,9
49UF20101002,KS10-07,2806,1,25,21985,2,20101021,0116,41.4822,136.9717,3581,304.3,302,0.9709,34.0741,2,-999.0000,9,250.65,2,32.69,2,20.49,2,0.00,2,1.54,2,-999.,9,-999.,9,-999.,9,-999,9,-999,9
49UF20101002,KS10-07,2806,1,24,21984,2,20101021,0113,41.4822,136.9717,3581,405.1,402,0.7718,34.0748,2,34.0732,6,234.86,2,38.23,2,22.36,2,0.00,2,1.72,2,-999.,9,-999.,9,-999.,9,-999,9,-999,9
49UF20101002,KS10-07,2806,1,23,21983,3,20101021,0110,41.4822,136.9717,3581,506.5,502,0.6322,34.0752,2,-999.0000,9,228.72,2,42.84,2,23.17,2,0.00,2,1.80,2,-999.,9,-999.,9,-999.,9,-999,9,-999,9
49UF20101002,KS10-07,2806,1,22,21982,2,20101021,0108,41.4822,136.9717,3581,606.6,601,0.5439,34.0748,2,34.0743,2,224.43,2,46.67,2,23.65,2,0.00,2,1.83,2,-999.,9,-999.,9,-999.,9,-999,9,-999,9
49UF20101002,KS10-07,2806,1,20,21980,2,20101021,0105,41.4822,136.9717,3581,709.4,703,0.4526,34.0738,2,-999.0000,9,218.02,2,51.93,2,24.11,2,0.00,2,1.86,2,-999.,9,-999.,9,-999.,9,-999,9,-999,9
49UF20101002,KS10-07,2806,1,19,21978,3,20101021,0102,41.4822,136.9717,3581,810.0,802,0.3975,34.0728,2,34.0720,2,213.07,2,55.94,2,24.46,2,0.00,2,1.93,4,-999.,9,-999.,9,-999.,9,-999,9,-999,9
49UF20101002,KS10-07,2806,1,18,21977,3,20101021,0059,41.4822,136.9717,3581,910.9,902,0.3511,34.0719,2,-999.0000,9,210.62,6,59.24,6,24.63,6,0.00,6,1.89,6,-999.,9,-999.,9,-999.,9,-999,9,-999,9
49UF20101002,KS10-07,2806,1,17,21976,2,20101021,0056,41.4822,136.9717,3581,1012.6,1002,0.3124,34.0712,2,34.0701,2,209.80,2,61.87,2,24.69,2,0.00,2,1.90,2,-999.,9,-999.,9,-999.,9,-999,9,-999,9
49UF20101002,KS10-07,2806,1,16,21975,2,20101021,0051,41.4822,136.9717,3581,1215.3,1202,0.2570,34.0700,2,34.0691,2,208.16,2,67.36,2,24.84,2,0.00,2,1.92,2,-999.,9,-999.,9,-999.,9,-999,9,-999,9
49UF20101002,KS10-07,2806,1,15,21974,2,20101021,0046,41.4822,136.9717,3581,1418.1,1402,0.2295,34.0693,2,34.0691,2,207.93,2,70.97,2,24.94,2,0.00,2,1.93,2,-999.,9,-999.,9,-999.,9,-999,9,-999,9
49UF20101002,KS10-07,2806,1,13,21972,2,20101021,0041,41.4822,136.9717,3581,1621.4,1603,0.2151,34.0690,2,34.0694,2,207.38,2,70.58,3,24.97,3,0.00,3,1.92,3,-999.,9,-999.,9,-999.,9,-999,9,-999,9
49UF20101002,KS10-07,2806,1,12,21971,3,20101021,0036,41.4822,136.9717,3581,1824.2,1802,0.2108,34.0690,2,-999.0000,9,205.97,2,77.75,2,25.08,2,0.00,2,1.95,2,-999.,9,-999.,9,-999.,9,-999,9,-999,9
49UF20101002,KS10-07,2806,1,11,21970,2,20101021,0036,41.4822,136.9717,3581,1824.2,1802,0.2108,34.0690,2,34.0687,2,205.50,2,77.87,2,25.16,2,0.00,2,1.95,2,-999.,9,-999.,9,-999.,9,-999,9,-999,9
49UF20101002,KS10-07,2806,1,10,21969,3,20101021,0030,41.4822,136.9717,3581,2028.4,2003,0.2121,34.0690,2,-999.0000,9,205.52,2,79.65,2,25.11,2,0.00,2,1.95,2,-999.,9,-999.,9,-999.,9,-999,9,-999,9
49UF20101002,KS10-07,2806,1,9,21968,3,20101021,0030,41.4822,136.9717,3581,2028.4,2003,0.2121,34.0690,2,34.0684,2,206.64,2,79.82,2,25.13,2,0.00,2,1.95,2,-999.,9,-999.,9,-999.,9,-999,9,-999,9
49UF20101002,KS10-07,2806,1,8,21967,2,20101021,0024,41.4822,136.9717,3581,2283.5,2253,0.2182,34.0690,2,-999.0000,9,206.67,2,82.56,2,25.26,2,0.00,2,1.95,2,-999.,9,-999.,9,-999.,9,-999,9,-999,9
49UF20101002,KS10-07,2806,1,6,21965,2,20101021,0018,41.4822,136.9717,3581,2537.7,2503,0.2304,34.0691,2,34.0688,2,207.45,2,84.53,2,25.27,2,0.00,2,1.96,2,-999.,9,-999.,9,-999.,9,-999,9,-999,9
49UF20101002,KS10-07,2806,1,5,21964,2,20101021,0012,41.4822,136.9717,3581,2792.8,2753,0.2510,34.0689,2,-999.0000,9,206.65,2,84.52,2,25.31,2,0.00,2,1.95,2,-999.,9,-999.,9,-999.,9,-999,9,-999,9
49UF20101002,KS10-07,2806,1,4,21963,3,20101021,0006,41.4822,136.9717,3581,3047.8,3002,0.2732,34.0688,2,34.0688,2,206.68,2,84.64,2,25.29,2,0.00,2,1.95,2,-999.,9,-999.,9,-999.,9,-999,9,-999,9
49UF20101002,KS10-07,2806,1,3,21962,2,20101021,0001,41.4822,136.9717,3581,3303.2,3252,0.2964,34.0688,2,-999.0000,9,206.63,2,84.63,2,25.31,2,0.00,2,1.96,2,-999.,9,-999.,9,-999.,9,-999,9,-999,9
49UF20101002,KS10-07,2806,1,2,21961,2,20101021,2356,41.4822,136.9717,3581,3559.0,3502,0.3209,34.0686,2,-999.0000,9,206.65,2,84.62,2,25.30,2,0.00,2,1.96,2,-999.,9,-999.,9,-999.,9,-999,9,-999,9
49UF20101002,KS10-07,2806,1,1,21960,2,20101021,2354,41.4822,136.9717,3581,3583.2,3525,0.3233,34.0686,2,34.0692,2,206.32,2,84.67,2,25.32,2,0.00,2,1.96,2,-999.,9,-999.,9,-999.,9,-999,9,-999,9
49UF20101002,KS10-07,2807,1,-999,0,2,20101022,0605,41.8447,137.2293,3664,0.0,0,16.4862,33.6807,2,-999.,9,247.96,2,1.69,2,0.00,2,0.00,2,0.01,2,-999.,9,-999.,9,-999.,9,-999,9,-999,9
49UF20101002,KS10-07,2807,1,35,21995,2,20101022,0619,41.8447,137.2293,3664,12.7,13,16.1553,33.6713,2,-999.,9,250.49,2,1.62,2,0.00,2,0.00,2,0.01,2,-999.,9,-999.,9,-999.,9,-999,9,-999,9
49UF20101002,KS10-07,2807,1,34,21994,2,20101022,0618,41.8447,137.2293,3664,27.9,28,12.0217,33.9339,2,-999.,9,314.48,2,2.41,2,0.00,2,0.00,2,0.09,2,-999.,9,-999.,9,-999.,9,-999,9,-999,9
49UF20101002,KS10-07,2807,1,33,21993,2,20101022,0614,41.8447,137.2293,3664,51.5,51,5.5745,34.0683,2,-999.,9,307.21,2,9.31,2,7.72,2,0.44,2,0.65,2,-999.,9,-999.,9,-999.,9,-999,9,-999,9
49UF20101002,KS10-07,2807,1,32,21992,2,20101022,0613,41.8447,137.2293,3664,76.7,76,3.5385,34.0622,2,-999.,9,306.05,2,12.25,2,11.02,2,0.04,2,0.81,2,-999.,9,-999.,9,-999.,9,-999,9,-999,9
49UF20101002,KS10-07,2807,1,31,21991,2,20101022,0612,41.8447,137.2293,3664,103.1,102,3.1797,34.0641,2,-999.,9,307.97,2,13.13,2,11.25,2,0.01,2,0.82,2,-999.,9,-999.,9,-999.,9,-999,9,-999,9
49UF20101002,KS10-07,2807,1,30,21990,2,20101022,0612,41.8447,137.2293,3664,122.3,121,3.0140,34.0637,2,-999.,9,307.88,6,13.70,6,11.45,6,0.01,6,0.83,6,-999.,9,-999.,9,-999.,9,-999,9,-999,9
49UF20101002,KS10-07,2807,1,29,21989,2,20101022,0611,41.8447,137.2293,3664,152.5,151,2.7506,34.0673,2,-999.,9,306.10,2,14.70,2,11.79,2,0.00,2,0.87,2,-999.,9,-999.,9,-999.,9,-999,9,-999,9
49UF20101002,KS10-07,2807,1,27,21987,2,20101022,0609,41.8447,137.2293,3664,202.9,201,2.3202,34.0715,2,-999.,9,307.63,2,16.05,2,12.16,2,0.00,2,0.90,2,-999.,9,-999.,9,-999.,9,-999,9,-999,9
49UF20101002,KS10-07,2807,1,26,21986,2,20101022,0608,41.8447,137.2293,3664,252.7,251,1.9658,34.0698,2,-999.,9,307.63,2,17.34,2,12.77,2,0.00,2,0.94,2,-999.,9,-999.,9,-999.,9,-999,9,-999,9
49UF20101002,KS10-07,2807,1,25,21985,2,20101022,0607,41.8447,137.2293,3664,305.8,303,1.6687,34.0746,2,-999.,9,301.50,2,19.75,2,13.92,2,0.00,2,1.03,2,-999.,9,-999.,9,-999.,9,-999,9,-999,9
49UF20101002,KS10-07,2807,1,24,21984,2,20101022,0604,41.8447,137.2293,3664,406.5,403,1.1536,34.0731,2,-999.,9,270.00,2,27.53,2,18.31,2,0.00,2,1.37,2,-999.,9,-999.,9,-999.,9,-999,9,-999,9
49UF20101002,KS10-07,2807,1,23,21983,2,20101022,0602,41.8447,137.2293,3664,507.2,503,0.8862,34.0741,2,-999.,9,248.46,2,33.93,2,21.09,2,0.00,2,1.60,2,-999.,9,-999.,9,-999.,9,-999,9,-999,9
49UF20101002,KS10-07,2807,1,22,21982,2,20101022,0600,41.8447,137.2293,3664,608.8,603,0.7165,34.0745,2,-999.,9,233.72,2,39.82,2,22.77,2,0.00,2,1.75,2,-999.,9,-999.,9,-999.,9,-999,9,-999,9
49UF20101002,KS10-07,2807,1,20,21980,2,20101022,0557,41.8447,137.2293,3664,708.8,702,0.5716,34.0747,2,-999.,9,224.64,2,45.94,2,23.74,2,0.00,2,1.83,2,-999.,9,-999.,9,-999.,9,-999,9,-999,9
49UF20101002,KS10-07,2807,1,19,21978,2,20101022,0555,41.8447,137.2293,3664,810.3,802,0.4925,34.0739,2,-999.,9,219.24,2,50.65,2,24.19,2,0.00,2,1.87,2,-999.,9,-999.,9,-999.,9,-999,9,-999,9
49UF20101002,KS10-07,2807,1,18,21977,2,20101022,0553,41.8447,137.2293,3664,910.2,901,0.4239,34.0729,2,-999.,9,214.74,2,54.52,2,24.54,2,0.00,2,1.89,2,-999.,9,-999.,9,-999.,9,-999,9,-999,9
49UF20101002,KS10-07,2807,1,17,21976,2,20101022,0550,41.8447,137.2293,3664,1011.7,1001,0.3741,34.0721,2,-999.,9,211.87,6,58.02,6,24.77,6,0.00,6,1.91,6,-999.,9,-999.,9,-999.,9,-999,9,-999,9
49UF20101002,KS10-07,2807,1,16,21975,2,20101022,0546,41.8447,137.2293,3664,1214.3,1201,0.2987,34.0706,2,-999.,9,208.75,2,64.30,2,24.99,2,0.00,2,1.92,2,-999.,9,-999.,9,-999.,9,-999,9,-999,9
49UF20101002,KS10-07,2807,1,15,21974,2,20101022,0542,41.8447,137.2293,3664,1419.7,1404,0.2557,34.0697,2,-999.,9,207.79,2,69.01,2,25.07,2,0.00,2,1.94,2,-999.,9,-999.,9,-999.,9,-999,9,-999,9
49UF20101002,KS10-07,2807,1,13,21972,4,20101022,0538,41.8447,137.2293,3664,1623.4,1604,0.2290,34.0690,2,-999.,9,289.58,4,18.73,4,11.42,4,0.13,4,0.89,4,-999.,9,-999.,9,-999.,9,-999,9,-999,9
49UF20101002,KS10-07,2807,1,12,21971,2,20101022,0533,41.8447,137.2293,3664,1827.3,1805,0.2193,34.0688,2,-999.,9,205.78,2,76.47,2,25.30,2,0.00,2,1.96,2,-999.,9,-999.,9,-999.,9,-999,9,-999,9
49UF20101002,KS10-07,2807,1,11,21970,2,20101022,0528,41.8447,137.2293,3664,2029.3,2004,0.2170,34.0690,2,-999.,9,205.71,2,79.45,2,25.33,2,0.00,2,1.97,2,-999.,9,-999.,9,-999.,9,-999,9,-999,9
49UF20101002,KS10-07,2807,1,10,21969,2,20101022,0523,41.8447,137.2293,3664,2283.4,2253,0.2225,34.0688,2,-999.,9,205.69,2,82.18,2,25.44,2,0.00,2,1.98,2,-999.,9,-999.,9,-999.,9,-999,9,-999,9
49UF20101002,KS10-07,2807,1,9,21968,2,20101022,0523,41.8447,137.2293,3664,2283.4,2253,0.2225,34.0688,2,-999.,9,206.06,2,82.01,2,25.59,2,0.00,2,1.97,2,-999.,9,-999.,9,-999.,9,-999,9,-999,9
49UF20101002,KS10-07,2807,1,7,21966,2,20101022,0517,41.8447,137.2293,3664,2540.2,2505,0.2306,34.0689,2,-999.,9,206.50,2,84.95,2,25.46,2,0.00,2,1.97,2,-999.,9,-999.,9,-999.,9,-999,9,-999,9
49UF20101002,KS10-07,2807,1,6,21965,2,20101022,0517,41.8447,137.2293,3664,2540.2,2505,0.2306,34.0689,2,-999.,9,206.66,2,84.92,2,25.47,2,0.00,2,1.98,2,-999.,9,-999.,9,-999.,9,-999,9,-999,9
49UF20101002,KS10-07,2807,1,5,21964,2,20101022,0512,41.8447,137.2293,3664,2793.8,2754,0.2513,34.0689,2,-999.,9,206.52,2,85.16,2,25.45,2,0.00,2,1.97,2,-999.,9,-999.,9,-999.,9,-999,9,-999,9
49UF20101002,KS10-07,2807,1,4,21963,2,20101022,0506,41.8447,137.2293,3664,3050.2,3005,0.2734,34.0690,2,-999.,9,207.56,2,85.27,2,25.51,2,0.00,2,1.98,2,-999.,9,-999.,9,-999.,9,-999,9,-999,9
49UF20101002,KS10-07,2807,1,3,21962,2,20101022,0500,41.8447,137.2293,3664,3305.7,3254,0.2968,34.0688,2,-999.,9,206.35,2,84.89,2,25.51,2,0.00,2,1.98,2,-999.,9,-999.,9,-999.,9,-999,9,-999,9
49UF20101002,KS10-07,2807,1,2,21961,2,20101022,0455,41.8447,137.2293,3664,3560.7,3503,0.3209,34.0687,2,-999.,9,206.53,2,85.22,2,25.56,2,0.00,2,1.98,2,-999.,9,-999.,9,-999.,9,-999,9,-999,9
49UF20101002,KS10-07,2807,1,1,21960,2,20101022,0452,41.8447,137.2293,3664,3663.2,3603,0.3310,34.0686,2,-999.,9,206.40,2,85.22,2,25.52,2,0.00,2,1.98,2,-999.,9,-999.,9,-999.,9,-999,9,-999,9