BOTTLE,20171117JMAGEMD
EXPOCODE,SECT_ID,STNNBR,CASTNO,SAMPNO,BTLNBR,BTLNBR_FLAG_W,DATE,TIME,LATITUDE,LONGITUDE,DEPTH,CTDPRS,CTDDEP,CTDTMP,CTDSAL,CTDSAL_FLAG_W,SALNTY,SALNTY_FLAG_W,OXYGEN,OXYGEN_FLAG_W,SILCAT,SILCAT_FLAG_W,NO2+NO3,NO2+NO3_FLAG_W,NITRIT,NITRIT_FLAG_W,PHSPHT,PHSPHT_FLAG_W,TCARBN,TCARBN_FLAG_W,ALKALI,ALKALI_FLAG_W,PH_TOT,PH_TOT_FLAG_W,CFC-11,CFC-11_FLAG_W,CFC-12,CFC-12_FLAG_W
,,,,,,,UTC,UTC,,,METER,DBAR,METERS,ITS-90,PSS-78,,PSS-78,,UMOL/KG,,UMOL/KG,,UMOL/KG,,UMOL/KG,,UMOL/KG,,UMOL/KG,,UMOL/KG,,@25DEG-C,,PMOL/KG,,PMOL/KG,
49UF20101002,KS10-07,2758,1,-999,0,2,20101006,0926,29.0078,147.2478,6092,0.0,0,28.0069,34.5192,2,-999.,9,201.75,2,1.52,2,0.04,2,0.00,2,0.00,2,-999.,9,-999.,9,-999.,9,-999,9,-999,9
49UF20101002,KS10-07,2758,1,33,21993,2,20101006,0951,29.0078,147.2478,6092,11.1,11,27.8190,34.5202,2,-999.,9,201.34,2,1.48,2,0.03,2,0.00,2,0.00,2,-999.,9,-999.,9,-999.,9,-999,9,-999,9
49UF20101002,KS10-07,2758,1,32,21992,2,20101006,0950,29.0078,147.2478,6092,25.7,26,27.7895,34.5217,2,-999.,9,201.65,2,1.48,2,0.01,2,0.00,2,0.00,2,-999.,9,-999.,9,-999.,9,-999,9,-999,9
49UF20101002,KS10-07,2758,1,31,21991,2,20101006,0946,29.0078,147.2478,6092,50.4,50,23.0587,34.7276,2,-999.,9,235.86,2,1.57,2,0.04,2,0.00,2,0.00,2,-999.,9,-999.,9,-999.,9,-999,9,-999,9
49UF20101002,KS10-07,2758,1,30,21990,2,20101006,0944,29.0078,147.2478,6092,76.5,76,20.7119,34.7304,2,-999.,9,229.06,2,1.77,2,0.02,2,0.00,2,0.00,2,-999.,9,-999.,9,-999.,9,-999,9,-999,9
49UF20101002,KS10-07,2758,1,29,21989,2,20101006,0943,29.0078,147.2478,6092,102.9,102,19.6035,34.7191,2,-999.,9,221.23,2,1.98,2,0.11,2,0.03,2,0.02,2,-999.,9,-999.,9,-999.,9,-999,9,-999,9
49UF20101002,KS10-07,2758,1,28,21988,2,20101006,0941,29.0078,147.2478,6092,127.3,126,18.9458,34.7135,2,-999.,9,211.56,2,2.34,2,1.77,2,0.04,2,0.11,2,-999.,9,-999.,9,-999.,9,-999,9,-999,9
49UF20101002,KS10-07,2758,1,24,21984,2,20101006,0939,29.0078,147.2478,6092,152.1,151,18.5444,34.7040,2,-999.,9,209.60,2,2.69,2,2.66,2,0.01,2,0.16,2,-999.,9,-999.,9,-999.,9,-999,9,-999,9
49UF20101002,KS10-07,2758,1,23,21983,2,20101006,0937,29.0078,147.2478,6092,201.4,200,18.0205,34.6874,2,-999.,9,212.88,2,3.07,2,3.19,2,0.01,2,0.19,2,-999.,9,-999.,9,-999.,9,-999,9,-999,9
49UF20101002,KS10-07,2758,1,22,21982,2,20101006,0935,29.0078,147.2478,6092,253.3,251,17.6372,34.7097,2,-999.,9,201.39,6,4.07,6,4.76,6,0.00,6,0.30,6,-999.,9,-999.,9,-999.,9,-999,9,-999,9
49UF20101002,KS10-07,2758,1,21,21981,2,20101006,0932,29.0078,147.2478,6092,303.8,302,17.0195,34.6974,2,-999.,9,195.25,2,5.46,2,6.29,2,0.00,2,0.40,2,-999.,9,-999.,9,-999.,9,-999,9,-999,9
49UF20101002,KS10-07,2758,1,20,21980,2,20101006,0929,29.0078,147.2478,6092,405.4,402,14.7284,34.5604,2,-999.,9,186.97,2,11.43,2,10.46,2,0.00,2,0.70,2,-999.,9,-999.,9,-999.,9,-999,9,-999,9
49UF20101002,KS10-07,2758,1,19,21978,2,20101006,0926,29.0078,147.2478,6092,505.3,501,11.8130,34.3596,2,-999.,9,180.37,2,21.48,2,15.90,2,0.00,2,1.09,2,-999.,9,-999.,9,-999.,9,-999,9,-999,9
49UF20101002,KS10-07,2758,1,15,21974,2,20101006,0922,29.0078,147.2478,6092,609.7,605,8.8588,34.1578,2,-999.,9,167.15,2,36.39,2,22.06,2,0.00,2,1.57,2,-999.,9,-999.,9,-999.,9,-999,9,-999,9
49UF20101002,KS10-07,2758,1,14,21973,2,20101006,0917,29.0078,147.2478,6092,708.8,703,6.2105,34.0360,2,-999.,9,136.91,2,60.19,2,29.62,2,0.00,2,2.13,2,-999.,9,-999.,9,-999.,9,-999,9,-999,9
49UF20101002,KS10-07,2758,1,13,21972,2,20101006,0913,29.0078,147.2478,6092,808.5,801,5.0900,34.0761,2,-999.,9,97.49,2,80.33,2,34.98,2,0.00,2,2.52,2,-999.,9,-999.,9,-999.,9,-999,9,-999,9
49UF20101002,KS10-07,2758,1,12,21971,2,20101006,0909,29.0078,147.2478,6092,911.6,903,4.2873,34.1949,2,-999.,9,60.91,2,102.76,2,39.43,2,0.00,2,2.82,2,-999.,9,-999.,9,-999.,9,-999,9,-999,9
49UF20101002,KS10-07,2758,1,11,21970,2,20101006,0905,29.0078,147.2478,6092,1010.1,1001,3.8703,34.2695,2,-999.,9,48.91,2,115.16,2,40.86,2,0.00,2,2.91,2,-999.,9,-999.,9,-999.,9,-999,9,-999,9
49UF20101002,KS10-07,2758,1,10,21969,2,20101006,0901,29.0078,147.2478,6092,1210.7,1199,3.0969,34.3993,2,-999.,9,36.93,2,137.20,2,42.60,2,0.00,2,3.03,2,-999.,9,-999.,9,-999.,9,-999,9,-999,9
49UF20101002,KS10-07,2758,1,6,21965,2,20101006,0856,29.0078,147.2478,6092,1412.8,1399,2.6013,34.4817,2,-999.,9,41.64,2,150.56,2,42.69,2,0.00,2,3.03,2,-999.,9,-999.,9,-999.,9,-999,9,-999,9
49UF20101002,KS10-07,2758,1,5,21964,2,20101006,0856,29.0078,147.2478,6092,1412.8,1399,2.6013,34.4817,2,-999.,9,41.45,2,150.69,2,42.87,2,0.00,2,3.04,2,-999.,9,-999.,9,-999.,9,-999,9,-999,9
49UF20101002,KS10-07,2758,1,4,21963,2,20101006,0852,29.0078,147.2478,6092,1615.4,1598,2.3022,34.5347,2,-999.,9,51.95,2,157.44,2,42.50,2,0.00,2,2.99,2,-999.,9,-999.,9,-999.,9,-999,9,-999,9
49UF20101002,KS10-07,2758,1,3,21962,2,20101006,0852,29.0078,147.2478,6092,1615.4,1598,2.3022,34.5347,2,-999.,9,51.04,6,157.59,6,42.44,6,0.00,6,3.00,6,-999.,9,-999.,9,-999.,9,-999,9,-999,9
49UF20101002,KS10-07,2758,1,2,21961,3,20101006,0848,29.0078,147.2478,6092,1817.8,1798,2.0617,34.5781,2,-999.,9,68.12,2,160.51,2,41.61,2,0.00,2,2.91,2,-999.,9,-999.,9,-999.,9,-999,9,-999,9
49UF20101002,KS10-07,2758,1,1,21960,2,20101006,0843,29.0078,147.2478,6092,2022.6,1999,1.9032,34.6062,2,-999.,9,84.85,2,159.68,2,40.53,2,0.00,2,2.83,2,-999.,9,-999.,9,-999.,9,-999,9,-999,9
49UF20101002,KS10-07,2760,1,-999,0,2,20101006,1825,30.0143,147.4528,6174,0.0,0,26.9086,34.4554,2,-999.,9,206.56,2,1.70,2,0.00,2,0.00,2,0.00,2,-999.,9,-999.,9,-999.,9,-999,9,-999,9
49UF20101002,KS10-07,2760,1,33,21993,2,20101006,1844,30.0143,147.4528,6174,12.1,12,26.9119,34.4798,2,-999.,9,206.05,2,1.66,2,0.00,2,0.00,2,0.00,2,-999.,9,-999.,9,-999.,9,-999,9,-999,9
49UF20101002,KS10-07,2760,1,32,21992,2,20101006,1843,30.0143,147.4528,6174,25.7,26,26.1843,34.6531,2,-999.,9,214.74,2,1.96,2,0.03,2,0.00,2,0.00,2,-999.,9,-999.,9,-999.,9,-999,9,-999,9
49UF20101002,KS10-07,2760,1,31,21991,2,20101006,1839,30.0143,147.4528,6174,52.5,52,21.3384,34.7433,2,-999.,9,238.49,2,2.00,2,0.00,2,0.00,2,0.00,2,-999.,9,-999.,9,-999.,9,-999,9,-999,9
49UF20101002,KS10-07,2760,1,30,21990,2,20101006,1838,30.0143,147.4528,6174,78.0,77,19.3565,34.7029,2,-999.,9,226.88,2,2.76,2,0.37,2,0.02,2,0.04,2,-999.,9,-999.,9,-999.,9,-999,9,-999,9
49UF20101002,KS10-07,2760,1,29,21989,2,20101006,1837,30.0143,147.4528,6174,103.4,103,18.7158,34.7049,2,-999.,9,212.67,2,2.72,2,2.21,2,0.03,2,0.14,2,-999.,9,-999.,9,-999.,9,-999,9,-999,9
49UF20101002,KS10-07,2760,1,28,21988,2,20101006,1836,30.0143,147.4528,6174,128.1,127,18.3295,34.6964,2,-999.,9,212.48,2,3.10,2,2.83,2,0.01,2,0.18,2,-999.,9,-999.,9,-999.,9,-999,9,-999,9
49UF20101002,KS10-07,2760,1,24,21984,2,20101006,1835,30.0143,147.4528,6174,155.2,154,17.9725,34.6900,2,-999.,9,211.69,2,3.35,2,3.28,2,0.01,2,0.21,2,-999.,9,-999.,9,-999.,9,-999,9,-999,9
49UF20101002,KS10-07,2760,1,23,21983,2,20101006,1833,30.0143,147.4528,6174,204.7,203,17.5502,34.6900,2,-999.,9,209.79,2,3.94,2,4.21,2,0.01,2,0.26,2,-999.,9,-999.,9,-999.,9,-999,9,-999,9
49UF20101002,KS10-07,2760,1,22,21982,2,20101006,1832,30.0143,147.4528,6174,253.0,251,17.1918,34.6859,2,-999.,9,205.63,2,4.95,2,5.17,2,0.01,2,0.33,2,-999.,9,-999.,9,-999.,9,-999,9,-999,9
49UF20101002,KS10-07,2760,1,21,21981,2,20101006,1830,30.0143,147.4528,6174,305.4,303,16.3277,34.6524,2,-999.,9,193.03,6,7.78,6,7.72,6,0.01,6,0.51,6,-999.,9,-999.,9,-999.,9,-999,9,-999,9
49UF20101002,KS10-07,2760,1,20,21980,2,20101006,1827,30.0143,147.4528,6174,407.2,404,13.5655,34.4812,2,-999.,9,180.39,2,16.73,2,13.06,2,0.00,2,0.89,2,-999.,9,-999.,9,-999.,9,-999,9,-999,9
49UF20101002,KS10-07,2760,1,19,21978,2,20101006,1824,30.0143,147.4528,6174,507.2,503,10.6690,34.2716,2,-999.,9,180.19,2,25.34,2,17.72,2,0.00,2,1.24,2,-999.,9,-999.,9,-999.,9,-999,9,-999,9
49UF20101002,KS10-07,2760,1,15,21974,2,20101006,1821,30.0143,147.4528,6174,608.5,603,7.5529,34.0756,2,-999.,9,160.42,2,46.48,2,25.01,2,0.00,2,1.81,2,-999.,9,-999.,9,-999.,9,-999,9,-999,9
49UF20101002,KS10-07,2760,1,14,21973,2,20101006,1819,30.0143,147.4528,6174,708.2,702,5.4397,34.0542,2,-999.,9,111.51,2,72.74,2,33.31,2,0.00,2,2.40,2,-999.,9,-999.,9,-999.,9,-999,9,-999,9
49UF20101002,KS10-07,2760,1,13,21972,2,20101006,1816,30.0143,147.4528,6174,808.3,801,4.6828,34.1436,2,-999.,9,75.01,2,91.78,2,37.77,2,0.00,2,2.71,2,-999.,9,-999.,9,-999.,9,-999,9,-999,9
49UF20101002,KS10-07,2760,1,12,21971,2,20101006,1814,30.0143,147.4528,6174,909.9,902,4.1075,34.2384,2,-999.,9,53.01,2,108.13,2,40.32,2,0.00,2,2.89,2,-999.,9,-999.,9,-999.,9,-999,9,-999,9
49UF20101002,KS10-07,2760,1,11,21970,2,20101006,1809,30.0143,147.4528,6174,1009.6,1000,3.7192,34.3044,2,-999.,9,42.96,2,119.22,2,41.44,2,0.00,2,2.97,2,-999.,9,-999.,9,-999.,9,-999,9,-999,9
49UF20101002,KS10-07,2760,1,10,21969,2,20101006,1804,30.0143,147.4528,6174,1213.4,1202,3.1162,34.4057,2,-999.,9,39.23,2,135.97,2,42.52,2,0.00,2,3.03,2,-999.,9,-999.,9,-999.,9,-999,9,-999,9
49UF20101002,KS10-07,2760,1,6,21965,2,20101006,1759,30.0143,147.4528,6174,1417.1,1403,2.6717,34.4920,2,-999.,9,48.62,2,146.32,2,42.51,2,0.00,2,3.00,2,-999.,9,-999.,9,-999.,9,-999,9,-999,9
49UF20101002,KS10-07,2760,1,5,21964,2,20101006,1754,30.0143,147.4528,6174,1619.5,1602,2.3372,34.5461,2,-999.,9,62.23,2,152.50,2,41.59,2,0.00,2,2.93,2,-999.,9,-999.,9,-999.,9,-999,9,-999,9
49UF20101002,KS10-07,2760,1,4,21963,2,20101006,1749,30.0143,147.4528,6174,1823.6,1803,2.1056,34.5824,2,-999.,9,80.64,2,153.39,2,40.74,2,0.00,2,2.86,2,-999.,9,-999.,9,-999.,9,-999,9,-999,9
49UF20101002,KS10-07,2760,1,3,21962,2,20101006,1749,30.0143,147.4528,6174,1823.6,1803,2.1056,34.5824,2,-999.,9,79.63,6,153.28,6,40.78,6,0.00,6,2.86,6,-999.,9,-999.,9,-999.,9,-999,9,-999,9
49UF20101002,KS10-07,2760,1,2,21961,2,20101006,1745,30.0143,147.4528,6174,2027.3,2004,1.9476,34.6060,2,-999.,9,94.12,2,153.64,2,40.01,2,0.00,2,2.79,2,-999.,9,-999.,9,-999.,9,-999,9,-999,9
49UF20101002,KS10-07,2760,1,1,21960,2,20101006,1745,30.0143,147.4528,6174,2027.3,2004,1.9476,34.6060,2,-999.,9,94.46,2,153.47,2,39.89,2,0.00,2,2.79,2,-999.,9,-999.,9,-999.,9,-999,9,-999,9
49UF20101002,KS10-07,2762,1,-999,0,2,20101007,0234,30.996,147.7182,6109,0.0,0,26.5518,34.6895,2,-999.0000,9,207.24,2,1.68,2,0.00,2,0.00,2,0.00,2,-999.,9,-999.,9,-999.,9,-999,9,-999,9
49UF20101002,KS10-07,2762,1,33,21993,2,20101007,0253,30.996,147.7182,6109,11.1,11,26.5564,34.6899,2,34.6926,2,207.11,2,1.66,2,0.00,2,0.00,2,0.00,2,-999.,9,-999.,9,-999.,9,-999,9,-999,9
49UF20101002,KS10-07,2762,1,32,21992,2,20101007,0251,30.996,147.7182,6109,26.3,26,26.2206,34.7168,2,-999.0000,9,211.57,2,1.67,2,0.00,2,0.00,2,0.00,2,-999.,9,-999.,9,-999.,9,-999,9,-999,9
49UF20101002,KS10-07,2762,1,31,21991,2,20101007,0246,30.996,147.7182,6109,50.8,50,24.5281,34.7550,2,-999.0000,9,227.14,2,1.80,2,0.00,2,0.00,2,0.00,2,-999.,9,-999.,9,-999.,9,-999,9,-999,9
49UF20101002,KS10-07,2762,1,30,21990,2,20101007,0244,30.996,147.7182,6109,76.1,76,20.3795,34.7074,2,-999.0000,9,241.19,2,2.08,2,0.00,2,0.00,2,0.00,2,-999.,9,-999.,9,-999.,9,-999,9,-999,9
49UF20101002,KS10-07,2762,1,29,21989,2,20101007,0243,30.996,147.7182,6109,101.6,101,19.0629,34.6932,2,34.6940,2,229.04,2,2.38,2,0.00,2,0.02,2,0.02,2,-999.,9,-999.,9,-999.,9,-999,9,-999,9
49UF20101002,KS10-07,2762,1,28,21988,2,20101007,0242,30.996,147.7182,6109,126.7,126,18.3537,34.6785,2,-999.0000,9,227.46,2,2.46,2,0.23,2,0.13,2,0.06,2,-999.,9,-999.,9,-999.,9,-999,9,-999,9
49UF20101002,KS10-07,2762,1,24,21984,2,20101007,0241,30.996,147.7182,6109,152.2,151,17.9311,34.6892,2,-999.0000,9,210.50,2,3.31,2,3.15,2,0.02,2,0.21,2,-999.,9,-999.,9,-999.,9,-999,9,-999,9
49UF20101002,KS10-07,2762,1,23,21983,2,20101007,0239,30.996,147.7182,6109,202.4,201,17.5266,34.6845,2,34.6839,2,212.95,2,3.85,2,3.95,2,0.01,2,0.25,2,-999.,9,-999.,9,-999.,9,-999,9,-999,9
49UF20101002,KS10-07,2762,1,22,21982,2,20101007,0237,30.996,147.7182,6109,252.8,251,17.1143,34.6784,2,-999.0000,9,210.02,2,4.76,2,4.86,2,0.01,2,0.31,2,-999.,9,-999.,9,-999.,9,-999,9,-999,9
49UF20101002,KS10-07,2762,1,21,21981,2,20101007,0235,30.996,147.7182,6109,304.3,302,16.2992,34.6575,2,-999.0000,9,187.57,2,8.45,2,8.06,2,0.00,2,0.53,2,-999.,9,-999.,9,-999.,9,-999,9,-999,9
49UF20101002,KS10-07,2762,1,20,21980,2,20101007,0233,30.996,147.7182,6109,405.7,403,13.5336,34.4831,2,34.4796,2,178.56,6,17.81,6,13.35,6,0.00,6,0.92,6,-999.,9,-999.,9,-999.,9,-999,9,-999,9
49UF20101002,KS10-07,2762,1,19,21978,2,20101007,0230,30.996,147.7182,6109,505.9,502,10.2597,34.2294,2,-999.0000,9,180.24,2,28.82,2,18.23,2,0.00,2,1.30,2,-999.,9,-999.,9,-999.,9,-999,9,-999,9
49UF20101002,KS10-07,2762,1,15,21974,2,20101007,0228,30.996,147.7182,6109,606.8,602,7.5856,34.0755,2,-999.0000,9,160.97,2,46.54,2,24.94,2,0.00,2,1.80,2,-999.,9,-999.,9,-999.,9,-999,9,-999,9
49UF20101002,KS10-07,2762,1,14,21973,2,20101007,0228,30.996,147.7182,6109,606.8,602,7.5856,34.0755,2,34.0761,2,164.97,3,46.51,2,24.84,2,0.00,2,1.80,2,-999.,9,-999.,9,-999.,9,-999,9,-999,9
49UF20101002,KS10-07,2762,1,13,21972,2,20101007,0225,30.996,147.7182,6109,708.2,702,5.6376,34.0310,2,-999.0000,9,123.54,2,68.46,2,31.83,2,0.00,2,2.32,2,-999.,9,-999.,9,-999.,9,-999,9,-999,9
49UF20101002,KS10-07,2762,1,12,21971,2,20101007,0225,30.996,147.7182,6109,708.2,702,5.6376,34.0310,2,-999.0000,9,122.92,2,68.49,2,32.02,2,0.00,2,2.32,2,-999.,9,-999.,9,-999.,9,-999,9,-999,9
49UF20101002,KS10-07,2762,1,11,21970,2,20101007,0222,30.996,147.7182,6109,807.9,801,4.7699,34.1157,2,34.1172,2,83.85,2,89.00,2,36.56,2,0.00,2,2.64,2,-999.,9,-999.,9,-999.,9,-999,9,-999,9
49UF20101002,KS10-07,2762,1,10,21969,2,20101007,0220,30.996,147.7182,6109,908.9,901,4.2776,34.1985,2,-999.0000,9,60.59,2,103.41,2,39.26,2,0.00,2,2.82,2,-999.,9,-999.,9,-999.,9,-999,9,-999,9
49UF20101002,KS10-07,2762,1,6,21965,2,20101007,0217,30.996,147.7182,6109,1011.3,1002,3.7678,34.2839,2,34.2821,2,44.50,4,118.30,2,41.24,2,0.00,2,2.95,2,-999.,9,-999.,9,-999.,9,-999,9,-999,9
49UF20101002,KS10-07,2762,1,5,21964,2,20101007,0213,30.996,147.7182,6109,1211.5,1200,3.1049,34.3963,2,34.3954,2,40.41,2,136.53,2,42.34,2,0.00,2,3.02,2,-999.,9,-999.,9,-999.,9,-999,9,-999,9
49UF20101002,KS10-07,2762,1,4,21963,2,20101007,0208,30.996,147.7182,6109,1416.1,1402,2.6670,34.4682,2,34.4679,6,39.28,2,149.78,2,42.95,2,0.00,2,3.05,2,-999.,9,-999.,9,-999.,9,-999,9,-999,9
49UF20101002,KS10-07,2762,1,3,21962,2,20101007,0203,30.996,147.7182,6109,1619.2,1602,2.3758,34.5188,2,34.5180,6,47.21,2,156.62,2,42.52,2,0.00,2,3.00,2,-999.,9,-999.,9,-999.,9,-999,9,-999,9
49UF20101002,KS10-07,2762,1,2,21961,2,20101007,0158,30.996,147.7182,6109,1821.8,1801,2.1418,34.5619,2,34.5611,2,60.05,2,161.13,2,42.00,2,0.00,2,2.95,2,-999.,9,-999.,9,-999.,9,-999,9,-999,9
49UF20101002,KS10-07,2762,1,1,21960,2,20101007,0153,30.996,147.7182,6109,2025.0,2001,1.9475,34.5958,2,34.5952,2,76.86,6,162.49,6,40.95,6,0.00,6,2.88,6,-999.,9,-999.,9,-999.,9,-999,9,-999,9
49UF20101002,KS10-07,2764,1,-999,0,2,20101007,1126,32.0033,147.9267,5687,0.0,0,26.6874,34.6041,2,-999.,9,206.79,2,1.53,2,0.00,2,0.00,2,0.00,2,-999.,9,-999.,9,-999.,9,-999,9,-999,9
49UF20101002,KS10-07,2764,1,33,21993,2,20101007,1147,32.0033,147.9267,5687,10.1,10,26.6807,34.6036,2,-999.,9,206.85,6,1.62,6,0.01,6,0.00,6,0.00,6,-999.,9,-999.,9,-999.,9,-999,9,-999,9
49UF20101002,KS10-07,2764,1,32,21992,3,20101007,1146,32.0033,147.9267,5687,26.1,26,26.5934,34.6010,2,-999.,9,206.99,2,1.52,2,0.00,2,0.00,2,0.00,2,-999.,9,-999.,9,-999.,9,-999,9,-999,9
49UF20101002,KS10-07,2764,1,31,21991,2,20101007,1141,32.0033,147.9267,5687,49.5,49,23.4319,34.6848,2,-999.,9,232.31,2,1.63,2,0.00,2,0.00,2,0.00,2,-999.,9,-999.,9,-999.,9,-999,9,-999,9
49UF20101002,KS10-07,2764,1,30,21990,2,20101007,1139,32.0033,147.9267,5687,77.1,77,20.0691,34.7680,2,-999.,9,229.47,2,1.90,2,0.00,2,0.00,2,0.00,2,-999.,9,-999.,9,-999.,9,-999,9,-999,9
49UF20101002,KS10-07,2764,1,29,21989,2,20101007,1138,32.0033,147.9267,5687,100.4,100,19.0123,34.7145,2,-999.,9,221.29,2,2.21,2,0.09,2,0.08,2,0.03,2,-999.,9,-999.,9,-999.,9,-999,9,-999,9
49UF20101002,KS10-07,2764,1,28,21988,2,20101007,1136,32.0033,147.9267,5687,126.1,125,18.4164,34.6934,2,-999.,9,213.05,2,2.53,2,1.17,2,0.04,2,0.10,2,-999.,9,-999.,9,-999.,9,-999,9,-999,9
49UF20101002,KS10-07,2764,1,24,21984,2,20101007,1135,32.0033,147.9267,5687,151.2,150,17.9875,34.6853,2,-999.,9,210.07,2,3.27,2,3.25,2,0.02,2,0.20,2,-999.,9,-999.,9,-999.,9,-999,9,-999,9
49UF20101002,KS10-07,2764,1,23,21983,2,20101007,1133,32.0033,147.9267,5687,201.5,200,17.5268,34.6817,2,-999.,9,212.06,2,3.69,2,3.98,2,0.01,2,0.24,2,-999.,9,-999.,9,-999.,9,-999,9,-999,9
49UF20101002,KS10-07,2764,1,22,21982,2,20101007,1132,32.0033,147.9267,5687,252.9,251,17.2037,34.6814,2,-999.,9,206.73,2,4.55,2,5.01,2,0.00,2,0.31,2,-999.,9,-999.,9,-999.,9,-999,9,-999,9
49UF20101002,KS10-07,2764,1,21,21981,2,20101007,1130,32.0033,147.9267,5687,303.8,301,16.4399,34.6517,2,-999.,9,196.91,2,6.95,2,7.10,2,0.00,2,0.46,2,-999.,9,-999.,9,-999.,9,-999,9,-999,9
49UF20101002,KS10-07,2764,1,20,21980,2,20101007,1127,32.0033,147.9267,5687,404.1,401,14.1237,34.5137,2,-999.,9,185.46,2,14.14,2,11.86,2,0.00,2,0.79,2,-999.,9,-999.,9,-999.,9,-999,9,-999,9
49UF20101002,KS10-07,2764,1,19,21978,2,20101007,1124,32.0033,147.9267,5687,505.4,501,11.0114,34.2866,2,-999.,9,182.49,6,25.47,6,16.94,6,0.00,6,1.19,6,-999.,9,-999.,9,-999.,9,-999,9,-999,9
49UF20101002,KS10-07,2764,1,15,21974,2,20101007,1121,32.0033,147.9267,5687,605.5,600,8.0252,34.0940,2,-999.,9,163.68,2,41.03,2,24.13,2,0.00,2,1.70,2,-999.,9,-999.,9,-999.,9,-999,9,-999,9
49UF20101002,KS10-07,2764,1,14,21973,2,20101007,1118,32.0033,147.9267,5687,707.1,701,5.6585,34.0217,2,-999.,9,129.01,2,67.50,2,31.63,2,0.00,2,2.28,2,-999.,9,-999.,9,-999.,9,-999,9,-999,9
49UF20101002,KS10-07,2764,1,13,21972,3,20101007,1115,32.0033,147.9267,5687,807.6,800,4.8523,34.1030,2,-999.,9,88.82,2,67.58,4,31.34,4,0.00,4,2.27,4,-999.,9,-999.,9,-999.,9,-999,9,-999,9
49UF20101002,KS10-07,2764,1,12,21971,2,20101007,1115,32.0033,147.9267,5687,807.6,800,4.8523,34.1030,2,-999.,9,89.10,2,86.75,2,36.44,2,0.00,2,2.60,2,-999.,9,-999.,9,-999.,9,-999,9,-999,9
49UF20101002,KS10-07,2764,1,11,21970,2,20101007,1112,32.0033,147.9267,5687,907.4,899,4.3243,34.1900,2,-999.,9,62.31,2,102.20,2,39.53,2,0.00,2,2.80,2,-999.,9,-999.,9,-999.,9,-999,9,-999,9
49UF20101002,KS10-07,2764,1,10,21969,3,20101007,1112,32.0033,147.9267,5687,907.4,899,4.3243,34.1900,2,-999.,9,63.57,4,102.12,2,39.29,2,0.00,2,2.79,2,-999.,9,-999.,9,-999.,9,-999,9,-999,9
49UF20101002,KS10-07,2764,1,6,21965,2,20101007,1108,32.0033,147.9267,5687,1009.5,1000,3.8452,34.2734,2,-999.,9,46.61,2,115.91,2,41.03,2,0.00,2,2.92,2,-999.,9,-999.,9,-999.,9,-999,9,-999,9
49UF20101002,KS10-07,2764,1,5,21964,2,20101007,1103,32.0033,147.9267,5687,1211.3,1199,3.2459,34.3740,2,-999.,9,39.96,2,133.45,2,42.34,2,0.00,2,3.00,2,-999.,9,-999.,9,-999.,9,-999,9,-999,9
49UF20101002,KS10-07,2764,1,4,21963,2,20101007,1058,32.0033,147.9267,5687,1415.0,1400,2.7279,34.4568,2,-999.,9,39.89,2,147.74,2,42.86,2,0.00,2,3.03,2,-999.,9,-999.,9,-999.,9,-999,9,-999,9
49UF20101002,KS10-07,2764,1,3,21962,2,20101007,1053,32.0033,147.9267,5687,1617.8,1600,2.3926,34.5164,2,-999.,9,47.43,2,156.62,2,43.08,2,0.00,2,3.01,2,-999.,9,-999.,9,-999.,9,-999,9,-999,9
49UF20101002,KS10-07,2764,1,2,21961,2,20101007,1048,32.0033,147.9267,5687,1821.9,1801,2.1838,34.5539,2,-999.,9,56.95,2,160.54,2,42.53,2,0.00,2,2.96,2,-999.,9,-999.,9,-999.,9,-999,9,-999,9
49UF20101002,KS10-07,2764,1,1,21960,2,20101007,1043,32.0033,147.9267,5687,2025.4,2002,2.0062,34.5853,2,-999.,9,70.24,2,162.56,2,41.68,2,0.00,2,2.90,2,-999.,9,-999.,9,-999.,9,-999,9,-999,9