BOTTLE,20171117JMAGEMD
EXPOCODE,SECT_ID,STNNBR,CASTNO,SAMPNO,BTLNBR,BTLNBR_FLAG_W,DATE,TIME,LATITUDE,LONGITUDE,DEPTH,CTDPRS,CTDDEP,CTDTMP,CTDSAL,CTDSAL_FLAG_W,SALNTY,SALNTY_FLAG_W,OXYGEN,OXYGEN_FLAG_W,SILCAT,SILCAT_FLAG_W,NO2+NO3,NO2+NO3_FLAG_W,NITRIT,NITRIT_FLAG_W,PHSPHT,PHSPHT_FLAG_W,TCARBN,TCARBN_FLAG_W,ALKALI,ALKALI_FLAG_W,PH_TOT,PH_TOT_FLAG_W,CFC-11,CFC-11_FLAG_W,CFC-12,CFC-12_FLAG_W
,,,,,,,UTC,UTC,,,METER,DBAR,METERS,ITS-90,PSS-78,,PSS-78,,UMOL/KG,,UMOL/KG,,UMOL/KG,,UMOL/KG,,UMOL/KG,,UMOL/KG,,UMOL/KG,,@25DEG-C,,PMOL/KG,,PMOL/KG,
49UF20101002,KS10-07,2750,1,-999,0,2,20101004,1820,31.0262,144.0128,5801,0.0,0,26.0542,34.6619,2,-999.0000,9,207.42,2,1.77,2,0.05,2,0.00,2,0.01,2,-999.,9,-999.,9,-999.,9,-999,9,-999,9
49UF20101002,KS10-07,2750,1,33,21993,2,20101004,1841,31.0262,144.0128,5801,11.6,12,26.0532,34.6620,2,34.6612,2,208.16,2,1.73,2,0.03,2,0.00,2,0.00,2,-999.,9,-999.,9,-999.,9,-999,9,-999,9
49UF20101002,KS10-07,2750,1,32,21992,2,20101004,1840,31.0262,144.0128,5801,25.7,26,25.8690,34.6564,2,-999.0000,9,209.74,2,1.71,2,0.00,2,0.00,2,0.00,2,-999.,9,-999.,9,-999.,9,-999,9,-999,9
49UF20101002,KS10-07,2750,1,31,21991,2,20101004,1835,31.0262,144.0128,5801,53.3,53,24.2930,34.6567,2,-999.0000,9,212.88,2,1.90,2,0.00,2,0.00,2,0.00,2,-999.,9,-999.,9,-999.,9,-999,9,-999,9
49UF20101002,KS10-07,2750,1,30,21990,2,20101004,1834,31.0262,144.0128,5801,78.2,78,21.4645,34.7228,2,-999.0000,9,217.34,2,2.19,2,0.46,2,0.06,2,0.03,2,-999.,9,-999.,9,-999.,9,-999,9,-999,9
49UF20101002,KS10-07,2750,1,29,21989,2,20101004,1833,31.0262,144.0128,5801,102.3,102,19.7771,34.7098,2,34.7132,2,220.16,6,2.50,6,0.81,6,0.12,6,0.06,6,-999.,9,-999.,9,-999.,9,-999,9,-999,9
49UF20101002,KS10-07,2750,1,28,21988,2,20101004,1831,31.0262,144.0128,5801,127.7,127,18.8750,34.7109,2,-999.0000,9,213.35,2,2.57,2,1.96,2,0.04,2,0.13,2,-999.,9,-999.,9,-999.,9,-999,9,-999,9
49UF20101002,KS10-07,2750,1,24,21984,2,20101004,1830,31.0262,144.0128,5801,153.2,152,18.5576,34.7055,2,-999.0000,9,211.88,2,2.86,2,2.73,2,0.02,2,0.16,2,-999.,9,-999.,9,-999.,9,-999,9,-999,9
49UF20101002,KS10-07,2750,1,23,21983,2,20101004,1828,31.0262,144.0128,5801,204.3,203,17.9847,34.6867,2,34.6860,2,212.68,2,3.28,2,3.31,2,0.01,2,0.22,2,-999.,9,-999.,9,-999.,9,-999,9,-999,9
49UF20101002,KS10-07,2750,1,22,21982,2,20101004,1826,31.0262,144.0128,5801,251.9,250,17.5669,34.6813,2,-999.0000,9,213.24,2,3.85,2,3.95,2,0.01,2,0.25,2,-999.,9,-999.,9,-999.,9,-999,9,-999,9
49UF20101002,KS10-07,2750,1,21,21981,2,20101004,1824,31.0262,144.0128,5801,304.7,302,17.2312,34.6831,2,-999.0000,9,208.91,2,4.77,2,4.97,2,0.01,2,0.31,2,-999.,9,-999.,9,-999.,9,-999,9,-999,9
49UF20101002,KS10-07,2750,1,20,21980,3,20101004,1821,31.0262,144.0128,5801,406.4,403,15.7131,34.6237,2,34.6247,2,184.64,2,10.02,2,9.36,2,0.00,2,0.61,2,-999.,9,-999.,9,-999.,9,-999,9,-999,9
49UF20101002,KS10-07,2750,1,19,21978,2,20101004,1818,31.0262,144.0128,5801,506.4,502,13.0162,34.4473,2,-999.0000,9,177.60,2,19.37,2,14.30,2,0.00,2,0.98,2,-999.,9,-999.,9,-999.,9,-999,9,-999,9
49UF20101002,KS10-07,2750,1,15,21974,2,20101004,1815,31.0262,144.0128,5801,608.9,604,10.0897,34.2298,2,34.2347,6,175.70,2,30.16,2,19.06,2,0.00,2,1.34,2,-999.,9,-999.,9,-999.,9,-999,9,-999,9
49UF20101002,KS10-07,2750,1,14,21973,2,20101004,1812,31.0262,144.0128,5801,708.8,703,6.8731,34.0658,2,-999.0000,9,146.68,2,53.66,2,27.46,2,0.00,2,1.98,2,-999.,9,-999.,9,-999.,9,-999,9,-999,9
49UF20101002,KS10-07,2750,1,13,21972,2,20101004,1809,31.0262,144.0128,5801,809.9,803,5.3177,34.0672,2,34.0666,6,104.01,2,75.61,2,34.03,2,0.00,2,2.46,2,-999.,9,-999.,9,-999.,9,-999,9,-999,9
49UF20101002,KS10-07,2750,1,12,21971,3,20101004,1806,31.0262,144.0128,5801,911.1,903,4.6057,34.1537,2,-999.0000,9,72.14,6,93.49,6,37.77,6,0.00,6,2.73,6,-999.,9,-999.,9,-999.,9,-999,9,-999,9
49UF20101002,KS10-07,2750,1,11,21970,2,20101004,1803,31.0262,144.0128,5801,1011.6,1002,4.1002,34.2353,2,34.2377,2,56.17,2,108.70,2,40.01,2,0.00,2,2.86,2,-999.,9,-999.,9,-999.,9,-999,9,-999,9
49UF20101002,KS10-07,2750,1,10,21969,2,20101004,1758,31.0262,144.0128,5801,1217.1,1205,3.2783,34.3689,2,34.3665,2,44.90,2,131.37,2,41.76,2,0.00,2,2.99,2,-999.,9,-999.,9,-999.,9,-999,9,-999,9
49UF20101002,KS10-07,2750,1,6,21965,2,20101004,1753,31.0262,144.0128,5801,1419.6,1405,2.8094,34.4514,2,34.4499,2,43.24,2,144.46,2,41.95,2,0.00,2,3.02,2,-999.,9,-999.,9,-999.,9,-999,9,-999,9
49UF20101002,KS10-07,2750,1,5,21964,2,20101004,1748,31.0262,144.0128,5801,1620.3,1603,2.4528,34.5070,2,34.5062,2,47.99,2,154.33,2,42.11,2,0.00,2,3.01,2,-999.,9,-999.,9,-999.,9,-999,9,-999,9
49UF20101002,KS10-07,2750,1,4,21963,2,20101004,1743,31.0262,144.0128,5801,1823.7,1803,2.2133,34.5538,2,-999.0000,9,60.50,2,158.59,2,41.83,2,0.00,2,2.95,2,-999.,9,-999.,9,-999.,9,-999,9,-999,9
49UF20101002,KS10-07,2750,1,3,21962,2,20101004,1743,31.0262,144.0128,5801,1823.7,1803,2.2133,34.5538,2,34.5523,2,59.21,2,158.30,2,41.74,2,0.00,2,2.96,2,-999.,9,-999.,9,-999.,9,-999,9,-999,9
49UF20101002,KS10-07,2750,1,2,21961,2,20101004,1739,31.0262,144.0128,5801,2025.2,2002,2.0206,34.5880,2,-999.0000,9,74.43,2,159.95,2,40.86,2,0.00,2,2.89,2,-999.,9,-999.,9,-999.,9,-999,9,-999,9
49UF20101002,KS10-07,2750,1,1,21960,2,20101004,1739,31.0262,144.0128,5801,2025.2,2002,2.0206,34.5880,2,34.5874,2,74.61,2,160.04,2,40.91,2,0.00,2,2.88,2,-999.,9,-999.,9,-999.,9,-999,9,-999,9
49UF20101002,KS10-07,2752,1,-999,0,2,20101005,0455,29.9852,145.0908,5835,0.0,0,25.8857,34.5052,2,-999.,9,208.34,2,1.45,2,0.04,2,0.00,2,0.00,2,-999.0,9,-999.0,9,-999.0000,9,-999,9,-999,9
49UF20101002,KS10-07,2752,1,33,21993,2,20101005,0516,29.9852,145.0908,5835,13.0,13,25.8922,34.5031,2,-999.,9,209.66,2,1.42,2,0.02,2,0.00,2,0.00,2,1956.0,2,2272.0,2,8.0773,2,-999,9,-999,9
49UF20101002,KS10-07,2752,1,32,21992,2,20101005,0515,29.9852,145.0908,5835,27.7,28,25.8576,34.5408,2,-999.,9,210.28,2,1.43,2,0.02,2,0.00,2,0.00,2,1951.7,2,2269.7,2,8.0781,2,-999,9,-999,9
49UF20101002,KS10-07,2752,1,31,21991,2,20101005,0511,29.9852,145.0908,5835,52.5,52,25.4929,34.7847,2,-999.,9,219.65,2,1.37,2,0.00,2,0.00,2,0.00,2,1970.2,2,2285.2,2,8.0732,2,-999,9,-999,9
49UF20101002,KS10-07,2752,1,30,21990,2,20101005,0510,29.9852,145.0908,5835,76.1,76,22.4534,34.7732,2,-999.,9,230.34,2,1.57,2,0.02,2,0.00,2,0.00,2,1983.8,2,2251.7,4,8.0555,2,-999,9,-999,9
49UF20101002,KS10-07,2752,1,29,21989,2,20101005,0509,29.9852,145.0908,5835,103.2,102,19.7526,34.7633,2,-999.,9,224.50,2,1.81,2,0.01,2,0.00,2,0.00,2,2004.0,2,2285.2,2,8.0133,2,-999,9,-999,9
49UF20101002,KS10-07,2752,1,28,21988,2,20101005,0507,29.9852,145.0908,5835,128.1,127,19.0125,34.7262,2,-999.,9,221.20,6,2.05,6,0.11,6,0.10,6,0.03,6,2008.1,2,2280.8,2,8.0044,2,-999,9,-999,9
49UF20101002,KS10-07,2752,1,24,21984,2,20101005,0506,29.9852,145.0908,5835,154.2,153,18.4702,34.6999,2,-999.,9,215.20,2,2.35,2,1.04,2,0.09,2,0.09,2,2017.5,2,2280.9,2,7.9905,2,-999,9,-999,9
49UF20101002,KS10-07,2752,1,23,21983,2,20101005,0505,29.9852,145.0908,5835,204.7,203,17.6702,34.6883,2,-999.,9,209.40,2,3.64,2,3.96,2,0.01,2,0.24,2,2028.1,2,2277.6,2,7.9664,2,-999,9,-999,9
49UF20101002,KS10-07,2752,1,22,21982,2,20101005,0503,29.9852,145.0908,5835,254.8,253,17.2374,34.6839,2,-999.,9,208.47,2,4.35,2,4.81,2,0.01,2,0.31,2,2036.7,2,2278.9,2,7.9456,2,-999,9,-999,9
49UF20101002,KS10-07,2752,1,21,21981,2,20101005,0502,29.9852,145.0908,5835,304.9,303,16.5060,34.6622,2,-999.,9,186.95,2,8.27,2,7.95,2,0.00,2,0.52,2,2056.8,6,2280.0,6,7.9031,6,-999,9,-999,9
49UF20101002,KS10-07,2752,1,20,21980,2,20101005,0459,29.9852,145.0908,5835,405.9,403,13.9784,34.5110,2,-999.,9,181.21,2,15.14,2,12.24,2,0.00,2,0.83,2,2086.5,2,2276.9,2,7.8355,2,-999,9,-999,9
49UF20101002,KS10-07,2752,1,19,21978,2,20101005,0457,29.9852,145.0908,5835,506.1,502,10.8016,34.2855,2,-999.,9,174.69,2,27.91,2,17.86,2,0.00,2,1.26,2,2139.5,2,2284.7,2,7.7313,2,-999,9,-999,9
49UF20101002,KS10-07,2752,1,15,21974,2,20101005,0454,29.9852,145.0908,5835,607.8,603,7.4543,34.0679,2,-999.,9,158.44,2,46.34,2,25.23,2,0.00,2,1.81,2,2193.7,2,2285.2,2,7.6124,2,-999,9,-999,9
49UF20101002,KS10-07,2752,1,14,21973,2,20101005,0454,29.9852,145.0908,5835,607.8,603,7.4543,34.0679,2,-999.,9,158.49,2,46.22,2,25.25,2,0.00,2,1.81,2,2183.4,2,2282.9,2,7.6042,2,-999,9,-999,9
49UF20101002,KS10-07,2752,1,13,21972,2,20101005,0452,29.9852,145.0908,5835,708.9,703,5.6509,34.0412,2,-999.,9,119.28,2,68.98,2,32.05,2,0.00,2,2.32,2,2247.9,2,2295.9,2,7.4854,2,-999,9,-999,9
49UF20101002,KS10-07,2752,1,12,21971,2,20101005,0451,29.9852,145.0908,5835,708.9,703,5.6509,34.0412,2,-999.,9,119.07,2,68.73,2,32.01,2,0.00,2,2.32,2,2249.5,2,2295.7,2,7.4946,2,-999,9,-999,9
49UF20101002,KS10-07,2752,1,11,21970,2,20101005,0449,29.9852,145.0908,5835,810.0,803,4.7352,34.1245,2,-999.,9,79.95,2,89.44,2,36.82,2,0.00,2,2.65,2,2294.5,2,2316.0,2,7.4157,2,-999,9,-999,9
49UF20101002,KS10-07,2752,1,10,21969,2,20101005,0447,29.9852,145.0908,5835,909.5,901,4.1825,34.2209,2,-999.,9,54.03,2,105.67,2,39.67,2,0.00,2,2.85,2,2330.9,6,2335.3,6,7.3710,6,-999,9,-999,9
49UF20101002,KS10-07,2752,1,6,21965,2,20101005,0444,29.9852,145.0908,5835,1012.7,1003,3.7046,34.3067,2,-999.,9,41.63,6,119.85,6,41.33,6,0.00,6,2.97,6,2353.2,2,2348.8,2,7.3555,2,-999,9,-999,9
49UF20101002,KS10-07,2752,1,5,21964,2,20101005,0439,29.9852,145.0908,5835,1215.3,1204,3.0816,34.4085,2,-999.,9,40.07,2,137.08,2,41.97,2,0.00,2,3.00,2,2372.6,2,2368.4,2,7.3540,2,-999,9,-999,9
49UF20101002,KS10-07,2752,1,4,21963,2,20101005,0435,29.9852,145.0908,5835,1413.2,1399,2.6395,34.4845,2,-999.,9,43.73,2,148.89,2,42.33,2,0.00,2,3.02,2,2384.7,2,2382.4,2,7.3637,2,-999,9,-999,9
49UF20101002,KS10-07,2752,1,3,21962,2,20101005,0431,29.9852,145.0908,5835,1619.7,1602,2.3306,34.5344,2,-999.,9,54.48,2,155.73,2,41.69,2,0.00,2,2.95,2,2385.5,2,2399.8,2,7.3804,2,-999,9,-999,9
49UF20101002,KS10-07,2752,1,2,21961,2,20101005,0426,29.9852,145.0908,5835,1822.4,1802,2.1200,34.5741,2,-999.,9,70.23,2,157.21,2,40.88,2,0.00,2,2.89,2,2379.3,2,2408.4,2,7.4167,2,-999,9,-999,9
49UF20101002,KS10-07,2752,1,1,21960,2,20101005,0422,29.9852,145.0908,5835,2025.4,2002,1.9430,34.6058,2,-999.,9,93.13,2,154.46,2,39.55,2,0.00,2,2.77,2,2372.8,2,2406.3,2,7.4607,2,-999,9,-999,9
49UF20101002,KS10-07,2754,1,-999,0,2,20101005,1505,28.9908,145.9885,5943,0.0,0,27.1485,34.5353,2,-999.,9,203.76,2,1.66,2,0.00,2,0.00,2,0.00,2,-999.,9,-999.,9,-999.,9,-999,9,-999,9
49UF20101002,KS10-07,2754,1,33,21993,2,20101005,1522,28.9908,145.9885,5943,12.2,12,27.1495,34.5353,2,-999.,9,203.61,2,1.66,2,0.00,2,0.00,2,0.00,2,-999.,9,-999.,9,-999.,9,-999,9,-999,9
49UF20101002,KS10-07,2754,1,32,21992,2,20101005,1520,28.9908,145.9885,5943,26.7,27,27.0456,34.5746,2,-999.,9,205.22,2,1.66,2,0.00,2,0.00,2,0.00,2,-999.,9,-999.,9,-999.,9,-999,9,-999,9
49UF20101002,KS10-07,2754,1,31,21991,2,20101005,1517,28.9908,145.9885,5943,52.8,52,25.4219,34.6040,2,-999.,9,220.87,2,1.70,2,0.00,2,0.00,2,0.00,2,-999.,9,-999.,9,-999.,9,-999,9,-999,9
49UF20101002,KS10-07,2754,1,30,21990,2,20101005,1516,28.9908,145.9885,5943,76.8,76,20.7841,34.7218,2,-999.,9,220.80,2,2.29,2,0.02,2,0.01,2,0.01,2,-999.,9,-999.,9,-999.,9,-999,9,-999,9
49UF20101002,KS10-07,2754,1,29,21989,2,20101005,1514,28.9908,145.9885,5943,102.2,101,19.4480,34.7148,2,-999.,9,215.83,2,2.50,2,1.01,2,0.10,2,0.07,2,-999.,9,-999.,9,-999.,9,-999,9,-999,9
49UF20101002,KS10-07,2754,1,28,21988,2,20101005,1513,28.9908,145.9885,5943,126.9,126,18.8490,34.7058,2,-999.,9,211.95,2,2.71,2,1.83,2,0.04,2,0.12,2,-999.,9,-999.,9,-999.,9,-999,9,-999,9
49UF20101002,KS10-07,2754,1,24,21984,2,20101005,1512,28.9908,145.9885,5943,153.2,152,18.2462,34.6964,2,-999.,9,208.39,2,3.54,6,3.21,6,0.02,2,0.21,6,-999.,9,-999.,9,-999.,9,-999,9,-999,9
49UF20101002,KS10-07,2754,1,23,21983,2,20101005,1510,28.9908,145.9885,5943,202.8,201,17.7526,34.7038,2,-999.,9,204.07,2,4.14,2,4.49,2,0.01,2,0.28,2,-999.,9,-999.,9,-999.,9,-999,9,-999,9
49UF20101002,KS10-07,2754,1,22,21982,2,20101005,1509,28.9908,145.9885,5943,253.1,251,17.1901,34.7013,2,-999.,9,196.72,2,5.24,2,5.87,2,0.01,2,0.37,2,-999.,9,-999.,9,-999.,9,-999,9,-999,9
49UF20101002,KS10-07,2754,1,21,21981,2,20101005,1507,28.9908,145.9885,5943,303.9,302,16.1970,34.6579,2,-999.,9,190.89,2,7.47,2,7.88,2,0.01,2,0.51,2,-999.,9,-999.,9,-999.,9,-999,9,-999,9
49UF20101002,KS10-07,2754,1,20,21980,2,20101005,1505,28.9908,145.9885,5943,405.1,402,13.1110,34.4573,2,-999.,9,178.08,2,18.29,2,14.09,2,0.00,2,0.96,2,-999.,9,-999.,9,-999.,9,-999,9,-999,9
49UF20101002,KS10-07,2754,1,19,21978,2,20101005,1502,28.9908,145.9885,5943,505.8,502,10.1449,34.2511,2,-999.,9,170.94,2,30.83,2,19.63,2,0.00,3,1.38,2,-999.,9,-999.,9,-999.,9,-999,9,-999,9
49UF20101002,KS10-07,2754,1,15,21974,2,20101005,1459,28.9908,145.9885,5943,607.7,603,7.0901,34.0675,2,-999.,9,151.48,2,51.40,2,26.70,2,0.00,3,1.92,2,-999.,9,-999.,9,-999.,9,-999,9,-999,9
49UF20101002,KS10-07,2754,1,14,21973,2,20101005,1457,28.9908,145.9885,5943,707.5,702,5.4249,34.0432,2,-999.,9,113.80,2,72.72,2,33.22,2,0.00,3,2.39,2,-999.,9,-999.,9,-999.,9,-999,9,-999,9
49UF20101002,KS10-07,2754,1,13,21972,2,20101005,1454,28.9908,145.9885,5943,808.6,802,4.6280,34.1366,2,-999.,9,75.45,2,93.04,2,37.84,2,0.00,3,2.70,2,-999.,9,-999.,9,-999.,9,-999,9,-999,9
49UF20101002,KS10-07,2754,1,12,21971,2,20101005,1454,28.9908,145.9885,5943,808.6,802,4.6280,34.1366,2,-999.,9,76.53,2,92.71,2,37.78,2,0.00,3,2.70,2,-999.,9,-999.,9,-999.,9,-999,9,-999,9
49UF20101002,KS10-07,2754,1,11,21970,2,20101005,1451,28.9908,145.9885,5943,909.1,901,4.0323,34.2400,2,-999.,9,53.78,2,109.87,2,40.28,2,0.00,3,2.88,2,-999.,9,-999.,9,-999.,9,-999,9,-999,9
49UF20101002,KS10-07,2754,1,10,21969,2,20101005,1451,28.9908,145.9885,5943,909.1,901,4.0323,34.2400,2,-999.,9,53.43,2,110.48,2,40.35,2,0.00,3,2.88,2,-999.,9,-999.,9,-999.,9,-999,9,-999,9
49UF20101002,KS10-07,2754,1,6,21965,2,20101005,1448,28.9908,145.9885,5943,1011.1,1002,3.6426,34.3059,2,-999.,9,44.80,2,121.96,2,41.41,2,0.00,3,2.95,2,-999.,9,-999.,9,-999.,9,-999,9,-999,9
49UF20101002,KS10-07,2754,1,5,21964,2,20101005,1444,28.9908,145.9885,5943,1214.2,1203,3.0451,34.4094,2,-999.,9,36.84,6,138.73,6,42.68,6,0.00,3,3.04,6,-999.,9,-999.,9,-999.,9,-999,9,-999,9
49UF20101002,KS10-07,2754,1,4,21963,2,20101005,1439,28.9908,145.9885,5943,1416.6,1402,2.6103,34.4799,2,-999.,9,40.76,2,150.80,2,42.83,2,0.00,3,3.04,2,-999.,9,-999.,9,-999.,9,-999,9,-999,9
49UF20101002,KS10-07,2754,1,3,21962,2,20101005,1435,28.9908,145.9885,5943,1619.9,1603,2.2936,34.5363,2,-999.,9,51.93,2,157.86,2,42.55,2,0.00,3,3.00,2,-999.,9,-999.,9,-999.,9,-999,9,-999,9
49UF20101002,KS10-07,2754,1,2,21961,3,20101005,1430,28.9908,145.9885,5943,1820.8,1801,2.0738,34.5766,2,-999.,9,68.00,2,160.14,2,41.45,2,0.00,4,2.91,2,-999.,9,-999.,9,-999.,9,-999,9,-999,9
49UF20101002,KS10-07,2754,1,1,21960,2,20101005,1425,28.9908,145.9885,5943,2024.3,2001,1.8938,34.6076,2,-999.,9,85.28,2,160.16,2,40.29,2,0.00,3,2.83,2,-999.,9,-999.,9,-999.,9,-999,9,-999,9
49UF20101002,KS10-07,2756,1,-999,0,2,20101006,0120,27.9973,146.9802,5772,0.0,0,27.9557,34.4461,2,-999.0000,9,201.02,2,1.58,2,0.00,2,0.00,2,0.00,2,-999.0,9,-999.0,9,-999.0000,9,-999,9,-999,9
49UF20101002,KS10-07,2756,1,33,21993,2,20101006,0136,27.9973,146.9802,5772,10.7,11,27.8469,34.4445,2,34.4445,2,201.44,2,1.56,2,0.00,2,0.00,2,0.00,2,1947.0,2,2263.1,2,8.0824,2,-999,9,-999,9
49UF20101002,KS10-07,2756,1,32,21992,2,20101006,0135,27.9973,146.9802,5772,26.1,26,27.5208,34.5763,2,-999.0000,9,209.86,2,1.58,2,0.00,2,0.00,2,0.00,2,1956.8,2,2268.5,2,8.0783,2,-999,9,-999,9
49UF20101002,KS10-07,2756,1,31,21991,2,20101006,0130,27.9973,146.9802,5772,52.2,52,22.2043,34.8374,2,-999.0000,9,229.68,2,1.66,2,0.00,2,0.00,2,0.00,2,1984.2,2,2284.2,2,8.0550,2,-999,9,-999,9
49UF20101002,KS10-07,2756,1,30,21990,2,20101006,0128,27.9973,146.9802,5772,77.1,77,20.5589,34.7497,2,-999.0000,9,227.47,2,1.83,2,0.00,2,0.00,2,0.00,2,1992.0,2,2278.3,2,8.0330,2,-999,9,-999,9
49UF20101002,KS10-07,2756,1,29,21989,2,20101006,0127,27.9973,146.9802,5772,101.4,101,19.2244,34.7121,2,34.7119,2,221.61,2,2.19,2,0.22,2,0.11,2,0.03,2,2005.0,2,2276.4,2,8.0089,2,-999,9,-999,9
49UF20101002,KS10-07,2756,1,28,21988,2,20101006,0125,27.9973,146.9802,5772,126.8,126,18.7281,34.7042,2,-999.0000,9,214.83,2,2.50,2,1.40,2,0.09,2,0.10,2,2011.5,2,2277.0,2,7.9922,2,-999,9,-999,9
49UF20101002,KS10-07,2756,1,24,21984,2,20101006,0124,27.9973,146.9802,5772,152.3,151,18.3455,34.6941,2,-999.0000,9,212.35,2,2.88,2,2.58,2,0.02,2,0.16,2,2019.0,2,2277.3,2,7.9791,2,-999,9,-999,9
49UF20101002,KS10-07,2756,1,23,21983,3,20101006,0122,27.9973,146.9802,5772,202.3,201,17.7934,34.6849,2,34.6843,2,215.81,6,3.32,6,3.35,6,0.01,6,0.21,6,2015.6,2,2276.8,2,7.9807,2,-999,9,-999,9
49UF20101002,KS10-07,2756,1,22,21982,2,20101006,0120,27.9973,146.9802,5772,253.4,252,17.4221,34.6792,2,-999.0000,9,218.69,2,3.73,2,3.67,2,0.01,2,0.23,2,2024.7,6,2277.7,6,7.9697,6,-999,9,-999,9
49UF20101002,KS10-07,2756,1,21,21981,2,20101006,0118,27.9973,146.9802,5772,304.2,302,17.0842,34.6843,2,-999.0000,9,206.89,2,5.08,2,5.27,2,0.01,2,0.33,2,2039.2,2,2281.4,2,7.9391,2,-999,9,-999,9
49UF20101002,KS10-07,2756,1,20,21980,2,20101006,0115,27.9973,146.9802,5772,406.0,403,14.6518,34.5578,2,34.5583,2,185.87,2,11.80,2,10.64,2,0.00,2,0.71,2,2081.4,2,2275.4,2,7.8599,2,-999,9,-999,9
49UF20101002,KS10-07,2756,1,19,21978,2,20101006,0111,27.9973,146.9802,5772,506.0,502,11.4057,34.3272,2,-999.0000,9,181.71,2,22.44,2,16.35,2,0.00,2,1.13,2,2124.2,2,2275.2,2,7.7566,2,-999,9,-999,9
49UF20101002,KS10-07,2756,1,15,21974,2,20101006,0108,27.9973,146.9802,5772,605.8,601,8.0457,34.1205,2,34.1207,2,157.36,2,43.45,2,24.34,2,0.00,2,1.74,2,2187.7,2,2284.2,2,7.6296,2,-999,9,-999,9
49UF20101002,KS10-07,2756,1,14,21973,2,20101006,0105,27.9973,146.9802,5772,707.3,701,5.9134,34.0615,2,-999.0000,9,123.08,2,66.93,2,31.43,2,0.00,2,2.26,2,2244.9,6,2297.4,6,7.5048,6,-999,9,-999,9
49UF20101002,KS10-07,2756,1,13,21972,2,20101006,0102,27.9973,146.9802,5772,808.7,802,4.8569,34.1313,2,34.1304,2,81.26,2,87.84,2,36.67,2,0.00,2,2.64,2,2293.4,2,2313.6,2,7.4219,2,-999,9,-999,9
49UF20101002,KS10-07,2756,1,12,21971,2,20101006,0059,27.9973,146.9802,5772,906.6,899,4.2671,34.2141,2,-999.0000,9,56.95,2,103.68,2,39.35,2,0.00,2,2.84,2,2328.2,2,2326.3,2,7.3788,2,-999,9,-999,9
49UF20101002,KS10-07,2756,1,11,21970,2,20101006,0056,27.9973,146.9802,5772,1006.4,997,3.8282,34.2888,2,-999.0000,9,44.92,2,116.30,2,40.95,2,0.00,2,2.94,2,2346.5,2,2346.2,2,7.3584,2,-999,9,-999,9
49UF20101002,KS10-07,2756,1,10,21969,2,20101006,0056,27.9973,146.9802,5772,1006.4,997,3.8282,34.2888,2,34.2892,6,45.24,2,116.06,2,41.00,2,0.00,2,2.93,2,2356.1,2,2346.4,2,7.3616,2,-999,9,-999,9
49UF20101002,KS10-07,2756,1,6,21965,2,20101006,0052,27.9973,146.9802,5772,1212.8,1201,3.2211,34.4215,2,-999.0000,9,45.22,2,131.95,2,42.04,2,0.00,2,2.99,2,2373.0,2,2367.9,2,7.3751,2,-999,9,-999,9
49UF20101002,KS10-07,2756,1,5,21964,2,20101006,0052,27.9973,146.9802,5772,1212.8,1201,3.2211,34.4215,2,34.4205,6,45.31,2,131.93,2,42.00,2,0.00,2,2.99,2,2371.8,2,2367.7,2,7.3734,2,-999,9,-999,9
49UF20101002,KS10-07,2756,1,4,21963,2,20101006,0047,27.9973,146.9802,5772,1415.1,1401,2.7947,34.4870,2,34.4921,2,52.83,6,141.80,6,41.72,6,0.00,6,2.97,6,2376.3,2,2382.1,2,7.3869,2,-999,9,-999,9
49UF20101002,KS10-07,2756,1,3,21962,2,20101006,0042,27.9973,146.9802,5772,1617.7,1601,2.4428,34.5386,2,34.5373,2,65.71,2,148.28,2,41.20,2,0.00,2,2.92,2,2379.1,2,2393.3,2,7.4170,2,-999,9,-999,9
49UF20101002,KS10-07,2756,1,2,21961,2,20101006,0038,27.9973,146.9802,5772,1820.6,1801,2.1416,34.5790,2,34.5780,2,80.29,2,152.11,2,40.48,2,0.00,2,2.84,2,2374.6,2,2406.6,2,7.4438,2,-999,9,-999,9
49UF20101002,KS10-07,2756,1,1,21960,2,20101006,0033,27.9973,146.9802,5772,2024.3,2001,1.9516,34.6043,2,34.6029,2,93.49,2,154.05,2,39.77,2,0.00,2,2.79,2,2371.1,2,2412.3,2,7.4683,2,-999,9,-999,9