BOTTLE,20171117JMAGEMD
EXPOCODE,SECT_ID,STNNBR,CASTNO,SAMPNO,BTLNBR,BTLNBR_FLAG_W,DATE,TIME,LATITUDE,LONGITUDE,DEPTH,CTDPRS,CTDDEP,CTDTMP,CTDSAL,CTDSAL_FLAG_W,SALNTY,SALNTY_FLAG_W,OXYGEN,OXYGEN_FLAG_W,SILCAT,SILCAT_FLAG_W,NO2+NO3,NO2+NO3_FLAG_W,NITRIT,NITRIT_FLAG_W,PHSPHT,PHSPHT_FLAG_W,TCARBN,TCARBN_FLAG_W,ALKALI,ALKALI_FLAG_W,PH_TOT,PH_TOT_FLAG_W,CFC-11,CFC-11_FLAG_W,CFC-12,CFC-12_FLAG_W
,,,,,,,UTC,UTC,,,METER,DBAR,METERS,ITS-90,PSS-78,,PSS-78,,UMOL/KG,,UMOL/KG,,UMOL/KG,,UMOL/KG,,UMOL/KG,,UMOL/KG,,UMOL/KG,,@25DEG-C,,PMOL/KG,,PMOL/KG,
49UF20101002,KS10-07,2826,1,-999,0,2,20101027,2215,37.9912,135.1727,2996,0.0,0,19.5912,33.1185,2,-999.0000,9,232.53,2,2.09,2,0.06,2,0.00,2,0.04,2,-999.,9,-999.,9,-999.,9,-999,9,-999,9
49UF20101002,KS10-07,2826,1,35,21995,2,20101027,2231,37.9912,135.1727,2996,12.0,12,19.6024,33.1186,2,33.1212,4,231.62,2,2.00,2,0.01,2,0.00,2,0.00,2,-999.,9,-999.,9,-999.,9,-999,9,-999,9
49UF20101002,KS10-07,2826,1,34,21994,2,20101027,2230,37.9912,135.1727,2996,26.5,26,19.6015,33.1233,2,-999.0000,9,231.37,2,2.00,2,0.00,2,0.00,2,0.00,2,-999.,9,-999.,9,-999.,9,-999,9,-999,9
49UF20101002,KS10-07,2826,1,33,21993,2,20101027,2226,37.9912,135.1727,2996,51.8,51,14.9327,34.3450,2,-999.0000,9,216.48,2,8.93,2,5.72,2,0.05,2,0.42,2,-999.,9,-999.,9,-999.,9,-999,9,-999,9
49UF20101002,KS10-07,2826,1,32,21992,2,20101027,2225,37.9912,135.1727,2996,77.4,77,10.9165,34.2287,2,-999.0000,9,243.24,2,8.40,2,7.30,2,0.01,2,0.52,2,-999.,9,-999.,9,-999.,9,-999,9,-999,9
49UF20101002,KS10-07,2826,1,31,21991,2,20101027,2224,37.9912,135.1727,2996,102.0,101,8.1854,34.1302,2,34.1305,2,256.03,2,11.14,2,9.31,2,0.01,2,0.68,2,-999.,9,-999.,9,-999.,9,-999,9,-999,9
49UF20101002,KS10-07,2826,1,29,21989,2,20101027,2223,37.9912,135.1727,2996,127.8,127,5.4073,34.0864,2,-999.0000,9,251.19,2,18.45,2,13.89,2,0.00,2,1.02,2,-999.,9,-999.,9,-999.,9,-999,9,-999,9
49UF20101002,KS10-07,2826,1,28,21988,2,20101027,2222,37.9912,135.1727,2996,152.5,151,3.6220,34.0673,2,-999.0000,9,250.82,2,22.64,2,16.26,2,0.00,2,1.20,2,-999.,9,-999.,9,-999.,9,-999,9,-999,9
49UF20101002,KS10-07,2826,1,27,21987,2,20101027,2220,37.9912,135.1727,2996,203.4,202,1.8708,34.0654,2,34.0674,2,243.53,2,29.53,2,19.66,2,0.00,2,1.45,2,-999.,9,-999.,9,-999.,9,-999,9,-999,9
49UF20101002,KS10-07,2826,1,26,21986,2,20101027,2218,37.9912,135.1727,2996,253.4,251,1.3186,34.0672,2,-999.0000,9,233.51,2,34.96,2,21.65,2,0.00,2,1.61,2,-999.,9,-999.,9,-999.,9,-999,9,-999,9
49UF20101002,KS10-07,2826,1,25,21985,2,20101027,2217,37.9912,135.1727,2996,303.6,301,0.9864,34.0680,2,-999.0000,9,221.04,6,40.20,6,23.44,6,0.00,6,1.76,6,-999.,9,-999.,9,-999.,9,-999,9,-999,9
49UF20101002,KS10-07,2826,1,22,21982,2,20101027,2214,37.9912,135.1727,2996,405.3,402,0.7124,34.0702,2,34.0708,2,216.26,2,45.15,2,24.30,2,0.00,2,1.85,2,-999.,9,-999.,9,-999.,9,-999,9,-999,9
49UF20101002,KS10-07,2826,1,21,21981,2,20101027,2211,37.9912,135.1727,2996,505.5,501,0.5481,34.0707,2,-999.0000,9,211.31,2,51.24,2,24.75,2,0.00,2,1.90,2,-999.,9,-999.,9,-999.,9,-999,9,-999,9
49UF20101002,KS10-07,2826,1,20,21980,2,20101027,2209,37.9912,135.1727,2996,607.1,602,0.4579,34.0702,2,34.0721,2,208.00,2,55.66,2,25.15,2,0.00,2,1.91,2,-999.,9,-999.,9,-999.,9,-999,9,-999,9
49UF20101002,KS10-07,2826,1,19,21978,2,20101027,2206,37.9912,135.1727,2996,707.1,701,0.3890,34.0700,2,-999.0000,9,207.85,2,59.22,2,25.07,2,0.00,2,1.92,2,-999.,9,-999.,9,-999.,9,-999,9,-999,9
49UF20101002,KS10-07,2826,1,18,21977,2,20101027,2203,37.9912,135.1727,2996,809.6,802,0.3331,34.0694,2,34.0703,2,206.83,2,62.92,2,25.19,2,0.00,2,1.92,2,-999.,9,-999.,9,-999.,9,-999,9,-999,9
49UF20101002,KS10-07,2826,1,17,21976,2,20101027,2201,37.9912,135.1727,2996,910.0,901,0.2951,34.0689,2,-999.0000,9,207.42,4,66.20,2,25.19,2,0.00,2,1.93,2,-999.,9,-999.,9,-999.,9,-999,9,-999,9
49UF20101002,KS10-07,2826,1,14,21973,2,20101027,2158,37.9912,135.1727,2996,1011.9,1002,0.2695,34.0684,2,34.0692,2,205.75,2,68.78,2,25.22,2,0.00,2,1.94,2,-999.,9,-999.,9,-999.,9,-999,9,-999,9
49UF20101002,KS10-07,2826,1,13,21972,2,20101027,2153,37.9912,135.1727,2996,1214.9,1202,0.2318,34.0675,2,34.0693,2,205.37,2,73.87,2,25.25,2,0.00,2,1.95,2,-999.,9,-999.,9,-999.,9,-999,9,-999,9
49UF20101002,KS10-07,2826,1,12,21971,2,20101027,2149,37.9912,135.1727,2996,1417.1,1402,0.2143,34.0676,2,-999.0000,9,204.67,2,77.45,2,25.53,2,0.00,2,1.96,2,-999.,9,-999.,9,-999.,9,-999,9,-999,9
49UF20101002,KS10-07,2826,1,11,21970,2,20101027,2149,37.9912,135.1727,2996,1417.1,1402,0.2143,34.0676,2,34.0676,2,204.50,2,77.43,2,25.43,2,0.00,2,1.96,2,-999.,9,-999.,9,-999.,9,-999,9,-999,9
49UF20101002,KS10-07,2826,1,10,21969,2,20101027,2144,37.9912,135.1727,2996,1620.5,1602,0.2080,34.0672,2,-999.0000,9,203.94,2,80.20,2,25.55,2,0.00,2,1.97,2,-999.,9,-999.,9,-999.,9,-999,9,-999,9
49UF20101002,KS10-07,2826,1,9,21968,2,20101027,2144,37.9912,135.1727,2996,1620.5,1602,0.2080,34.0672,2,34.0678,2,203.77,2,79.84,2,25.33,2,0.00,2,1.96,2,-999.,9,-999.,9,-999.,9,-999,9,-999,9
49UF20101002,KS10-07,2826,1,6,21965,2,20101027,2140,37.9912,135.1727,2996,1824.1,1803,0.2096,34.0673,2,34.0678,2,203.54,2,82.23,2,25.64,2,0.00,2,1.97,2,-999.,9,-999.,9,-999.,9,-999,9,-999,9
49UF20101002,KS10-07,2826,1,5,21964,2,20101027,2135,37.9912,135.1727,2996,2027.2,2002,0.2157,34.0671,2,34.0684,2,203.42,2,83.50,2,25.60,2,0.00,2,1.97,2,-999.,9,-999.,9,-999.,9,-999,9,-999,9
49UF20101002,KS10-07,2826,1,4,21963,2,20101027,2130,37.9912,135.1727,2996,2282.5,2253,0.2296,34.0670,2,-999.0000,9,202.35,2,85.74,2,25.67,2,0.00,2,1.98,2,-999.,9,-999.,9,-999.,9,-999,9,-999,9
49UF20101002,KS10-07,2826,1,3,21962,2,20101027,2124,37.9912,135.1727,2996,2536.6,2503,0.2492,34.0669,2,34.0668,6,202.31,2,86.53,2,25.57,2,0.00,2,1.98,2,-999.,9,-999.,9,-999.,9,-999,9,-999,9
49UF20101002,KS10-07,2826,1,2,21961,2,20101027,2119,37.9912,135.1727,2996,2789.4,2750,0.2700,34.0671,2,-999.0000,9,202.04,6,86.39,6,25.77,6,0.00,6,1.99,6,-999.,9,-999.,9,-999.,9,-999,9,-999,9
49UF20101002,KS10-07,2826,1,1,21960,2,20101027,2115,37.9912,135.1727,2996,2960.1,2917,0.2847,34.0671,2,34.0675,6,202.25,2,86.49,2,25.73,2,0.00,2,1.99,2,-999.,9,-999.,9,-999.,9,-999,9,-999,9
49UF20101002,KS10-07,2827,1,-999,0,2,20101028,0250,37.7072,134.749,2977,0.0,0,20.4108,32.9522,2,-999.,9,222.86,2,1.23,2,0.72,2,0.05,2,0.06,2,-999.0,9,-999.0,9,-999.0000,9,-999,9,-999,9
49UF20101002,KS10-07,2827,1,35,21995,2,20101028,0306,37.7072,134.749,2977,11.8,12,20.4196,32.9523,2,-999.,9,221.91,2,1.15,2,0.67,2,0.05,2,0.02,2,1944.3,2,2225.3,2,8.0572,2,-999,9,-999,9
49UF20101002,KS10-07,2827,1,34,21994,2,20101028,0304,37.7072,134.749,2977,27.2,27,20.4100,32.9506,2,-999.,9,222.22,2,1.15,2,0.63,2,0.05,2,0.02,2,1941.9,2,2228.5,2,8.0590,2,-999,9,-999,9
49UF20101002,KS10-07,2827,1,33,21993,2,20101028,0259,37.7072,134.749,2977,51.9,52,18.6919,34.0507,2,-999.,9,157.61,2,10.98,2,9.35,2,0.07,2,0.53,2,2054.2,2,2255.9,2,7.8763,2,-999,9,-999,9
49UF20101002,KS10-07,2827,1,32,21992,2,20101028,0258,37.7072,134.749,2977,77.7,77,16.6944,34.2746,2,-999.,9,166.47,2,13.58,2,10.04,2,0.03,2,0.64,2,2067.3,2,2265.5,2,7.8659,2,-999,9,-999,9
49UF20101002,KS10-07,2827,1,31,21991,2,20101028,0257,37.7072,134.749,2977,101.9,101,15.2757,34.2906,2,-999.,9,174.91,2,14.28,2,10.33,2,0.02,2,0.69,2,2075.4,2,2263.5,2,7.8445,2,-999,9,-999,9
49UF20101002,KS10-07,2827,1,29,21989,2,20101028,0255,37.7072,134.749,2977,128.3,127,12.4482,34.3162,2,-999.,9,221.57,2,10.10,2,8.07,2,0.02,2,0.58,2,2072.1,2,2262.2,2,7.8619,2,-999,9,-999,9
49UF20101002,KS10-07,2827,1,28,21988,2,20101028,0254,37.7072,134.749,2977,154.4,153,7.6971,34.1179,2,-999.,9,243.28,2,14.35,2,11.47,2,0.01,2,0.84,2,2121.9,2,2259.7,2,7.7450,2,-999,9,-999,9
49UF20101002,KS10-07,2827,1,27,21987,2,20101028,0252,37.7072,134.749,2977,203.5,202,3.6794,34.0672,2,-999.,9,249.37,2,22.07,2,16.03,2,0.01,2,1.19,2,2166.1,2,2258.7,2,7.6216,2,-999,9,-999,9
49UF20101002,KS10-07,2827,1,26,21986,2,20101028,0251,37.7072,134.749,2977,254.3,252,1.7356,34.0655,2,-999.,9,239.55,2,30.81,2,20.16,2,0.00,2,1.50,2,-999.0,9,-999.0,9,-999.0000,9,-999,9,-999,9
49UF20101002,KS10-07,2827,1,25,21985,2,20101028,0249,37.7072,134.749,2977,305.6,303,1.2058,34.0669,2,-999.,9,228.75,2,36.07,2,22.10,2,0.01,2,1.66,2,-999.0,9,-999.0,9,-999.0000,9,-999,9,-999,9
49UF20101002,KS10-07,2827,1,24,21984,2,20101028,0246,37.7072,134.749,2977,406.5,403,0.7658,34.0694,2,-999.,9,214.87,2,44.32,2,24.29,2,0.00,2,1.85,2,2232.4,6,2261.1,6,7.4185,6,-999,9,-999,9
49UF20101002,KS10-07,2827,1,22,21982,2,20101028,0244,37.7072,134.749,2977,506.1,502,0.5942,34.0701,2,-999.,9,210.83,2,49.42,2,24.91,2,0.00,2,1.90,2,-999.0,9,-999.0,9,-999.0000,9,-999,9,-999,9
49UF20101002,KS10-07,2827,1,21,21981,2,20101028,0241,37.7072,134.749,2977,608.3,603,0.4852,34.0703,2,-999.,9,209.19,2,54.14,2,25.17,2,0.00,2,1.92,2,2234.8,2,2264.4,2,7.4196,2,-999,9,-999,9
49UF20101002,KS10-07,2827,1,20,21980,3,20101028,0237,37.7072,134.749,2977,711.6,705,0.4055,34.0699,2,-999.,9,207.72,2,57.97,2,25.19,2,0.00,2,1.92,2,-999.0,9,-999.0,9,-999.0000,9,-999,9,-999,9
49UF20101002,KS10-07,2827,1,19,21978,2,20101028,0235,37.7072,134.749,2977,809.7,802,0.3588,34.0695,2,-999.,9,206.97,2,61.36,2,25.27,2,0.01,2,1.93,2,2245.7,2,2264.3,2,7.4151,2,-999,9,-999,9
49UF20101002,KS10-07,2827,1,18,21977,2,20101028,0235,37.7072,134.749,2977,809.7,802,0.3588,34.0695,2,-999.,9,206.91,6,61.22,6,25.30,6,0.01,6,1.93,6,2243.4,2,2267.9,2,7.4155,2,-999,9,-999,9
49UF20101002,KS10-07,2827,1,17,21976,2,20101028,0232,37.7072,134.749,2977,911.1,902,0.3080,34.0690,2,-999.,9,206.08,2,65.36,2,25.43,2,0.00,2,1.93,2,2245.3,2,2264.0,2,7.4177,2,-999,9,-999,9
49UF20101002,KS10-07,2827,1,14,21973,2,20101028,0230,37.7072,134.749,2977,1007.7,998,0.2780,34.0684,2,-999.,9,-999.00,9,-999.00,9,-999.00,9,-999.00,9,-999.000,9,-999.0,9,-999.0,9,-999.0000,9,-999,9,-999,9
49UF20101002,KS10-07,2827,1,13,21972,2,20101028,0230,37.7072,134.749,2977,1008.6,999,0.2777,34.0684,2,-999.,9,206.05,2,68.23,2,25.43,2,0.00,2,1.94,2,2250.1,6,2272.0,6,7.4188,6,-999,9,-999,9
49UF20101002,KS10-07,2827,1,12,21971,2,20101028,0226,37.7072,134.749,2977,1213.9,1201,0.2385,34.0677,2,-999.,9,205.20,2,72.57,2,25.36,2,0.00,2,1.94,2,2248.7,2,2271.8,2,7.4205,2,-999,9,-999,9
49UF20101002,KS10-07,2827,1,11,21970,2,20101028,0221,37.7072,134.749,2977,1418.5,1403,0.2167,34.0672,2,-999.,9,204.78,2,76.23,2,25.39,2,0.00,2,1.95,2,2252.4,2,2272.7,2,7.4244,2,-999,9,-999,9
49UF20101002,KS10-07,2827,1,10,21969,2,20101028,0217,37.7072,134.749,2977,1618.9,1601,0.2100,34.0671,2,-999.,9,204.18,2,78.93,2,25.34,2,0.00,2,1.95,2,2251.6,2,2273.0,2,7.4223,2,-999,9,-999,9
49UF20101002,KS10-07,2827,1,9,21968,2,20101028,0213,37.7072,134.749,2977,1824.8,1803,0.2105,34.0673,2,-999.,9,203.76,2,81.68,2,25.55,2,0.01,2,1.97,2,2253.8,2,2276.9,2,7.4260,2,-999,9,-999,9
49UF20101002,KS10-07,2827,1,6,21965,2,20101028,0209,37.7072,134.749,2977,2027.3,2002,0.2156,34.0671,2,-999.,9,202.92,2,83.50,2,25.90,2,0.00,2,1.98,2,2254.0,2,2283.2,2,7.4276,2,-999,9,-999,9
49UF20101002,KS10-07,2827,1,5,21964,2,20101028,0209,37.7072,134.749,2977,2027.3,2002,0.2156,34.0671,2,-999.,9,203.27,6,83.64,6,25.69,6,0.01,6,1.98,6,2256.5,2,2277.5,2,7.4267,2,-999,9,-999,9
49UF20101002,KS10-07,2827,1,4,21963,2,20101028,0203,37.7072,134.749,2977,2281.1,2252,0.2291,34.0669,2,-999.,9,202.26,2,85.75,2,25.74,2,0.00,2,1.99,2,2255.0,2,2280.9,2,7.4272,2,-999,9,-999,9
49UF20101002,KS10-07,2827,1,3,21962,2,20101028,0158,37.7072,134.749,2977,2534.3,2500,0.2488,34.0670,2,-999.,9,202.43,2,86.11,2,25.80,2,0.00,2,1.99,2,2256.6,2,2281.4,2,7.4286,2,-999,9,-999,9
49UF20101002,KS10-07,2827,1,2,21961,2,20101028,0153,37.7072,134.749,2977,2790.3,2751,0.2697,34.0668,2,-999.,9,202.48,2,85.67,2,25.79,2,0.00,2,1.98,2,2256.4,2,2281.6,2,7.4267,2,-999,9,-999,9
49UF20101002,KS10-07,2827,1,1,21960,2,20101028,0148,37.7072,134.749,2977,2946.0,2904,0.2828,34.0667,2,-999.,9,202.70,2,85.80,2,25.81,2,0.01,2,1.98,2,2253.5,2,2282.4,2,7.4261,2,-999,9,-999,9
49UF20101002,KS10-07,2828,1,-999,0,2,20101028,0725,37.3208,134.329,2569,0.0,0,19.5938,32.9637,2,-999.,9,229.92,2,2.06,2,0.24,2,0.04,2,0.02,2,-999.,9,-999.,9,-999.,9,-999,9,-999,9
49UF20101002,KS10-07,2828,1,35,21995,3,20101028,0737,37.3208,134.329,2569,13.3,13,19.6018,32.9644,2,-999.,9,230.20,2,1.97,2,0.17,2,0.04,2,0.00,2,-999.,9,-999.,9,-999.,9,-999,9,-999,9
49UF20101002,KS10-07,2828,1,34,21994,2,20101028,0736,37.3208,134.329,2569,25.8,26,19.6042,32.9628,2,-999.,9,230.22,2,1.97,2,0.14,2,0.04,2,0.00,2,-999.,9,-999.,9,-999.,9,-999,9,-999,9
49UF20101002,KS10-07,2828,1,33,21993,2,20101028,0732,37.3208,134.329,2569,52.0,52,17.4391,34.1802,2,-999.,9,202.85,2,7.76,2,6.03,2,0.05,2,0.38,2,-999.,9,-999.,9,-999.,9,-999,9,-999,9
49UF20101002,KS10-07,2828,1,32,21992,2,20101028,0731,37.3208,134.329,2569,77.7,77,15.3739,34.3194,2,-999.,9,183.72,2,13.10,2,9.05,2,0.02,2,0.61,2,-999.,9,-999.,9,-999.,9,-999,9,-999,9
49UF20101002,KS10-07,2828,1,29,21989,2,20101028,0730,37.3208,134.329,2569,104.7,104,12.3304,34.2764,2,-999.,9,247.72,2,2.99,2,2.65,2,0.01,2,0.26,2,-999.,9,-999.,9,-999.,9,-999,9,-999,9
49UF20101002,KS10-07,2828,1,28,21988,2,20101028,0729,37.3208,134.329,2569,127.6,127,10.7670,34.1752,2,-999.,9,245.92,6,2.94,6,3.53,6,0.01,6,0.28,6,-999.,9,-999.,9,-999.,9,-999,9,-999,9
49UF20101002,KS10-07,2828,1,27,21987,2,20101028,0728,37.3208,134.329,2569,153.2,152,10.3332,34.1448,2,-999.,9,255.84,2,6.10,2,6.37,2,0.00,2,0.42,2,-999.,9,-999.,9,-999.,9,-999,9,-999,9
49UF20101002,KS10-07,2828,1,26,21986,2,20101028,0726,37.3208,134.329,2569,203.7,202,10.2248,34.1540,2,-999.,9,260.26,2,6.73,2,6.43,2,0.00,2,0.43,2,-999.,9,-999.,9,-999.,9,-999,9,-999,9
49UF20101002,KS10-07,2828,1,25,21985,2,20101028,0724,37.3208,134.329,2569,253.9,252,9.1605,34.1545,2,-999.,9,259.10,2,8.17,2,7.52,2,0.00,2,0.52,2,-999.,9,-999.,9,-999.,9,-999,9,-999,9
49UF20101002,KS10-07,2828,1,24,21984,2,20101028,0723,37.3208,134.329,2569,304.0,302,5.0076,34.0798,2,-999.,9,252.43,2,18.21,2,13.89,2,0.00,2,1.03,2,-999.,9,-999.,9,-999.,9,-999,9,-999,9
49UF20101002,KS10-07,2828,1,21,21981,2,20101028,0720,37.3208,134.329,2569,405.1,402,1.5226,34.0648,2,-999.,9,230.89,2,34.46,2,21.39,2,0.00,2,1.61,2,-999.,9,-999.,9,-999.,9,-999,9,-999,9
49UF20101002,KS10-07,2828,1,20,21980,2,20101028,0718,37.3208,134.329,2569,506.1,502,0.8943,34.0679,2,-999.,9,216.50,2,43.86,2,23.96,2,0.00,2,1.82,2,-999.,9,-999.,9,-999.,9,-999,9,-999,9
49UF20101002,KS10-07,2828,1,19,21978,2,20101028,0716,37.3208,134.329,2569,607.1,602,0.6109,34.0695,2,-999.,9,211.73,2,50.59,2,24.72,2,0.00,2,1.88,2,-999.,9,-999.,9,-999.,9,-999,9,-999,9
49UF20101002,KS10-07,2828,1,18,21977,2,20101028,0713,37.3208,134.329,2569,709.0,703,0.4835,34.0697,2,-999.,9,209.88,2,56.00,2,24.90,2,0.00,2,1.90,2,-999.,9,-999.,9,-999.,9,-999,9,-999,9
49UF20101002,KS10-07,2828,1,17,21976,2,20101028,0710,37.3208,134.329,2569,809.9,802,0.4110,34.0697,2,-999.,9,208.80,2,59.10,2,24.89,2,0.00,2,1.91,2,-999.,9,-999.,9,-999.,9,-999,9,-999,9
49UF20101002,KS10-07,2828,1,16,21975,2,20101028,0708,37.3208,134.329,2569,911.8,903,0.3638,34.0694,2,-999.,9,207.69,2,61.75,2,25.12,2,0.00,2,1.92,2,-999.,9,-999.,9,-999.,9,-999,9,-999,9
49UF20101002,KS10-07,2828,1,13,21972,2,20101028,0705,37.3208,134.329,2569,1013.5,1004,0.3205,34.0689,2,-999.,9,206.84,2,65.22,2,24.88,2,0.00,2,1.93,2,-999.,9,-999.,9,-999.,9,-999,9,-999,9
49UF20101002,KS10-07,2828,1,12,21971,2,20101028,0701,37.3208,134.329,2569,1215.4,1203,0.2691,34.0681,2,-999.,9,205.32,2,70.39,2,25.24,2,0.00,2,1.94,2,-999.,9,-999.,9,-999.,9,-999,9,-999,9
49UF20101002,KS10-07,2828,1,11,21970,2,20101028,0656,37.3208,134.329,2569,1417.1,1402,0.2351,34.0677,2,-999.,9,204.76,2,75.43,2,25.14,2,0.00,2,1.95,2,-999.,9,-999.,9,-999.,9,-999,9,-999,9
49UF20101002,KS10-07,2828,1,10,21969,2,20101028,0652,37.3208,134.329,2569,1621.7,1603,0.2254,34.0673,2,-999.,9,204.36,2,78.01,2,25.23,2,0.00,2,1.96,2,-999.,9,-999.,9,-999.,9,-999,9,-999,9
49UF20101002,KS10-07,2828,1,9,21968,2,20101028,0648,37.3208,134.329,2569,1824.8,1803,0.2219,34.0671,2,-999.,9,203.55,2,80.41,2,25.49,2,0.00,2,1.97,2,-999.,9,-999.,9,-999.,9,-999,9,-999,9
49UF20101002,KS10-07,2828,1,6,21965,2,20101028,0643,37.3208,134.329,2569,2027.1,2002,0.2241,34.0671,2,-999.,9,203.21,2,82.71,2,25.63,2,0.00,2,1.97,2,-999.,9,-999.,9,-999.,9,-999,9,-999,9
49UF20101002,KS10-07,2828,1,5,21964,2,20101028,0638,37.3208,134.329,2569,2282.2,2253,0.2342,34.0668,2,-999.,9,202.61,2,84.48,2,25.50,2,0.00,2,1.98,2,-999.,9,-999.,9,-999.,9,-999,9,-999,9
49UF20101002,KS10-07,2828,1,4,21963,2,20101028,0638,37.3208,134.329,2569,2282.2,2253,0.2342,34.0668,2,-999.,9,202.67,6,84.54,6,25.61,6,0.00,6,1.98,6,-999.,9,-999.,9,-999.,9,-999,9,-999,9
49UF20101002,KS10-07,2828,1,3,21962,2,20101028,0633,37.3208,134.329,2569,2535.4,2501,0.2519,34.0666,2,-999.,9,201.72,2,86.27,2,25.58,2,0.00,2,1.99,2,-999.,9,-999.,9,-999.,9,-999,9,-999,9
49UF20101002,KS10-07,2828,1,2,21961,2,20101028,0633,37.3208,134.329,2569,2535.4,2501,0.2519,34.0666,2,-999.,9,201.88,2,86.08,2,25.73,2,0.00,2,1.98,2,-999.,9,-999.,9,-999.,9,-999,9,-999,9
49UF20101002,KS10-07,2828,1,1,21960,2,20101028,0632,37.3208,134.329,2569,2547.6,2513,0.2527,34.0667,2,-999.,9,202.20,2,85.98,2,25.58,2,0.00,2,1.98,2,-999.,9,-999.,9,-999.,9,-999,9,-999,9