BOTTLE,20171117JMAGEMD
EXPOCODE,SECT_ID,STNNBR,CASTNO,SAMPNO,BTLNBR,BTLNBR_FLAG_W,DATE,TIME,LATITUDE,LONGITUDE,DEPTH,CTDPRS,CTDDEP,CTDTMP,CTDSAL,CTDSAL_FLAG_W,SALNTY,SALNTY_FLAG_W,OXYGEN,OXYGEN_FLAG_W,SILCAT,SILCAT_FLAG_W,NO2+NO3,NO2+NO3_FLAG_W,NITRIT,NITRIT_FLAG_W,PHSPHT,PHSPHT_FLAG_W,TCARBN,TCARBN_FLAG_W,ALKALI,ALKALI_FLAG_W,PH_TOT,PH_TOT_FLAG_W,CFC-11,CFC-11_FLAG_W,CFC-12,CFC-12_FLAG_W
,,,,,,,UTC,UTC,,,METER,DBAR,METERS,ITS-90,PSS-78,,PSS-78,,UMOL/KG,,UMOL/KG,,UMOL/KG,,UMOL/KG,,UMOL/KG,,UMOL/KG,,UMOL/KG,,@25DEG-C,,PMOL/KG,,PMOL/KG,
49UF20101002,KS10-07,2808,1,-999,0,2,20101022,1030,42.1668,137.4437,3685,0.0,0,16.3469,33.6942,2,-999.,9,247.72,2,1.38,2,0.06,2,0.00,2,0.01,2,-999.,9,-999.,9,-999.,9,-999,9,-999,9
49UF20101002,KS10-07,2808,1,35,21995,2,20101022,1048,42.1668,137.4437,3685,11.7,12,16.3344,33.6929,2,-999.,9,247.81,2,1.29,2,0.00,2,0.00,2,0.00,2,-999.,9,-999.,9,-999.,9,-999,9,-999,9
49UF20101002,KS10-07,2808,1,34,21994,2,20101022,1047,42.1668,137.4437,3685,26.4,26,16.2930,33.6844,2,-999.,9,255.53,2,1.29,2,0.00,2,0.00,2,0.01,2,-999.,9,-999.,9,-999.,9,-999,9,-999,9
49UF20101002,KS10-07,2808,1,33,21993,2,20101022,1043,42.1668,137.4437,3685,51.9,51,5.3494,33.9906,2,-999.,9,351.53,2,2.16,2,1.66,2,0.11,2,0.40,2,-999.,9,-999.,9,-999.,9,-999,9,-999,9
49UF20101002,KS10-07,2808,1,32,21992,3,20101022,1042,42.1668,137.4437,3685,77.0,76,3.0118,34.0723,2,-999.,9,294.66,2,15.73,2,12.66,2,0.02,2,0.93,2,-999.,9,-999.,9,-999.,9,-999,9,-999,9
49UF20101002,KS10-07,2808,1,31,21991,2,20101022,1041,42.1668,137.4437,3685,102.4,102,2.4442,34.0611,2,-999.,9,302.06,2,15.57,2,12.69,2,0.01,2,0.93,2,-999.,9,-999.,9,-999.,9,-999,9,-999,9
49UF20101002,KS10-07,2808,1,30,21990,2,20101022,1040,42.1668,137.4437,3685,127.3,126,2.2124,34.0742,2,-999.,9,300.24,2,18.06,2,13.26,2,0.01,2,0.98,2,-999.,9,-999.,9,-999.,9,-999,9,-999,9
49UF20101002,KS10-07,2808,1,29,21989,2,20101022,1038,42.1668,137.4437,3685,152.5,151,2.0013,34.0800,2,-999.,9,303.65,6,18.14,6,13.13,6,0.01,6,0.97,6,-999.,9,-999.,9,-999.,9,-999,9,-999,9
49UF20101002,KS10-07,2808,1,27,21987,2,20101022,1037,42.1668,137.4437,3685,203.3,202,1.6877,34.0766,2,-999.,9,299.88,2,19.91,2,14.08,2,0.00,2,1.04,2,-999.,9,-999.,9,-999.,9,-999,9,-999,9
49UF20101002,KS10-07,2808,1,26,21986,2,20101022,1035,42.1668,137.4437,3685,253.5,251,1.3376,34.0745,2,-999.,9,278.25,2,24.97,2,16.98,2,0.00,2,1.26,2,-999.,9,-999.,9,-999.,9,-999,9,-999,9
49UF20101002,KS10-07,2808,1,25,21985,2,20101022,1033,42.1668,137.4437,3685,304.3,302,1.1047,34.0735,2,-999.,9,264.35,2,28.66,2,18.86,2,0.00,2,1.40,2,-999.,9,-999.,9,-999.,9,-999,9,-999,9
49UF20101002,KS10-07,2808,1,24,21984,2,20101022,1030,42.1668,137.4437,3685,405.1,402,0.8679,34.0743,2,-999.,9,250.61,3,35.75,2,20.65,2,0.00,2,1.56,2,-999.,9,-999.,9,-999.,9,-999,9,-999,9
49UF20101002,KS10-07,2808,1,23,21983,2,20101022,1028,42.1668,137.4437,3685,506.0,501,0.7092,34.0748,2,-999.,9,232.27,2,40.04,2,22.82,2,0.00,2,1.76,2,-999.,9,-999.,9,-999.,9,-999,9,-999,9
49UF20101002,KS10-07,2808,1,22,21982,2,20101022,1025,42.1668,137.4437,3685,606.8,601,0.5963,34.0750,2,-999.,9,226.32,2,44.49,2,23.52,2,0.00,2,1.81,2,-999.,9,-999.,9,-999.,9,-999,9,-999,9
49UF20101002,KS10-07,2808,1,20,21980,3,20101022,1023,42.1668,137.4437,3685,707.9,701,0.5068,34.0745,2,-999.,9,220.46,2,49.14,2,23.98,2,0.00,2,1.85,2,-999.,9,-999.,9,-999.,9,-999,9,-999,9
49UF20101002,KS10-07,2808,1,19,21978,2,20101022,1020,42.1668,137.4437,3685,809.3,801,0.4293,34.0735,2,-999.,9,215.24,2,53.77,2,24.39,2,0.00,2,1.88,2,-999.,9,-999.,9,-999.,9,-999,9,-999,9
49UF20101002,KS10-07,2808,1,18,21977,2,20101022,1018,42.1668,137.4437,3685,910.9,902,0.3683,34.0723,2,-999.,9,211.70,2,58.13,2,24.67,2,0.00,2,1.91,2,-999.,9,-999.,9,-999.,9,-999,9,-999,9
49UF20101002,KS10-07,2808,1,17,21976,2,20101022,1015,42.1668,137.4437,3685,1011.2,1001,0.3287,34.0716,2,-999.,9,210.10,2,61.12,2,24.86,2,0.00,2,1.92,2,-999.,9,-999.,9,-999.,9,-999,9,-999,9
49UF20101002,KS10-07,2808,1,16,21975,2,20101022,1011,42.1668,137.4437,3685,1214.1,1201,0.2705,34.0703,2,-999.,9,208.55,6,66.16,6,24.96,6,0.00,6,1.93,6,-999.,9,-999.,9,-999.,9,-999,9,-999,9
49UF20101002,KS10-07,2808,1,15,21974,2,20101022,1006,42.1668,137.4437,3685,1417.4,1401,0.2362,34.0695,2,-999.,9,207.51,2,70.71,2,25.04,2,0.00,2,1.95,2,-999.,9,-999.,9,-999.,9,-999,9,-999,9
49UF20101002,KS10-07,2808,1,13,21972,3,20101022,1002,42.1668,137.4437,3685,1620.8,1602,0.2206,34.0691,2,-999.,9,206.57,2,74.33,2,25.18,2,0.00,2,1.95,2,-999.,9,-999.,9,-999.,9,-999,9,-999,9
49UF20101002,KS10-07,2808,1,12,21971,2,20101022,0957,42.1668,137.4437,3685,1823.9,1802,0.2137,34.0690,2,-999.,9,205.94,2,77.27,2,25.24,2,0.00,2,1.96,2,-999.,9,-999.,9,-999.,9,-999,9,-999,9
49UF20101002,KS10-07,2808,1,11,21970,2,20101022,0952,42.1668,137.4437,3685,2027.6,2002,0.2154,34.0689,2,-999.,9,205.66,2,79.57,2,25.32,2,0.00,2,1.97,2,-999.,9,-999.,9,-999.,9,-999,9,-999,9
49UF20101002,KS10-07,2808,1,10,21969,3,20101022,0947,42.1668,137.4437,3685,2281.7,2252,0.2206,34.0689,2,-999.,9,205.74,2,82.27,2,25.36,2,0.00,2,1.97,2,-999.,9,-999.,9,-999.,9,-999,9,-999,9
49UF20101002,KS10-07,2808,1,9,21968,2,20101022,0941,42.1668,137.4437,3685,2536.6,2502,0.2297,34.0691,2,-999.,9,206.64,2,84.83,2,25.34,2,0.00,2,1.97,2,-999.,9,-999.,9,-999.,9,-999,9,-999,9
49UF20101002,KS10-07,2808,1,7,21966,2,20101022,0936,42.1668,137.4437,3685,2791.3,2751,0.2506,34.0690,2,-999.,9,206.51,2,85.02,2,25.40,2,0.00,2,1.97,2,-999.,9,-999.,9,-999.,9,-999,9,-999,9
49UF20101002,KS10-07,2808,1,6,21965,2,20101022,0936,42.1668,137.4437,3685,2791.3,2751,0.2506,34.0690,2,-999.,9,206.35,2,85.10,2,25.40,2,0.00,2,1.97,2,-999.,9,-999.,9,-999.,9,-999,9,-999,9
49UF20101002,KS10-07,2808,1,5,21964,2,20101022,0930,42.1668,137.4437,3685,3046.8,3001,0.2728,34.0690,2,-999.,9,206.52,2,85.02,2,25.35,2,0.00,2,1.97,2,-999.,9,-999.,9,-999.,9,-999,9,-999,9
49UF20101002,KS10-07,2808,1,4,21963,2,20101022,0930,42.1668,137.4437,3685,3046.8,3001,0.2728,34.0690,2,-999.,9,206.46,2,85.09,2,25.39,2,0.00,2,1.97,2,-999.,9,-999.,9,-999.,9,-999,9,-999,9
49UF20101002,KS10-07,2808,1,3,21962,2,20101022,0925,42.1668,137.4437,3685,3303.1,3252,0.2961,34.0688,2,-999.,9,206.62,2,85.11,2,25.46,2,0.00,2,1.98,2,-999.,9,-999.,9,-999.,9,-999,9,-999,9
49UF20101002,KS10-07,2808,1,2,21961,2,20101022,0919,42.1668,137.4437,3685,3560.0,3503,0.3207,34.0687,2,-999.,9,206.71,2,85.31,2,25.47,2,0.00,2,1.97,2,-999.,9,-999.,9,-999.,9,-999,9,-999,9
49UF20101002,KS10-07,2808,1,1,21960,2,20101022,0916,42.1668,137.4437,3685,3661.1,3601,0.3308,34.0686,2,-999.,9,206.39,2,85.24,2,25.46,2,0.00,2,1.98,2,-999.,9,-999.,9,-999.,9,-999,9,-999,9
49UF20101002,KS10-07,2809,1,-999,0,2,20101022,1515,42.502,137.6972,3687,0.0,0,16.7126,33.7908,2,-999.,9,245.45,2,1.66,2,0.00,2,0.00,2,0.00,2,-999.,9,-999.,9,-999.,9,-999,9,-999,9
49UF20101002,KS10-07,2809,1,35,21995,2,20101022,1531,42.502,137.6972,3687,11.7,12,16.6358,33.7787,2,-999.,9,245.67,2,1.74,2,0.00,2,0.00,2,0.00,2,-999.,9,-999.,9,-999.,9,-999,9,-999,9
49UF20101002,KS10-07,2809,1,34,21994,2,20101022,1530,42.502,137.6972,3687,26.8,27,16.3729,33.7221,2,-999.,9,262.31,2,1.56,2,0.00,2,0.00,2,0.01,2,-999.,9,-999.,9,-999.,9,-999,9,-999,9
49UF20101002,KS10-07,2809,1,33,21993,2,20101022,1527,42.502,137.6972,3687,52.9,52,6.9417,34.0944,2,-999.,9,296.47,2,9.43,2,7.55,2,0.39,2,0.62,2,-999.,9,-999.,9,-999.,9,-999,9,-999,9
49UF20101002,KS10-07,2809,1,32,21992,2,20101022,1525,42.502,137.6972,3687,77.2,77,4.0991,34.0552,2,-999.,9,319.83,2,8.74,2,8.84,2,0.46,2,0.74,2,-999.,9,-999.,9,-999.,9,-999,9,-999,9
49UF20101002,KS10-07,2809,1,31,21991,2,20101022,1524,42.502,137.6972,3687,102.9,102,2.9692,34.0715,2,-999.,9,286.90,2,17.40,2,13.55,2,0.01,2,0.99,2,-999.,9,-999.,9,-999.,9,-999,9,-999,9
49UF20101002,KS10-07,2809,1,30,21990,3,20101022,1522,42.502,137.6972,3687,128.9,128,2.4276,34.0711,2,-999.,9,282.22,2,21.40,2,14.99,2,0.00,2,1.12,2,-999.,9,-999.,9,-999.,9,-999,9,-999,9
49UF20101002,KS10-07,2809,1,29,21989,2,20101022,1521,42.502,137.6972,3687,154.1,153,2.0482,34.0724,2,-999.,9,286.15,2,21.71,2,15.00,2,0.00,2,1.12,2,-999.,9,-999.,9,-999.,9,-999,9,-999,9
49UF20101002,KS10-07,2809,1,27,21987,2,20101022,1519,42.502,137.6972,3687,206.4,205,1.5436,34.0720,2,-999.,9,254.63,6,30.54,6,18.88,6,0.00,6,1.42,6,-999.,9,-999.,9,-999.,9,-999,9,-999,9
49UF20101002,KS10-07,2809,1,26,21986,2,20101022,1517,42.502,137.6972,3687,255.5,253,1.2787,34.0717,2,-999.,9,276.75,2,25.69,2,17.12,2,0.00,2,1.28,2,-999.,9,-999.,9,-999.,9,-999,9,-999,9
49UF20101002,KS10-07,2809,1,25,21985,2,20101022,1514,42.502,137.6972,3687,307.8,305,1.1298,34.0734,2,-999.,9,263.48,2,28.79,2,18.92,2,0.00,2,1.39,2,-999.,9,-999.,9,-999.,9,-999,9,-999,9
49UF20101002,KS10-07,2809,1,24,21984,2,20101022,1512,42.502,137.6972,3687,408.4,405,0.8581,34.0737,2,-999.,9,247.68,2,34.63,2,21.09,2,0.00,2,1.60,2,-999.,9,-999.,9,-999.,9,-999,9,-999,9
49UF20101002,KS10-07,2809,1,23,21983,2,20101022,1509,42.502,137.6972,3687,507.9,503,0.7056,34.0751,2,-999.,9,232.09,2,40.10,2,22.82,2,0.00,2,1.76,2,-999.,9,-999.,9,-999.,9,-999,9,-999,9
49UF20101002,KS10-07,2809,1,22,21982,2,20101022,1506,42.502,137.6972,3687,609.3,604,0.5894,34.0749,2,-999.,9,225.23,2,45.07,2,23.47,2,0.00,2,1.82,2,-999.,9,-999.,9,-999.,9,-999,9,-999,9
49UF20101002,KS10-07,2809,1,20,21980,2,20101022,1503,42.502,137.6972,3687,711.0,704,0.4949,34.0742,2,-999.,9,219.11,2,50.29,2,24.02,2,0.00,2,1.85,2,-999.,9,-999.,9,-999.,9,-999,9,-999,9
49UF20101002,KS10-07,2809,1,19,21978,2,20101022,1500,42.502,137.6972,3687,810.2,802,0.4274,34.0733,2,-999.,9,214.91,2,54.26,2,24.32,2,0.00,2,1.87,2,-999.,9,-999.,9,-999.,9,-999,9,-999,9
49UF20101002,KS10-07,2809,1,18,21977,2,20101022,1457,42.502,137.6972,3687,911.1,902,0.3786,34.0724,2,-999.,9,211.98,2,57.50,2,24.49,2,0.00,2,1.89,2,-999.,9,-999.,9,-999.,9,-999,9,-999,9
49UF20101002,KS10-07,2809,1,17,21976,2,20101022,1453,42.502,137.6972,3687,1012.6,1002,0.3241,34.0713,2,-999.,9,209.62,2,61.61,2,24.80,2,0.00,2,1.91,2,-999.,9,-999.,9,-999.,9,-999,9,-999,9
49UF20101002,KS10-07,2809,1,16,21975,2,20101022,1448,42.502,137.6972,3687,1215.8,1203,0.2702,34.0703,2,-999.,9,208.12,2,66.55,2,24.91,2,0.00,2,1.92,2,-999.,9,-999.,9,-999.,9,-999,9,-999,9
49UF20101002,KS10-07,2809,1,15,21974,2,20101022,1444,42.502,137.6972,3687,1417.9,1402,0.2365,34.0694,2,-999.,9,208.48,6,70.39,6,24.94,6,0.00,6,1.93,6,-999.,9,-999.,9,-999.,9,-999,9,-999,9
49UF20101002,KS10-07,2809,1,13,21972,2,20101022,1439,42.502,137.6972,3687,1620.6,1602,0.2205,34.0690,2,-999.,9,207.12,2,73.97,2,25.10,2,0.00,2,1.94,2,-999.,9,-999.,9,-999.,9,-999,9,-999,9
49UF20101002,KS10-07,2809,1,12,21971,2,20101022,1435,42.502,137.6972,3687,1824.1,1802,0.2145,34.0689,2,-999.,9,206.05,2,76.97,2,25.15,2,0.00,2,1.95,2,-999.,9,-999.,9,-999.,9,-999,9,-999,9
49UF20101002,KS10-07,2809,1,11,21970,2,20101022,1430,42.502,137.6972,3687,2027.4,2002,0.2140,34.0689,2,-999.,9,206.45,2,79.26,2,25.12,2,0.00,2,1.95,2,-999.,9,-999.,9,-999.,9,-999,9,-999,9
49UF20101002,KS10-07,2809,1,10,21969,3,20101022,1425,42.502,137.6972,3687,2282.0,2252,0.2211,34.0689,2,-999.,9,205.74,2,82.17,2,25.22,2,0.00,2,1.96,2,-999.,9,-999.,9,-999.,9,-999,9,-999,9
49UF20101002,KS10-07,2809,1,9,21968,2,20101022,1420,42.502,137.6972,3687,2536.7,2502,0.2302,34.0690,2,-999.,9,206.56,2,84.86,2,25.25,2,0.00,2,1.96,2,-999.,9,-999.,9,-999.,9,-999,9,-999,9
49UF20101002,KS10-07,2809,1,8,21967,2,20101022,1415,42.502,137.6972,3687,2792.4,2752,0.2511,34.0689,2,-999.,9,206.59,2,85.00,2,25.32,2,0.00,2,1.96,2,-999.,9,-999.,9,-999.,9,-999,9,-999,9
49UF20101002,KS10-07,2809,1,6,21965,2,20101022,1409,42.502,137.6972,3687,3048.0,3002,0.2732,34.0688,2,-999.,9,206.56,2,85.11,2,25.28,2,0.00,2,1.97,2,-999.,9,-999.,9,-999.,9,-999,9,-999,9
49UF20101002,KS10-07,2809,1,5,21964,2,20101022,1404,42.502,137.6972,3687,3303.3,3252,0.2963,34.0689,2,-999.,9,206.53,2,85.17,2,25.42,2,0.00,2,1.97,2,-999.,9,-999.,9,-999.,9,-999,9,-999,9
49UF20101002,KS10-07,2809,1,4,21963,3,20101022,1404,42.502,137.6972,3687,3303.3,3252,0.2963,34.0689,2,-999.,9,206.52,2,85.07,2,25.27,2,0.00,2,1.97,2,-999.,9,-999.,9,-999.,9,-999,9,-999,9
49UF20101002,KS10-07,2809,1,3,21962,2,20101022,1358,42.502,137.6972,3687,3559.0,3501,0.3209,34.0686,2,-999.,9,206.63,2,85.07,2,25.34,2,0.00,2,1.96,2,-999.,9,-999.,9,-999.,9,-999,9,-999,9
49UF20101002,KS10-07,2809,1,2,21961,2,20101022,1358,42.502,137.6972,3687,3559.0,3501,0.3209,34.0686,2,-999.,9,206.26,2,85.15,2,25.37,2,0.00,2,1.97,2,-999.,9,-999.,9,-999.,9,-999,9,-999,9
49UF20101002,KS10-07,2809,1,1,21960,2,20101022,1354,42.502,137.6972,3687,3677.9,3617,0.3326,34.0686,2,-999.,9,206.73,2,85.15,2,25.45,2,0.00,2,1.96,2,-999.,9,-999.,9,-999.,9,-999,9,-999,9
49UF20101002,KS10-07,2810,1,-999,0,2,20101022,1950,42.845,138.0125,3669,0.0,0,17.2985,33.6780,2,-999.0000,9,241.43,2,2.60,2,0.00,2,0.00,2,0.00,2,-999.,9,-999.,9,-999.,9,-999,9,-999,9
49UF20101002,KS10-07,2810,1,35,21995,2,20101022,2009,42.845,138.0125,3669,11.1,11,17.2989,33.6785,2,33.6792,2,241.80,2,2.59,2,0.00,2,0.00,2,0.00,2,-999.,9,-999.,9,-999.,9,-999,9,-999,9
49UF20101002,KS10-07,2810,1,34,21994,2,20101022,2008,42.845,138.0125,3669,26.5,26,17.2205,33.7657,2,-999.0000,9,264.11,2,3.48,2,0.00,2,0.00,2,0.04,2,-999.,9,-999.,9,-999.,9,-999,9,-999,9
49UF20101002,KS10-07,2810,1,33,21993,2,20101022,2004,42.845,138.0125,3669,51.9,51,8.4522,34.1141,2,-999.0000,9,288.73,2,6.11,2,4.88,2,0.33,2,0.43,2,-999.,9,-999.,9,-999.,9,-999,9,-999,9
49UF20101002,KS10-07,2810,1,32,21992,2,20101022,2003,42.845,138.0125,3669,77.4,77,5.7974,34.0747,2,-999.0000,9,284.04,2,11.06,2,9.31,2,0.27,2,0.74,2,-999.,9,-999.,9,-999.,9,-999,9,-999,9
49UF20101002,KS10-07,2810,1,31,21991,2,20101022,2002,42.845,138.0125,3669,102.3,101,4.1518,34.0765,2,34.0764,2,266.13,2,18.05,2,14.02,2,0.01,2,1.04,2,-999.,9,-999.,9,-999.,9,-999,9,-999,9
49UF20101002,KS10-07,2810,1,30,21990,2,20101022,2000,42.845,138.0125,3669,127.7,127,3.2201,34.0728,2,-999.0000,9,281.27,2,17.79,2,13.80,2,0.01,2,1.03,2,-999.,9,-999.,9,-999.,9,-999,9,-999,9
49UF20101002,KS10-07,2810,1,29,21989,2,20101022,1959,42.845,138.0125,3669,152.8,152,2.6500,34.0776,2,-999.0000,9,302.91,2,16.22,2,12.58,2,0.01,2,0.92,2,-999.,9,-999.,9,-999.,9,-999,9,-999,9
49UF20101002,KS10-07,2810,1,27,21987,2,20101022,1958,42.845,138.0125,3669,203.5,202,2.0901,34.0769,2,34.0779,2,306.76,2,17.40,2,12.71,2,0.00,2,0.94,2,-999.,9,-999.,9,-999.,9,-999,9,-999,9
49UF20101002,KS10-07,2810,1,26,21986,2,20101022,1956,42.845,138.0125,3669,254.1,252,1.6608,34.0720,2,-999.0000,9,299.89,6,20.11,6,14.21,6,0.00,6,1.05,6,-999.,9,-999.,9,-999.,9,-999,9,-999,9
49UF20101002,KS10-07,2810,1,25,21985,2,20101022,1954,42.845,138.0125,3669,304.8,302,1.3301,34.0694,2,-999.0000,9,279.27,2,25.13,2,16.84,2,0.00,2,1.26,2,-999.,9,-999.,9,-999.,9,-999,9,-999,9
49UF20101002,KS10-07,2810,1,24,21984,2,20101022,1952,42.845,138.0125,3669,405.4,402,0.9845,34.0725,2,34.0720,2,253.75,2,32.15,2,20.27,2,0.00,2,1.53,2,-999.,9,-999.,9,-999.,9,-999,9,-999,9
49UF20101002,KS10-07,2810,1,23,21983,2,20101022,1949,42.845,138.0125,3669,506.9,502,0.7753,34.0744,2,-999.0000,9,238.08,2,37.64,2,22.22,2,0.00,2,1.70,2,-999.,9,-999.,9,-999.,9,-999,9,-999,9
49UF20101002,KS10-07,2810,1,21,21981,2,20101022,1946,42.845,138.0125,3669,607.6,602,0.6364,34.0746,2,-999.0000,9,226.89,2,43.63,2,23.38,2,0.00,2,1.80,2,-999.,9,-999.,9,-999.,9,-999,9,-999,9
49UF20101002,KS10-07,2810,1,20,21980,2,20101022,1946,42.845,138.0125,3669,607.6,602,0.6364,34.0746,2,34.0753,2,227.11,2,43.46,2,23.40,2,0.00,2,1.80,2,-999.,9,-999.,9,-999.,9,-999,9,-999,9
49UF20101002,KS10-07,2810,1,19,21978,2,20101022,1944,42.845,138.0125,3669,708.8,702,0.5404,34.0741,2,-999.0000,9,220.62,2,48.88,2,23.95,2,0.00,2,1.85,2,-999.,9,-999.,9,-999.,9,-999,9,-999,9
49UF20101002,KS10-07,2810,1,18,21977,2,20101022,1944,42.845,138.0125,3669,708.8,702,0.5404,34.0741,2,-999.0000,9,226.29,3,48.80,2,24.00,2,0.00,2,1.85,2,-999.,9,-999.,9,-999.,9,-999,9,-999,9
49UF20101002,KS10-07,2810,1,17,21976,2,20101022,1941,42.845,138.0125,3669,809.3,801,0.4615,34.0735,2,34.0736,2,219.45,3,52.58,2,24.26,2,0.00,2,1.87,2,-999.,9,-999.,9,-999.,9,-999,9,-999,9
49UF20101002,KS10-07,2810,1,16,21975,2,20101022,1938,42.845,138.0125,3669,910.8,902,0.4013,34.0724,2,-999.0000,9,212.08,2,56.81,2,24.55,2,0.00,2,1.90,2,-999.,9,-999.,9,-999.,9,-999,9,-999,9
49UF20101002,KS10-07,2810,1,15,21974,2,20101022,1936,42.845,138.0125,3669,1012.0,1002,0.3540,34.0718,2,34.0675,4,210.10,2,60.04,2,24.66,2,0.00,2,1.91,2,-999.,9,-999.,9,-999.,9,-999,9,-999,9
49UF20101002,KS10-07,2810,1,13,21972,4,20101022,1931,42.845,138.0125,3669,1214.9,1202,0.2937,34.0706,2,34.0705,4,210.77,4,59.77,4,24.64,4,0.00,4,1.91,4,-999.,9,-999.,9,-999.,9,-999,9,-999,9
49UF20101002,KS10-07,2810,1,12,21971,2,20101022,1926,42.845,138.0125,3669,1418.1,1402,0.2567,34.0697,2,34.0688,2,207.08,2,69.56,2,24.90,2,0.00,2,1.94,2,-999.,9,-999.,9,-999.,9,-999,9,-999,9
49UF20101002,KS10-07,2810,1,11,21970,2,20101022,1922,42.845,138.0125,3669,1620.4,1601,0.2344,34.0691,2,34.0930,4,206.55,6,73.28,6,25.05,6,0.00,6,1.94,6,-999.,9,-999.,9,-999.,9,-999,9,-999,9
49UF20101002,KS10-07,2810,1,10,21969,2,20101022,1918,42.845,138.0125,3669,1823.7,1801,0.2270,34.0689,2,34.0681,2,205.82,2,77.04,2,25.09,2,0.00,2,1.96,2,-999.,9,-999.,9,-999.,9,-999,9,-999,9
49UF20101002,KS10-07,2810,1,9,21968,2,20101022,1913,42.845,138.0125,3669,2027.5,2002,0.2247,34.0688,2,34.0683,2,207.65,3,79.12,2,25.17,2,0.00,2,1.99,2,-999.,9,-999.,9,-999.,9,-999,9,-999,9
49UF20101002,KS10-07,2810,1,8,21967,2,20101022,1908,42.845,138.0125,3669,2281.9,2252,0.2283,34.0688,2,-999.0000,9,222.88,4,81.68,2,25.24,2,0.00,2,1.98,2,-999.,9,-999.,9,-999.,9,-999,9,-999,9
49UF20101002,KS10-07,2810,1,6,21965,2,20101022,1902,42.845,138.0125,3669,2537.1,2502,0.2393,34.0689,2,34.0688,2,206.11,2,83.80,2,25.36,2,0.00,2,1.98,2,-999.,9,-999.,9,-999.,9,-999,9,-999,9
49UF20101002,KS10-07,2810,1,5,21964,2,20101022,1857,42.845,138.0125,3669,2791.2,2751,0.2535,34.0688,2,-999.0000,9,206.36,2,85.25,2,25.49,2,0.00,2,1.97,2,-999.,9,-999.,9,-999.,9,-999,9,-999,9
49UF20101002,KS10-07,2810,1,4,21963,2,20101022,1851,42.845,138.0125,3669,3048.3,3002,0.2750,34.0688,2,34.0681,2,206.15,2,85.37,2,25.52,2,0.00,2,1.97,2,-999.,9,-999.,9,-999.,9,-999,9,-999,9
49UF20101002,KS10-07,2810,1,3,21962,2,20101022,1846,42.845,138.0125,3669,3303.2,3252,0.2979,34.0688,2,-999.0000,9,206.36,2,85.32,2,25.52,2,0.00,2,1.98,2,-999.,9,-999.,9,-999.,9,-999,9,-999,9
49UF20101002,KS10-07,2810,1,2,21961,2,20101022,1841,42.845,138.0125,3669,3560.7,3503,0.3224,34.0686,2,34.0688,2,206.81,2,85.44,2,25.63,2,0.00,2,1.98,2,-999.,9,-999.,9,-999.,9,-999,9,-999,9
49UF20101002,KS10-07,2810,1,1,21960,2,20101022,1838,42.845,138.0125,3669,3662.9,3603,0.3324,34.0686,2,-999.0000,5,206.18,2,85.19,2,25.50,2,0.00,2,1.97,2,-999.,9,-999.,9,-999.,9,-999,9,-999,9