BOTTLE,20171117JMAGEMD
EXPOCODE,SECT_ID,STNNBR,CASTNO,SAMPNO,BTLNBR,BTLNBR_FLAG_W,DATE,TIME,LATITUDE,LONGITUDE,DEPTH,CTDPRS,CTDDEP,CTDTMP,CTDSAL,CTDSAL_FLAG_W,SALNTY,SALNTY_FLAG_W,OXYGEN,OXYGEN_FLAG_W,SILCAT,SILCAT_FLAG_W,NO2+NO3,NO2+NO3_FLAG_W,NITRIT,NITRIT_FLAG_W,PHSPHT,PHSPHT_FLAG_W,TCARBN,TCARBN_FLAG_W,ALKALI,ALKALI_FLAG_W,PH_TOT,PH_TOT_FLAG_W,CFC-11,CFC-11_FLAG_W,CFC-12,CFC-12_FLAG_W
,,,,,,,UTC,UTC,,,METER,DBAR,METERS,ITS-90,PSS-78,,PSS-78,,UMOL/KG,,UMOL/KG,,UMOL/KG,,UMOL/KG,,UMOL/KG,,UMOL/KG,,UMOL/KG,,@25DEG-C,,PMOL/KG,,PMOL/KG,
49UF20101002,KS10-07,2820,1,-999,0,2,20101024,1855,39.7747,137.2487,2623,0.0,0,19.0552,32.7865,2,-999.,9,233.01,2,2.02,2,0.00,2,0.00,2,0.00,2,-999.,9,-999.,9,-999.,9,-999,9,-999,9
49UF20101002,KS10-07,2820,1,35,21995,2,20101024,1918,39.7747,137.2487,2623,11.0,11,19.0922,32.8018,2,-999.,9,232.76,2,1.91,2,0.00,2,0.00,2,0.00,2,-999.,9,-999.,9,-999.,9,-999,9,-999,9
49UF20101002,KS10-07,2820,1,34,21994,2,20101024,1917,39.7747,137.2487,2623,26.4,26,18.9787,33.2950,2,-999.,9,207.59,2,6.80,2,4.06,2,0.39,2,0.25,2,-999.,9,-999.,9,-999.,9,-999,9,-999,9
49UF20101002,KS10-07,2820,1,32,21992,2,20101024,1913,39.7747,137.2487,2623,52.0,52,14.2883,34.2386,2,-999.,9,185.02,2,14.11,2,10.18,2,0.02,2,0.71,2,-999.,9,-999.,9,-999.,9,-999,9,-999,9
49UF20101002,KS10-07,2820,1,30,21990,2,20101024,1911,39.7747,137.2487,2623,77.1,76,9.9573,34.1627,2,-999.,9,249.39,6,9.48,6,8.18,6,0.03,6,0.60,6,-999.,9,-999.,9,-999.,9,-999,9,-999,9
49UF20101002,KS10-07,2820,1,29,21989,2,20101024,1910,39.7747,137.2487,2623,102.1,101,6.9523,34.0904,2,-999.,9,258.27,2,12.55,2,10.37,2,0.01,2,0.76,2,-999.,9,-999.,9,-999.,9,-999,9,-999,9
49UF20101002,KS10-07,2820,1,28,21988,2,20101024,1909,39.7747,137.2487,2623,128.8,128,4.6621,34.0780,2,-999.,9,252.01,2,19.21,2,14.27,2,0.00,2,1.06,2,-999.,9,-999.,9,-999.,9,-999,9,-999,9
49UF20101002,KS10-07,2820,1,27,21987,2,20101024,1907,39.7747,137.2487,2623,155.9,155,3.0573,34.0655,2,-999.,9,255.49,2,22.88,2,16.38,2,0.00,2,1.21,2,-999.,9,-999.,9,-999.,9,-999,9,-999,9
49UF20101002,KS10-07,2820,1,26,21986,2,20101024,1905,39.7747,137.2487,2623,207.2,206,2.0023,34.0687,2,-999.,9,245.13,2,29.96,2,19.06,2,0.00,2,1.44,2,-999.,9,-999.,9,-999.,9,-999,9,-999,9
49UF20101002,KS10-07,2820,1,23,21983,2,20101024,1903,39.7747,137.2487,2623,259.3,257,1.3332,34.0697,2,-999.,9,225.86,2,38.11,2,21.96,2,0.00,2,1.67,2,-999.,9,-999.,9,-999.,9,-999,9,-999,9
49UF20101002,KS10-07,2820,1,22,21982,2,20101024,1901,39.7747,137.2487,2623,310.8,308,1.0105,34.0700,2,-999.,9,219.18,2,42.55,2,23.23,2,0.00,2,1.76,2,-999.,9,-999.,9,-999.,9,-999,9,-999,9
49UF20101002,KS10-07,2820,1,21,21981,2,20101024,1857,39.7747,137.2487,2623,408.4,405,0.7307,34.0715,2,-999.,9,223.28,2,43.16,2,23.51,2,0.00,2,1.79,2,-999.,9,-999.,9,-999.,9,-999,9,-999,9
49UF20101002,KS10-07,2820,1,20,21980,2,20101024,1854,39.7747,137.2487,2623,508.9,504,0.5825,34.0721,2,-999.,9,218.52,2,48.00,2,24.14,2,0.00,2,1.85,2,-999.,9,-999.,9,-999.,9,-999,9,-999,9
49UF20101002,KS10-07,2820,1,19,21978,3,20101024,1850,39.7747,137.2487,2623,610.6,605,0.4851,34.0717,2,-999.,9,214.94,2,52.06,2,24.46,2,0.00,2,1.87,2,-999.,9,-999.,9,-999.,9,-999,9,-999,9
49UF20101002,KS10-07,2820,1,18,21977,3,20101024,1847,39.7747,137.2487,2623,713.1,706,0.4096,34.0712,2,-999.,9,212.11,2,56.21,2,24.69,2,0.00,2,1.89,2,-999.,9,-999.,9,-999.,9,-999,9,-999,9
49UF20101002,KS10-07,2820,1,15,21974,2,20101024,1844,39.7747,137.2487,2623,811.1,803,0.3457,34.0702,2,-999.,9,209.31,2,60.75,2,24.86,2,0.00,2,1.90,2,-999.,9,-999.,9,-999.,9,-999,9,-999,9
49UF20101002,KS10-07,2820,1,14,21973,2,20101024,1841,39.7747,137.2487,2623,912.9,904,0.3117,34.0697,2,-999.,9,207.97,2,63.67,2,24.97,2,0.00,2,1.91,2,-999.,9,-999.,9,-999.,9,-999,9,-999,9
49UF20101002,KS10-07,2820,1,13,21972,2,20101024,1838,39.7747,137.2487,2623,1015.4,1005,0.2769,34.0691,2,-999.,9,206.56,2,67.11,2,25.12,2,0.00,2,1.92,2,-999.,9,-999.,9,-999.,9,-999,9,-999,9
49UF20101002,KS10-07,2820,1,12,21971,3,20101024,1833,39.7747,137.2487,2623,1216.8,1204,0.2370,34.0683,2,-999.,9,205.62,2,72.00,2,25.22,2,0.00,2,1.94,2,-999.,9,-999.,9,-999.,9,-999,9,-999,9
49UF20101002,KS10-07,2820,1,11,21970,2,20101024,1828,39.7747,137.2487,2623,1420.7,1405,0.2162,34.0680,2,-999.,9,204.39,2,76.22,2,25.33,2,0.00,2,1.94,2,-999.,9,-999.,9,-999.,9,-999,9,-999,9
49UF20101002,KS10-07,2820,1,10,21969,3,20101024,1828,39.7747,137.2487,2623,1420.7,1405,0.2162,34.0680,2,-999.,9,204.58,6,76.03,6,25.30,6,0.00,6,1.95,6,-999.,9,-999.,9,-999.,9,-999,9,-999,9
49UF20101002,KS10-07,2820,1,6,21965,2,20101024,1823,39.7747,137.2487,2623,1622.7,1604,0.2079,34.0677,2,-999.,9,204.19,2,79.19,2,25.41,2,0.00,2,1.96,2,-999.,9,-999.,9,-999.,9,-999,9,-999,9
49UF20101002,KS10-07,2820,1,5,21964,2,20101024,1823,39.7747,137.2487,2623,1622.7,1604,0.2079,34.0677,2,-999.,9,204.13,2,79.23,2,25.45,2,0.00,2,1.95,2,-999.,9,-999.,9,-999.,9,-999,9,-999,9
49UF20101002,KS10-07,2820,1,4,21963,3,20101024,1819,39.7747,137.2487,2623,1821.7,1800,0.2038,34.0675,2,-999.,9,204.33,2,81.72,2,25.45,2,0.00,2,1.96,2,-999.,9,-999.,9,-999.,9,-999,9,-999,9
49UF20101002,KS10-07,2820,1,3,21962,2,20101024,1815,39.7747,137.2487,2623,2025.7,2001,0.2084,34.0675,2,-999.,9,203.68,2,84.12,2,25.49,2,0.00,2,1.97,2,-999.,9,-999.,9,-999.,9,-999,9,-999,9
49UF20101002,KS10-07,2820,1,2,21961,2,20101024,1810,39.7747,137.2487,2623,2279.9,2250,0.2180,34.0675,2,-999.,9,205.10,2,85.51,2,25.55,2,0.00,2,1.97,2,-999.,9,-999.,9,-999.,9,-999,9,-999,9
49UF20101002,KS10-07,2820,1,1,21960,3,20101024,1805,39.7747,137.2487,2623,2583.3,2548,0.2390,34.0673,2,-999.,9,205.30,2,85.73,2,25.57,2,0.00,2,1.96,2,-999.,9,-999.,9,-999.,9,-999,9,-999,9
49UF20101002,KS10-07,2821,1,-999,0,2,20101024,0018,39.5033,136.7005,2667,0.0,0,19.8807,33.0845,2,-999.,9,230.46,2,2.27,2,0.17,2,0.00,2,0.02,2,-999.0,9,-999.0,9,-999.0000,9,-999,9,-999,9
49UF20101002,KS10-07,2821,1,35,21995,2,20101024,0034,39.5033,136.7005,2667,11.7,12,19.8848,33.0857,2,-999.,9,229.65,2,2.01,2,0.05,2,0.00,2,0.00,2,1944.4,2,2233.1,2,8.0616,2,-999,9,-999,9
49UF20101002,KS10-07,2821,1,34,21994,2,20101024,0033,39.5033,136.7005,2667,27.7,27,19.9955,33.2384,2,-999.,9,229.39,2,1.88,2,0.06,2,0.00,2,0.00,2,1952.4,2,2231.1,2,8.0607,2,-999,9,-999,9
49UF20101002,KS10-07,2821,1,33,21993,2,20101024,0028,39.5033,136.7005,2667,52.4,52,16.1650,34.2839,2,-999.,9,199.51,2,9.54,2,6.67,2,0.05,2,0.43,2,2043.0,2,2264.1,2,7.9166,2,-999,9,-999,9
49UF20101002,KS10-07,2821,1,32,21992,2,20101024,0027,39.5033,136.7005,2667,78.5,78,13.7249,34.2906,2,-999.,9,199.51,2,12.19,2,8.92,2,0.02,2,0.62,2,2076.3,2,2265.3,2,7.8527,2,-999,9,-999,9
49UF20101002,KS10-07,2821,1,31,21991,2,20101024,0026,39.5033,136.7005,2667,104.9,104,9.6685,34.1716,2,-999.,9,253.05,2,7.01,2,7.01,2,0.01,2,0.47,2,2067.5,2,2266.1,2,7.8608,2,-999,9,-999,9
49UF20101002,KS10-07,2821,1,28,21988,2,20101024,0024,39.5033,136.7005,2667,130.5,129,7.1800,34.1003,2,-999.,9,255.01,2,12.23,2,10.16,2,0.01,2,0.74,2,2106.3,2,2267.2,2,7.7726,2,-999,9,-999,9
49UF20101002,KS10-07,2821,1,27,21987,2,20101024,0023,39.5033,136.7005,2667,156.1,155,4.4879,34.0417,2,-999.,9,270.32,2,13.95,2,11.88,2,0.01,2,0.87,2,2131.2,2,2264.8,2,7.7110,2,-999,9,-999,9
49UF20101002,KS10-07,2821,1,26,21986,2,20101024,0020,39.5033,136.7005,2667,207.8,206,2.6271,34.0655,2,-999.,9,271.69,2,21.11,2,15.65,2,0.00,2,1.14,2,2169.3,2,2258.5,2,7.6232,2,-999,9,-999,9
49UF20101002,KS10-07,2821,1,25,21985,2,20101024,0018,39.5033,136.7005,2667,257.0,255,1.7203,34.0687,2,-999.,9,243.65,2,31.44,2,19.79,2,0.00,2,1.47,2,-999.0,9,-999.0,9,-999.0000,9,-999,9,-999,9
49UF20101002,KS10-07,2821,1,24,21984,2,20101024,0016,39.5033,136.7005,2667,308.5,306,1.2402,34.0682,2,-999.,9,243.03,2,33.67,2,20.85,2,0.00,2,1.53,2,-999.0,9,-999.0,9,-999.0000,9,-999,9,-999,9
49UF20101002,KS10-07,2821,1,21,21981,2,20101024,0012,39.5033,136.7005,2667,408.6,405,0.8351,34.0702,2,-999.,9,216.26,2,44.54,2,23.98,2,0.00,2,1.81,2,2231.6,6,2260.8,6,7.4400,6,-999,9,-999,9
49UF20101002,KS10-07,2821,1,20,21980,3,20101024,0008,39.5033,136.7005,2667,509.1,505,0.6200,34.0707,2,-999.,9,210.93,2,50.26,2,24.63,2,0.00,2,1.88,2,-999.0,9,-999.0,9,-999.0000,9,-999,9,-999,9
49UF20101002,KS10-07,2821,1,19,21978,2,20101024,0004,39.5033,136.7005,2667,610.9,605,0.5155,34.0707,2,-999.,9,209.21,2,53.99,2,24.99,2,0.00,2,1.90,2,2242.3,2,2262.7,2,7.4275,2,-999,9,-999,9
49UF20101002,KS10-07,2821,1,18,21977,2,20101024,0001,39.5033,136.7005,2667,710.7,704,0.4274,34.0707,2,-999.,9,208.46,2,57.72,2,25.12,2,0.00,2,1.91,2,2245.9,2,2261.8,2,7.4171,2,-999,9,-999,9
49UF20101002,KS10-07,2821,1,17,21976,2,20101024,2358,39.5033,136.7005,2667,811.9,804,0.3707,34.0699,2,-999.,9,207.51,2,61.22,2,25.15,2,0.00,2,1.92,2,2245.4,2,2263.9,2,7.4200,2,-999,9,-999,9
49UF20101002,KS10-07,2821,1,16,21975,2,20101024,2358,39.5033,136.7005,2667,811.9,804,0.3707,34.0699,2,-999.,9,207.30,6,61.15,6,25.14,6,0.00,6,1.92,6,2245.6,2,2263.9,2,7.4185,2,-999,9,-999,9
49UF20101002,KS10-07,2821,1,13,21972,2,20101024,2355,39.5033,136.7005,2667,912.6,904,0.3209,34.0694,2,-999.,9,206.58,2,64.79,2,25.31,2,0.00,2,1.93,2,2246.8,2,2263.0,2,7.4215,2,-999,9,-999,9
49UF20101002,KS10-07,2821,1,12,21971,2,20101024,2352,39.5033,136.7005,2667,1013.3,1003,0.2926,34.0692,2,-999.,9,206.25,2,67.03,2,25.25,2,0.00,2,1.93,2,2250.8,6,2264.9,6,7.4205,6,-999,9,-999,9
49UF20101002,KS10-07,2821,1,11,21970,2,20101024,2348,39.5033,136.7005,2667,1215.4,1203,0.2514,34.0682,2,-999.,9,205.78,2,71.20,2,25.35,2,0.00,2,1.93,2,2251.4,2,2268.6,2,7.4228,2,-999,9,-999,9
49UF20101002,KS10-07,2821,1,10,21969,3,20101024,2343,39.5033,136.7005,2667,1417.7,1402,0.2269,34.0680,2,-999.,9,204.72,2,76.36,2,25.34,2,0.00,2,1.95,2,2252.1,2,2268.8,2,7.4250,2,-999,9,-999,9
49UF20101002,KS10-07,2821,1,9,21968,3,20101024,2339,39.5033,136.7005,2667,1620.6,1602,0.2173,34.0678,2,-999.,9,203.96,2,78.21,2,25.53,2,0.00,2,1.95,2,2250.8,2,2272.6,2,7.4291,2,-999,9,-999,9
49UF20101002,KS10-07,2821,1,6,21965,2,20101024,2335,39.5033,136.7005,2667,1823.2,1801,0.2139,34.0676,2,-999.,9,203.19,2,81.17,2,25.49,2,0.00,2,1.97,2,2257.9,3,2270.3,3,7.4332,2,-999,9,-999,9
49UF20101002,KS10-07,2821,1,5,21964,2,20101024,2331,39.5033,136.7005,2667,2027.4,2002,0.2196,34.0675,2,-999.,9,203.03,2,83.08,2,25.55,2,0.00,2,1.97,2,2257.1,3,2268.3,3,7.4305,2,-999,9,-999,9
49UF20101002,KS10-07,2821,1,4,21963,2,20101024,2331,39.5033,136.7005,2667,2027.4,2002,0.2196,34.0675,2,-999.,9,203.11,6,82.71,6,25.59,6,0.00,6,1.97,6,2252.7,2,2268.0,3,7.4302,2,-999,9,-999,9
49UF20101002,KS10-07,2821,1,3,21962,2,20101024,2326,39.5033,136.7005,2667,2279.5,2250,0.2295,34.0673,2,-999.,9,202.41,2,84.86,2,25.44,2,0.00,2,1.98,2,2254.0,2,2264.7,3,7.4300,2,-999,9,-999,9
49UF20101002,KS10-07,2821,1,2,21961,2,20101024,2319,39.5033,136.7005,2667,2539.5,2505,0.2443,34.0672,2,-999.,9,202.78,2,85.83,2,25.61,2,0.00,2,1.97,2,2255.4,2,2262.8,3,7.4331,2,-999,9,-999,9
49UF20101002,KS10-07,2821,1,1,21960,2,20101024,2316,39.5033,136.7005,2667,2628.0,2592,0.2498,34.0673,2,-999.,9,202.96,2,86.24,2,25.56,2,0.00,2,1.97,2,2256.4,2,2272.5,3,7.4329,2,-999,9,-999,9
49UF20101002,KS10-07,2822,1,-999,0,2,20101025,0605,39.0667,136.0182,2579,0.0,0,21.0015,32.8834,2,-999.0000,9,226.51,2,1.82,2,0.00,2,0.00,2,0.00,2,-999.,9,-999.,9,-999.,9,-999,9,-999,9
49UF20101002,KS10-07,2822,1,35,21995,2,20101025,0619,39.0667,136.0182,2579,12.2,12,21.0045,32.8839,2,32.8879,4,225.15,2,1.73,2,0.00,2,0.00,2,0.00,2,-999.,9,-999.,9,-999.,9,-999,9,-999,9
49UF20101002,KS10-07,2822,1,34,21994,2,20101025,0618,39.0667,136.0182,2579,25.7,26,21.0029,32.8870,2,-999.0000,9,225.13,2,1.73,2,0.00,2,0.00,2,0.00,2,-999.,9,-999.,9,-999.,9,-999,9,-999,9
49UF20101002,KS10-07,2822,1,33,21993,2,20101025,0617,39.0667,136.0182,2579,52.8,52,18.1270,34.1035,2,-999.0000,9,221.89,2,5.44,2,3.22,2,0.35,2,0.20,2,-999.,9,-999.,9,-999.,9,-999,9,-999,9
49UF20101002,KS10-07,2822,1,32,21992,2,20101025,0616,39.0667,136.0182,2579,76.9,76,15.6687,34.3063,2,-999.0000,9,185.65,2,12.47,2,8.53,2,0.02,2,0.59,2,-999.,9,-999.,9,-999.,9,-999,9,-999,9
49UF20101002,KS10-07,2822,1,29,21989,2,20101025,0613,39.0667,136.0182,2579,100.8,100,13.6333,34.3232,2,34.3284,4,205.51,2,11.78,2,8.17,2,0.01,2,0.58,2,-999.,9,-999.,9,-999.,9,-999,9,-999,9
49UF20101002,KS10-07,2822,1,28,21988,2,20101025,0611,39.0667,136.0182,2579,127.9,127,10.0335,34.1672,2,-999.0000,9,248.57,6,8.23,6,7.31,6,0.01,6,0.53,6,-999.,9,-999.,9,-999.,9,-999,9,-999,9
49UF20101002,KS10-07,2822,1,27,21987,2,20101025,0610,39.0667,136.0182,2579,154.1,153,7.4694,34.1156,2,-999.0000,9,257.68,2,11.57,2,9.72,2,0.01,2,0.71,2,-999.,9,-999.,9,-999.,9,-999,9,-999,9
49UF20101002,KS10-07,2822,1,26,21986,2,20101025,0608,39.0667,136.0182,2579,205.9,204,3.7364,34.0638,2,34.0660,2,258.70,2,20.03,2,15.00,2,0.00,2,1.10,2,-999.,9,-999.,9,-999.,9,-999,9,-999,9
49UF20101002,KS10-07,2822,1,25,21985,2,20101025,0606,39.0667,136.0182,2579,254.3,252,2.0303,34.0642,2,-999.0000,9,257.06,2,26.46,2,17.94,2,0.00,2,1.33,2,-999.,9,-999.,9,-999.,9,-999,9,-999,9
49UF20101002,KS10-07,2822,1,24,21984,2,20101025,0605,39.0667,136.0182,2579,308.4,306,1.3731,34.0654,2,-999.0000,9,267.62,2,27.23,2,17.87,2,0.00,2,1.34,2,-999.,9,-999.,9,-999.,9,-999,9,-999,9
49UF20101002,KS10-07,2822,1,21,21981,2,20101025,0601,39.0667,136.0182,2579,410.4,407,0.8700,34.0695,2,34.0693,2,217.68,2,42.89,2,23.65,2,0.00,2,1.81,2,-999.,9,-999.,9,-999.,9,-999,9,-999,9
49UF20101002,KS10-07,2822,1,20,21980,2,20101025,0558,39.0667,136.0182,2579,509.7,505,0.6572,34.0705,2,-999.0000,9,212.10,2,48.45,2,24.42,2,0.00,2,1.87,2,-999.,9,-999.,9,-999.,9,-999,9,-999,9
49UF20101002,KS10-07,2822,1,19,21978,2,20101025,0555,39.0667,136.0182,2579,610.2,605,0.5339,34.0708,2,34.0697,2,210.33,2,52.60,2,24.64,2,0.00,2,1.89,2,-999.,9,-999.,9,-999.,9,-999,9,-999,9
49UF20101002,KS10-07,2822,1,18,21977,3,20101025,0552,39.0667,136.0182,2579,712.1,705,0.4527,34.0705,2,-999.0000,9,208.36,2,56.51,2,24.72,2,0.00,2,1.91,2,-999.,9,-999.,9,-999.,9,-999,9,-999,9
49UF20101002,KS10-07,2822,1,17,21976,3,20101025,0549,39.0667,136.0182,2579,811.9,804,0.3894,34.0706,2,34.0703,2,209.60,2,58.21,2,24.64,2,0.00,2,1.90,2,-999.,9,-999.,9,-999.,9,-999,9,-999,9
49UF20101002,KS10-07,2822,1,16,21975,2,20101025,0546,39.0667,136.0182,2579,914.8,906,0.3492,34.0698,2,-999.0000,9,208.28,2,60.85,2,24.82,2,0.00,2,1.91,2,-999.,9,-999.,9,-999.,9,-999,9,-999,9
49UF20101002,KS10-07,2822,1,13,21972,2,20101025,0543,39.0667,136.0182,2579,1015.3,1005,0.3038,34.0691,2,34.0691,2,205.78,2,66.62,2,24.99,2,0.00,2,1.93,2,-999.,9,-999.,9,-999.,9,-999,9,-999,9
49UF20101002,KS10-07,2822,1,12,21971,3,20101025,0538,39.0667,136.0182,2579,1217.9,1205,0.2610,34.0684,2,34.0694,2,205.13,2,70.82,2,25.05,2,0.00,2,1.94,2,-999.,9,-999.,9,-999.,9,-999,9,-999,9
49UF20101002,KS10-07,2822,1,11,21970,2,20101025,0533,39.0667,136.0182,2579,1420.8,1405,0.2337,34.0679,2,34.0683,2,204.53,2,74.94,2,25.21,2,0.00,2,1.95,2,-999.,9,-999.,9,-999.,9,-999,9,-999,9
49UF20101002,KS10-07,2822,1,10,21969,2,20101025,0527,39.0667,136.0182,2579,1622.4,1604,0.2179,34.0676,2,34.0646,2,203.41,2,78.25,2,25.25,2,0.00,2,1.95,2,-999.,9,-999.,9,-999.,9,-999,9,-999,9
49UF20101002,KS10-07,2822,1,9,21968,2,20101025,0523,39.0667,136.0182,2579,1825.7,1804,0.2143,34.0675,2,34.0684,6,204.68,6,80.63,6,25.30,6,0.00,6,1.97,6,-999.,9,-999.,9,-999.,9,-999,9,-999,9
49UF20101002,KS10-07,2822,1,6,21965,2,20101025,0518,39.0667,136.0182,2579,2027.7,2003,0.2167,34.0673,2,34.0690,6,204.57,2,83.23,2,25.41,2,0.00,2,1.98,2,-999.,9,-999.,9,-999.,9,-999,9,-999,9
49UF20101002,KS10-07,2822,1,5,21964,2,20101025,0513,39.0667,136.0182,2579,2281.5,2252,0.2282,34.0675,2,-999.0000,9,202.62,2,85.25,2,25.46,2,0.00,2,1.98,2,-999.,9,-999.,9,-999.,9,-999,9,-999,9
49UF20101002,KS10-07,2822,1,4,21963,3,20101025,0513,39.0667,136.0182,2579,2281.5,2252,0.2282,34.0675,2,-999.0000,9,202.33,2,85.18,2,25.53,2,0.00,2,1.98,2,-999.,9,-999.,9,-999.,9,-999,9,-999,9
49UF20101002,KS10-07,2822,1,3,21962,2,20101025,0508,39.0667,136.0182,2579,2535.7,2501,0.2439,34.0672,2,-999.0000,9,202.59,2,86.10,2,25.50,2,0.00,2,1.98,2,-999.,9,-999.,9,-999.,9,-999,9,-999,9
49UF20101002,KS10-07,2822,1,2,21961,2,20101025,0508,39.0667,136.0182,2579,2535.7,2501,0.2439,34.0672,2,34.0680,2,202.56,2,86.35,2,25.50,2,0.00,2,1.98,2,-999.,9,-999.,9,-999.,9,-999,9,-999,9
49UF20101002,KS10-07,2822,1,1,21960,3,20101025,0508,39.0667,136.0182,2579,2541.1,2507,0.2445,34.0671,2,34.0682,2,202.63,2,86.34,2,25.46,2,0.00,2,1.97,2,-999.,9,-999.,9,-999.,9,-999,9,-999,9