BOTTLE,20130408PRINUNIVRMK
EXPOCODE,SECT_ID,STNNBR,CASTNO,BTLNBR,BTLNBR_FLAG_W,DATE,TIME,LATITUDE,LONGITUDE,DEPTH,CTDPRS,CTDTMP,CTDSAL,SALNTY,SALNTY_FLAG_W,CTDOXY,CTDOXY_FLAG_W,SILCAT,SILCAT_FLAG_W,NITRAT,NITRAT_FLAG_W,NITRIT,NITRIT_FLAG_W,PHSPHT,PHSPHT_FLAG_W,TCARBN,TCARBN_FLAG_W,ALKALI,ALKALI_FLAG_W,PH_TOT,PH_TOT_FLAG_W,PH_TMP,CHLORA,CHLORA_FLAG_W
,,,,,,,,,,METERS,DBAR,ITS-90,PSS-78,PSS-78,,UMOL/KG,,UMOL/KG,,UMOL/KG,,UMOL/KG,,UMOL/KG,,UMOL/KG,,UMOL/KG,,,,DEG C,UG/KG,
  21OR20080102,ORI855,    11,  1,      8,2,20080105,1043, 26.2930, 125.3552, 1258,     74.6,  24.0670,  34.4040,  34.2810,2,    202.4,2,     2.20,2,     0.30,2,     0.05,2,     0.00,2,   1949.0,2,   2270.0,2,   8.0830,2,    25.00,     0.43,2
  21OR20080102,ORI855,    11,  1,      7,2,20080105,1043, 26.2930, 125.3552, 1258,    100.8,  24.0470,  34.4070,  34.2040,2,    202.4,2,     2.30,2,     3.70,2,     0.06,2,     0.02,2,   1950.0,2,   2266.0,2,   8.0810,2,    25.00,     0.40,2
  21OR20080102,ORI855,    11,  1,      6,2,20080105,1043, 26.2930, 125.3552, 1258,    126.0,  24.0410,  34.4190,  34.4770,2,    201.8,2,     4.90,2,     3.40,2,     0.07,2,     0.21,2,   2011.0,2,   2284.0,2,   8.0000,2,    25.00,     0.10,2
  21OR20080102,ORI855,    11,  1,      5,2,20080105,1043, 26.2930, 125.3552, 1258,    151.2,  21.9030,  34.6830,  34.5630,2,    180.8,2,     7.80,2,     6.30,2,     0.03,2,     0.37,2,   2039.0,2,   2284.0,2,   7.9530,2,    25.00,     0.03,2
  21OR20080102,ORI855,    11,  1,      4,2,20080105,1043, 26.2930, 125.3552, 1258,    200.6,  19.6440,  34.7240,  34.0230,3,    177.4,2,    31.60,2,     6.80,2,     0.01,2,     1.12,2,   2126.0,2,   2287.0,2,   7.7630,2,    25.00,     0.00,2
  21OR20080102,ORI855,    11,  1,      3,2,20080105,1043, 26.2930, 125.3552, 1258,    308.5,  12.2220,  34.4600,  34.2300,2,    159.2,2,    56.90,2,    27.40,2,     0.00,2,     1.77,2,   2193.0,2,   2305.0,2,   7.6320,2,    25.00,  -999.00,9
  21OR20080102,ORI855,    11,  1,      2,2,20080105,1043, 26.2930, 125.3552, 1258,    406.4,   8.6870,  34.3590,  34.2610,2,    121.5,2,    23.60,2,    10.50,2,     0.02,2,     0.67,2,   2084.0,2,   2288.0,2,   7.8740,2,    25.00,  -999.00,9
  21OR20080102,ORI855,    11,  1,      1,2,20080105,1043, 26.2930, 125.3552, 1258,    501.4,   7.4630,  34.3490,  34.1090,2,    104.7,2,    30.10,2,    10.30,2,     0.03,2,     0.86,2,   2080.0,2,   2286.0,2,   7.8750,2,    25.00,  -999.00,9
  21OR20080102,ORI855,    12,  2,     10,2,20080105,2107, 27.2355, 125.9005,  237,      2.0,  23.6540,  34.4040,  34.1340,2,    135.4,2,     2.50,2,     0.50,2,     0.05,2,     0.00,2,   1945.0,2,   2281.0,2,   8.0900,2,    25.00,     0.54,2
  21OR20080102,ORI855,    12,  2,      9,2,20080105,2107, 27.2355, 125.9005,  237,     10.1,  23.6420,  34.4470,  34.1160,2,    201.8,2,     2.70,2,     0.60,2,     0.07,2,     0.00,2,   1944.0,2,   2281.0,2,   8.0880,2,    25.00,     0.57,2
  21OR20080102,ORI855,    12,  2,      8,2,20080105,2107, 27.2355, 125.9005,  237,     25.2,  23.2800,  34.4790,  34.1280,2,    204.8,2,     2.70,2,     0.50,2,     0.09,2,     0.04,2,   1956.0,2,   2280.0,2,   8.0810,2,    25.00,     0.58,2
  21OR20080102,ORI855,    12,  2,      7,2,20080105,2107, 27.2355, 125.9005,  237,     50.4,  21.4600,  34.5420,  34.0900,2,    210.8,2,     3.60,2,     1.10,2,     0.40,2,     0.02,2,   1971.0,2,   2289.0,2,   8.0630,2,    25.00,     0.35,2
  21OR20080102,ORI855,    12,  1,      6,2,20080105,1912, 27.2355, 125.9005,  237,     75.6,  21.3320,  34.5470,  34.1240,2,    210.9,2,     4.70,2,     0.80,2,     0.41,2,     0.05,2,   1971.0,2,   2276.0,2,   8.0660,2,    25.00,     0.35,2
  21OR20080102,ORI855,    12,  1,      5,2,20080105,1912, 27.2355, 125.9005,  237,    101.8,  20.7720,  34.5450,  34.0920,2,    210.4,2,     4.10,2,     1.20,2,     0.34,2,     0.03,2,   1980.0,2,   2276.0,2,   8.0560,2,    25.00,     0.33,2
  21OR20080102,ORI855,    12,  1,      4,2,20080105,1912, 27.2355, 125.9005,  237,    152.2,  20.3230,  34.5410,  34.1870,2,    203.8,2,     5.70,2,     2.20,2,     0.37,2,     0.15,2,   1992.0,2,   2278.0,2,   8.0400,2,    25.00,  -999.00,9
  21OR20080102,ORI855,    12,  1,      3,2,20080105,1912, 27.2355, 125.9005,  237,    181.4,  19.0630,  34.5450,  34.1080,2,    172.6,2,    13.30,2,     7.10,2,     0.05,2,     0.44,2,   2041.0,2,   2282.0,2,   7.9530,2,    25.00,  -999.00,9
  21OR20080102,ORI855,    12,  1,      2,2,20080105,1912, 27.2355, 125.9005,  237,    201.6,  18.7930,  34.5620,  34.1080,2,    172.0,2,    10.30,2,     5.50,2,     0.11,2,     0.34,2,   2028.0,2,   2280.0,2,   7.9750,2,    25.00,  -999.00,9
  21OR20080102,ORI855,    12,  1,      1,2,20080105,1912, 27.2355, 125.9005,  237,    226.8,  15.6020,  34.6060,  34.0390,2,    169.3,2,    12.90,2,     7.40,2,     0.11,2,     0.37,2,   2045.0,2,   2282.0,2,   7.9450,2,    25.00,  -999.00,9
  21OR20080102,ORI855,    13,  1,      7,2,20080106,0240, 28.1267, 126.4392,  146,      2.0,  22.8610,  34.5380,  33.9960,2,    207.4,2,     2.80,2,     0.20,2,     0.08,2,     0.00,2,   1961.0,2,   2277.0,2,   8.0780,2,    25.00,     0.69,2
  21OR20080102,ORI855,    13,  1,      6,2,20080106,0240, 28.1267, 126.4392,  146,     10.1,  22.8670,  34.5370,  33.9720,2,    207.7,2,     2.30,2,     0.30,2,     0.09,2,     0.00,2,   1962.0,2,   2278.0,2,   8.0780,2,    25.00,     0.61,2
  21OR20080102,ORI855,    13,  1,      5,2,20080106,0240, 28.1267, 126.4392,  146,     26.2,  22.8710,  34.5370,  33.9510,2,    208.0,2,     3.20,2,     0.30,2,     0.10,2,     0.00,2,   1958.0,2,   2266.0,2,   8.0810,2,    25.00,     0.63,2
  21OR20080102,ORI855,    13,  1,      4,2,20080106,0240, 28.1267, 126.4392,  146,     51.4,  22.8520,  34.5340,  34.5030,2,    207.8,2,     3.30,2,     0.50,2,     0.31,2,     0.12,2,   1965.0,2,   2273.0,2,   8.0650,2,    25.00,     0.27,2
  21OR20080102,ORI855,    13,  1,      3,2,20080106,0240, 28.1267, 126.4392,  146,     75.6,  22.3590,  34.4920,  34.6700,2,    205.8,2,     7.10,2,     4.10,2,     0.03,2,     0.38,2,   2016.0,2,   2283.0,2,   7.9860,2,    25.00,     0.04,2
  21OR20080102,ORI855,    13,  1,      2,2,20080106,0240, 28.1267, 126.4392,  146,    101.8,  20.5470,  34.6380,  34.6510,2,    181.4,2,     6.40,2,     2.90,2,     0.05,2,     0.25,2,   2010.0,2,   2282.0,2,   7.9910,2,    25.00,     0.36,2
  21OR20080102,ORI855,    13,  1,      1,2,20080106,0240, 28.1267, 126.4392,  146,    141.1,  18.3430,  34.6400,  34.6420,2,    174.7,2,    12.00,2,     6.50,2,     0.05,2,     0.47,2,   2045.0,2,   2287.0,2,   7.9370,2,    25.00,     0.02,2
  21OR20080102,ORI855,    14,  2,      6,2,20080106,0831, 28.4157, 125.6642,  106,      2.0,  20.2830,  34.4960,  34.5120,2,    222.5,2,     3.00,2,     0.10,2,     0.19,2,     0.02,2,   1960.0,2,   2273.0,2,   8.0710,2,    25.00,     0.98,2
  21OR20080102,ORI855,    14,  2,      5,2,20080106,0831, 28.4157, 125.6642,  106,     10.1,  20.2610,  34.5500,  34.5490,2,    223.0,2,     2.70,2,     0.00,2,     0.17,2,     0.00,2,   1965.0,2,   2279.0,2,   8.0680,2,    25.00,     0.91,2
  21OR20080102,ORI855,    14,  2,      4,2,20080106,0831, 28.4157, 125.6642,  106,     25.2,  19.3360,  34.5570,  34.5580,2,    222.8,2,     3.90,2,     0.30,2,     0.31,2,     0.01,2,   1979.0,2,   2281.0,2,   8.0540,2,    25.00,     0.94,2
  21OR20080102,ORI855,    14,  2,      3,2,20080106,0831, 28.4157, 125.6642,  106,     50.4,  19.2080,  34.5460,  34.5510,2,    218.0,2,     4.80,2,     0.80,2,     0.48,2,     0.05,2,   1986.0,2,   2279.0,2,   8.0370,2,    25.00,     0.32,2
  21OR20080102,ORI855,    14,  2,      2,2,20080106,0831, 28.4157, 125.6642,  106,     76.6,  18.9120,  34.5210,  34.5370,2,    209.8,2,     6.70,2,     1.70,2,     0.53,2,     0.18,2,   2000.0,2,   2277.0,2,   8.0150,2,    25.00,     0.57,2
  21OR20080102,ORI855,    14,  2,      1,2,20080106,0831, 28.4157, 125.6642,  106,    101.8,  18.8150,  34.5240,  34.5320,2,    214.2,2,     6.60,2,     3.10,2,     0.76,2,     0.29,2,   1998.0,2,   2278.0,2,   8.0150,2,    25.00,     0.19,2
  21OR20080102,ORI855,    15,  2,      6,2,20080106,1418, 28.7013, 124.9117,   96,      1.0,  18.3770,  34.4670,  34.4740,2,    225.8,2,     6.30,2,     1.80,2,     0.33,2,     0.21,2,   1993.0,2,   2274.0,2,   8.0190,2,    25.00,     0.23,2
  21OR20080102,ORI855,    15,  2,      5,2,20080106,1418, 28.7013, 124.9117,   96,     11.1,  18.3900,  34.4670,  34.4760,2,    225.2,2,     6.30,2,     1.60,2,     0.33,2,     0.12,2,   1994.0,2,   2275.0,2,   8.0160,2,    25.00,     0.22,2
  21OR20080102,ORI855,    15,  2,      4,2,20080106,1418, 28.7013, 124.9117,   96,     20.2,  18.3690,  34.4690,  34.4720,2,    225.1,2,    12.20,2,     5.90,2,     0.40,2,     0.15,2,   1993.0,2,   2278.0,2,   8.0190,2,    25.00,     0.26,2
  21OR20080102,ORI855,    15,  2,      3,2,20080106,1418, 28.7013, 124.9117,   96,     40.3,  18.3520,  34.4690,  34.4740,2,    224.5,2,     6.50,2,     1.70,2,     0.32,2,     0.15,2,   1997.0,2,   2279.0,2,   8.0150,2,    25.00,     0.29,2
  21OR20080102,ORI855,    15,  2,      2,2,20080106,1418, 28.7013, 124.9117,   96,     61.5,  18.3560,  34.4690,  34.4930,2,    224.6,2,     6.30,2,     1.70,2,     0.32,2,     0.15,2,   1998.0,2,   2273.0,2,   8.0130,2,    25.00,     0.28,2
  21OR20080102,ORI855,    15,  2,      1,2,20080106,1418, 28.7013, 124.9117,   96,     85.7,  18.3600,  34.4690,  34.4810,2,    224.4,2,     6.50,2,     2.30,2,     0.33,2,     0.12,2,   1995.0,2,   2276.0,2,   8.0130,2,    25.00,     0.26,2
  21OR20080102,ORI855,    16,  4,      6,2,20080107,0456, 28.9992, 124.1295,   69,      3.0,  17.8180,  34.3830,  34.3820,2,    231.3,2,     6.90,2,     1.80,2,     0.29,2,     0.13,2,   1991.0,2,   2269.0,2,   8.0150,2,    25.00,     0.54,2
  21OR20080102,ORI855,    16,  4,      5,2,20080107,0456, 28.9992, 124.1295,   69,     11.1,  17.8210,  34.3820,  34.3930,2,    231.7,2,     7.00,2,     1.80,2,     0.29,2,     0.14,2,   1989.0,2,   2271.0,2,   8.0170,2,    25.00,     0.51,2
  21OR20080102,ORI855,    16,  4,      4,2,20080107,0456, 28.9992, 124.1295,   69,     20.2,  17.8160,  34.3820,  34.4440,2,    231.8,2,     7.00,2,     1.70,2,     0.29,2,     0.15,2,   1989.0,2,   2272.0,2,   8.0120,2,    25.00,     0.51,2
  21OR20080102,ORI855,    16,  4,      3,2,20080107,0456, 28.9992, 124.1295,   69,     31.2,  17.8000,  34.3810,  34.3880,2,    231.2,2,     7.00,2,     1.80,2,     0.29,2,     0.15,2,   1989.0,2,   2271.0,2,   8.0150,2,    25.00,     0.49,2
  21OR20080102,ORI855,    16,  4,      2,2,20080107,0456, 28.9992, 124.1295,   69,     41.3,  17.7970,  34.3810,  34.3780,2,    230.9,2,     6.90,2,     2.10,2,     0.29,2,     0.15,2,   1990.0,2,   2274.0,2,   8.0110,2,    25.00,     0.51,2
  21OR20080102,ORI855,    16,  4,      1,2,20080107,0456, 28.9992, 124.1295,   69,     61.5,  17.7920,  34.3830,  34.3860,2,    230.6,2,     7.00,2,     2.00,2,     0.28,2,     0.17,2,   1990.0,2,   2271.0,2,   8.0090,2,    25.00,     0.44,2
  21OR20080102,ORI855,    17,  1,      6,2,20080107,1017, 29.2951, 123.3504,   71,      2.0,  16.7690,  34.4530,  34.5100,2,    236.0,2,     9.00,2,     3.00,2,     0.13,2,     0.26,2,   2003.0,2,   2278.0,2,   8.0020,2,    25.00,     0.46,2
  21OR20080102,ORI855,    17,  1,      5,2,20080107,1017, 29.2951, 123.3504,   71,     11.1,  16.8260,  34.4580,  34.4690,2,    235.8,2,    10.20,2,     3.60,2,     0.13,2,     0.25,2,   2002.0,2,   2276.0,2,   8.0040,2,    25.00,     0.38,2
  21OR20080102,ORI855,    17,  1,      4,2,20080107,1017, 29.2951, 123.3504,   71,     21.2,  16.8190,  34.4580,  34.4650,2,    236.1,2,     9.20,2,     3.50,2,     0.14,2,     0.28,2,   2005.0,2,   2279.0,2,   8.0000,2,    25.00,     0.49,2
  21OR20080102,ORI855,    17,  1,      3,2,20080107,1017, 29.2951, 123.3504,   71,     31.2,  16.8180,  34.4580,  34.4720,2,    236.1,2,     9.00,2,     3.10,2,     0.11,2,     0.20,2,   2005.0,2,   2281.0,2,   8.0030,2,    25.00,     0.42,2
  21OR20080102,ORI855,    17,  1,      2,2,20080107,1017, 29.2951, 123.3504,   71,     40.3,  16.8150,  34.4580,  34.4690,2,    236.2,2,     9.00,2,     4.20,2,     0.12,2,     0.22,2,   2000.0,2,   2278.0,2,   8.0040,2,    25.00,     0.45,2
  21OR20080102,ORI855,    17,  1,      1,2,20080107,1017, 29.2951, 123.3504,   71,     61.5,  16.8280,  34.4570,  34.4860,2,    235.9,2,     9.10,2,     3.10,2,     0.11,2,     0.23,2,   2033.0,2,   2276.0,2,   8.0020,2,    25.00,     0.41,2
  21OR20080102,ORI855,    18,  1,      6,2,20080107,1442, 29.5518, 122.6655,   46,      2.0,  14.5950,  33.2020,  33.2390,2,    251.8,2,    16.90,2,     8.50,2,     0.12,2,     0.48,2,   2033.0,2,   2274.0,2,   7.9480,2,    25.00,     0.81,2
  21OR20080102,ORI855,    18,  1,      5,2,20080107,1442, 29.5518, 122.6655,   46,     11.1,  14.5950,  33.2040,  33.2510,2,    251.2,2,    17.00,2,     8.60,2,     0.12,2,     0.41,2,   2035.0,2,   2275.0,2,   7.9450,2,    25.00,     0.84,2
  21OR20080102,ORI855,    18,  1,      4,2,20080107,1442, 29.5518, 122.6655,   46,     15.1,  14.6800,  33.2380,  33.1980,2,    251.3,2,    16.20,2,     8.60,2,     0.12,2,     0.47,2,   2033.0,2,   2275.0,2,   7.9620,2,    25.00,     0.84,2
  21OR20080102,ORI855,    18,  1,      3,2,20080107,1442, 29.5518, 122.6655,   46,     20.2,  14.8280,  33.3300,  33.3150,2,    251.0,2,    16.70,2,     8.10,2,     0.11,2,     0.49,2,   2034.0,2,   2275.0,2,   7.9620,2,    25.00,     1.02,2
  21OR20080102,ORI855,    18,  1,      2,2,20080107,1442, 29.5518, 122.6655,   46,     26.2,  15.2500,  33.5640,  33.5100,2,    246.3,2,    15.90,2,     7.70,2,     0.11,2,     0.45,2,   2027.0,2,   2282.0,2,   7.9660,2,    25.00,     0.80,2
  21OR20080102,ORI855,    18,  1,      1,2,20080107,1442, 29.5518, 122.6655,   46,     41.3,  15.9860,  34.0960,  34.1150,2,    236.7,2,    13.20,2,     5.20,2,     0.20,2,     0.44,2,   2017.0,2,   2279.0,2,   7.9770,2,    25.00,     0.36,2
  21OR20080102,ORI855,    29,  1,      6,2,20080107,2208, 30.4606, 123.2464,   59,      3.0,  16.2850,  34.3770,  34.3850,2,    238.1,2,     8.70,2,     3.30,2,     0.10,2,     0.26,2,   2009.0,2,   2272.0,2,   7.9970,2,    25.00,     0.57,2
  21OR20080102,ORI855,    29,  1,      5,2,20080107,2208, 30.4606, 123.2464,   59,     11.1,  16.2840,  34.3770,  34.3830,2,    238.5,2,     9.20,2,     3.20,2,     0.10,2,     0.27,2,   2006.0,2,   2272.0,2,   7.9950,2,    25.00,     0.62,2
  21OR20080102,ORI855,    29,  1,      4,2,20080107,2208, 30.4606, 123.2464,   59,     21.2,  16.2960,  34.3770,  34.4380,2,    238.8,2,     9.20,2,     3.10,2,     0.10,2,     0.21,2,   2011.0,2,   2273.0,2,   7.9960,2,    25.00,     0.68,2
  21OR20080102,ORI855,    29,  1,      3,2,20080107,2208, 30.4606, 123.2464,   59,     30.2,  16.2980,  34.3770,  34.3960,2,    238.8,2,     9.00,2,     3.30,2,     0.11,2,     0.41,2,   2011.0,2,   2270.0,2,   7.9960,2,    25.00,     0.69,2
  21OR20080102,ORI855,    29,  1,      2,2,20080107,2208, 30.4606, 123.2464,   59,     40.3,  16.2980,  34.3770,  34.4100,2,    238.8,2,     9.10,2,     3.30,2,     0.10,2,     0.28,2,   2010.0,2,   2273.0,2,   7.9960,2,    25.00,     0.62,2
  21OR20080102,ORI855,    29,  1,      1,2,20080107,2208, 30.4606, 123.2464,   59,     55.4,  16.2970,  34.3770,  34.3690,2,    238.7,2,     9.10,2,     3.60,2,     0.11,2,     0.27,2,   2003.0,2,   2267.0,2,   7.9930,2,    25.00,     0.57,2
  21OR20080102,ORI855,    19,  1,      6,2,20080108,0641, 31.6263, 128.1488,   37,      3.0,  12.1350,  31.9400,  31.9630,2,    265.4,2,    20.80,2,    13.40,2,     0.21,2,     0.57,2,   2081.0,2,   2286.0,2,   7.9050,2,    25.00,     0.74,2
  21OR20080102,ORI855,    19,  1,      5,2,20080108,0641, 31.6263, 128.1488,   37,      5.0,  12.1230,  31.9430,  31.9990,2,    266.6,2,    20.90,2,    12.00,2,     0.18,2,     0.49,2,   2080.0,2,   2288.0,2,   7.9030,2,    25.00,     0.73,2
  21OR20080102,ORI855,    19,  1,      4,2,20080108,0641, 31.6263, 128.1488,   37,     10.1,  12.1270,  32.0570,  32.0320,2,    265.3,2,    20.50,2,    11.40,2,     0.18,2,     0.48,2,   2076.0,2,   2193.0,4,   7.9040,2,    25.00,     0.61,2
  21OR20080102,ORI855,    19,  1,      3,2,20080108,0641, 31.6263, 128.1488,   37,     15.1,  12.2200,  32.1540,  32.1640,2,    264.2,2,    20.10,2,    11.00,2,     0.20,2,     0.49,2,   2073.0,2,   2281.0,2,   7.9050,2,    25.00,     0.58,2
  21OR20080102,ORI855,    19,  1,      2,2,20080108,0641, 31.6263, 128.1488,   37,     20.2,  12.3230,  32.2570,  32.3400,2,    263.7,2,    19.70,2,    11.00,2,     0.21,2,     0.50,2,   2069.0,2,   2280.0,2,   7.9060,2,    25.00,     0.59,2
  21OR20080102,ORI855,    19,  1,      1,2,20080108,0641, 31.6263, 128.1488,   37,     30.2,  12.5080,  32.4460,  32.3630,2,    262.7,2,    19.10,2,    10.30,2,     0.23,2,     0.59,2,   2065.0,2,   2280.0,2,   7.9120,2,    25.00,     0.70,2
  21OR20080102,ORI855,    20,  1,      6,2,20080108,1114, 31.3342, 123.9166,   52,      3.0,  13.7140,  33.5750,  33.5420,2,    256.9,2,    16.90,2,     3.40,2,     0.17,2,     0.54,2,   2044.0,2,   2265.0,2,   7.9190,2,    25.00,     0.89,2
  21OR20080102,ORI855,    20,  1,      5,2,20080108,1114, 31.3342, 123.9166,   52,     11.1,  13.8110,  33.6540,  33.7030,2,    253.9,2,    14.90,2,     7.50,2,     0.16,2,     0.48,2,   2043.0,2,   2265.0,2,   7.9190,2,    25.00,     0.72,2
  21OR20080102,ORI855,    20,  1,      4,2,20080108,1114, 31.3342, 123.9166,   52,     21.2,  13.8740,  33.7240,  33.7560,2,    252.6,2,    13.70,2,     7.50,2,     0.14,2,     0.47,2,   2048.0,2,   2270.0,2,   7.9240,2,    25.00,     0.56,2
  21OR20080102,ORI855,    20,  1,      3,2,20080108,1114, 31.3342, 123.9166,   52,     31.2,  13.8990,  33.7430,  33.7810,2,    252.1,2,    13.60,2,     7.10,2,     0.13,2,     0.43,2,   2048.0,2,   2278.0,2,   7.9190,2,    25.00,     0.55,2
  21OR20080102,ORI855,    20,  1,      2,2,20080108,1114, 31.3342, 123.9166,   52,     41.3,  13.9150,  33.7480,  33.7680,2,    251.9,2,    13.40,2,     7.30,2,     0.13,2,     0.45,2,   2049.0,2,   2266.0,2,   7.9220,2,    25.00,     0.51,2
  21OR20080102,ORI855,    20,  1,      1,2,20080108,1114, 31.3342, 123.9166,   52,     50.4,  13.9190,  33.7490,  33.8360,2,    251.7,2,    13.30,2,     7.50,2,     0.13,2,     0.48,2,   2045.0,2,   2264.0,2,   7.9210,2,    25.00,     0.56,2
  21OR20080102,ORI855,    21,  1,      6,2,20060108,1654, 31.0402, 124.6903,   53,      3.0,  14.4000,  33.6380,  33.9120,3,    131.2,2,    13.70,2,     7.00,2,     0.10,2,     0.47,2,   2050.0,2,   2265.0,2,   7.9190,2,    25.00,     0.62,2
  21OR20080102,ORI855,    21,  1,      5,2,20060108,1654, 31.0402, 124.6903,   53,     10.1,  14.4110,  33.9000,  33.9080,2,    246.3,2,     9.10,2,     4.00,2,     0.10,2,     0.38,2,   2048.0,2,   2272.0,2,   7.9190,2,    25.00,     0.03,2
  21OR20080102,ORI855,    21,  1,      4,2,20060108,1654, 31.0402, 124.6903,   53,     20.2,  14.4120,  33.9020,  33.9910,2,    248.2,2,    13.60,2,     7.50,2,     0.11,2,     0.48,2,   2048.0,2,   2274.0,2,   7.9170,2,    25.00,     0.52,2
  21OR20080102,ORI855,    21,  1,      3,2,20060108,1654, 31.0402, 124.6903,   53,     30.2,  14.4140,  33.9050,  33.9620,2,    248.5,2,    14.70,2,    10.60,2,     0.18,2,     0.77,2,   2045.0,2,   2271.0,2,   7.9140,2,    25.00,     0.52,2
  21OR20080102,ORI855,    21,  1,      2,2,20060108,1654, 31.0402, 124.6903,   53,     41.3,  14.4230,  33.9040,  33.9150,2,    248.4,2,    13.90,2,     7.60,2,     0.16,2,     0.46,2,   2050.0,2,   2273.0,2,   7.9180,2,    25.00,     0.46,2
  21OR20080102,ORI855,    21,  1,      1,2,20060108,1654, 31.0402, 124.6903,   53,     50.4,  14.4310,  33.9030,  33.9180,2,    248.6,2,    13.80,2,     7.80,2,     0.16,2,     0.62,2,   2050.0,2,   2278.0,2,   7.9140,2,    25.00,     0.65,2