BOTTLE,20130408PRINUNIVRMK
# 3/22/2013 Initialized README file   
# Data source: CDIAC 3/21/2013  
# SHIP: Ocean Research I  
# Cruise: ORI-855  
# Region: East China Sea  
# EXPOCODE: 21OR20080102  
# DATES: 1/2 - 1/9/2008  
# Chief Scientist: Gwo-Ching Gong 
# 25 stations with 6 place Rosette  
# Hydro: Who - Gwo-Ching Gong; Status -  final 
# 	Notes: Pressure approximated from reported Depth 
# 	Bottle numbers fabricated 
# Nuts: Who - Gwo-Ching Gong; Status - final 
# 	Notes: Difficult to QC due to locale 
# O2: Who - Gwo-Ching Gong; Status - final 
# 	Notes: CTDOXY only 
# TCO2: Who - W.-C. Chou; Status - final  
# 	Notes: integer values  
# TA: Who - W.-C. Chou; Status - final  
# 	Notes: integer values  
# pH: Who - W.-C. Chou; Status - final  
# 	Notes: Total scale @ 25C  
# 	3 decimal places reported  
# References:  
# Chou, W.C., Gong G.C., Tseng, C.M., Sheu, D.D., Hung, C.C., Chang, L.P., Wang, L.W. 2011. The carbonate system in the East China Sea in winter: a eutrophication-induced seasonal shift in CO2 uptake, Marine Chemistry. 123 (2011), 44-55, doi: 10.1016/j.marchem.2010.09.004.  
EXPOCODE,SECT_ID,STNNBR,CASTNO,BTLNBR,BTLNBR_FLAG_W,DATE,TIME,LATITUDE,LONGITUDE,DEPTH,CTDPRS,CTDTMP,CTDSAL,SALNTY,SALNTY_FLAG_W,CTDOXY,CTDOXY_FLAG_W,SILCAT,SILCAT_FLAG_W,NITRAT,NITRAT_FLAG_W,NITRIT,NITRIT_FLAG_W,PHSPHT,PHSPHT_FLAG_W,TCARBN,TCARBN_FLAG_W,ALKALI,ALKALI_FLAG_W,PH_TOT,PH_TOT_FLAG_W,PH_TMP,CHLORA,CHLORA_FLAG_W
,,,,,,,,,,METERS,DBAR,ITS-90,PSS-78,PSS-78,,UMOL/KG,,UMOL/KG,,UMOL/KG,,UMOL/KG,,UMOL/KG,,UMOL/KG,,UMOL/KG,,,,DEG C,UG/KG,
  21OR20080102,ORI855,     1,  1,      8,2,20080102,0703, 25.4227, 122.2037,  262,      3.0,  20.6390,  34.3550,  34.4200,2,    216.5,2,     6.00,2,     2.20,2,     0.10,2,     0.70,2,   1970.0,2,   2263.0,2,   8.0580,2,    25.00,     1.12,2
  21OR20080102,ORI855,     1,  1,      7,2,20080102,0703, 25.4227, 122.2037,  262,     10.1,  20.3900,  34.3640,  34.5510,2,    217.3,2,     6.00,2,     2.10,2,     0.10,2,     0.18,2,   1969.0,2,   2268.0,2,   8.0480,2,    25.00,     1.08,2
  21OR20080102,ORI855,     1,  1,      6,2,20080102,0703, 25.4227, 122.2037,  262,     25.2,  19.1680,  34.4430,  34.5360,2,    216.4,2,    10.70,2,     5.50,2,     0.15,2,     0.39,2,   2021.0,2,   2281.0,2,   7.9750,2,    25.00,     1.04,2
  21OR20080102,ORI855,     1,  1,      5,2,20080102,0703, 25.4227, 122.2037,  262,     49.4,  18.3600,  34.5130,  34.8410,2,    205.8,2,    10.90,2,     5.90,2,     0.14,2,     0.43,2,   2021.0,2,   2278.0,2,   7.9720,2,    25.00,     1.04,2
  21OR20080102,ORI855,     1,  1,      4,2,20080102,0703, 25.4227, 122.2037,  262,     73.6,  17.9950,  34.5340,  35.0470,3,    194.9,2,    12.30,2,     6.40,2,     0.13,2,     0.48,2,   2038.0,2,   2279.0,2,   7.9580,2,    25.00,     0.84,2
  21OR20080102,ORI855,     1,  1,      3,2,20080102,0703, 25.4227, 122.2037,  262,     98.8,  17.2630,  34.5660,  34.5980,2,    178.9,2,    15.10,2,     9.30,2,     0.09,2,     0.57,2,   2053.0,2,   2283.0,2,   7.9240,2,    25.00,     0.27,2
  21OR20080102,ORI855,     1,  1,      2,2,20080102,0703, 25.4227, 122.2037,  262,    126.0,  16.5490,  34.5900,  34.5980,2,    169.8,2,    17.20,2,    10.40,2,     0.05,2,     0.65,2,   2065.0,2,   2283.0,2,   7.9030,2,    25.00,     0.11,2
  21OR20080102,ORI855,     1,  1,      1,2,20080102,0703, 25.4227, 122.2037,  262,    152.2,  16.0340,  34.5850,  34.6040,2,    166.9,2,    18.60,2,    10.70,2,     0.04,2,     0.67,2,   2072.0,2,   2280.0,2,   7.8790,2,    25.00,     0.08,2
  21OR20080102,ORI855,     2,  1,      6,2,20080102,1439, 25.6682, 121.5007,  106,      2.0,  19.3970,  34.4920,  34.5080,2,    214.5,2,     6.90,2,     3.00,2,     0.42,2,     0.20,2,   2005.0,2,   2278.0,2,   8.0180,2,    25.00,     0.52,2
  21OR20080102,ORI855,     2,  1,      5,2,20080102,1439, 25.6682, 121.5007,  106,     11.1,  19.3740,  34.4930,  34.8820,2,    214.1,2,     6.70,2,     3.10,2,     0.43,2,     0.21,2,   2000.0,2,   2274.0,2,   8.0150,2,    25.00,     0.54,2
  21OR20080102,ORI855,     2,  1,      4,2,20080102,1439, 25.6682, 121.5007,  106,     25.2,  19.3910,  34.4920,  34.8210,2,    214.4,2,     6.90,2,     4.30,2,     0.41,2,     0.20,2,   1999.0,2,   2276.0,2,   8.0120,2,    25.00,     0.53,2
  21OR20080102,ORI855,     2,  1,      3,2,20080102,1439, 25.6682, 121.5007,  106,     51.4,  19.3950,  34.4920,  34.5170,2,    214.2,2,     6.90,2,     3.70,2,     0.42,2,     0.22,2,   2002.0,2,   2279.0,2,   8.0080,2,    25.00,     0.51,2
  21OR20080102,ORI855,     2,  1,      2,2,20080102,1439, 25.6682, 121.5007,  106,     73.6,  19.2580,  34.4970,  34.6350,2,    212.0,2,     8.90,2,     4.70,2,     0.36,2,     0.21,2,   2013.0,2,   2279.0,2,   7.9950,2,    25.00,     0.42,2
  21OR20080102,ORI855,     2,  1,      1,2,20080102,1439, 25.6682, 121.5007,  106,     93.7,  18.8690,  34.5120,  34.8210,2,    195.7,2,    11.00,2,     5.90,2,     0.30,2,     0.41,2,   2016.0,2,   2278.0,2,   7.9690,2,    25.00,     0.36,2
  21OR20080102,ORI855,     3,  1,      6,2,20080103,0435, 25.9187, 120.7910,   76,      2.0,  18.4790,  33.5520,  33.5700,2,    228.5,2,    11.00,2,     8.30,2,     0.21,2,     0.24,2,   1997.0,2,   2253.0,2,   8.0030,2,    25.00,     0.76,2
  21OR20080102,ORI855,     3,  1,      5,2,20080103,0435, 25.9187, 120.7910,   76,     11.1,  18.4630,  33.5440,  33.5940,2,    228.4,2,    10.80,2,     6.20,2,     0.19,2,     0.30,2,   1995.0,2,   2259.0,2,   8.0020,2,    25.00,     0.82,2
  21OR20080102,ORI855,     3,  1,      4,2,20080103,0435, 25.9187, 120.7910,   76,     21.2,  18.4670,  33.5460,  33.8260,2,    228.6,2,    10.90,2,     5.80,2,     0.20,2,     0.29,2,   1991.0,2,   2256.0,2,   8.0040,2,    25.00,     0.41,2
  21OR20080102,ORI855,     3,  1,      3,2,20080103,0435, 25.9187, 120.7910,   76,     40.3,  18.7260,  33.7560,  34.4590,3,    225.6,2,    10.10,2,     4.80,2,     0.09,2,     0.31,2,   1994.0,2,   2266.0,2,   8.0040,2,    25.00,     0.20,2
  21OR20080102,ORI855,     3,  1,      2,2,20080103,0435, 25.9187, 120.7910,   76,     60.5,  19.1980,  34.2320,  34.3610,2,    216.6,2,     9.90,2,     4.40,2,     0.08,2,     0.30,2,   1991.0,2,   2268.0,2,   8.0020,2,    25.00,     0.15,2
  21OR20080102,ORI855,     3,  1,      1,2,20080103,0435, 25.9187, 120.7910,   76,     71.6,  19.1990,  34.2310,  34.2590,2,    216.7,2,     9.80,2,     5.00,2,     0.08,2,     0.30,2,   1994.0,2,   2268.0,2,   7.9980,2,    25.00,     0.16,2
  21OR20080102,ORI855,     4,  1,      6,2,20080103,1054, 26.1686, 120.0833,   37,      2.0,  14.6200,  31.0820,  31.1510,2,    251.4,2,    25.60,2,    18.10,2,     0.20,2,     0.83,2,   2032.0,2,   2240.0,2,   7.9380,2,    25.00,     0.46,2
  21OR20080102,ORI855,     4,  1,      5,2,20080103,1054, 26.1686, 120.0833,   37,     10.1,  14.6430,  31.0990,  31.3340,2,    251.2,2,    26.10,2,    18.40,2,     0.20,2,     0.84,2,   2033.0,2,   2239.0,2,   7.9360,2,    25.00,     0.47,2
  21OR20080102,ORI855,     4,  1,      4,2,20080103,1054, 26.1686, 120.0833,   37,     16.1,  14.6620,  31.1100,  31.1700,2,    251.5,2,    26.00,2,    19.30,2,     0.24,2,     0.89,2,   2034.0,2,   2235.0,2,   7.9360,2,    25.00,     0.47,2
  21OR20080102,ORI855,     4,  1,      3,2,20080103,1054, 26.1686, 120.0833,   37,     20.2,  14.8020,  31.2460,  31.3470,2,    250.4,2,    25.30,2,    17.70,2,     0.22,2,     0.84,2,   2032.0,2,   2237.0,2,   7.9390,2,    25.00,     0.55,2
  21OR20080102,ORI855,     4,  1,      2,2,20080103,1054, 26.1686, 120.0833,   37,     25.2,  14.8460,  31.3790,  31.3980,2,    249.4,2,    24.80,2,    16.90,2,     0.19,2,     0.76,2,   2027.0,2,   2243.0,2,   7.9490,2,    25.00,     0.56,2
  21OR20080102,ORI855,     4,  1,      1,2,20080103,1054, 26.1686, 120.0833,   37,     36.3,  14.8970,  31.5700,-999.0000,9,    249.1,2,    24.00,2,    16.30,2,     0.23,2,     0.80,2,   2022.0,2,   2247.0,2,   7.9480,2,    25.00,     0.50,2
  21OR20080102,ORI855,     5,  1,      6,2,20080103,2147, 26.9383, 121.0404,   51,      2.0,  15.8290,  32.8150,  32.8240,2,    242.2,2,    17.10,2,    10.20,2,     0.16,2,     0.48,2,   2023.0,2,   2251.0,2,   7.9780,2,    25.00,     0.53,2
  21OR20080102,ORI855,     5,  1,      5,2,20080103,2147, 26.9383, 121.0404,   51,      5.0,  15.8070,  32.8040,  33.0100,2,    242.3,2,    17.20,2,    10.70,2,     0.16,2,     0.48,2,   2023.0,2,   2253.0,2,   7.9750,2,    25.00,     0.52,2
  21OR20080102,ORI855,     5,  1,      4,2,20080103,2147, 26.9383, 121.0404,   51,      9.1,  15.8120,  32.8050,  33.0880,2,    242.0,2,    17.00,2,    10.80,2,     0.16,2,     0.49,2,   2022.0,2,   2254.0,2,   7.9740,2,    25.00,     0.54,2
  21OR20080102,ORI855,     5,  1,      3,2,20080103,2147, 26.9383, 121.0404,   51,     21.2,  16.7960,  33.4030,  33.3560,2,    236.4,2,    13.90,2,     8.70,2,     0.24,2,     0.40,2,   2013.0,2,   2257.0,2,   7.9870,2,    25.00,     0.39,2
  21OR20080102,ORI855,     5,  1,      2,2,20080103,2147, 26.9383, 121.0404,   51,     30.2,  16.8160,  33.5350,  33.5250,2,    236.1,2,    12.60,2,     7.00,2,     0.26,2,     0.30,2,   2009.0,2,   2265.0,2,   7.9910,2,    25.00,     0.59,2
  21OR20080102,ORI855,     5,  1,      1,2,20080103,2147, 26.9383, 121.0404,   51,     45.3,  16.9350,  33.6100,  33.7350,2,    235.4,2,    12.00,2,     6.70,2,     0.30,2,     0.41,2,   2005.0,2,   2266.0,2,   7.9970,2,    25.00,     0.55,2
  21OR20080102,ORI855,     6,  1,      6,2,20080104,0414, 27.7518, 121.5005,   30,      2.0,  13.4500,  30.7810,  30.7920,2,    258.5,2,    27.70,2,    21.40,2,     0.19,2,     0.84,2,   2035.0,2,   2247.0,2,   7.9310,2,    25.00,     0.52,2
  21OR20080102,ORI855,     6,  1,      5,2,20080104,0414, 27.7518, 121.5005,   30,     10.1,  13.4750,  30.8060,  30.9140,2,    257.5,2,    27.60,2,    21.20,2,     0.18,2,     0.81,2,   2045.0,2,   2250.0,2,   7.9310,2,    25.00,     0.46,2
  21OR20080102,ORI855,     6,  1,      4,2,20080104,0414, 27.7518, 121.5005,   30,     16.1,  13.5010,  30.8440,  30.8660,2,    257.3,2,    27.30,2,    25.70,2,     0.17,2,     0.73,2,   2041.0,2,   2249.0,2,   7.9280,2,    25.00,     0.39,2
  21OR20080102,ORI855,     6,  1,      3,2,20080104,0414, 27.7518, 121.5005,   30,     20.2,  13.5810,  30.9740,  30.9530,2,    256.6,2,    26.90,2,    25.20,2,     0.17,2,     0.71,2,   2045.0,2,   2251.0,2,   7.9310,2,    25.00,     0.37,2
  21OR20080102,ORI855,     6,  1,      2,2,20080104,0414, 27.7518, 121.5005,   30,     24.2,  13.8330,  31.2140,  31.1290,2,    255.3,2,    26.10,2,    23.10,2,     0.19,2,     0.77,2,   2040.0,2,   2252.0,2,   7.9310,2,    25.00,     0.37,2
  21OR20080102,ORI855,     6,  1,      1,2,20080104,0414, 27.7518, 121.5005,   30,     28.2,  13.8860,  31.2600,  31.2190,2,    254.1,2,    25.60,2,    18.90,2,     0.22,2,     0.83,2,   2040.0,2,   2253.0,2,   7.9300,2,    25.00,     0.42,2
  21OR20080102,ORI855,     7,  1,      6,2,20080104,0953, 27.4601, 122.2678,   89,      2.0,  18.9830,  34.4150,  34.4240,2,    225.5,2,     6.70,2,     2.90,2,     0.33,2,     0.13,2,   1997.0,2,   2273.0,2,   8.0190,2,    25.00,     0.87,2
  21OR20080102,ORI855,     7,  1,      5,2,20080104,0953, 27.4601, 122.2678,   89,     10.1,  19.0020,  34.4140,  34.4220,2,    224.6,2,     6.60,2,     3.00,2,     0.33,2,     0.15,2,   1997.0,2,   2275.0,2,   8.0190,2,    25.00,     0.87,2
  21OR20080102,ORI855,     7,  1,      4,2,20080104,0953, 27.4601, 122.2678,   89,     20.2,  19.0030,  34.4150,  34.5060,2,    225.1,2,     6.60,2,     4.70,2,     0.34,2,     0.17,2,   1997.0,2,   2271.0,2,   8.0200,2,    25.00,     0.87,2
  21OR20080102,ORI855,     7,  1,      3,2,20080104,0953, 27.4601, 122.2678,   89,     39.3,  19.0040,  34.4150,  34.4310,2,    225.2,2,     6.80,2,     3.00,2,     0.34,2,     0.10,2,   1998.0,2,   2274.0,2,   8.0170,2,    25.00,     0.86,2
  21OR20080102,ORI855,     7,  1,      2,2,20080104,0953, 27.4601, 122.2678,   89,     61.5,  18.9010,  34.4140,  34.4210,2,    224.9,2,     6.60,2,     3.10,2,     0.36,2,     0.16,2,   1998.0,2,   2279.0,2,   8.0170,2,    25.00,     0.84,2
  21OR20080102,ORI855,     7,  1,      1,2,20080104,0953, 27.4601, 122.2678,   89,     85.7,  18.2450,  34.3850,  34.4080,2,    224.9,2,     8.50,2,     3.80,2,     0.40,2,     0.23,2,   2005.0,2,   2274.0,2,   8.0000,2,    25.00,     0.82,2
  21OR20080102,ORI855,     8,  1,      6,2,20080104,1453, 27.1685, 123.0418,  109,      2.0,  20.7500,  34.5640,  34.6650,2,    210.5,2,     4.20,2,     1.60,2,     0.31,2,     0.08,2,   1980.0,2,   2279.0,2,   8.0500,2,    25.00,     0.60,2
  21OR20080102,ORI855,     8,  1,      5,2,20080104,1453, 27.1685, 123.0418,  109,     10.1,  20.7460,  34.5630,  34.5740,2,    210.2,2,     4.60,2,     1.50,2,     0.31,2,     0.06,2,   1979.0,2,   2284.0,2,   8.0500,2,    25.00,     0.62,2
  21OR20080102,ORI855,     8,  1,      4,2,20080104,1453, 27.1685, 123.0418,  109,     25.2,  20.7580,  34.5620,  34.6600,2,    210.5,2,     4.00,2,     1.30,2,     0.32,2,     0.05,2,   1979.0,2,   2281.0,2,   8.0500,2,    25.00,     0.55,2
  21OR20080102,ORI855,     8,  1,      3,2,20080104,1453, 27.1685, 123.0418,  109,     49.4,  20.7530,  34.5610,  34.5700,2,    210.5,2,     4.20,2,     1.30,2,     0.32,2,     0.06,2,   1974.0,2,   2287.0,2,   8.0500,2,    25.00,     0.44,2
  21OR20080102,ORI855,     8,  1,      2,2,20080104,1453, 27.1685, 123.0418,  109,     75.6,  20.6120,  34.5530,  34.7320,2,    209.0,2,     4.20,2,     7.60,2,     0.39,2,     0.05,2,   1973.0,2,   2278.0,2,   8.0520,2,    25.00,     0.42,2
  21OR20080102,ORI855,     8,  1,      1,2,20080104,1453, 27.1685, 123.0418,  109,    101.8,  19.4330,  34.5860,  34.5950,2,    175.1,2,    11.70,2,     7.70,2,     0.10,2,     0.03,2,   2024.0,2,   2279.0,2,   7.9600,2,    25.00,     0.09,2
  21OR20080102,ORI855,     9,  1,      7,2,20080104,2159, 26.8297, 123.8984,  128,      3.0,  21.8870,  34.4920,  34.5320,2,    208.2,2,     3.50,2,     0.90,2,     0.13,2,     0.02,2,   1969.0,2,   2266.0,2,   8.0680,2,    25.00,     0.71,2
  21OR20080102,ORI855,     9,  1,      6,2,20080104,2159, 26.8297, 123.8984,  128,     10.1,  21.8970,  34.4920,  34.5200,2,    208.7,2,     3.50,2,     1.00,2,     0.13,2,     0.03,2,   1968.0,2,   2267.0,2,   8.0680,2,    25.00,     0.71,2
  21OR20080102,ORI855,     9,  1,      5,2,20080104,2159, 26.8297, 123.8984,  128,     25.2,  21.9080,  34.4920,  34.5920,2,    209.0,2,     3.50,2,     0.90,2,     0.13,2,     0.02,2,   1964.0,2,   2275.0,2,   8.0680,2,    25.00,     0.65,2
  21OR20080102,ORI855,     9,  1,      4,2,20080104,2159, 26.8297, 123.8984,  128,     50.4,  21.4310,  34.5710,  34.7550,2,    187.6,2,     6.00,2,     8.10,2,     0.11,2,     0.19,2,   1999.0,2,   2278.0,2,   8.0170,2,    25.00,     0.16,2
  21OR20080102,ORI855,     9,  1,      3,2,20080104,2159, 26.8297, 123.8984,  128,     75.6,  20.2890,  34.5880,  34.6600,2,    182.6,2,     8.80,2,     5.30,2,     0.03,2,     0.21,2,   2020.0,2,   2274.0,2,   7.9800,2,    25.00,     0.08,2
  21OR20080102,ORI855,     9,  1,      2,2,20080104,2159, 26.8297, 123.8984,  128,    100.8,  18.9900,  34.5860,  34.5850,2,    172.6,2,    10.20,2,     5.40,2,     0.06,2,     0.34,2,   2028.0,2,   2275.0,2,   7.9610,2,    25.00,     0.33,2
  21OR20080102,ORI855,     9,  1,      1,2,20080104,2159, 26.8297, 123.8984,  128,    120.9,  18.7930,  34.6000,  34.6700,2,    169.6,2,    13.30,2,     7.30,2,     0.05,2,     0.48,2,   2043.0,2,   2287.0,2,   7.9390,2,    25.00,     0.03,2
  21OR20080102,ORI855,    10,  2,      8,2,20080105,0451, 26.5833, 124.5813,  154,      2.0,  23.2510,  34.3560,  34.3640,2,    207.9,2,     2.60,2,     0.70,2,     0.03,2,     0.00,2,   1949.0,2,   2265.0,2,   8.0910,2,    25.00,     0.78,2
  21OR20080102,ORI855,    10,  2,      7,2,20080105,0451, 26.5833, 124.5813,  154,     10.1,  23.2590,  34.3550,  34.5750,2,    207.7,2,     2.80,2,     0.40,2,     0.06,2,     0.13,2,   1948.0,2,   2262.0,2,   8.0910,2,    25.00,     0.76,2
  21OR20080102,ORI855,    10,  2,      6,2,20080105,0451, 26.5833, 124.5813,  154,     25.2,  23.2520,  34.3540,  34.3690,2,    207.8,2,     2.40,2,     0.20,2,     0.04,2,     0.00,2,   1948.0,2,   2262.0,2,   8.0910,2,    25.00,     0.74,2
  21OR20080102,ORI855,    10,  1,      5,2,20080105,0331, 26.5833, 124.5813,  154,     51.4,  20.8790,  34.3620,  34.3600,2,    190.9,2,     6.90,2,     4.50,2,     0.14,2,     0.12,2,   1997.0,2,   2273.0,2,   8.0150,2,    25.00,     0.36,2
  21OR20080102,ORI855,    10,  1,      4,2,20080105,0331, 26.5833, 124.5813,  154,     75.6,  20.3990,  34.6860,  34.6610,2,    176.8,2,     6.50,2,     4.30,2,     0.07,2,     0.25,2,   2014.0,2,   2289.0,2,   7.9920,2,    25.00,     0.31,2
  21OR20080102,ORI855,    10,  1,      3,2,20080105,0331, 26.5833, 124.5813,  154,    101.8,  19.8560,  34.7050,  34.7150,2,    177.8,2,     7.10,2,     4.90,2,     0.03,2,     0.23,2,   2030.0,2,   2304.0,2,   7.9750,2,    25.00,     0.07,2
  21OR20080102,ORI855,    10,  1,      2,2,20080105,0331, 26.5833, 124.5813,  154,    127.0,  18.5760,  34.6360,  34.5680,2,    172.7,2,    11.90,2,     8.20,2,     0.05,2,     0.43,2,   2045.0,2,   2301.0,2,   7.9420,2,    25.00,  -999.00,9
  21OR20080102,ORI855,    10,  1,      1,2,20080105,0331, 26.5833, 124.5813,  154,    145.1,  18.5750,  34.6360,  34.5830,2,    172.6,2,    12.10,2,     7.40,2,     0.03,2,     0.45,2,   2044.0,2,   2294.0,2,   7.9400,2,    25.00,  -999.00,9
  21OR20080102,ORI855,    11,  2,     12,2,20080105,1214, 26.2930, 125.3552, 1258,      2.0,  24.3190,  34.3820,  34.2970,2,    201.3,2,     2.00,2,     0.50,2,     0.05,2,     0.00,2,   1941.0,2,   2266.0,2,   8.0910,2,    25.00,     0.40,2
  21OR20080102,ORI855,    11,  2,     11,2,20080105,1214, 26.2930, 125.3552, 1258,     10.1,  24.3330,  34.3830,  34.3500,2,    201.0,2,     2.80,2,     1.60,2,     0.10,2,     0.05,2,   1946.0,2,   2264.0,2,   8.0960,2,    25.00,     0.35,2
  21OR20080102,ORI855,    11,  2,     10,2,20080105,1214, 26.2930, 125.3552, 1258,     26.2,  24.3490,  34.3840,  34.2440,2,    201.2,2,     2.20,2,     0.60,2,     0.05,2,     0.00,2,   1945.0,2,   2262.0,2,   8.0970,2,    25.00,     0.37,2
  21OR20080102,ORI855,    11,  2,      9,2,20080105,1214, 26.2930, 125.3552, 1258,     50.4,  24.3080,  34.3950,  34.3250,2,    201.3,2,     2.20,2,     0.50,2,     0.05,2,     0.00,2,   1945.0,2,   2270.0,2,   8.0920,2,    25.00,     0.42,2