BOTTLE,20130408PRINUNIVRMK
EXPOCODE,SECT_ID,STNNBR,CASTNO,BTLNBR,BTLNBR_FLAG_W,DATE,TIME,LATITUDE,LONGITUDE,DEPTH,CTDPRS,CTDTMP,CTDSAL,SALNTY,SALNTY_FLAG_W,CTDOXY,CTDOXY_FLAG_W,SILCAT,SILCAT_FLAG_W,NITRAT,NITRAT_FLAG_W,NITRIT,NITRIT_FLAG_W,PHSPHT,PHSPHT_FLAG_W,TCARBN,TCARBN_FLAG_W,ALKALI,ALKALI_FLAG_W,PH_TOT,PH_TOT_FLAG_W,PH_TMP,CHLORA,CHLORA_FLAG_W
,,,,,,,,,,METERS,DBAR,ITS-90,PSS-78,PSS-78,,UMOL/KG,,UMOL/KG,,UMOL/KG,,UMOL/KG,,UMOL/KG,,UMOL/KG,,UMOL/KG,,,,DEG C,UG/KG,
  21OR20080102,ORI855,    22,  1,      6,2,20080108,2124, 30.7293, 125.4459,   63,      2.0,  16.0450,  33.6920,  33.7710,2,    242.5,2,    11.70,2,     5.00,2,     0.10,2,     0.32,2,   2034.0,2,   2281.0,2,   7.9580,2,    25.00,     1.07,2
  21OR20080102,ORI855,    22,  1,      5,2,20080108,2124, 30.7293, 125.4459,   63,     11.1,  16.0700,  33.7320,  33.7170,2,    244.3,2,    11.70,2,     5.00,2,     0.10,2,     0.31,2,   2029.0,2,   2285.0,2,   7.9570,2,    25.00,     1.10,2
  21OR20080102,ORI855,    22,  1,      4,2,20080108,2124, 30.7293, 125.4459,   63,     21.2,  15.8460,  33.7500,  33.7400,2,    242.4,2,    11.70,2,     5.50,2,     0.09,2,     0.32,2,   2033.0,2,   2283.0,2,   7.9570,2,    25.00,     0.84,2
  21OR20080102,ORI855,    22,  1,      3,2,20080108,2124, 30.7293, 125.4459,   63,     30.2,  15.8250,  33.7500,  33.7860,2,    242.2,2,    12.10,2,     5.50,2,     0.10,2,     0.35,2,   2038.0,2,   2284.0,2,   7.9440,2,    25.00,     0.66,2
  21OR20080102,ORI855,    22,  1,      2,2,20080108,2124, 30.7293, 125.4459,   63,     41.3,  15.7740,  33.7570,  33.7710,2,    241.1,2,    12.20,2,     5.40,2,     0.12,2,     0.37,2,   2039.0,2,   2282.0,2,   7.9470,2,    25.00,     0.61,2
  21OR20080102,ORI855,    22,  1,      1,2,20080108,2124, 30.7293, 125.4459,   63,     60.5,  15.7740,  33.7580,  33.7660,2,    241.0,2,    12.30,2,     5.60,2,     0.14,2,     0.39,2,   2038.0,2,   2282.0,2,   7.9450,2,    25.00,     0.62,2
  21OR20080102,ORI855,    23,  1,      6,2,20080109,0257, 30.4578, 126.2288,   80,      3.0,  16.7110,  33.9320,  34.0160,2,    237.4,2,    12.30,2,     5.80,2,     0.10,2,     0.36,2,   2032.0,2,   2284.0,2,   7.9610,2,    25.00,     0.68,2
  21OR20080102,ORI855,    23,  1,      5,2,20080109,0257, 30.4578, 126.2288,   80,     10.1,  16.6740,  33.9320,  33.9490,2,    237.9,2,    12.20,2,     6.10,2,     0.10,2,     0.35,2,   2029.0,2,   2274.0,2,   7.9600,2,    25.00,     0.70,2
  21OR20080102,ORI855,    23,  1,      4,2,20080109,0257, 30.4578, 126.2288,   80,     26.2,  16.6710,  33.9340,  33.9440,2,    237.4,2,    12.30,2,     5.30,2,     0.10,2,     0.31,2,   2029.0,2,   2282.0,2,   7.9570,2,    25.00,     0.71,2
  21OR20080102,ORI855,    23,  1,      3,2,20080109,0257, 30.4578, 126.2288,   80,     41.3,  16.6940,  33.9460,  33.9950,2,    237.2,2,    12.20,2,     5.30,2,     0.10,2,     0.35,2,   2031.0,2,   2282.0,2,   7.9500,2,    25.00,     0.66,2
  21OR20080102,ORI855,    23,  1,      2,2,20080109,0257, 30.4578, 126.2288,   80,     55.4,  16.7940,  33.9990,  34.0090,2,    236.0,2,    13.10,2,     6.70,2,     0.10,2,     0.35,2,   2031.0,2,   2277.0,2,   7.9540,2,    25.00,     0.56,2
  21OR20080102,ORI855,    23,  1,      1,2,20080109,0257, 30.4578, 126.2288,   80,     75.6,  16.8120,  34.0040,  34.0250,2,    235.5,2,    12.50,2,     5.40,2,     0.10,2,     0.36,2,   2029.0,2,   2275.0,2,   7.9480,2,    25.00,     0.56,2
  21OR20080102,ORI855,    24,  1,      6,2,20080109,0720, 30.1658, 127.0022,  102,      3.0,  18.6460,  34.3370,  34.4300,2,    227.5,2,     8.70,2,     3.50,2,     0.10,2,     0.32,2,   1991.0,2,   2279.0,2,   8.0160,2,    25.00,     0.63,2
  21OR20080102,ORI855,    24,  1,      5,2,20080109,0720, 30.1658, 127.0022,  102,     11.1,  18.5250,  34.3280,  34.3830,2,    228.6,2,     8.60,2,     2.60,2,     0.10,2,     0.18,2,   1994.0,2,   2281.0,2,   8.0120,2,    25.00,     0.70,2
  21OR20080102,ORI855,    24,  1,      4,2,20080109,0720, 30.1658, 127.0022,  102,     25.2,  18.4990,  34.3300,  34.3390,2,    227.5,2,     8.60,2,     2.70,2,     0.10,2,     0.18,2,   1993.0,2,   2282.0,2,   8.0100,2,    25.00,     0.68,2
  21OR20080102,ORI855,    24,  1,      3,2,20080109,0720, 30.1658, 127.0022,  102,     51.4,  18.4180,  34.3060,  33.7340,3,    226.9,2,     8.80,2,     3.00,2,     0.10,2,     0.20,2,   1993.0,2,   2278.0,2,   8.0050,2,    25.00,     0.51,2
  21OR20080102,ORI855,    24,  1,      2,2,20080109,0720, 30.1658, 127.0022,  102,     75.6,  18.3670,  34.2900,  34.3210,2,    227.2,2,     8.80,2,     2.90,2,     0.12,2,     0.20,2,   1992.0,2,   2278.0,2,   8.0000,2,    25.00,     0.55,2
  21OR20080102,ORI855,    24,  1,      1,2,20080109,0720, 30.1658, 127.0022,  102,    100.8,  18.3010,  34.2690,  34.2910,2,    227.6,2,     8.90,2,     3.30,2,     0.10,2,     0.21,2,   1996.0,2,   2279.0,2,   8.0000,2,    25.00,     0.55,2