BOTTLE,20181101PRINUNIVRMK
# 11/1/2018 Initialized README file  
# Data source: T.Wagener 9/6/18 
# SHIP: L'Atlante 
# Cruise: OUTPACE 
# Region: SW Pacific near 20S 
# EXPOCODE:35A320150218 
# DATES: 20150218 - 20150304 
# Chief Scientist: T.Moutin 
# 18 stations with 12 place Rosette 
# Most stations to ~2000dB 
# -------------------------- 
# Station number conversion table 
# Old,New 
# SD1,1 
# SD2,2 
# SD3,3 
# A,101 
# SD4,4 
# SD5,5 
# SD6,6 
# SD7,7 
# SD8,8 
# SD9,9 
# SD10,10 
# SD11,11 
# SD12,12 
# B,102 
# SD13,13 
# C,103 
# SD14,14 
# SD15,15 
# -------------------------- 
# CTD: Who - T.Moutin,D.Lefevre; Status - final 
# 	Includes: CTDSAL, CTDOXY 
# 	Calibrated 
# Salinty: Who - ; Status -  
# 	Notes: 	no data in file 
# Nutrients: Who - S.H.Nunige, O.Grosso; Status - final 
# 	Includes: nitrate, nitrite, silicate, phopshpate 
# O2: Who - D.Lefevre; Status - final 
# 	Notes: 
# TCO2: Who - T.Wagener; Status - final 
# 	Notes: CRM batch 139 
# 	Approx. uncertainty +/-5umol/kg 
# ALKALI: Who - T.Wagener; Status - final 
# 	Notes: CRM batch 139 
# 	Approx. uncertainty +/-5umol/kg 
# These data should be cited as: 
# Wagener, T., Metzl, N., Caffin, M., Fin, J., Helias Nunige, S., Lefevre, D., Lo Monaco, C., Rougier, G., and Moutin, T.(2018), Carbonate system distribution, anthropogenic carbon and acidification in the western tropical South Pacific (OUTPACE 2015 transect), Biogeosciences, 15, 5221-5236, https://doi.org/10.5194/bg-15-5221-2018. 
# References that have used data from this cruise: 
EXPOCODE,SECT_ID,STNNBR,CASTNO,BTLNBR,BTLNBR_FLAG_W,DATE,TIME,LATITUDE,LONGITUDE,DEPTH,CTDPRS,CTDTMP,CTDSAL,CTDSAL_FLAG_W,CTDOXY,CTDOXY_FLAG_W,OXYGEN,OXYGEN_FLAG_W,SILCAT,SILCAT_FLAG_W,NITRAT,NITRAT_FLAG_W,NITRIT,NITRIT_FLAG_W,PHSPHT,PHSPHT_FLAG_W,TCARBN,TCARBN_FLAG_W,ALKALI,ALKALI_FLAG_W
,,,,,,,,,,METERS,DBAR,ITS-90,PSS-78,,UMOL/KG,,UMOL/KG,,UMOL/KG,,UMOL/KG,,UMOL/KG,,UMOL/KG,,UMOL/KG,,UMOL/KG,
  35A320150218,OUTPAC,     1,   6,      1,2,20150222,0308,-17.9418, 159.9255, 4050,    202.5,  19.8354,  35.6321,2,    181.8,2,    181.3,2,     1.37,2,     4.67,2,     0.01,2,     0.40,2,   2067.4,3,   2340.1,3
  35A320150218,OUTPAC,     1,   6,      3,2,20150222,0308,-17.9418, 159.9255, 4050,    125.0,  21.6511,  35.7010,2,    188.2,2,   -999.0,9,     1.01,2,     2.74,2,     0.03,2,     0.27,2,   2057.7,2,   2336.2,2
  35A320150218,OUTPAC,     1,   6,      9,2,20150222,0308,-17.9418, 159.9255, 4050,     71.2,  24.2983,  35.5917,2,    206.5,2,   -999.0,9,     0.74,2,     0.00,2,     0.00,2,     0.11,2,   2014.1,2,   2336.0,2
  35A320150218,OUTPAC,     1,   6,     13,2,20150222,0308,-17.9418, 159.9255, 4050,     36.0,  28.1191,  35.1108,2,    204.8,2,   -999.0,9,     0.61,2,     0.00,2,     0.01,2,     0.02,2,   1960.6,2,   2307.7,2
  35A320150218,OUTPAC,     1,   6,     18,2,20150222,0308,-17.9418, 159.9255, 4050,     16.6,  28.3676,  35.0830,2,    206.1,2,   -999.0,9,     0.57,2,     0.00,2,     0.00,2,     0.00,2,   1953.5,3,   2300.5,3
  35A320150218,OUTPAC,     1,   6,     23,2,20150222,0308,-17.9418, 159.9255, 4050,      5.7,  29.1682,  35.0605,2,    203.6,2,   -999.0,9,     0.65,2,     0.01,2,     0.00,2,     0.03,2,   1958.4,2,   2304.6,2
  35A320150218,OUTPAC,     1,1002,      1,2,20150222,0743,-17.9418, 159.9255, 4050,   2000.1,   2.3579,  34.6433,2,    148.5,2,   -999.0,9,   106.92,2,    35.20,2,     0.01,2,     2.48,2,   2296.4,2,   2386.9,2
  35A320150218,OUTPAC,     1,1002,      3,2,20150222,0743,-17.9418, 159.9255, 4050,   1497.0,   3.0341,  34.5781,2,    153.4,2,   -999.0,9,    88.54,2,    34.51,2,     0.00,2,     2.43,2,   2255.8,2,   2364.7,2
  35A320150218,OUTPAC,     1,1002,      5,2,20150222,0743,-17.9418, 159.9255, 4050,    994.0,   4.3358,  34.4692,2,    171.3,2,   -999.0,9,    54.94,2,    33.42,2,     0.00,2,     2.25,2,   2223.2,2,   2323.0,2
  35A320150218,OUTPAC,     1,1002,     13,2,20150222,0743,-17.9418, 159.9255, 4050,    651.3,   6.2275,  34.4217,2,    195.2,2,   -999.0,9,    22.75,2,    27.03,2,     0.00,2,     1.87,2,   2179.8,2,   2295.3,2
  35A320150218,OUTPAC,     1,1002,     18,2,20150222,0743,-17.9418, 159.9255, 4050,    399.7,  12.2411,  34.9552,2,    185.2,2,   -999.0,9,     6.53,2,    15.92,2,     0.00,2,     1.11,2,   2132.0,2,   2301.9,2
  35A320150218,OUTPAC,     1,1002,     23,2,20150222,0743,-17.9418, 159.9255, 4050,    198.2,  19.8710,  35.6431,2,    188.6,2,   -999.0,9,     1.31,2,     4.72,2,     0.01,2,     0.36,2,   2074.6,2,   2337.4,2
  35A320150218,OUTPAC,     2,  10,      1,2,20150223,0011,-18.6078, 162.1248, 3373,    199.4,  21.2286,  35.7321,2,    163.8,2,   -999.0,9,     1.42,2,     5.23,2,     0.02,2,     0.46,2,   2088.5,2,   2346.9,2
  35A320150218,OUTPAC,     2,  10,      3,2,20150223,0011,-18.6078, 162.1248, 3373,    125.0,  22.9793,  35.6891,2,    177.5,2,   -999.0,9,     1.03,2,     2.69,2,     0.04,2,     0.30,2,   2053.2,2,   2340.7,2
  35A320150218,OUTPAC,     2,  10,      9,2,20150223,0011,-18.6078, 162.1248, 3373,     70.2,  24.8489,  35.5396,2,    201.8,2,    204.7,2,     0.75,2,     0.01,2,     0.01,2,     0.13,2,   2007.0,2,   2337.5,2
  35A320150218,OUTPAC,     2,  10,     13,2,20150223,0011,-18.6078, 162.1248, 3373,     35.4,  27.5218,  35.2619,2,    206.4,2,   -999.0,9,     0.59,2,  -999.00,9,     0.00,2,     0.01,2,   1972.5,3,   2319.7,3
  35A320150218,OUTPAC,     2,  10,     18,2,20150223,0011,-18.6078, 162.1248, 3373,     16.7,  28.6164,  35.1703,2,    201.3,2,   -999.0,9,     0.50,2,  -999.00,9,     0.00,2,     0.02,2,   1966.9,2,   2316.1,2
  35A320150218,OUTPAC,     2,  10,     23,2,20150223,0011,-18.6078, 162.1248, 3373,      5.2,  28.7893,  35.1893,2,    202.0,2,   -999.0,9,     0.54,2,     0.00,2,     0.02,2,     0.03,2,   1961.4,3,   2316.3,3
  35A320150218,OUTPAC,     2,  16,      1,2,20150223,0816,-18.6078, 162.1248, 3373,   1997.9,   2.3184,  34.6456,2,   -999.0,9,   -999.0,9,   106.92,2,    35.17,2,     0.00,2,     2.51,2,   2288.8,3,   2391.4,3
  35A320150218,OUTPAC,     2,  16,      5,2,20150223,0816,-18.6078, 162.1248, 3373,   1006.0,   4.4699,  34.4513,2,   -999.0,9,   -999.0,9,    50.41,2,    32.09,2,     0.00,2,     2.24,2,   2215.0,2,   2323.5,2
  35A320150218,OUTPAC,     2,  16,     13,2,20150223,0816,-18.6078, 162.1248, 3373,    652.6,   6.9183,  34.4660,2,   -999.0,9,   -999.0,9,    19.08,2,    27.68,2,     0.01,2,     1.83,2,   2166.2,2,   2297.9,2
  35A320150218,OUTPAC,     2,  16,     18,2,20150223,0816,-18.6078, 162.1248, 3373,    402.1,  13.4146,  35.0257,2,   -999.0,9,   -999.0,9,     4.63,2,    13.41,2,     0.01,2,     0.98,2,   2123.7,2,   2310.9,2
  35A320150218,OUTPAC,     2,  16,     23,2,20150223,0816,-18.6078, 162.1248, 3373,    204.3,  20.5828,  35.6976,2,   -999.0,9,   -999.0,9,     1.47,2,     5.47,2,     0.02,2,     0.48,2,   2084.1,3,   2354.4,3
  35A320150218,OUTPAC,     3,  19,      1,2,20150224,0558,-19.4955, 165.0093, 3651,    200.3,  21.5328,  35.7166,2,    167.3,2,    166.7,2,     1.54,2,     4.96,2,     0.03,2,     0.40,2,   2070.2,3,   2349.5,3
  35A320150218,OUTPAC,     3,  19,      3,2,20150224,0558,-19.4955, 165.0093, 3651,    125.9,  24.0392,  35.6618,2,    176.8,2,    175.7,2,     1.22,2,     2.11,2,     0.04,2,     0.29,2,   2048.2,2,   2351.5,2
  35A320150218,OUTPAC,     3,  19,      9,2,20150224,0558,-19.4955, 165.0093, 3651,     71.3,  25.6173,  35.4301,2,    200.2,2,    200.0,2,     0.91,2,     0.03,2,     0.00,2,     0.15,2,   2004.7,2,   2335.4,2
  35A320150218,OUTPAC,     3,  19,     13,2,20150224,0558,-19.4955, 165.0093, 3651,     36.3,  27.2813,  35.2424,2,    207.9,2,   -999.0,9,     0.93,2,     0.04,2,     0.00,2,     0.06,2,   1976.3,2,   2321.4,2
  35A320150218,OUTPAC,     3,  19,     18,2,20150224,0558,-19.4955, 165.0093, 3651,     16.6,  28.8689,  34.8805,2,    199.9,2,    197.6,2,     0.60,2,     0.03,2,     0.00,2,     0.01,2,   1938.8,3,   2291.7,3
  35A320150218,OUTPAC,     3,  19,     23,2,20150224,0558,-19.4955, 165.0093, 3651,      5.9,  29.0511,  34.8703,2,    199.3,2,   -999.0,9,     0.61,2,     0.04,2,     0.00,2,     0.00,2,   1941.3,2,   2297.1,2
  35A320150218,OUTPAC,     3,  20,      1,2,20150224,0814,-19.4955, 165.0093, 3651,   1998.8,   2.3221,  34.6404,2,    151.0,2,    150.9,2,   107.18,2,    37.18,2,     0.01,2,     2.50,2,   2294.7,2,   2387.7,2
  35A320150218,OUTPAC,     3,  20,      3,2,20150224,0814,-19.4955, 165.0093, 3651,   1500.0,   2.8794,  34.5829,2,    152.9,2,    152.2,2,    93.27,2,  -999.00,9,     0.01,2,     2.47,2,   2262.2,2,   2365.7,2
  35A320150218,OUTPAC,     3,  20,      5,2,20150224,0814,-19.4955, 165.0093, 3651,    998.2,   4.1819,  34.4520,2,    172.3,2,    171.0,2,    54.86,2,    33.43,2,     0.01,2,     2.29,2,   2228.4,2,   2321.3,2
  35A320150218,OUTPAC,     3,  20,     13,2,20150224,0814,-19.4955, 165.0093, 3651,    649.8,   6.9493,  34.4313,2,    200.9,2,    200.4,2,    16.18,2,    25.46,2,     0.01,2,     1.77,2,   2161.1,2,   2283.8,2
  35A320150218,OUTPAC,     3,  20,     18,2,20150224,0814,-19.4955, 165.0093, 3651,    399.8,  14.2224,  35.1108,2,    177.4,2,    177.7,2,     4.35,2,    12.11,2,     0.01,2,     0.89,2,   2115.1,2,   2304.5,2
  35A320150218,OUTPAC,     3,  20,     23,2,20150224,0814,-19.4955, 165.0093, 3651,    201.5,  21.6858,  35.7286,2,    166.8,2,    165.1,2,     1.29,2,     5.74,2,     0.02,2,     0.42,2,   2071.4,2,   2341.6,2
  35A320150218,OUTPAC,   101,  66,      1,2,20150302,1439,-19.2242, 164.5877, 3082,    200.3,  21.8221,  35.7600,2,    162.6,2,   -999.0,9,     1.41,2,     4.82,2,     0.01,2,     0.46,2,   2083.0,2,   2348.7,2
  35A320150218,OUTPAC,   101,  66,      3,2,20150302,1439,-19.2242, 164.5877, 3082,    125.3,  23.7758,  35.6472,2,    176.6,2,   -999.0,9,     1.07,2,     2.22,2,     0.05,2,     0.29,2,   2023.4,3,   2349.7,3
  35A320150218,OUTPAC,   101,  66,      9,2,20150302,1439,-19.2242, 164.5877, 3082,     70.7,  25.3505,  35.4755,2,    195.1,2,   -999.0,9,     1.00,2,     0.01,2,     0.01,2,     0.18,2,   2011.0,2,   2327.6,2
  35A320150218,OUTPAC,   101,  66,     13,2,20150302,1439,-19.2242, 164.5877, 3082,     35.2,  26.7873,  35.3150,2,    204.3,2,   -999.0,9,     0.94,2,     0.00,2,     0.00,2,     0.13,2,   1985.1,2,   2321.0,2
  35A320150218,OUTPAC,   101,  66,     18,2,20150302,1439,-19.2242, 164.5877, 3082,     16.1,  29.2285,  34.9191,2,    200.3,2,   -999.0,9,     0.50,2,  -999.00,9,     0.00,2,     0.03,2,   1932.9,2,   2295.5,2
  35A320150218,OUTPAC,   101,  66,     23,2,20150302,1439,-19.2242, 164.5877, 3082,      5.6,  29.7360,  34.9416,2,    197.3,2,   -999.0,9,     0.44,2,     0.01,2,     0.01,2,     0.03,2,   1928.8,3,   2296.2,3
  35A320150218,OUTPAC,   101,  67,      1,2,20150302,1610,-19.2242, 164.5877, 3082,   2001.5,   2.2989,  34.6426,2,    151.0,2,    150.8,2,   108.45,2,    35.23,2,     0.00,2,     2.50,2,   2284.0,2,   2378.5,2
  35A320150218,OUTPAC,   101,  67,      3,2,20150302,1610,-19.2242, 164.5877, 3082,   1501.0,   2.8574,  34.5859,2,    152.6,2,   -999.0,9,    94.54,2,    35.54,2,     0.00,2,     2.49,2,   2275.9,2,   2370.4,2
  35A320150218,OUTPAC,   101,  67,      5,2,20150302,1610,-19.2242, 164.5877, 3082,   1001.3,   4.1951,  34.4680,2,    167.5,2,    166.7,2,    57.76,2,    32.87,2,     0.00,2,     2.32,2,   2227.4,2,   2325.7,2
  35A320150218,OUTPAC,   101,  67,     13,2,20150302,1610,-19.2242, 164.5877, 3082,    651.3,   6.9569,  34.4295,2,    204.5,2,    201.8,2,    14.94,2,    25.31,2,     0.00,2,     1.76,2,   2157.5,2,   2282.5,2
  35A320150218,OUTPAC,   101,  67,     18,2,20150302,1610,-19.2242, 164.5877, 3082,    401.6,  13.7189,  35.0344,2,    165.2,2,    164.4,2,     7.19,2,    14.78,2,     0.01,2,     1.13,2,   2136.1,2,   2307.4,2
  35A320150218,OUTPAC,   101,  67,     24,2,20150302,1610,-19.2242, 164.5877, 3082,    200.1,  22.3109,  35.7364,2,    162.6,2,    164.7,2,     1.21,2,     4.59,2,     0.02,2,     0.42,2,   2068.5,3,   2351.8,3
  35A320150218,OUTPAC,     4,  70,      1,2,20150304,1055,-19.9832, 168.0118, 3412,    201.1,  19.6478,  35.6598,2,    190.2,2,    189.3,2,     1.18,2,     3.40,2,     0.01,2,     0.30,2,   2067.0,2,   2334.8,2
  35A320150218,OUTPAC,     4,  70,      3,2,20150304,1055,-19.9832, 168.0118, 3412,    126.5,  21.5363,  35.6935,2,    198.9,2,    198.8,2,     0.92,2,     1.35,2,     0.06,2,     0.18,2,   2043.2,2,   2339.7,2
  35A320150218,OUTPAC,     4,  70,      9,2,20150304,1055,-19.9832, 168.0118, 3412,     70.8,  23.1873,  35.6870,2,    184.7,2,    182.4,2,     1.02,2,  -999.00,9,     0.07,2,  -999.00,9,   2054.7,2,   2354.4,2
  35A320150218,OUTPAC,     4,  70,     13,2,20150304,1055,-19.9832, 168.0118, 3412,     35.4,  25.8741,  35.6501,2,    208.2,2,    208.7,2,     0.63,2,     0.00,2,     0.00,2,     0.04,2,   2005.4,2,   2339.6,2
  35A320150218,OUTPAC,     4,  70,     18,2,20150304,1055,-19.9832, 168.0118, 3412,     16.4,  28.5478,  35.3564,2,    199.9,2,    199.7,2,     0.46,2,     0.00,2,     0.00,2,     0.03,2,   1966.7,2,   2316.8,2
  35A320150218,OUTPAC,     4,  70,     23,2,20150304,1055,-19.9832, 168.0118, 3412,      5.2,  28.7359,  35.3630,2,    200.0,2,    197.9,2,     0.54,2,     0.00,2,     0.01,2,     0.06,2,   1974.7,2,   2321.0,2
  35A320150218,OUTPAC,     4,  71,      1,2,20150304,1243,-19.9832, 168.0118, 3412,   1999.0,   2.3050,  34.6400,2,    149.2,2,    149.0,2,   108.85,2,    35.59,2,     0.00,2,     2.53,2,   2294.8,2,   2386.7,2
  35A320150218,OUTPAC,     4,  71,      3,2,20150304,1243,-19.9832, 168.0118, 3412,   1499.7,   2.8604,  34.5824,2,    151.9,2,    151.8,2,    93.32,2,    34.90,2,     0.00,2,     2.51,2,   2280.9,2,   2369.9,2
  35A320150218,OUTPAC,     4,  71,      5,2,20150304,1243,-19.9832, 168.0118, 3412,   1003.9,   4.2596,  34.4470,2,    169.6,2,    168.6,2,    52.97,2,    32.62,2,     0.00,2,     2.33,2,   2226.2,2,   2324.6,2
  35A320150218,OUTPAC,     4,  71,     13,2,20150304,1243,-19.9832, 168.0118, 3412,    650.8,   6.7091,  34.4248,2,    209.0,2,    207.5,2,    15.26,2,    25.34,2,     0.00,2,     1.77,2,   2165.6,2,   2293.8,2
  35A320150218,OUTPAC,     4,  71,     18,2,20150304,1243,-19.9832, 168.0118, 3412,    402.6,  12.7583,  35.0474,2,    189.1,2,    189.3,2,     4.56,2,    13.59,2,     0.00,2,     0.98,2,   2115.4,2,   2301.8,2
  35A320150218,OUTPAC,     4,  71,     24,2,20150304,1243,-19.9832, 168.0118, 3412,    199.2,  19.7483,  35.6617,2,    190.4,2,   -999.0,9,     1.06,2,     3.19,2,     0.02,2,     0.27,2,   2058.9,2,   2336.1,2
  35A320150218,OUTPAC,     5,  74,      1,2,20150305,0848,-22.0002, 169.9943, 4075,    201.3,  19.9432,  35.6543,2,    183.2,2,    182.4,2,     1.52,2,     3.96,2,     0.02,2,     0.32,2,   2076.2,2,   2343.5,2
  35A320150218,OUTPAC,     5,  74,      3,2,20150305,0848,-22.0002, 169.9943, 4075,    126.0,  21.4869,  35.7004,2,    199.3,2,    199.2,2,     0.98,2,  -999.00,9,     0.11,2,     0.20,2,   2048.0,2,   2340.2,2
  35A320150218,OUTPAC,     5,  74,      9,2,20150305,0848,-22.0002, 169.9943, 4075,     72.0,  23.2139,  35.6721,2,    190.6,2,   -999.0,9,     0.85,2,     1.12,2,     0.19,2,     0.21,2,   2026.2,3,   2332.6,3
  35A320150218,OUTPAC,     5,  74,     13,2,20150305,0848,-22.0002, 169.9943, 4075,     35.7,  26.5099,  35.4286,2,    200.5,2,    204.8,2,     0.70,2,     0.01,2,     0.00,2,     0.03,2,   1970.4,2,   2321.7,2
  35A320150218,OUTPAC,     5,  74,     18,2,20150305,0848,-22.0002, 169.9943, 4075,     14.8,  29.1237,  35.0410,2,   -999.0,2,    198.0,2,     0.63,2,     0.01,2,     0.00,2,     0.03,2,   1955.3,2,   2303.8,2
  35A320150218,OUTPAC,     5,  74,     23,2,20150305,0848,-22.0002, 169.9943, 4075,      4.5,  29.5135,  34.9081,2,    204.1,2,    195.5,2,     0.64,2,     0.00,2,     0.00,2,     0.04,2,   1945.2,2,   2297.8,2
  35A320150218,OUTPAC,     5,  75,      1,2,20150305,1027,-22.0002, 169.9943, 4075,   1999.2,   2.3159,  34.6316,2,    148.0,2,   -999.0,9,   110.94,2,    35.44,2,     0.00,2,     2.52,2,   2294.3,2,   2388.4,2
  35A320150218,OUTPAC,     5,  75,      3,2,20150305,1027,-22.0002, 169.9943, 4075,   1499.1,   2.9124,  34.5744,2,    153.0,2,    153.5,2,    91.72,2,    34.80,2,     0.00,2,     2.47,2,   2276.6,2,   2365.0,2
  35A320150218,OUTPAC,     5,  75,      5,2,20150305,1027,-22.0002, 169.9943, 4075,    999.8,   4.7004,  34.4103,2,    181.6,2,    182.5,2,    41.16,2,    30.97,2,     0.00,2,     2.18,2,   2200.6,2,   2307.9,2
  35A320150218,OUTPAC,     5,  75,     13,2,20150305,1027,-22.0002, 169.9943, 4075,    649.2,   7.5027,  34.4582,2,    209.0,2,    209.0,2,    10.88,2,    23.07,2,     0.00,2,     1.62,2,   2157.9,2,   2284.9,2
  35A320150218,OUTPAC,     5,  75,     18,2,20150305,1027,-22.0002, 169.9943, 4075,    400.6,  13.5356,  35.0155,2,    171.8,2,    172.6,2,     5.07,2,    13.23,2,     0.00,2,     1.00,2,   2123.1,2,   2303.2,2
  35A320150218,OUTPAC,     5,  75,     24,2,20150305,1027,-22.0002, 169.9943, 4075,    200.4,  20.0182,  35.6633,2,    181.2,2,    186.0,2,     1.18,2,     3.55,2,     0.02,2,     0.30,2,   2076.1,2,   2342.4,2
  35A320150218,OUTPAC,     6,  78,      1,2,20150306,0727,-21.3732, 172.1198, 3383,    200.2,  21.5327,  35.7230,2,    173.6,2,    173.6,2,     1.07,2,     3.61,2,     0.01,2,     0.32,2,   2071.8,2,   2346.9,2
  35A320150218,OUTPAC,     6,  78,      3,2,20150306,0727,-21.3732, 172.1198, 3383,    135.7,  23.4803,  35.6961,2,    186.9,2,    186.8,2,     0.79,2,     0.74,2,     0.19,2,     0.19,2,   2044.4,2,   2348.3,2
  35A320150218,OUTPAC,     6,  78,      9,2,20150306,0727,-21.3732, 172.1198, 3383,     79.7,  25.1692,  35.6355,2,    207.4,2,    206.8,2,     0.73,2,     0.05,2,     0.00,2,     0.09,2,   2005.5,2,   2340.3,2
  35A320150218,OUTPAC,     6,  78,     13,2,20150306,0727,-21.3732, 172.1198, 3383,     40.8,  27.9157,  35.3923,2,    203.1,2,    203.8,2,     0.62,2,     0.04,2,     0.00,2,     0.04,2,   1965.3,3,   2326.5,3
  35A320150218,OUTPAC,     6,  78,     18,2,20150306,0727,-21.3732, 172.1198, 3383,     18.2,  29.2930,  35.0298,2,    198.1,2,    196.7,2,     0.66,2,     0.03,2,     0.00,2,     0.03,2,   1952.3,2,   2299.8,2
  35A320150218,OUTPAC,     6,  78,     23,2,20150306,0727,-21.3732, 172.1198, 3383,      5.3,  29.5802,  34.8974,2,    198.2,2,    195.7,2,     0.64,2,     0.01,2,     0.00,2,     0.01,2,   1945.6,2,   2295.6,2
  35A320150218,OUTPAC,     6,  79,      1,2,20150306,0908,-21.3732, 172.1198, 3383,   1999.5,   2.2769,  34.6320,2,    147.6,2,    146.9,2,   112.24,2,    35.96,2,     0.00,2,     2.52,2,   2288.4,2,   2381.6,2
  35A320150218,OUTPAC,     6,  79,      3,2,20150306,0908,-21.3732, 172.1198, 3383,   1500.5,   2.8879,  34.5749,2,    152.0,2,    152.0,2,    92.88,2,    35.07,2,     0.00,2,     2.46,2,   2271.4,2,   2363.1,2
  35A320150218,OUTPAC,     6,  79,      5,2,20150306,0908,-21.3732, 172.1198, 3383,   1000.8,   4.7416,  34.4099,2,    180.0,2,    179.3,2,    40.58,2,    32.91,2,     0.00,2,     2.19,2,   2204.2,2,   2307.9,2
  35A320150218,OUTPAC,     6,  79,     13,2,20150306,0908,-21.3732, 172.1198, 3383,    650.1,   7.7702,  34.4827,2,    209.6,2,    210.1,2,     9.51,2,    22.63,2,     0.01,2,     1.55,2,   2143.8,2,   2277.9,2
  35A320150218,OUTPAC,     6,  79,     18,2,20150306,0908,-21.3732, 172.1198, 3383,    400.3,  14.3858,  35.0846,2,    171.1,2,    172.1,2,     4.11,2,    11.76,2,     0.00,2,     0.89,2,   2117.8,2,   2300.0,2
  35A320150218,OUTPAC,     6,  79,     24,2,20150306,0908,-21.3732, 172.1198, 3383,    200.5,  21.3196,  35.7148,2,    173.5,2,    173.0,2,     1.08,2,     3.89,2,     0.01,2,     0.34,2,   2060.6,3,   2336.9,3