BOTTLE,20181101PRINUNIVRMK
EXPOCODE,SECT_ID,STNNBR,CASTNO,BTLNBR,BTLNBR_FLAG_W,DATE,TIME,LATITUDE,LONGITUDE,DEPTH,CTDPRS,CTDTMP,CTDSAL,CTDSAL_FLAG_W,CTDOXY,CTDOXY_FLAG_W,OXYGEN,OXYGEN_FLAG_W,SILCAT,SILCAT_FLAG_W,NITRAT,NITRAT_FLAG_W,NITRIT,NITRIT_FLAG_W,PHSPHT,PHSPHT_FLAG_W,TCARBN,TCARBN_FLAG_W,ALKALI,ALKALI_FLAG_W
,,,,,,,,,,METERS,DBAR,ITS-90,PSS-78,,UMOL/KG,,UMOL/KG,,UMOL/KG,,UMOL/KG,,UMOL/KG,,UMOL/KG,,UMOL/KG,,UMOL/KG,
  35A320150218,OUTPAC,   103, 163,      1,2,20150324,1223,-18.4282,-165.9315, 5407,   5027.3,   1.1128,  34.7102,2,    205.2,2,    204.2,2,   117.18,2,    32.47,2,     0.00,2,     2.28,2,   2252.6,2,   2364.9,2
  35A320150218,OUTPAC,   103, 163,      2,2,20150324,1223,-18.4282,-165.9315, 5407,   5026.9,   1.1126,  34.7104,2,    205.1,2,    204.4,2,  -999.00,9,  -999.00,9,  -999.00,9,  -999.00,9,   2258.2,2,   2367.6,2
  35A320150218,OUTPAC,   103, 163,      3,2,20150324,1223,-18.4282,-165.9315, 5407,   4750.2,   1.1234,  34.7105,2,    203.0,2,    203.4,2,   116.64,2,    32.49,2,     0.00,2,     2.29,2,   2263.8,2,   2368.9,2
  35A320150218,OUTPAC,   103, 163,      4,2,20150324,1223,-18.4282,-165.9315, 5407,   4502.8,   1.1751,  34.7101,2,    199.0,2,    200.0,2,   116.37,2,    32.44,2,     0.00,2,     2.29,2,   2262.7,2,   2366.1,2
  35A320150218,OUTPAC,   103, 163,      5,2,20150324,1223,-18.4282,-165.9315, 5407,   4250.7,   1.2627,  34.7089,2,    193.1,2,    194.4,2,   116.43,2,    32.79,2,     0.01,2,     2.31,2,   2267.3,2,   2371.8,2
  35A320150218,OUTPAC,   103, 163,      6,2,20150324,1223,-18.4282,-165.9315, 5407,   3998.5,   1.3650,  34.7033,2,    184.4,2,    185.7,2,   119.03,2,    33.44,2,     0.00,2,     2.34,2,   2274.4,2,   2380.1,2
  35A320150218,OUTPAC,   103, 163,      7,2,20150324,1223,-18.4282,-165.9315, 5407,   3499.4,   1.5606,  34.6857,2,    165.7,2,    166.3,2,   125.67,2,    34.90,2,     0.01,2,     2.47,2,   2300.1,2,   2401.2,2
  35A320150218,OUTPAC,   103, 163,      8,2,20150324,1223,-18.4282,-165.9315, 5407,   3001.1,   1.6992,  34.6739,2,    156.8,2,    157.9,2,   125.82,2,    35.27,2,     0.00,2,     2.51,2,   2300.1,2,   2397.7,2
  35A320150218,OUTPAC,   103, 163,      9,2,20150324,1223,-18.4282,-165.9315, 5407,   2499.6,   1.9037,  34.6571,2,    149.9,2,    150.6,2,   122.12,2,    35.58,2,     0.00,2,     2.54,2,   2301.7,2,   2399.8,2
  35A320150218,OUTPAC,   103, 163,     10,2,20150324,1223,-18.4282,-165.9315, 5407,   2001.7,   2.1856,  34.6323,2,    146.9,2,    147.0,2,   113.76,2,    35.93,2,     0.00,2,     2.50,2,   2287.6,2,   2381.4,2
  35A320150218,OUTPAC,   103, 163,     11,2,20150324,1223,-18.4282,-165.9315, 5407,   1501.3,   2.6524,  34.5893,2,    145.6,2,    145.7,2,    99.04,2,    35.52,2,     0.01,2,     2.51,2,   2269.4,3,   2372.0,3
  35A320150218,OUTPAC,   103, 163,     12,2,20150324,1223,-18.4282,-165.9315, 5407,   1300.3,   2.8840,  34.5653,2,    146.5,2,    145.9,2,    91.66,2,    35.35,2,     0.01,2,     2.55,2,   2270.1,2,   2361.3,2
  35A320150218,OUTPAC,   103, 163,     14,2,20150324,1223,-18.4282,-165.9315, 5407,    999.3,   3.7775,  34.4679,2,    156.9,2,    156.2,2,    62.46,2,    34.31,2,     0.01,2,     2.46,2,   2231.0,3,   2327.3,3
  35A320150218,OUTPAC,   103, 163,     15,2,20150324,1223,-18.4282,-165.9315, 5407,    500.5,   8.0955,  34.4491,2,    182.4,2,    182.6,2,    11.30,2,    23.66,2,     0.00,2,     1.73,2,   2154.7,2,   2278.7,2
  35A320150218,OUTPAC,   103, 163,     16,2,20150324,1223,-18.4282,-165.9315, 5407,    401.2,  11.4405,  34.7155,2,    180.8,2,    179.8,2,     5.72,2,    16.00,2,     0.01,2,     1.24,2,   2120.1,2,   2302.3,2
  35A320150218,OUTPAC,   103, 163,     17,2,20150324,1223,-18.4282,-165.9315, 5407,    300.8,  16.5742,  35.2632,2,    164.9,2,    164.7,2,     2.87,2,     9.14,2,     0.01,2,     0.83,2,   2115.5,2,   2319.6,2
  35A320150218,OUTPAC,   103, 163,     18,2,20150324,1223,-18.4282,-165.9315, 5407,    201.4,  20.4790,  35.7541,2,    179.0,2,    177.7,2,     0.91,2,     3.49,2,     0.01,2,     0.39,2,   2086.9,2,   2351.8,2
  35A320150218,OUTPAC,   103, 163,     19,2,20150324,1223,-18.4282,-165.9315, 5407,    135.8,  22.5660,  35.8361,2,    186.6,2,    189.5,2,     0.81,2,     0.54,2,     0.09,2,     0.20,2,   2056.4,2,   2357.4,2
  35A320150218,OUTPAC,   103, 163,     20,2,20150324,1223,-18.4282,-165.9315, 5407,     51.3,  25.5449,  35.7204,2,    215.5,2,    215.2,2,     0.70,2,     0.02,2,     0.00,2,     0.09,2,   2010.1,2,   2354.4,2
  35A320150218,OUTPAC,   103, 163,     21,2,20150324,1223,-18.4282,-165.9315, 5407,     30.4,  27.4388,  35.5138,2,    199.4,2,    209.3,2,     0.81,2,     0.02,2,     0.00,2,     0.10,2,   1993.4,2,   2342.1,2
  35A320150218,OUTPAC,   103, 163,     22,2,20150324,1223,-18.4282,-165.9315, 5407,     20.5,  29.1545,  35.2400,2,    194.2,2,    194.6,2,     0.78,2,     0.01,2,     0.00,2,     0.14,2,   1965.5,2,   2310.5,2
  35A320150218,OUTPAC,   103, 163,     23,2,20150324,1223,-18.4282,-165.9315, 5407,     10.8,  29.3321,  35.2115,2,    193.2,2,    193.7,2,     0.78,2,     0.01,2,     0.00,2,     0.16,2,   1971.9,2,   2319.2,2
  35A320150218,OUTPAC,   103, 163,     24,2,20150324,1223,-18.4282,-165.9315, 5407,      4.5,  29.3311,  35.2112,2,   -999.0,9,    193.6,2,     0.84,2,     0.02,2,     0.00,2,     0.16,2,   1974.7,2,   2317.1,2
  35A320150218,OUTPAC,   103, 194,      6,2,20150324,0201,-18.4282,-165.9315, 5407,     24.9,  29.0947,  35.2838,2,    194.4,2,    196.0,2,  -999.00,9,  -999.00,9,  -999.00,9,  -999.00,9,   1965.0,2,   2323.2,2
  35A320150218,OUTPAC,   103, 194,      7,2,20150324,0201,-18.4282,-165.9315, 5407,     24.9,  29.0922,  35.2853,2,    194.4,2,    196.2,2,  -999.00,9,  -999.00,9,  -999.00,9,  -999.00,9,   1967.4,3,   2323.0,3
  35A320150218,OUTPAC,   103, 194,      8,2,20150324,0201,-18.4282,-165.9315, 5407,     24.6,  29.0919,  35.2851,2,    194.4,2,   -999.0,9,  -999.00,9,  -999.00,9,  -999.00,9,  -999.00,9,   1967.8,2,   2326.2,2
  35A320150218,OUTPAC,   103, 194,      9,2,20150324,0201,-18.4282,-165.9315, 5407,     24.8,  29.0974,  35.2841,2,    194.4,2,    196.3,2,  -999.00,9,  -999.00,9,  -999.00,9,  -999.00,9,   1968.1,2,   2317.9,2
  35A320150218,OUTPAC,   103, 194,     10,2,20150324,0201,-18.4282,-165.9315, 5407,     25.0,  29.1416,  35.2781,2,    194.4,2,    196.3,2,  -999.00,9,  -999.00,9,  -999.00,9,  -999.00,9,   1975.9,2,   2324.3,2
  35A320150218,OUTPAC,   103, 194,     11,2,20150324,0201,-18.4282,-165.9315, 5407,     24.8,  29.1506,  35.2767,2,    194.4,2,    196.5,2,  -999.00,9,  -999.00,9,  -999.00,9,  -999.00,9,   1970.7,2,   2320.7,2
  35A320150218,OUTPAC,   103, 194,     12,2,20150324,0201,-18.4282,-165.9315, 5407,     24.9,  29.1571,  35.2758,2,    194.4,2,   -999.0,9,  -999.00,9,  -999.00,9,  -999.00,9,  -999.00,9,   1973.2,3,   2331.4,3
  35A320150218,OUTPAC,   103, 194,     13,2,20150324,0201,-18.4282,-165.9315, 5407,     24.7,  29.1621,  35.2750,2,    194.4,2,   -999.0,9,  -999.00,9,  -999.00,9,  -999.00,9,  -999.00,9,   1973.0,2,   2322.6,2
  35A320150218,OUTPAC,   103, 194,     14,2,20150324,0201,-18.4282,-165.9315, 5407,     25.0,  29.1771,  35.2720,2,    194.4,2,    196.0,2,  -999.00,9,  -999.00,9,  -999.00,9,  -999.00,9,   1967.8,3,   2329.1,3
  35A320150218,OUTPAC,   103, 194,     15,2,20150324,0201,-18.4282,-165.9315, 5407,     24.9,  29.1783,  35.2719,2,    194.4,2,    196.0,2,  -999.00,9,  -999.00,9,  -999.00,9,  -999.00,9,   1965.4,3,   2326.2,3
  35A320150218,OUTPAC,   103, 194,     16,2,20150324,0201,-18.4282,-165.9315, 5407,     24.4,  29.1662,  35.2743,2,    194.4,2,    195.2,2,  -999.00,9,  -999.00,9,  -999.00,9,  -999.00,9,   1974.7,2,   2325.4,2
  35A320150218,OUTPAC,   103, 194,     17,2,20150324,0201,-18.4282,-165.9315, 5407,     24.9,  29.2086,  35.2677,2,    194.4,2,    195.0,2,  -999.00,9,  -999.00,9,  -999.00,9,  -999.00,9,   1967.3,3,   2326.8,3
  35A320150218,OUTPAC,   103, 198,      1,2,20150324,1242,-18.4282,-165.9315, 5407,    297.7,  17.4964,  35.3891,2,    164.7,2,    165.5,2,     2.37,2,     8.17,2,     0.01,2,     0.74,2,   2117.7,2,   2334.6,2
  35A320150218,OUTPAC,   103, 198,      3,2,20150324,1242,-18.4282,-165.9315, 5407,    200.4,  20.6016,  35.7900,2,    171.5,2,    173.1,2,     1.01,2,     3.91,2,     0.01,2,     0.43,2,   2089.5,2,   2357.4,2
  35A320150218,OUTPAC,   103, 198,      8,2,20150324,1242,-18.4282,-165.9315, 5407,    120.0,  23.0196,  35.8702,2,    195.8,2,   -999.0,9,  -999.00,9,  -999.00,9,  -999.00,9,  -999.00,9,   2055.7,2,   2366.0,2
  35A320150218,OUTPAC,   103, 198,     13,2,20150324,1242,-18.4282,-165.9315, 5407,     60.7,  26.0367,  35.6996,2,    212.3,2,    214.5,2,     0.74,2,     0.04,2,     0.00,2,     0.11,2,   2002.9,2,   2344.4,2
  35A320150218,OUTPAC,   103, 198,     18,2,20150324,1242,-18.4282,-165.9315, 5407,     27.3,  29.1204,  35.2593,2,    194.5,2,    194.7,2,     0.79,2,     0.03,2,     0.00,2,     0.13,2,   1963.9,2,   2308.2,2
  35A320150218,OUTPAC,   103, 198,     23,2,20150324,1242,-18.4282,-165.9315, 5407,      7.3,  29.1170,  35.2573,2,    193.9,2,    194.6,2,     0.76,2,     0.01,2,     0.00,2,     0.14,2,   1974.0,2,   2314.0,2
  35A320150218,OUTPAC,   103, 199,      1,2,20150324,1432,-18.4282,-165.9315, 5407,   2001.4,   2.1985,  34.6318,2,    146.7,2,    147.0,2,   113.01,2,    36.03,2,     0.00,2,     2.50,2,   2289.3,2,   2377.9,2
  35A320150218,OUTPAC,   103, 199,      3,2,20150324,1432,-18.4282,-165.9315, 5407,   1501.7,   2.6490,  34.5901,2,    145.2,2,    145.9,2,    98.96,2,    35.82,2,     0.00,2,     2.49,2,   2274.4,2,   2363.8,2
  35A320150218,OUTPAC,   103, 199,      5,2,20150324,1432,-18.4282,-165.9315, 5407,   1001.6,   3.7457,  34.4705,2,    156.6,2,    156.3,2,    62.84,2,    34.83,2,     0.00,2,     2.39,2,   2228.8,2,   2315.1,2
  35A320150218,OUTPAC,   103, 199,     13,2,20150324,1432,-18.4282,-165.9315, 5407,    650.9,   6.0551,  34.3664,2,    188.5,2,    189.8,2,    20.11,2,    28.66,2,     0.00,2,     1.98,2,   2164.1,2,   2276.6,2
  35A320150218,OUTPAC,   103, 199,     18,2,20150324,1432,-18.4282,-165.9315, 5407,    400.5,  12.1859,  34.7933,2,    181.8,2,    182.9,2,     4.81,2,    14.56,2,     0.00,2,     1.09,2,   2120.9,2,   2284.3,2
  35A320150218,OUTPAC,   103, 199,     24,2,20150324,1432,-18.4282,-165.9315, 5407,    197.7,  20.8572,  35.8205,2,    172.4,2,   -999.0,9,     0.98,2,     3.84,2,     0.02,2,     0.43,2,   2097.4,2,   2353.1,2
  35A320150218,OUTPAC,    14, 209,      1,2,20150330,0519,-18.3950,-163.0010, 4212,    300.3,  17.3814,  35.3652,2,    171.7,2,   -999.0,9,     2.14,2,     7.65,2,     0.01,2,     0.68,2,   2095.6,2,   2307.6,2
  35A320150218,OUTPAC,    14, 209,      3,2,20150330,0519,-18.3950,-163.0010, 4212,    199.3,  21.6954,  35.8918,2,    173.4,2,   -999.0,9,     0.97,2,     3.17,2,     0.05,2,     0.38,2,   2082.3,2,   2350.3,2
  35A320150218,OUTPAC,    14, 209,      9,2,20150330,0519,-18.3950,-163.0010, 4212,    110.9,  24.8401,  35.8136,2,    207.5,2,   -999.0,9,     0.74,2,     0.04,2,     0.00,2,     0.14,2,   2013.4,2,   2346.2,2
  35A320150218,OUTPAC,    14, 209,     13,2,20150330,0519,-18.3950,-163.0010, 4212,     55.9,  27.5782,  35.6242,2,    205.4,2,   -999.0,9,     0.76,2,     0.01,2,     0.00,2,     0.14,2,   1997.2,2,   2341.5,2
  35A320150218,OUTPAC,    14, 209,     18,2,20150330,0519,-18.3950,-163.0010, 4212,     26.3,  29.1848,  35.0005,2,    193.2,2,   -999.0,9,     0.77,2,  -999.00,9,     0.00,2,     0.15,2,   1954.6,2,   2296.2,2
  35A320150218,OUTPAC,    14, 209,     23,2,20150330,0519,-18.3950,-163.0010, 4212,      6.1,  29.3673,  35.0029,2,    192.9,2,   -999.0,9,     0.75,2,     0.02,2,     0.00,2,     0.14,2,   1955.2,2,   2294.2,2
  35A320150218,OUTPAC,    14, 210,      1,2,20150330,0703,-18.3950,-163.0010, 4212,   2000.1,   2.2510,  34.6275,2,    146.4,2,    145.3,2,   112.55,2,    36.50,2,     0.00,2,     2.50,2,   2297.4,2,   2391.4,2
  35A320150218,OUTPAC,    14, 210,      3,2,20150330,0703,-18.3950,-163.0010, 4212,   1500.1,   2.7432,  34.5826,2,    144.7,2,    145.2,2,    96.84,2,    36.12,2,     0.00,2,     2.52,2,   2283.7,3,   2372.6,3
  35A320150218,OUTPAC,    14, 210,      5,2,20150330,0703,-18.3950,-163.0010, 4212,   1001.4,   3.8898,  34.4862,2,    150.4,2,    150.1,2,    65.21,2,    34.99,2,     0.00,2,     2.44,2,   2246.4,2,   2336.0,2
  35A320150218,OUTPAC,    14, 210,     13,2,20150330,0703,-18.3950,-163.0010, 4212,    650.3,   5.8518,  34.3772,2,    180.2,2,    180.4,2,    24.21,2,    30.02,2,     0.00,2,     2.07,2,   2181.6,3,   2289.8,3
  35A320150218,OUTPAC,    14, 210,     18,2,20150330,0703,-18.3950,-163.0010, 4212,    400.7,  11.7346,  34.7297,2,    153.3,2,    153.8,2,     8.46,2,    18.20,2,     0.01,2,     1.40,2,   2150.6,2,   2298.3,2
  35A320150218,OUTPAC,    14, 210,     24,2,20150330,0703,-18.3950,-163.0010, 4212,    200.7,  21.4330,  35.9073,2,    172.5,2,    172.5,2,     0.93,2,     3.66,2,     0.02,2,     0.42,2,   2088.8,2,   2358.6,2
  35A320150218,OUTPAC,    15, 212,      1,2,20150331,0401,-18.2650,-159.9913, 5001,    300.3,  18.0063,  35.4622,2,    165.2,2,    164.1,2,     2.13,2,     7.67,2,     0.01,2,     0.72,2,   2112.2,2,   2337.1,2
  35A320150218,OUTPAC,    15, 212,      3,2,20150331,0401,-18.2650,-159.9913, 5001,    198.7,  22.1411,  36.0304,2,    169.2,2,    169.7,2,     0.96,2,     4.03,2,     0.03,2,     0.46,2,   2086.2,3,   2372.2,3
  35A320150218,OUTPAC,    15, 212,      9,2,20150331,0401,-18.2650,-159.9913, 5001,    116.0,  24.3577,  35.9205,2,    203.8,2,    200.5,2,     0.77,2,     0.21,2,     0.02,2,     0.18,2,   2043.0,2,   2369.2,2
  35A320150218,OUTPAC,    15, 212,     13,2,20150331,0401,-18.2650,-159.9913, 5001,     57.9,  27.7652,  35.7116,2,    202.1,2,    207.5,2,     0.81,2,     0.02,2,     0.00,2,     0.16,2,   2000.0,3,   2349.6,3
  35A320150218,OUTPAC,    15, 212,     18,2,20150331,0401,-18.2650,-159.9913, 5001,     26.4,  29.2366,  35.2578,2,    193.0,2,    194.0,2,     0.79,2,     0.03,2,     0.00,2,     0.16,2,   1970.2,3,   2323.8,3
  35A320150218,OUTPAC,    15, 212,     23,2,20150331,0401,-18.2650,-159.9913, 5001,      5.5,  29.2029,  35.1762,2,    193.4,2,    194.0,2,     0.75,2,     0.01,2,     0.00,2,     0.17,2,   1956.5,3,   2317.4,3
  35A320150218,OUTPAC,    15, 213,      1,2,20150331,0541,-18.2650,-159.9913, 5001,   2002.2,   2.2276,  34.6289,2,    146.6,2,    147.2,2,   111.49,2,    36.19,2,     0.00,2,     2.52,2,   2293.7,3,   2386.5,3
  35A320150218,OUTPAC,    15, 213,      3,2,20150331,0541,-18.2650,-159.9913, 5001,   1500.1,   2.7594,  34.5796,2,    145.3,2,    145.9,2,    95.04,2,    36.10,2,     0.00,2,     2.50,2,   2274.7,3,   2371.8,3
  35A320150218,OUTPAC,    15, 213,      5,2,20150331,0541,-18.2650,-159.9913, 5001,    999.4,   3.8402,  34.4722,2,    154.5,2,    154.8,2,    62.37,2,    34.80,2,     0.00,2,     2.41,2,   2241.7,2,   2334.7,2
  35A320150218,OUTPAC,    15, 213,     13,2,20150331,0541,-18.2650,-159.9913, 5001,    651.8,   5.8672,  34.3834,2,    170.5,2,   -999.0,9,    24.80,2,    30.19,2,     0.00,2,     2.07,2,   2187.9,2,   2291.8,2
  35A320150218,OUTPAC,    15, 213,     18,2,20150331,0541,-18.2650,-159.9913, 5001,    402.2,  13.7613,  34.9263,2,    152.7,2,    156.9,2,     5.47,2,    14.06,2,     0.00,2,     1.15,2,   2136.1,2,   2301.3,2