BOTTLE,20181101PRINUNIVRMK
EXPOCODE,SECT_ID,STNNBR,CASTNO,BTLNBR,BTLNBR_FLAG_W,DATE,TIME,LATITUDE,LONGITUDE,DEPTH,CTDPRS,CTDTMP,CTDSAL,CTDSAL_FLAG_W,CTDOXY,CTDOXY_FLAG_W,OXYGEN,OXYGEN_FLAG_W,SILCAT,SILCAT_FLAG_W,NITRAT,NITRAT_FLAG_W,NITRIT,NITRIT_FLAG_W,PHSPHT,PHSPHT_FLAG_W,TCARBN,TCARBN_FLAG_W,ALKALI,ALKALI_FLAG_W
,,,,,,,,,,METERS,DBAR,ITS-90,PSS-78,,UMOL/KG,,UMOL/KG,,UMOL/KG,,UMOL/KG,,UMOL/KG,,UMOL/KG,,UMOL/KG,,UMOL/KG,
  35A320150218,OUTPAC,     7,  82,      1,2,20150307,0509,-20.7697, 174.2500, 3015,    200.9,  20.5213,  35.6723,2,    180.1,2,    181.0,2,     0.97,2,     3.64,2,     0.01,2,     0.28,2,   2064.5,3,   2340.4,3
  35A320150218,OUTPAC,     7,  82,      3,2,20150307,0509,-20.7697, 174.2500, 3015,    149.6,  21.8000,  35.6859,2,    182.2,2,    183.7,2,     0.81,2,     2.87,2,     0.02,2,     0.24,2,   2042.7,2,   2338.1,2
  35A320150218,OUTPAC,     7,  82,      9,2,20150307,0509,-20.7697, 174.2500, 3015,     90.0,  23.5004,  35.6655,2,    194.5,2,    196.4,2,     0.62,2,     0.40,2,     0.02,2,     0.13,2,   2014.5,3,   2339.0,3
  35A320150218,OUTPAC,     7,  82,     13,2,20150307,0509,-20.7697, 174.2500, 3015,     44.6,  27.1979,  35.4954,2,    205.5,2,    205.4,2,     0.59,2,     0.02,2,     0.00,2,     0.02,2,   1980.6,2,   2334.0,2
  35A320150218,OUTPAC,     7,  82,     18,2,20150307,0509,-20.7697, 174.2500, 3015,     20.8,  28.2027,  35.3869,2,    200.1,2,    200.0,2,     0.53,2,     0.01,2,     0.00,2,     0.02,2,   1966.1,3,   2322.1,3
  35A320150218,OUTPAC,     7,  82,     23,2,20150307,0509,-20.7697, 174.2500, 3015,      5.6,  29.9031,  35.0171,2,    196.4,2,    193.4,2,     0.61,2,     0.00,2,     0.00,2,     0.04,2,   1950.9,2,   2298.7,2
  35A320150218,OUTPAC,     7,  83,      1,2,20150307,0637,-20.7697, 174.2500, 3015,   2000.4,   2.2321,  34.6364,2,    148.3,2,    148.6,2,   113.05,2,    35.95,2,     0.00,2,     2.54,2,   2300.5,2,   2388.7,2
  35A320150218,OUTPAC,     7,  83,      3,2,20150307,0637,-20.7697, 174.2500, 3015,   1499.4,   2.9056,  34.5727,2,    153.0,2,   -999.0,9,    92.10,2,    34.84,2,     0.00,2,     2.46,2,   2273.1,2,   2366.8,2
  35A320150218,OUTPAC,     7,  83,      5,2,20150307,0637,-20.7697, 174.2500, 3015,    999.8,   4.5006,  34.4149,2,    176.9,2,   -999.0,9,    44.73,2,    32.25,2,     0.01,2,     2.26,2,   2216.4,2,   2313.7,2
  35A320150218,OUTPAC,     7,  83,     13,2,20150307,0637,-20.7697, 174.2500, 3015,    651.0,   7.0857,  34.4209,2,    204.4,2,    205.1,2,    13.05,2,    24.40,2,     0.00,2,     1.71,2,   2156.2,2,   2286.8,2
  35A320150218,OUTPAC,     7,  83,     18,2,20150307,0637,-20.7697, 174.2500, 3015,    400.5,  13.9968,  35.1326,2,    184.7,2,    186.1,2,     3.41,2,    11.10,2,     0.01,2,     0.81,2,   2113.1,2,   2304.6,2
  35A320150218,OUTPAC,     7,  83,     24,2,20150307,0637,-20.7697, 174.2500, 3015,    201.3,  20.5271,  35.6636,2,    178.9,2,    179.3,2,     0.96,2,     3.81,2,     0.01,2,     0.33,2,   2062.5,2,   2336.9,2
  35A320150218,OUTPAC,     8,  86,      1,2,20150308,0231,-20.7027, 176.3778, 2990,    201.0,  21.4561,  35.6643,2,    195.6,2,    195.8,2,  -999.00,9,  -999.00,9,  -999.00,9,  -999.00,9,   2044.9,2,   2336.3,2
  35A320150218,OUTPAC,     8,  86,      3,2,20150308,0231,-20.7027, 176.3778, 2990,    149.5,  22.8976,  35.6610,2,    191.6,2,    192.0,2,  -999.00,9,  -999.00,9,  -999.00,9,  -999.00,9,   2035.3,2,   2336.0,2
  35A320150218,OUTPAC,     8,  86,      9,2,20150308,0231,-20.7027, 176.3778, 2990,     90.9,  23.8038,  35.6435,2,    205.4,2,    205.5,2,  -999.00,9,  -999.00,9,  -999.00,9,  -999.00,9,   2013.7,2,   2338.9,2
  35A320150218,OUTPAC,     8,  86,     13,2,20150308,0231,-20.7027, 176.3778, 2990,     45.6,  26.4053,  35.5635,2,    209.3,2,   -999.0,9,  -999.00,9,  -999.00,9,  -999.00,9,  -999.00,9,   1989.1,2,   2333.9,2
  35A320150218,OUTPAC,     8,  86,     18,2,20150308,0231,-20.7027, 176.3778, 2990,     20.8,  28.4533,  35.3699,2,    198.9,2,    199.2,2,  -999.00,9,  -999.00,9,  -999.00,9,  -999.00,9,   1964.4,2,   2321.6,2
  35A320150218,OUTPAC,     8,  86,     23,2,20150308,0231,-20.7027, 176.3778, 2990,      5.5,  29.5895,  35.3636,2,    195.0,2,    195.2,2,  -999.00,9,  -999.00,9,  -999.00,9,  -999.00,9,   1962.7,2,   2318.7,2
  35A320150218,OUTPAC,     8,  87,      1,2,20150308,0419,-20.7027, 176.3778, 2990,   1997.3,   2.2221,  34.6362,2,    147.9,2,    147.7,2,  -999.00,9,  -999.00,9,  -999.00,9,  -999.00,9,   2294.2,2,   2387.6,2
  35A320150218,OUTPAC,     8,  87,      3,2,20150308,0419,-20.7027, 176.3778, 2990,   1501.1,   2.6797,  34.5928,2,    150.1,2,    150.4,2,  -999.00,9,  -999.00,9,  -999.00,9,  -999.00,9,   2279.9,2,   2372.9,2
  35A320150218,OUTPAC,     8,  87,      5,2,20150308,0419,-20.7027, 176.3778, 2990,   1000.4,   4.3024,  34.4294,2,    173.7,2,    173.7,2,  -999.00,9,  -999.00,9,  -999.00,9,  -999.00,9,   2216.3,2,   2314.1,2
  35A320150218,OUTPAC,     8,  87,     13,2,20150308,0419,-20.7027, 176.3778, 2990,    648.6,   7.5732,  34.4553,2,    210.9,2,   -999.0,9,  -999.00,9,  -999.00,9,  -999.00,9,  -999.00,9,   2150.3,2,   2291.1,2
  35A320150218,OUTPAC,     8,  87,     18,2,20150308,0419,-20.7027, 176.3778, 2990,    400.4,  14.5653,  35.1489,2,    182.8,2,    183.6,2,  -999.00,9,  -999.00,9,  -999.00,9,  -999.00,9,   2115.7,2,   2321.3,2
  35A320150218,OUTPAC,     8,  87,     24,2,20150308,0419,-20.7027, 176.3778, 2990,    200.4,  21.2775,  35.6635,2,    191.2,2,    190.8,2,  -999.00,9,  -999.00,9,  -999.00,9,  -999.00,9,   2055.9,2,   2347.7,2
  35A320150218,OUTPAC,     9,  91,      1,2,20150309,0457,-20.9963, 178.6087, 3477,   2001.5,   2.2521,  34.6362,2,    149.9,2,    149.7,2,   111.13,2,    35.14,2,     0.00,2,     2.50,2,   2295.6,2,   2403.7,2
  35A320150218,OUTPAC,     9,  91,      3,2,20150309,0457,-20.9963, 178.6087, 3477,   1499.3,   2.7771,  34.5838,2,    150.7,2,    150.7,2,    96.33,2,    34.99,2,     0.00,2,     2.48,2,   2278.4,3,   2379.0,3
  35A320150218,OUTPAC,     9,  91,      5,2,20150309,0457,-20.9963, 178.6087, 3477,   1000.2,   4.1842,  34.4283,2,    173.3,2,    173.4,2,    50.54,2,    32.31,2,     0.00,2,     2.29,2,   2220.7,3,   2330.7,3
  35A320150218,OUTPAC,     9,  91,     13,2,20150309,0457,-20.9963, 178.6087, 3477,    649.3,   6.7476,  34.3986,2,    207.5,2,   -999.0,9,    14.24,2,    25.03,2,     0.00,2,     1.76,2,   2158.0,2,   2287.8,2
  35A320150218,OUTPAC,     9,  91,     18,2,20150309,0457,-20.9963, 178.6087, 3477,    398.6,  12.9208,  34.9943,2,    188.6,2,   -999.0,9,     3.91,2,    12.77,2,     0.01,2,     0.93,2,   2121.5,3,   2304.5,3
  35A320150218,OUTPAC,     9,  91,     24,2,20150309,0457,-20.9963, 178.6087, 3477,    200.0,  19.6428,  35.6521,2,    187.9,2,    189.0,2,     0.99,2,     3.47,2,     0.02,2,     0.29,2,   2072.3,2,   2343.6,2
  35A320150218,OUTPAC,     9,1012,      1,2,20150309,0646,-20.9963, 178.6087, 3477,    201.0,  19.5885,  35.6515,2,    190.2,3,   -999.0,9,     1.01,2,     3.45,2,     0.01,2,     0.29,2,   2072.6,2,   2349.5,2
  35A320150218,OUTPAC,     9,1012,      9,2,20150309,0646,-20.9963, 178.6087, 3477,     90.3,  23.2351,  35.6965,2,    209.9,3,   -999.0,9,     0.62,2,     0.00,2,     0.00,2,     0.05,2,   2033.4,2,   2357.6,2
  35A320150218,OUTPAC,     9,1012,     13,2,20150309,0646,-20.9963, 178.6087, 3477,     44.8,  26.9934,  35.4707,2,    208.1,3,   -999.0,9,     0.63,2,     0.00,2,     0.00,2,     0.01,2,   1986.2,2,   2338.6,2
  35A320150218,OUTPAC,     9,1012,     18,2,20150309,0646,-20.9963, 178.6087, 3477,     21.1,  28.7780,  35.3240,2,    199.5,3,   -999.0,9,     0.59,2,     0.03,2,     0.00,2,     0.00,2,   1971.0,2,   2332.4,2
  35A320150218,OUTPAC,     9,1012,     23,2,20150309,0646,-20.9963, 178.6087, 3477,      4.1,  28.9315,  35.3297,2,    197.8,3,   -999.0,9,     0.57,2,     0.00,2,     0.00,2,     0.01,2,   1970.5,2,   2327.8,2
  35A320150218,OUTPAC,    10,  94,      1,2,20150310,0410,-20.4417,-178.5105, 1374,    200.0,  21.0206,  35.6725,2,    177.2,2,    177.2,2,     0.93,2,  -999.00,9,     0.01,2,     0.32,2,   2085.3,2,   2341.4,2
  35A320150218,OUTPAC,    10,  94,      3,2,20150310,0410,-20.4417,-178.5105, 1374,    150.8,  22.0812,  35.6751,2,    182.7,2,    183.2,2,     0.79,2,     2.40,2,     0.02,2,     0.23,2,   2042.9,2,   2331.7,2
  35A320150218,OUTPAC,    10,  94,      9,2,20150310,0410,-20.4417,-178.5105, 1374,     90.2,  23.8528,  35.6631,2,    205.8,2,    207.1,2,     0.67,2,     0.02,2,     0.00,2,     0.09,2,   2036.7,2,   2340.8,2
  35A320150218,OUTPAC,    10,  94,     13,2,20150310,0410,-20.4417,-178.5105, 1374,     45.3,  26.5697,  35.5484,2,    208.4,2,    209.3,2,     0.71,2,     0.03,2,     0.01,2,     0.07,2,   1982.5,2,   2329.3,2
  35A320150218,OUTPAC,    10,  94,     18,2,20150310,0410,-20.4417,-178.5105, 1374,     21.7,  29.4065,  35.2132,2,    195.4,2,    195.8,2,     0.30,2,     0.00,2,     0.01,2,     0.01,2,   1950.9,2,   2308.9,2
  35A320150218,OUTPAC,    10,  94,     23,2,20150310,0410,-20.4417,-178.5105, 1374,      5.8,  29.6078,  35.2114,2,    196.4,2,    195.1,2,     0.33,2,     0.01,2,     0.00,2,     0.01,2,   1946.1,2,   2303.8,2
  35A320150218,OUTPAC,    10,  95,      1,2,20150310,0548,-20.4417,-178.5105, 1374,    762.1,   5.3116,  34.3668,2,    187.7,2,   -999.0,9,  -999.00,9,  -999.00,9,  -999.00,9,  -999.00,9,   2178.9,2,   2281.3,2
  35A320150218,OUTPAC,    10,  95,     13,2,20150310,0548,-20.4417,-178.5105, 1374,    651.2,   6.7526,  34.4124,2,    184.9,2,    184.2,2,    18.56,2,    27.63,2,     0.00,2,     1.92,2,   2169.7,2,   2287.5,2
  35A320150218,OUTPAC,    10,  95,     18,2,20150310,0548,-20.4417,-178.5105, 1374,    401.5,  13.8450,  35.0603,2,    184.2,2,    184.7,2,     3.88,2,    11.84,2,     0.01,2,     0.90,2,   2111.6,2,   2299.7,2
  35A320150218,OUTPAC,    10,  95,     24,2,20150310,0548,-20.4417,-178.5105, 1374,    201.7,  21.0501,  35.6709,2,    177.2,2,    181.0,2,     0.86,2,     3.04,2,     0.02,2,     0.28,2,   2065.7,2,   2338.5,2
  35A320150218,OUTPAC,    11,  98,      1,2,20150311,0053,-20.0028,-175.6542, 2375,    200.7,  19.6017,  35.6100,2,    185.8,2,    187.2,2,     1.12,2,     3.44,2,     0.01,2,     0.32,2,   2075.0,2,   2336.3,2
  35A320150218,OUTPAC,    11,  98,      3,2,20150311,0053,-20.0028,-175.6542, 2375,    151.5,  20.7811,  35.6633,2,    189.2,2,    190.0,2,     1.00,2,     2.66,2,     0.02,2,     0.25,2,   2054.2,2,   2331.7,2
  35A320150218,OUTPAC,    11,  98,      9,2,20150311,0053,-20.0028,-175.6542, 2375,     90.1,  22.8898,  35.6798,2,    200.5,2,    200.6,2,     0.66,2,     0.05,2,     0.00,2,     0.14,2,   2028.4,2,   2337.0,2
  35A320150218,OUTPAC,    11,  98,     13,2,20150311,0053,-20.0028,-175.6542, 2375,     45.5,  26.2362,  35.5802,2,    207.4,2,    208.6,2,     0.59,2,     0.00,2,     0.00,2,     0.04,2,   1986.4,2,   2324.6,2
  35A320150218,OUTPAC,    11,  98,     18,2,20150311,0053,-20.0028,-175.6542, 2375,     21.7,  27.5523,  35.4813,2,    203.9,2,    205.1,2,     0.56,2,     0.02,2,     0.00,2,     0.05,2,   1974.0,2,   2320.0,2
  35A320150218,OUTPAC,    11,  98,     23,2,20150311,0053,-20.0028,-175.6542, 2375,      5.9,  29.1874,  35.4111,2,    197.1,2,    196.9,2,     0.54,2,     0.02,2,     0.00,2,     0.02,2,   1977.1,3,   2329.2,3
  35A320150218,OUTPAC,    11,  99,      1,2,20150311,0246,-20.0028,-175.6542, 2375,   2000.3,   2.4033,  34.6171,2,    146.0,2,    147.1,2,   103.88,2,    35.52,2,     0.00,2,     2.52,2,   2295.7,2,   2389.3,2
  35A320150218,OUTPAC,    11,  99,      3,2,20150311,0246,-20.0028,-175.6542, 2375,   1499.7,   2.7848,  34.5661,2,    152.1,2,    152.8,2,    88.29,2,    35.03,2,     0.00,2,     2.46,2,   2266.8,3,   2364.3,3
  35A320150218,OUTPAC,    11,  99,      5,2,20150311,0246,-20.0028,-175.6542, 2375,   1000.0,   4.3260,  34.4229,2,    171.2,2,    171.0,2,    47.10,2,    32.58,2,     0.01,2,     2.29,2,   2216.6,2,   2316.1,2
  35A320150218,OUTPAC,    11,  99,     13,2,20150311,0246,-20.0028,-175.6542, 2375,    649.0,   6.5749,  34.3757,2,    207.6,2,    207.8,2,    15.12,2,    25.63,2,     0.00,2,     1.79,2,   2155.2,2,   2284.1,2
  35A320150218,OUTPAC,    11,  99,     18,2,20150311,0246,-20.0028,-175.6542, 2375,    396.7,  11.8322,  34.8283,2,    184.7,2,    186.3,2,     6.04,2,    15.20,2,     0.00,2,     1.13,2,   2128.5,3,   2301.2,3
  35A320150218,OUTPAC,    11,  99,     24,2,20150311,0246,-20.0028,-175.6542, 2375,    201.3,  19.4520,  35.5973,2,    184.7,2,    187.5,2,     1.20,2,     3.46,2,     0.01,2,     0.31,2,   2069.3,3,   2342.7,3
  35A320150218,OUTPAC,    12, 102,      1,2,20150312,0038,-19.5237,-172.7885, 7863,    199.8,  20.0749,  35.6254,2,    194.2,2,    194.9,2,     0.95,2,     2.50,2,     0.02,2,     0.20,2,   2056.6,2,   2336.6,2
  35A320150218,OUTPAC,    12, 102,      3,2,20150312,0038,-19.5237,-172.7885, 7863,    150.8,  21.1442,  35.6802,2,    187.1,2,    189.6,2,     0.96,2,     2.07,2,     0.02,2,     0.25,2,   2062.3,2,   2346.6,2
  35A320150218,OUTPAC,    12, 102,      9,2,20150312,0038,-19.5237,-172.7885, 7863,     84.7,  24.0224,  35.7257,2,    202.2,2,    204.0,2,     0.73,2,     0.01,2,     0.00,2,     0.13,2,   2024.3,2,   2350.9,2
  35A320150218,OUTPAC,    12, 102,     13,2,20150312,0038,-19.5237,-172.7885, 7863,     43.3,  26.9381,  35.5955,2,    211.3,2,    211.1,2,     0.72,2,     0.01,2,     0.00,2,     0.06,2,   1995.8,2,   2347.0,2
  35A320150218,OUTPAC,    12, 102,     18,2,20150312,0038,-19.5237,-172.7885, 7863,     19.2,  29.4990,  34.9667,2,    196.7,2,    196.7,2,     0.39,2,     0.05,2,     0.00,2,     0.06,2,   1947.5,2,   2300.4,2
  35A320150218,OUTPAC,    12, 102,     23,2,20150312,0038,-19.5237,-172.7885, 7863,      5.7,  29.8392,  34.8955,2,    193.8,2,    193.2,2,     0.46,2,     0.04,2,     0.00,2,     0.08,2,   1942.9,2,   2293.9,2
  35A320150218,OUTPAC,    12, 103,      1,2,20150312,0226,-19.5237,-172.7885, 7863,   2000.9,   2.2385,  34.6295,2,    145.0,2,    145.8,2,   106.06,2,    36.19,2,     0.00,2,     2.51,2,   2303.3,2,   2400.1,2
  35A320150218,OUTPAC,    12, 103,      3,2,20150312,0226,-19.5237,-172.7885, 7863,   1502.9,   2.6343,  34.5933,2,    144.8,2,   -999.0,9,    94.91,2,    36.07,2,     0.01,2,     2.50,2,   2287.5,2,   2380.1,2
  35A320150218,OUTPAC,    12, 103,      5,2,20150312,0226,-19.5237,-172.7885, 7863,   1002.3,   3.9852,  34.4270,2,    166.8,2,    166.6,2,    50.44,2,    33.92,2,     0.00,2,     2.33,2,   2226.5,2,   2324.0,2
  35A320150218,OUTPAC,    12, 103,     13,2,20150312,0226,-19.5237,-172.7885, 7863,    652.2,   6.5506,  34.3518,2,    225.1,2,    225.6,2,    10.91,2,    24.56,2,     0.00,2,     1.67,2,   2150.3,2,   2285.6,2
  35A320150218,OUTPAC,    12, 103,     18,2,20150312,0226,-19.5237,-172.7885, 7863,    398.8,  13.1400,  35.0280,2,    187.0,2,    189.7,2,     3.93,2,    11.92,2,     0.00,2,     0.87,2,   2120.6,2,   2312.4,2
  35A320150218,OUTPAC,    12, 103,     24,2,20150312,0226,-19.5237,-172.7885, 7863,    199.8,  20.1791,  35.6274,2,    193.1,2,    195.6,2,     0.94,2,     2.17,2,     0.01,2,     0.21,2,   2064.6,2,   2350.0,2
  35A320150218,OUTPAC,   102, 150,      1,2,20150320,1238,-18.1790,-170.7433, 4986,    204.3,  21.1398,  35.8034,2,    170.9,2,    170.7,2,     1.08,2,     3.92,2,     0.01,2,     0.40,2,   2091.5,2,   2362.8,2
  35A320150218,OUTPAC,   102, 150,      3,2,20150320,1238,-18.1790,-170.7433, 4986,    125.5,  23.5344,  35.7499,2,    196.8,2,    199.0,2,     0.76,2,     0.23,2,     0.31,2,     0.14,2,   2040.6,2,   2362.2,2
  35A320150218,OUTPAC,   102, 150,      9,2,20150320,1238,-18.1790,-170.7433, 4986,     56.8,  26.2444,  35.6751,2,    209.6,2,    210.4,2,     0.77,2,     0.03,2,     0.00,2,     0.12,2,   2007.0,2,   2354.8,2
  35A320150218,OUTPAC,   102, 150,     13,2,20150320,1238,-18.1790,-170.7433, 4986,     26.7,  29.6636,  35.1263,2,    204.6,2,    201.1,2,     0.63,2,     0.02,2,     0.00,2,     0.04,2,   1956.8,2,   2319.4,2
  35A320150218,OUTPAC,   102, 150,     18,2,20150320,1238,-18.1790,-170.7433, 4986,     12.2,  29.9335,  35.0520,2,    196.0,2,    196.1,2,     0.63,2,     0.00,2,     0.00,2,     0.02,2,   1940.1,3,   2311.3,3
  35A320150218,OUTPAC,   102, 150,     23,2,20150320,1238,-18.1790,-170.7433, 4986,      5.5,  29.9227,  35.0404,2,    195.8,2,    196.3,2,     0.58,2,     0.04,2,     0.00,2,     0.04,2,   1944.4,2,   2311.7,2
  35A320150218,OUTPAC,   102, 151,      1,2,20150320,1416,-18.1790,-170.7433, 4986,   1996.5,   2.2696,  34.6270,2,    144.9,2,    145.2,2,   113.39,2,    36.01,2,     0.00,2,     2.50,2,   2303.5,2,   2401.2,2
  35A320150218,OUTPAC,   102, 151,      3,2,20150320,1416,-18.1790,-170.7433, 4986,   1500.1,   2.7263,  34.5859,2,    144.1,2,    144.4,2,    98.81,2,    36.13,2,     0.00,2,     2.51,2,   2286.5,2,   2380.0,2
  35A320150218,OUTPAC,   102, 151,      5,2,20150320,1416,-18.1790,-170.7433, 4986,   1000.9,   3.7988,  34.4692,2,    156.7,2,    156.7,2,    63.07,2,    34.72,2,     0.00,2,     2.38,2,   2239.2,2,   2333.0,2
  35A320150218,OUTPAC,   102, 151,     13,2,20150320,1416,-18.1790,-170.7433, 4986,    658.1,   6.3823,  34.4032,2,    175.9,2,    175.5,2,    22.57,2,    29.25,2,     0.00,2,     2.02,2,   2187.7,2,   2299.6,2
  35A320150218,OUTPAC,   102, 151,     18,2,20150320,1416,-18.1790,-170.7433, 4986,    395.7,  12.5735,  34.8461,2,    179.1,2,    180.7,2,     4.86,2,    13.78,2,     0.01,2,     1.04,2,   2128.7,2,   2304.7,2
  35A320150218,OUTPAC,   102, 151,     24,2,20150320,1416,-18.1790,-170.7433, 4986,    203.6,  21.1777,  35.8012,2,    171.4,2,    173.6,2,     1.03,2,     3.72,2,     0.01,2,     0.38,2,   2088.5,2,   2356.0,2
  35A320150218,OUTPAC,    13, 152,      1,2,20150321,1027,-18.2007,-169.0728, 4961,    500.7,   8.4455,  34.4702,2,    183.4,2,   -999.0,9,    10.56,2,    22.97,2,     0.01,2,     1.63,2,   2155.0,2,   2284.6,2
  35A320150218,OUTPAC,    13, 152,      3,2,20150321,1027,-18.2007,-169.0728, 4961,    300.1,  16.2738,  35.2339,2,    177.3,2,   -999.0,9,     2.34,2,     7.93,2,     0.00,2,     0.67,2,   2100.8,2,   2321.5,2
  35A320150218,OUTPAC,    13, 152,      9,2,20150321,1027,-18.2007,-169.0728, 4961,     75.6,  25.1791,  35.7859,2,    210.9,2,   -999.0,9,     0.75,2,     0.00,2,     0.01,2,     0.16,2,   2017.1,2,   2356.6,2
  35A320150218,OUTPAC,    13, 152,     13,2,20150321,1027,-18.2007,-169.0728, 4961,     55.2,  26.5798,  35.6835,2,    212.1,2,   -999.0,9,     0.74,2,     0.01,2,     0.00,2,     0.14,2,   2006.0,2,   2350.8,2
  35A320150218,OUTPAC,    13, 152,     18,2,20150321,1027,-18.2007,-169.0728, 4961,     35.4,  28.4578,  35.4056,2,    204.3,2,   -999.0,9,  -999.00,9,  -999.00,9,  -999.00,9,  -999.00,9,   1991.6,3,   2338.1,3
  35A320150218,OUTPAC,    13, 152,     23,2,20150321,1027,-18.2007,-169.0728, 4961,      5.1,  29.5926,  35.0912,2,    193.3,2,   -999.0,9,     0.75,2,     0.00,2,     0.00,2,     0.13,2,   1953.3,3,   2307.4,3