BOTTLE,20181001PRINUNIVRMK
EXPOCODE,SECT_ID,STNNBR,CASTNO,BTLNBR,BTLNBR_FLAG_W,DATE,TIME,LATITUDE,LONGITUDE,DEPTH,CTDPRS,CTDTMP,CTDSAL,CTDSAL_FLAG_W,SALNTY,SALNTY_FLAG_W,CTDOXY,CTDOXY_FLAG_W,OXYGEN,OXYGEN_FLAG_W,SILCAT,SILCAT_FLAG_W,NITRAT,NITRAT_FLAG_W,NITRIT,NITRIT_FLAG_W,PHSPHT,PHSPHT_FLAG_W,CFC-12,CFC-12_FLAG_W,SF6,SF6_FLAG_W,TCARBN,TCARBN_FLAG_W,ALKALI,ALKALI_FLAG_W
,,,,,,,,,,METERS,DBAR,ITS-90,PSS-78,,PSS-78,,UMOL/KG,,UMOL/KG,,UMOL/KG,,UMOL/KG,,UMOL/KG,,UMOL/KG,,PMOL/KG,,FMOL/KG,,UMOL/KG,,UMOL/KG,
  58GS20160802,   75N,   535,  1,      1,2,20160805,1332, 75.0000,   1.9990, 2731,   2753.9,  -0.7450,  34.9140,2,  34.9160,2,    299.9,2,    300.7,2,    12.60,2,    14.70,2,     0.09,2,     1.06,2,    0.470,2,     0.26,2,   2164.4,2,   2300.9,2
  58GS20160802,   75N,   535,  1,      2,2,20160805,1332, 75.0000,   1.9990, 2731,   2499.8,  -0.7550,  34.9150,2,  34.9130,2,    300.6,2,    299.3,2,    12.30,2,    14.60,2,     0.08,2,     1.06,2,    0.480,2,      0.3,2,   2164.4,2,   2299.0,2
  58GS20160802,   75N,   535,  1,      3,2,20160805,1332, 75.0000,   1.9990, 2731,   2000.6,  -0.7110,  34.9140,2,  34.9130,2,    302.2,2,    300.5,2,    11.30,2,    14.50,2,     0.08,2,     1.01,2,    0.710,2,     0.57,2,   2163.6,2,   2297.7,2
  58GS20160802,   75N,   535,  1,      4,2,20160805,1332, 75.0000,   1.9990, 2731,   1501.0,  -0.5840,  34.9110,2,  34.9120,2,    316.4,2,    315.8,2,     8.50,2,    13.60,2,     0.06,2,     0.94,2,    2.110,2,     1.49,2,   2168.4,2,   2295.9,2
  58GS20160802,   75N,   535,  1,      5,2,20160805,1332, 75.0000,   1.9990, 2731,   1001.3,  -0.3910,  34.9160,2,  34.9150,2,    320.8,2,    320.8,2,     7.30,2,    13.20,2,     0.10,2,     0.89,2,    2.800,2,     2.08,2,   2170.8,2,   2299.4,2
  58GS20160802,   75N,   535,  1,      6,2,20160805,1332, 75.0000,   1.9990, 2731,    750.9,  -0.3030,  34.9170,2,  34.9160,2,    328.3,2,    332.2,2,     6.30,2,    12.60,2,     0.06,2,     0.85,2,    3.100,2,     2.65,2,   2174.8,2,   2296.7,2
  58GS20160802,   75N,   535,  1,      7,2,20160805,1332, 75.0000,   1.9990, 2731,    501.0,  -0.2980,  34.9120,2,  34.9130,2,    332.2,2,    340.1,2,     6.00,2,    12.50,2,     0.11,2,     0.84,2,    3.160,2,     2.68,2,   2172.7,2,   2298.1,2
  58GS20160802,   75N,   535,  1,      8,2,20160805,1332, 75.0000,   1.9990, 2731,    399.8,  -0.2700,  34.9110,2,  34.9120,2,    330.4,2,    338.2,2,     6.10,2,    12.50,2,     0.11,2,     0.83,2,    2.890,2,      3.1,2,   2174.9,2,   2296.8,2
  58GS20160802,   75N,   535,  1,      9,2,20160805,1332, 75.0000,   1.9990, 2731,    300.2,  -0.2100,  34.9100,2,  34.9110,2,    341.0,2,    336.7,2,     6.10,2,    12.50,2,     0.07,2,     0.84,2,    3.270,2,     2.84,2,   2170.2,2,   2297.7,2
  58GS20160802,   75N,   535,  1,     10,2,20160805,1332, 75.0000,   1.9990, 2731,    200.5,  -0.1190,  34.9100,2,  34.9110,2,    339.8,2,    336.1,2,     6.00,2,    12.40,2,     0.09,2,     0.81,2,    3.260,2,     2.45,2,   2169.8,2,   2300.9,2
  58GS20160802,   75N,   535,  1,     11,2,20160805,1332, 75.0000,   1.9990, 2731,    149.8,  -0.0630,  34.9090,2,  34.9110,2,    337.3,2,    331.6,2,     6.00,2,    12.40,2,     0.11,2,     0.84,2,    3.160,2,     2.86,2,   2207.9,4,   2297.8,2
  58GS20160802,   75N,   535,  1,     12,2,20160805,1332, 75.0000,   1.9990, 2731,    100.2,   0.2970,  34.9140,2,  34.9150,2,    333.2,2,    332.8,2,     5.40,2,    11.80,2,     0.32,2,     0.82,2,    3.300,2,     2.98,2,   2178.9,2,   2303.7,2
  58GS20160802,   75N,   535,  1,     13,2,20160805,1332, 75.0000,   1.9990, 2731,     74.7,   0.8380,  34.9200,2,  34.9190,2,    335.2,2,    328.9,2,     2.90,2,     9.60,2,     0.31,2,     0.75,2,    3.450,2,     3.01,2,   2170.5,2,   2305.8,2
  58GS20160802,   75N,   535,  1,     14,2,20160805,1332, 75.0000,   1.9990, 2731,     49.7,   1.9620,  34.9360,2,  34.9310,2,    345.3,2,   -999.0,9,     0.80,2,     5.50,2,     0.20,2,     0.50,2,    3.440,2,     3.14,2,   2148.0,2,   2308.3,2
  58GS20160802,   75N,   535,  1,     15,2,20160805,1332, 75.0000,   1.9990, 2731,     30.5,   6.7740,  34.9880,2,  34.9970,2,    319.0,2,    322.4,2,     0.50,2,     0.70,2,     0.09,2,     0.24,2,    2.810,2,     2.72,2,   2092.8,2,   2309.5,2
  58GS20160802,   75N,   535,  1,     16,2,20160805,1332, 75.0000,   1.9990, 2731,     10.1,   7.7460,  35.0120,2,  35.0050,2,    307.4,2,    308.1,2,     0.40,2,     0.50,2,     0.12,2,     0.23,2,    2.520,2,     2.81,2,   2085.6,2,   2310.0,2
  58GS20160802,   75N,   537,  1,      1,2,20160805,2026, 75.0000,   1.0005, 3700,   3758.4,  -0.6900,  34.9150,2,  34.9150,2,    296.8,3,    297.6,2,    12.80,2,    14.90,2,     0.01,2,     1.08,2,    0.450,2,     0.52,2,   2163.1,2,   2299.7,2
  58GS20160802,   75N,   537,  1,      2,2,20160805,2026, 75.0000,   1.0005, 3700,   3500.3,  -0.7100,  34.9150,2,  34.9140,2,    297.8,3,    297.3,2,    12.50,2,    14.90,2,     0.01,2,     1.05,2,    0.470,2,     0.45,2,   2160.5,2,   2298.6,2
  58GS20160802,   75N,   537,  1,      3,2,20160805,2026, 75.0000,   1.0005, 3700,   2999.3,  -0.7330,  34.9150,2,  34.9160,2,    297.7,3,    297.1,2,    12.20,2,    15.00,2,     0.01,2,     1.06,2,    0.490,2,     0.52,2,   2162.7,2,   2300.4,2
  58GS20160802,   75N,   537,  1,      4,2,20160805,2026, 75.0000,   1.0005, 3700,   2500.3,  -0.7250,  34.9130,2,  34.9140,2,    298.2,3,    298.0,2,    11.60,2,    14.80,2,     0.01,2,     1.06,2,    0.630,2,      0.5,2,   2157.4,2,   2297.0,2
  58GS20160802,   75N,   537,  1,      5,2,20160805,2026, 75.0000,   1.0005, 3700,   2000.7,  -0.6260,  34.9110,2,  34.9130,2,    304.7,3,    304.8,2,     9.90,2,    14.30,2,     0.01,2,     1.00,2,    1.330,2,        1,2,   2164.8,2,   2296.2,2
  58GS20160802,   75N,   537,  1,      6,2,20160805,2026, 75.0000,   1.0005, 3700,   1500.3,  -0.5180,  34.9100,2,  34.9110,2,    323.4,3,    324.3,2,     7.20,2,    13.40,2,     0.02,2,     0.91,2,    2.910,2,     2.15,2,   2172.0,3,   2296.4,2
  58GS20160802,   75N,   537,  1,      7,2,20160805,2026, 75.0000,   1.0005, 3700,   1250.5,  -0.4460,  34.9130,2,-999.0000,9,    321.9,3,   -999.0,9,  -999.00,2,  -999.00,2,  -999.00,2,  -999.00,2,    2.920,2,     2.24,2,   -999.0,9,   -999.0,9
  58GS20160802,   75N,   537,  1,      8,2,20160805,2026, 75.0000,   1.0005, 3700,   1001.2,  -0.3140,  34.9180,2,  34.9180,2,    321.3,3,    321.3,2,     6.90,2,    13.30,2,     0.01,2,     0.91,2,    2.970,2,     2.38,2,   2176.2,3,   2296.4,2
  58GS20160802,   75N,   537,  1,      9,2,20160805,2026, 75.0000,   1.0005, 3700,    750.8,  -0.3010,  34.9160,2,  34.9160,2,    330.7,3,    330.7,2,     6.00,2,    12.80,2,     0.02,2,     0.86,2,    3.240,2,     2.74,2,   2166.4,2,   2296.4,2
  58GS20160802,   75N,   537,  1,     10,2,20160805,2026, 75.0000,   1.0005, 3700,    500.5,  -0.2390,  34.9190,2,  34.9180,2,    331.3,3,    331.0,2,     6.00,2,    12.70,2,     0.02,2,     0.84,2,    3.260,2,     2.89,2,   2167.6,2,   2296.4,2
  58GS20160802,   75N,   537,  1,     11,2,20160805,2026, 75.0000,   1.0005, 3700,    400.1,  -0.2030,  34.9200,2,  34.9180,2,   -999.0,3,    330.6,2,     6.00,2,    12.70,2,     0.01,2,     0.85,2,    3.270,2,     2.73,2,   2168.7,2,   2296.6,2
  58GS20160802,   75N,   537,  1,     12,2,20160805,2026, 75.0000,   1.0005, 3700,    300.5,  -0.1690,  34.9190,2,  34.9170,2,   -999.0,3,    329.5,2,     6.00,2,    12.70,2,     0.02,2,     0.87,2,    3.220,2,     2.83,2,   2168.5,2,   2296.4,2
  58GS20160802,   75N,   537,  1,     13,2,20160805,2026, 75.0000,   1.0005, 3700,    199.7,  -0.0700,  34.9180,2,  34.9150,2,   -999.0,3,    328.1,2,     5.90,2,    12.60,2,     0.02,2,     0.84,2,    2.980,2,     2.97,2,   2171.3,2,   2299.2,2
  58GS20160802,   75N,   537,  1,     14,2,20160805,2026, 75.0000,   1.0005, 3700,    149.2,  -0.0380,  34.9130,2,  34.9120,2,   -999.0,3,    328.2,2,     5.80,2,    12.60,2,     0.03,2,     0.86,2,    3.000,2,     2.93,2,   2171.6,2,   2296.5,2
  58GS20160802,   75N,   537,  1,     15,2,20160805,2026, 75.0000,   1.0005, 3700,     74.6,   0.7540,  34.9280,2,  34.9300,2,   -999.0,3,    321.4,2,     4.70,2,    11.60,2,     0.27,2,     0.83,2,    3.190,2,     3.12,2,   2171.3,2,   2296.7,2
  58GS20160802,   75N,   537,  1,     16,2,20160805,2026, 75.0000,   1.0005, 3700,     49.7,   2.1080,  34.9260,2,  34.9370,2,   -999.0,3,    341.7,2,     0.80,2,     5.80,2,     0.17,2,     0.52,2,    3.330,2,     3.01,2,   2142.7,2,   2304.1,2
  58GS20160802,   75N,   537,  1,     17,2,20160805,2026, 75.0000,   1.0005, 3700,     30.1,   6.4700,  34.9650,2,  34.9380,2,   -999.0,3,    324.6,3,     0.30,2,     0.80,2,     0.05,2,     0.16,2,    2.770,2,     2.81,2,   2092.1,2,   2299.1,2
  58GS20160802,   75N,   537,  1,     18,2,20160805,2026, 75.0000,   1.0005, 3700,      9.7,   7.1860,  34.9170,2,  34.9380,2,   -999.0,3,    312.0,2,     0.30,2,     0.60,2,     0.05,2,     0.13,2,    2.650,2,     2.89,2,   2085.3,2,   2299.2,2
  58GS20160802,   75N,   539,  1,      1,2,20160806,0401, 74.9995,   0.0010, 3695,   3748.4,  -0.6870,  34.9140,2,  34.9140,2,    297.0,2,    297.1,2,    12.50,2,    15.00,2,     0.03,2,     1.05,2,    0.410,2,     0.59,2,   2165.4,2,   2301.6,2
  58GS20160802,   75N,   539,  1,      2,2,20160806,0401, 74.9995,   0.0010, 3695,   3500.2,  -0.6990,  34.9150,2,  34.9140,2,    297.6,2,    297.5,2,    12.20,2,    14.90,2,     0.02,2,     1.12,2,    0.430,2,     0.87,2,   2161.0,2,   2297.9,2
  58GS20160802,   75N,   539,  1,      3,2,20160806,0401, 74.9995,   0.0010, 3695,   2999.9,  -0.7010,  34.9140,2,  34.9140,2,    298.1,2,    297.8,2,    11.70,2,    14.80,2,     0.01,2,     1.05,2, -999.000,9,     -999,9,   2163.8,2,   2299.0,2
  58GS20160802,   75N,   539,  1,      4,2,20160806,0401, 74.9995,   0.0010, 3695,   2502.3,  -0.5960,  34.9120,2,  34.9120,2,    306.3,2,    306.2,2,     9.80,2,    14.20,2,     0.01,2,     0.98,2, -999.000,9,     -999,9,   2112.0,3,   1666.1,4
  58GS20160802,   75N,   539,  1,      5,2,20160806,0401, 74.9995,   0.0010, 3695,   2302.1,  -0.5490,  34.9100,2,  34.9100,2,    317.0,2,    317.4,2,     8.20,2,    13.70,2,     0.02,2,     0.93,2,    2.040,2,      2.2,2,   -999.0,9,   -999.0,9
  58GS20160802,   75N,   539,  1,      6,2,20160806,0401, 74.9995,   0.0010, 3695,   2002.1,  -0.5100,  34.9110,2,  34.9110,2,    326.8,2,    327.5,2,     6.90,2,    13.20,2,     0.01,2,     0.89,2,    2.770,2,      2.8,2,   2167.8,2,   2295.7,2
  58GS20160802,   75N,   539,  1,      7,2,20160806,0401, 74.9995,   0.0010, 3695,   1749.6,  -0.4870,  34.9120,2,  34.9120,2,    328.2,2,    328.8,2,     6.60,2,    13.20,2,     0.02,2,     0.89,2,    2.840,2,     2.87,2,   -999.0,9,   -999.0,9
  58GS20160802,   75N,   539,  1,      8,2,20160806,0401, 74.9995,   0.0010, 3695,   1499.9,  -0.4690,  34.9120,2,  34.9120,2,    328.1,2,    328.4,2,     6.60,2,    13.10,2,     0.02,2,     0.88,2,    2.880,2,        3,2,   2174.4,2,   2292.7,2
  58GS20160802,   75N,   539,  1,      9,2,20160806,0401, 74.9995,   0.0010, 3695,   1251.4,  -0.3820,  34.9160,2,  34.9160,2,    326.5,2,    326.8,2,     6.40,2,    13.20,2,     0.03,2,     0.82,2,    2.910,2,      2.8,2,   -999.0,9,   -999.0,9
  58GS20160802,   75N,   539,  1,     10,2,20160806,0401, 74.9995,   0.0010, 3695,   1000.6,  -0.3470,  34.9150,2,  34.9160,2,    332.1,2,    332.0,2,     5.90,2,    12.70,2,     0.02,2,     0.83,2,    2.970,2,     3.38,2,   2177.2,2,   2296.2,2
  58GS20160802,   75N,   539,  1,     11,2,20160806,0401, 74.9995,   0.0010, 3695,    749.7,  -0.3290,  34.9160,2,  34.9150,2,    333.2,2,    332.7,2,     5.90,2,    12.60,2,     0.01,2,     0.84,2,    2.980,2,     3.54,2,   2177.6,2,   2290.3,2
  58GS20160802,   75N,   539,  1,     12,2,20160806,0401, 74.9995,   0.0010, 3695,    500.2,  -0.3290,  34.9130,2,  34.9140,2,    334.2,2,    333.2,2,     5.90,2,    12.50,2,     0.02,2,     0.81,2,    3.040,2,     3.18,2,   2173.8,2,   2294.6,2
  58GS20160802,   75N,   539,  1,     13,2,20160806,0401, 74.9995,   0.0010, 3695,    399.7,  -0.3010,  34.9150,2,  34.9140,2,    334.4,2,    333.0,2,     5.80,2,    12.50,2,     0.02,2,     0.82,2,    3.060,2,     3.17,2,   2171.0,2,   2297.0,2
  58GS20160802,   75N,   539,  1,     14,2,20160806,0401, 74.9995,   0.0010, 3695,    301.2,  -0.2900,  34.9140,2,  34.9140,2,    334.0,2,    332.3,2,     5.80,2,    12.50,2,     0.04,2,     0.86,2,    3.090,2,     3.19,2,   2176.4,2,   2295.9,2
  58GS20160802,   75N,   539,  1,     15,2,20160806,0401, 74.9995,   0.0010, 3695,    201.1,  -0.2940,  34.9100,2,  34.9100,2,    333.0,2,    331.3,2,     5.80,2,    12.60,2,     0.07,2,     0.82,2,    3.010,2,     3.37,2,   2175.6,2,   2296.6,2
  58GS20160802,   75N,   539,  1,     16,2,20160806,0401, 74.9995,   0.0010, 3695,    150.7,  -0.1410,  34.9130,2,  34.9120,2,    330.6,2,    328.6,2,     5.90,2,    12.50,2,     0.02,2,     0.80,2,    3.090,2,      2.9,2,   2174.6,2,   2297.2,2
  58GS20160802,   75N,   539,  1,     17,2,20160806,0401, 74.9995,   0.0010, 3695,    100.8,  -0.0340,  34.9110,2,  34.9110,2,    329.6,2,    334.4,3,     5.70,2,    12.30,2,     0.21,2,     0.88,2,    3.080,2,     3.38,2,   2175.5,2,   2296.0,2
  58GS20160802,   75N,   539,  1,     18,2,20160806,0401, 74.9995,   0.0010, 3695,     75.5,   0.5020,  34.9160,2,  34.9170,2,    329.1,2,    329.9,2,     4.20,2,    10.40,2,     0.28,2,     0.77,2,    2.980,2,     3.67,2,   2173.5,2,   2300.4,2
  58GS20160802,   75N,   539,  1,     19,2,20160806,0401, 74.9995,   0.0010, 3695,     50.0,   1.6390,  34.9020,2,  34.9010,2,    352.6,2,    353.3,2,     0.90,2,     5.20,2,     0.08,2,     0.49,2,    3.220,2,     3.37,2,   2138.2,2,   2303.7,2
  58GS20160802,   75N,   539,  1,     20,2,20160806,0401, 74.9995,   0.0010, 3695,     27.6,   6.5050,  34.9390,2,  34.9390,2,    316.8,2,    317.6,2,     0.40,2,     0.20,2,     0.03,2,     0.13,2,    2.370,2,     3.29,2,   2083.6,2,   2303.4,2
  58GS20160802,   75N,   539,  1,     21,2,20160806,0401, 74.9995,   0.0010, 3695,      9.7,   6.5510,  34.9410,2,  34.9410,2,    316.8,2,    316.7,2,     0.40,2,     0.20,2,     0.02,2,     0.13,2,    1.820,2,     3.41,2,   2085.8,2,   2304.4,2
  58GS20160802,   75N,   541,  1,      1,2,20160806,1229, 74.9982,  -0.9895, 3476,   3553.3,  -0.7100,  34.9130,2,  34.9140,2,    297.1,2,    297.2,2,    12.60,2,    14.90,2,     0.02,2,     1.05,2,    0.460,2,     0.49,2,   2163.1,2,   2298.7,2
  58GS20160802,   75N,   541,  1,      2,2,20160806,1229, 74.9982,  -0.9895, 3476,   3003.0,  -0.7290,  34.9160,2,  34.9140,2,    297.9,2,    297.4,2,    12.00,2,    14.80,2,     0.03,2,     1.04,2,    0.490,2,     0.54,2,   2160.8,2,   2297.8,2
  58GS20160802,   75N,   541,  1,      3,2,20160806,1229, 74.9982,  -0.9895, 3476,   2500.8,  -0.7120,  34.9150,2,  34.9130,2,    298.6,2,    298.2,2,    11.50,2,    14.70,2,     0.02,2,     1.01,2,    0.700,2,     0.43,2,   2161.1,2,   2298.2,2
  58GS20160802,   75N,   541,  1,      4,2,20160806,1229, 74.9982,  -0.9895, 3476,   1996.4,  -0.6140,  34.9130,2,  34.9110,2,    306.9,2,    306.9,2,     9.60,2,    14.10,2,     0.02,2,     0.96,2,    1.570,2,     1.27,2,   2165.0,2,   2296.8,2
  58GS20160802,   75N,   541,  1,      5,2,20160806,1229, 74.9982,  -0.9895, 3476,   1740.6,  -0.5650,  34.9110,2,  34.9210,2,    318.2,2,    321.3,2,     8.00,2,    13.60,2,     0.01,2,     0.96,2,    2.530,2,      1.8,2,   -999.0,9,   -999.0,9
  58GS20160802,   75N,   541,  1,      6,2,20160806,1229, 74.9982,  -0.9895, 3476,   1509.5,  -0.4990,  34.9130,2,  34.9110,2,    323.9,2,    324.1,2,     7.10,2,    13.40,2,     0.03,2,     0.91,2,    3.030,2,     2.24,2,   2170.0,2,   2296.1,2
  58GS20160802,   75N,   541,  1,      7,2,20160806,1229, 74.9982,  -0.9895, 3476,   1249.1,  -0.4040,  34.9170,2,  34.9150,2,    322.4,2,    323.0,2,     7.70,2,    13.30,2,     0.03,2,     0.90,2,    3.090,2,     2.51,2,   -999.0,9,   -999.0,9
  58GS20160802,   75N,   541,  1,      8,2,20160806,1229, 74.9982,  -0.9895, 3476,   1015.9,  -0.3110,  34.9190,2,  34.9180,2,    327.4,2,    327.3,2,     6.30,2,    13.00,2,     0.03,2,     0.87,2,    3.340,2,     2.65,2,   2167.5,2,   2297.0,2
  58GS20160802,   75N,   541,  1,      9,2,20160806,1229, 74.9982,  -0.9895, 3476,    759.2,  -0.3000,  34.9150,2,  34.9140,2,    331.1,2,    331.0,2,     6.00,2,    12.70,2,     0.03,2,     0.85,2,    3.430,2,      2.9,2,   2169.4,2,   2297.0,2
  58GS20160802,   75N,   541,  1,     10,2,20160806,1229, 74.9982,  -0.9895, 3476,    507.1,  -0.2660,  34.9140,2,  34.9130,2,    332.9,2,    332.2,2,     5.80,2,    12.60,2,     0.03,2,     0.87,2,    3.480,2,     2.86,2,   2168.6,2,   2295.5,2
  58GS20160802,   75N,   541,  1,     11,2,20160806,1229, 74.9982,  -0.9895, 3476,    399.8,  -0.2720,  34.9100,2,  34.9110,2,    331.7,2,    330.3,2,     5.90,2,    12.40,2,     0.03,2,     0.86,2,    3.490,2,      3.1,2,   2172.0,2,   2296.3,2
  58GS20160802,   75N,   541,  1,     12,2,20160806,1229, 74.9982,  -0.9895, 3476,    299.1,  -0.1910,  34.9090,2,  34.9080,2,    330.9,2,    330.0,2,     5.80,2,    12.20,2,     0.04,2,     0.82,2,    3.520,2,      3.1,2,   2168.4,2,   2296.2,2
  58GS20160802,   75N,   541,  1,     13,2,20160806,1229, 74.9982,  -0.9895, 3476,    202.8,   0.1930,  34.9250,2,  34.9250,2,    327.0,2,    325.3,2,     5.90,2,    12.70,2,     0.06,2,     0.88,2,    3.430,2,     2.84,2,   2169.5,2,   2297.0,2
  58GS20160802,   75N,   541,  1,     14,2,20160806,1229, 74.9982,  -0.9895, 3476,    152.2,   0.4080,  34.9280,2,  34.9280,2,    325.2,2,    323.6,2,     5.60,2,    12.10,2,     0.29,2,     0.83,2,    3.370,2,     2.65,2,   2169.3,2,   2297.7,2
  58GS20160802,   75N,   541,  1,     15,2,20160806,1229, 74.9982,  -0.9895, 3476,    101.8,   0.8630,  34.9420,2,  34.9420,2,    318.5,2,    317.3,2,     5.40,2,    12.10,2,     0.19,2,     0.84,2,    3.240,2,     2.78,2,   2168.8,2,   2298.3,2
  58GS20160802,   75N,   541,  1,     16,2,20160806,1229, 74.9982,  -0.9895, 3476,     75.1,   1.1590,  34.9410,2,  34.9420,2,    320.8,2,    319.1,2,     4.70,2,    11.10,2,     0.36,2,     0.77,2,    3.270,2,     2.83,2,   2170.3,2,   2300.9,2
  58GS20160802,   75N,   541,  1,     17,2,20160806,1229, 74.9982,  -0.9895, 3476,     50.8,   1.8160,  34.9520,2,  34.9560,2,    320.9,2,    325.7,3,     3.50,2,     9.20,2,     0.39,2,     0.73,2,    3.350,2,     3.22,2,   2166.7,2,   2301.2,2
  58GS20160802,   75N,   541,  1,     18,2,20160806,1229, 74.9982,  -0.9895, 3476,     30.6,   3.2850,  34.8950,2,  34.8920,2,    372.3,2,    373.0,2,     1.10,2,     0.80,2,     0.07,2,     0.24,2,    2.630,2,     3.62,2,   2089.9,2,   2308.8,2
  58GS20160802,   75N,   541,  1,     19,2,20160806,1229, 74.9982,  -0.9895, 3476,     10.1,   6.5960,  34.7580,2,  34.7580,2,    310.9,2,    312.0,2,     0.50,2,     0.10,2,     0.03,2,     0.13,2,    2.750,2,     3.07,2,   2076.8,2,      0.0,4