BOTTLE,20181001PRINUNIVRMK
EXPOCODE,SECT_ID,STNNBR,CASTNO,BTLNBR,BTLNBR_FLAG_W,DATE,TIME,LATITUDE,LONGITUDE,DEPTH,CTDPRS,CTDTMP,CTDSAL,CTDSAL_FLAG_W,SALNTY,SALNTY_FLAG_W,CTDOXY,CTDOXY_FLAG_W,OXYGEN,OXYGEN_FLAG_W,SILCAT,SILCAT_FLAG_W,NITRAT,NITRAT_FLAG_W,NITRIT,NITRIT_FLAG_W,PHSPHT,PHSPHT_FLAG_W,CFC-12,CFC-12_FLAG_W,SF6,SF6_FLAG_W,TCARBN,TCARBN_FLAG_W,ALKALI,ALKALI_FLAG_W
,,,,,,,,,,METERS,DBAR,ITS-90,PSS-78,,PSS-78,,UMOL/KG,,UMOL/KG,,UMOL/KG,,UMOL/KG,,UMOL/KG,,UMOL/KG,,PMOL/KG,,FMOL/KG,,UMOL/KG,,UMOL/KG,
  58GS20160802,   75N,   556,  1,      1,2,20160809,0035, 74.9997,  -9.2508, 3243,   3279.9,  -0.7280,  34.9130,2,  34.9130,2,    297.5,2,    297.1,2,    12.40,2,    15.20,2,     0.05,2,     1.06,2,    0.400,2,     0.57,2,   2163.2,2,   2300.7,2
  58GS20160802,   75N,   556,  1,      2,2,20160809,0035, 74.9997,  -9.2508, 3243,   3097.8,  -0.7260,  34.9140,2,  34.9130,2,    298.1,2,    297.3,2,    12.00,2,    15.00,2,     0.07,2,     1.05,2,    0.410,2,     0.37,2,   -999.0,9,   2301.2,2
  58GS20160802,   75N,   556,  1,      3,2,20160809,0035, 74.9997,  -9.2508, 3243,   3002.5,  -0.7230,  34.9150,2,  34.9170,2,    297.9,2,    297.0,2,    12.00,2,    15.00,2,     0.03,2,     1.06,2,    0.400,2,     0.47,2,   2171.2,4,   2305.7,2
  58GS20160802,   75N,   556,  1,      4,2,20160809,0035, 74.9997,  -9.2508, 3243,   2501.4,  -0.7330,  34.9140,2,  34.9140,2,    298.0,2,    297.6,2,    11.70,2,    15.00,2,     0.05,2,     1.05,2,    0.520,2,      0.5,2,   2166.5,2,   2300.8,2
  58GS20160802,   75N,   556,  1,      5,2,20160809,0035, 74.9997,  -9.2508, 3243,   2002.2,  -0.6760,  34.9130,2,  34.9130,2,    300.7,2,    300.9,2,    10.60,2,    14.70,2,     0.03,2,     1.02,2,    0.880,2,     1.03,2,   2165.8,2,   2300.7,2
  58GS20160802,   75N,   556,  1,      6,2,20160809,0035, 74.9997,  -9.2508, 3243,   1651.8,  -0.5930,  34.9100,2,  34.9080,2,    311.6,2,    313.1,2,     8.70,2,    14.10,2,     0.05,2,     0.95,2,    1.800,2,     1.29,2,   2171.4,2,   2299.3,2
  58GS20160802,   75N,   556,  1,      7,2,20160809,0035, 74.9997,  -9.2508, 3243,   1500.9,  -0.5560,  34.9090,2,  34.9100,2,    318.2,2,    320.0,2,     7.70,2,    13.70,2,     0.02,2,     0.94,2,    2.160,2,     2.19,3,   2173.0,2,   2298.5,2
  58GS20160802,   75N,   556,  1,      8,2,20160809,0035, 74.9997,  -9.2508, 3243,   1252.6,  -0.4720,  34.9120,2,  34.9130,2,    319.1,2,    321.3,2,     7.10,2,    13.70,2,     0.02,2,     0.94,2,    2.480,2,     1.98,2,   2178.4,2,   2298.0,2
  58GS20160802,   75N,   556,  1,      9,2,20160809,0035, 74.9997,  -9.2508, 3243,   1005.1,  -0.3290,  34.9170,2,  34.9160,2,    317.7,2,    320.0,2,     6.90,2,    13.50,2,     0.09,2,     0.91,2,    2.650,2,     2.01,2,   2177.1,2,   2300.3,2
  58GS20160802,   75N,   556,  1,     10,2,20160809,0035, 74.9997,  -9.2508, 3243,    754.1,  -0.1460,  34.9190,2,  34.9200,2,    324.4,2,    326.7,2,     6.10,2,    12.80,2,     0.02,2,     0.87,2,    2.830,2,     2.63,2,   2173.1,2,   2301.0,2
  58GS20160802,   75N,   556,  1,     11,2,20160809,0035, 74.9997,  -9.2508, 3243,    503.6,   0.1160,  34.9190,2,  34.9200,2,    314.4,2,    317.3,2,     6.20,2,    13.00,2,     0.02,2,     0.88,2,    2.620,2,     2.22,2,   2172.0,2,   2300.8,2
  58GS20160802,   75N,   556,  1,     12,2,20160809,0035, 74.9997,  -9.2508, 3243,    403.2,   0.3440,  34.9270,2,  34.9260,2,    314.7,2,    316.7,2,     6.00,2,    12.90,2,     0.05,2,     0.86,2,    2.690,2,     2.38,2,   2173.8,2,   2330.7,3
  58GS20160802,   75N,   556,  1,     13,2,20160809,0035, 74.9997,  -9.2508, 3243,    300.9,   0.5920,  34.9320,2,  34.9320,2,    323.2,2,    315.9,2,     5.80,2,    12.90,2,     0.09,2,     0.83,2,    2.740,2,     2.26,2,   2170.4,2,   2368.6,3
  58GS20160802,   75N,   556,  1,     14,2,20160809,0035, 74.9997,  -9.2508, 3243,    200.9,   0.9730,  34.9430,2,  34.9420,2,    319.3,2,    313.4,2,     5.70,2,    12.80,2,     0.06,2,     0.83,2,    2.710,2,     2.68,2,   2172.7,2,   2305.6,2
  58GS20160802,   75N,   556,  1,     15,2,20160809,0035, 74.9997,  -9.2508, 3243,    150.4,   1.2130,  34.9420,2,  34.9430,2,    320.6,2,    315.8,2,     5.10,2,    12.20,2,     0.35,2,     0.82,2,    2.890,2,     2.52,2,   2171.3,2,   2305.2,2
  58GS20160802,   75N,   556,  1,     16,2,20160809,0035, 74.9997,  -9.2508, 3243,    100.5,   1.9510,  34.9770,2,  34.9790,2,    315.6,2,    312.7,2,     4.80,2,    11.90,2,     0.29,2,     0.80,2,    3.000,2,     2.64,2,   2170.6,2,   2308.4,2
  58GS20160802,   75N,   556,  1,     17,2,20160809,0035, 74.9997,  -9.2508, 3243,     74.0,   2.1700,  34.9640,2,  34.9590,2,    316.9,2,    321.9,3,     3.50,2,     9.90,2,     0.31,2,     0.77,2,    2.930,2,     3.25,2,   2172.1,2,   2308.6,2
  58GS20160802,   75N,   556,  1,     18,2,20160809,0035, 74.9997,  -9.2508, 3243,     50.5,   2.9360,  34.9670,2,  34.9700,2,    329.1,2,    329.1,2,     2.60,2,     6.70,2,     0.22,2,     0.64,2,    2.980,2,     3.03,2,   2151.8,2,   2313.7,2
  58GS20160802,   75N,   556,  1,     19,2,20160809,0035, 74.9997,  -9.2508, 3243,     30.2,   4.3440,  34.8140,2,  34.8100,2,    358.7,2,    360.7,2,     1.00,2,     0.10,2,     0.06,2,     0.18,2,    3.130,2,     3.24,2,   2075.4,2,   2309.6,2
  58GS20160802,   75N,   556,  1,     20,2,20160809,0035, 74.9997,  -9.2508, 3243,     10.8,   5.6860,  33.4340,2,  33.4370,2,    313.9,2,    315.6,2,     1.00,2,     0.10,2,     0.02,2,     0.13,2,    2.880,2,     2.99,2,   2030.7,2,   2230.4,2
  58GS20160802,   75N,   559,  1,      1,2,20160809,1040, 75.0007, -11.0133, 2690,   2712.2,  -0.7620,  34.9150,2,  34.9080,2,    296.3,2,    297.2,2,    12.00,2,    15.00,2,     0.07,2,     1.11,2,    0.440,2,     0.48,2,   2162.5,2,   2303.5,2
  58GS20160802,   75N,   559,  1,      2,2,20160809,1040, 75.0007, -11.0133, 2690,   2650.1,  -0.7490,  34.9160,2,  34.9130,2,    296.9,2,    297.1,2,    11.90,2,    15.00,2,     0.03,2,     1.09,2,    0.410,2,     0.47,2,   2163.8,2,   2301.4,2
  58GS20160802,   75N,   559,  1,      3,2,20160809,1040, 75.0007, -11.0133, 2690,   2500.1,  -0.7600,  34.9140,2,  34.9150,6,    297.2,2,    297.0,6,    11.80,6,    14.90,6,     0.04,6,     1.11,6,    0.440,6,      0.5,6,   2161.9,6,   2302.9,6
  58GS20160802,   75N,   559,  1,      9,2,20160809,1040, 75.0007, -11.0133, 2690,   2000.4,  -0.7220,  34.9100,2,  34.9150,2,    298.9,2,    299.6,2,    11.10,2,    14.90,2,     0.03,2,     1.03,2,    0.700,2,     0.63,2,   2162.8,2,   2303.0,2
  58GS20160802,   75N,   559,  1,     10,2,20160809,1040, 75.0007, -11.0133, 2690,   1748.3,  -0.6490,  34.9090,2,-999.0000,9,    302.6,2,    302.5,2,    10.10,2,    14.50,2,     0.03,2,     0.99,2,    1.070,2,     0.97,2,   2162.0,2,   2302.3,2
  58GS20160802,   75N,   559,  1,     11,2,20160809,1040, 75.0007, -11.0133, 2690,   1502.3,  -0.5730,  34.9080,2,  34.9110,2,    312.6,2,    312.3,2,     8.50,2,    13.90,2,     0.01,2,     0.99,2,    1.860,2,     1.52,2,   2166.5,2,   2301.2,2
  58GS20160802,   75N,   559,  1,     12,2,20160809,1040, 75.0007, -11.0133, 2690,   1250.7,  -0.4390,  34.9110,2,  34.9120,2,    316.4,2,    315.7,2,     7.60,2,    13.70,2,     0.06,2,     0.92,2,    2.260,2,     1.84,2,   2169.3,2,   2301.8,2
  58GS20160802,   75N,   559,  1,     13,2,20160809,1040, 75.0007, -11.0133, 2690,   1001.4,  -0.2690,  34.9160,2,  34.9160,2,    317.7,2,    317.1,2,     6.80,2,    13.30,2,     0.02,2,     0.93,2,    2.540,2,        2,2,   2169.0,2,   2301.2,2
  58GS20160802,   75N,   559,  1,     14,2,20160809,1040, 75.0007, -11.0133, 2690,    751.0,  -0.0530,  34.9180,2,  34.9160,2,    316.3,2,    316.0,2,     6.40,2,    12.90,2,     0.00,2,     0.90,2,    2.470,2,      2.2,2,   2167.5,2,   2302.8,2
  58GS20160802,   75N,   559,  1,     15,2,20160809,1040, 75.0007, -11.0133, 2690,    500.8,   0.6680,  34.9350,2,  34.9310,2,    318.8,2,    318.7,2,     5.70,2,    12.30,2,     0.13,2,     0.86,2,    2.680,2,     2.65,2,   2164.4,2,   2302.4,2
  58GS20160802,   75N,   559,  1,     16,2,20160809,1040, 75.0007, -11.0133, 2690,    400.4,   1.1720,  34.9430,2,  34.9430,2,    310.6,2,    309.8,2,     5.60,2,    12.40,2,     0.07,2,     0.86,2,    2.670,2,     2.27,2,   2165.2,2,   2303.9,2
  58GS20160802,   75N,   559,  1,     17,2,20160809,1040, 75.0007, -11.0133, 2690,    300.0,   1.9630,  34.9690,2,  34.9560,2,    306.5,2,    313.1,3,     5.50,2,    12.30,2,     0.02,2,     0.82,2,    2.700,2,     2.51,2,   2162.1,2,   2304.1,2
  58GS20160802,   75N,   559,  1,     18,2,20160809,1040, 75.0007, -11.0133, 2690,    201.2,   2.8120,  35.0050,2,  35.0110,2,    306.6,2,    305.4,2,     4.80,2,    11.90,2,     0.01,2,     0.79,2,    2.520,2,     3.09,2,   2157.2,2,   2307.9,2
  58GS20160802,   75N,   559,  1,     19,2,20160809,1040, 75.0007, -11.0133, 2690,    150.2,   3.2040,  35.0270,2,  35.0300,2,    305.5,2,    305.3,2,     4.60,2,    11.60,2,     0.17,2,     0.78,2,    2.860,2,      2.8,2,   2159.1,2,   2308.4,2
  58GS20160802,   75N,   559,  1,     20,2,20160809,1040, 75.0007, -11.0133, 2690,    100.0,   3.0420,  34.9700,2,  34.9710,2,    301.2,2,    301.0,2,     4.70,2,    11.20,2,     0.26,2,     0.76,2,    2.880,2,        3,2,   2158.4,2,   2305.7,2
  58GS20160802,   75N,   559,  1,     21,2,20160809,1040, 75.0007, -11.0133, 2690,     75.4,   1.7950,  34.7350,2,  34.7300,2,    305.8,2,    304.6,2,     4.70,2,     8.80,2,     0.27,2,     0.68,2,    3.080,2,     2.81,2,   2147.8,2,   2297.4,2
  58GS20160802,   75N,   559,  1,     22,2,20160809,1040, 75.0007, -11.0133, 2690,     50.7,  -0.1790,  34.4370,2,  34.4130,2,    315.2,2,    313.6,2,     5.20,2,     8.90,2,     0.14,2,     0.68,2,    3.340,2,     2.54,2,   2146.4,2,   2282.0,2
  58GS20160802,   75N,   559,  1,     23,2,20160809,1040, 75.0007, -11.0133, 2690,     29.5,  -0.2060,  34.1980,2,  34.1730,2,    395.3,2,    394.9,2,     2.60,2,     0.20,2,     0.05,2,     0.23,2,    3.550,2,     3.36,2,   2079.9,2,   2277.7,2
  58GS20160802,   75N,   559,  1,     24,2,20160809,1040, 75.0007, -11.0133, 2690,     10.1,   3.2970,  31.0430,2,  31.0950,2,    338.8,2,    339.3,2,     1.10,2,     0.00,2,     0.01,2,     0.16,2,    3.260,2,     3.64,2,   1947.0,2,   2105.2,2
  58GS20160802,   75N,   561,  1,      1,2,20160809,1711, 74.9987, -12.0052, 1707,   1701.1,  -0.6990,  34.9140,2,  34.9140,6,    297.8,2,    298.2,6,    10.80,2,    14.70,2,     0.07,2,     0.97,2,    0.670,6,     0.59,6,   2162.8,6,   2304.0,6
  58GS20160802,   75N,   561,  1,      9,2,20160809,1711, 74.9987, -12.0052, 1707,   1551.3,  -0.5910,  34.9170,2,  34.9170,2,    300.8,2,    301.6,2,     9.90,2,    14.40,2,     0.03,2,     0.96,2,    0.930,2,     0.68,2,   2162.6,2,   2304.3,2
  58GS20160802,   75N,   561,  1,     10,2,20160809,1711, 74.9987, -12.0052, 1707,   1501.2,  -0.5490,  34.9180,2,  34.9160,2,    302.6,2,    302.0,2,     9.50,2,    14.30,2,     0.06,2,     0.92,2,    1.080,2,     0.94,2,   2162.4,2,   2305.5,2
  58GS20160802,   75N,   561,  1,     11,2,20160809,1711, 74.9987, -12.0052, 1707,   1251.0,  -0.3430,  34.9150,2,  34.9120,2,    306.4,2,    305.6,2,     7.90,2,    13.60,2,     0.03,2,     0.87,2,    1.670,2,     1.44,2,   2162.9,2,   2305.6,2
  58GS20160802,   75N,   561,  1,     12,2,20160809,1711, 74.9987, -12.0052, 1707,    999.7,  -0.0510,  34.9110,2,  34.9050,2,    309.2,2,    308.0,2,     6.80,2,    13.30,2,     0.02,2,     0.79,2,    2.070,2,     1.62,2,   2167.0,2,   2305.8,2
  58GS20160802,   75N,   561,  1,     13,2,20160809,1711, 74.9987, -12.0052, 1707,    751.2,   0.2470,  34.8960,2,  34.8970,2,    306.8,2,    305.0,2,     6.40,2,    12.90,2,     0.01,2,     0.81,2,    1.990,2,      1.5,2,   2163.8,2,   2304.6,2
  58GS20160802,   75N,   561,  1,     14,2,20160809,1711, 74.9987, -12.0052, 1707,    601.6,   0.7700,  34.9120,2,  34.9160,2,    308.2,2,    306.4,2,     6.00,2,    12.80,2,     0.05,2,     0.79,2,    2.250,2,     1.87,2,   2163.6,2,   2306.7,2
  58GS20160802,   75N,   561,  1,     15,2,20160809,1711, 74.9987, -12.0052, 1707,    501.7,   1.3740,  34.9310,2,  34.9340,2,    305.8,2,    304.4,2,     5.70,2,    12.80,2,     0.08,2,     0.76,2,    2.470,2,     1.96,2,   2161.1,2,   2308.1,2
  58GS20160802,   75N,   561,  1,     16,2,20160809,1711, 74.9987, -12.0052, 1707,    401.3,   2.3080,  34.9850,2,  34.9890,2,    308.1,2,    306.5,2,     5.00,2,    12.40,2,     0.07,2,     0.73,2,    2.660,2,     2.54,2,   2159.0,2,   2311.5,2
  58GS20160802,   75N,   561,  1,     17,2,20160809,1711, 74.9987, -12.0052, 1707,    302.2,   3.0170,  35.0450,2,  35.0360,2,    311.9,2,    317.5,3,     4.60,2,    11.90,2,     0.01,2,     0.67,2,    2.650,2,        3,2,   2158.4,2,   2315.6,2
  58GS20160802,   75N,   561,  1,     18,2,20160809,1711, 74.9987, -12.0052, 1707,    201.9,   3.1100,  35.0280,2,  35.0310,2,    305.6,2,    307.3,2,     4.70,2,    12.00,2,     0.04,2,     0.69,2,    2.660,2,     2.93,2,   2156.0,2,   2314.7,2
  58GS20160802,   75N,   561,  1,     19,2,20160809,1711, 74.9987, -12.0052, 1707,    150.4,   3.2520,  35.0230,2,  35.0230,2,    305.3,2,    306.3,2,     4.70,2,    11.70,2,     0.06,2,     0.66,2,    2.660,2,      2.7,2,   2157.9,2,   2321.5,2
  58GS20160802,   75N,   561,  1,     20,2,20160809,1711, 74.9987, -12.0052, 1707,    101.3,   1.4540,  34.6900,2,  34.6980,2,    305.7,2,    305.6,2,     5.40,2,    10.70,2,     0.28,2,     0.64,2,    2.830,2,     2.46,2,   2151.1,2,   2298.1,2
  58GS20160802,   75N,   561,  1,     21,2,20160809,1711, 74.9987, -12.0052, 1707,     74.5,  -0.3830,  34.3630,2,  34.3710,2,    317.1,2,    316.5,2,     5.40,2,     9.70,2,     0.17,2,     0.60,2,    3.110,2,     2.59,2,   2148.2,2,   2289.0,2
  58GS20160802,   75N,   561,  1,     22,2,20160809,1711, 74.9987, -12.0052, 1707,     50.7,  -1.4960,  34.1430,2,  34.1430,2,    338.2,2,    336.8,2,     4.00,2,     6.90,2,     0.15,2,     0.43,2,    3.470,2,     2.88,2,   2142.4,2,   2284.5,2
  58GS20160802,   75N,   561,  1,     23,2,20160809,1711, 74.9987, -12.0052, 1707,     29.1,  -1.5230,  33.9670,2,  33.9700,2,    356.6,2,    356.6,2,     4.00,2,     5.60,2,     0.22,2,     0.31,2,    3.390,2,     2.98,2,   2120.5,2,   2274.0,2
  58GS20160802,   75N,   561,  1,     24,2,20160809,1711, 74.9987, -12.0052, 1707,     10.1,   3.3630,  30.9630,2,  30.9480,2,    337.8,2,    337.6,2,     1.10,2,     0.00,2,     0.01,2,     0.09,2,    3.050,2,     3.36,2,   1953.1,2,   2107.2,2
  58GS20160802,   75N,   562,  1,      1,2,20160810,1211, 72.1300,  -9.9917, 2140,   2142.1,  -0.7950,  34.9170,2,  34.9180,2,    294.6,2,    296.6,2,    12.30,2,    15.10,2,     0.04,2,     1.00,2,    0.400,2,     0.17,2,   2165.6,2,   2309.8,2
  58GS20160802,   75N,   562,  1,      2,2,20160810,1211, 72.1300,  -9.9917, 2140,   2001.2,  -0.7820,  34.9170,2,  34.9160,2,    296.4,2,    298.0,2,    11.60,2,    14.90,2,     0.02,2,     0.98,2,    0.410,2,     0.34,2,   2167.7,2,   2308.6,2
  58GS20160802,   75N,   562,  1,      3,2,20160810,1211, 72.1300,  -9.9917, 2140,   1751.4,  -0.7470,  34.9160,2,  34.9160,2,    297.7,2,    298.1,2,    11.20,2,    14.90,2,     0.03,2,     0.99,2,    0.560,2,     0.29,2,   2166.0,2,   2308.5,2
  58GS20160802,   75N,   562,  1,      4,2,20160810,1211, 72.1300,  -9.9917, 2140,   1501.1,  -0.6570,  34.9160,2,  34.9150,2,    300.6,2,    301.2,2,    10.20,2,    14.50,2,     0.01,2,     0.98,2,    0.830,2,     0.74,2,   2162.5,2,   2306.6,2
  58GS20160802,   75N,   562,  1,      5,2,20160810,1211, 72.1300,  -9.9917, 2140,   1250.8,  -0.5700,  34.9130,2,  34.9130,2,    310.8,2,    310.8,2,     8.60,2,    14.00,2,     0.04,2,     0.90,2,    1.580,2,     1.19,2,   2165.3,2,   2304.5,2
  58GS20160802,   75N,   562,  1,      6,2,20160810,1211, 72.1300,  -9.9917, 2140,   1000.8,  -0.4200,  34.9140,2,  34.9140,2,    312.8,2,    312.8,2,     7.70,2,    13.50,2,     0.02,2,     0.87,2,    1.950,2,     1.42,2,   2166.2,2,   2307.5,2
  58GS20160802,   75N,   562,  1,      7,2,20160810,1211, 72.1300,  -9.9917, 2140,    751.6,  -0.2080,  34.9160,2,  34.9160,2,    312.3,2,    311.7,2,     7.10,2,    13.40,2,     0.01,2,     0.86,2,    2.120,2,     1.61,2,   2169.0,2,   2304.5,2
  58GS20160802,   75N,   562,  1,      8,2,20160810,1211, 72.1300,  -9.9917, 2140,    600.2,  -0.0310,  34.9160,2,  34.9170,2,    315.6,2,    314.6,2,     6.50,2,    13.00,2,     0.09,2,     0.82,2,    2.330,2,     1.82,2,   2168.4,2,   2304.7,2
  58GS20160802,   75N,   562,  1,      9,2,20160810,1211, 72.1300,  -9.9917, 2140,    500.3,   0.0180,  34.9090,2,  34.9090,2,    322.4,2,    321.6,2,     6.00,2,    12.80,2,     0.04,2,     0.80,2,    2.520,2,     2.18,2,   2164.9,2,   2303.6,2
  58GS20160802,   75N,   562,  1,     10,2,20160810,1211, 72.1300,  -9.9917, 2140,    399.4,  -0.0030,  34.9020,2,  34.9030,2,    330.6,2,    329.4,2,     5.60,2,    12.60,2,     0.02,2,     0.75,2,    2.720,2,     2.66,2,   2169.0,2,   2304.4,2
  58GS20160802,   75N,   562,  1,     11,2,20160810,1211, 72.1300,  -9.9917, 2140,    299.5,   0.0860,  34.9030,2,  34.9040,2,    326.0,2,    324.7,2,     5.80,2,    12.60,2,     0.05,2,     0.77,2,    2.610,2,     2.83,2,   2165.2,2,   2302.9,2
  58GS20160802,   75N,   562,  1,     12,2,20160810,1211, 72.1300,  -9.9917, 2140,    201.3,   0.2480,  34.9000,2,  34.9010,2,    329.5,2,    328.5,2,     5.60,2,    12.20,2,     0.27,2,     0.75,2,    2.470,2,     2.68,2,   2164.5,2,   2327.0,4
  58GS20160802,   75N,   562,  1,     13,2,20160810,1211, 72.1300,  -9.9917, 2140,    149.8,   0.3860,  34.8940,2,  34.8940,2,    329.1,2,    327.1,2,     5.40,2,    12.00,2,     0.37,2,     0.73,2,    2.710,2,     3.08,2,   2163.6,2,   1522.8,4
  58GS20160802,   75N,   562,  1,     14,2,20160810,1211, 72.1300,  -9.9917, 2140,     99.8,   0.8410,  34.8990,2,  34.8980,2,    318.3,2,    316.3,2,     5.10,2,    12.50,2,     0.14,2,     0.73,2,    2.640,2,     2.72,2,   2161.7,2,   2300.7,2
  58GS20160802,   75N,   562,  1,     15,2,20160810,1211, 72.1300,  -9.9917, 2140,     74.7,   1.1540,  34.9010,2,  34.8990,2,    315.1,2,    313.1,2,     4.80,2,    12.10,2,     0.36,2,     0.71,2,    2.650,2,     2.86,2,   2161.5,2,   -999.0,9
  58GS20160802,   75N,   562,  1,     16,2,20160810,1211, 72.1300,  -9.9917, 2140,     50.4,   0.9290,  34.8330,2,  34.8320,2,    324.9,2,    324.5,2,     3.00,2,     9.00,2,     0.50,2,     0.62,2,    2.830,2,      2.7,2,   2155.8,2,   3043.8,4
  58GS20160802,   75N,   562,  1,     17,2,20160810,1211, 72.1300,  -9.9917, 2140,     29.4,   3.2290,  34.7430,2,  34.7450,2,    367.2,2,    374.0,3,     0.80,2,     0.20,2,     0.08,2,     0.11,2,    2.820,2,     2.89,2,   2075.8,2,   2303.2,2
  58GS20160802,   75N,   562,  1,     18,2,20160810,1211, 72.1300,  -9.9917, 2140,      9.9,   6.2530,  34.5540,2,  34.5540,2,    310.0,2,    310.7,2,     0.80,2,     0.00,2,     0.04,2,     0.07,2,    2.410,2,     2.42,2,   2075.6,2,   2289.9,2
  58GS20160802,   75N,   563,  1,      1,2,20160810,1802, 71.5415,  -9.8383, 2340,   2343.3,  -0.7680,  34.9170,2,  34.9170,2,    296.3,2,    296.6,2,    12.30,2,    15.00,2,     0.02,2,     0.97,2,    0.430,2,     0.31,2,   2162.2,2,   2305.4,2
  58GS20160802,   75N,   563,  1,      2,2,20160810,1802, 71.5415,  -9.8383, 2340,   2000.4,  -0.7280,  34.9160,2,  34.9160,2,    298.6,2,    298.4,2,    11.20,2,    14.90,2,     0.04,2,     0.95,2,    0.600,2,     0.43,2,   2163.2,2,   2302.4,2
  58GS20160802,   75N,   563,  1,      3,2,20160810,1802, 71.5415,  -9.8383, 2340,   1750.4,  -0.6820,  34.9160,2,  34.9160,2,    299.7,2,    299.5,2,    10.70,2,    14.90,2,     0.07,2,     0.98,2,    0.750,2,     0.52,2,   2159.6,2,   2300.6,2
  58GS20160802,   75N,   563,  1,      4,2,20160810,1802, 71.5415,  -9.8383, 2340,   1499.9,  -0.6190,  34.9160,2,  34.9160,2,    303.0,2,    302.8,2,     9.90,2,    14.50,2,     0.02,2,     0.89,2,    1.060,2,     0.95,2,   2160.3,2,   2300.5,2
  58GS20160802,   75N,   563,  1,      5,2,20160810,1802, 71.5415,  -9.8383, 2340,   1250.5,  -0.4980,  34.9140,2,  34.9140,2,    307.8,2,    308.1,2,     8.70,2,    13.30,2,     0.11,2,     0.80,2,    1.630,2,     1.39,2,   2164.7,2,   2301.0,2