BOTTLE,20181001PRINUNIVRMK
EXPOCODE,SECT_ID,STNNBR,CASTNO,BTLNBR,BTLNBR_FLAG_W,DATE,TIME,LATITUDE,LONGITUDE,DEPTH,CTDPRS,CTDTMP,CTDSAL,CTDSAL_FLAG_W,SALNTY,SALNTY_FLAG_W,CTDOXY,CTDOXY_FLAG_W,OXYGEN,OXYGEN_FLAG_W,SILCAT,SILCAT_FLAG_W,NITRAT,NITRAT_FLAG_W,NITRIT,NITRIT_FLAG_W,PHSPHT,PHSPHT_FLAG_W,CFC-12,CFC-12_FLAG_W,SF6,SF6_FLAG_W,TCARBN,TCARBN_FLAG_W,ALKALI,ALKALI_FLAG_W
,,,,,,,,,,METERS,DBAR,ITS-90,PSS-78,,PSS-78,,UMOL/KG,,UMOL/KG,,UMOL/KG,,UMOL/KG,,UMOL/KG,,UMOL/KG,,PMOL/KG,,FMOL/KG,,UMOL/KG,,UMOL/KG,
  58GS20160802,   75N,   548,  1,      1,2,20160807,1844, 75.0008,  -4.9968, 3520,   3566.0,  -0.7090,  34.9130,2,  34.9140,2,    296.8,2,    297.2,2,    12.50,2,    15.00,2,     0.03,2,     1.03,2,    0.450,2,     0.49,2,   2160.7,2,   2299.1,2
  58GS20160802,   75N,   548,  1,      2,2,20160807,1844, 75.0008,  -4.9968, 3520,   3000.2,  -0.7300,  34.9150,2,  34.9150,2,    297.8,2,    297.8,2,    12.00,2,    15.10,2,     0.05,2,     1.02,2,    0.490,2,      0.5,2,   2164.2,2,   2299.1,2
  58GS20160802,   75N,   548,  1,      3,2,20160807,1844, 75.0008,  -4.9968, 3520,   2499.7,  -0.7080,  34.9140,2,  34.9130,2,    298.7,2,    298.5,2,    11.30,2,    14.90,2,     0.02,2,     0.99,2,    0.730,2,     0.62,2,   2160.1,2,   2298.3,2
  58GS20160802,   75N,   548,  1,      4,2,20160807,1844, 75.0008,  -4.9968, 3520,   2000.3,  -0.5890,  34.9100,2,  34.9100,2,    311.8,2,    311.8,2,     8.90,2,    14.00,2,     0.05,2,     0.93,2,    1.990,2,     1.31,2,   2163.5,2,   2296.4,2
  58GS20160802,   75N,   548,  1,      5,2,20160807,1844, 75.0008,  -4.9968, 3520,   1801.8,  -0.5360,  34.9100,2,  34.9090,2,    321.1,2,    321.5,2,     7.60,2,    13.60,2,     0.05,2,     0.91,2,    2.810,2,     1.96,2,   2164.8,2,   2295.2,2
  58GS20160802,   75N,   548,  1,      6,2,20160807,1844, 75.0008,  -4.9968, 3520,   1501.0,  -0.4470,  34.9130,2,  34.9140,2,    322.1,2,    322.9,2,     7.10,2,    13.40,2,     0.04,2,     0.89,2,    3.020,2,     2.43,2,   2167.4,2,   2296.8,2
  58GS20160802,   75N,   548,  1,      7,2,20160807,1844, 75.0008,  -4.9968, 3520,   1251.4,  -0.3050,  34.9180,2,  34.9180,2,    323.4,2,    323.9,2,     6.60,2,    13.30,2,     0.05,2,     0.86,2,    3.260,2,     2.46,2,   2169.8,2,   2296.9,2
  58GS20160802,   75N,   548,  1,      8,2,20160807,1844, 75.0008,  -4.9968, 3520,   1001.9,  -0.2920,  34.9150,2,  34.9150,2,    330.8,2,    331.0,2,     6.00,2,    12.80,2,     0.03,2,     0.84,2,    3.550,2,      2.6,2,   2171.5,2,   2295.6,2
  58GS20160802,   75N,   548,  1,      9,2,20160807,1844, 75.0008,  -4.9968, 3520,    751.3,  -0.2180,  34.9170,2,  34.9180,2,    331.6,2,    331.3,2,     5.90,2,    12.60,2,     0.05,2,     0.83,2,    3.560,2,        3,2,   2165.7,2,   2296.6,2
  58GS20160802,   75N,   548,  1,     10,2,20160807,1844, 75.0008,  -4.9968, 3520,    501.6,  -0.1250,  34.9200,2,  34.9210,2,    330.0,2,    329.0,2,     5.90,2,    12.70,2,     0.04,2,     0.84,2,    3.450,2,      2.6,2,   2167.7,2,   2297.4,2
  58GS20160802,   75N,   548,  1,     11,2,20160807,1844, 75.0008,  -4.9968, 3520,    401.5,   0.0110,  34.9210,2,  34.9220,2,    325.0,2,    323.6,2,     6.10,2,    12.70,2,     0.03,2,     0.84,2,    3.220,2,     2.49,2,   2166.5,2,   2295.7,2
  58GS20160802,   75N,   548,  1,     12,2,20160807,1844, 75.0008,  -4.9968, 3520,    300.1,   0.2940,  34.9300,2,  34.9300,2,    325.1,2,    324.1,2,     5.80,2,    12.60,2,     0.06,2,     0.79,2,    3.230,2,     2.68,2,   2166.1,2,   2296.9,2
  58GS20160802,   75N,   548,  1,     13,2,20160807,1844, 75.0008,  -4.9968, 3520,    201.0,   0.5850,  34.9350,2,  34.9340,2,    322.6,2,    321.0,2,     5.60,2,    12.40,2,     0.24,2,     0.79,2,    3.210,2,     2.68,2,   2166.2,2,   2298.8,2
  58GS20160802,   75N,   548,  1,     14,2,20160807,1844, 75.0008,  -4.9968, 3520,    150.9,   0.8140,  34.9420,2,  34.9190,2,    320.2,2,    318.9,2,     5.50,2,    12.10,2,     0.24,2,     0.79,2,    3.110,2,     2.82,2,   2164.3,2,   2297.9,2
  58GS20160802,   75N,   548,  1,     15,2,20160807,1844, 75.0008,  -4.9968, 3520,    100.1,   1.3640,  34.9550,2,  34.9530,2,    316.5,2,    315.2,2,     5.10,2,    11.70,2,     0.27,2,     0.78,2,    3.070,2,      2.7,2,   2165.6,2,   2301.5,2
  58GS20160802,   75N,   548,  1,     16,2,20160807,1844, 75.0008,  -4.9968, 3520,     73.5,   1.7300,  34.9670,2,  34.9660,2,    314.6,2,    313.6,2,     5.00,2,    11.90,2,     0.26,2,     0.74,2,    3.160,2,      2.8,2,   2163.4,2,   2301.6,2
  58GS20160802,   75N,   548,  1,     17,2,20160807,1844, 75.0008,  -4.9968, 3520,     50.5,   2.0870,  34.9720,2,  34.9740,2,    313.1,2,    318.9,3,     4.50,2,    10.80,2,     0.44,2,     0.66,2,    3.220,2,     3.05,2,   2165.8,2,   2301.6,2
  58GS20160802,   75N,   548,  1,     18,2,20160807,1844, 75.0008,  -4.9968, 3520,     29.6,   2.7540,  34.9710,2,  34.9720,2,    345.1,2,    347.3,2,     2.40,2,     7.30,2,     0.31,2,     0.52,2,    3.180,2,     3.06,2,   2138.5,2,   2305.3,2
  58GS20160802,   75N,   548,  1,     19,2,20160807,1844, 75.0008,  -4.9968, 3520,     10.0,   5.2300,  34.5980,2,  34.5970,2,    332.7,2,    332.0,2,     0.80,2,     0.40,2,     0.04,2,     0.30,2,    2.880,2,     3.07,2,   2074.1,2,   2288.5,2
  58GS20160802,   75N,   550,  1,      1,2,20160808,0158, 75.0000,  -5.9993, 3461,   3510.8,  -0.7140,  34.9130,2,  34.9140,2,    296.2,2,    297.6,2,    12.60,2,    15.10,2,     0.02,2,     1.13,2,    0.450,2,     0.43,2,   2156.8,2,   2305.8,2
  58GS20160802,   75N,   550,  1,      2,2,20160808,0158, 75.0000,  -5.9993, 3461,   3003.3,  -0.7290,  34.9150,2,  34.9150,2,    297.3,2,    297.8,2,    12.10,2,    15.00,2,     0.03,2,     1.07,2,    0.480,2,     0.24,2,   2156.0,2,   2298.3,2
  58GS20160802,   75N,   550,  1,      3,2,20160808,0158, 75.0000,  -5.9993, 3461,   2500.1,  -0.7380,  34.9150,2,  34.9140,2,    297.6,2,    297.6,2,    11.70,2,    15.10,2,     0.04,2,     1.07,2,    0.580,2,     0.41,2,   2154.8,2,   2297.0,2
  58GS20160802,   75N,   550,  1,      4,2,20160808,0158, 75.0000,  -5.9993, 3461,   2000.5,  -0.6840,  34.9130,2,  34.9130,2,    300.5,2,    300.3,2,    10.70,2,    14.70,2,     0.01,2,     1.07,2,    0.970,2,     0.59,2,   2155.8,2,   2297.6,2
  58GS20160802,   75N,   550,  1,      5,2,20160808,0158, 75.0000,  -5.9993, 3461,   1750.4,  -0.6180,  34.9120,2,  34.9110,2,    307.1,2,    307.1,2,     9.60,2,    14.40,2,     0.02,2,     1.00,2,    1.610,2,     1.04,2,   2157.5,2,   2294.2,2
  58GS20160802,   75N,   550,  1,      6,2,20160808,0158, 75.0000,  -5.9993, 3461,   1498.1,  -0.5610,  34.9100,2,  34.9100,2,    318.3,2,    319.3,2,     8.00,2,    13.80,2,     0.05,2,     0.94,2,    2.600,2,     1.71,2,   2158.0,2,   2296.2,2
  58GS20160802,   75N,   550,  1,      7,2,20160808,0158, 75.0000,  -5.9993, 3461,   1251.8,  -0.4980,  34.9120,2,  34.9120,2,    323.0,2,    322.8,2,     7.20,2,    13.70,2,     0.05,2,     0.94,2,    3.030,2,     2.36,2,   2160.8,2,   2295.6,2
  58GS20160802,   75N,   550,  1,      8,2,20160808,0158, 75.0000,  -5.9993, 3461,   1000.4,  -0.3870,  34.9160,2,  34.9160,2,    321.2,2,    320.7,2,     7.00,2,    13.70,2,     0.04,2,     0.94,2,    3.090,2,     2.01,2,   2162.8,2,   2296.9,2
  58GS20160802,   75N,   550,  1,      9,2,20160808,0158, 75.0000,  -5.9993, 3461,    751.2,  -0.2860,  34.9170,2,  34.9170,2,    320.0,2,    319.5,2,     6.90,2,    13.50,2,     0.06,2,     0.93,2,    3.050,2,     1.94,2,   2162.8,2,   2297.1,2
  58GS20160802,   75N,   550,  1,     10,2,20160808,0158, 75.0000,  -5.9993, 3461,    500.8,  -0.1520,  34.9190,2,  34.9200,2,    328.2,2,    327.0,2,     6.10,2,    13.00,2,     0.02,2,     0.92,2,    3.420,2,     2.59,2,   2159.9,2,   2300.0,2
  58GS20160802,   75N,   550,  1,     11,2,20160808,0158, 75.0000,  -5.9993, 3461,    400.5,  -0.0730,  34.9200,2,  34.9210,2,    325.4,2,    324.0,2,     6.20,2,    13.00,2,     0.06,2,     0.89,2,    3.310,2,     2.47,2,   2164.3,2,   2298.6,2
  58GS20160802,   75N,   550,  1,     12,2,20160808,0158, 75.0000,  -5.9993, 3461,    299.8,   0.1430,  34.9270,2,  34.9280,2,    323.8,2,    322.5,2,     6.10,2,    13.10,2,     0.06,2,     0.89,2,    3.160,2,     2.62,2,   2162.6,2,   2298.9,2
  58GS20160802,   75N,   550,  1,     13,2,20160808,0158, 75.0000,  -5.9993, 3461,    200.4,   0.3590,  34.9260,2,  34.9260,2,    326.6,2,    324.8,2,     5.70,2,    12.30,2,     0.31,2,     0.85,2,    3.400,2,     2.61,2,   2162.0,2,   2302.4,2
  58GS20160802,   75N,   550,  1,     14,2,20160808,0158, 75.0000,  -5.9993, 3461,    149.8,   0.6740,  34.9390,2,  34.9390,2,    323.2,2,    321.7,2,     5.50,2,    12.30,2,     0.25,2,     0.85,2,    3.360,2,     2.42,2,   2160.1,2,   2299.9,2
  58GS20160802,   75N,   550,  1,     15,2,20160808,0158, 75.0000,  -5.9993, 3461,    100.7,   0.9290,  34.9380,2,  34.9380,2,    321.9,2,    320.1,2,     5.00,2,    11.70,2,     0.37,2,     0.85,2,    3.350,2,     2.71,2,   2158.1,2,   2302.7,2
  58GS20160802,   75N,   550,  1,     16,2,20160808,0158, 75.0000,  -5.9993, 3461,     74.6,   0.9460,  34.9150,2,  34.9150,2,    331.2,2,    329.6,2,     3.30,2,     9.20,2,     0.16,2,     0.87,2,    3.440,2,     3.24,2,   2163.2,2,   1510.7,4
  58GS20160802,   75N,   550,  1,     17,2,20160808,0158, 75.0000,  -5.9993, 3461,     50.4,   2.1510,  34.9630,2,  34.9600,2,    325.2,2,    331.0,3,     3.10,2,     8.70,2,     0.32,2,     0.79,2,    3.250,2,     2.96,2,   2095.3,2,   2308.8,2
  58GS20160802,   75N,   550,  1,     18,2,20160808,0158, 75.0000,  -5.9993, 3461,     19.0,   4.5160,  34.7940,2,  34.7980,2,    367.6,2,    370.6,2,     0.90,2,     0.00,2,     0.05,2,     0.17,2,    3.320,2,     2.92,2,   2065.7,2,   2307.1,2
  58GS20160802,   75N,   550,  1,     19,2,20160808,0158, 75.0000,  -5.9993, 3461,     10.3,   6.2470,  34.4930,2,  34.4920,2,    309.8,2,    310.1,2,     0.70,2,     0.00,2,     0.04,2,     0.14,2,    2.710,2,     3.02,2,   2066.2,2,   2287.6,2
  58GS20160802,   75N,   552,  1,      1,2,20160808,0911, 74.9985,  -6.9982, 3400,   3443.3,  -0.7170,  34.9130,2,  34.9130,2,    297.5,2,    297.4,2,    12.50,2,    15.20,2,     0.07,2,     1.04,2,    0.430,2,     0.38,2,   2161.5,2,   2303.6,2
  58GS20160802,   75N,   552,  1,      2,2,20160808,0911, 74.9985,  -6.9982, 3400,   2999.3,  -0.7310,  34.9150,2,  34.9150,2,    298.3,2,    298.0,2,    12.00,2,    15.20,2,     0.03,2,     1.03,2,    0.420,2,     0.63,2,   2158.6,2,   2302.2,2
  58GS20160802,   75N,   552,  1,      3,2,20160808,0911, 74.9985,  -6.9982, 3400,   2499.9,  -0.7210,  34.9130,2,  34.9140,2,    298.8,2,    297.9,2,    11.50,2,    15.00,2,     0.03,2,     1.03,2,    0.630,2,     0.46,2,   2162.2,2,   2303.8,2
  58GS20160802,   75N,   552,  1,      4,2,20160808,0911, 74.9985,  -6.9982, 3400,   2000.1,  -0.6140,  34.9110,2,  34.9110,2,    306.4,2,    306.1,2,     9.70,2,    14.40,2,     0.02,2,     1.00,2,    1.450,2,     1.05,2,   2162.5,2,   2301.9,2
  58GS20160802,   75N,   552,  1,      5,2,20160808,0911, 74.9985,  -6.9982, 3400,   1749.7,  -0.5560,  34.9090,2,  34.9090,2,    318.0,2,    318.0,2,     8.00,2,    13.90,2,     0.04,2,     0.91,2,    2.450,2,     1.88,2,   2165.5,2,   2300.2,2
  58GS20160802,   75N,   552,  1,      6,2,20160808,0911, 74.9985,  -6.9982, 3400,   1499.5,  -0.4780,  34.9110,2,  34.9100,2,    321.5,2,    322.5,2,     7.30,2,    13.70,2,     0.07,2,     0.89,2,    2.750,2,     2.03,2,   2166.8,2,   2300.0,2
  58GS20160802,   75N,   552,  1,      7,2,20160808,0911, 74.9985,  -6.9982, 3400,   1250.6,  -0.3290,  34.9170,2,  34.9170,2,    320.9,2,    321.2,2,     6.90,2,    13.60,2,     0.04,2,     0.88,2,    2.870,2,     2.18,2,   2166.8,2,   2300.0,2
  58GS20160802,   75N,   552,  1,      8,2,20160808,0911, 74.9985,  -6.9982, 3400,    999.8,  -0.3010,  34.9160,2,  34.9170,2,    332.2,2,    332.6,2,     6.00,2,    12.90,2,     0.03,2,     0.82,2,    3.330,2,     2.76,2,   2168.2,2,   2301.4,2
  58GS20160802,   75N,   552,  1,      9,2,20160808,0911, 74.9985,  -6.9982, 3400,    750.5,  -0.2660,  34.9170,2,  34.9180,2,    329.0,2,    329.4,2,     6.10,2,    12.90,2,     0.03,2,     0.85,2,    3.190,2,     2.68,2,   2170.7,2,   2301.4,2
  58GS20160802,   75N,   552,  1,     10,2,20160808,0911, 74.9985,  -6.9982, 3400,    498.6,  -0.1460,  34.9190,2,  34.9170,2,    328.6,2,    328.4,2,     6.00,2,    12.90,2,     0.04,2,     0.85,2,    3.160,2,     2.63,2,   2166.3,2,   2301.8,2
  58GS20160802,   75N,   552,  1,     11,2,20160808,0911, 74.9985,  -6.9982, 3400,    400.0,  -0.0310,  34.9220,2,  34.9210,2,    325.1,2,    324.4,2,     6.10,2,    13.00,2,     0.06,2,     0.86,2,    3.030,2,     2.53,2,   2168.5,2,   2302.4,2
  58GS20160802,   75N,   552,  1,     12,2,20160808,0911, 74.9985,  -6.9982, 3400,    299.8,   0.2160,  34.9250,2,  34.9230,2,    323.1,2,    323.1,2,     5.90,2,    12.70,2,     0.04,2,     0.85,2,    3.070,2,     2.63,2,   2164.7,2,   2304.9,2
  58GS20160802,   75N,   552,  1,     13,2,20160808,0911, 74.9985,  -6.9982, 3400,    200.3,   0.5690,  34.9310,2,  34.9310,2,    320.1,2,    319.7,2,     5.60,2,    12.30,2,     0.26,2,     0.82,2,    2.860,2,     3.15,2,   2164.8,2,   2300.8,2
  58GS20160802,   75N,   552,  1,     14,2,20160808,0911, 74.9985,  -6.9982, 3400,    150.0,   0.7610,  34.9280,2,  34.9270,2,    321.0,2,    320.6,2,     5.20,2,    11.80,2,     0.28,2,     0.79,2,    3.010,2,      2.8,2,   2164.1,2,   2303.5,2
  58GS20160802,   75N,   552,  1,     15,2,20160808,0911, 74.9985,  -6.9982, 3400,    100.2,   1.1960,  34.9310,2,  34.9340,2,    320.1,2,    318.8,2,     4.60,2,    11.10,2,     0.31,2,     0.78,2,    2.820,2,     3.25,2,   2163.7,2,   2304.6,2
  58GS20160802,   75N,   552,  1,     16,2,20160808,0911, 74.9985,  -6.9982, 3400,     75.1,   1.6820,  34.9480,2,  34.9510,2,    317.0,2,    316.6,2,     3.90,2,    10.10,2,     0.41,2,     0.78,2,    3.170,2,     3.15,2,   2168.1,2,   2306.7,2
  58GS20160802,   75N,   552,  1,     17,2,20160808,0911, 74.9985,  -6.9982, 3400,     47.1,   2.7320,  34.9750,2,  34.9800,2,    329.0,2,    336.5,3,     3.00,2,     8.20,2,     0.38,2,     0.69,2,    3.230,2,     2.99,2,   2147.0,2,   2310.3,2
  58GS20160802,   75N,   552,  1,     18,2,20160808,0911, 74.9985,  -6.9982, 3400,     30.2,   4.3440,  34.7750,2,  34.7510,2,    373.6,2,    368.5,2,     1.10,2,     0.10,2,     0.01,2,     0.18,2,    3.000,2,     3.19,2,   2065.6,2,   2301.6,2
  58GS20160802,   75N,   552,  1,     19,2,20160808,0911, 74.9985,  -6.9982, 3400,      8.7,   5.5810,  33.9220,2,  33.9390,2,    319.5,2,    321.0,2,     1.40,2,     0.00,2,     0.07,2,     0.17,2,    2.920,2,     3.02,2,   2044.4,2,   2256.3,2
  58GS20160802,   75N,   554,  1,      1,2,20160808,1635, 74.9997,  -8.0027, 3332,   3365.9,  -0.7250,  34.9140,2,  34.9130,2,    295.9,2,    297.3,2,    12.70,2,    15.20,2,     0.05,2,     1.07,2,    0.430,2,     0.27,2,   2163.3,2,   2311.0,2
  58GS20160802,   75N,   554,  1,      2,2,20160808,1635, 74.9997,  -8.0027, 3332,   3201.2,  -0.7270,  34.9150,2,  34.9150,2,    297.1,2,    297.7,2,    12.20,2,    15.10,2,     0.05,2,     1.05,2, -999.000,9,     -999,9,   2161.7,2,   2301.0,2
  58GS20160802,   75N,   554,  1,      3,2,20160808,1635, 74.9997,  -8.0027, 3332,   2999.7,  -0.7290,  34.9150,2,  34.9160,2,    297.4,2,    297.7,2,    12.00,2,    15.10,2,     0.05,2,     1.04,2,    0.430,2,     0.29,2,   2164.2,2,   2300.9,2
  58GS20160802,   75N,   554,  1,      4,2,20160808,1635, 74.9997,  -8.0027, 3332,   2499.9,  -0.7240,  34.9140,2,  34.9140,2,    298.1,2,    297.6,2,    11.50,2,    15.00,2,     0.06,2,     1.04,2,    0.580,2,      0.4,2,   2161.8,2,   2297.8,2
  58GS20160802,   75N,   554,  1,      5,2,20160808,1635, 74.9997,  -8.0027, 3332,   2001.1,  -0.6370,  34.9120,2,  34.9120,2,    303.6,2,    303.6,2,    10.00,2,    14.60,2,     0.05,2,     1.02,2,    1.240,2,     0.77,2,   2166.1,2,   2300.7,2
  58GS20160802,   75N,   554,  1,      6,2,20160808,1635, 74.9997,  -8.0027, 3332,   1750.7,  -0.5750,  34.9100,2,  34.9080,2,    313.9,2,    314.6,2,     8.40,2,    14.00,2,     0.08,2,     0.97,2,    1.900,2,     1.73,2,   2163.2,2,   2299.5,2
  58GS20160802,   75N,   554,  1,      7,2,20160808,1635, 74.9997,  -8.0027, 3332,   1499.7,  -0.5050,  34.9110,2,  34.9120,2,    321.8,2,    321.7,2,     7.30,2,    13.70,2,     0.06,2,     0.92,2,    2.670,2,     1.81,2,   2164.4,2,   2298.4,2
  58GS20160802,   75N,   554,  1,      8,2,20160808,1635, 74.9997,  -8.0027, 3332,   1250.4,  -0.4130,  34.9140,2,  34.9150,2,    319.4,2,    319.3,2,     7.20,2,    13.70,2,     0.05,2,     0.91,2,    2.420,2,      1.8,2,   2165.6,2,   2300.8,2
  58GS20160802,   75N,   554,  1,      9,2,20160808,1635, 74.9997,  -8.0027, 3332,   1000.5,  -0.2920,  34.9170,2,  34.9170,2,    324.2,2,    324.0,2,     6.50,2,    13.30,2,     0.06,2,     0.87,2,    2.600,2,     2.06,2,   2170.9,2,   2298.5,2
  58GS20160802,   75N,   554,  1,     10,2,20160808,1635, 74.9997,  -8.0027, 3332,    751.5,  -0.1890,  34.9180,2,  34.9190,2,    326.1,2,    324.9,2,     6.30,2,    13.20,2,     0.06,2,     0.85,2,    2.740,2,     2.22,2,   2166.1,2,   2299.4,2
  58GS20160802,   75N,   554,  1,     11,2,20160808,1635, 74.9997,  -8.0027, 3332,    501.1,  -0.0080,  34.9180,2,  34.9180,2,    323.1,2,    321.7,2,     6.20,2,    12.90,2,     0.04,2,     0.84,2,    2.660,2,     2.07,2,   2166.6,2,   2297.8,2
  58GS20160802,   75N,   554,  1,     12,2,20160808,1635, 74.9997,  -8.0027, 3332,    400.9,   0.1590,  34.9190,2,  34.9190,2,    322.3,2,    321.2,2,     6.00,2,    12.90,2,     0.06,2,     0.82,2,    3.020,2,     2.27,2,   2165.3,2,   2298.4,2
  58GS20160802,   75N,   554,  1,     13,2,20160808,1635, 74.9997,  -8.0027, 3332,    299.5,   0.3880,  34.9210,2,  34.9200,2,    322.4,2,    320.9,2,     5.70,2,    12.60,2,     0.18,2,     0.81,2,    3.060,2,     2.22,2,   2168.0,2,   2298.2,2
  58GS20160802,   75N,   554,  1,     14,2,20160808,1635, 74.9997,  -8.0027, 3332,    200.1,   0.8050,  34.9300,2,  34.9300,2,    319.2,2,    317.7,2,     5.30,2,    12.20,2,     0.32,2,     0.78,2,    3.070,2,      2.5,2,   2161.8,2,   2300.5,2
  58GS20160802,   75N,   554,  1,     15,2,20160808,1635, 74.9997,  -8.0027, 3332,    150.5,   1.4210,  34.9540,2,  34.9550,2,    315.0,2,    313.5,2,     5.20,2,    12.20,2,     0.20,2,     0.77,2,    3.070,2,     2.37,2,   2159.5,2,   2303.0,2
  58GS20160802,   75N,   554,  1,     16,2,20160808,1635, 74.9997,  -8.0027, 3332,     99.9,   1.5500,  34.9200,2,  34.9230,2,    315.0,2,    313.5,2,     4.30,2,    11.00,2,     0.44,2,     0.76,2,    3.200,2,     2.73,2,   2161.0,2,   2301.6,2
  58GS20160802,   75N,   554,  1,     17,2,20160808,1635, 74.9997,  -8.0027, 3332,     72.9,   1.7680,  34.9140,2,  34.9140,2,    316.4,2,    321.6,3,     3.40,2,    10.30,2,     0.41,2,     0.74,2,    3.260,2,     2.69,2,   2158.8,2,   2302.4,2
  58GS20160802,   75N,   554,  1,     18,2,20160808,1635, 74.9997,  -8.0027, 3332,     51.4,   2.4730,  34.9580,2,  34.9550,2,    318.5,2,    318.1,2,     3.40,2,     9.30,2,     0.36,2,     0.72,2,    3.190,2,     2.78,2,   2159.2,2,   2307.6,2
  58GS20160802,   75N,   554,  1,     19,2,20160808,1635, 74.9997,  -8.0027, 3332,     29.6,   3.0520,  34.8110,2,  34.8130,2,    400.1,2,    403.0,2,     1.90,2,     0.10,2,     0.02,2,     0.22,2,    3.280,2,     2.78,2,   2133.5,2,   2307.0,2