BOTTLE,20181001PRINUNIVRMK
# 06/29/18 Initialised README file 
# Source: final revised from Emil Jeansson 6/26/18 
# SHIP: G.O. Sars 
# Region: Greenland Sea and Iceland Sea; 75N 
# EXPOCODE: 58GS20160802  
# DATES: 20160802 - 20160812  
# Chief Scientists: Emil Jeansson (Cruise leader: Are Olsen)  
# 38 stations with 12 place Rosette. 21 with chemistry sampling, the remaining CTD profiling only. 
#  	Note that the ship gives a new station number to every CTD cast even when they are at the same position  
# Time extracted from CTD data files 
#  CTD Sal: Who Ailin Brakstad, Status - final  
#  	Notes: The calibration procedure followed the GO-SHIP manual (McTaggart et al., 2010) 
#  CTD Oxy: Who Ailin Brakstad , Status - final  
#  	Notes: The calibration procedure followed the GO-SHIP manual (Uchida et al., 2010).  
# 	Raw data in ml/l. Converted to umol/kg by multiplying with 44.66 and dividing by 1.028 
# Oxygen: Who: Kristin Jackson, Status: final  
# 	Notes: All values from bottle #17 deemed questionable and flagged 3 
# Nutrients: Who Linda Fonnes (IMR), Status: final  
# 	Notes: Sampled onboard, poisoned with chloroform, refrigerated, analysed on land.  Raw data in umol/l.  
# 	Data converted to umol/kg by dividing with 1.028. 
# TCO2: Who Siv K. Lauvset , Status: final  
# 	Notes: We used the measured ctdsal when analysing TCO2 onboard and  
# 	have not corrected the measurements with the bottle salinities. 
# TA: Who Siv K. Lauvset , Status: final  
#  	Notes: See TCO2 
# CFC/SF6: Who Emil Jeansson , Status: final  
#  	Notes:  Raw data in pmol/l (CFC12) or fmol/l (SF6). Data converted to gravimetric units (mol/kg) by dividing with 1.028. 
# C13: Who Yanchun He, Tore Onarheim (water sampling), Are Olsen, Status: final  
# 	Notes: Sampled onboard, poisoned with HgCl2, analysed on land " 
EXPOCODE,SECT_ID,STNNBR,CASTNO,BTLNBR,BTLNBR_FLAG_W,DATE,TIME,LATITUDE,LONGITUDE,DEPTH,CTDPRS,CTDTMP,CTDSAL,CTDSAL_FLAG_W,SALNTY,SALNTY_FLAG_W,CTDOXY,CTDOXY_FLAG_W,OXYGEN,OXYGEN_FLAG_W,SILCAT,SILCAT_FLAG_W,NITRAT,NITRAT_FLAG_W,NITRIT,NITRIT_FLAG_W,PHSPHT,PHSPHT_FLAG_W,CFC-12,CFC-12_FLAG_W,SF6,SF6_FLAG_W,TCARBN,TCARBN_FLAG_W,ALKALI,ALKALI_FLAG_W
,,,,,,,,,,METERS,DBAR,ITS-90,PSS-78,,PSS-78,,UMOL/KG,,UMOL/KG,,UMOL/KG,,UMOL/KG,,UMOL/KG,,UMOL/KG,,PMOL/KG,,FMOL/KG,,UMOL/KG,,UMOL/KG,
  58GS20160802,   75N,   527,  1,      1,2,20160804,1018, 75.0002,   5.9993, 2854,   2853.9,  -0.7200,  34.9150,2,  34.9150,2,    296.8,2,    298.5,2,    12.20,2,    14.60,2,     0.06,2,     1.05,2,    0.570,2,     0.95,2,   2166.7,2,   2299.9,2
  58GS20160802,   75N,   527,  1,      2,2,20160804,1018, 75.0002,   5.9993, 2854,   2499.9,  -0.7250,  34.9140,2,  34.9150,2,    297.8,2,    297.5,2,    11.90,2,    14.60,2,     0.05,2,     1.04,2,    0.690,2,     0.92,2,   2162.0,2,   2298.6,2
  58GS20160802,   75N,   527,  1,      3,2,20160804,1018, 75.0002,   5.9993, 2854,   2002.7,  -0.7010,  34.9140,2,  34.9130,2,    299.8,2,    299.3,2,    11.10,2,    14.40,2,     0.04,2,     1.02,2,    0.940,2,     0.97,2,   2158.3,2,   2299.2,2
  58GS20160802,   75N,   527,  1,      4,2,20160804,1018, 75.0002,   5.9993, 2854,   1500.7,  -0.5750,  34.9090,2,  34.9100,2,    316.0,2,    316.0,2,     8.30,2,    13.50,2,     0.05,2,     0.95,2,    2.210,2,     2.58,2,   2176.9,2,   2298.0,2
  58GS20160802,   75N,   527,  1,      5,2,20160804,1018, 75.0002,   5.9993, 2854,   1001.2,  -0.3530,  34.9170,2,  34.9150,2,    319.8,2,    319.4,2,     7.20,2,    13.20,2,     0.03,2,     0.91,2,    2.910,2,     2.86,2,   2170.0,2,   1539.8,4
  58GS20160802,   75N,   527,  1,      6,2,20160804,1018, 75.0002,   5.9993, 2854,    749.2,  -0.2960,  34.9130,2,  34.9140,2,    327.2,2,    327.1,2,     6.30,2,    12.60,2,     0.04,2,     0.87,2,    3.280,2,     3.19,2,   2173.8,2,   2296.6,2
  58GS20160802,   75N,   527,  1,      7,2,20160804,1018, 75.0002,   5.9993, 2854,    498.9,  -0.2000,  34.9110,2,  34.9110,2,    329.3,2,    328.6,2,     6.10,2,    12.40,2,     0.06,2,     0.86,2,    3.420,2,     3.31,2,   2174.0,2,   2296.2,2
  58GS20160802,   75N,   527,  1,      8,2,20160804,1018, 75.0002,   5.9993, 2854,    399.0,  -0.1520,  34.9100,2,  34.9100,2,    330.6,2,    330.6,2,     6.00,2,    12.40,2,     0.08,2,     0.85,2,    2.330,3,     3.39,2,   -999.0,9,   -999.0,9
  58GS20160802,   75N,   527,  1,      9,2,20160804,1018, 75.0002,   5.9993, 2854,    299.0,  -0.0350,  34.9100,2,  34.9090,2,    324.6,2,    324.3,2,     6.20,2,    12.50,2,     0.05,2,     0.85,2,    3.170,2,     3.24,2,   2164.7,2,   2296.2,2
  58GS20160802,   75N,   527,  1,     10,2,20160804,1018, 75.0002,   5.9993, 2854,    199.1,   0.2930,  34.9170,2,  34.9170,2,    321.0,2,    320.1,2,     6.00,2,    12.60,2,     0.06,2,     0.86,2,    3.010,2,      3.2,2,   -999.0,9,   -999.0,9
  58GS20160802,   75N,   527,  1,     11,2,20160804,1018, 75.0002,   5.9993, 2854,    149.2,   0.7210,  34.9310,2,  34.9330,2,    317.3,2,    316.1,2,     5.80,2,    12.80,2,     0.07,2,     0.84,2,    3.390,2,     3.14,2,   2166.9,2,   2297.8,2
  58GS20160802,   75N,   527,  1,     12,2,20160804,1018, 75.0002,   5.9993, 2854,     99.8,   1.5950,  34.9760,2,  34.9750,2,    314.8,2,    314.3,2,     5.10,2,    12.60,2,     0.08,2,     0.82,2,    3.210,2,     3.47,2,   2165.4,2,   2301.7,2
  58GS20160802,   75N,   527,  1,     13,2,20160804,1018, 75.0002,   5.9993, 2854,     73.1,   2.3630,  35.0090,2,  35.0070,2,    311.2,2,    311.0,2,     4.50,2,    12.20,2,     0.11,2,     0.77,2,    3.470,2,     3.52,2,   2167.9,2,   2300.8,2
  58GS20160802,   75N,   527,  1,     14,2,20160804,1018, 75.0002,   5.9993, 2854,     51.2,   3.2920,  35.0270,2,  35.0270,2,    317.6,2,    318.1,2,     2.30,2,     8.40,2,     0.51,2,     0.58,2,    3.590,2,      3.6,2,   2148.5,2,   2307.7,2
  58GS20160802,   75N,   527,  1,     15,2,20160804,1018, 75.0002,   5.9993, 2854,     30.2,   5.5390,  35.0350,2,  35.0370,2,    330.4,2,    330.8,2,     1.20,2,     3.40,2,     0.12,2,     0.34,2,    2.250,2,     3.55,2,   -999.0,9,   -999.0,9
  58GS20160802,   75N,   527,  1,     16,2,20160804,1018, 75.0002,   5.9993, 2854,     10.5,   7.9420,  35.0050,2,  35.0040,2,    307.8,2,    310.5,2,     0.50,2,     0.80,2,     0.08,2,     0.19,2, -999.000,9,     -999,9,   2087.0,2,   2308.3,2
  58GS20160802,   75N,   529,  1,      1,2,20160804,1709, 75.0007,   4.9985, 3069,   3109.7,  -0.7130,  34.9140,2,  34.9140,2,    304.6,3,    297.1,2,    12.30,2,    14.60,2,     0.04,2,     1.05,2,    0.530,2,     0.81,2,   2156.1,2,   2299.9,2
  58GS20160802,   75N,   529,  1,      2,2,20160804,1709, 75.0007,   4.9985, 3069,   2499.7,  -0.7360,  34.9150,2,  34.9140,2,    296.2,3,    297.5,2,    12.00,2,    14.60,2,     0.04,2,     1.03,2,    0.570,2,     0.99,2,   2167.0,2,   2296.9,2
  58GS20160802,   75N,   529,  1,      3,2,20160804,1709, 75.0007,   4.9985, 3069,   1998.5,  -0.6970,  34.9130,2,  34.9130,2,    295.4,3,    299.5,2,    11.10,2,    14.30,2,     0.06,2,     1.00,2,    0.970,2,     1.02,2,   2168.3,2,   2297.1,2
  58GS20160802,   75N,   529,  1,      4,2,20160804,1709, 75.0007,   4.9985, 3069,   1500.9,  -0.5740,  34.9100,2,  34.9100,2,    311.7,3,    316.0,2,     8.40,2,    13.50,2,     0.05,2,     0.93,2,    2.390,2,     2.13,2,   2178.9,2,   2296.8,2
  58GS20160802,   75N,   529,  1,      5,2,20160804,1709, 75.0007,   4.9985, 3069,   1000.7,  -0.3140,  34.9180,2,  34.9180,2,    317.8,3,    320.4,2,     7.10,2,    13.10,2,     0.04,2,     0.90,2,    3.360,2,     2.51,2,   2179.4,2,   2295.5,2
  58GS20160802,   75N,   529,  1,      6,2,20160804,1709, 75.0007,   4.9985, 3069,    750.4,  -0.2850,  34.9120,2,  34.9130,2,    327.4,3,    328.8,2,     6.20,2,    12.50,2,     0.05,2,     0.85,2,    3.830,2,     3.29,2,   2169.9,2,   2295.6,2
  58GS20160802,   75N,   529,  1,      7,2,20160804,1709, 75.0007,   4.9985, 3069,    501.1,  -0.1820,  34.9100,2,  34.9100,2,    327.8,3,    328.0,2,     6.10,2,    12.40,2,     0.07,2,     0.84,2,    3.760,2,     3.32,2,   2175.1,2,   2294.8,2
  58GS20160802,   75N,   529,  1,      8,2,20160804,1709, 75.0007,   4.9985, 3069,    400.4,  -0.1070,  34.9100,2,  34.9100,2,    328.4,3,    328.6,2,     6.00,2,    12.30,2,     0.06,2,     0.84,2,    3.830,2,     3.22,2,   2183.4,2,   2296.0,2
  58GS20160802,   75N,   529,  1,      9,2,20160804,1709, 75.0007,   4.9985, 3069,    300.7,   0.0550,  34.9110,2,  34.9120,2,    324.6,3,    324.3,2,     6.10,2,    12.50,2,     0.08,2,     0.84,2,    3.630,2,     3.09,2,   2180.7,2,   2295.7,2
  58GS20160802,   75N,   529,  1,     10,2,20160804,1709, 75.0007,   4.9985, 3069,    200.1,   0.7290,  34.9290,2,  34.9280,2,    316.0,3,    315.6,2,     5.90,2,    12.80,2,     0.07,2,     0.85,2,    3.900,2,     2.93,2,   2182.4,2,   2297.1,2
  58GS20160802,   75N,   529,  1,     11,2,20160804,1709, 75.0007,   4.9985, 3069,    150.4,   1.6450,  34.9770,2,  34.9750,2,    313.8,3,    313.0,2,     5.50,2,    12.50,2,     0.07,2,     0.82,2,    3.940,2,     3.15,2,   2184.4,2,   2299.8,2
  58GS20160802,   75N,   529,  1,     12,2,20160804,1709, 75.0007,   4.9985, 3069,    101.0,   2.7620,  35.0260,2,  35.0260,2,    307.5,3,    306.6,2,     5.10,2,    12.40,2,     0.05,2,     0.80,2,    3.710,2,     3.14,2,   2173.9,2,   2303.2,2
  58GS20160802,   75N,   529,  1,     13,2,20160804,1709, 75.0007,   4.9985, 3069,     74.7,   3.4870,  35.0580,2,  35.0560,2,    304.9,3,    304.2,2,     5.00,2,    12.20,2,     0.04,2,     0.77,2,    3.700,2,     3.11,2,   2174.2,2,   2304.8,2
  58GS20160802,   75N,   529,  1,     14,2,20160804,1709, 75.0007,   4.9985, 3069,     49.7,   4.3300,  35.0960,2,  35.0960,2,    303.1,3,    302.4,2,     4.70,2,    11.50,2,     0.11,2,     0.70,2,    3.680,2,     3.29,2,   2165.8,2,   2308.4,2
  58GS20160802,   75N,   529,  1,     15,2,20160804,1709, 75.0007,   4.9985, 3069,     30.3,   5.1280,  35.0640,2,  35.0670,2,    325.2,3,    323.5,2,     2.10,2,     4.80,2,     0.16,2,     0.43,2,    3.740,2,     3.33,2,   2129.6,2,   2311.2,2
  58GS20160802,   75N,   529,  1,     16,2,20160804,1709, 75.0007,   4.9985, 3069,      9.8,   8.1250,  35.0350,2,  35.0340,2,    307.9,3,    307.1,2,     0.50,2,     0.90,2,     0.08,2,     0.21,2,    3.340,2,     2.81,2,   2091.6,2,   2311.6,2
  58GS20160802,   75N,   531,  1,      1,2,20160804,2359, 75.0002,   3.9997, 3008,   3031.1,  -0.7290,  34.9150,2,  34.9150,2,    308.7,2,    297.2,2,    12.50,2,    14.70,2,     0.09,2,     1.03,2,    0.420,2,     0.56,2,   2157.0,4,   2298.2,2
  58GS20160802,   75N,   531,  1,      2,2,20160804,2359, 75.0002,   3.9997, 3008,   2499.1,  -0.7290,  34.9150,2,  34.9160,2,    297.5,2,    297.9,2,    11.80,2,    14.60,2,     0.05,2,     1.01,2,    0.590,2,      0.6,2,   2168.6,4,   2297.8,2
  58GS20160802,   75N,   531,  1,      3,2,20160804,2359, 75.0002,   3.9997, 3008,   2000.1,  -0.6010,  34.9120,2,  34.9120,2,    298.2,2,    307.0,2,     9.70,2,    13.90,2,     0.08,2,     0.96,2,    1.530,2,      1.4,2,   2159.1,4,   2296.4,2
  58GS20160802,   75N,   531,  1,      4,2,20160804,2359, 75.0002,   3.9997, 3008,   1501.0,  -0.3130,  34.9180,2,  34.9170,2,    314.6,2,    321.1,2,     7.10,2,    13.10,2,     0.06,2,     0.91,2,    2.960,2,     2.43,2,   2163.5,4,   2296.2,2
  58GS20160802,   75N,   531,  1,      5,2,20160804,2359, 75.0002,   3.9997, 3008,   1003.5,  -0.2510,  34.9110,2,  34.9110,2,    330.6,2,    333.7,2,     5.90,2,    12.30,2,     0.06,2,     0.85,2,    3.490,2,     3.16,2,   2170.9,4,   2296.5,2
  58GS20160802,   75N,   531,  1,      6,2,20160804,2359, 75.0002,   3.9997, 3008,    753.0,  -0.1610,  34.9110,2,  34.9110,2,    331.9,2,    334.1,2,     5.80,2,    12.10,2,     0.05,2,     0.84,2,    3.420,2,     3.26,2,   2166.1,4,   2297.6,2
  58GS20160802,   75N,   531,  1,      7,2,20160804,2359, 75.0002,   3.9997, 3008,    504.1,  -0.1630,  34.9110,2,  34.9120,2,    333.0,2,    333.7,2,     5.80,2,    12.10,2,     0.05,2,     0.83,2,    3.580,2,     3.16,2,   2162.2,4,   2298.6,2
  58GS20160802,   75N,   531,  1,      8,2,20160804,2359, 75.0002,   3.9997, 3008,    404.2,  -0.1340,  34.9110,2,  34.9100,2,    333.6,2,    333.8,2,     5.80,2,    12.10,2,     0.04,2,     0.85,2,    3.580,2,      3.2,2,   2169.8,4,   2300.5,2
  58GS20160802,   75N,   531,  1,      9,2,20160804,2359, 75.0002,   3.9997, 3008,    300.1,  -0.0670,  34.9090,2,  34.9110,2,    332.3,2,    331.8,2,     5.70,2,    12.00,2,     0.06,2,     0.83,2,    3.620,2,     2.96,2,   2172.6,2,   2298.7,2
  58GS20160802,   75N,   531,  1,     10,2,20160804,2359, 75.0002,   3.9997, 3008,    202.5,   0.0540,  34.9100,2,  34.9090,2,    336.4,2,    335.2,2,     5.60,2,    11.90,2,     0.08,2,     0.81,2,    3.730,2,     3.12,2,   2172.9,2,   2299.2,2
  58GS20160802,   75N,   531,  1,     11,2,20160804,2359, 75.0002,   3.9997, 3008,    151.2,   0.1420,  34.9130,2,  34.9130,2,    335.0,2,    333.6,2,     5.60,2,    12.00,2,     0.06,2,     0.82,2,    3.740,2,      3.2,2,   2170.6,2,   2297.6,2
  58GS20160802,   75N,   531,  1,     12,2,20160804,2359, 75.0002,   3.9997, 3008,     99.6,   0.9010,  34.9420,2,  34.9410,2,    319.6,2,    318.3,2,     5.50,2,    12.60,2,     0.08,2,     0.84,2,    3.400,2,     3.01,2,   2173.3,2,   2299.1,2
  58GS20160802,   75N,   531,  1,     13,2,20160804,2359, 75.0002,   3.9997, 3008,     75.1,   1.5240,  34.9710,2,  34.9720,2,    314.5,2,    313.2,2,     5.20,2,    12.70,2,     0.10,2,     0.82,2,    3.270,2,     3.14,2,   2170.6,2,   2300.6,2
  58GS20160802,   75N,   531,  1,     14,2,20160804,2359, 75.0002,   3.9997, 3008,     50.3,   2.3600,  35.0090,2,  35.0090,2,    310.5,2,    309.6,2,     4.80,2,    12.30,2,     0.17,2,     0.78,2,    3.180,2,     2.89,2,   2166.6,2,   2302.0,2
  58GS20160802,   75N,   531,  1,     15,2,20160804,2359, 75.0002,   3.9997, 3008,     30.3,   3.1930,  35.0380,2,  35.0380,2,    311.0,2,    310.3,2,     4.10,2,    10.80,2,     0.41,2,     0.66,2,    2.900,2,     3.73,2,   2161.2,2,   2303.6,2
  58GS20160802,   75N,   531,  1,     16,2,20160804,2359, 75.0002,   3.9997, 3008,     10.4,   7.2760,  35.0070,2,  35.0070,2,    318.7,2,    315.9,2,     0.40,2,     0.50,2,     0.10,2,     0.20,2,    2.860,2,     2.79,2,   2088.3,2,   2308.6,2
  58GS20160802,   75N,   533,  1,      1,2,20160805,0650, 75.0002,   2.9998, 2489,   2508.3,  -0.7580,  34.9160,2,  34.9160,2,    300.4,2,    297.4,2,    12.30,2,    14.60,2,     0.07,2,     1.04,2,    0.520,2,     0.52,2,   2160.6,2,   2297.9,2
  58GS20160802,   75N,   533,  1,      2,2,20160805,0650, 75.0002,   2.9998, 2489,   2001.3,  -0.7020,  34.9140,2,  34.9140,2,    299.2,2,    299.6,2,    11.20,2,    14.40,2,     0.08,2,     1.01,2,    0.860,2,     0.82,2,   2160.2,2,   2297.4,2
  58GS20160802,   75N,   533,  1,      3,2,20160805,0650, 75.0002,   2.9998, 2489,   1501.0,  -0.5760,  34.9100,2,  34.9100,2,    313.9,2,    316.3,2,     8.30,2,    13.50,2,     0.07,2,     0.94,2,    1.820,2,     2.45,2,   2162.2,2,   2296.3,2
  58GS20160802,   75N,   533,  1,      4,2,20160805,0650, 75.0002,   2.9998, 2489,   1002.1,  -0.3900,  34.9160,2,  34.9170,2,    316.8,2,    319.6,2,     7.20,2,    13.20,2,     0.08,2,     0.90,2,    2.740,2,     2.28,2,   2169.9,6,   2294.9,2
  58GS20160802,   75N,   533,  1,      5,2,20160805,0650, 75.0002,   2.9998, 2489,    750.4,  -0.2900,  34.9160,2,  34.9150,2,    323.1,2,    325.6,2,     6.40,2,    12.70,2,     0.06,2,     0.86,2,    3.050,2,     2.95,2,   2167.0,2,   2297.2,2
  58GS20160802,   75N,   533,  1,      6,2,20160805,0650, 75.0002,   2.9998, 2489,    501.1,  -0.2230,  34.9120,2,  34.9120,2,    324.0,2,    328.9,2,     6.20,2,    12.50,2,     0.07,2,     0.85,2,    2.620,2,     3.44,2,   2170.9,2,   2296.9,2
  58GS20160802,   75N,   533,  1,      7,2,20160805,0650, 75.0002,   2.9998, 2489,    400.6,  -0.1570,  34.9120,2,  34.9130,2,    325.5,2,    330.1,2,     6.10,2,    12.30,2,     0.07,2,     0.83,2,    3.070,2,     2.89,2,   2171.2,2,   2266.0,3
  58GS20160802,   75N,   533,  1,      8,2,20160805,0650, 75.0002,   2.9998, 2489,    301.2,  -0.0530,  34.9110,2,  34.9110,2,    338.7,2,    332.4,2,     5.90,2,    12.20,2,     0.07,2,     0.83,2,    2.900,2,     3.05,2,   2171.0,2,   2295.4,2
  58GS20160802,   75N,   533,  1,      9,2,20160805,0650, 75.0002,   2.9998, 2489,    201.2,   0.3070,  34.9180,2,  34.9190,2,    326.7,2,    320.7,2,     6.00,2,    12.60,2,     0.08,2,     0.85,2,    2.990,2,     2.93,2,   2168.4,2,   2297.1,2
  58GS20160802,   75N,   533,  1,     10,2,20160805,0650, 75.0002,   2.9998, 2489,    150.2,   0.7490,  34.9350,2,  34.9350,2,    325.4,2,    321.6,2,     5.70,2,    12.50,2,     0.09,2,     0.83,2,    2.930,2,     3.13,2,   2167.7,2,   2297.6,2
  58GS20160802,   75N,   533,  1,     11,2,20160805,0650, 75.0002,   2.9998, 2489,     99.4,   1.4580,  34.9720,2,  34.9700,2,    321.3,2,    319.8,2,     5.30,2,    12.40,2,     0.07,2,     0.81,2,    2.840,2,     3.35,2,   2169.5,2,   2300.2,2
  58GS20160802,   75N,   533,  1,     12,2,20160805,0650, 75.0002,   2.9998, 2489,     75.2,   1.9520,  34.9950,2,  34.9960,2,    317.4,2,    315.4,2,     4.90,2,    12.30,2,     0.07,2,     0.79,2,    2.900,2,     3.42,2,   2168.6,2,   2302.2,2
  58GS20160802,   75N,   533,  1,     13,2,20160805,0650, 75.0002,   2.9998, 2489,     50.2,   2.9700,  35.0250,2,  35.0260,2,    315.2,2,    315.5,2,     3.40,2,    10.90,2,     0.40,2,     0.70,2,    2.960,2,     3.22,2,   2157.1,2,   2305.3,2
  58GS20160802,   75N,   533,  1,     14,2,20160805,0650, 75.0002,   2.9998, 2489,     30.2,   4.1030,  35.0440,2,  35.0430,2,    326.2,2,    328.1,2,     1.60,2,     6.00,2,     0.31,2,     0.51,2,    3.100,2,      3.4,2,   2140.0,2,   2310.2,2
  58GS20160802,   75N,   533,  1,     15,2,20160805,0650, 75.0002,   2.9998, 2489,     10.3,   7.4750,  34.9830,2,  34.9830,2,    313.9,2,    317.4,2,     0.40,2,     0.30,2,     0.08,2,     0.20,2,    2.750,2,     2.86,2,   2086.4,2,   2307.5,2