BOTTLE,20181001PRINUNIVRMK
EXPOCODE,SECT_ID,STNNBR,CASTNO,BTLNBR,BTLNBR_FLAG_W,DATE,TIME,LATITUDE,LONGITUDE,DEPTH,CTDPRS,CTDTMP,CTDSAL,CTDSAL_FLAG_W,SALNTY,SALNTY_FLAG_W,CTDOXY,CTDOXY_FLAG_W,OXYGEN,OXYGEN_FLAG_W,SILCAT,SILCAT_FLAG_W,NITRAT,NITRAT_FLAG_W,NITRIT,NITRIT_FLAG_W,PHSPHT,PHSPHT_FLAG_W,CFC-12,CFC-12_FLAG_W,SF6,SF6_FLAG_W,TCARBN,TCARBN_FLAG_W,ALKALI,ALKALI_FLAG_W
,,,,,,,,,,METERS,DBAR,ITS-90,PSS-78,,PSS-78,,UMOL/KG,,UMOL/KG,,UMOL/KG,,UMOL/KG,,UMOL/KG,,UMOL/KG,,PMOL/KG,,FMOL/KG,,UMOL/KG,,UMOL/KG,
  58GS20160802,   75N,   564,  1,      1,2,20160810,2018, 71.5413,  -9.8383, 2342,    999.0,  -0.3310,  34.9160,2,  34.9150,2,    308.6,2,    310.2,2,     7.70,2,    13.80,2,     0.04,2,     0.87,2,    1.900,2,     1.62,2,   2170.9,2,   2302.2,2
  58GS20160802,   75N,   564,  1,      2,2,20160810,2018, 71.5413,  -9.8383, 2342,    750.9,  -0.0680,  34.9160,2,  34.9160,2,    311.4,2,    313.0,2,     6.70,2,    13.50,2,     0.01,2,     0.83,2,    2.270,2,     1.89,2,   2166.0,2,   2300.9,2
  58GS20160802,   75N,   564,  1,      3,2,20160810,2018, 71.5413,  -9.8383, 2342,    500.6,  -0.0010,  34.9040,2,  34.9050,2,    329.2,2,    330.1,2,     5.60,2,    12.60,2,     0.04,2,     0.76,2,    2.780,2,     2.83,2,   2168.6,2,   2298.5,2
  58GS20160802,   75N,   564,  1,      4,2,20160810,2018, 71.5413,  -9.8383, 2342,    400.1,   0.0500,  34.9030,2,  34.9020,2,    326.1,2,    326.9,2,     5.70,2,    12.70,2,     0.05,2,     0.77,2,    2.830,2,     2.91,2,   2168.5,2,   2299.5,2
  58GS20160802,   75N,   564,  1,      5,2,20160810,2018, 71.5413,  -9.8383, 2342,    299.9,   0.2000,  34.9040,2,  34.9040,2,    327.6,2,    325.9,2,     5.70,2,    12.60,2,     0.04,2,     0.76,2,    2.830,2,     2.64,2,   2168.0,2,   2298.9,2
  58GS20160802,   75N,   564,  1,      6,2,20160810,2018, 71.5413,  -9.8383, 2342,    199.9,   0.4640,  34.9040,2,  34.9050,2,    322.4,2,    320.9,2,     5.60,2,    12.60,2,     0.03,2,     0.75,2,    2.770,2,     2.65,2,   2167.7,2,   2300.1,2
  58GS20160802,   75N,   564,  1,      7,2,20160810,2018, 71.5413,  -9.8383, 2342,    150.2,   0.5660,  34.8990,2,  34.8980,2,    321.6,2,    319.6,2,     5.40,2,    12.50,2,     0.07,2,     0.73,2,    2.820,2,     2.57,2,   2161.7,2,   2298.9,2
  58GS20160802,   75N,   564,  1,      8,2,20160810,2018, 71.5413,  -9.8383, 2342,    100.8,   0.7970,  34.8900,2,  34.8890,2,    319.9,2,    318.8,2,     4.80,2,    11.90,2,     0.46,2,     0.71,2,    2.900,2,     2.74,2,   2165.1,2,   2300.0,2
  58GS20160802,   75N,   564,  1,      9,2,20160810,2018, 71.5413,  -9.8383, 2342,     70.6,   0.8040,  34.8650,2,  34.8660,2,    326.4,2,    325.1,2,     3.60,2,    10.20,2,     0.53,2,     0.66,2,    2.960,2,     2.89,2,   2163.7,2,   2301.3,2
  58GS20160802,   75N,   564,  1,     10,2,20160810,2018, 71.5413,  -9.8383, 2342,     50.3,   0.8370,  34.7890,2,  34.7890,2,    345.1,2,    343.8,2,     1.40,2,     6.10,2,     0.19,2,     0.50,2,    3.070,2,     3.21,2,   2140.8,2,   2300.5,2
  58GS20160802,   75N,   564,  1,     11,2,20160810,2018, 71.5413,  -9.8383, 2342,     31.0,   2.9780,  34.6910,2,  34.6910,2,    366.2,2,    367.9,2,     0.80,2,     0.30,2,     0.09,2,     0.13,2,    3.000,2,     3.22,2,   2054.0,2,   2296.9,2
  58GS20160802,   75N,   564,  1,     12,2,20160810,2018, 71.5413,  -9.8383, 2342,      9.8,   6.2360,  34.7330,2,  34.7330,2,    312.1,2,    314.8,2,     0.90,2,     0.00,2,     0.05,2,     0.07,2,    2.510,2,     2.91,2,   2081.5,2,   2299.7,2
  58GS20160802,   75N,   565,  1,      1,2,20160811,0117, 70.9802, -10.6697, 1319,   1308.0,  -0.5320,  34.9160,2,  34.9150,2,    302.2,2,    303.4,2,    10.00,2,    14.50,2,     0.00,2,     0.87,2,    1.440,2,      1.3,2,   2167.9,2,   2302.7,2
  58GS20160802,   75N,   565,  1,      2,2,20160811,0117, 70.9802, -10.6697, 1319,   1150.0,  -0.4510,  34.9160,2,  34.9170,2,    307.4,2,    307.8,2,     8.90,2,    14.20,2,     0.00,2,     0.84,2,    1.640,2,     1.65,2,   2164.3,2,   2299.9,2
  58GS20160802,   75N,   565,  1,      3,2,20160811,0117, 70.9802, -10.6697, 1319,   1001.2,  -0.3640,  34.9160,2,  34.9150,2,    309.4,2,    309.5,2,     8.30,2,    13.90,2,     0.04,2,     0.82,2,    1.890,2,     1.64,2,   2167.0,2,   2299.9,2
  58GS20160802,   75N,   565,  1,      4,2,20160811,0117, 70.9802, -10.6697, 1319,    725.6,  -0.0090,  34.9120,2,  34.9140,2,    315.3,2,    315.0,2,     6.80,2,    13.40,2,     0.00,2,     0.96,3,    2.450,2,     2.35,2,   2171.8,2,   2298.7,2
  58GS20160802,   75N,   565,  1,      5,2,20160811,0117, 70.9802, -10.6697, 1319,    649.7,  -0.0040,  34.9040,2,  34.9030,2,    330.6,2,    330.7,2,     5.80,2,    12.60,2,     0.02,2,     0.71,2,    2.790,2,        3,2,   2168.8,2,   2299.3,2
  58GS20160802,   75N,   565,  1,      6,2,20160811,0117, 70.9802, -10.6697, 1319,    601.5,  -0.0230,  34.9010,2,  34.9010,2,    333.6,2,    333.5,2,     5.70,2,    12.40,2,     0.00,2,     0.71,2,    2.880,2,     3.11,2,   2171.3,2,   2298.5,2
  58GS20160802,   75N,   565,  1,      7,2,20160811,0117, 70.9802, -10.6697, 1319,    499.5,   0.0360,  34.9040,2,  34.9050,2,    334.0,2,    333.6,2,     5.60,2,    12.10,2,     0.01,2,     0.71,2,    2.900,2,     3.02,2,   2169.2,2,   2299.6,2
  58GS20160802,   75N,   565,  1,      8,2,20160811,0117, 70.9802, -10.6697, 1319,    400.2,   0.0500,  34.9040,2,  34.9040,2,    334.3,2,    333.7,2,     5.70,2,    12.50,2,     0.02,2,     0.70,2,    2.890,2,     3.06,2,   2170.0,2,   2297.7,2
  58GS20160802,   75N,   565,  1,      9,2,20160811,0117, 70.9802, -10.6697, 1319,    300.4,   0.1650,  34.9070,2,  34.9060,2,    332.1,2,    331.1,2,     5.60,2,    12.70,2,     0.03,2,     0.69,2,    2.850,2,     3.01,2,   2170.0,2,   2299.4,2
  58GS20160802,   75N,   565,  1,     10,2,20160811,0117, 70.9802, -10.6697, 1319,    200.7,   0.6590,  34.9160,2,  34.9150,2,    327.5,2,    327.0,2,     5.40,2,    12.30,2,     0.06,2,     0.71,2,    2.920,2,     3.05,2,   2170.5,2,   2298.2,2
  58GS20160802,   75N,   565,  1,     11,2,20160811,0117, 70.9802, -10.6697, 1319,    150.1,   0.9290,  34.9240,2,  34.9240,2,    327.5,2,    326.3,2,     5.20,2,    12.50,2,     0.07,2,     0.67,2,    2.820,2,     3.22,2,   2171.6,2,   2299.0,2
  58GS20160802,   75N,   565,  1,     12,2,20160811,0117, 70.9802, -10.6697, 1319,    100.0,   1.3230,  34.9330,2,  34.9340,2,    326.1,2,    325.6,2,     4.80,2,    12.20,2,     0.00,2,     0.67,2,    3.030,2,     3.22,2,   2169.9,2,   2300.0,2
  58GS20160802,   75N,   565,  1,     13,2,20160811,0117, 70.9802, -10.6697, 1319,     74.8,   1.5290,  34.9340,2,  34.9370,2,    324.5,2,    323.6,2,     4.80,2,    11.80,2,     0.16,2,     0.63,2,    2.980,2,     3.23,2,   2168.6,2,   2299.4,2
  58GS20160802,   75N,   565,  1,     14,2,20160811,0117, 70.9802, -10.6697, 1319,     51.1,   1.9380,  34.9160,2,  34.9150,2,    334.1,2,    335.7,2,     3.90,2,     7.60,2,     0.50,2,     0.48,2,    2.930,2,     3.41,2,   2153.1,2,   2303.0,2
  58GS20160802,   75N,   565,  1,     15,2,20160811,0117, 70.9802, -10.6697, 1319,     30.2,   4.1290,  34.8930,2,  34.8920,2,    332.4,2,    333.1,2,     2.50,2,     2.60,2,     0.19,2,     0.20,2,    2.720,2,     3.16,2,   2112.5,2,   2304.9,2
  58GS20160802,   75N,   565,  1,     16,2,20160811,0117, 70.9802, -10.6697, 1319,      9.7,   6.3480,  34.8560,2,  34.8560,2,    312.3,2,    314.3,2,     1.50,2,     0.10,2,     0.01,2,     0.07,2,    2.540,2,     2.97,2,   2111.2,4,   2306.1,2