BOTTLE,20181001PRINUNIVRMK
EXPOCODE,SECT_ID,STNNBR,CASTNO,BTLNBR,BTLNBR_FLAG_W,DATE,TIME,LATITUDE,LONGITUDE,DEPTH,CTDPRS,CTDTMP,CTDSAL,CTDSAL_FLAG_W,SALNTY,SALNTY_FLAG_W,CTDOXY,CTDOXY_FLAG_W,OXYGEN,OXYGEN_FLAG_W,SILCAT,SILCAT_FLAG_W,NITRAT,NITRAT_FLAG_W,NITRIT,NITRIT_FLAG_W,PHSPHT,PHSPHT_FLAG_W,CFC-12,CFC-12_FLAG_W,SF6,SF6_FLAG_W,TCARBN,TCARBN_FLAG_W,ALKALI,ALKALI_FLAG_W
,,,,,,,,,,METERS,DBAR,ITS-90,PSS-78,,PSS-78,,UMOL/KG,,UMOL/KG,,UMOL/KG,,UMOL/KG,,UMOL/KG,,UMOL/KG,,PMOL/KG,,FMOL/KG,,UMOL/KG,,UMOL/KG,
  58GS20160802,   75N,   543,  1,      1,2,20160806,2018, 74.9997,  -2.0015, 3578,   3624.9,  -0.7020,  34.9160,2,  34.9160,2,    297.2,2,    297.6,2,    12.50,2,    14.80,2,     0.02,2,     1.03,2,    0.460,2,     0.43,2,   2163.4,2,   2298.8,2
  58GS20160802,   75N,   543,  1,      2,2,20160806,2018, 74.9997,  -2.0015, 3578,   3499.5,  -0.7110,  34.9160,2,  34.9180,2,    297.5,2,    297.7,2,    12.40,2,    14.80,2,     0.02,2,     1.04,2,    0.480,2,     0.52,2,   2158.9,2,   2297.7,2
  58GS20160802,   75N,   543,  1,      3,2,20160806,2018, 74.9997,  -2.0015, 3578,   2999.2,  -0.7340,  34.9160,2,  34.9140,2,    297.5,2,    297.4,2,    12.10,2,    14.70,2,     0.01,2,     1.05,2,    0.500,2,     0.49,2,   -999.0,9,   2298.2,2
  58GS20160802,   75N,   543,  1,      4,2,20160806,2018, 74.9997,  -2.0015, 3578,   2501.6,  -0.7250,  34.9150,2,  34.9150,2,    298.2,2,    298.0,2,    11.60,2,    14.60,2,     0.02,2,     1.00,2,    0.650,2,     0.66,2,   2157.7,2,   2297.6,2
  58GS20160802,   75N,   543,  1,      5,2,20160806,2018, 74.9997,  -2.0015, 3578,   2000.2,  -0.6390,  34.9120,2,  34.9120,2,    304.4,2,    304.4,2,    10.00,2,    14.10,2,     0.02,2,     0.97,2,    1.330,2,     1.12,2,   2161.2,2,   2297.1,2
  58GS20160802,   75N,   543,  1,      6,2,20160806,2018, 74.9997,  -2.0015, 3578,   1750.6,  -0.5880,  34.9100,2,  34.9100,2,    314.3,2,    314.7,2,     8.50,2,    13.70,2,     0.02,2,     0.93,2,    1.990,2,     1.95,2,   -999.0,9,   -999.0,9
  58GS20160802,   75N,   543,  1,      7,2,20160806,2018, 74.9997,  -2.0015, 3578,   1500.6,  -0.5300,  34.9100,2,  34.9100,2,    323.6,2,    324.2,2,     7.20,2,    13.30,2,     0.02,2,     0.89,2,    2.880,2,      2.2,2,   2168.5,2,   2295.3,2
  58GS20160802,   75N,   543,  1,      8,2,20160806,2018, 74.9997,  -2.0015, 3578,   1250.1,  -0.4670,  34.9120,2,  34.9130,2,    322.0,2,    322.1,2,     7.10,2,    13.30,2,     0.02,2,     0.89,2,    2.930,2,      2.2,2,   -999.0,9,   -999.0,9
  58GS20160802,   75N,   543,  1,      9,2,20160806,2018, 74.9997,  -2.0015, 3578,   1000.3,  -0.3440,  34.9170,2,  34.9180,2,    321.2,2,    321.1,2,     6.90,2,    13.30,2,     0.03,2,     0.88,2,    3.000,2,     2.38,2,   2160.5,3,   2295.7,2
  58GS20160802,   75N,   543,  1,     10,2,20160806,2018, 74.9997,  -2.0015, 3578,    750.6,  -0.2760,  34.9170,2,  34.9170,2,    325.4,2,    324.8,2,     6.50,2,    13.00,2,     0.03,2,     0.87,2,    3.130,2,     2.61,2,   2167.7,2,   2296.2,2
  58GS20160802,   75N,   543,  1,     11,2,20160806,2018, 74.9997,  -2.0015, 3578,    500.9,  -0.2850,  34.9120,2,  34.9120,2,    330.4,2,    329.4,2,     6.00,2,    12.80,2,     0.03,2,     0.86,2,    3.330,2,     2.95,2,   2171.4,2,   2296.6,2
  58GS20160802,   75N,   543,  1,     12,2,20160806,2018, 74.9997,  -2.0015, 3578,    400.7,  -0.2480,  34.9110,2,  34.9110,2,    329.3,2,    328.4,2,     6.10,2,    12.60,2,     0.03,2,     0.85,2,    3.190,2,     2.73,2,   2170.5,2,   2294.5,2
  58GS20160802,   75N,   543,  1,     13,2,20160806,2018, 74.9997,  -2.0015, 3578,    300.8,  -0.0320,  34.9220,2,  34.9210,2,    326.6,2,    325.4,2,     6.00,2,    12.70,2,     0.03,2,     0.86,2,    3.220,2,      2.8,2,   2171.1,2,   2297.5,2
  58GS20160802,   75N,   543,  1,     14,2,20160806,2018, 74.9997,  -2.0015, 3578,    200.8,   0.1110,  34.9220,2,  34.9210,2,    327.1,2,    325.6,2,     5.80,2,    12.60,2,     0.03,2,     0.86,2,    3.210,2,     3.02,2,   2168.9,2,   2315.4,2
  58GS20160802,   75N,   543,  1,     15,2,20160806,2018, 74.9997,  -2.0015, 3578,    150.2,   0.3300,  34.9280,2,  34.9280,2,    326.2,2,    324.6,2,     5.70,2,    12.40,2,     0.16,2,     0.83,2,    3.160,2,     3.18,2,   2164.6,2,   2296.8,2
  58GS20160802,   75N,   543,  1,     16,2,20160806,2018, 74.9997,  -2.0015, 3578,    100.5,   0.7290,  34.9390,2,  34.9400,2,    322.3,2,    320.9,2,     5.30,2,    12.20,2,     0.26,2,     0.81,2,    2.980,2,     3.12,2,   2160.3,2,   2298.5,2
  58GS20160802,   75N,   543,  1,     17,2,20160806,2018, 74.9997,  -2.0015, 3578,     70.6,   0.9480,  34.9330,2,  34.9330,2,    323.6,2,    329.5,3,     4.60,2,    10.80,2,     0.40,2,     0.78,2,    2.940,2,     3.55,2,   2173.2,2,   2301.6,2
  58GS20160802,   75N,   543,  1,     18,2,20160806,2018, 74.9997,  -2.0015, 3578,     50.1,   1.5170,  34.9440,2,  34.9460,2,    322.3,2,    321.3,2,     3.50,2,     9.40,2,     0.35,2,     0.69,2,    2.850,2,     3.45,2,   2163.7,2,   2303.1,2
  58GS20160802,   75N,   543,  1,     19,2,20160806,2018, 74.9997,  -2.0015, 3578,     30.6,   3.0850,  34.9690,2,  34.9680,2,    343.6,2,    344.8,2,     1.00,2,     4.00,2,     0.12,2,     0.36,2,    2.990,2,     3.45,2,   2125.5,2,   2307.6,2
  58GS20160802,   75N,   543,  1,     20,2,20160806,2018, 74.9997,  -2.0015, 3578,     10.0,   6.4320,  34.8290,2,  34.8290,2,    311.5,2,    312.5,2,     0.40,2,     0.10,2,     0.03,2,     0.14,2,    2.610,2,     3.49,2,   2081.5,2,   2297.4,2
  58GS20160802,   75N,   545,  1,      1,2,20160807,0356, 75.0003,  -2.9997, 3614,   3660.2,  -0.7000,  34.9140,2,  34.9140,2,    297.1,2,    297.4,2,     0.90,4,     0.60,4,     0.06,3,     0.50,4,    0.450,2,     0.32,2,   2163.1,2,   2299.2,2
  58GS20160802,   75N,   545,  1,      2,2,20160807,0356, 75.0003,  -2.9997, 3614,   3500.5,  -0.7110,  34.9140,2,  34.9140,2,    297.9,2,    297.6,2,     0.60,4,     1.00,4,     0.02,3,     0.35,4,    0.450,2,     0.42,2,   2160.5,2,   2298.8,2
  58GS20160802,   75N,   545,  1,      3,2,20160807,0356, 75.0003,  -2.9997, 3614,   3000.0,  -0.7330,  34.9150,2,  34.9150,2,    298.0,2,    297.4,2,    11.90,2,    15.80,2,     0.02,2,     1.01,2,    0.470,2,     0.39,2,   2154.5,2,   2297.7,2
  58GS20160802,   75N,   545,  1,      4,2,20160807,0356, 75.0003,  -2.9997, 3614,   2500.6,  -0.7190,  34.9140,2,  34.9140,2,    298.4,2,    298.0,2,    11.40,2,    15.30,2,     0.03,2,     1.01,2,    0.600,2,     -999,9,   2158.4,4,   2299.0,2
  58GS20160802,   75N,   545,  1,      5,2,20160807,0356, 75.0003,  -2.9997, 3614,   2001.3,  -0.6130,  34.9120,2,  34.9110,2,    306.9,2,    306.9,2,     9.50,2,    15.00,2,     0.02,2,     0.97,2,    1.320,2,     1.49,2,   2162.2,2,   2296.1,2
  58GS20160802,   75N,   545,  1,      6,2,20160807,0356, 75.0003,  -2.9997, 3614,   1750.4,  -0.5610,  34.9090,2,  34.9090,2,    318.9,2,    319.7,2,     7.80,2,    14.20,2,     0.02,2,     0.93,2,    2.320,2,     1.89,2,   -999.0,9,   -999.0,9
  58GS20160802,   75N,   545,  1,      7,2,20160807,0356, 75.0003,  -2.9997, 3614,   1500.4,  -0.4920,  34.9120,2,  34.9120,2,    323.1,2,    323.8,2,     7.10,2,    14.00,2,     0.03,2,     0.90,2,    2.740,2,     2.23,2,   2174.6,2,   2296.0,2
  58GS20160802,   75N,   545,  1,      8,2,20160807,0356, 75.0003,  -2.9997, 3614,   1250.4,  -0.4030,  34.9150,2,  34.9150,2,    320.3,2,    320.4,2,     7.10,2,    14.00,2,     0.02,2,     0.90,2,    2.650,2,     2.11,2,   -999.0,9,   -999.0,9
  58GS20160802,   75N,   545,  1,      9,2,20160807,0356, 75.0003,  -2.9997, 3614,   1000.9,  -0.2960,  34.9170,2,  34.9180,2,    328.1,2,    328.8,2,     6.20,2,    13.30,2,     0.04,2,     0.84,2,    3.120,2,      2.7,2,   2175.6,2,   2294.8,2
  58GS20160802,   75N,   545,  1,     10,2,20160807,0356, 75.0003,  -2.9997, 3614,    749.6,  -0.2970,  34.9140,2,  34.9150,2,    332.4,2,    332.5,2,     5.90,2,    13.10,2,     0.03,2,     0.82,2,    3.220,2,     2.99,2,   2172.6,2,   2297.0,2
  58GS20160802,   75N,   545,  1,     11,2,20160807,0356, 75.0003,  -2.9997, 3614,    500.5,  -0.2770,  34.9120,2,  34.9130,2,    331.8,2,    330.3,2,     5.90,2,    13.10,2,     0.05,2,     0.84,2,    3.150,2,     2.85,2,   2166.8,2,   2296.4,2
  58GS20160802,   75N,   545,  1,     12,2,20160807,0356, 75.0003,  -2.9997, 3614,    400.3,  -0.2410,  34.9110,2,  34.9110,2,    328.5,2,    328.0,2,     6.00,2,    13.10,2,     0.04,2,     0.84,2,    3.090,2,     2.63,2,   2173.4,2,   2300.0,2
  58GS20160802,   75N,   545,  1,     13,2,20160807,0356, 75.0003,  -2.9997, 3614,    300.8,  -0.1030,  34.9160,2,  34.9160,2,    329.5,2,    328.5,2,     5.90,2,    12.90,2,     0.04,2,     0.83,2,    3.100,2,     3.05,2,   2168.1,2,   2297.6,2
  58GS20160802,   75N,   545,  1,     14,2,20160807,0356, 75.0003,  -2.9997, 3614,    200.6,   0.1260,  34.9180,2,  34.9180,2,    326.8,2,    325.8,2,     5.70,2,    12.80,2,     0.08,2,     0.83,2,    2.790,2,     2.71,2,   2170.2,2,   2297.4,2
  58GS20160802,   75N,   545,  1,     15,2,20160807,0356, 75.0003,  -2.9997, 3614,    148.9,   0.3180,  34.9210,2,  34.9210,2,    325.2,2,    324.0,2,     5.60,2,    12.70,2,     0.02,2,     0.83,2,    2.960,2,     2.73,2,   2172.0,2,   2297.5,2
  58GS20160802,   75N,   545,  1,     16,2,20160807,0356, 75.0003,  -2.9997, 3614,     99.6,   0.8150,  34.9340,2,  34.9320,2,    321.8,2,    321.5,2,     4.50,2,    11.80,2,     0.32,2,     0.83,2,    3.080,2,      2.7,2,   2197.7,4,   2298.2,2
  58GS20160802,   75N,   545,  1,     17,2,20160807,0356, 75.0003,  -2.9997, 3614,     74.7,   1.0550,  34.9150,2,  34.9140,2,    332.3,2,    339.1,3,     2.20,2,     8.40,2,     0.17,2,     0.93,3,    3.190,2,      3.3,2,   2177.4,2,   2303.7,2
  58GS20160802,   75N,   545,  1,     18,2,20160807,0356, 75.0003,  -2.9997, 3614,     50.0,   1.6860,  34.9150,2,  34.9150,2,    344.9,2,    345.0,2,     1.20,2,     6.10,2,     0.13,2,     0.52,2,    3.240,2,     3.09,2,   2143.4,2,   2304.0,2
  58GS20160802,   75N,   545,  1,     19,2,20160807,0356, 75.0003,  -2.9997, 3614,     28.7,   5.0610,  34.9080,2,  34.9090,2,    343.2,2,    339.2,2,     0.40,2,     0.80,2,     0.05,2,     0.17,2,    2.660,2,      3.2,2,   2088.9,2,   2304.8,2
  58GS20160802,   75N,   545,  1,     20,2,20160807,0356, 75.0003,  -2.9997, 3614,      9.8,   6.3490,  34.6960,2,  34.6960,2,    309.4,2,    311.1,2,     0.60,2,     0.00,2,     0.06,2,     0.12,2,    2.470,2,     3.11,2,   2072.5,2,   2293.0,2
  58GS20160802,   75N,   547,  1,      1,2,20160807,1343, 74.9990,  -4.0050, 3575,   3620.6,  -0.7040,  34.9140,2,  34.9140,2,    296.4,2,    298.4,2,    12.60,2,    15.00,2,     0.04,2,     1.01,2,    0.410,2,     0.63,2,   2160.3,2,   2298.9,2
  58GS20160802,   75N,   547,  1,      2,2,20160807,1343, 74.9990,  -4.0050, 3575,   3500.2,  -0.7130,  34.9150,2,  34.9150,2,    297.4,2,    297.7,2,    12.30,2,    15.00,2,     0.06,2,     0.98,2,    0.460,2,     0.51,2,   2162.2,2,   2298.5,2
  58GS20160802,   75N,   547,  1,      3,2,20160807,1343, 74.9990,  -4.0050, 3575,   3000.5,  -0.7330,  34.9150,2,  34.9150,2,    297.9,2,    297.2,2,    12.00,2,    15.00,2,     0.07,2,     1.00,2,    0.490,2,     0.43,2,   2161.0,2,   2299.0,2
  58GS20160802,   75N,   547,  1,      4,2,20160807,1343, 74.9990,  -4.0050, 3575,   2499.2,  -0.7260,  34.9140,2,  34.9140,2,    298.6,2,    297.9,2,    11.40,2,    14.90,2,     0.03,2,     0.99,2,    0.640,2,     0.65,2,   2163.1,2,   2298.2,2
  58GS20160802,   75N,   547,  1,      5,2,20160807,1343, 74.9990,  -4.0050, 3575,   2000.5,  -0.6330,  34.9120,2,  34.9120,2,    305.0,2,    304.2,2,     9.90,2,    14.60,2,     0.06,2,     0.92,2,    1.310,2,     1.08,2,   2161.5,2,   2298.5,2
  58GS20160802,   75N,   547,  1,      6,2,20160807,1343, 74.9990,  -4.0050, 3575,   1750.5,  -0.5840,  34.9090,2,  34.9100,2,    316.0,2,    315.7,2,     8.40,2,    14.10,2,     0.04,2,     0.92,2,    2.240,2,     1.81,2,   2163.2,2,   2296.8,2
  58GS20160802,   75N,   547,  1,      7,2,20160807,1343, 74.9990,  -4.0050, 3575,   1700.2,  -0.5680,  34.9090,2,  34.9080,2,    318.7,2,    317.7,2,  -999.00,9,  -999.00,9,  -999.00,9,  -999.00,9,    2.390,2,     1.85,2,   -999.0,9,   -999.0,9
  58GS20160802,   75N,   547,  1,      8,2,20160807,1343, 74.9990,  -4.0050, 3575,   1501.1,  -0.5180,  34.9110,2,  34.9110,2,    323.9,2,    322.8,2,     7.20,2,    13.80,2,     0.03,2,     0.86,3,    2.800,2,     2.55,2,   2164.6,2,   2296.4,2
  58GS20160802,   75N,   547,  1,      9,2,20160807,1343, 74.9990,  -4.0050, 3575,   1253.4,  -0.4450,  34.9130,2,  34.9140,2,    323.1,2,    322.0,2,     7.00,2,    13.80,2,     0.04,2,     0.91,2,    2.950,2,     2.62,2,   2165.8,2,   2295.7,2
  58GS20160802,   75N,   547,  1,     10,2,20160807,1343, 74.9990,  -4.0050, 3575,   1000.7,  -0.3200,  34.9180,2,  34.9180,2,    324.1,2,    323.5,2,     6.70,2,    13.60,2,     0.05,2,     0.89,2,    3.000,2,      2.7,2,   2165.9,2,   2296.0,2
  58GS20160802,   75N,   547,  1,     11,2,20160807,1343, 74.9990,  -4.0050, 3575,    750.8,  -0.2900,  34.9160,2,  34.9170,2,    329.8,2,    327.5,2,     6.20,2,    13.20,2,     0.06,2,     0.86,2,    3.150,2,      2.9,2,   2169.3,2,   2296.2,2
  58GS20160802,   75N,   547,  1,     12,2,20160807,1343, 74.9990,  -4.0050, 3575,    501.4,  -0.2060,  34.9190,2,  34.9190,2,    331.5,2,    329.0,2,     6.00,2,    13.20,2,     0.09,2,     0.86,2,    3.240,2,        3,2,   2166.0,2,   2296.3,2
  58GS20160802,   75N,   547,  1,     13,2,20160807,1343, 74.9990,  -4.0050, 3575,    400.6,  -0.1610,  34.9200,2,  34.9200,2,    321.4,2,    325.1,2,     6.10,2,    13.20,2,     0.02,2,     0.87,2,    3.120,2,     3.13,2,   2169.0,2,   2296.7,2
  58GS20160802,   75N,   547,  1,     14,2,20160807,1343, 74.9990,  -4.0050, 3575,    301.2,  -0.1010,  34.9190,2,-999.0000,9,    325.0,2,    327.3,2,     5.90,2,    13.10,2,     0.02,2,     0.87,2,    3.200,2,     3.04,2,   2167.7,2,   2294.2,2
  58GS20160802,   75N,   547,  1,     15,2,20160807,1343, 74.9990,  -4.0050, 3575,    200.2,   0.1450,  34.9260,2,  34.9270,2,    323.9,2,    324.9,2,     5.90,2,    13.10,2,     0.04,2,     0.87,2,    3.060,2,      2.8,2,   2168.6,2,   1944.0,4
  58GS20160802,   75N,   547,  1,     16,2,20160807,1343, 74.9990,  -4.0050, 3575,    150.5,   0.2970,  34.9250,2,  34.9250,2,    325.2,2,    325.3,2,     5.70,2,    12.70,2,     0.29,2,     0.86,2,    3.160,2,     2.87,2,   2162.6,2,   2298.5,2
  58GS20160802,   75N,   547,  1,     17,2,20160807,1343, 74.9990,  -4.0050, 3575,     99.9,   0.5720,  34.9290,2,  34.9290,2,    325.2,2,    332.1,3,    12.60,3,    15.60,3,     0.02,2,     1.00,3,    3.220,2,     3.07,2,   2166.4,2,   2298.8,2
  58GS20160802,   75N,   547,  1,     18,2,20160807,1343, 74.9990,  -4.0050, 3575,     74.4,   0.8060,  34.9250,2,  34.9260,2,    327.6,2,    326.8,2,    12.40,3,    15.40,3,     0.01,2,     0.95,3,    3.360,2,     3.29,2,   2163.6,2,   2299.8,2
  58GS20160802,   75N,   547,  1,     19,2,20160807,1343, 74.9990,  -4.0050, 3575,     50.6,   1.3060,  34.9290,2,  34.9270,2,    325.3,2,    324.0,2,     5.20,2,    12.10,2,     0.35,2,     0.75,2,    3.440,2,     3.21,2,   2168.2,2,   2304.6,2
  58GS20160802,   75N,   547,  1,     20,2,20160807,1343, 74.9990,  -4.0050, 3575,     30.6,   3.3360,  34.8930,2,  34.8940,2,    374.5,2,    373.3,2,     4.30,2,    10.90,2,     0.33,2,     0.72,2,    3.380,2,      3.3,2,   2089.8,2,   2305.1,2
  58GS20160802,   75N,   547,  1,     21,2,20160807,1343, 74.9990,  -4.0050, 3575,     10.3,   6.1990,  34.7480,2,  34.7480,2,    314.7,2,    313.8,2,     2.90,2,     8.80,2,     0.25,2,     0.57,2,    2.960,2,     3.18,2,   2075.5,2,   2295.3,2