BOTTLE,20180912PRINUNIVRMK
EXPOCODE,SECT_ID,STNNBR,CASTNO,BTLNBR,BTLNBR_FLAG_W,DATE,TIME,LATITUDE,LONGITUDE,DEPTH,CTDPRS,CTDTMP,CTDSAL,CTDSAL_FLAG_W,CTDOXY,CTDOXY_FLAG_W,OXYGEN,OXYGEN_FLAG_W,SILCAT,SILCAT_FLAG_W,NITRAT,NITRAT_FLAG_W,PHSPHT,PHSPHT_FLAG_W,CFC-12,CFC-12_FLAG_W,TCARBN,TCARBN_FLAG_W,ALKALI,ALKALI_FLAG_W,THETA
,,,,,,,,,,METERS,DBAR,ITS-90,PSS-78,,UMOL/KG,,UMOL/KG,,UMOL/KG,,UMOL/KG,,UMOL/KG,,PMOL/KG,,UMOL/KG,,UMOL/KG,,DEG C
  64PE20070830, AR07E,    45,  2,      1,2,20070920,1046, 56.2840, -14.7980,  224,    214.0,   9.6629,  35.3805,2,    240.5,2,    239.8,2,     6.40,2,    13.40,2,     0.88,2,   -9.000,9,   2153.7,2,   2330.7,2,   9.6384
  64PE20070830, AR07E,    45,  2,      2,2,20070920,1046, 56.2840, -14.7980,  224,    151.0,   9.9739,  35.3847,2,    246.9,2,    246.8,2,     4.90,2,    12.50,2,     0.79,2,   -9.000,9,   2143.4,2,   2331.2,2,   9.9564
  64PE20070830, AR07E,    45,  2,      3,2,20070920,1046, 56.2840, -14.7980,  224,    101.0,  10.3262,  35.3749,2,    250.4,2,    249.7,2,     3.20,2,    11.10,2,     0.71,2,   -9.000,9,   2135.8,2,   2330.6,2,  10.3142
  64PE20070830, AR07E,    45,  2,      4,2,20070920,1046, 56.2840, -14.7980,  224,     11.0,  13.7750,  35.3749,2,    250.4,2,    252.6,2,     0.10,2,     2.10,2,     0.19,2,   -9.000,9,   2080.8,2,   2329.2,2,  13.7734
  64PE20070830, AR07E,    46,  2,      1,2,20070920,1414, 56.2170, -13.9840, 1901,   1891.0,   3.6355,  34.9449,2,    265.4,2,    264.5,2,    14.70,2,    17.40,2,     1.16,2,    1.229,2,   2165.2,2,   2312.6,2,   3.4838
  64PE20070830, AR07E,    46,  2,      2,2,20070920,1414, 56.2170, -13.9840, 1901,   1828.0,   3.6484,  34.9453,2,    265.2,2,    264.7,2,    14.40,2,    17.10,2,     1.15,2,    1.255,2,   2165.2,2,   2310.8,2,   3.5024
  64PE20070830, AR07E,    46,  2,      3,2,20070920,1414, 56.2170, -13.9840, 1901,   1775.0,   3.7977,  34.9535,2,    264.8,2,    264.4,2,    13.30,2,    17.10,2,     1.15,2,    1.305,2,   2163.1,2,   2311.2,2,   3.6546
  64PE20070830, AR07E,    46,  2,      4,2,20070920,1414, 56.2170, -13.9840, 1901,   1520.0,   4.3715,  34.9775,2,    257.2,2,    256.6,2,    11.40,2,    17.50,2,     1.16,2,    1.482,2,   2165.5,2,   2311.6,2,   4.2452
  64PE20070830, AR07E,    46,  2,      5,2,20070920,1414, 56.2170, -13.9840, 1901,   1264.0,   5.4331,  35.0830,2,    243.1,2,    242.6,2,    10.90,2,    17.30,2,     1.13,2,    1.476,2,   2167.8,2,   2316.7,2,   5.3201
  64PE20070830, AR07E,    46,  2,      6,2,20070920,1414, 56.2170, -13.9840, 1901,   1012.0,   7.3714,  35.2642,2,    206.0,2,    205.5,2,    11.00,2,    18.40,2,     1.20,2,    1.206,2,   2180.4,2,   2329.7,2,   7.2679
  64PE20070830, AR07E,    46,  2,      7,2,20070920,1414, 56.2170, -13.9840, 1901,   1016.0,   7.3901,  35.2643,2,    206.0,2,   -999.0,9,  -999.00,9,  -999.00,9,  -999.00,9,    1.649,4,   -999.0,9,   -999.0,9,   7.2860
  64PE20070830, AR07E,    46,  2,      8,2,20070920,1414, 56.2170, -13.9840, 1901,    910.0,   8.0704,  35.2796,2,    202.8,2,    202.4,2,    10.20,2,    18.10,2,     1.17,2,    1.272,2,   2178.1,2,   2329.2,2,   7.9733
  64PE20070830, AR07E,    46,  2,      9,2,20070920,1414, 56.2170, -13.9840, 1901,    810.0,   8.8002,  35.3089,2,    216.6,2,    216.7,2,     8.50,2,    16.20,2,     1.05,2,   -9.000,9,   2164.7,2,   2329.3,2,   8.7099
  64PE20070830, AR07E,    46,  2,     10,2,20070920,1414, 56.2170, -13.9840, 1901,    708.0,   9.4421,  35.3550,2,    233.5,2,    234.3,2,     6.50,2,    14.10,2,     0.91,2,    1.682,2,   2150.5,2,   2330.9,2,   9.3603
  64PE20070830, AR07E,    46,  2,     11,2,20070920,1414, 56.2170, -13.9840, 1901,    605.0,   9.9086,  35.3994,2,    242.4,2,    242.5,2,     5.40,2,    12.70,2,     0.82,2,   -9.000,9,   2144.5,2,   2333.5,2,   9.8370
  64PE20070830, AR07E,    46,  2,     12,2,20070920,1414, 56.2170, -13.9840, 1901,    505.0,  10.1719,  35.4274,2,    245.7,2,    247.8,2,     4.80,2,    11.80,2,     0.76,2,    1.806,2,   2140.7,2,   2330.4,2,  10.1114
  64PE20070830, AR07E,    46,  2,     13,2,20070920,1414, 56.2170, -13.9840, 1901,    406.0,  10.3380,  35.4378,2,    248.2,2,    249.3,2,     4.50,2,    11.60,2,     0.74,2,   -9.000,9,   2134.7,2,   2328.6,2,  10.2891
  64PE20070830, AR07E,    46,  2,     14,2,20070920,1414, 56.2170, -13.9840, 1901,    305.0,  10.4636,  35.4165,2,    244.8,2,    245.4,2,     4.60,2,    11.80,2,     0.75,2,    1.806,2,   2148.9,2,   2332.7,2,  10.4268
  64PE20070830, AR07E,    46,  2,     15,2,20070920,1414, 56.2170, -13.9840, 1901,    204.0,  10.8716,  35.4606,2,    244.3,2,    245.3,2,     4.10,2,    11.10,2,     0.70,2,   -9.000,9,   2144.8,2,   2333.6,2,  10.8465
  64PE20070830, AR07E,    46,  2,     16,2,20070920,1414, 56.2170, -13.9840, 1901,    100.0,  11.4960,  35.4938,2,    239.7,2,    241.3,2,     2.90,2,    10.20,2,     0.64,2,   -9.000,9,   2137.7,2,   2335.0,2,  11.4833
  64PE20070830, AR07E,    46,  2,     17,2,20070920,1414, 56.2170, -13.9840, 1901,     13.0,  14.7050,  35.4699,2,    250.4,2,    253.2,2,     0.20,2,     0.30,2,     0.08,2,    1.639,2,   2075.7,2,   2342.3,2,  14.7031
  64PE20070830, AR07E,    47,  2,      1,2,20070920,1919, 56.1350, -13.1670, 2568,   2558.0,   2.9472,  34.9314,2,    253.6,2,    253.9,2,    26.60,2,    19.20,2,     1.30,2,    0.610,2,   2179.6,2,   2330.0,2,   2.7425
  64PE20070830, AR07E,    47,  2,      2,2,20070920,1919, 56.1350, -13.1670, 2568,   2511.0,   2.9630,  34.9318,2,    254.7,2,    255.8,2,    25.10,2,    19.00,2,     1.29,2,    0.634,2,   2176.0,2,   2327.4,2,   2.7627
  64PE20070830, AR07E,    47,  2,      3,2,20070920,1919, 56.1350, -13.1670, 2568,   2459.0,   3.0749,  34.9312,2,    260.6,2,    262.7,2,    20.40,2,    18.20,2,     1.22,2,    0.769,2,   2169.5,2,   2319.5,2,   2.8776
  64PE20070830, AR07E,    47,  2,      4,2,20070920,1919, 56.1350, -13.1670, 2568,   2285.0,   3.2767,  34.9227,2,    267.0,2,    269.4,2,    15.80,2,    17.60,2,     1.18,2,   -9.000,9,   2164.2,2,   2311.3,2,   3.0929
  64PE20070830, AR07E,    47,  2,      5,2,20070920,1919, 56.1350, -13.1670, 2568,   2031.0,   3.5421,  34.9247,2,    267.7,2,    270.0,2,    13.40,2,    17.50,2,     1.17,2,    1.268,2,   2163.4,2,   2307.9,2,   3.3785
  64PE20070830, AR07E,    47,  2,      6,2,20070920,1919, 56.1350, -13.1670, 2568,   2028.0,   3.5439,  34.9248,2,    267.8,2,    271.8,2,    13.40,2,    17.40,2,     1.17,2,    1.278,2,   2162.8,2,   2311.1,2,   3.3806
  64PE20070830, AR07E,    47,  2,      7,2,20070920,1919, 56.1350, -13.1670, 2568,   1770.0,   3.9161,  34.9350,2,    264.2,2,    264.9,2,    11.70,2,    17.60,2,     1.17,2,    1.458,2,   2163.3,2,   2308.6,2,   3.7720
  64PE20070830, AR07E,    47,  2,      8,2,20070920,1919, 56.1350, -13.1670, 2568,   1519.0,   4.5546,  34.9911,2,    252.8,2,    252.8,2,    11.40,2,    17.80,2,     1.18,2,    1.482,2,   2167.4,2,   2312.7,2,   4.4263
  64PE20070830, AR07E,    47,  2,      9,2,20070920,1919, 56.1350, -13.1670, 2568,   1266.0,   5.8680,  35.1204,2,    229.3,2,    229.5,2,    11.30,2,    18.30,2,     1.19,2,    1.350,2,   2173.6,2,   2320.9,2,   5.7507
  64PE20070830, AR07E,    47,  2,     10,2,20070920,1919, 56.1350, -13.1670, 2568,   1011.0,   7.7323,  35.2620,2,    204.9,2,    205.0,2,    10.60,2,    18.40,2,     1.19,2,    1.251,2,   2177.6,2,   2328.5,2,   7.6262
  64PE20070830, AR07E,    47,  2,     11,2,20070920,1919, 56.1350, -13.1670, 2568,   1007.0,   7.7517,  35.2629,2,    204.7,2,    204.7,2,    10.60,2,    18.20,2,     1.19,2,    1.252,2,   -999.0,9,   -999.0,9,   7.6459
  64PE20070830, AR07E,    47,  2,     12,2,20070920,1919, 56.1350, -13.1670, 2568,    912.0,   8.4884,  35.2953,2,    205.7,2,    205.8,2,     9.60,2,    17.60,2,     1.13,2,   -9.000,9,   2173.0,2,   2328.9,2,   8.3882
  64PE20070830, AR07E,    47,  2,     13,2,20070920,1919, 56.1350, -13.1670, 2568,    809.0,   9.1437,  35.3301,2,    224.7,2,    226.3,2,     7.50,2,    15.40,2,     0.99,2,    1.602,2,   2160.1,2,   2329.5,2,   9.0515
  64PE20070830, AR07E,    47,  2,     14,2,20070920,1919, 56.1350, -13.1670, 2568,    709.0,   9.5241,  35.3614,2,    244.2,2,    246.0,2,     5.80,2,    13.30,2,     0.86,2,   -9.000,9,   2149.1,2,   2329.4,2,   9.4417
  64PE20070830, AR07E,    47,  2,     15,2,20070920,1919, 56.1350, -13.1670, 2568,    610.0,   9.9535,  35.4048,2,    244.5,2,    246.6,2,     5.10,2,    12.60,2,     0.81,2,    1.808,2,   2145.6,2,   2330.5,2,   9.8811
  64PE20070830, AR07E,    47,  2,     16,2,20070920,1919, 56.1350, -13.1670, 2568,    504.0,  10.2145,  35.4315,2,    248.0,2,    249.9,2,     4.70,2,    11.90,2,     0.76,2,   -9.000,9,   2144.2,2,   2331.9,2,  10.1540
  64PE20070830, AR07E,    47,  2,     17,2,20070920,1919, 56.1350, -13.1670, 2568,    404.0,  10.3658,  35.4380,2,    248.4,2,    250.3,2,     4.60,2,    11.60,2,     0.74,2,    1.378,3,   2141.2,2,   2339.4,2,  10.3171
  64PE20070830, AR07E,    47,  2,     18,2,20070920,1919, 56.1350, -13.1670, 2568,    299.0,  10.5827,  35.4296,2,    247.4,2,   -999.0,9,     4.40,2,    11.40,2,     0.73,2,   -9.000,9,   2140.1,2,   2332.4,2,  10.5464
  64PE20070830, AR07E,    47,  2,     19,2,20070920,1919, 56.1350, -13.1670, 2568,    203.0,  10.9027,  35.4563,2,    243.1,2,   -999.0,9,     4.10,2,    11.20,2,     0.71,2,    1.814,2,   2140.5,2,   2334.0,2,  10.8777
  64PE20070830, AR07E,    47,  2,     20,2,20070920,1919, 56.1350, -13.1670, 2568,    102.0,  11.6448,  35.5184,2,    238.7,2,   -999.0,9,     3.10,2,    10.40,2,     0.64,2,   -9.000,9,   2136.7,2,   2338.0,2,  11.6317
  64PE20070830, AR07E,    47,  2,     21,2,20070920,1919, 56.1350, -13.1670, 2568,      9.0,  14.4974,  35.4669,2,    249.0,2,   -999.0,9,     0.20,2,     1.00,2,     0.11,2,    1.650,2,   -999.0,9,   -999.0,9,  14.4961
  64PE20070830, AR07E,    48,  2,      1,2,20070921,1236, 56.0500, -12.3330, 2741,   2731.0,   2.7405,  34.9282,2,    244.7,2,    243.3,2,    34.50,2,    20.30,2,     1.40,2,   -9.000,9,   2189.2,2,   2340.8,2,   2.5227
  64PE20070830, AR07E,    48,  2,      2,2,20070921,1236, 56.0500, -12.3330, 2741,   2682.0,   2.7766,  34.9302,2,    246.1,2,    247.2,2,    31.60,2,    20.10,2,     1.36,2,    0.398,2,   2187.0,2,   2338.4,2,   2.5629
  64PE20070830, AR07E,    48,  2,      3,2,20070921,1236, 56.0500, -12.3330, 2741,   2631.0,   2.8904,  34.9336,2,    251.8,2,    254.2,2,    27.30,2,    19.30,2,     1.31,2,    0.520,2,   2179.7,2,   2330.4,2,   2.6796
  64PE20070830, AR07E,    48,  2,      4,2,20070921,1236, 56.0500, -12.3330, 2741,   2542.0,   2.9997,  34.9333,2,    257.4,2,    258.7,2,    22.70,2,    18.60,2,     1.25,2,    0.676,2,   2172.0,2,   2322.8,2,   2.7956
  64PE20070830, AR07E,    48,  2,      5,2,20070921,1236, 56.0500, -12.3330, 2741,   2290.0,   3.2296,  34.9225,2,    266.5,2,    268.9,2,    16.10,2,    17.50,2,     1.18,2,   -9.000,9,   2161.4,2,   2311.4,2,   3.0461
  64PE20070830, AR07E,    48,  2,      6,2,20070921,1236, 56.0500, -12.3330, 2741,   2023.0,   3.4820,  34.9174,2,    268.4,2,    269.5,2,    13.40,2,    17.40,2,     1.17,2,    1.276,2,   2162.7,2,   2307.6,2,   3.3201
  64PE20070830, AR07E,    48,  2,      7,2,20070921,1236, 56.0500, -12.3330, 2741,   2023.0,   3.4785,  34.9179,2,    268.4,2,    269.2,2,    13.30,2,    17.40,2,     1.16,2,    1.277,2,   2162.4,2,   2306.9,2,   3.3167
  64PE20070830, AR07E,    48,  2,      8,2,20070921,1236, 56.0500, -12.3330, 2741,   1773.0,   3.8560,  34.9320,2,    264.3,2,    264.6,2,    12.00,2,    17.60,2,     1.17,2,    1.449,2,   2163.6,2,   2307.7,2,   3.7124
  64PE20070830, AR07E,    48,  2,      9,2,20070921,1236, 56.0500, -12.3330, 2741,   1520.0,   4.4699,  34.9818,2,    254.3,2,    254.5,2,    11.40,2,    17.80,2,     1.17,2,   -9.000,9,   2166.7,2,   2310.7,2,   4.3425
  64PE20070830, AR07E,    48,  2,     10,2,20070921,1236, 56.0500, -12.3330, 2741,   1264.0,   5.8276,  35.1175,2,    231.6,2,    232.1,2,    11.20,2,    18.00,2,     1.18,2,    1.375,2,   2173.5,2,   2319.2,2,   5.7109
  64PE20070830, AR07E,    48,  2,     11,2,20070921,1236, 56.0500, -12.3330, 2741,   1011.0,   7.6941,  35.2608,2,    205.2,2,    205.0,2,    10.70,2,    18.30,2,     1.19,2,    1.264,2,   2178.3,2,   2329.3,2,   7.5883
  64PE20070830, AR07E,    48,  2,     12,2,20070921,1236, 56.0500, -12.3330, 2741,   1014.0,   7.7379,  35.2624,2,    205.6,2,    205.1,2,    10.60,2,    18.30,2,     1.18,2,   -9.000,9,   2181.2,2,   2327.4,2,   7.6315
  64PE20070830, AR07E,    48,  2,     13,2,20070921,1236, 56.0500, -12.3330, 2741,    909.0,   8.6192,  35.3010,2,    208.0,2,    208.1,2,     9.30,2,    17.20,2,     1.11,2,    1.382,2,   2170.9,2,   2327.9,2,   8.5185
  64PE20070830, AR07E,    48,  2,     14,2,20070921,1236, 56.0500, -12.3330, 2741,    806.0,   9.2470,  35.3388,2,    232.7,2,    233.7,2,     6.90,2,    14.50,2,     0.94,2,   -9.000,9,   2154.9,2,   2329.0,2,   9.1545
  64PE20070830, AR07E,    48,  2,     15,2,20070921,1236, 56.0500, -12.3330, 2741,    706.0,   9.5553,  35.3655,2,    242.0,2,    242.2,2,     5.90,2,    13.40,2,     0.87,2,    1.791,2,   2150.3,2,   2328.8,2,   9.4731
  64PE20070830, AR07E,    48,  2,     16,2,20070921,1236, 56.0500, -12.3330, 2741,    605.0,   9.9134,  35.4015,2,    243.3,2,    242.8,2,     5.30,2,    12.70,2,     0.82,2,   -9.000,9,   2148.1,2,   2331.4,2,   9.8418
  64PE20070830, AR07E,    48,  2,     17,2,20070921,1236, 56.0500, -12.3330, 2741,    503.0,  10.1711,  35.4314,2,    250.1,2,    250.1,2,     4.70,2,    11.70,2,     0.75,2,    1.854,2,   2143.6,2,   2332.7,2,  10.1109
  64PE20070830, AR07E,    48,  2,     18,2,20070921,1236, 56.0500, -12.3330, 2741,    407.0,  10.3483,  35.4410,2,    250.1,2,    249.9,2,     4.40,2,    11.50,2,     0.74,2,   -9.000,9,   2140.0,2,   2331.8,2,  10.2993
  64PE20070830, AR07E,    48,  2,     19,2,20070921,1236, 56.0500, -12.3330, 2741,    306.0,  10.4452,  35.4171,2,    245.4,2,    245.9,2,     4.60,2,    11.80,2,     0.75,2,    1.832,2,   2143.0,2,   2334.4,2,  10.4083
  64PE20070830, AR07E,    48,  2,     20,2,20070921,1236, 56.0500, -12.3330, 2741,    202.0,  10.8536,  35.4668,2,    246.2,2,    246.0,2,     4.10,2,    11.00,2,     0.70,2,   -9.000,9,   2142.4,2,   2335.8,2,  10.8288
  64PE20070830, AR07E,    48,  2,     21,2,20070921,1236, 56.0500, -12.3330, 2741,    102.0,  11.5542,  35.4901,2,    239.5,2,    239.5,2,     2.70,2,    10.20,2,     0.63,2,   -9.000,9,   2135.9,2,   2337.3,2,  11.5412
  64PE20070830, AR07E,    48,  2,     22,2,20070921,1236, 56.0500, -12.3330, 2741,     11.0,  14.5231,  35.4541,2,    249.9,2,    250.9,2,     0.20,2,     0.60,2,     0.09,2,   -9.000,9,   2068.7,2,   2342.2,2,  14.5215
  64PE20070830, AR07E,    49,  2,      1,2,20070921,0558, 55.9830, -11.4990, 2718,   2708.0,   2.7310,  34.9284,2,    244.9,2,    245.7,2,    33.00,2,    20.50,2,     1.38,2,    0.357,2,   2188.9,2,   2342.8,2,   2.5156
  64PE20070830, AR07E,    49,  2,      2,2,20070921,0558, 55.9830, -11.4990, 2718,   2658.0,   2.7447,  34.9296,2,    245.6,2,    246.7,2,    32.40,2,    20.10,2,     1.37,2,    0.375,2,   2186.6,2,   2338.9,2,   2.5340
  64PE20070830, AR07E,    49,  2,      3,2,20070921,0558, 55.9830, -11.4990, 2718,   2588.0,   2.8897,  34.9334,2,    253.1,2,    254.2,2,    26.10,2,    19.10,2,     1.29,2,    0.533,2,   2178.6,2,   2330.0,2,   2.6831
  64PE20070830, AR07E,    49,  2,      4,2,20070921,0558, 55.9830, -11.4990, 2718,   2541.0,   2.9498,  34.9343,2,    255.7,2,    257.7,2,    23.40,2,    18.70,2,     1.26,2,    0.610,2,   2172.4,2,   2325.9,2,   2.7467
  64PE20070830, AR07E,    49,  2,      5,2,20070921,0558, 55.9830, -11.4990, 2718,   2285.0,   3.2389,  34.9229,2,    266.7,2,    268.4,2,    15.50,2,    17.40,2,     1.17,2,    1.033,2,   2160.1,2,   2315.0,2,   3.0558
  64PE20070830, AR07E,    49,  2,      6,2,20070921,0558, 55.9830, -11.4990, 2718,   2027.0,   3.4695,  34.9170,2,    268.5,2,    270.7,2,    13.00,2,    17.30,2,     1.15,2,    1.275,2,   2158.5,2,   2309.2,2,   3.3074
  64PE20070830, AR07E,    49,  2,      7,2,20070921,0558, 55.9830, -11.4990, 2718,   2027.0,   3.4707,  34.9177,2,    268.9,2,    270.4,2,    13.00,2,    17.30,2,     1.16,2,    1.277,2,   2158.4,2,   2310.0,2,   3.3086
  64PE20070830, AR07E,    49,  2,      8,2,20070921,0558, 55.9830, -11.4990, 2718,   1778.0,   3.7515,  34.9275,2,    265.8,2,    267.4,2,    11.90,2,    17.50,2,     1.15,2,    1.388,2,   2159.6,2,   2309.2,2,   3.6088
  64PE20070830, AR07E,    49,  2,      9,2,20070921,0558, 55.9830, -11.4990, 2718,   1520.0,   4.4279,  34.9866,2,    256.0,2,    257.4,2,    11.20,2,    17.40,2,     1.15,2,    1.493,2,   2164.4,2,   2311.5,2,   4.3009
  64PE20070830, AR07E,    49,  2,     10,2,20070921,0558, 55.9830, -11.4990, 2718,   1268.0,   5.7369,  35.1074,2,    230.7,2,    231.4,2,    10.90,2,    18.30,2,     1.20,2,    1.374,2,   2173.7,2,   2319.9,2,   5.6206
  64PE20070830, AR07E,    49,  2,     11,2,20070921,0558, 55.9830, -11.4990, 2718,   1009.0,   7.7647,  35.2617,2,    206.5,2,    205.6,2,    10.20,2,    18.20,2,     1.17,2,    1.273,2,   2175.6,2,   2331.0,2,   7.6586
  64PE20070830, AR07E,    49,  2,     12,2,20070921,0558, 55.9830, -11.4990, 2718,   1010.0,   7.7587,  35.2608,2,    206.4,2,    205.4,2,    10.30,2,    18.20,2,     1.17,2,   -9.000,9,   2177.1,2,   2329.5,2,   7.6526
  64PE20070830, AR07E,    49,  2,     13,2,20070921,0558, 55.9830, -11.4990, 2718,    908.0,   8.4718,  35.2942,2,    208.4,2,    207.8,2,     9.20,2,    17.30,2,     1.12,2,   -9.000,9,   2173.1,2,   2330.3,2,   8.3722
  64PE20070830, AR07E,    49,  2,     14,2,20070921,0558, 55.9830, -11.4990, 2718,    810.0,   9.1461,  35.3321,2,    228.6,2,    230.3,2,     7.10,2,    15.00,2,     0.97,2,    1.644,2,   2157.8,2,   2330.6,2,   9.0538
  64PE20070830, AR07E,    49,  2,     15,2,20070921,0558, 55.9830, -11.4990, 2718,    706.0,   9.5171,  35.3627,2,    240.7,2,    244.1,2,     5.90,2,    13.50,2,     0.87,2,   -9.000,9,   2146.6,2,   2330.9,2,   9.4351
  64PE20070830, AR07E,    49,  2,     16,2,20070921,0558, 55.9830, -11.4990, 2718,    605.0,   9.9521,  35.4068,2,    244.0,2,    245.6,2,     5.20,2,    12.60,2,     0.81,2,    1.780,2,   2143.6,2,   2333.0,2,   9.8803
  64PE20070830, AR07E,    49,  2,     17,2,20070921,0558, 55.9830, -11.4990, 2718,    507.0,  10.1864,  35.4315,2,    249.9,2,    252.7,2,     4.60,2,    11.70,2,     0.76,2,   -9.000,9,   2138.9,2,   2334.2,2,  10.1256
  64PE20070830, AR07E,    49,  2,     18,2,20070921,0558, 55.9830, -11.4990, 2718,    406.0,  10.3477,  35.4412,2,    250.5,2,    252.3,2,     4.40,2,    11.60,2,     0.74,2,    1.854,2,   2138.6,2,   2333.8,2,  10.2988
  64PE20070830, AR07E,    49,  2,     19,2,20070921,0558, 55.9830, -11.4990, 2718,    302.0,  10.4388,  35.4211,2,    246.9,2,    248.5,2,     4.50,2,    11.70,2,     0.75,2,   -9.000,9,   2139.2,2,   2332.8,2,  10.4024
  64PE20070830, AR07E,    49,  2,     20,2,20070921,0558, 55.9830, -11.4990, 2718,    202.0,  10.8340,  35.4660,2,    247.5,2,    248.7,2,     4.00,2,    11.00,2,     0.70,2,    1.821,2,   2134.7,2,   2334.7,2,  10.8092
  64PE20070830, AR07E,    49,  2,     21,2,20070921,0558, 55.9830, -11.4990, 2718,    102.0,  11.3040,  35.4803,2,    242.7,2,    244.1,2,     3.10,2,    10.50,2,     0.65,2,   -9.000,9,   2135.2,2,   2335.4,2,  11.2912
  64PE20070830, AR07E,    49,  2,     22,2,20070921,0558, 55.9830, -11.4990, 2718,     10.0,  14.0383,  35.4405,2,    249.8,2,    252.7,2,     0.30,2,     2.10,2,     0.17,2,    1.690,2,   2082.2,2,   2338.3,2,  14.0369