BOTTLE,20180912PRINUNIVRMK
EXPOCODE,SECT_ID,STNNBR,CASTNO,BTLNBR,BTLNBR_FLAG_W,DATE,TIME,LATITUDE,LONGITUDE,DEPTH,CTDPRS,CTDTMP,CTDSAL,CTDSAL_FLAG_W,CTDOXY,CTDOXY_FLAG_W,OXYGEN,OXYGEN_FLAG_W,SILCAT,SILCAT_FLAG_W,NITRAT,NITRAT_FLAG_W,PHSPHT,PHSPHT_FLAG_W,CFC-12,CFC-12_FLAG_W,TCARBN,TCARBN_FLAG_W,ALKALI,ALKALI_FLAG_W,THETA
,,,,,,,,,,METERS,DBAR,ITS-90,PSS-78,,UMOL/KG,,UMOL/KG,,UMOL/KG,,UMOL/KG,,UMOL/KG,,PMOL/KG,,UMOL/KG,,UMOL/KG,,DEG C
  64PE20070830, AR07E,    38,  2,      1,2,20070919,0316, 56.8670, -21.0320, 2264,   1933.0,   3.1750,  34.9201,2,    273.4,2,    272.2,2,    13.40,2,    17.00,2,     1.13,2,    1.271,2,   2162.0,2,   2307.5,2,   3.0260
  64PE20070830, AR07E,    38,  2,      2,2,20070919,0316, 56.8670, -21.0320, 2264,   1877.0,   3.2665,  34.9086,2,    273.8,2,    274.6,2,    12.90,2,    17.20,2,     1.14,2,    1.349,2,   2160.0,2,   2304.3,2,   3.1214
  64PE20070830, AR07E,    38,  2,      3,2,20070919,0316, 56.8670, -21.0320, 2264,   1823.0,   3.3178,  34.9059,2,    273.7,2,    274.1,2,    12.40,2,    17.10,2,     1.14,2,    1.384,2,   2161.3,2,   2305.5,2,   3.1769
  64PE20070830, AR07E,    38,  2,      4,2,20070919,0316, 56.8670, -21.0320, 2264,   1777.0,   3.3634,  34.9046,2,    273.6,2,    272.9,2,    12.30,2,    17.20,2,     1.14,2,    1.421,2,   2158.9,2,   2305.8,2,   3.2260
  64PE20070830, AR07E,    38,  2,      5,2,20070919,0316, 56.8670, -21.0320, 2264,   1518.0,   3.7195,  34.9165,2,    267.5,2,    267.7,2,    11.70,2,    17.50,2,     1.15,2,    1.535,2,   2165.8,2,   2305.3,2,   3.6010
  64PE20070830, AR07E,    38,  2,      6,2,20070919,0316, 56.8670, -21.0320, 2264,   1263.0,   4.1452,  34.9340,2,    260.6,2,    261.0,2,    11.00,2,    17.70,2,     1.16,2,    1.714,2,   2165.3,2,   2307.1,2,   4.0449
  64PE20070830, AR07E,    38,  2,      7,2,20070919,0316, 56.8670, -21.0320, 2264,   1013.0,   5.4339,  35.0525,2,    234.1,2,    233.9,2,    11.30,2,    18.40,2,     1.20,2,    1.503,2,   2172.8,2,   2313.2,2,   5.3452
  64PE20070830, AR07E,    38,  2,      8,2,20070919,0316, 56.8670, -21.0320, 2264,   1010.0,   5.4409,  35.0533,2,    234.0,2,    233.7,2,    11.10,2,    18.40,2,     1.20,2,    1.458,2,   2174.5,2,   2313.8,2,   5.3524
  64PE20070830, AR07E,    38,  2,      9,2,20070919,0316, 56.8670, -21.0320, 2264,    913.0,   6.0024,  35.0765,2,    221.6,2,    223.0,2,    11.10,2,    18.70,2,     1.22,2,    0.887,4,   2179.6,2,   2313.6,2,   5.9191
  64PE20070830, AR07E,    38,  2,     10,2,20070919,0316, 56.8670, -21.0320, 2264,    810.0,   7.1957,  35.2018,2,    206.9,2,    206.2,2,    11.00,2,    18.80,2,     1.20,2,   -9.000,9,   2184.9,2,   2323.8,2,   7.1150
  64PE20070830, AR07E,    38,  2,     11,2,20070919,0316, 56.8670, -21.0320, 2264,    711.0,   7.9511,  35.2208,2,    199.8,2,    200.9,2,    10.40,2,    18.60,2,     1.19,2,   -9.000,9,   2178.7,2,   2323.5,2,   7.8768
  64PE20070830, AR07E,    38,  2,     12,2,20070919,0316, 56.8670, -21.0320, 2264,    607.0,   8.8886,  35.2797,2,    207.2,2,    209.5,2,     8.70,2,    17.00,2,     1.08,2,   -9.000,9,   2173.0,2,   2324.9,2,   8.8213
  64PE20070830, AR07E,    38,  2,     13,2,20070919,0316, 56.8670, -21.0320, 2264,    508.0,   9.4653,  35.3104,2,    222.3,2,    223.0,2,     7.20,2,    15.10,2,     0.97,2,    1.572,2,   2161.6,2,   2326.2,2,   9.4071
  64PE20070830, AR07E,    38,  2,     14,2,20070919,0316, 56.8670, -21.0320, 2264,    405.0,  10.0492,  35.3719,2,    234.6,2,    235.0,2,     5.60,2,    13.10,2,     0.84,2,   -9.000,9,   2141.7,2,   2328.6,2,  10.0013
  64PE20070830, AR07E,    38,  2,     15,2,20070919,0316, 56.8670, -21.0320, 2264,    302.0,  10.1546,  35.3495,2,    243.4,2,    241.5,2,     5.20,2,    12.60,2,     0.80,2,    1.824,2,   2146.6,2,   2329.5,2,  10.1189
  64PE20070830, AR07E,    38,  2,     16,2,20070919,0316, 56.8670, -21.0320, 2264,    200.0,  10.4789,  35.3833,2,    243.9,2,    242.4,2,     4.70,2,    11.90,2,     0.76,2,   -9.000,9,   2142.6,2,   2329.9,2,  10.4549
  64PE20070830, AR07E,    38,  2,     17,2,20070919,0316, 56.8670, -21.0320, 2264,    100.0,  11.3218,  35.4532,2,    243.0,2,    243.8,2,     3.00,2,    10.40,2,     0.66,2,   -9.000,9,   2134.3,2,   2334.1,2,  11.3092
  64PE20070830, AR07E,    38,  2,     18,2,20070919,0316, 56.8670, -21.0320, 2264,     12.0,  14.2275,  35.4375,2,    248.2,2,    251.7,2,     0.20,2,     2.30,2,     0.20,2,    1.639,2,   2089.3,2,   2337.8,2,  14.2258
  64PE20070830, AR07E,    39,  2,      1,2,20070919,0824, 56.7840, -20.1500, 1411,   1135.0,   4.5995,  35.0014,2,    248.7,2,    247.1,2,    13.30,2,    18.10,2,     1.19,2,    1.454,2,   2169.0,2,   2311.6,2,   4.5064
  64PE20070830, AR07E,    39,  2,      2,2,20070919,0824, 56.7840, -20.1500, 1411,   1082.0,   4.7952,  35.0193,2,    244.9,2,    244.3,2,    12.70,2,    18.00,2,     1.19,2,   -9.000,9,   2169.4,2,   2314.2,2,   4.7052
  64PE20070830, AR07E,    39,  2,      3,2,20070919,0824, 56.7840, -20.1500, 1411,   1016.0,   5.4684,  35.0819,2,    234.0,2,    232.6,2,    12.30,2,    18.30,2,     1.20,2,    1.370,2,   2174.1,2,   2317.5,2,   5.3791
  64PE20070830, AR07E,    39,  2,      4,2,20070919,0824, 56.7840, -20.1500, 1411,   1016.0,   5.4534,  35.0812,2,    234.1,2,    232.9,2,    12.50,2,    18.20,2,     1.20,2,    1.374,2,   2175.8,2,   2318.3,2,   5.3642
  64PE20070830, AR07E,    39,  2,      5,2,20070919,0824, 56.7840, -20.1500, 1411,    910.0,   6.2603,  35.1515,2,    220.5,2,    219.7,2,    11.30,2,    18.50,2,     1.21,2,   -9.000,9,   2179.9,2,   2321.7,2,   6.1755
  64PE20070830, AR07E,    39,  2,      6,2,20070919,0824, 56.7840, -20.1500, 1411,    810.0,   6.9039,  35.1880,2,    210.3,2,    210.2,2,    11.40,2,    18.70,2,     1.21,2,    1.285,2,   2179.9,2,   2324.0,2,   6.8250
  64PE20070830, AR07E,    39,  2,      7,2,20070919,0824, 56.7840, -20.1500, 1411,    706.0,   7.7854,  35.2305,2,    201.6,2,    202.0,2,    11.40,2,    18.70,2,     1.21,2,   -9.000,9,   2178.8,2,   2324.7,2,   7.7125
  64PE20070830, AR07E,    39,  2,      8,2,20070919,0824, 56.7840, -20.1500, 1411,    605.0,   8.4822,  35.2455,2,    206.0,2,    207.1,2,    10.60,2,    18.50,2,     1.20,2,    1.438,2,   2170.9,2,   2323.4,2,   8.4170
  64PE20070830, AR07E,    39,  2,      9,2,20070919,0824, 56.7840, -20.1500, 1411,    505.0,   8.9344,  35.2167,2,    208.1,2,    207.8,2,     9.30,2,    17.60,2,     1.12,2,   -9.000,9,   2170.7,2,   2322.9,2,   8.8786
  64PE20070830, AR07E,    39,  2,     10,2,20070919,0824, 56.7840, -20.1500, 1411,    402.0,   9.6991,  35.2915,2,    226.0,2,    228.0,2,     8.70,2,    17.00,2,     1.09,2,    1.686,2,   2157.9,2,   2326.5,2,   9.6527
  64PE20070830, AR07E,    39,  2,     11,2,20070919,0824, 56.7840, -20.1500, 1411,    305.0,  10.1921,  35.3413,2,    243.2,2,    245.0,2,     6.70,2,    14.50,2,     0.93,2,   -9.000,9,   2146.8,2,   2328.4,2,  10.1559
  64PE20070830, AR07E,    39,  2,     12,2,20070919,0824, 56.7840, -20.1500, 1411,    202.0,  10.6229,  35.3853,2,    240.2,2,    240.7,2,     5.30,2,    12.30,2,     0.80,2,    1.799,2,   2144.7,2,   2330.5,2,  10.5984
  64PE20070830, AR07E,    39,  2,     13,2,20070919,0824, 56.7840, -20.1500, 1411,     93.0,  11.5427,  35.4427,2,    242.2,2,   -999.0,9,     4.70,2,    12.10,2,     0.77,2,   -9.000,9,   2133.5,2,   2334.7,2,  11.5309
  64PE20070830, AR07E,    39,  2,     14,2,20070919,0824, 56.7840, -20.1500, 1411,     10.0,  14.5054,  35.4662,2,    245.1,2,    249.4,2,  -999.00,9,  -999.00,9,  -999.00,9,    1.687,2,   2074.7,2,   2337.1,2,  14.5039
  64PE20070830, AR07E,    40,  2,      1,2,20070919,1313, 56.7010, -19.2680, 1464,   1454.0,   3.7768,  34.9324,2,    264.6,2,    261.5,2,    13.60,2,    17.50,2,     1.17,2,    1.434,2,   2165.4,2,   2310.6,2,   3.6633
  64PE20070830, AR07E,    40,  2,      2,2,20070919,1313, 56.7010, -19.2680, 1464,   1407.0,   3.9823,  34.9445,2,    263.2,2,    260.0,2,    12.10,2,    17.40,2,     1.15,2,    1.503,2,   2163.3,2,   2310.0,2,   3.8707
  64PE20070830, AR07E,    40,  2,      3,2,20070919,1313, 56.7010, -19.2680, 1464,   1354.0,   4.1628,  34.9562,2,    260.6,2,    257.1,2,    11.70,2,    17.60,2,     1.16,2,    1.548,2,   2165.0,2,   2309.4,2,   4.0541
  64PE20070830, AR07E,    40,  2,      4,2,20070919,1313, 56.7010, -19.2680, 1464,   1266.0,   4.3424,  34.9697,2,    258.0,2,    253.3,2,    11.40,2,    17.60,2,     1.16,2,   -9.000,9,   2166.7,2,   2310.2,2,   4.2398
  64PE20070830, AR07E,    40,  2,      5,2,20070919,1313, 56.7010, -19.2680, 1464,   1012.0,   5.4753,  35.0791,2,    234.6,2,    230.3,2,    11.40,2,    18.30,2,     1.19,2,    1.368,2,   2173.3,2,   2318.5,2,   5.3863
  64PE20070830, AR07E,    40,  2,      6,2,20070919,1313, 56.7010, -19.2680, 1464,   1009.0,   5.4846,  35.0805,2,    234.6,2,    229.4,2,    11.30,2,    18.40,2,     1.19,2,    1.403,2,   2172.4,2,   2317.9,2,   5.3958
  64PE20070830, AR07E,    40,  2,      7,2,20070919,1313, 56.7010, -19.2680, 1464,    914.0,   6.2730,  35.1461,2,    220.8,2,    215.8,2,    11.30,2,    18.50,2,     1.20,2,    1.330,2,   2176.6,2,   2323.6,2,   6.1877
  64PE20070830, AR07E,    40,  2,      8,2,20070919,1313, 56.7010, -19.2680, 1464,    810.0,   6.9098,  35.1906,2,    210.7,2,    205.7,2,    11.10,2,    18.70,2,     1.20,2,   -9.000,9,   2177.4,2,   2327.5,2,   6.8309
  64PE20070830, AR07E,    40,  2,      9,2,20070919,1313, 56.7010, -19.2680, 1464,    706.0,   7.6838,  35.2178,2,    202.0,2,    196.8,2,    10.70,2,    18.60,2,     1.20,2,    1.420,2,   2176.1,2,   2327.4,2,   7.6114
  64PE20070830, AR07E,    40,  2,     10,2,20070919,1313, 56.7010, -19.2680, 1464,    609.0,   7.9801,  35.1482,2,    201.1,2,    196.2,2,    10.00,2,    18.50,2,     1.19,2,   -9.000,9,   2172.4,2,   2321.0,2,   7.9168
  64PE20070830, AR07E,    40,  2,     11,2,20070919,1313, 56.7010, -19.2680, 1464,    508.0,   9.0687,  35.2196,2,    211.0,2,    206.0,2,     8.30,2,    16.60,2,     1.06,2,    1.506,2,   2160.7,2,   2325.5,2,   9.0121
  64PE20070830, AR07E,    40,  2,     12,2,20070919,1313, 56.7010, -19.2680, 1464,    404.0,   9.9297,  35.3120,2,    236.4,2,   -999.0,9,     6.10,2,    13.40,2,     0.87,2,   -9.000,9,   2145.1,2,   2327.1,2,   9.8823
  64PE20070830, AR07E,    40,  2,     13,2,20070919,1313, 56.7010, -19.2680, 1464,    300.0,  10.4141,  35.3720,2,    243.3,2,   -999.0,9,     5.10,2,    12.10,2,     0.78,2,    2.116,2,   2139.6,2,   2329.1,2,  10.3780
  64PE20070830, AR07E,    40,  2,     14,2,20070919,1313, 56.7010, -19.2680, 1464,    203.0,  10.8775,  35.4129,2,    233.9,2,    228.7,2,     5.20,2,    12.40,2,     0.78,2,   -9.000,9,   2140.6,2,   2332.9,2,  10.8525
  64PE20070830, AR07E,    40,  2,     15,2,20070919,1313, 56.7010, -19.2680, 1464,    105.0,  11.7423,  35.4975,2,    240.1,2,    235.8,2,     2.60,2,     9.90,2,     0.62,2,    1.814,2,   2128.8,2,   2337.4,2,  11.7288
  64PE20070830, AR07E,    40,  2,     16,2,20070919,1313, 56.7010, -19.2680, 1464,      9.0,  14.9025,  35.4416,2,    245.0,2,    242.6,2,     0.20,2,     1.10,2,     0.13,2,    1.639,2,   -999.0,9,   -999.0,9,  14.9011
  64PE20070830, AR07E,    41,  2,      1,2,20070919,1759, 56.6170, -18.3660, 1314,   1304.0,   3.7817,  34.9339,2,    263.4,2,    261.2,2,    13.80,2,    17.60,2,     1.17,2,   -9.000,9,   2166.4,2,   2311.9,2,   3.6813
  64PE20070830, AR07E,    41,  2,      2,2,20070919,1759, 56.6170, -18.3660, 1314,   1253.0,   4.0722,  34.9538,2,    260.3,2,    257.0,2,    12.50,2,    17.60,2,     1.16,2,   -9.000,9,   2166.6,2,   2309.4,2,   3.9734
  64PE20070830, AR07E,    41,  2,      3,2,20070919,1759, 56.6170, -18.3660, 1314,   1209.0,   4.2458,  34.9625,2,    258.0,2,    255.2,2,    11.70,2,    17.60,2,     1.17,2,   -9.000,9,   2167.1,2,   2308.8,2,   4.1492
  64PE20070830, AR07E,    41,  2,      4,2,20070919,1759, 56.6170, -18.3660, 1314,   1012.0,   5.7301,  35.1049,2,    229.8,2,    226.4,2,    11.80,2,    18.20,2,     1.19,2,   -9.000,9,   2174.5,2,   2321.0,2,   5.6391
  64PE20070830, AR07E,    41,  2,      5,2,20070919,1759, 56.6170, -18.3660, 1314,   1013.0,   5.7345,  35.1055,2,    230.0,2,    226.0,2,    11.70,2,    18.20,2,     1.18,2,   -9.000,9,   2173.5,2,   2318.6,2,   5.6434
  64PE20070830, AR07E,    41,  2,      6,2,20070919,1759, 56.6170, -18.3660, 1314,    913.0,   6.3259,  35.1531,2,    220.0,2,    216.2,2,    11.50,2,    18.50,2,     1.20,2,   -9.000,9,   2180.9,2,   2321.5,2,   6.2403
  64PE20070830, AR07E,    41,  2,      7,2,20070919,1759, 56.6170, -18.3660, 1314,    807.0,   7.2052,  35.2035,2,    207.0,2,    203.3,2,    11.00,2,    18.70,2,     1.20,2,   -9.000,9,   2176.5,2,   2325.9,2,   7.1248
  64PE20070830, AR07E,    41,  2,      8,2,20070919,1759, 56.6170, -18.3660, 1314,    704.0,   8.0753,  35.2323,2,    202.9,2,    198.9,2,    10.10,2,    18.10,2,     1.17,2,   -9.000,9,   2174.4,2,   2324.4,2,   8.0011
  64PE20070830, AR07E,    41,  2,      9,2,20070919,1759, 56.6170, -18.3660, 1314,    606.0,   8.8115,  35.2569,2,    208.9,2,    206.3,2,     8.70,2,    16.90,2,     1.08,2,   -9.000,9,   2167.9,2,   2324.0,2,   8.7447
  64PE20070830, AR07E,    41,  2,     10,2,20070919,1759, 56.6170, -18.3660, 1314,    505.0,   9.5438,  35.2931,2,    220.8,2,    218.1,2,     7.10,2,    15.00,2,     0.96,2,   -9.000,9,   2153.7,2,   2325.8,2,   9.4857
  64PE20070830, AR07E,    41,  2,     11,2,20070919,1759, 56.6170, -18.3660, 1314,    404.0,  10.1159,  35.3474,2,    237.6,2,    235.7,2,     5.70,2,    12.90,2,     0.83,2,   -9.000,9,   2142.8,2,   2329.0,2,  10.0680
  64PE20070830, AR07E,    41,  2,     12,2,20070919,1759, 56.6170, -18.3660, 1314,    308.0,  10.3889,  35.3744,2,    244.5,2,    242.8,2,     5.00,2,    12.00,2,     0.77,2,   -9.000,9,   2137.8,2,   2329.6,2,  10.3519
  64PE20070830, AR07E,    41,  2,     13,2,20070919,1759, 56.6170, -18.3660, 1314,    204.0,  10.9089,  35.4317,2,    240.8,2,    239.0,2,     4.40,2,    11.40,2,     0.72,2,   -9.000,9,   2133.8,2,   2332.9,2,  10.8837
  64PE20070830, AR07E,    41,  2,     14,2,20070919,1759, 56.6170, -18.3660, 1314,    101.0,  11.5038,  35.4686,2,    242.8,2,    242.1,2,     2.30,2,     8.60,2,     0.55,2,   -9.000,9,   2122.1,2,   2333.6,2,  11.4910
  64PE20070830, AR07E,    41,  2,     15,2,20070919,1759, 56.6170, -18.3660, 1314,     11.0,  14.5445,  35.4805,2,    246.8,2,    246.9,2,     0.20,2,     1.70,2,     0.16,2,   -9.000,9,   2084.1,2,   2338.8,2,  14.5429
  64PE20070830, AR07E,    42,  2,      1,2,20070919,2238, 56.5340, -17.4510, 1301,    876.0,   7.3432,  35.2329,2,    208.9,2,    204.8,2,    11.20,2,    18.30,2,     1.20,2,   -9.000,9,   2178.4,2,   2328.0,2,   7.2546
  64PE20070830, AR07E,    42,  2,      2,2,20070919,2238, 56.5340, -17.4510, 1301,    825.0,   7.7738,  35.2572,2,    205.0,2,    201.2,2,    10.70,2,    18.20,2,     1.19,2,   -9.000,9,   2177.3,2,   2329.1,2,   7.6880
  64PE20070830, AR07E,    42,  2,      3,2,20070919,2238, 56.5340, -17.4510, 1301,    777.0,   8.0690,  35.2714,2,    204.0,2,    200.6,2,    10.40,2,    18.10,2,     1.16,2,   -9.000,9,   2178.3,2,   2330.4,2,   7.9867
  64PE20070830, AR07E,    42,  2,      4,2,20070919,2238, 56.5340, -17.4510, 1301,    704.0,   8.4672,  35.2689,2,    202.8,2,    199.6,2,     9.80,2,    17.80,2,     1.14,2,   -9.000,9,   -999.0,9,   2329.3,2,   8.3909
  64PE20070830, AR07E,    42,  2,      5,2,20070919,2238, 56.5340, -17.4510, 1301,    608.0,   9.3518,  35.3360,2,    222.1,2,    219.4,2,     7.70,2,    15.20,2,     0.98,2,   -9.000,9,   -999.0,9,   2329.1,2,   9.2823
  64PE20070830, AR07E,    42,  2,      6,2,20070919,2238, 56.5340, -17.4510, 1301,    507.0,   9.9035,  35.3748,2,    230.6,2,    230.1,2,     6.10,2,    13.60,2,     0.87,2,   -9.000,9,   -999.0,9,   2331.2,2,   9.8438
  64PE20070830, AR07E,    42,  2,      7,2,20070919,2238, 56.5340, -17.4510, 1301,    401.0,  10.2039,  35.3892,2,    236.6,2,    235.5,2,     5.40,2,    12.70,2,     0.90,2,   -9.000,9,   -999.0,9,   2329.5,2,  10.1561
  64PE20070830, AR07E,    42,  2,      8,2,20070919,2238, 56.5340, -17.4510, 1301,    304.0,  10.4016,  35.3851,2,    245.4,2,    243.9,2,     4.80,2,    11.90,2,     0.76,2,   -9.000,9,   -999.0,9,   2331.2,2,  10.3651
  64PE20070830, AR07E,    42,  2,      9,2,20070919,2238, 56.5340, -17.4510, 1301,    203.0,  10.8769,  35.4365,2,    240.5,2,    242.2,2,     4.40,2,    11.50,2,     0.72,2,   -9.000,9,   -999.0,9,   2332.2,2,  10.8519
  64PE20070830, AR07E,    42,  2,     10,2,20070919,2238, 56.5340, -17.4510, 1301,    104.0,  11.5824,  35.4999,2,    240.5,2,    239.3,2,     3.10,2,    10.30,2,     0.64,2,   -9.000,9,   -999.0,9,   2336.4,2,  11.5691
  64PE20070830, AR07E,    42,  2,     11,2,20070919,2238, 56.5340, -17.4510, 1301,     10.0,  14.6643,  35.4758,2,    243.8,2,    247.1,2,     0.10,2,     1.50,2,     0.15,2,   -9.000,9,   -999.0,9,   2340.1,2,  14.6628
  64PE20070830, AR07E,    43,  2,      1,2,20070920,0305, 56.4500, -16.5340,  786,    527.0,   9.3561,  35.3494,2,    227.5,2,    224.2,2,     8.60,2,    14.90,2,     0.97,2,   -9.000,9,   2157.6,2,   2329.9,2,   9.2961
  64PE20070830, AR07E,    43,  2,      2,2,20070920,0305, 56.4500, -16.5340,  786,    480.0,   9.5568,  35.3653,2,    237.7,2,    234.9,2,     6.70,2,    13.80,2,     0.89,2,   -9.000,9,   2147.0,2,   2329.5,2,   9.5016
  64PE20070830, AR07E,    43,  2,      3,2,20070920,0305, 56.4500, -16.5340,  786,    403.0,   9.7369,  35.3737,2,    237.1,2,    236.7,2,     5.90,2,    13.50,2,     0.86,2,   -9.000,9,   2146.6,2,   2327.0,2,   9.6902
  64PE20070830, AR07E,    43,  2,      4,2,20070920,0305, 56.4500, -16.5340,  786,    304.0,  10.1312,  35.3944,2,    243.3,2,    239.7,2,     5.20,2,    12.60,2,     0.81,2,   -9.000,9,   2143.1,2,   2329.5,2,  10.0953
  64PE20070830, AR07E,    43,  2,      5,2,20070920,0305, 56.4500, -16.5340,  786,    205.0,  10.2236,  35.3654,2,    248.8,2,    247.0,2,     4.60,2,    12.00,2,     0.77,2,   -9.000,9,   2138.0,2,   2329.8,2,  10.1994
  64PE20070830, AR07E,    43,  2,      6,2,20070920,0305, 56.4500, -16.5340,  786,     98.0,  11.1380,  35.4468,2,    242.8,2,    242.2,2,     3.30,2,    10.70,2,     0.69,2,   -9.000,9,   2136.0,2,   2331.1,2,  11.1258
  64PE20070830, AR07E,    43,  2,      7,2,20070920,0305, 56.4500, -16.5340,  786,     15.0,  14.1299,  35.4387,2,    249.4,2,    249.8,2,     0.20,2,     2.20,2,     0.21,2,   -9.000,9,   2081.1,2,   2335.4,2,  14.1277
  64PE20070830, AR07E,    44,  2,      1,2,20070920,0703, 56.3670, -15.6810,  684,    347.0,   9.5766,  35.3711,2,    236.7,2,   -999.0,9,     7.10,2,    13.90,2,     0.90,2,    1.789,2,   -999.0,9,   -999.0,9,   9.5369
  64PE20070830, AR07E,    44,  2,      2,2,20070920,0703, 56.3670, -15.6810,  684,    346.0,   9.5767,  35.3709,2,    236.6,2,   -999.0,9,     7.10,2,    14.00,2,     0.91,2,    1.783,2,   2153.3,2,   2329.9,2,   9.5371
  64PE20070830, AR07E,    44,  2,      3,2,20070920,0703, 56.3670, -15.6810,  684,    346.0,   9.5770,  35.3710,2,    236.7,2,    236.1,2,     7.10,2,    13.90,2,     0.90,2,    1.750,2,   -999.0,9,   -999.0,9,   9.5374
  64PE20070830, AR07E,    44,  2,      4,2,20070920,0703, 56.3670, -15.6810,  684,    303.0,   9.5792,  35.3709,2,    236.3,2,    235.4,2,     6.90,2,    13.90,2,     0.90,2,   -9.000,9,   2154.8,2,   2330.2,2,   9.5446
  64PE20070830, AR07E,    44,  2,      5,2,20070920,0703, 56.3670, -15.6810,  684,    199.0,  10.0339,  35.3830,2,    242.6,2,    245.1,2,     5.10,2,    12.50,2,     0.80,2,   -9.000,9,   2142.0,2,   2332.1,2,  10.0106
  64PE20070830, AR07E,    44,  2,      6,2,20070920,0703, 56.3670, -15.6810,  684,    102.0,  10.2959,  35.3709,2,    247.7,2,    248.4,2,     4.50,2,    11.90,2,     0.75,2,   -9.000,9,   2137.4,2,   2328.9,2,  10.2838
  64PE20070830, AR07E,    44,  2,      7,2,20070920,0703, 56.3670, -15.6810,  684,     16.0,  13.7574,  35.3981,2,    250.4,2,    251.6,2,     0.30,2,     2.70,2,     0.23,2,   -9.000,9,   2082.2,2,   2329.0,2,  13.7551