BOTTLE,20180912PRINUNIVRMK
EXPOCODE,SECT_ID,STNNBR,CASTNO,BTLNBR,BTLNBR_FLAG_W,DATE,TIME,LATITUDE,LONGITUDE,DEPTH,CTDPRS,CTDTMP,CTDSAL,CTDSAL_FLAG_W,CTDOXY,CTDOXY_FLAG_W,OXYGEN,OXYGEN_FLAG_W,SILCAT,SILCAT_FLAG_W,NITRAT,NITRAT_FLAG_W,PHSPHT,PHSPHT_FLAG_W,CFC-12,CFC-12_FLAG_W,TCARBN,TCARBN_FLAG_W,ALKALI,ALKALI_FLAG_W,THETA
,,,,,,,,,,METERS,DBAR,ITS-90,PSS-78,,UMOL/KG,,UMOL/KG,,UMOL/KG,,UMOL/KG,,UMOL/KG,,PMOL/KG,,UMOL/KG,,UMOL/KG,,DEG C
  64PE20070830, AR07E,    22,  3,      1,2,20070915,0532, 58.3330, -33.0000, 2053,   1796.0,   3.5747,  34.9523,2,   -999.0,9,    273.9,2,    11.40,2,    17.00,2,     1.15,2,    1.556,2,   2160.8,2,   -999.0,9,   3.4326
  64PE20070830, AR07E,    22,  3,      2,2,20070915,0532, 58.3330, -33.0000, 2053,   1773.0,   3.5856,  34.9520,2,   -999.0,9,    274.4,2,    11.50,2,    17.00,2,     1.15,2,    1.557,2,   2161.9,2,   -999.0,9,   3.4455
  64PE20070830, AR07E,    22,  3,      3,2,20070915,0532, 58.3330, -33.0000, 2053,   1722.0,   3.6357,  34.9517,2,   -999.0,9,    274.0,2,    11.40,2,    17.10,2,     1.15,2,    1.400,4,   2161.5,2,   -999.0,9,   3.4996
  64PE20070830, AR07E,    22,  3,      4,2,20070915,0532, 58.3330, -33.0000, 2053,   1518.0,   3.7274,  34.9533,2,   -999.0,9,    271.9,2,    11.30,2,    17.10,2,     1.16,2,   -9.000,9,   2162.2,2,   -999.0,9,   3.6087
  64PE20070830, AR07E,    22,  3,      5,2,20070915,0532, 58.3330, -33.0000, 2053,   1265.0,   3.7650,  34.9380,2,   -999.0,9,    271.3,2,    11.20,2,    17.30,2,     1.16,2,    1.497,4,   2164.4,2,   -999.0,9,   3.6681
  64PE20070830, AR07E,    22,  3,      6,2,20070915,0532, 58.3330, -33.0000, 2053,   1012.0,   3.9649,  34.9272,2,   -999.0,9,    267.6,2,    11.00,2,    17.70,2,     1.19,2,    1.624,4,   2164.4,2,   -999.0,9,   3.8878
  64PE20070830, AR07E,    22,  3,      7,2,20070915,0532, 58.3330, -33.0000, 2053,   1012.0,   3.9652,  34.9272,2,   -999.0,9,   -999.0,9,  -999.00,9,  -999.00,9,  -999.00,9,   -9.000,9,   -999.0,9,   -999.0,9,   3.8881
  64PE20070830, AR07E,    22,  3,      8,2,20070915,0532, 58.3330, -33.0000, 2053,    910.0,   4.1587,  34.9424,2,   -999.0,9,    263.6,2,    10.90,2,    18.00,2,     1.20,2,    1.771,4,   2164.9,2,   -999.0,9,   4.0887
  64PE20070830, AR07E,    22,  3,      9,2,20070915,0532, 58.3330, -33.0000, 2053,    808.0,   4.6223,  34.9786,2,   -999.0,9,    253.5,2,    10.90,2,    18.20,2,     1.21,2,    1.713,2,   2168.1,2,   -999.0,9,   4.5578
  64PE20070830, AR07E,    22,  3,     10,2,20070915,0532, 58.3330, -33.0000, 2053,    708.0,   5.1042,  35.0063,2,   -999.0,9,    242.2,2,    11.10,2,    18.60,2,     1.24,2,   -9.000,9,   2171.6,2,   -999.0,9,   5.0456
  64PE20070830, AR07E,    22,  3,     11,2,20070915,0532, 58.3330, -33.0000, 2053,    608.0,   5.7180,  35.0591,2,   -999.0,9,    231.8,2,    11.10,2,    18.90,2,     1.24,2,    1.287,2,   2172.8,2,   -999.0,9,   5.6652
  64PE20070830, AR07E,    22,  3,     12,2,20070915,0532, 58.3330, -33.0000, 2053,    506.0,   6.4624,  35.1109,2,   -999.0,9,    230.1,2,    10.20,2,    18.20,2,     1.20,2,   -9.000,9,   2170.3,2,   -999.0,9,   6.4159
  64PE20070830, AR07E,    22,  3,     13,2,20070915,0532, 58.3330, -33.0000, 2053,    404.0,   7.1872,  35.1414,2,   -999.0,9,    243.7,2,     8.80,2,    17.00,2,     1.12,2,    1.555,2,   2158.7,2,   -999.0,9,   7.1481
  64PE20070830, AR07E,    22,  3,     14,2,20070915,0532, 58.3330, -33.0000, 2053,    301.0,   7.1981,  35.1213,2,   -999.0,9,    273.1,2,     7.10,2,    15.40,2,     1.01,2,   -9.000,9,   2150.0,2,   -999.0,9,   7.1692
  64PE20070830, AR07E,    22,  3,     15,2,20070915,0532, 58.3330, -33.0000, 2053,    201.0,   7.4843,  35.1558,2,   -999.0,9,    263.6,2,     7.00,2,    15.50,2,     1.02,2,    1.849,2,   2153.5,2,   -999.0,9,   7.4647
  64PE20070830, AR07E,    22,  3,     16,2,20070915,0532, 58.3330, -33.0000, 2053,    101.0,   8.6190,  35.0917,2,   -999.0,9,    255.7,2,     5.90,2,    14.40,2,     0.94,2,   -9.000,9,   2144.9,2,   -999.0,9,   8.6084
  64PE20070830, AR07E,    22,  3,     17,2,20070915,0532, 58.3330, -33.0000, 2053,     11.0,  11.0686,  34.7861,2,   -999.0,9,    270.4,2,     1.70,2,     5.70,2,     0.47,2,   -9.000,9,   2079.4,2,   -999.0,9,  11.0673
  64PE20070830, AR07E,    23,  3,      1,2,20070915,1103, 58.1670, -32.0150, 2105,   2095.0,   3.7716,  34.9760,2,    269.5,2,    269.6,2,    10.50,2,    16.00,2,     1.08,2,    1.646,2,   2159.6,2,   2306.9,2,   3.5982
  64PE20070830, AR07E,    23,  3,      2,2,20070915,1103, 58.1670, -32.0150, 2105,   2079.0,   3.7708,  34.9759,2,    269.1,2,    269.6,2,    10.60,2,    16.00,2,     1.08,2,    1.633,2,   2158.4,2,   2305.9,2,   3.5990
  64PE20070830, AR07E,    23,  3,      3,2,20070915,1103, 58.1670, -32.0150, 2105,   2003.0,   3.7760,  34.9754,2,    268.7,2,    269.2,2,    10.60,2,    16.10,2,     1.07,2,    1.638,2,   2156.4,2,   2309.1,2,   3.6115
  64PE20070830, AR07E,    23,  3,      4,2,20070915,1103, 58.1670, -32.0150, 2105,   1754.0,   3.7721,  34.9752,2,    267.7,2,    268.8,2,    10.60,2,    16.10,2,     1.08,2,    1.641,2,   2156.6,2,   2308.6,2,   3.6312
  64PE20070830, AR07E,    23,  3,      5,2,20070915,1103, 58.1670, -32.0150, 2105,   1502.0,   3.8219,  34.9731,2,    267.0,2,    267.3,2,    10.70,2,    16.30,2,     1.09,2,    1.633,2,   2156.4,2,   2307.5,2,   3.7035
  64PE20070830, AR07E,    23,  3,      6,2,20070915,1103, 58.1670, -32.0150, 2105,   1250.0,   3.8571,  34.9545,2,    266.1,2,    266.5,2,    10.80,2,    16.60,2,     1.12,2,    1.633,2,   2158.9,2,   2310.1,2,   3.7606
  64PE20070830, AR07E,    23,  3,      7,2,20070915,1103, 58.1670, -32.0150, 2105,   1001.0,   4.1820,  34.9509,2,    260.4,2,   -999.0,9,  -999.00,9,  -999.00,9,  -999.00,9,   -9.000,9,   -999.0,9,   -999.0,9,   4.1041
  64PE20070830, AR07E,    23,  3,      8,2,20070915,1103, 58.1670, -32.0150, 2105,    901.0,   4.4422,  34.9617,2,    254.8,2,    255.1,2,    10.60,2,    17.60,2,     1.16,2,    1.724,2,   2163.7,2,   2307.3,2,   4.3709
  64PE20070830, AR07E,    23,  3,      9,2,20070915,1103, 58.1670, -32.0150, 2105,    799.0,   4.9610,  35.0047,2,    244.9,2,    244.8,2,    10.60,2,    17.70,2,     1.17,2,   -9.000,9,   2164.9,2,   2309.5,2,   4.8952
  64PE20070830, AR07E,    23,  3,     10,2,20070915,1103, 58.1670, -32.0150, 2105,    699.0,   5.6969,  35.0590,2,    232.1,2,    232.0,2,    10.70,2,    18.00,2,     1.19,2,   -9.000,9,   2168.1,2,   2316.4,2,   5.6358
  64PE20070830, AR07E,    23,  3,     11,2,20070915,1103, 58.1670, -32.0150, 2105,    600.0,   6.2707,  35.0920,2,    226.7,2,    226.7,2,    10.40,2,    18.00,2,     1.18,2,   -9.000,9,   2170.3,2,   2314.3,2,   6.2161
  64PE20070830, AR07E,    23,  3,     12,2,20070915,1103, 58.1670, -32.0150, 2105,    500.0,   6.8714,  35.1191,2,    228.8,2,    229.2,2,     9.50,2,    17.50,2,     1.14,2,    1.635,2,   2165.6,2,   2316.9,2,   6.8239
  64PE20070830, AR07E,    23,  3,     13,2,20070915,1103, 58.1670, -32.0150, 2105,    400.0,   7.5614,  35.1688,2,    248.6,2,    249.8,2,     7.60,2,    15.50,2,     1.01,2,   -9.000,9,   2153.0,2,   2318.4,2,   7.5216
  64PE20070830, AR07E,    23,  3,     14,2,20070915,1103, 58.1670, -32.0150, 2105,    298.0,   7.9551,  35.1773,2,    249.3,2,    248.0,2,     7.10,2,    15.00,2,     0.99,2,    1.864,2,   2147.9,2,   2318.2,2,   7.9247
  64PE20070830, AR07E,    23,  3,     15,2,20070915,1103, 58.1670, -32.0150, 2105,    199.0,   7.8906,  35.0660,2,    249.1,2,    245.9,2,     7.00,2,    15.10,2,     1.00,2,   -9.000,9,   2148.1,2,   2311.9,2,   7.8706
  64PE20070830, AR07E,    23,  3,     16,2,20070915,1103, 58.1670, -32.0150, 2105,     99.0,   9.1465,  35.1861,2,    250.4,2,    246.8,2,     5.30,2,    13.20,2,     0.87,2,   -9.000,9,   2138.0,2,   2319.8,2,   9.1357
  64PE20070830, AR07E,    23,  3,     17,2,20070915,1103, 58.1670, -32.0150, 2105,      8.0,  12.2962,  35.0034,2,    258.5,2,    256.8,2,     0.30,2,     3.70,2,     0.35,2,    1.822,2,   2078.7,2,   2309.8,2,  12.2951
  64PE20070830, AR07E,    24,  1,      1,2,20070915,1643, 58.0150, -31.1160, 1844,   1834.0,   3.5128,  34.9796,2,    272.8,2,    272.4,2,    10.30,2,    15.80,2,     1.04,2,    1.638,2,   2162.7,2,   -999.0,9,   3.3680
  64PE20070830, AR07E,    24,  1,      2,2,20070915,1643, 58.0150, -31.1160, 1844,   1782.0,   3.5115,  34.9770,2,    272.9,2,    272.9,2,    10.20,2,    15.80,2,     1.04,2,    1.587,2,   2161.3,2,   -999.0,9,   3.3715
  64PE20070830, AR07E,    24,  1,      3,2,20070915,1643, 58.0150, -31.1160, 1844,   1736.0,   3.5420,  34.9756,2,    272.2,2,    273.1,2,    10.20,2,    15.90,2,     1.04,2,    1.624,2,   2163.3,2,   -999.0,9,   3.4058
  64PE20070830, AR07E,    24,  1,      4,2,20070915,1643, 58.0150, -31.1160, 1844,   1502.0,   3.6405,  34.9654,2,    271.0,2,    273.0,2,    10.30,2,    16.10,2,     1.06,2,    1.604,2,   2163.8,2,   -999.0,9,   3.5242
  64PE20070830, AR07E,    24,  1,      5,2,20070915,1643, 58.0150, -31.1160, 1844,   1249.0,   3.8106,  34.9378,2,    268.0,2,    270.3,2,    10.60,2,    17.00,2,     1.11,2,    1.614,2,   2165.1,2,   -999.0,9,   3.7147
  64PE20070830, AR07E,    24,  1,      6,2,20070915,1643, 58.0150, -31.1160, 1844,    999.0,   4.2389,  34.9448,2,    259.3,2,    262.1,2,    10.50,2,    17.50,2,     1.15,2,    1.741,2,   2163.0,2,   2306.9,2,   4.1607
  64PE20070830, AR07E,    24,  1,      7,2,20070915,1643, 58.0150, -31.1160, 1844,    899.0,   4.6887,  34.9869,2,    250.9,2,    254.1,2,    10.50,2,    17.70,2,     1.15,2,   -9.000,9,   2166.4,2,   2309.2,2,   4.6159
  64PE20070830, AR07E,    24,  1,      8,2,20070915,1643, 58.0150, -31.1160, 1844,    800.0,   5.3369,  35.0401,2,    239.6,2,    243.7,2,    10.60,2,    17.80,2,     1.17,2,    1.575,2,   2171.6,2,   2314.8,2,   5.2686
  64PE20070830, AR07E,    24,  1,      9,2,20070915,1643, 58.0150, -31.1160, 1844,    698.0,   5.9447,  35.0745,2,    229.2,2,    232.9,2,    10.60,2,    18.10,2,     1.17,2,   -9.000,9,   2171.4,2,   2315.7,2,   5.8824
  64PE20070830, AR07E,    24,  1,     10,2,20070915,1643, 58.0150, -31.1160, 1844,    599.0,   6.1284,  35.0175,2,    223.2,2,    227.3,2,    10.60,2,    18.70,2,     1.21,2,    1.560,2,   2169.5,2,   2311.4,2,   6.0746
  64PE20070830, AR07E,    24,  1,     11,2,20070915,1643, 58.0150, -31.1160, 1844,    497.0,   6.9266,  35.0713,2,    232.8,2,   -999.0,9,     9.10,2,    17.40,2,     1.12,2,   -9.000,9,   2160.5,2,   2315.8,2,   6.8792
  64PE20070830, AR07E,    24,  1,     12,2,20070915,1643, 58.0150, -31.1160, 1844,    397.0,   7.7050,  35.1495,2,    249.7,2,   -999.0,9,     7.40,2,    15.40,2,     0.99,2,    1.871,2,   2152.6,2,   2317.1,2,   7.6651
  64PE20070830, AR07E,    24,  1,     13,2,20070915,1643, 58.0150, -31.1160, 1844,    300.0,   6.8931,  34.9267,2,    251.8,2,   -999.0,9,     8.00,2,    16.00,2,     1.05,2,   -9.000,9,   2154.9,2,   -999.0,9,   6.8651
  64PE20070830, AR07E,    24,  1,     14,2,20070915,1643, 58.0150, -31.1160, 1844,    205.0,   8.6716,  35.1766,2,    250.0,2,   -999.0,9,     6.10,2,    14.10,2,     0.90,2,    1.884,2,   2146.4,2,   -999.0,9,   8.6497
  64PE20070830, AR07E,    24,  1,     15,2,20070915,1643, 58.0150, -31.1160, 1844,     97.0,   9.4279,  35.2006,2,    252.1,2,   -999.0,9,     4.50,2,    12.70,2,     0.82,2,   -9.000,9,   2136.6,2,   -999.0,9,   9.4171
  64PE20070830, AR07E,    24,  1,     16,2,20070915,1643, 58.0150, -31.1160, 1844,      9.0,  12.5267,  35.0384,2,    257.6,2,   -999.0,9,     0.40,2,     3.50,2,     0.32,2,    1.804,2,   2077.3,2,   -999.0,9,  12.5255
  64PE20070830, AR07E,    25,  1,      1,2,20070915,2150, 57.8660, -30.1980, 2202,   2192.0,   3.0840,  34.9833,2,    271.4,2,    270.1,2,    11.80,2,    15.80,2,     1.05,2,    1.514,2,   2162.7,2,   2311.2,2,   2.9121
  64PE20070830, AR07E,    25,  1,      2,2,20070915,2150, 57.8660, -30.1980, 2202,   2139.0,   3.1056,  34.9831,2,    271.5,2,    270.3,2,    11.50,2,    15.70,2,     1.04,2,    1.506,2,   2160.5,2,   2310.5,2,   2.9384
  64PE20070830, AR07E,    25,  1,      3,2,20070915,2150, 57.8660, -30.1980, 2202,   2088.0,   3.1188,  34.9812,2,    270.3,2,    269.4,2,    11.80,2,    16.00,2,     1.05,2,    1.405,2,   2162.3,2,   2311.9,2,   2.9561
  64PE20070830, AR07E,    25,  1,      4,2,20070915,2150, 57.8660, -30.1980, 2202,   2030.0,   3.1318,  34.9806,2,    270.4,2,    269.5,2,    11.80,2,    15.90,2,     1.05,2,    1.455,2,   2163.2,2,   2312.3,2,   2.9743
  64PE20070830, AR07E,    25,  1,      5,2,20070915,2150, 57.8660, -30.1980, 2202,   2028.0,   3.1325,  34.9803,2,    270.4,2,    269.4,2,    11.70,2,    15.80,2,     1.05,2,    1.473,2,   2159.8,2,   2310.8,2,   2.9752
  64PE20070830, AR07E,    25,  1,      6,2,20070915,2150, 57.8660, -30.1980, 2202,   1774.0,   3.3384,  34.9641,2,    271.2,2,    270.7,2,    11.10,2,    16.20,2,     1.06,2,    1.440,2,   2159.5,2,   2308.3,2,   3.2015
  64PE20070830, AR07E,    25,  1,      7,2,20070915,2150, 57.8660, -30.1980, 2202,   1520.0,   3.7168,  34.9529,2,    269.0,2,   -999.0,9,  -999.00,9,  -999.00,9,  -999.00,9,    1.740,2,   -999.0,9,   -999.0,9,   3.5980
  64PE20070830, AR07E,    25,  1,      8,2,20070915,2150, 57.8660, -30.1980, 2202,   1265.0,   4.0030,  34.9397,2,    264.8,2,    263.6,2,    10.40,2,    17.30,2,     1.12,2,    1.717,2,   2162.5,2,   2307.5,2,   3.9038
  64PE20070830, AR07E,    25,  1,      9,2,20070915,2150, 57.8660, -30.1980, 2202,   1012.0,   4.8444,  35.0095,2,    250.8,2,    255.5,2,    10.20,2,    17.20,2,     1.12,2,    1.691,2,   2160.8,2,   2310.9,2,   4.7604
  64PE20070830, AR07E,    25,  1,     10,2,20070915,2150, 57.8660, -30.1980, 2202,   1012.0,   4.8474,  35.0095,2,    250.6,2,    249.3,2,    10.20,2,    17.20,2,     1.13,2,    1.658,2,   2163.7,2,   2312.3,2,   4.7633
  64PE20070830, AR07E,    25,  1,     11,2,20070915,2150, 57.8660, -30.1980, 2202,    911.0,   5.2694,  35.0365,2,    241.4,2,    240.3,2,    10.40,2,    17.70,2,     1.15,2,    1.590,2,   2166.5,2,   2313.5,2,   5.1914
  64PE20070830, AR07E,    25,  1,     12,2,20070915,2150, 57.8660, -30.1980, 2202,    809.0,   5.7721,  35.0534,2,    229.1,2,    227.8,2,    10.70,2,    18.50,2,     1.19,2,   -9.000,9,   2169.3,2,   2317.4,2,   5.7003
  64PE20070830, AR07E,    25,  1,     13,2,20070915,2150, 57.8660, -30.1980, 2202,    707.0,   6.5034,  35.1067,2,    227.2,2,    226.0,2,    10.10,2,    17.80,2,     1.16,2,    1.521,3,   2170.2,2,   2317.0,2,   6.4372
  64PE20070830, AR07E,    25,  1,     14,2,20070915,2150, 57.8660, -30.1980, 2202,    607.0,   7.2941,  35.1546,2,    246.8,2,    246.1,2,     8.00,2,    15.90,2,     1.03,2,   -9.000,9,   2155.7,2,   2320.8,2,   7.2341
  64PE20070830, AR07E,    25,  1,     15,2,20070915,2150, 57.8660, -30.1980, 2202,    502.0,   7.9102,  35.2156,2,    257.5,2,    256.6,2,     6.60,2,    14.50,2,     0.93,2,    1.934,2,   2148.8,2,   2321.6,2,   7.8585
  64PE20070830, AR07E,    25,  1,     16,2,20070915,2150, 57.8660, -30.1980, 2202,    405.0,   8.1159,  35.2138,2,    256.8,2,    256.0,2,     6.40,2,    14.30,2,     0.92,2,   -9.000,9,   2145.3,2,   2323.9,2,   8.0739
  64PE20070830, AR07E,    25,  1,     17,2,20070915,2150, 57.8660, -30.1980, 2202,    301.0,   8.2980,  35.1882,2,    252.0,2,    250.9,2,     6.40,2,    14.50,2,     0.94,2,    1.908,2,   2147.6,2,   2318.9,2,   8.2666
  64PE20070830, AR07E,    25,  1,     18,2,20070915,2150, 57.8660, -30.1980, 2202,    201.0,   8.8930,  35.2113,2,    251.2,2,    250.3,2,     5.60,2,    13.70,2,     0.87,2,   -9.000,9,   2143.9,2,   2321.1,2,   8.8712
  64PE20070830, AR07E,    25,  1,     19,2,20070915,2150, 57.8660, -30.1980, 2202,    101.0,   9.3822,  35.2020,2,    253.6,2,    253.4,2,     4.10,2,    12.60,2,     0.81,2,   -9.000,9,   2139.4,2,   2321.3,2,   9.3710
  64PE20070830, AR07E,    25,  1,     20,2,20070915,2150, 57.8660, -30.1980, 2202,     10.0,  12.2468,  35.0489,2,    257.4,2,    258.4,2,     0.40,2,     3.70,2,     0.33,2,    1.829,2,   2082.1,2,   2314.4,2,  12.2455