BOTTLE,20180912PRINUNIVRMK
EXPOCODE,SECT_ID,STNNBR,CASTNO,BTLNBR,BTLNBR_FLAG_W,DATE,TIME,LATITUDE,LONGITUDE,DEPTH,CTDPRS,CTDTMP,CTDSAL,CTDSAL_FLAG_W,CTDOXY,CTDOXY_FLAG_W,OXYGEN,OXYGEN_FLAG_W,SILCAT,SILCAT_FLAG_W,NITRAT,NITRAT_FLAG_W,PHSPHT,PHSPHT_FLAG_W,CFC-12,CFC-12_FLAG_W,TCARBN,TCARBN_FLAG_W,ALKALI,ALKALI_FLAG_W,THETA
,,,,,,,,,,METERS,DBAR,ITS-90,PSS-78,,UMOL/KG,,UMOL/KG,,UMOL/KG,,UMOL/KG,,UMOL/KG,,PMOL/KG,,UMOL/KG,,UMOL/KG,,DEG C
  64PE20070830, AR07E,    50,  2,      1,2,20070921,1059, 55.9170, -10.7160, 2403,   2393.0,   2.8923,  34.9299,2,    255.0,2,    254.4,2,    25.00,2,    18.80,2,     1.28,2,   -9.000,9,   2175.7,2,   2331.0,2,   2.7047
  64PE20070830, AR07E,    50,  2,      2,2,20070921,1059, 55.9170, -10.7160, 2403,   2332.0,   3.0276,  34.9303,2,    258.3,2,    258.3,2,    22.00,2,    18.30,2,     1.24,2,   -9.000,9,   2173.5,2,   2323.3,2,   2.8435
  64PE20070830, AR07E,    50,  2,      3,2,20070921,1059, 55.9170, -10.7160, 2403,   2281.0,   3.1517,  34.9272,2,    264.4,2,    266.1,2,    17.50,2,    17.60,2,     1.19,2,   -9.000,9,   2164.3,2,   2315.0,2,   2.9704
  64PE20070830, AR07E,    50,  2,      4,2,20070921,1059, 55.9170, -10.7160, 2403,   2024.0,   3.3483,  34.9170,2,    269.2,2,    270.2,2,    13.80,2,    17.30,2,     1.15,2,    1.171,2,   2157.5,2,   2311.4,2,   3.1883
  64PE20070830, AR07E,    50,  2,      5,2,20070921,1059, 55.9170, -10.7160, 2403,   2022.0,   3.3490,  34.9171,2,    269.4,2,    270.0,2,    13.90,2,    17.30,2,     1.16,2,   -9.000,9,   2160.2,2,   2309.0,2,   3.1892
  64PE20070830, AR07E,    50,  2,      6,2,20070921,1059, 55.9170, -10.7160, 2403,   1775.0,   3.6062,  34.9230,2,    268.3,2,    268.5,2,    12.30,2,    17.20,2,     1.15,2,    1.303,2,   2158.0,2,   2308.3,2,   3.4657
  64PE20070830, AR07E,    50,  2,      7,2,20070921,1059, 55.9170, -10.7160, 2403,   1513.0,   3.9686,  34.9417,2,    263.2,2,    264.1,2,    11.40,2,    17.40,2,     1.15,2,    1.490,2,   2162.3,2,   2308.2,2,   3.8476
  64PE20070830, AR07E,    50,  2,      8,2,20070921,1059, 55.9170, -10.7160, 2403,   1266.0,   4.6193,  35.0005,2,    251.9,2,    252.4,2,    11.00,2,    17.50,2,     1.16,2,    1.480,2,   2162.0,2,   2310.9,2,   4.5140
  64PE20070830, AR07E,    50,  2,      9,2,20070921,1059, 55.9170, -10.7160, 2403,   1013.0,   5.9830,  35.1328,2,    228.8,2,    229.1,2,    11.00,2,    18.00,2,     1.18,2,    1.345,2,   2172.8,2,   2318.1,2,   5.8900
  64PE20070830, AR07E,    50,  2,     10,2,20070921,1059, 55.9170, -10.7160, 2403,   1012.0,   5.9801,  35.1331,2,    228.8,2,    228.4,2,    10.90,2,    18.10,2,     1.17,2,    1.341,2,   2173.3,2,   2322.6,2,   5.8872
  64PE20070830, AR07E,    50,  2,     11,2,20070921,1059, 55.9170, -10.7160, 2403,    911.0,   6.5763,  35.1831,2,    219.2,2,    218.2,2,    10.80,2,    18.20,2,     1.18,2,   -9.000,9,   2172.2,2,   2323.2,2,   6.4892
  64PE20070830, AR07E,    50,  2,     12,2,20070921,1059, 55.9170, -10.7160, 2403,    806.0,   7.3089,  35.2352,2,    209.1,2,    207.3,2,    10.50,2,    18.40,2,     1.18,2,    1.361,2,   2174.2,2,   2327.6,2,   7.2279
  64PE20070830, AR07E,    50,  2,     13,2,20070921,1059, 55.9170, -10.7160, 2403,    708.0,   7.9007,  35.2678,2,    205.1,2,    203.3,2,    10.00,2,    18.00,2,     1.17,2,   -9.000,9,   2173.6,2,   2330.0,2,   7.8269
  64PE20070830, AR07E,    50,  2,     14,2,20070921,1059, 55.9170, -10.7160, 2403,    605.0,   8.6094,  35.3004,2,    212.0,2,    211.0,2,     8.70,2,    16.80,2,     1.08,2,    1.411,2,   2167.7,2,   2328.8,2,   8.5436
  64PE20070830, AR07E,    50,  2,     15,2,20070921,1059, 55.9170, -10.7160, 2403,    506.0,   9.1897,  35.3364,2,    231.6,2,    232.5,2,     6.80,2,    14.60,2,     0.93,2,   -9.000,9,   2153.9,2,   2329.5,2,   9.1328
  64PE20070830, AR07E,    50,  2,     16,2,20070921,1059, 55.9170, -10.7160, 2403,    401.0,   9.5988,  35.3721,2,    237.6,2,    238.1,2,     5.70,2,    13.50,2,     0.87,2,   -9.000,9,   2148.9,2,   2329.9,2,   9.5527
  64PE20070830, AR07E,    50,  2,     17,2,20070921,1059, 55.9170, -10.7160, 2403,    301.0,   9.9558,  35.4114,2,    246.9,2,    248.1,2,     4.80,2,    12.20,2,     0.78,2,   -9.000,9,   2142.6,2,   2332.5,2,   9.9206
  64PE20070830, AR07E,    50,  2,     18,2,20070921,1059, 55.9170, -10.7160, 2403,    199.0,  10.2094,  35.4267,2,    245.4,2,    245.8,2,     4.50,2,    12.10,2,     0.76,2,    1.821,2,   2139.6,2,   2333.3,2,  10.1859
  64PE20070830, AR07E,    50,  2,     19,2,20070921,1059, 55.9170, -10.7160, 2403,    102.0,  11.8287,  35.4396,2,    239.7,2,    240.1,2,     1.40,2,     8.70,2,     0.56,2,   -9.000,9,   2123.8,2,   2334.4,2,  11.8155
  64PE20070830, AR07E,    50,  2,     20,2,20070921,1059, 55.9170, -10.7160, 2403,      9.0,  14.2724,  35.4071,2,    253.9,2,    255.0,2,     0.00,2,     0.60,2,     0.10,2,   -9.000,9,   2067.3,2,   2337.8,2,  14.2711
  64PE20070830, AR07E,    51,  2,      1,2,20070921,1446, 55.8670, -10.2830, 2301,   2291.0,   2.9506,  34.9308,2,    256.2,2,    254.5,2,    24.40,2,    18.80,2,     1.27,2,   -9.000,9,   -999.0,9,   -999.0,9,   2.7717
  64PE20070830, AR07E,    51,  2,      2,2,20070921,1446, 55.8670, -10.2830, 2301,   2236.0,   3.0622,  34.9288,2,    260.0,2,    259.2,2,    20.80,2,    18.10,2,     1.22,2,   -9.000,9,   -999.0,9,   -999.0,9,   2.8867
  64PE20070830, AR07E,    51,  2,      3,2,20070921,1446, 55.8670, -10.2830, 2301,   2185.0,   3.1848,  34.9242,2,    264.9,2,    264.5,2,    17.20,2,    17.50,2,     1.19,2,   -9.000,9,   -999.0,9,   -999.0,9,   3.0122
  64PE20070830, AR07E,    51,  2,      4,2,20070921,1446, 55.8670, -10.2830, 2301,   2027.0,   3.3296,  34.9181,2,    269.8,2,    269.6,2,    14.00,2,    17.30,2,     1.16,2,   -9.000,9,   -999.0,9,   -999.0,9,   3.1696
  64PE20070830, AR07E,    51,  2,      5,2,20070921,1446, 55.8670, -10.2830, 2301,   2030.0,   3.3278,  34.9180,2,    269.7,2,    272.7,2,    13.90,2,    17.10,2,     1.16,2,   -9.000,9,   -999.0,9,   -999.0,9,   3.1676
  64PE20070830, AR07E,    51,  2,      6,2,20070921,1446, 55.8670, -10.2830, 2301,   1772.0,   3.5173,  34.9187,2,    268.7,2,    269.2,2,    12.60,2,    17.20,2,     1.15,2,   -9.000,9,   -999.0,9,   -999.0,9,   3.3783
  64PE20070830, AR07E,    51,  2,      7,2,20070921,1446, 55.8670, -10.2830, 2301,   1521.0,   3.9409,  34.9389,2,    264.5,2,    264.8,2,    11.30,2,    17.30,2,     1.15,2,   -9.000,9,   -999.0,9,   -999.0,9,   3.8195
  64PE20070830, AR07E,    51,  2,      8,2,20070921,1446, 55.8670, -10.2830, 2301,   1266.0,   4.6437,  35.0025,2,    252.3,2,    252.8,2,    11.00,2,    17.50,2,     1.16,2,   -9.000,9,   -999.0,9,   -999.0,9,   4.5382
  64PE20070830, AR07E,    51,  2,      9,2,20070921,1446, 55.8670, -10.2830, 2301,   1015.0,   5.6559,  35.1025,2,    233.4,2,    233.4,2,    11.00,2,    18.00,2,     1.18,2,   -9.000,9,   -999.0,9,   -999.0,9,   5.5652
  64PE20070830, AR07E,    51,  2,     10,2,20070921,1446, 55.8670, -10.2830, 2301,   1014.0,   5.6650,  35.1033,2,    233.3,2,    233.4,2,    11.00,2,    17.80,2,     1.18,2,   -9.000,9,   -999.0,9,   -999.0,9,   5.5743
  64PE20070830, AR07E,    51,  2,     11,2,20070921,1446, 55.8670, -10.2830, 2301,    917.0,   6.2619,  35.1580,2,    223.5,2,    226.4,2,    10.90,2,    18.10,2,     1.18,2,   -9.000,9,   -999.0,9,   -999.0,9,   6.1764
  64PE20070830, AR07E,    51,  2,     12,2,20070921,1446, 55.8670, -10.2830, 2301,    807.0,   7.0873,  35.2189,2,    213.3,2,    212.8,2,    10.60,2,    18.10,2,     1.17,2,   -9.000,9,   -999.0,9,   -999.0,9,   7.0076
  64PE20070830, AR07E,    51,  2,     13,2,20070921,1446, 55.8670, -10.2830, 2301,    709.0,   7.7861,  35.2619,2,    207.6,2,    205.8,2,    10.10,2,    17.80,2,     1.16,2,   -9.000,9,   -999.0,9,   -999.0,9,   7.7128
  64PE20070830, AR07E,    51,  2,     14,2,20070921,1446, 55.8670, -10.2830, 2301,    606.0,   8.5567,  35.2979,2,    208.7,2,   -999.0,9,  -999.00,9,  -999.00,9,  -999.00,9,   -9.000,9,   -999.0,9,   -999.0,9,   8.4910
  64PE20070830, AR07E,    51,  2,     15,2,20070921,1446, 55.8670, -10.2830, 2301,    504.0,   9.0825,  35.3284,2,    227.3,2,    228.3,2,     7.20,2,    15.10,2,     0.97,2,   -9.000,9,   -999.0,9,   -999.0,9,   9.0262
  64PE20070830, AR07E,    51,  2,     16,2,20070921,1446, 55.8670, -10.2830, 2301,    402.0,   9.5264,  35.3651,2,    236.1,2,    236.0,2,     6.00,2,    13.70,2,     0.88,2,   -9.000,9,   -999.0,9,   -999.0,9,   9.4804
  64PE20070830, AR07E,    51,  2,     17,2,20070921,1446, 55.8670, -10.2830, 2301,    308.0,   9.8204,  35.3918,2,    238.6,2,    238.9,2,     5.40,2,    13.20,2,     0.84,2,   -9.000,9,   -999.0,9,   -999.0,9,   9.7847
  64PE20070830, AR07E,    51,  2,     18,2,20070921,1446, 55.8670, -10.2830, 2301,    200.0,  10.1407,  35.4174,2,    245.0,2,    244.9,2,     4.50,2,    12.20,2,     0.77,2,   -9.000,9,   -999.0,9,   -999.0,9,  10.1172
  64PE20070830, AR07E,    51,  2,     19,2,20070921,1446, 55.8670, -10.2830, 2301,    107.0,  11.4010,  35.4332,2,    244.2,2,    244.2,2,     1.60,2,     9.60,2,     0.61,2,   -9.000,9,   -999.0,9,   -999.0,9,  11.3875
  64PE20070830, AR07E,    51,  2,     20,2,20070921,1446, 55.8670, -10.2830, 2301,     11.0,  14.5411,  35.4247,2,    251.9,2,   -999.0,9,     0.10,2,     0.60,2,     0.11,2,   -9.000,9,   -999.0,9,   -999.0,9,  14.5395
  64PE20070830, AR07E,    52,  2,      1,2,20070921,1831, 55.8340,  -9.8510, 2037,   2027.0,   3.4460,  34.9190,2,    269.4,2,   -999.0,9,    14.00,2,    17.60,2,     1.19,2,   -9.000,9,   2162.1,2,   2313.6,2,   3.2843
  64PE20070830, AR07E,    52,  2,      2,2,20070921,1831, 55.8340,  -9.8510, 2037,   2026.0,   3.4438,  34.9203,2,    269.3,2,   -999.0,9,  -999.00,9,  -999.00,9,  -999.00,9,    1.726,4,   -999.0,9,   -999.0,9,   3.2822
  64PE20070830, AR07E,    52,  2,      3,2,20070921,1831, 55.8340,  -9.8510, 2037,   1975.0,   3.4812,  34.9211,2,    268.6,2,    267.3,2,    13.80,2,    17.50,2,     1.19,2,    1.210,2,   -999.0,9,   -999.0,9,   3.3239
  64PE20070830, AR07E,    52,  2,      4,2,20070921,1831, 55.8340,  -9.8510, 2037,   1927.0,   3.5298,  34.9223,2,    268.0,2,    266.7,2,    13.60,2,    17.60,2,     1.19,2,    1.240,2,   2159.8,2,   2310.2,2,   3.3763
  64PE20070830, AR07E,    52,  2,      5,2,20070921,1831, 55.8340,  -9.8510, 2037,   1775.0,   3.6812,  34.9256,2,    267.3,2,    266.0,2,    12.70,2,    17.60,2,     1.18,2,    1.340,2,   2161.2,2,   2307.6,2,   3.5397
  64PE20070830, AR07E,    52,  2,      6,2,20070921,1831, 55.8340,  -9.8510, 2037,   1520.0,   4.2382,  34.9645,2,    258.8,2,    258.7,2,    11.50,2,    17.70,2,     1.19,2,   -9.000,9,   2161.6,2,   2309.3,2,   4.1134
  64PE20070830, AR07E,    52,  2,      7,2,20070921,1831, 55.8340,  -9.8510, 2037,   1265.0,   5.1879,  35.0541,2,    241.5,2,    239.5,2,    11.30,2,    18.10,2,     1.20,2,   -9.000,9,   2170.2,2,   2315.3,2,   5.0772
  64PE20070830, AR07E,    52,  2,      8,2,20070921,1831, 55.8340,  -9.8510, 2037,   1012.0,   6.9031,  35.2056,2,    215.9,2,    213.5,2,    11.00,2,    18.20,2,     1.21,2,    1.431,2,   2174.0,2,   2325.5,2,   6.8032
  64PE20070830, AR07E,    52,  2,      9,2,20070921,1831, 55.8340,  -9.8510, 2037,   1012.0,   6.9085,  35.2063,2,    215.9,2,    213.2,2,    10.80,2,    18.40,2,     1.21,2,    1.292,4,   2174.8,2,   2325.5,2,   6.8085
  64PE20070830, AR07E,    52,  2,     10,2,20070921,1831, 55.8340,  -9.8510, 2037,    909.0,   7.7026,  35.2558,2,    210.4,2,    207.4,2,    10.20,2,    17.90,2,     1.18,2,   -9.000,9,   2174.7,2,   2327.0,2,   7.6080
  64PE20070830, AR07E,    52,  2,     11,2,20070921,1831, 55.8340,  -9.8510, 2037,    807.0,   8.4461,  35.2902,2,    219.6,2,    217.8,2,     8.70,2,    16.60,2,     1.08,2,    1.488,2,   2164.8,2,   2326.3,2,   8.3582
  64PE20070830, AR07E,    52,  2,     12,2,20070921,1831, 55.8340,  -9.8510, 2037,    707.0,   9.0421,  35.3239,2,    239.1,2,    238.7,2,     6.80,2,    14.50,2,     0.94,2,   -9.000,9,   2152.2,2,   2329.8,2,   8.9625
  64PE20070830, AR07E,    52,  2,     13,2,20070921,1831, 55.8340,  -9.8510, 2037,    611.0,   9.3674,  35.3519,2,    253.4,2,    253.0,2,     5.50,2,    12.90,2,     0.85,2,   -9.000,9,   2144.0,2,   -999.0,9,   9.2975
  64PE20070830, AR07E,    52,  2,     14,2,20070921,1831, 55.8340,  -9.8510, 2037,    502.0,   9.5955,  35.3684,2,    252.6,2,    252.0,2,     5.20,2,    12.70,2,     0.83,2,   -9.000,9,   2144.1,2,   2331.0,2,   9.5375
  64PE20070830, AR07E,    52,  2,     15,2,20070921,1831, 55.8340,  -9.8510, 2037,    403.0,   9.9593,  35.4109,2,    249.6,2,    249.4,2,     4.90,2,    12.10,2,     0.80,2,   -9.000,9,   2140.5,2,   2335.3,2,   9.9119
  64PE20070830, AR07E,    52,  2,     16,2,20070921,1831, 55.8340,  -9.8510, 2037,    306.0,  10.1933,  35.4357,2,    250.8,2,    250.5,2,     4.60,2,    11.70,2,     0.76,2,   -9.000,9,   2137.0,2,   2336.2,2,  10.1570
  64PE20070830, AR07E,    52,  2,     17,2,20070921,1831, 55.8340,  -9.8510, 2037,    206.0,  10.3323,  35.4373,2,    247.8,2,    247.6,2,     4.60,2,    11.80,2,     0.77,2,   -9.000,9,   2140.0,2,   2336.7,2,  10.3078
  64PE20070830, AR07E,    52,  2,     18,2,20070921,1831, 55.8340,  -9.8510, 2037,     98.0,  10.8474,  35.4330,2,    246.1,2,    245.7,2,     3.40,2,    10.90,2,     0.69,2,   -9.000,9,   2131.8,2,   2337.7,2,  10.8354
  64PE20070830, AR07E,    52,  2,     19,2,20070921,1831, 55.8340,  -9.8510, 2037,     10.0,  14.2072,  35.4217,2,    255.1,2,    256.4,2,     0.20,2,     0.70,2,     0.11,2,    1.780,4,   2063.8,2,   2341.9,2,  14.2057
  64PE20070830, AR07E,    53,  2,      1,2,20070921,2157, 55.7850,  -9.4340,  826,    816.0,   9.2789,  35.3454,2,    235.5,2,    232.3,2,     6.80,2,    14.50,2,     0.94,2,    1.674,2,   2156.4,2,   2331.4,2,   9.1850
  64PE20070830, AR07E,    53,  2,      2,2,20070921,2157, 55.7850,  -9.4340,  826,    759.0,   9.5829,  35.3686,2,    240.9,2,    238.2,2,     6.10,2,    13.60,2,     0.89,2,    1.745,2,   2155.0,2,   2330.3,2,   9.4942
  64PE20070830, AR07E,    53,  2,      3,2,20070921,2157, 55.7850,  -9.4340,  826,    710.0,   9.6829,  35.3791,2,    241.3,2,    239.5,2,     5.80,2,    13.40,2,     0.87,2,    1.795,2,   2147.9,2,   2344.2,3,   9.5996
  64PE20070830, AR07E,    53,  2,      4,2,20070921,2157, 55.7850,  -9.4340,  826,    607.0,  10.0027,  35.4096,2,    244.2,2,    243.5,2,     5.30,2,    12.70,2,     0.82,2,    1.830,2,   2147.0,2,   2335.5,2,   9.9304
  64PE20070830, AR07E,    53,  2,      5,2,20070921,2157, 55.7850,  -9.4340,  826,    505.0,  10.1967,  35.4263,2,    244.0,2,    243.1,2,     5.10,2,    12.30,2,     0.80,2,    1.833,2,   2147.3,2,   2335.5,2,  10.1361
  64PE20070830, AR07E,    53,  2,      6,2,20070921,2157, 55.7850,  -9.4340,  826,    404.0,  10.3127,  35.4340,2,    244.3,2,    244.0,2,     4.90,2,    12.10,2,     0.78,2,    1.670,2,   2146.2,2,   2336.9,2,  10.2642
  64PE20070830, AR07E,    53,  2,      7,2,20070921,2157, 55.7850,  -9.4340,  826,    308.0,  10.4402,  35.4307,2,    241.8,2,    241.5,2,     4.90,2,    12.10,2,     0.79,2,   -9.000,9,   2147.0,2,   -999.0,9,  10.4031
  64PE20070830, AR07E,    53,  2,      8,2,20070921,2157, 55.7850,  -9.4340,  826,    202.0,  10.6273,  35.4356,2,    244.9,2,    244.2,2,     4.40,2,    11.60,2,     0.74,2,   -9.000,9,   2141.9,2,   2335.1,2,  10.6028
  64PE20070830, AR07E,    53,  2,      9,2,20070921,2157, 55.7850,  -9.4340,  826,    101.0,  11.1694,  35.4635,2,    241.7,2,    241.7,2,     3.50,2,    10.90,2,     0.68,2,   -9.000,9,   2138.1,2,   2334.5,2,  11.1568
  64PE20070830, AR07E,    53,  2,     10,2,20070921,2157, 55.7850,  -9.4340,  826,     12.0,  14.2087,  35.4347,2,    253.7,2,    255.6,2,     0.30,2,     1.20,2,     0.12,2,   -9.000,9,   2075.1,2,   2337.6,2,  14.2070
  64PE20070830, AR07E,    54,  2,      1,2,20070922,1236, 55.7500,  -9.0020,  732,    107.0,  10.6058,  35.4262,2,    234.6,2,    232.3,2,     4.60,2,    12.40,2,     0.80,2,    1.731,2,   2147.7,2,   2335.6,2,  10.5929
  64PE20070830, AR07E,    54,  2,      2,2,20070922,1236, 55.7500,  -9.0020,  732,     56.0,  12.0117,  35.3307,2,    233.2,2,    232.2,2,     2.30,2,     8.00,2,     0.54,2,    1.818,2,   2120.9,2,   2332.5,2,  12.0044
  64PE20070830, AR07E,    54,  2,      3,2,20070922,1236, 55.7500,  -9.0020,  732,      8.0,  13.9247,  35.1296,2,    250.5,2,    251.8,2,     0.30,2,     0.60,2,     0.11,2,    1.723,2,   2069.7,2,   2328.2,2,  13.9236