BOTTLE,20180912PRINUNIVRMK
EXPOCODE,SECT_ID,STNNBR,CASTNO,BTLNBR,BTLNBR_FLAG_W,DATE,TIME,LATITUDE,LONGITUDE,DEPTH,CTDPRS,CTDTMP,CTDSAL,CTDSAL_FLAG_W,CTDOXY,CTDOXY_FLAG_W,OXYGEN,OXYGEN_FLAG_W,SILCAT,SILCAT_FLAG_W,NITRAT,NITRAT_FLAG_W,PHSPHT,PHSPHT_FLAG_W,CFC-12,CFC-12_FLAG_W,TCARBN,TCARBN_FLAG_W,ALKALI,ALKALI_FLAG_W,THETA
,,,,,,,,,,METERS,DBAR,ITS-90,PSS-78,,UMOL/KG,,UMOL/KG,,UMOL/KG,,UMOL/KG,,UMOL/KG,,PMOL/KG,,UMOL/KG,,UMOL/KG,,DEG C
  64PE20070830, AR07E,    34,  1,      1,2,20070918,1141, 57.0170, -22.8160, 3084,   3074.0,   2.8024,  34.9778,2,    266.6,2,    264.6,2,    16.20,2,    16.50,2,     1.10,2,    1.381,2,   2173.7,2,   2318.1,2,   2.5479
  64PE20070830, AR07E,    34,  1,      2,2,20070918,1141, 57.0170, -22.8160, 3084,   3026.0,   2.8074,  34.9611,2,    261.5,2,    260.1,2,    20.00,2,    17.50,2,     1.16,2,    1.087,2,   2174.9,2,   2323.4,2,   2.5579
  64PE20070830, AR07E,    34,  1,      3,2,20070918,1141, 57.0170, -22.8160, 3084,   2977.0,   2.8733,  34.9690,2,    264.8,2,    264.0,2,    16.70,2,    16.80,2,     1.12,2,    1.215,2,   2170.8,2,   2319.1,2,   2.6275
  64PE20070830, AR07E,    34,  1,      4,2,20070918,1141, 57.0170, -22.8160, 3084,   2751.0,   3.0007,  34.9579,2,    264.8,2,    265.1,2,    15.80,2,    16.90,2,     1.11,2,    1.153,2,   2163.8,2,   2317.2,2,   2.7755
  64PE20070830, AR07E,    34,  1,      5,2,20070918,1141, 57.0170, -22.8160, 3084,   2500.0,   3.2013,  34.9362,2,    268.5,2,    268.7,2,    12.80,2,    16.80,2,     1.11,2,    1.250,2,   2160.0,2,   2313.7,2,   2.9977
  64PE20070830, AR07E,    34,  1,      6,2,20070918,1141, 57.0170, -22.8160, 3084,   2249.0,   3.3090,  34.9098,2,    272.2,2,    271.4,2,    11.60,2,    17.10,2,     1.12,2,    1.418,2,   2159.9,2,   2308.7,2,   3.1282
  64PE20070830, AR07E,    34,  1,      7,2,20070918,1141, 57.0170, -22.8160, 3084,   2000.0,   3.4362,  34.9007,2,    270.9,2,   -999.0,9,  -999.00,9,  -999.00,9,  -999.00,9,    1.639,2,   -999.0,9,   -999.0,9,   3.2772
  64PE20070830, AR07E,    34,  1,      8,2,20070918,1141, 57.0170, -22.8160, 3084,   1999.0,   3.4384,  34.9012,2,    271.1,2,   -999.0,9,  -999.00,9,  -999.00,9,  -999.00,9,    1.647,2,   -999.0,9,   -999.0,9,   3.2795
  64PE20070830, AR07E,    34,  1,      9,2,20070918,1141, 57.0170, -22.8160, 3084,   1749.0,   3.6352,  34.9032,2,    268.7,2,    267.5,2,    11.00,2,    17.40,2,     1.14,2,    1.594,2,   2158.8,2,   2306.5,2,   3.4968
  64PE20070830, AR07E,    34,  1,     10,2,20070918,1141, 57.0170, -22.8160, 3084,   1499.0,   3.8186,  34.9058,2,    266.5,2,    265.8,2,    10.70,2,    17.50,2,     1.14,2,   -9.000,9,   2165.5,2,   2306.5,2,   3.7007
  64PE20070830, AR07E,    34,  1,     11,2,20070918,1141, 57.0170, -22.8160, 3084,   1248.0,   4.2768,  34.9381,2,    256.3,2,    256.4,2,    10.70,2,    17.90,2,     1.17,2,    1.757,2,   2163.5,2,   2308.2,2,   4.1765
  64PE20070830, AR07E,    34,  1,     12,2,20070918,1141, 57.0170, -22.8160, 3084,   1000.0,   5.3030,  35.0184,2,    234.9,2,    235.2,2,    11.00,2,    18.60,2,     1.21,2,    1.573,2,   2172.2,2,   2314.8,2,   5.2166
  64PE20070830, AR07E,    34,  1,     13,2,20070918,1141, 57.0170, -22.8160, 3084,    998.0,   5.3128,  35.0195,2,    234.4,2,    234.7,2,    11.00,2,    18.70,2,     1.20,2,   -9.000,9,   2173.2,2,   2316.5,2,   5.2265
  64PE20070830, AR07E,    34,  1,     14,2,20070918,1141, 57.0170, -22.8160, 3084,    901.0,   6.1869,  35.1094,2,    219.6,2,    220.2,2,    11.10,2,    18.70,2,     1.22,2,    0.003,4,   2176.6,2,   2318.3,2,   6.1035
  64PE20070830, AR07E,    34,  1,     15,2,20070918,1141, 57.0170, -22.8160, 3084,    799.0,   6.6893,  35.1217,2,    211.4,2,    212.4,2,    10.90,2,    19.00,2,     1.22,2,   -9.000,9,   2173.7,2,   2325.4,3,   6.6129
  64PE20070830, AR07E,    34,  1,     16,2,20070918,1141, 57.0170, -22.8160, 3084,    700.0,   7.6350,  35.1795,2,    208.4,2,    210.1,2,    10.10,2,    18.40,2,     1.18,2,    0.006,4,   2173.0,2,   2322.2,2,   7.5635
  64PE20070830, AR07E,    34,  1,     17,2,20070918,1141, 57.0170, -22.8160, 3084,    599.0,   8.4963,  35.2193,2,    202.3,2,    203.3,2,     9.50,2,    18.00,2,     1.15,2,   -9.000,9,   2169.1,2,   2326.6,2,   8.4317
  64PE20070830, AR07E,    34,  1,     18,2,20070918,1141, 57.0170, -22.8160, 3084,    501.0,   9.0040,  35.2351,2,    211.4,2,    213.3,2,     8.20,2,    16.70,2,     1.06,2,   -9.000,9,   2160.5,2,   2322.6,2,   8.9484
  64PE20070830, AR07E,    34,  1,     19,2,20070918,1141, 57.0170, -22.8160, 3084,    398.0,   9.7578,  35.3324,2,    248.9,2,    250.2,2,     5.10,2,    12.70,2,     0.81,2,   -9.000,9,   2141.8,2,   2329.5,2,   9.7116
  64PE20070830, AR07E,    34,  1,     20,2,20070918,1141, 57.0170, -22.8160, 3084,    299.0,  10.1826,  35.3673,2,    243.3,2,    245.5,2,     5.10,2,    12.40,2,     0.78,2,    0.038,4,   2137.3,2,   2331.5,2,  10.1472
  64PE20070830, AR07E,    34,  1,     21,2,20070918,1141, 57.0170, -22.8160, 3084,    203.0,  10.4136,  35.3702,2,    241.5,2,    244.0,2,     4.80,2,    12.10,2,     0.77,2,   -9.000,9,   2137.9,2,   2330.7,2,  10.3893
  64PE20070830, AR07E,    34,  1,     22,2,20070918,1141, 57.0170, -22.8160, 3084,    101.0,  11.2378,  35.4310,2,    241.6,2,    243.8,2,     2.90,2,    10.40,2,     0.66,2,    1.895,2,   2133.4,2,   2333.7,2,  11.2252
  64PE20070830, AR07E,    34,  1,     23,2,20070918,1141, 57.0170, -22.8160, 3084,     10.0,  13.8842,  35.3138,2,    249.6,2,    252.3,2,     0.50,2,     3.00,2,     0.23,2,    1.717,2,   2081.2,2,   2329.9,2,  13.8828
  64PE20070830, AR07E,    34,  1,     24,2,20070918,1141, 57.0170, -22.8160, 3084,     11.0,  13.8905,  35.3139,2,    249.0,2,    252.5,2,     0.50,2,     3.00,2,     0.24,2,   -9.000,9,   -999.0,9,   -999.0,9,  13.8889
  64PE20070830, AR07E,    35,  1,      1,2,20070918,1559, 56.9830, -22.3670, 2926,   2671.0,   2.8807,  34.9440,2,    261.3,2,    260.7,2,    21.00,2,    18.00,2,     1.19,2,    0.916,2,   2174.9,2,   2322.7,2,   2.6660
  64PE20070830, AR07E,    35,  1,      2,2,20070918,1559, 56.9830, -22.3670, 2926,   2620.0,   2.8977,  34.9434,2,    261.2,2,    261.2,2,    20.30,2,    17.70,2,     1.18,2,   -9.000,9,   2170.2,2,   2321.5,2,   2.6878
  64PE20070830, AR07E,    35,  1,      3,2,20070918,1559, 56.9830, -22.3670, 2926,   2570.0,   2.9714,  34.9395,2,    263.4,2,    263.7,2,    18.30,2,    17.60,2,     1.16,2,    0.990,2,   2169.6,2,   2317.0,2,   2.7651
  64PE20070830, AR07E,    35,  1,      4,2,20070918,1559, 56.9830, -22.3670, 2926,   2539.0,   3.0093,  34.9371,2,    264.9,2,    264.8,2,    17.30,2,    17.50,2,     1.15,2,    1.020,2,   2165.7,2,   2316.4,2,   2.8053
  64PE20070830, AR07E,    35,  1,      5,2,20070918,1559, 56.9830, -22.3670, 2926,   2284.0,   3.2510,  34.9222,2,    272.4,2,    272.5,2,    11.80,2,    16.90,2,     1.11,2,    1.334,2,   2157.8,2,   2308.7,2,   3.0678
  64PE20070830, AR07E,    35,  1,      6,2,20070918,1559, 56.9830, -22.3670, 2926,   2029.0,   3.3699,  34.9024,2,    273.0,2,    272.8,2,    11.40,2,    17.30,2,     1.13,2,    1.444,2,   2157.4,2,   2308.4,2,   3.2092
  64PE20070830, AR07E,    35,  1,      7,2,20070918,1559, 56.9830, -22.3670, 2926,   2031.0,   3.3719,  34.9021,2,    272.8,2,    272.5,2,    11.40,2,    17.10,2,     1.13,2,    1.458,2,   2158.2,2,   2305.8,2,   3.2110
  64PE20070830, AR07E,    35,  1,      8,2,20070918,1559, 56.9830, -22.3670, 2926,   1773.0,   3.5667,  34.9029,2,    270.4,2,   -999.0,9,    11.00,2,    17.40,2,     1.13,2,    1.562,2,   2158.5,2,   2307.2,2,   3.4270
  64PE20070830, AR07E,    35,  1,      9,2,20070918,1559, 56.9830, -22.3670, 2926,   1518.0,   3.7462,  34.9027,2,    268.9,2,    270.0,2,    10.70,2,    17.40,2,     1.13,2,    1.754,2,   2159.2,2,   2305.1,2,   3.6274
  64PE20070830, AR07E,    35,  1,     10,2,20070918,1559, 56.9830, -22.3670, 2926,   1268.0,   4.1218,  34.9251,2,    261.5,2,    262.4,2,    10.60,2,    17.70,2,     1.15,2,    1.778,2,   2162.5,2,   2305.9,2,   4.0213
  64PE20070830, AR07E,    35,  1,     11,2,20070918,1559, 56.9830, -22.3670, 2926,   1011.0,   5.1766,  35.0285,2,    238.9,2,    245.0,2,    11.00,2,    18.40,2,     1.19,2,    1.532,2,   2169.2,2,   2314.8,2,   5.0901
  64PE20070830, AR07E,    35,  1,     12,2,20070918,1559, 56.9830, -22.3670, 2926,   1016.0,   5.0184,  35.0083,2,    240.4,2,    242.8,2,    11.00,2,    18.40,2,     1.19,2,   -9.000,9,   -999.0,9,   -999.0,9,   4.9327
  64PE20070830, AR07E,    35,  1,     13,2,20070918,1559, 56.9830, -22.3670, 2926,    912.0,   5.8054,  35.0788,2,    226.0,2,    223.6,2,    11.10,2,    18.70,2,     1.21,2,   -9.000,9,   -999.0,9,   -999.0,9,   5.7236
  64PE20070830, AR07E,    35,  1,     14,2,20070918,1559, 56.9830, -22.3670, 2926,    809.0,   6.4870,  35.1063,2,    215.5,2,    210.6,2,    11.00,2,    19.00,2,     1.22,2,   -9.000,9,   -999.0,9,   -999.0,9,   6.4108
  64PE20070830, AR07E,    35,  1,     15,2,20070918,1559, 56.9830, -22.3670, 2926,    708.0,   7.2089,  35.1272,2,    203.4,2,   -999.0,9,    10.80,2,    19.20,2,     1.24,2,   -9.000,9,   -999.0,9,   -999.0,9,   7.1389
  64PE20070830, AR07E,    35,  1,     16,2,20070918,1559, 56.9830, -22.3670, 2926,    604.0,   8.0793,  35.1647,2,    201.2,2,   -999.0,9,     9.80,2,    18.50,2,     1.18,2,   -9.000,9,   -999.0,9,   -999.0,9,   8.0161
  64PE20070830, AR07E,    35,  1,     17,2,20070918,1559, 56.9830, -22.3670, 2926,    505.0,   9.2971,  35.2808,2,    219.6,2,   -999.0,9,     7.40,2,    15.70,2,     0.99,2,   -9.000,9,   -999.0,9,   -999.0,9,   9.2399
  64PE20070830, AR07E,    35,  1,     18,2,20070918,1559, 56.9830, -22.3670, 2926,    402.0,   9.9144,  35.3430,2,    235.4,2,   -999.0,9,     5.70,2,    13.40,2,     0.85,2,   -9.000,9,   -999.0,9,   -999.0,9,   9.8673
  64PE20070830, AR07E,    35,  1,     19,2,20070918,1559, 56.9830, -22.3670, 2926,    302.0,  10.0981,  35.3236,2,    243.1,2,   -999.0,9,     5.40,2,    12.90,2,     0.81,2,   -9.000,9,   -999.0,9,   -999.0,9,  10.0625
  64PE20070830, AR07E,    35,  1,     20,2,20070918,1559, 56.9830, -22.3670, 2926,    200.0,  10.6886,  35.3999,2,    237.3,2,   -999.0,9,     4.80,2,    12.20,2,     0.76,2,   -9.000,9,   -999.0,9,   -999.0,9,  10.6643
  64PE20070830, AR07E,    35,  1,     21,2,20070918,1559, 56.9830, -22.3670, 2926,    100.0,  11.6551,  35.4802,2,    238.9,2,   -999.0,9,     2.60,2,    10.20,2,     0.63,2,   -9.000,9,   -999.0,9,   -999.0,9,  11.6423
  64PE20070830, AR07E,    35,  1,     22,2,20070918,1559, 56.9830, -22.3670, 2926,     10.0,  14.3104,  35.3930,2,    246.7,2,   -999.0,9,     0.40,2,     2.10,2,     0.17,2,   -9.000,9,   -999.0,9,   -999.0,9,  14.3089
  64PE20070830, AR07E,    36,  2,      1,2,20070918,2000, 56.9330, -21.9160, 2519,   2282.0,   3.1325,  34.9297,2,    270.8,2,   -999.0,9,    14.70,2,    16.90,2,     1.14,2,    0.870,2,   2157.2,2,   2310.1,2,   2.9514
  64PE20070830, AR07E,    36,  2,      2,2,20070918,2000, 56.9330, -21.9160, 2519,   2233.0,   3.1873,  34.9200,2,    271.3,2,   -999.0,9,    14.10,2,    17.00,2,     1.14,2,    0.923,2,   2157.2,2,   2308.8,2,   3.0100
  64PE20070830, AR07E,    36,  2,      3,2,20070918,2000, 56.9330, -21.9160, 2519,   2179.0,   3.2604,  34.9120,2,    273.3,2,   -999.0,9,    12.50,2,    16.90,2,     1.13,2,    1.345,2,   2157.1,2,   2309.9,2,   3.0871
  64PE20070830, AR07E,    36,  2,      4,2,20070918,2000, 56.9330, -21.9160, 2519,   2033.0,   3.3449,  34.9018,2,    273.9,2,   -999.0,9,    11.80,2,    17.10,2,     1.14,2,    1.409,2,   2158.2,2,   2305.5,2,   3.1842
  64PE20070830, AR07E,    36,  2,      5,2,20070918,2000, 56.9330, -21.9160, 2519,   2028.0,   3.3458,  34.9023,2,    274.1,2,   -999.0,9,    11.80,2,    17.10,2,     1.14,2,    1.372,2,   2158.1,2,   2304.9,2,   3.1856
  64PE20070830, AR07E,    36,  2,      6,2,20070918,2000, 56.9330, -21.9160, 2519,   1773.0,   3.5401,  34.9032,2,    271.1,2,   -999.0,9,    11.50,2,    17.10,2,     1.14,2,    1.510,2,   2157.7,2,   2306.1,2,   3.4008
  64PE20070830, AR07E,    36,  2,      7,2,20070918,2000, 56.9330, -21.9160, 2519,   1519.0,   3.7069,  34.8998,2,    270.4,2,   -999.0,9,    10.90,2,    17.20,2,     1.15,2,    1.737,2,   2157.0,2,   -999.0,9,   3.5885
  64PE20070830, AR07E,    36,  2,      8,2,20070918,2000, 56.9330, -21.9160, 2519,   1265.0,   4.1731,  34.9410,2,    259.6,2,   -999.0,9,    11.10,2,    17.60,2,     1.17,2,    1.670,2,   2163.5,2,   2310.1,2,   4.0723
  64PE20070830, AR07E,    36,  2,      9,2,20070918,2000, 56.9330, -21.9160, 2519,   1011.0,   5.3972,  35.0560,2,    235.3,2,   -999.0,9,    11.20,2,    18.30,2,     1.20,2,    1.469,2,   2172.4,2,   2316.2,2,   5.3089
  64PE20070830, AR07E,    36,  2,     10,2,20070918,2000, 56.9330, -21.9160, 2519,   1010.0,   5.4099,  35.0584,2,    234.7,2,   -999.0,9,    11.30,2,    18.20,2,     1.20,2,    1.471,2,   2171.3,2,   2317.5,2,   5.3216
  64PE20070830, AR07E,    36,  2,     11,2,20070918,2000, 56.9330, -21.9160, 2519,    910.0,   5.7630,  35.0561,2,    226.1,2,   -999.0,9,    11.20,2,    18.50,2,     1.21,2,    1.466,2,   2174.7,2,   2317.2,2,   5.6817
  64PE20070830, AR07E,    36,  2,     12,2,20070918,2000, 56.9330, -21.9160, 2519,    810.0,   7.0742,  35.1994,2,    208.6,2,    206.1,2,    11.20,2,    18.70,2,     1.21,2,   -9.000,9,   2175.2,2,   2325.2,2,   6.9943
  64PE20070830, AR07E,    36,  2,     13,2,20070918,2000, 56.9330, -21.9160, 2519,    708.0,   7.8065,  35.2272,2,    200.9,2,    204.4,2,    10.50,2,    18.40,2,     1.20,2,    1.380,2,   2175.5,2,   2327.4,2,   7.7332
  64PE20070830, AR07E,    36,  2,     14,2,20070918,2000, 56.9330, -21.9160, 2519,    603.0,   8.4908,  35.2511,2,    203.3,2,    204.1,2,     9.50,2,    17.70,2,     1.14,2,   -9.000,9,   2169.9,2,   2327.7,2,   8.4258
  64PE20070830, AR07E,    36,  2,     15,2,20070918,2000, 56.9330, -21.9160, 2519,    507.0,   9.2112,  35.3064,2,    224.9,2,    227.2,2,     7.30,2,    15.10,2,     0.98,2,    1.640,2,   2156.4,2,   2326.2,2,   9.1541
  64PE20070830, AR07E,    36,  2,     16,2,20070918,2000, 56.9330, -21.9160, 2519,    407.0,   9.7916,  35.3466,2,    235.0,2,   -999.0,9,     5.90,2,    13.40,2,     0.87,2,   -9.000,9,   2146.7,2,   2328.0,2,   9.7443
  64PE20070830, AR07E,    36,  2,     17,2,20070918,2000, 56.9330, -21.9160, 2519,    303.0,  10.0865,  35.3357,2,    240.9,2,   -999.0,9,     5.40,2,    12.60,2,     0.81,2,    1.815,2,   2143.4,2,   2329.6,2,  10.0508
  64PE20070830, AR07E,    36,  2,     18,2,20070918,2000, 56.9330, -21.9160, 2519,    202.0,  10.4781,  35.3708,2,    240.2,2,   -999.0,9,     4.80,2,    12.10,2,     0.77,2,   -9.000,9,   2142.0,2,   2331.0,2,  10.4538
  64PE20070830, AR07E,    36,  2,     19,2,20070918,2000, 56.9330, -21.9160, 2519,    100.0,  11.2401,  35.4348,2,    239.0,2,    242.2,2,     3.20,2,    10.70,2,     0.68,2,   -9.000,9,   2135.4,2,   2334.3,2,  11.2276
  64PE20070830, AR07E,    36,  2,     20,2,20070918,2000, 56.9330, -21.9160, 2519,     10.0,  14.3616,  35.4558,2,    247.9,2,    251.7,2,     0.10,2,     2.00,2,     0.18,2,    1.677,2,   2088.4,2,   2338.1,2,  14.3601
  64PE20070830, AR07E,    37,  2,      1,2,20070918,2333, 56.9000, -21.5000, 2519,   2110.0,   3.1520,  34.9268,2,    272.0,2,    270.4,2,    14.20,2,    16.90,2,     1.13,2,   -9.000,9,   2162.6,2,   2314.1,2,   2.9870
  64PE20070830, AR07E,    37,  2,      2,2,20070918,2333, 56.9000, -21.5000, 2519,   2062.0,   3.3266,  34.9063,2,    272.7,2,    272.1,2,    12.90,2,    17.20,2,     1.14,2,   -9.000,9,   2162.9,2,   2306.6,2,   3.1634
  64PE20070830, AR07E,    37,  2,      3,2,20070918,2333, 56.9000, -21.5000, 2519,   2007.0,   3.3708,  34.9048,2,    273.1,2,    272.4,2,    12.40,2,    17.10,2,     1.14,2,    1.416,2,   2156.9,2,   2306.7,2,   3.2121
  64PE20070830, AR07E,    37,  2,      4,2,20070918,2333, 56.9000, -21.5000, 2519,   2012.0,   3.3718,  34.9050,2,    272.8,2,    272.6,2,    12.40,2,    17.00,2,     1.14,2,   -9.000,9,   2161.7,2,   2306.5,2,   3.2127
  64PE20070830, AR07E,    37,  2,      5,2,20070918,2333, 56.9000, -21.5000, 2519,   1771.0,   3.5517,  34.9037,2,    271.3,2,    271.0,2,    11.60,2,    17.30,2,     1.15,2,    1.523,2,   2159.6,2,   2306.2,2,   3.4124
  64PE20070830, AR07E,    37,  2,      6,2,20070918,2333, 56.9000, -21.5000, 2519,   1568.0,   3.7003,  34.9040,2,    269.4,2,    269.4,2,    11.20,2,    17.20,2,     1.14,2,    1.690,2,   2163.3,2,   2304.0,2,   3.5776
  64PE20070830, AR07E,    37,  2,      7,2,20070918,2333, 56.9000, -21.5000, 2519,   1521.0,   3.8020,  34.9109,2,    267.7,2,    269.5,2,    11.30,2,    17.40,2,     1.15,2,    1.684,2,   2159.1,2,   2305.6,2,   3.6823
  64PE20070830, AR07E,    37,  2,      8,2,20070918,2333, 56.9000, -21.5000, 2519,   1265.0,   4.2315,  34.9358,2,    259.3,2,    258.4,2,    11.00,2,    17.60,2,     1.17,2,    1.749,2,   2167.6,2,   2307.6,2,   4.1301
  64PE20070830, AR07E,    37,  2,      9,2,20070918,2333, 56.9000, -21.5000, 2519,   1011.0,   5.7271,  35.0967,2,    228.7,2,    228.5,2,    11.40,2,    18.20,2,     1.19,2,    1.404,2,   2175.2,2,   2319.1,2,   5.6363
  64PE20070830, AR07E,    37,  2,     10,2,20070918,2333, 56.9000, -21.5000, 2519,   1010.0,   5.7289,  35.0974,2,    228.6,2,    228.4,2,    11.30,2,    18.30,2,     1.19,2,   -9.000,9,   2175.5,2,   2318.4,2,   5.6382
  64PE20070830, AR07E,    37,  2,     11,2,20070918,2333, 56.9000, -21.5000, 2519,    910.0,   6.3994,  35.1565,2,    218.2,2,    216.8,2,    11.40,2,    18.50,2,     1.21,2,   -9.000,9,   -999.0,9,   -999.0,9,   6.3136
  64PE20070830, AR07E,    37,  2,     12,2,20070918,2333, 56.9000, -21.5000, 2519,    810.0,   7.0273,  35.1695,2,    206.2,2,    205.5,2,    11.10,2,    18.80,2,     1.22,2,   -9.000,9,   -999.0,9,   -999.0,9,   6.9477
  64PE20070830, AR07E,    37,  2,     13,2,20070918,2333, 56.9000, -21.5000, 2519,    702.0,   8.0399,  35.2338,2,    201.0,2,    199.8,2,    10.40,2,    18.30,2,     1.18,2,   -9.000,9,   -999.0,9,   -999.0,9,   7.9661
  64PE20070830, AR07E,    37,  2,     14,2,20070918,2333, 56.9000, -21.5000, 2519,    601.0,   8.7927,  35.2734,2,    212.3,2,    213.1,2,     8.60,2,    16.50,2,     1.07,2,   -9.000,9,   -999.0,9,   -999.0,9,   8.7265
  64PE20070830, AR07E,    37,  2,     15,2,20070918,2333, 56.9000, -21.5000, 2519,    506.0,   9.4040,  35.3198,2,    234.4,2,    236.7,2,     6.50,2,    14.10,2,     0.90,2,   -9.000,9,   -999.0,9,   -999.0,9,   9.3463
  64PE20070830, AR07E,    37,  2,     16,2,20070918,2333, 56.9000, -21.5000, 2519,    401.0,   9.8473,  35.3469,2,    231.7,2,    234.2,2,     6.00,2,    13.60,2,     0.87,2,   -9.000,9,   -999.0,9,   -999.0,9,   9.8005
  64PE20070830, AR07E,    37,  2,     17,2,20070918,2333, 56.9000, -21.5000, 2519,    305.0,  10.1287,  35.3480,2,    242.5,2,    244.9,2,     5.20,2,    12.40,2,     0.80,2,   -9.000,9,   -999.0,9,   -999.0,9,  10.0927
  64PE20070830, AR07E,    37,  2,     18,2,20070918,2333, 56.9000, -21.5000, 2519,    204.0,  10.5436,  35.3786,2,    238.3,2,    240.7,2,     4.80,2,    12.10,2,     0.77,2,   -9.000,9,   -999.0,9,   -999.0,9,  10.5190
  64PE20070830, AR07E,    37,  2,     19,2,20070918,2333, 56.9000, -21.5000, 2519,    102.0,  11.3428,  35.4832,2,    236.9,2,    238.7,2,     4.00,2,    11.00,2,     0.69,2,   -9.000,9,   -999.0,9,   -999.0,9,  11.3300
  64PE20070830, AR07E,    37,  2,     20,2,20070918,2333, 56.9000, -21.5000, 2519,     10.0,  14.3978,  35.4291,2,    247.5,2,    249.3,2,     0.20,2,     1.90,2,     0.18,2,   -9.000,9,   -999.0,9,   -999.0,9,  14.3963