BOTTLE,20180912PRINUNIVRMK
# 8/1/2012 Initialized README file  
# Data source: S. van Heuven; 7/23/2012 
# SHIP: Pelagia 
# Cruise: 64PE275; AR07E 
# Region: Southern Greenland to Scotland 
# EXPOCODE: 8/30 - 9/27/2007 
# DATES: 64PE20070830 
# Chief Scientist: G.-J.A. Brummer/ NIOZ 
# 46 stations with 24 place Rosette 
# Hydro: Who - H.vanAken; Status - final 
# 	Notes: 	No bottle salt values in file 
# 	Bottom depths approximated from global topography 
# Nuts: Who - J. van Ooijen; Status - final 
# 	Notes: nitrate is really NO3+NO2 
# O2: Who - J. van Ooijen; Status - final 
# 	Notes: 
# TCO2: Who - S.van Heuven; Status - final 
# 	Notes:  
# TA: Who - S.van Heuven; Status - final 
# 	Notes:  
# CFC: Who - D. Kieke; K. Bulsiewicz; Status - final 
# 	Notes: CFC-12 only 
# 	Data from R.Steinfeldt 8/30/2018 
# References: 
EXPOCODE,SECT_ID,STNNBR,CASTNO,BTLNBR,BTLNBR_FLAG_W,DATE,TIME,LATITUDE,LONGITUDE,DEPTH,CTDPRS,CTDTMP,CTDSAL,CTDSAL_FLAG_W,CTDOXY,CTDOXY_FLAG_W,OXYGEN,OXYGEN_FLAG_W,SILCAT,SILCAT_FLAG_W,NITRAT,NITRAT_FLAG_W,PHSPHT,PHSPHT_FLAG_W,CFC-12,CFC-12_FLAG_W,TCARBN,TCARBN_FLAG_W,ALKALI,ALKALI_FLAG_W,THETA
,,,,,,,,,,METERS,DBAR,ITS-90,PSS-78,,UMOL/KG,,UMOL/KG,,UMOL/KG,,UMOL/KG,,UMOL/KG,,PMOL/KG,,UMOL/KG,,UMOL/KG,,DEG C
  64PE20070830, AR07E,     2,  1,      1,2,20070905,1038, 51.0940, -18.7750, 4607,    255.0,   9.4689,  35.2083,2,    237.0,2,    235.8,2,     6.30,2,    14.20,2,     0.93,2,   -9.000,9,   -999.0,9,   -999.0,9,   9.4401
  64PE20070830, AR07E,     2,  1,      2,2,20070905,1038, 51.0940, -18.7750, 4607,    254.0,   9.4815,  35.2086,2,    236.1,2,    236.0,2,     6.30,2,    14.20,2,     0.92,2,   -9.000,9,   -999.0,9,   -999.0,9,   9.4528
  64PE20070830, AR07E,     2,  1,      3,2,20070905,1038, 51.0940, -18.7750, 4607,    254.0,   9.4723,  35.2085,2,    236.3,2,   -999.0,9,  -999.00,9,  -999.00,9,  -999.00,9,   -9.000,9,   -999.0,9,   -999.0,9,   9.4436
  64PE20070830, AR07E,     2,  1,      4,2,20070905,1038, 51.0940, -18.7750, 4607,    254.0,   9.4769,  35.2082,2,    236.4,2,    235.7,2,     6.30,2,    14.20,2,     0.92,2,   -9.000,9,   -999.0,9,   -999.0,9,   9.4482
  64PE20070830, AR07E,     2,  1,      5,2,20070905,1038, 51.0940, -18.7750, 4607,    254.0,   9.4792,  35.2083,2,    236.1,2,    235.8,2,     6.40,2,    14.20,2,     0.92,2,   -9.000,9,   -999.0,9,   -999.0,9,   9.4505
  64PE20070830, AR07E,     2,  1,      6,2,20070905,1038, 51.0940, -18.7750, 4607,    254.0,   9.4801,  35.2093,2,    236.2,2,    236.3,2,     6.40,2,    14.20,2,     0.92,2,   -9.000,9,   -999.0,9,   -999.0,9,   9.4514
  64PE20070830, AR07E,     2,  1,      7,2,20070905,1038, 51.0940, -18.7750, 4607,    255.0,   9.4814,  35.2095,2,    236.2,2,    236.8,2,     6.40,2,    14.20,2,     0.92,2,   -9.000,9,   -999.0,9,   -999.0,9,   9.4526
  64PE20070830, AR07E,     2,  1,      8,2,20070905,1038, 51.0940, -18.7750, 4607,    254.0,   9.4835,  35.2092,2,    236.4,2,    236.8,2,     6.40,2,    14.20,2,     0.92,2,   -9.000,9,   -999.0,9,   -999.0,9,   9.4548
  64PE20070830, AR07E,     2,  1,      9,2,20070905,1038, 51.0940, -18.7750, 4607,    254.0,   9.4841,  35.2096,2,    236.2,2,    237.7,2,     6.30,2,    14.20,2,     0.92,2,   -9.000,9,   -999.0,9,   -999.0,9,   9.4554
  64PE20070830, AR07E,     2,  1,     10,2,20070905,1038, 51.0940, -18.7750, 4607,    254.0,   9.4866,  35.2100,2,    236.2,2,    236.9,2,     6.40,2,    14.20,2,     0.92,2,   -9.000,9,   -999.0,9,   -999.0,9,   9.4579
  64PE20070830, AR07E,     2,  1,     11,2,20070905,1038, 51.0940, -18.7750, 4607,    254.0,   9.4858,  35.2103,2,    236.0,2,    236.8,2,     6.30,2,    14.10,2,     0.92,2,   -9.000,9,   -999.0,9,   -999.0,9,   9.4571
  64PE20070830, AR07E,     2,  1,     12,2,20070905,1038, 51.0940, -18.7750, 4607,    254.0,   9.4841,  35.2098,2,    236.1,2,   -999.0,9,  -999.00,9,  -999.00,9,  -999.00,9,   -9.000,9,   -999.0,9,   -999.0,9,   9.4554
  64PE20070830, AR07E,     2,  1,     13,2,20070905,1038, 51.0940, -18.7750, 4607,     10.0,  17.4740,  35.4190,2,    244.1,2,    247.4,2,     0.10,2,     0.10,2,     0.03,2,   -9.000,9,   -999.0,9,   -999.0,9,  17.4723
  64PE20070830, AR07E,     2,  1,     14,2,20070905,1038, 51.0940, -18.7750, 4607,     10.0,  17.4586,  35.4202,2,    244.3,2,    247.0,2,     0.10,2,     0.10,2,     0.03,2,   -9.000,9,   -999.0,9,   -999.0,9,  17.4569
  64PE20070830, AR07E,     2,  1,     15,2,20070905,1038, 51.0940, -18.7750, 4607,     10.0,  17.5276,  35.3775,2,    243.1,2,    247.6,2,     0.10,2,     0.10,2,     0.03,2,   -9.000,9,   -999.0,9,   -999.0,9,  17.5259
  64PE20070830, AR07E,     2,  1,     16,2,20070905,1038, 51.0940, -18.7750, 4607,     10.0,  17.5545,  35.4194,2,    243.6,2,    247.8,2,     0.10,2,     0.10,2,     0.03,2,   -9.000,9,   -999.0,9,   -999.0,9,  17.5528
  64PE20070830, AR07E,     2,  1,     17,2,20070905,1038, 51.0940, -18.7750, 4607,     10.0,  17.5477,  35.4201,2,    242.4,2,    247.8,2,     0.10,2,     0.10,2,     0.03,2,   -9.000,9,   -999.0,9,   -999.0,9,  17.5460
  64PE20070830, AR07E,     2,  1,     18,2,20070905,1038, 51.0940, -18.7750, 4607,     10.0,  17.5468,  35.4196,2,    242.7,2,    248.3,2,     0.10,2,     0.10,2,     0.03,2,   -9.000,9,   -999.0,9,   -999.0,9,  17.5451
  64PE20070830, AR07E,     2,  1,     19,2,20070905,1038, 51.0940, -18.7750, 4607,     10.0,  17.5377,  35.4184,2,    243.1,2,   -999.0,9,     0.10,2,     0.10,2,     0.03,2,   -9.000,9,   -999.0,9,   -999.0,9,  17.5360
  64PE20070830, AR07E,     2,  1,     20,2,20070905,1038, 51.0940, -18.7750, 4607,     10.0,  17.5408,  35.4217,2,    243.1,2,    248.5,2,     0.10,2,     0.10,2,     0.03,2,   -9.000,9,   -999.0,9,   -999.0,9,  17.5391
  64PE20070830, AR07E,     2,  1,     21,2,20070905,1038, 51.0940, -18.7750, 4607,     10.0,  17.5438,  35.4201,2,    243.6,2,    248.7,2,     0.10,2,     0.10,2,     0.03,2,   -9.000,9,   -999.0,9,   -999.0,9,  17.5421
  64PE20070830, AR07E,     2,  1,     22,2,20070905,1038, 51.0940, -18.7750, 4607,     10.0,  17.5346,  35.4198,2,    243.3,2,    248.6,2,     0.10,2,     0.10,2,     0.03,2,   -9.000,9,   -999.0,9,   -999.0,9,  17.5329
  64PE20070830, AR07E,     2,  1,     23,2,20070905,1038, 51.0940, -18.7750, 4607,     10.0,  17.5248,  35.4178,2,    243.3,2,   -999.0,9,     0.10,2,     0.10,2,     0.03,2,   -9.000,9,   -999.0,9,   -999.0,9,  17.5231
  64PE20070830, AR07E,     2,  1,     24,2,20070905,1038, 51.0940, -18.7750, 4607,     10.0,  17.5364,  35.4192,2,    243.3,2,    247.5,2,     0.10,2,     0.10,2,     0.03,2,   -9.000,9,   -999.0,9,   -999.0,9,  17.5347
  64PE20070830, AR07E,     3,  7,      1,2,20070907,1856, 57.4520, -27.9090, 2644,   2633.0,   2.7840,  34.9792,2,    265.7,2,   -999.0,9,    15.70,2,    16.10,2,     1.09,2,   -9.000,9,   -999.0,9,   -999.0,9,   2.5748
  64PE20070830, AR07E,     3,  7,      2,2,20070907,1856, 57.4520, -27.9090, 2644,   2634.0,   2.7842,  34.9788,2,    265.5,2,   -999.0,9,    15.70,2,    16.20,2,     1.09,2,   -9.000,9,   -999.0,9,   -999.0,9,   2.5749
  64PE20070830, AR07E,     3,  7,      3,2,20070907,1856, 57.4520, -27.9090, 2644,   2634.0,   2.7841,  34.9786,2,    265.3,2,   -999.0,9,    15.70,2,    16.10,2,     1.09,2,    1.440,2,   -999.0,9,   2320.7,2,   2.5748
  64PE20070830, AR07E,     3,  7,      4,2,20070907,1856, 57.4520, -27.9090, 2644,   2601.0,   2.7841,  34.9786,2,    265.4,2,   -999.0,9,    15.50,2,    16.10,2,     1.10,2,    1.429,2,   2170.5,2,   -999.0,9,   2.5781
  64PE20070830, AR07E,     3,  7,      5,2,20070907,1856, 57.4520, -27.9090, 2644,   2540.0,   2.8124,  34.9778,2,    265.3,2,   -999.0,9,    15.30,2,    16.20,2,     1.09,2,    1.385,2,   2170.2,2,   2315.1,2,   2.6118
  64PE20070830, AR07E,     3,  7,      6,2,20070907,1856, 57.4520, -27.9090, 2644,   2281.0,   2.9824,  34.9644,2,    264.9,2,   -999.0,9,    14.90,2,    16.50,2,     1.11,2,    1.242,2,   2166.4,2,   2312.0,2,   2.8038
  64PE20070830, AR07E,     3,  7,      7,2,20070907,1856, 57.4520, -27.9090, 2644,   2027.0,   3.2314,  34.9402,2,    268.7,2,   -999.0,9,    12.30,2,    16.60,2,     1.11,2,   -9.000,9,   -999.0,9,   -999.0,9,   3.0728
  64PE20070830, AR07E,     3,  7,      8,2,20070907,1856, 57.4520, -27.9090, 2644,   2026.0,   3.2325,  34.9400,2,    268.6,2,   -999.0,9,    12.30,2,    16.60,2,     1.10,2,   -9.000,9,   -999.0,9,   -999.0,9,   3.0740
  64PE20070830, AR07E,     3,  7,      9,2,20070907,1856, 57.4520, -27.9090, 2644,   2026.0,   3.2319,  34.9401,2,    268.9,2,   -999.0,9,    12.30,2,    16.50,2,     1.10,2,    1.349,2,   2159.1,2,   2308.2,2,   3.0734
  64PE20070830, AR07E,     3,  7,     10,2,20070907,1856, 57.4520, -27.9090, 2644,   1774.0,   3.3672,  34.9164,2,    270.7,2,   -999.0,9,    11.40,2,    16.90,2,     1.12,2,    1.467,2,   2158.3,2,   2307.0,2,   3.2300
  64PE20070830, AR07E,     3,  7,     11,2,20070907,1856, 57.4520, -27.9090, 2644,   1519.0,   3.5982,  34.9152,2,    267.9,2,   -999.0,9,    11.10,2,    17.10,2,     1.13,2,    1.555,2,   2160.6,2,   2304.4,2,   3.4810
  64PE20070830, AR07E,     3,  7,     12,2,20070907,1856, 57.4520, -27.9090, 2644,   1266.0,   3.8062,  34.9131,2,    265.7,2,   -999.0,9,    10.80,2,    17.30,2,     1.14,2,    1.747,2,   2161.6,2,   2306.4,2,   3.7089
  64PE20070830, AR07E,     3,  7,     13,2,20070907,1856, 57.4520, -27.9090, 2644,   1013.0,   4.1100,  34.9263,2,    259.8,2,   -999.0,9,    10.60,2,    17.60,2,     1.15,2,   -9.000,9,   2164.7,2,   2304.4,2,   4.0317
  64PE20070830, AR07E,     3,  7,     14,2,20070907,1856, 57.4520, -27.9090, 2644,    910.0,   4.3649,  34.9471,2,    254.0,2,   -999.0,9,    10.60,2,    17.70,2,     1.17,2,   -9.000,9,   -999.0,9,   -999.0,9,   4.2934
  64PE20070830, AR07E,     3,  7,     15,2,20070907,1856, 57.4520, -27.9090, 2644,    808.0,   4.4611,  34.9324,2,    252.7,2,   -999.0,9,    10.30,2,    17.90,2,     1.18,2,    1.825,2,   2168.2,2,   2305.5,2,   4.3977
  64PE20070830, AR07E,     3,  7,     16,2,20070907,1856, 57.4520, -27.9090, 2644,    707.0,   4.8908,  34.9602,2,    242.1,2,   -999.0,9,    10.70,2,    18.20,2,     1.20,2,   -9.000,9,   -999.0,9,   -999.0,9,   4.8335
  64PE20070830, AR07E,     3,  7,     17,2,20070907,1856, 57.4520, -27.9090, 2644,    607.0,   5.7957,  35.0455,2,    224.8,2,   -999.0,9,    10.90,2,    18.70,2,     1.21,2,    1.509,2,   2172.0,2,   2315.7,2,   5.7426
  64PE20070830, AR07E,     3,  7,     18,2,20070907,1856, 57.4520, -27.9090, 2644,    503.0,   6.6015,  35.0837,2,    217.1,2,   -999.0,9,    10.50,2,    18.50,2,     1.21,2,   -9.000,9,   -999.0,9,   -999.0,9,   6.5548
  64PE20070830, AR07E,     3,  7,     19,2,20070907,1856, 57.4520, -27.9090, 2644,    404.0,   7.2022,  35.0791,2,    237.3,2,   -999.0,9,     8.70,2,    17.00,2,     1.10,2,    1.700,2,   2161.6,2,   2315.2,2,   7.1631
  64PE20070830, AR07E,     3,  7,     20,2,20070907,1856, 57.4520, -27.9090, 2644,    302.0,   7.4792,  35.0201,2,    245.6,2,   -999.0,9,     7.70,2,    15.80,2,     1.04,2,   -9.000,9,   -999.0,9,   -999.0,9,   7.4496
  64PE20070830, AR07E,     3,  7,     21,2,20070907,1856, 57.4520, -27.9090, 2644,    203.0,   8.6701,  35.1513,2,    238.7,2,   -999.0,9,     7.00,2,    15.00,2,     0.97,2,    1.795,2,   2149.5,2,   2317.0,2,   8.6485
  64PE20070830, AR07E,     3,  7,     22,2,20070907,1856, 57.4520, -27.9090, 2644,     99.0,   9.4806,  35.2010,2,    248.2,2,   -999.0,9,     5.00,2,    12.90,2,     0.83,2,   -9.000,9,   -999.0,9,   -999.0,9,   9.4695
  64PE20070830, AR07E,     3,  7,     23,2,20070907,1856, 57.4520, -27.9090, 2644,     10.0,  13.3234,  35.0669,2,    261.3,2,   -999.0,9,     0.20,2,     2.40,2,     0.22,2,    1.760,2,   2069.5,2,   2313.2,2,  13.3220
  64PE20070830, AR07E,     4,  3,      1,2,20070909,1918, 59.2370, -36.3990, 3115,   3055.0,   2.2574,  34.9065,2,    283.1,2,   -999.0,9,    10.60,2,    14.90,2,     1.00,2,   -9.000,9,   -999.0,9,   -999.0,9,   2.0173
  64PE20070830, AR07E,     4,  3,      2,2,20070909,1918, 59.2370, -36.3990, 3115,   3053.0,   2.2562,  34.9073,2,    282.8,2,   -999.0,9,    10.80,2,    14.90,2,     1.00,2,   -9.000,9,   -999.0,9,   -999.0,9,   2.0163
  64PE20070830, AR07E,     4,  3,      3,2,20070909,1918, 59.2370, -36.3990, 3115,   3052.0,   2.2574,  34.9070,2,    282.7,2,   -999.0,9,    10.70,2,    14.90,2,     1.00,2,   -9.000,9,   -999.0,9,   -999.0,9,   2.0176
  64PE20070830, AR07E,     4,  3,      4,2,20070909,1918, 59.2370, -36.3990, 3115,   2792.0,   2.7326,  34.9240,2,    272.1,2,   -999.0,9,    13.10,2,    16.20,2,     1.08,2,   -9.000,9,   -999.0,9,   -999.0,9,   2.5088
  64PE20070830, AR07E,     4,  3,      5,2,20070909,1918, 59.2370, -36.3990, 3115,   2790.0,   2.7349,  34.9239,2,    272.1,2,   -999.0,9,    13.10,2,    16.20,2,     1.07,2,   -9.000,9,   -999.0,9,   -999.0,9,   2.5113
  64PE20070830, AR07E,     4,  3,      6,2,20070909,1918, 59.2370, -36.3990, 3115,   2790.0,   2.7347,  34.9246,2,    271.8,2,   -999.0,9,    13.00,2,    16.00,2,     1.07,2,   -9.000,9,   -999.0,9,   -999.0,9,   2.5111
  64PE20070830, AR07E,     5,  1,      1,2,20070910,1441, 59.2840, -38.7670, 3086,   3076.0,   1.6061,  34.8913,2,    294.4,2,    297.5,2,     8.80,2,    13.70,2,     0.94,2,    2.099,2,   2159.3,2,   2304.6,2,   1.3785
  64PE20070830, AR07E,     5,  1,      2,2,20070910,1441, 59.2840, -38.7670, 3086,   3019.0,   1.7031,  34.8971,2,    291.7,2,   -999.0,9,     9.00,2,    14.10,2,     0.95,2,    2.035,2,   2158.6,2,   2303.5,2,   1.4789
  64PE20070830, AR07E,     5,  1,      3,2,20070910,1441, 59.2840, -38.7670, 3086,   2971.0,   1.9413,  34.8951,2,    290.0,2,    297.5,2,     8.70,2,    14.20,2,     0.96,2,    1.996,2,   2157.4,2,   2303.7,2,   1.7165
  64PE20070830, AR07E,     5,  1,      4,2,20070910,1441, 59.2840, -38.7670, 3086,   2790.0,   2.5096,  34.9074,2,    278.7,2,    298.3,2,    11.00,2,    15.40,2,     1.03,2,    1.638,2,   2159.4,2,   2308.4,2,   2.2906
  64PE20070830, AR07E,     5,  1,      5,2,20070910,1441, 59.2840, -38.7670, 3086,   2538.0,   2.8597,  34.9165,2,    273.5,2,    282.0,2,    11.40,2,    16.10,2,     1.06,2,   -9.000,9,   2160.1,2,   2306.8,2,   2.6587
  64PE20070830, AR07E,     5,  1,      6,2,20070910,1441, 59.2840, -38.7670, 3086,   2285.0,   3.0716,  34.9213,2,    270.7,2,    277.7,2,    12.00,2,    16.60,2,     1.09,2,    1.337,2,   2159.1,2,   2305.9,2,   2.8913
  64PE20070830, AR07E,     5,  1,      7,2,20070910,1441, 59.2840, -38.7670, 3086,   2029.0,   3.1879,  34.9131,2,    271.7,2,   -999.0,9,  -999.00,9,  -999.00,9,  -999.00,9,   -9.000,9,   -999.0,9,   -999.0,9,   3.0299
  64PE20070830, AR07E,     5,  1,      8,2,20070910,1441, 59.2840, -38.7670, 3086,   1775.0,   3.3042,  34.9064,2,    272.1,2,    279.9,2,    11.00,2,    16.90,2,     1.11,2,    1.548,2,   2158.3,2,   2304.0,2,   3.1678
  64PE20070830, AR07E,     5,  1,      9,2,20070910,1441, 59.2840, -38.7670, 3086,   1521.0,   3.4815,  34.9081,2,    270.5,2,    278.9,2,    10.70,2,    16.90,2,     1.12,2,    1.649,2,   2159.6,2,   2303.0,2,   3.3655
  64PE20070830, AR07E,     5,  1,     10,2,20070910,1441, 59.2840, -38.7670, 3086,   1259.0,   3.5864,  34.8950,2,    272.3,2,    276.9,2,    10.20,2,    17.00,2,     1.11,2,    1.910,2,   2160.1,2,   2303.7,2,   3.4919
  64PE20070830, AR07E,     5,  1,     11,2,20070910,1441, 59.2840, -38.7670, 3086,   1012.0,   3.6212,  34.8763,2,    280.0,2,    285.4,2,     9.40,2,    16.60,2,     1.09,2,   -9.000,9,   2159.2,2,   2300.2,2,   3.5469
  64PE20070830, AR07E,     5,  1,     12,2,20070910,1441, 59.2840, -38.7670, 3086,    910.0,   3.6689,  34.8749,2,    281.3,2,    289.5,2,     9.10,2,    16.50,2,     1.09,2,   -9.000,9,   2160.0,2,   2300.8,2,   3.6024
  64PE20070830, AR07E,     5,  1,     13,2,20070910,1441, 59.2840, -38.7670, 3086,    811.0,   3.8027,  34.8842,2,    278.6,2,    286.5,2,     9.20,2,    16.60,2,     1.09,2,   -9.000,9,   2161.2,2,   2299.9,2,   3.7432
  64PE20070830, AR07E,     5,  1,     14,2,20070910,1441, 59.2840, -38.7670, 3086,    703.0,   3.9657,  34.8935,2,    277.1,2,    286.6,2,     9.20,2,    16.70,2,     1.10,2,   -9.000,9,   2160.5,2,   2301.5,2,   3.9138
  64PE20070830, AR07E,     5,  1,     15,2,20070910,1441, 59.2840, -38.7670, 3086,    613.0,   4.0521,  34.8945,2,    281.9,2,    291.2,2,     8.70,2,    16.50,2,     1.08,2,   -9.000,9,   2158.4,2,   2301.2,2,   4.0069
  64PE20070830, AR07E,     5,  1,     16,2,20070910,1441, 59.2840, -38.7670, 3086,    508.0,   4.1847,  34.8969,2,    279.0,2,    290.2,2,     8.70,2,    16.70,2,     1.08,2,   -9.000,9,   2160.9,2,   2302.2,2,   4.1471
  64PE20070830, AR07E,     5,  1,     17,2,20070910,1441, 59.2840, -38.7670, 3086,    401.0,   4.4630,  34.9137,2,    280.3,2,    287.2,2,     8.30,2,    16.30,2,     1.07,2,   -9.000,9,   2162.0,2,   2303.9,2,   4.4327
  64PE20070830, AR07E,     5,  1,     18,2,20070910,1441, 59.2840, -38.7670, 3086,    300.0,   4.5297,  34.8892,2,    275.1,2,    287.7,2,     8.70,2,    16.70,2,     1.09,2,   -9.000,9,   2160.5,2,   2300.3,2,   4.5071
  64PE20070830, AR07E,     5,  1,     19,2,20070910,1441, 59.2840, -38.7670, 3086,    203.0,   4.8522,  34.8948,2,    282.6,2,    297.3,2,     7.90,2,    15.90,2,     1.04,2,   -9.000,9,   2154.8,2,   2300.5,2,   4.8366
  64PE20070830, AR07E,     5,  1,     20,2,20070910,1441, 59.2840, -38.7670, 3086,    101.0,   5.3355,  34.8820,2,    282.3,2,    299.1,2,     7.60,2,    15.60,2,     1.03,2,   -9.000,9,   2151.9,2,   2301.6,2,   5.3274
  64PE20070830, AR07E,     5,  1,     21,2,20070910,1441, 59.2840, -38.7670, 3086,     11.0,  10.0055,  34.6591,2,    276.1,2,    297.1,2,     1.60,2,     5.60,2,     0.44,2,    2.078,2,   2078.9,2,   2290.1,2,  10.0042
  64PE20070830, AR07E,    12,  1,      1,2,20070912,1119, 59.9500, -42.7500,  186,    176.0,   4.5655,  34.6027,2,    285.6,2,    284.4,2,     6.10,2,    12.90,2,     0.88,2,    2.532,2,   2134.5,2,   2293.8,2,   4.5525
  64PE20070830, AR07E,    12,  1,      2,2,20070912,1119, 59.9500, -42.7500,  186,    156.0,   4.2873,  34.5200,2,    289.0,2,    287.4,2,     5.60,2,    12.20,2,     0.84,2,    2.588,2,   2131.4,2,   2286.7,2,   4.2761
  64PE20070830, AR07E,    12,  1,      3,2,20070912,1119, 59.9500, -42.7500,  186,     99.0,   3.6138,  33.9880,2,    310.0,2,    309.3,2,     3.90,2,     7.60,2,     0.63,2,    2.737,2,   2095.7,2,   2268.9,2,   3.6074
  64PE20070830, AR07E,    12,  1,      4,2,20070912,1119, 59.9500, -42.7500,  186,     51.0,   0.8005,  33.3107,2,    335.1,2,    330.9,2,     3.60,2,     6.10,2,     0.60,2,    3.091,2,   2082.0,2,   2237.4,2,   0.7985
  64PE20070830, AR07E,    12,  1,      5,2,20070912,1119, 59.9500, -42.7500,  186,     25.0,   3.2204,  33.4567,2,    327.1,2,    325.5,2,     2.60,2,     4.10,2,     0.45,2,    2.830,2,   2065.2,2,   2240.2,2,   3.2189
  64PE20070830, AR07E,    12,  1,      6,2,20070912,1119, 59.9500, -42.7500,  186,     11.0,   2.8324,  32.8725,2,    337.2,2,   -999.0,9,     2.10,2,     2.90,2,     0.39,2,    2.928,2,   2038.3,2,   2209.5,2,   2.8318