BOTTLE,20180912PRINUNIVRMK
EXPOCODE,SECT_ID,STNNBR,CASTNO,BTLNBR,BTLNBR_FLAG_W,DATE,TIME,LATITUDE,LONGITUDE,DEPTH,CTDPRS,CTDTMP,CTDSAL,CTDSAL_FLAG_W,CTDOXY,CTDOXY_FLAG_W,OXYGEN,OXYGEN_FLAG_W,SILCAT,SILCAT_FLAG_W,NITRAT,NITRAT_FLAG_W,PHSPHT,PHSPHT_FLAG_W,CFC-12,CFC-12_FLAG_W,TCARBN,TCARBN_FLAG_W,ALKALI,ALKALI_FLAG_W,THETA
,,,,,,,,,,METERS,DBAR,ITS-90,PSS-78,,UMOL/KG,,UMOL/KG,,UMOL/KG,,UMOL/KG,,UMOL/KG,,PMOL/KG,,UMOL/KG,,UMOL/KG,,DEG C
  64PE20070830, AR07E,    18,  3,      1,2,20070913,1846, 59.1180, -37.7860, 3247,   3237.0,   1.5984,  34.8965,2,    294.0,2,    295.4,2,     9.00,2,    13.80,2,     0.93,2,    2.072,2,   2157.1,2,   2302.4,2,   1.3551
  64PE20070830, AR07E,    18,  3,      2,2,20070913,1846, 59.1180, -37.7860, 3247,   3197.0,   1.7825,  34.8973,2,    292.7,2,    294.2,2,     8.60,2,    13.90,2,     0.94,2,    2.035,2,   2156.4,2,   2302.4,2,   1.5389
  64PE20070830, AR07E,    18,  3,      3,2,20070913,1846, 59.1180, -37.7860, 3247,   3142.0,   2.0366,  34.8955,2,    289.5,2,    292.0,2,     9.10,2,    14.20,2,     0.96,2,    1.951,2,   2157.8,2,   2302.7,2,   1.7927
  64PE20070830, AR07E,    18,  3,      4,2,20070913,1846, 59.1180, -37.7860, 3247,   3052.0,   2.3827,  34.9038,2,    282.3,2,    283.9,2,    10.80,2,    15.00,2,     1.01,2,    1.717,2,   2157.5,2,   2305.5,2,   2.1401
  64PE20070830, AR07E,    18,  3,      5,2,20070913,1846, 59.1180, -37.7860, 3247,   2794.0,   2.8259,  34.9294,2,    270.1,2,    272.1,2,    13.60,2,    16.30,2,     1.09,2,    1.205,2,   2160.7,2,   2308.6,2,   2.6000
  64PE20070830, AR07E,    18,  3,      6,2,20070913,1846, 59.1180, -37.7860, 3247,   2537.0,   2.9636,  34.9289,2,    269.5,2,    271.1,2,    13.10,2,    16.50,2,     1.09,2,    1.232,2,   2158.6,2,   2309.4,2,   2.7607
  64PE20070830, AR07E,    18,  3,      7,2,20070913,1846, 59.1180, -37.7860, 3247,   2280.0,   3.0982,  34.9249,2,    270.8,2,    271.2,2,    12.30,2,    16.60,2,     1.10,2,    1.308,2,   2157.7,2,   2307.9,2,   2.9179
  64PE20070830, AR07E,    18,  3,      8,2,20070913,1846, 59.1180, -37.7860, 3247,   2031.0,   3.1963,  34.9156,2,    271.9,2,    272.3,2,    11.50,2,    16.60,2,     1.11,2,    1.425,2,   2156.8,2,   2304.3,2,   3.0380
  64PE20070830, AR07E,    18,  3,      9,2,20070913,1846, 59.1180, -37.7860, 3247,   2033.0,   3.1961,  34.9152,2,    272.2,2,    272.0,2,    11.60,2,    16.60,2,     1.12,2,    1.447,2,   2159.2,2,   2305.2,2,   3.0376
  64PE20070830, AR07E,    18,  3,     10,2,20070913,1846, 59.1180, -37.7860, 3247,   1779.0,   3.2893,  34.9047,2,    273.1,2,    272.3,2,    11.10,2,    16.80,2,     1.12,2,    1.539,2,   2158.2,2,   2304.5,2,   3.1528
  64PE20070830, AR07E,    18,  3,     11,2,20070913,1846, 59.1180, -37.7860, 3247,   1519.0,   3.4941,  34.9101,2,    270.6,2,    269.7,2,    10.90,2,    17.00,2,     1.13,2,    1.638,2,   2160.3,2,   2301.4,2,   3.3781
  64PE20070830, AR07E,    18,  3,     12,2,20070913,1846, 59.1180, -37.7860, 3247,   1268.0,   3.5684,  34.8913,2,    273.7,2,    271.8,2,    10.30,2,    16.90,2,     1.12,2,    1.887,2,   2158.2,2,   2303.7,2,   3.4733
  64PE20070830, AR07E,    18,  3,     13,2,20070913,1846, 59.1180, -37.7860, 3247,   1015.0,   3.6481,  34.8784,2,    279.7,2,    276.4,2,     9.50,2,    16.60,2,     1.10,2,   -9.000,9,   2159.9,2,   2303.0,2,   3.5733
  64PE20070830, AR07E,    18,  3,     14,2,20070913,1846, 59.1180, -37.7860, 3247,   1014.0,   3.6500,  34.8785,2,    280.0,2,    276.7,2,     9.50,2,    16.60,2,     1.10,2,   -9.000,9,   2158.4,2,   2301.9,2,   3.5753
  64PE20070830, AR07E,    18,  3,     15,2,20070913,1846, 59.1180, -37.7860, 3247,    915.0,   3.7820,  34.8888,2,    275.8,2,    272.1,2,     9.80,2,    16.90,2,     1.11,2,    2.107,2,   2161.2,2,   2302.9,2,   3.7143
  64PE20070830, AR07E,    18,  3,     16,2,20070913,1846, 59.1180, -37.7860, 3247,    811.0,   3.9122,  34.8945,2,    274.8,2,    271.0,2,     9.50,2,    16.90,2,     1.12,2,   -9.000,9,   2143.2,3,   2303.6,2,   3.8520
  64PE20070830, AR07E,    18,  3,     17,2,20070913,1846, 59.1180, -37.7860, 3247,    699.0,   4.1561,  34.9124,2,    270.9,2,    267.4,2,     9.60,2,    17.00,2,     1.12,2,    2.075,2,   2163.7,2,   2303.0,2,   4.1035
  64PE20070830, AR07E,    18,  3,     18,2,20070913,1846, 59.1180, -37.7860, 3247,    615.0,   4.2237,  34.9028,2,    276.9,2,    273.0,2,     9.10,2,    16.60,2,     1.10,2,   -9.000,9,   2161.3,2,   2303.4,2,   4.1775
  64PE20070830, AR07E,    18,  3,     19,2,20070913,1846, 59.1180, -37.7860, 3247,    505.0,   4.4925,  34.9121,2,    275.2,2,    270.7,2,     8.80,2,    16.70,2,     1.09,2,    2.214,2,   2157.8,2,   -999.0,9,   4.4539
  64PE20070830, AR07E,    18,  3,     20,2,20070913,1846, 59.1180, -37.7860, 3247,    411.0,   4.6729,  34.9067,2,    277.3,2,    273.0,2,     8.50,2,    16.30,2,     1.07,2,   -9.000,9,   2155.7,2,   -999.0,9,   4.6412
  64PE20070830, AR07E,    18,  3,     21,2,20070913,1846, 59.1180, -37.7860, 3247,    302.0,   4.9388,  34.8850,2,    280.0,2,    274.8,2,     8.10,2,    16.00,2,     1.05,2,    2.333,2,   2149.3,2,   -999.0,9,   4.9151
  64PE20070830, AR07E,    18,  3,     22,2,20070913,1846, 59.1180, -37.7860, 3247,    203.0,   5.6367,  34.9163,2,    273.4,2,    268.9,2,     7.90,2,    15.90,2,     1.05,2,   -9.000,9,   2152.0,2,   -999.0,9,   5.6198
  64PE20070830, AR07E,    18,  3,     23,2,20070913,1846, 59.1180, -37.7860, 3247,    103.0,   6.5360,  34.9903,2,    274.5,2,    269.7,2,     7.00,2,    15.00,2,     0.98,2,    2.225,2,   2146.7,2,   -999.0,9,   6.5268
  64PE20070830, AR07E,    18,  3,     24,2,20070913,1846, 59.1180, -37.7860, 3247,     14.0,   9.9103,  34.6362,2,    274.8,2,    272.0,2,     1.70,2,     5.60,2,     0.45,2,    2.034,2,   2073.9,2,   -999.0,9,   9.9087
  64PE20070830, AR07E,    19,  3,      1,2,20070914,1145, 58.8170, -35.8990, 2929,   2661.0,   2.9289,  34.9306,2,    272.3,2,    273.1,2,    13.60,2,    16.20,2,     1.10,2,    1.239,2,   2161.4,2,   2309.0,2,   2.7143
  64PE20070830, AR07E,    19,  3,      2,2,20070914,1145, 58.8170, -35.8990, 2929,   2610.0,   2.9365,  34.9309,2,    271.7,2,    273.0,2,    13.40,2,    16.30,2,     1.10,2,    1.236,2,   2158.6,2,   2309.6,2,   2.7269
  64PE20070830, AR07E,    19,  3,      3,2,20070914,1145, 58.8170, -35.8990, 2929,   2559.0,   2.9592,  34.9311,2,    271.7,2,    272.8,2,    13.30,2,    16.30,2,     1.09,2,   -9.000,9,   2159.2,2,   2308.3,2,   2.7542
  64PE20070830, AR07E,    19,  3,      4,2,20070914,1145, 58.8170, -35.8990, 2929,   2285.0,   3.1212,  34.9342,2,    270.9,2,    272.5,2,    12.50,2,    16.30,2,     1.10,2,   -9.000,9,   2157.4,2,   2307.1,2,   2.9400
  64PE20070830, AR07E,    19,  3,      5,2,20070914,1145, 58.8170, -35.8990, 2929,   2032.0,   3.2752,  34.9393,2,    271.0,2,    272.8,2,    11.90,2,    16.40,2,     1.10,2,    1.402,2,   2158.1,2,   2305.5,2,   3.1155
  64PE20070830, AR07E,    19,  3,      6,2,20070914,1145, 58.8170, -35.8990, 2929,   1774.0,   3.4621,  34.9419,2,    270.5,2,    272.1,2,    11.10,2,    16.40,2,     1.10,2,    1.539,2,   2158.9,2,   2306.4,2,   3.3236
  64PE20070830, AR07E,    19,  3,      7,2,20070914,1145, 58.8170, -35.8990, 2929,   1520.0,   3.5747,  34.9337,2,    270.1,2,    271.4,2,    11.00,2,    16.70,2,     1.11,2,    1.605,2,   2157.7,2,   2305.1,2,   3.4576
  64PE20070830, AR07E,    19,  3,      8,2,20070914,1145, 58.8170, -35.8990, 2929,   1267.0,   3.6509,  34.9192,2,    269.5,2,    271.1,2,    10.60,2,    16.90,2,     1.12,2,    1.694,2,   2157.1,2,   2305.0,2,   3.5550
  64PE20070830, AR07E,    19,  3,      9,2,20070914,1145, 58.8170, -35.8990, 2929,   1014.0,   3.6012,  34.8749,2,    281.3,2,    282.0,2,     9.40,2,    16.40,2,     1.09,2,    2.157,2,   2157.3,2,   2299.8,2,   3.5269
  64PE20070830, AR07E,    19,  3,     10,2,20070914,1145, 58.8170, -35.8990, 2929,    909.0,   3.7711,  34.8896,2,    277.3,2,    277.4,2,     9.60,2,    16.70,2,     1.10,2,    2.109,2,   2158.2,2,   2301.7,2,   3.7040
  64PE20070830, AR07E,    19,  3,     11,2,20070914,1145, 58.8170, -35.8990, 2929,    809.0,   3.9440,  34.9005,2,    274.6,2,    274.2,2,     9.60,2,    16.90,2,     1.11,2,   -9.000,9,   2160.2,2,   2302.3,2,   3.8838
  64PE20070830, AR07E,    19,  3,     12,2,20070914,1145, 58.8170, -35.8990, 2929,    710.0,   4.1634,  34.9146,2,    271.5,2,    271.1,2,     9.60,2,    17.00,2,     1.12,2,    2.072,2,   2160.9,2,   2304.2,2,   4.1098
  64PE20070830, AR07E,    19,  3,     13,2,20070914,1145, 58.8170, -35.8990, 2929,    606.0,   4.5606,  34.9506,2,    260.0,2,    259.5,2,    10.00,2,    17.40,2,     1.14,2,   -9.000,9,   2165.1,2,   2305.6,2,   4.5135
  64PE20070830, AR07E,    19,  3,     14,2,20070914,1145, 58.8170, -35.8990, 2929,    507.0,   4.9794,  34.9702,2,    249.9,2,    249.0,2,    10.30,2,    17.80,2,     1.16,2,    1.819,2,   2170.4,2,   2308.6,2,   4.9387
  64PE20070830, AR07E,    19,  3,     15,2,20070914,1145, 58.8170, -35.8990, 2929,    405.0,   4.9747,  34.9178,2,    268.6,2,    267.9,2,     8.80,2,    16.60,2,     1.10,2,   -9.000,9,   2160.0,2,   2304.2,2,   4.9425
  64PE20070830, AR07E,    19,  3,     16,2,20070914,1145, 58.8170, -35.8990, 2929,    302.0,   5.6895,  34.9679,2,    263.7,2,    262.9,2,     8.60,2,    16.50,2,     1.08,2,    2.066,2,   2159.4,2,   2306.9,2,   5.6640
  64PE20070830, AR07E,    19,  3,     17,2,20070914,1145, 58.8170, -35.8990, 2929,    203.0,   6.4994,  35.0072,2,    264.8,2,    263.8,2,     7.70,2,    15.70,2,     1.03,2,   -9.000,9,   2154.7,2,   2309.9,2,   6.4811
  64PE20070830, AR07E,    19,  3,     18,2,20070914,1145, 58.8170, -35.8990, 2929,    101.0,   7.1861,  35.0503,2,    268.4,2,    267.1,2,     6.60,2,    15.00,2,     0.97,2,    2.115,2,   2147.1,2,   2311.3,2,   7.1766
  64PE20070830, AR07E,    19,  3,     19,2,20070914,1145, 58.8170, -35.8990, 2929,      9.0,  10.1188,  34.7684,2,    273.7,2,    273.9,2,     2.00,2,     6.40,2,     0.48,2,    2.013,2,   2082.8,2,   2294.9,2,  10.1178
  64PE20070830, AR07E,    20,  3,      1,2,20070914,1802, 58.6500, -34.9330, 2752,   2644.0,   2.9851,  34.9337,2,    271.9,2,    272.3,2,    13.20,2,    16.50,2,     1.10,2,    1.713,4,   2160.8,2,   2307.2,2,   2.7711
  64PE20070830, AR07E,    20,  3,      2,2,20070914,1802, 58.6500, -34.9330, 2752,   2588.0,   2.9987,  34.9333,2,    271.3,2,    272.2,2,    13.30,2,    16.50,2,     1.10,2,    1.257,2,   2161.5,2,   2307.3,2,   2.7901
  64PE20070830, AR07E,    20,  3,      3,2,20070914,1802, 58.6500, -34.9330, 2752,   2540.0,   3.0036,  34.9339,2,    271.0,2,    272.1,2,    13.30,2,    16.40,2,     1.10,2,    1.215,2,   2158.8,2,   -999.0,9,   2.7996
  64PE20070830, AR07E,    20,  3,      4,2,20070914,1802, 58.6500, -34.9330, 2752,   2282.0,   3.1449,  34.9435,2,    270.7,2,    271.7,2,    12.50,2,    16.60,2,     1.10,2,    1.347,2,   2161.3,2,   2306.3,2,   2.9636
  64PE20070830, AR07E,    20,  3,      5,2,20070914,1802, 58.6500, -34.9330, 2752,   2030.0,   3.2980,  34.9494,2,    270.6,2,    272.1,2,    11.50,2,    16.50,2,     1.09,2,    1.433,2,   2162.1,2,   2308.1,2,   3.1381
  64PE20070830, AR07E,    20,  3,      6,2,20070914,1802, 58.6500, -34.9330, 2752,   2029.0,   3.3009,  34.9492,2,    270.6,2,    271.9,2,    11.60,2,    16.40,2,     1.09,2,    1.451,2,   2162.0,2,   2307.2,2,   3.1411
  64PE20070830, AR07E,    20,  3,      7,2,20070914,1802, 58.6500, -34.9330, 2752,   1773.0,   3.3919,  34.9471,2,    270.6,2,    271.9,2,    11.20,2,    16.60,2,     1.09,2,    1.513,2,   2162.9,2,   -999.0,9,   3.2544
  64PE20070830, AR07E,    20,  3,      8,2,20070914,1802, 58.6500, -34.9330, 2752,   1518.0,   3.4504,  34.9299,2,    271.2,2,   -999.0,9,  -999.00,9,  -999.00,9,  -999.00,9,    1.873,3,   -999.0,9,   2306.0,2,   3.3349
  64PE20070830, AR07E,    20,  3,      9,2,20070914,1802, 58.6500, -34.9330, 2752,   1264.0,   3.5951,  34.9280,2,    270.1,2,    270.6,2,    10.80,2,    17.00,2,     1.12,2,    1.514,2,   2161.1,2,   -999.0,9,   3.5000
  64PE20070830, AR07E,    20,  3,     10,2,20070914,1802, 58.6500, -34.9330, 2752,   1014.0,   3.8423,  34.9255,2,    267.8,2,    267.8,2,    10.50,2,    17.20,2,     1.13,2,    1.776,2,   2163.3,2,   -999.0,9,   3.7660
  64PE20070830, AR07E,    20,  3,     11,2,20070914,1802, 58.6500, -34.9330, 2752,   1013.0,   3.8415,  34.9250,2,    267.6,2,    268.7,2,    10.40,2,    17.10,2,     1.12,2,    1.791,2,   2163.2,2,   -999.0,9,   3.7653
  64PE20070830, AR07E,    20,  3,     12,2,20070914,1802, 58.6500, -34.9330, 2752,    909.0,   3.9460,  34.9181,2,    268.6,2,    268.5,2,    10.00,2,    17.20,2,     1.13,2,    2.120,2,   2161.3,2,   -999.0,9,   3.8776
  64PE20070830, AR07E,    20,  3,     13,2,20070914,1802, 58.6500, -34.9330, 2752,    807.0,   4.2076,  34.9368,2,    262.2,2,   -999.0,9,  -999.00,9,  -999.00,9,  -999.00,9,   -9.000,9,   -999.0,9,   -999.0,9,   4.1458
  64PE20070830, AR07E,    20,  3,     14,2,20070914,1802, 58.6500, -34.9330, 2752,    710.0,   4.3953,  34.9432,2,    260.8,2,    260.6,2,    10.10,2,    17.50,2,     1.15,2,   -9.000,9,   2164.9,2,   -999.0,9,   4.3404
  64PE20070830, AR07E,    20,  3,     15,2,20070914,1802, 58.6500, -34.9330, 2752,    606.0,   4.7233,  34.9664,2,    250.1,2,    249.1,2,    10.50,2,    18.00,2,     1.19,2,   -9.000,9,   2168.7,2,   -999.0,9,   4.6754
  64PE20070830, AR07E,    20,  3,     16,2,20070914,1802, 58.6500, -34.9330, 2752,    506.0,   5.1356,  34.9837,2,    244.9,2,    243.9,2,    10.40,2,    18.10,2,     1.19,2,   -9.000,9,   2169.0,2,   -999.0,9,   5.0943
  64PE20070830, AR07E,    20,  3,     17,2,20070914,1802, 58.6500, -34.9330, 2752,    404.0,   5.5346,  34.9875,2,    243.7,2,    242.1,2,     9.90,2,    18.00,2,     1.18,2,    1.802,2,   2169.4,2,   -999.0,9,   5.5007
  64PE20070830, AR07E,    20,  3,     18,2,20070914,1802, 58.6500, -34.9330, 2752,    303.0,   6.0171,  34.9942,2,    251.4,2,    249.4,2,     9.00,2,    17.10,2,     1.13,2,   -9.000,9,   2158.8,2,   -999.0,9,   5.9908
  64PE20070830, AR07E,    20,  3,     19,2,20070914,1802, 58.6500, -34.9330, 2752,    198.0,   6.7258,  35.0283,2,    266.5,2,    265.5,2,     7.40,2,    15.50,2,     1.02,2,    2.111,2,   2154.3,2,   -999.0,9,   6.7076
  64PE20070830, AR07E,    20,  3,     20,2,20070914,1802, 58.6500, -34.9330, 2752,    101.0,   6.9985,  34.9920,2,    271.3,2,    270.2,2,     6.20,2,    14.80,2,     0.98,2,   -9.000,9,   2144.0,2,   -999.0,9,   6.9891
  64PE20070830, AR07E,    20,  3,     21,2,20070914,1802, 58.6500, -34.9330, 2752,     14.0,  10.4517,  34.8077,2,    272.7,2,    272.8,2,     2.00,2,     6.40,2,     0.49,2,    2.036,2,   2084.7,2,   -999.0,9,  10.4500
  64PE20070830, AR07E,    21,  3,      1,2,20070915,1203, 58.4840, -33.8990, 2512,   2147.0,   3.1401,  34.9413,2,    272.3,2,    271.6,2,    12.60,2,    16.40,2,     1.10,2,    1.333,2,   2162.0,2,   2308.0,2,   2.9717
  64PE20070830, AR07E,    21,  3,      2,2,20070915,1203, 58.4840, -33.8990, 2512,   2100.0,   3.1921,  34.9471,2,    271.8,2,    272.6,2,    12.60,2,    16.40,2,     1.10,2,    1.374,2,   2161.0,2,   2306.8,2,   3.0273
  64PE20070830, AR07E,    21,  3,      3,2,20070915,1203, 58.4840, -33.8990, 2512,   2030.0,   3.2318,  34.9507,2,    271.4,2,    271.7,2,    12.20,2,    16.40,2,     1.09,2,   -9.000,9,   2161.0,2,   2307.6,2,   3.0729
  64PE20070830, AR07E,    21,  3,      4,2,20070915,1203, 58.4840, -33.8990, 2512,   2030.0,   3.2354,  34.9507,2,    271.6,2,    271.5,2,    12.00,2,    16.30,2,     1.09,2,    1.401,2,   2162.0,2,   2309.4,2,   3.0765
  64PE20070830, AR07E,    21,  3,      5,2,20070915,1203, 58.4840, -33.8990, 2512,   1774.0,   3.2367,  34.9277,2,    273.2,2,    273.5,2,    11.60,2,    16.50,2,     1.10,2,    1.424,2,   2159.5,2,   2304.8,2,   3.1012
  64PE20070830, AR07E,    21,  3,      6,2,20070915,1203, 58.4840, -33.8990, 2512,   1519.0,   3.2902,  34.9108,2,    274.3,2,    274.5,2,    11.20,2,    16.80,2,     1.11,2,    1.531,2,   2158.8,2,   2303.2,2,   3.1765
  64PE20070830, AR07E,    21,  3,      7,2,20070915,1203, 58.4840, -33.8990, 2512,   1267.0,   3.5410,  34.9200,2,    271.1,2,    271.1,2,    10.90,2,    16.90,2,     1.12,2,    1.625,2,   2159.3,2,   2304.0,2,   3.4462
  64PE20070830, AR07E,    21,  3,      8,2,20070915,1203, 58.4840, -33.8990, 2512,   1010.0,   3.6693,  34.9095,2,    270.6,2,    270.2,2,    10.60,2,    17.10,2,     1.13,2,   -9.000,9,   2165.0,2,   2304.8,2,   3.5947
  64PE20070830, AR07E,    21,  3,      9,2,20070915,1203, 58.4840, -33.8990, 2512,   1009.0,   3.6706,  34.9096,2,    270.6,2,    270.1,2,    10.70,2,    17.10,2,     1.14,2,    1.774,2,   2163.3,2,   2304.3,2,   3.5961
  64PE20070830, AR07E,    21,  3,     10,2,20070915,1203, 58.4840, -33.8990, 2512,    910.0,   3.7770,  34.9108,2,    269.7,2,    269.0,2,    10.50,2,    17.10,2,     1.13,2,   -9.000,9,   2163.1,2,   2303.1,2,   3.7097
  64PE20070830, AR07E,    21,  3,     11,2,20070915,1203, 58.4840, -33.8990, 2512,    810.0,   3.7746,  34.8961,2,    275.4,2,    274.7,2,     9.80,2,    16.80,2,     1.12,2,   -9.000,9,   2163.0,2,   2303.5,2,   3.7154
  64PE20070830, AR07E,    21,  3,     12,2,20070915,1203, 58.4840, -33.8990, 2512,    708.0,   4.2270,  34.9431,2,    260.2,2,    259.4,2,    10.50,2,    17.30,2,     1.16,2,    1.783,2,   2165.6,2,   2306.0,2,   4.1732
  64PE20070830, AR07E,    21,  3,     13,2,20070915,1203, 58.4840, -33.8990, 2512,    604.0,   4.4762,  34.9513,2,    257.4,2,    256.0,2,    10.40,2,    17.50,2,     1.16,2,   -9.000,9,   2167.2,2,   2306.0,2,   4.4296
  64PE20070830, AR07E,    21,  3,     14,2,20070915,1203, 58.4840, -33.8990, 2512,    505.0,   4.8022,  34.9578,2,    255.3,2,    254.1,2,    10.00,2,    17.50,2,     1.16,2,    1.853,2,   2168.2,2,   2306.6,2,   4.7623
  64PE20070830, AR07E,    21,  3,     15,2,20070915,1203, 58.4840, -33.8990, 2512,    403.0,   5.1652,  34.9548,2,    258.0,2,    256.2,2,     9.50,2,    17.10,2,     1.14,2,   -9.000,9,   2165.7,2,   2307.9,2,   5.1326
  64PE20070830, AR07E,    21,  3,     16,2,20070915,1203, 58.4840, -33.8990, 2512,    302.0,   5.6487,  34.9592,2,    261.1,2,    259.8,2,     8.70,2,    16.60,2,     1.10,2,    2.031,2,   2159.8,2,   2307.6,2,   5.6233
  64PE20070830, AR07E,    21,  3,     17,2,20070915,1203, 58.4840, -33.8990, 2512,    201.0,   6.3132,  34.9892,2,    265.4,2,    264.3,2,     7.80,2,    15.70,2,     1.05,2,   -9.000,9,   2155.8,2,   2308.5,2,   6.2954
  64PE20070830, AR07E,    21,  3,     18,2,20070915,1203, 58.4840, -33.8990, 2512,    101.0,   6.8708,  35.0067,2,    271.8,2,    270.4,2,     6.50,2,    14.80,2,     0.98,2,   -9.000,9,   2149.4,2,   2309.6,2,   6.8615
  64PE20070830, AR07E,    21,  3,     19,2,20070915,1203, 58.4840, -33.8990, 2512,      9.0,  10.7650,  34.7786,2,    270.9,2,    270.8,2,     1.80,2,     5.50,2,     0.43,2,    1.889,2,   2078.5,2,   2295.5,2,  10.7639