BOTTLE,20180912PRINUNIVRMK
EXPOCODE,SECT_ID,STNNBR,CASTNO,BTLNBR,BTLNBR_FLAG_W,DATE,TIME,LATITUDE,LONGITUDE,DEPTH,CTDPRS,CTDTMP,CTDSAL,CTDSAL_FLAG_W,CTDOXY,CTDOXY_FLAG_W,OXYGEN,OXYGEN_FLAG_W,SILCAT,SILCAT_FLAG_W,NITRAT,NITRAT_FLAG_W,PHSPHT,PHSPHT_FLAG_W,CFC-12,CFC-12_FLAG_W,TCARBN,TCARBN_FLAG_W,ALKALI,ALKALI_FLAG_W,THETA
,,,,,,,,,,METERS,DBAR,ITS-90,PSS-78,,UMOL/KG,,UMOL/KG,,UMOL/KG,,UMOL/KG,,UMOL/KG,,PMOL/KG,,UMOL/KG,,UMOL/KG,,DEG C
  64PE20070830, AR07E,    31,  1,      1,2,20070917,0913, 57.2670, -25.5330, 2771,   2761.0,   2.8407,  34.9735,2,    266.5,2,   -999.0,9,    16.30,2,    16.50,2,     1.11,2,    1.298,2,   2169.5,2,   -999.0,9,   2.6177
  64PE20070830, AR07E,    31,  1,      2,2,20070917,0913, 57.2670, -25.5330, 2771,   2715.0,   2.8388,  34.9727,2,    266.1,2,   -999.0,9,    16.10,2,    16.40,2,     1.11,2,    1.291,2,   2167.3,2,   -999.0,9,   2.6204
  64PE20070830, AR07E,    31,  1,      3,2,20070917,0913, 57.2670, -25.5330, 2771,   2642.0,   2.8553,  34.9722,2,    266.3,2,   -999.0,9,  -999.00,9,  -999.00,9,  -999.00,9,    1.709,4,   -999.0,9,   2315.6,2,   2.6439
  64PE20070830, AR07E,    31,  1,      4,2,20070917,0913, 57.2670, -25.5330, 2771,   2541.0,   2.8766,  34.9702,2,    265.9,2,   -999.0,9,    15.90,2,    16.50,2,     1.11,2,    1.283,2,   2167.1,2,   2316.0,2,   2.6748
  64PE20070830, AR07E,    31,  1,      5,2,20070917,0913, 57.2670, -25.5330, 2771,   2278.0,   3.0540,  34.9619,2,    267.9,2,   -999.0,9,    13.80,2,    16.50,2,     1.10,2,    1.271,2,   2162.2,2,   2316.0,2,   2.8745
  64PE20070830, AR07E,    31,  1,      6,2,20070917,0913, 57.2670, -25.5330, 2771,   2030.0,   3.1947,  34.9222,2,    271.2,2,   -999.0,9,    12.20,2,    16.70,2,     1.11,2,    1.320,2,   2158.2,2,   2309.7,2,   3.0365
  64PE20070830, AR07E,    31,  1,      7,2,20070917,0913, 57.2670, -25.5330, 2771,   2032.0,   3.1956,  34.9218,2,    271.5,2,   -999.0,9,    12.30,2,    16.80,2,     1.11,2,    1.311,2,   2160.2,2,   2308.9,2,   3.0372
  64PE20070830, AR07E,    31,  1,      8,2,20070917,0913, 57.2670, -25.5330, 2771,   1776.0,   3.3125,  34.9036,2,    272.6,2,   -999.0,9,    11.60,2,    17.00,2,     1.13,2,    1.456,2,   2159.7,2,   2308.6,2,   3.1759
  64PE20070830, AR07E,    31,  1,      9,2,20070917,0913, 57.2670, -25.5330, 2771,   1519.0,   3.5330,  34.9031,2,    270.2,2,   -999.0,9,    11.20,2,    17.10,2,     1.14,2,    1.559,2,   2161.9,2,   2305.6,2,   3.4166
  64PE20070830, AR07E,    31,  1,     10,2,20070917,0913, 57.2670, -25.5330, 2771,   1266.0,   3.6432,  34.8948,2,    270.7,2,   -999.0,9,    10.60,2,    17.20,2,     1.13,2,    1.793,2,   2162.9,2,   2306.8,2,   3.5475
  64PE20070830, AR07E,    31,  1,     11,2,20070917,0913, 57.2670, -25.5330, 2771,   1013.0,   3.9090,  34.9049,2,    266.6,2,   -999.0,9,    10.40,2,    17.40,2,     1.15,2,    1.876,2,   2162.5,2,   2306.8,2,   3.8323
  64PE20070830, AR07E,    31,  1,     12,2,20070917,0913, 57.2670, -25.5330, 2771,   1012.0,   3.9091,  34.9051,2,    266.5,2,   -999.0,9,    10.40,2,    17.40,2,     1.15,2,    1.881,2,   2161.5,2,   2308.4,2,   3.8325
  64PE20070830, AR07E,    31,  1,     13,2,20070917,0913, 57.2670, -25.5330, 2771,    912.0,   4.1681,  34.9293,2,    259.8,2,   -999.0,9,    10.70,2,    17.80,2,     1.16,2,   -9.000,9,   2165.6,2,   2309.1,2,   4.0979
  64PE20070830, AR07E,    31,  1,     14,2,20070917,0913, 57.2670, -25.5330, 2771,    809.0,   4.3979,  34.9381,2,    254.1,2,   -999.0,9,    10.60,2,    17.90,2,     1.17,2,   -9.000,9,   2167.2,2,   2311.2,2,   4.3348
  64PE20070830, AR07E,    31,  1,     15,2,20070917,0913, 57.2670, -25.5330, 2771,    710.0,   5.0030,  34.9932,2,    240.0,2,   -999.0,9,    11.10,2,    18.20,2,     1.20,2,    1.806,2,   2169.0,2,   2312.0,2,   4.9447
  64PE20070830, AR07E,    31,  1,     16,2,20070917,0913, 57.2670, -25.5330, 2771,    609.0,   5.5179,  35.0181,2,    229.0,2,   -999.0,9,    10.90,2,    18.70,2,     1.22,2,    1.572,2,   2176.2,2,   2317.3,2,   5.4660
  64PE20070830, AR07E,    31,  1,     17,2,20070917,0913, 57.2670, -25.5330, 2771,    505.0,   6.0883,  35.0296,2,    221.6,2,   -999.0,9,    10.80,2,    18.80,2,     1.22,2,   -9.000,9,   2175.6,2,   2315.6,2,   6.0434
  64PE20070830, AR07E,    31,  1,     18,2,20070917,0913, 57.2670, -25.5330, 2771,    402.0,   6.9193,  35.0557,2,    221.1,2,   -999.0,9,     9.90,2,    18.30,2,     1.18,2,   -9.000,9,   2170.9,2,   2316.5,2,   6.8813
  64PE20070830, AR07E,    31,  1,     19,2,20070917,0913, 57.2670, -25.5330, 2771,    302.0,   7.3269,  35.0165,2,    238.4,2,   -999.0,9,     8.40,2,    16.50,2,     1.09,2,   -9.000,9,   2160.3,2,   2315.1,2,   7.2976
  64PE20070830, AR07E,    31,  1,     20,2,20070917,0913, 57.2670, -25.5330, 2771,    201.0,   7.9299,  35.0306,2,    249.2,2,   -999.0,9,     7.00,2,    15.00,2,     0.98,2,    1.943,2,   2148.2,2,   2313.0,2,   7.9096
  64PE20070830, AR07E,    31,  1,     21,2,20070917,0913, 57.2670, -25.5330, 2771,    101.0,   8.8242,  35.0241,2,    261.3,2,   -999.0,9,     3.70,2,    12.40,2,     0.83,2,   -9.000,9,   2133.9,2,   2312.2,2,   8.8134
  64PE20070830, AR07E,    31,  1,     22,2,20070917,0913, 57.2670, -25.5330, 2771,     11.0,  13.0752,  35.0872,2,    253.4,2,   -999.0,9,     0.60,2,     3.10,2,     0.30,2,    1.449,4,   2080.9,2,   2321.6,2,  13.0737
  64PE20070830, AR07E,    32,  1,      1,2,20070918,1216, 57.1840, -24.6320, 2852,   2842.0,   2.7879,  34.9734,2,    265.3,2,    266.4,2,    17.40,2,    16.70,2,     1.11,2,    1.331,2,   2173.2,2,   2319.3,2,   2.5577
  64PE20070830, AR07E,    32,  1,      2,2,20070918,1216, 57.1840, -24.6320, 2852,   2796.0,   2.7764,  34.9650,2,    262.3,2,    263.6,2,    19.50,2,    17.30,2,     1.15,2,   -9.000,9,   2175.2,2,   2320.9,2,   2.5512
  64PE20070830, AR07E,    32,  1,      3,2,20070918,1216, 57.1840, -24.6320, 2852,   2740.0,   2.8152,  34.9653,2,    263.3,2,    264.7,2,    18.30,2,    17.10,2,     1.14,2,    1.156,2,   2172.9,2,   2321.5,2,   2.5948
  64PE20070830, AR07E,    32,  1,      4,2,20070918,1216, 57.1840, -24.6320, 2852,   2541.0,   2.9403,  34.9574,2,    264.6,2,    266.9,2,    16.60,2,    17.00,2,     1.13,2,    1.138,2,   2168.9,2,   2316.5,2,   2.7373
  64PE20070830, AR07E,    32,  1,      5,2,20070918,1216, 57.1840, -24.6320, 2852,   2283.0,   3.1180,  34.9321,2,    268.8,2,   -999.0,9,    13.70,2,    16.90,2,     1.12,2,    1.197,2,   2165.2,2,   2314.9,2,   2.9371
  64PE20070830, AR07E,    32,  1,      6,2,20070918,1216, 57.1840, -24.6320, 2852,   2030.0,   3.2569,  34.9108,2,    272.8,2,    273.6,2,    12.00,2,    17.00,2,     1.12,2,   -9.000,9,   2157.6,2,   2309.5,2,   3.0978
  64PE20070830, AR07E,    32,  1,      7,2,20070918,1216, 57.1840, -24.6320, 2852,   2030.0,   3.2573,  34.9107,2,    272.8,2,    274.7,2,    11.90,2,    17.00,2,     1.12,2,    1.379,2,   -999.0,9,   2309.2,2,   3.0982
  64PE20070830, AR07E,    32,  1,      8,2,20070918,1216, 57.1840, -24.6320, 2852,   1776.0,   3.4477,  34.9037,2,    270.6,2,    272.2,2,    11.70,2,    17.40,2,     1.14,2,   -9.000,9,   2162.3,2,   2308.1,2,   3.3093
  64PE20070830, AR07E,    32,  1,      9,2,20070918,1216, 57.1840, -24.6320, 2852,   1518.0,   3.6339,  34.9018,2,    269.6,2,    270.8,2,    11.10,2,    17.40,2,     1.14,2,   -9.000,9,   2161.3,2,   2306.9,2,   3.5164
  64PE20070830, AR07E,    32,  1,     10,2,20070918,1216, 57.1840, -24.6320, 2852,   1264.0,   3.8443,  34.9049,2,    267.8,2,    269.6,2,    10.60,2,    17.50,2,     1.15,2,    1.855,2,   2161.5,2,   2306.3,2,   3.7468
  64PE20070830, AR07E,    32,  1,     11,2,20070918,1216, 57.1840, -24.6320, 2852,   1007.0,   4.4954,  34.9632,2,    251.5,2,    252.4,2,    10.90,2,    18.00,2,     1.17,2,    1.680,2,   2168.0,2,   2310.9,2,   4.4146
  64PE20070830, AR07E,    32,  1,     12,2,20070918,1216, 57.1840, -24.6320, 2852,   1006.0,   4.5061,  34.9640,2,    251.8,2,    252.1,2,    11.00,2,    18.00,2,     1.17,2,    1.658,2,   2165.1,2,   2311.8,2,   4.4253
  64PE20070830, AR07E,    32,  1,     13,2,20070918,1216, 57.1840, -24.6320, 2852,    913.0,   4.7507,  34.9676,2,    247.6,2,    248.3,2,    10.60,2,    18.10,2,     1.18,2,   -9.000,9,   2169.2,2,   2310.5,2,   4.6762
  64PE20070830, AR07E,    32,  1,     14,2,20070918,1216, 57.1840, -24.6320, 2852,    808.0,   5.4520,  35.0385,2,    232.1,2,    233.5,2,  -999.00,9,  -999.00,9,  -999.00,9,   -9.000,9,   2144.8,3,   2322.9,3,   5.3823
  64PE20070830, AR07E,    32,  1,     15,2,20070918,1216, 57.1840, -24.6320, 2852,    705.0,   6.1106,  35.0869,2,    219.9,2,    220.0,2,    11.10,2,    18.90,2,     1.22,2,    1.413,2,   2173.7,2,   2320.8,2,   6.0467
  64PE20070830, AR07E,    32,  1,     16,2,20070918,1216, 57.1840, -24.6320, 2852,    605.0,   6.6124,  35.0570,2,    209.1,2,    208.8,2,    11.10,2,    19.30,2,     1.25,2,   -9.000,9,   2178.6,2,   2318.3,2,   6.5558
  64PE20070830, AR07E,    32,  1,     17,2,20070918,1216, 57.1840, -24.6320, 2852,    508.0,   7.1684,  35.0316,2,    207.5,2,    206.7,2,    10.40,2,    19.00,2,     1.23,2,    1.453,2,   2172.7,2,   2316.9,2,   7.1191
  64PE20070830, AR07E,    32,  1,     18,2,20070918,1216, 57.1840, -24.6320, 2852,    400.0,   8.4810,  35.1151,2,    212.4,2,    213.8,2,     8.80,2,    17.30,2,     1.11,2,   -9.000,9,   2160.9,2,   2318.1,2,   8.4385
  64PE20070830, AR07E,    32,  1,     19,2,20070918,1216, 57.1840, -24.6320, 2852,    307.0,   9.3757,  35.2016,2,    230.4,2,    231.4,2,     7.00,2,    14.90,2,     0.95,2,    1.686,2,   2150.5,2,   2323.4,2,   9.3412
  64PE20070830, AR07E,    32,  1,     20,2,20070918,1216, 57.1840, -24.6320, 2852,    202.0,  10.2281,  35.3121,2,    234.1,2,   -999.0,9,     5.80,2,    13.40,2,     0.84,2,   -9.000,9,   2143.7,2,   2329.8,2,  10.2042
  64PE20070830, AR07E,    32,  1,     21,2,20070918,1216, 57.1840, -24.6320, 2852,    100.0,  11.2255,  35.3805,2,    237.6,2,    240.8,2,     2.90,2,    11.00,2,     0.69,2,   -9.000,9,   2132.0,2,   2333.3,2,  11.2130
  64PE20070830, AR07E,    32,  1,     22,2,20070918,1216, 57.1840, -24.6320, 2852,     10.0,  14.3351,  35.2655,2,    246.1,2,    250.5,2,     0.40,2,     1.50,2,     0.17,2,    1.669,2,   2076.4,2,   2333.0,2,  14.3336
  64PE20070830, AR07E,    33,  1,      1,2,20070918,0550, 57.1170, -23.7490, 3062,   3052.0,   2.8194,  34.9771,2,    266.4,2,    267.5,2,    16.70,2,    16.50,2,     1.09,2,    1.366,2,   2174.6,2,   2318.0,2,   2.5669
  64PE20070830, AR07E,    33,  1,      2,2,20070918,0550, 57.1170, -23.7490, 3062,   2998.0,   2.8166,  34.9771,2,    266.1,2,    268.0,2,    16.20,2,    16.40,2,     1.08,2,    1.375,2,   2171.7,2,   2317.4,2,   2.5698
  64PE20070830, AR07E,    33,  1,      3,2,20070918,0550, 57.1170, -23.7490, 3062,   2948.0,   2.8448,  34.9721,2,    265.2,2,    267.5,2,    16.50,2,    16.70,2,     1.10,2,    1.258,2,   2171.4,2,   2318.1,2,   2.6026
  64PE20070830, AR07E,    33,  1,      4,2,20070918,0550, 57.1170, -23.7490, 3062,   2794.0,   2.9440,  34.9661,2,    265.0,2,    267.6,2,    15.80,2,    16.70,2,     1.11,2,    1.205,2,   2169.4,2,   2315.6,2,   2.7156
  64PE20070830, AR07E,    33,  1,      5,2,20070918,0550, 57.1170, -23.7490, 3062,   2537.0,   3.1409,  34.9429,2,    267.6,2,    270.8,2,    13.80,2,    16.80,2,     1.10,2,   -9.000,9,   2161.5,2,   2312.3,2,   2.9347
  64PE20070830, AR07E,    33,  1,      6,2,20070918,0550, 57.1170, -23.7490, 3062,   2285.0,   3.2313,  34.9118,2,    270.5,2,    273.5,2,    12.80,2,    17.20,2,     1.12,2,    1.279,2,   2160.2,2,   2308.2,2,   3.0483
  64PE20070830, AR07E,    33,  1,      7,2,20070918,0550, 57.1170, -23.7490, 3062,   2029.0,   3.3742,  34.9008,2,    272.1,2,    274.6,2,    11.50,2,    17.20,2,     1.13,2,    1.454,2,   2157.3,2,   2305.8,2,   3.2134
  64PE20070830, AR07E,    33,  1,      8,2,20070918,0550, 57.1170, -23.7490, 3062,   2027.0,   3.3742,  34.9009,2,    272.0,2,    274.7,2,    11.50,2,    17.20,2,     1.13,2,    1.454,2,   2158.0,2,   2307.6,2,   3.2136
  64PE20070830, AR07E,    33,  1,      9,2,20070918,0550, 57.1170, -23.7490, 3062,   1775.0,   3.5820,  34.9025,2,    269.3,2,    271.6,2,    11.10,2,    17.40,2,     1.13,2,    1.573,2,   2160.3,2,   2305.4,2,   3.4419
  64PE20070830, AR07E,    33,  1,     10,2,20070918,0550, 57.1170, -23.7490, 3062,   1518.0,   3.7877,  34.9037,2,    267.5,2,    269.5,2,    10.70,2,    17.40,2,     1.14,2,    1.763,2,   2161.3,2,   2304.8,2,   3.6684
  64PE20070830, AR07E,    33,  1,     11,2,20070918,0550, 57.1170, -23.7490, 3062,   1266.0,   4.1885,  34.9306,2,    259.5,2,    261.0,2,    10.60,2,    17.80,2,     1.15,2,    1.786,2,   2163.7,2,   2307.7,2,   4.0875
  64PE20070830, AR07E,    33,  1,     12,2,20070918,0550, 57.1170, -23.7490, 3062,   1010.0,   5.3968,  35.0384,2,    233.0,2,    234.3,2,    11.10,2,    18.40,2,     1.20,2,    1.514,2,   2171.8,2,   2315.8,2,   5.3087
  64PE20070830, AR07E,    33,  1,     13,2,20070918,0550, 57.1170, -23.7490, 3062,   1011.0,   5.3951,  35.0382,2,    232.6,2,    234.1,2,    11.10,2,    18.50,2,     1.20,2,   -9.000,9,   2174.6,2,   2314.7,2,   5.3069
  64PE20070830, AR07E,    33,  1,     14,2,20070918,0550, 57.1170, -23.7490, 3062,    910.0,   5.9221,  35.0615,2,    222.5,2,    223.3,2,    11.10,2,    19.00,2,     1.21,2,   -9.000,9,   2176.4,2,   2316.0,2,   5.8397
  64PE20070830, AR07E,    33,  1,     15,2,20070918,0550, 57.1170, -23.7490, 3062,    806.0,   6.8583,  35.1335,2,    210.3,2,    210.6,2,    10.80,2,    18.90,2,     1.25,2,    1.348,2,   2178.9,2,   2321.5,2,   6.7802
  64PE20070830, AR07E,    33,  1,     16,2,20070918,0550, 57.1170, -23.7490, 3062,    703.0,   7.9641,  35.1948,2,    196.6,2,    196.1,2,    10.50,2,    19.00,2,     1.21,2,   -9.000,9,   2176.6,2,   2325.3,2,   7.8906
  64PE20070830, AR07E,    33,  1,     17,2,20070918,0550, 57.1170, -23.7490, 3062,    606.0,   8.8457,  35.2672,2,    216.3,2,    217.9,2,     8.20,2,    16.30,2,     1.05,2,    1.529,2,   2163.8,2,   2327.0,2,   8.7787
  64PE20070830, AR07E,    33,  1,     18,2,20070918,0550, 57.1170, -23.7490, 3062,    507.0,   9.2152,  35.2819,2,    240.1,2,    242.5,2,     6.40,2,    14.20,2,     0.90,2,   -9.000,9,   2150.7,2,   2326.6,2,   9.1581
  64PE20070830, AR07E,    33,  1,     19,2,20070918,0550, 57.1170, -23.7490, 3062,    401.0,   9.5751,  35.3119,2,    236.7,2,    238.1,2,     6.20,2,    13.90,2,     0.88,2,    1.740,2,   2148.3,2,   2328.7,2,   9.5291
  64PE20070830, AR07E,    33,  1,     20,2,20070918,0550, 57.1170, -23.7490, 3062,    305.0,  10.0008,  35.3479,2,    246.7,2,    248.4,2,     5.00,2,    12.50,2,     0.79,2,   -9.000,9,   2141.5,2,   2329.6,2,   9.9651
  64PE20070830, AR07E,    33,  1,     21,2,20070918,0550, 57.1170, -23.7490, 3062,    204.0,  10.1348,  35.3327,2,    248.1,2,    249.8,2,     5.00,2,    12.30,2,     0.78,2,    1.846,2,   2139.9,2,   2328.7,2,  10.1108
  64PE20070830, AR07E,    33,  1,     22,2,20070918,0550, 57.1170, -23.7490, 3062,     98.0,  10.8522,  35.3921,2,    243.1,2,    247.0,2,     3.30,2,    11.00,2,     0.70,2,   -9.000,9,   2137.2,2,   2331.2,2,  10.8402
  64PE20070830, AR07E,    33,  1,     23,2,20070918,0550, 57.1170, -23.7490, 3062,      9.0,  14.1745,  35.3423,2,    248.2,2,    251.7,2,     0.40,2,     2.20,2,     0.19,2,   -9.000,9,   2081.8,2,   2330.8,2,  14.1732