BOTTLE,20180808PRINUNIVRMK
EXPOCODE,SECT_ID,STNNBR,CASTNO,SAMPNO,BTLNBR,BTLNBR_FLAG_W,DATE,TIME,LATITUDE,LONGITUDE,DEPTH,CTDPRS,CTDTMP,CTDSAL,CTDSAL_FLAG_W,SALNTY,SALNTY_FLAG_W,CTDOXY,CTDOXY_FLAG_W,OXYGEN,OXYGEN_FLAG_W,SILCAT,SILCAT_FLAG_W,NITRAT,NITRAT_FLAG_W,NITRIT,NITRIT_FLAG_W,PHSPHT,PHSPHT_FLAG_W,CFC-12,CFC-12_FLAG_W,SF6,SF6_FLAG_W,TCARBN,TCARBN_FLAG_W,ALKALI,ALKALI_FLAG_W,DELC13,DELC13_FLAG_W,THETA
,,,,,,,,,,,METERS,DBAR,ITS-90,PSS-78,,PSS-78,,UMOL/KG,,UMOL/KG,,UMOL/KG,,UMOL/KG,,UMOL/KG,,UMOL/KG,,PMOL/KG,,FMOL/KG,,UMOL/KG,,UMOL/KG,,/MILLE,,DEG C
  58GS20150410,   A01,   196,  1,     10,      1,2,20150424,0752, 61.2810,  -7.9910,  876,    847.2,  -0.4301,  34.9125,2,  34.9119,2,    303.6,2,    303.5,2,    10.03,2,    14.74,2,     0.00,2,     1.13,2,    1.916,2,   1.6245,2,   2173.6,2,   2305.9,2,     0.90,2,  -0.4638
  58GS20150410,   A01,   196,  1,     10,      2,2,20150424,0752, 61.2810,  -7.9910,  876,    792.0,  -0.1035,  34.9179,2,  34.9189,2,    304.0,2,    305.2,2,     9.44,2,    14.79,2,     0.00,2,     1.08,2,    2.101,2,   1.7607,2,   2173.8,2,   2303.9,2,     0.84,2,  -0.1367
  58GS20150410,   A01,   196,  1,     10,      3,2,20150424,0752, 61.2810,  -7.9910,  876,    742.7,   0.0271,  34.9225,2,  34.9229,2,    303.8,2,    303.8,2,     9.35,2,    14.67,2,     0.00,2,     1.09,2,    2.130,2,   1.8386,2,   2172.9,2,   2297.9,2,     0.84,2,  -0.0046
  58GS20150410,   A01,   196,  1,     10,      4,2,20150424,0752, 61.2810,  -7.9910,  876,    699.8,   0.3718,  34.9357,2,  34.9348,2,    303.0,2,    301.6,2,     9.13,2,    14.56,2,     0.00,2,     1.07,2,    2.208,2,   1.1868,2,   2172.2,2,   2303.5,2,     0.80,2,   0.3403
  58GS20150410,   A01,   196,  1,     10,      5,2,20150424,0752, 61.2810,  -7.9910,  876,    605.8,   3.2422,  35.0361,2,  35.0363,2,    295.1,2,    294.7,2,     7.22,2,    13.81,2,     0.00,2,     1.01,2,    2.539,2,   2.1405,2,   2167.7,2,   2309.0,2,     0.66,2,   3.2012
  58GS20150410,   A01,   196,  1,     10,      6,2,20150424,0752, 61.2810,  -7.9910,  876,    509.7,   7.8419,  35.2653,2,  35.2650,2,    280.3,2,    281.1,2,     5.52,2,    12.94,2,     0.13,2,     0.91,2,    2.550,2,   2.5693,2,   2150.0,2,   2321.9,2,  -999.00,2,   7.7896
  58GS20150410,   A01,   196,  1,     10,      7,2,20150424,0752, 61.2810,  -7.9910,  876,    407.0,   8.0538,  35.2729,2,  35.2728,2,    280.8,2,    281.6,2,     5.54,2,    12.94,2,     0.12,2,     0.90,2,    2.482,2,   3.0171,2,   2156.0,2,   2321.6,2,     0.58,2,   8.0117
  58GS20150410,   A01,   196,  1,     10,      8,2,20150424,0752, 61.2810,  -7.9910,  876,    250.0,   8.0949,  35.2706,2,  35.2717,2,    281.3,2,    281.6,2,     5.54,2,    13.04,2,     0.12,2,     0.92,2,    2.560,2,   2.2677,2,   2155.1,2,   2323.1,2,     0.60,2,   8.0692
  58GS20150410,   A01,   196,  1,     10,      9,2,20150424,0752, 61.2810,  -7.9910,  876,    100.2,   8.1216,  35.2736,2,  35.2720,2,    281.6,2,    281.6,2,     5.54,2,    12.85,2,     0.10,2,     0.89,2,    2.589,2,   3.2215,2,   2151.0,2,   2323.4,2,     0.61,2,   8.1114
  58GS20150410,   A01,   196,  1,     10,     10,2,20150424,0752, 61.2810,  -7.9910,  876,     10.7,   8.3583,  35.2988,2,  35.2995,2,    288.2,2,    287.2,2,     5.40,2,    11.61,2,     0.10,2,     0.78,2,    2.560,2,   2.8712,2,   2148.5,2,   2327.3,2,     0.62,2,   8.3572
  58GS20150410,   A01,   197,  1,     10,      1,2,20150424,0935, 61.2560,  -8.0090,  862,    827.5,  -0.3670,  34.9107,2,  34.9113,2,    303.1,2,    303.4,2,     9.87,2,    14.70,2,     0.00,2,     1.17,2,    1.634,2,   1.0312,2,   2170.9,2,   2302.7,2,     0.89,2,  -0.4002
  58GS20150410,   A01,   197,  1,     10,      2,2,20150424,0935, 61.2560,  -8.0090,  862,    791.8,  -0.3294,  34.9118,2,  34.9122,2,    303.4,2,    303.4,2,     9.74,2,    14.72,2,     0.00,2,     1.12,2,    1.994,2,   1.7218,2,   2171.4,2,   2302.6,2,     0.82,2,  -0.3612
  58GS20150410,   A01,   197,  1,     10,      3,2,20150424,0935, 61.2560,  -8.0090,  862,    740.3,   0.0324,  34.9233,2,  34.9223,2,    303.1,2,    303.0,2,     9.40,2,    14.64,2,     0.00,2,     1.09,2,    2.160,2,     1.79,2,   2174.0,2,   2303.6,2,     0.80,2,   0.0008
  58GS20150410,   A01,   197,  1,     10,      4,2,20150424,0935, 61.2560,  -8.0090,  862,    694.2,   0.3172,  34.9327,2,  34.9324,2,    302.6,2,    302.1,2,     9.18,2,    14.48,2,     0.00,2,     1.07,2,    2.160,2,   1.4982,2,   2172.4,2,   2302.7,2,     0.81,2,   0.2863
  58GS20150410,   A01,   197,  1,     10,      5,2,20150424,0935, 61.2560,  -8.0090,  862,    613.6,   4.6273,  35.1124,2,  35.1126,2,    290.9,2,    290.5,2,     6.46,2,    13.53,2,     0.07,2,     0.93,2,    2.598,2,   2.5299,2,   2157.1,2,   2313.2,2,     0.66,2,   4.5790
  58GS20150410,   A01,   197,  1,     10,      6,2,20150424,0935, 61.2560,  -8.0090,  862,    510.5,   7.8956,  35.2698,2,  35.2694,2,    279.7,2,    280.5,2,     5.52,2,    13.05,2,     0.12,2,     0.88,2,    2.638,2,   2.5791,2,   2153.5,2,   2322.7,2,     0.57,2,   7.8431
  58GS20150410,   A01,   197,  1,     10,      7,2,20150424,0935, 61.2560,  -8.0090,  862,    405.8,   8.0506,  35.2732,2,  35.2727,2,    280.6,2,    281.6,2,     5.49,2,    12.97,2,     0.12,2,     0.87,2,    2.754,2,   2.5207,2,   2154.3,2,   2324.7,2,     0.56,2,   8.0086
  58GS20150410,   A01,   197,  1,     10,      8,2,20150424,0935, 61.2560,  -8.0090,  862,    250.9,   8.1081,  35.2700,2,  35.2714,2,    281.2,2,    281.4,2,     5.53,2,    12.94,2,     0.10,2,     0.91,2,    2.384,2,   1.8979,2,   2152.5,2,   2331.3,2,     0.57,2,   8.0823
  58GS20150410,   A01,   197,  1,     10,      9,2,20150424,0935, 61.2560,  -8.0090,  862,     99.1,   8.1250,  35.2729,2,  35.2731,2,    282.2,2,    281.9,2,     5.52,2,    12.91,2,     0.10,2,     0.87,2,    2.676,2,   2.3845,2,   2151.1,2,   2322.7,2,     0.59,2,   8.1149
  58GS20150410,   A01,   197,  1,     10,     10,2,20150424,0935, 61.2560,  -8.0090,  862,     10.4,   8.3559,  35.2949,2,  35.2944,2,    288.9,2,    288.1,2,     5.45,2,    11.78,2,     0.12,2,     0.79,2,    2.735,2,   2.8615,2,   2147.7,2,   2325.5,2,     0.62,2,   8.3548
  58GS20150410,   A01,   198,  1,     10,      1,2,20150424,1926, 61.4360,  -4.6242,  748,    717.9,  -0.2034,  34.9116,2,  34.9107,2,    304.1,2,    303.0,2,     9.45,2,    14.55,2,     0.00,2,     1.21,2,    2.412,2,   1.5564,2,   2172.9,2,   2304.3,2,     0.81,2,  -0.2325
  58GS20150410,   A01,   198,  1,     10,      2,2,20150424,1926, 61.4360,  -4.6242,  748,    699.0,  -0.1974,  34.9104,2,  34.9109,2,    304.1,2,    302.9,2,     9.50,2,    14.58,2,     0.00,2,     1.20,2,    2.704,2,   1.9164,2,   2176.6,2,   2301.9,2,     0.81,2,  -0.2257
  58GS20150410,   A01,   198,  1,     10,      3,2,20150424,1926, 61.4360,  -4.6242,  748,    649.4,  -0.0071,  34.9106,2,  34.9120,2,    304.8,2,    303.4,2,     8.90,2,    14.53,2,     0.00,2,     1.12,2,    2.782,2,   2.1888,2,   2174.6,2,   2298.8,2,     0.74,2,  -0.0340
  58GS20150410,   A01,   198,  1,     10,      4,2,20150424,1926, 61.4360,  -4.6242,  748,    600.7,   0.7871,  34.9244,2,  34.9233,2,    304.0,2,    309.2,3,     7.68,2,    14.28,2,     0.00,2,     1.09,2,    3.191,2,   2.4029,2,   2170.6,2,   2300.7,2,     0.71,2,   0.7585
  58GS20150410,   A01,   198,  1,     10,      5,2,20150424,1926, 61.4360,  -4.6242,  748,    498.3,   2.9097,  34.9660,2,  34.9659,2,    297.5,2,    296.7,2,     6.48,2,    13.67,2,     0.00,2,     1.04,2,    3.542,2,   3.3177,2,   2165.8,2,   2303.9,2,     0.65,2,   2.8778
  58GS20150410,   A01,   198,  1,     10,      6,2,20150424,1926, 61.4360,  -4.6242,  748,    400.6,   5.2400,  35.0556,2,  35.0559,2,    293.8,2,    293.8,2,     6.20,2,    13.30,2,     0.07,2,     0.96,2,    3.396,2,   2.7246,2,   2153.8,2,   2309.6,2,     0.63,2,   5.2073
  58GS20150410,   A01,   198,  1,     10,      7,2,20150424,1926, 61.4360,  -4.6242,  748,    301.3,   6.8957,  35.1987,2,  35.1997,2,    284.1,2,    284.3,2,     6.03,2,    13.33,2,     0.10,2,     0.99,2,    3.163,2,   3.8051,2,   2153.9,2,   2318.7,2,     0.60,2,   6.8674
  58GS20150410,   A01,   198,  1,     10,      8,2,20150424,1926, 61.4360,  -4.6242,  748,    203.9,   7.3093,  35.2258,2,  35.2242,2,    287.3,2,    286.9,2,     5.73,2,    12.92,2,     0.17,2,     0.95,2,    3.250,2,    2.433,2,   2153.2,2,   2319.6,2,     0.60,2,   7.2896
  58GS20150410,   A01,   198,  1,     10,      9,2,20150424,1926, 61.4360,  -4.6242,  748,    107.5,   7.5846,  35.2457,2,  35.2460,2,    286.3,2,    286.4,2,     5.59,2,    12.68,2,     0.24,2,     0.98,2,    2.618,2,   1.5571,2,   2152.5,2,   2320.9,2,     0.61,2,   7.5741
  58GS20150410,   A01,   198,  1,     10,     10,2,20150424,1926, 61.4360,  -4.6242,  748,     11.8,   7.7611,  35.2568,2,  35.2571,2,    291.1,2,    290.8,2,     5.57,2,    12.03,2,     0.17,2,     0.78,2,    2.988,2,   3.7275,2,   2148.1,2,   2320.5,2,     0.60,2,   7.7599
  58GS20150410,   A01,   199,  1,     12,      1,2,20150424,2136, 61.3050,  -4.2865, 1136,   1100.9,  -0.7027,  34.9119,2,  34.9112,2,    300.0,2,    301.8,2,    11.84,2,    15.06,2,     0.00,2,     1.17,2,    1.478,2,  0.66145,2,   2169.3,2,   2303.1,2,     0.92,2,  -0.7465
  58GS20150410,   A01,   199,  1,     12,      2,2,20150424,2136, 61.3050,  -4.2865, 1136,   1000.3,  -0.6138,  34.9108,2,  34.9112,2,    303.0,2,    303.8,2,    10.78,2,    14.82,2,     0.00,2,     1.14,2,    1.887,2,  0.54473,2,   2170.6,2,   2301.5,2,     0.81,2,  -0.6535
  58GS20150410,   A01,   199,  1,     12,      3,2,20150424,2136, 61.3050,  -4.2865, 1136,    900.2,  -0.5318,  34.9099,2,  34.9096,2,    304.5,2,    304.2,2,    10.09,2,    14.73,2,     0.00,2,     1.12,2,    2.266,2,    3.103,2,   2167.9,2,   2301.7,2,     0.86,2,  -0.5672
  58GS20150410,   A01,   199,  1,     12,      4,2,20150424,2136, 61.3050,  -4.2865, 1136,    798.5,  -0.4540,  34.9085,2,  34.9083,2,    305.7,2,    305.4,2,     9.39,2,    14.55,2,     0.00,2,     1.14,2,    2.529,2,   1.7899,2,   2169.6,2,   2299.7,2,     0.75,2,  -0.4852
  58GS20150410,   A01,   199,  1,     12,      5,2,20150424,2136, 61.3050,  -4.2865, 1136,    701.1,  -0.3119,  34.9075,2,  34.9079,2,    306.6,2,    305.9,2,     8.73,2,    14.55,2,     0.00,2,     1.09,2,    2.860,2,   3.1031,2,   2169.3,2,   2299.6,2,     0.82,2,  -0.3396
  58GS20150410,   A01,   199,  1,     12,      6,2,20150424,2136, 61.3050,  -4.2865, 1136,    601.6,  -0.0589,  34.9049,2,  34.9089,2,    310.4,2,    309.3,2,     7.56,2,    14.09,2,     0.00,2,     1.10,2,    3.463,2,   2.6946,2,   2171.5,2,   2299.6,2,     0.51,2,  -0.0833
  58GS20150410,   A01,   199,  1,     12,      7,2,20150424,2136, 61.3050,  -4.2865, 1136,    499.7,   0.5579,  34.9201,2,  34.9183,2,    306.8,2,    305.8,2,     7.18,2,    14.24,2,     0.00,2,     1.10,2,    3.677,2,   2.5487,2,   2172.8,2,   2299.4,2,     0.67,2,   0.5355
  58GS20150410,   A01,   199,  1,     12,      8,2,20150424,2136, 61.3050,  -4.2865, 1136,    399.2,   2.2122,  34.9585,2,  34.9526,2,    298.9,2,    298.4,2,     6.77,2,    13.93,2,     0.00,2,     1.04,2,    3.600,2,   2.9673,2,   2169.4,2,   2302.4,2,     0.68,2,   2.1892
  58GS20150410,   A01,   199,  1,     12,      9,2,20150424,2136, 61.3050,  -4.2865, 1136,    297.4,   4.7119,  35.0226,2,  35.0299,2,    297.3,2,    297.1,2,     6.56,2,    13.45,2,     0.06,2,     1.00,2,    2.764,2,   1.1579,2,   2157.0,2,   2308.2,2,     0.63,2,   4.6891
  58GS20150410,   A01,   199,  1,     12,     10,2,20150424,2136, 61.3050,  -4.2865, 1136,    200.3,   6.5098,  35.1642,2,  35.1606,2,    290.6,2,    291.0,2,     6.03,2,    13.29,2,     0.17,2,     0.92,2,    3.017,2,   1.9074,2,   2149.5,2,   2316.1,2,     0.62,2,   6.4917
  58GS20150410,   A01,   199,  1,     12,     11,2,20150424,2136, 61.3050,  -4.2865, 1136,     97.6,   7.1399,  35.2141,2,  35.2126,2,    290.0,2,    290.6,2,     5.52,2,    12.42,2,     0.26,2,     0.87,2,    3.046,2,   3.7662,2,   2146.9,2,   2317.1,2,     0.62,2,   7.1307
  58GS20150410,   A01,   199,  1,     12,     12,2,20150424,2136, 61.3050,  -4.2865, 1136,     10.1,   7.5600,  35.2290,2,  35.2309,2,    299.4,2,    300.1,2,     5.49,2,    10.80,2,     0.18,2,     0.83,2,    3.046,2,   2.1216,2,   2142.8,2,   2320.2,2,     0.74,2,   7.5590
  58GS20150410,   A01,   200,  1,     12,      1,2,20150425,0010, 61.1890,  -3.9058, 1136,   1098.0,  -0.6796,  34.9106,2,  34.9115,2,    300.0,2,    300.8,2,    11.61,2,    14.97,2,     0.09,2,     1.23,2,    1.547,2,   1.6925,2,   2165.5,2,   2304.3,2,     0.95,2,  -0.7235
  58GS20150410,   A01,   200,  1,     12,      2,2,20150425,0010, 61.1890,  -3.9058, 1136,   1006.5,  -0.6550,  34.9104,2,  34.9100,2,    301.4,2,    301.6,2,    11.22,2,    14.92,2,     0.00,2,     1.19,2,    1.683,2,   1.6147,2,   2168.6,2,   2302.0,2,     0.90,2,  -0.6946
  58GS20150410,   A01,   200,  1,     12,      3,2,20150425,0010, 61.1890,  -3.9058, 1136,    901.0,  -0.5502,  34.9098,2,  34.9091,2,    303.6,2,    303.9,2,    10.14,2,    14.63,2,     0.00,2,     1.17,2,    2.121,2,   1.4397,2,   2172.5,2,   2301.7,2,     0.83,2,  -0.5855
  58GS20150410,   A01,   200,  1,     12,      4,2,20150425,0010, 61.1890,  -3.9058, 1136,    795.8,  -0.4568,  34.9091,2,  34.9085,2,    305.7,2,    305.6,2,     9.38,2,    14.59,2,     0.00,2,     1.12,2,    2.480,2,   2.3054,2,   2171.3,2,   2298.9,2,     0.83,2,  -0.4879
  58GS20150410,   A01,   200,  1,     12,      5,2,20150425,0010, 61.1890,  -3.9058, 1136,    705.8,  -0.3186,  34.9075,2,  34.9077,2,    307.3,2,    306.8,2,     8.50,2,    14.41,2,     0.00,2,     1.09,2,    2.879,2,   2.2276,2,   2172.9,2,   2299.2,2,     0.81,2,  -0.3464
  58GS20150410,   A01,   200,  1,     12,      6,2,20150425,0010, 61.1890,  -3.9058, 1136,    606.1,  -0.1205,  34.9076,2,  34.9080,2,    308.9,2,    309.6,2,     7.82,2,    14.29,2,     0.00,2,     1.08,2,    3.288,2,   2.4611,2,   2172.0,2,   2297.7,2,     0.79,2,  -0.1448
  58GS20150410,   A01,   200,  1,     12,      7,2,20150425,0010, 61.1890,  -3.9058, 1136,    501.6,   0.6136,  34.9190,2,  34.9195,2,    305.8,2,    305.2,2,     7.23,2,    14.34,2,     0.00,2,     1.06,2,    3.181,2,   1.2646,2,   2176.4,2,   2300.7,2,     0.72,2,   0.5909
  58GS20150410,   A01,   200,  1,     12,      8,2,20150425,0010, 61.1890,  -3.9058, 1136,    402.5,   2.3307,  34.9594,2,  34.9594,2,    297.8,2,    295.4,2,     6.75,2,    13.94,2,     0.00,2,     0.99,2,    3.240,2,   3.6095,2,   2169.3,2,   2302.5,2,     0.65,2,   2.3071
  58GS20150410,   A01,   200,  1,     12,      9,2,20150425,0010, 61.1890,  -3.9058, 1136,    302.6,   4.7648,  35.0283,2,  35.0271,2,    296.4,2,   -999.0,9,     6.29,2,    13.24,2,     0.06,2,     0.95,2,    3.250,2,   3.2695,2,   2156.2,2,   2308.1,2,     0.66,2,   4.7414
  58GS20150410,   A01,   200,  1,     12,     10,2,20150425,0010, 61.1890,  -3.9058, 1136,    200.5,   6.5747,  35.1663,2,  35.1683,2,    289.0,2,    289.4,2,     5.95,2,    13.23,2,     0.13,2,     0.90,2,    3.104,2,   3.3282,2,   2153.0,2,   2315.6,2,     0.59,2,   6.5565
  58GS20150410,   A01,   200,  1,     12,     11,2,20150425,0010, 61.1890,  -3.9058, 1136,    101.3,   7.3656,  35.2306,2,  35.2292,2,    288.6,2,    289.1,2,     5.44,2,    12.43,2,     0.28,2,     0.85,2,    3.085,2,   2.3551,2,   2150.9,2,   2318.8,2,     0.67,2,   7.3559
  58GS20150410,   A01,   200,  1,     12,     12,2,20150425,0010, 61.1890,  -3.9058, 1136,     11.7,   7.7416,  35.2526,2,  35.2527,2,    294.7,2,    295.2,2,     5.49,2,    11.39,2,     0.16,2,     0.77,2,    3.182,2,   3.6009,2,   2143.6,2,   2321.5,2,     0.72,2,   7.7405
  58GS20150410,   A01,   201,  1,     12,      1,2,20150425,0240, 61.0680,  -3.5543, 1167,   1130.8,  -0.6754,  34.9111,2,  34.9108,2,    301.5,2,   -999.0,9,    11.62,2,    15.03,2,     0.14,2,     1.18,2,    1.420,2,  0.68092,2,   2172.9,2,   2302.9,2,     0.97,2,  -0.7210
  58GS20150410,   A01,   201,  1,     12,      2,2,20150425,0240, 61.0680,  -3.5543, 1167,    998.7,  -0.6641,  34.9108,2,  34.9114,2,    302.1,2,    302.0,2,    11.55,2,    15.16,2,     0.00,2,     1.14,2,    1.634,2,   1.5369,2,   2169.8,2,   2303.0,2,     0.96,2,  -0.7033
  58GS20150410,   A01,   201,  1,     12,      3,2,20150425,0240, 61.0680,  -3.5543, 1167,    896.2,  -0.4818,  34.9098,2,  34.9096,2,    305.0,2,    303.3,2,    10.04,2,    14.83,2,     0.00,2,     1.10,2,    2.344,2,    2.286,2,   2172.3,2,   2301.7,2,     0.88,2,  -0.5174
  58GS20150410,   A01,   201,  1,     12,      4,2,20150425,0240, 61.0680,  -3.5543, 1167,    800.7,  -0.3679,  34.9099,2,  34.9095,2,    306.0,2,    310.6,3,     9.43,2,    14.52,2,     0.10,2,     1.09,2,    2.568,2,   2.2665,2,   2171.3,2,   2301.3,2,     0.83,2,  -0.3998
  58GS20150410,   A01,   201,  1,     12,      5,2,20150425,0240, 61.0680,  -3.5543, 1167,    695.9,  -0.1992,  34.9090,2,  34.9088,2,    307.1,2,    305.4,2,     8.78,2,    14.52,2,     0.00,2,     1.09,2,    3.035,2,   2.8697,2,   2173.0,2,   2301.3,2,     0.82,2,  -0.2273
  58GS20150410,   A01,   201,  1,     12,      6,2,20150425,0240, 61.0680,  -3.5543, 1167,    601.7,   0.0513,  34.9078,2,  34.9086,2,    310.5,2,    311.1,2,     7.49,2,    14.23,2,     0.06,2,     1.05,2,    3.677,2,   2.8406,2,   2173.4,2,   2300.2,2,     0.80,3,   0.0263
  58GS20150410,   A01,   201,  1,     12,      7,2,20150425,0240, 61.0680,  -3.5543, 1167,    501.6,   1.0204,  34.9286,2,  34.9286,2,    304.8,2,    303.1,2,     7.04,2,    14.24,2,     0.00,2,     1.05,2,    3.551,2,   3.4341,2,   2174.2,2,   2299.9,2,     0.70,2,   0.9960
  58GS20150410,   A01,   201,  1,     12,      8,2,20150425,0240, 61.0680,  -3.5543, 1167,    397.8,   3.0440,  34.9691,2,  34.9677,2,    298.0,2,    297.1,2,     6.51,2,    13.74,2,     0.06,2,     0.95,2,    3.824,2,   3.6097,2,   2168.4,2,   2303.4,2,     0.75,2,   3.0184
  58GS20150410,   A01,   201,  1,     12,      9,2,20150425,0240, 61.0680,  -3.5543, 1167,    302.4,   5.3441,  35.0704,2,  35.0719,2,    291.5,2,    291.5,2,     6.12,2,    13.27,2,     0.06,2,     0.94,2,    3.094,2,    2.569,2,   2157.6,2,   2310.8,2,     0.67,2,   5.3194
  58GS20150410,   A01,   201,  1,     12,     10,2,20150425,0240, 61.0680,  -3.5543, 1167,    196.6,   7.0171,  35.2011,2,  35.2009,2,    288.9,2,    289.3,2,     5.45,2,    12.84,2,     0.15,2,     0.89,2,    2.881,2,   2.0534,2,   2150.6,2,   2317.7,2,     0.68,2,   6.9986
  58GS20150410,   A01,   201,  1,     12,     11,2,20150425,0240, 61.0680,  -3.5543, 1167,    100.7,   7.5584,  35.2476,2,  35.2468,2,    288.4,2,    288.7,2,     5.36,2,    12.32,2,     0.26,2,     0.86,2,    2.725,2,   2.8612,2,   2152.7,2,   2320.6,2,     0.66,2,   7.5486
  58GS20150410,   A01,   201,  1,     12,     12,2,20150425,0240, 61.0680,  -3.5543, 1167,     10.3,   7.7482,  35.2499,2,  35.2503,2,    294.9,2,    295.2,2,     5.53,2,    11.38,2,     0.19,2,     0.80,2,    2.706,2,   3.1338,2,   2146.2,2,   2320.8,2,     0.66,2,   7.7472