BOTTLE,20180808PRINUNIVRMK
# BOTTLE 20180223UNIBERGENAO 
# 03/01/18 Initialised README file 
# Source: final revised from A.Olsen 6/20/18, and salt on 8/8/18 
# Ship: G.O. Sars 
# Cruise: 58GS20150410;	2015107 
# DATES: 20150410 - 20150426 
# EXPOCODE: 58GS20150410 
# Region: Irminger Sea; Faroes-Shetland; North Sea 
# Chief Scientist: Are Olsen (U. Bergen) 
# 35 stations with 12 place Rosette 
# Note: Station 193 renamed to Station 192 CAST 2 
# Hydro: Who - A. Olsen & Friederike Frob; Status - final 
# 	Notes: Salinity are bottle samples analysed at a PORTASAL	  
# 		specs gives accuracy of 0.003 
# 		Final values rcd 8/8/18 
# 	CTDSAL from SEABIRD 911. Upcast data corrected for offset towards  
# 		bottle salinity values using GO-SHIP methods 
# 		Final values rcd 8/8/18 
# 	CTDTMP converted from ITS 68 to ITS 90 using t90 = t68 * 0.99976 
# 	CTDOXY are upcast values corrected 	owards winkler samples using GO-SHIP methods 
# Nutrients: Who - A. Olsen & L. Lunde (Inst. Mar. Res.); Status - final 
# 	Notes: Samples preserved with Chloroform; analysed within a month after cruise 
# 		QUASIMEME calibration program 
# 		Nitrite detection level 0.6; anything below set to 0 
# 		Precision: 2% for PO4; 1% for SiO2 and NO3 see Frob et al. 2018 
# 		Crossover analyses shows PO4 is 12% higher than other cruises in region in GLODAPv2 
# O2: Who - Kristin Jackson (U. Bergen); Status - final 
# 	Notes: Winkler titration of bottle samples 
# 		Density for winkler samples were determined at draw temperatures (not included in final file) 
# TCO2: Who - A. Omar; Status - final 
# 	Notes: CRM used. Precision from replicates 2 umol/kg 
# 		see Frob et al. 2018 
# TA: Who - A. Omar; Status - final 
# 	Notes: CRM used. Precision from replicates 2 umol/kg 
# 		See Frob et al. 2018 
# CFC: Who - E. Jeansson; Status - final 
# 	Notes: cfc-12 only; standard calibration techniques; precision 2.7%	 
# 	Includes SF6; standard calibration techniques; precision 6.2% 
# C-13: Who - A. Olsen & U. Ninnemann; Status - final 
# References:  
# Frob,F., A. Olsen, K. Vage, G.W. K.Moore, I.Yashayaev, E.Jeansson & B. Rajasakaren. Irminger Sea deep convection injects oxygen and anthropogenic carbon to the ocean interior, Nature Comm., 7:13244,doi: 10.1038/ncomms13244, 2016. 
# Frob,F., A. Olsen, F.F. Perez, M. I. Garcia-Ibnez, E. Jeansson, A.M. Omar and S. K. Lauvset, Inorganic carbon and water masses in the Irminger sea since 1991, Biogeosciences, 15, 51-72, doi: 10.5194/bg-15-51-2018, 2018. 
EXPOCODE,SECT_ID,STNNBR,CASTNO,SAMPNO,BTLNBR,BTLNBR_FLAG_W,DATE,TIME,LATITUDE,LONGITUDE,DEPTH,CTDPRS,CTDTMP,CTDSAL,CTDSAL_FLAG_W,SALNTY,SALNTY_FLAG_W,CTDOXY,CTDOXY_FLAG_W,OXYGEN,OXYGEN_FLAG_W,SILCAT,SILCAT_FLAG_W,NITRAT,NITRAT_FLAG_W,NITRIT,NITRIT_FLAG_W,PHSPHT,PHSPHT_FLAG_W,CFC-12,CFC-12_FLAG_W,SF6,SF6_FLAG_W,TCARBN,TCARBN_FLAG_W,ALKALI,ALKALI_FLAG_W,DELC13,DELC13_FLAG_W,THETA
,,,,,,,,,,,METERS,DBAR,ITS-90,PSS-78,,PSS-78,,UMOL/KG,,UMOL/KG,,UMOL/KG,,UMOL/KG,,UMOL/KG,,UMOL/KG,,PMOL/KG,,FMOL/KG,,UMOL/KG,,UMOL/KG,,/MILLE,,DEG C
  58GS20150410,   A01,   175,  1,     12,      1,3,20150416,1037, 59.6180, -40.7380, 2506,   2485.4,   1.4664,  34.9181,2,  34.9176,3,    299.5,2,    293.3,3,    10.48,3,    14.89,3,     0.00,3,     1.17,3,    1.956,3,   3.6095,3,   2165.7,3,   2299.7,3,     0.80,3,   1.2962
  58GS20150410,   A01,   175,  1,     12,      2,2,20150416,1037, 59.6180, -40.7380, 2506,   2300.2,   2.1841,  34.9128,2,  34.9125,2,    288.2,2,   -999.0,9,    10.22,2,    14.84,2,     0.00,2,     1.15,2,    2.014,3,   3.3857,2,   2162.4,2,   2305.3,2,     0.83,2,   2.0175
  58GS20150410,   A01,   175,  1,     12,      3,2,20150416,1037, 59.6180, -40.7380, 2506,   1797.3,   3.0535,  34.9321,2,  34.9323,2,    276.3,2,    280.5,2,    12.11,2,    16.00,2,     0.00,2,     1.30,2,    1.576,2,  0.72971,2,   2160.6,2,   2307.9,2,     0.80,3,   2.9184
  58GS20150410,   A01,   175,  1,     12,      4,2,20150416,1037, 59.6180, -40.7380, 2506,   1248.0,   3.5892,  34.9359,2,  34.9356,2,    274.3,2,    277.1,2,    10.91,2,    16.45,2,     0.00,2,     1.29,2,    1.800,2,   1.8876,2,   2160.7,2,   2307.7,2,     0.81,2,   3.4955
  58GS20150410,   A01,   175,  1,     12,      5,2,20150416,1037, 59.6180, -40.7380, 2506,    999.6,   3.4904,  34.8784,2,  34.8795,2,    298.4,2,    300.0,2,     8.97,2,    15.90,2,     0.00,2,     1.27,2,    2.403,2,   3.7072,2,   2164.5,2,   2303.4,2,     0.76,2,   3.4181
  58GS20150410,   A01,   175,  1,     12,      6,2,20150416,1037, 59.6180, -40.7380, 2506,    849.2,   3.6081,  34.8924,2,  34.8919,2,    297.4,2,    298.6,2,     8.90,2,    15.94,2,     0.00,2,     1.27,2,    2.364,2,   3.0358,2,   2161.9,2,   2303.3,2,     0.75,2,   3.5468
  58GS20150410,   A01,   175,  1,     12,      7,2,20150416,1037, 59.6180, -40.7380, 2506,    649.4,   3.6546,  34.8981,2,  34.8989,2,    301.7,2,    302.3,2,     8.65,2,    15.77,2,     0.00,2,     1.25,2,    2.433,2,   3.2207,2,   2160.1,2,   2304.5,2,     0.74,2,   3.6085
  58GS20150410,   A01,   175,  1,     12,      8,2,20150416,1037, 59.6180, -40.7380, 2506,    499.2,   3.6707,  34.9001,2,  34.9007,2,    303.5,2,    304.0,2,     8.55,2,    15.71,2,     0.00,2,     1.24,2,    2.442,2,   3.1039,2,   2159.8,2,   2305.4,2,     0.77,3,   3.6358
  58GS20150410,   A01,   175,  1,     12,      9,2,20150416,1037, 59.6180, -40.7380, 2506,    399.0,   3.6759,  34.9055,2,  34.9024,2,    305.0,2,    306.5,2,     8.47,2,    15.64,2,     0.00,2,     1.24,2,    2.472,2,   2.8024,2,   2163.5,2,   2306.1,2,     0.72,2,   3.6483
  58GS20150410,   A01,   175,  1,     12,     10,2,20150416,1037, 59.6180, -40.7380, 2506,    248.4,   3.6573,  34.8977,2,  34.8983,2,    308.6,2,    307.4,2,     8.40,2,    15.48,2,     0.00,2,     1.20,2,    2.472,2,   2.9289,2,   2160.8,2,   2305.0,2,     0.72,2,   3.6404
  58GS20150410,   A01,   175,  1,     12,     11,2,20150416,1037, 59.6180, -40.7380, 2506,     99.7,   3.7521,  34.9076,2,  34.9081,2,    309.1,2,    307.0,2,     8.32,2,    15.36,2,     0.00,2,     1.20,2,    2.481,2,   3.0749,2,   2163.8,2,   2304.8,2,     0.64,2,   3.7454
  58GS20150410,   A01,   175,  1,     12,     12,2,20150416,1037, 59.6180, -40.7380, 2506,      9.9,   3.8991,  34.9132,2,  34.9135,2,    313.8,2,    311.6,2,     8.33,2,    14.67,2,     0.00,2,     1.12,2,    2.462,2,   2.8219,2,   2154.4,2,   2305.6,2,     0.75,2,   3.8984
  58GS20150410,   A01,   176,  1,     12,      1,3,20150416,1851, 59.4480, -39.7520, 2976,   2966.7,   1.3236,  34.9273,2,  34.9275,3,    297.4,2,    286.5,3,    12.32,3,    15.76,3,     0.00,3,     1.28,3,    1.673,3,   2.8993,3,   2167.0,3,   2309.3,3,     0.87,3,   1.1125
  58GS20150410,   A01,   176,  1,     12,      2,2,20150416,1851, 59.4480, -39.7520, 2976,   2500.4,   2.8402,  34.9398,2,  34.9398,2,    275.0,2,    279.8,2,    13.95,2,    15.97,2,     0.00,2,     1.32,2,    1.430,2,   1.1578,2,   2166.3,2,   2308.8,2,     0.95,3,   2.6431
  58GS20150410,   A01,   176,  1,     12,      3,2,20150416,1851, 59.4480, -39.7520, 2976,   2000.7,   3.2318,  34.9279,2,  34.9272,2,    275.8,2,    279.5,2,    11.99,2,    16.34,2,     0.00,2,     1.29,2,    1.557,2,   2.2572,2,   2162.9,2,   2307.2,2,     0.98,3,   3.0757
  58GS20150410,   A01,   176,  1,     12,      4,2,20150416,1851, 59.4480, -39.7520, 2976,   1600.4,   3.6230,  34.9309,2,  34.9307,2,    274.0,2,    276.7,2,    11.09,2,    16.61,2,     0.00,2,     1.28,2,    1.771,2,   2.4227,2,   2163.6,2,   2308.1,2,     0.85,3,   3.4982
  58GS20150410,   A01,   176,  1,     12,      5,2,20150416,1851, 59.4480, -39.7520, 2976,   1249.6,   3.4686,  34.8701,2,  34.8714,2,    303.2,2,    311.0,3,     8.71,2,    15.74,2,     0.00,2,     1.24,2,    2.471,2,   2.9385,2,   2162.2,2,   2301.8,2,     0.69,3,   3.3760
  58GS20150410,   A01,   176,  1,     12,      6,2,20150416,1851, 59.4480, -39.7520, 2976,   1000.4,   3.4887,  34.8743,2,  34.8741,2,    305.2,2,    305.5,2,     8.65,2,    15.88,2,     0.00,2,     1.23,2,    2.501,2,   3.2304,2,   2161.3,2,   2301.1,2,     0.78,2,   3.4163
  58GS20150410,   A01,   176,  1,     12,      7,2,20150416,1851, 59.4480, -39.7520, 2976,    848.7,   3.5049,  34.8772,2,  34.8775,2,    308.1,2,    308.1,2,     8.50,2,    15.66,2,     0.00,2,     1.22,2,    2.510,2,   2.4812,2,   2163.0,2,   2301.2,2,     0.76,2,   3.4444
  58GS20150410,   A01,   176,  1,     12,      8,2,20150416,1851, 59.4480, -39.7520, 2976,    648.9,   3.5176,  34.8798,2,  34.8806,2,    308.1,2,    307.3,2,     8.54,2,    15.66,2,     0.00,2,     1.24,2,    2.501,2,   2.3449,2,   2161.4,2,   2303.2,2,     0.64,2,   3.4723
  58GS20150410,   A01,   176,  1,     12,      9,2,20150416,1851, 59.4480, -39.7520, 2976,    502.0,   3.5811,  34.8903,2,  34.8897,2,    307.5,2,    309.4,2,     8.55,2,    15.87,2,     0.00,2,     1.21,2,    2.510,2,   2.4423,2,   2162.0,2,   2304.5,2,     0.80,2,   3.5463
  58GS20150410,   A01,   176,  1,     12,     10,2,20150416,1851, 59.4480, -39.7520, 2976,    250.0,   3.5672,  34.8882,2,  34.8861,2,    307.8,2,    305.8,2,     8.45,2,    15.56,2,     0.00,2,     1.22,2,    2.481,2,   2.8509,2,   2158.9,2,   2302.3,2,     0.72,2,   3.5504
  58GS20150410,   A01,   176,  1,     12,     11,2,20150416,1851, 59.4480, -39.7520, 2976,    100.7,   3.6266,  34.8909,2,  34.8904,2,    312.5,2,    309.3,2,     8.40,2,    15.40,2,     0.00,2,     1.15,2,    2.520,2,   1.9168,2,   2156.3,2,   2303.3,2,     0.77,2,   3.6199
  58GS20150410,   A01,   176,  1,     12,     12,2,20150416,1851, 59.4480, -39.7520, 2976,      9.7,   3.7857,  34.8973,2,  34.8991,2,    313.9,2,    310.7,2,     8.30,2,    14.75,2,     0.07,2,     1.13,2,    2.501,2,   2.2574,2,   2149.9,2,   2308.9,2,     0.91,2,   3.7851
  58GS20150410,   A01,   177,  1,     12,      1,2,20150417,0020, 59.2810, -38.7750, 3082,   3058.4,   1.3056,  34.9064,2,  34.9064,2,    305.1,2,    305.1,2,     8.57,2,    14.01,2,     0.00,2,     1.07,2,    2.267,4,   2.9478,4,   2164.9,2,   2305.6,2,     0.82,2,   1.0864
  58GS20150410,   A01,   177,  1,     12,      2,2,20150417,0020, 59.2810, -38.7750, 3082,   2498.6,   2.9528,  34.9372,2,  34.9369,2,    280.5,2,    280.2,2,    13.26,2,    16.21,2,     0.00,2,     1.23,2,    1.469,2,   2.1112,2,   2166.1,2,   2307.2,2,     0.84,2,   2.7538
  58GS20150410,   A01,   177,  1,     12,      3,2,20150417,0020, 59.2810, -38.7750, 3082,   1999.6,   3.3281,  34.9336,2,  34.9344,2,    279.3,2,    278.8,2,    11.64,2,    16.46,2,     0.00,2,     1.23,2,    1.615,2,   1.3621,2,   2158.7,2,   2306.1,2,     0.97,2,   3.1707
  58GS20150410,   A01,   177,  1,     12,      4,2,20150417,0020, 59.2810, -38.7750, 3082,   1498.9,   3.6664,  34.9273,2,  34.9275,2,    277.3,2,   -999.0,9,    10.83,2,    16.60,2,     0.00,2,     1.24,2,    1.819,2,   2.4519,2,   2163.2,2,   2305.1,2,     0.85,2,   3.5502
  58GS20150410,   A01,   177,  1,     12,      5,2,20150417,0020, 59.2810, -38.7750, 3082,   1099.5,   3.6946,  34.8980,2,  34.8972,2,    305.1,2,   -999.0,9,     8.54,2,    15.92,2,     0.00,2,     1.19,2,    2.481,2,   4.2131,2,   2158.7,2,   2304.6,2,     0.76,2,   3.6124
  58GS20150410,   A01,   177,  1,     12,      6,2,20150417,0020, 59.2810, -38.7750, 3082,    999.2,   3.6935,  34.8982,2,  34.8980,2,    305.2,2,    304.8,2,     8.50,2,    15.84,2,     0.00,2,     1.17,2,    2.510,2,   3.2206,2,   2163.8,2,   2304.1,2,     0.78,3,   3.6196
  58GS20150410,   A01,   177,  1,     12,      7,2,20150417,0020, 59.2810, -38.7750, 3082,    849.1,   3.6863,  34.8985,2,  34.8982,2,    305.1,2,    304.6,2,     8.51,2,    15.74,2,     0.00,2,     1.23,2,    2.501,2,   2.5784,2,   2158.9,2,   2302.4,2,     0.76,3,   3.6245
  58GS20150410,   A01,   177,  1,     12,      8,2,20150417,0020, 59.2810, -38.7750, 3082,    648.9,   3.7062,  34.9012,2,  34.9013,2,    303.9,2,    303.7,2,     8.61,2,    16.12,2,     0.00,2,     1.21,2,    2.491,2,    2.452,2,   2158.7,2,   2304.8,2,     0.64,2,   3.6599
  58GS20150410,   A01,   177,  1,     12,      9,2,20150417,0020, 59.2810, -38.7750, 3082,    499.2,   3.7281,  34.9042,2,  34.9039,2,    302.5,2,    309.6,3,     8.62,2,    15.92,2,     0.00,2,     1.17,2,    2.462,2,    2.452,2,   2157.0,2,   2306.0,2,     0.63,2,   3.6930
  58GS20150410,   A01,   177,  1,     12,     10,2,20150417,0020, 59.2810, -38.7750, 3082,    251.1,   3.8017,  34.9108,2,  34.9126,2,    304.9,2,    303.1,2,     8.58,2,    15.93,2,     0.00,2,     1.14,2,    2.481,2,   3.2401,2,   2162.5,2,   2304.1,2,     0.61,2,   3.7844
  58GS20150410,   A01,   177,  1,     12,     11,2,20150417,0020, 59.2810, -38.7750, 3082,     99.5,   3.9124,  34.9234,2,  34.9224,2,    306.9,2,    306.0,2,     8.50,2,    15.78,2,     0.00,2,     1.12,2,    2.481,2,   2.3936,2,   2157.5,2,   2304.1,2,     0.61,2,   3.9056
  58GS20150410,   A01,   177,  1,     12,     12,2,20150417,0020, 59.2810, -38.7750, 3082,     10.2,   3.8779,  34.9169,2,  34.9168,2,    309.2,2,    306.9,2,     8.57,2,    15.45,2,     0.00,2,     1.07,2,    2.540,2,    3.279,2,   2160.7,2,   -999.0,9,     0.55,2,   3.8772
  58GS20150410,   A01,   178,  1,     12,      1,3,20150417,0609, 59.1180, -37.7810, 3242,   3239.4,   1.3395,  34.9087,2,  34.9116,3,    299.6,2,    294.5,3,    10.72,3,    14.83,3,     0.00,3,     1.16,3,    1.975,4,    3.016,4,   2167.9,3,   2305.0,3,     0.73,3,   1.1020
  58GS20150410,   A01,   178,  1,     12,      2,2,20150417,0609, 59.1180, -37.7810, 3242,   2499.7,   3.0219,  34.9346,2,  34.9331,2,    276.4,2,    279.0,2,    12.98,2,    16.38,2,     0.00,2,     1.20,2,    1.450,4,  0.97292,4,   2167.7,6,   2309.3,2,     0.75,2,   2.8216
  58GS20150410,   A01,   178,  1,     12,      3,2,20150417,0609, 59.1180, -37.7810, 3242,   1999.9,   3.3987,  34.9290,2,  34.9274,2,    275.8,2,    278.5,2,    11.28,2,    16.49,2,     0.00,2,     1.20,2,    1.693,4,    1.907,4,   2166.0,2,   2307.2,2,     0.72,2,   3.2402
  58GS20150410,   A01,   178,  1,     12,      4,2,20150417,0609, 59.1180, -37.7810, 3242,   1448.9,   3.5225,  34.8744,2,  34.8721,2,    300.3,2,    302.2,2,     8.62,2,    16.04,2,     0.00,2,     1.15,2,    2.432,2,   3.8628,2,   2167.3,2,   2303.7,2,     0.65,2,   3.4124
  58GS20150410,   A01,   178,  1,     12,      5,2,20150417,0609, 59.1180, -37.7810, 3242,   1250.5,   3.5780,  34.8806,2,  34.8793,2,    303.2,2,    304.6,2,     8.58,2,    16.02,2,     0.00,2,     1.15,2,    2.471,2,   2.8314,2,   2163.1,2,   2303.2,2,     0.66,2,   3.4843
  58GS20150410,   A01,   178,  1,     12,      6,2,20150417,0609, 59.1180, -37.7810, 3242,   1000.7,   3.6130,  34.8890,2,  34.8865,2,    304.9,2,    305.9,2,     8.52,2,    15.93,2,     0.00,2,     1.13,2,    2.501,2,   2.0141,2,   2162.8,2,   2303.9,2,     0.64,2,   3.5396
  58GS20150410,   A01,   178,  1,     12,      7,2,20150417,0609, 59.1180, -37.7810, 3242,    849.0,   3.6174,  34.8914,2,  34.8883,2,    305.0,2,    305.7,2,     8.49,2,    15.94,2,     0.00,2,     1.13,2,    2.491,2,   1.9071,2,   2167.1,2,   2306.0,2,     0.68,2,   3.5561
  58GS20150410,   A01,   178,  1,     12,      8,2,20150417,0609, 59.1180, -37.7810, 3242,    649.6,   3.6702,  34.9007,2,  34.8973,2,    304.0,2,    304.0,2,     8.47,2,    15.86,2,     0.00,2,     1.15,2,    2.471,2,    1.839,2,   2167.5,2,   2303.4,2,     0.76,2,   3.6240
  58GS20150410,   A01,   178,  1,     12,      9,2,20150417,0609, 59.1180, -37.7810, 3242,    499.5,   3.6409,  34.8979,2,  34.8949,2,    304.8,2,    304.7,2,     8.50,2,    15.91,2,     0.00,2,     1.13,2,    2.471,4,   2.5979,4,   2165.9,2,   2304.1,2,     0.80,2,   3.6061
  58GS20150410,   A01,   178,  1,     12,     10,2,20150417,0609, 59.1180, -37.7810, 3242,    248.2,   3.5644,  34.8874,2,  34.8829,2,    307.8,2,    306.8,2,     8.41,2,    15.74,2,     0.00,2,     1.09,2,    2.452,2,    2.306,2,   2164.6,2,   2304.5,2,     0.76,2,   3.5477
  58GS20150410,   A01,   178,  1,     12,     11,2,20150417,0609, 59.1180, -37.7810, 3242,     98.5,   3.6951,  34.9010,2,  34.8968,2,    309.5,2,    307.7,2,     8.41,2,    15.62,2,     0.00,2,     1.09,2,    2.472,4,    2.092,4,   2166.1,2,   2302.6,2,     0.77,2,   3.6885
  58GS20150410,   A01,   178,  1,     12,     12,2,20150417,0609, 59.1180, -37.7810, 3242,     10.4,   3.6933,  34.9016,2,  34.8975,2,    309.9,2,    308.0,2,     8.48,2,    15.31,2,     0.00,2,     1.07,2,    2.452,2,   2.4131,2,   2165.3,2,   2303.2,2,     0.76,2,   3.6926
  58GS20150410,   A01,   179,  1,     12,      1,2,20150417,1152, 58.9690, -36.8460, 3012,   2989.6,   2.7127,  34.9314,2,  34.9314,2,    282.2,2,    282.9,2,    13.88,2,    15.95,2,     0.00,2,     1.22,2,    1.488,2,   2.2961,2,   2159.8,2,   2306.0,2,     0.92,2,   2.4692
  58GS20150410,   A01,   179,  1,     12,      2,2,20150417,1152, 58.9690, -36.8460, 3012,   2500.7,   2.9084,  34.9400,2,  34.9399,2,    279.7,2,    278.6,2,    13.95,2,    16.21,2,     0.00,2,     1.22,2,    1.420,2,   2.8506,2,   2156.6,2,   -999.0,9,     0.87,2,   2.7100
  58GS20150410,   A01,   179,  1,     12,      3,2,20150417,1152, 58.9690, -36.8460, 3012,   2104.3,   3.1358,  34.9369,2,  34.9371,2,    279.4,2,    278.0,2,    12.52,2,    16.26,2,     0.00,2,     1.24,2,    1.489,2,   1.9361,2,   2157.1,2,   2307.3,2,     0.89,2,   2.9715
  58GS20150410,   A01,   179,  1,     12,      4,2,20150417,1152, 58.9690, -36.8460, 3012,   1500.9,   3.6601,  34.9308,2,  34.9308,2,    276.5,2,    275.8,2,    10.92,2,    16.57,2,     0.00,2,     1.24,2,    1.780,2,   1.7027,2,   2153.5,2,   2304.9,2,     0.84,2,   3.5437
  58GS20150410,   A01,   179,  1,     12,      5,2,20150417,1152, 58.9690, -36.8460, 3012,   1119.0,   3.6267,  34.8858,2,  34.8853,2,    305.8,2,    312.8,3,     8.55,2,    15.89,2,     0.00,2,     1.17,2,    2.481,2,   3.6488,2,   2155.8,2,   2302.4,2,     0.70,2,   3.5435
  58GS20150410,   A01,   179,  1,     12,      6,2,20150417,1152, 58.9690, -36.8460, 3012,    999.6,   3.6200,  34.8859,2,  34.8854,2,    306.4,2,    306.6,2,     8.56,2,    15.90,2,     0.00,2,     1.16,2,    2.481,2,   3.7461,2,   2158.3,2,   2302.1,2,     0.70,2,   3.5467
  58GS20150410,   A01,   179,  1,     12,      7,2,20150417,1152, 58.9690, -36.8460, 3012,    850.2,   3.6141,  34.8867,2,  34.8868,2,    306.5,2,    304.5,2,     8.52,2,    15.88,2,     0.00,2,     1.15,2,    2.501,2,   2.9871,2,   2161.0,2,   2302.3,2,     0.72,2,   3.5527
  58GS20150410,   A01,   179,  1,     12,      8,2,20150417,1152, 58.9690, -36.8460, 3012,    650.1,   3.6221,  34.8891,2,  34.8893,2,    306.1,2,    305.9,2,     8.53,2,    15.87,2,     0.00,2,     1.16,2,    2.481,2,   2.9579,2,   2162.8,2,   2302.0,2,     0.71,2,   3.5761
  58GS20150410,   A01,   179,  1,     12,      9,2,20150417,1152, 58.9690, -36.8460, 3012,    500.8,   3.6352,  34.8912,2,  34.8913,2,    307.7,2,    307.5,2,     8.56,2,    15.94,2,     0.00,2,     1.13,2,    2.501,2,   2.7828,2,   2156.8,2,   2303.3,2,     0.61,2,   3.6003
  58GS20150410,   A01,   179,  1,     12,     10,2,20150417,1152, 58.9690, -36.8460, 3012,    251.0,   3.6728,  34.8958,2,  34.8958,2,    308.5,2,    307.9,2,     8.59,2,    15.88,2,     0.00,2,     1.17,2,    2.491,2,    3.065,2,   2154.9,2,   2303.7,2,     0.74,2,   3.6557
  58GS20150410,   A01,   179,  1,     12,     11,2,20150417,1152, 58.9690, -36.8460, 3012,    100.4,   3.7132,  34.8965,2,  34.8950,2,    305.4,2,    304.6,2,     8.67,2,    15.94,2,     0.00,2,     1.12,2,    2.481,2,   3.4737,2,   2156.8,2,   2303.0,2,     0.76,3,   3.7065
  58GS20150410,   A01,   179,  1,     12,     12,2,20150417,1152, 58.9690, -36.8460, 3012,     10.5,   3.7615,  34.9010,2,  34.9017,2,    307.7,2,    306.5,2,     8.66,2,    15.58,2,     0.00,2,     1.07,2,    2.481,2,   2.7342,2,   2157.4,2,   2303.5,2,     0.73,3,   3.7608