BOTTLE,20180808PRINUNIVRMK
EXPOCODE,SECT_ID,STNNBR,CASTNO,SAMPNO,BTLNBR,BTLNBR_FLAG_W,DATE,TIME,LATITUDE,LONGITUDE,DEPTH,CTDPRS,CTDTMP,CTDSAL,CTDSAL_FLAG_W,SALNTY,SALNTY_FLAG_W,CTDOXY,CTDOXY_FLAG_W,OXYGEN,OXYGEN_FLAG_W,SILCAT,SILCAT_FLAG_W,NITRAT,NITRAT_FLAG_W,NITRIT,NITRIT_FLAG_W,PHSPHT,PHSPHT_FLAG_W,CFC-12,CFC-12_FLAG_W,SF6,SF6_FLAG_W,TCARBN,TCARBN_FLAG_W,ALKALI,ALKALI_FLAG_W,DELC13,DELC13_FLAG_W,THETA
,,,,,,,,,,,METERS,DBAR,ITS-90,PSS-78,,PSS-78,,UMOL/KG,,UMOL/KG,,UMOL/KG,,UMOL/KG,,UMOL/KG,,UMOL/KG,,PMOL/KG,,FMOL/KG,,UMOL/KG,,UMOL/KG,,/MILLE,,DEG C
  58GS20150410,   A01,   180,  1,     12,      1,2,20150417,1720, 58.8160, -35.8990, 2675,   2665.1,   3.0384,  34.9414,2,  34.9415,2,    279.6,2,    277.8,2,    13.51,2,    16.31,2,     0.00,2,     1.22,2,    1.440,2,   1.8194,2,   2165.2,2,   2309.1,2,     0.86,3,   2.8213
  58GS20150410,   A01,   180,  1,     12,      2,2,20150417,1720, 58.8160, -35.8990, 2675,   2400.3,   3.1372,  34.9442,2,  34.9440,2,    279.6,2,    280.9,2,    12.94,2,    16.55,2,     0.10,2,     1.24,2,    1.479,2,   1.5762,2,   2158.4,2,   2306.4,2,     0.87,3,   2.9445
  58GS20150410,   A01,   180,  1,     12,      3,2,20150417,1720, 58.8160, -35.8990, 2675,   2000.8,   3.4202,  34.9461,2,  34.9462,2,    278.3,2,    279.9,2,    11.68,2,    16.45,2,     0.00,2,     1.22,2,    1.605,2,   2.3351,2,   2164.3,2,   2305.6,2,     0.80,3,   3.2612
  58GS20150410,   A01,   180,  1,     12,      4,2,20150417,1720, 58.8160, -35.8990, 2675,   1598.4,   3.6860,  34.9334,2,  34.9332,2,    276.8,2,    275.5,2,    10.94,2,    16.87,2,     0.00,2,     1.22,2,    1.800,2,   3.5222,2,   2161.8,2,   2306.9,2,     0.75,3,   3.5606
  58GS20150410,   A01,   180,  1,     12,      5,2,20150417,1720, 58.8160, -35.8990, 2675,   1200.5,   3.6910,  34.8938,2,  34.8941,2,    302.2,2,    302.3,2,     8.66,2,    15.99,2,     0.00,2,     1.17,2,    2.442,2,   2.8218,2,   2160.7,2,   2301.0,2,     0.66,2,   3.6004
  58GS20150410,   A01,   180,  1,     12,      6,2,20150417,1720, 58.8160, -35.8990, 2675,   1001.7,   3.6986,  34.8948,2,  34.8945,2,    302.6,2,    302.9,2,     8.63,2,    16.01,2,     0.00,2,     1.13,2,    2.462,2,   3.8143,2,   2157.5,2,   2303.7,2,     0.66,2,   3.6245
  58GS20150410,   A01,   180,  1,     12,      7,2,20150417,1720, 58.8160, -35.8990, 2675,    849.9,   3.6986,  34.8951,2,  34.8958,2,    302.0,2,    302.1,2,     8.67,2,    15.98,2,     0.00,2,     1.15,2,    2.442,2,   3.1818,2,   2159.7,2,   2302.6,2,     0.66,2,   3.6367
  58GS20150410,   A01,   180,  1,     12,      8,2,20150417,1720, 58.8160, -35.8990, 2675,    648.8,   3.6913,  34.8943,2,  34.8937,2,    303.5,2,    303.6,2,     8.61,2,    15.98,2,     0.00,2,     1.12,2,    2.462,2,   3.0261,2,   2161.3,2,   2301.6,2,     0.68,2,   3.6451
  58GS20150410,   A01,   180,  1,     12,      9,2,20150417,1720, 58.8160, -35.8990, 2675,    500.6,   3.7112,  34.8968,2,  34.8961,2,    303.6,2,    304.3,2,     8.67,2,    16.06,2,     0.00,2,     1.10,2,    2.481,2,   2.8607,2,   2161.4,2,   2329.2,3,     0.68,2,   3.6760
  58GS20150410,   A01,   180,  1,     12,     10,2,20150417,1720, 58.8160, -35.8990, 2675,    247.6,   3.8422,  34.9054,2,  34.9069,2,    302.1,2,    302.1,2,     8.76,2,    16.66,2,     0.00,2,     1.12,2,    2.433,2,   1.5277,2,   2164.9,2,   2303.3,2,     0.73,2,   3.8250
  58GS20150410,   A01,   180,  1,     12,     11,2,20150417,1720, 58.8160, -35.8990, 2675,    100.3,   4.0060,  34.9179,2,  34.9168,2,    305.9,2,    305.4,2,     8.64,2,    15.83,2,     0.00,2,     1.10,2,    2.472,2,   3.2987,2,   2163.7,2,   2302.4,2,     0.68,2,   3.9990
  58GS20150410,   A01,   180,  1,     12,     12,2,20150417,1720, 58.8160, -35.8990, 2675,     10.0,   4.1498,  34.9183,2,  34.9186,2,    307.1,2,    306.6,2,     8.62,2,    15.44,2,     0.00,2,     1.05,2,    2.472,2,   2.4132,2,   2163.6,2,   2304.5,2,     0.67,2,   4.1491
  58GS20150410,   A01,   181,  1,     12,      1,2,20150418,1231, 58.6150, -34.7930, 2212,   2270.5,   3.1660,  34.9517,2,  34.9521,2,    276.7,2,    277.0,2,    13.16,2,    16.24,2,     0.00,2,     1.23,2,    1.518,2,  0.55458,2,   2164.5,6,   2315.0,2,     0.74,2,   2.9854
  58GS20150410,   A01,   181,  1,     12,      2,2,20150418,1231, 58.6150, -34.7930, 2212,   1997.0,   3.2829,  34.9536,2,  34.9530,2,    277.2,2,    276.8,2,    12.28,2,    16.09,2,     0.00,2,     1.25,2,    1.566,2,  0.94376,2,   2159.2,2,   2305.1,2,     0.76,2,   3.1263
  58GS20150410,   A01,   181,  1,     12,      3,2,20150418,1231, 58.6150, -34.7930, 2212,   1501.7,   3.6027,  34.9435,2,  34.9437,2,    275.6,2,    275.8,2,    11.29,2,    16.47,2,     0.00,2,     1.24,2,    1.722,2,   1.5276,2,   2162.0,2,   2301.8,2,     0.68,3,   3.4869
  58GS20150410,   A01,   181,  1,     12,      4,2,20150418,1231, 58.6150, -34.7930, 2212,   1002.2,   3.7146,  34.8962,2,  34.8956,2,    295.8,2,    296.2,2,     9.07,2,    16.10,2,     0.00,2,     1.24,2,    2.335,2,   2.2088,2,   2158.9,2,   2300.4,2,     0.69,2,   3.6403
  58GS20150410,   A01,   181,  1,     12,      5,2,20150418,1231, 58.6150, -34.7930, 2212,    848.5,   3.7710,  34.8968,2,  34.8968,2,    296.9,2,    297.0,2,     8.95,2,    16.04,2,     0.14,2,     1.21,2,    2.355,2,    4.009,2,   2159.9,2,   2300.0,2,     0.69,2,   3.7087
  58GS20150410,   A01,   181,  1,     12,      6,2,20150418,1231, 58.6150, -34.7930, 2212,    646.9,   4.0340,  34.9216,2,  34.9226,2,    300.4,2,    300.8,2,     8.67,2,    16.08,2,     0.00,2,     1.20,2,    2.403,2,   3.1819,2,   2164.0,2,   2303.7,2,     0.65,2,   3.9861
  58GS20150410,   A01,   181,  1,     12,      7,2,20150418,1231, 58.6150, -34.7930, 2212,    501.7,   4.1309,  34.9263,2,  34.9267,2,    289.7,2,    289.0,2,     9.11,2,    16.40,2,     0.00,2,     1.19,2,    2.248,2,   3.2208,2,   2162.7,2,   2302.5,2,     0.66,2,   4.0940
  58GS20150410,   A01,   181,  1,     12,      8,2,20150418,1231, 58.6150, -34.7930, 2212,    396.7,   4.2917,  34.9366,2,  34.9366,2,    286.8,2,    286.7,2,     9.12,2,    16.34,2,     0.00,2,     1.20,2,    2.199,2,   3.7561,2,   2164.9,2,   2305.3,2,     0.66,2,   4.2623
  58GS20150410,   A01,   181,  1,     12,      9,2,20150418,1231, 58.6150, -34.7930, 2212,    299.9,   4.5062,  34.9564,2,  34.9553,2,    279.7,2,    278.8,2,     9.37,2,    16.53,2,     0.06,2,     1.22,2,    2.102,2,   3.2404,2,   2164.5,2,   2305.0,2,     0.63,2,   4.4837
  58GS20150410,   A01,   181,  1,     12,     10,2,20150418,1231, 58.6150, -34.7930, 2212,    201.8,   4.8087,  34.9719,2,  34.9722,2,    300.9,2,    302.2,2,     8.17,2,    15.65,2,     0.09,2,     1.12,2,    2.326,2,   2.4036,2,   2158.5,2,   2308.7,2,     0.67,2,   4.7932
  58GS20150410,   A01,   181,  1,     12,     11,2,20150418,1231, 58.6150, -34.7930, 2212,    102.3,   4.8748,  34.9743,2,  34.9746,2,    296.5,2,    296.2,2,     8.30,2,    15.61,2,     0.00,2,     1.13,2, -999.000,9,     -999,9,   2162.1,2,   2306.0,2,     0.65,2,   4.8670
  58GS20150410,   A01,   181,  1,     12,     12,2,20150418,1231, 58.6150, -34.7930, 2212,      9.1,   4.9218,  34.9774,2,  34.9771,2,    299.4,2,    299.1,2,     8.21,2,    15.24,2,     0.10,2,     1.05,2,    2.248,2,   3.1237,2,   2158.7,2,   2306.7,2,     0.65,2,   4.9211
  58GS20150410,   A01,   182,  1,     12,      1,2,20150419,0601, 58.4830, -33.8980, 2163,   2154.2,   3.2849,  34.9551,2,  34.9554,2,    276.4,2,    276.9,2,    12.60,2,    16.28,2,     0.00,2,     1.26,2,    1.683,2,  0.77835,2,   2170.2,2,   2306.3,2,     0.81,2,   3.1135
  58GS20150410,   A01,   182,  1,     12,      2,2,20150419,0601, 58.4830, -33.8980, 2163,   2003.0,   3.3250,  34.9565,2,  34.9561,2,    276.5,2,    276.1,2,    12.38,2,    16.41,2,     0.00,2,     1.21,2,    1.868,2,   1.1189,2,   2167.9,2,   2303.5,2,     0.85,2,   3.1672
  58GS20150410,   A01,   182,  1,     12,      3,2,20150419,0601, 58.4830, -33.8980, 2163,   1499.5,   3.6595,  34.9436,2,  34.9441,2,    275.6,2,   -999.0,9,    11.15,2,    16.48,2,     0.00,2,     1.24,2,    2.072,2,  0.43784,2,   2165.5,2,   2301.7,2,     0.69,2,   3.5432
  58GS20150410,   A01,   182,  1,     12,      4,2,20150419,0601, 58.4830, -33.8980, 2163,   1001.5,   3.7339,  34.8989,2,  34.8979,2,    302.1,2,    302.3,2,     8.75,2,    16.10,2,     0.00,2,     1.14,2,    3.084,3,   2.2282,2,   2163.9,2,   2298.5,2,     0.73,2,   3.6595
  58GS20150410,   A01,   182,  1,     12,      5,2,20150419,0601, 58.4830, -33.8980, 2163,    849.8,   3.7598,  34.9006,2,  34.9014,2,    301.0,2,    301.7,2,     8.76,2,    15.98,2,     0.00,2,     1.21,2,    2.209,2,   1.1677,2,   2163.3,2,   2299.3,2,     0.67,2,   3.6975
  58GS20150410,   A01,   182,  1,     12,      6,2,20150419,0601, 58.4830, -33.8980, 2163,    651.3,   3.7902,  34.9005,2,  34.9007,2,    301.8,2,    300.7,2,     8.66,2,    15.90,2,     0.09,2,     1.20,2,    2.559,2,   2.0823,2,   2164.6,2,   2299.4,2,     0.70,2,   3.7433
  58GS20150410,   A01,   182,  1,     12,      7,2,20150419,0601, 58.4830, -33.8980, 2163,    500.4,   3.9695,  34.9148,2,  34.9151,2,    303.6,2,    302.6,2,     8.75,2,    15.95,2,     0.00,2,     1.21,2,    2.666,2,    2.637,2,   2165.0,2,   2301.5,2,     0.68,2,   3.9333
  58GS20150410,   A01,   182,  1,     12,      8,2,20150419,0601, 58.4830, -33.8980, 2163,    398.3,   4.0417,  34.9175,2,  34.9174,2,    299.2,2,    299.0,2,     8.81,2,    16.08,2,     0.00,2,     1.19,2,    2.618,2,   2.2867,2,   2161.5,2,   2300.7,2,     0.64,2,   4.0130
  58GS20150410,   A01,   182,  1,     12,      9,2,20150419,0601, 58.4830, -33.8980, 2163,    299.9,   4.2059,  34.9329,2,  34.9319,2,    302.8,2,    302.9,2,     8.61,2,    15.78,2,     0.00,2,     1.18,2,    2.666,2,   2.8511,2,   2165.3,2,   2302.1,2,     0.68,2,   4.1841
  58GS20150410,   A01,   182,  1,     12,     10,2,20150419,0601, 58.4830, -33.8980, 2163,    196.8,   4.3983,  34.9408,2,  34.9414,2,    302.9,2,    304.4,2,     8.56,2,    15.76,2,     0.06,2,     1.14,2,    2.676,2,   2.7344,2,   2159.3,6,   2304.0,2,     0.70,2,   4.3838
  58GS20150410,   A01,   182,  1,     12,     11,2,20150419,0601, 58.4830, -33.8980, 2163,     95.3,   5.3334,  35.0142,2,  35.0136,2,    298.5,2,    298.3,2,     7.95,2,    15.25,2,     0.08,2,     1.09,2,    2.598,2,   2.3647,2,   2161.3,2,   2306.4,2,     0.62,2,   5.3258
  58GS20150410,   A01,   182,  1,     12,     12,2,20150419,0601, 58.4830, -33.8980, 2163,     11.7,   5.3559,  35.0167,2,  35.0173,2,    298.3,2,    298.4,2,     8.02,2,    14.93,2,     0.08,2,     1.06,2,    2.589,2,   2.6762,2,   2158.9,2,   2306.4,2,     0.70,2,   5.3550
  58GS20150410,   A01,   183,  1,     12,      1,2,20150419,1319, 58.3330, -33.0020, 1825,   1824.4,   3.5157,  34.9594,2,  34.9596,2,    274.7,2,    275.0,2,    11.92,2,    16.32,2,     0.00,2,     1.26,2,    1.878,2,   0.8173,2,   2165.6,2,   2302.8,2,     0.75,2,   3.3718
  58GS20150410,   A01,   183,  1,     12,      2,2,20150419,1319, 58.3330, -33.0020, 1825,   1502.0,   3.7446,  34.9529,2,  34.9523,2,    274.7,2,    274.3,2,    11.03,2,    16.41,2,     0.00,2,     1.25,2,    2.043,2,   1.0216,2,   2168.8,2,   2302.7,2,     0.75,2,   3.6271
  58GS20150410,   A01,   183,  1,     12,      3,2,20150419,1319, 58.3330, -33.0020, 1825,   1247.8,   3.8478,  34.9323,2,  34.9322,2,    277.4,2,    277.2,2,    10.39,2,    16.47,2,     0.00,2,     1.25,2,    2.267,2,   1.2747,2,   2166.5,2,   2302.8,2,     0.76,2,   3.7516
  58GS20150410,   A01,   183,  1,     12,      4,2,20150419,1319, 58.3330, -33.0020, 1825,   1000.5,   3.9225,  34.9097,2,  34.9092,2,    287.6,2,    287.6,2,     9.39,2,    16.38,2,     0.10,2,     1.22,2,    2.569,2,   1.4888,2,   2169.4,2,   2300.6,2,     0.68,2,   3.8467
  58GS20150410,   A01,   183,  1,     12,      5,2,20150419,1319, 58.3330, -33.0020, 1825,    799.3,   4.2181,  34.9306,2,  34.9315,2,    292.7,2,    293.1,2,     8.93,2,    16.26,2,     0.00,2,     1.23,2,    2.666,2,   2.5884,2,   2163.3,2,   2301.4,2,     0.65,2,   4.1569
  58GS20150410,   A01,   183,  1,     12,      6,2,20150419,1319, 58.3330, -33.0020, 1825,    649.8,   4.5816,  34.9483,2,  34.9498,2,    287.0,2,    286.7,2,     8.96,2,    16.29,2,     0.00,2,     1.24,2,    2.559,2,   1.6056,2,   2171.7,2,   2302.5,2,     0.66,2,   4.5307
  58GS20150410,   A01,   183,  1,     12,      7,2,20150419,1319, 58.3330, -33.0020, 1825,    501.9,   4.9004,  34.9716,2,  34.9730,2,    299.5,2,    300.1,2,     8.14,2,    15.58,2,     0.08,2,     1.14,2,    2.686,2,   2.3452,2,   2168.8,2,   2303.7,2,     0.68,2,   4.8604
  58GS20150410,   A01,   183,  1,     12,      8,2,20150419,1319, 58.3330, -33.0020, 1825,    399.6,   5.1089,  34.9946,2,  34.9915,2,    293.3,2,    292.7,2,     8.26,2,    15.67,2,     0.00,2,     1.18,2,    2.618,2,     2.17,2,   2161.4,2,   2304.0,2,     0.64,2,   5.0767
  58GS20150410,   A01,   183,  1,     12,      9,2,20150419,1319, 58.3330, -33.0020, 1825,    300.0,   5.4067,  35.0178,2,  35.0195,2,    285.6,2,    286.1,2,     8.29,2,    15.75,2,     0.00,2,     1.16,2,    2.501,2,    2.316,2,   2164.3,2,   2308.9,2,     0.68,2,   5.3820
  58GS20150410,   A01,   183,  1,     12,     10,2,20150419,1319, 58.3330, -33.0020, 1825,    201.8,   5.4689,  35.0251,2,  35.0247,2,    299.6,2,    299.6,2,     7.70,2,    15.09,2,     0.08,2,     1.10,2,    2.637,2,   1.4889,2,   2160.2,2,   2306.3,2,     0.65,2,   5.4523
  58GS20150410,   A01,   183,  1,     12,     11,2,20150419,1319, 58.3330, -33.0020, 1825,    100.5,   5.5958,  35.0346,2,  35.0355,2,    297.2,2,    297.1,2,     7.70,2,    15.05,2,     0.12,2,     1.09,2,    2.520,2,   2.4523,2,   2162.5,2,   2307.0,2,     0.65,2,   5.5875
  58GS20150410,   A01,   183,  1,     12,     12,2,20150419,1319, 58.3330, -33.0020, 1825,     10.8,   5.7400,  35.0495,2,  35.0496,2,    296.5,2,    296.2,2,     7.66,2,    14.58,2,     0.07,2,     1.05,2,    2.569,2,    2.102,2,   2160.9,2,   2308.4,2,     0.65,2,   5.7391
  58GS20150410,   A01,   184,  1,     12,      1,2,20150419,1823, 58.1640, -32.0170, 2112,   2121.4,   3.8027,  34.9757,2,  34.9751,2,    273.7,2,    274.3,2,    11.22,2,    16.23,2,     0.00,2,     1.26,2,    2.043,2,  0.88542,2,   2168.7,2,   2308.4,2,     0.75,2,   3.6262
  58GS20150410,   A01,   184,  1,     12,      2,2,20150419,1823, 58.1640, -32.0170, 2112,   1498.6,   3.8621,  34.9721,2,  34.9711,2,    273.8,2,    272.4,2,    10.78,2,    16.28,2,     0.00,2,     1.27,2,    2.072,2,   1.0411,2,   2167.0,2,   2307.9,2,     0.73,2,   3.7436
  58GS20150410,   A01,   184,  1,     12,      3,2,20150419,1823, 58.1640, -32.0170, 2112,   1249.3,   3.9330,  34.9584,2,  34.9583,2,    274.1,2,    272.6,2,    10.68,2,    16.52,2,     0.00,2,     1.25,2,    2.131,2,  0.62273,2,   2168.1,2,   2307.0,2,     0.72,3,   3.8358
  58GS20150410,   A01,   184,  1,     12,      4,2,20150419,1823, 58.1640, -32.0170, 2112,    999.9,   4.1844,  34.9404,2,  34.9415,2,    275.7,2,    274.4,2,    10.04,2,    16.76,2,     0.00,2,     1.22,2,    2.335,2,   1.7028,2,   2170.7,2,   2307.5,2,     0.70,2,   4.1066
  58GS20150410,   A01,   184,  1,     12,      5,2,20150419,1823, 58.1640, -32.0170, 2112,    848.7,   4.4683,  34.9475,2,  34.9512,2,    277.0,2,    281.8,2,     9.64,2,    16.76,2,     0.00,2,     1.22,2,    2.413,2,   1.2553,2,   2169.9,2,   2306.8,2,     0.68,2,   4.4013
  58GS20150410,   A01,   184,  1,     12,      6,2,20150419,1823, 58.1640, -32.0170, 2112,    745.7,   4.9601,  34.9848,2,  34.9817,2,    272.4,2,    271.8,2,     9.38,2,    16.64,2,     0.00,2,     1.22,2,    2.326,2,   1.5472,2,   2168.9,2,   2310.1,2,     0.66,2,   4.8990
  58GS20150410,   A01,   184,  1,     12,      7,2,20150419,1823, 58.1640, -32.0170, 2112,    649.3,   5.3927,  34.9976,2,  35.0026,2,    290.4,2,    291.0,2,     7.91,2,    15.63,2,     0.00,2,     1.14,2,    2.511,2,   1.9754,2,   2161.8,2,   2311.4,2,     0.63,2,   5.3378
  58GS20150410,   A01,   184,  1,     12,      8,2,20150419,1823, 58.1640, -32.0170, 2112,    500.0,   5.6981,  35.0331,2,  35.0363,2,    292.2,2,    292.1,2,     7.64,2,    15.38,2,     0.00,2,     1.10,2,    2.472,2,   1.9755,2,   2159.7,2,   2312.2,2,     0.65,2,   5.6551
  58GS20150410,   A01,   184,  1,     12,      9,2,20150419,1823, 58.1640, -32.0170, 2112,    402.4,   5.8980,  35.0621,2,  35.0607,2,    294.4,2,    294.6,2,     7.46,2,    15.11,2,     0.12,2,     1.09,2,    2.491,2,    2.608,2,   2161.7,2,   2315.4,2,     0.66,2,   5.8631
  58GS20150410,   A01,   184,  1,     12,     10,2,20150419,1823, 58.1640, -32.0170, 2112,    203.8,   5.9651,  35.0693,2,  35.0696,2,    297.5,2,    297.2,2,     7.36,2,    14.95,2,     0.17,2,     1.07,2,    2.501,2,   2.2674,2,   2160.0,2,   2314.9,2,     0.66,2,   5.9476
  58GS20150410,   A01,   184,  1,     12,     11,2,20150419,1823, 58.1640, -32.0170, 2112,    102.2,   5.9578,  35.0676,2,  35.0686,2,    298.1,2,    297.8,2,     7.38,2,    14.86,2,     0.09,2,     1.04,2,    2.491,2,   2.8806,2,   2158.3,2,   2313.5,2,     0.66,2,   5.9491
  58GS20150410,   A01,   184,  1,     12,     12,2,20150419,1823, 58.1640, -32.0170, 2112,      9.6,   5.9550,  35.0577,2,  35.0591,2,    298.8,2,    298.2,2,     7.43,2,    14.45,2,     0.08,2,     1.00,2,    2.491,2,    2.102,2,   2161.3,2,   2314.6,2,     0.67,2,   5.9542