BOTTLE,20180103PRINUNIVRMK
EXPOCODE,SECT_ID,STNNBR,CASTNO,SAMPNO,BTLNBR,BTLNBR_FLAG_W,DATE,TIME,LATITUDE,LONGITUDE,DEPTH,CTDPRS,CTDTMP,CTDSAL,CTDSAL_FLAG_W,SALNTY,SALNTY_FLAG_W,CTDOXY,CTDOXY_FLAG_W,OXYGEN,OXYGEN_FLAG_W,SILCAT,SILCAT_FLAG_W,NITRAT,NITRAT_FLAG_W,NITRIT,NITRIT_FLAG_W,PHSPHT,PHSPHT_FLAG_W,NH4,NH4_FLAG_W,ALKALI,ALKALI_FLAG_W,PH_TOT,PH_TOT_FLAG_W,PH_TMP,POC,POC_FLAG_W,PON,PON_FLAG_W,CHLORA,CHLORA_FLAG_W,PPHYTN,PPHYTN_FLAG_W,THETA,BTL_TIME,BTL_LAT,BTL_LON
,,,,,,,,,,,METERS,DBAR,ITS-90,PSS-78,,PSS-78,,UMOL/KG,,UMOL/KG,,UMOL/KG,,UMOL/KG,,UMOL/KG,,UMOL/KG,,UMOL/KG,,UMOL/KG,,,,DEG C,UG/KG,,UG/KG,,UG/KG,,UG/KG,,DEG C,,,
  096U20160314,  Eddy,    13,  1,     24,   1224,2,20160401,   0,-50.3978, 147.6331, 4362,      9.6,   7.8130,  33.9290,2,-999.0000, 9,    292.3,2,   -999.0,9,     2.34,2,    19.86,2,     0.28,2,     1.43,2, 0.238406947,2,   -999.0,9,-999.0000,9,  -999.00,  -999.00,9,  -999.00,9,  -999.00,9,  -999.00,9,   7.8121,     1818, -50.3970, 147.6325
  096U20160314,  Eddy,    13,  1,     23,   1223,2,20160401,   0,-50.3978, 147.6331, 4362,     14.1,   7.8100,  33.9270,2,-999.0000, 9,    291.9,2,   -999.0,9,     2.42,2,    19.89,2,     0.28,2,     1.43,2, 0.239232303,2,   -999.0,9,-999.0000,9,  -999.00,  -999.00,9,  -999.00,9,  -999.00,9,  -999.00,9,   7.8086,     1816, -50.3966, 147.6321
  096U20160314,  Eddy,    13,  1,     22,   1222,2,20160401,   0,-50.3978, 147.6331, 4362,     28.2,   7.8220,  33.9290,2,  33.9099, 2,    292.0,2,    290.6,2,     2.41,2,    19.85,2,     0.28,2,     1.43,2, 0.239998873,2,   -999.0,9,-999.0000,9,  -999.00,  -999.00,9,  -999.00,9,  -999.00,9,  -999.00,9,   7.8193,     1815, -50.3962, 147.6317
  096U20160314,  Eddy,    13,  1,     21,   1221,2,20160401,   0,-50.3978, 147.6331, 4362,     46.0,   7.8370,  33.9320,2,-999.0000, 9,    291.6,2,   -999.0,9,     2.38,2,    19.75,2,     0.28,2,     1.43,2,  0.24061778,2,   -999.0,9,-999.0000,9,  -999.00,  -999.00,9,  -999.00,9,  -999.00,9,  -999.00,9,   7.8325,     1813, -50.3959, 147.6314
  096U20160314,  Eddy,    13,  1,     20,   1220,2,20160401,   0,-50.3978, 147.6331, 4362,     60.9,   8.4680,  34.0870,2,  34.0613, 2,    287.0,2,    286.5,2,     2.12,2,    17.46,2,     0.29,2,     1.29,2, 0.213708403,2,   -999.0,9,-999.0000,9,  -999.00,  -999.00,9,  -999.00,9,  -999.00,9,  -999.00,9,   8.4618,     1812, -50.3957, 147.6314
  096U20160314,  Eddy,    13,  1,     19,   1219,2,20160401,   0,-50.3978, 147.6331, 4362,     80.8,   8.4350,  34.0850,2,-999.0000, 9,    287.4,2,   -999.0,9,     2.16,2,    17.43,2,     0.29,2,     1.29,2,   0.2237163,2,   -999.0,9,-999.0000,9,  -999.00,  -999.00,9,  -999.00,9,  -999.00,9,  -999.00,9,   8.4267,     1810, -50.3954, 147.6311
  096U20160314,  Eddy,    13,  1,     18,   1218,2,20160401,   0,-50.3978, 147.6331, 4362,     99.5,   7.5800,  33.9660,2,  33.9491, 2,    293.6,2,    290.9,2,     2.48,2,    19.63,2,     0.29,2,     1.43,2, 0.407293611,2,   -999.0,9,-999.0000,9,  -999.00,  -999.00,9,  -999.00,9,  -999.00,9,  -999.00,9,   7.5705,     1809, -50.3950, 147.6309
  096U20160314,  Eddy,    13,  1,     17,   1217,2,20160401,   0,-50.3978, 147.6331, 4362,    126.2,   6.5420,  34.0150,2,-999.0000, 9,    290.8,2,   -999.0,9,     3.77,2,    21.44,2,     0.45,2,     1.56,2, 0.335645461,2,   -999.0,9,-999.0000,9,  -999.00,  -999.00,9,  -999.00,9,  -999.00,9,  -999.00,9,   6.5309,     1807, -50.3945, 147.6306
  096U20160314,  Eddy,    13,  1,     16,   1216,2,20160401,   0,-50.3978, 147.6331, 4362,    150.4,   6.4760,  34.1190,2,  34.0983, 2,    285.4,2,    284.3,2,     5.15,2,    21.09,2,     0.11,2,     1.50,2, 0.030371996,2,   -999.0,9,-999.0000,9,  -999.00,  -999.00,9,  -999.00,9,  -999.00,9,  -999.00,9,   6.4628,     1805, -50.3942, 147.6304
  096U20160314,  Eddy,    13,  1,     15,   1215,2,20160401,   0,-50.3978, 147.6331, 4362,    175.9,   6.5160,  34.1610,2,-999.0000, 9,    281.8,2,   -999.0,9,     5.64,2,    20.92,2,     0.02,2,     1.48,2, 0.030657019,2,   -999.0,9,-999.0000,9,  -999.00,  -999.00,9,  -999.00,9,  -999.00,9,  -999.00,9,   6.5004,     1803, -50.3938, 147.6301
  096U20160314,  Eddy,    13,  1,     14,   1214,2,20160401,   0,-50.3978, 147.6331, 4362,    198.7,   6.2680,  34.1460,2,  34.1257, 2,    282.9,2,    281.8,2,     5.98,2,    21.36,2,     0.02,2,     1.51,2, 0.041686655,2,   -999.0,9,-999.0000,9,  -999.00,  -999.00,9,  -999.00,9,  -999.00,9,  -999.00,9,   6.2508,     1801, -50.3935, 147.6298
  096U20160314,  Eddy,    13,  1,     13,   1213,2,20160401,   0,-50.3978, 147.6331, 4362,    225.1,   6.1930,  34.1640,2,-999.0000, 9,    278.5,2,   -999.0,9,     6.52,2,    21.60,2,     0.01,2,     1.52,2, 0.031127132,2,   -999.0,9,-999.0000,9,  -999.00,  -999.00,9,  -999.00,9,  -999.00,9,  -999.00,9,   6.1736,     1800, -50.3932, 147.6297
  096U20160314,  Eddy,    13,  1,     12,   1212,2,20160401,   0,-50.3978, 147.6331, 4362,    249.2,   6.1740,  34.1750,2,  34.1536, 2,    276.3,2,    276.4,2,     6.95,2,    21.78,2,     0.01,2,     1.53,2, 0.046218871,2,   -999.0,9,-999.0000,9,  -999.00,  -999.00,9,  -999.00,9,  -999.00,9,  -999.00,9,   6.1525,     1758, -50.3928, 147.6294
  096U20160314,  Eddy,    13,  1,     11,   1211,2,20160401,   0,-50.3978, 147.6331, 4362,    300.3,   6.1010,  34.2040,2,-999.0000, 9,    270.3,2,   -999.0,9,     7.92,2,    22.28,2,     0.01,2,     1.56,2, 0.077706183,2,   -999.0,9,-999.0000,9,  -999.00,  -999.00,9,  -999.00,9,  -999.00,9,  -999.00,9,   6.0751,     1756, -50.3924, 147.6290
  096U20160314,  Eddy,    13,  1,     10,   1210,2,20160401,   0,-50.3978, 147.6331, 4362,    351.6,   6.1490,  34.2580,2,  34.2364, 2,    257.5,2,    257.6,2,     9.74,2,    23.05,2,     0.01,2,     1.61,2,   0.0549892,2,   -999.0,9,-999.0000,9,  -999.00,  -999.00,9,  -999.00,9,  -999.00,9,  -999.00,9,   6.1184,     1754, -50.3920, 147.6286
  096U20160314,  Eddy,    13,  1,      9,   1209,2,20160401,   0,-50.3978, 147.6331, 4362,    398.3,   5.5360,  34.2020,2,-999.0000, 9,    261.1,2,   -999.0,9,    11.30,2,    24.27,2,     0.01,2,     1.69,2, 0.048074461,2,   -999.0,9,-999.0000,9,  -999.00,  -999.00,9,  -999.00,9,  -999.00,9,  -999.00,9,   5.5031,     1752, -50.3916, 147.6282
  096U20160314,  Eddy,    13,  1,      8,   1208,2,20160401,   0,-50.3978, 147.6331, 4362,    499.7,   5.4690,  34.2870,2,  34.2655, 2,    234.6,2,    235.5,2,    15.90,2,    26.33,2,     0.01,2,     1.83,2, 0.066321226,2,   -999.0,9,-999.0000,9,  -999.00,  -999.00,9,  -999.00,9,  -999.00,9,  -999.00,9,   5.4276,     1749, -50.3910, 147.6276
  096U20160314,  Eddy,    13,  1,      7,   1207,2,20160401,   0,-50.3978, 147.6331, 4362,    599.9,   5.0310,  34.2980,2,-999.0000, 9,    224.9,2,   -999.0,9,    20.29,2,    28.11,2,     0.01,2,     1.94,2,  0.06387321,2,   -999.0,9,-999.0000,9,  -999.00,  -999.00,9,  -999.00,9,  -999.00,9,  -999.00,9,   4.9828,     1746, -50.3905, 147.6269
  096U20160314,  Eddy,    13,  1,      6,   1206,2,20160401,   0,-50.3978, 147.6331, 4362,    697.0,   4.4410,  34.2980,2,  34.2769, 2,    219.2,2,    220.2,2,    25.97,2,    29.65,2,     0.01,2,     2.06,2, 0.039846085,2,   -999.0,9,-999.0000,9,  -999.00,  -999.00,9,  -999.00,9,  -999.00,9,  -999.00,9,   4.3877,     1743, -50.3901, 147.6264
  096U20160314,  Eddy,    13,  1,      5,   1205,2,20160401,   0,-50.3978, 147.6331, 4362,    800.9,   3.9550,  34.3240,2,-999.0000, 9,    209.5,2,   -999.0,9,    33.42,2,    31.14,2,     0.00,2,     2.17,2, 0.057776182,2,   -999.0,9,-999.0000,9,  -999.00,  -999.00,9,  -999.00,9,  -999.00,9,  -999.00,9,   3.8961,     1740, -50.3897, 147.6260
  096U20160314,  Eddy,    13,  1,      4,   1204,2,20160401,   0,-50.3978, 147.6331, 4362,    900.9,   3.3300,  34.3300,2,  34.3080, 2,    204.3,2,    206.0,2,    40.91,2,    32.53,2,     0.00,2,     2.26,2, 0.055334909,2,   -999.0,9,-999.0000,9,  -999.00,  -999.00,9,  -999.00,9,  -999.00,9,  -999.00,9,   3.2675,     1737, -50.3893, 147.6257
  096U20160314,  Eddy,    13,  1,      3,   1203,2,20160401,   0,-50.3978, 147.6331, 4362,   1000.2,   3.1190,  34.3660,2,-999.0000, 9,    195.9,2,   -999.0,9,    46.99,2,    33.22,2,     0.00,2,     2.31,2,  0.06071595,2,   -999.0,9,-999.0000,9,  -999.00,  -999.00,9,  -999.00,9,  -999.00,9,  -999.00,9,   3.0504,     1734, -50.3888, 147.6251
  096U20160314,  Eddy,    13,  1,      2,   1202,2,20160401,   0,-50.3978, 147.6331, 4362,   1249.1,   2.8130,  34.5060,2,  34.4847, 2,    175.8,2,    178.4,2,    62.22,2,    33.99,2,     0.00,2,     2.38,2, 0.082035176,2,   -999.0,9,-999.0000,9,  -999.00,  -999.00,9,  -999.00,9,  -999.00,9,  -999.00,9,   2.7276,     1729, -50.3882, 147.6249
  096U20160314,  Eddy,    13,  1,      1,   1201,2,20160401,   0,-50.3978, 147.6331, 4362,   1498.2,   2.5750,  34.6160,2,  34.5938, 2,    171.9,2,    174.1,2,    70.90,2,    33.37,2,     0.00,2,     2.33,2, 0.083166524,2,   -999.0,9,-999.0000,9,  -999.00,  -999.00,9,  -999.00,9,  -999.00,9,  -999.00,9,   2.4721,     1722, -50.3876, 147.6249
  096U20160314,  Eddy,    14,  1,      0,   1400,2,20160401,   0,-50.3924, 147.3478, 4421,      0.0,-999.0000,-999.0000,9,-999.0000, 9,   -999.0,9,   -999.0,9,    72.29,4,    33.27,4,     0.00,2,     2.34,4, 0.039248274,2,   -999.0,9,-999.0000,9,  -999.00,  -999.00,9,  -999.00,9,  -999.00,9,  -999.00,9,-999.0000,     2027,-999.0000,-999.0000
  096U20160314,  Eddy,    14,  1,     24,   1224,2,20160401,   0,-50.3924, 147.3478, 4421,      8.5,   7.2660,  33.8190,2,-999.0000, 9,    290.1,2,   -999.0,9,     2.69,2,    21.96,2,     0.28,2,     1.57,2, 0.301857887,2,   -999.0,9,-999.0000,9,  -999.00,  -999.00,9,  -999.00,9,  -999.00,9,  -999.00,9,   7.2652,     2114, -50.3922, 147.3481
  096U20160314,  Eddy,    14,  1,     23,   1223,2,20160401,   0,-50.3924, 147.3478, 4421,     14.8,   7.2680,  33.8190,2,  33.7983, 2,    289.9,2,   -999.0,9,     2.78,2,    21.95,2,     0.28,2,     1.57,2, 0.319766652,2,   -999.0,9,-999.0000,9,  -999.00,  -999.00,9,  -999.00,9,  -999.00,9,  -999.00,9,   7.2666,     2113, -50.3921, 147.3484
  096U20160314,  Eddy,    14,  1,     22,   1222,2,20160401,   0,-50.3924, 147.3478, 4421,     30.7,   7.2700,  33.8190,2,-999.0000, 9,    289.1,2,   -999.0,9,     2.81,2,    21.98,2,     0.28,2,     1.57,2, 0.322778113,2,   -999.0,9,-999.0000,9,  -999.00,  -999.00,9,  -999.00,9,  -999.00,9,  -999.00,9,   7.2672,     2112, -50.3920, 147.3485
  096U20160314,  Eddy,    14,  1,     21,   1221,2,20160401,   0,-50.3924, 147.3478, 4421,     42.9,   7.2720,  33.8190,2,  33.7983, 2,    289.7,2,   -999.0,9,     2.81,2,    21.90,2,     0.28,2,     1.57,2, 0.333598885,2,   -999.0,9,-999.0000,9,  -999.00,  -999.00,9,  -999.00,9,  -999.00,9,  -999.00,9,   7.2680,     2110, -50.3918, 147.3486
  096U20160314,  Eddy,    14,  1,     20,   1220,2,20160401,   0,-50.3924, 147.3478, 4421,     60.4,   7.2710,  33.8190,2,-999.0000, 9,    291.3,2,   -999.0,9,     2.82,2,    21.89,2,     0.28,2,     1.57,2, 0.331437831,2,   -999.0,9,-999.0000,9,  -999.00,  -999.00,9,  -999.00,9,  -999.00,9,  -999.00,9,   7.2654,     2109, -50.3917, 147.3486
  096U20160314,  Eddy,    14,  1,     19,   1219,2,20160401,   0,-50.3924, 147.3478, 4421,     80.9,   7.2360,  33.8250,2,  33.8048, 2,    290.9,2,   -999.0,9,     2.82,2,    21.95,2,     0.28,2,     1.57,2, 0.342361994,2,   -999.0,9,-999.0000,9,  -999.00,  -999.00,9,  -999.00,9,  -999.00,9,  -999.00,9,   7.2285,     2108, -50.3915, 147.3486
  096U20160314,  Eddy,    14,  1,     18,   1218,2,20160401,   0,-50.3924, 147.3478, 4421,    102.5,   6.5100,  33.8490,2,-999.0000, 9,    293.0,2,   -999.0,9,     2.95,2,    22.25,2,     0.29,2,     1.61,2, 0.599132077,2,   -999.0,9,-999.0000,9,  -999.00,  -999.00,9,  -999.00,9,  -999.00,9,  -999.00,9,   6.5010,     2106, -50.3914, 147.3487
  096U20160314,  Eddy,    14,  1,     17,   1217,2,20160401,   0,-50.3924, 147.3478, 4421,    126.9,   5.8910,  33.9010,2,  33.8789, 2,    292.6,2,   -999.0,9,     3.71,2,    22.49,2,     0.41,2,     1.66,2, 0.801635742,2,   -999.0,9,-999.0000,9,  -999.00,  -999.00,9,  -999.00,9,  -999.00,9,  -999.00,9,   5.8805,     2105, -50.3913, 147.3487
  096U20160314,  Eddy,    14,  1,     16,   1216,2,20160401,   0,-50.3924, 147.3478, 4421,    150.0,   5.5490,  33.9810,2,-999.0000, 9,    290.7,2,   -999.0,9,     5.54,2,    22.63,2,     0.50,2,     1.65,2, 0.162191459,2,   -999.0,9,-999.0000,9,  -999.00,  -999.00,9,  -999.00,9,  -999.00,9,  -999.00,9,   5.5369,     2104, -50.3912, 147.3488
  096U20160314,  Eddy,    14,  1,     15,   1215,2,20160401,   0,-50.3924, 147.3478, 4421,    175.3,   5.1920,  34.0240,2,  33.9948, 2,    287.5,2,   -999.0,9,     7.47,2,    23.53,2,     0.12,2,     1.67,2, 0.052440457,2,   -999.0,9,-999.0000,9,  -999.00,  -999.00,9,  -999.00,9,  -999.00,9,  -999.00,9,   5.1783,     2102, -50.3912, 147.3489
  096U20160314,  Eddy,    14,  1,     14,   1214,2,20160401,   0,-50.3924, 147.3478, 4421,    200.0,   5.1470,  34.0680,2,-999.0000, 9,    282.4,2,   -999.0,9,     8.67,2,    23.72,2,     0.02,2,     1.67,2, 0.055356048,2,   -999.0,9,-999.0000,9,  -999.00,  -999.00,9,  -999.00,9,  -999.00,9,  -999.00,9,   5.1314,     2101, -50.3910, 147.3490
  096U20160314,  Eddy,    14,  1,     13,   1213,2,20160401,   0,-50.3924, 147.3478, 4421,    224.4,   4.9670,  34.0660,2,  34.0456, 2,    283.2,2,   -999.0,9,     9.30,2,    24.11,2,     0.01,2,     1.69,2, 0.027957438,2,   -999.0,9,-999.0000,9,  -999.00,  -999.00,9,  -999.00,9,  -999.00,9,  -999.00,9,   4.9498,     2100, -50.3909, 147.3490
  096U20160314,  Eddy,    14,  1,     12,   1212,2,20160401,   0,-50.3924, 147.3478, 4421,    251.1,   4.5000,  34.0270,2,-999.0000, 9,    286.9,2,   -999.0,9,     9.92,2,    24.72,2,     0.01,2,     1.73,2, 0.020621361,2,   -999.0,9,-999.0000,9,  -999.00,  -999.00,9,  -999.00,9,  -999.00,9,  -999.00,9,   4.4816,     2058, -50.3907, 147.3490
  096U20160314,  Eddy,    14,  1,     11,   1211,2,20160401,   0,-50.3924, 147.3478, 4421,    299.4,   4.8020,  34.1250,2,  34.1034, 2,    268.2,2,   -999.0,9,    12.12,2,    25.16,2,     0.01,2,     1.76,2, 0.048185151,2,   -999.0,9,-999.0000,9,  -999.00,  -999.00,9,  -999.00,9,  -999.00,9,  -999.00,9,   4.7793,     2056, -50.3904, 147.3488
  096U20160314,  Eddy,    14,  1,     10,   1210,2,20160401,   0,-50.3924, 147.3478, 4421,    350.9,   4.7340,  34.1520,2,-999.0000, 9,    258.4,2,   -999.0,9,    14.05,2,    25.94,2,     0.01,2,     1.81,2, 0.051013337,2,   -999.0,9,-999.0000,9,  -999.00,  -999.00,9,  -999.00,9,  -999.00,9,  -999.00,9,   4.7074,     2054, -50.3900, 147.3486
  096U20160314,  Eddy,    14,  1,      9,   1209,2,20160401,   0,-50.3924, 147.3478, 4421,    399.0,   4.7620,  34.1960,2,  34.1757, 2,    248.0,2,   -999.0,9,    15.88,2,    26.73,2,     0.01,2,     1.86,2, 0.058833447,2,   -999.0,9,-999.0000,9,  -999.00,  -999.00,9,  -999.00,9,  -999.00,9,  -999.00,9,   4.7315,     2052, -50.3897, 147.3486
  096U20160314,  Eddy,    14,  1,      8,   1208,2,20160401,   0,-50.3924, 147.3478, 4421,    498.3,   4.2950,  34.2070,2,-999.0000, 9,    239.4,2,   -999.0,9,    20.31,2,    28.41,2,     0.00,2,     1.97,2,  0.05578858,2,   -999.0,9,-999.0000,9,  -999.00,  -999.00,9,  -999.00,9,  -999.00,9,  -999.00,9,   4.2583,     2049, -50.3898, 147.3488
  096U20160314,  Eddy,    14,  1,      7,   1207,2,20160401,   0,-50.3924, 147.3478, 4421,    601.4,   4.0890,  34.2660,2,  34.2444, 2,    221.7,2,   -999.0,9,    26.51,2,    30.02,2,     0.00,2,     2.08,2, 0.054032091,2,   -999.0,9,-999.0000,9,  -999.00,  -999.00,9,  -999.00,9,  -999.00,9,  -999.00,9,   4.0452,     2047, -50.3898, 147.3490
  096U20160314,  Eddy,    14,  1,      6,   1206,2,20160401,   0,-50.3924, 147.3478, 4421,    698.1,   3.5390,  34.2530,2,-999.0000, 9,    220.7,2,   -999.0,9,    31.28,2,    31.08,2,     0.00,2,     2.16,2, 0.054250261,2,   -999.0,9,-999.0000,9,  -999.00,  -999.00,9,  -999.00,9,  -999.00,9,  -999.00,9,   3.4906,     2044, -50.3897, 147.3489
  096U20160314,  Eddy,    14,  1,      5,   1205,2,20160401,   0,-50.3924, 147.3478, 4421,    801.4,   3.2980,  34.3080,2,  34.2860, 2,    206.1,2,   -999.0,9,    39.23,2,    32.36,2,     0.00,2,     2.25,2,   0.0728713,2,   -999.0,9,-999.0000,9,  -999.00,  -999.00,9,  -999.00,9,  -999.00,9,  -999.00,9,   3.2432,     2041, -50.3897, 147.3489
  096U20160314,  Eddy,    14,  1,      4,   1204,2,20160401,   0,-50.3924, 147.3478, 4421,    898.0,   3.1670,  34.3720,2,-999.0000, 9,    192.3,2,   -999.0,9,    46.76,2,    33.27,2,     0.00,2,     2.32,2, 0.082706004,2,   -999.0,9,-999.0000,9,  -999.00,  -999.00,9,  -999.00,9,  -999.00,9,  -999.00,9,   3.1058,     2038, -50.3895, 147.3487
  096U20160314,  Eddy,    14,  1,      3,   1203,2,20160401,   0,-50.3924, 147.3478, 4421,   1003.9,   2.9970,  34.4250,2,  34.4018, 2,    183.5,2,   -999.0,9,    53.74,2,    33.77,2,     0.00,2,     2.37,2, 0.085633263,2,   -999.0,9,-999.0000,9,  -999.00,  -999.00,9,  -999.00,9,  -999.00,9,  -999.00,9,   2.9290,     2034, -50.3887, 147.3483
  096U20160314,  Eddy,    14,  1,      2,   1202,2,20160401,   0,-50.3924, 147.3478, 4421,   1251.4,   2.7080,  34.5550,2,-999.0000, 9,    169.9,2,   -999.0,9,    66.59,2,    33.87,2,     0.00,2,     2.38,2, 0.085637605,2,   -999.0,9,-999.0000,9,  -999.00,  -999.00,9,  -999.00,9,  -999.00,9,  -999.00,9,   2.6233,     2028, -50.3880, 147.3482
  096U20160314,  Eddy,    14,  1,      1,   1201,2,20160401,   0,-50.3924, 147.3478, 4421,   1501.6,   2.5190,  34.6270,2,  34.6048, 2,    172.0,2,   -999.0,9,    72.28,2,    33.25,2,     0.00,2,     2.34,2, 0.066952751,2,   -999.0,9,-999.0000,9,  -999.00,  -999.00,9,  -999.00,9,  -999.00,9,  -999.00,9,   2.4165,     2022, -50.3874, 147.3480