BOTTLE,20180103PRINUNIVRMK
EXPOCODE,SECT_ID,STNNBR,CASTNO,SAMPNO,BTLNBR,BTLNBR_FLAG_W,DATE,TIME,LATITUDE,LONGITUDE,DEPTH,CTDPRS,CTDTMP,CTDSAL,CTDSAL_FLAG_W,SALNTY,SALNTY_FLAG_W,CTDOXY,CTDOXY_FLAG_W,OXYGEN,OXYGEN_FLAG_W,SILCAT,SILCAT_FLAG_W,NITRAT,NITRAT_FLAG_W,NITRIT,NITRIT_FLAG_W,PHSPHT,PHSPHT_FLAG_W,NH4,NH4_FLAG_W,ALKALI,ALKALI_FLAG_W,PH_TOT,PH_TOT_FLAG_W,PH_TMP,POC,POC_FLAG_W,PON,PON_FLAG_W,CHLORA,CHLORA_FLAG_W,PPHYTN,PPHYTN_FLAG_W,THETA,BTL_TIME,BTL_LAT,BTL_LON
,,,,,,,,,,,METERS,DBAR,ITS-90,PSS-78,,PSS-78,,UMOL/KG,,UMOL/KG,,UMOL/KG,,UMOL/KG,,UMOL/KG,,UMOL/KG,,UMOL/KG,,UMOL/KG,,,,DEG C,UG/KG,,UG/KG,,UG/KG,,UG/KG,,DEG C,,,
  096U20160314,  Eddy,    30,  1,     24,   1224,2,20160408,   0,-51.9619, 149.3134, 4366,     10.0,   9.6190,  34.4000,2,  34.3787, 2,    276.7,2,   -999.0,9,     2.11,2,    12.69,2,     0.27,2,     1.00,2, 0.231275879,2,   -999.0,9,-999.0000,9,  -999.00,  -999.00,9,  -999.00,9,  -999.00,9,  -999.00,9,   9.6179,      957, -51.9617, 149.3122
  096U20160314,  Eddy,    30,  1,     23,   1223,2,20160408,   0,-51.9619, 149.3134, 4366,     20.0,   9.6180,  34.4000,2,-999.0000, 9,    276.8,2,    273.7,2,     2.08,2,    12.70,2,     0.27,2,     1.01,2, 0.207187741,2,   -999.0,9,-999.0000,9,  -999.00,  -999.00,9,  -999.00,9,  -999.00,9,  -999.00,9,   9.6158,      956, -51.9617, 149.3120
  096U20160314,  Eddy,    30,  1,     22,   1222,2,20160408,   0,-51.9619, 149.3134, 4366,     30.2,   9.6240,  34.4000,2,  34.3783, 2,    276.6,2,   -999.0,9,     2.09,2,    12.73,2,     0.27,2,     1.01,2, 0.217228177,2,   -999.0,9,-999.0000,9,  -999.00,  -999.00,9,  -999.00,9,  -999.00,9,  -999.00,9,   9.6206,      955, -51.9618, 149.3120
  096U20160314,  Eddy,    30,  1,     21,   1221,2,20160408,   0,-51.9619, 149.3134, 4366,     45.9,   9.6280,  34.4000,2,-999.0000, 9,    277.1,2,    273.6,2,     2.13,2,    12.71,2,     0.27,2,     1.00,2, 0.210748373,2,   -999.0,9,-999.0000,9,  -999.00,  -999.00,9,  -999.00,9,  -999.00,9,  -999.00,9,   9.6229,      954, -51.9619, 149.3119
  096U20160314,  Eddy,    30,  1,     20,   1220,2,20160408,   0,-51.9619, 149.3134, 4366,     60.8,   9.6310,  34.4010,2,  34.3801, 2,    276.4,2,   -999.0,9,     2.12,2,    12.71,2,     0.27,2,     1.00,2, 0.205473628,2,   -999.0,9,-999.0000,9,  -999.00,  -999.00,9,  -999.00,9,  -999.00,9,  -999.00,9,   9.6242,      952, -51.9620, 149.3118
  096U20160314,  Eddy,    30,  1,     19,   1219,2,20160408,   0,-51.9619, 149.3134, 4366,     79.8,   9.6390,  34.4020,2,-999.0000, 9,    276.1,2,    273.7,2,     2.06,2,    12.71,2,     0.27,2,     1.00,2, 0.221687304,2,   -999.0,9,-999.0000,9,  -999.00,  -999.00,9,  -999.00,9,  -999.00,9,  -999.00,9,   9.6301,      951, -51.9622, 149.3116
  096U20160314,  Eddy,    30,  1,     18,   1218,2,20160408,   0,-51.9619, 149.3134, 4366,    101.7,   9.6610,  34.4130,2,  34.3947, 2,    276.0,2,   -999.0,9,     2.14,2,    12.73,2,     0.26,2,     1.00,2, 0.244664937,3,   -999.0,9,-999.0000,9,  -999.00,  -999.00,9,  -999.00,9,  -999.00,9,  -999.00,9,   9.6496,      949, -51.9624, 149.3115
  096U20160314,  Eddy,    30,  1,     17,   1217,2,20160408,   0,-51.9619, 149.3134, 4366,    126.7,   9.2430,  34.5770,2,-999.0000, 9,    267.3,2,    264.6,2,     4.19,2,    14.54,2,     0.02,2,     1.08,2, 0.105630195,3,   -999.0,9,-999.0000,9,  -999.00,  -999.00,9,  -999.00,9,  -999.00,9,  -999.00,9,   9.2291,      948, -51.9624, 149.3113
  096U20160314,  Eddy,    30,  1,     16,   1216,2,20160408,   0,-51.9619, 149.3134, 4366,    151.2,   9.1850,  34.5940,2,  34.5736, 2,    267.5,2,   -999.0,9,     4.34,2,    14.56,2,     0.02,2,     1.08,2, 0.070279024,2,   -999.0,9,-999.0000,9,  -999.00,  -999.00,9,  -999.00,9,  -999.00,9,  -999.00,9,   9.1685,      946, -51.9626, 149.3112
  096U20160314,  Eddy,    30,  1,     15,   1215,2,20160408,   0,-51.9619, 149.3134, 4366,    175.6,   9.1660,  34.6060,2,-999.0000, 9,    267.3,2,    264.9,2,     4.34,2,    14.49,2,     0.02,2,     1.08,2,  0.06508338,2,   -999.0,9,-999.0000,9,  -999.00,  -999.00,9,  -999.00,9,  -999.00,9,  -999.00,9,   9.1468,      945, -51.9628, 149.3113
  096U20160314,  Eddy,    30,  1,     14,   1214,2,20160408,   0,-51.9619, 149.3134, 4366,    200.3,   9.1610,  34.6130,2,  34.5924, 2,    266.0,2,   -999.0,9,     4.44,2,    14.63,2,     0.01,2,     1.08,2, 0.097183457,2,   -999.0,9,-999.0000,9,  -999.00,  -999.00,9,  -999.00,9,  -999.00,9,  -999.00,9,   9.1391,      943, -51.9630, 149.3112
  096U20160314,  Eddy,    30,  1,     13,   1213,2,20160408,   0,-51.9619, 149.3134, 4366,    226.7,   9.0620,  34.6040,2,-999.0000, 9,    265.1,2,    262.6,2,     4.55,2,    14.96,2,     0.02,2,     1.10,2,  0.11602693,2,   -999.0,9,-999.0000,9,  -999.00,  -999.00,9,  -999.00,9,  -999.00,9,  -999.00,9,   9.0373,      941, -51.9632, 149.3111
  096U20160314,  Eddy,    30,  1,     12,   1212,2,20160408,   0,-51.9619, 149.3134, 4366,    249.4,   9.0380,  34.6070,2,  34.5854, 2,    264.4,2,   -999.0,9,     4.60,2,    15.06,2,     0.01,2,     1.11,2, 0.163181647,2,   -999.0,9,-999.0000,9,  -999.00,  -999.00,9,  -999.00,9,  -999.00,9,  -999.00,9,   9.0109,      940, -51.9634, 149.3109
  096U20160314,  Eddy,    30,  1,     11,   1211,2,20160408,   0,-51.9619, 149.3134, 4366,    302.1,   8.8810,  34.5960,2,-999.0000, 9,    262.5,2,    260.7,2,     4.78,2,    15.60,2,     0.01,2,     1.15,2, 0.151063431,2,   -999.0,9,-999.0000,9,  -999.00,  -999.00,9,  -999.00,9,  -999.00,9,  -999.00,9,   8.8484,      938, -51.9636, 149.3107
  096U20160314,  Eddy,    30,  1,     10,   1210,2,20160408,   0,-51.9619, 149.3134, 4366,    348.6,   8.8650,  34.6080,2,  34.5861, 2,    261.9,2,   -999.0,9,     4.90,2,    15.63,2,     0.01,2,     1.15,2,  0.13352867,2,   -999.0,9,-999.0000,9,  -999.00,  -999.00,9,  -999.00,9,  -999.00,9,  -999.00,9,   8.8273,      935, -51.9638, 149.3108
  096U20160314,  Eddy,    30,  1,      9,   1209,2,20160408,   0,-51.9619, 149.3134, 4366,    402.8,   8.7630,  34.5980,2,-999.0000, 9,    259.6,2,    258.4,2,     5.09,2,    15.97,2,     0.01,2,     1.17,2, 0.131448544,2,   -999.0,9,-999.0000,9,  -999.00,  -999.00,9,  -999.00,9,  -999.00,9,  -999.00,9,   8.7196,      933, -51.9639, 149.3107
  096U20160314,  Eddy,    30,  1,      8,   1208,2,20160408,   0,-51.9619, 149.3134, 4366,    501.3,   8.3000,  34.5390,2,  34.5192, 2,    254.6,2,   -999.0,9,     6.25,2,    17.83,2,     0.01,2,     1.28,2, 0.134492604,2,   -999.0,9,-999.0000,9,  -999.00,  -999.00,9,  -999.00,9,  -999.00,9,  -999.00,9,   8.2475,      930, -51.9646, 149.3104
  096U20160314,  Eddy,    30,  1,      7,   1207,2,20160408,   0,-51.9619, 149.3134, 4366,    598.8,   7.5390,  34.4520,2,-999.0000, 9,    240.1,2,    239.4,2,     8.98,2,    20.87,2,     0.01,2,     1.47,2, 0.145314756,2,   -999.0,9,-999.0000,9,  -999.00,  -999.00,9,  -999.00,9,  -999.00,9,  -999.00,9,   7.4794,      927, -51.9650, 149.3106
  096U20160314,  Eddy,    30,  1,      6,   1206,2,20160408,   0,-51.9619, 149.3134, 4366,    700.2,   6.7770,  34.4160,2,  34.3947, 2,    222.4,2,   -999.0,9,    13.61,2,    24.02,2,     0.00,2,     1.68,2, 0.152568656,2,   -999.0,9,-999.0000,9,  -999.00,  -999.00,9,  -999.00,9,  -999.00,9,  -999.00,9,   6.7109,      923, -51.9654, 149.3104
  096U20160314,  Eddy,    30,  1,      5,   1205,2,20160408,   0,-51.9619, 149.3134, 4366,    801.6,   6.1540,  34.4060,2,-999.0000, 9,    210.7,2,    210.5,2,    18.62,2,    26.51,2,     0.01,2,     1.84,2, 0.159958959,2,   -999.0,9,-999.0000,9,  -999.00,  -999.00,9,  -999.00,9,  -999.00,9,  -999.00,9,   6.0815,      920, -51.9655, 149.3099
  096U20160314,  Eddy,    30,  1,      4,   1204,2,20160408,   0,-51.9619, 149.3134, 4366,    901.6,   5.3280,  34.3790,2,  34.3589, 2,    206.3,2,   -999.0,9,    25.53,2,    28.53,2,     0.00,2,     1.98,2, 0.136689371,2,   -999.0,9,-999.0000,9,  -999.00,  -999.00,9,  -999.00,9,  -999.00,9,  -999.00,9,   5.2515,      917, -51.9659, 149.3099
  096U20160314,  Eddy,    30,  1,      3,   1203,2,20160408,   0,-51.9619, 149.3134, 4366,    998.4,   4.4310,  34.3350,2,-999.0000, 9,    210.5,2,    210.3,2,    30.42,2,    30.10,2,     0.00,2,     2.10,2, 0.138540761,2,   -999.0,9,-999.0000,9,  -999.00,  -999.00,9,  -999.00,9,  -999.00,9,  -999.00,9,   4.3524,      914, -51.9662, 149.3096
  096U20160314,  Eddy,    30,  1,      2,   1202,2,20160408,   0,-51.9619, 149.3134, 4366,   1251.0,   3.4320,  34.4200,2,  34.3978, 2,    187.3,2,   -999.0,9,    50.65,2,    32.84,2,     0.00,2,     2.30,2, 0.129592554,2,   -999.0,9,-999.0000,9,  -999.00,  -999.00,9,  -999.00,9,  -999.00,9,  -999.00,9,   3.3407,      908, -51.9666, 149.3091
  096U20160314,  Eddy,    30,  1,      1,   1201,2,20160408,   0,-51.9619, 149.3134, 4366,   1499.7,   2.9170,  34.5200,2,-999.0000, 9,    173.2,2,    175.2,2,    64.77,2,    33.76,2,     0.00,2,     2.37,2, 0.167778264,3,   -999.0,9,-999.0000,9,  -999.00,  -999.00,9,  -999.00,9,  -999.00,9,  -999.00,9,   2.8103,      903, -51.9673, 149.3088
  096U20160314,  Eddy,    32,  1,     24,   1224,2,20160409,   0,-51.9496, 149.0631, 4358,      5.9,   9.4040,  34.3660,2,-999.0000, 9,    277.8,2,   -999.0,9,     1.51,2,    12.96,2,     0.27,2,     1.01,2, 0.172727688,2,   -999.0,9,-999.0000,9,  -999.00,  -999.00,9,  -999.00,9,  -999.00,9,  -999.00,9,   9.4034,      919, -51.9495, 149.0637
  096U20160314,  Eddy,    32,  1,     23,   1223,2,20160409,   0,-51.9496, 149.0631, 4358,     16.5,   9.4110,  34.3660,2,  34.3445, 2,    278.4,2,    275.3,2,     1.62,2,    12.98,2,     0.27,2,     1.01,2, 0.162679115,2,   -999.0,9,-999.0000,9,  -999.00,  -999.00,9,  -999.00,9,  -999.00,9,  -999.00,9,   9.4092,      918, -51.9494, 149.0638
  096U20160314,  Eddy,    32,  1,     22,   1222,2,20160409,   0,-51.9496, 149.0631, 4358,     29.3,   9.4160,  34.3660,2,-999.0000, 9,    277.9,2,   -999.0,9,     1.67,2,    12.98,2,     0.27,2,     1.01,2, 0.167429842,2,   -999.0,9,-999.0000,9,  -999.00,  -999.00,9,  -999.00,9,  -999.00,9,  -999.00,9,   9.4128,      917, -51.9493, 149.0638
  096U20160314,  Eddy,    32,  1,     21,   1221,2,20160409,   0,-51.9496, 149.0631, 4358,     45.7,   9.4180,  34.3670,2,  34.3468, 2,    277.5,2,    275.1,2,     1.65,2,    13.00,2,     0.27,2,     1.01,2, 0.164504176,2,   -999.0,9,-999.0000,9,  -999.00,  -999.00,9,  -999.00,9,  -999.00,9,  -999.00,9,   9.4130,      916, -51.9492, 149.0638
  096U20160314,  Eddy,    32,  1,     20,   1220,2,20160409,   0,-51.9496, 149.0631, 4358,     59.1,   9.4200,  34.3670,2,-999.0000, 9,    277.7,2,   -999.0,9,     1.62,2,    13.02,2,     0.27,2,     1.01,2, 0.171233366,2,   -999.0,9,-999.0000,9,  -999.00,  -999.00,9,  -999.00,9,  -999.00,9,  -999.00,9,   9.4135,      914, -51.9492, 149.0638
  096U20160314,  Eddy,    32,  1,     19,   1219,2,20160409,   0,-51.9496, 149.0631, 4358,     79.9,   9.4190,  34.3680,2,  34.3512, 2,    278.0,2,    274.9,2,     1.73,2,    13.05,2,     0.26,2,     1.01,2, 0.161223759,2,   -999.0,9,-999.0000,9,  -999.00,  -999.00,9,  -999.00,9,  -999.00,9,  -999.00,9,   9.4102,      913, -51.9492, 149.0637
  096U20160314,  Eddy,    32,  1,     18,   1218,2,20160409,   0,-51.9496, 149.0631, 4358,     99.7,   9.4840,  34.5940,2,-999.0000, 9,    266.0,2,   -999.0,9,     3.47,2,    14.09,2,     0.05,2,     1.05,2, 0.002049522,2,   -999.0,9,-999.0000,9,  -999.00,  -999.00,9,  -999.00,9,  -999.00,9,  -999.00,9,   9.4729,      912, -51.9492, 149.0636
  096U20160314,  Eddy,    32,  1,     17,   1217,2,20160409,   0,-51.9496, 149.0631, 4358,    126.2,   9.3310,  34.6150,2,  34.5947, 2,    265.9,2,    263.8,2,     3.87,2,    14.28,2,     0.02,2,     1.05,2,-0.003093711,2,   -999.0,9,-999.0000,9,  -999.00,  -999.00,9,  -999.00,9,  -999.00,9,  -999.00,9,   9.3171,      911, -51.9492, 149.0637
  096U20160314,  Eddy,    32,  1,     16,   1216,2,20160409,   0,-51.9496, 149.0631, 4358,    148.8,   9.3280,  34.6310,2,-999.0000, 9,    265.1,2,   -999.0,9,     3.91,2,    14.24,2,     0.01,2,     1.05,2, -0.00079829,2,   -999.0,9,-999.0000,9,  -999.00,  -999.00,9,  -999.00,9,  -999.00,9,  -999.00,9,   9.3116,      909, -51.9491, 149.0638
  096U20160314,  Eddy,    32,  1,     15,   1215,2,20160409,   0,-51.9496, 149.0631, 4358,    175.7,   9.2850,  34.6350,2,  34.6135, 2,    264.0,2,    262.2,2,     4.00,2,    14.43,2,     0.02,2,     1.06,2, -0.00057552,2,   -999.0,9,-999.0000,9,  -999.00,  -999.00,9,  -999.00,9,  -999.00,9,  -999.00,9,   9.2657,      908, -51.9490, 149.0636
  096U20160314,  Eddy,    32,  1,     14,   1214,2,20160409,   0,-51.9496, 149.0631, 4358,    200.0,   9.4680,  34.6830,2,-999.0000, 9,    260.8,2,   -999.0,9,     4.01,2,    14.20,2,     0.02,2,     1.04,2,  0.00331109,2,   -999.0,9,-999.0000,9,  -999.00,  -999.00,9,  -999.00,9,  -999.00,9,  -999.00,9,   9.4457,      907, -51.9489, 149.0632
  096U20160314,  Eddy,    32,  1,     13,   1213,2,20160409,   0,-51.9496, 149.0631, 4358,    224.1,   9.1370,  34.6310,2,  34.6086, 2,    263.0,2,    260.7,2,     4.20,2,    14.89,2,     0.01,2,     1.09,2, 0.013136669,2,   -999.0,9,-999.0000,9,  -999.00,  -999.00,9,  -999.00,9,  -999.00,9,  -999.00,9,   9.1125,      906, -51.9490, 149.0629
  096U20160314,  Eddy,    32,  1,     12,   1212,2,20160409,   0,-51.9496, 149.0631, 4358,    248.7,   9.1830,  34.6460,2,-999.0000, 9,    261.9,2,   -999.0,9,     4.24,2,    14.86,2,     0.01,2,     1.08,2, 0.018658607,2,   -999.0,9,-999.0000,9,  -999.00,  -999.00,9,  -999.00,9,  -999.00,9,  -999.00,9,   9.1557,      905, -51.9491, 149.0626
  096U20160314,  Eddy,    32,  1,     11,   1211,2,20160409,   0,-51.9496, 149.0631, 4358,    301.7,   9.0170,  34.6330,2,  34.6121, 2,    261.4,2,    259.7,2,     4.36,2,    15.14,2,     0.01,2,     1.11,2, 0.018266216,2,   -999.0,9,-999.0000,9,  -999.00,  -999.00,9,  -999.00,9,  -999.00,9,  -999.00,9,   8.9841,      903, -51.9493, 149.0622
  096U20160314,  Eddy,    32,  1,     10,   1210,2,20160409,   0,-51.9496, 149.0631, 4358,    350.6,   8.8750,  34.6180,2,-999.0000, 9,    261.5,2,   -999.0,9,     4.45,2,    15.46,2,     0.02,2,     1.12,2, 0.023602575,2,   -999.0,9,-999.0000,9,  -999.00,  -999.00,9,  -999.00,9,  -999.00,9,  -999.00,9,   8.8371,      901, -51.9494, 149.0621
  096U20160314,  Eddy,    32,  1,      9,   1209,2,20160409,   0,-51.9496, 149.0631, 4358,    400.4,   8.6750,  34.5890,2,  34.5665, 2,    260.9,2,    259.3,2,     4.77,2,    16.17,2,     0.02,2,     1.16,2, 0.023217415,2,   -999.0,9,-999.0000,9,  -999.00,  -999.00,9,  -999.00,9,  -999.00,9,  -999.00,9,   8.6322,      859, -51.9494, 149.0619
  096U20160314,  Eddy,    32,  1,      8,   1208,2,20160409,   0,-51.9496, 149.0631, 4358,    501.3,   8.0810,  34.5130,2,-999.0000, 9,    250.0,2,   -999.0,9,     6.64,2,    18.73,2,     0.01,2,     1.33,2, 0.014069051,2,   -999.0,9,-999.0000,9,  -999.00,  -999.00,9,  -999.00,9,  -999.00,9,  -999.00,9,   8.0293,      856, -51.9493, 149.0618
  096U20160314,  Eddy,    32,  1,      7,   1207,2,20160409,   0,-51.9496, 149.0631, 4358,    600.3,   7.3480,  34.4420,2,  34.4228, 2,    232.8,2,    232.3,2,    10.04,2,    21.91,2,     0.01,2,     1.53,2,  0.01213038,2,   -999.0,9,-999.0000,9,  -999.00,  -999.00,9,  -999.00,9,  -999.00,9,  -999.00,9,   7.2891,      853, -51.9494, 149.0619
  096U20160314,  Eddy,    32,  1,      6,   1206,2,20160409,   0,-51.9496, 149.0631, 4358,    701.1,   6.5290,  34.4060,2,-999.0000, 9,    219.7,2,   -999.0,9,    15.00,2,    24.94,2,     0.00,2,     1.72,2, 0.010238255,2,   -999.0,9,-999.0000,9,  -999.00,  -999.00,9,  -999.00,9,  -999.00,9,  -999.00,9,   6.4641,      850, -51.9495, 149.0620
  096U20160314,  Eddy,    32,  1,      5,   1205,2,20160409,   0,-51.9496, 149.0631, 4358,    801.7,   5.6270,  34.3750,2,  34.3535, 2,    211.5,2,    211.4,2,    21.28,2,    27.53,2,     0.00,2,     1.90,2, 0.010900099,2,   -999.0,9,-999.0000,9,  -999.00,  -999.00,9,  -999.00,9,  -999.00,9,  -999.00,9,   5.5577,      847, -51.9492, 149.0618
  096U20160314,  Eddy,    32,  1,      4,   1204,2,20160409,   0,-51.9496, 149.0631, 4358,    900.9,   4.8970,  34.3730,2,-999.0000, 9,    204.0,2,   -999.0,9,    29.52,2,    29.46,2,     0.00,2,     2.04,2, 0.009418755,2,   -999.0,9,-999.0000,9,  -999.00,  -999.00,9,  -999.00,9,  -999.00,9,  -999.00,9,   4.8235,      844, -51.9492, 149.0612
  096U20160314,  Eddy,    32,  1,      3,   1203,2,20160409,   0,-51.9496, 149.0631, 4358,   1000.2,   4.1260,  34.3430,2,  34.3242, 2,    206.7,2,    206.7,2,    34.39,2,    30.84,2,     0.01,2,     2.14,2,   0.0103986,2,   -999.0,9,-999.0000,9,  -999.00,  -999.00,9,  -999.00,9,  -999.00,9,  -999.00,9,   4.0496,      842, -51.9490, 149.0605
  096U20160314,  Eddy,    32,  1,      2,   1202,2,20160409,   0,-51.9496, 149.0631, 4358,   1249.6,   3.3690,  34.3770,2,-999.0000, 9,    196.0,2,   -999.0,9,    45.79,2,    32.71,2,     0.00,2,     2.27,2, 0.020444079,2,   -999.0,9,-999.0000,9,  -999.00,  -999.00,9,  -999.00,9,  -999.00,9,  -999.00,9,   3.2784,      836, -51.9489, 149.0592
  096U20160314,  Eddy,    32,  1,      1,   1201,2,20160409,   0,-51.9496, 149.0631, 4358,   1500.1,   3.0230,  34.5120,2,  34.4882, 2,    172.8,2,    174.1,2,    64.33,2,    33.72,2,     0.01,2,     2.36,2, 0.026459032,2,   -999.0,9,-999.0000,9,  -999.00,  -999.00,9,  -999.00,9,  -999.00,9,  -999.00,9,   2.9151,      831, -51.9485, 149.0587