BOTTLE,20180103PRINUNIVRMK
EXPOCODE,SECT_ID,STNNBR,CASTNO,SAMPNO,BTLNBR,BTLNBR_FLAG_W,DATE,TIME,LATITUDE,LONGITUDE,DEPTH,CTDPRS,CTDTMP,CTDSAL,CTDSAL_FLAG_W,SALNTY,SALNTY_FLAG_W,CTDOXY,CTDOXY_FLAG_W,OXYGEN,OXYGEN_FLAG_W,SILCAT,SILCAT_FLAG_W,NITRAT,NITRAT_FLAG_W,NITRIT,NITRIT_FLAG_W,PHSPHT,PHSPHT_FLAG_W,NH4,NH4_FLAG_W,ALKALI,ALKALI_FLAG_W,PH_TOT,PH_TOT_FLAG_W,PH_TMP,POC,POC_FLAG_W,PON,PON_FLAG_W,CHLORA,CHLORA_FLAG_W,PPHYTN,PPHYTN_FLAG_W,THETA,BTL_TIME,BTL_LAT,BTL_LON
,,,,,,,,,,,METERS,DBAR,ITS-90,PSS-78,,PSS-78,,UMOL/KG,,UMOL/KG,,UMOL/KG,,UMOL/KG,,UMOL/KG,,UMOL/KG,,UMOL/KG,,UMOL/KG,,,,DEG C,UG/KG,,UG/KG,,UG/KG,,UG/KG,,DEG C,,,
  096U20160314,  Eddy,    28,  1,     24,   1224,2,20160407,   0,-52.0170, 149.8488, 4265,      9.0,   8.0060,  34.0590,2,-999.0000, 9,    289.6,2,   -999.0,9,     2.74,2,    17.77,2,     0.32,2,     1.28,2,  0.25836299,2,   -999.0,9,-999.0000,9,  -999.00,  -999.00,9,  -999.00,9,  -999.00,9,  -999.00,9,   8.0051,     1255, -52.0175, 149.8485
  096U20160314,  Eddy,    28,  1,     23,   1223,2,20160407,   0,-52.0170, 149.8488, 4265,     14.5,   8.0120,  34.0590,2,  34.0385, 2,    289.7,2,    285.7,2,     2.74,2,    17.76,2,     0.32,2,     1.28,2, 0.247699924,2,   -999.0,9,-999.0000,9,  -999.00,  -999.00,9,  -999.00,9,  -999.00,9,  -999.00,9,   8.0106,     1254, -52.0177, 149.8485
  096U20160314,  Eddy,    28,  1,     22,   1222,2,20160407,   0,-52.0170, 149.8488, 4265,     30.8,   8.0110,  34.0580,2,-999.0000, 9,    289.6,2,   -999.0,9,     2.74,2,    17.78,2,     0.32,2,     1.28,2, 0.278974405,2,   -999.0,9,-999.0000,9,  -999.00,  -999.00,9,  -999.00,9,  -999.00,9,  -999.00,9,   8.0080,     1253, -52.0178, 149.8485
  096U20160314,  Eddy,    28,  1,     21,   1221,2,20160407,   0,-52.0170, 149.8488, 4265,     43.8,   8.0130,  34.0590,2,  34.0395, 2,    289.7,2,    285.7,2,     2.65,2,    17.74,2,     0.32,2,     1.28,2, 0.238199588,2,   -999.0,9,-999.0000,9,  -999.00,  -999.00,9,  -999.00,9,  -999.00,9,  -999.00,9,   8.0087,     1252, -52.0180, 149.8486
  096U20160314,  Eddy,    28,  1,     20,   1220,2,20160407,   0,-52.0170, 149.8488, 4265,     61.3,   8.0160,  34.0590,2,-999.0000, 9,    289.5,2,   -999.0,9,     2.72,2,    17.76,2,     0.32,2,     1.28,2, 0.235375207,2,   -999.0,9,-999.0000,9,  -999.00,  -999.00,9,  -999.00,9,  -999.00,9,  -999.00,9,   8.0099,     1251, -52.0182, 149.8485
  096U20160314,  Eddy,    28,  1,     19,   1219,2,20160407,   0,-52.0170, 149.8488, 4265,     81.7,   8.0190,  34.0590,2,  34.0388, 2,    288.7,2,    286.1,2,     2.71,2,    17.74,2,     0.32,2,     1.28,2, 0.232327058,2,   -999.0,9,-999.0000,9,  -999.00,  -999.00,9,  -999.00,9,  -999.00,9,  -999.00,9,   8.0109,     1250, -52.0185, 149.8485
  096U20160314,  Eddy,    28,  1,     18,   1218,2,20160407,   0,-52.0170, 149.8488, 4265,    101.3,   7.8620,  34.0440,2,-999.0000, 9,    289.9,2,   -999.0,9,     2.86,2,    18.12,2,     0.32,2,     1.30,2, 0.246505324,2,   -999.0,9,-999.0000,9,  -999.00,  -999.00,9,  -999.00,9,  -999.00,9,  -999.00,9,   7.8521,     1248, -52.0187, 149.8486
  096U20160314,  Eddy,    28,  1,     17,   1217,2,20160407,   0,-52.0170, 149.8488, 4265,    125.9,   7.0490,  33.9830,2,  33.9677, 2,    294.1,2,    289.4,2,     3.59,2,    20.32,2,     0.28,2,     1.44,2, 0.278723345,2,   -999.0,9,-999.0000,9,  -999.00,  -999.00,9,  -999.00,9,  -999.00,9,  -999.00,9,   7.0374,     1247, -52.0188, 149.8487
  096U20160314,  Eddy,    28,  1,     16,   1216,2,20160407,   0,-52.0170, 149.8488, 4265,    150.2,   8.2560,  34.4170,2,-999.0000, 9,    272.1,2,   -999.0,9,     5.13,2,    17.05,2,     0.02,2,     1.20,2,  0.00895069,2,   -999.0,9,-999.0000,9,  -999.00,  -999.00,9,  -999.00,9,  -999.00,9,  -999.00,9,   8.2407,     1245, -52.0189, 149.8485
  096U20160314,  Eddy,    28,  1,     15,   1215,2,20160407,   0,-52.0170, 149.8488, 4265,    174.2,   8.0820,  34.4060,2,  34.3858, 2,    272.1,2,    269.3,2,     5.51,2,    17.47,2,     0.01,2,     1.23,2,  0.01607702,2,   -999.0,9,-999.0000,9,  -999.00,  -999.00,9,  -999.00,9,  -999.00,9,  -999.00,9,   8.0644,     1244, -52.0192, 149.8484
  096U20160314,  Eddy,    28,  1,     14,   1214,2,20160407,   0,-52.0170, 149.8488, 4265,    199.4,   7.9460,  34.4030,2,-999.0000, 9,    269.7,2,   -999.0,9,     5.84,2,    17.92,2,     0.01,2,     1.26,2, 0.036103207,2,   -999.0,9,-999.0000,9,  -999.00,  -999.00,9,  -999.00,9,  -999.00,9,  -999.00,9,   7.9261,     1243, -52.0194, 149.8484
  096U20160314,  Eddy,    28,  1,     13,   1213,2,20160407,   0,-52.0170, 149.8488, 4265,    227.3,   7.7820,  34.3930,2,  34.3608, 2,    268.9,2,    267.1,2,     6.16,2,    18.53,2,     0.01,2,     1.29,2, 0.050912682,2,   -999.0,9,-999.0000,9,  -999.00,  -999.00,9,  -999.00,9,  -999.00,9,  -999.00,9,   7.7595,     1241, -52.0197, 149.8483
  096U20160314,  Eddy,    28,  1,     12,   1212,2,20160407,   0,-52.0170, 149.8488, 4265,    248.0,   7.6530,  34.3890,2,-999.0000, 9,    266.3,2,   -999.0,9,     6.54,2,    18.88,2,     0.01,2,     1.31,2, 0.103166503,2,   -999.0,9,-999.0000,9,  -999.00,  -999.00,9,  -999.00,9,  -999.00,9,  -999.00,9,   7.6287,     1240, -52.0200, 149.8484
  096U20160314,  Eddy,    28,  1,     11,   1211,2,20160407,   0,-52.0170, 149.8488, 4265,    299.7,   7.4390,  34.3860,2,  34.3723, 2,    258.6,2,    256.2,2,     7.74,2,    20.01,2,     0.01,2,     1.39,2, 0.096195152,2,   -999.0,9,-999.0000,9,  -999.00,  -999.00,9,  -999.00,9,  -999.00,9,  -999.00,9,   7.4100,     1238, -52.0204, 149.8486
  096U20160314,  Eddy,    28,  1,     10,   1210,2,20160407,   0,-52.0170, 149.8488, 4265,    350.3,   6.7120,  34.3070,2,-999.0000, 9,    261.0,2,   -999.0,9,     8.76,2,    21.52,2,     0.01,2,     1.48,2, 0.090124337,2,   -999.0,9,-999.0000,9,  -999.00,  -999.00,9,  -999.00,9,  -999.00,9,  -999.00,9,   6.6800,     1236, -52.0209, 149.8487
  096U20160314,  Eddy,    28,  1,      9,   1209,2,20160407,   0,-52.0170, 149.8488, 4265,    399.9,   6.3870,  34.3150,2,  34.2938, 2,    249.3,2,    247.9,2,    11.13,2,    23.10,2,     0.01,2,     1.58,2, 0.086503711,2,   -999.0,9,-999.0000,9,  -999.00,  -999.00,9,  -999.00,9,  -999.00,9,  -999.00,9,   6.3513,     1234, -52.0214, 149.8487
  096U20160314,  Eddy,    28,  1,      8,   1208,2,20160407,   0,-52.0170, 149.8488, 4265,    501.0,   6.1420,  34.3700,2,-999.0000, 9,    223.2,2,   -999.0,9,    16.45,2,    25.78,2,     0.01,2,     1.75,2, 0.066181131,2,   -999.0,9,-999.0000,9,  -999.00,  -999.00,9,  -999.00,9,  -999.00,9,  -999.00,9,   6.0978,     1232, -52.0221, 149.8489
  096U20160314,  Eddy,    28,  1,      7,   1207,2,20160407,   0,-52.0170, 149.8488, 4265,    600.1,   5.2600,  34.3310,2,  34.3087, 2,    220.7,2,    220.5,2,    21.28,2,    27.99,2,     0.01,2,     1.90,2, 0.060143945,2,   -999.0,9,-999.0000,9,  -999.00,  -999.00,9,  -999.00,9,  -999.00,9,  -999.00,9,   5.2107,     1229, -52.0227, 149.8490
  096U20160314,  Eddy,    28,  1,      6,   1206,2,20160407,   0,-52.0170, 149.8488, 4265,    699.5,   4.5700,  34.3170,2,-999.0000, 9,    218.0,2,   -999.0,9,    26.90,2,    29.78,2,     0.01,2,     2.03,2,  0.05511845,2,   -999.0,9,-999.0000,9,  -999.00,  -999.00,9,  -999.00,9,  -999.00,9,  -999.00,9,   4.5158,     1226, -52.0232, 149.8485
  096U20160314,  Eddy,    28,  1,      5,   1205,2,20160407,   0,-52.0170, 149.8488, 4265,    798.3,   4.0960,  34.3330,2,  34.3121, 2,    210.6,2,    210.4,2,    33.42,2,    30.93,2,     0.01,2,     2.12,2, 0.051215066,2,   -999.0,9,-999.0000,9,  -999.00,  -999.00,9,  -999.00,9,  -999.00,9,  -999.00,9,   4.0365,     1223, -52.0239, 149.8486
  096U20160314,  Eddy,    28,  1,      4,   1204,2,20160407,   0,-52.0170, 149.8488, 4265,    898.2,   3.7380,  34.3700,2,-999.0000, 9,    199.7,2,   -999.0,9,    41.52,2,    32.13,2,     0.01,2,     2.20,2, 0.060421462,2,   -999.0,9,-999.0000,9,  -999.00,  -999.00,9,  -999.00,9,  -999.00,9,  -999.00,9,   3.6727,     1221, -52.0242, 149.8485
  096U20160314,  Eddy,    28,  1,      3,   1203,2,20160407,   0,-52.0170, 149.8488, 4265,    999.3,   3.3560,  34.3890,2,  34.3667, 2,    194.6,2,    196.4,2,    47.10,2,    32.96,2,     0.01,2,     2.27,2,  0.07477539,2,   -999.0,9,-999.0000,9,  -999.00,  -999.00,9,  -999.00,9,  -999.00,9,  -999.00,9,   3.2856,     1218, -52.0247, 149.8482
  096U20160314,  Eddy,    28,  1,      2,   1202,2,20160407,   0,-52.0170, 149.8488, 4265,   1249.2,   2.7610,  34.5040,2,-999.0000, 9,    176.8,2,   -999.0,9,    63.75,2,    34.24,2,     0.01,2,     2.36,2, 0.079885691,2,   -999.0,9,-999.0000,9,  -999.00,  -999.00,9,  -999.00,9,  -999.00,9,  -999.00,9,   2.6761,     1213, -52.0256, 149.8482
  096U20160314,  Eddy,    28,  1,      1,   1201,2,20160407,   0,-52.0170, 149.8488, 4265,   1501.1,   2.5590,  34.6150,2,  34.5940, 2,    172.6,2,    175.0,2,    71.90,2,    33.52,3,     0.01,2,     2.31,2, 0.111345749,3,   -999.0,9,-999.0000,9,  -999.00,  -999.00,9,  -999.00,9,  -999.00,9,  -999.00,9,   2.4561,     1207, -52.0266, 149.8483
  096U20160314,  Eddy,    29,  1,     24,   1224,2,20160407,   0,-51.9826, 149.5855, 3969,     10.2,   8.5860,  34.1420,2,-999.0000, 9,    284.9,2,   -999.0,9,     1.63,2,    16.04,2,     0.33,2,     1.19,2, 0.282079305,2,   -999.0,9,-999.0000,9,  -999.00,  -999.00,9,  -999.00,9,  -999.00,9,  -999.00,9,   8.5849,     1644, -51.9830, 149.5856
  096U20160314,  Eddy,    29,  1,     23,   1223,2,20160407,   0,-51.9826, 149.5855, 3969,     16.4,   8.5840,  34.1410,2,  34.1246, 2,    285.1,2,   -999.0,9,     1.63,2,    16.04,2,     0.32,2,     1.19,2,  0.28003349,2,   -999.0,9,-999.0000,9,  -999.00,  -999.00,9,  -999.00,9,  -999.00,9,  -999.00,9,   8.5823,     1642, -51.9834, 149.5862
  096U20160314,  Eddy,    29,  1,     22,   1222,2,20160407,   0,-51.9826, 149.5855, 3969,     30.6,   8.5840,  34.1410,2,-999.0000, 9,    284.8,2,   -999.0,9,     1.64,2,    16.02,2,     0.32,2,     1.19,2, 0.256869439,2,   -999.0,9,-999.0000,9,  -999.00,  -999.00,9,  -999.00,9,  -999.00,9,  -999.00,9,   8.5808,     1640, -51.9839, 149.5863
  096U20160314,  Eddy,    29,  1,     21,   1221,2,20160407,   0,-51.9826, 149.5855, 3969,     45.5,   8.5870,  34.1420,2,  34.1211, 2,    284.3,2,   -999.0,9,     1.66,2,    16.05,2,     0.32,2,     1.19,2, 0.245808864,2,   -999.0,9,-999.0000,9,  -999.00,  -999.00,9,  -999.00,9,  -999.00,9,  -999.00,9,   8.5823,     1639, -51.9842, 149.5862
  096U20160314,  Eddy,    29,  1,     20,   1220,2,20160407,   0,-51.9826, 149.5855, 3969,     61.3,   8.5880,  34.1410,2,-999.0000, 9,    284.8,2,   -999.0,9,     1.65,2,    16.06,2,     0.32,2,     1.19,2, 0.298485884,2,   -999.0,9,-999.0000,9,  -999.00,  -999.00,9,  -999.00,9,  -999.00,9,  -999.00,9,   8.5817,     1637, -51.9845, 149.5861
  096U20160314,  Eddy,    29,  1,     19,   1219,2,20160407,   0,-51.9826, 149.5855, 3969,     80.3,   8.5830,  34.1390,2,  34.1180, 2,    284.8,2,   -999.0,9,     1.65,2,    16.12,2,     0.32,2,     1.19,2, 0.292928097,2,   -999.0,9,-999.0000,9,  -999.00,  -999.00,9,  -999.00,9,  -999.00,9,  -999.00,9,   8.5747,     1636, -51.9849, 149.5860
  096U20160314,  Eddy,    29,  1,     18,   1218,2,20160407,   0,-51.9826, 149.5855, 3969,    101.2,   8.5840,  34.1690,2,-999.0000, 9,    282.8,2,   -999.0,9,     2.02,2,    16.24,2,     0.29,2,     1.19,2, 0.240163246,2,   -999.0,9,-999.0000,9,  -999.00,  -999.00,9,  -999.00,9,  -999.00,9,  -999.00,9,   8.5735,     1634, -51.9853, 149.5857
  096U20160314,  Eddy,    29,  1,     17,   1217,2,20160407,   0,-51.9826, 149.5855, 3969,    127.6,   8.7830,  34.3680,2,  34.2957, 3,    275.8,2,   -999.0,9,     2.61,2,    16.09,2,     0.21,2,     1.18,2, 0.111556227,2,   -999.0,9,-999.0000,9,  -999.00,  -999.00,9,  -999.00,9,  -999.00,9,  -999.00,9,   8.7695,     1632, -51.9858, 149.5852
  096U20160314,  Eddy,    29,  1,     16,   1216,2,20160407,   0,-51.9826, 149.5855, 3969,    151.6,   8.9820,  34.5340,2,-999.0000, 9,    267.9,2,   -999.0,9,     3.69,2,    15.34,2,     0.02,2,     1.11,2, 0.054658221,2,   -999.0,9,-999.0000,9,  -999.00,  -999.00,9,  -999.00,9,  -999.00,9,  -999.00,9,   8.9657,     1630, -51.9860, 149.5848
  096U20160314,  Eddy,    29,  1,     15,   1215,2,20160407,   0,-51.9826, 149.5855, 3969,    178.4,   8.9800,  34.5540,2,  34.5318, 2,    268.8,2,   -999.0,9,     3.67,2,    15.15,2,     0.01,2,     1.09,2, 0.066994476,2,   -999.0,9,-999.0000,9,  -999.00,  -999.00,9,  -999.00,9,  -999.00,9,  -999.00,9,   8.9608,     1628, -51.9861, 149.5842
  096U20160314,  Eddy,    29,  1,     14,   1214,2,20160407,   0,-51.9826, 149.5855, 3969,    201.9,   8.9180,  34.5570,2,-999.0000, 9,    268.7,2,   -999.0,9,     3.78,2,    15.25,2,     0.01,2,     1.10,2, 0.076949807,2,   -999.0,9,-999.0000,9,  -999.00,  -999.00,9,  -999.00,9,  -999.00,9,  -999.00,9,   8.8963,     1626, -51.9862, 149.5838
  096U20160314,  Eddy,    29,  1,     13,   1213,2,20160407,   0,-51.9826, 149.5855, 3969,    227.5,   8.7700,  34.5380,2,  34.5193, 2,    268.5,2,   -999.0,9,     3.84,2,    15.56,2,     0.01,2,     1.12,2, 0.072412512,2,   -999.0,9,-999.0000,9,  -999.00,  -999.00,9,  -999.00,9,  -999.00,9,  -999.00,9,   8.7458,     1624, -51.9863, 149.5836
  096U20160314,  Eddy,    29,  1,     12,   1212,2,20160407,   0,-51.9826, 149.5855, 3969,    251.8,   8.7570,  34.5430,2,-999.0000, 9,    266.9,2,   -999.0,9,     3.94,2,    15.78,2,     0.01,2,     1.13,2, 0.047212301,2,   -999.0,9,-999.0000,9,  -999.00,  -999.00,9,  -999.00,9,  -999.00,9,  -999.00,9,   8.7302,     1623, -51.9865, 149.5833
  096U20160314,  Eddy,    29,  1,     11,   1211,2,20160407,   0,-51.9826, 149.5855, 3969,    301.4,   8.5900,  34.5300,2,  34.5098, 2,    264.7,2,   -999.0,9,     4.18,2,    16.37,2,     0.01,2,     1.17,2, 0.070209067,2,   -999.0,9,-999.0000,9,  -999.00,  -999.00,9,  -999.00,9,  -999.00,9,  -999.00,9,   8.5582,     1621, -51.9867, 149.5831
  096U20160314,  Eddy,    29,  1,     10,   1210,2,20160407,   0,-51.9826, 149.5855, 3969,    355.2,   8.3730,  34.5220,2,-999.0000, 9,    259.4,2,   -999.0,9,     4.94,2,    17.36,2,     0.01,2,     1.23,2, 0.072891337,2,   -999.0,9,-999.0000,9,  -999.00,  -999.00,9,  -999.00,9,  -999.00,9,  -999.00,9,   8.3359,     1619, -51.9870, 149.5830
  096U20160314,  Eddy,    29,  1,      9,   1209,2,20160407,   0,-51.9826, 149.5855, 3969,    397.5,   8.2040,  34.5140,2,  34.4933, 2,    261.4,2,   -999.0,9,     5.14,2,    17.75,2,     0.01,2,     1.25,2, 0.083003029,2,   -999.0,9,-999.0000,9,  -999.00,  -999.00,9,  -999.00,9,  -999.00,9,  -999.00,9,   8.1629,     1616, -51.9873, 149.5825
  096U20160314,  Eddy,    29,  1,      8,   1208,2,20160407,   0,-51.9826, 149.5855, 3969,    504.1,   7.5900,  34.4690,2,-999.0000, 9,    233.5,2,   -999.0,9,     8.72,2,    21.38,2,     0.01,2,     1.48,2, 0.101419498,2,   -999.0,9,-999.0000,9,  -999.00,  -999.00,9,  -999.00,9,  -999.00,9,  -999.00,9,   7.5399,     1613, -51.9876, 149.5822
  096U20160314,  Eddy,    29,  1,      7,   1207,2,20160407,   0,-51.9826, 149.5855, 3969,    601.7,   6.8350,  34.4220,2,  34.4005, 2,    222.5,2,   -999.0,9,    12.46,2,    24.09,2,     0.00,2,     1.65,2, 0.117944277,2,   -999.0,9,-999.0000,9,  -999.00,  -999.00,9,  -999.00,9,  -999.00,9,  -999.00,9,   6.7783,     1610, -51.9879, 149.5823
  096U20160314,  Eddy,    29,  1,      6,   1206,2,20160407,   0,-51.9826, 149.5855, 3969,    696.4,   5.9900,  34.3910,2,-999.0000, 9,    213.3,2,   -999.0,9,    17.65,2,    26.79,2,     0.00,2,     1.83,2, 0.097202895,2,   -999.0,9,-999.0000,9,  -999.00,  -999.00,9,  -999.00,9,  -999.00,9,  -999.00,9,   5.9284,     1607, -51.9882, 149.5825
  096U20160314,  Eddy,    29,  1,      5,   1205,2,20160407,   0,-51.9826, 149.5855, 3969,    802.8,   5.0610,  34.3490,2,  34.3270, 2,    213.0,2,   -999.0,9,    23.34,2,    28.81,2,     0.00,2,     1.97,2, 0.094909028,2,   -999.0,9,-999.0000,9,  -999.00,  -999.00,9,  -999.00,9,  -999.00,9,  -999.00,9,   4.9951,     1604, -51.9885, 149.5826
  096U20160314,  Eddy,    29,  1,      4,   1204,2,20160407,   0,-51.9826, 149.5855, 3969,    897.3,   4.4780,  34.3510,2,-999.0000, 9,    207.4,2,   -999.0,9,    29.76,2,    30.28,2,     0.00,2,     2.08,2, 0.108991727,2,   -999.0,9,-999.0000,9,  -999.00,  -999.00,9,  -999.00,9,  -999.00,9,  -999.00,9,   4.4077,     1601, -51.9891, 149.5825
  096U20160314,  Eddy,    29,  1,      3,   1203,2,20160407,   0,-51.9826, 149.5855, 3969,    999.5,   3.9790,  34.3750,2,  34.3592, 2,    198.8,2,   -999.0,9,    37.69,2,    31.58,2,     0.00,2,     2.18,2, 0.133163949,2,   -999.0,9,-999.0000,9,  -999.00,  -999.00,9,  -999.00,9,  -999.00,9,  -999.00,9,   3.9038,     1557, -51.9893, 149.5822
  096U20160314,  Eddy,    29,  1,      2,   1202,2,20160407,   0,-51.9826, 149.5855, 3969,   1253.5,   3.2390,  34.4750,2,-999.0000, 9,    177.6,2,   -999.0,9,    57.05,2,    33.54,2,     0.00,2,     2.32,2, 0.141966337,2,   -999.0,9,-999.0000,9,  -999.00,  -999.00,9,  -999.00,9,  -999.00,9,  -999.00,9,   3.1491,     1551, -51.9907, 149.5815
  096U20160314,  Eddy,    29,  1,      1,   1201,2,20160407,   0,-51.9826, 149.5855, 3969,   1507.1,   2.8010,  34.5800,2,  34.5592, 2,    167.3,2,   -999.0,9,    70.91,2,    33.83,2,     0.00,2,     2.35,2, 0.091498678,3,   -999.0,9,-999.0000,9,  -999.00,  -999.00,9,  -999.00,9,  -999.00,9,  -999.00,9,   2.6949,     1544, -51.9928, 149.5810