BOTTLE,20180103PRINUNIVRMK
EXPOCODE,SECT_ID,STNNBR,CASTNO,SAMPNO,BTLNBR,BTLNBR_FLAG_W,DATE,TIME,LATITUDE,LONGITUDE,DEPTH,CTDPRS,CTDTMP,CTDSAL,CTDSAL_FLAG_W,SALNTY,SALNTY_FLAG_W,CTDOXY,CTDOXY_FLAG_W,OXYGEN,OXYGEN_FLAG_W,SILCAT,SILCAT_FLAG_W,NITRAT,NITRAT_FLAG_W,NITRIT,NITRIT_FLAG_W,PHSPHT,PHSPHT_FLAG_W,NH4,NH4_FLAG_W,ALKALI,ALKALI_FLAG_W,PH_TOT,PH_TOT_FLAG_W,PH_TMP,POC,POC_FLAG_W,PON,PON_FLAG_W,CHLORA,CHLORA_FLAG_W,PPHYTN,PPHYTN_FLAG_W,THETA,BTL_TIME,BTL_LAT,BTL_LON
,,,,,,,,,,,METERS,DBAR,ITS-90,PSS-78,,PSS-78,,UMOL/KG,,UMOL/KG,,UMOL/KG,,UMOL/KG,,UMOL/KG,,UMOL/KG,,UMOL/KG,,UMOL/KG,,,,DEG C,UG/KG,,UG/KG,,UG/KG,,UG/KG,,DEG C,,,
  096U20160314,  Eddy,    39,  1,     24,   1224,2,20160411,   0,-51.4178, 148.9321, 4322,      9.5,   9.2680,  34.3420,2,-999.0000, 9,    277.6,2,   -999.0,9,  -999.00,9,  -999.00,9,  -999.00,9,  -999.00,9,        -999,9,   -999.0,9,-999.0000,9,  -999.00,  -999.00,9,  -999.00,9,  -999.00,9,  -999.00,9,   9.2670,     1141, -51.4174, 148.9319
  096U20160314,  Eddy,    39,  1,     23,   1223,2,20160411,   0,-51.4178, 148.9321, 4322,     20.5,   9.2900,  34.3470,2,-999.0000, 9,    276.9,2,   -999.0,9,     1.30,2,    13.70,2,     0.28,2,     1.07,2, 0.205818386,2,   -999.0,9,-999.0000,9,  -999.00,  -999.00,9,  -999.00,9,  -999.00,9,  -999.00,9,   9.2878,     1140, -51.4172, 148.9319
  096U20160314,  Eddy,    39,  1,     22,   1222,2,20160411,   0,-51.4178, 148.9321, 4322,     28.8,   9.3430,  34.3610,2,-999.0000, 9,    276.5,2,   -999.0,9,  -999.00,9,  -999.00,9,  -999.00,9,  -999.00,9,        -999,9,   -999.0,9,-999.0000,9,  -999.00,  -999.00,9,  -999.00,9,  -999.00,9,  -999.00,9,   9.3399,     1139, -51.4171, 148.9318
  096U20160314,  Eddy,    39,  1,     21,   1221,2,20160411,   0,-51.4178, 148.9321, 4322,     39.5,   9.3590,  34.3650,2,-999.0000, 9,    276.6,2,   -999.0,9,     1.22,2,    13.53,2,     0.28,2,     1.06,2, 0.206505702,2,   -999.0,9,-999.0000,9,  -999.00,  -999.00,9,  -999.00,9,  -999.00,9,  -999.00,9,   9.3547,     1139, -51.4171, 148.9318
  096U20160314,  Eddy,    39,  1,     20,   1220,2,20160411,   0,-51.4178, 148.9321, 4322,     61.1,   9.5030,  34.4070,2,-999.0000, 9,    274.1,2,   -999.0,9,  -999.00,9,  -999.00,9,  -999.00,9,  -999.00,9,        -999,9,   -999.0,9,-999.0000,9,  -999.00,  -999.00,9,  -999.00,9,  -999.00,9,  -999.00,9,   9.4962,     1138, -51.4169, 148.9317
  096U20160314,  Eddy,    39,  1,     19,   1219,2,20160411,   0,-51.4178, 148.9321, 4322,     78.8,   9.5250,  34.4130,2,-999.0000, 9,    274.4,2,   -999.0,9,     1.33,2,    12.99,2,     0.27,2,     1.03,2, 0.201359219,2,   -999.0,9,-999.0000,9,  -999.00,  -999.00,9,  -999.00,9,  -999.00,9,  -999.00,9,   9.5163,     1137, -51.4168, 148.9316
  096U20160314,  Eddy,    39,  1,     18,   1218,2,20160411,   0,-51.4178, 148.9321, 4322,     99.2,   9.5330,  34.4150,2,-999.0000, 9,    274.7,2,   -999.0,9,  -999.00,9,  -999.00,9,  -999.00,9,  -999.00,9,        -999,9,   -999.0,9,-999.0000,9,  -999.00,  -999.00,9,  -999.00,9,  -999.00,9,  -999.00,9,   9.5220,     1136, -51.4166, 148.9316
  096U20160314,  Eddy,    39,  1,     17,   1217,2,20160411,   0,-51.4178, 148.9321, 4322,     99.7,   9.5320,  34.4150,2,-999.0000, 9,    274.7,2,   -999.0,9,     1.20,2,    12.96,2,     0.26,2,     1.03,2, 0.212392827,2,   -999.0,9,-999.0000,9,  -999.00,  -999.00,9,  -999.00,9,  -999.00,9,  -999.00,9,   9.5209,     1136, -51.4166, 148.9316
  096U20160314,  Eddy,    39,  1,     16,   1216,2,20160411,   0,-51.4178, 148.9321, 4322,    123.5,   9.5600,  34.4240,2,-999.0000, 9,    273.9,2,   -999.0,9,     1.29,2,    12.90,2,     0.26,2,     1.02,2,  0.27699889,2,   -999.0,9,-999.0000,9,  -999.00,  -999.00,9,  -999.00,9,  -999.00,9,  -999.00,9,   9.5462,     1135, -51.4165, 148.9315
  096U20160314,  Eddy,    39,  1,     15,   1215,2,20160411,   0,-51.4178, 148.9321, 4322,    149.0,   9.3880,  34.4460,2,-999.0000, 9,    270.2,2,   -999.0,9,     2.17,2,    14.13,2,     0.16,2,     1.09,2, 0.266030696,2,   -999.0,9,-999.0000,9,  -999.00,  -999.00,9,  -999.00,9,  -999.00,9,  -999.00,9,   9.3715,     1134, -51.4164, 148.9314
  096U20160314,  Eddy,    39,  1,     14,   1214,2,20160411,   0,-51.4178, 148.9321, 4322,    150.6,   9.3540,  34.4600,2,-999.0000, 9,    269.4,2,   -999.0,9,  -999.00,9,  -999.00,9,  -999.00,9,  -999.00,9,        -999,9,   -999.0,9,-999.0000,9,  -999.00,  -999.00,9,  -999.00,9,  -999.00,9,  -999.00,9,   9.3374,     1134, -51.4164, 148.9314
  096U20160314,  Eddy,    39,  1,     13,   1213,2,20160411,   0,-51.4178, 148.9321, 4322,    174.0,   8.9940,  34.5430,2,-999.0000, 9,    266.7,2,   -999.0,9,  -999.00,9,  -999.00,9,  -999.00,9,  -999.00,9,        -999,9,   -999.0,9,-999.0000,9,  -999.00,  -999.00,9,  -999.00,9,  -999.00,9,  -999.00,9,   8.9752,     1133, -51.4162, 148.9314
  096U20160314,  Eddy,    39,  1,     12,   1212,2,20160411,   0,-51.4178, 148.9321, 4322,    200.7,   9.1450,  34.5970,2,-999.0000, 9,    264.5,2,   -999.0,9,     3.52,2,    14.79,2,     0.01,2,     1.11,2, 0.199144451,2,   -999.0,9,-999.0000,9,  -999.00,  -999.00,9,  -999.00,9,  -999.00,9,  -999.00,9,   9.1231,     1132, -51.4162, 148.9313
  096U20160314,  Eddy,    39,  1,     11,   1211,2,20160411,   0,-51.4178, 148.9321, 4322,    224.4,   8.9960,  34.5740,2,-999.0000, 9,    265.7,2,   -999.0,9,  -999.00,9,  -999.00,9,  -999.00,9,  -999.00,9,        -999,9,   -999.0,9,-999.0000,9,  -999.00,  -999.00,9,  -999.00,9,  -999.00,9,  -999.00,9,   8.9717,     1131, -51.4161, 148.9313
  096U20160314,  Eddy,    39,  1,     10,   1210,2,20160411,   0,-51.4178, 148.9321, 4322,    249.6,   8.8580,  34.5600,2,-999.0000, 9,    265.1,2,   -999.0,9,  -999.00,9,  -999.00,9,  -999.00,9,  -999.00,9,        -999,9,   -999.0,9,-999.0000,9,  -999.00,  -999.00,9,  -999.00,9,  -999.00,9,  -999.00,9,   8.8312,     1130, -51.4160, 148.9313
  096U20160314,  Eddy,    39,  1,      9,   1209,2,20160411,   0,-51.4178, 148.9321, 4322,    250.4,   8.8430,  34.5580,2,-999.0000, 9,    264.5,2,   -999.0,9,     3.72,2,    15.76,2,     0.04,2,     1.18,2, 0.196322345,2,   -999.0,9,-999.0000,9,  -999.00,  -999.00,9,  -999.00,9,  -999.00,9,  -999.00,9,   8.8162,     1130, -51.4160, 148.9313
  096U20160314,  Eddy,    39,  1,      8,   1208,2,20160411,   0,-51.4178, 148.9321, 4322,    274.6,   8.8530,  34.5720,2,-999.0000, 9,    262.6,2,   -999.0,9,  -999.00,9,  -999.00,9,  -999.00,9,  -999.00,9,        -999,9,   -999.0,9,-999.0000,9,  -999.00,  -999.00,9,  -999.00,9,  -999.00,9,  -999.00,9,   8.8235,     1129, -51.4158, 148.9312
  096U20160314,  Eddy,    39,  1,      7,   1207,2,20160411,   0,-51.4178, 148.9321, 4322,    300.0,   8.7190,  34.5540,2,-999.0000, 9,    261.4,2,   -999.0,9,     4.02,2,    16.16,2,     0.01,2,     1.19,2, 0.146006158,2,   -999.0,9,-999.0000,9,  -999.00,  -999.00,9,  -999.00,9,  -999.00,9,  -999.00,9,   8.6870,     1127, -51.4157, 148.9311
  096U20160314,  Eddy,    39,  1,      6,   1206,2,20160411,   0,-51.4178, 148.9321, 4322,    324.6,   8.6760,  34.5550,2,-999.0000, 9,    259.2,2,   -999.0,9,  -999.00,9,  -999.00,9,  -999.00,9,  -999.00,9,        -999,9,   -999.0,9,-999.0000,9,  -999.00,  -999.00,9,  -999.00,9,  -999.00,9,  -999.00,9,   8.6415,     1126, -51.4156, 148.9311
  096U20160314,  Eddy,    39,  1,      5,   1205,2,20160411,   0,-51.4178, 148.9321, 4322,    350.8,   8.5710,  34.5420,2,-999.0000, 9,    258.4,2,   -999.0,9,     4.35,2,    16.80,2,     0.01,2,     1.23,2, 0.187376858,2,   -999.0,9,-999.0000,9,  -999.00,  -999.00,9,  -999.00,9,  -999.00,9,  -999.00,9,   8.5339,     1125, -51.4155, 148.9311
  096U20160314,  Eddy,    39,  1,      4,   1204,2,20160411,   0,-51.4178, 148.9321, 4322,    399.2,   8.3750,  34.5200,2,-999.0000, 9,    258.3,2,   -999.0,9,     4.82,2,    17.39,2,     0.01,2,     1.27,2,  0.19677578,2,   -999.0,9,-999.0000,9,  -999.00,  -999.00,9,  -999.00,9,  -999.00,9,  -999.00,9,   8.3332,     1124, -51.4153, 148.9310
  096U20160314,  Eddy,    39,  1,      3,   1203,2,20160411,   0,-51.4178, 148.9321, 4322,    451.3,   8.2620,  34.5150,2,-999.0000, 9,    257.5,2,   -999.0,9,     5.00,2,    17.74,2,     0.01,2,     1.29,2, 0.145519588,2,   -999.0,9,-999.0000,9,  -999.00,  -999.00,9,  -999.00,9,  -999.00,9,  -999.00,9,   8.2150,     1122, -51.4152, 148.9310
  096U20160314,  Eddy,    39,  1,      1,   1201,2,20160411,   0,-51.4178, 148.9321, 4322,    501.1,   8.0840,  34.4980,2,-999.0000, 9,    261.0,2,   -999.0,9,     5.00,2,    18.00,3,     0.01,2,     1.30,2, 0.102198438,2,   -999.0,9,-999.0000,9,  -999.00,  -999.00,9,  -999.00,9,  -999.00,9,  -999.00,9,   8.0323,     1120, -51.4151, 148.9310
  096U20160314,  Eddy,    39,  1,      2,   1202,2,20160411,   0,-51.4178, 148.9321, 4322,    502.9,   8.0720,  34.4980,2,-999.0000, 9,    261.7,2,   -999.0,9,  -999.00,9,  -999.00,9,  -999.00,9,  -999.00,9,        -999,9,   -999.0,9,-999.0000,9,  -999.00,  -999.00,9,  -999.00,9,  -999.00,9,  -999.00,9,   8.0202,     1120, -51.4151, 148.9310
  096U20160314,  Eddy,    40,  1,     23,   1223,2,20160414,   0,-46.5841, 142.0158, 4186,      5.2,  10.0050,  34.2880,2,  34.2688, 2,    279.8,2,    278.4,2,     1.06,2,    13.29,2,     0.29,2,     1.03,2,  0.15501092,2,   -999.0,9,-999.0000,9,  -999.00,  -999.00,9,  -999.00,9,  -999.00,9,  -999.00,9,  10.0044,     1035, -46.5838, 142.0163
  096U20160314,  Eddy,    40,  1,     24,   1224,2,20160414,   0,-46.5841, 142.0158, 4186,      5.5,  10.0060,  34.2880,2,  34.2671, 2,    279.8,2,    278.4,2,     1.01,2,    13.28,2,     0.29,2,     1.03,2, 0.142320314,2,   -999.0,9,-999.0000,9,  -999.00,  -999.00,9,  -999.00,9,  -999.00,9,  -999.00,9,  10.0054,     1035, -46.5838, 142.0162
  096U20160314,  Eddy,    40,  1,     21,   1221,2,20160414,   0,-46.5841, 142.0158, 4186,     23.2,   9.9330,  34.3580,2,  34.3370, 2,    280.0,2,    277.9,2,     1.16,2,    12.80,2,     0.26,2,     1.00,2, 0.103938438,2,   -999.0,9,-999.0000,9,  -999.00,  -999.00,9,  -999.00,9,  -999.00,9,  -999.00,9,   9.9304,     1032, -46.5837, 142.0165
  096U20160314,  Eddy,    40,  1,     22,   1222,2,20160414,   0,-46.5841, 142.0158, 4186,     24.4,   9.9330,  34.3590,2,  34.3359, 2,    279.5,2,    278.0,2,     1.18,2,    12.80,2,     0.26,2,     0.99,2, 0.101805299,2,   -999.0,9,-999.0000,9,  -999.00,  -999.00,9,  -999.00,9,  -999.00,9,  -999.00,9,   9.9302,     1032, -46.5837, 142.0165
  096U20160314,  Eddy,    40,  1,     20,   1220,2,20160414,   0,-46.5841, 142.0158, 4186,     50.4,   9.9680,  34.3970,2,  34.3776,32,    278.3,2,    276.4,2,     1.31,2,    12.56,2,     0.25,2,     0.98,2, 0.100889507,2,   -999.0,9,-999.0000,9,  -999.00,  -999.00,9,  -999.00,9,  -999.00,9,  -999.00,9,   9.9623,     1030, -46.5836, 142.0166
  096U20160314,  Eddy,    40,  1,     19,   1219,2,20160414,   0,-46.5841, 142.0158, 4186,     75.7,  10.0960,  34.4600,2,  34.4412, 2,    274.3,2,    273.2,2,     1.52,2,    12.16,2,     0.24,2,     0.95,2,  0.12110631,2,   -999.0,9,-999.0000,9,  -999.00,  -999.00,9,  -999.00,9,  -999.00,9,  -999.00,9,  10.0873,     1028, -46.5835, 142.0169
  096U20160314,  Eddy,    40,  1,     18,   1218,2,20160414,   0,-46.5841, 142.0158, 4186,     99.4,  10.0970,  34.4650,2,  34.4439, 2,    272.9,2,    271.9,2,     1.61,2,    12.20,2,     0.24,2,     0.95,2, 0.167056067,2,   -999.0,9,-999.0000,9,  -999.00,  -999.00,9,  -999.00,9,  -999.00,9,  -999.00,9,  10.0855,     1026, -46.5834, 142.0171
  096U20160314,  Eddy,    40,  1,     17,   1217,2,20160414,   0,-46.5841, 142.0158, 4186,    124.9,  10.0830,  34.4830,2,  34.5025, 2,    271.1,2,    268.1,2,     2.08,2,    12.59,2,     0.20,2,     0.97,2, 0.125022369,2,   -999.0,9,-999.0000,9,  -999.00,  -999.00,9,  -999.00,9,  -999.00,9,  -999.00,9,  10.0686,     1024, -46.5833, 142.0172
  096U20160314,  Eddy,    40,  1,     16,   1216,2,20160414,   0,-46.5841, 142.0158, 4186,    149.6,   9.7700,  34.6610,2,  34.6335, 2,    259.6,2,    259.3,2,     3.61,2,    13.83,2,     0.02,2,     1.03,2, 0.039205525,2,   -999.0,9,-999.0000,9,  -999.00,  -999.00,9,  -999.00,9,  -999.00,9,  -999.00,9,   9.7530,     1022, -46.5833, 142.0173
  096U20160314,  Eddy,    40,  1,     15,   1215,2,20160414,   0,-46.5841, 142.0158, 4186,    175.0,   9.5280,  34.6590,2,  34.6375, 2,    261.8,2,    260.7,2,     3.85,2,    13.93,2,     0.01,2,     1.03,2, 0.043364444,2,   -999.0,9,-999.0000,9,  -999.00,  -999.00,9,  -999.00,9,  -999.00,9,  -999.00,9,   9.5084,     1021, -46.5833, 142.0173
  096U20160314,  Eddy,    40,  1,     14,   1214,2,20160414,   0,-46.5841, 142.0158, 4186,    199.6,   9.4100,  34.6460,2,  34.6240, 2,    263.0,2,    262.0,2,     3.90,2,    14.17,2,     0.01,2,     1.05,2, 0.045757445,2,   -999.0,9,-999.0000,9,  -999.00,  -999.00,9,  -999.00,9,  -999.00,9,  -999.00,9,   9.3878,     1019, -46.5833, 142.0174
  096U20160314,  Eddy,    40,  1,     13,   1213,2,20160414,   0,-46.5841, 142.0158, 4186,    225.1,   9.2580,  34.6260,2,  34.6069, 2,    261.8,2,    260.5,2,     4.10,2,    14.62,2,     0.01,2,     1.07,2, 0.037354097,2,   -999.0,9,-999.0000,9,  -999.00,  -999.00,9,  -999.00,9,  -999.00,9,  -999.00,9,   9.2332,     1017, -46.5833, 142.0173
  096U20160314,  Eddy,    40,  1,     12,   1212,2,20160414,   0,-46.5841, 142.0158, 4186,    250.6,   9.2410,  34.6320,2,  34.6122, 2,    259.4,2,    258.1,2,     4.24,2,    14.86,2,     0.01,2,     1.09,2, 0.078578676,2,   -999.0,9,-999.0000,9,  -999.00,  -999.00,9,  -999.00,9,  -999.00,9,  -999.00,9,   9.2134,     1015, -46.5833, 142.0174
  096U20160314,  Eddy,    40,  1,     11,   1211,2,20160414,   0,-46.5841, 142.0158, 4186,    299.7,   9.2320,  34.6510,2,  34.6388, 2,    259.5,2,    258.8,2,     4.07,2,    14.67,2,     0.01,2,     1.08,2, 0.110368987,2,   -999.0,9,-999.0000,9,  -999.00,  -999.00,9,  -999.00,9,  -999.00,9,  -999.00,9,   9.1989,     1013, -46.5832, 142.0175
  096U20160314,  Eddy,    40,  1,     10,   1210,2,20160414,   0,-46.5841, 142.0158, 4186,    350.2,   9.2690,  34.6740,2,  34.6547, 2,    260.2,2,    259.8,2,     4.03,2,    14.53,2,     0.01,2,     1.07,2, 0.098398536,2,   -999.0,9,-999.0000,9,  -999.00,  -999.00,9,  -999.00,9,  -999.00,9,  -999.00,9,   9.2301,     1011, -46.5832, 142.0176
  096U20160314,  Eddy,    40,  1,      9,   1209,2,20160414,   0,-46.5841, 142.0158, 4186,    400.4,   9.1730,  34.6670,2,  34.6459, 2,    258.9,2,    258.7,2,     4.13,2,    14.81,2,     0.00,2,     1.09,2, 0.098959991,2,   -999.0,9,-999.0000,9,  -999.00,  -999.00,9,  -999.00,9,  -999.00,9,  -999.00,9,   9.1287,     1008, -46.5831, 142.0178
  096U20160314,  Eddy,    40,  1,      8,   1208,2,20160414,   0,-46.5841, 142.0158, 4186,    600.1,   8.4860,  34.5750,2,  34.5525, 2,    250.9,2,    251.1,2,     5.56,2,    17.52,2,     0.00,2,     1.25,2, 0.101188093,2,   -999.0,9,-999.0000,9,  -999.00,  -999.00,9,  -999.00,9,  -999.00,9,  -999.00,9,   8.4219,     1003, -46.5831, 142.0183
  096U20160314,  Eddy,    40,  1,      7,   1207,2,20160414,   0,-46.5841, 142.0158, 4186,    800.0,   6.9090,  34.4570,2,  34.4381, 2,    209.9,2,    210.6,2,    14.63,2,    24.83,2,     0.00,2,     1.71,2, 0.114995589,2,   -999.0,9,-999.0000,9,  -999.00,  -999.00,9,  -999.00,9,  -999.00,9,  -999.00,9,   6.8320,      958, -46.5830, 142.0189
  096U20160314,  Eddy,    40,  1,      6,   1206,2,20160414,   0,-46.5841, 142.0158, 4186,   1000.5,   4.9260,  34.3540,2,  34.3309, 2,    208.2,2,    208.9,2,    26.06,2,    29.38,2,     0.00,2,     2.03,2, 0.116291298,2,   -999.0,9,-999.0000,9,  -999.00,  -999.00,9,  -999.00,9,  -999.00,9,  -999.00,9,   4.8435,      952, -46.5831, 142.0197
  096U20160314,  Eddy,    40,  1,      5,   1205,2,20160414,   0,-46.5841, 142.0158, 4186,   1199.9,   4.0440,  34.4250,2,  34.4060, 2,    186.0,2,    186.8,2,    45.51,2,    32.02,2,     0.00,2,     2.23,2, 0.106511211,2,   -999.0,9,-999.0000,9,  -999.00,  -999.00,9,  -999.00,9,  -999.00,9,  -999.00,9,   3.9512,      947, -46.5832, 142.0200
  096U20160314,  Eddy,    40,  1,      4,   1204,2,20160414,   0,-46.5841, 142.0158, 4186,   1400.4,   3.1950,  34.4810,2,  34.4608, 2,    176.2,2,    177.0,2,    59.32,2,    33.71,2,     0.00,2,     2.36,2, 0.083689856,2,   -999.0,9,-999.0000,9,  -999.00,  -999.00,9,  -999.00,9,  -999.00,9,  -999.00,9,   3.0936,      942, -46.5832, 142.0205
  096U20160314,  Eddy,    40,  1,      3,   1203,2,20160414,   0,-46.5841, 142.0158, 4186,   1601.3,   2.7990,  34.5630,2,  34.5397, 2,    170.1,2,    171.5,2,    68.09,2,    33.93,2,     0.00,2,     2.37,2, 0.106213364,2,   -999.0,9,-999.0000,9,  -999.00,  -999.00,9,  -999.00,9,  -999.00,9,  -999.00,9,   2.6852,      937, -46.5830, 142.0208
  096U20160314,  Eddy,    40,  1,      2,   1202,2,20160414,   0,-46.5841, 142.0158, 4186,   1800.0,   2.5780,  34.6450,2,  34.6401, 2,    171.7,2,    173.4,2,    72.62,2,    33.04,2,     0.00,2,     2.31,2, 0.108604882,2,   -999.0,9,-999.0000,9,  -999.00,  -999.00,9,  -999.00,9,  -999.00,9,  -999.00,9,   2.4500,      932, -46.5830, 142.0213
  096U20160314,  Eddy,    40,  1,      1,   1201,2,20160414,   0,-46.5841, 142.0158, 4186,   1999.5,   2.4260,  34.7030,2,  34.6799, 2,    171.4,2,    173.9,2,    80.41,2,    32.45,2,     0.00,2,     2.28,2, 0.099087997,2,   -999.0,9,-999.0000,9,  -999.00,  -999.00,9,  -999.00,9,  -999.00,9,  -999.00,9,   2.2830,      927, -46.5830, 142.0221