BOTTLE,20180103PRINUNIVRMK
EXPOCODE,SECT_ID,STNNBR,CASTNO,SAMPNO,BTLNBR,BTLNBR_FLAG_W,DATE,TIME,LATITUDE,LONGITUDE,DEPTH,CTDPRS,CTDTMP,CTDSAL,CTDSAL_FLAG_W,SALNTY,SALNTY_FLAG_W,CTDOXY,CTDOXY_FLAG_W,OXYGEN,OXYGEN_FLAG_W,SILCAT,SILCAT_FLAG_W,NITRAT,NITRAT_FLAG_W,NITRIT,NITRIT_FLAG_W,PHSPHT,PHSPHT_FLAG_W,NH4,NH4_FLAG_W,ALKALI,ALKALI_FLAG_W,PH_TOT,PH_TOT_FLAG_W,PH_TMP,POC,POC_FLAG_W,PON,PON_FLAG_W,CHLORA,CHLORA_FLAG_W,PPHYTN,PPHYTN_FLAG_W,THETA,BTL_TIME,BTL_LAT,BTL_LON
,,,,,,,,,,,METERS,DBAR,ITS-90,PSS-78,,PSS-78,,UMOL/KG,,UMOL/KG,,UMOL/KG,,UMOL/KG,,UMOL/KG,,UMOL/KG,,UMOL/KG,,UMOL/KG,,,,DEG C,UG/KG,,UG/KG,,UG/KG,,UG/KG,,DEG C,,,
  096U20160314,  Eddy,    35,  1,     24,   1224,2,20160409,   0,-51.8984, 148.5212, 4228,      4.7,   9.7270,  34.4500,2,  34.4285, 2,    274.9,2,   -999.0,9,     2.33,2,    12.43,2,     0.25,2,     0.99,2, 0.184082678,2,   -999.0,9,-999.0000,9,  -999.00,  -999.00,9,  -999.00,9,  -999.00,9,  -999.00,9,   9.7265,     1837, -51.8983, 148.5212
  096U20160314,  Eddy,    35,  1,     23,   1223,2,20160409,   0,-51.8984, 148.5212, 4228,     14.5,   9.7260,  34.4510,2,-999.0000, 9,    274.7,2,   -999.0,9,     2.34,2,    12.43,2,     0.25,2,     0.99,2, 0.190400797,2,   -999.0,9,-999.0000,9,  -999.00,  -999.00,9,  -999.00,9,  -999.00,9,  -999.00,9,   9.7244,     1835, -51.8982, 148.5212
  096U20160314,  Eddy,    35,  1,     22,   1222,2,20160409,   0,-51.8984, 148.5212, 4228,     29.4,   9.7440,  34.4500,2,  34.4289, 2,    274.4,2,   -999.0,9,     2.36,2,    12.44,2,     0.25,2,     0.99,2, 0.191698897,2,   -999.0,9,-999.0000,9,  -999.00,  -999.00,9,  -999.00,9,  -999.00,9,  -999.00,9,   9.7407,     1833, -51.8982, 148.5212
  096U20160314,  Eddy,    35,  1,     21,   1221,2,20160409,   0,-51.8984, 148.5212, 4228,     43.3,   9.7600,  34.4520,2,-999.0000, 9,    274.2,2,   -999.0,9,     2.32,2,    12.45,2,     0.25,2,     1.00,2, 0.227318382,2,   -999.0,9,-999.0000,9,  -999.00,  -999.00,9,  -999.00,9,  -999.00,9,  -999.00,9,   9.7551,     1831, -51.8983, 148.5212
  096U20160314,  Eddy,    35,  1,     20,   1220,2,20160409,   0,-51.8984, 148.5212, 4228,     59.4,   9.7710,  34.4550,2,  34.4327, 2,    274.1,2,   -999.0,9,     2.37,2,    12.45,2,     0.25,2,     1.00,2, 0.249493429,2,   -999.0,9,-999.0000,9,  -999.00,  -999.00,9,  -999.00,9,  -999.00,9,  -999.00,9,   9.7643,     1830, -51.8982, 148.5212
  096U20160314,  Eddy,    35,  1,     19,   1219,2,20160409,   0,-51.8984, 148.5212, 4228,     80.6,   9.7640,  34.4530,2,-999.0000, 9,    273.9,2,   -999.0,9,     2.35,2,    12.43,2,     0.25,2,     1.00,2, 0.234913498,2,   -999.0,9,-999.0000,9,  -999.00,  -999.00,9,  -999.00,9,  -999.00,9,  -999.00,9,   9.7549,     1828, -51.8982, 148.5211
  096U20160314,  Eddy,    35,  1,     18,   1218,2,20160409,   0,-51.8984, 148.5212, 4228,    100.5,   9.8430,  34.4960,2,  34.4717, 2,    271.6,2,   -999.0,9,     2.61,2,    12.51,2,     0.23,2,     1.00,2, 0.229450318,2,   -999.0,9,-999.0000,9,  -999.00,  -999.00,9,  -999.00,9,  -999.00,9,  -999.00,9,   9.8316,     1826, -51.8982, 148.5212
  096U20160314,  Eddy,    35,  1,     17,   1217,2,20160409,   0,-51.8984, 148.5212, 4228,    124.6,   9.8120,  34.6080,2,-999.0000, 9,    264.3,2,   -999.0,9,     3.69,2,    13.48,2,     0.09,2,     1.03,2, 0.123794313,2,   -999.0,9,-999.0000,9,  -999.00,  -999.00,9,  -999.00,9,  -999.00,9,  -999.00,9,   9.7978,     1823, -51.8982, 148.5212
  096U20160314,  Eddy,    35,  1,     16,   1216,2,20160409,   0,-51.8984, 148.5212, 4228,    149.7,   9.5910,  34.6730,2,  34.6523, 2,    262.1,2,   -999.0,9,     4.48,2,    14.06,2,     0.02,2,     1.06,2,  0.12660451,2,   -999.0,9,-999.0000,9,  -999.00,  -999.00,9,  -999.00,9,  -999.00,9,  -999.00,9,   9.5742,     1821, -51.8982, 148.5211
  096U20160314,  Eddy,    35,  1,     15,   1215,2,20160409,   0,-51.8984, 148.5212, 4228,    176.7,   9.3940,  34.6460,2,-999.0000, 9,    265.3,2,   -999.0,9,     4.60,2,    14.15,2,     0.02,2,     1.07,2, 0.127210973,2,   -999.0,9,-999.0000,9,  -999.00,  -999.00,9,  -999.00,9,  -999.00,9,  -999.00,9,   9.3744,     1820, -51.8981, 148.5211
  096U20160314,  Eddy,    35,  1,     13,   1213,2,20160409,   0,-51.8984, 148.5212, 4228,    200.1,   9.3050,  34.6350,2,-999.0000, 9,    265.1,2,   -999.0,9,     4.58,2,    14.32,2,     0.02,2,     1.08,2, 0.100065224,2,   -999.0,9,-999.0000,9,  -999.00,  -999.00,9,  -999.00,9,  -999.00,9,  -999.00,9,   9.2829,     1817, -51.8982, 148.5212
  096U20160314,  Eddy,    35,  1,     14,   1214,2,20160409,   0,-51.8984, 148.5212, 4228,    200.6,   9.2970,  34.6350,2,  34.6178, 2,    264.8,2,   -999.0,9,     4.61,2,    14.26,2,     0.02,2,     1.07,2, 0.106154029,2,   -999.0,9,-999.0000,9,  -999.00,  -999.00,9,  -999.00,9,  -999.00,9,  -999.00,9,   9.2749,     1818, -51.8982, 148.5211
  096U20160314,  Eddy,    35,  1,     12,   1212,2,20160409,   0,-51.8984, 148.5212, 4228,    251.0,   9.0920,  34.6150,2,  34.5939, 2,    263.8,2,   -999.0,9,     4.90,2,    14.98,2,     0.02,2,     1.12,2, 0.066634779,2,   -999.0,9,-999.0000,9,  -999.00,  -999.00,9,  -999.00,9,  -999.00,9,  -999.00,9,   9.0646,     1815, -51.8982, 148.5212
  096U20160314,  Eddy,    35,  1,     11,   1211,2,20160409,   0,-51.8984, 148.5212, 4228,    299.3,   9.1030,  34.6360,2,-999.0000, 9,    262.3,2,   -999.0,9,     4.97,2,    14.93,2,     0.01,2,     1.12,2, 0.080837275,2,   -999.0,9,-999.0000,9,  -999.00,  -999.00,9,  -999.00,9,  -999.00,9,  -999.00,9,   9.0702,     1812, -51.8981, 148.5211
  096U20160314,  Eddy,    35,  1,     10,   1210,2,20160409,   0,-51.8984, 148.5212, 4228,    348.7,   9.0160,  34.6350,2,  34.6130, 2,    258.9,2,   -999.0,9,     5.15,2,    15.53,2,     0.01,2,     1.15,2,  0.06087829,2,   -999.0,9,-999.0000,9,  -999.00,  -999.00,9,  -999.00,9,  -999.00,9,  -999.00,9,   8.9779,     1810, -51.8980, 148.5210
  096U20160314,  Eddy,    35,  1,      9,   1209,2,20160409,   0,-51.8984, 148.5212, 4228,    402.0,   8.8880,  34.6220,2,-999.0000, 9,    258.5,2,   -999.0,9,     5.27,2,    15.75,2,     0.01,2,     1.17,2, 0.064173588,2,   -999.0,9,-999.0000,9,  -999.00,  -999.00,9,  -999.00,9,  -999.00,9,  -999.00,9,   8.8443,     1808, -51.8980, 148.5211
  096U20160314,  Eddy,    35,  1,      8,   1208,2,20160409,   0,-51.8984, 148.5212, 4228,    503.6,   8.4720,  34.5680,2,  34.5467, 2,    252.5,2,   -999.0,9,     6.42,2,    17.60,2,     0.01,2,     1.27,2, 0.070428154,2,   -999.0,9,-999.0000,9,  -999.00,  -999.00,9,  -999.00,9,  -999.00,9,  -999.00,9,   8.4186,     1805, -51.8980, 148.5210
  096U20160314,  Eddy,    35,  1,      7,   1207,2,20160409,   0,-51.8984, 148.5212, 4228,    601.8,   8.0250,  34.5290,2,-999.0000, 9,    235.0,2,   -999.0,9,     8.94,2,    20.25,2,     0.01,2,     1.44,2, 0.072154645,2,   -999.0,9,-999.0000,9,  -999.00,  -999.00,9,  -999.00,9,  -999.00,9,  -999.00,9,   7.9628,     1802, -51.8983, 148.5212
  096U20160314,  Eddy,    35,  1,      6,   1206,2,20160409,   0,-51.8984, 148.5212, 4228,    702.5,   7.2140,  34.4590,2,  34.4374, 2,    220.4,2,   -999.0,9,    12.85,2,    23.39,2,     0.00,2,     1.64,2, 0.090102879,2,   -999.0,9,-999.0000,9,  -999.00,  -999.00,9,  -999.00,9,  -999.00,9,  -999.00,9,   7.1453,     1759, -51.8984, 148.5212
  096U20160314,  Eddy,    35,  1,      5,   1205,2,20160409,   0,-51.8984, 148.5212, 4228,    803.2,   6.3510,  34.4150,2,-999.0000, 9,    211.2,2,   -999.0,9,    17.97,2,    26.04,2,     0.00,2,     1.81,2, 0.094868089,2,   -999.0,9,-999.0000,9,  -999.00,  -999.00,9,  -999.00,9,  -999.00,9,  -999.00,9,   6.2771,     1756, -51.8985, 148.5212
  096U20160314,  Eddy,    35,  1,      4,   1204,2,20160409,   0,-51.8984, 148.5212, 4228,    902.8,   5.5630,  34.3830,2,  34.3629, 2,    207.4,2,   -999.0,9,    23.32,2,    28.19,2,     0.01,2,     1.96,2, 0.093430689,2,   -999.0,9,-999.0000,9,  -999.00,  -999.00,9,  -999.00,9,  -999.00,9,  -999.00,9,   5.4848,     1752, -51.8989, 148.5213
  096U20160314,  Eddy,    35,  1,      3,   1203,2,20160409,   0,-51.8984, 148.5212, 4228,   1004.1,   4.5350,  34.3400,2,-999.0000, 9,    209.4,2,   -999.0,9,    29.94,2,    30.19,2,     0.00,2,     2.10,2, 0.096652893,2,   -999.0,9,-999.0000,9,  -999.00,  -999.00,9,  -999.00,9,  -999.00,9,  -999.00,9,   4.4551,     1749, -51.8992, 148.5213
  096U20160314,  Eddy,    35,  1,      2,   1202,2,20160409,   0,-51.8984, 148.5212, 4228,   1249.8,   3.5830,  34.4120,2,  34.3889, 2,    188.6,2,   -999.0,9,    48.67,2,    32.83,2,     0.00,2,     2.30,2, 0.102480858,2,   -999.0,9,-999.0000,9,  -999.00,  -999.00,9,  -999.00,9,  -999.00,9,  -999.00,9,   3.4903,     1744, -51.8993, 148.5214
  096U20160314,  Eddy,    35,  1,      1,   1201,2,20160409,   0,-51.8984, 148.5212, 4228,   1500.8,   2.9070,  34.4990,2,-999.0000, 9,    175.9,2,   -999.0,9,    63.01,2,    34.14,2,     0.01,2,     2.39,2, 0.084418713,3,   -999.0,9,-999.0000,9,  -999.00,  -999.00,9,  -999.00,9,  -999.00,9,  -999.00,9,   2.8003,     1738, -51.8991, 148.5213
  096U20160314,  Eddy,    36,  1,     24,   1224,2,20160410,   0,-51.7945, 148.3165, 4283,     10.5,   9.7370,  34.4720,2,-999.0000, 9,    274.5,2,   -999.0,9,     2.10,2,    12.37,2,     0.24,2,     0.99,2, 0.165138357,2,   -999.0,9,-999.0000,9,  -999.00,  -999.00,9,  -999.00,9,  -999.00,9,  -999.00,9,   9.7358,      213, -51.7941, 148.3175
  096U20160314,  Eddy,    36,  1,     23,   1223,2,20160410,   0,-51.7945, 148.3165, 4283,     19.9,   9.7410,  34.4720,2,  34.4503, 2,    274.6,2,   -999.0,9,     2.03,2,    12.36,2,     0.24,2,     0.99,2, 0.164360135,2,   -999.0,9,-999.0000,9,  -999.00,  -999.00,9,  -999.00,9,  -999.00,9,  -999.00,9,   9.7388,      212, -51.7939, 148.3179
  096U20160314,  Eddy,    36,  1,     22,   1222,2,20160410,   0,-51.7945, 148.3165, 4283,     28.3,   9.7420,  34.4720,2,-999.0000, 9,    275.0,2,   -999.0,9,     2.00,2,    12.36,2,     0.24,2,     0.99,2, 0.147759267,2,   -999.0,9,-999.0000,9,  -999.00,  -999.00,9,  -999.00,9,  -999.00,9,  -999.00,9,   9.7388,      211, -51.7938, 148.3181
  096U20160314,  Eddy,    36,  1,     21,   1221,2,20160410,   0,-51.7945, 148.3165, 4283,     45.0,   9.7450,  34.4720,2,  34.4509, 2,    274.6,2,   -999.0,9,     2.05,2,    12.37,2,     0.24,2,     0.99,2,  0.17588933,2,   -999.0,9,-999.0000,9,  -999.00,  -999.00,9,  -999.00,9,  -999.00,9,  -999.00,9,   9.7399,      210, -51.7937, 148.3184
  096U20160314,  Eddy,    36,  1,     20,   1220,2,20160410,   0,-51.7945, 148.3165, 4283,     60.6,   9.7480,  34.4720,2,-999.0000, 9,    274.2,2,   -999.0,9,     2.04,2,    12.34,2,     0.24,2,     0.99,2, 0.190889484,2,   -999.0,9,-999.0000,9,  -999.00,  -999.00,9,  -999.00,9,  -999.00,9,  -999.00,9,   9.7412,      208, -51.7936, 148.3186
  096U20160314,  Eddy,    36,  1,     19,   1219,2,20160410,   0,-51.7945, 148.3165, 4283,     80.0,   9.7500,  34.4720,2,  34.4507, 2,    274.2,2,   -999.0,9,     2.00,2,    12.35,2,     0.24,2,     0.99,2, 0.182528147,2,   -999.0,9,-999.0000,9,  -999.00,  -999.00,9,  -999.00,9,  -999.00,9,  -999.00,9,   9.7410,      207, -51.7933, 148.3190
  096U20160314,  Eddy,    36,  1,     18,   1218,2,20160410,   0,-51.7945, 148.3165, 4283,    100.3,   9.7540,  34.4720,2,-999.0000, 9,    274.1,2,   -999.0,9,     2.00,2,    12.39,2,     0.24,2,     0.99,2, 0.211864149,2,   -999.0,9,-999.0000,9,  -999.00,  -999.00,9,  -999.00,9,  -999.00,9,  -999.00,9,   9.7427,      206, -51.7932, 148.3193
  096U20160314,  Eddy,    36,  1,     17,   1217,2,20160410,   0,-51.7945, 148.3165, 4283,    124.8,   9.7580,  34.4730,2,  34.4528, 2,    274.0,2,   -999.0,9,     2.09,2,    12.38,2,     0.23,2,     0.99,2, 0.199041953,2,   -999.0,9,-999.0000,9,  -999.00,  -999.00,9,  -999.00,9,  -999.00,9,  -999.00,9,   9.7439,      205, -51.7930, 148.3196
  096U20160314,  Eddy,    36,  1,     16,   1216,2,20160410,   0,-51.7945, 148.3165, 4283,    150.4,   9.8570,  34.5770,2,-999.0000, 9,    265.6,2,   -999.0,9,     2.88,2,    13.22,2,     0.15,2,     1.02,2, 0.143186219,2,   -999.0,9,-999.0000,9,  -999.00,  -999.00,9,  -999.00,9,  -999.00,9,  -999.00,9,   9.8398,      203, -51.7929, 148.3199
  096U20160314,  Eddy,    36,  1,     15,   1215,2,20160410,   0,-51.7945, 148.3165, 4283,    173.5,   9.5380,  34.6580,2,  34.6351, 2,    261.8,2,   -999.0,9,     4.13,2,    14.39,2,     0.01,2,     1.08,2, 0.099156839,3,   -999.0,9,-999.0000,9,  -999.00,  -999.00,9,  -999.00,9,  -999.00,9,  -999.00,9,   9.5186,      202, -51.7927, 148.3201
  096U20160314,  Eddy,    36,  1,     14,   1214,2,20160410,   0,-51.7945, 148.3165, 4283,    201.1,   9.4280,  34.6570,2,-999.0000, 9,    261.6,2,   -999.0,9,     4.23,2,    14.54,2,     0.01,2,     1.08,2, 0.074261694,2,   -999.0,9,-999.0000,9,  -999.00,  -999.00,9,  -999.00,9,  -999.00,9,  -999.00,9,   9.4056,      201, -51.7926, 148.3202
  096U20160314,  Eddy,    36,  1,     13,   1213,2,20160410,   0,-51.7945, 148.3165, 4283,    224.4,   9.2770,  34.6390,2,  34.6179, 2,    263.6,2,   -999.0,9,     4.37,2,    14.76,2,     0.01,2,     1.10,2, 0.075820489,2,   -999.0,9,-999.0000,9,  -999.00,  -999.00,9,  -999.00,9,  -999.00,9,  -999.00,9,   9.2522,      159, -51.7925, 148.3204
  096U20160314,  Eddy,    36,  1,     12,   1212,2,20160410,   0,-51.7945, 148.3165, 4283,    250.2,   9.1600,  34.6340,2,-999.0000, 9,    262.8,2,   -999.0,9,     4.52,2,    15.07,2,     0.01,2,     1.12,2, 0.079613157,2,   -999.0,9,-999.0000,9,  -999.00,  -999.00,9,  -999.00,9,  -999.00,9,  -999.00,9,   9.1326,      158, -51.7924, 148.3205
  096U20160314,  Eddy,    36,  1,     11,   1211,2,20160410,   0,-51.7945, 148.3165, 4283,    300.0,   9.0950,  34.6450,2,  34.6231, 2,    260.7,2,   -999.0,9,     4.67,2,    15.45,2,     0.01,2,     1.14,2, 0.094951449,2,   -999.0,9,-999.0000,9,  -999.00,  -999.00,9,  -999.00,9,  -999.00,9,  -999.00,9,   9.0622,      156, -51.7922, 148.3208
  096U20160314,  Eddy,    36,  1,     10,   1210,2,20160410,   0,-51.7945, 148.3165, 4283,    349.6,   8.9960,  34.6410,2,-999.0000, 9,    260.3,2,   -999.0,9,     4.69,2,    15.56,2,     0.01,2,     1.15,2, 0.082343125,2,   -999.0,9,-999.0000,9,  -999.00,  -999.00,9,  -999.00,9,  -999.00,9,  -999.00,9,   8.9579,      153, -51.7919, 148.3211
  096U20160314,  Eddy,    36,  1,      9,   1209,2,20160410,   0,-51.7945, 148.3165, 4283,    402.4,   8.8720,  34.6270,2,  34.6059, 2,    258.1,2,   -999.0,9,     4.94,2,    16.15,2,     0.01,2,     1.19,2, 0.100007227,2,   -999.0,9,-999.0000,9,  -999.00,  -999.00,9,  -999.00,9,  -999.00,9,  -999.00,9,   8.8284,      150, -51.7913, 148.3210
  096U20160314,  Eddy,    36,  1,      8,   1208,2,20160410,   0,-51.7945, 148.3165, 4283,    497.1,   8.4330,  34.5660,2,-999.0000, 9,    262.5,2,   -999.0,9,     5.38,2,    17.12,2,     0.00,2,     1.25,2,  0.11502536,2,   -999.0,9,-999.0000,9,  -999.00,  -999.00,9,  -999.00,9,  -999.00,9,  -999.00,9,   8.3804,      147, -51.7910, 148.3217
  096U20160314,  Eddy,    36,  1,      7,   1207,2,20160410,   0,-51.7945, 148.3165, 4283,    600.6,   7.7800,  34.4740,2,  34.4512, 2,    249.7,2,   -999.0,9,     7.39,2,    19.90,2,     0.00,2,     1.42,2, 0.109037262,2,   -999.0,9,-999.0000,9,  -999.00,  -999.00,9,  -999.00,9,  -999.00,9,  -999.00,9,   7.7191,      144, -51.7909, 148.3230
  096U20160314,  Eddy,    36,  1,      6,   1206,2,20160410,   0,-51.7945, 148.3165, 4283,    701.8,   7.3250,  34.4830,2,-999.0000, 9,    215.2,2,   -999.0,9,    13.02,2,    23.84,2,     0.00,2,     1.66,2, 0.117060791,2,   -999.0,9,-999.0000,9,  -999.00,  -999.00,9,  -999.00,9,  -999.00,9,  -999.00,9,   7.2557,      141, -51.7907, 148.3240
  096U20160314,  Eddy,    36,  1,      5,   1205,2,20160410,   0,-51.7945, 148.3165, 4283,    799.3,   6.3570,  34.4160,2,  34.3938, 2,    210.8,2,   -999.0,9,    17.72,2,    26.48,2,     0.00,2,     1.84,2, 0.125224355,2,   -999.0,9,-999.0000,9,  -999.00,  -999.00,9,  -999.00,9,  -999.00,9,  -999.00,9,   6.2835,      138, -51.7905, 148.3245
  096U20160314,  Eddy,    36,  1,      4,   1204,2,20160410,   0,-51.7945, 148.3165, 4283,    900.0,   5.4670,  34.3600,2,-999.0000, 9,    212.3,2,   -999.0,9,    21.65,2,    28.44,2,     0.00,2,     1.97,2, 0.125012985,2,   -999.0,9,-999.0000,9,  -999.00,  -999.00,9,  -999.00,9,  -999.00,9,  -999.00,9,   5.3897,      135, -51.7898, 148.3242
  096U20160314,  Eddy,    36,  1,      3,   1203,2,20160410,   0,-51.7945, 148.3165, 4283,   1000.0,   4.7660,  34.3420,2,  34.3202, 2,    210.2,2,   -999.0,9,    27.43,2,    30.05,2,     0.00,2,     2.09,2, 0.117134299,2,   -999.0,9,-999.0000,9,  -999.00,  -999.00,9,  -999.00,9,  -999.00,9,  -999.00,9,   4.6848,      133, -51.7893, 148.3242
  096U20160314,  Eddy,    36,  1,      2,   1202,2,20160410,   0,-51.7945, 148.3165, 4283,   1249.5,   3.6420,  34.3980,2,-999.0000, 9,    191.3,2,   -999.0,9,    45.69,2,    33.03,2,    -0.01,2,     2.30,2, 0.124453221,2,   -999.0,9,-999.0000,9,  -999.00,  -999.00,9,  -999.00,9,  -999.00,9,  -999.00,9,   3.5488,      127, -51.7885, 148.3243
  096U20160314,  Eddy,    36,  1,      1,   1201,2,20160410,   0,-51.7945, 148.3165, 4283,   1500.7,   2.9830,  34.4960,2,  34.4733, 2,    175.4,2,   -999.0,9,    61.62,2,    34.48,2,     0.00,2,     2.41,2, 0.098540457,2,   -999.0,9,-999.0000,9,  -999.00,  -999.00,9,  -999.00,9,  -999.00,9,  -999.00,9,   2.8755,      122, -51.7877, 148.3248