BOTTLE,20180103PRINUNIVRMK
# processed by CCHDO on 2018-05-25, no changes
# 4/4/2016 Initialized README file  
# Data source:  
# SHIP: Investigator 
# Cruise: IN2016_v02 
# Region: SE of Tasmania 
# EXPOCODE: 096U20160314 
# ALIAS: 09IN20160314, Strutton Eddy 
# DATES: 20160314 - 20160413 
# Chief Scientist: Pete Strutton 
# 40 stations with 24 place Rosette 
# SOCCOM Biogeochemical floats deployed by Pete Strutton 
# Sta   WMO_ID	Lat       Lon       Date       U.W.ID	 
# 8     5904677  -50.4767  147.1733   20160331      9631 
# 27    5904678  -51.9517  148.6667   20160407      9744 
# Supported by NSF Award PLR-1425989 to J.L. Sarmiento et al.  
# CTD: Who - ; Status - preliminary 
# 	Includes: CTDSAL, CTDOXY 
# 	currently flagged 2, but not calibrated 
# Salinty: Who - Pamela Brodie; Status - final 
# 	Notes: 	2/20/17 salt flags for stations 14 and 40 reset  
# 		from 5 to 2 
# Nutrients: Who - C.Schwanger; Status - final 
# 	Notes: Data rcd 8/1/16 
# 		"NOX" converted to nitrate by subtraction of nitrite 
# 		all nutrients converted from uM to umol/kg 
# O2: Who - C.Schwanger; Status - final 
# 	Notes:  
# TA: Who - A.Dickson; Status - final 
# 	Notes: Rcd from D.Cervantes 10/13/16 
# 	Merged 6/7/17 
# PH: Who - A.Dickson; Status - final 
# 	Notes: Rcd from D.Cervantes 10/13/16 
# 	Merged 6/7/17 
# HPLC: Who - P.Strutton; Status - collected 
# 	Notes:  
# POC/PON: Who - P.Strutton; Status - final 
# 	Notes: Analysis by T.Rodermann, Univ. Tasmania 
# 	Data rcd 5/23/17 from S.Moreau 
# 	Merged 6/6/17 converted to ug/kg units 
# ChlorA/Phaeo: Who - P.Strutton; Status - final 
# 	Notes: revised data 10/5/10 and merged 10/10/16 
# 	Remerged due to id errors in orginal data file 1/3/18 
# 	Units converted to ug/kg with sigma0 
# These data should be cited as: 
# References that have used data from this cruise: 
EXPOCODE,SECT_ID,STNNBR,CASTNO,SAMPNO,BTLNBR,BTLNBR_FLAG_W,DATE,TIME,LATITUDE,LONGITUDE,DEPTH,CTDPRS,CTDTMP,CTDSAL,CTDSAL_FLAG_W,SALNTY,SALNTY_FLAG_W,CTDOXY,CTDOXY_FLAG_W,OXYGEN,OXYGEN_FLAG_W,SILCAT,SILCAT_FLAG_W,NITRAT,NITRAT_FLAG_W,NITRIT,NITRIT_FLAG_W,PHSPHT,PHSPHT_FLAG_W,NH4,NH4_FLAG_W,ALKALI,ALKALI_FLAG_W,PH_TOT,PH_TOT_FLAG_W,PH_TMP,POC,POC_FLAG_W,PON,PON_FLAG_W,CHLORA,CHLORA_FLAG_W,PPHYTN,PPHYTN_FLAG_W,THETA,BTL_TIME,BTL_LAT,BTL_LON
,,,,,,,,,,,METERS,DBAR,ITS-90,PSS-78,,PSS-78,,UMOL/KG,,UMOL/KG,,UMOL/KG,,UMOL/KG,,UMOL/KG,,UMOL/KG,,UMOL/KG,,UMOL/KG,,,,DEG C,UG/KG,,UG/KG,,UG/KG,,UG/KG,,DEG C,,,
  096U20160314,  Eddy,     1,  1,      1,   1201,2,20160315,   0,-46.0009, 143.7068, 4792,   1504.9,   3.2710,  34.4370,2,-999.0000, 9,    182.5,2,    186.0,2,  -999.00,9,  -999.00,9,  -999.00,9,  -999.00,9,        -999,9,   -999.0,9,-999.0000,9,  -999.00,  -999.00,9,  -999.00,9,  -999.00,9,  -999.00,9,   3.1600,      443, -46.0011, 143.7071
  096U20160314,  Eddy,     1,  1,      2,   1202,2,20160315,   0,-46.0009, 143.7068, 4792,   1505.3,   3.2700,  34.4370,2,-999.0000, 9,    182.6,2,    184.4,2,  -999.00,9,  -999.00,9,  -999.00,9,  -999.00,9,        -999,9,   -999.0,9,-999.0000,9,  -999.00,  -999.00,9,  -999.00,9,  -999.00,9,  -999.00,9,   3.1589,      443, -46.0011, 143.7071
  096U20160314,  Eddy,     1,  1,      3,   1203,2,20160315,   0,-46.0009, 143.7068, 4792,   1505.3,   3.2700,  34.4370,2,-999.0000, 9,    182.4,2,   -999.0,9,  -999.00,9,  -999.00,9,  -999.00,9,  -999.00,9,        -999,9,   -999.0,9,-999.0000,9,  -999.00,  -999.00,9,  -999.00,9,  -999.00,9,  -999.00,9,   3.1589,      443, -46.0011, 143.7071
  096U20160314,  Eddy,     1,  1,      4,   1204,2,20160315,   0,-46.0009, 143.7068, 4792,   1505.3,   3.2700,  34.4370,2,-999.0000, 9,    182.4,2,    186.4,2,  -999.00,9,  -999.00,9,  -999.00,9,  -999.00,9,        -999,9,   -999.0,9,-999.0000,9,  -999.00,  -999.00,9,  -999.00,9,  -999.00,9,  -999.00,9,   3.1589,      443, -46.0011, 143.7071
  096U20160314,  Eddy,     1,  1,      5,   1205,2,20160315,   0,-46.0009, 143.7068, 4792,   1505.5,   3.2700,  34.4370,2,-999.0000, 9,    182.5,2,    184.1,2,  -999.00,9,  -999.00,9,  -999.00,9,  -999.00,9,        -999,9,   -999.0,9,-999.0000,9,  -999.00,  -999.00,9,  -999.00,9,  -999.00,9,  -999.00,9,   3.1589,      443, -46.0011, 143.7071
  096U20160314,  Eddy,     1,  1,      6,   1206,2,20160315,   0,-46.0009, 143.7068, 4792,   1505.5,   3.2700,  34.4370,2,-999.0000, 9,    182.4,2,    277.4,4,  -999.00,9,  -999.00,9,  -999.00,9,  -999.00,9,        -999,9,   -999.0,9,-999.0000,9,  -999.00,  -999.00,9,  -999.00,9,  -999.00,9,  -999.00,9,   3.1589,      443, -46.0011, 143.7071
  096U20160314,  Eddy,     1,  1,      8,   1208,2,20160315,   0,-46.0009, 143.7068, 4792,   1505.7,   3.2690,  34.4370,2,-999.0000, 9,    182.5,2,    184.1,2,  -999.00,9,  -999.00,9,  -999.00,9,  -999.00,9,        -999,9,   -999.0,9,-999.0000,9,  -999.00,  -999.00,9,  -999.00,9,  -999.00,9,  -999.00,9,   3.1579,      443, -46.0011, 143.7071
  096U20160314,  Eddy,     1,  1,      7,   1207,2,20160315,   0,-46.0009, 143.7068, 4792,   1505.8,   3.2680,  34.4370,2,-999.0000, 9,    182.4,2,    184.2,2,  -999.00,9,  -999.00,9,  -999.00,9,  -999.00,9,        -999,9,   -999.0,9,-999.0000,9,  -999.00,  -999.00,9,  -999.00,9,  -999.00,9,  -999.00,9,   3.1569,      443, -46.0011, 143.7071
  096U20160314,  Eddy,     1,  1,      9,   1209,2,20160315,   0,-46.0009, 143.7068, 4792,   1505.8,   3.2680,  34.4370,2,-999.0000, 9,    182.5,2,    186.0,2,  -999.00,9,  -999.00,9,  -999.00,9,  -999.00,9,        -999,9,   -999.0,9,-999.0000,9,  -999.00,  -999.00,9,  -999.00,9,  -999.00,9,  -999.00,9,   3.1569,      443, -46.0011, 143.7071
  096U20160314,  Eddy,     1,  1,     11,   1211,2,20160315,   0,-46.0009, 143.7068, 4792,   1506.0,   3.2670,  34.4370,2,-999.0000, 9,    182.5,2,    186.4,2,  -999.00,9,  -999.00,9,  -999.00,9,  -999.00,9,        -999,9,   -999.0,9,-999.0000,9,  -999.00,  -999.00,9,  -999.00,9,  -999.00,9,  -999.00,9,   3.1559,      443, -46.0011, 143.7071
  096U20160314,  Eddy,     1,  1,     10,   1210,2,20160315,   0,-46.0009, 143.7068, 4792,   1506.1,   3.2650,  34.4380,2,-999.0000, 9,    182.5,2,    185.1,2,  -999.00,9,  -999.00,9,  -999.00,9,  -999.00,9,        -999,9,   -999.0,9,-999.0000,9,  -999.00,  -999.00,9,  -999.00,9,  -999.00,9,  -999.00,9,   3.1539,      443, -46.0011, 143.7071
  096U20160314,  Eddy,     1,  1,     12,   1212,2,20160315,   0,-46.0009, 143.7068, 4792,   1506.1,   3.2670,  34.4370,2,-999.0000, 9,    182.3,2,    185.3,2,  -999.00,9,  -999.00,9,  -999.00,9,  -999.00,9,        -999,9,   -999.0,9,-999.0000,9,  -999.00,  -999.00,9,  -999.00,9,  -999.00,9,  -999.00,9,   3.1559,      443, -46.0011, 143.7071
  096U20160314,  Eddy,     1,  1,     13,   1213,2,20160315,   0,-46.0009, 143.7068, 4792,   1506.2,   3.2660,  34.4380,2,-999.0000, 9,    182.4,2,    184.5,2,  -999.00,9,  -999.00,9,  -999.00,9,  -999.00,9,        -999,9,   -999.0,9,-999.0000,9,  -999.00,  -999.00,9,  -999.00,9,  -999.00,9,  -999.00,9,   3.1549,      443, -46.0011, 143.7071
  096U20160314,  Eddy,     1,  1,     14,   1214,2,20160315,   0,-46.0009, 143.7068, 4792,   1506.4,   3.2650,  34.4380,2,-999.0000, 9,    182.4,2,    184.7,2,  -999.00,9,  -999.00,9,  -999.00,9,  -999.00,9,        -999,9,   -999.0,9,-999.0000,9,  -999.00,  -999.00,9,  -999.00,9,  -999.00,9,  -999.00,9,   3.1539,      443, -46.0011, 143.7071
  096U20160314,  Eddy,     1,  1,     15,   1215,2,20160315,   0,-46.0009, 143.7068, 4792,   1506.5,   3.2630,  34.4380,2,-999.0000, 9,    182.3,2,    185.2,2,  -999.00,9,  -999.00,9,  -999.00,9,  -999.00,9,        -999,9,   -999.0,9,-999.0000,9,  -999.00,  -999.00,9,  -999.00,9,  -999.00,9,  -999.00,9,   3.1519,      444, -46.0011, 143.7071
  096U20160314,  Eddy,     1,  1,     16,   1216,2,20160315,   0,-46.0009, 143.7068, 4792,   1506.6,   3.2620,  34.4380,2,-999.0000, 9,    182.4,2,    184.7,2,  -999.00,9,  -999.00,9,  -999.00,9,  -999.00,9,        -999,9,   -999.0,9,-999.0000,9,  -999.00,  -999.00,9,  -999.00,9,  -999.00,9,  -999.00,9,   3.1509,      444, -46.0011, 143.7071
  096U20160314,  Eddy,     1,  1,     17,   1217,2,20160315,   0,-46.0009, 143.7068, 4792,   1506.6,   3.2620,  34.4380,2,-999.0000, 9,    182.3,2,    203.5,3,  -999.00,9,  -999.00,9,  -999.00,9,  -999.00,9,        -999,9,   -999.0,9,-999.0000,9,  -999.00,  -999.00,9,  -999.00,9,  -999.00,9,  -999.00,9,   3.1509,      444, -46.0011, 143.7071
  096U20160314,  Eddy,     1,  1,     18,   1218,2,20160315,   0,-46.0009, 143.7068, 4792,   1506.6,   3.2630,  34.4380,2,-999.0000, 9,    182.3,2,    184.0,2,  -999.00,9,  -999.00,9,  -999.00,9,  -999.00,9,        -999,9,   -999.0,9,-999.0000,9,  -999.00,  -999.00,9,  -999.00,9,  -999.00,9,  -999.00,9,   3.1519,      444, -46.0011, 143.7071
  096U20160314,  Eddy,     1,  1,     19,   1219,2,20160315,   0,-46.0009, 143.7068, 4792,   1506.8,   3.2620,  34.4380,2,-999.0000, 9,    182.4,2,    185.3,2,  -999.00,9,  -999.00,9,  -999.00,9,  -999.00,9,        -999,9,   -999.0,9,-999.0000,9,  -999.00,  -999.00,9,  -999.00,9,  -999.00,9,  -999.00,9,   3.1509,      444, -46.0011, 143.7071
  096U20160314,  Eddy,     1,  1,     20,   1220,2,20160315,   0,-46.0009, 143.7068, 4792,   1506.9,   3.2620,  34.4380,2,-999.0000, 9,    182.3,2,    184.4,2,  -999.00,9,  -999.00,9,  -999.00,9,  -999.00,9,        -999,9,   -999.0,9,-999.0000,9,  -999.00,  -999.00,9,  -999.00,9,  -999.00,9,  -999.00,9,   3.1509,      444, -46.0011, 143.7071
  096U20160314,  Eddy,     1,  1,     21,   1221,2,20160315,   0,-46.0009, 143.7068, 4792,   1507.0,   3.2620,  34.4380,2,-999.0000, 9,    182.4,2,    185.3,2,  -999.00,9,  -999.00,9,  -999.00,9,  -999.00,9,        -999,9,   -999.0,9,-999.0000,9,  -999.00,  -999.00,9,  -999.00,9,  -999.00,9,  -999.00,9,   3.1509,      444, -46.0011, 143.7071
  096U20160314,  Eddy,     1,  1,     22,   1222,2,20160315,   0,-46.0009, 143.7068, 4792,   1507.0,   3.2620,  34.4380,2,-999.0000, 9,    182.4,2,    185.7,2,  -999.00,9,  -999.00,9,  -999.00,9,  -999.00,9,        -999,9,   -999.0,9,-999.0000,9,  -999.00,  -999.00,9,  -999.00,9,  -999.00,9,  -999.00,9,   3.1509,      444, -46.0011, 143.7071
  096U20160314,  Eddy,     1,  1,     23,   1223,2,20160315,   0,-46.0009, 143.7068, 4792,   1507.1,   3.2610,  34.4380,2,-999.0000, 9,    182.3,2,    187.0,2,  -999.00,9,  -999.00,9,  -999.00,9,  -999.00,9,        -999,9,   -999.0,9,-999.0000,9,  -999.00,  -999.00,9,  -999.00,9,  -999.00,9,  -999.00,9,   3.1499,      444, -46.0011, 143.7071
  096U20160314,  Eddy,     1,  1,     24,   1224,2,20160315,   0,-46.0009, 143.7068, 4792,   1507.3,   3.2610,  34.4380,2,-999.0000, 9,    182.2,2,    194.5,2,  -999.00,9,  -999.00,9,  -999.00,9,  -999.00,9,        -999,9,   -999.0,9,-999.0000,9,  -999.00,  -999.00,9,  -999.00,9,  -999.00,9,  -999.00,9,   3.1499,      444, -46.0011, 143.7071
  096U20160314,  Eddy,     2,  1,     24,   1224,2,20160318,   0,-46.7731, 141.9345, 4591,      7.0,  13.3440,  34.9940,2,  34.9746, 2,    259.7,2,    256.9,2,     0.98,2,     4.62,2,     0.18,2,     0.48,2, 0.278710801,2,   -999.0,9,-999.0000,9,  -999.00,  -999.00,9,  -999.00,9,  -999.00,9,  -999.00,9,  13.3430,     1223, -46.7729, 141.9343
  096U20160314,  Eddy,     2,  1,     23,   1223,2,20160318,   0,-46.7731, 141.9345, 4591,      7.3,  13.3460,  34.9940,2,  34.9777, 2,    259.7,2,    256.8,2,     0.95,2,     4.62,2,     0.18,2,     0.49,2, 0.300086955,2,   -999.0,9,-999.0000,9,  -999.00,  -999.00,9,  -999.00,9,  -999.00,9,  -999.00,9,  13.3450,     1223, -46.7729, 141.9342
  096U20160314,  Eddy,     2,  1,     22,   1222,2,20160318,   0,-46.7731, 141.9345, 4591,     26.9,  13.3750,  35.0020,2,-999.0000, 9,    260.2,2,   -999.0,9,  -999.00,9,  -999.00,9,  -999.00,9,  -999.00,9,        -999,9,   -999.0,9,-999.0000,9,  -999.00,  -999.00,9,  -999.00,9,  -999.00,9,  -999.00,9,  13.3713,     1219, -46.7728, 141.9342
  096U20160314,  Eddy,     2,  1,     21,   1221,2,20160318,   0,-46.7731, 141.9345, 4591,     27.3,  13.3780,  35.0020,2,  34.9802, 2,    259.7,2,    256.7,2,     0.99,2,     4.57,2,     0.18,2,     0.48,2, 0.286334727,2,   -999.0,9,-999.0000,9,  -999.00,  -999.00,9,  -999.00,9,  -999.00,9,  -999.00,9,  13.3742,     1219, -46.7728, 141.9342
  096U20160314,  Eddy,     2,  1,     20,   1220,2,20160318,   0,-46.7731, 141.9345, 4591,     52.6,  13.4220,  35.0120,2,  34.9855, 2,    259.7,2,    256.6,2,     0.99,2,     4.52,2,     0.18,2,     0.48,2, 0.267015015,2,   -999.0,9,-999.0000,9,  -999.00,  -999.00,9,  -999.00,9,  -999.00,9,  -999.00,9,  13.4146,     1218, -46.7728, 141.9342
  096U20160314,  Eddy,     2,  1,     19,   1219,2,20160318,   0,-46.7731, 141.9345, 4591,     77.8,  13.3340,  34.9860,2,  34.9717, 2,    259.9,2,    256.6,2,     1.01,2,     4.76,2,     0.18,2,     0.50,2, 0.241392235,2,   -999.0,9,-999.0000,9,  -999.00,  -999.00,9,  -999.00,9,  -999.00,9,  -999.00,9,  13.3232,     1216, -46.7728, 141.9344
  096U20160314,  Eddy,     2,  1,     18,   1218,2,20160318,   0,-46.7731, 141.9345, 4591,    102.6,  12.6530,  35.0700,2,  34.9757, 3,    240.5,2,    257.8,2,     1.14,2,     4.69,2,     0.18,2,     0.50,2, 0.228880578,2,   -999.0,9,-999.0000,9,  -999.00,  -999.00,9,  -999.00,9,  -999.00,9,  -999.00,9,  12.6392,     1214, -46.7727, 141.9345
  096U20160314,  Eddy,     2,  1,     17,   1217,2,20160318,   0,-46.7731, 141.9345, 4591,    127.5,  11.8400,  35.0720,2,  35.0484, 2,    237.4,2,    234.4,2,     3.04,2,    10.87,2,     0.02,2,     0.85,2, 0.093028528,2,   -999.0,9,-999.0000,9,  -999.00,  -999.00,9,  -999.00,9,  -999.00,9,  -999.00,9,  11.8235,     1212, -46.7727, 141.9347
  096U20160314,  Eddy,     2,  1,     16,   1216,2,20160318,   0,-46.7731, 141.9345, 4591,    152.8,  11.5790,  35.0480,2,  35.0270, 2,    238.0,2,    236.3,2,     3.24,2,    11.27,2,     0.02,2,     0.87,2, 0.079540733,2,   -999.0,9,-999.0000,9,  -999.00,  -999.00,9,  -999.00,9,  -999.00,9,  -999.00,9,  11.5596,     1211, -46.7726, 141.9348
  096U20160314,  Eddy,     2,  1,     15,   1215,2,20160318,   0,-46.7731, 141.9345, 4591,    177.6,  10.8310,  34.9370,2,  34.9233, 2,    244.5,2,    241.6,2,     3.70,2,    12.57,2,     0.01,2,     0.95,2, 0.124770856,3,   -999.0,9,-999.0000,9,  -999.00,  -999.00,9,  -999.00,9,  -999.00,9,  -999.00,9,  10.8094,     1209, -46.7725, 141.9348
  096U20160314,  Eddy,     2,  1,     14,   1214,2,20160318,   0,-46.7731, 141.9345, 4591,    202.6,  10.3860,  34.8670,2,  34.8479, 2,    250.0,2,    247.7,2,     3.92,2,    13.20,2,     0.01,2,     1.00,2, 0.149543394,3,   -999.0,9,-999.0000,9,  -999.00,  -999.00,9,  -999.00,9,  -999.00,9,  -999.00,9,  10.3620,     1207, -46.7724, 141.9347
  096U20160314,  Eddy,     2,  1,     13,   1213,2,20160318,   0,-46.7731, 141.9345, 4591,    227.7,  10.2540,  34.8630,2,  34.8414, 2,    250.1,2,    248.1,2,     4.13,2,    13.44,2,     0.01,2,     1.01,2, 0.166792518,2,   -999.0,9,-999.0000,9,  -999.00,  -999.00,9,  -999.00,9,  -999.00,9,  -999.00,9,  10.2272,     1205, -46.7724, 141.9349
  096U20160314,  Eddy,     2,  1,     12,   1212,2,20160318,   0,-46.7731, 141.9345, 4591,    251.8,  10.1400,  34.8450,2,  34.8151, 2,    250.8,2,    250.8,2,     4.13,2,    13.59,2,     0.01,2,     1.03,2, 0.103499594,2,   -999.0,9,-999.0000,9,  -999.00,  -999.00,9,  -999.00,9,  -999.00,9,  -999.00,9,  10.1105,     1203, -46.7723, 141.9351
  096U20160314,  Eddy,     2,  1,     11,   1211,2,20160318,   0,-46.7731, 141.9345, 4591,    303.4,   9.6750,  34.7680,2,  34.7464, 2,    260.8,2,    256.1,2,     4.15,2,    14.14,2,     0.01,2,     1.06,2, 0.118767177,2,   -999.0,9,-999.0000,9,  -999.00,  -999.00,9,  -999.00,9,  -999.00,9,  -999.00,9,   9.6404,     1201, -46.7722, 141.9357
  096U20160314,  Eddy,     2,  1,     10,   1210,2,20160318,   0,-46.7731, 141.9345, 4591,    353.8,   9.4400,  34.7300,2,  34.7102, 2,    258.8,2,    255.8,2,     4.46,2,    14.92,2,     0.01,2,     1.11,2, 0.131137659,2,   -999.0,9,-999.0000,9,  -999.00,  -999.00,9,  -999.00,9,  -999.00,9,  -999.00,9,   9.4002,     1159, -46.7721, 141.9359
  096U20160314,  Eddy,     2,  1,      9,   1209,2,20160318,   0,-46.7731, 141.9345, 4591,    404.5,   9.1860,  34.6900,2,  34.6689, 2,    258.0,2,    255.1,2,     4.72,2,    15.57,2,     0.02,2,     1.15,2, 0.135951036,2,   -999.0,9,-999.0000,9,  -999.00,  -999.00,9,  -999.00,9,  -999.00,9,  -999.00,9,   9.1412,     1157, -46.7722, 141.9360
  096U20160314,  Eddy,     2,  1,      8,   1208,2,20160318,   0,-46.7731, 141.9345, 4591,    604.0,   8.4790,  34.5820,2,  34.5606, 2,    242.7,2,    240.8,2,     6.73,2,    18.72,2,     0.01,2,     1.35,2, 0.160819307,2,   -999.0,9,-999.0000,9,  -999.00,  -999.00,9,  -999.00,9,  -999.00,9,  -999.00,9,   8.4145,     1152, -46.7723, 141.9355
  096U20160314,  Eddy,     2,  1,      7,   1207,2,20160318,   0,-46.7731, 141.9345, 4591,    799.0,   7.3530,  34.5120,2,  34.4954, 2,    204.7,2,    203.3,2,    14.44,2,    24.38,2,     0.00,2,     1.71,2, 0.173422119,2,   -999.0,9,-999.0000,9,  -999.00,  -999.00,9,  -999.00,9,  -999.00,9,  -999.00,9,   7.2734,     1147, -46.7722, 141.9353
  096U20160314,  Eddy,     2,  1,      6,   1206,2,20160318,   0,-46.7731, 141.9345, 4591,   1002.4,   5.5760,  34.4130,2,  34.4086, 2,    200.3,2,    200.0,2,    25.42,2,    28.64,2,     0.00,2,     2.01,2,  0.17630961,2,   -999.0,9,-999.0000,9,  -999.00,  -999.00,9,  -999.00,9,  -999.00,9,  -999.00,9,   5.4882,     1142, -46.7719, 141.9343
  096U20160314,  Eddy,     2,  1,      5,   1205,2,20160318,   0,-46.7731, 141.9345, 4591,   1203.8,   4.2310,  34.4110,2,  34.4069, 2,    191.1,2,    191.5,2,    41.37,2,    31.59,2,     0.00,2,     2.23,2, 0.135502555,2,   -999.0,9,-999.0000,9,  -999.00,  -999.00,9,  -999.00,9,  -999.00,9,  -999.00,9,   4.1361,     1137, -46.7719, 141.9343
  096U20160314,  Eddy,     2,  1,      4,   1204,2,20160318,   0,-46.7731, 141.9345, 4591,   1404.8,   3.2630,  34.4550,2,  34.4337, 2,    181.5,2,    182.9,2,    54.81,2,    33.68,2,     0.00,2,     2.37,2, 0.142049937,2,   -999.0,9,-999.0000,9,  -999.00,  -999.00,9,  -999.00,9,  -999.00,9,  -999.00,9,   3.1605,     1133, -46.7719, 141.9344
  096U20160314,  Eddy,     2,  1,      3,   1203,2,20160318,   0,-46.7731, 141.9345, 4591,   1603.0,   2.8090,  34.5530,2,  34.5388, 2,    172.9,2,    174.9,2,    65.91,2,    33.93,2,     0.00,2,     2.39,2, 0.189977979,2,   -999.0,9,-999.0000,9,  -999.00,  -999.00,9,  -999.00,9,  -999.00,9,  -999.00,9,   2.6949,     1128, -46.7714, 141.9345
  096U20160314,  Eddy,     2,  1,      2,   1202,2,20160318,   0,-46.7731, 141.9345, 4591,   1805.5,   2.6210,  34.6290,2,  34.6128, 2,    170.8,2,    171.5,2,    72.78,2,    33.44,2,     0.00,2,     2.35,2, 0.258544949,2,   -999.0,9,-999.0000,9,  -999.00,  -999.00,9,  -999.00,9,  -999.00,9,  -999.00,9,   2.4921,     1123, -46.7710, 141.9344
  096U20160314,  Eddy,     2,  1,      1,   1201,2,20160318,   0,-46.7731, 141.9345, 4591,   2001.2,   2.4540,  34.6920,2,  34.6692, 2,    171.1,2,    174.1,2,    79.60,2,    32.77,2,     0.00,2,     2.32,2, 0.237725967,3,   -999.0,9,-999.0000,9,  -999.00,  -999.00,9,  -999.00,9,  -999.00,9,  -999.00,9,   2.3104,     1118, -46.7711, 141.9345