BOTTLE,20180103PRINUNIVRMK
EXPOCODE,SECT_ID,STNNBR,CASTNO,SAMPNO,BTLNBR,BTLNBR_FLAG_W,DATE,TIME,LATITUDE,LONGITUDE,DEPTH,CTDPRS,CTDTMP,CTDSAL,CTDSAL_FLAG_W,SALNTY,SALNTY_FLAG_W,CTDOXY,CTDOXY_FLAG_W,OXYGEN,OXYGEN_FLAG_W,SILCAT,SILCAT_FLAG_W,NITRAT,NITRAT_FLAG_W,NITRIT,NITRIT_FLAG_W,PHSPHT,PHSPHT_FLAG_W,NH4,NH4_FLAG_W,ALKALI,ALKALI_FLAG_W,PH_TOT,PH_TOT_FLAG_W,PH_TMP,POC,POC_FLAG_W,PON,PON_FLAG_W,CHLORA,CHLORA_FLAG_W,PPHYTN,PPHYTN_FLAG_W,THETA,BTL_TIME,BTL_LAT,BTL_LON
,,,,,,,,,,,METERS,DBAR,ITS-90,PSS-78,,PSS-78,,UMOL/KG,,UMOL/KG,,UMOL/KG,,UMOL/KG,,UMOL/KG,,UMOL/KG,,UMOL/KG,,UMOL/KG,,,,DEG C,UG/KG,,UG/KG,,UG/KG,,UG/KG,,DEG C,,,
  096U20160314,  Eddy,    19,  1,     24,   1224,2,20160403,   0,-49.8181, 146.6286, 4316,      4.6,   9.8760,  34.3710,2,-999.0000, 9,    275.3,2,   -999.0,9,     1.65,2,    12.72,2,     0.29,2,     0.97,2, 0.187136412,2,   -999.0,9,-999.0000,9,  -999.00,  -999.00,9,  -999.00,9,  -999.00,9,  -999.00,9,   9.8755,       50, -49.8179, 146.6281
  096U20160314,  Eddy,    19,  1,     23,   1223,2,20160403,   0,-49.8181, 146.6286, 4316,     14.9,   9.8770,  34.3710,2,  34.3490, 2,    275.1,2,   -999.0,9,     1.69,2,    12.73,2,     0.29,2,     0.97,2, 0.204063436,2,   -999.0,9,-999.0000,9,  -999.00,  -999.00,9,  -999.00,9,  -999.00,9,  -999.00,9,   9.8753,       49, -49.8178, 146.6279
  096U20160314,  Eddy,    19,  1,     22,   1222,2,20160403,   0,-49.8181, 146.6286, 4316,     30.5,   9.8760,  34.3710,2,-999.0000, 9,    274.9,2,   -999.0,9,     1.70,2,    12.69,2,     0.29,2,     0.97,2, 0.221183129,2,   -999.0,9,-999.0000,9,  -999.00,  -999.00,9,  -999.00,9,  -999.00,9,  -999.00,9,   9.8725,       48, -49.8176, 146.6278
  096U20160314,  Eddy,    19,  1,     21,   1221,2,20160403,   0,-49.8181, 146.6286, 4316,     45.1,   9.8780,  34.3720,2,  34.3501, 2,    274.8,2,   -999.0,9,     1.72,2,    12.71,2,     0.30,2,     0.97,2, 0.209194343,2,   -999.0,9,-999.0000,9,  -999.00,  -999.00,9,  -999.00,9,  -999.00,9,  -999.00,9,   9.8729,       47, -49.8175, 146.6276
  096U20160314,  Eddy,    19,  1,     20,   1220,2,20160403,   0,-49.8181, 146.6286, 4316,     58.6,   9.8780,  34.3760,2,-999.0000, 9,    274.2,2,   -999.0,9,     1.71,2,    12.68,2,     0.29,2,     0.97,2,  0.20026791,2,   -999.0,9,-999.0000,9,  -999.00,  -999.00,9,  -999.00,9,  -999.00,9,  -999.00,9,   9.8714,       45, -49.8175, 146.6274
  096U20160314,  Eddy,    19,  1,     19,   1219,2,20160403,   0,-49.8181, 146.6286, 4316,     78.2,   9.8790,  34.3770,2,  34.3561, 2,    274.5,2,   -999.0,9,     1.75,2,    12.73,2,     0.29,2,     0.97,2, 0.235621522,2,   -999.0,9,-999.0000,9,  -999.00,  -999.00,9,  -999.00,9,  -999.00,9,  -999.00,9,   9.8701,       44, -49.8174, 146.6273
  096U20160314,  Eddy,    19,  1,     18,   1218,2,20160403,   0,-49.8181, 146.6286, 4316,    101.4,   9.5540,  34.4660,2,-999.0000, 9,    268.0,2,   -999.0,9,     2.78,2,    13.98,2,     0.24,2,     1.04,2, 0.146635834,2,   -999.0,9,-999.0000,9,  -999.00,  -999.00,9,  -999.00,9,  -999.00,9,  -999.00,9,   9.5427,       43, -49.8173, 146.6272
  096U20160314,  Eddy,    19,  1,     17,   1217,2,20160403,   0,-49.8181, 146.6286, 4316,    124.1,   9.4260,  34.5920,2,  34.5715, 2,    263.5,2,   -999.0,9,     3.96,2,    14.54,2,     0.03,2,     1.06,2, 0.044743386,2,   -999.0,9,-999.0000,9,  -999.00,  -999.00,9,  -999.00,9,  -999.00,9,  -999.00,9,   9.4123,       42, -49.8172, 146.6268
  096U20160314,  Eddy,    19,  1,     16,   1216,2,20160403,   0,-49.8181, 146.6286, 4316,    151.5,   9.3830,  34.6150,2,-999.0000, 9,    262.6,2,   -999.0,9,     4.24,2,    14.52,2,     0.02,2,     1.05,2, 0.050397011,2,   -999.0,9,-999.0000,9,  -999.00,  -999.00,9,  -999.00,9,  -999.00,9,  -999.00,9,   9.3662,       40, -49.8170, 146.6264
  096U20160314,  Eddy,    19,  1,     15,   1215,2,20160403,   0,-49.8181, 146.6286, 4316,    175.6,   9.3180,  34.6230,2,  34.6003, 2,    262.8,2,   -999.0,9,     4.43,2,    14.63,2,     0.02,2,     1.05,2, 0.059911204,2,   -999.0,9,-999.0000,9,  -999.00,  -999.00,9,  -999.00,9,  -999.00,9,  -999.00,9,   9.2986,       39, -49.8169, 146.6262
  096U20160314,  Eddy,    19,  1,     14,   1214,2,20160403,   0,-49.8181, 146.6286, 4316,    198.3,   9.2200,  34.6160,2,-999.0000, 9,    263.1,2,   -999.0,9,     4.44,2,    14.76,2,     0.02,2,     1.06,2, 0.088671961,2,   -999.0,9,-999.0000,9,  -999.00,  -999.00,9,  -999.00,9,  -999.00,9,  -999.00,9,   9.1982,       38, -49.8168, 146.6260
  096U20160314,  Eddy,    19,  1,     13,   1213,2,20160403,   0,-49.8181, 146.6286, 4316,    224.0,   9.0690,  34.5980,2,  34.5756, 2,    263.0,2,   -999.0,9,     4.52,2,    15.17,2,     0.02,2,     1.08,2,  0.17692231,2,   -999.0,9,-999.0000,9,  -999.00,  -999.00,9,  -999.00,9,  -999.00,9,  -999.00,9,   9.0446,       36, -49.8167, 146.6257
  096U20160314,  Eddy,    19,  1,     12,   1212,2,20160403,   0,-49.8181, 146.6286, 4316,    252.2,   8.8080,  34.5550,2,-999.0000, 9,    262.9,2,   -999.0,9,     4.79,2,    16.00,2,     0.02,2,     1.13,2, 0.092831853,2,   -999.0,9,-999.0000,9,  -999.00,  -999.00,9,  -999.00,9,  -999.00,9,  -999.00,9,   8.7810,       34, -49.8165, 146.6255
  096U20160314,  Eddy,    19,  1,     11,   1211,2,20160403,   0,-49.8181, 146.6286, 4316,    299.9,   8.7680,  34.5670,2,  34.5441, 2,    260.2,2,   -999.0,9,     4.84,2,    16.11,2,     0.01,2,     1.14,2, 0.134953267,2,   -999.0,9,-999.0000,9,  -999.00,  -999.00,9,  -999.00,9,  -999.00,9,  -999.00,9,   8.7359,       32, -49.8163, 146.6249
  096U20160314,  Eddy,    19,  1,     10,   1210,2,20160403,   0,-49.8181, 146.6286, 4316,    353.6,   8.6740,  34.5740,2,-999.0000, 9,    256.9,2,   -999.0,9,     5.12,2,    16.66,2,     0.02,2,     1.17,2, 0.138173305,2,   -999.0,9,-999.0000,9,  -999.00,  -999.00,9,  -999.00,9,  -999.00,9,  -999.00,9,   8.6363,       30, -49.8160, 146.6245
  096U20160314,  Eddy,    19,  1,      9,   1209,2,20160403,   0,-49.8181, 146.6286, 4316,    399.7,   8.4400,  34.5500,2,  34.5293, 2,    245.9,2,   -999.0,9,     6.32,2,    18.19,2,     0.01,2,     1.26,2, 0.126254628,2,   -999.0,9,-999.0000,9,  -999.00,  -999.00,9,  -999.00,9,  -999.00,9,  -999.00,9,   8.3980,       28, -49.8159, 146.6242
  096U20160314,  Eddy,    19,  1,      8,   1208,2,20160403,   0,-49.8181, 146.6286, 4316,    500.6,   7.8210,  34.4960,2,-999.0000, 9,    229.5,2,   -999.0,9,     9.32,2,    21.24,2,     0.01,2,     1.45,2, 0.127983135,2,   -999.0,9,-999.0000,9,  -999.00,  -999.00,9,  -999.00,9,  -999.00,9,  -999.00,9,   7.7704,       24, -49.8156, 146.6239
  096U20160314,  Eddy,    19,  1,      7,   1207,2,20160403,   0,-49.8181, 146.6286, 4316,    600.4,   7.0600,  34.4550,2,  34.4346, 2,    215.6,2,   -999.0,9,    13.56,2,    24.19,2,     0.01,2,     1.64,2, 0.156436531,2,   -999.0,9,-999.0000,9,  -999.00,  -999.00,9,  -999.00,9,  -999.00,9,  -999.00,9,   7.0024,       20, -49.8154, 146.6234
  096U20160314,  Eddy,    19,  1,      6,   1206,2,20160403,   0,-49.8181, 146.6286, 4316,    700.5,   6.0910,  34.3980,2,-999.0000, 9,    210.5,2,   -999.0,9,    18.65,2,    26.88,2,     0.00,2,     1.82,2, 0.142360599,2,   -999.0,9,-999.0000,9,  -999.00,  -999.00,9,  -999.00,9,  -999.00,9,  -999.00,9,   6.0284,       17, -49.8151, 146.6229
  096U20160314,  Eddy,    19,  1,      5,   1205,2,20160403,   0,-49.8181, 146.6286, 4316,    804.2,   5.0890,  34.3290,2,  34.3072, 2,    217.4,2,   -999.0,9,    22.58,2,    28.64,2,     0.00,2,     1.94,2, 0.095397466,2,   -999.0,9,-999.0000,9,  -999.00,  -999.00,9,  -999.00,9,  -999.00,9,  -999.00,9,   5.0228,       14, -49.8148, 146.6226
  096U20160314,  Eddy,    19,  1,      4,   1204,2,20160403,   0,-49.8181, 146.6286, 4316,    901.8,   4.5810,  34.3540,2,-999.0000, 9,    205.7,2,   -999.0,9,    30.60,2,    30.38,2,     0.00,2,     2.06,2, 0.104378058,2,   -999.0,9,-999.0000,9,  -999.00,  -999.00,9,  -999.00,9,  -999.00,9,  -999.00,9,   4.5096,       10, -49.8144, 146.6219
  096U20160314,  Eddy,    19,  1,      3,   1203,2,20160403,   0,-49.8181, 146.6286, 4316,    999.4,   3.9360,  34.3430,2,  34.3210, 2,    204.6,2,   -999.0,9,    36.27,2,    31.61,2,     0.00,2,     2.15,2, 0.147669635,2,   -999.0,9,-999.0000,9,  -999.00,  -999.00,9,  -999.00,9,  -999.00,9,  -999.00,9,   3.8612,        7, -49.8142, 146.6215
  096U20160314,  Eddy,    19,  1,      2,   1202,2,20160403,   0,-49.8181, 146.6286, 4316,   1251.2,   3.1780,  34.4390,2,-999.0000, 9,    183.2,2,   -999.0,9,    54.16,2,    33.78,2,     0.00,2,     2.32,2, 0.182697456,2,   -999.0,9,-999.0000,9,  -999.00,  -999.00,9,  -999.00,9,  -999.00,9,  -999.00,9,   3.0890,     2359, -49.8136, 146.6208
  096U20160314,  Eddy,    19,  1,      1,   1201,2,20160403,   0,-49.8181, 146.6286, 4316,   1502.3,   2.8980,  34.5630,2,  34.5388, 2,    165.8,2,   -999.0,9,    71.85,2,    34.18,3,     0.00,2,     2.36,2, 0.121771082,2,   -999.0,9,-999.0000,9,  -999.00,  -999.00,9,  -999.00,9,  -999.00,9,  -999.00,9,   2.7912,     2353, -49.8130, 146.6200
  096U20160314,  Eddy,    20,  1,     24,   1224,2,20160403,   0,-49.9526, 146.7325, 4286,      6.0,   9.0200,  34.2150,2,-999.0000, 9,    282.3,2,   -999.0,9,     2.03,2,    15.35,2,     0.29,2,     1.14,2,  0.23486521,2,   -999.0,9,-999.0000,9,  -999.00,  -999.00,9,  -999.00,9,  -999.00,9,  -999.00,9,   9.0194,      342, -49.9526, 146.7326
  096U20160314,  Eddy,    20,  1,     23,   1223,2,20160403,   0,-49.9526, 146.7325, 4286,     15.0,   9.0240,  34.2150,2,  34.1925, 2,    282.0,2,   -999.0,9,     2.10,2,    15.37,2,     0.29,2,     1.14,2, 0.247434214,2,   -999.0,9,-999.0000,9,  -999.00,  -999.00,9,  -999.00,9,  -999.00,9,  -999.00,9,   9.0224,      341, -49.9525, 146.7326
  096U20160314,  Eddy,    20,  1,     22,   1222,2,20160403,   0,-49.9526, 146.7325, 4286,     29.3,   9.0230,  34.2170,2,-999.0000, 9,    282.3,2,   -999.0,9,     2.06,2,    15.34,2,     0.29,2,     1.14,2, 0.221591313,2,   -999.0,9,-999.0000,9,  -999.00,  -999.00,9,  -999.00,9,  -999.00,9,  -999.00,9,   9.0199,      339, -49.9524, 146.7325
  096U20160314,  Eddy,    20,  1,     21,   1221,2,20160403,   0,-49.9526, 146.7325, 4286,     45.8,   9.0200,  34.2150,2,  34.1931, 2,    282.6,2,   -999.0,9,     2.13,2,    15.35,2,     0.29,2,     1.14,2, 0.226266506,2,   -999.0,9,-999.0000,9,  -999.00,  -999.00,9,  -999.00,9,  -999.00,9,  -999.00,9,   9.0151,      338, -49.9523, 146.7325
  096U20160314,  Eddy,    20,  1,     20,   1220,2,20160403,   0,-49.9526, 146.7325, 4286,     47.4,   9.0180,  34.2140,2,-999.0000, 9,    282.7,2,   -999.0,9,     2.09,2,    15.36,2,     0.29,2,     1.14,2, 0.221936584,2,   -999.0,9,-999.0000,9,  -999.00,  -999.00,9,  -999.00,9,  -999.00,9,  -999.00,9,   9.0129,      338, -49.9522, 146.7326
  096U20160314,  Eddy,    20,  1,     19,   1219,2,20160403,   0,-49.9526, 146.7325, 4286,     80.5,   9.0790,  34.2330,2,  34.2107, 2,    281.2,2,   -999.0,9,     2.10,2,    15.14,2,     0.29,2,     1.14,2, 0.237696699,2,   -999.0,9,-999.0000,9,  -999.00,  -999.00,9,  -999.00,9,  -999.00,9,  -999.00,9,   9.0704,      335, -49.9520, 146.7326
  096U20160314,  Eddy,    20,  1,     18,   1218,2,20160403,   0,-49.9526, 146.7325, 4286,    100.4,   9.2700,  34.2940,2,-999.0000, 9,    278.7,2,   -999.0,9,     2.17,2,    14.68,2,     0.28,2,     1.10,2, 0.244644733,2,   -999.0,9,-999.0000,9,  -999.00,  -999.00,9,  -999.00,9,  -999.00,9,  -999.00,9,   9.2591,      333, -49.9519, 146.7326
  096U20160314,  Eddy,    20,  1,     17,   1217,2,20160403,   0,-49.9526, 146.7325, 4286,    128.1,   8.3870,  34.3150,2,  34.2818, 2,    274.6,2,   -999.0,9,     3.50,2,    16.94,2,     0.20,2,     1.23,2, 0.082959972,2,   -999.0,9,-999.0000,9,  -999.00,  -999.00,9,  -999.00,9,  -999.00,9,  -999.00,9,   8.3739,      332, -49.9518, 146.7326
  096U20160314,  Eddy,    20,  1,     16,   1216,2,20160403,   0,-49.9526, 146.7325, 4286,    151.1,   8.3470,  34.4160,2,-999.0000, 9,    270.5,2,   -999.0,9,     4.40,2,    16.90,2,     0.03,2,     1.21,2, 0.091301689,2,   -999.0,9,-999.0000,9,  -999.00,  -999.00,9,  -999.00,9,  -999.00,9,  -999.00,9,   8.3315,      330, -49.9518, 146.7326
  096U20160314,  Eddy,    20,  1,     15,   1215,2,20160403,   0,-49.9526, 146.7325, 4286,    177.8,   8.2970,  34.4440,2,  34.4206, 2,    268.9,2,   -999.0,9,     4.69,2,    17.05,2,     0.02,2,     1.22,2, 0.102219864,2,   -999.0,9,-999.0000,9,  -999.00,  -999.00,9,  -999.00,9,  -999.00,9,  -999.00,9,   8.2788,      328, -49.9516, 146.7326
  096U20160314,  Eddy,    20,  1,     14,   1214,2,20160403,   0,-49.9526, 146.7325, 4286,    200.8,   8.3450,  34.4720,2,-999.0000, 9,    266.3,2,   -999.0,9,     4.87,2,    17.13,2,     0.02,2,     1.22,2, 0.090976709,2,   -999.0,9,-999.0000,9,  -999.00,  -999.00,9,  -999.00,9,  -999.00,9,  -999.00,9,   8.3243,      327, -49.9516, 146.7326
  096U20160314,  Eddy,    20,  1,     13,   1213,2,20160403,   0,-49.9526, 146.7325, 4286,    225.7,   8.3010,  34.4810,2,  34.4570, 2,    264.8,2,   -999.0,9,     5.17,2,    17.30,2,     0.01,2,     1.23,2,  0.05167152,2,   -999.0,9,-999.0000,9,  -999.00,  -999.00,9,  -999.00,9,  -999.00,9,  -999.00,9,   8.2778,      325, -49.9515, 146.7326
  096U20160314,  Eddy,    20,  1,     12,   1212,2,20160403,   0,-49.9526, 146.7325, 4286,    251.9,   8.2510,  34.4830,2,-999.0000, 9,    263.0,2,   -999.0,9,     5.43,2,    17.61,2,     0.01,2,     1.24,2, 0.104781864,2,   -999.0,9,-999.0000,9,  -999.00,  -999.00,9,  -999.00,9,  -999.00,9,  -999.00,9,   8.2251,      324, -49.9514, 146.7327
  096U20160314,  Eddy,    20,  1,     11,   1211,2,20160403,   0,-49.9526, 146.7325, 4286,    303.1,   7.9950,  34.4670,2,  34.4422, 2,    262.8,2,   -999.0,9,     5.66,2,    18.27,2,     0.01,2,     1.29,2,  0.13877466,2,   -999.0,9,-999.0000,9,  -999.00,  -999.00,9,  -999.00,9,  -999.00,9,  -999.00,9,   7.9644,      322, -49.9512, 146.7326
  096U20160314,  Eddy,    20,  1,     10,   1210,2,20160403,   0,-49.9526, 146.7325, 4286,    350.9,   7.8710,  34.4690,2,-999.0000, 9,    262.7,2,   -999.0,9,     6.01,2,    18.50,2,     0.01,2,     1.30,2, 0.118519413,2,   -999.0,9,-999.0000,9,  -999.00,  -999.00,9,  -999.00,9,  -999.00,9,  -999.00,9,   7.8357,      320, -49.9512, 146.7326
  096U20160314,  Eddy,    20,  1,      9,   1209,2,20160403,   0,-49.9526, 146.7325, 4286,    401.3,   7.3250,  34.3960,2,  34.3828, 2,    255.9,2,   -999.0,9,     7.34,2,    20.29,2,     0.01,2,     1.42,2, 0.102066727,2,   -999.0,9,-999.0000,9,  -999.00,  -999.00,9,  -999.00,9,  -999.00,9,  -999.00,9,   7.2862,      318, -49.9513, 146.7326
  096U20160314,  Eddy,    20,  1,      8,   1208,2,20160403,   0,-49.9526, 146.7325, 4286,    498.9,   6.8500,  34.3900,2,-999.0000, 9,    232.7,2,   -999.0,9,    11.42,2,    23.27,2,     0.01,2,     1.61,2, 0.115473913,2,   -999.0,9,-999.0000,9,  -999.00,  -999.00,9,  -999.00,9,  -999.00,9,  -999.00,9,   6.8033,      316, -49.9515, 146.7325
  096U20160314,  Eddy,    20,  1,      7,   1207,2,20160403,   0,-49.9526, 146.7325, 4286,    601.5,   6.2530,  34.4020,2,  34.3768, 2,    213.2,2,   -999.0,9,    17.37,2,    26.25,2,     0.01,2,     1.79,2, 0.101583476,2,   -999.0,9,-999.0000,9,  -999.00,  -999.00,9,  -999.00,9,  -999.00,9,  -999.00,9,   6.1990,      313, -49.9517, 146.7325
  096U20160314,  Eddy,    20,  1,      6,   1206,2,20160403,   0,-49.9526, 146.7325, 4286,    699.4,   5.5610,  34.3750,2,-999.0000, 9,    208.9,2,   -999.0,9,    22.22,2,    28.15,2,     0.00,2,     1.93,2, 0.104826685,2,   -999.0,9,-999.0000,9,  -999.00,  -999.00,9,  -999.00,9,  -999.00,9,  -999.00,9,   5.5014,      311, -49.9518, 146.7325
  096U20160314,  Eddy,    20,  1,      5,   1205,2,20160403,   0,-49.9526, 146.7325, 4286,    799.8,   4.5130,  34.3130,2,  34.2902, 2,    216.0,2,   -999.0,9,    27.31,2,    29.91,2,     0.01,2,     2.05,2, 0.125763071,2,   -999.0,9,-999.0000,9,  -999.00,  -999.00,9,  -999.00,9,  -999.00,9,  -999.00,9,   4.4508,      308, -49.9518, 146.7324
  096U20160314,  Eddy,    20,  1,      4,   1204,2,20160403,   0,-49.9526, 146.7325, 4286,    901.4,   4.1030,  34.3430,2,-999.0000, 9,    205.5,2,   -999.0,9,    34.68,2,    31.20,2,     0.00,2,     2.15,2, 0.153338223,2,   -999.0,9,-999.0000,9,  -999.00,  -999.00,9,  -999.00,9,  -999.00,9,  -999.00,9,   4.0350,      305, -49.9519, 146.7324
  096U20160314,  Eddy,    20,  1,      3,   1203,2,20160403,   0,-49.9526, 146.7325, 4286,   1000.0,   3.6930,  34.3650,2,  34.3425, 2,    198.9,2,   -999.0,9,    41.33,2,    32.29,2,     0.00,2,     2.23,2, 0.155505676,2,   -999.0,9,-999.0000,9,  -999.00,  -999.00,9,  -999.00,9,  -999.00,9,  -999.00,9,   3.6200,      302, -49.9519, 146.7324
  096U20160314,  Eddy,    20,  1,      2,   1202,2,20160403,   0,-49.9526, 146.7325, 4286,   1250.4,   2.9860,  34.4630,2,-999.0000, 9,    179.6,2,   -999.0,9,    58.33,2,    34.07,2,     0.00,2,     2.35,2, 0.126404529,2,   -999.0,9,-999.0000,9,  -999.00,  -999.00,9,  -999.00,9,  -999.00,9,  -999.00,9,   2.8989,      257, -49.9519, 146.7324
  096U20160314,  Eddy,    20,  1,      1,   1201,2,20160403,   0,-49.9526, 146.7325, 4286,   1498.6,   2.6850,  34.5850,2,  34.5610, 2,    170.3,2,   -999.0,9,    70.47,2,    33.88,2,     0.00,2,     2.35,2, 0.099219281,2,   -999.0,9,-999.0000,9,  -999.00,  -999.00,9,  -999.00,9,  -999.00,9,  -999.00,9,   2.5809,      252, -49.9519, 146.7324