BOTTLE,20180103PRINUNIVRMK
EXPOCODE,SECT_ID,STNNBR,CASTNO,SAMPNO,BTLNBR,BTLNBR_FLAG_W,DATE,TIME,LATITUDE,LONGITUDE,DEPTH,CTDPRS,CTDTMP,CTDSAL,CTDSAL_FLAG_W,SALNTY,SALNTY_FLAG_W,CTDOXY,CTDOXY_FLAG_W,OXYGEN,OXYGEN_FLAG_W,SILCAT,SILCAT_FLAG_W,NITRAT,NITRAT_FLAG_W,NITRIT,NITRIT_FLAG_W,PHSPHT,PHSPHT_FLAG_W,NH4,NH4_FLAG_W,ALKALI,ALKALI_FLAG_W,PH_TOT,PH_TOT_FLAG_W,PH_TMP,POC,POC_FLAG_W,PON,PON_FLAG_W,CHLORA,CHLORA_FLAG_W,PPHYTN,PPHYTN_FLAG_W,THETA,BTL_TIME,BTL_LAT,BTL_LON
,,,,,,,,,,,METERS,DBAR,ITS-90,PSS-78,,PSS-78,,UMOL/KG,,UMOL/KG,,UMOL/KG,,UMOL/KG,,UMOL/KG,,UMOL/KG,,UMOL/KG,,UMOL/KG,,,,DEG C,UG/KG,,UG/KG,,UG/KG,,UG/KG,,DEG C,,,
  096U20160314,  Eddy,    26,  1,     24,   1224,2,20160406,   0,-52.8769, 147.2668, 4052,      4.8,   5.1080,  33.7770,2,-999.0000, 9,    312.6,2,   -999.0,9,     2.59,2,    24.26,2,     0.28,2,     1.67,2, 0.460507309,2,   -999.0,9,-999.0000,9,  -999.00,  -999.00,9,  -999.00,9,  -999.00,9,  -999.00,9,   5.1076,      550, -52.8770, 147.2668
  096U20160314,  Eddy,    26,  1,     23,   1223,2,20160406,   0,-52.8769, 147.2668, 4052,     15.7,   5.1050,  33.7770,2,  33.7565, 2,    312.7,2,    307.9,2,     2.60,2,    24.30,2,     0.29,2,     1.67,2, 0.494242622,2,   -999.0,9,-999.0000,9,  -999.00,  -999.00,9,  -999.00,9,  -999.00,9,  -999.00,9,   5.1038,      549, -52.8770, 147.2667
  096U20160314,  Eddy,    26,  1,     22,   1222,2,20160406,   0,-52.8769, 147.2668, 4052,     30.9,   5.1100,  33.7770,2,-999.0000, 9,    312.7,2,   -999.0,9,     2.53,2,    24.20,2,     0.28,2,     1.67,2, 0.495104308,2,   -999.0,9,-999.0000,9,  -999.00,  -999.00,9,  -999.00,9,  -999.00,9,  -999.00,9,   5.1077,      547, -52.8770, 147.2667
  096U20160314,  Eddy,    26,  1,     21,   1221,2,20160406,   0,-52.8769, 147.2668, 4052,     45.3,   5.1080,  33.7770,2,  33.7563, 2,    312.5,2,    307.9,2,     2.57,2,    24.22,2,     0.28,2,     1.67,2, 0.476006848,2,   -999.0,9,-999.0000,9,  -999.00,  -999.00,9,  -999.00,9,  -999.00,9,  -999.00,9,   5.1046,      546, -52.8770, 147.2666
  096U20160314,  Eddy,    26,  1,     20,   1220,2,20160406,   0,-52.8769, 147.2668, 4052,     60.9,   5.1050,  33.7780,2,-999.0000, 9,    312.5,2,   -999.0,9,     2.63,2,    24.23,2,     0.28,2,     1.67,2, 0.473854175,2,   -999.0,9,-999.0000,9,  -999.00,  -999.00,9,  -999.00,9,  -999.00,9,  -999.00,9,   5.1004,      545, -52.8770, 147.2666
  096U20160314,  Eddy,    26,  1,     19,   1219,2,20160406,   0,-52.8769, 147.2668, 4052,     79.1,   5.0180,  33.7870,2,  33.7688, 2,    313.8,2,    309.7,2,     2.61,2,    24.23,2,     0.28,2,     1.67,2, 0.477112202,2,   -999.0,9,-999.0000,9,  -999.00,  -999.00,9,  -999.00,9,  -999.00,9,  -999.00,9,   5.0120,      543, -52.8769, 147.2665
  096U20160314,  Eddy,    26,  1,     18,   1218,2,20160406,   0,-52.8769, 147.2668, 4052,    100.7,   4.5760,  33.8110,2,-999.0000, 9,    316.1,2,   -999.0,9,     3.07,2,    24.57,2,     0.28,2,     1.71,2, 0.585546568,2,   -999.0,9,-999.0000,9,  -999.00,  -999.00,9,  -999.00,9,  -999.00,9,  -999.00,9,   4.5687,      542, -52.8768, 147.2663
  096U20160314,  Eddy,    26,  1,     17,   1217,2,20160406,   0,-52.8769, 147.2668, 4052,    126.2,   3.3070,  33.8540,2,  33.8326, 2,    319.6,2,    314.7,2,     7.99,2,    25.45,2,     0.35,2,     1.88,2, 0.941216321,2,   -999.0,9,-999.0000,9,  -999.00,  -999.00,9,  -999.00,9,  -999.00,9,  -999.00,9,   3.2991,      541, -52.8768, 147.2661
  096U20160314,  Eddy,    26,  1,     16,   1216,2,20160406,   0,-52.8769, 147.2668, 4052,    151.8,   2.1440,  33.8820,2,-999.0000, 9,    324.0,2,   -999.0,9,    14.18,2,    26.69,2,     0.41,2,     1.98,2, 0.686413976,2,   -999.0,9,-999.0000,9,  -999.00,  -999.00,9,  -999.00,9,  -999.00,9,  -999.00,9,   2.1359,      540, -52.8767, 147.2658
  096U20160314,  Eddy,    26,  1,     15,   1215,2,20160406,   0,-52.8769, 147.2668, 4052,    176.3,   1.7740,  33.9040,2,  33.8830, 2,    323.4,2,    318.0,2,    17.10,2,    27.91,2,     0.16,2,     1.96,2, 0.138577003,2,   -999.0,9,-999.0000,9,  -999.00,  -999.00,9,  -999.00,9,  -999.00,9,  -999.00,9,   1.7651,      538, -52.8766, 147.2656
  096U20160314,  Eddy,    26,  1,     14,   1214,2,20160406,   0,-52.8769, 147.2668, 4052,    199.8,   1.6720,  33.9270,2,-999.0000, 9,    319.4,2,   -999.0,9,    18.75,2,    28.37,2,     0.02,2,     1.96,2, 0.155503157,2,   -999.0,9,-999.0000,9,  -999.00,  -999.00,9,  -999.00,9,  -999.00,9,  -999.00,9,   1.6621,      537, -52.8766, 147.2654
  096U20160314,  Eddy,    26,  1,     13,   1213,2,20160406,   0,-52.8769, 147.2668, 4052,    225.0,   1.7730,  33.9840,2,  33.9618, 2,    305.5,2,    300.1,2,    22.15,2,    29.19,2,     0.01,2,     2.00,2, 0.114038775,2,   -999.0,9,-999.0000,9,  -999.00,  -999.00,9,  -999.00,9,  -999.00,9,  -999.00,9,   1.7616,      536, -52.8766, 147.2653
  096U20160314,  Eddy,    26,  1,     12,   1212,2,20160406,   0,-52.8769, 147.2668, 4052,    249.7,   2.2610,  34.0880,2,-999.0000, 9,    271.9,2,   -999.0,9,    28.25,2,    30.61,2,     0.01,2,     2.09,2, 0.089365162,2,   -999.0,9,-999.0000,9,  -999.00,  -999.00,9,  -999.00,9,  -999.00,9,  -999.00,9,   2.2472,      534, -52.8765, 147.2652
  096U20160314,  Eddy,    26,  1,     11,   1211,2,20160406,   0,-52.8769, 147.2668, 4052,    300.2,   2.5500,  34.1970,2,  34.1748, 2,    238.9,2,    236.3,2,    36.72,2,    32.27,2,     0.00,2,     2.21,2, 0.126863572,2,   -999.0,9,-999.0000,9,  -999.00,  -999.00,9,  -999.00,9,  -999.00,9,  -999.00,9,   2.5326,      533, -52.8764, 147.2653
  096U20160314,  Eddy,    26,  1,     10,   1210,2,20160406,   0,-52.8769, 147.2668, 4052,    351.4,   2.5410,  34.2550,2,-999.0000, 9,    223.3,2,   -999.0,9,    43.19,2,    33.23,2,     0.01,2,     2.28,2,  0.11285313,2,   -999.0,9,-999.0000,9,  -999.00,  -999.00,9,  -999.00,9,  -999.00,9,  -999.00,9,   2.5204,      531, -52.8764, 147.2653
  096U20160314,  Eddy,    26,  1,      9,   1209,2,20160406,   0,-52.8769, 147.2668, 4052,    402.4,   2.5830,  34.3150,2,  34.2911, 2,    208.5,2,    207.1,2,    48.67,2,    33.98,2,     0.00,2,     2.32,2,  0.11869711,2,   -999.0,9,-999.0000,9,  -999.00,  -999.00,9,  -999.00,9,  -999.00,9,  -999.00,9,   2.5591,      529, -52.8763, 147.2653
  096U20160314,  Eddy,    26,  1,      8,   1208,2,20160406,   0,-52.8769, 147.2668, 4052,    500.3,   2.6100,  34.4030,2,-999.0000, 9,    190.9,2,   -999.0,9,    56.66,2,    34.67,2,     0.00,2,     2.38,2, 0.132738672,2,   -999.0,9,-999.0000,9,  -999.00,  -999.00,9,  -999.00,9,  -999.00,9,  -999.00,9,   2.5797,      527, -52.8762, 147.2653
  096U20160314,  Eddy,    26,  1,      7,   1207,2,20160406,   0,-52.8769, 147.2668, 4052,    601.8,   2.5520,  34.4740,2,  34.4519, 2,    180.6,2,    179.7,2,    63.51,2,    34.85,2,     0.00,2,     2.40,2, 0.118012568,2,   -999.0,9,-999.0000,9,  -999.00,  -999.00,9,  -999.00,9,  -999.00,9,  -999.00,9,   2.5152,      524, -52.8763, 147.2656
  096U20160314,  Eddy,    26,  1,      6,   1206,2,20160406,   0,-52.8769, 147.2668, 4052,    697.5,   2.4760,  34.5300,2,-999.0000, 9,    175.1,2,   -999.0,9,    68.11,2,    34.86,2,     0.00,2,     2.40,2, 0.131914034,2,   -999.0,9,-999.0000,9,  -999.00,  -999.00,9,  -999.00,9,  -999.00,9,  -999.00,9,   2.4332,      521, -52.8764, 147.2655
  096U20160314,  Eddy,    26,  1,      5,   1205,2,20160406,   0,-52.8769, 147.2668, 4052,    797.6,   2.4100,  34.5900,2,  34.5754, 2,    173.1,2,    173.3,2,    72.65,2,    34.39,2,     0.00,2,     2.36,2, 0.179952644,2,   -999.0,9,-999.0000,9,  -999.00,  -999.00,9,  -999.00,9,  -999.00,9,  -999.00,9,   2.3607,      519, -52.8764, 147.2650
  096U20160314,  Eddy,    26,  1,      4,   1204,2,20160406,   0,-52.8769, 147.2668, 4052,    898.6,   2.4080,  34.6370,2,-999.0000, 9,    174.5,2,   -999.0,9,    74.26,2,    33.58,2,     0.00,2,     2.31,2, 0.177297243,2,   -999.0,9,-999.0000,9,  -999.00,  -999.00,9,  -999.00,9,  -999.00,9,  -999.00,9,   2.3517,      516, -52.8765, 147.2647
  096U20160314,  Eddy,    26,  1,      3,   1203,2,20160406,   0,-52.8769, 147.2668, 4052,   1001.9,   2.3810,  34.6810,2,  34.6586, 2,    178.0,2,    178.4,2,    75.41,2,    32.66,2,     0.00,2,     2.25,2, 0.189859726,2,   -999.0,9,-999.0000,9,  -999.00,  -999.00,9,  -999.00,9,  -999.00,9,  -999.00,9,   2.3176,      513, -52.8766, 147.2643
  096U20160314,  Eddy,    26,  1,      2,   1202,2,20160406,   0,-52.8769, 147.2668, 4052,   1250.7,   2.2240,  34.7360,2,-999.0000, 9,    184.6,2,   -999.0,9,    79.28,2,    31.45,2,     0.00,2,     2.17,2, 0.170973036,2,   -999.0,9,-999.0000,9,  -999.00,  -999.00,9,  -999.00,9,  -999.00,9,  -999.00,9,   2.1437,      508, -52.8764, 147.2639
  096U20160314,  Eddy,    26,  1,      1,   1201,2,20160406,   0,-52.8769, 147.2668, 4052,   1502.4,   2.0880,  34.7590,2,  34.7367, 2,    188.1,2,    189.3,2,    83.62,2,    31.02,2,     0.00,2,     2.14,2, 0.110506893,2,   -999.0,9,-999.0000,9,  -999.00,  -999.00,9,  -999.00,9,  -999.00,9,  -999.00,9,   1.9901,      503, -52.8762, 147.2637
  096U20160314,  Eddy,    27,  1,     24,   1224,2,20160406,   0,-51.9137, 148.5082, 4208,      3.5,   9.5120,  34.3640,2,  34.3441, 2,    278.9,2,   -999.0,9,     1.63,2,    13.02,2,     0.28,2,     1.02,2,  0.23874488,2,   2286.5,2,   7.8238,2,    25.00,  -999.00,9,  -999.00,9,     0.58,2,     0.11,2,   9.5116,     2308, -51.9134, 148.5080
  096U20160314,  Eddy,    27,  1,     23,   1223,2,20160406,   0,-51.9137, 148.5082, 4208,     25.5,   9.5160,  34.3640,2,  34.3438, 2,    278.8,2,   -999.0,9,     1.70,2,    13.00,2,     0.27,2,     1.02,2, 0.227359146,2,   2285.7,2,   7.8234,2,    25.00,  -999.00,9,  -999.00,9,     0.59,2,     0.13,2,   9.5132,     2306, -51.9132, 148.5082
  096U20160314,  Eddy,    27,  1,     22,   1222,2,20160406,   0,-51.9137, 148.5082, 4208,     50.1,   9.5180,  34.3640,2,  34.3435, 2,    278.6,2,   -999.0,9,     1.70,2,    13.04,2,     0.27,2,     1.01,2, 0.227523212,2,   2286.7,2,   7.8243,2,    25.00,  -999.00,9,  -999.00,9,     0.64,2,     0.06,2,   9.5125,     2304, -51.9131, 148.5084
  096U20160314,  Eddy,    27,  1,     21,   1221,2,20160406,   0,-51.9137, 148.5082, 4208,     76.9,   9.5210,  34.3640,2,  34.3437, 2,    278.8,2,   -999.0,9,     1.65,2,    13.02,2,     0.28,2,     1.02,2, 0.238496459,2,   2285.4,2,   7.8238,2,    25.00,  -999.00,9,  -999.00,9,     0.60,2,     0.13,2,   9.5125,     2303, -51.9132, 148.5083
  096U20160314,  Eddy,    27,  1,     20,   1220,2,20160406,   0,-51.9137, 148.5082, 4208,    100.7,   9.5230,  34.3640,2,  34.3440, 2,    278.6,2,   -999.0,9,     1.68,2,    13.00,2,     0.27,2,     1.01,2, 0.236996346,2,   2285.8,2,   7.8239,2,    25.00,  -999.00,9,  -999.00,9,     0.66,2,     0.07,2,   9.5118,     2301, -51.9131, 148.5084
  096U20160314,  Eddy,    27,  1,     19,   1219,2,20160406,   0,-51.9137, 148.5082, 4208,    125.5,   9.4010,  34.4120,2,  34.4111, 2,    274.4,2,   -999.0,9,     2.55,2,    14.16,2,     0.19,2,     1.07,2,  0.11329248,2,   2287.4,2,   7.8045,2,    25.00,  -999.00,9,  -999.00,9,     0.27,2,     0.11,2,   9.3872,     2258, -51.9126, 148.5081
  096U20160314,  Eddy,    27,  1,     18,   1218,2,20160406,   0,-51.9137, 148.5082, 4208,    150.4,   8.9940,  34.5550,2,  34.5349, 2,    269.1,2,   -999.0,9,     4.00,2,    15.20,2,     0.02,2,     1.11,2,  0.03984412,2,   2289.9,2,   7.7819,2,    25.00,  -999.00,9,  -999.00,9,     0.01,2,     0.12,2,   8.9778,     2256, -51.9122, 148.5077
  096U20160314,  Eddy,    27,  1,     17,   1217,2,20160406,   0,-51.9137, 148.5082, 4208,    176.0,   9.1270,  34.6020,2,  34.5836, 2,    267.8,2,   -999.0,9,     4.19,2,    15.28,2,     0.02,2,     1.11,2, 0.030324783,2,   2291.7,2,   7.7851,2,    25.00,  -999.00,9,  -999.00,9,     0.02,2,     0.10,2,   9.1078,     2254, -51.9121, 148.5076
  096U20160314,  Eddy,    27,  1,     16,   1216,2,20160406,   0,-51.9137, 148.5082, 4208,    199.5,   8.9630,  34.5840,2,  34.5651, 2,    267.0,2,   -999.0,9,     4.26,2,    15.29,2,     0.01,2,     1.11,2, 0.010438527,2,   2293.6,2,   7.7813,2,    25.00,  -999.00,9,  -999.00,9,     0.02,2,     0.07,2,   8.9415,     2252, -51.9118, 148.5076
  096U20160314,  Eddy,    27,  1,     15,   1215,2,20160406,   0,-51.9137, 148.5082, 4208,    226.0,   9.2390,  34.6560,2,  34.6391, 2,    263.6,2,   -999.0,9,     4.18,2,    14.73,2,     0.02,2,     1.08,2,  0.01908509,2,   2292.8,2,   7.7830,2,    25.00,  -999.00,9,  -999.00,9,  -999.00,9,  -999.00,9,   9.2141,     2250, -51.9116, 148.5075
  096U20160314,  Eddy,    27,  1,     14,   1214,2,20160406,   0,-51.9137, 148.5082, 4208,    251.4,   9.0570,  34.6310,2,  34.6129, 2,    263.5,2,   -999.0,9,     4.43,2,    15.27,2,     0.01,2,     1.11,2, 0.017608243,2,   2292.3,2,   7.7783,2,    25.00,  -999.00,9,  -999.00,9,  -999.00,9,  -999.00,9,   9.0296,     2249, -51.9113, 148.5075
  096U20160314,  Eddy,    27,  1,     13,   1213,2,20160406,   0,-51.9137, 148.5082, 4208,    301.5,   9.0350,  34.6500,2,  34.6291, 2,    264.1,2,   -999.0,9,     4.24,2,    15.03,2,     0.01,2,     1.09,2, 0.012831717,2,   2291.9,2,   7.7800,2,    25.00,  -999.00,9,  -999.00,9,  -999.00,9,  -999.00,9,   9.0021,     2245, -51.9110, 148.5077
  096U20160314,  Eddy,    27,  1,     12,   1212,2,20160406,   0,-51.9137, 148.5082, 4208,    352.1,   8.8960,  34.6310,2,  34.6171, 2,    264.7,2,   -999.0,9,     4.36,2,    15.38,2,     0.01,2,     1.12,2, 0.029454963,2,   2291.9,2,   7.7770,2,    25.00,  -999.00,9,  -999.00,9,  -999.00,9,  -999.00,9,   8.8579,     2243, -51.9110, 148.5079
  096U20160314,  Eddy,    27,  1,     11,   1211,2,20160406,   0,-51.9137, 148.5082, 4208,    400.7,   8.6010,  34.5870,2,  34.5674, 2,    265.6,2,   -999.0,9,     4.78,2,    16.38,2,     0.01,2,     1.18,2, 0.037493655,2,   2290.7,2,   7.7694,2,    25.00,  -999.00,9,  -999.00,9,  -999.00,9,  -999.00,9,   8.5584,     2241, -51.9108, 148.5081
  096U20160314,  Eddy,    27,  1,     10,   1210,2,20160406,   0,-51.9137, 148.5082, 4208,    601.7,   7.3980,  34.4320,2,  34.5967, 4,    243.0,2,   -999.0,9,     8.57,2,    21.31,2,     0.00,2,     1.48,2, 0.040825382,2,   2285.6,2,   7.7176,2,    25.00,  -999.00,9,  -999.00,9,  -999.00,9,  -999.00,9,   7.3387,     2236, -51.9103, 148.5082
  096U20160314,  Eddy,    27,  1,      9,   1209,2,20160406,   0,-51.9137, 148.5082, 4208,    801.8,   6.2370,  34.4000,2,  34.3802, 2,    214.1,2,   -999.0,9,    17.16,2,    26.38,2,     0.00,2,     1.80,2, 0.053931385,2,   2288.1,2,   7.6586,2,    25.00,    20.09,6,     6.97,6,  -999.00,9,  -999.00,9,   6.1640,     2232, -51.9099, 148.5085
  096U20160314,  Eddy,    27,  1,      8,   1208,2,20160406,   0,-51.9137, 148.5082, 4208,   1003.1,   4.8870,  34.3930,2,  34.3728, 2,    199.1,2,   -999.0,9,    31.74,2,    30.17,2,     0.00,2,     2.07,2, 0.020218658,2,   2299.8,6,   7.6189,6,    25.00,  -999.00,9,  -999.00,9,  -999.00,9,  -999.00,9,   4.8045,     2227, -51.9094, 148.5088
  096U20160314,  Eddy,    27,  1,      7,   1207,2,20160406,   0,-51.9137, 148.5082, 4208,   1202.1,   3.6320,  34.3780,2,  34.3555, 2,    197.1,2,   -999.0,9,    42.89,2,    32.68,2,     0.00,2,     2.24,2, 0.029223882,2,   2306.3,2,   7.5849,2,    25.00,  -999.00,9,  -999.00,9,  -999.00,9,  -999.00,9,   3.5429,     2222, -51.9091, 148.5093
  096U20160314,  Eddy,    27,  1,      6,   1206,2,20160406,   0,-51.9137, 148.5082, 4208,   1401.5,   3.1990,  34.4520,2,-999.0000, 9,    182.4,2,   -999.0,9,    55.10,2,    33.93,2,     0.00,2,     2.34,2, 0.091949751,2,   -999.0,9,-999.0000,9,  -999.00,  -999.00,9,  -999.00,9,  -999.00,9,  -999.00,9,   3.0974,     2218, -51.9086, 148.5095
  096U20160314,  Eddy,    27,  1,      5,   1205,2,20160406,   0,-51.9137, 148.5082, 4208,   1401.7,   3.1980,  34.4520,2,  34.4301, 2,    182.4,2,   -999.0,9,  -999.00,9,  -999.00,9,  -999.00,9,  -999.00,9,        -999,9,   2319.1,2,   7.5684,2,    25.00,  -999.00,9,  -999.00,9,  -999.00,9,  -999.00,9,   3.0965,     2218, -51.9086, 148.5095
  096U20160314,  Eddy,    27,  1,      4,   1204,2,20160406,   0,-51.9137, 148.5082, 4208,   1599.3,   2.8130,  34.5350,2,  34.5135, 2,    173.9,2,   -999.0,9,    65.47,3,    34.30,2,     0.00,2,     2.37,2, 0.056297294,2,   2329.9,2,   7.5569,2,    25.00,    31.17,6,     9.73,6,  -999.00,9,  -999.00,9,   2.6992,     2213, -51.9082, 148.5101
  096U20160314,  Eddy,    27,  1,      2,   1202,2,20160406,   0,-51.9137, 148.5082, 4208,   1800.5,   2.6380,  34.6170,2,-999.0000, 9,    172.3,2,   -999.0,9,  -999.00,9,  -999.00,9,  -999.00,9,  -999.00,9,        -999,9,   2337.2,2,   7.5645,2,    25.00,  -999.00,9,  -999.00,9,  -999.00,9,  -999.00,9,   2.5092,     2208, -51.9077, 148.5112
  096U20160314,  Eddy,    27,  1,      3,   1203,2,20160406,   0,-51.9137, 148.5082, 4208,   1802.0,   2.6380,  34.6170,2,  34.5944, 2,    172.2,2,   -999.0,9,    71.11,2,    33.77,2,     0.00,2,     2.33,2, 0.051109278,2,   2336.3,2,   7.5652,2,    25.00,  -999.00,9,  -999.00,9,  -999.00,9,  -999.00,9,   2.5092,     2209, -51.9077, 148.5112
  096U20160314,  Eddy,    27,  1,      1,   1201,2,20160406,   0,-51.9137, 148.5082, 4208,   1999.5,   2.4850,  34.6860,2,  34.6633, 2,    175.5,2,   -999.0,9,    75.51,2,    32.71,2,     0.00,2,     2.26,2, 0.043625181,2,   2341.3,6,   7.5765,6,    25.00,    43.50,6,    11.33,6,  -999.00,9,  -999.00,9,   2.3411,     2204, -51.9074, 148.5117