BOTTLE,20180103PRINUNIVRMK
EXPOCODE,SECT_ID,STNNBR,CASTNO,SAMPNO,BTLNBR,BTLNBR_FLAG_W,DATE,TIME,LATITUDE,LONGITUDE,DEPTH,CTDPRS,CTDTMP,CTDSAL,CTDSAL_FLAG_W,SALNTY,SALNTY_FLAG_W,CTDOXY,CTDOXY_FLAG_W,OXYGEN,OXYGEN_FLAG_W,SILCAT,SILCAT_FLAG_W,NITRAT,NITRAT_FLAG_W,NITRIT,NITRIT_FLAG_W,PHSPHT,PHSPHT_FLAG_W,NH4,NH4_FLAG_W,ALKALI,ALKALI_FLAG_W,PH_TOT,PH_TOT_FLAG_W,PH_TMP,POC,POC_FLAG_W,PON,PON_FLAG_W,CHLORA,CHLORA_FLAG_W,PPHYTN,PPHYTN_FLAG_W,THETA,BTL_TIME,BTL_LAT,BTL_LON
,,,,,,,,,,,METERS,DBAR,ITS-90,PSS-78,,PSS-78,,UMOL/KG,,UMOL/KG,,UMOL/KG,,UMOL/KG,,UMOL/KG,,UMOL/KG,,UMOL/KG,,UMOL/KG,,,,DEG C,UG/KG,,UG/KG,,UG/KG,,UG/KG,,DEG C,,,
  096U20160314,  Eddy,    17,  1,     24,   1224,2,20160402,   0,-50.4165, 147.1078, 4371,      3.2,   7.2270,  33.8140,2,-999.0000, 9,    296.9,2,   -999.0,9,  -999.00,9,  -999.00,9,  -999.00,9,  -999.00,9,        -999,9,   -999.0,9,-999.0000,9,  -999.00,  -999.00,9,  -999.00,9,  -999.00,9,  -999.00,9,   7.2267,      858, -50.4164, 147.1077
  096U20160314,  Eddy,    17,  1,     23,   1223,2,20160402,   0,-50.4165, 147.1078, 4371,     13.8,   7.2290,  33.8140,2,-999.0000, 9,    296.6,2,   -999.0,9,  -999.00,9,  -999.00,9,  -999.00,9,  -999.00,9,        -999,9,   -999.0,9,-999.0000,9,  -999.00,  -999.00,9,  -999.00,9,  -999.00,9,  -999.00,9,   7.2277,      856, -50.4164, 147.1077
  096U20160314,  Eddy,    17,  1,     22,   1222,2,20160402,   0,-50.4165, 147.1078, 4371,     28.6,   7.2310,  33.8140,2,-999.0000, 9,    296.2,2,   -999.0,9,  -999.00,9,  -999.00,9,  -999.00,9,  -999.00,9,        -999,9,   -999.0,9,-999.0000,9,  -999.00,  -999.00,9,  -999.00,9,  -999.00,9,  -999.00,9,   7.2284,      855, -50.4164, 147.1076
  096U20160314,  Eddy,    17,  1,     21,   1221,2,20160402,   0,-50.4165, 147.1078, 4371,     40.6,   7.2290,  33.8150,2,-999.0000, 9,    296.3,2,   -999.0,9,  -999.00,9,  -999.00,9,  -999.00,9,  -999.00,9,        -999,9,   -999.0,9,-999.0000,9,  -999.00,  -999.00,9,  -999.00,9,  -999.00,9,  -999.00,9,   7.2252,      854, -50.4164, 147.1076
  096U20160314,  Eddy,    17,  1,     20,   1220,2,20160402,   0,-50.4165, 147.1078, 4371,     58.2,   7.0970,  33.8230,2,-999.0000, 9,    297.5,2,   -999.0,9,  -999.00,9,  -999.00,9,  -999.00,9,  -999.00,9,        -999,9,   -999.0,9,-999.0000,9,  -999.00,  -999.00,9,  -999.00,9,  -999.00,9,  -999.00,9,   7.0917,      852, -50.4163, 147.1076
  096U20160314,  Eddy,    17,  1,     19,   1219,2,20160402,   0,-50.4165, 147.1078, 4371,     79.4,   6.8790,  33.8270,2,-999.0000, 9,    297.2,2,   -999.0,9,  -999.00,9,  -999.00,9,  -999.00,9,  -999.00,9,        -999,9,   -999.0,9,-999.0000,9,  -999.00,  -999.00,9,  -999.00,9,  -999.00,9,  -999.00,9,   6.8718,      851, -50.4163, 147.1074
  096U20160314,  Eddy,    17,  1,     18,   1218,2,20160402,   0,-50.4165, 147.1078, 4371,     99.5,   5.9520,  33.8410,2,-999.0000, 9,    302.0,2,   -999.0,9,  -999.00,9,  -999.00,9,  -999.00,9,  -999.00,9,        -999,9,   -999.0,9,-999.0000,9,  -999.00,  -999.00,9,  -999.00,9,  -999.00,9,  -999.00,9,   5.9437,      850, -50.4162, 147.1073
  096U20160314,  Eddy,    17,  1,     17,   1217,2,20160402,   0,-50.4165, 147.1078, 4371,    101.7,   5.9170,  33.8430,2,-999.0000, 9,    301.9,2,   -999.0,9,  -999.00,9,  -999.00,9,  -999.00,9,  -999.00,9,        -999,9,   -999.0,9,-999.0000,9,  -999.00,  -999.00,9,  -999.00,9,  -999.00,9,  -999.00,9,   5.9086,      849, -50.4162, 147.1072
  096U20160314,  Eddy,    17,  1,     16,   1216,2,20160402,   0,-50.4165, 147.1078, 4371,    123.4,   5.3230,  33.8770,2,-999.0000, 9,    302.9,2,   -999.0,9,  -999.00,9,  -999.00,9,  -999.00,9,  -999.00,9,        -999,9,   -999.0,9,-999.0000,9,  -999.00,  -999.00,9,  -999.00,9,  -999.00,9,  -999.00,9,   5.3133,      848, -50.4160, 147.1071
  096U20160314,  Eddy,    17,  1,     14,   1214,2,20160402,   0,-50.4165, 147.1078, 4371,    152.5,   4.6830,  33.9470,2,-999.0000, 9,    301.2,2,   -999.0,9,  -999.00,9,  -999.00,9,  -999.00,9,  -999.00,9,        -999,9,   -999.0,9,-999.0000,9,  -999.00,  -999.00,9,  -999.00,9,  -999.00,9,  -999.00,9,   4.6718,      846, -50.4160, 147.1070
  096U20160314,  Eddy,    17,  1,     15,   1215,2,20160402,   0,-50.4165, 147.1078, 4371,    152.5,   4.6830,  33.9500,2,-999.0000, 9,    301.6,2,   -999.0,9,  -999.00,9,  -999.00,9,  -999.00,9,  -999.00,9,        -999,9,   -999.0,9,-999.0000,9,  -999.00,  -999.00,9,  -999.00,9,  -999.00,9,  -999.00,9,   4.6718,      846, -50.4160, 147.1070
  096U20160314,  Eddy,    17,  1,     13,   1213,2,20160402,   0,-50.4165, 147.1078, 4371,    173.0,   4.4710,  33.9660,2,-999.0000, 9,    301.0,2,   -999.0,9,  -999.00,9,  -999.00,9,  -999.00,9,  -999.00,9,        -999,9,   -999.0,9,-999.0000,9,  -999.00,  -999.00,9,  -999.00,9,  -999.00,9,  -999.00,9,   4.4585,      844, -50.4159, 147.1070
  096U20160314,  Eddy,    17,  1,     12,   1212,2,20160402,   0,-50.4165, 147.1078, 4371,    198.4,   4.0980,  33.9730,2,-999.0000, 9,    299.7,2,   -999.0,9,  -999.00,9,  -999.00,9,  -999.00,9,  -999.00,9,        -999,9,   -999.0,9,-999.0000,9,  -999.00,  -999.00,9,  -999.00,9,  -999.00,9,  -999.00,9,   4.0842,      842, -50.4159, 147.1069
  096U20160314,  Eddy,    17,  1,     11,   1211,2,20160402,   0,-50.4165, 147.1078, 4371,    225.4,   4.1650,  34.0150,2,-999.0000, 9,    292.1,2,   -999.0,9,  -999.00,9,  -999.00,9,  -999.00,9,  -999.00,9,        -999,9,   -999.0,9,-999.0000,9,  -999.00,  -999.00,9,  -999.00,9,  -999.00,9,  -999.00,9,   4.1492,      841, -50.4158, 147.1067
  096U20160314,  Eddy,    17,  1,     10,   1210,2,20160402,   0,-50.4165, 147.1078, 4371,    251.4,   4.2540,  34.0520,2,-999.0000, 9,    284.8,2,   -999.0,9,  -999.00,9,  -999.00,9,  -999.00,9,  -999.00,9,        -999,9,   -999.0,9,-999.0000,9,  -999.00,  -999.00,9,  -999.00,9,  -999.00,9,  -999.00,9,   4.2361,      839, -50.4157, 147.1064
  096U20160314,  Eddy,    17,  1,      9,   1209,2,20160402,   0,-50.4165, 147.1078, 4371,    252.2,   4.2610,  34.0540,2,-999.0000, 9,    284.8,2,   -999.0,9,  -999.00,9,  -999.00,9,  -999.00,9,  -999.00,9,        -999,9,   -999.0,9,-999.0000,9,  -999.00,  -999.00,9,  -999.00,9,  -999.00,9,  -999.00,9,   4.2430,      839, -50.4157, 147.1064
  096U20160314,  Eddy,    17,  1,      8,   1208,2,20160402,   0,-50.4165, 147.1078, 4371,    277.8,   3.8320,  34.0180,2,-999.0000, 9,    289.6,2,   -999.0,9,  -999.00,9,  -999.00,9,  -999.00,9,  -999.00,9,        -999,9,   -999.0,9,-999.0000,9,  -999.00,  -999.00,9,  -999.00,9,  -999.00,9,  -999.00,9,   3.8131,      837, -50.4156, 147.1064
  096U20160314,  Eddy,    17,  1,      7,   1207,2,20160402,   0,-50.4165, 147.1078, 4371,    300.4,   3.8530,  34.0400,2,-999.0000, 9,    284.6,2,   -999.0,9,  -999.00,9,  -999.00,9,  -999.00,9,  -999.00,9,        -999,9,   -999.0,9,-999.0000,9,  -999.00,  -999.00,9,  -999.00,9,  -999.00,9,  -999.00,9,   3.8325,      836, -50.4156, 147.1063
  096U20160314,  Eddy,    17,  1,      6,   1206,2,20160402,   0,-50.4165, 147.1078, 4371,    325.2,   4.0130,  34.0860,2,-999.0000, 9,    274.8,2,   -999.0,9,  -999.00,9,  -999.00,9,  -999.00,9,  -999.00,9,        -999,9,   -999.0,9,-999.0000,9,  -999.00,  -999.00,9,  -999.00,9,  -999.00,9,  -999.00,9,   3.9903,      834, -50.4154, 147.1060
  096U20160314,  Eddy,    17,  1,      5,   1205,2,20160402,   0,-50.4165, 147.1078, 4371,    353.2,   4.0580,  34.1180,2,-999.0000, 9,    265.0,2,   -999.0,9,  -999.00,9,  -999.00,9,  -999.00,9,  -999.00,9,        -999,9,   -999.0,9,-999.0000,9,  -999.00,  -999.00,9,  -999.00,9,  -999.00,9,  -999.00,9,   4.0331,      833, -50.4153, 147.1057
  096U20160314,  Eddy,    17,  1,      4,   1204,2,20160402,   0,-50.4165, 147.1078, 4371,    401.8,   4.1590,  34.1810,2,-999.0000, 9,    248.8,2,   -999.0,9,  -999.00,9,  -999.00,9,  -999.00,9,  -999.00,9,        -999,9,   -999.0,9,-999.0000,9,  -999.00,  -999.00,9,  -999.00,9,  -999.00,9,  -999.00,9,   4.1301,      830, -50.4151, 147.1053
  096U20160314,  Eddy,    17,  1,      3,   1203,2,20160402,   0,-50.4165, 147.1078, 4371,    450.4,   3.9120,  34.1730,2,-999.0000, 9,    249.0,2,   -999.0,9,  -999.00,9,  -999.00,9,  -999.00,9,  -999.00,9,        -999,9,   -999.0,9,-999.0000,9,  -999.00,  -999.00,9,  -999.00,9,  -999.00,9,  -999.00,9,   3.8804,      828, -50.4149, 147.1050
  096U20160314,  Eddy,    17,  1,      1,   1201,2,20160402,   0,-50.4165, 147.1078, 4371,    500.8,   3.7050,  34.1760,2,-999.0000, 9,    246.4,2,   -999.0,9,  -999.00,9,  -999.00,9,  -999.00,9,  -999.00,9,        -999,9,   -999.0,9,-999.0000,9,  -999.00,  -999.00,9,  -999.00,9,  -999.00,9,  -999.00,9,   3.6704,      825, -50.4147, 147.1046
  096U20160314,  Eddy,    17,  1,      2,   1202,2,20160402,   0,-50.4165, 147.1078, 4371,    501.4,   3.6760,  34.1770,2,-999.0000, 9,    246.6,2,   -999.0,9,  -999.00,9,  -999.00,9,  -999.00,9,  -999.00,9,        -999,9,   -999.0,9,-999.0000,9,  -999.00,  -999.00,9,  -999.00,9,  -999.00,9,  -999.00,9,   3.6415,      825, -50.4147, 147.1046
  096U20160314,  Eddy,    18,  1,     24,   1224,2,20160402,   0,-49.6851, 146.5167, 4271,      5.7,   9.1230,  34.1290,2,-999.0000, 9,    281.6,2,   -999.0,9,     1.87,2,    15.94,2,     0.28,2,     1.19,2,   0.2730925,2,   -999.0,9,-999.0000,9,  -999.00,  -999.00,9,  -999.00,9,  -999.00,9,  -999.00,9,   9.1224,     2135, -49.6846, 146.5162
  096U20160314,  Eddy,    18,  1,     23,   1223,2,20160402,   0,-49.6851, 146.5167, 4271,     16.1,   9.1260,  34.1280,2,  34.1067, 2,    281.2,2,   -999.0,9,     1.87,2,    15.92,2,     0.28,2,     1.20,2, 0.268414202,2,   -999.0,9,-999.0000,9,  -999.00,  -999.00,9,  -999.00,9,  -999.00,9,  -999.00,9,   9.1243,     2134, -49.6844, 146.5162
  096U20160314,  Eddy,    18,  1,     22,   1222,2,20160402,   0,-49.6851, 146.5167, 4271,     29.6,   9.1230,  34.1280,2,-999.0000, 9,    281.6,2,   -999.0,9,     1.87,2,    15.91,2,     0.28,2,     1.19,2, 0.272468262,2,   -999.0,9,-999.0000,9,  -999.00,  -999.00,9,  -999.00,9,  -999.00,9,  -999.00,9,   9.1198,     2133, -49.6842, 146.5160
  096U20160314,  Eddy,    18,  1,     21,   1221,2,20160402,   0,-49.6851, 146.5167, 4271,     44.3,   9.1270,  34.1280,2,  34.1060, 2,    280.9,2,   -999.0,9,     1.86,2,    15.92,2,     0.28,2,     1.20,2, 0.279574487,2,   -999.0,9,-999.0000,9,  -999.00,  -999.00,9,  -999.00,9,  -999.00,9,  -999.00,9,   9.1222,     2132, -49.6841, 146.5159
  096U20160314,  Eddy,    18,  1,     20,   1220,2,20160402,   0,-49.6851, 146.5167, 4271,     59.0,   9.1280,  34.1280,2,-999.0000, 9,    281.2,2,   -999.0,9,     1.88,2,    15.90,2,     0.28,2,     1.20,2, 0.279162991,2,   -999.0,9,-999.0000,9,  -999.00,  -999.00,9,  -999.00,9,  -999.00,9,  -999.00,9,   9.1217,     2131, -49.6841, 146.5158
  096U20160314,  Eddy,    18,  1,     19,   1219,2,20160402,   0,-49.6851, 146.5167, 4271,     77.2,   9.1310,  34.1280,2,  34.1146, 2,    280.9,2,   -999.0,9,     1.89,2,    15.84,2,     0.28,2,     1.19,2,  0.29747166,2,   -999.0,9,-999.0000,9,  -999.00,  -999.00,9,  -999.00,9,  -999.00,9,  -999.00,9,   9.1227,     2130, -49.6840, 146.5156
  096U20160314,  Eddy,    18,  1,     18,   1218,2,20160402,   0,-49.6851, 146.5167, 4271,     99.9,   9.6810,  34.4360,2,-999.0000, 9,    270.8,2,   -999.0,9,     2.43,2,    14.47,2,     0.25,2,     1.10,2, 0.235766848,2,   -999.0,9,-999.0000,9,  -999.00,  -999.00,9,  -999.00,9,  -999.00,9,  -999.00,9,   9.6698,     2129, -49.6839, 146.5154
  096U20160314,  Eddy,    18,  1,     17,   1217,2,20160402,   0,-49.6851, 146.5167, 4271,    128.6,   9.9380,  34.6970,2,  34.6770, 2,    258.5,2,   -999.0,9,     3.85,2,    13.33,2,     0.02,2,     1.00,2, 0.038655427,2,   -999.0,9,-999.0000,9,  -999.00,  -999.00,9,  -999.00,9,  -999.00,9,  -999.00,9,   9.9232,     2127, -49.6837, 146.5152
  096U20160314,  Eddy,    18,  1,     16,   1216,2,20160402,   0,-49.6851, 146.5167, 4271,    146.4,   9.8400,  34.6890,2,-999.0000, 9,    259.0,2,   -999.0,9,     3.98,2,    13.61,2,     0.01,2,     1.01,2, 0.053001114,2,   -999.0,9,-999.0000,9,  -999.00,  -999.00,9,  -999.00,9,  -999.00,9,  -999.00,9,   9.8233,     2126, -49.6836, 146.5150
  096U20160314,  Eddy,    18,  1,     15,   1215,2,20160402,   0,-49.6851, 146.5167, 4271,    173.7,   9.7140,  34.6720,2,  34.6502, 2,    258.6,2,   -999.0,9,     4.11,2,    13.94,2,     0.01,2,     1.03,2, 0.041170176,2,   -999.0,9,-999.0000,9,  -999.00,  -999.00,9,  -999.00,9,  -999.00,9,  -999.00,9,   9.6943,     2125, -49.6835, 146.5147
  096U20160314,  Eddy,    18,  1,     14,   1214,2,20160402,   0,-49.6851, 146.5167, 4271,    199.0,   9.5090,  34.6470,2,-999.0000, 9,    257.9,2,   -999.0,9,     4.36,2,    14.57,2,     0.02,2,     1.07,2, 0.046498027,2,   -999.0,9,-999.0000,9,  -999.00,  -999.00,9,  -999.00,9,  -999.00,9,  -999.00,9,   9.4867,     2124, -49.6833, 146.5144
  096U20160314,  Eddy,    18,  1,     13,   1213,2,20160402,   0,-49.6851, 146.5167, 4271,    221.4,   9.4820,  34.6490,2,  34.6259, 2,    257.2,2,   -999.0,9,     4.53,2,    14.76,2,     0.01,2,     1.09,2, 0.043508415,2,   -999.0,9,-999.0000,9,  -999.00,  -999.00,9,  -999.00,9,  -999.00,9,  -999.00,9,   9.4572,     2122, -49.6832, 146.5141
  096U20160314,  Eddy,    18,  1,     12,   1212,2,20160402,   0,-49.6851, 146.5167, 4271,    250.0,   9.3580,  34.6310,2,-999.0000, 9,    257.6,2,   -999.0,9,     4.62,2,    15.05,2,     0.01,2,     1.10,2,  0.04953065,2,   -999.0,9,-999.0000,9,  -999.00,  -999.00,9,  -999.00,9,  -999.00,9,  -999.00,9,   9.3302,     2121, -49.6831, 146.5138
  096U20160314,  Eddy,    18,  1,     11,   1211,2,20160402,   0,-49.6851, 146.5167, 4271,    299.3,   9.0480,  34.5900,2,  34.5634, 2,    257.3,2,   -999.0,9,     4.97,2,    15.99,2,     0.01,2,     1.16,2, 0.052648018,2,   -999.0,9,-999.0000,9,  -999.00,  -999.00,9,  -999.00,9,  -999.00,9,  -999.00,9,   9.0154,     2119, -49.6829, 146.5134
  096U20160314,  Eddy,    18,  1,     10,   1210,2,20160402,   0,-49.6851, 146.5167, 4271,    349.9,   8.8920,  34.5820,2,-999.0000, 9,    254.4,2,   -999.0,9,     5.37,2,    16.53,2,     0.01,2,     1.19,2, 0.062707584,2,   -999.0,9,-999.0000,9,  -999.00,  -999.00,9,  -999.00,9,  -999.00,9,  -999.00,9,   8.8541,     2116, -49.6827, 146.5130
  096U20160314,  Eddy,    18,  1,      9,   1209,2,20160402,   0,-49.6851, 146.5167, 4271,    402.2,   8.6410,  34.5570,2,  34.5341, 2,    251.3,2,   -999.0,9,     6.00,2,    17.48,2,     0.01,2,     1.25,2, 0.066796806,2,   -999.0,9,-999.0000,9,  -999.00,  -999.00,9,  -999.00,9,  -999.00,9,  -999.00,9,   8.5981,     2114, -49.6825, 146.5126
  096U20160314,  Eddy,    18,  1,      8,   1208,2,20160402,   0,-49.6851, 146.5167, 4271,    498.4,   8.1350,  34.5140,2,-999.0000, 9,    237.2,2,   -999.0,9,     8.06,2,    19.89,2,     0.00,2,     1.40,2, 0.059714459,2,   -999.0,9,-999.0000,9,  -999.00,  -999.00,9,  -999.00,9,  -999.00,9,  -999.00,9,   8.0834,     2111, -49.6822, 146.5119
  096U20160314,  Eddy,    18,  1,      7,   1207,2,20160402,   0,-49.6851, 146.5167, 4271,    601.5,   6.7880,  34.3440,2,  34.3247, 2,    245.3,2,   -999.0,9,    10.05,2,    22.70,2,     0.00,2,     1.58,2, 0.073003129,2,   -999.0,9,-999.0000,9,  -999.00,  -999.00,9,  -999.00,9,  -999.00,9,  -999.00,9,   6.7316,     2107, -49.6818, 146.5114
  096U20160314,  Eddy,    18,  1,      6,   1206,2,20160402,   0,-49.6851, 146.5167, 4271,    701.0,   6.5060,  34.4340,2,-999.0000, 9,    206.4,2,   -999.0,9,    17.47,2,    26.42,2,     0.00,2,     1.81,2, 0.089111711,2,   -999.0,9,-999.0000,9,  -999.00,  -999.00,9,  -999.00,9,  -999.00,9,  -999.00,9,   6.4412,     2103, -49.6817, 146.5111
  096U20160314,  Eddy,    18,  1,      5,   1205,2,20160402,   0,-49.6851, 146.5167, 4271,    802.7,   5.5670,  34.3850,2,  34.3621, 2,    205.3,2,   -999.0,9,    23.03,2,    28.67,2,     0.00,2,     1.96,2, 0.101639237,2,   -999.0,9,-999.0000,9,  -999.00,  -999.00,9,  -999.00,9,  -999.00,9,  -999.00,9,   5.4980,     2059, -49.6814, 146.5104
  096U20160314,  Eddy,    18,  1,      4,   1204,2,20160402,   0,-49.6851, 146.5167, 4271,    902.9,   4.7420,  34.3540,2,-999.0000, 9,    206.5,2,   -999.0,9,    28.94,2,    30.27,2,     0.00,2,     2.08,2, 0.104055556,2,   -999.0,9,-999.0000,9,  -999.00,  -999.00,9,  -999.00,9,  -999.00,9,  -999.00,9,   4.6694,     2054, -49.6814, 146.5098
  096U20160314,  Eddy,    18,  1,      3,   1203,2,20160402,   0,-49.6851, 146.5167, 4271,   1000.0,   4.1370,  34.3440,2,  34.3214, 2,    205.4,2,   -999.0,9,    34.33,2,    31.49,2,     0.00,2,     2.17,2, 0.112523561,2,   -999.0,9,-999.0000,9,  -999.00,  -999.00,9,  -999.00,9,  -999.00,9,  -999.00,9,   4.0606,     2051, -49.6810, 146.5089
  096U20160314,  Eddy,    18,  1,      2,   1202,2,20160402,   0,-49.6851, 146.5167, 4271,   1249.4,   3.3080,  34.4370,2,-999.0000, 9,    183.3,2,   -999.0,9,    53.35,2,    33.85,2,     0.00,2,     2.35,2,  0.11362036,2,   -999.0,9,-999.0000,9,  -999.00,  -999.00,9,  -999.00,9,  -999.00,9,  -999.00,9,   3.2179,     2044, -49.6805, 146.5078
  096U20160314,  Eddy,    18,  1,      1,   1201,2,20160402,   0,-49.6851, 146.5167, 4271,   1501.4,   2.8090,  34.5420,2,  34.5181, 2,    171.9,2,   -999.0,9,    66.37,2,    34.47,3,     0.00,2,     2.40,2, 0.061805027,2,   -999.0,9,-999.0000,9,  -999.00,  -999.00,9,  -999.00,9,  -999.00,9,  -999.00,9,   2.7034,     2038, -49.6803, 146.5074