BOTTLE,20180103PRINUNIVRMK
EXPOCODE,SECT_ID,STNNBR,CASTNO,SAMPNO,BTLNBR,BTLNBR_FLAG_W,DATE,TIME,LATITUDE,LONGITUDE,DEPTH,CTDPRS,CTDTMP,CTDSAL,CTDSAL_FLAG_W,SALNTY,SALNTY_FLAG_W,CTDOXY,CTDOXY_FLAG_W,OXYGEN,OXYGEN_FLAG_W,SILCAT,SILCAT_FLAG_W,NITRAT,NITRAT_FLAG_W,NITRIT,NITRIT_FLAG_W,PHSPHT,PHSPHT_FLAG_W,NH4,NH4_FLAG_W,ALKALI,ALKALI_FLAG_W,PH_TOT,PH_TOT_FLAG_W,PH_TMP,POC,POC_FLAG_W,PON,PON_FLAG_W,CHLORA,CHLORA_FLAG_W,PPHYTN,PPHYTN_FLAG_W,THETA,BTL_TIME,BTL_LAT,BTL_LON
,,,,,,,,,,,METERS,DBAR,ITS-90,PSS-78,,PSS-78,,UMOL/KG,,UMOL/KG,,UMOL/KG,,UMOL/KG,,UMOL/KG,,UMOL/KG,,UMOL/KG,,UMOL/KG,,,,DEG C,UG/KG,,UG/KG,,UG/KG,,UG/KG,,DEG C,,,
  096U20160314,  Eddy,    21,  1,     24,   1224,2,20160403,   0,-50.0953, 146.8697, 4451,      5.6,   8.2080,  34.0250,2,-999.0000, 9,    289.4,2,   -999.0,9,     2.38,2,    18.30,2,     0.28,2,     1.33,2, 0.217382118,2,   -999.0,9,-999.0000,9,  -999.00,  -999.00,9,  -999.00,9,  -999.00,9,  -999.00,9,   8.2074,      626, -50.0950, 146.8687
  096U20160314,  Eddy,    21,  1,     23,   1223,2,20160403,   0,-50.0953, 146.8697, 4451,     15.3,   8.2060,  34.0230,2,  34.0002, 2,    289.5,2,   -999.0,9,     2.40,2,    18.31,2,     0.28,2,     1.33,2, 0.211744506,2,   -999.0,9,-999.0000,9,  -999.00,  -999.00,9,  -999.00,9,  -999.00,9,  -999.00,9,   8.2045,      624, -50.0950, 146.8682
  096U20160314,  Eddy,    21,  1,     22,   1222,2,20160403,   0,-50.0953, 146.8697, 4451,     30.3,   8.2250,  34.0280,2,-999.0000, 9,    289.4,2,   -999.0,9,     2.47,2,    18.29,2,     0.28,2,     1.33,2, 0.215251719,2,   -999.0,9,-999.0000,9,  -999.00,  -999.00,9,  -999.00,9,  -999.00,9,  -999.00,9,   8.2220,      623, -50.0948, 146.8680
  096U20160314,  Eddy,    21,  1,     21,   1221,2,20160403,   0,-50.0953, 146.8697, 4451,     45.8,   8.3140,  34.0550,2,  34.0329, 2,    288.0,2,   -999.0,9,     2.40,2,    17.80,2,     0.28,2,     1.30,2, 0.219393663,2,   -999.0,9,-999.0000,9,  -999.00,  -999.00,9,  -999.00,9,  -999.00,9,  -999.00,9,   8.3094,      622, -50.0947, 146.8677
  096U20160314,  Eddy,    21,  1,     20,   1220,2,20160403,   0,-50.0953, 146.8697, 4451,     59.9,   8.3320,  34.0610,2,-999.0000, 9,    287.4,2,   -999.0,9,     2.36,2,    17.69,2,     0.28,2,     1.30,2, 0.255932604,2,   -999.0,9,-999.0000,9,  -999.00,  -999.00,9,  -999.00,9,  -999.00,9,  -999.00,9,   8.3259,      621, -50.0947, 146.8674
  096U20160314,  Eddy,    21,  1,     19,   1219,2,20160403,   0,-50.0953, 146.8697, 4451,     80.6,   8.3170,  34.0610,2,  34.0388, 2,    287.3,2,   -999.0,9,     2.36,2,    17.68,2,     0.28,2,     1.30,2, 0.240303976,2,   -999.0,9,-999.0000,9,  -999.00,  -999.00,9,  -999.00,9,  -999.00,9,  -999.00,9,   8.3088,      620, -50.0946, 146.8670
  096U20160314,  Eddy,    21,  1,     18,   1218,2,20160403,   0,-50.0953, 146.8697, 4451,    100.8,   8.0120,  34.0360,2,-999.0000, 9,    288.2,2,   -999.0,9,     2.55,2,    18.20,2,     0.30,2,     1.33,2, 0.281982248,2,   -999.0,9,-999.0000,9,  -999.00,  -999.00,9,  -999.00,9,  -999.00,9,  -999.00,9,   8.0020,      619, -50.0946, 146.8666
  096U20160314,  Eddy,    21,  1,     17,   1217,2,20160403,   0,-50.0953, 146.8697, 4451,    123.0,   7.1860,  34.1800,2,  34.1559, 2,    280.9,2,   -999.0,9,     4.69,2,    19.82,2,     0.17,2,     1.41,2, 0.035140797,2,   -999.0,9,-999.0000,9,  -999.00,  -999.00,9,  -999.00,9,  -999.00,9,  -999.00,9,   7.1745,      617, -50.0945, 146.8660
  096U20160314,  Eddy,    21,  1,     16,   1216,2,20160403,   0,-50.0953, 146.8697, 4451,    149.3,   7.2230,  34.2580,2,-999.0000, 9,    277.3,2,   -999.0,9,     5.39,2,    19.43,2,     0.02,2,     1.37,2, 0.044730943,2,   -999.0,9,-999.0000,9,  -999.00,  -999.00,9,  -999.00,9,  -999.00,9,  -999.00,9,   7.2090,      616, -50.0944, 146.8654
  096U20160314,  Eddy,    21,  1,     15,   1215,2,20160403,   0,-50.0953, 146.8697, 4451,    175.2,   7.3370,  34.2980,2,  34.2726, 2,    274.1,2,   -999.0,9,     5.59,2,    19.33,2,     0.02,2,     1.36,2, 0.047305608,2,   -999.0,9,-999.0000,9,  -999.00,  -999.00,9,  -999.00,9,  -999.00,9,  -999.00,9,   7.3204,      615, -50.0943, 146.8650
  096U20160314,  Eddy,    21,  1,     14,   1214,2,20160403,   0,-50.0953, 146.8697, 4451,    201.7,   7.1550,  34.3000,2,-999.0000, 9,    271.1,2,   -999.0,9,     6.22,2,    19.92,2,     0.02,2,     1.40,2, 0.028686256,2,   -999.0,9,-999.0000,9,  -999.00,  -999.00,9,  -999.00,9,  -999.00,9,  -999.00,9,   7.1361,      613, -50.0942, 146.8645
  096U20160314,  Eddy,    21,  1,     13,   1213,2,20160403,   0,-50.0953, 146.8697, 4451,    226.6,   7.0570,  34.2970,2,  34.2743, 2,    270.5,2,   -999.0,9,     6.49,2,    20.22,2,     0.01,2,     1.42,2, 0.025168989,2,   -999.0,9,-999.0000,9,  -999.00,  -999.00,9,  -999.00,9,  -999.00,9,  -999.00,9,   7.0359,      612, -50.0942, 146.8640
  096U20160314,  Eddy,    21,  1,     12,   1212,2,20160403,   0,-50.0953, 146.8697, 4451,    250.5,   7.0050,  34.3060,2,-999.0000, 9,    267.5,2,   -999.0,9,     6.86,2,    20.48,2,     0.01,2,     1.43,2,   0.0478873,2,   -999.0,9,-999.0000,9,  -999.00,  -999.00,9,  -999.00,9,  -999.00,9,  -999.00,9,   6.9817,      610, -50.0941, 146.8636
  096U20160314,  Eddy,    21,  1,     11,   1211,2,20160403,   0,-50.0953, 146.8697, 4451,    301.4,   6.6080,  34.2750,2,  34.2536, 2,    266.3,2,   -999.0,9,     7.43,2,    21.37,2,     0.01,2,     1.49,2, 0.053213924,2,   -999.0,9,-999.0000,9,  -999.00,  -999.00,9,  -999.00,9,  -999.00,9,  -999.00,9,   6.5808,      609, -50.0939, 146.8630
  096U20160314,  Eddy,    21,  1,     10,   1210,2,20160403,   0,-50.0953, 146.8697, 4451,    349.6,   6.4260,  34.2770,2,-999.0000, 9,    259.5,2,   -999.0,9,     9.06,2,    22.34,2,     0.01,2,     1.55,2, 0.060645648,2,   -999.0,9,-999.0000,9,  -999.00,  -999.00,9,  -999.00,9,  -999.00,9,  -999.00,9,   6.3948,      607, -50.0937, 146.8627
  096U20160314,  Eddy,    21,  1,      9,   1209,2,20160403,   0,-50.0953, 146.8697, 4451,    400.2,   6.2400,  34.2990,2,  34.2754, 2,    247.9,2,   -999.0,9,    11.25,2,    23.60,2,     0.01,2,     1.63,2, 0.069425229,2,   -999.0,9,-999.0000,9,  -999.00,  -999.00,9,  -999.00,9,  -999.00,9,  -999.00,9,   6.2047,      605, -50.0936, 146.8623
  096U20160314,  Eddy,    21,  1,      8,   1208,2,20160403,   0,-50.0953, 146.8697, 4451,    501.0,   5.5310,  34.2720,2,-999.0000, 9,    240.9,2,   -999.0,9,    15.13,2,    25.81,2,     0.01,2,     1.77,2,  0.05951816,2,   -999.0,9,-999.0000,9,  -999.00,  -999.00,9,  -999.00,9,  -999.00,9,  -999.00,9,   5.4892,      602, -50.0935, 146.8618
  096U20160314,  Eddy,    21,  1,      7,   1207,2,20160403,   0,-50.0953, 146.8697, 4451,    600.3,   4.9960,  34.2870,2,  34.2640, 2,    228.0,2,   -999.0,9,    20.52,2,    28.09,2,     0.00,2,     1.93,2, 0.055446939,2,   -999.0,9,-999.0000,9,  -999.00,  -999.00,9,  -999.00,9,  -999.00,9,  -999.00,9,   4.9480,      558, -50.0935, 146.8611
  096U20160314,  Eddy,    21,  1,      6,   1206,2,20160403,   0,-50.0953, 146.8697, 4451,    699.9,   4.4170,  34.3000,2,-999.0000, 9,    219.0,2,   -999.0,9,    27.09,2,    29.89,2,     0.01,2,     2.05,2, 0.055743253,2,   -999.0,9,-999.0000,9,  -999.00,  -999.00,9,  -999.00,9,  -999.00,9,  -999.00,9,   4.3636,      556, -50.0934, 146.8609
  096U20160314,  Eddy,    21,  1,      5,   1205,2,20160403,   0,-50.0953, 146.8697, 4451,    798.3,   3.9630,  34.3140,2,  34.2914, 2,    212.8,2,   -999.0,9,    33.23,2,    31.06,2,     0.00,2,     2.14,2, 0.054013963,2,   -999.0,9,-999.0000,9,  -999.00,  -999.00,9,  -999.00,9,  -999.00,9,  -999.00,9,   3.9043,      554, -50.0934, 146.8608
  096U20160314,  Eddy,    21,  1,      4,   1204,2,20160403,   0,-50.0953, 146.8697, 4451,    899.9,   3.7010,  34.3580,2,-999.0000, 9,    200.7,2,   -999.0,9,    40.65,2,    32.17,2,     0.00,2,     2.22,2, 0.080004402,2,   -999.0,9,-999.0000,9,  -999.00,  -999.00,9,  -999.00,9,  -999.00,9,  -999.00,9,   3.6359,      551, -50.0933, 146.8606
  096U20160314,  Eddy,    21,  1,      3,   1203,2,20160403,   0,-50.0953, 146.8697, 4451,   1001.9,   3.1830,  34.3730,2,  34.3497, 2,    195.1,2,   -999.0,9,    47.94,2,    33.34,2,     0.00,2,     2.30,2, 0.081477246,2,   -999.0,9,-999.0000,9,  -999.00,  -999.00,9,  -999.00,9,  -999.00,9,  -999.00,9,   3.1138,      548, -50.0932, 146.8603
  096U20160314,  Eddy,    21,  1,      2,   1202,2,20160403,   0,-50.0953, 146.8697, 4451,   1249.7,   2.8640,  34.4910,2,-999.0000, 9,    176.8,2,   -999.0,9,    61.87,2,    34.14,2,     0.00,2,     2.37,2,   0.0670565,2,   -999.0,9,-999.0000,9,  -999.00,  -999.00,9,  -999.00,9,  -999.00,9,  -999.00,9,   2.7780,      543, -50.0933, 146.8599
  096U20160314,  Eddy,    21,  1,      1,   1201,2,20160403,   0,-50.0953, 146.8697, 4451,   1501.9,   2.5880,  34.6020,2,  34.5779, 2,    171.9,2,   -999.0,9,    71.17,2,    34.20,3,     0.00,2,     2.34,2, 0.062690849,2,   -999.0,9,-999.0000,9,  -999.00,  -999.00,9,  -999.00,9,  -999.00,9,  -999.00,9,   2.4847,      537, -50.0932, 146.8586
  096U20160314,  Eddy,    22,  1,     24,   1224,2,20160403,   0,-50.2377, 146.9807, 4479,      4.8,   7.5270,  33.8700,2,-999.0000, 9,    294.5,2,   -999.0,9,     1.88,2,    20.82,2,     0.27,2,     1.47,2, 0.295635937,2,   -999.0,9,-999.0000,9,  -999.00,  -999.00,9,  -999.00,9,  -999.00,9,  -999.00,9,   7.5265,      906, -50.2374, 146.9802
  096U20160314,  Eddy,    22,  1,     23,   1223,2,20160403,   0,-50.2377, 146.9807, 4479,     15.6,   7.5240,  33.8690,2,  33.8486, 2,    294.4,2,    292.8,2,     2.05,2,    20.77,2,     0.27,2,     1.46,2, 0.289434501,2,   -999.0,9,-999.0000,9,  -999.00,  -999.00,9,  -999.00,9,  -999.00,9,  -999.00,9,   7.5225,      904, -50.2372, 146.9800
  096U20160314,  Eddy,    22,  1,     22,   1222,2,20160403,   0,-50.2377, 146.9807, 4479,     30.2,   7.5400,  33.8730,2,-999.0000, 9,    294.3,2,   -999.0,9,     2.07,2,    20.72,2,     0.27,2,     1.47,2, 0.278726654,2,   -999.0,9,-999.0000,9,  -999.00,  -999.00,9,  -999.00,9,  -999.00,9,  -999.00,9,   7.5371,      903, -50.2370, 146.9797
  096U20160314,  Eddy,    22,  1,     21,   1221,2,20160403,   0,-50.2377, 146.9807, 4479,     45.0,   7.5800,  33.8830,2,  33.8569, 2,    293.5,2,    292.3,2,     1.96,2,    20.64,2,     0.27,2,     1.46,2, 0.291776818,2,   -999.0,9,-999.0000,9,  -999.00,  -999.00,9,  -999.00,9,  -999.00,9,  -999.00,9,   7.5757,      901, -50.2369, 146.9794
  096U20160314,  Eddy,    22,  1,     20,   1220,2,20160403,   0,-50.2377, 146.9807, 4479,     62.2,   7.6000,  33.8900,2,-999.0000, 9,    293.0,2,   -999.0,9,     2.05,2,    20.47,2,     0.28,2,     1.45,2, 0.296129222,2,   -999.0,9,-999.0000,9,  -999.00,  -999.00,9,  -999.00,9,  -999.00,9,  -999.00,9,   7.5941,      900, -50.2368, 146.9791
  096U20160314,  Eddy,    22,  1,     19,   1219,2,20160403,   0,-50.2377, 146.9807, 4479,     79.4,   7.5990,  33.8910,2,  33.8684, 2,    293.3,2,    292.0,2,     2.03,2,    20.41,2,     0.27,2,     1.45,2, 0.299490904,2,   -999.0,9,-999.0000,9,  -999.00,  -999.00,9,  -999.00,9,  -999.00,9,  -999.00,9,   7.5914,      859, -50.2366, 146.9789
  096U20160314,  Eddy,    22,  1,     18,   1218,2,20160403,   0,-50.2377, 146.9807, 4479,    101.9,   6.7530,  33.8650,2,-999.0000, 9,    296.5,2,   -999.0,9,     2.20,2,    21.13,2,     0.27,2,     1.51,2, 0.546420765,2,   -999.0,9,-999.0000,9,  -999.00,  -999.00,9,  -999.00,9,  -999.00,9,  -999.00,9,   6.7439,      857, -50.2365, 146.9786
  096U20160314,  Eddy,    22,  1,     17,   1217,2,20160403,   0,-50.2377, 146.9807, 4479,    123.2,   6.0030,  33.9010,2,  33.8809, 2,    298.0,2,    296.5,2,     3.00,2,    22.24,2,     0.39,2,     1.60,2, 0.637237804,2,   -999.0,9,-999.0000,9,  -999.00,  -999.00,9,  -999.00,9,  -999.00,9,  -999.00,9,   5.9927,      856, -50.2363, 146.9784
  096U20160314,  Eddy,    22,  1,     16,   1216,2,20160403,   0,-50.2377, 146.9807, 4479,    150.1,   5.6290,  34.0360,2,-999.0000, 9,    291.3,2,   -999.0,9,     5.71,2,    22.65,2,     0.18,2,     1.58,2, 0.060838229,2,   -999.0,9,-999.0000,9,  -999.00,  -999.00,9,  -999.00,9,  -999.00,9,  -999.00,9,   5.6168,      855, -50.2362, 146.9780
  096U20160314,  Eddy,    22,  1,     15,   1215,2,20160403,   0,-50.2377, 146.9807, 4479,    173.7,   5.3700,  34.0440,2,  34.0235, 2,    290.8,2,    289.0,2,     6.82,2,    23.13,2,     0.02,2,     1.60,2, 0.056988289,2,   -999.0,9,-999.0000,9,  -999.00,  -999.00,9,  -999.00,9,  -999.00,9,  -999.00,9,   5.3562,      853, -50.2360, 146.9778
  096U20160314,  Eddy,    22,  1,     14,   1214,2,20160403,   0,-50.2377, 146.9807, 4479,    201.9,   5.8970,  34.1750,2,-999.0000, 9,    275.2,2,   -999.0,9,     7.58,2,    22.51,2,     0.01,2,     1.55,2, 0.044286838,2,   -999.0,9,-999.0000,9,  -999.00,  -999.00,9,  -999.00,9,  -999.00,9,  -999.00,9,   5.8801,      852, -50.2358, 146.9776
  096U20160314,  Eddy,    22,  1,     13,   1213,2,20160403,   0,-50.2377, 146.9807, 4479,    226.6,   5.9300,  34.2050,2,  34.1787, 2,    268.8,2,    268.0,2,     8.43,2,    22.81,2,     0.01,2,     1.57,2, 0.040360622,2,   -999.0,9,-999.0000,9,  -999.00,  -999.00,9,  -999.00,9,  -999.00,9,  -999.00,9,   5.9109,      850, -50.2357, 146.9773
  096U20160314,  Eddy,    22,  1,     12,   1212,2,20160403,   0,-50.2377, 146.9807, 4479,    251.1,   5.5850,  34.1640,2,-999.0000, 9,    272.7,2,   -999.0,9,     9.07,2,    23.35,2,     0.01,2,     1.61,2, 0.068762154,2,   -999.0,9,-999.0000,9,  -999.00,  -999.00,9,  -999.00,9,  -999.00,9,  -999.00,9,   5.5644,      849, -50.2356, 146.9769
  096U20160314,  Eddy,    22,  1,     11,   1211,2,20160403,   0,-50.2377, 146.9807, 4479,    300.0,   4.9790,  34.1090,2,  34.0858, 2,    279.0,2,    278.0,2,     9.44,2,    24.27,2,     0.01,2,     1.67,2,  0.07261063,2,   -999.0,9,-999.0000,9,  -999.00,  -999.00,9,  -999.00,9,  -999.00,9,  -999.00,9,   4.9558,      846, -50.2353, 146.9765
  096U20160314,  Eddy,    22,  1,     10,   1210,2,20160403,   0,-50.2377, 146.9807, 4479,    349.8,   4.5240,  34.0850,2,-999.0000, 9,    280.0,2,   -999.0,9,    11.59,2,    25.27,2,     0.01,2,     1.74,2, 0.063418924,2,   -999.0,9,-999.0000,9,  -999.00,  -999.00,9,  -999.00,9,  -999.00,9,  -999.00,9,   4.4981,      845, -50.2352, 146.9761
  096U20160314,  Eddy,    22,  1,      9,   1209,2,20160403,   0,-50.2377, 146.9807, 4479,    400.5,   4.5770,  34.1540,2,  34.1312, 2,    261.3,2,    260.5,2,    14.48,2,    26.32,2,     0.01,2,     1.80,2, 0.074057817,2,   -999.0,9,-999.0000,9,  -999.00,  -999.00,9,  -999.00,9,  -999.00,9,  -999.00,9,   4.5470,      843, -50.2351, 146.9757
  096U20160314,  Eddy,    22,  1,      8,   1208,2,20160403,   0,-50.2377, 146.9807, 4479,    501.1,   4.5420,  34.2340,2,-999.0000, 9,    238.0,2,   -999.0,9,    19.60,2,    28.16,2,     0.01,2,     1.91,2, 0.079279777,2,   -999.0,9,-999.0000,9,  -999.00,  -999.00,9,  -999.00,9,  -999.00,9,  -999.00,9,   4.5041,      840, -50.2349, 146.9750
  096U20160314,  Eddy,    22,  1,      7,   1207,2,20160403,   0,-50.2377, 146.9807, 4479,    600.1,   4.1520,  34.2570,2,  34.2333, 2,    228.7,2,    228.2,2,    24.80,2,    29.65,2,     0.01,2,     2.02,2, 0.087533727,2,   -999.0,9,-999.0000,9,  -999.00,  -999.00,9,  -999.00,9,  -999.00,9,  -999.00,9,   4.1080,      837, -50.2346, 146.9743
  096U20160314,  Eddy,    22,  1,      6,   1206,2,20160403,   0,-50.2377, 146.9807, 4479,    701.0,   3.7040,  34.2690,2,-999.0000, 9,    221.8,2,   -999.0,9,    30.56,2,    30.90,2,     0.01,2,     2.11,2, 0.087954458,2,   -999.0,9,-999.0000,9,  -999.00,  -999.00,9,  -999.00,9,  -999.00,9,  -999.00,9,   3.6544,      834, -50.2343, 146.9736
  096U20160314,  Eddy,    22,  1,      5,   1205,2,20160403,   0,-50.2377, 146.9807, 4479,    801.4,   3.4010,  34.3120,2,  34.2882, 2,    209.5,2,    209.5,2,    38.17,2,    32.17,2,     0.01,2,     2.20,2, 0.086524946,2,   -999.0,9,-999.0000,9,  -999.00,  -999.00,9,  -999.00,9,  -999.00,9,  -999.00,9,   3.3456,      831, -50.2341, 146.9728
  096U20160314,  Eddy,    22,  1,      4,   1204,2,20160403,   0,-50.2377, 146.9807, 4479,    899.9,   3.1550,  34.3540,2,-999.0000, 9,    199.0,2,   -999.0,9,    45.03,2,    33.09,2,     0.01,2,     2.27,2, 0.086298811,2,   -999.0,9,-999.0000,9,  -999.00,  -999.00,9,  -999.00,9,  -999.00,9,  -999.00,9,   3.0937,      829, -50.2338, 146.9725
  096U20160314,  Eddy,    22,  1,      3,   1203,2,20160403,   0,-50.2377, 146.9807, 4479,    999.9,   3.0240,  34.4180,2,  34.3941, 2,    186.8,2,    187.7,2,    52.60,2,    33.75,2,     0.00,2,     2.32,2, 0.090358698,2,   -999.0,9,-999.0000,9,  -999.00,  -999.00,9,  -999.00,9,  -999.00,9,  -999.00,9,   2.9561,      826, -50.2336, 146.9722
  096U20160314,  Eddy,    22,  1,      2,   1202,2,20160403,   0,-50.2377, 146.9807, 4479,   1248.7,   2.7290,  34.5470,2,-999.0000, 9,    172.9,2,   -999.0,9,    65.91,2,    34.01,2,     0.00,2,     2.35,2, 0.087423187,2,   -999.0,9,-999.0000,9,  -999.00,  -999.00,9,  -999.00,9,  -999.00,9,  -999.00,9,   2.6443,      819, -50.2331, 146.9711
  096U20160314,  Eddy,    22,  1,      1,   1201,2,20160403,   0,-50.2377, 146.9807, 4479,   1499.1,   2.5450,  34.6290,2,  34.6048, 2,    172.1,2,    173.9,2,    71.81,2,    33.29,2,     0.01,2,     2.28,2, 0.086412519,2,   -999.0,9,-999.0000,9,  -999.00,  -999.00,9,  -999.00,9,  -999.00,9,  -999.00,9,   2.4424,      814, -50.2326, 146.9701