BOTTLE,20180103PRINUNIVRMK
EXPOCODE,SECT_ID,STNNBR,CASTNO,SAMPNO,BTLNBR,BTLNBR_FLAG_W,DATE,TIME,LATITUDE,LONGITUDE,DEPTH,CTDPRS,CTDTMP,CTDSAL,CTDSAL_FLAG_W,SALNTY,SALNTY_FLAG_W,CTDOXY,CTDOXY_FLAG_W,OXYGEN,OXYGEN_FLAG_W,SILCAT,SILCAT_FLAG_W,NITRAT,NITRAT_FLAG_W,NITRIT,NITRIT_FLAG_W,PHSPHT,PHSPHT_FLAG_W,NH4,NH4_FLAG_W,ALKALI,ALKALI_FLAG_W,PH_TOT,PH_TOT_FLAG_W,PH_TMP,POC,POC_FLAG_W,PON,PON_FLAG_W,CHLORA,CHLORA_FLAG_W,PPHYTN,PPHYTN_FLAG_W,THETA,BTL_TIME,BTL_LAT,BTL_LON
,,,,,,,,,,,METERS,DBAR,ITS-90,PSS-78,,PSS-78,,UMOL/KG,,UMOL/KG,,UMOL/KG,,UMOL/KG,,UMOL/KG,,UMOL/KG,,UMOL/KG,,UMOL/KG,,,,DEG C,UG/KG,,UG/KG,,UG/KG,,UG/KG,,DEG C,,,
  096U20160314,  Eddy,     9,  1,     24,   1224,2,20160331,   0,-50.3793, 147.0431, 4421,      4.9,   7.2530,  33.8200,2,-999.0000, 9,    296.8,2,   -999.0,9,  -999.00,9,  -999.00,9,  -999.00,9,  -999.00,9,        -999,9,   -999.0,9,-999.0000,9,  -999.00,  -999.00,9,  -999.00,9,  -999.00,9,  -999.00,9,   7.2525,     2341, -50.3793, 147.0433
  096U20160314,  Eddy,     9,  1,     23,   1223,2,20160331,   0,-50.3793, 147.0431, 4421,     14.9,   7.2510,  33.8200,2,-999.0000, 9,    296.4,2,   -999.0,9,  -999.00,9,  -999.00,9,  -999.00,9,  -999.00,9,        -999,9,   -999.0,9,-999.0000,9,  -999.00,  -999.00,9,  -999.00,9,  -999.00,9,  -999.00,9,   7.2496,     2339, -50.3793, 147.0434
  096U20160314,  Eddy,     9,  1,     22,   1222,2,20160331,   0,-50.3793, 147.0431, 4421,     30.1,   7.2460,  33.8210,2,-999.0000, 9,    296.5,2,   -999.0,9,  -999.00,9,  -999.00,9,  -999.00,9,  -999.00,9,        -999,9,   -999.0,9,-999.0000,9,  -999.00,  -999.00,9,  -999.00,9,  -999.00,9,  -999.00,9,   7.2432,     2338, -50.3792, 147.0435
  096U20160314,  Eddy,     9,  1,     21,   1221,2,20160331,   0,-50.3793, 147.0431, 4421,     44.6,   7.2250,  33.8230,2,-999.0000, 9,    297.0,2,   -999.0,9,  -999.00,9,  -999.00,9,  -999.00,9,  -999.00,9,        -999,9,   -999.0,9,-999.0000,9,  -999.00,  -999.00,9,  -999.00,9,  -999.00,9,  -999.00,9,   7.2209,     2336, -50.3792, 147.0437
  096U20160314,  Eddy,     9,  1,     20,   1220,2,20160331,   0,-50.3793, 147.0431, 4421,     60.0,   7.1970,  33.8270,2,-999.0000, 9,    297.4,2,   -999.0,9,  -999.00,9,  -999.00,9,  -999.00,9,  -999.00,9,        -999,9,   -999.0,9,-999.0000,9,  -999.00,  -999.00,9,  -999.00,9,  -999.00,9,  -999.00,9,   7.1915,     2335, -50.3792, 147.0437
  096U20160314,  Eddy,     9,  1,     19,   1219,2,20160331,   0,-50.3793, 147.0431, 4421,     81.4,   6.6240,  33.8340,2,-999.0000, 9,    298.9,2,   -999.0,9,  -999.00,9,  -999.00,9,  -999.00,9,  -999.00,9,        -999,9,   -999.0,9,-999.0000,9,  -999.00,  -999.00,9,  -999.00,9,  -999.00,9,  -999.00,9,   6.6168,     2334, -50.3792, 147.0437
  096U20160314,  Eddy,     9,  1,     17,   1217,2,20160331,   0,-50.3793, 147.0431, 4421,    100.3,   5.6230,  33.8550,2,-999.0000, 9,    302.6,2,   -999.0,9,  -999.00,9,  -999.00,9,  -999.00,9,  -999.00,9,        -999,9,   -999.0,9,-999.0000,9,  -999.00,  -999.00,9,  -999.00,9,  -999.00,9,  -999.00,9,   5.6149,     2333, -50.3792, 147.0437
  096U20160314,  Eddy,     9,  1,     18,   1218,2,20160331,   0,-50.3793, 147.0431, 4421,    100.9,   5.6070,  33.8590,2,-999.0000, 9,    302.9,2,   -999.0,9,  -999.00,9,  -999.00,9,  -999.00,9,  -999.00,9,        -999,9,   -999.0,9,-999.0000,9,  -999.00,  -999.00,9,  -999.00,9,  -999.00,9,  -999.00,9,   5.5989,     2333, -50.3792, 147.0437
  096U20160314,  Eddy,     9,  1,     16,   1216,2,20160331,   0,-50.3793, 147.0431, 4421,    123.0,   4.9320,  33.8950,2,-999.0000, 9,    304.0,2,   -999.0,9,  -999.00,9,  -999.00,9,  -999.00,9,  -999.00,9,        -999,9,   -999.0,9,-999.0000,9,  -999.00,  -999.00,9,  -999.00,9,  -999.00,9,  -999.00,9,   4.9227,     2331, -50.3792, 147.0438
  096U20160314,  Eddy,     9,  1,     15,   1215,2,20160331,   0,-50.3793, 147.0431, 4421,    150.0,   4.4460,  33.9390,2,-999.0000, 9,    303.0,2,   -999.0,9,  -999.00,9,  -999.00,9,  -999.00,9,  -999.00,9,        -999,9,   -999.0,9,-999.0000,9,  -999.00,  -999.00,9,  -999.00,9,  -999.00,9,  -999.00,9,   4.4352,     2330, -50.3792, 147.0440
  096U20160314,  Eddy,     9,  1,     14,   1214,2,20160331,   0,-50.3793, 147.0431, 4421,    175.1,   4.3080,  33.9670,2,-999.0000, 9,    300.4,2,   -999.0,9,  -999.00,9,  -999.00,9,  -999.00,9,  -999.00,9,        -999,9,   -999.0,9,-999.0000,9,  -999.00,  -999.00,9,  -999.00,9,  -999.00,9,  -999.00,9,   4.2956,     2328, -50.3791, 147.0442
  096U20160314,  Eddy,     9,  1,     12,   1212,2,20160331,   0,-50.3793, 147.0431, 4421,    199.1,   4.2830,  33.9840,2,-999.0000, 9,    297.8,2,   -999.0,9,  -999.00,9,  -999.00,9,  -999.00,9,  -999.00,9,        -999,9,   -999.0,9,-999.0000,9,  -999.00,  -999.00,9,  -999.00,9,  -999.00,9,  -999.00,9,   4.2689,     2326, -50.3790, 147.0444
  096U20160314,  Eddy,     9,  1,     13,   1213,2,20160331,   0,-50.3793, 147.0431, 4421,    200.2,   4.2780,  33.9850,2,-999.0000, 9,    297.7,2,   -999.0,9,  -999.00,9,  -999.00,9,  -999.00,9,  -999.00,9,        -999,9,   -999.0,9,-999.0000,9,  -999.00,  -999.00,9,  -999.00,9,  -999.00,9,  -999.00,9,   4.2638,     2326, -50.3790, 147.0444
  096U20160314,  Eddy,     9,  1,     11,   1211,2,20160331,   0,-50.3793, 147.0431, 4421,    223.3,   4.1060,  33.9990,2,-999.0000, 9,    294.7,2,   -999.0,9,  -999.00,9,  -999.00,9,  -999.00,9,  -999.00,9,        -999,9,   -999.0,9,-999.0000,9,  -999.00,  -999.00,9,  -999.00,9,  -999.00,9,  -999.00,9,   4.0904,     2324, -50.3790, 147.0444
  096U20160314,  Eddy,     9,  1,     10,   1210,2,20160331,   0,-50.3793, 147.0431, 4421,    249.2,   4.1800,  34.0470,2,-999.0000, 9,    286.0,2,   -999.0,9,  -999.00,9,  -999.00,9,  -999.00,9,  -999.00,9,        -999,9,   -999.0,9,-999.0000,9,  -999.00,  -999.00,9,  -999.00,9,  -999.00,9,  -999.00,9,   4.1624,     2322, -50.3791, 147.0445
  096U20160314,  Eddy,     9,  1,      9,   1209,2,20160331,   0,-50.3793, 147.0431, 4421,    274.2,   4.0780,  34.0530,2,-999.0000, 9,    284.1,2,   -999.0,9,  -999.00,9,  -999.00,9,  -999.00,9,  -999.00,9,        -999,9,   -999.0,9,-999.0000,9,  -999.00,  -999.00,9,  -999.00,9,  -999.00,9,  -999.00,9,   4.0588,     2321, -50.3790, 147.0445
  096U20160314,  Eddy,     9,  1,      8,   1208,2,20160331,   0,-50.3793, 147.0431, 4421,    299.6,   4.0050,  34.0630,2,-999.0000, 9,    280.2,2,   -999.0,9,  -999.00,9,  -999.00,9,  -999.00,9,  -999.00,9,        -999,9,   -999.0,9,-999.0000,9,  -999.00,  -999.00,9,  -999.00,9,  -999.00,9,  -999.00,9,   3.9841,     2319, -50.3790, 147.0447
  096U20160314,  Eddy,     9,  1,      7,   1207,2,20160331,   0,-50.3793, 147.0431, 4421,    325.2,   3.9730,  34.0740,2,-999.0000, 9,    276.8,2,   -999.0,9,  -999.00,9,  -999.00,9,  -999.00,9,  -999.00,9,        -999,9,   -999.0,9,-999.0000,9,  -999.00,  -999.00,9,  -999.00,9,  -999.00,9,  -999.00,9,   3.9504,     2317, -50.3790, 147.0448
  096U20160314,  Eddy,     9,  1,      5,   1205,2,20160331,   0,-50.3793, 147.0431, 4421,    352.4,   4.2140,  34.1290,2,-999.0000, 9,    264.3,2,   -999.0,9,  -999.00,9,  -999.00,9,  -999.00,9,  -999.00,9,        -999,9,   -999.0,9,-999.0000,9,  -999.00,  -999.00,9,  -999.00,9,  -999.00,9,  -999.00,9,   4.1887,     2315, -50.3790, 147.0449
  096U20160314,  Eddy,     9,  1,      6,   1206,2,20160331,   0,-50.3793, 147.0431, 4421,    352.6,   4.2070,  34.1280,2,-999.0000, 9,    264.5,2,   -999.0,9,  -999.00,9,  -999.00,9,  -999.00,9,  -999.00,9,        -999,9,   -999.0,9,-999.0000,9,  -999.00,  -999.00,9,  -999.00,9,  -999.00,9,  -999.00,9,   4.1817,     2315, -50.3790, 147.0449
  096U20160314,  Eddy,     9,  1,      4,   1204,2,20160331,   0,-50.3793, 147.0431, 4421,    401.0,   3.8850,  34.1330,2,-999.0000, 9,    260.1,2,   -999.0,9,  -999.00,9,  -999.00,9,  -999.00,9,  -999.00,9,        -999,9,   -999.0,9,-999.0000,9,  -999.00,  -999.00,9,  -999.00,9,  -999.00,9,  -999.00,9,   3.8571,     2312, -50.3790, 147.0449
  096U20160314,  Eddy,     9,  1,      3,   1203,2,20160331,   0,-50.3793, 147.0431, 4421,    449.5,   3.9120,  34.1810,2,-999.0000, 9,    246.7,2,   -999.0,9,  -999.00,9,  -999.00,9,  -999.00,9,  -999.00,9,        -999,9,   -999.0,9,-999.0000,9,  -999.00,  -999.00,9,  -999.00,9,  -999.00,9,  -999.00,9,   3.8804,     2310, -50.3790, 147.0450
  096U20160314,  Eddy,     9,  1,      2,   1202,2,20160331,   0,-50.3793, 147.0431, 4421,    502.4,   3.9170,  34.2300,2,-999.0000, 9,    232.8,2,   -999.0,9,  -999.00,9,  -999.00,9,  -999.00,9,  -999.00,9,        -999,9,   -999.0,9,-999.0000,9,  -999.00,  -999.00,9,  -999.00,9,  -999.00,9,  -999.00,9,   3.8814,     2307, -50.3789, 147.0453
  096U20160314,  Eddy,     9,  1,      1,   1201,2,20160331,   0,-50.3793, 147.0431, 4421,    503.8,   3.9040,  34.2300,2,-999.0000, 9,    232.4,2,   -999.0,9,  -999.00,9,  -999.00,9,  -999.00,9,  -999.00,9,        -999,9,   -999.0,9,-999.0000,9,  -999.00,  -999.00,9,  -999.00,9,  -999.00,9,  -999.00,9,   3.8684,     2307, -50.3789, 147.0454
  096U20160314,  Eddy,    10,  1,     24,   1224,2,20160401,   0,-50.3916, 148.4257, 4280,     10.2,  10.0080,  34.3130,2,  34.2925, 2,    275.7,2,    275.7,2,     1.83,2,    12.97,2,     0.32,2,     1.01,2, 0.275354943,2,   -999.0,9,-999.0000,9,  -999.00,  -999.00,9,  -999.00,9,  -999.00,9,  -999.00,9,  10.0068,      907, -50.3911, 148.4254
  096U20160314,  Eddy,    10,  1,     23,   1223,2,20160401,   0,-50.3916, 148.4257, 4280,     14.8,  10.0060,  34.3160,2,-999.0000, 9,    275.0,2,   -999.0,9,     1.82,2,    12.96,2,     0.31,2,     1.01,2, 0.312257243,2,   -999.0,9,-999.0000,9,  -999.00,  -999.00,9,  -999.00,9,  -999.00,9,  -999.00,9,  10.0043,      905, -50.3909, 148.4253
  096U20160314,  Eddy,    10,  1,     22,   1222,2,20160401,   0,-50.3916, 148.4257, 4280,     28.3,  10.0110,  34.3120,2,  34.2936, 2,    275.2,2,    275.5,2,     1.85,2,    12.98,2,     0.31,2,     1.01,2,  0.29064121,2,   -999.0,9,-999.0000,9,  -999.00,  -999.00,9,  -999.00,9,  -999.00,9,  -999.00,9,  10.0078,      904, -50.3908, 148.4252
  096U20160314,  Eddy,    10,  1,     21,   1221,2,20160401,   0,-50.3916, 148.4257, 4280,     44.7,  10.0090,  34.3170,2,-999.0000, 9,    274.2,2,   -999.0,9,     1.88,2,    12.96,2,     0.31,2,     1.01,2, 0.278044937,2,   -999.0,9,-999.0000,9,  -999.00,  -999.00,9,  -999.00,9,  -999.00,9,  -999.00,9,  10.0039,      903, -50.3907, 148.4252
  096U20160314,  Eddy,    10,  1,     20,   1220,2,20160401,   0,-50.3916, 148.4257, 4280,     60.6,   9.9770,  34.3540,2,  34.3343, 2,    274.5,2,    274.8,2,     2.03,2,    12.87,2,     0.30,2,     1.01,2,  0.29261254,2,   -999.0,9,-999.0000,9,  -999.00,  -999.00,9,  -999.00,9,  -999.00,9,  -999.00,9,   9.9701,      901, -50.3906, 148.4252
  096U20160314,  Eddy,    10,  1,     19,   1219,2,20160401,   0,-50.3916, 148.4257, 4280,     79.2,   9.9280,  34.4810,2,-999.0000, 9,    268.0,2,   -999.0,9,     2.63,2,    13.01,2,     0.24,2,     1.01,2, 0.280355112,2,   -999.0,9,-999.0000,9,  -999.00,  -999.00,9,  -999.00,9,  -999.00,9,  -999.00,9,   9.9190,      900, -50.3904, 148.4252
  096U20160314,  Eddy,    10,  1,     18,   1218,2,20160401,   0,-50.3916, 148.4257, 4280,    100.6,   9.7990,  34.5390,2,  34.5211, 2,    265.1,2,    265.8,2,     3.26,2,    13.41,2,     0.17,2,     1.02,2, 0.240050413,2,   -999.0,9,-999.0000,9,  -999.00,  -999.00,9,  -999.00,9,  -999.00,9,  -999.00,9,   9.7876,      859, -50.3902, 148.4250
  096U20160314,  Eddy,    10,  1,     17,   1217,2,20160401,   0,-50.3916, 148.4257, 4280,    123.4,   9.5010,  34.6140,2,-999.0000, 9,    262.8,2,   -999.0,9,     4.29,2,    14.18,2,     0.02,2,     1.05,2, 0.086789223,2,   -999.0,9,-999.0000,9,  -999.00,  -999.00,9,  -999.00,9,  -999.00,9,  -999.00,9,   9.4873,      857, -50.3901, 148.4250
  096U20160314,  Eddy,    10,  1,     16,   1216,2,20160401,   0,-50.3916, 148.4257, 4280,    150.0,   9.5050,  34.6380,2,  34.6152, 2,    261.9,2,    262.9,2,     4.51,2,    14.06,2,     0.02,2,     1.04,2, 0.106558047,2,   -999.0,9,-999.0000,9,  -999.00,  -999.00,9,  -999.00,9,  -999.00,9,  -999.00,9,   9.4883,      856, -50.3900, 148.4250
  096U20160314,  Eddy,    10,  1,     15,   1215,2,20160401,   0,-50.3916, 148.4257, 4280,    175.2,   9.4170,  34.6370,2,-999.0000, 9,    262.0,2,   -999.0,9,     4.52,2,    14.17,2,     0.02,2,     1.05,2, 0.092369379,2,   -999.0,9,-999.0000,9,  -999.00,  -999.00,9,  -999.00,9,  -999.00,9,  -999.00,9,   9.3975,      855, -50.3899, 148.4249
  096U20160314,  Eddy,    10,  1,     14,   1214,2,20160401,   0,-50.3916, 148.4257, 4280,    200.1,   9.4250,  34.6510,2,  34.6293, 2,    262.8,2,    263.7,2,     4.58,2,    14.07,2,     0.02,2,     1.04,2, 0.110865454,2,   -999.0,9,-999.0000,9,  -999.00,  -999.00,9,  -999.00,9,  -999.00,9,  -999.00,9,   9.4027,      854, -50.3899, 148.4250
  096U20160314,  Eddy,    10,  1,     13,   1213,2,20160401,   0,-50.3916, 148.4257, 4280,    225.1,   9.3200,  34.6390,2,-999.0000, 9,    262.7,2,   -999.0,9,     4.66,2,    14.29,2,     0.02,2,     1.05,2, 0.102061657,2,   -999.0,9,-999.0000,9,  -999.00,  -999.00,9,  -999.00,9,  -999.00,9,  -999.00,9,   9.2951,      852, -50.3900, 148.4250
  096U20160314,  Eddy,    10,  1,     12,   1212,2,20160401,   0,-50.3916, 148.4257, 4280,    248.9,   9.2300,  34.6270,2,-999.0000, 9,    261.4,2,   -999.0,9,     4.82,2,    14.67,2,     0.02,2,     1.08,2, 0.111406566,2,   -999.0,9,-999.0000,9,  -999.00,  -999.00,9,  -999.00,9,  -999.00,9,  -999.00,9,   9.2026,      851, -50.3899, 148.4249
  096U20160314,  Eddy,    10,  1,     11,   1211,2,20160401,   0,-50.3916, 148.4257, 4280,    301.8,   9.0200,  34.6080,2,  34.5885, 2,    259.6,2,    260.9,2,     5.03,2,    15.26,2,     0.01,2,     1.11,2, 0.142195911,2,   -999.0,9,-999.0000,9,  -999.00,  -999.00,9,  -999.00,9,  -999.00,9,  -999.00,9,   8.9871,      849, -50.3898, 148.4249
  096U20160314,  Eddy,    10,  1,     10,   1210,2,20160401,   0,-50.3916, 148.4257, 4280,    349.9,   8.9170,  34.6050,2,-999.0000, 9,    255.3,2,   -999.0,9,     5.43,2,    15.92,2,     0.01,2,     1.15,2, 0.150056362,2,   -999.0,9,-999.0000,9,  -999.00,  -999.00,9,  -999.00,9,  -999.00,9,  -999.00,9,   8.8791,      847, -50.3897, 148.4250
  096U20160314,  Eddy,    10,  1,      9,   1209,2,20160401,   0,-50.3916, 148.4257, 4280,    400.3,   8.6790,  34.5720,2,  34.5511, 2,    252.1,2,    253.3,2,     6.02,2,    16.82,2,     0.01,2,     1.21,2, 0.156221417,2,   -999.0,9,-999.0000,9,  -999.00,  -999.00,9,  -999.00,9,  -999.00,9,  -999.00,9,   8.6362,      845, -50.3896, 148.4250
  096U20160314,  Eddy,    10,  1,      8,   1208,2,20160401,   0,-50.3916, 148.4257, 4280,    500.7,   8.1130,  34.5160,2,  34.4954, 2,    238.2,2,    239.8,2,     7.95,2,    19.71,2,     0.00,2,     1.38,2, 0.152624127,2,   -999.0,9,-999.0000,9,  -999.00,  -999.00,9,  -999.00,9,  -999.00,9,  -999.00,9,   8.0613,      842, -50.3895, 148.4249
  096U20160314,  Eddy,    10,  1,      7,   1207,2,20160401,   0,-50.3916, 148.4257, 4280,    600.2,   7.4690,  34.4770,2,-999.0000, 9,    220.3,2,   -999.0,9,    11.91,2,    22.80,2,     0.00,2,     1.58,2, 0.172362029,2,   -999.0,9,-999.0000,9,  -999.00,  -999.00,9,  -999.00,9,  -999.00,9,  -999.00,9,   7.4095,      839, -50.3893, 148.4248
  096U20160314,  Eddy,    10,  1,      6,   1206,2,20160401,   0,-50.3916, 148.4257, 4280,    701.8,   6.6300,  34.4200,2,  34.3994, 2,    214.3,2,    216.3,2,    15.95,2,    25.24,2,     0.00,2,     1.74,2, 0.137815881,2,   -999.0,9,-999.0000,9,  -999.00,  -999.00,9,  -999.00,9,  -999.00,9,  -999.00,9,   6.5645,      836, -50.3892, 148.4247
  096U20160314,  Eddy,    10,  1,      5,   1205,2,20160401,   0,-50.3916, 148.4257, 4280,    800.2,   5.9380,  34.4180,2,-999.0000, 9,    201.1,2,   -999.0,9,    22.99,2,    27.83,2,     0.00,2,     1.91,2, 0.143797975,2,   -999.0,9,-999.0000,9,  -999.00,  -999.00,9,  -999.00,9,  -999.00,9,  -999.00,9,   5.8669,      830, -50.3886, 148.4243
  096U20160314,  Eddy,    10,  1,      4,   1204,2,20160401,   0,-50.3916, 148.4257, 4280,    900.7,   5.2110,  34.3960,2,-999.0000, 9,    199.1,2,   -999.0,9,    29.41,2,    29.56,2,     0.00,2,     2.04,2, 0.152494475,2,   -999.0,9,-999.0000,9,  -999.00,  -999.00,9,  -999.00,9,  -999.00,9,  -999.00,9,   5.1353,      827, -50.3886, 148.4244
  096U20160314,  Eddy,    10,  1,      3,   1203,2,20160401,   0,-50.3916, 148.4257, 4280,   1004.0,   4.3270,  34.3620,2,  34.3389, 2,    201.5,2,    203.5,2,    35.21,2,    31.11,2,     0.00,2,     2.15,2, 0.143012689,2,   -999.0,9,-999.0000,9,  -999.00,  -999.00,9,  -999.00,9,  -999.00,9,  -999.00,9,   4.2487,      824, -50.3883, 148.4243
  096U20160314,  Eddy,    10,  1,      2,   1202,2,20160401,   0,-50.3916, 148.4257, 4280,   1250.5,   3.3180,  34.4280,2,-999.0000, 9,    184.2,2,   -999.0,9,    52.91,2,    33.62,2,     0.00,2,     2.34,2, 0.144555383,2,   -999.0,9,-999.0000,9,  -999.00,  -999.00,9,  -999.00,9,  -999.00,9,  -999.00,9,   3.2277,      818, -50.3877, 148.4242
  096U20160314,  Eddy,    10,  1,      1,   1201,2,20160401,   0,-50.3916, 148.4257, 4280,   1498.9,   2.8630,  34.5320,2,  34.5098, 2,    171.6,2,    174.6,2,    66.83,2,    34.35,3,     0.00,2,     2.39,2, 0.121120121,2,   -999.0,9,-999.0000,9,  -999.00,  -999.00,9,  -999.00,9,  -999.00,9,  -999.00,9,   2.7570,      812, -50.3870, 148.4241