BOTTLE,20180103PRINUNIVRMK
EXPOCODE,SECT_ID,STNNBR,CASTNO,SAMPNO,BTLNBR,BTLNBR_FLAG_W,DATE,TIME,LATITUDE,LONGITUDE,DEPTH,CTDPRS,CTDTMP,CTDSAL,CTDSAL_FLAG_W,SALNTY,SALNTY_FLAG_W,CTDOXY,CTDOXY_FLAG_W,OXYGEN,OXYGEN_FLAG_W,SILCAT,SILCAT_FLAG_W,NITRAT,NITRAT_FLAG_W,NITRIT,NITRIT_FLAG_W,PHSPHT,PHSPHT_FLAG_W,NH4,NH4_FLAG_W,ALKALI,ALKALI_FLAG_W,PH_TOT,PH_TOT_FLAG_W,PH_TMP,POC,POC_FLAG_W,PON,PON_FLAG_W,CHLORA,CHLORA_FLAG_W,PPHYTN,PPHYTN_FLAG_W,THETA,BTL_TIME,BTL_LAT,BTL_LON
,,,,,,,,,,,METERS,DBAR,ITS-90,PSS-78,,PSS-78,,UMOL/KG,,UMOL/KG,,UMOL/KG,,UMOL/KG,,UMOL/KG,,UMOL/KG,,UMOL/KG,,UMOL/KG,,,,DEG C,UG/KG,,UG/KG,,UG/KG,,UG/KG,,DEG C,,,
  096U20160314,  Eddy,     7,  1,     24,   1224,2,20160331,   0,-50.3831, 147.3490, 4421,      5.8,   7.2100,  33.8170,2,  33.7961, 2,    297.8,2,    296.6,2,     3.34,2,    22.22,2,     0.27,2,     1.59,2, 0.310024264,2,   -999.0,9,-999.0000,9,  -999.00,  -999.00,9,  -999.00,9,  -999.00,9,  -999.00,9,   7.2095,     1512, -50.3831, 147.3490
  096U20160314,  Eddy,     7,  1,     23,   1223,2,20160331,   0,-50.3831, 147.3490, 4421,     14.8,   7.2100,  33.8170,2,-999.0000, 9,    297.2,2,   -999.0,9,     3.40,2,    22.19,2,     0.27,2,     1.59,2, 0.334344011,2,   -999.0,9,-999.0000,9,  -999.00,  -999.00,9,  -999.00,9,  -999.00,9,  -999.00,9,   7.2086,     1511, -50.3830, 147.3490
  096U20160314,  Eddy,     7,  1,     22,   1222,2,20160331,   0,-50.3831, 147.3490, 4421,     31.7,   7.2070,  33.8190,2,  33.7983, 2,    297.7,2,    296.6,2,     3.37,2,    22.17,2,     0.27,2,     1.59,2, 0.315170349,2,   -999.0,9,-999.0000,9,  -999.00,  -999.00,9,  -999.00,9,  -999.00,9,  -999.00,9,   7.2041,     1510, -50.3831, 147.3490
  096U20160314,  Eddy,     7,  1,     21,   1221,2,20160331,   0,-50.3831, 147.3490, 4421,     45.7,   7.2090,  33.8190,2,-999.0000, 9,    298.0,2,   -999.0,9,     3.39,2,    22.17,2,     0.27,2,     1.59,2, 0.317547274,2,   -999.0,9,-999.0000,9,  -999.00,  -999.00,9,  -999.00,9,  -999.00,9,  -999.00,9,   7.2048,     1508, -50.3830, 147.3491
  096U20160314,  Eddy,     7,  1,     20,   1220,2,20160331,   0,-50.3831, 147.3490, 4421,     62.0,   7.2110,  33.8210,2,  33.8001, 2,    297.3,2,    296.5,2,     3.31,2,    22.13,2,     0.27,2,     1.59,2, 0.318143776,2,   -999.0,9,-999.0000,9,  -999.00,  -999.00,9,  -999.00,9,  -999.00,9,  -999.00,9,   7.2053,     1507, -50.3830, 147.3492
  096U20160314,  Eddy,     7,  1,     19,   1219,2,20160331,   0,-50.3831, 147.3490, 4421,     80.5,   7.1980,  33.8220,2,-999.0000, 9,    297.0,2,   -999.0,9,     3.33,2,    22.05,2,     0.27,2,     1.59,2, 0.331614558,2,   -999.0,9,-999.0000,9,  -999.00,  -999.00,9,  -999.00,9,  -999.00,9,  -999.00,9,   7.1905,     1506, -50.3830, 147.3492
  096U20160314,  Eddy,     7,  1,     18,   1218,2,20160331,   0,-50.3831, 147.3490, 4421,    101.2,   5.9710,  33.8410,2,  33.8198, 2,    301.6,2,    300.2,2,     3.43,2,    22.80,2,     0.28,2,     1.68,2, 0.824989646,2,   -999.0,9,-999.0000,9,  -999.00,  -999.00,9,  -999.00,9,  -999.00,9,  -999.00,9,   5.9626,     1504, -50.3830, 147.3492
  096U20160314,  Eddy,     7,  1,     17,   1217,2,20160331,   0,-50.3831, 147.3490, 4421,    124.7,   5.4370,  33.8820,2,-999.0000, 9,    301.9,2,   -999.0,9,     4.43,2,    23.15,2,     0.38,2,     1.71,2,   0.7732481,2,   -999.0,9,-999.0000,9,  -999.00,  -999.00,9,  -999.00,9,  -999.00,9,  -999.00,9,   5.4271,     1503, -50.3830, 147.3493
  096U20160314,  Eddy,     7,  1,     16,   1216,2,20160331,   0,-50.3831, 147.3490, 4421,    150.8,   5.4840,  34.0160,2,  33.9952, 2,    292.8,2,    291.8,2,     7.09,2,    23.01,2,     0.19,2,     1.65,2, 0.051990834,2,   -999.0,9,-999.0000,9,  -999.00,  -999.00,9,  -999.00,9,  -999.00,9,  -999.00,9,   5.4719,     1501, -50.3829, 147.3494
  096U20160314,  Eddy,     7,  1,     15,   1215,2,20160331,   0,-50.3831, 147.3490, 4421,    174.1,   5.4150,  34.0510,2,-999.0000, 9,    289.9,2,   -999.0,9,     8.00,2,    23.20,2,     0.02,2,     1.65,2, 0.064844561,2,   -999.0,9,-999.0000,9,  -999.00,  -999.00,9,  -999.00,9,  -999.00,9,  -999.00,9,   5.4011,     1500, -50.3829, 147.3495
  096U20160314,  Eddy,     7,  1,     14,   1214,2,20160331,   0,-50.3831, 147.3490, 4421,    200.0,   5.2250,  34.0640,2,  34.0444, 2,    287.8,2,    286.4,2,     9.02,2,    23.57,2,     0.01,2,     1.67,2, 0.067577589,2,   -999.0,9,-999.0000,9,  -999.00,  -999.00,9,  -999.00,9,  -999.00,9,  -999.00,9,   5.2093,     1458, -50.3828, 147.3496
  096U20160314,  Eddy,     7,  1,     13,   1213,2,20160331,   0,-50.3831, 147.3490, 4421,    225.3,   4.9980,  34.0670,2,-999.0000, 9,    287.0,2,   -999.0,9,    10.00,2,    24.16,2,     0.01,2,     1.71,2, 0.043365157,2,   -999.0,9,-999.0000,9,  -999.00,  -999.00,9,  -999.00,9,  -999.00,9,  -999.00,9,   4.9807,     1456, -50.3828, 147.3497
  096U20160314,  Eddy,     7,  1,     12,   1212,2,20160331,   0,-50.3831, 147.3490, 4421,    249.3,   4.6530,  34.0470,2,-999.0000, 9,    289.0,2,   -999.0,9,    10.76,2,    24.61,2,     0.01,2,     1.74,2, 0.045361375,2,   -999.0,9,-999.0000,9,  -999.00,  -999.00,9,  -999.00,9,  -999.00,9,  -999.00,9,   4.6345,     1455, -50.3828, 147.3498
  096U20160314,  Eddy,     7,  1,     11,   1211,2,20160331,   0,-50.3831, 147.3490, 4421,    299.6,   4.6250,  34.0940,2,  34.0730, 2,    278.0,2,    276.5,2,    12.83,2,    25.30,2,     0.00,2,     1.78,2, 0.035091281,2,   -999.0,9,-999.0000,9,  -999.00,  -999.00,9,  -999.00,9,  -999.00,9,  -999.00,9,   4.6027,     1453, -50.3828, 147.3498
  096U20160314,  Eddy,     7,  1,     10,   1210,2,20160331,   0,-50.3831, 147.3490, 4421,    349.5,   4.7110,  34.1410,2,-999.0000, 9,    267.8,2,   -999.0,9,    14.05,2,    25.77,2,     0.00,2,     1.81,2, 0.028209233,2,   -999.0,9,-999.0000,9,  -999.00,  -999.00,9,  -999.00,9,  -999.00,9,  -999.00,9,   4.6845,     1450, -50.3828, 147.3498
  096U20160314,  Eddy,     7,  1,      9,   1209,2,20160331,   0,-50.3831, 147.3490, 4421,    400.3,   4.3520,  34.1480,2,  34.1281, 2,    260.6,2,    259.7,2,    17.22,2,    27.13,2,     0.00,2,     1.90,2, 0.031355266,2,   -999.0,9,-999.0000,9,  -999.00,  -999.00,9,  -999.00,9,  -999.00,9,  -999.00,9,   4.3227,     1448, -50.3828, 147.3498
  096U20160314,  Eddy,     7,  1,      8,   1208,2,20160331,   0,-50.3831, 147.3490, 4421,    499.5,   4.1490,  34.2080,2,  34.1862, 2,    241.3,2,    241.0,2,    22.67,2,    28.94,2,     0.00,2,     2.03,2, 0.041927567,2,   -999.0,9,-999.0000,9,  -999.00,  -999.00,9,  -999.00,9,  -999.00,9,  -999.00,9,   4.1128,     1445, -50.3828, 147.3499
  096U20160314,  Eddy,     7,  1,      7,   1207,2,20160331,   0,-50.3831, 147.3490, 4421,    600.1,   3.7060,  34.2260,2,-999.0000, 9,    232.2,2,   -999.0,9,    28.53,2,    30.54,2,     0.00,2,     2.13,2,   0.0504665,2,   -999.0,9,-999.0000,9,  -999.00,  -999.00,9,  -999.00,9,  -999.00,9,  -999.00,9,   3.6641,     1442, -50.3828, 147.3498
  096U20160314,  Eddy,     7,  1,      6,   1206,2,20160331,   0,-50.3831, 147.3490, 4421,    700.7,   3.5240,  34.2850,2,  34.2631, 2,    216.2,2,    216.3,2,    35.75,2,    31.77,2,     0.00,2,     2.23,2, 0.046317575,2,   -999.0,9,-999.0000,9,  -999.00,  -999.00,9,  -999.00,9,  -999.00,9,  -999.00,9,   3.4755,     1440, -50.3828, 147.3498
  096U20160314,  Eddy,     7,  1,      5,   1205,2,20160331,   0,-50.3831, 147.3490, 4421,    799.7,   3.2290,  34.3390,2,-999.0000, 9,    202.3,2,   -999.0,9,    44.36,2,    33.01,2,     0.00,2,     2.32,2, 0.046145472,2,   -999.0,9,-999.0000,9,  -999.00,  -999.00,9,  -999.00,9,  -999.00,9,  -999.00,9,   3.1747,     1437, -50.3827, 147.3499
  096U20160314,  Eddy,     7,  1,      4,   1204,2,20160331,   0,-50.3831, 147.3490, 4421,    901.1,   3.0730,  34.3910,2,-999.0000, 9,    191.6,2,   -999.0,9,    51.11,2,    33.77,2,     0.00,2,     2.38,2, 0.068896815,2,   -999.0,9,-999.0000,9,  -999.00,  -999.00,9,  -999.00,9,  -999.00,9,  -999.00,9,   3.0122,     1434, -50.3828, 147.3499
  096U20160314,  Eddy,     7,  1,      3,   1203,2,20160331,   0,-50.3831, 147.3490, 4421,    999.4,   2.9770,  34.4290,2,  34.4083, 2,    184.7,2,    180.4,2,    55.81,2,    34.10,2,     0.00,2,     2.40,2, 0.077968975,2,   -999.0,9,-999.0000,9,  -999.00,  -999.00,9,  -999.00,9,  -999.00,9,  -999.00,9,   2.9095,     1431, -50.3827, 147.3500
  096U20160314,  Eddy,     7,  1,      2,   1202,2,20160331,   0,-50.3831, 147.3490, 4421,   1251.4,   2.7000,  34.5400,2,-999.0000, 9,    173.5,2,   -999.0,9,    66.96,2,    34.29,2,     0.00,2,     2.41,2, 0.084451712,2,   -999.0,9,-999.0000,9,  -999.00,  -999.00,9,  -999.00,9,  -999.00,9,  -999.00,9,   2.6154,     1425, -50.3826, 147.3502
  096U20160314,  Eddy,     7,  1,      1,   1201,2,20160331,   0,-50.3831, 147.3490, 4421,   1499.4,   2.5320,  34.6280,2,  34.6069, 2,    172.2,2,    174.0,2,    73.30,2,    33.48,3,     0.00,2,     2.36,2, 0.045850334,2,   -999.0,9,-999.0000,9,  -999.00,  -999.00,9,  -999.00,9,  -999.00,9,  -999.00,9,   2.4295,     1420, -50.3825, 147.3506
  096U20160314,  Eddy,     8,  1,     24,   1224,2,20160331,   0,-50.3845, 147.0825, 4421,      5.7,   7.2300,  33.8200,2,-999.0000, 9,    296.9,2,   -999.0,9,     3.48,2,    22.09,2,     0.27,2,     1.60,2, 0.326882283,2,   -999.0,9,-999.0000,9,  -999.00,  -999.00,9,  -999.00,9,  -999.00,9,  -999.00,9,   7.2295,     1838, -50.3844, 147.0827
  096U20160314,  Eddy,     8,  1,     23,   1223,2,20160331,   0,-50.3845, 147.0825, 4421,      5.8,   7.2300,  33.8200,2,  33.8007, 2,    297.6,2,    296.1,2,     3.51,2,    22.06,2,     0.27,2,     1.60,2, 0.352559068,2,   2269.3,2,   7.7593,2,    25.00,  -999.00,9,  -999.00,9,     0.32,2,     0.05,2,   7.2295,     1837, -50.3844, 147.0827
  096U20160314,  Eddy,     8,  1,     21,   1221,2,20160331,   0,-50.3845, 147.0825, 4421,     25.4,   7.2290,  33.8200,2,  33.8005, 2,    297.3,2,    296.0,2,     3.42,2,    22.07,2,     0.27,2,     1.60,2, 0.366557224,2,   2269.4,2,   7.7607,2,    25.00,  -999.00,9,  -999.00,9,     0.36,2,     0.05,2,   7.2267,     1835, -50.3844, 147.0828
  096U20160314,  Eddy,     8,  1,     22,   1222,2,20160331,   0,-50.3845, 147.0825, 4421,     26.1,   7.2290,  33.8210,2,-999.0000, 9,    297.2,2,   -999.0,9,     3.57,2,    22.05,2,     0.27,2,     1.60,2,  0.36764886,2,   -999.0,9,-999.0000,9,  -999.00,  -999.00,9,  -999.00,9,  -999.00,9,  -999.00,9,   7.2266,     1835, -50.3844, 147.0828
  096U20160314,  Eddy,     8,  1,     20,   1220,2,20160331,   0,-50.3845, 147.0825, 4421,     51.2,   7.2290,  33.8210,2,  33.8046, 2,    297.4,2,    296.4,2,     3.51,2,    22.07,2,     0.27,2,     1.60,2, 0.362291424,2,   2270.3,2,   7.7607,2,    25.00,  -999.00,9,  -999.00,9,     0.32,2,     0.05,2,   7.2243,     1833, -50.3843, 147.0830
  096U20160314,  Eddy,     8,  1,     19,   1219,2,20160331,   0,-50.3845, 147.0825, 4421,     76.7,   7.2110,  33.8230,2,  33.8032, 2,    297.1,2,    296.4,2,     3.52,2,    22.05,2,     0.27,2,     1.60,2, 0.371604073,2,   2269.4,2,   7.7610,2,    25.00,  -999.00,9,  -999.00,9,     0.37,2,     0.06,2,   7.2039,     1831, -50.3843, 147.0830
  096U20160314,  Eddy,     8,  1,     18,   1218,2,20160331,   0,-50.3845, 147.0825, 4421,    102.7,   7.0290,  33.8300,2,  33.8092, 2,    297.6,2,    296.6,2,     3.58,2,    22.10,2,     0.27,2,     1.61,2, 0.492195301,2,   2270.1,2,   7.7588,2,    25.00,  -999.00,9,  -999.00,9,     0.31,2,     0.05,2,   7.0196,     1829, -50.3843, 147.0830
  096U20160314,  Eddy,     8,  1,     17,   1217,2,20160331,   0,-50.3845, 147.0825, 4421,    125.4,   5.8400,  33.8880,2,  33.8562, 2,    299.3,2,    298.8,2,     4.07,2,    22.68,2,     0.36,2,     1.69,2, 0.830457315,2,   2272.5,2,   7.7342,2,    25.00,  -999.00,9,  -999.00,9,  -999.00,9,  -999.00,9,   5.8297,     1827, -50.3843, 147.0831
  096U20160314,  Eddy,     8,  1,     16,   1216,2,20160331,   0,-50.3845, 147.0825, 4421,    150.6,   5.1730,  33.9110,2,  33.8798, 2,    302.4,2,    301.3,2,     5.69,2,    23.27,2,     0.49,2,     1.73,2, 0.694161394,2,   2273.3,2,   7.7219,2,    25.00,  -999.00,9,  -999.00,9,     0.24,2,     0.12,2,   5.1613,     1825, -50.3842, 147.0834
  096U20160314,  Eddy,     8,  1,     15,   1215,2,20160331,   0,-50.3845, 147.0825, 4421,    175.0,   4.3800,  33.9560,2,  33.9388, 2,    301.9,2,    299.6,2,     9.15,2,    24.55,2,     0.24,2,     1.77,2, 0.066341868,2,   2274.0,2,   7.7036,2,    25.00,  -999.00,9,  -999.00,9,  -999.00,9,  -999.00,9,   4.3675,     1823, -50.3842, 147.0834
  096U20160314,  Eddy,     8,  1,     14,   1214,2,20160331,   0,-50.3845, 147.0825, 4421,    199.2,   4.7090,  34.0540,2,  34.0379, 2,    288.7,2,    287.7,2,    10.72,2,    24.53,2,     0.01,2,     1.74,2, 0.056518125,2,   2274.6,2,   7.6913,2,    25.00,  -999.00,9,  -999.00,9,     0.08,2,     0.02,2,   4.6942,     1821, -50.3841, 147.0835
  096U20160314,  Eddy,     8,  1,     13,   1213,2,20160331,   0,-50.3845, 147.0825, 4421,    224.0,   5.0320,  34.1300,2,  34.1104, 2,    274.0,2,    272.8,2,    12.06,2,    24.62,2,     0.01,2,     1.75,2, 0.050894702,2,   2279.0,2,   7.6906,2,    25.00,  -999.00,9,  -999.00,9,  -999.00,9,  -999.00,9,   5.0147,     1819, -50.3841, 147.0836
  096U20160314,  Eddy,     8,  1,     12,   1212,2,20160331,   0,-50.3845, 147.0825, 4421,    249.7,   4.8370,  34.1230,2,  34.0985, 2,    272.9,2,    272.0,2,    13.02,2,    25.20,2,     0.01,2,     1.79,2, 0.068030806,2,   2278.6,2,   7.6841,2,    25.00,  -999.00,9,  -999.00,9,  -999.00,9,  -999.00,9,   4.8181,     1817, -50.3840, 147.0837
  096U20160314,  Eddy,     8,  1,     11,   1211,2,20160331,   0,-50.3845, 147.0825, 4421,    300.0,   3.7710,  34.0220,2,  34.0024, 2,    288.7,2,    287.2,2,    14.86,2,    26.48,2,     0.01,2,     1.87,2, 0.097645179,2,   2277.9,2,   7.6711,2,    25.00,  -999.00,9,  -999.00,9,  -999.00,9,  -999.00,9,   3.7507,     1815, -50.3840, 147.0839
  096U20160314,  Eddy,     8,  1,     10,   1210,2,20160331,   0,-50.3845, 147.0825, 4421,    350.2,   3.9390,  34.1000,2,  34.0781, 2,    269.9,2,    269.2,2,    17.59,2,    27.34,2,     0.00,2,     1.93,2,  0.10994296,2,   2281.0,2,   7.6567,2,    25.00,  -999.00,9,  -999.00,9,  -999.00,9,  -999.00,9,   3.9147,     1813, -50.3840, 147.0840
  096U20160314,  Eddy,     8,  1,      9,   1209,2,20160331,   0,-50.3845, 147.0825, 4421,    399.5,   4.0740,  34.1660,2,  34.1483, 2,    252.3,2,    251.9,2,    20.61,2,    28.26,2,     0.00,2,     1.99,2, 0.118751859,2,   2283.2,2,   7.6420,2,    25.00,  -999.00,9,  -999.00,9,  -999.00,9,  -999.00,9,   4.0456,     1810, -50.3839, 147.0842
  096U20160314,  Eddy,     8,  1,      8,   1208,2,20160331,   0,-50.3845, 147.0825, 4421,    601.3,   3.6730,  34.2640,2,  34.2498, 2,    223.1,2,    223.1,2,    31.94,2,    31.03,2,     0.00,2,     2.18,2, 0.138006388,2,   2291.9,2,   7.6016,2,    25.00,  -999.00,9,  -999.00,9,  -999.00,9,  -999.00,9,   3.6311,     1805, -50.3838, 147.0845
  096U20160314,  Eddy,     8,  1,      7,   1207,2,20160331,   0,-50.3845, 147.0825, 4421,    799.6,   3.2860,  34.3410,2,  34.3197, 2,    202.4,2,    202.8,2,    43.89,2,    32.84,2,     0.00,2,     2.32,2, 0.155410096,2,   2304.2,2,   7.5788,2,    25.00,    47.32,6,    11.17,6,  -999.00,9,  -999.00,9,   3.2314,     1800, -50.3837, 147.0848
  096U20160314,  Eddy,     8,  1,      6,   1206,2,20160331,   0,-50.3845, 147.0825, 4421,    998.5,   2.9380,  34.4500,2,  34.4284, 2,    182.6,2,    183.6,2,    57.96,2,    34.08,2,     0.00,2,     2.41,2, 0.099670533,2,   2318.3,6,   7.5585,6,    25.00,  -999.00,9,  -999.00,9,  -999.00,9,  -999.00,9,   2.8708,     1755, -50.3836, 147.0850
  096U20160314,  Eddy,     8,  1,      5,   1205,2,20160331,   0,-50.3845, 147.0825, 4421,   1200.7,   2.7390,  34.5450,2,  34.5229, 2,    173.2,2,    174.2,2,    67.32,2,    34.10,2,     0.00,2,     2.41,2, 0.085189734,2,   2328.6,2,   7.5527,2,    25.00,    41.85,6,    12.64,6,  -999.00,9,  -999.00,9,   2.6580,     1750, -50.3835, 147.0851
  096U20160314,  Eddy,     8,  1,      4,   1204,2,20160331,   0,-50.3845, 147.0825, 4421,   1399.6,   2.5840,  34.6150,2,-999.0000, 9,    172.4,2,    174.5,2,    72.32,2,    33.57,2,     0.00,2,     2.38,2, 0.078730381,2,   -999.0,9,-999.0000,9,  -999.00,  -999.00,9,  -999.00,9,  -999.00,9,  -999.00,9,   2.4888,     1745, -50.3835, 147.0852
  096U20160314,  Eddy,     8,  1,      3,   1203,2,20160331,   0,-50.3845, 147.0825, 4421,   1599.6,   2.4180,  34.6750,2,  34.6535, 2,    175.1,2,    176.8,2,    76.36,2,    32.78,2,     0.00,2,     2.31,2, 0.077886833,2,   2338.8,2,   7.5713,2,    25.00,    48.81,6,    13.86,6,  -999.00,9,  -999.00,9,   2.3087,     1740, -50.3834, 147.0853
  096U20160314,  Eddy,     8,  1,      2,   1202,2,20160331,   0,-50.3845, 147.0825, 4421,   1799.9,   2.3320,  34.7190,2,  34.6964, 2,    179.0,2,    181.6,2,    79.32,2,    31.88,2,     0.00,2,     2.25,2, 0.091706037,2,   -999.0,9,-999.0000,9,  -999.00,  -999.00,9,  -999.00,9,  -999.00,9,  -999.00,9,   2.2072,     1734, -50.3834, 147.0854
  096U20160314,  Eddy,     8,  1,      1,   1201,2,20160331,   0,-50.3845, 147.0825, 4421,   2000.6,   2.2320,  34.7470,2,  34.7244, 2,    183.5,2,    186.6,2,    81.77,2,    31.20,2,     0.00,2,     2.21,2, 0.072165246,3,   2342.5,6,   7.5824,6,    25.00,  -999.00,9,  -999.00,9,  -999.00,9,  -999.00,9,   2.0917,     1729, -50.3834, 147.0854