BOTTLE,20180103PRINUNIVRMK
EXPOCODE,SECT_ID,STNNBR,CASTNO,SAMPNO,BTLNBR,BTLNBR_FLAG_W,DATE,TIME,LATITUDE,LONGITUDE,DEPTH,CTDPRS,CTDTMP,CTDSAL,CTDSAL_FLAG_W,SALNTY,SALNTY_FLAG_W,CTDOXY,CTDOXY_FLAG_W,OXYGEN,OXYGEN_FLAG_W,SILCAT,SILCAT_FLAG_W,NITRAT,NITRAT_FLAG_W,NITRIT,NITRIT_FLAG_W,PHSPHT,PHSPHT_FLAG_W,NH4,NH4_FLAG_W,ALKALI,ALKALI_FLAG_W,PH_TOT,PH_TOT_FLAG_W,PH_TMP,POC,POC_FLAG_W,PON,PON_FLAG_W,CHLORA,CHLORA_FLAG_W,PPHYTN,PPHYTN_FLAG_W,THETA,BTL_TIME,BTL_LAT,BTL_LON
,,,,,,,,,,,METERS,DBAR,ITS-90,PSS-78,,PSS-78,,UMOL/KG,,UMOL/KG,,UMOL/KG,,UMOL/KG,,UMOL/KG,,UMOL/KG,,UMOL/KG,,UMOL/KG,,,,DEG C,UG/KG,,UG/KG,,UG/KG,,UG/KG,,DEG C,,,
  096U20160314,  Eddy,    11,  1,     24,   1224,2,20160401,   0,-50.3960, 148.1410, 4280,      5.7,   9.8960,  34.4000,2,  34.3793, 2,    275.3,2,    275.9,2,     2.01,2,    12.44,2,     0.28,2,     0.98,2, 0.213508847,2,   -999.0,9,-999.0000,9,  -999.00,  -999.00,9,  -999.00,9,  -999.00,9,  -999.00,9,   9.8954,     1207, -50.3956, 148.1414
  096U20160314,  Eddy,    11,  1,     23,   1223,2,20160401,   0,-50.3960, 148.1410, 4280,     14.0,   9.9000,  34.4010,2,-999.0000, 9,    275.7,2,   -999.0,9,     1.95,2,    12.46,2,     0.28,2,     0.99,2, 0.220789907,2,   -999.0,9,-999.0000,9,  -999.00,  -999.00,9,  -999.00,9,  -999.00,9,  -999.00,9,   9.8984,     1206, -50.3954, 148.1416
  096U20160314,  Eddy,    11,  1,     22,   1222,2,20160401,   0,-50.3960, 148.1410, 4280,     30.7,   9.9130,  34.4040,2,  34.3838, 2,    275.4,2,    275.5,2,     2.01,2,    12.40,2,     0.28,2,     0.98,2, 0.230802226,2,   -999.0,9,-999.0000,9,  -999.00,  -999.00,9,  -999.00,9,  -999.00,9,  -999.00,9,   9.9095,     1205, -50.3952, 148.1418
  096U20160314,  Eddy,    11,  1,     21,   1221,2,20160401,   0,-50.3960, 148.1410, 4280,     47.2,   9.8970,  34.4080,2,-999.0000, 9,    275.5,2,   -999.0,9,     1.93,2,    12.42,2,     0.28,2,     0.98,2, 0.242228447,2,   -999.0,9,-999.0000,9,  -999.00,  -999.00,9,  -999.00,9,  -999.00,9,  -999.00,9,   9.8916,     1204, -50.3950, 148.1420
  096U20160314,  Eddy,    11,  1,     20,   1220,2,20160401,   0,-50.3960, 148.1410, 4280,     60.7,   9.9140,  34.4080,2,  34.3875, 2,    275.5,2,    275.7,2,     2.02,2,    12.39,2,     0.28,2,     0.98,2, 0.220445208,2,   -999.0,9,-999.0000,9,  -999.00,  -999.00,9,  -999.00,9,  -999.00,9,  -999.00,9,   9.9071,     1202, -50.3948, 148.1421
  096U20160314,  Eddy,    11,  1,     19,   1219,2,20160401,   0,-50.3960, 148.1410, 4280,     81.4,   9.8840,  34.4080,2,-999.0000, 9,    275.3,2,   -999.0,9,     2.06,2,    12.47,2,     0.28,2,     0.99,2, 0.225819763,2,   -999.0,9,-999.0000,9,  -999.00,  -999.00,9,  -999.00,9,  -999.00,9,  -999.00,9,   9.8747,     1201, -50.3947, 148.1423
  096U20160314,  Eddy,    11,  1,     18,   1218,2,20160401,   0,-50.3960, 148.1410, 4280,    104.1,   9.8770,  34.4070,2,  34.3864, 2,    275.3,2,    275.6,2,     2.09,2,    12.51,2,     0.29,2,     0.99,2, 0.236240308,2,   -999.0,9,-999.0000,9,  -999.00,  -999.00,9,  -999.00,9,  -999.00,9,  -999.00,9,   9.8652,     1200, -50.3945, 148.1425
  096U20160314,  Eddy,    11,  1,     17,   1217,2,20160401,   0,-50.3960, 148.1410, 4280,    123.4,   9.0730,  34.4730,2,-999.0000, 9,    265.9,2,   -999.0,9,     3.58,2,    15.38,2,     0.11,2,     1.15,2, 0.054496634,2,   -999.0,9,-999.0000,9,  -999.00,  -999.00,9,  -999.00,9,  -999.00,9,  -999.00,9,   9.0597,     1159, -50.3943, 148.1427
  096U20160314,  Eddy,    11,  1,     16,   1216,2,20160401,   0,-50.3960, 148.1410, 4280,    152.0,   9.0060,  34.5220,2,  34.5014, 2,    265.0,2,    265.7,2,     4.57,2,    15.35,2,     0.01,2,     1.13,2,  0.06580191,2,   -999.0,9,-999.0000,9,  -999.00,  -999.00,9,  -999.00,9,  -999.00,9,  -999.00,9,   8.9896,     1157, -50.3941, 148.1428
  096U20160314,  Eddy,    11,  1,     15,   1215,2,20160401,   0,-50.3960, 148.1410, 4280,    177.5,   9.0070,  34.5510,2,-999.0000, 9,    265.0,2,   -999.0,9,     4.82,2,    15.28,2,     0.01,2,     1.12,2, 0.075864084,2,   -999.0,9,-999.0000,9,  -999.00,  -999.00,9,  -999.00,9,  -999.00,9,  -999.00,9,   8.9878,     1156, -50.3939, 148.1430
  096U20160314,  Eddy,    11,  1,     14,   1214,2,20160401,   0,-50.3960, 148.1410, 4280,    199.7,   8.8290,  34.5270,2,  34.5063, 2,    264.4,2,    265.6,2,     4.97,2,    15.65,2,     0.01,2,     1.15,2, 0.077625636,2,   -999.0,9,-999.0000,9,  -999.00,  -999.00,9,  -999.00,9,  -999.00,9,  -999.00,9,   8.8077,     1155, -50.3937, 148.1433
  096U20160314,  Eddy,    11,  1,     13,   1213,2,20160401,   0,-50.3960, 148.1410, 4280,    225.4,   8.7070,  34.5120,2,-999.0000, 9,    265.2,2,   -999.0,9,     5.06,2,    15.96,2,     0.01,2,     1.17,2, 0.054316702,2,   -999.0,9,-999.0000,9,  -999.00,  -999.00,9,  -999.00,9,  -999.00,9,  -999.00,9,   8.6831,     1153, -50.3935, 148.1435
  096U20160314,  Eddy,    11,  1,     12,   1212,2,20160401,   0,-50.3960, 148.1410, 4280,    247.2,   8.5420,  34.4910,2,-999.0000, 9,    265.2,2,   -999.0,9,     5.26,2,    16.39,2,     0.01,2,     1.19,2, 0.065351801,2,   -999.0,9,-999.0000,9,  -999.00,  -999.00,9,  -999.00,9,  -999.00,9,  -999.00,9,   8.5161,     1152, -50.3933, 148.1436
  096U20160314,  Eddy,    11,  1,     11,   1211,2,20160401,   0,-50.3960, 148.1410, 4280,    301.9,   8.3590,  34.4820,2,  34.4608, 2,    262.1,2,    262.6,2,     5.69,2,    17.06,2,     0.01,2,     1.23,2, 0.083188804,2,   -999.0,9,-999.0000,9,  -999.00,  -999.00,9,  -999.00,9,  -999.00,9,  -999.00,9,   8.3277,     1150, -50.3931, 148.1439
  096U20160314,  Eddy,    11,  1,     10,   1210,2,20160401,   0,-50.3960, 148.1410, 4280,    349.6,   8.2560,  34.4830,2,-999.0000, 9,    258.6,2,   -999.0,9,     6.13,2,    17.58,2,     0.01,2,     1.27,2,  0.08983866,2,   -999.0,9,-999.0000,9,  -999.00,  -999.00,9,  -999.00,9,  -999.00,9,  -999.00,9,   8.2199,     1149, -50.3928, 148.1441
  096U20160314,  Eddy,    11,  1,      9,   1209,2,20160401,   0,-50.3960, 148.1410, 4280,    400.4,   8.2030,  34.5090,2,  34.4878, 2,    243.3,2,    245.9,2,     7.52,2,    18.84,2,     0.00,2,     1.34,2, 0.107561676,2,   -999.0,9,-999.0000,9,  -999.00,  -999.00,9,  -999.00,9,  -999.00,9,  -999.00,9,   8.1616,     1147, -50.3925, 148.1444
  096U20160314,  Eddy,    11,  1,      8,   1208,2,20160401,   0,-50.3960, 148.1410, 4280,    501.6,   7.4520,  34.4440,2,  34.4326, 2,    231.7,2,    232.9,2,    10.30,2,    21.68,2,     0.00,2,     1.52,2, 0.099841144,2,   -999.0,9,-999.0000,9,  -999.00,  -999.00,9,  -999.00,9,  -999.00,9,  -999.00,9,   7.4027,     1144, -50.3922, 148.1447
  096U20160314,  Eddy,    11,  1,      7,   1207,2,20160401,   0,-50.3960, 148.1410, 4280,    599.4,   7.2570,  34.5010,2,-999.0000, 9,    205.5,2,   -999.0,9,    15.37,2,    24.40,2,     0.00,2,     1.69,2, 0.129615042,2,   -999.0,9,-999.0000,9,  -999.00,  -999.00,9,  -999.00,9,  -999.00,9,  -999.00,9,   7.1985,     1141, -50.3918, 148.1452
  096U20160314,  Eddy,    11,  1,      6,   1206,2,20160401,   0,-50.3960, 148.1410, 4280,    698.2,   6.0820,  34.3980,2,  34.3770, 2,    210.2,2,    211.0,2,    19.41,2,    26.98,2,     0.00,2,     1.86,2, 0.113877931,2,   -999.0,9,-999.0000,9,  -999.00,  -999.00,9,  -999.00,9,  -999.00,9,  -999.00,9,   6.0197,     1139, -50.3914, 148.1454
  096U20160314,  Eddy,    11,  1,      5,   1205,2,20160401,   0,-50.3960, 148.1410, 4280,    800.9,   5.2730,  34.3750,2,-999.0000, 9,    205.5,2,   -999.0,9,    26.19,2,    28.99,2,     0.00,2,     2.00,2, 0.095278674,2,   -999.0,9,-999.0000,9,  -999.00,  -999.00,9,  -999.00,9,  -999.00,9,  -999.00,9,   5.2059,     1136, -50.3910, 148.1459
  096U20160314,  Eddy,    11,  1,      4,   1204,2,20160401,   0,-50.3960, 148.1410, 4280,    899.2,   4.5740,  34.3620,2,-999.0000, 9,    203.2,2,   -999.0,9,    32.27,2,    30.51,2,     0.00,2,     2.11,2, 0.112307539,2,   -999.0,9,-999.0000,9,  -999.00,  -999.00,9,  -999.00,9,  -999.00,9,  -999.00,9,   4.5029,     1133, -50.3906, 148.1462
  096U20160314,  Eddy,    11,  1,      3,   1203,2,20160401,   0,-50.3960, 148.1410, 4280,   1000.5,   3.9750,  34.3740,2,  34.3521, 2,    197.0,2,    197.1,2,    40.49,2,    31.90,2,     0.00,2,     2.21,2, 0.134541546,2,   -999.0,9,-999.0000,9,  -999.00,  -999.00,9,  -999.00,9,  -999.00,9,  -999.00,9,   3.8997,     1130, -50.3902, 148.1466
  096U20160314,  Eddy,    11,  1,      2,   1202,2,20160401,   0,-50.3960, 148.1410, 4280,   1249.3,   3.2540,  34.4350,2,-999.0000, 9,    183.4,2,   -999.0,9,    54.13,2,    33.73,2,     0.00,2,     2.35,2, 0.133094475,2,   -999.0,9,-999.0000,9,  -999.00,  -999.00,9,  -999.00,9,  -999.00,9,  -999.00,9,   3.1644,     1125, -50.3894, 148.1474
  096U20160314,  Eddy,    11,  1,      1,   1201,2,20160401,   0,-50.3960, 148.1410, 4280,   1500.9,   2.7410,  34.5540,2,  34.5327, 2,    171.4,2,   -391.2,4,    68.42,2,    34.19,2,     0.00,2,     2.38,2, 0.085833409,3,   -999.0,9,-999.0000,9,  -999.00,  -999.00,9,  -999.00,9,  -999.00,9,  -999.00,9,   2.6362,     1120, -50.3884, 148.1483
  096U20160314,  Eddy,    12,  1,     24,   1224,2,20160401,   0,-50.4093, 147.8890, 4362,     12.8,   8.8140,  34.1530,2,  34.1329, 2,    284.0,2,    283.4,2,     1.89,2,    16.17,2,     0.29,2,     1.20,2, 0.169593028,2,   -999.0,9,-999.0000,9,  -999.00,  -999.00,9,  -999.00,9,  -999.00,9,  -999.00,9,   8.8127,     1457, -50.4086, 147.8894
  096U20160314,  Eddy,    12,  1,     23,   1223,2,20160401,   0,-50.4093, 147.8890, 4362,     15.0,   8.8160,  34.1530,2,-999.0000, 9,    283.9,2,   -999.0,9,     1.92,2,    16.18,2,     0.29,2,     1.20,2, 0.172105165,2,   -999.0,9,-999.0000,9,  -999.00,  -999.00,9,  -999.00,9,  -999.00,9,  -999.00,9,   8.8144,     1456, -50.4081, 147.8897
  096U20160314,  Eddy,    12,  1,     22,   1222,2,20160401,   0,-50.4093, 147.8890, 4362,     31.4,   8.8190,  34.1530,2,  34.1329, 2,    283.1,2,    283.6,2,     1.91,2,    16.22,2,     0.29,2,     1.20,2, 0.177118011,2,   -999.0,9,-999.0000,9,  -999.00,  -999.00,9,  -999.00,9,  -999.00,9,  -999.00,9,   8.8157,     1454, -50.4076, 147.8898
  096U20160314,  Eddy,    12,  1,     21,   1221,2,20160401,   0,-50.4093, 147.8890, 4362,     44.9,   8.8220,  34.1530,2,-999.0000, 9,    283.5,2,   -999.0,9,     1.99,2,    16.20,2,     0.29,2,     1.20,2, 0.178031069,2,   -999.0,9,-999.0000,9,  -999.00,  -999.00,9,  -999.00,9,  -999.00,9,  -999.00,9,   8.8173,     1453, -50.4071, 147.8900
  096U20160314,  Eddy,    12,  1,     20,   1220,2,20160401,   0,-50.4093, 147.8890, 4362,     61.0,   8.8230,  34.1550,2,  34.1367, 2,    283.9,2,    283.2,2,     1.89,2,    16.19,2,     0.30,2,     1.20,2, 0.199850664,2,   -999.0,9,-999.0000,9,  -999.00,  -999.00,9,  -999.00,9,  -999.00,9,  -999.00,9,   8.8166,     1451, -50.4066, 147.8902
  096U20160314,  Eddy,    12,  1,     19,   1219,2,20160401,   0,-50.4093, 147.8890, 4362,     79.3,   9.2920,  34.2940,2,-999.0000, 9,    278.3,2,   -999.0,9,     1.90,2,    14.59,2,     0.29,2,     1.10,2, 0.214235063,2,   -999.0,9,-999.0000,9,  -999.00,  -999.00,9,  -999.00,9,  -999.00,9,  -999.00,9,   9.2833,     1450, -50.4062, 147.8903
  096U20160314,  Eddy,    12,  1,     18,   1218,2,20160401,   0,-50.4093, 147.8890, 4362,    101.7,   9.3300,  34.3390,2,  34.3348, 2,    275.9,2,    276.0,2,     1.96,2,    14.12,2,     0.30,2,     1.08,2, 0.197343141,2,   -999.0,9,-999.0000,9,  -999.00,  -999.00,9,  -999.00,9,  -999.00,9,  -999.00,9,   9.3189,     1448, -50.4059, 147.8903
  096U20160314,  Eddy,    12,  1,     17,   1217,2,20160401,   0,-50.4093, 147.8890, 4362,    123.8,   8.5630,  34.3580,2,-999.0000, 9,    272.3,2,   -999.0,9,     3.37,2,    16.75,2,     0.19,2,     1.22,2, 0.013644356,2,   -999.0,9,-999.0000,9,  -999.00,  -999.00,9,  -999.00,9,  -999.00,9,  -999.00,9,   8.5501,     1446, -50.4054, 147.8902
  096U20160314,  Eddy,    12,  1,     16,   1216,2,20160401,   0,-50.4093, 147.8890, 4362,    148.0,   8.6060,  34.5030,2,  34.4870, 2,    265.7,2,    265.8,2,     4.16,2,    16.54,2,     0.02,2,     1.19,2, 0.019162553,2,   -999.0,9,-999.0000,9,  -999.00,  -999.00,9,  -999.00,9,  -999.00,9,  -999.00,9,   8.5905,     1445, -50.4050, 147.8900
  096U20160314,  Eddy,    12,  1,     15,   1215,2,20160401,   0,-50.4093, 147.8890, 4362,    176.5,   8.3520,  34.4750,2,-999.0000, 9,    266.1,2,   -999.0,9,     4.51,2,    17.06,2,     0.02,2,     1.22,2, 0.015582227,2,   -999.0,9,-999.0000,9,  -999.00,  -999.00,9,  -999.00,9,  -999.00,9,  -999.00,9,   8.3338,     1443, -50.4044, 147.8897
  096U20160314,  Eddy,    12,  1,     14,   1214,2,20160401,   0,-50.4093, 147.8890, 4362,    200.4,   8.4910,  34.5180,2,  34.4974, 2,    263.4,2,    263.2,2,     4.67,2,    16.95,2,     0.01,2,     1.21,2, 0.011647531,2,   -999.0,9,-999.0000,9,  -999.00,  -999.00,9,  -999.00,9,  -999.00,9,  -999.00,9,   8.4701,     1441, -50.4040, 147.8894
  096U20160314,  Eddy,    12,  1,     13,   1213,2,20160401,   0,-50.4093, 147.8890, 4362,    226.8,   8.4410,  34.5220,2,-999.0000, 9,    261.9,2,   -999.0,9,     4.88,2,    17.13,2,     0.01,2,     1.22,2, 0.005047722,2,   -999.0,9,-999.0000,9,  -999.00,  -999.00,9,  -999.00,9,  -999.00,9,  -999.00,9,   8.4174,     1440, -50.4034, 147.8890
  096U20160314,  Eddy,    12,  1,     12,   1212,2,20160401,   0,-50.4093, 147.8890, 4362,    250.6,   8.4790,  34.5450,2,-999.0000, 9,    259.1,2,   -999.0,9,     5.04,2,    17.22,2,     0.01,2,     1.22,2, 0.012661876,2,   -999.0,9,-999.0000,9,  -999.00,  -999.00,9,  -999.00,9,  -999.00,9,  -999.00,9,   8.4528,     1438, -50.4029, 147.8887
  096U20160314,  Eddy,    12,  1,     11,   1211,2,20160401,   0,-50.4093, 147.8890, 4362,    299.2,   8.3260,  34.5360,2,  34.5183, 2,    258.4,2,    259.1,2,     5.19,2,    17.59,2,     0.01,2,     1.25,2, 0.027804394,2,   -999.0,9,-999.0000,9,  -999.00,  -999.00,9,  -999.00,9,  -999.00,9,  -999.00,9,   8.2950,     1436, -50.4024, 147.8883
  096U20160314,  Eddy,    12,  1,     10,   1210,2,20160401,   0,-50.4093, 147.8890, 4362,    349.2,   8.0270,  34.5000,2,-999.0000, 9,    260.2,2,   -999.0,9,     5.54,2,    18.16,2,     0.01,2,     1.29,2, 0.037748929,2,   -999.0,9,-999.0000,9,  -999.00,  -999.00,9,  -999.00,9,  -999.00,9,  -999.00,9,   7.9915,     1434, -50.4019, 147.8879
  096U20160314,  Eddy,    12,  1,      9,   1209,2,20160401,   0,-50.4093, 147.8890, 4362,    401.6,   7.2870,  34.3880,2,  34.3675, 2,    257.9,2,    258.3,2,     6.90,2,    20.29,2,     0.01,2,     1.42,2, 0.057494146,2,   -999.0,9,-999.0000,9,  -999.00,  -999.00,9,  -999.00,9,  -999.00,9,  -999.00,9,   7.2483,     1431, -50.4013, 147.8874
  096U20160314,  Eddy,    12,  1,      8,   1208,2,20160401,   0,-50.4093, 147.8890, 4362,    499.4,   6.8230,  34.3980,2,  34.3750, 2,    229.0,2,    230.8,2,    11.58,2,    23.62,2,     0.00,2,     1.63,2, 0.050642693,2,   -999.0,9,-999.0000,9,  -999.00,  -999.00,9,  -999.00,9,  -999.00,9,  -999.00,9,   6.7763,     1428, -50.4003, 147.8868
  096U20160314,  Eddy,    12,  1,      7,   1207,2,20160401,   0,-50.4093, 147.8890, 4362,    598.7,   6.3170,  34.4070,2,-999.0000, 9,    211.8,2,   -999.0,9,    16.57,2,    26.19,2,     0.00,2,     1.80,2, 0.049768902,2,   -999.0,9,-999.0000,9,  -999.00,  -999.00,9,  -999.00,9,  -999.00,9,  -999.00,9,   6.2629,     1425, -50.3994, 147.8868
  096U20160314,  Eddy,    12,  1,      6,   1206,2,20160401,   0,-50.4093, 147.8890, 4362,    699.5,   5.5000,  34.3660,2,  34.3478, 2,    209.7,2,    211.0,2,    21.62,2,    28.22,2,     0.00,2,     1.93,2, 0.058374638,2,   -999.0,9,-999.0000,9,  -999.00,  -999.00,9,  -999.00,9,  -999.00,9,  -999.00,9,   5.4407,     1422, -50.3986, 147.8868
  096U20160314,  Eddy,    12,  1,      5,   1205,2,20160401,   0,-50.4093, 147.8890, 4362,    803.8,   4.5360,  34.3090,2,-999.0000, 9,    216.6,2,   -999.0,9,    25.94,2,    29.75,2,     0.00,2,     2.04,2, 0.042621695,2,   -999.0,9,-999.0000,9,  -999.00,  -999.00,9,  -999.00,9,  -999.00,9,  -999.00,9,   4.4733,     1419, -50.3978, 147.8866
  096U20160314,  Eddy,    12,  1,      4,   1204,2,20160401,   0,-50.4093, 147.8890, 4362,    902.1,   3.9620,  34.3240,2,-999.0000, 9,    209.3,2,   -999.0,9,    33.11,2,    31.22,2,     0.00,2,     2.16,2, 0.056220365,2,   -999.0,9,-999.0000,9,  -999.00,  -999.00,9,  -999.00,9,  -999.00,9,  -999.00,9,   3.8949,     1416, -50.3970, 147.8863
  096U20160314,  Eddy,    12,  1,      3,   1203,2,20160401,   0,-50.4093, 147.8890, 4362,   1001.8,   3.7120,  34.3870,2,  34.3660, 2,    193.6,2,    195.4,2,    42.96,2,    32.40,2,     0.00,2,     2.25,2,   0.0471731,2,   -999.0,9,-999.0000,9,  -999.00,  -999.00,9,  -999.00,9,  -999.00,9,  -999.00,9,   3.6386,     1413, -50.3962, 147.8861
  096U20160314,  Eddy,    12,  1,      2,   1202,2,20160401,   0,-50.4093, 147.8890, 4362,   1251.0,   3.0310,  34.4550,2,-999.0000, 9,    180.8,2,   -999.0,9,    55.76,2,    33.90,2,     0.00,2,     2.35,2, 0.040918656,2,   -999.0,9,-999.0000,9,  -999.00,  -999.00,9,  -999.00,9,  -999.00,9,  -999.00,9,   2.9434,     1406, -50.3940, 147.8853
  096U20160314,  Eddy,    12,  1,      1,   1201,2,20160401,   0,-50.4093, 147.8890, 4362,   1502.9,   2.6350,  34.5730,2,  34.5497, 2,    171.6,2,    176.1,2,    68.05,2,    33.93,2,     0.00,2,     2.36,2,  0.02653349,2,   -999.0,9,-999.0000,9,  -999.00,  -999.00,9,  -999.00,9,  -999.00,9,  -999.00,9,   2.5312,     1401, -50.3920, 147.8846