BOTTLE,20180103PRINUNIVRMK
EXPOCODE,SECT_ID,STNNBR,CASTNO,SAMPNO,BTLNBR,BTLNBR_FLAG_W,DATE,TIME,LATITUDE,LONGITUDE,DEPTH,CTDPRS,CTDTMP,CTDSAL,CTDSAL_FLAG_W,SALNTY,SALNTY_FLAG_W,CTDOXY,CTDOXY_FLAG_W,OXYGEN,OXYGEN_FLAG_W,SILCAT,SILCAT_FLAG_W,NITRAT,NITRAT_FLAG_W,NITRIT,NITRIT_FLAG_W,PHSPHT,PHSPHT_FLAG_W,NH4,NH4_FLAG_W,ALKALI,ALKALI_FLAG_W,PH_TOT,PH_TOT_FLAG_W,PH_TMP,POC,POC_FLAG_W,PON,PON_FLAG_W,CHLORA,CHLORA_FLAG_W,PPHYTN,PPHYTN_FLAG_W,THETA,BTL_TIME,BTL_LAT,BTL_LON
,,,,,,,,,,,METERS,DBAR,ITS-90,PSS-78,,PSS-78,,UMOL/KG,,UMOL/KG,,UMOL/KG,,UMOL/KG,,UMOL/KG,,UMOL/KG,,UMOL/KG,,UMOL/KG,,,,DEG C,UG/KG,,UG/KG,,UG/KG,,UG/KG,,DEG C,,,
  096U20160314,  Eddy,     5,  1,     24,   1224,2,20160331,   0,-50.3988, 147.8843, 4362,      4.9,   8.4650,  34.0820,2,  34.0622, 2,    288.1,2,    286.9,2,     2.19,2,    17.24,2,     0.29,2,     1.27,2, 0.395731241,2,   -999.0,9,-999.0000,9,  -999.00,  -999.00,9,  -999.00,9,  -999.00,9,  -999.00,9,   8.4645,      919, -50.3984, 147.8843
  096U20160314,  Eddy,     5,  1,     23,   1223,2,20160331,   0,-50.3988, 147.8843, 4362,     30.9,   8.4640,  34.0820,2,-999.0000, 9,    287.5,2,   -999.0,9,     2.33,2,    17.31,2,     0.29,2,     1.28,2,  0.46932097,2,   -999.0,9,-999.0000,9,  -999.00,  -999.00,9,  -999.00,9,  -999.00,9,  -999.00,9,   8.4608,      916, -50.3981, 147.8844
  096U20160314,  Eddy,     5,  1,     22,   1222,2,20160331,   0,-50.3988, 147.8843, 4362,     44.5,   8.4590,  34.0810,2,  34.0615, 2,    287.4,2,    308.9,2,     2.43,2,    17.32,2,     0.29,2,     1.28,2, 0.502539127,2,   -999.0,9,-999.0000,9,  -999.00,  -999.00,9,  -999.00,9,  -999.00,9,  -999.00,9,   8.4544,      915, -50.3979, 147.8844
  096U20160314,  Eddy,     5,  1,     21,   1221,2,20160331,   0,-50.3988, 147.8843, 4362,     44.6,   8.4180,  34.0770,2,-999.0000, 9,    287.6,2,   -999.0,9,     2.38,2,    17.38,2,     0.28,2,     1.28,2, 0.522321219,2,   -999.0,9,-999.0000,9,  -999.00,  -999.00,9,  -999.00,9,  -999.00,9,  -999.00,9,   8.4135,      914, -50.3977, 147.8843
  096U20160314,  Eddy,     5,  1,     20,   1220,2,20160331,   0,-50.3988, 147.8843, 4362,     62.1,   8.3900,  34.0740,2,-999.0000, 9,    287.3,2,   -999.0,9,     2.33,2,    17.48,2,     0.29,2,     1.28,2, 0.461237391,2,   -999.0,9,-999.0000,9,  -999.00,  -999.00,9,  -999.00,9,  -999.00,9,  -999.00,9,   8.3837,      913, -50.3974, 147.8842
  096U20160314,  Eddy,     5,  1,     19,   1219,2,20160331,   0,-50.3988, 147.8843, 4362,     82.0,   8.3850,  34.0730,2,  34.0531, 2,    287.1,2,    286.8,2,     2.43,2,    17.49,2,     0.28,2,     1.29,2, 0.408312261,2,   -999.0,9,-999.0000,9,  -999.00,  -999.00,9,  -999.00,9,  -999.00,9,  -999.00,9,   8.3766,      912, -50.3970, 147.8842
  096U20160314,  Eddy,     5,  1,     18,   1218,2,20160331,   0,-50.3988, 147.8843, 4362,    100.0,   8.1360,  34.0540,2,-999.0000, 9,    286.7,2,   -999.0,9,     2.81,2,    18.18,2,     0.31,2,     1.34,2, 0.471281487,2,   -999.0,9,-999.0000,9,  -999.00,  -999.00,9,  -999.00,9,  -999.00,9,  -999.00,9,   8.1260,      911, -50.3968, 147.8842
  096U20160314,  Eddy,     5,  1,     17,   1217,2,20160331,   0,-50.3988, 147.8843, 4362,    123.5,   7.5580,  34.2360,2,  34.2396, 2,    278.3,2,    276.7,2,     4.57,2,    18.65,2,     0.13,2,     1.34,2, 0.147094983,2,   -999.0,9,-999.0000,9,  -999.00,  -999.00,9,  -999.00,9,  -999.00,9,  -999.00,9,   7.5461,      909, -50.3964, 147.8842
  096U20160314,  Eddy,     5,  1,     16,   1216,2,20160331,   0,-50.3988, 147.8843, 4362,    151.8,   7.5570,  34.3030,2,-999.0000, 9,    275.3,2,   -999.0,9,     5.06,2,    18.34,2,     0.02,2,     1.31,2, 0.191858642,2,   -999.0,9,-999.0000,9,  -999.00,  -999.00,9,  -999.00,9,  -999.00,9,  -999.00,9,   7.5423,      907, -50.3959, 147.8841
  096U20160314,  Eddy,     5,  1,     15,   1215,2,20160331,   0,-50.3988, 147.8843, 4362,    173.6,   7.4890,  34.3040,2,  34.2801, 2,    274.5,2,    274.2,2,     5.42,2,    18.87,2,     0.01,2,     1.34,2, 0.228042419,2,   -999.0,9,-999.0000,9,  -999.00,  -999.00,9,  -999.00,9,  -999.00,9,  -999.00,9,   7.4723,      905, -50.3955, 147.8841
  096U20160314,  Eddy,     5,  1,     14,   1214,2,20160331,   0,-50.3988, 147.8843, 4362,    197.4,   7.1920,  34.2760,2,-999.0000, 9,    274.5,2,   -999.0,9,     5.81,2,    19.56,2,     0.01,2,     1.38,2, 0.226292867,2,   -999.0,9,-999.0000,9,  -999.00,  -999.00,9,  -999.00,9,  -999.00,9,  -999.00,9,   7.1734,      904, -50.3952, 147.8842
  096U20160314,  Eddy,     5,  1,     13,   1213,2,20160331,   0,-50.3988, 147.8843, 4362,    224.5,   7.1820,  34.3050,2,  34.2823, 2,    269.8,2,    269.8,2,     6.24,2,    19.85,2,     0.01,2,     1.40,2, 0.207777583,2,   -999.0,9,-999.0000,9,  -999.00,  -999.00,9,  -999.00,9,  -999.00,9,  -999.00,9,   7.1609,      903, -50.3949, 147.8841
  096U20160314,  Eddy,     5,  1,     12,   1212,2,20160331,   0,-50.3988, 147.8843, 4362,    250.2,   7.3630,  34.3650,2,-999.0000, 9,    260.1,2,   -999.0,9,     7.01,2,    19.95,2,     0.01,2,     1.40,2, 0.179537532,2,   -999.0,9,-999.0000,9,  -999.00,  -999.00,9,  -999.00,9,  -999.00,9,  -999.00,9,   7.3390,      901, -50.3946, 147.8840
  096U20160314,  Eddy,     5,  1,     11,   1211,2,20160331,   0,-50.3988, 147.8843, 4362,    297.0,   6.9040,  34.3060,2,  34.2859, 2,    265.3,2,    265.3,2,     6.94,2,    20.68,2,     0.00,2,     1.45,2,  0.29126686,2,   -999.0,9,-999.0000,9,  -999.00,  -999.00,9,  -999.00,9,  -999.00,9,  -999.00,9,   6.8765,      859, -50.3942, 147.8839
  096U20160314,  Eddy,     5,  1,     10,   1210,2,20160331,   0,-50.3988, 147.8843, 4362,    349.4,   6.5710,  34.2850,2,-999.0000, 9,    261.2,2,   -999.0,9,     8.25,2,    21.68,2,     0.00,2,     1.52,2, 0.380055355,2,   -999.0,9,-999.0000,9,  -999.00,  -999.00,9,  -999.00,9,  -999.00,9,  -999.00,9,   6.5394,      857, -50.3940, 147.8841
  096U20160314,  Eddy,     5,  1,      9,   1209,2,20160331,   0,-50.3988, 147.8843, 4362,    401.0,   6.3560,  34.2890,2,  34.2671, 2,    253.5,2,    253.8,2,     9.89,2,    22.73,2,     0.00,2,     1.59,2, 0.385256729,2,   -999.0,9,-999.0000,9,  -999.00,  -999.00,9,  -999.00,9,  -999.00,9,  -999.00,9,   6.3203,      855, -50.3937, 147.8840
  096U20160314,  Eddy,     5,  1,      8,   1208,2,20160331,   0,-50.3988, 147.8843, 4362,    500.9,   5.6970,  34.2610,2,-999.0000, 9,    247.1,2,   -999.0,9,    13.35,2,    24.83,2,     0.00,2,     1.72,2, 0.340485826,2,   -999.0,9,-999.0000,9,  -999.00,  -999.00,9,  -999.00,9,  -999.00,9,  -999.00,9,   5.6546,      852, -50.3932, 147.8839
  096U20160314,  Eddy,     5,  1,      7,   1207,2,20160331,   0,-50.3988, 147.8843, 4362,    600.8,   5.4590,  34.3050,2,  34.2821, 2,    228.4,2,    229.3,2,    17.77,2,    26.86,2,     0.00,2,     1.84,2, 0.276560582,2,   -999.0,9,-999.0000,9,  -999.00,  -999.00,9,  -999.00,9,  -999.00,9,  -999.00,9,   5.4088,      849, -50.3925, 147.8838
  096U20160314,  Eddy,     5,  1,      6,   1206,2,20160331,   0,-50.3988, 147.8843, 4362,    697.7,   4.8650,  34.2940,2,-999.0000, 9,    222.7,2,   -999.0,9,    22.05,2,    28.55,2,     0.00,2,     1.96,2, 0.203286414,2,   -999.0,9,-999.0000,9,  -999.00,  -999.00,9,  -999.00,9,  -999.00,9,  -999.00,9,   4.8094,      847, -50.3920, 147.8837
  096U20160314,  Eddy,     5,  1,      5,   1205,2,20160331,   0,-50.3988, 147.8843, 4362,    799.1,   4.2590,  34.2980,2,  34.2757, 2,    218.1,2,    219.0,2,    28.50,2,    30.12,2,     0.00,2,     2.08,2, 0.197789574,2,   -999.0,9,-999.0000,9,  -999.00,  -999.00,9,  -999.00,9,  -999.00,9,  -999.00,9,   4.1984,      844, -50.3916, 147.8838
  096U20160314,  Eddy,     5,  1,      4,   1204,2,20160331,   0,-50.3988, 147.8843, 4362,    899.7,   3.5070,  34.2800,2,-999.0000, 9,    217.0,2,   -999.0,9,    35.16,2,    31.60,2,     0.00,2,     2.19,2, 0.233602002,2,   -999.0,9,-999.0000,9,  -999.00,  -999.00,9,  -999.00,9,  -999.00,9,  -999.00,9,   3.4434,      841, -50.3913, 147.8838
  096U20160314,  Eddy,     5,  1,      3,   1203,2,20160331,   0,-50.3988, 147.8843, 4362,   1000.4,   3.3620,  34.3530,2,  34.3304, 2,    200.0,2,    200.9,2,    44.02,2,    32.70,2,     0.00,2,     2.27,2, 0.270956064,2,   -999.0,9,-999.0000,9,  -999.00,  -999.00,9,  -999.00,9,  -999.00,9,  -999.00,9,   3.2915,      838, -50.3907, 147.8837
  096U20160314,  Eddy,     5,  1,      2,   1202,2,20160331,   0,-50.3988, 147.8843, 4362,   1249.0,   2.8560,  34.4800,2,-999.0000, 9,    177.8,2,   -999.0,9,    61.11,2,    34.12,2,     0.00,2,     2.38,2, 0.282552962,2,   -999.0,9,-999.0000,9,  -999.00,  -999.00,9,  -999.00,9,  -999.00,9,  -999.00,9,   2.7702,      832, -50.3896, 147.8836
  096U20160314,  Eddy,     5,  1,      1,   1201,2,20160331,   0,-50.3988, 147.8843, 4362,   1501.3,   2.5860,  34.5850,2,  34.5617, 2,    171.5,2,    173.6,2,    70.50,2,    33.82,2,     0.00,2,     2.36,2, 0.206978288,3,   -999.0,9,-999.0000,9,  -999.00,  -999.00,9,  -999.00,9,  -999.00,9,  -999.00,9,   2.4828,      825, -50.3887, 147.8837
  096U20160314,  Eddy,     6,  1,     24,   1224,2,20160331,   0,-50.3959, 147.6136, 4362,      6.5,   7.8770,  33.9370,2,  33.9173, 2,    292.0,2,    291.7,2,     2.56,2,    19.78,2,     0.27,2,     1.43,2, 0.375559093,2,   -999.0,9,-999.0000,9,  -999.00,  -999.00,9,  -999.00,9,  -999.00,9,  -999.00,9,   7.8764,     1213, -50.3955, 147.6136
  096U20160314,  Eddy,     6,  1,     23,   1223,2,20160331,   0,-50.3959, 147.6136, 4362,     15.6,   7.8700,  33.9380,2,-999.0000, 9,    292.3,2,   -999.0,9,     2.70,2,    19.81,2,     0.28,2,     1.43,2, 0.434120439,2,   -999.0,9,-999.0000,9,  -999.00,  -999.00,9,  -999.00,9,  -999.00,9,  -999.00,9,   7.8685,     1211, -50.3951, 147.6137
  096U20160314,  Eddy,     6,  1,     22,   1222,2,20160331,   0,-50.3959, 147.6136, 4362,     31.8,   7.8770,  33.9390,2,  33.9187, 2,    292.6,2,    292.5,2,     2.71,2,    19.83,2,     0.28,2,     1.43,2, 0.376425471,2,   -999.0,9,-999.0000,9,  -999.00,  -999.00,9,  -999.00,9,  -999.00,9,  -999.00,9,   7.8739,     1209, -50.3948, 147.6138
  096U20160314,  Eddy,     6,  1,     21,   1221,2,20160331,   0,-50.3959, 147.6136, 4362,     44.0,   7.8830,  33.9430,2,-999.0000, 9,    292.3,2,   -999.0,9,     2.63,2,    19.71,2,     0.28,2,     1.43,2, 0.343004558,2,   -999.0,9,-999.0000,9,  -999.00,  -999.00,9,  -999.00,9,  -999.00,9,  -999.00,9,   7.8787,     1208, -50.3947, 147.6138
  096U20160314,  Eddy,     6,  1,     20,   1220,2,20160331,   0,-50.3959, 147.6136, 4362,     61.4,   7.8790,  33.9510,2,  33.9308, 2,    291.9,2,    290.9,2,     2.76,2,    19.56,2,     0.27,2,     1.42,2, 0.360555148,2,   -999.0,9,-999.0000,9,  -999.00,  -999.00,9,  -999.00,9,  -999.00,9,  -999.00,9,   7.8730,     1207, -50.3946, 147.6139
  096U20160314,  Eddy,     6,  1,     19,   1219,2,20160331,   0,-50.3959, 147.6136, 4362,     78.8,   7.7980,  33.9440,2,-999.0000, 9,    291.5,2,   -999.0,9,     2.82,2,    19.86,2,     0.28,2,     1.44,2, 0.475481736,2,   -999.0,9,-999.0000,9,  -999.00,  -999.00,9,  -999.00,9,  -999.00,9,  -999.00,9,   7.7903,     1206, -50.3944, 147.6140
  096U20160314,  Eddy,     6,  1,     18,   1218,2,20160331,   0,-50.3959, 147.6136, 4362,    101.0,   6.1410,  33.8870,2,  33.8668, 2,    298.3,2,    296.5,2,     3.69,2,    22.29,2,     0.35,2,     1.63,2, 0.948611031,2,   -999.0,9,-999.0000,9,  -999.00,  -999.00,9,  -999.00,9,  -999.00,9,  -999.00,9,   6.1325,     1205, -50.3943, 147.6140
  096U20160314,  Eddy,     6,  1,     17,   1217,2,20160331,   0,-50.3959, 147.6136, 4362,    122.6,   5.7290,  33.9570,2,-999.0000, 9,    296.0,2,   -999.0,9,     5.14,2,    22.47,2,     0.48,2,     1.64,2, 0.582383511,2,   -999.0,9,-999.0000,9,  -999.00,  -999.00,9,  -999.00,9,  -999.00,9,  -999.00,9,   5.7190,     1203, -50.3942, 147.6141
  096U20160314,  Eddy,     6,  1,     16,   1216,2,20160331,   0,-50.3959, 147.6136, 4362,    149.4,   5.9280,  34.0800,2,  34.0645, 2,    287.8,2,    286.0,2,     6.42,2,    22.08,2,     0.06,2,     1.56,2, 0.272440564,2,   -999.0,9,-999.0000,9,  -999.00,  -999.00,9,  -999.00,9,  -999.00,9,  -999.00,9,   5.9155,     1202, -50.3940, 147.6142
  096U20160314,  Eddy,     6,  1,     15,   1215,2,20160331,   0,-50.3959, 147.6136, 4362,    175.7,   6.0320,  34.1270,2,-999.0000, 9,    283.4,2,   -999.0,9,     7.07,2,    21.94,2,     0.01,2,     1.55,2, 0.302580895,2,   -999.0,9,-999.0000,9,  -999.00,  -999.00,9,  -999.00,9,  -999.00,9,  -999.00,9,   6.0171,     1159, -50.3936, 147.6141
  096U20160314,  Eddy,     6,  1,     14,   1214,2,20160331,   0,-50.3959, 147.6136, 4362,    200.5,   5.8340,  34.1440,2,  34.1056, 2,    278.5,2,    279.8,2,     8.24,2,    22.74,2,     0.01,2,     1.60,2, 0.343470322,2,   -999.0,9,-999.0000,9,  -999.00,  -999.00,9,  -999.00,9,  -999.00,9,  -999.00,9,   5.8173,     1158, -50.3934, 147.6140
  096U20160314,  Eddy,     6,  1,     13,   1213,2,20160331,   0,-50.3959, 147.6136, 4362,    224.3,   5.8350,  34.1640,2,-999.0000, 9,    276.0,2,   -999.0,9,     8.70,2,    22.66,2,     0.01,2,     1.59,2, 0.255051983,2,   -999.0,9,-999.0000,9,  -999.00,  -999.00,9,  -999.00,9,  -999.00,9,  -999.00,9,   5.8162,     1157, -50.3932, 147.6140
  096U20160314,  Eddy,     6,  1,     12,   1212,2,20160331,   0,-50.3959, 147.6136, 4362,    249.9,   5.8140,  34.1880,2,-999.0000, 9,    270.2,2,   -999.0,9,     9.72,2,    23.07,2,     0.01,2,     1.62,2, 0.291333778,2,   -999.0,9,-999.0000,9,  -999.00,  -999.00,9,  -999.00,9,  -999.00,9,  -999.00,9,   5.7931,     1155, -50.3930, 147.6140
  096U20160314,  Eddy,     6,  1,     11,   1211,2,20160331,   0,-50.3959, 147.6136, 4362,    300.5,   5.3960,  34.1600,2,  34.1400, 2,    271.1,2,    270.1,2,    10.38,2,    23.98,2,     0.01,2,     1.68,2, 0.265475093,2,   -999.0,9,-999.0000,9,  -999.00,  -999.00,9,  -999.00,9,  -999.00,9,  -999.00,9,   5.3717,     1154, -50.3928, 147.6140
  096U20160314,  Eddy,     6,  1,     10,   1210,2,20160331,   0,-50.3959, 147.6136, 4362,    351.6,   5.4790,  34.2270,2,-999.0000, 9,    253.9,2,   -999.0,9,    13.17,2,    24.97,2,     0.00,2,     1.74,2, 0.213433679,2,   -999.0,9,-999.0000,9,  -999.00,  -999.00,9,  -999.00,9,  -999.00,9,  -999.00,9,   5.4502,     1152, -50.3924, 147.6140
  096U20160314,  Eddy,     6,  1,      9,   1209,2,20160331,   0,-50.3959, 147.6136, 4362,    398.1,   5.6270,  34.2950,2,  34.2742, 2,    235.4,2,    235.6,2,    15.92,2,    26.05,2,     0.00,2,     1.81,2, 0.182865807,2,   -999.0,9,-999.0000,9,  -999.00,  -999.00,9,  -999.00,9,  -999.00,9,  -999.00,9,   5.5938,     1150, -50.3921, 147.6141
  096U20160314,  Eddy,     6,  1,      8,   1208,2,20160331,   0,-50.3959, 147.6136, 4362,    500.6,   5.0750,  34.2860,2,  34.2671, 2,    229.0,2,    229.0,2,    19.98,2,    27.81,2,     0.00,2,     1.93,2,  0.19709123,2,   -999.0,9,-999.0000,9,  -999.00,  -999.00,9,  -999.00,9,  -999.00,9,  -999.00,9,   5.0350,     1147, -50.3916, 147.6144
  096U20160314,  Eddy,     6,  1,      7,   1207,2,20160331,   0,-50.3959, 147.6136, 4362,    599.4,   4.4880,  34.2700,2,-999.0000, 9,    227.8,2,   -999.0,9,    24.11,2,    29.18,2,     0.00,2,     2.03,2, 0.278879346,2,   -999.0,9,-999.0000,9,  -999.00,  -999.00,9,  -999.00,9,  -999.00,9,  -999.00,9,   4.4424,     1145, -50.3911, 147.6145
  096U20160314,  Eddy,     6,  1,      6,   1206,2,20160331,   0,-50.3959, 147.6136, 4362,    700.9,   3.6270,  34.2230,2,  34.2011, 2,    232.7,2,    233.1,2,    29.05,2,    30.67,2,     0.00,2,     2.13,2, 0.415858772,2,   -999.0,9,-999.0000,9,  -999.00,  -999.00,9,  -999.00,9,  -999.00,9,  -999.00,9,   3.5780,     1141, -50.3908, 147.6148
  096U20160314,  Eddy,     6,  1,      5,   1205,2,20160331,   0,-50.3959, 147.6136, 4362,    799.2,   3.5930,  34.3150,2,-999.0000, 9,    209.9,2,   -999.0,9,    37.88,2,    32.05,2,     0.00,2,     2.23,2, 0.515336061,2,   -999.0,9,-999.0000,9,  -999.00,  -999.00,9,  -999.00,9,  -999.00,9,  -999.00,9,   3.5365,     1137, -50.3902, 147.6149
  096U20160314,  Eddy,     6,  1,      4,   1204,2,20160331,   0,-50.3959, 147.6136, 4362,    901.8,   3.2110,  34.3390,2,-999.0000, 9,    201.8,2,   -999.0,9,    44.62,2,    33.10,2,     0.00,2,     2.31,2, 0.393464359,2,   -999.0,9,-999.0000,9,  -999.00,  -999.00,9,  -999.00,9,  -999.00,9,  -999.00,9,   3.1492,     1134, -50.3898, 147.6152
  096U20160314,  Eddy,     6,  1,      3,   1203,2,20160331,   0,-50.3959, 147.6136, 4362,   1000.8,   3.0360,  34.4000,2,  34.3768, 2,    189.5,2,    190.9,2,    52.50,2,    34.01,2,     0.00,2,     2.37,2, 0.490591866,2,   -999.0,9,-999.0000,9,  -999.00,  -999.00,9,  -999.00,9,  -999.00,9,  -999.00,9,   2.9680,     1131, -50.3894, 147.6154
  096U20160314,  Eddy,     6,  1,      2,   1202,2,20160331,   0,-50.3959, 147.6136, 4362,   1247.2,   2.7510,  34.5210,2,-999.0000, 9,    174.7,2,   -999.0,9,    65.19,2,    34.33,2,     0.00,2,     2.40,2, 0.526186905,2,   -999.0,9,-999.0000,9,  -999.00,  -999.00,9,  -999.00,9,  -999.00,9,  -999.00,9,   2.6663,     1126, -50.3888, 147.6159
  096U20160314,  Eddy,     6,  1,      1,   1201,2,20160331,   0,-50.3959, 147.6136, 4362,   1499.4,   2.5860,  34.6210,2,  34.5989, 2,    171.5,2,    174.4,2,    72.54,2,    33.58,3,     0.00,2,     2.35,2, 0.276819064,3,   -999.0,9,-999.0000,9,  -999.00,  -999.00,9,  -999.00,9,  -999.00,9,  -999.00,9,   2.4829,     1120, -50.3883, 147.6164