BOTTLE,20180103PRINUNIVRMK
EXPOCODE,SECT_ID,STNNBR,CASTNO,SAMPNO,BTLNBR,BTLNBR_FLAG_W,DATE,TIME,LATITUDE,LONGITUDE,DEPTH,CTDPRS,CTDTMP,CTDSAL,CTDSAL_FLAG_W,SALNTY,SALNTY_FLAG_W,CTDOXY,CTDOXY_FLAG_W,OXYGEN,OXYGEN_FLAG_W,SILCAT,SILCAT_FLAG_W,NITRAT,NITRAT_FLAG_W,NITRIT,NITRIT_FLAG_W,PHSPHT,PHSPHT_FLAG_W,NH4,NH4_FLAG_W,ALKALI,ALKALI_FLAG_W,PH_TOT,PH_TOT_FLAG_W,PH_TMP,POC,POC_FLAG_W,PON,PON_FLAG_W,CHLORA,CHLORA_FLAG_W,PPHYTN,PPHYTN_FLAG_W,THETA,BTL_TIME,BTL_LAT,BTL_LON
,,,,,,,,,,,METERS,DBAR,ITS-90,PSS-78,,PSS-78,,UMOL/KG,,UMOL/KG,,UMOL/KG,,UMOL/KG,,UMOL/KG,,UMOL/KG,,UMOL/KG,,UMOL/KG,,,,DEG C,UG/KG,,UG/KG,,UG/KG,,UG/KG,,DEG C,,,
  096U20160314,  Eddy,    37,  1,     24,   1224,2,20160410,   0,-51.6673, 148.1360, 4168,      8.3,   9.5960,  34.3840,2,-999.0000, 9,    275.9,2,   -999.0,9,     1.91,2,    12.89,2,     0.27,2,     1.05,2, 0.317395683,2,   -999.0,9,-999.0000,9,  -999.00,  -999.00,9,  -999.00,9,  -999.00,9,  -999.00,9,   9.5951,      521, -51.6671, 148.1358
  096U20160314,  Eddy,    37,  1,     23,   1223,2,20160410,   0,-51.6673, 148.1360, 4168,     20.4,   9.5970,  34.3840,2,  34.3629, 2,    276.7,2,    273.8,2,     1.90,2,    12.89,2,     0.27,2,     1.05,2, 0.303102222,2,   -999.0,9,-999.0000,9,  -999.00,  -999.00,9,  -999.00,9,  -999.00,9,  -999.00,9,   9.5947,      520, -51.6670, 148.1359
  096U20160314,  Eddy,    37,  1,     22,   1222,2,20160410,   0,-51.6673, 148.1360, 4168,     29.3,   9.5870,  34.3820,2,-999.0000, 9,    276.4,2,   -999.0,9,     1.95,2,    12.91,2,     0.27,2,     1.05,2, 0.300945555,2,   -999.0,9,-999.0000,9,  -999.00,  -999.00,9,  -999.00,9,  -999.00,9,  -999.00,9,   9.5837,      519, -51.6668, 148.1360
  096U20160314,  Eddy,    37,  1,     21,   1221,2,20160410,   0,-51.6673, 148.1360, 4168,     44.8,   9.6070,  34.3860,2,  34.3643, 2,    276.4,2,    273.6,2,     1.89,2,    12.86,2,     0.27,2,     1.05,2, 0.305972303,2,   -999.0,9,-999.0000,9,  -999.00,  -999.00,9,  -999.00,9,  -999.00,9,  -999.00,9,   9.6020,      518, -51.6666, 148.1360
  096U20160314,  Eddy,    37,  1,     20,   1220,2,20160410,   0,-51.6673, 148.1360, 4168,     59.0,   9.6120,  34.3870,2,-999.0000, 9,    275.8,2,   -999.0,9,     1.90,2,    12.85,2,     0.27,2,     1.05,2, 0.311221227,2,   -999.0,9,-999.0000,9,  -999.00,  -999.00,9,  -999.00,9,  -999.00,9,  -999.00,9,   9.6054,      517, -51.6666, 148.1362
  096U20160314,  Eddy,    37,  1,     19,   1219,2,20160410,   0,-51.6673, 148.1360, 4168,     79.5,   9.6270,  34.3900,2,  34.3686, 2,    275.7,2,    273.5,2,     1.92,2,    12.83,2,     0.27,2,     1.05,2, 0.304774502,2,   -999.0,9,-999.0000,9,  -999.00,  -999.00,9,  -999.00,9,  -999.00,9,  -999.00,9,   9.6181,      516, -51.6666, 148.1363
  096U20160314,  Eddy,    37,  1,     18,   1218,2,20160410,   0,-51.6673, 148.1360, 4168,    100.4,   9.6200,  34.3880,2,-999.0000, 9,    275.7,2,   -999.0,9,     1.92,2,    12.84,2,     0.27,2,     1.04,2, 0.297036799,2,   -999.0,9,-999.0000,9,  -999.00,  -999.00,9,  -999.00,9,  -999.00,9,  -999.00,9,   9.6088,      514, -51.6667, 148.1365
  096U20160314,  Eddy,    37,  1,     17,   1217,2,20160410,   0,-51.6673, 148.1360, 4168,    124.8,   9.6320,  34.3980,2,  34.3829, 2,    274.8,2,    272.8,2,     2.03,2,    12.98,2,     0.25,2,     1.06,2, 0.275091363,2,   -999.0,9,-999.0000,9,  -999.00,  -999.00,9,  -999.00,9,  -999.00,9,  -999.00,9,   9.6180,      513, -51.6668, 148.1366
  096U20160314,  Eddy,    37,  1,     16,   1216,2,20160410,   0,-51.6673, 148.1360, 4168,    149.4,   9.0420,  34.5530,2,-999.0000, 9,    267.3,2,   -999.0,9,     4.19,2,    15.32,2,     0.02,2,     1.16,2, 0.014496105,2,   -999.0,9,-999.0000,9,  -999.00,  -999.00,9,  -999.00,9,  -999.00,9,  -999.00,9,   9.0259,      512, -51.6667, 148.1366
  096U20160314,  Eddy,    37,  1,     15,   1215,2,20160410,   0,-51.6673, 148.1360, 4168,    175.8,   9.1030,  34.5920,2,  34.5710, 2,    266.2,2,    264.2,2,     4.28,2,    15.09,2,     0.02,2,     1.14,2, 0.016359442,2,   -999.0,9,-999.0000,9,  -999.00,  -999.00,9,  -999.00,9,  -999.00,9,  -999.00,9,   9.0839,      510, -51.6666, 148.1366
  096U20160314,  Eddy,    37,  1,     14,   1214,2,20160410,   0,-51.6673, 148.1360, 4168,    198.6,   9.0830,  34.6070,2,-999.0000, 9,    264.4,2,   -999.0,9,     4.45,2,    15.21,2,     0.01,2,     1.15,2, 0.024247431,2,   -999.0,9,-999.0000,9,  -999.00,  -999.00,9,  -999.00,9,  -999.00,9,  -999.00,9,   9.0614,      509, -51.6666, 148.1368
  096U20160314,  Eddy,    37,  1,     13,   1213,2,20160410,   0,-51.6673, 148.1360, 4168,    225.8,   9.0960,  34.6260,2,  34.6041, 2,    262.6,2,    261.3,2,     4.53,2,    15.35,2,     0.01,2,     1.16,2, 0.021535981,2,   -999.0,9,-999.0000,9,  -999.00,  -999.00,9,  -999.00,9,  -999.00,9,  -999.00,9,   9.0714,      508, -51.6666, 148.1370
  096U20160314,  Eddy,    37,  1,     12,   1212,2,20160410,   0,-51.6673, 148.1360, 4168,    248.8,   8.9280,  34.6030,2,-999.0000, 9,    262.3,2,   -999.0,9,     4.71,2,    15.89,2,     0.01,2,     1.19,2, 0.085107996,2,   -999.0,9,-999.0000,9,  -999.00,  -999.00,9,  -999.00,9,  -999.00,9,  -999.00,9,   8.9012,      506, -51.6664, 148.1371
  096U20160314,  Eddy,    37,  1,     11,   1211,2,20160410,   0,-51.6673, 148.1360, 4168,    300.3,   8.8960,  34.6190,2,  34.5970, 2,    261.0,2,    259.7,2,     4.75,2,    15.85,2,     0.01,2,     1.19,2, 0.082312905,2,   -999.0,9,-999.0000,9,  -999.00,  -999.00,9,  -999.00,9,  -999.00,9,  -999.00,9,   8.8636,      505, -51.6664, 148.1372
  096U20160314,  Eddy,    37,  1,     10,   1210,2,20160410,   0,-51.6673, 148.1360, 4168,    350.1,   8.7920,  34.6110,2,-999.0000, 9,    262.1,2,   -999.0,9,     4.95,2,    16.17,2,     0.01,2,     1.21,2, 0.071507575,2,   -999.0,9,-999.0000,9,  -999.00,  -999.00,9,  -999.00,9,  -999.00,9,  -999.00,9,   8.7544,      503, -51.6665, 148.1372
  096U20160314,  Eddy,    37,  1,      9,   1209,2,20160410,   0,-51.6673, 148.1360, 4168,    399.9,   8.5560,  34.5790,2,  34.5570, 2,    263.4,2,    262.1,2,     5.21,2,    16.81,2,     0.01,2,     1.25,2, 0.077675164,2,   -999.0,9,-999.0000,9,  -999.00,  -999.00,9,  -999.00,9,  -999.00,9,  -999.00,9,   8.5136,      501, -51.6666, 148.1374
  096U20160314,  Eddy,    37,  1,      8,   1208,2,20160410,   0,-51.6673, 148.1360, 4168,    500.0,   8.0000,  34.4930,2,-999.0000, 9,    265.4,2,   -999.0,9,     5.77,2,    18.07,2,     0.00,2,     1.33,2, 0.080738249,2,   -999.0,9,-999.0000,9,  -999.00,  -999.00,9,  -999.00,9,  -999.00,9,  -999.00,9,   7.9488,      459, -51.6666, 148.1376
  096U20160314,  Eddy,    37,  1,      7,   1207,2,20160410,   0,-51.6673, 148.1360, 4168,    600.8,   7.3370,  34.4130,2,  34.3916, 2,    251.4,2,    251.0,2,     8.14,2,    20.98,2,     0.00,2,     1.51,2,   0.0772552,2,   -999.0,9,-999.0000,9,  -999.00,  -999.00,9,  -999.00,9,  -999.00,9,  -999.00,9,   7.2781,      456, -51.6665, 148.1379
  096U20160314,  Eddy,    37,  1,      6,   1206,2,20160410,   0,-51.6673, 148.1360, 4168,    700.2,   6.9000,  34.4280,2,-999.0000, 9,    221.4,2,   -999.0,9,    13.31,2,    24.38,2,     0.00,2,     1.72,2, 0.070311543,2,   -999.0,9,-999.0000,9,  -999.00,  -999.00,9,  -999.00,9,  -999.00,9,  -999.00,9,   6.8332,      453, -51.6663, 148.1382
  096U20160314,  Eddy,    37,  1,      5,   1205,2,20160410,   0,-51.6673, 148.1360, 4168,    800.5,   6.0350,  34.3740,2,  34.3492, 2,    218.1,2,    218.6,2,    17.35,2,    26.68,2,     0.00,2,     1.87,2, 0.062791108,2,   -999.0,9,-999.0000,9,  -999.00,  -999.00,9,  -999.00,9,  -999.00,9,  -999.00,9,   5.9634,      451, -51.6662, 148.1387
  096U20160314,  Eddy,    37,  1,      4,   1204,2,20160410,   0,-51.6673, 148.1360, 4168,    898.3,   5.3450,  34.3620,2,-999.0000, 9,    210.3,2,   -999.0,9,    23.46,2,    28.89,2,     0.00,2,     2.03,2, 0.058182908,2,   -999.0,9,-999.0000,9,  -999.00,  -999.00,9,  -999.00,9,  -999.00,9,  -999.00,9,   5.2687,      448, -51.6659, 148.1390
  096U20160314,  Eddy,    37,  1,      3,   1203,2,20160410,   0,-51.6673, 148.1360, 4168,   1001.3,   4.6810,  34.3470,2,  34.3246, 2,    208.7,2,    208.9,2,    29.01,2,    30.38,2,     0.00,2,     2.13,2, 0.059655215,2,   -999.0,9,-999.0000,9,  -999.00,  -999.00,9,  -999.00,9,  -999.00,9,  -999.00,9,   4.6003,      445, -51.6657, 148.1391
  096U20160314,  Eddy,    37,  1,      2,   1202,2,20160410,   0,-51.6673, 148.1360, 4168,   1248.7,   3.6110,  34.4110,2,-999.0000, 9,    188.7,2,   -999.0,9,    48.06,2,    33.28,2,     0.00,2,     2.34,2, 0.047669282,2,   -999.0,9,-999.0000,9,  -999.00,  -999.00,9,  -999.00,9,  -999.00,9,  -999.00,9,   3.5181,      440, -51.6654, 148.1394
  096U20160314,  Eddy,    37,  1,      1,   1201,2,20160410,   0,-51.6673, 148.1360, 4168,   1498.7,   2.8980,  34.5130,2,  34.5503, 4,    174.0,2,    175.8,2,    63.72,2,    34.60,2,     0.00,2,     2.44,2, 0.060858784,2,   -999.0,9,-999.0000,9,  -999.00,  -999.00,9,  -999.00,9,  -999.00,9,  -999.00,9,   2.7916,      434, -51.6654, 148.1381
  096U20160314,  Eddy,    38,  1,     24,   1224,2,20160410,   0,-51.5539, 147.9509, 4019,     15.0,   9.5400,  34.3960,2,-999.0000, 9,    276.1,2,   -999.0,9,     1.86,2,    12.96,2,     0.27,2,     1.09,2,  0.58579422,2,   -999.0,9,-999.0000,9,  -999.00,  -999.00,9,  -999.00,9,  -999.00,9,  -999.00,9,   9.5383,      842, -51.5538, 147.9506
  096U20160314,  Eddy,    38,  1,     23,   1223,2,20160410,   0,-51.5539, 147.9509, 4019,     19.2,   9.5400,  34.3960,2,  34.3754, 2,    275.9,2,    273.6,2,     1.89,2,    12.95,2,     0.27,2,     1.09,2, 0.538049415,2,   -999.0,9,-999.0000,9,  -999.00,  -999.00,9,  -999.00,9,  -999.00,9,  -999.00,9,   9.5379,      841, -51.5536, 147.9505
  096U20160314,  Eddy,    38,  1,     22,   1222,2,20160410,   0,-51.5539, 147.9509, 4019,     30.5,   9.5490,  34.3950,2,-999.0000, 9,    276.4,2,   -999.0,9,     1.93,2,    12.96,2,     0.27,2,     1.09,2, 0.546693648,2,   -999.0,9,-999.0000,9,  -999.00,  -999.00,9,  -999.00,9,  -999.00,9,  -999.00,9,   9.5456,      840, -51.5534, 147.9502
  096U20160314,  Eddy,    38,  1,     21,   1221,2,20160410,   0,-51.5539, 147.9509, 4019,     42.9,   9.5520,  34.3950,2,  34.3736, 2,    276.3,2, -19162.8,4,     1.90,2,    12.97,2,     0.27,2,     1.09,2, 0.568125254,2,   -999.0,9,-999.0000,9,  -999.00,  -999.00,9,  -999.00,9,  -999.00,9,  -999.00,9,   9.5472,      838, -51.5533, 147.9501
  096U20160314,  Eddy,    38,  1,     20,   1220,2,20160410,   0,-51.5539, 147.9509, 4019,     59.4,   9.5550,  34.3950,2,-999.0000, 9,    276.4,2,   -999.0,9,     1.87,2,    12.96,2,     0.27,2,     1.09,2, 0.589941253,2,   -999.0,9,-999.0000,9,  -999.00,  -999.00,9,  -999.00,9,  -999.00,9,  -999.00,9,   9.5484,      836, -51.5531, 147.9500
  096U20160314,  Eddy,    38,  1,     19,   1219,2,20160410,   0,-51.5539, 147.9509, 4019,     80.5,   9.5560,  34.3950,2,  34.3730, 2,    275.8,2,    273.9,2,     1.93,2,    12.97,2,     0.27,2,     1.09,2, 0.609040775,2,   -999.0,9,-999.0000,9,  -999.00,  -999.00,9,  -999.00,9,  -999.00,9,  -999.00,9,   9.5471,      834, -51.5530, 147.9497
  096U20160314,  Eddy,    38,  1,     18,   1218,2,20160410,   0,-51.5539, 147.9509, 4019,     99.7,   9.5580,  34.3950,2,-999.0000, 9,    275.8,2,   -999.0,9,     1.97,2,    12.96,2,     0.27,2,     1.09,2, 0.652143543,2,   -999.0,9,-999.0000,9,  -999.00,  -999.00,9,  -999.00,9,  -999.00,9,  -999.00,9,   9.5469,      832, -51.5528, 147.9491
  096U20160314,  Eddy,    38,  1,     17,   1217,2,20160410,   0,-51.5539, 147.9509, 4019,    125.1,   9.5560,  34.3970,2,  34.3750, 2,    275.5,2,    273.8,2,     1.95,2,    13.02,2,     0.27,2,     1.10,2,  0.63495061,2,   -999.0,9,-999.0000,9,  -999.00,  -999.00,9,  -999.00,9,  -999.00,9,  -999.00,9,   9.5421,      831, -51.5526, 147.9488
  096U20160314,  Eddy,    38,  1,     16,   1216,2,20160410,   0,-51.5539, 147.9509, 4019,    152.3,   9.0890,  34.5660,2,-999.0000, 9,    264.0,2,   -999.0,9,     4.18,2,    15.64,2,     0.02,2,     1.22,2, 0.280571238,2,   -999.0,9,-999.0000,9,  -999.00,  -999.00,9,  -999.00,9,  -999.00,9,  -999.00,9,   9.0725,      829, -51.5525, 147.9487
  096U20160314,  Eddy,    38,  1,     15,   1215,2,20160410,   0,-51.5539, 147.9509, 4019,    174.9,   9.1030,  34.6010,2,  34.5831, 2,    262.6,2,    261.0,2,     4.45,2,    15.45,2,     0.01,2,     1.20,2, 0.347184062,2,   -999.0,9,-999.0000,9,  -999.00,  -999.00,9,  -999.00,9,  -999.00,9,  -999.00,9,   9.0840,      827, -51.5523, 147.9484
  096U20160314,  Eddy,    38,  1,     14,   1214,2,20160410,   0,-51.5539, 147.9509, 4019,    198.7,   9.0480,  34.6060,2,-999.0000, 9,    262.1,2,   -999.0,9,     4.64,2,    15.68,2,     0.01,2,     1.21,2, 0.262011254,2,   -999.0,9,-999.0000,9,  -999.00,  -999.00,9,  -999.00,9,  -999.00,9,  -999.00,9,   9.0264,      826, -51.5521, 147.9481
  096U20160314,  Eddy,    38,  1,     13,   1213,2,20160410,   0,-51.5539, 147.9509, 4019,    225.5,   8.9670,  34.6050,2,  34.5851, 2,    261.7,2,    260.0,2,     4.75,2,    15.85,2,     0.01,2,     1.23,2, 0.260904712,2,   -999.0,9,-999.0000,9,  -999.00,  -999.00,9,  -999.00,9,  -999.00,9,  -999.00,9,   8.9426,      824, -51.5519, 147.9478
  096U20160314,  Eddy,    38,  1,     12,   1212,2,20160410,   0,-51.5539, 147.9509, 4019,    250.9,   8.9260,  34.6110,2,-999.0000, 9,    261.9,2,   -999.0,9,     4.86,2,    15.90,2,     0.01,2,     1.23,2, 0.300263327,2,   -999.0,9,-999.0000,9,  -999.00,  -999.00,9,  -999.00,9,  -999.00,9,  -999.00,9,   8.8989,      823, -51.5517, 147.9478
  096U20160314,  Eddy,    38,  1,     11,   1211,2,20160410,   0,-51.5539, 147.9509, 4019,    298.8,   8.8630,  34.6170,2,  34.5967, 2,    264.5,2,    263.9,2,     4.67,2,    15.79,2,     0.01,2,     1.23,2, 0.322428434,2,   -999.0,9,-999.0000,9,  -999.00,  -999.00,9,  -999.00,9,  -999.00,9,  -999.00,9,   8.8308,      821, -51.5516, 147.9474
  096U20160314,  Eddy,    38,  1,     10,   1210,2,20160410,   0,-51.5539, 147.9509, 4019,    350.1,   8.7730,  34.6090,2,-999.0000, 9,    267.0,2,   -999.0,9,     4.75,2,    15.86,2,     0.01,2,     1.23,2, 0.319850509,2,   -999.0,9,-999.0000,9,  -999.00,  -999.00,9,  -999.00,9,  -999.00,9,  -999.00,9,   8.7354,      819, -51.5513, 147.9473
  096U20160314,  Eddy,    38,  1,      9,   1209,2,20160410,   0,-51.5539, 147.9509, 4019,    401.4,   8.6600,  34.5960,2,  34.5763, 2,    267.9,2,    267.0,2,     4.93,2,    16.14,2,     0.01,2,     1.25,2, 0.286886504,2,   -999.0,9,-999.0000,9,  -999.00,  -999.00,9,  -999.00,9,  -999.00,9,  -999.00,9,   8.6171,      817, -51.5512, 147.9471
  096U20160314,  Eddy,    38,  1,      8,   1208,2,20160410,   0,-51.5539, 147.9509, 4019,    500.1,   8.2280,  34.5330,2,  34.5132, 2,    266.3,2,    265.1,2,     5.44,2,    17.36,2,     0.00,2,     1.33,2, 0.356800474,2,   -999.0,9,-999.0000,9,  -999.00,  -999.00,9,  -999.00,9,  -999.00,9,  -999.00,9,   8.1759,      814, -51.5508, 147.9474
  096U20160314,  Eddy,    38,  1,      7,   1207,2,20160410,   0,-51.5539, 147.9509, 4019,    603.2,   7.5030,  34.4350,2,-999.0000, 9,    254.7,2,   -999.0,9,  -999.00,9,  -999.00,9,  -999.00,9,  -999.00,9,        -999,9,   -999.0,9,-999.0000,9,  -999.00,  -999.00,9,  -999.00,9,  -999.00,9,  -999.00,9,   7.4431,      811, -51.5506, 147.9472
  096U20160314,  Eddy,    38,  1,      6,   1206,2,20160410,   0,-51.5539, 147.9509, 4019,    698.6,   6.9270,  34.4220,2,-999.0000, 9,    224.9,2,   -999.0,9,    12.70,2,    24.01,2,     0.00,2,     1.75,2, 0.499592263,2,   -999.0,9,-999.0000,9,  -999.00,  -999.00,9,  -999.00,9,  -999.00,9,  -999.00,9,   6.8602,      808, -51.5504, 147.9469
  096U20160314,  Eddy,    38,  1,      5,   1205,2,20160410,   0,-51.5539, 147.9509, 4019,    797.2,   6.1440,  34.3870,2,  34.3680, 2,    216.0,2,    215.3,2,    17.39,2,    26.62,2,     0.00,2,     1.93,2, 0.486286064,2,   -999.0,9,-999.0000,9,  -999.00,  -999.00,9,  -999.00,9,  -999.00,9,  -999.00,9,   6.0720,      803, -51.5499, 147.9450
  096U20160314,  Eddy,    38,  1,      4,   1204,2,20160410,   0,-51.5539, 147.9509, 4019,    904.8,   5.1950,  34.3430,2,-999.0000, 9,    214.2,2,   -999.0,9,    17.44,3,    26.64,3,     0.00,2,     1.93,3, 0.519086914,2,   -999.0,9,-999.0000,9,  -999.00,  -999.00,9,  -999.00,9,  -999.00,9,  -999.00,9,   5.1191,      800, -51.5493, 147.9439
  096U20160314,  Eddy,    38,  1,      3,   1203,2,20160410,   0,-51.5539, 147.9509, 4019,    974.8,   4.6290,  34.3280,2,  34.3063, 2,    213.1,2,    213.8,2,    27.52,2,    30.16,2,     0.00,2,     2.17,2, 0.432615463,2,   -999.0,9,-999.0000,9,  -999.00,  -999.00,9,  -999.00,9,  -999.00,9,  -999.00,9,   4.5510,      755, -51.5491, 147.9438
  096U20160314,  Eddy,    38,  1,      2,   1202,2,20160410,   0,-51.5539, 147.9509, 4019,   1252.4,   3.5070,  34.4070,2,-999.0000, 9,    189.4,2,   -999.0,9,    48.31,2,    33.41,2,     0.00,2,     2.40,2, 0.427098054,2,   -999.0,9,-999.0000,9,  -999.00,  -999.00,9,  -999.00,9,  -999.00,9,  -999.00,9,   3.4148,      749, -51.5468, 147.9435
  096U20160314,  Eddy,    38,  1,      1,   1201,2,20160410,   0,-51.5539, 147.9509, 4019,   1500.3,   2.8800,  34.5170,2,  34.4948, 2,    174.0,2,    175.8,2,    64.17,2,    34.56,3,     0.00,2,     2.49,2, 0.365373417,3,   -999.0,9,-999.0000,9,  -999.00,  -999.00,9,  -999.00,9,  -999.00,9,  -999.00,9,   2.7737,      742, -51.5466, 147.9436