BOTTLE,20180103PRINUNIVRMK
EXPOCODE,SECT_ID,STNNBR,CASTNO,SAMPNO,BTLNBR,BTLNBR_FLAG_W,DATE,TIME,LATITUDE,LONGITUDE,DEPTH,CTDPRS,CTDTMP,CTDSAL,CTDSAL_FLAG_W,SALNTY,SALNTY_FLAG_W,CTDOXY,CTDOXY_FLAG_W,OXYGEN,OXYGEN_FLAG_W,SILCAT,SILCAT_FLAG_W,NITRAT,NITRAT_FLAG_W,NITRIT,NITRIT_FLAG_W,PHSPHT,PHSPHT_FLAG_W,NH4,NH4_FLAG_W,ALKALI,ALKALI_FLAG_W,PH_TOT,PH_TOT_FLAG_W,PH_TMP,POC,POC_FLAG_W,PON,PON_FLAG_W,CHLORA,CHLORA_FLAG_W,PPHYTN,PPHYTN_FLAG_W,THETA,BTL_TIME,BTL_LAT,BTL_LON
,,,,,,,,,,,METERS,DBAR,ITS-90,PSS-78,,PSS-78,,UMOL/KG,,UMOL/KG,,UMOL/KG,,UMOL/KG,,UMOL/KG,,UMOL/KG,,UMOL/KG,,UMOL/KG,,,,DEG C,UG/KG,,UG/KG,,UG/KG,,UG/KG,,DEG C,,,
  096U20160314,  Eddy,    15,  1,     24,   1224,2,20160402,   0,-50.3890, 147.0707, 4421,      6.8,   7.2480,  33.8160,2,-999.0000, 9,    296.5,2,   -999.0,9,     2.73,2,    21.90,2,     0.27,2,     1.54,2, 0.270035999,2,   -999.0,9,-999.0000,9,  -999.00,  -999.00,9,  -999.00,9,  -999.00,9,  -999.00,9,   7.2474,       54, -50.3889, 147.0709
  096U20160314,  Eddy,    15,  1,     23,   1223,2,20160402,   0,-50.3890, 147.0707, 4421,     14.2,   7.2490,  33.8160,2,  33.7936, 2,    296.2,2,   -999.0,9,     2.85,2,    21.94,2,     0.27,2,     1.54,2, 0.288068756,2,   -999.0,9,-999.0000,9,  -999.00,  -999.00,9,  -999.00,9,  -999.00,9,  -999.00,9,   7.2477,       52, -50.3888, 147.0711
  096U20160314,  Eddy,    15,  1,     22,   1222,2,20160402,   0,-50.3890, 147.0707, 4421,     29.5,   7.2500,  33.8160,2,-999.0000, 9,    296.5,2,   -999.0,9,     2.85,2,    21.96,2,     0.27,2,     1.54,2, 0.273222724,2,   -999.0,9,-999.0000,9,  -999.00,  -999.00,9,  -999.00,9,  -999.00,9,  -999.00,9,   7.2473,       50, -50.3888, 147.0711
  096U20160314,  Eddy,    15,  1,     21,   1221,2,20160402,   0,-50.3890, 147.0707, 4421,     46.8,   7.2520,  33.8170,2,  33.7954, 2,    296.3,2,   -999.0,9,     2.86,2,    21.97,2,     0.27,2,     1.54,2, 0.269993345,2,   -999.0,9,-999.0000,9,  -999.00,  -999.00,9,  -999.00,9,  -999.00,9,  -999.00,9,   7.2477,       49, -50.3888, 147.0712
  096U20160314,  Eddy,    15,  1,     20,   1220,2,20160402,   0,-50.3890, 147.0707, 4421,     60.8,   7.2510,  33.8190,2,-999.0000, 9,    296.2,2,   -999.0,9,     2.89,2,    21.96,2,     0.27,2,     1.54,2,  0.26883916,2,   -999.0,9,-999.0000,9,  -999.00,  -999.00,9,  -999.00,9,  -999.00,9,  -999.00,9,   7.2454,       48, -50.3887, 147.0714
  096U20160314,  Eddy,    15,  1,     19,   1219,2,20160402,   0,-50.3890, 147.0707, 4421,     79.5,   7.1270,  33.8270,2,  33.8054, 2,    297.3,2,   -999.0,9,     2.99,2,    22.05,2,     0.27,2,     1.55,2, 0.315963725,2,   -999.0,9,-999.0000,9,  -999.00,  -999.00,9,  -999.00,9,  -999.00,9,  -999.00,9,   7.1197,       47, -50.3886, 147.0715
  096U20160314,  Eddy,    15,  1,     18,   1218,2,20160402,   0,-50.3890, 147.0707, 4421,     99.6,   6.0490,  33.8550,2,-999.0000, 9,    300.1,2,   -999.0,9,     3.22,2,    22.60,2,     0.31,2,     1.62,2, 0.687058225,2,   -999.0,9,-999.0000,9,  -999.00,  -999.00,9,  -999.00,9,  -999.00,9,  -999.00,9,   6.0406,       45, -50.3886, 147.0717
  096U20160314,  Eddy,    15,  1,     17,   1217,2,20160402,   0,-50.3890, 147.0707, 4421,    126.9,   5.2370,  33.9130,2,  33.8868, 2,    301.8,2,   -999.0,9,     5.09,2,    23.17,2,     0.48,2,     1.67,2, 0.505753022,2,   -999.0,9,-999.0000,9,  -999.00,  -999.00,9,  -999.00,9,  -999.00,9,  -999.00,9,   5.2271,       44, -50.3885, 147.0719
  096U20160314,  Eddy,    15,  1,     16,   1216,2,20160402,   0,-50.3890, 147.0707, 4421,    151.7,   4.5130,  33.9520,2,-999.0000, 9,    301.7,2,   -999.0,9,     8.25,2,    24.42,2,     0.25,2,     1.70,2, 0.011994094,2,   -999.0,9,-999.0000,9,  -999.00,  -999.00,9,  -999.00,9,  -999.00,9,  -999.00,9,   4.5020,       42, -50.3884, 147.0721
  096U20160314,  Eddy,    15,  1,     15,   1215,2,20160402,   0,-50.3890, 147.0707, 4421,    174.3,   4.1070,  33.9430,2,  33.8864, 3,    304.4,2,   -999.0,9,     9.29,2,    25.18,2,     0.06,2,     1.74,2, 0.019307304,2,   -999.0,9,-999.0000,9,  -999.00,  -999.00,9,  -999.00,9,  -999.00,9,  -999.00,9,   4.0949,       40, -50.3883, 147.0723
  096U20160314,  Eddy,    15,  1,     14,   1214,2,20160402,   0,-50.3890, 147.0707, 4421,    203.0,   3.9820,  33.9510,2,-999.0000, 9,    303.6,2,   -999.0,9,    10.00,2,    25.45,2,     0.01,2,     1.75,2, 0.020072392,2,   -999.0,9,-999.0000,9,  -999.00,  -999.00,9,  -999.00,9,  -999.00,9,  -999.00,9,   3.9681,       37, -50.3882, 147.0725
  096U20160314,  Eddy,    15,  1,     13,   1213,2,20160402,   0,-50.3890, 147.0707, 4421,    223.9,   3.8990,  33.9640,2,  33.9413, 2,    301.0,2,   -999.0,9,    10.89,2,    25.66,2,     0.01,2,     1.76,2, 0.020347957,2,   -999.0,9,-999.0000,9,  -999.00,  -999.00,9,  -999.00,9,  -999.00,9,  -999.00,9,   3.8838,       36, -50.3882, 147.0726
  096U20160314,  Eddy,    15,  1,     12,   1212,2,20160402,   0,-50.3890, 147.0707, 4421,    249.9,   3.9340,  33.9920,2,-999.0000, 9,    296.2,2,   -999.0,9,    12.05,2,    25.77,2,     0.01,2,     1.77,2, 0.041433655,2,   -999.0,9,-999.0000,9,  -999.00,  -999.00,9,  -999.00,9,  -999.00,9,  -999.00,9,   3.9169,       34, -50.3881, 147.0727
  096U20160314,  Eddy,    15,  1,     11,   1211,2,20160402,   0,-50.3890, 147.0707, 4421,    301.1,   3.9790,  34.0440,2,  34.0206, 2,    285.4,2,   -999.0,9,    13.67,2,    26.12,2,     0.01,2,     1.80,2, 0.070228884,2,   -999.0,9,-999.0000,9,  -999.00,  -999.00,9,  -999.00,9,  -999.00,9,  -999.00,9,   3.9581,       32, -50.3880, 147.0729
  096U20160314,  Eddy,    15,  1,     10,   1210,2,20160402,   0,-50.3890, 147.0707, 4421,    352.4,   4.0320,  34.0950,2,-999.0000, 9,    272.6,2,   -999.0,9,    15.81,2,    26.91,2,     0.01,2,     1.84,2, 0.059254379,2,   -999.0,9,-999.0000,9,  -999.00,  -999.00,9,  -999.00,9,  -999.00,9,  -999.00,9,   4.0072,       29, -50.3880, 147.0731
  096U20160314,  Eddy,    15,  1,      9,   1209,2,20160402,   0,-50.3890, 147.0707, 4421,    400.2,   4.3050,  34.1940,2,  34.1694, 2,    247.5,2,   -999.0,9,    19.82,2,    28.11,2,     0.00,2,     1.91,2, 0.046187857,2,   -999.0,9,-999.0000,9,  -999.00,  -999.00,9,  -999.00,9,  -999.00,9,  -999.00,9,   4.2758,       27, -50.3879, 147.0732
  096U20160314,  Eddy,    15,  1,      8,   1208,2,20160402,   0,-50.3890, 147.0707, 4421,    501.8,   3.6660,  34.1810,2,-999.0000, 9,    245.9,2,   -999.0,9,    24.64,2,    29.60,2,     0.00,2,     2.02,2, 0.047316482,2,   -999.0,9,-999.0000,9,  -999.00,  -999.00,9,  -999.00,9,  -999.00,9,  -999.00,9,   3.6315,       25, -50.3878, 147.0734
  096U20160314,  Eddy,    15,  1,      7,   1207,2,20160402,   0,-50.3890, 147.0707, 4421,    600.6,   3.5720,  34.2510,2,  34.2276, 2,    225.7,2,   -999.0,9,    31.46,2,    31.05,2,     0.00,2,     2.12,2, 0.044217382,2,   -999.0,9,-999.0000,9,  -999.00,  -999.00,9,  -999.00,9,  -999.00,9,  -999.00,9,   3.5307,       22, -50.3876, 147.0738
  096U20160314,  Eddy,    15,  1,      6,   1206,2,20160402,   0,-50.3890, 147.0707, 4421,    702.9,   3.4640,  34.3100,2,-999.0000, 9,    210.3,2,   -999.0,9,    38.29,2,    32.12,2,     0.00,2,     2.20,2, 0.040294807,2,   -999.0,9,-999.0000,9,  -999.00,  -999.00,9,  -999.00,9,  -999.00,9,  -999.00,9,   3.4156,       19, -50.3875, 147.0742
  096U20160314,  Eddy,    15,  1,      5,   1205,2,20160402,   0,-50.3890, 147.0707, 4421,    803.2,   3.1730,  34.3540,2,  34.3300, 2,    199.3,2,   -999.0,9,    46.00,2,    33.19,2,     0.00,2,     2.28,2, 0.040606522,2,   -999.0,9,-999.0000,9,  -999.00,  -999.00,9,  -999.00,9,  -999.00,9,  -999.00,9,   3.1188,       16, -50.3873, 147.0745
  096U20160314,  Eddy,    15,  1,      4,   1204,2,20160402,   0,-50.3890, 147.0707, 4421,    902.5,   3.0420,  34.3910,2,-999.0000, 9,    191.4,2,   -999.0,9,    51.21,2,    33.72,2,     0.00,2,     2.32,2, 0.040384712,2,   -999.0,9,-999.0000,9,  -999.00,  -999.00,9,  -999.00,9,  -999.00,9,  -999.00,9,   2.9813,       13, -50.3872, 147.0749
  096U20160314,  Eddy,    15,  1,      3,   1203,2,20160402,   0,-50.3890, 147.0707, 4421,   1003.1,   2.9450,  34.4510,2,  34.4279, 2,    182.0,2,   -999.0,9,    57.57,2,    34.08,2,     0.00,2,     2.35,2, 0.039074407,2,   -999.0,9,-999.0000,9,  -999.00,  -999.00,9,  -999.00,9,  -999.00,9,  -999.00,9,   2.8774,        9, -50.3870, 147.0753
  096U20160314,  Eddy,    15,  1,      2,   1202,2,20160402,   0,-50.3890, 147.0707, 4421,   1253.5,   2.7060,  34.5600,2,-999.0000, 9,    172.5,2,   -999.0,9,    67.70,2,    34.06,2,     0.00,2,     2.35,2, 0.039972249,2,   -999.0,9,-999.0000,9,  -999.00,  -999.00,9,  -999.00,9,  -999.00,9,  -999.00,9,   2.6211,        3, -50.3868, 147.0758
  096U20160314,  Eddy,    15,  1,      1,   1201,2,20160402,   0,-50.3890, 147.0707, 4421,   1500.8,   2.4880,  34.6460,2,  34.6225, 2,    172.6,2,   -999.0,9,    73.51,3,    33.09,2,     0.00,2,     2.29,2,  0.00813349,2,   -999.0,9,-999.0000,9,  -999.00,  -999.00,9,  -999.00,9,  -999.00,9,  -999.00,9,   2.3859,     2358, -50.3865, 147.0764
  096U20160314,  Eddy,    16,  1,     15,   1215,2,20160402,   0,-50.3920, 147.0688, 4421,    168.9,   4.3210,  33.9550,2,-999.0000, 9,    302.8,2,   -999.0,9,  -999.00,9,  -999.00,9,  -999.00,9,  -999.00,9,        -999,9,   -999.0,9,-999.0000,9,  -999.00,  -999.00,9,  -999.00,9,  -999.00,9,  -999.00,9,   4.3090,      301, -50.3916, 147.0682
  096U20160314,  Eddy,    16,  1,     22,   1222,2,20160402,   0,-50.3920, 147.0688, 4421,    169.6,   4.3260,  33.9540,2,-999.0000, 9,    302.4,2,   -999.0,9,  -999.00,9,  -999.00,9,  -999.00,9,  -999.00,9,        -999,9,   -999.0,9,-999.0000,9,  -999.00,  -999.00,9,  -999.00,9,  -999.00,9,  -999.00,9,   4.3140,      301, -50.3916, 147.0681
  096U20160314,  Eddy,    16,  1,     23,   1223,2,20160402,   0,-50.3920, 147.0688, 4421,    169.7,   4.3230,  33.9550,2,-999.0000, 9,    302.4,2,   -999.0,9,  -999.00,9,  -999.00,9,  -999.00,9,  -999.00,9,        -999,9,   -999.0,9,-999.0000,9,  -999.00,  -999.00,9,  -999.00,9,  -999.00,9,  -999.00,9,   4.3110,      301, -50.3916, 147.0681
  096U20160314,  Eddy,    16,  1,     21,   1221,2,20160402,   0,-50.3920, 147.0688, 4421,    169.9,   4.3250,  33.9550,2,-999.0000, 9,    302.3,2,   -999.0,9,  -999.00,9,  -999.00,9,  -999.00,9,  -999.00,9,        -999,9,   -999.0,9,-999.0000,9,  -999.00,  -999.00,9,  -999.00,9,  -999.00,9,  -999.00,9,   4.3129,      301, -50.3916, 147.0681
  096U20160314,  Eddy,    16,  1,     16,   1216,2,20160402,   0,-50.3920, 147.0688, 4421,    170.2,   4.3200,  33.9550,2,-999.0000, 9,    302.8,2,   -999.0,9,  -999.00,9,  -999.00,9,  -999.00,9,  -999.00,9,        -999,9,   -999.0,9,-999.0000,9,  -999.00,  -999.00,9,  -999.00,9,  -999.00,9,  -999.00,9,   4.3079,      301, -50.3916, 147.0682
  096U20160314,  Eddy,    16,  1,     24,   1224,2,20160402,   0,-50.3920, 147.0688, 4421,    170.3,   4.3190,  33.9550,2,-999.0000, 9,    302.0,2,   -999.0,9,  -999.00,9,  -999.00,9,  -999.00,9,  -999.00,9,        -999,9,   -999.0,9,-999.0000,9,  -999.00,  -999.00,9,  -999.00,9,  -999.00,9,  -999.00,9,   4.3069,      301, -50.3916, 147.0682
  096U20160314,  Eddy,    16,  1,     20,   1220,2,20160402,   0,-50.3920, 147.0688, 4421,    170.6,   4.3240,  33.9550,2,-999.0000, 9,    302.2,2,   -999.0,9,  -999.00,9,  -999.00,9,  -999.00,9,  -999.00,9,        -999,9,   -999.0,9,-999.0000,9,  -999.00,  -999.00,9,  -999.00,9,  -999.00,9,  -999.00,9,   4.3119,      301, -50.3916, 147.0681
  096U20160314,  Eddy,    16,  1,     17,   1217,2,20160402,   0,-50.3920, 147.0688, 4421,    171.3,   4.3190,  33.9560,2,-999.0000, 9,    302.5,2,   -999.0,9,  -999.00,9,  -999.00,9,  -999.00,9,  -999.00,9,        -999,9,   -999.0,9,-999.0000,9,  -999.00,  -999.00,9,  -999.00,9,  -999.00,9,  -999.00,9,   4.3068,      301, -50.3916, 147.0682
  096U20160314,  Eddy,    16,  1,     19,   1219,2,20160402,   0,-50.3920, 147.0688, 4421,    171.3,   4.3230,  33.9550,2,-999.0000, 9,    302.4,2,   -999.0,9,  -999.00,9,  -999.00,9,  -999.00,9,  -999.00,9,        -999,9,   -999.0,9,-999.0000,9,  -999.00,  -999.00,9,  -999.00,9,  -999.00,9,  -999.00,9,   4.3108,      301, -50.3916, 147.0682
  096U20160314,  Eddy,    16,  1,     18,   1218,2,20160402,   0,-50.3920, 147.0688, 4421,    171.7,   4.3190,  33.9550,2,-999.0000, 9,    302.3,2,   -999.0,9,  -999.00,9,  -999.00,9,  -999.00,9,  -999.00,9,        -999,9,   -999.0,9,-999.0000,9,  -999.00,  -999.00,9,  -999.00,9,  -999.00,9,  -999.00,9,   4.3068,      301, -50.3916, 147.0682
  096U20160314,  Eddy,    16,  1,      6,   1206,2,20160402,   0,-50.3920, 147.0688, 4421,   1001.3,   2.9130,  34.4560,2,-999.0000, 9,    180.9,2,   -999.0,9,  -999.00,9,  -999.00,9,  -999.00,9,  -999.00,9,        -999,9,   -999.0,9,-999.0000,9,  -999.00,  -999.00,9,  -999.00,9,  -999.00,9,  -999.00,9,   2.8458,      245, -50.3914, 147.0683
  096U20160314,  Eddy,    16,  1,      2,   1202,2,20160402,   0,-50.3920, 147.0688, 4421,   1002.7,   2.9100,  34.4560,2,-999.0000, 9,    180.9,2,   -999.0,9,  -999.00,9,  -999.00,9,  -999.00,9,  -999.00,9,        -999,9,   -999.0,9,-999.0000,9,  -999.00,  -999.00,9,  -999.00,9,  -999.00,9,  -999.00,9,   2.8427,      245, -50.3914, 147.0683
  096U20160314,  Eddy,    16,  1,     11,   1211,2,20160402,   0,-50.3920, 147.0688, 4421,   1002.8,   2.9070,  34.4570,2,-999.0000, 9,    180.8,2,   -999.0,9,  -999.00,9,  -999.00,9,  -999.00,9,  -999.00,9,        -999,9,   -999.0,9,-999.0000,9,  -999.00,  -999.00,9,  -999.00,9,  -999.00,9,  -999.00,9,   2.8397,      246, -50.3914, 147.0683
  096U20160314,  Eddy,    16,  1,     13,   1213,2,20160402,   0,-50.3920, 147.0688, 4421,   1002.8,   2.9020,  34.4580,2,-999.0000, 9,    180.9,2,   -999.0,9,  -999.00,9,  -999.00,9,  -999.00,9,  -999.00,9,        -999,9,   -999.0,9,-999.0000,9,  -999.00,  -999.00,9,  -999.00,9,  -999.00,9,  -999.00,9,   2.8347,      246, -50.3914, 147.0683
  096U20160314,  Eddy,    16,  1,      7,   1207,2,20160402,   0,-50.3920, 147.0688, 4421,   1003.1,   2.9060,  34.4580,2,-999.0000, 9,    181.1,2,   -999.0,9,  -999.00,9,  -999.00,9,  -999.00,9,  -999.00,9,        -999,9,   -999.0,9,-999.0000,9,  -999.00,  -999.00,9,  -999.00,9,  -999.00,9,  -999.00,9,   2.8387,      245, -50.3914, 147.0683
  096U20160314,  Eddy,    16,  1,     12,   1212,2,20160402,   0,-50.3920, 147.0688, 4421,   1003.1,   2.9030,  34.4580,2,-999.0000, 9,    180.9,2,   -999.0,9,  -999.00,9,  -999.00,9,  -999.00,9,  -999.00,9,        -999,9,   -999.0,9,-999.0000,9,  -999.00,  -999.00,9,  -999.00,9,  -999.00,9,  -999.00,9,   2.8357,      246, -50.3914, 147.0683
  096U20160314,  Eddy,    16,  1,      5,   1205,2,20160402,   0,-50.3920, 147.0688, 4421,   1003.2,   2.9130,  34.4560,2,-999.0000, 9,    180.7,2,   -999.0,9,  -999.00,9,  -999.00,9,  -999.00,9,  -999.00,9,        -999,9,   -999.0,9,-999.0000,9,  -999.00,  -999.00,9,  -999.00,9,  -999.00,9,  -999.00,9,   2.8456,      245, -50.3914, 147.0683
  096U20160314,  Eddy,    16,  1,      3,   1203,2,20160402,   0,-50.3920, 147.0688, 4421,   1003.3,   2.9040,  34.4580,2,-999.0000, 9,    181.0,2,   -999.0,9,  -999.00,9,  -999.00,9,  -999.00,9,  -999.00,9,        -999,9,   -999.0,9,-999.0000,9,  -999.00,  -999.00,9,  -999.00,9,  -999.00,9,  -999.00,9,   2.8367,      245, -50.3914, 147.0683
  096U20160314,  Eddy,    16,  1,      1,   1201,2,20160402,   0,-50.3920, 147.0688, 4421,   1003.7,   2.9030,  34.4580,2,-999.0000, 9,    181.1,2,   -999.0,9,  -999.00,9,  -999.00,9,  -999.00,9,  -999.00,9,        -999,9,   -999.0,9,-999.0000,9,  -999.00,  -999.00,9,  -999.00,9,  -999.00,9,  -999.00,9,   2.8357,      245, -50.3914, 147.0683
  096U20160314,  Eddy,    16,  1,     10,   1210,2,20160402,   0,-50.3920, 147.0688, 4421,   1003.9,   2.9100,  34.4560,2,-999.0000, 9,    180.6,2,   -999.0,9,  -999.00,9,  -999.00,9,  -999.00,9,  -999.00,9,        -999,9,   -999.0,9,-999.0000,9,  -999.00,  -999.00,9,  -999.00,9,  -999.00,9,  -999.00,9,   2.8426,      245, -50.3914, 147.0683
  096U20160314,  Eddy,    16,  1,      8,   1208,2,20160402,   0,-50.3920, 147.0688, 4421,   1004.6,   2.9010,  34.4590,2,-999.0000, 9,    180.9,2,   -999.0,9,  -999.00,9,  -999.00,9,  -999.00,9,  -999.00,9,        -999,9,   -999.0,9,-999.0000,9,  -999.00,  -999.00,9,  -999.00,9,  -999.00,9,  -999.00,9,   2.8336,      245, -50.3914, 147.0683
  096U20160314,  Eddy,    16,  1,      9,   1209,2,20160402,   0,-50.3920, 147.0688, 4421,   1004.6,   2.9080,  34.4570,2,-999.0000, 9,    180.6,2,   -999.0,9,  -999.00,9,  -999.00,9,  -999.00,9,  -999.00,9,        -999,9,   -999.0,9,-999.0000,9,  -999.00,  -999.00,9,  -999.00,9,  -999.00,9,  -999.00,9,   2.8405,      245, -50.3914, 147.0683
  096U20160314,  Eddy,    16,  1,     14,   1214,2,20160402,   0,-50.3920, 147.0688, 4421,   1005.1,   2.8990,  34.4590,2,-999.0000, 9,    180.7,2,   -999.0,9,  -999.00,9,  -999.00,9,  -999.00,9,  -999.00,9,        -999,9,   -999.0,9,-999.0000,9,  -999.00,  -999.00,9,  -999.00,9,  -999.00,9,  -999.00,9,   2.8316,      246, -50.3914, 147.0683
  096U20160314,  Eddy,    16,  1,      4,   1204,2,20160402,   0,-50.3920, 147.0688, 4421,   1005.2,   2.8980,  34.4600,2,-999.0000, 9,    180.9,2,   -999.0,9,  -999.00,9,  -999.00,9,  -999.00,9,  -999.00,9,        -999,9,   -999.0,9,-999.0000,9,  -999.00,  -999.00,9,  -999.00,9,  -999.00,9,  -999.00,9,   2.8306,      245, -50.3914, 147.0683