BOTTLE,20180103PRINUNIVRMK
EXPOCODE,SECT_ID,STNNBR,CASTNO,SAMPNO,BTLNBR,BTLNBR_FLAG_W,DATE,TIME,LATITUDE,LONGITUDE,DEPTH,CTDPRS,CTDTMP,CTDSAL,CTDSAL_FLAG_W,SALNTY,SALNTY_FLAG_W,CTDOXY,CTDOXY_FLAG_W,OXYGEN,OXYGEN_FLAG_W,SILCAT,SILCAT_FLAG_W,NITRAT,NITRAT_FLAG_W,NITRIT,NITRIT_FLAG_W,PHSPHT,PHSPHT_FLAG_W,NH4,NH4_FLAG_W,ALKALI,ALKALI_FLAG_W,PH_TOT,PH_TOT_FLAG_W,PH_TMP,POC,POC_FLAG_W,PON,PON_FLAG_W,CHLORA,CHLORA_FLAG_W,PPHYTN,PPHYTN_FLAG_W,THETA,BTL_TIME,BTL_LAT,BTL_LON
,,,,,,,,,,,METERS,DBAR,ITS-90,PSS-78,,PSS-78,,UMOL/KG,,UMOL/KG,,UMOL/KG,,UMOL/KG,,UMOL/KG,,UMOL/KG,,UMOL/KG,,UMOL/KG,,,,DEG C,UG/KG,,UG/KG,,UG/KG,,UG/KG,,DEG C,,,
  096U20160314,  Eddy,     3,  1,     24,   1224,2,20160331,   0,-50.3874, 148.4335, 4280,      2.7,   9.9520,  34.3910,2,  34.3702, 2,    275.9,2,    276.3,2,     1.87,2,    12.66,2,     0.30,2,     0.97,2, 0.266848838,2,   -999.0,9,-999.0000,9,  -999.00,  -999.00,9,  -999.00,9,  -999.00,9,  -999.00,9,   9.9517,      323, -50.3874, 148.4337
  096U20160314,  Eddy,     3,  1,     23,   1223,2,20160331,   0,-50.3874, 148.4335, 4280,     16.7,   9.9530,  34.3910,2,  34.3708, 2,    275.8,2,    275.8,2,     1.93,2,    12.63,2,     0.30,2,     0.97,2, 0.268337775,2,   -999.0,9,-999.0000,9,  -999.00,  -999.00,9,  -999.00,9,  -999.00,9,  -999.00,9,   9.9511,      321, -50.3874, 148.4337
  096U20160314,  Eddy,     3,  1,     22,   1222,2,20160331,   0,-50.3874, 148.4335, 4280,     31.2,   9.9420,  34.3910,2,  34.3714, 2,    276.2,2,    275.6,2,     1.98,2,    12.66,2,     0.30,2,     0.97,2, 0.290276458,2,   -999.0,9,-999.0000,9,  -999.00,  -999.00,9,  -999.00,9,  -999.00,9,  -999.00,9,   9.9385,      320, -50.3874, 148.4338
  096U20160314,  Eddy,     3,  1,     21,   1221,2,20160331,   0,-50.3874, 148.4335, 4280,     45.2,   9.9410,  34.3920,2,  34.3704, 2,    276.0,2,    275.8,2,     1.98,2,    12.65,2,     0.30,2,     0.97,2,  0.30511251,2,   -999.0,9,-999.0000,9,  -999.00,  -999.00,9,  -999.00,9,  -999.00,9,  -999.00,9,   9.9359,      319, -50.3874, 148.4339
  096U20160314,  Eddy,     3,  1,     20,   1220,2,20160331,   0,-50.3874, 148.4335, 4280,     60.7,   9.9270,  34.3910,2,  34.3705, 2,    275.2,2,    275.8,2,     1.94,2,    12.67,2,     0.30,2,     0.97,2, 0.309381754,2,   -999.0,9,-999.0000,9,  -999.00,  -999.00,9,  -999.00,9,  -999.00,9,  -999.00,9,   9.9201,      318, -50.3874, 148.4339
  096U20160314,  Eddy,     3,  1,     19,   1219,2,20160331,   0,-50.3874, 148.4335, 4280,     80.8,   9.9390,  34.4210,2,  34.4023, 2,    273.8,2,    273.7,2,     2.08,2,    12.61,2,     0.28,2,     0.97,2, 0.305782822,2,   -999.0,9,-999.0000,9,  -999.00,  -999.00,9,  -999.00,9,  -999.00,9,  -999.00,9,   9.9298,      316, -50.3874, 148.4340
  096U20160314,  Eddy,     3,  1,     18,   1218,2,20160331,   0,-50.3874, 148.4335, 4280,    102.0,   9.8790,  34.4620,2,  34.4387, 2,    270.5,2,    270.7,2,     2.42,2,    12.95,2,     0.25,2,     0.98,2, 0.289637492,2,   -999.0,9,-999.0000,9,  -999.00,  -999.00,9,  -999.00,9,  -999.00,9,  -999.00,9,   9.8674,      315, -50.3874, 148.4341
  096U20160314,  Eddy,     3,  1,     17,   1217,2,20160331,   0,-50.3874, 148.4335, 4280,    126.2,   9.5540,  34.6170,2,  34.5969, 2,    262.9,2,    262.7,2,     4.07,2,    14.16,2,     0.03,2,     1.03,2, 0.117338128,2,   -999.0,9,-999.0000,9,  -999.00,  -999.00,9,  -999.00,9,  -999.00,9,  -999.00,9,   9.5399,      313, -50.3874, 148.4342
  096U20160314,  Eddy,     3,  1,     16,   1216,2,20160331,   0,-50.3874, 148.4335, 4280,    152.6,   9.1580,  34.5840,2,  34.5665, 2,    264.4,2,    263.8,2,     4.42,2,    14.92,2,     0.01,2,     1.07,2, 0.153975924,2,   -999.0,9,-999.0000,9,  -999.00,  -999.00,9,  -999.00,9,  -999.00,9,  -999.00,9,   9.1414,      311, -50.3874, 148.4343
  096U20160314,  Eddy,     3,  1,     15,   1215,2,20160331,   0,-50.3874, 148.4335, 4280,    176.7,   9.0020,  34.5710,2,  34.5504, 2,    264.0,2,    263.9,2,     4.61,2,    15.38,2,     0.01,2,     1.10,2, 0.150934298,2,   -999.0,9,-999.0000,9,  -999.00,  -999.00,9,  -999.00,9,  -999.00,9,  -999.00,9,   8.9829,      310, -50.3874, 148.4345
  096U20160314,  Eddy,     3,  1,     14,   1214,2,20160331,   0,-50.3874, 148.4335, 4280,    200.2,   8.9670,  34.5780,2,  34.5570, 2,    263.4,2,    263.5,2,     4.77,2,    15.46,2,     0.02,2,     1.10,2, 0.171898385,2,   -999.0,9,-999.0000,9,  -999.00,  -999.00,9,  -999.00,9,  -999.00,9,  -999.00,9,   8.9454,      308, -50.3874, 148.4347
  096U20160314,  Eddy,     3,  1,     13,   1213,2,20160331,   0,-50.3874, 148.4335, 4280,    224.2,   8.7450,  34.5490,2,  34.5288, 2,    263.2,2,    263.0,2,     5.05,2,    16.18,2,     0.01,2,     1.14,2, 0.158460531,2,   -999.0,9,-999.0000,9,  -999.00,  -999.00,9,  -999.00,9,  -999.00,9,  -999.00,9,   8.7212,      307, -50.3873, 148.4349
  096U20160314,  Eddy,     3,  1,     12,   1212,2,20160331,   0,-50.3874, 148.4335, 4280,    251.8,   8.9370,  34.6080,2,  34.5785, 2,    258.9,2,    260.0,2,     5.05,2,    15.90,2,     0.01,2,     1.13,2, 0.190538968,2,   -999.0,9,-999.0000,9,  -999.00,  -999.00,9,  -999.00,9,  -999.00,9,  -999.00,9,   8.9098,      305, -50.3873, 148.4351
  096U20160314,  Eddy,     3,  1,     11,   1211,2,20160331,   0,-50.3874, 148.4335, 4280,    297.8,   8.9040,  34.6190,2,  34.5968, 2,    259.2,2,    259.7,2,     5.11,2,    15.76,2,     0.01,2,     1.12,2, 0.259073257,2,   -999.0,9,-999.0000,9,  -999.00,  -999.00,9,  -999.00,9,  -999.00,9,  -999.00,9,   8.8718,      303, -50.3873, 148.4354
  096U20160314,  Eddy,     3,  1,     10,   1210,2,20160331,   0,-50.3874, 148.4335, 4280,    349.6,   8.7920,  34.6090,2,  34.5863, 2,    259.8,2,    261.1,2,     5.12,2,    15.95,2,     0.01,2,     1.13,2, 0.247650538,2,   -999.0,9,-999.0000,9,  -999.00,  -999.00,9,  -999.00,9,  -999.00,9,  -999.00,9,   8.7544,      302, -50.3873, 148.4357
  096U20160314,  Eddy,     3,  1,      9,   1209,2,20160331,   0,-50.3874, 148.4335, 4280,    399.3,   8.7260,  34.6120,2,  34.5901, 2,    261.9,2,    262.9,2,     5.24,2,    16.17,2,     0.01,2,     1.15,2, 0.237684614,2,   -999.0,9,-999.0000,9,  -999.00,  -999.00,9,  -999.00,9,  -999.00,9,  -999.00,9,   8.6831,      300, -50.3873, 148.4359
  096U20160314,  Eddy,     3,  1,      8,   1208,2,20160331,   0,-50.3874, 148.4335, 4280,    500.4,   7.8580,  34.4720,2,  34.4538, 2,    260.8,2,    261.9,2,     6.39,2,    18.51,2,     0.01,2,     1.29,2, 0.246620485,2,   -999.0,9,-999.0000,9,  -999.00,  -999.00,9,  -999.00,9,  -999.00,9,  -999.00,9,   7.8073,      257, -50.3873, 148.4363
  096U20160314,  Eddy,     3,  1,      7,   1207,2,20160331,   0,-50.3874, 148.4335, 4280,    600.3,   7.0640,  34.3880,2,  34.3672, 2,    243.7,2,    244.8,2,     9.62,2,    21.95,2,     0.00,2,     1.50,2, 0.262981129,2,   -999.0,9,-999.0000,9,  -999.00,  -999.00,9,  -999.00,9,  -999.00,9,  -999.00,9,   7.0064,      254, -50.3872, 148.4366
  096U20160314,  Eddy,     3,  1,      6,   1206,2,20160331,   0,-50.3874, 148.4335, 4280,    699.4,   6.2760,  34.3690,2,  34.3484, 2,    224.2,2,    225.5,2,    15.30,2,    25.32,2,     0.00,2,     1.72,2, 0.219253191,2,   -999.0,9,-999.0000,9,  -999.00,  -999.00,9,  -999.00,9,  -999.00,9,  -999.00,9,   6.2126,      251, -50.3872, 148.4368
  096U20160314,  Eddy,     3,  1,      5,   1205,2,20160331,   0,-50.3874, 148.4335, 4280,    799.1,   5.8340,  34.4110,2,  34.3891, 2,    202.0,2,    203.4,2,    23.34,2,    27.93,2,     0.00,2,     1.90,2, 0.193170433,2,   -999.0,9,-999.0000,9,  -999.00,  -999.00,9,  -999.00,9,  -999.00,9,  -999.00,9,   5.7637,      247, -50.3872, 148.4374
  096U20160314,  Eddy,     3,  1,      4,   1204,2,20160331,   0,-50.3874, 148.4335, 4280,    899.7,   4.8300,  34.3550,2,  34.3317, 2,    206.8,2,    209.1,2,    28.16,2,    29.70,2,     0.00,2,     2.02,2,   0.1914186,2,   -999.0,9,-999.0000,9,  -999.00,  -999.00,9,  -999.00,9,  -999.00,9,  -999.00,9,   4.7571,      244, -50.3872, 148.4377
  096U20160314,  Eddy,     3,  1,      3,   1203,2,20160331,   0,-50.3874, 148.4335, 4280,    996.6,   4.3090,  34.3580,2,  34.3368, 2,    202.2,2,    203.8,2,    34.66,2,    30.99,2,     0.00,2,     2.11,2, 0.211358678,2,   -999.0,9,-999.0000,9,  -999.00,  -999.00,9,  -999.00,9,  -999.00,9,  -999.00,9,   4.2315,      242, -50.3871, 148.4382
  096U20160314,  Eddy,     3,  1,      2,   1202,2,20160331,   0,-50.3874, 148.4335, 4280,   1247.9,   3.3760,  34.4240,2,  34.4023, 2,    185.1,2,    187.5,2,    51.62,2,    33.35,2,     0.00,2,     2.29,2, 0.197434171,2,   -999.0,9,-999.0000,9,  -999.00,  -999.00,9,  -999.00,9,  -999.00,9,  -999.00,9,   3.2854,      236, -50.3870, 148.4389
  096U20160314,  Eddy,     3,  1,      1,   1201,2,20160331,   0,-50.3874, 148.4335, 4280,   1501.8,   2.8330,  34.5310,2,  34.5105, 2,    172.2,2,    174.2,2,    66.05,2,    34.10,2,     0.00,2,     2.36,2, 0.186960768,3,   -999.0,9,-999.0000,9,  -999.00,  -999.00,9,  -999.00,9,  -999.00,9,  -999.00,9,   2.7271,      230, -50.3871, 148.4394
  096U20160314,  Eddy,     4,  1,     24,   1224,2,20160331,   0,-50.3856, 148.1545, 4280,      5.9,   9.6860,  34.3890,2,  34.3683, 2,    278.3,2,    278.2,2,     1.96,2,    13.05,2,     0.28,2,     1.01,2, 0.189675393,2,   -999.0,9,-999.0000,9,  -999.00,  -999.00,9,  -999.00,9,  -999.00,9,  -999.00,9,   9.6853,      626, -50.3852, 148.1547
  096U20160314,  Eddy,     4,  1,     23,   1223,2,20160331,   0,-50.3856, 148.1545, 4280,     15.7,   9.6890,  34.3920,2,  34.3720, 2,    278.5,2,    278.2,2,     2.04,2,    13.02,2,     0.28,2,     1.00,2, 0.201881735,2,   -999.0,9,-999.0000,9,  -999.00,  -999.00,9,  -999.00,9,  -999.00,9,  -999.00,9,   9.6872,      625, -50.3852, 148.1548
  096U20160314,  Eddy,     4,  1,     22,   1222,2,20160331,   0,-50.3856, 148.1545, 4280,     30.9,   9.6960,  34.3950,2,  34.3755, 2,    278.2,2,    278.1,2,     2.05,2,    13.00,2,     0.28,2,     1.00,2,  0.18910632,2,   -999.0,9,-999.0000,9,  -999.00,  -999.00,9,  -999.00,9,  -999.00,9,  -999.00,9,   9.6925,      623, -50.3851, 148.1549
  096U20160314,  Eddy,     4,  1,     21,   1221,2,20160331,   0,-50.3856, 148.1545, 4280,     44.1,   9.6830,  34.3970,2,  34.3762, 2,    277.8,2,    277.9,2,     2.02,2,    13.01,2,     0.28,2,     1.00,2, 0.183489097,2,   -999.0,9,-999.0000,9,  -999.00,  -999.00,9,  -999.00,9,  -999.00,9,  -999.00,9,   9.6781,      622, -50.3850, 148.1549
  096U20160314,  Eddy,     4,  1,     20,   1220,2,20160331,   0,-50.3856, 148.1545, 4280,     59.5,   9.7010,  34.4040,2,  34.3836, 2,    276.9,2,    277.3,2,     2.05,2,    12.92,2,     0.28,2,     0.99,2, 0.189780538,2,   -999.0,9,-999.0000,9,  -999.00,  -999.00,9,  -999.00,9,  -999.00,9,  -999.00,9,   9.6943,      621, -50.3850, 148.1550
  096U20160314,  Eddy,     4,  1,     19,   1219,2,20160331,   0,-50.3856, 148.1545, 4280,     79.0,   9.9500,  34.4710,2,  34.4504, 2,    273.3,2,    274.1,2,     2.03,2,    12.13,2,     0.28,2,     0.95,2, 0.254505408,2,   -999.0,9,-999.0000,9,  -999.00,  -999.00,9,  -999.00,9,  -999.00,9,  -999.00,9,   9.9410,      620, -50.3850, 148.1551
  096U20160314,  Eddy,     4,  1,     18,   1218,2,20160331,   0,-50.3856, 148.1545, 4280,    100.7,   9.9220,  34.4680,2,  34.4475, 2,    273.6,2,    274.1,2,     2.07,2,    12.18,2,     0.28,2,     0.96,2,  0.26264224,2,   -999.0,9,-999.0000,9,  -999.00,  -999.00,9,  -999.00,9,  -999.00,9,  -999.00,9,   9.9105,      619, -50.3850, 148.1551
  096U20160314,  Eddy,     4,  1,     17,   1217,2,20160331,   0,-50.3856, 148.1545, 4280,    124.7,   8.8970,  34.3970,2,  34.3705, 2,    270.5,2,    272.6,2,     3.23,2,    15.20,2,     0.21,2,     1.13,2, 0.127781754,2,   -999.0,9,-999.0000,9,  -999.00,  -999.00,9,  -999.00,9,  -999.00,9,  -999.00,9,   8.8837,      618, -50.3849, 148.1550
  096U20160314,  Eddy,     4,  1,     16,   1216,2,20160331,   0,-50.3856, 148.1545, 4280,    148.7,   8.4490,  34.4570,2,  34.4377, 2,    268.9,2,    268.5,2,     4.56,2,    16.57,2,     0.01,2,     1.19,2, 0.059083815,2,   -999.0,9,-999.0000,9,  -999.00,  -999.00,9,  -999.00,9,  -999.00,9,  -999.00,9,   8.4336,      617, -50.3848, 148.1551
  096U20160314,  Eddy,     4,  1,     15,   1215,2,20160331,   0,-50.3856, 148.1545, 4280,    172.4,   8.4440,  34.4750,2,  34.4529, 2,    266.7,2,    266.9,2,     4.82,2,    16.66,2,     0.01,2,     1.19,2,  0.05775579,2,   -999.0,9,-999.0000,9,  -999.00,  -999.00,9,  -999.00,9,  -999.00,9,  -999.00,9,   8.4261,      615, -50.3848, 148.1551
  096U20160314,  Eddy,     4,  1,     14,   1214,2,20160331,   0,-50.3856, 148.1545, 4280,    202.1,   8.4740,  34.5040,2,  34.4834, 2,    263.9,2,    264.3,2,     4.99,2,    16.75,2,     0.01,2,     1.19,2, 0.063916555,2,   -999.0,9,-999.0000,9,  -999.00,  -999.00,9,  -999.00,9,  -999.00,9,  -999.00,9,   8.4530,      614, -50.3847, 148.1551
  096U20160314,  Eddy,     4,  1,     13,   1213,2,20160331,   0,-50.3856, 148.1545, 4280,    226.0,   8.3580,  34.4950,2,  34.4746, 2,    262.7,2,    263.2,2,     5.30,2,    17.18,2,     0.01,2,     1.22,2, 0.068581158,2,   -999.0,9,-999.0000,9,  -999.00,  -999.00,9,  -999.00,9,  -999.00,9,  -999.00,9,   8.3346,      613, -50.3846, 148.1552
  096U20160314,  Eddy,     4,  1,     12,   1212,2,20160331,   0,-50.3856, 148.1545, 4280,    256.9,   8.2320,  34.4870,2,  34.4681, 2,    262.1,2,    262.0,2,     5.57,2,    17.59,2,     0.01,2,     1.24,2, 0.084977879,2,   -999.0,9,-999.0000,9,  -999.00,  -999.00,9,  -999.00,9,  -999.00,9,  -999.00,9,   8.2057,      611, -50.3845, 148.1552
  096U20160314,  Eddy,     4,  1,     11,   1211,2,20160331,   0,-50.3856, 148.1545, 4280,    303.5,   8.1500,  34.4980,2,  34.4769, 2,    262.3,2,    263.5,2,     5.50,2,    17.70,2,     0.01,2,     1.25,2, 0.081523859,2,   -999.0,9,-999.0000,9,  -999.00,  -999.00,9,  -999.00,9,  -999.00,9,  -999.00,9,   8.1190,      607, -50.3844, 148.1555
  096U20160314,  Eddy,     4,  1,     10,   1210,2,20160331,   0,-50.3856, 148.1545, 4280,    350.8,   7.9250,  34.4790,2,  34.4618, 2,    261.2,2,    261.8,2,     6.05,2,    18.32,2,     0.01,2,     1.29,2, 0.079849112,2,   -999.0,9,-999.0000,9,  -999.00,  -999.00,9,  -999.00,9,  -999.00,9,  -999.00,9,   7.8896,      605, -50.3844, 148.1556
  096U20160314,  Eddy,     4,  1,      9,   1209,2,20160331,   0,-50.3856, 148.1545, 4280,    402.8,   7.7020,  34.4510,2,  34.4342, 2,    256.5,2,    257.1,2,     6.80,2,    19.22,2,     0.01,2,     1.35,2, 0.075468188,2,   -999.0,9,-999.0000,9,  -999.00,  -999.00,9,  -999.00,9,  -999.00,9,  -999.00,9,   7.6619,      603, -50.3845, 148.1557
  096U20160314,  Eddy,     4,  1,      8,   1208,2,20160331,   0,-50.3856, 148.1545, 4280,    501.3,   6.9040,  34.3800,2,  34.3601, 2,    238.2,2,    239.1,2,    10.58,2,    22.70,2,     0.00,2,     1.56,2, 0.073149381,2,   -999.0,9,-999.0000,9,  -999.00,  -999.00,9,  -999.00,9,  -999.00,9,  -999.00,9,   6.8569,      600, -50.3845, 148.1559
  096U20160314,  Eddy,     4,  1,      7,   1207,2,20160331,   0,-50.3856, 148.1545, 4280,    598.1,   6.4580,  34.3940,2,  34.3758, 2,    219.8,2,    221.0,2,    15.29,2,    25.18,2,     0.00,2,     1.73,2, 0.079783542,2,   -999.0,9,-999.0000,9,  -999.00,  -999.00,9,  -999.00,9,  -999.00,9,  -999.00,9,   6.4034,      557, -50.3844, 148.1562
  096U20160314,  Eddy,     4,  1,      6,   1206,2,20160331,   0,-50.3856, 148.1545, 4280,    699.0,   5.8090,  34.3870,2,  34.3660, 2,    208.2,2,    209.4,2,    20.87,2,    27.55,2,     0.00,2,     1.89,2, 0.069368486,2,   -999.0,9,-999.0000,9,  -999.00,  -999.00,9,  -999.00,9,  -999.00,9,  -999.00,9,   5.7481,      555, -50.3846, 148.1564
  096U20160314,  Eddy,     4,  1,      5,   1205,2,20160331,   0,-50.3856, 148.1545, 4280,    794.6,   5.1470,  34.3600,2,  34.3382, 2,    208.3,2,    209.7,2,    25.36,2,    29.03,2,     0.00,2,     1.99,2, 0.081461293,2,   -999.0,9,-999.0000,9,  -999.00,  -999.00,9,  -999.00,9,  -999.00,9,  -999.00,9,   5.0813,      552, -50.3846, 148.1567
  096U20160314,  Eddy,     4,  1,      4,   1204,2,20160331,   0,-50.3856, 148.1545, 4280,    899.6,   4.3720,  34.3420,2,  34.3221, 2,    206.8,2,    208.4,2,    31.79,2,    30.54,2,     0.00,2,     2.10,2, 0.074424406,2,   -999.0,9,-999.0000,9,  -999.00,  -999.00,9,  -999.00,9,  -999.00,9,  -999.00,9,   4.3023,      549, -50.3846, 148.1568
  096U20160314,  Eddy,     4,  1,      3,   1203,2,20160331,   0,-50.3856, 148.1545, 4280,    999.3,   3.8720,  34.3380,2,  34.3157, 2,    205.2,2,    207.0,2,    36.78,2,    31.59,2,     0.00,2,     2.18,2, 0.098914273,2,   -999.0,9,-999.0000,9,  -999.00,  -999.00,9,  -999.00,9,  -999.00,9,  -999.00,9,   3.7977,      546, -50.3846, 148.1569
  096U20160314,  Eddy,     4,  1,      2,   1202,2,20160331,   0,-50.3856, 148.1545, 4280,   1249.8,   3.1610,  34.4290,2,  34.4058, 2,    184.8,2,    187.6,2,    53.40,2,    33.59,2,     0.00,2,     2.34,2, 0.090676132,2,   -999.0,9,-999.0000,9,  -999.00,  -999.00,9,  -999.00,9,  -999.00,9,  -999.00,9,   3.0723,      541, -50.3846, 148.1572
  096U20160314,  Eddy,     4,  1,      1,   1201,2,20160331,   0,-50.3856, 148.1545, 4280,   1498.9,   2.7610,  34.5540,2,  34.5312, 2,    171.6,2,    175.0,2,    67.71,2,    33.95,2,     0.00,2,     2.36,2, 0.087189263,2,   -999.0,9,-999.0000,9,  -999.00,  -999.00,9,  -999.00,9,  -999.00,9,  -999.00,9,   2.6561,      535, -50.3844, 148.1575