BOTTLE,20180103PRINUNIVRMK
EXPOCODE,SECT_ID,STNNBR,CASTNO,SAMPNO,BTLNBR,BTLNBR_FLAG_W,DATE,TIME,LATITUDE,LONGITUDE,DEPTH,CTDPRS,CTDTMP,CTDSAL,CTDSAL_FLAG_W,SALNTY,SALNTY_FLAG_W,CTDOXY,CTDOXY_FLAG_W,OXYGEN,OXYGEN_FLAG_W,SILCAT,SILCAT_FLAG_W,NITRAT,NITRAT_FLAG_W,NITRIT,NITRIT_FLAG_W,PHSPHT,PHSPHT_FLAG_W,NH4,NH4_FLAG_W,ALKALI,ALKALI_FLAG_W,PH_TOT,PH_TOT_FLAG_W,PH_TMP,POC,POC_FLAG_W,PON,PON_FLAG_W,CHLORA,CHLORA_FLAG_W,PPHYTN,PPHYTN_FLAG_W,THETA,BTL_TIME,BTL_LAT,BTL_LON
,,,,,,,,,,,METERS,DBAR,ITS-90,PSS-78,,PSS-78,,UMOL/KG,,UMOL/KG,,UMOL/KG,,UMOL/KG,,UMOL/KG,,UMOL/KG,,UMOL/KG,,UMOL/KG,,,,DEG C,UG/KG,,UG/KG,,UG/KG,,UG/KG,,DEG C,,,
  096U20160314,  Eddy,    23,  1,     24,   1224,2,20160403,   0,-50.3793, 147.0803, 4430,      5.5,   7.2800,  33.8260,2,-999.0000, 9,    296.1,2,   -999.0,9,     1.90,2,    21.70,2,     0.27,2,     1.53,2, 0.285803089,2,   -999.0,9,-999.0000,9,  -999.00,  -999.00,9,  -999.00,9,  -999.00,9,  -999.00,9,   7.2795,     1132, -50.3790, 147.0803
  096U20160314,  Eddy,    23,  1,     23,   1223,2,20160403,   0,-50.3793, 147.0803, 4430,     15.7,   7.2800,  33.8260,2,  33.8065, 2,    295.9,2,    294.7,2,     2.17,2,    21.67,2,     0.27,2,     1.53,2, 0.287574329,2,   -999.0,9,-999.0000,9,  -999.00,  -999.00,9,  -999.00,9,  -999.00,9,  -999.00,9,   7.2785,     1131, -50.3789, 147.0803
  096U20160314,  Eddy,    23,  1,     22,   1222,2,20160403,   0,-50.3793, 147.0803, 4430,     30.7,   7.2810,  33.8260,2,-999.0000, 9,    296.1,2,   -999.0,9,     2.23,2,    21.69,2,     0.27,2,     1.53,2, 0.271757324,2,   -999.0,9,-999.0000,9,  -999.00,  -999.00,9,  -999.00,9,  -999.00,9,  -999.00,9,   7.2781,     1130, -50.3788, 147.0803
  096U20160314,  Eddy,    23,  1,     21,   1221,2,20160403,   0,-50.3793, 147.0803, 4430,     45.0,   7.2830,  33.8260,2,  33.8066, 2,    295.7,2,    296.6,2,     2.29,2,    21.71,2,     0.27,2,     1.53,2, 0.269436983,2,   -999.0,9,-999.0000,9,  -999.00,  -999.00,9,  -999.00,9,  -999.00,9,  -999.00,9,   7.2788,     1128, -50.3787, 147.0804
  096U20160314,  Eddy,    23,  1,     20,   1220,2,20160403,   0,-50.3793, 147.0803, 4430,     59.6,   7.2800,  33.8270,2,-999.0000, 9,    296.1,2,   -999.0,9,     2.26,2,    21.74,2,     0.27,2,     1.53,2, 0.277419699,2,   -999.0,9,-999.0000,9,  -999.00,  -999.00,9,  -999.00,9,  -999.00,9,  -999.00,9,   7.2745,     1127, -50.3785, 147.0804
  096U20160314,  Eddy,    23,  1,     19,   1219,2,20160403,   0,-50.3793, 147.0803, 4430,     80.3,   7.2720,  33.8280,2,  33.8097, 2,    295.7,2,    296.4,2,     2.26,2,    21.71,2,     0.27,2,     1.53,2,  0.30993332,2,   -999.0,9,-999.0000,9,  -999.00,  -999.00,9,  -999.00,9,  -999.00,9,  -999.00,9,   7.2645,     1126, -50.3783, 147.0804
  096U20160314,  Eddy,    23,  1,     18,   1218,2,20160403,   0,-50.3793, 147.0803, 4430,     99.1,   7.2330,  33.8290,2,-999.0000, 9,    296.0,2,   -999.0,9,     2.27,2,    21.73,2,     0.27,2,     1.53,2, 0.324387904,2,   -999.0,9,-999.0000,9,  -999.00,  -999.00,9,  -999.00,9,  -999.00,9,  -999.00,9,   7.2238,     1124, -50.3781, 147.0804
  096U20160314,  Eddy,    23,  1,     17,   1217,2,20160403,   0,-50.3793, 147.0803, 4430,    124.5,   5.9480,  33.8460,2,  33.8285, 2,    301.4,2,    301.1,2,     2.60,2,    22.68,2,     0.30,2,     1.63,2, 0.770288856,2,   -999.0,9,-999.0000,9,  -999.00,  -999.00,9,  -999.00,9,  -999.00,9,  -999.00,9,   5.9376,     1123, -50.3780, 147.0804
  096U20160314,  Eddy,    23,  1,     16,   1216,2,20160403,   0,-50.3793, 147.0803, 4430,    150.9,   5.1440,  33.9010,2,-999.0000, 9,    303.5,2,   -999.0,9,     4.40,2,    23.15,2,     0.48,2,     1.68,2,  0.66330382,2,   -999.0,9,-999.0000,9,  -999.00,  -999.00,9,  -999.00,9,  -999.00,9,  -999.00,9,   5.1323,     1122, -50.3778, 147.0804
  096U20160314,  Eddy,    23,  1,     15,   1215,2,20160403,   0,-50.3793, 147.0803, 4430,    177.5,   4.3520,  33.9230,2,  33.9023, 2,    305.1,2,    304.8,2,     7.08,2,    24.25,2,     0.57,2,     1.72,2, 0.085065824,2,   -999.0,9,-999.0000,9,  -999.00,  -999.00,9,  -999.00,9,  -999.00,9,  -999.00,9,   4.3394,     1120, -50.3777, 147.0804
  096U20160314,  Eddy,    23,  1,     14,   1214,2,20160403,   0,-50.3793, 147.0803, 4430,    201.7,   4.0620,  33.9360,2,-999.0000, 9,    305.2,2,   -999.0,9,     8.32,2,    25.00,2,     0.11,2,     1.74,2, 0.009809691,2,   -999.0,9,-999.0000,9,  -999.00,  -999.00,9,  -999.00,9,  -999.00,9,  -999.00,9,   4.0481,     1118, -50.3774, 147.0804
  096U20160314,  Eddy,    23,  1,     13,   1213,2,20160403,   0,-50.3793, 147.0803, 4430,    224.1,   3.9230,  33.9420,2,  33.9242, 2,    304.5,2,    303.2,2,     9.09,2,    25.30,2,     0.01,2,     1.74,2, 0.000379339,2,   -999.0,9,-999.0000,9,  -999.00,  -999.00,9,  -999.00,9,  -999.00,9,  -999.00,9,   3.9077,     1117, -50.3772, 147.0804
  096U20160314,  Eddy,    23,  1,     12,   1212,2,20160403,   0,-50.3793, 147.0803, 4430,    249.0,   4.2430,  34.0160,2,-999.0000, 9,    292.9,2,   -999.0,9,    10.45,2,    25.17,2,     0.01,2,     1.73,2, 0.011446586,2,   -999.0,9,-999.0000,9,  -999.00,  -999.00,9,  -999.00,9,  -999.00,9,  -999.00,9,   4.2253,     1115, -50.3770, 147.0804
  096U20160314,  Eddy,    23,  1,     11,   1211,2,20160403,   0,-50.3793, 147.0803, 4430,    299.8,   4.0480,  34.0360,2,  34.0155, 2,    287.4,2,    286.5,2,    11.70,2,    25.87,2,     0.01,2,     1.77,2, 0.035350239,2,   -999.0,9,-999.0000,9,  -999.00,  -999.00,9,  -999.00,9,  -999.00,9,  -999.00,9,   4.0270,     1114, -50.3767, 147.0804
  096U20160314,  Eddy,    23,  1,     10,   1210,2,20160403,   0,-50.3793, 147.0803, 4430,    349.7,   3.9610,  34.0710,2,-999.0000, 9,    278.1,2,   -999.0,9,    14.22,2,    26.59,2,     0.01,2,     1.82,2, 0.029545362,2,   -999.0,9,-999.0000,9,  -999.00,  -999.00,9,  -999.00,9,  -999.00,9,  -999.00,9,   3.9366,     1112, -50.3765, 147.0805
  096U20160314,  Eddy,    23,  1,      9,   1209,2,20160403,   0,-50.3793, 147.0803, 4430,    398.3,   4.1000,  34.1420,2,  34.1213, 2,    259.9,2,    260.3,2,    17.28,2,    27.55,2,     0.01,2,     1.88,2, 0.023440001,2,   -999.0,9,-999.0000,9,  -999.00,  -999.00,9,  -999.00,9,  -999.00,9,  -999.00,9,   4.0716,     1109, -50.3762, 147.0805
  096U20160314,  Eddy,    23,  1,      8,   1208,2,20160403,   0,-50.3793, 147.0803, 4430,    499.3,   4.1160,  34.2240,2,-999.0000, 9,    237.2,2,   -999.0,9,    22.67,2,    29.11,2,     0.01,2,     1.99,2, 0.021062829,2,   -999.0,9,-999.0000,9,  -999.00,  -999.00,9,  -999.00,9,  -999.00,9,  -999.00,9,   4.0799,     1107, -50.3759, 147.0805
  096U20160314,  Eddy,    23,  1,      7,   1207,2,20160403,   0,-50.3793, 147.0803, 4430,    601.4,   3.6270,  34.2360,2,  34.2164, 2,    230.0,2,    230.2,2,    28.78,2,    30.58,2,     0.01,2,     2.09,2, 0.017422798,2,   -999.0,9,-999.0000,9,  -999.00,  -999.00,9,  -999.00,9,  -999.00,9,  -999.00,9,   3.5854,     1104, -50.3756, 147.0805
  096U20160314,  Eddy,    23,  1,      6,   1206,2,20160403,   0,-50.3793, 147.0803, 4430,    698.5,   3.3840,  34.2810,2,-999.0000, 9,    216.1,2,   -999.0,9,    35.73,2,    31.84,2,     0.00,2,     2.18,2, 0.014217656,2,   -999.0,9,-999.0000,9,  -999.00,  -999.00,9,  -999.00,9,  -999.00,9,  -999.00,9,   3.3364,     1101, -50.3753, 147.0805
  096U20160314,  Eddy,    23,  1,      5,   1205,2,20160403,   0,-50.3793, 147.0803, 4430,    799.7,   3.2880,  34.3430,2,  34.3210, 2,    201.9,2,    203.2,2,    42.74,2,    32.72,2,     0.01,2,     2.25,2, 0.029000635,2,   -999.0,9,-999.0000,9,  -999.00,  -999.00,9,  -999.00,9,  -999.00,9,  -999.00,9,   3.2334,     1059, -50.3751, 147.0805
  096U20160314,  Eddy,    23,  1,      4,   1204,2,20160403,   0,-50.3793, 147.0803, 4430,    900.3,   3.0430,  34.3890,2,-999.0000, 9,    192.0,2,   -999.0,9,    50.03,2,    33.57,2,     0.01,2,     2.31,2, 0.056397106,2,   -999.0,9,-999.0000,9,  -999.00,  -999.00,9,  -999.00,9,  -999.00,9,  -999.00,9,   2.9824,     1056, -50.3747, 147.0805
  096U20160314,  Eddy,    23,  1,      3,   1203,2,20160403,   0,-50.3793, 147.0803, 4430,   1002.7,   2.9450,  34.4320,2,  34.4102, 2,    184.6,2,    187.0,2,    55.11,2,    33.95,2,     0.01,2,     2.33,2, 0.080960161,2,   -999.0,9,-999.0000,9,  -999.00,  -999.00,9,  -999.00,9,  -999.00,9,  -999.00,9,   2.8775,     1053, -50.3745, 147.0805
  096U20160314,  Eddy,    23,  1,      2,   1202,2,20160403,   0,-50.3793, 147.0803, 4430,   1249.7,   2.6740,  34.5560,2,-999.0000, 9,    172.9,2,   -999.0,9,    67.06,2,    33.99,2,     0.01,2,     2.34,2, 0.063684132,2,   -999.0,9,-999.0000,9,  -999.00,  -999.00,9,  -999.00,9,  -999.00,9,  -999.00,9,   2.5898,     1047, -50.3739, 147.0806
  096U20160314,  Eddy,    23,  1,      1,   1201,2,20160403,   0,-50.3793, 147.0803, 4430,   1502.2,   2.4970,  34.6430,2,  34.6212, 2,    172.8,2,    175.3,2,    73.10,2,    33.11,2,     0.01,2,     2.28,2, 0.027471833,2,   -999.0,9,-999.0000,9,  -999.00,  -999.00,9,  -999.00,9,  -999.00,9,  -999.00,9,   2.3947,     1041, -50.3734, 147.0806
  096U20160314,  Eddy,    25,  1,     24,   1224,2,20160406,   0,-53.0114, 147.1006, 3926,      8.0,   4.9780,  33.7830,2,-999.0000, 9,    314.4,2,   -999.0,9,     2.83,2,    24.46,2,     0.28,2,     1.66,2,  0.41582281,2,   -999.0,9,-999.0000,9,  -999.00,  -999.00,9,  -999.00,9,  -999.00,9,  -999.00,9,   4.9774,      302, -53.0113, 147.1008
  096U20160314,  Eddy,    25,  1,     23,   1223,2,20160406,   0,-53.0114, 147.1006, 3926,     20.2,   4.9790,  33.7840,2,  33.7652, 2,    314.4,2,   -999.0,9,     2.85,2,    24.45,2,     0.28,2,     1.65,2, 0.422549232,2,   -999.0,9,-999.0000,9,  -999.00,  -999.00,9,  -999.00,9,  -999.00,9,  -999.00,9,   4.9775,      300, -53.0112, 147.1008
  096U20160314,  Eddy,    25,  1,     22,   1222,2,20160406,   0,-53.0114, 147.1006, 3926,     28.9,   4.9770,  33.7840,2,-999.0000, 9,    314.2,2,   -999.0,9,     2.85,2,    24.51,2,     0.28,2,     1.66,2, 0.409913351,2,   -999.0,9,-999.0000,9,  -999.00,  -999.00,9,  -999.00,9,  -999.00,9,  -999.00,9,   4.9748,      259, -53.0111, 147.1010
  096U20160314,  Eddy,    25,  1,     21,   1221,2,20160406,   0,-53.0114, 147.1006, 3926,     43.4,   4.9770,  33.7840,2,  33.7623, 2,    314.3,2,   -999.0,9,     2.81,2,    24.49,2,     0.28,2,     1.66,2, 0.409747935,2,   -999.0,9,-999.0000,9,  -999.00,  -999.00,9,  -999.00,9,  -999.00,9,  -999.00,9,   4.9738,      258, -53.0111, 147.1011
  096U20160314,  Eddy,    25,  1,     20,   1220,2,20160406,   0,-53.0114, 147.1006, 3926,     61.1,   4.9770,  33.7840,2,-999.0000, 9,    313.9,2,   -999.0,9,     2.87,2,    24.43,2,     0.28,2,     1.65,2, 0.419466422,2,   -999.0,9,-999.0000,9,  -999.00,  -999.00,9,  -999.00,9,  -999.00,9,  -999.00,9,   4.9724,      256, -53.0110, 147.1011
  096U20160314,  Eddy,    25,  1,     19,   1219,2,20160406,   0,-53.0114, 147.1006, 3926,     81.6,   4.9220,  33.7890,2,  33.7669, 2,    314.2,2,   -999.0,9,     2.89,2,    24.52,2,     0.28,2,     1.66,2,  0.42983669,2,   -999.0,9,-999.0000,9,  -999.00,  -999.00,9,  -999.00,9,  -999.00,9,  -999.00,9,   4.9159,      255, -53.0110, 147.1012
  096U20160314,  Eddy,    25,  1,     18,   1218,2,20160406,   0,-53.0114, 147.1006, 3926,    100.2,   4.2880,  33.8210,2,-999.0000, 9,    318.1,2,   -999.0,9,     4.05,2,    24.78,2,     0.29,2,     1.73,2, 0.604765874,2,   -999.0,9,-999.0000,9,  -999.00,  -999.00,9,  -999.00,9,  -999.00,9,  -999.00,9,   4.2810,      254, -53.0111, 147.1012
  096U20160314,  Eddy,    25,  1,     17,   1217,2,20160406,   0,-53.0114, 147.1006, 3926,    126.9,   2.8930,  33.8610,2,  33.8409, 2,    322.4,2,   -999.0,9,    10.39,2,    26.05,2,     0.36,2,     1.92,2, 0.780609425,2,   -999.0,9,-999.0000,9,  -999.00,  -999.00,9,  -999.00,9,  -999.00,9,  -999.00,9,   2.8855,      252, -53.0112, 147.1011
  096U20160314,  Eddy,    25,  1,     16,   1216,2,20160406,   0,-53.0114, 147.1006, 3926,    148.1,   1.7810,  33.9070,2,-999.0000, 9,    323.2,2,   -999.0,9,    17.23,2,    27.89,2,     0.31,2,     2.01,2, 0.178290934,2,   -999.0,9,-999.0000,9,  -999.00,  -999.00,9,  -999.00,9,  -999.00,9,  -999.00,9,   1.7736,      250, -53.0112, 147.1010
  096U20160314,  Eddy,    25,  1,     15,   1215,2,20160406,   0,-53.0114, 147.1006, 3926,    175.4,   1.6460,  33.9380,2,  33.9170, 2,    318.7,2,   -999.0,9,    19.81,2,    28.69,2,     0.02,2,     1.97,2, 0.057955741,2,   -999.0,9,-999.0000,9,  -999.00,  -999.00,9,  -999.00,9,  -999.00,9,  -999.00,9,   1.6374,      249, -53.0111, 147.1007
  096U20160314,  Eddy,    25,  1,     14,   1214,2,20160406,   0,-53.0114, 147.1006, 3926,    200.1,   1.7260,  33.9750,2,-999.0000, 9,    308.3,2,   -999.0,9,    21.87,2,    29.25,2,     0.01,2,     1.99,2,  0.04986074,2,   -999.0,9,-999.0000,9,  -999.00,  -999.00,9,  -999.00,9,  -999.00,9,  -999.00,9,   1.7160,      247, -53.0110, 147.1006
  096U20160314,  Eddy,    25,  1,     13,   1213,2,20160406,   0,-53.0114, 147.1006, 3926,    225.0,   2.0090,  34.0530,2,  34.0343, 2,    285.4,2,   -999.0,9,    26.60,2,    30.22,2,     0.01,2,     2.06,2, 0.040684148,2,   -999.0,9,-999.0000,9,  -999.00,  -999.00,9,  -999.00,9,  -999.00,9,  -999.00,9,   1.9971,      245, -53.0110, 147.1003
  096U20160314,  Eddy,    25,  1,     12,   1212,2,20160406,   0,-53.0114, 147.1006, 3926,    249.2,   2.1540,  34.1080,2,-999.0000, 9,    269.0,2,   -999.0,9,    30.61,2,    31.02,2,     0.00,2,     2.11,2, 0.054365819,2,   -999.0,9,-999.0000,9,  -999.00,  -999.00,9,  -999.00,9,  -999.00,9,  -999.00,9,   2.1405,      244, -53.0111, 147.1001
  096U20160314,  Eddy,    25,  1,     11,   1211,2,20160406,   0,-53.0114, 147.1006, 3926,    299.5,   2.0590,  34.1620,2,  34.1455, 2,    253.8,2,   -999.0,9,    37.30,2,    32.37,2,     0.00,2,     2.21,2, 0.067238296,2,   -999.0,9,-999.0000,9,  -999.00,  -999.00,9,  -999.00,9,  -999.00,9,  -999.00,9,   2.0428,      242, -53.0112, 147.0999
  096U20160314,  Eddy,    25,  1,     10,   1210,2,20160406,   0,-53.0114, 147.1006, 3926,    351.3,   2.5070,  34.2710,2,-999.0000, 9,    217.6,2,   -999.0,9,    45.17,2,    33.76,2,     0.00,2,     2.30,2, 0.048582717,2,   -999.0,9,-999.0000,9,  -999.00,  -999.00,9,  -999.00,9,  -999.00,9,  -999.00,9,   2.4865,      240, -53.0114, 147.0997
  096U20160314,  Eddy,    25,  1,      9,   1209,2,20160406,   0,-53.0114, 147.1006, 3926,    402.0,   2.5380,  34.3290,2,  34.3063, 2,    204.6,2,   -999.0,9,    50.86,2,    34.37,2,     0.00,2,     2.34,2, 0.047646751,2,   -999.0,9,-999.0000,9,  -999.00,  -999.00,9,  -999.00,9,  -999.00,9,  -999.00,9,   2.5142,      238, -53.0114, 147.0998
  096U20160314,  Eddy,    25,  1,      8,   1208,2,20160406,   0,-53.0114, 147.1006, 3926,    498.9,   2.5440,  34.4240,2,-999.0000, 9,    187.2,2,   -999.0,9,    59.21,2,    35.01,2,     0.00,2,     2.39,2, 0.061876721,2,   -999.0,9,-999.0000,9,  -999.00,  -999.00,9,  -999.00,9,  -999.00,9,  -999.00,9,   2.5140,      236, -53.0113, 147.1000
  096U20160314,  Eddy,    25,  1,      7,   1207,2,20160406,   0,-53.0114, 147.1006, 3926,    599.6,   2.5140,  34.4960,2,  34.4740, 2,    178.4,2,   -999.0,9,    65.33,2,    35.06,2,     0.00,2,     2.39,2,  0.05348792,2,   -999.0,9,-999.0000,9,  -999.00,  -999.00,9,  -999.00,9,  -999.00,9,  -999.00,9,   2.4775,      233, -53.0114, 147.1001
  096U20160314,  Eddy,    25,  1,      6,   1206,2,20160406,   0,-53.0114, 147.1006, 3926,    701.9,   2.4910,  34.5680,2,-999.0000, 9,    174.6,2,   -999.0,9,    69.78,2,    34.46,2,     0.00,2,     2.36,2, 0.058547088,2,   -999.0,9,-999.0000,9,  -999.00,  -999.00,9,  -999.00,9,  -999.00,9,  -999.00,9,   2.4477,      230, -53.0114, 147.1004
  096U20160314,  Eddy,    25,  1,      5,   1205,2,20160406,   0,-53.0114, 147.1006, 3926,    800.9,   2.4500,  34.6180,2,  34.5961, 2,    174.9,2,   -999.0,9,    72.62,2,    33.85,2,     0.00,2,     2.32,2, 0.064744789,2,   -999.0,9,-999.0000,9,  -999.00,  -999.00,9,  -999.00,9,  -999.00,9,  -999.00,9,   2.4002,      227, -53.0113, 147.1004
  096U20160314,  Eddy,    25,  1,      4,   1204,2,20160406,   0,-53.0114, 147.1006, 3926,    898.3,   2.3970,  34.6580,2,-999.0000, 9,    176.2,2,   -999.0,9,    74.63,2,    33.25,2,     0.00,2,     2.28,2, 0.061572711,2,   -999.0,9,-999.0000,9,  -999.00,  -999.00,9,  -999.00,9,  -999.00,9,  -999.00,9,   2.3407,      225, -53.0111, 147.1002
  096U20160314,  Eddy,    25,  1,      3,   1203,2,20160406,   0,-53.0114, 147.1006, 3926,    999.0,   2.3510,  34.6840,2,  34.6639, 2,    178.6,2,   -999.0,9,    75.96,2,    32.83,2,     0.00,2,     2.24,2, 0.062976401,2,   -999.0,9,-999.0000,9,  -999.00,  -999.00,9,  -999.00,9,  -999.00,9,  -999.00,9,   2.2880,      222, -53.0109, 147.1001
  096U20160314,  Eddy,    25,  1,      2,   1202,2,20160406,   0,-53.0114, 147.1006, 3926,   1252.6,   2.1750,  34.7370,2,-999.0000, 9,    185.0,2,   -999.0,9,    80.16,2,    31.68,2,     0.00,2,     2.17,2, 0.054638243,2,   -999.0,9,-999.0000,9,  -999.00,  -999.00,9,  -999.00,9,  -999.00,9,  -999.00,9,   2.0950,      217, -53.0110, 147.0992
  096U20160314,  Eddy,    25,  1,      1,   1201,2,20160406,   0,-53.0114, 147.1006, 3926,   1502.6,   2.0070,  34.7650,2,  34.7421, 2,    191.3,2,   -999.0,9,    84.34,2,    30.85,3,     0.00,2,     2.11,2,  0.04797944,2,   -999.0,9,-999.0000,9,  -999.00,  -999.00,9,  -999.00,9,  -999.00,9,  -999.00,9,   1.9100,      211, -53.0108, 147.0973