BOTTLE,20180103PRINUNIVRMK
EXPOCODE,SECT_ID,STNNBR,CASTNO,SAMPNO,BTLNBR,BTLNBR_FLAG_W,DATE,TIME,LATITUDE,LONGITUDE,DEPTH,CTDPRS,CTDTMP,CTDSAL,CTDSAL_FLAG_W,SALNTY,SALNTY_FLAG_W,CTDOXY,CTDOXY_FLAG_W,OXYGEN,OXYGEN_FLAG_W,SILCAT,SILCAT_FLAG_W,NITRAT,NITRAT_FLAG_W,NITRIT,NITRIT_FLAG_W,PHSPHT,PHSPHT_FLAG_W,NH4,NH4_FLAG_W,ALKALI,ALKALI_FLAG_W,PH_TOT,PH_TOT_FLAG_W,PH_TMP,POC,POC_FLAG_W,PON,PON_FLAG_W,CHLORA,CHLORA_FLAG_W,PPHYTN,PPHYTN_FLAG_W,THETA,BTL_TIME,BTL_LAT,BTL_LON
,,,,,,,,,,,METERS,DBAR,ITS-90,PSS-78,,PSS-78,,UMOL/KG,,UMOL/KG,,UMOL/KG,,UMOL/KG,,UMOL/KG,,UMOL/KG,,UMOL/KG,,UMOL/KG,,,,DEG C,UG/KG,,UG/KG,,UG/KG,,UG/KG,,DEG C,,,
  096U20160314,  Eddy,    33,  1,     24,   1224,2,20160409,   0,-51.9410, 148.7944, 4259,     10.6,   9.3180,  34.3180,2,-999.0000, 9,    279.1,2,   -999.0,9,    31.97,4,    25.60,4,     0.01,2,     1.81,4, 0.011816969,2,   -999.0,9,-999.0000,9,  -999.00,  -999.00,9,  -999.00,9,  -999.00,9,  -999.00,9,   9.3168,     1251, -51.9406, 148.7942
  096U20160314,  Eddy,    33,  1,     23,   1223,2,20160409,   0,-51.9410, 148.7944, 4259,     14.3,   9.3230,  34.3180,2,  34.2973, 2,    279.2,2,    275.7,2,     1.63,2,    13.59,2,     0.28,2,     1.07,2, 0.202537588,2,   -999.0,9,-999.0000,9,  -999.00,  -999.00,9,  -999.00,9,  -999.00,9,  -999.00,9,   9.3214,     1250, -51.9405, 148.7942
  096U20160314,  Eddy,    33,  1,     22,   1222,2,20160409,   0,-51.9410, 148.7944, 4259,     31.7,   9.3260,  34.3170,2,-999.0000, 9,    279.1,2,   -999.0,9,     1.52,2,    13.63,2,     0.28,2,     1.07,2,  0.22104305,2,   -999.0,9,-999.0000,9,  -999.00,  -999.00,9,  -999.00,9,  -999.00,9,  -999.00,9,   9.3225,     1249, -51.9403, 148.7941
  096U20160314,  Eddy,    33,  1,     21,   1221,2,20160409,   0,-51.9410, 148.7944, 4259,     44.1,   9.3160,  34.3170,2,  34.2967, 2,    279.2,2,    279.9,2,     1.45,2,    13.66,2,     0.28,2,     1.08,2, 0.217428969,2,   -999.0,9,-999.0000,9,  -999.00,  -999.00,9,  -999.00,9,  -999.00,9,  -999.00,9,   9.3112,     1248, -51.9401, 148.7941
  096U20160314,  Eddy,    33,  1,     20,   1220,2,20160409,   0,-51.9410, 148.7944, 4259,     60.0,   9.3300,  34.3180,2,-999.0000, 9,    279.0,2,   -999.0,9,     1.51,2,    13.66,2,     0.28,2,     1.07,2, 0.219340625,2,   -999.0,9,-999.0000,9,  -999.00,  -999.00,9,  -999.00,9,  -999.00,9,  -999.00,9,   9.3234,     1246, -51.9400, 148.7940
  096U20160314,  Eddy,    33,  1,     19,   1219,2,20160409,   0,-51.9410, 148.7944, 4259,     79.4,   9.3300,  34.3170,2,  34.2969, 2,    279.3,2,    276.7,2,     1.54,2,    13.66,2,     0.29,2,     1.07,2, 0.223430892,2,   -999.0,9,-999.0000,9,  -999.00,  -999.00,9,  -999.00,9,  -999.00,9,  -999.00,9,   9.3213,     1245, -51.9398, 148.7940
  096U20160314,  Eddy,    33,  1,     18,   1218,2,20160409,   0,-51.9410, 148.7944, 4259,     99.0,   9.3130,  34.3140,2,-999.0000, 9,    279.0,2,   -999.0,9,     1.45,2,    13.75,2,     0.29,2,     1.08,2, 0.240406702,2,   -999.0,9,-999.0000,9,  -999.00,  -999.00,9,  -999.00,9,  -999.00,9,  -999.00,9,   9.3022,     1244, -51.9396, 148.7940
  096U20160314,  Eddy,    33,  1,     17,   1217,2,20160409,   0,-51.9410, 148.7944, 4259,    126.8,   9.3280,  34.3270,2,  34.2979, 2,    278.3,2,    276.6,2,     1.49,2,    13.85,2,     0.28,2,     1.08,2, 0.247080835,2,   -999.0,9,-999.0000,9,  -999.00,  -999.00,9,  -999.00,9,  -999.00,9,  -999.00,9,   9.3141,     1242, -51.9394, 148.7939
  096U20160314,  Eddy,    33,  1,     16,   1216,2,20160409,   0,-51.9410, 148.7944, 4259,    148.7,   9.6940,  34.6300,2,-999.0000, 9,    262.1,2,   -999.0,9,     3.02,2,    14.04,2,     0.08,2,     1.07,2,  0.06333104,2,   -999.0,9,-999.0000,9,  -999.00,  -999.00,9,  -999.00,9,  -999.00,9,  -999.00,9,   9.6772,     1240, -51.9392, 148.7938
  096U20160314,  Eddy,    33,  1,     15,   1215,2,20160409,   0,-51.9410, 148.7944, 4259,    174.2,   9.5310,  34.6810,2,  34.6707, 2,    260.3,2,    257.6,2,     3.63,2,    14.16,2,     0.03,2,     1.06,2, 0.056407044,2,   -999.0,9,-999.0000,9,  -999.00,  -999.00,9,  -999.00,9,  -999.00,9,  -999.00,9,   9.5115,     1238, -51.9390, 148.7938
  096U20160314,  Eddy,    33,  1,     14,   1214,2,20160409,   0,-51.9410, 148.7944, 4259,    200.1,   9.6510,  34.7240,2,-999.0000, 9,    254.7,2,   -999.0,9,     3.84,2,    14.40,2,     0.02,2,     1.07,2,  0.05658387,2,   -999.0,9,-999.0000,9,  -999.00,  -999.00,9,  -999.00,9,  -999.00,9,  -999.00,9,   9.6284,     1237, -51.9389, 148.7938
  096U20160314,  Eddy,    33,  1,     13,   1213,2,20160409,   0,-51.9410, 148.7944, 4259,    226.1,   9.4370,  34.6990,2,  34.6775, 2,    256.0,2,    254.7,2,     3.97,2,    14.81,2,     0.02,2,     1.10,2, 0.041562332,2,   -999.0,9,-999.0000,9,  -999.00,  -999.00,9,  -999.00,9,  -999.00,9,  -999.00,9,   9.4118,     1235, -51.9387, 148.7937
  096U20160314,  Eddy,    33,  1,     12,   1212,2,20160409,   0,-51.9410, 148.7944, 4259,    251.3,   9.3030,  34.6770,2,-999.0000, 9,    257.6,2,   -999.0,9,     4.06,2,    14.91,2,     0.02,2,     1.11,2,  0.01485893,2,   -999.0,9,-999.0000,9,  -999.00,  -999.00,9,  -999.00,9,  -999.00,9,  -999.00,9,   9.2752,     1233, -51.9385, 148.7937
  096U20160314,  Eddy,    33,  1,     11,   1211,2,20160409,   0,-51.9410, 148.7944, 4259,    300.7,   9.1180,  34.6610,2,  34.6412, 2,    258.1,2,    257.4,2,     4.01,2,    15.13,2,     0.02,2,     1.12,2, 0.028940944,2,   -999.0,9,-999.0000,9,  -999.00,  -999.00,9,  -999.00,9,  -999.00,9,  -999.00,9,   9.0850,     1231, -51.9381, 148.7935
  096U20160314,  Eddy,    33,  1,     10,   1210,2,20160409,   0,-51.9410, 148.7944, 4259,    349.1,   8.9270,  34.6330,2,-999.0000, 9,    261.2,2,   -999.0,9,     4.08,2,    15.35,2,     0.02,2,     1.14,2, 0.032154296,2,   -999.0,9,-999.0000,9,  -999.00,  -999.00,9,  -999.00,9,  -999.00,9,  -999.00,9,   8.8891,     1229, -51.9377, 148.7933
  096U20160314,  Eddy,    33,  1,      9,   1209,2,20160409,   0,-51.9410, 148.7944, 4259,    398.8,   8.9230,  34.6430,2,  34.6223, 2,    254.3,2,    253.2,2,     4.71,2,    16.21,2,     0.01,2,     1.19,2, 0.039331507,2,   -999.0,9,-999.0000,9,  -999.00,  -999.00,9,  -999.00,9,  -999.00,9,  -999.00,9,   8.8796,     1225, -51.9371, 148.7931
  096U20160314,  Eddy,    33,  1,      8,   1208,2,20160409,   0,-51.9410, 148.7944, 4259,    500.6,   8.2470,  34.5400,2,-999.0000, 9,    253.8,2,   -999.0,9,     5.75,2,    17.93,2,     0.01,2,     1.30,2, 0.034829106,2,   -999.0,9,-999.0000,9,  -999.00,  -999.00,9,  -999.00,9,  -999.00,9,  -999.00,9,   8.1948,     1222, -51.9365, 148.7928
  096U20160314,  Eddy,    33,  1,      7,   1207,2,20160409,   0,-51.9410, 148.7944, 4259,    600.9,   7.5710,  34.4590,2,  34.4460, 2,    240.3,2,    238.6,2,     8.39,2,    20.86,2,     0.01,2,     1.48,2, 0.049272078,2,   -999.0,9,-999.0000,9,  -999.00,  -999.00,9,  -999.00,9,  -999.00,9,  -999.00,9,   7.5110,     1219, -51.9360, 148.7926
  096U20160314,  Eddy,    33,  1,      6,   1206,2,20160409,   0,-51.9410, 148.7944, 4259,    699.0,   6.9570,  34.4330,2,-999.0000, 9,    221.6,2,   -999.0,9,    12.77,2,    23.83,2,     0.01,2,     1.66,2, 0.048962009,2,   -999.0,9,-999.0000,9,  -999.00,  -999.00,9,  -999.00,9,  -999.00,9,  -999.00,9,   6.8900,     1216, -51.9355, 148.7924
  096U20160314,  Eddy,    33,  1,      5,   1205,2,20160409,   0,-51.9410, 148.7944, 4259,    802.0,   5.9940,  34.3690,2,  34.3466, 2,    219.4,2,    220.2,2,    17.09,2,    26.21,2,     0.01,2,     1.83,2, 0.044982806,2,   -999.0,9,-999.0000,9,  -999.00,  -999.00,9,  -999.00,9,  -999.00,9,  -999.00,9,   5.9225,     1213, -51.9351, 148.7921
  096U20160314,  Eddy,    33,  1,      4,   1204,2,20160409,   0,-51.9410, 148.7944, 4259,    900.0,   5.2290,  34.3490,2,-999.0000, 9,    213.0,2,   -999.0,9,    23.31,2,    28.46,2,     0.01,2,     1.98,2, 0.051355556,2,   -999.0,9,-999.0000,9,  -999.00,  -999.00,9,  -999.00,9,  -999.00,9,  -999.00,9,   5.1533,     1210, -51.9346, 148.7919
  096U20160314,  Eddy,    33,  1,      3,   1203,2,20160409,   0,-51.9410, 148.7944, 4259,    997.2,   4.5480,  34.3380,2,  34.3169, 2,    210.0,2,    211.0,2,    29.34,2,    29.95,2,     0.01,2,     2.09,2, 0.046057893,2,   -999.0,9,-999.0000,9,  -999.00,  -999.00,9,  -999.00,9,  -999.00,9,  -999.00,9,   4.4687,     1207, -51.9342, 148.7917
  096U20160314,  Eddy,    33,  1,      2,   1202,2,20160409,   0,-51.9410, 148.7944, 4259,   1248.1,   3.4900,  34.3960,2,-999.0000, 9,    191.6,2,   -999.0,9,    47.01,2,    32.71,2,     0.00,2,     2.29,2, 0.060519385,2,   -999.0,9,-999.0000,9,  -999.00,  -999.00,9,  -999.00,9,  -999.00,9,  -999.00,9,   3.3983,     1202, -51.9336, 148.7915
  096U20160314,  Eddy,    33,  1,      1,   1201,2,20160409,   0,-51.9410, 148.7944, 4259,   1501.0,   3.0060,  34.5090,2,  34.4881, 2,    173.3,2,    175.8,2,    64.19,2,    33.79,2,     0.00,2,     2.38,2, 0.041567112,3,   -999.0,9,-999.0000,9,  -999.00,  -999.00,9,  -999.00,9,  -999.00,9,  -999.00,9,   2.8982,     1155, -51.9328, 148.7912
  096U20160314,  Eddy,    34,  1,     24,   1224,2,20160409,   0,-51.8987, 148.5235, 4229,      4.6,   9.7180,  34.4230,2,-999.0000, 9,    275.0,2,   -999.0,9,  -999.00,9,  -999.00,9,  -999.00,9,  -999.00,9,        -999,9,   -999.0,9,-999.0000,9,  -999.00,  -999.00,9,  -999.00,9,  -999.00,9,  -999.00,9,   9.7175,     1541, -51.8986, 148.5235
  096U20160314,  Eddy,    34,  1,     23,   1223,2,20160409,   0,-51.8987, 148.5235, 4229,     14.9,   9.7190,  34.4230,2,-999.0000, 9,    275.4,2,   -999.0,9,  -999.00,9,  -999.00,9,  -999.00,9,  -999.00,9,        -999,9,   -999.0,9,-999.0000,9,  -999.00,  -999.00,9,  -999.00,9,  -999.00,9,  -999.00,9,   9.7173,     1540, -51.8986, 148.5236
  096U20160314,  Eddy,    34,  1,     22,   1222,2,20160409,   0,-51.8987, 148.5235, 4229,     30.7,   9.7210,  34.4220,2,-999.0000, 9,    275.1,2,   -999.0,9,  -999.00,9,  -999.00,9,  -999.00,9,  -999.00,9,        -999,9,   -999.0,9,-999.0000,9,  -999.00,  -999.00,9,  -999.00,9,  -999.00,9,  -999.00,9,   9.7176,     1538, -51.8985, 148.5238
  096U20160314,  Eddy,    34,  1,     21,   1221,2,20160409,   0,-51.8987, 148.5235, 4229,     39.4,   9.7210,  34.4210,2,-999.0000, 9,    275.0,2,   -999.0,9,  -999.00,9,  -999.00,9,  -999.00,9,  -999.00,9,        -999,9,   -999.0,9,-999.0000,9,  -999.00,  -999.00,9,  -999.00,9,  -999.00,9,  -999.00,9,   9.7166,     1538, -51.8985, 148.5238
  096U20160314,  Eddy,    34,  1,     20,   1220,2,20160409,   0,-51.8987, 148.5235, 4229,     59.6,   9.7200,  34.4210,2,-999.0000, 9,    274.8,2,   -999.0,9,  -999.00,9,  -999.00,9,  -999.00,9,  -999.00,9,        -999,9,   -999.0,9,-999.0000,9,  -999.00,  -999.00,9,  -999.00,9,  -999.00,9,  -999.00,9,   9.7133,     1537, -51.8985, 148.5238
  096U20160314,  Eddy,    34,  1,     19,   1219,2,20160409,   0,-51.8987, 148.5235, 4229,     81.3,   9.7300,  34.4220,2,-999.0000, 9,    274.7,2,   -999.0,9,  -999.00,9,  -999.00,9,  -999.00,9,  -999.00,9,        -999,9,   -999.0,9,-999.0000,9,  -999.00,  -999.00,9,  -999.00,9,  -999.00,9,  -999.00,9,   9.7209,     1535, -51.8985, 148.5239
  096U20160314,  Eddy,    34,  1,     18,   1218,2,20160409,   0,-51.8987, 148.5235, 4229,     99.4,   9.7710,  34.4360,2,-999.0000, 9,    273.7,2,   -999.0,9,  -999.00,9,  -999.00,9,  -999.00,9,  -999.00,9,        -999,9,   -999.0,9,-999.0000,9,  -999.00,  -999.00,9,  -999.00,9,  -999.00,9,  -999.00,9,   9.7598,     1534, -51.8986, 148.5239
  096U20160314,  Eddy,    34,  1,     17,   1217,2,20160409,   0,-51.8987, 148.5235, 4229,    100.5,   9.7700,  34.4350,2,-999.0000, 9,    274.1,2,   -999.0,9,  -999.00,9,  -999.00,9,  -999.00,9,  -999.00,9,        -999,9,   -999.0,9,-999.0000,9,  -999.00,  -999.00,9,  -999.00,9,  -999.00,9,  -999.00,9,   9.7586,     1534, -51.8986, 148.5239
  096U20160314,  Eddy,    34,  1,     16,   1216,2,20160409,   0,-51.8987, 148.5235, 4229,    122.8,   9.9090,  34.6300,2,-999.0000, 9,    261.9,2,   -999.0,9,  -999.00,9,  -999.00,9,  -999.00,9,  -999.00,9,        -999,9,   -999.0,9,-999.0000,9,  -999.00,  -999.00,9,  -999.00,9,  -999.00,9,  -999.00,9,   9.8950,     1533, -51.8986, 148.5239
  096U20160314,  Eddy,    34,  1,     15,   1215,2,20160409,   0,-51.8987, 148.5235, 4229,    150.4,   9.3770,  34.6330,2,-999.0000, 9,    264.1,2,   -999.0,9,  -999.00,9,  -999.00,9,  -999.00,9,  -999.00,9,        -999,9,   -999.0,9,-999.0000,9,  -999.00,  -999.00,9,  -999.00,9,  -999.00,9,  -999.00,9,   9.3604,     1532, -51.8987, 148.5239
  096U20160314,  Eddy,    34,  1,     14,   1214,2,20160409,   0,-51.8987, 148.5235, 4229,    150.8,   9.3980,  34.6390,2,-999.0000, 9,    264.3,2,   -999.0,9,  -999.00,9,  -999.00,9,  -999.00,9,  -999.00,9,        -999,9,   -999.0,9,-999.0000,9,  -999.00,  -999.00,9,  -999.00,9,  -999.00,9,  -999.00,9,   9.3813,     1531, -51.8987, 148.5239
  096U20160314,  Eddy,    34,  1,     13,   1213,2,20160409,   0,-51.8987, 148.5235, 4229,    176.3,   9.4320,  34.6570,2,-999.0000, 9,    263.6,2,   -999.0,9,  -999.00,9,  -999.00,9,  -999.00,9,  -999.00,9,        -999,9,   -999.0,9,-999.0000,9,  -999.00,  -999.00,9,  -999.00,9,  -999.00,9,  -999.00,9,   9.4124,     1530, -51.8988, 148.5239
  096U20160314,  Eddy,    34,  1,     12,   1212,2,20160409,   0,-51.8987, 148.5235, 4229,    200.8,   9.3160,  34.6450,2,-999.0000, 9,    263.4,2,   -999.0,9,  -999.00,9,  -999.00,9,  -999.00,9,  -999.00,9,        -999,9,   -999.0,9,-999.0000,9,  -999.00,  -999.00,9,  -999.00,9,  -999.00,9,  -999.00,9,   9.2938,     1528, -51.8989, 148.5237
  096U20160314,  Eddy,    34,  1,     11,   1211,2,20160409,   0,-51.8987, 148.5235, 4229,    226.9,   9.1800,  34.6240,2,-999.0000, 9,    263.2,2,   -999.0,9,  -999.00,9,  -999.00,9,  -999.00,9,  -999.00,9,        -999,9,   -999.0,9,-999.0000,9,  -999.00,  -999.00,9,  -999.00,9,  -999.00,9,  -999.00,9,   9.1551,     1527, -51.8988, 148.5236
  096U20160314,  Eddy,    34,  1,     10,   1210,2,20160409,   0,-51.8987, 148.5235, 4229,    250.6,   9.1180,  34.6250,2,-999.0000, 9,    262.5,2,   -999.0,9,  -999.00,9,  -999.00,9,  -999.00,9,  -999.00,9,        -999,9,   -999.0,9,-999.0000,9,  -999.00,  -999.00,9,  -999.00,9,  -999.00,9,  -999.00,9,   9.0906,     1525, -51.8988, 148.5234
  096U20160314,  Eddy,    34,  1,      9,   1209,2,20160409,   0,-51.8987, 148.5235, 4229,    252.7,   9.1410,  34.6300,2,-999.0000, 9,    262.7,2,   -999.0,9,  -999.00,9,  -999.00,9,  -999.00,9,  -999.00,9,        -999,9,   -999.0,9,-999.0000,9,  -999.00,  -999.00,9,  -999.00,9,  -999.00,9,  -999.00,9,   9.1133,     1525, -51.8988, 148.5234
  096U20160314,  Eddy,    34,  1,      8,   1208,2,20160409,   0,-51.8987, 148.5235, 4229,    274.6,   9.1750,  34.6500,2,-999.0000, 9,    263.3,2,   -999.0,9,  -999.00,9,  -999.00,9,  -999.00,9,  -999.00,9,        -999,9,   -999.0,9,-999.0000,9,  -999.00,  -999.00,9,  -999.00,9,  -999.00,9,  -999.00,9,   9.1448,     1524, -51.8987, 148.5233
  096U20160314,  Eddy,    34,  1,      7,   1207,2,20160409,   0,-51.8987, 148.5235, 4229,    300.4,   9.1580,  34.6540,2,-999.0000, 9,    261.0,2,   -999.0,9,  -999.00,9,  -999.00,9,  -999.00,9,  -999.00,9,        -999,9,   -999.0,9,-999.0000,9,  -999.00,  -999.00,9,  -999.00,9,  -999.00,9,  -999.00,9,   9.1250,     1523, -51.8988, 148.5232
  096U20160314,  Eddy,    34,  1,      6,   1206,2,20160409,   0,-51.8987, 148.5235, 4229,    325.3,   9.0920,  34.6460,2,-999.0000, 9,    260.6,2,   -999.0,9,  -999.00,9,  -999.00,9,  -999.00,9,  -999.00,9,        -999,9,   -999.0,9,-999.0000,9,  -999.00,  -999.00,9,  -999.00,9,  -999.00,9,  -999.00,9,   9.0563,     1521, -51.8988, 148.5232
  096U20160314,  Eddy,    34,  1,      5,   1205,2,20160409,   0,-51.8987, 148.5235, 4229,    350.6,   9.0590,  34.6460,2,-999.0000, 9,    260.4,2,   -999.0,9,  -999.00,9,  -999.00,9,  -999.00,9,  -999.00,9,        -999,9,   -999.0,9,-999.0000,9,  -999.00,  -999.00,9,  -999.00,9,  -999.00,9,  -999.00,9,   9.0206,     1520, -51.8988, 148.5232
  096U20160314,  Eddy,    34,  1,      4,   1204,2,20160409,   0,-51.8987, 148.5235, 4229,    404.7,   9.0090,  34.6450,2,-999.0000, 9,    261.0,2,   -999.0,9,  -999.00,9,  -999.00,9,  -999.00,9,  -999.00,9,        -999,9,   -999.0,9,-999.0000,9,  -999.00,  -999.00,9,  -999.00,9,  -999.00,9,  -999.00,9,   8.9647,     1518, -51.8987, 148.5231
  096U20160314,  Eddy,    34,  1,      3,   1203,2,20160409,   0,-51.8987, 148.5235, 4229,    448.3,   8.8710,  34.6240,2,-999.0000, 9,    259.0,2,   -999.0,9,  -999.00,9,  -999.00,9,  -999.00,9,  -999.00,9,        -999,9,   -999.0,9,-999.0000,9,  -999.00,  -999.00,9,  -999.00,9,  -999.00,9,  -999.00,9,   8.8222,     1516, -51.8988, 148.5230
  096U20160314,  Eddy,    34,  1,      2,   1202,2,20160409,   0,-51.8987, 148.5235, 4229,    498.1,   8.5420,  34.5790,2,-999.0000, 9,    251.8,2,   -999.0,9,  -999.00,9,  -999.00,9,  -999.00,9,  -999.00,9,        -999,9,   -999.0,9,-999.0000,9,  -999.00,  -999.00,9,  -999.00,9,  -999.00,9,  -999.00,9,   8.4889,     1513, -51.8988, 148.5229
  096U20160314,  Eddy,    34,  1,      1,   1201,2,20160409,   0,-51.8987, 148.5235, 4229,    499.2,   8.5340,  34.5770,2,-999.0000, 9,    251.5,2,   -999.0,9,  -999.00,9,  -999.00,9,  -999.00,9,  -999.00,9,        -999,9,   -999.0,9,-999.0000,9,  -999.00,  -999.00,9,  -999.00,9,  -999.00,9,  -999.00,9,   8.4808,     1513, -51.8988, 148.5229