BOTTLE,20020708WHPSIOKJU
EXPOCODE,SECT_ID,STNNBR,CASTNO,SAMPNO,BTLNBR,BTLNBR_FLAG_W,DATE,TIME,LATITUDE,LONGITUDE,DEPTH,CTDPRS,CTDTMP,CTDSAL,CTDSAL_FLAG_W,SALNTY,SALNTY_FLAG_W,CTDOXY,CTDOXY_FLAG_W,OXYGEN,OXYGEN_FLAG_W,SILCAT,SILCAT_FLAG_W,NO2+NO3,NO2+NO3_FLAG_W,PHSPHT,PHSPHT_FLAG_W,CFC-11,CFC-11_FLAG_W,CFC-12,CFC-12_FLAG_W,CFC113,CFC113_FLAG_W,CCL4,CCL4_FLAG_W,TCARBN,TCARBN_FLAG_W,ALKALI,ALKALI_FLAG_W,MCHFRM,MCHFRM_FLAG_W,THETA,CTDRAW
,,,,,,,,,,,,DBAR,ITS-90,PSS-78,,PSS-78,,UMOL/KG,,UMOL/KG,,UMOL/KG,,UMOL/KG,,UMOL/KG,,PMOL/KG,,PMOL/KG,,PMOL/KG,,PMOL/KG,,UMOL/KG,,UMOL/KG,,PMOL/KG,,DEG C,
   18HU97009_1,  AR7W,    47,  6, 186941,   OC52,2,19970522,0102, 60.1897, -48.6865, 2889,     19.9,   4.2984,  34.7463,2,  34.7447,2,    314.4,2,    327.6,2,     7.64,6,    12.57,6,     0.85,6,    5.060,2,    2.930,2, -999.000,5,    6.420,3,   2126.9,6,   2292.7,2,   0.000,3,  4.2970,     20
   18HU97009_1,  AR7W,    47,  6, 186940,   OC51,2,19970522,0102, 60.1897, -48.6865, 2889,     69.1,   4.3070,  34.7813,2,  34.7818,2,    306.5,2,    319.6,2,     7.77,6,    13.53,6,     0.90,6,    5.060,2,    2.810,2, -999.000,5,    6.470,3,   2130.5,2,   2294.6,2,  -1.000,4,  4.3020,     69
   18HU97009_1,  AR7W,    47,  6, 186939,   OC56,2,19970522,0102, 60.1897, -48.6865, 2889,    248.9,   4.1584,  34.8432,2,  34.8438,2,    293.0,2,    305.6,2,     8.13,6,    14.94,6,     0.98,6,    4.860,2,    2.810,2, -999.000,5,    5.680,2,   2140.8,2,   2290.8,2,  -1.000,4,  4.1405,    249
   18HU97009_1,  AR7W,    47,  6, 186938,   OC61,2,19970522,0102, 60.1897, -48.6865, 2889,    369.2,   4.0148,  34.8764,2,  34.8774,2,    282.8,2,    295.1,2,     8.44,6,    15.62,6,     1.02,6,    4.300,2,    2.550,2, -999.000,5,    5.300,2,   2143.8,2,   2296.6,2,   0.000,3,  3.9884,    369
   18HU97009_1,  AR7W,    47,  6, 186937,   OC82,2,19970522,0102, 60.1897, -48.6865, 2889,    508.3,   3.8508,  34.8770,2,  34.8768,2,    280.8,2,    293.2,2,     8.86,6,    15.91,6,     1.03,6,    4.190,2,    2.270,2, -999.000,5,    5.320,2,   2149.3,2,   2296.0,2,  -1.000,4,  3.8145,    508
   18HU97009_1,  AR7W,    47,  6, 186936,   OC83,2,19970522,0102, 60.1897, -48.6865, 2889,    676.6,   3.6239,  34.8753,2,  34.8751,2,    279.2,2,    290.6,2,     8.98,2,    16.61,6,     1.16,2,    4.100,2,    2.350,2, -999.000,5,    5.520,2,   2153.0,2,   2294.2,2,  -1.000,4,  3.5760,    677
   18HU97009_1,  AR7W,    47,  6, 186935,   OC94,2,19970522,0102, 60.1897, -48.6865, 2889,    848.2,   3.5487,  34.8816,2,  34.8823,2,    275.3,2,    287.0,2,     9.31,6,    16.39,6,     1.07,6,    3.760,2,    2.270,2, -999.000,5,    4.970,2,   2152.4,2,   2298.0,2,   0.000,3,  3.4880,    848
   18HU97009_1,  AR7W,    47,  6, 186934,   OC85,2,19970522,0102, 60.1897, -48.6865, 2889,   1052.7,   3.4144,  34.8850,2,  34.8843,2,    273.2,2,    284.7,2,     9.66,6,    16.61,6,     1.08,6,    3.440,2,    1.870,2, -999.000,5,    4.340,3,   2153.7,2,   2294.7,2,  -1.000,4,  3.3384,   1053
   18HU97009_1,  AR7W,    47,  6, 186933,   OC86,2,19970522,0102, 60.1897, -48.6865, 2889,   1251.9,   3.2532,  34.8794,2,  34.8788,2,    276.7,2,    287.6,2,     9.50,6,    16.78,6,     1.06,6,    3.630,2,    2.030,2, -999.000,5,    5.530,3,   2152.4,6,   2296.0,2,  -1.000,4,  3.1625,   1252
   18HU97009_1,  AR7W,    47,  6, 186932,   OC87,2,19970522,0102, 60.1897, -48.6865, 2889,   1452.2,   3.0766,  34.8672,2,  34.8678,2,    282.0,2,    292.6,2,     9.63,6,    16.38,6,     1.06,6,    3.680,2,    2.000,2, -999.000,5,    4.660,2,   2150.5,2,   2293.2,2,   0.000,3,  2.9711,   1452
   18HU97009_1,  AR7W,    47,  6, 186931,   OC88,2,19970522,0102, 60.1897, -48.6865, 2889,   1626.7,   3.0083,  34.8665,2,  34.8668,6,    282.0,2,    292.8,2,     9.50,6,    16.57,6,     1.05,6,    3.500,2,    1.920,2, -999.000,5,    4.340,2,   2152.0,2,   2292.4,2,  -1.000,4,  2.8889,   1627
   18HU97009_1,  AR7W,    47,  6, 186930,   OC36,2,19970522,0102, 60.1897, -48.6865, 2889,   1858.5,   2.9681,  34.8927,2,  34.8927,2,    276.0,2,    285.5,2,    10.31,6,    15.99,6,     1.06,6,    2.973,6,    1.555,6, -999.000,5,    4.270,6,   2151.1,2,   2297.0,2, 416.197,4,  2.8289,   1859
   18HU97009_1,  AR7W,    47,  6, 186929,   OC84,2,19970522,0102, 60.1897, -48.6865, 2889,   2057.9,   2.8025,  34.9000,2,  34.9006,2,    275.6,2,    285.2,2,    10.29,6,    15.99,6,     1.02,6,    2.700,2,    1.420,2, -999.000,5,    3.620,2,   2151.7,2,   2296.9,2,  -1.000,4,  2.6478,   2058
   18HU97009_1,  AR7W,    47,  6, 186928,   OC90,2,19970522,0102, 60.1897, -48.6865, 2889,   2239.4,   2.5658,  34.9068,2,  34.9081,2,    276.3,2,    283.9,6,    11.28,6,    15.51,6,     1.02,6,    2.440,2,    1.380,2, -999.000,5,    3.370,2,   2154.7,2,   2293.3,2,  -1.000,4,  2.3983,   2239
   18HU97009_1,  AR7W,    47,  6, 186927,   OC91,2,19970522,0102, 60.1897, -48.6865, 2889,   2401.2,   2.3928,  34.9043,2,  34.9041,2,    278.5,2,    285.2,2,    11.45,6,    15.64,6,     1.02,6,    2.520,2,    1.210,2, -999.000,5,    3.580,2,   2151.7,2,   2298.5,6,   0.000,3,  2.2135,   2401
   18HU97009_1,  AR7W,    47,  6, 186926,   OC64,2,19970522,0102, 60.1897, -48.6865, 2889,   2540.6,   2.1373,  34.8976,2,  34.8975,2,    283.1,2,    288.6,2,    11.52,6,    15.40,6,     1.01,6,    2.790,2,    1.460,2, -999.000,5,    3.690,2,   2154.0,2,   2295.8,2,  -1.000,4,  1.9497,   2541
   18HU97009_1,  AR7W,    47,  6, 186925,   OC92,2,19970522,0102, 60.1897, -48.6865, 2889,   2659.7,   2.0272,  34.8977,2,  34.8975,2,    286.9,2,    291.8,2,     9.95,6,    15.07,6,     0.97,6,    3.020,2,    1.880,2, -999.000,5,    4.090,2,   2154.1,2,   2294.5,2,  -1.000,4,  1.8306,   2660
   18HU97009_1,  AR7W,    47,  6, 186924,   OC58,2,19970522,0102, 60.1897, -48.6865, 2889,   2760.8,   1.8526,  34.8952,2,  34.8949,2,    290.9,2,    294.5,2,     9.75,6,    14.91,6,     0.97,2,    3.240,2,    2.170,3, -999.000,5,    3.600,3,   2152.7,2,   2294.4,2,   0.000,3,  1.6499,   2761
   18HU97009_1,  AR7W,    47,  6, 186923,   OC93,2,19970522,0102, 60.1897, -48.6865, 2889,   2840.9,   1.7707,  34.8940,2,  34.8935,2,    293.1,2,    294.7,2,     9.67,6,    14.70,6,     0.96,6,    3.440,2,    1.810,2, -999.000,5,    4.980,3,   2156.9,2,   2293.9,2,  -1.000,4,  1.5621,   2841
   18HU97009_1,  AR7W,    47,  6, 186922,   OC66,2,19970522,0102, 60.1897, -48.6865, 2889,   2899.6,   1.7776,  34.8941,2,  34.8939,2,    293.7,2,    295.1,2,     9.52,6,    14.54,6,     0.97,6,    3.270,2,    1.710,2, -999.000,5,    4.370,2,   2159.4,2,   2305.4,2,  -1.000,4,  1.5633,   2900
   18HU97009_1,  AR7W,    48,  1, 186966,   OC80,2,19970522,0542, 59.9918, -48.9030, 3041,      9.4,   4.0597,  34.4267,2,  34.4391,2,    366.9,2,    371.5,2,     0.76,6,     3.76,2,     0.26,6,    5.247,2,    2.862,2,    0.282,2,    7.155,2,   2073.8,3,   2276.9,2, 125.842,4,  4.0591,      9
   18HU97009_1,  AR7W,    48,  1, 186965,   OC55,2,19970522,0542, 59.9918, -48.9030, 3041,     39.6,   3.9345,  34.6023,2,  34.6058,2,    322.2,2,    329.3,2,     7.24,6,    12.14,6,     0.80,6,    5.003,2,    2.667,2,    0.253,2,    7.066,2,   2120.5,2,   -999.0,5, 244.667,3,  3.9318,     40
   18HU97009_1,  AR7W,    48,  1, 186964,   OC81,2,19970522,0542, 59.9918, -48.9030, 3041,     74.7,   3.7297,  34.6146,2,  34.6148,2,    313.2,2,    320.5,2,     7.49,6,    13.04,6,     0.86,6,    5.129,2,    2.803,2,    0.282,2,    6.978,2,   2128.7,2,   2279.1,2, 269.575,3,  3.7247,     75
   18HU97009_1,  AR7W,    48,  1, 186963,   OC69,2,19970522,0542, 59.9918, -48.9030, 3041,    118.9,   3.8371,  34.7352,2,  34.7363,2,    305.7,2,    312.8,2,     7.58,6,    14.18,6,     0.92,6,    4.652,2,    2.472,2,    0.272,2,    6.170,2,   2136.3,2,   2284.4,2,  14.442,3,  3.8290,    119
   18HU97009_1,  AR7W,    48,  1, 186962,   OC52,2,19970522,0542, 59.9918, -48.9030, 3041,    200.3,   3.8864,  34.7804,2,  34.7814,2,    300.7,2,    308.0,2,     7.72,6,    14.69,6,     0.93,6,    4.583,2,    2.394,2,    0.243,2,    6.101,2,   2140.1,2,   2283.2,2, 185.768,4,  3.8725,    200
   18HU97009_1,  AR7W,    48,  1, 186961,   OC51,2,19970522,0542, 59.9918, -48.9030, 3041,    299.6,   4.1573,  34.8605,2,  34.8621,2,    292.1,2,    300.6,2,     8.01,6,    15.43,6,     0.98,6,    4.466,2,    2.355,2,    0.253,2,    6.130,2,   2145.0,2,   2273.0,2, 194.442,4,  4.1357,    300
   18HU97009_1,  AR7W,    48,  1, 186960,   OC56,2,19970522,0542, 59.9918, -48.9030, 3041,    415.3,   4.0433,  34.8904,2,  34.8802,2,    281.5,2,    291.0,2,     8.47,6,    15.74,6,     0.98,6,    4.010,2,    2.190,2, -999.000,5,    6.430,2,   2148.7,2,   2279.7,2, 284.460,3,  4.0133,    415
   18HU97009_1,  AR7W,    48,  1, 186959,   OC61,2,19970522,0542, 59.9918, -48.9030, 3041,    560.9,   3.7450,  34.8802,2,  34.8812,2,    282.2,2,    289.5,2,     8.89,6,    16.42,6,     1.01,6,    3.834,2,    2.043,2,    0.204,2,    5.157,2,   2151.2,2,   -999.0,5, 140.758,4,  3.7052,    561
   18HU97009_1,  AR7W,    48,  1, 186958,   OC82,2,19970522,0542, 59.9918, -48.9030, 3041,    720.3,   3.6127,  34.8838,2,  34.8841,2,    279.9,2,    287.2,2,     9.00,6,    16.47,6,     1.03,6,    3.785,2,    1.927,2,    0.214,2,    5.157,2,   2152.0,2,   2288.9,2, 140.571,4,  3.5615,    720
   18HU97009_1,  AR7W,    48,  1, 186957,   OC83,2,19970522,0542, 59.9918, -48.9030, 3041,    878.8,   3.4196,  34.8760,2,  34.8766,2,    281.4,2,    289.1,2,     9.18,6,    16.86,6,     1.03,6,    3.639,2,    1.897,2,    0.224,2,    5.186,2,   2154.6,2,   2267.6,2, 224.840,3,  3.3573,    879
   18HU97009_1,  AR7W,    48,  1, 186956,   OC94,2,19970522,0542, 59.9918, -48.9030, 3041,   1039.4,   3.3463,  34.8803,2,  34.8810,2,    278.4,2,    286.2,2,     9.51,6,    16.84,6,     1.05,6,    3.454,2,    1.761,2,    0.175,3,    4.622,3,   2153.6,6,   2217.6,2, 115.970,4,  3.2719,   1039
   18HU97009_1,  AR7W,    48,  1, 186955,   OC85,2,19970522,0542, 59.9918, -48.9030, 3041,   1277.8,   3.1596,  34.8721,2,  34.8725,2,    283.1,2,    290.0,2,     9.66,6,    16.99,6,     1.06,6,    3.590,2,    1.800,2,    0.195,2,    4.884,2,   2153.9,2,   -999.0,4, 117.788,4,  3.0678,   1278
   18HU97009_1,  AR7W,    48,  1, 186954,   OC86,2,19970522,0542, 59.9918, -48.9030, 3041,   1528.1,   2.9842,  34.8587,2,  34.8593,6,    287.7,2,    294.8,2,     9.98,3,    16.76,6,     1.04,6,    3.619,2,    1.790,2,    0.185,2,    4.719,2,   2151.8,2,   2290.2,2, 195.352,4,  2.8735,   1528
   18HU97009_1,  AR7W,    48,  1, 186953,   OC87,2,19970522,0542, 59.9918, -48.9030, 3041,   1718.6,   2.9811,  34.8705,2,  34.8709,2,    283.8,2,    291.2,2,    10.04,3,    16.58,6,     1.05,6,    3.289,2,    1.693,2,    0.175,2,    4.242,2,   2154.3,2,   2289.1,2, 107.230,4,  2.8541,   1719
   18HU97009_1,  AR7W,    48,  1, 186952,   OC88,2,19970522,0542, 59.9918, -48.9030, 3041,   1920.1,   2.9720,  34.8859,2,  34.8876,2,    280.5,2,    287.4,2,     9.93,6,    16.31,6,     1.02,6,    3.045,2,    1.566,2,    0.175,2,    4.300,3,   2150.3,2,   2289.1,2,  89.423,3,  2.8272,   1920
   18HU97009_1,  AR7W,    48,  1, 186951,   OC36,2,19970522,0542, 59.9918, -48.9030, 3041,   2138.9,   2.9076,  34.9012,2,  34.9020,2,    276.7,2,    283.3,6,    10.63,6,    16.21,6,     1.02,6,    2.510,2,    1.294,2,    0.146,2,    3.396,2,   2154.3,2,   2291.6,2, 135.305,4,  2.7438,   2139
   18HU97009_1,  AR7W,    48,  1, 186950,   OC84,2,19970522,0542, 59.9918, -48.9030, 3041,   2320.7,   2.7793,  34.9070,2,  34.9077,2,    275.9,2,    282.1,2,    11.29,6,    15.87,6,     1.01,6,    2.209,2,    1.109,2,    0.126,2,    3.201,2,   2155.4,2,   2294.1,2,  70.108,3,  2.6007,   2321
   18HU97009_1,  AR7W,    48,  1, 186949,   OC90,2,19970522,0542, 59.9918, -48.9030, 3041,   2480.4,   2.6703,  34.9142,2,  34.9155,2,    274.1,2,    279.7,2,    12.48,6,    16.18,6,     1.00,6,    1.871,6,    0.931,6,    0.000,6,    2.899,6,   2155.1,2,   2298.8,2,  35.987,3,  2.4784,   2480
   18HU97009_1,  AR7W,    48,  1, 186948,   OC91,2,19970522,0542, 59.9918, -48.9030, 3041,   2619.8,   2.4647,  34.9056,2,  34.9071,2,    278.6,2,    283.2,2,    11.97,6,    15.57,6,     0.98,6,    2.247,2,    1.129,2,    0.146,2,    3.600,2,   2154.5,2,   2296.7,2,  39.771,3,  2.2633,   2620
   18HU97009_1,  AR7W,    48,  1, 186947,   OC64,2,19970522,0542, 59.9918, -48.9030, 3041,   2729.5,   2.2800,  34.9005,2,  34.9014,2,    282.3,2,    286.2,2,    11.50,6,    15.42,6,     0.98,6,    2.471,2,    1.197,2,    0.146,2,    4.057,2,   2154.2,2,   2294.6,2, 130.481,4,  2.0716,   2730
   18HU97009_1,  AR7W,    48,  1, 186946,   OC92,2,19970522,0542, 59.9918, -48.9030, 3041,   2830.1,   2.0861,  34.8945,2,  34.8955,2,    286.5,2,    289.2,2,    11.19,6,    15.08,6,     0.95,6,    2.705,2,    1.304,2,    0.156,2,    4.319,2,   2155.9,2,   2298.2,6,  85.933,3,  1.8720,   2830
   18HU97009_1,  AR7W,    48,  1, 186945,   OC58,2,19970522,0542, 59.9918, -48.9030, 3041,   2919.7,   1.9653,  34.8968,2,  34.8978,2,    290.4,2,    292.0,2,     9.54,6,    14.72,6,     0.93,6,    3.084,2,    1.615,2,    0.175,2,    5.273,3,   2154.4,2,   2295.2,2,  34.449,3,  1.7451,   2920
   18HU97009_1,  AR7W,    48,  1, 186944,   OC93,2,19970522,0542, 59.9918, -48.9030, 3041,   2978.3,   1.8804,  34.8953,2,  34.8963,2,    292.9,2,    293.8,2,     9.62,6,    14.42,6,     0.92,6,    3.152,2,    1.595,2,    0.165,2,    5.000,2,   2153.1,2,   2297.6,2, 158.505,4,  1.6563,   2978
   18HU97009_1,  AR7W,    48,  1, 186943,   OC66,2,19970522,0542, 59.9918, -48.9030, 3041,   3055.0,   1.8033,  34.8939,2,  34.8949,2,    295.1,2,    294.8,2,     9.33,6,    14.29,6,     0.93,6,    3.298,2,    1.702,2,    0.165,2,    5.185,2,   2155.2,2,   2318.7,2,  77.944,3,  1.5734,   3055