BOTTLE,20020708WHPSIOKJU
EXPOCODE,SECT_ID,STNNBR,CASTNO,SAMPNO,BTLNBR,BTLNBR_FLAG_W,DATE,TIME,LATITUDE,LONGITUDE,DEPTH,CTDPRS,CTDTMP,CTDSAL,CTDSAL_FLAG_W,SALNTY,SALNTY_FLAG_W,CTDOXY,CTDOXY_FLAG_W,OXYGEN,OXYGEN_FLAG_W,SILCAT,SILCAT_FLAG_W,NO2+NO3,NO2+NO3_FLAG_W,PHSPHT,PHSPHT_FLAG_W,CFC-11,CFC-11_FLAG_W,CFC-12,CFC-12_FLAG_W,CFC113,CFC113_FLAG_W,CCL4,CCL4_FLAG_W,TCARBN,TCARBN_FLAG_W,ALKALI,ALKALI_FLAG_W,MCHFRM,MCHFRM_FLAG_W,THETA,CTDRAW
,,,,,,,,,,,,DBAR,ITS-90,PSS-78,,PSS-78,,UMOL/KG,,UMOL/KG,,UMOL/KG,,UMOL/KG,,UMOL/KG,,PMOL/KG,,PMOL/KG,,PMOL/KG,,PMOL/KG,,UMOL/KG,,UMOL/KG,,PMOL/KG,,DEG C,
   18HU97009_1,  AR27,    40,  6, 186776,   OC83,2,19970519,1507, 57.9733, -44.0170, 3195,      5.9,   3.6819,  34.7307,2,-999.0000,9,    325.8,2,   -999.0,9,  -999.00,9,  -999.00,9,  -999.00,9, -999.000,9, -999.000,9, -999.000,9, -999.000,9,   -999.0,9,   -999.0,9,-999.000,9,  3.6815,      6
   18HU97009_1,  AR27,    40,  6, 186774,   OC85,2,19970519,1507, 57.9733, -44.0170, 3195,      6.4,   3.6825,  34.7304,2,-999.0000,9,    325.8,2,   -999.0,9,  -999.00,9,  -999.00,9,  -999.00,9, -999.000,9, -999.000,9, -999.000,9, -999.000,9,   -999.0,9,   -999.0,9,-999.000,9,  3.6821,      6
   18HU97009_1,  AR27,    40,  6, 186770,   OC36,2,19970519,1507, 57.9733, -44.0170, 3195,      6.8,   3.6834,  34.7303,2,-999.0000,9,    326.2,2,   -999.0,9,  -999.00,9,  -999.00,9,  -999.00,9, -999.000,9, -999.000,9, -999.000,9, -999.000,9,   -999.0,9,   -999.0,9,-999.000,9,  3.6830,      7
   18HU97009_1,  AR27,    40,  6, 186772,   OC87,2,19970519,1507, 57.9733, -44.0170, 3195,      6.8,   3.6831,  34.7303,2,-999.0000,9,    326.2,2,   -999.0,9,  -999.00,9,  -999.00,9,  -999.00,9, -999.000,9, -999.000,9, -999.000,9, -999.000,9,   -999.0,9,   -999.0,9,-999.000,9,  3.6827,      7
   18HU97009_1,  AR27,    40,  6, 186775,   OC94,2,19970519,1507, 57.9733, -44.0170, 3195,      7.0,   3.6825,  34.7303,2,-999.0000,9,    325.8,2,   -999.0,9,  -999.00,9,  -999.00,9,  -999.00,9, -999.000,9, -999.000,9, -999.000,9, -999.000,9,   -999.0,9,   -999.0,9,-999.000,9,  3.6821,      7
   18HU97009_1,  AR27,    40,  6, 186773,   OC86,2,19970519,1507, 57.9733, -44.0170, 3195,      7.2,   3.6825,  34.7303,2,-999.0000,9,    326.0,2,   -999.0,9,  -999.00,9,  -999.00,9,  -999.00,9, -999.000,9, -999.000,9, -999.000,9, -999.000,9,   -999.0,9,   -999.0,9,-999.000,9,  3.6820,      7
   18HU97009_1,  AR27,    40,  6, 186769,   OC84,2,19970519,1507, 57.9733, -44.0170, 3195,      7.3,   3.6817,  34.7304,2,-999.0000,9,    326.3,2,   -999.0,9,  -999.00,9,  -999.00,9,  -999.00,9, -999.000,9, -999.000,9, -999.000,9, -999.000,9,   -999.0,9,   -999.0,9,-999.000,9,  3.6812,      7
   18HU97009_1,  AR27,    40,  6, 186800,   OC80,2,19970519,1507, 57.9733, -44.0170, 3195,      7.3,   3.6765,  34.7254,2,  34.7259,2,    319.9,2,    328.3,2,     8.44,6,    13.16,6,     0.88,6,    5.333,2,    2.919,2,    0.263,2,    7.474,2,   2130.6,2,   2286.9,2, 196.146,4,  3.6760,      7
   18HU97009_1,  AR27,    40,  6, 186771,   OC88,2,19970519,1507, 57.9733, -44.0170, 3195,      7.5,   3.6833,  34.7298,2,-999.0000,9,    326.1,2,   -999.0,9,  -999.00,9,  -999.00,9,  -999.00,9, -999.000,9, -999.000,9, -999.000,9, -999.000,9,   -999.0,9,   -999.0,9,-999.000,9,  3.6828,      8
   18HU97009_1,  AR27,    40,  6, 186768,   OC90,2,19970519,1507, 57.9733, -44.0170, 3195,     20.0,   3.6826,  34.7302,2,-999.0000,9,    327.7,2,   -999.0,9,  -999.00,9,  -999.00,9,  -999.00,9, -999.000,9, -999.000,9, -999.000,9, -999.000,9,   -999.0,9,   -999.0,9,-999.000,9,  3.6813,     20
   18HU97009_1,  AR27,    40,  6, 186799,   OC55,3,19970519,1507, 57.9733, -44.0170, 3195,     24.3,   3.6732,  34.7254,2,-999.0000,9,    319.8,2,   -999.0,9,  -999.00,9,  -999.00,9,  -999.00,9, -999.000,5, -999.000,5, -999.000,5, -999.000,5,   -999.0,9,   -999.0,9,-999.000,5,  3.6716,     24
   18HU97009_1,  AR27,    40,  6, 186767,   OC91,2,19970519,1507, 57.9733, -44.0170, 3195,     29.5,   3.6806,  34.7309,2,-999.0000,9,    326.8,2,   -999.0,9,  -999.00,9,  -999.00,9,  -999.00,9, -999.000,9, -999.000,9, -999.000,9, -999.000,9,   -999.0,9,   -999.0,9,-999.000,9,  3.6787,     30
   18HU97009_1,  AR27,    40,  6, 186798,   OC81,2,19970519,1507, 57.9733, -44.0170, 3195,     49.9,   3.6642,  34.7260,2,  34.7331,2,    319.5,2,    327.7,2,     8.31,6,    13.36,6,     0.87,6,    4.408,2,    2.287,2,    0.243,2,    6.793,3,   2130.1,2,   2288.5,2, 268.752,3,  3.6609,     50
   18HU97009_1,  AR27,    40,  6, 186766,   OC64,2,19970519,1507, 57.9733, -44.0170, 3195,     50.0,   3.6749,  34.7331,2,-999.0000,9,    327.3,2,   -999.0,9,  -999.00,9,  -999.00,9,  -999.00,9, -999.000,9, -999.000,9, -999.000,9, -999.000,9,   -999.0,9,   -999.0,9,-999.000,9,  3.6716,     50
   18HU97009_1,  AR27,    40,  6, 186765,   OC92,2,19970519,1507, 57.9733, -44.0170, 3195,     74.1,   3.6411,  34.7328,2,-999.0000,9,    327.7,2,   -999.0,9,  -999.00,9,  -999.00,9,  -999.00,9, -999.000,9, -999.000,9, -999.000,9, -999.000,9,   -999.0,9,   -999.0,9,-999.000,9,  3.6362,     74
   18HU97009_1,  AR27,    40,  6, 186797,   OC69,2,19970519,1507, 57.9733, -44.0170, 3195,     75.7,   3.5048,  34.7320,2,  34.7308,2,    316.6,2,    325.5,2,     8.24,6,    13.59,6,     0.91,6,    4.622,2,    2.433,2,    0.165,3,    6.744,3,   2133.1,2,   2289.0,2, 445.932,3,  3.4998,     76
   18HU97009_1,  AR27,    40,  6, 186796,   OC52,2,19970519,1507, 57.9733, -44.0170, 3195,     97.6,   3.1506,  34.7957,2,  34.7950,2,    306.2,2,    314.3,2,     8.68,6,    15.90,6,     1.02,6,    4.904,2,    2.472,2,    0.214,2,    7.327,2,   2147.0,2,   2292.6,2, 262.351,3,  3.1446,     98
   18HU97009_1,  AR27,    40,  6, 186764,   OC58,2,19970519,1507, 57.9733, -44.0170, 3195,    100.8,   3.2043,  34.7813,2,-999.0000,9,    320.4,2,   -999.0,9,  -999.00,9,  -999.00,9,  -999.00,9, -999.000,9, -999.000,9, -999.000,9, -999.000,9,   -999.0,9,   -999.0,9,-999.000,9,  3.1980,    101
   18HU97009_1,  AR27,    40,  6, 186763,   OC93,2,19970519,1507, 57.9733, -44.0170, 3195,    149.9,   3.1033,  34.8140,2,-999.0000,9,    315.0,2,   -999.0,9,  -999.00,9,  -999.00,9,  -999.00,9, -999.000,9, -999.000,9, -999.000,9, -999.000,9,   -999.0,9,   -999.0,9,-999.000,9,  3.0939,    150
   18HU97009_1,  AR27,    40,  6, 186795,   OC51,2,19970519,1507, 57.9733, -44.0170, 3195,    150.2,   3.0837,  34.8249,2,  34.8248,2,    301.0,2,    307.5,2,     8.83,6,    15.95,6,     1.03,6,    4.408,2,    2.452,2,    0.243,2,    7.473,2,   2145.4,2,   2335.2,3, 268.716,3,  3.0743,    150
   18HU97009_1,  AR27,    40,  6, 186794,   OC56,2,19970519,1507, 57.9733, -44.0170, 3195,    200.7,   3.0708,  34.8306,2,  34.8309,2,    299.7,2,    305.9,2,     8.74,6,    16.20,6,     1.02,6,    4.080,2,    2.140,2, -999.000,5,    7.210,2,   2145.3,2,   2296.2,2, 333.410,3,  3.0582,    201
   18HU97009_1,  AR27,    40,  6, 186762,   OC66,2,19970519,1507, 57.9733, -44.0170, 3195,    201.1,   3.0110,  34.8229,2,-999.0000,9,    317.6,2,   -999.0,9,  -999.00,9,  -999.00,9,  -999.00,9, -999.000,9, -999.000,9, -999.000,9, -999.000,9,   -999.0,9,   -999.0,9,-999.000,9,  2.9985,    201
   18HU97009_1,  AR27,    40,  6, 186793,   OC61,2,19970519,1507, 57.9733, -44.0170, 3195,    298.8,   3.0107,  34.8254,2,  34.8256,2,    301.3,2,    308.1,2,     8.75,6,    16.13,6,     1.02,6,    4.651,2,    2.374,2,    0.224,2,    7.346,2,   2147.6,2,   2294.6,2, 226.807,4,  2.9919,    299
   18HU97009_1,  AR27,    40,  6, 186792,   OC82,2,19970519,1507, 57.9733, -44.0170, 3195,    400.9,   2.9541,  34.8187,2,  34.8201,2,    302.3,2,    308.7,2,     8.79,6,    16.05,6,     1.03,6,    4.340,2,    2.248,2,    0.224,2,    7.327,2,   2146.3,2,   2293.0,2, 340.016,3,  2.9287,    401
   18HU97009_1,  AR27,    40,  6, 186791,   OC83,2,19970519,1507, 57.9733, -44.0170, 3195,    500.6,   2.9604,  34.8195,2,  34.8197,2,    301.8,2,    308.2,2,     8.85,6,    16.22,6,     1.03,6, -999.000,5,    2.170,2, -999.000,5,    6.450,3,   2146.1,2,   2290.2,2, 390.810,3,  2.9283,    501
   18HU97009_1,  AR27,    40,  6, 186790,   OC94,2,19970519,1507, 57.9733, -44.0170, 3195,    698.6,   2.9638,  34.8198,2,  34.8203,2,    299.9,2,    307.1,2,     8.84,6,    15.92,6,     1.02,6,    4.631,2,    2.287,2,    0.214,2,    7.239,3,   2152.0,2,   2292.5,2, 199.154,4,  2.9178,    699
   18HU97009_1,  AR27,    40,  6, 186789,   OC85,2,19970519,1507, 57.9733, -44.0170, 3195,    899.8,   3.1001,  34.8532,2,  34.8541,2,    283.4,2,    290.6,2,     9.78,6,    16.82,6,     1.06,6,    3.435,2,    1.712,2,    0.175,2,    4.709,2,   2153.1,2,   2296.3,2, 278.955,3,  3.0384,    900
   18HU97009_1,  AR27,    40,  6, 186788,   OC86,2,19970519,1507, 57.9733, -44.0170, 3195,   1097.1,   3.0015,  34.8487,2,  34.8499,2,    285.7,2,    293.5,2,     9.87,6,    17.03,6,     1.04,6, -999.000,5,    1.640,2, -999.000,5,    4.950,2,   2151.7,2,   2292.3,2, 303.700,3,  2.9255,   1097
   18HU97009_1,  AR27,    40,  6, 186787,   OC87,2,19970519,1507, 57.9733, -44.0170, 3195,   1300.0,   2.9499,  34.8467,2,  34.8468,2,    287.9,2,    295.2,2,     9.76,6,    16.73,6,     1.04,6,    3.765,2,    1.907,2,    0.146,2,    4.719,2,   2151.3,2,   2294.4,2, 149.682,4,  2.8583,   1300
   18HU97009_1,  AR27,    40,  6, 186786,   OC88,2,19970519,1507, 57.9733, -44.0170, 3195,   1501.7,   2.9068,  34.8437,2,  34.8436,2,    289.5,2,    297.1,2,     9.76,6,    16.61,6,     1.04,6,    3.804,2,    1.888,2,    0.204,2,    5.215,2,   2149.1,2,   2294.4,2, 173.442,4,  2.7992,   1502
   18HU97009_1,  AR27,    40,  6, 186785,   OC36,2,19970519,1507, 57.9733, -44.0170, 3195,   1704.7,   2.8786,  34.8412,2,  34.8415,2,    291.0,2,    297.7,2,     9.70,6,    16.34,6,     1.01,6,    3.871,6,    2.144,6,    0.204,2,    5.246,6,   -999.0,5,   2293.6,2,  69.587,3,  2.7542,   1705
   18HU97009_1,  AR27,    40,  6, 186784,   OC84,2,19970519,1507, 57.9733, -44.0170, 3195,   1905.5,   2.8986,  34.8468,2,  34.8462,2,    290.0,2,    296.6,2,     9.82,6,    16.50,6,     1.04,6,    3.571,2,    1.635,2,    0.165,2,    5.128,2,   2148.7,2,   2292.9,2, 188.824,4,  2.7564,   1906
   18HU97009_1,  AR27,    40,  6, 186783,   OC90,2,19970519,1507, 57.9733, -44.0170, 3195,   2100.8,   3.0270,  34.8799,2,  34.8815,2,    281.0,2,    288.0,2,    10.37,6,    16.19,6,     1.03,6,    3.016,2,    1.586,2,    0.126,2,    4.631,2,   2151.0,2,   2294.0,2,  94.221,3,  2.8649,   2101
   18HU97009_1,  AR27,    40,  6, 186782,   OC91,2,19970519,1507, 57.9733, -44.0170, 3195,   2319.9,   3.0137,  34.9107,2,  34.9130,2,    273.5,2,    279.4,2,    11.51,6,    16.35,6,     1.04,6, -999.000,5,    0.710,2, -999.000,5,    2.000,3,   2152.8,2,   2293.8,2,-999.000,5,  2.8311,   2320
   18HU97009_1,  AR27,    40,  6, 186781,   OC64,2,19970519,1507, 57.9733, -44.0170, 3195,   2540.1,   2.8883,  34.9234,2,  34.9240,2,    271.1,2,    276.6,2,    12.86,6,    16.56,6,     1.04,6,    1.615,2,    0.924,2,    0.029,3,    2.150,3,   2154.4,2,   2294.6,2,  95.850,3,  2.6866,   2540
   18HU97009_1,  AR27,    40,  6, 186780,   OC92,2,19970519,1507, 57.9733, -44.0170, 3195,   2756.2,   2.6653,  34.9195,2,  34.9193,6,    274.2,2,    279.2,2,    13.32,6,    15.82,6,     1.02,6,    1.839,2,    0.983,2,    0.000,2,    3.162,3,   2152.9,2,   2295.9,2,  63.578,3,  2.4465,   2756
   18HU97009_1,  AR27,    40,  6, 186779,   OC58,2,19970519,1507, 57.9733, -44.0170, 3195,   2864.7,   2.3634,  34.8934,2,  34.8933,2,    275.5,2,    292.7,6,     9.40,6,    14.76,6,     0.95,6,    2.530,2,    1.200,2, -999.000,5,    3.650,3,   2149.5,2,   2289.2,2, 248.000,4,  2.1402,   2865
   18HU97009_1,  AR27,    40,  6, 186778,   OC93,2,19970519,1507, 57.9733, -44.0170, 3195,   2972.1,   2.0595,  34.9027,2,  34.9035,2,    286.4,2,    288.7,2,    11.58,6,    15.22,6,     0.98,6,    2.685,2,    1.430,2,    0.000,2,    4.251,3,   2152.9,2,   2295.8,6, 151.278,4,  1.8321,   2972
   18HU97009_1,  AR27,    40,  6, 186777,   OC66,2,19970519,1507, 57.9733, -44.0170, 3195,   3115.4,   1.6949,  34.8868,2,  34.8876,2,    296.5,2,    297.8,2,     8.35,6,    14.08,6,     0.89,6,    3.502,2,    1.868,2,    0.126,3,    5.409,3,   2148.9,6,   2290.1,2,  80.794,3,  1.4615,   3115
   18HU97009_1,  AR27,    41,  3, 186817,   OC61,2,19970519,2218, 58.4853, -44.0272, 2045,     11.3,   3.7219,  34.7379,2,  34.7398,2,    308.1,2,    322.7,2,     7.78,6,    10.86,6,     1.04,6,    4.944,2,    2.715,2,    0.448,2,    5.274,2,   2131.7,2,   2279.4,2,  -0.973,4,  3.7212,     11
   18HU97009_1,  AR27,    41,  3, 186816,   OC82,2,19970519,2218, 58.4853, -44.0272, 2045,     50.2,   3.7297,  34.7402,2,-999.0000,5,    308.4,2,    322.1,2,     7.81,6,    10.75,6,     1.00,6,    5.002,2,    2.832,2,    0.409,2,    5.673,3,   2133.8,2,   2282.6,2,  -0.973,4,  3.7264,     50
   18HU97009_1,  AR27,    41,  3, 186815,   OC83,2,19970519,2218, 58.4853, -44.0272, 2045,     73.8,   3.8092,  34.7538,2,-999.0000,5,    305.0,2,    319.8,2,     7.82,6,    11.18,6,     1.00,6,    4.973,2,    2.715,2,    0.321,2,    5.362,2,   2133.7,2,   2278.4,2,  -0.973,4,  3.8042,     74
   18HU97009_1,  AR27,    41,  3, 186814,   OC94,2,19970519,2218, 58.4853, -44.0272, 2045,    111.0,   4.5620,  34.9227,2,-999.0000,5,    277.4,2,    292.0,2,     7.93,6,    12.45,6,     1.03,6,    4.058,2,    2.258,2,    0.263,2,    4.632,2,   2143.3,2,   2289.0,2,  -0.973,4,  4.5538,    111
   18HU97009_1,  AR27,    41,  3, 186813,   OC85,2,19970519,2218, 58.4853, -44.0272, 2045,    148.6,   4.3271,  34.9079,2,-999.0000,5,    275.8,2,    289.5,2,     8.39,6,    13.18,6,     1.05,6,    4.009,2,    2.238,2,    0.272,2,    4.953,2,   2145.3,2,   2289.0,2,  -0.973,4,  4.3163,    149
   18HU97009_1,  AR27,    41,  3, 186812,   OC86,2,19970519,2218, 58.4853, -44.0272, 2045,    220.2,   4.0853,  34.8935,2,-999.0000,5,    278.9,2,    292.5,2,     8.83,6,    14.51,6,     1.06,6,    4.019,2,    2.082,2,    0.175,3,    4.885,2,   2146.3,2,   2289.0,2,  -0.973,4,  4.0697,    220
   18HU97009_1,  AR27,    41,  3, 186811,   OC87,3,19970519,2218, 58.4853, -44.0272, 2045,    320.4,   3.7452,  34.8790,2,-999.0000,5,    279.4,2,    292.9,2,     9.24,6,    15.88,6,     1.06,6, -999.000,5, -999.000,5, -999.000,5, -999.000,5,   2148.3,2,   2287.0,2,-999.000,5,  3.7231,    320
   18HU97009_1,  AR27,    41,  3, 186810,   OC88,2,19970519,2218, 58.4853, -44.0272, 2045,    421.1,   3.5278,  34.8721,2,-999.0000,5,    279.4,2,    292.8,2,     9.39,6,    15.99,6,     1.04,6,    3.981,6,    2.201,6,    0.311,2,    4.762,3,   2148.4,2,   2285.3,2,  97.949,4,  3.4991,    421
   18HU97009_1,  AR27,    41,  3, 186809,   OC36,2,19970519,2218, 58.4853, -44.0272, 2045,    607.6,   3.1187,  34.8335,2,-999.0000,5,    290.8,2,    303.4,2,     8.95,6,    15.86,6,     1.03,6,    4.417,2,    2.501,2,    0.321,2,    5.682,3,   2149.9,2,   2281.8,2,   0.000,3,  3.0784,    608
   18HU97009_1,  AR27,    41,  3, 186808,   OC84,2,19970519,2218, 58.4853, -44.0272, 2045,    802.3,   3.3059,  34.8821,2,  34.8829,2,    272.9,2,    285.0,2,     9.73,6,    16.69,6,     1.05,6,    3.405,2,    1.819,2,    0.136,3,    4.641,2,   2152.1,2,   2283.8,2,  -0.973,4,  3.2502,    802
   18HU97009_1,  AR27,    41,  3, 186807,   OC90,2,19970519,2218, 58.4853, -44.0272, 2045,   1000.0,   3.0722,  34.8643,2,  34.8649,2,    280.9,2,    292.5,2,     9.77,6,    16.65,6,     1.11,6,    3.532,2,    1.956,2,    0.263,2,    4.855,2,   2151.6,2,   2284.9,2,  -0.973,4,  3.0031,   1000
   18HU97009_1,  AR27,    41,  3, 186806,   OC91,2,19970519,2218, 58.4853, -44.0272, 2045,   1208.5,   2.9158,  34.8503,2,  34.8505,2,    286.3,2,    296.1,2,     9.62,6,    16.58,6,     1.10,6,    3.840,2,    2.010,2, -999.000,5,    5.170,2,   2150.6,2,   2281.8,2,   0.000,3,  2.8319,   1209
   18HU97009_1,  AR27,    41,  3, 186805,   OC64,2,19970519,2218, 58.4853, -44.0272, 2045,   1402.3,   2.9558,  34.8665,2,  34.8664,2,    282.0,2,    292.3,2,     9.91,6,    16.16,6,     1.11,6,    3.376,2,    1.664,2,    0.175,2,    4.583,2,   2151.0,2,   2286.8,2,   0.000,3,  2.8558,   1402
   18HU97009_1,  AR27,    41,  3, 186804,   OC92,2,19970519,2218, 58.4853, -44.0272, 2045,   1596.1,   2.9907,  34.8983,2,  34.8980,6,    273.9,2,    282.9,2,    10.93,6,    16.29,6,     1.08,2,    2.413,2,    1.343,2,    0.263,2,    3.483,3,   2154.6,2,   2285.7,2,  -0.973,4,  2.8740,   1596
   18HU97009_1,  AR27,    41,  3, 186803,   OC58,2,19970519,2218, 58.4853, -44.0272, 2045,   1752.4,   2.7529,  34.9009,2,  34.9014,2,    276.0,2,    284.1,6,    10.62,6,    15.54,6,     1.07,6,    2.690,2,    1.420,2, -999.000,5,    3.520,3,   2156.1,2,   2291.7,2,   0.000,3,  2.6259,   1752
   18HU97009_1,  AR27,    41,  3, 186802,   OC93,2,19970519,2218, 58.4853, -44.0272, 2045,   1940.7,   2.3475,  34.8975,2,  34.8980,2,    282.3,2,    287.3,2,    10.23,6,    14.87,6,     0.98,2,    2.802,2,    1.596,2,    0.224,2,    4.183,2,   2154.4,6,   2286.9,2,   0.000,3,  2.2100,   1941
   18HU97009_1,  AR27,    41,  3, 186801,   OC66,2,19970519,2218, 58.4853, -44.0272, 2045,   2028.8,   2.2605,  34.8935,2,  34.8935,2,    285.7,2,    289.3,2,     9.90,6,    15.00,6,     1.04,3,    3.026,2,    1.605,2,    0.292,2,    4.728,2,   2160.7,2,   2328.7,3,  -0.973,4,  2.1167,   2029