BOTTLE,20020708WHPSIOKJU
EXPOCODE,SECT_ID,STNNBR,CASTNO,SAMPNO,BTLNBR,BTLNBR_FLAG_W,DATE,TIME,LATITUDE,LONGITUDE,DEPTH,CTDPRS,CTDTMP,CTDSAL,CTDSAL_FLAG_W,SALNTY,SALNTY_FLAG_W,CTDOXY,CTDOXY_FLAG_W,OXYGEN,OXYGEN_FLAG_W,SILCAT,SILCAT_FLAG_W,NO2+NO3,NO2+NO3_FLAG_W,PHSPHT,PHSPHT_FLAG_W,CFC-11,CFC-11_FLAG_W,CFC-12,CFC-12_FLAG_W,CFC113,CFC113_FLAG_W,CCL4,CCL4_FLAG_W,TCARBN,TCARBN_FLAG_W,ALKALI,ALKALI_FLAG_W,MCHFRM,MCHFRM_FLAG_W,THETA,CTDRAW
,,,,,,,,,,,,DBAR,ITS-90,PSS-78,,PSS-78,,UMOL/KG,,UMOL/KG,,UMOL/KG,,UMOL/KG,,UMOL/KG,,PMOL/KG,,PMOL/KG,,PMOL/KG,,PMOL/KG,,UMOL/KG,,UMOL/KG,,PMOL/KG,,DEG C,
   18HU97009_1,  AR7W,    45,  6, 186895,   OC36,2,19970521,1406, 60.3780, -48.5825, 1000,      3.2,   1.6645,  34.0468,2,-999.0000,9,    364.1,2,   -999.0,9,  -999.00,9,  -999.00,9,  -999.00,9, -999.000,9, -999.000,9, -999.000,9, -999.000,9,   -999.0,9,   -999.0,9,-999.000,9,  1.6643,      3
   18HU97009_1,  AR7W,    45,  6, 186894,   OC84,2,19970521,1406, 60.3780, -48.5825, 1000,      3.3,   1.6510,  34.0375,2,-999.0000,9,    364.2,2,   -999.0,9,  -999.00,9,  -999.00,9,  -999.00,9, -999.000,9, -999.000,9, -999.000,9, -999.000,9,   -999.0,9,   -999.0,9,-999.000,9,  1.6508,      3
   18HU97009_1,  AR7W,    45,  6, 186896,   OC88,2,19970521,1406, 60.3780, -48.5825, 1000,      3.3,   1.6656,  34.0484,2,-999.0000,9,    363.1,2,   -999.0,9,  -999.00,9,  -999.00,9,  -999.00,9, -999.000,9, -999.000,9, -999.000,9, -999.000,9,   -999.0,9,   -999.0,9,-999.000,9,  1.6654,      3
   18HU97009_1,  AR7W,    45,  6, 186897,   OC87,2,19970521,1406, 60.3780, -48.5825, 1000,      3.3,   1.6665,  34.0467,2,-999.0000,9,    362.6,2,   -999.0,9,  -999.00,9,  -999.00,9,  -999.00,9, -999.000,9, -999.000,9, -999.000,9, -999.000,9,   -999.0,9,   -999.0,9,-999.000,9,  1.6663,      3
   18HU97009_1,  AR7W,    45,  6, 186898,   OC86,2,19970521,1406, 60.3780, -48.5825, 1000,      3.3,   1.6777,  34.0531,2,-999.0000,9,    362.9,2,   -999.0,9,  -999.00,9,  -999.00,9,  -999.00,9, -999.000,9, -999.000,9, -999.000,9, -999.000,9,   -999.0,9,   -999.0,9,-999.000,9,  1.6775,      3
   18HU97009_1,  AR7W,    45,  6, 186899,   OC85,2,19970521,1406, 60.3780, -48.5825, 1000,      3.3,   1.6866,  34.0539,2,-999.0000,9,    362.1,2,   -999.0,9,  -999.00,9,  -999.00,9,  -999.00,9, -999.000,9, -999.000,9, -999.000,9, -999.000,9,   -999.0,9,   -999.0,9,-999.000,9,  1.6864,      3
   18HU97009_1,  AR7W,    45,  6, 186900,   OC94,2,19970521,1406, 60.3780, -48.5825, 1000,      3.3,   1.7079,  34.0657,2,-999.0000,9,    361.7,2,   -999.0,9,  -999.00,9,  -999.00,9,  -999.00,9, -999.000,9, -999.000,9, -999.000,9, -999.000,9,   -999.0,9,   -999.0,9,-999.000,9,  1.7077,      3
   18HU97009_1,  AR7W,    45,  6, 186901,   OC83,2,19970521,1406, 60.3780, -48.5825, 1000,      3.4,   1.6771,  34.0569,2,-999.0000,9,    361.4,2,   -999.0,9,  -999.00,9,  -999.00,9,  -999.00,9, -999.000,9, -999.000,9, -999.000,9, -999.000,9,   -999.0,9,   -999.0,9,-999.000,9,  1.6769,      3
   18HU97009_1,  AR7W,    45,  6, 186884,   OC86,2,19970521,1406, 60.3780, -48.5825, 1000,      7.7,   1.4892,  33.9469,2,  33.9510,2,    365.6,2,    365.9,2,     3.68,6,     5.68,6,     0.50,6,    5.530,2,    3.096,2,    0.292,2,    6.533,3,   2069.5,3,   2245.9,2,   0.000,3,  1.4889,      8
   18HU97009_1,  AR7W,    45,  6, 186893,   OC90,2,19970521,1406, 60.3780, -48.5825, 1000,     19.9,   2.0973,  34.2031,2,-999.0000,9,    340.9,2,   -999.0,9,  -999.00,9,  -999.00,9,  -999.00,9, -999.000,9, -999.000,9, -999.000,9, -999.000,9,   -999.0,9,   -999.0,9,-999.000,9,  2.0963,     20
   18HU97009_1,  AR7W,    45,  6, 186892,   OC91,2,19970521,1406, 60.3780, -48.5825, 1000,     30.1,   2.3767,  34.3134,2,-999.0000,9,    327.7,2,   -999.0,9,  -999.00,9,  -999.00,9,  -999.00,9, -999.000,9, -999.000,9, -999.000,9, -999.000,9,   -999.0,9,   -999.0,9,-999.000,9,  2.3751,     30
   18HU97009_1,  AR7W,    45,  6, 186891,   OC64,2,19970521,1406, 60.3780, -48.5825, 1000,     50.0,   2.7220,  34.4054,2,-999.0000,9,    317.8,2,   -999.0,9,  -999.00,9,  -999.00,9,  -999.00,9, -999.000,9, -999.000,9, -999.000,9, -999.000,9,   -999.0,9,   -999.0,9,-999.000,9,  2.7192,     50
   18HU97009_1,  AR7W,    45,  6, 186883,   OC87,2,19970521,1406, 60.3780, -48.5825, 1000,     50.7,   2.3977,  34.3264,2,  34.3347,2,    317.0,2,    319.0,2,     6.18,6,    11.66,6,     0.82,6,    5.160,2,    2.900,2, -999.000,5,    7.450,3,   2113.4,2,   2259.7,2,   0.000,3,  2.3949,     51
   18HU97009_1,  AR7W,    45,  6, 186890,   OC92,2,19970521,1406, 60.3780, -48.5825, 1000,     75.4,   3.1438,  34.5088,2,-999.0000,9,    312.8,2,   -999.0,9,  -999.00,9,  -999.00,9,  -999.00,9, -999.000,9, -999.000,9, -999.000,9, -999.000,9,   -999.0,9,   -999.0,9,-999.000,9,  3.1392,     75
   18HU97009_1,  AR7W,    45,  6, 186889,   OC58,2,19970521,1406, 60.3780, -48.5825, 1000,    100.5,   3.4762,  34.6056,2,-999.0000,9,    307.3,2,   -999.0,9,  -999.00,9,  -999.00,9,  -999.00,9, -999.000,9, -999.000,9, -999.000,9, -999.000,9,   -999.0,9,   -999.0,9,-999.000,9,  3.4697,    101
   18HU97009_1,  AR7W,    45,  6, 186882,   OC88,2,19970521,1406, 60.3780, -48.5825, 1000,    110.2,   3.3651,  34.5751,2,  34.5748,2,    301.7,2,    307.0,2,     6.91,6,    12.89,6,     0.89,6,    4.730,2,    2.690,2, -999.000,5,    8.320,3,   2125.0,2,   2271.7,2,   0.000,3,  3.3581,    110
   18HU97009_1,  AR7W,    45,  6, 186888,   OC93,2,19970521,1406, 60.3780, -48.5825, 1000,    150.5,   4.2217,  34.7707,2,-999.0000,9,    303.1,2,   -999.0,9,  -999.00,9,  -999.00,9,  -999.00,9, -999.000,9, -999.000,9, -999.000,9, -999.000,9,   -999.0,9,   -999.0,9,-999.000,9,  4.2109,    151
   18HU97009_1,  AR7W,    45,  6, 186881,   OC36,2,19970521,1406, 60.3780, -48.5825, 1000,    188.7,   4.4855,  34.8240,2,  34.8309,2,    293.8,2,    301.8,2,     7.39,6,    14.28,6,     0.91,2,    4.329,6,    2.410,6,    0.302,6,    5.625,6,   2133.4,2,   2284.7,2,   0.000,3,  4.4716,    189
   18HU97009_1,  AR7W,    45,  6, 186887,   OC66,2,19970521,1406, 60.3780, -48.5825, 1000,    201.0,   4.5060,  34.8389,2,-999.0000,9,    299.9,2,   -999.0,9,  -999.00,9,  -999.00,9,  -999.00,9, -999.000,9, -999.000,9, -999.000,9, -999.000,9,   -999.0,9,   -999.0,9,-999.000,9,  4.4911,    201
   18HU97009_1,  AR7W,    45,  6, 186880,   OC84,2,19970521,1406, 60.3780, -48.5825, 1000,    289.9,   4.5515,  34.8676,2,  34.8665,6,    287.3,2,    294.5,2,     7.60,6,    14.65,6,     0.95,6,    4.410,2,    2.550,2, -999.000,5,    6.550,3,   2138.3,2,   2285.5,2,   0.000,3,  4.5297,    290
   18HU97009_1,  AR7W,    45,  6, 186879,   OC90,2,19970521,1406, 60.3780, -48.5825, 1000,    410.0,   4.6390,  34.8953,2,  34.8921,2,    286.1,2,    293.1,2,     7.63,6,    15.03,6,     0.97,6,    4.175,2,    2.384,2,    0.204,2,    5.479,2,   2139.4,2,   2286.5,2,   0.000,3,  4.6075,    410
   18HU97009_1,  AR7W,    45,  6, 186878,   OC91,2,19970521,1406, 60.3780, -48.5825, 1000,    550.6,   4.6018,  34.9113,2,  34.9108,2,    285.3,2,    290.8,2,     7.91,6,    15.12,6,     0.98,6,    4.230,2,    2.480,2, -999.000,5,    5.370,2,   2143.0,2,   2290.1,2,   0.000,3,  4.5590,    551
   18HU97009_1,  AR7W,    45,  6, 186877,   OC64,2,19970521,1406, 60.3780, -48.5825, 1000,    690.5,   4.5108,  34.9086,2,  34.9090,2,    285.8,2,    289.9,2,     8.03,6,    15.32,6,     1.00,6,    4.077,2,    2.335,2,    0.272,2,    5.332,2,   2145.2,2,   2293.7,2,   0.000,3,  4.4570,    691
   18HU97009_1,  AR7W,    45,  6, 186876,   OC92,2,19970521,1406, 60.3780, -48.5825, 1000,    841.5,   4.4408,  34.9058,2,  34.9059,2,    287.0,2,    290.1,6,     8.06,6,    15.27,6,     0.99,6,    3.990,2,    2.296,2,    0.195,2,    6.403,2,   2146.7,2,   2287.7,2,   0.000,3,  4.3747,    842
   18HU97009_1,  AR7W,    45,  6, 186875,   OC58,2,19970521,1406, 60.3780, -48.5825, 1000,    970.6,   4.2266,  34.8963,2,  34.8953,2,    288.3,2,    289.7,2,     8.61,6,    15.52,6,     1.02,6,    4.090,2,    2.330,2, -999.000,5,    6.280,3,   2146.7,2,   2290.5,2,   0.000,3,  4.1510,    971
   18HU97009_1,  AR7W,    45,  6, 186874,   OC93,2,19970521,1406, 60.3780, -48.5825, 1000,   1068.8,   4.1240,  34.8910,2,  34.8880,2,    290.1,2,    291.3,2,     8.56,6,    15.72,6,     1.01,6,    3.941,2,    2.228,2,    0.224,2,    5.303,2,   2149.8,6,   2289.7,2,   0.000,3,  4.0409,   1069
   18HU97009_1,  AR7W,    45,  6, 186873,   OC66,2,19970521,1406, 60.3780, -48.5825, 1000,   1115.7,   3.7759,  34.8778,2,  34.8770,2,    292.4,2,    291.3,2,     8.93,6,    15.79,6,     1.04,6,    3.873,2,    2.238,2,    0.185,2,    4.865,2,   2153.8,2,   2288.8,2,   0.000,3,  3.6917,   1116
   18HU97009_1,  AR7W,    46,  3, 186921,   OC52,2,19970521,1754, 60.3212, -48.6235, 2776,      9.7,   1.5205,  33.7778,2,  33.7808,2,    379.5,2,    387.3,2,     2.30,6,     2.60,6,     0.37,3,    5.784,2,    3.398,2,    0.341,2,    8.559,3,   -999.0,5,   2241.8,2,-999.000,4,  1.5201,     10
   18HU97009_1,  AR7W,    46,  3, 186920,   OC51,2,19970521,1754, 60.3212, -48.6235, 2776,     60.1,   2.4844,  34.2716,2,  34.2722,2,    327.7,2,    338.7,2,     5.08,6,     8.99,6,     0.67,6,    5.071,2,    2.716,2,    0.331,2,    7.680,3,   2098.0,3,   2264.0,2, 898.750,4,  2.4811,     60
   18HU97009_1,  AR7W,    46,  3, 186919,   OC56,3,19970521,1754, 60.3212, -48.6235, 2776,    119.0,   3.3248,  34.5629,2,-999.0000,9,    295.0,2,   -999.0,9,  -999.00,9,  -999.00,9,  -999.00,9, -999.000,5, -999.000,5, -999.000,5, -999.000,5,   -999.0,9,   -999.0,9,-999.000,5,  3.3172,    119
   18HU97009_1,  AR7W,    46,  3, 186918,   OC61,2,19970521,1754, 60.3212, -48.6235, 2776,    220.5,   4.5479,  34.8347,2,  34.8360,2,    285.3,2,    300.9,2,     7.35,6,    14.08,6,     0.93,6,    4.330,2,    2.384,2,    0.282,2,    6.228,2,   2135.0,2,   2291.1,2, 961.232,4,  4.5315,    221
   18HU97009_1,  AR7W,    46,  3, 186917,   OC82,2,19970521,1754, 60.3212, -48.6235, 2776,    339.9,   4.6887,  34.8795,2,  34.8800,2,    280.1,2,    296.5,2,     7.54,6,    14.43,6,     0.95,6,    4.155,2,    2.316,2,    0.272,2,    5.965,2,   2135.8,2,   2291.3,2,   0.000,3,  4.6626,    340
   18HU97009_1,  AR7W,    46,  3, 186916,   OC83,2,19970521,1754, 60.3212, -48.6235, 2776,    479.2,   4.5798,  34.9032,2,  34.9049,2,    276.0,2,    292.6,2,     7.99,6,    15.54,6,     0.98,6,    4.155,2,    2.442,2,    0.272,2,    5.829,2,   2142.0,2,   2294.6,2,-999.000,4,  4.5429,    479
   18HU97009_1,  AR7W,    46,  3, 186915,   OC94,2,19970521,1754, 60.3212, -48.6235, 2776,    639.2,   4.2116,  34.8960,2,  34.8967,2,    272.9,2,    289.0,2,     8.44,6,    15.98,6,     1.01,6,    3.931,2,    2.121,2,    0.253,2,    5.673,2,   2147.6,2,   2293.3,2, 810.403,4,  4.1635,    639
   18HU97009_1,  AR7W,    46,  3, 186914,   OC85,2,19970521,1754, 60.3212, -48.6235, 2776,    820.3,   3.7715,  34.8878,2,  34.8876,2,    267.2,2,    282.4,2,     9.20,6,    16.57,6,     1.03,6,    3.464,2,    1.897,2,    0.214,2,    5.040,3,   -999.0,5,   2290.4,6, 470.446,3,  3.7115,    820
   18HU97009_1,  AR7W,    46,  3, 186913,   OC86,2,19970521,1754, 60.3212, -48.6235, 2776,    999.7,   3.5620,  34.8860,2,  34.8857,2,    268.6,2,    283.6,2,     9.41,6,    16.70,6,     1.05,6,    3.464,2,    2.004,2,    0.214,2,    5.089,2,   2153.8,2,   2290.3,2, 876.198,4,  3.4892,   1000
   18HU97009_1,  AR7W,    46,  3, 186912,   OC87,2,19970521,1754, 60.3212, -48.6235, 2776,   1198.5,   3.2842,  34.8807,2,  34.8798,2,    272.0,2,    286.6,2,     9.74,6,    16.66,6,     1.05,6,    3.298,2,    1.771,2,    0.204,2,    4.641,3,   2153.3,2,   2286.9,2,   0.000,3,  3.1976,   1199
   18HU97009_1,  AR7W,    46,  3, 186911,   OC88,2,19970521,1754, 60.3212, -48.6235, 2776,   1400.5,   3.1026,  34.8690,2,  34.8682,2,    276.9,2,    290.8,2,     9.84,6,    16.56,6,     1.05,6,    3.532,2,    1.819,2,    0.195,2,    5.089,2,   2152.0,2,   2285.0,2,-999.000,4,  3.0011,   1401
   18HU97009_1,  AR7W,    46,  3, 186910,   OC36,2,19970521,1754, 60.3212, -48.6235, 2776,   1599.5,   3.0002,  34.8614,2,  34.8606,6,    279.6,2,    294.6,2,     9.74,6,    16.20,6,     1.08,6,    3.512,2,    1.839,2,    0.195,2,    5.108,2,   2150.5,2,   2282.9,2, 695.817,3,  2.8832,   1600
   18HU97009_1,  AR7W,    46,  3, 186909,   OC84,2,19970521,1754, 60.3212, -48.6235, 2776,   1800.0,   3.0208,  34.8671,2,  34.8666,2,    278.2,2,    291.8,2,     9.94,6,    15.66,6,     1.07,6,    3.522,6,    1.718,6,    0.195,6,    4.884,2,   2150.6,2,   2283.8,2, 483.351,3,  2.8861,   1800
   18HU97009_1,  AR7W,    46,  3, 186908,   OC90,2,19970521,1754, 60.3212, -48.6235, 2776,   1980.9,   3.0005,  34.8759,2,  34.8751,2,    276.9,2,    289.7,2,    10.66,3,    15.57,6,     1.07,6,    3.123,2,    1.615,2,    0.195,2,    4.407,2,   2151.2,2,   2280.5,2, 292.479,3,  2.8499,   1981
   18HU97009_1,  AR7W,    46,  3, 186907,   OC91,2,19970521,1754, 60.3212, -48.6235, 2776,   2139.9,   2.8789,  34.8907,2,  34.8910,2,    274.2,2,    286.7,2,    10.53,6,    15.86,6,     1.05,6,    2.880,2,    1.586,2,    0.165,2,    4.330,2,   2150.7,2,   2285.6,2, 942.379,4,  2.7156,   2140
   18HU97009_1,  AR7W,    46,  3, 186906,   OC64,4,19970521,1754, 60.3212, -48.6235, 2776,   2301.6,   2.7600,  34.8953,2,-999.0000,9,    274.4,2,   -999.0,9,  -999.00,9,  -999.00,9,  -999.00,9, -999.000,5, -999.000,5, -999.000,5, -999.000,5,   -999.0,9,   -999.0,9,-999.000,5,  2.5836,   2302
   18HU97009_1,  AR7W,    46,  3, 186905,   OC92,2,19970521,1754, 60.3212, -48.6235, 2776,   2421.1,   2.7036,  34.8990,2,  34.8984,2,    275.8,2,    285.0,6,    10.83,6,    15.41,6,     1.02,6,    2.578,2,    1.352,2,    0.165,2,    3.931,2,   2151.3,2,   2286.6,2, 253.335,4,  2.5168,   2421
   18HU97009_1,  AR7W,    46,  3, 186904,   OC58,2,19970521,1754, 60.3212, -48.6235, 2776,   2570.4,   2.6697,  34.8998,2,  34.9000,2,    277.4,2,   -999.0,9,    10.76,6,    15.49,6,     1.02,6,    2.656,2,    1.537,2,    0.156,2,    3.609,2,   2153.4,2,   2286.6,2, 828.708,3,  2.4692,   2570
   18HU97009_1,  AR7W,    46,  3, 186903,   OC93,2,19970521,1754, 60.3212, -48.6235, 2776,   2700.7,   2.6648,  34.9000,2,  34.9004,2,    279.1,2,   -999.0,9,    10.90,6,    15.29,6,     1.00,6,    2.568,2,    1.401,2,    0.156,2,    3.687,2,   2152.7,6,   2285.3,2, 502.562,3,  2.4516,   2701
   18HU97009_1,  AR7W,    46,  3, 186902,   OC66,2,19970521,1754, 60.3212, -48.6235, 2776,   2776.9,   2.6554,  34.9012,2,  34.9008,2,    280.1,2,    284.4,2,    10.88,6,    15.42,6,     1.01,6,    2.491,2,    1.333,2,    0.156,2,    3.853,2,   2152.9,2,   2285.4,2, 268.442,3,  2.4348,   2777