BOTTLE,20020708WHPSIOKJU
EXPOCODE,SECT_ID,STNNBR,CASTNO,SAMPNO,BTLNBR,BTLNBR_FLAG_W,DATE,TIME,LATITUDE,LONGITUDE,DEPTH,CTDPRS,CTDTMP,CTDSAL,CTDSAL_FLAG_W,SALNTY,SALNTY_FLAG_W,CTDOXY,CTDOXY_FLAG_W,OXYGEN,OXYGEN_FLAG_W,SILCAT,SILCAT_FLAG_W,NO2+NO3,NO2+NO3_FLAG_W,PHSPHT,PHSPHT_FLAG_W,CFC-11,CFC-11_FLAG_W,CFC-12,CFC-12_FLAG_W,CFC113,CFC113_FLAG_W,CCL4,CCL4_FLAG_W,TCARBN,TCARBN_FLAG_W,ALKALI,ALKALI_FLAG_W,MCHFRM,MCHFRM_FLAG_W,THETA,CTDRAW
,,,,,,,,,,,,DBAR,ITS-90,PSS-78,,PSS-78,,UMOL/KG,,UMOL/KG,,UMOL/KG,,UMOL/KG,,UMOL/KG,,PMOL/KG,,PMOL/KG,,PMOL/KG,,PMOL/KG,,UMOL/KG,,UMOL/KG,,PMOL/KG,,DEG C,
   18HU97009_1,  AR7W,    55,  2, 187188,   OC80,2,19970524,0313, 57.3657, -51.7918, 3551,      8.9,   4.1719,  34.6658,2,  34.6673,2,    320.1,2,    331.5,2,     6.72,6,    11.45,6,     0.78,6,    5.190,2,    2.950,2, -999.000,5,    6.560,2,   2116.9,2,   2289.3,2,  72.570,3,  4.1713,      9
   18HU97009_1,  AR7W,    55,  2, 187164,   OC80,2,19970524,0313, 57.3657, -51.7918, 3551,     10.3,   4.2850,  34.6692,2,-999.0000,9,    321.2,2,   -999.0,9,  -999.00,9,  -999.00,9,  -999.00,9, -999.000,9, -999.000,9, -999.000,9, -999.000,9,   -999.0,9,   -999.0,9,-999.000,9,  4.2842,     10
   18HU97009_1,  AR7W,    55,  2, 187163,   OC55,2,19970524,0313, 57.3657, -51.7918, 3551,     10.4,   4.2852,  34.6691,2,-999.0000,9,    321.3,2,   -999.0,9,  -999.00,9,  -999.00,9,  -999.00,9, -999.000,9, -999.000,9, -999.000,9, -999.000,9,   -999.0,9,   -999.0,9,-999.000,9,  4.2844,     10
   18HU97009_1,  AR7W,    55,  2, 187161,   OC69,2,19970524,0313, 57.3657, -51.7918, 3551,     10.5,   4.2858,  34.6693,2,-999.0000,9,    320.8,2,   -999.0,9,  -999.00,9,  -999.00,9,  -999.00,9, -999.000,9, -999.000,9, -999.000,9, -999.000,9,   -999.0,9,   -999.0,9,-999.000,9,  4.2850,     11
   18HU97009_1,  AR7W,    55,  2, 187162,   OC81,2,19970524,0313, 57.3657, -51.7918, 3551,     10.5,   4.2862,  34.6693,2,-999.0000,9,    320.7,2,   -999.0,9,  -999.00,9,  -999.00,9,  -999.00,9, -999.000,9, -999.000,9, -999.000,9, -999.000,9,   -999.0,9,   -999.0,9,-999.000,9,  4.2854,     11
   18HU97009_1,  AR7W,    55,  2, 187187,   OC55,2,19970524,0313, 57.3657, -51.7918, 3551,     50.2,   3.9293,  34.6654,2,  34.6663,2,    313.9,2,    325.2,2,     7.25,6,    12.44,6,     0.82,6,    5.002,2,    2.696,2,    0.370,2,    6.092,2,   2123.6,2,   2281.6,2,  70.529,3,  3.9258,     50
   18HU97009_1,  AR7W,    55,  2, 187186,   OC81,2,19970524,0313, 57.3657, -51.7918, 3551,     99.0,   3.8628,  34.7437,2,  34.7425,2,    297.7,2,    308.4,2,     8.13,3,    14.41,6,     0.95,6,    4.800,2,    2.850,2, -999.000,5,    6.110,2,   2133.0,2,   2280.8,2,  57.870,4,  3.8560,     99
   18HU97009_1,  AR7W,    55,  2, 187185,   OC69,2,19970524,0313, 57.3657, -51.7918, 3551,    199.1,   3.9845,  34.8452,2,  34.8456,2,    287.2,2,    296.4,2,     8.11,6,    15.24,6,     0.99,6,    4.311,2,    2.579,2,    0.360,2,    5.829,2,   2143.3,2,   2287.1,2,  53.305,4,  3.9706,    199
   18HU97009_1,  AR7W,    55,  2, 187184,   OC52,2,19970524,0313, 57.3657, -51.7918, 3551,    338.9,   3.4579,  34.8168,2,  34.8171,2,    295.0,2,    303.4,2,     8.28,6,    15.44,6,     0.99,6,    4.476,2,    2.326,2,    0.263,2,    5.945,2,   2143.0,2,   2286.5,2,  53.216,4,  3.4352,    339
   18HU97009_1,  AR7W,    55,  2, 187160,   OC52,2,19970524,0313, 57.3657, -51.7918, 3551,    455.3,   3.4374,  34.8402,2,-999.0000,9,    290.1,2,   -999.0,9,  -999.00,9,  -999.00,9,  -999.00,9, -999.000,9, -999.000,9, -999.000,9, -999.000,9,   -999.0,9,   -999.0,9,-999.000,9,  3.4066,    455
   18HU97009_1,  AR7W,    55,  2, 187158,   OC56,2,19970524,0313, 57.3657, -51.7918, 3551,    455.5,   3.4504,  34.8430,2,-999.0000,9,    289.4,2,   -999.0,9,  -999.00,9,  -999.00,9,  -999.00,9, -999.000,9, -999.000,9, -999.000,9, -999.000,9,   -999.0,9,   -999.0,9,-999.000,9,  3.4195,    456
   18HU97009_1,  AR7W,    55,  2, 187157,   OC61,2,19970524,0313, 57.3657, -51.7918, 3551,    456.1,   3.4588,  34.8443,2,-999.0000,9,    289.3,2,   -999.0,9,  -999.00,9,  -999.00,9,  -999.00,9, -999.000,9, -999.000,9, -999.000,9, -999.000,9,   -999.0,9,   -999.0,9,-999.000,9,  3.4278,    456
   18HU97009_1,  AR7W,    55,  2, 187159,   OC51,2,19970524,0313, 57.3657, -51.7918, 3551,    456.1,   3.4515,  34.8427,2,-999.0000,9,    289.6,2,   -999.0,9,  -999.00,9,  -999.00,9,  -999.00,9, -999.000,9, -999.000,9, -999.000,9, -999.000,9,   -999.0,9,   -999.0,9,-999.000,9,  3.4206,    456
   18HU97009_1,  AR7W,    55,  2, 187183,   OC51,2,19970524,0313, 57.3657, -51.7918, 3551,    499.9,   3.4593,  34.8467,2,  34.8471,2,    291.0,2,    298.5,2,     8.63,6,    15.71,6,     1.00,6,    4.390,2,    2.540,2, -999.000,5,    6.070,2,   2147.4,2,   2285.9,6,  50.120,3,  3.4252,    500
   18HU97009_1,  AR7W,    55,  2, 187182,   OC56,2,19970524,0313, 57.3657, -51.7918, 3551,    628.7,   3.2708,  34.8394,2,  34.8403,2,    292.3,2,    299.8,2,     8.63,6,    16.12,6,     1.02,6,    4.379,2,    2.442,2,    0.321,2,    6.091,2,   2147.0,2,   2288.7,2,  54.771,4,  3.2283,    629
   18HU97009_1,  AR7W,    55,  2, 187181,   OC61,2,19970524,0313, 57.3657, -51.7918, 3551,    842.4,   3.1606,  34.8371,2,  34.8367,2,    293.3,2,    300.6,2,     8.71,6,    15.87,6,     1.01,6,    4.317,6,    2.452,6,    0.321,6,    6.023,3,   2140.1,2,   2290.9,2,  42.287,3,  3.1029,    842
   18HU97009_1,  AR7W,    55,  2, 187154,   OC94,2,19970524,0313, 57.3657, -51.7918, 3551,    902.3,   3.1573,  34.8413,2,-999.0000,9,    288.1,2,   -999.0,9,  -999.00,9,  -999.00,9,  -999.00,9, -999.000,9, -999.000,9, -999.000,9, -999.000,9,   -999.0,9,   -999.0,9,-999.000,9,  3.0951,    902
   18HU97009_1,  AR7W,    55,  2, 187153,   OC85,2,19970524,0313, 57.3657, -51.7918, 3551,    903.2,   3.1581,  34.8413,2,-999.0000,9,    288.1,2,   -999.0,9,  -999.00,9,  -999.00,9,  -999.00,9, -999.000,9, -999.000,9, -999.000,9, -999.000,9,   -999.0,9,   -999.0,9,-999.000,9,  3.0959,    903
   18HU97009_1,  AR7W,    55,  2, 187155,   OC83,2,19970524,0313, 57.3657, -51.7918, 3551,    904.0,   3.1630,  34.8417,2,-999.0000,9,    288.1,2,   -999.0,9,  -999.00,9,  -999.00,9,  -999.00,9, -999.000,9, -999.000,9, -999.000,9, -999.000,9,   -999.0,9,   -999.0,9,-999.000,9,  3.1007,    904
   18HU97009_1,  AR7W,    55,  2, 187156,   OC82,2,19970524,0313, 57.3657, -51.7918, 3551,    904.0,   3.1636,  34.8418,2,-999.0000,9,    288.1,2,   -999.0,9,  -999.00,9,  -999.00,9,  -999.00,9, -999.000,9, -999.000,9, -999.000,9, -999.000,9,   -999.0,9,   -999.0,9,-999.000,9,  3.1013,    904
   18HU97009_1,  AR7W,    55,  2, 187180,   OC82,2,19970524,0313, 57.3657, -51.7918, 3551,   1047.6,   3.0891,  34.8400,2,  34.8401,2,    290.3,2,    296.7,2,     9.35,6,    16.56,6,     1.01,6,    4.087,2,    2.082,2,    0.214,3,    5.838,3,   2142.5,2,   2287.7,2,  47.054,4,  3.0162,   1048
   18HU97009_1,  AR7W,    55,  2, 187179,   OC83,2,19970524,0313, 57.3657, -51.7918, 3551,   1255.5,   2.9722,  34.8323,2,  34.8336,2,    292.4,2,    298.6,2,     9.19,6,    16.43,6,     1.01,6,    4.290,2,    2.520,2, -999.000,5,    6.320,3,   2148.1,2,   2284.0,2,  48.790,4,  2.8840,   1256
   18HU97009_1,  AR7W,    55,  2, 187178,   OC94,2,19970524,0313, 57.3657, -51.7918, 3551,   1530.8,   3.0316,  34.8490,2,  34.8499,2,    289.0,2,    295.4,6,     9.54,6,    16.82,6,     1.03,6,    3.853,2,    1.965,2,    0.282,2,    5.818,2,   2149.4,2,   2287.0,2,  46.557,4,  2.9201,   1531
   18HU97009_1,  AR7W,    55,  2, 187177,   OC85,2,19970524,0313, 57.3657, -51.7918, 3551,   1730.3,   3.0164,  34.8519,2,  34.8523,2,    289.7,2,    296.1,2,     9.79,6,    16.65,6,     1.03,6,    3.736,2,    2.150,2,    0.214,2,    5.634,3,   2149.0,2,   2285.7,2,  41.449,4,  2.8879,   1730
   18HU97009_1,  AR7W,    55,  2, 187176,   OC86,2,19970524,0313, 57.3657, -51.7918, 3551,   1958.8,   2.9365,  34.8436,2,  34.8444,2,    292.1,2,    297.5,2,     9.61,6,    16.76,6,     1.02,6,    3.804,2,    2.121,2,    0.136,3,    5.848,2,   2144.2,2,   2283.0,2,  42.820,4,  2.7889,   1959
   18HU97009_1,  AR7W,    55,  2, 187175,   OC87,2,19970524,0313, 57.3657, -51.7918, 3551,   2135.5,   2.9279,  34.8441,2,  34.8440,2,    292.2,2,    298.1,2,     9.64,6,    16.54,6,     1.04,6,    3.795,2,    2.063,2,    0.253,2,    5.731,2,   2143.6,2,   2286.1,2,  44.435,4,  2.7643,   2136
   18HU97009_1,  AR7W,    55,  2, 187150,   OC88,2,19970524,0313, 57.3657, -51.7918, 3551,   2165.5,   2.9195,  34.8436,2,-999.0000,9,    290.7,2,   -999.0,9,  -999.00,9,  -999.00,9,  -999.00,9, -999.000,9, -999.000,9, -999.000,9, -999.000,9,   -999.0,9,   -999.0,9,-999.000,9,  2.7533,   2166
   18HU97009_1,  AR7W,    55,  2, 187152,   OC86,2,19970524,0313, 57.3657, -51.7918, 3551,   2165.9,   2.9190,  34.8438,2,-999.0000,9,    290.7,2,   -999.0,9,  -999.00,9,  -999.00,9,  -999.00,9, -999.000,9, -999.000,9, -999.000,9, -999.000,9,   -999.0,9,   -999.0,9,-999.000,9,  2.7528,   2166
   18HU97009_1,  AR7W,    55,  2, 187149,   OC36,2,19970524,0313, 57.3657, -51.7918, 3551,   2166.9,   2.9191,  34.8438,2,-999.0000,9,    290.8,2,   -999.0,9,  -999.00,9,  -999.00,9,  -999.00,9, -999.000,9, -999.000,9, -999.000,9, -999.000,9,   -999.0,9,   -999.0,9,-999.000,9,  2.7528,   2167
   18HU97009_1,  AR7W,    55,  2, 187151,   OC87,2,19970524,0313, 57.3657, -51.7918, 3551,   2167.3,   2.9192,  34.8437,2,-999.0000,9,    290.7,2,   -999.0,9,  -999.00,9,  -999.00,9,  -999.00,9, -999.000,9, -999.000,9, -999.000,9, -999.000,9,   -999.0,9,   -999.0,9,-999.000,9,  2.7528,   2167
   18HU97009_1,  AR7W,    55,  2, 187174,   OC88,2,19970524,0313, 57.3657, -51.7918, 3551,   2250.3,   2.9280,  34.8457,2,  34.8464,2,    291.8,2,    297.5,2,     9.62,6,    16.46,6,     1.02,6,    3.688,2,    2.121,2,    0.204,2,    5.565,2,   2144.8,2,   2287.5,2,  41.964,4,  2.7537,   2250
   18HU97009_1,  AR7W,    55,  2, 187173,   OC36,2,19970524,0313, 57.3657, -51.7918, 3551,   2494.2,   3.0583,  34.8822,2,  34.8831,2,    283.1,2,    288.2,2,    10.25,6,    16.40,6,     1.03,6,    2.967,2,    1.693,2,    0.146,3,    4.583,2,   2149.7,2,   2287.7,2,  33.576,2,  2.8581,   2494
   18HU97009_1,  AR7W,    55,  2, 187172,   OC84,2,19970524,0313, 57.3657, -51.7918, 3551,   2680.4,   3.0274,  34.8972,2,  34.8976,2,    279.2,2,    284.1,2,    10.90,6,    16.58,6,     1.04,6,    2.500,2,    1.216,2,    0.195,2,    3.843,2,   2152.0,2,   2290.9,2,  30.900,2,  2.8091,   2680
   18HU97009_1,  AR7W,    55,  2, 187171,   OC90,2,19970524,0313, 57.3657, -51.7918, 3551,   2869.4,   2.9032,  34.9049,2,  34.9054,6,    278.6,2,    283.5,2,    11.44,3,    15.97,6,     1.03,6,    2.296,2,    1.333,2,    0.136,2,    3.600,2,   2153.7,2,   -999.0,5,  26.823,2,  2.6682,   2869
   18HU97009_1,  AR7W,    55,  2, 187170,   OC91,2,19970524,0313, 57.3657, -51.7918, 3551,   3000.3,   2.7848,  34.9073,2,  34.9081,2,    278.8,2,    282.6,2,    11.78,6,    16.16,6,     1.03,6,    2.199,2,    1.255,2,    0.000,2,    3.678,3,   2153.0,6,   2290.5,2,  24.478,2,  2.5388,   3000
   18HU97009_1,  AR7W,    55,  2, 187145,   OC64,2,19970524,0313, 57.3657, -51.7918, 3551,   3011.7,   2.8067,  34.9074,2,-999.0000,9,    277.3,2,   -999.0,9,  -999.00,9,  -999.00,9,  -999.00,9, -999.000,9, -999.000,9, -999.000,9, -999.000,9,   -999.0,9,   -999.0,9,-999.000,9,  2.5591,   3012
   18HU97009_1,  AR7W,    55,  2, 187146,   OC91,2,19970524,0313, 57.3657, -51.7918, 3551,   3011.9,   2.8067,  34.9075,2,-999.0000,9,    277.4,2,   -999.0,9,  -999.00,9,  -999.00,9,  -999.00,9, -999.000,9, -999.000,9, -999.000,9, -999.000,9,   -999.0,9,   -999.0,9,-999.000,9,  2.5590,   3012
   18HU97009_1,  AR7W,    55,  2, 187148,   OC84,2,19970524,0313, 57.3657, -51.7918, 3551,   3012.0,   2.8071,  34.9073,2,-999.0000,9,    277.6,2,   -999.0,9,  -999.00,9,  -999.00,9,  -999.00,9, -999.000,9, -999.000,9, -999.000,9, -999.000,9,   -999.0,9,   -999.0,9,-999.000,9,  2.5594,   3012
   18HU97009_1,  AR7W,    55,  2, 187147,   OC90,2,19970524,0313, 57.3657, -51.7918, 3551,   3012.5,   2.8059,  34.9071,2,-999.0000,9,    277.4,2,   -999.0,9,  -999.00,9,  -999.00,9,  -999.00,9, -999.000,9, -999.000,9, -999.000,9, -999.000,9,   -999.0,9,   -999.0,9,-999.000,9,  2.5582,   3013
   18HU97009_1,  AR7W,    55,  2, 187169,   OC64,2,19970524,0313, 57.3657, -51.7918, 3551,   3131.1,   2.6533,  34.9062,2,  34.9067,2,    279.9,2,    283.2,2,    11.99,6,    16.04,6,     1.01,6,    2.199,2,    1.333,2,    0.165,2,    3.609,2,   2152.7,2,   2293.3,2,  27.776,2,  2.3966,   3131
   18HU97009_1,  AR7W,    55,  2, 187168,   OC92,2,19970524,0313, 57.3657, -51.7918, 3551,   3289.4,   2.4327,  34.9011,2,  34.9024,2,    283.2,2,    285.7,2,    12.00,6,    15.62,6,     1.02,6,    2.306,2,    1.313,2,    0.146,3,    3.979,2,   2152.7,2,   2287.1,2,  26.560,2,  2.1645,   3289
   18HU97009_1,  AR7W,    55,  2, 187167,   OC58,2,19970524,0313, 57.3657, -51.7918, 3551,   3400.6,   2.1370,  34.8929,2,  34.8943,2,    289.8,2,    290.7,2,    11.14,6,    15.41,6,     1.00,6,    2.792,2,    1.333,2,    0.282,3,    4.864,2,   2155.8,2,   2293.4,2,  27.620,2,  1.8642,   3401
   18HU97009_1,  AR7W,    55,  2, 187166,   OC93,2,19970524,0313, 57.3657, -51.7918, 3551,   3489.4,   1.8949,  34.8885,2,  34.8888,2,    295.2,2,    294.7,2,    10.35,6,    14.75,6,     0.96,6,    3.171,2,    1.498,2,    0.204,2,    5.584,2,   2154.2,2,   2292.0,2,  38.330,2,  1.6188,   3489
   18HU97009_1,  AR7W,    55,  2, 187165,   OC66,2,19970524,0313, 57.3657, -51.7918, 3551,   3583.9,   1.7154,  34.8879,2,  34.8882,2,    298.0,2,    296.7,2,    10.19,6,    14.65,6,     0.96,6,    3.337,2,    1.741,2,    0.185,2,    5.837,2,   2159.5,2,   2294.2,2,  35.489,2,  1.4339,   3584
   18HU97009_1,  AR7W,    55,  2, 187144,   OC92,2,19970524,0313, 57.3657, -51.7918, 3551,   3585.3,   1.7134,  34.8885,2,-999.0000,9,    297.1,2,   -999.0,9,  -999.00,9,  -999.00,9,  -999.00,9, -999.000,9, -999.000,9, -999.000,9, -999.000,9,   -999.0,9,   -999.0,9,-999.000,9,  1.4318,   3585
   18HU97009_1,  AR7W,    55,  2, 187142,   OC93,2,19970524,0313, 57.3657, -51.7918, 3551,   3585.6,   1.7134,  34.8884,2,-999.0000,9,    297.0,2,   -999.0,9,  -999.00,9,  -999.00,9,  -999.00,9, -999.000,9, -999.000,9, -999.000,9, -999.000,9,   -999.0,9,   -999.0,9,-999.000,9,  1.4318,   3586
   18HU97009_1,  AR7W,    55,  2, 187143,   OC58,2,19970524,0313, 57.3657, -51.7918, 3551,   3585.7,   1.7133,  34.8886,2,-999.0000,9,    297.1,2,   -999.0,9,  -999.00,9,  -999.00,9,  -999.00,9, -999.000,9, -999.000,9, -999.000,9, -999.000,9,   -999.0,9,   -999.0,9,-999.000,9,  1.4317,   3586
   18HU97009_1,  AR7W,    55,  2, 187141,   OC66,2,19970524,0313, 57.3657, -51.7918, 3551,   3586.8,   1.7131,  34.8885,2,-999.0000,9,    296.9,2,   -999.0,9,  -999.00,9,  -999.00,9,  -999.00,9, -999.000,9, -999.000,9, -999.000,9, -999.000,9,   -999.0,9,   -999.0,9,-999.000,9,  1.4314,   3587
   18HU97009_1,  AR7W,    57,  1, 187196,   OC84,2,19970524,1309, 57.4600, -51.7912, 3560,      3.6,   4.2450,  34.6625,2,-999.0000,9,    332.2,2,   -999.0,9,  -999.00,9,  -999.00,9,  -999.00,9, -999.000,9, -999.000,9, -999.000,9, -999.000,9,   -999.0,9,   -999.0,9,-999.000,9,  4.2447,      4
   18HU97009_1,  AR7W,    57,  1, 187202,   OC94,2,19970524,1309, 57.4600, -51.7912, 3560,      3.7,   4.2428,  34.6633,2,-999.0000,9,    331.2,2,   -999.0,9,  -999.00,9,  -999.00,9,  -999.00,9, -999.000,9, -999.000,9, -999.000,9, -999.000,9,   -999.0,9,   -999.0,9,-999.000,9,  4.2425,      4
   18HU97009_1,  AR7W,    57,  1, 187203,   OC83,2,19970524,1309, 57.4600, -51.7912, 3560,      3.7,   4.2433,  34.6631,2,-999.0000,9,    331.2,2,   -999.0,9,  -999.00,9,  -999.00,9,  -999.00,9, -999.000,9, -999.000,9, -999.000,9, -999.000,9,   -999.0,9,   -999.0,9,-999.000,9,  4.2430,      4
   18HU97009_1,  AR7W,    57,  1, 187197,   OC36,2,19970524,1309, 57.4600, -51.7912, 3560,      3.8,   4.2450,  34.6625,2,-999.0000,9,    332.1,2,   -999.0,9,  -999.00,9,  -999.00,9,  -999.00,9, -999.000,9, -999.000,9, -999.000,9, -999.000,9,   -999.0,9,   -999.0,9,-999.000,9,  4.2447,      4
   18HU97009_1,  AR7W,    57,  1, 187198,   OC88,2,19970524,1309, 57.4600, -51.7912, 3560,      3.9,   4.2446,  34.6624,2,-999.0000,9,    331.6,2,   -999.0,9,  -999.00,9,  -999.00,9,  -999.00,9, -999.000,9, -999.000,9, -999.000,9, -999.000,9,   -999.0,9,   -999.0,9,-999.000,9,  4.2443,      4
   18HU97009_1,  AR7W,    57,  1, 187200,   OC86,2,19970524,1309, 57.4600, -51.7912, 3560,      3.9,   4.2420,  34.6636,2,-999.0000,9,    331.7,2,   -999.0,9,  -999.00,9,  -999.00,9,  -999.00,9, -999.000,9, -999.000,9, -999.000,9, -999.000,9,   -999.0,9,   -999.0,9,-999.000,9,  4.2417,      4
   18HU97009_1,  AR7W,    57,  1, 187201,   OC85,2,19970524,1309, 57.4600, -51.7912, 3560,      3.9,   4.2423,  34.6632,2,-999.0000,9,    331.5,2,   -999.0,9,  -999.00,9,  -999.00,9,  -999.00,9, -999.000,9, -999.000,9, -999.000,9, -999.000,9,   -999.0,9,   -999.0,9,-999.000,9,  4.2420,      4
   18HU97009_1,  AR7W,    57,  1, 187199,   OC87,2,19970524,1309, 57.4600, -51.7912, 3560,      4.0,   4.2402,  34.6627,2,-999.0000,9,    332.1,2,   -999.0,9,  -999.00,9,  -999.00,9,  -999.00,9, -999.000,9, -999.000,9, -999.000,9, -999.000,9,   -999.0,9,   -999.0,9,-999.000,9,  4.2399,      4
   18HU97009_1,  AR7W,    57,  1, 187195,   OC90,2,19970524,1309, 57.4600, -51.7912, 3560,     19.3,   4.2478,  34.6621,2,-999.0000,9,    332.8,2,   -999.0,9,  -999.00,9,  -999.00,9,  -999.00,9, -999.000,9, -999.000,9, -999.000,9, -999.000,9,   -999.0,9,   -999.0,9,-999.000,9,  4.2464,     19
   18HU97009_1,  AR7W,    57,  1, 187194,   OC91,2,19970524,1309, 57.4600, -51.7912, 3560,     30.1,   4.1628,  34.6646,2,-999.0000,9,    330.1,2,   -999.0,9,  -999.00,9,  -999.00,9,  -999.00,9, -999.000,9, -999.000,9, -999.000,9, -999.000,9,   -999.0,9,   -999.0,9,-999.000,9,  4.1607,     30
   18HU97009_1,  AR7W,    57,  1, 187193,   OC64,2,19970524,1309, 57.4600, -51.7912, 3560,     50.2,   3.9786,  34.6674,2,-999.0000,9,    325.8,2,   -999.0,9,  -999.00,9,  -999.00,9,  -999.00,9, -999.000,9, -999.000,9, -999.000,9, -999.000,9,   -999.0,9,   -999.0,9,-999.000,9,  3.9752,     50
   18HU97009_1,  AR7W,    57,  1, 187192,   OC92,2,19970524,1309, 57.4600, -51.7912, 3560,     74.7,   3.8422,  34.7015,2,-999.0000,9,    317.7,2,   -999.0,9,  -999.00,9,  -999.00,9,  -999.00,9, -999.000,9, -999.000,9, -999.000,9, -999.000,9,   -999.0,9,   -999.0,9,-999.000,9,  3.8371,     75
   18HU97009_1,  AR7W,    57,  1, 187191,   OC58,2,19970524,1309, 57.4600, -51.7912, 3560,    100.9,   3.9826,  34.7932,2,-999.0000,9,    308.2,2,   -999.0,9,  -999.00,9,  -999.00,9,  -999.00,9, -999.000,9, -999.000,9, -999.000,9, -999.000,9,   -999.0,9,   -999.0,9,-999.000,9,  3.9757,    101
   18HU97009_1,  AR7W,    57,  1, 187190,   OC93,2,19970524,1309, 57.4600, -51.7912, 3560,    149.2,   4.1348,  34.8493,2,-999.0000,9,    305.7,2,   -999.0,9,  -999.00,9,  -999.00,9,  -999.00,9, -999.000,9, -999.000,9, -999.000,9, -999.000,9,   -999.0,9,   -999.0,9,-999.000,9,  4.1242,    149
   18HU97009_1,  AR7W,    57,  1, 187189,   OC66,2,19970524,1309, 57.4600, -51.7912, 3560,    201.1,   4.1838,  34.8643,2,-999.0000,9,    309.1,2,   -999.0,9,  -999.00,9,  -999.00,9,  -999.00,9, -999.000,9, -999.000,9, -999.000,9, -999.000,9,   -999.0,9,   -999.0,9,-999.000,9,  4.1694,    201