BOTTLE,20020708WHPSIOKJU
EXPOCODE,SECT_ID,STNNBR,CASTNO,SAMPNO,BTLNBR,BTLNBR_FLAG_W,DATE,TIME,LATITUDE,LONGITUDE,DEPTH,CTDPRS,CTDTMP,CTDSAL,CTDSAL_FLAG_W,SALNTY,SALNTY_FLAG_W,CTDOXY,CTDOXY_FLAG_W,OXYGEN,OXYGEN_FLAG_W,SILCAT,SILCAT_FLAG_W,NO2+NO3,NO2+NO3_FLAG_W,PHSPHT,PHSPHT_FLAG_W,CFC-11,CFC-11_FLAG_W,CFC-12,CFC-12_FLAG_W,CFC113,CFC113_FLAG_W,CCL4,CCL4_FLAG_W,TCARBN,TCARBN_FLAG_W,ALKALI,ALKALI_FLAG_W,MCHFRM,MCHFRM_FLAG_W,THETA,CTDRAW
,,,,,,,,,,,,DBAR,ITS-90,PSS-78,,PSS-78,,UMOL/KG,,UMOL/KG,,UMOL/KG,,UMOL/KG,,UMOL/KG,,PMOL/KG,,PMOL/KG,,PMOL/KG,,PMOL/KG,,UMOL/KG,,UMOL/KG,,PMOL/KG,,DEG C,
   18HU97009_1,  AR27,    78,  3, 187467,   OC83,2,19970529,0402, 56.3510, -58.9935,  141,      5.0,  -0.4726,  32.5330,2,-999.0000,9,    360.7,2,   -999.0,9,  -999.00,9,  -999.00,9,  -999.00,9, -999.000,9, -999.000,9, -999.000,9, -999.000,9,   -999.0,9,   -999.0,9,-999.000,9, -0.4727,      5
   18HU97009_1,  AR27,    78,  3, 187466,   OC94,2,19970529,0402, 56.3510, -58.9935,  141,      9.9,  -0.4714,  32.5305,2,-999.0000,9,    361.2,2,   -999.0,9,  -999.00,9,  -999.00,9,  -999.00,9, -999.000,9, -999.000,9, -999.000,9, -999.000,9,   -999.0,9,   -999.0,9,-999.000,9, -0.4717,     10
   18HU97009_1,  AR27,    78,  3, 187465,   OC85,2,19970529,0402, 56.3510, -58.9935,  141,     10.1,  -0.4720,  32.5302,2,  32.5468,2,    361.0,2,    353.8,2,     9.87,6,     6.49,6,     0.92,6,    6.909,3,    3.489,3,    0.322,2,   11.051,3,   2105.8,2,   2356.4,3,  67.447,3, -0.4723,     10
   18HU97009_1,  AR27,    78,  3, 187464,   OC86,2,19970529,0402, 56.3510, -58.9935,  141,     19.8,  -1.2760,  32.7591,2,-999.0000,9,    347.0,2,   -999.0,9,  -999.00,9,  -999.00,9,  -999.00,9, -999.000,9, -999.000,9, -999.000,9, -999.000,9,   -999.0,9,   -999.0,9,-999.000,9, -1.2764,     20
   18HU97009_1,  AR27,    78,  3, 187463,   OC87,2,19970529,0402, 56.3510, -58.9935,  141,     29.8,  -1.3855,  32.8182,2,-999.0000,9,    348.5,2,   -999.0,9,  -999.00,9,  -999.00,9,  -999.00,9, -999.000,9, -999.000,9, -999.000,9, -999.000,9,   -999.0,9,   -999.0,9,-999.000,9, -1.3861,     30
   18HU97009_1,  AR27,    78,  3, 187462,   OC88,2,19970529,0402, 56.3510, -58.9935,  141,     39.9,  -1.1834,  32.9333,2,-999.0000,9,    348.3,2,   -999.0,9,  -999.00,9,  -999.00,9,  -999.00,9, -999.000,9, -999.000,9, -999.000,9, -999.000,9,   -999.0,9,   -999.0,9,-999.000,9, -1.1843,     40
   18HU97009_1,  AR27,    78,  3, 187461,   OC36,2,19970529,0402, 56.3510, -58.9935,  141,     49.6,  -1.3108,  33.0178,2,-999.0000,9,    344.4,2,   -999.0,9,  -999.00,9,  -999.00,9,  -999.00,9, -999.000,9, -999.000,9, -999.000,9, -999.000,9,   -999.0,9,   -999.0,9,-999.000,9, -1.3118,     50
   18HU97009_1,  AR27,    78,  3, 187460,   OC84,2,19970529,0402, 56.3510, -58.9935,  141,     59.8,  -1.1753,  33.1247,2,-999.0000,9,    335.2,2,   -999.0,9,  -999.00,9,  -999.00,9,  -999.00,9, -999.000,9, -999.000,9, -999.000,9, -999.000,9,   -999.0,9,   -999.0,9,-999.000,9, -1.1767,     60
   18HU97009_1,  AR27,    78,  3, 187459,   OC90,2,19970529,0402, 56.3510, -58.9935,  141,     60.4,  -1.1759,  33.1289,2,  33.1325,2,    335.2,2,    321.6,2,    10.93,6,     8.65,6,     1.01,6,    5.844,2,    2.864,2,    0.263,3,   11.055,3,   2130.3,6,   2230.2,2,  50.553,4, -1.1773,     60
   18HU97009_1,  AR27,    78,  3, 187458,   OC91,2,19970529,0402, 56.3510, -58.9935,  141,     70.4,  -1.0107,  33.2238,2,-999.0000,9,    333.5,2,   -999.0,9,  -999.00,9,  -999.00,9,  -999.00,9, -999.000,9, -999.000,9, -999.000,9, -999.000,9,   -999.0,9,   -999.0,9,-999.000,9, -1.0124,     70
   18HU97009_1,  AR27,    78,  3, 187457,   OC64,2,19970529,0402, 56.3510, -58.9935,  141,     80.3,  -1.0476,  33.3351,2,-999.0000,9,    335.6,2,   -999.0,9,  -999.00,9,  -999.00,9,  -999.00,9, -999.000,9, -999.000,9, -999.000,9, -999.000,9,   -999.0,9,   -999.0,9,-999.000,9, -1.0496,     80
   18HU97009_1,  AR27,    78,  3, 187456,   OC92,2,19970529,0402, 56.3510, -58.9935,  141,     89.5,  -1.0336,  33.3988,2,-999.0000,9,    338.3,2,   -999.0,9,  -999.00,9,  -999.00,9,  -999.00,9, -999.000,9, -999.000,9, -999.000,9, -999.000,9,   -999.0,9,   -999.0,9,-999.000,9, -1.0358,     90
   18HU97009_1,  AR27,    78,  3, 187455,   OC58,2,19970529,0402, 56.3510, -58.9935,  141,    100.9,  -1.0554,  33.4406,2,-999.0000,9,    334.9,2,   -999.0,9,  -999.00,9,  -999.00,9,  -999.00,9, -999.000,9, -999.000,9, -999.000,9, -999.000,9,   -999.0,9,   -999.0,9,-999.000,9, -1.0579,    101
   18HU97009_1,  AR27,    78,  3, 187454,   OC93,2,19970529,0402, 56.3510, -58.9935,  141,    110.4,  -0.5215,  33.6110,2,  33.5924,2,    336.0,2,    319.7,6,     9.91,6,     9.86,6,     0.93,6,    5.716,2,    2.892,2,    0.302,2,   11.548,3,   2126.3,2,   2226.8,2,  51.723,4, -0.5248,    110
   18HU97009_1,  AR27,    78,  3, 187453,   OC66,2,19970529,0402, 56.3510, -58.9935,  141,    129.7,   0.0754,  33.8039,2,  33.8025,6,    327.7,2,    312.9,2,    10.62,6,    10.08,6,     0.94,6,    5.514,6,    2.859,6,    0.263,6,   10.846,3,   2130.9,2,   2247.5,6,  61.968,3,  0.0708,    130
   18HU97009_1,  AR27,    79,  3, 187484,   OC61,2,19970529,0752, 56.5752, -58.5658,  175,      7.1,  -0.5311,  32.9316,2,-999.0000,9,    359.9,2,   -999.0,9,  -999.00,9,  -999.00,9,  -999.00,9, -999.000,9, -999.000,9, -999.000,9, -999.000,9,   -999.0,9,   -999.0,9,-999.000,9, -0.5313,      7
   18HU97009_1,  AR27,    79,  3, 187483,   OC82,2,19970529,0752, 56.5752, -58.5658,  175,      9.3,  -0.5284,  32.9355,2,-999.0000,9,    359.7,2,   -999.0,9,  -999.00,9,  -999.00,9,  -999.00,9, -999.000,9, -999.000,9, -999.000,9, -999.000,9,   -999.0,9,   -999.0,9,-999.000,9, -0.5286,      9
   18HU97009_1,  AR27,    79,  3, 187482,   OC83,2,19970529,0752, 56.5752, -58.5658,  175,      9.7,  -0.5484,  32.9472,2,  34.8951,2,    360.4,2,    352.8,2,     8.13,6,     6.53,6,     0.85,6,    6.293,2,    3.283,2,    0.321,2,    9.508,3,   2099.2,2,   2219.5,2,  58.628,4, -0.5486,     10
   18HU97009_1,  AR27,    79,  3, 187481,   OC94,2,19970529,0752, 56.5752, -58.5658,  175,     19.9,  -0.8527,  33.0339,2,-999.0000,9,    352.7,2,   -999.0,9,  -999.00,9,  -999.00,9,  -999.00,9, -999.000,9, -999.000,9, -999.000,9, -999.000,9,   -999.0,9,   -999.0,9,-999.000,9, -0.8532,     20
   18HU97009_1,  AR27,    79,  3, 187480,   OC85,2,19970529,0752, 56.5752, -58.5658,  175,     29.8,  -1.1679,  33.1525,2,-999.0000,9,    338.9,2,   -999.0,9,  -999.00,9,  -999.00,9,  -999.00,9, -999.000,9, -999.000,9, -999.000,9, -999.000,9,   -999.0,9,   -999.0,9,-999.000,9, -1.1686,     30
   18HU97009_1,  AR27,    79,  3, 187478,   OC87,2,19970529,0752, 56.5752, -58.5658,  175,     39.6,  -0.7881,  33.3162,2,  33.3104,2,    339.6,2,    329.2,6,     9.65,6,     8.38,6,     0.92,6,    5.727,2,    2.883,2,    0.302,2,    9.009,3,   2116.2,2,   2231.0,2,  49.563,4, -0.7891,     40
   18HU97009_1,  AR27,    79,  3, 187479,   OC86,2,19970529,0752, 56.5752, -58.5658,  175,     40.1,  -0.7829,  33.3205,2,-999.0000,9,    339.5,2,   -999.0,9,  -999.00,9,  -999.00,9,  -999.00,9, -999.000,9, -999.000,9, -999.000,9, -999.000,9,   -999.0,9,   -999.0,9,-999.000,9, -0.7840,     40
   18HU97009_1,  AR27,    79,  3, 187477,   OC88,2,19970529,0752, 56.5752, -58.5658,  175,     49.7,  -0.7909,  33.4762,2,-999.0000,9,    332.7,2,   -999.0,9,  -999.00,9,  -999.00,9,  -999.00,9, -999.000,9, -999.000,9, -999.000,9, -999.000,9,   -999.0,9,   -999.0,9,-999.000,9, -0.7922,     50
   18HU97009_1,  AR27,    79,  3, 187476,   OC36,2,19970529,0752, 56.5752, -58.5658,  175,     60.6,  -0.7461,  33.5532,2,-999.0000,9,    331.3,2,   -999.0,9,  -999.00,9,  -999.00,9,  -999.00,9, -999.000,9, -999.000,9, -999.000,9, -999.000,9,   -999.0,9,   -999.0,9,-999.000,9, -0.7478,     61
   18HU97009_1,  AR27,    79,  3, 187475,   OC84,3,19970529,0752, 56.5752, -58.5658,  175,     70.4,  -0.6861,  33.6385,2,-999.0000,9,    333.5,2,   -999.0,9,  -999.00,9,  -999.00,9,  -999.00,9, -999.000,9, -999.000,9, -999.000,9, -999.000,9,   -999.0,9,   -999.0,9,-999.000,9, -0.6881,     70
   18HU97009_1,  AR27,    79,  3, 187474,   OC90,4,19970529,0752, 56.5752, -58.5658,  175,     81.3,  -0.3576,  33.8046,2,-999.0000,9,    333.5,2,   -999.0,9,  -999.00,9,  -999.00,9,  -999.00,9, -999.000,9, -999.000,9, -999.000,9, -999.000,9,   -999.0,9,   -999.0,9,-999.000,9, -0.3602,     81
   18HU97009_1,  AR27,    79,  3, 187473,   OC91,2,19970529,0752, 56.5752, -58.5658,  175,     81.8,  -0.3234,  33.8080,2,  33.8053,2,    332.6,2,    324.6,2,     8.10,6,    10.03,6,     0.86,6,    5.682,6,    2.853,6,    0.287,6,    8.635,6,   2115.6,2,   2241.9,2,  61.876,4, -0.3260,     82
   18HU97009_1,  AR27,    79,  3, 187472,   OC64,2,19970529,0752, 56.5752, -58.5658,  175,     91.2,   0.2138,  33.8947,2,-999.0000,9,    322.5,2,   -999.0,9,  -999.00,9,  -999.00,9,  -999.00,9, -999.000,9, -999.000,9, -999.000,9, -999.000,9,   -999.0,9,   -999.0,9,-999.000,9,  0.2105,     91
   18HU97009_1,  AR27,    79,  3, 187471,   OC92,2,19970529,0752, 56.5752, -58.5658,  175,    100.8,   0.8475,  34.0105,2,-999.0000,9,    324.1,2,   -999.0,9,  -999.00,9,  -999.00,9,  -999.00,9, -999.000,9, -999.000,9, -999.000,9, -999.000,9,   -999.0,9,   -999.0,9,-999.000,9,  0.8433,    101
   18HU97009_1,  AR27,    79,  3, 187470,   OC58,2,19970529,0752, 56.5752, -58.5658,  175,    114.7,   1.5514,  34.1446,2,  34.1248,2,    325.1,2,    322.6,2,     6.12,6,     8.68,6,     0.76,6,    5.432,2,    2.872,2,    0.282,2,    7.339,2,   2110.2,6,   2256.3,2,  48.223,4,  1.5459,    115
   18HU97009_1,  AR27,    79,  3, 187469,   OC93,2,19970529,0752, 56.5752, -58.5658,  175,    147.9,   2.4460,  34.4211,2,  34.4082,2,    305.9,2,    303.0,2,     8.56,6,    11.85,6,     0.92,6,    4.993,2,    2.618,2,    0.253,2,    6.686,2,   2131.2,2,   2274.0,6,  41.957,4,  2.4377,    148
   18HU97009_1,  AR27,    79,  3, 187468,   OC66,2,19970529,0752, 56.5752, -58.5658,  175,    160.7,   2.8436,  34.4913,2,  34.4793,6,    317.5,2,    302.4,2,     7.51,6,    11.45,6,     0.90,6,    4.934,2,    2.657,2,    0.234,2,    5.888,2,   2132.1,2,   2301.7,2,  42.570,4,  2.8340,    161
   18HU97009_1,  AR27,    80,  4, 187497,   OC85,2,19970529,1029, 56.7542, -58.2732, 1257,      9.0,   3.6575,  34.4173,2,  34.4176,2,    334.7,2,    349.5,2,     8.03,6,    13.81,6,     0.94,6,    5.402,2,    2.764,2,    0.292,2,    8.575,3,   2074.0,3,   2320.8,3,  48.513,3,  3.6569,      9
   18HU97009_1,  AR27,    80,  4, 187496,   OC86,2,19970529,1029, 56.7542, -58.2732, 1257,     58.8,   3.2862,  34.4844,2,  34.4846,2,    311.3,2,    323.6,2,     5.95,6,     9.56,6,     0.77,6,    5.285,2,    2.813,2,    0.273,2,    8.944,3,   2114.5,2,   2275.7,2,  46.835,3,  3.2825,     59
   18HU97009_1,  AR27,    80,  4, 187495,   OC87,2,19970529,1029, 56.7542, -58.2732, 1257,    129.6,   3.6831,  34.7524,2,  34.7498,2,    289.6,2,    301.0,2,     8.04,6,    13.68,6,     0.92,6,    4.632,2,    2.579,2,    0.234,2,    6.345,2,   2139.3,2,   2283.6,2,  39.606,2,  3.6744,    130
   18HU97009_1,  AR27,    80,  4, 187494,   OC88,3,19970529,1029, 56.7542, -58.2732, 1257,    220.3,   3.7664,  34.8106,2,  34.8099,2,    278.7,2,    289.0,2,     9.08,6,    15.49,6,     0.99,6,    4.301,2,    2.306,2,    0.204,2,    5.955,2,   2145.3,2,   2286.8,2,  35.274,2,  3.7513,    220
   18HU97009_1,  AR27,    80,  4, 187493,   OC36,2,19970529,1029, 56.7542, -58.2732, 1257,    331.0,   3.6173,  34.8098,2,  34.8097,2,    282.8,2,    291.6,2,     8.10,6,    13.79,6,     0.93,6,    4.340,2,    2.277,2,    0.204,2,    6.091,2,   2148.9,2,   2285.7,2,  36.636,2,  3.5948,    331
   18HU97009_1,  AR27,    80,  4, 187492,   OC84,2,19970529,1029, 56.7542, -58.2732, 1257,    440.1,   3.4153,  34.8096,2,  34.8120,2,    288.4,2,    296.1,2,     8.75,6,    15.85,6,     0.98,6,    4.398,2,    2.238,2,    0.204,2,    6.247,2,   2147.0,2,   2286.8,2,  38.397,2,  3.3857,    440
   18HU97009_1,  AR27,    80,  4, 187491,   OC90,2,19970529,1029, 56.7542, -58.2732, 1257,    550.5,   3.3774,  34.8213,2,  34.8217,2,    291.6,2,    298.4,2,     8.63,6,    15.59,6,     0.99,6,    4.437,2,    2.335,2,    0.224,2,    5.945,2,   2146.8,2,   2286.7,2,  38.892,2,  3.3400,    551
   18HU97009_1,  AR27,    80,  4, 187490,   OC91,2,19970529,1029, 56.7542, -58.2732, 1257,    660.5,   3.3621,  34.8287,2,  34.8282,6,    291.2,2,    297.5,2,     8.63,6,    15.77,6,     1.00,6,    4.447,2,    2.306,2,    0.214,2,    6.072,2,   2145.7,2,   2290.2,2,  36.654,2,  3.3168,    661
   18HU97009_1,  AR27,    80,  4, 187489,   OC64,2,19970529,1029, 56.7542, -58.2732, 1257,    790.3,   3.3370,  34.8333,2,  34.8330,2,    291.6,2,    296.9,2,     8.67,6,    15.94,6,     1.00,6,    4.414,6,    2.436,6,    0.214,6,    6.052,6,   2145.5,2,   2287.8,2,  38.065,2,  3.2821,    790
   18HU97009_1,  AR27,    80,  4, 187488,   OC92,3,19970529,1029, 56.7542, -58.2732, 1257,    920.0,   3.3981,  34.8605,2,  34.8597,2,    285.9,2,    289.8,2,     9.45,6,    16.32,6,     1.03,6,    3.931,2,    2.121,2,    0.175,2,    5.468,2,   2150.5,2,   2287.3,2,  34.201,2,  3.3328,    920
   18HU97009_1,  AR27,    80,  4, 187487,   OC58,2,19970529,1029, 56.7542, -58.2732, 1257,   1040.0,   3.3698,  34.8669,2,  34.8690,2,    286.3,2,    288.7,6,     9.77,6,    16.38,6,     1.03,6,    3.814,2,    2.160,2,    0.175,2,    5.196,2,   2151.7,2,   2290.5,2,  33.753,2,  3.2952,   1040
   18HU97009_1,  AR27,    80,  4, 187486,   OC93,2,19970529,1029, 56.7542, -58.2732, 1257,   1150.5,   3.2286,  34.8710,2,  34.8700,2,    288.8,2,    289.7,2,     9.96,6,    16.63,6,     1.04,6,    3.707,2,    1.946,2,    0.156,2,    4.962,2,   2153.0,6,   2286.5,2,  31.894,2,  3.1464,   1151
   18HU97009_1,  AR27,    80,  4, 187485,   OC66,2,19970529,1029, 56.7542, -58.2732, 1257,   1238.9,   2.9363,  34.8798,2,  34.8788,2,    288.4,2,    288.3,2,    10.54,6,    16.22,6,     1.06,6,    3.279,2,    1.703,2,    0.136,2,    4.836,3,   2154.4,2,   2285.8,6,  30.677,2,  2.8497,   1239
   18HU97009_1,  AR27,    81,  1, 187511,   OC94,2,19970529,1248, 56.5907, -58.5933,  175,      4.6,  -0.1759,  32.7912,2,-999.0000,9,    354.1,2,   -999.0,9,  -999.00,9,  -999.00,9,  -999.00,9, -999.000,9, -999.000,9, -999.000,9, -999.000,9,   -999.0,9,   -999.0,9,-999.000,9, -0.1760,      5
   18HU97009_1,  AR27,    81,  1, 187512,   OC83,2,19970529,1248, 56.5907, -58.5933,  175,      4.6,  -0.1749,  32.7917,2,-999.0000,9,    354.0,2,   -999.0,9,  -999.00,9,  -999.00,9,  -999.00,9, -999.000,9, -999.000,9, -999.000,9, -999.000,9,   -999.0,9,   -999.0,9,-999.000,9, -0.1750,      5
   18HU97009_1,  AR27,    81,  1, 187508,   OC87,2,19970529,1248, 56.5907, -58.5933,  175,      4.7,  -0.1902,  32.7918,2,-999.0000,9,    354.2,2,   -999.0,9,  -999.00,9,  -999.00,9,  -999.00,9, -999.000,9, -999.000,9, -999.000,9, -999.000,9,   -999.0,9,   -999.0,9,-999.000,9, -0.1903,      5
   18HU97009_1,  AR27,    81,  1, 187505,   OC84,2,19970529,1248, 56.5907, -58.5933,  175,      4.9,  -0.2050,  32.7902,2,-999.0000,9,    354.6,2,   -999.0,9,  -999.00,9,  -999.00,9,  -999.00,9, -999.000,9, -999.000,9, -999.000,9, -999.000,9,   -999.0,9,   -999.0,9,-999.000,9, -0.2051,      5
   18HU97009_1,  AR27,    81,  1, 187506,   OC36,2,19970529,1248, 56.5907, -58.5933,  175,      4.9,  -0.1919,  32.7904,2,-999.0000,9,    354.7,2,   -999.0,9,  -999.00,9,  -999.00,9,  -999.00,9, -999.000,9, -999.000,9, -999.000,9, -999.000,9,   -999.0,9,   -999.0,9,-999.000,9, -0.1920,      5
   18HU97009_1,  AR27,    81,  1, 187507,   OC88,2,19970529,1248, 56.5907, -58.5933,  175,      4.9,  -0.1981,  32.7915,2,-999.0000,9,    355.0,2,   -999.0,9,  -999.00,9,  -999.00,9,  -999.00,9, -999.000,9, -999.000,9, -999.000,9, -999.000,9,   -999.0,9,   -999.0,9,-999.000,9, -0.1982,      5
   18HU97009_1,  AR27,    81,  1, 187509,   OC86,2,19970529,1248, 56.5907, -58.5933,  175,      4.9,  -0.1949,  32.7917,2,-999.0000,9,    354.6,2,   -999.0,9,  -999.00,9,  -999.00,9,  -999.00,9, -999.000,9, -999.000,9, -999.000,9, -999.000,9,   -999.0,9,   -999.0,9,-999.000,9, -0.1950,      5
   18HU97009_1,  AR27,    81,  1, 187510,   OC85,2,19970529,1248, 56.5907, -58.5933,  175,      5.1,  -0.1915,  32.7914,2,-999.0000,9,    354.6,2,   -999.0,9,  -999.00,9,  -999.00,9,  -999.00,9, -999.000,9, -999.000,9, -999.000,9, -999.000,9,   -999.0,9,   -999.0,9,-999.000,9, -0.1916,      5
   18HU97009_1,  AR27,    81,  1, 187504,   OC90,2,19970529,1248, 56.5907, -58.5933,  175,     20.1,  -0.4471,  32.8295,2,-999.0000,9,    352.7,2,   -999.0,9,  -999.00,9,  -999.00,9,  -999.00,9, -999.000,9, -999.000,9, -999.000,9, -999.000,9,   -999.0,9,   -999.0,9,-999.000,9, -0.4477,     20
   18HU97009_1,  AR27,    81,  1, 187503,   OC91,2,19970529,1248, 56.5907, -58.5933,  175,     29.6,  -1.0635,  33.0784,2,-999.0000,9,    326.3,2,   -999.0,9,  -999.00,9,  -999.00,9,  -999.00,9, -999.000,9, -999.000,9, -999.000,9, -999.000,9,   -999.0,9,   -999.0,9,-999.000,9, -1.0642,     30
   18HU97009_1,  AR27,    81,  1, 187502,   OC64,2,19970529,1248, 56.5907, -58.5933,  175,     50.1,  -0.7868,  33.3522,2,-999.0000,9,    333.9,2,   -999.0,9,  -999.00,9,  -999.00,9,  -999.00,9, -999.000,9, -999.000,9, -999.000,9, -999.000,9,   -999.0,9,   -999.0,9,-999.000,9, -0.7881,     50
   18HU97009_1,  AR27,    81,  1, 187501,   OC95,2,19970529,1248, 56.5907, -58.5933,  175,     75.0,   0.2211,  33.8593,2,-999.0000,9,    319.2,2,   -999.0,9,  -999.00,9,  -999.00,9,  -999.00,9, -999.000,9, -999.000,9, -999.000,9, -999.000,9,   -999.0,9,   -999.0,9,-999.000,9,  0.2184,     75
   18HU97009_1,  AR27,    81,  1, 187500,   OC58,2,19970529,1248, 56.5907, -58.5933,  175,    100.0,   1.6424,  34.1677,2,-999.0000,9,    329.2,2,   -999.0,9,  -999.00,9,  -999.00,9,  -999.00,9, -999.000,9, -999.000,9, -999.000,9, -999.000,9,   -999.0,9,   -999.0,9,-999.000,9,  1.6375,    100
   18HU97009_1,  AR27,    81,  1, 187499,   OC93,2,19970529,1248, 56.5907, -58.5933,  175,    149.9,   3.1848,  34.5775,2,-999.0000,9,    299.8,2,   -999.0,9,  -999.00,9,  -999.00,9,  -999.00,9, -999.000,9, -999.000,9, -999.000,9, -999.000,9,   -999.0,9,   -999.0,9,-999.000,9,  3.1754,    150
   18HU97009_1,  AR27,    81,  1, 187498,   OC66,2,19970529,1248, 56.5907, -58.5933,  175,    159.7,   3.1990,  34.5805,2,-999.0000,9,    302.3,2,   -999.0,9,  -999.00,9,  -999.00,9,  -999.00,9, -999.000,9, -999.000,9, -999.000,9, -999.000,9,   -999.0,9,   -999.0,9,-999.000,9,  3.1890,    160