BOTTLE,20020708WHPSIOKJU
EXPOCODE,SECT_ID,STNNBR,CASTNO,SAMPNO,BTLNBR,BTLNBR_FLAG_W,DATE,TIME,LATITUDE,LONGITUDE,DEPTH,CTDPRS,CTDTMP,CTDSAL,CTDSAL_FLAG_W,SALNTY,SALNTY_FLAG_W,CTDOXY,CTDOXY_FLAG_W,OXYGEN,OXYGEN_FLAG_W,SILCAT,SILCAT_FLAG_W,NO2+NO3,NO2+NO3_FLAG_W,PHSPHT,PHSPHT_FLAG_W,CFC-11,CFC-11_FLAG_W,CFC-12,CFC-12_FLAG_W,CFC113,CFC113_FLAG_W,CCL4,CCL4_FLAG_W,TCARBN,TCARBN_FLAG_W,ALKALI,ALKALI_FLAG_W,MCHFRM,MCHFRM_FLAG_W,THETA,CTDRAW
,,,,,,,,,,,,DBAR,ITS-90,PSS-78,,PSS-78,,UMOL/KG,,UMOL/KG,,UMOL/KG,,UMOL/KG,,UMOL/KG,,PMOL/KG,,PMOL/KG,,PMOL/KG,,PMOL/KG,,UMOL/KG,,UMOL/KG,,PMOL/KG,,DEG C,
   18HU97009_1,  AR27,    82,  4, 187528,   OC82,2,19970529,1726, 56.9448, -57.9688, 1882,     10.3,   4.0093,  34.4437,2,  34.4450,2,    403.0,2,    355.9,2,     6.06,6,     3.56,6,     0.42,6,    5.295,2,    2.910,2,    0.273,2,    6.191,2,   2069.8,3,   2294.8,2,  75.700,3,  4.0086,     10
   18HU97009_1,  AR27,    82,  4, 187527,   OC83,2,19970529,1726, 56.9448, -57.9688, 1882,     61.1,   3.2972,  34.6278,2,  34.6268,2,    354.2,2,    310.4,2,     7.91,6,    12.45,6,     0.89,6,    4.885,2,    2.530,2,    0.214,2,    6.413,2,   2129.1,2,   2281.9,2,  65.719,4,  3.2934,     61
   18HU97009_1,  AR27,    82,  4, 187526,   OC94,2,19970529,1726, 56.9448, -57.9688, 1882,    129.4,   3.4738,  34.7887,2,  34.7881,2,    338.2,2,    295.7,2,     8.83,6,    15.31,6,     0.97,6,    4.466,2,    2.365,2,    0.146,3,    6.208,2,   2143.8,2,   2284.0,2,  62.870,4,  3.4653,    129
   18HU97009_1,  AR27,    82,  4, 187525,   OC85,2,19970529,1726, 56.9448, -57.9688, 1882,    220.5,   3.4049,  34.8087,2,  34.8093,2,    337.7,2,    294.9,2,     9.01,6,    15.80,6,     0.99,6,    4.369,2,    2.403,2,    0.185,2,    6.052,2,   2147.5,2,   2289.0,2,  56.894,4,  3.3904,    221
   18HU97009_1,  AR27,    82,  4, 187524,   OC86,2,19970529,1726, 56.9448, -57.9688, 1882,    330.1,   3.3688,  34.8216,2,  34.8213,2,    339.2,2,    296.2,2,     8.85,6,    15.69,6,     1.00,6,    4.427,2,    2.501,2,    0.195,2,    6.276,2,   2145.9,2,   2290.6,2,  59.112,4,  3.3470,    330
   18HU97009_1,  AR27,    82,  4, 187523,   OC87,2,19970529,1726, 56.9448, -57.9688, 1882,    469.2,   3.3585,  34.8327,2,  34.8323,2,    339.3,2,    294.9,2,     8.91,6,    15.94,6,     1.00,6,    4.311,2,    2.394,2,    0.126,3,    6.354,2,   2147.8,2,   2290.2,2,  55.531,4,  3.3270,    469
   18HU97009_1,  AR27,    82,  4, 187522,   OC88,2,19970529,1726, 56.9448, -57.9688, 1882,    638.6,   3.3899,  34.8507,2,  34.8515,2,    334.9,2,    291.0,2,     9.28,6,    16.07,6,     1.01,6,    4.087,2,    2.218,2,    0.156,2,    5.799,2,   2148.1,2,   2289.2,2,  51.035,4,  3.3460,    639
   18HU97009_1,  AR27,    82,  4, 187521,   OC36,2,19970529,1726, 56.9448, -57.9688, 1882,    844.1,   3.3401,  34.8655,2,  34.8664,2,    332.8,2,    288.4,2,     9.90,6,    16.50,6,     1.04,6,    3.873,2,    2.072,2,    0.000,2,    5.857,2,   2151.6,2,   2289.8,6,  49.934,4,  3.2810,    844
   18HU97009_1,  AR27,    82,  4, 187520,   OC84,2,19970529,1726, 56.9448, -57.9688, 1882,   1036.2,   3.2440,  34.8709,2,  34.8715,2,    333.9,2,    289.0,2,    10.05,6,    16.08,6,     1.05,6,    3.740,6,    2.034,6,    0.133,3,    5.624,6,   2151.9,2,   2287.6,2,  36.039,6,  3.1708,   1036
   18HU97009_1,  AR27,    82,  4, 187519,   OC90,2,19970529,1726, 56.9448, -57.9688, 1882,   1222.8,   3.0877,  34.8657,2,  34.8705,2,    339.1,2,    291.5,2,     9.97,6,    16.25,6,     1.06,6,    3.678,2,    1.907,2,    0.000,2,    5.741,2,   2148.6,2,   2284.3,2,  45.224,3,  3.0009,   1223
   18HU97009_1,  AR27,    82,  4, 187518,   OC91,2,19970529,1726, 56.9448, -57.9688, 1882,   1403.2,   2.9245,  34.8534,2,  34.8542,2,    344.9,2,    295.4,2,     9.91,6,    16.49,6,     1.05,6,    3.756,2,    1.839,2,    0.000,2,    5.779,2,   2149.1,2,   2285.9,2,  50.623,3,  2.8248,   1403
   18HU97009_1,  AR27,    82,  4, 187517,   OC64,2,19970529,1726, 56.9448, -57.9688, 1882,   1551.5,   2.9589,  34.8765,2,  34.8770,2,    338.7,2,    289.3,2,    10.51,6,    16.54,6,     1.04,6,    3.230,2,    1.712,2,    0.000,2,    5.176,2,   2152.8,2,   2291.8,2,  43.880,3,  2.8464,   1552
   18HU97009_1,  AR27,    82,  4, 187516,   OC95,2,19970529,1726, 56.9448, -57.9688, 1882,   1651.5,   2.9321,  34.8870,2,  34.8871,6,    337.4,2,    287.0,2,    10.71,6,    16.49,6,     1.05,6,    2.948,2,    1.498,2,    0.000,2,    4.641,2,   2152.9,2,   2290.4,2,  38.334,2,  2.8115,   1652
   18HU97009_1,  AR27,    82,  4, 187515,   OC58,2,19970529,1726, 56.9448, -57.9688, 1882,   1729.1,   2.9032,  34.8962,2,  34.8971,2,    824.5,4,    284.4,6,    10.87,6,    16.50,6,     1.03,6,    2.753,2,    1.420,2,    0.000,2,    4.524,2,   2153.4,2,   2293.9,2,  38.343,2,  2.7762,   1729
   18HU97009_1,  AR27,    82,  4, 187514,   OC93,2,19970529,1726, 56.9448, -57.9688, 1882,   1813.4,   2.8265,  34.8987,2,  34.8988,2,    281.3,2,    284.5,2,    11.03,6,    16.41,6,     1.02,6,    2.656,2,    1.382,2,    0.000,2,    4.427,2,   2151.1,6,   2292.8,2,  35.609,2,  2.6932,   1813
   18HU97009_1,  AR27,    82,  4, 187513,   OC66,2,19970529,1726, 56.9448, -57.9688, 1882,   1848.8,   2.7884,  34.8952,2,  34.8955,2,    283.9,2,    285.1,2,    11.22,6,    15.89,6,     1.03,6,    2.773,2,    1.459,2,    0.000,2,    4.398,2,   2155.6,2,   2288.9,2,  34.675,2,  2.6526,   1849
   18HU97009_1,  AR27,    83,  1, 187547,   OC51,2,19970529,2045, 57.1860, -57.5655, 2341,      9.7,   4.0912,  34.3149,2,  34.3202,2,    335.6,2,    366.8,2,     5.26,6,     0.76,6,     0.26,6,    5.432,2,    2.716,2,    0.302,3,    7.437,2,   2042.4,3,   2281.8,2,  52.520,3,  4.0906,     10
   18HU97009_1,  AR27,    83,  1, 187546,   OC56,2,19970529,2045, 57.1860, -57.5655, 2341,     59.5,   3.4735,  34.7605,2,  34.7602,2,    276.2,2,    299.3,2,     8.98,2,    14.38,2,     0.83,2,    4.603,2,    2.413,2,    0.234,2,    7.084,2,   2144.6,2,   2288.3,2,  39.683,2,  3.4696,     60
   18HU97009_1,  AR27,    83,  1, 187545,   OC61,2,19970529,2045, 57.1860, -57.5655, 2341,    129.3,   3.4228,  34.7903,2,  34.7906,2,    275.7,2,    298.1,2,     8.79,2,    14.89,2,     0.84,2,    4.564,2,    2.355,2,    0.214,2,    7.259,2,   2144.8,2,   2287.4,2,  40.791,4,  3.4144,    129
   18HU97009_1,  AR27,    83,  1, 187544,   OC82,2,19970529,2045, 57.1860, -57.5655, 2341,    219.2,   3.3224,  34.8081,2,  34.8091,2,    275.6,2,    297.1,2,     8.95,2,    15.72,2,     0.99,2,    4.525,2,    2.306,2,    0.224,2,    7.269,2,   2147.1,2,   2286.5,2,  39.817,2,  3.3082,    219
   18HU97009_1,  AR27,    83,  1, 187543,   OC83,2,19970529,2045, 57.1860, -57.5655, 2341,    329.8,   3.3139,  34.8229,2,  34.8228,2,    275.6,2,    297.1,2,     8.93,6,    15.62,6,     0.99,6,    4.564,2,    2.277,2,    0.175,2,    7.376,2,   2146.1,2,   2285.1,2,  42.074,3,  3.2923,    330
   18HU97009_1,  AR27,    83,  1, 187542,   OC94,2,19970529,2045, 57.1860, -57.5655, 2341,    470.0,   3.3474,  34.8378,2,  34.8378,2,    273.6,2,    294.6,2,     9.16,6,    15.78,6,     0.99,6,    4.320,2,    2.189,2,    0.204,2,    6.626,2,   2147.6,2,   2286.6,2,  37.101,2,  3.3159,    470
   18HU97009_1,  AR27,    83,  1, 187541,   OC85,2,19970529,2045, 57.1860, -57.5655, 2341,    629.0,   3.3440,  34.8477,2,  34.8476,2,    273.2,2,    294.5,2,     9.11,6,    15.86,6,     1.00,6,    4.272,2,    2.170,2,    0.185,2,    6.967,2,   2145.6,2,   2286.1,2,  37.335,2,  3.3010,    629
   18HU97009_1,  AR27,    83,  1, 187540,   OC86,2,19970529,2045, 57.1860, -57.5655, 2341,    789.8,   3.3617,  34.8630,2,  34.8619,2,    271.2,2,    265.1,4,     9.60,6,    16.41,6,     1.02,6, -999.000,5,    2.080,2,    0.190,2,    6.260,2,   2154.5,2,   2290.3,2,  34.830,2,  3.3066,    790
   18HU97009_1,  AR27,    83,  1, 187539,   OC87,2,19970529,2045, 57.1860, -57.5655, 2341,    948.5,   3.3129,  34.8737,2,  34.8737,2,    269.6,2,    287.4,2,    10.03,6,    16.95,6,     1.04,6, -999.000,5, -999.000,5, -999.000,5, -999.000,5,   2155.7,2,   2290.4,2,  27.870,3,  3.2460,    949
   18HU97009_1,  AR27,    83,  1, 187538,   OC88,2,19970529,2045, 57.1860, -57.5655, 2341,   1108.2,   3.2134,  34.8733,2,  34.8739,2,    271.9,2,    289.2,2,    10.36,6,    16.59,6,     1.05,6,    3.756,2,    1.839,2,    0.156,2,    6.071,2,   2153.7,2,   2290.2,2,  34.298,2,  3.1347,   1108
   18HU97009_1,  AR27,    83,  1, 187537,   OC36,2,19970529,2045, 57.1860, -57.5655, 2341,   1291.1,   3.0759,  34.8665,2,  34.8668,2,    276.2,2,    292.3,2,    10.16,6,    16.70,6,     1.04,6,    3.765,2,    1.849,2,    0.000,2,    5.896,2,   2152.1,2,   2289.2,2,  33.626,2,  2.9837,   1291
   18HU97009_1,  AR27,    83,  1, 187536,   OC84,2,19970529,2045, 57.1860, -57.5655, 2341,   1449.4,   2.9863,  34.8612,2,  34.8601,2,    279.2,2,    294.0,6,     9.90,6,    17.01,6,     1.05,6,    3.765,2,    1.878,2,    0.146,2,    5.595,2,   2152.5,2,   2288.3,2,  33.762,2,  2.8821,   1449
   18HU97009_1,  AR27,    83,  1, 187535,   OC90,2,19970529,2045, 57.1860, -57.5655, 2341,   1590.6,   2.9933,  34.8726,2,  34.8711,2,    276.9,2,    290.5,2,    10.54,6,    16.38,6,     1.04,6,    3.512,2,    1.761,2,    0.126,2,    5.556,2,   2155.1,2,   2292.3,2,  33.820,2,  2.8771,   1591
   18HU97009_1,  AR27,    83,  1, 187534,   OC91,2,19970529,2045, 57.1860, -57.5655, 2341,   1749.6,   2.9349,  34.8903,2,  34.8906,2,    274.2,2,    286.4,2,    10.80,6,    16.30,6,     1.03,6,    2.948,2,    1.469,2,    0.000,2,    5.429,2,   2153.5,2,   2290.7,2,  28.575,2,  2.8057,   1750
   18HU97009_1,  AR27,    83,  1, 187533,   OC64,2,19970529,2045, 57.1860, -57.5655, 2341,   1899.4,   2.7959,  34.8949,2,  34.8953,2,    275.3,2,    285.4,2,    11.10,6,    16.23,6,     1.03,6,    2.831,2,    1.352,2,    0.000,2,    5.390,2,   2153.0,2,   2291.2,2,  26.249,2,  2.6555,   1899
   18HU97009_1,  AR27,    83,  1, 187532,   OC95,2,19970529,2045, 57.1860, -57.5655, 2341,   2049.4,   2.6099,  34.9010,2,  34.8998,2,    276.5,2,    285.1,2,    11.73,6,    15.77,6,     1.03,6,    2.675,6,    1.372,6,    0.000,6,    5.633,6,   2154.4,2,   2290.8,2,  26.614,6,  2.4589,   2049
   18HU97009_1,  AR27,    83,  1, 187531,   OC58,2,19970529,2045, 57.1860, -57.5655, 2341,   2179.9,   2.3887,  34.9022,2,  34.9022,6,    279.7,2,    285.9,2,    11.81,6,    15.58,6,     1.00,6,    2.685,2,    1.352,2,    0.000,2,    6.042,2,   2153.1,2,   2296.4,2,  27.075,2,  2.2296,   2180
   18HU97009_1,  AR27,    83,  1, 187530,   OC93,2,19970529,2045, 57.1860, -57.5655, 2341,   2269.6,   2.2058,  34.8989,2,  34.8980,2,    283.5,2,    287.9,2,    11.85,6,    15.66,6,     0.98,6,    2.743,2,    1.381,2,    0.117,3,    6.470,2,   2152.2,2,   2291.7,6,  27.513,2,  2.0417,   2270
   18HU97009_1,  AR27,    83,  1, 187529,   OC66,2,19970529,2045, 57.1860, -57.5655, 2341,   2339.7,   2.0828,  34.8971,2,  34.8961,2,    287.6,2,    289.3,2,    11.51,6,    15.20,6,     0.98,6,    2.957,2,    1.450,2,    0.000,2,    6.421,2,   2153.1,6,   2291.6,2,  28.836,2,  1.9145,   2340
   18HU97009_1,  AR27,    84,  2, 187568,   OC69,2,19970530,0039, 57.4815, -57.0368, 2772,      3.9,   4.3029,  34.7112,2,-999.0000,9,    343.3,2,   -999.0,9,  -999.00,9,  -999.00,9,  -999.00,9, -999.000,9, -999.000,9, -999.000,9, -999.000,9,   -999.0,9,   -999.0,9,-999.000,9,  4.3026,      4
   18HU97009_1,  AR27,    84,  2, 187570,   OC55,2,19970530,0039, 57.4815, -57.0368, 2772,      4.0,   4.3032,  34.7110,2,-999.0000,9,    343.3,2,   -999.0,9,  -999.00,9,  -999.00,9,  -999.00,9, -999.000,9, -999.000,9, -999.000,9, -999.000,9,   -999.0,9,   -999.0,9,-999.000,9,  4.3029,      4
   18HU97009_1,  AR27,    84,  2, 187567,   OC52,2,19970530,0039, 57.4815, -57.0368, 2772,      4.1,   4.3031,  34.7111,2,-999.0000,9,    343.4,2,   -999.0,9,  -999.00,9,  -999.00,9,  -999.00,9, -999.000,9, -999.000,9, -999.000,9, -999.000,9,   -999.0,9,   -999.0,9,-999.000,9,  4.3028,      4
   18HU97009_1,  AR27,    84,  2, 187571,   OC80,2,19970530,0039, 57.4815, -57.0368, 2772,      4.1,   4.3030,  34.7109,2,-999.0000,9,    343.9,2,   -999.0,9,  -999.00,9,  -999.00,9,  -999.00,9, -999.000,9, -999.000,9, -999.000,9, -999.000,9,   -999.0,9,   -999.0,9,-999.000,9,  4.3027,      4
   18HU97009_1,  AR27,    84,  2, 187569,   OC81,2,19970530,0039, 57.4815, -57.0368, 2772,      4.3,   4.3031,  34.7111,2,-999.0000,9,    343.7,2,   -999.0,9,  -999.00,9,  -999.00,9,  -999.00,9, -999.000,9, -999.000,9, -999.000,9, -999.000,9,   -999.0,9,   -999.0,9,-999.000,9,  4.3028,      4
   18HU97009_1,  AR27,    84,  2, 187566,   OC51,2,19970530,0039, 57.4815, -57.0368, 2772,     20.1,   4.3029,  34.7111,2,  34.7113,2,    342.8,2,    363.2,2,     4.11,6,     4.45,6,     0.42,6,    5.032,2,    2.647,2,    0.380,3,    6.190,2,   2076.1,3,   2299.5,2,  38.033,3,  4.3014,     20
   18HU97009_1,  AR27,    84,  2, 187564,   OC61,2,19970530,0039, 57.4815, -57.0368, 2772,    119.7,   3.4461,  34.8012,2,  34.7999,2,    289.4,2,    302.0,2,     8.18,6,    14.12,6,     0.98,6,    4.525,2,    2.316,2,    0.282,2,    6.228,2,   2144.4,2,   2289.4,2,  32.286,2,  3.4383,    120
   18HU97009_1,  AR27,    84,  2, 187565,   OC56,2,19970530,0039, 57.4815, -57.0368, 2772,    119.9,   3.4460,  34.8013,2,-999.0000,9,    289.5,2,   -999.0,9,  -999.00,9,  -999.00,9,  -999.00,9, -999.000,9, -999.000,9, -999.000,9, -999.000,9,   -999.0,9,   -999.0,9,-999.000,9,  3.4382,    120
   18HU97009_1,  AR27,    84,  2, 187563,   OC82,2,19970530,0039, 57.4815, -57.0368, 2772,    264.0,   3.3192,  34.8205,2,  34.8199,2,    289.1,2,    301.1,2,     8.38,6,    14.36,6,     1.00,6,    4.447,2,    2.481,2,    0.263,2,    5.828,3,   2147.5,2,   2290.5,2,  32.207,2,  3.3020,    264
   18HU97009_1,  AR27,    84,  2, 187562,   OC83,2,19970530,0039, 57.4815, -57.0368, 2772,    410.3,   3.3299,  34.8345,2,  34.8344,2,    285.6,2,    296.4,2,     8.60,6,    14.59,6,     1.01,6,    4.281,2,    2.209,2,    0.214,2,    6.072,2,   2148.3,2,   -999.0,5,  29.775,2,  3.3026,    410
   18HU97009_1,  AR27,    84,  2, 187561,   OC94,2,19970530,0039, 57.4815, -57.0368, 2772,    579.3,   3.2989,  34.8457,2,  34.8458,2,    284.1,2,    295.2,2,     8.80,6,    14.86,6,     1.02,6,    4.233,2,    2.228,2,    0.224,2,    6.062,2,   2150.0,6,   2286.9,2,  30.008,2,  3.2598,    579
   18HU97009_1,  AR27,    84,  2, 187560,   OC85,2,19970530,0039, 57.4815, -57.0368, 2772,    738.0,   3.3171,  34.8616,2,  34.8615,2,    280.1,2,    290.5,2,     9.30,6,    14.99,6,     1.03,6,    3.911,2,    2.102,2,    0.195,2,    5.721,2,   2153.0,2,   2292.2,2,  28.616,2,  3.2662,    738
   18HU97009_1,  AR27,    84,  2, 187559,   OC86,2,19970530,0039, 57.4815, -57.0368, 2772,    899.2,   3.2994,  34.8745,2,  34.8745,2,    277.3,2,    287.6,2,     9.85,6,    15.40,6,     1.08,6,    3.590,2,    1.868,2,    0.126,2,    5.653,2,   2154.7,2,   2293.6,2,  25.531,2,  3.2364,    899
   18HU97009_1,  AR27,    84,  2, 187558,   OC87,2,19970530,0039, 57.4815, -57.0368, 2772,   1061.3,   3.1931,  34.8716,2,  34.8715,2,    279.9,2,    289.7,2,     9.87,6,    15.41,6,     1.04,6,    3.610,2,    1.819,2,    0.175,3,    5.458,2,   2153.6,2,   2292.8,2,  26.854,2,  3.1183,   1061
   18HU97009_1,  AR27,    84,  2, 187557,   OC88,2,19970530,0039, 57.4815, -57.0368, 2772,   1231.6,   3.1006,  34.8671,2,  34.8674,2,    282.5,2,    291.7,2,     9.91,6,    14.88,6,     1.06,6,    3.736,6,    1.865,6,    0.000,6,    5.689,6,   2154.7,2,   2291.9,2,  34.145,3,  3.0130,   1232
   18HU97009_1,  AR27,    84,  2, 187556,   OC36,2,19970530,0039, 57.4815, -57.0368, 2772,   1389.6,   3.0024,  34.8583,2,  34.8590,2,    285.7,2,    295.2,2,     9.81,6,    14.71,6,     1.07,6,    3.707,2,    1.985,2,    0.146,2,    5.750,2,   2152.4,2,   2290.2,2,  27.126,2,  2.9030,   1390
   18HU97009_1,  AR27,    84,  2, 187555,   OC84,2,19970530,0039, 57.4815, -57.0368, 2772,   1560.7,   2.9010,  34.8460,2,  34.8460,2,    288.3,2,    297.4,2,     9.76,6,    15.48,6,     1.06,6,    3.736,2,    1.917,2,    0.195,2,    6.062,2,   2153.0,2,   2290.5,2,  27.389,2,  2.7886,   1561
   18HU97009_1,  AR27,    84,  2, 187554,   OC90,2,19970530,0039, 57.4815, -57.0368, 2772,   1722.0,   2.8982,  34.8495,2,  34.8495,6,    288.0,2,    296.4,2,     9.73,6,    15.37,6,     1.06,6,    3.746,2,    1.926,2,    0.000,2,    5.740,2,   2151.9,2,   2291.1,2,  29.315,2,  2.7720,   1722
   18HU97009_1,  AR27,    84,  2, 187553,   OC91,2,19970530,0039, 57.4815, -57.0368, 2772,   1901.2,   2.9972,  34.8810,2,  34.8813,2,    281.0,2,    288.5,2,    10.38,6,    15.24,6,     0.99,6,    3.045,2,    1.440,2,    0.000,2,    4.972,3,   2154.1,2,   2293.4,2,  23.360,2,  2.8538,   1901
   18HU97009_1,  AR27,    84,  2, 187552,   OC64,2,19970530,0039, 57.4815, -57.0368, 2772,   2052.8,   2.9361,  34.8967,2,  34.8967,2,    277.9,2,    284.5,2,    10.80,2,    15.32,2,     1.04,2,    2.627,2,    1.313,2,    0.000,2,    4.417,3,   2154.1,2,   2292.4,2,  20.325,2,  2.7798,   2053
   18HU97009_1,  AR27,    84,  2, 187551,   OC95,2,19970530,0039, 57.4815, -57.0368, 2772,   2248.8,   2.7751,  34.9058,2,  34.9051,2,    277.3,2,    283.5,2,    11.42,6,    15.28,6,     1.02,6,    2.500,2,    1.245,2,    0.000,2,    4.281,3,   2153.8,2,   2294.5,2,  21.229,2,  2.6033,   2249
   18HU97009_1,  AR27,    84,  2, 187550,   OC58,2,19970530,0039, 57.4815, -57.0368, 2772,   2450.3,   2.5851,  34.9068,2,  34.9069,2,    278.7,2,    283.9,2,    11.94,6,    15.20,6,     1.02,6,    2.335,2,    1.070,2,    0.165,2,    4.232,3,   2153.8,2,   2290.6,6,  18.456,2,  2.3976,   2450
   18HU97009_1,  AR27,    84,  2, 187549,   OC93,2,19970530,0039, 57.4815, -57.0368, 2772,   2680.3,   2.0564,  34.8963,2,  34.8963,2,    288.2,2,    290.1,6,    11.40,6,    14.54,6,     0.98,6,    2.812,2,    1.381,2,    0.136,2,    5.098,3,   2154.3,2,   2295.7,2,  21.490,2,  1.8573,   2680
   18HU97009_1,  AR27,    84,  2, 187548,   OC66,2,19970530,0039, 57.4815, -57.0368, 2772,   2783.3,   1.8384,  34.8936,2,  34.8925,2,    293.5,2,    291.5,2,    10.72,6,    14.49,6,     0.98,6,    3.201,2,    1.615,2,    0.068,3,    5.633,2,   2155.7,2,   2298.9,2,  27.677,3,  1.6339,   2783