BOTTLE,20020708WHPSIOKJU
EXPOCODE,SECT_ID,STNNBR,CASTNO,SAMPNO,BTLNBR,BTLNBR_FLAG_W,DATE,TIME,LATITUDE,LONGITUDE,DEPTH,CTDPRS,CTDTMP,CTDSAL,CTDSAL_FLAG_W,SALNTY,SALNTY_FLAG_W,CTDOXY,CTDOXY_FLAG_W,OXYGEN,OXYGEN_FLAG_W,SILCAT,SILCAT_FLAG_W,NO2+NO3,NO2+NO3_FLAG_W,PHSPHT,PHSPHT_FLAG_W,CFC-11,CFC-11_FLAG_W,CFC-12,CFC-12_FLAG_W,CFC113,CFC113_FLAG_W,CCL4,CCL4_FLAG_W,TCARBN,TCARBN_FLAG_W,ALKALI,ALKALI_FLAG_W,MCHFRM,MCHFRM_FLAG_W,THETA,CTDRAW
,,,,,,,,,,,,DBAR,ITS-90,PSS-78,,PSS-78,,UMOL/KG,,UMOL/KG,,UMOL/KG,,UMOL/KG,,UMOL/KG,,PMOL/KG,,PMOL/KG,,PMOL/KG,,PMOL/KG,,UMOL/KG,,UMOL/KG,,PMOL/KG,,DEG C,
   18HU97009_1,  AR27,    93,  4, 187754,   OC80,2,19970531,2044, 60.0685, -52.4695, 3382,     13.2,   4.3611,  34.6395,2,  34.6419,2,    333.9,2,    353.0,2,     2.75,6,     5.71,6,     0.37,6,    6.150,2,    2.730,2, -999.000,5,    5.640,3,   2077.3,2,   -999.0,5,  93.030,3,  4.3601,     13
   18HU97009_1,  AR27,    93,  4, 187753,   OC55,2,19970531,2044, 60.0685, -52.4695, 3382,     59.6,   3.8951,  34.7167,2,  34.7796,2,    303.9,2,    314.5,2,     7.75,6,    14.07,6,     0.95,6,    5.547,2,    2.501,2,    0.243,2,    5.099,3,   2138.3,2,   -999.0,5,  72.267,4,  3.8910,     60
   18HU97009_1,  AR27,    93,  4, 187752,   OC81,2,19970531,2044, 60.0685, -52.4695, 3382,    129.7,   3.7659,  34.7955,2,  34.7959,2,    298.0,2,    312.4,2,     8.00,6,    14.45,6,     0.97,6,    5.761,2,    2.569,2,    0.156,3,    5.732,3,   2140.4,2,   -999.0,5,  85.311,3,  3.7571,    130
   18HU97009_1,  AR27,    93,  4, 187751,   OC69,2,19970531,2044, 60.0685, -52.4695, 3382,    225.5,   3.5412,  34.8247,2,  34.8256,2,    290.9,2,    304.0,2,     8.39,6,    15.10,6,     1.03,6,    5.177,2,    2.384,2,    0.253,2,    5.001,3,   2144.9,2,   -999.0,5,  66.294,4,  3.5261,    226
   18HU97009_1,  AR27,    93,  4, 187750,   OC52,2,19970531,2044, 60.0685, -52.4695, 3382,    349.7,   3.4232,  34.8448,2,  34.8452,2,    287.3,2,    300.0,2,     8.61,6,    15.71,6,     1.04,6,    5.050,2,    2.277,2,    0.195,2,    5.449,2,   2147.5,2,   -999.0,5,  64.453,4,  3.3998,    350
   18HU97009_1,  AR27,    93,  4, 187749,   OC51,2,19970531,2044, 60.0685, -52.4695, 3382,    500.3,   3.2525,  34.8382,2,  34.8387,2,    288.9,2,    300.5,2,     8.72,6,    16.00,6,     1.04,6,    5.215,2,    2.316,2,    0.156,2,    5.536,2,   2147.9,2,   2294.4,2,  70.174,3,  3.2192,    500
   18HU97009_1,  AR27,    93,  4, 187748,   OC56,2,19970531,2044, 60.0685, -52.4695, 3382,    640.2,   3.1668,  34.8369,2,  34.8370,2,    288.7,2,    300.1,2,     8.78,6,    15.78,6,     1.05,6,    5.118,2,    2.316,2,    0.185,2,    5.624,2,   2148.5,2,   2292.9,2,  63.596,4,  3.1240,    640
   18HU97009_1,  AR27,    93,  4, 187747,   OC61,2,19970531,2044, 60.0685, -52.4695, 3382,    800.3,   3.0964,  34.8361,2,  34.8366,2,    288.1,2,    298.6,2,     8.85,6,    16.16,6,     1.07,6,    5.021,2,    2.228,2,    0.175,2,    5.712,2,   2150.4,2,   2290.6,2,  61.961,4,  3.0422,    800
   18HU97009_1,  AR27,    93,  4, 187746,   OC82,2,19970531,2044, 60.0685, -52.4695, 3382,    949.1,   3.0647,  34.8405,2,  34.8403,2,    286.2,2,    296.4,2,     9.26,6,    16.50,6,     1.08,6,    4.787,2,    2.063,2,    0.126,2,    5.449,2,   2151.0,2,   -999.0,4,  60.880,4,  2.9996,    949
   18HU97009_1,  AR27,    93,  4, 187745,   OC83,2,19970531,2044, 60.0685, -52.4695, 3382,   1149.2,   2.9866,  34.8377,2,  34.8379,2,    288.0,2,    297.1,2,     9.48,6,    16.59,6,     1.04,6,    4.790,2,    2.170,2, -999.000,5,    5.680,2,   2150.6,2,   2292.6,2,  71.470,3,  2.9067,   1149
   18HU97009_1,  AR27,    93,  4, 187744,   OC94,3,19970531,2044, 60.0685, -52.4695, 3382,   1333.9,   3.0083,  34.8467,2,  34.8470,2,    286.8,2,    295.6,2,     9.56,6,    16.60,6,     1.08,6,    4.515,2,    1.965,2,    0.000,2,    5.507,2,   2152.4,2,   2292.4,2,  55.479,4,  2.9134,   1334
   18HU97009_1,  AR27,    93,  4, 187743,   OC85,2,19970531,2044, 60.0685, -52.4695, 3382,   1509.7,   3.0073,  34.8522,2,  34.8527,2,    286.9,2,    295.3,2,     9.78,6,    16.60,6,     1.08,6,    4.398,2,    1.790,2,    0.000,2,    5.614,2,   2151.4,2,   2293.9,2,  56.841,4,  2.8978,   1510
   18HU97009_1,  AR27,    93,  4, 187742,   OC86,2,19970531,2044, 60.0685, -52.4695, 3382,   1700.0,   2.9537,  34.8489,2,  34.8495,2,    288.7,2,    296.3,2,     9.67,6,    16.85,6,     1.08,6,    4.450,2,    1.920,2, -999.000,5,    5.470,2,   2151.0,2,   2294.2,2,  54.290,4,  2.8287,   1700
   18HU97009_1,  AR27,    93,  4, 187741,   OC87,2,19970531,2044, 60.0685, -52.4695, 3382,   1888.9,   2.9171,  34.8458,2,  34.8458,2,    289.4,2,    297.7,2,     9.63,6,    16.66,6,     1.08,6,    4.456,2,    1.790,2,    0.000,2,    5.799,3,   2150.6,2,   2293.7,2,  56.763,4,  2.7761,   1889
   18HU97009_1,  AR27,    93,  4, 187740,   OC88,2,19970531,2044, 60.0685, -52.4695, 3382,   2010.4,   2.9144,  34.8468,2,  34.8472,2,    289.1,2,    297.7,2,     9.73,6,    16.63,6,     1.08,6,    4.485,2,    1.946,2,    0.000,2,    5.458,2,   2151.2,2,   2294.0,2,  61.394,3,  2.7625,   2010
   18HU97009_1,  AR27,    93,  4, 187739,   OC36,2,19970531,2044, 60.0685, -52.4695, 3382,   2269.6,   3.0410,  34.8835,2,  34.8837,2,    280.4,2,    288.2,2,    10.53,6,    16.55,6,     1.05,6,    3.337,6,    1.472,6,    0.000,6,    4.369,6,   2152.6,2,   2299.3,2,  39.988,3,  2.8628,   2270
   18HU97009_1,  AR27,    93,  4, 187738,   OC84,2,19970531,2044, 60.0685, -52.4695, 3382,   2459.5,   3.0022,  34.8990,2,  34.8998,2,    277.3,2,    283.9,2,    11.03,6,    16.28,6,     1.03,6,    2.870,2,    1.158,2,    0.000,2,    3.756,2,   2153.8,2,   2299.2,2,  41.457,4,  2.8063,   2460
   18HU97009_1,  AR27,    93,  4, 187737,   OC90,2,19970531,2044, 60.0685, -52.4695, 3382,   2630.4,   2.9014,  34.9059,2,  34.9069,2,    277.4,2,    282.5,2,    11.34,6,    16.24,6,     1.07,6,    2.637,2,    1.206,2,    0.000,2,    3.619,2,   2153.4,2,   2302.5,2,  40.502,4,  2.6906,   2630
   18HU97009_1,  AR27,    93,  4, 187736,   OC91,2,19970531,2044, 60.0685, -52.4695, 3382,   2800.5,   2.7420,  34.9080,2,  34.9090,6,    278.2,2,    283.1,2,    11.69,6,    16.23,6,     1.06,6,    2.559,2,    1.109,2,    0.000,2,    3.668,2,   2153.4,2,   2304.1,2,  42.418,4,  2.5173,   2801
   18HU97009_1,  AR27,    93,  4, 187735,   OC64,2,19970531,2044, 60.0685, -52.4695, 3382,   2958.3,   2.5400,  34.9058,2,  34.9061,2,    280.6,2,    284.9,2,    12.00,6,    16.10,6,     1.04,6,    2.656,2,    1.129,2,    0.000,2,    3.755,2,   2154.3,2,   2302.8,2,  40.161,4,  2.3036,   2958
   18HU97009_1,  AR27,    93,  4, 187734,   OC95,2,19970531,2044, 60.0685, -52.4695, 3382,   3109.9,   2.2901,  34.9001,2,  34.9002,2,    284.2,2,    285.8,2,    12.73,6,    15.63,6,     1.02,6,    2.810,2,    1.210,2,    0.020,3, -999.000,5,   2155.0,6,   2300.5,2,  40.480,4,  2.0437,   3110
   18HU97009_1,  AR27,    93,  4, 187733,   OC58,2,19970531,2044, 60.0685, -52.4695, 3382,   3250.1,   2.0161,  34.8931,2,  34.8933,2,    291.8,2,    292.1,2,    10.74,6,    15.13,6,     0.97,6,    3.415,2,    1.459,2,    0.000,2,    4.709,2,   2153.0,2,   2298.8,6,  47.504,3,  1.7618,   3250
   18HU97009_1,  AR27,    93,  4, 187732,   OC93,2,19970531,2044, 60.0685, -52.4695, 3382,   3339.5,   1.8216,  34.8967,2,  34.8961,2,    295.2,2,    295.2,2,     9.45,6,    14.60,6,     0.96,6,    3.950,2,    1.654,2,    0.000,2,    5.302,2,   2153.2,2,   2295.2,2,  53.097,3,  1.5627,   3340
   18HU97009_1,  AR27,    93,  4, 187731,   OC66,2,19970531,2044, 60.0685, -52.4695, 3382,   3403.4,   1.7782,  34.8944,2,  34.8937,2,    297.2,2,    295.3,6,     9.72,6,    14.91,6,     0.94,6,    3.872,2,    1.673,2,    0.000,2,    5.244,2,   2153.3,2,   2314.6,2,  49.245,3,  1.5138,   3403
   18HU97009_1,  AR27,    94,  1, 187778,   OC80,2,19970601,0106, 60.3977, -51.8425, 3266,     15.0,   3.4920,  34.2287,2,  34.1447,2,    334.4,2,    359.5,2,     1.16,6,     3.44,6,     0.16,3,    5.977,2,    3.018,2,    0.302,2,    6.941,2,   2051.1,2,   -999.0,5,  52.394,3,  3.4910,     15
   18HU97009_1,  AR27,    94,  1, 187777,   OC55,2,19970601,0106, 60.3977, -51.8425, 3266,     61.3,   3.5989,  34.6545,2,  34.6560,2,    296.7,2,    310.5,2,     6.36,6,    13.59,6,     0.67,3,    5.207,2,    2.618,2,    0.272,2,    6.228,2,   2131.9,2,   -999.0,5,  43.073,4,  3.5949,     61
   18HU97009_1,  AR27,    94,  1, 187776,   OC81,2,19970601,0106, 60.3977, -51.8425, 3266,    130.6,   4.2544,  34.8436,2,  34.8415,2,    285.9,2,    300.2,2,     7.92,6,    15.59,6,     0.82,3,    4.875,2,    2.501,2,    0.243,2,    5.809,2,   2141.3,2,   -999.0,5,  41.853,4,  4.2450,    131
   18HU97009_1,  AR27,    94,  1, 187775,   OC69,2,19970601,0106, 60.3977, -51.8425, 3266,    218.6,   3.7252,  34.8192,2,  34.8179,2,    290.9,2,    305.0,2,     8.10,6,    15.14,6,     0.82,3,    4.826,2,    2.481,2,    0.243,2,    5.702,2,   2143.1,2,   -999.0,5,  40.597,4,  3.7103,    219
   18HU97009_1,  AR27,    94,  1, 187774,   OC52,2,19970601,0106, 60.3977, -51.8425, 3266,    337.9,   3.4668,  34.8270,2,  34.8272,2,    288.6,2,    300.4,2,     8.56,6,    16.02,6,     0.87,3,    4.904,2,    2.423,2,    0.263,2,    5.887,2,   2146.7,2,   -999.0,5,  41.889,4,  3.4442,    338
   18HU97009_1,  AR27,    94,  1, 187773,   OC51,2,19970601,0106, 60.3977, -51.8425, 3266,    480.7,   3.3080,  34.8342,2,  34.8336,2,    289.3,2,    301.2,2,     8.55,6,    16.46,6,     0.85,3,    4.904,2,    2.549,2,    0.204,2,    6.276,3,   2147.2,2,   -999.0,5,  43.708,4,  3.2759,    481
   18HU97009_1,  AR27,    94,  1, 187772,   OC56,2,19970601,0106, 60.3977, -51.8425, 3266,    620.5,   3.2761,  34.8435,2,  34.8444,2,    287.1,2,    297.6,2,     8.81,6,    16.52,6,     0.92,3,    4.505,2,    2.238,2,    0.224,2,    5.459,2,   2149.0,2,   -999.0,5,  38.220,3,  3.2341,    621
   18HU97009_1,  AR27,    94,  1, 187771,   OC61,2,19970601,0106, 60.3977, -51.8425, 3266,    798.7,   3.1258,  34.8361,2,  34.8356,2,    289.0,2,    299.8,2,     8.91,6,    16.28,6,     0.87,3,    4.573,2,    2.306,2,    0.234,2,    5.857,2,   2150.5,2,   -999.0,5,  38.570,3,  3.0716,    799
   18HU97009_1,  AR27,    94,  1, 187770,   OC82,2,19970601,0106, 60.3977, -51.8425, 3266,    959.2,   3.1265,  34.8469,2,  34.8452,2,    285.0,2,    295.2,2,     9.29,6,    16.59,6,     0.94,3,    4.437,2,    2.257,2,    0.156,2,    5.556,2,   2154.0,2,   -999.0,5,  37.956,3,  3.0602,    959
   18HU97009_1,  AR27,    94,  1, 187769,   OC83,2,19970601,0106, 60.3977, -51.8425, 3266,   1140.5,   3.1056,  34.8530,2,  34.8509,2,    284.4,2,    294.0,2,     9.49,6,    16.90,6,     0.91,3,    4.087,2,    2.004,2,    0.204,2,    4.787,3,   2153.1,2,   -999.0,5,  33.247,3,  3.0253,   1141
   18HU97009_1,  AR27,    94,  1, 187768,   OC94,2,19970601,0106, 60.3977, -51.8425, 3266,   1329.4,   2.9718,  34.8382,2,  34.8379,2,    288.0,2,    297.7,2,     9.43,6,    16.87,6,     0.92,3,    4.427,6,    2.235,6,    0.172,6,    5.332,6,   2150.7,2,   -999.0,5,  38.705,6,  2.8777,   1329
   18HU97009_1,  AR27,    94,  1, 187767,   OC85,2,19970601,0106, 60.3977, -51.8425, 3266,   1508.5,   3.0213,  34.8511,2,  34.8507,6,    286.6,2,    295.6,2,     9.71,6,    16.79,6,     0.96,3,    4.223,2,    2.034,2,    0.156,2,    4.816,2,   2150.7,2,   -999.0,5,  36.380,2,  2.9118,   1509
   18HU97009_1,  AR27,    94,  1, 187766,   OC86,2,19970601,0106, 60.3977, -51.8425, 3266,   1689.0,   2.9626,  34.8482,2,  34.8476,2,    288.7,2,    296.7,2,     9.74,6,    16.81,6,     0.97,3,    4.120,2,    1.890,2, -999.000,5,    6.000,3,   2151.4,2,   -999.0,5,  38.470,3,  2.8384,   1689
   18HU97009_1,  AR27,    94,  1, 187765,   OC87,2,19970601,0106, 60.3977, -51.8425, 3266,   1855.5,   2.9105,  34.8441,2,  34.8440,2,    290.4,2,    298.0,2,     9.64,6,    16.93,6,     0.98,3,    4.135,2,    2.034,2,    0.175,2,    4.592,2,   2151.2,2,   -999.0,5,  34.064,2,  2.7725,   1856
   18HU97009_1,  AR27,    94,  1, 187764,   OC88,2,19970601,0106, 60.3977, -51.8425, 3266,   1977.8,   2.9001,  34.8445,2,  34.8448,2,    290.1,2,    297.8,2,     9.59,6,    16.52,6,     1.01,3,    4.057,2,    1.956,2,    0.136,2,    4.592,2,   2150.3,2,   -999.0,5,  34.628,2,  2.7514,   1978
   18HU97009_1,  AR27,    94,  1, 187763,   OC36,2,19970601,0106, 60.3977, -51.8425, 3266,   2102.1,   2.9562,  34.8581,2,  34.8590,2,    287.1,2,    294.1,2,     9.91,6,    16.43,6,     0.99,3,    3.810,2,    1.850,2, -999.000,5,    5.200,2,   2150.8,2,   -999.0,5,  37.070,3,  2.7952,   2102
   18HU97009_1,  AR27,    94,  1, 187762,   OC84,2,19970601,0106, 60.3977, -51.8425, 3266,   2265.1,   3.0340,  34.8850,2,  34.8861,2,    280.5,2,    287.7,2,    10.48,6,    16.32,6,     1.00,3,    3.075,2,    1.469,2,    0.000,2,    4.077,2,   2151.8,6,   -999.0,5,  27.457,3,  2.8564,   2265
   18HU97009_1,  AR27,    94,  1, 187761,   OC90,2,19970601,0106, 60.3977, -51.8425, 3266,   2479.8,   2.9313,  34.9008,2,  34.9020,2,    278.4,2,    284.1,2,    10.97,6,    16.16,6,     0.99,3,    2.676,2,    1.333,2,    0.000,2,    4.164,2,   2153.3,2,   -999.0,5,  24.304,2,  2.7348,   2480
   18HU97009_1,  AR27,    94,  1, 187760,   OC91,2,19970601,0106, 60.3977, -51.8425, 3266,   2653.7,   2.7931,  34.9079,2,  34.9085,2,    278.2,2,    282.8,2,    11.63,6,    16.09,6,     0.95,3,    2.432,2,    1.187,2,    0.000,2,    4.446,2,   2153.9,2,   -999.0,5,  24.420,2,  2.5821,   2654
   18HU97009_1,  AR27,    94,  1, 187759,   OC64,2,19970601,0106, 60.3977, -51.8425, 3266,   2796.3,   2.6544,  34.9097,2,  34.9102,2,    278.7,2,    282.9,6,    12.03,6,    15.79,6,     0.94,3,    2.384,2,    1.080,2,    0.000,2,    4.368,2,   2155.1,2,   -999.0,5,  22.182,2,  2.4319,   2796
   18HU97009_1,  AR27,    94,  1, 187758,   OC95,2,19970601,0106, 60.3977, -51.8425, 3266,   3002.3,   2.3054,  34.9004,2,  34.9012,2,    283.7,2,    294.0,2,    12.51,6,    15.73,6,     0.94,3,    2.461,2,    1.236,2,    0.039,3,    4.855,2,   2154.5,2,   -999.0,5,  22.921,2,  2.0697,   3002
   18HU97009_1,  AR27,    94,  1, 187757,   OC58,2,19970601,0106, 60.3977, -51.8425, 3266,   3150.5,   1.9344,  34.8917,2,  34.8923,2,    294.0,2,    294.1,2,    10.48,6,    14.95,6,     0.90,3,    3.317,2,    1.557,2,    0.000,2,    5.964,2,   2153.7,2,   -999.0,5,  29.584,2,  1.6921,   3151
   18HU97009_1,  AR27,    94,  1, 187756,   OC93,2,19970601,0106, 60.3977, -51.8425, 3266,   3239.0,   1.6705,  34.8873,2,  34.8874,2,    298.1,2,    297.2,2,    10.28,6,    14.46,6,     0.92,3,    3.687,2,    1.771,2,    0.126,2,    6.430,3,   2154.1,2,   -999.0,5,  30.887,2,  1.4254,   3239
   18HU97009_1,  AR27,    94,  1, 187755,   OC66,2,19970601,0106, 60.3977, -51.8425, 3266,   3285.6,   1.6326,  34.8880,2,  34.8888,2,    298.7,2,    297.3,2,    10.26,6,    14.39,6,     0.91,3,    3.706,2,    1.848,2,    0.126,2,    6.041,3,   2154.2,2,   -999.0,5,  30.654,2,  1.3838,   3286