BOTTLE,20020708WHPSIOKJU
EXPOCODE,SECT_ID,STNNBR,CASTNO,SAMPNO,BTLNBR,BTLNBR_FLAG_W,DATE,TIME,LATITUDE,LONGITUDE,DEPTH,CTDPRS,CTDTMP,CTDSAL,CTDSAL_FLAG_W,SALNTY,SALNTY_FLAG_W,CTDOXY,CTDOXY_FLAG_W,OXYGEN,OXYGEN_FLAG_W,SILCAT,SILCAT_FLAG_W,NO2+NO3,NO2+NO3_FLAG_W,PHSPHT,PHSPHT_FLAG_W,CFC-11,CFC-11_FLAG_W,CFC-12,CFC-12_FLAG_W,CFC113,CFC113_FLAG_W,CCL4,CCL4_FLAG_W,TCARBN,TCARBN_FLAG_W,ALKALI,ALKALI_FLAG_W,MCHFRM,MCHFRM_FLAG_W,THETA,CTDRAW
,,,,,,,,,,,,DBAR,ITS-90,PSS-78,,PSS-78,,UMOL/KG,,UMOL/KG,,UMOL/KG,,UMOL/KG,,UMOL/KG,,PMOL/KG,,PMOL/KG,,PMOL/KG,,PMOL/KG,,UMOL/KG,,UMOL/KG,,PMOL/KG,,DEG C,
   18HU97009_1,  AR27,    89,  3, 187658,   OC80,2,19970530,2340, 58.5835, -55.1250, 3354,     13.1,   4.4668,  34.6916,2,  34.6929,2,    306.7,2,    333.2,2,     7.50,6,    10.13,6,     0.74,6,    5.547,2,    3.007,2,    0.292,2,    7.835,2,   2111.5,3,   2285.6,2,  49.781,4,  4.4659,     13
   18HU97009_1,  AR27,    89,  3, 187657,   OC55,2,19970530,2340, 58.5835, -55.1250, 3354,     59.2,   3.5482,  34.7537,2,  34.7551,2,    297.2,2,    320.0,2,     8.42,6,    13.92,6,     0.94,6,    5.537,2,    3.017,2,    0.263,2,    8.554,2,   2135.9,2,   2284.4,2,  50.845,4,  3.5444,     59
   18HU97009_1,  AR27,    89,  3, 187656,   OC81,2,19970530,2340, 58.5835, -55.1250, 3354,    129.9,   3.2173,  34.8201,2,  34.8209,2,    283.0,2,    303.1,2,     8.41,6,    15.52,6,     1.02,6,    4.894,2,    2.520,2,    0.224,2,    8.261,2,   2146.3,2,   2284.4,2,  41.548,4,  3.2091,    130
   18HU97009_1,  AR27,    89,  3, 187655,   OC69,2,19970530,2340, 58.5835, -55.1250, 3354,    219.7,   3.1113,  34.8256,2,  34.8256,2,    281.1,2,    300.0,2,     8.59,6,    15.73,6,     1.02,6,    4.748,2,    2.676,2,    0.234,2,    8.339,2,   2146.7,2,   2286.5,2,  38.969,2,  3.0974,    220
   18HU97009_1,  AR27,    89,  3, 187654,   OC52,2,19970530,2340, 58.5835, -55.1250, 3354,    349.4,   3.0807,  34.8315,2,  34.8317,2,    280.8,2,    299.7,2,     8.73,6,    15.77,6,     1.02,6,    4.657,6,    2.627,6,    0.227,6,    7.719,3,   2147.2,2,   -999.0,5,  39.193,2,  3.0583,    349
   18HU97009_1,  AR27,    89,  3, 187653,   OC51,2,19970530,2340, 58.5835, -55.1250, 3354,    500.8,   3.0067,  34.8302,2,  34.8295,2,    281.8,2,    300.4,2,     8.77,6,    15.61,6,     1.02,6,    4.651,2,    2.471,2,    0.234,2,    8.105,2,   2147.4,2,   2289.0,6,  39.893,2,  2.9743,    501
   18HU97009_1,  AR27,    89,  3, 187652,   OC56,2,19970530,2340, 58.5835, -55.1250, 3354,    649.8,   2.9645,  34.8300,2,  34.8303,2,    282.6,2,    301.1,2,     8.86,6,    15.86,6,     1.04,6,    4.690,2,    2.559,2,    0.214,2,    8.066,2,   2147.7,2,   2287.4,2,  40.885,4,  2.9220,    650
   18HU97009_1,  AR27,    89,  3, 187651,   OC61,2,19970530,2340, 58.5835, -55.1250, 3354,    819.9,   2.9360,  34.8319,2,  34.8326,2,    282.2,2,    299.1,2,     8.98,6,    16.23,6,     1.06,6,    4.583,2,    2.501,2,    0.214,2,    7.531,2,   2147.9,2,   2288.1,2,  39.494,2,  2.8814,    820
   18HU97009_1,  AR27,    89,  3, 187650,   OC82,2,19970530,2340, 58.5835, -55.1250, 3354,    999.6,   2.9347,  34.8346,2,  34.8350,2,    282.4,2,    298.4,2,     9.16,6,    16.31,6,     1.06,6,    4.505,2,    2.413,2,    0.195,2,    7.317,2,   2149.9,2,   2288.9,2,  39.348,2,  2.8668,   1000
   18HU97009_1,  AR27,    89,  3, 187649,   OC83,2,19970530,2340, 58.5835, -55.1250, 3354,   1178.9,   2.9233,  34.8353,2,  34.8354,2,    283.5,2,    298.2,2,     9.26,6,    16.29,6,     1.07,6,    4.378,2,    2.335,2,    0.195,2,    7.327,2,   2147.4,2,   2288.6,2,  38.024,2,  2.8416,   1179
   18HU97009_1,  AR27,    89,  3, 187648,   OC94,2,19970530,2340, 58.5835, -55.1250, 3354,   1379.8,   2.9671,  34.8469,2,  34.8470,2,    282.8,2,    296.0,2,     9.49,6,    16.33,6,     1.13,6,    4.194,2,    2.160,2,    0.175,2,    6.412,2,   2150.6,2,   2290.5,2,  36.613,2,  2.8689,   1380
   18HU97009_1,  AR27,    89,  3, 187647,   OC85,2,19970530,2340, 58.5835, -55.1250, 3354,   1507.9,   2.9522,  34.8479,2,  34.8476,2,    284.5,2,    296.8,2,     9.87,6,    16.29,6,     1.08,6,    4.038,2,    2.131,2,    0.165,2,    6.295,2,   2149.9,2,   2289.3,2,  34.774,2,  2.8436,   1508
   18HU97009_1,  AR27,    89,  3, 187646,   OC86,2,19970530,2340, 58.5835, -55.1250, 3354,   1679.3,   2.9368,  34.8492,2,  34.8493,2,    286.5,2,    297.3,2,     9.59,6,    16.49,6,     1.08,6,    3.960,2,    2.102,2,    0.165,2,    6.431,2,   2148.9,2,   2289.1,2,  34.832,2,  2.8138,   1679
   18HU97009_1,  AR27,    89,  3, 187645,   OC87,2,19970530,2340, 58.5835, -55.1250, 3354,   1855.3,   2.9146,  34.8476,2,  34.8476,2,    287.8,2,    297.4,2,     9.53,6,    16.25,6,     1.08,6,    3.960,2,    2.141,2,    0.165,2,    6.237,2,   2149.6,2,   2288.6,2,  34.297,2,  2.7766,   1855
   18HU97009_1,  AR27,    89,  3, 187644,   OC88,2,19970530,2340, 58.5835, -55.1250, 3354,   2039.4,   2.9500,  34.8569,2,  34.8568,2,    285.8,2,    295.0,2,     9.90,6,    16.39,6,     1.09,6,    3.814,2,    2.102,2,    0.156,2,    6.052,2,   2149.2,2,   2290.6,2,  34.248,2,  2.7949,   2039
   18HU97009_1,  AR27,    89,  3, 187643,   OC36,2,19970530,2340, 58.5835, -55.1250, 3354,   2219.1,   3.0415,  34.8862,2,  34.8476,2,    277.9,2,    286.5,6,    10.64,6,    16.46,6,     1.09,6,    2.958,2,    1.566,2,    0.000,2,    5.565,2,   2150.8,2,   2294.2,2,  27.466,2,  2.8681,   2219
   18HU97009_1,  AR27,    89,  3, 187642,   OC84,2,19970530,2340, 58.5835, -55.1250, 3354,   2397.8,   3.0103,  34.9003,2,  34.9009,6,    275.4,2,    283.3,2,    11.02,6,    16.40,6,     1.08,6,    2.520,2,    1.343,2,    0.000,2,    5.050,2,   2150.8,2,   2290.2,2,  23.477,2,  2.8203,   2398
   18HU97009_1,  AR27,    89,  3, 187641,   OC90,3,19970530,2340, 58.5835, -55.1250, 3354,   2552.7,   2.9233,  34.9052,2,  34.9053,2,    275.5,2,    282.8,2,    11.23,6,    15.84,6,     1.06,6,    2.452,2,    1.313,2,    0.000,2,    5.098,2,   2152.0,2,   2296.5,2,  22.319,2,  2.7197,   2553
   18HU97009_1,  AR27,    89,  3, 187640,   OC91,2,19970530,2340, 58.5835, -55.1250, 3354,   2714.2,   2.7978,  34.9083,2,  34.9083,2,    275.8,2,    282.5,2,    11.68,6,    15.75,6,     1.07,6,    2.364,2,    1.245,2,    0.000,2,    5.477,2,   2152.4,2,   2293.3,2,  22.562,2,  2.5807,   2714
   18HU97009_1,  AR27,    89,  3, 187639,   OC64,2,19970530,2340, 58.5835, -55.1250, 3354,   2899.8,   2.5919,  34.9056,2,  34.9053,2,    278.9,2,    284.2,2,    11.79,6,    15.78,6,     1.05,6,    2.413,2,    1.245,2,    0.000,2,    5.847,2,   2155.0,2,   2298.2,2,  21.880,2,  2.3603,   2900
   18HU97009_1,  AR27,    89,  3, 187638,   OC95,2,19970530,2340, 58.5835, -55.1250, 3354,   3059.4,   2.3657,  34.9034,2,  34.9035,2,    280.5,2,    284.1,2,    13.16,6,    15.75,6,     1.05,6,    2.228,2,    1.236,2,    0.000,2,    5.964,2,   2152.8,2,   2295.9,2,  21.860,2,  2.1228,   3059
   18HU97009_1,  AR27,    89,  3, 187637,   OC58,2,19970530,2340, 58.5835, -55.1250, 3354,   3199.1,   2.0418,  34.8923,2,  34.8927,2,    290.4,2,    291.6,2,    11.13,6,    15.02,6,     1.00,6,    3.103,2,    1.664,2,    0.117,3,    7.598,3,   2153.3,2,   2288.9,6,  28.330,3,  1.7921,   3199
   18HU97009_1,  AR27,    89,  3, 187636,   OC93,2,19970530,2340, 58.5835, -55.1250, 3354,   3299.5,   1.7602,  34.8884,2,  34.8880,2,    296.7,2,    296.9,2,    10.05,6,    14.36,6,     0.97,6, -999.000,5, -999.000,5, -999.000,5, -999.000,5,   2152.7,6,   2290.2,2,-999.000,5,  1.5069,   3300
   18HU97009_1,  AR27,    89,  3, 187635,   OC66,2,19970530,2340, 58.5835, -55.1250, 3354,   3375.7,   1.6304,  34.8858,2,  34.8849,2,    298.9,2,    297.1,2,    10.32,6,    14.32,6,     0.97,6,    3.860,2,    2.100,2,    0.160,2,    8.280,3,   2156.0,2,   2312.9,3,-999.000,5,  1.3726,   3376
   18HU97009_1,  AR27,    90,  1, 187682,   OC80,2,19970531,0406, 58.9478, -54.5047, 3395,     11.8,   4.2641,  34.5983,2,  34.5999,2,    321.5,2,    338.8,2,     4.87,6,     9.39,6,     0.67,6,    5.227,2,    2.891,2,    0.321,2,    7.193,2,   2101.7,3,   2290.9,2,  69.912,3,  4.2632,     12
   18HU97009_1,  AR27,    90,  1, 187681,   OC55,2,19970531,0406, 58.9478, -54.5047, 3395,     59.3,   3.5345,  34.7637,2,  34.7635,2,    302.0,2,    317.8,2,     8.50,6,    14.22,6,     0.99,2,    5.150,2,    2.840,2, -999.000,5,    7.490,2,   2140.5,2,   2285.0,2,  66.630,3,  3.5306,     59
   18HU97009_1,  AR27,    90,  1, 187680,   OC81,2,19970531,0406, 58.9478, -54.5047, 3395,    129.7,   3.2340,  34.8162,2,  34.8148,2,    288.0,2,    300.0,2,     8.67,6,    15.70,6,     1.05,6,    4.534,2,    2.530,2,    0.253,2,    7.132,2,   2148.5,2,   2284.3,2,  53.886,4,  3.2258,    130
   18HU97009_1,  AR27,    90,  1, 187679,   OC69,2,19970531,0406, 58.9478, -54.5047, 3395,    220.2,   3.1166,  34.8216,2,  34.8211,2,    289.8,2,    301.6,2,     8.48,6,    15.74,6,     1.05,6,    4.563,2,    2.530,2,    0.165,2,    7.103,2,   2149.2,2,   2286.4,2,  55.997,4,  3.1026,    220
   18HU97009_1,  AR27,    90,  1, 187678,   OC52,2,19970531,0406, 58.9478, -54.5047, 3395,    339.7,   3.0854,  34.8283,2,  34.8281,2,    290.5,2,    302.8,2,     8.67,6,    15.68,6,     1.04,6,    4.660,2,    2.560,2, -999.000,5,    7.320,2,   2149.9,2,   2286.5,2,  55.250,4,  3.0637,    340
   18HU97009_1,  AR27,    90,  1, 187677,   OC51,2,19970531,0406, 58.9478, -54.5047, 3395,    479.7,   3.1060,  34.8374,2,  34.8368,2,    288.6,2,    299.8,2,     8.78,6,    16.01,6,     1.05,6,    4.398,2,    2.374,2,    0.263,3,    7.035,2,   2151.0,2,   2285.2,2,  51.423,4,  3.0747,    480
   18HU97009_1,  AR27,    90,  1, 187676,   OC56,2,19970531,0406, 58.9478, -54.5047, 3395,    619.1,   2.9843,  34.8269,2,  34.8266,2,    288.7,2,    300.1,6,     8.90,6,    16.19,6,     1.09,6,    4.466,2,    2.403,2,    0.185,2,    7.103,2,   2150.9,2,   2285.5,2,  55.782,3,  2.9438,    619
   18HU97009_1,  AR27,    90,  1, 187675,   OC61,2,19970531,0406, 58.9478, -54.5047, 3395,    755.8,   2.9995,  34.8344,2,  34.8336,2,    286.4,2,    297.2,2,     9.18,6,    16.53,6,     1.08,2,    4.213,2,    2.218,2,    0.204,2,    7.015,2,   2153.1,2,   2286.6,2,  50.041,4,  2.9492,    756
   18HU97009_1,  AR27,    90,  1, 187674,   OC82,2,19970531,0406, 58.9478, -54.5047, 3395,    939.4,   2.9106,  34.8272,2,  34.8264,2,    289.6,2,    300.4,2,     8.92,6,    16.11,6,     1.07,6,    4.320,2,    2.423,2,    0.234,2,    6.986,2,   2152.8,2,   2287.4,2,  50.284,4,  2.8474,    939
   18HU97009_1,  AR27,    90,  1, 187673,   OC83,2,19970531,0406, 58.9478, -54.5047, 3395,   1148.9,   2.9016,  34.8303,2,  34.8295,2,    288.5,2,    298.3,2,     9.26,6,    16.47,6,     1.08,6,    4.184,2,    2.267,2,    0.175,2,    6.996,2,   2152.2,2,   2288.0,2,  49.817,4,  2.8225,   1149
   18HU97009_1,  AR27,    90,  1, 187672,   OC94,2,19970531,0406, 58.9478, -54.5047, 3395,   1350.3,   2.9548,  34.8404,2,  34.8393,2,    287.4,2,    297.1,2,     9.34,6,    16.25,6,     1.08,6,    4.206,6,    2.263,6,    0.195,2,    6.974,6,   2153.7,2,   2285.2,2,  35.241,3,  2.8591,   1350
   18HU97009_1,  AR27,    90,  1, 187671,   OC85,2,19970531,0406, 58.9478, -54.5047, 3395,   1538.6,   2.9971,  34.8517,2,  34.8521,2,    286.0,2,    295.3,2,     9.65,6,    16.40,6,     1.13,6,    3.853,2,    1.985,2,    0.078,3,    6.869,2,   2153.0,2,   2285.2,2,  45.632,4,  2.8853,   1539
   18HU97009_1,  AR27,    90,  1, 187670,   OC86,2,19970531,0406, 58.9478, -54.5047, 3395,   1735.2,   2.9358,  34.8471,2,  34.8472,6,    287.8,2,    296.4,2,     9.76,6,    16.88,6,     1.08,2,    3.843,2,    2.034,2,    0.185,2,    6.568,2,   2151.7,2,   2286.5,2,  44.076,4,  2.8080,   1735
   18HU97009_1,  AR27,    90,  1, 187669,   OC87,2,19970531,0406, 58.9478, -54.5047, 3395,   1928.8,   2.9102,  34.8454,2,  34.8456,2,    289.0,2,    297.8,2,     9.65,6,    16.43,6,     1.08,2,    3.843,2,    1.917,2,    0.146,3,    6.772,2,   -999.0,5,   2288.6,2,  44.922,4,  2.7657,   1929
   18HU97009_1,  AR27,    90,  1, 187668,   OC88,2,19970531,0406, 58.9478, -54.5047, 3395,   2081.6,   2.9195,  34.8493,2,  34.8495,2,    288.4,2,    296.4,2,     9.70,6,    16.55,6,     1.12,6,    3.746,2,    1.946,2,    0.107,3,    6.859,2,   2150.0,2,   2287.5,2,  44.834,4,  2.7610,   2082
   18HU97009_1,  AR27,    90,  1, 187667,   OC36,2,19970531,0406, 58.9478, -54.5047, 3395,   2277.6,   3.0349,  34.8808,2,  34.8806,2,    280.8,2,    288.5,2,    10.32,6,    16.33,6,     1.12,6,    3.006,2,    1.586,2,    0.175,2,    5.157,3,   2150.1,6,   2291.4,2,  33.936,2,  2.8561,   2278
   18HU97009_1,  AR27,    90,  1, 187666,   OC84,2,19970531,0406, 58.9478, -54.5047, 3395,   2459.7,   3.0221,  34.8974,2,  34.8975,2,    277.6,2,    284.2,2,    10.98,6,    16.20,6,     1.09,6,    2.530,2,    1.206,2,    0.000,2,    4.767,3,   2151.9,2,   2291.0,2,  29.976,2,  2.8259,   2460
   18HU97009_1,  AR27,    90,  1, 187665,   OC90,2,19970531,0406, 58.9478, -54.5047, 3395,   2630.5,   2.9163,  34.9040,2,  34.9043,2,    277.6,2,    282.7,2,    11.28,6,    16.14,6,     1.08,6,    2.403,2,    1.197,2,    0.000,2,    4.689,3,   2150.3,2,   2291.8,2,  30.209,2,  2.7052,   2631
   18HU97009_1,  AR27,    90,  1, 187664,   OC91,2,19970531,0406, 58.9478, -54.5047, 3395,   2799.6,   2.7644,  34.9081,2,  34.9088,2,    277.2,2,    282.4,2,    11.62,6,    15.99,6,     1.06,6,    2.286,2,    1.167,2,    0.185,2,    4.777,3,   2151.8,2,   2294.2,2,  29.440,2,  2.5394,   2800
   18HU97009_1,  AR27,    90,  1, 187663,   OC64,2,19970531,0406, 58.9478, -54.5047, 3395,   2961.6,   2.5750,  34.9060,2,  34.9063,2,    279.5,2,    283.5,2,    12.02,6,    15.50,6,     1.04,6,    2.286,2,    1.148,2,    0.078,3,    4.952,3,   2152.0,2,   2291.5,2,  29.167,2,  2.3375,   2962
   18HU97009_1,  AR27,    90,  1, 187662,   OC95,2,19970531,0406, 58.9478, -54.5047, 3395,   3100.9,   2.3835,  34.9060,2,  34.9061,2,    278.9,2,    282.4,2,    13.94,6,    15.78,6,     1.06,6,    1.946,2,    1.031,2,    0.068,3,    4.358,3,   2155.9,2,   2298.6,2,  23.845,2,  2.1360,   3101
   18HU97009_1,  AR27,    90,  1, 187661,   OC58,2,19970531,0406, 58.9478, -54.5047, 3395,   3239.8,   2.1042,  34.8935,2,  34.8937,2,    287.6,2,    289.4,2,    11.81,6,    15.30,6,     1.01,6,    2.734,2,    1.430,2,    0.126,2,    5.633,3,   2151.6,2,   2292.4,6,  33.029,2,  1.8489,   3240
   18HU97009_1,  AR27,    90,  1, 187660,   OC93,2,19970531,0406, 58.9478, -54.5047, 3395,   3341.1,   1.7897,  34.8869,2,  34.8872,2,    296.2,2,    296.2,2,    10.20,6,    14.42,6,     0.98,6,    3.366,2,    1.722,2,    0.000,2,    6.732,2,   2151.2,2,   2293.0,2,  40.898,4,  1.5315,   3341
   18HU97009_1,  AR27,    90,  1, 187659,   OC66,2,19970531,0406, 58.9478, -54.5047, 3395,   3420.4,   1.6375,  34.8837,2,  34.8837,2,    298.5,2,    297.6,2,    10.57,6,    14.63,6,     0.96,6,    3.531,2,    1.868,2,    0.000,2,    6.674,2,   2153.3,2,   2294.0,2,  44.595,4,  1.3749,   3420