BOTTLE,20020708WHPSIOKJU
EXPOCODE,SECT_ID,STNNBR,CASTNO,SAMPNO,BTLNBR,BTLNBR_FLAG_W,DATE,TIME,LATITUDE,LONGITUDE,DEPTH,CTDPRS,CTDTMP,CTDSAL,CTDSAL_FLAG_W,SALNTY,SALNTY_FLAG_W,CTDOXY,CTDOXY_FLAG_W,OXYGEN,OXYGEN_FLAG_W,SILCAT,SILCAT_FLAG_W,NO2+NO3,NO2+NO3_FLAG_W,PHSPHT,PHSPHT_FLAG_W,CFC-11,CFC-11_FLAG_W,CFC-12,CFC-12_FLAG_W,CFC113,CFC113_FLAG_W,CCL4,CCL4_FLAG_W,TCARBN,TCARBN_FLAG_W,ALKALI,ALKALI_FLAG_W,MCHFRM,MCHFRM_FLAG_W,THETA,CTDRAW
,,,,,,,,,,,,DBAR,ITS-90,PSS-78,,PSS-78,,UMOL/KG,,UMOL/KG,,UMOL/KG,,UMOL/KG,,UMOL/KG,,PMOL/KG,,PMOL/KG,,PMOL/KG,,PMOL/KG,,UMOL/KG,,UMOL/KG,,PMOL/KG,,DEG C,
   18HU97009_1,  AR27,    85,  3, 187595,   OC80,2,19970530,0606, 57.8572, -56.3855, 3031,     17.4,   4.2621,  34.7080,2,  34.7272,2,    324.8,2,    342.2,2,     6.71,6,     7.01,6,     0.63,6,    4.866,2,    2.618,2,    0.214,2,    7.552,2,   2095.1,3,   2327.3,3,  45.420,3,  4.2608,     17
   18HU97009_1,  AR27,    85,  3, 187594,   OC55,2,19970530,0606, 57.8572, -56.3855, 3031,     59.2,   3.7584,  34.8000,2,  34.8006,2,    291.9,2,    306.6,2,     8.00,6,    14.31,6,     0.95,6,    4.583,2,    2.481,2,    0.214,2,    7.493,2,   2141.0,2,   2292.5,2,  40.558,4,  3.7544,     59
   18HU97009_1,  AR27,    85,  3, 187593,   OC81,2,19970530,0606, 57.8572, -56.3855, 3031,     99.6,   3.7281,  34.8231,2,  34.8232,2,    284.0,2,    297.5,6,     8.21,6,    14.86,6,     0.98,6,    4.340,2,    2.501,2,    0.195,2,    7.201,2,   2143.0,2,   2301.6,2,  37.035,2,  3.7214,    100
   18HU97009_1,  AR27,    85,  3, 187592,   OC69,2,19970530,0606, 57.8572, -56.3855, 3031,    189.7,   3.3954,  34.8104,2,  34.8103,2,    286.0,2,    299.1,6,     8.47,6,    14.89,6,     0.98,6,    4.369,2,    2.326,2,    0.234,2,    7.239,2,   2149.3,2,   2287.3,2,  37.200,2,  3.3830,    190
   18HU97009_1,  AR27,    85,  3, 187591,   OC52,2,19970530,0606, 57.8572, -56.3855, 3031,    335.8,   3.3956,  34.8320,2,  34.8321,2,    285.4,2,    298.2,6,     8.44,6,    15.29,6,     0.99,6,    4.330,2,    2.364,2,    0.224,2,    7.220,2,   2148.6,2,   2289.2,2,  37.540,2,  3.3733,    336
   18HU97009_1,  AR27,    85,  3, 187590,   OC51,2,19970530,0606, 57.8572, -56.3855, 3031,    470.6,   3.3337,  34.8333,2,  34.8330,2,    285.5,2,    298.4,6,     8.42,6,    15.35,6,     1.00,6,    4.301,2,    2.277,2,    0.175,3,    7.444,2,   2145.8,2,   2285.1,2,  36.089,2,  3.3022,    471
   18HU97009_1,  AR27,    85,  3, 187589,   OC56,2,19970530,0606, 57.8572, -56.3855, 3031,    595.5,   3.3459,  34.8453,2,  34.8313,2,    282.2,2,    296.9,6,     8.48,6,    14.44,6,     0.95,6,    4.145,2,    2.267,2,    0.214,2,    6.899,3,   2142.4,2,   2288.1,2,  34.552,2,  3.3054,    596
   18HU97009_1,  AR27,    85,  3, 187588,   OC61,2,19970530,0606, 57.8572, -56.3855, 3031,    725.4,   3.2632,  34.8417,2,  34.8421,2,    284.8,2,    297.0,6,     8.77,6,    15.56,6,     1.00,6,    4.252,2,    2.248,2,    0.234,2,    7.687,3,   2148.9,2,   2287.7,2,  36.391,2,  3.2136,    725
   18HU97009_1,  AR27,    85,  3, 187587,   OC82,2,19970530,0606, 57.8572, -56.3855, 3031,    853.6,   3.2419,  34.8479,2,  34.8480,2,    283.7,2,    295.7,6,     8.79,6,    15.87,6,     1.02,6,    4.116,2,    2.180,2,    0.156,3,    7.054,2,   2150.6,2,   2288.6,2,  35.359,2,  3.1828,    854
   18HU97009_1,  AR27,    85,  3, 187586,   OC83,2,19970530,0606, 57.8572, -56.3855, 3031,   1009.6,   3.2988,  34.8660,2,  34.8668,2,    278.1,2,    289.5,6,     9.71,6,    16.26,6,     1.05,6,    3.746,2,    2.024,2,    0.146,2,    6.159,2,   2152.7,2,   2291.5,2,  31.107,2,  3.2272,   1010
   18HU97009_1,  AR27,    85,  3, 187585,   OC94,2,19970530,0606, 57.8572, -56.3855, 3031,   1140.0,   3.2852,  34.8748,2,  34.8749,2,    276.8,2,    287.6,6,     9.93,6,    16.13,6,     1.05,6,    3.581,2,    1.897,2,    0.156,2,    6.120,2,   2153.2,2,   2288.7,2,  30.172,2,  3.2033,   1140
   18HU97009_1,  AR27,    85,  3, 187584,   OC85,2,19970530,0606, 57.8572, -56.3855, 3031,   1299.4,   3.1708,  34.8704,2,  34.8707,2,    279.5,2,    290.1,6,     9.97,6,    16.49,6,     1.05,6,    3.581,2,    1.965,2,    0.000,2,    5.857,2,   2153.0,2,   2290.7,2,  30.970,2,  3.0771,   1299
   18HU97009_1,  AR27,    85,  3, 187583,   OC86,2,19970530,0606, 57.8572, -56.3855, 3031,   1420.9,   3.1099,  34.8665,2,  34.8672,2,    281.4,2,    292.1,6,    10.00,6,    16.11,6,     1.06,6,    3.610,2,    1.917,2,    0.156,2,    5.488,3,   2152.6,2,   2288.4,2,  31.194,2,  3.0067,   1421
   18HU97009_1,  AR27,    85,  3, 187582,   OC87,2,19970530,0606, 57.8572, -56.3855, 3031,   1581.0,   3.0146,  34.8604,2,  34.8611,2,    284.0,2,    294.0,6,     9.83,6,    16.15,6,     1.05,6,    3.619,2,    1.897,2,    0.156,2,    5.828,2,   -999.0,5,   2286.0,2,  31.067,2,  2.8990,   1581
   18HU97009_1,  AR27,    85,  3, 187581,   OC88,2,19970530,0606, 57.8572, -56.3855, 3031,   1740.1,   2.9627,  34.8572,2,  34.8576,2,    285.2,2,    294.4,6,     9.83,6,    16.25,6,     1.05,6,    3.619,6,    1.881,6,    0.143,6,    5.760,6,   2151.4,2,   2289.2,2,  30.775,6,  2.8341,   1740
   18HU97009_1,  AR27,    85,  3, 187580,   OC36,2,19970530,0606, 57.8572, -56.3855, 3031,   1920.8,   2.9800,  34.8673,2,  34.8674,2,    282.5,2,    291.8,6,    10.05,6,    16.11,6,     1.07,6,    3.328,2,    1.703,2,    0.136,2,    5.497,2,   2151.8,2,   2287.2,2,  30.230,2,  2.8351,   1921
   18HU97009_1,  AR27,    85,  3, 187579,   OC84,2,19970530,0606, 57.8572, -56.3855, 3031,   2078.9,   3.0044,  34.8855,2,  34.8853,2,    278.7,2,    287.5,6,    10.50,6,    15.71,6,     1.03,6,    2.929,2,    1.547,2,    0.000,2,    5.137,2,   2151.5,6,   2286.5,2,  26.017,2,  2.8447,   2079
   18HU97009_1,  AR27,    85,  3, 187578,   OC90,2,19970530,0606, 57.8572, -56.3855, 3031,   2251.0,   2.9486,  34.8990,2,  34.8990,2,    276.4,2,    284.0,6,    10.75,6,    15.54,6,     1.02,6,    2.617,2,    1.265,2,    0.000,2,    5.604,3,   2151.7,2,   2291.6,2,  22.922,2,  2.7737,   2251
   18HU97009_1,  AR27,    85,  3, 187577,   OC91,2,19970530,0606, 57.8572, -56.3855, 3031,   2416.6,   2.8509,  34.9043,2,  34.9043,2,    276.0,2,    282.7,6,    11.12,6,    15.51,6,     1.04,6,    2.442,2,    1.294,2,    0.000,2,    5.098,2,   2152.6,2,   2293.4,2,  23.029,2,  2.6619,   2417
   18HU97009_1,  AR27,    85,  3, 187576,   OC64,2,19970530,0606, 57.8572, -56.3855, 3031,   2586.9,   2.6810,  34.9069,2,  34.9071,2,    277.1,2,    282.6,6,    11.59,6,    15.18,6,     1.02,6,    2.374,2,    1.090,2,    0.000,2,    5.448,2,   2152.8,2,   2291.2,6,  20.976,2,  2.4786,   2587
   18HU97009_1,  AR27,    85,  3, 187575,   OC95,2,19970530,0606, 57.8572, -56.3855, 3031,   2750.1,   2.4393,  34.9039,2,  34.9033,6,    279.7,2,    284.8,6,    11.73,6,    15.00,6,     1.00,6,    2.422,2,    1.216,2,    0.000,2,    6.158,2,   2153.2,2,   2292.9,2,  22.240,2,  2.2258,   2750
   18HU97009_1,  AR27,    85,  3, 187574,   OC58,2,19970530,0606, 57.8572, -56.3855, 3031,   2873.4,   2.1498,  34.8979,2,  34.8976,2,    285.3,2,    288.5,6,    11.21,6,    14.35,6,     1.00,6,    2.734,2,    1.420,2,    0.000,2,    6.372,2,   2154.4,2,   2290.6,2,  25.061,2,  1.9301,   2873
   18HU97009_1,  AR27,    85,  3, 187573,   OC93,2,19970530,0606, 57.8572, -56.3855, 3031,   2980.9,   1.8187,  34.8926,2,  34.8921,2,    292.3,2,    293.6,6,    10.30,6,    13.66,6,     0.93,6,    3.210,2,    1.664,2,    0.126,3,    7.248,2,   2153.9,2,   2290.7,2,  27.648,2,  1.5957,   2981
   18HU97009_1,  AR27,    85,  3, 187572,   OC66,2,19970530,0606, 57.8572, -56.3855, 3031,   3045.8,   1.7794,  34.8921,2,  34.8921,2,    293.8,2,    293.9,6,    10.36,6,    13.20,6,     0.95,6,    3.269,2,    1.712,2,    0.136,2,    8.162,2,   2155.3,2,   2291.8,2,  27.463,2,  1.5509,   3046
   18HU97009_1,  AR27,    87,  3, 187619,   OC80,2,19970530,1508, 58.2240, -55.7752, 3209,      6.0,   4.5272,  34.7252,2,  34.7261,2,    328.8,2,    354.7,2,     4.13,6,     6.51,6,     0.42,6,    5.139,2,    3.017,2,    0.224,2,    7.591,2,   2084.3,3,   2290.5,2,  77.985,3,  4.5268,      6
   18HU97009_1,  AR27,    87,  3, 187618,   OC55,2,19970530,1508, 58.2240, -55.7752, 3209,     60.3,   3.8119,  34.7822,2,  34.7826,2,    302.4,2,    322.2,2,     8.09,6,    13.51,6,     0.90,6,    5.187,2,    2.812,2,    0.253,3,    7.853,2,   2139.5,2,   2289.5,2,  79.036,3,  3.8078,     60
   18HU97009_1,  AR27,    87,  3, 187617,   OC81,2,19970530,1508, 58.2240, -55.7752, 3209,    130.1,   3.2499,  34.8041,2,  34.8032,2,    290.6,2,    308.5,2,     8.36,6,    14.98,6,     0.99,6,    4.855,2,    2.793,2,    0.146,2,    7.570,2,   2147.3,2,   2285.7,2,  68.132,3,  3.2417,    130
   18HU97009_1,  AR27,    87,  3, 187616,   OC69,2,19970530,1508, 58.2240, -55.7752, 3209,    220.6,   3.0644,  34.8178,2,  34.8177,2,    286.1,2,    303.0,2,     8.64,6,    15.46,6,     1.07,6,    4.602,2,    2.715,2,    0.165,2,    7.628,2,   2148.1,2,   2285.7,2,  62.701,4,  3.0505,    221
   18HU97009_1,  AR27,    87,  3, 187615,   OC52,2,19970530,1508, 58.2240, -55.7752, 3209,    339.9,   3.1039,  34.8318,2,  34.8317,2,    284.0,2,    300.8,2,     8.63,6,    15.67,6,     1.05,6,    4.466,6,    2.442,6,    0.185,6,    7.693,6,   2150.5,2,   2286.0,2,  37.315,3,  3.0821,    340
   18HU97009_1,  AR27,    87,  3, 187614,   OC51,2,19970530,1508, 58.2240, -55.7752, 3209,    481.5,   2.9960,  34.8233,2,  34.8234,2,    287.4,2,    304.2,2,     8.62,6,    15.82,6,     1.04,6,    4.544,2,    2.627,2,    0.156,2,    8.095,2,   2150.8,2,   2295.7,2,  60.492,4,  2.9650,    482
   18HU97009_1,  AR27,    87,  3, 187613,   OC56,3,19970530,1508, 58.2240, -55.7752, 3209,    620.7,   2.9833,  34.8270,2,-999.0000,9,    285.0,2,   -999.0,9,  -999.00,9,  -999.00,9,  -999.00,9, -999.000,9, -999.000,9, -999.000,9, -999.000,9,   -999.0,9,   -999.0,9,-999.000,9,  2.9427,    621
   18HU97009_1,  AR27,    87,  3, 187612,   OC61,2,19970530,1508, 58.2240, -55.7752, 3209,    759.7,   2.9780,  34.8316,2,  34.8315,2,    283.8,2,    299.5,2,     9.04,6,    16.02,6,     1.07,6,    4.378,2,    2.442,2,    0.195,2,    7.794,2,   2151.0,2,   2287.1,2,  60.364,4,  2.9275,    760
   18HU97009_1,  AR27,    87,  3, 187611,   OC82,2,19970530,1508, 58.2240, -55.7752, 3209,    900.9,   2.9553,  34.8333,2,  34.8334,2,    283.3,2,    298.7,2,     9.18,6,    16.22,6,     1.09,6,    4.213,2,    2.306,2,    0.175,2,    7.745,2,   2150.1,2,   2286.5,2,  55.655,4,  2.8946,    901
   18HU97009_1,  AR27,    87,  3, 187610,   OC83,2,19970530,1508, 58.2240, -55.7752, 3209,   1037.8,   2.9183,  34.8313,2,  34.8311,2,    284.1,2,    298.2,2,     9.09,6,    16.31,6,     1.08,6,    4.281,2,    2.471,2,    0.000,2,    7.745,2,   2150.9,2,   2286.6,2,  58.223,4,  2.8476,   1038
   18HU97009_1,  AR27,    87,  3, 187609,   OC94,2,19970530,1508, 58.2240, -55.7752, 3209,   1180.1,   2.8971,  34.8297,2,  34.8303,2,    285.2,2,    300.6,2,     9.31,6,    16.21,6,     1.09,6,    4.301,2,    2.442,2,    0.175,3,    7.434,2,   2149.8,2,   2287.1,2,  60.617,4,  2.8156,   1180
   18HU97009_1,  AR27,    87,  3, 187608,   OC85,2,19970530,1508, 58.2240, -55.7752, 3209,   1320.4,   2.9288,  34.8369,2,  34.8360,2,    283.9,2,    298.1,2,     9.34,6,    16.20,6,     1.10,6,    4.125,2,    2.170,2,    0.000,2,    7.696,2,   2151.9,2,   2287.2,2,  54.059,4,  2.8358,   1320
   18HU97009_1,  AR27,    87,  3, 187607,   OC86,2,19970530,1508, 58.2240, -55.7752, 3209,   1479.6,   2.9885,  34.8499,2,  34.8495,2,    282.3,2,    295.2,2,     9.68,6,    16.32,6,     1.11,6,    3.863,2,    2.150,2,    0.000,2,    7.025,2,   2150.7,2,   2292.6,2,  49.807,3,  2.8818,   1480
   18HU97009_1,  AR27,    87,  3, 187606,   OC87,2,19970530,1508, 58.2240, -55.7752, 3209,   1659.6,   2.9547,  34.8484,2,  34.8487,2,    283.8,2,    295.6,2,     9.62,6,    16.43,6,     1.09,6,    3.882,2,    2.179,2,    0.000,2,    7.083,2,   2151.6,2,   2289.3,2,  51.567,4,  2.8332,   1660
   18HU97009_1,  AR27,    87,  3, 187605,   OC88,2,19970530,1508, 58.2240, -55.7752, 3209,   1859.7,   2.9201,  34.8467,2,  34.8474,2,    285.0,2,    297.7,2,     9.61,6,    16.53,6,     1.06,6,    3.804,2,    1.926,2,    0.146,2,    7.326,2,   2151.7,2,   2290.3,2,  48.940,4,  2.7816,   1860
   18HU97009_1,  AR27,    87,  3, 187604,   OC36,2,19970530,1508, 58.2240, -55.7752, 3209,   2059.8,   2.9424,  34.8550,2,  34.8546,2,    283.5,2,    294.9,2,     9.65,6,    16.29,6,     1.08,6,    3.649,2,    2.004,2,    0.000,2,    6.898,2,   2150.3,2,   2289.2,2,  46.615,4,  2.7855,   2060
   18HU97009_1,  AR27,    87,  3, 187603,   OC84,2,19970530,1508, 58.2240, -55.7752, 3209,   2238.9,   3.0300,  34.8817,2,  34.8815,2,    277.3,2,    288.3,2,    10.14,6,    16.50,6,     1.08,6,    3.016,2,    1.703,2,    0.126,2,    5.847,2,   2152.2,2,   2294.6,2,  39.395,2,  2.8549,   2239
   18HU97009_1,  AR27,    87,  3, 187602,   OC90,2,19970530,1508, 58.2240, -55.7752, 3209,   2418.7,   3.0206,  34.9019,2,  34.9018,2,    272.3,2,    282.5,2,    10.99,6,    16.33,6,     1.09,6,    2.306,2,    1.060,2,    0.019,3,    4.865,2,   2151.6,2,   2298.6,2,  32.087,3,  2.8284,   2419
   18HU97009_1,  AR27,    87,  3, 187601,   OC91,2,19970530,1508, 58.2240, -55.7752, 3209,   2598.3,   2.9182,  34.9062,2,  34.9057,2,    272.9,2,    281.8,2,    11.19,6,    15.92,6,     1.07,6,    2.370,2,    1.310,2,    0.000,2,    5.250,2,   2151.9,2,   2293.6,2,-999.000,5,  2.7102,   2598
   18HU97009_1,  AR27,    87,  3, 187600,   OC64,2,19970530,1508, 58.2240, -55.7752, 3209,   2779.7,   2.7429,  34.9089,2,  34.9085,2,    273.9,2,    282.1,2,    11.64,6,    15.90,6,     1.06,6,    2.199,2,    1.323,2,    0.000,2,    5.098,2,   2155.0,2,   2298.1,2,  35.180,3,  2.5203,   2780
   18HU97009_1,  AR27,    87,  3, 187599,   OC95,2,19970530,1508, 58.2240, -55.7752, 3209,   2939.8,   2.4716,  34.9024,2,  34.9020,2,    278.9,2,    286.1,2,    11.25,6,    15.62,6,     1.05,6,    2.559,2,    1.284,2,    0.019,3,    5.652,2,   2153.9,2,   2296.0,2,  31.862,3,  2.2385,   2940
   18HU97009_1,  AR27,    87,  3, 187598,   OC58,4,19970530,1508, 58.2240, -55.7752, 3209,   3070.8,   2.1030,  34.8958,2,-999.0000,9,    285.2,2,    285.7,2,  -999.00,9,  -999.00,9,  -999.00,9, -999.000,9, -999.000,9, -999.000,9, -999.000,9,   -999.0,9,   -999.0,9,-999.000,9,  1.8648,   3071
   18HU97009_1,  AR27,    87,  3, 187597,   OC93,2,19970530,1508, 58.2240, -55.7752, 3209,   3160.7,   1.8222,  34.8932,2,  34.8929,2,    290.5,2,    294.3,2,    10.19,6,    14.52,6,     0.99,6,    3.308,2,    1.868,2,    0.000,2,    7.228,3,   2153.4,2,   2293.7,6,  42.066,4,  1.5814,   3161
   18HU97009_1,  AR27,    87,  3, 187596,   OC66,2,19970530,1508, 58.2240, -55.7752, 3209,   3229.9,   1.7434,  34.8912,2,  34.8909,6,    292.7,2,    294.8,2,    10.24,6,    14.26,6,     1.00,6,    3.337,2,    1.644,2,    0.000,2,    7.296,3,   2161.6,2,   2290.0,2,  40.110,4,  1.4975,   3230
   18HU97009_1,  AR27,    88,  2, 187634,   OC83,2,19970530,1812, 58.0223, -55.8770, 3393,      2.8,   4.4508,  34.6715,2,-999.0000,9,    360.8,2,   -999.0,9,  -999.00,9,  -999.00,9,  -999.00,9, -999.000,9, -999.000,9, -999.000,9, -999.000,9,   -999.0,9,   -999.0,9,-999.000,9,  4.4506,      3
   18HU97009_1,  AR27,    88,  2, 187633,   OC94,2,19970530,1812, 58.0223, -55.8770, 3393,      9.9,   4.4560,  34.6709,2,-999.0000,9,    362.2,2,   -999.0,9,  -999.00,9,  -999.00,9,  -999.00,9, -999.000,9, -999.000,9, -999.000,9, -999.000,9,   -999.0,9,   -999.0,9,-999.000,9,  4.4553,     10
   18HU97009_1,  AR27,    88,  2, 187627,   OC84,2,19970530,1812, 58.0223, -55.8770, 3393,     19.5,   4.4154,  34.6834,2,-999.0000,9,    359.9,2,   -999.0,9,  -999.00,9,  -999.00,9,  -999.00,9, -999.000,9, -999.000,9, -999.000,9, -999.000,9,   -999.0,9,   -999.0,9,-999.000,9,  4.4140,     20
   18HU97009_1,  AR27,    88,  2, 187628,   OC36,2,19970530,1812, 58.0223, -55.8770, 3393,     19.5,   4.4151,  34.6836,2,-999.0000,9,    359.7,2,   -999.0,9,  -999.00,9,  -999.00,9,  -999.00,9, -999.000,9, -999.000,9, -999.000,9, -999.000,9,   -999.0,9,   -999.0,9,-999.000,9,  4.4137,     20
   18HU97009_1,  AR27,    88,  2, 187632,   OC85,2,19970530,1812, 58.0223, -55.8770, 3393,     19.6,   4.3986,  34.6886,2,-999.0000,9,    357.0,2,   -999.0,9,  -999.00,9,  -999.00,9,  -999.00,9, -999.000,9, -999.000,9, -999.000,9, -999.000,9,   -999.0,9,   -999.0,9,-999.000,9,  4.3972,     20
   18HU97009_1,  AR27,    88,  2, 187631,   OC86,2,19970530,1812, 58.0223, -55.8770, 3393,     19.8,   4.4040,  34.6872,2,-999.0000,9,    359.3,2,   -999.0,9,  -999.00,9,  -999.00,9,  -999.00,9, -999.000,9, -999.000,9, -999.000,9, -999.000,9,   -999.0,9,   -999.0,9,-999.000,9,  4.4026,     20
   18HU97009_1,  AR27,    88,  2, 187626,   OC90,2,19970530,1812, 58.0223, -55.8770, 3393,     19.9,   4.4155,  34.6834,2,-999.0000,9,    360.0,2,   -999.0,9,  -999.00,9,  -999.00,9,  -999.00,9, -999.000,9, -999.000,9, -999.000,9, -999.000,9,   -999.0,9,   -999.0,9,-999.000,9,  4.4141,     20
   18HU97009_1,  AR27,    88,  2, 187625,   OC91,2,19970530,1812, 58.0223, -55.8770, 3393,     20.0,   4.4106,  34.6852,2,-999.0000,9,    360.3,2,   -999.0,9,  -999.00,9,  -999.00,9,  -999.00,9, -999.000,9, -999.000,9, -999.000,9, -999.000,9,   -999.0,9,   -999.0,9,-999.000,9,  4.4092,     20
   18HU97009_1,  AR27,    88,  2, 187629,   OC88,2,19970530,1812, 58.0223, -55.8770, 3393,     20.0,   4.4122,  34.6845,2,-999.0000,9,    359.6,2,   -999.0,9,  -999.00,9,  -999.00,9,  -999.00,9, -999.000,9, -999.000,9, -999.000,9, -999.000,9,   -999.0,9,   -999.0,9,-999.000,9,  4.4108,     20
   18HU97009_1,  AR27,    88,  2, 187630,   OC87,2,19970530,1812, 58.0223, -55.8770, 3393,     20.0,   4.4074,  34.6862,2,-999.0000,9,    359.5,2,   -999.0,9,  -999.00,9,  -999.00,9,  -999.00,9, -999.000,9, -999.000,9, -999.000,9, -999.000,9,   -999.0,9,   -999.0,9,-999.000,9,  4.4060,     20
   18HU97009_1,  AR27,    88,  2, 187624,   OC64,2,19970530,1812, 58.0223, -55.8770, 3393,     30.4,   4.1488,  34.7049,2,-999.0000,9,    339.3,2,   -999.0,9,  -999.00,9,  -999.00,9,  -999.00,9, -999.000,9, -999.000,9, -999.000,9, -999.000,9,   -999.0,9,   -999.0,9,-999.000,9,  4.1467,     30
   18HU97009_1,  AR27,    88,  2, 187623,   OC95,2,19970530,1812, 58.0223, -55.8770, 3393,     50.3,   3.6170,  34.7747,2,-999.0000,9,    307.7,2,   -999.0,9,  -999.00,9,  -999.00,9,  -999.00,9, -999.000,9, -999.000,9, -999.000,9, -999.000,9,   -999.0,9,   -999.0,9,-999.000,9,  3.6137,     50
   18HU97009_1,  AR27,    88,  2, 187622,   OC58,2,19970530,1812, 58.0223, -55.8770, 3393,     74.9,   3.4664,  34.7879,2,-999.0000,9,    303.5,2,   -999.0,9,  -999.00,9,  -999.00,9,  -999.00,9, -999.000,9, -999.000,9, -999.000,9, -999.000,9,   -999.0,9,   -999.0,9,-999.000,9,  3.4615,     75
   18HU97009_1,  AR27,    88,  2, 187621,   OC93,2,19970530,1812, 58.0223, -55.8770, 3393,    150.9,   3.4007,  34.8113,2,-999.0000,9,    302.2,2,   -999.0,9,  -999.00,9,  -999.00,9,  -999.00,9, -999.000,9, -999.000,9, -999.000,9, -999.000,9,   -999.0,9,   -999.0,9,-999.000,9,  3.3909,    151
   18HU97009_1,  AR27,    88,  2, 187620,   OC66,2,19970530,1812, 58.0223, -55.8770, 3393,    200.6,   3.4904,  34.8361,2,-999.0000,9,    296.3,2,   -999.0,9,  -999.00,9,  -999.00,9,  -999.00,9, -999.000,9, -999.000,9, -999.000,9, -999.000,9,   -999.0,9,   -999.0,9,-999.000,9,  3.4771,    201