BOTTLE,20020708WHPSIOKJU
EXPOCODE,SECT_ID,STNNBR,CASTNO,SAMPNO,BTLNBR,BTLNBR_FLAG_W,DATE,TIME,LATITUDE,LONGITUDE,DEPTH,CTDPRS,CTDTMP,CTDSAL,CTDSAL_FLAG_W,SALNTY,SALNTY_FLAG_W,CTDOXY,CTDOXY_FLAG_W,OXYGEN,OXYGEN_FLAG_W,SILCAT,SILCAT_FLAG_W,NO2+NO3,NO2+NO3_FLAG_W,PHSPHT,PHSPHT_FLAG_W,CFC-11,CFC-11_FLAG_W,CFC-12,CFC-12_FLAG_W,CFC113,CFC113_FLAG_W,CCL4,CCL4_FLAG_W,TCARBN,TCARBN_FLAG_W,ALKALI,ALKALI_FLAG_W,MCHFRM,MCHFRM_FLAG_W,THETA,CTDRAW
,,,,,,,,,,,,DBAR,ITS-90,PSS-78,,PSS-78,,UMOL/KG,,UMOL/KG,,UMOL/KG,,UMOL/KG,,UMOL/KG,,PMOL/KG,,PMOL/KG,,PMOL/KG,,PMOL/KG,,UMOL/KG,,UMOL/KG,,PMOL/KG,,DEG C,
   18HU97009_1,  AR7W,    49,  3, 186990,   OC80,2,19970522,1131, 59.7538, -49.1548, 3269,     10.2,   3.9362,  34.4027,2,  34.4242,2,    376.0,2,    383.1,6,     0.96,6,     2.74,2,     0.24,6,    5.570,2,    3.030,2, -999.000,5,    8.540,3,   2051.5,3,   2276.1,2,   0.000,3,  3.9355,     10
   18HU97009_1,  AR7W,    49,  3, 186989,   OC55,2,19970522,1131, 59.7538, -49.1548, 3269,     40.1,   4.2304,  34.5937,2,  34.5975,2,    332.5,2,    343.8,6,     5.94,6,     9.87,6,     0.65,6,    5.450,2,    3.040,2, -999.000,5, -999.000,5,   2106.2,2,   2278.8,2,  -1.000,4,  4.2276,     40
   18HU97009_1,  AR7W,    49,  3, 186988,   OC81,2,19970522,1131, 59.7538, -49.1548, 3269,     72.9,   3.7984,  34.6587,2,  34.6597,2,    308.1,2,    318.4,6,     7.49,6,    13.50,6,     0.88,6,    5.100,2,    2.770,2, -999.000,5,    8.120,2,   2128.2,2,   2278.8,2,  -1.000,4,  3.7935,     73
   18HU97009_1,  AR7W,    49,  3, 186987,   OC69,2,19970522,1131, 59.7538, -49.1548, 3269,    119.7,   4.1944,  34.8096,2,  34.8095,2,    290.8,2,    301.3,6,     7.71,6,    14.84,6,     0.95,6,    4.810,2,    2.810,2, -999.000,5,    7.560,2,   2139.2,2,   2285.1,2,  -1.000,4,  4.1859,    120
   18HU97009_1,  AR7W,    49,  3, 186986,   OC52,2,19970522,1131, 59.7538, -49.1548, 3269,    199.0,   4.1525,  34.8564,2,  34.8558,2,    288.9,2,    300.0,6,     8.13,6,    15.72,6,     0.98,6,    4.710,2,    2.470,2, -999.000,5,    7.440,2,   2144.1,2,   2289.0,2,  -1.000,4,  4.1383,    199
   18HU97009_1,  AR7W,    49,  3, 186985,   OC51,2,19970522,1131, 59.7538, -49.1548, 3269,    299.6,   3.9679,  34.8655,2,  34.8692,2,    284.2,2,    294.9,6,     8.48,6,    16.09,6,     1.01,6,    4.280,2,    2.340,2, -999.000,5,    7.210,2,   2149.0,2,   2296.0,2,  -1.000,4,  3.9468,    300
   18HU97009_1,  AR7W,    49,  3, 186984,   OC56,4,19970522,1131, 59.7538, -49.1548, 3269,    420.5,   3.9282,  34.8887,2,-999.0000,9,    277.5,2,   -999.0,9,  -999.00,9,  -999.00,9,  -999.00,9, -999.000,9, -999.000,9, -999.000,9, -999.000,9,   -999.0,9,   -999.0,9,-999.000,9,  3.8982,    421
   18HU97009_1,  AR7W,    49,  3, 186983,   OC61,2,19970522,1131, 59.7538, -49.1548, 3269,    561.5,   3.5933,  34.8694,2,  34.8709,2,    280.3,2,    290.1,6,     9.00,6,    16.31,6,     1.04,6,    4.170,2,    2.320,2, -999.000,5,    6.920,3,   2152.4,2,   2297.1,2,  -1.000,4,  3.5542,    562
   18HU97009_1,  AR7W,    49,  3, 186982,   OC82,2,19970522,1131, 59.7538, -49.1548, 3269,    720.5,   3.4738,  34.8729,2,  34.8745,2,    278.5,2,    288.9,6,     9.18,6,    16.66,6,     1.05,6,    3.840,2,    2.030,2, -999.000,5,    6.600,2,   2154.1,2,   2299.7,2,  -1.000,4,  3.4233,    721
   18HU97009_1,  AR7W,    49,  3, 186981,   OC83,2,19970522,1131, 59.7538, -49.1548, 3269,    899.8,   3.3077,  34.8684,2,  34.8680,2,    278.7,2,    288.9,6,     9.26,6,    16.71,6,     1.05,6,    3.980,2,    2.070,2, -999.000,5,    6.920,3,   2157.4,2,   2292.2,2,  -1.000,4,  3.2446,    900
   18HU97009_1,  AR7W,    49,  3, 186980,   OC94,2,19970522,1131, 59.7538, -49.1548, 3269,   1119.9,   3.1783,  34.8634,2,  34.8637,2,    280.0,2,    289.9,6,     9.60,6,    16.81,6,     1.05,6,    3.920,2,    2.110,2, -999.000,5,    5.270,2,   2156.2,2,   2289.2,2,  -1.000,4,  3.0990,   1120
   18HU97009_1,  AR7W,    49,  3, 186979,   OC85,2,19970522,1131, 59.7538, -49.1548, 3269,   1338.3,   3.0693,  34.8596,2,  34.8584,2,    282.7,2,    292.8,6,     9.62,6,    16.90,6,     1.06,6,    3.810,2,    2.040,2, -999.000,5,    5.350,2,   2157.5,2,   2294.4,2,  -1.000,4,  2.9734,   1338
   18HU97009_1,  AR7W,    49,  3, 186978,   OC86,2,19970522,1131, 59.7538, -49.1548, 3269,   1559.5,   2.9727,  34.8527,2,  34.8527,2,    285.4,2,    295.1,6,     9.55,6,    16.78,6,     1.05,6,    3.990,2, -999.000,5, -999.000,5,    6.030,3,   2153.9,2,   2296.0,2,  -1.000,4,  2.8595,   1560
   18HU97009_1,  AR7W,    49,  3, 186977,   OC87,2,19970522,1131, 59.7538, -49.1548, 3269,   1781.5,   2.9077,  34.8465,2,  34.8715,2,    286.6,2,    296.1,6,     9.46,6,    17.01,6,     1.05,6,    3.960,2,    2.080,2, -999.000,5,    5.250,2,   2153.9,2,   2293.0,2,   0.000,3,  2.7763,   1782
   18HU97009_1,  AR7W,    49,  3, 186976,   OC88,2,19970522,1131, 59.7538, -49.1548, 3269,   2001.0,   3.0007,  34.8724,2,  34.8721,2,    280.4,2,    289.3,6,     9.95,6,    16.75,6,     1.04,6,    3.290,2,    1.690,2, -999.000,5,    4.300,2,   2153.0,2,   2294.8,2,  -1.000,4,  2.8482,   2001
   18HU97009_1,  AR7W,    49,  3, 186975,   OC36,2,19970522,1131, 59.7538, -49.1548, 3269,   2219.3,   2.9828,  34.8951,2,  34.8947,2,    275.7,2,    283.9,6,    10.38,6,    16.47,6,     1.02,6,    2.860,2,    1.550,2, -999.000,5,    4.330,2,   2153.4,2,   2295.4,2,   0.000,3,  2.8103,   2219
   18HU97009_1,  AR7W,    49,  3, 186974,   OC84,2,19970522,1131, 59.7538, -49.1548, 3269,   2419.3,   2.8576,  34.9049,2,  34.9063,6,    274.5,2,    281.4,6,    11.32,6,    16.32,6,     1.02,6,    2.500,2,    1.280,2, -999.000,5,    3.650,2,   2153.9,2,   2298.1,2,   0.000,3,  2.6682,   2419
   18HU97009_1,  AR7W,    49,  3, 186973,   OC90,2,19970522,1131, 59.7538, -49.1548, 3269,   2598.6,   2.6813,  34.9057,2,  34.9053,2,    276.5,2,    282.6,6,    11.12,6,    16.13,6,     1.00,6,    2.510,2,    1.370,2, -999.000,5,    3.970,3,   2155.4,2,   2297.6,2,  -1.000,4,  2.4778,   2599
   18HU97009_1,  AR7W,    49,  3, 186972,   OC91,2,19970522,1131, 59.7538, -49.1548, 3269,   2758.6,   2.5240,  34.9081,2,  34.9079,2,    275.9,2,    281.2,6,    12.28,6,    16.11,6,     1.02,6,    2.210,2,    1.090,2, -999.000,5,    3.710,2,   2155.9,2,   2298.1,2,   0.000,3,  2.3079,   2759
   18HU97009_1,  AR7W,    49,  3, 186971,   OC64,2,19970522,1131, 59.7538, -49.1548, 3269,   2900.3,   2.3088,  34.9013,2,  34.9016,2,    280.6,2,    284.9,6,    11.75,6,    15.76,6,     1.00,6,    2.650,6,    1.310,6, -999.000,5,    4.327,6,   2155.7,2,   2295.2,2,   0.000,3,  2.0832,   2900
   18HU97009_1,  AR7W,    49,  3, 186970,   OC92,2,19970522,1131, 59.7538, -49.1548, 3269,   3019.6,   2.1113,  34.8934,2,  34.8933,2,    284.6,2,    288.1,6,    11.55,6,    15.45,6,     0.99,6,    2.770,2,    1.370,2, -999.000,5,    4.270,2,   2156.3,2,   2291.6,2,   0.000,3,  1.8781,   3020
   18HU97009_1,  AR7W,    49,  3, 186969,   OC58,2,19970522,1131, 59.7538, -49.1548, 3269,   3121.1,   1.9205,  34.8943,2,  34.8943,2,    289.7,2,    292.4,6,    10.01,6,    15.05,6,     0.94,6,    3.250,2,    1.780,2, -999.000,5,    5.240,3,   2153.7,2,   2301.7,3,  -1.000,4,  1.6814,   3121
   18HU97009_1,  AR7W,    49,  3, 186968,   OC93,2,19970522,1131, 59.7538, -49.1548, 3269,   3199.8,   1.7131,  34.8874,2,  34.8880,2,    294.0,2,    296.3,6,     9.95,6,    14.74,6,     0.93,6,    3.510,2,    1.750,2, -999.000,5,    5.240,3,   2154.6,6,   2291.0,2,  -1.000,4,  1.4709,   3200
   18HU97009_1,  AR7W,    49,  3, 186967,   OC66,2,19970522,1131, 59.7538, -49.1548, 3269,   3260.1,   1.6475,  34.8884,2,  34.8886,2,    295.6,2,    296.4,6,    10.12,6,    14.70,6,     0.93,6,    3.570,2,    1.950,2, -999.000,5,    5.060,3,   2155.9,2,   2295.5,6,   0.000,3,  1.4009,   3260
   18HU97009_1,  AR7W,    50,  5, 187004,   OC94,2,19970522,1758, 59.4817, -49.4660, 3416,      2.8,   4.2689,  34.5640,2,-999.0000,9,    334.1,2,   -999.0,9,  -999.00,9,  -999.00,9,  -999.00,9, -999.000,9, -999.000,9, -999.000,9, -999.000,9,   -999.0,9,   -999.0,9,-999.000,9,  4.2687,      3
   18HU97009_1,  AR7W,    50,  5, 186999,   OC36,2,19970522,1758, 59.4817, -49.4660, 3416,      2.9,   4.2675,  34.5643,2,-999.0000,9,    334.4,2,   -999.0,9,  -999.00,9,  -999.00,9,  -999.00,9, -999.000,9, -999.000,9, -999.000,9, -999.000,9,   -999.0,9,   -999.0,9,-999.000,9,  4.2673,      3
   18HU97009_1,  AR7W,    50,  5, 186998,   OC84,2,19970522,1758, 59.4817, -49.4660, 3416,      3.0,   4.2662,  34.5639,2,-999.0000,9,    334.6,2,   -999.0,9,  -999.00,9,  -999.00,9,  -999.00,9, -999.000,9, -999.000,9, -999.000,9, -999.000,9,   -999.0,9,   -999.0,9,-999.000,9,  4.2660,      3
   18HU97009_1,  AR7W,    50,  5, 187000,   OC88,2,19970522,1758, 59.4817, -49.4660, 3416,      3.0,   4.2663,  34.5642,2,-999.0000,9,    334.3,2,   -999.0,9,  -999.00,9,  -999.00,9,  -999.00,9, -999.000,9, -999.000,9, -999.000,9, -999.000,9,   -999.0,9,   -999.0,9,-999.000,9,  4.2661,      3
   18HU97009_1,  AR7W,    50,  5, 187003,   OC85,2,19970522,1758, 59.4817, -49.4660, 3416,      3.0,   4.2671,  34.5645,2,-999.0000,9,    334.1,2,   -999.0,9,  -999.00,9,  -999.00,9,  -999.00,9, -999.000,9, -999.000,9, -999.000,9, -999.000,9,   -999.0,9,   -999.0,9,-999.000,9,  4.2669,      3
   18HU97009_1,  AR7W,    50,  5, 187001,   OC87,2,19970522,1758, 59.4817, -49.4660, 3416,      3.1,   4.2669,  34.5642,2,-999.0000,9,    334.3,2,   -999.0,9,  -999.00,9,  -999.00,9,  -999.00,9, -999.000,9, -999.000,9, -999.000,9, -999.000,9,   -999.0,9,   -999.0,9,-999.000,9,  4.2667,      3
   18HU97009_1,  AR7W,    50,  5, 187005,   OC83,2,19970522,1758, 59.4817, -49.4660, 3416,      3.1,   4.2791,  34.5632,2,-999.0000,9,    333.9,2,   -999.0,9,  -999.00,9,  -999.00,9,  -999.00,9, -999.000,9, -999.000,9, -999.000,9, -999.000,9,   -999.0,9,   -999.0,9,-999.000,9,  4.2789,      3
   18HU97009_1,  AR7W,    50,  5, 187002,   OC86,2,19970522,1758, 59.4817, -49.4660, 3416,      3.2,   4.2669,  34.5642,2,-999.0000,9,    334.2,2,   -999.0,9,  -999.00,9,  -999.00,9,  -999.00,9, -999.000,9, -999.000,9, -999.000,9, -999.000,9,   -999.0,9,   -999.0,9,-999.000,9,  4.2667,      3
   18HU97009_1,  AR7W,    50,  5, 187029,   OC80,2,19970522,1758, 59.4817, -49.4660, 3416,      9.3,   4.2406,  34.5997,2,  34.5963,2,    318.1,2,    336.4,2,     7.35,6,    11.54,6,     0.76,6,    5.022,2,    2.599,2,    0.214,3,    8.234,3,   2110.7,2,   2281.5,2, 180.623,4,  4.2399,      9
   18HU97009_1,  AR7W,    50,  5, 186997,   OC90,2,19970522,1758, 59.4817, -49.4660, 3416,     20.1,   4.2312,  34.6559,2,-999.0000,9,    332.3,2,   -999.0,9,  -999.00,9,  -999.00,9,  -999.00,9, -999.000,9, -999.000,9, -999.000,9, -999.000,9,   -999.0,9,   -999.0,9,-999.000,9,  4.2298,     20
   18HU97009_1,  AR7W,    50,  5, 186996,   OC91,2,19970522,1758, 59.4817, -49.4660, 3416,     29.8,   3.8833,  34.6891,2,-999.0000,9,    321.0,2,   -999.0,9,  -999.00,9,  -999.00,9,  -999.00,9, -999.000,9, -999.000,9, -999.000,9, -999.000,9,   -999.0,9,   -999.0,9,-999.000,9,  3.8813,     30
   18HU97009_1,  AR7W,    50,  5, 186995,   OC64,2,19970522,1758, 59.4817, -49.4660, 3416,     50.0,   3.9473,  34.7673,2,-999.0000,9,    309.9,2,   -999.0,9,  -999.00,9,  -999.00,9,  -999.00,9, -999.000,9, -999.000,9, -999.000,9, -999.000,9,   -999.0,9,   -999.0,9,-999.000,9,  3.9438,     50
   18HU97009_1,  AR7W,    50,  5, 187028,   OC55,3,19970522,1758, 59.4817, -49.4660, 3416,     74.1,   4.1671,  34.8196,2,-999.0000,9,    286.1,2,   -999.0,9,  -999.00,9,  -999.00,9,  -999.00,9, -999.000,9, -999.000,9, -999.000,9, -999.000,9,   -999.0,9,   -999.0,9,-999.000,9,  4.1619,     74
   18HU97009_1,  AR7W,    50,  5, 186994,   OC92,2,19970522,1758, 59.4817, -49.4660, 3416,     74.5,   4.1599,  34.8225,2,-999.0000,9,    304.6,2,   -999.0,9,  -999.00,9,  -999.00,9,  -999.00,9, -999.000,9, -999.000,9, -999.000,9, -999.000,9,   -999.0,9,   -999.0,9,-999.000,9,  4.1547,     75
   18HU97009_1,  AR7W,    50,  5, 186993,   OC58,2,19970522,1758, 59.4817, -49.4660, 3416,    100.2,   4.2510,  34.8472,2,-999.0000,9,    305.6,2,   -999.0,9,  -999.00,9,  -999.00,9,  -999.00,9, -999.000,9, -999.000,9, -999.000,9, -999.000,9,   -999.0,9,   -999.0,9,-999.000,9,  4.2438,    100
   18HU97009_1,  AR7W,    50,  5, 187027,   OC81,2,19970522,1758, 59.4817, -49.4660, 3416,    149.0,   4.2176,  34.8594,2,  34.8538,2,    283.8,2,    300.8,2,     8.10,6,    15.59,6,     0.98,6,    4.408,2,    2.277,2,    0.253,2,    7.804,3,   2141.7,2,   2293.9,2, 124.390,4,  4.2069,    149
   18HU97009_1,  AR7W,    50,  5, 186992,   OC93,2,19970522,1758, 59.4817, -49.4660, 3416,    150.1,   4.2333,  34.8633,2,-999.0000,9,    304.7,2,   -999.0,9,  -999.00,9,  -999.00,9,  -999.00,9, -999.000,9, -999.000,9, -999.000,9, -999.000,9,   -999.0,9,   -999.0,9,-999.000,9,  4.2225,    150
   18HU97009_1,  AR7W,    50,  5, 186991,   OC66,2,19970522,1758, 59.4817, -49.4660, 3416,    200.3,   3.9398,  34.8455,2,-999.0000,9,    309.4,2,   -999.0,9,  -999.00,9,  -999.00,9,  -999.00,9, -999.000,9, -999.000,9, -999.000,9, -999.000,9,   -999.0,9,   -999.0,9,-999.000,9,  3.9258,    200
   18HU97009_1,  AR7W,    50,  5, 187026,   OC69,2,19970522,1758, 59.4817, -49.4660, 3416,    250.2,   4.0759,  34.8812,2,  34.8815,2,    278.1,2,    294.5,2,     8.50,6,    16.04,6,     1.01,6,    4.077,2,    2.199,2,    0.243,2,    7.220,3,   2146.4,2,   2289.8,2,  48.692,3,  4.0581,    250
   18HU97009_1,  AR7W,    50,  5, 187025,   OC52,2,19970522,1758, 59.4817, -49.4660, 3416,    370.6,   3.7648,  34.8740,2,  34.8746,2,    276.6,2,    291.6,2,     8.80,6,    16.46,6,     1.02,6, -999.000,5,    1.800,2, -999.000,5,    5.840,3,   2149.1,2,   2291.8,2, 278.860,3,  3.7390,    371
   18HU97009_1,  AR7W,    50,  5, 187024,   OC51,2,19970522,1758, 59.4817, -49.4660, 3416,    509.9,   3.5121,  34.8645,2,  34.8642,2,    279.7,2,    294.2,2,     8.91,6,    16.34,6,     1.03,6,    4.028,2,    2.102,2,    0.224,2,    7.872,3,   2150.6,2,   2290.3,2,  98.314,4,  3.4770,    510
   18HU97009_1,  AR7W,    50,  5, 187023,   OC56,3,19970522,1758, 59.4817, -49.4660, 3416,    669.9,   3.3660,  34.8612,2,  34.8612,2,    279.6,2,    292.7,2,     9.19,6,    16.59,6,     1.03,6,    3.902,2,    2.024,2,    0.224,2,    6.840,3,   2150.3,2,   2286.7,2,  38.152,3,  3.3199,    670
   18HU97009_1,  AR7W,    50,  5, 187022,   OC61,2,19970522,1758, 59.4817, -49.4660, 3416,    849.3,   3.1670,  34.8489,2,  34.8500,2,    281.5,2,    292.9,2,     9.34,6,    16.79,6,     1.06,6, -999.000,5,    1.720,2, -999.000,5,    5.810,2,   2150.7,2,   2283.6,2, 257.300,3,  3.1088,    849
   18HU97009_1,  AR7W,    50,  5, 187021,   OC82,2,19970522,1758, 59.4817, -49.4660, 3416,   1000.4,   3.2143,  34.8676,2,  34.8645,2,    279.1,2,    290.0,2,     9.66,6,    17.24,6,     1.07,6,    3.688,2,    1.936,2,    0.195,2,    6.869,3,   2153.7,2,   2292.3,2,  84.912,4,  3.1441,   1000
   18HU97009_1,  AR7W,    50,  5, 187020,   OC83,2,19970522,1758, 59.4817, -49.4660, 3416,   1160.8,   3.0150,  34.8429,2,  34.8431,2,    286.6,2,    295.9,2,     9.53,6,    16.97,6,     1.06,6,    3.882,2,    2.053,2,    0.214,2,    6.655,2,   2150.2,2,   2285.9,2,  26.426,3,  2.9339,   1161
   18HU97009_1,  AR7W,    50,  5, 187019,   OC94,2,19970522,1758, 59.4817, -49.4660, 3416,   1318.6,   3.1142,  34.8650,2,  34.8649,2,    283.1,2,    291.5,2,     9.76,6,    17.06,6,     1.06,6, -999.000,5,    1.650,2, -999.000,5,    5.250,2,   2154.8,2,   2286.4,2, 235.020,4,  3.0194,   1319
   18HU97009_1,  AR7W,    50,  5, 187018,   OC85,2,19970522,1758, 59.4817, -49.4660, 3416,   1500.9,   3.0920,  34.8678,2,  34.8670,6,    283.1,2,    292.3,2,     9.78,6,    17.01,6,     1.06,6,    3.522,2,    1.839,2,    0.195,2,    6.169,3,   2153.0,2,   2288.0,2,  54.438,3,  2.9823,   1501
   18HU97009_1,  AR7W,    50,  5, 187017,   OC86,2,19970522,1758, 59.4817, -49.4660, 3416,   1648.6,   2.9792,  34.8534,2,  34.8529,2,    287.1,2,    296.2,6,     9.71,6,    16.90,6,     1.06,6,    3.610,2,    1.907,2,    0.204,2,    5.186,2,   2148.4,2,   2288.3,2,  12.230,3,  2.8583,   1649
   18HU97009_1,  AR7W,    50,  5, 187016,   OC87,2,19970522,1758, 59.4817, -49.4660, 3416,   1799.6,   2.9740,  34.8567,2,  34.8572,2,    286.2,2,    295.6,2,     9.75,6,    16.90,6,     1.04,6,    2.880,2,    1.537,2,    0.243,2,    4.826,2,   2151.4,2,   2289.3,2, 214.461,3,  2.8400,   1800
   18HU97009_1,  AR7W,    50,  5, 187015,   OC88,2,19970522,1758, 59.4817, -49.4660, 3416,   1997.5,   3.0170,  34.8745,2,  34.8757,2,    282.1,2,    290.8,2,     9.99,6,    16.52,6,     1.04,6,    2.890,2,    1.547,2,    0.165,2,    4.320,2,   2151.4,2,   2287.4,2, 164.215,4,  2.8646,   1998
   18HU97009_1,  AR7W,    50,  5, 187014,   OC36,2,19970522,1758, 59.4817, -49.4660, 3416,   2199.9,   3.0249,  34.8985,2,  34.8992,2,    274.4,2,    283.5,2,    11.10,6,    16.77,6,     1.05,6,    2.024,3,    1.031,3,    0.000,2,    2.938,3,   2151.6,2,   2294.9,2, 114.874,4,  2.8535,   2200
   18HU97009_1,  AR7W,    50,  5, 187013,   OC84,2,19970522,1758, 59.4817, -49.4660, 3416,   2399.2,   2.8290,  34.8946,2,  34.8947,2,    278.7,2,    287.0,2,    10.39,6,    16.07,6,     1.02,6,    2.763,2,    1.401,2,    0.000,2,    4.738,3,   2152.0,2,   2293.3,2, 107.089,4,  2.6421,   2399
   18HU97009_1,  AR7W,    50,  5, 187012,   OC90,2,19970522,1758, 59.4817, -49.4660, 3416,   2639.9,   2.7883,  34.8974,2,  34.8971,2,    279.7,2,    286.2,2,    10.45,6,    16.06,6,     1.01,6,    2.672,6,    1.356,6,    0.000,6,    3.814,6,   2154.2,2,   2294.9,2,  57.032,3,  2.5788,   2640
   18HU97009_1,  AR7W,    50,  5, 187011,   OC91,2,19970522,1758, 59.4817, -49.4660, 3416,   2799.7,   2.7519,  34.8995,2,  34.8992,2,    280.2,2,    285.9,2,    10.58,6,    15.95,6,     1.02,6,    2.490,2,    1.290,2,    0.140,3, -999.000,5,   2154.0,2,   2294.3,2, 150.710,4,  2.5272,   2800
   18HU97009_1,  AR7W,    50,  5, 187010,   OC64,2,19970522,1758, 59.4817, -49.4660, 3416,   2999.4,   2.6634,  34.9021,2,  34.9014,2,    280.8,2,   -999.0,9,    10.54,6,    15.91,6,     1.01,6,    2.539,2,    1.323,2,    0.088,3,    4.290,3,   2156.2,2,   2295.8,2, 117.351,4,  2.4201,   2999
   18HU97009_1,  AR7W,    50,  5, 187009,   OC92,2,19970522,1758, 59.4817, -49.4660, 3416,   3160.6,   2.4232,  34.9034,2,  34.9047,2,    281.1,2,    286.0,2,    12.25,6,    16.02,6,     1.02,6,    2.335,2,    1.109,2,    0.078,3,    4.855,2,   2157.0,2,   2294.0,2,  71.788,3,  2.1687,   3161
   18HU97009_1,  AR7W,    50,  5, 187008,   OC58,2,19970522,1758, 59.4817, -49.4660, 3416,   3300.0,   2.0255,  34.8954,2,  34.8961,2,    290.1,2,    293.5,2,    10.13,6,    15.05,6,     0.97,6,    2.452,2,    1.284,2,    0.146,2,    4.582,2,   2156.5,2,   2294.3,2, 162.155,4,  1.7658,   3300
   18HU97009_1,  AR7W,    50,  5, 187007,   OC93,2,19970522,1758, 59.4817, -49.4660, 3416,   3368.4,   1.8834,  34.8951,2,  34.8949,2,    293.4,2,    295.3,2,     9.74,6,    14.78,6,     0.95,6,    3.045,2,    1.595,2,    0.000,2,    5.409,3,   2155.3,6,   2294.2,2, 129.145,4,  1.6201,   3368
   18HU97009_1,  AR7W,    50,  5, 187006,   OC66,2,19970522,1758, 59.4817, -49.4660, 3416,   3443.5,   1.7280,  34.8901,2,  34.8912,2,    297.1,2,    296.7,2,    10.04,6,    15.03,6,     0.95,6,    3.347,2,    1.712,2,    0.000,2,    6.742,3,   2159.1,2,   2295.7,2,  79.597,3,  1.4608,   3444