BOTTLE,20020708WHPSIOKJU
EXPOCODE,SECT_ID,STNNBR,CASTNO,SAMPNO,BTLNBR,BTLNBR_FLAG_W,DATE,TIME,LATITUDE,LONGITUDE,DEPTH,CTDPRS,CTDTMP,CTDSAL,CTDSAL_FLAG_W,SALNTY,SALNTY_FLAG_W,CTDOXY,CTDOXY_FLAG_W,OXYGEN,OXYGEN_FLAG_W,SILCAT,SILCAT_FLAG_W,NO2+NO3,NO2+NO3_FLAG_W,PHSPHT,PHSPHT_FLAG_W,CFC-11,CFC-11_FLAG_W,CFC-12,CFC-12_FLAG_W,CFC113,CFC113_FLAG_W,CCL4,CCL4_FLAG_W,TCARBN,TCARBN_FLAG_W,ALKALI,ALKALI_FLAG_W,MCHFRM,MCHFRM_FLAG_W,THETA,CTDRAW
,,,,,,,,,,,,DBAR,ITS-90,PSS-78,,PSS-78,,UMOL/KG,,UMOL/KG,,UMOL/KG,,UMOL/KG,,UMOL/KG,,PMOL/KG,,PMOL/KG,,PMOL/KG,,PMOL/KG,,UMOL/KG,,UMOL/KG,,PMOL/KG,,DEG C,
   18HU97009_1,  AR13,    16,  4, 186199,   OC88,2,19970513,1432, 49.2767, -51.8375,  336,      3.1,  -0.1072,  32.7798,2,  32.7802,2,    387.2,2,    388.4,2,     2.52,6,     0.89,3,     0.54,6, -999.000,9, -999.000,9, -999.000,9, -999.000,9,   -999.0,9,   -999.0,9,-999.000,9, -0.1073,      3
   18HU97009_1,  AR13,    16,  4, 186198,   OC36,2,19970513,1432, 49.2767, -51.8375,  336,     10.3,  -0.1044,  32.7798,2,  32.7798,2,    387.5,2,    388.5,2,     2.44,6,     1.40,3,     0.52,6, -999.000,9, -999.000,9, -999.000,9, -999.000,9,   -999.0,9,   -999.0,9,-999.000,9, -0.1047,     10
   18HU97009_1,  AR13,    16,  4, 186197,   OC84,2,19970513,1432, 49.2767, -51.8375,  336,     25.3,   0.2563,  32.9034,2,  32.9225,2,    385.2,2,    384.4,2,     1.84,6,     1.29,3,     0.50,3, -999.000,9, -999.000,9, -999.000,9, -999.000,9,   -999.0,9,   -999.0,9,-999.000,9,  0.2555,     25
   18HU97009_1,  AR13,    16,  4, 186196,   OC90,2,19970513,1432, 49.2767, -51.8375,  336,     50.6,  -0.1533,  33.1390,2,  33.1339,2,    368.7,2,    367.4,2,     5.62,6,     6.42,6,     0.77,3, -999.000,9, -999.000,9, -999.000,9, -999.000,9,   -999.0,9,   -999.0,9,-999.000,9, -0.1549,     51
   18HU97009_1,  AR13,    16,  4, 186195,   OC91,2,19970513,1432, 49.2767, -51.8375,  336,    101.0,  -0.7723,  33.2395,2,  33.2331,2,    356.4,2,    351.5,2,     9.29,6,     9.21,6,     0.87,6, -999.000,9, -999.000,9, -999.000,9, -999.000,9,   -999.0,9,   -999.0,9,-999.000,9, -0.7750,    101
   18HU97009_1,  AR13,    16,  4, 186194,   OC64,2,19970513,1432, 49.2767, -51.8375,  336,    150.5,  -0.3108,  33.5377,2,  33.5312,2,    319.3,2,    314.7,2,    10.91,6,    11.40,6,     1.00,6, -999.000,9, -999.000,9, -999.000,9, -999.000,9,   -999.0,9,   -999.0,9,-999.000,9, -0.3156,    151
   18HU97009_1,  AR13,    16,  4, 186193,   OC92,2,19970513,1432, 49.2767, -51.8375,  336,    201.0,   1.8681,  34.0175,2,  34.0121,2,    294.9,2,    289.5,2,    11.38,6,    12.60,6,     0.94,6, -999.000,9, -999.000,9, -999.000,9, -999.000,9,   -999.0,9,   -999.0,9,-999.000,9,  1.8577,    201
   18HU97009_1,  AR13,    16,  4, 186192,   OC58,2,19970513,1432, 49.2767, -51.8375,  336,    250.9,   2.0624,  34.2455,2,  34.2393,2,    292.8,2,    283.4,2,    12.56,6,    14.30,6,     1.01,6, -999.000,9, -999.000,9, -999.000,9, -999.000,9,   -999.0,9,   -999.0,9,-999.000,9,  2.0489,    251
   18HU97009_1,  AR13,    16,  4, 186191,   OC93,2,19970513,1432, 49.2767, -51.8375,  336,    291.4,   2.7654,  34.5231,2,  34.5138,2,    288.9,2,    287.2,6,    11.17,6,    16.09,6,     1.01,6, -999.000,9, -999.000,9, -999.000,9, -999.000,9,   -999.0,9,   -999.0,9,-999.000,9,  2.7478,    291
   18HU97009_1,  AR13,    16,  4, 186190,   OC66,2,19970513,1432, 49.2767, -51.8375,  336,    324.4,   3.3545,  34.7533,2,  34.7486,2,    281.4,2,    281.9,2,    11.97,6,    16.63,6,     1.10,6, -999.000,9, -999.000,9, -999.000,9, -999.000,9,   -999.0,9,   -999.0,9,-999.000,9,  3.3331,    324
   18HU97009_1,  AR13,    17,  1, 186209,   OC88,2,19970513,1645, 49.4180, -51.5397,  312,      3.5,  -0.0281,  32.7516,2,  32.7507,2,    390.6,2,    410.2,2,     0.59,6,     0.00,6,     0.41,6, -999.000,9, -999.000,9, -999.000,9, -999.000,9,   -999.0,9,   -999.0,9,-999.000,9, -0.0282,      4
   18HU97009_1,  AR13,    17,  1, 186208,   OC36,2,19970513,1645, 49.4180, -51.5397,  312,     10.6,  -0.0320,  32.7516,2,  32.7516,2,    389.8,2,    409.4,2,     0.54,6,     0.00,6,     0.42,6, -999.000,9, -999.000,9, -999.000,9, -999.000,9,   -999.0,9,   -999.0,9,-999.000,9, -0.0323,     11
   18HU97009_1,  AR13,    17,  1, 186207,   OC84,2,19970513,1645, 49.4180, -51.5397,  312,     26.1,  -0.2452,  32.7691,2,  32.7701,2,    380.8,2,    398.4,2,     1.06,6,     0.00,6,     0.47,6, -999.000,9, -999.000,9, -999.000,9, -999.000,9,   -999.0,9,   -999.0,9,-999.000,9, -0.2460,     26
   18HU97009_1,  AR13,    17,  1, 186206,   OC90,2,19970513,1645, 49.4180, -51.5397,  312,     50.9,  -1.1391,  32.8792,2,  32.8802,2,    350.3,2,    359.3,2,     6.90,6,     6.30,6,     0.81,6, -999.000,9, -999.000,9, -999.000,9, -999.000,9,   -999.0,9,   -999.0,9,-999.000,9, -1.1403,     51
   18HU97009_1,  AR13,    17,  1, 186205,   OC91,2,19970513,1645, 49.4180, -51.5397,  312,     76.1,  -1.4180,  33.0080,2,  33.0110,2,    332.7,2,    337.0,2,    10.41,6,     8.93,6,     0.95,6, -999.000,9, -999.000,9, -999.000,9, -999.000,9,   -999.0,9,   -999.0,9,-999.000,9, -1.4195,     76
   18HU97009_1,  AR13,    17,  1, 186204,   OC64,2,19970513,1645, 49.4180, -51.5397,  312,    100.3,  -1.3862,  33.1168,2,  33.1162,2,    329.9,2,    334.1,2,    10.55,6,     9.53,6,     0.93,6, -999.000,9, -999.000,9, -999.000,9, -999.000,9,   -999.0,9,   -999.0,9,-999.000,9, -1.3883,    100
   18HU97009_1,  AR13,    17,  1, 186203,   OC92,2,19970513,1645, 49.4180, -51.5397,  312,    151.2,  -0.7993,  33.4081,2,  33.4018,2,    314.5,2,    318.6,2,    10.37,6,    11.12,6,     1.02,6, -999.000,9, -999.000,9, -999.000,9, -999.000,9,   -999.0,9,   -999.0,9,-999.000,9, -0.8034,    151
   18HU97009_1,  AR13,    17,  1, 186202,   OC58,2,19970513,1645, 49.4180, -51.5397,  312,    195.9,   1.2400,  33.8828,2,  33.8875,2,    294.2,2,    299.8,6,     9.74,6,    11.97,6,     0.98,6, -999.000,9, -999.000,9, -999.000,9, -999.000,9,   -999.0,9,   -999.0,9,-999.000,9,  1.2310,    196
   18HU97009_1,  AR13,    17,  1, 186201,   OC93,2,19970513,1645, 49.4180, -51.5397,  312,    251.5,   2.4656,  34.4292,2,  34.4329,2,    282.2,2,    288.0,2,    11.05,6,    15.18,6,     1.04,6, -999.000,9, -999.000,9, -999.000,9, -999.000,9,   -999.0,9,   -999.0,9,-999.000,9,  2.4512,    252
   18HU97009_1,  AR13,    17,  1, 186200,   OC66,2,19970513,1645, 49.4180, -51.5397,  312,    295.5,   3.2393,  34.7081,2,  34.7090,2,    276.5,2,    284.6,2,    12.02,6,    16.23,6,     1.12,6, -999.000,9, -999.000,9, -999.000,9, -999.000,9,   -999.0,9,   -999.0,9,-999.000,9,  3.2202,    296
   18HU97009_1,  AR13,    18,  1, 186218,   OC36,2,19970513,1911, 49.6585, -51.0178,  301,      3.6,   0.6633,  32.9763,2,  32.9781,2,    374.7,2,    387.5,2,     2.90,6,     1.75,6,     0.49,6, -999.000,9, -999.000,9, -999.000,9, -999.000,9,   -999.0,9,   -999.0,9,-999.000,9,  0.6632,      4
   18HU97009_1,  AR13,    18,  1, 186217,   OC84,2,19970513,1911, 49.6585, -51.0178,  301,     10.8,   0.6522,  32.9761,2,  32.9902,2,    373.5,2,    385.0,2,     3.11,6,     2.21,6,     0.50,6, -999.000,9, -999.000,9, -999.000,9, -999.000,9,   -999.0,9,   -999.0,9,-999.000,9,  0.6518,     11
   18HU97009_1,  AR13,    18,  1, 186216,   OC90,2,19970513,1911, 49.6585, -51.0178,  301,     25.6,   0.2850,  33.0199,2,  33.0216,2,    364.9,2,    375.1,2,     4.03,6,     3.83,6,     0.60,6, -999.000,9, -999.000,9, -999.000,9, -999.000,9,   -999.0,9,   -999.0,9,-999.000,9,  0.2841,     26
   18HU97009_1,  AR13,    18,  1, 186215,   OC91,2,19970513,1911, 49.6585, -51.0178,  301,     51.1,  -0.6065,  33.1654,2,  33.1569,2,    353.5,2,    360.4,2,     7.28,6,     7.19,6,     0.79,6, -999.000,9, -999.000,9, -999.000,9, -999.000,9,   -999.0,9,   -999.0,9,-999.000,9, -0.6079,     51
   18HU97009_1,  AR13,    18,  1, 186214,   OC64,2,19970513,1911, 49.6585, -51.0178,  301,    100.6,  -0.0048,  33.6722,2,  33.6555,2,    317.2,2,    315.6,2,    10.02,6,    11.47,6,     0.95,6, -999.000,9, -999.000,9, -999.000,9, -999.000,9,   -999.0,9,   -999.0,9,-999.000,9, -0.0082,    101
   18HU97009_1,  AR13,    18,  1, 186213,   OC92,2,19970513,1911, 49.6585, -51.0178,  301,    150.1,   1.8212,  34.1192,2,  34.1165,2,    292.4,2,    287.6,2,    11.80,6,    12.51,6,     1.02,6, -999.000,9, -999.000,9, -999.000,9, -999.000,9,   -999.0,9,   -999.0,9,-999.000,9,  1.8135,    150
   18HU97009_1,  AR13,    18,  1, 186212,   OC58,2,19970513,1911, 49.6585, -51.0178,  301,    201.7,   2.2650,  34.3696,2,  34.3611,2,    293.7,2,    293.1,2,    10.81,6,    13.87,6,     1.02,6, -999.000,9, -999.000,9, -999.000,9, -999.000,9,   -999.0,9,   -999.0,9,-999.000,9,  2.2538,    202
   18HU97009_1,  AR13,    18,  1, 186211,   OC93,2,19970513,1911, 49.6585, -51.0178,  301,    251.2,   3.2139,  34.6985,2,  34.7002,2,    284.1,2,    282.4,6,    12.12,6,    15.32,6,     1.14,6, -999.000,9, -999.000,9, -999.000,9, -999.000,9,   -999.0,9,   -999.0,9,-999.000,9,  3.1979,    251
   18HU97009_1,  AR13,    18,  1, 186210,   OC66,3,19970513,1911, 49.6585, -51.0178,  301,    290.4,   3.2596,  34.7259,2,-999.0000,9,    282.8,2,   -999.0,9,  -999.00,9,  -999.00,9,  -999.00,9, -999.000,9, -999.000,9, -999.000,9, -999.000,9,   -999.0,9,   -999.0,9,-999.000,9,  3.2408,    290
   18HU97009_1,  AR13,    19,  3, 186235,   OC49,2,19970513,2211, 49.8817, -50.5417,  338,      4.4,   0.4349,  33.0258,2,  33.0262,2,    368.7,2,    376.5,2,     4.55,6,     4.10,6,     0.60,6,    7.141,2,    3.507,2,    0.360,2,    8.816,2,   2073.4,2,   2207.6,2,-999.000,4,  0.4347,      4
   18HU97009_1,  AR13,    19,  3, 186234,   OC82,2,19970513,2211, 49.8817, -50.5417,  338,     10.1,   0.4279,  33.0251,2,  33.0262,2,    367.9,2,    377.2,2,     4.50,6,     4.11,6,     0.62,6,    7.141,2,    3.527,2,    0.390,3,    9.177,2,   2073.6,2,   2205.6,2,-999.000,4,  0.4275,     10
   18HU97009_1,  AR13,    19,  3, 186233,   OC83,2,19970513,2211, 49.8817, -50.5417,  338,     20.1,   0.2510,  33.0274,2,  33.0264,2,    368.3,2,    375.5,2,     4.53,6,     4.23,6,     0.63,6,    7.151,2,    3.575,2,    0.370,2,    9.323,2,   2075.0,2,   2199.2,2, 988.942,4,  0.2503,     20
   18HU97009_1,  AR13,    19,  3, 186232,   OC94,2,19970513,2211, 49.8817, -50.5417,  338,     30.2,   0.0824,  33.0286,2,  33.0301,2,    364.3,2,    371.1,2,     4.73,6,     4.85,6,     0.65,6,    7.189,2,    3.536,2,    0.360,2,    9.469,2,   2080.7,2,   2200.8,2,-999.000,4,  0.0814,     30
   18HU97009_1,  AR13,    19,  3, 186231,   OC85,2,19970513,2211, 49.8817, -50.5417,  338,     40.3,  -0.6495,  33.0763,2,  33.0911,2,    358.1,2,    361.3,2,     7.03,6,     7.01,6,     0.77,6,    7.033,2,    3.575,2,    0.370,2,    9.088,2,   2095.6,2,   2200.2,2, 851.700,4, -0.6506,     40
   18HU97009_1,  AR13,    19,  3, 186230,   OC86,2,19970513,2211, 49.8817, -50.5417,  338,     50.4,  -1.3990,  33.1425,2,  33.1528,2,    349.9,2,    346.8,2,     8.84,6,     8.97,6,     0.86,6,    7.060,2,    3.540,2,    0.430,3, -999.000,5,   2106.3,6,   2207.4,2,-999.000,4, -1.4000,     50
   18HU97009_1,  AR13,    19,  3, 186229,   OC87,2,19970513,2211, 49.8817, -50.5417,  338,     60.8,  -1.3513,  33.2075,2,  33.2158,2,    345.8,2,    343.8,2,     9.09,6,     9.56,6,     0.87,6,    6.740,2,    3.438,2,    0.351,2,    9.107,2,   2109.9,2,   2205.7,2, 919.693,4, -1.3526,     61
   18HU97009_1,  AR13,    19,  3, 186228,   OC88,2,19970513,2211, 49.8817, -50.5417,  338,     70.4,  -1.1727,  33.2633,2,  33.2748,2,    341.2,2,    338.1,2,     9.66,6,     9.91,6,     0.86,6,    6.486,2,    3.341,2,    0.321,2,    9.214,2,   2110.7,2,   2195.6,3, 898.961,4, -1.1743,     70
   18HU97009_1,  AR13,    19,  3, 186227,   OC36,2,19970513,2211, 49.8817, -50.5417,  338,     81.0,  -0.9545,  33.3441,2,  33.3601,2,    338.8,2,    334.0,2,     9.92,6,    10.16,6,     0.93,6,    6.520,2,    3.250,2, -999.000,5, -999.000,5,   2113.6,2,   2206.5,2,-999.000,4, -0.9565,     81
   18HU97009_1,  AR13,    19,  3, 186226,   OC84,2,19970513,2211, 49.8817, -50.5417,  338,     90.1,  -0.5486,  33.4137,2,  33.4182,2,    335.7,2,    332.1,2,    10.69,6,    10.57,6,     0.93,6,    6.272,2,    3.107,2,    0.399,3,    9.096,2,   2114.6,2,   2205.1,2, 944.061,4, -0.5512,     90
   18HU97009_1,  AR13,    19,  3, 186225,   OC90,2,19970513,2211, 49.8817, -50.5417,  338,     99.6,  -0.2825,  33.5441,2,  33.5405,2,    325.7,2,    323.8,2,     9.81,6,    11.22,6,     0.92,6,    5.901,6,    3.066,6,    0.302,6,    8.477,6,   2113.0,2,   2209.0,2, 824.986,4, -0.2857,    100
   18HU97009_1,  AR13,    19,  3, 186224,   OC91,2,19970513,2211, 49.8817, -50.5417,  338,    126.9,   0.8396,  33.8169,2,  33.8128,2,    312.6,2,    305.8,2,     9.82,6,    11.89,6,     0.90,6,    5.433,2,    2.823,2,    0.273,2,    8.519,3,   2118.3,2,   2213.9,6, 668.900,4,  0.8343,    127
   18HU97009_1,  AR13,    19,  3, 186223,   OC64,2,19970513,2211, 49.8817, -50.5417,  338,    151.0,   1.2472,  33.9674,2,  33.9647,2,    307.8,2,    301.2,2,     9.80,6,    12.58,6,     0.91,6,    5.461,2,    2.872,2,    0.312,2,    8.129,3,   2122.4,2,   2225.1,2, 739.496,4,  1.2403,    151
   18HU97009_1,  AR13,    19,  3, 186222,   OC92,2,19970513,2211, 49.8817, -50.5417,  338,    201.8,   2.6240,  34.3052,2,  34.3043,2,    284.9,2,    273.5,2,    12.65,6,    14.03,6,     1.00,6,    4.993,2,    2.667,2,    0.243,2,    7.738,3,   2143.1,2,   2235.0,2, 486.361,4,  2.6122,    202
   18HU97009_1,  AR13,    19,  3, 186221,   OC58,2,19970513,2211, 49.8817, -50.5417,  338,    240.9,   2.1871,  34.3631,2,  34.3564,2,    297.0,2,    294.2,2,    10.89,6,    14.67,6,     0.99,6,    5.071,2,    2.550,2,    0.311,2,    6.511,3,   2135.4,2,   2236.7,2, 800.002,4,  2.1738,    241
   18HU97009_1,  AR13,    19,  3, 186220,   OC93,2,19970513,2211, 49.8817, -50.5417,  338,    277.3,   2.8501,  34.5483,2,  34.5477,2,    294.3,2,    292.4,6,    10.44,6,    15.23,6,     0.97,6,    4.866,2,    2.501,2,    0.234,2,    6.384,3,   2139.9,6,   2261.1,2, 617.757,4,  2.8332,    277
   18HU97009_1,  AR13,    19,  3, 186219,   OC66,2,19970513,2211, 49.8817, -50.5417,  338,    323.9,   3.1384,  34.6519,2,  34.6527,2,    287.1,2,    286.3,2,    11.91,6,    15.48,6,     1.07,6,    4.613,2,    2.433,2,    0.214,2,    5.693,3,   2148.8,2,   2264.4,2, 502.172,4,  3.1178,    324
   18HU97009_1,  AR13,    20,  3, 186255,   OC51,2,19970514,0247, 50.1167, -50.0068,  976,      3.5,   2.3075,  33.5984,2,  33.5983,2,    360.7,2,    385.8,2,     1.89,6,     0.00,6,     0.35,3,    5.795,2,    3.009,2,    0.409,2,    7.421,2,   2051.2,2,   -999.0,9, 147.922,4,  2.3074,      4
   18HU97009_1,  AR13,    20,  3, 186254,   OC56,2,19970514,0247, 50.1167, -50.0068,  976,      7.3,   2.3130,  33.5991,2,  33.5985,2,    359.9,2,    386.2,2,     1.89,6,     0.00,6,     0.33,3, -999.000,5, -999.000,5, -999.000,5, -999.000,5,   2051.5,3,   2234.0,6,-999.000,5,  2.3127,      7
   18HU97009_1,  AR13,    20,  3, 186253,   OC49,2,19970514,0247, 50.1167, -50.0068,  976,     19.0,   2.1332,  33.6388,2,  33.6358,2,    346.7,2,    372.7,2,     3.02,6,     2.19,3,     0.47,3, -999.000,5, -999.000,5, -999.000,5, -999.000,5,   2064.8,2,   2234.1,2,-999.000,5,  2.1322,     19
   18HU97009_1,  AR13,    20,  3, 186252,   OC82,2,19970514,0247, 50.1167, -50.0068,  976,     28.9,   1.4119,  33.9793,2,  33.9720,2,    306.6,2,    318.1,2,     9.79,6,    11.94,3,     0.90,6,    5.680,2,    3.320,2, -999.000,5,    8.120,2,   2118.6,2,   2232.4,2, 490.760,4,  1.4105,     29
   18HU97009_1,  AR13,    20,  3, 186251,   OC83,2,19970514,0247, 50.1167, -50.0068,  976,     38.8,   1.4004,  34.0420,2,  34.0463,2,    297.5,2,    307.2,6,     9.82,6,    12.82,6,     0.92,6,    5.023,2,    2.716,2,    0.360,2,    7.223,2,   2122.8,2,   2241.1,2,   0.000,2,  1.3986,     39
   18HU97009_1,  AR13,    20,  3, 186250,   OC94,2,19970514,0247, 50.1167, -50.0068,  976,     49.8,   1.5414,  34.1097,2,  34.1077,2,    296.7,2,    306.2,2,     9.89,6,    12.96,6,     0.92,6,    5.480,2,    2.970,2, -999.000,5,    7.720,2,   2125.2,2,   2238.6,2, 336.450,4,  1.5391,     50
   18HU97009_1,  AR13,    20,  3, 186249,   OC85,2,19970514,0247, 50.1167, -50.0068,  976,     58.6,   1.6644,  34.1695,2,  34.1811,2,    294.3,2,    303.3,2,    10.07,6,    13.43,6,     0.95,6,    4.896,2,    2.764,2,    0.370,2,    6.707,2,   2130.0,2,   2243.5,2,  64.147,4,  1.6615,     59
   18HU97009_1,  AR13,    20,  3, 186248,   OC86,2,19970514,0247, 50.1167, -50.0068,  976,     69.7,   1.9337,  34.2373,2,  34.2328,2,    288.0,2,    296.6,2,    10.34,6,    13.80,6,     0.97,6,    5.330,2,    2.990,2, -999.000,5,    7.950,2,   2132.9,6,   2245.9,2,-999.000,5,  1.9302,     70
   18HU97009_1,  AR13,    20,  3, 186247,   OC87,2,19970514,0247, 50.1167, -50.0068,  976,     79.7,   2.0826,  34.3061,2,  34.3016,2,    287.8,2,    297.1,2,    10.36,6,    13.66,6,     0.96,6,    4.760,2,    2.793,2,    0.380,2,    7.446,2,   2134.6,2,   2245.1,2,   0.000,2,  2.0784,     80
   18HU97009_1,  AR13,    20,  3, 186246,   OC88,2,19970514,0247, 50.1167, -50.0068,  976,     89.7,   2.1494,  34.3336,2,  34.3380,2,    285.6,2,    294.7,2,    10.60,6,    14.01,6,     0.95,6,    5.080,2,    2.840,2, -999.000,5,    7.720,2,   2135.2,2,   2249.3,2, 345.560,4,  2.1446,     90
   18HU97009_1,  AR13,    20,  3, 186245,   OC36,2,19970514,0247, 50.1167, -50.0068,  976,    100.7,   2.1999,  34.3537,2,  34.3529,2,    285.4,2,    294.5,2,    10.64,6,    14.16,6,     0.94,6,    4.964,6,    2.689,6,    0.326,6,    7.563,6,   2134.2,2,   2249.1,2,  27.252,2,  2.1944,    101
   18HU97009_1,  AR13,    20,  3, 186244,   OC84,2,19970514,0247, 50.1167, -50.0068,  976,    124.1,   2.5282,  34.4513,2,  34.4474,2,    282.4,2,    292.4,2,    10.32,6,    14.63,6,     0.95,6,    5.030,2,    2.800,2, -999.000,5,    7.120,2,   2138.0,2,   2251.7,2, 269.450,4,  2.5211,    124
   18HU97009_1,  AR13,    20,  3, 186243,   OC90,2,19970514,0247, 50.1167, -50.0068,  976,    149.6,   2.7337,  34.5191,2,  34.5189,2,    282.5,2,    294.0,2,    10.20,6,    14.71,6,     0.98,6,    4.930,2,    2.800,2, -999.000,5,    7.270,2,   2139.4,2,   2253.2,2, 218.230,4,  2.7249,    150
   18HU97009_1,  AR13,    20,  3, 186242,   OC91,2,19970514,0247, 50.1167, -50.0068,  976,    199.7,   3.1296,  34.6491,2,  34.6493,2,    284.7,2,    297.1,2,     9.05,6,    15.15,6,     0.95,6,    4.810,2,    2.770,2, -999.000,5,    7.160,2,   2140.2,2,   2262.1,2, 276.170,4,  3.1171,    200
   18HU97009_1,  AR13,    20,  3, 186241,   OC64,2,19970514,0247, 50.1167, -50.0068,  976,    300.1,   3.4981,  34.7718,2,  34.7735,6,    279.4,2,    290.4,2,     9.01,6,    15.38,6,     0.98,6,    4.175,2,    2.442,2,    0.195,3,    6.909,2,   2145.1,2,   2268.5,2,   0.000,2,  3.4780,    300
   18HU97009_1,  AR13,    20,  3, 186240,   OC92,2,19970514,0247, 50.1167, -50.0068,  976,    402.1,   3.3779,  34.8050,2,  34.8052,2,    280.8,2,    291.2,2,     8.87,6,    15.55,6,     0.99,6,    4.330,2,    2.559,2,    0.379,2,    6.665,2,   2146.7,2,   2269.7,2, 234.515,4,  3.3511,    402
   18HU97009_1,  AR13,    20,  3, 186239,   OC58,2,19970514,0247, 50.1167, -50.0068,  976,    599.8,   3.2938,  34.8339,2,  34.8144,2,    282.5,2,    290.7,2,     9.00,6,    15.85,6,     0.99,6,    4.290,2,    2.580,2, -999.000,5,    6.680,2,   2151.6,2,   2277.4,6, 302.390,4,  3.2532,    600
   18HU97009_1,  AR13,    20,  3, 186238,   OC93,2,19970514,0247, 50.1167, -50.0068,  976,    882.3,   3.0200,  34.8617,2,  34.8623,2,    286.9,2,    288.8,2,    10.21,6,    16.39,2,     1.04,6,    3.668,3,    2.160,2,    0.341,2,    6.081,2,   2149.7,2,   2298.0,2, 241.278,4,  2.9602,    882
   18HU97009_1,  AR13,    20,  3, 186237,   OC66,3,19970514,0247, 50.1167, -50.0068,  976,    955.1,   2.9330,  34.8589,2,-999.0000,9,    291.5,2,   -999.0,9,  -999.00,9,  -999.00,9,  -999.00,9, -999.000,9, -999.000,9, -999.000,9, -999.000,9,   -999.0,9,   -999.0,9,-999.000,9,  2.8684,    955