BOTTLE,20020708WHPSIOKJU
EXPOCODE,SECT_ID,STNNBR,CASTNO,SAMPNO,BTLNBR,BTLNBR_FLAG_W,DATE,TIME,LATITUDE,LONGITUDE,DEPTH,CTDPRS,CTDTMP,CTDSAL,CTDSAL_FLAG_W,SALNTY,SALNTY_FLAG_W,CTDOXY,CTDOXY_FLAG_W,OXYGEN,OXYGEN_FLAG_W,SILCAT,SILCAT_FLAG_W,NO2+NO3,NO2+NO3_FLAG_W,PHSPHT,PHSPHT_FLAG_W,CFC-11,CFC-11_FLAG_W,CFC-12,CFC-12_FLAG_W,CFC113,CFC113_FLAG_W,CCL4,CCL4_FLAG_W,TCARBN,TCARBN_FLAG_W,ALKALI,ALKALI_FLAG_W,MCHFRM,MCHFRM_FLAG_W,THETA,CTDRAW
,,,,,,,,,,,,DBAR,ITS-90,PSS-78,,PSS-78,,UMOL/KG,,UMOL/KG,,UMOL/KG,,UMOL/KG,,UMOL/KG,,PMOL/KG,,PMOL/KG,,PMOL/KG,,PMOL/KG,,UMOL/KG,,UMOL/KG,,PMOL/KG,,DEG C,
   18HU97009_1,  AR27,   113,  4, 188159,   OC80,2,19970606,0344, 56.0515, -51.9225, 3504,      9.2,   5.1636,  34.6005,2,  34.6011,2,    308.7,2,    343.0,2,     1.61,6,     6.56,6,     0.45,6,    5.110,2,    2.860,2, -999.000,5,    8.750,2,   2094.8,3,   2319.9,2,  62.160,3,  5.1628,      9
   18HU97009_1,  AR27,   113,  4, 188158,   OC55,2,19970606,0344, 56.0515, -51.9225, 3504,     40.8,   4.7350,  34.6473,2,  34.6450,2,    300.1,2,    331.6,2,     2.24,6,     8.61,6,     0.59,6,    5.180,2,    2.870,2, -999.000,5,    9.570,2,   2110.2,3,   2292.4,6,  74.760,3,  4.7319,     41
   18HU97009_1,  AR27,   113,  4, 188157,   OC81,2,19970606,0344, 56.0515, -51.9225, 3504,    135.1,   2.9120,  34.7359,2,  34.7345,2,    287.7,2,    312.0,2,     8.30,6,    15.39,6,     1.01,6,    5.030,2,    2.920,2, -999.000,5,    9.360,2,   2146.2,2,   -999.0,5,  71.540,3,  2.9038,    135
   18HU97009_1,  AR27,   113,  4, 188156,   OC69,2,19970606,0344, 56.0515, -51.9225, 3504,    228.9,   2.9311,  34.7672,2,  34.7665,2,    281.6,2,    303.9,2,     8.46,6,    15.52,6,     1.03,6,    4.720,2,    2.670,2, -999.000,5,    8.930,2,   2148.9,2,   2290.2,2,  56.120,3,  2.9170,    229
   18HU97009_1,  AR27,   113,  4, 188155,   OC52,2,19970606,0344, 56.0515, -51.9225, 3504,    330.5,   3.0316,  34.8011,2,  34.8008,2,    279.3,2,    301.0,2,     8.61,6,    15.87,6,     1.03,6,    4.490,2,    2.410,2, -999.000,5,    8.690,2,   2148.8,2,   2292.6,2,  48.700,4,  3.0106,    331
   18HU97009_1,  AR27,   113,  4, 188154,   OC51,2,19970606,0344, 56.0515, -51.9225, 3504,    458.3,   3.0941,  34.8175,2,  34.8179,2,    277.6,2,    298.5,2,     8.73,6,    15.96,6,     1.04,6,    4.560,2,    2.600,2, -999.000,5,    8.680,2,   2149.9,6,   -999.0,5,  41.640,4,  3.0643,    458
   18HU97009_1,  AR27,   113,  4, 188153,   OC60,2,19970606,0344, 56.0515, -51.9225, 3504,    609.9,   3.1134,  34.8309,2,  34.8311,2,    279.4,2,    299.7,2,     8.73,6,    15.84,6,     1.04,6,    4.400,2,    2.440,2, -999.000,5,    8.420,2,   2149.6,2,   2294.9,2,  49.000,3,  3.0729,    610
   18HU97009_1,  AR27,   113,  4, 188152,   OC61,2,19970606,0344, 56.0515, -51.9225, 3504,    762.0,   3.1411,  34.8411,2,  34.8413,2,    274.3,2,    294.2,2,     9.16,6,    16.55,6,     1.03,6,    4.070,2,    2.260,2, -999.000,5,    8.520,2,   2151.6,2,   2296.1,2,  46.430,4,  3.0895,    762
   18HU97009_1,  AR27,   113,  4, 188151,   OC82,2,19970606,0344, 56.0515, -51.9225, 3504,    949.6,   3.1919,  34.8597,2,  34.8595,2,    269.1,2,    287.5,2,     9.87,6,    17.03,6,     1.08,6,    3.580,2,    1.910,2, -999.000,5,    7.580,2,   2153.3,2,   2293.8,2,  43.260,4,  3.1258,    950
   18HU97009_1,  AR27,   113,  4, 188150,   OC83,2,19970606,0344, 56.0515, -51.9225, 3504,   1160.3,   3.0536,  34.8496,2,  34.8495,2,    274.2,2,    292.0,2,     9.72,6,    16.99,6,     1.06,6,    3.680,2,    2.080,2, -999.000,5,    7.540,2,   2150.0,2,   2297.3,2,  46.620,4,  2.9722,   1160
   18HU97009_1,  AR27,   113,  4, 188149,   OC94,2,19970606,0344, 56.0515, -51.9225, 3504,   1337.3,   3.0309,  34.8534,2,  34.8529,2,    275.3,2,    292.8,2,     9.73,6,    16.56,6,     1.07,6,    3.620,2,    1.940,2, -999.000,5,    7.850,2,   2151.6,2,   2295.1,2,  46.060,4,  2.9355,   1337
   18HU97009_1,  AR27,   113,  4, 188148,   OC85,2,19970606,0344, 56.0515, -51.9225, 3504,   1511.7,   2.9768,  34.8498,2,  34.8497,2,    278.1,2,    294.5,2,     9.73,6,    16.82,6,     1.06,6,    3.730,2,    1.960,2, -999.000,5,    8.190,2,   2151.6,2,   2294.4,2,  45.860,4,  2.8675,   1512
   18HU97009_1,  AR27,   113,  4, 188147,   OC86,2,19970606,0344, 56.0515, -51.9225, 3504,   1699.3,   2.9591,  34.8519,2,  34.8521,2,    278.5,2,    294.3,2,     9.77,6,    16.74,6,     1.06,6,    3.550,2,    2.020,2, -999.000,5,    7.440,2,   2151.3,2,   2296.2,2,  46.970,4,  2.8341,   1699
   18HU97009_1,  AR27,   113,  4, 188146,   OC87,2,19970606,0344, 56.0515, -51.9225, 3504,   1900.1,   2.9312,  34.8503,2,  34.8494,6,    280.5,2,    295.2,2,     9.75,6,    16.64,6,     1.04,6,    3.570,2,    1.940,2, -999.000,5,    8.060,2,   2152.0,2,   2293.8,2,  37.300,2,  2.7889,   1900
   18HU97009_1,  AR27,   113,  4, 188145,   OC88,2,19970606,0344, 56.0515, -51.9225, 3504,   2145.5,   3.0491,  34.8793,2,  34.8788,6,    273.9,2,    287.4,2,    10.59,6,    16.48,6,     1.04,6,    2.750,2,    1.430,2, -999.000,5,    6.210,2,   2151.4,2,   2295.0,2,  33.940,2,  2.8825,   2146
   18HU97009_1,  AR27,   113,  4, 188144,   OC65,2,19970606,0344, 56.0515, -51.9225, 3504,   2376.0,   3.0885,  34.9053,2,  34.9045,2,    268.9,2,    280.4,2,    11.39,6,    16.35,6,     1.04,6,    2.080,2,    1.130,2, -999.000,5,    5.380,2,   2153.1,2,   2299.6,2,  23.180,2,  2.8992,   2376
   18HU97009_1,  AR27,   113,  4, 188143,   OC84,2,19970606,0344, 56.0515, -51.9225, 3504,   2599.9,   2.9557,  34.9097,2,  34.9148,6,    269.9,2,    280.6,2,    11.64,6,    16.45,6,     1.03,6,    2.123,6,    1.105,6, -999.000,5,    5.507,6,   2154.0,2,   2306.4,2,  21.885,6,  2.7468,   2600
   18HU97009_1,  AR27,   113,  4, 188142,   OC90,2,19970606,0344, 56.0515, -51.9225, 3504,   2796.4,   2.8465,  34.9191,2,  34.9193,6,    269.1,2,    277.8,2,    12.65,6,    16.10,6,     1.04,6,    1.750,2,    0.890,2, -999.000,5,    4.680,2,   2154.9,6,   2305.7,2,  21.000,2,  2.6201,   2796
   18HU97009_1,  AR27,   113,  4, 188141,   OC91,2,19970606,0344, 56.0515, -51.9225, 3504,   2928.0,   2.7373,  34.9212,2,  34.9206,6,    269.2,2,    277.2,2,    13.56,6,    16.48,6,     1.04,6,    1.600,2,    0.850,2, -999.000,5,    4.680,2,   2156.3,2,   2306.3,6,  19.030,2,  2.4997,   2928
   18HU97009_1,  AR27,   113,  4, 188140,   OC64,2,19970606,0344, 56.0515, -51.9225, 3504,   3053.0,   2.5751,  34.9108,2,  34.9101,6,    273.3,2,    281.7,2,    13.15,6,    15.93,6,     1.03,6,    1.870,2,    0.940,2, -999.000,5,    5.020,2,   2154.9,2,   2311.4,2,  19.440,2,  2.3282,   3053
   18HU97009_1,  AR27,   113,  4, 188139,   OC95,2,19970606,0344, 56.0515, -51.9225, 3504,   3193.3,   2.3545,  34.9001,2,  34.9000,2,    278.3,2,    284.6,6,    12.67,6,    15.82,6,     1.00,6,    2.220,2,    1.160,2, -999.000,5,    5.940,2,   2154.4,2,   2306.3,2,  26.040,2,  2.0982,   3193
   18HU97009_1,  AR27,   113,  4, 188138,   OC58,2,19970606,0344, 56.0515, -51.9225, 3504,   3315.8,   2.1613,  34.8935,2,  34.8926,6,    282.9,2,    288.6,2,    11.83,6,    15.17,6,     0.99,6,    2.590,2,    1.380,2, -999.000,5,    6.880,2,   2154.0,2,   2304.8,2,  34.950,3,  1.8968,   3316
   18HU97009_1,  AR27,   113,  4, 188137,   OC93,2,19970606,0344, 56.0515, -51.9225, 3504,   3417.6,   1.8711,  34.8897,2,  34.8896,6,    290.4,2,    294.4,2,    10.12,6,    14.88,6,     0.95,6,    3.180,2,    1.690,2, -999.000,5,    8.190,2,   2154.5,2,   2298.8,2,  25.990,3,  1.6030,   3418
   18HU97009_1,  AR27,   113,  4, 188136,   OC66,2,19970606,0344, 56.0515, -51.9225, 3504,   3539.8,   1.6669,  34.8897,2,  34.8890,6,    294.4,2,    296.6,2,     9.75,6,    14.24,6,     0.92,6,    3.430,2,    1.760,2, -999.000,5,    8.110,2,   2154.9,2,   2298.5,2,  36.370,3,  1.3913,   3540
   18HU97009_1,  AR27,   114,  3, 188193,   OC55,2,19970606,0941, 55.5507, -51.2558, 3485,      9.8,   4.5876,  33.5095,2,-999.0000,9,    347.5,2,   -999.0,9,  -999.00,9,  -999.00,9,  -999.00,9, -999.000,9, -999.000,9, -999.000,9, -999.000,9,   -999.0,9,   -999.0,9,-999.000,9,  4.5869,     10
   18HU97009_1,  AR27,   114,  3, 188194,   OC80,2,19970606,0941, 55.5507, -51.2558, 3485,     10.3,   4.6136,  33.5481,2,-999.0000,9,    349.0,2,   -999.0,9,  -999.00,9,  -999.00,9,  -999.00,9, -999.000,9, -999.000,9, -999.000,9, -999.000,9,   -999.0,9,   -999.0,9,-999.000,9,  4.6129,     10
   18HU97009_1,  AR27,   114,  3, 188192,   OC81,2,19970606,0941, 55.5507, -51.2558, 3485,     60.0,   3.1767,  34.7290,2,  34.7298,2,    284.7,2,    305.0,2,     8.43,6,    15.08,6,     1.02,6,    4.632,2,    2.501,2,    0.214,2,    8.018,2,   2144.0,2,   2288.0,2,  44.694,3,  3.1730,     60
   18HU97009_1,  AR27,   114,  3, 188191,   OC69,2,19970606,0941, 55.5507, -51.2558, 3485,    179.3,   3.2390,  34.8147,2,  34.8154,2,    276.9,2,    294.9,6,     8.60,6,    15.85,6,     1.03,6,    4.311,2,    2.335,2,    0.195,2,    7.424,2,   2148.5,2,   2301.1,2,  39.174,2,  3.2276,    179
   18HU97009_1,  AR27,   114,  3, 188190,   OC52,2,19970606,0941, 55.5507, -51.2558, 3485,    328.6,   3.1473,  34.8281,2,  34.8277,2,    279.8,2,    298.6,6,     8.48,6,    16.05,6,     1.04,6,    4.515,2,    2.355,2,    0.204,3,    8.115,2,   2149.9,2,   2291.8,2,  40.409,4,  3.1262,    329
   18HU97009_1,  AR27,   114,  3, 188189,   OC51,2,19970606,0941, 55.5507, -51.2558, 3485,    459.0,   3.0019,  34.8208,2,  34.8205,2,    284.9,2,    303.7,6,     8.48,6,    15.81,6,     1.04,6,    4.583,2,    2.413,2,    0.214,3,    7.560,2,   2149.4,2,   2306.6,2,  44.204,3,  2.9724,    459
   18HU97009_1,  AR27,   114,  3, 188188,   OC60,2,19970606,0941, 55.5507, -51.2558, 3485,    600.2,   3.0218,  34.8290,2,  34.8295,2,    281.8,2,    299.4,6,     8.86,6,    15.95,6,     1.05,6,    4.242,2,    2.287,2,    0.185,2,    7.200,2,   2151.3,2,   2295.9,2,  38.920,2,  2.9825,    600
   18HU97009_1,  AR27,   114,  3, 188187,   OC61,2,19970606,0941, 55.5507, -51.2558, 3485,    761.5,   2.9595,  34.8281,2,  34.8287,2,    283.1,2,    299.2,6,     8.77,6,    16.06,6,     1.05,6,    4.447,2,    2.403,2,    0.195,2,    7.706,2,   2151.1,2,   2294.0,2,  40.048,4,  2.9090,    762
   18HU97009_1,  AR27,   114,  3, 188186,   OC82,2,19970606,0941, 55.5507, -51.2558, 3485,    924.6,   2.9231,  34.8294,2,  34.8299,2,    283.5,2,    298.5,6,     9.05,6,    16.17,6,     1.06,6,    4.194,2,    2.111,2,    0.185,2,    6.723,3,   2150.3,2,   2294.0,2,  41.401,4,  2.8609,    925
   18HU97009_1,  AR27,   114,  3, 188185,   OC83,2,19970606,0941, 55.5507, -51.2558, 3485,   1100.4,   2.9179,  34.8323,2,  34.8319,2,    283.5,2,    297.8,6,     8.95,6,    16.43,6,     1.07,6,    4.310,2,    2.180,2, -999.000,5,    8.680,3,   2151.2,2,   2297.9,2,  41.060,4,  2.8424,   1100
   18HU97009_1,  AR27,   114,  3, 188184,   OC94,2,19970606,0941, 55.5507, -51.2558, 3485,   1290.6,   2.9229,  34.8361,2,  34.8356,2,    283.6,2,    298.2,6,     9.11,6,    16.50,6,     1.07,6,    4.135,2,    2.170,2,    0.175,2,    6.996,2,   2152.3,2,   -999.0,5,  39.250,2,  2.8324,   1291
   18HU97009_1,  AR27,   114,  3, 188183,   OC85,2,19970606,0941, 55.5507, -51.2558, 3485,   1519.7,   2.9847,  34.8516,2,  34.8515,2,    282.4,2,    295.4,6,     9.53,6,    16.46,6,     1.08,6,    3.688,2,    1.926,2,    0.165,2,    5.789,3,   2151.1,2,   2294.2,2,  35.465,2,  2.8747,   1520
   18HU97009_1,  AR27,   114,  3, 188182,   OC86,2,19970606,0941, 55.5507, -51.2558, 3485,   1689.9,   2.9171,  34.8453,2,  34.8448,2,    284.8,2,    297.2,6,     9.42,6,    16.27,6,     1.08,6,    4.020,2,    2.100,2, -999.000,5,    7.190,2,   2150.7,6,   2293.0,2,  40.350,3,  2.7935,   1690
   18HU97009_1,  AR27,   114,  3, 188181,   OC87,2,19970606,0941, 55.5507, -51.2558, 3485,   1889.5,   2.8906,  34.8431,2,  34.8431,6,    286.0,2,    298.9,2,     9.31,6,    16.40,6,     1.07,6,    3.863,2,    1.868,2,    0.165,2,    6.062,2,   2151.5,2,   2291.9,2,  35.776,2,  2.7499,   1890
   18HU97009_1,  AR27,   114,  3, 188180,   OC88,2,19970606,0941, 55.5507, -51.2558, 3485,   2090.5,   2.9552,  34.8583,2,  34.8575,6,    283.7,2,    293.6,6,     9.64,6,    16.30,6,     1.06,6,    3.503,2,    1.868,2,    0.156,2,    5.672,2,   2151.4,2,   2293.0,6,  34.083,2,  2.7953,   2091
   18HU97009_1,  AR27,   114,  3, 188179,   OC65,2,19970606,0941, 55.5507, -51.2558, 3485,   2280.7,   3.0405,  34.8892,2,  34.8898,2,    276.9,2,    285.3,6,    10.36,6,    16.11,6,     1.06,6,    2.773,2,    1.362,2,    0.126,2,    5.896,2,   2152.3,6,   2294.2,2,  28.215,2,  2.8613,   2281
   18HU97009_1,  AR27,   114,  3, 188178,   OC84,2,19970606,0941, 55.5507, -51.2558, 3485,   2379.3,   3.0117,  34.8969,2,  34.9048,6,    276.1,2,    283.9,6,    10.69,6,    16.29,6,     1.06,6,    2.666,2,    1.411,2,    0.000,2,    5.468,2,   2152.1,2,   2294.3,2,  26.211,2,  2.8235,   2379
   18HU97009_1,  AR27,   114,  3, 188177,   OC90,2,19970606,0941, 55.5507, -51.2558, 3485,   2519.5,   2.9739,  34.9043,2,  34.9040,6,    274.9,2,    281.6,6,    11.16,6,    16.05,6,     1.07,6,    2.325,2,    1.129,2,    0.000,2,    4.933,3,   2153.7,2,   2295.9,2,  24.946,2,  2.7727,   2520
   18HU97009_1,  AR27,   114,  3, 188176,   OC91,2,19970606,0941, 55.5507, -51.2558, 3485,   2709.7,   2.8390,  34.9129,2,  34.9130,6,    274.3,2,    279.6,6,    11.86,6,    15.91,6,     1.08,6,    2.063,2,    0.983,2,    0.000,2,    5.361,2,   2154.0,2,   2299.5,6,  21.939,2,  2.6215,   2710
   18HU97009_1,  AR27,   114,  3, 188175,   OC64,2,19970606,0941, 55.5507, -51.2558, 3485,   2898.8,   2.6566,  34.9102,2,  34.9100,6,    277.0,2,    281.3,6,    12.02,6,    15.70,6,     1.05,6,    2.140,6,    1.057,6,    0.000,2,    5.403,6,   2155.8,2,   2301.6,2,  22.853,6,  2.4237,   2899
   18HU97009_1,  AR27,   114,  3, 188174,   OC95,2,19970606,0941, 55.5507, -51.2558, 3485,   3079.4,   2.4493,  34.9057,2,  34.9063,2,    279.9,2,    283.1,6,    12.80,6,    15.85,6,     1.05,6,    2.189,2,    1.129,2,    0.000,2,    6.139,2,   2153.0,2,   2300.6,2,  21.861,2,  2.2025,   3079
   18HU97009_1,  AR27,   114,  3, 188173,   OC58,2,19970606,0941, 55.5507, -51.2558, 3485,   3248.1,   2.1652,  34.8942,2,  34.8945,6,    286.9,2,    287.8,6,    12.00,6,    15.14,6,     1.03,6,    2.568,2,    1.343,2,    0.117,3,    6.392,2,   2153.7,2,   2296.9,2,  26.501,2,  1.9076,   3248
   18HU97009_1,  AR27,   114,  3, 188172,   OC93,2,19970606,0941, 55.5507, -51.2558, 3485,   3400.5,   1.7888,  34.8906,2,  34.8906,6,    295.9,2,    295.8,6,     9.81,6,    14.28,6,     0.98,6,    3.454,2,    1.790,2,    0.136,3,    8.211,3,   2153.5,2,   2297.1,2,  33.660,3,  1.5245,   3401
   18HU97009_1,  AR27,   114,  3, 188171,   OC66,2,19970606,0941, 55.5507, -51.2558, 3485,   3515.9,   1.6377,  34.8883,2,  34.8919,6,    299.5,2,    297.2,6,    10.16,6,    14.32,6,     0.98,6,    3.512,2,    1.839,2,    0.146,3,    8.172,3,   2155.1,2,   2294.8,2,  30.372,3,  1.3653,   3516