BOTTLE,20020708WHPSIOKJU
EXPOCODE,SECT_ID,STNNBR,CASTNO,SAMPNO,BTLNBR,BTLNBR_FLAG_W,DATE,TIME,LATITUDE,LONGITUDE,DEPTH,CTDPRS,CTDTMP,CTDSAL,CTDSAL_FLAG_W,SALNTY,SALNTY_FLAG_W,CTDOXY,CTDOXY_FLAG_W,OXYGEN,OXYGEN_FLAG_W,SILCAT,SILCAT_FLAG_W,NO2+NO3,NO2+NO3_FLAG_W,PHSPHT,PHSPHT_FLAG_W,CFC-11,CFC-11_FLAG_W,CFC-12,CFC-12_FLAG_W,CFC113,CFC113_FLAG_W,CCL4,CCL4_FLAG_W,TCARBN,TCARBN_FLAG_W,ALKALI,ALKALI_FLAG_W,MCHFRM,MCHFRM_FLAG_W,THETA,CTDRAW
,,,,,,,,,,,,DBAR,ITS-90,PSS-78,,PSS-78,,UMOL/KG,,UMOL/KG,,UMOL/KG,,UMOL/KG,,UMOL/KG,,PMOL/KG,,PMOL/KG,,PMOL/KG,,PMOL/KG,,UMOL/KG,,UMOL/KG,,PMOL/KG,,DEG C,
   18HU97009_1,  AR13,     7,  4, 186088,   OC80,2,19970510,1758, 42.8527, -61.6900, 1070,      6.2,   4.9135,  32.1788,2,  32.1794,2,    337.4,2,    329.4,6,     0.76,3,    -0.11,3,     0.44,3, -999.000,9, -999.000,9, -999.000,9, -999.000,9,   -999.0,9,   -999.0,9,-999.000,9,  4.9131,      6
   18HU97009_1,  AR13,     7,  4, 186087,   OC55,3,19970510,1758, 42.8527, -61.6900, 1070,     11.4,   4.9136,  32.1797,2,-999.0000,5,    337.2,2,   -999.0,9,  -999.00,9,  -999.00,9,  -999.00,9, -999.000,9, -999.000,9, -999.000,9, -999.000,9,   -999.0,9,   -999.0,9,-999.000,9,  4.9128,     11
   18HU97009_1,  AR13,     7,  4, 186086,   OC81,2,19970510,1758, 42.8527, -61.6900, 1070,     22.3,   4.5232,  32.3243,2,  32.3321,2,    336.8,2,    330.6,6,     0.75,3,    -0.00,3,     0.52,3, -999.000,9, -999.000,9, -999.000,9, -999.000,9,   -999.0,9,   -999.0,9,-999.000,9,  4.5217,     22
   18HU97009_1,  AR13,     7,  4, 186085,   OC69,2,19970510,1758, 42.8527, -61.6900, 1070,     30.7,   3.9575,  32.4494,2,  32.4438,2,    329.5,2,    323.8,2,     0.94,3,     0.55,3,     0.53,3, -999.000,9, -999.000,9, -999.000,9, -999.000,9,   -999.0,9,   -999.0,9,-999.000,9,  3.9555,     31
   18HU97009_1,  AR13,     7,  4, 186084,   OC52,2,19970510,1758, 42.8527, -61.6900, 1070,     43.3,   5.9986,  33.2995,2,  33.1521,2,    282.7,2,    282.3,6,     2.79,3,     3.59,3,     0.64,3, -999.000,9, -999.000,9, -999.000,9, -999.000,9,   -999.0,9,   -999.0,9,-999.000,9,  5.9950,     43
   18HU97009_1,  AR13,     7,  4, 186083,   OC51,2,19970510,1758, 42.8527, -61.6900, 1070,     51.5,   8.2893,  34.0495,2,  34.0447,2,    259.1,2,    261.6,6,     3.01,3,     4.69,3,     0.67,3, -999.000,9, -999.000,9, -999.000,9, -999.000,9,   -999.0,9,   -999.0,9,-999.000,9,  8.2841,     52
   18HU97009_1,  AR13,     7,  4, 186082,   OC56,2,19970510,1758, 42.8527, -61.6900, 1070,     62.1,   9.3327,  34.4823,2,  34.5656,2,    231.1,2,    223.3,6,     6.04,3,     8.37,3,     0.81,3, -999.000,9, -999.000,9, -999.000,9, -999.000,9,   -999.0,9,   -999.0,9,-999.000,9,  9.3259,     62
   18HU97009_1,  AR13,     7,  4, 186081,   OC49,2,19970510,1758, 42.8527, -61.6900, 1070,     72.8,  10.0301,  34.7665,2,  34.7594,2,    213.8,2,    214.0,6,     6.24,3,     9.35,3,     0.83,3, -999.000,9, -999.000,9, -999.000,9, -999.000,9,   -999.0,9,   -999.0,9,-999.000,9, 10.0217,     73
   18HU97009_1,  AR13,     7,  4, 186080,   OC82,2,19970510,1758, 42.8527, -61.6900, 1070,     83.5,  10.4230,  34.9441,2,  34.9088,2,    197.9,2,    200.8,6,     6.80,3,    10.65,3,     0.91,3, -999.000,9, -999.000,9, -999.000,9, -999.000,9,   -999.0,9,   -999.0,9,-999.000,9, 10.4131,     84
   18HU97009_1,  AR13,     7,  4, 186079,   OC83,2,19970510,1758, 42.8527, -61.6900, 1070,     90.3,  11.1873,  35.1629,2,  35.1541,2,    198.8,2,    201.7,6,     5.97,3,    10.29,3,     0.86,3, -999.000,9, -999.000,9, -999.000,9, -999.000,9,   -999.0,9,   -999.0,9,-999.000,9, 11.1761,     90
   18HU97009_1,  AR13,     7,  4, 186078,   OC94,2,19970510,1758, 42.8527, -61.6900, 1070,    101.6,  10.6709,  35.1081,2,  35.1105,2,    182.6,2,    172.2,6,     7.47,3,    12.34,3,     1.05,3, -999.000,9, -999.000,9, -999.000,9, -999.000,9,   -999.0,9,   -999.0,9,-999.000,9, 10.6587,    102
   18HU97009_1,  AR13,     7,  4, 186077,   OC85,2,19970510,1758, 42.8527, -61.6900, 1070,    113.0,  10.4661,  35.1200,2,  35.1264,2,    176.6,2,    177.6,6,     8.13,3,    13.04,3,     1.06,3, -999.000,9, -999.000,9, -999.000,9, -999.000,9,   -999.0,9,   -999.0,9,-999.000,9, 10.4526,    113
   18HU97009_1,  AR13,     7,  4, 186076,   OC86,2,19970510,1758, 42.8527, -61.6900, 1070,    121.4,  10.3267,  35.1353,2,  35.1346,2,    171.3,2,    172.9,6,     8.86,3,    14.13,3,     1.18,3, -999.000,9, -999.000,9, -999.000,9, -999.000,9,   -999.0,9,   -999.0,9,-999.000,9, 10.3124,    121
   18HU97009_1,  AR13,     7,  4, 186075,   OC87,2,19970510,1758, 42.8527, -61.6900, 1070,    133.2,  10.1349,  35.1546,2,  35.1549,2,    167.1,2,    166.4,6,     9.61,3,    15.51,3,     1.19,3, -999.000,9, -999.000,9, -999.000,9, -999.000,9,   -999.0,9,   -999.0,9,-999.000,9, 10.1193,    133
   18HU97009_1,  AR13,     7,  4, 186074,   OC88,2,19970510,1758, 42.8527, -61.6900, 1070,    140.6,  10.0760,  35.1589,2,  35.1582,2,    165.3,2,    164.9,6,    10.12,3,    16.54,3,     1.19,3, -999.000,9, -999.000,9, -999.000,9, -999.000,9,   -999.0,9,   -999.0,9,-999.000,9, 10.0596,    141
   18HU97009_1,  AR13,     7,  4, 186073,   OC36,2,19970510,1758, 42.8527, -61.6900, 1070,    151.1,   9.8754,  35.1629,2,  35.1620,2,    162.6,2,    161.4,6,    10.51,3,    16.78,3,     1.26,3, -999.000,9, -999.000,9, -999.000,9, -999.000,9,   -999.0,9,   -999.0,9,-999.000,9,  9.8580,    151
   18HU97009_1,  AR13,     7,  4, 186072,   OC84,2,19970510,1758, 42.8527, -61.6900, 1070,    161.4,   9.8191,  35.1621,2,  35.1612,2,    161.7,2,    160.1,6,    10.54,3,    16.47,3,     1.33,3, -999.000,9, -999.000,9, -999.000,9, -999.000,9,   -999.0,9,   -999.0,9,-999.000,9,  9.8006,    161
   18HU97009_1,  AR13,     7,  4, 186071,   OC90,2,19970510,1758, 42.8527, -61.6900, 1070,    179.2,   9.5633,  35.1519,2,  35.1516,2,    159.9,2,    158.1,6,    11.00,3,    17.08,3,     1.31,3, -999.000,9, -999.000,9, -999.000,9, -999.000,9,   -999.0,9,   -999.0,9,-999.000,9,  9.5431,    179
   18HU97009_1,  AR13,     7,  4, 186070,   OC91,2,19970510,1758, 42.8527, -61.6900, 1070,    201.0,   9.4504,  35.1439,2,  35.1445,2,    159.9,2,    158.2,6,    11.08,3,    17.18,3,     1.30,3, -999.000,9, -999.000,9, -999.000,9, -999.000,9,   -999.0,9,   -999.0,9,-999.000,9,  9.4279,    201
   18HU97009_1,  AR13,     7,  4, 186069,   OC64,2,19970510,1758, 42.8527, -61.6900, 1070,    220.9,   9.1868,  35.1264,2,  35.1282,2,    159.8,2,    158.0,6,    11.75,3,    17.96,3,     1.34,3, -999.000,9, -999.000,9, -999.000,9, -999.000,9,   -999.0,9,   -999.0,9,-999.000,9,  9.1624,    221
   18HU97009_1,  AR13,     7,  4, 186068,   OC92,2,19970510,1758, 42.8527, -61.6900, 1070,    254.6,   8.3482,  35.0644,2,  35.0662,2,    161.8,2,    158.2,6,    12.86,3,    18.72,3,     1.40,3, -999.000,9, -999.000,9, -999.000,9, -999.000,9,   -999.0,9,   -999.0,9,-999.000,9,  8.3216,    255
   18HU97009_1,  AR13,     7,  4, 186067,   OC58,2,19970510,1758, 42.8527, -61.6900, 1070,    493.6,   5.2480,  34.9546,2,  34.9548,2,    227.8,2,    221.1,4,    12.35,3,    16.77,3,     1.26,3, -999.000,9, -999.000,9, -999.000,9, -999.000,9,   -999.0,9,   -999.0,9,-999.000,9,  5.2074,    494
   18HU97009_1,  AR13,     7,  4, 186066,   OC93,2,19970510,1758, 42.8527, -61.6900, 1070,    773.9,   4.4231,  34.9612,2,  34.9603,2,    260.1,2,    250.1,4,    11.17,3,    15.38,3,     1.13,3, -999.000,9, -999.000,9, -999.000,9, -999.000,9,   -999.0,9,   -999.0,9,-999.000,9,  4.3628,    774
   18HU97009_1,  AR13,     7,  4, 186065,   OC66,3,19970510,1758, 42.8527, -61.6900, 1070,   1066.1,   4.0530,  34.9458,2,-999.0000,9,    294.1,2,   -999.0,9,  -999.00,9,  -999.00,9,  -999.00,9, -999.000,9, -999.000,9, -999.000,9, -999.000,9,   -999.0,9,   -999.0,9,-999.000,9,  3.9706,   1066
   18HU97009_1,  AR13,     8,  2, 186112,   OC80,2,19970510,2303, 42.5292, -61.4085, 1336,      2.8,   5.4407,  32.5965,2,  32.5967,2,    312.7,2,    319.3,2,     1.26,3,     0.29,3,     0.46,3, -999.000,9, -999.000,9, -999.000,9, -999.000,9,   -999.0,9,   -999.0,9,-999.000,9,  5.4405,      3
   18HU97009_1,  AR13,     8,  2, 186111,   OC55,2,19970510,2303, 42.5292, -61.4085, 1336,      9.1,   5.4467,  32.5974,2,  34.1870,2,    312.2,2,    250.8,2,     9.49,3,    12.45,3,     1.09,3, -999.000,9, -999.000,9, -999.000,9, -999.000,9,   -999.0,9,   -999.0,9,-999.000,9,  5.4460,      9
   18HU97009_1,  AR13,     8,  2, 186110,   OC81,2,19970510,2303, 42.5292, -61.4085, 1336,     19.9,   5.4450,  32.6018,2,  32.6006,2,    312.4,2,    319.9,2,     1.21,3,     0.25,3,     0.46,3, -999.000,9, -999.000,9, -999.000,9, -999.000,9,   -999.0,9,   -999.0,9,-999.000,9,  5.4435,     20
   18HU97009_1,  AR13,     8,  2, 186109,   OC69,2,19970510,2303, 42.5292, -61.4085, 1336,     27.9,   5.4269,  32.6137,2,  32.6120,2,    310.7,2,    320.0,2,     1.14,3,     0.28,3,     0.45,3, -999.000,9, -999.000,9, -999.000,9, -999.000,9,   -999.0,9,   -999.0,9,-999.000,9,  5.4248,     28
   18HU97009_1,  AR13,     8,  2, 186108,   OC52,2,19970510,2303, 42.5292, -61.4085, 1336,     40.0,   5.3357,  32.6524,2,  32.6439,2,    308.8,2,    341.7,2,     1.17,3,     0.43,3,     0.47,3, -999.000,9, -999.000,9, -999.000,9, -999.000,9,   -999.0,9,   -999.0,9,-999.000,9,  5.3327,     40
   18HU97009_1,  AR13,     8,  2, 186107,   OC51,2,19970510,2303, 42.5292, -61.4085, 1336,     51.3,   4.8725,  32.7870,2,  32.8720,2,    301.1,2,    335.7,2,     1.63,3,     1.70,3,     0.57,3, -999.000,9, -999.000,9, -999.000,9, -999.000,9,   -999.0,9,   -999.0,9,-999.000,9,  4.8688,     51
   18HU97009_1,  AR13,     8,  2, 186106,   OC56,2,19970510,2303, 42.5292, -61.4085, 1336,     60.9,   5.9080,  33.3438,2,  33.5540,2,    266.5,2,    269.2,2,     3.45,3,     4.91,3,     0.68,3, -999.000,9, -999.000,9, -999.000,9, -999.000,9,   -999.0,9,   -999.0,9,-999.000,9,  5.9030,     61
   18HU97009_1,  AR13,     8,  2, 186105,   OC49,2,19970510,2303, 42.5292, -61.4085, 1336,     73.2,   8.4793,  34.2000,2,  34.1819,2,    230.4,2,    239.0,2,     4.94,3,     7.30,3,     0.76,3, -999.000,9, -999.000,9, -999.000,9, -999.000,9,   -999.0,9,   -999.0,9,-999.000,9,  8.4717,     73
   18HU97009_1,  AR13,     8,  2, 186104,   OC82,2,19970510,2303, 42.5292, -61.4085, 1336,     81.3,   9.7574,  34.6172,2,  34.5491,2,    214.2,2,    227.3,6,     5.12,3,     8.07,3,     0.77,3, -999.000,9, -999.000,9, -999.000,9, -999.000,9,   -999.0,9,   -999.0,9,-999.000,9,  9.7482,     81
   18HU97009_1,  AR13,     8,  2, 186103,   OC83,2,19970510,2303, 42.5292, -61.4085, 1336,     88.2,  10.5239,  34.8719,2,  34.8566,2,    206.4,2,    221.8,2,     5.19,3,     8.22,3,     0.76,3, -999.000,9, -999.000,9, -999.000,9, -999.000,9,   -999.0,9,   -999.0,9,-999.000,9, 10.5134,     88
   18HU97009_1,  AR13,     8,  2, 186102,   OC94,2,19970510,2303, 42.5292, -61.4085, 1336,     99.1,  10.9869,  35.0397,2,  35.0224,2,    199.0,2,    213.7,2,     5.56,3,     8.69,3,     0.78,3, -999.000,9, -999.000,9, -999.000,9, -999.000,9,   -999.0,9,   -999.0,9,-999.000,9, 10.9747,     99
   18HU97009_1,  AR13,     8,  2, 186101,   OC85,2,19970510,2303, 42.5292, -61.4085, 1336,    112.4,  11.2867,  35.1898,2,  35.1873,2,    190.6,2,    203.6,2,     5.66,3,     9.50,3,     0.83,3, -999.000,9, -999.000,9, -999.000,9, -999.000,9,   -999.0,9,   -999.0,9,-999.000,9, 11.2726,    112
   18HU97009_1,  AR13,     8,  2, 186100,   OC86,2,19970510,2303, 42.5292, -61.4085, 1336,    122.0,  11.2662,  35.2341,2,  35.2300,2,    175.1,2,    186.0,2,     6.65,3,    11.27,3,     0.96,3, -999.000,9, -999.000,9, -999.000,9, -999.000,9,   -999.0,9,   -999.0,9,-999.000,9, 11.2509,    122
   18HU97009_1,  AR13,     8,  2, 186099,   OC87,2,19970510,2303, 42.5292, -61.4085, 1336,    128.7,  11.1037,  35.2358,2,  35.2387,2,    167.4,2,    177.9,2,     7.27,3,    12.24,3,     1.00,3, -999.000,9, -999.000,9, -999.000,9, -999.000,9,   -999.0,9,   -999.0,9,-999.000,9, 11.0878,    129
   18HU97009_1,  AR13,     8,  2, 186098,   OC88,2,19970510,2303, 42.5292, -61.4085, 1336,    139.3,  11.0213,  35.2574,2,  35.2576,2,    159.4,2,    168.1,2,     7.65,3,    12.80,3,     1.17,3, -999.000,9, -999.000,9, -999.000,9, -999.000,9,   -999.0,9,   -999.0,9,-999.000,9, 11.0041,    139
   18HU97009_1,  AR13,     8,  2, 186097,   OC36,2,19970510,2303, 42.5292, -61.4085, 1336,    146.7,  10.8151,  35.2375,2,  35.2357,2,    157.9,2,    166.9,2,     7.82,3,    12.87,3,     1.13,3, -999.000,9, -999.000,9, -999.000,9, -999.000,9,   -999.0,9,   -999.0,9,-999.000,9, 10.7972,    147
   18HU97009_1,  AR13,     8,  2, 186096,   OC84,2,19970510,2303, 42.5292, -61.4085, 1336,    156.7,  10.7759,  35.2575,2,  35.2552,2,    153.7,2,    162.0,2,     8.38,3,    13.73,3,     1.16,3, -999.000,9, -999.000,9, -999.000,9, -999.000,9,   -999.0,9,   -999.0,9,-999.000,9, 10.7568,    157
   18HU97009_1,  AR13,     8,  2, 186095,   OC90,2,19970510,2303, 42.5292, -61.4085, 1336,    178.4,  10.3225,  35.1950,2,  35.1962,2,    155.3,2,    163.1,6,     8.73,3,    14.06,3,     1.20,3, -999.000,9, -999.000,9, -999.000,9, -999.000,9,   -999.0,9,   -999.0,9,-999.000,9, 10.3014,    178
   18HU97009_1,  AR13,     8,  2, 186094,   OC91,2,19970510,2303, 42.5292, -61.4085, 1336,    198.1,   9.8626,  35.1446,2,  35.1539,2,    155.3,2,    161.6,2,     9.26,3,    14.44,3,     1.24,3, -999.000,9, -999.000,9, -999.000,9, -999.000,9,   -999.0,9,   -999.0,9,-999.000,9,  9.8398,    198
   18HU97009_1,  AR13,     8,  2, 186093,   OC64,2,19970510,2303, 42.5292, -61.4085, 1336,    218.6,   8.9794,  35.0275,2,  35.0271,2,    160.9,2,    168.6,2,     9.44,3,    14.62,3,     1.27,3, -999.000,9, -999.000,9, -999.000,9, -999.000,9,   -999.0,9,   -999.0,9,-999.000,9,  8.9557,    219
   18HU97009_1,  AR13,     8,  2, 186092,   OC92,2,19970510,2303, 42.5292, -61.4085, 1336,    247.2,   8.5864,  35.0354,2,  35.0340,2,    158.0,2,    164.4,2,    10.30,3,    15.35,3,     1.34,3, -999.000,9, -999.000,9, -999.000,9, -999.000,9,   -999.0,9,   -999.0,9,-999.000,9,  8.5602,    247
   18HU97009_1,  AR13,     8,  2, 186091,   OC58,2,19970510,2303, 42.5292, -61.4085, 1336,    498.3,   5.4362,  34.9309,2,  34.9306,2,    207.5,2,    212.5,4,    11.17,3,    14.77,3,     1.32,3, -999.000,9, -999.000,9, -999.000,9, -999.000,9,   -999.0,9,   -999.0,9,-999.000,9,  5.3945,    498
   18HU97009_1,  AR13,     8,  2, 186090,   OC93,2,19970510,2303, 42.5292, -61.4085, 1336,    997.6,   4.1980,  34.9738,2,  34.9737,2,    251.1,2,    255.4,4,    10.03,3,    13.73,3,     1.14,3, -999.000,9, -999.000,9, -999.000,9, -999.000,9,   -999.0,9,   -999.0,9,-999.000,9,  4.1202,    998
   18HU97009_1,  AR13,     8,  2, 186089,   OC66,3,19970510,2303, 42.5292, -61.4085, 1336,   1322.3,   3.7563,  34.9383,2,  34.9389,2,    271.8,2,    266.3,4,    10.33,3,    13.55,3,     1.11,3, -999.000,9, -999.000,9, -999.000,9, -999.000,9,   -999.0,9,   -999.0,9,-999.000,9,  3.6546,   1322
   18HU97009_1,  AR13,     9,  4, 186129,   OC49,2,19970511,1503, 44.1410, -58.1922,  668,      3.3,   3.1847,  32.6442,2,  32.6457,2,    377.1,2,   -999.0,9,  -999.00,9,  -999.00,9,  -999.00,9, -999.000,9, -999.000,9, -999.000,9, -999.000,9,   -999.0,9,   -999.0,9,-999.000,9,  3.1845,      3
   18HU97009_1,  AR13,     9,  4, 186123,   OC87,2,19970511,1503, 44.1410, -58.1922,  668,     10.2,   3.1249,  32.6430,2,  32.6425,2,    382.6,2,   -999.0,9,  -999.00,9,  -999.00,9,  -999.00,9, -999.000,9, -999.000,9, -999.000,9, -999.000,9,   -999.0,9,   -999.0,9,-999.000,9,  3.1243,     10
   18HU97009_1,  AR13,     9,  4, 186122,   OC88,2,19970511,1503, 44.1410, -58.1922,  668,     10.4,   3.0866,  32.6435,2,  32.6425,2,    382.6,2,   -999.0,9,  -999.00,9,  -999.00,9,  -999.00,9, -999.000,9, -999.000,9, -999.000,9, -999.000,9,   -999.0,9,   -999.0,9,-999.000,9,  3.0860,     10
   18HU97009_1,  AR13,     9,  4, 186124,   OC86,2,19970511,1503, 44.1410, -58.1922,  668,     10.5,   3.1047,  32.6440,2,  32.6429,2,    382.8,2,   -999.0,9,  -999.00,9,  -999.00,9,  -999.00,9, -999.000,9, -999.000,9, -999.000,9, -999.000,9,   -999.0,9,   -999.0,9,-999.000,9,  3.1041,     11
   18HU97009_1,  AR13,     9,  4, 186125,   OC85,2,19970511,1503, 44.1410, -58.1922,  668,     10.5,   3.1226,  32.6438,2,  32.6433,2,    378.1,2,   -999.0,9,  -999.00,9,  -999.00,9,  -999.00,9, -999.000,9, -999.000,9, -999.000,9, -999.000,9,   -999.0,9,   -999.0,9,-999.000,9,  3.1219,     11
   18HU97009_1,  AR13,     9,  4, 186127,   OC83,2,19970511,1503, 44.1410, -58.1922,  668,     10.5,   3.1259,  32.6445,2,  32.6433,2,    378.6,2,   -999.0,9,  -999.00,9,  -999.00,9,  -999.00,9, -999.000,9, -999.000,9, -999.000,9, -999.000,9,   -999.0,9,   -999.0,9,-999.000,9,  3.1253,     11
   18HU97009_1,  AR13,     9,  4, 186128,   OC82,2,19970511,1503, 44.1410, -58.1922,  668,     10.9,   3.1144,  32.6444,2,  32.6457,2,    378.7,2,   -999.0,9,  -999.00,9,  -999.00,9,  -999.00,9, -999.000,9, -999.000,9, -999.000,9, -999.000,9,   -999.0,9,   -999.0,9,-999.000,9,  3.1137,     11
   18HU97009_1,  AR13,     9,  4, 186126,   OC94,2,19970511,1503, 44.1410, -58.1922,  668,     11.3,   3.1165,  32.6443,2,-999.0000,5,    378.5,2,   -999.0,9,  -999.00,9,  -999.00,9,  -999.00,9, -999.000,9, -999.000,9, -999.000,9, -999.000,9,   -999.0,9,   -999.0,9,-999.000,9,  3.1158,     11
   18HU97009_1,  AR13,     9,  4, 186121,   OC36,2,19970511,1503, 44.1410, -58.1922,  668,     19.8,   3.0256,  32.6436,2,  32.6429,2,    380.9,2,   -999.0,9,  -999.00,9,  -999.00,9,  -999.00,9, -999.000,9, -999.000,9, -999.000,9, -999.000,9,   -999.0,9,   -999.0,9,-999.000,9,  3.0244,     20
   18HU97009_1,  AR13,     9,  4, 186120,   OC84,2,19970511,1503, 44.1410, -58.1922,  668,     31.0,   3.0146,  32.6444,2,  32.6439,2,    380.5,2,   -999.0,9,  -999.00,9,  -999.00,9,  -999.00,9, -999.000,9, -999.000,9, -999.000,9, -999.000,9,   -999.0,9,   -999.0,9,-999.000,9,  3.0128,     31
   18HU97009_1,  AR13,     9,  4, 186119,   OC90,2,19970511,1503, 44.1410, -58.1922,  668,     41.2,   2.9790,  32.6475,2,  32.6484,2,    381.2,2,   -999.0,9,  -999.00,9,  -999.00,9,  -999.00,9, -999.000,9, -999.000,9, -999.000,9, -999.000,9,   -999.0,9,   -999.0,9,-999.000,9,  2.9766,     41
   18HU97009_1,  AR13,     9,  4, 186118,   OC91,2,19970511,1503, 44.1410, -58.1922,  668,     51.0,   2.2085,  32.7645,2,  32.7635,2,    379.2,2,   -999.0,9,  -999.00,9,  -999.00,9,  -999.00,9, -999.000,9, -999.000,9, -999.000,9, -999.000,9,   -999.0,9,   -999.0,9,-999.000,9,  2.2059,     51
   18HU97009_1,  AR13,     9,  4, 186117,   OC64,2,19970511,1503, 44.1410, -58.1922,  668,     60.3,   2.0933,  32.8633,2,  32.8664,2,    374.8,2,   -999.0,9,  -999.00,9,  -999.00,9,  -999.00,9, -999.000,9, -999.000,9, -999.000,9, -999.000,9,   -999.0,9,   -999.0,9,-999.000,9,  2.0903,     60
   18HU97009_1,  AR13,     9,  4, 186116,   OC92,2,19970511,1503, 44.1410, -58.1922,  668,     71.2,   1.4751,  33.0878,2,  33.0443,2,    371.6,2,   -999.0,9,  -999.00,9,  -999.00,9,  -999.00,9, -999.000,9, -999.000,9, -999.000,9, -999.000,9,   -999.0,9,   -999.0,9,-999.000,9,  1.4719,     71
   18HU97009_1,  AR13,     9,  4, 186115,   OC58,2,19970511,1503, 44.1410, -58.1922,  668,     80.7,   1.3752,  33.2077,2,  33.2006,2,    372.0,2,   -999.0,9,  -999.00,9,  -999.00,9,  -999.00,9, -999.000,9, -999.000,9, -999.000,9, -999.000,9,   -999.0,9,   -999.0,9,-999.000,9,  1.3716,     81
   18HU97009_1,  AR13,     9,  4, 186114,   OC93,2,19970511,1503, 44.1410, -58.1922,  668,     89.7,   1.2620,  33.3215,2,  33.3166,2,    368.1,2,   -999.0,9,  -999.00,9,  -999.00,9,  -999.00,9, -999.000,9, -999.000,9, -999.000,9, -999.000,9,   -999.0,9,   -999.0,9,-999.000,9,  1.2580,     90
   18HU97009_1,  AR13,     9,  4, 186113,   OC66,3,19970511,1503, 44.1410, -58.1922,  668,     99.6,   1.6177,  33.4730,2,  33.4531,2,    365.4,2,   -999.0,9,  -999.00,9,  -999.00,9,  -999.00,9, -999.000,9, -999.000,9, -999.000,9, -999.000,9,   -999.0,9,   -999.0,9,-999.000,9,  1.6130,    100