BOTTLE,20020708WHPSIOKJU
EXPOCODE,SECT_ID,STNNBR,CASTNO,SAMPNO,BTLNBR,BTLNBR_FLAG_W,DATE,TIME,LATITUDE,LONGITUDE,DEPTH,CTDPRS,CTDTMP,CTDSAL,CTDSAL_FLAG_W,SALNTY,SALNTY_FLAG_W,CTDOXY,CTDOXY_FLAG_W,OXYGEN,OXYGEN_FLAG_W,SILCAT,SILCAT_FLAG_W,NO2+NO3,NO2+NO3_FLAG_W,PHSPHT,PHSPHT_FLAG_W,CFC-11,CFC-11_FLAG_W,CFC-12,CFC-12_FLAG_W,CFC113,CFC113_FLAG_W,CCL4,CCL4_FLAG_W,TCARBN,TCARBN_FLAG_W,ALKALI,ALKALI_FLAG_W,MCHFRM,MCHFRM_FLAG_W,THETA,CTDRAW
,,,,,,,,,,,,DBAR,ITS-90,PSS-78,,PSS-78,,UMOL/KG,,UMOL/KG,,UMOL/KG,,UMOL/KG,,UMOL/KG,,PMOL/KG,,PMOL/KG,,PMOL/KG,,PMOL/KG,,UMOL/KG,,UMOL/KG,,PMOL/KG,,DEG C,
   18HU97009_1,  AR13,   118,  2, 188266,   OC80,2,19970607,0751, 54.1322, -49.3335, 3721,      9.7,   6.7198,  34.6853,2,  34.6870,2,    291.0,2,    321.5,2,     0.00,6,     6.84,6,     0.57,6,    4.468,2,    2.463,2,    0.331,2,    7.223,2,   2091.7,3,   2297.6,2,  30.724,3,  6.7189,     10
   18HU97009_1,  AR13,   118,  2, 188265,   OC55,2,19970607,0751, 54.1322, -49.3335, 3721,     70.3,   3.9042,  34.7059,2,  34.7053,2,    280.3,2,    302.4,2,     7.97,6,    14.53,6,     1.16,6,    4.700,2,    2.705,2,    0.331,2,    8.467,2,   2139.5,2,   2289.3,2,  66.682,3,  3.8994,     70
   18HU97009_1,  AR13,   118,  2, 188264,   OC81,2,19970607,0751, 54.1322, -49.3335, 3721,    160.0,   3.1872,  34.7049,2,  34.7045,2,    287.7,2,    309.2,6,     8.03,6,    15.08,6,     1.04,6,    4.875,2,    2.627,2,    0.389,2,    8.816,2,   2142.5,2,   2288.6,2,  71.816,3,  3.1771,    160
   18HU97009_1,  AR13,   118,  2, 188263,   OC69,2,19970607,0751, 54.1322, -49.3335, 3721,    245.9,   3.6376,  34.8027,2,  34.8014,2,    265.0,2,    282.8,6,     9.20,6,    16.32,6,     1.11,6,    3.980,2,    2.248,2,    0.263,2,    7.969,2,   2153.0,2,   2297.5,2,  51.690,4,  3.6210,    246
   18HU97009_1,  AR13,   118,  2, 188262,   OC52,2,19970607,0751, 54.1322, -49.3335, 3721,    357.5,   3.2439,  34.7856,2,  34.7842,2,    274.6,2,    293.0,6,     8.94,6,    16.19,6,     1.09,6,    4.223,2,    2.423,2,    0.204,2,    7.580,2,   2150.4,2,   2291.3,2,  25.591,3,  3.2206,    358
   18HU97009_1,  AR13,   118,  2, 188261,   OC51,2,19970607,0751, 54.1322, -49.3335, 3721,    500.0,   3.3013,  34.8212,2,  34.8217,2,    268.7,2,    285.5,6,     9.33,6,    16.91,6,     1.10,6,    3.931,2,    2.238,2,    0.214,2,    7.989,2,   2154.0,2,   2296.9,2,  50.461,4,  3.2679,    500
   18HU97009_1,  AR13,   118,  2, 188260,   OC60,2,19970607,0751, 54.1322, -49.3335, 3721,    648.5,   3.5364,  34.8767,2,  34.8764,2,    262.2,2,    277.2,6,    10.02,6,    17.30,6,     1.13,6,    3.328,2,    1.751,2,    0.204,2,    7.191,2,   2156.5,2,   2303.0,2,  41.664,4,  3.4910,    649
   18HU97009_1,  AR13,   118,  2, 188259,   OC61,2,19970607,0751, 54.1322, -49.3335, 3721,    823.8,   3.4051,  34.8765,2,  34.8764,2,    266.7,2,    281.3,6,    10.00,6,    17.01,6,     1.12,6,    3.230,2,    1.712,2,    0.078,3,    5.877,3,   2156.6,2,   2309.2,2,  19.314,3,  3.3471,    824
   18HU97009_1,  AR13,   118,  2, 188258,   OC82,2,19970607,0751, 54.1322, -49.3335, 3721,   1004.4,   3.2580,  34.8698,2,  34.8690,2,    271.1,2,    286.3,6,    10.10,6,    16.88,6,     1.10,6,    3.256,6,    1.742,6,    0.146,6,    6.613,6,   2156.3,2,   2301.8,2,  31.243,3,  3.1871,   1004
   18HU97009_1,  AR13,   118,  2, 188257,   OC83,2,19970607,0751, 54.1322, -49.3335, 3721,   1190.1,   3.1457,  34.8636,2,  34.8635,2,    274.9,2,    289.0,6,    10.13,6,    16.95,6,     1.11,6,    3.259,2,    1.790,2,    0.000,2,    6.354,2,   2154.5,2,   2296.8,2,  22.174,3,  3.0611,   1190
   18HU97009_1,  AR13,   118,  2, 188256,   OC94,2,19970607,0751, 54.1322, -49.3335, 3721,   1399.8,   3.0590,  34.8591,2,  34.8594,2,    278.4,2,    292.0,6,    10.11,6,    16.89,6,     1.09,6,    3.347,2,    1.819,2,    0.126,2,    6.801,2,   2152.3,2,   2300.5,2,  45.117,4,  2.9581,   1400
   18HU97009_1,  AR13,   118,  2, 188255,   OC85,2,19970607,0751, 54.1322, -49.3335, 3721,   1620.4,   2.9877,  34.8543,2,  34.8542,2,    281.1,2,    294.5,6,     9.83,6,    16.69,6,     1.08,6,    3.464,2,    1.897,2,    0.156,2,    6.889,2,   2151.8,2,   2296.8,2,  46.323,4,  2.8691,   1620
   18HU97009_1,  AR13,   118,  2, 188254,   OC86,2,19970607,0751, 54.1322, -49.3335, 3721,   1833.6,   2.9585,  34.8539,2,  34.8541,2,    282.5,2,    294.6,6,     9.89,6,    16.43,6,     1.08,6,    3.454,2,    1.849,2,    0.146,2,    7.073,2,   2151.3,2,   2295.6,2,  25.375,3,  2.8217,   1834
   18HU97009_1,  AR13,   118,  2, 188253,   OC87,2,19970607,0751, 54.1322, -49.3335, 3721,   2055.2,   3.0342,  34.8748,2,  34.8747,6,    277.8,2,    288.1,6,    10.56,6,    16.55,6,     1.08,6,    2.880,2,    1.635,2,    0.000,2,    6.276,2,   2152.1,2,   2300.8,2,  39.648,2,  2.8763,   2055
   18HU97009_1,  AR13,   118,  2, 188252,   OC88,2,19970607,0751, 54.1322, -49.3335, 3721,   2269.8,   3.0877,  34.9018,2,  34.9011,6,    272.5,2,    280.9,6,    11.40,6,    16.65,6,     1.07,6,    2.170,2,    1.148,2,    0.000,2,    4.943,2,   2154.1,2,   2305.6,2,  36.417,3,  2.9086,   2270
   18HU97009_1,  AR13,   118,  2, 188251,   OC65,2,19970607,0751, 54.1322, -49.3335, 3721,   2489.9,   3.0389,  34.9165,2,  34.9171,2,    270.3,2,    277.6,6,    12.12,6,    16.38,6,     1.07,6,    1.742,2,    0.846,2,    0.000,2,    4.193,2,   2154.9,2,   2298.0,2,  15.917,2,  2.8393,   2490
   18HU97009_1,  AR13,   118,  2, 188250,   OC84,2,19970607,0751, 54.1322, -49.3335, 3721,   2684.5,   2.9582,  34.9235,2,  34.9231,6,    270.2,2,    276.2,6,    12.83,6,    16.55,6,     1.07,6,    1.576,2,    0.769,2,    0.000,2,    4.145,2,   2154.9,6,   2299.8,2,  22.571,2,  2.7408,   2685
   18HU97009_1,  AR13,   118,  2, 188249,   OC90,2,19970607,0751, 54.1322, -49.3335, 3721,   2875.8,   2.8452,  34.9262,2,  34.9252,6,    270.7,2,    276.2,6,    13.52,6,    16.23,6,     1.06,6,    1.557,2,    0.769,2,    0.000,2,    4.417,3,   2156.0,2,   2304.4,2,  25.237,2,  2.6107,   2876
   18HU97009_1,  AR13,   118,  2, 188248,   OC91,2,19970607,0751, 54.1322, -49.3335, 3721,   3053.9,   2.6681,  34.9176,2,  34.9175,6,    273.3,2,    277.8,6,    14.13,6,    16.26,6,     1.07,6,    1.586,2,    0.924,2,    0.000,2,    4.057,2,   2155.3,2,   2300.9,2,  19.613,2,  2.4190,   3054
   18HU97009_1,  AR13,   118,  2, 188247,   OC64,2,19970607,0751, 54.1322, -49.3335, 3721,   3216.0,   2.5165,  34.9105,2,  34.9102,6,    275.7,2,    279.0,6,    14.46,6,    16.14,6,     1.05,6,    1.673,2,    0.963,2,    0.000,2,    4.757,2,   2158.0,2,   2305.1,2,  24.633,2,  2.2540,   3216
   18HU97009_1,  AR13,   118,  2, 188246,   OC95,2,19970607,0751, 54.1322, -49.3335, 3721,   3371.4,   2.3594,  34.9027,2,  34.9028,2,    279.1,2,    282.3,6,    14.16,6,    15.93,6,     1.04,6,    1.878,2,    0.963,2,    0.000,2,    5.273,2,   2155.7,2,   2301.0,2,  30.568,3,  2.0843,   3371
   18HU97009_1,  AR13,   118,  2, 188245,   OC58,2,19970607,0751, 54.1322, -49.3335, 3721,   3511.5,   2.1567,  34.8924,2,  34.8923,6,    285.4,2,    286.5,6,    13.27,6,    15.34,6,     1.01,6,    2.335,2,    1.323,2,    0.000,2,    6.859,2,   2156.6,2,   2302.2,2,  43.837,4,  1.8717,   3512
   18HU97009_1,  AR13,   118,  2, 188244,   OC93,2,19970607,0751, 54.1322, -49.3335, 3721,   3640.6,   1.8689,  34.8870,2,  34.8868,2,    294.7,2,    295.1,6,    10.71,6,    14.53,6,     0.96,6,    3.240,2,    1.761,2,    0.136,2,    7.822,2,   2153.3,2,   2296.6,2,  42.649,4,  1.5774,   3641
   18HU97009_1,  AR13,   118,  2, 188243,   OC66,2,19970607,0751, 54.1322, -49.3335, 3721,   3755.7,   1.6021,  34.8765,2,  34.8762,6,    300.0,2,    298.0,6,    11.21,6,    14.35,6,     0.93,6,    3.522,2,    1.887,2,    0.156,2,    8.697,2,   2157.7,2,   2298.0,6,  45.490,4,  1.3055,   3756
   18HU97009_1,  AR13,   119,  3, 188290,   OC80,2,19970607,1349, 53.6708, -48.7002, 3821,      9.7,   6.9200,  34.7059,2,-999.0000,9,    289.7,2,   -999.0,9,  -999.00,9,  -999.00,9,  -999.00,9, -999.000,9, -999.000,9, -999.000,9, -999.000,9,   -999.0,9,   -999.0,9,-999.000,9,  6.9192,     10
   18HU97009_1,  AR13,   119,  3, 188289,   OC55,2,19970607,1349, 53.6708, -48.7002, 3821,      9.9,   6.9199,  34.7056,2,-999.0000,9,    289.3,2,   -999.0,9,  -999.00,9,  -999.00,9,  -999.00,9, -999.000,9, -999.000,9, -999.000,9, -999.000,9,   -999.0,9,   -999.0,9,-999.000,9,  6.9190,     10
   18HU97009_1,  AR13,   119,  3, 188288,   OC81,2,19970607,1349, 53.6708, -48.7002, 3821,     68.7,   4.9054,  34.7391,2,  34.7394,2,    273.3,2,    295.8,2,     7.50,6,    13.71,6,     0.96,6,    4.535,2,    2.355,2,    0.224,2,    8.905,2,   2135.2,2,   2296.4,2,  34.619,3,  4.9002,     69
   18HU97009_1,  AR13,   119,  3, 188287,   OC69,2,19970607,1349, 53.6708, -48.7002, 3821,    149.8,   4.1294,  34.7342,2,  34.7347,2,    273.4,2,    293.2,2,     8.00,6,    14.86,6,     1.01,6,    4.457,2,    2.336,2,    0.214,2,    9.148,2,   2142.0,2,   2296.8,2,  32.708,3,  4.1188,    150
   18HU97009_1,  AR13,   119,  3, 188286,   OC52,2,19970607,1349, 53.6708, -48.7002, 3821,    259.2,   3.2881,  34.7175,2,  34.7172,2,    284.0,2,    304.1,2,     8.23,6,    15.31,6,     1.03,6,    4.097,2,    2.141,2,    0.292,3,    8.612,2,   2143.9,2,   2288.8,2,  29.904,2,  3.2713,    259
   18HU97009_1,  AR13,   119,  3, 188285,   OC51,2,19970607,1349, 53.6708, -48.7002, 3821,    380.2,   3.5777,  34.8020,2,  34.8020,2,    265.5,2,    282.8,2,     9.22,6,    16.75,6,     1.09,6,    4.077,2,    2.180,2,    0.185,2,    8.427,2,   2152.0,2,   2299.8,2,  29.017,2,  3.5518,    380
   18HU97009_1,  AR13,   119,  3, 188284,   OC60,2,19970607,1349, 53.6708, -48.7002, 3821,    530.5,   3.7649,  34.8777,2,  34.8772,2,    257.8,2,    273.5,2,     9.97,6,    17.51,6,     1.12,6,    3.561,2,    1.858,2,    0.136,2,    7.376,2,   2156.6,2,   2301.2,2,  25.221,2,  3.7273,    531
   18HU97009_1,  AR13,   119,  3, 188283,   OC61,2,19970607,1349, 53.6708, -48.7002, 3821,    690.2,   3.6670,  34.8925,2,  34.8921,2,    260.1,2,    275.6,2,    10.09,6,    17.05,6,     1.11,6,    3.026,2,    1.586,2,    0.136,2,    7.774,2,   2157.0,2,   2302.2,2,  20.530,3,  3.6178,    690
   18HU97009_1,  AR13,   119,  3, 188282,   OC82,2,19970607,1349, 53.6708, -48.7002, 3821,    869.8,   3.4227,  34.8811,2,  34.8808,2,    266.9,2,    281.0,2,    10.18,6,    17.54,6,     1.13,6,    3.337,2,    1.742,2,    0.136,2,    6.169,2,   2155.8,2,   2297.8,2,  25.668,2,  3.3611,    870
   18HU97009_1,  AR13,   119,  3, 188281,   OC83,2,19970607,1349, 53.6708, -48.7002, 3821,   1069.8,   3.2642,  34.8725,2,  34.8717,2,    271.7,2,    285.9,2,    10.02,6,    16.82,6,     1.11,6,    3.357,2,    1.722,2,    0.136,2,    6.208,2,   2154.1,2,   2298.5,2,  24.762,2,  3.1881,   1070
   18HU97009_1,  AR13,   119,  3, 188280,   OC94,2,19970607,1349, 53.6708, -48.7002, 3821,   1280.8,   3.1295,  34.8645,2,  34.8645,2,    275.9,2,    289.5,2,    10.03,6,    16.87,6,     1.11,6,    3.211,2,    1.635,2,    0.146,2,    7.862,3,   2153.0,2,   2300.9,2,  24.256,2,  3.0377,   1281
   18HU97009_1,  AR13,   119,  3, 188279,   OC85,2,19970607,1349, 53.6708, -48.7002, 3821,   1490.0,   3.0324,  34.8569,2,  34.8564,2,    279.8,2,    291.8,2,    10.03,6,    17.03,6,     1.10,6,    3.493,2,    1.771,2,    0.146,2,    5.886,2,   2151.6,2,   2296.0,2,  27.000,2,  2.9243,   1490
   18HU97009_1,  AR13,   119,  3, 188278,   OC86,2,19970607,1349, 53.6708, -48.7002, 3821,   1701.8,   2.9945,  34.8572,2,  34.8570,2,    281.2,2,    294.3,2,     9.99,6,    16.75,6,     1.09,6,    3.493,2,    1.819,2,    0.136,2,    5.964,2,   2151.4,2,   2298.0,2,  25.550,2,  2.8688,   1702
   18HU97009_1,  AR13,   119,  3, 188277,   OC87,2,19970607,1349, 53.6708, -48.7002, 3821,   1902.8,   2.9800,  34.8607,2,  34.8596,6,    280.9,2,    293.2,2,     9.99,6,    16.49,6,     1.09,6,    3.182,2,    1.625,2,    0.156,2,    4.476,3,   2151.5,2,   2300.5,2,  23.585,3,  2.8368,   1903
   18HU97009_1,  AR13,   119,  3, 188276,   OC88,2,19970607,1349, 53.6708, -48.7002, 3821,   2100.9,   3.0629,  34.8875,2,  34.8864,6,    274.6,2,    284.3,2,    10.85,6,    16.62,6,     1.10,6,    2.296,2,    1.158,2,    0.000,2,    3.143,3,   2151.6,2,   2302.5,2,  17.640,3,  2.9002,   2101
   18HU97009_1,  AR13,   119,  3, 188275,   OC65,2,19970607,1349, 53.6708, -48.7002, 3821,   2297.2,   3.0745,  34.9079,2,  34.9075,2,    271.1,2,    279.1,2,    11.62,6,    16.72,6,     1.09,6,    2.014,6,    0.997,6,    0.000,2,    4.184,2,   2153.4,2,   2307.0,2,  14.725,6,  2.8930,   2297
   18HU97009_1,  AR13,   119,  3, 188274,   OC84,2,19970607,1349, 53.6708, -48.7002, 3821,   2520.7,   2.9850,  34.9176,2,  34.9180,6,    270.1,2,    278.2,2,    12.52,6,    16.68,6,     1.10,6,    1.810,2,    0.817,2,    0.019,3,    5.750,2,   2154.8,2,   2304.8,2,  17.240,3,  2.7834,   2521
   18HU97009_1,  AR13,   119,  3, 188273,   OC90,2,19970607,1349, 53.6708, -48.7002, 3821,   2739.7,   2.8652,  34.9237,2,  34.9229,6,    270.3,2,    276.1,2,    13.33,6,    16.81,6,     1.10,6,    1.664,2,    0.808,2,    0.000,2,    5.030,2,   2156.0,2,   2307.5,2,  14.681,2,  2.6441,   2740
   18HU97009_1,  AR13,   119,  3, 188272,   OC91,2,19970607,1349, 53.6708, -48.7002, 3821,   2961.8,   2.6622,  34.9172,2,  34.9170,6,    272.4,2,    277.5,2,    14.10,6,    16.24,6,     1.09,6,    1.625,2,    0.817,2,    0.000,2,    4.320,3,   2156.2,2,   2309.8,6,  13.990,2,  2.4227,   2962
   18HU97009_1,  AR13,   119,  3, 188271,   OC64,2,19970607,1349, 53.6708, -48.7002, 3821,   3177.3,   2.4718,  34.9094,2,  34.9093,6,    275.0,2,    278.7,2,    14.98,6,    16.24,6,     1.09,6,    1.673,2,    0.788,2,    0.000,2,    5.623,2,   2157.5,2,   2260.0,3,  16.023,2,  2.2144,   3177
   18HU97009_1,  AR13,   119,  3, 188270,   OC95,2,19970607,1349, 53.6708, -48.7002, 3821,   3399.9,   2.2906,  34.9009,2,  34.9004,2,    278.3,2,    280.7,6,    15.49,6,    16.44,6,     1.09,6,    1.848,2,    0.914,2,    0.000,2,    5.808,2,   2157.9,2,   2306.9,2,  16.188,2,  2.0141,   3400
   18HU97009_1,  AR13,   119,  3, 188269,   OC58,2,19970607,1349, 53.6708, -48.7002, 3821,   3601.2,   2.1627,  34.8937,2,  34.8934,6,    283.0,2,    284.5,2,    14.58,6,    15.79,6,     1.06,6,    2.169,2,    1.060,2,    0.000,2,    6.207,2,   2157.6,6,   2306.6,2,  18.056,2,  1.8679,   3601
   18HU97009_1,  AR13,   119,  3, 188268,   OC93,2,19970607,1349, 53.6708, -48.7002, 3821,   3767.7,   1.9437,  34.8815,2,  34.8821,2,    292.0,2,    291.5,2,    12.40,6,    15.09,6,     1.02,6,    2.919,2,    1.508,2,    0.000,2,    7.977,3,   2155.7,2,   2301.8,2,  22.629,3,  1.6367,   3768
   18HU97009_1,  AR13,   119,  3, 188267,   OC66,2,19970607,1349, 53.6708, -48.7002, 3821,   3867.9,   1.6490,  34.8754,2,  34.8865,6,    299.4,2,    291.9,2,    12.38,6,    15.16,6,     1.02,6,    2.957,2,    1.508,2,    0.000,2,    7.685,2,   2156.1,2,   2303.2,2,  22.657,3,  1.3391,   3868