BOTTLE,20020708WHPSIOKJU
EXPOCODE,SECT_ID,STNNBR,CASTNO,SAMPNO,BTLNBR,BTLNBR_FLAG_W,DATE,TIME,LATITUDE,LONGITUDE,DEPTH,CTDPRS,CTDTMP,CTDSAL,CTDSAL_FLAG_W,SALNTY,SALNTY_FLAG_W,CTDOXY,CTDOXY_FLAG_W,OXYGEN,OXYGEN_FLAG_W,SILCAT,SILCAT_FLAG_W,NO2+NO3,NO2+NO3_FLAG_W,PHSPHT,PHSPHT_FLAG_W,CFC-11,CFC-11_FLAG_W,CFC-12,CFC-12_FLAG_W,CFC113,CFC113_FLAG_W,CCL4,CCL4_FLAG_W,TCARBN,TCARBN_FLAG_W,ALKALI,ALKALI_FLAG_W,MCHFRM,MCHFRM_FLAG_W,THETA,CTDRAW
,,,,,,,,,,,,DBAR,ITS-90,PSS-78,,PSS-78,,UMOL/KG,,UMOL/KG,,UMOL/KG,,UMOL/KG,,UMOL/KG,,PMOL/KG,,PMOL/KG,,PMOL/KG,,PMOL/KG,,UMOL/KG,,UMOL/KG,,PMOL/KG,,DEG C,
   18HU97009_1,  AR7W,    53,  6, 187085,   OC84,2,19970523,1410, 58.1868, -50.8750, 3573,      5.0,   4.4382,  34.7236,2,-999.0000,9,    369.5,2,   -999.0,9,  -999.00,9,  -999.00,9,  -999.00,9, -999.000,9, -999.000,9, -999.000,9, -999.000,9,   -999.0,9,   -999.0,9,-999.000,9,  4.4379,      5
   18HU97009_1,  AR7W,    53,  6, 187086,   OC36,2,19970523,1410, 58.1868, -50.8750, 3573,      5.0,   4.4351,  34.7235,2,-999.0000,9,    369.2,2,   -999.0,9,  -999.00,9,  -999.00,9,  -999.00,9, -999.000,9, -999.000,9, -999.000,9, -999.000,9,   -999.0,9,   -999.0,9,-999.000,9,  4.4348,      5
   18HU97009_1,  AR7W,    53,  6, 187088,   OC87,2,19970523,1410, 58.1868, -50.8750, 3573,      5.1,   4.4420,  34.7237,2,-999.0000,9,    369.0,2,   -999.0,9,  -999.00,9,  -999.00,9,  -999.00,9, -999.000,9, -999.000,9, -999.000,9, -999.000,9,   -999.0,9,   -999.0,9,-999.000,9,  4.4417,      5
   18HU97009_1,  AR7W,    53,  6, 187090,   OC85,2,19970523,1410, 58.1868, -50.8750, 3573,      5.1,   4.4413,  34.7236,2,-999.0000,9,    369.2,2,   -999.0,9,  -999.00,9,  -999.00,9,  -999.00,9, -999.000,9, -999.000,9, -999.000,9, -999.000,9,   -999.0,9,   -999.0,9,-999.000,9,  4.4410,      5
   18HU97009_1,  AR7W,    53,  6, 187091,   OC94,2,19970523,1410, 58.1868, -50.8750, 3573,      5.1,   4.4457,  34.7236,2,-999.0000,9,    369.1,2,   -999.0,9,  -999.00,9,  -999.00,9,  -999.00,9, -999.000,9, -999.000,9, -999.000,9, -999.000,9,   -999.0,9,   -999.0,9,-999.000,9,  4.4454,      5
   18HU97009_1,  AR7W,    53,  6, 187087,   OC88,2,19970523,1410, 58.1868, -50.8750, 3573,      5.2,   4.4391,  34.7236,2,-999.0000,9,    369.0,2,   -999.0,9,  -999.00,9,  -999.00,9,  -999.00,9, -999.000,9, -999.000,9, -999.000,9, -999.000,9,   -999.0,9,   -999.0,9,-999.000,9,  4.4388,      5
   18HU97009_1,  AR7W,    53,  6, 187089,   OC86,2,19970523,1410, 58.1868, -50.8750, 3573,      5.2,   4.4421,  34.7236,2,-999.0000,9,    369.4,2,   -999.0,9,  -999.00,9,  -999.00,9,  -999.00,9, -999.000,9, -999.000,9, -999.000,9, -999.000,9,   -999.0,9,   -999.0,9,-999.000,9,  4.4418,      5
   18HU97009_1,  AR7W,    53,  6, 187092,   OC83,2,19970523,1410, 58.1868, -50.8750, 3573,      5.4,   4.4486,  34.7236,2,-999.0000,9,    369.1,2,   -999.0,9,  -999.00,9,  -999.00,9,  -999.00,9, -999.000,9, -999.000,9, -999.000,9, -999.000,9,   -999.0,9,   -999.0,9,-999.000,9,  4.4482,      5
   18HU97009_1,  AR7W,    53,  6, 187116,   OC80,2,19970523,1410, 58.1868, -50.8750, 3573,      9.9,   4.4396,  34.7301,2,  34.7331,2,    345.1,2,    359.0,2,     2.80,6,     7.67,6,     0.51,6,    5.210,2,    2.870,2, -999.000,5,    8.060,3,   2098.1,3,   2288.6,2,   0.000,3,  4.4389,     10
   18HU97009_1,  AR7W,    53,  6, 187084,   OC90,2,19970523,1410, 58.1868, -50.8750, 3573,     17.9,   4.2508,  34.7258,2,-999.0000,9,    354.1,2,   -999.0,9,  -999.00,9,  -999.00,9,  -999.00,9, -999.000,9, -999.000,9, -999.000,9, -999.000,9,   -999.0,9,   -999.0,9,-999.000,9,  4.2495,     18
   18HU97009_1,  AR7W,    53,  6, 187083,   OC91,2,19970523,1410, 58.1868, -50.8750, 3573,     29.6,   3.9227,  34.7279,2,-999.0000,9,    330.1,2,   -999.0,9,  -999.00,9,  -999.00,9,  -999.00,9, -999.000,9, -999.000,9, -999.000,9, -999.000,9,   -999.0,9,   -999.0,9,-999.000,9,  3.9206,     30
   18HU97009_1,  AR7W,    53,  6, 187082,   OC64,2,19970523,1410, 58.1868, -50.8750, 3573,     48.9,   3.8115,  34.7544,2,-999.0000,9,    327.4,2,   -999.0,9,  -999.00,9,  -999.00,9,  -999.00,9, -999.000,9, -999.000,9, -999.000,9, -999.000,9,   -999.0,9,   -999.0,9,-999.000,9,  3.8082,     49
   18HU97009_1,  AR7W,    53,  6, 187115,   OC55,2,19970523,1410, 58.1868, -50.8750, 3573,     49.6,   3.7402,  34.7774,2,  34.7791,2,    309.0,2,    318.5,2,     7.60,6,    13.90,6,     0.92,6,    5.260,2,    2.770,2, -999.000,5,    7.550,3,   2135.5,2,   2292.1,2,  -1.000,4,  3.7369,     50
   18HU97009_1,  AR7W,    53,  6, 187081,   OC92,2,19970523,1410, 58.1868, -50.8750, 3573,     74.4,   3.6151,  34.7786,2,-999.0000,9,    323.2,2,   -999.0,9,  -999.00,9,  -999.00,9,  -999.00,9, -999.000,9, -999.000,9, -999.000,9, -999.000,9,   -999.0,9,   -999.0,9,-999.000,9,  3.6102,     74
   18HU97009_1,  AR7W,    53,  6, 187114,   OC81,2,19970523,1410, 58.1868, -50.8750, 3573,     99.4,   3.6104,  34.7917,2,  34.7916,2,    302.9,2,    313.3,2,     8.08,3,    14.53,6,     0.97,6,    5.100,2,    2.780,2, -999.000,5,    8.050,3,   2138.7,2,   2290.4,2,  -1.000,4,  3.6039,     99
   18HU97009_1,  AR7W,    53,  6, 187080,   OC58,2,19970523,1410, 58.1868, -50.8750, 3573,    100.0,   3.6951,  34.8044,2,-999.0000,9,    319.5,2,   -999.0,9,  -999.00,9,  -999.00,9,  -999.00,9, -999.000,9, -999.000,9, -999.000,9, -999.000,9,   -999.0,9,   -999.0,9,-999.000,9,  3.6884,    100
   18HU97009_1,  AR7W,    53,  6, 187079,   OC93,2,19970523,1410, 58.1868, -50.8750, 3573,    150.5,   3.5785,  34.8129,2,-999.0000,9,    319.0,2,   -999.0,9,  -999.00,9,  -999.00,9,  -999.00,9, -999.000,9, -999.000,9, -999.000,9, -999.000,9,   -999.0,9,   -999.0,9,-999.000,9,  3.5686,    151
   18HU97009_1,  AR7W,    53,  6, 187113,   OC69,2,19970523,1410, 58.1868, -50.8750, 3573,    159.6,   3.7238,  34.8473,2,  33.4793,2,    287.4,2,    296.4,2,     8.31,6,    15.64,6,     1.03,6,    4.530,2,    2.500,2, -999.000,5,    7.670,3,   2144.2,2,   2290.2,2,  -1.000,4,  3.7130,    160
   18HU97009_1,  AR7W,    53,  6, 187078,   OC66,2,19970523,1410, 58.1868, -50.8750, 3573,    201.6,   3.4617,  34.8255,2,-999.0000,9,    318.3,2,   -999.0,9,  -999.00,9,  -999.00,9,  -999.00,9, -999.000,9, -999.000,9, -999.000,9, -999.000,9,   -999.0,9,   -999.0,9,-999.000,9,  3.4484,    202
   18HU97009_1,  AR7W,    53,  6, 187112,   OC52,2,19970523,1410, 58.1868, -50.8750, 3573,    250.1,   3.5947,  34.8556,2,  34.8572,2,    286.1,2,    294.4,2,     8.79,3,    15.80,6,     1.04,6,    4.400,2,    2.400,2, -999.000,5,    8.600,3,   2148.7,2,   2290.6,2,  -1.000,4,  3.5779,    250
   18HU97009_1,  AR7W,    53,  6, 187111,   OC51,2,19970523,1410, 58.1868, -50.8750, 3573,    369.4,   3.3163,  34.8370,2,  34.8376,2,    291.3,2,    299.7,2,     8.31,6,    15.65,6,     1.03,6,    4.650,2,    2.530,2, -999.000,5,    8.150,3,   2146.3,2,   2290.3,2,  -1.000,4,  3.2919,    369
   18HU97009_1,  AR7W,    53,  6, 187110,   OC56,2,19970523,1410, 58.1868, -50.8750, 3573,    509.7,   3.2361,  34.8391,2,  34.8381,2,    290.4,2,    299.3,2,     8.44,6,    15.94,6,     1.03,6,    4.680,2,    2.470,2, -999.000,5,    8.340,3,   2147.5,2,   2290.4,2,  -1.000,4,  3.2022,    510
   18HU97009_1,  AR7W,    53,  6, 187109,   OC61,2,19970523,1410, 58.1868, -50.8750, 3573,    670.7,   3.1401,  34.8342,2,  34.8358,2,    291.0,2,    299.7,2,     8.56,6,    15.92,6,     1.04,6,    4.660,2,    2.560,2, -999.000,5,    8.680,2,   2146.6,2,   2288.4,2,  -1.000,4,  3.0952,    671
   18HU97009_1,  AR7W,    53,  6, 187108,   OC82,2,19970523,1410, 58.1868, -50.8750, 3573,    846.4,   3.1097,  34.8383,2,  34.8378,2,    288.1,2,    297.9,6,     8.99,6,    16.24,6,     1.08,6,    4.540,2,    2.430,2, -999.000,5,    8.430,2,   2148.8,2,   2290.4,2,  -1.000,4,  3.0520,    846
   18HU97009_1,  AR7W,    53,  6, 187107,   OC83,2,19970523,1410, 58.1868, -50.8750, 3573,   1048.6,   3.0770,  34.8439,2,  34.8448,2,    286.5,2,    294.5,2,     9.23,6,    16.66,6,     1.06,6,    4.270,2,    2.320,2, -999.000,5,    7.910,3,   2150.9,2,   2292.0,2,  -1.000,4,  3.0041,   1049
   18HU97009_1,  AR7W,    53,  6, 187106,   OC94,2,19970523,1410, 58.1868, -50.8750, 3573,   1269.0,   2.9688,  34.8352,2,  34.8381,2,    289.2,2,    297.4,2,     9.06,6,    16.47,6,     1.05,6,    4.280,2,    2.170,2, -999.000,5,    7.830,2,   2150.1,2,   2292.2,2,  -1.000,4,  2.8796,   1269
   18HU97009_1,  AR7W,    53,  6, 187105,   OC85,2,19970523,1410, 58.1868, -50.8750, 3573,   1508.0,   3.0036,  34.8463,2,  34.8474,2,    286.8,2,    295.2,2,     9.65,3,    16.55,6,     1.08,6,    4.000,2,    2.040,2, -999.000,5,    7.220,3,   2151.1,2,   2292.5,2,   0.000,3,  2.8944,   1508
   18HU97009_1,  AR7W,    53,  6, 187104,   OC86,2,19970523,1410, 58.1868, -50.8750, 3573,   1749.5,   2.9845,  34.8499,2,  34.8511,2,    288.0,2,    296.0,2,     9.47,6,    16.77,6,     1.07,6,    4.000,2,    2.000,2, -999.000,5,    5.800,2,   2150.9,2,   2288.2,2,  -1.000,4,  2.8548,   1750
   18HU97009_1,  AR7W,    53,  6, 187103,   OC87,2,19970523,1410, 58.1868, -50.8750, 3573,   1989.4,   2.9290,  34.8443,2,  34.8452,2,    289.1,2,    297.4,2,     9.42,6,    16.47,6,     1.07,6,    3.980,2,    1.960,2, -999.000,5,    5.580,2,   2150.2,2,   2293.1,6,   0.000,3,  2.7788,   1989
   18HU97009_1,  AR7W,    53,  6, 187102,   OC88,2,19970523,1410, 58.1868, -50.8750, 3573,   2231.6,   2.9385,  34.8490,2,  34.8495,2,    287.6,2,    296.8,2,     9.63,6,    16.57,6,     1.06,6,    3.900,2,    2.050,2, -999.000,5,    5.530,2,   2150.3,2,   2285.3,2,  -1.000,4,  2.7658,   2232
   18HU97009_1,  AR7W,    53,  6, 187101,   OC36,2,19970523,1410, 58.1868, -50.8750, 3573,   2469.3,   3.0605,  34.8865,2,  34.8878,2,    278.1,2,    286.0,2,    10.41,6,    16.56,6,     1.07,6,    2.820,6,    1.417,6, -999.000,5,    4.930,2,   2153.0,2,   2294.6,2,   0.000,3,  2.8627,   2469
   18HU97009_1,  AR7W,    53,  6, 187100,   OC84,2,19970523,1410, 58.1868, -50.8750, 3573,   2689.0,   2.9949,  34.9011,2,  34.9018,2,    275.3,2,    282.6,2,    11.01,6,    16.43,6,     1.06,6,    2.460,2,    1.240,2, -999.000,5,    3.410,3,   2154.6,2,   2293.7,2,   0.000,3,  2.7764,   2689
   18HU97009_1,  AR7W,    53,  6, 187099,   OC90,2,19970523,1410, 58.1868, -50.8750, 3573,   2890.3,   2.8402,  34.9068,2,  34.9081,6,    274.9,2,    281.9,2,    11.42,6,    15.87,6,     1.06,6,    2.270,2,    1.130,2, -999.000,5,    3.220,3,   2153.1,2,   2289.1,2,  -1.000,4,  2.6044,   2890
   18HU97009_1,  AR7W,    53,  6, 187098,   OC91,2,19970523,1410, 58.1868, -50.8750, 3573,   3070.8,   2.6701,  34.9114,2,  34.9130,2,    274.4,2,    280.6,2,    12.62,6,    16.31,6,     1.06,6,    2.000,2,    1.020,2, -999.000,5,    3.810,3,   2153.7,2,   2293.3,2,  -1.000,4,  2.4192,   3071
   18HU97009_1,  AR7W,    53,  6, 187097,   OC64,2,19970523,1410, 58.1868, -50.8750, 3573,   3230.4,   2.4295,  34.9054,2,  34.9065,2,    276.8,2,    281.6,2,    13.50,6,    16.07,6,     1.07,6,    1.990,2,    0.830,2, -999.000,5,    4.430,2,   2155.1,2,   2287.0,2,  -1.000,4,  2.1675,   3230
   18HU97009_1,  AR7W,    53,  6, 187096,   OC92,2,19970523,1410, 58.1868, -50.8750, 3573,   3350.7,   2.2323,  34.8955,2,  34.8961,2,    282.4,2,    286.6,2,    12.36,6,    15.54,6,     1.03,6,    2.480,2,    1.260,2, -999.000,5,    5.130,2,   2155.9,2,   2295.7,2,   0.000,3,  1.9624,   3351
   18HU97009_1,  AR7W,    53,  6, 187095,   OC58,2,19970523,1410, 58.1868, -50.8750, 3573,   3460.7,   1.9430,  34.8895,2,  34.8908,2,    290.7,2,    293.7,2,    10.26,6,    14.85,6,     1.00,6,    3.300,2,    1.650,2, -999.000,5,    5.460,2,   2153.1,2,   2297.3,2,  -1.000,4,  1.6687,   3461
   18HU97009_1,  AR7W,    53,  6, 187094,   OC93,2,19970523,1410, 58.1868, -50.8750, 3573,   3540.2,   1.6894,  34.8891,2,  34.8904,2,    294.6,2,    295.4,2,     9.82,6,    14.49,6,     0.98,6,    3.580,2,    1.840,2, -999.000,5,    5.770,2,   2156.4,2,   2292.7,2,  -1.000,4,  1.4131,   3540
   18HU97009_1,  AR7W,    53,  6, 187093,   OC66,2,19970523,1410, 58.1868, -50.8750, 3573,   3605.8,   1.6538,  34.8872,2,  34.8878,2,    296.1,2,    296.9,2,    10.01,6,    14.41,6,     0.97,6,    3.540,2,    1.760,2, -999.000,5,    6.950,3,   2153.2,6,   2322.6,3,   0.000,3,  1.3716,   3606
   18HU97009_1,  AR7W,    54,  3, 187140,   OC80,2,19970523,1919, 57.7950, -51.3490, 3598,      9.8,   4.4067,  34.7113,2,  34.7113,2,    341.9,2,    353.2,2,     3.11,6,     8.37,6,     0.54,6,    4.886,2,    2.667,2,    0.253,2,    6.589,2,   -999.0,9,   -999.0,9,  51.484,4,  4.4060,     10
   18HU97009_1,  AR7W,    54,  3, 187139,   OC55,3,19970523,1919, 57.7950, -51.3490, 3598,     40.0,   4.0432,  34.7817,2,-999.0000,5,    314.7,2,   -999.0,9,  -999.00,9,  -999.00,9,  -999.00,9, -999.000,5, -999.000,5, -999.000,5, -999.000,5,   -999.0,9,   -999.0,9,-999.000,5,  4.0405,     40
   18HU97009_1,  AR7W,    54,  3, 187138,   OC81,2,19970523,1919, 57.7950, -51.3490, 3598,     79.9,   3.8105,  34.7800,2,  34.7802,2,    310.1,2,    318.3,2,     7.77,6,    13.89,6,     0.95,6,    4.875,2,    2.579,2,    0.253,2,    6.189,2,   -999.0,9,   -999.0,9,  50.524,4,  3.8051,     80
   18HU97009_1,  AR7W,    54,  3, 187137,   OC69,2,19970523,1919, 57.7950, -51.3490, 3598,    140.9,   3.4329,  34.8041,2,  34.8042,2,    297.3,2,    304.2,2,     8.19,6,    15.37,6,     1.01,6,    4.603,2,    2.433,2,    0.234,2,    6.909,2,   -999.0,9,   -999.0,9,  45.208,4,  3.4237,    141
   18HU97009_1,  AR7W,    54,  3, 187136,   OC52,2,19970523,1919, 57.7950, -51.3490, 3598,    240.4,   3.3573,  34.8231,2,  34.8244,2,    294.0,2,    301.1,2,     8.23,6,    15.46,6,     1.02,6,    4.505,2,    2.442,2,    0.224,2,    6.724,3,   -999.0,9,   -999.0,9,  43.738,4,  3.3416,    240
   18HU97009_1,  AR7W,    54,  3, 187135,   OC51,2,19970523,1919, 57.7950, -51.3490, 3598,    359.1,   3.3272,  34.8354,2,  34.8358,2,    292.4,2,    299.0,2,     8.40,6,    15.77,6,     1.04,6,    4.291,2,    2.345,2,    0.214,2,    6.295,2,   2147.2,2,   2288.3,2,  41.655,4,  3.3035,    359
   18HU97009_1,  AR7W,    54,  3, 187134,   OC56,2,19970523,1919, 57.7950, -51.3490, 3598,    499.9,   3.2337,  34.8354,2,  34.8358,2,    292.6,2,    299.3,2,     8.41,6,    16.05,6,     1.03,6,    4.408,2,    2.267,2,    0.224,2,    6.568,2,   2148.1,2,   2284.0,2,  43.075,4,  3.2005,    500
   18HU97009_1,  AR7W,    54,  3, 187133,   OC61,2,19970523,1919, 57.7950, -51.3490, 3598,    661.3,   3.1428,  34.8342,2,  34.8340,2,    293.3,2,    300.5,2,     8.59,6,    15.77,6,     1.05,6,    4.417,2,    2.394,2,    0.243,2,    6.704,3,   2148.2,2,   2287.0,2,  42.618,4,  3.0986,    661
   18HU97009_1,  AR7W,    54,  3, 187132,   OC82,2,19970523,1919, 57.7950, -51.3490, 3598,    839.0,   3.0532,  34.8296,2,  34.8295,2,    293.2,2,    300.6,2,     8.72,6,    15.91,6,     1.05,6,    4.330,2,    2.296,2,    0.204,3,    6.286,2,   2152.1,2,   2286.5,2,  42.296,4,  2.9964,    839
   18HU97009_1,  AR7W,    54,  3, 187131,   OC83,2,19970523,1919, 57.7950, -51.3490, 3598,   1039.2,   3.0206,  34.8338,2,  34.8336,2,    291.3,2,    298.7,2,     8.86,6,    16.37,6,     1.07,6,    4.271,2,    2.180,2,    0.302,3,    6.266,2,   2151.5,2,   2286.1,2,  41.712,4,  2.9489,   1039
   18HU97009_1,  AR7W,    54,  3, 187130,   OC94,2,19970523,1919, 57.7950, -51.3490, 3598,   1280.0,   2.9246,  34.8256,2,  34.8260,2,    293.1,2,    300.3,2,     8.96,6,    16.13,6,     1.07,6,    4.310,2,    2.248,2,    0.243,2,    6.461,2,   2150.8,2,   2289.4,2,  41.877,4,  2.8349,   1280
   18HU97009_1,  AR7W,    54,  3, 187129,   OC85,2,19970523,1919, 57.7950, -51.3490, 3598,   1530.8,   3.0183,  34.8463,2,  34.8468,2,    288.7,2,    296.0,2,     9.40,6,    16.69,6,     1.08,6,    3.892,2,    1.965,2,    0.214,2,    5.410,2,   2153.3,2,   2286.4,2,  38.209,2,  2.9070,   1531
   18HU97009_1,  AR7W,    54,  3, 187128,   OC86,2,19970523,1919, 57.7950, -51.3490, 3598,   1780.7,   2.9952,  34.8495,2,  34.8497,2,    288.8,2,    296.5,6,     9.51,6,    16.62,6,     1.08,6,    3.795,2,    1.897,2,    0.195,2,    5.128,2,   2152.4,2,   2285.2,2,  37.314,2,  2.8626,   1781
   18HU97009_1,  AR7W,    54,  3, 187127,   OC87,2,19970523,1919, 57.7950, -51.3490, 3598,   2031.0,   2.9263,  34.8437,2,  34.8436,2,    290.5,2,    298.3,2,     9.48,6,    16.41,6,     1.08,6,    3.843,2,    1.936,2,    0.195,2,    5.439,3,   2154.6,2,   2288.8,2,  37.742,2,  2.7723,   2031
   18HU97009_1,  AR7W,    54,  3, 187126,   OC88,2,19970523,1919, 57.7950, -51.3490, 3598,   2279.3,   2.9636,  34.8549,2,  34.8546,2,    287.5,2,    295.1,2,     9.65,6,    16.58,6,     1.07,6,    3.522,2,    1.712,2,    0.175,2,    4.836,2,   2158.2,2,   2290.2,2,  35.572,2,  2.7859,   2279
   18HU97009_1,  AR7W,    54,  3, 187125,   OC36,2,19970523,1919, 57.7950, -51.3490, 3598,   2530.4,   3.0570,  34.8916,2,  34.8918,2,    278.5,2,    285.6,2,    10.73,6,    16.36,6,     1.07,6,    2.637,2,    1.352,2,    0.136,2,    3.921,2,   2153.3,2,   2291.0,2,  27.048,2,  2.8532,   2530
   18HU97009_1,  AR7W,    54,  3, 187124,   OC84,2,19970523,1919, 57.7950, -51.3490, 3598,   2751.4,   2.9721,  34.9038,2,  34.9041,6,    276.6,2,    282.5,2,    11.13,6,    16.16,6,     1.09,6,    2.296,2,    1.099,2,    0.000,2,    3.386,2,   2154.6,2,   2291.8,2,  24.294,2,  2.7477,   2751
   18HU97009_1,  AR7W,    54,  3, 187123,   OC90,2,19970523,1919, 57.7950, -51.3490, 3598,   2949.8,   2.8369,  34.9040,2,  34.9039,2,    278.6,2,    284.1,2,    10.93,6,    15.90,6,     1.07,6,    2.547,6,    1.244,6,    0.068,6,    3.887,3,   2154.7,2,   2293.9,2,  25.271,6,  2.5950,   2950
   18HU97009_1,  AR7W,    54,  3, 187122,   OC91,2,19970523,1919, 57.7950, -51.3490, 3598,   3128.9,   2.6690,  34.9058,2,  34.9065,2,    278.9,2,    283.8,2,    11.68,6,    16.11,6,     1.04,6,    2.325,2,    1.090,2,    0.126,3,    3.434,2,   2153.4,2,   2297.0,2,  24.060,2,  2.4121,   3129
   18HU97009_1,  AR7W,    54,  3, 187121,   OC64,2,19970523,1919, 57.7950, -51.3490, 3598,   3291.2,   2.3974,  34.8994,2,  34.9006,2,    281.9,2,    286.0,2,    12.00,6,    15.49,6,     1.04,6,    2.422,2,    1.177,2,    0.165,3,    4.144,2,   2155.4,2,   2295.3,2,  -0.973,4,  2.1299,   3291
   18HU97009_1,  AR7W,    54,  3, 187120,   OC92,2,19970523,1919, 57.7950, -51.3490, 3598,   3429.1,   2.0988,  34.8922,2,  34.8923,2,    288.4,2,    291.3,2,    11.63,3,    15.35,6,     1.03,6,    2.860,2,    1.469,2,    0.165,2,    4.407,2,   2154.9,2,   2294.2,2,  28.660,2,  1.8240,   3429
   18HU97009_1,  AR7W,    54,  3, 187119,   OC58,2,19970523,1919, 57.7950, -51.3490, 3598,   3519.1,   1.8833,  34.8878,2,  34.8888,2,    292.7,2,    295.0,2,    10.45,6,    14.78,6,     1.00,6,    3.220,2,    1.615,2,    0.165,2,    5.273,3,   2153.4,2,   2292.1,2,  31.267,2,  1.6044,   3519
   18HU97009_1,  AR7W,    54,  3, 187118,   OC93,2,19970523,1919, 57.7950, -51.3490, 3598,   3590.6,   1.8166,  34.8880,2,  34.8888,2,    294.6,2,    296.6,2,    10.28,6,    14.76,6,     1.03,6,    3.337,2,    1.683,2,    0.146,3,    4.923,2,   2156.1,2,   2305.1,3,  30.713,2,  1.5318,   3591
   18HU97009_1,  AR7W,    54,  3, 187117,   OC66,2,19970523,1919, 57.7950, -51.3490, 3598,   3642.9,   1.8006,  34.8889,2,  34.8896,2,    295.3,2,    295.7,2,    10.29,6,    14.64,6,     0.99,6,    3.337,2,    1.722,2,    0.165,2,    5.049,3,   2160.1,6,   2337.2,2,  31.578,2,  1.5107,   3643