BOTTLE,20020708WHPSIOKJU
EXPOCODE,SECT_ID,STNNBR,CASTNO,SAMPNO,BTLNBR,BTLNBR_FLAG_W,DATE,TIME,LATITUDE,LONGITUDE,DEPTH,CTDPRS,CTDTMP,CTDSAL,CTDSAL_FLAG_W,SALNTY,SALNTY_FLAG_W,CTDOXY,CTDOXY_FLAG_W,OXYGEN,OXYGEN_FLAG_W,SILCAT,SILCAT_FLAG_W,NO2+NO3,NO2+NO3_FLAG_W,PHSPHT,PHSPHT_FLAG_W,CFC-11,CFC-11_FLAG_W,CFC-12,CFC-12_FLAG_W,CFC113,CFC113_FLAG_W,CCL4,CCL4_FLAG_W,TCARBN,TCARBN_FLAG_W,ALKALI,ALKALI_FLAG_W,MCHFRM,MCHFRM_FLAG_W,THETA,CTDRAW
,,,,,,,,,,,,DBAR,ITS-90,PSS-78,,PSS-78,,UMOL/KG,,UMOL/KG,,UMOL/KG,,UMOL/KG,,UMOL/KG,,PMOL/KG,,PMOL/KG,,PMOL/KG,,PMOL/KG,,UMOL/KG,,UMOL/KG,,PMOL/KG,,DEG C,
   18HU97009_1,  AR13,    28,  1, 186452,   OC80,2,19970516,0042, 52.3807, -45.3235, 4125,      2.9,   5.9808,  34.2194,2,  34.2199,2,    302.5,2,    317.9,2,     5.29,6,     7.12,6,     0.62,6,    4.703,2,    2.405,2,    0.321,2,    8.180,2,   2082.2,3,   2272.2,2,  46.332,4,  5.9805,      3
   18HU97009_1,  AR13,    28,  1, 186451,   OC55,2,19970516,0042, 52.3807, -45.3235, 4125,     17.2,   5.8013,  34.2352,2,  34.2340,2,    300.0,2,    316.9,2,     5.65,6,     7.73,6,     0.63,6,    4.713,2,    2.483,2,    0.302,2,    8.111,2,   2088.6,3,   2275.3,2,  40.293,4,  5.7999,     17
   18HU97009_1,  AR13,    28,  1, 186450,   OC81,2,19970516,0042, 52.3807, -45.3235, 4125,     50.9,   6.2583,  34.6580,2,  34.6774,2,    264.0,2,    277.3,2,     7.36,6,    11.89,6,     0.86,6,    4.001,2,    2.093,2,    0.273,2,    7.613,2,   2124.3,2,   2285.9,2,  23.101,3,  6.2539,     51
   18HU97009_1,  AR13,    28,  1, 186449,   OC69,2,19970516,0042, 52.3807, -45.3235, 4125,     75.1,   7.2802,  34.9605,2,  34.9609,2,    246.1,2,    260.5,2,     7.56,6,    14.06,6,     0.93,6,    3.407,2,    1.840,2,    0.224,3,    6.872,2,   2135.1,2,   2300.7,2,   7.437,3,  7.2730,     75
   18HU97009_1,  AR13,    28,  1, 186448,   OC52,2,19970516,0042, 52.3807, -45.3235, 4125,    100.3,   6.3097,  34.8339,2,  34.8146,2,    249.7,2,    271.6,2,     7.94,6,    13.46,6,     0.93,6,    3.806,2,    1.966,2,    0.273,2,    7.407,3,   2132.5,2,   2297.2,2,  41.017,4,  6.3009,    100
   18HU97009_1,  AR13,    28,  1, 186447,   OC51,3,19970516,0042, 52.3807, -45.3235, 4125,    151.6,   5.6494,  34.8010,2,-999.0000,9,    238.8,2,    253.0,2,     9.29,6,    15.99,6,     1.07,6,    3.338,2,    1.684,2,    0.214,2,    7.134,2,   2147.8,2,   2296.6,2,  27.320,3,  5.6369,    152
   18HU97009_1,  AR13,    28,  1, 186446,   OC56,2,19970516,0042, 52.3807, -45.3235, 4125,    199.9,   5.1666,  34.7923,2,  34.7898,6,    245.2,2,    257.6,2,     9.30,6,    16.51,6,     1.06,6,    3.377,2,    1.752,2,    0.224,2,    6.647,2,   2147.4,6,   2293.3,2,   3.757,3,  5.1507,    200
   18HU97009_1,  AR13,    28,  1, 186445,   OC61,2,19970516,0042, 52.3807, -45.3235, 4125,    400.1,   4.4817,  34.8994,2,  34.8994,2,    240.9,2,    251.3,4,    10.68,6,    17.71,6,     1.13,6,    2.919,2,    1.528,2,    0.204,2,    5.401,2,   2158.8,2,   2302.9,2,  31.460,2,  4.4515,    400
   18HU97009_1,  AR13,    28,  1, 186444,   OC82,2,19970516,0042, 52.3807, -45.3235, 4125,    601.3,   3.9909,  34.9095,2,  34.9090,2,    256.5,2,    267.2,2,    10.33,6,    17.41,6,     1.10,6,    3.084,2,    1.625,2,    0.214,2,    5.342,2,   2156.2,2,   2295.9,2,  34.182,2,  3.9469,    601
   18HU97009_1,  AR13,    28,  1, 186443,   OC83,2,19970516,0042, 52.3807, -45.3235, 4125,    794.5,   3.5552,  34.8735,2,  34.8729,2,    270.3,2,    281.9,2,     9.72,6,    16.89,6,     1.07,6,    3.740,3,    1.920,2, -999.000,5,    6.500,3,   2151.8,2,   2296.5,2,  50.210,4,  3.4986,    795
   18HU97009_1,  AR13,    28,  1, 186442,   OC94,2,19970516,0042, 52.3807, -45.3235, 4125,   1000.6,   3.4220,  34.8809,2,  34.8808,2,    270.9,2,    282.3,2,    10.12,6,    16.78,6,     1.07,6,    3.240,2,    1.615,2,    0.195,2,    6.373,2,   2151.8,2,   2294.0,2,  22.593,3,  3.3501,   1001
   18HU97009_1,  AR13,    28,  1, 186441,   OC85,2,19970516,0042, 52.3807, -45.3235, 4125,   1202.3,   3.2786,  34.8754,2,  34.8749,2,    274.6,2,    287.0,6,    10.28,6,    16.93,6,     1.07,6,    3.182,2,    1.567,2,    0.204,2,    6.062,2,   2151.0,2,   2296.0,2,  16.025,3,  3.1917,   1202
   18HU97009_1,  AR13,    28,  1, 186440,   OC86,2,19970516,0042, 52.3807, -45.3235, 4125,   1403.5,   3.1462,  34.8668,2,  34.8666,2,    278.5,2,    288.5,2,    10.09,6,    16.77,6,     1.07,6,    3.328,2,    1.664,2,    0.204,2,    5.312,3,   2149.9,2,   2297.9,6,  44.523,4,  3.0441,   1404
   18HU97009_1,  AR13,    28,  1, 186439,   OC87,2,19970516,0042, 52.3807, -45.3235, 4125,   1603.4,   3.0651,  34.8642,2,  34.8645,2,    279.8,2,    290.6,2,    10.05,6,    16.55,6,     1.06,6,    3.337,2,    1.615,2,    0.234,2,    5.361,3,   -999.0,5,   2295.8,2,  39.162,2,  2.9470,   1603
   18HU97009_1,  AR13,    28,  1, 186438,   OC88,2,19970516,0042, 52.3807, -45.3235, 4125,   1802.4,   2.9881,  34.8578,2,  34.8574,2,    282.4,2,    293.3,2,    10.09,6,    16.70,6,     1.06,6,    3.357,2,    1.683,2,    0.204,2,    5.458,2,   2148.6,2,   2298.6,2,   1.654,3,  2.8537,   1802
   18HU97009_1,  AR13,    28,  1, 186437,   OC36,2,19970516,0042, 52.3807, -45.3235, 4125,   2004.7,   3.0176,  34.8744,2,  34.8749,2,    278.2,2,    289.0,2,    10.45,6,    16.51,6,     1.04,6,    2.968,2,    1.518,2,    0.204,2,    5.069,2,   2149.3,2,   2295.7,2,  35.766,2,  2.8645,   2005
   18HU97009_1,  AR13,    28,  1, 186436,   OC84,2,19970516,0042, 52.3807, -45.3235, 4125,   2224.0,   3.0406,  34.8975,2,  34.8969,2,    272.8,2,    282.2,2,    11.35,6,    16.38,6,     1.05,6,    2.325,2,    1.158,2,    0.156,2,    4.826,2,   2150.3,2,   2300.9,2,  10.819,3,  2.8667,   2224
   18HU97009_1,  AR13,    28,  1, 186435,   OC90,2,19970516,0042, 52.3807, -45.3235, 4125,   2526.8,   2.9401,  34.9138,2,  34.9136,2,    269.6,2,    278.5,2,    12.41,6,    16.72,6,     1.05,6,    1.880,2,    0.890,2, -999.000,5,    4.300,2,   2151.2,2,   2301.0,2,  37.540,2,  2.7387,   2527
   18HU97009_1,  AR13,    28,  1, 186434,   OC91,2,19970516,0042, 52.3807, -45.3235, 4125,   2812.9,   2.7589,  34.9158,2,  34.9153,2,    270.2,2,    278.0,2,    13.35,6,    16.28,6,     1.05,6,    1.722,2,    0.915,2,    0.117,3,    3.561,2,   2154.7,2,   2303.3,2,  22.357,3,  2.5326,   2813
   18HU97009_1,  AR13,    28,  1, 186433,   OC64,2,19970516,0042, 52.3807, -45.3235, 4125,   3145.3,   2.4688,  34.9071,2,  34.9067,2,    274.0,2,    279.7,2,    14.55,6,    16.19,6,     1.04,6,    1.754,6,    0.973,6,    0.133,3,    3.794,6,   2156.2,2,   2301.1,2,  24.575,2,  2.2148,   3145
   18HU97009_1,  AR13,    28,  1, 186432,   OC92,2,19970516,0042, 52.3807, -45.3235, 4125,   3446.9,   2.2389,  34.8971,2,  34.8963,6,    277.7,2,    283.9,2,    14.72,6,    15.99,6,     1.04,6,    2.070,2,    1.000,2, -999.000,5,    5.000,2,   2154.5,2,   2303.1,2,  35.410,2,  1.9587,   3447
   18HU97009_1,  AR13,    28,  1, 186431,   OC58,2,19970516,0042, 52.3807, -45.3235, 4125,   3741.3,   1.9600,  34.8838,2,  34.8839,2,    287.7,2,    290.7,2,    12.61,6,    15.06,6,     0.99,6,    2.812,2,    1.401,2,    0.185,2,    5.818,2,   2152.3,2,   2296.6,2,  36.424,2,  1.6554,   3741
   18HU97009_1,  AR13,    28,  1, 186430,   OC93,2,19970516,0042, 52.3807, -45.3235, 4125,   3992.0,   1.8628,  34.8793,2,  34.8785,6,    289.4,2,    294.0,2,    11.81,6,    14.98,6,     0.95,6,    3.162,2,    1.693,2,    0.214,2,    6.119,2,   2152.0,2,   2292.2,2,  39.595,2,  1.5333,   3992
   18HU97009_1,  AR13,    28,  1, 186429,   OC66,2,19970516,0042, 52.3807, -45.3235, 4125,   4181.2,   1.8049,  34.8770,2,  34.8760,2,    292.3,2,    295.6,2,    11.33,6,    14.90,6,     0.96,6,    3.249,2,    1.547,2,    0.214,2,    6.849,2,   2153.0,2,   2297.7,2,  11.499,3,  1.4559,   4181
   18HU97009_1,  AR13,    29,  2, 186476,   OC80,2,19970516,0717, 52.7003, -44.6112, 4078,     13.5,   8.3609,  34.8787,2,  34.8802,2,    269.6,2,    290.5,6,     4.83,6,     7.89,6,     0.57,6,    3.846,2,    2.113,2,    0.302,2,    5.530,2,   2099.7,2,   2298.4,2,   0.000,4,  8.3595,     14
   18HU97009_1,  AR13,    29,  2, 186475,   OC55,2,19970516,0717, 52.7003, -44.6112, 4078,     50.2,   8.8385,  35.0432,2,  35.0383,2,    256.3,2,    275.5,6,     5.56,6,     9.46,6,     0.67,6,    3.631,2,    2.044,2,    0.380,2,    5.462,2,   2113.3,2,   2310.0,2,   0.000,4,  8.8331,     50
   18HU97009_1,  AR13,    29,  2, 186474,   OC81,2,19970516,0717, 52.7003, -44.6112, 4078,     73.6,   7.1808,  34.8198,2,  34.8309,2,    269.5,2,    283.2,6,     6.46,6,    10.59,6,     0.77,6,    4.001,2,    2.327,2,    0.224,3,    6.113,2,   2121.7,2,   2300.8,6,   0.000,4,  7.1739,     74
   18HU97009_1,  AR13,    29,  2, 186473,   OC69,2,19970516,0717, 52.7003, -44.6112, 4078,    102.3,   5.5302,  34.7554,2,  34.7614,2,    278.2,2,    291.1,6,     7.46,6,    13.43,6,     0.90,6,    4.263,2,    2.394,2,    0.224,3,    6.404,2,   2135.1,2,   2291.3,2,   0.000,4,  5.5219,    102
   18HU97009_1,  AR13,    29,  2, 186472,   OC52,2,19970516,0717, 52.7003, -44.6112, 4078,    150.5,   4.6850,  34.7536,2,  34.7539,2,    270.0,2,    279.7,6,     8.62,6,    15.09,6,     0.99,6,    3.932,2,    2.190,2,    0.292,2,    6.560,2,   2143.2,2,   2291.0,2,   0.000,4,  4.6737,    151
   18HU97009_1,  AR13,    29,  2, 186471,   OC51,2,19970516,0717, 52.7003, -44.6112, 4078,    199.6,   4.1552,  34.7368,2,  34.7374,2,    282.3,2,    293.1,6,     8.35,6,    14.96,6,     1.01,6,    4.350,2,    2.472,2,    0.341,2,    6.812,3,   2143.4,2,   2289.0,2,   0.000,4,  4.1410,    200
   18HU97009_1,  AR13,    29,  2, 186470,   OC56,2,19970516,0717, 52.7003, -44.6112, 4078,    301.6,   4.0830,  34.8302,2,  34.8272,2,    260.2,2,    271.0,6,     9.61,6,    16.64,6,     1.07,6,    3.678,2,    1.985,2,    0.331,2,    5.878,2,   2152.2,2,   2290.6,2,   0.000,4,  4.0614,    302
   18HU97009_1,  AR13,    29,  2, 186469,   OC61,2,19970516,0717, 52.7003, -44.6112, 4078,    400.7,   4.0796,  34.8715,2,  34.8709,2,    255.3,2,    266.7,6,    10.08,6,    17.30,6,     1.11,6,    3.367,2,    1.829,2,    0.292,2,    5.508,2,   2157.3,2,   2293.0,2,   0.000,4,  4.0506,    401
   18HU97009_1,  AR13,    29,  2, 186468,   OC82,2,19970516,0717, 52.7003, -44.6112, 4078,    600.7,   3.8200,  34.8975,2,  34.8969,2,    258.7,2,    269.7,6,    10.30,6,    17.64,6,     1.08,6,    3.260,2,    1.625,2,    0.136,3,    5.225,2,   2158.1,2,   2293.7,2,   0.000,4,  3.7768,    601
   18HU97009_1,  AR13,    29,  2, 186467,   OC83,2,19970516,0717, 52.7003, -44.6112, 4078,    800.1,   3.5189,  34.8851,2,  34.8851,2,    267.0,2,    279.3,6,    10.14,6,    17.12,6,     1.05,6,    3.269,2,    1.712,2,    0.292,2,    5.303,2,   2153.2,2,   2293.9,2,   0.000,4,  3.4620,    800
   18HU97009_1,  AR13,    29,  2, 186466,   OC94,2,19970516,0717, 52.7003, -44.6112, 4078,    998.3,   3.2945,  34.8703,2,  34.8703,2,    274.1,2,    286.7,6,    10.03,6,    17.00,6,     1.05,6,    3.464,2,    1.712,2,    0.243,2,    5.780,3,   2151.4,2,   2296.4,2,   0.000,4,  3.2238,    998
   18HU97009_1,  AR13,    29,  2, 186465,   OC85,2,19970516,0717, 52.7003, -44.6112, 4078,   1199.1,   3.1885,  34.8702,2,  34.8698,2,    276.0,2,    288.6,6,    10.32,6,    16.89,6,     1.05,6,    3.285,6,    1.716,6,    0.248,6,    4.836,6,   2149.4,2,   2297.4,2,  14.069,4,  3.1028,   1199
   18HU97009_1,  AR13,    29,  2, 186464,   OC86,2,19970516,0717, 52.7003, -44.6112, 4078,   1399.7,   3.0771,  34.8612,2,  34.8617,2,    279.5,2,    292.2,6,     9.92,6,    16.75,6,     1.04,6,    3.483,2,    1.790,2,    0.175,2,    4.505,3,   2153.1,2,   2293.3,2,   0.000,4,  2.9760,   1400
   18HU97009_1,  AR13,    29,  2, 186463,   OC87,2,19970516,0717, 52.7003, -44.6112, 4078,   1596.0,   3.0130,  34.8582,2,  34.8580,2,    280.9,2,    293.2,6,    10.02,6,    16.80,6,     1.06,6,    3.483,2,    1.732,2,    0.117,3,    4.631,2,   2150.2,2,   2288.8,2,   0.000,4,  2.8962,   1596
   18HU97009_1,  AR13,    29,  2, 186462,   OC88,2,19970516,0717, 52.7003, -44.6112, 4078,   1778.6,   2.9732,  34.8571,2,  34.8572,2,    281.6,2,    292.8,6,     9.97,6,    16.42,6,     1.03,6,    3.473,2,    1.703,2,    0.117,3,    4.427,2,   2148.5,2,   2289.9,2,   0.000,4,  2.8411,   1779
   18HU97009_1,  AR13,    29,  2, 186461,   OC36,2,19970516,0717, 52.7003, -44.6112, 4078,   2000.9,   3.0063,  34.8738,2,  34.8741,2,    279.3,2,    289.0,6,    10.35,6,    16.44,6,     1.05,6,    2.997,2,    1.411,2,    0.204,2,    3.970,2,   2151.7,6,   2292.7,2,   0.000,4,  2.8538,   2001
   18HU97009_1,  AR13,    29,  2, 186460,   OC84,2,19970516,0717, 52.7003, -44.6112, 4078,   2228.5,   3.0634,  34.9070,2,  34.9073,2,    271.1,2,    279.9,6,    11.82,6,    16.44,6,     1.06,6,    2.053,2,    1.060,2,    0.126,3,    3.464,3,   2152.0,2,   2300.8,2,   0.000,4,  2.8887,   2229
   18HU97009_1,  AR13,    29,  2, 186459,   OC90,2,19970516,0717, 52.7003, -44.6112, 4078,   2470.4,   2.9272,  34.9043,2,  34.9039,2,    273.0,2,    281.3,6,    11.55,6,    15.93,6,     1.04,6,    2.228,2,    0.973,2,    0.068,3,    3.522,2,   2152.7,2,   2296.3,2,   0.000,4,  2.7316,   2470
   18HU97009_1,  AR13,    29,  2, 186458,   OC91,4,19970516,0717, 52.7003, -44.6112, 4078,   2750.3,   2.8182,  34.9199,2,-999.0000,9,    269.3,2,   -999.0,9,  -999.00,9,  -999.00,9,  -999.00,9, -999.000,9, -999.000,9, -999.000,9, -999.000,9,   -999.0,9,   -999.0,9,-999.000,9,  2.5970,   2750
   18HU97009_1,  AR13,    29,  2, 186457,   OC64,2,19970516,0717, 52.7003, -44.6112, 4078,   3101.9,   2.5441,  34.9110,2,  34.9112,2,    272.4,2,    278.5,6,    14.61,6,    16.09,6,     1.03,6,    1.615,2,    0.730,2,    0.000,2,    3.084,2,   2155.2,2,   2301.8,2,   0.000,4,  2.2928,   3102
   18HU97009_1,  AR13,    29,  2, 186456,   OC92,2,19970516,0717, 52.7003, -44.6112, 4078,   3401.5,   2.3271,  34.9012,2,  34.9010,6,    275.8,2,    280.5,6,    14.90,6,    16.12,6,     1.05,6,    1.800,2,    0.983,2,    0.000,2,    3.386,2,   2154.0,2,   2300.3,2,   0.000,4,  2.0496,   3402
   18HU97009_1,  AR13,    29,  2, 186455,   OC58,2,19970516,0717, 52.7003, -44.6112, 4078,   3699.2,   2.1364,  34.8909,2,  34.8908,2,    282.3,2,    286.4,6,    14.04,6,    15.30,6,     1.01,6,    2.296,2,    1.138,2,    0.000,2,    4.534,2,   2154.9,2,   2300.0,2,   0.000,4,  1.8317,   3699
   18HU97009_1,  AR13,    29,  2, 186454,   OC93,2,19970516,0717, 52.7003, -44.6112, 4078,   3999.1,   1.9854,  34.8824,2,  34.8829,2,    286.4,2,    290.8,6,    12.42,6,    14.79,6,     0.97,6,    2.792,2,    1.430,2,    0.000,2,    5.253,2,   2152.4,2,   2299.7,2,   0.000,4,  1.6517,   3999
   18HU97009_1,  AR13,    29,  2, 186453,   OC66,2,19970516,0717, 52.7003, -44.6112, 4078,   4143.2,   1.9308,  34.8799,2,  34.8804,2,    288.9,2,    292.4,6,    12.31,6,    14.77,6,     0.97,6,    2.977,2,    1.479,2,    0.136,2,    5.370,2,   2152.6,2,   2296.8,2,   0.000,4,  1.5825,   4143