BOTTLE,20020708WHPSIOKJU
EXPOCODE,SECT_ID,STNNBR,CASTNO,SAMPNO,BTLNBR,BTLNBR_FLAG_W,DATE,TIME,LATITUDE,LONGITUDE,DEPTH,CTDPRS,CTDTMP,CTDSAL,CTDSAL_FLAG_W,SALNTY,SALNTY_FLAG_W,CTDOXY,CTDOXY_FLAG_W,OXYGEN,OXYGEN_FLAG_W,SILCAT,SILCAT_FLAG_W,NO2+NO3,NO2+NO3_FLAG_W,PHSPHT,PHSPHT_FLAG_W,CFC-11,CFC-11_FLAG_W,CFC-12,CFC-12_FLAG_W,CFC113,CFC113_FLAG_W,CCL4,CCL4_FLAG_W,TCARBN,TCARBN_FLAG_W,ALKALI,ALKALI_FLAG_W,MCHFRM,MCHFRM_FLAG_W,THETA,CTDRAW
,,,,,,,,,,,,DBAR,ITS-90,PSS-78,,PSS-78,,UMOL/KG,,UMOL/KG,,UMOL/KG,,UMOL/KG,,UMOL/KG,,PMOL/KG,,PMOL/KG,,PMOL/KG,,PMOL/KG,,UMOL/KG,,UMOL/KG,,PMOL/KG,,DEG C,
   18HU97009_1,  AR13,    21,  3, 186277,   OC81,2,19970514,0741, 50.3483, -49.4937, 1527,      4.6,   1.3740,  33.3353,2,  33.3369,2,    360.7,2,    353.1,2,    10.53,6,     7.48,6,     0.75,6,    6.243,2,    3.156,2,    0.390,2,    9.360,2,   2100.2,2,   2222.1,2, 379.845,4,  1.3738,      5
   18HU97009_1,  AR13,    21,  3, 186276,   OC69,2,19970514,0741, 50.3483, -49.4937, 1527,     10.2,   1.3698,  33.3383,2,  33.3369,2,    360.9,2,    353.5,2,    10.35,6,     7.41,6,     0.75,6,    6.195,2,    3.136,2,    0.380,2,    9.536,2,   2102.7,2,   2222.6,2, 331.552,4,  1.3693,     10
   18HU97009_1,  AR13,    21,  3, 186275,   OC52,2,19970514,0741, 50.3483, -49.4937, 1527,     19.0,   1.2262,  33.4140,2,  33.4160,2,    359.2,2,    360.7,2,     8.08,6,     5.88,6,     0.64,6,    6.146,2,    3.165,2,    0.409,2,    9.856,3,   2088.7,2,   2226.5,2, 248.550,4,  1.2254,     19
   18HU97009_1,  AR13,    21,  3, 186274,   OC51,2,19970514,0741, 50.3483, -49.4937, 1527,     29.7,   0.9263,  33.5398,2,  33.5612,2,    350.0,2,    339.4,2,    10.48,6,     9.34,6,     0.83,6,    5.862,2,    3.019,2,    0.390,2,    9.544,2,   2111.9,2,   2225.2,2, 320.428,4,  0.9251,     30
   18HU97009_1,  AR13,    21,  3, 186273,   OC56,2,19970514,0741, 50.3483, -49.4937, 1527,     39.0,   1.0310,  33.8413,2,  33.8382,2,    336.1,2,    324.8,2,    10.45,6,    11.27,6,     0.89,6,    5.501,2,    2.853,2,    0.370,2,    9.220,2,   2125.3,2,   2238.7,2, 255.707,4,  1.0293,     39
   18HU97009_1,  AR13,    21,  3, 186272,   OC49,2,19970514,0741, 50.3483, -49.4937, 1527,     49.8,   1.2353,  34.0120,2,  33.9968,2,    327.5,2,    314.7,2,    10.46,6,    12.49,6,     0.91,6, -999.000,5, -999.000,5, -999.000,5, -999.000,5,   2122.6,2,   2237.9,2,-999.000,5,  1.2331,     50
   18HU97009_1,  AR13,    21,  3, 186271,   OC82,2,19970514,0741, 50.3483, -49.4937, 1527,     59.4,   1.4608,  34.1052,2,  34.1052,2,    323.5,2,    310.7,2,    10.10,6,    13.18,6,     0.92,6,    5.120,2,    2.667,2,    0.321,2,    8.167,2,   2128.8,2,   2244.1,2, 252.274,4,  1.4581,     59
   18HU97009_1,  AR13,    21,  3, 186270,   OC83,2,19970514,0741, 50.3483, -49.4937, 1527,     69.8,   1.8109,  34.2422,2,  34.2475,2,    315.8,2,    302.1,2,     9.98,6,    13.71,6,     0.93,6,    4.886,2,    2.589,2,    0.311,2,    8.585,2,   2132.7,2,   2249.2,2, 199.177,4,  1.8074,     70
   18HU97009_1,  AR13,    21,  3, 186269,   OC94,2,19970514,0741, 50.3483, -49.4937, 1527,     79.9,   2.2961,  34.3652,2,  34.3629,2,    314.4,2,    302.1,2,     9.63,6,    13.62,6,     0.92,6,    4.847,2,    2.521,2,    0.311,2,    8.010,2,   2133.3,2,   2255.8,2, 143.230,4,  2.2918,     80
   18HU97009_1,  AR13,    21,  3, 186268,   OC85,2,19970514,0741, 50.3483, -49.4937, 1527,     89.3,   2.5416,  34.4458,2,  34.4430,2,    315.5,2,    303.7,2,     9.44,6,    14.17,6,     0.93,6,    4.847,2,    2.589,2,    0.321,2,    7.007,3,   2133.9,2,   2259.5,2, 229.395,4,  2.5365,     89
   18HU97009_1,  AR13,    21,  3, 186267,   OC86,2,19970514,0741, 50.3483, -49.4937, 1527,    100.2,   2.7151,  34.4917,2,  34.4981,2,    318.0,2,    308.1,2,     9.30,6,    14.06,6,     0.92,6,    4.925,2,    2.647,2,    0.341,2,    7.406,3,   2132.9,2,   2262.0,6, 206.364,4,  2.7093,    100
   18HU97009_1,  AR13,    21,  3, 186266,   OC87,2,19970514,0741, 50.3483, -49.4937, 1527,    125.9,   3.1132,  34.6069,2,  34.6061,6,    306.6,2,    296.0,2,     9.28,6,    14.98,6,     0.94,6,    4.593,2,    2.394,2,    0.292,2,    6.491,2,   2138.8,6,   2260.4,2, 129.277,4,  3.1053,    126
   18HU97009_1,  AR13,    21,  3, 186265,   OC88,2,19970514,0741, 50.3483, -49.4937, 1527,    149.0,   3.1950,  34.6561,2,  34.6550,2,    305.7,2,    295.8,2,     9.21,6,    15.20,6,     0.93,6,    4.564,2,    2.443,2,    0.302,2,    6.199,2,   2141.7,2,   2262.3,2, 255.257,4,  3.1857,    149
   18HU97009_1,  AR13,    21,  3, 186264,   OC36,2,19970514,0741, 50.3483, -49.4937, 1527,    199.9,   3.4260,  34.7297,2,  34.7306,2,    303.0,2,    293.0,2,     9.21,6,    15.69,6,     0.95,6,    4.457,2,    2.335,2,    0.311,2,    6.520,2,   2144.9,2,   2267.3,2, 170.772,4,  3.4129,    200
   18HU97009_1,  AR13,    21,  3, 186263,   OC84,2,19970514,0741, 50.3483, -49.4937, 1527,    299.8,   3.3443,  34.7783,2,  34.7794,2,    304.3,2,    294.3,2,     8.99,6,    15.88,6,     0.96,6,    4.398,6,    2.309,6,    0.328,6,    6.481,6,   2146.1,2,   2266.1,2, 133.197,4,  3.3246,    300
   18HU97009_1,  AR13,    21,  3, 186262,   OC90,2,19970514,0741, 50.3483, -49.4937, 1527,    401.4,   3.3257,  34.8052,2,  34.8077,2,    303.8,2,    294.1,2,     8.98,6,    15.73,6,     0.97,6,    4.233,2,    2.316,2,    0.292,2,    6.227,2,   2147.5,2,   2269.0,2,  49.635,4,  3.2991,    401
   18HU97009_1,  AR13,    21,  3, 186261,   OC91,2,19970514,0741, 50.3483, -49.4937, 1527,    599.7,   3.2555,  34.8317,2,  34.8321,2,    303.5,2,    292.9,2,     9.18,6,    15.98,6,     1.02,3,    4.184,2,    2.238,2,    0.263,2,    6.529,2,   -999.0,5,   2269.7,2, 179.463,4,  3.2151,    600
   18HU97009_1,  AR13,    21,  3, 186260,   OC64,2,19970514,0741, 50.3483, -49.4937, 1527,    799.6,   3.1665,  34.8345,2,  34.8346,2,    305.4,2,    294.4,6,     9.14,6,    16.18,6,     1.00,6,    4.135,2,    2.189,2,    0.272,2,    6.295,2,   2150.8,2,   2270.4,2, 159.544,4,  3.1120,    800
   18HU97009_1,  AR13,    21,  3, 186259,   OC92,2,19970514,0741, 50.3483, -49.4937, 1527,    998.9,   3.1814,  34.8557,2,  34.8562,2,    303.9,2,    290.8,2,     9.52,6,    16.33,6,     1.02,6,    3.990,2,    2.060,2, -999.000,5,    7.160,3,   2152.8,2,   2271.4,2, 166.930,4,  3.1116,    999
   18HU97009_1,  AR13,    21,  3, 186258,   OC58,2,19970514,0741, 50.3483, -49.4937, 1527,   1200.0,   3.1211,  34.8590,2,  34.8592,2,    306.4,2,    291.9,2,     9.57,6,    16.67,6,     1.01,6,    3.727,2,    1.995,2,    0.224,3,    5.887,2,   2149.9,2,   2274.3,2, 175.934,4,  3.0359,   1200
   18HU97009_1,  AR13,    21,  3, 186257,   OC93,2,19970514,0741, 50.3483, -49.4937, 1527,   1449.6,   3.0064,  34.8565,2,  34.8566,2,    311.7,2,    293.8,2,     9.58,6,    16.64,6,     1.01,6,    3.678,2,    1.946,2,    0.224,3,    5.283,3,   2152.0,2,   2270.9,2, 148.475,4,  2.9020,   1450
   18HU97009_1,  AR13,    21,  3, 186256,   OC66,2,19970514,0741, 50.3483, -49.4937, 1527,   1510.4,   2.9657,  34.8576,2,  34.8580,2,    312.6,2,    292.9,2,     9.84,6,    16.57,6,     1.01,6,    3.610,2,    1.790,2,    0.243,3,    6.752,2,   2151.2,2,   2284.2,3, 133.841,4,  2.8567,   1510
   18HU97009_1,  AR13,    22,  4, 186287,   OC88,2,19970514,1235, 50.5918, -49.0042, 2202,      4.0,   3.1306,  33.9774,2,-999.0000,9,    311.4,2,   -999.0,9,  -999.00,9,  -999.00,9,  -999.00,9, -999.000,9, -999.000,9, -999.000,9, -999.000,9,   -999.0,9,   -999.0,9,-999.000,9,  3.1304,      4
   18HU97009_1,  AR13,    22,  4, 186292,   OC83,2,19970514,1235, 50.5918, -49.0042, 2202,      4.1,   3.1297,  33.9786,2,-999.0000,9,    311.5,2,   -999.0,9,  -999.00,9,  -999.00,9,  -999.00,9, -999.000,9, -999.000,9, -999.000,9, -999.000,9,   -999.0,9,   -999.0,9,-999.000,9,  3.1295,      4
   18HU97009_1,  AR13,    22,  4, 186289,   OC86,2,19970514,1235, 50.5918, -49.0042, 2202,      4.2,   3.1295,  33.9778,2,-999.0000,9,    311.4,2,   -999.0,9,  -999.00,9,  -999.00,9,  -999.00,9, -999.000,9, -999.000,9, -999.000,9, -999.000,9,   -999.0,9,   -999.0,9,-999.000,9,  3.1293,      4
   18HU97009_1,  AR13,    22,  4, 186291,   OC94,2,19970514,1235, 50.5918, -49.0042, 2202,      4.2,   3.1303,  33.9782,2,-999.0000,9,    311.4,2,   -999.0,9,  -999.00,9,  -999.00,9,  -999.00,9, -999.000,9, -999.000,9, -999.000,9, -999.000,9,   -999.0,9,   -999.0,9,-999.000,9,  3.1301,      4
   18HU97009_1,  AR13,    22,  4, 186286,   OC36,2,19970514,1235, 50.5918, -49.0042, 2202,      4.3,   3.1295,  33.9777,2,-999.0000,9,    311.3,2,   -999.0,9,  -999.00,9,  -999.00,9,  -999.00,9, -999.000,9, -999.000,9, -999.000,9, -999.000,9,   -999.0,9,   -999.0,9,-999.000,9,  3.1293,      4
   18HU97009_1,  AR13,    22,  4, 186293,   OC82,2,19970514,1235, 50.5918, -49.0042, 2202,      4.4,   3.1352,  33.9783,2,-999.0000,9,    311.7,2,   -999.0,9,  -999.00,9,  -999.00,9,  -999.00,9, -999.000,9, -999.000,9, -999.000,9, -999.000,9,   -999.0,9,   -999.0,9,-999.000,9,  3.1350,      4
   18HU97009_1,  AR13,    22,  4, 186288,   OC87,2,19970514,1235, 50.5918, -49.0042, 2202,      4.5,   3.1303,  33.9775,2,-999.0000,9,    311.4,2,   -999.0,9,  -999.00,9,  -999.00,9,  -999.00,9, -999.000,9, -999.000,9, -999.000,9, -999.000,9,   -999.0,9,   -999.0,9,-999.000,9,  3.1301,      5
   18HU97009_1,  AR13,    22,  4, 186290,   OC85,2,19970514,1235, 50.5918, -49.0042, 2202,      4.6,   3.1286,  33.9782,2,-999.0000,9,    311.5,2,   -999.0,9,  -999.00,9,  -999.00,9,  -999.00,9, -999.000,9, -999.000,9, -999.000,9, -999.000,9,   -999.0,9,   -999.0,9,-999.000,9,  3.1284,      5
   18HU97009_1,  AR13,    22,  4, 186312,   OC51,2,19970514,1235, 50.5918, -49.0042, 2202,      4.7,   3.1173,  33.9716,2,  33.9729,2,    322.7,2,    339.1,2,     9.62,6,     9.73,6,     0.78,6,    5.590,2,    3.220,2, -999.000,5,    8.130,2,   2106.5,3,   2245.5,2,   0.000,2,  3.1170,      5
   18HU97009_1,  AR13,    22,  4, 186285,   OC84,2,19970514,1235, 50.5918, -49.0042, 2202,     10.1,   3.1329,  33.9790,2,-999.0000,9,    311.2,2,   -999.0,9,  -999.00,9,  -999.00,9,  -999.00,9, -999.000,9, -999.000,9, -999.000,9, -999.000,9,   -999.0,9,   -999.0,9,-999.000,9,  3.1323,     10
   18HU97009_1,  AR13,    22,  4, 186311,   OC56,3,19970514,1235, 50.5918, -49.0042, 2202,     11.5,   3.2123,  34.0596,2,  34.1066,2,    327.2,2,    341.7,2,     9.10,6,     9.53,6,     0.74,6,    5.480,2,    3.040,2, -999.000,5,    8.720,2,   2105.5,3,   2254.8,2,  78.670,3,  3.2116,     12
   18HU97009_1,  AR13,    22,  4, 186310,   OC49,3,19970514,1235, 50.5918, -49.0042, 2202,     26.3,   3.4668,  34.5067,2,  34.4966,2,    314.1,2,    330.2,2,     8.73,6,    12.09,6,     0.79,6,    5.042,2,    2.910,2,    0.409,3,    8.390,2,   2119.3,2,   2264.0,2,   0.000,2,  3.4651,     26
   18HU97009_1,  AR13,    22,  4, 186284,   OC90,2,19970514,1235, 50.5918, -49.0042, 2202,     26.9,   3.5557,  34.3293,2,-999.0000,9,    311.9,2,   -999.0,9,  -999.00,9,  -999.00,9,  -999.00,9, -999.000,9, -999.000,9, -999.000,9, -999.000,9,   -999.0,9,   -999.0,9,-999.000,9,  3.5540,     27
   18HU97009_1,  AR13,    22,  4, 186283,   OC91,2,19970514,1235, 50.5918, -49.0042, 2202,     36.6,   3.1583,  34.4932,2,-999.0000,9,    299.3,2,   -999.0,9,  -999.00,9,  -999.00,9,  -999.00,9, -999.000,9, -999.000,9, -999.000,9, -999.000,9,   -999.0,9,   -999.0,9,-999.000,9,  3.1561,     37
   18HU97009_1,  AR13,    22,  4, 186309,   OC82,2,19970514,1235, 50.5918, -49.0042, 2202,     51.5,   2.9321,  34.5914,2,  34.5919,2,    299.0,2,    313.2,2,     8.97,6,    14.90,6,     0.92,6,    4.915,2,    2.754,2,    0.253,2,    8.126,2,   2135.8,2,   2260.9,2, 154.657,4,  2.9290,     52
   18HU97009_1,  AR13,    22,  4, 186282,   OC64,2,19970514,1235, 50.5918, -49.0042, 2202,     56.8,   2.9419,  34.5887,2,-999.0000,9,    287.3,2,   -999.0,9,  -999.00,9,  -999.00,9,  -999.00,9, -999.000,9, -999.000,9, -999.000,9, -999.000,9,   -999.0,9,   -999.0,9,-999.000,9,  2.9385,     57
   18HU97009_1,  AR13,    22,  4, 186281,   OC92,2,19970514,1235, 50.5918, -49.0042, 2202,     82.1,   3.0493,  34.6538,2,-999.0000,9,    282.0,2,   -999.0,9,  -999.00,9,  -999.00,9,  -999.00,9, -999.000,9, -999.000,9, -999.000,9, -999.000,9,   -999.0,9,   -999.0,9,-999.000,9,  3.0442,     82
   18HU97009_1,  AR13,    22,  4, 186308,   OC83,2,19970514,1235, 50.5918, -49.0042, 2202,    102.2,   3.1508,  34.7121,2,  34.7107,2,    287.1,2,    300.5,2,     8.87,6,    15.48,6,     0.96,6,    4.720,2,    2.770,2, -999.000,5,    7.240,2,   2141.1,2,   2268.7,2,   0.000,3,  3.1445,    102
   18HU97009_1,  AR13,    22,  4, 186280,   OC58,2,19970514,1235, 50.5918, -49.0042, 2202,    106.6,   3.0602,  34.6900,2,-999.0000,9,    278.3,2,   -999.0,9,  -999.00,9,  -999.00,9,  -999.00,9, -999.000,9, -999.000,9, -999.000,9, -999.000,9,   -999.0,9,   -999.0,9,-999.000,9,  3.0536,    107
   18HU97009_1,  AR13,    22,  4, 186307,   OC94,2,19970514,1235, 50.5918, -49.0042, 2202,    152.2,   3.1272,  34.7599,2,  34.7596,2,    285.2,2,    298.7,2,     8.86,6,    16.08,6,     0.97,6,    4.620,2,    2.610,2, -999.000,5,    8.110,2,   2144.9,2,   2268.6,2, 172.270,3,  3.1177,    152
   18HU97009_1,  AR13,    22,  4, 186279,   OC93,2,19970514,1235, 50.5918, -49.0042, 2202,    157.1,   3.0997,  34.7507,2,-999.0000,9,    274.4,2,   -999.0,9,  -999.00,9,  -999.00,9,  -999.00,9, -999.000,9, -999.000,9, -999.000,9, -999.000,9,   -999.0,9,   -999.0,9,-999.000,9,  3.0899,    157
   18HU97009_1,  AR13,    22,  4, 186306,   OC85,2,19970514,1235, 50.5918, -49.0042, 2202,    202.6,   3.1481,  34.7804,2,  34.7796,2,    284.6,2,    298.2,2,     9.01,6,    16.12,6,     0.98,6,    4.408,2,    2.510,2,    0.272,2,    7.492,2,   2144.2,2,   2274.5,2, 112.922,4,  3.1353,    203
   18HU97009_1,  AR13,    22,  4, 186278,   OC66,2,19970514,1235, 50.5918, -49.0042, 2202,    207.9,   3.1823,  34.7810,2,-999.0000,9,    273.3,2,   -999.0,9,  -999.00,9,  -999.00,9,  -999.00,9, -999.000,9, -999.000,9, -999.000,9, -999.000,9,   -999.0,9,   -999.0,9,-999.000,9,  3.1691,    208
   18HU97009_1,  AR13,    22,  4, 186305,   OC86,2,19970514,1235, 50.5918, -49.0042, 2202,    302.7,   3.1506,  34.8059,2,  34.8054,2,    284.2,2,    297.7,2,     8.94,6,    16.05,6,     0.98,6,    4.410,2,    2.510,2, -999.000,5,    6.830,3,   2145.2,2,   2274.5,2,   0.000,3,  3.1312,    303
   18HU97009_1,  AR13,    22,  4, 186304,   OC87,2,19970514,1235, 50.5918, -49.0042, 2202,    402.4,   3.1539,  34.8240,2,  34.8234,2,    281.9,2,    295.1,2,     8.95,6,    16.27,6,     0.99,6,    4.242,2,    2.345,2,    0.263,2,    7.220,2,   2145.9,2,   2273.3,2, 103.558,4,  3.1278,    402
   18HU97009_1,  AR13,    22,  4, 186303,   OC88,2,19970514,1235, 50.5918, -49.0042, 2202,    603.1,   3.1324,  34.8366,2,  34.8362,2,    281.8,2,    294.3,2,     9.12,6,    16.37,6,     1.00,6,    4.116,6,    2.235,6,    0.201,6,    6.928,2,   2148.3,2,   2294.5,2, 230.952,3,  3.0924,    603
   18HU97009_1,  AR13,    22,  4, 186302,   OC36,2,19970514,1235, 50.5918, -49.0042, 2202,    805.6,   3.0287,  34.8357,2,  34.8362,2,    284.2,2,    296.0,2,     9.17,6,    16.57,6,     0.99,6,    4.230,2,    2.430,2, -999.000,5,    6.830,2,   2150.5,2,   2271.6,2,  60.530,4,  2.9746,    806
   18HU97009_1,  AR13,    22,  4, 186301,   OC84,2,19970514,1235, 50.5918, -49.0042, 2202,   1005.9,   3.0025,  34.8424,2,  34.8431,2,    283.8,2,    294.7,6,     9.53,6,    16.96,6,     1.00,6,    4.090,2,    2.250,2, -999.000,5,    7.410,3,   2149.3,2,   2280.8,2, 228.390,3,  2.9335,   1006
   18HU97009_1,  AR13,    22,  4, 186300,   OC90,2,19970514,1235, 50.5918, -49.0042, 2202,   1208.9,   2.9975,  34.8515,2,  34.8519,2,    284.0,2,    293.9,2,     9.90,6,    16.84,6,     1.01,6,    3.726,2,    2.102,2,    0.165,2,    6.509,2,   2148.4,2,   2273.0,2,  71.864,4,  2.9127,   1209
   18HU97009_1,  AR13,    22,  4, 186299,   OC91,2,19970514,1235, 50.5918, -49.0042, 2202,   1411.6,   2.9367,  34.8516,2,  34.8527,2,    286.1,2,    294.4,2,     9.89,6,    16.88,6,     0.99,2,    3.650,2,    1.910,2, -999.000,5,    6.740,2,   2148.8,2,   2272.6,2,  46.260,4,  2.8362,   1412
   18HU97009_1,  AR13,    22,  4, 186298,   OC64,3,19970514,1235, 50.5918, -49.0042, 2202,   1611.3,   2.9256,  34.8553,2,  34.8560,6,    286.2,2,    293.4,2,    10.05,6,    16.94,6,     1.01,2,    3.366,2,    1.819,2,    0.175,2,    5.828,2,   2148.5,6,   2275.7,2,  77.788,3,  2.8086,   1611
   18HU97009_1,  AR13,    22,  4, 186297,   OC92,2,19970514,1235, 50.5918, -49.0042, 2202,   1813.7,   2.9816,  34.8806,2,  34.8800,2,    281.3,2,    286.9,2,    10.68,6,    16.56,6,     0.99,6,    2.792,2,    1.440,2,    0.136,2,    5.828,2,   2149.9,2,   2276.1,6,  45.865,4,  2.8462,   1814
   18HU97009_1,  AR13,    22,  4, 186296,   OC58,2,19970514,1235, 50.5918, -49.0042, 2202,   2016.9,   2.9393,  34.8906,2,  34.8908,2,    280.8,2,    284.7,2,    11.02,6,    16.35,6,     0.99,6,    2.680,2,    1.410,2, -999.000,5,    4.620,3,   2150.6,2,   2282.4,2,  37.590,2,  2.7863,   2017
   18HU97009_1,  AR13,    22,  4, 186295,   OC93,2,19970514,1235, 50.5918, -49.0042, 2202,   2153.8,   2.7960,  34.9000,2,  34.9004,2,    281.0,2,    283.3,2,    11.71,6,    16.31,6,     0.99,6,    2.374,2,    1.129,2,    0.126,2,    4.446,3,   2151.0,2,   2280.3,2,  43.460,4,  2.6327,   2154
   18HU97009_1,  AR13,    22,  4, 186294,   OC66,2,19970514,1235, 50.5918, -49.0042, 2202,   2185.2,   2.6696,  34.9024,2,  34.9022,2,    281.7,2,    282.3,2,    11.93,6,    16.24,6,     0.98,6,    2.296,2,    1.304,2,    0.058,3,    4.145,3,   2151.3,2,   2279.5,2,  34.266,2,  2.5054,   2185