BOTTLE,20020708WHPSIOKJU
EXPOCODE,SECT_ID,STNNBR,CASTNO,SAMPNO,BTLNBR,BTLNBR_FLAG_W,DATE,TIME,LATITUDE,LONGITUDE,DEPTH,CTDPRS,CTDTMP,CTDSAL,CTDSAL_FLAG_W,SALNTY,SALNTY_FLAG_W,CTDOXY,CTDOXY_FLAG_W,OXYGEN,OXYGEN_FLAG_W,SILCAT,SILCAT_FLAG_W,NO2+NO3,NO2+NO3_FLAG_W,PHSPHT,PHSPHT_FLAG_W,CFC-11,CFC-11_FLAG_W,CFC-12,CFC-12_FLAG_W,CFC113,CFC113_FLAG_W,CCL4,CCL4_FLAG_W,TCARBN,TCARBN_FLAG_W,ALKALI,ALKALI_FLAG_W,MCHFRM,MCHFRM_FLAG_W,THETA,CTDRAW
,,,,,,,,,,,,DBAR,ITS-90,PSS-78,,PSS-78,,UMOL/KG,,UMOL/KG,,UMOL/KG,,UMOL/KG,,UMOL/KG,,PMOL/KG,,PMOL/KG,,PMOL/KG,,PMOL/KG,,UMOL/KG,,UMOL/KG,,PMOL/KG,,DEG C,
   18HU97009_1,  AR13,    34,  1, 186626,   OC80,2,19970517,2252, 54.9950, -43.9835, 3450,     12.2,   5.6595,  34.6964,2,  34.7015,2,    307.3,2,    320.4,2,     4.13,6,     8.86,6,     0.71,6,    4.711,2,    2.628,2,    0.331,2,    8.215,2,   -999.0,5,   2284.7,2,  44.717,4,  5.6585,     12
   18HU97009_1,  AR13,    34,  1, 186625,   OC55,2,19970517,2252, 54.9950, -43.9835, 3450,     29.6,   5.5150,  34.6960,2,  34.6978,2,    304.5,2,    316.7,2,     4.23,6,     8.90,6,     0.73,6,    4.750,2,    2.832,2,    0.302,2,    8.254,2,   2113.5,3,   2283.4,2,   0.000,3,  5.5126,     30
   18HU97009_1,  AR13,    34,  1, 186624,   OC81,2,19970517,2252, 54.9950, -43.9835, 3450,     51.4,   3.8568,  34.7122,2,  34.7133,2,    297.3,2,    307.4,2,     7.39,6,    12.65,6,     1.02,6,    4.700,2,    2.540,2,    0.263,2,    7.844,2,   2141.3,2,   2278.4,2,   0.000,3,  3.8533,     51
   18HU97009_1,  AR13,    34,  1, 186623,   OC69,2,19970517,2252, 54.9950, -43.9835, 3450,     76.8,   3.6160,  34.7287,2,  34.7282,2,    292.6,2,    300.4,2,     7.71,6,    12.75,6,     1.05,6,    4.506,2,    2.686,2,    0.253,2,    7.396,2,   2147.3,2,   2279.7,2,   0.000,3,  3.6110,     77
   18HU97009_1,  AR13,    34,  1, 186622,   OC52,2,19970517,2252, 54.9950, -43.9835, 3450,     96.8,   3.6005,  34.7326,2,  34.7320,2,    291.0,2,    298.8,2,     7.65,6,    12.54,6,     1.05,6,    4.525,2,    2.520,2,    0.234,2,    7.814,2,   2146.2,2,   2282.4,2,   0.000,3,  3.5942,     97
   18HU97009_1,  AR13,    34,  1, 186621,   OC51,2,19970517,2252, 54.9950, -43.9835, 3450,    137.9,   3.4241,  34.7426,2,  34.7426,2,    288.8,2,    297.0,2,     8.02,6,    12.83,6,     1.07,6,    4.418,2,    2.394,2,    0.243,2,    7.561,2,   2149.9,2,   2285.4,2,   0.000,3,  3.4151,    138
   18HU97009_1,  AR13,    34,  1, 186620,   OC56,2,19970517,2252, 54.9950, -43.9835, 3450,    188.5,   3.3815,  34.7557,2,  34.7318,2,    286.0,2,    293.2,2,     8.83,6,    15.01,6,     1.07,6,    4.321,2,    2.394,2,    0.234,2,    7.250,2,   2151.4,2,   2279.8,2,   0.000,3,  3.3692,    189
   18HU97009_1,  AR13,    34,  1, 186619,   OC61,2,19970517,2252, 54.9950, -43.9835, 3450,    282.2,   3.0656,  34.7545,2,  34.7542,2,    290.9,2,    296.8,2,     8.87,6,    15.80,6,     1.05,6,    4.427,2,    2.384,2,    0.224,2,    7.317,2,   2154.2,2,   2281.7,2,   0.000,3,  3.0477,    282
   18HU97009_1,  AR13,    34,  1, 186618,   OC82,2,19970517,2252, 54.9950, -43.9835, 3450,    397.0,   2.5700,  34.7237,2,  34.7237,2,    305.1,2,    311.7,2,     8.51,6,    15.43,6,     1.02,6,    4.904,3,    2.715,3,    0.272,3,    8.212,2,   2144.6,3,   2280.0,6,   0.000,3,  2.5461,    397
   18HU97009_1,  AR13,    34,  1, 186617,   OC83,2,19970517,2252, 54.9950, -43.9835, 3450,    599.2,   3.3964,  34.8665,2,  34.8661,2,    271.6,2,    279.8,2,    10.17,6,    16.99,6,     1.10,6,    3.444,2,    1.781,2,    0.165,2,    6.762,2,   2155.7,2,   2079.3,2,   0.000,3,  3.3553,    599
   18HU97009_1,  AR13,    34,  1, 186616,   OC94,2,19970517,2252, 54.9950, -43.9835, 3450,    799.6,   3.2607,  34.8682,2,  34.8681,2,    276.0,2,    284.0,2,    10.21,6,    16.94,6,     1.09,6,    3.230,2,    1.654,2,    0.156,2,    5.449,3,   2155.6,2,   2286.4,2,   0.000,3,  3.2055,    800
   18HU97009_1,  AR13,    34,  1, 186615,   OC85,2,19970517,2252, 54.9950, -43.9835, 3450,    998.3,   3.1540,  34.8655,2,  34.8655,2,    279.4,2,    287.3,6,    10.15,6,    16.42,6,     1.08,6,    3.230,2,    1.742,2,    0.146,2,    6.169,2,   2153.0,2,   2289.2,2,  41.001,4,  3.0845,    998
   18HU97009_1,  AR13,    34,  1, 186614,   OC86,2,19970517,2252, 54.9950, -43.9835, 3450,   1201.4,   3.0503,  34.8577,2,  34.8579,2,    283.1,2,    291.2,2,     9.91,6,    16.37,6,     1.06,6,    3.366,2,    1.742,2,    0.156,2,    6.295,2,   2154.3,2,   2287.8,2,   0.000,3,  2.9656,   1201
   18HU97009_1,  AR13,    34,  1, 186613,   OC87,2,19970517,2252, 54.9950, -43.9835, 3450,   1399.8,   3.0012,  34.8553,2,  34.8555,2,    285.0,2,    293.0,2,     9.83,6,    15.64,6,     1.07,6,    3.415,2,    1.819,2,    0.146,2,    5.634,3,   2152.5,2,   2286.6,2,   0.000,3,  2.9010,   1400
   18HU97009_1,  AR13,    34,  1, 186612,   OC88,2,19970517,2252, 54.9950, -43.9835, 3450,   1596.1,   2.9488,  34.8523,2,  34.8514,2,    287.2,2,    295.2,2,     9.68,6,    16.52,6,     1.06,6,    3.640,2,    1.960,2, -999.000,5,    6.410,2,   2151.6,2,   2286.6,2,   0.000,3,  2.8328,   1596
   18HU97009_1,  AR13,    34,  1, 186611,   OC36,2,19970517,2252, 54.9950, -43.9835, 3450,   1797.3,   2.9764,  34.8608,2,  34.8610,2,    284.8,2,    293.0,2,     9.88,6,    16.25,6,     1.06,6,    3.259,2,    1.683,2,    0.156,2,    4.991,2,   2151.3,6,   2288.4,2,  44.202,4,  2.8426,   1797
   18HU97009_1,  AR13,    34,  1, 186610,   OC84,2,19970517,2252, 54.9950, -43.9835, 3450,   1999.0,   3.0774,  34.8878,2,  34.8889,2,    277.6,2,    285.1,2,    10.52,6,    16.51,6,     1.05,6,    2.588,2,    1.440,2,    0.000,2,    4.320,2,   2150.8,2,   2291.9,2,   0.000,3,  2.9239,   1999
   18HU97009_1,  AR13,    34,  1, 186609,   OC90,2,19970517,2252, 54.9950, -43.9835, 3450,   2180.5,   3.1119,  34.9086,2,  34.9074,2,    273.0,2,    280.5,2,    11.23,6,    16.49,6,     1.06,6,    2.170,2,    1.220,2, -999.000,5,    4.480,3,   2151.6,2,   2293.0,2,  45.850,4,  2.9409,   2181
   18HU97009_1,  AR13,    34,  1, 186608,   OC91,2,19970517,2252, 54.9950, -43.9835, 3450,   2479.9,   3.0304,  34.9246,2,  34.9255,2,    270.1,2,    276.6,2,    12.47,6,    16.51,6,     1.07,6,    1.634,2,    0.856,2,    0.000,2,    3.055,2,   2153.0,2,   2290.9,2,  39.179,2,  2.8319,   2480
   18HU97009_1,  AR13,    34,  1, 186607,   OC64,2,19970517,2252, 54.9950, -43.9835, 3450,   2748.8,   2.9579,  34.9390,2,  34.9390,2,    269.2,2,    274.2,2,    13.26,6,    16.28,6,     1.05,6,    1.508,6,    0.733,6,    0.000,6,    3.152,6,   2155.9,2,   2295.7,2,  -0.486,3,  2.7339,   2749
   18HU97009_1,  AR13,    34,  1, 186606,   OC92,2,19970517,2252, 54.9950, -43.9835, 3450,   2927.7,   2.8365,  34.9358,2,  34.9358,6,    269.9,2,    274.3,2,    13.75,6,    16.34,6,     1.05,6,    1.530,2,    0.900,2, -999.000,5,    3.660,3,   2156.5,2,   2299.3,2,  44.800,4,  2.5968,   2928
   18HU97009_1,  AR13,    34,  1, 186605,   OC58,2,19970517,2252, 54.9950, -43.9835, 3450,   3148.1,   2.6381,  34.9241,2,  34.9235,2,    273.0,2,    276.0,2,    14.42,6,    16.24,6,     1.05,6,    1.570,2,    0.950,2, -999.000,5,    3.390,2,   2155.7,2,   2297.7,2,   0.000,3,  2.3798,   3148
   18HU97009_1,  AR13,    34,  1, 186604,   OC93,2,19970517,2252, 54.9950, -43.9835, 3450,   3329.7,   2.4704,  34.9131,2,  34.9133,2,    276.6,2,    278.6,2,    14.42,6,    16.35,6,     1.06,6,    1.683,2,    0.953,2,    0.000,2,    3.872,2,   2158.4,2,   2298.1,2,  39.100,2,  2.1970,   3330
   18HU97009_1,  AR13,    34,  1, 186603,   OC66,2,19970517,2252, 54.9950, -43.9835, 3450,   3467.8,   2.3744,  34.9072,2,  34.9072,2,    278.1,2,    280.5,2,    14.70,6,    15.88,6,     1.04,6,    1.839,2,    0.885,2,    0.000,2,    4.290,2,   2156.1,2,   2297.3,2,  34.294,2,  2.0886,   3468
   18HU97009_1,  AR27,    35,  3, 186650,   OC80,2,19970518,0459, 55.4963, -43.9907, 3337,     11.8,   5.2449,  34.6966,2,  34.6974,2,    311.2,2,    322.3,2,     4.51,4,     9.73,3,     0.64,3,    4.890,2,    2.770,2, -999.000,5,    7.480,3,   2111.6,2,   2288.6,2,  31.750,3,  5.2440,     12
   18HU97009_1,  AR27,    35,  3, 186649,   OC55,2,19970518,0459, 55.4963, -43.9907, 3337,     29.6,   5.0670,  34.6968,2,  34.6972,2,    307.8,2,    320.5,2,     3.54,3,     9.84,3,     0.65,3,    4.820,2,    2.700,2, -999.000,5,    8.840,3,   2115.5,2,   2290.7,2,   0.000,3,  5.0647,     30
   18HU97009_1,  AR27,    35,  3, 186648,   OC81,2,19970518,0459, 55.4963, -43.9907, 3337,     49.2,   4.9528,  34.6942,2,  34.6956,2,    306.1,2,    317.4,2,     4.33,3,    10.40,3,     0.68,3,    4.930,2,    2.780,2, -999.000,5,    8.330,3,   2116.3,2,   2289.5,2,  35.660,3,  4.9491,     49
   18HU97009_1,  AR27,    35,  3, 186647,   OC69,2,19970518,0459, 55.4963, -43.9907, 3337,     75.0,   2.8930,  34.6895,2,  34.6909,2,    312.2,2,    321.3,2,     8.21,3,    14.54,3,     0.93,3,    5.360,2,    2.930,2, -999.000,5,    7.640,3,   2141.4,2,   2283.5,2,   0.000,3,  2.8885,     75
   18HU97009_1,  AR27,    35,  3, 186646,   OC52,2,19970518,0459, 55.4963, -43.9907, 3337,     98.8,   2.6423,  34.7107,2,  34.7106,2,    306.8,2,    315.5,2,     8.30,3,    15.24,3,     0.96,3,    5.170,2,    2.920,2, -999.000,5,    8.230,3,   2143.7,2,   2283.3,2,  40.040,3,  2.6365,     99
   18HU97009_1,  AR27,    35,  3, 186645,   OC51,2,19970518,0459, 55.4963, -43.9907, 3337,    147.4,   2.5723,  34.7283,2,  34.7278,2,    303.6,2,    310.9,2,     8.44,3,    15.60,3,     0.98,3,    5.090,2,    2.930,2, -999.000,5,    8.330,3,   -999.0,5,   2284.5,2,  28.680,3,  2.5637,    147
   18HU97009_1,  AR27,    35,  3, 186644,   OC56,2,19970518,0459, 55.4963, -43.9907, 3337,    198.9,   2.8124,  34.7693,2,  34.7694,2,    294.3,2,    301.7,2,     8.91,3,    15.76,3,     1.02,3,    4.610,2,    2.560,2, -999.000,5,    6.820,3,   -999.0,5,   2288.5,2,   0.000,3,  2.8004,    199
   18HU97009_1,  AR27,    35,  3, 186643,   OC61,2,19970518,0459, 55.4963, -43.9907, 3337,    300.6,   3.0087,  34.8130,2,  34.8112,2,    287.6,2,    298.9,2,     9.30,3,    16.15,3,     1.03,3,    4.310,2,    2.370,2, -999.000,5,    7.240,3,   -999.0,5,   2287.3,2,  28.560,3,  2.9898,    301
   18HU97009_1,  AR27,    35,  3, 186642,   OC82,2,19970518,0459, 55.4963, -43.9907, 3337,    401.0,   3.1995,  34.8459,2,  34.8460,2,    278.4,2,    287.5,2,     9.90,3,    16.92,3,     1.07,3,    3.880,2,    2.000,2, -999.000,5,    6.750,3,   -999.0,5,   2285.1,2,  28.820,3,  3.1733,    401
   18HU97009_1,  AR27,    35,  3, 186641,   OC83,2,19970518,0459, 55.4963, -43.9907, 3337,    601.5,   3.1811,  34.8590,2,  34.8590,2,    276.6,2,    285.8,2,    10.12,3,    16.75,3,     1.07,3,    3.460,2,    1.770,2, -999.000,5,    5.240,2,   -999.0,5,   2287.6,2,   0.000,3,  3.1410,    602
   18HU97009_1,  AR27,    35,  3, 186640,   OC94,2,19970518,0459, 55.4963, -43.9907, 3337,    799.8,   3.0499,  34.8502,2,  34.8501,2,    282.0,2,    291.4,2,     9.92,3,    16.41,3,     1.06,3,    3.750,2,    1.940,2, -999.000,5,    6.710,3,   -999.0,5,   2279.3,2,  20.170,3,  2.9960,    800
   18HU97009_1,  AR27,    35,  3, 186639,   OC85,2,19970518,0459, 55.4963, -43.9907, 3337,   1000.2,   3.0073,  34.8509,2,  34.8511,2,    282.6,2,    292.6,2,    10.11,3,    16.10,3,     1.06,3,    3.600,2,    1.910,2, -999.000,5,    6.050,3,   -999.0,5,   2288.4,2,   0.000,3,  2.9387,   1000
   18HU97009_1,  AR27,    35,  3, 186638,   OC86,2,19970518,0459, 55.4963, -43.9907, 3337,   1197.8,   2.9673,  34.8507,2,  34.8511,2,    284.2,2,    293.9,2,     9.97,3,    16.04,3,     1.06,3,    3.510,2,    1.860,2, -999.000,5,    4.690,2,   2155.0,2,   -999.0,9,   0.000,3,  2.8837,   1198
   18HU97009_1,  AR27,    35,  3, 186637,   OC87,2,19970518,0459, 55.4963, -43.9907, 3337,   1400.8,   2.9465,  34.8507,2,  34.8509,2,    285.0,2,    294.4,2,     9.95,3,    15.46,3,     1.05,3,    3.580,2,    1.650,2, -999.000,5,    6.180,3,   -999.0,5,   2287.1,6,  21.570,3,  2.8468,   1401
   18HU97009_1,  AR27,    35,  3, 186636,   OC88,2,19970518,0459, 55.4963, -43.9907, 3337,   1598.3,   2.8969,  34.8457,2,  34.8454,2,    287.4,2,    296.5,2,     9.73,6,    15.42,6,     1.08,6,    3.720,2,    1.810,2, -999.000,5,    6.310,3,   2152.0,2,   2285.9,2,   0.000,3,  2.7813,   1598
   18HU97009_1,  AR27,    35,  3, 186635,   OC36,2,19970518,0459, 55.4963, -43.9907, 3337,   1799.7,   2.9261,  34.8535,2,  34.8537,2,    285.0,2,    294.7,2,     9.80,6,    15.20,6,     1.07,6,    3.370,2,    1.750,2, -999.000,5,    4.050,2,   2152.7,2,   2287.0,2,   0.000,3,  2.7928,   1800
   18HU97009_1,  AR27,    35,  3, 186634,   OC84,2,19970518,0459, 55.4963, -43.9907, 3337,   1999.5,   3.0673,  34.8885,2,  34.8886,2,    274.9,2,    284.8,2,    10.79,6,    15.43,6,     1.08,6,    2.560,2,    1.340,2, -999.000,5,    4.880,3,   2154.6,2,   2286.9,2,  16.410,2,  2.9139,   2000
   18HU97009_1,  AR27,    35,  3, 186633,   OC90,2,19970518,0459, 55.4963, -43.9907, 3337,   2199.7,   3.0926,  34.9111,2,  34.9111,6,    269.5,2,    278.9,6,    11.53,6,    15.34,6,     1.09,6,    1.910,2,    1.010,2, -999.000,5,    3.340,3,   -999.0,5,   2287.6,2,   0.000,3,  2.9201,   2200
   18HU97009_1,  AR27,    35,  3, 186632,   OC91,2,19970518,0459, 55.4963, -43.9907, 3337,   2399.1,   3.0091,  34.9239,2,  34.9255,2,    267.5,2,    276.1,2,    12.28,6,    15.40,6,     1.10,6,    1.580,2,    0.740,2, -999.000,5,    3.470,2,   2155.9,2,   2292.4,2,  15.840,2,  2.8189,   2399
   18HU97009_1,  AR27,    35,  3, 186631,   OC64,2,19970518,0459, 55.4963, -43.9907, 3337,   2589.5,   2.9287,  34.9288,2,  34.9299,2,    268.0,2,    275.4,2,    12.83,6,    15.13,6,     1.08,6,    1.490,2,    0.680,2, -999.000,5,    3.030,2,   2155.8,2,   2292.5,2,  16.710,2,  2.7213,   2590
   18HU97009_1,  AR27,    35,  3, 186630,   OC92,2,19970518,0459, 55.4963, -43.9907, 3337,   2749.6,   2.8208,  34.9292,2,  34.9295,2,    268.6,2,    275.4,2,    13.47,6,    15.21,6,     1.08,6,    1.450,2,    0.820,2, -999.000,5,    2.860,3,   2156.9,2,   2291.8,6,   0.000,3,  2.5996,   2750
   18HU97009_1,  AR27,    35,  3, 186629,   OC58,2,19970518,0459, 55.4963, -43.9907, 3337,   2999.1,   2.5804,  34.9199,2,  34.9202,2,    272.3,2,    276.9,2,    14.41,6,    14.82,6,     1.08,6,    1.496,6,    0.828,6,    0.000,2,    3.215,6,   2156.5,2,   2294.9,2,  12.720,2,  2.3389,   2999
   18HU97009_1,  AR27,    35,  3, 186628,   OC93,2,19970518,0459, 55.4963, -43.9907, 3337,   3199.5,   2.4259,  34.9112,2,  34.9122,2,    276.2,2,    278.6,2,    14.33,6,    14.66,6,     1.09,6,    1.620,2,    0.880,2, -999.000,5,    3.570,2,   2156.1,2,   2290.3,2,  15.550,2,  2.1672,   3200
   18HU97009_1,  AR27,    35,  3, 186627,   OC66,2,19970518,0459, 55.4963, -43.9907, 3337,   3355.3,   2.3429,  34.9063,2,  34.9067,2,    277.6,2,    279.7,2,    14.51,6,    14.41,6,     1.09,6,    1.870,2,    1.000,2, -999.000,5,    3.870,2,   2158.3,2,   2297.5,2,   0.000,3,  2.0699,   3355