BOTTLE,20020708WHPSIOKJU
EXPOCODE,SECT_ID,STNNBR,CASTNO,SAMPNO,BTLNBR,BTLNBR_FLAG_W,DATE,TIME,LATITUDE,LONGITUDE,DEPTH,CTDPRS,CTDTMP,CTDSAL,CTDSAL_FLAG_W,SALNTY,SALNTY_FLAG_W,CTDOXY,CTDOXY_FLAG_W,OXYGEN,OXYGEN_FLAG_W,SILCAT,SILCAT_FLAG_W,NO2+NO3,NO2+NO3_FLAG_W,PHSPHT,PHSPHT_FLAG_W,CFC-11,CFC-11_FLAG_W,CFC-12,CFC-12_FLAG_W,CFC113,CFC113_FLAG_W,CCL4,CCL4_FLAG_W,TCARBN,TCARBN_FLAG_W,ALKALI,ALKALI_FLAG_W,MCHFRM,MCHFRM_FLAG_W,THETA,CTDRAW
,,,,,,,,,,,,DBAR,ITS-90,PSS-78,,PSS-78,,UMOL/KG,,UMOL/KG,,UMOL/KG,,UMOL/KG,,UMOL/KG,,PMOL/KG,,PMOL/KG,,PMOL/KG,,PMOL/KG,,UMOL/KG,,UMOL/KG,,PMOL/KG,,DEG C,
   18HU97009_1,  AR27,   110,  3, 188111,   OC80,2,19970605,0640, 57.5755, -53.8892, 3401,      9.8,   4.9246,  34.7421,2,  34.7431,2,    330.8,2,    361.2,2,     4.55,6,     3.91,6,     0.57,6,    4.808,2,    2.725,2,    0.448,2,    7.484,2,   2065.9,2,   -999.0,5,  45.256,3,  4.9239,     10
   18HU97009_1,  AR27,   110,  3, 188110,   OC55,2,19970605,0640, 57.5755, -53.8892, 3401,     59.7,   3.9500,  34.7683,2,  34.7655,2,    290.8,2,    312.8,2,     7.71,6,    13.82,6,     1.05,6,    4.827,2,    2.773,2,    0.360,2,    8.320,2,   2137.2,2,   -999.0,5,  44.784,3,  3.9459,     60
   18HU97009_1,  AR27,   110,  3, 188109,   OC81,2,19970605,0640, 57.5755, -53.8892, 3401,    131.0,   3.7915,  34.8288,2,  34.8360,2,    283.0,2,    301.6,6,     8.18,6,    14.91,6,     1.04,6,    4.359,2,    2.442,2,    0.253,3,    7.473,2,   2146.2,2,   2300.7,2,  36.588,2,  3.7826,    131
   18HU97009_1,  AR27,   110,  3, 188108,   OC69,2,19970605,0640, 57.5755, -53.8892, 3401,    222.5,   3.4045,  34.8218,2,  34.8220,2,    281.3,2,    299.3,6,     8.65,6,    15.30,6,     1.04,6,    4.310,2,    2.520,2, -999.000,5,    6.530,2,   2145.7,2,   -999.0,4,  42.380,4,  3.3899,    223
   18HU97009_1,  AR27,   110,  3, 188107,   OC52,2,19970605,0640, 57.5755, -53.8892, 3401,    330.1,   3.2849,  34.8331,2,  34.8328,2,    281.5,2,    298.7,6,     8.34,6,    15.75,6,     1.07,6,    4.408,2,    2.491,2,    0.302,2,    8.280,2,   2148.2,2,   -999.0,5,  38.960,2,  3.2633,    330
   18HU97009_1,  AR27,   110,  3, 188106,   OC51,2,19970605,0640, 57.5755, -53.8892, 3401,    460.0,   3.2049,  34.8294,2,  34.8291,2,    284.5,2,    301.6,6,     8.18,6,    15.39,6,     1.04,6,    4.408,2,    2.471,2,    0.253,3,    7.794,2,   2147.4,2,   2293.0,2,  36.848,2,  3.1747,    460
   18HU97009_1,  AR27,   110,  3, 188105,   OC60,2,19970605,0640, 57.5755, -53.8892, 3401,    599.4,   3.2049,  34.8365,2,  34.8364,2,    282.9,2,    299.1,6,     8.52,6,    15.80,6,     1.08,6,    4.067,2,    2.316,2,    0.321,3,    5.926,2,   2149.2,2,   -999.0,5,  34.250,2,  3.1648,    599
   18HU97009_1,  AR27,   110,  3, 188104,   OC61,2,19970605,0640, 57.5755, -53.8892, 3401,    759.5,   3.1126,  34.8348,2,  34.8346,2,    284.0,2,    299.6,6,     8.82,6,    16.13,6,     1.04,6,    4.340,2,    2.433,2,    0.292,2,    8.601,2,   2147.2,2,   2291.5,2,  39.922,2,  3.0613,    760
   18HU97009_1,  AR27,   110,  3, 188103,   OC82,2,19970605,0640, 57.5755, -53.8892, 3401,    925.4,   3.0194,  34.8304,2,  34.8305,2,    284.2,2,    299.1,6,     8.88,6,    15.86,6,     1.04,6,    4.223,2,    2.287,2,    0.243,3,    7.969,2,   -999.0,5,   -999.0,5,  35.125,2,  2.9564,    925
   18HU97009_1,  AR27,   110,  3, 188102,   OC83,2,19970605,0640, 57.5755, -53.8892, 3401,   1098.2,   2.9572,  34.8294,2,  34.8301,2,    285.2,2,    299.2,6,     8.97,6,    16.15,6,     1.06,6,    4.090,2,    2.310,2, -999.000,5,    6.680,2,   2154.7,2,   -999.0,4,  34.560,3,  2.8815,   1098
   18HU97009_1,  AR27,   110,  3, 188101,   OC94,2,19970605,0640, 57.5755, -53.8892, 3401,   1289.9,   2.9605,  34.8357,2,  34.8360,2,    284.0,2,    297.8,6,     9.19,6,    16.09,6,     1.03,6,    4.096,2,    2.150,2,    0.263,2,    8.280,2,   2151.1,2,   -999.0,5,  35.874,2,  2.8697,   1290
   18HU97009_1,  AR27,   110,  3, 188100,   OC85,2,19970605,0640, 57.5755, -53.8892, 3401,   1489.2,   3.0597,  34.8577,2,  34.8574,2,    280.5,2,    292.9,6,     9.68,6,    16.27,6,     1.04,6,    3.707,2,    2.024,2,    0.243,2,    7.570,2,   2152.3,2,   -999.0,5,  30.872,3,  2.9513,   1489
   18HU97009_1,  AR27,   110,  3, 188099,   OC86,2,19970605,0640, 57.5755, -53.8892, 3401,   1691.8,   2.9556,  34.8477,2,  34.8484,2,    284.7,2,    296.4,6,     9.62,6,    16.35,6,     1.06,6,    3.619,2,    1.956,2,    0.224,2,    6.295,2,   2150.8,2,   2291.9,2,  38.393,2,  2.8313,   1692
   18HU97009_1,  AR27,   110,  3, 188098,   OC87,2,19970605,0640, 57.5755, -53.8892, 3401,   1890.6,   2.9062,  34.8444,2,  34.8464,6,    286.4,2,    296.2,6,     9.62,6,    16.49,6,     1.04,6,    3.707,2,    1.995,2,    0.204,2,    7.336,2,   2151.1,2,   2293.1,2,  30.678,3,  2.7652,   1891
   18HU97009_1,  AR27,   110,  3, 188097,   OC88,2,19970605,0640, 57.5755, -53.8892, 3401,   2089.9,   2.9346,  34.8530,2,  34.8535,6,    285.3,2,    296.4,6,     9.71,6,    16.48,6,     1.06,6,    3.396,2,    1.829,2,    0.234,3,    5.692,2,   2149.8,2,   -999.0,5,  35.679,2,  2.7751,   2090
   18HU97009_1,  AR27,   110,  3, 188096,   OC65,2,19970605,0640, 57.5755, -53.8892, 3401,   2291.6,   3.0321,  34.8797,2,  34.8764,2,    279.6,2,    288.3,6,    10.30,6,    16.57,6,     1.10,6,    2.880,2,    1.440,2,    0.146,2,    5.653,2,   2152.3,2,   2296.6,2,  23.030,3,  2.8520,   2292
   18HU97009_1,  AR27,   110,  3, 188095,   OC84,2,19970605,0640, 57.5755, -53.8892, 3401,   2473.5,   3.0264,  34.8887,2,  34.8881,6,    278.8,2,    286.6,6,    10.22,6,    15.65,6,     1.05,6,    2.919,6,    1.596,6,    0.092,6,    6.189,6,   2153.0,2,   -999.0,5,  28.351,6,  2.8288,   2474
   18HU97009_1,  AR27,   110,  3, 188094,   OC90,2,19970605,0640, 57.5755, -53.8892, 3401,   2644.9,   3.0143,  34.8994,2,  34.8996,6,    276.5,2,    283.5,6,    10.67,6,    15.71,6,     1.06,6,    2.393,2,    1.304,2,    0.000,2,    5.283,2,   2152.2,2,   -999.0,5,  21.113,2,  2.7999,   2645
   18HU97009_1,  AR27,   110,  3, 188093,   OC91,2,19970605,0640, 57.5755, -53.8892, 3401,   2812.6,   2.9119,  34.9063,2,  34.9062,6,    275.9,2,    282.8,6,    11.15,6,    15.59,6,     1.10,6,    2.277,2,    1.255,2,    0.000,2,    5.225,2,   2152.8,2,   -999.0,5,  20.042,2,  2.6825,   2813
   18HU97009_1,  AR27,   110,  3, 188092,   OC64,2,19970605,0640, 57.5755, -53.8892, 3401,   2960.8,   2.7494,  34.9093,2,  34.9084,6,    276.9,2,    281.7,6,    11.67,6,    15.58,6,     1.08,6,    2.082,2,    1.080,2,    0.000,2,    4.680,3,   2154.3,6,   1635.4,3,  17.240,2,  2.5083,   2961
   18HU97009_1,  AR27,   110,  3, 188091,   OC95,2,19970605,0640, 57.5755, -53.8892, 3401,   3099.7,   2.5476,  34.9083,2,  34.9085,2,    278.6,2,    282.5,6,    12.35,6,    15.41,6,     1.04,6,    2.014,2,    1.109,2,    0.000,2,    4.903,3,   2156.6,2,   -999.0,5,  19.068,2,  2.2965,   3100
   18HU97009_1,  AR27,   110,  3, 188090,   OC58,2,19970605,0640, 57.5755, -53.8892, 3401,   3231.7,   2.2625,  34.8995,2,  34.8989,6,    284.7,2,    286.7,6,    11.77,6,    14.87,6,     1.03,6,    2.471,2,    1.323,2,    0.146,3,    6.635,2,   2152.6,2,   -999.0,5,  21.559,2,  2.0043,   3232
   18HU97009_1,  AR27,   110,  3, 188089,   OC93,2,19970605,0640, 57.5755, -53.8892, 3401,   3323.5,   1.9884,  34.8896,2,  34.8896,2,    291.8,2,    292.6,6,    10.60,6,    14.52,6,     1.00,6,    2.899,2,    1.566,2,    0.195,3,    6.547,2,   2153.9,2,   2303.0,2,  24.944,2,  1.7273,   3324
   18HU97009_1,  AR27,   110,  3, 188088,   OC66,2,19970605,0640, 57.5755, -53.8892, 3401,   3423.5,   1.6873,  34.8865,2,  34.8861,6,    297.3,2,    296.4,6,    10.45,6,    13.90,6,     0.98,6,    3.327,2,    1.732,2,    0.165,2,    7.491,2,   2155.3,2,   -999.0,5,  27.911,3,  1.4232,   3424
   18HU97009_1,  AR27,   111,  3, 188135,   OC80,2,19970605,1211, 57.0618, -53.2737, 3419,      9.3,   4.9880,  34.6705,2,-999.0000,9,    308.1,2,   -999.0,9,  -999.00,9,  -999.00,9,  -999.00,9, -999.000,9, -999.000,9, -999.000,9, -999.000,9,   -999.0,9,   -999.0,9,-999.000,9,  4.9873,      9
   18HU97009_1,  AR27,   111,  3, 188134,   OC55,2,19970605,1211, 57.0618, -53.2737, 3419,     59.7,   3.8838,  34.7547,2,  34.7537,2,    294.9,2,    314.5,2,     5.45,6,    11.86,6,     0.79,6,    4.885,2,    2.657,2,    0.234,2,    9.352,2,   2133.3,2,   2299.3,2,  45.008,3,  3.8797,     60
   18HU97009_1,  AR27,   111,  3, 188133,   OC81,2,19970605,1211, 57.0618, -53.2737, 3419,    131.2,   3.8004,  34.8005,2,  34.8010,2,    291.7,2,    310.9,2,     7.53,6,    14.35,6,     0.93,6,    4.807,2,    2.637,2,    0.243,3,    8.758,2,   2140.5,2,   2299.7,2,  44.548,3,  3.7915,    131
   18HU97009_1,  AR27,   111,  3, 188132,   OC69,2,19970605,1211, 57.0618, -53.2737, 3419,    229.5,   3.6962,  34.8385,2,  34.8391,2,    281.9,2,    298.5,2,     8.13,6,    15.49,6,     0.97,6,    4.379,2,    2.296,2,    0.195,2,    8.271,2,   2144.4,2,   -999.0,5,  40.129,4,  3.6806,    230
   18HU97009_1,  AR27,   111,  3, 188131,   OC52,2,19970605,1211, 57.0618, -53.2737, 3419,    335.0,   3.4865,  34.8397,2,  34.8395,2,    282.4,2,    298.9,2,     8.26,6,    15.83,6,     0.98,6,    4.456,2,    2.481,2,    0.185,2,    8.524,2,   2148.3,2,   2262.0,2,  40.225,4,  3.4640,    335
   18HU97009_1,  AR27,   111,  3, 188130,   OC51,2,19970605,1211, 57.0618, -53.2737, 3419,    464.1,   3.3167,  34.8369,2,  34.8366,2,    284.6,2,    305.1,2,     8.28,6,    15.74,6,     0.98,6,    4.456,2,    2.413,2,    0.204,3,    8.203,2,   2148.9,2,   -999.0,5,  41.499,4,  3.2857,    464
   18HU97009_1,  AR27,   111,  3, 188129,   OC60,2,19970605,1211, 57.0618, -53.2737, 3419,    606.1,   3.1984,  34.8356,2,  34.8346,2,    285.2,2,    300.0,2,     8.40,6,    15.89,6,     0.99,6,    4.515,2,    2.452,2,    0.204,3,    8.543,2,   2147.1,2,   -999.0,5,  42.112,4,  3.1579,    606
   18HU97009_1,  AR27,   111,  3, 188128,   OC61,2,19970605,1211, 57.0618, -53.2737, 3419,    766.0,   3.1412,  34.8377,2,  34.8376,2,    284.8,2,    298.6,2,     8.53,6,    15.79,6,     0.99,6,    4.388,2,    2.394,2,    0.185,2,    8.475,2,   2149.3,2,   2295.6,2,  40.954,4,  3.0894,    766
   18HU97009_1,  AR27,   111,  3, 188127,   OC82,2,19970605,1211, 57.0618, -53.2737, 3419,    931.6,   3.0783,  34.8384,2,  34.8372,2,    284.6,2,    297.7,2,     8.78,6,    16.26,6,     1.03,6,    4.116,2,    2.257,2,    0.175,2,    8.241,2,   2150.8,2,   -999.0,5,  36.750,2,  3.0144,    932
   18HU97009_1,  AR27,   111,  3, 188126,   OC83,2,19970605,1211, 57.0618, -53.2737, 3419,   1104.3,   3.0302,  34.8389,2,  34.8385,2,    285.4,2,    297.6,2,     9.02,6,    16.49,6,     1.01,6,    4.213,2,    2.267,2,    0.175,2,    8.241,2,   2150.6,2,   -999.0,5,  39.280,2,  2.9534,   1104
   18HU97009_1,  AR27,   111,  3, 188125,   OC94,2,19970605,1211, 57.0618, -53.2737, 3419,   1249.2,   2.9626,  34.8329,2,  34.8321,2,    286.7,2,    298.6,2,     8.92,6,    16.23,6,     0.99,6,    4.281,2,    2.287,2,    0.165,2,    8.290,2,   2152.2,2,   2298.3,2,  39.377,2,  2.8750,   1249
   18HU97009_1,  AR27,   111,  3, 188124,   OC85,2,19970605,1211, 57.0618, -53.2737, 3419,   1401.6,   2.9610,  34.8361,2,  34.8354,2,    286.6,2,    297.9,2,     9.18,6,    16.43,6,     1.00,6,    4.106,2,    2.160,2,    0.175,3,    7.706,2,   2151.6,2,   -999.0,5,  37.547,2,  2.8611,   1402
   18HU97009_1,  AR27,   111,  3, 188123,   OC86,2,19970605,1211, 57.0618, -53.2737, 3419,   1549.9,   2.9826,  34.8429,2,  34.8425,2,    286.1,2,    296.5,2,     9.32,6,    16.45,6,     1.01,6,    4.090,2,    2.180,2,    0.170,2,    7.470,2,   2151.7,2,   2298.8,2,-999.000,5,  2.8701,   1550
   18HU97009_1,  AR27,   111,  3, 188122,   OC87,2,19970605,1211, 57.0618, -53.2737, 3419,   1728.9,   2.9967,  34.8511,2,  34.8509,6,    286.3,2,    295.5,6,     9.50,6,    16.42,6,     1.01,6,    3.892,2,    2.072,2,    0.136,2,    7.112,2,   2149.4,2,   -999.0,5,  37.693,2,  2.8686,   1729
   18HU97009_1,  AR27,   111,  3, 188121,   OC88,2,19970605,1211, 57.0618, -53.2737, 3419,   1959.6,   2.9244,  34.8446,2,  34.8442,2,    289.1,2,    297.5,2,     9.42,6,    16.53,6,     1.01,6,    3.911,2,    2.063,2,    0.156,2,    6.898,2,   2151.3,2,   -999.0,5,  36.126,2,  2.7769,   1960
   18HU97009_1,  AR27,   111,  3, 188120,   OC65,2,19970605,1211, 57.0618, -53.2737, 3419,   2180.6,   2.9195,  34.8457,2,  34.8460,6,    289.9,2,    297.0,2,     9.30,6,    16.33,6,     1.01,6,    3.775,2,    2.004,2,    0.156,2,    6.840,2,   2150.5,2,   -999.0,4,  34.589,2,  2.7519,   2181
   18HU97009_1,  AR27,   111,  3, 188119,   OC84,2,19970605,1211, 57.0618, -53.2737, 3419,   2400.9,   3.0427,  34.8791,2,  34.8791,6,    282.4,2,    288.7,2,    10.13,6,    16.40,6,     1.02,6,    3.016,2,    1.605,2,    0.000,2,    6.373,2,   2151.5,2,   -999.0,5,  30.230,2,  2.8519,   2401
   18HU97009_1,  AR27,   111,  3, 188118,   OC90,2,19970605,1211, 57.0618, -53.2737, 3419,   2599.7,   3.0232,  34.8974,2,  34.8970,6,    278.9,2,    283.8,2,    10.71,6,    16.25,6,     1.03,6,    2.569,6,    1.388,6,    0.000,6,    6.046,6,   2152.7,2,   2300.2,2,  26.062,6,  2.8131,   2600
   18HU97009_1,  AR27,   111,  3, 188117,   OC91,2,19970605,1211, 57.0618, -53.2737, 3419,   2779.8,   2.9042,  34.9043,2,  34.9047,6,    278.4,2,    282.6,2,    10.99,6,    16.06,6,     1.02,6,    2.432,2,    1.275,2,    0.000,2,    6.285,2,   2154.4,2,   -999.0,5,  24.177,2,  2.6783,   2780
   18HU97009_1,  AR27,   111,  3, 188116,   OC64,2,19970605,1211, 57.0618, -53.2737, 3419,   2949.7,   2.7338,  34.9083,2,  34.9092,6,    279.1,2,    282.6,2,    11.54,6,    15.84,6,     1.02,6,    2.277,2,    1.197,2,    0.000,2,    6.256,2,   2151.4,2,   -999.0,5,  23.136,2,  2.4942,   2950
   18HU97009_1,  AR27,   111,  3, 188115,   OC95,2,19970605,1211, 57.0618, -53.2737, 3419,   3109.0,   2.4680,  34.9033,2,  34.9034,6,    282.5,2,    284.8,2,    11.89,6,    15.68,6,     1.00,6,    2.374,2,    1.313,2,    0.000,2,    6.849,2,   2153.3,2,   -999.0,5,  24.701,2,  2.2178,   3109
   18HU97009_1,  AR27,   111,  3, 188114,   OC58,2,19970605,1211, 57.0618, -53.2737, 3419,   3248.5,   2.1168,  34.8949,2,  34.8942,6,    289.9,2,    289.9,2,    11.02,6,    15.10,6,     0.98,6,    2.850,2,    1.527,2,    0.097,3,    8.221,2,   2154.1,2,   2323.4,2,  26.802,3,  1.8603,   3249
   18HU97009_1,  AR27,   111,  3, 188113,   OC93,2,19970605,1211, 57.0618, -53.2737, 3419,   3361.0,   1.8408,  34.8911,2,  34.8910,2,    295.7,2,    294.1,2,    10.30,6,    14.72,6,     0.96,6,    3.249,2,    1.741,2,    0.126,3,    8.707,2,   2155.3,6,   -999.0,5,  30.129,3,  1.5793,   3361
   18HU97009_1,  AR27,   111,  3, 188112,   OC66,2,19970605,1211, 57.0618, -53.2737, 3419,   3447.1,   1.7911,  34.8894,2,  34.8901,6,    297.7,2,    294.4,2,    10.49,6,    14.30,6,     0.96,6,    3.356,2,    1.751,2,    0.126,3,    9.271,2,   2156.3,2,   -999.0,5,  32.755,3,  1.5219,   3447
   18HU97009_1,  AR27,   112,  7, 188170,   OC87,2,19970605,2126, 56.5450, -52.7078, 3504,      4.3,   5.2150,  34.6608,2,  34.6613,2,    316.8,2,    334.2,2,     3.88,6,     8.82,6,     0.62,6, -999.000,9, -999.000,9, -999.000,9, -999.000,9,   -999.0,9,   -999.0,9,-999.000,9,  5.2147,      4
   18HU97009_1,  AR27,   112,  7, 188169,   OC88,2,19970605,2126, 56.5450, -52.7078, 3504,      9.5,   5.2060,  34.6607,2,  34.6615,2,    317.0,2,    333.6,2,     3.94,6,     8.88,6,     0.63,6, -999.000,9, -999.000,9, -999.000,9, -999.000,9,   -999.0,9,   -999.0,9,-999.000,9,  5.2052,     10
   18HU97009_1,  AR27,   112,  7, 188168,   OC65,2,19970605,2126, 56.5450, -52.7078, 3504,     19.9,   4.9982,  34.6576,2,  34.6584,2,    318.4,2,    336.4,2,     3.43,6,     8.73,6,     0.61,6, -999.000,9, -999.000,9, -999.000,9, -999.000,9,   -999.0,9,   -999.0,9,-999.000,9,  4.9967,     20
   18HU97009_1,  AR27,   112,  7, 188167,   OC84,2,19970605,2126, 56.5450, -52.7078, 3504,     29.9,   4.6504,  34.6533,2,  34.6591,2,    313.5,2,    328.7,2,     4.19,6,     9.91,6,     0.70,6, -999.000,9, -999.000,9, -999.000,9, -999.000,9,   -999.0,9,   -999.0,9,-999.000,9,  4.6482,     30
   18HU97009_1,  AR27,   112,  7, 188166,   OC90,2,19970605,2126, 56.5450, -52.7078, 3504,     40.0,   3.7420,  34.6892,2,  34.6899,2,    309.1,2,    321.2,2,     7.90,6,    12.53,6,     0.92,6, -999.000,9, -999.000,9, -999.000,9, -999.000,9,   -999.0,9,   -999.0,9,-999.000,9,  3.7393,     40
   18HU97009_1,  AR27,   112,  7, 188165,   OC91,2,19970605,2126, 56.5450, -52.7078, 3504,     50.1,   3.2917,  34.6808,2,  34.6813,2,    306.8,2,    316.9,2,     7.99,6,    13.78,6,     0.97,6, -999.000,9, -999.000,9, -999.000,9, -999.000,9,   -999.0,9,   -999.0,9,-999.000,9,  3.2886,     50
   18HU97009_1,  AR27,   112,  7, 188164,   OC64,2,19970605,2126, 56.5450, -52.7078, 3504,     60.2,   3.0740,  34.6848,2,  34.6856,2,    306.0,2,    314.7,2,     7.92,6,    14.67,6,     0.99,6, -999.000,9, -999.000,9, -999.000,9, -999.000,9,   -999.0,9,   -999.0,9,-999.000,9,  3.0703,     60
   18HU97009_1,  AR27,   112,  7, 188163,   OC95,2,19970605,2126, 56.5450, -52.7078, 3504,     69.4,   3.0255,  34.6935,2,  34.6941,2,    306.2,2,    314.3,2,     8.05,6,    14.80,6,     1.00,6, -999.000,9, -999.000,9, -999.000,9, -999.000,9,   -999.0,9,   -999.0,9,-999.000,9,  3.0212,     69
   18HU97009_1,  AR27,   112,  7, 188162,   OC58,2,19970605,2126, 56.5450, -52.7078, 3504,     80.6,   2.9699,  34.7053,2,  34.7062,2,    303.9,2,    311.7,6,     8.14,6,    15.28,6,     0.99,6, -999.000,9, -999.000,9, -999.000,9, -999.000,9,   -999.0,9,   -999.0,9,-999.000,9,  2.9650,     81
   18HU97009_1,  AR27,   112,  7, 188161,   OC93,2,19970605,2126, 56.5450, -52.7078, 3504,     90.0,   2.9131,  34.7105,2,  34.7106,6,    303.1,2,    309.4,2,     8.18,6,    14.94,6,     0.98,6, -999.000,9, -999.000,9, -999.000,9, -999.000,9,   -999.0,9,   -999.0,9,-999.000,9,  2.9077,     90
   18HU97009_1,  AR27,   112,  7, 188160,   OC66,2,19970605,2126, 56.5450, -52.7078, 3504,    100.4,   2.8372,  34.7092,2,  34.7088,2,    303.3,2,    310.4,2,     7.97,6,    15.02,6,     0.98,6, -999.000,9, -999.000,9, -999.000,9, -999.000,9,   -999.0,9,   -999.0,9,-999.000,9,  2.8312,    100