BOTTLE,20020708WHPSIOKJU
EXPOCODE,SECT_ID,STNNBR,CASTNO,SAMPNO,BTLNBR,BTLNBR_FLAG_W,DATE,TIME,LATITUDE,LONGITUDE,DEPTH,CTDPRS,CTDTMP,CTDSAL,CTDSAL_FLAG_W,SALNTY,SALNTY_FLAG_W,CTDOXY,CTDOXY_FLAG_W,OXYGEN,OXYGEN_FLAG_W,SILCAT,SILCAT_FLAG_W,NO2+NO3,NO2+NO3_FLAG_W,PHSPHT,PHSPHT_FLAG_W,CFC-11,CFC-11_FLAG_W,CFC-12,CFC-12_FLAG_W,CFC113,CFC113_FLAG_W,CCL4,CCL4_FLAG_W,TCARBN,TCARBN_FLAG_W,ALKALI,ALKALI_FLAG_W,MCHFRM,MCHFRM_FLAG_W,THETA,CTDRAW
,,,,,,,,,,,,DBAR,ITS-90,PSS-78,,PSS-78,,UMOL/KG,,UMOL/KG,,UMOL/KG,,UMOL/KG,,UMOL/KG,,PMOL/KG,,PMOL/KG,,PMOL/KG,,PMOL/KG,,UMOL/KG,,UMOL/KG,,PMOL/KG,,DEG C,
   18HU97009_1,  AR7W,    66,  1, 187290,   OC80,2,19970526,0626, 56.1075, -53.1132, 3344,      9.5,   4.3863,  34.7041,2,  34.7042,2,    310.6,2,   -999.0,9,     7.59,6,    11.14,6,     0.76,6,    5.246,2,    2.881,2,    0.311,2,    6.949,2,   2119.9,2,   2281.3,2,  49.051,4,  4.3857,     10
   18HU97009_1,  AR7W,    66,  1, 187289,   OC55,3,19970526,0626, 56.1075, -53.1132, 3344,     50.1,   4.0420,  34.7444,2,-999.0000,9,    305.1,2,   -999.0,9,  -999.00,9,  -999.00,9,  -999.00,9, -999.000,9, -999.000,9, -999.000,9, -999.000,9,   -999.0,9,   -999.0,9,-999.000,9,  4.0386,     50
   18HU97009_1,  AR7W,    66,  1, 187288,   OC81,2,19970526,0626, 56.1075, -53.1132, 3344,     89.7,   3.3629,  34.7678,2,  34.7664,2,    298.1,2,   -999.0,9,     8.06,6,    14.91,6,     0.95,6,    5.079,2,    2.832,2,    0.302,2,    7.055,2,   2143.5,2,   2281.6,2,  45.667,4,  3.3571,     90
   18HU97009_1,  AR7W,    66,  1, 187287,   OC69,2,19970526,0626, 56.1075, -53.1132, 3344,    158.6,   3.1865,  34.8038,2,  34.8055,2,    292.0,2,   -999.0,9,     8.24,6,    15.56,6,     1.00,6,    4.865,2,    2.666,2,    0.263,2,    7.171,2,   2145.5,2,   2279.0,2,  44.643,4,  3.1765,    159
   18HU97009_1,  AR7W,    66,  1, 187286,   OC52,2,19970526,0626, 56.1075, -53.1132, 3344,    251.2,   3.0295,  34.8093,2,  34.8070,2,    286.0,2,    301.4,2,     8.54,6,    16.19,6,     1.03,6,    4.593,2,    2.345,2,    0.253,2,    7.473,2,   2149.2,2,   2281.0,2,  40.458,4,  3.0137,    251
   18HU97009_1,  AR7W,    66,  1, 187285,   OC51,2,19970526,0626, 56.1075, -53.1132, 3344,    349.6,   3.1062,  34.8281,2,  34.8258,2,    284.3,2,    299.5,6,     8.56,6,    15.87,6,     1.02,6,    4.524,2,    2.471,2,    0.253,2,    7.035,3,   2149.3,2,   2280.1,2,  38.687,2,  3.0837,    350
   18HU97009_1,  AR7W,    66,  1, 187284,   OC56,3,19970526,0626, 56.1075, -53.1132, 3344,    450.1,   3.0715,  34.8283,2,  34.8220,2,    287.8,2,   -999.0,9,     8.51,6,    15.77,6,     1.03,6, -999.000,5, -999.000,5, -999.000,5, -999.000,5,   2147.2,2,   2268.0,3,-999.000,5,  3.0424,    450
   18HU97009_1,  AR7W,    66,  1, 187283,   OC61,2,19970526,0626, 56.1075, -53.1132, 3344,    579.1,   3.0127,  34.8245,2,-999.0000,5,    287.8,2,    303.7,2,     8.55,6,    16.09,6,     1.02,6,    4.641,2,    2.520,2,    0.243,2,    7.414,2,   2148.1,2,   2286.3,2,  41.284,4,  2.9749,    579
   18HU97009_1,  AR7W,    66,  1, 187282,   OC82,2,19970526,0626, 56.1075, -53.1132, 3344,    758.5,   3.0416,  34.8357,2,  34.8365,2,    281.4,2,    296.5,6,     8.98,6,    16.41,6,     1.04,6,    4.320,2,    2.374,2,    0.234,2,    6.646,2,   2149.1,2,   2286.6,2,  36.925,2,  2.9908,    759
   18HU97009_1,  AR7W,    66,  1, 187281,   OC83,2,19970526,0626, 56.1075, -53.1132, 3344,    969.7,   2.9429,  34.8304,2,  34.8301,2,    282.5,2,    297.7,6,     9.08,6,    16.33,6,     1.06,6,    4.291,2,    2.355,2,    0.224,2,    6.889,2,   2149.6,2,   2284.8,2,  37.664,2,  2.8772,    970
   18HU97009_1,  AR7W,    66,  1, 187280,   OC94,2,19970526,0626, 56.1075, -53.1132, 3344,   1180.6,   2.9545,  34.8390,2,  34.8380,2,    280.4,2,    295.7,6,     9.30,6,    16.53,6,     1.05,6,    4.057,2,    2.228,2,    0.204,2,    7.035,2,   2151.9,6,   2282.7,2,  35.786,2,  2.8724,   1181
   18HU97009_1,  AR7W,    66,  1, 187279,   OC85,2,19970526,0626, 56.1075, -53.1132, 3344,   1418.7,   2.9880,  34.8498,2,  34.8502,6,    279.6,2,    294.7,6,     9.58,6,    16.85,6,     1.10,6,    3.911,2,    2.092,2,    0.204,2,    6.227,3,   2151.4,2,   2286.9,2,  34.015,2,  2.8864,   1419
   18HU97009_1,  AR7W,    66,  1, 187278,   OC86,2,19970526,0626, 56.1075, -53.1132, 3344,   1679.6,   2.9325,  34.8468,2,  34.8479,2,    281.4,2,    296.0,6,     9.44,6,    16.66,6,     1.06,6,    3.892,2,    1.936,2,    0.195,2,    6.587,2,   2151.4,2,   2285.0,2,  33.879,2,  2.8095,   1680
   18HU97009_1,  AR7W,    66,  1, 187277,   OC87,2,19970526,0626, 56.1075, -53.1132, 3344,   1917.7,   2.8928,  34.8438,2,  34.8446,2,    282.8,2,    297.2,6,     9.53,6,    16.48,6,     1.03,6,    3.911,2,    2.072,2,    0.185,2,    6.947,2,   -999.0,5,   2285.8,2,  34.939,2,  2.7496,   1918
   18HU97009_1,  AR7W,    66,  1, 187276,   OC88,2,19970526,0626, 56.1075, -53.1132, 3344,   2139.9,   2.9599,  34.8596,2,  34.8619,2,    279.6,2,    292.9,6,     9.80,6,    16.56,6,     1.02,6,    3.561,2,    1.946,2,    0.175,2,    6.713,3,   2152.1,2,   2286.1,2,  31.485,2,  2.7954,   2140
   18HU97009_1,  AR7W,    66,  1, 187275,   OC36,2,19970526,0626, 56.1075, -53.1132, 3344,   2359.5,   3.0630,  34.8977,2,  34.8981,2,    270.2,2,    282.3,6,    10.75,6,    16.54,6,     1.05,6,    2.442,2,    1.323,2,    0.000,2,    5.195,2,   2152.6,2,   2288.8,2,  23.672,2,  2.8758,   2360
   18HU97009_1,  AR7W,    66,  1, 187274,   OC84,2,19970526,0626, 56.1075, -53.1132, 3344,   2593.8,   2.9472,  34.9128,2,  34.9129,2,    267.9,2,    278.9,6,    11.88,6,    16.33,6,     1.03,6,    2.085,6,    1.096,6,    0.083,3,    5.319,6,   2156.5,2,   2288.8,2,  21.229,6,  2.7391,   2594
   18HU97009_1,  AR7W,    66,  1, 187273,   OC90,2,19970526,0626, 56.1075, -53.1132, 3344,   2748.5,   2.8512,  34.9176,2,  34.9188,2,    268.0,2,    278.1,6,    12.29,6,    15.97,6,     1.04,6,    1.917,2,    0.973,2,    0.078,3,    5.098,2,   2156.8,2,   2289.3,2,  19.020,2,  2.6295,   2749
   18HU97009_1,  AR7W,    66,  1, 187272,   OC91,2,19970526,0626, 56.1075, -53.1132, 3344,   2879.0,   2.6796,  34.9114,2,  34.9123,2,    271.0,2,    280.7,6,    12.09,6,    16.08,6,     1.02,6,    2.131,2,    1.138,2,    0.097,3,    5.108,2,   2156.0,2,   2292.8,6,  20.791,2,  2.4482,   2879
   18HU97009_1,  AR7W,    66,  1, 187271,   OC64,2,19970526,0626, 56.1075, -53.1132, 3344,   3009.5,   2.5047,  34.9083,2,  34.8859,2,    272.2,2,    281.1,6,    12.10,6,    15.88,6,     1.04,6,    2.033,2,    0.953,2,    0.088,3,    5.370,2,   2156.0,2,   2292.5,2,  19.954,2,  2.2638,   3010
   18HU97009_1,  AR7W,    66,  1, 187270,   OC92,2,19970526,0626, 56.1075, -53.1132, 3344,   3119.5,   2.3056,  34.9007,2,  34.9010,2,    276.4,2,    283.9,6,    12.58,6,    15.77,6,     1.01,6,    2.345,2,    1.245,2,    0.107,3,    6.168,3,   2156.9,2,   2292.6,2,  22.541,2,  2.0580,   3120
   18HU97009_1,  AR7W,    66,  1, 187269,   OC58,2,19970526,0626, 56.1075, -53.1132, 3344,   3221.0,   2.0191,  34.8916,2,  34.8905,2,    285.0,2,    291.5,6,    10.66,6,    15.00,6,     0.98,6,    3.026,2,    1.673,2,    0.146,2,    6.596,3,   2155.0,2,   2292.5,2,  27.172,2,  1.7677,   3221
   18HU97009_1,  AR7W,    66,  1, 187268,   OC93,2,19970526,0626, 56.1075, -53.1132, 3344,   3299.0,   1.7027,  34.8876,2,  34.8864,2,    291.3,2,    295.6,6,    10.23,6,    14.62,6,     0.96,6,    3.463,2,    1.761,2,    0.165,2,    7.559,3,   2155.5,2,   2289.5,2,  30.100,2,  1.4508,   3299
   18HU97009_1,  AR7W,    66,  1, 187267,   OC66,2,19970526,0626, 56.1075, -53.1132, 3344,   3362.7,   1.6076,  34.8833,2,  34.9904,2,    293.4,2,    296.3,2,    10.52,6,    14.58,6,     0.99,6,    3.609,2,    1.887,2,    0.165,2,    7.880,3,   2158.0,2,   2298.2,2,  30.839,2,  1.3516,   3363
   18HU97009_1,  AR7W,    67,  5, 187303,   OC85,2,19970526,1236, 55.8418, -53.3727, 3142,      5.6,   2.2780,  33.2469,2,-999.0000,9,    360.9,2,   -999.0,9,  -999.00,9,  -999.00,9,  -999.00,9, -999.000,9, -999.000,9, -999.000,9, -999.000,9,   -999.0,9,   -999.0,9,-999.000,9,  2.2777,      6
   18HU97009_1,  AR7W,    67,  5, 187304,   OC94,2,19970526,1236, 55.8418, -53.3727, 3142,      5.7,   2.2777,  33.2464,2,-999.0000,9,    361.0,2,   -999.0,9,  -999.00,9,  -999.00,9,  -999.00,9, -999.000,9, -999.000,9, -999.000,9, -999.000,9,   -999.0,9,   -999.0,9,-999.000,9,  2.2774,      6
   18HU97009_1,  AR7W,    67,  5, 187298,   OC84,2,19970526,1236, 55.8418, -53.3727, 3142,      5.8,   2.3056,  33.2660,2,-999.0000,9,    360.5,2,   -999.0,9,  -999.00,9,  -999.00,9,  -999.00,9, -999.000,9, -999.000,9, -999.000,9, -999.000,9,   -999.0,9,   -999.0,9,-999.000,9,  2.3053,      6
   18HU97009_1,  AR7W,    67,  5, 187300,   OC88,2,19970526,1236, 55.8418, -53.3727, 3142,      5.8,   2.3000,  33.2614,2,-999.0000,9,    360.7,2,   -999.0,9,  -999.00,9,  -999.00,9,  -999.00,9, -999.000,9, -999.000,9, -999.000,9, -999.000,9,   -999.0,9,   -999.0,9,-999.000,9,  2.2997,      6
   18HU97009_1,  AR7W,    67,  5, 187301,   OC87,2,19970526,1236, 55.8418, -53.3727, 3142,      5.8,   2.3015,  33.2608,2,-999.0000,9,    360.1,2,   -999.0,9,  -999.00,9,  -999.00,9,  -999.00,9, -999.000,9, -999.000,9, -999.000,9, -999.000,9,   -999.0,9,   -999.0,9,-999.000,9,  2.3012,      6
   18HU97009_1,  AR7W,    67,  5, 187302,   OC86,2,19970526,1236, 55.8418, -53.3727, 3142,      5.8,   2.2813,  33.2517,2,-999.0000,9,    360.5,2,   -999.0,9,  -999.00,9,  -999.00,9,  -999.00,9, -999.000,9, -999.000,9, -999.000,9, -999.000,9,   -999.0,9,   -999.0,9,-999.000,9,  2.2810,      6
   18HU97009_1,  AR7W,    67,  5, 187299,   OC36,2,19970526,1236, 55.8418, -53.3727, 3142,      6.0,   2.3062,  33.2668,2,-999.0000,9,    360.5,2,   -999.0,9,  -999.00,9,  -999.00,9,  -999.00,9, -999.000,9, -999.000,9, -999.000,9, -999.000,9,   -999.0,9,   -999.0,9,-999.000,9,  2.3059,      6
   18HU97009_1,  AR7W,    67,  5, 187305,   OC83,2,19970526,1236, 55.8418, -53.3727, 3142,      6.1,   2.2794,  33.2469,2,-999.0000,9,    360.9,2,   -999.0,9,  -999.00,9,  -999.00,9,  -999.00,9, -999.000,9, -999.000,9, -999.000,9, -999.000,9,   -999.0,9,   -999.0,9,-999.000,9,  2.2790,      6
   18HU97009_1,  AR7W,    67,  5, 187329,   OC80,2,19970526,1236, 55.8418, -53.3727, 3142,     10.1,   2.0465,  33.1039,2,  33.1193,2,    355.9,2,    366.8,2,     6.69,6,     6.69,6,     0.61,6,    6.240,3,    3.400,3, -999.000,5,    7.580,3,   2040.5,3,   2203.0,3,  98.220,3,  2.0460,     10
   18HU97009_1,  AR7W,    67,  5, 187297,   OC90,2,19970526,1236, 55.8418, -53.3727, 3142,     20.1,   3.1362,  33.6493,2,-999.0000,9,    346.4,2,   -999.0,9,  -999.00,9,  -999.00,9,  -999.00,9, -999.000,9, -999.000,9, -999.000,9, -999.000,9,   -999.0,9,   -999.0,9,-999.000,9,  3.1350,     20
   18HU97009_1,  AR7W,    67,  5, 187296,   OC91,2,19970526,1236, 55.8418, -53.3727, 3142,     29.7,   3.0670,  34.5644,2,-999.0000,9,    329.3,2,   -999.0,9,  -999.00,9,  -999.00,9,  -999.00,9, -999.000,9, -999.000,9, -999.000,9, -999.000,9,   -999.0,9,   -999.0,9,-999.000,9,  3.0652,     30
   18HU97009_1,  AR7W,    67,  5, 187328,   OC55,2,19970526,1236, 55.8418, -53.3727, 3142,     39.8,   3.1758,  34.6434,2,  34.6438,2,    305.2,2,    317.6,2,     9.00,6,    13.94,6,     0.91,6,    5.090,2,    2.830,2, -999.000,5,    7.520,3,   2136.8,2,   -999.0,5,  66.120,3,  3.1734,     40
   18HU97009_1,  AR7W,    67,  5, 187295,   OC64,2,19970526,1236, 55.8418, -53.3727, 3142,     49.5,   3.1898,  34.6688,2,-999.0000,9,    319.1,2,   -999.0,9,  -999.00,9,  -999.00,9,  -999.00,9, -999.000,9, -999.000,9, -999.000,9, -999.000,9,   -999.0,9,   -999.0,9,-999.000,9,  3.1868,     50
   18HU97009_1,  AR7W,    67,  5, 187294,   OC92,2,19970526,1236, 55.8418, -53.3727, 3142,     74.8,   3.1800,  34.7355,2,-999.0000,9,    315.9,2,   -999.0,9,  -999.00,9,  -999.00,9,  -999.00,9, -999.000,9, -999.000,9, -999.000,9, -999.000,9,   -999.0,9,   -999.0,9,-999.000,9,  3.1754,     75
   18HU97009_1,  AR7W,    67,  5, 187327,   OC81,2,19970526,1236, 55.8418, -53.3727, 3142,     76.1,   3.2695,  34.7571,2,  34.7569,2,    290.8,2,    301.9,2,     8.79,6,    15.64,6,     0.99,6,    4.780,2,    2.600,2, -999.000,5,    6.420,2,   2146.3,2,   2280.5,2,  54.960,4,  3.2647,     76
   18HU97009_1,  AR7W,    67,  5, 187293,   OC58,2,19970526,1236, 55.8418, -53.3727, 3142,    100.2,   3.1883,  34.7727,2,-999.0000,9,    310.8,2,   -999.0,9,  -999.00,9,  -999.00,9,  -999.00,9, -999.000,9, -999.000,9, -999.000,9, -999.000,9,   -999.0,9,   -999.0,9,-999.000,9,  3.1821,    100
   18HU97009_1,  AR7W,    67,  5, 187326,   OC69,2,19970526,1236, 55.8418, -53.3727, 3142,    110.9,   3.2417,  34.7858,2,  34.7857,2,    288.8,2,    299.9,2,     8.68,6,    15.77,6,     1.00,6,    4.680,2,    2.460,2, -999.000,5,    6.670,2,   2148.0,2,   2279.6,2,  56.380,4,  3.2347,    111
   18HU97009_1,  AR7W,    67,  5, 187292,   OC93,2,19970526,1236, 55.8418, -53.3727, 3142,    150.7,   3.2462,  34.8077,2,-999.0000,9,    308.0,2,   -999.0,9,  -999.00,9,  -999.00,9,  -999.00,9, -999.000,9, -999.000,9, -999.000,9, -999.000,9,   -999.0,9,   -999.0,9,-999.000,9,  3.2366,    151
   18HU97009_1,  AR7W,    67,  5, 187325,   OC52,2,19970526,1236, 55.8418, -53.3727, 3142,    189.2,   3.2238,  34.8145,2,  34.8154,2,    287.3,2,    297.9,2,     8.73,6,    16.07,6,     1.01,6,    4.590,2,    2.480,2, -999.000,5,    6.610,2,   2148.9,2,   2283.2,2,  54.250,4,  3.2118,    189
   18HU97009_1,  AR7W,    67,  5, 187291,   OC66,2,19970526,1236, 55.8418, -53.3727, 3142,    201.5,   3.2245,  34.8167,2,-999.0000,9,    311.1,2,   -999.0,9,  -999.00,9,  -999.00,9,  -999.00,9, -999.000,9, -999.000,9, -999.000,9, -999.000,9,   -999.0,9,   -999.0,9,-999.000,9,  3.2117,    202
   18HU97009_1,  AR7W,    67,  5, 187324,   OC51,2,19970526,1236, 55.8418, -53.3727, 3142,    290.1,   3.1883,  34.8269,2,  34.8272,2,    288.5,2,    299.0,2,     8.64,6,    15.75,6,     1.02,6,    4.610,2,    2.470,2, -999.000,5,    6.360,2,   2146.9,2,   2281.9,2,  54.410,4,  3.1697,    290
   18HU97009_1,  AR7W,    67,  5, 187323,   OC56,2,19970526,1236, 55.8418, -53.3727, 3142,    401.4,   3.1867,  34.8346,2,  34.8342,2,    288.3,2,    298.8,2,     8.72,6,    16.05,6,     1.02,6,    4.560,2,    2.480,2, -999.000,5,    6.600,2,   2147.7,2,   2286.2,2,  54.560,4,  3.1606,    401
   18HU97009_1,  AR7W,    67,  5, 187322,   OC61,2,19970526,1236, 55.8418, -53.3727, 3142,    550.7,   3.1411,  34.8357,2,  34.8352,2,    289.2,2,    299.8,2,     8.49,6,    15.80,6,     1.01,6,    4.540,2,    2.530,2, -999.000,5,    6.630,2,   2147.4,2,   2284.7,2,  55.440,4,  3.1048,    551
   18HU97009_1,  AR7W,    67,  5, 187321,   OC82,2,19970526,1236, 55.8418, -53.3727, 3142,    710.4,   3.0515,  34.8338,2,  34.8366,2,    288.4,2,    298.4,2,     9.02,6,    16.32,6,     1.04,6,    4.440,2,    2.450,2, -999.000,5,    6.310,2,   2152.1,2,   2284.9,2,  52.660,4,  3.0042,    710
   18HU97009_1,  AR7W,    67,  5, 187320,   OC83,2,19970526,1236, 55.8418, -53.3727, 3142,    899.3,   3.0408,  34.8423,2,  34.8421,2,    286.3,2,    295.4,2,     9.21,6,    16.74,6,     1.04,6,    4.230,2,    2.170,2, -999.000,5,    6.520,2,   2151.3,2,   2283.7,2,  49.310,4,  2.9796,    899
   18HU97009_1,  AR7W,    67,  5, 187319,   OC94,2,19970526,1236, 55.8418, -53.3727, 3142,   1101.3,   2.9676,  34.8386,2,  34.8376,2,    288.8,2,    297.8,2,     9.10,6,    16.40,6,     1.03,6,    4.300,2,    2.280,2, -999.000,5,    6.520,2,   2150.6,2,   2283.7,2,  49.730,4,  2.8916,   1101
   18HU97009_1,  AR7W,    67,  5, 187318,   OC85,2,19970526,1236, 55.8418, -53.3727, 3142,   1301.6,   2.9328,  34.8373,2,  34.8366,2,    288.4,2,    298.5,2,     9.18,6,    16.49,6,     1.04,6,    4.230,2,    2.260,2, -999.000,5,    6.450,2,   2149.9,2,   2286.9,2,  48.320,4,  2.8413,   1302
   18HU97009_1,  AR7W,    67,  5, 187317,   OC86,2,19970526,1236, 55.8418, -53.3727, 3142,   1498.8,   2.9948,  34.8510,2,  34.8497,2,    286.1,2,    295.5,2,     9.61,6,    16.79,6,     1.06,6,    3.970,2,    2.000,2, -999.000,5,    6.510,2,   2151.2,2,   2282.8,2,  46.100,4,  2.8864,   1499
   18HU97009_1,  AR7W,    67,  5, 187316,   OC87,2,19970526,1236, 55.8418, -53.3727, 3142,   1700.4,   2.9465,  34.8490,2,  34.8489,2,    287.2,2,    296.5,2,     9.53,6,    16.71,6,     1.05,6,    3.880,2,    2.110,2, -999.000,5,    6.270,2,   2148.5,2,   2286.0,2,  46.450,4,  2.8216,   1700
   18HU97009_1,  AR7W,    67,  5, 187315,   OC88,2,19970526,1236, 55.8418, -53.3727, 3142,   1901.4,   2.9322,  34.8517,2,  34.8513,2,    287.5,2,    296.4,6,     9.65,6,    16.53,6,     1.05,6,    3.920,2,    2.050,2, -999.000,5,    6.120,2,   2150.1,2,   2284.8,2,  47.020,4,  2.7898,   1901
   18HU97009_1,  AR7W,    67,  5, 187314,   OC36,2,19970526,1236, 55.8418, -53.3727, 3142,   2101.3,   2.9895,  34.8685,2,  34.8682,2,    283.5,2,    292.0,2,     9.78,6,    16.43,6,     1.04,6,    3.500,6,    1.817,6, -999.000,5,    6.090,3,   2152.5,2,   2289.0,2,  34.560,6,  2.8280,   2101
   18HU97009_1,  AR7W,    67,  5, 187313,   OC84,3,19970526,1236, 55.8418, -53.3727, 3142,   2299.8,   3.0210,  34.8962,2,-999.0000,9,    276.6,2,   -999.0,9,  -999.00,9,  -999.00,9,  -999.00,9, -999.000,9, -999.000,9, -999.000,9, -999.000,9,   -999.0,9,   -999.0,9,-999.000,9,  2.8402,   2300
   18HU97009_1,  AR7W,    67,  5, 187312,   OC90,2,19970526,1236, 55.8418, -53.3727, 3142,   2509.4,   2.8514,  34.8996,2,  34.9017,6,    277.8,2,    284.3,2,    10.82,3,    15.97,6,     1.03,6,    2.690,2,    1.370,2, -999.000,5,    4.660,3,   2150.8,2,   2288.6,2,  30.380,2,  2.6535,   2509
   18HU97009_1,  AR7W,    67,  5, 187311,   OC91,2,19970526,1236, 55.8418, -53.3727, 3142,   2677.2,   2.6747,  34.9043,2,  34.9044,2,    278.6,2,    284.8,2,    11.29,6,    16.07,6,     1.02,6,    2.580,2,    1.310,2, -999.000,5,    4.820,3,   2153.1,2,   2287.9,2,  32.350,2,  2.4636,   2677
   18HU97009_1,  AR7W,    67,  5, 187310,   OC64,3,19970526,1236, 55.8418, -53.3727, 3142,   2818.1,   2.4580,  34.9045,2,  34.9033,2,    279.9,2,    284.7,2,    12.23,6,    15.63,6,     1.02,6,    2.330,2,    1.210,2, -999.000,5,    4.470,3,   2153.8,2,   2291.1,2,  29.030,3,  2.2374,   2818
   18HU97009_1,  AR7W,    67,  5, 187309,   OC92,2,19970526,1236, 55.8418, -53.3727, 3142,   2939.6,   2.2325,  34.8982,2,  34.8980,2,    285.4,2,    287.9,2,    11.62,6,    15.35,6,     1.00,6,    2.700,2,    1.370,2, -999.000,5,    5.000,3,   2153.8,2,   2288.2,2,  31.510,2,  2.0046,   2940
   18HU97009_1,  AR7W,    67,  5, 187308,   OC58,2,19970526,1236, 55.8418, -53.3727, 3142,   3037.8,   1.8585,  34.8911,2,  34.8918,2,    292.9,2,    294.6,2,    10.25,6,    15.02,6,     0.95,6,    3.380,2,    1.750,2, -999.000,5,    5.930,2,   2151.0,2,   2287.1,2,  41.900,4,  1.6290,   3038
   18HU97009_1,  AR7W,    67,  5, 187307,   OC93,2,19970526,1236, 55.8418, -53.3727, 3142,   3100.5,   1.7656,  34.8908,2,  34.8932,2,    295.0,2,    295.5,2,    10.23,6,    14.44,6,     0.97,6,    3.460,2,    1.810,2, -999.000,5,    6.240,2,   2152.4,6,   2289.0,2,  40.000,2,  1.5320,   3101
   18HU97009_1,  AR7W,    67,  5, 187306,   OC66,2,19970526,1236, 55.8418, -53.3727, 3142,   3150.1,   1.7624,  34.8904,2,  34.8881,2,    295.1,2,    295.8,2,    10.25,6,    14.46,6,     0.94,6,    3.490,2,    1.850,2, -999.000,5,    6.100,2,   2151.1,2,   2295.3,6,  38.720,2,  1.5240,   3150