BOTTLE,20020708WHPSIOKJU
EXPOCODE,SECT_ID,STNNBR,CASTNO,SAMPNO,BTLNBR,BTLNBR_FLAG_W,DATE,TIME,LATITUDE,LONGITUDE,DEPTH,CTDPRS,CTDTMP,CTDSAL,CTDSAL_FLAG_W,SALNTY,SALNTY_FLAG_W,CTDOXY,CTDOXY_FLAG_W,OXYGEN,OXYGEN_FLAG_W,SILCAT,SILCAT_FLAG_W,NO2+NO3,NO2+NO3_FLAG_W,PHSPHT,PHSPHT_FLAG_W,CFC-11,CFC-11_FLAG_W,CFC-12,CFC-12_FLAG_W,CFC113,CFC113_FLAG_W,CCL4,CCL4_FLAG_W,TCARBN,TCARBN_FLAG_W,ALKALI,ALKALI_FLAG_W,MCHFRM,MCHFRM_FLAG_W,THETA,CTDRAW
,,,,,,,,,,,,DBAR,ITS-90,PSS-78,,PSS-78,,UMOL/KG,,UMOL/KG,,UMOL/KG,,UMOL/KG,,UMOL/KG,,PMOL/KG,,PMOL/KG,,PMOL/KG,,PMOL/KG,,UMOL/KG,,UMOL/KG,,PMOL/KG,,DEG C,
   18HU97009_1,  AR13,   122,  3, 188362,   OC80,2,19970608,0812, 53.2972, -49.9902, 3494,      5.6,   5.4245,  34.1728,2,  34.1764,2,    366.2,2,    312.7,2,     0.00,6,     0.00,2,     0.15,6,    5.258,2,    2.863,2,    0.234,2,   10.536,3,   1973.2,3,   2280.3,2, 142.799,3,  5.4241,      6
   18HU97009_1,  AR13,   122,  3, 188361,   OC55,2,19970608,0812, 53.2972, -49.9902, 3494,     69.2,   3.2266,  34.6917,2,  34.6935,2,    289.9,2,    302.4,2,     7.98,6,    14.57,6,     0.97,6,    5.021,2,    2.696,2,    0.234,2,    9.799,2,   2136.8,2,   2290.3,2, 119.500,3,  3.2223,     69
   18HU97009_1,  AR13,   122,  3, 188360,   OC81,2,19970608,0812, 53.2972, -49.9902, 3494,    139.0,   3.1459,  34.7434,2,  34.7431,2,    281.9,2,   -999.0,9,     8.34,6,    15.42,6,     1.00,6,    4.496,2,    2.433,2,    0.195,2,    8.164,2,   2143.6,2,   2289.1,2, 112.682,3,  3.1372,    139
   18HU97009_1,  AR13,   122,  3, 188359,   OC69,2,19970608,0812, 53.2972, -49.9902, 3494,    234.0,   3.1068,  34.7727,2,  34.8205,2,    279.8,2,    299.2,2,     8.42,6,    15.68,6,     1.02,6,    4.525,2,    2.452,2,    0.185,2,    8.670,3,   2144.5,2,   2290.9,2, 112.407,3,  3.0920,    234
   18HU97009_1,  AR13,   122,  3, 188358,   OC52,2,19970608,0812, 53.2972, -49.9902, 3494,    345.3,   3.2724,  34.8208,2,  34.8191,2,    274.2,2,    292.0,2,     8.91,6,    15.98,6,     1.03,6,    4.213,6,    2.296,2,    0.165,2,    7.938,6,   2148.3,2,   2294.0,2,  94.359,3,  3.2498,    345
   18HU97009_1,  AR13,   122,  3, 188357,   OC51,2,19970608,0812, 53.2972, -49.9902, 3494,    480.2,   3.2989,  34.8414,2,  34.8407,2,    272.7,2,    289.7,2,     8.97,6,    16.41,6,     1.04,6,    3.989,2,    2.170,2,    0.165,2,    7.638,2,   2148.5,2,   2302.2,2,  88.340,3,  3.2669,    480
   18HU97009_1,  AR13,   122,  3, 188356,   OC60,2,19970608,0812, 53.2972, -49.9902, 3494,    628.5,   3.2086,  34.8438,2,  34.8442,2,    275.5,2,    292.3,2,     8.97,6,    15.99,6,     1.04,6,    3.980,2,    2.082,2,    0.165,2,    7.288,2,   2148.6,2,   2300.5,2,  95.549,3,  3.1664,    629
   18HU97009_1,  AR13,   122,  3, 188355,   OC61,2,19970608,0812, 53.2972, -49.9902, 3494,    789.2,   3.1644,  34.8474,2,  34.8476,2,    276.8,2,    292.7,2,     9.08,6,    16.18,6,     1.02,6,    3.950,2,    2.072,2,    0.146,2,    6.879,2,   2148.3,2,   2299.8,2,  93.816,3,  3.1107,    789
   18HU97009_1,  AR13,   122,  3, 188354,   OC82,2,19970608,0812, 53.2972, -49.9902, 3494,    963.8,   3.1002,  34.8500,2,  34.8495,2,    278.0,2,    292.6,2,     9.31,6,    16.27,6,     1.05,6,    3.785,2,    1.917,2,    0.146,2,    6.636,2,   2148.8,2,   2302.6,2,  83.064,3,  3.0337,    964
   18HU97009_1,  AR13,   122,  3, 188353,   OC83,2,19970608,0812, 53.2972, -49.9902, 3494,   1144.2,   3.0053,  34.8442,2,  34.8444,2,    281.5,2,    294.9,2,     9.26,6,    15.86,6,     1.05,6,    3.902,2,    2.111,2,    0.156,3,    6.694,2,   2149.2,2,   2303.8,2,  98.719,3,  2.9256,   1144
   18HU97009_1,  AR13,   122,  3, 188352,   OC94,2,19970608,0812, 53.2972, -49.9902, 3494,   1350.6,   3.0000,  34.8493,2,  34.8480,2,    281.9,2,    295.3,2,     9.45,6,    16.08,6,     1.04,6,    3.756,2,    1.985,2,    0.136,2,    6.169,2,   2148.4,2,   2298.5,2,  89.835,3,  2.9038,   1351
   18HU97009_1,  AR13,   122,  3, 188351,   OC85,2,19970608,0812, 53.2972, -49.9902, 3494,   1585.1,   2.9819,  34.8537,2,  34.8548,2,    282.9,2,    294.1,2,     9.64,6,    16.15,6,     1.06,6,    3.542,2,    1.849,2,    0.000,2,    5.565,2,   2148.2,2,   2302.2,2,  71.922,3,  2.8664,   1585
   18HU97009_1,  AR13,   122,  3, 188350,   OC86,2,19970608,0812, 53.2972, -49.9902, 3494,   1785.2,   2.9492,  34.8532,2,  34.8531,2,    284.5,2,    295.0,6,     9.60,6,    16.00,6,     1.04,6,    3.493,2,    1.810,2,    0.136,3,    5.565,2,   2146.7,2,   2301.0,2,  85.446,3,  2.8168,   1785
   18HU97009_1,  AR13,   122,  3, 188349,   OC87,2,19970608,0812, 53.2972, -49.9902, 3494,   1958.0,   2.9994,  34.8662,2,  34.8661,6,    281.8,2,    291.1,2,    10.00,6,    16.21,6,     1.05,6,    3.133,2,    1.635,2,    0.000,2,    5.089,2,   2148.7,2,   2302.1,2,  77.399,3,  2.8509,   1958
   18HU97009_1,  AR13,   122,  3, 188348,   OC88,2,19970608,0812, 53.2972, -49.9902, 3494,   2173.3,   3.0831,  34.8962,2,  34.8966,6,    275.5,2,    283.0,2,    10.93,6,    16.10,6,     1.05,6,    2.325,2,    1.206,2,    0.000,2,    4.514,2,   2150.1,2,   2305.7,2,  47.178,3,  2.9133,   2173
   18HU97009_1,  AR13,   122,  3, 188347,   OC65,2,19970608,0812, 53.2972, -49.9902, 3494,   2378.2,   3.0425,  34.9063,2,  34.9063,2,    274.7,2,    280.6,2,    11.34,6,    16.03,6,     1.03,6,    2.092,2,    1.060,2,    0.000,2,    4.505,2,   2150.3,2,   2309.5,2,  53.200,3,  2.8538,   2378
   18HU97009_1,  AR13,   122,  3, 188346,   OC84,2,19970608,0812, 53.2972, -49.9902, 3494,   2586.1,   2.9020,  34.9097,2,  34.9097,6,    275.9,2,    280.8,2,    11.47,6,    15.94,6,     1.01,6,    2.140,2,    1.099,2,    0.000,2,    4.816,2,   2150.6,2,   2305.3,2,  53.355,3,  2.6955,   2586
   18HU97009_1,  AR13,   122,  3, 188345,   OC90,2,19970608,0812, 53.2972, -49.9902, 3494,   2771.7,   2.7514,  34.9096,2,  34.9100,6,    277.2,2,    282.1,2,    11.90,6,    15.67,6,     0.99,6,    2.140,2,    1.051,2,    0.000,2,    5.059,2,   2151.5,6,   2305.3,2,  46.796,3,  2.5294,   2772
   18HU97009_1,  AR13,   122,  3, 188344,   OC91,2,19970608,0812, 53.2972, -49.9902, 3494,   2941.7,   2.5871,  34.9081,2,  34.9077,6,    278.6,2,    282.3,2,    12.47,6,    15.75,6,     0.99,6,    2.033,2,    1.002,2,    0.068,3,    5.341,2,   -999.0,5,   2298.3,2,  54.929,3,  2.3513,   2942
   18HU97009_1,  AR13,   122,  3, 188343,   OC64,2,19970608,0812, 53.2972, -49.9902, 3494,   3086.6,   2.4078,  34.9011,2,  34.9007,6,    283.0,2,    285.7,2,    12.00,6,    15.33,6,     0.98,6,    2.374,2,    1.041,2,    0.000,2,    6.100,2,   2151.3,2,   2300.1,2,  58.879,3,  2.1612,   3087
   18HU97009_1,  AR13,   122,  3, 188342,   OC95,2,19970608,0812, 53.2972, -49.9902, 3494,   3229.8,   2.1053,  34.8911,2,  34.8916,2,    288.9,2,    290.7,2,    11.31,6,    14.94,6,     0.95,6,    2.792,2,    1.401,2,    0.000,2,    6.800,2,   2152.1,2,   2304.1,6,  53.264,3,  1.8510,   3230
   18HU97009_1,  AR13,   122,  3, 188341,   OC58,2,19970608,0812, 53.2972, -49.9902, 3494,   3352.3,   1.8303,  34.8856,2,  34.8855,6,    295.1,2,    295.8,2,    10.35,6,    14.40,6,     0.92,6,    3.210,2,    1.654,2,    0.126,2,    7.890,2,   2151.6,2,   2302.1,2,  86.106,3,  1.5700,   3352
   18HU97009_1,  AR13,   122,  3, 188340,   OC93,2,19970608,0812, 53.2972, -49.9902, 3494,   3442.3,   1.5821,  34.8762,2,  34.8766,2,    299.6,2,    299.3,2,    10.70,6,    14.39,6,     0.91,6,    3.551,2,    1.839,2,    0.126,2,    8.240,2,   2151.8,2,   2307.6,2,  83.508,3,  1.3187,   3442
   18HU97009_1,  AR13,   122,  3, 188339,   OC66,2,19970608,0812, 53.2972, -49.9902, 3494,   3512.0,   1.5665,  34.8763,2,  34.8764,2,    300.9,2,    298.7,2,    11.06,6,    14.19,6,     0.92,6,    3.580,2,    1.887,2,    0.146,2,    8.006,3,   2154.6,2,   2304.5,2,  58.623,3,  1.2964,   3512
   18HU97009_1,  AR13,   123,  2, 188385,   OC55,2,19970608,1240, 53.1440, -50.5235, 3185,      6.2,   4.9496,  34.1935,2,-999.0000,9,    347.8,2,   -999.0,9,  -999.00,9,  -999.00,9,  -999.00,9, -999.000,9, -999.000,9, -999.000,9, -999.000,9,   -999.0,9,   -999.0,9,-999.000,9,  4.9491,      6
   18HU97009_1,  AR13,   123,  2, 188386,   OC80,2,19970608,1240, 53.1440, -50.5235, 3185,      6.2,   4.9909,  34.1913,2,-999.0000,9,    351.0,2,   -999.0,9,  -999.00,9,  -999.00,9,  -999.00,9, -999.000,9, -999.000,9, -999.000,9, -999.000,9,   -999.0,9,   -999.0,9,-999.000,9,  4.9904,      6
   18HU97009_1,  AR13,   123,  2, 188384,   OC81,2,19970608,1240, 53.1440, -50.5235, 3185,     40.3,   4.0433,  34.5621,2,  34.5620,2,    292.5,2,    319.2,2,     6.99,6,    11.13,6,     0.84,6,    5.051,6,    2.842,6,    0.258,6,    8.341,6,   2120.3,2,   2288.1,2, 834.263,3,  4.0406,     40
   18HU97009_1,  AR13,   123,  2, 188383,   OC69,2,19970608,1240, 53.1440, -50.5235, 3185,    100.0,   3.1987,  34.7070,2,  34.7080,2,    285.4,2,    308.0,2,     7.97,6,    14.84,6,     0.98,6,    4.910,2,    2.710,2, -999.000,5,    8.460,2,   2139.9,2,   2297.1,2, 619.690,3,  3.1925,    100
   18HU97009_1,  AR13,   123,  2, 188382,   OC52,2,19970608,1240, 53.1440, -50.5235, 3185,    200.2,   3.1796,  34.7660,2,  34.7655,2,    277.7,2,    298.9,2,     8.51,6,    15.36,6,     1.03,6,    4.340,2,    2.287,2,    0.321,2,    8.018,2,   2144.5,2,   2293.9,2,-999.000,3,  3.1669,    200
   18HU97009_1,  AR13,   123,  2, 188381,   OC51,2,19970608,1240, 53.1440, -50.5235, 3185,    299.1,   3.1882,  34.7981,2,  34.7981,2,    275.5,2,    295.4,2,     8.62,6,    15.87,6,     1.04,6,    4.330,2,    2.452,2,    0.370,3,    8.660,2,   2146.3,2,   2297.9,2,-999.000,3,  3.1690,    299
   18HU97009_1,  AR13,   123,  2, 188380,   OC60,2,19970608,1240, 53.1440, -50.5235, 3185,    399.5,   3.2348,  34.8255,2,  34.8258,2,    273.4,2,    292.7,2,     8.83,6,    15.90,6,     1.04,6,    3.999,2,    2.189,2,    0.321,2,    7.103,2,   2146.9,2,   2303.4,2,-999.000,3,  3.2086,    400
   18HU97009_1,  AR13,   123,  2, 188379,   OC61,2,19970608,1240, 53.1440, -50.5235, 3185,    518.9,   3.2184,  34.8392,2,  34.8385,2,    277.4,2,    296.4,2,     8.54,6,    15.55,6,     1.01,6,    4.106,2,    2.228,2,    0.350,2,    7.609,2,   2145.0,2,   2303.8,2, 976.716,3,  3.1840,    519
   18HU97009_1,  AR13,   123,  2, 188378,   OC82,2,19970608,1240, 53.1440, -50.5235, 3185,    658.6,   3.2110,  34.8518,2,  34.8511,2,    272.2,2,    290.9,2,     9.17,6,    16.46,6,     1.06,6,    3.804,2,    2.170,2,    0.341,2,    8.270,2,   2147.9,2,   2299.9,2,-999.000,3,  3.1666,    659
   18HU97009_1,  AR13,   123,  2, 188377,   OC83,2,19970608,1240, 53.1440, -50.5235, 3185,    818.7,   3.0862,  34.8443,2,  34.8440,2,    277.1,2,    293.8,2,     9.26,6,    16.26,6,     1.06,6,    3.830,2,    2.140,2, -999.000,5,    7.240,2,   2148.8,2,   2300.1,2,-999.000,3,  3.0307,    819
   18HU97009_1,  AR13,   123,  2, 188376,   OC94,2,19970608,1240, 53.1440, -50.5235, 3185,    999.1,   2.9710,  34.8346,2,  34.8338,2,    281.6,2,    298.1,2,     8.99,6,    16.14,6,     1.05,6,    4.070,2,    2.280,2, -999.000,5,    7.650,2,   2146.4,2,   2298.1,2, 947.420,3,  2.9028,    999
   18HU97009_1,  AR13,   123,  2, 188375,   OC85,2,19970608,1240, 53.1440, -50.5235, 3185,   1199.4,   2.9656,  34.8386,2,  34.8383,2,    281.9,2,    296.5,2,     9.20,6,    16.00,6,     1.04,6,    3.834,2,    2.034,2,    0.234,2,    8.465,2,   2146.5,2,   2303.1,2,-999.000,3,  2.8819,   1199
   18HU97009_1,  AR13,   123,  2, 188374,   OC86,2,19970608,1240, 53.1440, -50.5235, 3185,   1401.0,   3.0106,  34.8519,2,  34.8519,2,    280.8,2,    294.3,2,     9.51,6,    16.18,6,     1.06,6,    3.581,2,    1.946,2,    0.311,3,    7.307,2,   2165.0,3,   2303.3,2, 977.150,3,  2.9102,   1401
   18HU97009_1,  AR13,   123,  2, 188373,   OC87,2,19970608,1240, 53.1440, -50.5235, 3185,   1599.0,   2.9490,  34.8503,2,  34.8503,6,    283.8,2,    296.3,2,     9.40,6,    16.42,6,     1.04,6,    3.770,2,    2.050,2, -999.000,5,    8.240,2,   2148.6,2,   2302.5,2,-999.000,3,  2.8327,   1599
   18HU97009_1,  AR13,   123,  2, 188372,   OC88,2,19970608,1240, 53.1440, -50.5235, 3185,   1801.1,   2.9237,  34.8514,2,  34.8511,6,    284.5,2,    296.0,2,     9.54,6,    16.05,6,     1.04,6,    3.532,2,    1.849,2,    0.243,2,    7.803,2,   2154.6,2,   2301.2,2, 693.238,3,  2.7903,   1801
   18HU97009_1,  AR13,   123,  2, 188371,   OC65,2,19970608,1240, 53.1440, -50.5235, 3185,   1998.9,   2.9878,  34.8713,2,  34.8719,2,    280.6,2,    291.0,6,     9.79,6,    16.17,6,     1.02,6,    3.152,2,    1.732,2,    0.195,2,    6.665,2,   2146.1,2,   2298.1,2, 792.345,3,  2.8357,   1999
   18HU97009_1,  AR13,   123,  2, 188370,   OC84,2,19970608,1240, 53.1440, -50.5235, 3185,   2198.9,   2.9803,  34.8904,2,  34.8910,6,    277.6,2,    286.7,2,    10.37,6,    15.93,6,     1.03,6,    2.790,2,    1.510,2, -999.000,5,    6.230,2,   2150.0,2,   2302.1,2, 705.890,3,  2.8098,   2199
   18HU97009_1,  AR13,   123,  2, 188369,   OC90,2,19970608,1240, 53.1440, -50.5235, 3185,   2399.8,   2.8731,  34.9000,2,  34.9016,6,    277.0,2,    284.5,2,    10.64,6,    15.69,6,     1.03,6,    2.432,2,    1.333,2,    0.136,2,    5.633,2,   2157.6,2,   2304.5,2, 438.904,3,  2.6854,   2400
   18HU97009_1,  AR13,   123,  2, 188368,   OC91,2,19970608,1240, 53.1440, -50.5235, 3185,   2590.1,   2.7428,  34.9069,2,  34.9065,6,    276.8,2,    282.8,2,    11.35,6,    15.74,6,     1.02,6,    2.189,2,    1.187,2,    0.195,2,    5.254,2,   2146.6,2,   2305.0,2, 446.961,3,  2.5390,   2590
   18HU97009_1,  AR13,   123,  2, 188367,   OC64,2,19970608,1240, 53.1440, -50.5235, 3185,   2759.9,   2.5102,  34.9029,2,  34.9020,6,    280.3,2,    285.2,2,    11.45,6,    15.34,6,     1.02,6,    2.345,2,    1.206,2,    0.204,2,    5.711,2,   2151.2,2,   2307.9,2, 514.472,3,  2.2943,   2760
   18HU97009_1,  AR13,   123,  2, 188366,   OC95,2,19970608,1240, 53.1440, -50.5235, 3185,   2909.8,   2.2908,  34.8981,2,  34.8984,2,    284.3,2,    287.7,2,    11.48,6,    15.22,6,     0.99,6,    2.471,2,    1.090,2,    0.195,2,    6.110,2,   2146.4,2,   2306.4,2, 401.378,3,  2.0646,   2910
   18HU97009_1,  AR13,   123,  2, 188365,   OC58,2,19970608,1240, 53.1440, -50.5235, 3185,   3037.4,   1.9688,  34.8893,2,  34.8887,6,    293.8,2,    293.3,2,    10.62,6,    14.61,6,     0.97,6,    2.948,2,    1.508,2,    0.253,2,    6.985,2,   2157.3,2,   2303.2,6, 655.820,3,  1.7370,   3037
   18HU97009_1,  AR13,   123,  2, 188364,   OC93,2,19970608,1240, 53.1440, -50.5235, 3185,   3127.0,   1.8137,  34.8885,2,  34.8886,2,    302.7,2,    295.3,2,    10.25,6,    14.55,6,     0.94,6,    3.230,2,    1.644,2,    0.272,2,    7.617,2,   2158.4,2,   2307.1,2, 755.082,3,  1.5764,   3127
   18HU97009_1,  AR13,   123,  2, 188363,   OC66,2,19970608,1240, 53.1440, -50.5235, 3185,   3198.4,   1.7554,  34.8868,2,  34.8865,6,    301.8,2,    296.4,2,    10.26,6,    14.41,6,     0.94,6,    2.996,2,    1.712,2,    0.243,3,    7.462,2,   2151.5,6,   2304.1,2, 487.120,3,  1.5124,   3198