BOTTLE,20020708WHPSIOKJU
EXPOCODE,SECT_ID,STNNBR,CASTNO,SAMPNO,BTLNBR,BTLNBR_FLAG_W,DATE,TIME,LATITUDE,LONGITUDE,DEPTH,CTDPRS,CTDTMP,CTDSAL,CTDSAL_FLAG_W,SALNTY,SALNTY_FLAG_W,CTDOXY,CTDOXY_FLAG_W,OXYGEN,OXYGEN_FLAG_W,SILCAT,SILCAT_FLAG_W,NO2+NO3,NO2+NO3_FLAG_W,PHSPHT,PHSPHT_FLAG_W,CFC-11,CFC-11_FLAG_W,CFC-12,CFC-12_FLAG_W,CFC113,CFC113_FLAG_W,CCL4,CCL4_FLAG_W,TCARBN,TCARBN_FLAG_W,ALKALI,ALKALI_FLAG_W,MCHFRM,MCHFRM_FLAG_W,THETA,CTDRAW
,,,,,,,,,,,,DBAR,ITS-90,PSS-78,,PSS-78,,UMOL/KG,,UMOL/KG,,UMOL/KG,,UMOL/KG,,UMOL/KG,,PMOL/KG,,PMOL/KG,,PMOL/KG,,PMOL/KG,,UMOL/KG,,UMOL/KG,,PMOL/KG,,DEG C,
   18HU97009_1,  AR13,   120,  1, 188314,   OC80,2,19970607,1944, 53.2213, -48.0905, 3888,      9.4,   6.6985,  34.7152,2,-999.0000,9,    298.1,2,   -999.0,9,  -999.00,9,  -999.00,9,  -999.00,9, -999.000,9, -999.000,9, -999.000,9, -999.000,9,   -999.0,9,   -999.0,9,-999.000,9,  6.6976,      9
   18HU97009_1,  AR13,   120,  1, 188313,   OC55,2,19970607,1944, 53.2213, -48.0905, 3888,     60.2,   5.6011,  34.7605,2,  34.7639,2,    267.2,2,    289.1,2,     6.22,6,    13.13,6,     0.93,6, -999.000,9, -999.000,9, -999.000,9, -999.000,9,   2133.8,2,   2308.5,2,-999.000,9,  5.5961,     60
   18HU97009_1,  AR13,   120,  1, 188312,   OC81,2,19970607,1944, 53.2213, -48.0905, 3888,    139.0,   4.0457,  34.7144,2,  34.7141,2,    281.7,2,    302.0,2,     7.82,6,    14.33,6,     1.00,6, -999.000,9, -999.000,9, -999.000,9, -999.000,9,   2140.8,2,   2301.7,2,-999.000,9,  4.0360,    139
   18HU97009_1,  AR13,   120,  1, 188311,   OC69,2,19970607,1944, 53.2213, -48.0905, 3888,    280.3,   3.7166,  34.7166,2,  34.7164,2,    283.5,2,    302.7,2,     7.83,6,    14.50,6,     1.00,6, -999.000,9, -999.000,9, -999.000,9, -999.000,9,   2141.9,2,   2303.7,2,-999.000,9,  3.6975,    280
   18HU97009_1,  AR13,   120,  1, 188310,   OC52,2,19970607,1944, 53.2213, -48.0905, 3888,    439.5,   3.4926,  34.7574,2,  34.7573,2,    274.7,2,    292.0,2,     8.76,6,    16.05,6,     1.07,6, -999.000,9, -999.000,9, -999.000,9, -999.000,9,   2149.4,2,   2290.6,3,-999.000,9,  3.4628,    440
   18HU97009_1,  AR13,   120,  1, 188309,   OC51,2,19970607,1944, 53.2213, -48.0905, 3888,    599.7,   3.7517,  34.8765,2,  34.8762,2,    257.9,2,    272.2,2,    10.12,6,    17.35,6,     1.12,6, -999.000,9, -999.000,9, -999.000,9, -999.000,9,   2159.2,2,   2307.1,2,-999.000,9,  3.7089,    600
   18HU97009_1,  AR13,   120,  1, 188308,   OC60,2,19970607,1944, 53.2213, -48.0905, 3888,    759.3,   3.4464,  34.8596,2,  34.8597,2,    264.2,2,    277.7,2,    10.11,6,    17.72,6,     1.14,6, -999.000,9, -999.000,9, -999.000,9, -999.000,9,   2158.2,2,   2307.2,2,-999.000,9,  3.3931,    759
   18HU97009_1,  AR13,   120,  1, 188307,   OC61,2,19970607,1944, 53.2213, -48.0905, 3888,    879.7,   3.2728,  34.8551,2,  34.8554,2,    269.7,2,    283.5,2,    10.08,6,    17.20,6,     1.11,6, -999.000,9, -999.000,9, -999.000,9, -999.000,9,   2156.6,2,   2307.5,2,-999.000,9,  3.2115,    880
   18HU97009_1,  AR13,   120,  1, 188306,   OC82,2,19970607,1944, 53.2213, -48.0905, 3888,    998.8,   3.2101,  34.8581,2,  34.8582,2,    273.1,2,    286.7,2,     9.99,6,    16.92,6,     1.11,6, -999.000,9, -999.000,9, -999.000,9, -999.000,9,   2156.2,2,   2305.6,2,-999.000,9,  3.1401,    999
   18HU97009_1,  AR13,   120,  1, 188305,   OC83,2,19970607,1944, 53.2213, -48.0905, 3888,   1158.8,   3.0566,  34.8440,2,  34.8436,2,    278.3,2,    291.6,2,     9.75,6,    16.93,6,     1.11,6, -999.000,9, -999.000,9, -999.000,9, -999.000,9,   2153.1,2,   2307.4,2,-999.000,9,  2.9753,   1159
   18HU97009_1,  AR13,   120,  1, 188304,   OC94,2,19970607,1944, 53.2213, -48.0905, 3888,   1359.7,   2.9867,  34.8415,2,  34.8415,2,    281.9,2,    294.4,2,     9.76,6,    16.97,6,     1.10,6, -999.000,9, -999.000,9, -999.000,9, -999.000,9,   2149.5,2,   2300.9,2,-999.000,9,  2.8899,   1360
   18HU97009_1,  AR13,   120,  1, 188303,   OC85,2,19970607,1944, 53.2213, -48.0905, 3888,   1560.7,   2.9434,  34.8412,2,  34.8421,2,    283.7,2,    295.7,2,     9.68,6,    16.70,6,     1.08,6, -999.000,9, -999.000,9, -999.000,9, -999.000,9,   2149.8,2,   2302.0,2,-999.000,9,  2.8304,   1561
   18HU97009_1,  AR13,   120,  1, 188302,   OC86,2,19970607,1944, 53.2213, -48.0905, 3888,   1760.2,   2.9142,  34.8402,2,  34.8399,6,    285.8,2,    297.2,2,     9.57,6,    16.50,6,     1.09,6, -999.000,9, -999.000,9, -999.000,9, -999.000,9,   2149.3,2,   2295.2,2,-999.000,9,  2.7845,   1760
   18HU97009_1,  AR13,   120,  1, 188301,   OC87,2,19970607,1944, 53.2213, -48.0905, 3888,   1961.1,   2.9041,  34.8407,2,  34.8412,6,    287.4,2,    297.8,2,     9.47,6,    16.52,6,     1.08,6, -999.000,9, -999.000,9, -999.000,9, -999.000,9,   2149.8,2,   2298.1,2,-999.000,9,  2.7568,   1961
   18HU97009_1,  AR13,   120,  1, 188300,   OC88,2,19970607,1944, 53.2213, -48.0905, 3888,   2180.1,   2.9485,  34.8506,2,  34.8500,6,    285.6,2,    295.5,2,     9.83,6,    16.47,6,     1.09,6, -999.000,9, -999.000,9, -999.000,9, -999.000,9,   2153.0,2,   2299.0,2,-999.000,9,  2.7804,   2180
   18HU97009_1,  AR13,   120,  1, 188299,   OC65,2,19970607,1944, 53.2213, -48.0905, 3888,   2400.2,   3.0884,  34.8935,2,  34.8929,2,    275.8,2,    283.8,2,    11.07,6,    16.71,6,     1.10,6, -999.000,9, -999.000,9, -999.000,9, -999.000,9,   2153.9,2,   2297.3,2,-999.000,9,  2.8968,   2400
   18HU97009_1,  AR13,   120,  1, 188298,   OC84,2,19970607,1944, 53.2213, -48.0905, 3888,   2620.4,   3.0374,  34.9152,2,  34.9158,6,    272.1,2,    278.5,2,    12.23,6,    16.67,6,     1.10,6, -999.000,9, -999.000,9, -999.000,9, -999.000,9,   2153.9,2,   2297.4,2,-999.000,9,  2.8249,   2620
   18HU97009_1,  AR13,   120,  1, 188297,   OC90,2,19970607,1944, 53.2213, -48.0905, 3888,   2840.1,   2.9111,  34.9205,2,  34.9202,6,    272.3,2,    277.5,2,    13.02,6,    16.63,6,     1.08,6, -999.000,9, -999.000,9, -999.000,9, -999.000,9,   2155.2,2,   2298.9,2,-999.000,9,  2.6789,   2840
   18HU97009_1,  AR13,   120,  1, 188296,   OC91,2,19970607,1944, 53.2213, -48.0905, 3888,   3058.6,   2.7018,  34.9179,2,  34.9170,6,    274.1,2,    278.0,2,    14.09,6,    16.46,6,     1.09,6, -999.000,9, -999.000,9, -999.000,9, -999.000,9,   2155.6,2,   2304.6,2,-999.000,9,  2.4515,   3059
   18HU97009_1,  AR13,   120,  1, 188295,   OC64,2,19970607,1944, 53.2213, -48.0905, 3888,   3281.6,   2.4982,  34.9098,2,  34.9093,6,    276.6,2,    279.4,2,    14.96,6,    16.40,6,     1.09,6, -999.000,9, -999.000,9, -999.000,9, -999.000,9,   2153.8,2,   2306.8,2,-999.000,9,  2.2292,   3282
   18HU97009_1,  AR13,   120,  1, 188294,   OC95,2,19970607,1944, 53.2213, -48.0905, 3888,   3489.6,   2.3369,  34.9020,2,  34.9020,2,    280.1,2,    281.5,2,    15.43,6,    16.29,6,     1.08,6, -999.000,9, -999.000,9, -999.000,9, -999.000,9,   2155.4,2,   2308.3,2,-999.000,9,  2.0497,   3490
   18HU97009_1,  AR13,   120,  1, 188293,   OC58,2,19970607,1944, 53.2213, -48.0905, 3888,   3681.1,   2.1596,  34.8922,2,  34.8920,6,    286.2,2,    285.8,6,    14.15,6,    15.82,6,     1.03,6, -999.000,9, -999.000,9, -999.000,9, -999.000,9,   2157.2,2,   2303.0,2,-999.000,9,  1.8562,   3681
   18HU97009_1,  AR13,   120,  1, 188292,   OC93,2,19970607,1944, 53.2213, -48.0905, 3888,   3830.9,   2.0094,  34.8839,2,  34.8843,2,    292.5,2,    290.4,2,    12.79,6,    15.41,6,     1.03,6, -999.000,9, -999.000,9, -999.000,9, -999.000,9,   2156.5,6,   2304.7,2,-999.000,9,  1.6937,   3831
   18HU97009_1,  AR13,   120,  1, 188291,   OC66,2,19970607,1944, 53.2213, -48.0905, 3888,   3931.7,   1.7331,  34.8764,2,  34.8760,6,    299.0,2,    296.5,2,    11.68,6,    14.96,6,     1.01,6, -999.000,9, -999.000,9, -999.000,9, -999.000,9,   2155.2,2,   2304.8,2,-999.000,9,  1.4139,   3932
   18HU97009_1,  AR13,   121,  3, 188338,   OC80,2,19970608,0305, 53.4443, -49.4872, 3705,      9.7,   6.0980,  34.4751,2,  34.4664,2,    329.2,2,    370.9,2,     0.54,6,     2.56,6,     0.30,6,    4.960,2,    2.740,2, -999.000,5,    8.140,3,   2040.3,3,   2305.0,2,  88.510,3,  6.0972,     10
   18HU97009_1,  AR13,   121,  3, 188337,   OC55,2,19970608,0305, 53.4443, -49.4872, 3705,     69.9,   3.5068,  34.6662,2,  34.6699,2,    279.4,2,    303.1,2,     8.74,6,    14.29,6,     1.02,6,    4.840,2,    2.760,2, -999.000,5,    9.380,3,   2141.2,2,   2290.4,2, 126.350,3,  3.5022,     70
   18HU97009_1,  AR13,   121,  3, 188336,   OC81,2,19970608,0305, 53.4443, -49.4872, 3705,    138.5,   3.3372,  34.7210,2,  34.7219,2,    280.6,2,    302.6,2,     8.42,6,    15.27,6,     1.04,6,    4.710,2,    2.810,2, -999.000,5,    7.900,3,   2143.8,2,   2292.4,2,  64.010,3,  3.3283,    139
   18HU97009_1,  AR13,   121,  3, 188335,   OC69,2,19970608,0305, 53.4443, -49.4872, 3705,    244.2,   3.1377,  34.7338,2,  34.7337,2,    280.2,2,    302.1,2,     8.62,6,    15.27,6,     1.04,6,    4.580,2,    2.620,2, -999.000,5,    6.710,2,   -999.0,5,   2287.2,2,   0.000,3,  3.1223,    244
   18HU97009_1,  AR13,   121,  3, 188334,   OC52,2,19970608,0305, 53.4443, -49.4872, 3705,    359.2,   3.4945,  34.8232,2,  34.8240,2,    264.0,2,    282.5,2,     9.44,6,    16.51,6,     1.08,6,    4.020,2,    2.180,2, -999.000,5,    6.970,2,   2154.1,2,   2299.0,2, 129.100,3,  3.4703,    359
   18HU97009_1,  AR13,   121,  3, 188333,   OC51,2,19970608,0305, 53.4443, -49.4872, 3705,    499.6,   3.6293,  34.8682,2,  34.8678,2,    259.2,2,    276.8,2,     9.99,6,    17.33,6,     1.12,6,    3.600,2,    1.860,2, -999.000,5,    6.440,2,   2155.7,2,   2299.5,2,  35.850,3,  3.5946,    500
   18HU97009_1,  AR13,   121,  3, 188332,   OC60,2,19970608,0305, 53.4443, -49.4872, 3705,    651.9,   3.4780,  34.8717,2,  34.8723,2,    264.0,2,    280.7,2,    10.03,6,    17.07,6,     1.12,6,    3.600,2,    1.980,2, -999.000,5,    6.620,2,   2154.2,2,   2299.1,2, 120.260,3,  3.4326,    652
   18HU97009_1,  AR13,   121,  3, 188331,   OC61,2,19970608,0305, 53.4443, -49.4872, 3705,    825.4,   3.3794,  34.8755,2,  34.8760,2,    267.1,2,    283.4,2,    10.17,6,    16.85,6,     1.10,6,    3.510,2,    1.890,2, -999.000,5,    6.030,2,   2153.1,2,   2297.1,2, 124.400,3,  3.3215,    825
   18HU97009_1,  AR13,   121,  3, 188330,   OC82,2,19970608,0305, 53.4443, -49.4872, 3705,   1002.2,   3.2618,  34.8727,2,  34.8733,2,    270.2,2,    285.5,2,    10.29,6,    16.89,6,     1.11,6,    3.300,2,    1.750,2, -999.000,5,    5.280,2,   2151.7,2,   2300.2,2,  26.040,3,  3.1911,   1002
   18HU97009_1,  AR13,   121,  3, 188329,   OC83,2,19970608,0305, 53.4443, -49.4872, 3705,   1187.9,   3.1689,  34.8685,2,  34.8705,2,    273.1,2,    288.2,2,    10.33,6,    17.09,6,     1.12,6,    3.260,2,    1.610,2, -999.000,5,    5.900,2,   2151.1,2,   2302.4,2,  87.800,3,  3.0843,   1188
   18HU97009_1,  AR13,   121,  3, 188328,   OC94,2,19970608,0305, 53.4443, -49.4872, 3705,   1399.4,   3.0762,  34.8636,2,  34.8643,2,    276.7,2,    290.9,2,    10.35,6,    16.69,6,     1.11,6,    3.410,2,    1.700,2, -999.000,5,    5.850,2,   2149.1,2,   2299.3,2, 115.480,3,  2.9751,   1399
   18HU97009_1,  AR13,   121,  3, 188327,   OC85,2,19970608,0305, 53.4443, -49.4872, 3705,   1618.6,   3.0189,  34.8611,2,  34.8615,2,    278.8,2,    292.1,2,    10.19,6,    16.74,6,     1.09,6,    3.420,2,    1.790,2, -999.000,5,    5.430,2,   2149.9,2,   2301.6,2,  14.750,3,  2.9000,   1619
   18HU97009_1,  AR13,   121,  3, 188326,   OC86,2,19970608,0305, 53.4443, -49.4872, 3705,   1834.8,   2.9891,  34.8642,2,  34.8647,2,    279.1,2,    291.8,2,    10.29,6,    16.45,6,     1.09,6,    3.280,2,    1.640,2, -999.000,5,    5.740,2,   2150.6,2,   2301.7,6,  83.340,3,  2.8518,   1835
   18HU97009_1,  AR13,   121,  3, 188325,   OC87,2,19970608,0305, 53.4443, -49.4872, 3705,   2054.7,   3.0583,  34.8903,2,  34.8895,6,    273.4,2,    284.5,2,    11.23,6,    16.76,6,     1.10,6,    2.560,2,    1.300,2, -999.000,5,    4.480,2,   2151.8,2,   -999.0,5,  73.280,3,  2.9000,   2055
   18HU97009_1,  AR13,   121,  3, 188324,   OC88,2,19970608,0305, 53.4443, -49.4872, 3705,   2269.8,   3.0460,  34.9058,2,  34.9059,6,    271.1,2,    280.4,2,    12.03,6,    16.43,6,     1.09,6,    2.080,2,    1.270,2, -999.000,5,    3.710,2,   2151.3,2,   2306.1,6,  27.740,3,  2.8676,   2270
   18HU97009_1,  AR13,   121,  3, 188323,   OC65,2,19970608,0305, 53.4443, -49.4872, 3705,   2487.9,   2.9466,  34.9151,2,  34.9155,2,    270.2,2,    278.3,2,    12.65,6,    16.41,6,     1.09,6,    1.790,2,    0.860,2, -999.000,5,    3.560,2,   2151.8,6,   2310.4,2,  58.360,3,  2.7489,   2488
   18HU97009_1,  AR13,   121,  3, 188322,   OC84,2,19970608,0305, 53.4443, -49.4872, 3705,   2684.7,   2.8499,  34.9221,2,  34.9222,6,    270.1,2,    277.1,2,    13.35,6,    16.55,6,     1.09,6,    1.570,6,    0.747,6, -999.000,5,    3.373,6,   2151.0,2,   2309.8,2,  46.993,3,  2.6346,   2685
   18HU97009_1,  AR13,   121,  3, 188321,   OC90,2,19970608,0305, 53.4443, -49.4872, 3705,   2873.5,   2.7188,  34.9202,2,  34.9198,6,    271.3,2,    277.4,6,    14.07,6,    16.31,6,     1.09,6,    1.620,2,    0.760,2, -999.000,5,    3.480,2,   2154.0,2,   2312.2,2,  49.930,3,  2.4872,   2874
   18HU97009_1,  AR13,   121,  3, 188320,   OC91,2,19970608,0305, 53.4443, -49.4872, 3705,   3054.7,   2.5449,  34.9123,2,  34.9115,6,    273.8,2,    279.2,2,    14.39,6,    16.04,6,     1.08,6,    1.680,2,    0.930,2, -999.000,5,    3.450,2,   2154.4,2,   2313.1,2,  24.020,3,  2.2985,   3055
   18HU97009_1,  AR13,   121,  3, 188319,   OC64,2,19970608,0305, 53.4443, -49.4872, 3705,   3214.3,   2.3950,  34.9045,2,  34.9056,6,    276.9,2,    281.6,2,    14.30,6,    16.01,6,     1.07,6,    1.890,2,    0.930,2, -999.000,5,    4.110,2,   2153.8,2,   2313.5,2,  58.010,3,  2.1355,   3214
   18HU97009_1,  AR13,   121,  3, 188318,   OC95,2,19970608,0305, 53.4443, -49.4872, 3705,   3371.2,   2.2726,  34.8981,2,  34.8986,2,    280.7,2,    283.8,2,    14.18,6,    15.94,6,     1.06,6,    2.150,2,    1.010,2, -999.000,5,    4.780,2,   2152.1,2,   2309.2,2,  65.050,3,  1.9995,   3371
   18HU97009_1,  AR13,   121,  3, 188317,   OC58,2,19970608,0305, 53.4443, -49.4872, 3705,   3510.5,   2.0585,  34.8871,2,  34.8871,6,    288.0,2,    290.7,2,    12.08,6,    15.27,6,     1.03,6,    2.810,2,    1.590,2, -999.000,5,    5.900,2,   2148.9,2,   2306.6,2,  37.650,3,  1.7761,   3511
   18HU97009_1,  AR13,   121,  3, 188316,   OC93,2,19970608,0305, 53.4443, -49.4872, 3705,   3640.2,   1.7990,  34.8809,2,  34.8813,2,    294.8,2,    295.9,2,    11.04,6,    14.71,6,     1.00,6,    3.400,2,    1.690,2, -999.000,5,    6.910,2,   2148.9,2,   2303.0,2,  89.470,3,  1.5095,   3640
   18HU97009_1,  AR13,   121,  3, 188315,   OC66,2,19970608,0305, 53.4443, -49.4872, 3705,   3743.8,   1.6031,  34.8765,2,  34.8757,6,    299.4,2,    299.5,2,    11.13,6,    14.45,6,     1.00,6,    3.690,2,    1.950,2, -999.000,5,    7.790,2,   2152.3,2,   2313.6,2, 102.100,3,  1.3078,   3744