BOTTLE,20020708WHPSIOKJU
EXPOCODE,SECT_ID,STNNBR,CASTNO,SAMPNO,BTLNBR,BTLNBR_FLAG_W,DATE,TIME,LATITUDE,LONGITUDE,DEPTH,CTDPRS,CTDTMP,CTDSAL,CTDSAL_FLAG_W,SALNTY,SALNTY_FLAG_W,CTDOXY,CTDOXY_FLAG_W,OXYGEN,OXYGEN_FLAG_W,SILCAT,SILCAT_FLAG_W,NO2+NO3,NO2+NO3_FLAG_W,PHSPHT,PHSPHT_FLAG_W,CFC-11,CFC-11_FLAG_W,CFC-12,CFC-12_FLAG_W,CFC113,CFC113_FLAG_W,CCL4,CCL4_FLAG_W,TCARBN,TCARBN_FLAG_W,ALKALI,ALKALI_FLAG_W,MCHFRM,MCHFRM_FLAG_W,THETA,CTDRAW
,,,,,,,,,,,,DBAR,ITS-90,PSS-78,,PSS-78,,UMOL/KG,,UMOL/KG,,UMOL/KG,,UMOL/KG,,UMOL/KG,,PMOL/KG,,PMOL/KG,,PMOL/KG,,PMOL/KG,,UMOL/KG,,UMOL/KG,,PMOL/KG,,DEG C,
   18HU97009_1,  AR27,   108,  6, 188057,   OC80,2,19970604,1529, 59.4880, -55.6600, -999,     10.0,   4.8814,  34.6678,2,-999.0000,9,    335.2,2,   -999.0,9,  -999.00,9,  -999.00,9,  -999.00,9, -999.000,9, -999.000,9, -999.000,9, -999.000,9,   -999.0,9,   -999.0,9,-999.000,9,  4.8807,     10
   18HU97009_1,  AR27,   108,  6, 188056,   OC55,2,19970604,1529, 59.4880, -55.6600, -999,     60.9,   3.5824,  34.7505,2,  34.7486,2,    301.2,2,    314.5,6,     7.39,6,    12.51,6,     0.96,6,    5.119,2,    2.793,2,    0.272,2,    8.233,3,   2137.6,2,   -999.0,5,  47.089,4,  3.5784,     61
   18HU97009_1,  AR27,   108,  6, 188055,   OC81,2,19970604,1529, 59.4880, -55.6600, -999,    130.1,   3.5192,  34.8203,2,  34.8199,2,    290.1,2,    302.0,6,     8.16,6,    15.12,6,     1.03,6,    4.680,2,    2.413,2,    0.234,2,    7.862,2,   2146.0,2,   -999.0,5,  41.588,4,  3.5106,    130
   18HU97009_1,  AR27,   108,  6, 188054,   OC69,2,19970604,1529, 59.4880, -55.6600, -999,    224.4,   3.4377,  34.8323,2,  34.8321,2,    287.9,2,    298.5,6,     8.24,6,    15.16,6,     1.04,6,    4.641,2,    2.481,2,    0.234,2,    7.755,2,   2149.1,2,   -999.0,5,  40.469,4,  3.4229,    224
   18HU97009_1,  AR27,   108,  6, 188053,   OC52,2,19970604,1529, 59.4880, -55.6600, -999,    329.4,   3.3923,  34.8402,2,  34.8399,2,    287.1,2,    297.6,2,     8.42,6,    15.44,6,     1.05,6,    4.505,2,    2.423,2,    0.224,2,    7.852,2,   2147.6,2,   -999.0,5,  40.050,4,  3.3704,    329
   18HU97009_1,  AR27,   108,  6, 188052,   OC51,2,19970604,1529, 59.4880, -55.6600, -999,    460.1,   3.3408,  34.8484,2,  34.8482,2,    285.7,2,    295.0,6,     8.69,6,    15.38,6,     1.03,6,    4.320,2,    2.335,2,    0.165,3,    7.288,2,   2149.2,2,   -999.0,5,  38.706,2,  3.3100,    460
   18HU97009_1,  AR27,   108,  6, 188051,   OC60,2,19970604,1529, 59.4880, -55.6600, -999,    600.8,   3.2383,  34.8463,2,  34.8458,2,    287.1,2,    295.7,6,     8.64,6,    15.67,6,     1.06,6,    4.359,2,    2.364,2,    0.214,2,    7.220,2,   2150.5,2,   -999.0,5,  37.646,2,  3.1979,    601
   18HU97009_1,  AR27,   108,  6, 188050,   OC61,2,19970604,1529, 59.4880, -55.6600, -999,    755.2,   3.1781,  34.8488,2,  34.8487,2,    286.9,2,    295.1,6,     8.95,6,    15.98,6,     1.07,6,    4.290,6,    2.311,6,    0.195,2,    7.188,6,   2150.3,2,   -999.0,5,  37.110,2,  3.1268,    755
   18HU97009_1,  AR27,   108,  6, 188049,   OC82,2,19970604,1529, 59.4880, -55.6600, -999,    923.3,   3.1018,  34.8482,2,  34.8486,2,    287.6,2,    295.1,6,     9.29,6,    16.36,6,     1.10,6,    4.213,2,    2.238,2,    0.195,2,    7.259,2,   2149.9,2,   -999.0,5,  37.917,2,  3.0383,    923
   18HU97009_1,  AR27,   108,  6, 188048,   OC83,2,19970604,1529, 59.4880, -55.6600, -999,   1101.2,   3.0343,  34.8451,2,  34.8444,2,    288.9,2,    295.6,6,     9.35,6,    16.02,6,     1.11,6,    4.155,2,    2.238,2,    0.185,2,    6.889,2,   2150.5,2,   -999.0,5,  36.039,2,  2.9577,   1101
   18HU97009_1,  AR27,   108,  6, 188047,   OC94,2,19970604,1529, 59.4880, -55.6600, -999,   1280.4,   3.0904,  34.8601,2,  34.8595,2,    286.9,2,    293.1,6,    10.16,6,    16.26,6,     1.11,6,    3.970,2,    2.043,2,    0.175,2,    6.315,2,   2153.9,2,   -999.0,5,  34.726,2,  2.9990,   1280
   18HU97009_1,  AR27,   108,  6, 188046,   OC85,2,19970604,1529, 59.4880, -55.6600, -999,   1461.4,   3.0482,  34.8594,2,  34.8592,2,    289.0,2,    295.6,6,     9.78,6,    16.51,6,     1.08,6,    3.882,2,    2.034,2,    0.175,2,    6.208,2,   2153.3,2,   -999.0,5,  35.406,2,  2.9423,   1461
   18HU97009_1,  AR27,   108,  6, 188045,   OC86,2,19970604,1529, 59.4880, -55.6600, -999,   1640.2,   2.9794,  34.8540,2,  34.8537,2,    291.2,2,    295.7,6,    10.74,6,    16.15,6,     1.09,6,    3.853,2,    2.053,2,    0.165,2,    6.023,2,   2152.6,2,   -999.0,5,  33.782,3,  2.8592,   1640
   18HU97009_1,  AR27,   108,  6, 188044,   OC87,2,19970604,1529, 59.4880, -55.6600, -999,   1822.9,   2.9449,  34.8527,2,  34.8519,6,    292.2,2,    296.0,6,     9.81,3,    16.20,6,     1.09,6,    3.853,2,    1.985,2,    0.165,2,    6.023,2,   2152.2,2,   -999.0,5,  35.280,2,  2.8093,   1823
   18HU97009_1,  AR27,   108,  6, 188043,   OC88,2,19970604,1529, 59.4880, -55.6600, -999,   2002.9,   2.9731,  34.8620,2,  34.8615,6,    290.4,2,    293.5,6,     9.77,6,    16.24,6,     1.07,6,    3.649,2,    1.936,2,    0.156,2,    5.993,2,   2148.9,2,   -999.0,5,  35.678,2,  2.8209,   2003
   18HU97009_1,  AR27,   108,  6, 188042,   OC65,2,19970604,1529, 59.4880, -55.6600, -999,   2182.7,   3.0238,  34.8827,2,  34.8823,2,    285.7,2,    287.7,6,    10.24,6,    16.16,6,     1.06,6,    3.113,2,    1.664,2,    0.126,2,    5.594,2,   2149.9,2,   -999.0,5,  28.099,2,  2.8541,   2183
   18HU97009_1,  AR27,   108,  6, 188041,   OC84,2,19970604,1529, 59.4880, -55.6600, -999,   2357.1,   2.9804,  34.8944,2,  34.8953,6,    283.6,2,    285.1,6,    10.63,6,    15.98,6,     1.11,6,    2.851,2,    1.508,2,    0.000,2,    5.750,2,   2151.6,2,   -999.0,5,  28.458,2,  2.7949,   2357
   18HU97009_1,  AR27,   108,  6, 188040,   OC90,2,19970604,1529, 59.4880, -55.6600, -999,   2536.8,   2.8848,  34.9031,2,  34.9025,6,    283.1,2,    283.9,6,    10.99,6,    15.87,6,     1.09,6,    2.627,2,    1.352,2,    0.000,2,    5.721,2,   2153.7,6,   -999.0,5,  27.388,2,  2.6835,   2537
   18HU97009_1,  AR27,   108,  6, 188039,   OC91,2,19970604,1529, 59.4880, -55.6600, -999,   2718.1,   2.7155,  34.9053,2,  34.9079,6,    283.5,2,    283.3,6,    11.26,6,    15.49,6,     1.08,6,    2.500,2,    1.274,2,    0.000,2,    5.954,2,   -999.0,5,   -999.0,5,  24.352,3,  2.4996,   2718
   18HU97009_1,  AR27,   108,  6, 188038,   OC64,2,19970604,1529, 59.4880, -55.6600, -999,   2879.6,   2.5219,  34.9053,2,  34.9050,6,    285.1,2,    284.1,6,    11.62,6,    15.38,6,     1.06,6,    2.452,2,    1.255,2,    0.000,2,    6.246,2,   2156.2,2,   -999.0,5,  23.641,3,  2.2938,   2880
   18HU97009_1,  AR27,   108,  6, 188037,   OC95,2,19970604,1529, 59.4880, -55.6600, -999,   3009.5,   2.2799,  34.9002,2,  34.8999,6,    288.9,2,    287.1,6,    11.46,6,    15.30,6,     1.05,6,    2.724,2,    1.469,2,    0.000,2,    6.732,2,   -999.0,5,   -999.0,5,  27.133,3,  2.0439,   3010
   18HU97009_1,  AR27,   108,  6, 188036,   OC58,2,19970604,1529, 59.4880, -55.6600, -999,   3119.0,   1.9445,  34.8935,2,  34.8928,6,    295.6,2,    292.9,6,    10.38,6,    14.41,6,     1.04,6,    3.220,2,    1.673,2,    0.136,3,    7.773,2,   2155.9,2,   -999.0,5,  29.059,2,  1.7051,   3119
   18HU97009_1,  AR27,   108,  6, 188035,   OC93,2,19970604,1529, 59.4880, -55.6600, -999,   3201.6,   1.6962,  34.8888,2,  34.8882,2,    299.1,2,    295.7,6,    10.37,6,    14.34,6,     1.02,6,    3.531,2,    1.848,2,    0.156,3,    8.240,2,   2157.4,2,   -999.0,5,  31.851,2,  1.4543,   3202
   18HU97009_1,  AR27,   108,  6, 188034,   OC66,2,19970604,1529, 59.4880, -55.6600, -999,   3264.7,   1.7015,  34.8886,2,  34.8885,6,    299.6,2,    295.8,6,    10.50,6,    14.30,6,     1.03,6,    3.561,2,    1.839,2,    0.117,3,    7.627,2,   2157.7,2,   -999.0,5,  31.919,2,  1.4531,   3265
   18HU97009_1,  AR27,   109,  3, 188087,   OC80,2,19970605,0104, 58.0737, -54.5063, 3423,      9.5,   5.3527,  34.1786,2,  34.1980,2,    326.2,2,    362.5,2,     1.86,6,     0.00,6,     0.26,6,    5.443,2,    2.834,2,    0.243,2,    9.065,3,   2001.4,2,   -999.0,5,  50.994,3,  5.3520,     10
   18HU97009_1,  AR27,   109,  3, 188086,   OC55,2,19970605,0104, 58.0737, -54.5063, 3423,     60.3,   3.7721,  34.7379,2,  34.7384,2,    292.6,2,    318.4,2,     7.80,6,    12.36,6,     0.99,6,    5.180,2,    2.900,2, -999.000,5,   12.590,3,   2135.3,3,   2294.2,2,  46.200,4,  3.7681,     60
   18HU97009_1,  AR27,   109,  3, 188085,   OC81,2,19970605,0104, 58.0737, -54.5063, 3423,    128.2,   3.3623,  34.7942,2,  34.7936,2,    272.9,2,    293.8,2,     8.79,6,    15.06,6,     1.07,6,    4.476,2,    2.452,2,    0.185,2,    9.380,3,   2147.8,2,   2260.9,2,  37.745,3,  3.3540,    128
   18HU97009_1,  AR27,   109,  3, 188084,   OC69,2,19970605,0104, 58.0737, -54.5063, 3423,    224.0,   3.2836,  34.8188,2,  34.8199,2,    276.1,2,    296.3,6,     8.71,2,    15.33,6,     1.06,6,    4.630,2,    2.370,2, -999.000,5,   10.460,3,   2147.7,2,   -999.0,5,  43.660,4,  3.2692,    224
   18HU97009_1,  AR27,   109,  3, 188083,   OC52,3,19970605,0104, 58.0737, -54.5063, 3423,    329.1,   3.2931,  34.8347,2,  34.8305,2,    275.9,2,    296.9,2,     8.51,6,    14.94,6,     1.06,6,    4.359,2,    2.326,2,    0.165,3,    8.679,2,   2147.6,2,   -999.0,5,  36.936,3,  3.2716,    329
   18HU97009_1,  AR27,   109,  3, 188082,   OC51,2,19970605,0104, 58.0737, -54.5063, 3423,    460.4,   3.2127,  34.8337,2,  34.8346,2,    278.2,2,    298.0,2,     8.38,6,    15.01,6,     1.03,6,    4.495,2,    2.491,2,    0.185,2,    8.708,2,   2149.6,2,   -999.0,4,  38.512,2,  3.1824,    460
   18HU97009_1,  AR27,   109,  3, 188081,   OC60,2,19970605,0104, 58.0737, -54.5063, 3423,    598.6,   3.1341,  34.8329,2,  34.8332,2,    278.7,2,    297.5,2,     9.03,6,    15.35,6,     1.06,6,    4.349,2,    2.403,2,    0.175,2,    9.010,2,   2150.6,2,   -999.0,5,  42.365,3,  3.0944,    599
   18HU97009_1,  AR27,   109,  3, 188080,   OC61,2,19970605,0104, 58.0737, -54.5063, 3423,    755.2,   3.1111,  34.8386,2,  34.8372,2,    279.9,2,    298.5,2,     8.74,6,    15.22,6,     1.07,6,    4.398,2,    2.432,2,    0.165,2,    8.494,2,   2150.4,2,   2293.7,2,  37.645,2,  3.0601,    755
   18HU97009_1,  AR27,   109,  3, 188079,   OC82,2,19970605,0104, 58.0737, -54.5063, 3423,    924.3,   3.0647,  34.8414,2,  34.8411,2,    278.8,2,    296.3,2,     9.02,6,    15.56,6,     1.08,6,    4.223,2,    2.296,2,    0.165,2,    7.940,2,   2151.4,2,   -999.0,5,  36.331,2,  3.0015,    924
   18HU97009_1,  AR27,   109,  3, 188078,   OC83,2,19970605,0104, 58.0737, -54.5063, 3423,   1098.6,   3.0012,  34.8374,2,  34.8374,2,    281.1,2,    298.1,2,     9.05,6,    15.67,6,     1.07,6,    4.252,2,    2.277,2,    0.146,3,    8.231,2,   2151.5,2,   -999.0,5,  39.941,3,  2.9251,   1099
   18HU97009_1,  AR27,   109,  3, 188077,   OC94,2,19970605,0104, 58.0737, -54.5063, 3423,   1290.3,   3.0054,  34.8431,2,  34.8433,2,    279.9,2,    296.2,2,     9.27,6,    16.00,6,     1.10,6,    4.067,2,    2.199,2,    0.156,2,    7.667,2,   2152.2,2,   2294.5,2,  34.852,2,  2.9141,   1290
   18HU97009_1,  AR27,   109,  3, 188076,   OC85,2,19970605,0104, 58.0737, -54.5063, 3423,   1490.0,   3.0448,  34.8550,2,  34.8544,2,    279.3,2,    294.9,2,     9.58,6,    16.11,6,     1.09,6,    3.941,2,    2.043,2,    0.136,2,    7.083,2,   2152.5,2,   -999.0,5,  34.424,2,  2.9366,   1490
   18HU97009_1,  AR27,   109,  3, 188075,   OC86,2,19970605,0104, 58.0737, -54.5063, 3423,   1678.0,   3.0171,  34.8560,2,  34.8555,6,    281.0,2,    295.4,2,     9.53,6,    15.93,6,     1.08,6,    3.863,2,    2.150,2,    0.000,2,    6.412,2,   2153.3,2,   2289.0,2,  38.569,3,  2.8932,   1678
   18HU97009_1,  AR27,   109,  3, 188074,   OC87,2,19970605,0104, 58.0737, -54.5063, 3423,   1865.5,   2.9436,  34.8483,2,  34.8474,6,    283.4,2,    297.0,2,     9.41,6,    15.88,6,     1.08,6,    3.892,2,    2.102,2,    0.136,2,    6.694,2,   2152.6,2,   -999.0,5,  33.616,2,  2.8043,   1866
   18HU97009_1,  AR27,   109,  3, 188073,   OC88,2,19970605,0104, 58.0737, -54.5063, 3423,   2018.0,   2.9265,  34.8475,2,  34.8474,6,    284.1,2,    297.3,2,     9.47,6,    15.95,6,     1.09,6,    3.814,2,    2.072,2,    0.136,2,    6.694,2,   2154.5,2,   -999.0,5,  33.198,2,  2.7737,   2018
   18HU97009_1,  AR27,   109,  3, 188072,   OC65,2,19970605,0104, 58.0737, -54.5063, 3423,   2281.9,   3.0301,  34.8762,2,  34.8760,2,    278.5,2,    290.0,2,     9.93,6,    15.74,6,     1.07,6,    3.240,2,    1.781,2,    0.000,2,    6.023,2,   2151.2,2,   2292.2,2,  29.549,2,  2.8510,   2282
   18HU97009_1,  AR27,   109,  3, 188071,   OC84,2,19970605,0104, 58.0737, -54.5063, 3423,   2503.7,   3.0044,  34.8951,2,  34.8951,6,    275.0,2,    285.4,2,    10.56,6,    15.74,6,     1.08,6,    2.724,2,    1.489,2,    0.000,2,    5.867,2,   2153.2,2,   -999.0,5,  24.927,2,  2.8042,   2504
   18HU97009_1,  AR27,   109,  3, 188070,   OC90,2,19970605,0104, 58.0737, -54.5063, 3423,   2659.0,   2.9266,  34.9011,2,  34.9007,6,    274.7,2,    284.3,2,    10.80,6,    15.57,6,     1.06,6,    2.676,2,    1.459,2,    0.000,2,    6.236,2,   2152.4,2,   2296.1,2,  24.839,2,  2.7125,   2659
   18HU97009_1,  AR27,   109,  3, 188069,   OC91,2,19970605,0104, 58.0737, -54.5063, 3423,   2847.7,   2.7977,  34.9073,2,  34.9073,6,    274.4,2,    282.7,2,    11.14,6,    15.29,6,     1.09,6,    2.364,6,    1.213,6,    0.000,6,    6.690,6,   2154.0,2,   -999.0,5,  23.029,6,  2.5671,   2848
   18HU97009_1,  AR27,   109,  3, 188068,   OC64,2,19970605,0104, 58.0737, -54.5063, 3423,   3000.3,   2.6219,  34.9047,2,  34.9054,6,    277.0,2,    285.0,2,    11.27,6,    15.11,6,     1.05,6,    2.491,2,    1.333,2,    0.000,2,    6.538,2,   2153.1,2,   -999.0,5,  23.096,2,  2.3794,   3000
   18HU97009_1,  AR27,   109,  3, 188067,   OC95,2,19970605,0104, 58.0737, -54.5063, 3423,   3129.0,   2.4005,  34.9027,2,  34.9022,2,    279.6,2,    286.1,2,    11.64,6,    14.99,6,     1.01,6,    2.568,2,    1.459,2,    0.000,2,    7.073,2,   2153.9,2,   -999.0,5,  24.769,2,  2.1497,   3129
   18HU97009_1,  AR27,   109,  3, 188066,   OC58,2,19970605,0104, 58.0737, -54.5063, 3423,   3264.2,   2.0473,  34.8944,2,  34.8935,2,    286.8,2,    292.1,2,    10.68,6,    14.33,6,     0.99,6,    3.035,2,    1.664,2,    0.000,2,    8.026,2,   2153.8,2,   -999.0,5,  27.308,2,  1.7908,   3264
   18HU97009_1,  AR27,   109,  3, 188065,   OC93,2,19970605,0104, 58.0737, -54.5063, 3423,   3360.1,   1.7694,  34.8908,2,  34.8898,6,    292.0,2,    295.3,2,    10.17,6,    13.79,6,     0.99,6,    3.424,2,    1.868,2,    0.000,2,    8.794,2,   2154.4,6,   -999.0,5,  29.321,3,  1.5097,   3360
   18HU97009_1,  AR27,   109,  3, 188064,   OC66,2,19970605,0104, 58.0737, -54.5063, 3423,   3445.5,   1.6596,  34.8865,2,  34.8857,6,    296.0,2,    296.8,2,    10.46,6,    13.92,6,     0.96,6,    3.531,2,    1.907,2,    0.000,2,    8.921,2,   2156.0,2,   -999.0,5,  30.119,2,  1.3939,   3446