BOTTLE,20020708WHPSIOKJU
EXPOCODE,SECT_ID,STNNBR,CASTNO,SAMPNO,BTLNBR,BTLNBR_FLAG_W,DATE,TIME,LATITUDE,LONGITUDE,DEPTH,CTDPRS,CTDTMP,CTDSAL,CTDSAL_FLAG_W,SALNTY,SALNTY_FLAG_W,CTDOXY,CTDOXY_FLAG_W,OXYGEN,OXYGEN_FLAG_W,SILCAT,SILCAT_FLAG_W,NO2+NO3,NO2+NO3_FLAG_W,PHSPHT,PHSPHT_FLAG_W,CFC-11,CFC-11_FLAG_W,CFC-12,CFC-12_FLAG_W,CFC113,CFC113_FLAG_W,CCL4,CCL4_FLAG_W,TCARBN,TCARBN_FLAG_W,ALKALI,ALKALI_FLAG_W,MCHFRM,MCHFRM_FLAG_W,THETA,CTDRAW
,,,,,,,,,,,,DBAR,ITS-90,PSS-78,,PSS-78,,UMOL/KG,,UMOL/KG,,UMOL/KG,,UMOL/KG,,UMOL/KG,,PMOL/KG,,PMOL/KG,,PMOL/KG,,PMOL/KG,,UMOL/KG,,UMOL/KG,,PMOL/KG,,DEG C,
   18HU97009_1,  AR7W,    73,  6, 187396,   OC88,2,19970527,1718, 55.1073, -54.1237,  963,      6.4,   0.2303,  32.9443,2,-999.0000,9,    380.8,2,   -999.0,9,  -999.00,9,  -999.00,9,  -999.00,9, -999.000,9, -999.000,9, -999.000,9, -999.000,9,   -999.0,9,   -999.0,9,-999.000,9,  0.2301,      6
   18HU97009_1,  AR7W,    73,  6, 187394,   OC84,2,19970527,1718, 55.1073, -54.1237,  963,      6.5,   0.2217,  32.9392,2,-999.0000,9,    381.6,2,   -999.0,9,  -999.00,9,  -999.00,9,  -999.00,9, -999.000,9, -999.000,9, -999.000,9, -999.000,9,   -999.0,9,   -999.0,9,-999.000,9,  0.2215,      7
   18HU97009_1,  AR7W,    73,  6, 187395,   OC36,2,19970527,1718, 55.1073, -54.1237,  963,      6.5,   0.2259,  32.9391,2,-999.0000,9,    380.4,2,   -999.0,9,  -999.00,9,  -999.00,9,  -999.00,9, -999.000,9, -999.000,9, -999.000,9, -999.000,9,   -999.0,9,   -999.0,9,-999.000,9,  0.2257,      7
   18HU97009_1,  AR7W,    73,  6, 187398,   OC86,2,19970527,1718, 55.1073, -54.1237,  963,      6.6,   0.2283,  32.9446,2,-999.0000,9,    380.6,2,   -999.0,9,  -999.00,9,  -999.00,9,  -999.00,9, -999.000,9, -999.000,9, -999.000,9, -999.000,9,   -999.0,9,   -999.0,9,-999.000,9,  0.2281,      7
   18HU97009_1,  AR7W,    73,  6, 187400,   OC94,2,19970527,1718, 55.1073, -54.1237,  963,      6.6,   0.2254,  32.9375,2,-999.0000,9,    380.0,2,   -999.0,9,  -999.00,9,  -999.00,9,  -999.00,9, -999.000,9, -999.000,9, -999.000,9, -999.000,9,   -999.0,9,   -999.0,9,-999.000,9,  0.2252,      7
   18HU97009_1,  AR7W,    73,  6, 187397,   OC87,2,19970527,1718, 55.1073, -54.1237,  963,      6.7,   0.2296,  32.9459,2,-999.0000,9,    380.6,2,   -999.0,9,  -999.00,9,  -999.00,9,  -999.00,9, -999.000,9, -999.000,9, -999.000,9, -999.000,9,   -999.0,9,   -999.0,9,-999.000,9,  0.2294,      7
   18HU97009_1,  AR7W,    73,  6, 187399,   OC85,2,19970527,1718, 55.1073, -54.1237,  963,      6.8,   0.2244,  32.9383,2,-999.0000,9,    380.0,2,   -999.0,9,  -999.00,9,  -999.00,9,  -999.00,9, -999.000,9, -999.000,9, -999.000,9, -999.000,9,   -999.0,9,   -999.0,9,-999.000,9,  0.2242,      7
   18HU97009_1,  AR7W,    73,  6, 187401,   OC83,2,19970527,1718, 55.1073, -54.1237,  963,      7.0,   0.2254,  32.9375,2,-999.0000,9,    379.6,2,   -999.0,9,  -999.00,9,  -999.00,9,  -999.00,9, -999.000,9, -999.000,9, -999.000,9, -999.000,9,   -999.0,9,   -999.0,9,-999.000,9,  0.2252,      7
   18HU97009_1,  AR7W,    73,  6, 187412,   OC87,2,19970527,1718, 55.1073, -54.1237,  963,     10.1,   0.6591,  33.0766,2,  33.0767,2,    373.4,2,    465.5,3,     5.43,6,     2.49,6,     0.54,6,    6.663,2,    3.565,2,    0.429,3,   10.881,3,   2063.1,2,   2218.4,2,  79.317,3,  0.6588,     10
   18HU97009_1,  AR7W,    73,  6, 187393,   OC90,2,19970527,1718, 55.1073, -54.1237,  963,     20.8,   0.1403,  33.0049,2,-999.0000,9,    384.8,2,   -999.0,9,  -999.00,9,  -999.00,9,  -999.00,9, -999.000,9, -999.000,9, -999.000,9, -999.000,9,   -999.0,9,   -999.0,9,-999.000,9,  0.1396,     21
   18HU97009_1,  AR7W,    73,  6, 187392,   OC91,2,19970527,1718, 55.1073, -54.1237,  963,     30.3,   0.0034,  33.5676,2,-999.0000,9,    397.2,2,   -999.0,9,  -999.00,9,  -999.00,9,  -999.00,9, -999.000,9, -999.000,9, -999.000,9, -999.000,9,   -999.0,9,   -999.0,9,-999.000,9,  0.0024,     30
   18HU97009_1,  AR7W,    73,  6, 187391,   OC64,2,19970527,1718, 55.1073, -54.1237,  963,     48.9,   1.4500,  34.1114,2,-999.0000,9,    330.8,2,   -999.0,9,  -999.00,9,  -999.00,9,  -999.00,9, -999.000,9, -999.000,9, -999.000,9, -999.000,9,   -999.0,9,   -999.0,9,-999.000,9,  1.4477,     49
   18HU97009_1,  AR7W,    73,  6, 187411,   OC88,2,19970527,1718, 55.1073, -54.1237,  963,     70.1,   2.0475,  34.2572,2,  34.2601,2,    315.6,2,    322.4,2,     5.14,6,     8.94,6,     0.75,6,    5.334,2,    2.959,2,    0.253,2,    8.468,3,   2112.1,2,   2260.5,2,  60.368,3,  2.0438,     70
   18HU97009_1,  AR7W,    73,  6, 187390,   OC92,2,19970527,1718, 55.1073, -54.1237,  963,     75.0,   2.5784,  34.4152,2,-999.0000,9,    318.2,2,   -999.0,9,  -999.00,9,  -999.00,9,  -999.00,9, -999.000,9, -999.000,9, -999.000,9, -999.000,9,   -999.0,9,   -999.0,9,-999.000,9,  2.5741,     75
   18HU97009_1,  AR7W,    73,  6, 187389,   OC58,2,19970527,1718, 55.1073, -54.1237,  963,    100.4,   3.1066,  34.5523,2,-999.0000,9,    312.3,2,   -999.0,9,  -999.00,9,  -999.00,9,  -999.00,9, -999.000,9, -999.000,9, -999.000,9, -999.000,9,   -999.0,9,   -999.0,9,-999.000,9,  3.1004,    100
   18HU97009_1,  AR7W,    73,  6, 187388,   OC93,2,19970527,1718, 55.1073, -54.1237,  963,    150.4,   3.6006,  34.6946,2,-999.0000,9,    302.8,2,   -999.0,9,  -999.00,9,  -999.00,9,  -999.00,9, -999.000,9, -999.000,9, -999.000,9, -999.000,9,   -999.0,9,   -999.0,9,-999.000,9,  3.5907,    150
   18HU97009_1,  AR7W,    73,  6, 187410,   OC36,2,19970527,1718, 55.1073, -54.1237,  963,    150.9,   3.5968,  34.6915,2,  34.6901,2,    290.6,2,    300.2,2,     7.43,6,    13.57,6,     0.91,6,    4.671,6,    2.602,6,    0.224,2,    7.646,6,   2138.1,2,   2273.3,2,  65.231,3,  3.5868,    151
   18HU97009_1,  AR7W,    73,  6, 187387,   OC66,2,19970527,1718, 55.1073, -54.1237,  963,    198.6,   3.7871,  34.7372,2,-999.0000,9,    299.4,2,   -999.0,9,  -999.00,9,  -999.00,9,  -999.00,9, -999.000,9, -999.000,9, -999.000,9, -999.000,9,   -999.0,9,   -999.0,9,-999.000,9,  3.7735,    199
   18HU97009_1,  AR7W,    73,  6, 187409,   OC84,2,19970527,1718, 55.1073, -54.1237,  963,    253.8,   3.7781,  34.7637,2,  34.7633,2,    283.1,2,    291.6,2,     8.16,6,    15.09,6,     0.97,6,    4.467,2,    2.530,2,    0.175,3,    7.610,2,   2144.3,2,   2276.3,2,  49.775,4,  3.7607,    254
   18HU97009_1,  AR7W,    73,  6, 187408,   OC90,3,19970527,1718, 55.1073, -54.1237,  963,    349.9,   3.6307,  34.7753,2,  34.7755,2,    284.1,2,    291.4,2,     8.58,6,    15.36,6,     0.97,6, -999.000,5, -999.000,5, -999.000,5, -999.000,5,   2145.7,2,   2278.2,2,-999.000,5,  3.6068,    350
   18HU97009_1,  AR7W,    73,  6, 187407,   OC91,4,19970527,1718, 55.1073, -54.1237,  963,    475.2,   3.5121,  34.7861,2,  34.7794,2,    286.4,2,    293.4,2,     8.61,6,    15.56,6,     0.98,6, -999.000,5, -999.000,5, -999.000,5, -999.000,5,   2147.4,2,   2276.4,2,-999.000,5,  3.4796,    475
   18HU97009_1,  AR7W,    73,  6, 187406,   OC64,2,19970527,1718, 55.1073, -54.1237,  963,    586.8,   3.3643,  34.7980,2,  34.7985,2,    289.4,2,    295.5,2,     8.65,6,    16.14,6,     0.99,6,    4.359,2,    2.384,2,    0.263,2,    7.337,2,   2148.3,2,   2274.4,2,  48.079,4,  3.3244,    587
   18HU97009_1,  AR7W,    73,  6, 187405,   OC92,2,19970527,1718, 55.1073, -54.1237,  963,    682.8,   3.3368,  34.8147,2,  34.8152,2,    289.5,2,    294.8,2,     8.69,6,    16.04,6,     1.00,6,    4.291,2,    2.462,2,    0.282,3,    7.308,2,   2150.1,2,   2279.3,2,  47.426,4,  3.2900,    683
   18HU97009_1,  AR7W,    73,  6, 187404,   OC58,2,19970527,1718, 55.1073, -54.1237,  963,    778.2,   3.3299,  34.8239,2,  34.8268,2,    290.3,2,    294.6,2,     8.73,6,    16.25,6,     1.00,6,    4.272,2,    2.316,2,    0.243,2,    7.239,2,   2150.1,6,   2280.7,2,  47.610,4,  3.2760,    778
   18HU97009_1,  AR7W,    73,  6, 187403,   OC93,2,19970527,1718, 55.1073, -54.1237,  963,    859.0,   3.3319,  34.8293,2,  34.8308,6,    290.9,2,    294.7,2,     8.60,6,    16.07,6,     1.01,6,    4.410,2,    2.420,2, -999.000,5,    7.540,2,   2150.9,2,   2282.7,2,  48.670,4,  3.2718,    859
   18HU97009_1,  AR7W,    73,  6, 187402,   OC66,2,19970527,1718, 55.1073, -54.1237,  963,    920.7,   3.3357,  34.8327,2,  34.8338,2,    291.7,2,    294.1,2,     8.70,6,    16.07,6,     1.01,6,    4.233,2,    2.296,2,    0.243,2,    7.473,2,   2152.1,2,   2282.0,6,  46.024,4,  3.2708,    921
   18HU97009_1,  AR7W,    74,  3, 187432,   OC52,2,19970527,1950, 54.9492, -54.2798,  368,      4.9,  -1.1801,  32.0259,2,-999.0000,9,    361.3,2,   -999.0,9,  -999.00,9,  -999.00,9,  -999.00,9, -999.000,9, -999.000,9, -999.000,9, -999.000,9,   -999.0,9,   -999.0,9,-999.000,9, -1.1802,      5
   18HU97009_1,  AR7W,    74,  3, 187431,   OC51,2,19970527,1950, 54.9492, -54.2798,  368,      9.6,  -1.1659,  32.0238,2,-999.0000,9,    361.8,2,   -999.0,9,  -999.00,9,  -999.00,9,  -999.00,9, -999.000,9, -999.000,9, -999.000,9, -999.000,9,   -999.0,9,   -999.0,9,-999.000,9, -1.1661,     10
   18HU97009_1,  AR7W,    74,  3, 187430,   OC56,2,19970527,1950, 54.9492, -54.2798,  368,      9.7,  -1.1660,  32.0132,2,  32.0136,2,    360.7,2,    364.8,2,     9.74,6,     5.76,6,     0.85,6,    6.922,2,    3.666,2,    0.497,2,   10.003,3,   2066.3,2,   2169.7,2,  62.648,4, -1.1662,     10
   18HU97009_1,  AR7W,    74,  3, 187429,   OC61,2,19970527,1950, 54.9492, -54.2798,  368,     19.5,  -1.2910,  32.2520,2,-999.0000,9,    363.8,2,   -999.0,9,  -999.00,9,  -999.00,9,  -999.00,9, -999.000,9, -999.000,9, -999.000,9, -999.000,9,   -999.0,9,   -999.0,9,-999.000,9, -1.2914,     20
   18HU97009_1,  AR7W,    74,  3, 187428,   OC82,2,19970527,1950, 54.9492, -54.2798,  368,     30.9,  -1.6271,  32.5457,2,-999.0000,9,    346.0,2,   -999.0,9,  -999.00,9,  -999.00,9,  -999.00,9, -999.000,9, -999.000,9, -999.000,9, -999.000,9,   -999.0,9,   -999.0,9,-999.000,9, -1.6276,     31
   18HU97009_1,  AR7W,    74,  3, 187426,   OC94,2,19970527,1950, 54.9492, -54.2798,  368,     40.3,  -1.5363,  32.7778,2,  32.7740,2,    338.4,2,    338.8,2,    11.44,6,     8.12,6,     1.00,6,    6.479,2,    3.420,2,    0.448,2,   11.205,3,   2123.1,2,   2219.6,2,  56.198,4, -1.5371,     40
   18HU97009_1,  AR7W,    74,  3, 187427,   OC83,2,19970527,1950, 54.9492, -54.2798,  368,     40.9,  -1.5467,  32.7737,2,-999.0000,9,    338.9,2,   -999.0,9,  -999.00,9,  -999.00,9,  -999.00,9, -999.000,9, -999.000,9, -999.000,9, -999.000,9,   -999.0,9,   -999.0,9,-999.000,9, -1.5475,     41
   18HU97009_1,  AR7W,    74,  3, 187425,   OC85,2,19970527,1950, 54.9492, -54.2798,  368,     50.8,  -1.5835,  32.8459,2,-999.0000,9,    336.7,2,   -999.0,9,  -999.00,9,  -999.00,9,  -999.00,9, -999.000,9, -999.000,9, -999.000,9, -999.000,9,   -999.0,9,   -999.0,9,-999.000,9, -1.5845,     51
   18HU97009_1,  AR7W,    74,  3, 187424,   OC86,2,19970527,1950, 54.9492, -54.2798,  368,     61.0,  -1.5005,  32.9030,2,-999.0000,9,    336.5,2,   -999.0,9,  -999.00,9,  -999.00,9,  -999.00,9, -999.000,9, -999.000,9, -999.000,9, -999.000,9,   -999.0,9,   -999.0,9,-999.000,9, -1.5017,     61
   18HU97009_1,  AR7W,    74,  3, 187423,   OC87,2,19970527,1950, 54.9492, -54.2798,  368,     70.7,  -1.4322,  32.9682,2,-999.0000,9,    334.0,2,   -999.0,9,  -999.00,9,  -999.00,9,  -999.00,9, -999.000,9, -999.000,9, -999.000,9, -999.000,9,   -999.0,9,   -999.0,9,-999.000,9, -1.4336,     71
   18HU97009_1,  AR7W,    74,  3, 187421,   OC36,2,19970527,1950, 54.9492, -54.2798,  368,     79.4,  -1.4395,  33.0168,2,  33.0159,2,    335.5,2,    327.1,2,    12.18,6,     9.30,6,     1.04,6,    6.147,2,    3.273,2,    0.419,2,   11.164,3,   2132.7,2,   2223.0,2,  52.242,4, -1.4411,     79
   18HU97009_1,  AR7W,    74,  3, 187422,   OC88,2,19970527,1950, 54.9492, -54.2798,  368,     80.7,  -1.4362,  33.0162,2,-999.0000,9,    334.3,2,   -999.0,9,  -999.00,9,  -999.00,9,  -999.00,9, -999.000,9, -999.000,9, -999.000,9, -999.000,9,   -999.0,9,   -999.0,9,-999.000,9, -1.4378,     81
   18HU97009_1,  AR7W,    74,  3, 187420,   OC84,2,19970527,1950, 54.9492, -54.2798,  368,     89.2,  -1.3718,  33.0877,2,-999.0000,9,    334.8,2,   -999.0,9,  -999.00,9,  -999.00,9,  -999.00,9, -999.000,9, -999.000,9, -999.000,9, -999.000,9,   -999.0,9,   -999.0,9,-999.000,9, -1.3737,     89
   18HU97009_1,  AR7W,    74,  3, 187419,   OC90,2,19970527,1950, 54.9492, -54.2798,  368,    100.7,  -1.1136,  33.2244,2,-999.0000,9,    331.0,2,   -999.0,9,  -999.00,9,  -999.00,9,  -999.00,9, -999.000,9, -999.000,9, -999.000,9, -999.000,9,   -999.0,9,   -999.0,9,-999.000,9, -1.1160,    101
   18HU97009_1,  AR7W,    74,  3, 187418,   OC91,2,19970527,1950, 54.9492, -54.2798,  368,    129.9,  -0.1500,  33.6252,2,  33.6165,2,    320.5,2,    315.1,6,    11.47,6,    11.20,6,     1.02,6,    5.570,2,    2.950,2,    0.389,2,    8.393,2,   2133.9,2,   2236.6,2,  45.998,4, -0.1543,    130
   18HU97009_1,  AR7W,    74,  3, 187417,   OC64,2,19970527,1950, 54.9492, -54.2798,  368,    179.7,   2.9051,  34.5253,2,  34.5230,2,    302.3,2,    303.4,2,     8.70,6,    13.61,6,     0.94,6,    4.856,2,    2.676,2,    0.350,2,    7.796,2,   2135.8,2,   2267.4,2,  42.491,4,  2.8942,    180
   18HU97009_1,  AR7W,    74,  3, 187416,   OC92,2,19970527,1950, 54.9492, -54.2798,  368,    229.7,   3.3680,  34.6833,2,  34.6829,2,    295.1,2,    295.6,2,     8.63,6,    14.87,6,     0.99,6,    4.593,6,    2.520,6,    0.331,6,    7.299,6,   2141.7,2,   2272.5,2,  38.984,2,  3.3531,    230
   18HU97009_1,  AR7W,    74,  3, 187415,   OC58,2,19970527,1950, 54.9492, -54.2798,  368,    280.8,   3.3914,  34.7024,2,  34.7021,2,    295.2,2,    296.1,2,     8.74,6,    14.79,6,     0.99,6,    4.622,2,    2.540,2,    0.341,2,    7.522,2,   2142.6,2,   2270.8,6,  40.083,4,  3.3729,    281
   18HU97009_1,  AR7W,    74,  3, 187414,   OC93,2,19970527,1950, 54.9492, -54.2798,  368,    320.5,   3.4299,  34.7163,2,  34.7164,2,    295.5,2,    294.9,2,     8.88,3,    14.83,6,     0.96,6,    4.583,2,    2.501,2,    0.331,2,    7.065,2,   2142.8,6,   2275.6,2,  39.334,2,  3.4086,    321
   18HU97009_1,  AR7W,    74,  3, 187413,   OC66,2,19970527,1950, 54.9492, -54.2798,  368,    354.9,   3.3991,  34.7195,2,  34.7207,6,    295.5,2,    294.2,2,     8.90,6,    15.10,6,     0.98,6,    4.496,2,    2.404,2,    0.331,2,    7.065,2,   2144.5,2,   2281.0,2,  37.971,2,  3.3755,    355
   18HU97009_1,  AR7W,    75,  1, 187438,   OC91,2,19970527,2217, 54.7355, -54.4992,  244,     10.4,  -1.0070,  32.1280,2,  32.1293,2,    375.7,2,    365.9,2,     9.26,6,     5.29,6,     0.81,6,    6.600,2,    3.704,2,    0.487,3,   11.025,3,   2066.5,2,   2174.4,2,  88.972,3, -1.0072,     10
   18HU97009_1,  AR7W,    75,  1, 187437,   OC64,2,19970527,2217, 54.7355, -54.4992,  244,     47.8,  -1.5863,  32.8527,2,  32.8451,2,    350.2,2,    336.5,2,    11.79,6,     8.46,6,     0.99,6,    6.216,2,    3.439,2,    0.380,2,    8.593,3,   2128.2,2,   2218.1,2,  74.910,4, -1.5872,     48
   18HU97009_1,  AR7W,    75,  1, 187436,   OC92,2,19970527,2217, 54.7355, -54.4992,  244,    101.0,  -1.2151,  33.1598,2,  33.1518,2,    338.5,2,    324.4,2,    12.24,6,     9.83,6,     1.03,6,    5.747,2,    3.195,2,    0.380,2,    7.578,3,   2132.0,2,   2222.1,6,  64.247,4, -1.2174,    101
   18HU97009_1,  AR7W,    75,  1, 187435,   OC58,4,19970527,2217, 54.7355, -54.4992,  244,    149.4,  -0.3152,  33.6248,2,  33.6142,2,    327.9,2,    315.9,6,    11.50,6,    11.15,6,     1.01,6,    5.394,2,    2.980,2,    0.321,2,    7.059,3,   2132.1,2,   2239.8,2,  59.639,4, -0.3200,    149
   18HU97009_1,  AR7W,    75,  1, 187434,   OC93,2,19970527,2217, 54.7355, -54.4992,  244,    179.7,   1.3682,  34.1187,2,  34.1064,6,    310.7,2,    301.0,2,    11.54,6,    13.42,6,     1.00,6,    4.916,2,    2.706,2,    0.243,3,    5.928,3,   2136.4,6,   2249.5,2,  56.176,4,  1.3597,    180
   18HU97009_1,  AR7W,    75,  1, 187433,   OC66,2,19970527,2217, 54.7355, -54.4992,  244,    232.6,   3.3347,  34.6617,2,  34.6200,2,    308.5,2,    298.7,2,     8.24,6,    13.49,6,     0.95,6,    4.613,2,    2.598,2,    0.302,2,    4.807,3,   2136.7,2,   2276.1,2,  52.365,4,  3.3196,    233
   18HU97009_1,  AR7W,    76,  3, 187452,   OC94,2,19970528,0036, 54.4937, -54.7525,  201,      4.1,  -1.2587,  32.1270,2,-999.0000,9,    355.9,2,   -999.0,9,  -999.00,9,  -999.00,9,  -999.00,9, -999.000,9, -999.000,9, -999.000,9, -999.000,9,   -999.0,9,   -999.0,9,-999.000,9, -1.2588,      4
   18HU97009_1,  AR7W,    76,  3, 187451,   OC85,2,19970528,0036, 54.4937, -54.7525,  201,     10.8,  -1.2620,  32.1317,2,  32.1358,2,    355.0,2,    358.7,2,    10.22,6,     6.37,6,     0.90,6,    6.872,2,    3.519,2,    0.487,2,   10.041,3,   2077.4,2,   2172.0,2,  64.133,4, -1.2622,     11
   18HU97009_1,  AR7W,    76,  3, 187450,   OC86,2,19970528,0036, 54.4937, -54.7525,  201,     21.0,  -1.4752,  32.3539,2,-999.0000,9,    348.1,2,   -999.0,9,  -999.00,9,  -999.00,9,  -999.00,9, -999.000,9, -999.000,9, -999.000,9, -999.000,9,   -999.0,9,   -999.0,9,-999.000,9, -1.4756,     21
   18HU97009_1,  AR7W,    76,  3, 187449,   OC87,2,19970528,0036, 54.4937, -54.7525,  201,     31.0,  -1.6724,  32.5859,2,-999.0000,9,    341.8,2,   -999.0,9,  -999.00,9,  -999.00,9,  -999.00,9, -999.000,9, -999.000,9, -999.000,9, -999.000,9,   -999.0,9,   -999.0,9,-999.000,9, -1.6729,     31
   18HU97009_1,  AR7W,    76,  3, 187448,   OC88,2,19970528,0036, 54.4937, -54.7525,  201,     40.6,  -1.7177,  32.6486,2,  31.1048,2,    339.6,2,    340.1,2,    11.59,6,     7.76,6,     0.98,6,    6.606,2,    3.459,2,    0.419,2,   12.024,3,   2119.9,6,   2209.6,2,  57.003,4, -1.7184,     41
   18HU97009_1,  AR7W,    76,  3, 187447,   OC36,2,19970528,0036, 54.4937, -54.7525,  201,     49.6,  -1.6977,  32.7185,2,-999.0000,9,    337.4,2,   -999.0,9,  -999.00,9,  -999.00,9,  -999.00,9, -999.000,9, -999.000,9, -999.000,9, -999.000,9,   -999.0,9,   -999.0,9,-999.000,9, -1.6985,     50
   18HU97009_1,  AR7W,    76,  3, 187446,   OC84,2,19970528,0036, 54.4937, -54.7525,  201,     60.1,  -1.6908,  32.7999,2,-999.0000,9,    332.5,2,   -999.0,9,  -999.00,9,  -999.00,9,  -999.00,9, -999.000,9, -999.000,9, -999.000,9, -999.000,9,   -999.0,9,   -999.0,9,-999.000,9, -1.6918,     60
   18HU97009_1,  AR7W,    76,  3, 187445,   OC90,2,19970528,0036, 54.4937, -54.7525,  201,     70.5,  -1.5777,  32.8380,2,-999.0000,9,    333.5,2,   -999.0,9,  -999.00,9,  -999.00,9,  -999.00,9, -999.000,9, -999.000,9, -999.000,9, -999.000,9,   -999.0,9,   -999.0,9,-999.000,9, -1.5790,     71
   18HU97009_1,  AR7W,    76,  3, 187444,   OC91,2,19970528,0036, 54.4937, -54.7525,  201,     79.1,  -1.5038,  32.8965,2,  32.8970,2,    331.2,2,    331.4,2,    12.10,6,     8.63,6,     1.04,6,    6.313,2,    3.205,2,    0.390,2,   11.018,3,   2129.9,2,   2214.3,2,  53.485,4, -1.5054,     79
   18HU97009_1,  AR7W,    76,  3, 187443,   OC64,2,19970528,0036, 54.4937, -54.7525,  201,     90.1,  -1.4286,  32.9677,2,-999.0000,9,    328.8,2,   -999.0,9,  -999.00,9,  -999.00,9,  -999.00,9, -999.000,9, -999.000,9, -999.000,9, -999.000,9,   -999.0,9,   -999.0,9,-999.000,9, -1.4304,     90
   18HU97009_1,  AR7W,    76,  3, 187442,   OC92,2,19970528,0036, 54.4937, -54.7525,  201,    100.5,  -1.4247,  33.0406,2,-999.0000,9,    327.3,2,   -999.0,9,  -999.00,9,  -999.00,9,  -999.00,9, -999.000,9, -999.000,9, -999.000,9, -999.000,9,   -999.0,9,   -999.0,9,-999.000,9, -1.4267,    101
   18HU97009_1,  AR7W,    76,  3, 187441,   OC58,2,19970528,0036, 54.4937, -54.7525,  201,    119.3,  -1.0629,  33.2167,2,  33.2168,2,    322.3,2,    321.9,2,    12.27,6,    10.05,6,     1.03,6,    5.854,2,    2.990,2,    0.409,2,    9.603,2,   2134.4,2,   2221.2,6,  49.050,4, -1.0659,    119
   18HU97009_1,  AR7W,    76,  3, 187440,   OC93,2,19970528,0036, 54.4937, -54.7525,  201,    150.4,  -0.4513,  33.5082,2,  33.5049,2,    324.8,2,    327.3,6,    10.39,6,     9.50,6,     0.95,6,    5.716,2,    3.009,2,    0.399,2,    8.082,2,   2122.3,2,   2228.6,2,  48.543,4, -0.4559,    150
   18HU97009_1,  AR7W,    76,  3, 187439,   OC66,2,19970528,0036, 54.4937, -54.7525,  201,    192.3,   0.3006,  33.8018,2,  33.7957,6,    306.0,2,    305.8,2,    12.50,6,    12.34,6,     1.02,6,    5.335,2,    2.775,2,    0.380,2,    7.740,2,   2134.9,2,   2240.4,2,  44.756,4,  0.2933,    192