BOTTLE,20020708WHPSIOKJU
EXPOCODE,SECT_ID,STNNBR,CASTNO,SAMPNO,BTLNBR,BTLNBR_FLAG_W,DATE,TIME,LATITUDE,LONGITUDE,DEPTH,CTDPRS,CTDTMP,CTDSAL,CTDSAL_FLAG_W,SALNTY,SALNTY_FLAG_W,CTDOXY,CTDOXY_FLAG_W,OXYGEN,OXYGEN_FLAG_W,SILCAT,SILCAT_FLAG_W,NO2+NO3,NO2+NO3_FLAG_W,PHSPHT,PHSPHT_FLAG_W,CFC-11,CFC-11_FLAG_W,CFC-12,CFC-12_FLAG_W,CFC113,CFC113_FLAG_W,CCL4,CCL4_FLAG_W,TCARBN,TCARBN_FLAG_W,ALKALI,ALKALI_FLAG_W,MCHFRM,MCHFRM_FLAG_W,THETA,CTDRAW
,,,,,,,,,,,,DBAR,ITS-90,PSS-78,,PSS-78,,UMOL/KG,,UMOL/KG,,UMOL/KG,,UMOL/KG,,UMOL/KG,,PMOL/KG,,PMOL/KG,,PMOL/KG,,PMOL/KG,,UMOL/KG,,UMOL/KG,,PMOL/KG,,DEG C,
   18HU97009_1,  AR27,    38,  1, 186737,   OC80,2,19970518,2312, 56.9895, -43.9923, 3468,     12.4,   3.8782,  34.7040,2,  34.7049,2,    321.0,2,    333.7,2,     8.08,6,    12.61,6,     0.85,6,    5.304,2,    2.715,2,    0.341,2,    7.688,2,   2126.4,2,   2283.5,2,  53.875,3,  3.8773,     12
   18HU97009_1,  AR27,    38,  1, 186736,   OC55,2,19970518,2312, 56.9895, -43.9923, 3468,     44.5,   3.4871,  34.7146,2,  34.7157,2,    316.7,2,    328.2,2,     8.17,6,    13.49,6,     0.89,6,    5.479,2,    2.754,2,    0.311,2,   10.461,3,   2131.8,2,   2283.4,2, 302.215,4,  3.4842,     45
   18HU97009_1,  AR27,    38,  1, 186735,   OC81,2,19970518,2312, 56.9895, -43.9923, 3468,     73.2,   2.8536,  34.7537,2,  34.7541,2,    306.4,2,    316.5,2,     8.75,6,    15.37,6,     1.01,6,    5.157,2,    2.598,2,    0.331,2,    7.395,3,   2148.0,2,   2278.7,2, 262.177,4,  2.8492,     73
   18HU97009_1,  AR27,    38,  1, 186734,   OC69,2,19970518,2312, 56.9895, -43.9923, 3468,    100.0,   2.8187,  34.7680,2,  34.7683,2,    304.1,2,    313.4,2,     9.12,3,    15.71,6,     1.02,6,    5.089,2,    2.676,2,    0.292,2,    7.560,2,   2150.0,2,   2281.1,2, 348.569,4,  2.8128,    100
   18HU97009_1,  AR27,    38,  1, 186733,   OC52,2,19970518,2312, 56.9895, -43.9923, 3468,    149.5,   2.9225,  34.8023,2,  34.8026,2,    298.8,2,    266.5,2,     8.78,6,    15.95,6,     1.05,6,    4.846,2,    2.637,2,    0.282,2,    7.881,3,   2150.3,2,   2285.0,2, 289.754,4,  2.9134,    150
   18HU97009_1,  AR27,    38,  1, 186732,   OC51,2,19970518,2312, 56.9895, -43.9923, 3468,    200.3,   2.9772,  34.8153,2,  34.8154,2,    297.3,2,    307.0,2,     8.84,6,    15.77,6,     1.04,6,    4.700,2,    2.335,2,    0.302,2,    6.782,3,   2150.9,2,   2288.2,2, 205.694,4,  2.9648,    200
   18HU97009_1,  AR27,    38,  1, 186731,   OC56,2,19970518,2312, 56.9895, -43.9923, 3468,    254.1,   2.9005,  34.8086,2,  34.8079,2,    298.1,2,    307.6,2,     8.90,6,    15.86,6,     1.03,6,    4.758,2,    2.287,2,    0.263,2,    7.200,3,   2150.5,2,   2285.0,2, 301.466,4,  2.8848,    254
   18HU97009_1,  AR27,    38,  1, 186730,   OC61,2,19970518,2312, 56.9895, -43.9923, 3468,    398.2,   2.8179,  34.8022,2,  34.8012,2,    299.7,2,    309.4,2,     9.13,6,    16.18,6,     1.04,6,    4.739,2,    2.384,2,    0.282,2,    7.580,2,   2150.8,2,   2280.0,2, 196.177,4,  2.7932,    398
   18HU97009_1,  AR27,    38,  1, 186729,   OC82,2,19970518,2312, 56.9895, -43.9923, 3468,    509.1,   2.8523,  34.8064,2,  34.8057,2,    299.4,2,    308.8,2,     9.45,3,    16.14,6,     1.03,6,    4.748,2,    2.394,2,    0.311,2,    7.093,2,   2149.9,6,   2284.1,2, 138.886,4,  2.8201,    509
   18HU97009_1,  AR27,    38,  1, 186728,   OC83,2,19970518,2312, 56.9895, -43.9923, 3468,    660.9,   2.8963,  34.8119,2,  34.8116,2,    297.8,2,    308.1,2,     9.25,6,    16.09,6,     1.04,6,    4.768,2,    2.335,2,    0.272,2,    7.064,2,   2151.9,2,   2285.0,6, 240.351,4,  2.8534,    661
   18HU97009_1,  AR27,    38,  1, 186727,   OC94,2,19970518,2312, 56.9895, -43.9923, 3468,    867.7,   3.1202,  34.8508,2,  34.8499,2,    279.5,2,    289.8,2,    10.08,6,    16.72,6,     1.08,6,    3.765,2,    1.751,2,    0.214,2,    5.128,3,   2157.4,2,   2287.7,2, 134.749,4,  3.0608,    868
   18HU97009_1,  AR27,    38,  1, 186726,   OC85,2,19970518,2312, 56.9895, -43.9923, 3468,   1040.8,   3.0556,  34.8510,2,  34.8505,2,    281.1,2,    290.8,2,    10.17,6,    16.69,6,     1.06,6,    3.649,2,    1.907,2,    0.234,2,    5.789,2,   2152.0,2,   2287.1,2,  74.686,3,  2.9835,   1041
   18HU97009_1,  AR27,    38,  1, 186725,   OC86,2,19970518,2312, 56.9895, -43.9923, 3468,   1219.8,   2.9892,  34.8484,2,  34.8476,2,    283.6,2,    293.9,2,    10.17,6,    16.50,6,     1.05,6,    3.834,2,    1.781,2,    0.204,2,    4.923,3,   2154.7,2,   2290.5,2, 202.165,4,  2.9037,   1220
   18HU97009_1,  AR27,    38,  1, 186724,   OC87,2,19970518,2312, 56.9895, -43.9923, 3468,   1418.5,   2.9383,  34.8456,2,  34.8450,2,    285.8,2,    295.9,2,    10.01,6,    16.36,6,     1.05,6,    3.824,2,    1.839,2,    0.204,2,    5.215,2,   2150.1,2,   2285.7,2, 128.141,4,  2.8372,   1419
   18HU97009_1,  AR27,    38,  1, 186723,   OC88,2,19970518,2312, 56.9895, -43.9923, 3468,   1631.9,   2.9028,  34.8438,2,  34.8429,2,    286.7,2,    297.0,2,    10.01,6,    16.29,6,     1.05,6,    3.950,2,    2.020,2, -999.000,5,    6.690,3,   -999.0,5,   2286.2,2,   4.910,4,  2.7843,   1632
   18HU97009_1,  AR27,    38,  1, 186722,   OC36,2,19970518,2312, 56.9895, -43.9923, 3468,   1827.1,   2.8968,  34.8444,2,  34.8440,2,    286.7,2,    297.3,2,     9.83,6,    16.36,6,     1.07,6,    3.772,6,    1.901,6,    0.250,6,    5.118,6,   2151.8,6,   2286.3,2,  80.367,3,  2.7615,   1827
   18HU97009_1,  AR27,    38,  1, 186721,   OC84,2,19970518,2312, 56.9895, -43.9923, 3468,   2020.8,   2.9507,  34.8567,2,  34.8560,2,    282.8,2,    293.7,6,    10.13,6,    16.51,6,     1.07,6,    3.542,2,    1.625,2,    0.185,2,    4.709,2,   2151.4,2,   2288.4,2, 191.965,4,  2.7973,   2021
   18HU97009_1,  AR27,    38,  1, 186720,   OC90,2,19970518,2312, 56.9895, -43.9923, 3468,   2269.1,   3.0855,  34.8997,2,  34.8994,2,    270.3,2,    281.6,2,    11.51,6,    16.46,6,     1.06,6,    2.247,2,    1.099,2,    0.165,2,    3.094,3,   2153.2,2,   2292.3,2, 134.888,4,  2.9066,   2269
   18HU97009_1,  AR27,    38,  1, 186719,   OC91,2,19970518,2312, 56.9895, -43.9923, 3468,   2498.8,   3.0382,  34.9159,2,  34.9151,2,    267.8,2,    278.3,2,    12.22,6,    16.32,6,     1.05,6,    1.890,2,    0.770,2,    0.000,2, -999.000,5,   2154.2,2,   2290.8,2,  56.400,3,  2.8378,   2499
   18HU97009_1,  AR27,    38,  1, 186718,   OC64,2,19970518,2312, 56.9895, -43.9923, 3468,   2701.1,   2.9311,  34.9237,2,  34.9236,2,    267.1,2,    276.4,2,    12.93,6,    16.46,6,     1.06,6,    1.693,2,    0.846,2,    0.000,2,    2.685,2,   2156.6,2,   2296.1,2, 105.006,4,  2.7125,   2701
   18HU97009_1,  AR27,    38,  1, 186717,   OC92,2,19970518,2312, 56.9895, -43.9923, 3468,   2892.2,   2.7771,  34.9244,2,  34.9236,2,    268.5,2,    276.5,2,    13.99,6,    16.25,6,     1.06,6,    1.605,2,    0.749,2,    0.000,2,    2.588,2,   2158.9,2,   2295.7,2, 105.432,4,  2.5423,   2892
   18HU97009_1,  AR27,    38,  1, 186716,   OC58,2,19970518,2312, 56.9895, -43.9923, 3468,   3151.2,   2.5190,  34.9143,2,  34.9134,2,    273.2,2,    278.4,2,    14.52,6,    16.33,6,     1.03,6,    1.703,2,    0.759,2,    0.126,2,    2.841,2,   2155.5,2,   2297.8,2,  50.035,3,  2.2632,   3151
   18HU97009_1,  AR27,    38,  1, 186715,   OC93,2,19970518,2312, 56.9895, -43.9923, 3468,   3351.0,   2.3539,  34.9064,2,  34.9059,2,    277.4,2,    280.9,2,    14.53,6,    15.79,6,     1.04,6,    1.994,2,    1.031,2,    0.126,2,    1.255,2,   2157.9,2,   2296.2,2, 129.586,4,  2.0811,   3351
   18HU97009_1,  AR27,    38,  1, 186714,   OC66,2,19970518,2312, 56.9895, -43.9923, 3468,   3486.3,   2.2055,  34.9021,2,  34.9018,6,    282.6,2,    284.5,2,    13.12,6,    15.50,6,     1.00,6,    2.481,2,    1.284,2,    0.000,2,    4.251,3,   2159.8,2,   2305.9,2, 155.735,4,  1.9219,   3486
   18HU97009_1,  AR27,    39,  1, 186761,   OC80,2,19970519,0623, 57.4953, -43.9935, 3450,     11.6,   3.9892,  34.6787,2,  34.6819,2,    315.9,2,    326.1,2,     7.89,6,    12.49,6,     0.80,6, -999.000,5, -999.000,5, -999.000,5, -999.000,5,   2127.1,2,   2283.3,2,-999.000,5,  3.9885,     12
   18HU97009_1,  AR27,    39,  1, 186760,   OC55,2,19970519,0623, 57.4953, -43.9935, 3450,     49.6,   3.6718,  34.7005,2,  34.7019,2,    316.1,2,    325.6,2,     7.99,6,    13.00,6,     0.84,6,    5.460,2, -999.000,5,    0.400,2,   11.100,3,   2128.9,2,   2286.3,2,-999.000,3,  3.6685,     50
   18HU97009_1,  AR27,    39,  1, 186759,   OC81,2,19970519,0623, 57.4953, -43.9935, 3450,     74.6,   3.0062,  34.7308,2,  34.7304,2,    310.4,2,    317.0,6,     8.48,6,    15.28,6,     0.95,6,    5.157,2,    3.055,2,    0.341,2,    6.451,2,   2143.6,2,   2284.4,6,  -0.973,4,  3.0016,     75
   18HU97009_1,  AR27,    39,  1, 186758,   OC69,2,19970519,0623, 57.4953, -43.9935, 3450,    100.0,   2.9575,  34.7556,2,  34.7571,2,    305.5,2,    312.3,6,     8.61,6,    15.70,6,     0.99,6,    5.220,2, -999.000,5,    0.370,2,    7.110,2,   2145.0,2,   2288.5,2,-999.000,3,  2.9514,    100
   18HU97009_1,  AR27,    39,  1, 186757,   OC52,2,19970519,0623, 57.4953, -43.9935, 3450,    150.5,   2.7532,  34.7686,2,  34.7686,2,    298.8,2,    306.0,6,     8.59,6,    16.22,6,     1.01,6,    4.730,2, -999.000,5,    0.310,2,    6.520,2,   2150.4,2,   2271.3,3, 912.240,3,  2.7443,    151
   18HU97009_1,  AR27,    39,  1, 186756,   OC51,2,19970519,0623, 57.4953, -43.9935, 3450,    200.1,   2.9491,  34.8054,2,  34.8054,2,    297.9,2,    304.9,6,     8.74,6,    15.94,6,     1.01,6,    4.730,2, -999.000,5, -999.000,5,    6.420,2,   2146.8,2,   2284.5,2,-999.000,3,  2.9368,    200
   18HU97009_1,  AR27,    39,  1, 186755,   OC56,2,19970519,0623, 57.4953, -43.9935, 3450,    300.9,   2.8800,  34.8067,2,  34.8069,2,    296.3,2,    303.6,6,     8.77,6,    16.31,6,     0.99,6,    4.680,2, -999.000,5,    0.340,2,    6.780,2,   2150.3,2,   2284.6,2,-999.000,3,  2.8614,    301
   18HU97009_1,  AR27,    39,  1, 186754,   OC61,2,19970519,0623, 57.4953, -43.9935, 3450,    397.7,   2.8519,  34.8059,2,  34.8067,2,    300.3,2,    307.7,6,     8.76,6,    15.96,6,     0.98,6,    4.770,2, -999.000,5,    0.300,2,    6.700,2,   2148.4,2,   2286.1,2, 917.410,3,  2.8271,    398
   18HU97009_1,  AR27,    39,  1, 186753,   OC82,2,19970519,0623, 57.4953, -43.9935, 3450,    497.9,   2.8870,  34.8107,2,  34.8120,2,    297.6,2,    305.5,6,     8.87,6,    16.16,6,     1.01,6,    4.640,2, -999.000,5,    0.300,2,    6.410,2,   2148.9,2,   2284.0,2, 960.600,3,  2.8554,    498
   18HU97009_1,  AR27,    39,  1, 186752,   OC83,2,19970519,0623, 57.4953, -43.9935, 3450,    707.6,   3.0926,  34.8483,2,  34.8486,2,    280.5,2,    289.0,6,     9.59,6,    17.07,6,     1.04,6,    3.850,2, -999.000,5,    0.290,2,    6.100,2,   2150.5,2,   2286.1,2, 817.940,3,  3.0452,    708
   18HU97009_1,  AR27,    39,  1, 186751,   OC94,2,19970519,0623, 57.4953, -43.9935, 3450,    850.5,   3.0549,  34.8509,2,  34.8515,2,    280.9,2,    289.6,6,     9.79,6,    16.74,6,     1.06,6,    3.590,6,    2.037,6,    0.224,6,    5.296,3,   2151.8,2,   2285.1,2, 296.896,3,  2.9972,    851
   18HU97009_1,  AR27,    39,  1, 186750,   OC85,2,19970519,0623, 57.4953, -43.9935, 3450,    999.9,   3.0146,  34.8505,2,  34.8513,2,    282.5,2,    291.0,6,     9.90,6,    16.84,6,     1.05,6,    3.610,2,    2.160,2,    0.195,2,    5.556,3,   2151.8,6,   2289.5,2, 435.943,3,  2.9460,   1000
   18HU97009_1,  AR27,    39,  1, 186749,   OC86,2,19970519,0623, 57.4953, -43.9935, 3450,   1201.6,   2.9495,  34.8468,2,  34.8476,2,    284.8,2,    293.6,6,     9.71,6,    16.70,6,     1.04,6,    3.780,2, -999.000,5,    0.260,2,    5.740,2,   2149.5,2,   2288.2,2, 613.190,3,  2.8658,   1202
   18HU97009_1,  AR27,    39,  1, 186748,   OC87,2,19970519,0623, 57.4953, -43.9935, 3450,   1401.8,   2.9211,  34.8449,2,  34.8460,2,    285.7,2,    294.6,6,     9.67,6,    16.49,6,     1.03,6,    3.810,2, -999.000,5,    0.250,2,    5.620,2,   2149.9,2,   2286.3,2, 486.390,3,  2.8216,   1402
   18HU97009_1,  AR27,    39,  1, 186747,   OC88,2,19970519,0623, 57.4953, -43.9935, 3450,   1600.9,   2.8974,  34.8430,2,  34.8452,2,    286.8,2,    295.9,6,     9.70,6,    16.68,6,     1.03,6,    3.697,2,    2.228,2,    0.224,2,    5.332,2,   2148.9,2,   2285.1,2, 420.489,3,  2.7816,   1601
   18HU97009_1,  AR27,    39,  1, 186746,   OC36,2,19970519,0623, 57.4953, -43.9935, 3450,   1801.0,   2.8954,  34.8437,2,  34.8444,2,    287.1,2,    295.6,6,     9.58,6,    16.54,6,     1.03,6,    3.830,2, -999.000,5,    0.260,2,    5.670,3,   2147.4,2,   2288.3,2, 724.970,3,  2.7624,   1801
   18HU97009_1,  AR27,    39,  1, 186745,   OC84,2,19970519,0623, 57.4953, -43.9935, 3450,   2000.2,   2.9581,  34.8583,2,  34.8584,2,    282.7,2,    291.9,6,     9.86,6,    16.26,6,     1.15,6,    3.350,2, -999.000,5,    0.250,2,    5.180,2,   2148.6,2,   2290.2,2, 465.800,3,  2.8064,   2000
   18HU97009_1,  AR27,    39,  1, 186744,   OC90,2,19970519,0623, 57.4953, -43.9935, 3450,   2248.8,   3.0831,  34.8952,2,  34.8951,2,    272.8,2,    281.2,6,    11.07,6,    16.50,6,     1.13,6,    2.257,2,    1.216,2,    0.175,2,    3.318,2,   2150.1,2,   2294.6,2,   0.000,3,  2.9061,   2249
   18HU97009_1,  AR27,    39,  1, 186743,   OC91,2,19970519,0623, 57.4953, -43.9935, 3450,   2500.8,   3.0407,  34.9159,2,  34.9159,2,    268.6,2,    276.1,6,    12.30,6,    16.53,6,     1.14,6,    1.820,2, -999.000,5,    0.000,2,    3.070,2,   2151.1,2,   2293.0,2, 308.400,3,  2.8400,   2501
   18HU97009_1,  AR27,    39,  1, 186742,   OC64,2,19970519,0623, 57.4953, -43.9935, 3450,   2701.9,   2.9260,  34.9218,2,  34.9224,2,    269.0,2,    276.3,6,    12.55,6,    16.15,6,     1.14,6,    1.680,2, -999.000,5,    0.000,2,    3.120,2,   2154.7,2,   2300.1,2, 275.580,3,  2.7075,   2702
   18HU97009_1,  AR27,    39,  1, 186741,   OC92,2,19970519,0623, 57.4953, -43.9935, 3450,   2910.7,   2.7793,  34.9234,2,  34.9252,6,    269.6,2,    274.9,6,    13.45,6,    16.34,6,     1.04,6,    1.537,2,    0.944,2,    0.000,2,    2.335,3,   2158.4,2,   2296.4,2,   0.000,3,  2.5426,   2911
   18HU97009_1,  AR27,    39,  1, 186740,   OC58,2,19970519,0623, 57.4953, -43.9935, 3450,   3130.5,   2.5485,  34.9134,2,  34.9161,2,    274.2,2,    282.5,6,    13.60,6,    15.88,6,     1.02,6,    1.860,2, -999.000,5, -999.000,5,    3.440,2,   2157.8,2,   2298.9,2, 390.850,3,  2.2942,   3131
   18HU97009_1,  AR27,    39,  1, 186739,   OC93,2,19970519,0623, 57.4953, -43.9935, 3450,   3329.4,   2.2469,  34.9024,2,  34.9037,2,    283.3,2,    285.2,6,    11.84,6,    14.96,6,     0.98,6,    2.580,2, -999.000,5,    0.190,3,    4.450,2,   2157.7,2,   2294.4,2, 422.350,3,  1.9788,   3329
   18HU97009_1,  AR27,    39,  1, 186738,   OC66,2,19970519,0623, 57.4953, -43.9935, 3450,   3475.2,   1.5714,  34.8944,2,  34.8971,2,    294.1,2,    295.6,6,     8.66,6,    13.73,6,     0.91,6,    3.298,2,    1.936,2,    0.165,2,    5.078,2,   2160.8,2,   2309.1,3,   0.000,3,  1.3048,   3475