BOTTLE,20020708WHPSIOKJU
EXPOCODE,SECT_ID,STNNBR,CASTNO,SAMPNO,BTLNBR,BTLNBR_FLAG_W,DATE,TIME,LATITUDE,LONGITUDE,DEPTH,CTDPRS,CTDTMP,CTDSAL,CTDSAL_FLAG_W,SALNTY,SALNTY_FLAG_W,CTDOXY,CTDOXY_FLAG_W,OXYGEN,OXYGEN_FLAG_W,SILCAT,SILCAT_FLAG_W,NO2+NO3,NO2+NO3_FLAG_W,PHSPHT,PHSPHT_FLAG_W,CFC-11,CFC-11_FLAG_W,CFC-12,CFC-12_FLAG_W,CFC113,CFC113_FLAG_W,CCL4,CCL4_FLAG_W,TCARBN,TCARBN_FLAG_W,ALKALI,ALKALI_FLAG_W,MCHFRM,MCHFRM_FLAG_W,THETA,CTDRAW
,,,,,,,,,,,,DBAR,ITS-90,PSS-78,,PSS-78,,UMOL/KG,,UMOL/KG,,UMOL/KG,,UMOL/KG,,UMOL/KG,,PMOL/KG,,PMOL/KG,,PMOL/KG,,PMOL/KG,,UMOL/KG,,UMOL/KG,,PMOL/KG,,DEG C,
   18HU97009_1,  AR13,    32,  1, 186563,   OC88,3,19970517,0955, 53.9948, -44.0010, 3684,     10.3,   5.7840,  34.6945,2,-999.0000,9,    295.0,2,   -999.0,9,  -999.00,9,  -999.00,9,  -999.00,9, -999.000,9, -999.000,9, -999.000,9, -999.000,9,   -999.0,9,   -999.0,9,-999.000,9,  5.7832,     10
   18HU97009_1,  AR13,    32,  1, 186562,   OC36,3,19970517,0955, 53.9948, -44.0010, 3684,     48.8,   5.0597,  34.6907,2,-999.0000,9,    286.7,2,   -999.0,9,  -999.00,9,  -999.00,9,  -999.00,9, -999.000,9, -999.000,9, -999.000,9, -999.000,9,   -999.0,9,   -999.0,9,-999.000,9,  5.0559,     49
   18HU97009_1,  AR13,    32,  1, 186561,   OC84,3,19970517,0955, 53.9948, -44.0010, 3684,     74.4,   3.9265,  34.7544,2,-999.0000,9,    275.4,2,   -999.0,9,  -999.00,9,  -999.00,9,  -999.00,9, -999.000,9, -999.000,9, -999.000,9, -999.000,9,   -999.0,9,   -999.0,9,-999.000,9,  3.9214,     74
   18HU97009_1,  AR13,    32,  1, 186560,   OC90,3,19970517,0955, 53.9948, -44.0010, 3684,     97.4,   3.5830,  34.7352,2,-999.0000,9,    284.0,2,   -999.0,9,  -999.00,9,  -999.00,9,  -999.00,9, -999.000,9, -999.000,9, -999.000,9, -999.000,9,   -999.0,9,   -999.0,9,-999.000,9,  3.5766,     97
   18HU97009_1,  AR13,    32,  1, 186559,   OC91,3,19970517,0955, 53.9948, -44.0010, 3684,    149.3,   3.5107,  34.7460,2,-999.0000,9,    280.3,2,   -999.0,9,  -999.00,9,  -999.00,9,  -999.00,9, -999.000,9, -999.000,9, -999.000,9, -999.000,9,   -999.0,9,   -999.0,9,-999.000,9,  3.5009,    149
   18HU97009_1,  AR13,    32,  1, 186558,   OC64,3,19970517,0955, 53.9948, -44.0010, 3684,    200.4,   3.4498,  34.7634,2,-999.0000,9,    277.3,2,   -999.0,9,  -999.00,9,  -999.00,9,  -999.00,9, -999.000,9, -999.000,9, -999.000,9, -999.000,9,   -999.0,9,   -999.0,9,-999.000,9,  3.4366,    200
   18HU97009_1,  AR13,    32,  1, 186557,   OC92,3,19970517,0955, 53.9948, -44.0010, 3684,    299.7,   3.4167,  34.8007,2,-999.0000,9,    271.6,2,   -999.0,9,  -999.00,9,  -999.00,9,  -999.00,9, -999.000,9, -999.000,9, -999.000,9, -999.000,9,   -999.0,9,   -999.0,9,-999.000,9,  3.3968,    300
   18HU97009_1,  AR13,    32,  1, 186556,   OC58,3,19970517,0955, 53.9948, -44.0010, 3684,    400.1,   3.2535,  34.8084,2,-999.0000,9,    273.2,2,   -999.0,9,  -999.00,9,  -999.00,9,  -999.00,9, -999.000,9, -999.000,9, -999.000,9, -999.000,9,   -999.0,9,   -999.0,9,-999.000,9,  3.2272,    400
   18HU97009_1,  AR13,    32,  1, 186555,   OC93,3,19970517,0955, 53.9948, -44.0010, 3684,    598.5,   3.6179,  34.8903,2,-999.0000,9,    261.0,2,   -999.0,9,  -999.00,9,  -999.00,9,  -999.00,9, -999.000,9, -999.000,9, -999.000,9, -999.000,9,   -999.0,9,   -999.0,9,-999.000,9,  3.5759,    599
   18HU97009_1,  AR13,    32,  1, 186554,   OC66,3,19970517,0955, 53.9948, -44.0010, 3684,    801.0,   3.4161,  34.8828,2,-999.0000,9,    266.7,2,   -999.0,9,  -999.00,9,  -999.00,9,  -999.00,9, -999.000,9, -999.000,9, -999.000,9, -999.000,9,   -999.0,9,   -999.0,9,-999.000,9,  3.3598,    801
   18HU97009_1,  AR13,    32,  1, 186553,   OC94,2,19970517,0955, 53.9948, -44.0010, 3684,   1000.2,   3.2832,  34.8782,2,  34.8771,2,   -999.0,5,    283.3,6,    10.23,6,    17.52,6,     1.06,6,    3.129,6,    1.614,6,    0.199,6,    5.434,6,   2153.7,2,   2289.4,2,  93.727,3,  3.2125,   1000
   18HU97009_1,  AR13,    32,  1, 186552,   OC85,2,19970517,0955, 53.9948, -44.0010, 3684,   1200.6,   3.1743,  34.8709,2,  34.8708,2,    273.4,2,    286.9,6,    10.15,6,    17.24,6,     1.04,6,    3.143,2,    1.605,2,    0.195,2,    5.614,2,   2152.6,2,   2289.3,2, 194.050,3,  3.0886,   1201
   18HU97009_1,  AR13,    32,  1, 186551,   OC86,2,19970517,0955, 53.9948, -44.0010, 3684,   1399.7,   3.0714,  34.8654,2,  34.8665,2,    276.3,2,    290.1,6,    10.12,6,    17.37,6,     1.05,6,    3.230,2,    1.674,2,    0.204,2,    5.682,2,   2149.7,2,   2291.3,2,  66.989,3,  2.9704,   1400
   18HU97009_1,  AR13,    32,  1, 186550,   OC87,2,19970517,0955, 53.9948, -44.0010, 3684,   1595.8,   3.0078,  34.8625,2,  34.8620,2,    278.1,2,    291.0,6,    10.01,6,    17.20,6,     1.05,6,    3.260,2,    1.720,2, -999.000,5,    6.630,3,   2153.9,2,   2291.9,2, 321.690,3,  2.8910,   1596
   18HU97009_1,  AR13,    32,  1, 186549,   OC88,2,19970517,0955, 53.9948, -44.0010, 3684,   1799.4,   3.0240,  34.8728,2,  34.8728,2,    275.5,2,    288.3,6,    10.44,6,    17.27,6,     1.04,6,    3.006,2,    1.518,2,    0.195,2,    4.845,2,   2150.9,2,   2282.2,2, 162.795,3,  2.8893,   1799
   18HU97009_1,  AR13,    32,  1, 186548,   OC36,2,19970517,0955, 53.9948, -44.0010, 3684,   2000.9,   3.0751,  34.8960,2,  34.8963,2,    269.2,2,    282.3,6,    11.03,6,    16.76,6,     1.03,6,    2.374,2,    1.206,2,    0.165,2,    4.261,2,   2151.0,2,   2312.8,3,  27.135,3,  2.9214,   2001
   18HU97009_1,  AR13,    32,  1, 186547,   OC84,2,19970517,0955, 53.9948, -44.0010, 3684,   2199.2,   3.0447,  34.9068,2,  34.9069,2,    267.3,2,    279.5,6,    11.66,6,    17.01,6,     1.04,6,    2.033,2,    1.051,2,    0.195,2,    3.464,2,   2152.9,2,   2296.5,2, 172.598,3,  2.8730,   2199
   18HU97009_1,  AR13,    32,  1, 186546,   OC90,2,19970517,0955, 53.9948, -44.0010, 3684,   2396.8,   3.0196,  34.9262,2,  34.9264,2,    263.6,2,    275.1,6,    12.37,6,    16.82,6,     1.04,6,    1.644,2,    0.846,2,    0.000,2,    2.753,3,   2153.3,9,   -999.0,9,  74.331,3,  2.8294,   2397
   18HU97009_1,  AR13,    32,  1, 186545,   OC91,2,19970517,0955, 53.9948, -44.0010, 3684,   2649.0,   2.9524,  34.9382,2,  34.9382,2,    263.1,2,    273.2,6,    13.38,6,    16.77,6,     1.04,6,    1.557,2,    0.700,2,    0.000,2,    3.084,2,   2157.8,2,   2294.9,6,  15.216,3,  2.7386,   2649
   18HU97009_1,  AR13,    32,  1, 186544,   OC64,2,19970517,0955, 53.9948, -44.0010, 3684,   2898.6,   2.8985,  34.9474,2,  34.9476,2,    262.6,2,    271.4,6,    14.58,6,    16.85,6,     1.05,6,    1.518,2,    0.710,2,    0.000,2,    2.948,2,   2158.2,2,   2297.7,2, 115.043,3,  2.6604,   2899
   18HU97009_1,  AR13,    32,  1, 186543,   OC92,2,19970517,0955, 53.9948, -44.0010, 3684,   3150.4,   2.6419,  34.9195,2,  34.9198,6,    268.5,2,    276.1,6,    14.99,6,    16.70,6,     1.03,6,    1.518,6,    0.720,6,    0.000,6,    2.909,6,   2157.2,2,   2304.4,2,  84.436,3,  2.3833,   3150
   18HU97009_1,  AR13,    32,  1, 186542,   OC58,2,19970517,0955, 53.9948, -44.0010, 3684,   3349.8,   2.4903,  34.9144,2,  34.9146,2,    270.8,2,    276.5,6,    15.65,6,    16.82,6,     1.04,6,    1.508,6,    0.700,6,    0.000,6,    3.172,6,   2158.7,2,   2310.4,2,   8.911,3,  2.2143,   3350
   18HU97009_1,  AR13,    32,  1, 186541,   OC93,2,19970517,0955, 53.9948, -44.0010, 3684,   3499.4,   2.3958,  34.9083,2,  34.9089,2,    273.0,2,    278.3,6,    15.48,6,    16.17,6,     1.02,6,    1.703,6,    0.827,6,    0.000,6,    3.405,6,   2156.6,2,   2300.5,2, 128.564,3,  2.1061,   3499
   18HU97009_1,  AR13,    32,  1, 186540,   OC66,2,19970517,0955, 53.9948, -44.0010, 3684,   3720.8,   2.2084,  34.8962,2,  34.8961,2,    277.1,2,    281.5,6,    15.31,6,    16.09,6,     1.02,6,    2.082,2,    0.924,2,    0.146,2,    4.008,3,   2156.7,2,   2300.5,2,  98.259,3,  1.8994,   3721
   18HU97009_1,  AR13,    33,  5, 186572,   OC36,2,19970517,1742, 54.4940, -44.0085, 3277,      5.3,   6.2310,  34.7142,2,-999.0000,9,    304.3,2,   -999.0,9,  -999.00,9,  -999.00,9,  -999.00,9, -999.000,9, -999.000,9, -999.000,9, -999.000,9,   -999.0,9,   -999.0,9,-999.000,9,  6.2305,      5
   18HU97009_1,  AR13,    33,  5, 186574,   OC87,2,19970517,1742, 54.4940, -44.0085, 3277,      5.5,   6.2368,  34.7138,2,-999.0000,9,    304.5,2,   -999.0,9,  -999.00,9,  -999.00,9,  -999.00,9, -999.000,9, -999.000,9, -999.000,9, -999.000,9,   -999.0,9,   -999.0,9,-999.000,9,  6.2363,      6
   18HU97009_1,  AR13,    33,  5, 186573,   OC88,2,19970517,1742, 54.4940, -44.0085, 3277,      5.7,   6.2364,  34.7139,2,-999.0000,9,    304.0,2,   -999.0,9,  -999.00,9,  -999.00,9,  -999.00,9, -999.000,9, -999.000,9, -999.000,9, -999.000,9,   -999.0,9,   -999.0,9,-999.000,9,  6.2359,      6
   18HU97009_1,  AR13,    33,  5, 186576,   OC85,2,19970517,1742, 54.4940, -44.0085, 3277,      5.7,   6.2364,  34.7141,2,-999.0000,9,    304.1,2,   -999.0,9,  -999.00,9,  -999.00,9,  -999.00,9, -999.000,9, -999.000,9, -999.000,9, -999.000,9,   -999.0,9,   -999.0,9,-999.000,9,  6.2359,      6
   18HU97009_1,  AR13,    33,  5, 186571,   OC84,2,19970517,1742, 54.4940, -44.0085, 3277,      5.8,   6.2514,  34.7131,2,-999.0000,9,    304.2,2,   -999.0,9,  -999.00,9,  -999.00,9,  -999.00,9, -999.000,9, -999.000,9, -999.000,9, -999.000,9,   -999.0,9,   -999.0,9,-999.000,9,  6.2509,      6
   18HU97009_1,  AR13,    33,  5, 186578,   OC83,2,19970517,1742, 54.4940, -44.0085, 3277,      5.8,   6.1584,  34.7139,2,-999.0000,9,    305.1,2,   -999.0,9,  -999.00,9,  -999.00,9,  -999.00,9, -999.000,9, -999.000,9, -999.000,9, -999.000,9,   -999.0,9,   -999.0,9,-999.000,9,  6.1579,      6
   18HU97009_1,  AR13,    33,  5, 186575,   OC86,2,19970517,1742, 54.4940, -44.0085, 3277,      5.9,   6.2355,  34.7138,2,-999.0000,9,    304.2,2,   -999.0,9,  -999.00,9,  -999.00,9,  -999.00,9, -999.000,9, -999.000,9, -999.000,9, -999.000,9,   -999.0,9,   -999.0,9,-999.000,9,  6.2350,      6
   18HU97009_1,  AR13,    33,  5, 186577,   OC94,2,19970517,1742, 54.4940, -44.0085, 3277,      5.9,   6.1977,  34.7143,2,-999.0000,9,    304.5,2,   -999.0,9,  -999.00,9,  -999.00,9,  -999.00,9, -999.000,9, -999.000,9, -999.000,9, -999.000,9,   -999.0,9,   -999.0,9,-999.000,9,  6.1972,      6
   18HU97009_1,  AR13,    33,  5, 186602,   OC80,2,19970517,1742, 54.4940, -44.0085, 3277,      8.7,   6.3135,  34.7127,2,  34.7138,2,    304.4,2,    318.0,2,     2.37,6,     9.15,6,     0.64,6,    4.700,2,    2.510,2, -999.000,5,    7.690,3,   2104.7,2,   2296.1,2,  -1.000,4,  6.3127,      9
   18HU97009_1,  AR13,    33,  5, 186570,   OC90,2,19970517,1742, 54.4940, -44.0085, 3277,     20.0,   6.0350,  34.7130,2,-999.0000,9,    305.7,2,   -999.0,9,  -999.00,9,  -999.00,9,  -999.00,9, -999.000,9, -999.000,9, -999.000,9, -999.000,9,   -999.0,9,   -999.0,9,-999.000,9,  6.0333,     20
   18HU97009_1,  AR13,    33,  5, 186601,   OC55,2,19970517,1742, 54.4940, -44.0085, 3277,     25.1,   5.9421,  34.7080,2,  34.7085,2,    303.6,2,    315.3,2,     2.42,6,     9.23,6,     0.63,6,    4.630,2,    2.430,2, -999.000,5,    7.780,3,   2106.8,2,   2290.8,2,  -1.000,4,  5.9400,     25
   18HU97009_1,  AR13,    33,  5, 186569,   OC91,2,19970517,1742, 54.4940, -44.0085, 3277,     28.4,   5.9359,  34.7114,2,-999.0000,9,    302.8,2,   -999.0,9,  -999.00,9,  -999.00,9,  -999.00,9, -999.000,9, -999.000,9, -999.000,9, -999.000,9,   -999.0,9,   -999.0,9,-999.000,9,  5.9335,     28
   18HU97009_1,  AR13,    33,  5, 186600,   OC81,2,19970517,1742, 54.4940, -44.0085, 3277,     49.9,   5.6166,  34.7042,2,  34.7099,2,    293.2,2,    308.0,2,     3.81,6,    10.52,6,     0.69,6,    4.468,2,    2.599,2,    0.273,2,    7.699,3,   2116.8,2,   2287.6,2,  -0.973,4,  5.6125,     50
   18HU97009_1,  AR13,    33,  5, 186568,   OC64,2,19970517,1742, 54.4940, -44.0085, 3277,     51.2,   4.5710,  34.7553,2,-999.0000,9,    287.6,2,   -999.0,9,  -999.00,9,  -999.00,9,  -999.00,9, -999.000,9, -999.000,9, -999.000,9, -999.000,9,   -999.0,9,   -999.0,9,-999.000,9,  4.5672,     51
   18HU97009_1,  AR13,    33,  5, 186567,   OC92,2,19970517,1742, 54.4940, -44.0085, 3277,     75.0,   4.2906,  34.7421,2,-999.0000,9,    289.8,2,   -999.0,9,  -999.00,9,  -999.00,9,  -999.00,9, -999.000,9, -999.000,9, -999.000,9, -999.000,9,   -999.0,9,   -999.0,9,-999.000,9,  4.2852,     75
   18HU97009_1,  AR13,    33,  5, 186599,   OC69,2,19970517,1742, 54.4940, -44.0085, 3277,     75.1,   4.2423,  34.7245,2,  34.7252,2,    288.4,2,    296.3,2,     7.71,6,    14.69,6,     0.96,6,    4.569,6,    2.591,6,    0.311,2,    7.958,6,   2139.4,2,   2287.8,2,  13.158,3,  4.2370,     75
   18HU97009_1,  AR13,    33,  5, 186566,   OC58,2,19970517,1742, 54.4940, -44.0085, 3277,     98.8,   4.0038,  34.7277,2,-999.0000,9,    290.7,2,   -999.0,9,  -999.00,9,  -999.00,9,  -999.00,9, -999.000,9, -999.000,9, -999.000,9, -999.000,9,   -999.0,9,   -999.0,9,-999.000,9,  3.9970,     99
   18HU97009_1,  AR13,    33,  5, 186598,   OC52,2,19970517,1742, 54.4940, -44.0085, 3277,     98.8,   4.1418,  34.7305,2,  34.7309,2,    285.1,2,    293.4,2,     8.10,6,    15.17,6,     0.97,6,    4.399,2,    2.345,2,    0.302,2,    7.756,2,   2143.7,2,   2284.6,2,  -0.973,4,  4.1349,     99
   18HU97009_1,  AR13,    33,  5, 186565,   OC93,2,19970517,1742, 54.4940, -44.0085, 3277,    149.8,   3.8701,  34.7620,2,-999.0000,9,    288.8,2,   -999.0,9,  -999.00,9,  -999.00,9,  -999.00,9, -999.000,9, -999.000,9, -999.000,9, -999.000,9,   -999.0,9,   -999.0,9,-999.000,9,  3.8598,    150
   18HU97009_1,  AR13,    33,  5, 186597,   OC51,2,19970517,1742, 54.4940, -44.0085, 3277,    150.0,   4.0289,  34.7680,2,  34.7675,2,    276.7,2,    283.9,2,     8.59,6,    15.89,6,     1.01,6,    4.058,2,    2.170,2,    0.302,2,    7.571,3,   2148.6,2,   -999.0,9,  -0.973,4,  4.0185,    150
   18HU97009_1,  AR13,    33,  5, 186596,   OC56,2,19970517,1742, 54.4940, -44.0085, 3277,    198.9,   3.5822,  34.7542,2,  34.7553,2,    286.3,2,    292.1,2,     8.60,6,    15.99,6,     1.02,6,    4.068,2,    2.199,2,    0.272,2,    7.726,2,   2145.8,2,   2286.3,6,  -0.973,4,  3.5690,    199
   18HU97009_1,  AR13,    33,  5, 186564,   OC66,2,19970517,1742, 54.4940, -44.0085, 3277,    201.8,   3.8714,  34.7985,2,-999.0000,9,    282.4,2,   -999.0,9,  -999.00,9,  -999.00,9,  -999.00,9, -999.000,9, -999.000,9, -999.000,9, -999.000,9,   -999.0,9,   -999.0,9,-999.000,9,  3.8574,    202
   18HU97009_1,  AR13,    33,  5, 186595,   OC61,2,19970517,1742, 54.4940, -44.0085, 3277,    296.3,   3.5325,  34.7957,2,  34.7971,2,    277.6,2,    284.0,2,     9.18,6,    16.74,6,     1.05,6,    4.048,2,    2.296,2,    0.243,2,    7.794,2,   2153.3,2,   2290.0,2,  -0.973,4,  3.5126,    296
   18HU97009_1,  AR13,    33,  5, 186594,   OC82,2,19970517,1742, 54.4940, -44.0085, 3277,    399.3,   2.8692,  34.7424,2,  34.7416,2,    296.3,2,    303.3,2,     8.44,6,    15.91,6,     1.00,6,    4.651,3,    2.608,3,    0.360,3,    8.641,3,   2148.9,2,   2284.8,2,  -0.973,4,  2.8443,    399
   18HU97009_1,  AR13,    33,  5, 186593,   OC83,2,19970517,1742, 54.4940, -44.0085, 3277,    598.9,   3.4383,  34.8604,2,  34.8607,2,    273.2,2,    281.1,2,     9.83,6,    17.55,6,     1.07,6,    3.680,2,    1.930,2, -999.000,5,    7.250,2,   2155.1,2,   2292.0,2,  -1.000,4,  3.3971,    599
   18HU97009_1,  AR13,    33,  5, 186592,   OC94,2,19970517,1742, 54.4940, -44.0085, 3277,    800.2,   3.3162,  34.8690,2,  34.8697,2,    275.6,4,    283.3,2,    10.03,6,    17.62,6,     1.06,6,    3.347,2,    1.712,2,    0.243,2,    6.723,2,   2155.5,2,   2291.2,2,  -0.973,4,  3.2606,    800
   18HU97009_1,  AR13,    33,  5, 186591,   OC85,2,19970517,1742, 54.4940, -44.0085, 3277,   1002.4,   3.1544,  34.8621,2,  34.8619,2,    280.9,2,    287.2,2,     9.89,6,    17.20,6,     1.05,6,    3.337,2,    1.635,2,    0.253,2,    6.461,3,   2154.6,2,   2293.5,2,  -0.973,4,  3.0845,   1002
   18HU97009_1,  AR13,    33,  5, 186590,   OC86,2,19970517,1742, 54.4940, -44.0085, 3277,   1201.5,   3.0545,  34.8565,2,  34.8568,2,    284.9,2,    291.5,2,     9.74,6,    17.22,6,     1.04,6,    3.474,2,    1.839,2,    0.185,2,    6.577,2,   2150.8,2,   2296.1,2,  -0.973,4,  2.9698,   1202
   18HU97009_1,  AR13,    33,  5, 186589,   OC87,2,19970517,1742, 54.4940, -44.0085, 3277,   1396.8,   3.0167,  34.8569,2,  34.8570,2,    286.2,2,    292.4,2,     9.68,6,    16.88,6,     1.04,6,    3.435,2,    1.800,2,    0.146,3,    6.451,3,   2151.0,2,   -999.0,9,  -0.973,4,  2.9165,   1397
   18HU97009_1,  AR13,    33,  5, 186588,   OC88,2,19970517,1742, 54.4940, -44.0085, 3277,   1599.0,   2.9853,  34.8563,2,  34.8564,2,    287.3,2,    293.2,2,     9.75,6,    17.17,6,     1.04,6,    3.530,2,    1.980,2, -999.000,5,    6.860,2,   2142.7,2,   2291.3,2,  -1.000,4,  2.8685,   1599
   18HU97009_1,  AR13,    33,  5, 186587,   OC36,2,19970517,1742, 54.4940, -44.0085, 3277,   1801.4,   2.9557,  34.8552,2,  34.8548,2,    288.5,2,    294.3,2,     9.82,6,    17.05,6,     1.03,6,    3.483,2,    1.683,2,    0.185,2,    6.470,2,   -999.0,5,   2292.9,2,  -0.973,4,  2.8218,   1801
   18HU97009_1,  AR13,    33,  5, 186586,   OC84,2,19970517,1742, 54.4940, -44.0085, 3277,   1998.6,   3.0213,  34.8704,2,  34.8707,2,    284.6,2,    289.8,2,    10.20,6,    17.26,6,     1.05,6,    3.026,2,    1.557,2,    0.175,2,    5.993,2,   2159.6,2,   2292.3,2,  -0.973,4,  2.8688,   1999
   18HU97009_1,  AR13,    33,  5, 186585,   OC90,2,19970517,1742, 54.4940, -44.0085, 3277,   2200.6,   3.0957,  34.8970,2,  34.8976,2,    277.1,2,    282.6,2,    10.97,6,    16.88,6,     1.04,6,    2.360,2,    1.180,2, -999.000,5,    5.040,2,   2146.9,2,   2296.0,2,  -1.000,4,  2.9231,   2201
   18HU97009_1,  AR13,    33,  5, 186584,   OC91,2,19970517,1742, 54.4940, -44.0085, 3277,   2400.6,   3.0814,  34.9176,2,  34.9172,2,    273.0,2,    277.6,2,    11.87,6,    17.01,6,     1.05,6,    1.751,2,    0.817,2,    0.175,2,    3.726,2,   2153.2,2,   2298.3,2,   0.000,3,  2.8898,   2401
   18HU97009_1,  AR13,    33,  5, 186583,   OC64,2,19970517,1742, 54.4940, -44.0085, 3277,   2600.9,   3.0069,  34.9273,2,  34.9266,2,    271.9,2,    277.5,2,    12.52,6,    17.04,6,     1.04,6,    1.547,2,    0.759,2,    0.175,2,    3.269,3,   2154.8,2,   2300.5,2,  -0.973,4,  2.7969,   2601
   18HU97009_1,  AR13,    33,  5, 186582,   OC92,2,19970517,1742, 54.4940, -44.0085, 3277,   2851.3,   2.9394,  34.9435,2,  34.9435,2,    270.1,2,    273.5,2,    13.76,6,    16.84,6,     1.03,6,    1.570,2,    0.710,2, -999.000,5,    3.710,2,   2155.7,6,   2303.6,2,  -1.000,4,  2.7053,   2851
   18HU97009_1,  AR13,    33,  5, 186581,   OC58,2,19970517,1742, 54.4940, -44.0085, 3277,   3096.9,   2.6802,  34.9245,2,  34.9243,2,    274.6,2,    277.0,2,    14.31,6,    17.02,6,     1.03,6,    1.459,2,    0.720,2,    0.000,2,    3.386,2,   2154.1,2,   2305.8,2,   0.000,3,  2.4263,   3097
   18HU97009_1,  AR13,    33,  5, 186580,   OC93,2,19970517,1742, 54.4940, -44.0085, 3277,   3298.4,   2.5103,  34.9154,2,  34.9154,2,    278.0,2,    278.7,2,    14.63,6,    16.74,6,     1.04,6,    1.610,2,    0.800,2, -999.000,5,    3.810,2,   2157.5,2,   2304.4,6,  -1.000,4,  2.2392,   3298
   18HU97009_1,  AR13,    33,  5, 186579,   OC66,2,19970517,1742, 54.4940, -44.0085, 3277,   3511.4,   2.3276,  34.9045,2,  34.9048,2,    279.2,2,    280.3,6,    15.25,6,    16.45,6,     1.02,6,    1.870,2,    0.940,2, -999.000,5,    4.710,3,   2155.6,2,   2364.6,3,  -1.000,4,  2.0383,   3511