BOTTLE,20020708WHPSIOKJU
EXPOCODE,SECT_ID,STNNBR,CASTNO,SAMPNO,BTLNBR,BTLNBR_FLAG_W,DATE,TIME,LATITUDE,LONGITUDE,DEPTH,CTDPRS,CTDTMP,CTDSAL,CTDSAL_FLAG_W,SALNTY,SALNTY_FLAG_W,CTDOXY,CTDOXY_FLAG_W,OXYGEN,OXYGEN_FLAG_W,SILCAT,SILCAT_FLAG_W,NO2+NO3,NO2+NO3_FLAG_W,PHSPHT,PHSPHT_FLAG_W,CFC-11,CFC-11_FLAG_W,CFC-12,CFC-12_FLAG_W,CFC113,CFC113_FLAG_W,CCL4,CCL4_FLAG_W,TCARBN,TCARBN_FLAG_W,ALKALI,ALKALI_FLAG_W,MCHFRM,MCHFRM_FLAG_W,THETA,CTDRAW
,,,,,,,,,,,,DBAR,ITS-90,PSS-78,,PSS-78,,UMOL/KG,,UMOL/KG,,UMOL/KG,,UMOL/KG,,UMOL/KG,,PMOL/KG,,PMOL/KG,,PMOL/KG,,PMOL/KG,,UMOL/KG,,UMOL/KG,,PMOL/KG,,DEG C,
   18HU97009_1,  AR27,   105,  3, 188010,   OC55,2,19970603,2340, 60.9775, -56.5838, 2917,     10.7,   3.4799,  33.9688,2,  34.0471,2,    108.8,4,    352.8,2,     0.29,6,     0.00,6,     0.16,6,    5.492,2,    2.980,2,    0.321,2,    9.669,2,   2014.2,2,   -999.0,5,  59.113,3,  3.4792,     11
   18HU97009_1,  AR27,   105,  3, 188009,   OC81,2,19970603,2340, 60.9775, -56.5838, 2917,     49.9,   3.0485,  34.4068,2,  34.4072,2,    428.5,4,    338.3,2,     2.18,6,     5.47,6,     0.58,6,    5.149,2,    2.745,2,    0.321,2,    9.636,2,   2096.1,2,   -999.0,5,  52.423,3,  3.0454,     50
   18HU97009_1,  AR27,   105,  3, 188008,   OC69,2,19970603,2340, 60.9775, -56.5838, 2917,    109.0,   3.0910,  34.5901,2,  34.5924,2,    349.7,4,    315.9,2,     6.00,6,    10.22,6,     0.83,6,    5.022,2,    2.725,2,    0.302,2,    9.411,2,   2127.1,2,   -999.0,5,  50.236,3,  3.0842,    109
   18HU97009_1,  AR27,   105,  3, 188007,   OC52,2,19970603,2340, 60.9775, -56.5838, 2917,    199.6,   3.7937,  34.7681,2,  34.7671,2,    339.2,4,    298.1,2,     7.79,6,    13.64,6,     0.99,6,    4.437,2,    2.404,2,    0.263,2,    9.235,2,   2139.9,2,   -999.0,5,  43.985,4,  3.7800,    200
   18HU97009_1,  AR27,   105,  3, 188006,   OC51,2,19970603,2340, 60.9775, -56.5838, 2917,    299.3,   3.6643,  34.7839,2,  34.7840,2,     68.8,4,    297.6,2,     7.66,6,    14.03,6,     1.01,6,    4.428,2,    2.404,2,    0.263,2,    9.478,2,   2142.7,2,   -999.0,5,  44.295,4,  3.6439,    299
   18HU97009_1,  AR27,   105,  3, 188005,   OC60,2,19970603,2340, 60.9775, -56.5838, 2917,    408.4,   3.8774,  34.8385,2,  34.8356,2,    230.4,4,    295.7,2,     8.00,6,    15.16,6,     1.02,6,    4.272,2,    2.394,2,    0.253,2,    8.505,2,   2144.7,2,   -999.0,5,  42.990,4,  3.8485,    408
   18HU97009_1,  AR27,   105,  3, 188004,   OC61,2,19970603,2340, 60.9775, -56.5838, 2917,    537.9,   3.5824,  34.8237,2,  34.8222,2,    334.2,4,    296.6,2,     8.06,6,    15.10,6,     1.04,6,    4.320,2,    2.287,2,    0.253,2,    8.650,2,   2143.8,2,   -999.0,5,  43.904,4,  3.5451,    538
   18HU97009_1,  AR27,   105,  3, 188003,   OC82,2,19970603,2340, 60.9775, -56.5838, 2917,    680.0,   3.5914,  34.8449,2,  34.8440,2,   -200.4,4,    292.6,2,     8.33,6,    15.65,6,     1.03,6,    4.184,2,    2.316,2,    0.234,2,    8.709,2,   2148.6,2,   -999.0,5,  41.996,4,  3.5434,    680
   18HU97009_1,  AR27,   105,  3, 188002,   OC83,2,19970603,2340, 60.9775, -56.5838, 2917,    831.4,   3.5111,  34.8568,2,  34.8570,2,     75.2,4,    291.7,2,     8.70,6,    16.12,6,     1.05,6,    3.824,2,    2.053,2,    0.214,2,    7.716,2,   2148.9,2,   -999.0,5,  38.065,2,  3.4519,    831
   18HU97009_1,  AR27,   105,  3, 188001,   OC94,2,19970603,2340, 60.9775, -56.5838, 2917,    983.9,   3.4638,  34.8728,2,  34.8719,2,     54.2,4,    290.4,2,     8.93,6,    16.03,6,     1.05,6,    3.678,2,    1.956,2,    0.204,2,    7.920,2,   2151.2,2,   -999.0,5,  37.568,2,  3.3929,    984
   18HU97009_1,  AR27,   105,  3, 188000,   OC85,2,19970603,2340, 60.9775, -56.5838, 2917,   1160.9,   3.2895,  34.8675,2,  34.8666,2,    282.8,4,    289.2,2,     9.27,6,    16.32,6,     1.06,6,    3.512,2,    1.878,2,    0.195,2,    7.200,2,   2153.1,2,   -999.0,5,  35.475,2,  3.2059,   1161
   18HU97009_1,  AR27,   105,  3, 187999,   OC86,2,19970603,2340, 60.9775, -56.5838, 2917,   1359.7,   3.1753,  34.8687,2,  34.8680,2,     79.9,4,    290.4,6,     9.42,6,    16.56,6,     1.07,6,    3.454,2,    1.839,2,    0.185,2,    6.636,2,   2152.3,2,   -999.0,5,  34.813,2,  3.0766,   1360
   18HU97009_1,  AR27,   105,  3, 187998,   OC87,2,19970603,2340, 60.9775, -56.5838, 2917,   1555.0,   3.0368,  34.8599,2,  34.8586,6,    359.1,4,    294.4,2,     9.58,6,    16.47,6,     1.07,6,    3.503,2,    1.839,2,    0.195,2,    6.859,2,   2152.0,2,   -999.0,5,  36.418,2,  2.9232,   1555
   18HU97009_1,  AR27,   105,  3, 187997,   OC88,2,19970603,2340, 60.9775, -56.5838, 2917,   1750.5,   2.9465,  34.8523,2,  34.8512,6,    346.5,4,    296.0,2,     9.50,6,    16.24,6,     1.07,6,    3.666,6,    1.878,6,    0.185,2,    6.766,3,   2151.1,2,   -999.0,5,  37.618,6,  2.8172,   1751
   18HU97009_1,  AR27,   105,  3, 187996,   OC65,2,19970603,2340, 60.9775, -56.5838, 2917,   1922.1,   2.9727,  34.8663,2,  34.8658,2,    362.0,4,    292.5,2,     9.63,6,    16.19,6,     1.06,6,    3.230,2,    1.819,2,    0.156,2,    6.227,2,   2150.8,2,   -999.0,5,  34.365,2,  2.8278,   1922
   18HU97009_1,  AR27,   105,  3, 187995,   OC84,2,19970603,2340, 60.9775, -56.5838, 2917,   2089.3,   2.9875,  34.8891,2,  34.8890,6,     40.9,4,    287.0,2,    10.21,6,    16.29,6,     1.05,6,    2.792,2,    1.459,2,    0.146,2,    6.246,2,   2152.4,2,   -999.0,5,  30.054,2,  2.8271,   2089
   18HU97009_1,  AR27,   105,  3, 187994,   OC90,2,19970603,2340, 60.9775, -56.5838, 2917,   2240.8,   2.9179,  34.8984,2,  34.8978,6,    708.2,4,    284.4,2,    10.50,6,    15.96,6,     1.05,6,    2.559,2,    1.294,2,    0.136,2,    5.838,2,   2153.0,2,   -999.0,5,  27.398,2,  2.7445,   2241
   18HU97009_1,  AR27,   105,  3, 187993,   OC91,2,19970603,2340, 60.9775, -56.5838, 2917,   2390.1,   2.7995,  34.9025,2,  34.9013,6,     62.4,4,    283.9,2,    10.43,6,    15.59,6,     1.03,6,    2.491,2,    1.323,2,    0.000,2,    6.392,2,   2154.3,6,   -999.0,5,  27.456,2,  2.6140,   2390
   18HU97009_1,  AR27,   105,  3, 187992,   OC64,2,19970603,2340, 60.9775, -56.5838, 2917,   2520.1,   2.6449,  34.9055,2,  34.9044,6,    407.2,4,    284.0,2,    10.77,6,    15.57,6,     1.01,6,    2.345,2,    1.187,2,    0.000,2,    6.217,2,   2155.1,2,   -999.0,5,  25.003,3,  2.4497,   2520
   18HU97009_1,  AR27,   105,  3, 187991,   OC95,2,19970603,2340, 60.9775, -56.5838, 2917,   2634.6,   2.4826,  34.9049,2,  34.9039,2,    362.9,4,    285.0,2,    11.26,6,    15.67,6,     1.00,6,    2.422,2,    1.236,2,    0.126,2,    6.548,2,   2154.5,2,   -999.0,5,  26.365,2,  2.2794,   2635
   18HU97009_1,  AR27,   105,  3, 187990,   OC58,2,19970603,2340, 60.9775, -56.5838, 2917,   2739.9,   2.2703,  34.9010,2,  34.9005,6,     87.2,4,    287.2,2,    11.08,6,    15.02,6,     1.00,6,    2.549,2,    1.274,2,    0.126,2,    7.063,2,   2154.5,2,   -999.0,5,  27.921,2,  2.0611,   2740
   18HU97009_1,  AR27,   105,  3, 187989,   OC93,2,19970603,2340, 60.9775, -56.5838, 2917,   2830.9,   1.9706,  34.8955,2,  34.8939,2,     97.7,4,    291.4,2,    10.37,6,    14.84,6,     0.97,6,    2.909,2,    1.527,2,    0.146,2,    7.822,2,   2154.5,2,   -999.0,5,  31.598,2,  1.7589,   2831
   18HU97009_1,  AR27,   105,  3, 187988,   OC66,2,19970603,2340, 60.9775, -56.5838, 2917,   2923.3,   1.8611,  34.8928,2,  34.8912,6,    396.5,4,    294.3,2,    10.24,6,    14.71,6,     0.97,6,    3.103,2,    1.644,2,    0.165,2,    8.911,2,   2155.9,2,   -999.0,5,  32.143,2,  1.6427,   2923
   18HU97009_1,  AR27,   106,  3, 188033,   OC55,2,19970604,0456, 60.3845, -56.1980, 3074,     10.6,   4.0283,  34.2142,2,  34.2158,2,    236.0,4,    349.8,2,     0.47,6,     0.19,6,     0.15,6,    5.403,2,    2.950,2,    0.302,2,   11.469,3,   2040.9,2,   -999.0,5,  90.444,3,  4.0276,     11
   18HU97009_1,  AR27,   106,  3, 188032,   OC81,2,19970604,0456, 60.3845, -56.1980, 3074,     51.1,   2.7275,  34.4103,2,  34.4070,2,    308.6,4,    320.0,2,     3.75,6,     8.80,6,     0.76,6,    5.314,2,    2.969,2,    0.292,2,    9.003,3,   2126.2,2,   -999.0,5,  74.846,3,  2.7246,     51
   18HU97009_1,  AR27,   106,  3, 188031,   OC69,2,19970604,0456, 60.3845, -56.1980, 3074,    112.0,   3.8818,  34.7446,2,  34.7465,2,    205.0,4,    301.0,2,     7.43,6,    14.44,6,     0.97,6,    4.525,2,    2.589,2,    0.234,3,    7.970,3,   2137.1,2,   -999.0,5,  66.855,4,  3.8741,    112
   18HU97009_1,  AR27,   106,  3, 188030,   OC52,2,19970604,0456, 60.3845, -56.1980, 3074,    200.5,   4.1209,  34.8348,2,  34.8325,2,    419.3,4,    296.7,2,     7.82,6,    14.70,6,     1.00,6,    4.379,2,    2.530,2,    0.282,2,    7.756,2,   2141.6,2,   -999.0,5,  60.828,4,  4.1067,    201
   18HU97009_1,  AR27,   106,  3, 188029,   OC51,2,19970604,0456, 60.3845, -56.1980, 3074,    300.4,   3.9647,  34.8435,2,  34.8419,2,     49.7,4,    295.1,2,     8.07,6,    15.12,6,     1.01,6,    4.320,2,    2.306,2,    0.263,2,    7.726,2,   2143.5,2,   -999.0,5,  62.004,4,  3.9435,    300
   18HU97009_1,  AR27,   106,  3, 188028,   OC60,2,19970604,0456, 60.3845, -56.1980, 3074,    419.4,   3.7954,  34.8468,2,  34.8468,2,     45.8,4,    294.4,2,     8.30,6,    15.58,6,     1.01,6,    4.233,2,    2.277,2,    0.243,2,    7.288,2,   2146.0,2,   -999.0,5,  59.717,4,  3.7659,    419
   18HU97009_1,  AR27,   106,  3, 188027,   OC61,2,19970604,0456, 60.3845, -56.1980, 3074,    550.4,   3.7209,  34.8602,2,  34.8595,2,    353.7,4,    291.8,2,     8.60,6,    15.56,6,     1.07,6,    4.155,2,    2.335,2,    0.224,2,    7.843,2,   2148.7,2,   -999.0,5,  61.632,4,  3.6820,    550
   18HU97009_1,  AR27,   106,  3, 188026,   OC82,2,19970604,0456, 60.3845, -56.1980, 3074,    688.4,   3.5741,  34.8611,2,  34.8615,2,    410.1,4,    293.0,2,     8.67,6,    15.79,6,     1.05,6,    4.096,2,    2.248,2,    0.253,2,    7.570,2,   2149.3,2,   -999.0,5,  58.012,4,  3.5256,    688
   18HU97009_1,  AR27,   106,  3, 188025,   OC83,2,19970604,0456, 60.3845, -56.1980, 3074,    838.3,   3.4533,  34.8618,2,  34.8617,2,     66.9,4,    291.8,2,     8.89,6,    16.00,6,     1.05,6,    4.009,2,    2.238,2,    0.224,2,    7.405,2,   2151.1,2,   -999.0,5,  55.452,4,  3.3939,    838
   18HU97009_1,  AR27,   106,  3, 188024,   OC94,2,19970604,0456, 60.3845, -56.1980, 3074,    999.5,   3.1649,  34.8408,2,  34.8405,2,     70.1,4,    297.7,4,     8.76,6,    15.89,6,     1.04,6,    4.281,2,    2.277,2,    0.195,2,    7.969,2,   2150.5,2,   -999.0,5,  62.535,4,  3.0952,   1000
   18HU97009_1,  AR27,   106,  3, 188023,   OC85,2,19970604,0456, 60.3845, -56.1980, 3074,   1179.7,   3.1308,  34.8504,2,  34.8499,2,     12.0,4,    294.5,2,     9.26,6,    16.24,6,     1.07,6,    4.018,2,    2.150,2,    0.234,2,    7.696,3,   2152.0,2,   -999.0,5,  62.184,4,  3.0472,   1180
   18HU97009_1,  AR27,   106,  3, 188022,   OC86,2,19970604,0456, 60.3845, -56.1980, 3074,   1379.5,   3.0998,  34.8588,2,  34.8584,2,    180.0,4,    317.2,4,     9.62,6,    16.48,6,     1.08,6,    3.762,6,    2.008,6,    0.185,6,    7.472,2,   2153.5,2,   -999.0,5,  38.316,2,  3.0001,   1380
   18HU97009_1,  AR27,   106,  3, 188021,   OC87,2,19970604,0456, 60.3845, -56.1980, 3074,   1581.0,   3.0394,  34.8601,2,  34.8595,6,     51.7,4,    294.5,2,     9.51,2,    16.29,6,     1.08,6,    3.697,2,    2.014,2,    0.165,2,    7.502,2,   2152.8,2,   -999.0,5,  50.818,4,  2.9235,   1581
   18HU97009_1,  AR27,   106,  3, 188020,   OC88,2,19970604,0456, 60.3845, -56.1980, 3074,   1779.7,   2.9500,  34.8524,2,  34.8518,6,     64.6,4,    295.9,6,     9.65,6,    16.51,6,     1.07,6,    3.775,2,    1.946,2,    0.156,2,    6.772,2,   2151.9,2,   -999.0,5,  54.632,4,  2.8181,   1780
   18HU97009_1,  AR27,   106,  3, 188019,   OC65,2,19970604,0456, 60.3845, -56.1980, 3074,   1961.2,   2.9699,  34.8621,2,  34.8619,2,     96.3,4,    293.5,2,     9.68,6,    16.09,6,     1.08,6,    3.512,2,    1.839,2,    0.195,2,    7.424,3,   2152.3,2,   -999.0,5,  53.863,4,  2.8216,   1961
   18HU97009_1,  AR27,   106,  3, 188018,   OC84,2,19970604,0456, 60.3845, -56.1980, 3074,   2130.4,   3.0190,  34.8848,2,  34.8842,6,     91.8,4,    288.0,2,    10.17,6,    16.16,6,     1.06,6,    3.006,2,    1.508,2,    0.224,2,    6.149,2,   2152.5,2,   -999.0,5,  41.603,4,  2.8543,   2130
   18HU97009_1,  AR27,   106,  3, 188017,   OC90,2,19970604,0456, 60.3845, -56.1980, 3074,   2280.4,   2.9801,  34.8959,2,  34.8952,6,     49.9,4,    285.0,2,    10.46,6,    15.78,6,     1.06,6,    2.724,2,    1.440,2,    0.000,2,    5.760,2,   2154.4,2,   -999.0,5,  39.881,2,  2.8019,   2280
   18HU97009_1,  AR27,   106,  3, 188016,   OC91,2,19970604,0456, 60.3845, -56.1980, 3074,   2429.5,   2.8988,  34.9024,2,  34.9014,6,     52.4,4,    283.9,2,    10.65,6,    15.71,6,     1.05,6,    2.578,2,    1.275,2,    0.195,2,    5.808,3,   2154.7,2,   -999.0,5,  52.080,3,  2.7077,   2430
   18HU97009_1,  AR27,   106,  3, 188015,   OC64,2,19970604,0456, 60.3845, -56.1980, 3074,   2560.2,   2.7979,  34.9068,2,  34.9060,6,     50.4,4,    282.9,2,    11.17,6,    15.92,6,     1.06,6,    2.354,2,    1.236,2,    0.175,2,    5.215,2,   2155.3,6,   -999.0,5,  31.853,2,  2.5960,   2560
   18HU97009_1,  AR27,   106,  3, 188014,   OC95,2,19970604,0456, 60.3845, -56.1980, 3074,   2679.4,   2.6728,  34.9077,2,  34.9081,6,     50.3,4,    283.4,2,    11.44,6,    15.50,6,     1.04,6,    2.306,2,    1.051,2,    0.078,3,    5.049,2,   2155.4,2,   -999.0,5,  33.798,2,  2.4615,   2679
   18HU97009_1,  AR27,   106,  3, 188013,   OC58,4,19970604,0456, 60.3845, -56.1980, 3074,   2789.3,   2.5161,  34.9061,2,  34.8390,6,     50.8,4,    284.0,2,    10.17,6,    15.79,6,     1.05,6,    2.345,2,    1.216,2,    0.068,3,    5.633,2,   2155.6,2,   -999.0,5,  34.849,2,  2.2971,   2789
   18HU97009_1,  AR27,   106,  3, 188012,   OC93,2,19970604,0456, 60.3845, -56.1980, 3074,   2939.5,   2.1669,  34.8978,2,  34.8973,2,     53.7,4,    288.7,2,    11.14,6,    14.81,6,     1.01,6,    2.685,2,    1.352,2,    0.224,2,    6.586,2,   2154.8,2,   -999.0,5,  38.039,3,  1.9404,   2940
   18HU97009_1,  AR27,   106,  3, 188011,   OC66,2,19970604,0456, 60.3845, -56.1980, 3074,   3086.5,   1.6936,  34.8911,2,  34.8898,6,     58.0,4,    292.5,2,    10.12,6,    14.09,6,     0.97,6,    3.405,2,    1.712,2,    0.195,2,    8.162,3,   2155.7,2,   -999.0,5,  50.996,3,  1.4631,   3087