BOTTLE,20020708WHPSIOKJU
EXPOCODE,SECT_ID,STNNBR,CASTNO,SAMPNO,BTLNBR,BTLNBR_FLAG_W,DATE,TIME,LATITUDE,LONGITUDE,DEPTH,CTDPRS,CTDTMP,CTDSAL,CTDSAL_FLAG_W,SALNTY,SALNTY_FLAG_W,CTDOXY,CTDOXY_FLAG_W,OXYGEN,OXYGEN_FLAG_W,SILCAT,SILCAT_FLAG_W,NO2+NO3,NO2+NO3_FLAG_W,PHSPHT,PHSPHT_FLAG_W,CFC-11,CFC-11_FLAG_W,CFC-12,CFC-12_FLAG_W,CFC113,CFC113_FLAG_W,CCL4,CCL4_FLAG_W,TCARBN,TCARBN_FLAG_W,ALKALI,ALKALI_FLAG_W,MCHFRM,MCHFRM_FLAG_W,THETA,CTDRAW
,,,,,,,,,,,,DBAR,ITS-90,PSS-78,,PSS-78,,UMOL/KG,,UMOL/KG,,UMOL/KG,,UMOL/KG,,UMOL/KG,,PMOL/KG,,PMOL/KG,,PMOL/KG,,PMOL/KG,,UMOL/KG,,UMOL/KG,,PMOL/KG,,DEG C,
   18HU97009_1,  AR13,   124,  1, 188410,   OC80,2,19970608,1634, 52.9943, -51.0485, 2679,     10.4,   4.7282,  34.1920,2,-999.0000,9,    348.1,2,   -999.0,9,  -999.00,9,  -999.00,9,  -999.00,9, -999.000,9, -999.000,9, -999.000,9, -999.000,9,   -999.0,9,   -999.0,9,-999.000,9,  4.7274,     10
   18HU97009_1,  AR13,   124,  1, 188408,   OC81,2,19970608,1634, 52.9943, -51.0485, 2679,     10.6,   4.7221,  34.1924,2,  34.1950,2,    345.4,2,    380.7,2,     0.68,6,     1.58,2,     0.27,6, -999.000,9, -999.000,9, -999.000,9, -999.000,9,   2022.5,3,   2278.9,2,-999.000,9,  4.7213,     11
   18HU97009_1,  AR13,   124,  1, 188409,   OC55,2,19970608,1634, 52.9943, -51.0485, 2679,     10.7,   4.7307,  34.1929,2,-999.0000,9,    346.6,2,   -999.0,9,  -999.00,9,  -999.00,9,  -999.00,9, -999.000,9, -999.000,9, -999.000,9, -999.000,9,   -999.0,9,   -999.0,9,-999.000,9,  4.7299,     11
   18HU97009_1,  AR13,   124,  1, 188407,   OC69,2,19970608,1634, 52.9943, -51.0485, 2679,     49.5,   3.0675,  34.5845,2,  34.5244,2,    292.2,2,    311.8,2,     8.23,6,    13.76,6,     0.96,6, -999.000,9, -999.000,9, -999.000,9, -999.000,9,   2138.5,2,   2283.0,2,-999.000,9,  3.0644,     50
   18HU97009_1,  AR13,   124,  1, 188406,   OC52,2,19970608,1634, 52.9943, -51.0485, 2679,    110.4,   3.1856,  34.7384,2,  34.7380,2,    285.5,2,    303.4,2,     8.43,6,    15.53,6,     1.00,6, -999.000,9, -999.000,9, -999.000,9, -999.000,9,   2137.6,2,   2288.9,2,-999.000,9,  3.1787,    110
   18HU97009_1,  AR13,   124,  1, 188405,   OC51,2,19970608,1634, 52.9943, -51.0485, 2679,    189.9,   3.2135,  34.7848,2,  34.7853,2,    282.2,2,    298.2,2,     8.61,6,    15.49,6,     1.01,6, -999.000,9, -999.000,9, -999.000,9, -999.000,9,   2156.2,2,   2293.9,2,-999.000,9,  3.2014,    190
   18HU97009_1,  AR13,   124,  1, 188404,   OC60,2,19970608,1634, 52.9943, -51.0485, 2679,    289.9,   3.2223,  34.8251,2,  34.8246,2,    279.8,2,    296.2,2,     8.70,6,    15.92,6,     1.04,6, -999.000,9, -999.000,9, -999.000,9, -999.000,9,   2133.5,2,   2294.8,2,-999.000,9,  3.2036,    290
   18HU97009_1,  AR13,   124,  1, 188403,   OC61,2,19970608,1634, 52.9943, -51.0485, 2679,    404.0,   3.2239,  34.8386,2,  34.8383,2,    281.9,2,    300.0,2,     8.55,6,    15.95,6,     1.03,6, -999.000,9, -999.000,9, -999.000,9, -999.000,9,   2137.5,2,   2296.5,2,-999.000,9,  3.1974,    404
   18HU97009_1,  AR13,   124,  1, 188402,   OC82,2,19970608,1634, 52.9943, -51.0485, 2679,    528.4,   3.1737,  34.8363,2,  34.8358,2,    283.6,2,    298.5,2,     8.66,6,    15.53,6,     1.03,6, -999.000,9, -999.000,9, -999.000,9, -999.000,9,   2135.4,2,   2297.1,2,-999.000,9,  3.1388,    528
   18HU97009_1,  AR13,   124,  1, 188401,   OC83,2,19970608,1634, 52.9943, -51.0485, 2679,    689.6,   3.1596,  34.8424,2,  34.8419,2,    283.0,2,    297.3,2,     8.71,6,    16.03,6,     1.03,6, -999.000,9, -999.000,9, -999.000,9, -999.000,9,   2138.2,2,   2296.6,2,-999.000,9,  3.1132,    690
   18HU97009_1,  AR13,   124,  1, 188400,   OC94,2,19970608,1634, 52.9943, -51.0485, 2679,    839.8,   3.0441,  34.8447,2,  34.8444,2,    283.9,2,    298.2,2,     9.07,6,    16.22,6,     1.04,6, -999.000,9, -999.000,9, -999.000,9, -999.000,9,   2165.0,3,   2295.7,2,-999.000,9,  2.9873,    840
   18HU97009_1,  AR13,   124,  1, 188399,   OC85,2,19970608,1634, 52.9943, -51.0485, 2679,    980.8,   2.9672,  34.8396,2,  34.8397,2,    284.5,2,    296.4,2,     9.31,6,    16.38,6,     1.05,6, -999.000,9, -999.000,9, -999.000,9, -999.000,9,   2133.2,2,   2296.5,2,-999.000,9,  2.9004,    981
   18HU97009_1,  AR13,   124,  1, 188398,   OC86,2,19970608,1634, 52.9943, -51.0485, 2679,   1100.2,   3.0034,  34.8507,2,  34.8509,2,    283.0,2,    293.5,2,     9.55,6,    16.45,6,     1.05,6, -999.000,9, -999.000,9, -999.000,9, -999.000,9,   2140.8,2,   2291.5,2,-999.000,9,  2.9271,   1100
   18HU97009_1,  AR13,   124,  1, 188397,   OC87,2,19970608,1634, 52.9943, -51.0485, 2679,   1268.9,   3.0122,  34.8562,2,  34.8540,6,    283.7,2,    292.5,2,     9.71,6,    16.27,6,     1.06,6, -999.000,9, -999.000,9, -999.000,9, -999.000,9,   2164.3,3,   2297.9,2,-999.000,9,  2.9225,   1269
   18HU97009_1,  AR13,   124,  1, 188396,   OC88,2,19970608,1634, 52.9943, -51.0485, 2679,   1419.7,   2.9311,  34.8485,2,  34.8476,6,    287.8,2,    296.1,2,     9.44,6,    16.52,6,     1.06,6, -999.000,9, -999.000,9, -999.000,9, -999.000,9,   2143.1,2,   2298.9,2,-999.000,9,  2.8300,   1420
   18HU97009_1,  AR13,   124,  1, 188395,   OC65,2,19970608,1634, 52.9943, -51.0485, 2679,   1578.7,   2.8990,  34.8482,2,  34.8480,2,    289.3,2,    294.9,6,     9.33,6,    16.50,6,     1.04,6, -999.000,9, -999.000,9, -999.000,9, -999.000,9,   2143.8,2,   2292.4,2,-999.000,9,  2.7851,   1579
   18HU97009_1,  AR13,   124,  1, 188394,   OC84,2,19970608,1634, 52.9943, -51.0485, 2679,   1761.4,   2.9532,  34.8648,2,  34.8638,6,    286.2,2,    293.1,2,     9.74,6,    16.11,6,     1.05,6, -999.000,9, -999.000,9, -999.000,9, -999.000,9,   2144.8,2,   2298.4,2,-999.000,9,  2.8228,   1761
   18HU97009_1,  AR13,   124,  1, 188393,   OC90,2,19970608,1634, 52.9943, -51.0485, 2679,   1928.4,   3.0064,  34.8841,2,  34.8847,6,    282.2,2,    287.2,2,    10.24,6,    16.38,6,     1.04,6, -999.000,9, -999.000,9, -999.000,9, -999.000,9,   2150.8,2,   2296.6,2,-999.000,9,  2.8604,   1928
   18HU97009_1,  AR13,   124,  1, 188392,   OC91,2,19970608,1634, 52.9943, -51.0485, 2679,   2099.7,   2.9510,  34.9006,2,  34.8998,6,    279.9,2,    283.5,2,    10.79,6,    15.80,6,     1.03,6, -999.000,9, -999.000,9, -999.000,9, -999.000,9,   2149.7,2,   2299.0,2,-999.000,9,  2.7902,   2100
   18HU97009_1,  AR13,   124,  1, 188391,   OC64,2,19970608,1634, 52.9943, -51.0485, 2679,   2259.4,   2.8207,  34.9077,2,  34.9071,6,    280.4,2,    282.1,2,    11.24,6,    15.96,6,     1.03,6, -999.000,9, -999.000,9, -999.000,9, -999.000,9,   2155.8,6,   2301.9,6,-999.000,9,  2.6471,   2259
   18HU97009_1,  AR13,   124,  1, 188390,   OC95,2,19970608,1634, 52.9943, -51.0485, 2679,   2400.2,   2.6946,  34.9008,2,  34.9006,2,    284.3,2,    285.5,2,    11.03,6,    15.44,6,     1.02,6, -999.000,9, -999.000,9, -999.000,9, -999.000,9,   2163.0,2,   2301.0,2,-999.000,9,  2.5099,   2400
   18HU97009_1,  AR13,   124,  1, 188389,   OC58,2,19970608,1634, 52.9943, -51.0485, 2679,   2520.0,   2.5927,  34.9015,2,  34.9008,6,    286.2,2,    286.0,2,    11.06,6,    15.26,6,     1.01,6, -999.000,9, -999.000,9, -999.000,9, -999.000,9,   2150.2,6,   2298.6,2,-999.000,9,  2.3985,   2520
   18HU97009_1,  AR13,   124,  1, 188388,   OC93,2,19970608,1634, 52.9943, -51.0485, 2679,   2619.5,   2.5416,  34.9018,2,  34.9014,2,    287.4,2,    285.7,2,    11.20,6,    15.50,6,     1.02,6, -999.000,9, -999.000,9, -999.000,9, -999.000,9,   2148.4,2,   2296.5,2,-999.000,9,  2.3388,   2620
   18HU97009_1,  AR13,   124,  1, 188387,   OC66,2,19970608,1634, 52.9943, -51.0485, 2679,   2704.7,   2.5443,  34.9017,2,  34.9013,6,    288.3,2,    285.6,2,    11.18,6,    15.29,6,     1.01,6, -999.000,9, -999.000,9, -999.000,9, -999.000,9,   2168.6,2,   2297.9,6,-999.000,9,  2.3331,   2705
   18HU97009_1,  AR13,   125,  3, 188431,   OC69,2,19970608,2017, 52.8622, -51.5060, 1626,      5.7,   4.7285,  33.3148,2,  33.3203,2,    356.8,2,    391.4,2,     0.47,6,     0.00,6,     0.18,6,    5.709,2,    3.030,2,    0.283,2,   10.864,3,   1965.7,4,   2232.2,4, 507.332,3,  4.7281,      6
   18HU97009_1,  AR13,   125,  3, 188432,   OC81,2,19970608,2017, 52.8622, -51.5060, 1626,      5.7,   4.8001,  33.2966,2,-999.0000,9,    357.5,2,   -999.0,9,  -999.00,9,  -999.00,9,  -999.00,9, -999.000,9, -999.000,9, -999.000,9, -999.000,9,   -999.0,9,   -999.0,9,-999.000,9,  4.7997,      6
   18HU97009_1,  AR13,   125,  3, 188430,   OC52,2,19970608,2017, 52.8622, -51.5060, 1626,     58.9,   2.8895,  34.4723,2,  34.4905,2,    293.3,2,    308.5,2,     7.30,6,    11.45,6,     0.91,6,    4.892,6,    2.625,6,    0.243,6,    9.630,6,   2137.6,2,   2279.5,2, 282.975,3,  2.8860,     59
   18HU97009_1,  AR13,   125,  3, 188429,   OC51,2,19970608,2017, 52.8622, -51.5060, 1626,    129.3,   3.3882,  34.7485,2,  34.7478,2,    282.1,2,    296.2,2,     8.58,6,    14.66,6,     1.01,6,    4.467,2,    2.335,2,    0.214,2,    8.495,2,   2138.6,2,   2287.0,2, 275.843,3,  3.3798,    129
   18HU97009_1,  AR13,   125,  3, 188428,   OC60,2,19970608,2017, 52.8622, -51.5060, 1626,    230.5,   3.3296,  34.7895,2,  34.7889,2,    283.6,2,    296.9,2,     8.65,6,    15.05,6,     1.03,6,    4.379,2,    2.394,2,    0.214,2,    8.261,2,   2141.9,2,   2288.5,2, 247.527,3,  3.3146,    231
   18HU97009_1,  AR13,   125,  3, 188427,   OC61,2,19970608,2017, 52.8622, -51.5060, 1626,    508.8,   3.2229,  34.8327,2,  34.8332,2,    286.0,2,    297.4,2,     8.74,6,    15.21,6,     1.03,6,    4.301,2,    2.267,2,    0.204,2,    7.862,2,   2154.0,2,   2292.1,2, 289.229,3,  3.1892,    509
   18HU97009_1,  AR13,   125,  3, 188426,   OC82,2,19970608,2017, 52.8622, -51.5060, 1626,    849.4,   3.1623,  34.8454,2,  34.8460,2,    287.7,2,    296.2,2,     8.88,6,    15.53,6,     1.04,6,    4.116,2,    2.170,2,    0.195,2,    7.366,2,   2147.4,2,   2298.5,2, 326.227,3,  3.1041,    849
   18HU97009_1,  AR13,   125,  3, 188425,   OC83,2,19970608,2017, 52.8622, -51.5060, 1626,   1001.2,   3.1014,  34.8435,2,  34.8438,2,    288.1,2,    295.2,2,     9.12,6,    15.90,6,     1.04,6,    4.028,2,    2.150,2,    0.185,2,    7.044,2,   2140.2,2,   2290.9,2, 319.988,3,  3.0320,   1001
   18HU97009_1,  AR13,   125,  3, 188424,   OC94,2,19970608,2017, 52.8622, -51.5060, 1626,   1141.0,   3.0770,  34.8538,2,  34.8541,2,    288.3,2,    294.6,6,     9.46,6,    16.15,6,     1.05,6,    3.872,2,    2.014,2,    0.175,2,    6.587,2,   2136.7,2,   2295.7,2, 275.334,3,  2.9969,   1141
   18HU97009_1,  AR13,   125,  3, 188423,   OC85,2,19970608,2017, 52.8622, -51.5060, 1626,   1268.1,   3.0064,  34.8489,2,  34.8491,2,    290.9,2,    295.7,2,     9.51,6,    16.14,6,     1.06,6,    3.911,2,    2.063,2,    0.185,3,    6.363,2,   2163.4,2,   2291.2,6, 314.564,3,  2.9168,   1268
   18HU97009_1,  AR13,   125,  3, 188422,   OC86,2,19970608,2017, 52.8622, -51.5060, 1626,   1389.2,   3.0037,  34.8563,2,  34.8567,6,    291.2,2,    294.4,2,  -999.00,5,  -999.00,5,  -999.00,5,    3.688,2,    1.946,2,    0.165,2,    5.945,2,   2155.2,2,   2293.3,2, 293.361,3,  2.9043,   1389
   18HU97009_1,  AR13,   125,  3, 188421,   OC87,2,19970608,2017, 52.8622, -51.5060, 1626,   1479.6,   2.9591,  34.8542,2,  34.8558,2,    292.9,2,    295.5,2,     9.69,6,    16.41,6,     1.07,6,    3.707,2,    1.917,2,    0.165,2,    5.818,2,   2131.2,2,   2292.8,2, 273.093,3,  2.8527,   1480
   18HU97009_1,  AR13,   125,  3, 188420,   OC88,2,19970608,2017, 52.8622, -51.5060, 1626,   1549.3,   2.9538,  34.8604,2,  34.8611,2,    292.5,2,    294.5,2,     9.88,6,    16.25,6,     1.06,6,    3.522,2,    1.858,2,    0.156,2,    5.740,2,   2155.3,2,   2294.4,2, 280.398,3,  2.8416,   1549
   18HU97009_1,  AR13,   125,  3, 188418,   OC84,2,19970608,2017, 52.8622, -51.5060, 1626,   1606.2,   2.9598,  34.8659,2,-999.0000,9,    292.3,2,   -999.0,9,  -999.00,9,  -999.00,9,  -999.00,9, -999.000,9, -999.000,9, -999.000,9, -999.000,9,   -999.0,9,   -999.0,9,-999.000,9,  2.8427,   1606
   18HU97009_1,  AR13,   125,  3, 188416,   OC91,2,19970608,2017, 52.8622, -51.5060, 1626,   1606.5,   2.9600,  34.8659,2,-999.0000,9,    292.4,2,   -999.0,9,  -999.00,9,  -999.00,9,  -999.00,9, -999.000,9, -999.000,9, -999.000,9, -999.000,9,   -999.0,9,   -999.0,9,-999.000,9,  2.8429,   1607
   18HU97009_1,  AR13,   125,  3, 188417,   OC90,2,19970608,2017, 52.8622, -51.5060, 1626,   1606.6,   2.9601,  34.8659,2,-999.0000,9,    292.4,2,   -999.0,9,  -999.00,9,  -999.00,9,  -999.00,9, -999.000,9, -999.000,9, -999.000,9, -999.000,9,   -999.0,9,   -999.0,9,-999.000,9,  2.8430,   1607
   18HU97009_1,  AR13,   125,  3, 188419,   OC65,2,19970608,2017, 52.8622, -51.5060, 1626,   1606.8,   2.9593,  34.8660,2,  34.8662,2,    292.1,2,    293.1,2,     9.94,6,    16.07,6,     1.05,6,    3.405,2,    1.810,2,    0.156,2,    5.536,2,   2153.5,2,   2291.9,2, 274.472,3,  2.8422,   1607
   18HU97009_1,  AR13,   125,  3, 188413,   OC58,2,19970608,2017, 52.8622, -51.5060, 1626,   1606.9,   2.9600,  34.8659,2,-999.0000,9,    292.3,2,   -999.0,9,  -999.00,9,  -999.00,9,  -999.00,9, -999.000,9, -999.000,9, -999.000,9, -999.000,9,   -999.0,9,   -999.0,9,-999.000,9,  2.8429,   1607
   18HU97009_1,  AR13,   125,  3, 188415,   OC64,2,19970608,2017, 52.8622, -51.5060, 1626,   1607.0,   2.9600,  34.8659,2,-999.0000,9,    292.4,2,   -999.0,9,  -999.00,9,  -999.00,9,  -999.00,9, -999.000,9, -999.000,9, -999.000,9, -999.000,9,   -999.0,9,   -999.0,9,-999.000,9,  2.8429,   1607
   18HU97009_1,  AR13,   125,  3, 188414,   OC95,2,19970608,2017, 52.8622, -51.5060, 1626,   1607.3,   2.9601,  34.8658,2,-999.0000,9,    292.4,2,   -999.0,9,  -999.00,9,  -999.00,9,  -999.00,9, -999.000,9, -999.000,9, -999.000,9, -999.000,9,   -999.0,9,   -999.0,9,-999.000,9,  2.8429,   1607
   18HU97009_1,  AR13,   125,  3, 188412,   OC93,2,19970608,2017, 52.8622, -51.5060, 1626,   1607.5,   2.9600,  34.8659,2,-999.0000,9,    292.7,2,   -999.0,9,  -999.00,9,  -999.00,9,  -999.00,9, -999.000,9, -999.000,9, -999.000,9, -999.000,9,   -999.0,9,   -999.0,9,-999.000,9,  2.8428,   1608
   18HU97009_1,  AR13,   125,  3, 188411,   OC66,2,19970608,2017, 52.8622, -51.5060, 1626,   1608.4,   2.9600,  34.8660,2,-999.0000,9,    292.8,2,   -999.0,9,  -999.00,9,  -999.00,9,  -999.00,9, -999.000,9, -999.000,9, -999.000,9, -999.000,9,   -999.0,9,   -999.0,9,-999.000,9,  2.8427,   1608