BOTTLE,20020708WHPSIOKJU
EXPOCODE,SECT_ID,STNNBR,CASTNO,SAMPNO,BTLNBR,BTLNBR_FLAG_W,DATE,TIME,LATITUDE,LONGITUDE,DEPTH,CTDPRS,CTDTMP,CTDSAL,CTDSAL_FLAG_W,SALNTY,SALNTY_FLAG_W,CTDOXY,CTDOXY_FLAG_W,OXYGEN,OXYGEN_FLAG_W,SILCAT,SILCAT_FLAG_W,NO2+NO3,NO2+NO3_FLAG_W,PHSPHT,PHSPHT_FLAG_W,CFC-11,CFC-11_FLAG_W,CFC-12,CFC-12_FLAG_W,CFC113,CFC113_FLAG_W,CCL4,CCL4_FLAG_W,TCARBN,TCARBN_FLAG_W,ALKALI,ALKALI_FLAG_W,MCHFRM,MCHFRM_FLAG_W,THETA,CTDRAW
,,,,,,,,,,,,DBAR,ITS-90,PSS-78,,PSS-78,,UMOL/KG,,UMOL/KG,,UMOL/KG,,UMOL/KG,,UMOL/KG,,PMOL/KG,,PMOL/KG,,PMOL/KG,,PMOL/KG,,UMOL/KG,,UMOL/KG,,PMOL/KG,,DEG C,
   18HU97009_1,  AR13,   129,  3, 188507,   OC60,2,19970609,1003, 52.2847, -53.5352,  405,     10.4,   1.9443,  32.3546,2,  32.3554,2,    384.4,2,    415.0,2,     2.16,6,     0.00,6,     0.44,6,    6.512,2,    3.275,2,    0.468,3,    9.173,2,   2006.1,3,   2195.5,2, 660.326,3,  1.9438,     10
   18HU97009_1,  AR13,   129,  3, 188508,   OC51,2,19970609,1003, 52.2847, -53.5352,  405,     10.4,   1.9408,  32.3541,2,-999.0000,9,    384.1,2,   -999.0,9,  -999.00,9,  -999.00,9,  -999.00,9, -999.000,9, -999.000,9, -999.000,9, -999.000,9,   -999.0,9,   -999.0,9,-999.000,9,  1.9403,     10
   18HU97009_1,  AR13,   129,  3, 188506,   OC61,2,19970609,1003, 52.2847, -53.5352,  405,     20.3,   1.9718,  32.4785,2,-999.0000,9,    391.2,2,   -999.0,9,  -999.00,9,  -999.00,9,  -999.00,9, -999.000,9, -999.000,9, -999.000,9, -999.000,9,   -999.0,9,   -999.0,9,-999.000,9,  1.9709,     20
   18HU97009_1,  AR13,   129,  3, 188505,   OC82,2,19970609,1003, 52.2847, -53.5352,  405,     28.8,   1.9787,  32.6488,2,-999.0000,9,    373.9,2,   -999.0,9,  -999.00,9,  -999.00,9,  -999.00,9, -999.000,9, -999.000,9, -999.000,9, -999.000,9,   -999.0,9,   -999.0,9,-999.000,9,  1.9773,     29
   18HU97009_1,  AR13,   129,  3, 188504,   OC83,2,19970609,1003, 52.2847, -53.5352,  405,     29.8,   1.9924,  32.6496,2,-999.0000,9,    373.4,2,   -999.0,9,  -999.00,9,  -999.00,9,  -999.00,9, -999.000,9, -999.000,9, -999.000,9, -999.000,9,   -999.0,9,   -999.0,9,-999.000,9,  1.9910,     30
   18HU97009_1,  AR13,   129,  3, 188503,   OC94,2,19970609,1003, 52.2847, -53.5352,  405,     30.4,   1.9815,  32.6497,2,-999.0000,9,    373.3,2,   -999.0,9,  -999.00,9,  -999.00,9,  -999.00,9, -999.000,9, -999.000,9, -999.000,9, -999.000,9,   -999.0,9,   -999.0,9,-999.000,9,  1.9801,     30
   18HU97009_1,  AR13,   129,  3, 188502,   OC85,2,19970609,1003, 52.2847, -53.5352,  405,     30.5,   1.9784,  32.6488,2,-999.0000,9,    372.0,2,   -999.0,9,  -999.00,9,  -999.00,9,  -999.00,9, -999.000,9, -999.000,9, -999.000,9, -999.000,9,   -999.0,9,   -999.0,9,-999.000,9,  1.9769,     31
   18HU97009_1,  AR13,   129,  3, 188501,   OC86,2,19970609,1003, 52.2847, -53.5352,  405,     40.4,   1.2963,  32.7430,2,-999.0000,9,    368.1,2,   -999.0,9,  -999.00,9,  -999.00,9,  -999.00,9, -999.000,9, -999.000,9, -999.000,9, -999.000,9,   -999.0,9,   -999.0,9,-999.000,9,  1.2946,     40
   18HU97009_1,  AR13,   129,  3, 188500,   OC87,2,19970609,1003, 52.2847, -53.5352,  405,     50.7,   1.0711,  32.8291,2,-999.0000,9,    363.6,2,   -999.0,9,  -999.00,9,  -999.00,9,  -999.00,9, -999.000,9, -999.000,9, -999.000,9, -999.000,9,   -999.0,9,   -999.0,9,-999.000,9,  1.0690,     51
   18HU97009_1,  AR13,   129,  3, 188498,   OC65,2,19970609,1003, 52.2847, -53.5352,  405,     59.9,   0.3185,  32.9163,2,  32.9096,2,    343.4,2,    360.5,2,     5.30,6,     5.27,3,     0.77,6,    6.274,2,    3.507,2,    0.370,2,    9.850,3,   2099.3,6,   2220.9,2, 614.239,3,  0.3164,     60
   18HU97009_1,  AR13,   129,  3, 188499,   OC88,2,19970609,1003, 52.2847, -53.5352,  405,     60.0,   0.3390,  32.9065,2,-999.0000,9,    345.9,2,   -999.0,9,  -999.00,9,  -999.00,9,  -999.00,9, -999.000,9, -999.000,9, -999.000,9, -999.000,9,   -999.0,9,   -999.0,9,-999.000,9,  0.3369,     60
   18HU97009_1,  AR13,   129,  3, 188497,   OC84,2,19970609,1003, 52.2847, -53.5352,  405,     69.6,  -0.6516,  33.0154,2,-999.0000,9,    334.2,2,   -999.0,9,  -999.00,9,  -999.00,9,  -999.00,9, -999.000,9, -999.000,9, -999.000,9, -999.000,9,   -999.0,9,   -999.0,9,-999.000,9, -0.6535,     70
   18HU97009_1,  AR13,   129,  3, 188496,   OC90,2,19970609,1003, 52.2847, -53.5352,  405,     80.9,  -0.7410,  33.1216,2,-999.0000,9,    330.0,2,   -999.0,9,  -999.00,9,  -999.00,9,  -999.00,9, -999.000,9, -999.000,9, -999.000,9, -999.000,9,   -999.0,9,   -999.0,9,-999.000,9, -0.7432,     81
   18HU97009_1,  AR13,   129,  3, 188495,   OC91,2,19970609,1003, 52.2847, -53.5352,  405,     91.2,  -0.7955,  33.2450,2,-999.0000,9,    326.2,2,   -999.0,9,  -999.00,9,  -999.00,9,  -999.00,9, -999.000,9, -999.000,9, -999.000,9, -999.000,9,   -999.0,9,   -999.0,9,-999.000,9, -0.7979,     91
   18HU97009_1,  AR13,   129,  3, 188494,   OC64,2,19970609,1003, 52.2847, -53.5352,  405,     99.2,  -0.8065,  33.3298,2,-999.0000,9,    322.9,2,   -999.0,9,  -999.00,9,  -999.00,9,  -999.00,9, -999.000,9, -999.000,9, -999.000,9, -999.000,9,   -999.0,9,   -999.0,9,-999.000,9, -0.8091,     99
   18HU97009_1,  AR13,   129,  3, 188493,   OC95,2,19970609,1003, 52.2847, -53.5352,  405,    130.2,   0.0753,  33.7189,2,  33.7159,2,    309.6,2,    313.4,2,    11.48,6,    11.49,6,     1.01,6,    5.248,2,    2.736,2,    0.321,2,    9.162,2,   2130.6,2,   2241.7,2, 352.411,3,  0.0707,    130
   18HU97009_1,  AR13,   129,  3, 188492,   OC58,2,19970609,1003, 52.2847, -53.5352,  405,    249.6,   2.7905,  34.5060,2,  34.5054,2,    277.5,2,    281.8,6,    12.58,6,    14.24,6,     1.09,6,    4.623,2,    2.394,2,    0.224,2,    7.834,2,   2150.5,2,   2265.1,2, 343.432,3,  2.7755,    250
   18HU97009_1,  AR13,   129,  3, 188491,   OC93,2,19970609,1003, 52.2847, -53.5352,  405,    329.0,   3.1495,  34.6294,2,  34.6297,2,    273.5,2,    276.0,2,    14.32,6,    15.16,6,     1.08,6,    4.399,2,    2.482,2,    0.214,2,    7.085,2,   2156.9,6,   2268.8,2, 272.943,3,  3.1285,    329
   18HU97009_1,  AR13,   129,  3, 188490,   OC66,2,19970609,1003, 52.2847, -53.5352,  405,    393.4,   3.2164,  34.6585,2,  34.6578,6,    277.0,2,    278.8,2,    14.09,6,    15.24,6,     1.08,6,    4.350,2,    2.501,2,    0.253,2,    7.230,2,   2156.3,2,   2283.3,2, 257.105,3,  3.1908,    393
   18HU97009_1,  AR13,   130,  3, 188521,   OC85,2,19970609,1345, 52.0650, -54.3077,  197,     10.4,   2.3327,  32.5566,2,  32.5570,2,    390.6,2,    427.7,2,     0.79,6,     0.00,6,     0.38,6,    6.310,2,    3.370,2, -999.000,5,    8.060,2,   1987.6,3,   2217.2,2,   0.000,3,  2.3322,     10
   18HU97009_1,  AR13,   130,  3, 188522,   OC94,2,19970609,1345, 52.0650, -54.3077,  197,     10.4,   2.3020,  32.5545,2,-999.0000,9,    391.8,2,   -999.0,9,  -999.00,9,  -999.00,9,  -999.00,9, -999.000,9, -999.000,9, -999.000,9, -999.000,9,   -999.0,9,   -999.0,9,-999.000,9,  2.3015,     10
   18HU97009_1,  AR13,   130,  3, 188523,   OC83,2,19970609,1345, 52.0650, -54.3077,  197,     10.4,   2.3413,  32.5559,2,-999.0000,9,    391.1,2,   -999.0,9,  -999.00,9,  -999.00,9,  -999.00,9, -999.000,9, -999.000,9, -999.000,9, -999.000,9,   -999.0,9,   -999.0,9,-999.000,9,  2.3408,     10
   18HU97009_1,  AR13,   130,  3, 188520,   OC86,2,19970609,1345, 52.0650, -54.3077,  197,     20.0,   1.4328,  32.6129,2,-999.0000,9,    400.5,2,   -999.0,9,  -999.00,9,  -999.00,9,  -999.00,9, -999.000,9, -999.000,9, -999.000,9, -999.000,9,   -999.0,9,   -999.0,9,-999.000,9,  1.4319,     20
   18HU97009_1,  AR13,   130,  3, 188519,   OC87,2,19970609,1345, 52.0650, -54.3077,  197,     30.1,   1.0109,  32.6895,2,-999.0000,9,    377.5,2,   -999.0,9,  -999.00,9,  -999.00,9,  -999.00,9, -999.000,9, -999.000,9, -999.000,9, -999.000,9,   -999.0,9,   -999.0,9,-999.000,9,  1.0096,     30
   18HU97009_1,  AR13,   130,  3, 188518,   OC88,2,19970609,1345, 52.0650, -54.3077,  197,     40.3,  -1.0003,  32.8234,2,-999.0000,9,    333.6,2,   -999.0,9,  -999.00,9,  -999.00,9,  -999.00,9, -999.000,9, -999.000,9, -999.000,9, -999.000,9,   -999.0,9,   -999.0,9,-999.000,9, -1.0012,     40
   18HU97009_1,  AR13,   130,  3, 188517,   OC65,2,19970609,1345, 52.0650, -54.3077,  197,     50.3,  -1.4178,  32.9464,2,-999.0000,9,    332.3,2,   -999.0,9,  -999.00,9,  -999.00,9,  -999.00,9, -999.000,9, -999.000,9, -999.000,9, -999.000,9,   -999.0,9,   -999.0,9,-999.000,9, -1.4188,     50
   18HU97009_1,  AR13,   130,  3, 188516,   OC84,2,19970609,1345, 52.0650, -54.3077,  197,     60.2,  -1.6053,  33.0138,2,-999.0000,9,    330.3,2,   -999.0,9,  -999.00,9,  -999.00,9,  -999.00,9, -999.000,9, -999.000,9, -999.000,9, -999.000,9,   -999.0,9,   -999.0,9,-999.000,9, -1.6064,     60
   18HU97009_1,  AR13,   130,  3, 188515,   OC90,2,19970609,1345, 52.0650, -54.3077,  197,     60.7,  -1.6136,  33.0085,2,-999.0000,9,    330.6,2,    336.6,9,    11.50,6,     8.43,6,     0.98,6,    6.069,2,    3.312,2,    0.351,3,   11.017,3,   2130.8,6,   2226.6,2, 553.130,3, -1.6147,     61
   18HU97009_1,  AR13,   130,  3, 188514,   OC91,2,19970609,1345, 52.0650, -54.3077,  197,     70.2,  -1.6251,  33.0593,2,-999.0000,9,    330.6,2,   -999.0,9,  -999.00,9,  -999.00,9,  -999.00,9, -999.000,9, -999.000,9, -999.000,9, -999.000,9,   -999.0,9,   -999.0,9,-999.000,9, -1.6264,     70
   18HU97009_1,  AR13,   130,  3, 188513,   OC64,2,19970609,1345, 52.0650, -54.3077,  197,     80.5,  -1.4723,  33.1529,2,-999.0000,9,    327.2,2,   -999.0,9,  -999.00,9,  -999.00,9,  -999.00,9, -999.000,9, -999.000,9, -999.000,9, -999.000,9,   -999.0,9,   -999.0,9,-999.000,9, -1.4740,     81
   18HU97009_1,  AR13,   130,  3, 188512,   OC95,2,19970609,1345, 52.0650, -54.3077,  197,     90.3,  -1.2082,  33.2867,2,-999.0000,9,    321.9,2,   -999.0,9,  -999.00,9,  -999.00,9,  -999.00,9, -999.000,9, -999.000,9, -999.000,9, -999.000,9,   -999.0,9,   -999.0,9,-999.000,9, -1.2103,     90
   18HU97009_1,  AR13,   130,  3, 188511,   OC58,2,19970609,1345, 52.0650, -54.3077,  197,    100.9,  -0.7557,  33.4338,2,  33.0204,2,    319.7,2,   -999.0,9,  -999.00,9,  -999.00,9,  -999.00,9, -999.000,9, -999.000,9, -999.000,9, -999.000,9,   -999.0,9,   -999.0,9,-999.000,9, -0.7585,    101
   18HU97009_1,  AR13,   130,  3, 188510,   OC93,2,19970609,1345, 52.0650, -54.3077,  197,    130.8,   0.2504,  33.8081,2,  33.8073,6,    310.5,2,    310.8,2,    11.10,6,    11.69,6,     0.98,6,    5.280,2,    2.700,2, -999.000,5,    8.900,2,   2130.8,2,   2251.0,2, 680.690,3,  0.2456,    131
   18HU97009_1,  AR13,   130,  3, 188509,   OC66,2,19970609,1345, 52.0650, -54.3077,  197,    185.9,   2.0424,  34.3005,2,  34.2947,2,    298.0,2,    297.3,2,    10.92,6,    13.49,6,     1.01,6,    4.818,2,    2.745,2,    0.214,2,    7.465,2,   2140.8,2,   2268.9,2, 402.245,3,  2.0325,    186