BOTTLE,20020708WHPSIOKJU
EXPOCODE,SECT_ID,STNNBR,CASTNO,SAMPNO,BTLNBR,BTLNBR_FLAG_W,DATE,TIME,LATITUDE,LONGITUDE,DEPTH,CTDPRS,CTDTMP,CTDSAL,CTDSAL_FLAG_W,SALNTY,SALNTY_FLAG_W,CTDOXY,CTDOXY_FLAG_W,OXYGEN,OXYGEN_FLAG_W,SILCAT,SILCAT_FLAG_W,NO2+NO3,NO2+NO3_FLAG_W,PHSPHT,PHSPHT_FLAG_W,CFC-11,CFC-11_FLAG_W,CFC-12,CFC-12_FLAG_W,CFC113,CFC113_FLAG_W,CCL4,CCL4_FLAG_W,TCARBN,TCARBN_FLAG_W,ALKALI,ALKALI_FLAG_W,MCHFRM,MCHFRM_FLAG_W,THETA,CTDRAW
,,,,,,,,,,,,DBAR,ITS-90,PSS-78,,PSS-78,,UMOL/KG,,UMOL/KG,,UMOL/KG,,UMOL/KG,,UMOL/KG,,PMOL/KG,,PMOL/KG,,PMOL/KG,,PMOL/KG,,UMOL/KG,,UMOL/KG,,PMOL/KG,,DEG C,
   18HU97009_1,  AR13,   126,  2, 188456,   OC81,2,19970608,2244, 52.8308, -51.6207, 1113,     10.1,   4.3340,  33.2501,2,-999.0000,9,    370.4,2,   -999.0,9,  -999.00,9,  -999.00,9,  -999.00,9, -999.000,9, -999.000,9, -999.000,9, -999.000,9,   -999.0,9,   -999.0,9,-999.000,9,  4.3333,     10
   18HU97009_1,  AR13,   126,  2, 188455,   OC69,2,19970608,2244, 52.8308, -51.6207, 1113,     10.5,   4.3268,  33.2515,2,  33.2575,2,    370.5,2,    403.5,2,     0.44,6,     0.00,6,     0.19,6,    5.739,2,    3.020,2,    0.322,2,   11.604,3,   1965.8,3,   2227.9,3,  67.997,4,  4.3260,     11
   18HU97009_1,  AR13,   126,  2, 188454,   OC52,2,19970608,2244, 52.8308, -51.6207, 1113,     20.2,   3.1965,  33.4228,2,-999.0000,9,    347.7,2,   -999.0,9,  -999.00,9,  -999.00,9,  -999.00,9, -999.000,9, -999.000,9, -999.000,9, -999.000,9,   -999.0,9,   -999.0,9,-999.000,9,  3.1953,     20
   18HU97009_1,  AR13,   126,  2, 188453,   OC51,2,19970608,2244, 52.8308, -51.6207, 1113,     30.2,   2.8860,  34.0018,2,-999.0000,9,    338.3,2,   -999.0,9,  -999.00,9,  -999.00,9,  -999.00,9, -999.000,9, -999.000,9, -999.000,9, -999.000,9,   -999.0,9,   -999.0,9,-999.000,9,  2.8842,     30
   18HU97009_1,  AR13,   126,  2, 188452,   OC60,2,19970608,2244, 52.8308, -51.6207, 1113,     40.3,   3.0750,  34.2895,2,-999.0000,9,    321.0,2,   -999.0,9,  -999.00,9,  -999.00,9,  -999.00,9, -999.000,9, -999.000,9, -999.000,9, -999.000,9,   -999.0,9,   -999.0,9,-999.000,9,  3.0725,     40
   18HU97009_1,  AR13,   126,  2, 188451,   OC61,2,19970608,2244, 52.8308, -51.6207, 1113,     49.4,   3.2483,  34.4263,2,-999.0000,9,    308.3,2,   -999.0,9,  -999.00,9,  -999.00,9,  -999.00,9, -999.000,9, -999.000,9, -999.000,9, -999.000,9,   -999.0,9,   -999.0,9,-999.000,9,  3.2452,     49
   18HU97009_1,  AR13,   126,  2, 188449,   OC83,2,19970608,2244, 52.8308, -51.6207, 1113,     60.1,   3.2954,  34.5380,2,-999.0000,9,    298.8,2,   -999.0,9,  -999.00,9,  -999.00,9,  -999.00,9, -999.000,9, -999.000,9, -999.000,9, -999.000,9,   -999.0,9,   -999.0,9,-999.000,9,  3.2916,     60
   18HU97009_1,  AR13,   126,  2, 188450,   OC82,2,19970608,2244, 52.8308, -51.6207, 1113,     60.1,   3.2941,  34.5376,2,  34.5387,2,    298.9,2,    313.9,2,     6.90,6,     9.99,6,     0.85,6,    4.584,2,    2.307,2,    0.214,2,    8.321,2,   2126.6,2,   2276.9,2, 440.511,3,  3.2903,     60
   18HU97009_1,  AR13,   126,  2, 188448,   OC94,2,19970608,2244, 52.8308, -51.6207, 1113,     70.3,   3.3143,  34.5566,2,-999.0000,9,    297.0,2,   -999.0,9,  -999.00,9,  -999.00,9,  -999.00,9, -999.000,9, -999.000,9, -999.000,9, -999.000,9,   -999.0,9,   -999.0,9,-999.000,9,  3.3099,     70
   18HU97009_1,  AR13,   126,  2, 188447,   OC85,2,19970608,2244, 52.8308, -51.6207, 1113,     80.8,   3.3662,  34.5916,2,-999.0000,9,    294.0,2,   -999.0,9,  -999.00,9,  -999.00,9,  -999.00,9, -999.000,9, -999.000,9, -999.000,9, -999.000,9,   -999.0,9,   -999.0,9,-999.000,9,  3.3610,     81
   18HU97009_1,  AR13,   126,  2, 188446,   OC86,2,19970608,2244, 52.8308, -51.6207, 1113,     90.8,   3.4114,  34.6296,2,-999.0000,9,    290.1,2,   -999.0,9,  -999.00,9,  -999.00,9,  -999.00,9, -999.000,9, -999.000,9, -999.000,9, -999.000,9,   -999.0,9,   -999.0,9,-999.000,9,  3.4056,     91
   18HU97009_1,  AR13,   126,  2, 188445,   OC87,2,19970608,2244, 52.8308, -51.6207, 1113,    100.0,   3.5063,  34.7189,2,-999.0000,9,    283.6,2,   -999.0,9,  -999.00,9,  -999.00,9,  -999.00,9, -999.000,9, -999.000,9, -999.000,9, -999.000,9,   -999.0,9,   -999.0,9,-999.000,9,  3.4997,    100
   18HU97009_1,  AR13,   126,  2, 188444,   OC88,2,19970608,2244, 52.8308, -51.6207, 1113,    135.4,   3.5184,  34.7380,2,  34.7396,2,    283.1,2,    295.2,2,     8.51,6,    14.06,6,     1.00,6,    4.486,2,    2.228,2,    0.224,2,    8.573,2,   2145.9,2,   2281.9,6, 373.199,3,  3.5095,    135
   18HU97009_1,  AR13,   126,  2, 188443,   OC65,2,19970608,2244, 52.8308, -51.6207, 1113,    220.2,   3.4287,  34.7673,2,  34.8003,2,    284.2,2,    295.4,2,     8.72,6,    14.64,6,     1.00,6,    3.688,2,    1.878,2,    0.175,2,    6.500,3,   2147.6,2,   2282.6,2, 319.882,3,  3.4142,    220
   18HU97009_1,  AR13,   126,  2, 188442,   OC84,2,19970608,2244, 52.8308, -51.6207, 1113,    340.4,   3.3283,  34.8011,2,  34.8004,2,    286.7,2,    297.0,2,     8.68,6,    14.78,6,     1.03,6,    4.359,2,    2.170,2,    0.224,2,    7.784,2,   2147.6,2,   2285.5,2, 361.322,3,  3.3059,    340
   18HU97009_1,  AR13,   126,  2, 188441,   OC90,2,19970608,2244, 52.8308, -51.6207, 1113,    465.5,   3.2648,  34.8136,2,  34.8140,2,    287.8,2,    296.5,2,     8.60,6,    15.14,6,     1.03,6,    4.071,6,    2.009,6,    0.165,6,    7.440,6,   2149.5,2,   2287.7,2, 383.206,3,  3.2339,    466
   18HU97009_1,  AR13,   126,  2, 188440,   OC91,2,19970608,2244, 52.8308, -51.6207, 1113,    574.0,   3.2622,  34.8193,2,  34.8205,2,    288.7,2,    296.9,6,     8.60,6,    14.91,6,     1.04,6,    3.931,2,    1.917,2,    0.195,2,    6.938,2,   2149.7,2,   2283.8,2, 349.132,3,  3.2237,    574
   18HU97009_1,  AR13,   126,  2, 188439,   OC64,2,19970608,2244, 52.8308, -51.6207, 1113,    678.6,   3.2480,  34.8292,2,  34.8293,2,    290.2,2,    298.0,2,     8.68,6,    15.11,6,     1.05,6,    4.242,2,    2.141,2,    0.214,2,    7.356,2,   2150.6,6,   2288.9,2, 356.592,3,  3.2020,    679
   18HU97009_1,  AR13,   126,  2, 188438,   OC95,2,19970608,2244, 52.8308, -51.6207, 1113,    789.2,   3.2116,  34.8364,2,  34.6403,2,    291.2,2,    297.4,2,     8.73,6,    15.28,6,     1.04,6,    4.242,2,    2.131,2,    0.195,2,    7.531,2,   2151.1,2,   2288.8,2, 332.399,3,  3.1576,    789
   18HU97009_1,  AR13,   126,  2, 188437,   OC58,2,19970608,2244, 52.8308, -51.6207, 1113,    910.1,   3.1905,  34.8429,2,  34.8434,2,    292.3,2,    297.4,2,  -999.00,5,  -999.00,5,  -999.00,5,    4.028,2,    2.102,2,    0.185,2,    6.110,2,   2153.1,2,   2288.8,2, 383.032,3,  3.1275,    910
   18HU97009_1,  AR13,   126,  2, 188436,   OC93,2,19970608,2244, 52.8308, -51.6207, 1113,   1027.0,   3.0285,  34.8584,2,  34.8590,6,    291.7,2,    294.0,2,     9.56,6,    15.76,6,     1.07,6,    3.668,2,    1.790,2,    0.165,2,    6.139,2,   2156.8,2,   2286.7,2, 313.385,3,  2.9577,   1027
   18HU97009_1,  AR13,   126,  2, 188435,   OC66,2,19970608,2244, 52.8308, -51.6207, 1113,   1108.2,   2.9903,  34.8612,2,  33.6866,2,    292.6,2,    293.4,2,     9.78,6,    15.22,6,     1.06,6,    3.571,2,    1.722,2,    0.165,2,    5.877,2,   2140.2,2,   2289.8,2, 298.770,3,  2.9135,   1108
   18HU97009_1,  AR13,   127,  2, 188473,   OC61,2,19970609,0229, 52.6985, -52.1177,  315,     10.0,   1.4589,  32.8898,2,  34.7910,2,    370.3,2,    396.1,2,     1.18,6,     1.42,6,     0.57,6,    6.275,2,    3.547,2,    0.419,2,    9.130,3,   2057.0,3,   2220.3,2, 495.090,3,  1.4585,     10
   18HU97009_1,  AR13,   127,  2, 188472,   OC82,2,19970609,0229, 52.6985, -52.1177,  315,     10.1,   1.4965,  32.9106,2,-999.0000,9,    368.7,2,   -999.0,9,  -999.00,9,  -999.00,9,  -999.00,9, -999.000,9, -999.000,9, -999.000,9, -999.000,9,   -999.0,9,   -999.0,9,-999.000,9,  1.4961,     10
   18HU97009_1,  AR13,   127,  2, 188471,   OC83,2,19970609,0229, 52.6985, -52.1177,  315,     19.5,   1.2483,  33.0332,2,-999.0000,9,    343.5,2,   -999.0,9,  -999.00,9,  -999.00,9,  -999.00,9, -999.000,9, -999.000,9, -999.000,9, -999.000,9,   -999.0,9,   -999.0,9,-999.000,9,  1.2475,     20
   18HU97009_1,  AR13,   127,  2, 188470,   OC94,2,19970609,0229, 52.6985, -52.1177,  315,     30.1,  -0.8558,  33.1037,2,-999.0000,9,    331.5,2,   -999.0,9,  -999.00,9,  -999.00,9,  -999.00,9, -999.000,9, -999.000,9, -999.000,9, -999.000,9,   -999.0,9,   -999.0,9,-999.000,9, -0.8565,     30
   18HU97009_1,  AR13,   127,  2, 188467,   OC87,2,19970609,0229, 52.6985, -52.1177,  315,     35.2,  -1.0384,  33.2461,2,  33.2800,6,    325.2,2,    326.6,2,    11.40,6,     9.29,6,     1.03,6,    5.668,2,    2.961,2,    0.341,2,   10.363,3,   2129.5,2,   2169.6,3, 342.621,3, -1.0392,     35
   18HU97009_1,  AR13,   127,  2, 188469,   OC85,2,19970609,0229, 52.6985, -52.1177,  315,     40.7,  -1.0486,  33.2966,2,-999.0000,9,    319.9,2,   -999.0,9,  -999.00,9,  -999.00,9,  -999.00,9, -999.000,9, -999.000,9, -999.000,9, -999.000,9,   -999.0,9,   -999.0,9,-999.000,9, -1.0496,     41
   18HU97009_1,  AR13,   127,  2, 188468,   OC86,2,19970609,0229, 52.6985, -52.1177,  315,     48.9,  -0.9099,  33.3632,2,-999.0000,9,    318.7,2,   -999.0,9,  -999.00,9,  -999.00,9,  -999.00,9, -999.000,9, -999.000,9, -999.000,9, -999.000,9,   -999.0,9,   -999.0,9,-999.000,9, -0.9111,     49
   18HU97009_1,  AR13,   127,  2, 188466,   OC88,2,19970609,0229, 52.6985, -52.1177,  315,     59.0,  -0.6409,  33.4824,2,-999.0000,9,    318.2,2,   -999.0,9,  -999.00,9,  -999.00,9,  -999.00,9, -999.000,9, -999.000,9, -999.000,9, -999.000,9,   -999.0,9,   -999.0,9,-999.000,9, -0.6426,     59
   18HU97009_1,  AR13,   127,  2, 188465,   OC65,2,19970609,0229, 52.6985, -52.1177,  315,     68.1,  -0.2920,  33.6105,2,-999.0000,9,    316.9,2,   -999.0,9,  -999.00,9,  -999.00,9,  -999.00,9, -999.000,9, -999.000,9, -999.000,9, -999.000,9,   -999.0,9,   -999.0,9,-999.000,9, -0.2942,     68
   18HU97009_1,  AR13,   127,  2, 188464,   OC84,2,19970609,0229, 52.6985, -52.1177,  315,     77.0,   0.2471,  33.7344,2,-999.0000,9,    318.1,2,   -999.0,9,  -999.00,9,  -999.00,9,  -999.00,9, -999.000,9, -999.000,9, -999.000,9, -999.000,9,   -999.0,9,   -999.0,9,-999.000,9,  0.2444,     77
   18HU97009_1,  AR13,   127,  2, 188463,   OC90,2,19970609,0229, 52.6985, -52.1177,  315,     85.7,   1.0454,  33.8664,2,-999.0000,9,    319.8,2,   -999.0,9,  -999.00,9,  -999.00,9,  -999.00,9, -999.000,9, -999.000,9, -999.000,9, -999.000,9,   -999.0,9,   -999.0,9,-999.000,9,  1.0417,     86
   18HU97009_1,  AR13,   127,  2, 188461,   OC64,2,19970609,0229, 52.6985, -52.1177,  315,     95.5,   0.8962,  33.9341,2,  33.9252,2,    311.5,2,    316.6,2,     9.65,6,    10.40,6,     0.96,6,    5.150,6,    2.645,6,    0.253,6,    7.976,6,   2125.2,2,   2251.5,2, 307.958,3,  0.8921,     96
   18HU97009_1,  AR13,   127,  2, 188462,   OC91,2,19970609,0229, 52.6985, -52.1177,  315,     95.5,   0.9039,  33.9344,2,-999.0000,9,    311.7,2,   -999.0,9,  -999.00,9,  -999.00,9,  -999.00,9, -999.000,9, -999.000,9, -999.000,9, -999.000,9,   -999.0,9,   -999.0,9,-999.000,9,  0.8998,     96
   18HU97009_1,  AR13,   127,  2, 188460,   OC95,2,19970609,0229, 52.6985, -52.1177,  315,    139.1,   1.8012,  34.2383,2,  34.2266,2,    300.6,2,    303.3,2,    10.15,6,    12.58,6,     0.98,6,    4.847,2,    2.579,2,    0.243,2,    7.543,2,   2136.8,6,   2260.2,2, 354.660,3,  1.7941,    139
   18HU97009_1,  AR13,   127,  2, 188459,   OC58,2,19970609,0229, 52.6985, -52.1177,  315,    198.8,   3.0203,  34.5817,2,  34.5783,2,    288.3,2,    291.4,2,     9.91,6,    14.25,6,     1.01,6,    4.447,2,    2.355,2,    0.224,2,    6.696,2,   2144.9,2,   2272.1,2, 240.056,3,  3.0080,    199
   18HU97009_1,  AR13,   127,  2, 188458,   OC93,2,19970609,0229, 52.6985, -52.1177,  315,    259.9,   3.3610,  34.7769,2,  34.7751,2,    290.3,2,    291.8,6,     9.72,6,    14.79,6,     1.04,6,    4.291,2,    2.306,2,    0.195,2,    5.722,2,   2150.2,2,   2281.3,2, 242.197,3,  3.3440,    260
   18HU97009_1,  AR13,   127,  2, 188457,   OC66,2,19970609,0229, 52.6985, -52.1177,  315,    302.7,   3.3531,  34.7823,2,  34.7820,2,    291.2,2,    290.4,2,     9.56,6,    15.20,6,     1.05,6,    4.262,2,    2.316,2,    0.224,2,    6.072,2,   2152.9,2,   2279.3,6, 174.967,3,  3.3332,    303
   18HU97009_1,  AR13,   128,  3, 188488,   OC83,2,19970609,0608, 52.5053, -52.8022,  287,     10.7,   0.9805,  32.5452,2,  32.5516,2,    373.3,2,    399.7,2,    14.68,6,    20.10,6,     1.39,6,    6.578,2,    3.489,2,    0.448,2,    9.892,3,   2052.6,3,   2208.1,2, 687.232,3,  0.9800,     11
   18HU97009_1,  AR13,   128,  3, 188489,   OC82,2,19970609,0608, 52.5053, -52.8022,  287,     10.8,   1.2026,  32.5450,2,-999.0000,9,    371.1,2,   -999.0,9,  -999.00,9,  -999.00,9,  -999.00,9, -999.000,9, -999.000,9, -999.000,9, -999.000,9,   -999.0,9,   -999.0,9,-999.000,9,  1.2022,     11
   18HU97009_1,  AR13,   128,  3, 188487,   OC94,2,19970609,0608, 52.5053, -52.8022,  287,     20.6,   0.6850,  32.5520,2,-999.0000,9,    368.2,2,   -999.0,9,  -999.00,9,  -999.00,9,  -999.00,9, -999.000,9, -999.000,9, -999.000,9, -999.000,9,   -999.0,9,   -999.0,9,-999.000,9,  0.6843,     21
   18HU97009_1,  AR13,   128,  3, 188486,   OC85,2,19970609,0608, 52.5053, -52.8022,  287,     30.9,   0.5192,  32.5623,2,-999.0000,9,    359.8,2,   -999.0,9,  -999.00,9,  -999.00,9,  -999.00,9, -999.000,9, -999.000,9, -999.000,9, -999.000,9,   -999.0,9,   -999.0,9,-999.000,9,  0.5181,     31
   18HU97009_1,  AR13,   128,  3, 188485,   OC86,2,19970609,0608, 52.5053, -52.8022,  287,     40.3,  -0.3227,  32.7750,2,-999.0000,9,    344.5,2,   -999.0,9,  -999.00,9,  -999.00,9,  -999.00,9, -999.000,9, -999.000,9, -999.000,9, -999.000,9,   -999.0,9,   -999.0,9,-999.000,9, -0.3239,     40
   18HU97009_1,  AR13,   128,  3, 188484,   OC87,2,19970609,0608, 52.5053, -52.8022,  287,     49.7,  -0.3632,  32.9011,2,-999.0000,9,    339.3,2,   -999.0,9,  -999.00,9,  -999.00,9,  -999.00,9, -999.000,9, -999.000,9, -999.000,9, -999.000,9,   -999.0,9,   -999.0,9,-999.000,9, -0.3647,     50
   18HU97009_1,  AR13,   128,  3, 188483,   OC88,2,19970609,0608, 52.5053, -52.8022,  287,     60.3,  -0.2013,  33.1069,2,-999.0000,9,    336.2,2,   -999.0,9,  -999.00,9,  -999.00,9,  -999.00,9, -999.000,9, -999.000,9, -999.000,9, -999.000,9,   -999.0,9,   -999.0,9,-999.000,9, -0.2031,     60
   18HU97009_1,  AR13,   128,  3, 188481,   OC84,2,19970609,0608, 52.5053, -52.8022,  287,     69.3,  -0.4680,  33.2168,2,-999.0000,9,    334.2,2,   -999.0,9,  -999.00,9,  -999.00,9,  -999.00,9, -999.000,9, -999.000,9, -999.000,9, -999.000,9,   -999.0,9,   -999.0,9,-999.000,9, -0.4700,     69
   18HU97009_1,  AR13,   128,  3, 188482,   OC65,2,19970609,0608, 52.5053, -52.8022,  287,     77.9,  -0.6890,  33.3111,2,  33.2745,2,    330.7,2,    337.1,2,    10.10,6,     8.73,6,     0.97,6,    6.029,2,    3.175,2,    0.467,2,    9.837,3,   2120.4,2,   2224.4,6, 498.426,3, -0.6912,     78
   18HU97009_1,  AR13,   128,  3, 188480,   OC90,2,19970609,0608, 52.5053, -52.8022,  287,     78.6,  -0.6452,  33.3207,2,-999.0000,9,    331.9,2,   -999.0,9,  -999.00,9,  -999.00,9,  -999.00,9, -999.000,9, -999.000,9, -999.000,9, -999.000,9,   -999.0,9,   -999.0,9,-999.000,9, -0.6474,     79
   18HU97009_1,  AR13,   128,  3, 188479,   OC91,2,19970609,0608, 52.5053, -52.8022,  287,     89.2,  -0.4680,  33.5559,2,-999.0000,9,    318.6,2,   -999.0,9,  -999.00,9,  -999.00,9,  -999.00,9, -999.000,9, -999.000,9, -999.000,9, -999.000,9,   -999.0,9,   -999.0,9,-999.000,9, -0.4707,     89
   18HU97009_1,  AR13,   128,  3, 188478,   OC64,2,19970609,0608, 52.5053, -52.8022,  287,     99.6,  -0.1447,  33.6433,2,-999.0000,9,    317.1,2,   -999.0,9,  -999.00,9,  -999.00,9,  -999.00,9, -999.000,9, -999.000,9, -999.000,9, -999.000,9,   -999.0,9,   -999.0,9,-999.000,9, -0.1479,    100
   18HU97009_1,  AR13,   128,  3, 188477,   OC95,2,19970609,0608, 52.5053, -52.8022,  287,     99.9,  -0.1368,  33.6449,2,  33.6358,2,    317.2,2,    319.5,6,    10.81,6,    10.36,6,     1.00,6,    5.394,2,    3.018,2,    0.292,2,    9.240,2,   2129.0,2,   2238.4,2, 363.625,3, -0.1401,    100
   18HU97009_1,  AR13,   128,  3, 188476,   OC58,2,19970609,0608, 52.5053, -52.8022,  287,    169.1,   2.0267,  34.2999,2,  34.2961,2,    298.9,2,    303.6,2,     9.86,6,    13.19,6,     1.01,6,    4.867,2,    2.832,2,    0.263,2,    7.738,2,   2138.2,2,   2262.5,2, 393.543,3,  2.0178,    169
   18HU97009_1,  AR13,   128,  3, 188475,   OC93,2,19970609,0608, 52.5053, -52.8022,  287,    228.7,   3.0283,  34.5842,2,  34.5852,2,    281.3,2,    284.2,2,    11.33,6,    14.33,6,     1.07,6,    4.486,2,    2.598,2,    0.224,2,    7.289,2,   2148.7,6,   2316.4,3, 320.772,3,  3.0141,    229
   18HU97009_1,  AR13,   128,  3, 188474,   OC66,2,19970609,0608, 52.5053, -52.8022,  287,    273.4,   3.2460,  34.6632,2,  34.6643,6,    277.7,2,    279.1,2,    13.01,6,    14.82,6,     1.10,6,    4.282,2,    2.336,2,    0.224,2,    6.909,2,   2155.8,2,   -999.0,5, 237.156,3,  3.2284,    273