BOTTLE,20020708WHPSIOKJU
EXPOCODE,SECT_ID,STNNBR,CASTNO,SAMPNO,BTLNBR,BTLNBR_FLAG_W,DATE,TIME,LATITUDE,LONGITUDE,DEPTH,CTDPRS,CTDTMP,CTDSAL,CTDSAL_FLAG_W,SALNTY,SALNTY_FLAG_W,CTDOXY,CTDOXY_FLAG_W,OXYGEN,OXYGEN_FLAG_W,SILCAT,SILCAT_FLAG_W,NO2+NO3,NO2+NO3_FLAG_W,PHSPHT,PHSPHT_FLAG_W,CFC-11,CFC-11_FLAG_W,CFC-12,CFC-12_FLAG_W,CFC113,CFC113_FLAG_W,CCL4,CCL4_FLAG_W,TCARBN,TCARBN_FLAG_W,ALKALI,ALKALI_FLAG_W,MCHFRM,MCHFRM_FLAG_W,THETA,CTDRAW
,,,,,,,,,,,,DBAR,ITS-90,PSS-78,,PSS-78,,UMOL/KG,,UMOL/KG,,UMOL/KG,,UMOL/KG,,UMOL/KG,,PMOL/KG,,PMOL/KG,,PMOL/KG,,PMOL/KG,,UMOL/KG,,UMOL/KG,,PMOL/KG,,DEG C,
   18HU97009_1,  AR7W,    60,  1, 187227,   OC80,2,19970525,0042, 56.9537, -52.2407, 3532,     15.5,   4.2691,  34.6839,2,  34.6847,2,    310.8,2,    329.7,2,     7.53,6,    11.61,6,     0.82,6,    5.071,2,    2.618,2,    0.321,2,    9.830,2,   2123.8,2,   2285.1,2,  48.720,4,  4.2680,     16
   18HU97009_1,  AR7W,    60,  1, 187226,   OC55,2,19970525,0042, 56.9537, -52.2407, 3532,     54.6,   3.7876,  34.6882,2,  34.6892,2,    309.0,2,    326.7,2,     7.77,6,    12.50,6,     0.88,6,    5.236,2,    2.783,2,    0.302,2,    9.907,2,   2128.8,2,   2284.4,2,  48.756,4,  3.7839,     55
   18HU97009_1,  AR7W,    60,  1, 187225,   OC81,2,19970525,0042, 56.9537, -52.2407, 3532,    129.3,   2.8233,  34.7197,2,  34.7198,2,    294.1,2,    309.4,2,     8.68,3,    15.17,6,     1.02,6,    4.778,2,    2.540,2,    0.311,2,    8.797,3,   2145.1,2,   2281.0,2,  42.708,4,  2.8156,    129
   18HU97009_1,  AR7W,    60,  1, 187224,   OC69,2,19970525,0042, 56.9537, -52.2407, 3532,    230.1,   2.8840,  34.7467,2,  34.7459,2,    289.4,2,    304.5,2,     8.47,6,    15.53,6,     1.02,6,    4.700,2,    2.481,2,    0.234,2,    9.254,2,   2147.1,2,   2282.2,2,  41.433,4,  2.8699,    230
   18HU97009_1,  AR7W,    60,  1, 187223,   OC52,2,19970525,0042, 56.9537, -52.2407, 3532,    339.8,   3.0719,  34.7912,2,  34.7902,2,    279.6,2,    295.0,2,     8.89,6,    16.27,6,     1.06,6,    4.301,2,    2.326,2,    0.224,2,    8.047,3,   2151.4,2,   2286.4,2,  36.839,2,  3.0502,    340
   18HU97009_1,  AR7W,    60,  1, 187222,   OC51,2,19970525,0042, 56.9537, -52.2407, 3532,    451.0,   3.1299,  34.8116,2,  34.8120,2,    278.6,2,    294.0,2,     9.06,6,    16.20,6,     1.06,6,    4.242,2,    2.296,2,    0.204,2,    8.582,2,   2151.4,2,   2288.5,2,  36.907,2,  3.1006,    451
   18HU97009_1,  AR7W,    60,  1, 187221,   OC56,2,19970525,0042, 56.9537, -52.2407, 3532,    620.2,   3.0790,  34.8221,2,  34.8213,2,    281.1,2,    296.9,2,     9.08,6,    16.27,6,     1.06,6,    4.233,2,    2.180,2,    0.195,2,    8.076,2,   -999.0,5,   2288.4,2,  36.313,2,  3.0380,    620
   18HU97009_1,  AR7W,    60,  1, 187220,   OC61,2,19970525,0042, 56.9537, -52.2407, 3532,    811.3,   3.0833,  34.8350,2,  34.8342,2,    279.6,2,    295.7,2,     9.22,6,    16.13,6,     1.06,6,    4.048,2,    2.092,2,    0.175,2,    7.161,2,   2151.1,6,   2288.4,2,  34.765,2,  3.0284,    811
   18HU97009_1,  AR7W,    60,  1, 187219,   OC82,2,19970525,0042, 56.9537, -52.2407, 3532,   1024.8,   3.0760,  34.8463,2,  34.8460,2,    275.4,2,    291.6,6,     9.72,6,    16.69,6,     1.08,6,    3.756,2,    1.936,2,    0.185,2,    6.344,2,   2151.5,2,   2288.4,2,  32.177,2,  3.0050,   1025
   18HU97009_1,  AR7W,    60,  1, 187218,   OC83,2,19970525,0042, 56.9537, -52.2407, 3532,   1230.8,   3.0748,  34.8559,2,  34.8564,2,    275.1,2,    290.7,2,    10.02,6,    16.66,6,     1.09,6,    3.474,2,    1.790,2,    0.146,2,    5.799,3,   2152.2,2,   2287.3,2,  30.493,2,  2.9875,   1231
   18HU97009_1,  AR7W,    60,  1, 187217,   OC94,2,19970525,0042, 56.9537, -52.2407, 3532,   1458.7,   3.0047,  34.8521,2,  34.8511,2,    277.7,2,    293.9,2,     9.96,6,    16.72,6,     1.07,6,    3.561,2,    1.810,2,    0.156,2,    6.402,2,   2152.2,2,   2291.2,2,  31.680,2,  2.8995,   1459
   18HU97009_1,  AR7W,    60,  1, 187216,   OC85,2,19970525,0042, 56.9537, -52.2407, 3532,   1679.7,   2.9715,  34.8519,2,  34.8513,2,    279.4,2,    294.9,2,     9.91,6,    16.44,6,     1.08,6,    3.542,2,    1.839,2,    0.146,2,    6.996,3,   2150.9,2,   2289.4,2,  32.127,2,  2.8480,   1680
   18HU97009_1,  AR7W,    60,  1, 187215,   OC86,2,19970525,0042, 56.9537, -52.2407, 3532,   1919.7,   2.9129,  34.8456,2,  34.8451,6,    281.6,2,    297.0,2,     9.74,6,    16.50,6,     1.06,6,    3.688,2,    1.810,2,    0.156,2,    6.402,2,   2150.8,2,   2289.2,2,  33.383,3,  2.7692,   1920
   18HU97009_1,  AR7W,    60,  1, 187214,   OC87,2,19970525,0042, 56.9537, -52.2407, 3532,   2138.5,   3.0007,  34.8669,2,  34.8659,2,    275.9,2,    291.0,2,    10.17,6,    16.38,6,     1.07,6,    3.104,2,    1.596,2,    0.146,2,    5.089,3,   2151.1,2,   2290.2,2,  27.681,2,  2.8356,   2139
   18HU97009_1,  AR7W,    60,  1, 187213,   OC88,2,19970525,0042, 56.9537, -52.2407, 3532,   2339.5,   3.1018,  34.9016,2,  34.9064,2,    266.3,2,    281.5,2,    11.66,6,    16.54,6,     1.08,6,    2.179,2,    1.080,2,    0.000,2,    4.767,2,   2154.2,2,   2295.6,2,  21.638,2,  2.9158,   2340
   18HU97009_1,  AR7W,    60,  1, 187212,   OC36,2,19970525,0042, 56.9537, -52.2407, 3532,   2519.2,   3.0668,  34.9124,2,  34.9115,2,    264.6,2,    278.9,2,    11.94,6,    16.22,6,     1.07,6,    1.907,2,    0.973,2,    0.078,3,    3.639,2,   2154.5,2,   2291.9,2,  20.130,2,  2.8638,   2519
   18HU97009_1,  AR7W,    60,  1, 187211,   OC84,2,19970525,0042, 56.9537, -52.2407, 3532,   2724.7,   2.9666,  34.9207,2,  34.9203,2,    264.1,2,    277.2,2,    12.71,6,    16.57,6,     1.07,6,    1.683,2,    0.856,2,    0.049,3,    2.948,3,   2157.2,2,   2293.7,2,  17.279,2,  2.7450,   2725
   18HU97009_1,  AR7W,    60,  1, 187210,   OC90,2,19970525,0042, 56.9537, -52.2407, 3532,   2919.1,   2.8380,  34.9242,2,  34.9235,2,    264.5,2,    276.8,2,    13.49,6,    16.09,6,     1.08,6,    1.596,2,    0.798,2,    0.068,3,    3.327,2,   2155.2,2,   2296.9,2,  16.374,2,  2.5992,   2919
   18HU97009_1,  AR7W,    60,  1, 187209,   OC91,2,19970525,0042, 56.9537, -52.2407, 3532,   3059.7,   2.6438,  34.9122,2,  34.9119,2,    269.0,2,    280.5,2,    13.17,6,    16.25,6,     1.05,6,    1.897,2,    0.837,2,    0.068,3,    4.456,3,   2154.6,2,   2295.5,2,  18.971,2,  2.3947,   3060
   18HU97009_1,  AR7W,    60,  1, 187208,   OC64,2,19970525,0042, 56.9537, -52.2407, 3532,   3199.9,   2.4105,  34.9019,2,  34.9017,2,    275.2,2,    285.8,2,    12.34,3,    15.53,6,     1.04,6,    2.364,2,    1.216,2,    0.000,2,    4.358,2,   2153.9,2,   2293.3,2,  21.724,2,  2.1522,   3200
   18HU97009_1,  AR7W,    60,  1, 187207,   OC92,2,19970525,0042, 56.9537, -52.2407, 3532,   3319.6,   2.2129,  34.8969,2,  34.8966,2,    278.2,2,    286.4,2,    12.65,6,    15.64,6,     1.02,6,    2.409,6,    1.300,6,    0.045,6,    5.176,6,   2157.0,2,   2296.8,2,  23.514,6,  1.9467,   3320
   18HU97009_1,  AR7W,    60,  1, 187206,   OC58,2,19970525,0042, 56.9537, -52.2407, 3532,   3419.1,   1.8931,  34.8905,2,  34.8901,2,    287.4,2,    294.4,2,    10.40,6,    14.68,6,     0.98,6,    3.142,2,    1.625,2,    0.126,2,    6.012,2,   2154.5,2,   2289.4,2,  27.405,2,  1.6244,   3419
   18HU97009_1,  AR7W,    60,  1, 187205,   OC93,2,19970525,0042, 56.9537, -52.2407, 3532,   3489.7,   1.7078,  34.8891,2,  34.8887,2,    291.3,2,    296.5,2,    10.35,3,    14.68,6,     0.96,6,    3.405,2,    1.771,2,    0.175,3,    7.228,2,   2155.3,6,   2288.5,2,  29.603,2,  1.4363,   3490
   18HU97009_1,  AR7W,    60,  1, 187204,   OC66,2,19970525,0042, 56.9537, -52.2407, 3532,   3563.4,   1.6365,  34.8870,2,  34.8862,2,    293.2,2,    297.3,2,    10.44,6,    14.32,6,     0.95,6,    3.492,2,    1.741,2,    0.185,3,    6.985,3,   2158.2,2,   2297.5,6,  30.440,2,  1.3592,   3563
   18HU97009_1,  AR7W,    61,  1, 187251,   OC80,2,19970525,0527, 56.5300, -52.6733, 3513,     11.0,   4.4046,  34.7168,2,  34.7172,2,    314.9,2,    327.2,2,     7.71,6,    11.43,6,     0.80,6,    5.343,2,    3.153,2,    0.399,2,    7.163,2,   2119.3,2,   2285.5,2,  77.439,3,  4.4039,     11
   18HU97009_1,  AR7W,    61,  1, 187250,   OC55,2,19970525,0527, 56.5300, -52.6733, 3513,     44.6,   3.9603,  34.7248,2,  34.7268,2,    310.7,2,    322.5,2,     7.92,6,    12.66,6,     0.87,6,    5.236,2,    3.017,2,    0.399,2,    7.435,2,   2129.0,2,   2282.1,2,  51.150,4,  3.9573,     45
   18HU97009_1,  AR7W,    61,  1, 187249,   OC81,2,19970525,0527, 56.5300, -52.6733, 3513,     99.8,   3.4449,  34.8036,2,  34.7918,2,    296.5,2,    309.0,2,     8.41,6,    14.97,6,     1.01,6,    5.031,2,    3.026,2,    0.379,2,    7.220,2,   2143.7,2,   2285.6,2,  56.652,4,  3.4384,    100
   18HU97009_1,  AR7W,    61,  1, 187248,   OC69,2,19970525,0527, 56.5300, -52.6733, 3513,    211.4,   3.0307,  34.7989,2,  34.8079,2,    292.2,2,    300.6,6,     8.65,6,    15.84,6,     1.02,6,    4.671,2,    2.734,2,    0.321,3,    7.142,2,   2148.1,2,   2287.8,2,  49.332,4,  3.0175,    211
   18HU97009_1,  AR7W,    61,  1, 187247,   OC52,2,19970525,0527, 56.5300, -52.6733, 3513,    319.2,   3.2955,  34.8440,2,  34.8452,2,    288.3,2,    297.6,6,     8.65,6,    15.57,6,     1.03,6,    4.417,2,    2.481,2,    0.389,2,    7.045,2,   2147.8,2,   -999.0,5,  28.782,3,  3.2746,    319
   18HU97009_1,  AR7W,    61,  1, 187246,   OC51,2,19970525,0527, 56.5300, -52.6733, 3513,    468.9,   3.0263,  34.8224,2,  34.8240,2,    290.0,2,    298.6,6,     8.87,6,    16.10,6,     1.04,6,    4.534,2,    2.734,2,    0.360,2,    7.443,2,   2150.2,2,   2287.1,2,  48.008,4,  2.9961,    469
   18HU97009_1,  AR7W,    61,  1, 187245,   OC56,2,19970525,0527, 56.5300, -52.6733, 3513,    667.0,   3.0433,  34.8314,2,  34.8330,2,    289.7,2,    298.6,6,     8.87,6,    16.01,6,     1.03,6,    4.505,2,    2.588,2,    0.331,2,    7.336,2,   2148.2,2,   2287.5,2,  47.531,4,  2.9991,    667
   18HU97009_1,  AR7W,    61,  1, 187244,   OC61,2,19970525,0527, 56.5300, -52.6733, 3513,    869.5,   3.0266,  34.8392,2,  34.8403,2,    286.5,2,    295.2,6,     9.18,6,    16.07,6,     1.05,6,    4.460,2,    2.530,2, -999.000,5,    8.180,3,   2146.9,2,   2287.8,6,  55.930,4,  2.9677,    870
   18HU97009_1,  AR7W,    61,  1, 187243,   OC82,2,19970525,0527, 56.5300, -52.6733, 3513,   1069.3,   2.9826,  34.8411,2,  34.8421,2,    286.2,2,    293.9,6,     9.53,6,    16.34,6,     1.06,6,    4.164,2,    2.432,2,    0.331,2,    7.074,2,   2150.8,2,   -999.0,5,  46.343,4,  2.9089,   1069
   18HU97009_1,  AR7W,    61,  1, 187242,   OC83,2,19970525,0527, 56.5300, -52.6733, 3513,   1270.6,   2.9986,  34.8492,2,  34.8499,2,    286.3,2,    294.2,6,    10.26,3,    16.59,6,     1.06,6,    3.999,2,    2.248,2,    0.311,2,    6.840,2,   2152.9,2,   2290.0,2,  42.072,4,  2.9089,   1271
   18HU97009_1,  AR7W,    61,  1, 187241,   OC94,2,19970525,0527, 56.5300, -52.6733, 3513,   1480.0,   2.9512,  34.8475,2,  34.8487,2,    287.0,2,    294.6,6,     9.72,6,    16.31,6,     1.07,6,    4.060,2,    2.350,2, -999.000,5,    7.950,3,   2150.7,2,   2288.2,2,  50.210,4,  2.8449,   1480
   18HU97009_1,  AR7W,    61,  1, 187240,   OC85,2,19970525,0527, 56.5300, -52.6733, 3513,   1638.2,   2.9175,  34.8451,2,  34.8450,2,    287.9,2,    295.9,6,     9.61,6,    16.31,6,     1.07,6,    3.931,2,    2.150,2,    0.292,2,    6.996,2,   2149.0,2,   2287.1,2,  42.237,4,  2.7983,   1638
   18HU97009_1,  AR7W,    61,  1, 187239,   OC86,2,19970525,0527, 56.5300, -52.6733, 3513,   1865.7,   2.8991,  34.8440,2,  34.8442,2,    288.6,2,    296.2,6,     9.67,6,    16.47,6,     1.06,6,    3.853,2,    2.179,2,    0.292,2,    6.821,2,   2149.4,2,   2289.1,2,  38.364,2,  2.7604,   1866
   18HU97009_1,  AR7W,    61,  1, 187238,   OC87,2,19970525,0527, 56.5300, -52.6733, 3513,   2100.5,   2.9669,  34.8600,2,  34.8597,2,    284.4,2,    292.1,6,    10.01,6,    16.40,6,     1.06,6,    3.620,2,    1.960,2, -999.000,5,    7.290,2,   2148.5,2,   2287.1,2,  41.320,4,  2.8059,   2101
   18HU97009_1,  AR7W,    61,  1, 187237,   OC88,2,19970525,0527, 56.5300, -52.6733, 3513,   2300.0,   3.0831,  34.8947,2,  34.8947,2,    274.7,2,    282.4,6,    11.06,6,    16.48,6,     1.06,6,    2.471,2,    1.323,2,    0.224,2,    4.855,3,   2150.9,2,   2289.6,6,  26.873,2,  2.9013,   2300
   18HU97009_1,  AR7W,    61,  1, 187236,   OC36,2,19970525,0527, 56.5300, -52.6733, 3513,   2537.7,   3.0188,  34.9111,2,  34.9114,2,    271.4,2,    278.2,6,    11.78,6,    16.36,6,     1.05,6,    2.004,2,    1.109,2,    0.224,2,    4.008,3,   2153.5,2,   2294.0,2,  21.103,2,  2.8149,   2538
   18HU97009_1,  AR7W,    61,  1, 187235,   OC84,2,19970525,0527, 56.5300, -52.6733, 3513,   2759.8,   2.8798,  34.9187,2,  34.9204,2,    270.9,2,    277.5,6,    12.48,6,    16.41,6,     1.06,6,    1.950,2,    1.110,2, -999.000,5,    4.530,3,   2150.6,2,   2295.1,2,  23.210,2,  2.6564,   2760
   18HU97009_1,  AR7W,    61,  1, 187234,   OC90,2,19970525,0527, 56.5300, -52.6733, 3513,   2860.6,   2.7811,  34.9168,2,  34.9173,2,    272.4,2,    277.9,6,    12.81,6,    16.17,6,     1.08,6,    1.907,2,    0.973,2,    0.068,3,    3.989,3,   2153.1,6,   2296.7,2,  27.406,2,  2.5495,   2861
   18HU97009_1,  AR7W,    61,  1, 187233,   OC91,2,19970525,0527, 56.5300, -52.6733, 3513,   3039.8,   2.5800,  34.9112,2,  34.9108,2,    274.3,2,    279.7,6,    13.16,6,    16.09,6,     1.06,6,    1.881,6,    0.923,6,    0.185,2,    4.258,3,   2153.7,2,   2295.8,2,  28.851,6,  2.3343,   3040
   18HU97009_1,  AR7W,    61,  1, 187232,   OC64,2,19970525,0527, 56.5300, -52.6733, 3513,   3178.8,   2.3488,  34.9026,2,  34.9022,2,    278.1,2,    283.0,6,    13.26,6,    15.70,6,     1.03,6,    2.179,2,    1.206,2,    0.253,2,    4.621,2,   2155.8,2,   2291.7,2,  24.020,2,  2.0941,   3179
   18HU97009_1,  AR7W,    61,  1, 187231,   OC92,2,19970525,0527, 56.5300, -52.6733, 3513,   3299.1,   2.1365,  34.8947,2,  34.8937,2,    284.0,2,    288.1,6,    11.71,6,    15.12,6,     1.00,6,    2.831,2,    1.527,2,    0.107,3,    6.713,2,   2153.0,2,   2289.0,2,  30.635,2,  1.8743,   3299
   18HU97009_1,  AR7W,    61,  1, 187230,   OC58,2,19970525,0527, 56.5300, -52.6733, 3513,   3398.9,   1.8413,  34.8843,2,  34.8835,2,    291.5,2,    294.8,6,    10.39,6,    14.81,6,     0.98,6,    3.288,2,    1.771,2,    0.243,2,    6.557,2,   2150.6,2,   2290.5,2,  34.487,2,  1.5759,   3399
   18HU97009_1,  AR7W,    61,  1, 187229,   OC93,2,19970525,0527, 56.5300, -52.6733, 3513,   3463.2,   1.6521,  34.8810,2,  34.8813,6,    295.0,2,    297.5,6,    10.46,6,    14.57,6,     0.96,6,    3.531,2,    1.975,2,    0.321,3,    6.956,2,   2152.2,2,   2286.8,2,  34.030,2,  1.3848,   3463
   18HU97009_1,  AR7W,    61,  1, 187228,   OC66,2,19970525,0527, 56.5300, -52.6733, 3513,   3539.9,   1.6124,  34.8854,2,  34.8855,2,    295.1,2,    297.1,6,    10.28,6,    14.36,6,     0.96,6,    3.804,2,    2.092,2,    0.156,2,    8.600,3,   2154.7,2,   2298.9,2,  41.083,4,  1.3382,   3540
   18HU97009_1,  AR7W,    62,  2, 187259,   OC84,2,19970525,1338, 56.5212, -52.6705, 3513,      4.1,   4.4379,  34.7101,2,-999.0000,9,    329.0,2,   -999.0,9,  -999.00,9,  -999.00,9,  -999.00,9, -999.000,9, -999.000,9, -999.000,9, -999.000,9,   -999.0,9,   -999.0,9,-999.000,9,  4.4376,      4
   18HU97009_1,  AR7W,    62,  2, 187260,   OC36,2,19970525,1338, 56.5212, -52.6705, 3513,      4.2,   4.4389,  34.7102,2,-999.0000,9,    328.8,2,   -999.0,9,  -999.00,9,  -999.00,9,  -999.00,9, -999.000,9, -999.000,9, -999.000,9, -999.000,9,   -999.0,9,   -999.0,9,-999.000,9,  4.4386,      4
   18HU97009_1,  AR7W,    62,  2, 187261,   OC88,2,19970525,1338, 56.5212, -52.6705, 3513,      4.2,   4.4383,  34.7101,2,-999.0000,9,    328.7,2,   -999.0,9,  -999.00,9,  -999.00,9,  -999.00,9, -999.000,9, -999.000,9, -999.000,9, -999.000,9,   -999.0,9,   -999.0,9,-999.000,9,  4.4380,      4
   18HU97009_1,  AR7W,    62,  2, 187262,   OC87,2,19970525,1338, 56.5212, -52.6705, 3513,      4.2,   4.4381,  34.7102,2,-999.0000,9,    328.6,2,   -999.0,9,  -999.00,9,  -999.00,9,  -999.00,9, -999.000,9, -999.000,9, -999.000,9, -999.000,9,   -999.0,9,   -999.0,9,-999.000,9,  4.4378,      4
   18HU97009_1,  AR7W,    62,  2, 187264,   OC85,2,19970525,1338, 56.5212, -52.6705, 3513,      4.2,   4.4129,  34.7101,2,-999.0000,9,    328.6,2,   -999.0,9,  -999.00,9,  -999.00,9,  -999.00,9, -999.000,9, -999.000,9, -999.000,9, -999.000,9,   -999.0,9,   -999.0,9,-999.000,9,  4.4126,      4
   18HU97009_1,  AR7W,    62,  2, 187263,   OC86,2,19970525,1338, 56.5212, -52.6705, 3513,      4.3,   4.4255,  34.7103,2,-999.0000,9,    328.6,2,   -999.0,9,  -999.00,9,  -999.00,9,  -999.00,9, -999.000,9, -999.000,9, -999.000,9, -999.000,9,   -999.0,9,   -999.0,9,-999.000,9,  4.4252,      4
   18HU97009_1,  AR7W,    62,  2, 187266,   OC83,2,19970525,1338, 56.5212, -52.6705, 3513,      4.3,   4.4255,  34.7100,2,-999.0000,9,    328.1,2,   -999.0,9,  -999.00,9,  -999.00,9,  -999.00,9, -999.000,9, -999.000,9, -999.000,9, -999.000,9,   -999.0,9,   -999.0,9,-999.000,9,  4.4252,      4
   18HU97009_1,  AR7W,    62,  2, 187265,   OC94,2,19970525,1338, 56.5212, -52.6705, 3513,      4.4,   4.4086,  34.7102,2,-999.0000,9,    328.5,2,   -999.0,9,  -999.00,9,  -999.00,9,  -999.00,9, -999.000,9, -999.000,9, -999.000,9, -999.000,9,   -999.0,9,   -999.0,9,-999.000,9,  4.4083,      4
   18HU97009_1,  AR7W,    62,  2, 187258,   OC90,2,19970525,1338, 56.5212, -52.6705, 3513,     19.9,   4.3608,  34.7087,2,-999.0000,9,    327.6,2,   -999.0,9,  -999.00,9,  -999.00,9,  -999.00,9, -999.000,9, -999.000,9, -999.000,9, -999.000,9,   -999.0,9,   -999.0,9,-999.000,9,  4.3593,     20
   18HU97009_1,  AR7W,    62,  2, 187257,   OC91,2,19970525,1338, 56.5212, -52.6705, 3513,     30.1,   4.1308,  34.6909,2,-999.0000,9,    326.7,2,   -999.0,9,  -999.00,9,  -999.00,9,  -999.00,9, -999.000,9, -999.000,9, -999.000,9, -999.000,9,   -999.0,9,   -999.0,9,-999.000,9,  4.1287,     30
   18HU97009_1,  AR7W,    62,  2, 187256,   OC64,2,19970525,1338, 56.5212, -52.6705, 3513,     49.7,   3.1280,  34.7135,2,-999.0000,9,    322.3,2,   -999.0,9,  -999.00,9,  -999.00,9,  -999.00,9, -999.000,9, -999.000,9, -999.000,9, -999.000,9,   -999.0,9,   -999.0,9,-999.000,9,  3.1250,     50
   18HU97009_1,  AR7W,    62,  2, 187255,   OC92,2,19970525,1338, 56.5212, -52.6705, 3513,     75.2,   3.9272,  34.8453,2,-999.0000,9,    303.9,2,   -999.0,9,  -999.00,9,  -999.00,9,  -999.00,9, -999.000,9, -999.000,9, -999.000,9, -999.000,9,   -999.0,9,   -999.0,9,-999.000,9,  3.9220,     75
   18HU97009_1,  AR7W,    62,  2, 187254,   OC58,2,19970525,1338, 56.5212, -52.6705, 3513,    100.2,   3.8058,  34.8417,2,-999.0000,9,    306.1,2,   -999.0,9,  -999.00,9,  -999.00,9,  -999.00,9, -999.000,9, -999.000,9, -999.000,9, -999.000,9,   -999.0,9,   -999.0,9,-999.000,9,  3.7990,    100
   18HU97009_1,  AR7W,    62,  2, 187253,   OC93,2,19970525,1338, 56.5212, -52.6705, 3513,    149.7,   3.5726,  34.8327,2,-999.0000,9,    308.0,2,   -999.0,9,  -999.00,9,  -999.00,9,  -999.00,9, -999.000,9, -999.000,9, -999.000,9, -999.000,9,   -999.0,9,   -999.0,9,-999.000,9,  3.5627,    150
   18HU97009_1,  AR7W,    62,  2, 187252,   OC66,2,19970525,1338, 56.5212, -52.6705, 3513,    200.4,   3.3436,  34.8248,2,-999.0000,9,    314.8,2,   -999.0,9,  -999.00,9,  -999.00,9,  -999.00,9, -999.000,9, -999.000,9, -999.000,9, -999.000,9,   -999.0,9,   -999.0,9,-999.000,9,  3.3306,    200