BOTTLE,20020708WHPSIOKJU
EXPOCODE,SECT_ID,STNNBR,CASTNO,SAMPNO,BTLNBR,BTLNBR_FLAG_W,DATE,TIME,LATITUDE,LONGITUDE,DEPTH,CTDPRS,CTDTMP,CTDSAL,CTDSAL_FLAG_W,SALNTY,SALNTY_FLAG_W,CTDOXY,CTDOXY_FLAG_W,OXYGEN,OXYGEN_FLAG_W,SILCAT,SILCAT_FLAG_W,NO2+NO3,NO2+NO3_FLAG_W,PHSPHT,PHSPHT_FLAG_W,CFC-11,CFC-11_FLAG_W,CFC-12,CFC-12_FLAG_W,CFC113,CFC113_FLAG_W,CCL4,CCL4_FLAG_W,TCARBN,TCARBN_FLAG_W,ALKALI,ALKALI_FLAG_W,MCHFRM,MCHFRM_FLAG_W,THETA,CTDRAW
,,,,,,,,,,,,DBAR,ITS-90,PSS-78,,PSS-78,,UMOL/KG,,UMOL/KG,,UMOL/KG,,UMOL/KG,,UMOL/KG,,PMOL/KG,,PMOL/KG,,PMOL/KG,,PMOL/KG,,UMOL/KG,,UMOL/KG,,PMOL/KG,,DEG C,
   18HU97009_1,  AR13,    26,  4, 186404,   OC80,2,19970515,1313, 51.7812, -46.5770, 3984,     10.5,   6.7762,  34.6203,2,  34.6230,2,    290.8,2,    309.6,2,     4.75,6,     7.25,6,     0.55,6,    4.520,2,    2.970,2, -999.000,5,    8.890,2,   2089.6,2,   2285.9,2,   0.000,2,  6.7752,     11
   18HU97009_1,  AR13,    26,  4, 186403,   OC55,2,19970515,1313, 51.7812, -46.5770, 3984,     24.6,   6.7263,  34.6200,2,  34.6207,2,    289.9,2,    309.0,2,     4.88,6,     7.36,6,     0.58,3,    4.450,2,    2.920,2, -999.000,5,    8.830,2,   2090.8,2,   2286.0,2,   0.000,2,  6.7241,     25
   18HU97009_1,  AR13,    26,  4, 186402,   OC81,2,19970515,1313, 51.7812, -46.5770, 3984,     50.9,   4.9713,  34.6441,2,  34.6399,2,    275.6,2,    291.3,2,     7.49,6,    13.03,6,     0.90,3,    4.500,2,    2.890,2, -999.000,5,    8.520,2,   2128.3,2,   2285.9,2,   0.000,2,  4.9674,     51
   18HU97009_1,  AR13,    26,  4, 186401,   OC69,2,19970515,1313, 51.7812, -46.5770, 3984,     73.9,   4.8298,  34.6937,2,  34.6935,2,    260.6,2,    273.4,2,     8.09,6,    14.98,6,     0.97,6,    4.050,2,    2.760,2, -999.000,5,    8.460,2,   2140.5,2,   2284.9,2,   0.000,2,  4.8243,     74
   18HU97009_1,  AR13,    26,  4, 186400,   OC52,2,19970515,1313, 51.7812, -46.5770, 3984,     99.3,   4.4447,  34.6934,2,  34.6941,2,    269.7,2,    282.9,2,     8.11,6,    15.01,6,     0.97,6,    3.981,2,    2.384,2,    0.214,3,    8.341,2,   2139.6,2,   2289.0,2,   0.000,2,  4.4375,     99
   18HU97009_1,  AR13,    26,  4, 186399,   OC51,2,19970515,1313, 51.7812, -46.5770, 3984,    149.9,   3.9685,  34.7323,2,  34.7333,2,    270.0,2,    283.1,2,     8.49,6,    15.78,6,     0.99,6,    4.250,2,    2.680,2, -999.000,5,    8.090,2,   2142.8,2,   2287.6,2,-999.000,5,  3.9582,    150
   18HU97009_1,  AR13,    26,  4, 186398,   OC56,2,19970515,1313, 51.7812, -46.5770, 3984,    199.3,   3.8759,  34.7598,2,  34.7594,2,    268.3,2,    281.3,2,     8.65,6,    16.01,6,     1.14,3,    4.170,2,    2.670,2, -999.000,5,    8.630,2,   2146.0,2,   2292.3,2,   0.000,4,  3.8621,    199
   18HU97009_1,  AR13,    26,  4, 186397,   OC61,2,19970515,1313, 51.7812, -46.5770, 3984,    401.4,   3.6938,  34.8445,2,  34.8452,2,    264.9,2,    277.5,2,     9.34,6,    17.09,6,     1.18,3,    3.561,2,    2.257,2,    0.321,3,    5.254,3,   2152.3,2,   2283.5,2,   0.000,4,  3.6660,    401
   18HU97009_1,  AR13,    26,  4, 186396,   OC82,2,19970515,1313, 51.7812, -46.5770, 3984,    600.0,   3.7700,  34.8975,2,  34.8969,2,    259.9,2,    272.3,2,     9.81,6,    17.84,6,     1.07,6,    3.190,2,    1.960,2, -999.000,5,    6.250,2,   2153.4,2,   2293.9,2,   0.020,4,  3.7271,    600
   18HU97009_1,  AR13,    26,  4, 186395,   OC83,2,19970515,1313, 51.7812, -46.5770, 3984,    799.7,   3.4370,  34.8776,2,  34.8770,2,    269.0,2,    281.0,2,     9.68,6,    17.30,6,     1.06,6,    3.442,6,    1.816,6,    0.175,3,    5.953,6,   2151.9,2,   2296.1,2,  32.630,2,  3.3807,    800
   18HU97009_1,  AR13,    26,  4, 186394,   OC94,2,19970515,1313, 51.7812, -46.5770, 3984,    999.8,   3.2602,  34.8705,2,  34.8703,2,    273.4,2,    285.1,2,     9.69,6,    17.27,6,     1.06,6,    3.450,2,    1.900,2, -999.000,5,    7.490,2,   2151.3,2,   2295.5,2,   0.000,4,  3.1897,   1000
   18HU97009_1,  AR13,    26,  4, 186393,   OC85,2,19970515,1313, 51.7812, -46.5770, 3984,   1199.7,   3.1544,  34.8662,2,  34.8654,2,    276.4,2,    287.7,2,     9.80,6,    17.08,6,     1.07,6,    3.410,2,    2.000,2, -999.000,5,    7.360,2,   2151.1,2,   2291.3,2,   0.000,4,  3.0689,   1200
   18HU97009_1,  AR13,    26,  4, 186392,   OC86,2,19970515,1313, 51.7812, -46.5770, 3984,   1399.5,   3.0527,  34.8615,2,  34.8611,2,    279.1,2,   -999.0,9,     9.86,6,    16.94,6,     0.98,2,    3.450,2,    2.170,2, -999.000,5,    7.190,2,   2149.2,2,   2293.7,2,   0.000,4,  2.9519,   1400
   18HU97009_1,  AR13,    26,  4, 186391,   OC87,2,19970515,1313, 51.7812, -46.5770, 3984,   1599.1,   2.9814,  34.8566,2,  34.8564,2,    280.9,2,    291.9,2,     9.69,6,    17.23,6,     1.03,6,    3.370,2,    1.940,2, -999.000,5,    6.330,2,   2152.6,2,   2289.6,2,   0.010,3,  2.8647,   1599
   18HU97009_1,  AR13,    26,  4, 186390,   OC88,2,19970515,1313, 51.7812, -46.5770, 3984,   1801.8,   2.9750,  34.8638,2,  34.8629,2,    279.3,2,    289.8,2,     9.88,6,    16.98,6,     1.04,6,    3.310,2,    1.960,2, -999.000,5,    6.270,2,   2151.3,2,   2290.1,2,   0.000,3,  2.8408,   1802
   18HU97009_1,  AR13,    26,  4, 186389,   OC36,2,19970515,1313, 51.7812, -46.5770, 3984,   1996.3,   3.0125,  34.8843,2,  34.8839,2,    273.9,2,    284.6,2,    10.44,6,    17.08,6,     1.03,6,    2.780,2,    1.910,2, -999.000,5,    5.970,2,   2149.8,2,   2296.7,2,   0.000,4,  2.8603,   1996
   18HU97009_1,  AR13,    26,  4, 186388,   OC84,2,19970515,1313, 51.7812, -46.5770, 3984,   2198.1,   2.9865,  34.9004,2,  34.8998,2,    270.2,2,    280.3,2,    11.05,6,    16.60,6,     1.04,6,    2.270,2,    1.300,2, -999.000,5,    4.440,3,   2150.3,2,   2296.2,2,   0.000,4,  2.8159,   2198
   18HU97009_1,  AR13,    26,  4, 186387,   OC90,2,19970515,1313, 51.7812, -46.5770, 3984,   2399.4,   2.8513,  34.9059,2,  34.9051,2,    270.2,2,    279.9,2,    11.43,6,    16.72,6,     1.02,6,    2.150,2,    1.330,2, -999.000,5,    4.290,3,   2150.6,2,   2300.5,2,   0.000,4,  2.6640,   2399
   18HU97009_1,  AR13,    26,  4, 186386,   OC91,2,19970515,1313, 51.7812, -46.5770, 3984,   2647.7,   2.6936,  34.9106,2,  34.9102,2,    269.6,2,    278.7,6,    12.35,6,    16.38,6,     1.04,6,    1.990,2,    1.300,2, -999.000,5,    3.630,3,   2152.6,2,   2298.7,2,   0.000,4,  2.4850,   2648
   18HU97009_1,  AR13,    26,  4, 186385,   OC64,3,19970515,1313, 51.7812, -46.5770, 3984,   2900.3,   2.4716,  34.9084,2,  34.9081,2,    270.4,2,    277.8,2,    14.52,6,    16.72,6,     1.03,6,    1.720,2,    1.080,2, -999.000,5,    2.900,3,   2155.9,2,   2303.4,2,   0.000,4,  2.2425,   2900
   18HU97009_1,  AR13,    26,  4, 186384,   OC92,2,19970515,1313, 51.7812, -46.5770, 3984,   3197.5,   2.2551,  34.8991,2,  34.8961,2,    273.8,2,    280.5,2,    14.58,6,    16.22,6,     1.03,6,    1.980,2,    1.290,2, -999.000,5,    3.920,3,   2156.2,2,   2301.7,2,  12.770,3,  2.0006,   3198
   18HU97009_1,  AR13,    26,  4, 186383,   OC58,2,19970515,1313, 51.7812, -46.5770, 3984,   3501.6,   2.1123,  34.8915,2,  34.8906,2,    280.9,2,    284.9,2,    13.54,6,    15.77,6,     1.00,6,    2.390,2,    1.460,2, -999.000,5,    5.750,3,   2153.8,2,   2297.6,2,   0.000,4,  1.8295,   3502
   18HU97009_1,  AR13,    26,  4, 186382,   OC93,2,19970515,1313, 51.7812, -46.5770, 3984,   3800.6,   1.9447,  34.8836,2,  34.8835,2,    289.4,2,    291.3,2,    11.25,6,    15.34,6,     0.97,6,    3.010,2,    1.720,2, -999.000,5,    7.020,3,   2154.8,6,   2295.4,2,   0.000,4,  1.6341,   3801
   18HU97009_1,  AR13,    26,  4, 186381,   OC66,3,19970515,1313, 51.7812, -46.5770, 3984,   4029.3,   1.8440,  34.8790,2,-999.0000,9,    290.8,2,   -999.0,9,  -999.00,9,  -999.00,9,  -999.00,9, -999.000,9, -999.000,9, -999.000,9, -999.000,9,   -999.0,9,   -999.0,9,-999.000,9,  1.5109,   4029
   18HU97009_1,  AR13,    27,  1, 186428,   OC80,2,19970515,1842, 52.0848, -45.9015, 4123,     10.8,   6.8047,  34.5361,2,  34.5366,2,    295.2,2,    311.7,2,     4.73,6,     6.56,6,     0.52,6, -999.000,5, -999.000,5, -999.000,5, -999.000,5,   2088.2,3,   2283.9,2,-999.000,5,  6.8037,     11
   18HU97009_1,  AR13,    27,  1, 186427,   OC55,2,19970515,1842, 52.0848, -45.9015, 4123,     51.3,   5.6270,  34.7311,2,  34.7319,2,    287.8,2,    301.8,2,     6.86,6,    10.92,6,     0.80,6, -999.000,5, -999.000,5, -999.000,5, -999.000,5,   2124.1,2,   2289.8,2,-999.000,5,  5.6229,     51
   18HU97009_1,  AR13,    27,  1, 186426,   OC81,2,19970515,1842, 52.0848, -45.9015, 4123,     75.9,   4.4151,  34.7031,2,  34.7013,2,    279.8,2,    290.8,2,     7.91,6,    14.66,6,     0.95,6, -999.000,5, -999.000,5, -999.000,5, -999.000,5,   2137.1,2,   2287.9,2,-999.000,5,  4.4097,     76
   18HU97009_1,  AR13,    27,  1, 186425,   OC69,2,19970515,1842, 52.0848, -45.9015, 4123,    100.5,   4.1149,  34.7322,2,  34.7602,2,    271.3,2,    270.1,2,     9.11,6,    16.22,6,     1.03,6, -999.000,5, -999.000,5, -999.000,5, -999.000,5,   2147.6,2,   2286.1,2,-999.000,5,  4.1079,    101
   18HU97009_1,  AR13,    27,  1, 186424,   OC52,2,19970515,1842, 52.0848, -45.9015, 4123,    149.4,   4.0688,  34.7682,2,  34.7679,2,    268.0,2,    275.8,2,     8.96,6,    15.99,6,     1.05,6, -999.000,5, -999.000,5, -999.000,5, -999.000,5,   2147.8,2,   2283.6,2,-999.000,5,  4.0583,    149
   18HU97009_1,  AR13,    27,  1, 186423,   OC51,2,19970515,1842, 52.0848, -45.9015, 4123,    201.0,   3.9416,  34.7876,2,  34.7895,2,    269.1,2,    276.6,2,     9.20,6,    16.60,6,     1.05,6, -999.000,5, -999.000,5, -999.000,5, -999.000,5,   2149.2,2,   2290.9,2,-999.000,5,  3.9276,    201
   18HU97009_1,  AR13,    27,  1, 186422,   OC56,2,19970515,1842, 52.0848, -45.9015, 4123,    301.5,   3.9298,  34.8515,2,  34.8495,2,    263.4,2,    270.2,2,     9.75,6,    17.64,6,     1.08,6, -999.000,5, -999.000,5, -999.000,5, -999.000,5,   2154.7,2,   2283.3,2,-999.000,5,  3.9085,    302
   18HU97009_1,  AR13,    27,  1, 186421,   OC61,2,19970515,1842, 52.0848, -45.9015, 4123,    400.7,   3.6941,  34.8537,2,  34.8531,2,    273.6,2,    281.8,2,     9.43,6,    16.60,6,     1.05,6, -999.000,5, -999.000,5, -999.000,5, -999.000,5,   2150.5,2,   2262.5,3,-999.000,5,  3.6664,    401
   18HU97009_1,  AR13,    27,  1, 186420,   OC82,2,19970515,1842, 52.0848, -45.9015, 4123,    599.2,   3.7882,  34.9035,2,  34.9030,2,    264.2,2,    271.9,2,    10.32,6,    17.63,6,     1.10,6, -999.000,5, -999.000,5, -999.000,5, -999.000,5,   2155.0,2,   2291.7,2,-999.000,5,  3.7453,    599
   18HU97009_1,  AR13,    27,  1, 186419,   OC83,2,19970515,1842, 52.0848, -45.9015, 4123,    798.8,   3.5023,  34.8907,2,  34.8902,2,    271.3,2,    279.8,2,    10.20,6,    17.36,6,     1.07,6, -999.000,5, -999.000,5, -999.000,5, -999.000,5,   2153.3,2,   2293.7,2,-999.000,5,  3.4456,    799
   18HU97009_1,  AR13,    27,  1, 186418,   OC94,2,19970515,1842, 52.0848, -45.9015, 4123,    997.2,   3.2710,  34.8721,2,  34.8715,2,    279.6,2,    286.0,2,    10.07,6,    17.02,6,     1.07,6, -999.000,5, -999.000,5, -999.000,5, -999.000,5,   2152.0,2,   2292.1,2,-999.000,5,  3.2006,    997
   18HU97009_1,  AR13,    27,  1, 186417,   OC85,2,19970515,1842, 52.0848, -45.9015, 4123,   1200.6,   3.1277,  34.8628,2,-999.0000,5,    284.0,2,    290.4,2,     9.87,6,    17.21,6,     1.05,6, -999.000,5, -999.000,5, -999.000,5, -999.000,5,   2149.7,2,   2286.7,2,-999.000,5,  3.0424,   1201
   18HU97009_1,  AR13,    27,  1, 186416,   OC86,2,19970515,1842, 52.0848, -45.9015, 4123,   1399.2,   3.0429,  34.8582,2,-999.0000,5,    287.2,2,    292.9,2,     9.79,6,    16.89,6,     1.06,6, -999.000,5, -999.000,5, -999.000,5, -999.000,5,   2149.4,2,   2289.2,2,-999.000,5,  2.9422,   1399
   18HU97009_1,  AR13,    27,  1, 186415,   OC87,2,19970515,1842, 52.0848, -45.9015, 4123,   1600.1,   2.9667,  34.8544,2,  33.5542,2,    288.7,2,    294.5,2,     9.74,6,    16.68,6,     1.08,3, -999.000,5, -999.000,5, -999.000,5, -999.000,5,   2148.7,2,   2290.6,2,-999.000,5,  2.8501,   1600
   18HU97009_1,  AR13,    27,  1, 186414,   OC88,2,19970515,1842, 52.0848, -45.9015, 4123,   1798.0,   2.9746,  34.8636,2,  34.8629,2,    286.1,2,    291.8,2,    10.09,6,    16.85,6,     1.04,6, -999.000,5, -999.000,5, -999.000,5, -999.000,5,   2149.1,2,   2286.5,2,-999.000,5,  2.8407,   1798
   18HU97009_1,  AR13,    27,  1, 186413,   OC36,2,19970515,1842, 52.0848, -45.9015, 4123,   1999.6,   3.0187,  34.8846,2,  34.8839,2,    281.0,2,    286.0,2,    10.69,6,    16.78,6,     1.05,6, -999.000,5, -999.000,5, -999.000,5, -999.000,5,   2151.1,2,   2294.6,2,-999.000,5,  2.8661,   2000
   18HU97009_1,  AR13,    27,  1, 186412,   OC84,2,19970515,1842, 52.0848, -45.9015, 4123,   2197.5,   3.0015,  34.9072,2,  34.9065,2,    275.0,2,    279.9,2,    11.81,6,    16.72,6,     1.04,6, -999.000,5, -999.000,5, -999.000,5, -999.000,5,   2152.2,2,   2295.0,2,-999.000,5,  2.8307,   2198
   18HU97009_1,  AR13,    27,  1, 186411,   OC90,2,19970515,1842, 52.0848, -45.9015, 4123,   2501.1,   2.8580,  34.9172,2,  34.9169,6,    273.6,2,    277.2,2,    13.00,6,    17.00,6,     1.03,6, -999.000,5, -999.000,5, -999.000,5, -999.000,5,   2155.0,2,   2296.9,2,-999.000,5,  2.6607,   2501
   18HU97009_1,  AR13,    27,  1, 186410,   OC91,2,19970515,1842, 52.0848, -45.9015, 4123,   2799.9,   2.5995,  34.9130,2,  34.9124,2,    275.5,2,    277.9,2,    14.30,6,    16.57,6,     1.09,3, -999.000,5, -999.000,5, -999.000,5, -999.000,5,   2153.6,2,   2299.5,2,-999.000,5,  2.3777,   2800
   18HU97009_1,  AR13,    27,  1, 186409,   OC64,4,19970515,1842, 52.0848, -45.9015, 4123,   3098.4,   2.3276,  34.9032,2,  34.8982,2,    278.8,2,    280.4,2,    14.16,6,    16.45,6,     1.04,6, -999.000,5, -999.000,5, -999.000,5, -999.000,5,   2155.8,2,   2299.5,2,-999.000,5,  2.0816,   3098
   18HU97009_1,  AR13,    27,  1, 186408,   OC92,2,19970515,1842, 52.0848, -45.9015, 4123,   3399.7,   2.1746,  34.8947,2,  34.8945,2,    283.5,2,    283.4,2,    14.93,6,    16.32,6,     1.03,6, -999.000,5, -999.000,5, -999.000,5, -999.000,5,   2156.4,2,   2302.5,2,-999.000,5,  1.9010,   3400
   18HU97009_1,  AR13,    27,  1, 186407,   OC58,2,19970515,1842, 52.0848, -45.9015, 4123,   3698.0,   2.0756,  34.8879,2,  34.8882,2,    288.9,2,    287.8,2,    13.33,6,    16.12,6,     0.99,6, -999.000,5, -999.000,5, -999.000,5, -999.000,5,   2153.7,2,   2294.4,6,-999.000,5,  1.7726,   3698
   18HU97009_1,  AR13,    27,  1, 186406,   OC93,2,19970515,1842, 52.0848, -45.9015, 4123,   3999.7,   1.9350,  34.8814,2,  34.8817,2,    292.5,2,    300.2,2,    11.86,6,    15.25,6,     0.97,6, -999.000,5, -999.000,5, -999.000,5, -999.000,5,   2152.7,6,   2294.2,2,-999.000,5,  1.6027,   4000
   18HU97009_1,  AR13,    27,  1, 186405,   OC66,2,19970515,1842, 52.0848, -45.9015, 4123,   4177.9,   1.8643,  34.8784,2,  34.8786,2,    295.0,2,    295.6,6,    11.40,6,    15.19,6,     1.00,6, -999.000,5, -999.000,5, -999.000,5, -999.000,5,   2153.7,2,   2294.6,2,-999.000,5,  1.5139,   4178