BOTTLE,20020708WHPSIOKJU
EXPOCODE,SECT_ID,STNNBR,CASTNO,SAMPNO,BTLNBR,BTLNBR_FLAG_W,DATE,TIME,LATITUDE,LONGITUDE,DEPTH,CTDPRS,CTDTMP,CTDSAL,CTDSAL_FLAG_W,SALNTY,SALNTY_FLAG_W,CTDOXY,CTDOXY_FLAG_W,OXYGEN,OXYGEN_FLAG_W,SILCAT,SILCAT_FLAG_W,NO2+NO3,NO2+NO3_FLAG_W,PHSPHT,PHSPHT_FLAG_W,CFC-11,CFC-11_FLAG_W,CFC-12,CFC-12_FLAG_W,CFC113,CFC113_FLAG_W,CCL4,CCL4_FLAG_W,TCARBN,TCARBN_FLAG_W,ALKALI,ALKALI_FLAG_W,MCHFRM,MCHFRM_FLAG_W,THETA,CTDRAW
,,,,,,,,,,,,DBAR,ITS-90,PSS-78,,PSS-78,,UMOL/KG,,UMOL/KG,,UMOL/KG,,UMOL/KG,,UMOL/KG,,PMOL/KG,,PMOL/KG,,PMOL/KG,,PMOL/KG,,UMOL/KG,,UMOL/KG,,PMOL/KG,,DEG C,
   18HU97009_1,  AR7W,    69,  1, 187349,   OC52,2,19970526,2205, 55.6108, -53.6177, 2941,      8.7,   2.9088,  33.8253,2,  33.8278,2,    379.4,2,    400.7,2,     5.00,6,     0.10,6,     0.31,6,    5.959,2,    3.116,2,    0.292,3,    7.946,3,   2027.6,3,   2255.0,2,  58.522,3,  2.9083,      9
   18HU97009_1,  AR7W,    69,  1, 187348,   OC51,2,19970526,2205, 55.6108, -53.6177, 2941,     49.5,   2.9744,  34.4035,2,  34.4161,2,    307.8,2,    324.6,2,     8.34,6,    11.19,6,     0.87,6,    5.305,2,    2.793,2,    0.273,3,    7.874,3,   2123.2,2,   2268.1,2,  48.919,4,  2.9714,     50
   18HU97009_1,  AR7W,    69,  1, 187347,   OC56,2,19970526,2205, 55.6108, -53.6177, 2941,     99.7,   3.3509,  34.7503,2,  34.7497,2,    286.3,2,    303.2,2,     8.72,6,    15.16,6,     0.98,6,    4.865,2,    2.540,2,    0.195,2,    6.977,2,   2143.5,2,   2276.8,2,  43.682,4,  3.3445,    100
   18HU97009_1,  AR7W,    69,  1, 187346,   OC61,4,19970526,2205, 55.6108, -53.6177, 2941,    189.7,   3.2738,  34.7949,2,  34.7855,2,    282.9,2,    299.8,2,     9.14,3,    15.44,6,     1.01,6,    4.690,2,    2.520,2,    0.195,2,    7.677,2,   2145.9,2,   2281.6,2,  41.695,4,  3.2616,    190
   18HU97009_1,  AR7W,    69,  1, 187345,   OC82,2,19970526,2205, 55.6108, -53.6177, 2941,    299.5,   3.2923,  34.8233,2,  34.8222,2,    279.8,2,    296.6,2,     8.46,6,    15.55,6,     1.00,6,    4.650,2,    2.520,2,    0.220,2,    7.110,2,   2146.2,2,   2280.4,2,-999.000,5,  3.2728,    300
   18HU97009_1,  AR7W,    69,  1, 187344,   OC83,2,19970526,2205, 55.6108, -53.6177, 2941,    421.6,   3.3014,  34.8377,2,  34.8369,2,    278.6,2,    296.2,2,     8.54,6,    15.85,6,     1.02,6,    4.495,2,    2.471,2,    0.195,2,    6.753,2,   2149.2,2,   2286.2,2,  38.279,3,  3.2735,    422
   18HU97009_1,  AR7W,    69,  1, 187343,   OC94,2,19970526,2205, 55.6108, -53.6177, 2941,    618.4,   3.2291,  34.8377,2,  34.8370,2,    280.5,2,    297.7,2,     8.56,6,    16.09,6,     1.02,6,    4.544,2,    2.423,2,    0.185,2,    7.444,3,   2147.5,2,   2282.6,2,  39.777,2,  3.1875,    618
   18HU97009_1,  AR7W,    69,  1, 187342,   OC85,2,19970526,2205, 55.6108, -53.6177, 2941,    799.1,   3.1540,  34.8453,2,  34.8468,2,    279.9,2,    296.4,6,     9.71,6,    16.11,6,     1.03,6,    4.398,2,    2.384,2,    0.204,2,    6.714,2,   2150.4,2,   2284.7,2,  39.163,2,  3.0996,    799
   18HU97009_1,  AR7W,    69,  1, 187341,   OC86,2,19970526,2205, 55.6108, -53.6177, 2941,   1020.5,   3.0647,  34.8464,2,  34.8472,2,    278.8,2,    295.7,2,     9.10,6,    16.29,6,     1.03,6,    4.271,2,    2.248,2,    0.185,2,    6.373,2,   2151.5,2,   2282.8,2,  37.129,3,  2.9941,   1021
   18HU97009_1,  AR7W,    69,  1, 187340,   OC87,2,19970526,2205, 55.6108, -53.6177, 2941,   1260.0,   2.8992,  34.8317,2,  34.8323,2,    282.6,2,    299.7,2,     9.01,6,    16.43,6,     1.04,6,    4.378,2,    2.296,2,    0.195,2,    6.607,2,   2149.9,2,   2283.5,2,  39.289,2,  2.8114,   1260
   18HU97009_1,  AR7W,    69,  1, 187339,   OC88,2,19970526,2205, 55.6108, -53.6177, 2941,   1480.1,   2.9908,  34.8523,2,  34.8534,6,    279.3,2,    295.8,2,     9.56,6,    16.62,6,     1.06,6,    4.018,2,    2.102,2,    0.165,2,    6.023,2,   2151.3,2,   2281.4,2,  36.837,2,  2.8840,   1480
   18HU97009_1,  AR7W,    69,  1, 187338,   OC36,2,19970526,2205, 55.6108, -53.6177, 2941,   1697.8,   2.9247,  34.8480,2,  34.8486,2,    280.7,2,    297.5,2,     9.52,6,    16.84,6,     1.05,6,    3.989,2,    2.043,2,    0.136,2,    7.093,3,   2151.1,2,   2284.3,2,  37.177,2,  2.8003,   1698
   18HU97009_1,  AR7W,    69,  1, 187337,   OC84,2,19970526,2205, 55.6108, -53.6177, 2941,   1876.4,   2.9302,  34.8569,2,  34.8578,2,    278.8,2,    294.7,2,     9.78,6,    16.36,6,     1.04,6,    3.668,2,    1.897,2,    0.146,2,    6.256,2,   2151.5,2,   2284.8,2,  32.847,2,  2.7900,   1876
   18HU97009_1,  AR7W,    69,  1, 187336,   OC90,2,19970526,2205, 55.6108, -53.6177, 2941,   2118.8,   2.9592,  34.8919,2,  34.8927,2,    270.9,2,    286.1,2,    10.59,6,    16.50,6,     1.05,6,    2.870,2,    1.586,2,    0.126,2,    5.176,3,   2152.6,6,   2285.5,2,  28.011,3,  2.7965,   2119
   18HU97009_1,  AR7W,    69,  1, 187335,   OC91,2,19970526,2205, 55.6108, -53.6177, 2941,   2357.3,   2.7491,  34.9029,2,  34.9037,2,    270.2,2,    284.1,2,    11.03,6,    15.90,6,     1.03,6,    2.658,6,    1.372,6,    0.068,3,    5.152,3,   2154.0,2,   2289.5,2,  28.864,6,  2.5676,   2357
   18HU97009_1,  AR7W,    69,  1, 187334,   OC64,2,19970526,2205, 55.6108, -53.6177, 2941,   2531.7,   2.5544,  34.9048,2,  34.9055,2,    271.8,2,    284.8,2,    11.35,6,    16.03,6,     1.02,6,    2.549,2,    1.274,2,    0.068,3,    5.983,2,   2153.1,2,   2288.3,2,  25.169,2,  2.3598,   2532
   18HU97009_1,  AR7W,    69,  1, 187333,   OC92,2,19970526,2205, 55.6108, -53.6177, 2941,   2689.3,   2.2749,  34.9004,2,  34.9006,2,    276.0,2,    287.6,2,    11.42,6,    15.44,6,     0.99,6,    2.705,2,    1.372,2,    0.078,3,    6.080,2,   2153.9,2,   2288.0,2,  25.742,2,  2.0705,   2689
   18HU97009_1,  AR7W,    69,  1, 187332,   OC58,2,19970526,2205, 55.6108, -53.6177, 2941,   2800.3,   1.8834,  34.8934,2,  34.8939,2,    283.1,2,    293.8,2,    10.46,6,    15.03,6,     0.98,6,    3.278,2,    1.751,2,    0.126,2,    6.693,2,   2154.3,2,   2287.5,6,  29.857,3,  1.6764,   2800
   18HU97009_1,  AR7W,    69,  1, 187331,   OC93,2,19970526,2205, 55.6108, -53.6177, 2941,   2891.4,   1.8905,  34.8932,2,  34.8939,2,    284.5,2,    293.5,2,    10.36,6,    14.91,6,     0.96,6,    3.259,2,    1.712,2,    0.000,2,    6.907,2,   2154.6,2,   2289.0,2,  28.650,2,  1.6747,   2891
   18HU97009_1,  AR7W,    69,  1, 187330,   OC66,2,19970526,2205, 55.6108, -53.6177, 2941,   2945.8,   1.8954,  34.8932,2,  34.8927,2,    285.1,2,    293.8,2,    10.41,6,    14.95,6,     0.95,6,    3.278,2,    1.693,2,    0.000,2,    6.859,2,   2156.8,2,   2299.7,2,  28.748,2,  1.6742,   2946
   18HU97009_1,  AR7W,    70,  5, 187369,   OC52,2,19970527,0430, 55.4163, -53.8137, 2692,      9.3,   2.1567,  33.4446,2,  33.4676,2,    363.8,2,    374.0,6,     6.22,6,     2.79,6,     0.52,6,    6.040,3,    3.400,3, -999.000,5,    9.660,3,   2057.7,3,   2262.7,2, 158.300,3,  2.1562,      9
   18HU97009_1,  AR7W,    70,  5, 187368,   OC51,2,19970527,0430, 55.4163, -53.8137, 2692,     70.1,   3.6394,  34.7777,2,  34.7774,2,    283.3,2,    292.6,6,     8.40,6,    14.97,6,     0.99,6,    4.520,2,    2.500,2, -999.000,5,    7.620,2,   2143.2,2,   2284.1,2, 100.460,4,  3.6348,     70
   18HU97009_1,  AR7W,    70,  5, 187367,   OC56,2,19970527,0430, 55.4163, -53.8137, 2692,    149.9,   3.3987,  34.7876,2,  34.7872,2,    285.9,2,    295.1,6,     8.59,6,    15.39,6,     1.01,6,    4.408,2,    2.442,2,    0.409,2,    7.424,2,   2147.3,2,   2283.0,2, 100.333,4,  3.3890,    150
   18HU97009_1,  AR7W,    70,  5, 187366,   OC61,2,19970527,0430, 55.4163, -53.8137, 2692,    250.0,   3.3369,  34.8074,2,  34.8074,2,    285.6,2,    295.4,6,     8.62,6,    15.55,6,     1.01,6,    4.350,2,    2.481,2,    0.350,2,    7.492,2,   2147.1,2,   2282.4,2,  97.577,4,  3.3206,    250
   18HU97009_1,  AR7W,    70,  5, 187365,   OC82,2,19970527,0430, 55.4163, -53.8137, 2692,    369.8,   3.3270,  34.8201,2,  34.8196,2,    285.9,2,    295.3,6,     8.68,6,    15.72,6,     1.02,6,    4.340,2,    2.452,2,    0.448,2,    7.551,2,   2146.1,2,   2282.8,2,  97.595,4,  3.3026,    370
   18HU97009_1,  AR7W,    70,  5, 187364,   OC83,2,19970527,0430, 55.4163, -53.8137, 2692,    509.8,   3.3116,  34.8352,2,  34.8349,2,    285.8,2,    295.3,6,     8.59,6,    15.34,6,     1.05,6,    4.379,2,    2.481,2,    0.389,2,    7.337,2,   2148.4,2,   2285.1,2,  99.219,4,  3.2774,    510
   18HU97009_1,  AR7W,    70,  5, 187363,   OC94,2,19970527,0430, 55.4163, -53.8137, 2692,    699.3,   3.2812,  34.8468,2,  34.8471,2,    284.8,2,    294.2,6,     9.03,3,    16.01,6,     1.03,6,    4.310,2,    2.380,2, -999.000,5,    7.820,2,   2147.7,2,   2282.5,2,  98.240,4,  3.2334,    699
   18HU97009_1,  AR7W,    70,  5, 187362,   OC85,2,19970527,0430, 55.4163, -53.8137, 2692,    899.6,   3.2798,  34.8622,2,  34.8617,2,    281.5,2,    290.8,6,     9.24,6,    16.06,6,     1.06,6,    3.931,2,    2.180,2,    0.311,2,    7.074,2,   2152.1,2,   2283.6,6,  85.731,4,  3.2169,    900
   18HU97009_1,  AR7W,    70,  5, 187361,   OC86,2,19970527,0430, 55.4163, -53.8137, 2692,   1100.5,   3.1744,  34.8677,2,  34.8673,6,    281.2,2,    290.2,6,     9.44,6,    16.28,6,     1.08,6,    3.756,2,    2.092,2,    0.282,2,    6.976,2,   2152.5,2,   2282.2,2,  82.334,4,  3.0967,   1101
   18HU97009_1,  AR7W,    70,  5, 187360,   OC87,2,19970527,0430, 55.4163, -53.8137, 2692,   1299.5,   3.0712,  34.8645,2,  34.8648,2,    283.6,2,    292.4,6,     9.51,6,    16.66,6,     1.07,6,    3.726,2,    2.131,2,    0.302,2,    7.249,2,   2151.7,6,   2284.7,2, 101.666,3,  2.9784,   1300
   18HU97009_1,  AR7W,    70,  5, 187359,   OC88,2,19970527,0430, 55.4163, -53.8137, 2692,   1494.6,   2.9893,  34.8589,2,  34.8578,2,    285.5,2,    293.7,6,     9.63,6,    16.58,6,     1.06,6,    3.656,6,    1.974,6,    0.282,2,    6.108,3,   2150.5,2,   2285.2,2,  36.650,3,  2.8813,   1495
   18HU97009_1,  AR7W,    70,  5, 187358,   OC36,2,19970527,0430, 55.4163, -53.8137, 2692,   1649.8,   2.9794,  34.8702,2,  34.8698,2,    282.5,2,    291.4,6,     9.87,6,    16.48,6,     1.07,6,    3.386,2,    1.771,2,    0.321,2,    6.616,2,   2151.5,2,   2288.2,2,  71.464,4,  2.8583,   1650
   18HU97009_1,  AR7W,    70,  5, 187357,   OC84,2,19970527,0430, 55.4163, -53.8137, 2692,   1809.1,   2.9052,  34.8932,2,  34.8937,2,    277.8,2,    285.5,6,    10.60,6,    16.13,6,     1.06,6,    2.753,2,    1.450,2,    0.165,3,    5.692,2,   2151.9,2,   2285.4,2,  59.281,4,  2.7712,   1809
   18HU97009_1,  AR7W,    70,  5, 187356,   OC90,2,19970527,0430, 55.4163, -53.8137, 2692,   1984.3,   2.8337,  34.8989,2,  34.8989,2,    277.3,2,    284.5,6,    10.68,6,    15.86,6,     1.04,6,    2.646,2,    1.284,2,    0.224,2,    5.565,2,   2152.0,2,   2287.9,2,  61.197,4,  2.6852,   1984
   18HU97009_1,  AR7W,    70,  5, 187355,   OC91,2,19970527,0430, 55.4163, -53.8137, 2692,   2170.8,   2.6287,  34.9053,2,  34.9054,2,    277.6,2,    283.4,6,    11.17,6,    15.71,6,     1.02,6,    2.432,2,    1.206,2,    0.175,3,    5.604,2,   2152.8,2,   -999.0,4,  53.159,4,  2.4665,   2171
   18HU97009_1,  AR7W,    70,  5, 187354,   OC64,2,19970527,0430, 55.4163, -53.8137, 2692,   2289.3,   2.5292,  34.9047,2,  34.9038,2,    278.9,2,    284.4,6,    11.18,6,    15.88,6,     1.03,6,    2.461,2,    1.236,2,    0.350,2,    5.604,2,   2153.0,2,   2290.3,2,  55.095,4,  2.3578,   2289
   18HU97009_1,  AR7W,    70,  5, 187353,   OC92,2,19970527,0430, 55.4163, -53.8137, 2692,   2409.9,   2.4627,  34.9042,2,  34.9034,2,    280.7,2,    284.9,6,    11.31,6,    15.65,6,     1.01,6,    2.510,2,    1.284,2,    0.263,2,    5.254,3,   2153.7,2,   2286.2,2,  60.037,4,  2.2813,   2410
   18HU97009_1,  AR7W,    70,  5, 187352,   OC58,2,19970527,0430, 55.4163, -53.8137, 2692,   2509.8,   2.4140,  34.9032,2,  34.9026,2,    282.0,2,    284.9,6,    11.14,6,    15.51,6,     1.02,6,    2.500,2,    1.216,2,    0.272,2,    5.536,2,   2154.5,2,   2282.7,2,  27.338,3,  2.2241,   2510
   18HU97009_1,  AR7W,    70,  5, 187351,   OC93,2,19970527,0430, 55.4163, -53.8137, 2692,   2620.7,   2.3752,  34.9025,2,  34.9021,2,    283.3,2,    285.7,6,    11.17,6,    15.76,6,     1.01,6,    2.650,2,    1.430,2, -999.000,5,    5.850,2,   2154.6,2,   2297.4,2,  71.630,4,  2.1755,   2621
   18HU97009_1,  AR7W,    70,  5, 187350,   OC66,2,19970527,0430, 55.4163, -53.8137, 2692,   2704.9,   2.1681,  34.8983,2,  34.8976,2,    287.1,2,    288.0,6,    11.08,6,    15.08,6,     1.01,6,    2.743,2,    1.391,2,    0.272,2,    5.857,2,   2154.9,2,   2288.6,2,  64.686,4,  1.9644,   2705
   18HU97009_1,  AR7W,    71,  3, 187386,   OC61,2,19970527,0816, 55.2602, -53.9688, 2073,      9.2,   2.5361,  33.8016,2,  33.8087,2,    352.9,2,    361.9,2,     5.27,6,     3.24,6,     0.49,6,    5.833,3,    3.009,3,    0.380,3,    8.715,2,   2064.2,3,   2253.1,2,  56.847,3,  2.5356,      9
   18HU97009_1,  AR7W,    71,  3, 187385,   OC82,2,19970527,0816, 55.2602, -53.9688, 2073,     67.5,   3.4393,  34.7201,2,  34.7223,2,    293.1,2,    300.4,2,     8.52,6,    14.93,6,     0.98,6,    4.632,2,    2.452,2,    0.311,2,    7.999,2,   2137.9,2,   2277.8,2,  41.221,4,  3.4349,     68
   18HU97009_1,  AR7W,    71,  3, 187384,   OC83,2,19970527,0816, 55.2602, -53.9688, 2073,    149.7,   3.4507,  34.7772,2,  34.7779,2,    288.8,2,    295.6,2,     8.56,6,    15.82,6,     0.99,6,    4.466,2,    2.433,2,    0.302,2,    7.940,2,   2144.2,2,   2277.8,2,  39.235,2,  3.4409,    150
   18HU97009_1,  AR7W,    71,  3, 187383,   OC94,2,19970527,0816, 55.2602, -53.9688, 2073,    249.4,   3.3252,  34.8060,2,  34.8063,2,    289.7,2,    296.5,2,     8.63,6,    15.95,6,     1.03,6,    4.408,2,    2.355,2,    0.292,2,    7.561,2,   2145.6,2,   2279.5,2,  38.591,2,  3.3090,    249
   18HU97009_1,  AR7W,    71,  3, 187382,   OC85,2,19970527,0816, 55.2602, -53.9688, 2073,    370.7,   3.2870,  34.8218,2,  34.8254,2,    290.5,2,    297.3,2,     8.65,6,    16.24,6,     1.01,6,    4.437,2,    2.287,2,    0.292,2,    7.736,2,   2147.9,2,   2279.6,2,  39.388,2,  3.2626,    371
   18HU97009_1,  AR7W,    71,  3, 187381,   OC86,2,19970527,0816, 55.2602, -53.9688, 2073,    531.4,   3.3211,  34.8368,2,  34.8366,2,    289.5,2,    295.4,2,     8.46,6,    16.04,6,     1.02,6,    4.359,2,    2.364,2,    0.243,3,    7.823,2,   2146.6,2,   2282.2,2,  38.862,2,  3.2853,    531
   18HU97009_1,  AR7W,    71,  3, 187380,   OC87,2,19970527,0816, 55.2602, -53.9688, 2073,    670.9,   3.2475,  34.8426,2,  34.8427,2,    291.4,2,    297.1,2,     8.62,6,    16.03,6,     1.02,6,    4.340,2,    2.277,2,    0.282,2,    7.327,2,   2147.2,2,   2278.8,2,  37.305,2,  3.2020,    671
   18HU97009_1,  AR7W,    71,  3, 187379,   OC88,2,19970527,0816, 55.2602, -53.9688, 2073,    848.2,   3.2065,  34.8487,2,  34.8486,2,    289.9,2,    295.7,2,     8.97,6,    16.53,6,     1.02,6,    4.262,2,    2.267,2,    0.272,2,    7.317,2,   2149.4,2,   2286.3,2,  37.966,2,  3.1481,    848
   18HU97009_1,  AR7W,    71,  3, 187378,   OC36,2,19970527,0816, 55.2602, -53.9688, 2073,   1001.7,   3.1057,  34.8494,2,  34.8505,2,    289.6,2,    295.1,2,     9.14,6,    16.62,6,     1.04,6,    4.106,2,    2.209,2,    0.263,2,    7.395,2,   2149.4,2,   2280.2,6,  36.740,2,  3.0362,   1002
   18HU97009_1,  AR7W,    71,  3, 187377,   OC84,2,19970527,0816, 55.2602, -53.9688, 2073,   1201.1,   3.0756,  34.8574,2,  34.8580,2,    288.5,2,    293.5,2,     9.54,6,    16.89,6,     1.07,6,    3.892,2,    2.082,2,    0.243,2,    6.568,2,   2150.9,2,   2283.1,2,  34.550,2,  2.9907,   1201
   18HU97009_1,  AR7W,    71,  3, 187376,   OC90,2,19970527,0816, 55.2602, -53.9688, 2073,   1350.5,   3.0283,  34.8592,2,  34.8594,2,    289.8,2,    294.6,6,     9.59,6,    16.86,6,     1.08,6,    3.795,2,    1.956,2,    0.224,2,    6.830,2,   2150.4,2,   2734.8,4,  34.433,2,  2.9318,   1351
   18HU97009_1,  AR7W,    71,  3, 187375,   OC91,2,19970527,0816, 55.2602, -53.9688, 2073,   1530.2,   2.9470,  34.8545,2,  34.8550,2,    291.5,2,    295.8,2,     9.57,6,    16.60,6,     1.06,6,    3.785,2,    1.897,2,    0.214,2,    6.782,2,   2150.2,2,   -999.0,5,  35.328,2,  2.8365,   1530
   18HU97009_1,  AR7W,    71,  3, 187374,   OC64,2,19970527,0816, 55.2602, -53.9688, 2073,   1667.7,   2.9362,  34.8592,2,  34.8633,2,    290.5,2,    294.1,2,     9.70,6,    16.46,6,     1.05,6,    3.627,6,    1.803,6,    0.175,6,    6.852,6,   2150.8,2,   2280.7,2,  33.139,6,  2.8142,   1668
   18HU97009_1,  AR7W,    71,  3, 187373,   OC92,2,19970527,0816, 55.2602, -53.9688, 2073,   1798.3,   2.9408,  34.8843,2,  34.8829,6,    285.0,2,    288.2,2,    10.38,6,    16.56,6,     1.05,6,    3.036,2,    1.547,2,    0.156,2,    5.984,3,   2150.4,2,   2285.3,2,  28.011,2,  2.8073,   1798
   18HU97009_1,  AR7W,    71,  3, 187372,   OC58,2,19970527,0816, 55.2602, -53.9688, 2073,   1901.7,   2.7967,  34.8977,2,  34.8977,2,    283.6,2,    285.3,2,    10.73,6,    15.98,6,     1.05,6,    2.714,2,    1.352,2,    0.136,2,    6.197,2,   2151.8,2,   2284.4,2,  25.763,2,  2.6561,   1902
   18HU97009_1,  AR7W,    71,  3, 187371,   OC93,2,19970527,0816, 55.2602, -53.9688, 2073,   1990.4,   2.7351,  34.9004,2,  34.9000,2,    284.2,2,    284.9,2,    11.05,6,    15.97,6,     1.04,6,    2.617,2,    1.275,2,    0.126,2,    6.266,2,   2151.7,2,   2287.6,2,  24.926,2,  2.5875,   1990
   18HU97009_1,  AR7W,    71,  3, 187370,   OC66,2,19970527,0816, 55.2602, -53.9688, 2073,   2058.7,   2.7048,  34.9013,2,  34.9008,2,    284.8,2,    284.9,2,    11.07,6,    16.10,6,     1.02,6,    2.607,2,    1.313,2,    0.126,2,    6.285,2,   2153.5,2,   2287.4,2,  24.148,2,  2.5515,   2059