BOTTLE,20020708WHPSIOKJU
EXPOCODE,SECT_ID,STNNBR,CASTNO,SAMPNO,BTLNBR,BTLNBR_FLAG_W,DATE,TIME,LATITUDE,LONGITUDE,DEPTH,CTDPRS,CTDTMP,CTDSAL,CTDSAL_FLAG_W,SALNTY,SALNTY_FLAG_W,CTDOXY,CTDOXY_FLAG_W,OXYGEN,OXYGEN_FLAG_W,SILCAT,SILCAT_FLAG_W,NO2+NO3,NO2+NO3_FLAG_W,PHSPHT,PHSPHT_FLAG_W,CFC-11,CFC-11_FLAG_W,CFC-12,CFC-12_FLAG_W,CFC113,CFC113_FLAG_W,CCL4,CCL4_FLAG_W,TCARBN,TCARBN_FLAG_W,ALKALI,ALKALI_FLAG_W,MCHFRM,MCHFRM_FLAG_W,THETA,CTDRAW
,,,,,,,,,,,,DBAR,ITS-90,PSS-78,,PSS-78,,UMOL/KG,,UMOL/KG,,UMOL/KG,,UMOL/KG,,UMOL/KG,,PMOL/KG,,PMOL/KG,,PMOL/KG,,PMOL/KG,,UMOL/KG,,UMOL/KG,,PMOL/KG,,DEG C,
   18HU97009_1,  AR27,    91,  1, 187706,   OC80,2,19970531,0849, 59.2920, -53.8248, 3348,     10.8,   4.0142,  34.5659,2,  34.5668,2,    339.3,2,    360.5,2,     0.84,6,     3.80,6,     0.22,6,    5.327,6,    2.858,6,    0.346,6,    7.008,6,   2069.5,3,   2284.7,2,  57.681,3,  4.0135,     11
   18HU97009_1,  AR27,    91,  1, 187705,   OC55,2,19970531,0849, 59.2920, -53.8248, 3348,     59.2,   4.3035,  34.7558,2,  34.6616,6,    336.7,2,    360.7,2,     1.78,6,     4.64,6,     0.30,6,    5.333,2,    2.871,2,    0.311,3,    6.734,2,   2074.0,3,   2296.1,2,  50.946,3,  4.2992,     59
   18HU97009_1,  AR27,    91,  1, 187704,   OC81,2,19970531,0849, 59.2920, -53.8248, 3348,    128.9,   3.6114,  34.7715,2,  34.7718,2,    303.7,2,    319.6,2,     7.93,6,    14.08,6,     0.92,6,    5.372,2,    2.861,2,    0.331,2,    6.948,2,   2138.8,2,   2289.2,2,  53.209,3,  3.6029,    129
   18HU97009_1,  AR27,    91,  1, 187703,   OC69,2,19970531,0849, 59.2920, -53.8248, 3348,    219.5,   3.3532,  34.7966,2,  34.7959,2,    295.2,2,    311.1,2,     8.15,6,    14.95,6,     1.00,6,    5.040,2,    2.608,2,    0.331,2,    6.451,2,   2145.9,2,   2285.4,2,  46.950,3,  3.3389,    220
   18HU97009_1,  AR27,    91,  1, 187702,   OC52,2,19970531,0849, 59.2920, -53.8248, 3348,    339.9,   3.1853,  34.8191,2,  34.8181,2,    289.4,2,    304.3,2,     8.21,6,    15.76,6,     1.02,6,    4.748,2,    2.491,2,    0.292,2,    6.899,2,   2147.3,2,   2288.4,2,  42.657,4,  3.1633,    340
   18HU97009_1,  AR27,    91,  1, 187701,   OC51,2,19970531,0849, 59.2920, -53.8248, 3348,    479.5,   3.2177,  34.8396,2,  34.8383,2,    286.3,2,    299.5,2,     8.50,6,    15.89,6,     1.02,6,    4.563,2,    2.462,2,    0.253,2,    6.616,2,   2150.5,2,   2292.8,2,  41.411,4,  3.1860,    480
   18HU97009_1,  AR27,    91,  1, 187700,   OC56,2,19970531,0849, 59.2920, -53.8248, 3348,    639.5,   3.1248,  34.8353,2,  34.8342,2,    287.8,2,    300.2,6,     8.72,6,    15.95,6,     1.03,6,    4.554,2,    2.423,2,    0.272,2,    6.334,2,   2151.6,2,   2297.5,2,  40.302,4,  3.0822,    640
   18HU97009_1,  AR27,    91,  1, 187699,   OC61,2,19970531,0849, 59.2920, -53.8248, 3348,    799.2,   3.0594,  34.8323,2,  34.8311,2,    288.1,2,    299.8,6,     8.79,6,    16.26,6,     1.04,6,    4.495,2,    2.394,2,    0.263,2,    6.529,2,   2151.2,6,   2294.3,2,  40.010,4,  3.0055,    799
   18HU97009_1,  AR27,    91,  1, 187698,   OC82,2,19970531,0849, 59.2920, -53.8248, 3348,    960.3,   3.0103,  34.8323,2,  34.8326,2,    287.9,2,    298.2,6,     9.00,6,    16.38,6,     1.04,6,    4.417,2,    2.364,2,    0.243,2,    6.042,2,   2151.6,2,   2292.4,2,  40.097,4,  2.9448,    960
   18HU97009_1,  AR27,    91,  1, 187697,   OC83,2,19970531,0849, 59.2920, -53.8248, 3348,   1139.5,   2.9588,  34.8314,2,  34.8301,2,    289.5,2,    298.8,6,     9.07,6,    16.21,6,     1.04,6,    4.310,2,    2.335,2,    0.224,2,    6.013,2,   2150.0,2,   2292.5,2,  38.054,2,  2.8799,   1140
   18HU97009_1,  AR27,    91,  1, 187696,   OC94,2,19970531,0849, 59.2920, -53.8248, 3348,   1318.5,   2.9231,  34.8308,2,  34.8295,2,    289.7,2,    298.8,6,     9.20,6,    16.41,6,     1.04,6,    4.330,2,    2.267,2,    0.243,2,    6.023,2,   2153.2,2,   -999.0,4,  38.803,2,  2.8304,   1319
   18HU97009_1,  AR27,    91,  1, 187695,   OC85,2,19970531,0849, 59.2920, -53.8248, 3348,   1510.0,   3.0070,  34.8489,2,  34.8478,2,    287.3,2,    295.5,6,     9.40,6,    16.80,6,     1.05,6,    4.038,2,    2.160,2,    0.204,2,    5.585,2,   2152.2,2,   2288.5,2,  37.090,2,  2.8975,   1510
   18HU97009_1,  AR27,    91,  1, 187694,   OC86,2,19970531,0849, 59.2920, -53.8248, 3348,   1698.7,   2.9578,  34.8476,2,  34.8460,2,    288.6,2,    295.8,6,     9.61,6,    16.39,6,     1.06,6,    3.911,2,    2.043,2,    0.214,2,    5.205,2,   2151.9,2,   2289.5,2,  34.015,3,  2.8329,   1699
   18HU97009_1,  AR27,    91,  1, 187693,   OC87,2,19970531,0849, 59.2920, -53.8248, 3348,   1888.8,   2.9117,  34.8432,2,  34.8431,2,    290.6,2,    297.0,6,     9.58,6,    16.58,6,     1.04,6,    3.989,2,    2.063,2,    0.185,2,    5.196,2,   2152.0,2,   2290.2,6,  35.971,2,  2.7708,   1889
   18HU97009_1,  AR27,    91,  1, 187692,   OC88,2,19970531,0849, 59.2920, -53.8248, 3348,   2080.2,   2.9066,  34.8448,2,  34.8440,2,    290.7,2,    296.6,6,     9.59,6,    16.53,6,     1.05,6,    3.902,2,    2.034,2,    0.195,2,    5.390,2,   2150.6,2,   2287.8,2,  36.272,2,  2.7485,   2080
   18HU97009_1,  AR27,    91,  1, 187691,   OC36,2,19970531,0849, 59.2920, -53.8248, 3348,   2270.2,   3.0216,  34.8728,2,  34.8715,2,    283.2,2,    289.2,6,    10.19,6,    16.23,6,     1.06,6,    3.172,2,    1.712,2,    0.136,2,    4.262,2,   2152.8,2,   2290.2,2,  28.488,3,  2.8437,   2270
   18HU97009_1,  AR27,    91,  1, 187690,   OC84,2,19970531,0849, 59.2920, -53.8248, 3348,   2460.1,   3.0581,  34.8997,2,  34.9004,2,    277.0,2,    282.1,6,    11.04,6,    16.24,6,     1.04,6,    2.442,2,    1.265,2,    0.000,2,    4.232,2,   2152.3,2,   2291.8,2,  23.915,2,  2.8612,   2460
   18HU97009_1,  AR27,    91,  1, 187689,   OC90,2,19970531,0849, 59.2920, -53.8248, 3348,   2629.2,   2.9287,  34.9050,2,  34.9045,2,    277.5,2,    281.8,6,    11.13,6,    16.13,6,     1.04,6,    2.393,2,    1.129,2,    0.000,2,    4.427,2,   2153.9,2,   2295.2,2,  23.973,2,  2.7175,   2629
   18HU97009_1,  AR27,    91,  1, 187688,   OC91,2,19970531,0849, 59.2920, -53.8248, 3348,   2770.0,   2.8361,  34.9110,2,  34.9112,2,    277.3,2,    280.1,6,    11.62,6,    16.30,6,     1.03,6,    2.150,2,    0.983,2,    0.000,2,    4.038,2,   2156.8,6,   2295.7,2,  20.373,2,  2.6126,   2770
   18HU97009_1,  AR27,    91,  1, 187687,   OC64,2,19970531,0849, 59.2920, -53.8248, 3348,   2919.5,   2.6809,  34.9105,2,  34.9104,2,    278.8,2,    281.1,6,    12.20,6,    15.93,6,     1.03,6,    2.150,2,    1.070,2,    0.000,2,    4.534,2,   2157.2,2,   2294.0,2,  21.267,2,  2.4454,   2920
   18HU97009_1,  AR27,    91,  1, 187686,   OC95,2,19970531,0849, 59.2920, -53.8248, 3348,   3070.2,   2.4745,  34.9068,2,  34.9069,2,    280.1,2,    281.8,6,    13.05,6,    15.86,6,     1.02,6,    2.082,2,    1.090,2,    0.000,2,    4.962,2,   2156.9,2,   2296.2,2,  22.318,2,  2.2281,   3070
   18HU97009_1,  AR27,    91,  1, 187685,   OC58,2,19970531,0849, 59.2920, -53.8248, 3348,   3199.8,   2.1586,  34.8946,2,  34.8949,2,    288.2,2,    287.9,6,    11.77,6,    15.28,6,     0.97,6,    2.656,2,    1.362,2,    0.000,2,    5.283,2,   2155.5,2,   2290.9,2,  24.185,2,  1.9061,   3200
   18HU97009_1,  AR27,    91,  1, 187684,   OC93,2,19970531,0849, 59.2920, -53.8248, 3348,   3290.9,   1.8991,  34.8879,2,  34.8880,2,    295.5,2,    293.8,6,    10.52,6,    14.65,6,     0.93,6,    3.240,2,    1.634,2,    0.165,2,    6.460,2,   2154.6,2,   2290.9,2,  30.557,3,  1.6434,   3291
   18HU97009_1,  AR27,    91,  1, 187683,   OC66,2,19970531,0849, 59.2920, -53.8248, 3348,   3364.9,   1.7226,  34.8888,2,  34.8884,2,    298.4,2,    295.0,6,    10.48,6,    14.53,6,     0.95,6,    3.522,2,    1.780,2,    0.146,2,    6.917,2,   2158.7,2,   2293.7,2,  32.181,3,  1.4636,   3365
   18HU97009_1,  AR27,    92,  4, 187730,   OC80,2,19970531,1418, 59.6940, -53.1833, 2666,      9.7,   3.2693,  34.0718,2,  34.0704,2,    343.5,2,    360.8,2,     0.00,6,     0.73,6,     0.15,6, -999.000,9, -999.000,9, -999.000,9, -999.000,9,   2024.0,3,   2231.2,3,-999.000,9,  3.2687,     10
   18HU97009_1,  AR27,    92,  4, 187729,   OC55,2,19970531,1418, 59.6940, -53.1833, 2666,     60.3,   2.8638,  34.4665,2,  34.4638,2,    295.2,2,    308.1,2,     6.27,6,    13.89,6,     0.90,6, -999.000,9, -999.000,9, -999.000,9, -999.000,9,   2131.1,2,   2275.9,2,-999.000,9,  2.8602,     60
   18HU97009_1,  AR27,    92,  4, 187728,   OC81,2,19970531,1418, 59.6940, -53.1833, 2666,    131.8,   3.8195,  34.7122,2,  34.7113,2,    287.7,2,    303.1,2,     7.45,6,    14.40,6,     0.95,6, -999.000,9, -999.000,9, -999.000,9, -999.000,9,   2137.1,2,   2287.7,2,-999.000,9,  3.8105,    132
   18HU97009_1,  AR27,    92,  4, 187727,   OC69,2,19970531,1418, 59.6940, -53.1833, 2666,    220.6,   4.0964,  34.7937,2,  34.7950,2,    285.3,2,    299.1,2,     7.75,6,    14.88,6,     0.95,6, -999.000,9, -999.000,9, -999.000,9, -999.000,9,   2143.7,2,   2294.9,2,-999.000,9,  4.0808,    221
   18HU97009_1,  AR27,    92,  4, 187726,   OC52,2,19970531,1418, 59.6940, -53.1833, 2666,    339.1,   4.1590,  34.8501,2,  34.8501,2,    283.8,2,    299.3,2,     7.99,6,    15.35,6,     0.97,6, -999.000,9, -999.000,9, -999.000,9, -999.000,9,   2141.9,2,   2296.0,2,-999.000,9,  4.1344,    339
   18HU97009_1,  AR27,    92,  4, 187725,   OC51,2,19970531,1418, 59.6940, -53.1833, 2666,    489.3,   4.0485,  34.8765,2,  34.8768,2,    281.0,2,    318.8,4,     8.51,6,    15.91,6,     1.01,6, -999.000,9, -999.000,9, -999.000,9, -999.000,9,   2146.9,2,   2297.4,2,-999.000,9,  4.0129,    489
   18HU97009_1,  AR27,    92,  4, 187724,   OC56,2,19970531,1418, 59.6940, -53.1833, 2666,    638.1,   3.4874,  34.8342,2,  34.8340,2,    286.9,2,    303.1,2,     8.55,6,    15.80,6,     1.01,6, -999.000,9, -999.000,9, -999.000,9, -999.000,9,   2146.6,2,   2294.7,2,-999.000,9,  3.4430,    638
   18HU97009_1,  AR27,    92,  4, 187723,   OC61,2,19970531,1418, 59.6940, -53.1833, 2666,    811.6,   3.3188,  34.8409,2,  34.8393,2,    286.7,2,    301.1,2,     8.64,6,    15.78,6,     1.00,6, -999.000,9, -999.000,9, -999.000,9, -999.000,9,   2147.2,2,   2294.1,2,-999.000,9,  3.2624,    812
   18HU97009_1,  AR27,    92,  4, 187722,   OC82,2,19970531,1418, 59.6940, -53.1833, 2666,    981.7,   3.1983,  34.8387,2,  34.8393,2,    286.7,2,    299.9,2,     8.79,6,    16.25,6,     1.03,6, -999.000,9, -999.000,9, -999.000,9, -999.000,9,   2149.0,2,   2293.6,2,-999.000,9,  3.1297,    982
   18HU97009_1,  AR27,    92,  4, 187721,   OC83,2,19970531,1418, 59.6940, -53.1833, 2666,   1177.4,   3.1631,  34.8462,2,  34.8472,2,    283.3,2,    295.4,2,     9.17,6,    16.35,6,     1.04,6, -999.000,9, -999.000,9, -999.000,9, -999.000,9,   2148.7,2,   2290.5,2,-999.000,9,  3.0794,   1177
   18HU97009_1,  AR27,    92,  4, 187720,   OC94,2,19970531,1418, 59.6940, -53.1833, 2666,   1347.0,   3.1128,  34.8502,2,  34.8503,2,    283.4,2,    298.0,2,     9.30,6,    16.48,6,     1.02,6, -999.000,9, -999.000,9, -999.000,9, -999.000,9,   2150.5,2,   2291.1,2,-999.000,9,  3.0157,   1347
   18HU97009_1,  AR27,    92,  4, 187719,   OC85,2,19970531,1418, 59.6940, -53.1833, 2666,   1537.9,   3.1217,  34.8613,2,  34.8611,2,    281.3,2,    292.7,2,     9.67,6,    16.88,6,     1.05,6, -999.000,9, -999.000,9, -999.000,9, -999.000,9,   2154.7,2,   2295.8,2,-999.000,9,  3.0085,   1538
   18HU97009_1,  AR27,    92,  4, 187718,   OC86,2,19970531,1418, 59.6940, -53.1833, 2666,   1725.3,   3.0528,  34.8575,2,  34.8575,6,    283.9,2,    294.8,2,     9.74,6,    16.51,6,     1.05,6, -999.000,9, -999.000,9, -999.000,9, -999.000,9,   2151.5,2,   2296.5,2,-999.000,9,  2.9243,   1725
   18HU97009_1,  AR27,    92,  4, 187717,   OC87,2,19970531,1418, 59.6940, -53.1833, 2666,   1920.2,   3.0113,  34.8559,2,  34.8564,2,    285.2,2,    295.3,2,     9.60,6,    16.51,6,     1.05,6, -999.000,9, -999.000,9, -999.000,9, -999.000,9,   2151.3,2,   2300.0,2,-999.000,9,  2.8661,   1920
   18HU97009_1,  AR27,    92,  4, 187716,   OC88,2,19970531,1418, 59.6940, -53.1833, 2666,   2110.1,   2.9787,  34.8558,2,  34.8566,2,    285.3,2,    295.3,6,     9.68,6,    16.50,6,     1.03,6, -999.000,9, -999.000,9, -999.000,9, -999.000,9,   2150.6,2,   2295.2,2,-999.000,9,  2.8166,   2110
   18HU97009_1,  AR27,    92,  4, 187715,   OC36,2,19970531,1418, 59.6940, -53.1833, 2666,   2290.3,   3.0060,  34.8675,2,  34.8676,2,    282.6,2,    291.9,2,    10.11,6,    16.53,6,     1.03,6, -999.000,9, -999.000,9, -999.000,9, -999.000,9,   2152.1,2,   2295.8,2,-999.000,9,  2.8265,   2290
   18HU97009_1,  AR27,    92,  4, 187714,   OC84,2,19970531,1418, 59.6940, -53.1833, 2666,   2469.4,   3.0521,  34.8910,2,  34.8920,2,    277.6,2,    285.3,2,    10.68,6,    16.47,6,     1.02,6, -999.000,9, -999.000,9, -999.000,9, -999.000,9,   2153.3,2,   2298.3,2,-999.000,9,  2.8544,   2469
   18HU97009_1,  AR27,    92,  4, 187713,   OC90,2,19970531,1418, 59.6940, -53.1833, 2666,   2650.0,   2.9830,  34.9000,2,  34.9000,2,    277.6,2,    284.4,2,    10.93,6,    16.29,6,     1.02,6, -999.000,9, -999.000,9, -999.000,9, -999.000,9,   2153.6,2,   2300.4,2,-999.000,9,  2.7687,   2650
   18HU97009_1,  AR27,    92,  4, 187712,   OC91,2,19970531,1418, 59.6940, -53.1833, 2666,   2830.9,   2.8588,  34.9059,2,  34.9063,2,    277.8,2,    282.8,2,    11.29,6,    15.79,6,     1.03,6, -999.000,9, -999.000,9, -999.000,9, -999.000,9,   2154.6,2,   2301.6,2,-999.000,9,  2.6287,   2831
   18HU97009_1,  AR27,    92,  4, 187711,   OC64,2,19970531,1418, 59.6940, -53.1833, 2666,   2999.4,   2.6563,  34.9070,2,  34.9071,2,    279.7,2,    283.5,2,    11.71,6,    15.77,6,     1.01,6, -999.000,9, -999.000,9, -999.000,9, -999.000,9,   2157.0,2,   2297.6,2,-999.000,9,  2.4131,   2999
   18HU97009_1,  AR27,    92,  4, 187710,   OC95,2,19970531,1418, 59.6940, -53.1833, 2666,   3162.5,   2.4089,  34.9017,2,  34.9018,2,    283.2,2,    285.7,2,    11.93,6,    15.62,6,     1.01,6, -999.000,9, -999.000,9, -999.000,9, -999.000,9,   2160.5,2,   2301.0,2,-999.000,9,  2.1545,   3163
   18HU97009_1,  AR27,    92,  4, 187709,   OC58,2,19970531,1418, 59.6940, -53.1833, 2666,   3302.7,   2.0313,  34.8936,2,  34.8945,2,    291.2,2,    292.3,2,    10.59,6,    14.99,6,     0.95,6, -999.000,9, -999.000,9, -999.000,9, -999.000,9,   -999.0,5,   2297.7,2,-999.000,9,  1.7712,   3303
   18HU97009_1,  AR27,    92,  4, 187708,   OC93,2,19970531,1418, 59.6940, -53.1833, 2666,   3390.7,   1.7467,  34.8881,2,  34.8884,2,    297.4,2,    295.9,2,    10.43,6,    14.58,6,     0.94,6, -999.000,9, -999.000,9, -999.000,9, -999.000,9,   2153.8,6,   2297.2,2,-999.000,9,  1.4845,   3391
   18HU97009_1,  AR27,    92,  4, 187707,   OC66,2,19970531,1418, 59.6940, -53.1833, 2666,   3453.3,   1.7091,  34.8886,2,  34.8896,2,    299.1,2,    295.8,2,    10.33,6,    14.63,6,     0.92,6, -999.000,9, -999.000,9, -999.000,9, -999.000,9,   2153.8,2,   2300.7,2,-999.000,9,  1.4414,   3453