BOTTLE,20020708WHPSIOKJU
EXPOCODE,SECT_ID,STNNBR,CASTNO,SAMPNO,BTLNBR,BTLNBR_FLAG_W,DATE,TIME,LATITUDE,LONGITUDE,DEPTH,CTDPRS,CTDTMP,CTDSAL,CTDSAL_FLAG_W,SALNTY,SALNTY_FLAG_W,CTDOXY,CTDOXY_FLAG_W,OXYGEN,OXYGEN_FLAG_W,SILCAT,SILCAT_FLAG_W,NO2+NO3,NO2+NO3_FLAG_W,PHSPHT,PHSPHT_FLAG_W,CFC-11,CFC-11_FLAG_W,CFC-12,CFC-12_FLAG_W,CFC113,CFC113_FLAG_W,CCL4,CCL4_FLAG_W,TCARBN,TCARBN_FLAG_W,ALKALI,ALKALI_FLAG_W,MCHFRM,MCHFRM_FLAG_W,THETA,CTDRAW
,,,,,,,,,,,,DBAR,ITS-90,PSS-78,,PSS-78,,UMOL/KG,,UMOL/KG,,UMOL/KG,,UMOL/KG,,UMOL/KG,,PMOL/KG,,PMOL/KG,,PMOL/KG,,PMOL/KG,,UMOL/KG,,UMOL/KG,,PMOL/KG,,DEG C,
   18HU97009_1,  AR7W,    51,  2, 187053,   OC80,4,19970522,2330, 59.0608, -49.9838, 3491,     10.0,   4.4389,  34.5728,2,  34.5115,2,   -999.0,5,    333.6,2,     7.19,6,    11.31,6,     0.81,6, -999.000,5, -999.000,5, -999.000,5, -999.000,5,   -999.0,5,   -999.0,5,-999.000,5,  4.4382,     10
   18HU97009_1,  AR7W,    51,  2, 187052,   OC55,2,19970522,2330, 59.0608, -49.9838, 3491,     69.0,   3.9185,  34.6627,2,  34.6629,2,    309.9,2,    319.9,2,     7.53,6,    13.13,6,     0.92,6,    5.060,2,    2.810,2, -999.000,5,    9.860,3,   2126.0,2,   2276.8,2, 442.440,4,  3.9138,     69
   18HU97009_1,  AR7W,    51,  2, 187051,   OC81,2,19970522,2330, 59.0608, -49.9838, 3491,     99.2,   3.9373,  34.6948,2,  34.6937,2,    307.5,2,    317.8,2,     7.54,6,    13.47,6,     0.93,6,    5.030,2,    2.820,2, -999.000,5,    8.670,2,   2127.6,2,   2280.3,2, 451.200,4,  3.9305,     99
   18HU97009_1,  AR7W,    51,  2, 187050,   OC69,2,19970522,2330, 59.0608, -49.9838, 3491,    149.0,   4.1744,  34.8486,2,  34.8472,2,    289.9,2,   -999.0,9,     7.91,6,    14.90,6,     1.01,6,    4.380,2,    2.450,2, -999.000,5,    7.360,2,   2141.0,2,   2290.7,2, 468.210,4,  4.1638,    149
   18HU97009_1,  AR7W,    51,  2, 187049,   OC52,2,19970522,2330, 59.0608, -49.9838, 3491,    235.8,   4.0084,  34.8590,2,  34.8588,2,    287.3,2,    297.5,2,     8.18,6,    15.08,6,     1.01,6,    4.360,2,    2.570,2, -999.000,5,    8.080,3,   2143.7,2,   -999.0,4, 349.650,4,  3.9918,    236
   18HU97009_1,  AR7W,    51,  2, 187048,   OC51,2,19970522,2330, 59.0608, -49.9838, 3491,    381.0,   3.5589,  34.8354,2,  34.8360,2,    295.3,2,    304.4,2,     8.47,6,    15.25,6,     1.01,6,    4.620,2,    2.450,2, -999.000,5,    8.710,2,   2144.7,2,   2287.0,2, 405.810,4,  3.5330,    381
   18HU97009_1,  AR7W,    51,  2, 187047,   OC56,3,19970522,2330, 59.0608, -49.9838, 3491,    531.0,   3.2854,  34.8288,2,  34.8287,2,    293.9,2,    303.1,2,     8.31,6,    15.39,6,     1.02,6,    4.470,2,    2.570,2, -999.000,5,    8.190,3,   2146.1,2,   2287.3,2, 538.410,3,  3.2498,    531
   18HU97009_1,  AR7W,    51,  2, 187046,   OC61,2,19970522,2330, 59.0608, -49.9838, 3491,    668.2,   3.1702,  34.8290,2,  34.8291,2,    293.1,2,    302.3,2,     8.36,6,    15.67,6,     1.03,6,    4.570,2,    2.440,2, -999.000,5,    8.920,3,   2144.3,2,   -999.0,5, 371.670,4,  3.1253,    668
   18HU97009_1,  AR7W,    51,  2, 187045,   OC82,2,19970522,2330, 59.0608, -49.9838, 3491,    849.7,   3.1198,  34.8307,2,  34.8307,6,    294.8,2,    304.4,2,     8.70,6,    15.85,6,     1.04,6,    4.630,2,    2.640,2, -999.000,5,    9.210,3,   2146.7,2,   2288.3,2, 399.210,4,  3.0618,    850
   18HU97009_1,  AR7W,    51,  2, 187044,   OC83,2,19970522,2330, 59.0608, -49.9838, 3491,   1009.3,   3.0731,  34.8300,2,  34.8295,2,    291.7,2,    300.9,2,     8.75,6,    15.88,6,     1.04,6,    4.120,2,    2.360,2, -999.000,5,    7.390,2,   2149.0,2,   2285.1,2, 624.570,3,  3.0033,   1009
   18HU97009_1,  AR7W,    51,  2, 187043,   OC94,2,19970522,2330, 59.0608, -49.9838, 3491,   1261.6,   3.0993,  34.8470,2,  34.8473,2,    284.7,2,    294.0,2,     9.27,6,    16.44,6,     1.08,6,    3.950,6,    2.067,6, -999.000,5,    8.003,3,   2150.8,2,   2233.0,3, 128.370,3,  3.0093,   1262
   18HU97009_1,  AR7W,    51,  2, 187042,   OC85,2,19970522,2330, 59.0608, -49.9838, 3491,   1498.7,   3.0405,  34.8489,2,  34.8487,2,    285.8,2,    295.0,6,     9.63,6,    16.34,6,     1.09,6,    3.900,2,    1.920,2, -999.000,5,    8.300,3,   2149.1,2,   2287.9,2, 303.810,3,  2.9316,   1499
   18HU97009_1,  AR7W,    51,  2, 187041,   OC86,2,19970522,2330, 59.0608, -49.9838, 3491,   1745.5,   2.9951,  34.8493,2,  34.8493,2,    287.3,2,    296.2,2,     9.57,6,    16.37,6,     1.07,6,    3.820,2,    1.920,2, -999.000,5,    7.870,3,   2149.2,2,   2284.3,2, 202.200,4,  2.8656,   1746
   18HU97009_1,  AR7W,    51,  2, 187040,   OC87,2,19970522,2330, 59.0608, -49.9838, 3491,   2015.5,   2.9254,  34.8437,2,  34.8438,2,    288.7,2,    298.2,2,     9.58,6,    16.45,6,     1.06,6,    3.620,2,    2.020,2, -999.000,5,    6.700,2,   2148.6,6,   2285.0,2, 399.500,3,  2.7729,   2016
   18HU97009_1,  AR7W,    51,  2, 187039,   OC88,2,19970522,2330, 59.0608, -49.9838, 3491,   2212.7,   2.9220,  34.8448,2,  34.8449,2,    288.6,2,    298.0,2,     9.89,6,    16.56,6,     1.06,6,    3.530,2,    1.960,2, -999.000,5,    6.630,2,   2152.7,6,   2283.1,2, 374.090,3,  2.7513,   2213
   18HU97009_1,  AR7W,    51,  2, 187038,   OC36,2,19970522,2330, 59.0608, -49.9838, 3491,   2471.2,   3.0555,  34.8859,2,  34.8858,2,    279.0,2,    287.3,2,    10.68,6,    16.32,6,     1.07,6,    2.850,2,    1.500,2, -999.000,5,    6.120,3,   2149.0,2,   2287.3,2, 161.700,4,  2.8576,   2471
   18HU97009_1,  AR7W,    51,  2, 187037,   OC84,2,19970522,2330, 59.0608, -49.9838, 3491,   2669.8,   2.9966,  34.9041,2,  34.9042,2,    274.9,2,    282.5,2,    11.42,6,    16.49,6,     1.05,6,    2.160,2,    1.080,2, -999.000,5,    4.060,2,   2154.0,6,   2289.0,2, 185.410,4,  2.7800,   2670
   18HU97009_1,  AR7W,    51,  2, 187036,   OC90,2,19970522,2330, 59.0608, -49.9838, 3491,   2848.7,   2.8561,  34.9082,2,  34.9083,2,    275.0,2,    282.0,2,    12.06,6,    16.22,6,     1.06,6,    2.000,2,    1.060,2, -999.000,5,    3.940,3,   2154.1,2,   2291.8,6, 168.120,4,  2.6242,   2849
   18HU97009_1,  AR7W,    51,  2, 187035,   OC91,2,19970522,2330, 59.0608, -49.9838, 3491,   3011.1,   2.7104,  34.9117,2,  34.9120,2,    274.3,2,    281.2,2,    12.96,6,    16.40,6,     1.04,6,    1.920,2,    0.940,2, -999.000,5,    4.500,2,   2154.6,2,   2291.1,2, 127.690,4,  2.4649,   3011
   18HU97009_1,  AR7W,    51,  2, 187034,   OC64,2,19970522,2330, 59.0608, -49.9838, 3491,   3150.9,   2.5346,  34.9047,2,  34.9053,2,    277.3,2,    283.3,2,    13.25,6,    16.44,6,     1.03,6,    1.930,2,    0.920,2, -999.000,5,    4.140,2,   2153.2,2,   2294.5,2, 195.540,4,  2.2785,   3151
   18HU97009_1,  AR7W,    51,  2, 187033,   OC92,2,19970522,2330, 59.0608, -49.9838, 3491,   3268.9,   2.3687,  34.9017,2,  34.9016,2,    280.0,2,    284.9,2,    13.90,3,    15.78,6,     1.03,6,    2.090,2,    1.090,2, -999.000,5,    4.070,2,   2154.1,2,   2294.0,2, 135.220,4,  2.1042,   3269
   18HU97009_1,  AR7W,    51,  2, 187032,   OC58,2,19970522,2330, 59.0608, -49.9838, 3491,   3370.4,   2.1718,  34.8967,2,  34.8977,2,    284.7,2,    289.1,2,    11.60,6,    15.61,6,     0.97,6,    2.690,2,    1.390,2, -999.000,5,    6.100,3,   2154.4,2,   2291.6,2, 258.460,3,  1.9013,   3370
   18HU97009_1,  AR7W,    51,  2, 187031,   OC93,2,19970522,2330, 59.0608, -49.9838, 3491,   3449.1,   1.9919,  34.8946,2,  34.8943,2,    289.2,2,    292.4,2,    10.47,6,    15.42,6,     0.97,6,    2.870,2,    1.460,2, -999.000,5,    5.810,3,   2155.2,2,   2289.9,2, 283.350,3,  1.7176,   3449
   18HU97009_1,  AR7W,    51,  2, 187030,   OC66,2,19970522,2330, 59.0608, -49.9838, 3491,   3518.7,   1.8218,  34.8948,2,  34.8951,2,    292.0,2,    294.4,2,     9.77,6,    14.82,6,     0.94,6,    2.990,2,    1.690,2, -999.000,5,    5.360,3,   2152.2,2,   2307.8,2, 807.610,3,  1.5444,   3519
   18HU97009_1,  AR7W,    52,  4, 187077,   OC80,2,19970523,0747, 58.6405, -50.4183, 3541,      9.5,   4.4312,  34.6972,2,  34.6980,2,    318.8,2,    326.7,6,     7.40,6,    12.44,6,     0.84,6,    4.905,2,    2.589,2,    0.185,3,    8.769,2,   2122.1,2,   2282.5,2, 711.845,3,  4.4306,     10
   18HU97009_1,  AR7W,    52,  4, 187076,   OC55,2,19970523,0747, 58.6405, -50.4183, 3541,     39.1,   3.9203,  34.6942,2,  34.6945,2,    314.3,2,    320.8,6,     7.52,6,    12.95,6,     0.90,6,    5.109,2,    2.725,2,    0.214,3,   10.569,3,   2128.4,2,   2283.4,2, 350.922,3,  3.9176,     39
   18HU97009_1,  AR7W,    52,  4, 187075,   OC81,2,19970523,0747, 58.6405, -50.4183, 3541,     78.3,   3.7702,  34.7192,2,  34.7192,2,    307.5,2,    314.1,6,     7.64,6,    13.87,6,     0.95,6,    5.051,2,    2.657,2,    0.292,2,    9.469,3,   2135.2,2,   2283.9,2, 579.581,3,  3.7649,     78
   18HU97009_1,  AR7W,    52,  4, 187074,   OC69,2,19970523,0747, 58.6405, -50.4183, 3541,    139.9,   3.5999,  34.8067,2,  34.8065,2,    298.2,2,    303.4,6,     7.95,6,    15.28,6,     1.01,6,    4.797,2,    2.481,2,    0.253,2,    9.721,3,   2144.1,2,   2289.4,2, 320.870,3,  3.5906,    140
   18HU97009_1,  AR7W,    52,  4, 187073,   OC52,2,19970523,0747, 58.6405, -50.4183, 3541,    239.2,   3.4111,  34.8204,2,  34.8187,2,    294.7,2,    300.5,6,     8.79,3,    15.48,6,     1.04,6,    4.590,2,    2.420,2, -999.000,5,    9.310,3,   2146.9,2,   2291.3,2, 603.750,3,  3.3954,    239
   18HU97009_1,  AR7W,    52,  4, 187072,   OC51,2,19970523,0747, 58.6405, -50.4183, 3541,    359.9,   3.3898,  34.8419,2,  34.8419,2,    290.9,2,    295.5,6,     8.40,6,    16.00,6,     1.03,6,    4.427,2,    2.326,2,    0.234,2,    9.205,3,   2147.6,2,   2288.4,2, 375.490,3,  3.3658,    360
   18HU97009_1,  AR7W,    52,  4, 187071,   OC56,2,19970523,0747, 58.6405, -50.4183, 3541,    499.3,   3.2716,  34.8408,2,  34.8399,2,    290.4,2,    295.7,6,     8.68,6,    15.84,6,     1.04,6,    4.408,2,    2.150,2,    0.214,2,    9.428,3,   2148.3,2,   2288.6,2, 226.800,3,  3.2383,    499
   18HU97009_1,  AR7W,    52,  4, 187070,   OC61,2,19970523,0747, 58.6405, -50.4183, 3541,    659.3,   3.2324,  34.8472,2,  34.8466,2,    287.3,2,    293.1,6,     8.83,6,    16.15,6,     1.05,6,    4.135,2,    2.131,2,    0.175,3,    8.066,2,   2149.2,2,   2289.9,6, 554.777,3,  3.1878,    659
   18HU97009_1,  AR7W,    52,  4, 187069,   OC82,2,19970523,0747, 58.6405, -50.4183, 3541,    840.1,   3.0962,  34.8406,2,  34.8405,2,    288.3,2,    295.5,6,     8.90,6,    16.36,6,     1.07,6,    4.233,2,    2.160,2,    0.214,2,    7.969,2,   2150.3,2,   2289.3,2, 391.893,3,  3.0391,    840
   18HU97009_1,  AR7W,    52,  4, 187068,   OC83,2,19970523,0747, 58.6405, -50.4183, 3541,   1020.8,   3.0144,  34.8379,2,  34.8383,2,    289.3,2,    296.8,6,     9.10,6,    16.39,6,     1.08,6,    4.203,2,    2.199,2,    0.214,2,    8.747,3,    161.9,3,   2292.4,2, 159.132,3,  2.9442,   1021
   18HU97009_1,  AR7W,    52,  4, 187067,   OC94,2,19970523,0747, 58.6405, -50.4183, 3541,   1251.7,   2.9550,  34.8353,2,  34.8352,2,    289.9,2,    297.6,6,     9.14,6,    16.45,6,     1.08,6,    4.096,2,    2.053,2,    0.195,2,    7.161,2,   2148.9,2,   2292.4,2, 349.895,3,  2.8673,   1252
   18HU97009_1,  AR7W,    52,  4, 187066,   OC85,2,19970523,0747, 58.6405, -50.4183, 3541,   1489.4,   2.9950,  34.8464,2,  34.8458,2,    288.0,2,    295.7,6,     9.39,6,    16.75,6,     1.09,6,    3.999,2,    1.995,2,    0.185,2,    6.918,3,   2150.5,2,   2293.3,2, 296.933,3,  2.8874,   1489
   18HU97009_1,  AR7W,    52,  4, 187065,   OC86,2,19970523,0747, 58.6405, -50.4183, 3541,   1761.1,   2.9459,  34.8455,2,  34.8450,6,    288.8,2,    296.6,6,     9.50,6,    16.56,6,     1.08,6,    3.853,2,    1.946,2,    0.175,2,    7.365,3,   2153.8,2,   2292.0,2,  91.489,3,  2.8157,   1761
   18HU97009_1,  AR7W,    52,  4, 187064,   OC87,2,19970523,0747, 58.6405, -50.4183, 3541,   2009.8,   2.9117,  34.8431,2,  34.8434,2,    290.3,2,    295.4,6,     9.38,6,    16.67,6,     1.07,6,    3.882,2,    1.956,2,    0.175,2,    6.626,2,   2148.9,2,   2289.3,2, 303.683,3,  2.7599,   2010
   18HU97009_1,  AR7W,    52,  4, 187063,   OC88,2,19970523,0747, 58.6405, -50.4183, 3541,   2260.8,   2.9779,  34.8593,2,  34.8592,2,    285.8,2,    291.1,6,     9.87,6,    16.31,6,     1.07,6,    3.503,2,    1.771,2,    0.156,3,    6.110,2,   2151.1,2,   2292.7,2, 296.899,3,  2.8017,   2261
   18HU97009_1,  AR7W,    52,  4, 187062,   OC36,2,19970523,0747, 58.6405, -50.4183, 3541,   2489.2,   3.0675,  34.8932,2,  34.8929,2,    276.9,2,    282.3,6,    10.66,6,    16.41,6,     1.07,6,    2.550,6,    1.245,6,    0.000,6,    4.540,3,   2153.3,2,   2293.3,2, 170.167,3,  2.8675,   2489
   18HU97009_1,  AR7W,    52,  4, 187061,   OC84,2,19970523,0747, 58.6405, -50.4183, 3541,   2709.6,   3.0101,  34.9083,2,  34.9085,2,    274.0,2,    279.1,6,    11.52,6,    16.31,6,     1.07,6,    2.102,2,    0.963,2,    0.000,2,    4.281,3,   2152.3,6,   2298.1,2,  16.180,3,  2.7892,   2710
   18HU97009_1,  AR7W,    52,  4, 187060,   OC90,2,19970523,0747, 58.6405, -50.4183, 3541,   2910.2,   2.8498,  34.9102,2,  34.9130,2,    275.4,2,    280.5,6,    11.64,6,    16.09,6,     1.05,6,    2.150,2,    1.051,2,    0.000,2,    4.008,3,   2153.7,2,   2297.4,2, 128.793,3,  2.6117,   2910
   18HU97009_1,  AR7W,    52,  4, 187059,   OC91,2,19970523,0747, 58.6405, -50.4183, 3541,   3057.5,   2.6926,  34.9088,2,  34.9090,2,    276.4,2,    281.3,6,    11.97,6,    15.94,6,     1.04,6,    2.230,2,    1.100,2, -999.000,5,    4.760,2,   2154.9,2,   2296.7,2, 179.830,3,  2.4426,   3058
   18HU97009_1,  AR7W,    52,  4, 187058,   OC64,2,19970523,0747, 58.6405, -50.4183, 3541,   3201.1,   2.4897,  34.9047,2,  34.9049,2,    277.8,2,    282.5,6,    12.73,6,    15.96,6,     1.05,6, -999.000,5,    0.960,2, -999.000,5, -999.000,5,   2155.0,2,   2298.1,2, 309.630,3,  2.2294,   3201
   18HU97009_1,  AR7W,    52,  4, 187057,   OC92,2,19970523,0747, 58.6405, -50.4183, 3541,   3320.1,   2.3297,  34.8987,2,  34.9006,2,    282.6,2,    285.4,6,    11.86,6,    15.40,6,     1.01,6,    2.510,2,    1.206,2,    0.000,2,    5.429,2,   2156.7,2,   -999.0,4, 131.892,3,  2.0607,   3320
   18HU97009_1,  AR7W,    52,  4, 187056,   OC58,2,19970523,0747, 58.6405, -50.4183, 3541,   3421.8,   2.0850,  34.8913,2,  34.8923,2,    288.3,2,    290.5,6,    10.99,6,    15.17,6,     0.97,6,    2.909,2,    1.440,2,    0.000,2,    6.654,2,   2156.9,2,   2293.6,2, 226.472,3,  1.8113,   3422
   18HU97009_1,  AR7W,    52,  4, 187055,   OC93,2,19970523,0747, 58.6405, -50.4183, 3541,   3500.2,   1.8697,  34.8883,2,  34.8884,2,    294.2,2,    295.2,6,     9.83,6,    14.50,6,     0.94,6,    3.090,2,    1.450,2, -999.000,5,    6.880,2,    337.2,4,   2288.7,4, 432.550,3,  1.5930,   3500
   18HU97009_1,  AR7W,    52,  4, 187054,   OC66,2,19970523,0747, 58.6405, -50.4183, 3541,   3571.4,   1.6874,  34.8884,2,  34.8884,2,    295.6,2,    296.4,6,    10.46,3,    14.47,6,     0.95,6,    3.483,2,    1.809,2,    0.136,2,    7.423,2,    250.1,4,   2297.0,4, 141.790,3,  1.4079,   3571