BOTTLE,20020708WHPSIOKJU
#code : jjward hyd_to_exchange.pl 
#original files copied from HTML directory: 20020708
#original HYD file: ar07whhy.txt   Mon Jul  8 11:33:47 2002
#original SUM file: ar07whsu.txt   Mon Jul  8 11:33:42 2002
EXPOCODE,SECT_ID,STNNBR,CASTNO,SAMPNO,BTLNBR,BTLNBR_FLAG_W,DATE,TIME,LATITUDE,LONGITUDE,DEPTH,CTDPRS,CTDTMP,CTDSAL,CTDSAL_FLAG_W,SALNTY,SALNTY_FLAG_W,CTDOXY,CTDOXY_FLAG_W,OXYGEN,OXYGEN_FLAG_W,SILCAT,SILCAT_FLAG_W,NO2+NO3,NO2+NO3_FLAG_W,PHSPHT,PHSPHT_FLAG_W,CFC-11,CFC-11_FLAG_W,CFC-12,CFC-12_FLAG_W,CFC113,CFC113_FLAG_W,CCL4,CCL4_FLAG_W,TCARBN,TCARBN_FLAG_W,ALKALI,ALKALI_FLAG_W,MCHFRM,MCHFRM_FLAG_W,THETA,CTDRAW
,,,,,,,,,,,,DBAR,ITS-90,PSS-78,,PSS-78,,UMOL/KG,,UMOL/KG,,UMOL/KG,,UMOL/KG,,UMOL/KG,,PMOL/KG,,PMOL/KG,,PMOL/KG,,PMOL/KG,,UMOL/KG,,UMOL/KG,,PMOL/KG,,DEG C,
   18HU97009_1,  AR13,     2,  2, 186009,   OC36,2,19970509,2145, 44.4033, -63.4700,   92,      3.0,   1.6930,  30.7285,2,  30.7293,2,    458.3,3,    385.3,2,     0.00,6,     0.00,6,     0.36,6, -999.000,9, -999.000,9, -999.000,9, -999.000,9,   -999.0,9,   -999.0,9,-999.000,9,  1.6929,      3
   18HU97009_1,  AR13,     2,  2, 186008,   OC84,2,19970509,2145, 44.4033, -63.4700,   92,     11.3,   1.6812,  30.7254,2,  30.7314,2,    460.5,3,    384.8,2,     0.00,6,     0.00,6,     0.36,6, -999.000,9, -999.000,9, -999.000,9, -999.000,9,   -999.0,9,   -999.0,9,-999.000,9,  1.6807,     11
   18HU97009_1,  AR13,     2,  2, 186007,   OC90,2,19970509,2145, 44.4033, -63.4700,   92,     17.5,   1.2014,  30.7872,2,  30.8322,2,    473.4,3,    390.7,6,     0.00,6,     0.00,6,     0.35,6, -999.000,9, -999.000,9, -999.000,9, -999.000,9,   -999.0,9,   -999.0,9,-999.000,9,  1.2007,     18
   18HU97009_1,  AR13,     2,  2, 186006,   OC91,2,19970509,2145, 44.4033, -63.4700,   92,     27.4,   1.2657,  31.0396,2,  31.0629,2,    463.2,3,    381.8,2,     0.00,6,     0.00,6,     0.36,6, -999.000,9, -999.000,9, -999.000,9, -999.000,9,   -999.0,9,   -999.0,9,-999.000,9,  1.2646,     27
   18HU97009_1,  AR13,     2,  2, 186005,   OC64,2,19970509,2145, 44.4033, -63.4700,   92,     36.8,   0.6733,  31.2302,2,  31.2457,2,    453.5,3,    366.0,2,     0.32,6,     0.44,6,     0.49,6, -999.000,9, -999.000,9, -999.000,9, -999.000,9,   -999.0,9,   -999.0,9,-999.000,9,  0.6721,     37
   18HU97009_1,  AR13,     2,  2, 186004,   OC92,2,19970509,2145, 44.4033, -63.4700,   92,     46.7,   0.4686,  31.4628,2,  31.4609,2,    446.2,2,    356.4,2,     1.30,6,     1.39,6,     0.61,6, -999.000,9, -999.000,9, -999.000,9, -999.000,9,   -999.0,9,   -999.0,9,-999.000,9,  0.4670,     47
   18HU97009_1,  AR13,     2,  2, 186003,   OC58,2,19970509,2145, 44.4033, -63.4700,   92,     57.4,   0.7130,  31.5648,2,  31.5698,2,    444.2,2,    350.3,2,     1.33,6,     1.51,6,     0.63,6, -999.000,9, -999.000,9, -999.000,9, -999.000,9,   -999.0,9,   -999.0,9,-999.000,9,  0.7110,     57
   18HU97009_1,  AR13,     2,  2, 186002,   OC93,2,19970509,2145, 44.4033, -63.4700,   92,     67.2,   0.8448,  31.7024,2,  31.6975,2,    430.7,2,    333.2,2,     2.53,6,     2.94,6,     0.74,6, -999.000,9, -999.000,9, -999.000,9, -999.000,9,   -999.0,9,   -999.0,9,-999.000,9,  0.8423,     67
   18HU97009_1,  AR13,     2,  2, 186001,   OC66,2,19970509,2145, 44.4033, -63.4700,   92,     75.1,   0.8664,  31.7582,2,  31.7550,2,    427.7,2,    325.9,2,     3.46,6,     3.74,6,     0.77,6, -999.000,9, -999.000,9, -999.000,9, -999.000,9,   -999.0,9,   -999.0,9,-999.000,9,  0.8636,     75
   18HU97009_1,  AR13,     3,  5, 186025,   OC82,2,19970510,0105, 44.2682, -63.3180,  158,      3.3,   1.2603,  30.6905,2,  30.6686,2,    432.6,2,    395.0,2,     0.00,6,     0.00,6,     0.40,6, -999.000,9, -999.000,9, -999.000,9, -999.000,9,   -999.0,9,   -999.0,9,-999.000,9,  1.2602,      3
   18HU97009_1,  AR13,     3,  5, 186024,   OC83,2,19970510,0105, 44.2682, -63.3180,  158,      5.9,   1.0807,  30.7281,2,  30.7418,2,    435.1,2,    392.6,2,     0.29,6,     0.00,6,     0.38,6, -999.000,9, -999.000,9, -999.000,9, -999.000,9,   -999.0,9,   -999.0,9,-999.000,9,  1.0805,      6
   18HU97009_1,  AR13,     3,  5, 186023,   OC94,2,19970510,0105, 44.2682, -63.3180,  158,     11.1,   0.8410,  30.8356,2,  30.8644,2,    442.3,2,    398.4,2,     0.00,6,     0.00,6,     0.38,6, -999.000,9, -999.000,9, -999.000,9, -999.000,9,   -999.0,9,   -999.0,9,-999.000,9,  0.8406,     11
   18HU97009_1,  AR13,     3,  5, 186022,   OC85,2,19970510,0105, 44.2682, -63.3180,  158,     20.7,   0.7616,  30.8896,2,  30.8954,2,    438.6,2,    390.5,2,     0.00,6,     0.00,6,     0.40,6, -999.000,9, -999.000,9, -999.000,9, -999.000,9,   -999.0,9,   -999.0,9,-999.000,9,  0.7609,     21
   18HU97009_1,  AR13,     3,  5, 186021,   OC86,2,19970510,0105, 44.2682, -63.3180,  158,     30.8,   0.6665,  30.9261,2,  30.9450,2,    432.7,2,    380.9,2,     0.00,6,     0.00,6,     0.43,6, -999.000,9, -999.000,9, -999.000,9, -999.000,9,   -999.0,9,   -999.0,9,-999.000,9,  0.6655,     31
   18HU97009_1,  AR13,     3,  5, 186020,   OC87,2,19970510,0105, 44.2682, -63.3180,  158,     40.6,   0.3764,  31.0805,2,  31.0945,2,    423.7,2,    368.9,2,     0.64,6,     1.07,6,     0.58,6, -999.000,9, -999.000,9, -999.000,9, -999.000,9,   -999.0,9,   -999.0,9,-999.000,9,  0.3751,     41
   18HU97009_1,  AR13,     3,  5, 186019,   OC88,2,19970510,0105, 44.2682, -63.3180,  158,     50.7,  -0.0145,  31.3663,2,  31.3842,2,    410.1,2,    358.3,2,     2.08,6,     2.54,6,     0.69,6, -999.000,9, -999.000,9, -999.000,9, -999.000,9,   -999.0,9,   -999.0,9,-999.000,9, -0.0160,     51
   18HU97009_1,  AR13,     3,  5, 186018,   OC36,2,19970510,0105, 44.2682, -63.3180,  158,     60.9,   0.3303,  31.5903,2,  31.5969,2,    404.1,2,    348.0,2,     1.85,6,     2.22,6,     0.67,6, -999.000,9, -999.000,9, -999.000,9, -999.000,9,   -999.0,9,   -999.0,9,-999.000,9,  0.3283,     61
   18HU97009_1,  AR13,     3,  5, 186017,   OC84,2,19970510,0105, 44.2682, -63.3180,  158,     70.4,   0.9051,  31.7240,2,  31.7361,2,    390.1,2,    339.2,2,     1.96,6,     2.20,6,     0.71,6, -999.000,9, -999.000,9, -999.000,9, -999.000,9,   -999.0,9,   -999.0,9,-999.000,9,  0.9024,     70
   18HU97009_1,  AR13,     3,  5, 186016,   OC90,2,19970510,0105, 44.2682, -63.3180,  158,     81.0,   0.9785,  31.8867,2,  31.9195,2,    371.7,2,    322.6,2,     4.25,6,     4.41,6,     0.78,6, -999.000,9, -999.000,9, -999.000,9, -999.000,9,   -999.0,9,   -999.0,9,-999.000,9,  0.9753,     81
   18HU97009_1,  AR13,     3,  5, 186015,   OC91,2,19970510,0105, 44.2682, -63.3180,  158,     91.0,   1.0865,  32.0350,2,  32.0191,2,    357.9,2,    310.9,2,     6.46,6,     6.35,6,     0.89,6, -999.000,9, -999.000,9, -999.000,9, -999.000,9,   -999.0,9,   -999.0,9,-999.000,9,  1.0829,     91
   18HU97009_1,  AR13,     3,  5, 186014,   OC64,2,19970510,0105, 44.2682, -63.3180,  158,    101.2,   1.5442,  32.1799,2,  32.1765,2,    345.1,2,    298.3,2,     7.12,6,     7.04,6,     0.91,6, -999.000,9, -999.000,9, -999.000,9, -999.000,9,   -999.0,9,   -999.0,9,-999.000,9,  1.5397,    101
   18HU97009_1,  AR13,     3,  5, 186013,   OC92,2,19970510,0105, 44.2682, -63.3180,  158,    109.8,   2.1005,  32.3419,2,  32.3568,2,    330.3,2,    289.0,2,     7.35,6,     7.56,6,     0.95,3, -999.000,9, -999.000,9, -999.000,9, -999.000,9,   -999.0,9,   -999.0,9,-999.000,9,  2.0951,    110
   18HU97009_1,  AR13,     3,  5, 186012,   OC58,2,19970510,0105, 44.2682, -63.3180,  158,    121.2,   3.3393,  32.6651,2,  32.6887,2,    309.1,2,    271.0,2,     7.32,6,     8.35,6,     0.90,6, -999.000,9, -999.000,9, -999.000,9, -999.000,9,   -999.0,9,   -999.0,9,-999.000,9,  3.3320,    121
   18HU97009_1,  AR13,     3,  5, 186011,   OC93,2,19970510,0105, 44.2682, -63.3180,  158,    131.3,   5.7052,  33.3094,2,  33.2732,2,    274.9,2,    243.3,6,     7.51,6,     9.20,6,     0.88,6, -999.000,9, -999.000,9, -999.000,9, -999.000,9,   -999.0,9,   -999.0,9,-999.000,9,  5.6947,    131
   18HU97009_1,  AR13,     3,  5, 186010,   OC66,2,19970510,0105, 44.2682, -63.3180,  158,    140.7,   7.7715,  34.0323,2,  33.9685,2,    233.9,2,    211.6,2,    10.51,6,    11.49,6,     0.97,6, -999.000,9, -999.000,9, -999.000,9, -999.000,9,   -999.0,9,   -999.0,9,-999.000,9,  7.7578,    141
   18HU97009_1,  AR13,     4,  4, 186046,   OC69,2,19970510,0608, 43.8852, -62.8830,  271,      3.6,   4.6312,  31.9666,2,  31.9667,2,    367.1,2,    326.1,2,     0.75,6,     0.00,6,     0.54,6, -999.000,9, -999.000,9, -999.000,9, -999.000,9,   -999.0,9,   -999.0,9,-999.000,9,  4.6309,      4
   18HU97009_1,  AR13,     4,  4, 186045,   OC52,2,19970510,0608, 43.8852, -62.8830,  271,     10.5,   4.4253,  32.0024,2,  32.0012,2,    372.3,2,    329.7,2,     0.64,6,     0.00,6,     0.45,6, -999.000,9, -999.000,9, -999.000,9, -999.000,9,   -999.0,9,   -999.0,9,-999.000,9,  4.4246,     11
   18HU97009_1,  AR13,     4,  4, 186044,   OC51,2,19970510,0608, 43.8852, -62.8830,  271,     19.5,   4.1937,  32.0068,2,  32.0072,2,    373.8,2,    330.0,2,     0.68,6,     0.00,6,     0.49,6, -999.000,9, -999.000,9, -999.000,9, -999.000,9,   -999.0,9,   -999.0,9,-999.000,9,  4.1924,     20
   18HU97009_1,  AR13,     4,  4, 186043,   OC56,2,19970510,0608, 43.8852, -62.8830,  271,     29.4,   3.8624,  32.0488,2,  32.0516,2,    373.7,2,    328.9,2,     0.81,6,     0.31,6,     0.48,6, -999.000,9, -999.000,9, -999.000,9, -999.000,9,   -999.0,9,   -999.0,9,-999.000,9,  3.8605,     29
   18HU97009_1,  AR13,     4,  4, 186042,   OC49,2,19970510,0608, 43.8852, -62.8830,  271,     39.5,   3.3000,  32.1291,2,  32.1391,2,    370.0,2,    324.7,2,     1.03,6,     0.90,6,     0.53,6, -999.000,9, -999.000,9, -999.000,9, -999.000,9,   -999.0,9,   -999.0,9,-999.000,9,  3.2977,     40
   18HU97009_1,  AR13,     4,  4, 186041,   OC82,2,19970510,0608, 43.8852, -62.8830,  271,     49.0,   3.5258,  32.3330,2,  32.3700,2,    352.0,2,    308.4,2,     2.27,6,     2.61,6,     0.67,6, -999.000,9, -999.000,9, -999.000,9, -999.000,9,   -999.0,9,   -999.0,9,-999.000,9,  3.5228,     49
   18HU97009_1,  AR13,     4,  4, 186040,   OC83,2,19970510,0608, 43.8852, -62.8830,  271,     59.3,   4.0367,  32.6606,2,  32.6676,2,    332.2,2,    291.7,2,     3.05,6,     4.13,6,     0.73,3, -999.000,9, -999.000,9, -999.000,9, -999.000,9,   -999.0,9,   -999.0,9,-999.000,9,  4.0328,     59
   18HU97009_1,  AR13,     4,  4, 186039,   OC94,2,19970510,0608, 43.8852, -62.8830,  271,     69.8,   5.8074,  33.2658,2,  33.2708,2,    278.4,2,    247.2,2,     6.03,6,     8.63,6,     1.01,3, -999.000,9, -999.000,9, -999.000,9, -999.000,9,   -999.0,9,   -999.0,9,-999.000,9,  5.8018,     70
   18HU97009_1,  AR13,     4,  4, 186038,   OC85,2,19970510,0608, 43.8852, -62.8830,  271,     79.9,   7.6831,  33.9281,2,  33.9859,2,    238.7,2,    209.3,2,     9.45,6,    11.65,6,     1.09,3, -999.000,9, -999.000,9, -999.000,9, -999.000,9,   -999.0,9,   -999.0,9,-999.000,9,  7.6754,     80
   18HU97009_1,  AR13,     4,  4, 186037,   OC86,2,19970510,0608, 43.8852, -62.8830,  271,     89.8,   8.5316,  34.2568,2,  34.2826,2,    225.9,2,    200.6,2,     9.57,6,    12.51,6,     1.00,6, -999.000,9, -999.000,9, -999.000,9, -999.000,9,   -999.0,9,   -999.0,9,-999.000,9,  8.5223,     90
   18HU97009_1,  AR13,     4,  4, 186036,   OC87,2,19970510,0608, 43.8852, -62.8830,  271,    101.4,   8.8866,  34.3866,2,  34.3982,2,    222.7,2,    197.2,2,     9.45,6,    12.78,6,     0.99,6, -999.000,9, -999.000,9, -999.000,9, -999.000,9,   -999.0,9,   -999.0,9,-999.000,9,  8.8758,    101
   18HU97009_1,  AR13,     4,  4, 186035,   OC88,2,19970510,0608, 43.8852, -62.8830,  271,    109.8,   8.8320,  34.4389,2,  34.4487,2,    214.0,2,    192.0,2,    10.14,6,    13.35,6,     1.03,6, -999.000,9, -999.000,9, -999.000,9, -999.000,9,   -999.0,9,   -999.0,9,-999.000,9,  8.8203,    110
   18HU97009_1,  AR13,     4,  4, 186034,   OC36,2,19970510,0608, 43.8852, -62.8830,  271,    118.5,   9.5405,  34.6920,2,  34.6988,2,    209.1,2,    185.1,2,     9.90,6,    14.09,6,     1.01,6, -999.000,9, -999.000,9, -999.000,9, -999.000,9,   -999.0,9,   -999.0,9,-999.000,9,  9.5273,    119
   18HU97009_1,  AR13,     4,  4, 186033,   OC84,2,19970510,0608, 43.8852, -62.8830,  271,    129.5,   9.7112,  34.7965,2,  34.7951,2,    201.2,2,    178.9,2,    10.63,6,    14.74,6,     1.07,6, -999.000,9, -999.000,9, -999.000,9, -999.000,9,   -999.0,9,   -999.0,9,-999.000,9,  9.6965,    130
   18HU97009_1,  AR13,     4,  4, 186032,   OC90,2,19970510,0608, 43.8852, -62.8830,  271,    139.9,   9.6908,  34.8264,2,-999.0000,5,    197.9,2,    175.6,2,    10.89,6,    15.61,6,     1.09,6, -999.000,9, -999.000,9, -999.000,9, -999.000,9,   -999.0,9,   -999.0,9,-999.000,9,  9.6749,    140
   18HU97009_1,  AR13,     4,  4, 186031,   OC91,2,19970510,0608, 43.8852, -62.8830,  271,    149.8,   9.7373,  34.8626,2,  34.8631,2,    194.8,2,    172.2,2,    11.33,6,    16.04,6,     1.11,6, -999.000,9, -999.000,9, -999.000,9, -999.000,9,   -999.0,9,   -999.0,9,-999.000,9,  9.7202,    150
   18HU97009_1,  AR13,     4,  4, 186030,   OC64,2,19970510,0608, 43.8852, -62.8830,  271,    159.1,   9.7957,  34.8996,2,  34.9006,2,    190.9,2,    168.9,2,    11.72,6,    16.49,6,     1.14,6, -999.000,9, -999.000,9, -999.000,9, -999.000,9,   -999.0,9,   -999.0,9,-999.000,9,  9.7776,    159
   18HU97009_1,  AR13,     4,  4, 186029,   OC92,2,19970510,0608, 43.8852, -62.8830,  271,    180.0,   9.7225,  34.9092,2,  34.9083,2,    190.8,2,    168.8,2,    11.48,6,    16.80,6,     1.14,6, -999.000,9, -999.000,9, -999.000,9, -999.000,9,   -999.0,9,   -999.0,9,-999.000,9,  9.7020,    180
   18HU97009_1,  AR13,     4,  4, 186028,   OC58,2,19970510,0608, 43.8852, -62.8830,  271,    197.3,   9.5881,  34.9163,2,  34.9189,2,    186.9,2,    165.7,6,    12.31,6,    17.00,6,     1.17,6, -999.000,9, -999.000,9, -999.000,9, -999.000,9,   -999.0,9,   -999.0,9,-999.000,9,  9.5658,    197
   18HU97009_1,  AR13,     4,  4, 186027,   OC93,2,19970510,0608, 43.8852, -62.8830,  271,    224.3,   9.5603,  34.9642,2,  31.0705,2,    182.4,2,    161.1,2,    13.94,6,    17.98,6,     1.23,6, -999.000,9, -999.000,9, -999.000,9, -999.000,9,   -999.0,9,   -999.0,9,-999.000,9,  9.5350,    224
   18HU97009_1,  AR13,     4,  4, 186026,   OC66,2,19970510,0608, 43.8852, -62.8830,  271,    256.9,   9.4820,  34.9878,2,  34.9875,2,    177.4,2,    156.1,2,    16.55,6,    18.81,6,     1.26,6, -999.000,9, -999.000,9, -999.000,9, -999.000,9,   -999.0,9,   -999.0,9,-999.000,9,  9.4531,    257
   18HU97009_1,  AR13,     5,  3, 186054,   OC84,2,19970510,1006, 43.4842, -62.4625,   89,      3.6,   4.1016,  31.9145,2,  31.9171,2,    358.0,2,    333.4,2,     0.80,3,     0.18,3,     0.47,3, -999.000,9, -999.000,9, -999.000,9, -999.000,9,   -999.0,9,   -999.0,9,-999.000,9,  4.1014,      4
   18HU97009_1,  AR13,     5,  3, 186053,   OC90,2,19970510,1006, 43.4842, -62.4625,   89,     10.2,   4.0946,  31.9146,2,  31.9156,2,    357.4,2,    333.6,2,     0.79,3,     0.15,3,     0.46,3, -999.000,9, -999.000,9, -999.000,9, -999.000,9,   -999.0,9,   -999.0,9,-999.000,9,  4.0940,     10
   18HU97009_1,  AR13,     5,  3, 186052,   OC91,2,19970510,1006, 43.4842, -62.4625,   89,     20.1,   4.0816,  31.9149,2,  31.9189,2,    356.0,2,    333.1,6,     0.82,3,     0.17,3,     0.45,3, -999.000,9, -999.000,9, -999.000,9, -999.000,9,   -999.0,9,   -999.0,9,-999.000,9,  4.0803,     20
   18HU97009_1,  AR13,     5,  3, 186051,   OC64,2,19970510,1006, 43.4842, -62.4625,   89,     30.2,   3.7216,  32.0712,2,  32.0896,2,    349.9,2,    327.9,2,     1.15,3,     0.68,3,     0.49,3, -999.000,9, -999.000,9, -999.000,9, -999.000,9,   -999.0,9,   -999.0,9,-999.000,9,  3.7197,     30
   18HU97009_1,  AR13,     5,  3, 186050,   OC92,2,19970510,1006, 43.4842, -62.4625,   89,     41.6,   3.6068,  32.3513,2,  32.3390,6,    335.2,2,    314.4,2,     1.95,3,     2.05,3,     0.57,3, -999.000,9, -999.000,9, -999.000,9, -999.000,9,   -999.0,9,   -999.0,9,-999.000,9,  3.6043,     42
   18HU97009_1,  AR13,     5,  3, 186049,   OC58,2,19970510,1006, 43.4842, -62.4625,   89,     51.4,   4.5408,  32.7367,2,  32.8090,2,    311.8,2,    308.7,2,     3.74,3,     4.12,3,     0.64,3, -999.000,9, -999.000,9, -999.000,9, -999.000,9,   -999.0,9,   -999.0,9,-999.000,9,  4.5372,     51
   18HU97009_1,  AR13,     5,  3, 186048,   OC93,2,19970510,1006, 43.4842, -62.4625,   89,     61.5,   6.7318,  33.5523,2,  33.5700,2,    254.7,2,    238.4,6,     7.68,6,     9.03,6,     0.86,6, -999.000,9, -999.000,9, -999.000,9, -999.000,9,   -999.0,9,   -999.0,9,-999.000,9,  6.7263,     62
   18HU97009_1,  AR13,     5,  3, 186047,   OC66,2,19970510,1006, 43.4842, -62.4625,   89,     71.2,   6.8567,  33.5968,2,  33.5933,2,    252.6,2,    237.8,2,     7.85,6,     8.90,6,     0.85,6, -999.000,9, -999.000,9, -999.000,9, -999.000,9,   -999.0,9,   -999.0,9,-999.000,9,  6.8503,     71
   18HU97009_1,  AR13,     6,  2, 186064,   OC88,2,19970510,1259, 43.1880, -62.1063,  106,      3.3,   4.6058,  32.3574,2,  32.3576,2,    335.0,2,    332.0,2,     0.55,3,    -0.10,3,     0.39,3, -999.000,9, -999.000,9, -999.000,9, -999.000,9,   -999.0,9,   -999.0,9,-999.000,9,  4.6056,      3
   18HU97009_1,  AR13,     6,  2, 186063,   OC36,2,19970510,1259, 43.1880, -62.1063,  106,     10.9,   4.6064,  32.3611,2,  32.3626,2,    334.0,2,    333.1,2,     0.59,3,    -0.09,3,     0.39,3, -999.000,9, -999.000,9, -999.000,9, -999.000,9,   -999.0,9,   -999.0,9,-999.000,9,  4.6056,     11
   18HU97009_1,  AR13,     6,  2, 186062,   OC84,2,19970510,1259, 43.1880, -62.1063,  106,     21.2,   4.6077,  32.3606,2,  32.3612,2,    332.2,2,    333.6,2,     0.60,3,    -0.08,3,     0.40,3, -999.000,9, -999.000,9, -999.000,9, -999.000,9,   -999.0,9,   -999.0,9,-999.000,9,  4.6062,     21
   18HU97009_1,  AR13,     6,  2, 186061,   OC90,2,19970510,1259, 43.1880, -62.1063,  106,     31.0,   4.5700,  32.3675,2,  32.3628,2,    331.1,2,    333.1,2,     0.60,3,    -0.07,3,     0.40,3, -999.000,9, -999.000,9, -999.000,9, -999.000,9,   -999.0,9,   -999.0,9,-999.000,9,  4.5679,     31
   18HU97009_1,  AR13,     6,  2, 186060,   OC91,2,19970510,1259, 43.1880, -62.1063,  106,     41.2,   3.7404,  32.4085,2,  32.4100,2,    322.8,2,    326.3,2,     0.74,3,     0.38,3,     0.46,3, -999.000,9, -999.000,9, -999.000,9, -999.000,9,   -999.0,9,   -999.0,9,-999.000,9,  3.7378,     41
   18HU97009_1,  AR13,     6,  2, 186059,   OC64,2,19970510,1259, 43.1880, -62.1063,  106,     50.9,   4.2658,  32.7445,2,  32.7238,2,    298.9,2,    305.4,2,     1.83,3,     2.23,3,     0.57,3, -999.000,9, -999.000,9, -999.000,9, -999.000,9,   -999.0,9,   -999.0,9,-999.000,9,  4.2623,     51
   18HU97009_1,  AR13,     6,  2, 186058,   OC92,2,19970510,1259, 43.1880, -62.1063,  106,     60.5,   6.9738,  33.7229,2,  33.7251,2,    240.1,2,    245.2,2,     7.09,3,     7.92,3,     0.78,3, -999.000,9, -999.000,9, -999.000,9, -999.000,9,   -999.0,9,   -999.0,9,-999.000,9,  6.9683,     61
   18HU97009_1,  AR13,     6,  2, 186057,   OC58,2,19970510,1259, 43.1880, -62.1063,  106,     70.6,   8.3043,  34.1761,2,  34.1782,2,    215.0,2,    220.3,2,     9.77,3,    10.10,3,     0.87,3, -999.000,9, -999.000,9, -999.000,9, -999.000,9,   -999.0,9,   -999.0,9,-999.000,9,  8.2971,     71
   18HU97009_1,  AR13,     6,  2, 186056,   OC93,2,19970510,1259, 43.1880, -62.1063,  106,     81.4,   8.3375,  34.1869,2,  34.1876,2,    214.9,2,    220.5,6,     9.96,3,    10.28,3,     0.84,3, -999.000,9, -999.000,9, -999.000,9, -999.000,9,   -999.0,9,   -999.0,9,-999.000,9,  8.3292,     81
   18HU97009_1,  AR13,     6,  2, 186055,   OC66,2,19970510,1259, 43.1880, -62.1063,  106,     88.9,   8.3447,  34.1894,2,  34.1878,2,    216.1,2,    219.0,2,     9.64,3,    10.34,3,     0.85,3, -999.000,9, -999.000,9, -999.000,9, -999.000,9,   -999.0,9,   -999.0,9,-999.000,9,  8.3356,     89