BOTTLE,20020708WHPSIOKJU
EXPOCODE,SECT_ID,STNNBR,CASTNO,SAMPNO,BTLNBR,BTLNBR_FLAG_W,DATE,TIME,LATITUDE,LONGITUDE,DEPTH,CTDPRS,CTDTMP,CTDSAL,CTDSAL_FLAG_W,SALNTY,SALNTY_FLAG_W,CTDOXY,CTDOXY_FLAG_W,OXYGEN,OXYGEN_FLAG_W,SILCAT,SILCAT_FLAG_W,NO2+NO3,NO2+NO3_FLAG_W,PHSPHT,PHSPHT_FLAG_W,CFC-11,CFC-11_FLAG_W,CFC-12,CFC-12_FLAG_W,CFC113,CFC113_FLAG_W,CCL4,CCL4_FLAG_W,TCARBN,TCARBN_FLAG_W,ALKALI,ALKALI_FLAG_W,MCHFRM,MCHFRM_FLAG_W,THETA,CTDRAW
,,,,,,,,,,,,DBAR,ITS-90,PSS-78,,PSS-78,,UMOL/KG,,UMOL/KG,,UMOL/KG,,UMOL/KG,,UMOL/KG,,PMOL/KG,,PMOL/KG,,PMOL/KG,,PMOL/KG,,UMOL/KG,,UMOL/KG,,PMOL/KG,,DEG C,
   18HU97009_1,  AR27,    95,  3, 187802,   OC80,2,19970601,0626, 60.7768, -51.1698, 3097,     13.9,   2.4157,  33.9709,2,  33.9692,2,    358.0,2,    372.5,2,     1.32,6,  -999.00,5,     0.31,3, -999.000,9, -999.000,9, -999.000,9, -999.000,9,   -999.0,9,   -999.0,9,-999.000,9,  2.4150,     14
   18HU97009_1,  AR27,    95,  3, 187801,   OC55,2,19970601,0626, 60.7768, -51.1698, 3097,     58.9,   4.2572,  34.7651,2,  34.7677,2,    298.1,2,    313.5,2,     7.49,6,    13.57,6,     0.99,3, -999.000,9, -999.000,9, -999.000,9, -999.000,9,   -999.0,9,   -999.0,9,-999.000,9,  4.2530,     59
   18HU97009_1,  AR27,    95,  3, 187800,   OC81,2,19970601,0626, 60.7768, -51.1698, 3097,    132.8,   4.4295,  34.8543,2,  34.8550,2,    288.3,2,    302.8,2,     8.01,6,    15.13,6,     1.06,3, -999.000,9, -999.000,9, -999.000,9, -999.000,9,   -999.0,9,   -999.0,9,-999.000,9,  4.4198,    133
   18HU97009_1,  AR27,    95,  3, 187799,   OC69,2,19970601,0626, 60.7768, -51.1698, 3097,    218.7,   4.2349,  34.8655,2,  34.8656,2,    285.1,2,    299.0,2,     8.24,6,    15.61,6,     1.10,3, -999.000,9, -999.000,9, -999.000,9, -999.000,9,   -999.0,9,   -999.0,9,-999.000,9,  4.2191,    219
   18HU97009_1,  AR27,    95,  3, 187798,   OC52,2,19970601,0626, 60.7768, -51.1698, 3097,    340.7,   3.9098,  34.8548,2,  34.8556,2,    286.5,2,    299.7,2,     8.46,6,    16.13,6,     1.11,3, -999.000,9, -999.000,9, -999.000,9, -999.000,9,   -999.0,9,   -999.0,9,-999.000,9,  3.8857,    341
   18HU97009_1,  AR27,    95,  3, 187797,   OC51,2,19970601,0626, 60.7768, -51.1698, 3097,    478.2,   3.8063,  34.8782,2,  34.8786,2,    278.7,2,    290.8,2,     9.29,6,    16.61,6,     1.15,3, -999.000,9, -999.000,9, -999.000,9, -999.000,9,   -999.0,9,   -999.0,9,-999.000,9,  3.7724,    478
   18HU97009_1,  AR27,    95,  3, 187796,   OC56,2,19970601,0626, 60.7768, -51.1698, 3097,    619.7,   3.6256,  34.8742,2,  34.8766,2,    279.0,2,    290.2,2,     9.26,6,    16.60,6,     1.15,3, -999.000,9, -999.000,9, -999.000,9, -999.000,9,   -999.0,9,   -999.0,9,-999.000,9,  3.5820,    620
   18HU97009_1,  AR27,    95,  3, 187795,   OC61,2,19970601,0626, 60.7768, -51.1698, 3097,    759.9,   3.4898,  34.8727,2,  34.8745,2,    280.0,2,    291.0,2,     9.47,6,    16.88,6,     1.17,3, -999.000,9, -999.000,9, -999.000,9, -999.000,9,   -999.0,9,   -999.0,9,-999.000,9,  3.4362,    760
   18HU97009_1,  AR27,    95,  3, 187794,   OC82,2,19970601,0626, 60.7768, -51.1698, 3097,    900.2,   3.3318,  34.8643,2,  34.8645,2,    281.9,2,    292.7,2,     9.49,6,    16.98,6,     1.18,3, -999.000,9, -999.000,9, -999.000,9, -999.000,9,   -999.0,9,   -999.0,9,-999.000,9,  3.2685,    900
   18HU97009_1,  AR27,    95,  3, 187793,   OC83,2,19970601,0626, 60.7768, -51.1698, 3097,   1050.8,   3.3545,  34.8811,2,  34.8802,2,    276.6,2,    286.1,2,     9.86,6,    17.28,6,     1.19,3, -999.000,9, -999.000,9, -999.000,9, -999.000,9,   -999.0,9,   -999.0,9,-999.000,9,  3.2792,   1051
   18HU97009_1,  AR27,    95,  3, 187792,   OC94,2,19970601,0626, 60.7768, -51.1698, 3097,   1180.4,   3.2606,  34.8798,2,  34.8798,2,    278.2,2,    287.5,2,     9.97,6,    17.10,6,     1.20,3, -999.000,9, -999.000,9, -999.000,9, -999.000,9,   -999.0,9,   -999.0,9,-999.000,9,  3.1757,   1180
   18HU97009_1,  AR27,    95,  3, 187791,   OC85,2,19970601,0626, 60.7768, -51.1698, 3097,   1320.2,   3.1430,  34.8710,2,  34.8702,2,    281.8,2,    291.2,2,    10.00,6,    17.36,6,     1.19,3, -999.000,9, -999.000,9, -999.000,9, -999.000,9,   -999.0,9,   -999.0,9,-999.000,9,  3.0478,   1320
   18HU97009_1,  AR27,    95,  3, 187790,   OC86,2,19970601,0626, 60.7768, -51.1698, 3097,   1450.1,   3.0787,  34.8664,2,  34.8662,2,    283.8,2,    292.6,2,    10.15,6,    17.22,6,     1.19,3, -999.000,9, -999.000,9, -999.000,9, -999.000,9,   -999.0,9,   -999.0,9,-999.000,9,  2.9734,   1450
   18HU97009_1,  AR27,    95,  3, 187789,   OC87,2,19970601,0626, 60.7768, -51.1698, 3097,   1608.9,   3.0092,  34.8611,2,  34.8601,2,    286.4,2,    294.4,2,     9.93,6,    17.00,6,     1.19,3, -999.000,9, -999.000,9, -999.000,9, -999.000,9,   -999.0,9,   -999.0,9,-999.000,9,  2.8913,   1609
   18HU97009_1,  AR27,    95,  3, 187788,   OC88,2,19970601,0626, 60.7768, -51.1698, 3097,   1752.9,   2.9372,  34.8540,2,  34.8535,2,    287.6,2,    295.8,2,     9.95,6,    17.08,6,     1.19,3, -999.000,9, -999.000,9, -999.000,9, -999.000,9,   -999.0,9,   -999.0,9,-999.000,9,  2.8078,   1753
   18HU97009_1,  AR27,    95,  3, 187787,   OC36,2,19970601,0626, 60.7768, -51.1698, 3097,   1930.5,   2.9902,  34.8708,2,  34.8700,2,    284.2,2,    291.7,2,    10.11,6,    17.13,6,     1.21,3, -999.000,9, -999.000,9, -999.000,9, -999.000,9,   -999.0,9,   -999.0,9,-999.000,9,  2.8443,   1931
   18HU97009_1,  AR27,    95,  3, 187786,   OC84,2,19970601,0626, 60.7768, -51.1698, 3097,   2091.0,   3.0026,  34.8881,2,  34.8882,2,    280.3,2,    287.0,2,    10.62,6,    16.94,6,     1.18,3, -999.000,9, -999.000,9, -999.000,9, -999.000,9,   -999.0,9,   -999.0,9,-999.000,9,  2.8418,   2091
   18HU97009_1,  AR27,    95,  3, 187785,   OC90,4,19970601,0626, 60.7768, -51.1698, 3097,   2259.0,   2.9175,  34.8994,2,  34.8990,2,    278.2,2,    284.2,2,    10.88,6,    16.63,6,     1.16,3, -999.000,9, -999.000,9, -999.000,9, -999.000,9,   -999.0,9,   -999.0,9,-999.000,9,  2.7424,   2259
   18HU97009_1,  AR27,    95,  3, 187784,   OC91,2,19970601,0626, 60.7768, -51.1698, 3097,   2419.2,   2.8234,  34.9059,2,  34.9053,2,    278.1,2,    283.2,2,    11.40,6,    16.45,6,     1.16,3, -999.000,9, -999.000,9, -999.000,9, -999.000,9,   -999.0,9,   -999.0,9,-999.000,9,  2.6347,   2419
   18HU97009_1,  AR27,    95,  3, 187783,   OC64,2,19970601,0626, 60.7768, -51.1698, 3097,   2559.5,   2.7140,  34.9080,2,  34.9083,2,    277.7,2,    282.5,2,    11.91,6,    16.61,6,     1.16,3, -999.000,9, -999.000,9, -999.000,9, -999.000,9,   -999.0,9,   -999.0,9,-999.000,9,  2.5137,   2560
   18HU97009_1,  AR27,    95,  3, 187782,   OC95,2,19970601,0626, 60.7768, -51.1698, 3097,   2729.5,   2.4789,  34.9039,2,  34.9035,2,    281.5,2,    284.5,2,    12.24,6,    16.10,6,     1.15,3, -999.000,9, -999.000,9, -999.000,9, -999.000,9,   2151.3,2,   -999.0,5,-999.000,9,  2.2666,   2730
   18HU97009_1,  AR27,    95,  3, 187781,   OC58,2,19970601,0626, 60.7768, -51.1698, 3097,   2891.1,   2.1573,  34.8953,2,  34.8945,2,    287.8,2,    289.1,2,    11.92,6,    15.65,6,     1.12,3, -999.000,9, -999.000,9, -999.000,9, -999.000,9,   -999.0,9,   -999.0,9,-999.000,9,  1.9358,   2891
   18HU97009_1,  AR27,    95,  3, 187780,   OC93,2,19970601,0626, 60.7768, -51.1698, 3097,   3011.4,   1.8220,  34.8906,2,  34.8900,2,    295.7,2,    295.0,6,    10.36,6,    15.20,6,     1.08,3, -999.000,9, -999.000,9, -999.000,9, -999.000,9,   -999.0,9,   -999.0,9,-999.000,9,  1.5959,   3011
   18HU97009_1,  AR27,    95,  3, 187779,   OC66,2,19970601,0626, 60.7768, -51.1698, 3097,   3113.8,   1.6805,  34.8897,2,  34.8892,6,    298.9,2,    296.7,2,    10.31,6,    14.76,6,     1.15,3, -999.000,9, -999.000,9, -999.000,9, -999.000,9,   -999.0,9,   -999.0,9,-999.000,9,  1.4476,   3114
   18HU97009_1,  AR27,    96,  3, 187825,   OC55,2,19970601,1103, 61.0202, -50.7365, 3016,      8.3,   2.6865,  34.0656,2,  34.0713,2,    347.8,2,    367.0,2,     3.00,6,     3.05,6,     0.39,3,    5.403,2,    2.950,2,    0.448,3,    5.744,2,   2048.8,2,   -999.0,5,  82.830,3,  2.6860,      8
   18HU97009_1,  AR27,    96,  3, 187826,   OC80,2,19970601,1103, 61.0202, -50.7365, 3016,      8.4,   2.7058,  34.0698,2,-999.0000,9,    348.1,2,   -999.0,9,  -999.00,9,  -999.00,9,  -999.00,9, -999.000,9, -999.000,9, -999.000,9, -999.000,9,   -999.0,9,   -999.0,9,-999.000,9,  2.7053,      8
   18HU97009_1,  AR27,    96,  3, 187824,   OC81,2,19970601,1103, 61.0202, -50.7365, 3016,     61.6,   4.0431,  34.6994,2,  34.7049,2,    304.4,2,    322.9,2,     7.12,6,    12.16,6,     0.90,3,    4.905,2,    2.647,2,    0.331,3,    5.323,2,   2123.3,2,   -999.0,5,  77.350,3,  4.0389,     62
   18HU97009_1,  AR27,    96,  3, 187823,   OC69,2,19970601,1103, 61.0202, -50.7365, 3016,    131.7,   4.0483,  34.7957,2,  34.7959,2,    290.6,2,    313.1,6,     7.95,6,    15.18,6,     1.04,3,    4.720,2,    2.530,2,    0.282,2,    5.167,2,   2139.9,2,   -999.0,5,  78.765,3,  4.0391,    132
   18HU97009_1,  AR27,    96,  3, 187822,   OC52,2,19970601,1103, 61.0202, -50.7365, 3016,    220.3,   4.1376,  34.8621,2,  34.8639,2,    282.0,2,    299.1,6,     8.32,6,    15.78,6,     1.08,3,    4.272,2,    2.404,2,    0.253,2,    4.856,2,   2144.5,2,   -999.0,5,  66.247,4,  4.1219,    220
   18HU97009_1,  AR27,    96,  3, 187821,   OC51,2,19970601,1103, 61.0202, -50.7365, 3016,    337.9,   3.7658,  34.8542,2,  34.8544,2,    282.8,2,    299.3,6,     8.61,6,    16.25,6,     1.08,3,    4.388,2,    2.442,2,    0.282,2,    5.109,2,   2147.3,2,   -999.0,5,  65.905,4,  3.7424,    338
   18HU97009_1,  AR27,    96,  3, 187820,   OC56,2,19970601,1103, 61.0202, -50.7365, 3016,    469.6,   3.6730,  34.8742,2,  34.8747,2,    276.7,2,    294.8,6,     9.12,6,    16.74,6,     1.13,3,    3.989,2,    2.228,2,    0.282,3,    4.622,2,   2151.7,2,   -999.0,5,  68.481,4,  3.6403,    470
   18HU97009_1,  AR27,    96,  3, 187819,   OC61,2,19970601,1103, 61.0202, -50.7365, 3016,    599.7,   3.4510,  34.8681,2,  34.8684,2,    280.5,2,    295.1,6,     9.21,6,    17.03,6,     1.17,3,    4.019,2,    2.150,2,    0.185,3,    5.060,2,   2152.7,2,   -999.0,5,  58.011,3,  3.4096,    600
   18HU97009_1,  AR27,    96,  3, 187818,   OC82,2,19970601,1103, 61.0202, -50.7365, 3016,    757.0,   3.1462,  34.8395,2,  34.8391,6,    287.1,2,    299.7,6,     8.93,6,    16.78,6,     1.13,3,    4.359,2,    2.218,2,    0.292,2,    5.566,2,   2149.0,2,   -999.0,5,  72.323,4,  3.0950,    757
   18HU97009_1,  AR27,    96,  3, 187817,   OC83,2,19970601,1103, 61.0202, -50.7365, 3016,    878.6,   3.0367,  34.8292,2,  34.8297,2,    287.4,2,    299.1,6,     9.03,6,    16.61,6,     1.13,3,    4.417,2,    2.384,2,    0.282,3,    5.060,2,   2152.8,2,   -999.0,5,  66.864,4,  2.9771,    879
   18HU97009_1,  AR27,    96,  3, 187816,   OC94,2,19970601,1103, 61.0202, -50.7365, 3016,   1038.7,   3.0229,  34.8381,2,  34.8385,2,    284.1,2,    294.9,6,     9.35,6,    17.20,6,     1.15,3,    4.048,2,    2.189,2,    0.185,3,    5.235,2,   2148.8,2,   -999.0,5,  60.121,4,  2.9513,   1039
   18HU97009_1,  AR27,    96,  3, 187815,   OC85,2,19970601,1103, 61.0202, -50.7365, 3016,   1200.0,   2.9891,  34.8431,2,  34.8438,2,    284.1,2,    295.1,6,     9.61,6,    17.27,6,     1.15,3,    3.989,6,    2.095,6,    0.204,2,    4.943,6,   2153.9,2,   -999.0,5,  35.134,3,  2.9051,   1200
   18HU97009_1,  AR27,    96,  3, 187814,   OC86,2,19970601,1103, 61.0202, -50.7365, 3016,   1360.5,   3.0050,  34.8521,2,  34.8529,2,    284.2,2,    293.8,6,     9.82,6,    17.07,6,     1.16,3,    3.795,2,    1.888,2,    0.185,2,    4.865,2,   2152.3,2,   -999.0,5,  57.649,4,  2.9079,   1361
   18HU97009_1,  AR27,    96,  3, 187813,   OC87,2,19970601,1103, 61.0202, -50.7365, 3016,   1540.5,   2.9392,  34.8478,2,  34.8486,2,    286.9,2,    295.5,6,     9.80,6,    17.22,6,     1.16,3,    3.756,2,    1.888,2,    0.146,2,    5.244,2,   2152.1,2,   -999.0,5,  54.389,4,  2.8280,   1541
   18HU97009_1,  AR27,    96,  3, 187812,   OC88,2,19970601,1103, 61.0202, -50.7365, 3016,   1739.7,   2.8876,  34.8437,2,  34.8436,2,    288.2,2,    296.8,6,     9.62,6,    16.95,6,     1.15,3,    3.756,2,    1.946,2,    0.175,2,    4.982,2,   2152.4,2,   -999.0,5,  52.005,4,  2.7601,   1740
   18HU97009_1,  AR27,    96,  3, 187811,   OC36,2,19970601,1103, 61.0202, -50.7365, 3016,   1939.3,   2.9524,  34.8614,2,  34.8603,2,    283.7,2,    291.9,6,    10.05,6,    17.00,6,     1.16,3,    3.444,2,    1.781,2,    0.136,2,    4.631,2,   2152.0,2,   -999.0,5,  53.522,4,  2.8063,   1939
   18HU97009_1,  AR27,    96,  3, 187810,   OC84,2,19970601,1103, 61.0202, -50.7365, 3016,   2098.7,   3.0242,  34.8894,2,  34.8902,2,    277.1,2,    284.7,6,    10.86,6,    17.08,6,     1.15,3,    2.627,2,    1.323,2,    0.000,2,    3.863,3,   2152.5,2,   -999.0,5,  34.899,2,  2.8623,   2099
   18HU97009_1,  AR27,    96,  3, 187809,   OC90,4,19970601,1103, 61.0202, -50.7365, 3016,   2259.2,   2.9553,  34.9007,2,-999.0000,9,    275.8,2,   -999.0,9,  -999.00,9,  -999.00,9,  -999.00,9, -999.000,9, -999.000,9, -999.000,9, -999.000,9,   -999.0,9,   -999.0,9,-999.000,9,  2.7795,   2259
   18HU97009_1,  AR27,    96,  3, 187808,   OC91,2,19970601,1103, 61.0202, -50.7365, 3016,   2427.7,   2.8497,  34.9053,2,  34.9086,2,    276.5,2,    281.8,6,    11.27,6,    16.79,6,     1.13,3,    2.413,2,    1.216,2,    0.000,2,    3.464,3,   2150.9,2,   -999.0,5,  35.434,2,  2.6597,   2428
   18HU97009_1,  AR27,    96,  3, 187807,   OC64,2,19970601,1103, 61.0202, -50.7365, 3016,   2610.0,   2.7054,  34.9048,2,  34.9053,2,    278.6,2,    282.7,6,    11.12,6,    16.27,6,     1.11,3,    2.510,2,    1.255,2,    0.185,3,    3.687,3,   2153.8,6,   -999.0,5,  33.633,3,  2.5003,   2610
   18HU97009_1,  AR27,    96,  3, 187806,   OC95,2,19970601,1103, 61.0202, -50.7365, 3016,   2738.5,   2.4303,  34.9053,2,  34.9051,2,    280.5,2,    282.5,6,    12.65,6,    16.37,6,     1.12,3,    2.199,2,    1.080,2,    0.088,3,    3.376,3,   2154.4,2,   -999.0,5,  30.315,3,  2.2181,   2739
   18HU97009_1,  AR27,    96,  3, 187805,   OC58,2,19970601,1103, 61.0202, -50.7365, 3016,   2858.7,   2.2005,  34.9001,2,  34.9000,2,    285.2,2,    286.1,6,    11.93,6,    16.19,6,     1.10,3,    2.598,2,    1.401,2,    0.000,2,    4.125,2,   2154.8,2,   -999.0,5,  39.070,2,  1.9812,   2859
   18HU97009_1,  AR27,    96,  3, 187804,   OC93,2,19970601,1103, 61.0202, -50.7365, 3016,   2968.6,   2.0046,  34.8967,2,  34.8971,2,    290.9,2,    289.6,6,    10.57,6,    15.50,6,     1.07,3,    2.987,2,    1.566,2,    0.136,2,    4.485,2,   2153.8,2,   -999.0,5,  42.270,4,  1.7788,   2969
   18HU97009_1,  AR27,    96,  3, 187803,   OC66,2,19970601,1103, 61.0202, -50.7365, 3016,   3032.7,   1.9901,  34.8964,2,  34.8963,2,    291.7,2,    290.7,6,    10.63,6,    15.29,6,     1.06,3,    2.996,2,    1.566,2,    0.000,2,    4.514,2,   2153.2,2,   -999.0,5,  39.488,2,  1.7583,   3033