BOTTLE,20020708WHPSIOKJU
EXPOCODE,SECT_ID,STNNBR,CASTNO,SAMPNO,BTLNBR,BTLNBR_FLAG_W,DATE,TIME,LATITUDE,LONGITUDE,DEPTH,CTDPRS,CTDTMP,CTDSAL,CTDSAL_FLAG_W,SALNTY,SALNTY_FLAG_W,CTDOXY,CTDOXY_FLAG_W,OXYGEN,OXYGEN_FLAG_W,SILCAT,SILCAT_FLAG_W,NO2+NO3,NO2+NO3_FLAG_W,PHSPHT,PHSPHT_FLAG_W,CFC-11,CFC-11_FLAG_W,CFC-12,CFC-12_FLAG_W,CFC113,CFC113_FLAG_W,CCL4,CCL4_FLAG_W,TCARBN,TCARBN_FLAG_W,ALKALI,ALKALI_FLAG_W,MCHFRM,MCHFRM_FLAG_W,THETA,CTDRAW
,,,,,,,,,,,,DBAR,ITS-90,PSS-78,,PSS-78,,UMOL/KG,,UMOL/KG,,UMOL/KG,,UMOL/KG,,UMOL/KG,,PMOL/KG,,PMOL/KG,,PMOL/KG,,PMOL/KG,,UMOL/KG,,UMOL/KG,,PMOL/KG,,DEG C,
   18HU97009_1,  AR27,    97,  2, 187847,   OC69,2,19970601,1717, 61.2112, -50.3627, 2894,     10.1,  -0.8036,  32.9787,2,  34.9342,2,    385.5,2,    388.2,2,     1.29,6,     1.19,6,     0.35,3,    6.829,3,    3.546,3,    0.321,2,   11.622,3,   2031.5,2,   -999.0,5,  68.894,3, -0.8039,     10
   18HU97009_1,  AR27,    97,  2, 187848,   OC81,2,19970601,1717, 61.2112, -50.3627, 2894,     10.2,  -0.8104,  32.9790,2,-999.0000,9,    386.0,2,   -999.0,9,  -999.00,9,  -999.00,9,  -999.00,9, -999.000,9, -999.000,9, -999.000,9, -999.000,9,   -999.0,9,   -999.0,9,-999.000,9, -0.8107,     10
   18HU97009_1,  AR27,    97,  2, 187850,   OC80,2,19970601,1717, 61.2112, -50.3627, 2894,     10.3,  -0.8263,  32.9792,2,-999.0000,9,    387.0,2,   -999.0,9,  -999.00,9,  -999.00,9,  -999.00,9, -999.000,9, -999.000,9, -999.000,9, -999.000,9,   -999.0,9,   -999.0,9,-999.000,9, -0.8266,     10
   18HU97009_1,  AR27,    97,  2, 187849,   OC55,2,19970601,1717, 61.2112, -50.3627, 2894,     10.6,  -0.8111,  32.9789,2,-999.0000,9,    386.6,2,   -999.0,9,  -999.00,9,  -999.00,9,  -999.00,9, -999.000,9, -999.000,9, -999.000,9, -999.000,9,   -999.0,9,   -999.0,9,-999.000,9, -0.8114,     11
   18HU97009_1,  AR27,    97,  2, 187846,   OC52,2,19970601,1717, 61.2112, -50.3627, 2894,     50.7,  -0.8918,  33.0182,2,  34.9745,2,    376.6,2,    379.6,2,     1.73,6,     2.47,6,     0.38,3,    6.780,3,    3.517,3,    0.341,2,   12.206,3,   2040.4,2,   -999.0,5,  66.963,3, -0.8930,     51
   18HU97009_1,  AR27,    97,  2, 187845,   OC51,2,19970601,1717, 61.2112, -50.3627, 2894,    141.9,   3.9717,  34.6081,2,  34.5485,2,    303.4,2,    319.2,2,     6.10,6,    10.83,6,     0.86,3,    4.925,2,    2.540,2,    0.234,2,    7.222,2,   2117.2,2,   -999.0,5,  44.624,4,  3.9619,    142
   18HU97009_1,  AR27,    97,  2, 187844,   OC56,2,19970601,1717, 61.2112, -50.3627, 2894,    221.6,   4.9822,  34.8933,2,  34.8868,2,    294.2,2,    309.6,2,     7.37,6,    12.40,6,     0.93,3,    4.729,2,    2.637,2,    0.234,2,    6.199,2,   2132.3,2,   -999.0,5,  45.738,4,  4.9649,    222
   18HU97009_1,  AR27,    97,  2, 187843,   OC61,2,19970601,1717, 61.2112, -50.3627, 2894,    340.1,   4.9591,  34.9232,2,  34.9222,2,    285.6,2,    301.1,2,     7.76,6,    13.76,6,     1.00,3,    4.457,2,    2.472,2,    0.224,2,    5.839,2,   2140.8,2,   -999.0,5,  41.893,4,  4.9323,    340
   18HU97009_1,  AR27,    97,  2, 187842,   OC82,2,19970601,1717, 61.2112, -50.3627, 2894,    497.8,   4.4814,  34.8979,2,  34.8961,2,    280.6,2,    293.9,2,     8.16,6,    15.44,6,     1.07,3,    4.359,2,    2.442,2,    0.175,2,    5.975,2,   2146.6,2,   -999.0,5,  39.254,2,  4.4435,    498
   18HU97009_1,  AR27,    97,  2, 187841,   OC83,2,19970601,1717, 61.2112, -50.3627, 2894,    659.0,   4.3130,  34.9087,2,  34.9092,2,    274.7,2,    287.3,2,     8.67,6,    15.68,6,     1.10,3,    4.155,2,    2.306,2,    0.185,2,    6.247,2,   2149.3,2,   -999.0,5,  39.059,2,  4.2627,    659
   18HU97009_1,  AR27,    97,  2, 187840,   OC94,2,19970601,1717, 61.2112, -50.3627, 2894,    820.8,   3.9744,  34.8870,2,  34.8643,2,    278.3,2,    289.6,2,     8.81,6,    16.13,6,     1.12,3,    4.262,2,    2.296,2,    0.156,2,    5.974,2,   2150.9,2,   -999.0,5,  36.966,2,  3.9131,    821
   18HU97009_1,  AR27,    97,  2, 187839,   OC85,2,19970601,1717, 61.2112, -50.3627, 2894,    982.6,   3.5565,  34.8639,2,  34.8643,2,    285.3,2,    296.1,2,     9.01,6,    15.91,6,     1.12,3,    4.349,2,    2.316,2,    0.165,2,    5.712,2,   2149.7,2,   -999.0,5,  37.831,2,  3.4851,    983
   18HU97009_1,  AR27,    97,  2, 187838,   OC86,2,19970601,1717, 61.2112, -50.3627, 2894,   1138.7,   3.2674,  34.8461,2,  34.8480,2,    287.2,2,    296.9,2,     9.00,6,    16.17,6,     1.12,3,    4.359,2,    2.384,2,    0.204,3,    6.655,3,   2154.2,2,   -999.0,5,  42.549,4,  3.1858,   1139
   18HU97009_1,  AR27,    97,  2, 187837,   OC87,2,19970601,1717, 61.2112, -50.3627, 2894,   1320.4,   3.2764,  34.8666,2,  34.8670,2,    280.2,2,    289.8,2,     9.44,6,    16.57,6,     1.14,3,    3.980,2,    2.043,2,    0.136,2,    5.060,2,   2154.8,2,   -999.0,5,  34.123,2,  3.1799,   1320
   18HU97009_1,  AR27,    97,  2, 187836,   OC88,2,19970601,1717, 61.2112, -50.3627, 2894,   1499.5,   3.2004,  34.8694,2,  34.8700,2,    281.2,2,    289.9,2,     9.75,6,    16.95,6,     1.15,3,    3.853,2,    1.926,2,    0.156,2,    5.128,2,   2154.0,2,   -999.0,5,  34.687,2,  3.0896,   1500
   18HU97009_1,  AR27,    97,  2, 187835,   OC36,2,19970601,1717, 61.2112, -50.3627, 2894,   1700.0,   3.0404,  34.8622,2,  34.8619,2,    285.5,2,    293.6,2,     9.80,6,    16.60,6,     1.14,3,    3.743,6,    1.904,6,    0.161,3,    5.043,6,   2152.0,2,   -999.0,5,  34.312,6,  2.9142,   1700
   18HU97009_1,  AR27,    97,  2, 187834,   OC84,2,19970601,1717, 61.2112, -50.3627, 2894,   1879.5,   2.9318,  34.8521,2,  34.8521,2,    289.1,2,    295.8,2,     9.72,6,    16.60,6,     1.14,3,    3.892,2,    1.965,2,    0.146,2,    5.059,2,   2151.3,2,   -999.0,5,  36.350,3,  2.7914,   1880
   18HU97009_1,  AR27,    97,  2, 187833,   OC90,2,19970601,1717, 61.2112, -50.3627, 2894,   2057.4,   3.0113,  34.8773,2,  34.8776,2,    282.0,2,    289.5,2,     9.97,6,    16.79,6,     1.14,3,    3.240,2,    1.664,2,    0.000,2,    4.797,2,   2149.9,2,   -999.0,5,  29.412,2,  2.8535,   2057
   18HU97009_1,  AR27,    97,  2, 187832,   OC91,2,19970601,1717, 61.2112, -50.3627, 2894,   2240.0,   2.9672,  34.8858,2,  34.8859,2,    280.8,2,    287.4,2,    10.07,6,    16.20,6,     1.12,3,    3.113,2,    1.528,2,    0.000,2,    4.349,3,   2151.8,2,   -999.0,5,  27.670,2,  2.7931,   2240
   18HU97009_1,  AR27,    97,  2, 187831,   OC64,2,19970601,1717, 61.2112, -50.3627, 2894,   2420.1,   2.9313,  34.9023,2,  34.9022,2,    277.1,2,    283.1,2,    11.02,6,    16.82,6,     1.15,3,    2.549,2,    1.304,2,    0.000,2,    4.670,2,   2152.4,2,   -999.0,5,  24.761,2,  2.7405,   2420
   18HU97009_1,  AR27,    97,  2, 187830,   OC95,2,19970601,1717, 61.2112, -50.3627, 2894,   2599.8,   2.6781,  34.8998,2,  34.9005,6,    280.8,2,    285.6,2,    11.07,6,    16.15,6,     1.11,3,    2.841,2,    1.440,2,    0.000,2,    5.244,2,   2155.3,2,   -999.0,5,  26.881,2,  2.4745,   2600
   18HU97009_1,  AR27,    97,  2, 187829,   OC58,2,19970601,1717, 61.2112, -50.3627, 2894,   2749.6,   2.2387,  34.9003,2,  34.9000,2,    285.7,2,    288.5,2,    11.08,6,    15.22,6,     1.07,3,    2.996,2,    1.479,2,    0.000,2,    5.399,3,   2152.5,6,   -999.0,5,  26.316,2,  2.0292,   2750
   18HU97009_1,  AR27,    97,  2, 187828,   OC93,2,19970601,1717, 61.2112, -50.3627, 2894,   2847.5,   2.0766,  34.8987,2,  34.8961,2,    290.4,2,    290.3,6,    10.67,6,    14.79,6,     1.05,3,    3.045,2,    1.469,2,    0.000,2,    6.392,2,   2156.3,2,   -999.0,5,  27.522,2,  1.8610,   2848
   18HU97009_1,  AR27,    97,  2, 187827,   OC66,2,19970601,1717, 61.2112, -50.3627, 2894,   2913.9,   1.8511,  34.8938,2,  34.8941,2,    294.5,2,   -999.0,9,    10.29,6,    14.62,6,     1.04,3,    3.327,2,    1.605,2,    0.000,2,    6.790,2,   2155.2,2,   -999.0,5,  29.224,3,  1.6338,   2914
   18HU97009_1,  AR27,    98,  2, 187873,   OC55,2,19970601,2034, 61.2767, -50.2232, 1450,      6.2,  -0.8933,  33.0076,2,-999.0000,9,    374.7,2,   -999.0,9,  -999.00,9,  -999.00,9,  -999.00,9, -999.000,9, -999.000,9, -999.000,9, -999.000,9,   -999.0,9,   -999.0,9,-999.000,9, -0.8934,      6
   18HU97009_1,  AR27,    98,  2, 187872,   OC81,2,19970601,2034, 61.2767, -50.2232, 1450,      6.3,  -0.8936,  33.0076,2,  33.0093,2,    374.9,2,    385.1,2,     1.68,6,     2.05,3,     0.35,3,    6.449,3,    3.410,3,    0.283,3,    9.615,3,   2041.3,6,   -999.0,5,  67.840,3, -0.8937,      6
   18HU97009_1,  AR27,    98,  2, 187874,   OC80,2,19970601,2034, 61.2767, -50.2232, 1450,      6.5,  -0.8907,  33.0076,2,-999.0000,9,    374.9,2,   -999.0,9,  -999.00,9,  -999.00,9,  -999.00,9, -999.000,9, -999.000,9, -999.000,9, -999.000,9,   -999.0,9,   -999.0,9,-999.000,9, -0.8908,      7
   18HU97009_1,  AR27,    98,  2, 187871,   OC69,2,19970601,2034, 61.2767, -50.2232, 1450,     20.6,  -0.9107,  33.0080,2,-999.0000,9,    374.5,2,   -999.0,9,  -999.00,9,  -999.00,9,  -999.00,9, -999.000,9, -999.000,9, -999.000,9, -999.000,9,   -999.0,9,   -999.0,9,-999.000,9, -0.9112,     21
   18HU97009_1,  AR27,    98,  2, 187870,   OC52,2,19970601,2034, 61.2767, -50.2232, 1450,     30.7,  -0.9134,  33.0082,2,-999.0000,9,    374.9,2,   -999.0,9,  -999.00,9,  -999.00,9,  -999.00,9, -999.000,9, -999.000,9, -999.000,9, -999.000,9,   -999.0,9,   -999.0,9,-999.000,9, -0.9141,     31
   18HU97009_1,  AR27,    98,  2, 187869,   OC51,2,19970601,2034, 61.2767, -50.2232, 1450,     40.9,  -0.9160,  33.0084,2,-999.0000,9,    376.1,2,   -999.0,9,  -999.00,9,  -999.00,9,  -999.00,9, -999.000,9, -999.000,9, -999.000,9, -999.000,9,   -999.0,9,   -999.0,9,-999.000,9, -0.9170,     41
   18HU97009_1,  AR27,    98,  2, 187868,   OC56,2,19970601,2034, 61.2767, -50.2232, 1450,     49.5,  -0.9079,  33.0079,2,-999.0000,9,    377.5,2,   -999.0,9,  -999.00,9,  -999.00,9,  -999.00,9, -999.000,9, -999.000,9, -999.000,9, -999.000,9,   -999.0,9,   -999.0,9,-999.000,9, -0.9091,     50
   18HU97009_1,  AR27,    98,  2, 187867,   OC61,2,19970601,2034, 61.2767, -50.2232, 1450,     59.3,  -0.9172,  33.0084,2,  33.0079,9,    378.1,2,    382.7,2,     1.75,9,     2.64,9,     0.36,9,    6.468,3,    3.390,3,    0.263,3,    9.703,3,   -999.0,9,   -999.0,9,  66.281,3, -0.9186,     59
   18HU97009_1,  AR27,    98,  2, 187866,   OC82,2,19970601,2034, 61.2767, -50.2232, 1450,     70.5,  -0.9159,  33.0082,2,-999.0000,9,    379.0,2,   -999.0,9,  -999.00,9,  -999.00,9,  -999.00,9, -999.000,9, -999.000,9, -999.000,9, -999.000,9,   -999.0,9,   -999.0,9,-999.000,9, -0.9176,     71
   18HU97009_1,  AR27,    98,  2, 187865,   OC83,2,19970601,2034, 61.2767, -50.2232, 1450,     79.5,  -0.9231,  33.0110,2,-999.0000,9,    379.6,2,   -999.0,9,  -999.00,9,  -999.00,9,  -999.00,9, -999.000,9, -999.000,9, -999.000,9, -999.000,9,   -999.0,9,   -999.0,9,-999.000,9, -0.9250,     80
   18HU97009_1,  AR27,    98,  2, 187864,   OC94,2,19970601,2034, 61.2767, -50.2232, 1450,     90.5,  -0.8990,  33.0266,2,-999.0000,9,    377.8,2,   -999.0,9,  -999.00,9,  -999.00,9,  -999.00,9, -999.000,9, -999.000,9, -999.000,9, -999.000,9,   -999.0,9,   -999.0,9,-999.000,9, -0.9013,     91
   18HU97009_1,  AR27,    98,  2, 187863,   OC85,2,19970601,2034, 61.2767, -50.2232, 1450,     99.4,  -0.8680,  33.0491,2,-999.0000,9,    374.5,2,   -999.0,9,  -999.00,9,  -999.00,9,  -999.00,9, -999.000,9, -999.000,9, -999.000,9, -999.000,9,   -999.0,9,   -999.0,9,-999.000,9, -0.8705,     99
   18HU97009_1,  AR27,    98,  2, 187862,   OC86,2,19970601,2034, 61.2767, -50.2232, 1450,    130.5,   1.9355,  34.0749,2,  34.0481,2,    325.2,2,    335.3,2,     5.19,6,     9.16,6,     0.72,3,    5.305,2,    2.911,2,    0.185,2,    7.593,3,   2097.9,2,   2292.4,2,  47.740,4,  1.9288,    131
   18HU97009_1,  AR27,    98,  2, 187861,   OC87,2,19970601,2034, 61.2767, -50.2232, 1450,    217.2,   3.9676,  34.6787,2,  34.6909,2,    298.4,2,    309.0,2,     6.88,6,    12.76,6,     0.90,3,    4.662,2,    2.647,2,    0.146,3,    6.462,2,   2129.4,2,   -999.0,5,  51.268,3,  3.9525,    217
   18HU97009_1,  AR27,    98,  2, 187860,   OC88,2,19970601,2034, 61.2767, -50.2232, 1450,    339.8,   4.7788,  34.8694,2,  34.8751,2,    291.5,2,    303.7,2,     7.23,6,    13.26,6,     0.94,3,    4.460,6,    2.569,6,    0.195,6,    5.913,6,   2137.3,2,   -999.0,5,  38.858,2,  4.7525,    340
   18HU97009_1,  AR27,    98,  2, 187859,   OC36,2,19970601,2034, 61.2767, -50.2232, 1450,    479.6,   4.8031,  34.9116,2,  34.9124,2,    283.6,2,    295.7,2,     7.79,6,    14.47,6,     0.99,3,    4.262,2,    2.413,2,    0.127,3,    5.537,2,   2144.8,2,   -999.0,5,  37.406,2,  4.7654,    480
   18HU97009_1,  AR27,    98,  2, 187858,   OC84,2,19970601,2034, 61.2767, -50.2232, 1450,    639.6,   4.6509,  34.9169,2,  34.9177,2,    281.1,2,    291.7,2,     8.04,6,    15.39,6,     1.04,3,    4.165,2,    2.355,2,    0.136,2,    6.082,2,   2146.6,2,   -999.0,5,  43.974,4,  4.6006,    640
   18HU97009_1,  AR27,    98,  2, 187857,   OC90,2,19970601,2034, 61.2767, -50.2232, 1450,    770.5,   4.2129,  34.8901,2,  34.8916,6,    281.9,2,    291.6,2,     8.44,6,    15.63,6,     1.04,3,    4.087,2,    2.199,2,    0.000,2,    6.072,2,   2148.0,2,   -999.0,5,  36.996,2,  4.1542,    771
   18HU97009_1,  AR27,    98,  2, 187856,   OC91,2,19970601,2034, 61.2767, -50.2232, 1450,    909.6,   3.8824,  34.8835,2,  34.8837,2,    282.3,2,    290.9,2,     8.88,6,    16.00,6,     1.08,3,    3.892,2,    2.141,2,    0.000,2,    5.585,2,   2153.6,2,   -999.0,5,  33.832,2,  3.8144,    910
   18HU97009_1,  AR27,    98,  2, 187855,   OC64,2,19970601,2034, 61.2767, -50.2232, 1450,   1049.9,   3.7100,  34.8748,2,  34.8747,2,    284.6,2,    292.7,2,     9.13,6,    16.27,6,     1.08,3,    3.999,2,    2.160,2,    0.126,2,    5.848,2,   2153.0,6,   -999.0,5,  36.498,2,  3.6319,   1050
   18HU97009_1,  AR27,    98,  2, 187854,   OC95,2,19970601,2034, 61.2767, -50.2232, 1450,   1280.6,   3.3518,  34.8745,2,  34.8757,2,    285.1,2,    290.8,2,     9.68,6,    16.61,6,     1.12,3,    3.717,2,    2.034,2,    0.000,2,    6.062,2,   2152.0,2,   -999.0,5,  37.450,2,  3.2578,   1281
   18HU97009_1,  AR27,    98,  2, 187853,   OC58,2,19970601,2034, 61.2767, -50.2232, 1450,   1390.2,   3.2352,  34.8748,2,  34.8760,2,    286.3,2,    290.0,6,     9.83,6,    16.06,6,     1.10,3,    3.532,2,    1.917,2,    0.000,2,    5.429,2,   2152.0,2,   -999.0,5,  32.235,2,  3.1332,   1390
   18HU97009_1,  AR27,    98,  2, 187852,   OC93,2,19970601,2034, 61.2767, -50.2232, 1450,   1479.3,   3.1935,  34.8745,2,  34.8749,2,    287.1,2,    290.2,2,     9.85,6,    16.05,6,     1.09,3,    3.483,2,    1.888,2,    0.000,2,    5.342,2,   2156.8,2,   -999.0,5,  31.116,2,  3.0845,   1479
   18HU97009_1,  AR27,    98,  2, 187851,   OC66,2,19970601,2034, 61.2767, -50.2232, 1450,   1569.7,   3.1346,  34.8749,2,  34.8760,2,    289.3,2,    290.1,2,     9.81,6,    16.03,6,     1.10,3,    3.435,2,    1.897,2,    0.000,2,    5.643,2,   2154.1,2,   -999.0,5,  38.335,2,  3.0186,   1570
   18HU97009_1,  AR27,    99,  3, 187892,   OC56,2,19970601,2317, 61.2945, -50.1588,  739,      3.5,  -0.8856,  32.9988,2,-999.0000,9,    386.8,2,   -999.0,9,  -999.00,9,  -999.00,9,  -999.00,9, -999.000,9, -999.000,9, -999.000,9, -999.000,9,   -999.0,9,   -999.0,9,-999.000,9, -0.8857,      4
   18HU97009_1,  AR27,    99,  3, 187891,   OC61,2,19970601,2317, 61.2945, -50.1588,  739,      9.9,  -0.8835,  32.9989,2,  34.9550,2,    387.6,2,    390.5,2,     1.44,6,     1.29,6,     0.27,3,    6.663,2,    3.400,2,    0.360,2,   10.540,3,   2035.1,2,   -999.0,5,  60.934,3, -0.8837,     10
   18HU97009_1,  AR27,    99,  3, 187890,   OC82,2,19970601,2317, 61.2945, -50.1588,  739,     20.3,  -0.8849,  32.9988,2,-999.0000,9,    388.4,2,   -999.0,9,  -999.00,9,  -999.00,9,  -999.00,9, -999.000,9, -999.000,9, -999.000,9, -999.000,9,   -999.0,9,   -999.0,9,-999.000,9, -0.8854,     20
   18HU97009_1,  AR27,    99,  3, 187889,   OC83,2,19970601,2317, 61.2945, -50.1588,  739,     30.2,  -0.8740,  33.0051,2,-999.0000,9,    386.8,2,   -999.0,9,  -999.00,9,  -999.00,9,  -999.00,9, -999.000,9, -999.000,9, -999.000,9, -999.000,9,   -999.0,9,   -999.0,9,-999.000,9, -0.8747,     30
   18HU97009_1,  AR27,    99,  3, 187888,   OC94,2,19970601,2317, 61.2945, -50.1588,  739,     39.3,  -0.8719,  33.0064,2,-999.0000,9,    386.7,2,   -999.0,9,  -999.00,9,  -999.00,9,  -999.00,9, -999.000,9, -999.000,9, -999.000,9, -999.000,9,   -999.0,9,   -999.0,9,-999.000,9, -0.8729,     39
   18HU97009_1,  AR27,    99,  3, 187887,   OC85,2,19970601,2317, 61.2945, -50.1588,  739,     49.8,  -0.8809,  33.0102,2,-999.0000,9,    386.2,2,   -999.0,9,  -999.00,9,  -999.00,9,  -999.00,9, -999.000,9, -999.000,9, -999.000,9, -999.000,9,   -999.0,9,   -999.0,9,-999.000,9, -0.8821,     50
   18HU97009_1,  AR27,    99,  3, 187886,   OC86,2,19970601,2317, 61.2945, -50.1588,  739,     60.2,  -0.8993,  33.0179,2,  33.0184,2,    385.4,2,    384.5,2,     1.59,6,     2.59,3,     0.31,3,    6.595,2,    3.273,2,    0.360,2,   10.365,3,   2041.2,6,   -999.0,5,  60.933,3, -0.9008,     60
   18HU97009_1,  AR27,    99,  3, 187885,   OC87,2,19970601,2317, 61.2945, -50.1588,  739,     69.9,  -0.8808,  33.0336,2,-999.0000,9,    383.4,2,   -999.0,9,  -999.00,9,  -999.00,9,  -999.00,9, -999.000,9, -999.000,9, -999.000,9, -999.000,9,   -999.0,9,   -999.0,9,-999.000,9, -0.8825,     70
   18HU97009_1,  AR27,    99,  3, 187884,   OC88,2,19970601,2317, 61.2945, -50.1588,  739,     80.0,  -0.2210,  33.2225,2,-999.0000,9,    373.0,2,   -999.0,9,  -999.00,9,  -999.00,9,  -999.00,9, -999.000,9, -999.000,9, -999.000,9, -999.000,9,   -999.0,9,   -999.0,9,-999.000,9, -0.2235,     80
   18HU97009_1,  AR27,    99,  3, 187883,   OC36,2,19970601,2317, 61.2945, -50.1588,  739,     88.3,   0.1465,  33.3888,2,-999.0000,9,    362.9,2,   -999.0,9,  -999.00,9,  -999.00,9,  -999.00,9, -999.000,9, -999.000,9, -999.000,9, -999.000,9,   -999.0,9,   -999.0,9,-999.000,9,  0.1434,     88
   18HU97009_1,  AR27,    99,  3, 187882,   OC84,2,19970601,2317, 61.2945, -50.1588,  739,     99.3,   0.5617,  33.6079,2,-999.0000,9,    349.2,2,   -999.0,9,  -999.00,9,  -999.00,9,  -999.00,9, -999.000,9, -999.000,9, -999.000,9, -999.000,9,   -999.0,9,   -999.0,9,-999.000,9,  0.5578,     99
   18HU97009_1,  AR27,    99,  3, 187881,   OC90,2,19970601,2317, 61.2945, -50.1588,  739,    130.3,   1.1014,  33.8957,2,  33.8918,2,    335.4,2,    336.3,2,     5.18,6,     9.23,6,     0.65,3,    5.656,2,    2.940,2,    0.302,2,    9.405,3,   2097.2,2,   -999.0,5,  48.484,3,  1.0957,    130
   18HU97009_1,  AR27,    99,  3, 187880,   OC91,2,19970601,2317, 61.2945, -50.1588,  739,    240.3,   3.4939,  34.5577,2,  34.5554,2,    309.0,2,    313.5,6,     6.56,6,    11.86,6,     0.74,3,    4.876,2,    2.706,2,    0.253,2,    7.066,3,   2123.3,2,   -999.0,5,  41.908,4,  3.4780,    240
   18HU97009_1,  AR27,    99,  3, 187879,   OC64,2,19970601,2317, 61.2945, -50.1588,  739,    378.6,   4.1882,  34.7720,2,  34.7714,2,    297.9,2,    301.9,2,     7.34,6,    13.81,6,     0.82,3,    4.477,2,    2.482,2,    0.195,2,    6.403,2,   2136.5,2,   -999.0,5,  38.877,2,  4.1606,    379
   18HU97009_1,  AR27,    99,  3, 187878,   OC95,2,19970601,2317, 61.2945, -50.1588,  739,    518.1,   4.8041,  34.9261,2,  34.9263,2,    289.3,2,    292.7,2,     7.80,6,    14.93,6,     0.88,3,    4.246,6,    2.371,6,    0.204,2,    5.647,6,   2144.3,2,   -999.0,5,  36.014,6,  4.7632,    518
   18HU97009_1,  AR27,    99,  3, 187877,   OC58,2,19970601,2317, 61.2945, -50.1588,  739,    584.0,   4.6206,  34.9145,2,  34.9143,6,    289.1,2,    291.0,2,     8.03,6,    15.08,6,     0.90,3,    4.145,2,    2.287,2,    0.195,2,    5.683,2,   2145.7,2,   -999.0,5,  34.934,2,  4.5750,    584
   18HU97009_1,  AR27,    99,  3, 187876,   OC93,2,19970601,2317, 61.2945, -50.1588,  739,    664.9,   4.5521,  34.9149,2,  34.9149,2,    289.9,2,    290.4,2,     8.17,6,    15.38,6,     0.90,3,    4.106,2,    2.287,2,    0.195,2,    5.508,2,   2147.4,2,   -999.0,5,  35.041,2,  4.5002,    665
   18HU97009_1,  AR27,    99,  3, 187875,   OC66,2,19970601,2317, 61.2945, -50.1588,  739,    712.2,   4.4128,  34.9026,2,  34.9026,2,    291.9,2,    292.8,2,     8.33,6,    15.18,6,     0.89,3,    4.106,2,    2.189,2,    0.195,2,    5.692,2,   2148.8,2,   -999.0,5,  35.984,2,  4.3577,    712