BOTTLE,20020708WHPSIOKJU
EXPOCODE,SECT_ID,STNNBR,CASTNO,SAMPNO,BTLNBR,BTLNBR_FLAG_W,DATE,TIME,LATITUDE,LONGITUDE,DEPTH,CTDPRS,CTDTMP,CTDSAL,CTDSAL_FLAG_W,SALNTY,SALNTY_FLAG_W,CTDOXY,CTDOXY_FLAG_W,OXYGEN,OXYGEN_FLAG_W,SILCAT,SILCAT_FLAG_W,NO2+NO3,NO2+NO3_FLAG_W,PHSPHT,PHSPHT_FLAG_W,CFC-11,CFC-11_FLAG_W,CFC-12,CFC-12_FLAG_W,CFC113,CFC113_FLAG_W,CCL4,CCL4_FLAG_W,TCARBN,TCARBN_FLAG_W,ALKALI,ALKALI_FLAG_W,MCHFRM,MCHFRM_FLAG_W,THETA,CTDRAW
,,,,,,,,,,,,DBAR,ITS-90,PSS-78,,PSS-78,,UMOL/KG,,UMOL/KG,,UMOL/KG,,UMOL/KG,,UMOL/KG,,PMOL/KG,,PMOL/KG,,PMOL/KG,,PMOL/KG,,UMOL/KG,,UMOL/KG,,PMOL/KG,,DEG C,
   18HU97009_1,  AR13,    11,  3, 186138,   OC36,2,19970513,0459, 48.7355, -52.9727,  107,      3.2,  -0.1659,  31.9841,2,  31.9929,2,    474.3,3,    401.0,2,     0.21,6,     0.00,6,     0.34,6, -999.000,9, -999.000,9, -999.000,9, -999.000,9,   -999.0,9,   -999.0,9,-999.000,9, -0.1660,      3
   18HU97009_1,  AR13,    11,  3, 186137,   OC84,2,19970513,0459, 48.7355, -52.9727,  107,      9.4,  -0.3246,  32.0277,2,  32.1389,2,    471.5,3,    394.0,2,     0.82,6,     0.32,6,     0.57,3, -999.000,9, -999.000,9, -999.000,9, -999.000,9,   -999.0,9,   -999.0,9,-999.000,9, -0.3249,      9
   18HU97009_1,  AR13,    11,  3, 186136,   OC90,2,19970513,0459, 48.7355, -52.9727,  107,     18.8,  -1.2129,  32.2882,2,  32.2790,2,    458.8,3,    381.4,2,     1.75,6,     1.61,3,     0.53,6, -999.000,9, -999.000,9, -999.000,9, -999.000,9,   -999.0,9,   -999.0,9,-999.000,9, -1.2133,     19
   18HU97009_1,  AR13,    11,  3, 186135,   OC91,2,19970513,0459, 48.7355, -52.9727,  107,     27.9,  -1.3299,  32.3540,2,  32.3597,2,    451.6,3,    380.2,6,     2.67,6,     2.63,3,     0.58,6, -999.000,9, -999.000,9, -999.000,9, -999.000,9,   -999.0,9,   -999.0,9,-999.000,9, -1.3304,     28
   18HU97009_1,  AR13,    11,  3, 186134,   OC64,2,19970513,0459, 48.7355, -52.9727,  107,     38.6,  -1.4613,  32.5889,2,  32.5873,2,    442.1,2,    361.1,2,     5.58,6,     5.01,6,     0.75,6, -999.000,9, -999.000,9, -999.000,9, -999.000,9,   -999.0,9,   -999.0,9,-999.000,9, -1.4621,     39
   18HU97009_1,  AR13,    11,  3, 186133,   OC92,2,19970513,0459, 48.7355, -52.9727,  107,     47.8,  -1.3808,  32.6896,2,  32.6808,2,    440.1,2,    359.8,2,     6.18,6,     5.31,6,     0.76,6, -999.000,9, -999.000,9, -999.000,9, -999.000,9,   -999.0,9,   -999.0,9,-999.000,9, -1.3817,     48
   18HU97009_1,  AR13,    11,  3, 186132,   OC58,2,19970513,0459, 48.7355, -52.9727,  107,     57.7,  -1.3398,  32.7372,2,  32.7110,6,    441.9,2,    360.1,6,     6.62,6,     5.50,6,     0.77,6, -999.000,9, -999.000,9, -999.000,9, -999.000,9,   -999.0,9,   -999.0,9,-999.000,9, -1.3410,     58
   18HU97009_1,  AR13,    11,  3, 186131,   OC93,2,19970513,0459, 48.7355, -52.9727,  107,     77.2,  -1.4113,  32.8110,2,  32.8086,2,    436.2,2,    347.5,2,     7.78,6,     6.49,6,     0.81,6, -999.000,9, -999.000,9, -999.000,9, -999.000,9,   -999.0,9,   -999.0,9,-999.000,9, -1.4128,     77
   18HU97009_1,  AR13,    11,  3, 186130,   OC66,2,19970513,0459, 48.7355, -52.9727,  107,     96.2,  -1.4962,  32.9195,2,  32.9193,2,    425.1,2,    339.5,2,    10.06,6,     7.99,6,     0.91,6, -999.000,9, -999.000,9, -999.000,9, -999.000,9,   -999.0,9,   -999.0,9,-999.000,9, -1.4981,     96
   18HU97009_1,  AR13,    12,  1, 186145,   OC90,2,19970513,0701, 48.8400, -52.7525,  167,      3.5,  -0.6212,  31.9298,2,  31.9305,2,    453.5,3,    392.4,2,     0.75,6,     0.00,6,     0.33,6, -999.000,9, -999.000,9, -999.000,9, -999.000,9,   -999.0,9,   -999.0,9,-999.000,9, -0.6212,      4
   18HU97009_1,  AR13,    12,  1, 186144,   OC91,2,19970513,0701, 48.8400, -52.7525,  167,     12.3,  -0.6219,  31.9309,2,  31.9321,6,    454.6,3,    385.1,2,     0.73,6,     0.00,6,     0.39,6, -999.000,9, -999.000,9, -999.000,9, -999.000,9,   -999.0,9,   -999.0,9,-999.000,9, -0.6222,     12
   18HU97009_1,  AR13,    12,  1, 186143,   OC64,2,19970513,0701, 48.8400, -52.7525,  167,     27.2,  -1.3378,  32.2115,2,  32.1973,2,    444.8,2,    381.6,6,     2.30,6,     1.68,6,     0.58,6, -999.000,9, -999.000,9, -999.000,9, -999.000,9,   -999.0,9,   -999.0,9,-999.000,9, -1.3383,     27
   18HU97009_1,  AR13,    12,  1, 186142,   OC92,2,19970513,0701, 48.8400, -52.7525,  167,     52.0,  -1.5697,  32.6863,2,  32.6808,2,    418.6,2,    355.7,2,     7.51,6,     6.31,6,     0.84,6, -999.000,9, -999.000,9, -999.000,9, -999.000,9,   -999.0,9,   -999.0,9,-999.000,9, -1.5707,     52
   18HU97009_1,  AR13,    12,  1, 186141,   OC58,2,19970513,0701, 48.8400, -52.7525,  167,     76.6,  -1.5328,  32.7961,2,  32.7936,2,    414.4,2,    349.6,2,     7.50,6,     6.28,6,     0.84,6, -999.000,9, -999.000,9, -999.000,9, -999.000,9,   -999.0,9,   -999.0,9,-999.000,9, -1.5343,     77
   18HU97009_1,  AR13,    12,  1, 186140,   OC93,2,19970513,0701, 48.8400, -52.7525,  167,    105.8,  -1.5446,  32.8501,2,  32.8489,2,    416.5,2,    348.1,2,     9.21,6,     7.73,6,     0.89,6, -999.000,9, -999.000,9, -999.000,9, -999.000,9,   -999.0,9,   -999.0,9,-999.000,9, -1.5467,    106
   18HU97009_1,  AR13,    12,  1, 186139,   OC66,2,19970513,0701, 48.8400, -52.7525,  167,    150.5,  -1.5537,  32.8953,2,  32.8938,2,    416.6,2,    345.5,2,     9.84,6,     7.97,6,     0.89,6, -999.000,9, -999.000,9, -999.000,9, -999.000,9,   -999.0,9,   -999.0,9,-999.000,9, -1.5567,    151
   18HU97009_1,  AR13,    13,  2, 186161,   OC82,2,19970513,0842, 48.8893, -52.6447,  308,      2.9,  -0.6685,  31.9957,2,  31.9915,2,    432.7,2,    395.5,2,     0.83,6,     0.00,6,     0.39,3, -999.000,9, -999.000,9, -999.000,9, -999.000,9,   -999.0,9,   -999.0,9,-999.000,9, -0.6686,      3
   18HU97009_1,  AR13,    13,  2, 186160,   OC83,2,19970513,0842, 48.8893, -52.6447,  308,     10.5,  -0.6813,  31.9980,2,  32.0257,2,    434.2,2,    396.0,2,     0.89,6,     0.00,6,     0.37,3, -999.000,9, -999.000,9, -999.000,9, -999.000,9,   -999.0,9,   -999.0,9,-999.000,9, -0.6816,     11
   18HU97009_1,  AR13,    13,  2, 186159,   OC94,2,19970513,0842, 48.8893, -52.6447,  308,     20.4,  -1.0111,  32.3368,2,  32.2411,2,    430.4,2,    390.9,2,     1.16,6,     0.39,3,     0.46,6, -999.000,9, -999.000,9, -999.000,9, -999.000,9,   -999.0,9,   -999.0,9,-999.000,9, -1.0115,     20
   18HU97009_1,  AR13,    13,  2, 186158,   OC85,2,19970513,0842, 48.8893, -52.6447,  308,     29.9,  -0.9930,  32.5656,2,  32.5632,2,    412.2,2,    377.0,6,     2.66,6,     1.99,3,     0.52,6, -999.000,9, -999.000,9, -999.000,9, -999.000,9,   -999.0,9,   -999.0,9,-999.000,9, -0.9936,     30
   18HU97009_1,  AR13,    13,  2, 186157,   OC86,2,19970513,0842, 48.8893, -52.6447,  308,     40.2,  -1.5444,  32.6854,2,  32.7100,2,    391.0,2,    349.8,2,     8.00,6,     6.84,6,     0.91,3, -999.000,9, -999.000,9, -999.000,9, -999.000,9,   -999.0,9,   -999.0,9,-999.000,9, -1.5452,     40
   18HU97009_1,  AR13,    13,  2, 186156,   OC87,2,19970513,0842, 48.8893, -52.6447,  308,     50.4,  -1.5100,  32.8045,2,  32.8129,2,    391.2,2,    351.7,2,     8.33,6,     7.08,6,     0.86,6, -999.000,9, -999.000,9, -999.000,9, -999.000,9,   -999.0,9,   -999.0,9,-999.000,9, -1.5110,     50
   18HU97009_1,  AR13,    13,  2, 186155,   OC88,2,19970513,0842, 48.8893, -52.6447,  308,     60.5,  -1.2749,  32.8501,2,  32.8545,2,    400.1,2,    359.7,2,     6.97,6,     6.32,6,     0.78,6, -999.000,9, -999.000,9, -999.000,9, -999.000,9,   -999.0,9,   -999.0,9,-999.000,9, -1.2762,     61
   18HU97009_1,  AR13,    13,  2, 186154,   OC36,2,19970513,0842, 48.8893, -52.6447,  308,     70.3,  -1.3911,  32.8735,2,  32.8748,2,    397.7,2,    354.9,2,     8.15,6,     7.02,6,     0.89,6, -999.000,9, -999.000,9, -999.000,9, -999.000,9,   -999.0,9,   -999.0,9,-999.000,9, -1.3925,     70
   18HU97009_1,  AR13,    13,  2, 186153,   OC84,2,19970513,0842, 48.8893, -52.6447,  308,     80.5,  -1.5539,  32.9020,2,  32.9059,2,    386.6,2,    345.8,2,     9.62,6,     7.96,6,     0.92,6, -999.000,9, -999.000,9, -999.000,9, -999.000,9,   -999.0,9,   -999.0,9,-999.000,9, -1.5555,     81
   18HU97009_1,  AR13,    13,  2, 186152,   OC90,2,19970513,0842, 48.8893, -52.6447,  308,     90.4,  -1.5597,  32.9194,2,  32.9193,2,    387.0,2,    344.7,2,     9.65,6,     8.04,6,     0.95,3, -999.000,9, -999.000,9, -999.000,9, -999.000,9,   -999.0,9,   -999.0,9,-999.000,9, -1.5615,     90
   18HU97009_1,  AR13,    13,  2, 186151,   OC91,2,19970513,0842, 48.8893, -52.6447,  308,    100.5,  -1.5748,  32.9341,2,  32.9337,2,    385.8,2,    343.5,6,    10.06,6,     8.17,6,     0.92,6, -999.000,9, -999.000,9, -999.000,9, -999.000,9,   -999.0,9,   -999.0,9,-999.000,9, -1.5767,    101
   18HU97009_1,  AR13,    13,  2, 186150,   OC64,2,19970513,0842, 48.8893, -52.6447,  308,    125.9,  -1.5222,  32.9742,2,  32.9704,6,    383.0,2,    340.7,2,    10.27,6,     8.36,6,     0.91,6, -999.000,9, -999.000,9, -999.000,9, -999.000,9,   -999.0,9,   -999.0,9,-999.000,9, -1.5247,    126
   18HU97009_1,  AR13,    13,  2, 186149,   OC92,2,19970513,0842, 48.8893, -52.6447,  308,    148.3,  -1.3923,  33.0390,2,  33.0395,2,    377.2,2,    336.1,2,    10.59,6,     8.76,6,     0.92,6, -999.000,9, -999.000,9, -999.000,9, -999.000,9,   -999.0,9,   -999.0,9,-999.000,9, -1.3954,    148
   18HU97009_1,  AR13,    13,  2, 186148,   OC58,2,19970513,0842, 48.8893, -52.6447,  308,    198.3,  -0.9974,  33.2380,2,  33.2472,2,    361.8,2,    323.0,2,    11.24,6,     9.84,6,     0.94,6, -999.000,9, -999.000,9, -999.000,9, -999.000,9,   -999.0,9,   -999.0,9,-999.000,9, -1.0025,    198
   18HU97009_1,  AR13,    13,  2, 186147,   OC93,2,19970513,0842, 48.8893, -52.6447,  308,    247.1,   1.6580,  34.0074,2,  34.0023,2,    318.0,2,    287.4,2,    12.94,6,    12.64,6,     0.97,6, -999.000,9, -999.000,9, -999.000,9, -999.000,9,   -999.0,9,   -999.0,9,-999.000,9,  1.6456,    247
   18HU97009_1,  AR13,    13,  2, 186146,   OC66,2,19970513,0842, 48.8893, -52.6447,  308,    295.1,   3.1985,  34.6868,2,  34.6843,2,    304.4,2,    275.0,2,    14.51,6,    16.28,6,     1.07,6, -999.000,9, -999.000,9, -999.000,9, -999.000,9,   -999.0,9,   -999.0,9,-999.000,9,  3.1796,    295
   18HU97009_1,  AR13,    14,  1, 186171,   OC88,2,19970513,1036, 48.9988, -52.4037, -999,      3.3,   0.1335,  32.6236,2,  32.6190,2,    415.7,2,    395.5,2,     1.84,6,     0.04,3,     0.37,6, -999.000,9, -999.000,9, -999.000,9, -999.000,9,   -999.0,9,   -999.0,9,-999.000,9,  0.1334,      3
   18HU97009_1,  AR13,    14,  1, 186170,   OC36,2,19970513,1036, 48.9988, -52.4037, -999,     10.0,   0.1280,  32.6231,2,  32.6190,2,    416.5,2,    395.3,2,     1.94,6,     0.09,3,     0.39,6, -999.000,9, -999.000,9, -999.000,9, -999.000,9,   -999.0,9,   -999.0,9,-999.000,9,  0.1276,     10
   18HU97009_1,  AR13,    14,  1, 186169,   OC84,2,19970513,1036, 48.9988, -52.4037, -999,     25.2,   0.1088,  32.6875,2,  32.7053,2,    411.5,2,    388.2,2,     3.38,6,     1.96,3,     0.47,6, -999.000,9, -999.000,9, -999.000,9, -999.000,9,   -999.0,9,   -999.0,9,-999.000,9,  0.1080,     25
   18HU97009_1,  AR13,    14,  1, 186168,   OC90,2,19970513,1036, 48.9988, -52.4037, -999,     50.0,  -0.8187,  32.9191,2,  32.9199,2,    390.9,2,    366.4,2,     5.49,6,     5.59,6,     0.70,6, -999.000,9, -999.000,9, -999.000,9, -999.000,9,   -999.0,9,   -999.0,9,-999.000,9, -0.8200,     50
   18HU97009_1,  AR13,    14,  1, 186167,   OC91,2,19970513,1036, 48.9988, -52.4037, -999,     75.6,  -1.4635,  33.0099,2,  33.0087,2,    381.7,2,    352.9,2,     6.70,6,     7.96,6,     0.82,6, -999.000,9, -999.000,9, -999.000,9, -999.000,9,   -999.0,9,   -999.0,9,-999.000,9, -1.4651,     76
   18HU97009_1,  AR13,    14,  1, 186166,   OC64,2,19970513,1036, 48.9988, -52.4037, -999,    100.4,  -1.6391,  33.0695,2,  33.0743,2,    369.9,2,    341.7,2,     9.66,6,     8.86,6,     0.88,6, -999.000,9, -999.000,9, -999.000,9, -999.000,9,   -999.0,9,   -999.0,9,-999.000,9, -1.6410,    100
   18HU97009_1,  AR13,    14,  1, 186165,   OC92,2,19970513,1036, 48.9988, -52.4037, -999,    150.8,  -1.0359,  33.2355,2,  33.2290,2,    347.9,2,    323.2,6,    11.09,6,     9.95,6,     0.91,6, -999.000,9, -999.000,9, -999.000,9, -999.000,9,   -999.0,9,   -999.0,9,-999.000,9, -1.0396,    151
   18HU97009_1,  AR13,    14,  1, 186164,   OC58,2,19970513,1036, 48.9988, -52.4037, -999,    200.8,   1.6760,  33.9366,2,  33.9366,2,    312.3,2,    292.3,2,    10.69,6,    12.05,6,     0.88,6, -999.000,9, -999.000,9, -999.000,9, -999.000,9,   -999.0,9,   -999.0,9,-999.000,9,  1.6660,    201
   18HU97009_1,  AR13,    14,  1, 186163,   OC93,2,19970513,1036, 48.9988, -52.4037, -999,    250.6,   2.1754,  34.1432,2,  34.1389,2,    298.1,2,    279.7,2,    12.89,6,    13.18,6,     0.97,6, -999.000,9, -999.000,9, -999.000,9, -999.000,9,   -999.0,9,   -999.0,9,-999.000,9,  2.1617,    251
   18HU97009_1,  AR13,    14,  1, 186162,   OC66,2,19970513,1036, 48.9988, -52.4037, -999,    301.2,   2.4636,  34.3914,2,  34.3843,2,    301.6,2,    284.1,2,    12.01,6,    15.05,6,     1.03,6, -999.000,9, -999.000,9, -999.000,9, -999.000,9,   -999.0,9,   -999.0,9,-999.000,9,  2.4462,    301
   18HU97009_1,  AR13,    15,  1, 186182,   OC87,2,19970513,1232, 49.1565, -52.0697,  308,      3.1,  -0.0770,  32.6295,2,  32.6252,2,    401.4,2,    395.6,2,     2.60,6,     0.58,3,     0.46,3, -999.000,9, -999.000,9, -999.000,9, -999.000,9,   -999.0,9,   -999.0,9,-999.000,9, -0.0771,      3
   18HU97009_1,  AR13,    15,  1, 186186,   OC83,2,19970513,1232, 49.1565, -52.0697,  308,      3.1,  -0.0765,  32.6294,2,-999.0000,9,    401.8,2,   -999.0,9,  -999.00,9,  -999.00,9,  -999.00,9, -999.000,9, -999.000,9, -999.000,9, -999.000,9,   -999.0,9,   -999.0,9,-999.000,9, -0.0766,      3
   18HU97009_1,  AR13,    15,  1, 186187,   OC82,2,19970513,1232, 49.1565, -52.0697,  308,      3.1,  -0.0746,  32.6295,2,-999.0000,9,    401.9,2,   -999.0,9,  -999.00,9,  -999.00,9,  -999.00,9, -999.000,9, -999.000,9, -999.000,9, -999.000,9,   -999.0,9,   -999.0,9,-999.000,9, -0.0747,      3
   18HU97009_1,  AR13,    15,  1, 186189,   OC56,2,19970513,1232, 49.1565, -52.0697,  308,      3.1,  -0.0689,  32.6295,2,-999.0000,9,    402.6,2,   -999.0,9,  -999.00,9,  -999.00,9,  -999.00,9, -999.000,9, -999.000,9, -999.000,9, -999.000,9,   -999.0,9,   -999.0,9,-999.000,9, -0.0690,      3
   18HU97009_1,  AR13,    15,  1, 186183,   OC86,2,19970513,1232, 49.1565, -52.0697,  308,      3.2,  -0.0576,  32.6288,2,-999.0000,9,    401.3,2,   -999.0,9,  -999.00,9,  -999.00,9,  -999.00,9, -999.000,9, -999.000,9, -999.000,9, -999.000,9,   -999.0,9,   -999.0,9,-999.000,9, -0.0577,      3
   18HU97009_1,  AR13,    15,  1, 186188,   OC49,2,19970513,1232, 49.1565, -52.0697,  308,      3.2,  -0.0700,  32.6290,2,-999.0000,9,    401.8,2,   -999.0,9,  -999.00,9,  -999.00,9,  -999.00,9, -999.000,9, -999.000,9, -999.000,9, -999.000,9,   -999.0,9,   -999.0,9,-999.000,9, -0.0701,      3
   18HU97009_1,  AR13,    15,  1, 186185,   OC94,2,19970513,1232, 49.1565, -52.0697,  308,      3.4,  -0.0733,  32.6299,2,-999.0000,9,    401.9,2,   -999.0,9,  -999.00,9,  -999.00,9,  -999.00,9, -999.000,9, -999.000,9, -999.000,9, -999.000,9,   -999.0,9,   -999.0,9,-999.000,9, -0.0734,      3
   18HU97009_1,  AR13,    15,  1, 186184,   OC85,2,19970513,1232, 49.1565, -52.0697,  308,      3.6,  -0.0782,  32.6296,2,-999.0000,9,    401.9,2,   -999.0,9,  -999.00,9,  -999.00,9,  -999.00,9, -999.000,9, -999.000,9, -999.000,9, -999.000,9,   -999.0,9,   -999.0,9,-999.000,9, -0.0783,      4
   18HU97009_1,  AR13,    15,  1, 186181,   OC88,2,19970513,1232, 49.1565, -52.0697,  308,     10.1,  -0.0706,  32.6292,2,  32.6250,2,    401.6,2,    395.5,2,     2.48,6,     0.39,3,     0.46,3, -999.000,9, -999.000,9, -999.000,9, -999.000,9,   -999.0,9,   -999.0,9,-999.000,9, -0.0709,     10
   18HU97009_1,  AR13,    15,  1, 186180,   OC36,2,19970513,1232, 49.1565, -52.0697,  308,     20.0,  -0.1082,  32.6377,2,  32.6336,2,    399.2,2,    393.1,2,     2.68,6,     0.56,3,     0.46,3, -999.000,9, -999.000,9, -999.000,9, -999.000,9,   -999.0,9,   -999.0,9,-999.000,9, -0.1088,     20
   18HU97009_1,  AR13,    15,  1, 186179,   OC84,2,19970513,1232, 49.1565, -52.0697,  308,     30.6,  -0.1097,  32.7839,2,  32.7701,2,    386.3,2,    379.4,2,     3.89,6,     2.42,6,     0.61,6, -999.000,9, -999.000,9, -999.000,9, -999.000,9,   -999.0,9,   -999.0,9,-999.000,9, -0.1106,     31
   18HU97009_1,  AR13,    15,  1, 186178,   OC90,2,19970513,1232, 49.1565, -52.0697,  308,     49.2,  -0.9576,  32.9123,2,  32.9094,2,    374.6,2,    365.8,2,     5.41,6,     5.80,6,     0.74,6, -999.000,9, -999.000,9, -999.000,9, -999.000,9,   -999.0,9,   -999.0,9,-999.000,9, -0.9588,     49
   18HU97009_1,  AR13,    15,  1, 186177,   OC91,2,19970513,1232, 49.1565, -52.0697,  308,     75.7,  -1.5923,  33.0523,2,  33.0476,2,    363.8,2,    350.6,2,     7.89,6,     8.53,6,     0.85,6, -999.000,9, -999.000,9, -999.000,9, -999.000,9,   -999.0,9,   -999.0,9,-999.000,9, -1.5938,     76
   18HU97009_1,  AR13,    15,  1, 186176,   OC64,2,19970513,1232, 49.1565, -52.0697,  308,    100.5,  -1.5979,  33.1171,2,  33.1111,2,    353.9,2,    340.5,2,     9.85,6,     9.30,6,     0.90,6, -999.000,9, -999.000,9, -999.000,9, -999.000,9,   -999.0,9,   -999.0,9,-999.000,9, -1.5999,    101
   18HU97009_1,  AR13,    15,  1, 186175,   OC92,2,19970513,1232, 49.1565, -52.0697,  308,    150.5,  -0.5759,  33.3795,2,  33.3683,2,    326.3,2,    314.2,2,    11.81,6,    10.73,6,     0.93,6, -999.000,9, -999.000,9, -999.000,9, -999.000,9,   -999.0,9,   -999.0,9,-999.000,9, -0.5803,    151
   18HU97009_1,  AR13,    15,  1, 186174,   OC58,2,19970513,1232, 49.1565, -52.0697,  308,    200.6,   0.0998,  33.6781,2,  33.6706,2,    318.4,2,    307.9,2,    10.28,6,    11.80,6,     0.90,6, -999.000,9, -999.000,9, -999.000,9, -999.000,9,   -999.0,9,   -999.0,9,-999.000,9,  0.0926,    201
   18HU97009_1,  AR13,    15,  1, 186173,   OC93,2,19970513,1232, 49.1565, -52.0697,  308,    250.9,   2.1932,  34.1223,2,  34.1111,2,    290.0,2,    282.3,6,    12.38,6,    13.04,6,     0.99,6, -999.000,9, -999.000,9, -999.000,9, -999.000,9,   -999.0,9,   -999.0,9,-999.000,9,  2.1794,    251
   18HU97009_1,  AR13,    15,  1, 186172,   OC66,3,19970513,1232, 49.1565, -52.0697,  308,    294.5,   3.0027,  34.5805,2,-999.0000,5,    284.8,2,   -999.0,9,  -999.00,9,  -999.00,9,  -999.00,9, -999.000,9, -999.000,9, -999.000,9, -999.000,9,   -999.0,9,   -999.0,9,-999.000,9,  2.9843,    295