BOTTLE,20020708WHPSIOKJU
EXPOCODE,SECT_ID,STNNBR,CASTNO,SAMPNO,BTLNBR,BTLNBR_FLAG_W,DATE,TIME,LATITUDE,LONGITUDE,DEPTH,CTDPRS,CTDTMP,CTDSAL,CTDSAL_FLAG_W,SALNTY,SALNTY_FLAG_W,CTDOXY,CTDOXY_FLAG_W,OXYGEN,OXYGEN_FLAG_W,SILCAT,SILCAT_FLAG_W,NO2+NO3,NO2+NO3_FLAG_W,PHSPHT,PHSPHT_FLAG_W,CFC-11,CFC-11_FLAG_W,CFC-12,CFC-12_FLAG_W,CFC113,CFC113_FLAG_W,CCL4,CCL4_FLAG_W,TCARBN,TCARBN_FLAG_W,ALKALI,ALKALI_FLAG_W,MCHFRM,MCHFRM_FLAG_W,THETA,CTDRAW
,,,,,,,,,,,,DBAR,ITS-90,PSS-78,,PSS-78,,UMOL/KG,,UMOL/KG,,UMOL/KG,,UMOL/KG,,UMOL/KG,,PMOL/KG,,PMOL/KG,,PMOL/KG,,PMOL/KG,,UMOL/KG,,UMOL/KG,,PMOL/KG,,DEG C,
   18HU97009_1,  AR27,    36,  1, 186674,   OC80,2,19970518,1008, 55.9932, -43.9898, 3365,      7.5,   4.3227,  34.6539,2,  34.6551,2,    317.0,2,    328.4,6,     7.56,6,    11.30,6,     0.74,6,    5.110,2,    2.735,2,    0.350,2,    8.273,3,   2120.4,2,   2285.2,2,   1.119,4,  4.3221,      8
   18HU97009_1,  AR27,    36,  1, 186673,   OC55,2,19970518,1008, 55.9932, -43.9898, 3365,     24.0,   4.0651,  34.6542,2,  34.6549,2,    318.1,2,    329.1,6,     7.63,6,    11.51,6,     0.74,6,    5.236,2,    2.647,2,    0.302,2,   10.151,3,   2121.5,2,   2283.8,2, 132.116,4,  4.0635,     24
   18HU97009_1,  AR27,    36,  1, 186672,   OC81,2,19970518,1008, 55.9932, -43.9898, 3365,     50.4,   4.0344,  34.6539,2,  34.6557,2,    316.0,2,    326.7,6,     7.75,6,    11.52,6,     0.75,6,    5.236,2,    2.667,2,    0.331,2,    8.817,3,   2123.3,2,   2278.9,2, 186.548,4,  4.0310,     50
   18HU97009_1,  AR27,    36,  1, 186671,   OC69,2,19970518,1008, 55.9932, -43.9898, 3365,     76.3,   2.7707,  34.6955,2,  34.6553,2,    308.5,2,    316.5,6,     8.24,6,    15.36,6,     0.95,6,    5.138,2,    2.695,2,    0.360,2,    9.069,3,   2143.9,2,   2278.8,2,  85.184,3,  2.7662,     76
   18HU97009_1,  AR27,    36,  1, 186670,   OC52,2,19970518,1008, 55.9932, -43.9898, 3365,    100.4,   2.6242,  34.7078,2,  34.7085,2,    305.3,2,    313.2,6,     8.33,6,    15.46,6,     0.96,6,    4.982,2,    2.618,2,    0.311,2,    8.592,3,   2144.2,2,   2281.3,2, 205.345,4,  2.6183,    100
   18HU97009_1,  AR27,    36,  1, 186669,   OC51,2,19970518,1008, 55.9932, -43.9898, 3365,    148.9,   2.5016,  34.7149,2,  34.7167,2,    305.4,2,    312.3,6,     8.39,6,    15.73,6,     0.97,6,    5.021,2,    2.598,2,    0.341,2,    8.709,3,   2143.4,2,   2283.1,2, 205.916,4,  2.4930,    149
   18HU97009_1,  AR27,    36,  1, 186668,   OC56,2,19970518,1008, 55.9932, -43.9898, 3365,    198.3,   2.6850,  34.7467,2,  34.7464,2,    298.5,2,    306.3,6,     8.65,6,    15.69,6,     0.98,6,    4.758,2,    2.540,2,    0.331,2,    8.679,3,   2146.0,2,   -999.0,4,  57.399,3,  2.6732,    198
   18HU97009_1,  AR27,    36,  1, 186667,   OC61,2,19970518,1008, 55.9932, -43.9898, 3365,    298.9,   3.1951,  34.8289,2,  34.8304,2,    278.5,2,    287.1,6,     9.55,6,    16.94,6,     1.04,6,    3.892,2,    2.014,2,    0.263,2,    7.249,3,   2151.9,2,   2289.3,2, 148.560,4,  3.1759,    299
   18HU97009_1,  AR27,    36,  1, 186666,   OC82,2,19970518,1008, 55.9932, -43.9898, 3365,    399.1,   3.2639,  34.8492,2,  34.8499,2,    274.5,2,    283.3,6,    10.07,6,    17.20,6,     1.05,6,    3.668,2,    2.111,2,    0.224,2,    7.317,3,   2155.2,2,   2288.3,2, 123.757,4,  3.2376,    399
   18HU97009_1,  AR27,    36,  1, 186665,   OC83,2,19970518,1008, 55.9932, -43.9898, 3365,    599.3,   3.2268,  34.8615,2,  34.8615,2,    274.1,2,    283.2,6,    11.13,3,    17.00,6,     1.04,6,    3.435,2,    1.897,2,    0.224,2,    6.461,3,   2156.2,2,   2289.4,2,  34.522,3,  3.1866,    599
   18HU97009_1,  AR27,    36,  1, 186664,   OC94,2,19970518,1008, 55.9932, -43.9898, 3365,    800.0,   3.0984,  34.8561,2,  34.8567,2,    278.8,2,    288.0,6,    10.18,6,    17.06,6,     1.03,6,    3.454,2,    1.761,2,    0.224,2,    5.575,3,   2153.7,2,   2290.4,2, 124.766,4,  3.0442,    800
   18HU97009_1,  AR27,    36,  1, 186663,   OC85,2,19970518,1008, 55.9932, -43.9898, 3365,    998.2,   3.0397,  34.8555,2,  34.8558,2,    280.6,2,    290.1,6,    10.17,6,    16.86,6,     1.03,6,    3.444,2,    1.771,2,    0.204,2,    5.896,3,   2154.4,2,   2290.3,2, 120.211,4,  2.9710,    998
   18HU97009_1,  AR27,    36,  1, 186662,   OC86,2,19970518,1008, 55.9932, -43.9898, 3365,   1200.2,   2.9896,  34.8542,2,  34.8550,2,    282.6,2,    291.7,6,    10.20,6,    16.77,6,     1.04,6,    3.444,2,    1.888,2,    0.234,2,    6.149,3,   2151.1,6,   2289.1,2,  25.151,3,  2.9056,   1200
   18HU97009_1,  AR27,    36,  1, 186661,   OC87,2,19970518,1008, 55.9932, -43.9898, 3365,   1398.3,   2.9287,  34.8487,2,  34.8505,2,    284.8,2,    293.4,2,    10.18,6,    16.84,6,     1.01,6,    3.561,2,    1.674,2,    0.234,2,    6.373,3,   2151.0,2,   2286.1,2, 113.672,4,  2.8294,   1398
   18HU97009_1,  AR27,    36,  1, 186660,   OC88,2,19970518,1008, 55.9932, -43.9898, 3365,   1599.6,   2.8968,  34.8456,2,  34.8466,2,    286.6,2,    296.3,6,     9.95,6,    16.54,6,     1.02,6,    3.686,6,    1.824,6,    0.243,6,    6.085,3,   2150.9,2,   2288.3,2,  39.314,3,  2.7811,   1600
   18HU97009_1,  AR27,    36,  1, 186659,   OC36,2,19970518,1008, 55.9932, -43.9898, 3365,   1800.1,   2.9489,  34.8583,2,  34.8591,2,    283.2,2,    292.2,6,    10.11,6,    16.55,6,     1.04,6,    3.289,2,    1.722,2,    0.224,2,    6.178,3,   2150.7,2,   2290.7,2,  67.952,3,  2.8152,   1800
   18HU97009_1,  AR27,    36,  1, 186658,   OC84,2,19970518,1008, 55.9932, -43.9898, 3365,   2000.1,   3.0592,  34.8862,2,  34.8880,2,    275.0,2,    284.1,6,    10.86,6,    16.49,6,     1.05,6,    2.491,2,    1.070,2,    0.175,2,    3.989,2,   2152.0,2,   2292.1,2,   6.898,3,  2.9059,   2000
   18HU97009_1,  AR27,    36,  1, 186657,   OC90,2,19970518,1008, 55.9932, -43.9898, 3365,   2198.8,   3.0992,  34.9116,2,  34.9121,6,    269.1,2,    278.1,6,    11.74,6,    16.55,6,     1.05,6,    1.946,2,    0.963,2,    0.146,2,    3.279,2,   2152.8,2,   2296.0,2,  55.097,3,  2.9267,   2199
   18HU97009_1,  AR27,    36,  1, 186656,   OC91,2,19970518,1008, 55.9932, -43.9898, 3365,   2400.7,   3.0266,  34.9247,2,  34.9244,2,    267.2,2,    275.3,6,    12.69,6,    16.65,6,     1.05,6,    1.586,2,    0.652,2,    0.126,2,    3.172,2,   2155.5,2,   2294.0,2,  37.243,3,  2.8359,   2401
   18HU97009_1,  AR27,    36,  1, 186655,   OC64,2,19970518,1008, 55.9932, -43.9898, 3365,   2602.4,   2.9255,  34.9314,2,  34.9316,2,    267.1,2,    274.2,6,    13.29,6,    16.20,6,     1.05,6,    1.500,2,    0.800,2, -999.000,5,    3.070,2,   2156.0,2,   2289.9,2, 100.130,4,  2.7169,   2602
   18HU97009_1,  AR27,    36,  1, 186654,   OC92,2,19970518,1008, 55.9932, -43.9898, 3365,   2847.2,   2.7214,  34.9235,2,  34.9242,2,    269.4,2,    275.5,6,    13.88,6,    16.38,6,     1.03,6,    1.547,2,    0.769,2,    0.136,2,    3.074,2,   2156.1,2,   2299.6,2,  44.091,4,  2.4924,   2847
   18HU97009_1,  AR27,    36,  1, 186653,   OC58,2,19970518,1008, 55.9932, -43.9898, 3365,   3100.7,   2.4881,  34.9141,2,  34.9145,2,    273.1,2,    277.5,6,    14.70,6,    16.07,6,     1.04,6,    1.634,2,    0.876,2,    0.136,2,    3.716,2,   2159.0,2,   2301.1,2,  37.971,3,  2.2382,   3101
   18HU97009_1,  AR27,    36,  1, 186652,   OC93,2,19970518,1008, 55.9932, -43.9898, 3365,   3301.3,   2.3366,  34.9059,2,  34.9075,2,    275.4,2,    278.9,6,    14.98,6,    15.88,6,     1.02,6,    1.850,2,    1.060,2, -999.000,5,    4.010,2,   2157.1,2,   2298.1,2, 110.090,4,  2.0694,   3301
   18HU97009_1,  AR27,    36,  1, 186651,   OC66,2,19970518,1008, 55.9932, -43.9898, 3365,   3392.0,   2.2686,  34.9036,2,  34.9079,2,    277.7,2,    281.4,6,    14.32,6,    15.76,6,     1.02,6,    2.092,2,    0.973,2,    0.156,2,    4.271,2,   2156.8,2,   2303.1,2,  46.911,3,  1.9934,   3392
   18HU97009_1,  AR27,    37,  6, 186684,   OC88,2,19970518,1731, 56.4822, -43.9938, 3384,      5.9,   4.5537,  34.6645,2,-999.0000,9,    329.7,2,   -999.0,9,  -999.00,9,  -999.00,9,  -999.00,9, -999.000,9, -999.000,9, -999.000,9, -999.000,9,   -999.0,9,   -999.0,9,-999.000,9,  4.5533,      6
   18HU97009_1,  AR27,    37,  6, 186685,   OC87,2,19970518,1731, 56.4822, -43.9938, 3384,      5.9,   4.5550,  34.6643,2,-999.0000,9,    329.6,2,   -999.0,9,  -999.00,9,  -999.00,9,  -999.00,9, -999.000,9, -999.000,9, -999.000,9, -999.000,9,   -999.0,9,   -999.0,9,-999.000,9,  4.5546,      6
   18HU97009_1,  AR27,    37,  6, 186682,   OC84,2,19970518,1731, 56.4822, -43.9938, 3384,      6.0,   4.5161,  34.6644,2,-999.0000,9,    329.5,2,   -999.0,9,  -999.00,9,  -999.00,9,  -999.00,9, -999.000,9, -999.000,9, -999.000,9, -999.000,9,   -999.0,9,   -999.0,9,-999.000,9,  4.5157,      6
   18HU97009_1,  AR27,    37,  6, 186683,   OC36,2,19970518,1731, 56.4822, -43.9938, 3384,      6.5,   4.5515,  34.6643,2,-999.0000,9,    329.2,2,   -999.0,9,  -999.00,9,  -999.00,9,  -999.00,9, -999.000,9, -999.000,9, -999.000,9, -999.000,9,   -999.0,9,   -999.0,9,-999.000,9,  4.5510,      7
   18HU97009_1,  AR27,    37,  6, 186687,   OC85,2,19970518,1731, 56.4822, -43.9938, 3384,      6.8,   4.5481,  34.6653,2,-999.0000,9,    329.6,2,   -999.0,9,  -999.00,9,  -999.00,9,  -999.00,9, -999.000,9, -999.000,9, -999.000,9, -999.000,9,   -999.0,9,   -999.0,9,-999.000,9,  4.5476,      7
   18HU97009_1,  AR27,    37,  6, 186689,   OC83,2,19970518,1731, 56.4822, -43.9938, 3384,      6.8,   4.5553,  34.6646,2,-999.0000,9,    329.1,2,   -999.0,9,  -999.00,9,  -999.00,9,  -999.00,9, -999.000,9, -999.000,9, -999.000,9, -999.000,9,   -999.0,9,   -999.0,9,-999.000,9,  4.5548,      7
   18HU97009_1,  AR27,    37,  6, 186686,   OC86,2,19970518,1731, 56.4822, -43.9938, 3384,      7.2,   4.5660,  34.6646,2,-999.0000,9,    329.1,2,   -999.0,9,  -999.00,9,  -999.00,9,  -999.00,9, -999.000,9, -999.000,9, -999.000,9, -999.000,9,   -999.0,9,   -999.0,9,-999.000,9,  4.5655,      7
   18HU97009_1,  AR27,    37,  6, 186688,   OC94,2,19970518,1731, 56.4822, -43.9938, 3384,      7.2,   4.5381,  34.6643,2,-999.0000,9,    329.1,2,   -999.0,9,  -999.00,9,  -999.00,9,  -999.00,9, -999.000,9, -999.000,9, -999.000,9, -999.000,9,   -999.0,9,   -999.0,9,-999.000,9,  4.5376,      7
   18HU97009_1,  AR27,    37,  6, 186713,   OC80,2,19970518,1731, 56.4822, -43.9938, 3384,      8.4,   4.4339,  34.6673,2,  34.6660,2,    317.9,2,    330.1,2,     6.67,6,    11.27,6,     0.73,6,    5.139,2,    2.638,2,    0.457,2,    7.426,3,   2122.7,2,   2331.5,3,  -0.973,4,  4.4333,      8
   18HU97009_1,  AR27,    37,  6, 186681,   OC90,2,19970518,1731, 56.4822, -43.9938, 3384,     19.5,   4.3096,  34.6663,2,-999.0000,9,    329.3,2,   -999.0,9,  -999.00,9,  -999.00,9,  -999.00,9, -999.000,9, -999.000,9, -999.000,9, -999.000,9,   -999.0,9,   -999.0,9,-999.000,9,  4.3082,     20
   18HU97009_1,  AR27,    37,  6, 186712,   OC55,2,19970518,1731, 56.4822, -43.9938, 3384,     24.2,   4.3233,  34.6678,2,  34.6693,2,    317.7,2,    329.2,6,     6.47,6,    11.15,6,     0.73,6,    5.158,2,    2.803,2,    0.418,2,    8.448,3,   2122.2,2,   2285.6,2,  -0.973,4,  4.3215,     24
   18HU97009_1,  AR27,    37,  6, 186680,   OC91,2,19970518,1731, 56.4822, -43.9938, 3384,     28.5,   4.2942,  34.6661,2,-999.0000,9,    329.4,2,   -999.0,9,  -999.00,9,  -999.00,9,  -999.00,9, -999.000,9, -999.000,9, -999.000,9, -999.000,9,   -999.0,9,   -999.0,9,-999.000,9,  4.2922,     29
   18HU97009_1,  AR27,    37,  6, 186679,   OC64,2,19970518,1731, 56.4822, -43.9938, 3384,     50.0,   3.8176,  34.6720,2,-999.0000,9,    328.3,2,   -999.0,9,  -999.00,9,  -999.00,9,  -999.00,9, -999.000,9, -999.000,9, -999.000,9, -999.000,9,   -999.0,9,   -999.0,9,-999.000,9,  3.8142,     50
   18HU97009_1,  AR27,    37,  6, 186711,   OC81,2,19970518,1731, 56.4822, -43.9938, 3384,     50.9,   4.1675,  34.6681,2,  34.6878,2,    313.5,2,    324.3,2,     6.90,6,    11.88,6,     0.77,6,    5.071,2,    2.676,2,    0.428,2,    7.650,3,   2127.2,2,   2285.2,2,  -0.973,4,  4.1639,     51
   18HU97009_1,  AR27,    37,  6, 186678,   OC92,2,19970518,1731, 56.4822, -43.9938, 3384,     74.5,   2.8806,  34.6992,2,-999.0000,9,    324.5,2,   -999.0,9,  -999.00,9,  -999.00,9,  -999.00,9, -999.000,9, -999.000,9, -999.000,9, -999.000,9,   -999.0,9,   -999.0,9,-999.000,9,  2.8761,     75
   18HU97009_1,  AR27,    37,  6, 186710,   OC69,2,19970518,1731, 56.4822, -43.9938, 3384,     74.8,   3.0093,  34.6881,2,  34.6678,2,    311.4,2,    319.9,2,     8.18,6,    14.49,6,     0.94,6,    5.170,6,    2.799,6,    0.337,6,    7.811,3,   2143.0,2,   2282.6,2,   0.000,3,  3.0047,     75
   18HU97009_1,  AR27,    37,  6, 186677,   OC58,2,19970518,1731, 56.4822, -43.9938, 3384,     99.7,   2.7058,  34.7159,2,-999.0000,9,    320.8,2,   -999.0,9,  -999.00,9,  -999.00,9,  -999.00,9, -999.000,9, -999.000,9, -999.000,9, -999.000,9,   -999.0,9,   -999.0,9,-999.000,9,  2.6999,    100
   18HU97009_1,  AR27,    37,  6, 186709,   OC52,2,19970518,1731, 56.4822, -43.9938, 3384,     99.8,   2.5862,  34.7075,2,  34.7074,2,    305.2,2,    312.0,2,     9.30,3,    15.72,6,     0.98,6,    4.982,2,    2.695,2,    0.253,2,    7.376,3,   2148.8,2,   2279.7,2,  -0.973,4,  2.5804,    100
   18HU97009_1,  AR27,    37,  6, 186708,   OC51,2,19970518,1731, 56.4822, -43.9938, 3384,    149.0,   2.6280,  34.7309,2,  34.7306,2,    302.1,2,    308.9,2,     8.51,6,    15.70,6,     1.00,6,    4.836,2,    2.666,2,    0.341,2,    7.210,3,   2150.7,2,   2280.2,2,  -0.973,4,  2.6193,    149
   18HU97009_1,  AR27,    37,  6, 186676,   OC93,2,19970518,1731, 56.4822, -43.9938, 3384,    149.1,   3.1395,  34.8030,2,-999.0000,9,    301.3,2,   -999.0,9,  -999.00,9,  -999.00,9,  -999.00,9, -999.000,9, -999.000,9, -999.000,9, -999.000,9,   -999.0,9,   -999.0,9,-999.000,9,  3.1302,    149
   18HU97009_1,  AR27,    37,  6, 186675,   OC66,2,19970518,1731, 56.4822, -43.9938, 3384,    200.2,   2.5986,  34.7516,2,-999.0000,9,    326.0,2,   -999.0,9,  -999.00,9,  -999.00,9,  -999.00,9, -999.000,9, -999.000,9, -999.000,9, -999.000,9,   -999.0,9,   -999.0,9,-999.000,9,  2.5868,    200
   18HU97009_1,  AR27,    37,  6, 186707,   OC56,3,19970518,1731, 56.4822, -43.9938, 3384,    201.5,   2.6488,  34.7478,2,-999.0000,9,    302.1,2,   -999.0,9,  -999.00,9,  -999.00,9,  -999.00,9, -999.000,9, -999.000,9, -999.000,9, -999.000,9,   -999.0,9,   -999.0,9,-999.000,9,  2.6369,    202
   18HU97009_1,  AR27,    37,  6, 186706,   OC61,2,19970518,1731, 56.4822, -43.9938, 3384,    299.5,   2.8773,  34.7918,2,  34.7914,2,    294.2,2,    301.3,2,     9.09,6,    16.19,6,     1.02,6,    4.408,2,    2.238,2,    0.282,2,    6.480,2,   2154.1,2,   2283.4,2,  -0.973,4,  2.8588,    300
   18HU97009_1,  AR27,    37,  6, 186705,   OC82,2,19970518,1731, 56.4822, -43.9938, 3384,    402.9,   2.8453,  34.7983,2,  34.8183,2,    297.6,2,    305.0,2,     9.01,6,    16.34,6,     1.03,6,    4.515,2,    2.510,2,    0.321,2,    6.655,2,   2151.7,2,   2287.3,2,  -0.973,4,  2.8202,    403
   18HU97009_1,  AR27,    37,  6, 186704,   OC83,2,19970518,1731, 56.4822, -43.9938, 3384,    602.1,   2.9572,  34.8194,2,  34.8183,2,    294.5,2,    302.6,2,     9.10,6,    16.58,6,     1.02,6,    4.330,2,    2.287,2,    0.302,2,    6.811,3,   2151.4,2,   2287.2,2,  -0.973,4,  2.9181,    602
   18HU97009_1,  AR27,    37,  6, 186703,   OC94,2,19970518,1731, 56.4822, -43.9938, 3384,    802.1,   3.1809,  34.8581,2,  34.8527,2,    278.3,2,    286.5,2,     9.95,6,    16.84,6,     1.06,6,    3.550,2,    1.660,2, -999.000,5,    5.720,2,   2157.8,2,   2289.2,2,  -1.000,4,  3.1261,    802
   18HU97009_1,  AR27,    37,  6, 186702,   OC85,2,19970518,1731, 56.4822, -43.9938, 3384,    998.0,   3.0522,  34.8521,2,  34.8525,2,    282.6,2,    290.8,2,    10.11,6,    16.78,6,     1.03,6,    3.483,2,    1.751,2,    0.224,2,    5.342,2,   2154.1,2,   2286.4,2,   0.000,3,  2.9834,    998
   18HU97009_1,  AR27,    37,  6, 186701,   OC86,2,19970518,1731, 56.4822, -43.9938, 3384,   1209.0,   2.9782,  34.8485,2,  34.8478,2,    285.9,2,    293.8,2,    10.00,6,    16.88,6,     1.03,6,    3.658,2,    1.975,2,    0.253,2,    5.663,2,   2154.4,2,   2287.2,2,  -0.973,4,  2.8936,   1209
   18HU97009_1,  AR27,    37,  6, 186700,   OC87,2,19970518,1731, 56.4822, -43.9938, 3384,   1404.0,   2.9221,  34.8450,2,  34.8444,2,    288.1,2,    296.3,2,     9.85,6,    16.62,6,     1.02,6,    3.765,2,    1.790,2,    0.214,2,    5.634,2,   2155.6,2,   2288.4,2,  -0.973,4,  2.8224,   1404
   18HU97009_1,  AR27,    37,  6, 186699,   OC88,2,19970518,1731, 56.4822, -43.9938, 3384,   1601.3,   2.9019,  34.8439,2,  34.8435,2,    288.6,2,    297.5,2,    10.59,3,    16.72,6,     1.03,6,    3.688,2,    1.790,2,    0.156,2,    5.799,2,   2157.3,2,   2291.6,2,  -0.973,4,  2.7860,   1601
   18HU97009_1,  AR27,    37,  6, 186698,   OC36,2,19970518,1731, 56.4822, -43.9938, 3384,   1797.1,   2.8814,  34.8420,2,  34.8413,2,    289.5,2,    298.3,2,     9.77,6,    16.63,6,     1.03,6,    3.840,2,    2.010,2, -999.000,5,    5.930,2,   2154.1,2,   2289.2,2,  -1.000,4,  2.7490,   1797
   18HU97009_1,  AR27,    37,  6, 186697,   OC84,2,19970518,1731, 56.4822, -43.9938, 3384,   2000.4,   2.9371,  34.8541,2,  34.8537,2,    286.1,2,    294.4,2,    10.04,6,    16.46,6,     1.03,6,    3.415,2,    1.664,2,    0.214,2,    5.157,3,   2152.5,2,   2290.2,2,  -0.973,4,  2.7857,   2000
   18HU97009_1,  AR27,    37,  6, 186696,   OC90,2,19970518,1731, 56.4822, -43.9938, 3384,   2198.1,   3.0678,  34.8879,2,  34.8875,2,    277.0,2,    285.1,2,    11.02,6,    16.77,6,     1.03,6,    2.500,2,    1.226,2,    0.204,2,    3.843,2,   2155.0,2,   2292.1,2,  -0.973,4,  2.8959,   2198
   18HU97009_1,  AR27,    37,  6, 186695,   OC91,2,19970518,1731, 56.4822, -43.9938, 3384,   2397.6,   3.0882,  34.9093,2,  34.9087,2,    271.9,2,    279.1,2,    12.40,3,    16.55,6,     1.03,6,    1.917,2,    0.953,2,    0.175,2,    3.318,2,   2155.8,2,   2293.2,2,   0.000,3,  2.8968,   2398
   18HU97009_1,  AR27,    37,  6, 186694,   OC64,3,19970518,1731, 56.4822, -43.9938, 3384,   2597.3,   3.0084,  34.9234,2,  34.9230,2,    270.1,2,    276.2,2,    12.57,6,    16.57,6,     1.03,6,    1.586,2,    0.808,2,    0.185,2,    2.744,2,   2158.4,2,   2298.4,2,  -0.973,4,  2.7987,   2597
   18HU97009_1,  AR27,    37,  6, 186693,   OC92,2,19970518,1731, 56.4822, -43.9938, 3384,   2849.5,   2.8488,  34.9272,2,  34.9253,6,    270.6,2,    275.9,2,    13.61,6,    16.40,6,     1.02,6,    1.498,2,    0.671,2,    0.146,2,    2.559,2,   2158.7,2,   2299.1,2,   0.000,3,  2.6169,   2850
   18HU97009_1,  AR27,    37,  6, 186692,   OC58,2,19970518,1731, 56.4822, -43.9938, 3384,   3101.6,   2.5779,  34.9184,2,  34.9187,2,    274.1,2,    277.6,2,    14.80,6,    16.31,6,     1.02,6,    1.469,2,    0.730,2,    0.204,2,    2.773,2,   2160.1,2,   2300.0,6,   0.000,3,  2.3259,   3102
   18HU97009_1,  AR27,    37,  6, 186691,   OC93,2,19970518,1731, 56.4822, -43.9938, 3384,   3299.4,   2.4075,  34.9093,2,  34.9091,2,    276.6,2,    279.8,2,    15.02,6,    16.14,6,     1.01,6,    1.703,2,    0.837,2,    0.165,2,    3.201,2,   2158.8,6,   2299.5,2,  -0.973,4,  2.1388,   3299
   18HU97009_1,  AR27,    37,  6, 186690,   OC66,2,19970518,1731, 56.4822, -43.9938, 3384,   3411.6,   2.2377,  34.9017,2,  34.9024,2,    280.8,2,    283.9,6,    14.28,6,    15.62,6,     1.00,6,    2.150,2,    0.963,2,    0.214,2,    3.804,2,   2159.8,2,   2300.3,2,  -0.973,4,  1.9612,   3412