BOTTLE,20020708WHPSIOKJU
EXPOCODE,SECT_ID,STNNBR,CASTNO,SAMPNO,BTLNBR,BTLNBR_FLAG_W,DATE,TIME,LATITUDE,LONGITUDE,DEPTH,CTDPRS,CTDTMP,CTDSAL,CTDSAL_FLAG_W,SALNTY,SALNTY_FLAG_W,CTDOXY,CTDOXY_FLAG_W,OXYGEN,OXYGEN_FLAG_W,SILCAT,SILCAT_FLAG_W,NO2+NO3,NO2+NO3_FLAG_W,PHSPHT,PHSPHT_FLAG_W,CFC-11,CFC-11_FLAG_W,CFC-12,CFC-12_FLAG_W,CFC113,CFC113_FLAG_W,CCL4,CCL4_FLAG_W,TCARBN,TCARBN_FLAG_W,ALKALI,ALKALI_FLAG_W,MCHFRM,MCHFRM_FLAG_W,THETA,CTDRAW
,,,,,,,,,,,,DBAR,ITS-90,PSS-78,,PSS-78,,UMOL/KG,,UMOL/KG,,UMOL/KG,,UMOL/KG,,UMOL/KG,,PMOL/KG,,PMOL/KG,,PMOL/KG,,PMOL/KG,,UMOL/KG,,UMOL/KG,,PMOL/KG,,DEG C,
   18HU97009_1,  AR27,   103,  3, 187960,   OC69,2,19970603,1249, 62.2118, -57.2993, 2538,      7.7,   3.6489,  34.2345,2,  34.2632,2,    321.1,2,    343.2,2,     1.08,6,     1.16,6,     0.34,6,    6.036,2,    3.183,2,    0.360,3,    9.443,2,   2062.0,2,   -999.0,5,  59.170,3,  3.6484,      8
   18HU97009_1,  AR27,   103,  3, 187961,   OC81,2,19970603,1249, 62.2118, -57.2993, 2538,      7.7,   3.6278,  34.2377,2,-999.0000,9,    321.7,2,   -999.0,9,  -999.00,9,  -999.00,9,  -999.00,9, -999.000,9, -999.000,9, -999.000,9, -999.000,9,   -999.0,9,   -999.0,9,-999.000,9,  3.6273,      8
   18HU97009_1,  AR27,   103,  3, 187962,   OC55,2,19970603,1249, 62.2118, -57.2993, 2538,      7.7,   3.6099,  34.2402,2,-999.0000,9,    322.1,2,   -999.0,9,  -999.00,9,  -999.00,9,  -999.00,9, -999.000,9, -999.000,9, -999.000,9, -999.000,9,   -999.0,9,   -999.0,9,-999.000,9,  3.6094,      8
   18HU97009_1,  AR27,   103,  3, 187963,   OC80,2,19970603,1249, 62.2118, -57.2993, 2538,      7.7,   3.6225,  34.2368,2,-999.0000,9,    321.9,2,   -999.0,9,  -999.00,9,  -999.00,9,  -999.00,9, -999.000,9, -999.000,9, -999.000,9, -999.000,9,   -999.0,9,   -999.0,9,-999.000,9,  3.6220,      8
   18HU97009_1,  AR27,   103,  3, 187959,   OC52,2,19970603,1249, 62.2118, -57.2993, 2538,     49.4,   2.6399,  34.4113,2,  34.4152,2,    312.9,2,    333.7,2,     3.29,6,     5.47,6,     0.63,6,    5.957,2,    3.212,2,    0.341,3,    9.236,2,   2100.0,2,   -999.0,5,  53.998,4,  2.6370,     49
   18HU97009_1,  AR27,   103,  3, 187958,   OC51,2,19970603,1249, 62.2118, -57.2993, 2538,    110.0,   3.3471,  34.6935,2,  34.6943,2,    283.5,2,    302.5,2,     6.99,6,    12.53,6,     0.93,6,    5.206,2,    2.773,2,    0.292,3,    8.710,2,   2141.5,2,   -999.0,5,  44.297,4,  3.3401,    110
   18HU97009_1,  AR27,   103,  3, 187957,   OC56,3,19970603,1249, 62.2118, -57.2993, 2538,    199.0,   3.7609,  34.8031,2,  34.8036,2,    277.1,2,    295.5,2,     7.77,6,    14.72,6,     0.98,6,    4.758,2,    2.549,2,    0.243,2,    7.970,3,   2146.7,2,   -999.0,5,  39.488,3,  3.7473,    199
   18HU97009_1,  AR27,   103,  3, 187956,   OC61,2,19970603,1249, 62.2118, -57.2993, 2538,    299.6,   3.5844,  34.8071,2,  34.8073,2,    278.2,2,    295.2,2,     7.87,6,    15.19,6,     0.98,6,    4.671,2,    2.403,2,    0.253,2,    8.427,2,   2147.3,2,   -999.0,5,  41.005,4,  3.5642,    300
   18HU97009_1,  AR27,   103,  3, 187955,   OC82,2,19970603,1249, 62.2118, -57.2993, 2538,    410.1,   3.5301,  34.8170,2,  34.8167,2,    278.5,2,    295.5,2,     8.05,6,    15.39,6,     0.98,6,    4.729,2,    2.598,2,    0.234,2,    8.310,2,   2146.9,2,   -999.0,5,  41.705,4,  3.5022,    410
   18HU97009_1,  AR27,   103,  3, 187954,   OC83,2,19970603,1249, 62.2118, -57.2993, 2538,    549.5,   3.6239,  34.8475,2,  34.8472,2,    274.4,2,    291.2,2,     8.27,6,    15.58,6,     0.99,6,    4.457,2,    2.374,2,    0.214,2,    8.319,2,   2150.7,2,   -999.0,5,  38.523,2,  3.5855,    550
   18HU97009_1,  AR27,   103,  3, 187953,   OC94,2,19970603,1249, 62.2118, -57.2993, 2538,    700.7,   3.6588,  34.8724,2,  34.8735,2,    270.2,2,    285.3,2,     8.86,6,    16.24,6,     1.03,6,    4.135,2,    2.189,2,    0.204,2,    7.872,2,   2154.0,2,   -999.0,5,  35.515,2,  3.6088,    701
   18HU97009_1,  AR27,   103,  3, 187952,   OC85,2,19970603,1249, 62.2118, -57.2993, 2538,    874.4,   3.5377,  34.8861,2,  34.8859,2,    268.8,2,    283.4,2,     9.67,6,    16.45,6,     1.06,6,    3.717,2,    2.014,2,    0.175,2,    6.821,2,   2155.4,2,   -999.0,5,  32.138,3,  3.4749,    874
   18HU97009_1,  AR27,   103,  3, 187951,   OC86,2,19970603,1249, 62.2118, -57.2993, 2538,   1071.1,   3.2888,  34.8784,2,  34.8792,2,    274.2,2,    287.9,2,     9.54,6,    16.72,6,     1.06,6,    3.911,2,    1.946,2,    0.175,2,    6.762,2,   2154.8,2,   -999.0,5,  34.726,2,  3.2124,   1071
   18HU97009_1,  AR27,   103,  3, 187950,   OC87,2,19970603,1249, 62.2118, -57.2993, 2538,   1262.6,   3.1122,  34.8686,2,  34.8680,6,    279.1,2,    292.0,2,     9.57,6,    16.68,6,     1.06,6,    3.814,2,    1.995,2,    0.185,2,    6.480,2,   2153.4,2,   -999.0,5,  34.317,2,  3.0220,   1263
   18HU97009_1,  AR27,   103,  3, 187949,   OC88,2,19970603,1249, 62.2118, -57.2993, 2538,   1457.2,   2.9938,  34.8607,2,  34.8603,2,    282.1,2,    294.2,2,     9.46,6,    16.46,6,     1.04,6,    3.843,2,    2.043,2,    0.175,2,    6.159,2,   2153.0,2,   -999.0,5,  34.278,2,  2.8889,   1457
   18HU97009_1,  AR27,   103,  3, 187948,   OC36,3,19970603,1249, 62.2118, -57.2993, 2538,   1612.3,   2.9672,  34.8666,2,  34.8661,6,    280.8,2,    292.3,6,     9.62,6,    16.11,6,     1.04,6,    3.756,2,    1.956,2,    0.156,2,    6.441,3,   2153.4,2,   -999.0,5,  33.781,2,  2.8495,   1612
   18HU97009_1,  AR27,   103,  3, 187947,   OC84,2,19970603,1249, 62.2118, -57.2993, 2538,   1783.3,   2.9295,  34.8872,2,  34.8874,6,    276.8,2,    287.3,2,    10.21,6,    16.22,6,     1.02,6,    3.143,2,    1.586,2,    0.136,2,    6.139,2,   2153.8,2,   -999.0,5,  29.208,2,  2.7975,   1783
   18HU97009_1,  AR27,   103,  3, 187946,   OC90,2,19970603,1249, 62.2118, -57.2993, 2538,   1938.4,   2.8295,  34.8967,2,  34.8967,6,    276.1,2,    285.0,2,    10.58,6,    15.92,6,     1.00,6,    2.860,2,    1.489,2,    0.126,2,    6.256,2,   2154.2,2,   -999.0,5,  26.152,2,  2.6852,   1938
   18HU97009_1,  AR27,   103,  3, 187945,   OC91,2,19970603,1249, 62.2118, -57.2993, 2538,   2080.2,   2.6539,  34.9009,2,  34.9005,6,    277.1,2,    285.1,2,    10.83,6,    15.79,6,     1.02,6,    2.821,6,    1.394,6,    0.000,6,    6.491,3,   2154.4,2,   -999.0,5,  26.439,6,  2.4995,   2080
   18HU97009_1,  AR27,   103,  3, 187944,   OC64,2,19970603,1249, 62.2118, -57.2993, 2538,   2209.5,   2.4727,  34.9018,2,  34.9015,6,    279.2,2,    285.8,2,    10.96,6,    15.59,6,     1.00,6,    2.744,2,    1.440,2,    0.126,2,    6.742,2,   2154.4,2,   -999.0,5,  25.898,2,  2.3095,   2210
   18HU97009_1,  AR27,   103,  3, 187943,   OC95,2,19970603,1249, 62.2118, -57.2993, 2538,   2319.8,   2.3216,  34.9005,2,  34.9000,2,    281.5,2,    287.1,2,    10.94,6,    15.28,6,     1.00,6,    2.841,2,    1.489,2,    0.000,2,    7.170,2,   2155.0,6,   -999.0,5,  26.705,3,  2.1510,   2320
   18HU97009_1,  AR27,   103,  3, 187942,   OC58,2,19970603,1249, 62.2118, -57.2993, 2538,   2418.6,   2.1244,  34.8976,2,  34.8970,6,    285.4,2,    289.6,2,    10.79,6,    15.00,6,     0.98,6,    3.026,2,    1.595,2,    0.136,2,    7.277,2,   2155.1,2,   -999.0,5,  27.085,3,  1.9483,   2419
   18HU97009_1,  AR27,   103,  3, 187941,   OC93,2,19970603,1249, 62.2118, -57.2993, 2538,   2489.9,   2.0188,  34.8964,2,  34.8959,2,    287.5,2,    290.6,2,    10.99,6,    14.89,6,     0.96,6,    3.123,2,    1.634,2,    0.156,2,    7.656,2,   2155.6,2,   -999.0,5,  28.904,3,  1.8381,   2490
   18HU97009_1,  AR27,   103,  3, 187940,   OC66,2,19970603,1249, 62.2118, -57.2993, 2538,   2541.4,   1.7926,  34.8940,2,  34.8935,6,    291.6,2,    292.8,2,    10.73,6,    14.77,6,     0.97,6,    3.424,2,    1.790,2,    0.136,2,    8.113,3,   2156.8,2,   -999.0,5,  30.411,3,  1.6114,   2541
   18HU97009_1,  AR27,   104,  2, 187987,   OC80,2,19970603,1825, 61.6050, -56.8972, 2744,      7.5,   4.0338,  34.4302,2,-999.0000,9,    326.1,2,   -999.0,9,  -999.00,9,  -999.00,9,  -999.00,9, -999.000,9, -999.000,9, -999.000,9, -999.000,9,   -999.0,9,   -999.0,9,-999.000,9,  4.0333,      8
   18HU97009_1,  AR27,   104,  2, 187986,   OC55,2,19970603,1825, 61.6050, -56.8972, 2744,      7.6,   4.0335,  34.4280,2,  34.4321,2,    326.3,2,    348.6,2,     1.74,6,     1.81,6,     0.34,6,    5.422,2,    3.027,2,    0.350,2,    8.751,2,   2061.8,2,   -999.0,5,  64.624,3,  4.0330,      8
   18HU97009_1,  AR27,   104,  2, 187985,   OC81,2,19970603,1825, 61.6050, -56.8972, 2744,     50.1,   3.3556,  34.6333,2,  34.6327,2,    303.1,2,    321.5,2,     5.95,6,    10.01,6,     0.82,6,    5.197,2,    2.920,2,    0.302,2,    8.321,2,   2124.2,2,   -999.0,5,  58.089,3,  3.3524,     50
   18HU97009_1,  AR27,   104,  2, 187984,   OC69,2,19970603,1825, 61.6050, -56.8972, 2744,    110.1,   3.6633,  34.7636,2,  34.7630,2,    283.7,2,    299.7,2,     7.46,6,    13.68,6,     0.96,6,    4.620,2,    2.540,2, -999.000,5,    7.050,3,   2141.9,2,   -999.0,5,  53.000,4,  3.6560,    110
   18HU97009_1,  AR27,   104,  2, 187983,   OC52,2,19970603,1825, 61.6050, -56.8972, 2744,    190.0,   3.7665,  34.8160,2,  34.8124,2,    275.9,2,    291.1,2,     8.21,6,    14.97,6,     0.99,6,    4.282,2,    2.335,2,    0.234,2,    7.561,2,   2146.6,2,   -999.0,5,  42.835,3,  3.7535,    190
   18HU97009_1,  AR27,   104,  2, 187982,   OC51,2,19970603,1825, 61.6050, -56.8972, 2744,    289.8,   3.4473,  34.7926,2,  34.7920,2,    285.1,2,    300.3,2,     7.71,6,    15.03,6,     0.97,6,    4.661,2,    2.569,2,    0.321,2,    8.291,2,   2143.3,2,   -999.0,5,  50.570,4,  3.4280,    290
   18HU97009_1,  AR27,   104,  2, 187981,   OC60,3,19970603,1825, 61.6050, -56.8972, 2744,    404.6,   3.4522,  34.8068,2,-999.0000,9,    283.4,2,   -999.0,9,  -999.00,9,  -999.00,9,  -999.00,9,    4.505,2,    2.384,2,    0.243,2,    8.310,2,   -999.0,9,   -999.0,9,  45.938,4,  3.4249,    405
   18HU97009_1,  AR27,   104,  2, 187980,   OC61,2,19970603,1825, 61.6050, -56.8972, 2744,    527.8,   3.5052,  34.8261,2,  34.8254,2,    279.8,2,    293.5,2,     8.50,6,    15.75,6,     1.00,6,    4.247,6,    2.243,6,    0.227,6,    8.086,6,   2149.5,2,   -999.0,5,  38.863,2,  3.4689,    528
   18HU97009_1,  AR27,   104,  2, 187979,   OC82,3,19970603,1825, 61.6050, -56.8972, 2744,    670.9,   3.5504,  34.8443,2,-999.0000,9,    279.6,2,   -999.0,9,  -999.00,9,  -999.00,9,  -999.00,9, -999.000,9, -999.000,9, -999.000,9, -999.000,9,   -999.0,9,   -999.0,9,-999.000,9,  3.5033,    671
   18HU97009_1,  AR27,   104,  2, 187978,   OC83,2,19970603,1825, 61.6050, -56.8972, 2744,    829.9,   3.6026,  34.8679,2,  34.8674,2,    274.7,2,    287.5,2,     9.00,6,    16.05,6,     1.03,6,    3.960,2,    2.141,2,    0.204,2,    7.628,2,   2152.0,2,   -999.0,5,  40.760,3,  3.5430,    830
   18HU97009_1,  AR27,   104,  2, 187977,   OC94,2,19970603,1825, 61.6050, -56.8972, 2744,   1001.4,   3.4792,  34.8755,2,  34.8749,2,    274.5,2,    287.0,2,     9.13,6,    16.51,6,     1.05,6,    3.804,2,    2.306,2,    0.195,2,    7.619,2,   2153.3,2,   -999.0,5,  38.628,2,  3.4068,   1001
   18HU97009_1,  AR27,   104,  2, 187976,   OC85,2,19970603,1825, 61.6050, -56.8972, 2744,   1130.0,   3.3787,  34.8769,2,  34.8764,2,    275.8,2,    287.3,2,     9.36,6,    16.71,6,     1.06,6,    3.688,2,    1.975,2,    0.195,2,    7.589,2,   2153.8,2,   -999.0,5,  39.046,2,  3.2968,   1130
   18HU97009_1,  AR27,   104,  2, 187975,   OC86,2,19970603,1825, 61.6050, -56.8972, 2744,   1299.9,   3.2282,  34.8705,2,  34.8700,2,    279.1,2,    289.1,2,     9.29,6,    16.57,6,     1.06,6,    3.707,2,    2.004,2,    0.165,2,    7.716,2,   2153.8,2,   -999.0,5,  36.175,2,  3.1338,   1300
   18HU97009_1,  AR27,   104,  2, 187974,   OC87,2,19970603,1825, 61.6050, -56.8972, 2744,   1499.3,   3.0904,  34.8645,2,  34.8638,6,    283.5,2,    292.8,2,     9.45,6,    16.72,6,     1.05,6,    3.670,2,    1.980,2, -999.000,5,    6.790,3,   2152.7,2,   -999.0,5,  41.990,4,  2.9808,   1499
   18HU97009_1,  AR27,   104,  2, 187972,   OC65,2,19970603,1825, 61.6050, -56.8972, 2744,   1810.5,   2.9459,  34.8556,2,  34.8550,2,    286.7,2,    294.8,2,     9.47,6,    16.70,6,     1.05,6,    3.658,2,    1.926,2,    0.146,2,    7.609,2,   2152.6,2,   -999.0,5,  34.112,2,  2.8114,   1811
   18HU97009_1,  AR27,   104,  2, 187971,   OC84,2,19970603,1825, 61.6050, -56.8972, 2744,   1962.0,   2.9987,  34.8764,2,  34.8767,6,    282.5,2,    290.0,6,     9.81,6,    16.39,6,     1.05,6,    3.162,2,    1.703,2,    0.146,2,    5.886,3,   2152.6,2,   -999.0,5,  32.370,2,  2.8498,   1962
   18HU97009_1,  AR27,   104,  2, 187970,   OC90,2,19970603,1825, 61.6050, -56.8972, 2744,   2102.9,   2.9669,  34.8890,2,  34.8910,6,    280.3,2,    286.9,2,    10.22,6,    16.21,6,     1.05,6,    2.919,2,    1.459,2,    0.146,2,    6.723,2,   -999.0,9,   -999.0,9,  32.769,2,  2.8056,   2103
   18HU97009_1,  AR27,   104,  2, 187969,   OC91,2,19970603,1825, 61.6050, -56.8972, 2744,   2251.1,   2.8878,  34.8965,2,  34.8986,6,    279.9,2,    285.3,2,    10.56,6,    16.16,6,     1.03,6,    2.724,2,    1.362,2,    0.175,2,    6.159,2,   2152.6,2,   -999.0,5,  27.242,3,  2.7139,   2251
   18HU97009_1,  AR27,   104,  2, 187968,   OC64,2,19970603,1825, 61.6050, -56.8972, 2744,   2375.9,   2.7636,  34.8998,2,  34.9054,6,    280.6,2,    285.0,2,    10.69,6,    15.84,6,     1.02,6,    2.700,2,    1.470,2, -999.000,5,    5.510,2,   2153.9,6,   -999.0,5,  28.400,3,  2.5801,   2376
   18HU97009_1,  AR27,   104,  2, 187967,   OC95,2,19970603,1825, 61.6050, -56.8972, 2744,   2491.5,   2.5855,  34.9025,2,  34.8978,2,    282.5,2,    285.3,2,    10.91,6,    15.67,6,     1.01,6,    2.627,2,    1.352,2,    0.068,3,    6.110,2,   2154.3,2,   -999.0,5,  35.647,3,  2.3941,   2492
   18HU97009_1,  AR27,   104,  2, 187966,   OC58,2,19970603,1825, 61.6050, -56.8972, 2744,   2593.7,   2.3989,  34.9009,2,  34.9010,6,    285.3,2,    286.6,2,    11.03,6,    15.66,6,     1.01,6, -999.000,9, -999.000,9, -999.000,9, -999.000,9,   2155.2,2,   -999.0,5,-999.000,9,  2.2013,   2594
   18HU97009_1,  AR27,   104,  2, 187965,   OC93,2,19970603,1825, 61.6050, -56.8972, 2744,   2678.6,   2.1535,  34.8979,2,  34.8986,2,    289.7,2,    289.0,2,    10.83,6,    14.95,6,     0.97,6,    2.782,2,    1.469,2,    0.078,3,    6.431,2,   2155.7,2,   -999.0,5,  29.410,3,  1.9526,   2679
   18HU97009_1,  AR27,   104,  2, 187964,   OC66,2,19970603,1825, 61.6050, -56.8972, 2744,   2753.0,   1.9013,  34.8950,2,  34.8945,6,    294.2,2,    292.3,2,    10.32,6,    14.66,6,     0.96,6,    3.094,2,    1.644,2,    0.000,2,    7.773,2,   2157.0,2,   -999.0,5,  32.717,3,  1.6984,   2753