BOTTLE,20020708WHPSIOKJU
EXPOCODE,SECT_ID,STNNBR,CASTNO,SAMPNO,BTLNBR,BTLNBR_FLAG_W,DATE,TIME,LATITUDE,LONGITUDE,DEPTH,CTDPRS,CTDTMP,CTDSAL,CTDSAL_FLAG_W,SALNTY,SALNTY_FLAG_W,CTDOXY,CTDOXY_FLAG_W,OXYGEN,OXYGEN_FLAG_W,SILCAT,SILCAT_FLAG_W,NO2+NO3,NO2+NO3_FLAG_W,PHSPHT,PHSPHT_FLAG_W,CFC-11,CFC-11_FLAG_W,CFC-12,CFC-12_FLAG_W,CFC113,CFC113_FLAG_W,CCL4,CCL4_FLAG_W,TCARBN,TCARBN_FLAG_W,ALKALI,ALKALI_FLAG_W,MCHFRM,MCHFRM_FLAG_W,THETA,CTDRAW
,,,,,,,,,,,,DBAR,ITS-90,PSS-78,,PSS-78,,UMOL/KG,,UMOL/KG,,UMOL/KG,,UMOL/KG,,UMOL/KG,,PMOL/KG,,PMOL/KG,,PMOL/KG,,PMOL/KG,,UMOL/KG,,UMOL/KG,,PMOL/KG,,DEG C,
   18HU97009_1,  AR13,    30,  2, 186489,   OC85,2,19970516,1846, 52.9968, -44.0037, 3813,      8.3,   7.9663,  34.7303,2,-999.0000,9,    282.6,2,   -999.0,9,  -999.00,9,  -999.00,9,  -999.00,9, -999.000,9, -999.000,9, -999.000,9, -999.000,9,   -999.0,9,   -999.0,9,-999.000,9,  7.9655,      8
   18HU97009_1,  AR13,    30,  2, 186485,   OC36,2,19970516,1846, 52.9968, -44.0037, 3813,      8.5,   7.9676,  34.7308,2,-999.0000,9,    283.1,2,   -999.0,9,  -999.00,9,  -999.00,9,  -999.00,9, -999.000,9, -999.000,9, -999.000,9, -999.000,9,   -999.0,9,   -999.0,9,-999.000,9,  7.9667,      9
   18HU97009_1,  AR13,    30,  2, 186484,   OC84,2,19970516,1846, 52.9968, -44.0037, 3813,      8.6,   7.9690,  34.7307,2,-999.0000,9,    284.1,2,   -999.0,9,  -999.00,9,  -999.00,9,  -999.00,9, -999.000,9, -999.000,9, -999.000,9, -999.000,9,   -999.0,9,   -999.0,9,-999.000,9,  7.9681,      9
   18HU97009_1,  AR13,    30,  2, 186491,   OC83,2,19970516,1846, 52.9968, -44.0037, 3813,      8.6,   7.9536,  34.7286,2,-999.0000,9,    282.7,2,   -999.0,9,  -999.00,9,  -999.00,9,  -999.00,9, -999.000,9, -999.000,9, -999.000,9, -999.000,9,   -999.0,9,   -999.0,9,-999.000,9,  7.9527,      9
   18HU97009_1,  AR13,    30,  2, 186486,   OC88,2,19970516,1846, 52.9968, -44.0037, 3813,      8.8,   7.9665,  34.7305,2,-999.0000,9,    282.7,2,   -999.0,9,  -999.00,9,  -999.00,9,  -999.00,9, -999.000,9, -999.000,9, -999.000,9, -999.000,9,   -999.0,9,   -999.0,9,-999.000,9,  7.9656,      9
   18HU97009_1,  AR13,    30,  2, 186490,   OC94,2,19970516,1846, 52.9968, -44.0037, 3813,      8.9,   7.9557,  34.7288,2,-999.0000,9,    282.6,2,   -999.0,9,  -999.00,9,  -999.00,9,  -999.00,9, -999.000,9, -999.000,9, -999.000,9, -999.000,9,   -999.0,9,   -999.0,9,-999.000,9,  7.9548,      9
   18HU97009_1,  AR13,    30,  2, 186488,   OC86,2,19970516,1846, 52.9968, -44.0037, 3813,      9.2,   7.9661,  34.7303,2,-999.0000,9,    282.9,2,   -999.0,9,  -999.00,9,  -999.00,9,  -999.00,9, -999.000,9, -999.000,9, -999.000,9, -999.000,9,   -999.0,9,   -999.0,9,-999.000,9,  7.9652,      9
   18HU97009_1,  AR13,    30,  2, 186487,   OC87,2,19970516,1846, 52.9968, -44.0037, 3813,      9.3,   7.9665,  34.7302,2,-999.0000,9,    282.8,2,   -999.0,9,  -999.00,9,  -999.00,9,  -999.00,9, -999.000,9, -999.000,9, -999.000,9, -999.000,9,   -999.0,9,   -999.0,9,-999.000,9,  7.9656,      9
   18HU97009_1,  AR13,    30,  2, 186515,   OC80,2,19970516,1846, 52.9968, -44.0037, 3813,      9.9,   8.2076,  34.8491,2,  34.8501,2,    280.8,2,    301.8,2,     1.28,6,     6.04,6,     0.44,6,    4.070,2,    2.250,2, -999.000,5,    7.060,3,   2086.2,3,   2304.5,2, 560.160,3,  8.2066,     10
   18HU97009_1,  AR13,    30,  2, 186483,   OC90,2,19970516,1846, 52.9968, -44.0037, 3813,     20.1,   7.9687,  34.7302,2,-999.0000,9,    282.1,2,   -999.0,9,  -999.00,9,  -999.00,9,  -999.00,9, -999.000,9, -999.000,9, -999.000,9, -999.000,9,   -999.0,9,   -999.0,9,-999.000,9,  7.9667,     20
   18HU97009_1,  AR13,    30,  2, 186482,   OC91,2,19970516,1846, 52.9968, -44.0037, 3813,     30.2,   7.7460,  34.7220,2,-999.0000,9,    277.1,2,   -999.0,9,  -999.00,9,  -999.00,9,  -999.00,9, -999.000,9, -999.000,9, -999.000,9, -999.000,9,   -999.0,9,   -999.0,9,-999.000,9,  7.7431,     30
   18HU97009_1,  AR13,    30,  2, 186514,   OC55,2,19970516,1846, 52.9968, -44.0037, 3813,     50.4,   7.1495,  34.7535,2,  34.7808,2,    270.7,2,    295.8,2,     4.47,6,     8.30,6,     0.63,6,    4.186,2,    2.239,2,    0.263,2,    7.370,2,   2107.0,3,   2299.3,2, 780.867,3,  7.1448,     50
   18HU97009_1,  AR13,    30,  2, 186481,   OC64,2,19970516,1846, 52.9968, -44.0037, 3813,     51.3,   6.3221,  34.7369,2,-999.0000,9,    274.7,2,   -999.0,9,  -999.00,9,  -999.00,9,  -999.00,9, -999.000,9, -999.000,9, -999.000,9, -999.000,9,   -999.0,9,   -999.0,9,-999.000,9,  6.3176,     51
   18HU97009_1,  AR13,    30,  2, 186513,   OC81,2,19970516,1846, 52.9968, -44.0037, 3813,     73.1,   6.6031,  34.8106,2,  34.8071,2,    250.2,2,    264.0,2,     7.96,6,    13.70,6,     0.93,6,    3.709,2,    2.054,2,    0.243,2,    7.651,2,   2135.4,2,   2292.7,2, 525.287,3,  6.5966,     73
   18HU97009_1,  AR13,    30,  2, 186480,   OC92,2,19970516,1846, 52.9968, -44.0037, 3813,     75.7,   6.0174,  34.7795,2,-999.0000,9,    270.2,2,   -999.0,9,  -999.00,9,  -999.00,9,  -999.00,9, -999.000,9, -999.000,9, -999.000,9, -999.000,9,   -999.0,9,   -999.0,9,-999.000,9,  6.0109,     76
   18HU97009_1,  AR13,    30,  2, 186512,   OC69,2,19970516,1846, 52.9968, -44.0037, 3813,     98.7,   6.0580,  34.8081,2,  34.8003,2,    259.4,2,    273.0,2,     7.98,6,    13.89,6,     0.94,6,    3.990,2,    2.200,2, -999.000,5,    7.380,2,   2136.3,2,   2294.4,2, 301.520,3,  6.0496,     99
   18HU97009_1,  AR13,    30,  2, 186479,   OC58,2,19970516,1846, 52.9968, -44.0037, 3813,    100.7,   5.5210,  34.7394,2,-999.0000,9,    272.6,2,   -999.0,9,  -999.00,9,  -999.00,9,  -999.00,9, -999.000,9, -999.000,9, -999.000,9, -999.000,9,   -999.0,9,   -999.0,9,-999.000,9,  5.5128,    101
   18HU97009_1,  AR13,    30,  2, 186511,   OC52,2,19970516,1846, 52.9968, -44.0037, 3813,    148.4,   5.1933,  34.7634,2,  34.7690,2,    264.6,2,    276.2,2,     8.13,6,    14.59,6,     0.95,6,    3.951,2,    2.122,2,    0.253,2,    6.784,2,   2139.2,2,   2292.7,2, 647.924,3,  5.1815,    148
   18HU97009_1,  AR13,    30,  2, 186478,   OC93,2,19970516,1846, 52.9968, -44.0037, 3813,    149.8,   4.8503,  34.7163,2,-999.0000,9,    272.3,2,   -999.0,9,  -999.00,9,  -999.00,9,  -999.00,9, -999.000,9, -999.000,9, -999.000,9, -999.000,9,   -999.0,9,   -999.0,9,-999.000,9,  4.8389,    150
   18HU97009_1,  AR13,    30,  2, 186510,   OC51,2,19970516,1846, 52.9968, -44.0037, 3813,    200.0,   4.8501,  34.7671,2,  34.7692,2,    266.8,2,    279.9,2,     8.41,6,    14.89,6,     0.98,6, -999.000,5, -999.000,5, -999.000,5, -999.000,5,   2141.5,2,   2295.1,2,-999.000,5,  4.8348,    200
   18HU97009_1,  AR13,    30,  2, 186477,   OC66,2,19970516,1846, 52.9968, -44.0037, 3813,    200.2,   4.5124,  34.7269,2,-999.0000,9,    277.6,2,   -999.0,9,  -999.00,9,  -999.00,9,  -999.00,9, -999.000,9, -999.000,9, -999.000,9, -999.000,9,   -999.0,9,   -999.0,9,-999.000,9,  4.4976,    200
   18HU97009_1,  AR13,    30,  2, 186509,   OC56,2,19970516,1846, 52.9968, -44.0037, 3813,    298.2,   4.3466,  34.8050,2,  34.8079,2,    252.9,2,    263.3,2,     9.72,6,    16.82,6,     1.07,6,    3.710,2,    2.000,2, -999.000,5,    7.400,2,   2153.0,2,   2288.3,2, 327.780,3,  4.3246,    298
   18HU97009_1,  AR13,    30,  2, 186508,   OC61,2,19970516,1846, 52.9968, -44.0037, 3813,    402.1,   4.0123,  34.8493,2,  34.8486,2,    254.5,2,    264.0,2,    10.18,6,    17.27,6,     1.10,6,    3.474,2,    1.849,2,    0.214,2,    5.897,2,   2156.0,2,   2297.0,2, 521.666,3,  3.9835,    402
   18HU97009_1,  AR13,    30,  2, 186507,   OC82,2,19970516,1846, 52.9968, -44.0037, 3813,    600.6,   3.8266,  34.8918,2,  34.8918,2,    260.1,2,    269.5,2,    10.37,6,    17.17,6,     1.08,6,    3.289,2,    1.664,2,    0.214,2,    5.566,2,   2156.0,2,   2294.5,2, 432.782,3,  3.7834,    601
   18HU97009_1,  AR13,    30,  2, 186506,   OC83,2,19970516,1846, 52.9968, -44.0037, 3813,    800.6,   3.6138,  34.8921,2,  34.8935,2,    265.6,2,    275.0,2,    10.42,6,    17.24,6,     1.08,6,    3.310,2,    1.700,2, -999.000,5,    5.910,3,   2154.9,2,   2295.9,2, 346.650,3,  3.5563,    801
   18HU97009_1,  AR13,    30,  2, 186505,   OC94,2,19970516,1846, 52.9968, -44.0037, 3813,    997.4,   3.3732,  34.8787,2,  34.8794,2,    272.4,2,    281.4,2,    10.34,6,    16.93,6,     1.13,6,    3.250,2,    1.644,2,    0.204,2,    4.923,2,   2152.0,2,   2293.9,2, 531.486,3,  3.3020,    997
   18HU97009_1,  AR13,    30,  2, 186504,   OC85,2,19970516,1846, 52.9968, -44.0037, 3813,   1199.5,   3.2903,  34.8810,2,  34.8808,2,    273.4,2,    282.1,2,    10.59,6,    17.07,6,     1.13,6,    2.987,2,    1.450,2,    0.195,2,    4.583,3,   2152.1,2,   2295.7,2, 394.173,3,  3.2035,   1200
   18HU97009_1,  AR13,    30,  2, 186503,   OC86,2,19970516,1846, 52.9968, -44.0037, 3813,   1401.5,   3.1500,  34.8699,2,  34.8705,2,    277.7,2,    286.3,6,    10.27,6,    16.77,6,     1.05,6,    3.290,2,    1.540,2, -999.000,5,    4.900,2,   2152.1,2,   2292.9,2, 386.210,3,  3.0480,   1402
   18HU97009_1,  AR13,    30,  2, 186502,   OC87,2,19970516,1846, 52.9968, -44.0037, 3813,   1598.5,   3.0484,  34.8617,2,  34.8639,2,    281.2,2,    289.2,2,    10.34,6,    16.71,6,     1.08,6,    3.337,2,    1.761,2,    0.214,2,    5.011,2,   2150.5,2,   2287.2,2, 546.644,3,  2.9309,   1599
   18HU97009_1,  AR13,    30,  2, 186501,   OC88,2,19970516,1846, 52.9968, -44.0037, 3813,   1797.8,   2.9967,  34.8595,2,  34.8595,2,    282.5,2,    290.7,2,    10.33,6,    16.47,6,     1.04,6,    3.386,2,    1.664,2,    0.136,3,    4.943,2,   2151.3,2,   2292.4,2, 437.192,3,  2.8626,   1798
   18HU97009_1,  AR13,    30,  2, 186500,   OC36,2,19970516,1846, 52.9968, -44.0037, 3813,   1977.1,   3.0312,  34.8717,2,  34.8717,2,    279.3,2,    287.4,2,    10.59,6,    16.47,6,     1.05,6,    3.034,6,    1.486,6,    0.122,3,    4.928,6,   2152.4,2,   2290.9,2, 315.879,3,  2.8805,   1977
   18HU97009_1,  AR13,    30,  2, 186499,   OC84,2,19970516,1846, 52.9968, -44.0037, 3813,   2200.9,   3.1070,  34.9035,2,  34.9039,2,    271.9,2,    278.9,2,    11.62,6,    16.61,6,     1.06,6,    2.247,2,    1.061,2,    0.088,3,    3.580,2,   2152.1,2,   2296.9,2, 142.565,3,  2.9342,   2201
   18HU97009_1,  AR13,    30,  2, 186498,   OC90,2,19970516,1846, 52.9968, -44.0037, 3813,   2399.8,   3.0952,  34.9227,2,  34.9234,2,    269.3,2,    274.7,2,    12.37,6,    16.48,6,     1.05,6,    1.860,2,    0.900,2, -999.000,5,    3.290,2,   2153.6,2,   2298.6,2, 336.530,3,  2.9034,   2400
   18HU97009_1,  AR13,    30,  2, 186497,   OC91,2,19970516,1846, 52.9968, -44.0037, 3813,   2650.1,   2.9758,  34.9283,2,  34.9287,2,    269.3,2,    273.8,2,    13.35,6,    16.51,6,     1.06,6,    1.634,2,    0.710,2,    0.058,3,    2.812,2,   2154.7,2,   2299.7,2, 255.650,3,  2.7615,   2650
   18HU97009_1,  AR13,    30,  2, 186496,   OC64,2,19970516,1846, 52.9968, -44.0037, 3813,   2898.7,   2.8538,  34.9349,2,  34.9348,2,    268.7,2,    272.8,2,    14.33,6,    16.47,6,     1.07,6,    1.566,2,    0.769,2,    0.058,3,    2.841,2,   2157.0,2,   2296.4,2, 116.708,3,  2.6167,   2899
   18HU97009_1,  AR13,    30,  2, 186495,   OC92,2,19970516,1846, 52.9968, -44.0037, 3813,   3161.2,   2.6745,  34.9254,2,  34.9253,2,    270.9,2,    273.6,2,    15.47,6,    16.48,6,     1.06,6,    1.498,2,    0.662,2,    0.107,3,    2.851,2,   2157.0,6,   2303.7,2, 252.258,3,  2.4140,   3161
   18HU97009_1,  AR13,    30,  2, 186494,   OC58,2,19970516,1846, 52.9968, -44.0037, 3813,   3420.2,   2.4275,  34.9055,2,  34.9063,2,    294.3,2,    278.0,2,    15.16,6,    16.40,6,     1.05,6,    1.761,2,    0.769,2,    0.058,3,    3.279,2,   2154.3,2,   2299.4,6, 264.826,3,  2.1455,   3420
   18HU97009_1,  AR13,    30,  2, 186493,   OC93,2,19970516,1846, 52.9968, -44.0037, 3813,   3641.0,   2.2971,  34.8999,2,  34.9001,6,    279.0,2,    279.4,2,    15.44,6,    15.90,6,     1.03,6,    1.878,2,    0.973,2,    0.068,3,    3.697,2,   2155.1,2,   2300.7,2, 148.381,3,  1.9946,   3641
   18HU97009_1,  AR13,    30,  2, 186492,   OC66,2,19970516,1846, 52.9968, -44.0037, 3813,   3855.6,   2.0875,  34.8882,2,  34.8884,2,    284.9,2,    285.3,6,    13.77,6,    15.46,6,     1.00,6,    2.481,2,    1.197,2,    0.000,2,    4.709,2,   2157.0,2,   2319.0,3, 352.554,3,  1.7669,   3856
   18HU97009_1,  AR13,    31,  4, 186539,   OC80,2,19970517,0228, 53.4977, -43.9742, 3712,     12.4,   8.0453,  34.9010,2,  34.9028,2,    272.6,2,    293.0,2,     2.78,6,     7.30,6,     0.53,6,    3.845,2,    2.161,2,    0.331,2,    6.464,3,   2100.8,2,   2297.6,2,   0.000,3,  8.0440,     12
   18HU97009_1,  AR13,    31,  4, 186538,   OC55,2,19970517,0228, 53.4977, -43.9742, 3712,     29.0,   8.0526,  34.9026,2,  34.9026,2,    271.6,2,    292.4,2,     2.81,6,     7.45,6,     0.52,6,    3.904,2,    2.414,2,    0.273,2,    6.951,3,   2098.5,2,   2300.5,2,   0.000,3,  8.0497,     29
   18HU97009_1,  AR13,    31,  4, 186537,   OC81,2,19970517,0228, 53.4977, -43.9742, 3712,     50.2,   7.7258,  34.8763,2,  34.8906,2,    271.8,2,    291.9,2,     3.25,6,     7.71,6,     0.56,6, -999.000,5, -999.000,5, -999.000,5, -999.000,5,   2104.1,6,   2298.9,2,-999.000,5,  7.7209,     50
   18HU97009_1,  AR13,    31,  4, 186536,   OC69,2,19970517,0228, 53.4977, -43.9742, 3712,     72.2,   6.0640,  34.8240,2,  34.8228,2,    256.7,2,    277.1,6,     7.90,6,    13.89,6,     0.91,6,    3.920,2,    2.090,2, -999.000,5,    6.570,3,   2137.1,2,   2289.2,2,  -1.000,4,  6.0579,     72
   18HU97009_1,  AR13,    31,  4, 186535,   OC52,2,19970517,0228, 53.4977, -43.9742, 3712,    101.2,   5.8774,  34.8319,2,  34.8319,2,    266.3,2,    283.6,2,     7.56,6,    13.64,6,     0.91,6,    3.981,2,    2.355,2,    0.341,2,    6.930,3,   2135.0,2,   2289.4,2,   0.000,3,  5.8689,    101
   18HU97009_1,  AR13,    31,  4, 186534,   OC51,2,19970517,0228, 53.4977, -43.9742, 3712,    199.1,   4.8811,  34.7714,2,  34.7722,2,    263.8,2,    279.0,2,     8.47,6,    14.69,6,     0.97,6,    3.990,2,    2.375,2,    0.321,2,    6.521,2,   2143.0,2,   2287.5,2,   0.000,3,  4.8658,    199
   18HU97009_1,  AR13,    31,  4, 186533,   OC56,2,19970517,0228, 53.4977, -43.9742, 3712,    400.8,   3.6526,  34.7948,2,  34.7942,2,    270.8,2,    285.0,2,     9.10,6,    15.66,6,     1.01,6,    4.097,2,    2.355,2,    0.360,2,    6.189,2,   2149.7,2,   2290.5,2,  -0.973,4,  3.6250,    401
   18HU97009_1,  AR13,    31,  4, 186532,   OC61,2,19970517,0228, 53.4977, -43.9742, 3712,    603.0,   3.7173,  34.8741,2,  34.8739,2,    261.6,2,    275.6,2,    10.13,6,    16.81,6,     1.07,6,    3.542,2,    2.121,2,    0.379,2,    5.663,3,   2154.8,2,   2295.7,2,  -0.973,4,  3.6745,    603
   18HU97009_1,  AR13,    31,  4, 186531,   OC82,2,19970517,0228, 53.4977, -43.9742, 3712,    801.1,   3.6471,  34.8965,2,  34.8971,2,    259.7,2,    273.2,2,    10.72,6,    17.34,6,     1.12,6,    2.938,2,    1.703,2,    0.282,2,    4.719,2,   2156.7,2,   2291.9,2,   0.000,3,  3.5894,    801
   18HU97009_1,  AR13,    31,  4, 186530,   OC83,2,19970517,0228, 53.4977, -43.9742, 3712,   1002.1,   3.4246,  34.8871,2,  34.8863,2,    265.3,2,    278.8,2,    10.65,6,    17.00,6,     1.07,6,    2.909,2,    1.537,2,    0.331,2,    4.427,2,   2155.0,2,   2294.4,2,  -0.973,4,  3.3526,   1002
   18HU97009_1,  AR13,    31,  4, 186529,   OC94,2,19970517,0228, 53.4977, -43.9742, 3712,   1195.1,   3.2464,  34.8744,2,  34.8749,2,    271.0,2,    283.9,2,    10.52,6,    16.79,6,     1.07,6,    3.094,2,    1.498,2,    0.379,3,    4.758,2,   2148.6,2,   2284.5,2,   0.000,3,  3.1604,   1195
   18HU97009_1,  AR13,    31,  4, 186528,   OC85,2,19970517,0228, 53.4977, -43.9742, 3712,   1195.6,   3.2439,  34.8742,2,  34.8751,2,    270.9,2,    284.1,2,    10.50,6,    16.86,6,     1.08,6,    3.016,2,    1.605,2,    0.204,3,    4.087,3,   2150.0,2,   2289.4,2,   0.000,3,  3.1579,   1196
   18HU97009_1,  AR13,    31,  4, 186527,   OC86,2,19970517,0228, 53.4977, -43.9742, 3712,   1404.5,   3.0986,  34.8629,2,  34.8629,2,    276.0,2,    288.7,2,    10.24,6,    16.51,6,     1.07,6,    3.386,2,    1.858,2,    0.331,2,    5.118,2,   2147.1,2,   2294.8,2,   0.000,3,  2.9969,   1405
   18HU97009_1,  AR13,    31,  4, 186526,   OC87,2,19970517,0228, 53.4977, -43.9742, 3712,   1595.3,   3.0417,  34.8609,2,  34.8607,2,    276.8,2,    290.2,2,    10.27,6,    16.55,6,     1.04,6,    3.308,2,    1.800,2,    0.311,2,    5.176,2,   2157.1,2,   2289.2,2,   0.000,3,  2.9246,   1595
   18HU97009_1,  AR13,    31,  4, 186525,   OC88,2,19970517,0228, 53.4977, -43.9742, 3712,   1767.9,   2.9933,  34.8595,2,  34.8592,2,    278.1,2,    290.8,2,    10.25,6,    16.57,6,     1.04,6,    3.259,2,    1.810,2,    0.234,2,    4.972,2,   2151.8,2,   2284.1,2,   0.000,3,  2.8618,   1768
   18HU97009_1,  AR13,    31,  4, 186524,   OC36,2,19970517,0228, 53.4977, -43.9742, 3712,   1980.0,   3.0139,  34.8702,2,  34.8702,2,    275.0,2,    287.6,2,    10.57,6,    16.36,6,     1.05,6,    2.971,6,    1.579,6,    0.165,6,    4.729,6,   2151.7,2,   2298.7,2,   0.000,3,  2.8632,   1980
   18HU97009_1,  AR13,    31,  4, 186523,   OC84,2,19970517,0228, 53.4977, -43.9742, 3712,   2219.9,   3.0938,  34.9036,2,  34.9036,6,    266.7,2,    279.2,2,    11.86,6,    16.41,6,     1.05,6,    2.092,2,    1.119,2,    0.204,2,    3.454,3,   2151.6,2,   2295.6,2,   0.000,3,  2.9194,   2220
   18HU97009_1,  AR13,    31,  4, 186522,   OC90,2,19970517,0228, 53.4977, -43.9742, 3712,   2395.7,   3.0474,  34.9132,2,  34.1287,2,    265.1,2,    276.6,2,    12.48,6,    16.21,6,     1.04,6,    1.790,2,    0.963,2,    0.214,2,    2.860,2,   2151.1,2,   2295.7,2,   0.000,3,  2.8569,   2396
   18HU97009_1,  AR13,    31,  4, 186521,   OC91,2,19970517,0228, 53.4977, -43.9742, 3712,   2598.4,   2.9562,  34.9207,2,  34.9204,2,    263.9,2,    274.6,2,    13.33,6,    16.32,6,     1.04,6,    1.580,2,    0.810,2,    0.290,2, -999.000,5,   2153.1,2,   2296.8,6,   0.000,3,  2.7474,   2598
   18HU97009_1,  AR13,    31,  4, 186520,   OC64,2,19970517,0228, 53.4977, -43.9742, 3712,   2850.6,   2.8321,  34.9277,2,  34.9271,2,    264.0,2,    273.2,2,    14.38,6,    16.26,6,     1.05,6,    1.420,2,    0.778,2,    0.117,3,    2.549,2,   2153.9,2,   2302.3,2,  -0.973,4,  2.6004,   2851
   18HU97009_1,  AR13,    31,  4, 186519,   OC92,2,19970517,0228, 53.4977, -43.9742, 3712,   3151.0,   2.5686,  34.9153,2,  34.9149,2,    268.6,2,    275.2,2,    15.49,6,    16.18,6,     1.05,6,    1.440,2,    0.817,2,    0.165,3,    2.675,2,   2158.1,2,   2300.5,2,   0.000,3,  2.3117,   3151
   18HU97009_1,  AR13,    31,  4, 186518,   OC58,2,19970517,0228, 53.4977, -43.9742, 3712,   3402.6,   2.3915,  34.9066,2,  34.9065,2,    272.5,2,    277.4,2,    15.80,6,    16.21,6,     1.04,6,    1.576,2,    0.769,2,    0.243,2,    2.782,2,   2158.4,2,   2296.6,2,   0.000,3,  2.1123,   3403
   18HU97009_1,  AR13,    31,  4, 186517,   OC93,2,19970517,0228, 53.4977, -43.9742, 3712,   3599.0,   2.2387,  34.8977,2,  34.8975,2,    275.2,2,    280.5,2,    15.64,6,    15.46,6,     1.03,6,    1.848,2,    0.944,2,    0.253,2,    3.434,3,   2158.0,2,   2300.6,2,   0.000,3,  1.9422,   3599
   18HU97009_1,  AR13,    31,  4, 186516,   OC66,2,19970517,0228, 53.4977, -43.9742, 3712,   3739.7,   2.0285,  34.8864,2,  34.8861,2,    282.4,2,    285.9,2,    14.01,6,    15.37,6,     1.00,6,    2.481,2,    1.323,2,    0.224,2,    4.465,3,   2157.2,2,   2317.8,3,  -0.973,4,  1.7223,   3740