BOTTLE,20020708WHPSIOKJU
EXPOCODE,SECT_ID,STNNBR,CASTNO,SAMPNO,BTLNBR,BTLNBR_FLAG_W,DATE,TIME,LATITUDE,LONGITUDE,DEPTH,CTDPRS,CTDTMP,CTDSAL,CTDSAL_FLAG_W,SALNTY,SALNTY_FLAG_W,CTDOXY,CTDOXY_FLAG_W,OXYGEN,OXYGEN_FLAG_W,SILCAT,SILCAT_FLAG_W,NO2+NO3,NO2+NO3_FLAG_W,PHSPHT,PHSPHT_FLAG_W,CFC-11,CFC-11_FLAG_W,CFC-12,CFC-12_FLAG_W,CFC113,CFC113_FLAG_W,CCL4,CCL4_FLAG_W,TCARBN,TCARBN_FLAG_W,ALKALI,ALKALI_FLAG_W,MCHFRM,MCHFRM_FLAG_W,THETA,CTDRAW
,,,,,,,,,,,,DBAR,ITS-90,PSS-78,,PSS-78,,UMOL/KG,,UMOL/KG,,UMOL/KG,,UMOL/KG,,UMOL/KG,,PMOL/KG,,PMOL/KG,,PMOL/KG,,PMOL/KG,,UMOL/KG,,UMOL/KG,,PMOL/KG,,DEG C,
   18HU97009_1,  AR27,   116,  2, 188218,   OC80,2,19970606,2102, 55.0377, -50.5533, 3311,      8.3,   5.2363,  34.5571,2,  34.5589,2,    306.6,2,    338.2,2,     6.02,6,     8.47,6,     0.66,6,    4.850,2,    2.830,2, -999.000,5,    9.900,2,   2101.8,3,   2288.8,2,  59.230,4,  5.2357,      8
   18HU97009_1,  AR27,   116,  2, 188217,   OC55,2,19970606,2102, 55.0377, -50.5533, 3311,     58.2,   3.2046,  34.6672,2,  34.6664,2,    286.3,2,    308.8,2,     8.82,6,    14.60,6,     1.00,6,    4.700,2,    2.700,2, -999.000,5,    9.620,2,   2140.0,2,   2288.2,2,  73.490,3,  3.2010,     58
   18HU97009_1,  AR27,   116,  2, 188216,   OC81,2,19970606,2102, 55.0377, -50.5533, 3311,    125.5,   3.0583,  34.7606,2,  34.7606,2,    281.6,2,    302.4,2,     8.42,6,    15.76,6,     1.03,6,    4.440,2,    2.380,2, -999.000,5,    8.900,2,   2146.7,2,   2291.3,2,  77.690,3,  3.0505,    126
   18HU97009_1,  AR27,   116,  2, 188215,   OC69,2,19970606,2102, 55.0377, -50.5533, 3311,    223.1,   3.1493,  34.8087,2,  34.8085,2,    278.1,2,    297.5,2,     8.69,6,    15.82,6,     1.05,6,    5.220,3,    2.990,3, -999.000,5,    8.880,2,   2148.8,2,   2293.2,2,  42.230,3,  3.1352,    223
   18HU97009_1,  AR27,   116,  2, 188214,   OC52,2,19970606,2102, 55.0377, -50.5533, 3311,    326.3,   3.1538,  34.8264,2,  34.8260,2,    278.6,2,    297.5,2,     8.68,6,    15.77,6,     1.04,6,    4.420,2,    2.390,2, -999.000,5,    9.120,2,   2149.0,2,   2294.7,2,  59.850,4,  3.1328,    326
   18HU97009_1,  AR27,   116,  2, 188213,   OC51,2,19970606,2102, 55.0377, -50.5533, 3311,    446.7,   3.1617,  34.8371,2,  34.8368,2,    279.8,2,    298.1,2,     8.67,6,    15.98,6,     1.04,6,    4.370,2,    2.370,2, -999.000,5,    9.240,2,   2149.7,2,   2292.1,2,  58.340,4,  3.1325,    447
   18HU97009_1,  AR27,   116,  2, 188212,   OC60,2,19970606,2102, 55.0377, -50.5533, 3311,    596.5,   3.0990,  34.8394,2,  34.8405,2,    278.4,2,    295.6,2,     9.07,6,    16.30,6,     1.07,6,    4.020,2,    2.350,2, -999.000,5,    6.630,3,   2150.5,2,   2291.7,2,  58.160,4,  3.0595,    597
   18HU97009_1,  AR27,   116,  2, 188211,   OC61,2,19970606,2102, 55.0377, -50.5533, 3311,    759.5,   3.2099,  34.8649,2,  34.8650,2,    271.0,2,    286.5,2,     9.91,6,    17.25,6,     1.10,6,    3.430,2,    1.840,2, -999.000,5,    7.720,3,   2153.2,2,   2294.2,2,  43.180,4,  3.1581,    760
   18HU97009_1,  AR27,   116,  2, 188210,   OC82,2,19970606,2102, 55.0377, -50.5533, 3311,    923.8,   2.9736,  34.8386,2,  34.8383,2,    281.7,2,    297.5,2,     9.19,6,    16.75,6,     1.06,6,    4.120,2,    2.240,2, -999.000,5,    8.840,2,   2151.3,2,   2295.3,2,  53.060,4,  2.9111,    924
   18HU97009_1,  AR27,   116,  2, 188209,   OC83,2,19970606,2102, 55.0377, -50.5533, 3311,   1102.0,   2.9331,  34.8362,2,  34.8366,2,    283.1,2,    298.0,2,     9.17,6,    16.51,6,     1.06,6,    3.990,2,    2.250,2, -999.000,5,    7.310,3,   2150.4,2,   2293.2,2,  55.760,4,  2.8573,   1102
   18HU97009_1,  AR27,   116,  2, 188208,   OC94,2,19970606,2102, 55.0377, -50.5533, 3311,   1301.1,   2.9900,  34.8493,2,  34.8497,2,    281.5,2,    295.7,2,     9.41,6,    16.77,6,     1.07,6,    3.920,2,    2.000,2, -999.000,5,    8.380,2,   2151.5,2,   2296.7,2,  49.870,3,  2.8979,   1301
   18HU97009_1,  AR27,   116,  2, 188207,   OC85,2,19970606,2102, 55.0377, -50.5533, 3311,   1500.0,   2.9567,  34.8506,2,  34.8505,6,    283.3,2,    296.3,2,     9.55,6,    16.99,6,     1.06,6,    3.870,2,    2.040,2, -999.000,5,    8.830,2,   2152.4,2,   2290.1,2,  54.270,4,  2.8487,   1500
   18HU97009_1,  AR27,   116,  2, 188206,   OC86,2,19970606,2102, 55.0377, -50.5533, 3311,   1683.0,   2.9030,  34.8453,2,  34.8452,2,    285.4,2,    297.8,2,     9.49,6,    16.50,6,     1.06,6,    3.870,2,    2.160,2, -999.000,5,    8.290,2,   2150.9,2,   2295.4,2,  61.780,3,  2.7801,   1683
   18HU97009_1,  AR27,   116,  2, 188205,   OC87,2,19970606,2102, 55.0377, -50.5533, 3311,   1832.9,   2.8899,  34.8456,2,  34.8449,6,    285.9,2,    297.6,2,     9.42,6,    16.39,6,     1.06,6,    3.820,2,    2.120,2, -999.000,5,    8.280,2,   2151.3,2,   2292.2,2,  50.790,4,  2.7542,   1833
   18HU97009_1,  AR27,   116,  2, 188204,   OC88,2,19970606,2102, 55.0377, -50.5533, 3311,   2101.6,   3.0295,  34.8814,2,  34.8803,6,    278.4,2,    288.0,2,    10.37,6,    16.39,6,     1.07,6,    2.880,2,    1.540,2, -999.000,5,    6.270,2,   2151.7,2,   2298.6,2,  41.120,4,  2.8673,   2102
   18HU97009_1,  AR27,   116,  2, 188203,   OC65,2,19970606,2102, 55.0377, -50.5533, 3311,   2322.7,   3.0339,  34.9080,2,  34.9079,2,    272.7,2,    280.7,2,    11.35,6,    16.63,6,     1.08,6,    2.080,2,    1.150,2, -999.000,5,    5.560,2,   2153.7,2,   2298.2,2,  30.380,2,  2.8507,   2323
   18HU97009_1,  AR27,   116,  2, 188202,   OC84,2,19970606,2102, 55.0377, -50.5533, 3311,   2495.5,   2.8777,  34.9105,2,  34.9108,6,    274.1,2,    281.0,2,    11.48,6,    16.49,6,     1.05,6,    2.070,2,    1.080,2, -999.000,5,    4.920,2,   2153.2,2,   2299.1,2,  26.860,2,  2.6806,   2496
   18HU97009_1,  AR27,   116,  2, 188201,   OC90,2,19970606,2102, 55.0377, -50.5533, 3311,   2640.4,   2.7721,  34.9178,2,  34.9171,6,    273.2,2,    279.2,6,    12.67,6,    16.42,6,     1.06,6,    1.810,2,    0.960,2, -999.000,5,    4.540,3,   2154.9,2,   2304.4,2,  25.240,3,  2.5628,   2640
   18HU97009_1,  AR27,   116,  2, 188200,   OC91,2,19970606,2102, 55.0377, -50.5533, 3311,   2731.6,   2.5722,  34.9065,2,  34.9068,6,    277.6,2,    283.0,2,    12.13,6,    15.86,6,     1.04,6,    2.140,6,    1.110,6, -999.000,5,    5.490,6,   2154.1,2,   2302.0,2,  24.133,3,  2.3578,   2732
   18HU97009_1,  AR27,   116,  2, 188199,   OC64,2,19970606,2102, 55.0377, -50.5533, 3311,   2880.2,   2.3839,  34.9008,2,  34.9001,6,    282.5,2,    287.2,2,    11.19,6,    15.44,6,     1.03,6,    2.670,2,    1.400,2, -999.000,5,    7.320,2,   2153.8,2,   2302.0,2,  29.610,3,  2.1587,   2880
   18HU97009_1,  AR27,   116,  2, 188198,   OC95,2,19970606,2102, 55.0377, -50.5533, 3311,   3031.5,   2.2188,  34.8979,2,  34.8965,2,    285.9,2,    289.5,2,    10.98,6,    15.51,6,     0.99,6,    2.800,2,    1.470,2, -999.000,5,    6.490,2,   2154.4,2,   2300.3,2,  34.780,2,  1.9820,   3032
   18HU97009_1,  AR27,   116,  2, 188197,   OC58,2,19970606,2102, 55.0377, -50.5533, 3311,   3161.7,   2.1535,  34.8962,2,  34.8962,6,    288.5,2,    290.5,2,    10.80,6,    15.03,6,     1.00,6,    2.920,2,    1.680,2, -999.000,5,    7.330,2,   2154.3,6,   2298.1,2,  45.310,4,  1.9050,   3162
   18HU97009_1,  AR27,   116,  2, 188196,   OC93,2,19970606,2102, 55.0377, -50.5533, 3311,   3249.3,   2.0273,  34.8944,2,  34.8943,2,    291.4,2,    292.3,2,    10.62,6,    15.16,6,     1.01,6,    3.090,2,    1.680,2, -999.000,5,    8.030,2,   2154.6,2,   2298.1,6,  37.730,2,  1.7728,   3249
   18HU97009_1,  AR27,   116,  2, 188195,   OC66,2,19970606,2102, 55.0377, -50.5533, 3311,   3331.2,   1.8075,  34.8890,2,  34.8887,6,    295.8,2,    295.3,2,    10.40,6,    14.70,6,     0.97,6,    3.340,2,    1.830,2, -999.000,5,    8.080,2,   2155.9,2,   2308.2,2,  40.890,4,  1.5498,   3331
   18HU97009_1,  AR13,   117,  3, 188242,   OC80,2,19970607,0229, 54.5732, -49.9328, 3532,      9.2,   5.6369,  34.6095,2,  34.6115,2,    306.0,2,    340.0,2,     1.68,6,     6.61,6,     0.46,6,    5.130,2,    2.755,2,    0.273,2,    8.644,2,   2093.5,3,   2294.5,2,  46.540,3,  5.6362,      9
   18HU97009_1,  AR13,   117,  3, 188241,   OC55,2,19970607,0229, 54.5732, -49.9328, 3532,     69.9,   3.5774,  34.6878,2,  34.6876,2,    287.5,2,    312.6,2,     7.80,6,    13.77,6,     0.98,6,    5.206,2,    2.705,2,    0.282,2,   10.822,3,   2136.8,2,   2291.3,2,  47.315,3,  3.5729,     70
   18HU97009_1,  AR13,   117,  3, 188240,   OC81,2,19970607,0229, 54.5732, -49.9328, 3532,    138.5,   3.1704,  34.7316,2,  34.7308,2,    280.4,2,    302.9,2,     8.26,6,    15.18,6,     1.02,6,    4.817,2,    2.647,2,    0.253,2,   10.772,3,   2145.7,2,   2289.8,2,  42.203,3,  3.1617,    139
   18HU97009_1,  AR13,   117,  3, 188239,   OC69,2,19970607,0229, 54.5732, -49.9328, 3532,    234.0,   2.9849,  34.7456,2,  34.7461,2,    281.6,2,    303.2,2,     8.40,6,    15.69,6,     1.03,6,    4.797,2,    2.608,2,    0.243,2,    8.728,2,   2144.6,2,   2291.4,2,  41.102,3,  2.9704,    234
   18HU97009_1,  AR13,   117,  3, 188238,   OC52,2,19970607,0229, 54.5732, -49.9328, 3532,    344.8,   3.2433,  34.8092,2,  34.8095,2,    271.8,2,    292.2,2,     9.01,6,    16.21,6,     1.06,6,    4.418,6,    2.364,6,    0.224,2,    8.868,6,   2149.0,2,   2290.8,2,  37.350,6,  3.2208,    345
   18HU97009_1,  AR13,   117,  3, 188237,   OC51,2,19970607,0229, 54.5732, -49.9328, 3532,    479.7,   3.3007,  34.8377,2,  34.8379,2,    270.2,2,    289.9,2,     9.04,6,    16.40,6,     1.07,6,    4.126,2,    2.189,2,    0.214,2,    9.069,2,   2152.6,2,   2294.7,2,  34.815,2,  3.2687,    480
   18HU97009_1,  AR13,   117,  3, 188236,   OC60,2,19970607,0229, 54.5732, -49.9328, 3532,    629.3,   3.1931,  34.8373,2,  34.8376,2,    273.8,2,    293.4,2,     9.03,6,    16.25,6,     1.08,6,    4.272,2,    2.257,2,    0.204,2,    9.321,2,   2150.3,2,   2295.2,2,  35.573,2,  3.1509,    629
   18HU97009_1,  AR13,   117,  3, 188235,   OC61,2,19970607,0229, 54.5732, -49.9328, 3532,    789.2,   3.2644,  34.8593,2,  34.8542,2,    269.6,2,    287.9,2,     9.64,6,    16.91,6,     1.09,6,    3.756,2,    1.927,2,    0.175,2,    7.599,2,   2152.8,2,   2295.2,2,  31.243,2,  3.2100,    789
   18HU97009_1,  AR13,   117,  3, 188234,   OC82,2,19970607,0229, 54.5732, -49.9328, 3532,    965.3,   3.1436,  34.8542,2,  34.8537,2,    272.8,2,    290.6,2,     9.52,6,    17.06,6,     1.10,6,    3.843,2,    1.995,2,    0.185,2,    8.056,2,   2152.4,2,   2294.4,2,  33.023,2,  3.0767,    965
   18HU97009_1,  AR13,   117,  3, 188233,   OC83,2,19970607,0229, 54.5732, -49.9328, 3532,   1151.3,   3.0192,  34.8442,2,  34.8438,2,    277.3,2,    294.8,2,     9.40,6,    16.64,6,     1.08,6,    4.067,2,    2.170,2,    0.195,2,    8.154,2,   2151.9,2,   2295.2,2,  35.825,2,  2.9388,   1151
   18HU97009_1,  AR13,   117,  3, 188232,   OC94,2,19970607,0229, 54.5732, -49.9328, 3532,   1351.5,   3.0709,  34.8600,2,  34.8599,2,    274.7,2,    291.5,2,    10.08,6,    17.07,6,     1.11,6,    3.571,2,    1.829,2,    0.146,2,    6.480,2,   2150.5,2,   2298.4,2,  28.897,3,  2.9739,   1352
   18HU97009_1,  AR13,   117,  3, 188231,   OC85,2,19970607,0229, 54.5732, -49.9328, 3532,   1554.5,   3.0168,  34.8565,2,  34.8562,2,    277.1,2,    292.9,2,     9.81,6,    16.98,6,     1.08,6,    3.493,2,    1.800,2,    0.165,2,    6.772,2,   2150.8,2,   2296.4,2,  30.396,2,  2.9034,   1555
   18HU97009_1,  AR13,   117,  3, 188230,   OC86,2,19970607,0229, 54.5732, -49.9328, 3532,   1762.1,   2.9695,  34.8536,2,  34.8535,2,    279.6,2,    294.3,2,     9.86,6,    16.50,6,     1.08,6,    3.619,2,    1.907,2,    0.165,2,    6.538,2,   2151.4,2,   2292.5,2,  31.116,2,  2.8389,   1762
   18HU97009_1,  AR13,   117,  3, 188229,   OC87,2,19970607,0229, 54.5732, -49.9328, 3532,   1974.2,   2.9761,  34.8592,2,  34.8585,6,    279.6,2,    293.8,2,     9.84,6,    16.49,6,     1.07,6,    3.503,2,    1.771,2,    0.156,2,    6.499,2,   2151.5,2,   2294.3,2,  30.395,2,  2.8265,   1974
   18HU97009_1,  AR13,   117,  3, 188228,   OC88,2,19970607,0229, 54.5732, -49.9328, 3532,   2184.2,   3.0685,  34.8873,2,  34.8860,6,    273.3,2,    286.0,2,    11.00,6,    16.59,6,     1.08,6,    2.783,2,    1.411,2,    0.000,2,    5.867,2,   2152.5,2,   2294.5,2,  25.199,2,  2.8979,   2184
   18HU97009_1,  AR13,   117,  3, 188227,   OC65,2,19970607,0229, 54.5732, -49.9328, 3532,   2393.5,   3.0480,  34.9004,2,  34.9007,6,    271.9,2,    282.5,2,    11.22,6,    16.69,6,     1.08,6,    2.442,2,    1.265,2,    0.000,2,    5.779,2,   2153.5,2,   2299.9,2,  22.377,3,  2.8577,   2394
   18HU97009_1,  AR13,   117,  3, 188226,   OC84,2,19970607,0229, 54.5732, -49.9328, 3532,   2584.8,   2.9751,  34.9135,2,  34.9085,6,    270.0,2,    279.8,2,    11.92,6,    16.32,6,     1.07,6,    2.033,2,    0.934,2,    0.000,2,    5.594,2,   2153.0,2,   2301.3,2,  19.001,3,  2.7674,   2585
   18HU97009_1,  AR13,   117,  3, 188225,   OC90,2,19970607,0229, 54.5732, -49.9328, 3532,   2771.1,   2.8501,  34.9149,2,  34.9137,6,    270.8,2,    280.5,2,    12.20,6,    16.17,6,     1.07,6,    2.043,2,    0.953,2,    0.000,2,    6.246,2,   2153.8,2,   2300.5,6,  19.915,2,  2.6262,   2771
   18HU97009_1,  AR13,   117,  3, 188224,   OC91,2,19970607,0229, 54.5732, -49.9328, 3532,   2940.9,   2.6898,  34.9084,2,  34.9102,6,    274.9,2,    283.3,6,    12.35,6,    16.07,6,     1.05,6,    2.315,2,    1.022,2,    0.000,2,    6.411,2,   2154.3,2,   2300.2,2,  20.839,3,  2.4519,   2941
   18HU97009_1,  AR13,   117,  3, 188223,   OC64,2,19970607,0229, 54.5732, -49.9328, 3532,   3089.6,   2.4496,  34.9017,2,  34.9013,6,    278.9,2,    286.1,2,    11.58,6,    15.65,6,     1.02,6,    2.529,2,    1.245,2,    0.000,2,    7.219,2,   2152.4,2,   2298.4,2,  22.785,2,  2.2018,   3090
   18HU97009_1,  AR13,   117,  3, 188222,   OC95,2,19970607,0229, 54.5732, -49.9328, 3532,   3241.5,   2.2211,  34.8959,2,  34.8961,2,    281.3,2,    287.1,2,    12.58,6,    15.31,6,     1.01,6,    2.588,2,    1.284,2,    0.126,2,    7.686,2,   2153.7,6,   2300.2,2,  23.504,2,  1.9628,   3242
   18HU97009_1,  AR13,   117,  3, 188221,   OC58,2,19970607,0229, 54.5732, -49.9328, 3532,   3379.5,   1.8462,  34.8828,2,  34.8828,6,    291.1,2,    294.9,2,    10.72,6,    14.70,6,     0.99,6,    3.327,2,    1.722,2,    0.146,2,    9.320,3,   2153.6,2,   2294.7,2,  28.290,2,  1.5827,   3380
   18HU97009_1,  AR13,   117,  3, 188220,   OC93,2,19970607,0229, 54.5732, -49.9328, 3532,   3479.6,   1.6197,  34.8821,2,  34.8823,2,    295.9,2,    299.0,2,    10.29,6,    14.45,6,     0.97,6,    3.716,2,    1.907,2,    0.165,2,   10.010,3,   2155.9,2,   2297.8,2,  31.364,2,  1.3515,   3480
   18HU97009_1,  AR13,   117,  3, 188219,   OC66,2,19970607,0229, 54.5732, -49.9328, 3532,   3558.5,   1.6020,  34.8822,2,  34.8814,6,    297.2,2,    297.1,2,    10.42,6,    14.59,6,     0.98,6,    3.784,2,    1.907,2,    0.175,2,   10.010,3,   2156.7,2,   2305.4,2,  30.498,2,  1.3261,   3559