BOTTLE,20020708WHPSIOKJU
EXPOCODE,SECT_ID,STNNBR,CASTNO,SAMPNO,BTLNBR,BTLNBR_FLAG_W,DATE,TIME,LATITUDE,LONGITUDE,DEPTH,CTDPRS,CTDTMP,CTDSAL,CTDSAL_FLAG_W,SALNTY,SALNTY_FLAG_W,CTDOXY,CTDOXY_FLAG_W,OXYGEN,OXYGEN_FLAG_W,SILCAT,SILCAT_FLAG_W,NO2+NO3,NO2+NO3_FLAG_W,PHSPHT,PHSPHT_FLAG_W,CFC-11,CFC-11_FLAG_W,CFC-12,CFC-12_FLAG_W,CFC113,CFC113_FLAG_W,CCL4,CCL4_FLAG_W,TCARBN,TCARBN_FLAG_W,ALKALI,ALKALI_FLAG_W,MCHFRM,MCHFRM_FLAG_W,THETA,CTDRAW
,,,,,,,,,,,,DBAR,ITS-90,PSS-78,,PSS-78,,UMOL/KG,,UMOL/KG,,UMOL/KG,,UMOL/KG,,UMOL/KG,,PMOL/KG,,PMOL/KG,,PMOL/KG,,PMOL/KG,,UMOL/KG,,UMOL/KG,,PMOL/KG,,DEG C,
   18HU97009_1,  AR13,    23,  3, 186331,   OC51,2,19970514,1712, 50.8382, -48.4853, 2634,      5.8,   4.3889,  34.5814,2,  34.5822,2,    309.4,2,    325.9,2,     8.87,6,    12.14,6,     0.83,6,    5.129,2,    2.774,2,    0.331,2,    7.767,2,   2118.9,2,   -999.0,9, 146.747,4,  4.3885,      6
   18HU97009_1,  AR13,    23,  3, 186330,   OC56,2,19970514,1712, 50.8382, -48.4853, 2634,     53.2,   3.5446,  34.6469,2,  34.6474,2,    307.1,2,    323.4,2,     8.76,6,    13.29,6,     0.90,6,    4.915,2,    2.637,2,    0.360,2,    7.124,2,   2131.0,2,   2265.7,2,   8.914,3,  3.5412,     53
   18HU97009_1,  AR13,    23,  3, 186329,   OC49,2,19970514,1712, 50.8382, -48.4853, 2634,    102.4,   3.2009,  34.6901,2,  34.6911,2,    299.1,2,    313.9,2,     8.94,6,    14.98,6,     1.04,3, -999.000,5, -999.000,5, -999.000,5, -999.000,5,   2138.0,2,   2267.0,2,-999.000,5,  3.1945,    102
   18HU97009_1,  AR13,    23,  3, 186328,   OC82,2,19970514,1712, 50.8382, -48.4853, 2634,    153.0,   3.0772,  34.7259,2,  34.7259,2,    295.8,2,    309.7,2,     9.11,6,    15.46,6,     0.98,6,    4.826,2,    2.725,2,    0.350,2,    7.415,2,   2140.4,2,   2268.6,2, 134.111,4,  3.0677,    153
   18HU97009_1,  AR13,    23,  3, 186327,   OC83,2,19970514,1712, 50.8382, -48.4853, 2634,    202.4,   3.0525,  34.7496,2,  34.7490,2,    292.9,2,    307.7,2,     9.00,6,    15.55,6,     1.00,6,    4.790,2,    2.540,2, -999.000,5, -999.000,5,   2141.9,2,   2270.7,2, 167.330,4,  3.0398,    202
   18HU97009_1,  AR13,    23,  3, 186326,   OC94,2,19970514,1712, 50.8382, -48.4853, 2634,    303.7,   3.0823,  34.7868,2,  34.7873,2,    288.0,2,    301.4,2,     9.09,6,    15.91,6,     0.98,6,    4.495,2,    2.374,2,    0.272,2,    7.502,2,   2145.1,2,   2270.8,2,  52.972,3,  3.0630,    304
   18HU97009_1,  AR13,    23,  3, 186325,   OC85,2,19970514,1712, 50.8382, -48.4853, 2634,    400.8,   3.1279,  34.8154,2,  34.8152,2,    284.5,2,    298.4,2,     9.05,6,    16.33,6,     0.99,6,    4.379,2,    2.462,2,    0.302,2,    7.093,3,   2147.0,2,   2274.1,2, 101.048,4,  3.1020,    401
   18HU97009_1,  AR13,    23,  3, 186324,   OC86,2,19970514,1712, 50.8382, -48.4853, 2634,    596.5,   3.1156,  34.8356,2,  34.8360,2,    283.1,2,    296.4,2,     9.19,6,    16.45,6,     1.01,6,    4.340,2,    2.370,2, -999.000,5,    7.900,2,   2148.1,2,   2271.3,2, 130.670,4,  3.0761,    597
   18HU97009_1,  AR13,    23,  3, 186323,   OC87,2,19970514,1712, 50.8382, -48.4853, 2634,    789.4,   3.0917,  34.8433,2,  34.8541,2,    282.4,2,    295.2,2,     9.49,6,    16.73,6,     1.01,6,    4.057,2,    2.072,2,    0.185,2,    6.957,2,   2149.1,2,   2274.6,2,  39.221,3,  3.0383,    789
   18HU97009_1,  AR13,    23,  3, 186322,   OC88,2,19970514,1712, 50.8382, -48.4853, 2634,    994.6,   3.0594,  34.8544,2,  34.8546,2,    281.4,2,    292.9,2,     9.80,6,    16.54,6,     1.04,6,    3.824,2,    2.102,2,    0.224,2,    6.383,2,   2151.8,6,   2274.4,2,  83.579,4,  2.9908,    995
   18HU97009_1,  AR13,    23,  3, 186321,   OC36,2,19970514,1712, 50.8382, -48.4853, 2634,   1191.4,   2.9607,  34.8534,2,  34.8535,2,    283.5,2,    294.4,2,     9.92,6,    16.73,6,     1.02,6,    3.850,2,    2.040,2, -999.000,5,    6.310,2,   2151.9,2,   2284.1,2, 102.270,4,  2.8777,   1191
   18HU97009_1,  AR13,    23,  3, 186320,   OC84,2,19970514,1712, 50.8382, -48.4853, 2634,   1392.6,   2.9209,  34.8624,2,  34.8627,2,    282.2,2,    292.7,2,    10.25,6,    16.80,6,     1.03,6,    3.428,6,    1.784,6,    0.230,6,    5.877,6,   2154.3,2,   2269.2,2,  56.584,3,  2.8221,   1393
   18HU97009_1,  AR13,    23,  3, 186319,   OC90,2,19970514,1712, 50.8382, -48.4853, 2634,   1590.8,   2.9127,  34.8809,2,  34.8821,6,    278.3,2,    287.9,2,    10.66,6,    16.80,6,     1.02,6,    2.958,2,    1.605,2,    0.195,2,    5.040,2,   2150.5,2,   2277.1,2,  66.219,4,  2.7975,   1591
   18HU97009_1,  AR13,    23,  3, 186318,   OC91,2,19970514,1712, 50.8382, -48.4853, 2634,   1792.7,   2.8260,  34.8955,2,  34.8961,2,    276.0,2,    284.6,2,    11.27,6,    16.30,6,     1.01,6,    2.578,2,    1.411,2,    0.126,2,    3.999,2,   2150.1,2,   2276.6,2,  68.659,4,  2.6946,   1793
   18HU97009_1,  AR13,    23,  3, 186317,   OC64,2,19970514,1712, 50.8382, -48.4853, 2634,   1991.8,   2.6654,  34.9024,2,  34.9024,2,    276.4,2,    283.5,2,    11.71,6,    15.96,6,     0.98,6,    2.335,2,    1.197,2,    0.000,2,    4.174,2,   2150.8,2,   -999.0,9,  14.749,4,  2.5187,   1992
   18HU97009_1,  AR13,    23,  3, 186316,   OC92,2,19970514,1712, 50.8382, -48.4853, 2634,   2223.3,   2.4508,  34.9013,2,  34.9016,2,    279.4,2,    284.5,2,    12.10,6,    16.12,6,     1.01,6,    2.384,2,    1.216,2,    0.146,2,    4.534,2,   2151.8,2,   2283.1,2,   2.189,4,  2.2868,   2223
   18HU97009_1,  AR13,    23,  3, 186315,   OC58,2,19970514,1712, 50.8382, -48.4853, 2634,   2443.5,   2.2772,  34.8974,2,  34.8975,2,    283.7,2,    286.0,2,    12.22,6,    15.70,6,     0.98,6,    2.461,2,    1.313,2,    0.126,2,    4.864,2,   2151.2,2,   2280.5,6,  13.251,4,  2.0960,   2444
   18HU97009_1,  AR13,    23,  3, 186314,   OC93,2,19970514,1712, 50.8382, -48.4853, 2634,   2576.3,   2.1262,  34.8931,2,  34.8935,2,    286.8,2,    288.5,6,    11.88,6,    15.66,6,     0.96,6,    2.685,2,    1.459,2,    0.165,2,    4.465,3,   2152.7,2,   2280.3,2,  73.490,4,  1.9355,   2576
   18HU97009_1,  AR13,    23,  3, 186313,   OC66,2,19970514,1712, 50.8382, -48.4853, 2634,   2635.1,   2.0858,  34.8925,2,  34.8927,2,    287.9,2,    289.2,2,    11.74,6,    15.72,6,     1.04,3,    2.743,2,    1.469,2,    0.195,2,    5.166,2,   2151.6,2,   2279.0,2,  56.124,4,  1.8903,   2635
   18HU97009_1,  AR13,    24,  3, 186355,   OC55,2,19970514,2340, 51.1598, -47.8392, 3515,      1.9,   4.4970,  34.3427,2,  34.3437,2,    308.3,2,    330.9,2,     8.61,6,     9.67,6,     0.75,6,    5.160,2,    2.740,2, -999.000,5, -999.000,5,   2103.6,2,   2260.2,2,-999.000,3,  4.4969,      2
   18HU97009_1,  AR13,    24,  3, 186354,   OC81,2,19970514,2340, 51.1598, -47.8392, 3515,     14.9,   4.4993,  34.3439,2,  34.3423,2,    307.8,2,    330.7,6,     8.59,6,     9.51,6,     0.74,6,    5.276,2,    2.989,2,    0.467,3,    8.187,2,   2103.1,2,   2256.3,2,-999.000,3,  4.4982,     15
   18HU97009_1,  AR13,    24,  3, 186353,   OC69,2,19970514,2340, 51.1598, -47.8392, 3515,     51.3,   3.3502,  34.6178,2,  34.6162,2,    291.0,2,    310.0,2,     8.71,6,    14.13,6,     0.96,6,    4.856,2,    2.842,2,    0.302,3,    7.990,2,   2132.7,2,   -999.0,9,-999.000,3,  3.3469,     51
   18HU97009_1,  AR13,    24,  3, 186352,   OC52,2,19970514,2340, 51.1598, -47.8392, 3515,     77.4,   2.9531,  34.6252,2,  34.6238,2,    289.4,2,    307.3,2,     9.08,6,    14.89,6,     0.98,6,    4.671,2,    2.579,2,    0.360,3,    7.231,3,   2136.2,2,   -999.0,9,-999.000,3,  2.9484,     77
   18HU97009_1,  AR13,    24,  3, 186351,   OC51,2,19970514,2340, 51.1598, -47.8392, 3515,     99.7,   2.9792,  34.6650,2,  34.6686,2,    286.0,2,    304.4,2,     8.98,6,    14.87,6,     1.00,6,    4.788,2,    2.608,2,    0.234,2,    7.882,2,   2138.7,2,   2269.6,2,-999.000,3,  2.9731,    100
   18HU97009_1,  AR13,    24,  3, 186350,   OC56,2,19970514,2340, 51.1598, -47.8392, 3515,    150.2,   3.3056,  34.7630,2,  34.7630,2,    277.6,2,    295.9,2,     8.99,6,    15.54,6,     1.02,6,    4.359,2,    2.530,2,    0.185,2,    7.512,2,   2143.3,2,   2272.2,2,-999.000,3,  3.2960,    150
   18HU97009_1,  AR13,    24,  3, 186349,   OC61,2,19970514,2340, 51.1598, -47.8392, 3515,    197.8,   3.3076,  34.7814,2,  34.7806,2,    276.5,2,    294.7,6,     9.15,6,    15.50,6,     1.01,6,    4.233,2,    2.403,2,    0.195,2,    6.811,2,   2144.3,2,   -999.0,9,-999.000,3,  3.2949,    198
   18HU97009_1,  AR13,    24,  3, 186348,   OC82,2,19970514,2340, 51.1598, -47.8392, 3515,    400.2,   3.2118,  34.8204,2,  34.8199,2,    276.7,2,   -999.0,9,     9.20,6,    16.09,6,     1.04,6,    4.310,2,    2.345,2,    0.243,2,    7.113,2,   2148.0,2,   2275.3,2,-999.000,3,  3.1857,    400
   18HU97009_1,  AR13,    24,  3, 186347,   OC83,2,19970514,2340, 51.1598, -47.8392, 3515,    602.0,   3.1416,  34.8284,2,  34.8283,2,    277.3,2,    295.4,2,     9.11,6,    16.14,6,     1.03,6,    4.266,6,    2.305,6,    0.214,2,    6.933,6,   2147.1,2,   2274.1,2,-999.000,3,  3.1016,    602
   18HU97009_1,  AR13,    24,  3, 186346,   OC94,2,19970514,2340, 51.1598, -47.8392, 3515,    799.7,   3.1379,  34.8400,2,  34.8393,2,    277.5,2,    293.8,2,     9.28,6,    16.10,6,     1.03,6,    4.077,2,    2.316,2,    0.136,2,    6.616,2,   2147.9,2,   2273.8,2,-999.000,3,  3.0836,    800
   18HU97009_1,  AR13,    24,  3, 186345,   OC85,2,19970514,2340, 51.1598, -47.8392, 3515,    992.5,   3.1133,  34.8483,2,  34.8489,2,    278.4,2,    293.2,2,     9.57,6,    16.24,6,     1.06,6,    3.960,2,    2.209,2,    0.195,2,    6.607,2,   2149.5,2,   2272.2,2, 827.518,3,  3.0445,    993
   18HU97009_1,  AR13,    24,  3, 186344,   OC86,2,19970514,2340, 51.1598, -47.8392, 3515,   1195.1,   3.0761,  34.8552,2,  34.8544,2,    278.2,2,    292.7,2,     9.93,6,    16.61,6,     1.05,6,    3.697,2,    2.024,2,    0.000,2,    6.081,3,   2149.6,2,   2272.9,6, 726.680,3,  2.9917,   1195
   18HU97009_1,  AR13,    24,  3, 186343,   OC87,4,19970514,2340, 51.1598, -47.8392, 3515,   1397.5,   3.0010,  34.8513,2,  34.8075,2,    281.4,2,    294.2,2,     9.61,6,    16.27,6,     1.04,6,    3.882,2,    2.034,2,    0.175,2,    6.811,2,   2148.3,6,   2274.3,2, 830.775,3,  2.9010,   1398
   18HU97009_1,  AR13,    24,  3, 186342,   OC88,2,19970514,2340, 51.1598, -47.8392, 3515,   1598.8,   2.9442,  34.8506,2,  34.8501,2,    283.1,2,    295.5,2,     9.84,6,    16.51,6,     1.07,6,    3.726,2,    2.014,2,    0.185,2,    6.645,2,   2149.0,2,   2276.2,2, 716.028,3,  2.8280,   1599
   18HU97009_1,  AR13,    24,  3, 186341,   OC36,2,19970514,2340, 51.1598, -47.8392, 3515,   1779.1,   2.9420,  34.8551,2,  34.8544,2,    281.8,2,    294.8,2,    10.07,6,    16.44,6,     1.04,6,    3.503,2,    1.664,2,    0.165,2,    5.828,2,   -999.0,9,   -999.0,9, 714.934,3,  2.8103,   1779
   18HU97009_1,  AR13,    24,  3, 186340,   OC84,2,19970514,2340, 51.1598, -47.8392, 3515,   2019.1,   3.0211,  34.8862,2,  34.8859,6,    273.8,2,    285.2,2,    10.88,6,    16.44,6,     1.05,6,    2.695,2,    1.518,2,    0.000,2,    5.118,2,   2149.2,2,   2282.0,2, 767.606,3,  2.8666,   2019
   18HU97009_1,  AR13,    24,  3, 186339,   OC90,2,19970514,2340, 51.1598, -47.8392, 3515,   2227.5,   2.9963,  34.9031,2,  34.9030,2,    269.7,2,    281.4,2,    11.71,6,    16.67,6,     1.03,6,    2.199,2,    1.119,2,    0.175,2,    3.960,3,   2150.0,2,   2278.2,2, 446.069,3,  2.8228,   2228
   18HU97009_1,  AR13,    24,  3, 186338,   OC91,2,19970514,2340, 51.1598, -47.8392, 3515,   2454.2,   2.8603,  34.9096,2,  34.9094,2,    269.7,2,    280.4,2,    12.06,6,    16.27,6,     1.03,6,    2.043,2,    1.031,2,    0.126,2,    3.824,3,   2151.1,2,   2277.9,2, 369.988,3,  2.6675,   2454
   18HU97009_1,  AR13,    24,  3, 186337,   OC64,2,19970514,2340, 51.1598, -47.8392, 3515,   2706.8,   2.6441,  34.9054,2,  34.9047,2,    272.8,2,    282.7,2,    12.09,6,    15.95,6,     1.01,6,    2.208,2,    1.080,2,    0.000,2,    4.680,3,   2151.9,2,   2281.2,2, 762.010,3,  2.4307,   2707
   18HU97009_1,  AR13,    24,  3, 186336,   OC92,2,19970514,2340, 51.1598, -47.8392, 3515,   2952.9,   2.2739,  34.8972,2,  34.8959,2,    278.9,2,    286.5,2,    12.28,6,    15.66,6,     1.00,6,    2.471,2,    1.236,2,    0.165,2,    4.874,3,   2152.4,2,   2277.0,2, 471.784,3,  2.0437,   2953
   18HU97009_1,  AR13,    24,  3, 186335,   OC58,2,19970514,2340, 51.1598, -47.8392, 3515,   3206.4,   1.8702,  34.8856,2,  34.8857,2,    288.0,2,    294.0,2,    11.04,6,    15.01,6,     0.95,6,    3.133,2,    1.566,2,    0.000,2,    6.499,2,   2152.8,2,   2280.6,2, 956.816,3,  1.6237,   3206
   18HU97009_1,  AR13,    24,  3, 186334,   OC93,2,19970514,2340, 51.1598, -47.8392, 3515,   3438.8,   1.7244,  34.8811,2,  34.8808,2,    291.7,2,    296.7,2,    10.91,6,    14.77,6,     0.94,6,    3.356,2,    1.751,2,    0.156,2,    6.654,2,   2151.1,2,   2277.0,2, 885.742,3,  1.4578,   3439
   18HU97009_1,  AR13,    24,  3, 186333,   OC66,2,19970514,2340, 51.1598, -47.8392, 3515,   3538.5,   1.7273,  34.8811,2,  34.8806,2,    292.7,2,   -999.0,9,    10.90,6,    14.89,6,     0.95,6,    3.356,2,    1.819,2,    0.204,2,    6.547,2,   2151.3,2,   2287.5,3, 535.899,3,  1.4503,   3539
   18HU97009_1,  AR13,    25,  1, 186379,   OC55,2,19970515,0604, 51.4678, -47.2165, 3684,      9.5,   5.0786,  34.4994,2,  34.5005,2,    308.4,2,    334.8,2,     7.25,6,     9.36,6,     0.70,6,    4.926,2,    2.628,2,    0.302,2,    7.427,2,   2103.0,3,   2278.5,2, 343.737,4,  5.0779,     10
   18HU97009_1,  AR13,    25,  1, 186378,   OC81,2,19970515,0604, 51.4678, -47.2165, 3684,     48.8,   4.1359,  34.6194,2,  34.6234,2,    304.8,2,    319.3,6,     7.77,6,    12.26,6,     0.84,6,    4.973,2,    2.638,2,    0.321,2,    7.689,2,   -999.0,5,   2287.5,2, 435.137,4,  4.1325,     49
   18HU97009_1,  AR13,    25,  1, 186377,   OC69,2,19970515,0604, 51.4678, -47.2165, 3684,     76.1,   3.9475,  34.6623,2,  34.6623,2,    296.7,2,    310.3,6,     7.91,6,    13.70,6,     0.91,6,    4.769,2,    2.482,2,    0.311,2,    7.455,2,   2131.8,2,   2281.7,2, 323.253,4,  3.9422,     76
   18HU97009_1,  AR13,    25,  1, 186376,   OC52,2,19970515,0604, 51.4678, -47.2165, 3684,     98.9,   3.6675,  34.6660,2,  34.6648,2,    294.6,2,    307.8,6,     7.96,6,    14.48,6,     0.94,6,    4.710,2,    2.559,2,    0.282,2,    7.231,2,   2136.2,2,   -999.0,4, 470.515,4,  3.6610,     99
   18HU97009_1,  AR13,    25,  1, 186375,   OC51,2,19970515,0604, 51.4678, -47.2165, 3684,    150.4,   3.7616,  34.7348,2,  34.7349,2,    277.6,2,    289.3,6,     8.67,6,    15.80,6,     1.01,6,    4.243,2,    2.238,2,    0.263,2,    7.279,2,   2146.5,2,   2288.4,2, 308.651,4,  3.7514,    150
   18HU97009_1,  AR13,    25,  1, 186374,   OC56,2,19970515,0604, 51.4678, -47.2165, 3684,    200.4,   3.7634,  34.7758,2,  34.7761,2,    271.6,2,    283.4,6,     8.91,6,    16.37,6,     1.04,6,    4.009,2,    2.160,2,    0.243,2,    6.753,2,   2146.5,2,   2288.8,2, 229.557,4,  3.7497,    200
   18HU97009_1,  AR13,    25,  1, 186373,   OC61,2,19970515,0604, 51.4678, -47.2165, 3684,    385.3,   3.3230,  34.8044,2,  34.8052,6,    280.9,2,    292.1,6,     8.92,6,    16.09,6,     1.02,6,    4.165,2,    2.209,2,    0.253,2,    6.967,2,   2146.6,2,   2284.2,2, 342.181,4,  3.2975,    385
   18HU97009_1,  AR13,    25,  1, 186372,   OC82,2,19970515,0604, 51.4678, -47.2165, 3684,    602.0,   3.2174,  34.8270,2,  34.8338,2,    282.2,2,    293.9,6,     8.94,6,    16.20,6,     1.01,6,    4.198,6,    2.309,6,    0.214,2,    6.655,2,   2148.0,2,   2290.8,2, 159.487,3,  3.1771,    602
   18HU97009_1,  AR13,    25,  1, 186371,   OC83,2,19970515,0604, 51.4678, -47.2165, 3684,    800.8,   3.4346,  34.8770,2,  34.8762,2,    269.9,2,    281.3,6,     9.78,6,    17.20,6,     1.08,6,    3.337,2,    1.829,2,    0.146,2,    6.091,2,   2152.3,2,   2290.5,2, 232.984,4,  3.3782,    801
   18HU97009_1,  AR13,    25,  1, 186370,   OC94,2,19970515,0604, 51.4678, -47.2165, 3684,    998.6,   3.2849,  34.8721,2,  34.8745,2,    273.8,2,    285.2,6,     9.99,6,    17.07,6,     1.06,6,    3.318,2,    1.703,2,    0.195,2,    5.322,3,   2152.0,2,   2293.9,6, 181.735,4,  3.2143,    999
   18HU97009_1,  AR13,    25,  1, 186369,   OC85,2,19970515,0604, 51.4678, -47.2165, 3684,   1198.6,   3.1430,  34.8644,2,  34.8647,2,    279.3,2,    289.6,6,     9.80,6,    16.92,6,     1.06,6,    3.503,2,    1.781,2,    0.195,2,    5.984,2,   2150.7,2,   -999.0,4, 270.469,4,  3.0577,   1199
   18HU97009_1,  AR13,    25,  1, 186368,   OC86,2,19970515,0604, 51.4678, -47.2165, 3684,   1389.9,   3.0699,  34.8611,2,  34.8611,2,    281.4,2,    291.6,6,     9.76,6,    16.66,6,     1.04,6,    3.532,2,    1.771,2,    0.175,2,    6.110,2,   -999.0,5,   2284.4,2, 240.519,4,  2.9697,   1390
   18HU97009_1,  AR13,    25,  1, 186367,   OC87,2,19970515,0604, 51.4678, -47.2165, 3684,   1600.2,   2.9817,  34.8553,2,  34.8552,2,    283.7,2,    294.6,2,     9.70,6,    16.77,6,     1.04,6,    3.542,2,    1.819,2,    0.214,2,    5.838,2,   2148.3,2,   -999.0,9, 130.796,4,  2.8649,   1600
   18HU97009_1,  AR13,    25,  1, 186366,   OC88,2,19970515,0604, 51.4678, -47.2165, 3684,   1750.7,   2.9490,  34.8548,2,  34.8544,2,    284.6,2,    294.5,6,     9.75,6,    16.33,6,     1.05,6,    3.600,2,    1.819,2,    0.185,2,    6.256,3,   2150.1,2,   2288.7,2, 265.055,4,  2.8197,   1751
   18HU97009_1,  AR13,    25,  1, 186365,   OC36,2,19970515,0604, 51.4678, -47.2165, 3684,   1992.4,   3.0379,  34.8837,2,  34.8833,2,    276.0,2,    285.6,6,    10.64,6,    16.59,6,     1.04,6,    2.646,3,    1.226,2,    0.000,2,    4.952,2,   2150.9,2,   2295.3,2, 185.240,4,  2.8856,   1992
   18HU97009_1,  AR13,    25,  1, 186364,   OC84,2,19970515,0604, 51.4678, -47.2165, 3684,   2193.6,   3.0376,  34.9061,2,  34.9065,2,    271.0,2,    280.0,6,    11.62,6,    16.38,6,     1.04,6,    2.024,2,    0.973,2,    0.000,2,    3.668,3,   2151.0,2,   2296.3,2,  68.251,3,  2.8666,   2194
   18HU97009_1,  AR13,    25,  1, 186363,   OC90,2,19970515,0604, 51.4678, -47.2165, 3684,   2399.3,   2.8998,  34.9053,2,  34.9057,2,    273.0,2,    281.5,6,    11.58,6,    16.13,6,     1.03,6,    2.170,2,    1.060,2,    0.078,3,    4.534,2,   2152.0,2,   2293.0,2, 166.914,4,  2.7116,   2399
   18HU97009_1,  AR13,    25,  1, 186362,   OC91,2,19970515,0604, 51.4678, -47.2165, 3684,   2651.5,   2.7385,  34.9130,2,  34.9122,2,    271.9,2,    279.3,6,    12.73,6,    16.21,6,     1.03,6,    1.858,2,    0.905,2,    0.058,3,    4.368,3,   2152.3,2,   2301.7,2, 144.076,4,  2.5287,   2652
   18HU97009_1,  AR13,    25,  1, 186361,   OC64,2,19970515,0604, 51.4678, -47.2165, 3684,   2880.5,   2.5252,  34.9072,2,  34.9063,2,    275.4,2,    281.1,6,    12.87,6,    15.75,6,     1.02,6,    1.897,2,    0.915,2,    0.000,2,    4.135,2,   2153.1,2,   2297.5,2,  56.972,3,  2.2969,   2881
   18HU97009_1,  AR13,    25,  1, 186360,   OC92,2,19970515,0604, 51.4678, -47.2165, 3684,   3148.5,   2.2817,  34.9002,2,  34.8992,2,    277.6,2,    282.3,6,    14.35,6,    15.89,6,     1.02,6,    1.917,2,    0.885,2,    0.000,2,    4.728,2,   2154.5,2,   -999.0,9, 163.393,4,  2.0316,   3149
   18HU97009_1,  AR13,    25,  1, 186359,   OC58,2,19970515,0604, 51.4678, -47.2165, 3684,   3400.1,   2.1141,  34.8916,2,  34.8914,2,    282.9,2,    287.0,2,    13.73,6,    15.35,6,     1.00,6,    2.345,2,    1.119,2,    0.126,2,    5.059,2,   2155.7,2,   2292.8,2, 132.465,4,  1.8419,   3400
   18HU97009_1,  AR13,    25,  1, 186358,   OC93,2,19970515,0604, 51.4678, -47.2165, 3684,   3600.2,   1.8222,  34.8783,2,  34.8778,2,    290.7,2,    293.6,6,    11.77,6,    14.68,6,     0.97,6,    3.016,2,    1.586,2,    0.185,2,    5.711,2,   2153.4,2,   2298.4,2,  36.141,3,  1.5363,   3600
   18HU97009_1,  AR13,    25,  1, 186357,   OC66,3,19970515,0604, 51.4678, -47.2165, 3684,   3714.9,   1.7250,  34.8760,2,-999.0000,9,    293.1,2,   -999.0,9,  -999.00,9,  -999.00,9,  -999.00,9, -999.000,9, -999.000,9, -999.000,9, -999.000,9,   -999.0,9,   -999.0,9,-999.000,9,  1.4295,   3715