BOTTLE,20020708WHPSIOKJU
EXPOCODE,SECT_ID,STNNBR,CASTNO,SAMPNO,BTLNBR,BTLNBR_FLAG_W,DATE,TIME,LATITUDE,LONGITUDE,DEPTH,CTDPRS,CTDTMP,CTDSAL,CTDSAL_FLAG_W,SALNTY,SALNTY_FLAG_W,CTDOXY,CTDOXY_FLAG_W,OXYGEN,OXYGEN_FLAG_W,SILCAT,SILCAT_FLAG_W,NO2+NO3,NO2+NO3_FLAG_W,PHSPHT,PHSPHT_FLAG_W,CFC-11,CFC-11_FLAG_W,CFC-12,CFC-12_FLAG_W,CFC113,CFC113_FLAG_W,CCL4,CCL4_FLAG_W,TCARBN,TCARBN_FLAG_W,ALKALI,ALKALI_FLAG_W,MCHFRM,MCHFRM_FLAG_W,THETA,CTDRAW
,,,,,,,,,,,,DBAR,ITS-90,PSS-78,,PSS-78,,UMOL/KG,,UMOL/KG,,UMOL/KG,,UMOL/KG,,UMOL/KG,,PMOL/KG,,PMOL/KG,,PMOL/KG,,PMOL/KG,,UMOL/KG,,UMOL/KG,,PMOL/KG,,DEG C,
   18HU97009_1,  AR27,   100,  2, 187904,   OC86,2,19970602,0108, 61.3733, -50.0017,  109,      2.8,  -0.2293,  33.0220,2,-999.0000,9,    394.3,2,   -999.0,9,  -999.00,9,  -999.00,9,  -999.00,9, -999.000,9, -999.000,9, -999.000,9, -999.000,9,   -999.0,9,   -999.0,9,-999.000,9, -0.2294,      3
   18HU97009_1,  AR27,   100,  2, 187906,   OC94,2,19970602,0108, 61.3733, -50.0017,  109,      2.8,  -0.2323,  33.0234,2,-999.0000,9,    394.1,2,   -999.0,9,  -999.00,9,  -999.00,9,  -999.00,9, -999.000,9, -999.000,9, -999.000,9, -999.000,9,   -999.0,9,   -999.0,9,-999.000,9, -0.2324,      3
   18HU97009_1,  AR27,   100,  2, 187903,   OC87,2,19970602,0108, 61.3733, -50.0017,  109,      3.1,  -0.2288,  33.0221,2,-999.0000,9,    394.2,2,   -999.0,9,  -999.00,9,  -999.00,9,  -999.00,9, -999.000,9, -999.000,9, -999.000,9, -999.000,9,   -999.0,9,   -999.0,9,-999.000,9, -0.2289,      3
   18HU97009_1,  AR27,   100,  2, 187905,   OC85,2,19970602,0108, 61.3733, -50.0017,  109,      3.2,  -0.2322,  33.0230,2,-999.0000,9,    394.0,2,   -999.0,9,  -999.00,9,  -999.00,9,  -999.00,9, -999.000,9, -999.000,9, -999.000,9, -999.000,9,   -999.0,9,   -999.0,9,-999.000,9, -0.2323,      3
   18HU97009_1,  AR27,   100,  2, 187907,   OC83,2,19970602,0108, 61.3733, -50.0017,  109,      3.2,  -0.2342,  33.0248,2,-999.0000,9,    394.1,2,   -999.0,9,  -999.00,9,  -999.00,9,  -999.00,9, -999.000,9, -999.000,9, -999.000,9, -999.000,9,   -999.0,9,   -999.0,9,-999.000,9, -0.2343,      3
   18HU97009_1,  AR27,   100,  2, 187902,   OC88,2,19970602,0108, 61.3733, -50.0017,  109,      9.8,  -0.2307,  33.0214,2,  33.0225,2,    394.9,2,    390.0,2,     0.39,6,     0.22,3,     0.19,3,    6.780,2,    3.400,2,    0.292,2,    9.615,2,   2018.5,2,   -999.0,5,  71.835,3, -0.2310,     10
   18HU97009_1,  AR27,   100,  2, 187901,   OC36,2,19970602,0108, 61.3733, -50.0017,  109,     20.0,  -0.2446,  33.0331,2,-999.0000,9,    391.9,2,   -999.0,9,  -999.00,9,  -999.00,9,  -999.00,9, -999.000,9, -999.000,9, -999.000,9, -999.000,9,   -999.0,9,   -999.0,9,-999.000,9, -0.2452,     20
   18HU97009_1,  AR27,   100,  2, 187900,   OC84,2,19970602,0108, 61.3733, -50.0017,  109,     29.6,  -0.2529,  33.0580,2,-999.0000,9,    386.2,2,   -999.0,9,  -999.00,9,  -999.00,9,  -999.00,9, -999.000,9, -999.000,9, -999.000,9, -999.000,9,   -999.0,9,   -999.0,9,-999.000,9, -0.2538,     30
   18HU97009_1,  AR27,   100,  2, 187899,   OC90,2,19970602,0108, 61.3733, -50.0017,  109,     39.9,  -0.3878,  33.3326,2,-999.0000,9,    364.0,2,   -999.0,9,  -999.00,9,  -999.00,9,  -999.00,9, -999.000,9, -999.000,9, -999.000,9, -999.000,9,   -999.0,9,   -999.0,9,-999.000,9, -0.3890,     40
   18HU97009_1,  AR27,   100,  2, 187898,   OC91,2,19970602,0108, 61.3733, -50.0017,  109,     50.3,  -0.3245,  33.4086,2,  33.4041,2,    359.3,2,    345.7,6,     5.04,6,     8.11,6,     0.55,3,    6.233,2,    3.136,2,    0.243,2,    9.437,2,   2079.5,2,   -999.0,5,  58.188,4, -0.3261,     50
   18HU97009_1,  AR27,   100,  2, 187897,   OC64,2,19970602,0108, 61.3733, -50.0017,  109,     59.5,  -0.2209,  33.4475,2,-999.0000,9,    360.4,2,   -999.0,9,  -999.00,9,  -999.00,9,  -999.00,9, -999.000,9, -999.000,9, -999.000,9, -999.000,9,   -999.0,9,   -999.0,9,-999.000,9, -0.2228,     60
   18HU97009_1,  AR27,   100,  2, 187896,   OC95,2,19970602,0108, 61.3733, -50.0017,  109,     69.7,  -0.2077,  33.4530,2,-999.0000,9,    361.6,2,   -999.0,9,  -999.00,9,  -999.00,9,  -999.00,9, -999.000,9, -999.000,9, -999.000,9, -999.000,9,   -999.0,9,   -999.0,9,-999.000,9, -0.2099,     70
   18HU97009_1,  AR27,   100,  2, 187895,   OC58,2,19970602,0108, 61.3733, -50.0017,  109,     79.9,  -0.1788,  33.4653,2,-999.0000,9,    363.1,2,   -999.0,9,  -999.00,9,  -999.00,9,  -999.00,9, -999.000,9, -999.000,9, -999.000,9, -999.000,9,   -999.0,9,   -999.0,9,-999.000,9, -0.1813,     80
   18HU97009_1,  AR27,   100,  2, 187894,   OC93,2,19970602,0108, 61.3733, -50.0017,  109,     90.0,  -0.0758,  33.5001,2,-999.0000,9,    363.9,2,   -999.0,9,  -999.00,9,  -999.00,9,  -999.00,9, -999.000,9, -999.000,9, -999.000,9, -999.000,9,   -999.0,9,   -999.0,9,-999.000,9, -0.0788,     90
   18HU97009_1,  AR27,   100,  2, 187893,   OC66,2,19970602,0108, 61.3733, -50.0017,  109,     97.1,   0.1466,  33.5680,2,  33.5574,6,    362.5,2,    340.8,2,     5.31,6,     8.75,6,     0.55,3,    6.028,2,    3.136,2,    0.243,2,    8.949,2,   2085.1,6,   -999.0,5,  53.966,4,  0.1431,     97
   18HU97009_1,  AR27,   101,  3, 187921,   OC94,2,19970603,0224, 63.3665, -57.9993, 1516,      9.0,   2.1061,  33.7587,2,  33.7579,2,    346.8,2,    360.7,2,     0.27,6,     0.00,6,     0.22,6,    6.738,2,    3.350,2,    0.243,2,    8.666,2,   2015.3,2,   -999.0,5,  67.383,3,  2.1056,      9
   18HU97009_1,  AR27,   101,  3, 187920,   OC85,2,19970603,0224, 63.3665, -57.9993, 1516,     70.5,   1.6570,  34.1135,2,  34.1171,2,    337.5,2,    348.7,2,     1.36,6,     3.91,6,     0.52,6,    6.366,2,    3.329,2,    0.224,2,    8.732,2,   2086.6,2,   -999.0,5,  58.640,3,  1.6536,     71
   18HU97009_1,  AR27,   101,  3, 187919,   OC86,2,19970603,0224, 63.3665, -57.9993, 1516,    120.3,   2.4448,  34.3633,2,  34.3637,2,    303.2,2,    313.3,2,     5.84,6,    12.16,6,     0.96,6,    5.635,2,    2.949,2,    0.195,2,    8.487,2,   -999.0,5,   -999.0,5,  45.716,4,  2.4381,    120
   18HU97009_1,  AR27,   101,  3, 187918,   OC87,2,19970603,0224, 63.3665, -57.9993, 1516,    234.7,   3.8559,  34.7214,2,  34.7192,2,    286.1,2,    297.7,2,     7.54,6,    14.22,6,     1.01,6,    4.914,2,    2.628,2,    0.175,2,    8.097,2,   2137.5,2,   -999.0,5,  43.199,4,  3.8397,    235
   18HU97009_1,  AR27,   101,  3, 187917,   OC88,2,19970603,0224, 63.3665, -57.9993, 1516,    360.2,   4.1192,  34.8161,2,  34.8160,2,    280.2,2,    291.2,2,     7.83,6,    15.10,6,     1.05,6,    4.870,2,    2.490,2, -999.000,5,    7.820,2,   2142.7,2,   -999.0,5,  42.980,4,  4.0932,    360
   18HU97009_1,  AR27,   101,  3, 187916,   OC36,2,19970603,0224, 63.3665, -57.9993, 1516,    490.1,   4.0154,  34.8316,2,  34.8305,6,    282.2,2,    292.1,6,     8.11,6,    14.94,6,     1.07,6,    4.710,2,    2.452,2,    0.136,2,    7.483,2,   2144.5,2,   -999.0,5,  40.889,4,  3.9799,    490
   18HU97009_1,  AR27,   101,  3, 187915,   OC84,2,19970603,0224, 63.3665, -57.9993, 1516,    643.4,   3.9538,  34.8521,2,  34.8511,6,    282.2,2,    291.1,2,     8.35,6,    15.61,6,     1.06,6,    4.603,2,    2.306,2,    0.146,2,    7.736,2,   2146.3,2,   -999.0,5,  41.959,3,  3.9067,    643
   18HU97009_1,  AR27,   101,  3, 187914,   OC90,2,19970603,0224, 63.3665, -57.9993, 1516,    790.4,   3.8313,  34.8598,2,  34.8592,2,    281.3,2,    288.5,2,     8.63,6,    15.65,6,     1.07,6,    4.457,2,    2.277,2,    0.136,2,    7.434,2,   2149.0,2,   -999.0,5,  40.148,4,  3.7733,    790
   18HU97009_1,  AR27,   101,  3, 187913,   OC91,2,19970603,0224, 63.3665, -57.9993, 1516,    969.6,   3.7345,  34.8892,2,  34.8881,6,    277.1,2,    281.8,2,     9.55,6,    16.62,6,     1.11,6,    3.950,2,    1.907,2,    0.000,2,    6.938,2,   2153.5,2,   -999.0,5,  33.073,2,  3.6627,    970
   18HU97009_1,  AR27,   101,  3, 187912,   OC64,2,19970603,0224, 63.3665, -57.9993, 1516,   1069.2,   3.6092,  34.8885,2,  34.8881,6,    279.3,2,    282.5,2,     9.65,6,    16.31,6,     1.09,6,    3.834,2,    1.985,2,    0.126,3,    7.142,2,   2154.4,2,   -999.0,5,  34.542,2,  3.5303,   1069
   18HU97009_1,  AR27,   101,  3, 187911,   OC95,2,19970603,0224, 63.3665, -57.9993, 1516,   1169.8,   3.3758,  34.8831,2,  34.8825,6,    284.5,2,    286.1,2,    10.03,6,    16.60,6,     1.10,6,    3.911,6,    1.920,6,    0.000,2,    6.973,3,   2152.8,2,   -999.0,5,  36.725,6,  3.2907,   1170
   18HU97009_1,  AR27,   101,  3, 187910,   OC58,2,19970603,0224, 63.3665, -57.9993, 1516,   1269.7,   3.1718,  34.8740,2,  34.8733,6,    291.1,2,    290.0,2,     9.79,6,    16.27,6,     1.04,3,    3.941,2,    2.014,2,    0.000,2,    7.035,2,   2153.7,6,   -999.0,5,  36.749,3,  3.0805,   1270
   18HU97009_1,  AR27,   101,  3, 187909,   OC93,2,19970603,0224, 63.3665, -57.9993, 1516,   1385.1,   3.0099,  34.8658,2,  34.8646,6,    297.2,2,    293.9,2,     9.88,6,    16.46,6,     1.10,6,    3.950,2,    2.072,2,    0.000,2,    6.490,2,   2152.7,2,   -999.0,5,  36.807,3,  2.9107,   1385
   18HU97009_1,  AR27,   101,  3, 187908,   OC66,2,19970603,0224, 63.3665, -57.9993, 1516,   1502.4,   2.9703,  34.8776,2,  34.8772,6,    297.3,2,    288.6,2,    10.44,6,    16.00,6,     1.11,6,    3.580,2,    1.790,2,    0.126,2,    6.655,2,   2154.2,2,   -999.0,5,  33.878,2,  2.8618,   1502
   18HU97009_1,  AR27,   102,  2, 187939,   OC56,3,19970603,0703, 62.8012, -57.6648, 2071,     11.8,   3.4055,  34.0636,2,  34.0637,2,    327.7,2,    352.0,2,     0.00,6,     0.00,6,     0.16,6,    5.803,2,    3.116,2,    0.428,3,    9.298,3,   2026.9,2,   -999.0,5, 100.010,3,  3.4047,     12
   18HU97009_1,  AR27,   102,  2, 187938,   OC61,2,19970603,0703, 62.8012, -57.6648, 2071,     40.2,   2.6383,  34.1175,2,  34.6815,2,    334.6,2,    356.8,6,     0.00,6,     0.00,6,     0.20,6,    5.861,2,    3.164,2,    0.409,3,    9.102,3,   2041.8,2,   -999.0,5, 105.694,3,  2.6360,     40
   18HU97009_1,  AR27,   102,  2, 187937,   OC82,2,19970603,0703, 62.8012, -57.6648, 2071,    129.6,   3.5277,  34.6790,2,  34.6805,2,    278.2,2,    297.7,6,     6.90,6,    13.97,6,     0.97,6,    4.749,2,    2.783,2,    0.263,2,    8.457,2,   2141.5,2,   -999.0,5,  79.176,4,  3.5192,    130
   18HU97009_1,  AR27,   102,  2, 187936,   OC83,3,19970603,0703, 62.8012, -57.6648, 2071,    233.6,   4.0446,  34.8160,2,  34.8165,2,    271.5,2,    289.5,6,     7.55,6,    15.20,6,     1.00,6,    4.301,2,    2.423,2,    0.253,2,    7.902,2,   2146.2,2,   -999.0,5,  59.554,4,  4.0281,    234
   18HU97009_1,  AR27,   102,  2, 187935,   OC94,2,19970603,0703, 62.8012, -57.6648, 2071,    375.9,   3.8913,  34.8324,2,  34.8317,2,    274.1,2,    291.5,6,     7.92,6,    15.09,6,     1.00,6,    4.243,2,    2.423,2,    0.195,3,    7.746,2,   2148.5,2,   -999.0,5,  62.481,4,  3.8647,    376
   18HU97009_1,  AR27,   102,  2, 187934,   OC85,2,19970603,0703, 62.8012, -57.6648, 2071,    540.6,   3.7442,  34.8400,2,  34.8397,2,    273.8,2,    290.1,6,     8.34,2,    15.48,6,     1.01,6,    4.174,2,    2.384,2,    0.272,2,    7.853,2,   2149.3,2,   -999.0,5,  63.852,4,  3.7060,    541
   18HU97009_1,  AR27,   102,  2, 187933,   OC86,2,19970603,0703, 62.8012, -57.6648, 2071,    693.2,   3.5707,  34.8335,2,  34.8332,2,    276.5,2,    293.0,6,     8.21,6,    15.61,6,     1.02,6,    4.350,2,    2.440,2, -999.000,5,    8.490,3,   2148.1,2,   -999.0,5,  67.310,4,  3.5218,    693
   18HU97009_1,  AR27,   102,  2, 187932,   OC87,2,19970603,0703, 62.8012, -57.6648, 2071,    848.5,   3.6750,  34.8698,2,  34.8692,2,    269.7,2,    285.4,6,     8.83,6,    16.18,6,     1.04,6,    3.824,2,    2.092,2,    0.185,2,    7.366,3,   2152.1,2,   -999.0,5,  55.394,4,  3.6134,    849
   18HU97009_1,  AR27,   102,  2, 187931,   OC88,2,19970603,0703, 62.8012, -57.6648, 2071,    999.0,   3.5753,  34.8873,2,  34.8871,6,    267.8,2,    282.2,6,     9.40,6,    16.34,6,     1.04,6,    3.595,6,    1.995,6,    0.185,6,    6.792,2,   2156.1,2,   -999.0,5,  34.717,3,  3.5024,    999
   18HU97009_1,  AR27,   102,  2, 187930,   OC36,2,19970603,0703, 62.8012, -57.6648, 2071,   1160.2,   3.3638,  34.8826,2,  34.8819,2,    271.8,2,    286.0,6,     9.63,6,    16.40,6,     0.99,3,    3.474,2,    1.868,2,    0.136,3,    7.015,2,   2155.9,2,   -999.0,5,  52.181,4,  3.2796,   1160
   18HU97009_1,  AR27,   102,  2, 187929,   OC84,2,19970603,0703, 62.8012, -57.6648, 2071,   1330.7,   3.1927,  34.8740,2,  34.8737,6,    276.4,2,    289.4,6,     9.94,6,    16.57,6,     1.05,6,    3.561,2,    1.897,2,    0.234,2,    7.638,2,   2154.7,6,   -999.0,5,  57.444,4,  3.0962,   1331
   18HU97009_1,  AR27,   102,  2, 187928,   OC90,2,19970603,0703, 62.8012, -57.6648, 2071,   1479.8,   3.0568,  34.8650,2,  34.8645,6,    280.8,2,    293.0,6,     9.55,6,    16.43,6,     1.03,6,    3.571,2,    1.936,2,    0.146,2,    7.356,2,   2153.0,2,   -999.0,5,  59.993,3,  2.9493,   1480
   18HU97009_1,  AR27,   102,  2, 187927,   OC91,2,19970603,0703, 62.8012, -57.6648, 2071,   1609.8,   2.9899,  34.8606,2,  34.8642,6,    282.9,2,    293.9,6,     9.56,6,    16.28,6,     0.96,3,    3.629,2,    1.956,2,    0.136,2,    7.570,2,   2152.4,2,   -999.0,5,  57.804,4,  2.8722,   1610
   18HU97009_1,  AR27,   102,  2, 187926,   OC64,2,19970603,0703, 62.8012, -57.6648, 2071,   1710.3,   2.9815,  34.8627,2,  34.8618,6,    283.3,2,    292.9,6,     9.68,6,    16.35,6,     1.03,6,    3.522,2,    1.926,2,    0.175,2,    7.463,2,   2152.3,2,   -999.0,5,  54.972,3,  2.8552,   1710
   18HU97009_1,  AR27,   102,  2, 187925,   OC95,2,19970603,0703, 62.8012, -57.6648, 2071,   1825.2,   2.9903,  34.8747,2,  34.8745,2,    281.5,2,    289.9,6,     9.86,6,    16.38,6,     0.99,3,    3.201,2,    1.742,2,    0.156,2,    6.665,2,   2152.6,2,   -999.0,5,  48.375,4,  2.8538,   1825
   18HU97009_1,  AR27,   102,  2, 187924,   OC58,2,19970603,0703, 62.8012, -57.6648, 2071,   1928.2,   2.9687,  34.8851,2,  34.8843,6,    280.3,2,    288.0,6,    10.17,6,    15.96,6,     1.04,6,    2.938,2,    1.557,2,    0.126,2,    6.509,2,   2153.5,2,   -999.0,5,  47.879,4,  2.8233,   1928
   18HU97009_1,  AR27,   102,  2, 187923,   OC93,2,19970603,0703, 62.8012, -57.6648, 2071,   2008.6,   2.9298,  34.8918,2,  34.8910,6,    280.8,2,    286.1,6,    10.48,6,    16.10,6,     1.03,6,    2.831,2,    1.547,2,    0.156,2,    6.616,2,   2153.5,2,   -999.0,5,  47.703,4,  2.7777,   2009
   18HU97009_1,  AR27,   102,  2, 187922,   OC66,2,19970603,0703, 62.8012, -57.6648, 2071,   2067.5,   2.8092,  34.8956,2,  34.8947,6,    282.2,2,    283.6,6,    11.03,6,    15.69,6,     0.95,3,    2.676,2,    1.411,2,    0.000,2,    5.876,2,   2154.8,2,   -999.0,5,  37.078,3,  2.6536,   2068