BOTTLE,20020708WHPSIOKJU
EXPOCODE,SECT_ID,STNNBR,CASTNO,SAMPNO,BTLNBR,BTLNBR_FLAG_W,DATE,TIME,LATITUDE,LONGITUDE,DEPTH,CTDPRS,CTDTMP,CTDSAL,CTDSAL_FLAG_W,SALNTY,SALNTY_FLAG_W,CTDOXY,CTDOXY_FLAG_W,OXYGEN,OXYGEN_FLAG_W,SILCAT,SILCAT_FLAG_W,NO2+NO3,NO2+NO3_FLAG_W,PHSPHT,PHSPHT_FLAG_W,CFC-11,CFC-11_FLAG_W,CFC-12,CFC-12_FLAG_W,CFC113,CFC113_FLAG_W,CCL4,CCL4_FLAG_W,TCARBN,TCARBN_FLAG_W,ALKALI,ALKALI_FLAG_W,MCHFRM,MCHFRM_FLAG_W,THETA,CTDRAW
,,,,,,,,,,,,DBAR,ITS-90,PSS-78,,PSS-78,,UMOL/KG,,UMOL/KG,,UMOL/KG,,UMOL/KG,,UMOL/KG,,PMOL/KG,,PMOL/KG,,PMOL/KG,,PMOL/KG,,UMOL/KG,,UMOL/KG,,PMOL/KG,,DEG C,
   18HU97009_1,  AR27,    42,  4, 186837,   OC51,2,19970520,1340, 59.4962, -44.0088, -999,      2.5,  -1.2691,  33.1594,2,-999.0000,9,    362.2,2,   -999.0,9,  -999.00,9,  -999.00,9,  -999.00,9, -999.000,9, -999.000,9, -999.000,9, -999.000,9,   -999.0,9,   -999.0,9,-999.000,9, -1.2691,      3
   18HU97009_1,  AR27,    42,  4, 186838,   OC52,2,19970520,1340, 59.4962, -44.0088, -999,      2.5,  -1.2628,  33.1591,2,-999.0000,9,    362.3,2,   -999.0,9,  -999.00,9,  -999.00,9,  -999.00,9, -999.000,9, -999.000,9, -999.000,9, -999.000,9,   -999.0,9,   -999.0,9,-999.000,9, -1.2629,      3
   18HU97009_1,  AR27,    42,  4, 186832,   OC94,2,19970520,1340, 59.4962, -44.0088, -999,      2.6,  -1.2846,  33.1623,2,  33.1626,2,    360.5,2,    359.0,2,     4.40,6,     6.61,6,     0.62,6,    6.721,2,    3.516,2,    0.224,2,    8.484,2,   2079.8,2,   2209.5,2, 385.137,3, -1.2846,      3
   18HU97009_1,  AR27,    42,  4, 186835,   OC61,2,19970520,1340, 59.4962, -44.0088, -999,      2.6,  -1.2737,  33.1598,2,-999.0000,9,    361.9,2,   -999.0,9,  -999.00,9,  -999.00,9,  -999.00,9, -999.000,9, -999.000,9, -999.000,9, -999.000,9,   -999.0,9,   -999.0,9,-999.000,9, -1.2737,      3
   18HU97009_1,  AR27,    42,  4, 186836,   OC56,2,19970520,1340, 59.4962, -44.0088, -999,      2.6,  -1.2658,  33.1583,2,-999.0000,9,    361.3,2,   -999.0,9,  -999.00,9,  -999.00,9,  -999.00,9, -999.000,9, -999.000,9, -999.000,9, -999.000,9,   -999.0,9,   -999.0,9,-999.000,9, -1.2659,      3
   18HU97009_1,  AR27,    42,  4, 186840,   OC81,2,19970520,1340, 59.4962, -44.0088, -999,      2.6,  -1.2754,  33.1612,2,-999.0000,9,    362.1,2,   -999.0,9,  -999.00,9,  -999.00,9,  -999.00,9, -999.000,9, -999.000,9, -999.000,9, -999.000,9,   -999.0,9,   -999.0,9,-999.000,9, -1.2754,      3
   18HU97009_1,  AR27,    42,  4, 186839,   OC69,2,19970520,1340, 59.4962, -44.0088, -999,      2.7,  -1.2657,  33.1599,2,-999.0000,9,    362.1,2,   -999.0,9,  -999.00,9,  -999.00,9,  -999.00,9, -999.000,9, -999.000,9, -999.000,9, -999.000,9,   -999.0,9,   -999.0,9,-999.000,9, -1.2658,      3
   18HU97009_1,  AR27,    42,  4, 186833,   OC83,2,19970520,1340, 59.4962, -44.0088, -999,      2.8,  -1.2745,  33.1597,2,-999.0000,9,    360.5,2,   -999.0,9,  -999.00,9,  -999.00,9,  -999.00,9, -999.000,9, -999.000,9, -999.000,9, -999.000,9,   -999.0,9,   -999.0,9,-999.000,9, -1.2746,      3
   18HU97009_1,  AR27,    42,  4, 186834,   OC82,2,19970520,1340, 59.4962, -44.0088, -999,      2.8,  -1.2718,  33.1599,2,-999.0000,9,    361.1,2,   -999.0,9,  -999.00,9,  -999.00,9,  -999.00,9, -999.000,9, -999.000,9, -999.000,9, -999.000,9,   -999.0,9,   -999.0,9,-999.000,9, -1.2719,      3
   18HU97009_1,  AR27,    42,  4, 186831,   OC85,2,19970520,1340, 59.4962, -44.0088, -999,      9.7,  -1.2804,  33.1599,2,-999.0000,9,    360.6,2,   -999.0,9,  -999.00,9,  -999.00,9,  -999.00,9, -999.000,9, -999.000,9, -999.000,9, -999.000,9,   -999.0,9,   -999.0,9,-999.000,9, -1.2806,     10
   18HU97009_1,  AR27,    42,  4, 186830,   OC86,2,19970520,1340, 59.4962, -44.0088, -999,     19.5,  -1.2964,  33.1792,2,-999.0000,9,    359.8,2,   -999.0,9,  -999.00,9,  -999.00,9,  -999.00,9, -999.000,9, -999.000,9, -999.000,9, -999.000,9,   -999.0,9,   -999.0,9,-999.000,9, -1.2968,     20
   18HU97009_1,  AR27,    42,  4, 186829,   OC87,2,19970520,1340, 59.4962, -44.0088, -999,     30.0,  -1.2399,  33.2140,2,-999.0000,9,    359.4,2,   -999.0,9,  -999.00,9,  -999.00,9,  -999.00,9, -999.000,9, -999.000,9, -999.000,9, -999.000,9,   -999.0,9,   -999.0,9,-999.000,9, -1.2406,     30
   18HU97009_1,  AR27,    42,  4, 186827,   OC36,2,19970520,1340, 59.4962, -44.0088, -999,     50.2,  -1.1762,  33.2497,2,  33.2513,6,    359.1,2,    357.0,2,     4.48,6,     6.92,6,     0.63,6,    6.662,2,    3.126,2,    0.273,2,    8.298,2,   2082.6,2,   2217.2,2, 218.897,3, -1.1774,     50
   18HU97009_1,  AR27,    42,  4, 186828,   OC88,2,19970520,1340, 59.4962, -44.0088, -999,     50.5,  -1.1766,  33.2511,2,-999.0000,9,    358.5,2,   -999.0,9,  -999.00,9,  -999.00,9,  -999.00,9, -999.000,9, -999.000,9, -999.000,9, -999.000,9,   -999.0,9,   -999.0,9,-999.000,9, -1.1778,     51
   18HU97009_1,  AR27,    42,  4, 186825,   OC90,2,19970520,1340, 59.4962, -44.0088, -999,     74.5,  -1.1609,  33.2676,2,  33.2678,2,    359.1,2,    426.3,2,     4.61,6,     7.09,6,     0.63,6,    6.542,6,    3.292,6,    0.239,6,    8.198,6,   2083.0,2,   2214.4,2, 139.420,3, -1.1626,     75
   18HU97009_1,  AR27,    42,  4, 186826,   OC84,2,19970520,1340, 59.4962, -44.0088, -999,     74.6,  -1.1618,  33.2654,2,-999.0000,9,    358.7,2,   -999.0,9,  -999.00,9,  -999.00,9,  -999.00,9, -999.000,9, -999.000,9, -999.000,9, -999.000,9,   -999.0,9,   -999.0,9,-999.000,9, -1.1635,     75
   18HU97009_1,  AR27,    42,  4, 186823,   OC64,2,19970520,1340, 59.4962, -44.0088, -999,     99.7,  -1.1442,  33.2886,2,  33.2912,2,    358.1,2,    352.2,2,     4.70,6,     7.30,6,     0.64,6,    6.574,2,    3.321,2,    0.263,2,    8.405,2,     81.2,4,   2214.3,2, 171.002,3, -1.1466,    100
   18HU97009_1,  AR27,    42,  4, 186824,   OC91,2,19970520,1340, 59.4962, -44.0088, -999,    100.2,  -1.1440,  33.2876,2,-999.0000,9,    357.6,2,   -999.0,9,  -999.00,9,  -999.00,9,  -999.00,9, -999.000,9, -999.000,9, -999.000,9, -999.000,9,   -999.0,9,   -999.0,9,-999.000,9, -1.1464,    100
   18HU97009_1,  AR27,    42,  4, 186821,   OC58,2,19970520,1340, 59.4962, -44.0088, -999,    148.8,  -0.7324,  33.4742,2,  33.4711,2,    351.4,2,   -999.0,9,     5.16,6,     7.93,6,     0.67,6,    6.271,2,    3.009,2,    0.243,2,    7.946,2,      2.8,4,   2224.3,6, 250.363,3, -0.7366,    149
   18HU97009_1,  AR27,    42,  4, 186822,   OC92,2,19970520,1340, 59.4962, -44.0088, -999,    148.8,  -0.7817,  33.4596,2,-999.0000,9,    349.6,2,   -999.0,9,  -999.00,9,  -999.00,9,  -999.00,9, -999.000,9, -999.000,9, -999.000,9, -999.000,9,   -999.0,9,   -999.0,9,-999.000,9, -0.7858,    149
   18HU97009_1,  AR27,    42,  4, 186819,   OC66,2,19970520,1340, 59.4962, -44.0088, -999,    200.1,   1.6184,  34.1065,2,  34.1079,2,    178.5,2,    324.5,6,     5.94,6,    10.55,6,     0.77,6,    5.403,2,    2.804,2,    0.165,3,    6.921,3,      5.1,4,   2378.8,3, 106.601,3,  1.6085,    200
   18HU97009_1,  AR27,    42,  4, 186820,   OC93,2,19970520,1340, 59.4962, -44.0088, -999,    200.2,   1.6180,  34.1066,2,-999.0000,9,    326.3,2,   -999.0,9,  -999.00,9,  -999.00,9,  -999.00,9, -999.000,9, -999.000,9, -999.000,9, -999.000,9,   -999.0,9,   -999.0,9,-999.000,9,  1.6081,    200
   18HU97009_1,  AR27,    43,  3, 186856,   OC83,2,19970520,1710, 59.2480, -44.0613, -999,      9.7,   2.5688,  34.3264,2,  34.3276,2,    318.4,2,    327.9,2,     5.85,6,    10.68,6,     0.77,6,    5.285,2,    2.394,2,    0.214,2,    8.157,2,   2117.1,2,   2307.4,3, 377.181,3,  2.5682,     10
   18HU97009_1,  AR27,    43,  3, 186855,   OC94,2,19970520,1710, 59.2480, -44.0613, -999,     49.0,   2.7378,  34.3820,2,  34.3862,2,    313.1,2,    322.2,2,     5.99,6,    11.11,6,     0.80,6,    4.906,2,    2.093,2,    0.185,2,    6.492,3,   2118.1,2,   2276.3,2, 471.231,3,  2.7350,     49
   18HU97009_1,  AR27,    43,  3, 186854,   OC85,2,19970520,1710, 59.2480, -44.0613, -999,     73.8,   3.2262,  34.5159,2,  34.5156,2,    304.5,2,    315.0,2,     6.26,6,    11.96,6,     0.83,6,    5.061,3,    2.745,2,    0.204,2,    7.874,2,   2122.7,2,   2272.4,2, 378.159,3,  3.2216,     74
   18HU97009_1,  AR27,    43,  3, 186853,   OC86,2,19970520,1710, 59.2480, -44.0613, -999,     99.9,   3.4094,  34.5536,2,  34.5513,2,    303.2,2,    313.5,2,     6.36,6,    11.86,6,     0.82,6,    4.770,2,    1.970,2, -999.000,5,    7.470,2,   2123.4,2,   2277.6,2, 531.270,3,  3.4030,    100
   18HU97009_1,  AR27,    43,  3, 186852,   OC87,2,19970520,1710, 59.2480, -44.0613, -999,    148.2,   3.8165,  34.6507,2,  34.6503,2,    297.1,2,    308.6,2,     6.62,6,    12.49,6,     0.86,6,    4.769,2,    2.092,2,    0.204,2,    7.377,2,   2126.9,6,   2278.8,2, 405.283,3,  3.8064,    148
   18HU97009_1,  AR27,    43,  3, 186851,   OC88,2,19970520,1710, 59.2480, -44.0613, -999,    200.6,   4.1747,  34.7184,2,  34.7198,2,    298.0,2,    309.7,2,     6.65,6,    12.48,6,     0.85,6,    4.447,2,    1.976,2,    0.146,2,    5.898,3,   2127.7,2,   2291.0,2, 302.420,3,  4.1604,    201
   18HU97009_1,  AR27,    43,  3, 186850,   OC36,2,19970520,1710, 59.2480, -44.0613, -999,    298.9,   4.5086,  34.8273,2,  34.8256,2,    283.7,2,    296.1,2,     7.10,6,    13.99,6,     0.93,6,    4.366,6,    2.186,6,    0.165,6,    7.090,2,   2141.2,2,   2289.0,2, 203.267,3,  4.4862,    299
   18HU97009_1,  AR27,    43,  3, 186849,   OC84,2,19970520,1710, 59.2480, -44.0613, -999,    398.3,   4.7268,  34.8822,2,  34.8823,2,    279.9,2,    293.1,2,     7.38,6,    14.88,6,     0.95,6,    4.350,2,    2.014,2,    0.175,2,    6.929,2,   2141.8,2,   2287.9,2, 351.337,3,  4.6959,    398
   18HU97009_1,  AR27,    43,  3, 186848,   OC90,2,19970520,1710, 59.2480, -44.0613, -999,    598.8,   4.7152,  34.9254,2,  34.9265,2,    275.8,2,    289.0,2,     7.85,6,    15.12,6,     0.98,6,    4.233,2,    2.082,2,    0.165,2,    7.065,2,   2147.1,2,   2294.1,2, 305.550,3,  4.6679,    599
   18HU97009_1,  AR27,    43,  3, 186847,   OC91,2,19970520,1710, 59.2480, -44.0613, -999,    798.7,   4.2899,  34.9082,2,  34.9081,2,    271.6,2,    283.6,2,     8.22,6,    15.69,6,     1.01,6,    3.863,2,    1.586,2,    0.136,2,    5.186,3,   2151.0,2,   2294.5,2,  18.702,3,  4.2283,    799
   18HU97009_1,  AR27,    43,  3, 186846,   OC64,4,19970520,1710, 59.2480, -44.0613, -999,    999.9,   3.8409,  34.8804,2,-999.0000,9,    280.8,2,   -999.0,9,  -999.00,9,  -999.00,9,  -999.00,9, -999.000,5, -999.000,5, -999.000,5, -999.000,5,   -999.0,9,   -999.0,9,-999.000,5,  3.7658,   1000
   18HU97009_1,  AR27,    43,  3, 186845,   OC92,2,19970520,1710, 59.2480, -44.0613, -999,   1198.0,   3.5642,  34.8888,2,  34.8904,6,    272.6,2,    281.9,2,     8.83,6,    16.39,6,     1.04,6,    3.620,2,    2.170,2,    0.000,2, -999.000,5,   2152.3,2,   2286.3,2,  22.150,3,  3.4751,   1198
   18HU97009_1,  AR27,    43,  3, 186844,   OC58,2,19970520,1710, 59.2480, -44.0613, -999,   1402.6,   3.2565,  34.8777,2,  34.8792,2,    280.1,2,    287.3,2,     8.92,6,    16.42,6,     1.05,6,    3.561,2,    1.596,2,    0.000,2,    4.865,3,   2153.5,6,   2290.2,2, 317.006,3,  3.1533,   1403
   18HU97009_1,  AR27,    43,  3, 186843,   OC93,2,19970520,1710, 59.2480, -44.0613, -999,   1601.3,   3.1132,  34.8741,2,  34.8757,2,    284.8,2,    289.4,2,     8.82,6,    16.33,6,     1.04,6,    3.522,2,    1.576,2,    0.000,2,    5.283,3,   2156.9,2,   2286.9,6, 305.881,3,  2.9946,   1601
   18HU97009_1,  AR27,    43,  3, 186842,   OC66,2,19970520,1710, 59.2480, -44.0613, -999,   1780.6,   2.9501,  34.8811,2,  34.8827,2,    289.6,2,    287.6,6,     9.01,6,    15.87,6,     1.01,6,    3.269,2,    1.566,2,    0.000,2,    5.020,3,   2151.9,2,   2287.1,2, 221.627,3,  2.8180,   1781
   18HU97009_1,  AR7W,    44,  3, 186866,   OC88,2,19970521,0907, 60.4643, -48.4108,  162,      3.2,   0.2297,  33.3130,2,  33.2717,2,    396.8,2,    391.1,6,     1.51,6,     0.43,6,     0.26,6,    5.970,2,    3.097,2,    0.448,3,    7.938,2,   2021.3,3,   2210.2,2,  -0.974,4,  0.2296,      3
   18HU97009_1,  AR7W,    44,  3, 186867,   OC87,2,19970521,0907, 60.4643, -48.4108,  162,      3.2,   0.1361,  33.2610,2,-999.0000,9,    398.0,2,   -999.0,9,  -999.00,9,  -999.00,9,  -999.00,9, -999.000,9, -999.000,9, -999.000,9, -999.000,9,   -999.0,9,   -999.0,9,-999.000,9,  0.1360,      3
   18HU97009_1,  AR7W,    44,  3, 186868,   OC86,2,19970521,0907, 60.4643, -48.4108,  162,      3.2,   0.0893,  33.2471,2,-999.0000,9,    398.7,2,   -999.0,9,  -999.00,9,  -999.00,9,  -999.00,9, -999.000,9, -999.000,9, -999.000,9, -999.000,9,   -999.0,9,   -999.0,9,-999.000,9,  0.0892,      3
   18HU97009_1,  AR7W,    44,  3, 186869,   OC85,2,19970521,0907, 60.4643, -48.4108,  162,      3.2,   0.1120,  33.2571,2,-999.0000,9,    398.2,2,   -999.0,9,  -999.00,9,  -999.00,9,  -999.00,9, -999.000,9, -999.000,9, -999.000,9, -999.000,9,   -999.0,9,   -999.0,9,-999.000,9,  0.1119,      3
   18HU97009_1,  AR7W,    44,  3, 186870,   OC94,2,19970521,0907, 60.4643, -48.4108,  162,      3.2,   0.1082,  33.2559,2,-999.0000,9,    398.1,2,   -999.0,9,  -999.00,9,  -999.00,9,  -999.00,9, -999.000,9, -999.000,9, -999.000,9, -999.000,9,   -999.0,9,   -999.0,9,-999.000,9,  0.1081,      3
   18HU97009_1,  AR7W,    44,  3, 186871,   OC83,2,19970521,0907, 60.4643, -48.4108,  162,      3.2,   0.0521,  33.2315,2,-999.0000,9,    399.6,2,   -999.0,9,  -999.00,9,  -999.00,9,  -999.00,9, -999.000,9, -999.000,9, -999.000,9, -999.000,9,   -999.0,9,   -999.0,9,-999.000,9,  0.0520,      3
   18HU97009_1,  AR7W,    44,  3, 186872,   OC82,2,19970521,0907, 60.4643, -48.4108,  162,      3.2,   0.0501,  33.2241,2,-999.0000,9,    398.7,2,   -999.0,9,  -999.00,9,  -999.00,9,  -999.00,9, -999.000,9, -999.000,9, -999.000,9, -999.000,9,   -999.0,9,   -999.0,9,-999.000,9,  0.0500,      3
   18HU97009_1,  AR7W,    44,  3, 186865,   OC36,2,19970521,0907, 60.4643, -48.4108,  162,     19.5,   1.1523,  33.7946,2,-999.0000,9,    374.8,2,   -999.0,9,  -999.00,9,  -999.00,9,  -999.00,9, -999.000,9, -999.000,9, -999.000,9, -999.000,9,   -999.0,9,   -999.0,9,-999.000,9,  1.1515,     20
   18HU97009_1,  AR7W,    44,  3, 186864,   OC84,2,19970521,0907, 60.4643, -48.4108,  162,     29.8,   1.5855,  34.0291,2,-999.0000,9,    351.2,2,   -999.0,9,  -999.00,9,  -999.00,9,  -999.00,9, -999.000,9, -999.000,9, -999.000,9, -999.000,9,   -999.0,9,   -999.0,9,-999.000,9,  1.5841,     30
   18HU97009_1,  AR7W,    44,  3, 186863,   OC90,2,19970521,0907, 60.4643, -48.4108,  162,     39.1,   2.1484,  34.2172,2,-999.0000,9,    333.6,2,   -999.0,9,  -999.00,9,  -999.00,9,  -999.00,9, -999.000,9, -999.000,9, -999.000,9, -999.000,9,   -999.0,9,   -999.0,9,-999.000,9,  2.1463,     39
   18HU97009_1,  AR7W,    44,  3, 186861,   OC64,2,19970521,0907, 60.4643, -48.4108,  162,     48.9,   2.4172,  34.2895,2,  34.2932,2,    328.0,2,    325.7,6,     5.79,6,    10.23,6,     0.77,6,    5.149,6,    2.709,6,    0.308,6,    6.960,6,   2110.0,2,   2258.8,2,   0.000,3,  2.4145,     49
   18HU97009_1,  AR7W,    44,  3, 186862,   OC91,2,19970521,0907, 60.4643, -48.4108,  162,     48.9,   2.3888,  34.2817,2,-999.0000,9,    328.2,2,   -999.0,9,  -999.00,9,  -999.00,9,  -999.00,9, -999.000,9, -999.000,9, -999.000,9, -999.000,9,   -999.0,9,   -999.0,9,-999.000,9,  2.3861,     49
   18HU97009_1,  AR7W,    44,  3, 186860,   OC92,2,19970521,0907, 60.4643, -48.4108,  162,     89.9,   2.6107,  34.3458,2,-999.0000,9,    324.3,2,   -999.0,9,  -999.00,9,  -999.00,9,  -999.00,9, -999.000,9, -999.000,9, -999.000,9, -999.000,9,   -999.0,9,   -999.0,9,-999.000,9,  2.6055,     90
   18HU97009_1,  AR7W,    44,  3, 186859,   OC58,2,19970521,0907, 60.4643, -48.4108,  162,     90.0,   2.6095,  34.3454,2,  34.3453,2,    324.0,2,    321.8,6,     6.15,6,    10.90,6,     0.79,6,    5.149,2,    2.774,2,    0.321,2,    6.755,3,   2116.0,6,   2264.2,6,   0.000,3,  2.6043,     90
   18HU97009_1,  AR7W,    44,  3, 186857,   OC66,2,19970521,0907, 60.4643, -48.4108,  162,    146.6,   2.7013,  34.3666,2,  34.3538,6,    323.8,2,    321.8,6,     6.20,6,    10.69,6,     0.80,6,    5.100,2,    2.677,2,    0.321,2,    6.804,3,   2118.8,2,   2260.1,2,   0.000,3,  2.6927,    147
   18HU97009_1,  AR7W,    44,  3, 186858,   OC93,2,19970521,0907, 60.4643, -48.4108,  162,    146.9,   2.6908,  34.3646,2,-999.0000,9,    325.5,2,   -999.0,9,  -999.00,9,  -999.00,9,  -999.00,9, -999.000,9, -999.000,9, -999.000,9, -999.000,9,   -999.0,9,   -999.0,9,-999.000,9,  2.6822,    147