BOTTLE,20180504PRINUNIVRMK
EXPOCODE,STNNBR,CASTNO,BTLNBR,BEDFORD,DATE,TIME,LATITUDE,LONGITUDE,DEPTH,CTDPRS,CTDTMP,CTDSAL,CTDSAL_FLAG_W,SALNTY,SALNTY_FLAG_W,CTDOXY,CTDOXY_FLAG_W,OXYGEN,OXYGEN_FLAG_W,SILCAT,SILCAT_FLAG_W,NITRAT,NITRAT_FLAG_W,NITRIT,NITRIT_FLAG_W,PHSPHT,PHSPHT_FLAG_W,CFC-12,CFC-12_FLAG_W,SF6,SF6_FLAG_W,SF5CF3,SF5CF3_FLAG_W,TCARBN,TCARBN_FLAG_W,ALKALI,ALKALI_FLAG_W,AR-39,AR-39ER,AR-39_FLAG_W
,,,,,,,,,METERS,DBAR,ITS-90,PSS-78,,PSS-78,,UMOL/KG,,UMOL/KG,,UMOL/KG,,UMOL/KG,,UMOL/KG,,UMOL/KG,,PMOL/KG,,FMOL/KG,,FMOL/KG,,UMOL/KG,,UMOL/KG,,%Modern,%Modern,
  06M320150501,   482,  9,      1,   253175,20150507,1152, 11.0000, -42.0000, 3419,   1202.0,   5.1000,  34.8540,2,-999.0000,9,    168.2,2,    167.2,2,    24.58,2,    28.74,2,     0.01,   2,     1.88,2,    0.071,2,        0,2,     0.00,2,   2203.6,2,   2317.1,2,   -999.0,      9.0,9
  06M320150501,   482,  9,      2,   253176,20150507,1154, 11.0000, -42.0000, 3419,   1100.0,   5.1390,  34.7850,2,-999.0000,9,    153.8,2,    153.4,6,    26.10,2,    30.95,2,     0.01,   2,     2.04,2,    0.039,2,        0,2,     0.00,2,   -999.0,9,   -999.0,9,   -999.0,      9.0,9
  06M320150501,   482,  9,      3,   253177,20150507,1155, 11.0000, -42.0000, 3419,    998.0,   5.3430,  34.7400,2,-999.0000,9,    140.2,2,    139.1,2,    26.81,6,    32.77,6,     0.00,   6,     2.16,6,    0.039,2,        0,2,     0.00,2,   2217.4,6,   2307.2,6,   -999.0,      9.0,9
  06M320150501,   482,  9,      4,   253178,20150507,1157, 11.0000, -42.0000, 3419,    899.0,   5.6470,  34.7100,2,-999.0000,9,    121.5,2,    122.0,2,    26.85,2,    35.05,2,     0.01,   2,     2.27,2,    0.034,2,        0,2,     0.00,2,   -999.0,9,   -999.0,9,   -999.0,      9.0,9
  06M320150501,   482,  9,      5,   253179,20150507,1159, 11.0000, -42.0000, 3419,    800.0,   6.2840,  34.7420,2,-999.0000,9,    111.4,2,    111.8,2,    24.67,2,    35.11,2,     0.00,   2,     2.28,2,    0.078,2,        0,2,     0.00,2,   2225.7,2,   2302.6,2,   -999.0,      9.0,9
  06M320150501,   482,  9,      6,   253180,20150507,1200, 11.0000, -42.0000, 3419,    698.0,   7.0750,  34.7910,2,-999.0000,9,    100.0,2,    100.4,2,    22.28,2,    35.56,2,     0.01,   2,     2.23,2,    0.150,2,        0,2,     0.00,2,   -999.0,9,   -999.0,9,   -999.0,      9.0,9
  06M320150501,   482,  9,      7,   253181,20150507,1202, 11.0000, -42.0000, 3419,    599.0,   7.9400,  34.8630,2,-999.0000,9,     85.0,2,     85.3,2,    19.77,2,    35.21,2,     0.01,   2,     2.19,2,    0.226,2,     0.22,2,     0.00,2,   2231.1,2,   2303.4,2,   -999.0,      9.0,9
  06M320150501,   482,  9,      8,   253182,20150507,1204, 11.0000, -42.0000, 3419,    499.0,   8.6660,  34.9110,2,-999.0000,9,     87.7,2,     88.2,6,    17.50,2,    33.48,2,     0.01,   2,     2.07,2,    0.387,2,     0.23,2,     0.00,2,   2224.3,2,   2303.5,2,   -999.0,      9.0,9
  06M320150501,   482,  9,      9,   253183,20150507,1204, 11.0000, -42.0000, 3419,    451.0,   8.7560,  34.8530,2,-999.0000,9,     93.8,2,     93.7,2,    16.81,2,    32.49,2,     0.01,   2,     2.03,2,    0.518,2,     0.22,2,     0.00,2,   -999.0,9,   -999.0,9,   -999.0,      9.0,9
  06M320150501,   482,  9,     10,   253184,20150507,1205, 11.0000, -42.0000, 3419,    422.0,   8.9790,  34.8740,2,-999.0000,9,     94.4,2,     94.2,2,    16.06,6,    31.89,6,     0.01,   6,     1.99,6,    0.587,2,     0.29,2,     0.00,2,   2219.6,6,   2301.2,6,   -999.0,      9.0,9
  06M320150501,   482,  9,     11,   253185,20150507,1205, 11.0000, -42.0000, 3419,    391.0,   9.0840,  34.8720,2,-999.0000,9,     97.4,2,     96.4,2,    15.86,2,    31.92,2,     0.00,   2,     1.99,2,    0.624,2,     0.28,2,     0.00,2,   -999.0,9,   -999.0,9,   -999.0,      9.0,9
  06M320150501,   482,  9,     12,   253186,20150507,1207, 11.0000, -42.0000, 3419,    274.0,   9.9910,  34.9510,2,-999.0000,9,    102.9,2,    104.2,2,    13.71,2,    28.82,2,     0.01,   2,     1.82,2,    0.830,2,     0.43,2,     0.00,2,   -999.0,9,   -999.0,9,   -999.0,      9.0,9
  06M320150501,   482,  9,     13,   253187,20150507,1208, 11.0000, -42.0000, 3419,    224.0,  10.5820,  35.0320,2,-999.0000,9,     97.1,2,     98.6,2,    12.56,6,    28.23,6,     0.01,   6,     1.77,6,    0.871,2,     0.36,2,     0.26,2,   2208.6,2,   2302.8,2,   -999.0,      9.0,9
  06M320150501,   482,  9,     14,   253188,20150507,1209, 11.0000, -42.0000, 3419,    198.0,  11.0500,  35.0870,2,-999.0000,9,    103.6,2,    101.1,2,    11.88,2,    27.46,2,     0.01,   2,     1.71,2,    0.908,2,     0.46,2,     0.28,2,   2207.0,2,   2307.0,2,   -999.0,      9.0,9
  06M320150501,   482,  9,     15,   253189,20150507,1209, 11.0000, -42.0000, 3419,    149.0,  12.4610,  35.2600,2,-999.0000,9,    115.5,2,    116.7,2,     9.64,2,    22.99,2,     0.01,   2,     1.47,2,    1.086,2,     0.61,2,     0.00,2,   2191.0,2,   2318.4,2,   -999.0,      9.0,9
  06M320150501,   482,  9,     16,   253190,20150507,1210, 11.0000, -42.0000, 3419,     99.0,  18.2860,  35.8510,2,-999.0000,9,    130.7,2,    122.9,2,     6.94,2,    18.15,2,     0.06,   2,     1.13,2,    1.083,2,     0.77,2,     0.00,2,   2171.8,2,   2332.0,2,   -999.0,      9.0,9
  06M320150501,   482,  9,     17,   253191,20150507,1212, 11.0000, -42.0000, 3419,     50.0,  26.0850,  36.3210,2,-999.0000,9,    205.0,2,    203.3,6,     1.02,2,     0.20,2,     0.03,   2,     0.06,2,    0.976,2,     1.15,2,     0.00,2,   2047.7,2,   2371.9,2,   -999.0,      9.0,9
  06M320150501,   482,  9,     18,   253192,20150507,1213, 11.0000, -42.0000, 3419,     21.0,  26.3680,  36.3130,2,-999.0000,9,    204.5,2,    203.8,2,     1.14,2,     0.01,2,     0.00,   2,     0.04,2,    0.954,2,     1.14,2,     0.00,2,   2039.7,2,   2372.2,2,   -999.0,      9.0,9
  06M320150501,   482,  9,     19,   253193,20150507,1213, 11.0000, -42.0000, 3419,     11.0,  26.3700,  36.3140,2,-999.0000,9,    204.3,2,    204.4,2,     1.12,2,     0.00,2,     0.00,   2,     0.03,2,    0.939,2,     1.14,2,     0.00,2,   2039.4,2,   2372.2,2,   -999.0,      9.0,9
  06M320150501,   483, 10,      1,   253194,20150507,1902, 11.0000, -41.0000, 3480,   1217.0,   5.0410,  34.8680,2,-999.0000,9,    172.3,2,    171.3,2,    23.63,2,    28.16,2,     0.01,   2,     1.85,2,    0.074,2,        0,2,     0.00,2,   2203.6,2,   2319.4,2,   -999.0,      9.0,9
  06M320150501,   483, 10,      2,   253195,20150507,1904, 11.0000, -41.0000, 3480,   1100.0,   5.1780,  34.8050,2,-999.0000,9,    153.8,2,    151.7,2,    25.63,2,    30.66,2,     0.01,   2,     2.02,2,    0.037,2,        0,2,     0.00,2,   2211.8,6,   2314.2,6,   -999.0,      9.0,9
  06M320150501,   483, 10,      3,   253196,20150507,1905, 11.0000, -41.0000, 3480,    999.0,   5.3250,  34.7490,2,-999.0000,9,    139.7,2,    138.9,6,    26.75,6,    32.68,6,     0.01,   6,     2.16,6,    0.033,2,        0,2,     0.00,2,   2218.9,2,   2312.5,2,   -999.0,      9.0,9
  06M320150501,   483, 10,      4,   253197,20150507,1907, 11.0000, -41.0000, 3480,    899.0,   5.4430,  34.6830,2,-999.0000,9,    130.8,2,    131.3,2,    27.50,2,    34.15,2,     0.00,   2,     2.27,2,    0.049,2,        0,2,     0.00,2,   2232.7,2,   2309.2,2,   -999.0,      9.0,9
  06M320150501,   483, 10,      5,   253198,20150507,1909, 11.0000, -41.0000, 3480,    798.0,   5.8640,  34.6550,2,-999.0000,9,    122.7,2,    123.1,2,    26.23,2,    34.88,2,     0.01,   2,     2.32,2,    0.115,2,        0,2,     0.00,2,   2224.9,2,   2311.9,2,   -999.0,      9.0,9
  06M320150501,   483, 10,      6,   253199,20150507,1910, 11.0000, -41.0000, 3480,    700.0,   6.5870,  34.7070,2,-999.0000,9,    112.4,2,    111.8,6,    23.48,6,    34.72,6,     0.01,   6,     2.25,6,    0.191,2,        0,2,     0.00,2,   2225.8,2,   2308.6,2,   -999.0,      9.0,9
  06M320150501,   483, 10,      7,   253200,20150507,1912, 11.0000, -41.0000, 3480,    599.0,   7.4520,  34.7690,2,-999.0000,9,    102.4,2,    104.7,2,    20.87,2,    34.16,2,     0.01,   2,     2.19,2,    0.306,2,        0,2,     0.00,2,   2222.4,2,   2308.0,2,   -999.0,      9.0,9
  06M320150501,   483, 10,      8,   253201,20150507,1913, 11.0000, -41.0000, 3480,    499.0,   8.6090,  34.8770,2,-999.0000,9,     90.1,2,     90.4,2,    17.54,2,    33.27,2,     0.01,   2,     2.11,2,    0.425,2,     0.24,2,     0.00,2,   2226.7,2,   2310.1,2,   -999.0,      9.0,9
  06M320150501,   483, 10,      9,   253202,20150507,1914, 11.0000, -41.0000, 3480,    449.0,   9.0840,  34.9160,2,-999.0000,9,     87.9,2,     88.4,2,    15.91,2,    32.29,2,     0.01,   2,     2.02,2,    0.539,2,     0.26,2,     0.00,2,   -999.0,9,   -999.0,9,   -999.0,      9.0,9
  06M320150501,   483, 10,     10,   253203,20150507,1915, 11.0000, -41.0000, 3480,    419.0,   9.3940,  34.9380,2,-999.0000,9,     89.0,2,     88.8,2,    15.13,2,    31.53,2,     0.01,   2,     1.98,2,    0.595,2,     0.29,2,     0.00,2,   2221.0,6,   2306.4,2,   -999.0,      9.0,9
  06M320150501,   483, 10,     11,   253204,20150507,1915, 11.0000, -41.0000, 3480,    389.0,   9.6200,  34.9570,2,-999.0000,9,     89.9,2,     90.1,2,    14.88,2,    31.18,2,     0.01,   2,     1.92,2,    0.650,2,     0.31,2,     0.00,2,   -999.0,9,   -999.0,9,   -999.0,      9.0,9
  06M320150501,   483, 10,     12,   253205,20150507,1915, 11.0000, -41.0000, 3480,    385.0,   9.6710,  34.9610,2,-999.0000,9,     90.5,2,     90.6,2,    14.71,2,    31.15,2,     0.01,   2,     1.94,2,    0.652,2,     0.27,2,     0.07,2,   -999.0,9,   -999.0,9,   -999.0,      9.0,9
  06M320150501,   483, 10,     13,   253206,20150507,1917, 11.0000, -41.0000, 3480,    299.0,  10.3330,  35.0260,2,-999.0000,9,     88.1,2,     89.0,2,    13.01,2,    29.84,2,     0.01,   2,     1.89,2,    0.774,2,     0.37,2,     0.26,2,   2217.9,2,   2311.1,2,   -999.0,      9.0,9
  06M320150501,   483, 10,     14,   253207,20150507,1918, 11.0000, -41.0000, 3480,    199.0,  11.2930,  35.1080,2,-999.0000,9,    107.0,2,    109.2,2,    10.83,2,    25.76,2,     0.01,   2,     1.64,2,    1.018,2,     0.54,2,     0.07,2,   2200.9,2,   2315.4,2,   -999.0,      9.0,9
  06M320150501,   483, 10,     15,   253208,20150507,1919, 11.0000, -41.0000, 3480,    149.0,  13.4060,  35.4270,2,-999.0000,9,    105.5,2,    107.4,6,     8.99,6,    23.11,6,     0.02,   6,     1.45,6,    1.080,2,     0.63,2,     0.00,2,   2196.5,2,   2326.8,2,   -999.0,      9.0,9
  06M320150501,   484, 11,      1,   253213,20150508,1351,  7.7500, -40.8000, 4782,   4772.0,   1.6460,  34.8050,2,-999.0000,9,    242.5,2,    241.2,2,    70.01,2,    25.36,2,     0.00,   2,     1.74,2,    0.109,2,        0,2,     0.00,2,   2216.5,6,   2367.5,6,   -999.0,      9.0,9
  06M320150501,   484, 11,      2,   253214,20150508,1352,  7.7500, -40.8000, 4782,   4690.0,   1.6570,  34.8070,2,-999.0000,9,    242.7,2,    241.7,2,    68.96,2,    25.06,2,     0.03,   2,     1.72,2,    0.098,2,        0,2,     0.00,2,   2216.3,2,   2368.4,2,   -999.0,      9.0,9
  06M320150501,   484, 11,      3,   253215,20150508,1355,  7.7500, -40.8000, 4782,   4501.0,   1.7110,  34.8160,2,-999.0000,9,    244.9,2,    244.2,6,    65.30,2,    24.60,2,     0.02,   2,     1.69,2,    0.113,2,        0,2,     0.00,2,   2210.6,2,   2361.9,2,   -999.0,      9.0,9
  06M320150501,   484, 11,      4,   253216,20150508,1403,  7.7500, -40.8000, 4782,   3999.0,   2.1850,  34.8770,2,-999.0000,9,    259.8,2,    260.1,2,    38.55,6,    20.38,6,     0.03,   6,     1.37,6,    0.187,2,        0,2,     0.00,2,   2183.1,2,   2355.1,2,   -999.0,      9.0,9
  06M320150501,   484, 11,      5,   253217,20150508,1411,  7.7500, -40.8000, 4782,   3499.0,   2.4330,  34.8980,2,-999.0000,9,    259.1,2,    260.4,2,    33.73,2,    20.11,2,     0.03,   2,     1.34,2,    0.161,2,        0,2,     0.00,2,   2177.9,2,   2348.4,2,   -999.0,      9.0,9
  06M320150501,   484, 11,      6,   253218,20150508,1418,  7.7500, -40.8000, 4782,   2999.0,   2.6940,  34.9190,2,-999.0000,9,    257.9,2,    258.2,2,    29.62,2,    19.87,2,     0.02,   2,     1.31,2,    0.129,2,        0,2,     0.00,2,   2173.6,6,   2339.9,6,   -999.0,      9.0,9
  06M320150501,   484, 11,      7,   253219,20150508,1425,  7.7500, -40.8000, 4782,   2498.0,   2.9480,  34.9340,2,-999.0000,9,    254.5,2,    254.4,2,    27.00,2,    20.06,2,     0.03,   2,     1.31,2,    0.082,2,        0,2,     0.00,2,   2171.6,2,   2344.2,2,   -999.0,      9.0,9
  06M320150501,   484, 11,      8,   253220,20150508,1433,  7.7500, -40.8000, 4782,   1999.0,   3.5300,  34.9620,2,-999.0000,9,    253.1,2,    254.0,6,    19.71,2,    19.55,2,     0.03,   2,     1.27,2,    0.188,2,        0,2,     0.00,2,   2167.3,2,   2333.7,2,   -999.0,      9.0,9
  06M320150501,   484, 11,      9,   253221,20150508,1437,  7.7500, -40.8000, 4782,   1748.0,   3.8830,  34.9730,2,-999.0000,9,    247.4,2,    247.5,2,    17.43,2,    19.77,2,     0.03,   2,     1.27,2,    0.243,2,        0,2,     0.00,2,   2165.2,2,   2327.2,2,   -999.0,      9.0,9
  06M320150501,   484, 11,     10,   253222,20150508,1441,  7.7500, -40.8000, 4782,   1499.0,   4.4040,  34.9770,2,-999.0000,9,    229.8,2,    229.4,2,    17.34,6,    21.28,6,     0.03,   6,     1.39,6,    0.247,2,        0,2,     0.00,2,   2173.9,2,   2324.0,2,   -999.0,      9.0,9
  06M320150501,   484, 11,     11,   253223,20150508,1444,  7.7500, -40.8000, 4782,   1248.0,   4.9910,  34.9360,2,-999.0000,9,    196.0,2,    152.1,3,    10.23,3,    15.26,3,     0.04,   3,     0.99,3,    0.265,2,     0.15,2,     0.00,2,   2173.3,2,   2330.7,2,   -999.0,      9.0,9
  06M320150501,   484, 11,     12,   253224,20150508,1448,  7.7500, -40.8000, 4782,    999.0,   5.1810,  34.7320,2,-999.0000,9,    145.1,2,    145.2,2,    27.03,2,    32.49,2,     0.06,   2,     2.17,2,    0.033,2,        0,2,     0.00,2,   2218.6,2,   2320.0,2,   -999.0,      9.0,9
  06M320150501,   484, 11,     13,   253225,20150508,1452,  7.7500, -40.8000, 4782,    750.0,   5.7790,  34.6280,2,-999.0000,9,    125.2,2,    124.9,2,    26.25,2,    34.98,2,     0.04,   2,     2.30,2,    0.126,2,        0,2,     0.00,2,   2225.3,2,   2314.9,2,   -999.0,      9.0,9
  06M320150501,   484, 11,     14,   253226,20150508,1456,  7.7500, -40.8000, 4782,    499.0,   7.4880,  34.6870,2,-999.0000,9,    119.6,2,    119.3,2,    19.29,2,    32.68,2,     0.03,   2,     2.09,2,    0.516,2,     0.19,2,     0.00,2,   2216.3,2,   2306.6,2,   -999.0,      9.0,9
  06M320150501,   484, 11,     15,   253227,20150508,1457,  7.7500, -40.8000, 4782,    410.0,   8.0210,  34.7260,2,-999.0000,9,    121.6,2,    121.4,2,    17.71,2,    31.43,2,     0.04,   2,     2.01,2,    0.663,6,      0.3,6,     0.00,6,   -999.0,9,   -999.0,9,   -999.0,      9.0,9
  06M320150501,   484, 11,     16,   253228,20150508,1458,  7.7500, -40.8000, 4782,    379.0,   8.2860,  34.7480,2,-999.0000,9,    124.0,2,    124.9,2,    16.70,6,    30.48,6,     0.04,   6,     1.95,6,    0.729,6,     0.34,6,     0.00,6,   2207.8,2,   2305.6,2,   -999.0,      9.0,9
  06M320150501,   484, 11,     17,   253229,20150508,1458,  7.7500, -40.8000, 4782,    349.0,   8.6100,  34.7830,2,-999.0000,9,    120.7,2,    122.3,2,    15.75,2,    30.07,2,     0.04,   2,     1.90,2,    0.766,6,     0.35,6,     0.00,6,   -999.0,9,   -999.0,9,   -999.0,      9.0,9
  06M320150501,   484, 11,     18,   253230,20150508,1459,  7.7500, -40.8000, 4782,    290.0,   9.1980,  34.8470,2,-999.0000,9,    121.8,2,    123.7,2,    14.53,2,    28.89,2,     0.02,   2,     1.81,2,    0.858,6,      0.4,6,     0.06,6,   2203.8,2,   2307.7,2,   -999.0,      9.0,9
  06M320150501,   484, 11,     19,   253231,20150508,1500,  7.7500, -40.8000, 4782,    239.0,   9.9020,  34.9350,2,-999.0000,9,    124.8,2,    126.2,2,    13.06,2,    26.84,2,     0.06,   2,     1.72,2,    0.950,6,     0.45,6,     0.08,6,   2197.6,2,   2311.8,2,   -999.0,      9.0,9
  06M320150501,   484, 11,     20,   253232,20150508,1501,  7.7500, -40.8000, 4782,    199.0,  10.3880,  34.9990,2,-999.0000,9,    109.1,2,    109.5,2,    12.68,2,    27.73,2,     0.07,   2,     1.75,2,    0.903,2,     0.43,2,     0.26,2,   2205.6,2,   2312.5,2,   -999.0,      9.0,9
  06M320150501,   484, 11,     21,   253233,20150508,1502,  7.7500, -40.8000, 4782,    149.0,  12.8750,  35.3570,2,-999.0000,9,    114.2,2,    116.8,2,     9.14,2,    22.73,2,     0.04,   2,     1.42,2,    1.069,2,      0.6,2,     0.00,2,   2193.5,2,   2330.5,2,   -999.0,      9.0,9
  06M320150501,   484, 11,     22,   253234,20150508,1502,  7.7500, -40.8000, 4782,     99.0,  22.1120,  36.2150,2,-999.0000,9,    163.7,3,    152.2,2,     2.95,2,     7.29,2,     0.25,   2,     0.46,2,    1.062,2,     1.04,2,     0.00,2,   2127.8,2,   2374.0,2,   -999.0,      9.0,9
  06M320150501,   484, 11,     23,   253235,20150508,1503,  7.7500, -40.8000, 4782,     49.0,  26.8770,  36.2430,2,-999.0000,9,    202.5,2,    202.1,6,     1.12,2,     0.00,2,     0.35,   2,     0.04,2,    0.913,2,     1.13,2,     0.00,2,   2037.3,2,   2377.4,2,   -999.0,      9.0,9
  06M320150501,   484, 11,     24,   253236,20150508,1504,  7.7500, -40.8000, 4782,     10.0,  26.9210,  36.2470,2,-999.0000,9,    204.1,2,    203.0,2,     1.14,2,     0.01,2,     0.08,   2,     0.03,2,    0.925,2,      1.3,2,     0.00,2,   2036.4,2,   2378.8,2,   -999.0,      9.0,9