BOTTLE,20180504PRINUNIVRMK
EXPOCODE,STNNBR,CASTNO,BTLNBR,BEDFORD,DATE,TIME,LATITUDE,LONGITUDE,DEPTH,CTDPRS,CTDTMP,CTDSAL,CTDSAL_FLAG_W,SALNTY,SALNTY_FLAG_W,CTDOXY,CTDOXY_FLAG_W,OXYGEN,OXYGEN_FLAG_W,SILCAT,SILCAT_FLAG_W,NITRAT,NITRAT_FLAG_W,NITRIT,NITRIT_FLAG_W,PHSPHT,PHSPHT_FLAG_W,CFC-12,CFC-12_FLAG_W,SF6,SF6_FLAG_W,SF5CF3,SF5CF3_FLAG_W,TCARBN,TCARBN_FLAG_W,ALKALI,ALKALI_FLAG_W,AR-39,AR-39ER,AR-39_FLAG_W
,,,,,,,,,METERS,DBAR,ITS-90,PSS-78,,PSS-78,,UMOL/KG,,UMOL/KG,,UMOL/KG,,UMOL/KG,,UMOL/KG,,UMOL/KG,,PMOL/KG,,FMOL/KG,,FMOL/KG,,UMOL/KG,,UMOL/KG,,%Modern,%Modern,
  06M320150501,   508, 35,      1,   253766,20150518,0322, 10.0000, -28.0000, 5574,   5332.0,   2.2830,  34.8640,2,  34.8640,2,    246.0,2,    245.9,2,    51.42,2,    22.70,2,     0.01,   2,     1.51,2,    0.042,2,        0,2,     0.00,2,   2204.0,6,   2360.1,6,   -999.0,      9.0,9
  06M320150501,   508, 35,      2,   253767,20150518,0324, 10.0000, -28.0000, 5574,   5231.0,   2.2760,  34.8650,2,-999.0000,9,    246.3,2,    245.2,2,    51.10,2,    22.77,2,     0.00,   2,     1.51,2,    0.034,2,        0,2,     0.00,2,   2204.4,2,   2366.6,2,   -999.0,      9.0,9
  06M320150501,   508, 35,      3,   253768,20150518,0338, 10.0000, -28.0000, 5574,   4501.0,   2.2850,  34.8750,2,-999.0000,9,    246.7,2,    246.0,2,    48.16,2,    22.47,2,     0.00,   2,     1.49,2,    0.018,2,        0,2,     0.00,2,   2200.5,2,   2356.8,2,   -999.0,      9.0,9
  06M320150501,   508, 35,      4,   253769,20150518,0347, 10.0000, -28.0000, 5574,   4001.0,   2.3670,  34.8870,2,  34.8880,2,    248.5,2,    247.6,2,    43.47,2,    21.89,2,     0.00,   2,     1.45,2,    0.014,2,        0,2,     0.00,2,   2193.2,6,   2349.5,6,   -999.0,      9.0,9
  06M320150501,   508, 35,      5,   253770,20150518,0357, 10.0000, -28.0000, 5574,   3500.0,   2.5120,  34.9020,2,  34.9020,2,    246.7,2,    246.6,6,    39.65,6,    21.77,6,     0.00,   6,     1.43,6,    0.005,2,        0,2,     0.00,2,   2188.6,2,   2344.6,2,   -999.0,      9.0,9
  06M320150501,   508, 35,      6,   253771,20150518,0406, 10.0000, -28.0000, 5574,   3000.0,   2.7040,  34.9190,2,-999.0000,9,    247.8,2,    248.2,2,    34.12,2,    21.11,2,     0.00,   2,     1.39,2,    0.008,2,        0,2,     0.00,2,   2182.5,2,   2337.2,2,   -999.0,      9.0,9
  06M320150501,   508, 35,      7,   253772,20150518,0416, 10.0000, -28.0000, 5574,   2500.0,   3.0520,  34.9410,2,-999.0000,9,    244.8,2,    245.3,6,    28.38,6,    20.93,6,     0.00,   6,     1.37,6,    0.004,2,        0,2,     0.00,2,   2176.7,2,   2332.1,2,   -999.0,      9.0,9
  06M320150501,   508, 35,      8,   253773,20150518,0427, 10.0000, -28.0000, 5574,   2000.0,   3.5850,  34.9630,2,-999.0000,9,    242.4,2,    243.7,2,    21.25,2,    20.67,2,     0.00,   2,     1.34,2,    0.025,2,        0,2,     0.00,2,   2173.1,2,   2326.4,2,   -999.0,      9.0,9
  06M320150501,   508, 35,      9,   253774,20150518,0432, 10.0000, -28.0000, 5574,   1751.0,   3.9170,  34.9680,2,  34.9640,2,    234.8,2,    235.8,2,    19.42,2,    21.20,2,     0.00,   2,     1.38,2,    0.055,2,        0,2,     0.00,2,   2173.5,2,   2314.6,2,   -999.0,      9.0,9
  06M320150501,   508, 35,     10,   253775,20150518,0437, 10.0000, -28.0000, 5574,   1500.0,   4.3780,  34.9510,2,-999.0000,9,    211.0,2,    210.9,2,    20.35,2,    23.63,2,     0.00,   2,     1.54,2,    0.061,2,        0,2,     0.00,2,   2184.6,2,   2318.1,2,   -999.0,      9.0,9
  06M320150501,   508, 35,     11,   253776,20150518,0441, 10.0000, -28.0000, 5574,   1249.0,   4.8610,  34.8880,2,-999.0000,9,    174.0,2,    173.4,2,    23.52,2,    28.19,2,     0.00,   2,     1.84,2,    0.028,2,        0,2,     0.00,2,   2204.6,2,   2323.4,2,   -999.0,      9.0,9
  06M320150501,   508, 35,     12,   253777,20150518,0445, 10.0000, -28.0000, 5574,    999.0,   5.3570,  34.7380,2,-999.0000,9,    126.6,2,    125.9,2,    27.29,2,    34.98,2,     0.00,   2,     2.27,2,    0.010,2,        0,2,     0.00,2,   2231.7,2,   2310.9,2,   -999.0,      9.0,9
  06M320150501,   508, 35,     13,   253778,20150518,0450, 10.0000, -28.0000, 5574,    749.0,   6.2850,  34.7150,2,-999.0000,9,     94.8,2,     93.7,2,    25.14,2,    37.84,2,     0.00,   2,     2.40,2,    0.051,2,        0,2,     0.00,2,   2241.6,2,   2303.2,2,   -999.0,      9.0,9
  06M320150501,   508, 35,     14,   253779,20150518,0454, 10.0000, -28.0000, 5574,    510.0,   8.7460,  34.9460,2,-999.0000,9,     54.5,2,     53.8,2,    18.25,2,    37.90,2,     0.01,   2,     2.27,2,    0.234,6,     0.21,6,     0.10,6,   2250.6,2,   2304.5,2,   -999.0,      9.0,9
  06M320150501,   508, 35,     15,   253780,20150518,0455, 10.0000, -28.0000, 5574,    450.0,   9.4010,  35.0160,2,-999.0000,9,     46.6,2,     48.4,6,    16.72,6,    37.24,6,     0.01,   6,     2.21,6, -999.000,9,     -999,9,     2.31,2,   -999.0,9,   -999.0,9,   -999.0,      9.0,9
  06M320150501,   508, 35,     16,   253781,20150518,0455, 10.0000, -28.0000, 5574,    420.0,   9.7610,  35.0550,2,-999.0000,9,     43.3,2,     43.6,2,    16.15,2,    37.17,2,     0.00,   2,     2.19,2,    0.366,6,     0.29,6,     5.52,6,   2252.8,2,   2305.0,2,   -999.0,      9.0,9
  06M320150501,   508, 35,     17,   253782,20150518,0456, 10.0000, -28.0000, 5574,    389.0,   9.9980,  35.0660,2,-999.0000,9,     47.0,2,     45.0,2,    15.24,2,    36.05,2,     0.00,   2,     2.13,2, -999.000,9,     -999,9,     5.36,2,   -999.0,9,   -999.0,9,   -999.0,      9.0,9
  06M320150501,   508, 35,     18,   253783,20150518,0457, 10.0000, -28.0000, 5574,    329.0,  10.4340,  35.0620,2,-999.0000,9,     61.9,2,     64.0,2,    13.56,2,    33.08,2,     0.01,   2,     1.97,2,    0.652,6,     0.42,6,     0.95,6,   2236.8,2,   2308.7,2,   -999.0,      9.0,9
  06M320150501,   508, 35,     19,   253784,20150518,0458, 10.0000, -28.0000, 5574,    280.0,  11.0980,  35.1250,2,-999.0000,9,     74.4,2,     76.2,2,    12.26,2,    30.49,2,     0.01,   2,     1.84,2,    0.805,6,      0.5,6,     0.55,6,   2227.1,2,   2307.8,2,   -999.0,      9.0,9
  06M320150501,   508, 35,     20,   253785,20150518,0459, 10.0000, -28.0000, 5574,    200.0,  12.0620,  35.1980,2,-999.0000,9,     87.0,2,     88.9,2,    10.29,2,    27.15,2,     0.01,   2,     1.66,2,    0.997,6,      0.6,6,     0.23,6,   2214.1,2,   2313.2,2,   -999.0,      9.0,9
  06M320150501,   508, 35,     21,   253786,20150518,0500, 10.0000, -28.0000, 5574,    149.0,  12.6500,  35.2580,2,-999.0000,9,    109.3,2,    104.4,2,     9.09,2,    23.81,2,     0.01,   2,     1.50,2,    1.109,2,     0.74,2,     0.00,2,   2201.4,2,   2316.8,2,   -999.0,      9.0,9
  06M320150501,   508, 35,     22,   253787,20150518,0501, 10.0000, -28.0000, 5574,    101.0,  13.8670,  35.3960,2,-999.0000,9,     90.9,2,     93.4,2,     8.09,2,    23.44,2,     0.02,   2,     1.46,2,    1.110,2,     0.72,2,     0.00,2,   2203.0,2,   2322.2,2,   -999.0,      9.0,9
  06M320150501,   508, 35,     23,   253788,20150518,0502, 10.0000, -28.0000, 5574,     52.0,  18.0780,  35.7240,2,  35.7330,2,    123.8,2,    128.5,2,     4.02,2,    11.93,2,     0.40,   2,     0.82,2,    1.150,2,     1.02,2,     0.00,2,   2162.6,2,   2344.7,2,   -999.0,      9.0,9
  06M320150501,   508, 35,     24,   253789,20150518,0503, 10.0000, -28.0000, 5574,     11.0,  26.8450,  36.2540,2,-999.0000,9,    205.5,2,    204.7,2,     0.99,2,     0.01,2,     0.00,   2,     0.01,2,    0.957,2,     1.32,2,     0.00,2,   2030.8,2,   2372.9,2,   -999.0,      9.0,9
  06M320150501,   509, 36,      1,   253790,20150518,1220, 11.0000, -28.0000, 5805,   5795.0,   2.3290,  34.8620,2,  34.8590,2,    247.4,2,    253.0,2,    51.17,6,    22.59,6,     0.00,   6,     1.51,6,    0.057,2,        0,2,     0.00,2,   2202.4,6,   2357.3,6,   -999.0,      9.0,9
  06M320150501,   509, 36,      2,   253791,20150518,1249, 11.0000, -28.0000, 5805,   4999.0,   2.2650,  34.8670,2,-999.0000,9,    246.6,2,    245.7,2,    50.43,2,    22.68,2,     0.00,   2,     1.52,2,    0.030,2,        0,2,     0.00,2,   2203.2,2,   2357.2,2,   -999.0,      9.0,9
  06M320150501,   509, 36,      3,   253792,20150518,1258, 11.0000, -28.0000, 5805,   4499.0,   2.2910,  34.8760,2,  34.8740,2,    244.5,2,    244.4,6,    48.45,2,    22.63,2,     0.00,   2,     1.50,2,    0.010,2,        0,2,     0.00,2,   2201.3,2,   2354.8,2,   -999.0,      9.0,9
  06M320150501,   509, 36,      4,   253793,20150518,1312, 11.0000, -28.0000, 5805,   3999.0,   2.3660,  34.8880,2,-999.0000,9,    246.1,2,    246.9,2,    43.80,2,    22.08,2,     0.00,   2,     1.46,2,    0.009,2,        0,2,     0.00,2,   2193.3,2,   2348.1,2,   -999.0,      9.0,9
  06M320150501,   509, 36,      5,   253794,20150518,1320, 11.0000, -28.0000, 5805,   3500.0,   2.4860,  34.9010,2,  34.9010,2,    245.3,2,    246.4,2,    39.94,6,    21.79,6,     0.00,   6,     1.44,6,    0.005,2,        0,2,     0.00,2,   2189.3,2,   2346.5,2,   -999.0,      9.0,9
  06M320150501,   509, 36,      6,   253795,20150518,1330, 11.0000, -28.0000, 5805,   2999.0,   2.6910,  34.9200,2,-999.0000,9,    245.5,2,    246.8,2,    34.51,2,    21.34,2,     0.00,   2,     1.41,2,    0.006,2,        0,2,     0.00,2,   2183.2,6,   2339.9,6,   -999.0,      9.0,9
  06M320150501,   509, 36,      7,   253796,20150518,1340, 11.0000, -28.0000, 5805,   2500.0,   3.0540,  34.9420,2,  34.9420,2,    241.1,2,    242.7,2,    28.83,2,    21.15,2,     0.00,   2,     1.39,2,    0.002,2,     0.12,3,     0.00,2,   2178.0,2,   2338.8,2,   -999.0,      9.0,9
  06M320150501,   509, 36,      8,   253797,20150518,1353, 11.0000, -28.0000, 5805,   2001.0,   3.5340,  34.9610,2,-999.0000,9,    240.4,2,    242.6,2,    21.58,2,    20.79,2,     0.00,   2,     1.36,2,    0.014,2,     0.11,3,     0.00,2,   2171.2,2,   2329.0,2,   -999.0,      9.0,9
  06M320150501,   509, 36,      9,   253798,20150518,1357, 11.0000, -28.0000, 5805,   1750.0,   3.8730,  34.9670,2,-999.0000,9,    231.7,2,    233.8,2,    19.80,2,    21.42,2,     0.00,   2,     1.40,2,    0.038,2,     0.09,3,     0.00,2,   2173.2,2,   2324.0,2,   -999.0,      9.0,9
  06M320150501,   509, 36,     10,   253799,20150518,1401, 11.0000, -28.0000, 5805,   1500.0,   4.3550,  34.9580,2,-999.0000,9,    210.1,2,    211.4,2,    20.13,2,    23.57,2,     0.01,   2,     1.54,2,    0.036,2,     0.09,3,     0.00,2,   2184.8,2,   2327.1,2,   -999.0,      9.0,9
  06M320150501,   509, 36,     11,   253800,20150518,1407, 11.0000, -28.0000, 5805,   1249.0,   5.0190,  34.9180,2,-999.0000,9,    170.0,2,    171.7,2,    22.70,2,    27.95,2,     0.00,   2,     1.82,2,    0.027,2,     0.11,3,     0.00,2,   2205.0,2,   2326.5,2,   -999.0,      9.0,9
  06M320150501,   509, 36,     12,   253801,20150518,1411, 11.0000, -28.0000, 5805,   1000.0,   5.5270,  34.8030,2,-999.0000,9,    131.5,2,    131.3,2,    25.48,2,    33.19,2,     0.00,   2,     2.16,2,    0.011,2,     0.15,3,     0.00,2,   2225.6,2,   2319.8,2,   -999.0,      9.0,9
  06M320150501,   509, 36,     13,   253802,20150518,1415, 11.0000, -28.0000, 5805,    749.0,   6.6210,  34.7660,2,-999.0000,9,     98.2,2,     96.8,2,    23.42,2,    36.45,2,     0.00,   2,     2.31,2,    0.073,2,     0.13,2,     0.00,2,   2234.4,2,   2305.2,2,   -999.0,      9.0,9
  06M320150501,   509, 36,     14,   253803,20150518,1422, 11.0000, -28.0000, 5805,    513.0,   9.2690,  34.9940,2,-999.0000,9,     58.2,2,     59.4,2,    16.20,2,    35.96,2,     0.00,   2,     2.15,2,    0.348,6,     0.26,6,     0.36,6,   2243.7,2,   2307.2,2,   -999.0,      9.0,9
  06M320150501,   509, 36,     15,   253804,20150518,1423, 11.0000, -28.0000, 5805,    455.0,   9.7330,  35.0350,2,-999.0000,9,     54.0,2,     54.1,6,    15.09,2,    35.50,2,     0.00,   2,     2.10,2,    0.440,6,     0.29,6,     1.63,6,   -999.0,9,   -999.0,9,   -999.0,      9.0,9
  06M320150501,   509, 36,     16,   253805,20150518,1423, 11.0000, -28.0000, 5805,    425.0,  10.3360,  35.1250,2,-999.0000,9,     51.0,2,     52.1,2,    14.32,6,    34.83,6,     0.01,   6,     2.06,6,    0.475,6,     0.52,6,     1.90,6,   2244.8,2,   2310.8,2,   -999.0,      9.0,9
  06M320150501,   509, 36,     17,   253806,20150518,1424, 11.0000, -28.0000, 5805,    394.0,  10.3180,  35.0560,2,-999.0000,9,     62.2,2,     61.1,2,    13.52,2,    33.32,2,     0.01,   2,     1.98,2,    0.618,6,     0.43,6,     1.01,6,   -999.0,9,   -999.0,9,   -999.0,      9.0,9
  06M320150501,   509, 36,     18,   253807,20150518,1425, 11.0000, -28.0000, 5805,    335.0,  10.7070,  35.0600,2,-999.0000,9,     73.9,2,     71.7,2,    12.57,2,    31.37,2,     0.01,   2,     1.89,2,    0.749,6,     0.67,6,     0.63,6,   2229.4,2,   2309.8,2,   -999.0,      9.0,9
  06M320150501,   509, 36,     19,   253808,20150518,1426, 11.0000, -28.0000, 5805,    285.0,  11.2710,  35.1210,2,-999.0000,9,     72.5,2,     76.3,2,    11.74,2,    30.09,2,     0.01,   2,     1.82,2,    0.829,6,     0.68,6,     0.52,6,   2224.4,2,   2310.1,2,   -999.0,      9.0,9
  06M320150501,   509, 36,     20,   253809,20150518,1427, 11.0000, -28.0000, 5805,    202.0,  11.9330,  35.1690,2,-999.0000,9,    106.7,2,    105.7,2,     9.71,2,    25.17,2,     0.01,   2,     1.58,2,    1.060,6,     1.06,6,     0.16,6,   2201.0,2,   2321.9,2,   -999.0,      9.0,9
  06M320150501,   509, 36,     21,   253810,20150518,1428, 11.0000, -28.0000, 5805,    149.0,  12.8080,  35.2810,2,-999.0000,9,    103.1,2,    103.8,2,     8.60,2,    23.83,2,     0.01,   2,     1.48,2,    1.119,2,     0.92,2,     0.07,2,   2200.7,2,   2323.3,2,   -999.0,      9.0,9
  06M320150501,   509, 36,     22,   253811,20150518,1429, 11.0000, -28.0000, 5805,    100.0,  14.0200,  35.4250,2,-999.0000,9,    110.8,2,    110.7,2,     7.47,2,    21.49,2,     0.03,   2,     1.35,2,    1.182,2,     0.98,2,     0.00,2,   2190.4,2,   2328.3,2,   -999.0,      9.0,9
  06M320150501,   509, 36,     23,   253812,20150518,1430, 11.0000, -28.0000, 5805,     51.0,  24.8430,  36.0790,2,  35.9090,2,    216.6,3,    186.9,2,     2.08,2,     3.58,2,     0.08,   2,     0.27,2,    1.075,2,     1.41,2,     0.00,2,   2077.8,2,   2354.6,2,   -999.0,      9.0,9
  06M320150501,   509, 36,     24,   253813,20150518,1431, 11.0000, -28.0000, 5805,     11.0,  25.6790,  36.0270,2,-999.0000,9,    209.4,2,    208.9,6,     0.85,2,     0.01,2,     0.01,   2,     0.02,2,    0.932,2,     1.44,2,     0.00,2,   2038.1,2,   2359.3,2,   -999.0,      9.0,9