BOTTLE,20180504PRINUNIVRMK
EXPOCODE,STNNBR,CASTNO,BTLNBR,BEDFORD,DATE,TIME,LATITUDE,LONGITUDE,DEPTH,CTDPRS,CTDTMP,CTDSAL,CTDSAL_FLAG_W,SALNTY,SALNTY_FLAG_W,CTDOXY,CTDOXY_FLAG_W,OXYGEN,OXYGEN_FLAG_W,SILCAT,SILCAT_FLAG_W,NITRAT,NITRAT_FLAG_W,NITRIT,NITRIT_FLAG_W,PHSPHT,PHSPHT_FLAG_W,CFC-12,CFC-12_FLAG_W,SF6,SF6_FLAG_W,SF5CF3,SF5CF3_FLAG_W,TCARBN,TCARBN_FLAG_W,ALKALI,ALKALI_FLAG_W,AR-39,AR-39ER,AR-39_FLAG_W
,,,,,,,,,METERS,DBAR,ITS-90,PSS-78,,PSS-78,,UMOL/KG,,UMOL/KG,,UMOL/KG,,UMOL/KG,,UMOL/KG,,UMOL/KG,,PMOL/KG,,FMOL/KG,,FMOL/KG,,UMOL/KG,,UMOL/KG,,%Modern,%Modern,
  06M320150501,   539, 66,      1,   254471,20150528,0359,  8.0000, -19.0000, 4413,   1199.0,   4.8310,  34.8440,2,  34.8470,2,    162.8,2,    162.0,2,  -999.00,9,  -999.00,9,  -999.00,-999,  -999.00,9,    0.016,2,        0,2,     0.00,2,   -999.0,9,   -999.0,9,   -999.0,      9.0,9
  06M320150501,   539, 66,      2,   254472,20150528,0401,  8.0000, -19.0000, 4413,   1099.0,   5.0230,  34.7930,2,-999.0000,9,    146.7,9,   -999.0,9,  -999.00,9,  -999.00,9,  -999.00,-999,  -999.00,9,    0.010,2,        0,2,     0.00,2,   -999.0,9,   -999.0,9,   -999.0,      9.0,9
  06M320150501,   539, 66,      3,   254473,20150528,0403,  8.0000, -19.0000, 4413,    999.0,   5.1620,  34.7220,2,-999.0000,9,    132.5,9,   -999.0,9,  -999.00,9,  -999.00,9,  -999.00,-999,  -999.00,9,    0.012,2,        0,2,     0.00,2,   -999.0,9,   -999.0,9,   -999.0,      9.0,9
  06M320150501,   539, 66,      4,   254474,20150528,0405,  8.0000, -19.0000, 4413,    898.0,   5.4700,  34.6660,2,-999.0000,9,    117.7,9,   -999.0,9,  -999.00,9,  -999.00,9,  -999.00,-999,  -999.00,9,    0.027,2,        0,2,     0.00,2,   -999.0,9,   -999.0,9,   -999.0,      9.0,9
  06M320150501,   539, 66,      5,   254475,20150528,0407,  8.0000, -19.0000, 4413,    801.0,   5.8760,  34.6620,2,-999.0000,9,    103.3,2,    104.7,2,  -999.00,9,  -999.00,9,  -999.00,-999,  -999.00,9,    0.046,2,        0,2,     0.00,2,   -999.0,9,   -999.0,9,   -999.0,      9.0,9
  06M320150501,   539, 66,      6,   254476,20150528,0409,  8.0000, -19.0000, 4413,    699.0,   6.4940,  34.6840,2,-999.0000,9,     90.7,9,   -999.0,9,  -999.00,9,  -999.00,9,  -999.00,-999,  -999.00,9,    0.093,2,        0,2,     0.00,2,   -999.0,9,   -999.0,9,   -999.0,      9.0,9
  06M320150501,   539, 66,      7,   254477,20150528,0411,  8.0000, -19.0000, 4413,    600.0,   7.2200,  34.7340,2,  34.7320,2,     79.2,2,     79.5,6,  -999.00,9,  -999.00,9,  -999.00,-999,  -999.00,9,    0.151,2,        0,2,     0.00,2,   -999.0,9,   -999.0,9,   -999.0,      9.0,9
  06M320150501,   539, 66,      8,   254478,20150528,0412,  8.0000, -19.0000, 4413,    540.0,   7.8390,  34.8050,2,-999.0000,9,     70.7,9,   -999.0,9,  -999.00,9,  -999.00,9,  -999.00,-999,  -999.00,9,    0.201,6,     0.14,6,     0.05,6,   -999.0,9,   -999.0,9,   -999.0,      9.0,9
  06M320150501,   539, 66,      9,   254479,20150528,0412,  8.0000, -19.0000, 4413,    510.0,   8.3320,  34.8650,2,-999.0000,9,     60.0,9,   -999.0,9,  -999.00,9,  -999.00,9,  -999.00,-999,  -999.00,9, -999.000,9,     -999,9,     0.37,2,   -999.0,9,   -999.0,9,   -999.0,      9.0,9
  06M320150501,   539, 66,     10,   254480,20150528,0413,  8.0000, -19.0000, 4413,    480.0,   8.5440,  34.8750,2,-999.0000,9,     59.8,9,   -999.0,9,  -999.00,9,  -999.00,9,  -999.00,-999,  -999.00,9,    0.293,6,     0.15,6,     0.88,6,   -999.0,9,   -999.0,9,   -999.0,      9.0,9
  06M320150501,   539, 66,     11,   254481,20150528,0413,  8.0000, -19.0000, 4413,    450.0,   8.9940,  34.9350,2,-999.0000,9,     51.0,9,   -999.0,9,  -999.00,9,  -999.00,9,  -999.00,-999,  -999.00,9, -999.000,9,     -999,9,     2.42,2,   -999.0,9,   -999.0,9,   -999.0,      9.0,9
  06M320150501,   539, 66,     12,   254482,20150528,0414,  8.0000, -19.0000, 4413,    419.0,   9.7750,  35.0320,2,-999.0000,9,     41.3,2,     41.1,2,  -999.00,9,  -999.00,9,  -999.00,-999,  -999.00,9,    0.410,6,     0.28,6,     4.61,6,   -999.0,9,   -999.0,9,   -999.0,      9.0,9
  06M320150501,   539, 66,     13,   254483,20150528,0414,  8.0000, -19.0000, 4413,    390.0,  10.1680,  35.0720,2,-999.0000,9,     40.6,9,   -999.0,9,  -999.00,9,  -999.00,9,  -999.00,-999,  -999.00,9, -999.000,9,     -999,9,     3.68,2,   -999.0,9,   -999.0,9,   -999.0,      9.0,9
  06M320150501,   539, 66,     14,   254484,20150528,0415,  8.0000, -19.0000, 4413,    359.0,  10.8870,  35.1440,2,-999.0000,9,     41.8,9,   -999.0,9,  -999.00,9,  -999.00,9,  -999.00,-999,  -999.00,9,    0.563,6,     0.33,6,     1.29,6,   -999.0,9,   -999.0,9,   -999.0,      9.0,9
  06M320150501,   539, 66,     15,   254485,20150528,0416,  8.0000, -19.0000, 4413,    330.0,  11.3680,  35.1680,2,-999.0000,9,     50.2,9,   -999.0,9,  -999.00,9,  -999.00,9,  -999.00,-999,  -999.00,9, -999.000,9,     -999,9,     0.88,2,   -999.0,9,   -999.0,9,   -999.0,      9.0,9
  06M320150501,   539, 66,     16,   254486,20150528,0416,  8.0000, -19.0000, 4413,    299.0,  11.9300,  35.1970,2,-999.0000,9,     64.4,9,   -999.0,9,  -999.00,9,  -999.00,9,  -999.00,-999,  -999.00,9,    0.817,6,      0.5,6,     0.55,6,   -999.0,9,   -999.0,9,   -999.0,      9.0,9
  06M320150501,   539, 66,     17,   254487,20150528,0417,  8.0000, -19.0000, 4413,    269.0,  12.5470,  35.2450,2,-999.0000,9,     77.2,9,   -999.0,9,  -999.00,9,  -999.00,9,  -999.00,-999,  -999.00,9,    0.944,6,     0.57,6,     0.16,6,   -999.0,9,   -999.0,9,   -999.0,      9.0,9
  06M320150501,   539, 66,     18,   254488,20150528,0419,  8.0000, -19.0000, 4413,    149.0,  14.3880,  35.4510,2,-999.0000,9,     76.1,9,   -999.0,9,  -999.00,9,  -999.00,9,  -999.00,-999,  -999.00,9,    1.108,6,      0.7,6,     0.01,6,   -999.0,9,   -999.0,9,   -999.0,      9.0,9
  06M320150501,   539, 66,     19,   254489,20150528,0420,  8.0000, -19.0000, 4413,     99.0,  15.0280,  35.5270,2,-999.0000,9,     79.2,9,   -999.0,9,  -999.00,9,  -999.00,9,  -999.00,-999,  -999.00,9,    1.138,2,     0.83,2,     0.00,2,   -999.0,9,   -999.0,9,   -999.0,      9.0,9
  06M320150501,   539, 66,     20,   254490,20150528,0421,  8.0000, -19.0000, 4413,     51.0,  16.4180,  35.6390,2,-999.0000,9,     80.1,2,     77.7,2,  -999.00,9,  -999.00,9,  -999.00,-999,  -999.00,9,    1.143,2,     0.87,2,     0.00,2,   -999.0,9,   -999.0,9,   -999.0,      9.0,9
  06M320150501,   539, 66,     21,   254491,20150528,0422,  8.0000, -19.0000, 4413,     20.0,  25.8590,  35.8170,2,-999.0000,9,    209.9,9,   -999.0,9,  -999.00,9,  -999.00,9,  -999.00,-999,  -999.00,9,    1.073,2,     1.13,2,     0.00,2,   -999.0,9,   -999.0,9,   -999.0,      9.0,9
  06M320150501,   539, 66,     22,   254492,20150528,0422,  8.0000, -19.0000, 4413,      9.0,  29.1800,  35.6390,2,  35.6950,2,    195.7,3,    178.5,2,  -999.00,9,  -999.00,9,  -999.00,-999,  -999.00,9, -999.000,9,     -999,9,  -999.00,9,   -999.0,9,   -999.0,9,   -999.0,      9.0,9
  06M320150501,   540, 67,      1,   254493,20150528,1021,  9.0000, -19.0000, 4320,   1218.0,   4.8310,  34.8660,2,  34.8700,2,    164.5,2,    161.7,2,  -999.00,9,  -999.00,9,  -999.00,-999,  -999.00,9,    0.010,2,        0,2,     0.00,2,   -999.0,9,   -999.0,9,   -999.0,      9.0,9
  06M320150501,   540, 67,      2,   254494,20150528,1023,  9.0000, -19.0000, 4320,   1100.0,   5.0350,  34.8100,2,-999.0000,9,    147.4,9,   -999.0,9,  -999.00,9,  -999.00,9,  -999.00,-999,  -999.00,9,    0.009,2,        0,2,     0.00,2,   -999.0,9,   -999.0,9,   -999.0,      9.0,9
  06M320150501,   540, 67,      3,   254495,20150528,1025,  9.0000, -19.0000, 4320,    998.0,   5.2690,  34.7410,2,-999.0000,9,    129.6,9,   -999.0,9,  -999.00,9,  -999.00,9,  -999.00,-999,  -999.00,9,    0.013,2,        0,2,     0.00,2,   -999.0,9,   -999.0,9,   -999.0,      9.0,9
  06M320150501,   540, 67,      4,   254496,20150528,1026,  9.0000, -19.0000, 4320,    899.0,   5.6480,  34.7070,2,-999.0000,9,    111.3,9,   -999.0,9,  -999.00,9,  -999.00,9,  -999.00,-999,  -999.00,9,    0.022,2,        0,2,     0.00,2,   -999.0,9,   -999.0,9,   -999.0,      9.0,9
  06M320150501,   540, 67,      5,   254497,20150528,1028,  9.0000, -19.0000, 4320,    800.0,   5.9780,  34.6960,2,  34.7030,2,    100.9,2,    100.4,6,  -999.00,9,  -999.00,9,  -999.00,-999,  -999.00,9,    0.041,2,        0,2,     0.00,2,   -999.0,9,   -999.0,9,   -999.0,      9.0,9
  06M320150501,   540, 67,      6,   254498,20150528,1030,  9.0000, -19.0000, 4320,    699.0,   6.7050,  34.7320,2,-999.0000,9,     84.1,9,   -999.0,9,  -999.00,9,  -999.00,9,  -999.00,-999,  -999.00,9,    0.082,2,        0,2,     0.00,2,   -999.0,9,   -999.0,9,   -999.0,      9.0,9
  06M320150501,   540, 67,      7,   254499,20150528,1032,  9.0000, -19.0000, 4320,    598.0,   7.6800,  34.8100,2,-999.0000,9,     66.3,2,     66.7,2,  -999.00,9,  -999.00,9,  -999.00,-999,  -999.00,9,    0.162,6,        0,6,     0.03,6,   -999.0,9,   -999.0,9,   -999.0,      9.0,9
  06M320150501,   540, 67,      8,   254500,20150528,1033,  9.0000, -19.0000, 4320,    545.0,   8.2640,  34.8760,2,-999.0000,9,     57.2,9,   -999.0,9,  -999.00,9,  -999.00,9,  -999.00,-999,  -999.00,9, -999.000,9,     -999,9,     0.39,2,   -999.0,9,   -999.0,9,   -999.0,      9.0,9
  06M320150501,   540, 67,      9,   254501,20150528,1033,  9.0000, -19.0000, 4320,    516.0,   8.5650,  34.9110,2,-999.0000,9,     53.0,9,   -999.0,9,  -999.00,9,  -999.00,9,  -999.00,-999,  -999.00,9,    0.247,6,     0.14,6,     0.74,6,   -999.0,9,   -999.0,9,   -999.0,      9.0,9
  06M320150501,   540, 67,     10,   254502,20150528,1034,  9.0000, -19.0000, 4320,    486.0,   8.9400,  34.9550,2,-999.0000,9,     48.4,9,   -999.0,9,  -999.00,9,  -999.00,9,  -999.00,-999,  -999.00,9, -999.000,9,     -999,9,     1.46,2,   -999.0,9,   -999.0,9,   -999.0,      9.0,9
  06M320150501,   540, 67,     11,   254503,20150528,1034,  9.0000, -19.0000, 4320,    455.0,   9.5530,  35.0220,2,-999.0000,9,     43.0,9,   -999.0,9,  -999.00,9,  -999.00,9,  -999.00,-999,  -999.00,9,    0.359,6,     0.25,6,     3.44,6,   -999.0,9,   -999.0,9,   -999.0,      9.0,9
  06M320150501,   540, 67,     12,   254504,20150528,1035,  9.0000, -19.0000, 4320,    423.0,   9.9680,  35.0630,2,  35.0570,2,     40.0,2,     41.6,2,  -999.00,9,  -999.00,9,  -999.00,-999,  -999.00,9,    0.409,6,     0.26,6,     4.68,6,   -999.0,9,   -999.0,9,   -999.0,      9.0,9
  06M320150501,   540, 67,     13,   254505,20150528,1035,  9.0000, -19.0000, 4320,    395.0,  10.4630,  35.1130,2,-999.0000,9,     40.4,9,   -999.0,9,  -999.00,9,  -999.00,9,  -999.00,-999,  -999.00,9, -999.000,9,     -999,9,     3.21,2,   -999.0,9,   -999.0,9,   -999.0,      9.0,9
  06M320150501,   540, 67,     14,   254506,20150528,1036,  9.0000, -19.0000, 4320,    365.0,  11.0470,  35.1600,2,-999.0000,9,     45.3,9,   -999.0,9,  -999.00,9,  -999.00,9,  -999.00,-999,  -999.00,9,    0.605,6,     0.35,6,     1.52,6,   -999.0,9,   -999.0,9,   -999.0,      9.0,9
  06M320150501,   540, 67,     15,   254507,20150528,1036,  9.0000, -19.0000, 4320,    335.0,  11.3510,  35.1790,2,-999.0000,9,     50.7,9,   -999.0,9,  -999.00,9,  -999.00,9,  -999.00,-999,  -999.00,9, -999.000,9,     -999,9,     0.93,2,   -999.0,9,   -999.0,9,   -999.0,      9.0,9
  06M320150501,   540, 67,     16,   254508,20150528,1037,  9.0000, -19.0000, 4320,    305.0,  11.6850,  35.1700,2,-999.0000,9,     68.6,9,   -999.0,9,  -999.00,9,  -999.00,9,  -999.00,-999,  -999.00,9,    0.819,6,     0.43,6,     0.53,6,   -999.0,9,   -999.0,9,   -999.0,      9.0,9
  06M320150501,   540, 67,     17,   254509,20150528,1037,  9.0000, -19.0000, 4320,    275.0,  12.0490,  35.1830,2,-999.0000,9,     91.0,9,   -999.0,9,  -999.00,9,  -999.00,9,  -999.00,-999,  -999.00,9,    0.961,2,     0.61,2,     0.07,2,   -999.0,9,   -999.0,9,   -999.0,      9.0,9
  06M320150501,   540, 67,     18,   254510,20150528,1039,  9.0000, -19.0000, 4320,    149.0,  13.9570,  35.4030,2,-999.0000,9,     89.9,9,   -999.0,9,  -999.00,9,  -999.00,9,  -999.00,-999,  -999.00,9,    1.121,2,     0.81,2,     0.00,2,   -999.0,9,   -999.0,9,   -999.0,      9.0,9
  06M320150501,   540, 67,     19,   254511,20150528,1040,  9.0000, -19.0000, 4320,     99.0,  14.7260,  35.4920,2,-999.0000,9,     68.7,2,     74.6,2,  -999.00,9,  -999.00,9,  -999.00,-999,  -999.00,9,    1.120,2,     0.82,2,     0.00,2,   -999.0,9,   -999.0,9,   -999.0,      9.0,9
  06M320150501,   540, 67,     20,   254512,20150528,1042,  9.0000, -19.0000, 4320,     50.0,  18.3590,  35.7050,2,-999.0000,9,    111.9,9,   -999.0,9,  -999.00,9,  -999.00,9,  -999.00,-999,  -999.00,9, -999.000,9,     -999,9,  -999.00,9,   -999.0,9,   -999.0,9,   -999.0,      9.0,9
  06M320150501,   540, 67,     21,   254513,20150528,1042,  9.0000, -19.0000, 4320,     20.0,  28.3820,  35.8860,2,-999.0000,9,    205.3,9,   -999.0,9,  -999.00,9,  -999.00,9,  -999.00,-999,  -999.00,9,    0.986,6,     1.27,6,     0.00,6,   -999.0,9,   -999.0,9,   -999.0,      9.0,9
  06M320150501,   540, 67,     22,   254514,20150528,1043,  9.0000, -19.0000, 4320,     11.0,  29.1550,  35.7310,2,-999.0000,9,    198.7,2,    204.1,2,  -999.00,9,  -999.00,9,  -999.00,-999,  -999.00,9, -999.000,9,     -999,9,  -999.00,9,   -999.0,9,   -999.0,9,   -999.0,      9.0,9
  06M320150501,   541, 68,      1,   254515,20150528,1642,  9.0000, -20.0000, 4018,   1203.0,   4.8820,  34.8570,2,  34.8550,2,    161.1,2,    161.2,2,  -999.00,9,  -999.00,9,  -999.00,-999,  -999.00,9,    0.012,2,        0,2,     0.00,2,   -999.0,9,   -999.0,9,   -999.0,      9.0,9
  06M320150501,   541, 68,      2,   254516,20150528,1644,  9.0000, -20.0000, 4018,   1100.0,   5.0370,  34.8000,2,-999.0000,9,    146.7,9,   -999.0,9,  -999.00,9,  -999.00,9,  -999.00,-999,  -999.00,9,    0.012,2,        0,2,     0.00,2,   -999.0,9,   -999.0,9,   -999.0,      9.0,9
  06M320150501,   541, 68,      3,   254517,20150528,1645,  9.0000, -20.0000, 4018,   1000.0,   5.1920,  34.7510,2,-999.0000,9,    134.3,9,   -999.0,9,  -999.00,9,  -999.00,9,  -999.00,-999,  -999.00,9,    0.010,2,        0,2,     0.00,2,   -999.0,9,   -999.0,9,   -999.0,      9.0,9
  06M320150501,   541, 68,      4,   254518,20150528,1647,  9.0000, -20.0000, 4018,    900.0,   5.5130,  34.7160,2,-999.0000,9,    116.7,9,   -999.0,9,  -999.00,9,  -999.00,9,  -999.00,-999,  -999.00,9,    0.016,2,        0,2,     0.00,2,   -999.0,9,   -999.0,9,   -999.0,      9.0,9
  06M320150501,   541, 68,      5,   254519,20150528,1649,  9.0000, -20.0000, 4018,    800.0,   6.1440,  34.7330,2,  34.7310,2,     95.8,2,     95.2,2,  -999.00,9,  -999.00,9,  -999.00,-999,  -999.00,9,    0.034,2,        0,2,     0.00,2,   -999.0,9,   -999.0,9,   -999.0,      9.0,9
  06M320150501,   541, 68,      6,   254520,20150528,1651,  9.0000, -20.0000, 4018,    700.0,   7.1400,  34.7990,2,-999.0000,9,     72.8,9,   -999.0,9,  -999.00,9,  -999.00,9,  -999.00,-999,  -999.00,9,    0.095,2,        0,2,     0.00,2,   -999.0,9,   -999.0,9,   -999.0,      9.0,9
  06M320150501,   541, 68,      7,   254521,20150528,1653,  9.0000, -20.0000, 4018,    600.0,   7.8370,  34.8370,2,-999.0000,9,     62.7,2,     63.1,2,  -999.00,9,  -999.00,9,  -999.00,-999,  -999.00,9,    0.170,2,     0.12,2,     0.00,2,   -999.0,9,   -999.0,9,   -999.0,      9.0,9
  06M320150501,   541, 68,      8,   254522,20150528,1653,  9.0000, -20.0000, 4018,    564.0,   8.1270,  34.8700,2,-999.0000,9,     58.4,9,   -999.0,9,  -999.00,9,  -999.00,9,  -999.00,-999,  -999.00,9,    0.187,6,     0.14,6,     0.12,6,   -999.0,9,   -999.0,9,   -999.0,      9.0,9
  06M320150501,   541, 68,      9,   254523,20150528,1654,  9.0000, -20.0000, 4018,    535.0,   8.5670,  34.9240,2,-999.0000,9,     51.8,9,   -999.0,9,  -999.00,9,  -999.00,9,  -999.00,-999,  -999.00,9, -999.000,9,     -999,9,     0.66,2,   -999.0,9,   -999.0,9,   -999.0,      9.0,9
  06M320150501,   541, 68,     10,   254524,20150528,1654,  9.0000, -20.0000, 4018,    505.0,   9.1190,  34.9800,2,-999.0000,9,     45.7,9,   -999.0,9,  -999.00,9,  -999.00,9,  -999.00,-999,  -999.00,9,    0.286,6,     0.24,6,     2.85,6,   -999.0,9,   -999.0,9,   -999.0,      9.0,9
  06M320150501,   541, 68,     11,   254525,20150528,1655,  9.0000, -20.0000, 4018,    476.0,   9.6490,  35.0360,2,-999.0000,9,     42.0,9,   -999.0,9,  -999.00,9,  -999.00,9,  -999.00,-999,  -999.00,9, -999.000,9,     -999,9,     6.07,2,   -999.0,9,   -999.0,9,   -999.0,      9.0,9
  06M320150501,   541, 68,     12,   254526,20150528,1655,  9.0000, -20.0000, 4018,    446.0,   9.9790,  35.0560,2,  35.0500,2,     42.8,2,     44.5,6,  -999.00,9,  -999.00,9,  -999.00,-999,  -999.00,9,    0.416,6,     0.28,6,     5.70,6,   -999.0,9,   -999.0,9,   -999.0,      9.0,9
  06M320150501,   541, 68,     13,   254527,20150528,1656,  9.0000, -20.0000, 4018,    415.0,  10.3690,  35.0950,2,-999.0000,9,     43.1,9,   -999.0,9,  -999.00,9,  -999.00,9,  -999.00,-999,  -999.00,9, -999.000,9,     -999,9,     3.65,2,   -999.0,9,   -999.0,9,   -999.0,      9.0,9
  06M320150501,   541, 68,     14,   254528,20150528,1656,  9.0000, -20.0000, 4018,    385.0,  10.8300,  35.1270,2,-999.0000,9,     49.3,9,   -999.0,9,  -999.00,9,  -999.00,9,  -999.00,-999,  -999.00,9,    0.619,6,     0.38,6,     1.53,6,   -999.0,9,   -999.0,9,   -999.0,      9.0,9
  06M320150501,   541, 68,     15,   254529,20150528,1657,  9.0000, -20.0000, 4018,    355.0,  11.1650,  35.1390,2,-999.0000,9,     58.0,9,   -999.0,9,  -999.00,9,  -999.00,9,  -999.00,-999,  -999.00,9, -999.000,9,     -999,9,     0.77,2,   -999.0,9,   -999.0,9,   -999.0,      9.0,9
  06M320150501,   541, 68,     16,   254530,20150528,1657,  9.0000, -20.0000, 4018,    325.0,  11.3880,  35.1220,2,-999.0000,9,     77.7,9,   -999.0,9,  -999.00,9,  -999.00,9,  -999.00,-999,  -999.00,9,    0.849,6,     0.47,6,     0.58,6,   -999.0,9,   -999.0,9,   -999.0,      9.0,9
  06M320150501,   541, 68,     17,   254531,20150528,1658,  9.0000, -20.0000, 4018,    295.0,  11.5820,  35.1350,2,-999.0000,9,     85.3,9,   -999.0,9,  -999.00,9,  -999.00,9,  -999.00,-999,  -999.00,9,    0.917,6,     0.63,6,     0.38,6,   -999.0,9,   -999.0,9,   -999.0,      9.0,9
  06M320150501,   541, 68,     18,   254532,20150528,1700,  9.0000, -20.0000, 4018,    150.0,  14.2420,  35.4380,2,-999.0000,9,    104.1,9,   -999.0,9,  -999.00,9,  -999.00,9,  -999.00,-999,  -999.00,9,    1.154,2,     0.84,2,     0.00,2,   -999.0,9,   -999.0,9,   -999.0,      9.0,9
  06M320150501,   541, 68,     19,   254533,20150528,1701,  9.0000, -20.0000, 4018,    102.0,  14.8690,  35.5080,2,-999.0000,9,     87.7,2,     90.9,2,  -999.00,9,  -999.00,9,  -999.00,-999,  -999.00,9,    1.160,2,     0.92,2,     0.00,2,   -999.0,9,   -999.0,9,   -999.0,      9.0,9
  06M320150501,   541, 68,     20,   254534,20150528,1703,  9.0000, -20.0000, 4018,     51.0,  16.7500,  35.6610,2,-999.0000,9,     77.7,9,   -999.0,9,  -999.00,9,  -999.00,9,  -999.00,-999,  -999.00,9,    1.159,2,     0.98,2,     0.00,2,   -999.0,9,   -999.0,9,   -999.0,      9.0,9
  06M320150501,   541, 68,     21,   254535,20150528,1704,  9.0000, -20.0000, 4018,     22.0,  22.9030,  35.8120,2,-999.0000,9,    224.0,2,    211.4,2,  -999.00,9,  -999.00,9,  -999.00,-999,  -999.00,9,    1.067,2,     1.26,2,     0.00,2,   -999.0,9,   -999.0,9,   -999.0,      9.0,9
  06M320150501,   541, 68,     22,   254536,20150528,1704,  9.0000, -20.0000, 4018,     11.0,  24.2180,  35.8280,2,-999.0000,9,    223.9,9,   -999.0,9,  -999.00,9,  -999.00,9,  -999.00,-999,  -999.00,9,    1.035,2,     1.36,2,     0.00,2,   -999.0,9,   -999.0,9,   -999.0,      9.0,9