BOTTLE,20180504PRINUNIVRMK
EXPOCODE,STNNBR,CASTNO,BTLNBR,BEDFORD,DATE,TIME,LATITUDE,LONGITUDE,DEPTH,CTDPRS,CTDTMP,CTDSAL,CTDSAL_FLAG_W,SALNTY,SALNTY_FLAG_W,CTDOXY,CTDOXY_FLAG_W,OXYGEN,OXYGEN_FLAG_W,SILCAT,SILCAT_FLAG_W,NITRAT,NITRAT_FLAG_W,NITRIT,NITRIT_FLAG_W,PHSPHT,PHSPHT_FLAG_W,CFC-12,CFC-12_FLAG_W,SF6,SF6_FLAG_W,SF5CF3,SF5CF3_FLAG_W,TCARBN,TCARBN_FLAG_W,ALKALI,ALKALI_FLAG_W,AR-39,AR-39ER,AR-39_FLAG_W
,,,,,,,,,METERS,DBAR,ITS-90,PSS-78,,PSS-78,,UMOL/KG,,UMOL/KG,,UMOL/KG,,UMOL/KG,,UMOL/KG,,UMOL/KG,,PMOL/KG,,FMOL/KG,,FMOL/KG,,UMOL/KG,,UMOL/KG,,%Modern,%Modern,
  06M320150501,   479,  6,      1,   253115,20150506,1200, 11.0000, -45.0000, 4619,   1202.0,   5.1310,  34.9260,2,-999.0000,9,    182.1,2,    181.8,2,    21.63,2,    26.28,2,     0.01,   2,     1.70,2,    0.118,2,        0,2,     0.00,2,   2197.4,6,   2322.4,6,   -999.0,      9.0,9
  06M320150501,   479,  6,      2,   253116,20150506,1202, 11.0000, -45.0000, 4619,   1100.0,   5.2830,  34.8670,2,-999.0000,9,    164.4,2,    163.2,2,    23.68,2,    28.58,2,     0.01,   2,     1.89,2,    0.076,2,        0,2,     0.00,2,   -999.0,9,   -999.0,9,   -999.0,      9.0,9
  06M320150501,   479,  6,      3,   253117,20150506,1204, 11.0000, -45.0000, 4619,    999.0,   5.3380,  34.7700,2,-999.0000,9,    147.0,2,    145.8,2,    26.25,2,    31.44,2,     0.02,   2,     2.10,2,    0.051,2,        0,2,     0.00,2,   2216.7,2,   2315.1,2,   -999.0,      9.0,9
  06M320150501,   479,  6,      4,   253118,20150506,1205, 11.0000, -45.0000, 4619,    899.0,   5.4250,  34.6980,2,-999.0000,9,    137.4,2,    136.9,2,    27.13,2,    33.09,2,     0.01,   2,     2.20,2,    0.059,2,        0,2,     0.00,2,   -999.0,9,   -999.0,9,   -999.0,      9.0,9
  06M320150501,   479,  6,      5,   253119,20150506,1207, 11.0000, -45.0000, 4619,    798.0,   5.7040,  34.6710,2,-999.0000,9,    129.4,2,    129.2,2,    26.62,2,    33.87,2,     0.01,   2,     2.22,2,    0.095,2,        0,2,     0.00,2,   2222.1,2,   2305.8,2,   -999.0,      9.0,9
  06M320150501,   479,  6,      6,   253120,20150506,1208, 11.0000, -45.0000, 4619,    699.0,   6.5970,  34.7430,2,-999.0000,9,    112.7,2,    112.5,2,    23.35,2,    34.05,2,     0.01,   2,     2.20,2,    0.144,2,        0,2,     0.00,2,   -999.0,9,   -999.0,9,   -999.0,      9.0,9
  06M320150501,   479,  6,      7,   253121,20150506,1210, 11.0000, -45.0000, 4619,    599.0,   7.4960,  34.8050,2,-999.0000,9,    106.0,2,    105.7,2,    20.90,2,    33.36,2,     0.02,   2,     2.15,2,    0.248,2,      0.2,2,     0.00,2,   2224.1,2,   2305.5,2,   -999.0,      9.0,9
  06M320150501,   479,  6,      8,   253122,20150506,1212, 11.0000, -45.0000, 4619,    500.0,   8.3270,  34.8730,2,-999.0000,9,    101.4,2,    101.8,2,    18.02,2,    32.17,2,     0.01,   2,     2.04,2,    0.431,2,     0.29,2,     0.00,2,   2221.0,2,   2305.9,2,   -999.0,      9.0,9
  06M320150501,   479,  6,      9,   253123,20150506,1213, 11.0000, -45.0000, 4619,    384.0,   9.3250,  34.9610,2,-999.0000,9,     97.1,2,     97.3,6,    15.01,6,    30.35,6,     0.01,   6,     1.91,6,    0.630,2,     0.33,2,     0.00,2,   -999.0,9,   -999.0,9,   -999.0,      9.0,9
  06M320150501,   479,  6,     10,   253124,20150506,1214, 11.0000, -45.0000, 4619,    353.0,   9.4950,  34.9660,2,-999.0000,9,     94.0,2,     94.6,2,    14.76,2,    30.44,2,     0.01,   2,     1.88,2,    0.673,2,      0.4,2,     0.00,2,   2219.8,6,   2301.6,6,   -999.0,      9.0,9
  06M320150501,   479,  6,     11,   253125,20150506,1214, 11.0000, -45.0000, 4619,    324.0,   9.8810,  35.0110,2,-999.0000,9,     93.4,2,     93.6,2,    14.13,2,    29.80,2,     0.01,   2,     1.86,2,    0.711,2,     0.38,2,     0.00,2,   -999.0,9,   -999.0,9,   -999.0,      9.0,9
  06M320150501,   479,  6,     12,   253126,20150506,1215, 11.0000, -45.0000, 4619,    298.0,  10.3460,  35.0680,2,-999.0000,9,     94.3,2,     95.1,2,    13.50,2,    29.03,2,     0.01,   2,     1.82,2,    0.757,2,     0.34,2,     0.06,2,   2215.4,2,   2308.4,2,   -999.0,      9.0,9
  06M320150501,   479,  6,     13,   253127,20150506,1216, 11.0000, -45.0000, 4619,    199.0,  11.4060,  35.2100,2,-999.0000,9,     97.3,2,     97.3,2,    11.17,2,    26.53,2,     0.01,   2,     1.65,2,    0.942,2,     0.54,2,     0.07,2,   2208.9,2,   2315.2,2,   -999.0,      9.0,9
  06M320150501,   479,  6,     14,   253128,20150506,1217, 11.0000, -45.0000, 4619,    148.0,  15.7100,  35.9840,2,-999.0000,9,    114.9,3,    113.2,2,     6.03,2,    18.14,2,     0.01,   2,     1.06,2,    1.157,2,     0.91,2,     0.00,2,   2192.4,2,   2351.8,2,   -999.0,      9.0,9
  06M320150501,   479,  6,     15,   253129,20150506,1218, 11.0000, -45.0000, 4619,    100.0,  20.7250,  36.3400,2,-999.0000,9,    150.0,2,    140.5,2,     3.40,2,    10.43,2,     0.06,   2,     0.62,2,    1.158,2,     1.12,2,     0.00,2,   2156.2,2,   2370.3,2,   -999.0,      9.0,9
  06M320150501,   479,  6,     16,   253130,20150506,1219, 11.0000, -45.0000, 4619,     50.0,  25.3750,  36.4630,2,-999.0000,9,    207.4,2,    208.5,2,     0.95,6,     0.20,6,     0.01,   6,     0.03,6,    1.023,2,     1.38,2,     0.00,2,   2055.5,2,   -999.0,9,   -999.0,      9.0,9
  06M320150501,   479,  6,     17,   253131,20150506,1220, 11.0000, -45.0000, 4619,     19.0,  25.6290,  36.4190,2,-999.0000,9,    209.9,2,    206.0,2,     0.92,2,     0.19,2,     0.00,   2,     0.02,2,    0.996,2,     1.28,2,     0.00,2,   2049.9,2,   2379.2,2,   -999.0,      9.0,9
  06M320150501,   479,  6,     18,   253132,20150506,1221, 11.0000, -45.0000, 4619,      9.0,  25.6280,  36.4200,2,-999.0000,9,    208.5,2,    206.2,2,     0.91,2,     0.19,2,     0.01,   2,     0.02,2,    1.012,2,     1.45,2,     0.00,2,   2049.6,2,   2381.4,2,   -999.0,      9.0,9
  06M320150501,   480,  7,      1,   253133,20150506,1922, 11.0000, -44.0000, 3447,   1209.0,   5.0520,  34.9120,2,-999.0000,9,    181.3,2,    180.5,2,    22.69,2,    26.70,2,     0.01,   2,     1.76,2,    0.107,2,        0,2,     0.00,2,   2198.8,2,   2322.3,2,   -999.0,      9.0,9
  06M320150501,   480,  7,      2,   253134,20150506,1924, 11.0000, -44.0000, 3447,   1099.0,   5.2430,  34.8500,2,-999.0000,9,    159.1,2,    158.0,2,    24.44,2,    29.36,2,     0.01,   2,     1.91,2,    0.050,2,        0,2,     0.00,2,   -999.0,9,   -999.0,9,   -999.0,      9.0,9
  06M320150501,   480,  7,      3,   253135,20150506,1926, 11.0000, -44.0000, 3447,   1002.0,   5.4070,  34.7840,2,-999.0000,9,    144.6,2,    143.1,6,    25.88,6,    31.63,6,     0.01,   6,     2.09,6,    0.044,2,        0,2,     0.00,2,   2213.7,2,   2316.4,6,   -999.0,      9.0,9
  06M320150501,   480,  7,      4,   253136,20150506,1928, 11.0000, -44.0000, 3447,    899.0,   5.4490,  34.6940,2,-999.0000,9,    134.1,2,    133.2,2,    27.25,2,    33.80,2,     0.01,   2,     2.22,2,    0.058,2,        0,2,     0.00,2,   -999.0,9,   -999.0,9,   -999.0,      9.0,9
  06M320150501,   480,  7,      5,   253137,20150506,1929, 11.0000, -44.0000, 3447,    799.0,   5.7530,  34.6470,2,-999.0000,9,    126.8,2,    125.7,6,    26.59,6,    34.60,6,     0.00,   6,     2.27,6,    0.117,2,        0,2,     0.00,2,   2224.9,2,   2304.4,2,   -999.0,      9.0,9
  06M320150501,   480,  7,      6,   253138,20150506,1931, 11.0000, -44.0000, 3447,    698.0,   6.4590,  34.7070,2,-999.0000,9,    117.1,2,    116.7,2,    24.04,2,    34.26,2,     0.01,   2,     2.21,2,    0.174,2,     0.14,2,     0.00,2,   -999.0,9,   -999.0,9,   -999.0,      9.0,9
  06M320150501,   480,  7,      7,   253139,20150506,1932, 11.0000, -44.0000, 3447,    618.0,   6.9800,  34.7400,2,-999.0000,9,    110.6,2,    110.2,2,    22.49,2,    34.04,2,     0.00,   2,     2.20,2,    0.229,2,     0.18,2,     0.00,2,   2221.4,2,   2294.4,2,   -999.0,      9.0,9
  06M320150501,   480,  7,      8,   253140,20150506,1934, 11.0000, -44.0000, 3447,    499.0,   8.1810,  34.8500,2,-999.0000,9,     93.7,2,     94.2,2,    18.70,2,    33.49,2,     0.01,   2,     2.10,2,    0.376,2,     0.21,2,     0.00,2,   2224.6,2,   2301.5,2,   -999.0,      9.0,9
  06M320150501,   480,  7,      9,   253141,20150506,1936, 11.0000, -44.0000, 3447,    400.0,   9.0200,  34.9150,2,-999.0000,9,     76.6,2,     77.7,2,    16.66,2,    33.63,2,     0.00,   2,     2.08,2,    0.482,2,     0.21,2,     0.00,2,   -999.0,9,   -999.0,9,   -999.0,      9.0,9
  06M320150501,   480,  7,     10,   253142,20150506,1936, 11.0000, -44.0000, 3447,    368.0,   9.2700,  34.9260,2,-999.0000,9,     76.5,2,     77.6,2,    16.21,2,    33.11,2,     0.00,   2,     2.00,2,    0.551,2,     0.25,2,     0.08,2,   2229.6,6,   2298.3,6,   -999.0,      9.0,9
  06M320150501,   480,  7,     11,   253143,20150506,1937, 11.0000, -44.0000, 3447,    339.0,   9.5420,  34.9520,2,-999.0000,9,     75.4,2,     75.6,2,    15.48,2,    32.85,2,     0.01,   2,     2.00,2,    0.577,2,     0.24,2,     0.16,2,   -999.0,9,   -999.0,9,   -999.0,      9.0,9
  06M320150501,   480,  7,     12,   253144,20150506,1937, 11.0000, -44.0000, 3447,    299.0,   9.8980,  34.9770,2,-999.0000,9,     80.3,2,     81.0,2,    14.49,2,    31.61,2,     0.01,   2,     1.92,2,    0.677,2,     0.26,2,     0.23,2,   2227.3,2,   2305.6,2,   -999.0,      9.0,9
  06M320150501,   480,  7,     13,   253145,20150506,1939, 11.0000, -44.0000, 3447,    199.0,  10.6690,  35.0330,2,-999.0000,9,    103.7,2,    103.1,2,    12.42,2,    27.72,2,     0.01,   2,     1.72,2,    0.939,2,     0.45,2,     0.30,2,   2208.6,2,   2307.9,2,   -999.0,      9.0,9
  06M320150501,   480,  7,     14,   253146,20150506,1940, 11.0000, -44.0000, 3447,    149.0,  11.9020,  35.1960,2,-999.0000,9,    109.2,2,    110.7,2,    10.37,2,    24.53,2,     0.01,   2,     1.55,2,    1.073,2,     0.55,2,     0.07,2,   2198.0,2,   2313.1,2,   -999.0,      9.0,9
  06M320150501,   480,  7,     15,   253147,20150506,1941, 11.0000, -44.0000, 3447,     99.0,  16.3960,  35.8650,2,-999.0000,9,    114.5,2,    113.1,2,     6.62,2,    18.17,2,     0.04,   2,     1.08,2,    1.116,2,     0.88,2,     0.00,2,   2184.6,2,   2342.1,2,   -999.0,      9.0,9
  06M320150501,   480,  7,     16,   253148,20150506,1942, 11.0000, -44.0000, 3447,     49.0,  25.7720,  36.3670,2,-999.0000,9,    207.0,2,    201.4,2,     1.41,6,     0.87,6,     0.04,   6,     0.08,6,    1.002,2,      1.2,2,     0.00,2,   -999.0,9,   2377.0,2,   -999.0,      9.0,9
  06M320150501,   480,  7,     17,   253149,20150506,1943, 11.0000, -44.0000, 3447,     20.0,  25.8430,  36.3720,2,-999.0000,9,    207.8,2,    206.2,6,     1.21,2,     0.16,2,     0.01,   2,     0.04,2,    0.981,2,     1.25,2,     0.00,2,   2045.3,2,   2376.9,2,   -999.0,      9.0,9
  06M320150501,   480,  7,     18,   253150,20150506,1944, 11.0000, -44.0000, 3447,     11.0,  25.8510,  36.3730,2,-999.0000,9,    210.3,2,    206.8,2,     1.20,2,     0.17,2,     0.00,   2,     0.04,2,    0.983,2,     1.19,2,     0.00,2,   2045.8,2,   2377.6,2,   -999.0,      9.0,9
  06M320150501,   481,  8,      1,   253151,20150507,0343, 10.8300, -43.0000, 5275,   5265.0,   1.8220,  34.8170,2,-999.0000,9,    245.5,2,    243.6,2,    67.92,2,    24.68,2,     0.00,   2,     1.65,2,    0.119,2,        0,2,     0.00,2,   2210.6,6,   2361.4,6,   -999.0,      9.0,9
  06M320150501,   481,  8,      2,   253152,20150507,0345, 10.8300, -43.0000, 5275,   5162.0,   1.8090,  34.8170,2,-999.0000,9,    245.1,2,    244.6,2,    66.81,2,    24.55,2,     0.00,   2,     1.70,2,    0.106,2,        0,2,     0.00,2,   2210.2,2,   2358.7,2,   -999.0,      9.0,9
  06M320150501,   481,  8,      3,   253153,20150507,0356, 10.8300, -43.0000, 5275,   4501.0,   1.8470,  34.8310,2,-999.0000,9,    248.8,2,    249.2,2,    61.23,2,    23.69,2,     0.01,   2,     1.61,2,    0.117,2,        0,2,     0.00,2,   2206.2,2,   2351.9,2,   -999.0,      9.0,9
  06M320150501,   481,  8,      4,   253154,20150507,0404, 10.8300, -43.0000, 5275,   4000.0,   2.2590,  34.8780,2,-999.0000,9,    254.7,2,    253.7,6,    43.64,6,    21.44,6,     0.00,   6,     1.44,6,    0.121,2,        0,2,     0.00,2,   2187.2,2,   2345.6,2,   -999.0,      9.0,9
  06M320150501,   481,  8,      5,   253155,20150507,0412, 10.8300, -43.0000, 5275,   3500.0,   2.5390,  34.9050,2,-999.0000,9,    249.2,2,    248.0,2,    40.91,2,    21.70,2,     0.00,   2,     1.45,2,    0.026,2,        0,2,     0.00,2,   2186.6,2,   2343.4,2,   -999.0,      9.0,9
  06M320150501,   481,  8,      6,   253156,20150507,0420, 10.8300, -43.0000, 5275,   3000.0,   2.7390,  34.9220,2,-999.0000,9,    249.5,2,    249.7,2,    35.87,2,    21.17,2,     0.00,   2,     1.41,2,    0.028,2,        0,2,     0.00,2,   2184.4,2,   2343.2,2,   -999.0,      9.0,9
  06M320150501,   481,  8,      7,   253157,20150507,0428, 10.8300, -43.0000, 5275,   2500.0,   3.0630,  34.9420,2,-999.0000,9,    251.6,2,    251.4,6,    27.95,6,    20.29,6,     0.00,   6,     1.33,6,    0.066,2,        0,2,     0.00,2,   2172.8,2,   2330.3,2,   -999.0,      9.0,9
  06M320150501,   481,  8,      8,   253158,20150507,0436, 10.8300, -43.0000, 5275,   2000.0,   3.5240,  34.9630,2,-999.0000,9,    254.7,2,    255.1,2,    19.38,2,    19.36,2,     0.00,   2,     1.25,2,    0.237,2,        0,2,     0.00,2,   2166.0,2,   2321.0,2,   -999.0,      9.0,9
  06M320150501,   481,  8,      9,   253159,20150507,0440, 10.8300, -43.0000, 5275,   1751.0,   4.0180,  34.9810,2,-999.0000,9,    249.0,2,    216.4,3,    18.26,3,    22.47,3,     0.00,   3,     1.45,3,    0.275,3,        0,3,     0.00,3,   2180.9,3,   2327.0,3,   -999.0,      9.0,9
  06M320150501,   481,  8,     10,   253160,20150507,0445, 10.8300, -43.0000, 5275,   1501.0,   4.6280,  34.9830,2,-999.0000,9,    224.1,2,    110.3,3,    24.40,3,    34.96,3,     0.00,   3,     2.26,3,    0.128,3,        0,3,     0.00,3,   2225.7,3,   2298.9,3,   -999.0,      9.0,9
  06M320150501,   481,  8,     11,   253161,20150507,0449, 10.8300, -43.0000, 5275,   1249.0,   5.0190,  34.8740,2,-999.0000,9,    177.4,2,    109.9,3,    24.42,3,    35.27,3,     0.00,   3,     2.27,3,    0.124,3,        0,3,     0.00,3,   2227.3,3,   2304.6,3,   -999.0,      9.0,9
  06M320150501,   481,  8,     12,   253162,20150507,0453, 10.8300, -43.0000, 5275,    999.0,   5.2550,  34.7190,2,-999.0000,9,    142.8,2,    110.8,3,    24.16,3,    35.17,3,     0.00,   3,     2.27,3,    0.134,3,        0,3,     0.00,3,   2226.2,3,   2300.6,3,   -999.0,      9.0,9
  06M320150501,   481,  8,     13,   253163,20150507,0457, 10.8300, -43.0000, 5275,    749.0,   6.4250,  34.7220,2,-999.0000,9,    113.4,2,    110.2,2,    24.17,2,    35.18,2,     0.00,   2,     2.20,2,    0.131,2,        0,2,     0.00,2,   2226.9,2,   2303.0,3,   -999.0,      9.0,9
  06M320150501,   481,  8,     14,   253164,20150507,0459, 10.8300, -43.0000, 5275,    752.0,   6.3940,  34.7200,2,-999.0000,9,    113.6,2,    111.6,2,    24.73,2,    35.20,2,     0.00,   2,     2.30,2, -999.000,9,     -999,9,  -999.00,9,   2227.3,2,   2303.4,2,   -999.0,      9.0,9
  06M320150501,   481,  8,     15,   253165,20150507,0503, 10.8300, -43.0000, 5275,    500.0,   8.5590,  34.9100,2,-999.0000,9,     83.0,2,     83.4,6,    18.26,6,    34.37,6,     0.01,   6,     2.13,6,    0.340,2,     0.24,2,     0.00,2,   -999.0,9,   -999.0,9,   -999.0,      9.0,9
  06M320150501,   481,  8,     16,   253166,20150507,0505, 10.8300, -43.0000, 5275,    389.0,   8.9120,  34.8520,2,-999.0000,9,     96.7,2,     95.8,2,    16.39,2,    32.36,2,     0.00,   2,     2.00,2,    0.614,2,      0.3,2,     0.00,2,   2219.8,6,   2299.1,6,   -999.0,      9.0,9
  06M320150501,   481,  8,     17,   253167,20150507,0506, 10.8300, -43.0000, 5275,    360.0,   9.2460,  34.8830,2,-999.0000,9,     99.1,2,     98.5,2,    15.26,2,    31.22,2,     0.01,   2,     1.95,2,    0.699,2,     0.27,2,     0.00,2,   -999.0,9,   -999.0,9,   -999.0,      9.0,9
  06M320150501,   481,  8,     18,   253168,20150507,0506, 10.8300, -43.0000, 5275,    330.0,   9.5870,  34.9280,2,-999.0000,9,     99.4,2,     98.8,2,    14.64,2,    30.37,2,     0.01,   2,     1.89,2,    0.736,2,      0.4,2,     0.07,2,   2213.8,2,   2300.5,2,   -999.0,      9.0,9
  06M320150501,   481,  8,     19,   253169,20150507,0506, 10.8300, -43.0000, 5275,    301.0,   9.8630,  34.9570,2,-999.0000,9,    100.9,2,    100.9,2,    14.04,2,    29.87,2,     0.01,   2,     1.86,2,    0.793,2,     0.39,2,     0.07,2,   2212.4,2,   2299.4,2,   -999.0,      9.0,9
  06M320150501,   481,  8,     20,   253170,20150507,0508, 10.8300, -43.0000, 5275,    200.0,  11.1480,  35.1190,2,-999.0000,9,    107.4,2,    106.6,2,    11.35,2,    26.49,2,     0.01,   2,     1.65,2,    0.997,2,     0.51,2,     0.07,2,   2203.8,2,   2306.6,2,   -999.0,      9.0,9
  06M320150501,   481,  8,     21,   253171,20150507,0509, 10.8300, -43.0000, 5275,    150.0,  13.0410,  35.3680,2,-999.0000,9,    106.3,2,    106.0,2,     9.56,2,    24.06,2,     0.02,   2,     1.49,2,    1.078,2,     0.71,2,     0.07,2,   2197.1,2,   2318.0,2,   -999.0,      9.0,9
  06M320150501,   481,  8,     22,   253172,20150507,0510, 10.8300, -43.0000, 5275,    100.0,  18.0210,  35.8950,2,-999.0000,9,    129.0,2,    127.2,2,     5.03,2,    14.63,2,     0.09,   2,     0.89,2,    1.060,2,     0.89,2,     0.00,2,   2160.2,2,   2346.5,2,   -999.0,      9.0,9
  06M320150501,   481,  8,     23,   253173,20150507,0511, 10.8300, -43.0000, 5275,     52.0,  25.9440,  36.3390,2,-999.0000,9,    205.6,2,    204.9,2,     0.97,2,     0.13,2,     0.01,   2,     0.05,2,    0.988,2,      1.2,2,     0.00,2,   2042.9,2,   2371.4,2,   -999.0,      9.0,9
  06M320150501,   481,  8,     24,   253174,20150507,0512, 10.8300, -43.0000, 5275,     12.0,  26.3120,  36.3110,2,-999.0000,9,    204.1,2,    204.4,2,     0.99,2,     0.01,2,     0.00,   2,     0.03,2,    0.972,2,     1.14,2,     0.00,2,   2038.9,2,   2372.4,2,   -999.0,      9.0,9