BOTTLE,20180504PRINUNIVRMK
# 02/08/2018 Initialized README file  
# Data source: T.Tanhua 20180203, edits/additions 20180504 
# SHIP: R/V Meteor 
# Cruise: M116/1 
# Region: tropical Atlantic centered around 12N; Pointe-a-Pitre, Guadeloupe to Mindelo, Cape Verde 
# EXPOCODE: 06M320150501 
# DATES:20150501 - 20150603 
# Chief Scientist:M. Visbeck 
# 80 stations with 24 place Rosette 
# CTD: Who - S.Schmidtko; Status - final 
# 	Includes: CTDSAL, CTDOXY 
# Salinty: Who - M.Visbeck; Status - final 
# 	Notes: 	 
# Nutrients: Who - T.Tanhua; Status - final 
# 	Includes: nitrate, nitrite, silicate, phopshpate 
# 	CRM lot BW 
# O2: Who - T.Tanhua; Status - final 
# 	Notes: 
# TCO2: Who - A.Kortzonger; Status - final 
# 	Notes: CRM batch 142 & 143 
# ALKALI: Who - A.Kortzonger; Status - final 
# 	Notes: CRM batch 142 & 143 
# CFC: Who - T.Tanhua; Status - final 
# 	Notes:  includes CFC-12, SF5CF3 and SF6 
# Ar-39: Who - M.Oberthaler, S.Ebser; Status - final 
# 	Notes: reported in % modern ratio to Ar-40 
# 	measured 0n ArTTA instrument at U. Heidelberg 
# These data should be cited as: M. Visbeck (2016) Oxygen in the Tropical Atlantic OSTRE Third Tracer Survey - Cruise No. M116/1 - May 1 - June 3, 2015 - Pointe-a-Pitre (Guadeloupe) - Mindelo (Cape Verde). METEOR-Berichte, M116/1, 43 pp., DFG-Senatskommission fur Ozeanographie, DOI:10.2312/cr_m116_1 
# References that have used data from this cruise: 
EXPOCODE,STNNBR,CASTNO,BTLNBR,BEDFORD,DATE,TIME,LATITUDE,LONGITUDE,DEPTH,CTDPRS,CTDTMP,CTDSAL,CTDSAL_FLAG_W,SALNTY,SALNTY_FLAG_W,CTDOXY,CTDOXY_FLAG_W,OXYGEN,OXYGEN_FLAG_W,SILCAT,SILCAT_FLAG_W,NITRAT,NITRAT_FLAG_W,NITRIT,NITRIT_FLAG_W,PHSPHT,PHSPHT_FLAG_W,CFC-12,CFC-12_FLAG_W,SF6,SF6_FLAG_W,SF5CF3,SF5CF3_FLAG_W,TCARBN,TCARBN_FLAG_W,ALKALI,ALKALI_FLAG_W,AR-39,AR-39ER,AR-39_FLAG_W
,,,,,,,,,METERS,DBAR,ITS-90,PSS-78,,PSS-78,,UMOL/KG,,UMOL/KG,,UMOL/KG,,UMOL/KG,,UMOL/KG,,UMOL/KG,,PMOL/KG,,FMOL/KG,,FMOL/KG,,UMOL/KG,,UMOL/KG,,%Modern,%Modern,
  06M320150501,   473,  1,      1,   253001,20150502,1528, 14.5300, -57.7000, 5020,   2003.0,   3.6350,  34.9690,2,-999.0000,9,    259.8,9,   -999.0,9,  -999.00,9,  -999.00,9,  -999.00,-999,  -999.00,9, -999.000,9,     -999,9,  -999.00,9,   -999.0,9,   -999.0,9,   -999.0,      9.0,9
  06M320150501,   473,  1,      2,   253002,20150502,1528, 14.5300, -57.7000, 5020,   2003.0,   3.6360,  34.9690,2,-999.0000,9,    259.6,9,   -999.0,9,  -999.00,9,  -999.00,9,  -999.00,-999,  -999.00,9, -999.000,9,     -999,9,  -999.00,9,   -999.0,9,   -999.0,9,   -999.0,      9.0,9
  06M320150501,   473,  1,      3,   253003,20150502,1528, 14.5300, -57.7000, 5020,   2002.0,   3.6360,  34.9690,2,-999.0000,9,    259.5,9,   -999.0,9,  -999.00,9,  -999.00,9,  -999.00,-999,  -999.00,9, -999.000,9,     -999,9,  -999.00,9,   -999.0,9,   -999.0,9,   -999.0,      9.0,9
  06M320150501,   473,  1,      4,   253004,20150502,1528, 14.5300, -57.7000, 5020,   2003.0,   3.6350,  34.9690,2,-999.0000,9,    259.6,9,   -999.0,9,  -999.00,9,  -999.00,9,  -999.00,-999,  -999.00,9, -999.000,9,     -999,9,  -999.00,9,   -999.0,9,   -999.0,9,   -999.0,      9.0,9
  06M320150501,   473,  1,      5,   253005,20150502,1533, 14.5300, -57.7000, 5020,   1749.0,   4.0020,  34.9810,2,-999.0000,9,    257.0,2,    256.8,6,    13.95,6,    16.32,6,     0.01,   6,     1.11,6, -999.000,9,     -999,9,  -999.00,9,   -999.0,9,   -999.0,9,   -999.0,      9.0,9
  06M320150501,   473,  1,      6,   253006,20150502,1537, 14.5300, -57.7000, 5020,   1500.0,   4.5450,  35.0050,2,-999.0000,9,    241.6,2,    240.9,6,    14.49,2,    17.25,2,     0.00,   2,     1.23,2, -999.000,9,     -999,9,  -999.00,9,   -999.0,9,   -999.0,9,   -999.0,      9.0,9
  06M320150501,   473,  1,      7,   253007,20150502,1542, 14.5300, -57.7000, 5020,   1199.0,   5.4690,  34.9860,2,-999.0000,9,    197.7,9,   -999.0,9,    14.67,2,    17.99,2,     0.01,   2,     1.28,2, -999.000,9,     -999,9,  -999.00,9,   -999.0,9,   -999.0,9,   -999.0,      9.0,9
  06M320150501,   473,  1,      8,   253008,20150502,1543, 14.5300, -57.7000, 5020,   1100.0,   5.5450,  34.8870,2,-999.0000,9,    169.2,9,   -999.0,9,    18.62,2,    21.55,2,     0.00,   2,     1.55,2, -999.000,9,     -999,9,  -999.00,9,   -999.0,9,   -999.0,9,   -999.0,      9.0,9
  06M320150501,   473,  1,      9,   253009,20150502,1545, 14.5300, -57.7000, 5020,    998.0,   5.8190,  34.8300,2,-999.0000,9,    152.0,2,    150.9,6,    22.13,2,    25.05,2,     0.00,   2,     1.83,2, -999.000,9,     -999,9,  -999.00,9,   -999.0,9,   -999.0,9,   -999.0,      9.0,9
  06M320150501,   473,  1,     10,   253010,20150502,1546, 14.5300, -57.7000, 5020,    899.0,   6.2910,  34.8200,2,-999.0000,9,    139.3,9,   -999.0,9,    23.85,2,    27.43,2,     0.01,   2,     1.95,2, -999.000,9,     -999,9,  -999.00,9,   -999.0,9,   -999.0,9,   -999.0,      9.0,9
  06M320150501,   473,  1,     11,   253011,20150502,1548, 14.5300, -57.7000, 5020,    799.0,   6.6540,  34.7840,2,-999.0000,9,    130.9,9,   -999.0,9,    24.13,2,    28.75,2,     0.00,   2,     2.01,2, -999.000,9,     -999,9,  -999.00,9,   -999.0,9,   -999.0,9,   -999.0,      9.0,9
  06M320150501,   473,  1,     12,   253012,20150502,1550, 14.5300, -57.7000, 5020,    699.0,   7.0650,  34.7490,2,-999.0000,9,    125.0,9,   -999.0,9,    22.98,2,    28.80,2,     0.00,   2,     2.09,2, -999.000,9,     -999,9,  -999.00,9,   -999.0,9,   -999.0,9,   -999.0,      9.0,9
  06M320150501,   473,  1,     13,   253013,20150502,1551, 14.5300, -57.7000, 5020,    599.0,   8.9100,  35.0430,2,-999.0000,9,    125.6,9,   -999.0,9,    17.63,2,    26.52,2,     0.00,   2,     1.85,2, -999.000,9,     -999,9,  -999.00,9,   -999.0,9,   -999.0,9,   -999.0,      9.0,9
  06M320150501,   473,  1,     14,   253014,20150502,1553, 14.5300, -57.7000, 5020,    499.0,   9.2330,  34.9980,2,-999.0000,9,    121.5,2,    122.5,6,    16.02,2,    26.55,2,     0.00,   2,     1.84,2, -999.000,9,     -999,9,  -999.00,9,   -999.0,9,   -999.0,9,   -999.0,      9.0,9
  06M320150501,   473,  1,     15,   253015,20150502,1554, 14.5300, -57.7000, 5020,    450.0,   9.8190,  35.0720,2,-999.0000,9,    122.1,9,   -999.0,9,    14.17,2,    25.30,2,     0.00,   2,     1.74,2, -999.000,9,     -999,9,  -999.00,9,   -999.0,9,   -999.0,9,   -999.0,      9.0,9
  06M320150501,   473,  1,     16,   253016,20150502,1554, 14.5300, -57.7000, 5020,    420.0,  10.5810,  35.2030,2,-999.0000,9,    122.9,9,   -999.0,9,  -999.00,9,  -999.00,9,  -999.00,-999,  -999.00,9, -999.000,9,     -999,9,  -999.00,9,   -999.0,9,   -999.0,9,   -999.0,      9.0,9
  06M320150501,   473,  1,     17,   253017,20150502,1555, 14.5300, -57.7000, 5020,    388.0,  11.9340,  35.4500,2,-999.0000,9,    128.2,9,   -999.0,9,     9.76,6,    20.37,6,     0.01,   6,     1.37,6, -999.000,9,     -999,9,  -999.00,9,   -999.0,9,   -999.0,9,   -999.0,      9.0,9
  06M320150501,   473,  1,     18,   253018,20150502,1556, 14.5300, -57.7000, 5020,    300.0,  14.8030,  35.9330,2,-999.0000,9,    139.4,2,    136.2,6,     6.42,2,    15.65,2,     0.01,   2,     1.04,2, -999.000,9,     -999,9,  -999.00,9,   -999.0,9,   -999.0,9,   -999.0,      9.0,9
  06M320150501,   473,  1,     19,   253019,20150502,1558, 14.5300, -57.7000, 5020,    200.0,  18.8350,  36.6750,2,-999.0000,9,    156.2,9,   -999.0,9,     2.25,2,     7.45,2,     0.01,   2,     0.42,2, -999.000,9,     -999,9,  -999.00,9,   -999.0,9,   -999.0,9,   -999.0,      9.0,9
  06M320150501,   473,  1,     20,   253020,20150502,1558, 14.5300, -57.7000, 5020,    150.0,  21.8210,  37.1140,2,-999.0000,9,    174.8,9,   -999.0,9,     0.74,2,     1.62,2,     0.02,   2,     0.07,2, -999.000,9,     -999,9,  -999.00,9,   -999.0,9,   -999.0,9,   -999.0,      9.0,9
  06M320150501,   473,  1,     21,   253021,20150502,1559, 14.5300, -57.7000, 5020,     99.0,  25.2800,  37.1550,2,-999.0000,9,    203.8,2,    201.2,6,     0.69,2,     0.03,2,     0.06,   2,     0.01,2, -999.000,9,     -999,9,  -999.00,9,   -999.0,9,   -999.0,9,   -999.0,      9.0,9
  06M320150501,   473,  1,     22,   253022,20150502,1601, 14.5300, -57.7000, 5020,     51.0,  26.2540,  36.3370,2,-999.0000,9,    209.3,9,   -999.0,9,     1.54,2,     0.00,2,     0.01,   2,     0.00,2, -999.000,9,     -999,9,  -999.00,9,   -999.0,9,   -999.0,9,   -999.0,      9.0,9
  06M320150501,   473,  1,     23,   253023,20150502,1601, 14.5300, -57.7000, 5020,     20.0,  27.4770,  34.3950,2,-999.0000,9,    207.3,9,   -999.0,9,     2.48,6,     0.00,6,     0.00,   6,     0.03,6, -999.000,9,     -999,9,  -999.00,9,   -999.0,9,   -999.0,9,   -999.0,      9.0,9
  06M320150501,   473,  1,     24,   253024,20150502,1602, 14.5300, -57.7000, 5020,     11.0,  27.5230,  34.1070,2,-999.0000,9,    206.0,2,    204.3,6,     2.67,2,     0.00,2,     0.00,   2,     0.03,2, -999.000,9,     -999,9,  -999.00,9,   -999.0,9,   -999.0,9,   -999.0,      9.0,9
  06M320150501,   475,  2,      1,   253025,20150505,0103, 11.0000, -49.5000, 5036,   5026.0,   1.6810,  34.8040,2,-999.0000,9,    241.5,2,    241.6,2,    71.44,2,    24.80,2,     0.00,   2,     1.69,2, -999.000,9,     -999,9,  -999.00,9,   2212.3,2,   2345.0,2,   -999.0,      9.0,9
  06M320150501,   475,  2,      2,   253026,20150505,0105, 11.0000, -49.5000, 5036,   4923.0,   1.7590,  34.8150,2,-999.0000,9,    243.9,2,    243.6,2,    66.47,2,    24.05,2,     0.03,   2,     1.68,2,    0.103,2,        0,2,     0.00,2,   2208.6,2,   2361.2,2,   -999.0,      9.0,9
  06M320150501,   475,  2,      3,   253027,20150505,0112, 11.0000, -49.5000, 5036,   4499.0,   2.1950,  34.8710,2,-999.0000,9,    259.1,2,    259.4,6,    41.39,6,    20.19,6,     0.01,   6,     1.38,6, -999.000,9,     -999,9,  -999.00,9,   2182.0,2,   2335.9,2,   -999.0,      9.0,9
  06M320150501,   475,  2,      4,   253028,20150505,0119, 11.0000, -49.5000, 5036,   3999.0,   2.3120,  34.8890,2,-999.0000,9,    263.2,2,    263.4,2,    32.71,2,    18.80,2,     0.00,   2,     1.28,2, -999.000,9,     -999,9,  -999.00,9,   2172.4,2,   2331.9,2,   -999.0,      9.0,9
  06M320150501,   475,  2,      5,   253029,20150505,0127, 11.0000, -49.5000, 5036,   3498.0,   2.4970,  34.9020,2,-999.0000,9,    257.6,2,    258.5,2,    34.35,2,    19.66,2,     0.01,   2,     1.32,2,    0.146,2,        0,2,     0.00,2,   2175.6,2,   2332.7,2,   -999.0,      9.0,9
  06M320150501,   475,  2,      6,   253030,20150505,0135, 11.0000, -49.5000, 5036,   2999.0,   2.7360,  34.9220,2,-999.0000,9,    259.4,2,    259.8,2,    27.57,2,    18.75,2,     0.01,   2,     1.27,2, -999.000,9,     -999,9,  -999.00,9,   2163.0,2,   2331.1,2,   -999.0,      9.0,9
  06M320150501,   475,  2,      7,   253031,20150505,0142, 11.0000, -49.5000, 5036,   2499.0,   3.0590,  34.9430,2,-999.0000,9,    257.2,2,    257.6,2,    24.25,2,    18.90,2,     0.01,   2,     1.27,2,    0.144,2,        0,2,     0.00,2,   -999.0,9,   2328.2,2,   -999.0,      9.0,9
  06M320150501,   475,  2,      8,   253032,20150505,0149, 11.0000, -49.5000, 5036,   1998.0,   3.5630,  34.9630,2,-999.0000,9,    258.0,2,    259.1,6,    17.42,6,    18.19,6,     0.00,   6,     1.22,6,    0.352,2,     0.18,2,     0.00,2,   2159.0,6,   2322.1,6,   -999.0,      9.0,9
  06M320150501,   475,  2,      9,   253033,20150505,0153, 11.0000, -49.5000, 5036,   1749.0,   3.9380,  34.9770,2,-999.0000,9,    254.0,2,    254.3,2,    15.33,2,    18.24,2,     0.01,   2,     1.22,2, -999.000,9,     -999,9,  -999.00,9,   2160.5,2,   2316.7,2,   -999.0,      9.0,9
  06M320150501,   475,  2,     10,   253034,20150505,0157, 11.0000, -49.5000, 5036,   1498.0,   4.5380,  34.9950,2,-999.0000,9,    233.9,2,    234.6,2,    16.41,2,    19.82,2,     0.01,   2,     1.32,2,    0.424,2,     0.38,2,     0.00,2,   -999.0,9,   2318.1,2,   -999.0,      9.0,9
  06M320150501,   475,  2,     11,   253035,20150505,0201, 11.0000, -49.5000, 5036,   1248.0,   5.1810,  34.9320,2,-999.0000,9,    188.5,2,    187.3,2,    21.05,2,    24.83,2,     0.01,   2,     1.67,2, -999.000,9,     -999,9,  -999.00,9,   2191.0,2,   2319.6,2,   -999.0,      9.0,9
  06M320150501,   475,  2,     12,   253036,20150505,0205, 11.0000, -49.5000, 5036,    999.0,   5.3070,  34.7070,2,-999.0000,9,    143.2,2,    141.5,2,    27.46,2,    31.90,2,     0.01,   2,     2.14,2,    0.057,2,     0.18,2,     0.00,2,   2213.0,2,   2307.4,2,   -999.0,      9.0,9
  06M320150501,   475,  2,     13,   253037,20150505,0209, 11.0000, -49.5000, 5036,    749.0,   6.0650,  34.6400,2,-999.0000,9,    128.0,2,    124.9,2,    24.84,2,    33.29,2,     0.01,   2,     2.23,2,    0.188,2,        0,2,     0.00,2,   2217.9,2,   2299.6,2,   -999.0,      9.0,9
  06M320150501,   475,  2,     14,   253038,20150505,0213, 11.0000, -49.5000, 5036,    499.0,   8.4930,  34.8460,2,-999.0000,9,     99.7,2,     98.2,2,    17.45,2,    31.79,2,     0.01,   2,     2.02,2,    0.492,2,     0.27,2,     0.00,2,   -999.0,9,   2296.5,2,   -999.0,      9.0,9
  06M320150501,   475,  2,     15,   253039,20150505,0214, 11.0000, -49.5000, 5036,    440.0,   8.9830,  34.8760,2,-999.0000,9,    102.3,2,    102.1,2,    16.07,2,    30.47,2,     0.01,   2,     1.95,2, -999.000,9,     -999,9,  -999.00,9,   -999.0,9,   -999.0,9,   -999.0,      9.0,9
  06M320150501,   475,  2,     16,   253040,20150505,0215, 11.0000, -49.5000, 5036,    408.0,   9.2910,  34.9080,2,-999.0000,9,    101.0,2,    102.6,2,    15.65,2,    29.93,2,     0.02,   2,     1.89,2, -999.000,9,     -999,9,  -999.00,9,   2210.3,2,   2300.8,6,   -999.0,      9.0,9
  06M320150501,   475,  2,     17,   253041,20150505,0215, 11.0000, -49.5000, 5036,    379.0,   9.6220,  34.9450,2,-999.0000,9,    101.8,2,    101.0,2,    14.35,2,    29.20,2,     0.01,   2,     1.88,2, -999.000,9,     -999,9,  -999.00,9,   -999.0,9,   -999.0,9,   -999.0,      9.0,9
  06M320150501,   475,  2,     18,   253042,20150505,0216, 11.0000, -49.5000, 5036,    299.0,  10.5720,  35.0540,2,-999.0000,9,     98.4,2,     99.0,6,    12.42,6,    27.70,6,     0.02,   6,     1.75,6,    0.875,2,      0.4,2,     0.00,2,   2207.0,2,   2304.4,2,   -999.0,      9.0,9
  06M320150501,   475,  2,     19,   253043,20150505,0218, 11.0000, -49.5000, 5036,    199.0,  12.5900,  35.3530,2,-999.0000,9,     91.4,2,     88.7,2,     9.77,2,    25.35,2,     0.03,   2,     1.58,2,    1.027,2,     0.65,2,     0.00,2,   2206.9,2,   2317.1,2,   -999.0,      9.0,9
  06M320150501,   475,  2,     20,   253044,20150505,0219, 11.0000, -49.5000, 5036,    148.0,  15.1780,  35.8160,2,-999.0000,9,    106.7,2,    105.6,2,     6.81,2,    19.27,2,     0.04,   2,     1.18,2,    1.133,2,     0.84,2,     0.00,2,   -999.0,9,   2342.2,2,   -999.0,      9.0,9
  06M320150501,   475,  2,     21,   253045,20150505,0220, 11.0000, -49.5000, 5036,    100.0,  21.1900,  36.6540,2,-999.0000,9,    153.6,2,    150.2,2,     2.31,2,     6.39,2,     0.09,   2,     0.35,2,    1.137,2,     1.23,2,     0.00,2,   2146.7,2,   2389.2,2,   -999.0,      9.0,9
  06M320150501,   475,  2,     22,   253046,20150505,0221, 11.0000, -49.5000, 5036,     50.0,  26.1290,  36.2940,2,-999.0000,9,    208.9,2,    207.0,2,     1.09,2,     0.05,2,     0.01,   2,     0.02,2,    0.979,2,     1.26,2,     0.00,2,   2035.9,2,   2373.0,2,   -999.0,      9.0,9
  06M320150501,   475,  2,     23,   253047,20150505,0222, 11.0000, -49.5000, 5036,     20.0,  26.1790,  36.2980,2,-999.0000,9,    207.5,2,    206.8,2,     1.09,2,     0.04,2,     0.02,   2,     0.01,2, -999.000,9,     -999,9,  -999.00,9,   2037.6,2,   2373.1,2,   -999.0,      9.0,9
  06M320150501,   475,  2,     24,   253048,20150505,0222, 11.0000, -49.5000, 5036,     10.0,  26.1800,  36.2980,2,-999.0000,9,    206.6,2,    205.4,2,     1.07,2,     0.04,2,     0.02,   2,     0.00,2,    0.959,2,     1.36,2,     0.00,2,   2037.9,2,   2370.4,2,   -999.0,      9.0,9