BOTTLE,20180504PRINUNIVRMK
EXPOCODE,STNNBR,CASTNO,BTLNBR,BEDFORD,DATE,TIME,LATITUDE,LONGITUDE,DEPTH,CTDPRS,CTDTMP,CTDSAL,CTDSAL_FLAG_W,SALNTY,SALNTY_FLAG_W,CTDOXY,CTDOXY_FLAG_W,OXYGEN,OXYGEN_FLAG_W,SILCAT,SILCAT_FLAG_W,NITRAT,NITRAT_FLAG_W,NITRIT,NITRIT_FLAG_W,PHSPHT,PHSPHT_FLAG_W,CFC-12,CFC-12_FLAG_W,SF6,SF6_FLAG_W,SF5CF3,SF5CF3_FLAG_W,TCARBN,TCARBN_FLAG_W,ALKALI,ALKALI_FLAG_W,AR-39,AR-39ER,AR-39_FLAG_W
,,,,,,,,,METERS,DBAR,ITS-90,PSS-78,,PSS-78,,UMOL/KG,,UMOL/KG,,UMOL/KG,,UMOL/KG,,UMOL/KG,,UMOL/KG,,PMOL/KG,,FMOL/KG,,FMOL/KG,,UMOL/KG,,UMOL/KG,,%Modern,%Modern,
  06M320150501,   512, 39,      1,   253862,20150519,1449, 14.0000, -28.0000, 5175,   1220.0,   5.1900,  34.9500,2,  34.9480,2,    167.9,2,    166.2,2,    23.04,6,    27.76,6,     0.00,   6,     1.83,6,    0.020,2,        0,2,     0.00,2,   2206.6,6,   2326.4,6,   -999.0,      9.0,9
  06M320150501,   512, 39,      2,   253863,20150519,1451, 14.0000, -28.0000, 5175,   1100.0,   5.5540,  34.9110,2,  34.9110,2,    145.3,2,    144.9,2,    24.01,2,    30.38,2,     0.00,   2,     1.99,2,    0.016,2,        0,2,     0.00,2,   -999.0,9,   -999.0,9,   -999.0,      9.0,9
  06M320150501,   512, 39,      3,   253864,20150519,1453, 14.0000, -28.0000, 5175,   1000.0,   5.9190,  34.8810,2,-999.0000,9,    127.6,2,    127.5,2,    24.25,2,    32.36,2,     0.00,   2,     2.11,2,    0.020,2,        0,2,     0.00,2,   2223.1,2,   2318.9,2,   -999.0,      9.0,9
  06M320150501,   512, 39,      4,   253865,20150519,1454, 14.0000, -28.0000, 5175,    900.0,   6.3070,  34.8590,2,-999.0000,9,    113.2,2,    112.2,2,    24.15,2,    33.91,2,     0.00,   2,     2.19,2,    0.029,2,        0,2,     0.00,2,   -999.0,9,   -999.0,9,   -999.0,      9.0,9
  06M320150501,   512, 39,      5,   253866,20150519,1456, 14.0000, -28.0000, 5175,    799.0,   6.7720,  34.8490,2,  34.8510,2,     96.1,2,     95.4,2,    23.17,2,    35.46,2,     0.00,   2,     2.26,2,    0.055,2,        0,2,     0.00,2,   2235.7,6,   2313.0,6,   -999.0,      9.0,9
  06M320150501,   512, 39,      6,   253867,20150519,1459, 14.0000, -28.0000, 5175,    700.0,   7.3590,  34.8810,2,-999.0000,9,     81.9,2,     81.1,2,    21.56,2,    36.29,2,     0.00,   2,     2.27,2,    0.093,2,        0,2,     0.00,2,   -999.0,9,   -999.0,9,   -999.0,      9.0,9
  06M320150501,   512, 39,      7,   253868,20150519,1501, 14.0000, -28.0000, 5175,    600.0,   8.4030,  34.9830,2,-999.0000,9,     70.9,2,     70.5,6,    18.76,2,    35.54,2,     0.00,   2,     2.19,2,    0.196,2,     0.14,2,     0.00,2,   2240.5,2,   2309.5,2,   -999.0,      9.0,9
  06M320150501,   512, 39,      8,   253869,20150519,1502, 14.0000, -28.0000, 5175,    501.0,   9.3200,  35.0720,2,-999.0000,9,     66.5,2,     67.0,2,    16.31,2,    34.28,2,     0.01,   2,     2.07,2,    0.327,6,      0.3,6,     0.00,6,   2238.6,2,   2315.8,2,   -999.0,      9.0,9
  06M320150501,   512, 39,      9,   253870,20150519,1503, 14.0000, -28.0000, 5175,    460.0,   9.6870,  35.0990,2,-999.0000,9,     65.8,2,     65.8,2,    15.23,2,    33.52,2,     0.00,   2,     2.01,2,    0.415,6,     0.53,6,     0.00,6,   -999.0,9,   -999.0,9,   -999.0,      9.0,9
  06M320150501,   512, 39,     10,   253871,20150519,1504, 14.0000, -28.0000, 5175,    429.0,   9.9470,  35.1290,2,-999.0000,9,     62.6,2,     62.9,2,    14.62,2,    33.29,2,     0.01,   2,     1.99,2,    0.446,6,     0.36,6,     0.07,6,   2237.5,2,   2313.0,2,   -999.0,      9.0,9
  06M320150501,   512, 39,     11,   253872,20150519,1504, 14.0000, -28.0000, 5175,    400.0,  10.1990,  35.1580,2,-999.0000,9,     61.4,2,     63.3,2,    14.10,2,    33.12,2,     0.00,   2,     1.96,2,    0.478,6,     0.23,6,     0.22,6,   -999.0,9,   -999.0,9,   -999.0,      9.0,9
  06M320150501,   512, 39,     12,   253873,20150519,1505, 14.0000, -28.0000, 5175,    369.0,  10.4040,  35.1720,2,-999.0000,9,     62.2,2,     63.3,2,    13.46,6,    32.42,6,     0.00,   6,     1.93,6,    0.566,6,     0.58,6,     0.14,6,   2236.2,2,   2315.6,2,   -999.0,      9.0,9
  06M320150501,   512, 39,     13,   253874,20150519,1505, 14.0000, -28.0000, 5175,    340.0,  10.6360,  35.1900,2,-999.0000,9,     71.2,2,     73.7,2,    12.78,2,    30.92,2,     0.00,   2,     1.84,2,    0.624,6,     0.44,6,     0.04,6,   -999.0,9,   -999.0,9,   -999.0,      9.0,9
  06M320150501,   512, 39,     14,   253875,20150519,1506, 14.0000, -28.0000, 5175,    310.0,  11.0180,  35.2370,2,-999.0000,9,     65.2,2,     68.6,2,    12.02,2,    30.65,2,     0.00,   2,     1.82,2,    0.679,6,     0.56,6,     0.12,6,   2231.0,2,   2316.5,2,   -999.0,      9.0,9
  06M320150501,   512, 39,     15,   253876,20150519,1506, 14.0000, -28.0000, 5175,    279.0,  11.1850,  35.2410,2,-999.0000,9,     71.2,2,     74.6,2,    11.52,2,    29.64,2,     0.00,   2,     1.78,2,    0.739,6,     0.71,6,     0.20,6,   -999.0,9,   -999.0,9,   -999.0,      9.0,9
  06M320150501,   512, 39,     16,   253877,20150519,1507, 14.0000, -28.0000, 5175,    250.0,  11.6060,  35.3010,2,-999.0000,9,     78.5,2,     80.0,2,    10.75,2,    28.20,2,     0.00,   2,     1.69,2,    0.832,6,     0.67,6,     0.21,6,   -999.0,9,   -999.0,9,   -999.0,      9.0,9
  06M320150501,   512, 39,     17,   253878,20150519,1507, 14.0000, -28.0000, 5175,    220.0,  12.1230,  35.3890,2,-999.0000,9,     80.7,2,     83.3,2,     9.88,2,    26.86,2,     0.00,   2,     1.62,2,    0.900,6,     0.62,6,     0.24,6,   -999.0,9,   -999.0,9,   -999.0,      9.0,9
  06M320150501,   512, 39,     18,   253879,20150519,1508, 14.0000, -28.0000, 5175,    150.0,  13.9420,  35.7170,2,-999.0000,9,     83.8,2,     83.0,2,     7.87,2,    24.02,2,     0.01,   2,     1.42,2,    1.024,6,     0.78,6,     0.04,6,   2216.3,2,   2337.1,2,   -999.0,      9.0,9
  06M320150501,   512, 39,     19,   253880,20150519,1509, 14.0000, -28.0000, 5175,    102.0,  15.8060,  36.0210,2,-999.0000,9,     94.8,3,     95.0,2,     5.44,6,    19.71,6,     0.03,   6,     1.15,6,    1.152,6,     1.15,6,     0.00,6,   2206.8,2,   2357.4,2,   -999.0,      9.0,9
  06M320150501,   512, 39,     20,   253881,20150519,1511, 14.0000, -28.0000, 5175,     52.0,  20.5780,  36.3050,2,-999.0000,9,    189.8,2,    161.6,2,     2.30,2,     6.72,2,     0.13,   2,     0.48,2,    1.149,6,     1.42,6,     0.00,6,   2149.3,2,   2380.3,2,   -999.0,      9.0,9
  06M320150501,   512, 39,     21,   253882,20150519,1513, 14.0000, -28.0000, 5175,     21.0,  24.2440,  36.0070,2,-999.0000,9,    211.9,2,    214.7,6,     0.78,2,     0.04,2,     0.00,   2,     0.03,2,    1.041,6,     1.61,6,     0.00,6,   2044.0,2,   2359.9,2,   -999.0,      9.0,9
  06M320150501,   512, 39,     22,   253883,20150519,1513, 14.0000, -28.0000, 5175,     12.0,  24.3980,  36.0120,2,-999.0000,9,    213.8,2,    213.8,2,     0.79,2,     0.00,2,     0.00,   2,     0.03,2,    1.045,6,     1.61,6,     0.00,6,   2046.2,2,   2359.9,2,   -999.0,      9.0,9
  06M320150501,   513, 40,      1,   253884,20150520,0806, 11.0000, -27.0000, 5599,   1201.0,   5.0460,  34.9030,2,  34.9010,2,    164.6,2,    163.7,2,    24.05,2,    28.52,2,     0.00,   2,     1.88,2, -999.000,9,     -999,9,  -999.00,9,   2206.3,6,   2321.0,6,   -999.0,      9.0,9
  06M320150501,   513, 40,      2,   253885,20150520,0808, 11.0000, -27.0000, 5599,   1099.0,   5.2850,  34.8650,2,  34.8650,2,    148.0,2,    146.4,2,    25.00,2,    30.29,2,     0.00,   2,     2.03,2,    0.013,2,        0,2,     0.00,2,   -999.0,9,   -999.0,9,   -999.0,      9.0,9
  06M320150501,   513, 40,      3,   253886,20150520,0809, 11.0000, -27.0000, 5599,    999.0,   5.5050,  34.8060,2,-999.0000,9,    130.3,2,    130.9,2,    26.11,2,    32.92,2,     0.00,   2,     2.17,2,    0.015,2,        0,2,     0.00,2,   2222.3,2,   2317.3,2,   -999.0,      9.0,9
  06M320150501,   513, 40,      4,   253887,20150520,0811, 11.0000, -27.0000, 5599,    900.0,   5.8880,  34.7750,2,-999.0000,9,    113.6,2,    112.3,6,    25.94,6,    34.79,6,     0.00,   6,     2.29,6,    0.025,2,        0,2,     0.00,2,   -999.0,9,   -999.0,9,   -999.0,      9.0,9
  06M320150501,   513, 40,      5,   253888,20150520,0813, 11.0000, -27.0000, 5599,    799.0,   6.3750,  34.7750,2,-999.0000,9,     94.0,2,     94.7,2,    24.96,2,    36.28,2,     0.00,   2,     2.36,2,    0.035,2,     0.15,2,     0.00,2,   2235.3,6,   2308.4,6,   -999.0,      9.0,9
  06M320150501,   513, 40,      6,   253889,20150520,0814, 11.0000, -27.0000, 5599,    699.0,   7.3670,  34.8580,2,-999.0000,9,     74.4,2,     75.0,2,    22.02,2,    37.17,2,     0.00,   2,     2.34,2,    0.090,2,     0.12,2,     0.00,2,   -999.0,9,   -999.0,9,   -999.0,      9.0,9
  06M320150501,   513, 40,      7,   253890,20150520,0816, 11.0000, -27.0000, 5599,    599.0,   8.7060,  34.9930,2,-999.0000,9,     57.7,2,     59.4,2,    18.63,2,    36.79,2,     0.00,   2,     2.26,2,    0.196,6,     0.22,6,     0.00,6,   2246.9,2,   2311.6,2,   -999.0,      9.0,9
  06M320150501,   513, 40,      8,   253891,20150520,0817, 11.0000, -27.0000, 5599,    559.0,   9.0950,  35.0260,2,-999.0000,9,     55.0,2,     54.7,2,    17.46,2,    36.19,2,     0.00,   2,     2.21,2, -999.000,9,     -999,9,     0.00,2,   2240.1,2,   2304.8,2,   -999.0,      9.0,9
  06M320150501,   513, 40,      9,   253892,20150520,0817, 11.0000, -27.0000, 5599,    529.0,   9.3800,  35.0530,2,-999.0000,9,     50.4,2,     50.0,2,    16.69,2,    36.18,2,     0.01,   2,     2.18,2, -999.000,9,     -999,9,     0.16,2,   -999.0,9,   -999.0,9,   -999.0,      9.0,9
  06M320150501,   513, 40,     10,   253893,20150520,0818, 11.0000, -27.0000, 5599,    500.0,   9.7100,  35.0880,2,-999.0000,9,     47.6,2,     47.4,2,    15.89,2,    35.67,2,     0.00,   2,     2.14,2,    0.339,6,      0.3,6,     1.03,6,   2248.0,2,   2302.4,2,   -999.0,      9.0,9
  06M320150501,   513, 40,     11,   253894,20150520,0818, 11.0000, -27.0000, 5599,    469.0,  10.0030,  35.1080,2,-999.0000,9,     44.2,2,     43.8,2,    15.25,2,    35.56,2,     0.01,   2,     2.12,2, -999.000,9,     -999,9,     2.75,2,   -999.0,9,   -999.0,9,   -999.0,      9.0,9
  06M320150501,   513, 40,     12,   253895,20150520,0819, 11.0000, -27.0000, 5599,    439.0,  10.3320,  35.1420,2,-999.0000,9,     44.6,2,     45.4,2,    14.43,2,    34.79,2,     0.00,   2,     2.06,2,    0.457,6,     0.34,6,     3.00,6,   2245.1,2,   2312.1,2,   -999.0,      9.0,9
  06M320150501,   513, 40,     13,   253896,20150520,0819, 11.0000, -27.0000, 5599,    409.0,  10.7020,  35.1650,2,-999.0000,9,     46.7,2,     45.6,6,    13.69,6,    34.08,6,     0.00,   6,     2.02,6, -999.000,9,     -999,9,     1.93,2,   -999.0,9,   -999.0,9,   -999.0,      9.0,9
  06M320150501,   513, 40,     14,   253897,20150520,0820, 11.0000, -27.0000, 5599,    379.0,  10.8320,  35.1260,2,-999.0000,9,     55.2,2,     50.6,2,    13.22,2,    33.30,2,     0.00,   2,     1.98,2,    0.623,6,     0.39,6,     1.04,6,   2239.2,2,   2311.8,2,   -999.0,      9.0,9
  06M320150501,   513, 40,     15,   253898,20150520,0820, 11.0000, -27.0000, 5599,    348.0,  10.8770,  35.0800,2,-999.0000,9,     70.6,2,     71.3,2,    12.60,2,    31.03,2,     0.00,   2,     1.88,2, -999.000,9,     -999,9,     0.69,2,   -999.0,9,   -999.0,9,   -999.0,      9.0,9
  06M320150501,   513, 40,     16,   253899,20150520,0821, 11.0000, -27.0000, 5599,    320.0,  11.0890,  35.0890,2,-999.0000,9,     81.4,2,     83.5,2,    11.85,2,    29.20,2,     0.00,   2,     1.80,2,    0.849,6,     0.67,6,     0.48,6,   -999.0,9,   -999.0,9,   -999.0,      9.0,9
  06M320150501,   513, 40,     17,   253900,20150520,0821, 11.0000, -27.0000, 5599,    289.0,  11.4770,  35.1220,2,-999.0000,9,     95.3,2,     95.0,2,    11.06,2,    27.27,2,     0.01,   2,     1.69,2,    0.937,2,     0.59,2,     0.19,2,   2209.6,2,   2315.4,2,   -999.0,      9.0,9
  06M320150501,   513, 40,     18,   253901,20150520,0824, 11.0000, -27.0000, 5599,    150.0,  13.5230,  35.3660,2,-999.0000,9,    118.3,2,    118.2,6,     8.06,6,    21.21,6,     0.02,   6,     1.35,6,    1.160,2,     1.06,2,     0.00,2,   2179.6,2,   2272.4,3,   -999.0,      9.0,9
  06M320150501,   513, 40,     19,   253902,20150520,0824, 11.0000, -27.0000, 5599,     99.0,  15.1830,  35.5460,2,-999.0000,9,     97.9,2,    100.4,2,     7.15,2,    21.32,2,     0.03,   2,     1.32,2,    1.155,2,     0.95,2,     0.00,2,   2191.2,2,   2328.2,2,   -999.0,      9.0,9
  06M320150501,   513, 40,     20,   253903,20150520,0826, 11.0000, -27.0000, 5599,     51.0,  24.7390,  36.0570,2,-999.0000,9,    213.8,3,    191.1,2,     1.91,2,     2.39,2,     0.05,   2,     0.19,2,    1.059,2,     1.33,2,     0.00,2,   2066.7,2,   2359.1,2,   -999.0,      9.0,9
  06M320150501,   513, 40,     21,   253904,20150520,0827, 11.0000, -27.0000, 5599,     21.0,  25.8590,  36.1210,2,-999.0000,9,    206.6,2,    209.5,2,     1.22,2,     0.02,2,     0.00,   2,     0.02,2,    0.996,2,     1.49,2,     0.00,2,   2036.0,2,   2365.8,2,   -999.0,      9.0,9
  06M320150501,   513, 40,     22,   253905,20150520,0827, 11.0000, -27.0000, 5599,      6.0,  25.7890,  35.9940,2,  36.0110,2,    206.7,2,    207.7,2,     0.97,2,     0.00,2,     0.00,   2,     0.03,2,    1.003,2,     1.59,2,     0.00,2,   2039.1,2,   2356.7,2,   -999.0,      9.0,9
  06M320150501,   514, 41,      1,   253906,20150520,1423, 11.0000, -26.0000, 5439,   1213.0,   5.0310,  34.9220,2,  34.9200,2,    168.5,2,    167.7,6,    24.17,2,    27.68,2,     0.00,   2,     1.85,2,    0.022,2,        0,2,     0.00,2,   2205.6,6,   2326.3,6,   -999.0,      9.0,9
  06M320150501,   514, 41,      2,   253907,20150520,1425, 11.0000, -26.0000, 5439,   1097.0,   5.2560,  34.8800,2,  34.8790,2,    150.6,2,    151.0,2,    25.21,2,    30.00,2,     0.00,   2,     2.00,2,    0.017,2,        0,2,     0.00,2,   -999.0,9,   -999.0,9,   -999.0,      9.0,9
  06M320150501,   514, 41,      3,   253908,20150520,1427, 11.0000, -26.0000, 5439,   1000.0,   5.5660,  34.8340,2,-999.0000,9,    129.0,2,    129.1,2,    26.23,6,    32.61,6,     0.00,   6,     2.16,6,    0.012,2,        0,2,     0.00,2,   2224.8,2,   2318.2,2,   -999.0,      9.0,9
  06M320150501,   514, 41,      4,   253909,20150520,1429, 11.0000, -26.0000, 5439,    901.0,   5.8760,  34.7870,2,-999.0000,9,    114.1,2,    113.9,2,    26.40,2,    34.69,2,     0.00,   2,     2.27,2,    0.017,2,        0,2,     0.00,2,   -999.0,9,   -999.0,9,   -999.0,      9.0,9
  06M320150501,   514, 41,      5,   253910,20150520,1431, 11.0000, -26.0000, 5439,    799.0,   6.3020,  34.7720,2,-999.0000,9,    101.2,2,    101.2,2,    25.42,2,    35.49,2,     0.00,   2,     2.32,2,    0.039,2,        0,2,     0.00,2,   2234.8,6,   2309.8,6,   -999.0,      9.0,9
  06M320150501,   514, 41,      6,   253911,20150520,1432, 11.0000, -26.0000, 5439,    698.0,   7.0760,  34.8240,2,-999.0000,9,     81.4,2,     80.8,2,    23.02,2,    36.63,2,     0.00,   2,     2.34,2,    0.079,2,     0.07,2,     0.00,2,   -999.0,9,   -999.0,9,   -999.0,      9.0,9
  06M320150501,   514, 41,      7,   253912,20150520,1434, 11.0000, -26.0000, 5439,    599.0,   8.3360,  34.9560,2,-999.0000,9,     57.6,2,     57.5,2,    19.99,2,    36.76,2,     0.00,   2,     2.31,2,    0.173,2,        0,2,     0.00,2,   2251.2,2,   2307.9,2,   -999.0,      9.0,9
  06M320150501,   514, 41,      8,   253913,20150520,1434, 11.0000, -26.0000, 5439,    579.0,   8.6420,  34.9960,2,-999.0000,9,     55.8,2,     55.7,2,    19.25,2,    36.66,2,     0.00,   2,     2.28,2,    0.202,6,     0.19,6,     0.00,6,   2250.2,2,   2311.8,2,   -999.0,      9.0,9
  06M320150501,   514, 41,      9,   253914,20150520,1435, 11.0000, -26.0000, 5439,    549.0,   9.0250,  35.0290,2,-999.0000,9,     52.2,2,     55.8,2,    18.26,2,    35.50,2,     0.00,   2,     2.24,2,    0.251,6,     0.21,6,     0.01,6,   -999.0,9,   -999.0,9,   -999.0,      9.0,9
  06M320150501,   514, 41,     10,   253915,20150520,1435, 11.0000, -26.0000, 5439,    520.0,   9.3550,  35.0560,2,-999.0000,9,     47.6,2,     47.5,2,    17.47,2,    36.18,2,     0.00,   2,     2.21,2,    0.287,6,     0.48,6,     0.40,6,   2252.2,2,   2309.4,2,   -999.0,      9.0,9
  06M320150501,   514, 41,     11,   253916,20150520,1436, 11.0000, -26.0000, 5439,    489.0,   9.6630,  35.0860,2,-999.0000,9,     44.6,2,     44.8,2,    16.96,2,    36.02,2,     0.00,   2,     2.18,2,    0.322,6,     0.25,6,     1.41,6,   -999.0,9,   -999.0,9,   -999.0,      9.0,9
  06M320150501,   514, 41,     12,   253917,20150520,1436, 11.0000, -26.0000, 5439,    460.0,  10.0980,  35.1240,2,-999.0000,9,     41.7,2,     42.1,2,    16.17,2,    35.37,2,     0.00,   2,     2.14,2,    0.377,6,     0.43,6,     3.20,6,   2250.9,2,   2311.9,2,   -999.0,      9.0,9
  06M320150501,   514, 41,     13,   253918,20150520,1437, 11.0000, -26.0000, 5439,    430.0,  10.4510,  35.1530,2,-999.0000,9,     40.8,2,     41.6,6,    15.04,2,    34.79,2,     0.00,   2,     2.08,2,    0.467,6,     0.33,6,     4.29,6,   -999.0,9,   -999.0,9,   -999.0,      9.0,9
  06M320150501,   514, 41,     14,   253919,20150520,1437, 11.0000, -26.0000, 5439,    420.0,  10.5680,  35.1580,2,-999.0000,9,     39.7,2,     40.1,2,    14.66,6,    34.55,6,     0.00,   6,     2.07,6,    0.494,6,     0.42,6,     3.93,6,   2248.4,2,   2313.5,2,   -999.0,      9.0,9
  06M320150501,   514, 41,     15,   253920,20150520,1437, 11.0000, -26.0000, 5439,    399.0,  10.7290,  35.1640,2,-999.0000,9,     40.4,2,     42.2,2,    14.23,2,    34.11,2,     0.00,   2,     2.04,2,    0.525,6,     0.38,6,     2.48,6,   -999.0,9,   -999.0,9,   -999.0,      9.0,9
  06M320150501,   514, 41,     16,   253921,20150520,1438, 11.0000, -26.0000, 5439,    369.0,  11.0010,  35.1520,2,-999.0000,9,     51.7,2,     52.2,2,    13.41,2,    33.14,2,     0.00,   2,     1.96,2,    0.637,6,      0.6,6,     0.88,6,   -999.0,9,   -999.0,9,   -999.0,      9.0,9
  06M320150501,   514, 41,     17,   253922,20150520,1438, 11.0000, -26.0000, 5439,    340.0,  11.2000,  35.1520,2,-999.0000,9,     64.1,2,     64.8,2,    12.68,2,    30.80,2,     0.00,   2,     1.87,2,    0.752,6,     0.61,6,     0.75,6,   2233.1,2,   2310.7,2,   -999.0,      9.0,9
  06M320150501,   514, 41,     18,   253923,20150520,1439, 11.0000, -26.0000, 5439,    310.0,  11.3030,  35.1420,2,-999.0000,9,     62.7,2,     63.8,2,    12.49,2,    30.66,2,     0.00,   2,     1.87,2,    0.782,6,     0.58,6,     0.66,6,   2230.3,2,   2313.9,2,   -999.0,      9.0,9
  06M320150501,   514, 41,     19,   253924,20150520,1441, 11.0000, -26.0000, 5439,    150.0,  13.0120,  35.2940,2,-999.0000,9,     94.4,2,     98.7,2,     9.42,2,    24.03,2,     0.01,   2,     1.53,2,    1.093,2,     0.87,2,     0.00,2,   2202.5,2,   2319.0,2,   -999.0,      9.0,9
  06M320150501,   514, 41,     20,   253925,20150520,1442, 11.0000, -26.0000, 5439,     99.0,  14.4230,  35.4600,2,-999.0000,9,     81.7,2,     84.0,2,     8.17,2,    23.65,2,     0.02,   2,     1.48,2,    1.147,2,     1.04,2,     0.00,2,   2207.6,2,   -999.0,9,   -999.0,      9.0,9
  06M320150501,   514, 41,     21,   253926,20150520,1444, 11.0000, -26.0000, 5439,     51.0,  22.6330,  35.9780,2,-999.0000,9,    203.7,3,    152.5,2,     3.82,2,     8.73,2,     0.12,   2,     0.64,2,    1.090,2,     1.11,2,     0.00,2,   2122.7,2,   2348.8,2,   -999.0,      9.0,9
  06M320150501,   514, 41,     22,   253927,20150520,1444, 11.0000, -26.0000, 5439,     21.0,  25.0360,  36.0210,2,-999.0000,9,    212.1,2,    211.1,2,     1.57,2,     0.48,2,     0.01,   2,     0.06,2,    1.020,2,     1.57,2,     0.00,2,   2044.6,2,   2359.7,2,   -999.0,      9.0,9
  06M320150501,   514, 41,     23,   253928,20150520,1445, 11.0000, -26.0000, 5439,     10.0,  25.4410,  36.0440,2,  36.0350,2,    211.6,2,    211.8,2,     1.44,2,     0.00,2,     0.00,   2,     0.03,2,    1.020,2,     1.58,2,     0.00,2,   2042.3,2,   2362.5,2,   -999.0,      9.0,9