BOTTLE,20180504PRINUNIVRMK
EXPOCODE,STNNBR,CASTNO,BTLNBR,BEDFORD,DATE,TIME,LATITUDE,LONGITUDE,DEPTH,CTDPRS,CTDTMP,CTDSAL,CTDSAL_FLAG_W,SALNTY,SALNTY_FLAG_W,CTDOXY,CTDOXY_FLAG_W,OXYGEN,OXYGEN_FLAG_W,SILCAT,SILCAT_FLAG_W,NITRAT,NITRAT_FLAG_W,NITRIT,NITRIT_FLAG_W,PHSPHT,PHSPHT_FLAG_W,CFC-12,CFC-12_FLAG_W,SF6,SF6_FLAG_W,SF5CF3,SF5CF3_FLAG_W,TCARBN,TCARBN_FLAG_W,ALKALI,ALKALI_FLAG_W,AR-39,AR-39ER,AR-39_FLAG_W
,,,,,,,,,METERS,DBAR,ITS-90,PSS-78,,PSS-78,,UMOL/KG,,UMOL/KG,,UMOL/KG,,UMOL/KG,,UMOL/KG,,UMOL/KG,,PMOL/KG,,FMOL/KG,,FMOL/KG,,UMOL/KG,,UMOL/KG,,%Modern,%Modern,
  06M320150501,   520, 47,      1,   254043,20150522,0959, 10.0000, -23.0000, 5366,   1202.0,   4.8200,  34.8560,2,  34.8540,2,    164.3,2,    163.8,2,    24.80,2,    29.09,2,     0.00,   2,     1.95,2,    0.009,2,        0,2,     0.00,2,   2210.3,6,   2318.4,6,   -999.0,      9.0,9
  06M320150501,   520, 47,      2,   254044,20150522,1002, 10.0000, -23.0000, 5366,   1099.0,   5.0080,  34.8130,2,-999.0000,9,    148.6,2,    148.9,2,    25.87,6,    31.03,6,     0.01,   6,     2.08,6,    0.007,2,        0,2,     0.00,2,   -999.0,9,   -999.0,9,   -999.0,      9.0,9
  06M320150501,   520, 47,      3,   254045,20150522,1004, 10.0000, -23.0000, 5366,    999.0,   5.3120,  34.7670,2,-999.0000,9,    130.4,2,    130.5,2,    26.82,2,    33.20,2,     0.01,   2,     2.23,2,    0.014,2,        0,2,     0.00,2,   2225.0,2,   2314.2,2,   -999.0,      9.0,9
  06M320150501,   520, 47,      4,   254046,20150522,1006, 10.0000, -23.0000, 5366,    898.0,   5.5830,  34.7200,2,-999.0000,9,    114.7,2,    115.6,2,    26.89,2,    35.04,2,     0.00,   2,     2.34,2,    0.015,2,        0,2,     0.00,2,   -999.0,9,   -999.0,9,   -999.0,      9.0,9
  06M320150501,   520, 47,      5,   254047,20150522,1007, 10.0000, -23.0000, 5366,    799.0,   6.0280,  34.7150,2,  34.7140,2,     98.9,2,     98.1,6,    25.80,2,    36.62,2,     0.00,   2,     2.41,2,    0.031,2,        0,2,     0.00,2,   2238.5,6,   2306.5,6,   -999.0,      9.0,9
  06M320150501,   520, 47,      6,   254048,20150522,1011, 10.0000, -23.0000, 5366,    700.0,   6.6850,  34.7540,2,-999.0000,9,     81.7,2,     83.2,2,    24.00,2,    37.38,2,     0.01,   2,     2.43,2,    0.059,2,        0,2,     0.00,2,   -999.0,9,   -999.0,9,   -999.0,      9.0,9
  06M320150501,   520, 47,      7,   254049,20150522,1013, 10.0000, -23.0000, 5366,    599.0,   7.6670,  34.8500,2,-999.0000,9,     63.7,2,     63.3,2,    20.96,2,    37.55,2,     0.00,   2,     2.40,2,    0.126,2,     0.15,2,     0.00,2,   2247.4,2,   2305.1,2,   -999.0,      9.0,9
  06M320150501,   520, 47,      8,   254050,20150522,1015, 10.0000, -23.0000, 5366,    510.0,   8.6810,  34.9560,2,-999.0000,9,     50.3,2,     51.3,2,    18.33,2,    37.07,2,     0.00,   2,     2.32,2,    0.215,2,     0.27,2,     0.20,2,   2250.9,2,   2308.9,2,   -999.0,      9.0,9
  06M320150501,   520, 47,      9,   254051,20150522,1015, 10.0000, -23.0000, 5366,    479.0,   8.9930,  34.9820,2,  34.9810,2,     46.8,2,     46.3,2,    17.60,2,    36.75,2,     0.01,   2,     2.29,2, -999.000,9,     -999,9,     1.10,2,   -999.0,9,   -999.0,9,   -999.0,      9.0,9
  06M320150501,   520, 47,     10,   254052,20150522,1016, 10.0000, -23.0000, 5366,    449.0,   9.5590,  35.0570,2,-999.0000,9,     42.1,9,   -999.0,9,    16.54,2,    36.14,2,     0.01,   2,     2.23,2,    0.312,6,     0.19,6,     2.82,6,   2252.5,2,   2284.6,3,   -999.0,      9.0,9
  06M320150501,   520, 47,     11,   254053,20150522,1016, 10.0000, -23.0000, 5366,    419.0,  10.0210,  35.1120,2,-999.0000,9,     40.0,2,     39.7,2,    15.46,2,    35.50,2,     0.00,   2,     2.17,2, -999.000,9,     -999,9,     3.96,2,   -999.0,9,   -999.0,9,   -999.0,      9.0,9
  06M320150501,   520, 47,     12,   254054,20150522,1017, 10.0000, -23.0000, 5366,    391.0,  10.3600,  35.1400,2,-999.0000,9,     39.6,2,     40.8,6,    14.82,6,    34.89,6,     0.01,   6,     2.13,6,    0.452,6,     0.29,6,     3.07,6,   2251.7,2,   2309.1,2,   -999.0,      9.0,9
  06M320150501,   520, 47,     13,   254055,20150522,1018, 10.0000, -23.0000, 5366,    360.0,  10.8200,  35.1900,2,-999.0000,9,     39.9,9,   -999.0,9,    13.55,2,    33.70,2,     0.01,   2,     2.05,2, -999.000,9,     -999,9,     1.88,2,   -999.0,9,   -999.0,9,   -999.0,      9.0,9
  06M320150501,   520, 47,     14,   254056,20150522,1019, 10.0000, -23.0000, 5366,    328.0,  11.1270,  35.2070,2,-999.0000,9,     43.5,2,     42.9,2,    13.02,2,    32.92,2,     0.01,   2,     2.00,2, -999.000,9,     -999,9,     1.14,2,   2245.1,2,   2312.4,2,   -999.0,      9.0,9
  06M320150501,   520, 47,     15,   254057,20150522,1019, 10.0000, -23.0000, 5366,    299.0,  11.4510,  35.2290,2,-999.0000,9,     48.2,2,     47.9,2,    12.35,2,    31.92,2,     0.01,   2,     1.94,2,    0.688,6,     0.41,6,     0.73,6,   -999.0,9,   -999.0,9,   -999.0,      9.0,9
  06M320150501,   520, 47,     16,   254058,20150522,1020, 10.0000, -23.0000, 5366,    269.0,  11.6480,  35.2120,2,-999.0000,9,     57.4,9,   -999.0,9,    11.69,2,    30.64,2,     0.01,   2,     1.88,2, -999.000,9,     -999,9,     0.60,2,   -999.0,9,   -999.0,9,   -999.0,      9.0,9
  06M320150501,   520, 47,     17,   254059,20150522,1021, 10.0000, -23.0000, 5366,    239.0,  11.8010,  35.1900,2,-999.0000,9,     68.9,2,     66.7,2,    10.97,2,    29.10,2,     0.01,   2,     1.80,2,    0.855,6,     0.48,6,     0.42,6,   2226.1,2,   2313.4,2,   -999.0,      9.0,9
  06M320150501,   520, 47,     18,   254060,20150522,1022, 10.0000, -23.0000, 5366,    149.0,  12.8650,  35.2790,2,-999.0000,9,     87.3,2,     91.4,2,     9.12,2,    24.72,2,     0.01,   2,     1.58,2,    1.033,2,     0.69,2,     0.00,2,   2205.8,2,   2318.3,2,   -999.0,      9.0,9
  06M320150501,   520, 47,     19,   254061,20150522,1023, 10.0000, -23.0000, 5366,     99.0,  13.5360,  35.3570,2,-999.0000,9,     87.9,2,     92.0,2,     8.31,2,    23.70,2,     0.02,   2,     1.51,2,    1.087,2,     0.71,2,     0.00,2,   2203.5,2,   2321.2,2,   -999.0,      9.0,9
  06M320150501,   520, 47,     20,   254062,20150522,1025, 10.0000, -23.0000, 5366,     51.0,  14.9680,  35.5210,2,-999.0000,9,     75.0,9,   -999.0,9,     7.08,2,    23.62,2,     0.09,   2,     1.49,2,    1.132,2,     1.19,2,     0.00,2,   2210.1,2,   2325.8,2,   -999.0,      9.0,9
  06M320150501,   520, 47,     21,   254063,20150522,1026, 10.0000, -23.0000, 5366,     22.0,  20.2320,  35.8220,2,  35.7820,2,    191.1,2,    166.3,2,     2.55,2,     6.56,2,     0.23,   2,     0.55,2, -999.000,9,     -999,9,  -999.00,9,   2127.4,2,   2349.6,2,   -999.0,      9.0,9
  06M320150501,   520, 47,     22,   254064,20150522,1026, 10.0000, -23.0000, 5366,     11.0,  25.4330,  35.8680,2,-999.0000,9,    207.9,2,    207.3,6,  -999.00,9,  -999.00,9,  -999.00,   9,  -999.00,9, -999.000,9,     -999,9,  -999.00,9,   2054.6,2,   2358.4,2,   -999.0,      9.0,9
  06M320150501,   521, 48,      1,   254065,20150522,1623,  9.0000, -23.0000, 4757,   1203.0,   4.8220,  34.8800,2,  34.8800,2,    168.2,2,    168.3,2,    24.50,2,    28.52,2,     0.00,   2,     1.91,2,    0.012,2,        0,2,     0.00,2,   2206.0,6,   2317.9,6,   -999.0,      9.0,9
  06M320150501,   521, 48,      2,   254066,20150522,1624,  9.0000, -23.0000, 4757,   1099.0,   5.0190,  34.8340,2,-999.0000,9,    152.6,2,    153.8,2,    25.60,2,    30.38,2,     0.01,   2,     2.04,2,    0.014,2,        0,2,     0.00,2,   -999.0,9,   -999.0,9,   -999.0,      9.0,9
  06M320150501,   521, 48,      3,   254067,20150522,1626,  9.0000, -23.0000, 4757,   1000.0,   5.1560,  34.7870,2,-999.0000,9,    139.7,2,    138.8,2,    26.73,2,    32.39,2,     0.00,   2,     2.17,2,    0.007,2,        0,2,     0.00,2,   2218.3,2,   2312.7,2,   -999.0,      9.0,9
  06M320150501,   521, 48,      4,   254068,20150522,1628,  9.0000, -23.0000, 4757,    900.0,   5.4180,  34.7280,2,-999.0000,9,    122.4,2,    121.0,2,    27.33,2,    34.87,2,     0.00,   2,     2.32,2,    0.010,2,        0,2,     0.00,2,   -999.0,9,   -999.0,9,   -999.0,      9.0,9
  06M320150501,   521, 48,      5,   254069,20150522,1630,  9.0000, -23.0000, 4757,    800.0,   5.8620,  34.7080,2,  34.7100,2,    105.6,2,    104.2,2,    26.38,2,    36.43,2,     0.01,   2,     2.40,2,    0.025,2,        0,2,     0.00,2,   2232.9,2,   2306.7,2,   -999.0,      9.0,9
  06M320150501,   521, 48,      6,   254070,20150522,1631,  9.0000, -23.0000, 4757,    699.0,   6.6530,  34.7540,2,-999.0000,9,     84.5,2,     84.5,2,    23.79,2,    37.55,2,     0.01,   2,     2.42,2,    0.063,2,        0,2,     0.00,2,   -999.0,9,   -999.0,9,   -999.0,      9.0,9
  06M320150501,   521, 48,      7,   254071,20150522,1633,  9.0000, -23.0000, 4757,    600.0,   7.6970,  34.8510,2,-999.0000,9,     63.6,2,     63.7,2,    21.04,2,    37.93,2,     0.01,   2,     2.41,2,    0.124,2,     0.14,2,     0.00,2,   2245.5,2,   2300.5,2,   -999.0,      9.0,9
  06M320150501,   521, 48,      8,   254072,20150522,1634,  9.0000, -23.0000, 4757,    539.0,   8.6340,  34.9640,2,  34.9630,2,     53.6,2,     55.0,2,    18.70,2,    37.18,2,     0.01,   2,     2.32,2,    0.194,6,     0.34,6,     0.01,6,   2247.8,2,   2307.0,2,   -999.0,      9.0,9
  06M320150501,   521, 48,      9,   254073,20150522,1634,  9.0000, -23.0000, 4757,    511.0,   8.8710,  34.9770,2,-999.0000,9,     49.1,2,     52.1,2,    18.25,2,    37.08,2,     0.01,   2,     2.30,2,    0.232,6,      0.4,6,     0.26,6,   -999.0,9,   -999.0,9,   -999.0,      9.0,9
  06M320150501,   521, 48,     10,   254074,20150522,1635,  9.0000, -23.0000, 4757,    480.0,   9.2290,  35.0090,2,-999.0000,9,     44.7,2,     44.9,2,    17.66,2,    37.08,2,     0.01,   2,     2.28,2, -999.000,9,     -999,9,     1.51,2,   2251.2,2,   2306.8,2,   -999.0,      9.0,9
  06M320150501,   521, 48,     11,   254075,20150522,1635,  9.0000, -23.0000, 4757,    451.0,   9.5380,  35.0470,2,-999.0000,9,     42.5,2,     42.9,2,    17.08,2,    36.83,2,     0.01,   2,     2.25,2, -999.000,9,     -999,9,     2.87,2,   -999.0,9,   -999.0,9,   -999.0,      9.0,9
  06M320150501,   521, 48,     12,   254076,20150522,1636,  9.0000, -23.0000, 4757,    420.0,  10.2240,  35.1390,2,-999.0000,9,     39.9,2,     41.2,2,    15.35,2,    35.41,2,     0.01,   2,     2.14,2,    0.429,6,     0.32,6,     4.38,6,   2249.5,6,   2309.7,6,   -999.0,      9.0,9
  06M320150501,   521, 48,     13,   254077,20150522,1636,  9.0000, -23.0000, 4757,    390.0,  10.5720,  35.1660,2,-999.0000,9,     39.4,2,     38.8,6,    14.35,6,    34.72,6,     0.01,   6,     2.09,6, -999.000,9,     -999,9,     3.61,2,   -999.0,9,   -999.0,9,   -999.0,      9.0,9
  06M320150501,   521, 48,     14,   254078,20150522,1637,  9.0000, -23.0000, 4757,    359.0,  11.0420,  35.2050,2,-999.0000,9,     59.4,2,     52.4,2,    12.88,2,    32.37,2,     0.01,   2,     1.96,2,    0.636,6,     0.51,6,     0.94,6,   2239.9,2,   2315.4,2,   -999.0,      9.0,9
  06M320150501,   521, 48,     15,   254079,20150522,1637,  9.0000, -23.0000, 4757,    330.0,  11.4810,  35.2650,2,-999.0000,9,     67.3,2,     63.0,2,    11.86,2,    30.39,2,     0.01,   2,     1.84,2, -999.000,9,     -999,9,     0.49,2,   -999.0,9,   -999.0,9,   -999.0,      9.0,9
  06M320150501,   521, 48,     16,   254080,20150522,1638,  9.0000, -23.0000, 4757,    300.0,  11.3940,  35.1740,2,-999.0000,9,     76.2,2,     76.4,2,    11.53,2,    29.18,2,     0.01,   2,     1.79,2,    0.819,6,      0.6,6,     0.43,6,   -999.0,9,   -999.0,9,   -999.0,      9.0,9
  06M320150501,   521, 48,     17,   254081,20150522,1638,  9.0000, -23.0000, 4757,    270.0,  11.4580,  35.1400,2,-999.0000,9,     74.9,2,     72.8,6,    11.55,6,    29.44,6,     0.00,   6,     1.81,6, -999.000,9,     -999,9,     0.51,2,   2220.9,2,   2310.2,2,   -999.0,      9.0,9
  06M320150501,   521, 48,     18,   254082,20150522,1640,  9.0000, -23.0000, 4757,    150.0,  13.0320,  35.2970,2,-999.0000,9,    103.0,2,    103.8,6,     8.78,6,    23.48,6,     0.01,   6,     1.50,6,    1.102,6,     0.76,6,     0.01,6,   2194.7,2,   2316.0,2,   -999.0,      9.0,9
  06M320150501,   521, 48,     19,   254083,20150522,1641,  9.0000, -23.0000, 4757,    102.0,  13.8230,  35.4000,2,-999.0000,9,    112.7,2,    115.8,2,     7.71,2,    20.82,2,     0.02,   2,     1.34,2,    1.147,2,     0.94,2,     0.00,2,   2185.7,2,   2323.3,2,   -999.0,      9.0,9
  06M320150501,   521, 48,     20,   254084,20150522,1643,  9.0000, -23.0000, 4757,     52.0,  16.3230,  35.6370,2,-999.0000,9,     95.4,2,    107.1,2,     6.09,2,    18.99,2,     0.15,   2,     1.20,2,    1.144,2,        1,2,     0.00,2,   2183.6,2,   2334.1,2,   -999.0,      9.0,9
  06M320150501,   521, 48,     21,   254085,20150522,1644,  9.0000, -23.0000, 4757,     20.0,  24.4290,  35.8240,2,-999.0000,9,    218.9,2,    217.4,2,     0.71,2,     0.13,2,     0.00,   2,     0.13,2,    1.039,2,     1.48,2,     0.00,2,   2049.9,2,   2353.0,2,   -999.0,      9.0,9
  06M320150501,   521, 48,     22,   254086,20150522,1645,  9.0000, -23.0000, 4757,     11.0,  25.7260,  35.8840,2,-999.0000,9,    210.4,2,    212.3,2,     0.99,2,     0.00,2,     0.00,   2,     0.11,2,    0.991,2,     1.55,2,     0.00,2,   2046.4,2,   2354.9,2,   -999.0,      9.0,9
  06M320150501,   522, 49,      1,   254087,20150522,2254,  8.0000, -23.0000, 4757,   2210.0,   3.2990,  34.9440,2,  34.9440,2,    239.8,2,    241.5,2,    26.18,2,    20.98,2,     0.00,   2,     1.40,2,    0.009,2,        0,2,     0.00,2,   2176.1,6,   2330.3,6,   -999.0,      9.0,9
  06M320150501,   522, 49,      2,   254088,20150522,2258,  8.0000, -23.0000, 4757,   1998.0,   3.4760,  34.9520,2,-999.0000,9,    239.2,2,    239.2,6,    23.53,6,    20.92,6,     0.00,   6,     1.39,6,    0.016,2,        0,2,     0.00,2,   2174.3,2,   2326.6,2,   -999.0,      9.0,9
  06M320150501,   522, 49,      3,   254089,20150522,2304,  8.0000, -23.0000, 4757,   1750.0,   3.8120,  34.9590,2,-999.0000,9,    233.2,2,    233.1,2,    20.87,2,    21.30,2,     0.00,   2,     1.41,2,    0.036,2,        0,2,     0.00,2,   2176.0,2,   2324.4,2,   -999.0,      9.0,9
  06M320150501,   522, 49,      4,   254090,20150522,2308,  8.0000, -23.0000, 4757,   1501.0,   4.2000,  34.9480,2,-999.0000,9,    217.5,2,    217.4,2,    20.32,2,    22.71,2,     0.01,   2,     1.52,2,    0.059,2,        0,2,     0.00,2,   2181.6,2,   2314.6,2,   -999.0,      9.0,9
  06M320150501,   522, 49,      5,   254091,20150522,2313,  8.0000, -23.0000, 4757,   1250.0,   4.7370,  34.8790,2,-999.0000,9,    176.5,2,    175.6,2,    23.50,2,    27.59,2,     0.00,   2,     1.84,2,    0.024,2,        0,2,     0.00,2,   2201.5,2,   2316.9,2,   -999.0,      9.0,9
  06M320150501,   522, 49,      6,   254092,20150522,2319,  8.0000, -23.0000, 4757,    999.0,   5.1150,  34.7140,2,-999.0000,9,    136.6,2,    135.3,2,    27.42,2,    33.07,2,     0.01,   2,     2.23,2,    0.014,2,        0,2,     0.00,2,   2223.0,2,   2312.2,2,   -999.0,      9.0,9
  06M320150501,   522, 49,      7,   254093,20150522,2323,  8.0000, -23.0000, 4757,    800.0,   5.6730,  34.6490,2,  34.6510,2,    112.1,2,    112.0,2,    26.85,2,    36.01,2,     0.00,   2,     2.38,2,    0.042,2,        0,2,     0.00,2,   2232.8,2,   2305.6,2,   -999.0,      9.0,9
  06M320150501,   522, 49,      8,   254094,20150522,2327,  8.0000, -23.0000, 4757,    699.0,   6.1930,  34.6690,2,-999.0000,9,     99.9,2,    100.0,2,    24.88,2,    36.71,2,     0.01,   2,     2.40,2,    0.073,6,        0,6,     0.00,6,   2235.4,2,   2304.9,2,   -999.0,      9.0,9
  06M320150501,   522, 49,      9,   254095,20150522,2329,  8.0000, -23.0000, 4757,    549.0,   7.7310,  34.8090,2,-999.0000,9,     72.5,9,   -999.0,9,    20.56,2,    36.73,2,     0.01,   2,     2.33,2, -999.000,9,     -999,9,     0.00,2,   2240.7,2,   2304.1,2,   -999.0,      9.0,9
  06M320150501,   522, 49,     10,   254096,20150522,2330,  8.0000, -23.0000, 4757,    499.0,   8.6460,  34.9150,2,-999.0000,9,     54.7,2,     54.8,2,    18.15,2,    36.64,2,     0.01,   2,     2.29,2,    0.234,6,      0.2,6,     0.40,6,   2245.9,2,   2304.1,2,   -999.0,      9.0,9
  06M320150501,   522, 49,     11,   254097,20150522,2331,  8.0000, -23.0000, 4757,    469.0,   9.0580,  34.9550,2,-999.0000,9,     50.7,2,     50.1,6,    17.11,2,    36.44,2,     0.01,   2,     2.25,2, -999.000,9,     -999,9,     1.34,2,   -999.0,9,   -999.0,9,   -999.0,      9.0,9
  06M320150501,   522, 49,     12,   254098,20150522,2331,  8.0000, -23.0000, 4757,    440.0,   9.4160,  34.9780,2,-999.0000,9,     51.6,2,     51.0,2,    16.04,2,    35.63,2,     0.02,   2,     2.18,2,    0.372,6,     0.22,6,     2.30,6,   2244.5,6,   2303.1,6,   -999.0,      9.0,9
  06M320150501,   522, 49,     13,   254099,20150522,2332,  8.0000, -23.0000, 4757,    409.0,   9.7380,  34.9900,2,-999.0000,9,     55.7,2,     54.5,2,    15.16,2,    34.72,2,     0.01,   2,     2.12,2, -999.000,9,     -999,9,     1.96,2,   -999.0,9,   -999.0,9,   -999.0,      9.0,9
  06M320150501,   522, 49,     14,   254100,20150522,2333,  8.0000, -23.0000, 4757,    382.0,   9.9070,  35.0020,2,-999.0000,9,     57.8,2,     61.0,2,    14.46,2,    33.53,2,     0.00,   2,     2.05,2, -999.000,9,     -999,9,     1.27,2,   2237.4,2,   2306.9,2,   -999.0,      9.0,9
  06M320150501,   522, 49,     15,   254101,20150522,2335,  8.0000, -23.0000, 4757,    319.0,  10.7500,  35.0540,2,-999.0000,9,     78.9,9,   -999.0,9,    12.29,2,    29.91,2,     0.01,   2,     1.85,2,    0.767,6,     0.44,6,     0.61,6,   2220.8,2,   2309.8,2,   -999.0,      9.0,9
  06M320150501,   522, 49,     16,   254102,20150522,2336,  8.0000, -23.0000, 4757,    250.0,  11.7670,  35.1490,2,-999.0000,9,     94.2,2,     93.9,2,    10.35,2,    26.25,2,     0.01,   2,     1.67,2,    0.951,6,     0.64,6,     0.26,6,   2207.2,2,   2312.0,2,   -999.0,      9.0,9
  06M320150501,   522, 49,     17,   254103,20150522,2337,  8.0000, -23.0000, 4757,    199.0,  12.7770,  35.2690,2,-999.0000,9,     90.2,2,     90.4,2,     9.33,2,    25.40,2,     0.01,   2,     1.60,2,    1.025,6,     0.67,6,     0.08,6,   2208.7,2,   2316.9,2,   -999.0,      9.0,9
  06M320150501,   522, 49,     18,   254104,20150522,2338,  8.0000, -23.0000, 4757,    149.0,  14.3860,  35.4600,2,-999.0000,9,     91.1,2,     96.1,2,     7.50,2,    22.32,2,     0.02,   2,     1.43,2,    1.123,2,      0.8,2,     0.00,2,   2197.8,2,   2326.0,2,   -999.0,      9.0,9
  06M320150501,   522, 49,     19,   254105,20150522,2338,  8.0000, -23.0000, 4757,    128.0,  14.7110,  35.4850,2,-999.0000,9,     61.9,9,   -999.0,9,     8.19,2,    25.19,2,     0.02,   2,     1.61,2,    1.086,2,     0.85,2,     0.00,2,   2217.6,2,   2329.0,2,   -999.0,      9.0,9
  06M320150501,   522, 49,     20,   254106,20150522,2339,  8.0000, -23.0000, 4757,    100.0,  15.1880,  35.5360,2,-999.0000,9,     53.1,2,     53.7,2,     7.85,2,    25.64,2,     0.02,   2,     1.62,2,    1.108,2,      0.8,2,     0.00,2,   2222.7,2,   2324.1,2,   -999.0,      9.0,9
  06M320150501,   522, 49,     21,   254107,20150522,2339,  8.0000, -23.0000, 4757,     80.0,  15.6810,  35.5700,2,-999.0000,9,     38.8,2,     44.0,2,     7.89,2,    26.05,2,     0.03,   2,     1.65,2,    1.115,2,     0.88,2,     0.00,2,   2227.6,2,   2327.3,2,   -999.0,      9.0,9
  06M320150501,   522, 49,     22,   254108,20150522,2340,  8.0000, -23.0000, 4757,     60.0,  16.4540,  35.6000,2,-999.0000,9,     17.4,2,     21.9,2,     7.33,6,    26.95,6,     0.38,   6,     1.78,6,    1.129,2,     0.96,2,     0.00,2,   2241.9,2,   2326.3,2,   -999.0,      9.0,9
  06M320150501,   522, 49,     23,   254109,20150522,2340,  8.0000, -23.0000, 4757,     46.0,  17.0930,  35.6220,2,-999.0000,9,     41.2,2,     36.6,6,     5.33,2,    23.66,2,     0.70,   2,     1.58,2,    1.105,2,     0.93,2,     0.00,2,   2230.7,2,   2329.8,2,   -999.0,      9.0,9
  06M320150501,   522, 49,     24,   254110,20150522,2342,  8.0000, -23.0000, 4757,     12.0,  27.0570,  35.9740,2,  35.9740,2,    207.3,2,     20.6,2,     0.61,2,     0.10,2,     0.01,   2,     0.04,2,    0.951,2,     1.34,2,     0.00,2,   2040.9,2,   2359.1,2,   -999.0,      9.0,9