BOTTLE,20180504PRINUNIVRMK
EXPOCODE,STNNBR,CASTNO,BTLNBR,BEDFORD,DATE,TIME,LATITUDE,LONGITUDE,DEPTH,CTDPRS,CTDTMP,CTDSAL,CTDSAL_FLAG_W,SALNTY,SALNTY_FLAG_W,CTDOXY,CTDOXY_FLAG_W,OXYGEN,OXYGEN_FLAG_W,SILCAT,SILCAT_FLAG_W,NITRAT,NITRAT_FLAG_W,NITRIT,NITRIT_FLAG_W,PHSPHT,PHSPHT_FLAG_W,CFC-12,CFC-12_FLAG_W,SF6,SF6_FLAG_W,SF5CF3,SF5CF3_FLAG_W,TCARBN,TCARBN_FLAG_W,ALKALI,ALKALI_FLAG_W,AR-39,AR-39ER,AR-39_FLAG_W
,,,,,,,,,METERS,DBAR,ITS-90,PSS-78,,PSS-78,,UMOL/KG,,UMOL/KG,,UMOL/KG,,UMOL/KG,,UMOL/KG,,UMOL/KG,,PMOL/KG,,FMOL/KG,,FMOL/KG,,UMOL/KG,,UMOL/KG,,%Modern,%Modern,
  06M320150501,   552, 79,      1,   254744,20150601,0024, 15.0000, -21.0000, 4109,   1204.0,   5.2290,  34.9220,2,-999.0000,9,    154.2,2,    152.9,2,    24.57,2,    30.36,2,     0.04,   3,     1.94,2,    0.014,2,        0,2,     0.00,2,   2214.7,6,   2317.6,6,   -999.0,      9.0,9
  06M320150501,   552, 79,      2,   254745,20150601,0027, 15.0000, -21.0000, 4109,   1099.0,   5.4790,  34.8900,2,-999.0000,9,    139.9,2,    139.4,2,    25.00,2,    32.54,2,     0.04,   3,     2.05,2,    0.013,2,        0,2,     0.00,2,   -999.0,9,   -999.0,9,   -999.0,      9.0,9
  06M320150501,   552, 79,      3,   254746,20150601,0028, 15.0000, -21.0000, 4109,    998.0,   5.7690,  34.8550,2,-999.0000,9,    124.0,2,    123.4,2,    25.59,2,    34.32,2,     0.05,   3,     2.15,2,    0.018,2,        0,2,     0.00,2,   2228.9,2,   2312.3,2,   -999.0,      9.0,9
  06M320150501,   552, 79,      4,   254747,20150601,0030, 15.0000, -21.0000, 4109,    900.0,   6.1590,  34.8530,2,-999.0000,9,    110.2,2,    110.5,6,    25.04,2,    35.54,2,     0.05,   3,     2.24,2,    0.034,2,        0,2,     0.00,2,   -999.0,9,   -999.0,9,   -999.0,      9.0,9
  06M320150501,   552, 79,      5,   254748,20150601,0032, 15.0000, -21.0000, 4109,    798.0,   6.7400,  34.8740,2,-999.0000,9,     93.5,2,     93.0,2,    23.65,2,    36.95,2,     0.06,   3,     2.25,2,    0.052,2,        0,2,     0.00,2,   2239.0,6,   2308.6,6,   -999.0,      9.0,9
  06M320150501,   552, 79,      6,   254749,20150601,0035, 15.0000, -21.0000, 4109,    698.0,   7.5040,  34.9310,2,-999.0000,9,     77.4,2,     76.7,2,    21.92,2,    37.59,2,     0.07,   3,     2.27,2,    0.102,2,        0,2,     0.00,2,   -999.0,9,   -999.0,9,   -999.0,      9.0,9
  06M320150501,   552, 79,      7,   254750,20150601,0036, 15.0000, -21.0000, 4109,    599.0,   8.4360,  35.0130,2,-999.0000,9,     64.1,2,     64.0,2,    19.41,2,    37.52,2,     0.07,   3,     2.22,2,    0.193,2,        0,2,     0.00,2,   2247.5,2,   2308.4,2,   -999.0,      9.0,9
  06M320150501,   552, 79,      8,   254751,20150601,0038, 15.0000, -21.0000, 4109,    501.0,   9.3660,  35.1030,2,-999.0000,9,     54.2,2,     54.8,2,    17.21,2,    37.07,2,     0.07,   3,     2.16,2,    0.299,6,        0,6,     0.02,6,   2248.8,2,   2310.7,2,   -999.0,      9.0,9
  06M320150501,   552, 79,      9,   254752,20150601,0038, 15.0000, -21.0000, 4109,    471.0,   9.6040,  35.1230,2,-999.0000,9,     48.9,2,     51.6,2,    16.74,2,    37.01,2,     0.07,   3,     2.15,2, -999.000,9,     -999,9,     0.09,2,   -999.0,9,   -999.0,9,   -999.0,      9.0,9
  06M320150501,   552, 79,     10,   254753,20150601,0039, 15.0000, -21.0000, 4109,    441.0,   9.9820,  35.1690,2,-999.0000,9,     48.6,2,     49.0,2,    15.73,2,    36.26,2,     0.08,   3,     2.07,2,    0.401,6,     0.32,6,     0.09,6,   2248.9,2,   2311.0,2,   -999.0,      9.0,9
  06M320150501,   552, 79,     11,   254754,20150601,0040, 15.0000, -21.0000, 4109,    411.0,  10.3120,  35.1990,2,-999.0000,9,     45.5,2,     44.9,2,    14.88,2,    35.87,2,     0.08,   3,     2.05,2, -999.000,9,     -999,9,     0.43,2,   -999.0,9,   -999.0,9,   -999.0,      9.0,9
  06M320150501,   552, 79,     12,   254755,20150601,0040, 15.0000, -21.0000, 4109,    383.0,  10.6430,  35.2400,2,-999.0000,9,     42.0,2,     43.1,2,    14.32,6,    35.49,6,     0.09,   6,     2.03,6,    0.519,6,     0.35,6,     0.29,6,   2251.8,2,   2311.4,2,   -999.0,      9.0,9
  06M320150501,   552, 79,     13,   254756,20150601,0041, 15.0000, -21.0000, 4109,    352.0,  11.0310,  35.2770,2,-999.0000,9,     42.3,2,     41.5,2,    13.39,2,    34.64,2,     0.10,   3,     1.96,2, -999.000,9,     -999,9,     0.34,2,   -999.0,9,   -999.0,9,   -999.0,      9.0,9
  06M320150501,   552, 79,     14,   254757,20150601,0041, 15.0000, -21.0000, 4109,    321.0,  11.3200,  35.2880,2,-999.0000,9,     43.4,2,     44.0,2,    12.63,2,    34.05,2,     0.10,   3,     1.92,2,    0.655,6,     0.46,6,     0.37,6,   2247.4,2,   2316.1,2,   -999.0,      9.0,9
  06M320150501,   552, 79,     15,   254758,20150601,0042, 15.0000, -21.0000, 4109,    292.0,  11.5300,  35.2990,2,-999.0000,9,     47.3,2,     46.0,2,    12.20,2,    33.44,2,     0.10,   3,     1.88,2, -999.000,9,     -999,9,     0.36,2,   -999.0,9,   -999.0,9,   -999.0,      9.0,9
  06M320150501,   552, 79,     16,   254759,20150601,0043, 15.0000, -21.0000, 4109,    261.0,  11.8380,  35.3120,2,-999.0000,9,     50.2,2,     50.7,2,    11.38,2,    32.19,2,     0.11,   3,     1.82,2,    0.785,6,     0.47,6,     0.44,6,   -999.0,9,   -999.0,9,   -999.0,      9.0,9
  06M320150501,   552, 79,     17,   254760,20150601,0043, 15.0000, -21.0000, 4109,    230.0,  12.1220,  35.3170,2,-999.0000,9,     54.5,2,     57.3,2,    10.82,2,    31.42,2,     0.11,   3,     1.77,2,    0.864,6,     0.54,6,     0.34,6,   2237.7,2,   2058.0,3,   -999.0,      9.0,9
  06M320150501,   552, 79,     18,   254761,20150601,0044, 15.0000, -21.0000, 4109,    149.0,  12.7470,  35.3210,2,-999.0000,9,     63.5,2,     63.4,2,     9.86,2,    29.36,2,     0.12,   3,     1.69,2, -999.000,9,     -999,9,  -999.00,9,   2227.6,2,   2316.0,2,   -999.0,      9.0,9
  06M320150501,   552, 79,     19,   254762,20150601,0046, 15.0000, -21.0000, 4109,    101.0,  13.3550,  35.3600,2,-999.0000,9,     65.5,2,     66.9,2,     8.98,2,    28.04,2,     0.13,   3,     1.64,2,    1.054,2,     0.78,2,     0.00,2,   2219.8,2,   2317.4,2,   -999.0,      9.0,9
  06M320150501,   552, 79,     20,   254763,20150601,0047, 15.0000, -21.0000, 4109,     50.0,  16.3810,  35.7330,2,-999.0000,9,     54.6,2,     50.0,2,     7.04,2,    26.93,2,     0.21,   3,     1.56,2,    1.110,2,     0.92,2,     0.00,2,   2229.7,2,   2325.2,2,   -999.0,      9.0,9
  06M320150501,   552, 79,     21,   254764,20150601,0049, 15.0000, -21.0000, 4109,     22.0,  23.5260,  35.8630,2,-999.0000,9,    204.5,2,    204.2,2,     0.94,2,     2.15,2,     0.19,   3,     0.29,2, -999.000,9,     -999,9,  -999.00,9,   2072.1,2,   2356.6,2,   -999.0,      9.0,9
  06M320150501,   552, 79,     22,   254765,20150601,0049, 15.0000, -21.0000, 4109,     12.0,  24.2000,  35.8770,2,-999.0000,9,    214.8,2,    212.9,2,     0.55,2,     0.30,2,     0.14,   3,     0.20,2,    1.031,6,     1.55,6,     0.00,6,   2056.6,2,   2294.8,2,   -999.0,      9.0,9
  06M320150501,   554, 81,      1,   254766,20150602,0356, 17.5800, -24.3000, 3746,   3643.0,   2.4570,  34.9010,2,-999.0000,9,    237.6,2,    237.0,6,    45.92,6,    23.57,6,     0.00,   6,     1.50,6, -999.000,9,     -999,9,  -999.00,9,   2205.9,6,   2362.1,6,   -999.0,      9.0,9
  06M320150501,   554, 81,      2,   254767,20150602,0357, 17.5800, -24.3000, 3746,   3642.0,   2.4570,  34.9010,2,-999.0000,9,    237.5,2,    237.6,2,    45.94,2,    23.67,2,     0.00,   2,     1.49,2,    0.020,2,        0,2,     0.00,2,   2205.3,2,   2362.2,2,   -999.0,      9.0,9
  06M320150501,   554, 81,      3,   254768,20150602,0359, 17.5800, -24.3000, 3746,   3501.0,   2.5210,  34.9080,2,-999.0000,9,    239.6,2,    239.9,2,    43.39,2,    23.24,2,     0.00,   2,     1.48,2,    0.005,2,        0,2,     0.00,2,   2200.8,2,   2357.7,2,   -999.0,      9.0,9
  06M320150501,   554, 81,      4,   254769,20150602,0409, 17.5800, -24.3000, 3746,   3000.0,   2.7560,  34.9280,2,-999.0000,9,    242.5,2,    242.3,2,    37.11,2,    22.59,2,     0.00,   2,     1.44,2,    0.003,2,        0,2,     0.00,2,   2188.5,2,   2345.3,2,   -999.0,      9.0,9
  06M320150501,   554, 81,      5,   254770,20150602,0427, 17.5800, -24.3000, 3746,   1999.0,   3.6020,  34.9760,2,-999.0000,9,    228.5,2,    228.4,2,    26.56,2,    23.01,2,     0.00,   2,     1.45,2,    0.003,2,        0,2,     0.00,2,   2184.3,2,   2335.9,2,   -999.0,      9.0,9
  06M320150501,   554, 81,      6,   254771,20150602,0436, 17.5800, -24.3000, 3746,   1499.0,   4.5650,  35.0110,2,-999.0000,9,    201.8,2,    201.6,2,    22.64,2,    24.96,2,     0.00,   2,     1.57,2,    0.012,2,        0,2,     0.00,2,   2189.9,2,   2332.7,2,   -999.0,      9.0,9
  06M320150501,   554, 81,      7,   254772,20150602,0440, 17.5800, -24.3000, 3746,   1250.0,   5.2930,  35.0050,2,-999.0000,9,    175.6,2,    175.3,2,    22.43,2,    27.71,2,     0.00,   2,     1.72,2,    0.020,2,        0,2,     0.00,2,   2201.0,2,   2228.8,3,   -999.0,      9.0,9
  06M320150501,   554, 81,      8,   254773,20150602,0445, 17.5800, -24.3000, 3746,    999.0,   6.2680,  34.9740,2,-999.0000,9,    139.3,2,    137.5,2,    22.65,2,    31.45,2,     0.00,   2,     1.95,2,    0.045,2,     0.13,2,     0.00,2,   2216.0,2,   1973.6,3,   -999.0,      9.0,9
  06M320150501,   554, 81,      9,   254774,20150602,0448, 17.5800, -24.3000, 3746,    800.0,   6.9040,  34.9060,2,-999.0000,9,    109.0,2,    108.2,2,    22.67,2,    34.94,2,     0.00,   2,     2.14,2,    0.077,2,     0.15,2,     0.00,2,   2227.0,2,   2315.0,2,   -999.0,      9.0,9
  06M320150501,   554, 81,     10,   254775,20150602,0452, 17.5800, -24.3000, 3746,    600.0,   8.7670,  35.0700,2,-999.0000,9,     85.2,2,     83.9,6,    17.80,6,    34.60,6,     0.00,   6,     2.03,6,    0.269,2,     0.25,2,     0.00,2,   2230.9,2,   2314.7,2,   -999.0,      9.0,9
  06M320150501,   554, 81,     11,   254776,20150602,0454, 17.5800, -24.3000, 3746,    451.0,  10.8700,  35.3210,2,-999.0000,9,     73.7,2,     70.7,2,    13.15,2,    31.86,2,     0.01,   2,     1.80,2, -999.000,9,     -999,9,  -999.00,9,   2231.2,2,   2320.6,2,   -999.0,      9.0,9
  06M320150501,   554, 81,     12,   254777,20150602,0454, 17.5800, -24.3000, 3746,    450.0,  10.9020,  35.3270,2,-999.0000,9,     74.1,2,     70.6,2,    13.13,2,    32.04,2,     0.00,   2,     1.81,2,    0.593,2,     0.47,2,     0.00,2,   2230.8,2,   2318.4,2,   -999.0,      9.0,9
  06M320150501,   554, 81,     13,   254778,20150602,0456, 17.5800, -24.3000, 3746,    350.0,  12.0220,  35.4220,2,-999.0000,9,     51.2,2,     51.4,2,    11.42,2,    32.02,2,     0.01,   2,     1.78,2,    0.787,2,     0.69,2,     0.17,2,   2240.0,2,   2325.0,2,   -999.0,      9.0,9
  06M320150501,   554, 81,     14,   254779,20150602,0458, 17.5800, -24.3000, 3746,    250.0,  13.3070,  35.5860,2,-999.0000,9,     60.6,2,     58.0,2,     9.40,2,    28.78,2,     0.01,   2,     1.61,2,    0.984,2,     0.85,2,     0.18,2,   2234.2,2,   2331.7,2,   -999.0,      9.0,9
  06M320150501,   554, 81,     15,   254780,20150602,0459, 17.5800, -24.3000, 3746,    200.0,  15.2590,  35.9690,2,-999.0000,9,    100.5,2,     91.0,2,     6.64,2,    22.24,2,     0.01,   2,     1.24,2,    1.115,2,     1.13,2,     0.07,2,   -999.0,9,   -999.0,9,   -999.0,      9.0,9
  06M320150501,   554, 81,     16,   254781,20150602,0500, 17.5800, -24.3000, 3746,    150.0,  16.2360,  36.1500,2,-999.0000,9,    111.9,2,    111.4,2,     4.89,2,    17.93,2,     0.02,   2,     0.99,2,    1.189,2,     1.34,2,     0.00,2,   2199.7,2,   2365.7,2,   -999.0,      9.0,9
  06M320150501,   554, 81,     17,   254782,20150602,0500, 17.5800, -24.3000, 3746,    120.0,  17.4740,  36.3570,2,-999.0000,9,    120.1,2,    115.3,2,     4.15,2,    16.30,2,     0.04,   2,     0.88,2, -999.000,9,     -999,9,  -999.00,9,   -999.0,9,   -999.0,9,   -999.0,      9.0,9
  06M320150501,   554, 81,     18,   254783,20150602,0500, 17.5800, -24.3000, 3746,    119.0,  17.4910,  36.3580,2,-999.0000,9,    120.9,2,    114.4,2,     4.27,2,    16.71,2,     0.03,   2,     0.92,2,    1.178,2,     1.37,2,     0.00,2,   2195.4,2,   2370.1,2,   -999.0,      9.0,9
  06M320150501,   554, 81,     19,   254784,20150602,0501, 17.5800, -24.3000, 3746,    101.0,  19.6360,  36.7610,2,-999.0000,9,    191.4,2,    164.7,2,     1.99,2,     8.92,2,     0.13,   2,     0.57,2,    1.184,2,     1.62,2,     0.00,2,   2162.4,2,   2394.4,2,   -999.0,      9.0,9
  06M320150501,   554, 81,     20,   254785,20150602,0501, 17.5800, -24.3000, 3746,     82.0,  20.0150,  36.7620,2,-999.0000,9,    210.8,2,    210.5,2,     0.68,2,     2.40,2,     0.60,   2,     0.27,2,    1.191,2,     1.82,2,     0.00,2,   2130.0,2,   2404.5,2,   -999.0,      9.0,9
  06M320150501,   554, 81,     21,   254786,20150602,0502, 17.5800, -24.3000, 3746,     61.0,  20.3740,  36.5770,2,-999.0000,9,    236.3,2,    229.6,2,     0.49,2,     0.38,2,     0.27,   2,     0.16,2, -999.000,9,     -999,9,  -999.00,9,   2111.6,2,   2402.4,2,   -999.0,      9.0,9
  06M320150501,   554, 81,     22,   254787,20150602,0502, 17.5800, -24.3000, 3746,     41.0,  21.7670,  36.4570,2,-999.0000,9,    224.4,2,    227.2,2,     0.54,2,     0.11,2,     0.08,   2,     0.13,2,    1.156,2,     1.74,2,     0.00,2,   2093.8,2,   2393.7,2,   -999.0,      9.0,9
  06M320150501,   554, 81,     23,   254788,20150602,0503, 17.5800, -24.3000, 3746,     20.0,  22.8210,  36.3950,2,-999.0000,9,    214.9,2,    217.2,6,     0.54,6,     0.01,6,     0.00,   6,     0.10,6, -999.000,9,     -999,9,  -999.00,9,   2081.5,2,   2371.6,2,   -999.0,      9.0,9
  06M320150501,   554, 81,     24,   254789,20150602,0503, 17.5800, -24.3000, 3746,     11.0,  22.8210,  36.3960,2,-999.0000,9,    217.4,2,    216.9,2,     0.52,2,     0.00,2,     0.00,   2,     0.10,2,    1.085,2,     1.67,2,     0.00,2,   2081.6,6,   2386.3,6,   -999.0,      9.0,9