BOTTLE,20180504PRINUNIVRMK
EXPOCODE,STNNBR,CASTNO,BTLNBR,BEDFORD,DATE,TIME,LATITUDE,LONGITUDE,DEPTH,CTDPRS,CTDTMP,CTDSAL,CTDSAL_FLAG_W,SALNTY,SALNTY_FLAG_W,CTDOXY,CTDOXY_FLAG_W,OXYGEN,OXYGEN_FLAG_W,SILCAT,SILCAT_FLAG_W,NITRAT,NITRAT_FLAG_W,NITRIT,NITRIT_FLAG_W,PHSPHT,PHSPHT_FLAG_W,CFC-12,CFC-12_FLAG_W,SF6,SF6_FLAG_W,SF5CF3,SF5CF3_FLAG_W,TCARBN,TCARBN_FLAG_W,ALKALI,ALKALI_FLAG_W,AR-39,AR-39ER,AR-39_FLAG_W
,,,,,,,,,METERS,DBAR,ITS-90,PSS-78,,PSS-78,,UMOL/KG,,UMOL/KG,,UMOL/KG,,UMOL/KG,,UMOL/KG,,UMOL/KG,,PMOL/KG,,FMOL/KG,,FMOL/KG,,UMOL/KG,,UMOL/KG,,%Modern,%Modern,
  06M320150501,   523, 50,      1,   254111,20150523,0554,  7.0000, -23.0000, 4074,   1208.0,   4.6750,  34.8450,2,  34.8430,2,    173.5,2,    172.9,2,    24.72,2,    28.62,2,     0.00,   2,     1.91,2,    0.024,2,        0,2,     0.00,2,   2206.2,6,   2319.4,6,   -999.0,      9.0,9
  06M320150501,   523, 50,      2,   254112,20150523,0556,  7.0000, -23.0000, 4074,   1100.0,   4.8850,  34.7650,2,-999.0000,9,    152.9,2,    151.8,2,    26.73,2,    31.32,2,     0.00,   2,     2.11,2,    0.017,2,        0,2,     0.00,2,   -999.0,9,   -999.0,9,   -999.0,      9.0,9
  06M320150501,   523, 50,      3,   254113,20150523,0558,  7.0000, -23.0000, 4074,    999.0,   5.1030,  34.6840,2,-999.0000,9,    134.0,2,    134.4,2,    28.21,2,    34.04,2,     0.00,   2,     2.28,2,    0.017,2,        0,2,     0.00,2,   2226.1,2,   2309.2,2,   -999.0,      9.0,9
  06M320150501,   523, 50,      4,   254114,20150523,0600,  7.0000, -23.0000, 4074,    899.0,   5.2690,  34.6400,2,-999.0000,9,    125.5,2,    125.4,2,    28.39,2,    35.19,2,     0.00,   2,     2.36,2,    0.035,2,        0,2,     0.00,2,   -999.0,9,   -999.0,9,   -999.0,      9.0,9
  06M320150501,   523, 50,      5,   254115,20150523,0601,  7.0000, -23.0000, 4074,    796.0,   5.7090,  34.6320,2,-999.0000,9,    112.3,2,    112.1,6,    26.98,6,    36.22,6,     0.00,   6,     2.40,6,    0.061,2,        0,2,     0.00,2,   2231.2,2,   2301.2,2,   -999.0,      9.0,9
  06M320150501,   523, 50,      6,   254116,20150523,0603,  7.0000, -23.0000, 4074,    697.0,   6.2990,  34.6620,2,  34.6640,2,     98.1,2,     98.0,2,    24.57,2,    36.82,2,     0.00,   2,     2.41,2,    0.097,2,        0,2,     0.00,2,   -999.0,9,   -999.0,9,   -999.0,      9.0,9
  06M320150501,   523, 50,      7,   254117,20150523,0604,  7.0000, -23.0000, 4074,    599.0,   6.8120,  34.6750,2,-999.0000,9,     99.6,2,     98.4,2,    22.38,2,    35.90,2,     0.00,   2,     2.33,2,    0.209,2,        0,2,     0.00,2,   2233.0,2,   2298.8,2,   -999.0,      9.0,9
  06M320150501,   523, 50,      8,   254118,20150523,0606,  7.0000, -23.0000, 4074,    519.0,   7.4910,  34.7260,2,-999.0000,9,     87.1,2,     88.7,2,    20.51,6,    35.95,6,     0.01,   6,     2.30,6,    0.267,6,        0,6,     0.01,6,   2234.0,2,   2301.0,2,   -999.0,      9.0,9
  06M320150501,   523, 50,      9,   254119,20150523,0606,  7.0000, -23.0000, 4074,    488.0,   7.7480,  34.7530,2,-999.0000,9,     82.6,2,     88.5,6,    19.81,2,    35.75,2,     0.01,   2,     2.28,2, -999.000,9,     -999,9,     0.02,2,   -999.0,9,   -999.0,9,   -999.0,      9.0,9
  06M320150501,   523, 50,     10,   254120,20150523,0607,  7.0000, -23.0000, 4074,    459.0,   8.0010,  34.7750,2,-999.0000,9,     81.1,2,     85.5,2,    18.90,2,    35.43,2,     0.01,   2,     2.24,2,    0.347,6,     -999,9,     0.04,6,   2229.0,2,   2295.4,2,   -999.0,      9.0,9
  06M320150501,   523, 50,     11,   254121,20150523,0607,  7.0000, -23.0000, 4074,    430.0,   8.6140,  34.8440,2,-999.0000,9,     70.1,2,     70.2,2,    17.57,2,    35.40,2,     0.01,   2,     2.22,2, -999.000,9,     -999,9,     0.38,2,   -999.0,9,   -999.0,9,   -999.0,      9.0,9
  06M320150501,   523, 50,     12,   254122,20150523,0608,  7.0000, -23.0000, 4074,    398.0,   9.0300,  34.8960,2,-999.0000,9,     60.8,2,     69.1,2,    17.00,2,    35.39,2,     0.01,   2,     2.19,2,    0.410,6,     -999,9,     0.62,6,   2238.2,6,   2300.1,6,   -999.0,      9.0,9
  06M320150501,   523, 50,     13,   254123,20150523,0608,  7.0000, -23.0000, 4074,    369.0,   9.7540,  34.9760,2,-999.0000,9,     57.8,2,     58.0,2,    15.73,2,    34.85,2,     0.01,   2,     2.14,2, -999.000,9,     -999,9,     1.14,2,   -999.0,9,   -999.0,9,   -999.0,      9.0,9
  06M320150501,   523, 50,     14,   254124,20150523,0609,  7.0000, -23.0000, 4074,    338.0,  10.1060,  34.9930,2,-999.0000,9,     70.0,2,     68.6,2,    14.23,2,    32.63,2,     0.01,   2,     2.02,2, -999.000,9,     -999,9,     0.70,2,   2231.4,2,   2303.6,2,   -999.0,      9.0,9
  06M320150501,   523, 50,     15,   254125,20150523,0609,  7.0000, -23.0000, 4074,    309.0,  10.8990,  35.0600,2,-999.0000,9,     84.3,2,     85.9,2,    12.35,2,    29.54,2,     0.02,   2,     1.84,2,    0.810,6,     -999,9,     0.58,6,   -999.0,9,   -999.0,9,   -999.0,      9.0,9
  06M320150501,   523, 50,     16,   254126,20150523,0610,  7.0000, -23.0000, 4074,    279.0,  11.5100,  35.1420,2,-999.0000,9,     68.9,2,     79.9,2,    11.69,2,    29.35,2,     0.02,   2,     1.83,2,    0.838,6,     0.46,6,     0.40,6,   -999.0,9,   -999.0,9,   -999.0,      9.0,9
  06M320150501,   523, 50,     17,   254127,20150523,0610,  7.0000, -23.0000, 4074,    249.0,  12.3450,  35.2180,2,-999.0000,9,     90.5,2,     95.3,2,     9.81,2,    25.83,2,     0.02,   2,     1.63,2,    1.005,6,     0.72,6,     0.10,6,   -999.0,9,   -999.0,9,   -999.0,      9.0,9
  06M320150501,   523, 50,     18,   254128,20150523,0612,  7.0000, -23.0000, 4074,    149.0,  14.0590,  35.4150,2,  35.4080,2,     87.1,2,     86.0,2,     8.07,2,    23.82,2,     0.03,   2,     1.52,2,    1.098,2,     0.91,2,     0.00,2,   2201.5,2,   2318.8,2,   -999.0,      9.0,9
  06M320150501,   523, 50,     19,   254129,20150523,0613,  7.0000, -23.0000, 4074,    101.0,  14.8300,  35.5030,2,-999.0000,9,     68.6,2,     70.9,6,     7.67,6,    24.69,6,     0.02,   6,     1.56,6,    1.129,2,     0.68,2,     0.00,2,   2210.8,2,   2323.0,2,   -999.0,      9.0,9
  06M320150501,   523, 50,     20,   254130,20150523,0614,  7.0000, -23.0000, 4074,     50.0,  17.2640,  35.7040,2,-999.0000,9,     98.9,2,    102.5,2,     4.81,2,    17.26,2,     0.24,   2,     1.12,2,    1.145,2,     0.94,2,     0.00,2,   2178.6,2,   2336.8,2,   -999.0,      9.0,9
  06M320150501,   523, 50,     21,   254131,20150523,0615,  7.0000, -23.0000, 4074,     21.0,  27.5570,  35.8380,2,-999.0000,9,    201.1,2,    202.1,2,     0.43,2,     0.00,2,     0.01,   2,     0.05,2,    0.921,2,     1.39,2,     0.00,2,   2027.6,2,   2347.3,2,   -999.0,      9.0,9
  06M320150501,   523, 50,     22,   254132,20150523,0615,  7.0000, -23.0000, 4074,     10.0,  27.5460,  35.8390,2,-999.0000,9,    202.7,2,    205.7,2,     0.42,2,     0.03,2,     0.01,   2,     0.04,2,    0.930,2,     1.35,2,     0.00,2,   2027.4,2,   2346.7,2,   -999.0,      9.0,9
  06M320150501,   524, 51,      1,   254133,20150523,1454,  8.0000, -22.0000, 4525,   1205.0,   4.7900,  34.8630,2,  34.8560,2,    170.9,2,    169.4,2,  -999.00,9,  -999.00,9,  -999.00,-999,  -999.00,9,    0.029,2,        0,2,     0.00,2,   -999.0,9,   -999.0,9,   -999.0,      9.0,9
  06M320150501,   524, 51,      2,   254134,20150523,1456,  8.0000, -22.0000, 4525,   1101.0,   4.9510,  34.8030,2,-999.0000,9,    153.2,9,   -999.0,9,  -999.00,9,  -999.00,9,  -999.00,-999,  -999.00,9,    0.018,2,        0,2,     0.00,2,   -999.0,9,   -999.0,9,   -999.0,      9.0,9
  06M320150501,   524, 51,      3,   254135,20150523,1500,  8.0000, -22.0000, 4525,    869.0,   5.4330,  34.6680,2,-999.0000,9,    119.2,9,   -999.0,9,  -999.00,9,  -999.00,9,  -999.00,-999,  -999.00,9,    0.022,2,        0,2,     0.00,2,   -999.0,9,   -999.0,9,   -999.0,      9.0,9
  06M320150501,   524, 51,      4,   254136,20150523,1500,  8.0000, -22.0000, 4525,    835.0,   5.6350,  34.6730,2,-999.0000,9,    111.9,9,   -999.0,9,  -999.00,9,  -999.00,9,  -999.00,-999,  -999.00,9,    0.030,2,        0,2,     0.00,2,   -999.0,9,   -999.0,9,   -999.0,      9.0,9
  06M320150501,   524, 51,      5,   254137,20150523,1501,  8.0000, -22.0000, 4525,    798.0,   5.8520,  34.6690,2,-999.0000,9,    105.6,2,    105.4,2,  -999.00,9,  -999.00,9,  -999.00,-999,  -999.00,9,    0.043,2,        0,2,     0.00,2,   -999.0,9,   -999.0,9,   -999.0,      9.0,9
  06M320150501,   524, 51,      6,   254138,20150523,1502,  8.0000, -22.0000, 4525,    701.0,   6.5610,  34.7150,2,-999.0000,9,     87.9,9,   -999.0,9,  -999.00,9,  -999.00,9,  -999.00,-999,  -999.00,9,    0.077,2,     0.06,2,     0.00,2,   -999.0,9,   -999.0,9,   -999.0,      9.0,9
  06M320150501,   524, 51,      7,   254139,20150523,1504,  8.0000, -22.0000, 4525,    600.0,   7.3350,  34.7810,2,-999.0000,9,     73.4,2,     73.8,2,  -999.00,9,  -999.00,9,  -999.00,-999,  -999.00,9,    0.135,2,     0.11,2,     0.00,2,   -999.0,9,   -999.0,9,   -999.0,      9.0,9
  06M320150501,   524, 51,      8,   254140,20150523,1505,  8.0000, -22.0000, 4525,    540.0,   8.0250,  34.8430,2,-999.0000,9,     64.4,9,   -999.0,9,  -999.00,9,  -999.00,9,  -999.00,-999,  -999.00,9,    0.194,6,     0.16,6,     0.05,6,   -999.0,9,   -999.0,9,   -999.0,      9.0,9
  06M320150501,   524, 51,      9,   254141,20150523,1505,  8.0000, -22.0000, 4525,    510.0,   8.4020,  34.8870,2,-999.0000,9,     57.2,9,   -999.0,9,  -999.00,9,  -999.00,9,  -999.00,-999,  -999.00,9, -999.000,9,     -999,9,     0.33,2,   -999.0,9,   -999.0,9,   -999.0,      9.0,9
  06M320150501,   524, 51,     10,   254142,20150523,1506,  8.0000, -22.0000, 4525,    480.0,   8.6810,  34.9020,2,-999.0000,9,     57.3,9,   -999.0,9,  -999.00,9,  -999.00,9,  -999.00,-999,  -999.00,9,    0.276,6,     0.16,6,     0.69,6,   -999.0,9,   -999.0,9,   -999.0,      9.0,9
  06M320150501,   524, 51,     11,   254143,20150523,1506,  8.0000, -22.0000, 4525,    450.0,   9.2970,  34.9660,2,-999.0000,9,     50.7,9,   -999.0,9,  -999.00,9,  -999.00,9,  -999.00,-999,  -999.00,9, -999.000,9,     -999,9,     1.99,2,   -999.0,9,   -999.0,9,   -999.0,      9.0,9
  06M320150501,   524, 51,     12,   254144,20150523,1507,  8.0000, -22.0000, 4525,    420.0,   9.7400,  35.0130,2,-999.0000,9,     46.6,2,     48.4,6,  -999.00,9,  -999.00,9,  -999.00,-999,  -999.00,9,    0.376,6,     0.33,6,     3.84,6,   -999.0,9,   -999.0,9,   -999.0,      9.0,9
  06M320150501,   524, 51,     13,   254145,20150523,1507,  8.0000, -22.0000, 4525,    390.0,  10.1680,  35.0500,2,-999.0000,9,     46.2,9,   -999.0,9,  -999.00,9,  -999.00,9,  -999.00,-999,  -999.00,9, -999.000,9,     -999,9,     2.85,2,   -999.0,9,   -999.0,9,   -999.0,      9.0,9
  06M320150501,   524, 51,     14,   254146,20150523,1508,  8.0000, -22.0000, 4525,    359.0,  10.3640,  35.0540,2,  35.0570,2,     50.8,9,   -999.0,9,  -999.00,9,  -999.00,9,  -999.00,-999,  -999.00,9, -999.000,9,     -999,9,     1.77,2,   -999.0,9,   -999.0,9,   -999.0,      9.0,9
  06M320150501,   524, 51,     15,   254147,20150523,1508,  8.0000, -22.0000, 4525,    330.0,  10.6510,  35.0760,2,-999.0000,9,     55.3,9,   -999.0,9,  -999.00,9,  -999.00,9,  -999.00,-999,  -999.00,9,    0.597,6,     0.31,6,     1.06,6,   -999.0,9,   -999.0,9,   -999.0,      9.0,9
  06M320150501,   524, 51,     16,   254148,20150523,1509,  8.0000, -22.0000, 4525,    300.0,  11.2410,  35.1170,2,-999.0000,9,     69.9,9,   -999.0,9,  -999.00,9,  -999.00,9,  -999.00,-999,  -999.00,9,    0.737,6,     0.38,6,     0.66,6,   -999.0,9,   -999.0,9,   -999.0,      9.0,9
  06M320150501,   524, 51,     17,   254149,20150523,1509,  8.0000, -22.0000, 4525,    269.0,  11.5170,  35.1330,2,-999.0000,9,     80.1,9,   -999.0,9,  -999.00,9,  -999.00,9,  -999.00,-999,  -999.00,9,    0.879,6,     0.59,6,     0.38,6,   -999.0,9,   -999.0,9,   -999.0,      9.0,9
  06M320150501,   524, 51,     18,   254150,20150523,1511,  8.0000, -22.0000, 4525,    150.0,  13.7810,  35.3810,2,-999.0000,9,     82.5,9,   -999.0,9,  -999.00,9,  -999.00,9,  -999.00,-999,  -999.00,9,    1.063,6,     0.77,6,     0.00,6,   -999.0,9,   -999.0,9,   -999.0,      9.0,9
  06M320150501,   524, 51,     19,   254151,20150523,1512,  8.0000, -22.0000, 4525,    101.0,  14.5590,  35.4720,2,-999.0000,9,     80.0,9,   -999.0,9,  -999.00,9,  -999.00,9,  -999.00,-999,  -999.00,9,    1.128,2,     0.84,2,     0.00,2,   -999.0,9,   -999.0,9,   -999.0,      9.0,9
  06M320150501,   524, 51,     20,   254152,20150523,1513,  8.0000, -22.0000, 4525,     61.0,  15.8110,  35.5910,2,-999.0000,9,     64.7,2,     63.7,2,  -999.00,9,  -999.00,9,  -999.00,-999,  -999.00,9,    1.131,2,     1.07,2,     0.00,2,   -999.0,9,   -999.0,9,   -999.0,      9.0,9
  06M320150501,   524, 51,     21,   254153,20150523,1514,  8.0000, -22.0000, 4525,     21.0,  27.4700,  35.9880,2,  35.9880,2,    206.4,9,   -999.0,9,  -999.00,9,  -999.00,9,  -999.00,-999,  -999.00,9,    0.921,2,     1.43,2,     0.00,2,   -999.0,9,   -999.0,9,   -999.0,      9.0,9
  06M320150501,   524, 51,     22,   254154,20150523,1515,  8.0000, -22.0000, 4525,     11.0,  27.6050,  35.9940,2,-999.0000,9,    203.2,2,    204.0,2,  -999.00,9,  -999.00,9,  -999.00,-999,  -999.00,9,    0.927,2,     1.33,2,     0.00,2,   -999.0,9,   -999.0,9,   -999.0,      9.0,9
  06M320150501,   525, 52,      1,   254155,20150523,2141,  9.0000, -22.0000, 4599,   1202.0,   4.7990,  34.8670,2,  34.8660,2,    167.6,2,    167.0,6,  -999.00,9,  -999.00,9,  -999.00,-999,  -999.00,9,    0.016,2,        0,2,     0.00,2,   -999.0,9,   -999.0,9,   -999.0,      9.0,9
  06M320150501,   525, 52,      2,   254156,20150523,2144,  9.0000, -22.0000, 4599,   1098.0,   5.0880,  34.8340,2,-999.0000,9,    147.7,9,   -999.0,9,  -999.00,9,  -999.00,9,  -999.00,-999,  -999.00,9,    0.009,2,        0,2,     0.00,2,   -999.0,9,   -999.0,9,   -999.0,      9.0,9
  06M320150501,   525, 52,      3,   254157,20150523,2146,  9.0000, -22.0000, 4599,    999.0,   5.3090,  34.7570,2,-999.0000,9,    128.9,9,   -999.0,9,  -999.00,9,  -999.00,9,  -999.00,-999,  -999.00,9,    0.011,2,        0,2,     0.00,2,   -999.0,9,   -999.0,9,   -999.0,      9.0,9
  06M320150501,   525, 52,      4,   254158,20150523,2147,  9.0000, -22.0000, 4599,    898.0,   5.4480,  34.6980,2,-999.0000,9,    119.3,9,   -999.0,9,  -999.00,9,  -999.00,9,  -999.00,-999,  -999.00,9,    0.016,2,        0,2,     0.00,2,   -999.0,9,   -999.0,9,   -999.0,      9.0,9
  06M320150501,   525, 52,      5,   254159,20150523,2149,  9.0000, -22.0000, 4599,    796.0,   5.8680,  34.6880,2,  34.6890,2,    105.0,2,    104.4,2,  -999.00,9,  -999.00,9,  -999.00,-999,  -999.00,9,    0.035,2,        0,2,     0.00,2,   -999.0,9,   -999.0,9,   -999.0,      9.0,9
  06M320150501,   525, 52,      6,   254160,20150523,2152,  9.0000, -22.0000, 4599,    699.0,   6.5240,  34.7240,2,-999.0000,9,     87.8,9,   -999.0,9,  -999.00,9,  -999.00,9,  -999.00,-999,  -999.00,9,    0.068,2,        0,2,     0.00,2,   -999.0,9,   -999.0,9,   -999.0,      9.0,9
  06M320150501,   525, 52,      7,   254161,20150523,2154,  9.0000, -22.0000, 4599,    600.0,   7.3420,  34.7730,2,-999.0000,9,     77.5,2,     76.4,2,  -999.00,9,  -999.00,9,  -999.00,-999,  -999.00,9,    0.158,2,        0,2,     0.00,2,   -999.0,9,   -999.0,9,   -999.0,      9.0,9
  06M320150501,   525, 52,      8,   254162,20150523,2155,  9.0000, -22.0000, 4599,    545.0,   7.9840,  34.8350,2,-999.0000,9,     68.1,9,   -999.0,9,  -999.00,9,  -999.00,9,  -999.00,-999,  -999.00,9,    0.206,6,        0,6,     0.03,6,   -999.0,9,   -999.0,9,   -999.0,      9.0,9
  06M320150501,   525, 52,      9,   254163,20150523,2155,  9.0000, -22.0000, 4599,    515.0,   8.3900,  34.8830,2,-999.0000,9,     58.8,9,   -999.0,9,  -999.00,9,  -999.00,9,  -999.00,-999,  -999.00,9, -999.000,9,     -999,9,     0.17,2,   -999.0,9,   -999.0,9,   -999.0,      9.0,9
  06M320150501,   525, 52,     10,   254164,20150523,2156,  9.0000, -22.0000, 4599,    485.0,   8.7500,  34.9250,2,-999.0000,9,     54.2,9,   -999.0,9,  -999.00,9,  -999.00,9,  -999.00,-999,  -999.00,9,    0.263,6,     0.14,6,     0.68,6,   -999.0,9,   -999.0,9,   -999.0,      9.0,9
  06M320150501,   525, 52,     11,   254165,20150523,2156,  9.0000, -22.0000, 4599,    456.0,   9.0630,  34.9580,2,-999.0000,9,     50.6,9,   -999.0,9,  -999.00,9,  -999.00,9,  -999.00,-999,  -999.00,9, -999.000,9,     -999,9,     0.64,2,   -999.0,9,   -999.0,9,   -999.0,      9.0,9
  06M320150501,   525, 52,     12,   254166,20150523,2157,  9.0000, -22.0000, 4599,    424.0,   9.5810,  35.0190,2,  35.0090,2,     45.4,2,     47.4,2,  -999.00,9,  -999.00,9,  -999.00,-999,  -999.00,9,    0.360,6,     0.27,6,     4.37,6,   -999.0,9,   -999.0,9,   -999.0,      9.0,9
  06M320150501,   525, 52,     13,   254167,20150523,2158,  9.0000, -22.0000, 4599,    395.0,   9.7420,  35.0100,2,-999.0000,9,     49.5,9,   -999.0,9,  -999.00,9,  -999.00,9,  -999.00,-999,  -999.00,9, -999.000,9,     -999,9,     3.45,2,   -999.0,9,   -999.0,9,   -999.0,      9.0,9
  06M320150501,   525, 52,     14,   254168,20150523,2159,  9.0000, -22.0000, 4599,    368.0,   9.8690,  34.9860,2,-999.0000,9,     63.7,9,   -999.0,9,  -999.00,9,  -999.00,9,  -999.00,-999,  -999.00,9,    0.566,6,     0.31,6,     0.94,6,   -999.0,9,   -999.0,9,   -999.0,      9.0,9
  06M320150501,   525, 52,     15,   254169,20150523,2200,  9.0000, -22.0000, 4599,    334.0,  10.3920,  35.0260,2,-999.0000,9,     72.0,9,   -999.0,9,  -999.00,9,  -999.00,9,  -999.00,-999,  -999.00,9, -999.000,9,     -999,9,     1.07,2,   -999.0,9,   -999.0,9,   -999.0,      9.0,9
  06M320150501,   525, 52,     16,   254170,20150523,2201,  9.0000, -22.0000, 4599,    304.0,  10.7190,  35.0740,2,-999.0000,9,     64.8,9,   -999.0,9,  -999.00,9,  -999.00,9,  -999.00,-999,  -999.00,9,    0.698,6,     0.36,6,     0.64,6,   -999.0,9,   -999.0,9,   -999.0,      9.0,9
  06M320150501,   525, 52,     17,   254171,20150523,2201,  9.0000, -22.0000, 4599,    274.0,  11.4200,  35.1830,2,-999.0000,9,     57.1,9,   -999.0,9,  -999.00,9,  -999.00,9,  -999.00,-999,  -999.00,9,    0.731,6,     0.43,6,     0.63,6,   -999.0,9,   -999.0,9,   -999.0,      9.0,9
  06M320150501,   525, 52,     18,   254172,20150523,2204,  9.0000, -22.0000, 4599,    150.0,  12.9860,  35.2930,2,-999.0000,9,    104.7,9,   -999.0,9,  -999.00,9,  -999.00,9,  -999.00,-999,  -999.00,9,    1.102,2,     0.78,2,     0.00,2,   -999.0,9,   -999.0,9,   -999.0,      9.0,9
  06M320150501,   525, 52,     19,   254173,20150523,2204,  9.0000, -22.0000, 4599,    100.0,  14.2490,  35.4410,2,-999.0000,9,     77.6,9,   -999.0,9,  -999.00,9,  -999.00,9,  -999.00,-999,  -999.00,9,    1.110,2,     0.73,2,     0.00,2,   -999.0,9,   -999.0,9,   -999.0,      9.0,9
  06M320150501,   525, 52,     20,   254174,20150523,2206,  9.0000, -22.0000, 4599,     51.0,  16.9580,  35.6500,2,-999.0000,9,     81.1,2,     80.5,2,  -999.00,9,  -999.00,9,  -999.00,-999,  -999.00,9,    1.130,2,     0.87,2,     0.00,2,   -999.0,9,   -999.0,9,   -999.0,      9.0,9
  06M320150501,   525, 52,     21,   254175,20150523,2207,  9.0000, -22.0000, 4599,     21.0,  23.6090,  35.9190,2,-999.0000,9,    224.1,9,   -999.0,9,  -999.00,9,  -999.00,9,  -999.00,-999,  -999.00,9,    1.073,2,     1.56,2,     0.00,2,   -999.0,9,   -999.0,9,   -999.0,      9.0,9
  06M320150501,   525, 52,     22,   254176,20150523,2208,  9.0000, -22.0000, 4599,     11.0,  27.2010,  36.0050,2,-999.0000,9,    202.2,2,    206.8,2,  -999.00,9,  -999.00,9,  -999.00,-999,  -999.00,9,    0.956,2,     1.48,2,     0.00,2,   -999.0,9,   -999.0,9,   -999.0,      9.0,9