BOTTLE,20180504PRINUNIVRMK
EXPOCODE,STNNBR,CASTNO,BTLNBR,BEDFORD,DATE,TIME,LATITUDE,LONGITUDE,DEPTH,CTDPRS,CTDTMP,CTDSAL,CTDSAL_FLAG_W,SALNTY,SALNTY_FLAG_W,CTDOXY,CTDOXY_FLAG_W,OXYGEN,OXYGEN_FLAG_W,SILCAT,SILCAT_FLAG_W,NITRAT,NITRAT_FLAG_W,NITRIT,NITRIT_FLAG_W,PHSPHT,PHSPHT_FLAG_W,CFC-12,CFC-12_FLAG_W,SF6,SF6_FLAG_W,SF5CF3,SF5CF3_FLAG_W,TCARBN,TCARBN_FLAG_W,ALKALI,ALKALI_FLAG_W,AR-39,AR-39ER,AR-39_FLAG_W
,,,,,,,,,METERS,DBAR,ITS-90,PSS-78,,PSS-78,,UMOL/KG,,UMOL/KG,,UMOL/KG,,UMOL/KG,,UMOL/KG,,UMOL/KG,,PMOL/KG,,FMOL/KG,,FMOL/KG,,UMOL/KG,,UMOL/KG,,%Modern,%Modern,
  06M320150501,   506, 33,      1,   253718,20150517,0941,  8.0000, -28.0000, 5199,   5189.0,   2.3340,  34.8710,2,  34.8710,2,    243.0,2,    243.0,2,    50.94,2,    22.62,2,     0.01,   2,     1.52,2,    0.017,2,        0,3,     0.00,2,   2206.8,6,   2361.6,6,   -999.0,      9.0,9
  06M320150501,   506, 33,      2,   253719,20150517,0943,  8.0000, -28.0000, 5199,   5069.0,   2.3240,  34.8710,2,-999.0000,9,    244.2,2,    244.0,2,    50.36,2,    22.64,2,     0.00,   2,     1.52,2,    0.019,2,        0,3,     0.00,2,   2205.0,2,   2365.5,2,   -999.0,      9.0,9
  06M320150501,   506, 33,      3,   253720,20150517,0953,  8.0000, -28.0000, 5199,   4499.0,   2.3140,  34.8770,2,-999.0000,9,    248.6,2,    249.2,2,    44.02,6,    21.61,6,     0.00,   6,     1.45,6,    0.055,2,        0,3,     0.00,2,   2194.6,2,   2354.2,2,   -999.0,      9.0,9
  06M320150501,   506, 33,      4,   253721,20150517,1002,  8.0000, -28.0000, 5199,   4000.0,   2.3380,  34.8830,2,-999.0000,9,    252.4,2,    252.8,6,    42.69,2,    21.64,2,     0.00,   2,     1.44,2,    0.066,2,        0,3,     0.00,2,   2188.4,6,   2351.7,6,   -999.0,      9.0,9
  06M320150501,   506, 33,      5,   253722,20150517,1011,  8.0000, -28.0000, 5199,   3499.0,   2.5000,  34.8990,2,-999.0000,9,    249.7,2,    250.6,2,    39.11,2,    21.25,2,     0.00,   2,     1.42,2,    0.028,2,        0,3,     0.00,2,   2187.1,2,   2344.7,2,   -999.0,      9.0,9
  06M320150501,   506, 33,      6,   253723,20150517,1019,  8.0000, -28.0000, 5199,   2999.0,   2.7070,  34.9140,2,  34.9170,2,    247.3,2,    248.5,2,    34.93,2,    21.17,2,     0.00,   2,     1.40,2,    0.017,2,        0,3,     0.00,2,   2182.6,2,   2341.3,2,   -999.0,      9.0,9
  06M320150501,   506, 33,      7,   253724,20150517,1028,  8.0000, -28.0000, 5199,   2500.0,   2.9970,  34.9340,2,-999.0000,9,    247.4,2,    249.1,6,    28.72,2,    20.69,2,     0.00,   2,     1.37,2,    0.020,2,        0,3,     0.00,2,   2174.2,2,   2334.4,2,   -999.0,      9.0,9
  06M320150501,   506, 33,      8,   253725,20150517,1036,  8.0000, -28.0000, 5199,   1999.0,   3.5900,  34.9610,2,-999.0000,9,    245.0,2,    246.8,2,    20.77,2,    20.21,2,     0.00,   2,     1.33,2,    0.089,2,        0,3,     0.00,2,   2169.4,2,   2328.1,2,   -999.0,      9.0,9
  06M320150501,   506, 33,      9,   253726,20150517,1041,  8.0000, -28.0000, 5199,   1749.0,   3.9400,  34.9720,2,  34.9740,2,    241.0,2,    242.4,2,    17.95,2,    20.22,2,     0.00,   2,     1.33,2,    0.180,2,        0,3,     0.00,2,   2170.0,2,   2324.3,2,   -999.0,      9.0,9
  06M320150501,   506, 33,     10,   253727,20150517,1045,  8.0000, -28.0000, 5199,   1499.0,   4.4200,  34.9510,2,-999.0000,9,    213.0,2,    213.9,2,    19.59,2,    23.23,2,     0.00,   2,     1.53,2,    0.103,2,        0,3,     0.00,2,   2184.5,2,   2327.2,2,   -999.0,      9.0,9
  06M320150501,   506, 33,     11,   253728,20150517,1049,  8.0000, -28.0000, 5199,   1249.0,   4.8190,  34.8750,2,-999.0000,9,    178.4,2,    178.9,2,    22.96,2,    27.50,2,     0.00,   2,     1.82,2,    0.051,2,        0,2,     0.00,2,   2203.2,2,   2314.8,2,   -999.0,      9.0,9
  06M320150501,   506, 33,     12,   253729,20150517,1054,  8.0000, -28.0000, 5199,   1000.0,   5.0660,  34.6910,2,-999.0000,9,    139.4,2,    139.4,2,    27.96,2,    33.58,2,     0.00,   2,     2.25,2,    0.021,2,        0,2,     0.00,2,   2220.8,2,   2288.0,2,   -999.0,      9.0,9
  06M320150501,   506, 33,     13,   253730,20150517,1058,  8.0000, -28.0000, 5199,    750.0,   6.0350,  34.6600,2,  34.6620,2,    110.6,2,    110.6,2,    25.25,2,    36.14,2,     0.00,   2,     2.35,2,    0.098,2,        0,2,     0.00,2,   2231.8,2,   2304.3,2,   -999.0,      9.0,9
  06M320150501,   506, 33,     14,   253731,20150517,1103,  8.0000, -28.0000, 5199,    499.0,   8.5830,  34.8610,2,-999.0000,9,     73.1,2,     72.8,6,    17.47,2,    35.50,2,     0.01,   2,     2.19,2,    0.365,6,     0.29,6,     0.29,6,   2239.5,2,   2306.0,2,   -999.0,      9.0,9
  06M320150501,   506, 33,     15,   253732,20150517,1104,  8.0000, -28.0000, 5199,    449.0,   9.0310,  34.8940,2,-999.0000,9,     71.8,2,     70.4,2,    16.57,2,    34.66,2,     0.01,   2,     2.13,2, -999.000,9,     -999,9,     0.55,2,   -999.0,9,   -999.0,9,   -999.0,      9.0,9
  06M320150501,   506, 33,     16,   253733,20150517,1104,  8.0000, -28.0000, 5199,    420.0,   9.3510,  34.9060,2,-999.0000,9,     79.9,2,     75.9,2,    15.91,2,    34.06,2,     0.01,   2,     2.09,2,    0.538,6,     0.43,6,     0.41,6,   2230.9,2,   2305.4,2,   -999.0,      9.0,9
  06M320150501,   506, 33,     17,   253734,20150517,1105,  8.0000, -28.0000, 5199,    388.0,   9.5700,  34.9130,2,-999.0000,9,     87.8,2,     88.2,2,    14.68,6,    31.81,6,     0.00,   6,     1.97,6, -999.000,9,     -999,9,     0.28,2,   -999.0,9,   -999.0,9,   -999.0,      9.0,9
  06M320150501,   506, 33,     18,   253735,20150517,1106,  8.0000, -28.0000, 5199,    329.0,  10.4020,  34.9940,2,-999.0000,9,     95.2,2,     96.8,2,    12.51,2,    29.11,2,     0.01,   2,     1.82,2,    0.851,6,     0.43,6,     0.34,6,   2212.4,2,   2308.0,2,   -999.0,      9.0,9
  06M320150501,   506, 33,     19,   253736,20150517,1107,  8.0000, -28.0000, 5199,    270.0,  11.0020,  35.0480,2,-999.0000,9,    115.3,2,    119.7,2,    11.09,2,    25.77,2,     0.01,   2,     1.63,2,    1.023,6,     0.75,6,     0.19,6,   2195.5,2,   2313.0,2,   -999.0,      9.0,9
  06M320150501,   506, 33,     20,   253737,20150517,1108,  8.0000, -28.0000, 5199,    199.0,  12.1630,  35.1880,2,-999.0000,9,    114.9,2,    115.0,2,     9.40,2,    23.95,2,     0.01,   2,     1.52,2,    1.097,6,     0.76,6,     0.04,6,   2192.4,2,   2317.3,2,   -999.0,      9.0,9
  06M320150501,   506, 33,     21,   253738,20150517,1109,  8.0000, -28.0000, 5199,    149.0,  13.0780,  35.3050,2,-999.0000,9,    131.6,9,   -999.0,9,     7.26,6,    19.19,6,     0.03,   6,     1.25,6,    1.223,2,     1.03,2,     0.00,2,   2181.1,2,   2326.1,2,   -999.0,      9.0,9
  06M320150501,   506, 33,     22,   253739,20150517,1110,  8.0000, -28.0000, 5199,    100.0,  14.7310,  35.5150,2,-999.0000,9,    126.7,2,    130.3,2,     7.07,2,    18.70,2,     0.04,   2,     1.21,2,    1.216,2,     0.97,2,     0.00,2,   2176.8,2,   2333.0,2,   -999.0,      9.0,9
  06M320150501,   506, 33,     23,   253740,20150517,1111,  8.0000, -28.0000, 5199,     50.0,  21.7750,  35.8840,2,  35.7870,2,    208.0,3,    150.4,2,     3.81,2,     9.42,2,     0.12,   2,     0.65,2,    1.140,2,     0.99,2,     0.00,2,   2137.9,2,   2348.9,2,   -999.0,      9.0,9
  06M320150501,   506, 33,     24,   253741,20150517,1113,  8.0000, -28.0000, 5199,     10.0,  27.3400,  36.1680,2,-999.0000,9,    204.5,2,    204.1,2,     1.09,2,     0.12,2,     0.01,   2,     0.02,2,    0.966,2,      1.4,2,     0.00,2,   2024.6,2,   2369.8,2,   -999.0,      9.0,9
  06M320150501,   507, 34,      1,   253742,20150517,1838,  9.0000, -28.0000, 5311,   5301.0,   2.3080,  34.8670,2,  34.8680,2,    244.0,2,    245.0,2,    51.16,6,    22.81,6,     0.03,   6,     1.52,6,    0.024,2,     0.11,2,     0.00,2,   2200.4,6,   2361.1,6,   -999.0,      9.0,9
  06M320150501,   507, 34,      2,   253743,20150517,1840,  9.0000, -28.0000, 5311,   5199.0,   2.2960,  34.8670,2,-999.0000,9,    244.4,2,    244.5,6,    51.01,2,    22.77,2,     0.03,   2,     1.52,2,    0.022,2,        0,2,     0.00,2,   2200.6,2,   2358.8,2,   -999.0,      9.0,9
  06M320150501,   507, 34,      3,   253744,20150517,1851,  9.0000, -28.0000, 5311,   4499.0,   2.2910,  34.8750,2,-999.0000,9,    248.0,2,    247.7,2,    47.73,2,    22.41,2,     0.02,   2,     1.48,2,    0.036,2,        0,2,     0.00,2,   2193.6,2,   2348.4,2,   -999.0,      9.0,9
  06M320150501,   507, 34,      4,   253745,20150517,1859,  9.0000, -28.0000, 5311,   3999.0,   2.3530,  34.8850,2,  34.8860,2,    252.1,2,    252.5,2,    42.22,2,    21.62,2,     0.02,   2,     1.43,2,    0.047,2,        0,2,     0.00,2,   2183.5,6,   2345.0,6,   -999.0,      9.0,9
  06M320150501,   507, 34,      5,   253746,20150517,1908,  9.0000, -28.0000, 5311,   3499.0,   2.4920,  34.8980,2,-999.0000,9,    248.2,2,    249.6,2,    39.32,2,    21.57,2,     0.02,   2,     1.43,2,    0.018,2,        0,2,     0.00,2,   2182.9,2,   2346.4,2,   -999.0,      9.0,9
  06M320150501,   507, 34,      6,   253747,20150517,1917,  9.0000, -28.0000, 5311,   2999.0,   2.6720,  34.9140,2,-999.0000,9,    248.8,2,    249.4,2,    34.50,2,    21.19,2,     0.00,   2,     1.39,2,    0.013,2,        0,2,     0.00,2,   2178.6,2,   2335.9,2,   -999.0,      9.0,9
  06M320150501,   507, 34,      7,   253748,20150517,1932,  9.0000, -28.0000, 5311,   2498.0,   2.9900,  34.9360,2,-999.0000,9,    247.4,2,    249.7,2,    28.13,2,    20.76,2,     0.02,   2,     1.35,2,    0.014,2,        0,2,     0.00,2,   2166.9,2,   2332.8,2,   -999.0,      9.0,9
  06M320150501,   507, 34,      8,   253749,20150517,1943,  9.0000, -28.0000, 5311,   1998.0,   3.5050,  34.9560,2,-999.0000,9,    241.6,2,    243.3,2,    22.03,2,    20.85,2,     0.03,   2,     1.36,2,    0.019,2,        0,2,     0.00,2,   2165.5,2,   2331.4,2,   -999.0,      9.0,9
  06M320150501,   507, 34,      9,   253750,20150517,1948,  9.0000, -28.0000, 5311,   1749.0,   3.8060,  34.9600,2,-999.0000,9,    232.9,2,    235.0,2,    20.42,2,    21.59,2,     0.00,   2,     1.40,2,    0.033,2,        0,2,     0.00,2,   2168.7,2,   2330.8,2,   -999.0,      9.0,9
  06M320150501,   507, 34,     10,   253751,20150517,1952,  9.0000, -28.0000, 5311,   1499.0,   4.2130,  34.9530,2,-999.0000,9,    215.5,2,    217.3,2,    20.02,2,    23.16,2,     0.02,   2,     1.51,2,    0.045,2,        0,2,     0.00,2,   2178.6,2,   2320.9,2,   -999.0,      9.0,9
  06M320150501,   507, 34,     11,   253752,20150517,1956,  9.0000, -28.0000, 5311,   1249.0,   4.7530,  34.8910,2,-999.0000,9,    177.6,2,    178.5,2,    22.78,2,    27.35,2,     0.02,   2,     1.80,2,    0.028,2,        0,2,     0.00,2,   2197.7,2,   2326.8,2,   -999.0,      9.0,9
  06M320150501,   507, 34,     12,   253753,20150517,2000,  9.0000, -28.0000, 5311,    999.0,   5.1580,  34.7330,2,-999.0000,9,    137.0,2,    130.7,3,    26.78,2,    33.96,2,     0.02,   2,     2.21,2,    0.013,2,        0,2,     0.00,2,   2220.3,2,   2312.7,2,   -999.0,      9.0,9
  06M320150501,   507, 34,     13,   253754,20150517,2004,  9.0000, -28.0000, 5311,    749.0,   6.1140,  34.6860,2,-999.0000,9,    102.0,2,    105.7,2,    24.93,2,    37.17,2,     0.02,   2,     2.38,2,    0.063,2,     0.17,2,     0.00,2,   2232.3,2,   2305.5,2,   -999.0,      9.0,9
  06M320150501,   507, 34,     14,   253755,20150517,2008,  9.0000, -28.0000, 5311,    489.0,   8.9740,  34.9440,2,-999.0000,9,     55.0,2,     57.1,6,    17.03,2,    36.79,2,     0.02,   2,     2.22,2,    0.294,6,      0.2,6,     0.81,6,   2243.3,2,   2303.9,2,   -999.0,      9.0,9
  06M320150501,   507, 34,     15,   253756,20150517,2009,  9.0000, -28.0000, 5311,    429.0,   9.5700,  34.9840,2,-999.0000,9,     55.2,2,     55.8,2,    15.31,2,    35.95,2,     0.02,   2,     2.13,2,    0.510,6,     0.31,6,     1.95,6,   -999.0,9,   -999.0,9,   -999.0,      9.0,9
  06M320150501,   507, 34,     16,   253757,20150517,2010,  9.0000, -28.0000, 5311,    399.0,   9.8540,  35.0000,2,-999.0000,9,     58.0,2,     59.8,2,    14.65,6,    34.85,6,     0.02,   6,     2.08,6,    0.810,6,     0.38,6,     1.07,6,   2236.0,2,   2302.1,2,   -999.0,      9.0,9
  06M320150501,   507, 34,     17,   253758,20150517,2010,  9.0000, -28.0000, 5311,    369.0,   9.9400,  34.9870,2,-999.0000,9,     68.2,2,     66.8,2,    14.01,2,    33.54,2,     0.02,   2,     2.01,2,    0.929,6,     0.52,6,     0.60,6,   -999.0,9,   -999.0,9,   -999.0,      9.0,9
  06M320150501,   507, 34,     18,   253759,20150517,2011,  9.0000, -28.0000, 5311,    309.0,  10.4440,  35.0060,2,-999.0000,9,     91.4,2,     92.5,2,    12.43,2,    29.81,2,     0.03,   2,     1.83,2,    1.030,6,     0.61,6,     0.31,6,   2214.1,2,   2308.2,2,   -999.0,      9.0,9
  06M320150501,   507, 34,     19,   253760,20150517,2012,  9.0000, -28.0000, 5311,    259.0,  11.0190,  35.0620,2,-999.0000,9,     97.3,2,     98.8,2,    11.19,2,    28.00,2,     0.02,   2,     1.72,2,    1.093,6,     0.72,6,     0.16,6,   2205.3,2,   2304.4,2,   -999.0,      9.0,9
  06M320150501,   507, 34,     20,   253761,20150517,2013,  9.0000, -28.0000, 5311,    199.0,  11.8060,  35.1540,2,-999.0000,9,     96.7,2,    102.9,2,    10.05,2,    26.08,2,     0.02,   2,     1.62,2,    1.147,6,     0.81,6,     0.09,6,   2198.4,2,   2310.6,2,   -999.0,      9.0,9
  06M320150501,   507, 34,     21,   253762,20150517,2014,  9.0000, -28.0000, 5311,    148.0,  12.7690,  35.2640,2,-999.0000,9,     91.4,2,     93.0,2,     8.86,2,    25.08,2,     0.02,   2,     1.55,2,    1.139,2,     1.02,2,     0.00,2,   2203.5,2,   2318.5,2,   -999.0,      9.0,9
  06M320150501,   507, 34,     22,   253763,20150517,2014,  9.0000, -28.0000, 5311,    101.0,  13.6550,  35.3700,2,-999.0000,9,     88.6,3,     91.7,2,     7.85,6,    23.77,6,     0.03,   6,     1.48,6, -999.000,9,     -999,9,  -999.00,9,   2201.8,2,   2322.5,2,   -999.0,      9.0,9
  06M320150501,   507, 34,     23,   253764,20150517,2016,  9.0000, -28.0000, 5311,     51.0,  19.1900,  35.7580,2,  35.7420,2,    185.6,3,    177.0,2,     2.94,2,     6.09,2,     0.12,   2,     0.49,2, -999.000,9,     -999,9,  -999.00,9,   2119.9,2,   2351.5,2,   -999.0,      9.0,9
  06M320150501,   507, 34,     24,   253765,20150517,2017,  9.0000, -28.0000, 5311,     11.0,  26.9440,  36.2050,2,-999.0000,9,    204.0,2,    205.0,6,     1.08,2,     0.00,2,     0.01,   2,     0.01,2,    0.966,2,     1.59,2,     0.00,2,   2028.7,2,   2370.4,2,   -999.0,      9.0,9