BOTTLE,20180504PRINUNIVRMK
EXPOCODE,STNNBR,CASTNO,BTLNBR,BEDFORD,DATE,TIME,LATITUDE,LONGITUDE,DEPTH,CTDPRS,CTDTMP,CTDSAL,CTDSAL_FLAG_W,SALNTY,SALNTY_FLAG_W,CTDOXY,CTDOXY_FLAG_W,OXYGEN,OXYGEN_FLAG_W,SILCAT,SILCAT_FLAG_W,NITRAT,NITRAT_FLAG_W,NITRIT,NITRIT_FLAG_W,PHSPHT,PHSPHT_FLAG_W,CFC-12,CFC-12_FLAG_W,SF6,SF6_FLAG_W,SF5CF3,SF5CF3_FLAG_W,TCARBN,TCARBN_FLAG_W,ALKALI,ALKALI_FLAG_W,AR-39,AR-39ER,AR-39_FLAG_W
,,,,,,,,,METERS,DBAR,ITS-90,PSS-78,,PSS-78,,UMOL/KG,,UMOL/KG,,UMOL/KG,,UMOL/KG,,UMOL/KG,,UMOL/KG,,PMOL/KG,,FMOL/KG,,FMOL/KG,,UMOL/KG,,UMOL/KG,,%Modern,%Modern,
  06M320150501,   510, 37,      1,   253814,20150518,2106, 11.9000, -28.1000, 5771,   5761.0,   2.3340,  34.8630,2,-999.0000,9,    246.1,2,    246.4,2,    51.72,6,    22.57,6,     0.01,   6,     1.52,6,    0.045,2,        0,2,     0.00,2,   2202.6,6,   2360.7,6,   -999.0,      9.0,9
  06M320150501,   510, 37,      2,   253815,20150518,2109, 11.9000, -28.1000, 5771,   5600.0,   2.3130,  34.8630,2,  34.8640,2,    247.0,2,    245.7,2,    51.62,2,    22.63,2,     0.00,   2,     1.52,2,    0.041,2,        0,2,     0.00,2,   2202.6,2,   2359.1,2,   -999.0,      9.0,9
  06M320150501,   510, 37,      3,   253816,20150518,2228, 11.9000, -28.1000, 5771,   4999.0,   2.2820,  34.8690,2,-999.0000,9,    243.7,2,    244.6,2,    51.07,2,    22.77,2,     0.01,   2,     1.52,2,    0.019,2,        0,2,     0.00,2,   2204.0,2,   2376.6,2,   -999.0,      9.0,9
  06M320150501,   510, 37,      4,   253817,20150518,2246, 11.9000, -28.1000, 5771,   4497.0,   2.3010,  34.8760,2,-999.0000,9,    236.6,2,    237.4,2,    51.18,2,    22.96,2,     0.00,   2,     1.54,2,    0.006,2,        0,2,     0.00,2,   2210.6,2,   -999.0,9,   -999.0,      9.0,9
  06M320150501,   510, 37,      5,   253818,20150518,2256, 11.9000, -28.1000, 5771,   4000.0,   2.3810,  34.8890,2,-999.0000,9,    243.0,2,    195.9,3,    44.46,2,    22.09,2,     0.00,   2,     1.47,2,    0.004,2,        0,2,     0.00,2,   2194.9,6,   2356.5,2,   -999.0,      9.0,9
  06M320150501,   510, 37,      6,   253819,20150518,2315, 11.9000, -28.1000, 5771,   2999.0,   2.7450,  34.9240,2,  34.9230,2,    243.0,2,    196.7,3,    34.59,2,    21.11,2,     0.00,   2,     1.40,2,    0.005,2,        0,2,     0.00,2,   2184.2,2,   2333.0,2,   -999.0,      9.0,9
  06M320150501,   510, 37,      7,   253820,20150518,2337, 11.9000, -28.1000, 5771,   2500.0,   3.0810,  34.9450,2,-999.0000,9,    238.2,2,    242.0,2,    29.42,2,    21.21,2,     0.00,   2,     1.40,2,    0.005,2,        0,2,     0.00,2,   2179.1,2,   2336.7,2,   -999.0,      9.0,9
  06M320150501,   510, 37,      8,   253821,20150518,0006, 11.9000, -28.1000, 5771,   2000.0,   3.5750,  34.9650,2,-999.0000,9,    237.3,2,    240.6,2,    22.30,2,    20.87,2,     0.00,   2,     1.37,2,    0.011,2,        0,2,     0.00,2,   2172.0,2,   2323.8,2,   -999.0,      9.0,9
  06M320150501,   510, 37,      9,   253822,20150518,0010, 11.9000, -28.1000, 5771,   1751.0,   3.9270,  34.9700,2,-999.0000,9,    229.4,2,    234.0,2,    19.90,2,    21.30,2,     0.00,   2,     1.40,2,    0.048,2,        0,2,     0.00,2,   2173.3,2,   2330.5,2,   -999.0,      9.0,9
  06M320150501,   510, 37,     10,   253823,20150518,0015, 11.9000, -28.1000, 5771,   1499.0,   4.3980,  34.9740,2,  34.9730,2,    212.7,2,    216.1,2,    19.73,2,    22.75,2,     0.00,   2,     1.50,2,    0.050,2,        0,2,     0.00,2,   2181.3,2,   2326.9,2,   -999.0,      9.0,9
  06M320150501,   510, 37,     11,   253824,20150518,0025, 11.9000, -28.1000, 5771,   1249.0,   5.0600,  34.9350,2,-999.0000,9,    169.4,2,    171.0,2,    22.88,2,    27.54,2,     0.00,   2,     1.82,2,    0.021,2,        0,2,     0.00,2,   2204.1,2,   2325.1,2,   -999.0,      9.0,9
  06M320150501,   510, 37,     12,   253825,20150518,0029, 11.9000, -28.1000, 5771,   1001.0,   5.4650,  34.8050,2,-999.0000,9,    132.1,2,    132.1,2,    25.85,2,    32.75,2,     0.00,   2,     2.15,2,    0.012,2,     0.08,2,     0.00,2,   2224.1,2,   -999.0,9,   -999.0,      9.0,9
  06M320150501,   510, 37,     13,   253826,20150518,0034, 11.9000, -28.1000, 5771,    749.0,   6.9450,  34.8280,2,-999.0000,9,     86.8,2,     86.1,2,    23.11,2,    36.29,2,     0.00,   2,     2.32,2,    0.063,2,        0,2,     0.00,2,   2239.4,2,   2312.0,2,   -999.0,      9.0,9
  06M320150501,   510, 37,     14,   253827,20150518,0039, 11.9000, -28.1000, 5771,    514.0,   8.9940,  35.0200,2,-999.0000,9,     50.8,2,     51.2,2,    17.93,2,    36.67,2,     0.00,   2,     2.25,2,    0.230,6,     0.08,6,     0.03,6,   2251.9,2,   2308.0,2,   -999.0,      9.0,9
  06M320150501,   510, 37,     15,   253828,20150518,0040, 11.9000, -28.1000, 5771,    453.0,   9.6700,  35.0760,2,-999.0000,9,     44.8,2,     45.9,2,    16.10,2,    35.92,2,     0.00,   2,     2.16,2, -999.000,9,     -999,9,     1.92,2,   -999.0,9,   -999.0,9,   -999.0,      9.0,9
  06M320150501,   510, 37,     16,   253829,20150518,0040, 11.9000, -28.1000, 5771,    424.0,  10.0470,  35.1090,2,-999.0000,9,     44.8,2,     44.6,6,    15.06,6,    35.20,6,     0.01,   6,     2.11,6,    0.413,6,     0.44,6,     3.21,6,   2248.3,2,   2309.5,2,   -999.0,      9.0,9
  06M320150501,   510, 37,     17,   253830,20150518,0041, 11.9000, -28.1000, 5771,    394.0,  10.3300,  35.1280,2,-999.0000,9,     45.2,2,     44.2,2,    14.33,2,    34.55,2,     0.00,   2,     2.07,2, -999.000,9,     -999,9,     2.34,2,   -999.0,9,   -999.0,9,   -999.0,      9.0,9
  06M320150501,   510, 37,     18,   253831,20150518,0042, 11.9000, -28.1000, 5771,    333.0,  10.8100,  35.1350,2,-999.0000,9,     58.1,2,     57.7,2,    12.83,2,    32.13,2,     0.00,   2,     1.93,2,    0.685,6,     0.46,6,     0.61,6,   2237.2,2,   -999.0,9,   -999.0,      9.0,9
  06M320150501,   510, 37,     19,   253832,20150518,0043, 11.9000, -28.1000, 5771,    285.0,  11.0860,  35.1310,2,-999.0000,9,     68.8,2,     69.2,2,    12.10,2,    30.56,2,     0.01,   2,     1.86,2,    0.776,6,     0.37,6,     0.62,6,   2229.5,2,   2311.8,2,   -999.0,      9.0,9
  06M320150501,   510, 37,     20,   253833,20150518,0044, 11.9000, -28.1000, 5771,    200.0,  11.7130,  35.1680,2,-999.0000,9,     91.0,2,     92.7,2,    10.54,2,    27.02,2,     0.01,   2,     1.68,2,    0.978,6,     0.54,6,     0.26,6,   2211.6,2,   2315.0,2,   -999.0,      9.0,9
  06M320150501,   510, 37,     21,   253834,20150518,0045, 11.9000, -28.1000, 5771,    150.0,  12.3610,  35.2410,2,-999.0000,9,     92.5,2,     93.0,2,     9.59,2,    25.71,2,     0.01,   2,     1.60,2,    1.053,2,     0.72,2,     0.08,2,   2208.8,2,   2316.6,2,   -999.0,      9.0,9
  06M320150501,   510, 37,     22,   253835,20150518,0046, 11.9000, -28.1000, 5771,    102.0,  13.2380,  35.3360,2,-999.0000,9,     92.1,2,     91.5,2,     8.42,2,    24.31,2,     0.01,   2,     1.51,2,    1.140,2,     0.78,2,     0.00,2,   2205.6,2,   2321.9,2,   -999.0,      9.0,9
  06M320150501,   510, 37,     23,   253836,20150518,0048, 11.9000, -28.1000, 5771,     51.0,  21.2490,  35.9320,2,  35.8540,2,    194.3,3,    165.2,2,     2.76,2,     4.77,2,     0.13,   2,     0.38,2,    1.101,2,        1,2,     0.00,2,   2109.9,2,   2355.4,2,   -999.0,      9.0,9
  06M320150501,   510, 37,     24,   253837,20150518,0050, 11.9000, -28.1000, 5771,     11.0,  24.9130,  35.9160,2,-999.0000,9,    211.6,2,    212.3,2,     0.94,2,     0.02,2,     0.00,   2,     0.02,2,    1.033,2,     1.67,3,     0.00,2,   2034.6,2,   2355.1,2,   -999.0,      9.0,9
  06M320150501,   511, 38,      1,   253838,20150519,0831, 13.0000, -28.0000, 5329,   1214.0,   5.1990,  34.9360,2,  34.9400,2,    161.2,2,    159.6,2,    23.47,2,    28.52,2,     0.00,   2,     1.88,2,    0.014,2,        0,2,     0.00,2,   2210.3,6,   2322.6,6,   -999.0,      9.0,9
  06M320150501,   511, 38,      2,   253839,20150519,0833, 13.0000, -28.0000, 5329,   1109.0,   5.5150,  34.9020,2,  34.9020,2,    144.4,2,    142.5,2,    24.10,2,    30.54,2,     0.00,   2,     2.01,2,    0.013,2,        0,2,     0.00,2,   -999.0,9,   -999.0,9,   -999.0,      9.0,9
  06M320150501,   511, 38,      3,   253840,20150519,0835, 13.0000, -28.0000, 5329,    999.0,   5.9290,  34.8810,2,-999.0000,9,    125.9,2,    125.1,2,    24.20,2,    32.57,2,     0.00,   2,     2.12,2,    0.023,2,        0,2,     0.00,2,   2226.2,2,   2316.9,2,   -999.0,      9.0,9
  06M320150501,   511, 38,      4,   253841,20150519,0836, 13.0000, -28.0000, 5329,    899.0,   6.2420,  34.8360,2,-999.0000,9,    109.5,2,    108.2,6,    24.14,6,    34.38,6,     0.00,   6,     2.23,6,    0.033,2,        0,2,     0.00,2,   -999.0,9,   -999.0,9,   -999.0,      9.0,9
  06M320150501,   511, 38,      5,   253842,20150519,0838, 13.0000, -28.0000, 5329,    798.0,   6.6420,  34.8240,2,  34.8230,2,     96.1,2,     95.7,2,    23.45,2,    35.82,2,     0.00,   2,     2.29,2,    0.044,2,        0,2,     0.00,2,   2237.4,6,   2309.2,6,   -999.0,      9.0,9
  06M320150501,   511, 38,      6,   253843,20150519,0840, 13.0000, -28.0000, 5329,    699.0,   7.3530,  34.8820,2,-999.0000,9,     84.9,2,     83.2,2,    21.38,2,    35.87,2,     0.00,   2,     2.27,2,    0.095,2,        0,2,     0.00,2,   -999.0,9,   -999.0,9,   -999.0,      9.0,9
  06M320150501,   511, 38,      7,   253844,20150519,0842, 13.0000, -28.0000, 5329,    598.0,   8.2540,  34.9600,2,-999.0000,9,     67.6,2,     68.2,2,    19.23,2,    36.20,2,     0.00,   2,     2.25,2,    0.160,2,     0.15,2,     0.00,2,   2243.6,2,   2308.5,2,   -999.0,      9.0,9
  06M320150501,   511, 38,      8,   253845,20150519,0844, 13.0000, -28.0000, 5329,    498.0,   9.2890,  35.0650,2,-999.0000,9,     59.0,2,     60.1,2,    16.44,2,    35.09,2,     0.00,   2,     2.13,2,    0.292,6,     0.27,6,     0.00,6,   2246.2,2,   2309.9,2,   -999.0,      9.0,9
  06M320150501,   511, 38,      9,   253846,20150519,0844, 13.0000, -28.0000, 5329,    469.0,   9.5970,  35.0920,2,-999.0000,9,     57.3,2,     57.2,2,    15.57,2,    34.67,2,     0.01,   2,     2.09,2, -999.000,9,     -999,9,     0.00,2,   -999.0,9,   -999.0,9,   -999.0,      9.0,9
  06M320150501,   511, 38,     10,   253847,20150519,0845, 13.0000, -28.0000, 5329,    439.0,   9.8990,  35.1160,2,-999.0000,9,     54.7,2,     55.2,2,    14.90,2,    34.53,2,     0.00,   2,     2.06,2,    0.400,6,     0.39,6,     0.23,6,   2244.2,2,   2310.3,2,   -999.0,      9.0,9
  06M320150501,   511, 38,     11,   253848,20150519,0845, 13.0000, -28.0000, 5329,    408.0,  10.1350,  35.1320,2,-999.0000,9,     56.6,2,     54.7,6,    14.31,6,    33.90,6,     0.00,   6,     2.02,6, -999.000,9,     -999,9,     0.22,2,   -999.0,9,   -999.0,9,   -999.0,      9.0,9
  06M320150501,   511, 38,     12,   253849,20150519,0846, 13.0000, -28.0000, 5329,    379.0,  10.2910,  35.1400,2,  35.1400,2,     51.8,2,     55.4,2,    13.82,2,    33.74,2,     0.00,   2,     2.00,2,    0.495,6,      0.3,6,     0.50,6,   2242.0,2,   2317.6,2,   -999.0,      9.0,9
  06M320150501,   511, 38,     13,   253850,20150519,0846, 13.0000, -28.0000, 5329,    349.0,  10.6030,  35.1690,2,-999.0000,9,     53.6,2,     52.9,2,    13.14,2,    33.09,2,     0.00,   2,     1.97,2, -999.000,9,     -999,9,     0.64,2,   -999.0,9,   -999.0,9,   -999.0,      9.0,9
  06M320150501,   511, 38,     14,   253851,20150519,0847, 13.0000, -28.0000, 5329,    318.0,  10.7940,  35.1810,2,-999.0000,9,     58.5,2,     57.5,2,    12.58,2,    32.14,2,     0.01,   2,     1.92,2,    0.621,6,     0.47,6,     0.36,6,   2238.2,2,   2313.5,2,   -999.0,      9.0,9
  06M320150501,   511, 38,     15,   253852,20150519,0847, 13.0000, -28.0000, 5329,    288.0,  10.9720,  35.1880,2,-999.0000,9,     61.3,2,     60.7,2,    12.14,2,    31.47,2,     0.00,   2,     1.88,2, -999.000,9,     -999,9,     0.39,2,   -999.0,9,   -999.0,9,   -999.0,      9.0,9
  06M320150501,   511, 38,     16,   253853,20150519,0848, 13.0000, -28.0000, 5329,    259.0,  11.0740,  35.1820,2,-999.0000,9,     66.5,2,     66.8,2,    11.81,2,    30.49,2,     0.00,   2,     1.84,2,    0.743,6,     0.48,6,     0.34,6,   -999.0,9,   -999.0,9,   -999.0,      9.0,9
  06M320150501,   511, 38,     17,   253854,20150519,0848, 13.0000, -28.0000, 5329,    229.0,  11.4960,  35.2380,2,-999.0000,9,     73.6,2,     72.2,2,    10.90,2,    28.98,2,     0.01,   2,     1.76,2, -999.000,9,     -999,9,     0.37,2,   2225.1,2,   2317.1,2,   -999.0,      9.0,9
  06M320150501,   511, 38,     18,   253855,20150519,0849, 13.0000, -28.0000, 5329,    198.0,  12.1330,  35.3520,2,-999.0000,9,     80.7,2,     82.5,6,     9.88,6,    27.07,6,     0.01,   6,     1.64,6,    0.924,6,     0.66,6,     0.23,6,   -999.0,9,   -999.0,9,   -999.0,      9.0,9
  06M320150501,   511, 38,     19,   253856,20150519,0849, 13.0000, -28.0000, 5329,    169.0,  12.4810,  35.4040,2,-999.0000,9,     82.2,2,     82.8,2,     9.29,2,    26.12,2,     0.01,   2,     1.58,2,    0.964,2,     0.68,2,     0.13,2,   2217.6,2,   2322.1,2,   -999.0,      9.0,9
  06M320150501,   511, 38,     20,   253857,20150519,0850, 13.0000, -28.0000, 5329,    139.0,  13.1740,  35.5080,2,-999.0000,9,     84.2,2,     84.9,2,     8.40,2,    24.86,2,     0.01,   2,     1.49,2,    1.025,2,     0.67,2,     0.07,2,   2215.4,2,   2328.4,2,   -999.0,      9.0,9
  06M320150501,   511, 38,     21,   253858,20150519,0850, 13.0000, -28.0000, 5329,    102.0,  14.2120,  35.6950,2,-999.0000,9,     88.4,3,     90.7,2,     6.75,2,    22.09,2,     0.02,   2,     1.30,2,    1.103,2,     0.94,2,     0.00,2,   2211.6,2,   2340.0,2,   -999.0,      9.0,9
  06M320150501,   511, 38,     22,   253859,20150519,0852, 13.0000, -28.0000, 5329,     50.0,  22.1690,  36.2120,2,-999.0000,9,    204.1,3,    196.3,2,     1.72,2,     1.33,2,     0.03,   2,     0.15,2,    1.115,2,     1.37,2,     0.00,2,   2099.2,2,   2373.6,2,   -999.0,      9.0,9
  06M320150501,   511, 38,     23,   253860,20150519,0853, 13.0000, -28.0000, 5329,     21.0,  24.8890,  36.1860,2,  36.1900,2,    209.5,2,    210.7,2,     1.02,2,     0.02,2,     0.00,   2,     0.01,2,    1.026,2,     1.36,2,     0.00,2,   2040.1,2,   2369.5,2,   -999.0,      9.0,9
  06M320150501,   511, 38,     24,   253861,20150519,0854, 13.0000, -28.0000, 5329,     10.0,  24.9640,  36.1820,2,-999.0000,9,    209.3,2,    210.5,2,     1.03,2,     0.00,2,     0.00,   2,     0.01,2,    1.039,2,      1.6,2,     0.00,2,   2040.1,2,   2369.4,2,   -999.0,      9.0,9