BOTTLE,20180504PRINUNIVRMK
EXPOCODE,STNNBR,CASTNO,BTLNBR,BEDFORD,DATE,TIME,LATITUDE,LONGITUDE,DEPTH,CTDPRS,CTDTMP,CTDSAL,CTDSAL_FLAG_W,SALNTY,SALNTY_FLAG_W,CTDOXY,CTDOXY_FLAG_W,OXYGEN,OXYGEN_FLAG_W,SILCAT,SILCAT_FLAG_W,NITRAT,NITRAT_FLAG_W,NITRIT,NITRIT_FLAG_W,PHSPHT,PHSPHT_FLAG_W,CFC-12,CFC-12_FLAG_W,SF6,SF6_FLAG_W,SF5CF3,SF5CF3_FLAG_W,TCARBN,TCARBN_FLAG_W,ALKALI,ALKALI_FLAG_W,AR-39,AR-39ER,AR-39_FLAG_W
,,,,,,,,,METERS,DBAR,ITS-90,PSS-78,,PSS-78,,UMOL/KG,,UMOL/KG,,UMOL/KG,,UMOL/KG,,UMOL/KG,,UMOL/KG,,PMOL/KG,,FMOL/KG,,FMOL/KG,,UMOL/KG,,UMOL/KG,,%Modern,%Modern,
  06M320150501,   536, 63,      1,   254405,20150526,2025,  6.0000, -21.0000, 3669,   1199.0,   4.6660,  34.8370,2,  34.8410,2,    171.1,2,    170.7,2,    24.57,6,    28.11,6,     0.00,   6,     1.92,6,    0.019,2,        0,2,     0.00,2,   2207.6,6,   2317.8,6,   -999.0,      9.0,9
  06M320150501,   536, 63,      2,   254406,20150526,2026,  6.0000, -21.0000, 3669,   1100.0,   4.8330,  34.7900,2,-999.0000,9,    156.5,2,    156.0,2,    25.63,2,    30.19,2,     0.00,   2,     2.04,2,    0.016,2,        0,2,     0.00,2,   -999.0,9,   -999.0,9,   -999.0,      9.0,9
  06M320150501,   536, 63,      3,   254407,20150526,2028,  6.0000, -21.0000, 3669,    999.0,   4.9710,  34.7020,2,-999.0000,9,    139.9,2,    139.6,2,    27.67,2,    32.88,2,     0.00,   2,     2.23,2,    0.016,2,        0,2,     0.00,2,   2224.2,2,   2308.8,2,   -999.0,      9.0,9
  06M320150501,   536, 63,      4,   254408,20150526,2030,  6.0000, -21.0000, 3669,    900.0,   5.1480,  34.6380,2,-999.0000,9,    128.6,2,    128.6,2,    28.14,2,    34.27,2,     0.00,   2,     2.33,2,    0.028,2,        0,2,     0.00,2,   -999.0,9,   -999.0,9,   -999.0,      9.0,9
  06M320150501,   536, 63,      5,   254409,20150526,2032,  6.0000, -21.0000, 3669,    800.0,   5.5100,  34.6360,2,  34.6480,2,    114.7,2,    114.6,2,    27.10,2,    35.72,2,     0.00,   2,     2.39,2,    0.037,2,        0,2,     0.00,2,   2233.9,6,   2305.0,6,   -999.0,      9.0,9
  06M320150501,   536, 63,      6,   254410,20150526,2035,  6.0000, -21.0000, 3669,    699.0,   6.0400,  34.6370,2,-999.0000,9,    102.7,2,    102.6,6,    24.97,2,    36.63,2,     0.00,   2,     2.40,2, -999.000,9,     -999,9,  -999.00,9,   -999.0,9,   -999.0,9,   -999.0,      9.0,9
  06M320150501,   536, 63,      7,   254411,20150526,2037,  6.0000, -21.0000, 3669,    600.0,   6.6100,  34.6650,2,-999.0000,9,     93.1,2,     94.2,2,    22.94,2,    36.64,2,     0.00,   2,     2.38,2,    0.131,2,        0,2,     0.00,2,   2237.3,2,   2298.8,2,   -999.0,      9.0,9
  06M320150501,   536, 63,      8,   254412,20150526,2039,  6.0000, -21.0000, 3669,    510.0,   7.4240,  34.7220,2,-999.0000,9,     85.8,2,     86.9,2,    20.02,2,    35.84,2,     0.00,   2,     2.29,2,    0.250,6,        0,6,     0.01,6,   2237.2,2,   2300.6,2,   -999.0,      9.0,9
  06M320150501,   536, 63,      9,   254413,20150526,2039,  6.0000, -21.0000, 3669,    479.0,   7.7800,  34.7520,2,-999.0000,9,     81.0,2,     82.2,2,    18.95,2,    36.05,2,     0.00,   2,     2.25,2, -999.000,9,     -999,9,     0.02,2,   -999.0,9,   -999.0,9,   -999.0,      9.0,9
  06M320150501,   536, 63,     10,   254414,20150526,2040,  6.0000, -21.0000, 3669,    450.0,   8.2280,  34.8140,2,-999.0000,9,     72.1,2,     73.8,2,    18.05,2,    36.14,2,     0.00,   2,     2.24,2,    0.329,6,     0.14,6,     0.24,6,   2239.6,2,   2299.6,2,   -999.0,      9.0,9
  06M320150501,   536, 63,     11,   254415,20150526,2041,  6.0000, -21.0000, 3669,    419.0,   8.6650,  34.8590,2,-999.0000,9,     64.3,2,     65.9,2,    17.04,2,    35.42,2,     0.00,   2,     2.21,2, -999.000,9,     -999,9,     0.76,2,   -999.0,9,   -999.0,9,   -999.0,      9.0,9
  06M320150501,   536, 63,     12,   254416,20150526,2041,  6.0000, -21.0000, 3669,    390.0,   8.9790,  34.8840,2,-999.0000,9,     63.2,2,     64.9,2,    16.55,6,    35.59,6,     0.00,   6,     2.19,6,    0.411,6,      0.2,6,     0.83,6,   2243.0,2,   2301.9,2,   -999.0,      9.0,9
  06M320150501,   536, 63,     13,   254417,20150526,2042,  6.0000, -21.0000, 3669,    361.0,   9.3240,  34.9220,2,-999.0000,9,     59.8,2,     61.7,2,    15.65,2,    34.79,2,     0.00,   2,     2.14,2, -999.000,9,     -999,9,     1.01,2,   -999.0,9,   -999.0,9,   -999.0,      9.0,9
  06M320150501,   536, 63,     14,   254418,20150526,2042,  6.0000, -21.0000, 3669,    329.0,  10.3100,  35.0470,2,  35.0410,2,     50.2,2,     52.6,2,    14.13,2,    34.17,2,     0.00,   2,     2.07,2,    0.544,6,     0.29,6,     1.45,6,   2243.6,2,   2306.7,2,   -999.0,      9.0,9
  06M320150501,   536, 63,     15,   254419,20150526,2043,  6.0000, -21.0000, 3669,    299.0,  10.6590,  35.0520,2,-999.0000,9,     64.9,2,     68.7,2,    12.99,2,    31.84,2,     0.00,   2,     1.96,2,    0.690,6,     0.45,6,     0.65,6,   -999.0,9,   -999.0,9,   -999.0,      9.0,9
  06M320150501,   536, 63,     16,   254420,20150526,2044,  6.0000, -21.0000, 3669,    269.0,  11.1860,  35.1020,2,-999.0000,9,     72.7,2,     74.2,2,    11.74,2,    29.89,2,     0.00,   2,     1.84,2, -999.000,9,     -999,9,  -999.00,9,   -999.0,9,   -999.0,9,   -999.0,      9.0,9
  06M320150501,   536, 63,     17,   254421,20150526,2044,  6.0000, -21.0000, 3669,    240.0,  11.8740,  35.1660,2,-999.0000,9,     82.4,2,     85.1,2,    10.35,2,    27.18,2,     0.00,   2,     1.71,2,    0.949,6,     0.72,6,     0.21,6,   2215.8,2,   2313.3,2,   -999.0,      9.0,9
  06M320150501,   536, 63,     18,   254422,20150526,2046,  6.0000, -21.0000, 3669,    150.0,  13.5870,  35.3570,2,-999.0000,9,    102.0,2,    106.6,2,     7.80,2,    22.22,2,     0.00,   2,     1.43,2,    1.146,2,     0.76,2,     0.00,2,   2194.4,2,   2324.0,2,   -999.0,      9.0,9
  06M320150501,   536, 63,     19,   254423,20150526,2047,  6.0000, -21.0000, 3669,     99.0,  14.7010,  35.4970,2,-999.0000,9,    103.8,2,     53.7,3,     6.75,2,    20.71,2,     0.01,   2,     1.34,2,    1.199,2,     0.98,2,     0.00,2,   2193.2,2,   2336.2,2,   -999.0,      9.0,9
  06M320150501,   536, 63,     20,   254424,20150526,2048,  6.0000, -21.0000, 3669,     51.0,  19.6380,  35.8460,2,-999.0000,9,    135.0,2,    121.4,3,     3.85,6,    11.19,6,     0.28,   6,     0.76,6,    1.118,2,     1.06,2,     0.00,2,   2163.9,2,   2351.9,2,   -999.0,      9.0,9
  06M320150501,   536, 63,     21,   254425,20150526,2050,  6.0000, -21.0000, 3669,     20.0,  28.9320,  35.2860,2,-999.0000,9,    203.4,2,    209.1,2,     0.83,2,     0.72,2,     0.02,   2,     0.04,2,    0.912,2,     1.36,2,     0.00,2,   1987.4,2,   2328.0,2,   -999.0,      9.0,9
  06M320150501,   536, 63,     22,   254426,20150526,2050,  6.0000, -21.0000, 3669,     10.0,  29.0290,  35.2080,2,-999.0000,9,    202.9,2,    207.7,2,     0.75,2,     0.34,2,     0.00,   2,     0.01,2,    0.894,2,     1.33,2,     0.00,2,   1971.0,2,   2314.2,2,   -999.0,      9.0,9
  06M320150501,   537, 64,      1,   254427,20150527,0316,  5.0000, -21.0000, 3000,   1201.0,   4.6800,  34.8470,2,  34.8470,2,    172.7,2,    172.2,2,    24.40,2,    27.56,2,     0.00,   2,     1.92,2,    0.020,2,        0,2,     0.00,2,   2207.2,6,   2317.0,6,   -999.0,      9.0,9
  06M320150501,   537, 64,      2,   254428,20150527,0318,  5.0000, -21.0000, 3000,   1100.0,   4.8180,  34.7770,2,-999.0000,9,    156.4,2,    156.0,2,    26.29,2,    30.14,2,     0.01,   2,     2.07,2,    0.014,2,        0,2,     0.00,2,   -999.0,9,   -999.0,9,   -999.0,      9.0,9
  06M320150501,   537, 64,      3,   254429,20150527,0320,  5.0000, -21.0000, 3000,   1001.0,   4.8380,  34.7030,2,-999.0000,9,    145.0,2,    144.5,2,    28.14,2,    32.39,2,     0.00,   2,     2.22,2,    0.012,2,        0,2,     0.00,2,   2220.7,3,   2313.8,2,   -999.0,      9.0,9
  06M320150501,   537, 64,      4,   254430,20150527,0322,  5.0000, -21.0000, 3000,    901.0,   5.0620,  34.6470,2,-999.0000,9,    133.2,2,    134.5,2,    28.37,2,    34.30,2,     0.00,   2,     2.31,2,    0.029,2,        0,2,     0.00,2,   -999.0,9,   -999.0,9,   -999.0,      9.0,9
  06M320150501,   537, 64,      5,   254431,20150527,0324,  5.0000, -21.0000, 3000,    801.0,   5.5510,  34.6280,2,-999.0000,9,    115.8,2,    114.6,2,    27.07,2,    36.16,2,     0.00,   2,     2.39,2,    0.049,2,        0,2,     0.00,2,   2232.9,6,   2304.0,6,   -999.0,      9.0,9
  06M320150501,   537, 64,      6,   254432,20150527,0326,  5.0000, -21.0000, 3000,    699.0,   6.0780,  34.6090,2,-999.0000,9,    114.3,2,    114.4,6,    24.50,6,    35.81,6,     0.00,   6,     2.35,6,    0.172,2,        0,2,     0.00,2,   -999.0,9,   -999.0,9,   -999.0,      9.0,9
  06M320150501,   537, 64,      7,   254433,20150527,0328,  5.0000, -21.0000, 3000,    599.0,   6.5710,  34.6100,2,  34.6130,2,    117.0,2,    118.1,2,    22.12,2,    34.80,2,     0.01,   2,     2.26,2,    0.332,2,     0.15,2,     0.00,2,   2223.2,2,   2300.1,2,   -999.0,      9.0,9
  06M320150501,   537, 64,      8,   254434,20150527,0328,  5.0000, -21.0000, 3000,    560.0,   7.0260,  34.6590,2,-999.0000,9,    106.1,2,    107.7,2,    20.79,2,    34.98,2,     0.00,   2,     2.25,2,    0.341,6,     0.13,6,     0.01,6,   2225.6,2,   2296.7,2,   -999.0,      9.0,9
  06M320150501,   537, 64,      9,   254435,20150527,0329,  5.0000, -21.0000, 3000,    532.0,   7.1980,  34.6660,2,-999.0000,9,    107.8,2,    108.5,2,    20.10,2,    34.50,2,     0.00,   2,     2.22,2, -999.000,9,     -999,9,     0.00,2,   -999.0,9,   -999.0,9,   -999.0,      9.0,9
  06M320150501,   537, 64,     10,   254436,20150527,0330,  5.0000, -21.0000, 3000,    501.0,   7.5580,  34.7050,2,-999.0000,9,    100.5,2,    100.4,2,    19.16,2,    34.57,2,     0.00,   2,     2.20,2,    0.419,6,     0.42,6,     0.00,6,   2225.6,2,   2300.4,2,   -999.0,      9.0,9
  06M320150501,   537, 64,     11,   254437,20150527,0330,  5.0000, -21.0000, 3000,    470.0,   7.9890,  34.7560,2,-999.0000,9,     88.6,2,     89.8,2,    18.33,2,    35.10,2,     0.00,   2,     2.21,2, -999.000,9,     -999,9,     0.07,2,   -999.0,9,   -999.0,9,   -999.0,      9.0,9
  06M320150501,   537, 64,     12,   254438,20150527,0331,  5.0000, -21.0000, 3000,    441.0,   8.5200,  34.8110,2,-999.0000,9,     81.7,2,     83.5,6,    16.95,6,    34.61,6,     0.00,   6,     2.16,6,    0.451,6,     -999,9,     0.12,6,   2232.7,2,   2299.9,2,   -999.0,      9.0,9
  06M320150501,   537, 64,     13,   254439,20150527,0331,  5.0000, -21.0000, 3000,    410.0,   8.8730,  34.8240,2,-999.0000,9,     86.5,2,     85.9,2,    16.08,2,    33.46,2,     0.00,   2,     2.09,2, -999.000,9,     -999,9,     0.14,2,   -999.0,9,   -999.0,9,   -999.0,      9.0,9
  06M320150501,   537, 64,     14,   254440,20150527,0332,  5.0000, -21.0000, 3000,    380.0,   9.1180,  34.8500,2,-999.0000,9,     86.7,2,     88.1,2,    15.43,2,    32.85,2,     0.00,   2,     2.05,2,    0.610,6,     0.33,6,     0.10,6,   2226.1,2,   2302.2,2,   -999.0,      9.0,9
  06M320150501,   537, 64,     15,   254441,20150527,0332,  5.0000, -21.0000, 3000,    349.0,   9.7030,  34.9240,2,-999.0000,9,     81.5,2,     84.1,2,    14.57,2,    32.28,2,     0.01,   2,     2.01,2,    0.645,6,     0.32,6,     0.28,6,   -999.0,9,   -999.0,9,   -999.0,      9.0,9
  06M320150501,   537, 64,     16,   254442,20150527,0333,  5.0000, -21.0000, 3000,    320.0,  10.2660,  34.9750,2,-999.0000,9,     90.2,2,     89.0,2,    13.31,2,    30.57,2,     0.00,   2,     1.91,2, -999.000,9,     -999,9,     0.30,2,   -999.0,9,   -999.0,9,   -999.0,      9.0,9
  06M320150501,   537, 64,     17,   254443,20150527,0334,  5.0000, -21.0000, 3000,    290.0,  11.0330,  35.0500,2,-999.0000,9,    108.0,2,    105.4,2,    11.59,2,    27.31,2,     0.00,   2,     1.74,2,    0.905,6,     0.57,6,     0.25,6,   2206.7,2,   2309.4,2,   -999.0,      9.0,9
  06M320150501,   537, 64,     18,   254444,20150527,0336,  5.0000, -21.0000, 3000,    150.0,  14.1760,  35.4300,2,-999.0000,9,     90.8,3,    103.0,2,     7.68,2,    22.30,2,     0.01,   2,     1.43,2,    1.138,2,     0.83,2,     0.00,2,   2195.8,2,   2323.6,2,   -999.0,      9.0,9
  06M320150501,   537, 64,     19,   254445,20150527,0337,  5.0000, -21.0000, 3000,     99.0,  15.5960,  35.5870,2,-999.0000,9,     99.6,2,    100.1,2,     6.64,2,    20.83,2,     0.02,   2,     1.36,2,    1.176,2,     0.88,2,     0.00,2,   2194.0,2,   2329.9,2,   -999.0,      9.0,9
  06M320150501,   537, 64,     20,   254446,20150527,0339,  5.0000, -21.0000, 3000,     51.0,  26.3700,  36.1540,2,-999.0000,9,    212.3,3,    189.0,6,     1.94,6,     2.64,6,     0.05,   6,     0.19,6,    1.014,2,     1.24,2,     0.00,2,   2076.5,2,   2365.1,2,   -999.0,      9.0,9
  06M320150501,   537, 64,     21,   254447,20150527,0340,  5.0000, -21.0000, 3000,     21.0,  28.5640,  35.4490,2,-999.0000,9,    203.2,2,    202.3,2,     1.00,2,     0.27,2,     0.00,   2,     0.00,2,    0.884,2,     1.29,2,     0.00,2,   1975.6,2,   2322.1,2,   -999.0,      9.0,9
  06M320150501,   537, 64,     22,   254448,20150527,0340,  5.0000, -21.0000, 3000,     10.0,  28.5440,  35.4270,2,  35.4400,2,    201.0,2,    202.1,2,     0.99,2,     0.13,2,     0.00,   2,     0.00,2,    0.889,2,     1.33,2,     0.00,2,   1973.6,2,   2318.7,2,   -999.0,      9.0,9
  06M320150501,   538, 65,      1,   254449,20150527,2133,  8.0000, -20.0000, 3735,   1202.0,   4.7750,  34.8590,2,  34.8610,2,    168.1,2,    168.7,2,  -999.00,9,  -999.00,9,  -999.00,-999,  -999.00,9,    0.015,2,        0,2,     0.00,2,   -999.0,9,   -999.0,9,   -999.0,      9.0,9
  06M320150501,   538, 65,      2,   254450,20150527,2136,  8.0000, -20.0000, 3735,   1099.0,   4.9730,  34.7990,2,-999.0000,9,    149.7,9,   -999.0,9,  -999.00,9,  -999.00,9,  -999.00,-999,  -999.00,9,    0.013,2,        0,2,     0.00,2,   -999.0,9,   -999.0,9,   -999.0,      9.0,9
  06M320150501,   538, 65,      3,   254451,20150527,2138,  8.0000, -20.0000, 3735,   1000.0,   5.1030,  34.7230,2,-999.0000,9,    135.6,9,   -999.0,9,  -999.00,9,  -999.00,9,  -999.00,-999,  -999.00,9,    0.012,2,        0,2,     0.00,2,   -999.0,9,   -999.0,9,   -999.0,      9.0,9
  06M320150501,   538, 65,      4,   254452,20150527,2140,  8.0000, -20.0000, 3735,    900.0,   5.2960,  34.6780,2,-999.0000,9,    124.0,9,   -999.0,9,  -999.00,9,  -999.00,9,  -999.00,-999,  -999.00,9,    0.021,2,        0,2,     0.00,2,   -999.0,9,   -999.0,9,   -999.0,      9.0,9
  06M320150501,   538, 65,      5,   254453,20150527,2142,  8.0000, -20.0000, 3735,    798.0,   5.7500,  34.6730,2,  34.6690,2,    107.8,2,    109.6,2,  -999.00,9,  -999.00,9,  -999.00,-999,  -999.00,9,    0.037,2,        0,2,     0.00,2,   -999.0,9,   -999.0,9,   -999.0,      9.0,9
  06M320150501,   538, 65,      6,   254454,20150527,2145,  8.0000, -20.0000, 3735,    699.0,   6.2620,  34.6840,2,-999.0000,9,     96.1,9,   -999.0,9,  -999.00,9,  -999.00,9,  -999.00,-999,  -999.00,9,    0.073,2,        0,2,     0.00,2,   -999.0,9,   -999.0,9,   -999.0,      9.0,9
  06M320150501,   538, 65,      7,   254455,20150527,2147,  8.0000, -20.0000, 3735,    599.0,   7.1850,  34.7620,2,-999.0000,9,     76.1,2,     76.7,6,  -999.00,9,  -999.00,9,  -999.00,-999,  -999.00,9,    0.129,2,     0.21,2,     0.00,2,   -999.0,9,   -999.0,9,   -999.0,      9.0,9
  06M320150501,   538, 65,      8,   254456,20150527,2148,  8.0000, -20.0000, 3735,    555.0,   7.9540,  34.8380,2,-999.0000,9,     63.1,9,   -999.0,9,  -999.00,9,  -999.00,9,  -999.00,-999,  -999.00,9,    0.192,6,     0.18,6,     0.11,6,   -999.0,9,   -999.0,9,   -999.0,      9.0,9
  06M320150501,   538, 65,      9,   254457,20150527,2148,  8.0000, -20.0000, 3735,    526.0,   8.2880,  34.8800,2,-999.0000,9,     56.4,9,   -999.0,9,  -999.00,9,  -999.00,9,  -999.00,-999,  -999.00,9, -999.000,9,     -999,9,     0.39,2,   -999.0,9,   -999.0,9,   -999.0,      9.0,9
  06M320150501,   538, 65,     10,   254458,20150527,2149,  8.0000, -20.0000, 3735,    496.0,   8.7960,  34.9340,2,-999.0000,9,     48.8,9,   -999.0,9,  -999.00,9,  -999.00,9,  -999.00,-999,  -999.00,9,    0.249,6,     0.19,6,     1.05,6,   -999.0,9,   -999.0,9,   -999.0,      9.0,9
  06M320150501,   538, 65,     11,   254459,20150527,2150,  8.0000, -20.0000, 3735,    466.0,   9.2210,  34.9780,2,-999.0000,9,     44.8,9,   -999.0,9,  -999.00,9,  -999.00,9,  -999.00,-999,  -999.00,9, -999.000,9,     -999,9,     2.88,2,   -999.0,9,   -999.0,9,   -999.0,      9.0,9
  06M320150501,   538, 65,     12,   254460,20150527,2150,  8.0000, -20.0000, 3735,    436.0,   9.7590,  35.0210,2,-999.0000,9,     42.6,2,     42.1,2,  -999.00,9,  -999.00,9,  -999.00,-999,  -999.00,9,    0.390,6,      0.2,6,     3.90,6,   -999.0,9,   -999.0,9,   -999.0,      9.0,9
  06M320150501,   538, 65,     13,   254461,20150527,2151,  8.0000, -20.0000, 3735,    406.0,  10.0690,  35.0510,2,  35.0450,2,     42.2,9,   -999.0,9,  -999.00,9,  -999.00,9,  -999.00,-999,  -999.00,9, -999.000,9,     -999,9,     2.57,2,   -999.0,9,   -999.0,9,   -999.0,      9.0,9
  06M320150501,   538, 65,     14,   254462,20150527,2152,  8.0000, -20.0000, 3735,    378.0,  10.6550,  35.1100,2,-999.0000,9,     44.3,9,   -999.0,9,  -999.00,9,  -999.00,9,  -999.00,-999,  -999.00,9,    0.570,6,     0.32,6,     1.42,6,   -999.0,9,   -999.0,9,   -999.0,      9.0,9
  06M320150501,   538, 65,     15,   254463,20150527,2153,  8.0000, -20.0000, 3735,    346.0,  11.3270,  35.1650,2,-999.0000,9,     52.5,9,   -999.0,9,  -999.00,9,  -999.00,9,  -999.00,-999,  -999.00,9, -999.000,9,     -999,9,     0.77,2,   -999.0,9,   -999.0,9,   -999.0,      9.0,9
  06M320150501,   538, 65,     16,   254464,20150527,2154,  8.0000, -20.0000, 3735,    316.0,  11.5490,  35.1720,2,-999.0000,9,     60.2,9,   -999.0,9,  -999.00,9,  -999.00,9,  -999.00,-999,  -999.00,9,    0.796,6,     0.43,6,     0.56,6,   -999.0,9,   -999.0,9,   -999.0,      9.0,9
  06M320150501,   538, 65,     17,   254465,20150527,2154,  8.0000, -20.0000, 3735,    284.0,  11.9740,  35.1820,2,-999.0000,9,     81.9,9,   -999.0,9,  -999.00,9,  -999.00,9,  -999.00,-999,  -999.00,9,    0.924,6,     0.62,6,     0.29,6,   -999.0,9,   -999.0,9,   -999.0,      9.0,9
  06M320150501,   538, 65,     18,   254466,20150527,2157,  8.0000, -20.0000, 3735,    148.0,  14.3710,  35.4500,2,-999.0000,9,     74.9,2,     77.2,2,  -999.00,9,  -999.00,9,  -999.00,-999,  -999.00,9,    1.104,2,     0.76,2,     0.00,2,   -999.0,9,   -999.0,9,   -999.0,      9.0,9
  06M320150501,   538, 65,     19,   254467,20150527,2158,  8.0000, -20.0000, 3735,    101.0,  15.2530,  35.5470,2,-999.0000,9,     73.8,9,   -999.0,9,  -999.00,9,  -999.00,9,  -999.00,-999,  -999.00,9,    1.141,2,     0.85,2,     0.00,2,   -999.0,9,   -999.0,9,   -999.0,      9.0,9
  06M320150501,   538, 65,     20,   254468,20150527,2200,  8.0000, -20.0000, 3735,     50.0,  18.3660,  35.7530,2,-999.0000,9,    111.6,9,   -999.0,9,  -999.00,9,  -999.00,9,  -999.00,-999,  -999.00,9,    1.141,2,     1.04,2,     0.00,2,   -999.0,9,   -999.0,9,   -999.0,      9.0,9
  06M320150501,   538, 65,     21,   254469,20150527,2201,  8.0000, -20.0000, 3735,     21.0,  25.4140,  36.0100,2,-999.0000,9,    215.3,2,    194.6,2,  -999.00,9,  -999.00,9,  -999.00,-999,  -999.00,9,    1.012,2,     1.24,2,     0.00,2,   -999.0,9,   -999.0,9,   -999.0,      9.0,9
  06M320150501,   538, 65,     22,   254470,20150527,2201,  8.0000, -20.0000, 3735,     11.0,  28.6570,  36.2120,2,-999.0000,9,    198.4,9,   -999.0,9,  -999.00,9,  -999.00,9,  -999.00,-999,  -999.00,9,    0.885,2,     1.32,2,     0.00,2,   -999.0,9,   -999.0,9,   -999.0,      9.0,9