BOTTLE,20180504PRINUNIVRMK
EXPOCODE,STNNBR,CASTNO,BTLNBR,BEDFORD,DATE,TIME,LATITUDE,LONGITUDE,DEPTH,CTDPRS,CTDTMP,CTDSAL,CTDSAL_FLAG_W,SALNTY,SALNTY_FLAG_W,CTDOXY,CTDOXY_FLAG_W,OXYGEN,OXYGEN_FLAG_W,SILCAT,SILCAT_FLAG_W,NITRAT,NITRAT_FLAG_W,NITRIT,NITRIT_FLAG_W,PHSPHT,PHSPHT_FLAG_W,CFC-12,CFC-12_FLAG_W,SF6,SF6_FLAG_W,SF5CF3,SF5CF3_FLAG_W,TCARBN,TCARBN_FLAG_W,ALKALI,ALKALI_FLAG_W,AR-39,AR-39ER,AR-39_FLAG_W
,,,,,,,,,METERS,DBAR,ITS-90,PSS-78,,PSS-78,,UMOL/KG,,UMOL/KG,,UMOL/KG,,UMOL/KG,,UMOL/KG,,UMOL/KG,,PMOL/KG,,FMOL/KG,,FMOL/KG,,UMOL/KG,,UMOL/KG,,%Modern,%Modern,
  06M320150501,   496, 23,      1,   253488,20150513,0603, 11.0000, -35.0000, 5155,   1200.0,   5.0810,  34.8870,2,-999.0000,9,    167.9,2,    167.6,2,    23.01,2,    27.77,2,     0.00,   2,     1.88,2,    0.036,2,      0.1,2,     0.00,2,   -999.0,9,   2317.7,6,   -999.0,      9.0,9
  06M320150501,   496, 23,      2,   253489,20150513,0605, 11.0000, -35.0000, 5155,   1099.0,   5.2390,  34.8450,2,-999.0000,9,    152.0,2,    149.5,2,    24.46,2,    30.01,2,     0.00,   2,     2.01,2,    0.023,2,        0,2,     0.00,2,   -999.0,9,   -999.0,9,   -999.0,      9.0,9
  06M320150501,   496, 23,      3,   253490,20150513,0607, 11.0000, -35.0000, 5155,    998.0,   5.4360,  34.7870,2,-999.0000,9,    134.2,2,    134.5,2,    25.59,2,    32.15,2,     0.00,   2,     2.15,2,    0.018,2,        0,2,     0.00,2,   -999.0,9,   2305.4,2,   -999.0,      9.0,9
  06M320150501,   496, 23,      4,   253491,20150513,0608, 11.0000, -35.0000, 5155,    899.0,   5.7910,  34.7530,2,-999.0000,9,    116.2,2,    115.7,2,    25.69,2,    34.28,2,     0.00,   2,     2.29,2,    0.022,2,        0,2,     0.00,2,   -999.0,9,   -999.0,9,   -999.0,      9.0,9
  06M320150501,   496, 23,      5,   253492,20150513,0610, 11.0000, -35.0000, 5155,    799.0,   6.2480,  34.7620,2,-999.0000,9,    101.0,2,    100.6,6,    24.67,6,    35.45,6,     0.00,   6,     2.34,6,    0.034,2,        0,2,     0.00,2,   -999.0,9,   2301.5,2,   -999.0,      9.0,9
  06M320150501,   496, 23,      6,   253493,20150513,0612, 11.0000, -35.0000, 5155,    698.0,   7.0690,  34.8230,2,-999.0000,9,     83.5,2,     82.6,2,    22.43,2,    36.26,2,     0.00,   2,     2.36,2,    0.078,2,        0,2,     0.00,2,   -999.0,9,   -999.0,9,   -999.0,      9.0,9
  06M320150501,   496, 23,      7,   253494,20150513,0613, 11.0000, -35.0000, 5155,    599.0,   8.1170,  34.9220,2,-999.0000,9,     63.5,2,     63.1,2,    19.64,2,    36.44,2,     0.00,   2,     2.32,2,    0.157,2,     0.19,2,     0.00,2,   -999.0,9,   2303.2,2,   -999.0,      9.0,9
  06M320150501,   496, 23,      8,   253495,20150513,0614, 11.0000, -35.0000, 5155,    555.0,   8.7500,  34.9880,2,-999.0000,9,     57.5,2,     58.4,2,    17.88,2,    36.02,2,     0.00,   2,     2.24,2,    0.207,6,     0.17,6,     0.00,6,   -999.0,9,   2303.4,2,   -999.0,      9.0,9
  06M320150501,   496, 23,      9,   253496,20150513,0615, 11.0000, -35.0000, 5155,    523.0,   9.0720,  35.0220,2,-999.0000,9,     55.9,2,     56.5,2,    17.04,2,    35.39,2,     0.21,   2,     2.21,2, -999.000,9,     -999,9,     0.03,2,   -999.0,9,   -999.0,9,   -999.0,      9.0,9
  06M320150501,   496, 23,     10,   253497,20150513,0615, 11.0000, -35.0000, 5155,    494.0,   9.3840,  35.0520,2,-999.0000,9,     53.8,2,     55.7,6,    16.06,6,    35.13,6,     0.00,   6,     2.16,6,    0.304,6,     0.16,6,     0.10,6,   -999.0,9,   2305.4,2,   -999.0,      9.0,9
  06M320150501,   496, 23,     11,   253498,20150513,0616, 11.0000, -35.0000, 5155,    465.0,   9.7610,  35.0970,2,-999.0000,9,     49.3,2,     49.7,2,    15.25,2,    35.00,2,     0.00,   2,     2.16,2, -999.000,9,     -999,9,     0.59,2,   -999.0,9,   -999.0,9,   -999.0,      9.0,9
  06M320150501,   496, 23,     12,   253499,20150513,0616, 11.0000, -35.0000, 5155,    435.0,  10.0800,  35.1160,2,-999.0000,9,     47.6,2,     47.1,2,    14.69,2,    34.62,2,     0.01,   2,     2.08,2,    0.406,6,     0.28,6,     1.74,6,   -999.0,9,   2304.4,6,   -999.0,      9.0,9
  06M320150501,   496, 23,     13,   253500,20150513,0617, 11.0000, -35.0000, 5155,    403.0,  10.3170,  35.1190,2,-999.0000,9,     49.7,2,     49.6,2,    13.97,2,    33.81,2,     0.00,   2,     2.04,2, -999.000,9,     -999,9,     1.85,2,   -999.0,9,   -999.0,9,   -999.0,      9.0,9
  06M320150501,   496, 23,     14,   253501,20150513,0617, 11.0000, -35.0000, 5155,    372.0,  10.4390,  35.0970,2,-999.0000,9,     57.0,2,     61.5,2,    13.48,2,    32.96,2,     0.00,   2,     1.98,2,    0.578,6,      0.4,6,     0.93,6,   -999.0,9,   2302.6,2,   -999.0,      9.0,9
  06M320150501,   496, 23,     15,   253502,20150513,0618, 11.0000, -35.0000, 5155,    344.0,  10.6830,  35.1070,2,-999.0000,9,     61.5,2,     56.7,6,    12.89,6,    32.22,6,     0.00,   6,     1.95,6,    0.642,6,     0.36,6,     0.66,6,   -999.0,9,   -999.0,9,   -999.0,      9.0,9
  06M320150501,   496, 23,     16,   253503,20150513,0618, 11.0000, -35.0000, 5155,    314.0,  10.9850,  35.1300,2,-999.0000,9,     64.9,2,     64.0,2,    12.17,2,    31.14,2,     0.00,   2,     1.89,2, -999.000,9,     -999,9,     0.51,2,   -999.0,9,   -999.0,9,   -999.0,      9.0,9
  06M320150501,   496, 23,     17,   253504,20150513,0618, 11.0000, -35.0000, 5155,    283.0,  11.2000,  35.1260,2,-999.0000,9,     73.8,2,     74.2,2,    11.60,2,    29.67,2,     0.00,   2,     1.80,2,    0.849,6,     0.38,6,     0.51,6,   -999.0,9,   2303.2,2,   -999.0,      9.0,9
  06M320150501,   496, 23,     18,   253505,20150513,0621, 11.0000, -35.0000, 5155,    148.0,  13.5470,  35.3530,2,-999.0000,9,     84.2,2,     85.3,2,     8.20,2,    24.64,2,     0.02,   2,     1.54,2,    1.152,2,     0.72,2,     0.00,2,   -999.0,9,   2313.5,2,   -999.0,      9.0,9
  06M320150501,   496, 23,     19,   253506,20150513,0622, 11.0000, -35.0000, 5155,    100.0,  15.1000,  35.5080,2,-999.0000,9,     70.6,3,     76.6,2,     6.59,2,    23.14,2,     0.09,   2,     1.41,2,    1.162,2,     0.84,2,     0.00,2,   -999.0,9,   2320.5,2,   -999.0,      9.0,9
  06M320150501,   496, 23,     20,   253507,20150513,0623, 11.0000, -35.0000, 5155,     51.0,  25.0300,  36.3370,2,-999.0000,9,    209.4,2,    211.8,2,     1.13,2,     0.13,2,     0.00,   2,     0.04,2,    1.032,2,     1.34,2,     0.00,2,   -999.0,9,   2373.7,2,   -999.0,      9.0,9
  06M320150501,   496, 23,     21,   253508,20150513,0624, 11.0000, -35.0000, 5155,     21.0,  25.8910,  36.3620,2,-999.0000,9,    206.2,2,    206.7,2,     1.10,2,     0.04,2,     0.00,   2,     0.02,2,    0.989,2,     1.41,2,     0.00,2,   -999.0,9,   2378.6,2,   -999.0,      9.0,9
  06M320150501,   496, 23,     22,   253509,20150513,0624, 11.0000, -35.0000, 5155,     10.0,  25.8970,  36.3620,2,-999.0000,9,    207.7,2,    205.9,2,     1.08,2,     0.01,2,     0.00,   2,     0.01,2,    0.976,2,     1.31,2,     0.00,2,   -999.0,9,   2393.1,2,   -999.0,      9.0,9
  06M320150501,   497, 24,      1,   253510,20150513,1412, 12.0000, -35.0000, 5864,   5712.0,   2.2630,  34.8560,2,-999.0000,9,    248.7,2,    249.6,2,    51.92,2,    22.10,2,     0.02,   2,     1.56,2,    0.102,2,     0.11,2,     0.00,2,   -999.0,9,   2351.0,6,   -999.0,      9.0,9
  06M320150501,   497, 24,      2,   253511,20150513,1415, 12.0000, -35.0000, 5864,   5609.0,   2.2490,  34.8560,2,-999.0000,9,    249.3,2,    249.4,2,    51.93,6,    22.14,6,     0.01,   6,     1.54,6,    0.091,2,     0.08,2,     0.00,2,   -999.0,9,   2356.9,2,   -999.0,      9.0,9
  06M320150501,   497, 24,      3,   253512,20150513,1434, 12.0000, -35.0000, 5864,   4499.0,   2.2880,  34.8750,2,-999.0000,9,    250.7,2,    250.2,6,    46.26,2,    21.55,2,     0.01,   2,     1.50,2,    0.068,2,        0,2,     0.00,2,   -999.0,9,   2348.3,2,   -999.0,      9.0,9
  06M320150501,   497, 24,      4,   253513,20150513,1443, 12.0000, -35.0000, 5864,   4000.0,   2.4050,  34.8900,2,-999.0000,9,    249.4,2,    249.1,2,    42.52,6,    21.31,6,     0.01,   6,     1.47,6,    0.022,2,     0.11,2,     0.00,2,   -999.0,9,   2351.8,2,   -999.0,      9.0,9
  06M320150501,   497, 24,      5,   253514,20150513,1453, 12.0000, -35.0000, 5864,   3501.0,   2.5420,  34.9070,2,-999.0000,9,    249.0,2,    248.1,2,    38.40,2,    20.99,2,     0.01,   2,     1.44,2,    0.010,2,        0,2,     0.00,2,   -999.0,9,   2334.7,2,   -999.0,      9.0,9
  06M320150501,   497, 24,      6,   253515,20150513,1506, 12.0000, -35.0000, 5864,   3000.0,   2.7670,  34.9260,2,-999.0000,9,    247.7,2,    249.0,2,    33.24,2,    20.61,2,     0.01,   2,     1.40,2,    0.008,2,     0.16,2,     0.00,2,   -999.0,9,   2340.1,2,   -999.0,      9.0,9
  06M320150501,   497, 24,      7,   253516,20150513,1515, 12.0000, -35.0000, 5864,   2500.0,   3.0750,  34.9450,2,-999.0000,9,    246.9,2,    248.3,2,    27.71,2,    20.28,2,     0.00,   2,     1.37,2,    0.023,2,     0.11,2,     0.00,2,   -999.0,9,   2332.5,2,   -999.0,      9.0,9
  06M320150501,   497, 24,      8,   253517,20150513,1528, 12.0000, -35.0000, 5864,   1999.0,   3.6250,  34.9700,2,-999.0000,9,    243.2,2,    245.4,6,    20.34,6,    20.03,6,     0.01,   6,     1.35,6,    0.059,2,        0,2,     0.00,2,   -999.0,9,   2322.9,2,   -999.0,      9.0,9
  06M320150501,   497, 24,      9,   253518,20150513,1532, 12.0000, -35.0000, 5864,   1748.0,   4.0270,  34.9790,2,-999.0000,9,    236.8,2,    239.4,2,    17.86,2,    20.31,2,     0.01,   2,     1.36,2,    0.121,2,     0.06,2,     0.00,2,   -999.0,9,   2317.4,2,   -999.0,      9.0,9
  06M320150501,   497, 24,     10,   253519,20150513,1538, 12.0000, -35.0000, 5864,   1501.0,   4.5680,  34.9770,2,-999.0000,9,    214.6,2,    215.3,2,    18.53,2,    22.48,2,     0.01,   2,     1.51,2,    0.134,2,      0.1,2,     0.00,2,   -999.0,9,   2322.0,2,   -999.0,      9.0,9
  06M320150501,   497, 24,     11,   253520,20150513,1542, 12.0000, -35.0000, 5864,   1251.0,   5.0120,  34.9160,2,-999.0000,9,    181.4,2,    181.8,2,    21.63,2,    26.43,2,     0.01,   2,     1.77,2,    0.085,2,     0.07,2,     0.00,2,   -999.0,9,   2321.8,2,   -999.0,      9.0,9
  06M320150501,   497, 24,     12,   253521,20150513,1550, 12.0000, -35.0000, 5864,   1003.0,   5.3900,  34.8020,2,-999.0000,9,    139.6,2,    138.6,2,    25.08,2,    31.98,2,     0.01,   2,     2.14,2,    0.019,2,        0,2,     0.00,2,   -999.0,9,   2318.5,2,   -999.0,      9.0,9
  06M320150501,   497, 24,     13,   253522,20150513,1555, 12.0000, -35.0000, 5864,    751.0,   6.6720,  34.7760,2,-999.0000,9,     98.2,2,     97.7,2,    23.28,2,    35.68,2,     0.01,   2,     2.33,2,    0.081,2,        0,2,     0.00,2,   -999.0,9,   2304.2,2,   -999.0,      9.0,9
  06M320150501,   497, 24,     14,   253523,20150513,1559, 12.0000, -35.0000, 5864,    509.0,   9.3260,  35.0350,2,-999.0000,9,     54.4,2,     60.5,2,    16.29,2,    35.55,2,     0.01,   2,     2.19,2,    0.310,6,     0.24,6,     0.22,6,   -999.0,9,   2308.4,2,   -999.0,      9.0,9
  06M320150501,   497, 24,     15,   253524,20150513,1600, 12.0000, -35.0000, 5864,    449.0,   9.7560,  35.0610,2,-999.0000,9,     57.3,2,     59.5,2,    14.90,2,    34.45,2,     0.01,   2,     2.10,2,    0.430,6,     0.28,6,     0.65,6,   -999.0,9,   -999.0,9,   -999.0,      9.0,9
  06M320150501,   497, 24,     16,   253525,20150513,1600, 12.0000, -35.0000, 5864,    421.0,  10.1100,  35.1010,2,-999.0000,9,     65.0,2,     60.5,2,    13.91,6,    32.83,6,     0.01,   6,     1.99,6,    0.528,2,     0.32,2,     0.26,2,   -999.0,9,   2309.5,6,   -999.0,      9.0,9
  06M320150501,   497, 24,     17,   253526,20150513,1601, 12.0000, -35.0000, 5864,    390.0,  10.3870,  35.1070,2,-999.0000,9,     74.0,2,     73.6,2,    13.29,2,    31.22,2,     0.02,   2,     1.91,2,    0.637,6,     0.38,6,     0.11,6,   -999.0,9,   -999.0,9,   -999.0,      9.0,9
  06M320150501,   497, 24,     18,   253527,20150513,1602, 12.0000, -35.0000, 5864,    329.0,  10.7400,  35.1240,2,-999.0000,9,     84.0,2,     84.6,2,    12.07,2,    29.35,2,     0.01,   2,     1.81,2,    0.781,6,     0.41,6,     0.22,6,   -999.0,9,   2314.8,2,   -999.0,      9.0,9
  06M320150501,   497, 24,     19,   253528,20150513,1603, 12.0000, -35.0000, 5864,    281.0,  11.1750,  35.1600,2,-999.0000,9,     88.1,2,     89.4,2,    11.12,2,    27.98,2,     0.01,   2,     1.73,2,    0.894,6,     0.46,6,     0.34,6,   -999.0,9,   2312.6,2,   -999.0,      9.0,9
  06M320150501,   497, 24,     20,   253529,20150513,1604, 12.0000, -35.0000, 5864,    199.0,  11.8040,  35.1800,2,-999.0000,9,     89.1,2,     89.3,2,    10.22,2,    26.92,2,     0.01,   2,     1.67,2,    0.979,6,     0.55,6,     0.27,6,   -999.0,9,   2312.8,2,   -999.0,      9.0,9
  06M320150501,   497, 24,     21,   253530,20150513,1605, 12.0000, -35.0000, 5864,    125.0,  13.5950,  35.4470,2,-999.0000,9,     82.7,2,     84.7,2,     8.26,2,    24.77,2,     0.02,   2,     1.52,2,    1.094,2,     0.78,2,     0.00,2,   -999.0,9,   2327.9,2,   -999.0,      9.0,9
  06M320150501,   497, 24,     22,   253531,20150513,1606, 12.0000, -35.0000, 5864,    101.0,  14.3860,  35.5370,2,-999.0000,9,     84.8,2,     84.3,2,     7.39,2,    23.52,2,     0.02,   2,     1.45,2,    1.146,2,     0.78,2,     0.00,2,   -999.0,9,   2333.3,2,   -999.0,      9.0,9
  06M320150501,   497, 24,     23,   253532,20150513,1607, 12.0000, -35.0000, 5864,     52.0,  24.5600,  36.2710,2,-999.0000,9,    208.7,2,    199.4,6,     1.36,2,     1.36,2,     0.04,   2,     0.11,2,    1.038,2,     1.37,2,     0.00,2,   -999.0,9,   2371.0,2,   -999.0,      9.0,9
  06M320150501,   497, 24,     24,   253533,20150513,1608, 12.0000, -35.0000, 5864,     11.0,  25.4590,  36.3740,2,-999.0000,9,    206.8,2,    208.2,2,     1.05,2,     0.02,2,     0.00,   2,     0.01,2,    1.001,2,     1.23,2,     0.00,2,   -999.0,9,   2383.3,2,   -999.0,      9.0,9