BOTTLE,20180504PRINUNIVRMK
EXPOCODE,STNNBR,CASTNO,BTLNBR,BEDFORD,DATE,TIME,LATITUDE,LONGITUDE,DEPTH,CTDPRS,CTDTMP,CTDSAL,CTDSAL_FLAG_W,SALNTY,SALNTY_FLAG_W,CTDOXY,CTDOXY_FLAG_W,OXYGEN,OXYGEN_FLAG_W,SILCAT,SILCAT_FLAG_W,NITRAT,NITRAT_FLAG_W,NITRIT,NITRIT_FLAG_W,PHSPHT,PHSPHT_FLAG_W,CFC-12,CFC-12_FLAG_W,SF6,SF6_FLAG_W,SF5CF3,SF5CF3_FLAG_W,TCARBN,TCARBN_FLAG_W,ALKALI,ALKALI_FLAG_W,AR-39,AR-39ER,AR-39_FLAG_W
,,,,,,,,,METERS,DBAR,ITS-90,PSS-78,,PSS-78,,UMOL/KG,,UMOL/KG,,UMOL/KG,,UMOL/KG,,UMOL/KG,,UMOL/KG,,PMOL/KG,,FMOL/KG,,FMOL/KG,,UMOL/KG,,UMOL/KG,,%Modern,%Modern,
  06M320150501,   488, 15,      1,   253309,20150510,0451, 12.0000, -39.3000, 5490,   5480.0,   2.2990,  34.8630,2,-999.0000,9,    248.8,2,    249.1,2,    51.43,2,    22.36,2,     0.00,   2,     1.54,2,    0.069,2,     0.15,2,     0.00,2,   2186.4,6,   2354.1,6,   -999.0,      9.0,9
  06M320150501,   488, 15,      2,   253310,20150510,0453, 12.0000, -39.3000, 5490,   5378.0,   2.2890,  34.8630,2,-999.0000,9,    249.1,2,    248.4,2,    50.88,2,    22.33,2,     0.00,   2,     1.50,2,    0.064,2,     0.15,2,     0.00,2,   2182.2,2,   2355.9,2,   -999.0,      9.0,9
  06M320150501,   488, 15,      3,   253311,20150510,0513, 12.0000, -39.3000, 5490,   4501.0,   2.3350,  34.8790,2,-999.0000,9,    249.8,2,    249.2,2,    47.04,2,    21.88,2,     0.00,   2,     1.47,2,    0.036,2,        0,2,     0.00,2,   2179.2,2,   2353.5,2,   -999.0,      9.0,9
  06M320150501,   488, 15,      4,   253312,20150510,0521, 12.0000, -39.3000, 5490,   4001.0,   2.4260,  34.8920,2,-999.0000,9,    250.0,2,    250.3,2,    42.88,2,    21.48,2,     0.01,   2,     1.46,2,    0.025,2,        0,2,     0.00,2,   2175.1,2,   2345.8,2,   -999.0,      9.0,9
  06M320150501,   488, 15,      5,   253313,20150510,0530, 12.0000, -39.3000, 5490,   3500.0,   2.5690,  34.9080,2,-999.0000,9,    249.6,2,    249.6,2,    39.22,2,    21.16,2,     0.00,   2,     1.39,2,    0.017,2,        0,2,     0.00,2,   2178.0,2,   2348.5,2,   -999.0,      9.0,9
  06M320150501,   488, 15,      6,   253314,20150510,0539, 12.0000, -39.3000, 5490,   2999.0,   2.8070,  34.9260,2,-999.0000,9,    251.1,2,    251.6,2,    32.87,2,    20.50,2,     0.00,   2,     1.37,2,    0.029,2,        0,2,     0.00,2,   2165.2,2,   2337.4,2,   -999.0,      9.0,9
  06M320150501,   488, 15,      7,   253315,20150510,0547, 12.0000, -39.3000, 5490,   2500.0,   3.1190,  34.9440,2,-999.0000,9,    251.1,2,    252.0,2,    26.63,2,    20.18,2,     0.00,   2,     1.31,2,    0.050,2,        0,2,     0.00,2,   2156.5,6,   2329.4,6,   -999.0,      9.0,9
  06M320150501,   488, 15,      8,   253316,20150510,0555, 12.0000, -39.3000, 5490,   2001.0,   3.5410,  34.9640,2,-999.0000,9,    249.4,2,    251.1,6,    20.92,2,    19.75,2,     0.00,   2,     1.30,2,    0.119,2,     0.11,2,     0.00,2,   2155.4,2,   2321.7,2,   -999.0,      9.0,9
  06M320150501,   488, 15,      9,   253317,20150510,0559, 12.0000, -39.3000, 5490,   1750.0,   3.8550,  34.9740,2,-999.0000,9,    245.7,2,    246.9,2,    18.44,2,    19.63,2,     0.00,   2,     1.29,2,    0.214,2,        0,2,     0.00,2,   2159.4,2,   2321.9,2,   -999.0,      9.0,9
  06M320150501,   488, 15,     10,   253318,20150510,0604, 12.0000, -39.3000, 5490,   1502.0,   4.2880,  34.9830,2,-999.0000,9,    229.2,2,    229.8,2,    18.32,2,    21.28,2,     0.00,   2,     1.38,2,    0.162,2,        0,2,     0.00,2,   2162.0,2,   2321.0,2,   -999.0,      9.0,9
  06M320150501,   488, 15,     11,   253319,20150510,0608, 12.0000, -39.3000, 5490,   1249.0,   4.9550,  34.9440,2,-999.0000,9,    190.8,2,    190.1,2,    21.49,2,    25.38,2,     0.00,   2,     1.68,2,    0.097,2,        0,2,     0.00,2,   2189.9,2,   2325.5,2,   -999.0,      9.0,9
  06M320150501,   488, 15,     12,   253320,20150510,0612, 12.0000, -39.3000, 5490,   1014.0,   5.3500,  34.8190,2,-999.0000,9,    149.7,2,    146.9,2,    25.72,2,    30.84,2,     0.00,   2,     2.05,2,    0.040,2,        0,2,     0.00,2,   2200.7,2,   2317.8,2,   -999.0,      9.0,9
  06M320150501,   488, 15,     13,   253321,20150510,0616, 12.0000, -39.3000, 5490,    750.0,   6.5630,  34.7690,2,-999.0000,9,    109.9,2,    108.4,2,    24.29,2,    34.43,2,     0.00,   2,     2.23,2,    0.097,2,        0,2,     0.00,2,   2223.4,2,   2306.9,2,   -999.0,      9.0,9
  06M320150501,   488, 15,     14,   253322,20150510,0620, 12.0000, -39.3000, 5490,    500.0,   8.9110,  34.9730,2,-999.0000,9,     89.1,2,     87.2,6,    16.95,6,    32.07,6,     0.00,   6,     2.01,6,    0.400,2,     0.27,2,     0.00,2,   2215.6,2,   2312.8,2,   -999.0,      9.0,9
  06M320150501,   488, 15,     15,   253323,20150510,0622, 12.0000, -39.3000, 5490,    401.0,   9.9840,  35.0820,2,-999.0000,9,     73.3,2,     75.1,2,    14.59,2,    31.57,2,     0.00,   2,     1.93,2,    0.525,6,     0.36,6,     0.03,6,   -999.0,9,   -999.0,9,   -999.0,      9.0,9
  06M320150501,   488, 15,     16,   253324,20150510,0622, 12.0000, -39.3000, 5490,    371.0,  10.2270,  35.1070,2,-999.0000,9,     76.9,2,     76.7,2,    13.77,2,    31.03,2,     0.00,   2,     1.88,2,    0.591,6,     0.44,6,     0.05,6,   2213.2,2,   2311.5,2,   -999.0,      9.0,9
  06M320150501,   488, 15,     17,   253325,20150510,0623, 12.0000, -39.3000, 5490,    340.0,  10.4700,  35.1310,2,-999.0000,9,     84.3,2,     83.2,2,    13.40,2,    30.18,2,     0.00,   2,     1.84,2,    0.671,6,     0.35,6,     0.07,6,   -999.0,9,   -999.0,9,   -999.0,      9.0,9
  06M320150501,   488, 15,     18,   253326,20150510,0624, 12.0000, -39.3000, 5490,    280.0,  11.3550,  35.2610,2,-999.0000,9,     92.8,2,     94.2,2,    11.24,2,    26.95,2,     0.00,   2,     1.66,2,    0.861,6,     0.53,6,     0.12,6,   2200.4,2,   2316.2,2,   -999.0,      9.0,9
  06M320150501,   488, 15,     19,   253327,20150510,0625, 12.0000, -39.3000, 5490,    231.0,  12.7130,  35.4840,2,-999.0000,9,     96.0,2,     96.5,2,     9.34,2,    24.52,2,     0.01,   2,     1.48,2,    0.973,6,     0.62,6,     0.11,6,   2193.8,2,   2328.7,2,   -999.0,      9.0,9
  06M320150501,   488, 15,     20,   253328,20150510,0625, 12.0000, -39.3000, 5490,    201.0,  14.2190,  35.7740,2,-999.0000,9,    103.5,2,    104.2,2,     7.09,2,    21.05,2,     0.01,   2,     1.23,2,    1.105,2,     0.83,2,     0.00,2,   2190.1,2,   2343.3,2,   -999.0,      9.0,9
  06M320150501,   488, 15,     21,   253329,20150510,0626, 12.0000, -39.3000, 5490,    151.0,  16.1120,  36.0600,2,-999.0000,9,    113.8,2,    112.4,2,     5.42,2,    17.60,2,     0.01,   2,     1.01,2,    1.176,2,     0.95,2,     0.00,2,   2192.0,2,   2361.4,2,   -999.0,      9.0,9
  06M320150501,   488, 15,     22,   253330,20150510,0627, 12.0000, -39.3000, 5490,    103.0,  22.2120,  36.7630,2,-999.0000,9,    178.2,2,    180.0,2,     1.34,2,     2.42,2,     0.12,   2,     0.17,2,    1.130,2,     1.39,2,     0.00,2,   2125.0,2,   -999.0,9,   -999.0,      9.0,9
  06M320150501,   488, 15,     23,   253331,20150510,0629, 12.0000, -39.3000, 5490,     52.0,  24.7380,  36.4090,2,-999.0000,9,    212.8,2,    210.5,6,     1.02,6,     0.04,6,     0.00,   6,     0.02,6,    1.032,2,     1.36,2,     0.00,2,   2043.7,2,   2387.2,2,   -999.0,      9.0,9
  06M320150501,   488, 15,     24,   253332,20150510,0630, 12.0000, -39.3000, 5490,     11.0,  25.0710,  36.4510,2,-999.0000,9,    209.9,2,    209.1,2,     1.07,2,     0.00,2,     0.00,   2,     0.02,2,    1.020,2,     1.35,2,     0.00,2,   2044.0,2,   2387.5,2,   -999.0,      9.0,9
  06M320150501,   489, 16,      1,   253333,20150510,1237, 11.0000, -39.0000, 5005,   1200.0,   5.1540,  34.9020,2,-999.0000,9,    171.9,2,    172.6,2,    22.81,2,    27.46,2,     0.01,   2,     1.83,2,    0.073,2,        0,2,     0.00,2,   2196.0,2,   2320.3,6,   -999.0,      9.0,9
  06M320150501,   489, 16,      2,   253334,20150510,1240, 11.0000, -39.0000, 5005,   1100.0,   5.3010,  34.8330,2,-999.0000,9,    153.7,2,    152.4,2,    24.81,2,    30.12,2,     0.00,   2,     1.98,2,    0.042,2,      0.2,2,     0.00,2,   -999.0,9,   -999.0,9,   -999.0,      9.0,9
  06M320150501,   489, 16,      3,   253335,20150510,1241, 11.0000, -39.0000, 5005,    999.0,   5.3810,  34.7620,2,-999.0000,9,    140.7,2,    140.8,2,    26.14,6,    32.07,6,     0.01,   6,     2.12,6,    0.042,2,        0,2,     0.00,2,   -999.0,9,   2313.3,2,   -999.0,      9.0,9
  06M320150501,   489, 16,      4,   253336,20150510,1243, 11.0000, -39.0000, 5005,    900.0,   5.6160,  34.7140,2,-999.0000,9,    125.2,2,    124.5,2,    26.74,2,    34.08,2,     0.00,   2,     2.23,2,    0.041,2,        0,2,     0.00,2,   -999.0,9,   -999.0,9,   -999.0,      9.0,9
  06M320150501,   489, 16,      5,   253337,20150510,1244, 11.0000, -39.0000, 5005,    798.0,   6.1600,  34.7190,2,-999.0000,9,    110.0,2,    110.4,6,    25.26,2,    35.19,2,     0.00,   2,     2.28,2,    0.072,2,        0,2,     0.00,2,   -999.0,9,   2303.8,2,   -999.0,      9.0,9
  06M320150501,   489, 16,      6,   253338,20150510,1246, 11.0000, -39.0000, 5005,    699.0,   6.8690,  34.7640,2,-999.0000,9,    103.9,2,    103.7,2,    22.58,2,    34.54,2,     0.01,   2,     2.22,2,    0.162,2,     0.18,2,     0.00,2,   -999.0,9,   -999.0,9,   -999.0,      9.0,9
  06M320150501,   489, 16,      7,   253339,20150510,1248, 11.0000, -39.0000, 5005,    601.0,   7.7780,  34.8370,2,-999.0000,9,     91.7,2,     91.4,2,    19.82,2,    34.26,2,     0.01,   2,     2.16,2,    0.259,2,     0.18,2,     0.00,2,   -999.0,9,   2301.0,2,   -999.0,      9.0,9
  06M320150501,   489, 16,      8,   253340,20150510,1249, 11.0000, -39.0000, 5005,    500.0,   9.0300,  34.9650,2,-999.0000,9,     81.2,2,     84.1,2,    16.80,2,    32.80,2,     0.01,   2,     2.03,2,    0.423,2,     0.26,2,     0.00,2,   2223.7,2,   2308.9,2,   -999.0,      9.0,9
  06M320150501,   489, 16,      9,   253341,20150510,1250, 11.0000, -39.0000, 5005,    479.0,   9.2590,  34.9890,2,-999.0000,9,     75.8,2,     79.0,2,    16.27,2,    32.95,2,     0.01,   2,     2.00,2, -999.000,9,     -999,9,     0.00,2,   -999.0,9,   -999.0,9,   -999.0,      9.0,9
  06M320150501,   489, 16,     10,   253342,20150510,1250, 11.0000, -39.0000, 5005,    459.0,   9.4980,  35.0090,2,-999.0000,9,     74.6,2,     74.9,2,    15.39,2,    32.61,2,     0.02,   2,     1.98,2, -999.000,9,     -999,9,     0.02,2,   -999.0,9,   -999.0,9,   -999.0,      9.0,9
  06M320150501,   489, 16,     11,   253343,20150510,1250, 11.0000, -39.0000, 5005,    430.0,   9.7330,  35.0190,2,-999.0000,9,     75.4,2,     76.3,2,    14.76,6,    32.10,6,     0.01,   6,     1.96,6,    0.554,6,     0.28,6,     0.01,6,   2223.2,2,   2306.7,6,   -999.0,      9.0,9
  06M320150501,   489, 16,     12,   253344,20150510,1251, 11.0000, -39.0000, 5005,    400.0,   9.9280,  35.0240,2,-999.0000,9,     77.3,2,     78.1,2,    14.20,2,    31.41,2,     0.01,   2,     1.92,2, -999.000,9,     -999,9,     0.15,2,   -999.0,9,   -999.0,9,   -999.0,      9.0,9
  06M320150501,   489, 16,     13,   253345,20150510,1251, 11.0000, -39.0000, 5005,    369.0,  10.0170,  35.0060,2,-999.0000,9,     87.7,2,     88.2,2,    13.82,2,    30.56,2,     0.00,   2,     1.88,2,    0.710,6,     0.43,6,     0.11,6,   -999.0,9,   -999.0,9,   -999.0,      9.0,9
  06M320150501,   489, 16,     14,   253346,20150510,1252, 11.0000, -39.0000, 5005,    321.0,  10.2870,  35.0220,2,-999.0000,9,     92.0,2,     92.2,2,    12.83,2,    29.11,2,     0.00,   2,     1.82,2, -999.000,9,     -999,9,     0.25,2,   -999.0,9,   2304.8,2,   -999.0,      9.0,9
  06M320150501,   489, 16,     15,   253347,20150510,1253, 11.0000, -39.0000, 5005,    288.0,  10.7850,  35.0860,2,-999.0000,9,     91.0,2,     91.6,2,    12.18,2,    28.48,2,     0.01,   2,     1.77,2,    0.858,6,     0.41,6,     0.27,6,   -999.0,9,   -999.0,9,   -999.0,      9.0,9
  06M320150501,   489, 16,     16,   253348,20150510,1254, 11.0000, -39.0000, 5005,    199.0,  11.8540,  35.1900,2,-999.0000,9,    108.2,2,    109.1,6,    10.12,2,    24.75,2,     0.01,   2,     1.55,2,    1.080,2,     0.59,2,     0.11,2,   -999.0,9,   2311.2,2,   -999.0,      9.0,9
  06M320150501,   489, 16,     17,   253349,20150510,1255, 11.0000, -39.0000, 5005,    149.0,  13.8370,  35.4790,2,-999.0000,9,    102.2,2,    103.6,2,     8.18,6,    22.49,6,     0.01,   6,     1.38,6,    1.139,2,     0.84,2,     0.00,2,   -999.0,9,   2324.7,2,   -999.0,      9.0,9
  06M320150501,   489, 16,     18,   253350,20150510,1256, 11.0000, -39.0000, 5005,     99.0,  21.0210,  36.3090,2,-999.0000,9,    159.8,2,    151.8,2,     2.59,2,     7.01,2,     0.11,   2,     0.45,2,    1.106,2,     1.18,2,     0.00,2,   -999.0,9,   2370.2,2,   -999.0,      9.0,9
  06M320150501,   489, 16,     19,   253351,20150510,1258, 11.0000, -39.0000, 5005,     51.0,  24.7520,  36.3530,2,-999.0000,9,    208.5,2,    210.7,2,     1.06,2,     0.13,2,     0.01,   2,     0.04,2,    1.040,2,     1.38,2,     0.00,2,   -999.0,9,   2377.1,2,   -999.0,      9.0,9
  06M320150501,   489, 16,     20,   253352,20150510,1258, 11.0000, -39.0000, 5005,     20.0,  25.6390,  36.4140,2,-999.0000,9,    207.8,2,    208.3,2,     1.00,2,     0.03,2,     0.00,   2,     0.04,2, -999.000,9,     -999,9,  -999.00,9,   -999.0,9,   2378.7,2,   -999.0,      9.0,9
  06M320150501,   489, 16,     21,   253353,20150510,1259, 11.0000, -39.0000, 5005,     11.0,  25.6450,  36.4150,2,-999.0000,9,    208.3,2,    207.1,2,     1.03,2,     0.00,2,     0.01,   2,     0.04,2,    0.999,2,     1.37,2,     0.00,2,   -999.0,9,   2381.7,2,   -999.0,      9.0,9
  06M320150501,   490, 17,      1,   253354,20150510,1916, 11.0000, -38.0000, 4778,   1208.0,   5.0660,  34.9270,2,-999.0000,9,    180.5,2,    180.8,2,    21.73,6,    26.41,6,     0.01,   6,     1.75,6,    0.085,2,     0.14,2,     0.00,2,   -999.0,9,   2313.3,6,   -999.0,      9.0,9
  06M320150501,   490, 17,      2,   253355,20150510,1918, 11.0000, -38.0000, 4778,   1100.0,   5.1390,  34.8600,2,-999.0000,9,    164.9,2,    164.6,2,    23.83,2,    28.65,2,     0.02,   2,     1.89,2,    0.063,2,     0.13,2,     0.00,2,   -999.0,9,   -999.0,9,   -999.0,      9.0,9
  06M320150501,   490, 17,      3,   253356,20150510,1920, 11.0000, -38.0000, 4778,    999.0,   5.3840,  34.7930,2,-999.0000,9,    143.3,2,    142.4,6,    25.75,2,    31.55,2,     0.01,   2,     2.10,2,    0.034,2,     0.13,2,     0.00,2,   -999.0,9,   2311.5,2,   -999.0,      9.0,9
  06M320150501,   490, 17,      4,   253357,20150510,1921, 11.0000, -38.0000, 4778,    899.0,   5.6570,  34.7480,2,-999.0000,9,    129.2,2,    128.5,2,    25.91,2,    33.17,2,     0.02,   2,     2.20,2,    0.042,2,        0,2,     0.00,2,   -999.0,9,   -999.0,9,   -999.0,      9.0,9
  06M320150501,   490, 17,      5,   253358,20150510,1923, 11.0000, -38.0000, 4778,    799.0,   6.0780,  34.7280,2,-999.0000,9,    116.7,2,    116.4,2,    25.07,2,    34.29,2,     0.02,   2,     2.25,2,    0.078,2,        0,2,     0.00,2,   -999.0,9,   2302.3,2,   -999.0,      9.0,9
  06M320150501,   490, 17,      6,   253359,20150510,1925, 11.0000, -38.0000, 4778,    701.0,   6.8330,  34.7650,2,-999.0000,9,    105.1,2,    105.1,2,    22.61,2,    34.33,2,     0.00,   2,     2.23,2,    0.156,2,     0.14,2,     0.00,2,   -999.0,9,   -999.0,9,   -999.0,      9.0,9
  06M320150501,   490, 17,      7,   253360,20150510,1926, 11.0000, -38.0000, 4778,    602.0,   7.8610,  34.8480,2,-999.0000,9,     95.1,2,     95.8,2,    19.63,2,    33.73,2,     0.00,   2,     2.17,2,    0.280,2,     0.24,2,     0.00,2,   -999.0,9,   2298.4,2,   -999.0,      9.0,9
  06M320150501,   490, 17,      8,   253361,20150510,1928, 11.0000, -38.0000, 4778,    501.0,   8.8650,  34.9360,2,-999.0000,9,     85.6,2,     85.6,6,    16.75,2,    32.58,2,     0.01,   2,     2.05,2,    0.446,2,     0.25,2,     0.00,2,   -999.0,9,   2304.4,2,   -999.0,      9.0,9
  06M320150501,   490, 17,      9,   253362,20150510,1928, 11.0000, -38.0000, 4778,    479.0,   9.0150,  34.9440,2,-999.0000,9,     85.5,2,     85.1,2,    16.20,2,    32.44,2,     0.01,   2,     2.03,2, -999.000,9,     -999,9,     0.00,2,   -999.0,9,   -999.0,9,   -999.0,      9.0,9
  06M320150501,   490, 17,     10,   253363,20150510,1928, 11.0000, -38.0000, 4778,    458.0,   9.2020,  34.9460,2,-999.0000,9,     84.7,2,     84.9,2,    15.40,2,    32.24,2,     0.01,   2,     2.00,2, -999.000,9,     -999,9,     0.00,2,   -999.0,9,   -999.0,9,   -999.0,      9.0,9
  06M320150501,   490, 17,     11,   253364,20150510,1929, 11.0000, -38.0000, 4778,    429.0,   9.5550,  34.9860,2,-999.0000,9,     84.7,2,     85.6,2,    15.10,6,    31.66,6,     0.02,   6,     1.97,6,    0.583,6,     0.35,6,     0.01,6,   -999.0,9,   2300.8,2,   -999.0,      9.0,9
  06M320150501,   490, 17,     12,   253365,20150510,1929, 11.0000, -38.0000, 4778,    403.0,   9.7060,  34.9800,2,-999.0000,9,     85.0,2,     87.1,2,    14.57,2,    31.37,2,     0.02,   2,     1.96,2,    0.634,6,     0.36,6,     0.08,6,   -999.0,9,   -999.0,9,   -999.0,      9.0,9
  06M320150501,   490, 17,     13,   253366,20150510,1930, 11.0000, -38.0000, 4778,    371.0,   9.9790,  35.0010,2,-999.0000,9,     85.4,2,     86.0,2,    13.77,2,    30.52,2,     0.01,   2,     1.91,2, -999.000,9,     -999,9,     0.17,2,   -999.0,9,   -999.0,9,   -999.0,      9.0,9
  06M320150501,   490, 17,     14,   253367,20150510,1930, 11.0000, -38.0000, 4778,    340.0,  10.3470,  35.0360,2,-999.0000,9,     86.5,2,     87.3,2,    13.17,2,    29.81,2,     0.02,   2,     1.87,2,    0.770,2,     0.44,2,     0.23,2,   -999.0,9,   2306.6,2,   -999.0,      9.0,9
  06M320150501,   490, 17,     15,   253368,20150510,1931, 11.0000, -38.0000, 4778,    275.0,  10.8240,  35.0800,2,-999.0000,9,     95.2,2,    102.8,2,    11.83,2,    27.80,2,     0.00,   2,     1.74,2,    0.901,6,      0.5,6,     0.20,6,   -999.0,9,   -999.0,9,   -999.0,      9.0,9
  06M320150501,   490, 17,     16,   253369,20150510,1932, 11.0000, -38.0000, 4778,    202.0,  12.2450,  35.2760,2,-999.0000,9,    101.2,2,    103.7,2,     9.75,6,    24.77,6,     0.01,   6,     1.56,6,    1.056,2,     0.67,2,     0.07,2,   -999.0,9,   2308.7,2,   -999.0,      9.0,9
  06M320150501,   490, 17,     17,   253370,20150510,1933, 11.0000, -38.0000, 4778,    154.0,  15.2740,  35.7460,2,-999.0000,9,    103.0,2,    176.7,2,     6.83,2,    20.35,2,     0.01,   2,     1.23,2,    1.131,2,     0.89,2,     0.00,2,   -999.0,9,   2337.5,2,   -999.0,      9.0,9
  06M320150501,   490, 17,     18,   253371,20150510,1934, 11.0000, -38.0000, 4778,    101.0,  22.8020,  36.4180,2,-999.0000,9,    191.1,2,    210.3,2,     1.73,2,     3.27,2,     0.14,   2,     0.23,2,    1.106,2,     1.29,2,     0.00,2,   -999.0,9,   2376.1,2,   -999.0,      9.0,9
  06M320150501,   490, 17,     19,   253372,20150510,1936, 11.0000, -38.0000, 4778,     50.0,  25.1110,  36.4080,2,-999.0000,9,    206.7,2,    209.7,2,     1.01,2,     0.00,2,     0.14,   2,     0.02,2,    1.030,2,     1.35,2,     0.00,2,   -999.0,9,   2379.3,2,   -999.0,      9.0,9
  06M320150501,   490, 17,     20,   253373,20150510,1937, 11.0000, -38.0000, 4778,     21.0,  25.2240,  36.4180,2,-999.0000,9,    209.1,2,    210.3,2,     0.97,2,     0.00,2,     0.01,   2,     0.02,2,    1.019,2,     1.36,2,     0.00,2,   -999.0,9,   2381.5,2,   -999.0,      9.0,9
  06M320150501,   490, 17,     21,   253374,20150510,1937, 11.0000, -38.0000, 4778,     10.0,  25.2590,  36.4190,2,-999.0000,9,    209.4,9,   -999.0,9,     0.99,2,     0.00,2,     0.02,   2,     0.02,2,    1.036,2,     1.42,2,     0.00,2,   -999.0,9,   2380.5,2,   -999.0,      9.0,9