BOTTLE,20180504PRINUNIVRMK
EXPOCODE,STNNBR,CASTNO,BTLNBR,BEDFORD,DATE,TIME,LATITUDE,LONGITUDE,DEPTH,CTDPRS,CTDTMP,CTDSAL,CTDSAL_FLAG_W,SALNTY,SALNTY_FLAG_W,CTDOXY,CTDOXY_FLAG_W,OXYGEN,OXYGEN_FLAG_W,SILCAT,SILCAT_FLAG_W,NITRAT,NITRAT_FLAG_W,NITRIT,NITRIT_FLAG_W,PHSPHT,PHSPHT_FLAG_W,CFC-12,CFC-12_FLAG_W,SF6,SF6_FLAG_W,SF5CF3,SF5CF3_FLAG_W,TCARBN,TCARBN_FLAG_W,ALKALI,ALKALI_FLAG_W,AR-39,AR-39ER,AR-39_FLAG_W
,,,,,,,,,METERS,DBAR,ITS-90,PSS-78,,PSS-78,,UMOL/KG,,UMOL/KG,,UMOL/KG,,UMOL/KG,,UMOL/KG,,UMOL/KG,,PMOL/KG,,FMOL/KG,,FMOL/KG,,UMOL/KG,,UMOL/KG,,%Modern,%Modern,
  06M320150501,   498, 25,      1,   253534,20150514,0125, 11.0000, -34.0000, 5356,   5346.0,   2.2290,  34.8590,2,  34.8590,2,    250.1,2,    251.3,2,    49.70,2,    22.24,2,     0.01,   2,     1.54,2,    0.105,2,        0,2,     0.00,2,   2198.3,6,   2345.1,6,   -999.0,      9.0,9
  06M320150501,   498, 25,      2,   253535,20150514,0127, 11.0000, -34.0000, 5356,   5292.0,   2.2250,  34.8590,2,-999.0000,9,    250.9,2,    250.4,2,    49.81,2,    22.37,2,     0.01,   2,     1.55,2,    0.107,2,        0,2,     0.00,2,   2197.3,2,   2342.8,2,   -999.0,      9.0,9
  06M320150501,   498, 25,      3,   253536,20150514,0141, 11.0000, -34.0000, 5356,   4500.0,   2.2710,  34.8730,2,-999.0000,9,    250.4,2,    250.7,2,    46.13,2,    22.01,2,     0.01,   2,     1.52,2,    0.066,2,        0,2,     0.00,2,   2194.3,2,   2344.2,2,   -999.0,      9.0,9
  06M320150501,   498, 25,      4,   253537,20150514,0148, 11.0000, -34.0000, 5356,   4062.0,   2.3810,  34.8860,2,-999.0000,9,    251.9,2,    252.4,2,    41.95,6,    21.41,6,     0.01,   6,     1.50,6,    0.072,2,        0,2,     0.00,2,   2189.5,2,   2340.8,2,   -999.0,      9.0,9
  06M320150501,   498, 25,      5,   253538,20150514,0157, 11.0000, -34.0000, 5356,   3557.0,   2.5130,  34.9020,2,  34.9020,2,    251.0,2,    251.7,2,    38.49,2,    21.28,2,     0.01,   2,     1.41,2,    0.033,2,        0,2,     0.00,2,   2186.3,2,   2342.3,2,   -999.0,      9.0,9
  06M320150501,   498, 25,      6,   253539,20150514,0206, 11.0000, -34.0000, 5356,   2993.0,   2.7550,  34.9210,2,-999.0000,9,    252.7,2,    253.6,2,    31.42,2,    20.49,2,     0.01,   2,     1.42,2,    0.048,2,        0,2,     0.00,2,   2177.9,2,   2333.3,2,   -999.0,      9.0,9
  06M320150501,   498, 25,      7,   253540,20150514,0219, 11.0000, -34.0000, 5356,   2501.0,   3.1050,  34.9450,2,-999.0000,9,    246.0,2,    248.2,2,    26.84,2,    20.70,2,     0.01,   2,     1.44,2,    0.019,2,        0,2,     0.00,2,   2175.4,2,   2328.6,2,   -999.0,      9.0,9
  06M320150501,   498, 25,      8,   253541,20150514,0228, 11.0000, -34.0000, 5356,   2001.0,   3.6270,  34.9650,2,-999.0000,9,    243.0,2,    244.8,2,    20.34,2,    20.63,2,     0.01,   2,     1.43,2,    0.036,2,        0,2,     0.00,2,   2170.5,2,   2318.6,2,   -999.0,      9.0,9
  06M320150501,   498, 25,      9,   253542,20150514,0233, 11.0000, -34.0000, 5356,   1749.0,   3.9670,  34.9730,2,  34.9730,2,    235.4,2,    236.6,2,    18.69,2,    21.08,2,     0.00,   2,     1.47,2,    0.069,2,        0,2,     0.00,2,   2171.6,2,   2314.3,2,   -999.0,      9.0,9
  06M320150501,   498, 25,     10,   253543,20150514,0237, 11.0000, -34.0000, 5356,   1499.0,   4.5050,  34.9670,2,-999.0000,9,    213.1,2,    213.8,2,    19.00,2,    23.03,2,     0.01,   2,     1.61,2,    0.089,2,        0,2,     0.00,2,   2183.1,2,   2317.5,2,   -999.0,      9.0,9
  06M320150501,   498, 25,     11,   253544,20150514,0241, 11.0000, -34.0000, 5356,   1249.0,   4.9950,  34.8980,2,-999.0000,9,    172.8,2,    172.8,2,    22.52,2,    27.52,2,     0.01,   2,     1.95,2,    0.036,2,        0,2,     0.00,2,   2204.3,2,   2312.5,2,   -999.0,      9.0,9
  06M320150501,   498, 25,     12,   253545,20150514,0246, 11.0000, -34.0000, 5356,   1000.0,   5.3760,  34.7870,2,-999.0000,9,    139.9,2,    139.1,2,    25.31,2,    31.98,2,     0.00,   2,     2.26,2,    0.022,2,        0,2,     0.00,2,   2221.4,2,   2309.9,2,   -999.0,      9.0,9
  06M320150501,   498, 25,     13,   253546,20150514,0250, 11.0000, -34.0000, 5356,    747.0,   6.1860,  34.7260,2,-999.0000,9,    107.0,2,    106.6,2,    24.59,2,    35.36,2,     0.01,   2,     2.46,2,    0.057,2,        0,2,     0.00,2,   2233.0,2,   2307.0,2,   -999.0,      9.0,9
  06M320150501,   498, 25,     14,   253547,20150514,0254, 11.0000, -34.0000, 5356,    489.0,   9.1020,  35.0210,2,-999.0000,9,     56.0,2,     58.2,2,    17.15,2,    35.84,2,     0.01,   2,     2.34,2,    0.261,6,     0.22,6,     0.03,6,   2245.8,2,   2307.3,2,   -999.0,      9.0,9
  06M320150501,   498, 25,     15,   253548,20150514,0255, 11.0000, -34.0000, 5356,    414.0,  10.0590,  35.1040,2,-999.0000,9,     46.8,2,     49.2,2,    14.66,2,    34.59,2,     0.01,   2,     2.24,2,    0.422,6,     0.25,6,     2.56,6,   -999.0,9,   -999.0,9,   -999.0,      9.0,9
  06M320150501,   498, 25,     16,   253549,20150514,0256, 11.0000, -34.0000, 5356,    395.0,  10.2160,  35.1070,2,-999.0000,9,     51.2,2,     53.2,2,    14.22,2,    34.12,2,     0.01,   2,     2.21,2,    0.489,6,     0.27,6,     1.87,6,   2245.7,6,   2309.1,6,   -999.0,      9.0,9
  06M320150501,   498, 25,     17,   253550,20150514,0256, 11.0000, -34.0000, 5356,    369.0,  10.1690,  35.0550,2,-999.0000,9,     60.8,2,     60.8,2,    13.74,2,    33.26,2,     0.01,   2,     2.15,2,    0.524,6,     0.25,6,     0.78,6,   -999.0,9,   -999.0,9,   -999.0,      9.0,9
  06M320150501,   498, 25,     18,   253551,20150514,0257, 11.0000, -34.0000, 5356,    309.0,  10.6640,  35.0980,2,-999.0000,9,     64.0,2,     72.2,2,    12.67,2,    31.67,2,     0.01,   2,     2.08,2,    0.683,6,     0.28,6,     0.49,6,   2233.5,2,   2308.8,2,   -999.0,      9.0,9
  06M320150501,   498, 25,     19,   253552,20150514,0258, 11.0000, -34.0000, 5356,    259.0,  10.9500,  35.0920,2,-999.0000,9,     78.3,2,     78.7,2,    11.76,2,    29.44,2,     0.01,   2,     1.96,2,    0.803,6,     0.43,6,     0.48,6,   2222.8,2,   2309.0,2,   -999.0,      9.0,9
  06M320150501,   498, 25,     20,   253553,20150514,0259, 11.0000, -34.0000, 5356,    197.0,  11.6340,  35.1480,2,-999.0000,9,    104.2,2,     98.9,2,    10.05,2,    25.35,2,     0.01,   2,     1.75,2,    1.045,6,     0.58,6,     0.14,6,   2203.8,2,   2310.5,2,   -999.0,      9.0,9
  06M320150501,   498, 25,     21,   253554,20150514,0300, 11.0000, -34.0000, 5356,    149.0,  12.8490,  35.3050,2,-999.0000,9,    109.0,2,    112.2,2,     8.66,2,    23.11,2,     0.02,   2,     1.54,2,    1.063,2,      0.7,2,     0.00,2,   2195.4,2,   2318.4,2,   -999.0,      9.0,9
  06M320150501,   498, 25,     22,   253555,20150514,0301, 11.0000, -34.0000, 5356,     99.0,  16.8720,  35.7120,2,-999.0000,9,    107.8,2,    102.3,2,     5.52,2,    18.75,2,     0.03,   2,     1.30,2,    1.140,2,     0.82,2,     0.00,2,   2188.6,2,   2336.0,2,   -999.0,      9.0,9
  06M320150501,   498, 25,     23,   253556,20150514,0302, 11.0000, -34.0000, 5356,     43.0,  25.6670,  36.3980,2,-999.0000,9,    207.6,2,    206.7,2,     1.07,2,     0.00,2,     0.01,   2,     0.16,2,    0.964,2,     1.26,2,     0.00,2,   2045.2,2,   2381.8,2,   -999.0,      9.0,9
  06M320150501,   498, 25,     24,   253557,20150514,0303, 11.0000, -34.0000, 5356,     10.0,  25.6650,  36.4010,2,  36.4020,2,    205.2,2,    206.8,2,     1.03,2,     0.07,2,     0.02,   2,     0.15,2,    0.987,2,      1.3,2,     0.00,2,   2045.2,2,   2381.0,2,   -999.0,      9.0,9
  06M320150501,   499, 26,      1,   253558,20150514,0856, 11.0000, -33.0000, 5503,   1203.0,   5.0480,  34.8900,2,-999.0000,9,    164.8,2,    163.2,2,    23.56,2,    28.77,2,     0.00,   2,     1.89,2,    0.071,2,        0,2,     0.00,2,   2207.5,6,   2318.1,6,   -999.0,      9.0,9
  06M320150501,   499, 26,      2,   253559,20150514,0858, 11.0000, -33.0000, 5503,   1099.0,   5.3050,  34.8450,2,-999.0000,9,    148.6,2,    148.2,2,    24.94,2,    30.30,2,     0.01,   2,     2.03,2,    0.053,2,        0,2,     0.00,2,   -999.0,9,   -999.0,9,   -999.0,      9.0,9
  06M320150501,   499, 26,      3,   253560,20150514,0900, 11.0000, -33.0000, 5503,    998.0,   5.5210,  34.8000,2,-999.0000,9,    131.7,2,    131.3,6,    25.49,6,    32.34,6,     0.00,   6,     2.16,6,    0.014,2,        0,2,     0.00,2,   2222.1,2,   2309.0,2,   -999.0,      9.0,9
  06M320150501,   499, 26,      4,   253561,20150514,0902, 11.0000, -33.0000, 5503,    888.0,   5.7620,  34.7530,2,  34.7550,2,    117.6,2,    115.9,2,    26.27,2,    33.81,2,     0.01,   2,     2.28,2,    0.021,2,        0,2,     0.00,2,   -999.0,9,   -999.0,9,   -999.0,      9.0,9
  06M320150501,   499, 26,      5,   253562,20150514,0903, 11.0000, -33.0000, 5503,    798.0,   6.2450,  34.7600,2,-999.0000,9,    104.1,2,    102.5,2,    24.46,2,    34.86,2,     0.00,   2,     2.31,2,    0.042,2,        0,2,     0.00,2,   2232.8,2,   2307.1,2,   -999.0,      9.0,9
  06M320150501,   499, 26,      6,   253563,20150514,0905, 11.0000, -33.0000, 5503,    699.0,   6.8490,  34.7900,2,  34.7950,2,     89.3,2,     87.9,2,    22.69,2,    35.68,2,     0.00,   2,     2.32,2,    0.079,2,        0,2,     0.00,2,   -999.0,9,   -999.0,9,   -999.0,      9.0,9
  06M320150501,   499, 26,      7,   253564,20150514,0907, 11.0000, -33.0000, 5503,    598.0,   7.6010,  34.8360,2,-999.0000,9,     79.9,2,     79.5,2,    20.46,2,    35.21,2,     0.01,   2,     2.27,2,    0.164,2,        0,2,     0.00,2,   2237.6,2,   2302.2,2,   -999.0,      9.0,9
  06M320150501,   499, 26,      8,   253565,20150514,0908, 11.0000, -33.0000, 5503,    498.0,   8.7070,  34.9330,2,-999.0000,9,     63.9,2,     63.8,2,    17.80,2,    34.97,2,     0.01,   2,     2.21,2,    0.275,2,        0,2,     0.00,2,   2241.4,2,   2304.0,2,   -999.0,      9.0,9
  06M320150501,   499, 26,      9,   253566,20150514,0909, 11.0000, -33.0000, 5503,    467.0,   9.0580,  34.9650,2,-999.0000,9,     60.3,2,     59.8,2,    16.52,2,    34.66,2,     0.03,   2,     2.16,2,    0.342,2,     0.17,2,     0.21,2,   -999.0,9,   -999.0,9,   -999.0,      9.0,9
  06M320150501,   499, 26,     10,   253567,20150514,0909, 11.0000, -33.0000, 5503,    439.0,   9.2340,  34.9680,2,-999.0000,9,     61.0,2,     59.4,2,    16.16,2,    34.36,2,     0.01,   2,     2.13,2,    0.398,2,      0.2,2,     0.45,2,   2240.6,2,   2304.5,2,   -999.0,      9.0,9
  06M320150501,   499, 26,     11,   253568,20150514,0910, 11.0000, -33.0000, 5503,    408.0,   9.7280,  35.0350,2,-999.0000,9,     56.5,2,     57.2,2,    15.30,2,    33.58,2,     0.00,   2,     2.08,2,    0.449,2,     0.16,2,     0.63,2,   -999.0,9,   -999.0,9,   -999.0,      9.0,9
  06M320150501,   499, 26,     12,   253569,20150514,0910, 11.0000, -33.0000, 5503,    376.0,   9.8820,  35.0450,2,-999.0000,9,     56.8,2,     57.2,2,    14.57,2,    33.39,2,     0.01,   2,     2.05,2,    0.495,2,     0.28,2,     0.58,2,   2237.4,6,   2306.4,6,   -999.0,      9.0,9
  06M320150501,   499, 26,     13,   253570,20150514,0911, 11.0000, -33.0000, 5503,    350.0,  10.1390,  35.0530,2,-999.0000,9,     60.6,2,     59.0,2,    14.27,2,    32.66,2,     0.01,   2,     2.01,2,    0.556,2,     0.28,2,     0.45,2,   -999.0,9,   -999.0,9,   -999.0,      9.0,9
  06M320150501,   499, 26,     14,   253571,20150514,0911, 11.0000, -33.0000, 5503,    318.0,  10.4540,  35.0720,2,-999.0000,9,     64.6,2,     65.7,2,    13.27,2,    31.38,2,     0.01,   2,     1.94,2,    0.675,2,     0.39,2,     0.53,2,   2231.7,2,   2306.8,2,   -999.0,      9.0,9
  06M320150501,   499, 26,     15,   253572,20150514,0912, 11.0000, -33.0000, 5503,    289.0,  10.5800,  35.0690,2,-999.0000,9,     69.4,2,     68.5,2,    12.85,2,    30.80,2,     0.00,   2,     1.90,2,    0.713,2,     0.43,2,     0.61,2,   -999.0,9,   -999.0,9,   -999.0,      9.0,9
  06M320150501,   499, 26,     16,   253573,20150514,0913, 11.0000, -33.0000, 5503,    227.0,  11.2520,  35.1170,2,-999.0000,9,     81.4,2,     80.7,6,    11.42,6,    28.39,6,     0.01,   6,     1.77,6,    0.879,2,     0.43,2,     0.43,2,   -999.0,9,   -999.0,9,   -999.0,      9.0,9
  06M320150501,   499, 26,     17,   253574,20150514,0913, 11.0000, -33.0000, 5503,    198.0,  11.4650,  35.1270,2,-999.0000,9,     98.5,2,     98.6,2,    10.56,2,    26.33,2,     0.01,   2,     1.65,2, -999.000,9,     -999,9,  -999.00,9,   2206.3,2,   2312.2,2,   -999.0,      9.0,9
  06M320150501,   499, 26,     18,   253575,20150514,0914, 11.0000, -33.0000, 5503,    149.0,  12.2660,  35.2280,2,-999.0000,9,    101.5,2,    101.4,2,     9.48,2,    24.76,2,     0.01,   2,     1.55,2,    1.082,2,     0.64,2,     0.12,2,   2201.0,2,   2314.9,2,   -999.0,      9.0,9
  06M320150501,   499, 26,     19,   253576,20150514,0915, 11.0000, -33.0000, 5503,     99.0,  14.0730,  35.4490,2,-999.0000,9,     99.5,2,    101.3,2,     8.11,2,    22.95,2,     0.02,   2,     1.43,2,    1.132,2,     0.68,2,     0.00,2,   2197.6,2,   2323.8,2,   -999.0,      9.0,9
  06M320150501,   499, 26,     20,   253577,20150514,0917, 11.0000, -33.0000, 5503,     51.0,  24.8600,  36.3220,2,-999.0000,9,    208.0,2,    206.4,2,     1.06,2,     0.48,2,     0.01,   2,     0.05,2,    1.012,2,      1.3,2,     0.00,2,   2049.8,2,   2376.3,2,   -999.0,      9.0,9
  06M320150501,   499, 26,     21,   253578,20150514,0918, 11.0000, -33.0000, 5503,     19.0,  25.0630,  36.3690,2,  36.3660,2,    208.1,2,    208.5,2,     0.95,2,     0.31,2,     0.00,   2,     0.01,2,    0.972,2,     1.35,2,     0.00,2,   2044.3,2,   2378.9,2,   -999.0,      9.0,9
  06M320150501,   499, 26,     22,   253579,20150514,0918, 11.0000, -33.0000, 5503,     10.0,  25.0630,  36.3700,2,-999.0000,9,    209.9,2,    208.7,2,     0.98,2,     0.28,2,     0.00,   2,     0.01,2,    0.975,2,     1.28,2,     0.00,2,   2044.4,2,   2381.1,2,   -999.0,      9.0,9
  06M320150501,   500, 27,      1,   253580,20150514,1509, 11.0000, -32.0000, 5492,   1203.0,   5.0370,  34.8890,2,  34.8870,2,    167.2,2,    165.5,2,    23.55,2,    27.86,2,     0.02,   2,     1.87,2,    0.043,2,     0.11,2,     0.00,2,   2207.7,6,   2316.5,6,   -999.0,      9.0,9
  06M320150501,   500, 27,      2,   253581,20150514,1510, 11.0000, -32.0000, 5492,   1109.0,   5.1990,  34.8410,2,-999.0000,9,    152.0,2,    151.0,2,    25.29,2,    29.84,2,     0.00,   2,     2.00,2,    0.024,2,        0,2,     0.00,2,   -999.0,9,   -999.0,9,   -999.0,      9.0,9
  06M320150501,   500, 27,      3,   253582,20150514,1512, 11.0000, -32.0000, 5492,   1001.0,   5.3860,  34.7640,2,-999.0000,9,    133.5,2,    132.5,2,    26.62,6,    33.23,6,     0.00,   6,     2.24,6,    0.022,2,        0,2,     0.00,2,   2224.6,2,   2306.5,2,   -999.0,      9.0,9
  06M320150501,   500, 27,      4,   253583,20150514,1513, 11.0000, -32.0000, 5492,    899.0,   5.5880,  34.7280,2,  34.7310,2,    122.2,2,    121.5,6,    26.76,2,    33.82,2,     0.01,   2,     2.26,2,    0.023,2,        0,2,     0.00,2,   -999.0,9,   -999.0,9,   -999.0,      9.0,9
  06M320150501,   500, 27,      5,   253584,20150514,1515, 11.0000, -32.0000, 5492,    799.0,   6.1280,  34.7310,2,-999.0000,9,    107.4,2,    107.1,2,    25.36,2,    34.70,2,     0.00,   2,     2.30,2,    0.051,2,        0,2,     0.00,2,   2232.6,2,   2302.4,2,   -999.0,      9.0,9
  06M320150501,   500, 27,      6,   253585,20150514,1516, 11.0000, -32.0000, 5492,    698.0,   7.0060,  34.7940,2,-999.0000,9,     85.2,2,     85.0,2,    22.67,2,    36.02,2,     0.00,   2,     2.31,2,    0.091,2,        0,2,     0.00,2,   -999.0,9,   -999.0,9,   -999.0,      9.0,9
  06M320150501,   500, 27,      7,   253586,20150514,1518, 11.0000, -32.0000, 5492,    600.0,   7.8560,  34.8600,2,-999.0000,9,     71.7,2,     72.4,2,    20.01,2,    35.93,2,     0.01,   2,     2.28,2,    0.172,2,        0,2,     0.00,2,   2243.6,2,   2302.5,2,   -999.0,      9.0,9
  06M320150501,   500, 27,      8,   253587,20150514,1519, 11.0000, -32.0000, 5492,    521.0,   8.7220,  34.9480,2,-999.0000,9,     61.3,2,     60.9,2,    17.70,2,    35.42,2,     0.00,   2,     2.20,2,    0.268,6,     0.14,6,     0.03,6,   2244.4,2,   2301.0,2,   -999.0,      9.0,9
  06M320150501,   500, 27,      9,   253588,20150514,1519, 11.0000, -32.0000, 5492,    488.0,   9.1150,  34.9840,2,-999.0000,9,     57.7,2,     59.4,2,    16.74,2,    35.18,2,     0.01,   2,     2.15,2,    0.325,6,     0.19,6,     0.17,6,   -999.0,9,   -999.0,9,   -999.0,      9.0,9
  06M320150501,   500, 27,     10,   253589,20150514,1520, 11.0000, -32.0000, 5492,    459.0,   9.2620,  34.9770,2,-999.0000,9,     58.8,2,     61.3,2,    16.34,2,    34.89,2,     0.01,   2,     2.13,2,    0.358,6,     0.22,6,     0.51,6,   2243.0,2,   2304.8,2,   -999.0,      9.0,9
  06M320150501,   500, 27,     11,   253590,20150514,1520, 11.0000, -32.0000, 5492,    430.0,   9.3600,  34.9730,2,-999.0000,9,     60.4,2,     63.1,2,    16.09,2,    34.58,2,     0.01,   2,     2.12,2,    0.418,6,     0.15,6,     0.70,6,   -999.0,9,   -999.0,9,   -999.0,      9.0,9
  06M320150501,   500, 27,     12,   253591,20150514,1521, 11.0000, -32.0000, 5492,    408.0,   9.6130,  35.0000,2,-999.0000,9,     59.6,2,     62.4,6,    15.47,6,    34.08,6,     0.01,   6,     2.08,6,    0.459,6,     0.32,6,     0.80,6,   2241.5,6,   2304.9,6,   -999.0,      9.0,9
  06M320150501,   500, 27,     13,   253592,20150514,1521, 11.0000, -32.0000, 5492,    369.0,  10.1000,  35.0500,2,-999.0000,9,     57.5,2,     61.3,2,    14.11,2,    33.24,2,     0.01,   2,     2.02,2,    0.547,6,     0.28,6,     0.76,6,   -999.0,9,   -999.0,9,   -999.0,      9.0,9
  06M320150501,   500, 27,     14,   253593,20150514,1522, 11.0000, -32.0000, 5492,    339.0,  10.6080,  35.1090,2,-999.0000,9,     57.0,2,     65.1,2,    13.33,2,    32.59,2,     0.00,   2,     1.95,2,    0.624,6,     0.32,6,     0.74,6,   2239.0,2,   2307.7,2,   -999.0,      9.0,9
  06M320150501,   500, 27,     15,   253594,20150514,1522, 11.0000, -32.0000, 5492,    309.0,  10.8030,  35.1180,2,-999.0000,9,     65.1,2,     68.1,2,    12.45,2,    30.95,2,     0.00,   2,     1.88,2,    0.725,6,      0.3,6,     0.53,6,   -999.0,9,   -999.0,9,   -999.0,      9.0,9
  06M320150501,   500, 27,     16,   253595,20150514,1522, 11.0000, -32.0000, 5492,    281.0,  10.9240,  35.1010,2,-999.0000,9,     75.7,2,     72.1,2,    11.97,2,    29.64,2,     0.00,   2,     1.82,2,    0.796,6,     0.33,6,     0.49,6,   -999.0,9,   -999.0,9,   -999.0,      9.0,9
  06M320150501,   500, 27,     17,   253596,20150514,1523, 11.0000, -32.0000, 5492,    249.0,  11.4540,  35.1540,2,-999.0000,9,     82.4,2,     88.3,2,    11.33,2,    28.09,2,     0.01,   2,     1.74,2,    0.901,6,     0.39,6,     0.34,6,   2219.1,2,   2311.0,2,   -999.0,      9.0,9
  06M320150501,   500, 27,     18,   253597,20150514,1524, 11.0000, -32.0000, 5492,    150.0,  12.6830,  35.2710,2,-999.0000,9,     93.8,2,     94.2,2,     9.21,2,    24.82,2,     0.01,   2,     1.55,2,    1.078,2,     0.54,2,     0.00,2,   2206.6,2,   2316.8,2,   -999.0,      9.0,9
  06M320150501,   500, 27,     19,   253598,20150514,1525, 11.0000, -32.0000, 5492,    100.0,  14.2610,  35.4550,2,-999.0000,9,     87.6,2,     88.4,2,     7.82,2,    23.75,2,     0.04,   2,     1.45,2,    1.139,2,     0.66,2,     0.00,2,   2206.4,2,   2323.7,2,   -999.0,      9.0,9
  06M320150501,   500, 27,     20,   253599,20150514,1526, 11.0000, -32.0000, 5492,     52.0,  24.2410,  36.2510,2,-999.0000,9,    205.9,3,    198.1,2,     1.61,2,     1.93,2,     0.06,   2,     0.15,2,    1.031,2,     1.22,2,     0.00,2,   2067.0,2,   2368.4,2,   -999.0,      9.0,9
  06M320150501,   500, 27,     21,   253600,20150514,1527, 11.0000, -32.0000, 5492,     20.0,  25.7350,  36.3030,2,  36.3070,2,    207.3,2,    207.7,2,     0.99,2,     0.03,2,     0.00,   2,     0.04,2,    0.994,2,     1.25,2,     0.00,2,   2036.4,2,   2375.6,2,   -999.0,      9.0,9
  06M320150501,   500, 27,     22,   253601,20150514,1528, 11.0000, -32.0000, 5492,     11.0,  25.7690,  36.3030,2,-999.0000,9,    208.4,2,    207.8,2,     0.99,2,     0.00,2,     0.00,   2,     0.01,2,    0.972,2,      1.2,2,     0.00,2,   2036.0,2,   2375.1,2,   -999.0,      9.0,9