BOTTLE,20180504PRINUNIVRMK
EXPOCODE,STNNBR,CASTNO,BTLNBR,BEDFORD,DATE,TIME,LATITUDE,LONGITUDE,DEPTH,CTDPRS,CTDTMP,CTDSAL,CTDSAL_FLAG_W,SALNTY,SALNTY_FLAG_W,CTDOXY,CTDOXY_FLAG_W,OXYGEN,OXYGEN_FLAG_W,SILCAT,SILCAT_FLAG_W,NITRAT,NITRAT_FLAG_W,NITRIT,NITRIT_FLAG_W,PHSPHT,PHSPHT_FLAG_W,CFC-12,CFC-12_FLAG_W,SF6,SF6_FLAG_W,SF5CF3,SF5CF3_FLAG_W,TCARBN,TCARBN_FLAG_W,ALKALI,ALKALI_FLAG_W,AR-39,AR-39ER,AR-39_FLAG_W
,,,,,,,,,METERS,DBAR,ITS-90,PSS-78,,PSS-78,,UMOL/KG,,UMOL/KG,,UMOL/KG,,UMOL/KG,,UMOL/KG,,UMOL/KG,,PMOL/KG,,FMOL/KG,,FMOL/KG,,UMOL/KG,,UMOL/KG,,%Modern,%Modern,
  06M320150501,   549, 76,      1,   254676,20150530,1946, 12.0000, -19.0000, 4552,   4493.0,   2.2800,  34.8710,2,  34.8710,2,    235.7,2,    235.8,2,    53.70,2,    23.93,2,     0.04,   2,     1.55,2,    0.037,2,        0,2,     0.00,2,   2213.4,6,   2364.5,6,   -999.0,      9.0,9
  06M320150501,   549, 76,      2,   254677,20150530,1948, 12.0000, -19.0000, 4552,   4390.0,   2.2880,  34.8740,2,  34.8750,2,    238.2,2,    237.5,2,    52.06,6,    23.80,6,     0.05,   6,     1.54,6,    0.050,2,        0,2,     0.00,2,   2208.2,2,   2361.1,2,   -999.0,      9.0,9
  06M320150501,   549, 76,      3,   254678,20150530,1955, 12.0000, -19.0000, 4552,   4000.0,   2.3790,  34.8870,2,  34.8880,2,    240.5,2,    239.8,6,    47.20,2,    23.26,2,     0.06,   2,     1.51,2,    0.010,2,        0,2,     0.00,2,   2200.6,2,   2353.5,2,   -999.0,      9.0,9
  06M320150501,   549, 76,      4,   254679,20150530,2005, 12.0000, -19.0000, 4552,   3499.0,   2.5200,  34.9040,2,  34.9060,2,    241.9,2,    241.7,2,    41.83,2,    22.70,2,     0.05,   2,     1.47,2,    0.003,2,        0,2,     0.00,2,   2191.5,2,   2349.4,2,   -999.0,      9.0,9
  06M320150501,   549, 76,      5,   254680,20150530,2014, 12.0000, -19.0000, 4552,   2999.0,   2.7410,  34.9230,2,  34.9240,2,    242.0,2,    242.6,2,    36.11,2,    22.24,2,     0.06,   2,     1.43,2,    0.003,2,        0,2,     0.00,2,   2184.2,2,   2335.7,2,   -999.0,      9.0,9
  06M320150501,   549, 76,      6,   254681,20150530,2024, 12.0000, -19.0000, 4552,   2499.0,   3.0460,  34.9390,2,  34.9370,2,    238.5,2,    238.8,2,    31.19,2,    22.19,2,     0.07,   2,     1.43,2,    0.003,2,        0,2,     0.00,2,   2181.4,2,   2337.5,2,   -999.0,      9.0,9
  06M320150501,   549, 76,      7,   254682,20150530,2033, 12.0000, -19.0000, 4552,   2000.0,   3.5510,  34.9550,2,  34.9560,2,    232.4,2,    233.0,2,    24.66,2,    22.32,2,     0.07,   2,     1.43,2,    0.014,2,        0,2,     0.00,2,   2176.1,2,   2323.0,2,   -999.0,      9.0,9
  06M320150501,   549, 76,      8,   254683,20150530,2042, 12.0000, -19.0000, 4552,   1499.0,   4.3120,  34.9510,2,-999.0000,9,    202.8,2,    203.3,2,    22.90,2,    25.11,2,     0.07,   2,     1.61,2,    0.012,2,        0,2,     0.00,2,   2188.7,2,   2317.8,2,   -999.0,      9.0,9
  06M320150501,   549, 76,      9,   254684,20150530,2047, 12.0000, -19.0000, 4552,   1249.0,   4.9470,  34.9120,2,-999.0000,9,    165.0,2,    164.7,2,    24.91,2,    29.22,2,     0.08,   2,     1.86,2,    0.013,2,        0,2,     0.00,2,   2208.5,2,   2323.5,2,   -999.0,      9.0,9
  06M320150501,   549, 76,     10,   254685,20150530,2051, 12.0000, -19.0000, 4552,   1000.0,   5.5810,  34.8030,2,-999.0000,9,    124.3,2,    123.2,2,    26.69,2,    34.87,2,     0.08,   2,     2.18,2,    0.013,2,        0,2,     0.00,2,   2227.3,2,   2313.9,2,   -999.0,      9.0,9
  06M320150501,   549, 76,     11,   254686,20150530,2056, 12.0000, -19.0000, 4552,    749.0,   6.8580,  34.8150,2,-999.0000,9,     82.3,2,     81.4,2,    24.10,2,    38.59,2,     0.08,   2,     2.33,2,    0.057,2,        0,2,     0.00,2,   2242.5,2,   2307.2,3,   -999.0,      9.0,9
  06M320150501,   549, 76,     12,   254687,20150530,2100, 12.0000, -19.0000, 4552,    529.0,   9.4950,  35.0930,2,-999.0000,9,     48.0,2,     49.4,2,    17.38,2,    37.54,2,     0.08,   2,     2.17,2,    0.308,6,     0.27,6,     0.27,6,   2249.7,2,   2310.0,3,   -999.0,      9.0,9
  06M320150501,   549, 76,     13,   254688,20150530,2101, 12.0000, -19.0000, 4552,    469.0,  10.3750,  35.1990,2,-999.0000,9,     45.0,2,     43.0,2,    15.19,2,    35.87,2,     0.09,   2,     2.05,2, -999.000,9,     -999,9,     0.87,2,   2247.5,2,   2254.8,2,   -999.0,      9.0,9
  06M320150501,   549, 76,     14,   254689,20150530,2102, 12.0000, -19.0000, 4552,    440.0,  10.6570,  35.2060,2,-999.0000,9,     42.8,2,     43.9,2,    14.53,2,    35.53,2,     0.09,   2,     2.02,2,    0.500,6,     0.38,6,     1.54,6,   2248.0,2,   2264.8,2,   -999.0,      9.0,9
  06M320150501,   549, 76,     15,   254690,20150530,2102, 12.0000, -19.0000, 4552,    409.0,  10.8320,  35.1960,2,-999.0000,9,     42.0,2,     40.4,2,    14.10,2,    35.33,2,     0.09,   2,     2.00,2, -999.000,9,     -999,9,     1.94,2,   -999.0,9,   -999.0,9,   -999.0,      9.0,9
  06M320150501,   549, 76,     16,   254691,20150530,2104, 12.0000, -19.0000, 4552,    350.0,  11.4870,  35.2200,2,-999.0000,9,     51.5,2,     52.1,2,    12.52,2,    33.07,2,     0.10,   2,     1.88,2,    0.724,6,     0.44,6,     0.59,6,   2239.3,2,   2313.2,2,   -999.0,      9.0,9
  06M320150501,   549, 76,     17,   254692,20150530,2104, 12.0000, -19.0000, 4552,    299.0,  11.7870,  35.1940,2,-999.0000,9,     63.9,2,     65.3,2,    11.63,2,    30.88,2,     0.10,   2,     1.80,2,    0.842,6,     0.46,6,     0.49,6,   -999.0,9,   -999.0,9,   -999.0,      9.0,9
  06M320150501,   549, 76,     18,   254693,20150530,2105, 12.0000, -19.0000, 4552,    249.0,  12.2890,  35.2150,2,-999.0000,9,     82.3,2,     81.4,2,    10.67,2,    28.18,2,     0.11,   2,     1.67,2,    0.953,6,     0.61,6,     0.23,6,   2215.4,2,   2314.5,2,   -999.0,      9.0,9
  06M320150501,   549, 76,     19,   254694,20150530,2107, 12.0000, -19.0000, 4552,    200.0,  12.7360,  35.2600,2,-999.0000,9,    102.3,2,    104.1,6,     9.39,6,    24.66,6,     0.11,   6,     1.51,6,    1.061,6,     0.82,6,     0.06,6,   2198.8,2,   2318.6,2,   -999.0,      9.0,9
  06M320150501,   549, 76,     20,   254695,20150530,2108, 12.0000, -19.0000, 4552,    149.0,  13.4780,  35.3530,2,-999.0000,9,    101.2,2,    102.8,2,     8.57,2,    23.59,2,     0.11,   2,     1.44,2,    1.120,2,     0.82,2,     0.00,2,   2196.6,2,   2321.9,2,   -999.0,      9.0,9
  06M320150501,   549, 76,     21,   254696,20150530,2109, 12.0000, -19.0000, 4552,    101.0,  14.5100,  35.4750,2,-999.0000,9,     87.2,2,     85.3,2,     7.70,2,    23.84,2,     0.13,   2,     1.44,2,    1.128,2,      0.9,2,     0.00,2,   2204.5,2,   2331.5,2,   -999.0,      9.0,9
  06M320150501,   549, 76,     22,   254697,20150530,2110, 12.0000, -19.0000, 4552,     50.0,  17.9180,  35.7180,2,-999.0000,9,    103.2,2,     88.4,2,     5.57,2,    20.08,2,     0.33,   2,     1.23,2,    1.160,2,     0.99,2,     0.00,2,   2196.9,2,   2330.2,3,   -999.0,      9.0,9
  06M320150501,   549, 76,     23,   254698,20150530,2111, 12.0000, -19.0000, 4552,     21.0,  26.4450,  35.8590,2,-999.0000,9,    208.0,2,    213.2,2,     0.94,2,     0.00,2,     0.14,   2,     0.10,2,    0.973,2,     1.48,2,     0.00,2,   2046.1,2,   2356.1,2,   -999.0,      9.0,9
  06M320150501,   549, 76,     24,   254699,20150530,2112, 12.0000, -19.0000, 4552,     11.0,  26.5580,  35.8770,2,-999.0000,9,    207.2,2,    210.8,6,     0.98,6,     0.00,6,     0.13,   6,     0.10,6,    0.966,2,     1.45,2,     0.00,2,   2046.1,6,   2355.5,6,   -999.0,      9.0,9
  06M320150501,   550, 77,      1,   254700,20150531,0948, 13.0000, -21.0000, 4646,   1204.0,   5.2430,  34.9390,2,-999.0000,9,    157.9,2,    158.4,2,    24.03,2,    29.62,2,     0.00,   2,     1.91,2,    0.016,2,        0,2,     0.00,2,   2212.4,6,   2320.9,6,   -999.0,      9.0,9
  06M320150501,   550, 77,      2,   254701,20150531,0951, 13.0000, -21.0000, 4646,   1099.0,   5.4860,  34.8900,2,-999.0000,9,    140.2,2,    139.8,2,    24.65,2,    31.70,2,     0.00,   2,     2.03,2,    0.016,2,        0,2,     0.00,2,   -999.0,9,   -999.0,9,   -999.0,      9.0,9
  06M320150501,   550, 77,      3,   254702,20150531,0952, 13.0000, -21.0000, 4646,   1000.0,   5.7620,  34.8480,2,-999.0000,9,    123.9,2,    123.2,6,    25.20,2,    33.80,2,     0.00,   2,     2.18,2,    0.019,2,        0,2,     0.00,2,   2228.2,2,   2313.6,2,   -999.0,      9.0,9
  06M320150501,   550, 77,      4,   254703,20150531,0954, 13.0000, -21.0000, 4646,    899.0,   6.1100,  34.8120,2,-999.0000,9,    105.8,2,    106.0,2,    25.48,2,    35.62,2,     0.00,   2,     2.29,2,    0.026,2,        0,2,     0.00,2,   -999.0,9,   -999.0,9,   -999.0,      9.0,9
  06M320150501,   550, 77,      5,   254704,20150531,0956, 13.0000, -21.0000, 4646,    799.0,   6.6370,  34.8230,2,-999.0000,9,     90.2,2,     90.1,2,    24.14,2,    37.02,2,     0.00,   2,     2.33,2,    0.051,2,        0,2,     0.00,2,   2240.6,6,   2307.5,6,   -999.0,      9.0,9
  06M320150501,   550, 77,      6,   254705,20150531,0958, 13.0000, -21.0000, 4646,    699.0,   7.3520,  34.8730,2,-999.0000,9,     73.8,2,     73.0,2,    22.27,2,    37.91,2,     0.00,   2,     2.35,2,    0.088,2,        0,2,     0.00,2,   -999.0,9,   -999.0,9,   -999.0,      9.0,9
  06M320150501,   550, 77,      7,   254706,20150531,1000, 13.0000, -21.0000, 4646,    600.0,   8.2780,  34.9680,2,-999.0000,9,     60.9,2,     60.1,2,    19.61,2,    37.67,2,     0.00,   2,     2.29,2,    0.175,2,        0,2,     0.00,2,   2248.4,2,   2280.8,2,   -999.0,      9.0,9
  06M320150501,   550, 77,      8,   254707,20150531,1001, 13.0000, -21.0000, 4646,    508.0,   9.1580,  35.0510,2,-999.0000,9,     47.7,2,     48.3,2,    17.56,2,    37.40,2,     0.00,   2,     2.24,2,    0.276,6,     0.23,6,     0.11,6,   2251.2,2,   2295.4,2,   -999.0,      9.0,9
  06M320150501,   550, 77,      9,   254708,20150531,1002, 13.0000, -21.0000, 4646,    479.0,   9.5760,  35.1020,2,-999.0000,9,     45.2,2,     44.6,2,    16.74,2,    36.84,2,     0.00,   2,     2.21,2, -999.000,9,     -999,9,     0.33,2,   -999.0,9,   -999.0,9,   -999.0,      9.0,9
  06M320150501,   550, 77,     10,   254709,20150531,1002, 13.0000, -21.0000, 4646,    450.0,   9.8830,  35.1370,2,-999.0000,9,     43.7,2,     44.6,2,    15.96,2,    36.31,2,     0.00,   2,     2.15,2,    0.383,6,     0.29,6,     0.58,6,   2251.1,2,   2309.6,2,   -999.0,      9.0,9
  06M320150501,   550, 77,     11,   254710,20150531,1003, 13.0000, -21.0000, 4646,    419.0,  10.3340,  35.1880,2,-999.0000,9,     42.6,2,     42.4,2,    15.02,2,    35.67,2,     0.00,   2,     2.09,2, -999.000,9,     -999,9,     1.06,2,   -999.0,9,   -999.0,9,   -999.0,      9.0,9
  06M320150501,   550, 77,     12,   254711,20150531,1003, 13.0000, -21.0000, 4646,    389.0,  10.4670,  35.1730,2,-999.0000,9,     40.9,2,     40.9,2,    14.54,6,    35.70,6,     0.00,   6,     2.08,6,    0.471,6,     0.36,6,     3.14,6,   2249.5,2,   2312.5,2,   -999.0,      9.0,9
  06M320150501,   550, 77,     13,   254712,20150531,1004, 13.0000, -21.0000, 4646,    359.0,  10.8300,  35.2100,2,-999.0000,9,     45.7,2,     42.3,2,    13.59,2,    34.65,2,     0.00,   2,     2.01,2, -999.000,9,     -999,9,     2.09,2,   -999.0,9,   -999.0,9,   -999.0,      9.0,9
  06M320150501,   550, 77,     14,   254713,20150531,1004, 13.0000, -21.0000, 4646,    329.0,  11.3090,  35.2720,2,-999.0000,9,     44.4,2,     45.2,2,    12.64,2,    33.46,2,     0.00,   2,     1.94,2,    0.636,6,      0.4,6,     0.66,6,   2244.6,2,   2313.4,2,   -999.0,      9.0,9
  06M320150501,   550, 77,     15,   254714,20150531,1005, 13.0000, -21.0000, 4646,    299.0,  11.6460,  35.2890,2,-999.0000,9,     53.4,2,     48.9,2,    11.78,2,    32.21,2,     0.01,   2,     1.88,2, -999.000,9,     -999,9,     0.44,2,   -999.0,9,   -999.0,9,   -999.0,      9.0,9
  06M320150501,   550, 77,     16,   254715,20150531,1005, 13.0000, -21.0000, 4646,    269.0,  11.8070,  35.2710,2,-999.0000,9,     55.8,2,     58.0,2,    11.14,2,    30.89,2,     0.01,   2,     1.80,2,    0.802,6,     0.51,6,     0.47,6,   -999.0,9,   -999.0,9,   -999.0,      9.0,9
  06M320150501,   550, 77,     17,   254716,20150531,1006, 13.0000, -21.0000, 4646,    239.0,  12.0700,  35.2710,2,-999.0000,9,     65.4,2,     68.1,2,    10.53,2,    29.57,2,     0.01,   2,     1.75,2,    0.893,2,     0.52,2,     0.41,2,   2227.2,2,   2317.2,2,   -999.0,      9.0,9
  06M320150501,   550, 77,     18,   254717,20150531,1007, 13.0000, -21.0000, 4646,    149.0,  12.7510,  35.2900,2,-999.0000,9,     72.8,2,     74.1,2,     9.51,2,    27.67,2,     0.02,   2,     1.65,2,    1.001,2,     0.61,2,     0.12,2,   2218.4,2,   2314.4,2,   -999.0,      9.0,9
  06M320150501,   550, 77,     19,   254718,20150531,1008, 13.0000, -21.0000, 4646,     98.0,  13.5310,  35.3730,2,-999.0000,9,     67.4,2,     69.0,2,     8.61,2,    27.21,2,     0.02,   2,     1.64,2,    1.070,2,     0.72,2,     0.00,2,   2219.8,2,   2317.9,2,   -999.0,      9.0,9
  06M320150501,   550, 77,     20,   254719,20150531,1010, 13.0000, -21.0000, 4646,     50.0,  17.7680,  36.0310,2,-999.0000,9,    101.8,2,     89.0,2,     5.63,2,    20.77,2,     0.12,   2,     1.23,2,    1.107,2,     1.02,2,     0.00,2,   2203.7,2,   2343.3,2,   -999.0,      9.0,9
  06M320150501,   550, 77,     21,   254720,20150531,1010, 13.0000, -21.0000, 4646,     20.0,  25.0710,  35.9410,2,-999.0000,9,    206.6,2,    208.9,2,     0.47,2,     0.14,2,     0.01,   2,     0.14,2,    0.986,2,     1.43,2,     0.00,2,   2056.1,2,   2360.6,2,   -999.0,      9.0,9
  06M320150501,   550, 77,     22,   254721,20150531,1011, 13.0000, -21.0000, 4646,     11.0,  25.0650,  35.9370,2,-999.0000,9,    208.5,2,    209.1,2,     0.44,2,     0.02,2,     0.00,   2,     0.16,2,    0.990,6,     1.45,6,     0.00,6,   2056.1,2,   2307.6,3,   -999.0,      9.0,9
  06M320150501,   551, 78,      1,   254722,20150531,1646, 14.0000, -21.0000, 4376,   1204.0,   5.1890,  34.9420,2,-999.0000,9,    159.2,2,    158.0,2,    24.02,6,    30.15,6,     0.00,   6,     1.88,6,    0.015,2,        0,2,     0.00,2,   2210.5,6,   2317.4,2,   -999.0,      9.0,9
  06M320150501,   551, 78,      2,   254723,20150531,1649, 14.0000, -21.0000, 4376,   1086.0,   5.6630,  34.9280,2,-999.0000,9,    140.7,2,    140.4,2,    24.26,2,    32.07,2,     0.00,   2,     2.00,2,    0.020,2,        0,2,     0.00,2,   -999.0,9,   -999.0,9,   -999.0,      9.0,9
  06M320150501,   551, 78,      3,   254724,20150531,1650, 14.0000, -21.0000, 4376,   1000.0,   5.9740,  34.9000,2,-999.0000,9,    124.2,2,    123.9,2,    24.53,2,    33.93,2,     0.00,   2,     2.11,2,    0.025,2,        0,2,     0.00,2,   2226.0,2,   2310.1,2,   -999.0,      9.0,9
  06M320150501,   551, 78,      4,   254725,20150531,1652, 14.0000, -21.0000, 4376,    900.0,   6.2490,  34.8540,2,-999.0000,9,    107.3,2,    105.6,2,    24.79,2,    36.22,2,     0.01,   2,     2.23,2,    0.032,2,        0,2,     0.00,2,   -999.0,9,   -999.0,9,   -999.0,      9.0,9
  06M320150501,   551, 78,      5,   254726,20150531,1654, 14.0000, -21.0000, 4376,    800.0,   6.8610,  34.8700,2,-999.0000,9,     89.5,2,     88.3,2,    23.49,2,    37.64,2,     0.00,   2,     2.30,2,    0.060,2,     0.09,2,     0.00,2,   2240.7,6,   2307.8,6,   -999.0,      9.0,9
  06M320150501,   551, 78,      6,   254727,20150531,1656, 14.0000, -21.0000, 4376,    699.0,   7.8180,  34.9550,2,-999.0000,9,     73.8,2,     72.5,2,    20.67,2,    37.64,2,     0.01,   2,     2.24,2,    0.137,2,     0.18,2,     0.00,2,   -999.0,9,   -999.0,9,   -999.0,      9.0,9
  06M320150501,   551, 78,      7,   254728,20150531,1658, 14.0000, -21.0000, 4376,    600.0,   8.7150,  35.0330,2,-999.0000,9,     60.7,2,     59.9,2,    18.52,2,    37.44,2,     0.00,   2,     2.21,2,    0.226,2,     0.32,2,     0.00,2,   2247.0,2,   2308.6,2,   -999.0,      9.0,9
  06M320150501,   551, 78,      8,   254729,20150531,1659, 14.0000, -21.0000, 4376,    511.0,   9.5560,  35.1120,2,-999.0000,9,     52.6,2,     53.2,2,    16.40,2,    36.50,2,     0.00,   2,     2.13,2,    0.325,6,     0.33,6,     0.04,6,   2247.4,2,   2308.7,2,   -999.0,      9.0,9
  06M320150501,   551, 78,      9,   254730,20150531,1700, 14.0000, -21.0000, 4376,    479.0,   9.9720,  35.1650,2,-999.0000,9,     48.6,2,     48.3,2,    15.55,2,    36.49,2,     0.01,   2,     2.10,2, -999.000,9,     -999,9,     0.16,2,   -999.0,9,   -999.0,9,   -999.0,      9.0,9
  06M320150501,   551, 78,     10,   254731,20150531,1701, 14.0000, -21.0000, 4376,    451.0,  10.2110,  35.1850,2,-999.0000,9,     45.2,2,     45.0,2,    15.06,2,    36.39,2,     0.00,   2,     2.08,2,    0.425,6,     0.37,6,     0.35,6,   2248.7,2,   2312.2,2,   -999.0,      9.0,9
  06M320150501,   551, 78,     11,   254732,20150531,1701, 14.0000, -21.0000, 4376,    420.0,  10.5720,  35.2240,2,-999.0000,9,     43.2,2,     42.6,2,    14.34,2,    35.86,2,     0.00,   2,     2.04,2, -999.000,9,     -999,9,     0.59,2,   -999.0,9,   -999.0,9,   -999.0,      9.0,9
  06M320150501,   551, 78,     12,   254733,20150531,1702, 14.0000, -21.0000, 4376,    390.0,  10.8710,  35.2480,2,-999.0000,9,     42.7,2,     42.8,6,    13.59,6,    35.27,6,     0.00,   6,     1.99,6,    0.540,6,     0.41,6,     0.55,6,   2247.3,2,   2311.7,2,   -999.0,      9.0,9
  06M320150501,   551, 78,     13,   254734,20150531,1702, 14.0000, -21.0000, 4376,    360.0,  11.1280,  35.2630,2,-999.0000,9,     43.6,2,     44.5,2,    12.99,2,    34.73,2,     0.01,   2,     1.95,2, -999.000,9,     -999,9,     0.47,2,   -999.0,9,   -999.0,9,   -999.0,      9.0,9
  06M320150501,   551, 78,     14,   254735,20150531,1703, 14.0000, -21.0000, 4376,    330.0,  11.4350,  35.2910,2,-999.0000,9,     44.0,2,     43.5,2,    12.54,2,    34.31,2,     0.01,   2,     1.93,2,    0.632,6,     0.44,6,     0.33,6,   2246.8,2,   2314.7,2,   -999.0,      9.0,9
  06M320150501,   551, 78,     15,   254736,20150531,1703, 14.0000, -21.0000, 4376,    301.0,  11.5850,  35.2880,2,-999.0000,9,     46.5,2,     46.5,2,    11.77,2,    33.19,2,     0.01,   2,     1.87,2, -999.000,9,     -999,9,     0.41,2,   -999.0,9,   -999.0,9,   -999.0,      9.0,9
  06M320150501,   551, 78,     16,   254737,20150531,1704, 14.0000, -21.0000, 4376,    271.0,  11.7300,  35.2770,2,-999.0000,9,     51.6,2,     50.3,2,    11.39,2,    32.50,2,     0.01,   2,     1.84,2,    0.776,6,     0.49,6,     0.46,6,   -999.0,9,   -999.0,9,   -999.0,      9.0,9
  06M320150501,   551, 78,     17,   254738,20150531,1704, 14.0000, -21.0000, 4376,    251.0,  11.8870,  35.2770,2,-999.0000,9,     62.5,2,     62.8,2,    10.84,2,    31.06,2,     0.01,   2,     1.77,2,    0.840,6,     0.57,6,     0.48,6,   2232.5,2,   2315.5,2,   -999.0,      9.0,9
  06M320150501,   551, 78,     18,   254739,20150531,1706, 14.0000, -21.0000, 4376,    150.0,  12.4700,  35.2790,2,-999.0000,9,     77.7,2,     77.4,2,     9.72,2,    28.35,2,     0.01,   2,     1.66,2,    0.989,2,     0.76,2,     0.18,2,   2218.3,2,   2316.0,2,   -999.0,      9.0,9
  06M320150501,   551, 78,     19,   254740,20150531,1707, 14.0000, -21.0000, 4376,    101.0,  14.3760,  35.6240,2,-999.0000,9,     77.8,2,     78.1,2,     7.37,6,    25.22,6,     0.02,   6,     1.44,6,    1.089,2,      0.9,2,     0.00,2,   2216.0,2,   2331.1,2,   -999.0,      9.0,9
  06M320150501,   551, 78,     20,   254741,20150531,1708, 14.0000, -21.0000, 4376,     52.0,  18.3690,  35.9980,2,-999.0000,9,    115.3,2,    106.1,2,     4.04,2,    17.04,2,     0.16,   2,     0.99,2,    1.115,2,     1.32,2,     0.00,2,   2183.8,2,   2350.7,2,   -999.0,      9.0,9
  06M320150501,   551, 78,     21,   254742,20150531,1709, 14.0000, -21.0000, 4376,     22.0,  24.7010,  35.9300,2,-999.0000,9,    211.0,2,    214.8,2,     0.62,2,     0.11,2,     0.01,   2,     0.13,2,    1.030,2,     1.62,2,     0.00,2,   2057.6,2,   2360.1,2,   -999.0,      9.0,9
  06M320150501,   551, 78,     22,   254743,20150531,1710, 14.0000, -21.0000, 4376,     11.0,  25.1280,  35.9140,2,-999.0000,9,    208.7,2,    211.0,2,     0.57,2,     0.03,2,     0.00,   2,     0.13,2,    0.090,2,     1.67,2,     0.00,2,   2055.5,3,   2359.3,2,   -999.0,      9.0,9