BOTTLE,20180504PRINUNIVRMK
EXPOCODE,STNNBR,CASTNO,BTLNBR,BEDFORD,DATE,TIME,LATITUDE,LONGITUDE,DEPTH,CTDPRS,CTDTMP,CTDSAL,CTDSAL_FLAG_W,SALNTY,SALNTY_FLAG_W,CTDOXY,CTDOXY_FLAG_W,OXYGEN,OXYGEN_FLAG_W,SILCAT,SILCAT_FLAG_W,NITRAT,NITRAT_FLAG_W,NITRIT,NITRIT_FLAG_W,PHSPHT,PHSPHT_FLAG_W,CFC-12,CFC-12_FLAG_W,SF6,SF6_FLAG_W,SF5CF3,SF5CF3_FLAG_W,TCARBN,TCARBN_FLAG_W,ALKALI,ALKALI_FLAG_W,AR-39,AR-39ER,AR-39_FLAG_W
,,,,,,,,,METERS,DBAR,ITS-90,PSS-78,,PSS-78,,UMOL/KG,,UMOL/KG,,UMOL/KG,,UMOL/KG,,UMOL/KG,,UMOL/KG,,PMOL/KG,,FMOL/KG,,FMOL/KG,,UMOL/KG,,UMOL/KG,,%Modern,%Modern,
  06M320150501,   504, 31,      1,   253670,20150516,1656,  6.0000, -28.0000, 4006,   3996.0,   2.3640,  34.8850,2,-999.0000,9,    249.2,2,    249.1,6,    43.27,6,    21.90,6,     0.00,   6,     1.45,6,    0.050,2,     0.27,2,     0.00,2,   2192.9,6,   2350.5,6,   -999.0,      9.0,9
  06M320150501,   504, 31,      2,   253671,20150516,1658,  6.0000, -28.0000, 4006,   3893.0,   2.3660,  34.8860,2,-999.0000,9,    249.1,2,    249.2,2,    42.88,2,    21.86,2,     0.00,   2,     1.45,2,    0.046,2,     0.17,2,     0.00,2,   2191.8,2,   2347.5,2,   -999.0,      9.0,9
  06M320150501,   504, 31,      3,   253672,20150516,1706,  6.0000, -28.0000, 4006,   3501.0,   2.4240,  34.8930,2,-999.0000,9,    250.7,2,    250.0,2,    40.18,2,    21.57,2,     0.00,   2,     1.42,2,    0.043,2,     0.14,2,     0.00,2,   2185.7,2,   2345.6,2,   -999.0,      9.0,9
  06M320150501,   504, 31,      4,   253673,20150516,1715,  6.0000, -28.0000, 4006,   3001.0,   2.6980,  34.9130,2,-999.0000,9,    247.0,2,    247.5,2,    35.64,2,    21.57,2,     0.00,   2,     1.41,2,    0.020,2,      0.2,2,     0.00,2,   2182.2,6,   2352.3,6,   -999.0,      9.0,9
  06M320150501,   504, 31,      5,   253674,20150516,1724,  6.0000, -28.0000, 4006,   2501.0,   3.0060,  34.9330,2,-999.0000,9,    246.8,2,    247.0,2,    29.57,2,    21.16,2,     0.00,   2,     1.38,2,    0.023,2,     0.17,2,     0.00,2,   2174.6,2,   2333.5,2,   -999.0,      9.0,9
  06M320150501,   504, 31,      6,   253675,20150516,1733,  6.0000, -28.0000, 4006,   2000.0,   3.5610,  34.9590,2,-999.0000,9,    244.4,2,    245.5,6,    21.41,6,    20.58,6,     0.00,   6,     1.34,6,    0.079,2,     0.12,2,     0.00,2,   2169.5,2,   2330.2,2,   -999.0,      9.0,9
  06M320150501,   504, 31,      7,   253676,20150516,1737,  6.0000, -28.0000, 4006,   1749.0,   3.9590,  34.9690,2,-999.0000,9,    239.2,2,    240.6,2,    18.30,2,    20.73,2,     0.00,   2,     1.34,2,    0.148,2,     0.19,2,     0.00,2,   2169.3,2,   2331.6,2,   -999.0,      9.0,9
  06M320150501,   504, 31,      8,   253677,20150516,1741,  6.0000, -28.0000, 4006,   1501.0,   4.3330,  34.9550,2,-999.0000,9,    220.0,2,    221.0,2,    19.23,2,    22.75,2,     0.00,   2,     1.47,2,    0.127,2,     0.13,2,     0.00,2,   2180.0,2,   2323.9,2,   -999.0,      9.0,9
  06M320150501,   504, 31,      9,   253678,20150516,1745,  6.0000, -28.0000, 4006,   1251.0,   4.6990,  34.8490,2,-999.0000,9,    181.0,2,    181.2,2,    23.93,2,    28.01,2,     0.00,   2,     1.83,2,    0.073,2,      0.1,2,     0.00,2,   2198.4,2,   2323.1,2,   -999.0,      9.0,9
  06M320150501,   504, 31,     10,   253679,20150516,1749,  6.0000, -28.0000, 4006,   1000.0,   4.8890,  34.6900,2,-999.0000,9,    149.4,2,    147.9,2,    28.27,2,    33.33,2,     0.00,   2,     2.18,2,    0.034,2,     0.12,2,     0.00,2,   2216.6,2,   2318.0,2,   -999.0,      9.0,9
  06M320150501,   504, 31,     11,   253680,20150516,1753,  6.0000, -28.0000, 4006,    750.0,   5.6980,  34.6020,2,-999.0000,9,    121.7,2,    123.1,2,    26.90,2,    36.35,2,     0.00,   2,     2.35,2,    0.126,2,        0,2,     0.00,2,   2227.2,2,   2307.9,2,   -999.0,      9.0,9
  06M320150501,   504, 31,     12,   253681,20150516,1756,  6.0000, -28.0000, 4006,    605.0,   6.9380,  34.6860,2,-999.0000,9,     96.3,2,     95.6,2,    22.26,2,    37.09,2,     0.00,   2,     2.33,2,    0.203,2,     0.14,2,     0.00,2,   2233.2,2,   2303.4,2,   -999.0,      9.0,9
  06M320150501,   504, 31,     13,   253682,20150516,1758,  6.0000, -28.0000, 4006,    461.0,   8.1320,  34.7600,2,-999.0000,9,    101.7,2,     96.6,2,    18.05,2,    34.50,2,     0.00,   2,     2.12,2,    0.486,2,      0.3,2,     0.00,2,   2225.8,2,   2302.2,2,   -999.0,      9.0,9
  06M320150501,   504, 31,     14,   253683,20150516,1758,  6.0000, -28.0000, 4006,    419.0,   8.6760,  34.8180,2,-999.0000,9,     93.0,2,     94.2,2,    16.91,2,    33.71,2,     0.00,   2,     2.07,2,    0.562,6,     0.38,6,     0.06,6,   2222.4,2,   2303.8,2,   -999.0,      9.0,9
  06M320150501,   504, 31,     15,   253684,20150516,1759,  6.0000, -28.0000, 4006,    389.0,   9.3570,  34.9150,2,-999.0000,9,     69.5,2,     69.9,6,    15.79,6,    34.90,6,     0.01,   6,     2.10,6,    0.511,6,     0.29,6,     0.52,6,   -999.0,9,   -999.0,9,   -999.0,      9.0,9
  06M320150501,   504, 31,     16,   253685,20150516,1759,  6.0000, -28.0000, 4006,    361.0,   9.6940,  34.9410,2,-999.0000,9,     74.3,2,     76.5,2,    14.93,2,    33.43,2,     0.00,   2,     2.02,2,    0.608,6,      0.4,6,     0.46,6,   2225.7,2,   2302.7,2,   -999.0,      9.0,9
  06M320150501,   504, 31,     17,   253686,20150516,1800,  6.0000, -28.0000, 4006,    301.0,  10.5900,  35.0140,2,-999.0000,9,     97.3,2,     95.9,2,    12.36,2,    29.09,2,     0.01,   2,     1.79,2,    0.878,6,     0.58,6,     0.44,6,   -999.0,9,   -999.0,9,   -999.0,      9.0,9
  06M320150501,   504, 31,     18,   253687,20150516,1801,  6.0000, -28.0000, 4006,    250.0,  11.1850,  35.0730,2,-999.0000,9,    118.2,2,    110.2,2,    11.11,2,    26.66,2,     0.01,   2,     1.66,2,    1.009,6,     0.64,6,     0.28,6,   2199.2,2,   2311.6,2,   -999.0,      9.0,9
  06M320150501,   504, 31,     19,   253688,20150516,1802,  6.0000, -28.0000, 4006,    200.0,  12.0350,  35.1680,2,-999.0000,9,    131.6,2,    129.4,2,     9.38,2,    22.78,2,     0.01,   2,     1.44,2,    1.161,6,     0.79,6,     0.09,6,   2181.6,2,   2317.9,2,   -999.0,      9.0,9
  06M320150501,   504, 31,     20,   253689,20150516,1803,  6.0000, -28.0000, 4006,    151.0,  12.8960,  35.2910,2,-999.0000,9,    147.3,2,    143.6,2,     8.11,2,    20.00,2,     0.01,   2,     1.29,2,    1.238,6,     0.97,6,     0.01,6,   2170.5,2,   2322.6,2,   -999.0,      9.0,9
  06M320150501,   504, 31,     21,   253690,20150516,1803,  6.0000, -28.0000, 4006,    101.0,  15.6260,  35.6470,2,-999.0000,9,    129.8,2,    128.4,2,     6.31,2,    17.56,2,     0.04,   2,     1.11,2,    1.205,2,     1.12,2,     0.00,2,   2171.4,2,   2339.1,2,   -999.0,      9.0,9
  06M320150501,   504, 31,     22,   253691,20150516,1805,  6.0000, -28.0000, 4006,     52.0,  25.7290,  36.1680,2,-999.0000,9,    205.7,3,    193.4,2,     1.60,2,     1.35,2,     0.06,   2,     0.13,2,    1.025,2,     1.25,2,     0.00,2,   2060.6,2,   2366.0,2,   -999.0,      9.0,9
  06M320150501,   504, 31,     23,   253692,20150516,1806,  6.0000, -28.0000, 4006,     21.0,  27.9440,  36.1260,2,-999.0000,9,    205.7,2,    203.3,2,     1.10,2,     0.03,2,     0.00,   2,     0.01,2,    0.939,2,     1.58,2,     0.00,2,   2016.2,2,   2367.0,2,   -999.0,      9.0,9
  06M320150501,   504, 31,     24,   253693,20150516,1806,  6.0000, -28.0000, 4006,     10.0,  28.2780,  35.7040,2,-999.0000,9,    203.0,2,    202.6,2,     1.14,2,     0.00,2,     0.00,   2,     0.01,2,    0.945,2,     1.43,2,     0.00,2,   2004.8,2,   2357.5,2,   -999.0,      9.0,9
  06M320150501,   505, 32,      1,   253694,20150517,0110,  7.0000, -28.0000, 4420,   4410.0,   2.3200,  34.8780,2,-999.0000,9,    248.2,2,    248.0,2,    45.81,2,    22.12,2,     0.00,   2,     1.47,2,    0.049,2,        0,2,     0.00,2,   2196.7,2,   2355.5,6,   -999.0,      9.0,9
  06M320150501,   505, 32,      2,   253695,20150517,0112,  7.0000, -28.0000, 4420,   4298.0,   2.3280,  34.8790,2,-999.0000,9,    248.7,2,    248.7,6,    44.79,6,    22.13,6,     0.00,   6,     1.46,6,    0.049,2,        0,2,     0.00,2,   2194.4,2,   2351.2,2,   -999.0,      9.0,9
  06M320150501,   505, 32,      3,   253696,20150517,0126,  7.0000, -28.0000, 4420,   3500.0,   2.4880,  34.8980,2,-999.0000,9,    250.8,2,    250.5,2,    38.48,2,    21.41,2,     0.00,   2,     1.42,2,    0.040,2,        0,2,     0.00,2,   2185.0,2,   2345.7,2,   -999.0,      9.0,9
  06M320150501,   505, 32,      4,   253697,20150517,0135,  7.0000, -28.0000, 4420,   2999.0,   2.7000,  34.9130,2,-999.0000,9,    246.8,2,    246.6,2,    35.22,2,    21.69,2,     0.00,   2,     1.42,2,    0.013,2,        0,2,     0.00,2,   2183.2,6,   2342.6,6,   -999.0,      9.0,9
  06M320150501,   505, 32,      5,   253698,20150517,0143,  7.0000, -28.0000, 4420,   2499.0,   3.0260,  34.9350,2,-999.0000,9,    246.8,2,    247.5,2,    28.59,2,    21.00,2,     0.00,   2,     1.38,2,    0.015,2,      0.1,2,     0.00,2,   2175.1,2,   2335.2,2,   -999.0,      9.0,9
  06M320150501,   505, 32,      6,   253699,20150517,0151,  7.0000, -28.0000, 4420,   1999.0,   3.5630,  34.9580,2,  34.9590,2,    244.0,2,    244.7,6,    21.48,6,    20.59,6,     0.00,   6,     1.35,6,    0.068,2,     0.08,2,     0.00,2,   2170.2,2,   2327.0,2,   -999.0,      9.0,9
  06M320150501,   505, 32,      7,   253700,20150517,0155,  7.0000, -28.0000, 4420,   1749.0,   3.9130,  34.9700,2,-999.0000,9,    240.8,2,    241.5,2,    18.14,2,    20.53,2,     0.00,   2,     1.34,2,    0.147,2,     0.11,2,     0.00,2,   2169.4,2,   2327.5,2,   -999.0,      9.0,9
  06M320150501,   505, 32,      8,   253701,20150517,0200,  7.0000, -28.0000, 4420,   1499.0,   4.3600,  34.9630,2,-999.0000,9,    222.8,2,    220.0,2,    18.26,2,    22.21,2,     0.00,   2,     1.45,2,    0.165,2,     0.12,2,     0.00,2,   2178.1,2,   2323.4,2,   -999.0,      9.0,9
  06M320150501,   505, 32,      9,   253702,20150517,0204,  7.0000, -28.0000, 4420,   1251.0,   4.7690,  34.8800,2,-999.0000,9,    184.3,2,    182.7,2,    22.91,2,    26.86,2,     0.01,   2,     1.79,2,    0.075,2,     0.12,2,     0.00,2,   2198.4,2,   2322.3,2,   -999.0,      9.0,9
  06M320150501,   505, 32,     10,   253703,20150517,0209,  7.0000, -28.0000, 4420,   1000.0,   5.0460,  34.6820,2,-999.0000,9,    141.8,2,    139.6,2,    27.69,2,    33.79,2,     0.00,   2,     2.24,2,    0.027,2,     0.11,2,     0.00,2,   2222.9,2,   2317.2,2,   -999.0,      9.0,9
  06M320150501,   505, 32,     11,   253704,20150517,0213,  7.0000, -28.0000, 4420,    750.0,   5.9680,  34.6370,2,-999.0000,9,    115.0,2,    113.3,2,    25.41,2,    36.82,2,     0.01,   2,     2.36,2,    0.111,2,     0.12,2,     0.00,2,   2229.9,2,   2304.0,2,   -999.0,      9.0,9
  06M320150501,   505, 32,     12,   253705,20150517,0217,  7.0000, -28.0000, 4420,    527.0,   7.7710,  34.7360,2,-999.0000,9,     99.8,2,     98.9,6,    18.90,2,    34.97,2,     0.00,   2,     2.18,2,    0.415,2,     0.23,2,     0.00,2,   2225.3,2,   2303.0,2,   -999.0,      9.0,9
  06M320150501,   505, 32,     13,   253706,20150517,0218,  7.0000, -28.0000, 4420,    446.0,   8.4990,  34.7920,2,-999.0000,9,    102.0,2,    103.6,2,    18.84,2,    34.97,2,     0.00,   2,     2.18,2,    0.577,6,     0.33,6,     0.03,6,   -999.0,9,   2303.1,2,   -999.0,      9.0,9
  06M320150501,   505, 32,     14,   253707,20150517,0219,  7.0000, -28.0000, 4420,    418.0,   8.7050,  34.8080,2,-999.0000,9,    103.6,2,    107.5,2,    18.70,2,    35.34,2,     0.00,   2,     2.18,2,    0.631,6,     0.31,6,     0.04,6,   -999.0,9,   -999.0,9,   -999.0,      9.0,9
  06M320150501,   505, 32,     15,   253708,20150517,0219,  7.0000, -28.0000, 4420,    405.0,   8.8810,  34.8210,2,-999.0000,9,    106.3,2,    107.9,2,    16.17,6,    32.14,6,     0.01,   6,     2.01,6,    0.692,6,     0.39,6,     0.08,6,   2215.4,2,   2301.0,2,   -999.0,      9.0,9
  06M320150501,   505, 32,     16,   253709,20150517,0219,  7.0000, -28.0000, 4420,    376.0,   9.1200,  34.8550,2,-999.0000,9,    102.4,2,    105.5,2,    14.85,2,    31.56,2,     0.01,   2,     1.95,2,    0.691,6,     0.39,6,     0.09,6,   -999.0,9,   -999.0,9,   -999.0,      9.0,9
  06M320150501,   505, 32,     17,   253710,20150517,0220,  7.0000, -28.0000, 4420,    315.0,   9.8290,  34.9250,2,-999.0000,9,     99.1,2,    101.8,2,    13.42,2,    30.25,2,     0.00,   2,     1.87,2,    0.808,6,     0.59,6,     0.29,6,   2215.1,2,   2308.3,2,   -999.0,      9.0,9
  06M320150501,   505, 32,     18,   253711,20150517,0221,  7.0000, -28.0000, 4420,    265.0,  10.3570,  34.9800,2,-999.0000,9,    104.7,2,    107.0,2,    12.20,2,    28.50,2,     0.01,   2,     1.77,2,    0.915,6,     0.81,6,     0.22,6,   2208.2,2,   2306.6,2,   -999.0,      9.0,9
  06M320150501,   505, 32,     19,   253712,20150517,0222,  7.0000, -28.0000, 4420,    201.0,  11.5260,  35.1250,2,-999.0000,9,     97.7,2,    102.1,2,    10.68,2,    26.96,2,     0.01,   2,     1.67,2,    1.001,6,     0.58,6,     0.28,6,   2205.9,2,   2314.8,2,   -999.0,      9.0,9
  06M320150501,   505, 32,     20,   253713,20150517,0223,  7.0000, -28.0000, 4420,    149.0,  12.7530,  35.2770,2,-999.0000,9,    122.9,2,    120.6,2,     8.63,2,    22.55,2,     0.01,   2,     1.42,2,    1.151,2,      0.8,2,     0.00,2,   2188.3,2,   2323.2,2,   -999.0,      9.0,9
  06M320150501,   505, 32,     21,   253714,20150517,0224,  7.0000, -28.0000, 4420,    100.0,  15.5930,  35.5870,2,-999.0000,9,    111.3,2,    115.4,2,     6.62,2,    19.59,2,     0.04,   2,     1.21,2,    1.182,2,     0.95,2,     0.00,2,   2182.0,2,   2335.1,2,   -999.0,      9.0,9
  06M320150501,   505, 32,     22,   253715,20150517,0225,  7.0000, -28.0000, 4420,     51.0,  23.2670,  36.0680,2,-999.0000,9,    195.6,3,    174.0,2,     2.41,2,     4.12,2,     0.26,   2,     0.32,2,    1.084,2,     1.17,2,     0.00,2,   2101.0,2,   2364.5,2,   -999.0,      9.0,9
  06M320150501,   505, 32,     23,   253716,20150517,0226,  7.0000, -28.0000, 4420,     20.0,  27.6250,  36.1390,2,  36.1470,2,    204.4,2,    203.4,2,     0.95,2,     0.03,2,     0.00,   2,     0.01,2,    0.958,2,     1.54,2,     0.00,2,   2022.4,2,   2365.6,2,   -999.0,      9.0,9
  06M320150501,   505, 32,     24,   253717,20150517,0226,  7.0000, -28.0000, 4420,     10.0,  27.6610,  36.1500,2,-999.0000,9,    203.6,2,    203.1,2,     0.92,2,     0.00,2,     0.00,   2,     0.01,2,    0.944,2,     1.32,2,     0.00,2,   2023.7,2,   2367.8,2,   -999.0,      9.0,9