BOTTLE,20180504PRINUNIVRMK
EXPOCODE,STNNBR,CASTNO,BTLNBR,BEDFORD,DATE,TIME,LATITUDE,LONGITUDE,DEPTH,CTDPRS,CTDTMP,CTDSAL,CTDSAL_FLAG_W,SALNTY,SALNTY_FLAG_W,CTDOXY,CTDOXY_FLAG_W,OXYGEN,OXYGEN_FLAG_W,SILCAT,SILCAT_FLAG_W,NITRAT,NITRAT_FLAG_W,NITRIT,NITRIT_FLAG_W,PHSPHT,PHSPHT_FLAG_W,CFC-12,CFC-12_FLAG_W,SF6,SF6_FLAG_W,SF5CF3,SF5CF3_FLAG_W,TCARBN,TCARBN_FLAG_W,ALKALI,ALKALI_FLAG_W,AR-39,AR-39ER,AR-39_FLAG_W
,,,,,,,,,METERS,DBAR,ITS-90,PSS-78,,PSS-78,,UMOL/KG,,UMOL/KG,,UMOL/KG,,UMOL/KG,,UMOL/KG,,UMOL/KG,,PMOL/KG,,FMOL/KG,,FMOL/KG,,UMOL/KG,,UMOL/KG,,%Modern,%Modern,
  06M320150501,   485, 12,      1,   253237,20150509,0057,  9.0000, -40.2000, 3689,   2338.0,   3.1830,  34.9470,2,-999.0000,9,    253.1,2,    253.4,2,    24.83,2,    19.66,2,     0.01,   2,     1.33,2,    0.093,2,        0,2,     0.00,2,   2163.5,6,   2326.2,6,   -999.0,      9.0,9
  06M320150501,   485, 12,      2,   253238,20150509,0059,  9.0000, -40.2000, 3689,   2233.0,   3.2970,  34.9520,2,-999.0000,9,    252.3,2,    253.0,2,    23.38,2,    19.57,2,     0.00,   2,     1.30,2,    0.102,2,        0,2,     0.00,2,   2167.0,2,   2342.4,2,   -999.0,      9.0,9
  06M320150501,   485, 12,      3,   253239,20150509,0103,  9.0000, -40.2000, 3689,   1999.0,   3.5380,  34.9620,2,-999.0000,9,    250.4,2,    250.8,2,    20.45,2,    19.59,2,     0.00,   2,     1.28,2,    0.142,2,        0,2,     0.00,2,   2167.4,2,   2322.7,2,   -999.0,      9.0,9
  06M320150501,   485, 12,      4,   253240,20150509,0107,  9.0000, -40.2000, 3689,   1749.0,   3.9130,  34.9740,2,-999.0000,9,    246.6,2,    247.1,2,    17.64,2,    19.68,2,     0.00,   2,     1.29,2,    0.249,2,        0,2,     0.00,2,   2168.5,2,   2324.5,2,   -999.0,      9.0,9
  06M320150501,   485, 12,      5,   253241,20150509,0111,  9.0000, -40.2000, 3689,   1498.0,   4.4190,  34.9840,2,-999.0000,9,    233.0,2,    233.7,2,    16.83,2,    20.53,2,     0.00,   2,     1.34,2,    0.338,2,        0,2,     0.00,2,   2171.9,2,   2322.5,2,   -999.0,      9.0,9
  06M320150501,   485, 12,      6,   253242,20150509,0115,  9.0000, -40.2000, 3689,   1250.0,   4.9150,  34.9120,2,-999.0000,9,    189.2,2,    189.1,2,    22.13,2,    25.61,2,     0.00,   2,     1.71,2,    0.126,2,        0,2,     0.00,2,   2195.1,2,   2321.2,2,   -999.0,      9.0,9
  06M320150501,   485, 12,      7,   253243,20150509,0119,  9.0000, -40.2000, 3689,    999.0,   5.1300,  34.7410,2,-999.0000,9,    145.3,2,    144.3,2,    27.29,2,    31.83,2,     0.00,   2,     2.14,2,    0.027,2,        0,2,     0.00,2,   2218.6,2,   2309.1,2,   -999.0,      9.0,9
  06M320150501,   485, 12,      8,   253244,20150509,0123,  9.0000, -40.2000, 3689,    748.0,   6.1750,  34.6630,2,-999.0000,9,    114.3,2,    113.8,2,    25.37,2,    34.62,2,     0.00,   2,     2.29,2,    0.128,2,        0,2,     0.00,2,   2227.5,2,   2308.0,2,   -999.0,      9.0,9
  06M320150501,   485, 12,      9,   253245,20150509,0127,  9.0000, -40.2000, 3689,    499.0,   8.3070,  34.7810,2,-999.0000,9,    103.5,2,    101.2,2,    17.78,2,    32.58,2,     0.00,   2,     2.06,2,    0.508,2,        0,2,     0.00,2,   2220.0,2,   2303.2,2,   -999.0,      9.0,9
  06M320150501,   485, 12,     10,   253246,20150509,0128,  9.0000, -40.2000, 3689,    410.0,   8.6960,  34.7980,2,-999.0000,9,    112.7,2,    113.3,2,    16.00,2,    30.31,2,     0.01,   2,     1.94,2,    0.702,6,     0.29,6,     0.05,6,   -999.0,9,   -999.0,9,   -999.0,      9.0,9
  06M320150501,   485, 12,     11,   253247,20150509,0129,  9.0000, -40.2000, 3689,    379.0,   8.9820,  34.8260,2,-999.0000,9,    114.5,2,    116.2,2,    15.48,6,    29.61,6,     0.01,   6,     1.90,6,    0.760,6,     0.35,6,     0.01,6,   2208.4,2,   2306.5,2,   -999.0,      9.0,9
  06M320150501,   485, 12,     12,   253248,20150509,0129,  9.0000, -40.2000, 3689,    348.0,   9.1870,  34.8450,2,-999.0000,9,    118.2,2,    120.0,2,    14.72,2,    28.92,2,     0.00,   2,     1.82,2,    0.820,6,     0.42,6,     0.03,6,   -999.0,9,   -999.0,9,   -999.0,      9.0,9
  06M320150501,   485, 12,     13,   253249,20150509,0130,  9.0000, -40.2000, 3689,    290.0,   9.6810,  34.9010,2,-999.0000,9,    120.8,2,    123.4,2,    13.92,2,    27.63,2,     0.00,   2,     1.77,2,    0.891,6,     0.46,6,     0.08,6,   2201.8,2,   2308.9,2,   -999.0,      9.0,9
  06M320150501,   485, 12,     14,   253250,20150509,0131,  9.0000, -40.2000, 3689,    239.0,  10.1280,  34.9550,2,-999.0000,9,    126.4,2,    125.0,2,    12.86,2,    26.56,2,     0.01,   2,     1.69,2,    0.956,6,     0.54,6,     0.06,6,   2196.8,2,   2310.9,2,   -999.0,      9.0,9
  06M320150501,   485, 12,     15,   253251,20150509,0132,  9.0000, -40.2000, 3689,    199.0,  10.7720,  35.0370,2,-999.0000,9,    128.8,2,    130.9,2,    11.53,2,    24.49,2,     0.01,   2,     1.57,2,    1.046,2,     0.59,2,     0.00,2,   2189.9,6,   2312.7,6,   -999.0,      9.0,9
  06M320150501,   485, 12,     16,   253252,20150509,0132,  9.0000, -40.2000, 3689,    149.0,  13.3390,  35.3740,2,-999.0000,9,    113.8,2,    115.0,2,     8.89,2,    22.05,2,     0.02,   2,     1.38,2,    1.082,2,     0.69,2,     0.00,2,   2190.2,2,   2328.7,2,   -999.0,      9.0,9
  06M320150501,   485, 12,     17,   253253,20150509,0133,  9.0000, -40.2000, 3689,    101.0,  19.4410,  35.9850,2,-999.0000,9,    135.1,2,    135.2,2,     4.34,2,    12.27,2,     0.10,   2,     0.74,2,    1.094,2,      0.9,2,     0.00,2,   2149.3,2,   2364.4,2,   -999.0,      9.0,9
  06M320150501,   485, 12,     18,   253254,20150509,0135,  9.0000, -40.2000, 3689,     50.0,  26.6530,  36.2490,2,-999.0000,9,    206.7,2,    202.4,2,     1.12,2,     0.25,2,     0.01,   2,     0.05,2,    0.924,2,     1.17,2,     0.00,2,   2040.5,2,   2376.8,2,   -999.0,      9.0,9
  06M320150501,   485, 12,     19,   253255,20150509,0136,  9.0000, -40.2000, 3689,     20.0,  26.6570,  36.2500,2,-999.0000,9,    203.4,2,    202.3,2,     1.11,2,     0.15,2,     0.00,   2,     0.04,2,    0.931,2,     1.24,2,     0.00,2,   2040.7,2,   2379.1,2,   -999.0,      9.0,9
  06M320150501,   485, 12,     20,   253256,20150509,0136,  9.0000, -40.2000, 3689,     10.0,  26.6580,  36.2510,2,-999.0000,9,    204.7,2,    203.0,2,     1.08,2,     0.11,2,     0.00,   2,     0.04,2,    0.941,2,     1.14,2,     0.00,2,   2038.2,2,   2375.6,2,   -999.0,      9.0,9
  06M320150501,   486, 13,      1,   253261,20150509,0920, 10.0000, -40.0000, 4215,   4205.0,   2.4030,  34.8860,2,-999.0000,9,    250.6,2,    248.9,2,    43.55,6,    21.68,6,     0.02,   6,     1.46,6,    0.058,2,        0,2,     0.00,2,   2190.6,6,   2352.7,6,   -999.0,      9.0,9
  06M320150501,   486, 13,      2,   253262,20150509,0922, 10.0000, -40.0000, 4215,   4101.0,   2.4100,  34.8880,2,-999.0000,9,    250.5,2,    249.2,2,    43.18,2,    21.56,2,     0.02,   2,     1.43,2,    0.050,2,        0,2,     0.00,2,   2189.8,2,   2353.9,2,   -999.0,      9.0,9
  06M320150501,   486, 13,      3,   253263,20150509,0924, 10.0000, -40.0000, 4215,   4000.0,   2.4290,  34.8900,2,-999.0000,9,    250.9,2,    250.1,6,    43.34,2,    21.61,2,     0.02,   2,     1.43,2,    0.056,2,        0,2,     0.00,2,   2185.9,2,   2350.6,2,   -999.0,      9.0,9
  06M320150501,   486, 13,      4,   253264,20150509,0932, 10.0000, -40.0000, 4215,   3499.0,   2.4990,  34.9020,2,-999.0000,9,    250.4,2,    249.4,2,    42.65,2,    21.55,2,     0.02,   2,     1.43,2,    0.029,2,        0,2,     0.00,2,   2187.6,2,   2348.0,2,   -999.0,      9.0,9
  06M320150501,   486, 13,      5,   253265,20150509,0941, 10.0000, -40.0000, 4215,   2998.0,   2.6720,  34.9180,2,-999.0000,9,    251.8,2,    250.8,2,    34.80,2,    20.82,2,     0.02,   2,     1.40,2,    0.035,2,        0,2,     0.00,2,   2180.3,2,   2347.5,2,   -999.0,      9.0,9
  06M320150501,   486, 13,      6,   253266,20150509,0949, 10.0000, -40.0000, 4215,   2497.0,   2.9960,  34.9380,2,-999.0000,9,    252.6,2,    252.6,2,    27.36,2,    20.20,2,     0.01,   2,     1.33,2,    0.057,2,        0,2,     0.00,2,   2171.4,2,   2337.7,2,   -999.0,      9.0,9
  06M320150501,   486, 13,      7,   253267,20150509,0957, 10.0000, -40.0000, 4215,   2000.0,   3.4490,  34.9610,2,-999.0000,9,    251.0,2,    251.2,6,    21.01,2,    19.71,2,     0.02,   2,     1.29,2,    0.102,2,        0,2,     0.00,2,   2168.5,2,   2327.2,2,   -999.0,      9.0,9
  06M320150501,   486, 13,      8,   253268,20150509,1001, 10.0000, -40.0000, 4215,   1750.0,   3.7540,  34.9720,2,-999.0000,9,    247.2,2,    247.2,2,    18.89,2,    19.91,2,     0.02,   2,     1.31,2,    0.149,2,        0,2,     0.00,2,   2166.7,2,   2325.1,2,   -999.0,      9.0,9
  06M320150501,   486, 13,      9,   253269,20150509,1004, 10.0000, -40.0000, 4215,   1498.0,   4.4360,  34.9830,2,-999.0000,9,    230.4,2,    229.7,2,    17.37,2,    21.12,2,     0.01,   2,     1.39,2,    0.283,2,     0.18,2,     0.00,2,   2171.8,2,   2327.2,2,   -999.0,      9.0,9
  06M320150501,   486, 13,     10,   253270,20150509,1008, 10.0000, -40.0000, 4215,   1249.0,   4.9350,  34.9090,2,-999.0000,9,    186.8,2,    186.6,2,    21.98,6,    26.14,6,     0.01,   6,     1.73,6,    0.104,2,        0,2,     0.00,2,   2194.6,2,   2324.8,2,   -999.0,      9.0,9
  06M320150501,   486, 13,     11,   253271,20150509,1012, 10.0000, -40.0000, 4215,    999.0,   5.3370,  34.7550,2,-999.0000,9,    140.2,2,    139.3,2,    26.43,2,    32.32,2,     0.01,   2,     2.17,2,    0.028,2,        0,2,     0.00,2,   2221.9,2,   2315.7,2,   -999.0,      9.0,9
  06M320150501,   486, 13,     12,   253272,20150509,1016, 10.0000, -40.0000, 4215,    749.0,   6.6560,  34.7400,2,-999.0000,9,    106.2,2,    104.6,2,    23.61,2,    35.04,2,     0.02,   2,     2.25,2,    0.128,2,        0,2,     0.00,2,   2228.4,2,   2307.9,2,   -999.0,      9.0,9
  06M320150501,   486, 13,     13,   253273,20150509,1020, 10.0000, -40.0000, 4215,    498.0,   8.7700,  34.8790,2,-999.0000,9,     85.4,2,     83.8,2,    16.93,2,    33.40,2,     0.02,   2,     2.08,2,    0.452,2,     0.32,2,     0.00,2,   2228.3,2,   2307.8,2,   -999.0,      9.0,9
  06M320150501,   486, 13,     14,   253274,20150509,1021, 10.0000, -40.0000, 4215,    446.0,   9.1260,  34.9040,2,-999.0000,9,     84.5,2,     86.8,2,    16.00,2,    32.74,2,     0.02,   2,     2.04,2,    0.531,6,     0.44,6,     0.01,6,   -999.0,9,   -999.0,9,   -999.0,      9.0,9
  06M320150501,   486, 13,     15,   253275,20150509,1021, 10.0000, -40.0000, 4215,    419.0,   9.3050,  34.9040,2,-999.0000,9,     88.3,2,     89.8,2,    15.58,2,    31.97,2,     0.02,   2,     1.98,2,    0.617,6,     0.41,6,     0.08,6,   2221.9,2,   2306.4,2,   -999.0,      9.0,9
  06M320150501,   486, 13,     16,   253276,20150509,1022, 10.0000, -40.0000, 4215,    390.0,   9.6560,  34.9430,2,-999.0000,9,     86.9,2,     89.5,2,    14.65,2,    31.31,2,     0.02,   2,     1.94,2,    0.673,6,     0.37,6,     0.20,6,   -999.0,9,   -999.0,9,   -999.0,      9.0,9
  06M320150501,   486, 13,     17,   253277,20150509,1023, 10.0000, -40.0000, 4215,    329.0,  10.0100,  34.9520,2,-999.0000,9,    102.8,2,    102.4,2,    13.23,2,    28.84,2,     0.02,   2,     1.84,2,    0.857,2,     0.73,2,     0.18,2,   2210.5,2,   2228.5,3,   -999.0,      9.0,9
  06M320150501,   486, 13,     18,   253278,20150509,1024, 10.0000, -40.0000, 4215,    277.0,  10.4700,  35.0030,2,-999.0000,9,    107.0,2,    106.3,2,    12.39,2,    27.55,2,     0.02,   2,     1.76,2,    0.947,2,     0.74,2,     0.25,2,   2205.5,2,   2311.3,2,   -999.0,      9.0,9
  06M320150501,   486, 13,     19,   253279,20150509,1024, 10.0000, -40.0000, 4215,    237.0,  10.8940,  35.0500,2,-999.0000,9,    114.5,2,    114.5,2,    11.35,2,    25.77,2,     0.02,   2,     1.63,2,    1.047,2,     0.71,2,     0.22,2,   2198.3,2,   2315.4,2,   -999.0,      9.0,9
  06M320150501,   486, 13,     20,   253280,20150509,1025, 10.0000, -40.0000, 4215,    199.0,  11.5830,  35.1450,2,-999.0000,9,    113.7,2,    113.9,2,    10.35,2,    24.65,2,     0.02,   2,     1.56,2,    1.107,2,     0.93,2,     0.27,2,   2195.6,2,   2319.6,2,   -999.0,      9.0,9
  06M320150501,   486, 13,     21,   253281,20150509,1026, 10.0000, -40.0000, 4215,    147.0,  13.3520,  35.3710,2,-999.0000,9,    108.4,2,    110.0,2,     8.51,2,    22.69,2,     0.03,   2,     1.40,2,    1.169,2,     1.08,2,     0.00,2,   2191.6,2,   2327.2,2,   -999.0,      9.0,9
  06M320150501,   486, 13,     22,   253282,20150509,1026, 10.0000, -40.0000, 4215,     98.0,  20.0780,  36.0510,2,-999.0000,9,    155.4,3,    146.9,2,     3.60,2,     9.94,2,     0.23,   2,     0.63,2,    1.141,2,      1.5,2,     0.00,2,   2138.3,2,   2365.2,2,   -999.0,      9.0,9
  06M320150501,   486, 13,     23,   253283,20150509,1028, 10.0000, -40.0000, 4215,     49.0,  25.6200,  36.4100,2,-999.0000,9,    206.1,2,    207.0,6,     1.05,2,     0.12,2,     0.02,   2,     0.04,2,    1.015,2,     1.74,2,     0.00,2,   2047.4,2,   2388.2,2,   -999.0,      9.0,9
  06M320150501,   486, 13,     24,   253284,20150509,1030, 10.0000, -40.0000, 4215,     11.0,  25.8140,  36.3450,2,-999.0000,9,    210.0,2,    205.0,2,     1.01,2,     0.12,2,     0.01,   2,     0.04,2,    0.997,2,     1.94,2,     0.00,2,   2040.2,2,   2383.8,2,   -999.0,      9.0,9
  06M320150501,   487, 14,      1,   253285,20150509,1649, 10.7500, -40.0000, 5397,   5387.0,   2.0470,  34.8400,2,-999.0000,9,    249.0,2,    247.9,2,    58.11,2,    22.50,2,     0.02,   2,     1.57,2,    0.125,2,        0,2,     0.00,2,   2201.6,6,   2354.6,6,   -999.0,      9.0,9
  06M320150501,   487, 14,      2,   253286,20150509,1652, 10.7500, -40.0000, 5397,   5269.0,   2.0310,  34.8400,2,-999.0000,9,    249.4,2,    248.7,2,    56.28,2,    22.68,2,     0.02,   2,     1.52,2,    0.123,2,        0,2,     0.00,2,   2203.2,2,   2362.2,2,   -999.0,      9.0,9
  06M320150501,   487, 14,      3,   253287,20150509,1707, 10.7500, -40.0000, 5397,   4500.0,   2.2050,  34.8650,2,-999.0000,9,    250.2,2,    249.0,6,    50.37,2,    22.04,2,     0.02,   2,     1.50,2,    0.082,2,        0,2,     0.00,2,   2196.3,2,   2299.7,3,   -999.0,      9.0,9
  06M320150501,   487, 14,      4,   253288,20150509,1715, 10.7500, -40.0000, 5397,   3998.0,   2.3840,  34.8880,2,-999.0000,9,    249.2,2,    247.9,2,    44.46,2,    21.48,2,     0.02,   2,     1.45,2,    0.025,2,        0,2,     0.00,2,   2189.8,2,   2349.0,2,   -999.0,      9.0,9
  06M320150501,   487, 14,      5,   253289,20150509,1724, 10.7500, -40.0000, 5397,   3502.0,   2.4810,  34.9010,2,-999.0000,9,    249.4,2,    248.9,2,    40.90,2,    21.10,2,     0.02,   2,     1.43,2,    0.015,2,        0,2,     0.00,2,   2187.2,2,   2346.8,2,   -999.0,      9.0,9
  06M320150501,   487, 14,      6,   253290,20150509,1732, 10.7500, -40.0000, 5397,   3001.0,   2.7330,  34.9220,2,-999.0000,9,    249.4,2,    249.7,2,    34.98,2,    20.71,2,     0.02,   2,     1.39,2,    0.033,2,        0,2,     0.00,2,   2179.6,2,   2339.5,2,   -999.0,      9.0,9
  06M320150501,   487, 14,      7,   253291,20150509,1741, 10.7500, -40.0000, 5397,   2501.0,   3.0580,  34.9420,2,-999.0000,9,    251.3,2,    252.1,6,    27.65,2,    19.79,2,     0.02,   2,     1.32,2,    0.083,2,        0,2,     0.00,2,   2169.6,6,   2330.8,6,   -999.0,      9.0,9
  06M320150501,   487, 14,      8,   253292,20150509,1749, 10.7500, -40.0000, 5397,   2002.0,   3.6270,  34.9670,2,-999.0000,9,    248.2,2,    249.1,2,    20.17,2,    19.57,2,     0.02,   2,     1.30,2,    0.116,2,        0,2,     0.00,2,   2165.7,2,   2316.2,2,   -999.0,      9.0,9
  06M320150501,   487, 14,      9,   253293,20150509,1753, 10.7500, -40.0000, 5397,   1752.0,   4.0420,  34.9780,2,-999.0000,9,    239.9,2,    240.7,2,    17.78,2,    20.06,2,     0.02,   2,     1.31,2,    0.187,2,        0,2,     0.00,2,   2165.9,2,   2318.4,2,   -999.0,      9.0,9
  06M320150501,   487, 14,     10,   253294,20150509,1757, 10.7500, -40.0000, 5397,   1500.0,   4.5230,  34.9760,2,-999.0000,9,    222.4,2,    221.9,2,    18.04,6,    21.74,6,     0.02,   6,     1.43,6,    0.222,2,        0,2,     0.00,2,   2178.6,2,   2320.1,2,   -999.0,      9.0,9
  06M320150501,   487, 14,     11,   253295,20150509,1801, 10.7500, -40.0000, 5397,   1250.0,   5.0190,  34.9080,2,-999.0000,9,    183.1,2,    182.3,2,    22.11,2,    26.34,2,     0.02,   2,     1.75,2,    0.109,2,        0,2,     0.00,2,   2195.6,2,   2318.9,2,   -999.0,      9.0,9
  06M320150501,   487, 14,     12,   253296,20150509,1805, 10.7500, -40.0000, 5397,   1001.0,   5.4850,  34.7840,2,-999.0000,9,    139.6,2,    138.3,2,    26.04,2,    31.67,2,     0.02,   2,     2.11,2,    0.221,2,        0,2,     0.00,2,   2219.1,2,   2311.4,2,   -999.0,      9.0,9
  06M320150501,   487, 14,     13,   253297,20150509,1815, 10.7500, -40.0000, 5397,    747.0,   6.5760,  34.7690,2,-999.0000,9,    107.6,2,    106.5,2,    24.40,2,    34.31,2,     0.02,   2,     2.21,2,    0.095,2,        0,2,     0.00,2,   2228.7,2,   2307.4,2,   -999.0,      9.0,9
  06M320150501,   487, 14,     14,   253298,20150509,1819, 10.7500, -40.0000, 5397,    499.0,   8.5990,  34.9160,2,-999.0000,9,     85.0,2,     84.8,2,    17.71,2,    33.06,2,     0.02,   2,     2.07,2,    0.374,2,     0.42,2,     0.00,2,   2229.2,2,   2307.5,2,   -999.0,      9.0,9
  06M320150501,   487, 14,     15,   253299,20150509,1820, 10.7500, -40.0000, 5397,    407.0,   9.4490,  35.0010,2,-999.0000,9,     75.6,2,     77.9,2,    15.82,2,    32.37,2,     0.02,   2,     2.01,2,    0.486,6,     0.33,6,     0.00,6,   -999.0,9,   -999.0,9,   -999.0,      9.0,9
  06M320150501,   487, 14,     16,   253300,20150509,1820, 10.7500, -40.0000, 5397,    378.0,   9.6320,  35.0150,2,-999.0000,9,     74.9,2,     77.5,2,    15.21,6,    32.36,6,     0.02,   6,     1.99,6,    0.528,6,     0.34,6,     0.01,6,   2228.9,2,   2308.3,2,   -999.0,      9.0,9
  06M320150501,   487, 14,     17,   253301,20150509,1821, 10.7500, -40.0000, 5397,    349.0,   9.9650,  35.0380,2,-999.0000,9,     76.7,2,     77.9,2,    14.26,2,    31.39,2,     0.02,   2,     1.90,2,    0.623,2,     0.29,2,     0.00,2,   -999.0,9,   -999.0,9,   -999.0,      9.0,9
  06M320150501,   487, 14,     18,   253302,20150509,1822, 10.7500, -40.0000, 5397,    290.0,  10.0690,  34.9780,2,-999.0000,9,     95.4,2,     93.9,2,    13.73,2,    29.88,2,     0.02,   2,     1.90,2,    0.784,6,     0.46,6,     0.12,6,   2214.8,2,   2306.2,2,   -999.0,      9.0,9
  06M320150501,   487, 14,     19,   253303,20150509,1823, 10.7500, -40.0000, 5397,    238.0,  10.3830,  34.9930,2,-999.0000,9,    107.1,2,    109.8,2,    11.95,6,    26.71,6,     0.02,   6,     1.69,6,    0.959,6,     0.53,6,     0.11,6,   2208.2,2,   2311.1,2,   -999.0,      9.0,9
  06M320150501,   487, 14,     20,   253304,20150509,1823, 10.7500, -40.0000, 5397,    200.0,  11.1840,  35.0880,2,-999.0000,9,    116.7,2,    117.4,6,    10.82,2,    24.81,2,     0.02,   2,     1.60,2,    1.083,2,     0.63,2,     0.00,2,   2194.7,2,   2311.9,2,   -999.0,      9.0,9
  06M320150501,   487, 14,     21,   253305,20150509,1824, 10.7500, -40.0000, 5397,    149.0,  13.2810,  35.3970,2,-999.0000,9,    106.6,9,   -999.0,9,     8.79,2,    22.86,2,     0.03,   2,     1.43,2,    1.135,2,     0.82,2,     0.00,2,   2197.2,2,   2328.0,2,   -999.0,      9.0,9
  06M320150501,   487, 14,     22,   253306,20150509,1825, 10.7500, -40.0000, 5397,    101.0,  18.4520,  35.9790,2,-999.0000,9,    130.8,2,    132.8,2,     4.25,2,    12.68,2,     0.05,   2,     0.78,2,    1.146,2,     1.04,2,     0.00,2,   2156.2,2,   2359.0,2,   -999.0,      9.0,9
  06M320150501,   487, 14,     23,   253307,20150509,1826, 10.7500, -40.0000, 5397,     50.0,  25.1780,  36.4210,2,-999.0000,9,    209.6,2,    209.3,2,     0.97,2,     0.03,2,     0.02,   2,     0.04,2,    1.020,2,     1.43,2,     0.00,2,   2044.2,2,   2378.7,2,   -999.0,      9.0,9
  06M320150501,   487, 14,     24,   253308,20150509,1828, 10.7500, -40.0000, 5397,      9.0,  25.8920,  36.3580,2,-999.0000,9,    206.6,2,    205.7,2,     0.98,2,     0.00,2,     0.02,   2,     0.03,2,    0.995,2,     1.31,2,     0.00,2,   2038.4,2,   2381.3,2,   -999.0,      9.0,9