BOTTLE,20180504PRINUNIVRMK
EXPOCODE,STNNBR,CASTNO,BTLNBR,BEDFORD,DATE,TIME,LATITUDE,LONGITUDE,DEPTH,CTDPRS,CTDTMP,CTDSAL,CTDSAL_FLAG_W,SALNTY,SALNTY_FLAG_W,CTDOXY,CTDOXY_FLAG_W,OXYGEN,OXYGEN_FLAG_W,SILCAT,SILCAT_FLAG_W,NITRAT,NITRAT_FLAG_W,NITRIT,NITRIT_FLAG_W,PHSPHT,PHSPHT_FLAG_W,CFC-12,CFC-12_FLAG_W,SF6,SF6_FLAG_W,SF5CF3,SF5CF3_FLAG_W,TCARBN,TCARBN_FLAG_W,ALKALI,ALKALI_FLAG_W,AR-39,AR-39ER,AR-39_FLAG_W
,,,,,,,,,METERS,DBAR,ITS-90,PSS-78,,PSS-78,,UMOL/KG,,UMOL/KG,,UMOL/KG,,UMOL/KG,,UMOL/KG,,UMOL/KG,,PMOL/KG,,FMOL/KG,,FMOL/KG,,UMOL/KG,,UMOL/KG,,%Modern,%Modern,
  06M320150501,   476,  3,      1,   253049,20150505,1205, 11.0000, -48.0000, 4773,   1203.0,   5.2190,  34.8920,2,-999.0000,9,    175.0,2,    174.9,2,    22.66,2,    26.40,2,     0.00,   2,     1.75,2, -999.000,9,     -999,9,  -999.00,9,   2196.0,6,   2312.4,6,   -999.0,      9.0,9
  06M320150501,   476,  3,      2,   253050,20150505,1207, 11.0000, -48.0000, 4773,   1098.0,   5.2430,  34.8160,2,-999.0000,9,    159.2,2,    158.0,2,    24.77,2,    28.77,2,     0.00,   2,     1.96,2, -999.000,9,     -999,9,  -999.00,9,   -999.0,9,   -999.0,9,   -999.0,      9.0,9
  06M320150501,   476,  3,      3,   253051,20150505,1208, 11.0000, -48.0000, 4773,    999.0,   5.3440,  34.7420,2,-999.0000,9,    143.7,2,    144.0,2,    26.44,2,    30.99,2,     0.00,   2,     2.15,2, -999.000,9,     -999,9,  -999.00,9,   2211.4,2,   2311.2,2,   -999.0,      9.0,9
  06M320150501,   476,  3,      4,   253052,20150505,1210, 11.0000, -48.0000, 4773,    899.0,   5.4830,  34.6690,2,-999.0000,9,    133.7,2,    133.6,2,    27.16,2,    32.84,2,     0.00,   2,     2.21,2, -999.000,9,     -999,9,  -999.00,9,   -999.0,9,   -999.0,9,   -999.0,      9.0,9
  06M320150501,   476,  3,      5,   253053,20150505,1212, 11.0000, -48.0000, 4773,    798.0,   5.8910,  34.6490,2,-999.0000,9,    125.4,2,    126.4,2,    26.06,2,    33.51,2,     0.00,   2,     2.27,2, -999.000,9,     -999,9,  -999.00,9,   2215.8,2,   2305.0,2,   -999.0,      9.0,9
  06M320150501,   476,  3,      6,   253054,20150505,1213, 11.0000, -48.0000, 4773,    699.0,   6.4020,  34.6660,2,-999.0000,9,    120.2,2,    120.5,2,    23.73,2,    33.17,2,     0.00,   2,     2.23,2, -999.000,9,     -999,9,  -999.00,9,   -999.0,9,   -999.0,9,   -999.0,      9.0,9
  06M320150501,   476,  3,      7,   253055,20150505,1215, 11.0000, -48.0000, 4773,    599.0,   7.4970,  34.7750,2,-999.0000,9,    107.8,2,    109.3,2,    20.46,2,    32.51,2,     0.00,   2,     2.13,2, -999.000,9,     -999,9,  -999.00,9,   2215.5,2,   2303.3,2,   -999.0,      9.0,9
  06M320150501,   476,  3,      8,   253056,20150505,1216, 11.0000, -48.0000, 4773,    498.0,   8.0040,  34.7780,2,-999.0000,9,    114.2,2,    115.3,2,    18.14,2,    30.88,2,     0.01,   2,     2.03,2, -999.000,9,     -999,9,  -999.00,9,   2208.3,2,   2300.9,2,   -999.0,      9.0,9
  06M320150501,   476,  3,      9,   253057,20150505,1218, 11.0000, -48.0000, 4773,    390.0,   9.1450,  34.9140,2,-999.0000,9,    115.8,2,    116.6,6,    15.13,6,    28.24,6,     0.00,   6,     1.85,6,    0.764,2,     0.41,2,     0.00,2,   -999.0,9,   -999.0,9,   -999.0,      9.0,9
  06M320150501,   476,  3,     10,   253058,20150505,1219, 11.0000, -48.0000, 4773,    359.0,   9.3810,  34.9420,2,-999.0000,9,    116.4,2,    117.1,2,    14.49,2,    27.72,2,     0.00,   2,     1.80,2,    0.821,2,     0.56,2,     0.00,2,   2199.3,6,   2303.4,6,   -999.0,      9.0,9
  06M320150501,   476,  3,     11,   253059,20150505,1219, 11.0000, -48.0000, 4773,    330.0,   9.8290,  34.9990,2,-999.0000,9,    115.6,2,    117.0,2,    13.85,2,    26.94,2,     0.00,   2,     1.77,2,    0.853,2,     0.62,2,     0.00,2,   -999.0,9,   -999.0,9,   -999.0,      9.0,9
  06M320150501,   476,  3,     12,   253060,20150505,1220, 11.0000, -48.0000, 4773,    299.0,  10.4880,  35.0900,2,-999.0000,9,    115.2,2,    116.2,2,    12.55,2,    25.90,2,     0.00,   2,     1.67,2, -999.000,9,     -999,9,  -999.00,9,   2194.9,2,   2310.1,2,   -999.0,      9.0,9
  06M320150501,   476,  3,     13,   253061,20150505,1221, 11.0000, -48.0000, 4773,    199.0,  11.8280,  35.2940,2,-999.0000,9,    108.8,2,    108.5,2,    10.57,2,    24.26,2,     0.01,   2,     1.57,2, -999.000,9,     -999,9,  -999.00,9,   2193.7,2,   2317.4,2,   -999.0,      9.0,9
  06M320150501,   476,  3,     14,   253062,20150505,1222, 11.0000, -48.0000, 4773,    149.0,  14.7620,  35.8310,2,-999.0000,9,    110.9,2,    111.9,2,     7.12,2,    19.32,2,     0.01,   2,     1.18,2, -999.000,9,     -999,9,  -999.00,9,   2187.1,2,   2339.3,2,   -999.0,      9.0,9
  06M320150501,   476,  3,     15,   253063,20150505,1223, 11.0000, -48.0000, 4773,     98.0,  20.4420,  36.1210,2,-999.0000,9,    145.3,3,    140.7,2,     3.44,2,     9.31,2,     0.24,   2,     0.58,2, -999.000,9,     -999,9,  -999.00,9,   2143.7,2,   2358.1,2,   -999.0,      9.0,9
  06M320150501,   476,  3,     16,   253064,20150505,1224, 11.0000, -48.0000, 4773,     51.0,  26.3120,  36.2430,2,-999.0000,9,    204.8,2,    205.3,2,     1.14,2,     0.09,2,     0.00,   2,     0.02,2, -999.000,9,     -999,9,  -999.00,9,   2034.2,2,   2369.1,2,   -999.0,      9.0,9
  06M320150501,   476,  3,     17,   253065,20150505,1225, 11.0000, -48.0000, 4773,     20.0,  26.6980,  36.0290,2,-999.0000,9,    204.6,2,    204.1,2,     1.44,2,     0.02,2,     0.00,   2,     0.01,2, -999.000,9,     -999,9,  -999.00,9,   2019.2,2,   2355.6,2,   -999.0,      9.0,9
  06M320150501,   476,  3,     18,   253066,20150505,1225, 11.0000, -48.0000, 4773,     11.0,  26.6950,  36.0290,2,-999.0000,9,    204.2,2,    204.0,2,     1.43,2,     0.00,2,     0.00,   2,     0.01,2,    0.980,2,     1.22,2,     0.00,2,   2019.4,2,   2356.7,2,   -999.0,      9.0,9
  06M320150501,   476,  3,     19,   253067,20150505,1226, 11.0000, -48.0000, 4773,     -1.0,  23.8810,-999.0000,9,-999.0000,9,   -999.0,9,   -999.0,9,  -999.00,9,  -999.00,9,  -999.00,-999,  -999.00,9, -999.000,9,     -999,9,  -999.00,9,   -999.0,9,   -999.0,9,   -999.0,      9.0,9
  06M320150501,   477,  4,      1,   253073,20150505,1900, 11.0000, -47.0000, 4759,   1199.0,   5.2130,  34.9090,2,-999.0000,9,    179.1,2,    178.4,2,    21.88,2,    25.84,2,     0.01,   2,     1.66,2, -999.000,9,     -999,9,  -999.00,9,   2199.8,2,   2320.9,2,   -999.0,      9.0,9
  06M320150501,   477,  4,      2,   253074,20150505,1901, 11.0000, -47.0000, 4759,   1100.0,   5.2170,  34.8210,2,-999.0000,9,    160.3,2,    159.0,2,    24.74,2,    28.86,2,     0.00,   2,     1.86,2, -999.000,9,     -999,9,  -999.00,9,   -999.0,9,   -999.0,9,   -999.0,      9.0,9
  06M320150501,   477,  4,      3,   253075,20150505,1903, 11.0000, -47.0000, 4759,   1000.0,   5.3010,  34.7540,2,-999.0000,9,    146.0,2,    144.4,6,    26.52,2,    31.04,2,     0.01,   2,     2.03,2, -999.000,9,     -999,9,  -999.00,9,   2215.9,6,   2311.7,6,   -999.0,      9.0,9
  06M320150501,   477,  4,      4,   253076,20150505,1905, 11.0000, -47.0000, 4759,    900.0,   5.5680,  34.7010,2,-999.0000,9,    134.2,2,    132.2,2,    27.13,2,    33.56,2,     0.00,   2,     2.15,2, -999.000,9,     -999,9,  -999.00,9,   -999.0,9,   -999.0,9,   -999.0,      9.0,9
  06M320150501,   477,  4,      5,   253077,20150505,1906, 11.0000, -47.0000, 4759,    799.0,   5.9790,  34.6820,2,-999.0000,9,    125.0,2,    123.6,2,    25.58,2,    34.12,2,     0.00,   2,     2.18,2, -999.000,9,     -999,9,  -999.00,9,   2223.8,2,   2299.9,2,   -999.0,      9.0,9
  06M320150501,   477,  4,      6,   253078,20150505,1908, 11.0000, -47.0000, 4759,    705.0,   6.4410,  34.6830,2,-999.0000,9,    121.7,2,    120.7,2,    24.46,2,    33.44,2,     0.00,   2,     2.14,2, -999.000,9,     -999,9,  -999.00,9,   -999.0,9,   -999.0,9,   -999.0,      9.0,9
  06M320150501,   477,  4,      7,   253079,20150505,1910, 11.0000, -47.0000, 4759,    598.0,   7.0610,  34.6970,2,-999.0000,9,    121.1,2,    120.3,2,    21.56,2,    32.08,2,     0.01,   2,     2.07,2, -999.000,9,     -999,9,  -999.00,9,   2217.4,2,   2300.0,2,   -999.0,      9.0,9
  06M320150501,   477,  4,      8,   253080,20150505,1911, 11.0000, -47.0000, 4759,    500.0,   8.2970,  34.8450,2,-999.0000,9,     97.9,2,     96.0,6,    18.20,2,    32.62,2,     0.00,   2,     2.02,2, -999.000,9,     -999,9,  -999.00,9,   2223.6,2,   2301.5,2,   -999.0,      9.0,9
  06M320150501,   477,  4,      9,   253081,20150505,1912, 11.0000, -47.0000, 4759,    422.0,   8.6080,  34.8220,2,-999.0000,9,    115.3,2,    115.3,2,    16.55,2,    30.33,2,     0.01,   2,     1.89,2,    0.711,2,     0.36,2,     0.00,2,   -999.0,9,   -999.0,9,   -999.0,      9.0,9
  06M320150501,   477,  4,     10,   253082,20150505,1913, 11.0000, -47.0000, 4759,    392.0,   8.6350,  34.7930,2,-999.0000,9,    124.7,2,    125.5,2,    15.83,2,    28.97,2,     0.01,   2,     1.80,2,    0.825,2,     0.46,2,     0.00,2,   2204.6,2,   2298.3,2,   -999.0,      9.0,9
  06M320150501,   477,  4,     11,   253083,20150505,1913, 11.0000, -47.0000, 4759,    360.0,   8.9180,  34.8330,2,-999.0000,9,    123.5,2,    127.9,2,    15.31,2,    28.31,2,     0.00,   2,     1.77,2,    0.877,2,     0.44,2,     0.00,2,   -999.0,9,   -999.0,9,   -999.0,      9.0,9
  06M320150501,   477,  4,     12,   253084,20150505,1914, 11.0000, -47.0000, 4759,    301.0,   9.7170,  34.9510,2,-999.0000,9,     96.8,2,    105.1,2,    14.51,6,    28.60,6,     0.00,   6,     1.80,6, -999.000,9,     -999,9,  -999.00,9,   2211.6,2,   2304.8,2,   -999.0,      9.0,9
  06M320150501,   477,  4,     13,   253085,20150505,1916, 11.0000, -47.0000, 4759,    201.0,  11.4200,  35.2100,2,-999.0000,9,    111.2,2,    111.2,2,    11.28,2,    24.70,2,     0.01,   2,     1.56,2, -999.000,9,     -999,9,  -999.00,9,   2202.2,2,   2313.1,2,   -999.0,      9.0,9
  06M320150501,   477,  4,     14,   253086,20150505,1917, 11.0000, -47.0000, 4759,    150.0,  15.7800,  36.0300,2,-999.0000,9,    118.4,3,    117.3,2,     6.04,2,    17.48,2,     0.01,   2,     1.00,2, -999.000,9,     -999,9,  -999.00,9,   2189.8,6,   2350.7,6,   -999.0,      9.0,9
  06M320150501,   477,  4,     15,   253087,20150505,1917, 11.0000, -47.0000, 4759,     98.0,  20.4520,  36.0710,2,-999.0000,9,    140.4,2,    132.6,2,     4.18,2,    12.30,2,     0.05,   2,     0.72,2, -999.000,9,     -999,9,  -999.00,9,   2156.5,2,   2354.0,2,   -999.0,      9.0,9
  06M320150501,   477,  4,     16,   253088,20150505,1919, 11.0000, -47.0000, 4759,     51.0,  26.6480,  36.1490,2,-999.0000,9,    204.4,2,    202.8,2,     1.35,2,     0.21,2,     0.00,   2,     0.04,2, -999.000,9,     -999,9,  -999.00,9,   2033.0,2,   2360.5,2,   -999.0,      9.0,9
  06M320150501,   477,  4,     17,   253089,20150505,1920, 11.0000, -47.0000, 4759,     21.0,  26.7180,  36.1450,2,-999.0000,9,    209.0,2,    204.8,2,     1.29,2,     0.00,2,     0.00,   2,     0.02,2, -999.000,9,     -999,9,  -999.00,9,   2031.4,2,   2363.4,2,   -999.0,      9.0,9
  06M320150501,   477,  4,     18,   253090,20150505,1920, 11.0000, -47.0000, 4759,     10.0,  26.7780,  36.1440,2,-999.0000,9,    206.1,2,    204.1,6,     1.28,2,     0.01,2,     0.00,   2,     0.01,2, -999.000,9,     -999,9,  -999.00,9,   2033.1,2,   2364.1,2,   -999.0,      9.0,9
  06M320150501,   478,  5,      1,   253091,20150506,0347, 11.0000, -46.0000, 5057,   5047.0,   1.6650,  34.8030,2,-999.0000,9,    242.2,2,    241.1,2,    72.15,2,    25.18,2,     0.01,   2,     1.71,2,    0.102,2,        0,2,     0.00,2,   2218.3,2,   2349.3,2,   -999.0,      9.0,9
  06M320150501,   478,  5,      2,   253092,20150506,0349, 11.0000, -46.0000, 5057,   4942.0,   1.6620,  34.8040,2,-999.0000,9,    242.7,2,    192.2,2,    72.49,2,    24.98,2,     0.01,   2,     1.74,2,    0.096,2,        0,2,     0.00,2,   2218.7,2,   2345.2,2,   -999.0,      9.0,9
  06M320150501,   478,  5,      3,   253093,20150506,0356, 11.0000, -46.0000, 5057,   4499.0,   1.8220,  34.8280,2,-999.0000,9,    248.2,2,    246.8,2,    60.51,2,    23.28,2,     0.01,   2,     1.59,2,    0.123,2,        0,2,     0.00,2,   2207.0,2,   2337.2,2,   -999.0,      9.0,9
  06M320150501,   478,  5,      4,   253094,20150506,0403, 11.0000, -46.0000, 5057,   4000.0,   2.2290,  34.8790,2,-999.0000,9,    259.5,2,    258.8,2,    38.14,2,    20.09,2,     0.01,   2,     1.35,2,    0.194,2,        0,2,     0.00,2,   2184.6,2,   2339.6,2,   -999.0,      9.0,9
  06M320150501,   478,  5,      5,   253095,20150506,0411, 11.0000, -46.0000, 5057,   3499.0,   2.4370,  34.8960,2,-999.0000,9,    253.0,2,    251.7,6,    39.01,6,    20.85,6,     0.00,   6,     1.40,6,    0.070,2,        0,2,     0.00,2,   2186.5,6,   2341.3,6,   -999.0,      9.0,9
  06M320150501,   478,  5,      6,   253096,20150506,0419, 11.0000, -46.0000, 5057,   3000.0,   2.7090,  34.9200,2,-999.0000,9,    249.9,2,    249.2,2,    35.11,2,    20.76,2,     0.01,   2,     1.39,2,    0.033,2,        0,2,     0.00,2,   2183.8,2,   2341.3,2,   -999.0,      9.0,9
  06M320150501,   478,  5,      7,   253097,20150506,0427, 11.0000, -46.0000, 5057,   2499.0,   3.0590,  34.9420,2,-999.0000,9,    251.3,2,    251.0,2,    27.52,2,    19.99,2,     0.01,   2,     1.32,2,    0.081,2,        0,2,     0.00,2,   2175.1,2,   2335.3,2,   -999.0,      9.0,9
  06M320150501,   478,  5,      8,   253098,20150506,0435, 11.0000, -46.0000, 5057,   2000.0,   3.5350,  34.9620,2,-999.0000,9,    252.3,2,    252.6,6,    19.73,6,    19.33,6,     0.01,   6,     1.27,6,    0.191,2,        0,2,     0.00,2,   2166.9,2,   2329.4,2,   -999.0,      9.0,9
  06M320150501,   478,  5,      9,   253099,20150506,0439, 11.0000, -46.0000, 5057,   1749.0,   3.8990,  34.9760,2,-999.0000,9,    256.0,2,    256.6,2,    14.74,2,    18.49,2,     0.01,   2,     1.20,2,    0.536,2,     0.24,2,     0.00,2,   2163.6,2,   -999.0,9,   -999.0,      9.0,9
  06M320150501,   478,  5,     10,   253100,20150506,0443, 11.0000, -46.0000, 5057,   1499.0,   4.4930,  34.9970,2,-999.0000,9,    237.9,2,    238.1,2,    15.16,2,    19.68,2,     0.02,   2,     1.29,2,    0.506,2,     0.35,2,     0.00,2,   2171.3,2,   2321.5,2,   -999.0,      9.0,9
  06M320150501,   478,  5,     11,   253101,20150506,0446, 11.0000, -46.0000, 5057,   1249.0,   5.0800,  34.9530,2,-999.0000,9,    195.4,2,    194.1,2,    19.70,2,    24.35,2,     0.01,   2,     1.62,2,    0.201,2,     0.23,2,     0.00,2,   2192.6,2,   2326.4,2,   -999.0,      9.0,9
  06M320150501,   478,  5,     12,   253102,20150506,0450, 11.0000, -46.0000, 5057,    999.0,   5.3920,  34.7700,2,-999.0000,9,    147.1,2,    146.2,2,    25.26,2,    31.07,2,     0.01,   2,     2.10,2,    0.052,2,        0,2,     0.00,2,   2215.8,2,   2312.3,2,   -999.0,      9.0,9
  06M320150501,   478,  5,     13,   253103,20150506,0454, 11.0000, -46.0000, 5057,    748.0,   6.4480,  34.7120,2,-999.0000,9,    121.4,2,    120.8,2,    23.49,2,    33.46,2,     0.01,   2,     2.24,2,    0.165,2,     0.13,2,     0.00,2,   2222.2,2,   2308.2,2,   -999.0,      9.0,9
  06M320150501,   478,  5,     14,   253104,20150506,0458, 11.0000, -46.0000, 5057,    499.0,   8.2310,  34.8150,2,-999.0000,9,    118.0,2,    117.2,2,    17.08,2,    30.79,2,     0.01,   2,     1.97,2,    0.592,2,     0.27,2,     0.00,2,   2213.5,3,   2303.9,2,   -999.0,      9.0,9
  06M320150501,   478,  5,     15,   253105,20150506,0500, 11.0000, -46.0000, 5057,    408.0,   9.2870,  34.9320,2,-999.0000,9,    108.8,2,    110.7,2,    14.56,2,    29.16,2,     0.01,   2,     1.88,2,    0.743,2,     0.33,2,     0.00,2,   -999.0,9,   -999.0,9,   -999.0,      9.0,9
  06M320150501,   478,  5,     16,   253106,20150506,0500, 11.0000, -46.0000, 5057,    378.0,   9.6180,  34.9650,2,-999.0000,9,     96.0,2,    100.7,2,    14.30,2,    29.66,2,     0.01,   2,     1.87,2,    0.711,2,     0.39,2,     0.00,2,   2215.6,6,   2307.4,6,   -999.0,      9.0,9
  06M320150501,   478,  5,     17,   253107,20150506,0501, 11.0000, -46.0000, 5057,    349.0,   9.8010,  34.9870,2,-999.0000,9,     97.7,2,     97.4,2,    13.84,2,    29.32,2,     0.01,   2,     1.85,2,    0.738,2,     0.39,2,     0.00,2,   -999.0,9,   -999.0,9,   -999.0,      9.0,9
  06M320150501,   478,  5,     18,   253108,20150506,0502, 11.0000, -46.0000, 5057,    300.0,  10.3960,  35.0720,2,-999.0000,9,     99.4,2,     99.2,6,    12.47,6,    28.09,6,     0.01,   6,     1.77,6,    0.815,2,     0.47,2,     0.06,2,   2213.1,2,   2306.9,2,   -999.0,      9.0,9
  06M320150501,   478,  5,     19,   253109,20150506,0503, 11.0000, -46.0000, 5057,    199.0,  11.7520,  35.2330,2,-999.0000,9,    104.6,2,    105.5,2,    10.11,2,    25.04,2,     0.02,   2,     1.57,2,    1.011,2,     0.61,2,     0.06,2,   2204.2,2,   2317.8,2,   -999.0,      9.0,9
  06M320150501,   478,  5,     20,   253110,20150506,0504, 11.0000, -46.0000, 5057,    150.0,  14.5030,  35.5550,2,-999.0000,9,    110.4,2,    109.2,2,     7.88,2,    21.65,2,     0.02,   2,     1.35,2,    1.149,2,     0.78,2,     0.07,2,   2193.6,2,   2323.6,2,   -999.0,      9.0,9
  06M320150501,   478,  5,     21,   253111,20150506,0505, 11.0000, -46.0000, 5057,     99.0,  23.2280,  36.8390,2,-999.0000,9,    192.1,2,    189.4,2,     1.05,2,     1.05,2,     0.15,   2,     0.07,2,    1.136,2,     1.33,2,     0.00,2,   2110.3,2,   2406.3,2,   -999.0,      9.0,9
  06M320150501,   478,  5,     22,   253112,20150506,0506, 11.0000, -46.0000, 5057,     50.0,  25.7050,  36.3260,2,-999.0000,9,    208.9,2,    207.8,2,     0.94,2,     0.14,2,     0.01,   2,     0.01,2,    1.008,2,     1.31,2,     0.00,2,   2042.3,2,   2373.5,2,   -999.0,      9.0,9
  06M320150501,   478,  5,     23,   253113,20150506,0507, 11.0000, -46.0000, 5057,     20.0,  25.6990,  36.3270,2,-999.0000,9,    211.8,2,    208.0,2,     0.93,2,     0.15,2,     0.01,   2,     0.01,2, -999.000,9,     -999,9,  -999.00,9,   2043.3,2,   2374.6,2,   -999.0,      9.0,9
  06M320150501,   478,  5,     24,   253114,20150506,0507, 11.0000, -46.0000, 5057,     10.0,  25.6970,  36.3270,2,-999.0000,9,    208.5,2,    207.2,2,     0.94,2,     0.12,2,     0.01,   2,     0.00,2,    1.017,2,     1.37,2,     0.00,2,   2042.4,2,   2374.1,2,   -999.0,      9.0,9