BOTTLE,20180504PRINUNIVRMK
EXPOCODE,STNNBR,CASTNO,BTLNBR,BEDFORD,DATE,TIME,LATITUDE,LONGITUDE,DEPTH,CTDPRS,CTDTMP,CTDSAL,CTDSAL_FLAG_W,SALNTY,SALNTY_FLAG_W,CTDOXY,CTDOXY_FLAG_W,OXYGEN,OXYGEN_FLAG_W,SILCAT,SILCAT_FLAG_W,NITRAT,NITRAT_FLAG_W,NITRIT,NITRIT_FLAG_W,PHSPHT,PHSPHT_FLAG_W,CFC-12,CFC-12_FLAG_W,SF6,SF6_FLAG_W,SF5CF3,SF5CF3_FLAG_W,TCARBN,TCARBN_FLAG_W,ALKALI,ALKALI_FLAG_W,AR-39,AR-39ER,AR-39_FLAG_W
,,,,,,,,,METERS,DBAR,ITS-90,PSS-78,,PSS-78,,UMOL/KG,,UMOL/KG,,UMOL/KG,,UMOL/KG,,UMOL/KG,,UMOL/KG,,PMOL/KG,,FMOL/KG,,FMOL/KG,,UMOL/KG,,UMOL/KG,,%Modern,%Modern,
  06M320150501,   528, 55,      1,   254223,20150524,1609, 11.2500, -22.0000, 4993,   4006.0,   2.3770,  34.8880,2,-999.0000,9,    244.1,9,   -999.0,9,  -999.00,9,  -999.00,9,  -999.00,-999,  -999.00,9, -999.000,9,     -999,9,  -999.00,9,   -999.0,9,   -999.0,9,     36.0,      4.8,2
  06M320150501,   528, 55,      2,   254224,20150524,1609, 11.2500, -22.0000, 4993,   4006.0,   2.3770,  34.8880,2,-999.0000,9,    244.2,9,   -999.0,9,  -999.00,9,  -999.00,9,  -999.00,-999,  -999.00,9, -999.000,9,     -999,9,  -999.00,9,   -999.0,9,   -999.0,9,   -999.0,      9.0,9
  06M320150501,   528, 55,      3,   254225,20150524,1609, 11.2500, -22.0000, 4993,   4006.0,   2.3780,  34.8880,2,-999.0000,9,    244.0,9,   -999.0,9,  -999.00,9,  -999.00,9,  -999.00,-999,  -999.00,9, -999.000,9,     -999,9,  -999.00,9,   -999.0,9,   -999.0,9,   -999.0,      9.0,9
  06M320150501,   528, 55,      4,   254226,20150524,1628, 11.2500, -22.0000, 4993,   3002.0,   2.7310,  34.9220,2,-999.0000,9,    244.8,9,   -999.0,9,  -999.00,9,  -999.00,9,  -999.00,-999,  -999.00,9, -999.000,9,     -999,9,  -999.00,9,   -999.0,9,   -999.0,9,   -999.0,      9.0,9
  06M320150501,   528, 55,      5,   254227,20150524,1629, 11.2500, -22.0000, 4993,   3000.0,   2.7330,  34.9220,2,-999.0000,9,    245.0,9,   -999.0,9,  -999.00,9,  -999.00,9,  -999.00,-999,  -999.00,9, -999.000,9,     -999,9,  -999.00,9,   -999.0,9,   -999.0,9,   -999.0,      9.0,9
  06M320150501,   528, 55,      6,   254228,20150524,1629, 11.2500, -22.0000, 4993,   2999.0,   2.7340,  34.9220,2,-999.0000,9,    244.9,9,   -999.0,9,  -999.00,9,  -999.00,9,  -999.00,-999,  -999.00,9, -999.000,9,     -999,9,  -999.00,9,   -999.0,9,   -999.0,9,   -999.0,      9.0,9
  06M320150501,   528, 55,      7,   254229,20150524,1700, 11.2500, -22.0000, 4993,   1503.0,   4.3000,  34.9630,2,-999.0000,9,    208.9,9,   -999.0,9,  -999.00,9,  -999.00,9,  -999.00,-999,  -999.00,9, -999.000,9,     -999,9,  -999.00,9,   -999.0,9,   -999.0,9,     55.3,      6.2,2
  06M320150501,   528, 55,      8,   254230,20150524,1700, 11.2500, -22.0000, 4993,   1501.0,   4.3050,  34.9620,2,-999.0000,9,    208.1,9,   -999.0,9,  -999.00,9,  -999.00,9,  -999.00,-999,  -999.00,9, -999.000,9,     -999,9,  -999.00,9,   -999.0,9,   -999.0,9,   -999.0,      9.0,9
  06M320150501,   528, 55,      9,   254231,20150524,1701, 11.2500, -22.0000, 4993,   1497.0,   4.3050,  34.9620,2,-999.0000,9,    208.1,9,   -999.0,9,  -999.00,9,  -999.00,9,  -999.00,-999,  -999.00,9, -999.000,9,     -999,9,  -999.00,9,   -999.0,9,   -999.0,9,   -999.0,      9.0,9
  06M320150501,   528, 55,     10,   254232,20150524,1715, 11.2500, -22.0000, 4993,    851.0,   5.9810,  34.7580,2,-999.0000,9,    105.8,9,   -999.0,9,  -999.00,9,  -999.00,9,  -999.00,-999,  -999.00,9, -999.000,9,     -999,9,  -999.00,9,   -999.0,9,   -999.0,9,     61.5,      6.0,2
  06M320150501,   528, 55,     11,   254233,20150524,1715, 11.2500, -22.0000, 4993,    849.0,   5.9870,  34.7570,2,-999.0000,9,    105.2,9,   -999.0,9,  -999.00,9,  -999.00,9,  -999.00,-999,  -999.00,9, -999.000,9,     -999,9,  -999.00,9,   -999.0,9,   -999.0,9,   -999.0,      9.0,9
  06M320150501,   528, 55,     12,   254234,20150524,1715, 11.2500, -22.0000, 4993,    847.0,   5.9910,  34.7570,2,-999.0000,9,    105.0,9,   -999.0,9,  -999.00,9,  -999.00,9,  -999.00,-999,  -999.00,9, -999.000,9,     -999,9,  -999.00,9,   -999.0,9,   -999.0,9,   -999.0,      9.0,9
  06M320150501,   528, 55,     13,   254235,20150524,1723, 11.2500, -22.0000, 4993,    449.0,   9.7730,  35.0930,2,-999.0000,9,     42.6,9,   -999.0,9,  -999.00,9,  -999.00,9,  -999.00,-999,  -999.00,9, -999.000,9,     -999,9,  -999.00,9,   -999.0,9,   -999.0,9,     66.4,      6.6,2
  06M320150501,   528, 55,     14,   254236,20150524,1723, 11.2500, -22.0000, 4993,    448.0,   9.7740,  35.0930,2,-999.0000,9,     42.5,9,   -999.0,9,  -999.00,9,  -999.00,9,  -999.00,-999,  -999.00,9, -999.000,9,     -999,9,  -999.00,9,   -999.0,9,   -999.0,9,   -999.0,      9.0,9
  06M320150501,   528, 55,     15,   254237,20150524,1724, 11.2500, -22.0000, 4993,    447.0,   9.8130,  35.1000,2,-999.0000,9,     42.5,9,   -999.0,9,  -999.00,9,  -999.00,9,  -999.00,-999,  -999.00,9, -999.000,9,     -999,9,  -999.00,9,   -999.0,9,   -999.0,9,   -999.0,      9.0,9
  06M320150501,   528, 55,     16,   254238,20150524,1724, 11.2500, -22.0000, 4993,    400.0,  10.4460,  35.1520,2,-999.0000,9,     39.7,9,   -999.0,9,  -999.00,9,  -999.00,9,  -999.00,-999,  -999.00,9, -999.000,9,     -999,9,  -999.00,9,   -999.0,9,   -999.0,9,     78.9,      7.7,2
  06M320150501,   528, 55,     17,   254239,20150524,1725, 11.2500, -22.0000, 4993,    398.0,  10.4710,  35.1550,2,-999.0000,9,     39.7,9,   -999.0,9,  -999.00,9,  -999.00,9,  -999.00,-999,  -999.00,9, -999.000,9,     -999,9,  -999.00,9,   -999.0,9,   -999.0,9,   -999.0,      9.0,9
  06M320150501,   528, 55,     18,   254240,20150524,1725, 11.2500, -22.0000, 4993,    397.0,  10.4860,  35.1560,2,-999.0000,9,     39.7,9,   -999.0,9,  -999.00,9,  -999.00,9,  -999.00,-999,  -999.00,9, -999.000,9,     -999,9,  -999.00,9,   -999.0,9,   -999.0,9,   -999.0,      9.0,9
  06M320150501,   528, 55,     19,   254241,20150524,1726, 11.2500, -22.0000, 4993,    350.0,  10.9960,  35.1960,2,-999.0000,9,     43.6,9,   -999.0,9,  -999.00,9,  -999.00,9,  -999.00,-999,  -999.00,9, -999.000,9,     -999,9,  -999.00,9,   -999.0,9,   -999.0,9,     80.7,      7.7,2
  06M320150501,   528, 55,     20,   254242,20150524,1726, 11.2500, -22.0000, 4993,    348.0,  10.9900,  35.1900,2,-999.0000,9,     44.3,9,   -999.0,9,  -999.00,9,  -999.00,9,  -999.00,-999,  -999.00,9, -999.000,9,     -999,9,  -999.00,9,   -999.0,9,   -999.0,9,   -999.0,      9.0,9
  06M320150501,   528, 55,     21,   254243,20150524,1726, 11.2500, -22.0000, 4993,    347.0,  10.9850,  35.1850,2,-999.0000,9,     45.1,9,   -999.0,9,  -999.00,9,  -999.00,9,  -999.00,-999,  -999.00,9, -999.000,9,     -999,9,  -999.00,9,   -999.0,9,   -999.0,9,   -999.0,      9.0,9
  06M320150501,   528, 55,     22,   254244,20150524,1734, 11.2500, -22.0000, 4993,     10.0,  26.5360,  35.8790,2,-999.0000,9,    208.2,9,   -999.0,9,  -999.00,9,  -999.00,9,  -999.00,-999,  -999.00,9, -999.000,9,     -999,9,  -999.00,9,   -999.0,9,   -999.0,9,     98.5,      8.9,2
  06M320150501,   528, 55,     23,   254245,20150524,1734, 11.2500, -22.0000, 4993,      9.0,  26.5280,  35.8780,2,-999.0000,9,    208.6,9,   -999.0,9,  -999.00,9,  -999.00,9,  -999.00,-999,  -999.00,9, -999.000,9,     -999,9,  -999.00,9,   -999.0,9,   -999.0,9,   -999.0,      9.0,9
  06M320150501,   528, 55,     24,   254246,20150524,1734, 11.2500, -22.0000, 4993,      9.0,  26.5030,  35.8760,2,-999.0000,9,    208.7,9,   -999.0,9,  -999.00,9,  -999.00,9,  -999.00,-999,  -999.00,9, -999.000,9,     -999,9,  -999.00,9,   -999.0,9,   -999.0,9,   -999.0,      9.0,9
  06M320150501,   529, 56,      1,   254247,20150524,2235, 12.0000, -22.0000, 4919,   1202.0,   5.2210,  34.9190,2,  34.9160,2,    156.6,9,   -999.0,9,  -999.00,9,  -999.00,9,  -999.00,-999,  -999.00,9,    0.015,2,        0,2,     0.00,2,   -999.0,9,   -999.0,9,   -999.0,      9.0,9
  06M320150501,   529, 56,      2,   254248,20150524,2238, 12.0000, -22.0000, 4919,   1099.0,   5.4300,  34.8760,2,-999.0000,9,    140.2,9,   -999.0,9,  -999.00,9,  -999.00,9,  -999.00,-999,  -999.00,9,    0.010,2,        0,2,     0.00,2,   -999.0,9,   -999.0,9,   -999.0,      9.0,9
  06M320150501,   529, 56,      3,   254249,20150524,2240, 12.0000, -22.0000, 4919,    998.0,   5.7460,  34.8300,2,-999.0000,9,    121.8,2,    122.6,2,  -999.00,9,  -999.00,9,  -999.00,-999,  -999.00,9,    0.016,2,        0,2,     0.00,2,   -999.0,9,   -999.0,9,   -999.0,      9.0,9
  06M320150501,   529, 56,      4,   254250,20150524,2242, 12.0000, -22.0000, 4919,    900.0,   5.9650,  34.7920,2,  34.7890,2,    108.3,9,   -999.0,9,  -999.00,9,  -999.00,9,  -999.00,-999,  -999.00,9,    0.019,2,        0,2,     0.00,2,   -999.0,9,   -999.0,9,   -999.0,      9.0,9
  06M320150501,   529, 56,      5,   254251,20150524,2243, 12.0000, -22.0000, 4919,    800.0,   6.4710,  34.7970,2,-999.0000,9,     90.3,2,     89.9,2,  -999.00,9,  -999.00,9,  -999.00,-999,  -999.00,9, -999.000,9,     -999,9,  -999.00,9,   -999.0,9,   -999.0,9,   -999.0,      9.0,9
  06M320150501,   529, 56,      6,   254252,20150524,2247, 12.0000, -22.0000, 4919,    700.0,   7.2690,  34.8670,2,-999.0000,9,     74.5,9,   -999.0,9,  -999.00,9,  -999.00,9,  -999.00,-999,  -999.00,9,    0.080,2,        0,2,     0.00,2,   -999.0,9,   -999.0,9,   -999.0,      9.0,9
  06M320150501,   529, 56,      7,   254253,20150524,2249, 12.0000, -22.0000, 4919,    600.0,   8.1770,  34.9460,2,-999.0000,9,     57.8,2,     57.2,2,  -999.00,9,  -999.00,9,  -999.00,-999,  -999.00,9,    0.152,2,        0,2,     0.00,2,   -999.0,9,   -999.0,9,   -999.0,      9.0,9
  06M320150501,   529, 56,      8,   254254,20150524,2250, 12.0000, -22.0000, 4919,    536.0,   8.9250,  35.0180,2,-999.0000,9,     49.7,9,   -999.0,9,  -999.00,9,  -999.00,9,  -999.00,-999,  -999.00,9, -999.000,9,     -999,9,     0.02,2,   -999.0,9,   -999.0,9,   -999.0,      9.0,9
  06M320150501,   529, 56,      9,   254255,20150524,2251, 12.0000, -22.0000, 4919,    506.0,   9.3140,  35.0560,2,-999.0000,9,     45.9,9,   -999.0,9,  -999.00,9,  -999.00,9,  -999.00,-999,  -999.00,9,    0.272,6,      0.2,6,     0.26,6,   -999.0,9,   -999.0,9,   -999.0,      9.0,9
  06M320150501,   529, 56,     10,   254256,20150524,2251, 12.0000, -22.0000, 4919,    474.0,   9.7040,  35.1020,2,-999.0000,9,     43.2,9,   -999.0,9,  -999.00,9,  -999.00,9,  -999.00,-999,  -999.00,9, -999.000,9,     -999,9,     0.92,2,   -999.0,9,   -999.0,9,   -999.0,      9.0,9
  06M320150501,   529, 56,     11,   254257,20150524,2252, 12.0000, -22.0000, 4919,    447.0,  10.1180,  35.1480,2,-999.0000,9,     41.0,9,   -999.0,9,  -999.00,9,  -999.00,9,  -999.00,-999,  -999.00,9,    0.384,6,      0.3,6,     1.72,6,   -999.0,9,   -999.0,9,   -999.0,      9.0,9
  06M320150501,   529, 56,     12,   254258,20150524,2252, 12.0000, -22.0000, 4919,    416.0,  10.4390,  35.1760,2,-999.0000,9,     41.2,2,     41.4,6,  -999.00,9,  -999.00,9,  -999.00,-999,  -999.00,9,    0.451,2,     0.45,2,     1.71,2,   -999.0,9,   -999.0,9,   -999.0,      9.0,9
  06M320150501,   529, 56,     13,   254259,20150524,2253, 12.0000, -22.0000, 4919,    388.0,  10.6550,  35.1890,2,-999.0000,9,     41.2,9,   -999.0,9,  -999.00,9,  -999.00,9,  -999.00,-999,  -999.00,9, -999.000,9,     -999,9,     2.16,2,   -999.0,9,   -999.0,9,   -999.0,      9.0,9
  06M320150501,   529, 56,     14,   254260,20150524,2255, 12.0000, -22.0000, 4919,    355.0,  11.1470,  35.2440,2,-999.0000,9,     50.8,9,   -999.0,9,  -999.00,9,  -999.00,9,  -999.00,-999,  -999.00,9,    0.611,6,     0.47,6,     0.97,6,   -999.0,9,   -999.0,9,   -999.0,      9.0,9
  06M320150501,   529, 56,     15,   254261,20150524,2255, 12.0000, -22.0000, 4919,    324.0,  11.2910,  35.2420,2,-999.0000,9,     48.5,9,   -999.0,9,  -999.00,9,  -999.00,9,  -999.00,-999,  -999.00,9, -999.000,9,     -999,9,     0.47,2,   -999.0,9,   -999.0,9,   -999.0,      9.0,9
  06M320150501,   529, 56,     16,   254262,20150524,2256, 12.0000, -22.0000, 4919,    294.0,  11.4070,  35.2270,2,-999.0000,9,     48.6,9,   -999.0,9,  -999.00,9,  -999.00,9,  -999.00,-999,  -999.00,9,    0.699,6,     0.43,6,     0.65,6,   -999.0,9,   -999.0,9,   -999.0,      9.0,9
  06M320150501,   529, 56,     17,   254263,20150524,2256, 12.0000, -22.0000, 4919,    274.0,  11.5950,  35.2340,2,  35.2360,2,     53.2,9,   -999.0,9,  -999.00,9,  -999.00,9,  -999.00,-999,  -999.00,9, -999.000,9,     -999,9,     0.55,2,   -999.0,9,   -999.0,9,   -999.0,      9.0,9
  06M320150501,   529, 56,     18,   254264,20150524,2258, 12.0000, -22.0000, 4919,    150.0,  12.9000,  35.2940,2,-999.0000,9,     77.3,2,     81.0,2,  -999.00,9,  -999.00,9,  -999.00,-999,  -999.00,9,    1.021,2,      0.7,2,     0.00,2,   -999.0,9,   -999.0,9,   -999.0,      9.0,9
  06M320150501,   529, 56,     19,   254265,20150524,2259, 12.0000, -22.0000, 4919,    101.0,  13.7490,  35.3830,2,-999.0000,9,     74.2,9,   -999.0,9,  -999.00,9,  -999.00,9,  -999.00,-999,  -999.00,9,    1.061,2,     0.71,2,     0.00,2,   -999.0,9,   -999.0,9,   -999.0,      9.0,9
  06M320150501,   529, 56,     20,   254266,20150524,2301, 12.0000, -22.0000, 4919,     50.0,  15.8170,  35.5770,2,-999.0000,9,     61.5,9,   -999.0,9,  -999.00,9,  -999.00,9,  -999.00,-999,  -999.00,9,    1.107,2,     0.86,2,     0.00,2,   -999.0,9,   -999.0,9,   -999.0,      9.0,9
  06M320150501,   529, 56,     21,   254267,20150524,2302, 12.0000, -22.0000, 4919,     21.0,  21.4050,  35.7590,2,-999.0000,9,    202.0,2,    189.3,2,  -999.00,9,  -999.00,9,  -999.00,-999,  -999.00,9,    1.072,2,      1.4,2,     0.00,2,   -999.0,9,   -999.0,9,   -999.0,      9.0,9
  06M320150501,   529, 56,     22,   254268,20150524,2303, 12.0000, -22.0000, 4919,     11.0,  24.8600,  35.8940,2,-999.0000,9,    212.1,9,   -999.0,9,  -999.00,9,  -999.00,9,  -999.00,-999,  -999.00,9,    1.014,2,      1.7,2,     0.00,2,   -999.0,9,   -999.0,9,   -999.0,      9.0,9