BOTTLE,20180504PRINUNIVRMK
EXPOCODE,STNNBR,CASTNO,BTLNBR,BEDFORD,DATE,TIME,LATITUDE,LONGITUDE,DEPTH,CTDPRS,CTDTMP,CTDSAL,CTDSAL_FLAG_W,SALNTY,SALNTY_FLAG_W,CTDOXY,CTDOXY_FLAG_W,OXYGEN,OXYGEN_FLAG_W,SILCAT,SILCAT_FLAG_W,NITRAT,NITRAT_FLAG_W,NITRIT,NITRIT_FLAG_W,PHSPHT,PHSPHT_FLAG_W,CFC-12,CFC-12_FLAG_W,SF6,SF6_FLAG_W,SF5CF3,SF5CF3_FLAG_W,TCARBN,TCARBN_FLAG_W,ALKALI,ALKALI_FLAG_W,AR-39,AR-39ER,AR-39_FLAG_W
,,,,,,,,,METERS,DBAR,ITS-90,PSS-78,,PSS-78,,UMOL/KG,,UMOL/KG,,UMOL/KG,,UMOL/KG,,UMOL/KG,,UMOL/KG,,PMOL/KG,,FMOL/KG,,FMOL/KG,,UMOL/KG,,UMOL/KG,,%Modern,%Modern,
  06M320150501,   491, 18,      1,   253375,20150511,0241, 11.0000, -37.0000, 4924,   4480.0,   2.2600,  34.8720,2,-999.0000,9,    249.7,2,    249.6,2,    47.91,2,    22.01,2,     0.00,   2,     1.47,2,    0.041,2,        0,2,     0.00,2,   -999.0,9,   2346.3,6,   -999.0,      9.0,9
  06M320150501,   491, 18,      2,   253376,20150511,0243, 11.0000, -37.0000, 4924,   4376.0,   2.2890,  34.8760,2,-999.0000,9,    250.5,2,    250.8,2,    46.30,2,    21.81,2,     0.00,   2,     1.45,2,    0.072,2,        0,2,     0.00,2,   -999.0,9,   2342.3,2,   -999.0,      9.0,9
  06M320150501,   491, 18,      3,   253377,20150511,0248, 11.0000, -37.0000, 4924,   3997.0,   2.4170,  34.8910,2,-999.0000,9,    250.6,2,    250.1,2,    42.30,2,    21.51,2,     0.00,   2,     1.43,2,    0.024,2,        0,2,     0.00,2,   -999.0,9,   2341.3,2,   -999.0,      9.0,9
  06M320150501,   491, 18,      4,   253378,20150511,0255, 11.0000, -37.0000, 4924,   3498.0,   2.5410,  34.9040,2,-999.0000,9,    251.6,2,    251.2,6,    38.09,6,    21.07,6,     0.00,   6,     1.41,6,    0.023,2,        0,2,     0.00,2,   -999.0,9,   2337.2,2,   -999.0,      9.0,9
  06M320150501,   491, 18,      5,   253379,20150511,0303, 11.0000, -37.0000, 4924,   2999.0,   2.7370,  34.9210,2,-999.0000,9,    252.2,2,    252.6,2,    33.01,2,    20.57,2,     0.00,   2,     1.37,2,    0.028,2,        0,2,     0.00,2,   -999.0,9,   2331.9,2,   -999.0,      9.0,9
  06M320150501,   491, 18,      6,   253380,20150511,0310, 11.0000, -37.0000, 4924,   2499.0,   3.0820,  34.9430,2,-999.0000,9,    250.7,2,    250.9,2,    27.10,2,    20.18,2,     0.00,   2,     1.33,2,    0.033,2,        0,2,     0.00,2,   -999.0,9,   2328.5,2,   -999.0,      9.0,9
  06M320150501,   491, 18,      7,   253381,20150511,0317, 11.0000, -37.0000, 4924,   2000.0,   3.5710,  34.9660,2,-999.0000,9,    249.6,2,    250.2,2,    20.34,2,    19.73,2,     0.00,   2,     1.30,2,    0.123,2,     0.11,2,     0.00,2,   -999.0,9,   2313.8,2,   -999.0,      9.0,9
  06M320150501,   491, 18,      8,   253382,20150511,0321, 11.0000, -37.0000, 4924,   1749.0,   3.9300,  34.9750,2,-999.0000,9,    242.6,2,    243.8,2,    18.15,2,    20.13,2,     0.00,   2,     1.32,2,    0.157,2,     0.11,2,     0.00,2,   -999.0,9,   2314.0,2,   -999.0,      9.0,9
  06M320150501,   491, 18,      9,   253383,20150511,0324, 11.0000, -37.0000, 4924,   1500.0,   4.4170,  34.9800,2,-999.0000,9,    227.5,2,    227.3,2,    17.89,2,    21.45,2,     0.01,   2,     1.41,2,    0.220,2,     0.13,2,     0.00,2,   -999.0,9,   2318.3,6,   -999.0,      9.0,9
  06M320150501,   491, 18,     10,   253384,20150511,0328, 11.0000, -37.0000, 4924,   1250.0,   4.9300,  34.9290,2,-999.0000,9,    188.3,2,    187.1,2,    21.74,2,    25.75,2,     0.00,   2,     1.70,2,    0.086,2,     0.08,2,     0.00,2,   -999.0,9,   2317.4,2,   -999.0,      9.0,9
  06M320150501,   491, 18,     11,   253385,20150511,0331, 11.0000, -37.0000, 4924,    998.0,   5.3820,  34.7680,2,-999.0000,9,    138.7,2,    136.9,2,    26.37,2,    32.39,2,     0.00,   2,     2.12,2,    0.087,2,     0.12,2,     0.00,2,   -999.0,9,   2309.6,2,   -999.0,      9.0,9
  06M320150501,   491, 18,     12,   253386,20150511,0335, 11.0000, -37.0000, 4924,    750.0,   6.4900,  34.7570,2,-999.0000,9,    101.8,2,     99.0,2,    24.35,2,    35.52,2,     0.00,   2,     2.29,2,    0.075,2,        0,2,     0.00,2,   -999.0,9,   2303.1,2,   -999.0,      9.0,9
  06M320150501,   491, 18,     13,   253387,20150511,0339, 11.0000, -37.0000, 4924,    498.0,   9.1630,  35.0010,2,-999.0000,9,     70.9,2,     69.4,2,    16.61,2,    33.76,2,     0.00,   2,     2.07,2,    0.365,2,     0.24,2,     0.00,2,   -999.0,9,   2302.9,2,   -999.0,      9.0,9
  06M320150501,   491, 18,     14,   253388,20150511,0340, 11.0000, -37.0000, 4924,    413.0,   9.9160,  35.0620,2,-999.0000,9,     67.8,2,     66.3,2,    15.05,2,    33.03,2,     0.00,   2,     2.00,2, -999.000,9,     -999,9,     0.09,2,   2235.2,2,   2304.4,2,   -999.0,      9.0,9
  06M320150501,   491, 18,     15,   253389,20150511,0341, 11.0000, -37.0000, 4924,    376.0,  10.2000,  35.0730,2,-999.0000,9,     64.4,2,     68.0,6,    14.12,6,    32.20,6,     0.01,   6,     1.95,6,    0.577,6,     0.34,6,     0.20,6,   -999.0,9,   -999.0,9,   -999.0,      9.0,9
  06M320150501,   491, 18,     16,   253390,20150511,0341, 11.0000, -37.0000, 4924,    351.0,  10.3820,  35.0770,2,-999.0000,9,     65.8,2,     65.6,2,    13.56,2,    31.94,2,     0.00,   2,     1.93,2, -999.000,9,     -999,9,     0.39,2,   -999.0,9,   2328.9,3,   -999.0,      9.0,9
  06M320150501,   491, 18,     17,   253391,20150511,0342, 11.0000, -37.0000, 4924,    293.0,  10.6210,  35.0680,2,-999.0000,9,     77.6,2,     77.1,2,    13.11,2,    30.48,2,     0.01,   2,     1.86,2,    0.753,6,     0.39,6,     0.47,6,   -999.0,9,   -999.0,9,   -999.0,      9.0,9
  06M320150501,   491, 18,     18,   253392,20150511,0343, 11.0000, -37.0000, 4924,    243.0,  11.3030,  35.1480,2,-999.0000,9,     92.3,2,     94.7,2,    11.40,2,    27.53,2,     0.01,   2,     1.72,2,    0.944,6,     0.55,6,     0.30,6,   2212.6,2,   2309.3,2,   -999.0,      9.0,9
  06M320150501,   491, 18,     19,   253393,20150511,0343, 11.0000, -37.0000, 4924,    198.0,  11.9320,  35.2360,2,-999.0000,9,     96.0,2,     97.5,2,    10.14,2,    25.77,2,     0.01,   2,     1.59,2,    1.036,6,     0.54,6,     0.15,6,   -999.0,9,   2312.6,2,   -999.0,      9.0,9
  06M320150501,   491, 18,     20,   253394,20150511,0344, 11.0000, -37.0000, 4924,    148.0,  13.6370,  35.5040,2,-999.0000,9,     99.8,2,    102.0,6,     8.51,6,    23.16,6,     0.02,   6,     1.43,6,    1.108,2,     0.79,2,     0.00,2,   -999.0,9,   2322.9,2,   -999.0,      9.0,9
  06M320150501,   491, 18,     21,   253395,20150511,0345, 11.0000, -37.0000, 4924,     99.0,  17.8450,  36.1540,2,-999.0000,9,    117.2,2,    114.6,2,     4.40,2,    15.12,2,     0.05,   2,     0.89,2,    1.164,2,     0.99,2,     0.00,2,   -999.0,9,   2359.5,2,   -999.0,      9.0,9
  06M320150501,   491, 18,     22,   253396,20150511,0346, 11.0000, -37.0000, 4924,     51.0,  24.8760,  36.3480,2,-999.0000,9,    208.7,2,    209.8,2,     1.06,2,     0.09,2,     0.01,   2,     0.03,2,    1.042,2,     1.35,2,     0.00,2,   -999.0,9,   2376.6,2,   -999.0,      9.0,9
  06M320150501,   491, 18,     23,   253397,20150511,0347, 11.0000, -37.0000, 4924,     21.0,  24.9050,  36.3530,2,-999.0000,9,    211.8,2,    210.4,2,     1.03,2,     0.09,2,     0.01,   2,     0.02,2,    1.020,2,     1.36,2,     0.00,2,   -999.0,9,   2376.9,2,   -999.0,      9.0,9
  06M320150501,   491, 18,     24,   253398,20150511,0348, 11.0000, -37.0000, 4924,     10.0,  24.9050,  36.3530,2,-999.0000,9,    211.2,2,    210.6,2,     1.04,2,     0.07,2,     0.01,   2,     0.02,2,    1.010,2,     1.35,2,     0.00,2,   -999.0,9,   2378.5,2,   -999.0,      9.0,9
  06M320150501,   492, 19,      1,   253399,20150511,0948, 11.0000, -36.0000, 5005,   1208.0,   5.0590,  34.8920,2,-999.0000,9,    169.0,2,    168.2,2,    23.98,6,    28.14,6,     0.01,   6,     1.84,6,    0.040,2,        0,2,     0.00,2,   2202.6,6,   2315.2,6,   -999.0,      9.0,9
  06M320150501,   492, 19,      2,   253400,20150511,0950, 11.0000, -36.0000, 5005,   1099.0,   5.3500,  34.8350,2,-999.0000,9,    145.5,2,    145.0,2,    25.58,2,    30.86,2,     0.01,   2,     2.04,2,    0.020,2,        0,2,     0.00,2,   -999.0,9,   -999.0,9,   -999.0,      9.0,9
  06M320150501,   492, 19,      3,   253401,20150511,0952, 11.0000, -36.0000, 5005,    999.0,   5.5920,  34.7860,2,-999.0000,9,    127.3,2,    126.4,2,    26.64,2,    33.40,2,     0.01,   2,     2.18,2,    0.019,2,        0,2,     0.00,2,   2223.5,2,   2373.2,3,   -999.0,      9.0,9
  06M320150501,   492, 19,      4,   253402,20150511,0953, 11.0000, -36.0000, 5005,    899.0,   5.8940,  34.7560,2,-999.0000,9,    111.3,2,    110.9,2,    26.62,2,    35.03,2,     0.01,   2,     2.28,2,    0.023,2,        0,2,     0.00,2,   -999.0,9,   -999.0,9,   -999.0,      9.0,9
  06M320150501,   492, 19,      5,   253403,20150511,0955, 11.0000, -36.0000, 5005,    799.0,   6.4270,  34.7670,2,-999.0000,9,     98.2,2,     97.6,2,    24.98,2,    35.98,2,     0.01,   2,     2.30,2,    0.046,2,        0,2,     0.00,2,   2234.0,2,   2304.6,2,   -999.0,      9.0,9
  06M320150501,   492, 19,      6,   253404,20150511,0956, 11.0000, -36.0000, 5005,    699.0,   7.3290,  34.8530,2,-999.0000,9,     79.9,2,     78.0,2,    22.29,2,    35.89,2,     0.01,   2,     2.30,2,    0.100,2,        0,2,     0.00,2,   -999.0,9,   -999.0,9,   -999.0,      9.0,9
  06M320150501,   492, 19,      7,   253405,20150511,0958, 11.0000, -36.0000, 5005,    599.0,   8.1440,  34.9190,2,-999.0000,9,     68.0,2,     68.3,2,    20.23,2,    36.06,2,     0.01,   2,     2.23,2,    0.170,2,     0.14,2,     0.00,2,   2239.8,2,   2301.7,2,   -999.0,      9.0,9
  06M320150501,   492, 19,      8,   253406,20150511,1000, 11.0000, -36.0000, 5005,    500.0,   9.2860,  35.0300,2,-999.0000,9,     48.0,2,     48.9,6,    17.46,2,    36.01,2,     0.02,   2,     2.19,2,    0.299,6,     0.28,6,     0.66,6,   2246.1,2,   2305.1,2,   -999.0,      9.0,9
  06M320150501,   492, 19,      9,   253407,20150511,1000, 11.0000, -36.0000, 5005,    469.0,   9.5080,  35.0510,2,-999.0000,9,     46.6,2,     46.3,2,    16.87,2,    35.99,2,     0.01,   2,     2.17,2, -999.000,9,     -999,9,     1.11,2,   -999.0,9,   -999.0,9,   -999.0,      9.0,9
  06M320150501,   492, 19,     10,   253408,20150511,1001, 11.0000, -36.0000, 5005,    439.0,  10.0610,  35.1170,2,-999.0000,9,     46.0,2,     46.8,2,    14.96,6,    34.34,6,     0.02,   6,     2.05,6,    0.406,6,     0.35,6,     1.61,6,   -999.0,9,   -999.0,9,   -999.0,      9.0,9
  06M320150501,   492, 19,     11,   253409,20150511,1001, 11.0000, -36.0000, 5005,    408.0,  10.3150,  35.1280,2,-999.0000,9,     46.1,2,     45.2,2,    14.30,2,    33.38,2,     0.01,   2,     1.99,2, -999.000,9,     -999,9,     2.82,2,   2244.2,2,   2306.2,2,   -999.0,      9.0,9
  06M320150501,   492, 19,     12,   253410,20150511,1002, 11.0000, -36.0000, 5005,    379.0,  10.5030,  35.1370,2,-999.0000,9,     49.3,2,     50.9,2,    14.15,2,    33.32,2,     0.01,   2,     1.99,2,    0.564,6,     0.38,6,     1.41,6,   -999.0,9,   -999.0,9,   -999.0,      9.0,9
  06M320150501,   492, 19,     13,   253411,20150511,1003, 11.0000, -36.0000, 5005,    299.0,  11.1440,  35.1590,2,-999.0000,9,     57.4,2,     58.6,2,    13.13,2,    31.55,2,     0.01,   2,     1.90,2,    0.737,6,     0.46,6,     0.68,6,   -999.0,9,   -999.0,9,   -999.0,      9.0,9
  06M320150501,   492, 19,     14,   253412,20150511,1004, 11.0000, -36.0000, 5005,    249.0,  11.4700,  35.1400,2,-999.0000,9,     81.8,2,     82.5,2,    11.73,2,    28.21,2,     0.01,   2,     1.74,2,    0.925,6,     0.58,6,     0.40,6,   2216.2,6,   2308.6,6,   -999.0,      9.0,9
  06M320150501,   492, 19,     15,   253413,20150511,1004, 11.0000, -36.0000, 5005,    209.0,  12.0130,  35.1930,2,-999.0000,9,     87.1,2,     86.7,2,    10.70,2,    26.82,2,     0.02,   2,     1.66,2, -999.000,9,     -999,9,     0.23,2,   -999.0,9,   -999.0,9,   -999.0,      9.0,9
  06M320150501,   492, 19,     16,   253414,20150511,1004, 11.0000, -36.0000, 5005,    199.0,  12.2190,  35.2140,2,-999.0000,9,     86.1,2,     86.9,2,    10.45,2,    26.36,2,     0.01,   2,     1.64,2,    1.056,2,     0.58,2,     0.15,2,   2209.5,2,   2311.5,2,   -999.0,      9.0,9
  06M320150501,   492, 19,     17,   253415,20150511,1005, 11.0000, -36.0000, 5005,    149.0,  12.9090,  35.2870,2,-999.0000,9,     89.7,2,     89.9,2,     9.57,2,    25.13,2,     0.02,   2,     1.57,2,    1.129,2,     0.74,2,     0.00,2,   2203.9,2,   2315.6,2,   -999.0,      9.0,9
  06M320150501,   492, 19,     18,   253416,20150511,1006, 11.0000, -36.0000, 5005,    101.0,  13.9260,  35.4030,2,-999.0000,9,     79.0,2,     83.6,2,     8.68,6,    24.66,6,     0.03,   6,     1.53,6,    1.170,2,     0.71,2,     0.00,2,   2206.9,2,   2317.3,2,   -999.0,      9.0,9
  06M320150501,   492, 19,     19,   253417,20150511,1008, 11.0000, -36.0000, 5005,     51.0,  22.3990,  36.2790,2,-999.0000,9,    193.0,2,    196.5,2,     1.76,2,     1.05,2,     0.07,   2,     0.12,2,    1.105,2,     1.31,2,     0.00,2,   2080.7,2,   2309.8,2,   -999.0,      9.0,9
  06M320150501,   492, 19,     20,   253418,20150511,1009, 11.0000, -36.0000, 5005,     21.0,  25.1230,  36.3760,2,-999.0000,9,    207.8,2,    209.1,2,     1.36,2,     0.04,2,     0.01,   2,     0.03,2,    1.028,2,     1.32,2,     0.00,2,   2049.2,2,   2321.2,2,   -999.0,      9.0,9
  06M320150501,   492, 19,     21,   253419,20150511,1009, 11.0000, -36.0000, 5005,     11.0,  25.1570,  36.3820,2,-999.0000,9,    205.5,2,    208.6,2,     1.33,2,     0.00,2,     0.02,   2,     0.02,2,    1.043,2,      1.4,2,     0.00,2,   2048.7,2,   2376.5,2,   -999.0,      9.0,9