BOTTLE,20180504PRINUNIVRMK
EXPOCODE,STNNBR,CASTNO,BTLNBR,BEDFORD,DATE,TIME,LATITUDE,LONGITUDE,DEPTH,CTDPRS,CTDTMP,CTDSAL,CTDSAL_FLAG_W,SALNTY,SALNTY_FLAG_W,CTDOXY,CTDOXY_FLAG_W,OXYGEN,OXYGEN_FLAG_W,SILCAT,SILCAT_FLAG_W,NITRAT,NITRAT_FLAG_W,NITRIT,NITRIT_FLAG_W,PHSPHT,PHSPHT_FLAG_W,CFC-12,CFC-12_FLAG_W,SF6,SF6_FLAG_W,SF5CF3,SF5CF3_FLAG_W,TCARBN,TCARBN_FLAG_W,ALKALI,ALKALI_FLAG_W,AR-39,AR-39ER,AR-39_FLAG_W
,,,,,,,,,METERS,DBAR,ITS-90,PSS-78,,PSS-78,,UMOL/KG,,UMOL/KG,,UMOL/KG,,UMOL/KG,,UMOL/KG,,UMOL/KG,,PMOL/KG,,FMOL/KG,,FMOL/KG,,UMOL/KG,,UMOL/KG,,%Modern,%Modern,
  06M320150501,   493, 20,      1,   253420,20150512,0614,  7.5000, -35.0000, 3920,   3910.0,   2.2090,  34.8720,2,-999.0000,9,    254.3,2,    253.8,2,    44.99,2,    21.27,2,     0.02,   2,     1.44,2,    0.130,2,     0.14,2,     0.00,2,   2185.6,2,   2337.2,2,   -999.0,      9.0,9
  06M320150501,   493, 20,      2,   253421,20150512,0616,  7.5000, -35.0000, 3920,   3806.0,   2.3070,  34.8820,2,-999.0000,9,    254.9,2,    254.8,2,    41.59,2,    20.80,2,     0.00,   2,     1.40,2,    0.125,2,      0.1,2,     0.00,2,   2182.2,6,   2333.1,6,   -999.0,      9.0,9
  06M320150501,   493, 20,      3,   253422,20150512,0622,  7.5000, -35.0000, 3920,   3499.0,   2.4690,  34.8980,2,-999.0000,9,    256.4,2,    255.7,6,    36.32,6,    20.26,6,     0.00,   6,     1.37,6,    0.111,2,     0.16,2,     0.00,2,   2179.3,2,   2337.4,2,   -999.0,      9.0,9
  06M320150501,   493, 20,      4,   253423,20150512,0631,  7.5000, -35.0000, 3920,   3000.0,   2.7510,  34.9200,2,-999.0000,9,    255.2,2,    254.6,2,    30.80,2,    19.93,2,     0.00,   2,     1.33,2,    0.080,2,        0,2,     0.00,2,   2171.4,2,   2326.2,2,   -999.0,      9.0,9
  06M320150501,   493, 20,      5,   253424,20150512,0641,  7.5000, -35.0000, 3920,   2499.0,   3.0190,  34.9370,2,-999.0000,9,    253.7,9,   -999.0,9,    26.75,2,    19.67,2,     0.00,   2,     1.32,2,    0.083,2,        0,2,     0.00,2,   2167.3,2,   2322.6,2,   -999.0,      9.0,9
  06M320150501,   493, 20,      6,   253425,20150512,0655,  7.5000, -35.0000, 3920,   1999.0,   3.5810,  34.9640,2,-999.0000,9,    252.5,2,    252.9,2,    20.24,2,    19.24,2,     0.00,   2,     1.27,2,    0.213,2,     0.15,2,     0.00,2,   2162.7,2,   2311.7,2,   -999.0,      9.0,9
  06M320150501,   493, 20,      7,   253426,20150512,0659,  7.5000, -35.0000, 3920,   1748.0,   3.9300,  34.9750,2,-999.0000,9,    247.7,2,    248.4,2,    17.09,2,    19.35,2,     0.00,   2,     1.27,2,    0.306,2,     0.16,2,     0.00,2,   2161.8,2,   2314.1,2,   -999.0,      9.0,9
  06M320150501,   493, 20,      8,   253427,20150512,0703,  7.5000, -35.0000, 3920,   1500.0,   4.4330,  34.9850,2,-999.0000,9,    233.2,2,    235.0,2,    16.82,2,    20.41,2,     0.00,   2,     1.34,2,    0.374,2,     0.21,2,     0.00,2,   2169.1,2,   2314.9,2,   -999.0,      9.0,9
  06M320150501,   493, 20,      9,   253428,20150512,0708,  7.5000, -35.0000, 3920,   1249.0,   4.8690,  34.9270,2,-999.0000,9,    195.9,2,    198.2,2,    20.64,2,    24.65,2,     0.00,   2,     1.62,2,    0.183,2,     0.12,2,     0.00,2,   2186.7,2,   2315.7,2,   -999.0,      9.0,9
  06M320150501,   493, 20,     10,   253429,20150512,0712,  7.5000, -35.0000, 3920,    999.0,   5.0960,  34.7280,2,-999.0000,9,    146.0,2,    144.9,2,    27.17,2,    32.10,2,     0.00,   2,     2.14,2,    0.104,2,        0,2,     0.00,2,   2216.7,2,   2309.4,2,   -999.0,      9.0,9
  06M320150501,   493, 20,     11,   253430,20150512,0716,  7.5000, -35.0000, 3920,    749.0,   5.6010,  34.6060,2,-999.0000,9,    124.0,2,    123.2,2,    27.14,2,    35.25,2,     0.00,   2,     2.30,2,    0.103,2,        0,2,     0.00,2,   2224.8,2,   2301.7,2,   -999.0,      9.0,9
  06M320150501,   493, 20,     12,   253431,20150512,0720,  7.5000, -35.0000, 3920,    499.0,   7.6700,  34.7560,2,-999.0000,9,     93.4,2,     94.6,2,    19.98,2,    34.72,2,     0.00,   2,     2.21,2,    0.323,2,     0.18,2,     0.00,2,   2226.0,2,   2294.4,2,   -999.0,      9.0,9
  06M320150501,   493, 20,     13,   253432,20150512,0721,  7.5000, -35.0000, 3920,    448.0,   8.1400,  34.7950,2,-999.0000,9,     87.8,2,     87.7,2,    18.65,2,    34.70,2,     0.00,   2,     2.15,2,    0.378,6,     0.18,6,     0.01,6,   2228.2,2,   2288.3,2,   -999.0,      9.0,9
  06M320150501,   493, 20,     14,   253433,20150512,0722,  7.5000, -35.0000, 3920,    389.0,   8.8650,  34.8630,2,-999.0000,9,     80.9,2,     80.5,2,    17.00,2,    34.00,2,     0.01,   2,     2.11,2,    0.452,6,     0.24,6,     0.19,6,   2228.8,2,   2296.1,2,   -999.0,      9.0,9
  06M320150501,   493, 20,     15,   253434,20150512,0722,  7.5000, -35.0000, 3920,    360.0,   9.1580,  34.8800,2,-999.0000,9,     85.5,2,     86.4,6,    16.53,6,    32.96,6,     0.01,   6,     2.03,6,    0.559,6,      0.3,6,     0.21,6,   -999.0,9,   -999.0,9,   -999.0,      9.0,9
  06M320150501,   493, 20,     16,   253435,20150512,0723,  7.5000, -35.0000, 3920,    328.0,   9.5900,  34.9140,2,-999.0000,9,     92.5,2,     86.4,2,    14.79,2,    30.17,2,     0.01,   2,     1.93,2,    0.716,6,     0.42,6,     0.20,6,   2216.2,6,   2299.0,6,   -999.0,      9.0,9
  06M320150501,   493, 20,     17,   253436,20150512,0724,  7.5000, -35.0000, 3920,    269.0,   9.9690,  34.9220,2,-999.0000,9,    128.5,2,    129.0,2,    12.93,2,    26.43,2,     0.01,   2,     1.69,2,    0.987,6,     0.43,6,     0.08,6,   -999.0,9,   -999.0,9,   -999.0,      9.0,9
  06M320150501,   493, 20,     18,   253437,20150512,0725,  7.5000, -35.0000, 3920,    218.0,  11.5810,  35.1480,2,-999.0000,9,    135.6,2,    137.5,2,    10.47,2,    22.34,2,     0.01,   2,     1.45,2,    1.150,6,     0.73,6,     0.05,6,   2180.4,2,   2306.3,2,   -999.0,      9.0,9
  06M320150501,   493, 20,     19,   253438,20150512,0725,  7.5000, -35.0000, 3920,    199.0,  11.7870,  35.1540,2,-999.0000,9,    119.2,2,    127.1,6,    10.06,2,    22.86,2,     0.01,   2,     1.47,2,    1.165,6,     0.74,6,     0.05,6,   2185.6,2,   2309.1,2,   -999.0,      9.0,9
  06M320150501,   493, 20,     20,   253439,20150512,0726,  7.5000, -35.0000, 3920,    149.0,  13.7330,  35.3820,2,-999.0000,9,    105.0,2,    107.2,2,     8.20,6,    21.95,6,     0.02,   6,     1.36,6,    1.197,2,     0.75,2,     0.00,2,   2189.3,2,   2316.6,2,   -999.0,      9.0,9
  06M320150501,   493, 20,     21,   253440,20150512,0727,  7.5000, -35.0000, 3920,    100.0,  14.6840,  35.4810,2,-999.0000,9,     81.9,2,    199.1,3,     7.83,2,    23.66,2,     0.02,   2,     1.46,2,    1.196,2,     0.82,2,     0.00,2,   2206.2,2,   2322.0,2,   -999.0,      9.0,9
  06M320150501,   493, 20,     22,   253441,20150512,0728,  7.5000, -35.0000, 3920,     50.0,  24.5560,  36.2150,2,-999.0000,9,    200.0,2,    199.1,2,     1.83,2,     1.01,2,     0.05,   2,     0.10,2,    1.017,2,     1.25,2,     0.00,2,   2054.3,2,   2365.3,2,   -999.0,      9.0,9
  06M320150501,   493, 20,     23,   253442,20150512,0729,  7.5000, -35.0000, 3920,     20.0,  26.4170,  36.3420,2,-999.0000,9,    207.2,2,    204.8,2,     1.40,2,     0.13,2,     0.00,   2,     0.02,2,    0.946,2,      1.2,2,     0.00,2,   2034.6,2,   2373.7,2,   -999.0,      9.0,9
  06M320150501,   493, 20,     24,   253443,20150512,0730,  7.5000, -35.0000, 3920,     10.0,  26.4150,  36.3430,2,-999.0000,9,    208.7,2,    205.2,2,     1.39,2,     0.05,2,     0.00,   2,     0.01,2,    0.958,2,     1.25,2,     0.00,2,   2032.8,2,   2373.4,2,   -999.0,      9.0,9
  06M320150501,   494, 21,      1,   253444,20150512,1633,  9.0000, -35.0000, 4260,   1204.0,   4.9390,  34.8540,2,-999.0000,9,    169.6,2,    169.1,2,    24.48,2,    28.55,2,     0.01,   2,     1.88,2,    0.060,2,     0.11,2,     0.00,2,   2205.9,6,   2317.0,6,   -999.0,      9.0,9
  06M320150501,   494, 21,      2,   253445,20150512,1635,  9.0000, -35.0000, 4260,   1101.0,   4.9870,  34.7770,2,-999.0000,9,    155.7,2,    155.4,2,    26.45,2,    31.27,2,     0.00,   2,     2.03,2,    0.047,2,     0.11,2,     0.00,2,   -999.0,9,   -999.0,9,   -999.0,      9.0,9
  06M320150501,   494, 21,      3,   253446,20150512,1637,  9.0000, -35.0000, 4260,    999.0,   5.0640,  34.7040,2,-999.0000,9,    142.6,2,    142.8,2,    28.21,6,    32.80,6,     0.00,   6,     2.16,6,    0.035,2,     0.14,2,     0.00,2,   2220.8,2,   2310.7,2,   -999.0,      9.0,9
  06M320150501,   494, 21,      4,   253447,20150512,1638,  9.0000, -35.0000, 4260,    900.0,   5.3110,  34.6630,2,-999.0000,9,    130.5,2,    129.7,6,    28.27,2,    34.63,2,     0.00,   2,     2.24,2,    0.045,2,     0.14,2,     0.00,2,   -999.0,9,   -999.0,9,   -999.0,      9.0,9
  06M320150501,   494, 21,      5,   253448,20150512,1640,  9.0000, -35.0000, 4260,    799.0,   5.6600,  34.6580,2,-999.0000,9,    121.3,2,    120.9,2,    27.16,2,    35.05,2,     0.00,   2,     2.27,2, -999.000,9,     -999,9,  -999.00,9,   2228.2,2,   2302.9,2,   -999.0,      9.0,9
  06M320150501,   494, 21,      6,   253449,20150512,1644,  9.0000, -35.0000, 4260,    700.0,   6.3240,  34.6960,2,-999.0000,9,    108.6,2,    108.5,2,    24.86,2,    35.11,2,     0.00,   2,     2.25,2,    0.144,2,      0.1,2,     0.00,2,   -999.0,9,   -999.0,9,   -999.0,      9.0,9
  06M320150501,   494, 21,      7,   253450,20150512,1645,  9.0000, -35.0000, 4260,    600.0,   7.4350,  34.7990,2,-999.0000,9,     89.9,2,     91.5,2,    21.77,2,    35.53,2,     0.00,   2,     2.23,2,    0.196,2,     0.16,2,     0.00,2,   2232.6,2,   2298.9,2,   -999.0,      9.0,9
  06M320150501,   494, 21,      8,   253451,20150512,1647,  9.0000, -35.0000, 4260,    510.0,   8.4540,  34.8940,2,-999.0000,9,     69.7,2,     71.4,6,    18.79,2,    35.51,2,     0.00,   2,     2.18,2,    0.283,6,      0.2,6,     0.00,6,   2239.3,2,   2303.4,2,   -999.0,      9.0,9
  06M320150501,   494, 21,      9,   253452,20150512,1647,  9.0000, -35.0000, 4260,    480.0,   8.6840,  34.9100,2,-999.0000,9,     69.4,2,     80.2,3,    18.10,2,    35.16,2,     0.00,   2,     2.12,2,    0.337,6,     0.24,6,     0.00,6,   -999.0,9,   -999.0,9,   -999.0,      9.0,9
  06M320150501,   494, 21,     10,   253453,20150512,1647,  9.0000, -35.0000, 4260,    449.0,   8.6870,  34.8700,2,-999.0000,9,     83.1,2,     83.5,2,    17.46,2,    33.88,2,     0.00,   2,     2.08,2,    0.447,2,     0.23,2,     0.00,2,   2230.9,2,   2299.6,2,   -999.0,      9.0,9
  06M320150501,   494, 21,     11,   253454,20150512,1648,  9.0000, -35.0000, 4260,    419.0,   8.7260,  34.8410,2,-999.0000,9,     90.2,2,     88.2,2,    17.34,2,    33.12,2,     0.00,   2,     2.02,2,    0.525,6,     0.23,6,     0.04,6,   -999.0,9,   -999.0,9,   -999.0,      9.0,9
  06M320150501,   494, 21,     12,   253455,20150512,1648,  9.0000, -35.0000, 4260,    390.0,   8.8780,  34.8520,2,-999.0000,9,     91.6,2,     91.2,2,    16.70,6,    32.57,6,     0.00,   6,     2.00,6,    0.574,6,     0.31,6,     0.05,6,   2223.7,2,   2299.4,2,   -999.0,      9.0,9
  06M320150501,   494, 21,     13,   253456,20150512,1649,  9.0000, -35.0000, 4260,    359.0,   9.4180,  34.9270,2,-999.0000,9,     83.8,2,     87.1,2,    15.57,2,    31.65,2,     0.00,   2,     1.98,2,    0.623,6,     0.33,6,     0.14,6,   -999.0,9,   -999.0,9,   -999.0,      9.0,9
  06M320150501,   494, 21,     14,   253457,20150512,1649,  9.0000, -35.0000, 4260,    330.0,   9.5020,  34.9130,2,-999.0000,9,     91.9,2,    102.2,3,    15.00,2,    31.06,2,     0.00,   2,     1.92,2,    0.707,6,     0.39,6,     0.20,6,   2219.5,2,   2300.2,2,   -999.0,      9.0,9
  06M320150501,   494, 21,     15,   253458,20150512,1650,  9.0000, -35.0000, 4260,    300.0,   9.9210,  34.9680,2,-999.0000,9,     89.5,2,     90.8,2,    14.39,2,    30.74,2,     0.00,   2,     1.89,2,    0.742,6,     0.45,6,     0.25,6,   -999.0,9,   -999.0,9,   -999.0,      9.0,9
  06M320150501,   494, 21,     16,   253459,20150512,1650,  9.0000, -35.0000, 4260,    269.0,   9.9860,  34.9530,2,-999.0000,9,    104.0,2,     92.4,3,    13.72,2,    29.08,2,     0.00,   2,     1.81,2,    0.851,6,     0.51,6,     0.26,6,   -999.0,9,   -999.0,9,   -999.0,      9.0,9
  06M320150501,   494, 21,     17,   253460,20150512,1651,  9.0000, -35.0000, 4260,    240.0,  10.4380,  35.0060,2,-999.0000,9,    105.3,2,    106.6,2,    12.72,2,    27.63,2,     0.00,   2,     1.75,2,    0.938,6,      0.5,6,     0.23,6,   2206.6,2,   2303.3,2,   -999.0,      9.0,9
  06M320150501,   494, 21,     18,   253461,20150512,1652,  9.0000, -35.0000, 4260,    149.0,  12.0080,  35.1940,2,-999.0000,9,    131.1,2,    130.5,2,    10.31,2,    22.68,2,     0.01,   2,     1.46,2,    1.141,2,     0.72,2,     0.00,2,   2185.9,2,   2312.5,2,   -999.0,      9.0,9
  06M320150501,   494, 21,     19,   253462,20150512,1653,  9.0000, -35.0000, 4260,    100.0,  16.8130,  35.7260,2,-999.0000,9,    123.2,2,    122.5,2,     6.52,2,    16.96,2,     0.05,   2,     1.07,2,    1.165,2,     0.94,2,     0.00,2,   2172.1,2,   2338.0,2,   -999.0,      9.0,9
  06M320150501,   494, 21,     20,   253463,20150512,1654,  9.0000, -35.0000, 4260,     49.0,  26.0670,  36.3320,2,-999.0000,9,    204.0,2,    205.4,2,     1.61,2,     0.19,2,     0.01,   2,     0.04,2,    0.993,2,     1.31,2,     0.00,2,   2042.6,2,   2371.1,2,   -999.0,      9.0,9
  06M320150501,   494, 21,     21,   253464,20150512,1654,  9.0000, -35.0000, 4260,     21.0,  26.0820,  36.3310,2,-999.0000,9,    206.1,2,    206.7,2,     1.56,2,     0.22,2,     0.00,   2,     0.03,2,    0.996,2,      1.5,2,     0.00,2,   2039.6,2,   2373.6,2,   -999.0,      9.0,9
  06M320150501,   494, 21,     22,   253465,20150512,1654,  9.0000, -35.0000, 4260,     11.0,  26.1510,  36.3300,2,-999.0000,9,    205.2,2,    207.0,6,     1.50,6,     0.18,6,     0.00,   6,     0.03,6,    0.997,2,     1.25,2,     0.00,2,   2037.9,2,   2375.4,2,   -999.0,      9.0,9
  06M320150501,   495, 22,      1,   253466,20150512,2313, 10.0000, -35.0000, 4913,   1202.0,   4.9410,  34.8730,2,-999.0000,9,    173.4,2,    172.1,2,    25.39,2,    30.29,2,     0.01,   2,     1.96,2,    0.058,2,     0.11,2,     0.00,2,   2201.4,6,   2313.9,6,   -999.0,      9.0,9
  06M320150501,   495, 22,      2,   253467,20150512,2315, 10.0000, -35.0000, 4913,   1099.0,   5.0580,  34.8300,2,-999.0000,9,    158.7,2,    158.4,2,    23.77,2,    28.27,2,     0.01,   2,     1.83,2,    0.032,2,        0,2,     0.00,2,   -999.0,9,   -999.0,9,   -999.0,      9.0,9
  06M320150501,   495, 22,      3,   253468,20150512,2317, 10.0000, -35.0000, 4913,    998.0,   5.1460,  34.7560,2,-999.0000,9,    144.9,2,    145.3,2,    27.06,6,    32.39,6,     0.01,   6,     2.13,6,    0.033,2,        0,2,     0.00,2,   2216.4,2,   2311.0,2,   -999.0,      9.0,9
  06M320150501,   495, 22,      4,   253469,20150512,2318, 10.0000, -35.0000, 4913,    899.0,   5.4950,  34.7050,2,-999.0000,9,    125.8,2,    125.0,2,    27.34,2,    35.04,2,     0.00,   2,     2.29,2,    0.032,2,        0,2,     0.00,2,   -999.0,9,   -999.0,9,   -999.0,      9.0,9
  06M320150501,   495, 22,      5,   253470,20150512,2320, 10.0000, -35.0000, 4913,    799.0,   5.9760,  34.7010,2,-999.0000,9,    110.0,2,    109.5,2,    26.23,2,    36.26,2,     0.00,   2,     2.33,2,    0.058,2,        0,2,     0.00,2,   2230.0,2,   2300.9,2,   -999.0,      9.0,9
  06M320150501,   495, 22,      6,   253471,20150512,2322, 10.0000, -35.0000, 4913,    699.0,   6.5500,  34.7320,2,-999.0000,9,     98.7,2,     98.7,2,    24.36,2,    36.83,2,     0.00,   2,     2.32,2,    0.096,2,        0,2,     0.00,2,   -999.0,9,   -999.0,9,   -999.0,      9.0,9
  06M320150501,   495, 22,      7,   253472,20150512,2323, 10.0000, -35.0000, 4913,    598.0,   7.8340,  34.8550,2,-999.0000,9,     75.3,2,     75.8,2,    20.77,2,    36.70,2,     0.00,   2,     2.27,2,    0.182,6,     0.14,6,     0.00,6,   2237.2,2,   2301.5,2,   -999.0,      9.0,9
  06M320150501,   495, 22,      8,   253473,20150512,2324, 10.0000, -35.0000, 4913,    532.0,   8.5680,  34.9220,2,-999.0000,9,     67.0,2,     67.2,2,    18.63,2,    36.29,2,     0.00,   2,     2.22,2,    0.264,6,     0.17,6,     0.00,6,   2238.1,2,   2302.4,2,   -999.0,      9.0,9
  06M320150501,   495, 22,      9,   253474,20150512,2325, 10.0000, -35.0000, 4913,    504.0,   8.9710,  34.9680,2,-999.0000,9,     64.9,2,     66.5,2,    17.60,2,    35.57,2,     0.00,   2,     2.17,2,    0.324,6,      0.3,6,     0.01,6,   -999.0,9,   -999.0,9,   -999.0,      9.0,9
  06M320150501,   495, 22,     10,   253475,20150512,2325, 10.0000, -35.0000, 4913,    474.0,   9.3050,  34.9960,2,-999.0000,9,     63.3,2,     67.0,6,    16.72,2,    35.23,2,     0.01,   2,     2.11,2,    0.399,6,     0.27,6,     0.07,6,   2237.4,2,   2303.0,2,   -999.0,      9.0,9
  06M320150501,   495, 22,     11,   253476,20150512,2326, 10.0000, -35.0000, 4913,    444.0,   9.5560,  35.0110,2,-999.0000,9,     64.3,2,     67.5,2,    16.01,2,    34.50,2,     0.01,   2,     2.07,2,    0.457,6,     0.29,6,     0.11,6,   -999.0,9,   -999.0,9,   -999.0,      9.0,9
  06M320150501,   495, 22,     12,   253477,20150512,2326, 10.0000, -35.0000, 4913,    413.0,   9.8900,  35.0260,2,-999.0000,9,     64.8,2,     66.0,2,    15.07,6,    33.81,6,     0.00,   6,     2.03,6,    0.548,6,      0.3,6,     0.26,6,   2232.6,6,   2303.7,6,   -999.0,      9.0,9
  06M320150501,   495, 22,     13,   253478,20150512,2327, 10.0000, -35.0000, 4913,    383.0,  10.0570,  35.0260,2,-999.0000,9,     71.9,2,     72.5,2,    14.46,2,    32.61,2,     0.01,   2,     1.98,2,    0.620,6,     0.33,6,     0.19,6,   -999.0,9,   -999.0,9,   -999.0,      9.0,9
  06M320150501,   495, 22,     14,   253479,20150512,2327, 10.0000, -35.0000, 4913,    355.0,  10.2330,  35.0360,2,-999.0000,9,     73.2,2,     75.0,2,    14.13,2,    32.14,2,     0.01,   2,     1.94,2,    0.676,6,     0.36,6,     0.30,6,   2226.3,2,   2304.0,2,   -999.0,      9.0,9
  06M320150501,   495, 22,     15,   253480,20150512,2328, 10.0000, -35.0000, 4913,    324.0,  10.4780,  35.0530,2,-999.0000,9,     75.7,2,     73.9,2,    13.43,2,    31.55,2,     0.01,   2,     1.91,2,    0.721,6,     0.42,6,     0.41,6,   -999.0,9,   -999.0,9,   -999.0,      9.0,9
  06M320150501,   495, 22,     16,   253481,20150512,2328, 10.0000, -35.0000, 4913,    293.0,  10.7510,  35.0860,2,-999.0000,9,     73.4,2,     79.8,3,    13.12,2,    30.88,2,     0.01,   2,     1.88,2,    0.777,2,     0.41,2,     0.38,2,   -999.0,9,   -999.0,9,   -999.0,      9.0,9
  06M320150501,   495, 22,     17,   253482,20150512,2330, 10.0000, -35.0000, 4913,    199.0,  11.6780,  35.1590,2,-999.0000,9,    102.4,2,    102.4,2,    11.24,2,    26.25,2,     0.01,   2,     1.65,2,    1.048,2,     0.59,2,     0.27,2,   2202.9,2,   2311.2,2,   -999.0,      9.0,9
  06M320150501,   495, 22,     18,   253483,20150512,2331, 10.0000, -35.0000, 4913,    146.0,  13.4810,  35.4010,2,-999.0000,9,    101.6,2,     93.9,3,     8.71,2,    23.08,2,     0.02,   2,     1.44,2,    1.163,2,      0.7,2,     0.00,2,   2196.1,2,   2320.2,2,   -999.0,      9.0,9
  06M320150501,   495, 22,     19,   253484,20150512,2331, 10.0000, -35.0000, 4913,    100.0,  16.7190,  35.8430,2,-999.0000,9,    106.6,2,    106.2,2,     6.12,2,    18.44,2,     0.04,   2,     1.10,2,    1.169,2,     0.97,2,     0.00,2,   2187.2,2,   2337.1,2,   -999.0,      9.0,9
  06M320150501,   495, 22,     20,   253485,20150512,2333, 10.0000, -35.0000, 4913,     54.0,  23.2000,  36.1740,2,-999.0000,9,    183.2,3,    188.8,2,     1.92,2,     1.64,2,     0.16,   2,     0.17,2,    1.071,2,     1.36,2,     0.00,2,   2076.2,2,   2364.8,2,   -999.0,      9.0,9
  06M320150501,   495, 22,     21,   253486,20150512,2334, 10.0000, -35.0000, 4913,     22.0,  26.0620,  36.3500,2,-999.0000,9,    204.8,2,    206.2,2,     1.35,2,     0.05,2,     0.00,   2,     0.03,2,    1.000,2,     1.35,2,     0.00,2,   2040.5,2,   2375.8,2,   -999.0,      9.0,9
  06M320150501,   495, 22,     22,   253487,20150512,2335, 10.0000, -35.0000, 4913,     10.0,  26.0650,  36.3500,2,-999.0000,9,    206.5,2,    205.9,2,     1.32,2,     0.02,2,     0.00,   2,     0.03,2,    0.987,2,     1.46,2,     0.00,2,   2041.4,2,   2376.1,2,   -999.0,      9.0,9