BOTTLE,20180504PRINUNIVRMK
EXPOCODE,STNNBR,CASTNO,BTLNBR,BEDFORD,DATE,TIME,LATITUDE,LONGITUDE,DEPTH,CTDPRS,CTDTMP,CTDSAL,CTDSAL_FLAG_W,SALNTY,SALNTY_FLAG_W,CTDOXY,CTDOXY_FLAG_W,OXYGEN,OXYGEN_FLAG_W,SILCAT,SILCAT_FLAG_W,NITRAT,NITRAT_FLAG_W,NITRIT,NITRIT_FLAG_W,PHSPHT,PHSPHT_FLAG_W,CFC-12,CFC-12_FLAG_W,SF6,SF6_FLAG_W,SF5CF3,SF5CF3_FLAG_W,TCARBN,TCARBN_FLAG_W,ALKALI,ALKALI_FLAG_W,AR-39,AR-39ER,AR-39_FLAG_W
,,,,,,,,,METERS,DBAR,ITS-90,PSS-78,,PSS-78,,UMOL/KG,,UMOL/KG,,UMOL/KG,,UMOL/KG,,UMOL/KG,,UMOL/KG,,PMOL/KG,,FMOL/KG,,FMOL/KG,,UMOL/KG,,UMOL/KG,,%Modern,%Modern,
  06M320150501,   533, 60,      1,   254337,20150526,0004,  9.0000, -21.0000, 3460,   1202.0,   4.7480,  34.8600,2,  34.8580,2,    170.2,2,    242.7,2,    24.37,2,    27.56,2,     0.00,   2,     1.89,2,    0.018,2,        0,2,     0.00,2,   2208.4,6,   2321.7,6,   -999.0,      9.0,9
  06M320150501,   533, 60,      2,   254338,20150526,0008,  9.0000, -21.0000, 3460,   1099.0,   4.9790,  34.8190,2,-999.0000,9,    151.9,2,    151.9,2,    25.46,2,    30.22,2,     0.00,   2,     2.03,2,    0.012,2,        0,2,     0.00,2,   -999.0,9,   -999.0,9,   -999.0,      9.0,9
  06M320150501,   533, 60,      3,   254339,20150526,0009,  9.0000, -21.0000, 3460,    999.0,   5.2330,  34.7540,2,-999.0000,9,    132.4,2,    132.5,2,    26.79,2,    33.14,2,     0.00,   2,     2.19,2,    0.011,2,        0,2,     0.00,2,   2225.4,2,   2314.9,2,   -999.0,      9.0,9
  06M320150501,   533, 60,      4,   254340,20150526,0011,  9.0000, -21.0000, 3460,    899.0,   5.5390,  34.7280,2,-999.0000,9,    118.2,2,    117.6,2,    26.55,2,    34.99,2,     0.00,   2,     2.29,2,    0.018,2,        0,2,     0.00,2,   -999.0,9,   -999.0,9,   -999.0,      9.0,9
  06M320150501,   533, 60,      5,   254341,20150526,0013,  9.0000, -21.0000, 3460,    799.0,   6.0870,  34.7200,2,  34.7240,2,     98.8,2,     97.9,2,    25.32,2,    36.94,2,     0.00,   2,     2.36,2,    0.039,2,        0,2,     0.00,2,   2239.6,2,   2306.1,2,   -999.0,      9.0,9
  06M320150501,   533, 60,      6,   254342,20150526,0017,  9.0000, -21.0000, 3460,    698.0,   6.7320,  34.7620,2,-999.0000,9,     83.0,2,     82.6,2,    23.52,2,    37.94,2,     0.00,   2,     2.39,2,    0.074,2,        0,2,     0.00,2,   -999.0,9,   -999.0,9,   -999.0,      9.0,9
  06M320150501,   533, 60,      7,   254343,20150526,0018,  9.0000, -21.0000, 3460,    599.0,   7.4660,  34.8060,2,-999.0000,9,     69.4,2,     69.1,2,    21.12,2,    38.28,2,     0.00,   2,     2.36,2,    0.133,2,        0,2,     0.00,2,   2247.1,2,   2305.5,2,   -999.0,      9.0,9
  06M320150501,   533, 60,      8,   254344,20150526,0020,  9.0000, -21.0000, 3460,    494.0,   8.3900,  34.8640,2,-999.0000,9,     63.8,2,     65.5,2,    18.59,2,    37.10,2,     0.00,   2,     2.25,2,    0.255,6,     0.27,6,     0.22,6,   2243.6,2,   2301.2,2,   -999.0,      9.0,9
  06M320150501,   533, 60,      9,   254345,20150526,0021,  9.0000, -21.0000, 3460,    453.0,   8.9420,  34.9170,2,-999.0000,9,     56.6,2,     57.5,2,    17.23,2,    36.79,2,     0.00,   2,     2.21,2, -999.000,9,     -999,9,     1.01,2,   -999.0,9,   -999.0,9,   -999.0,      9.0,9
  06M320150501,   533, 60,     10,   254346,20150526,0021,  9.0000, -21.0000, 3460,    435.0,   9.1550,  34.9400,2,  34.9370,2,     54.4,2,     54.7,2,    16.66,2,    36.61,2,     0.00,   2,     2.18,2,    0.350,6,     0.29,6,     1.57,6,   2246.6,6,   2306.3,6,   -999.0,      9.0,9
  06M320150501,   533, 60,     11,   254347,20150526,0022,  9.0000, -21.0000, 3460,    416.0,   9.3920,  34.9610,2,-999.0000,9,     53.2,2,     52.5,2,    16.15,2,    36.38,2,     0.00,   2,     2.16,2, -999.000,9,     -999,9,     2.06,2,   -999.0,9,   -999.0,9,   -999.0,      9.0,9
  06M320150501,   533, 60,     12,   254348,20150526,0023,  9.0000, -21.0000, 3460,    387.0,   9.6680,  34.9840,2,-999.0000,9,     52.1,2,     51.8,2,    15.24,6,    35.74,6,     0.00,   6,     2.12,6,    0.447,6,     0.26,6,     2.15,6,   2245.6,2,   2307.6,2,   -999.0,      9.0,9
  06M320150501,   533, 60,     13,   254349,20150526,0024,  9.0000, -21.0000, 3460,    356.0,  10.4730,  35.0860,2,-999.0000,9,     45.2,2,     45.4,6,    14.13,2,    35.04,2,     0.00,   2,     2.06,2, -999.000,9,     -999,9,  -999.00,9,   -999.0,9,   -999.0,9,   -999.0,      9.0,9
  06M320150501,   533, 60,     14,   254350,20150526,0025,  9.0000, -21.0000, 3460,    324.0,  10.7720,  35.1140,2,-999.0000,9,     44.9,2,     44.9,2,    13.61,2,    34.42,2,     0.00,   2,     2.02,2,    0.584,6,     0.34,6,     1.32,6,   2245.9,2,   2310.4,2,   -999.0,      9.0,9
  06M320150501,   533, 60,     15,   254351,20150526,0025,  9.0000, -21.0000, 3460,    295.0,  11.1110,  35.1300,2,-999.0000,9,     52.8,2,     51.4,2,    12.60,2,    32.73,2,     0.00,   2,     1.93,2, -999.000,9,     -999,9,     0.76,2,   -999.0,9,   -999.0,9,   -999.0,      9.0,9
  06M320150501,   533, 60,     16,   254352,20150526,0026,  9.0000, -21.0000, 3460,    265.0,  11.6710,  35.1620,2,-999.0000,9,     64.5,2,     66.3,2,    11.32,2,    30.09,2,     0.00,   2,     1.81,2,    0.830,6,     0.46,6,     0.41,6,   -999.0,9,   -999.0,9,   -999.0,      9.0,9
  06M320150501,   533, 60,     17,   254353,20150526,0026,  9.0000, -21.0000, 3460,    234.0,  12.0300,  35.1960,2,-999.0000,9,     66.3,2,     71.3,2,    10.81,2,    29.20,2,     0.00,   2,     1.76,2,    0.871,6,     0.49,6,     0.27,6,   2224.8,2,   2312.5,2,   -999.0,      9.0,9
  06M320150501,   533, 60,     18,   254354,20150526,0028,  9.0000, -21.0000, 3460,    149.0,  13.5650,  35.3600,2,-999.0000,9,    102.4,2,    101.7,2,     7.98,2,    22.87,2,     0.01,   2,     1.43,2,    1.125,2,     0.83,2,     0.00,2,   2196.6,2,   2323.2,2,   -999.0,      9.0,9
  06M320150501,   533, 60,     19,   254355,20150526,0029,  9.0000, -21.0000, 3460,    101.0,  14.2550,  35.4390,2,-999.0000,9,     79.7,2,     80.8,2,     7.84,2,    24.03,2,     0.01,   2,     1.50,2,    1.137,2,     0.85,2,     0.00,2,   2208.4,2,   2324.9,2,   -999.0,      9.0,9
  06M320150501,   533, 60,     20,   254356,20150526,0030,  9.0000, -21.0000, 3460,     51.0,  17.9010,  35.6990,2,-999.0000,9,    109.2,3,    122.5,2,     3.71,6,    13.28,6,     0.30,   6,     0.93,6,    1.123,2,      1.1,2,     0.00,2,   2170.2,2,   2342.7,2,   -999.0,      9.0,9
  06M320150501,   533, 60,     21,   254357,20150526,0031,  9.0000, -21.0000, 3460,     20.0,  26.1900,  35.8970,2,-999.0000,9,    215.9,2,    217.9,2,     0.46,2,     0.48,2,     0.00,   2,     0.05,2,    1.011,2,     1.42,2,     0.00,2,   2043.5,2,   2347.5,2,   -999.0,      9.0,9
  06M320150501,   533, 60,     22,   254358,20150526,0032,  9.0000, -21.0000, 3460,     11.0,  27.6970,  35.9690,2,-999.0000,9,    202.4,2,    208.1,2,  -999.00,2,  -999.00,2,  -999.00,   2,  -999.00,2,    0.957,2,     1.45,2,     0.00,2,   2040.7,2,   2358.3,2,   -999.0,      9.0,9
  06M320150501,   534, 61,      1,   254359,20150526,0719,  8.0000, -21.0000, 3632,   2200.0,   3.3740,  34.9460,2,  34.9460,2,    237.9,2,    238.8,6,    25.33,6,    20.45,6,     0.03,   6,     1.41,6,    0.010,2,        0,2,     0.00,2,   2175.5,6,   2322.8,6,   -999.0,      9.0,9
  06M320150501,   534, 61,      2,   254360,20150526,0724,  8.0000, -21.0000, 3632,   2000.0,   3.5360,  34.9490,2,-999.0000,9,    235.4,2,    235.6,2,    23.78,2,    20.97,2,     0.04,   2,     1.43,2,    0.016,2,        0,2,     0.00,2,   2170.6,2,   2321.8,2,   -999.0,      9.0,9
  06M320150501,   534, 61,      3,   254361,20150526,0729,  8.0000, -21.0000, 3632,   1750.0,   3.8140,  34.9510,2,-999.0000,9,    228.7,2,    229.2,2,    21.84,2,    21.54,2,     0.04,   2,     1.45,2,    0.031,2,        0,2,     0.00,2,   2176.8,2,   2320.2,2,   -999.0,      9.0,9
  06M320150501,   534, 61,      4,   254362,20150526,0733,  8.0000, -21.0000, 3632,   1499.0,   4.1880,  34.9430,2,-999.0000,9,    215.5,2,    215.4,2,    20.84,2,    22.84,2,     0.04,   2,     1.53,2,    0.051,2,        0,2,     0.00,2,   2180.2,6,   2320.2,6,   -999.0,      9.0,9
  06M320150501,   534, 61,      5,   254363,20150526,0738,  8.0000, -21.0000, 3632,   1250.0,   4.7090,  34.8650,2,-999.0000,9,    174.7,2,    175.0,2,    23.73,2,    27.77,2,     0.03,   2,     1.87,2,    0.025,2,        0,2,     0.00,2,   2201.9,2,   2318.1,2,   -999.0,      9.0,9
  06M320150501,   534, 61,      6,   254364,20150526,0743,  8.0000, -21.0000, 3632,    999.0,   5.1730,  34.6940,2,-999.0000,9,    131.5,2,    133.1,2,    27.64,2,    34.43,2,     0.04,   2,     2.28,2,    0.019,2,        0,2,     0.00,2,   2227.2,3,   2312.8,2,   -999.0,      9.0,9
  06M320150501,   534, 61,      7,   254365,20150526,0746,  8.0000, -21.0000, 3632,    799.0,   5.7300,  34.6460,2,  34.6490,2,    110.0,2,    108.3,2,    26.51,2,    37.11,2,     0.04,   2,     2.41,2,    0.048,2,        0,2,     0.00,2,   2234.8,3,   2307.7,2,   -999.0,      9.0,9
  06M320150501,   534, 61,      8,   254366,20150526,0748,  8.0000, -21.0000, 3632,    699.0,   6.2330,  34.6610,2,-999.0000,9,    101.0,2,    100.2,2,    24.80,2,    37.46,2,     0.04,   2,     2.41,2,    0.091,2,        0,2,     0.00,2,   -999.0,9,   -999.0,9,   -999.0,      9.0,9
  06M320150501,   534, 61,      9,   254367,20150526,0750,  8.0000, -21.0000, 3632,    599.0,   7.0470,  34.7220,2,-999.0000,9,     88.5,2,     88.4,2,    21.92,2,    37.48,2,     0.04,   2,     2.36,2,    0.173,2,        0,2,     0.00,2,   2236.6,2,   2301.7,2,   -999.0,      9.0,9
  06M320150501,   534, 61,     10,   254368,20150526,0751,  8.0000, -21.0000, 3632,    540.0,   7.6300,  34.7810,2,-999.0000,9,     77.4,2,     78.6,2,    20.42,2,    37.57,2,     0.03,   2,     2.33,2,    0.205,6,        0,6,     0.01,6,   2240.9,2,   2303.2,2,   -999.0,      9.0,9
  06M320150501,   534, 61,     11,   254369,20150526,0752,  8.0000, -21.0000, 3632,    509.0,   8.1360,  34.8440,2,-999.0000,9,     66.6,2,     70.8,2,    19.62,2,    37.66,2,     0.04,   2,     2.32,2, -999.000,9,     -999,9,  -999.00,9,   -999.0,9,   -999.0,9,   -999.0,      9.0,9
  06M320150501,   534, 61,     12,   254370,20150526,0752,  8.0000, -21.0000, 3632,    480.0,   8.4370,  34.8730,2,-999.0000,9,     62.2,2,     67.8,2,    19.04,2,    37.61,2,     0.03,   2,     2.30,2,    0.246,6,     0.16,6,     0.31,6,   2245.4,2,   2302.1,2,   -999.0,      9.0,9
  06M320150501,   534, 61,     13,   254371,20150526,0753,  8.0000, -21.0000, 3632,    448.0,   9.4250,  34.9840,2,-999.0000,9,     49.1,2,     48.6,2,    16.24,2,    37.21,2,     0.04,   2,     2.22,2, -999.000,9,     -999,9,     3.67,2,   -999.0,9,   -999.0,9,   -999.0,      9.0,9
  06M320150501,   534, 61,     14,   254372,20150526,0753,  8.0000, -21.0000, 3632,    419.0,   9.6180,  34.9770,2,-999.0000,9,     54.9,2,     54.8,6,    15.41,6,    36.02,6,     0.04,   6,     2.15,6,    0.454,6,     0.21,6,     2.10,6,   2242.0,3,   2302.9,2,   -999.0,      9.0,9
  06M320150501,   534, 61,     15,   254373,20150526,0754,  8.0000, -21.0000, 3632,    389.0,  10.0740,  35.0250,2,  35.0090,2,     53.4,9,   -999.0,9,    14.71,2,    35.23,2,     0.04,   2,     2.10,2, -999.000,9,     -999,9,     1.62,2,   -999.0,9,   -999.0,9,   -999.0,      9.0,9
  06M320150501,   534, 61,     16,   254374,20150526,0754,  8.0000, -21.0000, 3632,    359.0,  10.5680,  35.0770,2,-999.0000,9,     51.9,2,     52.7,2,    14.00,2,    34.64,2,     0.03,   2,     2.06,2,    0.579,6,     0.29,6,     1.40,6,   -999.0,9,   -999.0,9,   -999.0,      9.0,9
  06M320150501,   534, 61,     17,   254375,20150526,0755,  8.0000, -21.0000, 3632,    329.0,  10.8870,  35.0880,2,-999.0000,9,     64.2,2,     63.3,2,    12.66,2,    32.37,2,     0.04,   2,     1.94,2, -999.000,9,     -999,9,     0.80,2,   2231.4,2,   2308.9,2,   -999.0,      9.0,9
  06M320150501,   534, 61,     18,   254376,20150526,0756,  8.0000, -21.0000, 3632,    299.0,  11.0260,  35.0920,2,-999.0000,9,     70.7,2,     76.5,2,    12.20,2,    31.11,2,     0.03,   2,     1.88,2,    0.787,2,      0.4,2,     0.51,2,   2225.2,2,   2308.6,2,   -999.0,      9.0,9
  06M320150501,   534, 61,     19,   254377,20150526,0756,  8.0000, -21.0000, 3632,    249.0,  11.7600,  35.1560,2,-999.0000,9,     81.4,2,     82.5,2,    10.84,2,    28.42,2,     0.03,   2,     1.74,2,    0.905,6,     0.53,6,     0.34,6,   2217.7,2,   2314.0,2,   -999.0,      9.0,9
  06M320150501,   534, 61,     20,   254378,20150526,0757,  8.0000, -21.0000, 3632,    198.0,  12.6400,  35.2480,2,-999.0000,9,     96.5,2,     97.3,6,     9.21,6,    24.91,6,     0.03,   6,     1.57,6,    1.050,6,     0.63,6,     0.12,6,   2204.0,2,   2316.9,2,   -999.0,      9.0,9
  06M320150501,   534, 61,     21,   254379,20150526,0758,  8.0000, -21.0000, 3632,    149.0,  13.4660,  35.3440,2,-999.0000,9,     99.7,2,    100.4,2,     8.08,2,    23.03,2,     0.04,   2,     1.46,2,    1.126,2,     0.88,2,     0.00,2,   2197.9,3,   2323.2,2,   -999.0,      9.0,9
  06M320150501,   534, 61,     22,   254380,20150526,0759,  8.0000, -21.0000, 3632,    100.0,  14.5900,  35.4770,2,-999.0000,9,     77.5,2,     78.1,2,     7.65,2,    24.21,2,     0.04,   2,     1.52,2,    1.145,2,     0.83,2,     0.00,2,   2210.8,2,   2328.6,2,   -999.0,      9.0,9
  06M320150501,   534, 61,     23,   254381,20150526,0801,  8.0000, -21.0000, 3632,     50.0,  20.2010,  35.7150,2,-999.0000,9,    162.6,3,    151.3,2,     2.80,2,     9.59,2,     0.29,   2,     0.70,2,    1.110,2,     1.04,2,     0.00,2,   2132.1,2,   2343.8,2,   -999.0,      9.0,9
  06M320150501,   534, 61,     24,   254382,20150526,0803,  8.0000, -21.0000, 3632,      7.0,  28.8330,  35.7840,2,-999.0000,9,    199.9,2,    199.9,2,     1.02,2,     0.35,2,     0.11,   2,     0.02,2,    0.883,2,     1.36,2,     0.00,2,   1997.3,2,   2345.9,2,   -999.0,      9.0,9
  06M320150501,   535, 62,      1,   254383,20150526,1345,  7.0000, -21.0000, 3324,   1212.0,   4.7350,  34.8570,2,  34.8570,2,    170.9,2,    169.7,2,    24.23,6,    27.72,6,     0.00,   6,     1.90,6,    0.019,2,        0,2,     0.00,2,   2207.2,6,   2316.5,6,   -999.0,      9.0,9
  06M320150501,   535, 62,      2,   254384,20150526,1347,  7.0000, -21.0000, 3324,   1101.0,   4.9430,  34.7920,2,-999.0000,9,    151.2,2,    150.6,2,    25.88,2,    30.70,2,     0.00,   2,     2.07,2,    0.011,2,        0,2,     0.00,2,   -999.0,9,   -999.0,9,   -999.0,      9.0,9
  06M320150501,   535, 62,      3,   254385,20150526,1349,  7.0000, -21.0000, 3324,   1001.0,   5.0310,  34.7190,2,-999.0000,9,    138.7,2,    138.1,2,    27.42,2,    33.20,2,     0.00,   2,     2.20,2,    0.013,2,        0,2,     0.00,2,   2224.1,2,   2314.8,2,   -999.0,      9.0,9
  06M320150501,   535, 62,      4,   254386,20150526,1351,  7.0000, -21.0000, 3324,    900.0,   5.2400,  34.6600,2,-999.0000,9,    125.6,2,    125.7,2,    28.12,2,    34.11,2,     0.00,   2,     2.32,2,    0.021,2,        0,2,     0.00,2,   -999.0,9,   -999.0,9,   -999.0,      9.0,9
  06M320150501,   535, 62,      5,   254387,20150526,1353,  7.0000, -21.0000, 3324,    800.0,   5.6630,  34.6420,2,-999.0000,9,    111.3,2,    111.7,2,    26.84,2,    36.07,2,     0.00,   2,     2.38,2,    0.043,2,        0,2,     0.00,2,   2234.3,6,   2308.8,6,   -999.0,      9.0,9
  06M320150501,   535, 62,      6,   254388,20150526,1354,  7.0000, -21.0000, 3324,    700.0,   6.2810,  34.6660,2,-999.0000,9,     95.5,2,     96.0,2,    24.52,2,    37.20,2,     0.00,   2,     2.39,2,    0.079,2,        0,2,     0.00,2,   -999.0,9,   -999.0,9,   -999.0,      9.0,9
  06M320150501,   535, 62,      7,   254389,20150526,1356,  7.0000, -21.0000, 3324,    601.0,   7.0550,  34.7180,2,  34.7180,2,     85.5,2,     84.4,6,    21.81,2,    36.93,2,     0.00,   2,     2.36,2,    0.155,2,        0,2,     0.00,2,   2240.5,2,   2302.0,2,   -999.0,      9.0,9
  06M320150501,   535, 62,      8,   254390,20150526,1357,  7.0000, -21.0000, 3324,    510.0,   7.6970,  34.7630,2,-999.0000,9,     79.3,2,     80.0,2,    19.62,2,    36.46,2,     0.00,   2,     2.28,2,    0.258,6,        0,6,     0.00,6,   2237.3,2,   2304.6,2,   -999.0,      9.0,9
  06M320150501,   535, 62,      9,   254391,20150526,1358,  7.0000, -21.0000, 3324,    480.0,   8.0170,  34.8000,2,-999.0000,9,     74.4,2,     76.5,2,    18.84,2,    36.34,2,     0.00,   2,     2.25,2, -999.000,9,     -999,9,     0.07,2,   -999.0,9,   -999.0,9,   -999.0,      9.0,9
  06M320150501,   535, 62,     10,   254392,20150526,1358,  7.0000, -21.0000, 3324,    450.0,   8.5600,  34.8700,2,-999.0000,9,     61.6,2,     63.1,2,    17.80,2,    36.33,2,     0.00,   2,     2.24,2,    0.297,6,     0.17,6,     0.58,6,   2244.5,2,   2304.4,2,   -999.0,      9.0,9
  06M320150501,   535, 62,     11,   254393,20150526,1359,  7.0000, -21.0000, 3324,    421.0,   9.0040,  34.9150,2,-999.0000,9,     56.9,2,     59.0,2,    16.94,2,    35.91,2,     0.01,   2,     2.18,2, -999.000,9,     -999,9,     1.07,2,   -999.0,9,   -999.0,9,   -999.0,      9.0,9
  06M320150501,   535, 62,     12,   254394,20150526,1359,  7.0000, -21.0000, 3324,    391.0,   9.6450,  35.0070,2,  34.9980,2,     45.0,2,     49.9,2,    15.90,6,    35.97,6,     0.00,   6,     2.17,6,    0.385,6,     0.24,6,     2.44,6,   2249.0,2,   2306.4,2,   -999.0,      9.0,9
  06M320150501,   535, 62,     13,   254395,20150526,1400,  7.0000, -21.0000, 3324,    360.0,  10.3550,  35.0810,2,-999.0000,9,     45.4,2,     47.5,2,    14.25,2,    34.80,2,     0.01,   2,     2.08,2, -999.000,9,     -999,9,     2.41,2,   -999.0,9,   -999.0,9,   -999.0,      9.0,9
  06M320150501,   535, 62,     14,   254396,20150526,1400,  7.0000, -21.0000, 3324,    330.0,  10.9290,  35.1170,2,-999.0000,9,     53.2,2,     55.1,2,    13.05,2,    32.79,2,     0.00,   2,     1.97,2,    0.652,6,      0.4,6,     0.85,6,   2238.6,2,   2307.9,2,   -999.0,      9.0,9
  06M320150501,   535, 62,     15,   254397,20150526,1401,  7.0000, -21.0000, 3324,    301.0,  11.5520,  35.1710,2,-999.0000,9,     55.7,2,     57.1,2,    11.89,2,    31.18,2,     0.00,   2,     1.88,2, -999.000,9,     -999,9,     0.55,2,   -999.0,9,   -999.0,9,   -999.0,      9.0,9
  06M320150501,   535, 62,     16,   254398,20150526,1401,  7.0000, -21.0000, 3324,    271.0,  12.0560,  35.2010,2,-999.0000,9,     64.8,2,     63.6,2,    11.13,2,    29.32,2,     0.00,   2,     1.82,2,    0.835,6,     0.59,6,     0.33,6,   -999.0,9,   -999.0,9,   -999.0,      9.0,9
  06M320150501,   535, 62,     17,   254399,20150526,1402,  7.0000, -21.0000, 3324,    241.0,  12.7680,  35.2700,2,-999.0000,9,     73.0,2,     70.9,2,    10.02,2,    27.68,2,     0.00,   2,     1.72,2,    0.963,2,     0.67,2,     0.07,2,   2221.2,2,   2317.2,2,   -999.0,      9.0,9
  06M320150501,   535, 62,     18,   254400,20150526,1403,  7.0000, -21.0000, 3324,    149.0,  14.3100,  35.4430,2,-999.0000,9,     69.0,3,     72.4,2,     8.01,2,    24.85,2,     0.00,   2,     1.58,2,    1.070,6,     0.89,6,     0.00,6,   2213.7,2,   2325.4,2,   -999.0,      9.0,9
  06M320150501,   535, 62,     19,   254401,20150526,1404,  7.0000, -21.0000, 3324,    100.0,  15.0580,  35.5370,2,-999.0000,9,     94.8,2,     86.2,2,     8.05,2,    24.88,2,     0.01,   2,     1.58,2,    1.159,2,      0.9,2,     0.00,2,   2203.4,2,   2328.5,2,   -999.0,      9.0,9
  06M320150501,   535, 62,     20,   254402,20150526,1405,  7.0000, -21.0000, 3324,     51.0,  19.8960,  35.8620,2,-999.0000,9,    145.6,2,    148.0,2,     2.37,2,     6.82,2,     0.20,   2,     0.53,2,    1.123,2,      1.3,2,     0.00,2,   2139.1,2,   2356.6,2,   -999.0,      9.0,9
  06M320150501,   535, 62,     21,   254403,20150526,1406,  7.0000, -21.0000, 3324,     20.0,  28.5380,  35.9760,2,-999.0000,9,    216.4,2,    216.7,6,     2.38,2,     6.91,2,     0.19,   2,     0.54,2,    0.934,2,     1.53,2,     0.00,2,   2006.5,2,   2357.0,2,   -999.0,      9.0,9
  06M320150501,   535, 62,     22,   254404,20150526,1406,  7.0000, -21.0000, 3324,     10.0,  29.0450,  35.4230,2,-999.0000,9,    204.2,2,    204.1,2,     1.41,6,     2.25,6,     0.06,   6,     0.19,6,    0.882,2,     1.52,2,     0.00,2,   1978.2,2,   2330.1,2,   -999.0,      9.0,9