BOTTLE,20180504PRINUNIVRMK
EXPOCODE,STNNBR,CASTNO,BTLNBR,BEDFORD,DATE,TIME,LATITUDE,LONGITUDE,DEPTH,CTDPRS,CTDTMP,CTDSAL,CTDSAL_FLAG_W,SALNTY,SALNTY_FLAG_W,CTDOXY,CTDOXY_FLAG_W,OXYGEN,OXYGEN_FLAG_W,SILCAT,SILCAT_FLAG_W,NITRAT,NITRAT_FLAG_W,NITRIT,NITRIT_FLAG_W,PHSPHT,PHSPHT_FLAG_W,CFC-12,CFC-12_FLAG_W,SF6,SF6_FLAG_W,SF5CF3,SF5CF3_FLAG_W,TCARBN,TCARBN_FLAG_W,ALKALI,ALKALI_FLAG_W,AR-39,AR-39ER,AR-39_FLAG_W
,,,,,,,,,METERS,DBAR,ITS-90,PSS-78,,PSS-78,,UMOL/KG,,UMOL/KG,,UMOL/KG,,UMOL/KG,,UMOL/KG,,UMOL/KG,,PMOL/KG,,FMOL/KG,,FMOL/KG,,UMOL/KG,,UMOL/KG,,%Modern,%Modern,
  06M320150501,   501, 28,      1,   253602,20150514,2321, 11.0000, -31.0000, 5806,   5796.0,   2.3020,  34.8590,2,  34.8580,2,    249.2,2,    249.2,2,    51.17,2,    22.34,2,     0.01,   2,     1.51,2,    0.091,2,        0,2,     0.00,2,   2198.4,6,   2346.4,6,   -999.0,      9.0,9
  06M320150501,   501, 28,      2,   253603,20150514,2327, 11.0000, -31.0000, 5806,   5499.0,   2.2710,  34.8600,2,-999.0000,9,    249.6,2,    250.0,2,    50.81,6,    22.37,6,     0.00,   6,     1.52,6,    0.078,2,        0,2,     0.00,2,   2197.0,2,   2348.3,2,   -999.0,      9.0,9
  06M320150501,   501, 28,      3,   253604,20150514,2341, 11.0000, -31.0000, 5806,   5001.0,   2.2560,  34.8660,2,-999.0000,9,    249.7,2,    249.6,6,    49.36,2,    22.10,2,     0.00,   2,     1.50,2,    0.063,2,        0,2,     0.00,2,   2194.5,2,   2344.9,2,   -999.0,      9.0,9
  06M320150501,   501, 28,      4,   253605,20150514,2354, 11.0000, -31.0000, 5806,   4498.0,   2.3020,  34.8760,2,-999.0000,9,    248.8,2,    248.7,2,    46.68,2,    22.00,2,     0.00,   2,     1.48,2,    0.029,2,        0,2,     0.00,2,   2194.0,2,   2345.8,2,   -999.0,      9.0,9
  06M320150501,   501, 28,      5,   253606,20150514,0010, 11.0000, -31.0000, 5806,   3999.0,   2.3840,  34.8890,2,-999.0000,9,    248.0,2,    249.2,2,    43.05,2,    21.57,2,     0.00,   2,     1.45,2,    0.009,2,        0,2,     0.00,2,   2189.0,2,   2339.5,2,   -999.0,      9.0,9
  06M320150501,   501, 28,      6,   253607,20150514,0019, 11.0000, -31.0000, 5806,   3500.0,   2.5220,  34.9040,2,-999.0000,9,    245.7,2,    247.6,2,    39.41,2,    21.56,2,     0.00,   2,     1.44,2,    0.004,2,        0,2,     0.00,2,   2185.9,2,   2338.4,2,   -999.0,      9.0,9
  06M320150501,   501, 28,      7,   253608,20150514,0031, 11.0000, -31.0000, 5806,   3001.0,   2.7320,  34.9220,2,  34.9230,2,    245.9,2,    248.4,2,    33.79,2,    20.96,2,     0.00,   2,     1.40,2,    0.003,2,        0,2,     0.00,2,   2178.8,2,   2339.2,2,   -999.0,      9.0,9
  06M320150501,   501, 28,      8,   253609,20150514,0042, 11.0000, -31.0000, 5806,   2499.0,   3.0750,  34.9430,2,-999.0000,9,    241.7,2,    243.9,2,    28.85,2,    20.94,2,     0.00,   2,     1.39,2,    0.001,2,        0,2,     0.00,2,   2175.6,2,   2335.3,2,   -999.0,      9.0,9
  06M320150501,   501, 28,      9,   253610,20150514,0051, 11.0000, -31.0000, 5806,   1998.0,   3.6040,  34.9630,2,  34.9640,2,    239.1,2,    241.8,6,    21.30,6,    20.86,6,     0.00,   6,     1.37,6,    0.021,2,        0,2,     0.00,2,   2169.8,2,   2327.8,2,   -999.0,      9.0,9
  06M320150501,   501, 28,     10,   253611,20150514,0056, 11.0000, -31.0000, 5806,   1748.0,   3.9070,  34.9670,2,-999.0000,9,    230.4,2,    232.8,2,    20.04,2,    21.80,2,     0.00,   2,     1.42,2,    0.058,2,     0.07,2,     0.00,2,   2172.5,2,   2315.8,2,   -999.0,      9.0,9
  06M320150501,   501, 28,     11,   253612,20150514,0100, 11.0000, -31.0000, 5806,   1502.0,   4.3650,  34.9660,2,-999.0000,9,    212.4,2,    216.8,2,    19.91,2,    23.21,2,     0.00,   2,     1.53,2,    0.068,2,     0.07,2,     0.00,2,   2182.0,2,   2318.2,2,   -999.0,      9.0,9
  06M320150501,   501, 28,     12,   253613,20150514,0104, 11.0000, -31.0000, 5806,   1250.0,   5.0160,  34.9140,2,-999.0000,9,    169.6,2,    169.6,2,    23.10,2,    27.92,2,     0.00,   2,     1.84,2,    0.051,2,        0,2,     0.00,2,   2204.2,2,   2322.3,2,   -999.0,      9.0,9
  06M320150501,   501, 28,     13,   253614,20150514,0109, 11.0000, -31.0000, 5806,   1000.0,   5.4670,  34.7730,2,  34.7810,2,    131.3,2,    130.1,2,    25.96,2,    33.24,2,     0.01,   2,     2.19,2,    0.018,2,        0,2,     0.00,2,   2223.1,2,   2312.7,2,   -999.0,      9.0,9
  06M320150501,   501, 28,     14,   253615,20150514,0113, 11.0000, -31.0000, 5806,    749.0,   6.7390,  34.7720,2,-999.0000,9,     94.7,2,    103.7,3,    23.27,2,    36.29,2,     0.01,   2,     2.31,2,    0.115,2,        0,2,     0.00,2,   2234.0,2,   2301.3,2,   -999.0,      9.0,9
  06M320150501,   501, 28,     15,   253616,20150514,0117, 11.0000, -31.0000, 5806,    528.0,   9.0080,  34.9910,2,-999.0000,9,     60.2,2,     60.0,2,    17.61,2,    36.12,2,     0.01,   2,     2.20,2,    0.267,6,     0.21,6,     0.01,6,   2244.1,2,   2302.6,2,   -999.0,      9.0,9
  06M320150501,   501, 28,     16,   253617,20150514,0118, 11.0000, -31.0000, 5806,    470.0,   9.3980,  35.0020,2,-999.0000,9,     58.2,2,     52.2,2,    16.03,2,    35.38,2,     0.00,   2,     2.13,2, -999.000,9,     -999,9,     0.46,2,   -999.0,9,   -999.0,9,   -999.0,      9.0,9
  06M320150501,   501, 28,     17,   253618,20150514,0119, 11.0000, -31.0000, 5806,    439.0,   9.6230,  35.0050,2,-999.0000,9,     60.5,2,     60.4,2,    15.19,6,    34.62,6,     0.01,   6,     2.08,6,    0.465,6,     0.24,6,     0.96,6,   2239.4,6,   2304.4,6,   -999.0,      9.0,9
  06M320150501,   501, 28,     18,   253619,20150514,0119, 11.0000, -31.0000, 5806,    408.0,   9.8650,  35.0220,2,-999.0000,9,     60.9,2,     60.4,2,    14.61,2,    34.06,2,     0.00,   2,     2.05,2, -999.000,9,     -999,9,     0.83,2,   -999.0,9,   -999.0,9,   -999.0,      9.0,9
  06M320150501,   501, 28,     19,   253620,20150514,0120, 11.0000, -31.0000, 5806,    349.0,  10.6150,  35.1190,2,-999.0000,9,     57.7,2,     56.4,2,    13.25,2,    33.05,2,     0.00,   2,     1.97,2,    0.594,6,     0.24,6,     0.50,6,   2238.0,2,   2307.2,2,   -999.0,      9.0,9
  06M320150501,   501, 28,     20,   253621,20150514,0121, 11.0000, -31.0000, 5806,    300.0,  10.9550,  35.1140,2,-999.0000,9,     71.2,2,     70.5,2,    12.23,2,    30.67,2,     0.01,   2,     1.86,2,    0.762,6,     0.45,6,     0.49,6,   2227.1,2,   2307.1,2,   -999.0,      9.0,9
  06M320150501,   501, 28,     21,   253622,20150514,0123, 11.0000, -31.0000, 5806,    198.0,  11.8890,  35.1860,2,-999.0000,9,     83.6,2,     85.7,2,    10.33,2,    27.40,2,     0.01,   2,     1.68,2,    0.973,6,     0.51,6,     0.29,6,   2213.0,2,   2242.1,3,   -999.0,      9.0,9
  06M320150501,   501, 28,     22,   253623,20150514,0125, 11.0000, -31.0000, 5806,    101.0,  14.2810,  35.4490,2,-999.0000,9,     87.1,2,     87.9,2,     7.47,2,    23.61,2,     0.04,   2,     1.45,2,    1.130,2,     0.61,2,     0.00,2,   2204.1,2,   2323.5,2,   -999.0,      9.0,9
  06M320150501,   501, 28,     23,   253624,20150514,0126, 11.0000, -31.0000, 5806,     46.0,  25.3270,  36.3060,2,  36.3010,2,    210.9,2,    209.8,2,     1.03,2,     0.33,2,     0.01,   2,     0.04,2,    0.995,2,     1.17,2,     0.00,2,   2041.5,2,   2374.1,2,   -999.0,      9.0,9
  06M320150501,   501, 28,     24,   253625,20150514,0128, 11.0000, -31.0000, 5806,     12.0,  25.4300,  36.1080,2,-999.0000,9,    210.7,2,    209.0,6,     1.12,2,     0.04,2,     0.00,   2,     0.01,2,    0.992,2,     1.26,2,     0.00,2,   2031.8,2,   2364.0,2,   -999.0,      9.0,9
  06M320150501,   502, 29,      1,   253626,20150515,0721, 11.0000, -30.0000, 5516,   1204.0,   5.0600,  34.9070,2,-999.0000,9,    166.6,2,    165.4,2,    23.54,2,    28.46,2,     0.01,   2,     1.87,2,    0.030,2,        0,2,     0.00,2,   2204.5,6,   2318.4,6,   -999.0,      9.0,9
  06M320150501,   502, 29,      2,   253627,20150515,0723, 11.0000, -30.0000, 5516,   1099.0,   5.2660,  34.8580,2,-999.0000,9,    148.9,2,    148.0,2,    24.91,2,    30.82,2,     0.01,   2,     2.02,2,    0.017,2,        0,2,     0.00,2,   -999.0,9,   -999.0,9,   -999.0,      9.0,9
  06M320150501,   502, 29,      3,   253628,20150515,0725, 11.0000, -30.0000, 5516,    999.0,   5.5290,  34.8130,2,-999.0000,9,    131.9,2,    131.0,2,    25.79,2,    33.08,2,     0.01,   2,     2.16,2,    0.014,2,        0,2,     0.00,2,   2217.6,2,   2306.1,2,   -999.0,      9.0,9
  06M320150501,   502, 29,      4,   253629,20150515,0726, 11.0000, -30.0000, 5516,    898.0,   5.9430,  34.7850,2,  34.7860,2,    115.1,2,    114.1,2,    25.50,2,    34.71,2,     0.01,   2,     2.26,2,    0.024,2,        0,2,     0.00,2,   -999.0,9,   -999.0,9,   -999.0,      9.0,9
  06M320150501,   502, 29,      5,   253630,20150515,0728, 11.0000, -30.0000, 5516,    799.0,   6.5180,  34.8090,2,-999.0000,9,     96.1,2,     94.8,2,    24.24,2,    36.35,2,     0.01,   2,     2.31,2,    0.038,2,        0,2,     0.00,2,   2235.9,2,   2310.2,2,   -999.0,      9.0,9
  06M320150501,   502, 29,      6,   253631,20150515,0730, 11.0000, -30.0000, 5516,    698.0,   7.2660,  34.8650,2,-999.0000,9,     78.6,2,     78.5,2,    22.21,2,    36.96,2,     0.01,   2,     2.31,2, -999.000,9,     -999,9,  -999.00,9,   -999.0,9,   -999.0,9,   -999.0,      9.0,9
  06M320150501,   502, 29,      7,   253632,20150515,0731, 11.0000, -30.0000, 5516,    598.0,   8.2480,  34.9570,2,-999.0000,9,     66.1,2,     65.9,2,    19.54,2,    36.23,2,     0.01,   2,     2.25,2,    0.168,2,     0.15,2,     0.00,2,   2242.4,2,   2301.9,2,   -999.0,      9.0,9
  06M320150501,   502, 29,      8,   253633,20150515,0732, 11.0000, -30.0000, 5516,    528.0,   8.9280,  35.0230,2,-999.0000,9,     58.4,2,     58.6,2,    17.76,2,    36.50,2,     0.01,   2,     2.20,2, -999.000,9,     -999,9,     0.02,2,   2245.6,2,   2308.8,2,   -999.0,      9.0,9
  06M320150501,   502, 29,      9,   253634,20150515,0733, 11.0000, -30.0000, 5516,    498.0,   9.2500,  35.0470,2,-999.0000,9,     52.3,2,     53.8,2,    17.03,2,    36.24,2,     0.01,   2,     2.18,2,    0.276,6,     0.21,6,     0.05,6,   -999.0,9,   -999.0,9,   -999.0,      9.0,9
  06M320150501,   502, 29,     10,   253635,20150515,0733, 11.0000, -30.0000, 5516,    469.0,   9.4920,  35.0650,2,-999.0000,9,     47.2,2,     48.8,6,    16.40,6,    36.31,6,     0.01,   6,     2.18,6, -999.000,9,     -999,9,     0.67,2,   2243.4,2,   2300.5,2,   -999.0,      9.0,9
  06M320150501,   502, 29,     11,   253636,20150515,0734, 11.0000, -30.0000, 5516,    438.0,   9.8350,  35.0970,2,-999.0000,9,     45.6,2,     51.3,2,    15.70,2,    35.88,2,     0.01,   2,     2.14,2, -999.000,9,     -999,9,     1.65,2,   -999.0,9,   -999.0,9,   -999.0,      9.0,9
  06M320150501,   502, 29,     12,   253637,20150515,0734, 11.0000, -30.0000, 5516,    410.0,  10.1820,  35.1290,2,-999.0000,9,     45.6,2,     46.6,2,    14.82,2,    35.49,2,     0.01,   2,     2.08,2,    0.432,6,     0.14,6,     2.48,6,   2247.0,6,   2309.1,6,   -999.0,      9.0,9
  06M320150501,   502, 29,     13,   253638,20150515,0735, 11.0000, -30.0000, 5516,    378.0,  10.5170,  35.1520,2,  35.1510,2,     47.1,2,     47.3,6,    13.98,6,    34.53,6,     0.00,   6,     2.03,6, -999.000,9,     -999,9,     1.80,2,   -999.0,9,   -999.0,9,   -999.0,      9.0,9
  06M320150501,   502, 29,     14,   253639,20150515,0735, 11.0000, -30.0000, 5516,    348.0,  10.7450,  35.1540,2,-999.0000,9,     53.0,2,     56.4,2,    13.17,2,    33.24,2,     0.01,   2,     1.96,2,    0.624,6,     0.28,6,     0.82,6,   2235.0,2,   2304.3,2,   -999.0,      9.0,9
  06M320150501,   502, 29,     15,   253640,20150515,0736, 11.0000, -30.0000, 5516,    318.0,  10.7790,  35.1100,2,-999.0000,9,     65.1,2,     66.0,2,    12.72,2,    31.60,2,     0.01,   2,     1.89,2, -999.000,9,     -999,9,     0.51,2,   -999.0,9,   -999.0,9,   -999.0,      9.0,9
  06M320150501,   502, 29,     16,   253641,20150515,0736, 11.0000, -30.0000, 5516,    291.0,  10.8270,  35.0820,2,-999.0000,9,     76.2,2,     71.2,2,    12.30,2,    30.13,2,     0.01,   2,     1.83,2,    0.812,6,     0.42,6,     0.52,6,   -999.0,9,   -999.0,9,   -999.0,      9.0,9
  06M320150501,   502, 29,     17,   253642,20150515,0737, 11.0000, -30.0000, 5516,    258.0,  11.2090,  35.1150,2,-999.0000,9,     83.8,2,     94.9,3,    11.50,2,    28.76,2,     0.00,   2,     1.76,2, -999.000,9,     -999,9,     0.40,2,   2211.3,2,   2305.6,2,   -999.0,      9.0,9
  06M320150501,   502, 29,     18,   253643,20150515,0739, 11.0000, -30.0000, 5516,    148.0,  12.7170,  35.2730,2,-999.0000,9,    102.1,2,    100.7,2,     9.06,2,    24.39,2,     0.01,   2,     1.52,2,    1.123,2,     0.66,2,     0.00,2,   2195.5,2,   2314.5,2,   -999.0,      9.0,9
  06M320150501,   502, 29,     19,   253644,20150515,0740, 11.0000, -30.0000, 5516,     99.0,  13.9820,  35.4210,2,-999.0000,9,    104.0,2,    104.1,2,     7.78,2,    22.29,2,     0.02,   2,     1.39,2,    1.196,2,     0.78,2,     0.00,2,   2190.1,2,   2320.3,2,   -999.0,      9.0,9
  06M320150501,   502, 29,     20,   253645,20150515,0741, 11.0000, -30.0000, 5516,     51.0,  21.2260,  36.0250,2,-999.0000,9,    179.4,2,    182.0,2,     2.19,2,     2.74,2,     0.11,   2,     0.24,2,    1.113,2,      1.1,2,     0.00,2,   2087.5,2,   2352.6,2,   -999.0,      9.0,9
  06M320150501,   502, 29,     21,   253646,20150515,0742, 11.0000, -30.0000, 5516,     20.0,  25.3610,  36.0990,2,  36.1040,2,    209.1,2,    208.4,6,     1.16,6,     0.04,6,     0.00,   6,     0.01,6,    1.023,2,     1.33,2,     0.00,2,   2029.2,2,   2359.7,2,   -999.0,      9.0,9
  06M320150501,   502, 29,     22,   253647,20150515,0743, 11.0000, -30.0000, 5516,     10.0,  25.3510,  36.1000,2,-999.0000,9,    208.6,2,    208.4,2,     1.15,2,     0.00,2,     0.00,   2,     0.02,2,    1.027,2,      1.3,2,     0.00,2,   2029.2,2,   2358.6,2,   -999.0,      9.0,9
  06M320150501,   503, 30,      1,   253648,20150515,1333, 11.0000, -29.0000, 5601,   1203.0,   5.0180,  34.9190,2,-999.0000,9,    169.5,2,    169.2,2,    22.88,2,    27.71,2,     0.00,   2,     1.84,2,    0.033,2,     0.08,2,     0.00,2,   2206.7,6,   2320.5,6,   -999.0,      9.0,9
  06M320150501,   503, 30,      2,   253649,20150515,1335, 11.0000, -29.0000, 5601,   1098.0,   5.2820,  34.8720,2,-999.0000,9,    150.2,2,    150.2,2,    24.36,2,    30.48,2,     0.01,   2,     1.99,2,    0.017,2,        0,2,     0.00,2,   -999.0,9,   -999.0,9,   -999.0,      9.0,9
  06M320150501,   503, 30,      3,   253650,20150515,1337, 11.0000, -29.0000, 5601,    999.0,   5.4860,  34.8150,2,-999.0000,9,    133.7,2,    133.4,2,    25.44,6,    32.47,6,     0.00,   6,     2.13,6,    0.014,2,        0,2,     0.00,2,   2224.2,2,   2312.1,2,   -999.0,      9.0,9
  06M320150501,   503, 30,      4,   253651,20150515,1338, 11.0000, -29.0000, 5601,    899.0,   5.7610,  34.7730,2,-999.0000,9,    118.9,2,    118.0,6,    25.77,2,    34.29,2,     0.00,   2,     2.24,2,    0.018,2,        0,2,     0.00,2,   -999.0,9,   -999.0,9,   -999.0,      9.0,9
  06M320150501,   503, 30,      5,   253652,20150515,1340, 11.0000, -29.0000, 5601,    799.0,   6.4340,  34.7930,2,-999.0000,9,     97.8,2,     98.1,2,    24.16,2,    35.74,2,     0.00,   2,     2.29,2,    0.039,2,        0,2,     0.00,2,   2236.0,2,   2306.4,2,   -999.0,      9.0,9
  06M320150501,   503, 30,      6,   253653,20150515,1342, 11.0000, -29.0000, 5601,    699.0,   7.1530,  34.8440,2,-999.0000,9,     84.4,2,     85.4,2,    22.21,2,    36.02,2,     0.00,   2,     2.28,2,    0.080,2,     0.08,2,     0.00,2,   -999.0,9,   -999.0,9,   -999.0,      9.0,9
  06M320150501,   503, 30,      7,   253654,20150515,1343, 11.0000, -29.0000, 5601,    599.0,   8.3260,  34.9480,2,-999.0000,9,     67.5,2,     69.2,2,    19.08,2,    35.90,2,     0.00,   2,     2.22,2,    0.169,2,     0.11,2,     0.00,2,   2243.4,2,   2306.2,2,   -999.0,      9.0,9
  06M320150501,   503, 30,      8,   253655,20150515,1344, 11.0000, -29.0000, 5601,    555.0,   8.7610,  34.9850,2,-999.0000,9,     59.2,2,     60.4,2,    17.79,2,    35.90,2,     0.00,   2,     2.20,2, -999.000,9,     -999,9,     0.02,2,   2244.4,2,   2306.9,2,   -999.0,      9.0,9
  06M320150501,   503, 30,      9,   253656,20150515,1345, 11.0000, -29.0000, 5601,    523.0,   9.1200,  35.0070,2,-999.0000,9,     55.6,2,     54.4,2,    16.85,2,    35.86,2,     0.00,   2,     2.17,2, -999.000,9,     -999,9,     0.09,2,   -999.0,9,   -999.0,9,   -999.0,      9.0,9
  06M320150501,   503, 30,     10,   253657,20150515,1345, 11.0000, -29.0000, 5601,    493.0,   9.4820,  35.0420,2,-999.0000,9,     52.3,2,     52.5,2,    16.08,2,    35.41,2,     0.00,   2,     2.13,2,    0.335,6,      0.2,6,     0.74,6,   2246.4,2,   2307.3,2,   -999.0,      9.0,9
  06M320150501,   503, 30,     11,   253658,20150515,1346, 11.0000, -29.0000, 5601,    464.0,   9.8070,  35.0820,2,-999.0000,9,     49.2,2,     49.0,2,    15.40,2,    35.08,2,     0.00,   2,     2.10,2, -999.000,9,     -999,9,     1.43,2,   -999.0,9,   -999.0,9,   -999.0,      9.0,9
  06M320150501,   503, 30,     12,   253659,20150515,1346, 11.0000, -29.0000, 5601,    434.0,  10.2680,  35.1450,2,-999.0000,9,     52.4,2,     51.9,2,    14.28,6,    33.96,6,     0.00,   6,     2.02,6,    0.466,6,     0.19,6,     0.55,6,   2243.7,6,   2309.4,6,   -999.0,      9.0,9
  06M320150501,   503, 30,     13,   253660,20150515,1347, 11.0000, -29.0000, 5601,    405.0,  10.3980,  35.1400,2,-999.0000,9,     46.0,2,     47.4,2,    13.89,2,    34.13,2,     0.01,   2,     2.02,2,    0.502,6,     0.32,6,     1.45,6,   -999.0,9,   -999.0,9,   -999.0,      9.0,9
  06M320150501,   503, 30,     14,   253661,20150515,1347, 11.0000, -29.0000, 5601,    373.0,  10.5340,  35.1130,2,-999.0000,9,     51.2,2,     50.7,2,    13.51,2,    34.14,2,     0.00,   2,     1.99,2, -999.000,9,     -999,9,     1.30,2,   2243.0,2,   2310.1,2,   -999.0,      9.0,9
  06M320150501,   503, 30,     15,   253662,20150515,1348, 11.0000, -29.0000, 5601,    343.0,  10.9540,  35.1660,2,-999.0000,9,     53.5,2,     53.5,2,    12.60,2,    32.22,2,     0.00,   2,     1.92,2,    0.667,6,     0.36,6,     0.76,6,   -999.0,9,   -999.0,9,   -999.0,      9.0,9
  06M320150501,   503, 30,     16,   253663,20150515,1348, 11.0000, -29.0000, 5601,    313.0,  11.2820,  35.1800,2,-999.0000,9,     61.6,2,     60.7,2,    11.80,2,    30.77,2,     0.00,   2,     1.84,2, -999.000,9,     -999,9,     0.59,2,   -999.0,9,   -999.0,9,   -999.0,      9.0,9
  06M320150501,   503, 30,     17,   253664,20150515,1349, 11.0000, -29.0000, 5601,    284.0,  11.3510,  35.1550,2,-999.0000,9,     64.6,2,     65.6,2,    11.61,2,    30.18,2,     0.01,   2,     1.83,2,    0.803,6,     0.35,6,     0.64,6,   2229.5,2,   2311.9,2,   -999.0,      9.0,9
  06M320150501,   503, 30,     18,   253665,20150515,1351, 11.0000, -29.0000, 5601,    149.0,  12.8760,  35.2830,2,-999.0000,9,     91.0,3,    100.3,2,     8.80,2,    24.06,2,     0.01,   2,     1.51,2,    1.120,2,     0.67,2,     0.00,2,   2202.6,2,   2319.4,2,   -999.0,      9.0,9
  06M320150501,   503, 30,     19,   253666,20150515,1352, 11.0000, -29.0000, 5601,     99.0,  13.9450,  35.4100,2,-999.0000,9,     78.0,3,     81.2,2,     7.98,2,    24.68,2,     0.03,   2,     1.52,2,    1.133,2,     0.73,2,     0.00,2,   2210.9,2,   2321.0,2,   -999.0,      9.0,9
  06M320150501,   503, 30,     20,   253667,20150515,1353, 11.0000, -29.0000, 5601,     51.0,  19.1120,  35.7170,2,-999.0000,9,    146.0,3,    130.7,2,     4.40,6,    13.40,6,     0.28,   6,     0.89,6,    1.117,2,     0.92,2,     0.00,2,   2170.1,2,   2337.1,2,   -999.0,      9.0,9
  06M320150501,   503, 30,     21,   253668,20150515,1354, 11.0000, -29.0000, 5601,     20.0,  25.2710,  36.0100,2,-999.0000,9,    207.8,2,    204.0,2,     1.32,2,     0.93,2,     0.01,   2,     0.07,2,    0.995,2,     1.12,2,     0.00,2,   2042.8,2,   2359.0,2,   -999.0,      9.0,9
  06M320150501,   503, 30,     22,   253669,20150515,1354, 11.0000, -29.0000, 5601,     11.0,  25.2770,  36.0040,2,-999.0000,9,    207.1,2,    208.2,2,     1.10,2,     0.19,2,     0.01,   2,     0.04,2,    1.021,2,     1.27,2,     0.00,2,   2036.2,2,   2357.9,2,   -999.0,      9.0,9