BOTTLE,20180504PRINUNIVRMK
EXPOCODE,STNNBR,CASTNO,BTLNBR,BEDFORD,DATE,TIME,LATITUDE,LONGITUDE,DEPTH,CTDPRS,CTDTMP,CTDSAL,CTDSAL_FLAG_W,SALNTY,SALNTY_FLAG_W,CTDOXY,CTDOXY_FLAG_W,OXYGEN,OXYGEN_FLAG_W,SILCAT,SILCAT_FLAG_W,NITRAT,NITRAT_FLAG_W,NITRIT,NITRIT_FLAG_W,PHSPHT,PHSPHT_FLAG_W,CFC-12,CFC-12_FLAG_W,SF6,SF6_FLAG_W,SF5CF3,SF5CF3_FLAG_W,TCARBN,TCARBN_FLAG_W,ALKALI,ALKALI_FLAG_W,AR-39,AR-39ER,AR-39_FLAG_W
,,,,,,,,,METERS,DBAR,ITS-90,PSS-78,,PSS-78,,UMOL/KG,,UMOL/KG,,UMOL/KG,,UMOL/KG,,UMOL/KG,,UMOL/KG,,PMOL/KG,,FMOL/KG,,FMOL/KG,,UMOL/KG,,UMOL/KG,,%Modern,%Modern,
  06M320150501,   545, 72,      1,   254603,20150529,2145, 11.0000, -19.0000, 4617,   4024.0,   2.3810,  34.8870,2,-999.0000,9,    241.9,2,    241.6,2,    47.38,2,    23.74,2,     0.00,   2,     1.49,2,    0.009,2,        0,2,     0.00,2,   2199.2,6,   2351.7,6,   -999.0,      9.0,9
  06M320150501,   545, 72,      2,   254604,20150529,2145, 11.0000, -19.0000, 4617,   3998.0,   2.3910,  34.8880,2,-999.0000,9,    241.8,2,    241.6,2,    46.98,2,    23.83,2,     0.00,   2,     1.49,2,    0.006,2,        0,2,     0.00,2,   2199.3,2,   2348.1,2,   -999.0,      9.0,9
  06M320150501,   545, 72,      3,   254605,20150529,2154, 11.0000, -19.0000, 4617,   3500.0,   2.5250,  34.9030,2,-999.0000,9,    242.4,2,    243.4,2,    41.96,2,    23.50,2,     0.00,   2,     1.46,2,    0.004,2,        0,2,     0.00,2,   2191.8,2,   2345.6,2,   -999.0,      9.0,9
  06M320150501,   547, 74,      1,   254632,20150530,0621, 11.0000, -20.0000, 4869,   1205.0,   5.0610,  34.8870,2,-999.0000,9,    156.8,2,    156.5,2,    24.80,2,    29.90,2,     0.00,   2,     1.89,2,    0.015,2,        0,2,     0.00,2,   2212.4,6,   2321.0,6,   -999.0,      9.0,9
  06M320150501,   547, 74,      2,   254633,20150530,0624, 11.0000, -20.0000, 4869,   1099.0,   5.3100,  34.8330,2,-999.0000,9,    139.1,2,    138.5,2,    26.15,2,    31.84,2,     0.01,   2,     2.03,2,    0.011,2,        0,2,     0.00,2,   -999.0,9,   -999.0,9,   -999.0,      9.0,9
  06M320150501,   547, 74,      3,   254634,20150530,0625, 11.0000, -20.0000, 4869,    999.0,   5.8170,  34.8150,2,-999.0000,9,    117.6,2,    117.2,6,    25.90,6,    34.25,6,     0.01,   6,     2.16,6,    0.017,2,        0,2,     0.00,2,   2228.4,2,   2311.0,2,   -999.0,      9.0,9
  06M320150501,   547, 74,      4,   254635,20150530,0627, 11.0000, -20.0000, 4869,    899.0,   6.0040,  34.7560,2,-999.0000,9,    104.6,2,    111.2,3,    26.17,2,    36.37,2,     0.00,   2,     2.28,2,    0.024,2,        0,2,     0.00,2,   -999.0,9,   -999.0,9,   -999.0,      9.0,9
  06M320150501,   547, 74,      5,   254636,20150530,0629, 11.0000, -20.0000, 4869,    799.0,   6.6880,  34.8070,2,-999.0000,9,     86.3,2,     88.5,2,    24.03,2,    37.42,2,     0.01,   2,     2.30,2,    0.054,2,        0,2,     0.00,2,   2240.0,2,   2307.2,2,   -999.0,      9.0,9
  06M320150501,   547, 74,      6,   254637,20150530,0630, 11.0000, -20.0000, 4869,    699.0,   7.6620,  34.8880,2,-999.0000,9,     67.9,2,     66.6,2,    21.47,2,    37.87,2,     0.00,   2,     2.29,2,    0.112,2,        0,2,     0.00,2,   -999.0,9,   -999.0,9,   -999.0,      9.0,9
  06M320150501,   547, 74,      7,   254638,20150530,0632, 11.0000, -20.0000, 4869,    599.0,   8.5830,  34.9680,2,-999.0000,9,     53.1,2,     52.2,2,    19.09,2,    37.70,2,     0.00,   2,     2.24,2,    0.202,2,     0.18,2,     0.00,2,   2250.4,2,   2306.0,2,   -999.0,      9.0,9
  06M320150501,   547, 74,      8,   254639,20150530,0633, 11.0000, -20.0000, 4869,    568.0,   8.6210,  34.9350,2,-999.0000,9,     51.4,2,     51.0,6,    18.79,6,    37.86,6,     0.01,   6,     2.25,6,    0.228,6,     0.12,6,     0.20,6,   2250.4,2,   2306.6,2,   -999.0,      9.0,9
  06M320150501,   547, 74,      9,   254640,20150530,0633, 11.0000, -20.0000, 4869,    538.0,   8.7020,  34.9140,2,-999.0000,9,     52.0,2,     51.8,2,    18.54,2,    37.73,2,     0.00,   2,     2.23,2, -999.000,9,     -999,9,     0.79,2,   -999.0,9,   -999.0,9,   -999.0,      9.0,9
  06M320150501,   547, 74,     10,   254641,20150530,0634, 11.0000, -20.0000, 4869,    509.0,   8.9910,  34.9470,2,-999.0000,9,     49.0,2,     48.9,2,    17.77,2,    37.56,2,     0.01,   2,     2.20,2,    0.308,6,     0.19,6,     1.43,6,   2248.0,2,   2301.3,2,   -999.0,      9.0,9
  06M320150501,   547, 74,     11,   254642,20150530,0634, 11.0000, -20.0000, 4869,    480.0,   9.4220,  35.0010,2,-999.0000,9,     45.6,2,     46.0,2,    17.06,2,    37.03,2,     0.01,   2,     2.17,2, -999.000,9,     -999,9,     2.11,2,   -999.0,9,   -999.0,9,   -999.0,      9.0,9
  06M320150501,   547, 74,     12,   254643,20150530,0635, 11.0000, -20.0000, 4869,    449.0,  10.0940,  35.1020,2,-999.0000,9,     40.6,2,     42.0,2,    15.94,2,    36.46,2,     0.00,   2,     2.10,2,    0.412,6,     0.37,6,     3.46,6,   2253.0,6,   2310.8,6,   -999.0,      9.0,9
  06M320150501,   547, 74,     13,   254644,20150530,0635, 11.0000, -20.0000, 4869,    420.0,  10.5630,  35.1550,2,-999.0000,9,     40.7,2,     39.9,2,    14.49,2,    35.25,2,     0.01,   2,     2.01,2, -999.000,9,     -999,9,     2.49,2,   -999.0,9,   -999.0,9,   -999.0,      9.0,9
  06M320150501,   547, 74,     14,   254645,20150530,0636, 11.0000, -20.0000, 4869,    389.0,  10.9070,  35.1560,2,-999.0000,9,     43.7,2,     42.9,2,    13.58,2,    34.28,2,     0.01,   2,     1.97,2,    0.597,6,     0.34,6,     1.35,6,   2247.1,2,   2314.8,2,   -999.0,      9.0,9
  06M320150501,   547, 74,     15,   254646,20150530,0636, 11.0000, -20.0000, 4869,    359.0,  11.1520,  35.1630,2,-999.0000,9,     48.2,2,     48.1,2,    12.95,2,    33.13,2,     0.01,   2,     1.91,2, -999.000,9,     -999,9,     0.92,2,   -999.0,9,   -999.0,9,   -999.0,      9.0,9
  06M320150501,   547, 74,     16,   254647,20150530,0637, 11.0000, -20.0000, 4869,    329.0,  11.5790,  35.1960,2,-999.0000,9,     56.8,2,     54.8,2,    12.13,2,    31.68,2,     0.01,   2,     1.59,2,    0.751,6,      0.5,6,     0.69,6,   -999.0,9,   -999.0,9,   -999.0,      9.0,9
  06M320150501,   547, 74,     17,   254648,20150530,0637, 11.0000, -20.0000, 4869,    298.0,  11.8710,  35.1790,2,-999.0000,9,     76.5,2,     77.5,6,    10.98,6,    29.01,6,     0.01,   6,     1.70,6,    0.898,6,     0.57,6,     0.36,6,   2219.8,2,   2312.7,2,   -999.0,      9.0,9
  06M320150501,   547, 74,     18,   254649,20150530,0640, 11.0000, -20.0000, 4869,    149.0,  14.0440,  35.4130,2,-999.0000,9,     82.0,2,     82.2,2,     8.33,2,    25.14,2,     0.02,   2,     1.50,2,    1.084,2,     0.73,2,     0.00,2,   2209.4,2,   2324.1,2,   -999.0,      9.0,9
  06M320150501,   547, 74,     19,   254650,20150530,0640, 11.0000, -20.0000, 4869,    100.0,  14.7010,  35.4870,2,-999.0000,9,     69.4,2,     73.6,2,     7.96,2,    25.43,2,     0.02,   2,     1.50,2,    1.113,2,     0.81,2,     0.00,2,   2211.7,2,   2325.6,2,   -999.0,      9.0,9
  06M320150501,   547, 74,     20,   254651,20150530,0642, 11.0000, -20.0000, 4869,     50.0,  16.2550,  35.6300,2,-999.0000,9,     54.1,2,     53.6,2,     7.03,2,    25.40,2,     0.04,   2,     1.50,2,    1.144,2,     0.84,2,     0.00,2,   2218.2,2,   2236.7,3,   -999.0,      9.0,9
  06M320150501,   547, 74,     21,   254652,20150530,0643, 11.0000, -20.0000, 4869,     21.0,  21.4310,  35.7380,2,-999.0000,9,    221.7,3,    206.3,2,     1.44,2,     4.27,2,     0.05,   2,     0.24,2,    1.094,2,     1.15,2,     0.00,2,   2085.2,2,   2345.4,2,   -999.0,      9.0,9
  06M320150501,   547, 74,     22,   254653,20150530,0643, 11.0000, -20.0000, 4869,      7.0,  27.2490,  35.9790,2,-999.0000,9,    200.7,3,    203.0,2,     0.55,2,     2.49,2,     0.00,   2,     0.07,2,    0.931,2,     1.38,2,     0.00,2,   2046.1,2,   2362.4,2,   -999.0,      9.0,9
  06M320150501,   548, 75,      1,   254654,20150530,1249, 12.0000, -20.0000, 4803,   1204.0,   4.9980,  34.9050,2,  34.9090,2,    163.4,2,    160.4,2,  -999.00,9,  -999.00,9,  -999.00,-999,  -999.00,9,    0.017,2,        0,2,     0.00,2,   -999.0,9,   -999.0,9,   -999.0,      9.0,9
  06M320150501,   548, 75,      2,   254655,20150530,1251, 12.0000, -20.0000, 4803,   1094.0,   5.3620,  34.8750,2,-999.0000,9,    141.9,9,   -999.0,9,  -999.00,9,  -999.00,9,  -999.00,-999,  -999.00,9,    0.010,2,        0,2,     0.00,2,   -999.0,9,   -999.0,9,   -999.0,      9.0,9
  06M320150501,   548, 75,      3,   254656,20150530,1252, 12.0000, -20.0000, 4803,    999.0,   5.6220,  34.8390,2,-999.0000,9,    127.3,9,   -999.0,9,  -999.00,9,  -999.00,9,  -999.00,-999,  -999.00,9,    0.012,2,        0,2,     0.00,2,   -999.0,9,   -999.0,9,   -999.0,      9.0,9
  06M320150501,   548, 75,      4,   254657,20150530,1254, 12.0000, -20.0000, 4803,    900.0,   6.0350,  34.8040,2,  34.8060,2,    108.3,9,   -999.0,9,  -999.00,9,  -999.00,9,  -999.00,-999,  -999.00,9,    0.022,2,        0,2,     0.00,2,   -999.0,9,   -999.0,9,   -999.0,      9.0,9
  06M320150501,   548, 75,      5,   254658,20150530,1256, 12.0000, -20.0000, 4803,    800.0,   6.5150,  34.8120,2,-999.0000,9,     93.0,2,     92.4,2,  -999.00,9,  -999.00,9,  -999.00,-999,  -999.00,9,    0.042,2,        0,2,     0.00,2,   -999.0,9,   -999.0,9,   -999.0,      9.0,9
  06M320150501,   548, 75,      6,   254659,20150530,1257, 12.0000, -20.0000, 4803,    699.0,   7.1190,  34.8300,2,-999.0000,9,     75.8,9,   -999.0,9,  -999.00,9,  -999.00,9,  -999.00,-999,  -999.00,9,    0.079,2,        0,2,     0.00,2,   -999.0,9,   -999.0,9,   -999.0,      9.0,9
  06M320150501,   548, 75,      7,   254660,20150530,1259, 12.0000, -20.0000, 4803,    599.0,   8.0600,  34.9250,2,-999.0000,9,     59.6,2,     59.7,2,  -999.00,9,  -999.00,9,  -999.00,-999,  -999.00,9,    0.152,2,        0,2,     0.00,2,   -999.0,9,   -999.0,9,   -999.0,      9.0,9
  06M320150501,   548, 75,      8,   254661,20150530,1300, 12.0000, -20.0000, 4803,    539.0,   8.7560,  34.9920,2,-999.0000,9,     51.0,9,   -999.0,9,  -999.00,9,  -999.00,9,  -999.00,-999,  -999.00,9,    0.213,6,     0.19,6,     0.09,6,   -999.0,9,   -999.0,9,   -999.0,      9.0,9
  06M320150501,   548, 75,      9,   254662,20150530,1300, 12.0000, -20.0000, 4803,    508.0,   9.2480,  35.0590,2,-999.0000,9,     46.4,9,   -999.0,9,  -999.00,9,  -999.00,9,  -999.00,-999,  -999.00,9, -999.000,9,     -999,9,     0.19,2,   -999.0,9,   -999.0,9,   -999.0,      9.0,9
  06M320150501,   548, 75,     10,   254663,20150530,1301, 12.0000, -20.0000, 4803,    480.0,   9.5940,  35.0950,2,-999.0000,9,     44.8,9,   -999.0,9,  -999.00,9,  -999.00,9,  -999.00,-999,  -999.00,9,    0.334,6,     0.34,6,     0.65,6,   -999.0,9,   -999.0,9,   -999.0,      9.0,9
  06M320150501,   548, 75,     11,   254664,20150530,1301, 12.0000, -20.0000, 4803,    449.0,  10.0230,  35.1410,2,-999.0000,9,     42.2,9,   -999.0,9,  -999.00,9,  -999.00,9,  -999.00,-999,  -999.00,9, -999.000,9,     -999,9,     1.55,2,   -999.0,9,   -999.0,9,   -999.0,      9.0,9
  06M320150501,   548, 75,     12,   254665,20150530,1302, 12.0000, -20.0000, 4803,    420.0,  10.4390,  35.1840,2,-999.0000,9,     41.1,2,     40.8,2,  -999.00,9,  -999.00,9,  -999.00,-999,  -999.00,9,    0.466,6,     0.37,6,     2.22,6,   -999.0,9,   -999.0,9,   -999.0,      9.0,9
  06M320150501,   548, 75,     13,   254666,20150530,1302, 12.0000, -20.0000, 4803,    390.0,  10.7780,  35.2120,2,  35.2110,2,     40.5,9,   -999.0,9,  -999.00,9,  -999.00,9,  -999.00,-999,  -999.00,9, -999.000,9,     -999,9,     1.88,2,   -999.0,9,   -999.0,9,   -999.0,      9.0,9
  06M320150501,   548, 75,     14,   254667,20150530,1303, 12.0000, -20.0000, 4803,    360.0,  11.1880,  35.2490,2,-999.0000,9,     43.5,9,   -999.0,9,  -999.00,9,  -999.00,9,  -999.00,-999,  -999.00,9,    0.626,6,     0.38,6,     0.97,6,   -999.0,9,   -999.0,9,   -999.0,      9.0,9
  06M320150501,   548, 75,     15,   254668,20150530,1303, 12.0000, -20.0000, 4803,    330.0,  11.3830,  35.2480,2,-999.0000,9,     46.3,9,   -999.0,9,  -999.00,9,  -999.00,9,  -999.00,-999,  -999.00,9, -999.000,9,     -999,9,     0.70,2,   -999.0,9,   -999.0,9,   -999.0,      9.0,9
  06M320150501,   548, 75,     16,   254669,20150530,1304, 12.0000, -20.0000, 4803,    299.0,  11.5570,  35.2300,2,-999.0000,9,     53.7,9,   -999.0,9,  -999.00,9,  -999.00,9,  -999.00,-999,  -999.00,9,    0.761,6,     0.47,6,     0.59,6,   -999.0,9,   -999.0,9,   -999.0,      9.0,9
  06M320150501,   548, 75,     17,   254670,20150530,1304, 12.0000, -20.0000, 4803,    270.0,  11.8130,  35.2340,2,-999.0000,9,     58.4,9,   -999.0,9,  -999.00,9,  -999.00,9,  -999.00,-999,  -999.00,9,    0.840,6,     0.56,6,     0.48,6,   -999.0,9,   -999.0,9,   -999.0,      9.0,9
  06M320150501,   548, 75,     18,   254671,20150530,1306, 12.0000, -20.0000, 4803,    150.0,  13.1300,  35.3130,2,-999.0000,9,     79.6,9,   -999.0,9,  -999.00,9,  -999.00,9,  -999.00,-999,  -999.00,9,    1.109,2,     0.67,2,     0.00,2,   -999.0,9,   -999.0,9,   -999.0,      9.0,9
  06M320150501,   548, 75,     19,   254672,20150530,1307, 12.0000, -20.0000, 4803,    100.0,  13.8350,  35.3930,2,-999.0000,9,     76.7,9,   -999.0,9,  -999.00,9,  -999.00,9,  -999.00,-999,  -999.00,9,    1.106,2,     0.74,2,     0.00,2,   -999.0,9,   -999.0,9,   -999.0,      9.0,9
  06M320150501,   548, 75,     20,   254673,20150530,1308, 12.0000, -20.0000, 4803,     51.0,  15.6060,  35.5710,2,-999.0000,9,     52.1,2,     52.2,2,  -999.00,9,  -999.00,9,  -999.00,-999,  -999.00,9,    1.138,2,     0.88,2,     0.00,2,   -999.0,9,   -999.0,9,   -999.0,      9.0,9
  06M320150501,   548, 75,     21,   254674,20150530,1309, 12.0000, -20.0000, 4803,     20.0,  26.0310,  35.9470,2,-999.0000,9,    208.0,9,   -999.0,9,  -999.00,9,  -999.00,9,  -999.00,-999,  -999.00,9, -999.000,9,     -999,9,  -999.00,9,   -999.0,9,   -999.0,9,   -999.0,      9.0,9
  06M320150501,   548, 75,     22,   254675,20150530,1309, 12.0000, -20.0000, 4803,     10.0,  26.0650,  35.9350,2,-999.0000,9,    205.9,2,    177.8,2,  -999.00,9,  -999.00,9,  -999.00,-999,  -999.00,9,    1.039,6,     1.37,6,     0.00,6,   -999.0,9,   -999.0,9,   -999.0,      9.0,9