BOTTLE,20180504PRINUNIVRMK
EXPOCODE,STNNBR,CASTNO,BTLNBR,BEDFORD,DATE,TIME,LATITUDE,LONGITUDE,DEPTH,CTDPRS,CTDTMP,CTDSAL,CTDSAL_FLAG_W,SALNTY,SALNTY_FLAG_W,CTDOXY,CTDOXY_FLAG_W,OXYGEN,OXYGEN_FLAG_W,SILCAT,SILCAT_FLAG_W,NITRAT,NITRAT_FLAG_W,NITRIT,NITRIT_FLAG_W,PHSPHT,PHSPHT_FLAG_W,CFC-12,CFC-12_FLAG_W,SF6,SF6_FLAG_W,SF5CF3,SF5CF3_FLAG_W,TCARBN,TCARBN_FLAG_W,ALKALI,ALKALI_FLAG_W,AR-39,AR-39ER,AR-39_FLAG_W
,,,,,,,,,METERS,DBAR,ITS-90,PSS-78,,PSS-78,,UMOL/KG,,UMOL/KG,,UMOL/KG,,UMOL/KG,,UMOL/KG,,UMOL/KG,,PMOL/KG,,FMOL/KG,,FMOL/KG,,UMOL/KG,,UMOL/KG,,%Modern,%Modern,
  06M320150501,   542, 69,      1,   254537,20150528,2336, 10.0000, -20.0000, 4870,   1204.0,   4.8480,  34.8620,2,  34.8630,2,    163.5,2,    163.2,2,  -999.00,9,  -999.00,9,  -999.00,-999,  -999.00,9,    0.014,2,        0,2,     0.00,2,   -999.0,9,   -999.0,9,   -999.0,      9.0,9
  06M320150501,   542, 69,      2,   254538,20150528,2339, 10.0000, -20.0000, 4870,   1099.0,   5.3500,  34.8660,2,-999.0000,9,    142.7,9,   -999.0,9,  -999.00,9,  -999.00,9,  -999.00,-999,  -999.00,9,    0.010,2,        0,2,     0.00,2,   -999.0,9,   -999.0,9,   -999.0,      9.0,9
  06M320150501,   542, 69,      3,   254539,20150528,2340, 10.0000, -20.0000, 4870,    999.0,   5.7430,  34.8380,2,  34.8430,2,    123.4,9,   -999.0,9,  -999.00,9,  -999.00,9,  -999.00,-999,  -999.00,9,    0.014,2,        0,2,     0.00,2,   -999.0,9,   -999.0,9,   -999.0,      9.0,9
  06M320150501,   542, 69,      4,   254540,20150528,2342, 10.0000, -20.0000, 4870,    900.0,   5.7750,  34.7500,2,-999.0000,9,    111.9,9,   -999.0,9,  -999.00,9,  -999.00,9,  -999.00,-999,  -999.00,9,    0.017,2,        0,2,     0.00,2,   -999.0,9,   -999.0,9,   -999.0,      9.0,9
  06M320150501,   542, 69,      5,   254541,20150528,2344, 10.0000, -20.0000, 4870,    800.0,   6.3830,  34.7630,2,-999.0000,9,     92.8,2,     92.8,2,  -999.00,9,  -999.00,9,  -999.00,-999,  -999.00,9,    0.044,2,        0,2,     0.00,2,   -999.0,9,   -999.0,9,   -999.0,      9.0,9
  06M320150501,   542, 69,      6,   254542,20150528,2347, 10.0000, -20.0000, 4870,    699.0,   7.2440,  34.8370,2,-999.0000,9,     73.4,9,   -999.0,9,  -999.00,9,  -999.00,9,  -999.00,-999,  -999.00,9,    0.086,2,        0,2,     0.00,2,   -999.0,9,   -999.0,9,   -999.0,      9.0,9
  06M320150501,   542, 69,      7,   254543,20150528,2349, 10.0000, -20.0000, 4870,    599.0,   8.3220,  34.9290,2,-999.0000,9,     55.3,2,     54.8,2,  -999.00,9,  -999.00,9,  -999.00,-999,  -999.00,9,    0.182,2,        0,2,     0.00,2,   -999.0,9,   -999.0,9,   -999.0,      9.0,9
  06M320150501,   542, 69,      8,   254544,20150528,2350, 10.0000, -20.0000, 4870,    550.0,   8.5020,  34.8930,2,-999.0000,9,     54.3,9,   -999.0,9,  -999.00,9,  -999.00,9,  -999.00,-999,  -999.00,9,    0.252,6,     0.16,6,     0.55,6,   -999.0,9,   -999.0,9,   -999.0,      9.0,9
  06M320150501,   542, 69,      9,   254545,20150528,2350, 10.0000, -20.0000, 4870,    519.0,   8.8990,  34.9380,2,-999.0000,9,     49.8,9,   -999.0,9,  -999.00,9,  -999.00,9,  -999.00,-999,  -999.00,9, -999.000,9,     -999,9,     1.23,2,   -999.0,9,   -999.0,9,   -999.0,      9.0,9
  06M320150501,   542, 69,     10,   254546,20150528,2351, 10.0000, -20.0000, 4870,    489.0,   9.0860,  34.9580,2,-999.0000,9,     48.2,9,   -999.0,9,  -999.00,9,  -999.00,9,  -999.00,-999,  -999.00,9,    0.329,6,      0.2,6,     1.63,6,   -999.0,9,   -999.0,9,   -999.0,      9.0,9
  06M320150501,   542, 69,     11,   254547,20150528,2351, 10.0000, -20.0000, 4870,    460.0,   9.5490,  35.0210,2,-999.0000,9,     44.1,9,   -999.0,9,  -999.00,9,  -999.00,9,  -999.00,-999,  -999.00,9, -999.000,9,     -999,9,  -999.00,9,   -999.0,9,   -999.0,9,   -999.0,      9.0,9
  06M320150501,   542, 69,     12,   254548,20150528,2352, 10.0000, -20.0000, 4870,    429.0,  10.1840,  35.0960,2,-999.0000,9,     41.1,9,   -999.0,9,  -999.00,9,  -999.00,9,  -999.00,-999,  -999.00,9,    0.446,6,     0.32,6,     2.93,6,   -999.0,9,   -999.0,9,   -999.0,      9.0,9
  06M320150501,   542, 69,     13,   254549,20150528,2352, 10.0000, -20.0000, 4870,    400.0,  10.6600,  35.1530,2,-999.0000,9,     40.6,9,   -999.0,9,  -999.00,9,  -999.00,9,  -999.00,-999,  -999.00,9, -999.000,9,     -999,9,     2.92,2,   -999.0,9,   -999.0,9,   -999.0,      9.0,9
  06M320150501,   542, 69,     14,   254550,20150528,2354, 10.0000, -20.0000, 4870,    371.0,  11.0940,  35.1900,2,-999.0000,9,     43.8,2,     41.8,6,  -999.00,9,  -999.00,9,  -999.00,-999,  -999.00,9,    0.631,6,     0.37,6,     1.09,6,   -999.0,9,   -999.0,9,   -999.0,      9.0,9
  06M320150501,   542, 69,     15,   254551,20150528,2355, 10.0000, -20.0000, 4870,    340.0,  11.4340,  35.1950,2,-999.0000,9,     51.4,9,   -999.0,9,  -999.00,9,  -999.00,9,  -999.00,-999,  -999.00,9, -999.000,9,     -999,9,     0.80,2,   -999.0,9,   -999.0,9,   -999.0,      9.0,9
  06M320150501,   542, 69,     16,   254552,20150528,2355, 10.0000, -20.0000, 4870,    310.0,  11.6350,  35.1980,2,-999.0000,9,     57.3,9,   -999.0,9,  -999.00,9,  -999.00,9,  -999.00,-999,  -999.00,9,    0.768,6,     0.48,6,     0.60,6,   -999.0,9,   -999.0,9,   -999.0,      9.0,9
  06M320150501,   542, 69,     17,   254553,20150528,2356, 10.0000, -20.0000, 4870,    279.0,  11.9110,  35.1980,2,-999.0000,9,     70.4,9,   -999.0,9,  -999.00,9,  -999.00,9,  -999.00,-999,  -999.00,9,    0.874,6,     0.55,6,     0.40,6,   -999.0,9,   -999.0,9,   -999.0,      9.0,9
  06M320150501,   542, 69,     18,   254554,20150528,2358, 10.0000, -20.0000, 4870,    150.0,  14.1340,  35.4230,2,-999.0000,9,     67.6,2,     69.1,2,  -999.00,9,  -999.00,9,  -999.00,-999,  -999.00,9,    1.072,2,     0.77,2,     0.00,2,   -999.0,9,   -999.0,9,   -999.0,      9.0,9
  06M320150501,   542, 69,     19,   254555,20150528,2359, 10.0000, -20.0000, 4870,    101.0,  14.5380,  35.4690,2,-999.0000,9,     68.7,9,   -999.0,9,  -999.00,9,  -999.00,9,  -999.00,-999,  -999.00,9,    1.112,2,     0.81,2,     0.00,2,   -999.0,9,   -999.0,9,   -999.0,      9.0,9
  06M320150501,   542, 69,     20,   254556,20150528,0001, 10.0000, -20.0000, 4870,     51.0,  16.0430,  35.6060,2,-999.0000,9,     58.5,9,   -999.0,9,  -999.00,9,  -999.00,9,  -999.00,-999,  -999.00,9,    1.128,2,     0.88,2,     0.00,2,   -999.0,9,   -999.0,9,   -999.0,      9.0,9
  06M320150501,   542, 69,     21,   254557,20150528,0002, 10.0000, -20.0000, 4870,     21.0,  22.0320,  35.7220,2,  35.7050,2,    223.8,9,   -999.0,9,  -999.00,9,  -999.00,9,  -999.00,-999,  -999.00,9,    1.106,2,     1.27,2,     0.00,2,   -999.0,9,   -999.0,9,   -999.0,      9.0,9
  06M320150501,   542, 69,     22,   254558,20150528,0003, 10.0000, -20.0000, 4870,     11.0,  26.9730,  35.9320,2,-999.0000,9,    204.7,2,    210.6,2,  -999.00,9,  -999.00,9,  -999.00,-999,  -999.00,9,    0.958,2,      1.4,2,     0.00,2,   -999.0,9,   -999.0,9,   -999.0,      9.0,9
  06M320150501,   543, 70,      1,   254559,20150529,0550, 10.0000, -19.0000, 4539,   1207.0,   4.7780,  34.8760,2,  34.8780,2,    169.1,2,    168.8,2,  -999.00,9,  -999.00,9,  -999.00,-999,  -999.00,9,    0.015,2,        0,2,     0.00,2,   -999.0,9,   -999.0,9,   -999.0,      9.0,9
  06M320150501,   543, 70,      2,   254560,20150529,0552, 10.0000, -19.0000, 4539,   1099.0,   5.2860,  34.8720,2,-999.0000,9,    145.4,9,   -999.0,9,  -999.00,9,  -999.00,9,  -999.00,-999,  -999.00,9,    0.014,2,        0,2,     0.00,2,   -999.0,9,   -999.0,9,   -999.0,      9.0,9
  06M320150501,   543, 70,      3,   254561,20150529,0554, 10.0000, -19.0000, 4539,    999.0,   5.5260,  34.8180,2,  34.8230,2,    127.9,9,   -999.0,9,  -999.00,9,  -999.00,9,  -999.00,-999,  -999.00,9,    0.012,2,        0,2,     0.00,2,   -999.0,9,   -999.0,9,   -999.0,      9.0,9
  06M320150501,   543, 70,      4,   254562,20150529,0556, 10.0000, -19.0000, 4539,    900.0,   5.7000,  34.7430,2,-999.0000,9,    112.1,9,   -999.0,9,  -999.00,9,  -999.00,9,  -999.00,-999,  -999.00,9,    0.019,2,        0,2,     0.00,2,   -999.0,9,   -999.0,9,   -999.0,      9.0,9
  06M320150501,   543, 70,      5,   254563,20150529,0558, 10.0000, -19.0000, 4539,    799.0,   6.5340,  34.7920,2,-999.0000,9,     89.0,2,     89.8,2,  -999.00,9,  -999.00,9,  -999.00,-999,  -999.00,9,    0.042,2,        0,2,     0.00,2,   -999.0,9,   -999.0,9,   -999.0,      9.0,9
  06M320150501,   543, 70,      6,   254564,20150529,0601, 10.0000, -19.0000, 4539,    700.0,   7.0520,  34.8080,2,-999.0000,9,     76.0,2,     58.7,3,  -999.00,9,  -999.00,9,  -999.00,-999,  -999.00,9,    0.076,2,        0,2,     0.00,2,   -999.0,9,   -999.0,9,   -999.0,      9.0,9
  06M320150501,   543, 70,      7,   254565,20150529,0603, 10.0000, -19.0000, 4539,    599.0,   7.8730,  34.8590,2,-999.0000,9,     59.7,9,   -999.0,9,  -999.00,9,  -999.00,9,  -999.00,-999,  -999.00,9,    0.156,2,     0.15,2,     0.00,2,   -999.0,9,   -999.0,9,   -999.0,      9.0,9
  06M320150501,   543, 70,      8,   254566,20150529,0604, 10.0000, -19.0000, 4539,    530.0,   8.3660,  34.8960,2,-999.0000,9,     54.1,9,   -999.0,9,  -999.00,9,  -999.00,9,  -999.00,-999,  -999.00,9,    0.214,6,     0.15,6,     0.26,6,   -999.0,9,   -999.0,9,   -999.0,      9.0,9
  06M320150501,   543, 70,      9,   254567,20150529,0604, 10.0000, -19.0000, 4539,    499.0,   8.5790,  34.9120,2,-999.0000,9,     52.4,9,   -999.0,9,  -999.00,9,  -999.00,9,  -999.00,-999,  -999.00,9, -999.000,9,     -999,9,     0.56,2,   -999.0,9,   -999.0,9,   -999.0,      9.0,9
  06M320150501,   543, 70,     10,   254568,20150529,0605, 10.0000, -19.0000, 4539,    469.0,   9.0500,  34.9570,2,-999.0000,9,     47.7,9,   -999.0,9,  -999.00,9,  -999.00,9,  -999.00,-999,  -999.00,9,    0.315,6,     0.15,6,     1.53,6,   -999.0,9,   -999.0,9,   -999.0,      9.0,9
  06M320150501,   543, 70,     11,   254569,20150529,0606, 10.0000, -19.0000, 4539,    440.0,   9.5720,  35.0180,2,-999.0000,9,     44.0,9,   -999.0,9,  -999.00,9,  -999.00,9,  -999.00,-999,  -999.00,9, -999.000,9,     -999,9,     2.30,2,   -999.0,9,   -999.0,9,   -999.0,      9.0,9
  06M320150501,   543, 70,     12,   254570,20150529,0606, 10.0000, -19.0000, 4539,    409.0,   9.9200,  35.0610,2,-999.0000,9,     42.3,2,     43.1,2,  -999.00,9,  -999.00,9,  -999.00,-999,  -999.00,9,    0.413,6,     0.26,6,     2.43,6,   -999.0,9,   -999.0,9,   -999.0,      9.0,9
  06M320150501,   543, 70,     13,   254571,20150529,0607, 10.0000, -19.0000, 4539,    380.0,  10.5040,  35.1330,2,-999.0000,9,     41.7,9,   -999.0,9,  -999.00,9,  -999.00,9,  -999.00,-999,  -999.00,9, -999.000,9,     -999,9,     1.79,2,   -999.0,9,   -999.0,9,   -999.0,      9.0,9
  06M320150501,   543, 70,     14,   254572,20150529,0607, 10.0000, -19.0000, 4539,    349.0,  11.0310,  35.1950,2,-999.0000,9,     43.5,9,   -999.0,9,  -999.00,9,  -999.00,9,  -999.00,-999,  -999.00,9,    0.616,6,     0.36,6,     1.21,6,   -999.0,9,   -999.0,9,   -999.0,      9.0,9
  06M320150501,   543, 70,     15,   254573,20150529,0608, 10.0000, -19.0000, 4539,    320.0,  11.3620,  35.2160,2,-999.0000,9,     48.0,9,   -999.0,9,  -999.00,9,  -999.00,9,  -999.00,-999,  -999.00,9, -999.000,9,     -999,9,     0.87,2,   -999.0,9,   -999.0,9,   -999.0,      9.0,9
  06M320150501,   543, 70,     16,   254574,20150529,0608, 10.0000, -19.0000, 4539,    289.0,  11.9800,  35.2720,2,-999.0000,9,     55.2,9,   -999.0,9,  -999.00,9,  -999.00,9,  -999.00,-999,  -999.00,9,    0.825,6,     0.52,6,     0.50,6,   -999.0,9,   -999.0,9,   -999.0,      9.0,9
  06M320150501,   543, 70,     17,   254575,20150529,0609, 10.0000, -19.0000, 4539,    260.0,  12.3500,  35.2580,2,-999.0000,9,     66.0,9,   -999.0,9,  -999.00,9,  -999.00,9,  -999.00,-999,  -999.00,9,    0.886,6,     0.66,6,     0.30,6,   -999.0,9,   -999.0,9,   -999.0,      9.0,9
  06M320150501,   543, 70,     18,   254576,20150529,0611, 10.0000, -19.0000, 4539,    149.0,  14.1170,  35.4230,2,-999.0000,9,     77.0,9,   -999.0,9,  -999.00,9,  -999.00,9,  -999.00,-999,  -999.00,9,    1.095,2,     0.79,2,     0.00,2,   -999.0,9,   -999.0,9,   -999.0,      9.0,9
  06M320150501,   543, 70,     19,   254577,20150529,0612, 10.0000, -19.0000, 4539,    100.0,  15.0380,  35.5240,2,-999.0000,9,     66.0,9,   -999.0,9,  -999.00,9,  -999.00,9,  -999.00,-999,  -999.00,9,    1.127,2,     0.91,2,     0.00,2,   -999.0,9,   -999.0,9,   -999.0,      9.0,9
  06M320150501,   543, 70,     20,   254578,20150529,0614, 10.0000, -19.0000, 4539,     50.0,  17.0470,  35.6490,2,-999.0000,9,     76.2,3,     68.2,2,  -999.00,9,  -999.00,9,  -999.00,-999,  -999.00,9,    1.145,2,      0.9,2,     0.00,2,   -999.0,9,   -999.0,9,   -999.0,      9.0,9
  06M320150501,   543, 70,     21,   254579,20150529,0614, 10.0000, -19.0000, 4539,     21.0,  24.2350,  35.7440,2,-999.0000,9,    230.2,9,   -999.0,9,  -999.00,9,  -999.00,9,  -999.00,-999,  -999.00,9,    1.108,2,     1.34,2,     0.00,2,   -999.0,9,   -999.0,9,   -999.0,      9.0,9
  06M320150501,   543, 70,     22,   254580,20150529,0615, 10.0000, -19.0000, 4539,     10.0,  27.9480,  35.9830,2,  35.9440,2,    201.2,2,    207.0,6,  -999.00,9,  -999.00,9,  -999.00,-999,  -999.00,9,    0.948,2,     1.35,2,     0.00,2,   -999.0,9,   -999.0,9,   -999.0,      9.0,9
  06M320150501,   544, 71,      1,   254581,20150529,1422, 11.0000, -18.0000, 3924,   1203.0,   5.0200,  34.9180,2,  34.9190,2,    162.0,2,    161.2,2,    24.33,6,    29.70,6,     0.00,   6,     1.90,6,    0.010,2,        0,2,     0.00,2,   2211.0,6,   2323.0,6,   -999.0,      9.0,9
  06M320150501,   544, 71,      2,   254582,20150529,1425, 11.0000, -18.0000, 3924,   1084.0,   5.2640,  34.8770,2,-999.0000,9,    145.1,2,    143.5,2,    25.16,2,    31.82,2,     0.00,   2,     2.04,2,    0.009,2,        0,2,     0.00,2,   -999.0,9,   -999.0,9,   -999.0,      9.0,9
  06M320150501,   544, 71,      3,   254583,20150529,1427, 11.0000, -18.0000, 3924,    954.0,   5.6630,  34.8180,2,-999.0000,9,    121.9,2,    121.2,2,    26.00,2,    34.58,2,     0.00,   2,     2.21,2,    0.013,2,        0,2,     0.00,2,   2229.2,2,   2318.4,2,   -999.0,      9.0,9
  06M320150501,   544, 71,      4,   254584,20150529,1428, 11.0000, -18.0000, 3924,    900.0,   5.8450,  34.8040,2,-999.0000,9,    112.9,2,    113.7,2,    25.81,2,    35.63,2,     0.00,   2,     2.27,2,    0.018,2,        0,2,     0.00,2,   -999.0,9,   -999.0,9,   -999.0,      9.0,9
  06M320150501,   544, 71,      5,   254585,20150529,1429, 11.0000, -18.0000, 3924,    800.0,   6.2550,  34.7980,2,  34.8030,2,     97.5,2,     96.9,2,    25.16,2,    37.04,2,     0.01,   2,     2.34,2,    0.040,2,        0,2,     0.00,2,   2238.8,2,   2313.0,2,   -999.0,      9.0,9
  06M320150501,   544, 71,      6,   254586,20150529,1431, 11.0000, -18.0000, 3924,    700.0,   7.2280,  34.8480,2,-999.0000,9,     73.2,2,     75.8,2,    22.82,2,    38.47,2,     0.00,   2,     2.37,2,    0.079,2,     0.13,2,     0.00,2,   -999.0,9,   -999.0,9,   -999.0,      9.0,9
  06M320150501,   544, 71,      7,   254587,20150529,1433, 11.0000, -18.0000, 3924,    599.0,   7.7880,  34.8810,2,-999.0000,9,     61.8,2,     61.6,6,    20.89,2,    38.74,2,     0.00,   2,     2.37,2,    0.139,2,     0.18,2,     0.00,2,   2249.1,2,   2305.7,2,   -999.0,      9.0,9
  06M320150501,   544, 71,      8,   254588,20150529,1434, 11.0000, -18.0000, 3924,    520.0,   8.6640,  34.9720,2,-999.0000,9,     51.1,2,     51.3,2,    18.76,2,    38.24,2,     0.01,   2,     2.31,2,    0.239,6,     0.24,6,     0.19,6,   2251.6,2,   2306.7,2,   -999.0,      9.0,9
  06M320150501,   544, 71,      9,   254589,20150529,1435, 11.0000, -18.0000, 3924,    489.0,   9.0460,  35.0280,2,-999.0000,9,     48.9,2,     49.1,2,    18.05,2,    37.81,2,     0.01,   2,     2.27,2, -999.000,9,     -999,9,     0.21,2,   -999.0,9,   -999.0,9,   -999.0,      9.0,9
  06M320150501,   544, 71,     10,   254590,20150529,1435, 11.0000, -18.0000, 3924,    460.0,   9.4100,  35.0760,2,-999.0000,9,     46.5,2,     46.5,2,    17.29,2,    37.20,2,     0.01,   2,     2.22,2,    0.324,6,     0.31,6,     0.32,6,   2251.1,2,   2232.8,3,   -999.0,      9.0,9
  06M320150501,   544, 71,     11,   254591,20150529,1436, 11.0000, -18.0000, 3924,    430.0,   9.8620,  35.1300,2,-999.0000,9,     45.3,2,     45.8,2,    16.60,2,    36.27,2,     0.01,   2,     2.16,2, -999.000,9,     -999,9,     0.42,2,   -999.0,9,   -999.0,9,   -999.0,      9.0,9
  06M320150501,   544, 71,     12,   254592,20150529,1436, 11.0000, -18.0000, 3924,    400.0,  10.4510,  35.1880,2,-999.0000,9,     44.4,2,     45.2,6,    15.97,6,    35.77,6,     0.01,   6,     2.13,6,    0.455,6,     0.39,6,     0.44,6,   2250.6,2,   2312.6,2,   -999.0,      9.0,9
  06M320150501,   544, 71,     13,   254593,20150529,1437, 11.0000, -18.0000, 3924,    370.0,  11.3800,  35.2970,2,-999.0000,9,     47.4,2,     45.9,2,    14.31,2,    34.49,2,     0.01,   2,     2.02,2,    0.576,6,     0.39,6,     0.34,6,   -999.0,9,   -999.0,9,   -999.0,      9.0,9
  06M320150501,   544, 71,     14,   254594,20150529,1437, 11.0000, -18.0000, 3924,    340.0,  11.7590,  35.3040,2,  35.3070,2,     52.2,2,     50.6,2,    11.87,2,    32.14,2,     0.01,   2,     1.86,2,    0.747,6,     0.55,6,     0.38,6,   2239.1,2,   2318.2,2,   -999.0,      9.0,9
  06M320150501,   544, 71,     15,   254595,20150529,1438, 11.0000, -18.0000, 3924,    309.0,  11.9810,  35.3040,2,-999.0000,9,     56.4,2,     57.6,2,    10.94,2,    30.93,2,     0.01,   2,     1.80,2,    0.838,6,     0.52,6,     0.43,6,   -999.0,9,   -999.0,9,   -999.0,      9.0,9
  06M320150501,   544, 71,     16,   254596,20150529,1438, 11.0000, -18.0000, 3924,    279.0,  12.3860,  35.3080,2,-999.0000,9,     62.8,2,     63.7,2,    10.24,2,    29.55,2,     0.01,   2,     1.74,2,    0.932,6,     0.58,6,     0.27,6,   -999.0,9,   -999.0,9,   -999.0,      9.0,9
  06M320150501,   544, 71,     17,   254597,20150529,1439, 11.0000, -18.0000, 3924,    250.0,  12.6080,  35.2840,2,-999.0000,9,     69.2,2,     71.3,2,     9.99,2,    28.59,2,     0.01,   2,     1.71,2,    0.981,6,     0.58,6,     0.17,6,   2221.3,2,   2318.6,2,   -999.0,      9.0,9
  06M320150501,   544, 71,     18,   254598,20150529,1440, 11.0000, -18.0000, 3924,    151.0,  13.9810,  35.4060,2,-999.0000,9,     76.9,2,     80.9,2,     8.44,2,    25.40,2,     0.01,   2,     1.56,2,    1.095,2,     0.76,2,     0.00,2,   2209.2,2,   2194.4,3,   -999.0,      9.0,9
  06M320150501,   544, 71,     19,   254599,20150529,1441, 11.0000, -18.0000, 3924,    101.0,  15.0120,  35.5200,2,-999.0000,9,     63.2,2,     64.8,2,     7.81,2,    25.58,2,     0.02,   2,     1.56,2,    1.124,2,     0.81,2,     0.00,2,   2216.6,2,   2325.4,2,   -999.0,      9.0,9
  06M320150501,   544, 71,     20,   254600,20150529,1443, 11.0000, -18.0000, 3924,     51.0,  17.8080,  35.6640,2,-999.0000,9,     89.8,3,     73.9,2,     5.59,6,    22.09,6,     0.09,   6,     1.37,6,    1.149,2,     0.94,2,     0.00,2,   2204.4,2,   2333.7,2,   -999.0,      9.0,9
  06M320150501,   544, 71,     21,   254601,20150529,1444, 11.0000, -18.0000, 3924,     20.0,  25.1000,  35.7560,2,-999.0000,9,    223.9,3,    184.6,6,     1.57,2,     3.77,2,     0.13,   2,     0.36,2, -999.000,9,     -999,9,  -999.00,9,   2096.6,2,   2348.2,2,   -999.0,      9.0,9
  06M320150501,   544, 71,     22,   254602,20150529,1444, 11.0000, -18.0000, 3924,     10.0,  27.9890,  35.9000,2,-999.0000,9,    202.9,2,    202.6,2,     0.99,2,     0.86,2,     0.03,   2,     0.12,2,    0.970,6,     1.37,6,     0.00,6,   2048.8,6,   2354.4,6,   -999.0,      9.0,9