BOTTLE,20180504PRINUNIVRMK
EXPOCODE,STNNBR,CASTNO,BTLNBR,BEDFORD,DATE,TIME,LATITUDE,LONGITUDE,DEPTH,CTDPRS,CTDTMP,CTDSAL,CTDSAL_FLAG_W,SALNTY,SALNTY_FLAG_W,CTDOXY,CTDOXY_FLAG_W,OXYGEN,OXYGEN_FLAG_W,SILCAT,SILCAT_FLAG_W,NITRAT,NITRAT_FLAG_W,NITRIT,NITRIT_FLAG_W,PHSPHT,PHSPHT_FLAG_W,CFC-12,CFC-12_FLAG_W,SF6,SF6_FLAG_W,SF5CF3,SF5CF3_FLAG_W,TCARBN,TCARBN_FLAG_W,ALKALI,ALKALI_FLAG_W,AR-39,AR-39ER,AR-39_FLAG_W
,,,,,,,,,METERS,DBAR,ITS-90,PSS-78,,PSS-78,,UMOL/KG,,UMOL/KG,,UMOL/KG,,UMOL/KG,,UMOL/KG,,UMOL/KG,,PMOL/KG,,FMOL/KG,,FMOL/KG,,UMOL/KG,,UMOL/KG,,%Modern,%Modern,
  06M320150501,   530, 57,      1,   254269,20150525,0511, 12.0000, -21.0000, 4841,   2193.0,   3.3420,  34.9550,2,  34.9530,2,    237.8,2,    237.9,6,    25.45,6,    20.32,6,     0.00,   6,     1.40,6,    0.002,2,        0,2,     0.00,2,   2173.3,6,   2323.8,6,   -999.0,      9.0,9
  06M320150501,   530, 57,      2,   254270,20150525,0515, 12.0000, -21.0000, 4841,   1999.0,   3.5460,  34.9600,2,-999.0000,9,    236.2,2,    236.2,2,    22.98,2,    20.57,2,     0.00,   2,     1.40,2,    0.005,2,        0,2,     0.00,2,   2171.6,2,   2325.1,2,   -999.0,      9.0,9
  06M320150501,   530, 57,      3,   254271,20150525,0519, 12.0000, -21.0000, 4841,   1749.0,   3.8930,  34.9650,2,-999.0000,9,    226.7,2,    226.4,2,    21.22,2,    21.41,2,     0.00,   2,     1.45,2,    0.008,2,        0,2,     0.00,2,   2174.2,2,   2317.2,2,   -999.0,      9.0,9
  06M320150501,   530, 57,      4,   254272,20150525,0523, 12.0000, -21.0000, 4841,   1499.0,   4.2710,  34.9510,2,  34.9520,2,    207.5,2,    206.2,2,    21.57,2,    23.48,2,     0.00,   2,     1.58,2,    0.011,2,        0,2,     0.00,2,   2183.3,2,   2317.2,2,   -999.0,      9.0,9
  06M320150501,   530, 57,      5,   254273,20150525,0528, 12.0000, -21.0000, 4841,   1248.0,   5.0000,  34.9330,2,-999.0000,9,    165.8,2,    165.3,2,    23.70,2,    27.74,2,     0.00,   2,     1.86,2,    0.010,2,        0,2,     0.00,2,   2240.8,6,   2306.7,6,   -999.0,      9.0,9
  06M320150501,   530, 57,      6,   254274,20150525,0532, 12.0000, -21.0000, 4841,    999.0,   5.7940,  34.8330,2,-999.0000,9,    120.6,2,    119.1,2,    25.18,2,    33.36,2,     0.00,   2,     2.19,2,    0.015,2,        0,2,     0.00,2,   2224.5,2,   2309.9,2,   -999.0,      9.0,9
  06M320150501,   530, 57,      7,   254275,20150525,0535, 12.0000, -21.0000, 4841,    798.0,   6.5650,  34.8090,2,-999.0000,9,     90.1,2,     88.7,2,    24.02,2,    36.62,2,     0.00,   2,     2.34,2,    0.049,2,        0,2,     0.00,2,   2203.9,2,   2324.1,2,   -999.0,      9.0,9
  06M320150501,   530, 57,      8,   254276,20150525,0537, 12.0000, -21.0000, 4841,    700.0,   7.4700,  34.8880,2,  34.8840,2,     72.7,2,     73.0,2,    21.60,2,    36.92,2,     0.00,   2,     2.33,2,    0.090,6,        0,6,     0.00,6,   2206.0,2,   2318.7,2,   -999.0,      9.0,9
  06M320150501,   530, 57,      9,   254277,20150525,0540, 12.0000, -21.0000, 4841,    529.0,   9.5000,  35.1060,2,-999.0000,9,     50.1,2,     49.6,2,    16.71,2,    35.86,2,     0.00,   2,     2.18,2, -999.000,9,     -999,9,     0.06,2,   2245.6,2,   2307.5,2,   -999.0,      9.0,9
  06M320150501,   530, 57,     10,   254278,20150525,0540, 12.0000, -21.0000, 4841,    499.0,   9.9810,  35.1680,2,-999.0000,9,     51.9,2,     51.4,2,    15.25,2,    34.59,2,     0.01,   2,     2.07,2,    0.393,6,     0.23,6,     0.11,6,   2243.3,2,   2310.5,2,   -999.0,      9.0,9
  06M320150501,   530, 57,     11,   254279,20150525,0541, 12.0000, -21.0000, 4841,    470.0,  10.2880,  35.1950,2,-999.0000,9,     47.7,2,     48.2,2,    14.70,2,    34.46,2,     0.01,   2,     2.05,2, -999.000,9,     -999,9,     0.37,2,   2244.2,2,   2310.6,2,   -999.0,      9.0,9
  06M320150501,   530, 57,     12,   254280,20150525,0541, 12.0000, -21.0000, 4841,    439.0,  10.6330,  35.2300,2,-999.0000,9,     45.1,2,     45.8,6,    14.09,6,    34.17,6,     0.01,   6,     2.02,6,    0.474,6,     0.37,6,     0.50,6,   2244.4,2,   2309.2,2,   -999.0,      9.0,9
  06M320150501,   530, 57,     13,   254281,20150525,0542, 12.0000, -21.0000, 4841,    409.0,  11.0170,  35.2610,2,-999.0000,9,     45.3,2,     43.4,2,    13.02,2,    33.30,2,     0.01,   2,     1.96,2, -999.000,9,     -999,9,     0.52,2,   2243.5,2,   2312.7,2,   -999.0,      9.0,9
  06M320150501,   530, 57,     14,   254282,20150525,0542, 12.0000, -21.0000, 4841,    379.0,  11.2430,  35.2710,2,-999.0000,9,     45.2,2,     44.2,2,    12.38,2,    32.81,2,     0.01,   2,     1.93,2, -999.000,9,     -999,9,     0.43,2,   2243.0,2,   2313.7,2,   -999.0,      9.0,9
  06M320150501,   530, 57,     15,   254283,20150525,0543, 12.0000, -21.0000, 4841,    349.0,  11.3280,  35.2370,2,-999.0000,9,     53.5,2,     51.7,2,    12.03,2,    32.01,2,     0.01,   2,     1.89,2,    0.693,6,     0.45,6,     0.46,6,   -999.0,9,   -999.0,9,   -999.0,      9.0,9
  06M320150501,   530, 57,     16,   254284,20150525,0543, 12.0000, -21.0000, 4841,    318.0,  11.4760,  35.2160,2,-999.0000,9,     58.1,2,     82.4,3,    11.65,2,    31.30,2,     0.01,   2,     1.85,2,    0.755,6,     0.45,6,     0.56,6,   2231.7,2,   2309.6,2,   -999.0,      9.0,9
  06M320150501,   530, 57,     17,   254285,20150525,0544, 12.0000, -21.0000, 4841,    288.0,  11.6650,  35.2090,2,-999.0000,9,     60.2,2,     60.2,2,    11.36,2,    30.54,2,     0.01,   2,     1.83,2,    0.802,6,     0.42,6,     0.56,6,   -999.0,9,   -999.0,9,   -999.0,      9.0,9
  06M320150501,   530, 57,     18,   254286,20150525,0546, 12.0000, -21.0000, 4841,    149.0,  13.0240,  35.2980,2,-999.0000,9,     87.0,2,     87.0,2,     8.98,2,    25.31,2,     0.01,   2,     1.58,2,    1.056,6,     0.63,6,     0.01,6,   2206.4,2,   2317.1,2,   -999.0,      9.0,9
  06M320150501,   530, 57,     19,   254287,20150525,0546, 12.0000, -21.0000, 4841,    129.0,  13.2620,  35.3280,2,-999.0000,9,     83.8,2,     85.0,2,     8.68,2,    24.95,2,     0.01,   2,     1.56,2,    1.068,2,     0.73,2,     0.00,2,   2205.8,2,   2317.4,2,   -999.0,      9.0,9
  06M320150501,   530, 57,     20,   254288,20150525,0547, 12.0000, -21.0000, 4841,     99.0,  13.9490,  35.4050,2,-999.0000,9,     71.7,2,     73.8,2,     8.22,2,    25.18,2,     0.01,   2,     1.57,2,    1.113,2,     0.81,2,     0.00,2,   2211.0,2,   2318.6,2,   -999.0,      9.0,9
  06M320150501,   530, 57,     21,   254289,20150525,0548, 12.0000, -21.0000, 4841,     81.0,  14.2710,  35.4420,2,-999.0000,9,     75.2,2,     71.4,2,     7.96,2,    25.02,2,     0.02,   2,     1.56,2, -999.000,9,     -999,9,  -999.00,9,   2210.6,2,   2318.0,2,   -999.0,      9.0,9
  06M320150501,   530, 57,     22,   254290,20150525,0548, 12.0000, -21.0000, 4841,     60.0,  14.7460,  35.4920,2,-999.0000,9,     65.8,2,     66.3,2,     7.55,2,    25.09,2,     0.02,   2,     1.56,2,    1.113,2,     0.87,2,     0.00,2,   2215.5,2,   2321.4,2,   -999.0,      9.0,9
  06M320150501,   530, 57,     23,   254291,20150525,0549, 12.0000, -21.0000, 4841,     46.0,  15.3510,  35.5480,2,-999.0000,9,     66.2,2,     66.1,2,     6.98,2,    24.38,2,     0.06,   2,     1.51,2,    1.146,2,     0.83,2,     0.00,2,   2209.8,2,   2321.7,2,   -999.0,      9.0,9
  06M320150501,   530, 57,     24,   254292,20150525,0549, 12.0000, -21.0000, 4841,     31.0,  17.8080,  35.6500,2,  35.6510,2,     84.0,2,     83.2,6,     4.05,6,    17.71,6,     0.53,   6,     1.23,6,    1.121,2,     0.94,2,     0.00,2,   2192.3,2,   2330.7,2,   -999.0,      9.0,9
  06M320150501,   531, 58,      1,   254293,20150525,1144, 11.0000, -21.0000, 5009,   1201.0,   5.0000,  34.8950,2,  34.8930,2,    161.5,2,    159.9,6,    24.78,6,    29.82,6,     0.00,   6,     2.00,6,    0.012,2,        0,2,     0.00,2,   2209.8,6,   2320.3,6,   -999.0,      9.0,9
  06M320150501,   531, 58,      2,   254294,20150525,1146, 11.0000, -21.0000, 5009,   1099.0,   5.2730,  34.8510,2,-999.0000,9,    143.0,2,    142.2,2,    25.11,2,    31.16,2,     0.00,   2,     2.05,2,    0.009,2,        0,2,     0.00,2,   -999.0,9,   -999.0,9,   -999.0,      9.0,9
  06M320150501,   531, 58,      3,   254295,20150525,1148, 11.0000, -21.0000, 5009,    999.0,   5.4570,  34.7910,2,-999.0000,9,    128.9,2,    128.1,2,    25.98,2,    33.01,2,     0.00,   2,     2.17,2,    0.009,2,        0,2,     0.00,2,   2225.2,2,   2312.6,2,   -999.0,      9.0,9
  06M320150501,   531, 58,      4,   254296,20150525,1149, 11.0000, -21.0000, 5009,    899.0,   5.6970,  34.7510,2,-999.0000,9,    114.6,2,    114.9,2,    26.27,2,    34.59,2,     0.00,   2,     2.27,2,    0.013,2,        0,2,     0.00,2,   -999.0,9,   -999.0,9,   -999.0,      9.0,9
  06M320150501,   531, 58,      5,   254297,20150525,1151, 11.0000, -21.0000, 5009,    800.0,   6.2410,  34.7600,2,-999.0000,9,     96.4,2,     96.8,2,    25.06,2,    36.31,2,     0.00,   2,     2.33,2,    0.030,2,        0,2,     0.00,2,   2236.6,2,   2310.3,2,   -999.0,      9.0,9
  06M320150501,   531, 58,      6,   254298,20150525,1154, 11.0000, -21.0000, 5009,    699.0,   6.7440,  34.7750,2,-999.0000,9,     83.0,2,     82.3,2,    23.39,2,    37.46,2,     0.00,   2,     2.35,2,    0.063,2,        0,2,     0.00,2,   -999.0,9,   -999.0,9,   -999.0,      9.0,9
  06M320150501,   531, 58,      7,   254299,20150525,1156, 11.0000, -21.0000, 5009,    599.0,   7.6220,  34.8430,2,  34.8410,2,     64.7,2,     64.8,2,    20.95,2,    38.09,2,     0.00,   2,     2.35,2,    0.124,2,        0,2,     0.00,2,   2246.9,6,   2300.1,6,   -999.0,      9.0,9
  06M320150501,   531, 58,      8,   254300,20150525,1157, 11.0000, -21.0000, 5009,    507.0,   8.8410,  34.9920,2,-999.0000,9,     49.5,2,     52.3,2,    18.32,2,    37.27,2,     0.00,   2,     2.26,2,    0.213,6,        0,6,     0.05,6,   2251.0,2,   2307.5,2,   -999.0,      9.0,9
  06M320150501,   531, 58,      9,   254301,20150525,1158, 11.0000, -21.0000, 5009,    477.0,   9.2650,  35.0320,2,-999.0000,9,     46.6,2,     48.2,2,    16.87,2,    36.55,2,     0.01,   2,     2.19,2, -999.000,9,     -999,9,     0.70,2,   -999.0,9,   -999.0,9,   -999.0,      9.0,9
  06M320150501,   531, 58,     10,   254302,20150525,1158, 11.0000, -21.0000, 5009,    446.0,   9.7240,  35.0950,2,-999.0000,9,     44.4,2,     44.1,2,    15.92,2,    36.25,2,     0.01,   2,     2.14,2,    0.341,6,     0.27,6,     1.99,6,   2251.8,2,   2311.0,2,   -999.0,      9.0,9
  06M320150501,   531, 58,     11,   254303,20150525,1159, 11.0000, -21.0000, 5009,    416.0,  10.1860,  35.1500,2,-999.0000,9,     44.6,2,     44.3,2,    14.66,2,    34.62,2,     0.00,   2,     2.05,2, -999.000,9,     -999,9,     2.43,2,   -999.0,9,   -999.0,9,   -999.0,      9.0,9
  06M320150501,   531, 58,     12,   254304,20150525,1159, 11.0000, -21.0000, 5009,    387.0,  10.7030,  35.2060,2,-999.0000,9,     45.3,2,     44.9,6,    13.69,6,    34.01,6,     0.01,   6,     1.99,6,    0.505,6,     0.32,6,     1.48,6,   2247.2,2,   2312.9,2,   -999.0,      9.0,9
  06M320150501,   531, 58,     13,   254305,20150525,1200, 11.0000, -21.0000, 5009,    356.0,  10.9240,  35.2160,2,-999.0000,9,     46.9,2,     45.9,2,    13.16,2,    33.77,2,     0.01,   2,     1.98,2, -999.000,9,     -999,9,     1.04,2,   -999.0,9,   -999.0,9,   -999.0,      9.0,9
  06M320150501,   531, 58,     14,   254306,20150525,1200, 11.0000, -21.0000, 5009,    326.0,  11.0710,  35.1990,2,-999.0000,9,     45.5,2,     46.5,2,    12.73,2,    33.33,2,     0.01,   2,     1.94,2,    0.602,6,     0.32,6,     0.79,6,   2244.8,2,   2314.0,2,   -999.0,      9.0,9
  06M320150501,   531, 58,     15,   254307,20150525,1201, 11.0000, -21.0000, 5009,    296.0,  11.2880,  35.1990,2,-999.0000,9,     47.1,2,     46.2,2,    12.38,2,    32.90,2,     0.00,   2,     1.90,2, -999.000,9,     -999,9,     0.77,2,   -999.0,9,   -999.0,9,   -999.0,      9.0,9
  06M320150501,   531, 58,     16,   254308,20150525,1201, 11.0000, -21.0000, 5009,    266.0,  11.5350,  35.2020,2,-999.0000,9,     51.8,2,     53.1,2,    12.10,2,    31.75,2,     0.01,   2,     1.83,2,    0.736,6,     0.39,6,     0.70,6,   -999.0,9,   -999.0,9,   -999.0,      9.0,9
  06M320150501,   531, 58,     17,   254309,20150525,1202, 11.0000, -21.0000, 5009,    236.0,  11.9440,  35.2290,2,  35.2270,2,     58.6,2,     57.2,2,    11.26,2,    30.54,2,     0.01,   2,     1.82,2, -999.000,9,     -999,9,     0.44,2,   2233.0,2,   2314.3,2,   -999.0,      9.0,9
  06M320150501,   531, 58,     18,   254310,20150525,1203, 11.0000, -21.0000, 5009,    150.0,  13.8330,  35.3920,2,-999.0000,9,     72.2,2,     71.8,2,     8.73,2,    25.89,2,     0.01,   2,     1.62,2,    1.045,2,     0.68,2,     0.00,2,   2215.6,2,   2322.2,2,   -999.0,      9.0,9
  06M320150501,   531, 58,     19,   254311,20150525,1204, 11.0000, -21.0000, 5009,    100.0,  15.0280,  35.5200,2,-999.0000,9,     62.7,2,     62.6,2,     7.51,2,    24.73,2,     0.02,   2,     1.55,2,    1.117,2,     0.81,2,     0.00,2,   2218.4,2,   2327.8,2,   -999.0,      9.0,9
  06M320150501,   531, 58,     20,   254312,20150525,1205, 11.0000, -21.0000, 5009,     51.0,  18.9360,  35.6740,2,-999.0000,9,    141.7,3,    132.2,2,     2.71,6,    10.23,6,     0.23,   6,     0.78,6,    1.090,2,     1.01,2,     0.00,2,   2157.7,2,   2343.9,2,   -999.0,      9.0,9
  06M320150501,   531, 58,     21,   254313,20150525,1206, 11.0000, -21.0000, 5009,     21.0,  27.0610,  35.8820,2,-999.0000,9,    205.6,2,    204.6,2,     0.58,2,     0.36,2,     0.00,   2,     0.08,2, -999.000,9,     -999,9,  -999.00,9,   2047.0,2,   2357.7,2,   -999.0,      9.0,9
  06M320150501,   531, 58,     22,   254314,20150525,1207, 11.0000, -21.0000, 5009,      8.0,  27.0840,  35.8850,2,-999.0000,9,    204.9,2,    204.2,2,     0.58,2,     0.21,2,     0.00,   2,     0.09,2,    0.942,2,     1.31,2,     0.00,2,   2046.2,2,   2357.3,2,   -999.0,      9.0,9
  06M320150501,   532, 59,      1,   254315,20150525,1759, 10.0000, -21.0000, 5043,   1209.0,   4.8430,  34.8500,2,  34.8500,2,    163.3,2,    162.3,2,    25.00,2,    28.24,2,     0.00,   2,     1.93,2,    0.016,2,        0,2,     0.00,2,   2211.2,6,   2318.5,6,   -999.0,      9.0,9
  06M320150501,   532, 59,      2,   254316,20150525,1801, 10.0000, -21.0000, 5043,   1100.0,   4.9920,  34.8180,2,-999.0000,9,    151.2,2,    150.4,2,    26.01,2,    30.29,2,     0.00,   2,     2.03,2,    0.010,2,        0,2,     0.00,2,   -999.0,9,   -999.0,9,   -999.0,      9.0,9
  06M320150501,   532, 59,      3,   254317,20150525,1802, 10.0000, -21.0000, 5043,    998.0,   5.3140,  34.7550,2,-999.0000,9,    128.5,2,    128.1,2,    27.21,2,    33.33,2,     0.00,   2,     2.21,2,    0.011,2,        0,2,     0.00,2,   2226.8,2,   2309.3,2,   -999.0,      9.0,9
  06M320150501,   532, 59,      4,   254318,20150525,1804, 10.0000, -21.0000, 5043,    899.0,   5.4620,  34.7110,2,-999.0000,9,    118.7,2,    117.6,2,    27.42,2,    34.94,2,     0.01,   2,     2.31,2,    0.016,2,        0,2,     0.00,2,   -999.0,9,   -999.0,9,   -999.0,      9.0,9
  06M320150501,   532, 59,      5,   254319,20150525,1806, 10.0000, -21.0000, 5043,    798.0,   5.9830,  34.7240,2,-999.0000,9,    100.9,2,    100.3,2,    26.08,2,    36.57,2,     0.00,   2,     2.36,2,    0.029,2,        0,2,     0.00,2,   2239.2,2,   2303.5,2,   -999.0,      9.0,9
  06M320150501,   532, 59,      6,   254320,20150525,1807, 10.0000, -21.0000, 5043,    700.0,   6.5740,  34.7320,2,-999.0000,9,     86.1,2,     84.6,2,    24.04,2,    37.89,2,     0.00,   2,     2.39,2,    0.067,2,        0,2,     0.00,2,   -999.0,9,   -999.0,9,   -999.0,      9.0,9
  06M320150501,   532, 59,      7,   254321,20150525,1809, 10.0000, -21.0000, 5043,    600.0,   7.4620,  34.8110,2,  34.8110,2,     67.4,2,     67.6,2,    21.51,2,    38.15,2,     0.00,   2,     2.38,2,    0.128,2,        0,2,     0.00,2,   2247.8,2,   2305.7,2,   -999.0,      9.0,9
  06M320150501,   532, 59,      8,   254322,20150525,1810, 10.0000, -21.0000, 5043,    529.0,   8.1890,  34.8840,2,-999.0000,9,     56.3,2,     57.9,2,    19.58,2,    38.14,2,     0.00,   2,     2.33,2,    0.182,6,     0.13,6,     0.09,6,   2247.2,2,   2302.9,2,   -999.0,      9.0,9
  06M320150501,   532, 59,      9,   254323,20150525,1811, 10.0000, -21.0000, 5043,    500.0,   8.5140,  34.9160,2,-999.0000,9,     52.2,2,     52.1,2,    18.74,2,    38.02,2,     0.00,   2,     2.30,2, -999.000,9,     -999,9,     0.52,2,   -999.0,9,   -999.0,9,   -999.0,      9.0,9
  06M320150501,   532, 59,     10,   254324,20150525,1811, 10.0000, -21.0000, 5043,    470.0,   8.9750,  34.9600,2,-999.0000,9,     47.4,2,     47.8,2,    17.69,2,    37.51,2,     0.00,   2,     2.25,2,    0.282,6,     0.32,6,     1.68,6,   2251.4,2,   2303.2,2,   -999.0,      9.0,9
  06M320150501,   532, 59,     11,   254325,20150525,1812, 10.0000, -21.0000, 5043,    439.0,   9.5690,  35.0400,2,-999.0000,9,     42.6,2,     42.9,2,    16.72,2,    37.14,2,     0.00,   2,     2.21,2, -999.000,9,     -999,9,     3.31,2,   -999.0,9,   -999.0,9,   -999.0,      9.0,9
  06M320150501,   532, 59,     12,   254326,20150525,1812, 10.0000, -21.0000, 5043,    409.0,   9.9610,  35.0670,2,-999.0000,9,     40.0,2,     41.9,6,    15.52,6,    36.39,6,     0.00,   6,     2.15,6,    0.403,6,     0.29,6,     5.22,6,   2250.0,6,   2305.6,6,   -999.0,      9.0,9
  06M320150501,   532, 59,     13,   254327,20150525,1813, 10.0000, -21.0000, 5043,    379.0,  10.5660,  35.1540,2,-999.0000,9,     39.9,2,     40.9,2,    14.18,2,    34.85,2,     0.00,   2,     2.06,2, -999.000,9,     -999,9,     2.91,2,   -999.0,9,   -999.0,9,   -999.0,      9.0,9
  06M320150501,   532, 59,     14,   254328,20150525,1813, 10.0000, -21.0000, 5043,    349.0,  10.5640,  35.1000,2,-999.0000,9,     48.3,2,     49.4,2,    13.76,2,    34.07,2,     0.01,   2,     2.01,2, -999.000,9,     -999,9,     1.43,2,   2244.7,2,   2308.6,2,   -999.0,      9.0,9
  06M320150501,   532, 59,     15,   254329,20150525,1813, 10.0000, -21.0000, 5043,    319.0,  11.2970,  35.1900,2,-999.0000,9,     51.4,2,     50.9,2,    12.33,2,    32.15,2,     0.00,   2,     1.90,2, -999.000,9,     -999,9,     0.75,2,   -999.0,9,   -999.0,9,   -999.0,      9.0,9
  06M320150501,   532, 59,     16,   254330,20150525,1814, 10.0000, -21.0000, 5043,    289.0,  11.4270,  35.1490,2,-999.0000,9,     69.2,2,     62.2,2,    11.82,2,    30.67,2,     0.01,   2,     1.84,2,    0.782,6,     0.56,6,     0.59,6,   -999.0,9,   -999.0,9,   -999.0,      9.0,9
  06M320150501,   532, 59,     17,   254331,20150525,1814, 10.0000, -21.0000, 5043,    260.0,  11.5870,  35.1390,2,  35.1470,2,     83.8,2,     79.9,2,    11.11,2,    28.59,2,     0.01,   2,     1.74,2,    0.887,6,     0.56,6,     0.38,6,   2216.6,2,   2307.6,2,   -999.0,      9.0,9
  06M320150501,   532, 59,     18,   254332,20150525,1816, 10.0000, -21.0000, 5043,    150.0,  12.9710,  35.2900,2,-999.0000,9,     93.6,2,     95.4,6,     8.80,6,    24.18,6,     0.01,   6,     1.52,6,    1.100,2,     0.84,2,     0.00,2,   2202.2,2,   2316.4,2,   -999.0,      9.0,9
  06M320150501,   532, 59,     19,   254333,20150525,1817, 10.0000, -21.0000, 5043,    100.0,  13.9450,  35.4040,2,-999.0000,9,     86.8,2,     89.0,2,     7.94,2,    23.55,2,     0.02,   2,     1.48,2,    1.121,2,     0.92,2,     0.00,2,   2200.8,2,   2322.5,2,   -999.0,      9.0,9
  06M320150501,   532, 59,     20,   254334,20150525,1819, 10.0000, -21.0000, 5043,     51.0,  15.8540,  35.5790,2,-999.0000,9,     69.6,2,     71.8,2,     6.52,2,    23.17,2,     0.26,   2,     1.44,2,    1.134,2,     1.01,2,     0.00,2,   2211.1,2,   2328.0,2,   -999.0,      9.0,9
  06M320150501,   532, 59,     21,   254335,20150525,1820, 10.0000, -21.0000, 5043,     21.0,  25.0400,  35.7870,2,-999.0000,9,    216.7,3,    184.7,2,     1.88,2,     4.43,2,     0.08,   2,     0.37,2,    1.069,2,     1.32,2,     0.00,2,   2093.0,2,   2343.2,2,   -999.0,      9.0,9
  06M320150501,   532, 59,     22,   254336,20150525,1820, 10.0000, -21.0000, 5043,      9.0,  27.4360,  35.9450,2,-999.0000,9,    202.0,2,    208.9,6,     0.84,6,     0.39,6,     0.01,   6,     0.08,6,    0.957,2,     1.45,2,     0.00,2,   2043.2,2,   2355.9,2,   -999.0,      9.0,9