BOTTLE,20180504PRINUNIVRMK
EXPOCODE,STNNBR,CASTNO,BTLNBR,BEDFORD,DATE,TIME,LATITUDE,LONGITUDE,DEPTH,CTDPRS,CTDTMP,CTDSAL,CTDSAL_FLAG_W,SALNTY,SALNTY_FLAG_W,CTDOXY,CTDOXY_FLAG_W,OXYGEN,OXYGEN_FLAG_W,SILCAT,SILCAT_FLAG_W,NITRAT,NITRAT_FLAG_W,NITRIT,NITRIT_FLAG_W,PHSPHT,PHSPHT_FLAG_W,CFC-12,CFC-12_FLAG_W,SF6,SF6_FLAG_W,SF5CF3,SF5CF3_FLAG_W,TCARBN,TCARBN_FLAG_W,ALKALI,ALKALI_FLAG_W,AR-39,AR-39ER,AR-39_FLAG_W
,,,,,,,,,METERS,DBAR,ITS-90,PSS-78,,PSS-78,,UMOL/KG,,UMOL/KG,,UMOL/KG,,UMOL/KG,,UMOL/KG,,UMOL/KG,,PMOL/KG,,FMOL/KG,,FMOL/KG,,UMOL/KG,,UMOL/KG,,%Modern,%Modern,
  06M320150501,   517, 44,      1,   253975,20150521,1615, 11.5500, -23.0000, 4990,   4013.0,   2.3850,  34.8890,2,-999.0000,9,    244.0,9,   -999.0,9,  -999.00,9,  -999.00,9,  -999.00,-999,  -999.00,9, -999.000,9,     -999,9,  -999.00,9,   -999.0,9,   -999.0,9,     47.1,      5.3,2
  06M320150501,   517, 44,      2,   253976,20150521,1615, 11.5500, -23.0000, 4990,   4013.0,   2.3850,  34.8890,2,-999.0000,9,    243.8,9,   -999.0,9,  -999.00,9,  -999.00,9,  -999.00,-999,  -999.00,9, -999.000,9,     -999,9,  -999.00,9,   -999.0,9,   -999.0,9,   -999.0,      9.0,9
  06M320150501,   517, 44,      3,   253977,20150521,1616, 11.5500, -23.0000, 4990,   4013.0,   2.3850,  34.8890,2,-999.0000,9,    243.7,9,   -999.0,9,  -999.00,9,  -999.00,9,  -999.00,-999,  -999.00,9, -999.000,9,     -999,9,  -999.00,9,   -999.0,9,   -999.0,9,   -999.0,      9.0,9
  06M320150501,   517, 44,      4,   253978,20150521,1635, 11.5500, -23.0000, 4990,   3002.0,   2.7370,  34.9230,2,-999.0000,9,    245.0,9,   -999.0,9,  -999.00,9,  -999.00,9,  -999.00,-999,  -999.00,9, -999.000,9,     -999,9,  -999.00,9,   -999.0,9,   -999.0,9,     35.0,      4.2,2
  06M320150501,   517, 44,      5,   253979,20150521,1635, 11.5500, -23.0000, 4990,   3001.0,   2.7370,  34.9230,2,-999.0000,9,    244.9,9,   -999.0,9,  -999.00,9,  -999.00,9,  -999.00,-999,  -999.00,9, -999.000,9,     -999,9,  -999.00,9,   -999.0,9,   -999.0,9,   -999.0,      9.0,9
  06M320150501,   517, 44,      6,   253980,20150521,1635, 11.5500, -23.0000, 4990,   3000.0,   2.7390,  34.9230,2,-999.0000,9,    245.0,9,   -999.0,9,  -999.00,9,  -999.00,9,  -999.00,-999,  -999.00,9, -999.000,9,     -999,9,  -999.00,9,   -999.0,9,   -999.0,9,   -999.0,      9.0,9
  06M320150501,   517, 44,      7,   253981,20150521,1706, 11.5500, -23.0000, 4990,   1499.0,   4.3340,  34.9540,2,-999.0000,9,    205.6,9,   -999.0,9,  -999.00,9,  -999.00,9,  -999.00,-999,  -999.00,9, -999.000,9,     -999,9,  -999.00,9,   -999.0,9,   -999.0,9,     46.2,      6.0,2
  06M320150501,   517, 44,      8,   253982,20150521,1706, 11.5500, -23.0000, 4990,   1499.0,   4.3340,  34.9540,2,-999.0000,9,    205.5,9,   -999.0,9,  -999.00,9,  -999.00,9,  -999.00,-999,  -999.00,9, -999.000,9,     -999,9,  -999.00,9,   -999.0,9,   -999.0,9,   -999.0,      9.0,9
  06M320150501,   517, 44,      9,   253983,20150521,1707, 11.5500, -23.0000, 4990,   1496.0,   4.3420,  34.9540,2,-999.0000,9,    205.4,9,   -999.0,9,  -999.00,9,  -999.00,9,  -999.00,-999,  -999.00,9, -999.000,9,     -999,9,  -999.00,9,   -999.0,9,   -999.0,9,   -999.0,      9.0,9
  06M320150501,   517, 44,     10,   253984,20150521,1718, 11.5500, -23.0000, 4990,    999.0,   5.6130,  34.8070,2,-999.0000,9,    124.3,9,   -999.0,9,  -999.00,9,  -999.00,9,  -999.00,-999,  -999.00,9, -999.000,9,     -999,9,  -999.00,9,   -999.0,9,   -999.0,9,     54.7,      5.1,2
  06M320150501,   517, 44,     11,   253985,20150521,1718, 11.5500, -23.0000, 4990,    997.0,   5.6140,  34.8070,2,-999.0000,9,    123.7,9,   -999.0,9,  -999.00,9,  -999.00,9,  -999.00,-999,  -999.00,9, -999.000,9,     -999,9,  -999.00,9,   -999.0,9,   -999.0,9,   -999.0,      9.0,9
  06M320150501,   517, 44,     12,   253986,20150521,1718, 11.5500, -23.0000, 4990,    994.0,   5.6220,  34.8070,2,-999.0000,9,    123.9,9,   -999.0,9,  -999.00,9,  -999.00,9,  -999.00,-999,  -999.00,9, -999.000,9,     -999,9,  -999.00,9,   -999.0,9,   -999.0,9,   -999.0,      9.0,9
  06M320150501,   517, 44,     13,   253987,20150521,1730, 11.5500, -23.0000, 4990,    449.0,   9.8850,  35.0570,2,-999.0000,9,     40.7,9,   -999.0,9,  -999.00,9,  -999.00,9,  -999.00,-999,  -999.00,9, -999.000,9,     -999,9,  -999.00,9,   -999.0,9,   -999.0,9,     78.7,      7.7,2
  06M320150501,   517, 44,     14,   253988,20150521,1730, 11.5500, -23.0000, 4990,    447.0,   9.9480,  35.0630,2,-999.0000,9,     40.6,9,   -999.0,9,  -999.00,9,  -999.00,9,  -999.00,-999,  -999.00,9, -999.000,9,     -999,9,  -999.00,9,   -999.0,9,   -999.0,9,   -999.0,      9.0,9
  06M320150501,   517, 44,     15,   253989,20150521,1730, 11.5500, -23.0000, 4990,    445.0,   9.9620,  35.0620,2,-999.0000,9,     40.4,9,   -999.0,9,  -999.00,9,  -999.00,9,  -999.00,-999,  -999.00,9, -999.000,9,     -999,9,  -999.00,9,   -999.0,9,   -999.0,9,   -999.0,      9.0,9
  06M320150501,   517, 44,     16,   253990,20150521,1731, 11.5500, -23.0000, 4990,    400.0,  10.4120,  35.0990,2,-999.0000,9,     41.0,9,   -999.0,9,  -999.00,9,  -999.00,9,  -999.00,-999,  -999.00,9, -999.000,9,     -999,9,  -999.00,9,   -999.0,9,   -999.0,9,     80.3,      7.6,2
  06M320150501,   517, 44,     17,   253991,20150521,1731, 11.5500, -23.0000, 4990,    398.0,  10.4110,  35.0990,2,-999.0000,9,     40.9,9,   -999.0,9,  -999.00,9,  -999.00,9,  -999.00,-999,  -999.00,9, -999.000,9,     -999,9,  -999.00,9,   -999.0,9,   -999.0,9,   -999.0,      9.0,9
  06M320150501,   517, 44,     18,   253992,20150521,1731, 11.5500, -23.0000, 4990,    397.0,  10.4090,  35.0990,2,-999.0000,9,     40.9,9,   -999.0,9,  -999.00,9,  -999.00,9,  -999.00,-999,  -999.00,9, -999.000,9,     -999,9,  -999.00,9,   -999.0,9,   -999.0,9,   -999.0,      9.0,9
  06M320150501,   517, 44,     19,   253993,20150521,1732, 11.5500, -23.0000, 4990,    350.0,  11.1830,  35.1880,2,-999.0000,9,     47.5,9,   -999.0,9,  -999.00,9,  -999.00,9,  -999.00,-999,  -999.00,9, -999.000,9,     -999,9,  -999.00,9,   -999.0,9,   -999.0,9,     74.9,      7.1,2
  06M320150501,   517, 44,     20,   253994,20150521,1732, 11.5500, -23.0000, 4990,    349.0,  11.1920,  35.1890,2,-999.0000,9,     47.6,9,   -999.0,9,  -999.00,9,  -999.00,9,  -999.00,-999,  -999.00,9, -999.000,9,     -999,9,  -999.00,9,   -999.0,9,   -999.0,9,   -999.0,      9.0,9
  06M320150501,   517, 44,     21,   253995,20150521,1732, 11.5500, -23.0000, 4990,    347.0,  11.2580,  35.1940,2,-999.0000,9,     48.5,9,   -999.0,9,  -999.00,9,  -999.00,9,  -999.00,-999,  -999.00,9, -999.000,9,     -999,9,  -999.00,9,   -999.0,9,   -999.0,9,   -999.0,      9.0,9
  06M320150501,   517, 44,     22,   253996,20150521,1739, 11.5500, -23.0000, 4990,     12.0,  24.9560,  35.9090,2,-999.0000,9,    214.8,9,   -999.0,9,  -999.00,9,  -999.00,9,  -999.00,-999,  -999.00,9, -999.000,9,     -999,9,  -999.00,9,   -999.0,9,   -999.0,9,     95.2,      9.4,2
  06M320150501,   517, 44,     23,   253997,20150521,1739, 11.5500, -23.0000, 4990,     12.0,  24.9540,  35.9090,2,-999.0000,9,    214.8,9,   -999.0,9,  -999.00,9,  -999.00,9,  -999.00,-999,  -999.00,9, -999.000,9,     -999,9,  -999.00,9,   -999.0,9,   -999.0,9,   -999.0,      9.0,9
  06M320150501,   517, 44,     24,   253998,20150521,1739, 11.5500, -23.0000, 4990,     11.0,  24.9530,  35.9090,2,-999.0000,9,    215.2,9,   -999.0,9,  -999.00,9,  -999.00,9,  -999.00,-999,  -999.00,9, -999.000,9,     -999,9,  -999.00,9,   -999.0,9,   -999.0,9,   -999.0,      9.0,9
  06M320150501,   518, 45,      1,   253999,20150521,2116, 12.0000, -23.0000, 4990,   1264.0,   4.9160,  34.9300,2,  34.9290,2,    170.2,2,    168.9,2,    23.42,2,    27.67,2,     0.01,   2,     1.83,2,    0.014,2,        0,2,     0.00,2,   2205.3,6,   2318.8,6,   -999.0,      9.0,9
  06M320150501,   518, 45,      2,   254000,20150521,2120, 12.0000, -23.0000, 4990,   1100.0,   5.4140,  34.8810,2,-999.0000,9,    142.7,2,    141.6,2,    24.44,2,    30.83,2,     0.02,   2,     2.03,2,    0.010,2,        0,2,     0.00,2,   -999.0,9,   -999.0,9,   -999.0,      9.0,9
  06M320150501,   518, 45,      3,   254001,20150521,2121, 12.0000, -23.0000, 4990,   1000.0,   5.6640,  34.8230,2,-999.0000,9,    123.6,2,    123.2,2,    25.25,2,    33.23,2,     0.02,   2,     2.17,2,    0.012,2,        0,2,     0.00,2,   2226.2,2,   2311.3,2,   -999.0,      9.0,9
  06M320150501,   518, 45,      4,   254002,20150521,2123, 12.0000, -23.0000, 4990,    899.0,   5.9020,  34.7620,2,  34.7630,2,    108.3,2,    107.4,2,    25.56,2,    35.39,2,     0.02,   2,     2.30,2,    0.021,2,        0,2,     0.00,2,   -999.0,9,   -999.0,9,   -999.0,      9.0,9
  06M320150501,   518, 45,      5,   254003,20150521,2125, 12.0000, -23.0000, 4990,    800.0,   6.4190,  34.7660,2,-999.0000,9,     92.5,2,     92.0,2,    24.23,2,    36.68,2,     0.00,   2,     2.34,2,    0.037,2,        0,2,     0.00,2,   2237.6,6,   2305.7,6,   -999.0,      9.0,9
  06M320150501,   518, 45,      6,   254004,20150521,2127, 12.0000, -23.0000, 4990,    700.0,   7.3580,  34.8520,2,-999.0000,9,     71.0,2,     70.0,6,    21.74,6,    37.40,6,     0.01,   6,     2.35,6,    0.082,2,        0,2,     0.00,2,   -999.0,9,   -999.0,9,   -999.0,      9.0,9
  06M320150501,   518, 45,      7,   254005,20150521,2129, 12.0000, -23.0000, 4990,    600.0,   8.2740,  34.9390,2,-999.0000,9,     58.8,2,     59.0,2,    19.17,2,    36.99,2,     0.02,   2,     2.29,2,    0.157,2,        0,2,     0.00,2,   2246.0,2,   2307.1,2,   -999.0,      9.0,9
  06M320150501,   518, 45,      8,   254006,20150521,2130, 12.0000, -23.0000, 4990,    550.0,   8.8160,  34.9820,2,-999.0000,9,     51.3,2,     51.8,2,    17.87,2,    36.83,2,     0.02,   2,     2.26,2,    0.215,6,        0,6,     0.05,6,   2246.9,2,   2306.6,2,   -999.0,      9.0,9
  06M320150501,   518, 45,      9,   254007,20150521,2131, 12.0000, -23.0000, 4990,    519.0,   9.1870,  35.0110,2,-999.0000,9,     46.2,2,     45.3,2,    16.90,2,    36.65,2,     0.02,   2,     2.22,2, -999.000,9,     -999,9,     1.15,2,   -999.0,9,   -999.0,9,   -999.0,      9.0,9
  06M320150501,   518, 45,     10,   254008,20150521,2131, 12.0000, -23.0000, 4990,    489.0,   9.5430,  35.0580,2,-999.0000,9,     43.3,2,     44.1,2,    16.21,2,    36.25,2,     0.02,   2,     2.18,2,    0.315,6,     0.21,6,     2.22,6,   2250.6,2,   2306.1,2,   -999.0,      9.0,9
  06M320150501,   518, 45,     11,   254009,20150521,2132, 12.0000, -23.0000, 4990,    460.0,  10.0300,  35.1150,2,-999.0000,9,     40.1,2,     40.4,2,    15.50,2,    35.99,2,     0.02,   2,     2.15,2, -999.000,9,     -999,9,     4.21,2,   -999.0,9,   -999.0,9,   -999.0,      9.0,9
  06M320150501,   518, 45,     12,   254010,20150521,2132, 12.0000, -23.0000, 4990,    428.0,  10.2150,  35.1170,2,-999.0000,9,     38.7,2,     38.2,2,    14.78,2,    35.43,2,     0.02,   2,     2.11,2,    0.436,6,      0.3,6,     6.70,6,   2250.8,2,   2306.0,2,   -999.0,      9.0,9
  06M320150501,   518, 45,     13,   254011,20150521,2133, 12.0000, -23.0000, 4990,    401.0,  10.5540,  35.1500,2,-999.0000,9,     38.9,2,     38.5,6,    14.05,6,    34.72,6,     0.02,   6,     2.07,6,    0.500,6,     0.31,6,     4.09,6,   -999.0,9,   -999.0,9,   -999.0,      9.0,9
  06M320150501,   518, 45,     14,   254012,20150521,2134, 12.0000, -23.0000, 4990,    372.0,  10.8300,  35.1700,2,-999.0000,9,     42.1,2,     41.4,2,    13.34,2,    33.77,2,     0.02,   2,     2.01,2, -999.000,9,     -999,9,     1.97,2,   2245.7,2,   2310.1,2,   -999.0,      9.0,9
  06M320150501,   518, 45,     15,   254013,20150521,2134, 12.0000, -23.0000, 4990,    349.0,  11.0150,  35.1740,2,-999.0000,9,     46.4,2,     45.7,2,    12.92,2,    33.17,2,     0.02,   2,     1.97,2,    0.630,6,     0.26,6,     1.14,6,   -999.0,9,   -999.0,9,   -999.0,      9.0,9
  06M320150501,   518, 45,     16,   254014,20150521,2135, 12.0000, -23.0000, 4990,    309.0,  11.3950,  35.1800,2,  35.1850,2,     57.0,2,     55.1,2,    11.97,2,    31.39,2,     0.01,   2,     1.88,2, -999.000,9,     -999,9,     0.67,2,   -999.0,9,   -999.0,9,   -999.0,      9.0,9
  06M320150501,   518, 45,     17,   254015,20150521,2136, 12.0000, -23.0000, 4990,    279.0,  11.7670,  35.2110,2,-999.0000,9,     59.4,2,     60.7,2,    11.31,2,    30.15,2,     0.02,   2,     1.82,2,    0.830,6,     0.49,6,     0.44,6,   2229.6,2,   2313.4,2,   -999.0,      9.0,9
  06M320150501,   518, 45,     18,   254016,20150521,2138, 12.0000, -23.0000, 4990,    148.0,  13.5350,  35.3570,2,-999.0000,9,     90.8,2,     90.6,2,     8.37,2,    23.87,2,     0.02,   2,     1.51,2,    1.099,2,     0.77,2,     0.00,2,   2202.6,2,   2319.9,2,   -999.0,      9.0,9
  06M320150501,   518, 45,     19,   254017,20150521,2139, 12.0000, -23.0000, 4990,    100.0,  14.7610,  35.4890,2,-999.0000,9,     59.3,3,     62.1,2,     8.16,2,    25.44,2,     0.02,   2,     1.59,2,    1.100,2,     0.74,2,     0.00,2,   2218.0,2,   2325.7,2,   -999.0,      9.0,9
  06M320150501,   518, 45,     20,   254018,20150521,2141, 12.0000, -23.0000, 4990,     51.0,  18.8340,  35.7990,2,-999.0000,9,    138.5,2,    110.1,2,     4.43,2,    15.60,2,     0.26,   2,     1.06,2,    1.126,2,     1.03,2,     0.00,2,   2176.7,2,   2339.2,2,   -999.0,      9.0,9
  06M320150501,   518, 45,     21,   254019,20150521,2142, 12.0000, -23.0000, 4990,     21.0,  24.5220,  35.9630,2,  35.9450,2,    211.2,2,    214.0,2,     0.97,2,     0.09,2,     0.01,   2,     0.13,2,    1.046,2,     1.66,2,     0.00,2,   2060.8,2,   2355.9,2,   -999.0,      9.0,9
  06M320150501,   518, 45,     22,   254020,20150521,2142, 12.0000, -23.0000, 4990,     11.0,  24.5890,  35.9670,2,-999.0000,9,    214.7,2,    213.7,2,     0.96,2,     0.00,2,     0.02,   2,     0.15,2,    1.036,2,     1.75,2,     0.00,2,   2062.4,2,   2360.2,2,   -999.0,      9.0,9
  06M320150501,   519, 46,      1,   254021,20150522,0334, 11.0000, -23.0000, 5146,   1202.0,   4.9590,  34.8720,2,  34.8730,2,    160.2,2,    159.2,2,    25.20,2,    29.12,2,     0.00,   2,     1.95,2,    0.012,2,        0,2,     0.00,2,   2210.7,6,   2320.5,6,   -999.0,      9.0,9
  06M320150501,   519, 46,      2,   254022,20150522,0336, 11.0000, -23.0000, 5146,   1101.0,   5.1480,  34.8290,2,-999.0000,9,    145.0,2,    127.4,3,    26.21,2,    31.08,2,     0.01,   2,     2.07,2,    0.007,2,        0,2,     0.00,2,   -999.0,9,   -999.0,9,   -999.0,      9.0,9
  06M320150501,   519, 46,      3,   254023,20150522,0338, 11.0000, -23.0000, 5146,   1001.0,   5.3360,  34.7640,2,-999.0000,9,    127.7,2,    113.4,3,    27.41,2,    33.48,2,     0.01,   2,     2.23,2,    0.013,2,     0.09,2,     0.00,2,   2227.4,2,   2314.4,2,   -999.0,      9.0,9
  06M320150501,   519, 46,      4,   254024,20150522,0340, 11.0000, -23.0000, 5146,    900.0,   5.5740,  34.7210,2,-999.0000,9,    115.0,2,     95.1,3,    27.55,2,    35.18,2,     0.01,   2,     2.33,2,    0.017,2,        0,2,     0.00,2,   -999.0,9,   -999.0,9,   -999.0,      9.0,9
  06M320150501,   519, 46,      5,   254025,20150522,0342, 11.0000, -23.0000, 5146,    800.0,   6.1230,  34.7230,2,-999.0000,9,     95.9,9,   -999.0,9,    26.00,2,    36.55,2,     0.01,   2,     2.40,2,    0.032,2,      0.1,2,     0.00,2,   2240.4,6,   2307.5,6,   -999.0,      9.0,9
  06M320150501,   519, 46,      6,   254026,20150522,0344, 11.0000, -23.0000, 5146,    699.0,   6.7990,  34.7640,2,-999.0000,9,     79.4,2,     78.7,2,    23.89,2,    37.52,2,     0.01,   2,     2.40,2,    0.068,2,        0,2,     0.00,2,   -999.0,9,   -999.0,9,   -999.0,      9.0,9
  06M320150501,   519, 46,      7,   254027,20150522,0346, 11.0000, -23.0000, 5146,    601.0,   8.4490,  34.9690,2,-999.0000,9,     63.2,2,     62.4,6,    19.43,6,    35.98,6,     0.01,   6,     2.25,6,    0.191,2,     0.15,2,     0.00,2,   2245.4,2,   2309.5,2,   -999.0,      9.0,9
  06M320150501,   519, 46,      8,   254028,20150522,0347, 11.0000, -23.0000, 5146,    530.0,   9.1540,  35.0760,2,-999.0000,9,     60.2,2,     59.7,2,    17.66,2,    34.81,2,     0.01,   2,     2.15,2,    0.274,6,     0.22,6,     0.01,6,   2244.2,2,   2312.7,2,   -999.0,      9.0,9
  06M320150501,   519, 46,      9,   254029,20150522,0347, 11.0000, -23.0000, 5146,    502.0,   9.3190,  35.0840,2,-999.0000,9,     55.2,2,     54.9,2,    17.09,2,    34.92,2,     0.01,   2,     2.15,2,    0.293,6,     0.25,6,     0.23,6,   -999.0,9,   -999.0,9,   -999.0,      9.0,9
  06M320150501,   519, 46,     10,   254030,20150522,0348, 11.0000, -23.0000, 5146,    469.0,   9.2660,  35.0100,2,-999.0000,9,     44.9,2,     45.1,2,    17.39,2,    36.32,2,     0.01,   2,     2.23,2,    0.285,6,     0.28,6,     2.21,6,   2251.4,2,   2308.2,2,   -999.0,      9.0,9
  06M320150501,   519, 46,     11,   254031,20150522,0348, 11.0000, -23.0000, 5146,    441.0,   9.5620,  35.0310,2,-999.0000,9,     41.5,2,     42.4,2,    16.78,2,    36.30,2,     0.01,   2,     2.21,2, -999.000,9,     -999,9,     4.77,2,   -999.0,9,   -999.0,9,   -999.0,      9.0,9
  06M320150501,   519, 46,     12,   254032,20150522,0349, 11.0000, -23.0000, 5146,    410.0,  10.0440,  35.0890,2,-999.0000,9,     38.4,2,     39.3,6,    15.65,6,    35.59,6,     0.01,   6,     2.15,6,    0.415,6,     0.26,6,     7.67,6,   2252.4,2,   2310.2,2,   -999.0,      9.0,9
  06M320150501,   519, 46,     13,   254033,20150522,0349, 11.0000, -23.0000, 5146,    380.0,  10.4780,  35.1180,2,-999.0000,9,     39.4,2,     40.4,2,    14.79,2,    34.83,2,     0.01,   2,     2.10,2, -999.000,9,     -999,9,  -999.00,9,   -999.0,9,   -999.0,9,   -999.0,      9.0,9
  06M320150501,   519, 46,     14,   254034,20150522,0350, 11.0000, -23.0000, 5146,    350.0,  10.6620,  35.1100,2,-999.0000,9,     42.7,2,     43.7,2,    14.31,2,    34.22,2,     0.01,   2,     2.07,2,    0.536,6,     0.33,6,     2.28,6,   2247.3,2,   2308.3,2,   -999.0,      9.0,9
  06M320150501,   519, 46,     15,   254035,20150522,0350, 11.0000, -23.0000, 5146,    320.0,  11.1880,  35.1630,2,-999.0000,9,     53.2,2,     53.2,2,    13.15,2,    32.49,2,     0.01,   2,     1.97,2, -999.000,9,     -999,9,     1.04,2,   -999.0,9,   -999.0,9,   -999.0,      9.0,9
  06M320150501,   519, 46,     16,   254036,20150522,0351, 11.0000, -23.0000, 5146,    300.0,  11.4290,  35.1880,2,-999.0000,9,     54.0,2,     53.1,2,    12.92,2,    32.10,2,     0.01,   2,     1.94,2,    0.704,6,     0.38,6,     1.02,6,   -999.0,9,   -999.0,9,   -999.0,      9.0,9
  06M320150501,   519, 46,     17,   254037,20150522,0351, 11.0000, -23.0000, 5146,    261.0,  11.7560,  35.1960,2,  35.1780,2,     64.0,2,     63.2,2,    11.90,2,    30.24,2,     0.01,   2,     1.85,2, -999.000,9,     -999,9,     0.67,2,   2231.1,2,   2312.6,2,   -999.0,      9.0,9
  06M320150501,   519, 46,     18,   254038,20150522,0353, 11.0000, -23.0000, 5146,    149.0,  13.5000,  35.3510,2,-999.0000,9,     80.1,2,     81.6,6,     8.85,6,    24.74,6,     0.01,   6,     1.57,6,    1.088,6,     0.69,6,     0.04,6,   2209.3,2,   2320.3,2,   -999.0,      9.0,9
  06M320150501,   519, 46,     19,   254039,20150522,0354, 11.0000, -23.0000, 5146,    100.0,  14.4820,  35.4630,2,-999.0000,9,     64.4,2,     69.8,2,     8.24,2,    24.88,2,     0.01,   2,     1.57,2,    1.111,2,     0.71,2,     0.00,2,   2214.7,2,   2326.4,2,   -999.0,      9.0,9
  06M320150501,   519, 46,     20,   254040,20150522,0356, 11.0000, -23.0000, 5146,     51.0,  15.8690,  35.5850,2,-999.0000,9,     44.0,2,     47.4,2,     7.42,2,    25.92,2,     0.02,   2,     1.63,2,    1.145,2,     0.88,2,     0.00,2,   2228.3,2,   2327.2,2,   -999.0,      9.0,9
  06M320150501,   519, 46,     21,   254041,20150522,0357, 11.0000, -23.0000, 5146,     21.0,  23.1070,  35.9160,2,  35.5740,2,    218.5,3,    169.0,2,     2.54,2,     6.74,2,     0.03,   2,     0.49,2,    1.082,2,     1.29,2,     0.00,2,   2104.2,2,   2348.9,2,   -999.0,      9.0,9
  06M320150501,   519, 46,     22,   254042,20150522,0357, 11.0000, -23.0000, 5146,     11.0,  24.7450,  35.9330,2,-999.0000,9,    207.9,2,    211.8,2,     0.75,2,     0.16,2,     0.03,   2,     0.16,2,    1.044,2,     1.46,2,     0.00,2,   2062.3,2,   2359.3,2,   -999.0,      9.0,9