BOTTLE,20180504PRINUNIVRMK
EXPOCODE,STNNBR,CASTNO,BTLNBR,BEDFORD,DATE,TIME,LATITUDE,LONGITUDE,DEPTH,CTDPRS,CTDTMP,CTDSAL,CTDSAL_FLAG_W,SALNTY,SALNTY_FLAG_W,CTDOXY,CTDOXY_FLAG_W,OXYGEN,OXYGEN_FLAG_W,SILCAT,SILCAT_FLAG_W,NITRAT,NITRAT_FLAG_W,NITRIT,NITRIT_FLAG_W,PHSPHT,PHSPHT_FLAG_W,CFC-12,CFC-12_FLAG_W,SF6,SF6_FLAG_W,SF5CF3,SF5CF3_FLAG_W,TCARBN,TCARBN_FLAG_W,ALKALI,ALKALI_FLAG_W,AR-39,AR-39ER,AR-39_FLAG_W
,,,,,,,,,METERS,DBAR,ITS-90,PSS-78,,PSS-78,,UMOL/KG,,UMOL/KG,,UMOL/KG,,UMOL/KG,,UMOL/KG,,UMOL/KG,,PMOL/KG,,FMOL/KG,,FMOL/KG,,UMOL/KG,,UMOL/KG,,%Modern,%Modern,
  06M320150501,   526, 53,      1,   254177,20150524,0427, 10.0000, -22.0000, 4812,   1202.0,   4.8930,  34.8660,2,  34.8660,2,    162.4,9,   -999.0,9,  -999.00,9,  -999.00,9,  -999.00,-999,  -999.00,9,    0.015,2,        0,2,     0.00,2,   -999.0,9,   -999.0,9,   -999.0,      9.0,9
  06M320150501,   526, 53,      2,   254178,20150524,0429, 10.0000, -22.0000, 4812,   1072.0,   5.0770,  34.7940,2,-999.0000,9,    144.2,9,   -999.0,9,  -999.00,9,  -999.00,9,  -999.00,-999,  -999.00,9,    0.009,2,        0,2,     0.00,2,   -999.0,9,   -999.0,9,   -999.0,      9.0,9
  06M320150501,   526, 53,      3,   254179,20150524,0431, 10.0000, -22.0000, 4812,    999.0,   5.1950,  34.7590,2,-999.0000,9,    134.3,9,   -999.0,9,  -999.00,9,  -999.00,9,  -999.00,-999,  -999.00,9,    0.008,2,        0,2,     0.00,2,   -999.0,9,   -999.0,9,   -999.0,      9.0,9
  06M320150501,   526, 53,      4,   254180,20150524,0432, 10.0000, -22.0000, 4812,    899.0,   5.5250,  34.7330,2,-999.0000,9,    117.6,9,   -999.0,9,  -999.00,9,  -999.00,9,  -999.00,-999,  -999.00,9,    0.015,2,        0,2,     0.00,2,   -999.0,9,   -999.0,9,   -999.0,      9.0,9
  06M320150501,   526, 53,      5,   254181,20150524,0434, 10.0000, -22.0000, 4812,    799.0,   5.9080,  34.7100,2,  34.7090,2,    102.4,9,   -999.0,9,  -999.00,9,  -999.00,9,  -999.00,-999,  -999.00,9,    0.028,2,        0,2,     0.00,2,   -999.0,9,   -999.0,9,   -999.0,      9.0,9
  06M320150501,   526, 53,      6,   254182,20150524,0435, 10.0000, -22.0000, 4812,    699.0,   6.7160,  34.7510,2,-999.0000,9,     80.9,9,   -999.0,9,  -999.00,9,  -999.00,9,  -999.00,-999,  -999.00,9,    0.071,2,        0,2,     0.00,2,   -999.0,9,   -999.0,9,   -999.0,      9.0,9
  06M320150501,   526, 53,      7,   254183,20150524,0437, 10.0000, -22.0000, 4812,    600.0,   7.5700,  34.8270,2,-999.0000,9,     65.2,9,   -999.0,9,  -999.00,9,  -999.00,9,  -999.00,-999,  -999.00,9,    0.126,2,        0,2,     0.00,2,   -999.0,9,   -999.0,9,   -999.0,      9.0,9
  06M320150501,   526, 53,      8,   254184,20150524,0438, 10.0000, -22.0000, 4812,    519.0,   8.3150,  34.8920,2,  34.8930,2,     55.2,9,   -999.0,9,  -999.00,9,  -999.00,9,  -999.00,-999,  -999.00,9,    0.189,6,        0,6,     0.10,6,   -999.0,9,   -999.0,9,   -999.0,      9.0,9
  06M320150501,   526, 53,      9,   254185,20150524,0439, 10.0000, -22.0000, 4812,    475.0,   8.6770,  34.9240,2,-999.0000,9,     51.2,9,   -999.0,9,  -999.00,9,  -999.00,9,  -999.00,-999,  -999.00,9, -999.000,9,     -999,9,     0.75,2,   -999.0,9,   -999.0,9,   -999.0,      9.0,9
  06M320150501,   526, 53,     10,   254186,20150524,0439, 10.0000, -22.0000, 4812,    459.0,   8.9920,  34.9640,2,-999.0000,9,     47.0,9,   -999.0,9,  -999.00,9,  -999.00,9,  -999.00,-999,  -999.00,9,    0.247,6,     0.17,6,     1.33,6,   -999.0,9,   -999.0,9,   -999.0,      9.0,9
  06M320150501,   526, 53,     11,   254187,20150524,0440, 10.0000, -22.0000, 4812,    430.0,   9.6210,  35.0500,2,-999.0000,9,     40.7,9,   -999.0,9,  -999.00,9,  -999.00,9,  -999.00,-999,  -999.00,9, -999.000,9,     -999,9,     4.88,2,   -999.0,9,   -999.0,9,   -999.0,      9.0,9
  06M320150501,   526, 53,     12,   254188,20150524,0440, 10.0000, -22.0000, 4812,    400.0,  10.0050,  35.0900,2,-999.0000,9,     37.5,9,   -999.0,9,  -999.00,9,  -999.00,9,  -999.00,-999,  -999.00,9,    0.391,6,     0.18,6,     9.46,6,   -999.0,9,   -999.0,9,   -999.0,      9.0,9
  06M320150501,   526, 53,     13,   254189,20150524,0441, 10.0000, -22.0000, 4812,    369.0,  10.6170,  35.1590,2,-999.0000,9,     40.5,9,   -999.0,9,  -999.00,9,  -999.00,9,  -999.00,-999,  -999.00,9, -999.000,9,     -999,9,     4.42,2,   -999.0,9,   -999.0,9,   -999.0,      9.0,9
  06M320150501,   526, 53,     14,   254190,20150524,0441, 10.0000, -22.0000, 4812,    339.0,  10.9450,  35.1600,2,-999.0000,9,     45.6,9,   -999.0,9,  -999.00,9,  -999.00,9,  -999.00,-999,  -999.00,9,    0.580,6,     0.39,6,     1.58,6,   -999.0,9,   -999.0,9,   -999.0,      9.0,9
  06M320150501,   526, 53,     15,   254191,20150524,0441, 10.0000, -22.0000, 4812,    310.0,  11.1180,  35.1680,2,-999.0000,9,     49.8,9,   -999.0,9,  -999.00,9,  -999.00,9,  -999.00,-999,  -999.00,9, -999.000,9,     -999,9,     0.87,2,   -999.0,9,   -999.0,9,   -999.0,      9.0,9
  06M320150501,   526, 53,     16,   254192,20150524,0442, 10.0000, -22.0000, 4812,    278.0,  11.4000,  35.1540,2,-999.0000,9,     64.4,9,   -999.0,9,  -999.00,9,  -999.00,9,  -999.00,-999,  -999.00,9,    0.717,6,     0.44,6,     0.90,6,   -999.0,9,   -999.0,9,   -999.0,      9.0,9
  06M320150501,   526, 53,     17,   254193,20150524,0442, 10.0000, -22.0000, 4812,    248.0,  11.5770,  35.1330,2,-999.0000,9,     87.4,9,   -999.0,9,  -999.00,9,  -999.00,9,  -999.00,-999,  -999.00,9,    0.927,2,      0.5,2,     0.39,2,   -999.0,9,   -999.0,9,   -999.0,      9.0,9
  06M320150501,   526, 53,     18,   254194,20150524,0444, 10.0000, -22.0000, 4812,    149.0,  12.9980,  35.2910,2,-999.0000,9,     91.2,9,   -999.0,9,  -999.00,9,  -999.00,9,  -999.00,-999,  -999.00,9,    1.076,6,     0.74,6,     0.06,6,   -999.0,9,   -999.0,9,   -999.0,      9.0,9
  06M320150501,   526, 53,     19,   254195,20150524,0444, 10.0000, -22.0000, 4812,     99.0,  14.1700,  35.4380,2,-999.0000,9,    102.2,9,   -999.0,9,  -999.00,9,  -999.00,9,  -999.00,-999,  -999.00,9,    1.145,2,     0.86,2,     0.00,2,   -999.0,9,   -999.0,9,   -999.0,      9.0,9
  06M320150501,   526, 53,     20,   254196,20150524,0446, 10.0000, -22.0000, 4812,     51.0,  16.8240,  35.6620,2,-999.0000,9,     94.9,9,   -999.0,9,  -999.00,9,  -999.00,9,  -999.00,-999,  -999.00,9,    1.126,2,     0.98,2,     0.00,2,   -999.0,9,   -999.0,9,   -999.0,      9.0,9
  06M320150501,   526, 53,     21,   254197,20150524,0447, 10.0000, -22.0000, 4812,     20.0,  26.5630,  35.9580,2,-999.0000,9,    203.4,9,   -999.0,9,  -999.00,9,  -999.00,9,  -999.00,-999,  -999.00,9,    0.958,2,     1.36,2,     0.00,2,   -999.0,9,   -999.0,9,   -999.0,      9.0,9
  06M320150501,   526, 53,     22,   254198,20150524,0447, 10.0000, -22.0000, 4812,     11.0,  26.6750,  35.9510,2,-999.0000,9,    208.4,9,   -999.0,9,  -999.00,9,  -999.00,9,  -999.00,-999,  -999.00,9,    0.948,2,     1.43,2,     0.00,2,   -999.0,9,   -999.0,9,   -999.0,      9.0,9
  06M320150501,   527, 54,      1,   254199,20150524,1146, 11.0000, -22.0000, 5028,   4002.0,   2.3830,  34.8880,2,  34.8870,2,    244.1,2,    243.2,2,    44.59,6,    21.81,6,     0.00,   6,     1.47,6,    0.010,2,        0,2,     0.00,2,   2197.5,6,   2348.4,6,   -999.0,      9.0,9
  06M320150501,   527, 54,      2,   254200,20150524,1148, 11.0000, -22.0000, 5028,   3899.0,   2.4000,  34.8900,2,-999.0000,9,    244.2,2,    244.2,2,    43.91,2,    21.71,2,     0.00,   2,     1.48,2,    0.005,2,        0,2,     0.00,2,   2197.4,2,   2350.2,2,   -999.0,      9.0,9
  06M320150501,   527, 54,      3,   254201,20150524,1157, 11.0000, -22.0000, 5028,   3501.0,   2.5020,  34.9020,2,-999.0000,9,    244.2,2,    243.8,6,    40.76,2,    21.46,2,     0.00,   2,     1.45,2,    0.003,2,        0,2,     0.00,2,   2192.1,2,   -999.0,9,   -999.0,      9.0,9
  06M320150501,   527, 54,      4,   254202,20150524,1209, 11.0000, -22.0000, 5028,   2999.0,   2.7160,  34.9210,2,-999.0000,9,    245.1,2,    244.4,2,    35.07,2,    20.96,2,     0.00,   2,     1.42,2,    0.005,2,        0,2,     0.00,2,   2182.8,2,   2338.1,2,   -999.0,      9.0,9
  06M320150501,   527, 54,      5,   254203,20150524,1221, 11.0000, -22.0000, 5028,   2499.0,   3.0760,  34.9430,2,  34.9410,2,    241.7,2,    242.9,2,    29.25,2,    20.83,2,     0.00,   2,     1.40,2,    0.006,2,        0,2,     0.00,2,   2178.1,6,   2330.1,2,   -999.0,      9.0,9
  06M320150501,   527, 54,      6,   254204,20150524,1233, 11.0000, -22.0000, 5028,   1999.0,   3.5760,  34.9580,2,-999.0000,9,    237.4,2,    238.1,2,    22.57,2,    20.75,2,     0.00,   2,     1.39,2,    0.010,2,        0,2,     0.00,2,   2173.6,2,   2322.8,2,   -999.0,      9.0,9
  06M320150501,   527, 54,      7,   254205,20150524,1238, 11.0000, -22.0000, 5028,   1750.0,   3.8660,  34.9580,2,-999.0000,9,    227.4,2,    228.0,2,    21.56,2,    21.63,2,     0.00,   2,     1.45,2,    0.017,2,        0,2,     0.00,2,   2177.7,2,   2323.4,2,   -999.0,      9.0,9
  06M320150501,   527, 54,      8,   254206,20150524,1243, 11.0000, -22.0000, 5028,   1500.0,   4.3070,  34.9470,2,  34.9470,2,    205.6,2,    206.1,2,    21.84,2,    23.66,2,     0.00,   2,     1.60,2,    0.014,2,        0,2,     0.00,2,   2186.9,2,   2321.1,2,   -999.0,      9.0,9
  06M320150501,   527, 54,      9,   254207,20150524,1249, 11.0000, -22.0000, 5028,   1249.0,   4.8880,  34.8960,2,-999.0000,9,    169.4,2,    168.4,2,    23.90,2,    27.65,2,     0.00,   2,     1.87,2,    0.014,2,        0,2,     0.00,2,   2206.6,2,   2318.0,2,   -999.0,      9.0,9
  06M320150501,   527, 54,     10,   254208,20150524,1253, 11.0000, -22.0000, 5028,    999.0,   5.2550,  34.7770,2,-999.0000,9,    134.4,2,    132.8,2,    26.82,2,    32.36,2,     0.00,   2,     2.20,2,    0.009,2,        0,2,     0.00,2,   2226.0,2,   2313.4,2,   -999.0,      9.0,9
  06M320150501,   527, 54,     11,   254209,20150524,1257, 11.0000, -22.0000, 5028,    749.0,   6.3540,  34.7450,2,-999.0000,9,     90.3,2,     88.7,2,    24.98,2,    36.30,2,     0.00,   2,     2.40,2,    0.039,2,        0,2,     0.00,2,   2242.5,2,   2305.5,2,   -999.0,      9.0,9
  06M320150501,   527, 54,     12,   254210,20150524,1301, 11.0000, -22.0000, 5028,    509.0,   9.2700,  35.0510,2,-999.0000,9,     46.1,2,     45.0,2,    17.44,2,    35.68,2,     0.01,   2,     2.24,2,    0.261,2,     0.21,2,     0.22,2,   2254.2,2,   2310.6,2,   -999.0,      9.0,9
  06M320150501,   527, 54,     13,   254211,20150524,1302, 11.0000, -22.0000, 5028,    459.0,   9.7740,  35.1010,2,-999.0000,9,     42.7,2,     44.0,2,    16.24,2,    34.97,2,     0.00,   2,     2.18,2,    0.350,6,      0.5,6,     1.86,6,   2311.4,3,   2309.7,2,   -999.0,      9.0,9
  06M320150501,   527, 54,     14,   254212,20150524,1303, 11.0000, -22.0000, 5028,    419.0,  10.2450,  35.1290,2,-999.0000,9,     40.2,2,     40.8,6,    15.25,2,    34.43,2,     0.00,   2,     2.13,2,    0.425,6,     0.38,6,     4.36,6,   -999.0,9,   -999.0,9,   -999.0,      9.0,9
  06M320150501,   527, 54,     15,   254213,20150524,1303, 11.0000, -22.0000, 5028,    389.0,  10.5190,  35.1610,2,-999.0000,9,     40.8,2,     41.2,2,    13.41,6,    32.36,6,     0.01,   6,     1.99,6,    0.487,6,     0.36,6,     2.76,6,   2251.8,2,   2308.7,2,   -999.0,      9.0,9
  06M320150501,   527, 54,     16,   254214,20150524,1304, 11.0000, -22.0000, 5028,    359.0,  10.8750,  35.1910,2,-999.0000,9,     42.3,2,     42.5,2,    11.80,2,    30.26,2,     0.01,   2,     1.86,2,    0.563,6,     0.43,6,     1.69,6,   -999.0,9,   -999.0,9,   -999.0,      9.0,9
  06M320150501,   527, 54,     17,   254215,20150524,1304, 11.0000, -22.0000, 5028,    299.0,  11.6540,  35.2320,2,-999.0000,9,     54.4,2,     52.7,2,    11.81,2,    30.30,2,     0.01,   2,     1.87,2,    0.782,6,     0.54,6,     0.51,6,   2236.0,2,   2314.4,2,   -999.0,      9.0,9
  06M320150501,   527, 54,     18,   254216,20150524,1305, 11.0000, -22.0000, 5028,    249.0,  11.9320,  35.1880,2,-999.0000,9,     76.6,2,     72.4,2,    11.12,2,    27.97,2,     0.01,   2,     1.76,2,    0.889,6,     0.58,6,     0.34,6,   2224.0,2,   2312.6,2,   -999.0,      9.0,9
  06M320150501,   527, 54,     19,   254217,20150524,1306, 11.0000, -22.0000, 5028,    198.0,  12.4500,  35.2320,2,-999.0000,9,     87.0,2,     87.0,2,     9.91,2,    25.59,2,     0.01,   2,     1.64,2,    1.009,6,     0.69,6,     0.14,6,   2211.8,2,   2312.3,2,   -999.0,      9.0,9
  06M320150501,   527, 54,     20,   254218,20150524,1307, 11.0000, -22.0000, 5028,    149.0,  13.0370,  35.2980,2,-999.0000,9,     95.6,2,     95.9,2,     8.94,2,    23.79,2,     0.01,   2,     1.54,2,    1.083,2,     0.72,2,     0.00,2,   2202.0,2,   2319.5,2,   -999.0,      9.0,9
  06M320150501,   527, 54,     21,   254219,20150524,1308, 11.0000, -22.0000, 5028,    100.0,  13.8510,  35.3970,2,-999.0000,9,     91.1,2,     94.7,2,     4.79,6,    14.38,6,     0.13,   6,     0.97,6,    1.100,2,     0.95,2,     0.00,2,   2200.5,2,   2323.7,2,   -999.0,      9.0,9
  06M320150501,   527, 54,     22,   254220,20150524,1309, 11.0000, -22.0000, 5028,     52.0,  16.7020,  35.6530,2,-999.0000,9,     79.9,2,     78.1,2,     0.82,2,     0.09,2,     0.01,   2,     0.11,2,    1.129,2,     0.86,2,     0.00,2,   2204.0,2,   2333.8,2,   -999.0,      9.0,9
  06M320150501,   527, 54,     23,   254221,20150524,1310, 11.0000, -22.0000, 5028,     21.0,  26.4240,  35.8670,2,  35.8630,2,    207.3,2,    207.1,6,     0.80,2,     0.08,2,     0.01,   2,     0.11,2,    0.978,2,     1.39,2,     0.00,2,   2049.7,2,   2357.4,2,   -999.0,      9.0,9
  06M320150501,   527, 54,     24,   254222,20150524,1310, 11.0000, -22.0000, 5028,     11.0,  26.4790,  35.8620,2,-999.0000,9,    208.2,2,    207.8,2,     0.75,2,     0.00,2,     0.00,   2,     0.09,2,    0.969,2,     1.45,2,     0.00,2,   2048.8,2,   2354.8,2,   -999.0,      9.0,9