BOTTLE,20180504PRINUNIVRMK
EXPOCODE,STNNBR,CASTNO,BTLNBR,BEDFORD,DATE,TIME,LATITUDE,LONGITUDE,DEPTH,CTDPRS,CTDTMP,CTDSAL,CTDSAL_FLAG_W,SALNTY,SALNTY_FLAG_W,CTDOXY,CTDOXY_FLAG_W,OXYGEN,OXYGEN_FLAG_W,SILCAT,SILCAT_FLAG_W,NITRAT,NITRAT_FLAG_W,NITRIT,NITRIT_FLAG_W,PHSPHT,PHSPHT_FLAG_W,CFC-12,CFC-12_FLAG_W,SF6,SF6_FLAG_W,SF5CF3,SF5CF3_FLAG_W,TCARBN,TCARBN_FLAG_W,ALKALI,ALKALI_FLAG_W,AR-39,AR-39ER,AR-39_FLAG_W
,,,,,,,,,METERS,DBAR,ITS-90,PSS-78,,PSS-78,,UMOL/KG,,UMOL/KG,,UMOL/KG,,UMOL/KG,,UMOL/KG,,UMOL/KG,,PMOL/KG,,FMOL/KG,,FMOL/KG,,UMOL/KG,,UMOL/KG,,%Modern,%Modern,
  06M320150501,   515, 42,      1,   253929,20150520,2147, 11.0000, -25.0000, 5144,   4004.0,   2.3820,  34.8880,2,  34.8890,2,    246.0,2,    245.8,2,    44.73,2,    22.00,2,     0.00,   2,     1.46,2,    0.009,2,        0,2,     0.00,2,   2195.5,6,   2352.4,6,   -999.0,      9.0,9
  06M320150501,   515, 42,      2,   253930,20150520,2149, 11.0000, -25.0000, 5144,   3899.0,   2.4080,  34.8910,2,-999.0000,9,    246.1,2,    245.6,2,    43.50,2,    21.78,2,     0.00,   2,     1.46,2,    0.006,2,        0,2,     0.00,2,   2195.1,2,   2351.8,2,   -999.0,      9.0,9
  06M320150501,   515, 42,      3,   253931,20150520,2205, 11.0000, -25.0000, 5144,   3501.0,   2.5070,  34.9020,2,-999.0000,9,    245.6,2,    244.9,2,    40.57,6,    21.67,6,     0.00,   6,     1.45,6,    0.015,2,        0,2,     0.00,2,   2192.1,2,   2349.5,2,   -999.0,      9.0,9
  06M320150501,   515, 42,      4,   253932,20150520,2218, 11.0000, -25.0000, 5144,   3000.0,   2.7280,  34.9200,2,-999.0000,9,    246.2,2,    246.1,2,    34.78,2,    21.28,2,     0.00,   2,     1.42,2,    0.003,2,        0,2,     0.00,2,   2184.8,2,   2342.4,2,   -999.0,      9.0,9
  06M320150501,   515, 42,      5,   253933,20150520,2228, 11.0000, -25.0000, 5144,   2500.0,   3.0660,  34.9410,2,  34.9410,2,    243.0,2,    243.4,6,    29.07,2,    20.91,2,     0.00,   2,     1.40,2,    0.004,2,        0,2,     0.00,2,   2181.4,2,   2337.9,2,   -999.0,      9.0,9
  06M320150501,   515, 42,      6,   253934,20150520,2241, 11.0000, -25.0000, 5144,   1999.0,   3.4890,  34.9560,2,-999.0000,9,    240.6,2,    241.5,2,    22.97,2,    20.68,2,     0.01,   2,     1.38,2,    0.015,2,        0,2,     0.00,2,   2174.0,2,   2333.9,6,   -999.0,      9.0,9
  06M320150501,   515, 42,      7,   253935,20150520,2247, 11.0000, -25.0000, 5144,   1751.0,   3.8050,  34.9580,2,-999.0000,9,    229.7,2,    229.9,2,    21.80,2,    21.79,2,     0.00,   2,     1.44,2,    0.013,2,        0,2,     0.00,2,   2176.8,2,   2326.6,2,   -999.0,      9.0,9
  06M320150501,   515, 42,      8,   253936,20150520,2255, 11.0000, -25.0000, 5144,   1500.0,   4.2230,  34.9510,2,  34.9520,2,    210.8,2,    211.5,2,    21.79,2,    23.54,2,     0.00,   2,     1.57,2,    0.019,2,        0,2,     0.00,2,   2185.9,2,   2221.2,3,   -999.0,      9.0,9
  06M320150501,   515, 42,      9,   253937,20150520,2303, 11.0000, -25.0000, 5144,   1249.0,   4.8440,  34.9110,2,-999.0000,9,    177.2,2,    177.0,2,    23.18,2,    27.13,2,     0.00,   2,     1.81,2,    0.025,2,        0,2,     0.00,2,   2201.6,2,   2322.6,2,   -999.0,      9.0,9
  06M320150501,   515, 42,     10,   253938,20150520,2309, 11.0000, -25.0000, 5144,    999.0,   5.5120,  34.8060,2,-999.0000,9,    130.6,2,    129.4,2,    26.03,2,    32.74,2,     0.00,   2,     2.18,2,    0.014,2,        0,2,     0.00,2,   2226.4,2,   2316.8,2,   -999.0,      9.0,9
  06M320150501,   515, 42,     11,   253939,20150520,2314, 11.0000, -25.0000, 5144,    749.0,   6.8350,  34.8190,2,-999.0000,9,     83.6,2,     82.8,2,    23.74,2,    37.27,2,     0.00,   2,     2.37,2,    0.053,2,        0,2,     0.00,2,   2242.4,2,   2307.4,2,   -999.0,      9.0,9
  06M320150501,   515, 42,     12,   253940,20150520,2320, 11.0000, -25.0000, 5144,    530.0,   9.3640,  35.0790,2,-999.0000,9,     57.3,2,     59.0,2,    16.86,2,    34.76,2,     0.00,   2,     2.15,2,    0.295,6,     0.21,6,     0.00,6,   2244.6,2,   2306.5,2,   -999.0,      9.0,9
  06M320150501,   515, 42,     13,   253941,20150520,2321, 11.0000, -25.0000, 5144,    480.0,   9.8540,  35.1230,2,-999.0000,9,     52.9,2,     54.0,2,    15.49,2,    34.49,2,     0.01,   2,     2.09,2,    0.370,6,     0.35,6,     0.09,6,   2243.2,2,   2312.4,2,   -999.0,      9.0,9
  06M320150501,   515, 42,     14,   253942,20150520,2322, 11.0000, -25.0000, 5144,    441.0,  10.2070,  35.1550,2,-999.0000,9,     50.9,2,     53.5,2,    14.77,2,    34.12,2,     0.01,   2,     2.04,2,    0.433,6,     0.67,6,     0.52,6,   -999.0,9,   -999.0,9,   -999.0,      9.0,9
  06M320150501,   515, 42,     15,   253943,20150520,2323, 11.0000, -25.0000, 5144,    412.0,  10.5600,  35.1810,2,-999.0000,9,     45.9,2,     47.4,2,    13.98,6,    33.75,6,     0.01,   6,     2.01,6,    0.496,6,     0.38,6,     1.11,6,   2243.2,2,   2311.6,2,   -999.0,      9.0,9
  06M320150501,   515, 42,     16,   253944,20150520,2323, 11.0000, -25.0000, 5144,    380.0,  10.8450,  35.1980,2,-999.0000,9,     50.8,2,     51.1,2,    13.18,2,    32.80,2,     0.01,   2,     1.95,2,    0.585,6,     0.37,6,     0.57,6,   -999.0,9,   -999.0,9,   -999.0,      9.0,9
  06M320150501,   515, 42,     17,   253945,20150520,2324, 11.0000, -25.0000, 5144,    322.0,  11.2670,  35.2250,2,-999.0000,9,     63.8,2,     80.4,3,    11.87,2,    30.19,2,     0.01,   2,     1.83,2,    0.743,6,     0.53,6,     0.42,6,   2229.8,2,   2318.8,2,   -999.0,      9.0,9
  06M320150501,   515, 42,     18,   253946,20150520,2325, 11.0000, -25.0000, 5144,    270.0,  11.6570,  35.2380,2,-999.0000,9,     71.8,2,     73.0,2,    11.01,2,    28.59,2,     0.01,   2,     1.75,2,    0.835,6,     0.59,6,     0.44,6,   2223.0,2,   2316.6,2,   -999.0,      9.0,9
  06M320150501,   515, 42,     19,   253947,20150520,2327, 11.0000, -25.0000, 5144,    199.0,  12.3300,  35.2620,2,-999.0000,9,     82.6,2,     84.5,2,     9.90,2,    26.45,2,     0.01,   2,     1.64,2,    0.967,6,     0.57,6,     0.17,6,   2214.2,2,   2315.4,2,   -999.0,      9.0,9
  06M320150501,   515, 42,     20,   253948,20150520,2328, 11.0000, -25.0000, 5144,    149.0,  12.9600,  35.3350,2,-999.0000,9,     88.5,2,     89.4,2,     8.93,2,    24.90,2,     0.01,   2,     1.54,2,    1.049,2,     0.68,2,     0.00,2,   2210.1,2,   2319.4,2,   -999.0,      9.0,9
  06M320150501,   515, 42,     21,   253949,20150520,2329, 11.0000, -25.0000, 5144,    100.0,  14.2840,  35.4820,2,-999.0000,9,     85.3,2,     85.6,2,     7.55,2,    23.69,2,     0.03,   2,     1.44,2,    1.111,2,     0.91,2,     0.00,2,   2208.0,2,   2329.5,2,   -999.0,      9.0,9
  06M320150501,   515, 42,     22,   253950,20150520,2331, 11.0000, -25.0000, 5144,     50.0,  22.2760,  35.8680,2,-999.0000,9,    213.9,2,    192.7,2,     1.47,2,     1.90,2,     0.06,   2,     0.22,2,    1.077,2,     1.28,2,     0.00,2,   2075.2,2,   2351.1,2,   -999.0,      9.0,9
  06M320150501,   515, 42,     23,   253951,20150520,2333, 11.0000, -25.0000, 5144,     20.0,  25.0620,  35.9280,2,  35.9260,2,    211.6,2,    212.5,2,     0.78,2,     0.14,2,     0.00,   2,     0.04,2,    1.011,2,     1.49,2,     0.00,2,   2044.6,2,   2356.6,2,   -999.0,      9.0,9
  06M320150501,   515, 42,     24,   253952,20150520,2333, 11.0000, -25.0000, 5144,     11.0,  25.3900,  35.9320,2,-999.0000,9,    210.9,2,    211.1,2,     0.76,2,     0.15,2,     0.00,   2,     0.04,2,    0.993,2,     1.41,2,     0.00,2,   2045.9,2,   2356.1,2,   -999.0,      9.0,9
  06M320150501,   516, 43,      1,   253953,20150521,0552, 11.0000, -24.0000, 5314,   1204.0,   4.8610,  34.8690,2,  34.8670,2,    163.8,2,    162.4,6,    24.47,6,    29.14,6,     0.01,   6,     1.93,6,    0.013,2,        0,2,     0.00,2,   2208.0,6,   2317.5,6,   -999.0,      9.0,9
  06M320150501,   516, 43,      2,   253954,20150521,0554, 11.0000, -24.0000, 5314,   1099.0,   5.0720,  34.8320,2,-999.0000,9,    149.4,2,    148.5,2,    25.24,2,    30.94,2,     0.00,   2,     2.04,2,    0.008,2,        0,2,     0.00,2,   -999.0,9,   -999.0,9,   -999.0,      9.0,9
  06M320150501,   516, 43,      3,   253955,20150521,0556, 11.0000, -24.0000, 5314,    999.0,   5.2780,  34.7770,2,-999.0000,9,    132.5,2,    132.4,2,    26.33,2,    33.11,2,     0.00,   2,     2.19,2,    0.008,2,        0,2,     0.00,2,   2224.7,2,   2307.5,3,   -999.0,      9.0,9
  06M320150501,   516, 43,      4,   253956,20150521,0558, 11.0000, -24.0000, 5314,    899.0,   5.6180,  34.7420,2,  34.7420,2,    119.2,2,    118.3,2,    26.35,2,    34.75,2,     0.00,   2,     2.28,2,    0.014,2,        0,2,     0.00,2,   -999.0,9,   -999.0,9,   -999.0,      9.0,9
  06M320150501,   516, 43,      5,   253957,20150521,0559, 11.0000, -24.0000, 5314,    799.0,   6.0200,  34.7290,2,-999.0000,9,    104.1,2,    103.2,2,    25.49,2,    36.13,2,     0.00,   2,     2.34,2,    0.030,2,        0,2,     0.00,2,   2232.3,6,   2301.7,6,   -999.0,      9.0,9
  06M320150501,   516, 43,      6,   253958,20150521,0601, 11.0000, -24.0000, 5314,    699.0,   6.7750,  34.7800,2,-999.0000,9,     84.2,2,     82.7,2,    23.20,2,    37.17,2,     0.00,   2,     2.36,2,    0.063,2,        0,2,     0.00,2,   -999.0,9,   -999.0,9,   -999.0,      9.0,9
  06M320150501,   516, 43,      7,   253959,20150521,0602, 11.0000, -24.0000, 5314,    598.0,   7.6600,  34.8510,2,-999.0000,9,     64.9,2,     66.8,2,    20.67,2,    37.66,2,     0.00,   2,     2.35,2,    0.120,6,        0,6,     0.00,6,   2246.7,2,   2303.8,2,   -999.0,      9.0,9
  06M320150501,   516, 43,      8,   253960,20150521,0604, 11.0000, -24.0000, 5314,    529.0,   8.5700,  34.9470,2,-999.0000,9,     53.3,2,     54.7,2,    18.41,2,    37.10,2,     0.00,   2,     2.28,2,    0.197,6,     0.12,6,     0.03,6,   2248.0,2,   2304.1,2,   -999.0,      9.0,9
  06M320150501,   516, 43,      9,   253961,20150521,0604, 11.0000, -24.0000, 5314,    498.0,   8.9880,  34.9950,2,-999.0000,9,     49.0,2,     48.7,2,    17.35,2,    36.77,2,     0.00,   2,     2.24,2, -999.000,9,     -999,9,     0.37,2,   -999.0,9,   -999.0,9,   -999.0,      9.0,9
  06M320150501,   516, 43,     10,   253962,20150521,0605, 11.0000, -24.0000, 5314,    469.0,   9.3630,  35.0250,2,-999.0000,9,     43.4,2,     45.1,2,    16.54,2,    36.60,2,     0.00,   2,     2.22,2,    0.295,6,     0.14,6,     3.08,6,   2253.9,2,   2306.1,2,   -999.0,      9.0,9
  06M320150501,   516, 43,     11,   253963,20150521,0605, 11.0000, -24.0000, 5314,    429.0,   9.9150,  35.0890,2,-999.0000,9,     40.1,2,     40.0,2,    15.49,2,    35.89,2,     0.01,   2,     2.16,2, -999.000,9,     -999,9,     5.51,2,   -999.0,9,   -999.0,9,   -999.0,      9.0,9
  06M320150501,   516, 43,     12,   253964,20150521,0606, 11.0000, -24.0000, 5314,    408.0,  10.1890,  35.1090,2,-999.0000,9,     38.2,2,     39.3,6,    14.93,6,    35.62,6,     0.01,   6,     2.14,6,    0.412,6,     0.21,6,     7.43,6,   2250.6,2,   2305.6,2,   -999.0,      9.0,9
  06M320150501,   516, 43,     13,   253965,20150521,0606, 11.0000, -24.0000, 5314,    379.0,  10.4180,  35.1090,2,-999.0000,9,     42.3,2,     41.4,2,    14.22,2,    34.74,2,     0.01,   2,     2.08,2, -999.000,9,     -999,9,     4.36,2,   2247.1,2,   2305.5,2,   -999.0,      9.0,9
  06M320150501,   516, 43,     14,   253966,20150521,0606, 11.0000, -24.0000, 5314,    349.0,  10.4790,  35.0750,2,-999.0000,9,     53.6,2,     52.5,2,    13.60,2,    33.66,2,     0.01,   2,     2.02,2,    0.562,6,     0.43,6,     1.73,6,   2239.7,2,   2301.5,2,   -999.0,      9.0,9
  06M320150501,   516, 43,     15,   253967,20150521,0607, 11.0000, -24.0000, 5314,    320.0,  10.7110,  35.0910,2,-999.0000,9,     55.5,2,     55.3,2,    13.20,2,    32.90,2,     0.02,   2,     1.98,2, -999.000,9,     -999,9,     1.06,2,   -999.0,9,   -999.0,9,   -999.0,      9.0,9
  06M320150501,   516, 43,     16,   253968,20150521,0607, 11.0000, -24.0000, 5314,    289.0,  11.0410,  35.1030,2,-999.0000,9,     67.0,2,     63.2,2,    12.80,2,    31.88,2,     0.01,   2,     1.93,2,    0.673,6,     0.58,6,     1.02,6,   -999.0,9,   -999.0,9,   -999.0,      9.0,9
  06M320150501,   516, 43,     17,   253969,20150521,0608, 11.0000, -24.0000, 5314,    259.0,  11.3150,  35.1200,2,-999.0000,9,     73.3,2,     74.8,2,    11.81,2,    29.98,2,     0.01,   2,     1.83,2,    0.776,6,     0.52,6,     0.52,6,   2225.6,2,   2311.9,2,   -999.0,      9.0,9
  06M320150501,   516, 43,     18,   253970,20150521,0610, 11.0000, -24.0000, 5314,    149.0,  12.7310,  35.2650,2,-999.0000,9,    106.2,2,    104.0,6,     8.99,6,    24.06,6,     0.01,   6,     1.52,6,    1.049,2,      0.7,2,     0.00,2,   2199.3,2,   2315.8,2,   -999.0,      9.0,9
  06M320150501,   516, 43,     19,   253971,20150521,0610, 11.0000, -24.0000, 5314,     99.0,  14.0170,  35.4200,2,-999.0000,9,    101.6,2,    104.8,2,     8.05,2,    22.66,2,     0.01,   2,     1.44,2, -999.000,9,     -999,9,  -999.00,9,   2196.3,2,   2321.1,2,   -999.0,      9.0,9
  06M320150501,   516, 43,     20,   253972,20150521,0612, 11.0000, -24.0000, 5314,     50.0,  20.2700,  35.8450,2,-999.0000,9,    194.9,2,    190.5,2,     1.91,2,     1.50,2,     0.04,   2,     0.29,2,    1.081,2,     1.27,2,     0.00,2,   2106.4,2,   2358.2,2,   -999.0,      9.0,9
  06M320150501,   516, 43,     21,   253973,20150521,0613, 11.0000, -24.0000, 5314,     20.0,  24.8460,  35.9410,2,  35.9090,2,    214.2,2,    218.4,2,     0.79,2,     0.07,2,     0.00,   2,     0.08,2,    1.047,2,     1.49,2,     0.00,2,   2051.3,2,   2351.4,2,   -999.0,      9.0,9
  06M320150501,   516, 43,     22,   253974,20150521,0613, 11.0000, -24.0000, 5314,     10.0,  25.5530,  35.9520,2,-999.0000,9,    208.8,2,    210.9,2,     0.67,2,     0.00,2,     0.00,   2,     0.06,2,    1.002,2,     1.51,2,     0.00,2,   2046.2,2,   2359.7,2,   -999.0,      9.0,9