BOTTLE,20170219PRINUNIVRMK
EXPOCODE,SECT_ID,STNNBR,CASTNO,BTLNBR,BTLNBR_FLAG_W,DATE,TIME,LATITUDE,LONGITUDE,DEPTH,CTDPRS,CTDTMP,CTDSAL,CTDSAL_FLAG_W,SALNTY,SALNTY_FLAG_W,CTDOXY,CTDOXY_FLAG_W,OXYGEN,OXYGEN_FLAG_W,SILCAT,SILCAT_FLAG_W,NITRAT,NITRAT_FLAG_W,NITRIT,NITRIT_FLAG_W,PHSPHT,PHSPHT_FLAG_W,NH4,NH4_FLAG_W,TCARBN,TCARBN_FLAG_W,ALKALI,ALKALI_FLAG_W,PH_TOT,PH_TOT_FLAG_W,PH_TMP,CO32,CO32_FLAG_W,CHLORA,CHLORA_FLAG_W
,,,,,,,,,,METERS,DBAR,ITS-90,PSS-78,,PSS-78,,UMOL/KG,,UMOL/KG,,UMOL/KG,,UMOL/KG,,UMOL/KG,,UMOL/KG,,UMOL/KG,,UMOL/KG,,UMOL/KG,,,,DEG C,UMOL/KG,,UG/KG,
  317W20130803,WCOA13,    51,  1,      1,2,  130810,1042, 44.6600,-125.3700, 2500,   1001.3,   3.7770,  34.3950,2,  34.3948,2,     14.6,2,     14.5,2,   121.18,2,    43.31,2,     0.13,2,     3.13,2,     0.04,2,   2367.8,6,   2364.7,6,   7.3005,2,    25.00,   48.902,2,  -999.00,9
  317W20130803,WCOA13,    51,  1,      2,2,  130810,1043, 44.6600,-125.3700, 2500,   1001.7,   3.7752,  34.3950,2,-999.0000,9,     14.6,2,   -999.0,9,   120.53,2,    43.34,2,     0.09,2,     3.20,2,     0.11,2,   -999.0,9,   -999.0,9,-999.0000,9,  -999.00,     -999,9,  -999.00,9
  317W20130803,WCOA13,    51,  1,      3,2,  130810,1053, 44.6600,-125.3700, 2500,    749.8,   4.2838,  34.3080,2,  34.3062,2,     12.8,2,     13.0,2,   105.94,2,    42.89,2,     0.06,2,     3.19,2,     0.11,2,   2353.4,2,   2345.8,2,   7.2879,2,    25.00,   46.928,3,  -999.00,9
  317W20130803,WCOA13,    51,  1,      4,2,  130810,1103, 44.6600,-125.3700, 2500,    500.0,   5.2909,  34.1690,2,-999.0000,9,     24.9,2,     24.4,2,    82.83,2,    40.74,2,     0.04,2,     3.05,2,     0.04,2,   2317.1,2,   2312.2,2,   7.2959,2,    25.00,   46.675,2,  -999.00,9
  317W20130803,WCOA13,    51,  1,      5,2,  130810,1108, 44.6600,-125.3700, 2500,    400.5,   5.6352,  34.1010,2,-999.0000,9,     36.9,2,     36.6,2,    74.47,2,    39.54,2,     0.08,2,     2.93,2,     0.04,2,   2300.1,2,   2299.4,2,   7.3097,2,    25.00,   47.465,2,  -999.00,9
  317W20130803,WCOA13,    51,  1,      6,2,  130810,1113, 44.6600,-125.3700, 2500,    300.7,   6.0238,  33.9930,2,  33.9938,2,     59.4,2,     69.0,2,    60.70,2,    36.57,2,     0.05,2,     2.66,2,     0.03,2,   2266.4,2,   2281.7,2,   7.3617,2,    25.00,   51.762,2,  -999.00,9