BOTTLE,20170219PRINUNIVRMK
EXPOCODE,SECT_ID,STNNBR,CASTNO,BTLNBR,BTLNBR_FLAG_W,DATE,TIME,LATITUDE,LONGITUDE,DEPTH,CTDPRS,CTDTMP,CTDSAL,CTDSAL_FLAG_W,SALNTY,SALNTY_FLAG_W,CTDOXY,CTDOXY_FLAG_W,OXYGEN,OXYGEN_FLAG_W,SILCAT,SILCAT_FLAG_W,NITRAT,NITRAT_FLAG_W,NITRIT,NITRIT_FLAG_W,PHSPHT,PHSPHT_FLAG_W,NH4,NH4_FLAG_W,TCARBN,TCARBN_FLAG_W,ALKALI,ALKALI_FLAG_W,PH_TOT,PH_TOT_FLAG_W,PH_TMP,CO32,CO32_FLAG_W,CHLORA,CHLORA_FLAG_W
,,,,,,,,,,METERS,DBAR,ITS-90,PSS-78,,PSS-78,,UMOL/KG,,UMOL/KG,,UMOL/KG,,UMOL/KG,,UMOL/KG,,UMOL/KG,,UMOL/KG,,UMOL/KG,,UMOL/KG,,,,DEG C,UMOL/KG,,UG/KG,
  317W20130803,WCOA13,    14,  1,      1,2,  130805,1247, 48.4400,-126.2400,  616,    545.1,   5.1043,  34.1150,2,  34.1125,2,     29.2,2,   -999.0,9,    81.93,2,    41.10,2,     0.00,2,     2.96,2,      0.2,2,   2314.2,2,   2307.3,2,   7.2908,2,    25.00,   46.732,2,  -999.00,9
  317W20130803,WCOA13,    14,  1,      2,2,  130805,1248, 48.4400,-126.2400,  616,    543.6,   5.1091,  34.1140,2,-999.0000,9,     29.7,2,   -999.0,9,    79.98,2,    40.67,2,     0.02,2,     2.91,2,     0.03,2,   -999.0,9,   -999.0,9,   7.2920,2,    25.00,   45.638,2,  -999.00,9
  317W20130803,WCOA13,    14,  1,      3,2,  130805,1251, 48.4400,-126.2400,  616,    500.3,   5.2811,  34.0900,2,-999.0000,9,     34.3,2,   -999.0,9,    76.38,2,    39.98,2,     0.00,2,     2.88,2,     0.09,2,   2305.6,2,   2300.5,2,   7.2971,3,    25.00,   46.421,2,  -999.00,9
  317W20130803,WCOA13,    14,  1,      4,2,  130805,1255, 48.4400,-126.2400,  616,    399.9,   5.5756,  34.0460,2,-999.0000,9,     45.3,2,     46.9,2,    69.79,2,    38.89,2,     0.00,2,     2.78,2,     0.08,2,   2290.6,2,   2289.2,2,   7.3136,2,    25.00,   47.461,2,  -999.00,9
  317W20130803,WCOA13,    14,  1,      5,2,  130805,1258, 48.4400,-126.2400,  616,    297.6,   5.8907,  34.0090,2,-999.0000,9,     57.6,2,   -999.0,9,    63.70,2,    37.44,2,     0.00,2,     2.69,2,     0.06,2,   2276.6,2,   2282.6,2,   7.3339,2,    25.00,   49.456,2,  -999.00,9
  317W20130803,WCOA13,    14,  1,      6,2,  130805,1305, 48.4400,-126.2400,  616,    206.3,   6.6193,  33.9070,2,-999.0000,9,    130.2,2,    116.5,2,    63.74,2,    37.42,2,     0.00,2,     2.69,2,     0.01,2,   2225.2,2,   2262.9,2,   7.4434,2,    25.00,   61.015,2,  -999.00,9
  317W20130803,WCOA13,    14,  1,      7,2,  130805,1310, 48.4400,-126.2400,  616,    151.7,   7.3124,  33.8180,2,-999.0000,9,    137.7,2,   -999.0,9,    37.78,2,    28.43,2,     0.05,2,     2.05,2,     0.09,2,   2196.0,2,   2247.7,2,   7.4899,2,    25.00,   67.141,2,  -999.00,9
  317W20130803,WCOA13,    14,  1,      8,2,  130805,1312, 48.4400,-126.2400,  616,    125.3,   7.3971,  33.6900,2,-999.0000,9,    153.9,2,    229.6,2,    33.67,2,    26.54,2,     0.06,2,     1.95,2,     0.21,2,   2176.5,2,   2240.6,2,   7.5218,3,    25.00,   70.957,2,  -999.00,9
  317W20130803,WCOA13,    14,  1,      9,2,  130805,1315, 48.4400,-126.2400,  616,     99.7,   7.2658,  33.3800,2,-999.0000,9,    193.3,2,   -999.0,9,    27.91,2,    22.71,2,     0.06,2,     1.76,2,     0.08,2,   2140.2,2,   2218.8,2,   7.5842,2,    25.00,   78.512,2,  -999.00,9
  317W20130803,WCOA13,    14,  1,     10,2,  130805,1318, 48.4400,-126.2400,  616,     79.3,   7.2161,  33.0190,2,-999.0000,9,    230.9,2,    156.6,2,    23.48,2,    19.10,2,     0.07,2,     1.59,2,     0.13,2,   2102.3,2,   2202.6,2,   7.6490,3,    25.00,    88.46,2,  -999.00,9
  317W20130803,WCOA13,    14,  1,     11,2,  130805,1320, 48.4400,-126.2400,  616,     59.2,   7.6407,  32.5810,2,-999.0000,9,    265.3,2,   -999.0,9,    17.72,2,    13.97,2,     0.29,2,     1.35,2,     0.22,2,   2056.9,2,   2179.8,2,   7.7193,2,    25.00,   99.247,3,  -999.00,9
  317W20130803,WCOA13,    14,  1,     12,2,  130805,1322, 48.4400,-126.2400,  616,     49.3,   8.1679,  32.4780,2,-999.0000,9,    278.2,2,    276.2,2,    14.77,2,    10.36,2,     0.47,2,     1.21,2,     0.91,2,   2036.7,2,   2176.7,2,   7.7782,4,    25.00,  107.034,2,  -999.00,9
  317W20130803,WCOA13,    14,  1,     13,4,  130805,1324, 48.4400,-126.2400,  616,     38.4,   9.8446,  32.4880,2,-999.0000,9,    265.1,2,   -999.0,9,  -999.00,9,  -999.00,9,  -999.00,9,  -999.00,9,     -999,9,   -999.0,9,   -999.0,9,-999.0000,9,  -999.00,     -999,9,  -999.00,9
  317W20130803,WCOA13,    14,  1,     14,4,  130805,1325, 48.4400,-126.2400,  616,     29.2,  10.7775,  32.4030,2,-999.0000,9,    255.0,2,   -999.0,9,  -999.00,9,  -999.00,9,  -999.00,9,  -999.00,9,     -999,9,   -999.0,9,   -999.0,9,-999.0000,9,  -999.00,     -999,9,  -999.00,9
  317W20130803,WCOA13,    14,  1,     15,2,  130805,1328, 48.4400,-126.2400,  616,     20.0,  11.1662,  32.3810,2,-999.0000,9,    275.1,2,    282.2,2,     5.68,2,     5.72,2,     0.26,2,     1.06,2,     3.48,2,   2028.8,2,   2201.1,2,   7.8406,2,    25.00,   127.56,3,     0.55,2
  317W20130803,WCOA13,    14,  1,     16,2,  130805,1331, 48.4400,-126.2400,  616,     16.7,  12.0187,  32.2730,2,-999.0000,9,    273.5,2,   -999.0,9,     5.05,2,     3.69,2,     0.17,2,     0.85,2,     2.43,2,   2000.3,2,   2194.4,2,   7.8860,2,    25.00,     -999,5,  -999.00,9
  317W20130803,WCOA13,    14,  1,     17,2,  130805,1333, 48.4400,-126.2400,  616,     10.2,  12.6891,  32.2070,2,-999.0000,9,    272.9,2,    279.1,2,     4.25,2,     2.03,2,     0.10,2,     0.69,2,     1.61,2,   1981.4,2,   2190.6,2,   7.9241,3,    25.00,   141.33,2,     0.79,2
  317W20130803,WCOA13,    14,  1,     18,2,  130805,1335, 48.4400,-126.2400,  616,      3.4,  12.6954,  32.2060,2,-999.0000,9,    272.8,2,   -999.0,9,     4.12,2,     2.01,2,     0.10,2,     0.69,2,     1.63,2,   -999.0,9,   -999.0,9,   7.9187,2,    25.00,  138.189,2,     0.79,2
  317W20130803,WCOA13,    14,  1,     19,2,  130805,1335, 48.4400,-126.2400,  616,      3.6,  12.6948,  32.2060,2,  32.2057,2,    272.8,2,    279.6,2,     3.99,2,     2.10,2,     0.10,2,     0.69,2,     1.59,2,   1980.8,2,   2188.5,6,   7.9194,2,    25.00,   135.41,3,  -999.00,9
  317W20130803,WCOA13,    15,  1,      1,2,  130805,1525, 48.5000,-126.1300,  198,    147.4,   6.6837,  33.8860,2,  33.8844,2,     95.3,2,     98.0,2,    50.91,2,    32.67,2,     0.09,2,     2.37,2,     0.22,2,   2239.2,2,   2262.9,6,   7.3886,3,    25.00,   54.897,2,  -999.00,9
  317W20130803,WCOA13,    15,  1,      2,2,  130805,1526, 48.5000,-126.1300,  198,    147.2,   6.6999,  33.8840,2,-999.0000,9,     99.7,2,   -999.0,9,    50.28,2,    32.25,2,     0.09,2,     2.34,2,     0.01,2,   -999.0,9,   -999.0,9,-999.0000,9,  -999.00,     -999,9,  -999.00,9
  317W20130803,WCOA13,    15,  1,      3,2,  130805,1528, 48.5000,-126.1300,  198,    124.6,   7.1387,  33.8360,2,-999.0000,9,    133.6,2,    135.3,2,    40.54,2,    28.89,2,     0.07,2,     2.07,2,      0.1,2,   2203.2,2,   2253.7,2,   7.4774,2,    25.00,   64.546,2,  -999.00,9
  317W20130803,WCOA13,    15,  1,      4,2,  130805,1530, 48.5000,-126.1300,  198,    111.6,   7.1808,  33.8180,2,-999.0000,9,    133.3,2,   -999.0,9,    39.25,2,    28.64,2,     0.08,2,     2.07,2,     0.17,2,   2200.0,2,   2250.7,2,   7.4778,2,    25.00,   64.556,2,  -999.00,9
  317W20130803,WCOA13,    15,  1,      5,2,  130805,1533, 48.5000,-126.1300,  198,     81.0,   7.3807,  33.6760,2,-999.0000,9,    149.7,2,    152.6,2,    34.31,2,    26.63,2,     0.08,2,     1.96,2,     0.09,2,   2181.9,2,   2241.6,2,   7.5073,2,    25.00,   68.232,2,  -999.00,9
  317W20130803,WCOA13,    15,  1,      6,2,  130805,1535, 48.5000,-126.1300,  198,     61.1,   7.4045,  33.3770,2,-999.0000,9,    178.3,2,   -999.0,9,    28.88,2,    23.45,2,     0.07,2,     1.80,2,     0.25,2,   2147.1,2,   2223.3,2,   7.5604,2,    25.00,   74.982,3,  -999.00,9
  317W20130803,WCOA13,    15,  1,      7,2,  130805,1537, 48.5000,-126.1300,  198,     50.1,   7.3077,  33.1200,2,-999.0000,9,    207.5,2,    206.2,2,    25.44,2,    21.14,2,     0.08,2,     1.71,2,     0.15,2,   2123.4,2,   2209.9,2,   7.6059,2,    25.00,   80.135,2,  -999.00,9
  317W20130803,WCOA13,    15,  1,      8,2,  130805,1539, 48.5000,-126.1300,  198,     39.2,   7.9042,  32.7590,2,-999.0000,9,    179.4,2,   -999.0,9,    31.45,2,    23.06,2,     0.31,2,     1.91,2,     0.27,2,   2132.2,2,   2199.6,2,   7.5464,3,    25.00,   70.987,3,  -999.00,9
  317W20130803,WCOA13,    15,  1,      9,2,  130805,1540, 48.5000,-126.1300,  198,     29.1,   8.5351,  32.4950,2,-999.0000,9,    232.6,2,   -999.0,9,    20.44,2,    15.16,2,     0.32,2,     1.49,2,     1.25,2,   2075.0,2,   2185.9,2,   7.6800,3,    25.00,   90.169,2,     0.19,2
  317W20130803,WCOA13,    15,  1,     10,2,  130805,1541, 48.5000,-126.1300,  198,     19.2,  10.4719,  32.3030,2,-999.0000,9,    284.4,2,    275.0,2,    12.50,2,     6.99,2,     0.32,2,     1.03,2,     1.44,2,   2021.4,2,   2186.0,2,   7.8164,2,    25.00,  115.939,2,  -999.00,9
  317W20130803,WCOA13,    15,  1,     11,2,  130805,1542, 48.5000,-126.1300,  198,     13.7,  12.3784,  32.3150,2,-999.0000,9,    295.5,2,   -999.0,9,    11.68,2,     5.96,2,     0.25,2,     0.87,2,     0.76,2,   1998.6,2,   2193.7,2,   7.8908,2,    25.00,  132.584,2,  -999.00,9
  317W20130803,WCOA13,    15,  1,     12,2,  130805,1543, 48.5000,-126.1300,  198,      9.8,  12.6804,  32.1940,2,-999.0000,9,    296.2,2,    298.5,2,    12.19,2,     5.89,2,     0.20,2,     0.79,2,     0.31,2,   1983.7,2,   2195.1,2,   7.9264,2,    25.00,  141.355,3,     1.83,2
  317W20130803,WCOA13,    15,  1,     13,2,  130805,1544, 48.5000,-126.1300,  198,      2.4,  12.6958,  32.1930,2,-999.0000,9,    296.0,2,   -999.0,9,  -999.00,9,  -999.00,9,  -999.00,9,  -999.00,9,     -999,9,   -999.0,9,   -999.0,9,-999.0000,9,  -999.00,     -999,9,  -999.00,9
  317W20130803,WCOA13,    15,  1,     14,2,  130805,1544, 48.5000,-126.1300,  198,      2.5,  12.6947,  32.1930,2,  32.1947,2,    296.0,2,    298.0,2,    12.36,2,     5.87,2,     0.20,2,     0.80,2,     0.54,2,   1982.1,2,   2195.2,6,   7.9310,2,    25.00,  143.519,3,     1.79,2
  317W20130803,WCOA13,    15,  1,     15,2,  130805,1544, 48.5000,-126.1300,  198,      2.4,  12.6937,  32.1920,2,-999.0000,9,    296.0,2,   -999.0,9,  -999.00,9,  -999.00,9,  -999.00,9,  -999.00,9,     -999,9,   -999.0,9,   -999.0,9,-999.0000,9,  -999.00,     -999,9,  -999.00,9
  317W20130803,WCOA13,    16,  1,      1,2,  130805,1719, 48.5300,-126.0100,  131,    100.8,   7.0526,  33.8000,2,  33.7983,2,    108.5,2,    107.9,2,    44.61,2,    30.68,2,     0.10,2,     2.22,2,     0.04,2,   2222.6,2,   2253.5,6,-999.0000,9,  -999.00,     -999,9,  -999.00,9
  317W20130803,WCOA13,    16,  1,      2,2,  130805,1720, 48.5300,-126.0100,  131,    100.8,   7.0588,  33.7990,2,-999.0000,9,    108.5,2,   -999.0,9,    44.29,2,    30.79,2,     0.09,2,     2.22,2,     0.06,2,   -999.0,9,   -999.0,9,-999.0000,9,  -999.00,     -999,9,  -999.00,9
  317W20130803,WCOA13,    16,  1,      3,2,  130805,1722, 48.5300,-126.0100,  131,     79.3,   7.2888,  33.6550,2,-999.0000,9,    129.7,2,    129.1,2,    38.51,2,    28.76,2,     0.06,2,     2.09,2,     0.03,2,   2199.8,2,   2242.6,2,-999.0000,9,  -999.00,     -999,9,  -999.00,9
  317W20130803,WCOA13,    16,  1,      4,2,  130805,1724, 48.5300,-126.0100,  131,     59.6,   7.3922,  33.3190,2,-999.0000,9,    155.1,2,    152.3,2,    35.22,2,    26.28,2,     0.10,2,     1.99,2,     0.06,2,   2170.9,2,   2223.5,2,-999.0000,9,  -999.00,     -999,9,  -999.00,9
  317W20130803,WCOA13,    16,  1,      5,2,  130805,1726, 48.5300,-126.0100,  131,     49.4,   7.4102,  33.1360,2,-999.0000,9,    171.3,2,    167.8,2,    33.42,2,    24.58,2,     0.14,2,     1.93,2,     0.13,2,   2154.1,2,   2218.3,2,-999.0000,9,  -999.00,     -999,9,  -999.00,9
  317W20130803,WCOA13,    16,  1,      6,2,  130805,1727, 48.5300,-126.0100,  131,     39.4,   7.8802,  32.8920,2,-999.0000,9,    170.7,2,    173.1,2,    32.27,2,    23.52,2,     0.28,2,     1.90,2,     0.18,2,   2141.8,2,   2210.2,2,-999.0000,9,  -999.00,     -999,9,  -999.00,9
  317W20130803,WCOA13,    16,  1,      7,2,  130805,1728, 48.5300,-126.0100,  131,     28.9,   8.2719,  32.8420,2,-999.0000,9,    167.8,2,    171.3,2,    31.95,2,    22.78,2,     0.33,2,     1.92,2,     0.75,2,   2140.7,2,   2209.4,2,-999.0000,9,  -999.00,     -999,9,  -999.00,9
  317W20130803,WCOA13,    16,  1,      8,2,  130805,1729, 48.5300,-126.0100,  131,     18.6,  10.5219,  32.5320,2,-999.0000,9,    256.4,2,    259.2,2,    19.38,2,    13.10,2,     0.31,2,     1.32,2,     0.95,2,   2062.3,2,   2208.1,2,-999.0000,9,  -999.00,     -999,9,  -999.00,9
  317W20130803,WCOA13,    16,  1,      9,2,  130805,1730, 48.5300,-126.0100,  131,     14.3,  11.5452,  32.1190,2,-999.0000,9,    259.9,2,   -999.0,9,    11.28,2,     5.89,2,     0.19,2,     0.74,2,     0.48,2,   1981.5,2,   2200.7,2,-999.0000,9,  -999.00,     -999,9,  -999.00,9
  317W20130803,WCOA13,    16,  1,     10,2,  130805,1731, 48.5300,-126.0100,  131,      8.6,  11.5096,  31.9640,2,-999.0000,9,    259.8,2,    358.2,2,     6.82,2,     1.95,2,     0.10,2,     0.46,2,     0.18,2,   1910.7,2,   2199.3,2,-999.0000,9,  -999.00,     -999,9,  -999.00,9
  317W20130803,WCOA13,    16,  1,     11,2,  130805,1732, 48.5300,-126.0100,  131,      2.2,  11.8571,  31.8780,2,  31.8937,2,    260.2,2,   -999.0,9,     5.17,2,     0.33,2,     0.06,2,     0.35,2,     0.15,2,   -999.0,9,   -999.0,9,-999.0000,9,  -999.00,     -999,9,  -999.00,9
  317W20130803,WCOA13,    16,  1,     12,2,  130805,1733, 48.5300,-126.0100,  131,      2.2,  11.8522,  31.8810,2,-999.0000,9,    260.2,2,    389.9,2,     5.18,2,     0.49,2,     0.04,2,     0.39,2,     0.31,2,   1863.4,2,   2197.8,6,-999.0000,9,  -999.00,     -999,9,  -999.00,9
  317W20130803,WCOA13,    17,  1,      1,2,  130805,1839, 48.6100,-125.9000,   92,     79.7,   7.1031,  33.5420,2,-999.0000,9,     75.4,2,   -999.0,9,    55.81,2,    32.87,2,     0.25,2,     2.54,2,     0.43,2,   2239.0,2,   2247.5,6,   7.3306,2,    25.00,   49.464,2,  -999.00,9
  317W20130803,WCOA13,    17,  1,      2,2,  130805,1840, 48.6100,-125.9000,   92,     79.7,   7.0894,  33.5530,2,-999.0000,9,     75.4,2,   -999.0,9,  -999.00,9,  -999.00,9,  -999.00,9,  -999.00,9,     -999,9,   -999.0,9,   -999.0,9,-999.0000,9,  -999.00,     -999,9,  -999.00,9
  317W20130803,WCOA13,    17,  1,      3,2,  130805,1842, 48.6100,-125.9000,   92,     60.6,   7.4497,  33.2380,2,-999.0000,9,     86.0,2,     85.1,2,    53.68,2,    32.46,2,     0.09,2,     2.49,2,     0.13,2,   2221.0,2,   2230.6,2,   7.3448,2,    25.00,   49.482,2,  -999.00,9
  317W20130803,WCOA13,    17,  1,      4,2,  130805,1844, 48.6100,-125.9000,   92,     49.5,   7.5040,  33.1980,2,-999.0000,9,     88.6,2,     86.6,2,    53.03,2,    32.08,2,     0.05,2,     2.49,2,     0.12,2,   2217.7,2,   2229.7,2,   7.3505,2,    25.00,   49.305,2,  -999.00,9
  317W20130803,WCOA13,    17,  1,      5,2,  130805,1845, 48.6100,-125.9000,   92,     40.0,   7.5154,  33.1880,2,-999.0000,9,     88.4,2,     88.2,2,    53.04,2,    32.41,2,     0.04,2,     2.49,2,      0.1,2,   2216.2,2,   2228.6,2,   7.3515,2,    25.00,    49.18,2,  -999.00,9
  317W20130803,WCOA13,    17,  1,      6,2,  130805,1847, 48.6100,-125.9000,   92,     29.3,   7.7424,  33.1020,2,-999.0000,9,    117.3,2,    104.5,2,    49.58,2,    30.41,2,     0.16,2,     2.41,2,     0.68,2,   2203.9,2,   2228.7,2,   7.3943,2,    25.00,   53.473,2,  -999.00,9
  317W20130803,WCOA13,    17,  1,      7,2,  130805,1849, 48.6100,-125.9000,   92,     19.4,   8.3958,  32.8060,2,-999.0000,9,    150.4,2,    144.2,2,    42.31,2,    25.90,2,     0.25,2,     2.16,2,     1.94,2,   2163.7,2,   2220.9,2,   7.4928,2,    25.00,    64.79,2,  -999.00,9
  317W20130803,WCOA13,    17,  1,      8,2,  130805,1850, 48.6100,-125.9000,   92,     16.4,   8.7696,  32.6630,2,-999.0000,9,    151.3,2,    163.3,2,    38.68,2,    23.78,2,     0.25,2,     2.03,2,     2.03,2,   2143.9,2,   2215.0,2,   7.5430,2,    25.00,   71.339,2,  -999.00,9
  317W20130803,WCOA13,    17,  1,      9,2,  130805,1852, 48.6100,-125.9000,   92,     11.6,   8.7936,  32.6600,2,  32.6600,2,    152.4,2,    167.5,2,    38.03,2,    23.31,2,     0.25,2,     1.99,2,     1.91,2,   2140.3,2,   2215.3,2,   7.5573,2,    25.00,   72.285,2,  -999.00,9
  317W20130803,WCOA13,    17,  1,     10,2,  130805,1854, 48.6100,-125.9000,   92,      2.7,  10.1026,  32.2840,2,-999.0000,9,    159.9,2,    243.1,2,    23.30,2,    14.51,2,     0.20,2,     1.42,2,      1.7,2,   2063.1,2,   2205.6,6,   7.7613,2,    25.00,  104.226,2,  -999.00,9
  317W20130803,WCOA13,    17,  1,     11,2,  130805,1854, 48.6100,-125.9000,   92,      2.8,   9.8393,  32.3710,2,-999.0000,9,    159.3,2,   -999.0,9,  -999.00,9,  -999.00,9,  -999.00,9,  -999.00,9,     -999,9,   -999.0,9,   -999.0,9,-999.0000,9,  -999.00,     -999,9,  -999.00,9
  317W20130803,WCOA13,    18,  1,      1,2,  130805,2051, 48.6600,-125.7900,   63,     63.3,   7.6306,  33.1710,2,-999.0000,9,    102.3,2,    100.8,2,    50.61,2,    30.28,2,     0.25,2,     2.42,2,     1.14,2,   2206.4,2,   2231.8,6,   7.3922,2,    25.00,   53.071,2,  -999.00,9
  317W20130803,WCOA13,    18,  1,      2,2,  130805,2053, 48.6600,-125.7900,   63,     52.9,   7.6345,  33.1680,2,-999.0000,9,    103.8,2,    103.7,2,    50.45,2,    30.61,2,     0.24,2,     2.41,2,     1.07,2,   2206.6,2,   2231.1,2,   7.3930,2,    25.00,   52.497,2,  -999.00,9
  317W20130803,WCOA13,    18,  1,      3,2,  130805,2054, 48.6600,-125.7900,   63,     40.6,   7.6384,  33.1660,2,-999.0000,9,    103.7,2,    128.6,2,    50.30,2,    30.59,2,     0.25,2,     2.40,2,     1.11,2,   2203.8,2,   2230.0,2,   7.3945,3,    25.00,   54.668,3,  -999.00,9
  317W20130803,WCOA13,    18,  1,      4,2,  130805,2056, 48.6600,-125.7900,   63,     29.8,   8.1166,  32.9870,2,-999.0000,9,    137.0,2,    103.2,2,    43.03,2,    27.24,2,     0.24,2,     2.23,2,     1.41,2,   2179.7,2,   2226.2,2,   7.4644,2,    25.00,    60.22,2,     0.91,2
  317W20130803,WCOA13,    18,  1,      5,2,  130805,2058, 48.6600,-125.7900,   63,     19.7,   8.7150,  32.3730,2,-999.0000,9,    153.1,2,    149.7,2,    42.72,2,    25.06,2,     0.27,2,     2.09,2,     1.85,2,   2146.5,2,   2200.7,2,   7.4996,2,    25.00,   64.515,2,  -999.00,9
  317W20130803,WCOA13,    18,  1,      6,2,  130805,2059, 48.6600,-125.7900,   63,     15.2,   8.7567,  32.2920,2,-999.0000,9,    148.8,2,    150.3,2,    43.07,2,    25.20,2,     0.28,2,     2.12,2,     2.32,2,   2141.1,2,   2194.7,2,   7.4995,2,    25.00,   65.314,2,  -999.00,9
  317W20130803,WCOA13,    18,  1,      7,2,  130805,2101, 48.6600,-125.7900,   63,     11.2,   9.1893,  32.1840,2,  32.1954,2,    184.0,2,    181.2,2,    38.77,2,    22.51,2,     0.29,2,     1.97,2,     1.97,2,   2118.7,2,   2193.7,2,   7.5635,2,    25.00,    72.19,2,     0.45,2
  317W20130803,WCOA13,    18,  1,      8,2,  130805,2103, 48.6600,-125.7900,   63,      2.6,   9.6365,  31.9280,2,-999.0000,9,    190.8,2,   -999.0,9,  -999.00,9,  -999.00,9,  -999.00,9,  -999.00,9,     -999,9,   -999.0,9,   -999.0,9,   7.6629,4,    25.00,   85.954,2,  -999.00,9
  317W20130803,WCOA13,    18,  1,      9,2,  130805,2103, 48.6600,-125.7900,   63,      2.6,   9.5232,  31.9900,2,-999.0000,9,    190.8,2,    198.7,2,    36.81,2,    20.71,2,     0.31,2,     1.82,2,     1.65,2,   2096.0,2,   2180.3,6,   7.6013,2,    25.00,   76.167,2,     0.22,2