BOTTLE,20170219PRINUNIVRMK
EXPOCODE,SECT_ID,STNNBR,CASTNO,BTLNBR,BTLNBR_FLAG_W,DATE,TIME,LATITUDE,LONGITUDE,DEPTH,CTDPRS,CTDTMP,CTDSAL,CTDSAL_FLAG_W,SALNTY,SALNTY_FLAG_W,CTDOXY,CTDOXY_FLAG_W,OXYGEN,OXYGEN_FLAG_W,SILCAT,SILCAT_FLAG_W,NITRAT,NITRAT_FLAG_W,NITRIT,NITRIT_FLAG_W,PHSPHT,PHSPHT_FLAG_W,NH4,NH4_FLAG_W,TCARBN,TCARBN_FLAG_W,ALKALI,ALKALI_FLAG_W,PH_TOT,PH_TOT_FLAG_W,PH_TMP,CO32,CO32_FLAG_W,CHLORA,CHLORA_FLAG_W
,,,,,,,,,,METERS,DBAR,ITS-90,PSS-78,,PSS-78,,UMOL/KG,,UMOL/KG,,UMOL/KG,,UMOL/KG,,UMOL/KG,,UMOL/KG,,UMOL/KG,,UMOL/KG,,UMOL/KG,,,,DEG C,UMOL/KG,,UG/KG,
  317W20130803,WCOA13,    25,  1,      1,2,  130806,1529, 48.1400,-125.1800,  250,    223.2,   6.3400,  33.9820,2,  33.9807,2,     63.1,2,     64.6,2,    61.32,2,    35.82,2,     0.05,2,     2.64,2,     0.09,2,   2267.3,6,   2276.9,6,   7.3386,3,    25.00,   50.767,2,  -999.00,9
  317W20130803,WCOA13,    25,  1,      2,2,  130806,1532, 48.1400,-125.1800,  250,    199.8,   6.4772,  33.9660,2,-999.0000,9,     65.4,2,   -999.0,9,    59.75,2,    35.22,2,     0.07,2,     2.59,2,     0.06,2,   2263.9,2,   2274.1,2,   7.3409,2,    25.00,   50.398,2,  -999.00,9
  317W20130803,WCOA13,    25,  1,      3,2,  130806,1535, 48.1400,-125.1800,  250,    149.5,   6.6165,  33.9340,2,-999.0000,9,     73.3,2,     75.2,2,    56.85,2,    34.11,2,     0.14,2,     2.53,2,     0.06,2,   2256.2,2,   2266.8,2,   7.3552,2,    25.00,   51.431,2,  -999.00,9
  317W20130803,WCOA13,    25,  1,      4,2,  130806,1538, 48.1400,-125.1800,  250,    123.1,   6.7349,  33.9080,2,-999.0000,9,     80.3,2,   -999.0,9,    54.28,2,    33.26,2,     0.13,2,     2.46,2,     0.11,2,   2248.8,2,   2264.8,2,   7.3658,2,    25.00,    52.52,2,  -999.00,9
  317W20130803,WCOA13,    25,  1,      5,2,  130806,1540, 48.1400,-125.1800,  250,     99.2,   6.9866,  33.8150,2,-999.0000,9,    106.0,2,    110.0,2,    46.60,2,    30.76,2,     0.17,2,     2.29,2,     0.17,2,   2222.8,2,   2254.3,2,   7.4153,2,    25.00,   57.363,2,  -999.00,9
  317W20130803,WCOA13,    25,  1,      6,2,  130806,1542, 48.1400,-125.1800,  250,     79.2,   7.3389,  33.6220,2,-999.0000,9,    138.9,2,   -999.0,9,    36.61,2,    27.93,2,     0.14,2,     2.08,2,     0.03,2,   2192.4,2,   2240.4,2,   7.4699,2,    25.00,   63.954,2,  -999.00,9
  317W20130803,WCOA13,    25,  1,      7,2,  130806,1544, 48.1400,-125.1800,  250,     59.6,   7.3883,  33.4250,2,-999.0000,9,    159.9,2,    158.5,2,    32.72,2,    25.66,2,     0.11,2,     1.96,2,     0.12,2,   2167.6,2,   2229.2,2,   7.5093,2,    25.00,   68.316,2,  -999.00,9
  317W20130803,WCOA13,    25,  1,      8,2,  130806,1546, 48.1400,-125.1800,  250,     48.7,   7.4037,  33.2940,2,-999.0000,9,    172.2,2,   -999.0,9,    30.82,2,    24.42,2,     0.09,2,     1.89,2,     0.06,2,   2154.0,2,   2222.1,2,   7.5364,2,    25.00,   71.996,2,  -999.00,9
  317W20130803,WCOA13,    25,  1,      9,2,  130806,1547, 48.1400,-125.1800,  250,     40.0,   7.4239,  33.1130,2,-999.0000,9,    191.3,2,    188.1,2,    28.25,2,    22.65,2,     0.09,2,     1.80,2,     0.21,2,   2135.5,2,   2214.6,2,   7.5666,3,    25.00,   75.074,2,  -999.00,9
  317W20130803,WCOA13,    25,  1,     10,2,  130806,1549, 48.1400,-125.1800,  250,     29.7,   7.5735,  32.9470,2,-999.0000,9,    189.7,2,   -999.0,9,    28.49,2,    21.94,2,     0.16,2,     1.80,2,     0.07,2,   2126.5,2,   2203.8,2,   7.5709,2,    25.00,   74.557,2,  -999.00,9
  317W20130803,WCOA13,    25,  1,     11,2,  130806,1550, 48.1400,-125.1800,  250,     19.0,   8.6435,  32.6820,2,-999.0000,9,    200.8,2,    206.2,2,    22.95,2,    18.29,2,     0.21,2,     1.59,2,     0.98,2,   2096.1,2,   2203.6,2,   7.6635,2,    25.00,   90.599,3,  -999.00,9
  317W20130803,WCOA13,    25,  1,     12,3,  130806,1552, 48.1400,-125.1800,  250,     15.5,  10.0030,  32.4790,2,-999.0000,9,    266.5,2,   -999.0,9,    14.59,2,    12.66,2,     0.16,2,     1.19,2,     1.92,2,   2048.3,2,   2209.9,3,   7.8040,2,    25.00,  117.054,2,  -999.00,9
  317W20130803,WCOA13,    25,  1,     13,2,  130806,1553, 48.1400,-125.1800,  250,      9.6,  11.0574,  32.3790,2,-999.0000,9,    293.3,2,    312.8,2,     4.42,2,     4.76,2,     0.10,2,     0.60,2,     2.18,2,   1972.6,2,   2214.7,2,   7.9840,2,    25.00,  160.747,2,  -999.00,9
  317W20130803,WCOA13,    25,  1,     14,2,  130806,1555, 48.1400,-125.1800,  250,      4.3,  11.7038,  32.3450,2,-999.0000,9,    293.3,2,    313.7,2,     3.83,2,     4.54,2,     0.09,2,     0.57,2,     2.25,2,   1970.8,6,   2215.7,2,   7.9878,2,    25.00,  163.151,2,  -999.00,9
  317W20130803,WCOA13,    25,  1,     15,2,  130806,1555, 48.1400,-125.1800,  250,      4.4,  11.6609,  32.3500,2,  32.3609,2,    293.3,2,   -999.0,9,  -999.00,9,  -999.00,9,  -999.00,9,  -999.00,9,     -999,9,   -999.0,9,   -999.0,9,-999.0000,9,  -999.00,     -999,9,  -999.00,9
  317W20130803,WCOA13,    26,  1,      1,2,  130806,1732, 47.9600,-125.3300,  467,    452.3,   5.4721,  34.0760,2,  34.0766,2,     37.5,2,     39.2,2,    77.86,2,    39.16,2,     0.04,2,     2.88,2,     0.03,2,   2298.1,6,   2299.5,6,   7.3032,2,    25.00,   47.493,3,  -999.00,9
  317W20130803,WCOA13,    26,  1,      2,2,  130806,1735, 47.9600,-125.3300,  467,    401.2,   5.7735,  34.0420,2,-999.0000,9,     46.3,2,   -999.0,9,    71.34,2,    38.20,2,     0.03,2,     2.78,2,     0.05,2,   2288.2,2,   2291.1,2,   7.3162,2,    25.00,   48.039,2,  -999.00,9
  317W20130803,WCOA13,    26,  1,      3,2,  130806,1739, 47.9600,-125.3300,  467,    299.5,   6.2642,  33.9920,2,-999.0000,9,     59.8,2,   -999.0,9,    62.73,2,    36.38,2,     0.00,2,     2.66,2,     0.07,2,   2271.7,2,   2279.0,2,   7.3374,2,    25.00,   49.888,2,  -999.00,9
  317W20130803,WCOA13,    26,  1,      4,2,  130806,1742, 47.9600,-125.3300,  467,    200.4,   6.6252,  33.9590,2,-999.0000,9,     64.9,2,     72.1,2,    56.86,2,    34.86,2,     0.03,2,     2.56,2,     0.05,2,   2257.2,2,   2272.0,2,   7.3532,2,    25.00,   50.883,2,  -999.00,9
  317W20130803,WCOA13,    26,  1,      5,2,  130806,1745, 47.9600,-125.3300,  467,    149.8,   6.9681,  33.9150,2,-999.0000,9,     96.8,2,   -999.0,9,    48.68,2,    32.41,2,     0.02,2,     2.36,2,     0.04,2,   2233.1,2,   2265.2,2,   7.4039,2,    25.00,   56.219,2,  -999.00,9
  317W20130803,WCOA13,    26,  1,      6,2,  130806,1748, 47.9600,-125.3300,  467,    124.0,   7.1252,  33.8690,2,-999.0000,9,    104.0,2,    102.1,2,    45.61,2,    31.48,2,     0.03,2,     2.31,2,     0.07,2,   2226.0,2,   2260.2,2,   7.4123,2,    25.00,   57.038,2,  -999.00,9
  317W20130803,WCOA13,    26,  1,      7,2,  130806,1750, 47.9600,-125.3300,  467,     99.3,   7.3476,  33.7280,2,-999.0000,9,    137.9,2,   -999.0,9,    37.27,2,    28.03,2,     0.04,2,     2.06,2,     0.05,2,   2190.0,2,   2246.6,2,   7.4846,2,    25.00,   65.948,2,  -999.00,9
  317W20130803,WCOA13,    26,  1,      8,2,  130806,1751, 47.9600,-125.3300,  467,     80.1,   7.4015,  33.6370,2,-999.0000,9,    150.4,2,    152.0,2,    34.53,2,    26.65,2,     0.04,2,     2.00,2,     0.51,2,   2177.3,2,   2240.7,2,   7.5083,2,    25.00,   68.103,2,  -999.00,9
  317W20130803,WCOA13,    26,  1,      9,2,  130806,1753, 47.9600,-125.3300,  467,     59.6,   7.4265,  33.3250,2,-999.0000,9,    186.1,2,   -999.0,9,    27.84,2,    23.16,2,     0.04,2,     1.83,2,     0.78,2,   2142.6,2,   2223.9,2,   7.5693,2,    25.00,   75.429,2,  -999.00,9
  317W20130803,WCOA13,    26,  1,     10,2,  130806,1754, 47.9600,-125.3300,  467,     49.9,   7.4296,  33.2140,2,-999.0000,9,    195.9,2,    197.8,2,    25.60,2,    21.70,2,     0.06,2,     1.76,2,     0.64,2,   2129.1,2,   2217.8,2,   7.5877,2,    25.00,   78.273,2,  -999.00,9
  317W20130803,WCOA13,    26,  1,     11,2,  130806,1756, 47.9600,-125.3300,  467,     39.8,   7.4408,  32.9690,2,-999.0000,9,    197.8,2,   -999.0,9,    26.83,2,    21.43,2,     0.05,2,     1.77,2,     0.33,2,   2118.4,2,   2206.0,2,   7.5876,2,    25.00,   78.586,2,  -999.00,9
  317W20130803,WCOA13,    26,  1,     12,2,  130806,1757, 47.9600,-125.3300,  467,     29.0,   7.6703,  32.6580,2,-999.0000,9,    235.3,2,   -999.0,9,    21.29,2,    17.06,2,     0.12,2,     1.52,2,     0.04,2,   2080.2,2,   2193.3,2,   7.6694,2,    25.00,   90.952,2,  -999.00,9
  317W20130803,WCOA13,    26,  1,     13,2,  130806,1759, 47.9600,-125.3300,  467,     19.4,   8.8279,  32.3940,2,-999.0000,9,    251.6,2,    253.8,2,    16.56,2,    11.85,2,     0.41,2,     1.31,2,     1.13,2,   2045.2,2,   2179.6,3,   7.7389,2,    25.00,  101.974,2,  -999.00,9
  317W20130803,WCOA13,    26,  1,     14,2,  130806,1800, 47.9600,-125.3300,  467,     13.2,  10.8834,  32.2540,2,-999.0000,9,    256.0,2,   -999.0,9,    15.31,2,    10.00,2,     0.35,2,     1.19,2,     1.39,2,   2034.6,2,   2184.6,2,   7.7713,2,    25.00,  108.219,2,  -999.00,9
  317W20130803,WCOA13,    26,  1,     15,2,  130806,1801, 47.9600,-125.3300,  467,     10.4,  11.6365,  32.2190,2,-999.0000,9,    270.0,2,    270.8,2,    13.24,2,     7.90,2,     0.28,2,     1.00,2,     0.55,2,   2014.5,2,   2187.7,2,   7.8399,2,    25.00,  122.853,2,  -999.00,9
  317W20130803,WCOA13,    26,  1,     16,2,  130806,1803, 47.9600,-125.3300,  467,      2.6,  12.5418,  32.1360,2,-999.0000,9,    287.8,2,    284.7,2,    11.32,2,     5.39,2,     0.20,2,     0.80,2,     0.48,2,   1989.5,6,   2189.0,6,   7.8994,2,    25.00,  140.803,2,  -999.00,9
  317W20130803,WCOA13,    26,  1,     17,2,  130806,1803, 47.9600,-125.3300,  467,      2.6,  12.5980,  32.1270,2,  32.1328,2,    288.8,2,   -999.0,9,    11.65,2,     5.93,2,     0.26,2,     0.79,2,     0.33,2,   -999.0,9,   -999.0,9,-999.0000,9,  -999.00,     -999,9,  -999.00,9
  317W20130803,WCOA13,    27,  1,      1,2,  130806,2210, 47.6800,-125.5800, 1262,   1005.7,   3.6917,  34.3920,2,  34.3896,6,     13.1,2,   -999.0,9,   121.97,2,    43.61,2,     0.07,2,     2.99,2,      0.1,2,   2370.7,6,   2367.9,6,   7.2980,2,    25.00,   47.972,2,  -999.00,9
  317W20130803,WCOA13,    27,  1,      2,2,  130806,2211, 47.6800,-125.5800, 1262,   1005.0,   3.6902,  34.3920,2,-999.0000,9,     13.1,2,   -999.0,9,   122.13,2,    43.70,2,     0.05,2,     3.03,2,     0.21,2,   2370.2,2,   2367.8,2,   7.2962,2,    25.00,    48.02,2,  -999.00,9
  317W20130803,WCOA13,    27,  1,      3,2,  130806,2218, 47.6800,-125.5800, 1262,    746.8,   4.3687,  34.2730,2,  34.2724,2,     12.9,2,   -999.0,9,   104.71,2,    42.98,2,     0.06,2,     3.01,2,      0.3,2,   2349.4,2,   2341.3,2,   7.2820,2,    25.00,   45.754,2,  -999.00,9
  317W20130803,WCOA13,    27,  1,      4,2,  130806,2225, 47.6800,-125.5800, 1262,    498.2,   5.0924,  34.1260,2,-999.0000,9,     27.7,2,   -999.0,9,    84.32,2,    41.25,2,     0.05,2,     2.87,2,     0.11,2,   2317.2,2,   2311.7,2,   7.2900,2,    25.00,   46.103,2,  -999.00,9
  317W20130803,WCOA13,    27,  1,      5,2,  130806,2228, 47.6800,-125.5800, 1262,    398.5,   5.4974,  34.0640,2,-999.0000,9,     39.7,2,     41.4,2,    74.62,2,    40.14,2,     0.04,2,     2.77,2,     0.24,2,   2297.4,2,   2297.7,2,   7.3078,2,    25.00,    47.15,2,  -999.00,9
  317W20130803,WCOA13,    27,  1,      6,2,  130806,2232, 47.6800,-125.5800, 1262,    296.6,   5.9456,  33.9910,2,-999.0000,9,     63.5,2,   -999.0,9,    63.27,2,    37.82,2,     0.05,2,     2.59,2,     0.19,2,   2271.1,2,   2283.1,2,   7.3402,2,    25.00,   50.245,2,  -999.00,9
  317W20130803,WCOA13,    27,  1,      7,2,  130806,2235, 47.6800,-125.5800, 1262,    197.7,   6.7592,  33.9090,2,-999.0000,9,    103.2,2,    119.7,2,    47.14,2,    31.68,2,     0.05,2,     2.19,2,     0.12,2,   2219.7,2,   2266.9,2,   7.4548,2,    25.00,   62.525,2,  -999.00,9
  317W20130803,WCOA13,    27,  1,      8,2,  130806,2238, 47.6800,-125.5800, 1262,    150.0,   7.4110,  33.7810,2,-999.0000,9,    131.4,2,   -999.0,9,    38.09,2,    28.17,2,     0.07,2,     2.09,2,     0.29,2,   2200.0,2,   2251.5,2,   7.4732,2,    25.00,   63.274,2,  -999.00,9
  317W20130803,WCOA13,    27,  1,      9,2,  130806,2240, 47.6800,-125.5800, 1262,    126.0,   7.5634,  33.6470,2,-999.0000,9,    144.8,2,    148.6,2,    34.14,2,    26.08,2,     0.07,2,     1.96,2,     0.17,2,   2181.0,2,   2241.3,2,   7.5075,2,    25.00,   67.649,2,  -999.00,9
  317W20130803,WCOA13,    27,  1,     10,2,  130806,2242, 47.6800,-125.5800, 1262,    102.0,   7.4487,  33.4360,2,-999.0000,9,    182.8,2,   -999.0,9,    29.54,2,    23.82,2,     0.08,2,     1.82,2,      0.2,2,   2154.4,2,   2228.3,2,   7.5527,2,    25.00,    74.05,2,  -999.00,9
  317W20130803,WCOA13,    27,  1,     11,2,  130806,2244, 47.6800,-125.5800, 1262,     79.4,   7.2015,  33.0040,2,-999.0000,9,    231.7,2,    231.8,2,    23.28,2,    19.31,2,     0.12,2,     1.57,2,     0.23,2,   2101.5,2,   2209.2,2,   7.6520,2,    25.00,   84.234,2,  -999.00,9
  317W20130803,WCOA13,    27,  1,     12,2,  130806,2246, 47.6800,-125.5800, 1262,     59.2,   7.7143,  32.5530,2,-999.0000,9,    267.0,2,   -999.0,9,    16.70,2,    13.97,2,     0.15,2,     1.33,2,      0.2,2,   2050.9,2,   2184.7,2,   7.7352,2,    25.00,  101.976,2,  -999.00,9
  317W20130803,WCOA13,    27,  1,     13,2,  130806,2247, 47.6800,-125.5800, 1262,     49.9,   8.1685,  32.4510,2,-999.0000,9,    277.2,2,    273.2,2,    15.04,2,    11.08,2,     0.67,2,     1.24,2,      0.6,2,   2039.8,2,   2181.8,2,   7.7531,2,    25.00,  107.355,2,  -999.00,9
  317W20130803,WCOA13,    27,  1,     14,2,  130806,2248, 47.6800,-125.5800, 1262,     38.9,   9.2159,  32.3700,2,-999.0000,9,    277.8,2,   -999.0,9,    12.73,2,     7.09,2,     0.41,2,     1.13,2,     2.07,2,   2023.7,2,   2180.8,2,   7.7939,2,    25.00,  113.673,2,  -999.00,9
  317W20130803,WCOA13,    27,  1,     15,2,  130806,2250, 47.6800,-125.5800, 1262,     30.5,  10.9320,  32.2370,2,-999.0000,9,    258.8,2,   -999.0,9,     9.27,2,     4.94,2,     0.25,2,     1.06,2,      2.6,2,   2019.1,2,   2180.9,2,   7.8128,2,    25.00,  116.424,2,  -999.00,9
  317W20130803,WCOA13,    27,  1,     16,2,  130806,2252, 47.6800,-125.5800, 1262,     19.1,  12.8383,  31.6800,2,-999.0000,9,    282.1,2,    280.0,2,     2.18,2,     1.03,2,     0.09,2,     0.45,2,     1.07,2,   1928.4,2,   2178.1,2,   8.0069,2,    25.00,  161.572,2,  -999.00,9
  317W20130803,WCOA13,    27,  1,     17,2,  130806,2253, 47.6800,-125.5800, 1262,     15.9,  13.6861,  31.7020,2,-999.0000,9,    284.7,2,   -999.0,9,     1.68,2,     0.50,2,     0.07,2,     0.32,2,     0.64,2,   1906.2,2,   2177.6,2,   8.0525,2,    25.00,  175.588,2,  -999.00,9
  317W20130803,WCOA13,    27,  1,     18,2,  130806,2255, 47.6800,-125.5800, 1262,     10.8,  13.9506,  31.6730,2,  31.6800,2,    283.7,2,    289.9,2,     1.84,2,     0.43,2,     0.06,2,     0.32,2,     0.54,2,   1902.9,2,   2177.3,2,   8.0568,2,    25.00,  166.652,2,  -999.00,9
  317W20130803,WCOA13,    27,  1,     19,2,  130806,2257, 47.6800,-125.5800, 1262,      2.9,  14.6979,  31.5790,2,-999.0000,9,    278.7,2,    284.2,2,     1.67,2,     0.29,2,     0.05,2,     0.30,2,     0.54,2,   1897.2,6,   2172.7,6,   8.0641,6,    25.00,  170.144,3,  -999.00,9
  317W20130803,WCOA13,    27,  1,     20,2,  130806,2257, 47.6800,-125.5800, 1262,      3.0,  14.6910,  31.5820,2,-999.0000,9,    278.7,2,   -999.0,9,     1.83,2,     0.14,2,     0.05,2,     0.31,2,     0.76,2,   -999.0,9,   -999.0,9,-999.0000,9,  -999.00,     -999,9,  -999.00,9