BOTTLE,20170219PRINUNIVRMK
EXPOCODE,SECT_ID,STNNBR,CASTNO,BTLNBR,BTLNBR_FLAG_W,DATE,TIME,LATITUDE,LONGITUDE,DEPTH,CTDPRS,CTDTMP,CTDSAL,CTDSAL_FLAG_W,SALNTY,SALNTY_FLAG_W,CTDOXY,CTDOXY_FLAG_W,OXYGEN,OXYGEN_FLAG_W,SILCAT,SILCAT_FLAG_W,NITRAT,NITRAT_FLAG_W,NITRIT,NITRIT_FLAG_W,PHSPHT,PHSPHT_FLAG_W,NH4,NH4_FLAG_W,TCARBN,TCARBN_FLAG_W,ALKALI,ALKALI_FLAG_W,PH_TOT,PH_TOT_FLAG_W,PH_TMP,CO32,CO32_FLAG_W,CHLORA,CHLORA_FLAG_W
,,,,,,,,,,METERS,DBAR,ITS-90,PSS-78,,PSS-78,,UMOL/KG,,UMOL/KG,,UMOL/KG,,UMOL/KG,,UMOL/KG,,UMOL/KG,,UMOL/KG,,UMOL/KG,,UMOL/KG,,,,DEG C,UMOL/KG,,UG/KG,
  317W20130803,WCOA13,    28,  2,      1,2,  130807,1102, 47.1300,-126.1000, 2540,   1004.1,   3.7438,  34.3840,2,  34.3821,2,     12.3,2,   -999.0,9,   120.51,2,    42.71,2,     0.03,2,     2.95,2,      0.1,2,   2368.7,6,   2366.2,6,   7.2945,2,    25.00,   50.047,2,  -999.00,9
  317W20130803,WCOA13,    28,  2,      2,2,  130807,1105, 47.1300,-126.1000, 2540,    900.9,   3.9984,  34.3450,2,  34.3449,2,     12.0,2,   -999.0,9,   114.26,2,    42.44,2,     0.03,2,     2.99,2,     0.09,2,   2358.5,2,   2357.0,2,   7.2898,2,    25.00,   46.811,2,  -999.00,9
  317W20130803,WCOA13,    28,  2,      3,2,  130807,1109, 47.1300,-126.1000, 2540,    800.0,   4.2071,  34.3040,2,-999.0000,9,     12.0,2,   -999.0,9,   109.81,2,    42.18,2,     0.03,2,     2.99,2,     0.04,2,   2352.0,2,   2345.1,2,   7.2849,3,    25.00,   46.743,2,  -999.00,9
  317W20130803,WCOA13,    28,  2,      4,2,  130807,1112, 47.1300,-126.1000, 2540,    698.2,   4.4500,  34.2630,2,-999.0000,9,     14.0,2,   -999.0,9,   103.56,2,    41.75,2,     0.03,2,     2.96,2,     0.09,2,   2344.6,2,   2338.1,2,   7.2829,2,    25.00,   45.881,2,  -999.00,9
  317W20130803,WCOA13,    28,  2,      5,2,  130807,1115, 47.1300,-126.1000, 2540,    598.2,   4.7372,  34.2100,2,-999.0000,9,     18.2,2,   -999.0,9,    95.83,2,    41.26,2,     0.02,2,     2.92,2,     0.21,2,   2332.3,2,   2327.0,2,   7.2834,2,    25.00,   46.676,2,  -999.00,9
  317W20130803,WCOA13,    28,  2,      6,2,  130807,1118, 47.1300,-126.1000, 2540,    496.7,   5.1386,  34.1360,2,-999.0000,9,     26.9,2,   -999.0,9,    84.96,2,    40.09,2,     0.02,2,     2.86,2,     0.12,2,   2314.6,2,   2312.8,2,   7.2919,2,    25.00,   44.196,2,  -999.00,9
  317W20130803,WCOA13,    28,  2,      7,2,  130807,1121, 47.1300,-126.1000, 2540,    399.1,   5.5085,  34.0750,2,-999.0000,9,     39.1,2,   -999.0,9,    75.74,2,    38.92,2,     0.03,2,     2.76,2,     0.25,2,   2296.1,2,   2296.6,2,   7.3075,2,    25.00,   47.457,2,  -999.00,9
  317W20130803,WCOA13,    28,  2,      8,2,  130807,1126, 47.1300,-126.1000, 2540,    299.6,   6.0711,  34.0050,2,-999.0000,9,     62.4,2,   -999.0,9,    63.06,2,    36.44,2,     0.03,2,     2.57,2,     0.29,2,   2270.3,2,   2283.9,2,   7.3494,2,    25.00,   48.169,2,  -999.00,9
  317W20130803,WCOA13,    28,  2,      9,2,  130807,1129, 47.1300,-126.1000, 2540,    197.7,   6.8750,  33.9300,2,-999.0000,9,    101.2,2,   -999.0,9,    48.89,2,    32.84,2,     0.03,2,     2.30,2,        0,2,   2233.4,2,   2265.5,2,   7.4127,2,    25.00,   58.383,3,  -999.00,9
  317W20130803,WCOA13,    28,  2,     10,2,  130807,1130, 47.1300,-126.1000, 2540,    197.9,   6.8756,  33.9300,2,-999.0000,9,    101.2,2,   -999.0,9,  -999.00,9,  -999.00,9,  -999.00,9,  -999.00,9,     -999,9,   -999.0,9,   -999.0,9,-999.0000,9,  -999.00,     -999,9,  -999.00,9
  317W20130803,WCOA13,    28,  2,     11,2,  130807,1135, 47.1300,-126.1000, 2540,    151.0,   7.2518,  33.8690,2,-999.0000,9,    127.0,2,   -999.0,9,    41.21,2,    29.09,2,     0.07,2,     2.05,2,     0.07,2,   2206.5,2,   2257.2,2,   7.4721,2,    25.00,   65.307,2,  -999.00,9
  317W20130803,WCOA13,    28,  2,     12,2,  130807,1137, 47.1300,-126.1000, 2540,    123.6,   7.4080,  33.7390,2,-999.0000,9,    154.7,2,   -999.0,9,    35.45,2,    26.66,2,     0.07,2,     1.93,2,     0.11,2,   2184.9,2,   2246.8,2,   7.5147,2,    25.00,   69.721,2,  -999.00,9
  317W20130803,WCOA13,    28,  2,     13,2,  130807,1139, 47.1300,-126.1000, 2540,    102.4,   7.5588,  33.5440,2,-999.0000,9,    155.1,2,   -999.0,9,    32.82,2,    25.55,2,     0.06,2,     1.87,2,     0.02,2,   2172.8,2,   2236.1,2,   7.5168,2,    25.00,    69.07,2,  -999.00,9
  317W20130803,WCOA13,    28,  2,     14,2,  130807,1141, 47.1300,-126.1000, 2540,     78.5,   7.6123,  33.1510,2,-999.0000,9,    198.6,2,   -999.0,9,    25.90,2,    21.52,2,     0.09,2,     1.68,2,     0.12,2,   2132.0,2,   2213.1,2,   7.5855,2,    25.00,   78.492,2,  -999.00,9
  317W20130803,WCOA13,    28,  2,     15,2,  130807,1143, 47.1300,-126.1000, 2540,     58.7,   7.7703,  32.6740,2,-999.0000,9,    230.5,2,   -999.0,9,    21.45,2,    17.32,2,     0.12,2,     1.48,2,     0.07,2,   2086.2,2,   2190.4,2,   7.6543,2,    25.00,   91.107,2,  -999.00,9
  317W20130803,WCOA13,    28,  2,     16,2,  130807,1145, 47.1300,-126.1000, 2540,     49.4,   7.8985,  32.5580,2,-999.0000,9,    245.6,2,   -999.0,9,    19.48,2,    15.58,2,     0.16,2,     1.41,2,     0.04,2,   2073.1,2,   2186.4,2,   7.6829,2,    25.00,   86.809,2,  -999.00,9
  317W20130803,WCOA13,    28,  2,     17,2,  130807,1146, 47.1300,-126.1000, 2540,     39.2,   8.1110,  32.4850,2,-999.0000,9,    250.0,2,   -999.0,9,    14.03,2,    12.56,2,     0.23,2,     1.27,2,     0.37,2,   2056.3,2,   2181.4,2,   7.7163,2,    25.00,   98.168,2,  -999.00,9
  317W20130803,WCOA13,    28,  2,     18,2,  130807,1147, 47.1300,-126.1000, 2540,     28.9,   8.5644,  32.4150,2,-999.0000,9,    249.2,2,   -999.0,9,     9.57,2,    10.17,2,     0.31,2,     1.21,2,     0.92,2,   2050.4,2,   2180.0,2,   7.7316,2,    25.00,  100.827,2,  -999.00,9
  317W20130803,WCOA13,    28,  2,     19,2,  130807,1148, 47.1300,-126.1000, 2540,     18.8,  12.5867,  32.0040,2,-999.0000,9,    291.5,2,   -999.0,9,     2.79,2,     2.56,2,     0.12,2,     0.67,2,     0.79,2,   1971.7,2,   2179.4,2,   7.9253,2,    25.00,  138.673,2,  -999.00,9
  317W20130803,WCOA13,    28,  2,     20,2,  130807,1150, 47.1300,-126.1000, 2540,     13.1,  13.9529,  31.8710,2,-999.0000,9,    282.0,2,   -999.0,9,     1.47,2,     0.27,2,     0.04,2,     0.37,2,     0.25,2,   1920.2,2,   2179.8,2,   8.0278,2,    25.00,  165.899,2,  -999.00,9
  317W20130803,WCOA13,    28,  2,     21,2,  130807,1152, 47.1300,-126.1000, 2540,     11.2,  13.6619,  31.9020,2,  31.8530,2,    285.1,2,   -999.0,9,     1.47,2,     0.10,2,     0.03,2,     0.31,2,     0.18,2,   1914.5,2,   2175.6,2,   8.0346,2,    25.00,  171.788,2,  -999.00,9
  317W20130803,WCOA13,    28,  2,     22,2,  130807,1154, 47.1300,-126.1000, 2540,      4.0,  14.6672,  31.7900,2,-999.0000,9,    274.6,2,   -999.0,9,     1.15,2,     0.05,2,     0.02,2,     0.28,2,     0.01,2,   1912.4,6,   2176.9,6,   8.0435,3,    25.00,  173.923,2,  -999.00,9
  317W20130803,WCOA13,    28,  2,     23,2,  130807,1154, 47.1300,-126.1000, 2540,      4.0,  14.6692,  31.7900,2,-999.0000,9,    274.6,2,   -999.0,9,     1.15,2,    -0.01,2,     0.02,2,     0.27,2,     0.23,2,   -999.0,9,   -999.0,9,-999.0000,9,  -999.00,     -999,9,  -999.00,9
  317W20130803,WCOA13,    29,  1,      1,2,  130807,1537, 47.1100,-125.2000, 1636,   1003.5,   3.7253,  34.3830,2,  34.3834,2,     13.9,2,     14.3,2,   121.22,2,    42.45,2,     0.02,2,     2.94,2,     0.15,2,   2369.5,6,   2368.1,2,   7.2974,2,    25.00,   48.392,2,  -999.00,9
  317W20130803,WCOA13,    29,  1,      2,2,  130807,1541, 47.1100,-125.2000, 1636,    900.1,   4.0623,  34.3320,2,  34.3327,2,     11.7,2,   -999.0,9,   112.98,2,    42.29,2,     0.01,2,     2.95,2,     0.02,2,   2360.3,2,   2357.2,2,   7.2872,2,    25.00,   46.195,2,  -999.00,9
  317W20130803,WCOA13,    29,  1,      3,2,  130807,1544, 47.1100,-125.2000, 1636,    798.1,   4.3201,  34.2810,2,-999.0000,9,     12.8,2,     13.3,2,   105.56,2,    41.89,2,     0.01,2,     2.95,2,     0.04,2,   2352.0,2,   2345.1,2,   7.2826,2,    25.00,   46.075,2,  -999.00,9
  317W20130803,WCOA13,    29,  1,      4,2,  130807,1548, 47.1100,-125.2000, 1636,    698.0,   4.6045,  34.2150,2,-999.0000,9,     16.1,2,   -999.0,9,    97.32,2,    41.50,2,     0.01,2,     2.93,2,     0.07,2,   2339.7,2,   2329.5,2,   7.2804,2,    25.00,   45.016,2,  -999.00,9
  317W20130803,WCOA13,    29,  1,      5,2,  130807,1554, 47.1100,-125.2000, 1636,    498.8,   5.5163,  34.0980,2,-999.0000,9,     35.6,2,     37.7,2,    77.32,2,    38.90,2,     0.02,2,     2.76,2,     0.07,2,   2304.1,2,   2302.0,2,   7.3057,2,    25.00,   46.896,2,  -999.00,9
  317W20130803,WCOA13,    29,  1,      6,2,  130807,1557, 47.1100,-125.2000, 1636,    397.3,   5.8103,  34.0620,2,-999.0000,9,     44.9,2,   -999.0,9,    71.05,2,    37.95,2,     0.01,2,     2.69,2,     0.07,2,   2291.5,2,   2294.7,2,   7.3188,2,    25.00,   48.236,2,  -999.00,9
  317W20130803,WCOA13,    29,  1,      7,2,  130807,1601, 47.1100,-125.2000, 1636,    298.9,   6.2155,  34.0100,2,-999.0000,9,     59.4,2,     59.2,2,    62.29,2,    36.19,2,     0.01,2,     2.56,2,        0,2,   2274.0,2,   2283.6,2,   7.3401,2,    25.00,   49.652,2,  -999.00,9
  317W20130803,WCOA13,    29,  1,      8,2,  130807,1604, 47.1100,-125.2000, 1636,    197.5,   6.5948,  33.9720,2,-999.0000,9,     69.4,2,   -999.0,9,    57.50,2,    34.60,2,     0.02,2,     2.47,2,     0.06,2,   2261.1,2,   2276.0,2,   7.3556,2,    25.00,   51.216,2,  -999.00,9
  317W20130803,WCOA13,    29,  1,      9,2,  130807,1608, 47.1100,-125.2000, 1636,    143.2,   7.1944,  33.8880,2,-999.0000,9,    114.8,2,   -999.0,9,    42.61,2,    30.15,2,     0.01,2,     2.13,2,        0,2,   2215.2,2,   -999.0,5,   7.4527,2,    25.00,   62.814,2,  -999.00,9
  317W20130803,WCOA13,    29,  1,     10,2,  130807,1610, 47.1100,-125.2000, 1636,    122.1,   7.3954,  33.7890,2,-999.0000,9,    147.2,2,   -999.0,9,    36.32,2,    27.10,2,     0.02,2,     1.93,2,        0,2,   2189.1,2,   2255.1,2,   7.5151,2,    25.00,   70.793,2,  -999.00,9
  317W20130803,WCOA13,    29,  1,     11,2,  130807,1613, 47.1100,-125.2000, 1636,     99.4,   7.5572,  33.5850,2,-999.0000,9,    166.2,2,    167.2,2,    30.87,2,    24.67,2,     0.01,2,     1.82,2,     0.01,2,   2165.7,2,   2238.9,2,   7.5473,2,    25.00,   74.077,2,  -999.00,9
  317W20130803,WCOA13,    29,  1,     12,4,  130807,1615, 47.1100,-125.2000, 1636,     79.5,   7.4949,  33.1880,2,-999.0000,9,    197.1,2,   -999.0,9,  -999.00,9,  -999.00,9,  -999.00,9,  -999.00,9,     -999,9,   -999.0,9,   2220.2,2,-999.0000,9,  -999.00,     -999,9,  -999.00,9
  317W20130803,WCOA13,    29,  1,     13,2,  130807,1616, 47.1100,-125.2000, 1636,     79.5,   7.4926,  33.1770,2,-999.0000,9,    197.4,2,   -999.0,9,    25.74,2,    21.29,2,     0.01,2,     1.67,2,     0.05,2,   2128.8,2,   -999.0,9,   7.5950,2,    25.00,    80.19,2,  -999.00,9
  317W20130803,WCOA13,    29,  1,     14,2,  130807,1621, 47.1100,-125.2000, 1636,     60.3,   7.4705,  32.9550,2,-999.0000,9,    215.2,2,   -999.0,9,    23.60,2,    19.58,2,     0.03,2,     1.59,2,     0.07,2,   2111.7,2,   2205.7,2,-999.0000,5,    25.00,     -999,5,  -999.00,9
  317W20130803,WCOA13,    29,  1,     15,2,  130807,1623, 47.1100,-125.2000, 1636,     49.3,   7.5575,  32.7020,2,-999.0000,9,    233.2,2,    232.4,2,    19.30,2,    17.09,2,     0.14,2,     1.50,2,     0.03,2,   2088.9,2,   2193.5,2,   7.6536,2,    25.00,   88.566,2,  -999.00,9
  317W20130803,WCOA13,    29,  1,     16,2,  130807,1625, 47.1100,-125.2000, 1636,     40.0,   7.6837,  32.5630,2,-999.0000,9,    259.4,2,   -999.0,9,    16.65,2,    14.53,2,     0.15,2,     1.36,2,     0.14,2,   2066.8,2,   2187.6,2,   7.7029,2,    25.00,   95.441,2,  -999.00,9
  317W20130803,WCOA13,    29,  1,     17,2,  130807,1627, 47.1100,-125.2000, 1636,     29.7,   8.0575,  32.4590,2,-999.0000,9,    266.3,2,   -999.0,9,    14.00,2,    11.22,2,     0.25,2,     1.22,2,     0.51,2,   2047.5,2,   2181.7,2,   7.7395,2,    25.00,  101.924,2,  -999.00,9
  317W20130803,WCOA13,    29,  1,     18,2,  130807,1629, 47.1100,-125.2000, 1636,     19.8,   8.8750,  32.3590,2,-999.0000,9,    246.1,2,    249.1,2,    13.84,2,    10.21,2,     0.34,2,     1.31,2,     1.74,2,   2056.0,2,   2180.7,2,   7.7202,2,    25.00,   98.911,2,  -999.00,9
  317W20130803,WCOA13,    29,  1,     19,2,  130807,1630, 47.1100,-125.2000, 1636,     14.4,  11.3702,  31.9410,2,-999.0000,9,    273.6,2,   -999.0,9,    11.64,2,     9.02,2,     0.23,2,     1.11,2,     1.33,2,   2028.1,2,   2181.8,2,   7.7947,2,    25.00,  111.429,2,  -999.00,9
  317W20130803,WCOA13,    29,  1,     20,2,  130807,1633, 47.1100,-125.2000, 1636,     10.6,  12.6027,  31.8500,2,-999.0000,9,    288.1,2,   -999.0,9,     5.38,2,     4.31,2,     0.12,2,     0.67,2,      0.7,2,   1964.6,2,   2180.5,2,   7.9456,2,    25.00,  142.931,2,  -999.00,9
  317W20130803,WCOA13,    29,  1,     21,2,  130807,1635, 47.1100,-125.2000, 1636,      3.4,  13.6606,  31.8410,2,  31.8463,2,    285.8,2,    289.4,2,     2.05,2,     0.71,2,     0.05,2,     0.34,2,      0.2,2,   1927.5,6,   2178.7,6,   8.0140,3,    25.00,  163.982,3,  -999.00,9
  317W20130803,WCOA13,    29,  1,     22,2,  130807,1636, 47.1100,-125.2000, 1636,      3.4,  13.7147,  31.8370,2,-999.0000,9,    281.6,2,   -999.0,9,     1.83,2,     0.34,2,     0.03,2,     0.33,2,     0.18,2,   -999.0,9,   -999.0,9,   8.0208,2,    25.00,   167.87,3,  -999.00,9
  317W20130803,WCOA13,    30,  1,      1,2,  130807,1816, 47.1200,-125.0500, 1170,   1001.6,   3.6501,  34.3930,2,  34.3943,2,     14.5,2,     14.5,2,   124.31,2,    43.30,2,     0.01,2,     3.10,2,     0.04,2,   2369.0,6,   2369.9,6,   7.2990,2,    25.00,   48.524,2,  -999.00,9
  317W20130803,WCOA13,    30,  1,      2,2,  130807,1817, 47.1200,-125.0500, 1170,   1001.8,   3.6522,  34.3930,2,-999.0000,9,     14.5,2,   -999.0,9,   122.80,2,    43.50,2,     0.01,2,     3.10,2,      0.2,2,   -999.0,9,   -999.0,9,-999.0000,9,  -999.00,     -999,9,  -999.00,9
  317W20130803,WCOA13,    30,  1,      3,2,  130807,1824, 47.1200,-125.0500, 1170,    749.0,   4.4533,  34.2510,2,  34.2588,2,     14.6,2,     13.7,2,   102.86,2,    42.80,2,     0.02,2,     3.08,2,      0.2,2,   2342.7,2,   2338.0,2,   7.2831,2,    25.00,   45.573,2,  -999.00,9
  317W20130803,WCOA13,    30,  1,      4,2,  130807,1831, 47.1200,-125.0500, 1170,    498.0,   5.5201,  34.0960,2,-999.0000,9,     35.6,2,     35.5,2,    77.19,2,    39.85,2,     0.00,2,     2.87,2,     0.15,2,   2299.8,2,   2303.3,2,   7.3053,2,    25.00,   46.976,2,  -999.00,9
  317W20130803,WCOA13,    30,  1,      5,2,  130807,1834, 47.1200,-125.0500, 1170,    398.7,   5.8556,  34.0530,2,-999.0000,9,     47.0,2,     47.1,2,    69.80,2,    38.56,2,     0.01,2,     2.76,2,     0.08,2,   2283.7,2,   2293.6,2,   7.3214,3,    25.00,   48.826,2,  -999.00,9
  317W20130803,WCOA13,    30,  1,      6,2,  130807,1838, 47.1200,-125.0500, 1170,    297.3,   6.1869,  34.0180,2,-999.0000,9,     59.7,2,     59.4,2,    62.57,2,    37.07,2,     0.01,2,     2.65,2,     0.08,2,   2269.7,2,   2284.4,2,   7.3445,2,    25.00,   50.567,2,  -999.00,9
  317W20130803,WCOA13,    30,  1,      7,2,  130807,1841, 47.1200,-125.0500, 1170,    197.9,   6.8765,  33.9410,2,-999.0000,9,     96.9,2,   -999.0,9,    49.62,2,    32.98,2,     0.02,2,     2.35,2,     0.02,2,   2234.7,2,   2269.0,2,   7.4113,2,    25.00,   57.211,2,  -999.00,9
  317W20130803,WCOA13,    30,  1,      8,2,  130807,1843, 47.1200,-125.0500, 1170,    147.1,   7.2210,  33.8790,2,-999.0000,9,    126.4,2,   -999.0,9,    41.73,2,    29.94,2,     0.02,2,     2.14,2,     0.36,2,   2204.4,2,   2259.1,2,   7.4732,2,    25.00,   64.641,2,  -999.00,9
  317W20130803,WCOA13,    30,  1,      9,2,  130807,1845, 47.1200,-125.0500, 1170,    123.5,   7.4789,  33.8440,2,-999.0000,9,    122.3,2,   -999.0,9,    39.88,2,    29.70,2,     0.04,2,     2.14,2,     0.26,2,   2202.6,2,   2254.3,2,   7.4657,2,    25.00,   62.395,2,  -999.00,9
  317W20130803,WCOA13,    30,  1,     10,2,  130807,1847, 47.1200,-125.0500, 1170,     96.5,   7.4989,  33.6690,2,-999.0000,9,    139.7,2,    138.4,2,    36.24,2,    27.87,2,     0.07,2,     2.04,2,     0.22,2,   2185.8,2,   2243.9,2,   7.4847,2,    25.00,   65.292,2,  -999.00,9
  317W20130803,WCOA13,    30,  1,     11,2,  130807,1849, 47.1200,-125.0500, 1170,     77.1,   7.3375,  33.3090,2,-999.0000,9,    195.2,2,   -999.0,9,    27.37,2,    22.38,2,     0.09,2,     1.73,2,     0.18,2,   2134.6,2,   2224.5,2,   7.5849,2,    25.00,   78.386,2,  -999.00,9
  317W20130803,WCOA13,    30,  1,     12,2,  130807,1852, 47.1200,-125.0500, 1170,     60.3,   7.3164,  32.9350,2,-999.0000,9,    234.6,2,   -999.0,9,    21.93,2,    18.37,2,     0.11,2,     1.54,2,     0.24,2,   2093.6,2,   2204.8,2,   7.6588,2,    25.00,   89.048,3,  -999.00,9
  317W20130803,WCOA13,    30,  1,     13,2,  130807,1854, 47.1200,-125.0500, 1170,     50.3,   7.5001,  32.6920,2,-999.0000,9,    248.5,2,    248.7,2,    18.60,2,    15.60,2,     0.16,2,     1.42,2,     0.17,2,   2069.2,2,   2190.8,2,   7.6879,4,    25.00,   95.714,2,  -999.00,9
  317W20130803,WCOA13,    30,  1,     14,2,  130807,1856, 47.1200,-125.0500, 1170,     39.8,   7.7169,  32.5500,2,-999.0000,9,    265.5,2,   -999.0,9,    16.10,2,    13.31,2,     0.21,2,     1.29,2,     0.18,2,   2051.3,2,   2184.7,2,   7.7254,3,    25.00,   99.329,2,  -999.00,9
  317W20130803,WCOA13,    30,  1,     15,2,  130807,1857, 47.1200,-125.0500, 1170,     31.0,   8.0425,  32.4720,2,-999.0000,9,    270.6,2,   -999.0,9,    14.57,2,    11.22,2,     0.48,2,     1.22,2,     0.43,2,   2042.3,2,   2180.8,2,   7.7459,2,    25.00,  104.099,2,  -999.00,9
  317W20130803,WCOA13,    30,  1,     16,2,  130807,1859, 47.1200,-125.0500, 1170,     19.3,   9.1241,  32.3750,2,-999.0000,9,    277.3,2,    274.8,2,    12.23,2,     7.16,2,     0.49,2,     1.12,2,     1.43,2,   2030.0,2,   2180.2,2,   7.7754,2,    25.00,  108.052,2,  -999.00,9
  317W20130803,WCOA13,    30,  1,     17,2,  130807,1901, 47.1200,-125.0500, 1170,     15.8,  11.0372,  32.1640,2,-999.0000,9,    265.6,2,   -999.0,9,     8.24,2,     3.70,2,     0.22,2,     0.89,2,     1.68,2,   1999.3,2,   2180.2,2,   7.8447,2,    25.00,  123.141,2,  -999.00,9
  317W20130803,WCOA13,    30,  1,     18,2,  130807,1902, 47.1200,-125.0500, 1170,     10.1,  12.9236,  31.9490,2,-999.0000,9,    292.1,2,   -999.0,9,     4.42,2,     1.99,2,     0.16,2,     0.59,2,     0.72,2,   1960.6,2,   2181.6,2,   7.9325,2,    25.00,  147.474,2,  -999.00,9
  317W20130803,WCOA13,    30,  1,     19,2,  130807,1904, 47.1200,-125.0500, 1170,      2.8,  13.0217,  31.9250,2,  31.9288,2,    292.2,2,   -999.0,9,     1.75,2,     0.48,2,     0.10,2,     0.35,2,     0.11,2,   1927.4,6,   2180.1,6,   8.0142,2,    25.00,  162.965,2,  -999.00,9
  317W20130803,WCOA13,    30,  1,     20,2,  130807,1905, 47.1200,-125.0500, 1170,      2.8,  13.0139,  31.9250,2,-999.0000,9,    292.2,2,   -999.0,9,     1.53,2,     0.74,2,     0.10,2,     0.34,2,     0.02,2,   -999.0,9,   -999.0,9,-999.0000,9,  -999.00,     -999,9,  -999.00,9